Workbook
Name DaysInPreviousYear: [1]Rates!$B$22
Name DaysInYear: [1]Rates!$B$21
Name hello: REGINFO!$F$34
Name MofF: #REF!
Name Ratebase: REGINFO!$D$31
Name Surtax: #REF!

Sheet REGINFO
A1: PILs TAXES - EB-2012-0064 | E1: Version 2009.1
A2: REGULATORY INFORMATION (REGINFO)
A3: Utility Name: TORONTO HYDRO-ELECTRIC SYSTEM LIMITED | D3: Colour Code
A4: Reporting period: 2004 | D4: Input Cell
D5: Formula in Cell
A6: Days in reporting period: | B6: 365 | C6: days
A7: Total days in the calendar year: | B7: 365 | C7: days
A9: BACKGROUND
A10: Has the utility reviewed section 149(1) ITA to
A11: confirm that it is not subject to regular corporate
A12: tax (and therefore subject to PILs)? | C12: Y/N | D12: Y
A14: Was the utility recently acquired by Hydro One
A15: and now subject to s.89 & 90 PILs? | C15: Y/N | D15: N
A17: Is the utility a non-profit corporation? | C17: Y/N | D17: N
A18: (If it is a non-profit corporation, please contact the Rates Manager at the OEB)
A19: Are the Ontario Capital Tax & Large Corporations Tax Exemptions shared among the corporate group? | B19: OCT | C19: Y/N | D19: N
B20: LCT | C20: Y/N | D20: N
A21: Please identify the % used to allocate the OCT and LCT exemptions in Cells C65 & C74 in the TAXCALC spreadsheet. | B21: OCT | D21: 1
B22: LCT | D22: 1
A24: Accounting Year End | C24: Date | D24: 12-31-2004
A26: MARR NO TAX CALCULATIONS | E26: Regulatory
A27: SHEET #7 FINAL RUD MODEL DATA | E27: Income
A28: (FROM 1999 FINANCIAL STATEMENTS)
A29: USE BOARD-APPROVED AMOUNTS
A31: Rate Base (wires-only) | D31: 1810112688
A33: Common Equity Ratio (CER) | D33: 0.35
A35: 1-CER | D35: =1-D33 -> 0.65
A37: Target Return On Equity | D37: 0.0988
A39: Debt rate | D39: 0.068
A41: Market Adjusted Revenue Requirement | D41: =D31*((D33*D37)+(D35*D39)) -> 1.4260068e+08
A43: 1999 return from RUD Sheet #7 | D43: 23304000 | E43: =D43 -> 23304000
A45: Total Incremental revenue | D45: =D41-D43 -> 1.1929668e+08
A46: Input: Board-approved dollar amounts phased-in
A47: Amount allowed in 2001 | D47: 39765559 | E47: =D47 -> 39765559
A48: Amount allowed in 2002 | D48: 39765559 | E48: =D48 -> 39765559
A49: Amount allowed in 2003 and 2004 (will be zero due to Bill 210 | E49: 0
A50: unless authorized by the Minister and the Board) | E50: =D50 -> 0
A51: Amount allowed in 2005 - Third tranche of MARR re: CDM | D51: 39765559 | E51: =D51 -> 39765559
A52: Other Board-approved changes to MARR or incremental revenue | E52: =D52 -> 0
E53: =D53 -> 0
...

Sheet TAXCALC
A1: =REGINFO!A1 -> PILs TAXES - EB-2012-0064 | B1: ITEM | C1: Initial | E1: M of F | F1: M of F | G1: Tax
A2: PILs DEFERRAL AND VARIANCE ACCOUNTS | C2: Estimate | E2: Filing | F2: Filing | G2: Returns
A3: TAX CALCULATIONS (TAXCALC) | E3: Variance | F3: Variance
A4: ("Wires-only" business - see Tab TAXREC) | E4: K-C | F4: Explanation
A5: =REGINFO!E2 -> 0 | G5: =REGINFO!E1 -> Version 2009.1
A6: =REGINFO!A3 -> Utility Name: TORONTO HYDRO-ELECTRIC SYSTEM LIMITED
A7: =REGINFO!A4 -> Reporting period: 2004
G8: Column | J8: DO NOT INPUT INTO AREA
A9: Days in reporting period: | B9: =REGINFO!B6 -> 365 | C9: days | G9: Brought
A10: Total days in the calendar year: | B10: =REGINFO!B7 -> 365 | C10: days | G10: From
G11: TAXREC
C12: $ | E12: $ | G12: $
A14: I) CORPORATE INCOME TAXES
A16: Regulatory Net Income REGINFO E53 | B16: 1 | C16: 102835118 | E16: =G16-C16 -> 81300761 | G16: =TAXREC!E50 -> 184135879
A18: BOOK TO TAX ADJUSTMENTS
A19: Additions:
A20: Depreciation & Amortization | B20: 2 | C20: 106229000 | E20: =G20-C20 -> 16297000 | G20: =TAXREC!E61 -> 122526000
A21: Employee Benefit Plans - Accrued, Not Paid | B21: 3 | C21: 33129140 | E21: =G21-C21 -> -33129140 | G21: =TAXREC!E62 -> 0
A22: Tax reserves - beginning of year | B22: 4 | E22: =G22-C22 -> 0 | G22: =TAXREC!E63 -> 0
A23: Reserves from financial statements - end of year | B23: 4 | E23: =G23-C23 -> 109978621 | G23: =TAXREC!E64 -> 109978621
A24: Regulatory Adjustments - increase in income | B24: 5 | E24: =G24-C24 -> 0 | G24: =TAXREC!E65 -> 0
A25: Other Additions (See Tab entitled "TAXREC")
A26: "Material" Items from "TAXREC" worksheet | B26: 6 | E26: =G26-C26 -> 0 | G26: =TAXREC!E92 -> 0
A27: Other Additions (not "Material") "TAXREC" | B27: 6 | E27: =G27-C27 -> 0 | G27: =TAXREC!E93 -> 0
A28: "Material Items from "TAXREC 2" worksheet | B28: 6 | E28: =G28-C28 -> 0 | G28: =TAXREC!E67 -> 0
A29: Other Additions (not "Material") "TAXREC 2" | B29: 6 | E29: =G29-C29 -> 1993341 | G29: =TAXREC!E68 -> 1993341
A30: Items on which true-up does not apply "TAXREC 3" | E30: =G30-C30 -> 161244 | G30: =TAXREC!E66 -> 161244
A32: Deductions: Input positive numbers
A33: Capital Cost Allowance and CEC | B33: 7 | C33: 76692530 | E33: =G33-C33 -> 42485312 | G33: 119177842
A34: Employee Benefit Plans - Paid Amounts | B34: 8 | C34: 30011140 | E34: =G34-C34 -> -30011140 | G34: =TAXREC!E99 -> 0
A35: Items Capitalized for Regulatory Purposes | B35: 9 | C35: 0 | E35: =G35-C35 -> 0 | G35: =TAXREC!E100 -> 0
A36: Regulatory Adjustments - deduction for tax purposes in Item 5 | B36: 10 | E36: =G36-C36 -> 0 | G36: =TAXREC!E102+TAXREC!E103 -> 0
A37: Interest Expense Deemed/ Incurred | B37: 11 | C37: =REGINFO!D66 -> 57696271 | E37: =G37-C37 -> 22479608 | G37: =TAXREC!E51 -> 80175879
A38: Tax reserves - end of year | B38: 4 | E38: =G38-C38 -> 0 | G38: =TAXREC!E104 -> 0
A39: Reserves from financial statements - beginning of year | B39: 4 | E39: =G39-C39 -> 108977216 | G39: =TAXREC!E105 -> 108977216
A40: Contributions to deferred income plans | B40: 3 | E40: =G40-C40 -> 0 | G40: =TAXREC!E106 -> 0
A41: Contributions to pension plans | B41: 3 | E41: =G41-C41 -> 0 | G41: =TAXREC!E107 -> 0
A42: Interest capitalized for accounting but deducted for tax | B42: 11 | E42: =G42-C42 -> 0 | G42: =TAXREC!E109 -> 0
A43: Other Deductions (See Tab entitled "TAXREC")
A44: "Material" Items from "TAXREC" worksheet | B44: 12 | E44: =G44-C44 -> 0 | G44: =TAXREC!E130 -> 0
...

Sheet TAXREC
A1: =REGINFO!A1 -> PILs TAXES - EB-2012-0064 | B1: LINE | C1: M of F | D1: Non-wires | E1: Wires-only
A2: TAX RETURN RECONCILIATION (TAXREC) | C2: Corporate | D2: Eliminations | E2: Tax
A3: (for "wires-only" business - see s. 72 OEB Act) | C3: Tax | E3: Return
A4: =REGINFO!E2 -> 0 | C4: Return
E5: =REGINFO!E1 -> Version 2009.1
A6: Section A: Identification:
A7: =REGINFO!A3 -> Utility Name: TORONTO HYDRO-ELECTRIC SYSTEM LIMITED
A8: =REGINFO!A4 -> Reporting period: 2004
A9: Taxation Year's start date: | C9: 37987
A10: Taxation Year's end date: | C10: 38352
A11: Number of days in taxation year: | C11: =REGINFO!B6 -> 365 | D11: days
A13: Please enter the Materiality Level : | C13: 1764205 | D13: < - enter materiality level
A14: (0.25% x Rate Base x CER) | B14: Y/N | C14: N
A15: (0.25% x Net Assets) | B15: Y/N | C15: Y
A16: Or other measure (please provide the basis of the amount) | B16: Y/N | C16: N
A17: Does the utility carry on non-wires related operation? | B17: Y/N | C17: N
A18: (Please complete the questionnaire in the Background questionnaire worksheet.)
A20: Note: Carry forward Wires-only Data to Tab "TAXCALC" Column K
A22: Section B: Financial statements data:
A23: Input unconsolidated financial statement data submitted with Tax returns.
A24: The actual categories of the income statements should be used.
A25: If required please change the descriptions except for amortization, interest expense and provision for income tax
A27: Please enter the non-wire operation's amount as a positive number, the program automatically treats all amounts
A28: in the "non-wires elimination column" as negative values in TAXREC and TAXREC2.
A30: Income:
A31: Energy Sales | B31: + | E31: =C31-D31 -> 0
A32: Distribution Revenue | B32: + | C32: 2235154000 | E32: =C32-D32 -> 2235154000
A33: Other Income | B33: + | C33: 27240000 | E33: =C33-D33 -> 27240000
A34: Miscellaneous income | B34: + | C34: 10325000 | E34: =C34-D34 -> 10325000
B35: + | E35: =C35-D35 -> 0
A36: Revenue should be entered above this line
A38: Costs and Expenses:
A39: Cost of energy purchased | B39: - | C39: 1798008000 | E39: =C39-D39 -> 1798008000
A40: Administration | B40: - | E40: =C40-D40 -> 0
A41: Customer billing and collecting | B41: - | E41: =C41-D41 -> 0
A42: Operations and maintenance | B42: - | C42: 166617000 | E42: =C42-D42 -> 166617000
A43: Amortization | B43: - | C43: 122526000 | E43: =C43-D43 -> 122526000
A44: Ontario Capital Tax | B44: - | E44: =C44-D44 -> 0
A45: Reg Assets | B45: - | E45: =C45-D45 -> 0
A46: Financing expenses | B46: - | C46: 2935000 | E46: =C46-D46 -> 2935000
...

Sheet Tax Reserves
A1: =REGINFO!A1 -> PILs TAXES - EB-2012-0064 | B1: LINE | C1: M of F | D1: Non-wires | E1: Wires-only
A2: Tax and Accounting Reserves | C2: Corporate | D2: Eliminations | E2: Tax
A3: For MoF Column of TAXCALC | C3: Tax | E3: Return
A4: (for "wires-only" business - see s. 72 OEB Act) | C4: Return
A5: =REGINFO!E2 -> 0 | E5: =REGINFO!E1 -> Version 2009.1
A7: =REGINFO!A3 -> Utility Name: TORONTO HYDRO-ELECTRIC SYSTEM LIMITED
A8: =REGINFO!A4 -> Reporting period: 2004
A10: TAX RESERVES
A12: Beginning of Year:
E13: =C13-D13 -> 0
A14: Reserve for doubtful accounts ss. 20(1)(l) | E14: =C14-D14 -> 0
A15: Reserve for goods & services ss.20(1)(m) | E15: =C15-D15 -> 0
A16: Reserve for unpaid amounts ss.20(1)(n) | E16: =C16-D16 -> 0
A17: Debt and share issue expenses ss.20(1)(e) | E17: =C17-D17 -> 0
A18: Other - Please describe | E18: =C18-D18 -> 0
A19: Other - Please describe | E19: =C19-D19 -> 0
E20: =C20-D20 -> 0
E21: =C21-D21 -> 0
A22: Total (carry forward to the TAXREC worksheet) | C22: =SUM(C13:C21) -> 0 | D22: =SUM(D13:D21) -> 0 | E22: =SUM(E13:E21) -> 0
A24: End of Year:
E25: =C25-D25 -> 0
A26: Reserve for doubtful accounts ss. 20(1)(l) | E26: =C26-D26 -> 0
A27: Reserve for goods & services ss.20(1)(m) | E27: =C27-D27 -> 0
A28: Reserve for unpaid amounts ss.20(1)(n) | E28: =C28-D28 -> 0
A29: Debt and share issue expenses ss.20(1)(e) | E29: =C29-D29 -> 0
A30: Other - Please describe | E30: =C30-D30 -> 0
A31: Other - Please describe | E31: =C31-D31 -> 0
E32: =C32-D32 -> 0
E33: =C33-D33 -> 0
A34: Insert line above this line
A35: Total (carry forward to the TAXREC worksheet) | C35: =SUM(C25:C33) -> 0 | D35: =SUM(D25:D33) -> 0 | E35: =SUM(E25:E33) -> 0
A38: FINANCIAL STATEMENT RESERVES
A40: Beginning of Year:
E41: =C41-D41 -> 0
E42: =C42-D42 -> 0
A43: Environmental | E43: =C43-D43 -> 0
A44: Allowance for doubtful accounts | C44: 585360 | E44: =C44-D44 -> 585360
A45: Inventory obsolescence | C45: 2668190 | E45: =C45-D45 -> 2668190
A46: Property taxes | C46: 2000000 | E46: =C46-D46 -> 2000000
A47: Other - Post employment benefits | C47: 103677000 | E47: =C47-D47 -> 103677000
...

Sheet TAXREC 2
A2: =REGINFO!A1 -> PILs TAXES - EB-2012-0064 | B2: LINE | C2: M of F | D2: Non-wires | E2: Wires-only
A3: TAX RETURN RECONCILIATION (TAXREC 2) | C3: Corporate | D3: Eliminations | E3: Tax
A4: (for "wires-only" business - see s. 72 OEB Act) | C4: Tax | E4: Return
A5: RATEPAYERS ONLY | C5: Return
A6: Shareholder-only Items should be shown on TAXREC 3 | E6: =REGINFO!E1 -> Version 2009.1
A8: =REGINFO!A3 -> Utility Name: TORONTO HYDRO-ELECTRIC SYSTEM LIMITED
A9: =REGINFO!A4 -> Reporting period: 2004
A10: Number of days in taxation year: | C10: =TAXREC!C11 -> 365
A11: Materiality Level: | C11: =TAXREC!C13 -> 1764205
A15: Section C: Reconciliation of accounting income to taxable income
A16: Add:
B17: + | E17: =C17-D17 -> 0
A18: Gain on sale of eligible capital property | B18: + | E18: =C18-D18 -> 0
A19: Loss on disposal of assets | B19: + | E19: =C19-D19 -> 0
A20: Charitable donations (Only if it benefits ratepayers) | B20: + | E20: =C20-D20 -> 0
A21: Taxable capital gains | B21: + | C21: 146332 | E21: =C21-D21 -> 146332
B22: + | E22: =C22-D22 -> 0
A23: Scientific research expenditures deducted | B23: + | E23: =C23-D23 -> 0
A24: per financial statements | B24: + | C24: 844629 | E24: =C24-D24 -> 844629
A25: Capitalized interest | B25: + | E25: =C25-D25 -> 0
A26: Soft costs on construction and renovation of buildings | B26: + | E26: =C26-D26 -> 0
A27: Capital items expensed | B27: + | E27: =C27-D27 -> 0
A28: Debt issue expense | B28: + | E28: =C28-D28 -> 0
A29: Financing fees deducted in books | B29: + | C29: 731936 | E29: =C29-D29 -> 731936
A30: Gain on settlement of debt | B30: + | E30: =C30-D30 -> 0
A31: Interest paid on income debentures | B31: + | E31: =C31-D31 -> 0
A32: Recapture of SR&ED expenditures | B32: + | E32: =C32-D32 -> 0
A33: Share issue expense | B33: + | E33: =C33-D33 -> 0
A34: Write down of capital property | B34: + | E34: =C34-D34 -> 0
A35: Amounts received in respect of qualifying environment trust | B35: + | E35: =C35-D35 -> 0
A36: Provision for bad debts | B36: + | E36: =C36-D36 -> 0
B37: + | E37: =C37-D37 -> 0
B38: + | E38: =C38-D38 -> 0
B39: + | E39: =C39-D39 -> 0
A40: Other Additions: (please explain in detail the nature of the item) | B40: + | E40: =C40-D40 -> 0
A41: Asset retirement obligation- accretion expense | B41: + | C41: 235261 | E41: =C41-D41 -> 235261
B42: + | E42: =C42-D42 -> 0
A43: Interest and penalties on unpaid taxes | B43: + | C43: 35183 | E43: =C43-D43 -> 35183
B44: + | E44: =C44-D44 -> 0
B45: + | E45: =C45-D45 -> 0
...

Sheet TAXREC 3 No True-up
A2: =REGINFO!A1 -> PILs TAXES - EB-2012-0064
A3: TAX RETURN RECONCILIATION (TAXREC 3)
A4: Shareholder-only Items should be shown on TAXREC 3 | B4: LINE | C4: M of F | D4: Non-wires | E4: Wires-only
A5: ITEMS ON WHICH TRUE-UP DOES NOT APPLY | C5: Corporate | D5: Eliminations | E5: Tax
A6: (for "wires-only" business - see s. 72 OEB Act) | C6: Tax | E6: Return
A7: =REGINFO!E2 -> 0 | C7: Return
A8: =REGINFO!A3 -> Utility Name: TORONTO HYDRO-ELECTRIC SYSTEM LIMITED | E8: =REGINFO!E1 -> Version 2009.1
A11: =REGINFO!A4 -> Reporting period: 2004
A12: Number of days in taxation year: | C12: =TAXREC!C11 -> 365
A16: Section C: Reconciliation of accounting income to taxable income
A17: Add:
A19: Recapture of capital cost allowance | B19: + | E19: =C19-D19 -> 0
A20: CCA adjustments | B20: + | E20: =C20-D20 -> 0
A21: CEC adjustments | B21: + | E21: =C21-D21 -> 0
A22: Gain on sale of non-utility eligible capital property | B22: + | E22: =C22-D22 -> 0
A23: Gain on sale of utility eligible capital property | B23: + | E23: =C23-D23 -> 0
A24: Loss from joint ventures or partnerships | B24: + | E24: =C24-D24 -> 0
A25: Deemed dividend income | B25: + | E25: =C25-D25 -> 0
A26: Loss in equity of subsidiaries and affiliates | B26: + | E26: =C26-D26 -> 0
A27: Loss on disposal of utility assets | B27: + | E27: =C27-D27 -> 0
A28: Loss on disposal of non-utility assets | B28: + | E28: =C28-D28 -> 0
A29: Depreciation in inventory -end of year | B29: + | E29: =C29-D29 -> 0
A30: Depreciation and amortization adjustments | B30: + | E30: =C30-D30 -> 0
A31: Dividends credited to investment account | B31: + | E31: =C31-D31 -> 0
A32: Non-deductible meals | B32: + | C32: 101426 | E32: =C32-D32 -> 101426
A33: Non-deductible club dues | B33: + | C33: 59818 | E33: =C33-D33 -> 59818
A34: Non-deductible automobile costs | B34: + | E34: =C34-D34 -> 0
A35: Donations - amount per books | E35: =C35-D35 -> 0
A36: Interest and penalties on unpaid taxes | E36: =C36-D36 -> 0
A37: Management bonuses unpaid after 180 days of year end | E37: =C37-D37 -> 0
A38: Imputed interest expense on Regulatory Assets | E38: =C38-D38 -> 0
A39: Ontario capital tax adjustments | B39: + | E39: =C39-D39 -> 0
A40: Changes in Regulatory Asset balances | B40: + | E40: =C40-D40 -> 0
A41: Other Additions: (please explain in detail the nature of the item) | B41: + | E41: =C41-D41 -> 0
B42: + | E42: =C42-D42 -> 0
B43: + | E43: =C43-D43 -> 0
B44: + | E44: =C44-D44 -> 0
B45: + | E45: =C45-D45 -> 0
B46: +
A47: Total Additions on which true-up does not apply | B47: = | C47: =SUM(C19:C46) -> 161244 | D47: =SUM(D19:D46) -> 0 | E47: =SUM(E19:E46) -> 161244
...

Sheet Tax Rates
A1: =REGINFO!A1 -> PILs TAXES - EB-2012-0064
A2: Corporate Tax Rates | F2: =REGINFO!E1 -> Version 2009.1
A3: Exemptions, Deductions, or Thresholds
A4: =REGINFO!A3 -> Utility Name: TORONTO HYDRO-ELECTRIC SYSTEM LIMITED
A5: =REGINFO!A4 -> Reporting period: 2004
F7: Table 1
A8: Rates Used in 2002 RAM PILs Applications for 2002
A9: Income Range | C9: 0 | E9: 200001
A10: RAM 2002 | C10: to | E10: to | F10: >700,000
B11: Year | C11: 200000 | E11: 700000
A12: Income Tax Rate
A13: Proxy Tax Year | B13: 2002
A14: Federal (Includes surtax) | F14: 0.2612
A15: and Ontario blended | F15: 0.125
A16: Blended rate | F16: =SUM(F14:F15) -> 0.3862
A18: Capital Tax Rate | C18: 0.003
A19: LCT rate | C19: 0.00225
A20: Surtax | C20: 0.0112
A21: Ontario Capital Tax Exemption ** | B21: MAX $5MM | C21: 5000000
A22: Federal Large Corporations Tax Exemption ** | B22: MAX $10MM | C22: 10000000
A23: **Exemption amounts must agree with the Board-approved 2002 RAM PILs filing
F25: Table 2
A26: Expected Income Tax Rates for 2004 and Capital Tax Exemptions for 2004
A27: Income Range | C27: 0 | E27: 200001
A28: Expected Rates | C28: to | E28: to | F28: >700,000
B29: Year | C29: 200000 | E29: 700000
A30: Income Tax Rate
A31: Current year | B31: 2004
A32: Federal (Includes surtax) | F32: 0.2212
A33: Ontario | F33: 0.14
A34: Blended rate | F34: =SUM(F32:F33) -> 0.3612
A36: Capital Tax Rate | C36: 0.003
A37: LCT rate | C37: 0.002
A38: Surtax | C38: 0.0112
A39: Ontario Capital Tax Exemption *** 2004 | B39: MAX $5MM | C39: 5000000
A40: Federal Large Corporations Tax Exemption *** 2004 | B40: MAX $50MM | C40: 50000000
A41: ***Allocation of exemptions must comply with the Board's instructions regarding regulated activities.
F43: Table 3
A44: Input Information from Utility's Actual 2004 Tax Returns
A45: Income Range | C45: 0 | E45: 200001
...

Sheet PILs 1562 Calculation
A1: =REGINFO!A1 -> PILs TAXES - EB-2012-0064
A2: Analysis of PILs Tax Account 1562:
A3: =REGINFO!A3 -> Utility Name: TORONTO HYDRO-ELECTRIC SYSTEM LIMITED | O3: =REGINFO!E1 -> Version 2009.1
A4: =REGINFO!A4 -> Reporting period: 2004 | E4: Sign Convention: + for increase; - for decrease | O4: =REGINFO!E2 -> 0
A8: Year start: | C8: 37165 | E8: 37257 | G8: 37622 | I8: 37987 | K8: 38353 | M8: 38718
A9: Year end: | C9: 37256 | E9: 37621 | G9: 37986 | I9: 38352 | K9: 38717 | M9: 38837 | O9: Total
A11: Opening balance: | B11: = | C11: 0 | E11: =C22 -> 5028333 | G11: =E22 -> 8127575 | I11: =G22 -> 8284720 | K11: =I22 -> -619715.62 | M11: =K22 -> -2303882 | O11: =C11 -> 0
A12: Board-approved PILs tax proxy from Decisions (1) | B12: +/- | C12: 5000000 | E12: 55000000 | G12: 60000000 | I12: 58571734 | M12: =K13/9*12/4 -> 0 | O12: =SUM(C12:N12) -> 178571734
A13: PILs proxy from April 1, 2005 - input 9/12 of amount | O13: =SUM(C13:N13) -> 0
A14: True-up Variance Adjustment Q4, 2001 (2) | B14: +/- | E14: -290810 | O14: =SUM(C14:N14) -> -290810
A15: True-up Variance Adjustment (3) | B15: +/- | G15: 2156868 | I15: -6024420 | K15: =TAXCALC!E183 -> -1684166.4 | O15: =SUM(C15:N15) -> -5551718.4
A16: Deferral Account Variance Adjustment Q4, 2001 (4) | O16: =SUM(C16:N16) -> 0
A17: Deferral Account Variance Adjustment (5) | B17: +/- | G17: -2412196 | I17: =TAXCALC!E181 -> -3807478.6 | O17: =SUM(C17:N17) -> -6219674.6
A18: Adjustments to reported prior years' variances (6) | B18: +/- | O18: =SUM(C18:N18) -> 0
A19: Carrying charges (7) | B19: +/- | C19: 28333 | E19: 720305 | G19: 562257 | I19: 269130 | O19: =SUM(C19:N19) -> 1580025
A20: PILs billed to (collected from) customers (8) | B20: - | C20: 0 | E20: -52330253 | G20: -60149784 | I20: -57913401 | O20: =SUM(C20:N20) -> -170393438
A22: Ending balance: # 1562 | C22: =SUM(C11:C20) -> 5028333 | E22: =SUM(E11:E20) -> 8127575 | G22: =SUM(G11:G20) -> 8284720 | I22: =SUM(I11:I20) -> -619715.62 | K22: =SUM(K11:K20) -> -2303882 | M22: =SUM(M11:M21) -> -2303882 | O22: =SUM(O11:O20) -> -2303882
A26: Uncollected PILs
A28: NOTE: The purpose of this worksheet is to show the movement in Account 1562 which establishes the receivable from or liability to ratepayers.
A29: For explanation of Account 1562 please refer to Accounting Procedures Handbook for Electric Distribution Utilities and FAQ April 2003.
A31: Please identify if Method 1, 2 or 3 was used to account for the PILs proxy and recovery. ANSWER: METHOD 3
A33: (1) (i) From the Board's Decision - see Inclusion in Rates, Part III of the TAXCALC spreadsheet for Q4 2001 and 2002.
A34: Please insert the Q4, 2001 proxy in column C even though it was approved effective March 1, 2002.
A35: If the Board gave more than one decision in the year, calculate a weighted average proxy.
A36: (ii) If the Board approved different amounts, input the Board-approved amounts in cells C13 and E13.
A37: (iii) Column G - In 2003, the initial estimate should include the Q4 2001 PILs tax proxy and the 2002 PILs tax proxy.
A38: (iv) Column I - The Q4 2001 PILs tax proxy was removed from rates on April 1, 2004 and the 2002 PILs tax proxy remained.
A39: (v) Column K - The 2002 PILs tax proxy applies to January 1 to March 31, 2005, and the new 2005 PILs tax proxy from April 1 to December 31, 2005.
A40: (vi) Column M - The 2005 PILs tax proxy will used for the period from January 1 to April 30, 2006.
... A75: will have to include amounts from 1562 and from 1590.
