{"text_format":"1","workbook":"xlsx","n_sheets":71,"sheets":["LDC Info","Table of Contents","COS Flowchart","List of Key References","App.2-AA_Capital Projects","App.2-AB_Capital Expenditures","App. 2-AC_Customer Engagement","App.2-B_Acct Instructions","App.2-BA_Fixed Asset Cont 2011","App.2-BA_Fixed Asset Cont 2012","App.2-BA_FA Cont Component 2013","App.2-BA_Fixed Asset Cont 2013","App.2-BA_Fixed Asset 2013_Old ","App.2-BA_Fixed Asset Cont2014","App.2-BA_Fixed Asset 2014_Old","App.2-BA_Fixed Asset Cont2015","Appendix 2-BB Service Life  ","App.2-CA_OldCGAAP_DepExp_2012","App.2-CB_NewCGAAP_DepExp_2012","App.2-CC_NewCGAAP_DepExp_2013","App.2-CD_MIFRS_DepExp_2014","App.2-CE_MIFRS_DepExp_2015","App.2-CF_OldCGAAP_DepExp_2013","App.2-CG_NewCGAAP_DepExp_2013","App.2-CH_OldCGAAP_DepExp_2014","App.2-CH_MIFRS_DepExp_2014","App.2-CI MIFRS_DepExp_2015","App.2-D_Overhead","App.2-EA_1575 (2015)","App.2-EB_Account 1576 (2012)","App.2-EC_Account 1576 (2013)","App.2-FA Proposed REG Invest.","App.2-FB Calc of REG Improvemnt","App.2-FC Calc of REG Expansion","App.2-FA Proposed REG Inves (2","App.2-FB Calc of REG Improv (2","App.2-FC Calc of REG Expans (2","App.2-G SQI","App.2-I LF_CDM_WF_OLD","App.2-H_Other_Oper_Rev","App.2-I LF_CDM_WF","App.2-IA_Act_Frcst_Data","App.2-JA_OM&A_Summary_Analys","App.2-JB_OM&A_Cost _Drivers","App.2-JC_OMA Programs","App.2-K_Employee Costs","App.2-L_OM&A_per_Cust_FTEE","App.2-M_Regulatory_Costs","App.2-N_Corp_Cost_Allocation","App.2-OA Capital Structure","App.2-OB_Debt Instruments","App.2-P_Cost_Allocation 1 &2","App.2-Q_Cost of Serv. Emb. Dx","App.2-R_Loss Factors","App.2-S_Stranded Meters","App.2-TA_1592_Tax_Variance","App.2-TB_1592_HST-OVAT","App.2-U_IFRS Transition Costs","App.2-V_Rev_Reconciliation","App.2-W_Bill Impacts_Res","App.2-W_Bill Impacts_GS<50","App.2-W_Bill Impacts_GS>50","App.2-W_Bill Impacts_USL","App.2-W_Bill Impacts_Sentinel","App.2-W_Bill Impacts_Streetligh","App.2-Y_MIFRS Summary Impacts","App. 2-Z_Tariff","lists","lists2","Sheet19","Sheet1"],"not_rendered":{"charts":0,"images":4,"macros":1,"external_links":11,"defined_names":989,"comments":10,"pivot_tables":0},"unopened":[],"bounds":{"document_bytes":16777216,"sheet_cells":100000,"rows_first":2000,"rows_last":500,"rows_between":2000,"halvings":0,"cell_chars":16384,"cell_head_chars":4096},"cells_cut":0,"cells_raw":0,"read":"whole","date_system":"1900"}

{"sheet":"LDC Info","index":0,"n_rows":99,"n_cols":27,"rows_kept":99,"cut":false,"hidden":false,"merged":[[17,4,17,10],[13,4,13,10],[15,4,15,8],[19,4,19,8],[25,4,25,6],[23,4,23,6],[27,4,27,6],[30,4,30,6],[29,0,30,3],[42,0,43,3],[38,0,39,3],[39,4,39,6],[32,0,33,3],[33,4,33,6],[35,0,36,3],[43,4,43,6],[45,4,45,6],[45,0,45,3],[50,2,50,11],[54,2,54,12],[52,2,52,13]]}
[]
[]
[null,null,null,null,null,null,null,null,null,null,null,null,null,null,null,null,null,null,null,null,null,null,null,null,null,null,"Algoma Power Inc."]
[null,null,null,null,null,null,null,null,null,null,null,null,null,null,null,null,null,null,null,null,null,null,null,null,null,null,"Atikokan Hydro Inc."]
[null,null,null,null,null,null,null,null,null,null,null,null,null,null,null,null,null,null,null,null,null,null,null,null,null,null,"Attawapiskat Power Corporation"]
[null,null,null,null,null,null,null,null,null,null,null,null,null,null,null,null,null,null,null,null,null,null,null,null,null,null,"Bluewater Power Distribution Corp."]
[null,null,null,null,null,null,null,null,null,null,null,null,null,null,null,null,null,null,null,null,null,null,null,null,null,null,"Brant County Power"]
[null,null,null,null,null,null,null,null,null,null,null,null,null,null,null,null,null,null,null,null,null,null,null,null,null,null,"Brantford Power Inc."]
[null,null,null,null,null,null,null,null,null,null,null,null,null,null,null,null,null,null,null,null,null,null,null,null,null,null,"Burlington Hydro Inc."]
[null,null,null,null,null,null,null,null,null,null,null,null,null,null,null,null,null,null,null,null,null,null,null,null,null,null,"Cambridge and North Dumfries Hydro"]
[null,null,null,null,null,null,null,null,null,null,null,null,null,null,null,null,null,null,null,null,null,null,null,null,null,null,"Canadian Niagara Power Inc. – Eastern Ontario Power/Fort Erie/Port Colborne"]
[null,null,null,null,null,null,null,null,null,null,null,null,null,null,null,null,null,null,null,null,null,null,null,null,null,null,"Centre Wellington Hydro Ltd."]
[null,null,null,null,null,null,null,null,null,null,null,null,null,null,null,null,null,null,null,null,null,null,null,null,null,null,"Chapleau Public Utilities Corporation"]
[null,null,null,"Utility Name   ","Niagara Peninsula Energy Inc.",null,null,null,null,null,null,null,null,null,null,null,null,null,null,null,null,null,null,null,null,null,"COLLUS Power Corp."]
[null,null,null,null,null,null,null,null,null,null,null,null,null,null,null,null,null,null,null,null,null,null,null,null,null,null,"Cooperative Hydro Embrun Inc."]
[null,null,null,"Assigned EB Number","EB-2014-0096",null,null,null,null,null,null,null,null,null,null,null,null,null,null,null,null,null,null,null,null,null,"E.L.K. Energy Inc."]
[null,null,null,null,null,null,null,null,null,null,null,null,null,null,null,null,null,null,null,null,null,null,null,null,null,null,"Enersource Hydro Mississauga Inc."]
[null,null,null,"Name of Contact and Title","Suzanne Wilson, VP Finance",null,null,null,null,null,null,null,null,null,null,null,null,null,null,null,null,null,null,null,null,null,"Entegrus Powerlines Inc."]
[null,null,null,null,null,null,null,null,null,null,null,null,null,null,null,null,null,null,null,null,null,null,null,null,null,null,"ENWIN Utilities Ltd."]
[null,null,null,"Phone Number   ","905-353-6004",null,null,null,null,null,null,null,null,null,null,null,null,null,null,null,null,null,null,null,null,null,"Erie Thames Powerlines Corp."]
[null,null,null,null,null,null,null,null,null,null,null,null,null,null,null,null,null,null,null,null,null,null,null,null,null,null,"Espanola Regional Hydro Distribution Corporation"]
[null,null,null,"Email Address   ","Suzanne.wilson@npei.ca",null,null,null,null,null,null,null,null,null,null,null,null,null,null,null,null,null,null,null,null,null,"Essex Powerlines Corporation"]
[null,null,null,null,null,null,null,null,null,null,null,null,null,null,null,null,null,null,null,null,null,null,null,null,null,null,"Festival Hydro Inc."]
[null,null,null,"Test Year",2015,null,null,null,null,null,null,null,null,null,null,null,null,null,null,null,null,null,null,null,null,null,"Fort Albany Power Corporation"]
[null,null,null,null,null,null,null,null,null,null,null,null,null,null,null,null,null,null,null,null,null,null,null,null,null,null,"Fort Frances Power Corporation"]
[null,null,null,"Bridge Year",{"$f":"IF(ISBLANK(E24), \"\", E24-1)","v":2014},null,null,null,null,null,null,null,null,null,null,null,null,null,null,null,null,null,null,null,null,null,"Greater Sudbury Hydro Inc."]
[null,null,null,null,null,null,null,null,null,null,null,null,null,null,null,null,null,null,null,null,null,null,null,null,null,null,"Grimsby Power Inc."]
[null,null,null,"Last Rebasing Year",2011,null,null,null,null,null,null,null,null,null,null,null,null,null,null,null,null,null,null,null,null,null,"Guelph Hydro Electric Systems Inc."]
[null,null,null,null,null,null,null,null,null,null,null,null,null,null,null,null,null,null,null,null,null,null,null,null,null,null,"Haldimand County Hydro Inc."]
["Identify the accounting standard used for the test year"]
[null,null,null,null,"MIFRS"]
[]
["Did you update your depreciation and capitalization policies?"]
[null,null,null,null,"Yes"]
[]
["When did you update your depreciation and capitalization policies?"]
[null,null,null,null,"2001-01-01",2013]
[]
["Identify the year that the applicant has adopted or is expected to adopt IFRS for financial reporting purposes"]
[null,null,null,null,"2015 or Later"]
[]
[]
["Are you applying for cost recovery for the test and/or future year(s) for Green Energy initiatives?"]
[null,null,null,null,"No"]
[]
[{"$f":"\"Is \" & E14 & \" an embedded distributor?\"","v":"Is Niagara Peninsula Energy Inc. an embedded distributor?"},null,null,null,"No"]
[]
[]
[null,"Notes",null,null,null,null,null,null,null,null,null,null,null,null,null,null,null,null,null,null,null,null,null,null,null,null,"Guelph Hydro Electric Systems Inc."]
[null,null,null,null,null,null,null,null,null,null,null,null,null,null,null,null,null,null,null,null,null,null,null,null,null,null,"Halton Hills Hydro Inc."]
[null,null,"Pale green cells represent input cells.",null,null,null,null,null,null,null,null,null,null,null,null,null,null,null,null,null,null,null,null,null,null,null,"Hearst Power Distribution Co. Ltd."]
[null,null,null,null,null,null,null,null,null,null,null,null,null,null,null,null,null,null,null,null,null,null,null,null,null,null,"Horizon Utilities Corporation"]
[null,null,"Pale blue cells represent drop-down lists.  The applicant should select the appropriate item from the drop-down list.",null,null,null,null,null,null,null,null,null,null,null,null,null,null,null,null,null,null,null,null,null,null,null,"Hydro 2000 Inc."]
[null,null,null,null,null,null,null,null,null,null,null,null,null,null,null,null,null,null,null,null,null,null,null,null,null,null,"Hydro Hawkesbury Inc."]
[null,null,"White cells contain fixed values, automatically generated values or formulae. ",null,null,null,null,null,null,null,null,null,null,null,null,null,null,null,null,null,null,null,null,null,null,null,"Hydro One Brampton Networks Inc."]
[null,null,null,null,null,null,null,null,null,null,null,null,null,null,null,null,null,null,null,null,null,null,null,null,null,null,"Hydro One Networks Inc."]
[null,null,null,null,null,null,null,null,null,null,null,null,null,null,null,null,null,null,null,null,null,null,null,null,null,null,"Hydro One Remote Communities Inc."]
[null,null,null,null,null,null,null,null,null,null,null,null,null,null,null,null,null,null,null,null,null,null,null,null,null,null,"Hydro Ottawa Limited"]
[null,null,null,null,null,null,null,null,null,null,null,null,null,null,null,null,null,null,null,null,null,null,null,null,null,null,"Innisfil Hydro Dist. Systems Limited"]
[null,null,null,null,null,null,null,null,null,null,null,null,null,null,null,null,null,null,null,null,null,null,null,null,null,null,"Kashechewan Power Corporation"]
[null,null,null,null,null,null,null,null,null,null,null,null,null,null,null,null,null,null,null,null,null,null,null,null,null,null,"Kenora Hydro Electric Corporation Ltd."]
[null,null,null,null,null,null,null,null,null,null,null,null,null,null,null,null,null,null,null,null,null,null,null,null,null,null,"Kingston Hydro Corporation"]
[null,null,null,null,null,null,null,null,null,null,null,null,null,null,null,null,null,null,null,null,null,null,null,null,null,null,"Kitchener-Wilmot Hydro Inc."]
[null,null,null,null,null,null,null,null,null,null,null,null,null,null,null,null,null,null,null,null,null,null,null,null,null,null,"Lakefront Utilities Inc."]
[null,null,null,null,null,null,null,null,null,null,null,null,null,null,null,null,null,null,null,null,null,null,null,null,null,null,"Lakeland Power Distribution Ltd."]
[null,null,null,null,null,null,null,null,null,null,null,null,null,null,null,null,null,null,null,null,null,null,null,null,null,null,"London Hydro Inc."]
[null,null,null,null,null,null,null,null,null,null,null,null,null,null,null,null,null,null,null,null,null,null,null,null,null,null,"Midland Power Utility Corporation"]
[null,null,null,null,null,null,null,null,null,null,null,null,null,null,null,null,null,null,null,null,null,null,null,null,null,null,"Milton Hydro Distribution Inc."]
[null,null,null,null,null,null,null,null,null,null,null,null,null,null,null,null,null,null,null,null,null,null,null,null,null,null,"Newmarket – Tay Power Distribution Ltd."]
[null,null,null,null,null,null,null,null,null,null,null,null,null,null,null,null,null,null,null,null,null,null,null,null,null,null,"Niagara Peninsula Energy Inc."]
[null,null,null,null,null,null,null,null,null,null,null,null,null,null,null,null,null,null,null,null,null,null,null,null,null,null,"Niagara-on-the-Lake Hydro Inc."]
[null,null,null,null,null,null,null,null,null,null,null,null,null,null,null,null,null,null,null,null,null,null,null,null,null,null,"Norfolk Power Distribution Ltd."]
[null,null,null,null,null,null,null,null,null,null,null,null,null,null,null,null,null,null,null,null,null,null,null,null,null,null,"North Bay Hydro Distribution Limited"]
[null,null,null,null,null,null,null,null,null,null,null,null,null,null,null,null,null,null,null,null,null,null,null,null,null,null,"Northern Ontario Wires Inc."]
[null,null,null,null,null,null,null,null,null,null,null,null,null,null,null,null,null,null,null,null,null,null,null,null,null,null,"Oakville Hydro Distribution Inc."]
[null,null,null,null,null,null,null,null,null,null,null,null,null,null,null,null,null,null,null,null,null,null,null,null,null,null,"Orangeville Hydro Limited"]
[null,null,null,null,null,null,null,null,null,null,null,null,null,null,null,null,null,null,null,null,null,null,null,null,null,null,"Orillia Power Distribution Corp."]
[null,null,null,null,null,null,null,null,null,null,null,null,null,null,null,null,null,null,null,null,null,null,null,null,null,null,"Oshawa PUC Networks Inc."]
[null,null,null,null,null,null,null,null,null,null,null,null,null,null,null,null,null,null,null,null,null,null,null,null,null,null,"Ottawa River Power Corporation"]
[null,null,null,null,null,null,null,null,null,null,null,null,null,null,null,null,null,null,null,null,null,null,null,null,null,null,"Parry Sound Power Corporation"]
[null,null,null,null,null,null,null,null,null,null,null,null,null,null,null,null,null,null,null,null,null,null,null,null,null,null,"Peterborough Distribution Inc."]
[null,null,null,null,null,null,null,null,null,null,null,null,null,null,null,null,null,null,null,null,null,null,null,null,null,null,"PowerStream Inc."]
[null,null,null,null,null,null,null,null,null,null,null,null,null,null,null,null,null,null,null,null,null,null,null,null,null,null,"PUC Distribution Inc."]
[null,null,null,null,null,null,null,null,null,null,null,null,null,null,null,null,null,null,null,null,null,null,null,null,null,null,"Renfrew Hydro Inc."]
[null,null,null,null,null,null,null,null,null,null,null,null,null,null,null,null,null,null,null,null,null,null,null,null,null,null,"Rideau St. Lawrence Distribution Inc."]
[null,null,null,null,null,null,null,null,null,null,null,null,null,null,null,null,null,null,null,null,null,null,null,null,null,null,"St. Thomas Energy Inc."]
[null,null,null,null,null,null,null,null,null,null,null,null,null,null,null,null,null,null,null,null,null,null,null,null,null,null,"Sioux Lookout Hydro Inc."]
[null,null,null,null,null,null,null,null,null,null,null,null,null,null,null,null,null,null,null,null,null,null,null,null,null,null,"Thunder Bay Hydro Electricity Distribution"]
[null,null,null,null,null,null,null,null,null,null,null,null,null,null,null,null,null,null,null,null,null,null,null,null,null,null,"Tillsonburg Hydro Inc."]
[null,null,null,null,null,null,null,null,null,null,null,null,null,null,null,null,null,null,null,null,null,null,null,null,null,null,"Toronto Hydro-Electric System Limited"]
[null,null,null,null,null,null,null,null,null,null,null,null,null,null,null,null,null,null,null,null,null,null,null,null,null,null,"Veridian Connections Inc."]
[null,null,null,null,null,null,null,null,null,null,null,null,null,null,null,null,null,null,null,null,null,null,null,null,null,null,"Wasaga Distribution Inc."]
[null,null,null,null,null,null,null,null,null,null,null,null,null,null,null,null,null,null,null,null,null,null,null,null,null,null,"Waterloo North Hydro Inc."]
[null,null,null,null,null,null,null,null,null,null,null,null,null,null,null,null,null,null,null,null,null,null,null,null,null,null,"Welland Hydro Electric System Corp."]
[null,null,null,null,null,null,null,null,null,null,null,null,null,null,null,null,null,null,null,null,null,null,null,null,null,null,"Wellington North Power Inc."]
[null,null,null,null,null,null,null,null,null,null,null,null,null,null,null,null,null,null,null,null,null,null,null,null,null,null,"West Coast Huron Energy Inc."]
[null,null,null,null,null,null,null,null,null,null,null,null,null,null,null,null,null,null,null,null,null,null,null,null,null,null,"Westario Power Inc."]
[null,null,null,null,null,null,null,null,null,null,null,null,null,null,null,null,null,null,null,null,null,null,null,null,null,null,"Whitby Hydro Electric Corporation"]
[null,null,null,null,null,null,null,null,null,null,null,null,null,null,null,null,null,null,null,null,null,null,null,null,null,null,"Woodstock Hydro Services Inc."]

{"sheet":"Table of Contents","index":1,"n_rows":39,"n_cols":6,"rows_kept":39,"cut":false,"hidden":false,"merged":[]}
[]
[]
[]
[]
[]
[]
[]
[]
[]
[]
[]
[]
[]
[]
[1,"LDC Information Sheet",null,null,26,"App.2-FC: Calculation of Renewable Generation Connection Direct Benefits/Provincial Amount: Renewable Expansion Investments"]
[2,"Index",null,null,27,"App.2-G: Service Reliability Indicators"]
[3,"Cost of Service Application Flowchart",null,null,28,"App.2-H: Other Operating Revenue"]
[4,"List of Key References",null,null,29,"App.2-I: Load Forecast CDM Adjustment Workform"]
[5,"App.2-AA: Capital Projects Table",null,null,30,"App.2-IA:  Actual and Forecast Load and Customer Data"]
[6,"App.2-AB: Capital Expenditures",null,null,31,"App.2-JA: OM&A Summary Analysis"]
[7,"App. 2-AC: Customer Engagement Worksheet",null,null,32,"App.2-JB: Recoverable OM&A Cost Driver Table"]
[8,"App.2-B: General Accounting Instructions",null,null,33,"App.2-JC: OMA Programs Table"]
[9,"App.2-BA: Fixed Asset Continuity Schedule",null,null,34,"App.2-K: Employee Costs"]
[10,"Appendix 2-BB: Service Life Comparison",null,null,35,"App.2-L: Recoverable OM&A Cost per Customer and per FTE"]
[11,"App.2-CA: 2012 Depreciation and Amortization Expense (Old CGAAP)",null,null,36,"App.2-M: Regulatory Costs Schedule"]
[12,"App.2-CB: 2012 Depreciation and Amortization Expense (New CGAAP)",null,null,37,"App.2-N: Shared Servcies and Corporate Cost Allocation"]
[13,"App.2-CC: 2013 Depreciation and Amortization Expense (New CGAAP)",null,null,38,"App.2-OA: Capital Structure and Cost of Capital"]
[14,"App.2-CD: 2014 Depreciation and Amortization Expense (MIFRS)",null,null,39,"App.2-OB: Debt Instruments"]
[15,"App.2-CE: 2015 Depreciation and Amortization Expense (MIFRS)",null,null,40,"App.2-P: Cost Allocation"]
[16,"App.2-CF: 2013 Depreciation and Amortization Expense (Old CGAAP)",null,null,41,"App.2-Q: Cost of Serving Embedded Distributor(s)"]
[17,"App.2-CG: 2013 Depreciation and Amortization Expense (New CGAAP)",null,null,42,"App.2-R: Loss Factors"]
[18,"App.2-CH: 2014 Depreciation and Amortization Expense (MIFRS)",null,null,43,"App.2-S: Stranded Meter Treatment"]
[19,"App.2-CI: 2015 Depreciation and Amortization Expense (MIFRS)",null,null,44,"App.2-TA: Account 1592, PILs and Tax Variances"]
[20,"App.2-D: Overhead Expenses",null,null,45,"App.2-TB: Account 1592, HST-OVAT Input Tax Credits"]
[21,"App.2-EA: Account 1575 PP&E Deferral Account (2015 IFRS Adopters)",null,null,46,"App.2-U: One-Time Incremental IFRS Transition Costs"]
[22,"App.2-EB: Account 1576 - Accounting Changes Under CGAAP (2012 Changes)",null,null,47,"App.2-V: Revenue Reconciliation"]
[23,"App.2-EC: Account 1576 - Accounting Changes Under CGAAP (2013 Changes)",null,null,48,"App.2-W: Bill Impacts"]
[24,"App.2-FA: Renewable Generation Connection Investment Summary",null,null,49,"App.2-Y: Transition to MIFRS Summary Impact"]
[25,"App.2-FB: Calculation of Renewable Generation Connection Direct Benefits/Provincial Amount: Renewable Enabling Improvement Investments",null,null,50,"App. 2-Z: Tariff Schedule"]

{"sheet":"COS Flowchart","index":2,"n_rows":6,"n_cols":2,"rows_kept":6,"cut":false,"hidden":false,"merged":[[5,1,5,6],[2,1,2,6],[3,1,3,6]]}
[]
[]
[]
[null,"Cost of Service Rate Application Schematic"]
[]
[null,"The Cost of Service Rate Application Schematic is a flowchart appended to Chapter 2 of the Filing Requirements as a guide for the components of an application and how demand and costs interrelate to derive the revenue requirement and then how the revenue requirement is allocated between classes and through fixed/variable splits to derive rates that will be compensatory for the annual revenue requirement, based on the the forecasted demand.  There is no form to be filled out; therefore, this Schedule is not required to be filed. "]

{"sheet":"List of Key References","index":3,"n_rows":5,"n_cols":2,"rows_kept":5,"cut":false,"hidden":false,"merged":[[2,1,2,11],[4,0,4,11]]}
[]
[]
[null,"List of Key References"]
[]
["A list of key references for understanding the Filing Requirements has been embedded in the document below. To access the list of references and associated hyperlinks doublt click the icon below."]

{"sheet":"App.2-AA_Capital Projects","index":4,"n_rows":114,"n_cols":10,"rows_kept":114,"cut":false,"hidden":false,"merged":[[11,2,11,9],[116,2,117,10],[9,2,9,9],[8,2,8,9],[112,2,112,9],[114,2,114,9],[113,2,113,9]]}
[null,null,null,null,null,null,null,null,"File Number:",{"$f":"EBNUMBER","v":"EB-2014-0096"}]
[null,null,null,null,null,null,null,null,"Exhibit:",2]
[null,null,null,null,null,null,null,null,"Tab:",2]
[null,null,null,null,null,null,null,null,"Schedule:",1]
[null,null,null,null,null,null,null,null,"Page:",3]
[]
[null,null,null,null,null,null,null,null,"Date:","2014-08-29"]
[]
[null,null,"Appendix 2-AA"]
[null,null,"Capital Projects Table"]
[]
[]
["Project #","Ref #","Projects",{"$f":"E13-1","v":2010},{"$f":"F13-1","v":2011},{"$f":"G13-1","v":2012},{"$f":"BridgeYear - 1","v":2013},{"$f":"BridgeYear & \" Bridge Year\"","v":"2014 Bridge Year"},{"$f":"TestYear & \" Test Year\"","v":"2015 Test Year"},"Total"]
[null,null,"Reporting Basis","CGAAP","CGAAP","CGAAP","CGAAP","CGAAP","MIFRS"]
[null,null,"System Access"]
[null,null,"Subdivisions",682639.86,290295.07,518409.33,703212.42,{"$f":"400000.23","v":400000.23},{"$f":"587004.3","v":587004.30000000005},{"$f":"SUM(D16:I16)","v":3181561.21}]
[null,42,"Customer Connection/Extension",{"$f":"264436.55-102781","v":161655.54999999999},{"$f":"419519.19-29557.01","v":389962.18},{"$f":"368288.92-98399.23","v":269889.69},{"$f":"293960.04-116149.15","v":177810.88999999998},null,null,{"$f":"SUM(D17:I17)","v":999318.30999999994}]
[null,42,"New Upgrade Services",{"$f":"434480.23-102781","v":331699.23},458413.94,{"$f":"294836.37-98399.23","v":196437.14},{"$f":"200883.31-116149.14","v":84734.17},null,null,1071284.48]
[null,43,"Line Relocation due to Municipal Requirements < Materiality",472209.17,295727.13,236974.89,355571.98,{"$f":"539910.42","v":539910.42000000004},{"$f":"500000","v":500000},2400393.59]
[null,42,"Demand based system reinforcements for new commercial services",435392.89,573711.89,711788.16,1011492.6,{"$f":"1410778","v":1410778},{"$f":"1007500","v":1007500},5150663.54]
[null,55,"Niagara Parks Commission",null,null,null,null,null,818904.74,818904.74]
["2013-0100",38,"City of Niagara Falls Kalar @ Rideau",null,null,null,169530.46,null,null,169530.46]
["2010-0016",39,"Dorchester NS&T to Morrison",180975.96,null,null,null,null,null,180975.96]
["2011-0072",40,"Drummond & Lundy's Lane Conflicts",null,null,267122.71999999997,null,null,null,267122.71999999997]
["2010-0009",41,"Kalar to Catalina relocation",164362.04,483044.21,null,null,null,null,647406.25]
["2010-0053",null,"Oakwood Drive relocation",159399.46,null,null,null,null,null,159399.46]
["2010-0026",49,"South Pelham Street",816593.01,null,null,null,null,null,816593.01]
[null,null,"Capital contributions",-1160428.1599999999,{"$f":"-1571525.77","v":-1571525.77},{"$f":"-1472887.49","v":-1472887.49},{"$f":"-991373.48","v":-991373.48},-900000,{"$f":"-200000-125000-450000-52800","v":-827800},-6924014.9000000004]
[]
[null,null,"Sub-Total System Access",{"$f":"SUM(D16:D28)","v":2244499.0099999998},919628.64999999991,727734.43999999971,1510979.04,1450688.65,2085609.04,8939138.8300000019]
[null,null,"Miscellaneous System Access",{"$f":"32236.83-177853.89+11250+4485.47+7986.27+5092.5+229185.98+88870+111881","v":313134.16000000003},{"$f":"322928.09-491150.48+122832+20022+50903-2843","v":22691.610000000044},{"$f":"-148691.91-37901.7+218252.84+25000+175423+4308+121434","v":357824.23},{"$f":"16679+244986.5+224787","v":486452.5},{"$f":"150000+130000","v":280000},{"$f":"150000+193500","v":343500},{"$f":"SUM(D31:I31)","v":1803602.5}]
[null,null,"Total System Access",{"$f":"D30+D31","v":2557633.17},{"$f":"E30+E31","v":942320.26},1085558.6699999997,1997431.54,1730688.65,2429109.04,10742741.330000002]
[null,null,"System Renewal"]
[null,null,"MS/DS Rehabilitations"]
["2010-0025",4,"Pelham MS",226046.26,null,null,null,null,null,{"$f":"SUM(D35:I35)","v":226046.26}]
["2010-0017",10,"Campden DS Feeder Egress",207207.88,null,null,null,null,null,207207.88]
["2011-0017",12,"Campden DS Oil Containment ",null,214586.15,null,null,null,null,214586.15]
["2011-0013",5,"Smithville",null,361958.94,274090.44,null,null,null,636049.38]
["2011-0022 2012-0009",6,"Station Street",null,41710.639999999999,137208.57,100331.17,null,null,279250.38]
[null,7,"Station #22 North of Pew",null,null,null,null,null,507139.32,507139.32]
[null,8,"Station #22 South of Pew",null,null,null,null,null,143724.04,143724.04]
["2012-0012",6,"Greenlane",null,null,275300.02,197505.22,null,null,472805.24]
["2013-0017",9,"Station #8",null,null,null,191113.31,252037.12,null,443150.43]
["2011-0011",11,"4 Sectionalizing West Area",null,156717.65,null,null,null,null,156717.65]
["2011-0004",13,"Lundy's Lane Pole Line -Montrose",null,156212.96,null,null,null,null,156212.96]
["2011-0007",14,"Murray/Culp/Dunn/Main Rebuilds",null,395970.04,null,null,null,null,395970.04]
["2011-0005 & 2012-0005",15,"Riall St Rebuild",null,143115.85999999999,357947.94,null,null,null,501063.8]
["2012-0002",16,"Lundy's Lane/Ker St UG replacement",null,null,356579.94,null,null,null,356579.94]
["2012-0001",17,"Montrose Kinsmen to Lundys",null,null,608127.98,null,null,null,608127.98]
["2012-0007",18,"Murray/Dixon Rebuild",null,null,633980.72,null,null,null,633980.72]
["2012-0014 & 2013-0014",19,"Victoria Ave Voltage Conversion",null,null,173041.55,170304.78,null,null,343346.32999999996]
["2013-0005",1,"12-M-6 Replacement",null,null,null,538747.4,372631.07,null,911378.47]
["2013-0011",2,"Dorchester-Garden St to McMillan",null,null,null,198807,362017.57,null,560824.57000000007]
["2013-0008",3,"High Street - Dorchester Stn 10 O/H",null,null,null,633879.86,null,null,633879.86]
["2013-0007",20,"Murray/Culp  ",null,null,null,712699.58,null,null,712699.58]
["2013-0021",21,"OH to UG Beacon Inn Jordan",null,null,null,259593,null,null,259593]
["2013-0003",22,"UG Primary Weightman Bridge",null,null,null,113001.21,701809.61,null,814810.82]
["2014-0009",23,"3-M-28, 3-M-26, 3-M-29",null,null,null,null,417730.73,null,417730.73]
["2014-0001",24,"Crawford Street Rebuild",null,null,null,null,516556.59,282323.71000000002,798880.3]
[null,56,"Frederica Street Rebuild",null,null,null,null,null,676144.06,676144.06]
["2014-0004",25,"Fallsview Blvd -Ferry/Robinson",null,null,null,null,{"$f":"332173.25","v":332173.25},null,332173.25]
["2014-0015",26,"Jordan Rd-Red Maple to QEW",null,null,null,null,397516.11,null,397516.11]
[null,26,"Jordan Phase II",null,null,null,null,null,{"$f":"449324.38","v":449324.38},449324.38]
["2014-1006",27,"Wholesale Meter Replacement",null,null,null,null,300000,null,300000]
["2014-0008",28,"OH to UG Rolling Acres Phase I",null,null,null,null,768694,570500.09,1339194.0899999999]
["2014-0007",29,"OH line rebuilds - 6 streets",null,null,null,null,516512.63,null,516512.63]
["1007 & 2007",30,"System Sustainment/Minor Betterments",1008971.37,451574.56,525207.46,670726.79,400000,680000,3736480.1799999997]
["1010 & 2010",31,"Replace poles identified with limited structural integrity",788664.24,826301.78,862337.68,859297.52,778701.57,431729.48,4547032.2699999996]
["0020's",32,"Replacement of Submersibles & Kiosks with EFD switches and posi-tects",501362.39,508036.18,705374.02,643270.37,624456.68999999994,647028.76,3629528.41]
["2013-2011",33,"Replacement of Transformers with >50PPM PCB Content",null,null,null,125175.21,566478.91,495104.13,1186758.25]
[null,57,"NWTC Metering",null,null,null,null,null,289604.56,289604.56]
[null,60,"Willodell Rebuild",null,null,null,null,null,310710.49,310710.49]
[null,59,"Willoughby Dr. Extension",null,null,null,null,null,383293.15,383293.15]
[null,58,"Willoughby Drive",null,null,null,null,null,372190.81,372190.81]
[null,null,"Sub-Total System Renewal",{"$f":"SUM(D35:D74)","v":2732252.14},3256184.7600000002,4909196.32,5414452.4199999999,7307315.8499999996,6238816.9799999995,29858218.469999995]
[null,null,"Miscellaneous System Renewal",{"$f":"4677.75+87741.53+14390.52+6938.26+3508.54+2085+2045.71-182765.53+2500+95894","v":37015.78},{"$f":"28428.45+32228.6+9129.82+14930.02+66895.21+132161.13+7690.9+2269.12+34006.58+20279.83+27843.05+390950.71+130765+8132","v":905710.42},{"$f":"2803.44-5689.27-3065.76+71079.34+106395.16+97938.48+4636.39+725.36+4491.45+5074.66+1218.44+130+103999.36-149322.27","v":240414.78},{"$f":"60517.38+3086.17+2124.78+72125.82-10946.55-86.85+85282.1+9398.97+221903.8-357147.58+124077.85+171585.42+110653.27","v":492574.58},null,{"$f":"144237.09","v":144237.09},{"$f":"SUM(D76:I76)","v":1819952.6500000001}]
[null,null,"Total System Renewal",{"$f":"D75+D76","v":2769267.92},{"$f":"E75+E76","v":4161895.18},5149611.1000000006,5907027,7307315.8499999996,6383054.0699999994,31678171.119999994]
[null,null,"System Service"]
[null,null,"Smart meters",4175009.94,null,null,27128,1903089,null,{"$f":"SUM(D79:I79)","v":6105226.9399999995}]
[null,null,"MIST Meters",null,null,null,null,null,143150,{"$f":"SUM(D80:I80)","v":143150}]
["0006's",34,"Switchgear replacement program",461326.56,191369.75,313736.96000000002,264912.52,110057,250002,{"$f":"SUM(D81:I81)","v":1591404.79}]
["2010-0024",35,"Cherry Avenue",179386.08,null,null,null,null,null,179386.08]
["2010-0023",36,"Durham Voltage Conversion",364430.29,null,null,null,null,null,364430.29]
["2010-0002",37,"High Street Area",{"$f":"255782.48","v":255782.48},null,null,null,null,null,255782.48]
["2010-0008",47,"Oakwood Drive",198387.02,null,null,null,null,null,198387.02]
["2011-0003",50,"KM2 & KM6 Montrose-McLeod",null,347760.15,null,null,null,null,347760.15]
["2012-0003",51,"Kalar MTS K-M-1",null,null,169040.51,null,null,null,169040.51]
["2014-0018",53,"King Street 27.6 kV",null,null,null,null,112554.47,114459.97,227014.44]
["2010-0007",54,"Robinson St Primary Extension",306868.52,733071.71,null,null,null,null,1039940.23]
[null,62,"Culp St-Drummond to Main",211701.35]
[null,48,"Kalar Extend NS&T ROW-Beaverdams",null,385308.2,383130.19,null,null,null,768438.39]
[null,null,"Mobile Substation",null,214554.91,null,null,null,null,214554.91]
[null,null,"Wi-Max Project",null,null,332339,348369.69,227500,215000,1123208.69]
[null,null,"Sub-Total System Service",{"$f":"SUM(D79:D93)","v":6152892.2400000002},1872064.7199999997,1198246.6600000001,640410.21,2353200.4700000002,722611.97,12939426.270000003]
[null,null,"Miscellaneous",{"$f":"-432.02+627.86+2881.55+60831.36+30710.94+20244.19+13905.7+77171.15+52267.27+3561.64+50690","v":312459.64},{"$f":"28216.25+11725.58+50876.35+3500.4","v":94318.579999999987},{"$f":"100929.02+9301.28+12365+1228.59-4665.6+46879.07+5793.9+32452.67+10844.16+5448.48+4959.95","v":225536.52000000002},{"$f":"60256.75+10100+19430.39+24636.44+54399.98+1420.14+36617.73","v":206861.43000000002},{"$f":"100000+30000","v":130000},{"$f":"30000+100000+73000","v":203000},1172176.17]
[null,null,"Total System Service",{"$f":"SUM(D94:D95)","v":6465351.8799999999},1966383.2999999998,1423783.1800000002,847271.64,2483200.4700000002,925611.97,14111602.440000001]
[null,null,"General Plant"]
[null,null,"Building",67187.63,121779.16,631111.34,1912394.51,1500485,44000,4276957.6400000006]
[null,null,"Computer Hardware",257959.65,247812.44,370710.03,274902.73,297040,240248,1688672.85]
[null,null,"Computer Software",250022.44,193505.26,213430.66,114741.93,498710,368740,1639150.29]
[null,null,"Vehicles",869037.34,541643.32999999996,1160648.67,1329695.6100000001,672000,698877.94,5271902.8900000006]
[null,null,"General Equipment",176811.27,175155.88,244850.5,265584.90999999997,299000,95626.51,1257029.07]
[null,null,"Sub-Total General Plant",{"$f":"SUM(D98:D102)","v":1621018.33},1279896.0699999998,2620751.2000000002,3897319.6900000004,3267235,1447492.45,14133712.739999998]
[null,null,"Miscellaneous-General Plant",0,0,0,0,0,0,0]
[null,null,"Total General Plant",{"$f":"D103+D104","v":1621018.33},{"$f":"E103+E104","v":1279896.0699999998},2620751.2000000002,3897319.6900000004,3267235,1447492.45,14133712.739999998]
[null,null,"Less Renewable Generation Facility Assets and Other Non Rate-Regulated Utility Assets (input as negative)",null,0,0,0,0,0,0]
[null,null,"Total",{"$f":"D32+D77+D96+D105","v":13413271.299999999},8350494.8100000005,10279704.150000002,12649049.870000001,14788439.970000001,11185267.529999999,70666227.629999995]
[]
[]
[]
[null,null,"Notes:"]
[]
[null,null,"1   Please provide a breakdown of the major components of each capital project undertaken in each year.  Please ensure that all projects below the materiality threshold are included in the miscellaneous line.  Add more projects as required."]
[null,null,"2   The applicant should group projects appropriately and avoid presentations that result in classification of significant components of the capital budget in the miscellaneous category."]

{"sheet":"App.2-AB_Capital Expenditures","index":5,"n_rows":35,"n_cols":21,"rows_kept":35,"cut":false,"hidden":false,"merged":[[13,18,14,18],[13,19,14,19],[13,20,14,20],[13,7,13,9],[13,10,13,12],[13,13,13,15],[13,16,14,16],[13,17,14,17],[15,16,15,20],[8,0,8,7],[9,0,9,7],[35,0,36,13],[32,0,33,13],[29,0,30,13],[12,0,15,0],[12,1,12,15],[15,1,15,2],[15,4,15,5],[15,7,15,8],[15,10,15,11],[15,13,15,14],[12,16,12,20],[13,1,13,3],[13,4,13,6]]}
[null,null,null,null,null,null,null,null,null,null,null,null,null,null,null,null,null,null,"File Number:",null,{"$f":"EBNUMBER","v":"EB-2014-0096"}]
[null,null,null,null,null,null,null,null,null,null,null,null,null,null,null,null,null,null,"Exhibit:",null,2]
[null,null,null,null,null,null,null,null,null,null,null,null,null,null,null,null,null,null,"Tab:",null,2]
[null,null,null,null,null,null,null,null,null,null,null,null,null,null,null,null,null,null,"Schedule:",null,1]
[null,null,null,null,null,null,null,null,null,null,null,null,null,null,null,null,null,null,"Attachment:",null,2]
[]
[null,null,null,null,null,null,null,null,null,null,null,null,null,null,null,null,null,null,"Date:",null,"2014-08-29"]
[]
["Appendix 2-AB"]
["Table 2 - Capital Expenditure Summary from Chapter 5 Consolidated\nDistribution System Plan Filing Requirements"]
[]
["First year of Forecast Period:",{"$f":"TestYear","v":2015}]
["CATEGORY","Historical Period (previous plan1 & actual)",null,null,null,null,null,null,null,null,null,null,null,null,null,null,"Forecast Period (planned)"]
[null,2010,null,null,2011,null,null,2012,null,null,2013,null,null,"2014 Bridge Year",null,null,"2015 Test Year",2016,2017,2018,2019]
[null,"Plan","Actual","Var","Plan","Actual","Var","Plan","Actual","Var","Plan","Actual","Var","Plan","Actual2","Var"]
[null,"$ '000",null,"%","$ '000",null,"%","$ '000",null,"%","$ '000",null,"%","$ '000",null,"%","$ '000"]
["System Access",{"$f":"(1930290+200000)/1000","v":2130.29},2557.6334429507251,{"$f":"IF(ISERROR((C17-B17)/B17),\"--\",(C17-B17)/B17)","v":0.20060341218835237},{"$f":"(185185+2014251)/1000","v":2199.4360000000001},942.3211187174021,{"$f":"IF(ISERROR((F17-E17)/E17),\"--\",(F17-E17)/E17)","v":-0.57156238293935269},{"$f":"1630000/1000","v":1630},1085.5589853784268,{"$f":"IF(ISERROR((I17-H17)/H17),\"--\",(I17-H17)/H17)","v":-0.33401289240587317},{"$f":"2030846/1000","v":2030.846},1997.4311806332059,{"$f":"IF(ISERROR((L17-K17)/K17),\"--\",(L17-K17)/K17)","v":-1.6453645114791599E-2},1731,1730.6886499999998,{"$f":"IF(ISERROR((O17-N17)/N17),\"--\",(O17-N17)/N17)","v":-1.7986712882736856E-4},2429.1090439999998,2249.0347199999997,1820.76352,1933.3718900000001,1663.0043000000001]
["System Renewal",{"$f":"(2797562+200000)/1000","v":2997.5619999999999},2769.2680183810999,-7.6159886474041247E-2,{"$f":"(4305452+462963)/1000","v":4768.415},4161.8955746123638,-0.12719518443500327,{"$f":"(5509570+2360000)/1000","v":7869.57},5149.6111031282926,-0.34562992601523429,{"$f":"5838329.47/1000","v":5838.3294699999997},5907.0270895130307,1.1766656860670624E-2,7307,7307.3158500000009,4.3225674011340413E-5,6383.0540785679996,4161.4590399999997,5889.4212099999995,7301.0688399999999,7223.4278199999999]
["System Service",{"$f":"(3216215+3483000)/1000","v":6699.2150000000001},6465.3518676681751,-3.4909035212606999E-2,{"$f":"(1012025+500000)/1000","v":1512.0250000000001},1966.3832966702346,0.30049655043417567,{"$f":"(901982+346000+1114300)/1000","v":2362.2820000000002},1423.7831714932804,-0.39728484088974969,{"$f":"(200000+900000)/1000","v":1100},847.27203985376445,-0.2297526910420323,{"$f":"2483-1903","v":580},2483.2004700000002,3.2813801206896556,925.61197191249994,3760.4188099999997,2448.7089299999998,768.75199999999995,1330.49044]
["General Plant",{"$f":"200+1620","v":1820},1621.0183300000003,-0.10933058791208773,{"$f":"1123","v":1123},1279.89607,0.13971154942119324,{"$f":"(2631000+484000-346000)/1000","v":2769},2620.7511999999992,-5.3538750451426781E-2,{"$f":"(25+1865+1570+2768-200)","v":6028},3897.3196899999998,-0.35346388686131391,{"$f":"1303+198+1994-228","v":3267},3267.2350000000001,7.1931435567838185E-5,1447.4929219824,1434.2437999999997,1352.3128439999998,1204.1021341920002,1311.04583172]
["TOTAL EXPENDITURE",{"$f":"SUM(B17:B20)","v":13647.066999999999},{"$f":"SUM(C17:C20)","v":13413.271659},-1.7131544895324331E-2,9602.8760000000002,8350.4960600000013,-0.13041717293860702,14630.851999999999,10279.704459999999,-0.29739536289479246,14997.17547,12649.050000000001,-0.15657118066646178,12885,14788.439970000001,0.14772525960419103,11185.2680164629,11605.156369999999,11511.206503999998,11207.294864192001,{"$f":"SUM(U17:U20)","v":11527.968391719998}]
["System O&M",{"$f":"5730662/1000","v":5730.6620000000003},{"$f":"5690750/1000","v":5690.75},-6.9646403853516857E-3,{"$f":"6142107/1000","v":6142.107},{"$f":"6281768/1000","v":6281.768},2.2738288343071858E-2,{"$f":"6763586/1000","v":6763.5860000000002},{"$f":"6708104/1000","v":6708.1040000000003},-8.2030449527809614E-3,{"$f":"6880362/1000","v":6880.3620000000001},{"$f":"6280725/1000","v":6280.7250000000004},-8.7151955086084087E-2,{"$f":"6636344/1000","v":6636.3440000000001},{"$f":"N22","v":6636.3440000000001},0,{"$f":"6846074/1000","v":6846.0739999999996},{"$f":"Q22*1.02","v":6982.9954799999996},{"$f":"R22*1.02","v":7122.6553895999996},{"$f":"S22*1.02","v":7265.1084973919997},{"$f":"T22*1.02","v":7410.4106673398401}]
[]
["Notes to the Table:"]
["1.  Historical “previous plan” data is not required unless a plan has previously been filed"]
["2.  Indicate the number of months of 'actual' data included in the last year of the Historical Period (normally a 'bridge' year):",null,null,null,null,null,null,null,"2014 Actual = the Plan at time of filing",null,null,null,null,12]
[]
["Explanatory Notes on Variances (complete only if applicable)"]
["Notes on shifts in forecast vs. historical budgets by category"]
[]
[]
["Notes on year over year Plan vs. Actual variances for Total Expenditures"]
[]
[]
["Notes on Plan vs. Actual variance trends for individual expenditure categories"]

{"sheet":"App. 2-AC_Customer Engagement","index":6,"n_rows":45,"n_cols":3,"rows_kept":45,"cut":false,"hidden":false,"merged":[[9,0,9,2],[8,0,8,2]]}
[null,"File Number:",{"$f":"EBNUMBER","v":"EB-2014-0096"}]
[null,"Exhibit:",1]
[null,"Tab:",3]
[null,"Schedule:",1]
[null,"Page:",1]
[]
[null,"Date:","2014-08-29"]
[]
["Appendix 2-AC"]
["Customer Engagement Activities Summary"]
[]
["Provide a list of customer engagement activities","Provide a list of customer needs and preferences identified through each engagement activity","Actions taken to respond to identified needs and preferences.  If no action was taken, explain why."]
["1. Definition and Schedule of Customer Engagement Plan","Identification that in order to document and respond to customer needs and preferences, plan needed to be in place.  Within the plan, define principles of customer engagement,  the documentation and process to be followed to track customer needs and preferences.  Schedule quarterly meetings.  Follow through on lessons learned.","Take an integrated approach to customer engagement:  efficient engegement, investigate DS, smart grid, renewables, CDM.  Coordinated, effective planning and plan. Created a standard consultation form to document the purpose of each consultation activity, whether the distributor initiated the consultation activity or was invited to participate in it, the nature and prospective tming of the final deliverables.  Documentation of meeting minutes, survey result tables, interview notes.  Plan to complete quarterly review meetings and Year End report of progress of customer engagement.  Created a solid basis for monitoring and tracking."]
[]
["2. Identify customer needs, preferences, priorities:  use of data analytics from customer surveys, customer call activity, outages.  Take a long term perspective by applying principles of customer engagement over a 5 year period of distribution system plan.","Customer needs and preferences identified:  utility response time, communication and education to customers on how to save on their monthly bill.  Integration of customer needs/preferences/priorities in DS planning and plan.","Bi-annual survey completed; incorporate changes to customer service reporting, call scripts.  Call trending and reporting of customer inquiries, complaints and feedback, review of customer inquiries including response time. Post outage review of data.  Document information to customers on outages and first response. Communicate to customers on capital improvement projects and construction work.  As DS planning progresses, NPEI will identify any new issue emerging from customer comment that may necessitate customer input. NPEI will increase in perception that customers feel that they are being consulted and their views are being addressed."]
[]
["3. Facilitate customer access to energy consumption data and behind the meter services.","Make options available to facilitate customer access to consumption data in an electronic format.  Provide customers with ability to make decisions affecting electricity costs.  Educate customers on energy bills and price.","NPEI has a web portal, My Account, which it provides access to its customers to their energy data in electronic format, as well as, their electronic bills.  NPEI has tracked customers feedback on the portal and has upgraded the My Account platform as a result of feedback.  NPEI is in progress of adding more self service options for the customer including new account process, update of account information, application of payment plans.  NPEI will highlight any improvements made year to year within the Annual Customer Engagement Year End report."]
[]
["4. Consult with the Ontario Power Authority, with the regionally interconnected distributors and with the transmittor.","Participation in any regional planning process.  Integrate final consultation on any potentional regional planning processes that will impact NPEI in their Distribution System Plan.","NPEI will obtain letter from OPA and from Hydro One that no region process is currently under way.  NPEI did learn that as a utility we are in OPA group 3, meaning that there are no regional investments impacting our area within the next 5 years.  NPEI will document information to customer on REG opportunities, modalities and connection."]
[]
["5. Conservation program access and Site Visits","Access to conservation programs for all accounts, understand from customers what is needed and wanted from conservation programs","NPEI completed data collection and consultation to determine key market characters within service area.  NPEI completed market character interviews and site visits.  NPEI will integrate tracking consultation topics into CDM engagement activities."]
["6. Educate and inform customers","Deliver OPA contracted province-wide conservation and demand management programs","One on one customer meetings, group events, community events.  Applicant representatives for business to assist with application process for conservation programs."]
["7. Customer Consultations","CDM market characterization.  Customer interviews and site visits","Identify market segments to achieve kWh savings.  Customer preferences needs and priorities related to CDM and other DSP matters from greenhouses, hotel/motel sectors"]
["8. Service territory stakeholder consultations","CDM market characterization.  Customer interviews and site visits","Particular market actors ie. assist with identifying and implementing strategies for conservation energy demand savings for customers"]
[]
[]
[]
[]
[]
[]
[]
[]
[]
[]
[]
[]
[]
[]
[]
[]
[]
[]
[]
[]
["Note:  Use \"ALT-ENTER\" to go to the next line within a cell"]

{"sheet":"App.2-B_Acct Instructions","index":7,"n_rows":66,"n_cols":6,"rows_kept":66,"cut":false,"hidden":false,"merged":[[110,0,110,10],[110,11,110,18],[111,0,111,10],[111,11,111,18],[112,0,112,10],[112,11,112,18],[107,0,107,10],[107,11,107,18],[108,0,108,10],[108,11,108,18],[109,0,109,10],[109,11,109,18],[116,0,116,10],[116,11,116,18],[117,0,117,10],[117,11,117,18],[118,0,118,10],[118,11,118,18],[113,0,113,10],[113,11,113,18],[114,0,114,10],[114,11,114,18],[115,0,115,10],[115,11,115,18],[125,0,125,10],[125,11,125,18],[122,0,122,10],[122,11,122,18],[123,0,123,10],[123,11,123,18],[124,0,124,10],[124,11,124,18],[119,0,119,10],[119,11,119,18],[120,0,120,10],[120,11,120,18],[121,0,121,10],[121,11,121,18],[104,0,104,10],[104,11,104,18],[105,0,105,10],[105,11,105,18],[106,0,106,10],[106,11,106,18],[101,0,101,10],[101,11,101,18],[102,0,102,10],[102,11,102,18],[103,0,103,10],[103,11,103,18],[98,0,98,10],[98,11,98,18],[99,0,99,10],[99,11,99,18],[100,0,100,10],[100,11,100,18],[95,0,95,10],[95,11,95,18],[96,0,96,10],[96,11,96,18],[97,0,97,10],[97,11,97,18],[92,11,92,18],[93,0,93,10],[93,11,93,18],[94,0,94,10],[94,11,94,18],[90,11,90,18],[91,0,91,10],[91,11,91,18],[88,0,88,10],[88,11,88,18],[90,0,90,10],[81,11,81,18],[89,0,89,10],[89,11,89,18],[87,0,87,10],[87,11,87,18],[85,0,85,10],[85,11,85,18],[86,0,86,10],[86,11,86,18],[72,0,72,10],[72,11,72,18],[73,0,73,10],[73,11,73,18],[82,0,82,10],[82,11,82,18],[83,0,83,10],[83,11,83,18],[84,0,84,10],[74,11,74,18],[74,0,74,10],[75,11,75,18],[76,0,76,10],[76,11,76,18],[77,0,77,10],[77,11,77,18],[78,0,78,10],[78,11,78,18],[84,11,84,18],[79,0,79,10],[79,11,79,18],[80,0,80,10],[80,11,80,18],[81,0,81,10],[57,0,57,13],[59,0,59,13],[0,0,0,10],[1,0,1,10],[65,0,67,10],[5,0,5,10],[10,0,14,0],[9,4,9,5],[16,0,18,10],[19,0,21,10],[24,0,24,18],[33,0,35,10],[33,11,35,18],[41,0,43,10],[41,11,43,18],[27,0,29,10],[52,0,52,13],[55,0,55,18]]}
["General Instructions to MIFRS Appendices"]
["Types of Schedules to File"]
[]
["The purpose of this tab is to provide general instructions.  The specific instructions to each appendix are listed in footnotes of each appendix."]
[]
["The typical applicant is expected to have made capitalization and depreciation policy changes under CGAAP as permitted by the Board on January 1, 2012 or mandated by the Board by January 1, 2013, and adopts IFRS for reporting purposes on January 1, 2015 (transition date January 1, 2014).  In general, applicants under the two scenarios should provide the following information in the appendices:"]
[]
[]
[null,null,null,null,"Accounting Policy Changes in 2012 and Adopts IFRS in 2015","Accounting Policy Changes in 2013 and Adopts IFRS in 2015"]
[null,null,null,null,"(Date of Transition to IFRS 2014)"]
["Information to be filed in 2015 CoS Application",2015,"Test",null,"MIFRS","MIFRS"]
[null,2014,"Bridge",null," MIFRS and Revised CGAAP*"," MIFRS and Revised CGAAP*"]
[null,2013,"Historical",null,"Revised CGAAP","CGAAP and Revised CGAAP"]
[null,2012,"Historical",null,"CGAAP and Revised CGAAP","CGAAP"]
[null,"2011 and Prior","Historical",null,"CGAAP","CGAAP"]
[]
["1) For the year that the applicant implemented changes to its capitalization and depreciation policies (2012 or 2013), the applicant must file two appendices, one before and one after the policy changes."]
[]
[]
["2)  For the transition year (2014), the applicant may file two appendices, one under Revised CGAAP and one under MIFRS depending, on the materiality of impacts.  See the specific instructions under each appendix below for further details."]
[]
[]
[]
[]
["Appendix 2-BA - Fixed Asset Schedule "]
[]
["Applicants are to provide Appendix 2-BA in accordance with the years and corresponding accounting standards noted in the above table to provide a year over year continuity in fixed assets."]
["*For the transition year (2014), the applicant should file two appendices, one under Revised CGAAP and one under MIFRS if the change between Revised CGAAP and MIFRS is material.  If the change from the accounting standards is not material, the applicant may choose to only provide one appendix under MIFRS.  The applicant must also indicate the fixed asset net book value balance under Revised CGAAP, the total dollar value of the change and explain why it is not material."]
[]
[]
[]
["Regulatory Gross Assets of Property, Plant and Equipment"]
[]
["For an applicant that is adopting IFRS on January 1, 2015 for financial reporting purposes, the applicant must establish the continuity of historic cost by using the December 31, 2013 regulatory gross assets of property, plant and equipment as the opening January 1, 2014 regulatory gross assets.  The applicant must provide schedules (including Appendix 2-BA, Fixed Asset Continuity Schedule) which must identify the following details to substantiate the continuity of historic cost for regulatory purposes: "]
[]
[]
["·         December 31, 2013 regulatory gross assets of property, plant and equipment, by asset class; and"]
["·         January 1, 2014 regulatory gross assets of property, plant and equipment, by asset class."]
[]
["Accumulated Depreciation"]
[]
["For an applicant that is adopting IFRS on January 1, 2015 for financial reporting purposes, the applicant must establish the continuity of historic cost by using the December 31, 2013 regulatory accumulated depreciation as the opening January 1, 2014 regulatory accumulated depreciation.  The applicant must provide schedules (including Appendix 2-BA, Fixed Asset Continuity Schedule) which must identify the following details to substantiate the continuity of historic cost for regulatory purposes: "]
[]
[]
["·         December 31, 2013 regulatory accumulated depreciation, by asset class; and"]
["·         January 1, 2014 regulatory accumulated depreciation, by asset class."]
[]
["Appendix 2-C - Depreciation and Amortization "]
[]
["Applicants are to provide Appendix 2-C starting in the year capitalization and depreciation policy changes were implemented in accordance with the years and corresponding accounting standards listed in the above table.  "]
["If an applicant changed capitalization and depreciation policies effective January 1, 2012 and will adopt IFRS for reporting purposes effective January 1, 2015, the applicant must complete Appendix 2-CA to 2-CE (inclusive)."]
["If an applicant changed capitalization and depreciation policies effective January 1, 2013 and will adopt IFRS for reporting purposes effective January 1, 2015, the applicant must complete Appendix 2-CF to 2-CI (inclusive)."]
["*Depreciation accounting policy changes were mandated by the Board by January 1, 2013.  These accounting changes should be implemented consistent with the Board’s regulatory accounting policies as set out for MIFRS as contained in the Report of the Board, Transition to International Financial Reporting Standards (EB-2008-0408), the Depreciation Study for Use by Electricity Distributors (EB-2010-0178) and the Revised 2012 Accounting Procedures Handbook for Electricity Distributors.  In general, no further changes to an applicant's depreciation policy (i.e.  assets' service lives) are expected after the Board mandated changes by January 1, 2013.  The set of Appendix CA to CI assumes this to be the case.  If the applicant has made any changes to its depreciation policy subsequent to the Board mandated changes,  applicants must identify the change, explain the nature of the change, the reason for the change, quantify the impact of the change, and quantify the depreciation expense before and after the change."]
[]
[]
["Appendix 2-E - Account 1575, IFRS-CGAAP Transitional PP&E Amounts (2-EA), Account 1576, Accounting Changes Under CGAAP (2-EB, 2-EC)"]
[]
["If an applicant changed capitalization and depreciation policies effective January 1, 2012 and will adopt IFRS for reporting purposes effective January 1, 2015, the applicant must complete Appendix 2-EA and 2-EB.  If the applicant does not make any further PP&E accounting policy changes beyond the capitalization and depreciation policy changes as permitted by the Board on January 1, 2012 (i.e. no further changes made on transition to IFRS), the applicant must indicate this and does not need to complete Appendix 2-EA."]
[]
["If an applicant changed capitalization and depreciation policies effective January 1, 2013 and will adopt IFRS for reporting purposes effective January 1, 2015, the applicant must complete Appendix 2-EA  and 2-EC.   If the applicant does not make any further PP&E accounting policy changes beyond the capitalization and depreciation policy changes as mandated by the Board by January 1, 2013 (i.e. no further changes made on transition to IFRS), the applicant must indicate this and does not need to complete Appendix 2-EA."]
[]
["Please refer to section 2.12.4 and 2.12.5 of the Filing Requirements for further details."]
[]
["Appendix 2-YA - Summary of Impacts to Revenue Requirement from Transition to MIFRS"]
[]
["For  applicants adopting MIFRS, the applicants must provide a summary of the dollar impacts of  MIFRS to each component of the revenue requirement (e.g. rate base, operating costs, etc), including the overall impact on the proposed revenue requirement.  Accordingly, the applicants must identify financial differences and resulting revenue requirement impacts arising from the adoption of  MIFRS  as compared to CGAAP prior to capitalization and depreciation policy changes.  "]

{"sheet":"App.2-BA_Fixed Asset Cont 2011","index":8,"n_rows":87,"n_cols":13,"rows_kept":87,"cut":false,"hidden":false,"merged":[[86,1,87,12],[77,1,78,12],[80,1,80,12],[8,0,8,12],[9,0,9,12],[14,3,14,6],[64,2,64,8],[65,2,65,8],[74,1,75,12]]}
[null,null,null,null,null,null,null,null,null,null,null,"File Number:",{"$f":"EBNUMBER","v":"EB-2014-0096"}]
[null,null,null,null,null,null,null,null,null,null,null,"Exhibit:",2]
[null,null,null,null,null,null,null,null,null,null,null,"Tab:",1]
[null,null,null,null,null,null,null,null,null,null,null,"Schedule:",1]
[null,null,null,null,null,null,null,null,null,null,null,"Page:",1]
[]
[null,null,null,null,null,null,null,null,null,null,null,"Date:","2014-08-29"]
[]
["Appendix 2-BA"]
["Fixed Asset Continuity Schedule "]
[]
[null,null,null,null,"Accounting Standard","CGAAP"]
[null,null,null,null,"Year ",2011]
[]
[null,null,null,"Cost",null,null,null,null,null,"Accumulated Depreciation"]
["CCA Class","OEB","Description","Opening Balance","Additions","Disposals","Closing Balance",null,"Opening Balance","Additions","Disposals","Closing Balance","Net Book Value"]
[12,1611,"Computer Software (Formally known as Account 1925)",2170029,247505,-54000.430000000168,{"$f":"D17+E17+F17","v":2363533.5699999998},null,-1945983.33,-104805,null,{"$f":"I17+J17+K17","v":-2050788.33},{"$f":"G17+L17","v":312745.23999999976}]
["CEC",1612,"Land Rights (Formally known as Account 1906)",null,null,null,{"$f":"D18+E18+F18","v":0},null,null,null,null,{"$f":"I18+J18+K18","v":0},{"$f":"G18+L18","v":0}]
["N/A",1805,"Land",507272.79000000004,null,null,507272.79000000004,null,0,null,null,0,507272.79000000004]
[47,1806,"Land Rights  ",1598170.68,null,null,1598170.68,null,-690185.22,-56850,null,-747035.22,851135.46]
[47,1808,"Buildings",111638.13,null,null,111638.13,null,-99967,-4111,null,-104078,7560.1300000000047]
[13,1810,"Leasehold Improvements",null,null,null,0,null,null,null,null,0,0]
[47,1815,"Transformer Station Equipment >50 kV",6602000.5700000003,null,null,6602000.5700000003,null,-903106.42,-146009,null,-1049115.42,5552885.1500000004]
[47,1820,"Distribution Station Equipment <50 kV",4984095.82,799780,null,5783875.8200000003,null,-2945129.43,-158386,null,-3103515.43,2680360.39]
[47,1825,"Storage Battery Equipment",null,null,null,0,null,null,null,null,0,0]
[47,1830,"Poles, Towers & Fixtures",30625638.52,1760405,-0.34999999776482582,32386043.170000002,null,-16981049.440000001,-886143.07,0,-17867192.510000002,14518850.66]
[47,1835,"Overhead Conductors & Devices",32902160,1721225.21,-0.2099999999627471,34623385,null,-14955471.460000001,-1228547.22,0,-16184018.680000002,18439366.32]
[47,1840,"Underground Conduit",11491536.449999999,470858,0.31000000052154064,11962394.76,null,-785673.15,-203335.98,0,-989009.13,10973385.629999999]
[47,1845,"Underground Conductors & Devices",56340588.450000003,2311906,0.39999999850988388,58652494.850000001,null,-33154618.91,-2365135.9,0,-35519754.810000002,23132740.039999999]
[47,1850,"Line Transformers",32027301.530000001,1064335,-209294.4299999997,32882342.100000001,null,-17051222.379999999,-1130746.6399999999,209293.67,-17972675.349999998,14909666.750000004]
[47,1855,"Services (Overhead & Underground)",3853918.48,338070,0.43999999994412065,4191988.92,null,-772447.05,-160915.64000000001,0,-933362.69000000006,3258626.23]
[47,1860,"Meters",2493234.48,177179.88,-92783.180000000284,2577631.1799999997,null,-1031411.54,-419378,173002,-1277787.54,1299843.6399999997]
[47,1860,"Meters (Smart Meters)",4175009.94,null,null,4175009.94,null,0,0,0,0,4175009.94]
[47,1865,"Other Installations on Customer's Premises",0,null,null,0,null,null,null,null,0,0]
[47,1875,"Street Lighting and Signal Systems",21835,null,null,21835,null,-4118.96,-840.7,null,-4959.66,16875.34]
["N/A",1905,"Land",508969.83,null,null,508969.83,null,null,null,null,0,508969.83]
[47,1908,"Buildings & Fixtures",12458371.49,121779,null,12580150.49,null,-2026855.26,-211195.42,null,-2238050.6800000002,10342099.810000001]
[13,1910,"Leasehold Improvements",120252.32,null,null,120252.32,null,-120252.32,0,null,-120252.32,0]
[8,1915,"Office Furniture & Equipment (10 years)",1142390.44,68799,null,1211189.44,null,-700466.23,-73244,null,-773710.23,437479.20999999996]
[8,1915,"Office Furniture & Equipment (5 years)",null,null,null,0,null,null,null,null,0,0]
[10,1920,"Computer Equipment - Hardware",1257769.3,null,null,1257769.3,null,-1257769.3,0,null,-1257769.3,0]
[45,1920,"Computer Equip.-Hardware(Post Mar. 22/04)",320323.46000000002,null,null,320323.46000000002,null,-315054.35600000003,null,null,-315054.35600000003,5269.1039999999921]
[50,1920,"Computer Equip.-Hardware(Post Mar. 19/07)",1304707.75,247812,null,1552519.75,null,-611848.46999999986,-232399,null,-844247.46999999986,708272.28000000014]
[10,1930,"Transportation Equipment",6353934.8600000003,541641,-451091.87999999989,6444483.9800000004,null,-4104213.54,-438086.93,434695,-4107605.4699999997,2336878.5100000007]
[8,1935,"Stores Equipment",226597.31,9817,null,236414.31,null,-186481,-4736,null,-191217,45197.31]
[8,1940,"Tools, Shop & Garage Equipment",1661082.55,77760,null,1738842.55,null,-1320132.07,-66152.649999999994,null,-1386284.72,352557.83000000007]
[8,1945,"Measurement & Testing Equipment",188846.33,15160,null,204006.33,null,-161506.95000000001,-17291.5,null,-178798.45,25207.879999999976]
[8,1950,"Power Operated Equipment",0,null,null,0,null,0,0,null,0,0]
[8,1955,"Communications Equipment",168596.33,1985,null,170581.33,null,-112449.43,-21204,null,-133653.43,36927.899999999994]
[8,1955,"Communication Equipment (Smart Meters)",null,null,null,0,null,null,null,null,0,0]
[8,1960,"Miscellaneous Equipment ",72951.31,null,null,72951.31,null,-53366.71,-6973,null,-60339.71,12611.599999999999]
[47,1970,"Load Management Controls Customer Premises",null,null,null,0,null,null,null,null,0,0]
[47,1975,"Load Management Controls Utility Premises",null,null,null,0,null,null,null,null,{"$f":"I53+J53+K53","v":0},0]
[47,1980,"System Supervisor Equipment",128960.64,null,null,128960.64,null,-128961,0,null,-128961,-0.36000000000058208]
[47,1985,"Miscellaneous Fixed Assets",null,null,null,0,null,null,null,null,0,0]
[47,1990,"Other Tangible Property",null,null,null,0,null,null,null,null,0,0]
[47,1995,"Contributions & Grants",-17481077.359999999,-1571526,null,-19052603.359999999,null,4023356.34,705961.88,null,4729318.22,-14323285.140000001]
[47,2440,"Deferred Revenue5",null,null,null,0,null,null,null,null,null,0]
[47,2005,"2005-Property Under Capital Leases",null,null,null,0]
[null,null,null,null,null,null,0,null,null,null,null,0,{"$f":"G60+L60","v":0}]
[null,null,"Sub-Total",{"$f":"SUM(D17:D60)","v":198337106.40000004},{"$f":"SUM(E17:E60)","v":8404491.0900000017},{"$f":"SUM(F17:F60)","v":-807169.32999999879},{"$f":"SUM(G17:G60)","v":205934428.16000003},null,{"$f":"SUM(I17:I60)","v":-98396384.585999995},{"$f":"SUM(J17:J60)","v":-7230524.7699999996},{"$f":"SUM(K17:K60)","v":816990.67},{"$f":"SUM(L17:L60)","v":-104809918.686},{"$f":"SUM(M17:M60)","v":101124509.47400001}]
[null,null,"Less Socialized Renewable Energy Generation Investments (input as negative)",null,null,null,{"$f":"D62+E62+F62","v":0},null,null,null,null,{"$f":"I62+J62+K62","v":0},{"$f":"G62+L62","v":0}]
[null,null,"Less Other Non Rate-Regulated Utility Assets (input as negative)",null,null,null,{"$f":"D63+E63+F63","v":0},null,null,null,null,{"$f":"I63+J63+K63","v":0},{"$f":"G63+L63","v":0}]
[null,null,"Total PP&E",{"$f":"SUM(D61:D63)","v":198337106.40000004},{"$f":"SUM(E61:E63)","v":8404491.0900000017},{"$f":"SUM(F61:F63)","v":-807169.32999999879},{"$f":"SUM(G61:G63)","v":205934428.16000003},null,{"$f":"SUM(I61:I63)","v":-98396384.585999995},{"$f":"SUM(J61:J63)","v":-7230524.7699999996},{"$f":"SUM(K61:K63)","v":816990.67},{"$f":"SUM(L61:L63)","v":-104809918.686},{"$f":"SUM(M61:M63)","v":101124509.47400001}]
[null,null,"Depreciation Expense adj. from gain or loss on the retirement of assets (pool of like assets), if applicable6"]
[null,null,"Total",null,null,null,null,null,null,{"$f":"J64+J65","v":-7230524.7699999996}]
[]
[null,null,null,null,null,null,null,null,"Less: Fully Allocated Depreciation"]
[10,null,"Transportation",null,null,null,null,null,"Transportation"]
[8,null,"Stores Equipment",null,null,null,null,null,"Stores Equipment"]
[null,null,null,null,null,null,null,null,"Net Depreciation",null,{"$f":"J66-K69-K70","v":-7230524.7699999996}]
[]
["Notes:"]
[]
[1,"Tables in the format outlined above covering all fixed asset accounts should be submitted for the Test Year, Bridge Year and all relevant historical years.  At a minimum , the applicant must provide data for the earlier of: 1) all historical years back to its last rebasing; or 2) at least three years of historical actuals, in addition to Bridge Year and Test Year forecasts."]
[]
[]
[2,"The \"CCA Class\" for fixed assets should agree with the CCA Class used for tax purposes in Tax Returns. Fixed Assets sub-components may be used where the underlying asset components are classified under multiple CCA Classes for tax purposes. If an applicant uses any different classes from those shown in the table, an explanation should be provided. (also see note 3 below)."]
[]
[]
[3,"The table may need to be customized for a utility's asset categories or for any new asset accounts announced or authorized by the Board."]
[]
[4,"The additions column (E) must not include construction work in progress (CWIP)."]
[]
[5,"Effective on the date of IFRS adoption, customer contributions will no longer be recorded in Account 1995 Contributions & Grants, but will be recorded in Account 2440, Deferred Revenues.  "]
[]
[6,"Where a distributor for general financial reporting purposes under IFRS has accounted for the amount of gain or loss on the retirement of assets in a pool of like assets as a charge or credit to income, for reporting and rate application filings the distributor shall reclassify such gains and losses as depreciation expense, and disclose the amount separately."]

{"sheet":"App.2-BA_Fixed Asset Cont 2012","index":9,"n_rows":87,"n_cols":13,"rows_kept":87,"cut":false,"hidden":false,"merged":[[86,1,87,12],[8,0,8,12],[9,0,9,12],[14,3,14,6],[64,2,64,8],[65,2,65,8],[74,1,75,12],[77,1,78,12],[80,1,80,12]]}
[null,null,null,null,null,null,null,null,null,null,null,"File Number:",{"$f":"EBNUMBER","v":"EB-2014-0096"}]
[null,null,null,null,null,null,null,null,null,null,null,"Exhibit:",2]
[null,null,null,null,null,null,null,null,null,null,null,"Tab:",1]
[null,null,null,null,null,null,null,null,null,null,null,"Schedule:",1]
[null,null,null,null,null,null,null,null,null,null,null,"Page:",2]
[]
[null,null,null,null,null,null,null,null,null,null,null,"Date:","2014-08-29"]
[]
["Appendix 2-BA"]
["Fixed Asset Continuity Schedule "]
[]
[null,null,null,null,"Accounting Standard","CGAAP"]
[null,null,null,null,"Year ",2012]
[]
[null,null,null,"Cost",null,null,null,null,null,"Accumulated Depreciation"]
["CCA Class","OEB","Description","Opening Balance","Additions","Disposals","Closing Balance",null,"Opening Balance","Additions","Disposals","Closing Balance","Net Book Value"]
[12,1611,"Computer Software (Formally known as Account 1925)",{"$f":"'App.2-BA_Fixed Asset Cont 2011'!G17","v":2363533.5699999998},213431,null,{"$f":"D17+E17+F17","v":2576964.5699999998},null,{"$f":"'App.2-BA_Fixed Asset Cont 2011'!L17","v":-2050788.33},-159611.87,null,{"$f":"I17+J17+K17","v":-2210400.2000000002},{"$f":"G17+L17","v":366564.36999999965}]
["CEC",1612,"Land Rights (Formally known as Account 1906)",{"$f":"'App.2-BA_Fixed Asset Cont 2011'!G18","v":0},null,null,{"$f":"D18+E18+F18","v":0},null,{"$f":"'App.2-BA_Fixed Asset Cont 2011'!L18","v":0},null,null,{"$f":"I18+J18+K18","v":0},{"$f":"G18+L18","v":0}]
["N/A",1805,"Land",{"$f":"'App.2-BA_Fixed Asset Cont 2011'!G19","v":507272.79000000004},null,null,507272.79000000004,null,{"$f":"'App.2-BA_Fixed Asset Cont 2011'!L19","v":0},null,null,0,507272.79000000004]
[47,1806,"Land Rights  ",{"$f":"'App.2-BA_Fixed Asset Cont 2011'!G20","v":1598170.68},5416,null,1603586.68,null,{"$f":"'App.2-BA_Fixed Asset Cont 2011'!L20","v":-747035.22},-64028.59,null,-811063.80999999994,792522.87]
[47,1808,"Buildings",{"$f":"'App.2-BA_Fixed Asset Cont 2011'!G21","v":111638.13},null,null,111638.13,null,{"$f":"'App.2-BA_Fixed Asset Cont 2011'!L21","v":-104078},-7559,null,-111637,1.1300000000046566]
[13,1810,"Leasehold Improvements",{"$f":"'App.2-BA_Fixed Asset Cont 2011'!G22","v":0},null,null,0,null,{"$f":"'App.2-BA_Fixed Asset Cont 2011'!L22","v":0},null,null,0,0]
[47,1815,"Transformer Station Equipment >50 kV",{"$f":"'App.2-BA_Fixed Asset Cont 2011'!G23","v":6602000.5700000003},16266,null,6618266.5700000003,null,{"$f":"'App.2-BA_Fixed Asset Cont 2011'!L23","v":-1049115.42},-146211.97,null,-1195327.3899999999,5422939.1800000006]
[47,1820,"Distribution Station Equipment <50 kV",{"$f":"'App.2-BA_Fixed Asset Cont 2011'!G24","v":5783875.8200000003},666649,null,6450524.8200000003,null,{"$f":"'App.2-BA_Fixed Asset Cont 2011'!L24","v":-3103515.43},-191904.86,null,-3295420.29,3155104.5300000003]
[47,1825,"Storage Battery Equipment",{"$f":"'App.2-BA_Fixed Asset Cont 2011'!G25","v":0},null,null,0,null,{"$f":"'App.2-BA_Fixed Asset Cont 2011'!L25","v":0},null,null,0,0]
[47,1830,"Poles, Towers & Fixtures",{"$f":"'App.2-BA_Fixed Asset Cont 2011'!G26","v":32386043.170000002},1474815,0,33860858.170000002,null,{"$f":"'App.2-BA_Fixed Asset Cont 2011'!L26","v":-17867192.510000002},-945170.49,0,-18812363,15048495.170000002]
[47,1835,"Overhead Conductors & Devices",{"$f":"'App.2-BA_Fixed Asset Cont 2011'!G27","v":34623385},1638693,0,36262078,null,{"$f":"'App.2-BA_Fixed Asset Cont 2011'!L27","v":-16184018.680000002},-1299638.03,0,-17483656.710000001,18778421.289999999]
[47,1840,"Underground Conduit",{"$f":"'App.2-BA_Fixed Asset Cont 2011'!G28","v":11962394.76},802096,0,12764490.76,null,{"$f":"'App.2-BA_Fixed Asset Cont 2011'!L28","v":-989009.13},-228692.21,0,-1217701.3400000001,11546789.42]
[47,1845,"Underground Conductors & Devices",{"$f":"'App.2-BA_Fixed Asset Cont 2011'!G29","v":58652494.850000001},2345741,0,60998235.850000001,null,{"$f":"'App.2-BA_Fixed Asset Cont 2011'!L29","v":-35519754.810000002},-2266640.41,0,-37786395.219999999,23211840.630000003]
[47,1850,"Line Transformers",{"$f":"'App.2-BA_Fixed Asset Cont 2011'!G30","v":32882342.100000001},1246688,-241410,33887620.100000001,null,{"$f":"'App.2-BA_Fixed Asset Cont 2011'!L30","v":-17972675.349999998},-1204680.68,241410.02,-18935946.009999998,14951674.090000004]
[47,1855,"Services (Overhead & Underground)",{"$f":"'App.2-BA_Fixed Asset Cont 2011'!G31","v":4191988.92},437074,0.33000000007450581,4629063.25,null,{"$f":"'App.2-BA_Fixed Asset Cont 2011'!L31","v":-933362.69000000006},-176420.3,0,-1109782.99,3519280.26]
[47,1860,"Meters",{"$f":"'App.2-BA_Fixed Asset Cont 2011'!G32","v":2577631.1799999997},209382,-141557,2645456.1799999997,null,{"$f":"'App.2-BA_Fixed Asset Cont 2011'!L32","v":-1277787.54},-362629.12,103654.89,-1536761.7700000003,1108694.4099999995]
[47,1860,"Meters (Smart Meters)",{"$f":"'App.2-BA_Fixed Asset Cont 2011'!G33","v":4175009.94},null,null,4175009.94,null,{"$f":"'App.2-BA_Fixed Asset Cont 2011'!L33","v":0},0,null,0,4175009.94]
[47,1865,"Other Installations on Customer's Premises",{"$f":"'App.2-BA_Fixed Asset Cont 2011'!G34","v":0},null,null,0,null,{"$f":"'App.2-BA_Fixed Asset Cont 2011'!L34","v":0},null,null,0,0]
[47,1875,"Street Lighting and Signal Systems",{"$f":"'App.2-BA_Fixed Asset Cont 2011'!G35","v":21835},null,null,21835,null,{"$f":"'App.2-BA_Fixed Asset Cont 2011'!L35","v":-4959.66},-1313.22,null,-6272.88,15562.119999999999]
["N/A",1905,"Land",{"$f":"'App.2-BA_Fixed Asset Cont 2011'!G36","v":508969.83},null,null,508969.83,null,{"$f":"'App.2-BA_Fixed Asset Cont 2011'!L36","v":0},null,null,0,508969.83]
[47,1908,"Buildings & Fixtures",{"$f":"'App.2-BA_Fixed Asset Cont 2011'!G37","v":12580150.49},625695.03999999911,null,13205845.529999999,null,{"$f":"'App.2-BA_Fixed Asset Cont 2011'!L37","v":-2238050.6800000002},-217482.65,null,-2455533.33,10750312.199999999]
[13,1910,"Leasehold Improvements",{"$f":"'App.2-BA_Fixed Asset Cont 2011'!G38","v":120252.32},0,null,120252.32,null,{"$f":"'App.2-BA_Fixed Asset Cont 2011'!L38","v":-120252.32},null,null,-120252.32,0]
[8,1915,"Office Furniture & Equipment (10 years)",{"$f":"'App.2-BA_Fixed Asset Cont 2011'!G39","v":1211189.44},111949,null,1323138.44,null,{"$f":"'App.2-BA_Fixed Asset Cont 2011'!L39","v":-773710.23},-78052.490000000005,null,-851762.72,471375.72]
[8,1915,"Office Furniture & Equipment (5 years)",{"$f":"'App.2-BA_Fixed Asset Cont 2011'!G40","v":0},null,null,0,null,{"$f":"'App.2-BA_Fixed Asset Cont 2011'!L40","v":0},null,null,0,0]
[10,1920,"Computer Equipment - Hardware",{"$f":"'App.2-BA_Fixed Asset Cont 2011'!G41","v":1257769.3},null,null,1257769.3,null,{"$f":"'App.2-BA_Fixed Asset Cont 2011'!L41","v":-1257769.3},null,null,-1257769.3,0]
[45,1920,"Computer Equip.-Hardware(Post Mar. 22/04)",{"$f":"'App.2-BA_Fixed Asset Cont 2011'!G42","v":320323.46000000002},null,null,320323.46000000002,null,{"$f":"'App.2-BA_Fixed Asset Cont 2011'!L42","v":-315054.35600000003},null,null,-315054.35600000003,5269.1039999999921]
[50,1920,"Computer Equip.-Hardware(Post Mar. 19/07)",{"$f":"'App.2-BA_Fixed Asset Cont 2011'!G43","v":1552519.75},370710,null,1923229.75,null,{"$f":"'App.2-BA_Fixed Asset Cont 2011'!L43","v":-844247.46999999986},-266599,null,-1110846.4699999997,812383.28000000026]
[10,1930,"Transportation Equipment",{"$f":"'App.2-BA_Fixed Asset Cont 2011'!G44","v":6444483.9800000004},1160649,null,7605132.9800000004,null,{"$f":"'App.2-BA_Fixed Asset Cont 2011'!L44","v":-4107605.4699999997},-455441.01,null,-4563046.4799999995,3042086.5000000009]
[8,1935,"Stores Equipment",{"$f":"'App.2-BA_Fixed Asset Cont 2011'!G45","v":236414.31},0,null,236414.31,null,{"$f":"'App.2-BA_Fixed Asset Cont 2011'!L45","v":-191217},-5424.28,null,-196641.28,39773.03]
[8,1940,"Tools, Shop & Garage Equipment",{"$f":"'App.2-BA_Fixed Asset Cont 2011'!G46","v":1738842.55},132901,null,1871743.55,null,{"$f":"'App.2-BA_Fixed Asset Cont 2011'!L46","v":-1386284.72},-70945.34,null,-1457230.06,414513.49]
[8,1945,"Measurement & Testing Equipment",{"$f":"'App.2-BA_Fixed Asset Cont 2011'!G47","v":204006.33},0,null,204006.33,null,{"$f":"'App.2-BA_Fixed Asset Cont 2011'!L47","v":-178798.45},-7820.6,null,-186619.05000000002,17387.27999999997]
[8,1950,"Power Operated Equipment",{"$f":"'App.2-BA_Fixed Asset Cont 2011'!G48","v":0},0,null,0,null,{"$f":"'App.2-BA_Fixed Asset Cont 2011'!L48","v":0},0,null,0,0]
[8,1955,"Communications Equipment",{"$f":"'App.2-BA_Fixed Asset Cont 2011'!G49","v":170581.33},332339,null,502920.32999999996,null,{"$f":"'App.2-BA_Fixed Asset Cont 2011'!L49","v":-133653.43},-22327.98,null,-155981.41,346938.91999999993]
[8,1955,"Communication Equipment (Smart Meters)",{"$f":"'App.2-BA_Fixed Asset Cont 2011'!G50","v":0},null,null,0,null,{"$f":"'App.2-BA_Fixed Asset Cont 2011'!L50","v":0},null,null,0,0]
[8,1960,"Miscellaneous Equipment ",{"$f":"'App.2-BA_Fixed Asset Cont 2011'!G51","v":72951.31},null,null,72951.31,null,{"$f":"'App.2-BA_Fixed Asset Cont 2011'!L51","v":-60339.71},-6974.25,null,-67313.959999999992,5637.3500000000058]
[47,1970,"Load Management Controls Customer Premises",{"$f":"'App.2-BA_Fixed Asset Cont 2011'!G52","v":0},null,null,0,null,{"$f":"'App.2-BA_Fixed Asset Cont 2011'!L52","v":0},null,null,0,0]
[47,1975,"Load Management Controls Utility Premises",{"$f":"'App.2-BA_Fixed Asset Cont 2011'!G53","v":0},null,null,0,null,{"$f":"'App.2-BA_Fixed Asset Cont 2011'!L53","v":0},null,null,{"$f":"I53+J53+K53","v":0},0]
[47,1980,"System Supervisor Equipment",{"$f":"'App.2-BA_Fixed Asset Cont 2011'!G54","v":128960.64},null,null,128960.64,null,{"$f":"'App.2-BA_Fixed Asset Cont 2011'!L54","v":-128961},0,null,-128961,-0.36000000000058208]
[47,1985,"Miscellaneous Fixed Assets",{"$f":"'App.2-BA_Fixed Asset Cont 2011'!G55","v":0},null,null,0,null,{"$f":"'App.2-BA_Fixed Asset Cont 2011'!L55","v":0},null,null,0,0]
[47,1990,"Other Tangible Property",{"$f":"'App.2-BA_Fixed Asset Cont 2011'!G56","v":0},null,null,0,null,{"$f":"'App.2-BA_Fixed Asset Cont 2011'!L56","v":0},null,null,0,0]
[47,1995,"Contributions & Grants",{"$f":"'App.2-BA_Fixed Asset Cont 2011'!G57","v":-19052603.359999999},-1472887,null,-20525490.359999999,null,{"$f":"'App.2-BA_Fixed Asset Cont 2011'!L57","v":4729318.22},764296.89,null,5493615.1099999994,-15031875.25]
[47,2440,"Deferred Revenue5",{"$f":"'App.2-BA_Fixed Asset Cont 2011'!G58","v":0},null,null,0,null,{"$f":"'App.2-BA_Fixed Asset Cont 2011'!L58","v":0},null,null,null,0]
[47,2005,"2005-Property Under Capital Leases",{"$f":"'App.2-BA_Fixed Asset Cont 2011'!G59","v":0},null,null,0,null,{"$f":"'App.2-BA_Fixed Asset Cont 2011'!L59","v":0}]
[null,null,null,null,null,null,0,null,null,null,null,0,{"$f":"G60+L60","v":0}]
[null,null,"Sub-Total",{"$f":"SUM(D17:D60)","v":205934428.16000003},{"$f":"SUM(E17:E60)","v":10317607.039999999},{"$f":"SUM(F17:F60)","v":-382966.66999999993},{"$f":"SUM(G17:G60)","v":215869068.53000003},null,{"$f":"SUM(I17:I60)","v":-104809918.686},{"$f":"SUM(J17:J60)","v":-7421271.46},{"$f":"SUM(K17:K60)","v":345064.91},{"$f":"SUM(L17:L60)","v":-111886125.23599997},{"$f":"SUM(M17:M60)","v":103982943.294}]
[null,null,"Less Socialized Renewable Energy Generation Investments (input as negative)",null,null,null,{"$f":"D62+E62+F62","v":0},null,null,null,null,{"$f":"I62+J62+K62","v":0},{"$f":"G62+L62","v":0}]
[null,null,"Less Other Non Rate-Regulated Utility Assets (input as negative)",null,null,null,{"$f":"D63+E63+F63","v":0},null,null,null,null,{"$f":"I63+J63+K63","v":0},{"$f":"G63+L63","v":0}]
[null,null,"Total PP&E",{"$f":"SUM(D61:D63)","v":205934428.16000003},{"$f":"SUM(E61:E63)","v":10317607.039999999},{"$f":"SUM(F61:F63)","v":-382966.66999999993},{"$f":"SUM(G61:G63)","v":215869068.53000003},null,{"$f":"SUM(I61:I63)","v":-104809918.686},{"$f":"SUM(J61:J63)","v":-7421271.46},{"$f":"SUM(K61:K63)","v":345064.91},{"$f":"SUM(L61:L63)","v":-111886125.23599997},{"$f":"SUM(M61:M63)","v":103982943.294}]
[null,null,"Depreciation Expense adj. from gain or loss on the retirement of assets (pool of like assets), if applicable6"]
[null,null,"Total",null,null,null,null,null,null,{"$f":"J64+J65","v":-7421271.46}]
[]
[null,null,null,null,null,null,null,null,"Less: Fully Allocated Depreciation"]
[10,null,"Transportation",null,null,null,null,null,"Transportation"]
[8,null,"Stores Equipment",null,null,null,null,null,"Stores Equipment"]
[null,null,null,null,null,null,null,null,"Net Depreciation",null,{"$f":"J66-K69-K70","v":-7421271.46}]
[]
["Notes:"]
[]
[1,"Tables in the format outlined above covering all fixed asset accounts should be submitted for the Test Year, Bridge Year and all relevant historical years.  At a minimum , the applicant must provide data for the earlier of: 1) all historical years back to its last rebasing; or 2) at least three years of historical actuals, in addition to Bridge Year and Test Year forecasts."]
[]
[]
[2,"The \"CCA Class\" for fixed assets should agree with the CCA Class used for tax purposes in Tax Returns. Fixed Assets sub-components may be used where the underlying asset components are classified under multiple CCA Classes for tax purposes. If an applicant uses any different classes from those shown in the table, an explanation should be provided. (also see note 3 below)."]
[]
[]
[3,"The table may need to be customized for a utility's asset categories or for any new asset accounts announced or authorized by the Board."]
[]
[4,"The additions column (E) must not include construction work in progress (CWIP)."]
[]
[5,"Effective on the date of IFRS adoption, customer contributions will no longer be recorded in Account 1995 Contributions & Grants, but will be recorded in Account 2440, Deferred Revenues.  "]
[]
[6,"Where a distributor for general financial reporting purposes under IFRS has accounted for the amount of gain or loss on the retirement of assets in a pool of like assets as a charge or credit to income, for reporting and rate application filings the distributor shall reclassify such gains and losses as depreciation expense, and disclose the amount separately."]

{"sheet":"App.2-BA_FA Cont Component 2013","index":10,"n_rows":99,"n_cols":13,"rows_kept":99,"cut":false,"hidden":false,"merged":[[98,1,99,12],[8,0,8,12],[9,0,9,12],[14,3,14,6],[76,2,76,8],[77,2,77,8],[86,1,87,12],[89,1,90,12],[92,1,92,12]]}
[null,null,null,null,null,null,null,null,null,null,null,"File Number:",{"$f":"EBNUMBER","v":"EB-2014-0096"}]
[null,null,null,null,null,null,null,null,null,null,null,"Exhibit:",2]
[null,null,null,null,null,null,null,null,null,null,null,"Tab:",1]
[null,null,null,null,null,null,null,null,null,null,null,"Schedule:",1]
[null,null,null,null,null,null,null,null,null,null,null,"Page:",3]
[]
[null,null,null,null,null,null,null,null,null,null,null,"Date:","2014-08-29"]
[]
["Appendix 2-BA"]
["Fixed Asset Continuity Schedule "]
[]
[null,null,null,null,"Accounting Standard","CGAAP"]
[null,null,null,null,"Year ",2013]
[]
[null,null,null,"Cost",null,null,null,null,null,"Accumulated Depreciation"]
["CCA Class","OEB","Description","Opening Balance","Componentization","Disposals","Closing Balance",null,"Opening Balance","Additions","Disposals","Closing Balance","Net Book Value"]
[12,1611,"Computer Software (Formally known as Account 1925)",{"$f":"'App.2-BA_Fixed Asset Cont 2012'!$G17","v":2576964.5699999998},null,null,{"$f":"D17+E17+F17","v":2576964.5699999998},null,{"$f":"'App.2-BA_Fixed Asset Cont 2012'!L17","v":-2210400.2000000002},null,null,{"$f":"I17+J17+K17","v":-2210400.2000000002},{"$f":"G17+L17","v":366564.36999999965}]
["CEC",1612,"Land Rights (Formally known as Account 1906)",{"$f":"'App.2-BA_Fixed Asset Cont 2012'!$G18","v":0},null,null,{"$f":"D18+E18+F18","v":0},null,{"$f":"'App.2-BA_Fixed Asset Cont 2012'!L18","v":0},null,null,{"$f":"I18+J18+K18","v":0},{"$f":"G18+L18","v":0}]
["N/A",1805,"Land",{"$f":"'App.2-BA_Fixed Asset Cont 2012'!$G19","v":507272.79000000004},null,null,507272.79000000004,null,{"$f":"'App.2-BA_Fixed Asset Cont 2012'!L19","v":0},null,null,0,507272.79000000004]
[47,1806,"Land Rights  ",{"$f":"'App.2-BA_Fixed Asset Cont 2012'!$G20","v":1603586.68},null,null,1603586.68,null,{"$f":"'App.2-BA_Fixed Asset Cont 2012'!L20","v":-811063.80999999994},null,null,-811063.80999999994,792522.87]
[47,1808,"Buildings",{"$f":"'App.2-BA_Fixed Asset Cont 2012'!$G21","v":111638.13},null,null,111638.13,null,{"$f":"'App.2-BA_Fixed Asset Cont 2012'!L21","v":-111637},null,null,-111637,1.1300000000046566]
[13,1810,"Leasehold Improvements",{"$f":"'App.2-BA_Fixed Asset Cont 2012'!$G22","v":0},null,null,0,null,{"$f":"'App.2-BA_Fixed Asset Cont 2012'!L22","v":0},null,null,0,0]
[47,1815,"Transformer Station Equipment > 50 kV (1708, 1740, 1745)",{"$f":"'App.2-BA_Fixed Asset Cont 2012'!G23","v":6618266.5700000003},-2785253.77,null,3833012.8000000003,null,{"$f":"'App.2-BA_Fixed Asset Cont 2012'!L23","v":-1195327.3899999999},570654,null,-624673.3899999999,3208339.41]
[47,1815,"Transformer Station Equipment > 50 kV (1715, 1815)",0,1502385.84,null,1502385.84,null,0,-176326.84000000003,null,-176326.84000000003,1326059]
[47,1815,"Transformer Station Equipment > 50 kV (1716)",0,46955.06,null,46955.06,null,0,-14433.06,null,-14433.06,32522]
[47,1815,"Transformer Station Equipment > 50 kV (1717)",0,610733.92999999993,null,610733.92999999993,null,0,-187726.93,null,-187726.93,423006.99999999994]
[47,1815,"Transformer Station Equipment  > 50 kV (1719)",0,625178.93999999994,null,625178.93999999994,null,0,-192166.94,null,-192166.94,433011.99999999994]
[47,1820,"Distribution Station Equipment <50 kV",{"$f":"'App.2-BA_Fixed Asset Cont 2012'!G24","v":6450524.8200000003},{"$f":"-1880385.35","v":-1880385.35},null,4570139.4700000007,null,{"$f":"'App.2-BA_Fixed Asset Cont 2012'!L24","v":-3295420.29},{"$f":"730153.71","v":730153.71},null,-2565266.58,2004872.8900000006]
[47,1820,"Distribution Station Equipment <50 Kv (1821)",null,1880385.35,null,1880385.35,null,null,-730153.71,null,-730153.71,1150231.6400000001]
[47,1825,"Storage Battery Equipment",{"$f":"'App.2-BA_Fixed Asset Cont 2012'!$G25","v":0},null,null,0,null,{"$f":"'App.2-BA_Fixed Asset Cont 2012'!L25","v":0},null,null,0,0]
[47,1830,"Poles, Towers & Fixtures - Wood",{"$f":"'App.2-BA_Fixed Asset Cont 2012'!G26+'App.2-BA_Fixed Asset Cont 2012'!G35","v":33882693.170000002},{"$f":"-2918249.31+7670710","v":4752460.6899999995},null,38635153.859999999,null,{"$f":"'App.2-BA_Fixed Asset Cont 2012'!L26+'App.2-BA_Fixed Asset Cont 2012'!L35","v":-18818635.879999999},{"$f":"1240865.22-5394606","v":-4153740.7800000003},null,-22972376.66,15662777.199999999]
[47,1830,"Poles, Towers & Fixtures - (1831) Concrete",null,2918249.31,null,2918249.31,null,null,-1240865.22,null,-1240865.22,1677384.09]
[47,1835,"Overhead Conductors & Devices",{"$f":"'App.2-BA_Fixed Asset Cont 2012'!G27","v":36262078},{"$f":"-10041361-4402746.88","v":-14444107.879999999},null,21817970.120000001,null,{"$f":"'App.2-BA_Fixed Asset Cont 2012'!L27","v":-17483656.710000001},{"$f":"7765257.02+1279128.78","v":9044385.7999999989},null,-8439270.910000002,13378699.209999999]
[47,1835,"Overhead Conductors & Devices (1836)",null,2501048.2999999998,null,2501048.2999999998,null,null,-816410.15,null,-816410.15,1684638.15]
[47,1835,"Overhead Conductors & Devices (1837)",null,1901698.58,null,1901698.58,null,null,-462718.63,null,-462718.63,1438979.9500000002]
[47,1840,"Underground Conduit",{"$f":"'App.2-BA_Fixed Asset Cont 2012'!$G28","v":12764490.76},-3691583,null,9072907.7599999998,null,{"$f":"'App.2-BA_Fixed Asset Cont 2012'!L28","v":-1217701.3400000001},-980391.47999999986,null,-2198092.8199999998,6874814.9399999995]
[47,1845,"Underground Conductors & Devices",{"$f":"'App.2-BA_Fixed Asset Cont 2012'!G29","v":60998235.850000001},{"$f":"3691583-1884815.71","v":1806767.29},null,62805003.140000001,null,{"$f":"'App.2-BA_Fixed Asset Cont 2012'!L29","v":-37786395.219999999},1926336.5300000003,null,-35860058.689999998,26944944.450000003]
[47,1845,"Underground Conductors & Devices (1846)",null,1884815.71,null,1884815.71,null,null,-945945.05,null,-945945.05,938870.65999999992]
[47,1850,"Line Transformers (1850) Polemount",{"$f":"'App.2-BA_Fixed Asset Cont 2012'!G30","v":33887620.100000001},{"$f":"2370651-17225897.26","v":-14855246.260000002},null,19032373.84,null,{"$f":"'App.2-BA_Fixed Asset Cont 2012'!L30","v":-18935946.009999998},5671814.6800000006,null,-13264131.329999998,5768242.5100000016]
[47,1850,"Line Transformers (1853) Padmount",null,17225897.259999998,null,17225897.259999998,null,null,-8042465.46,null,-8042465.46,9183431.799999997]
[47,1855,"Services (Overhead & Underground)",{"$f":"'App.2-BA_Fixed Asset Cont 2012'!$G31","v":4629063.25},null,null,4629063.25,null,{"$f":"'App.2-BA_Fixed Asset Cont 2012'!L31","v":-1109782.99},0,null,-1109782.99,3519280.26]
[47,1860,"Meters",{"$f":"'App.2-BA_Fixed Asset Cont 2012'!$G32","v":2645456.1799999997},null,null,2645456.1799999997,null,{"$f":"'App.2-BA_Fixed Asset Cont 2012'!L32","v":-1536761.7700000003},695835,null,-840926.77000000025,1804529.4099999995]
[47,1860,"Meters (Smart Meters)",{"$f":"'App.2-BA_Fixed Asset Cont 2012'!$G33","v":4175009.94},null,null,4175009.94,null,{"$f":"'App.2-BA_Fixed Asset Cont 2012'!L33","v":0},-695835.09000000008,null,-695835.09000000008,3479174.8499999996]
[47,1865,"Other Installations on Customer's Premises",{"$f":"'App.2-BA_Fixed Asset Cont 2012'!$G34","v":0},null,null,0,null,{"$f":"'App.2-BA_Fixed Asset Cont 2012'!L34","v":0},null,null,0,0]
[47,1875,"Street Lighting and Signal Systems",null,null,null,0,null,null,null,null,0,0]
["N/A",1905,"Land",{"$f":"'App.2-BA_Fixed Asset Cont 2012'!$G36","v":508969.83},null,null,508969.83,null,{"$f":"'App.2-BA_Fixed Asset Cont 2012'!L36","v":0},null,null,0,508969.83]
[47,1908,"Buildings & Fixtures",{"$f":"'App.2-BA_Fixed Asset Cont 2012'!$G37","v":13205845.529999999},null,null,13205845.529999999,null,{"$f":"'App.2-BA_Fixed Asset Cont 2012'!L37","v":-2455533.33},null,null,-2455533.33,10750312.199999999]
[13,1910,"Leasehold Improvements",{"$f":"'App.2-BA_Fixed Asset Cont 2012'!$G38","v":120252.32},null,null,120252.32,null,{"$f":"'App.2-BA_Fixed Asset Cont 2012'!L38","v":-120252.32},null,null,-120252.32,0]
[8,1915,"Office Furniture & Equipment (10 years)",{"$f":"'App.2-BA_Fixed Asset Cont 2012'!$G39","v":1323138.44},null,null,1323138.44,null,{"$f":"'App.2-BA_Fixed Asset Cont 2012'!L39","v":-851762.72},null,null,-851762.72,471375.72]
[8,1915,"Office Furniture & Equipment (5 years)",{"$f":"'App.2-BA_Fixed Asset Cont 2012'!$G40","v":0},null,null,0,null,{"$f":"'App.2-BA_Fixed Asset Cont 2012'!L40","v":0},null,null,0,0]
[10,1920,"Computer Equipment - Hardware",{"$f":"'App.2-BA_Fixed Asset Cont 2012'!$G41","v":1257769.3},null,null,1257769.3,null,{"$f":"'App.2-BA_Fixed Asset Cont 2012'!L41","v":-1257769.3},null,null,-1257769.3,0]
[45,1920,"Computer Equip.-Hardware(Post Mar. 22/04)",{"$f":"'App.2-BA_Fixed Asset Cont 2012'!$G42","v":320323.46000000002},null,null,320323.46000000002,null,{"$f":"'App.2-BA_Fixed Asset Cont 2012'!L42","v":-315054.35600000003},null,null,-315054.35600000003,5269.1039999999921]
[50,1920,"Computer Equip.-Hardware(Post Mar. 19/07)",{"$f":"'App.2-BA_Fixed Asset Cont 2012'!$G43","v":1923229.75},null,null,1923229.75,null,{"$f":"'App.2-BA_Fixed Asset Cont 2012'!L43","v":-1110846.4699999997},null,null,-1110846.4699999997,812383.28000000026]
[10,1930,"Transportation Equipment (1931)",null,548320.97,null,548320.97,null,null,-321095.90999999997,null,-321095.90999999997,227225.06]
[10,1930,"Transportation Equipment (1932) Large Trucks",{"$f":"'App.2-BA_Fixed Asset Cont 2012'!G44","v":7605132.9800000004},-869227.24,null,6735905.7400000002,null,{"$f":"'App.2-BA_Fixed Asset Cont 2012'!L44","v":-4563046.4799999995},545496.44999999995,null,-4017550.0299999993,2718355.7100000009]
[10,1930,"Transportation Equipment (1933) Trailers",null,320906.27,null,320906.27,null,null,-224400.54,null,-224400.54,96505.73000000001]
[8,1935,"Stores Equipment",{"$f":"'App.2-BA_Fixed Asset Cont 2012'!$G45","v":236414.31},null,null,236414.31,null,{"$f":"'App.2-BA_Fixed Asset Cont 2012'!L45","v":-196641.28},null,null,-196641.28,39773.03]
[8,1940,"Tools, Shop & Garage Equipment",{"$f":"'App.2-BA_Fixed Asset Cont 2012'!$G46","v":1871743.55},null,null,1871743.55,null,{"$f":"'App.2-BA_Fixed Asset Cont 2012'!L46","v":-1457230.06},null,null,-1457230.06,414513.49]
[8,1945,"Measurement & Testing Equipment",{"$f":"'App.2-BA_Fixed Asset Cont 2012'!$G47","v":204006.33},null,null,204006.33,null,{"$f":"'App.2-BA_Fixed Asset Cont 2012'!L47","v":-186619.05000000002},null,null,-186619.05000000002,17387.27999999997]
[8,1950,"Power Operated Equipment",{"$f":"'App.2-BA_Fixed Asset Cont 2012'!$G48","v":0},null,null,0,null,{"$f":"'App.2-BA_Fixed Asset Cont 2012'!L48","v":0},null,null,0,0]
[8,1955,"Communications Equipment",{"$f":"'App.2-BA_Fixed Asset Cont 2012'!$G49","v":502920.32999999996},null,null,502920.32999999996,null,{"$f":"'App.2-BA_Fixed Asset Cont 2012'!L49","v":-155981.41},null,null,-155981.41,346938.91999999993]
[8,1955,"Communication Equipment (Smart Meters)",{"$f":"'App.2-BA_Fixed Asset Cont 2012'!$G50","v":0},null,null,0,null,{"$f":"'App.2-BA_Fixed Asset Cont 2012'!L50","v":0},null,null,0,0]
[8,1960,"Miscellaneous Equipment ",{"$f":"'App.2-BA_Fixed Asset Cont 2012'!$G51","v":72951.31},null,null,72951.31,null,{"$f":"'App.2-BA_Fixed Asset Cont 2012'!L51","v":-67313.959999999992},null,null,-67313.959999999992,5637.3500000000058]
[47,1970,"Load Management Controls Customer Premises",{"$f":"'App.2-BA_Fixed Asset Cont 2012'!$G52","v":0},null,null,0,null,{"$f":"'App.2-BA_Fixed Asset Cont 2012'!L52","v":0},null,null,0,0]
[47,1975,"Load Management Controls Utility Premises",{"$f":"'App.2-BA_Fixed Asset Cont 2012'!$G53","v":0},null,null,0,null,{"$f":"'App.2-BA_Fixed Asset Cont 2012'!L53","v":0},null,null,{"$f":"I65+J65+K65","v":0},0]
[47,1980,"System Supervisor Equipment",{"$f":"'App.2-BA_Fixed Asset Cont 2012'!$G54","v":128960.64},null,null,128960.64,null,{"$f":"'App.2-BA_Fixed Asset Cont 2012'!L54","v":-128961},null,null,-128961,-0.36000000000058208]
[47,1985,"Miscellaneous Fixed Assets",{"$f":"'App.2-BA_Fixed Asset Cont 2012'!$G55","v":0},null,null,0,null,{"$f":"'App.2-BA_Fixed Asset Cont 2012'!L55","v":0},null,null,0,0]
[47,1990,"Other Tangible Property",{"$f":"'App.2-BA_Fixed Asset Cont 2012'!$G56","v":0},null,null,0,null,{"$f":"'App.2-BA_Fixed Asset Cont 2012'!L56","v":0},null,null,0,0]
[47,1995,"Contributions & Grants",{"$f":"'App.2-BA_Fixed Asset Cont 2012'!$G57","v":-20525490.359999999},null,null,-20525490.359999999,null,{"$f":"'App.2-BA_Fixed Asset Cont 2012'!L57","v":5493615.1099999994},null,null,5493615.1099999994,-15031875.25]
[47,2440,"Deferred Revenue5",{"$f":"'App.2-BA_Fixed Asset Cont 2012'!$G58","v":0},null,null,0,null,{"$f":"'App.2-BA_Fixed Asset Cont 2012'!L58","v":0},null,null,null,0]
[47,2005,"2005-Property Under Capital Leases",{"$f":"'App.2-BA_Fixed Asset Cont 2012'!$G59","v":0},null,null,0,null,{"$f":"'App.2-BA_Fixed Asset Cont 2012'!L59","v":0},null,null,null,0]
[null,null,null,null,null,null,0,null,null,null,null,0,{"$f":"G72+L72","v":0}]
[null,null,"Sub-Total",{"$f":"SUM(D17:D72)","v":215869068.53000003},{"$f":"SUM(E17:E72)","v":-3.7252902984619141E-9},{"$f":"SUM(F17:F72)","v":0},{"$f":"SUM(G17:G72)","v":215869068.53000009},null,{"$f":"SUM(I17:I72)","v":-111886125.23599997},{"$f":"SUM(J17:J72)","v":0.37999999962630682},{"$f":"SUM(K17:K72)","v":0},{"$f":"SUM(L17:L72)","v":-111886124.85599996},{"$f":"SUM(M17:M72)","v":103982943.67399999}]
[null,null,"Less Socialized Renewable Energy Generation Investments (input as negative)",null,null,null,{"$f":"D74+E74+F74","v":0},null,null,null,null,{"$f":"I74+J74+K74","v":0},{"$f":"G74+L74","v":0}]
[null,null,"Less Other Non Rate-Regulated Utility Assets (input as negative)",null,null,null,{"$f":"D75+E75+F75","v":0},null,null,null,null,{"$f":"I75+J75+K75","v":0},{"$f":"G75+L75","v":0}]
[null,null,"Total PP&E",{"$f":"SUM(D73:D75)","v":215869068.53000003},{"$f":"SUM(E73:E75)","v":-3.7252902984619141E-9},{"$f":"SUM(F73:F75)","v":0},{"$f":"SUM(G73:G75)","v":215869068.53000009},null,{"$f":"SUM(I73:I75)","v":-111886125.23599997},{"$f":"SUM(J73:J75)","v":0.37999999962630682},{"$f":"SUM(K73:K75)","v":0},{"$f":"SUM(L73:L75)","v":-111886124.85599996},{"$f":"SUM(M73:M75)","v":103982943.67399999}]
[null,null,"Depreciation Expense adj. from gain or loss on the retirement of assets (pool of like assets), if applicable6"]
[null,null,"Total",null,null,null,null,null,null,{"$f":"J76+J77","v":0.37999999962630682}]
[]
[null,null,null,null,null,null,null,null,"Less: Fully Allocated Depreciation"]
[10,null,"Transportation",null,null,null,null,null,"Transportation"]
[8,null,"Stores Equipment",null,null,null,null,null,"Stores Equipment"]
[null,null,null,null,null,null,null,null,"Net Depreciation",null,{"$f":"J78-K81-K82","v":0.37999999962630682}]
[]
["Notes:"]
[]
[1,"Tables in the format outlined above covering all fixed asset accounts should be submitted for the Test Year, Bridge Year and all relevant historical years.  At a minimum , the applicant must provide data for the earlier of: 1) all historical years back to its last rebasing; or 2) at least three years of historical actuals, in addition to Bridge Year and Test Year forecasts."]
[]
[]
[2,"The \"CCA Class\" for fixed assets should agree with the CCA Class used for tax purposes in Tax Returns. Fixed Assets sub-components may be used where the underlying asset components are classified under multiple CCA Classes for tax purposes. If an applicant uses any different classes from those shown in the table, an explanation should be provided. (also see note 3 below)."]
[]
[]
[3,"The table may need to be customized for a utility's asset categories or for any new asset accounts announced or authorized by the Board."]
[]
[4,"The additions column (E) must not include construction work in progress (CWIP)."]
[]
[5,"Effective on the date of IFRS adoption, customer contributions will no longer be recorded in Account 1995 Contributions & Grants, but will be recorded in Account 2440, Deferred Revenues.  "]
[]
[6,"Where a distributor for general financial reporting purposes under IFRS has accounted for the amount of gain or loss on the retirement of assets in a pool of like assets as a charge or credit to income, for reporting and rate application filings the distributor shall reclassify such gains and losses as depreciation expense, and disclose the amount separately."]

{"sheet":"App.2-BA_Fixed Asset Cont 2013","index":11,"n_rows":99,"n_cols":13,"rows_kept":99,"cut":false,"hidden":false,"merged":[[89,1,90,12],[92,1,92,12],[98,1,99,12],[8,0,8,12],[9,0,9,12],[14,3,14,6],[76,2,76,8],[77,2,77,8],[86,1,87,12]]}
[null,null,null,null,null,null,null,null,null,null,null,"File Number:",{"$f":"EBNUMBER","v":"EB-2014-0096"}]
[null,null,null,null,null,null,null,null,null,null,null,"Exhibit:",2]
[null,null,null,null,null,null,null,null,null,null,null,"Tab:",1]
[null,null,null,null,null,null,null,null,null,null,null,"Schedule:",1]
[null,null,null,null,null,null,null,null,null,null,null,"Page:",4]
[]
[null,null,null,null,null,null,null,null,null,null,null,"Date:","2014-08-29"]
[]
["Appendix 2-BA"]
["Fixed Asset Continuity Schedule "]
[]
[null,null,null,null,"Accounting Standard","CGAAP"]
[null,null,null,null,"Year ",2013]
[]
[null,null,null,"Cost",null,null,null,null,null,"Accumulated Depreciation"]
["CCA Class","OEB","Description","Opening Balance","Additions","Disposals","Closing Balance",null,"Opening Balance","Additions","Disposals","Closing Balance","Net Book Value"]
[12,1611,"Computer Software (Formally known as Account 1925)",{"$f":"'App.2-BA_FA Cont Component 2013'!G17","v":2576964.5699999998},114742,null,{"$f":"D17+E17+F17","v":2691706.57},null,{"$f":"'App.2-BA_FA Cont Component 2013'!L17","v":-2210400.2000000002},-223111.67999999999,null,{"$f":"I17+J17+K17","v":-2433511.8800000004},{"$f":"G17+L17","v":258194.68999999948}]
["CEC",1612,"Land Rights (Formally known as Account 1906)",{"$f":"'App.2-BA_FA Cont Component 2013'!G18","v":0},null,null,{"$f":"D18+E18+F18","v":0},null,{"$f":"'App.2-BA_FA Cont Component 2013'!L18","v":0},null,null,{"$f":"I18+J18+K18","v":0},{"$f":"G18+L18","v":0}]
["N/A",1805,"Land",{"$f":"'App.2-BA_FA Cont Component 2013'!G19","v":507272.79000000004},null,null,507272.79000000004,null,{"$f":"'App.2-BA_FA Cont Component 2013'!L19","v":0},null,null,0,507272.79000000004]
[47,1806,"Land Rights  ",{"$f":"'App.2-BA_FA Cont Component 2013'!G20","v":1603586.68},809.6,null,1604396.28,null,{"$f":"'App.2-BA_FA Cont Component 2013'!L20","v":-811063.80999999994},-57097.98,null,-868161.78999999992,736234.49000000011]
[47,1808,"Buildings",{"$f":"'App.2-BA_FA Cont Component 2013'!G21","v":111638.13},null,null,111638.13,null,{"$f":"'App.2-BA_FA Cont Component 2013'!L21","v":-111637},0,null,-111637,1.1300000000046566]
[13,1810,"Leasehold Improvements",{"$f":"'App.2-BA_FA Cont Component 2013'!G22","v":0},null,null,0,null,{"$f":"'App.2-BA_FA Cont Component 2013'!L22","v":0},null,null,0,0]
[47,1815,"Transformer Station Equipment > 50 kV (1708, 1740, 1745)",{"$f":"'App.2-BA_FA Cont Component 2013'!G23","v":3833012.8000000003},0,null,3833012.8000000003,null,{"$f":"'App.2-BA_FA Cont Component 2013'!L23","v":-624673.3899999999},-76660.290000000037,null,-701333.67999999993,3131679.12]
[47,1815,"Transformer Station Equipment > 50 kV (1715, 1815)",{"$f":"'App.2-BA_FA Cont Component 2013'!G24","v":1502385.84},16679,null,1519064.84,null,{"$f":"'App.2-BA_FA Cont Component 2013'!L24","v":-176326.84000000003},{"$f":"-34483.24-1796.38","v":-36279.619999999995},null,-212606.46000000002,1306458.3800000001]
[47,1815,"Transformer Station Equipment > 50 kV (1716)",{"$f":"'App.2-BA_FA Cont Component 2013'!G25","v":46955.06},null,null,46955.06,null,{"$f":"'App.2-BA_FA Cont Component 2013'!L25","v":-14433.06},-22586.61,null,-37019.67,9935.39]
[47,1815,"Transformer Station Equipment > 50 kV (1717)",{"$f":"'App.2-BA_FA Cont Component 2013'!G26","v":610733.92999999993},null,null,610733.92999999993,null,{"$f":"'App.2-BA_FA Cont Component 2013'!L26","v":-187726.93},-13339.38,null,-201066.31,409667.61999999994]
[47,1815,"Transformer Station Equipment  > 50 kV (1719)",{"$f":"'App.2-BA_FA Cont Component 2013'!G27","v":625178.93999999994},null,null,625178.93999999994,null,{"$f":"'App.2-BA_FA Cont Component 2013'!L27","v":-192166.94},-35746.730000000003,null,-227913.67,397265.2699999999]
[47,1820,"Distribution Station Equipment <50 kV",{"$f":"'App.2-BA_FA Cont Component 2013'!G28","v":4570139.4700000007},83151,-581020,4072270.4700000007,null,{"$f":"'App.2-BA_FA Cont Component 2013'!L28","v":-2565266.58},-80229.87,514155.26,-2131341.1900000004,1940929.2800000003]
[47,1820,"Distribution Station Equipment <50 Kv (1821)",{"$f":"'App.2-BA_FA Cont Component 2013'!G29","v":1880385.35},401384,null,2281769.35,null,{"$f":"'App.2-BA_FA Cont Component 2013'!L29","v":-730153.71},-63262.52,null,-793416.23,1488353.12]
[47,1825,"Storage Battery Equipment",{"$f":"'App.2-BA_FA Cont Component 2013'!G30","v":0},null,null,0,null,{"$f":"'App.2-BA_FA Cont Component 2013'!L30","v":0},null,null,0,0]
[47,1830,"Poles, Towers & Fixtures - Wood",{"$f":"'App.2-BA_FA Cont Component 2013'!G31","v":38635153.859999999},1900121.0999999989,null,40535274.960000001,null,{"$f":"'App.2-BA_FA Cont Component 2013'!L31","v":-22972376.66},-384436.2,null,-23356812.859999999,17178462.100000001]
[47,1830,"Poles, Towers & Fixtures - (1831) Concrete",{"$f":"'App.2-BA_FA Cont Component 2013'!G32","v":2918249.31},120418.61,null,3038667.92,null,{"$f":"'App.2-BA_FA Cont Component 2013'!L32","v":-1240865.22},{"$f":"-30261.75-2418.35","v":-32680.1},null,-1273545.32,1765122.5999999999]
[47,1835,"Overhead Conductors & Devices",{"$f":"'App.2-BA_FA Cont Component 2013'!G33","v":21817970.120000001},1518020.1699999978,null,23335990.289999999,null,{"$f":"'App.2-BA_FA Cont Component 2013'!L33","v":-8439270.910000002},-254998.99,null,-8694269.9000000022,14641720.389999997]
[47,1835,"Overhead Conductors & Devices (1836)",{"$f":"'App.2-BA_FA Cont Component 2013'!G34","v":2501048.2999999998},105662,null,2606710.2999999998,null,{"$f":"'App.2-BA_FA Cont Component 2013'!L34","v":-816410.15},{"$f":"-241865.37-76901.15","v":-318766.52},null,-1135176.67,1471533.63]
[47,1835,"Overhead Conductors & Devices (1837)",{"$f":"'App.2-BA_FA Cont Component 2013'!G35","v":1901698.58},340329.59,null,2242028.17,null,{"$f":"'App.2-BA_FA Cont Component 2013'!L35","v":-462718.63},{"$f":"-55264.08-8813.43","v":-64077.51},null,-526796.14,1715232.0299999998]
[47,1840,"Underground Conduit",{"$f":"'App.2-BA_FA Cont Component 2013'!G36","v":9072907.7599999998},590886.74999999953,null,9663794.5099999998,null,{"$f":"'App.2-BA_FA Cont Component 2013'!L36","v":-2198092.8199999998},-161244.42000000001,null,-2359337.2399999998,7304457.2699999996]
[47,1845,"Underground Conductors & Devices",{"$f":"'App.2-BA_FA Cont Component 2013'!G37","v":62805003.140000001},1698458.6300000024,null,64503461.770000003,null,{"$f":"'App.2-BA_FA Cont Component 2013'!L37","v":-35860058.689999998},-1626236.8699999999,null,-37486295.559999995,27017166.210000008]
[47,1845,"Underground Conductors & Devices (1846)",{"$f":"'App.2-BA_FA Cont Component 2013'!G38","v":1884815.71},186760.03,null,2071575.74,null,{"$f":"'App.2-BA_FA Cont Component 2013'!L38","v":-945945.05},{"$f":"-3606.07-72951.68-15063.04","v":-91620.790000000008},null,-1037565.8400000001,1034009.8999999999]
[47,1850,"Line Transformers (1850) Polemount",{"$f":"'App.2-BA_FA Cont Component 2013'!G39","v":19032373.84},432676.47000000323,{"$f":"-272675-F40","v":-143205.44},19321844.870000001,null,{"$f":"'App.2-BA_FA Cont Component 2013'!L39","v":-13264131.329999998},-211500.13,143205.44,{"$f":"I39+J39+K39","v":-13332426.02},5989418.8500000015]
[47,1850,"Line Transformers (1853) Padmount",{"$f":"'App.2-BA_FA Cont Component 2013'!G40","v":17225897.259999998},937944.7,-129469.56,18034372.399999999,null,{"$f":"'App.2-BA_FA Cont Component 2013'!L40","v":-8042465.46},{"$f":"-66966.28-401029.71","v":-467995.99},129469.56,-8380991.8899999997,9653380.5099999979]
[47,1855,"Services (Overhead & Underground)",{"$f":"'App.2-BA_FA Cont Component 2013'!G41","v":4629063.25},800998,null,5430061.25,null,{"$f":"'App.2-BA_FA Cont Component 2013'!L41","v":-1109782.99},-201181.73,null,-1310964.72,4119096.5300000003]
[47,1860,"Meters",{"$f":"'App.2-BA_FA Cont Component 2013'!G42","v":2645456.1799999997},248020,null,2893476.1799999997,null,{"$f":"'App.2-BA_FA Cont Component 2013'!L42","v":-840926.77000000025},-146928.29999999999,null,{"$f":"I42+J42+K42","v":-987855.0700000003},1905621.1099999994]
[47,1860,"Meters (Smart Meters)",{"$f":"'App.2-BA_FA Cont Component 2013'!G43","v":4175009.94},27477,null,4202486.9399999995,null,{"$f":"'App.2-BA_FA Cont Component 2013'!L43","v":-695835.09000000008},-279238.18,null,-975073.27,3227413.6699999995]
[47,1865,"Other Installations on Customer's Premises",{"$f":"'App.2-BA_FA Cont Component 2013'!G44","v":0},0,null,0,null,{"$f":"'App.2-BA_FA Cont Component 2013'!L44","v":0},null,null,0,0]
[47,1875,"Street Lighting and Signal Systems",{"$f":"'App.2-BA_FA Cont Component 2013'!G45","v":0},0,null,0,null,{"$f":"'App.2-BA_FA Cont Component 2013'!L45","v":0},null,null,0,0]
["N/A",1905,"Land",{"$f":"'App.2-BA_FA Cont Component 2013'!G46","v":508969.83},0,null,508969.83,null,{"$f":"'App.2-BA_FA Cont Component 2013'!L46","v":0},null,null,0,508969.83]
[47,1908,"Buildings & Fixtures",{"$f":"'App.2-BA_FA Cont Component 2013'!G47","v":13205845.529999999},1911585,null,15117430.529999999,null,{"$f":"'App.2-BA_FA Cont Component 2013'!L47","v":-2455533.33},-231983.67,null,-2687517,12429913.529999999]
[13,1910,"Leasehold Improvements",{"$f":"'App.2-BA_FA Cont Component 2013'!G48","v":120252.32},0,null,120252.32,null,{"$f":"'App.2-BA_FA Cont Component 2013'!L48","v":-120252.32},0,null,-120252.32,0]
[8,1915,"Office Furniture & Equipment (10 years)",{"$f":"'App.2-BA_FA Cont Component 2013'!G49","v":1323138.44},170426,null,1493564.44,null,{"$f":"'App.2-BA_FA Cont Component 2013'!L49","v":-851762.72},-85856.72,null,-937619.44,555945]
[8,1915,"Office Furniture & Equipment (5 years)",{"$f":"'App.2-BA_FA Cont Component 2013'!G50","v":0},null,null,0,null,{"$f":"'App.2-BA_FA Cont Component 2013'!L50","v":0},null,null,0,0]
[10,1920,"Computer Equipment - Hardware",{"$f":"'App.2-BA_FA Cont Component 2013'!G51","v":1257769.3},null,null,1257769.3,null,{"$f":"'App.2-BA_FA Cont Component 2013'!L51","v":-1257769.3},null,null,-1257769.3,0]
[45,1920,"Computer Equip.-Hardware(Post Mar. 22/04)",{"$f":"'App.2-BA_FA Cont Component 2013'!G52","v":320323.46000000002},null,null,320323.46000000002,null,{"$f":"'App.2-BA_FA Cont Component 2013'!L52","v":-315054.35600000003},null,null,-315054.35600000003,5269.1039999999921]
[50,1920,"Computer Equip.-Hardware(Post Mar. 19/07)",{"$f":"'App.2-BA_FA Cont Component 2013'!G53","v":1923229.75},276353,null,2199582.75,null,{"$f":"'App.2-BA_FA Cont Component 2013'!L53","v":-1110846.4699999997},-304064.93,151.47999999999999,-1414759.9199999997,784822.83000000031]
[10,1930,"Transportation Equipment (1931)",{"$f":"'App.2-BA_FA Cont Component 2013'!G54","v":548320.97},180596.99,-22934.280000000028,705983.67999999993,null,{"$f":"'App.2-BA_FA Cont Component 2013'!L54","v":-321095.90999999997},-64851.070000000014,22056,-363890.98,342092.69999999995]
[10,1930,"Transportation Equipment (1932) Large Trucks",{"$f":"'App.2-BA_FA Cont Component 2013'!G55","v":6735905.7400000002},1141557.01,-332764.71999999997,7544698.0300000003,null,{"$f":"'App.2-BA_FA Cont Component 2013'!L55","v":-4017550.0299999993},-213066.99,{"$f":"176946.68+155818.04","v":332764.71999999997},-3897852.3,3646845.7300000004]
[10,1930,"Transportation Equipment (1933) Trailers",{"$f":"'App.2-BA_FA Cont Component 2013'!G56","v":320906.27},8420,null,329326.27,null,{"$f":"'App.2-BA_FA Cont Component 2013'!L56","v":-224400.54},-5232.51,null,-229633.05000000002,99693.22]
[8,1935,"Stores Equipment",{"$f":"'App.2-BA_FA Cont Component 2013'!G57","v":236414.31},0,null,236414.31,null,{"$f":"'App.2-BA_FA Cont Component 2013'!L57","v":-196641.28},-5424.28,null,-202065.56,34348.75]
[8,1940,"Tools, Shop & Garage Equipment",{"$f":"'App.2-BA_FA Cont Component 2013'!G58","v":1871743.55},83082,null,1954825.55,null,{"$f":"'App.2-BA_FA Cont Component 2013'!L58","v":-1457230.06},-75413.36,null,-1532643.4200000002,422182.12999999989]
[8,1945,"Measurement & Testing Equipment",{"$f":"'App.2-BA_FA Cont Component 2013'!G59","v":204006.33},0,null,204006.33,null,{"$f":"'App.2-BA_FA Cont Component 2013'!L59","v":-186619.05000000002},-7508.17,null,-194127.22000000003,9879.1099999999569]
[8,1950,"Power Operated Equipment",{"$f":"'App.2-BA_FA Cont Component 2013'!G60","v":0},0,null,0,null,{"$f":"'App.2-BA_FA Cont Component 2013'!L60","v":0},0,null,0,0]
[8,1955,"Communications Equipment",{"$f":"'App.2-BA_FA Cont Component 2013'!G61","v":502920.32999999996},343864,null,846784.33,null,{"$f":"'App.2-BA_FA Cont Component 2013'!L61","v":-155981.41},-19419.080000000002,null,-175400.49,671383.84]
[8,1955,"Communication Equipment (Smart Meters)",{"$f":"'App.2-BA_FA Cont Component 2013'!G62","v":0},0,null,0,null,{"$f":"'App.2-BA_FA Cont Component 2013'!L62","v":0},null,null,0,0]
[8,1960,"Miscellaneous Equipment ",{"$f":"'App.2-BA_FA Cont Component 2013'!G63","v":72951.31},0,null,72951.31,null,{"$f":"'App.2-BA_FA Cont Component 2013'!L63","v":-67313.959999999992},-3318.45,null,-70632.409999999989,2318.9000000000087]
[47,1970,"Load Management Controls Customer Premises",{"$f":"'App.2-BA_FA Cont Component 2013'!G64","v":0},null,null,0,null,{"$f":"'App.2-BA_FA Cont Component 2013'!L64","v":0},null,null,0,0]
[47,1975,"Load Management Controls Utility Premises",{"$f":"'App.2-BA_FA Cont Component 2013'!G65","v":0},null,null,0,null,{"$f":"'App.2-BA_FA Cont Component 2013'!L65","v":0},null,null,{"$f":"I65+J65+K65","v":0},0]
[47,1980,"System Supervisor Equipment",{"$f":"'App.2-BA_FA Cont Component 2013'!G66","v":128960.64},null,null,128960.64,null,{"$f":"'App.2-BA_FA Cont Component 2013'!L66","v":-128961},null,null,-128961,-0.36000000000058208]
[47,1985,"Miscellaneous Fixed Assets",{"$f":"'App.2-BA_FA Cont Component 2013'!G67","v":0},null,null,0,null,{"$f":"'App.2-BA_FA Cont Component 2013'!L67","v":0},null,null,0,0]
[47,1990,"Other Tangible Property",{"$f":"'App.2-BA_FA Cont Component 2013'!G68","v":0},null,null,0,null,{"$f":"'App.2-BA_FA Cont Component 2013'!L68","v":0},null,null,0,0]
[47,1995,"Contributions & Grants",{"$f":"'App.2-BA_FA Cont Component 2013'!G69","v":-20525490.359999999},-991373,null,-21516863.359999999,null,{"$f":"'App.2-BA_FA Cont Component 2013'!L69","v":5493615.1099999994},810261.01,null,6303876.1199999992,-15212987.24]
[47,2440,"Deferred Revenue5",{"$f":"'App.2-BA_FA Cont Component 2013'!G70","v":0},null,null,0,null,{"$f":"'App.2-BA_FA Cont Component 2013'!L70","v":0},null,null,null,0]
[47,2005,"2005-Property Under Capital Leases",{"$f":"'App.2-BA_FA Cont Component 2013'!G71","v":0},null,null,0,null,{"$f":"'App.2-BA_FA Cont Component 2013'!L71","v":0},null,null,null,0]
[null,null,null,null,null,null,0,null,null,null,null,0,{"$f":"G72+L72","v":0}]
[null,null,"Sub-Total",{"$f":"SUM(D17:D72)","v":215869068.53000009},{"$f":"SUM(E17:E72)","v":12649049.650000002},{"$f":"SUM(F17:F72)","v":-1209394},{"$f":"SUM(G17:G72)","v":227308724.18000013},null,{"$f":"SUM(I17:I72)","v":-111886124.85599996},{"$f":"SUM(J17:J72)","v":-5055098.63},{"$f":"SUM(K17:K72)","v":1141802.46},{"$f":"SUM(L17:L72)","v":-115799421.02599999},{"$f":"SUM(M17:M72)","v":111509303.15400003}]
[null,null,"Less Socialized Renewable Energy Generation Investments (input as negative)",null,null,null,{"$f":"D74+E74+F74","v":0},null,null,null,null,{"$f":"I74+J74+K74","v":0},{"$f":"G74+L74","v":0}]
[null,null,"Less Other Non Rate-Regulated Utility Assets (input as negative)",null,null,null,{"$f":"D75+E75+F75","v":0},null,null,null,null,{"$f":"I75+J75+K75","v":0},{"$f":"G75+L75","v":0}]
[null,null,"Total PP&E",{"$f":"SUM(D73:D75)","v":215869068.53000009},{"$f":"SUM(E73:E75)","v":12649049.650000002},{"$f":"SUM(F73:F75)","v":-1209394},{"$f":"SUM(G73:G75)","v":227308724.18000013},null,{"$f":"SUM(I73:I75)","v":-111886124.85599996},{"$f":"SUM(J73:J75)","v":-5055098.63},{"$f":"SUM(K73:K75)","v":1141802.46},{"$f":"SUM(L73:L75)","v":-115799421.02599999},{"$f":"SUM(M73:M75)","v":111509303.15400003}]
[null,null,"Depreciation Expense adj. from gain or loss on the retirement of assets (pool of like assets), if applicable6"]
[null,null,"Total",null,null,null,null,null,null,{"$f":"J76+J77","v":-5055098.63}]
[]
[null,null,null,null,null,null,null,null,"Less: Fully Allocated Depreciation"]
[10,null,"Transportation",null,null,null,null,null,"Transportation"]
[8,null,"Stores Equipment",null,null,null,null,null,"Stores Equipment"]
[null,null,null,null,null,null,null,null,"Net Depreciation",null,{"$f":"J78-K81-K82","v":-5055098.63}]
[]
["Notes:"]
[]
[1,"Tables in the format outlined above covering all fixed asset accounts should be submitted for the Test Year, Bridge Year and all relevant historical years.  At a minimum , the applicant must provide data for the earlier of: 1) all historical years back to its last rebasing; or 2) at least three years of historical actuals, in addition to Bridge Year and Test Year forecasts."]
[]
[]
[2,"The \"CCA Class\" for fixed assets should agree with the CCA Class used for tax purposes in Tax Returns. Fixed Assets sub-components may be used where the underlying asset components are classified under multiple CCA Classes for tax purposes. If an applicant uses any different classes from those shown in the table, an explanation should be provided. (also see note 3 below)."]
[]
[]
[3,"The table may need to be customized for a utility's asset categories or for any new asset accounts announced or authorized by the Board."]
[]
[4,"The additions column (E) must not include construction work in progress (CWIP)."]
[]
[5,"Effective on the date of IFRS adoption, customer contributions will no longer be recorded in Account 1995 Contributions & Grants, but will be recorded in Account 2440, Deferred Revenues.  "]
[]
[6,"Where a distributor for general financial reporting purposes under IFRS has accounted for the amount of gain or loss on the retirement of assets in a pool of like assets as a charge or credit to income, for reporting and rate application filings the distributor shall reclassify such gains and losses as depreciation expense, and disclose the amount separately."]

{"sheet":"App.2-BA_Fixed Asset 2013_Old ","index":12,"n_rows":99,"n_cols":13,"rows_kept":99,"cut":false,"hidden":false,"merged":[[89,1,90,12],[92,1,92,12],[98,1,99,12],[8,0,8,12],[9,0,9,12],[14,3,14,6],[76,2,76,8],[77,2,77,8],[86,1,87,12]]}
[null,null,null,null,null,null,null,null,null,null,null,"File Number:",{"$f":"EBNUMBER","v":"EB-2014-0096"}]
[null,null,null,null,null,null,null,null,null,null,null,"Exhibit:",2]
[null,null,null,null,null,null,null,null,null,null,null,"Tab:",1]
[null,null,null,null,null,null,null,null,null,null,null,"Schedule:",1]
[null,null,null,null,null,null,null,null,null,null,null,"Page:",5]
[]
[null,null,null,null,null,null,null,null,null,null,null,"Date:","2014-08-29"]
[]
["Appendix 2-BA"]
["Fixed Asset Continuity Schedule "]
[]
[null,null,null,null,"Accounting Standard","CGAAP"]
[null,null,null,null,"Year ",2013,null,null,"Using Old Useful Lives"]
[]
[null,null,null,"Cost",null,null,null,null,null,"Accumulated Depreciation"]
["CCA Class","OEB","Description","Opening Balance","Additions","Disposals","Closing Balance",null,"Opening Balance","Additions","Disposals","Closing Balance","Net Book Value"]
[12,1611,"Computer Software (Formally known as Account 1925)",{"$f":"'App.2-BA_FA Cont Component 2013'!G17","v":2576964.5699999998},114742,null,{"$f":"D17+E17+F17","v":2691706.57},null,{"$f":"'App.2-BA_FA Cont Component 2013'!L17","v":-2210400.2000000002},-223111.67999999999,null,{"$f":"I17+J17+K17","v":-2433511.8800000004},{"$f":"G17+L17","v":258194.68999999948}]
["CEC",1612,"Land Rights (Formally known as Account 1906)",{"$f":"'App.2-BA_FA Cont Component 2013'!G18","v":0},null,null,{"$f":"D18+E18+F18","v":0},null,{"$f":"'App.2-BA_FA Cont Component 2013'!L18","v":0},null,null,{"$f":"I18+J18+K18","v":0},{"$f":"G18+L18","v":0}]
["N/A",1805,"Land",{"$f":"'App.2-BA_FA Cont Component 2013'!G19","v":507272.79000000004},null,null,507272.79000000004,null,{"$f":"'App.2-BA_FA Cont Component 2013'!L19","v":0},null,null,0,507272.79000000004]
[47,1806,"Land Rights  ",{"$f":"'App.2-BA_FA Cont Component 2013'!G20","v":1603586.68},809.6,null,1604396.28,null,{"$f":"'App.2-BA_FA Cont Component 2013'!L20","v":-811063.80999999994},-57097.98,null,-868161.78999999992,736234.49000000011]
[47,1808,"Buildings",{"$f":"'App.2-BA_FA Cont Component 2013'!G21","v":111638.13},null,null,111638.13,null,{"$f":"'App.2-BA_FA Cont Component 2013'!L21","v":-111637},null,null,-111637,1.1300000000046566]
[13,1810,"Leasehold Improvements",{"$f":"'App.2-BA_FA Cont Component 2013'!G22","v":0},null,null,0,null,{"$f":"'App.2-BA_FA Cont Component 2013'!L22","v":0},null,null,0,0]
[47,1815,"Transformer Station Equipment > 50 kV (1708, 1740, 1745)",{"$f":"'App.2-BA_FA Cont Component 2013'!G23","v":3833012.8000000003},0,null,3833012.8000000003,null,{"$f":"'App.2-BA_FA Cont Component 2013'!L23","v":-624673.3899999999},-76660.28,null,-701333.66999999993,3131679.1300000004]
[47,1815,"Transformer Station Equipment > 50 kV (1715, 1815)",{"$f":"'App.2-BA_FA Cont Component 2013'!G24","v":1502385.84},16679,null,1519064.84,null,{"$f":"'App.2-BA_FA Cont Component 2013'!L24","v":-176326.84000000003},-41943.74,null,-218270.58000000002,1300794.26]
[47,1815,"Transformer Station Equipment > 50 kV (1716)",{"$f":"'App.2-BA_FA Cont Component 2013'!G25","v":46955.06},null,null,46955.06,null,{"$f":"'App.2-BA_FA Cont Component 2013'!L25","v":-14433.06},-1025.57,null,-15458.63,31496.43]
[47,1815,"Transformer Station Equipment > 50 kV (1717)",{"$f":"'App.2-BA_FA Cont Component 2013'!G26","v":610733.92999999993},null,null,610733.92999999993,null,{"$f":"'App.2-BA_FA Cont Component 2013'!L26","v":-187726.93},-13339.38,null,-201066.31,409667.61999999994]
[47,1815,"Transformer Station Equipment  > 50 kV (1719)",{"$f":"'App.2-BA_FA Cont Component 2013'!G27","v":625178.93999999994},null,null,625178.93999999994,null,{"$f":"'App.2-BA_FA Cont Component 2013'!L27","v":-192166.94},-13654.87,null,-205821.81,419357.12999999995]
[47,1820,"Distribution Station Equipment <50 kV",{"$f":"'App.2-BA_FA Cont Component 2013'!G28","v":4570139.4700000007},83151,-581020,4072270.4700000007,null,{"$f":"'App.2-BA_FA Cont Component 2013'!L28","v":-2565266.58},-143534.91,514155.26,-2194646.2300000004,1877624.2400000002]
[47,1820,"Distribution Station Equipment <50 Kv (1821)",{"$f":"'App.2-BA_FA Cont Component 2013'!G29","v":1880385.35},401384,null,2281769.35,null,{"$f":"'App.2-BA_FA Cont Component 2013'!L29","v":-730153.71},-69770.259999999995,null,-799923.97,1481845.3800000001]
[47,1825,"Storage Battery Equipment",{"$f":"'App.2-BA_FA Cont Component 2013'!G30","v":0},null,null,0,null,{"$f":"'App.2-BA_FA Cont Component 2013'!L30","v":0},null,null,0,0]
[47,1830,"Poles, Towers & Fixtures - Wood",{"$f":"'App.2-BA_FA Cont Component 2013'!G31","v":38635153.859999999},1900121.0999999989,null,40535274.960000001,null,{"$f":"'App.2-BA_FA Cont Component 2013'!L31","v":-22972376.66},{"$f":"-1186237.56-873.4","v":-1187110.96},null,-24159487.620000001,16375787.34]
[47,1830,"Poles, Towers & Fixtures - (1831) Concrete",{"$f":"'App.2-BA_FA Cont Component 2013'!G32","v":2918249.31},120418.61,null,3038667.92,null,{"$f":"'App.2-BA_FA Cont Component 2013'!L32","v":-1240865.22},-106803.49,null,-1347668.71,1690999.21]
[47,1835,"Overhead Conductors & Devices",{"$f":"'App.2-BA_FA Cont Component 2013'!G33","v":21817970.120000001},1518020.1699999978,null,23335990.289999999,null,{"$f":"'App.2-BA_FA Cont Component 2013'!L33","v":-8439270.910000002},-872612.44,null,-9311883.3500000015,14024106.939999998]
[47,1835,"Overhead Conductors & Devices (1836)",{"$f":"'App.2-BA_FA Cont Component 2013'!G34","v":2501048.2999999998},105662,null,2606710.2999999998,null,{"$f":"'App.2-BA_FA Cont Component 2013'!L34","v":-816410.15},-105665.8,null,-922075.95000000007,1684634.3499999996]
[47,1835,"Overhead Conductors & Devices (1837)",{"$f":"'App.2-BA_FA Cont Component 2013'!G35","v":1901698.58},340329.59,null,2242028.17,null,{"$f":"'App.2-BA_FA Cont Component 2013'!L35","v":-462718.63},-82904.47,null,-545623.1,1696405.0699999998]
[47,1840,"Underground Conduit",{"$f":"'App.2-BA_FA Cont Component 2013'!G36","v":9072907.7599999998},590886.74999999953,null,9663794.5099999998,null,{"$f":"'App.2-BA_FA Cont Component 2013'!L36","v":-2198092.8199999998},-374689.74,null,-2572782.5599999996,7091011.9500000002]
[47,1845,"Underground Conductors & Devices",{"$f":"'App.2-BA_FA Cont Component 2013'!G37","v":62805003.140000001},1698458.6300000024,null,64503461.770000003,null,{"$f":"'App.2-BA_FA Cont Component 2013'!L37","v":-35860058.689999998},-2257998.48,null,-38118057.169999994,26385404.600000009]
[47,1845,"Underground Conductors & Devices (1846)",{"$f":"'App.2-BA_FA Cont Component 2013'!G38","v":1884815.71},186760.03,null,2071575.74,null,{"$f":"'App.2-BA_FA Cont Component 2013'!L38","v":-945945.05},-69445.33,null,-1015390.38,1056185.3599999999]
[47,1850,"Line Transformers (1850) Polemount",{"$f":"'App.2-BA_FA Cont Component 2013'!G39","v":19032373.84},432676.47000000323,{"$f":"-272675-F40","v":-143205.44},19321844.870000001,null,{"$f":"'App.2-BA_FA Cont Component 2013'!L39","v":-13264131.329999998},-531141.94999999995,143205.44,{"$f":"I39+J39+K39","v":-13652067.839999998},5669777.0300000031]
[47,1850,"Line Transformers (1853) Padmount",{"$f":"'App.2-BA_FA Cont Component 2013'!G40","v":17225897.259999998},937944.7,-129469.56,18034372.399999999,null,{"$f":"'App.2-BA_FA Cont Component 2013'!L40","v":-8042465.46},-693862.95,129469.56,-8606858.8499999996,9427513.5499999989]
[47,1855,"Services (Overhead & Underground)",{"$f":"'App.2-BA_FA Cont Component 2013'!G41","v":4629063.25},800998,null,5430061.25,null,{"$f":"'App.2-BA_FA Cont Component 2013'!L41","v":-1109782.99},-201181.73,null,-1310964.72,4119096.5300000003]
[47,1860,"Meters",{"$f":"'App.2-BA_FA Cont Component 2013'!G42","v":2645456.1799999997},248020,null,2893476.1799999997,null,{"$f":"'App.2-BA_FA Cont Component 2013'!L42","v":-840926.77000000025},-128806.33,null,{"$f":"I42+J42+K42","v":-969733.10000000021},1923743.0799999996]
[47,1860,"Meters (Smart Meters)",{"$f":"'App.2-BA_FA Cont Component 2013'!G43","v":4175009.94},27477,null,4202486.9399999995,null,{"$f":"'App.2-BA_FA Cont Component 2013'!L43","v":-695835.09000000008},-279238.28000000003,null,-975073.37000000011,3227413.5699999994]
[47,1865,"Other Installations on Customer's Premises",{"$f":"'App.2-BA_FA Cont Component 2013'!G44","v":0},0,null,0,null,{"$f":"'App.2-BA_FA Cont Component 2013'!L44","v":0},null,null,0,0]
[47,1875,"Street Lighting and Signal Systems",{"$f":"'App.2-BA_FA Cont Component 2013'!G45","v":0},0,null,0,null,{"$f":"'App.2-BA_FA Cont Component 2013'!L45","v":0},null,null,0,0]
["N/A",1905,"Land",{"$f":"'App.2-BA_FA Cont Component 2013'!G46","v":508969.83},0,null,508969.83,null,{"$f":"'App.2-BA_FA Cont Component 2013'!L46","v":0},null,null,0,508969.83]
[47,1908,"Buildings & Fixtures",{"$f":"'App.2-BA_FA Cont Component 2013'!G47","v":13205845.529999999},1911585,null,15117430.529999999,null,{"$f":"'App.2-BA_FA Cont Component 2013'!L47","v":-2455533.33},-231983.67,null,-2687517,12429913.529999999]
[13,1910,"Leasehold Improvements",{"$f":"'App.2-BA_FA Cont Component 2013'!G48","v":120252.32},0,null,120252.32,null,{"$f":"'App.2-BA_FA Cont Component 2013'!L48","v":-120252.32},null,null,-120252.32,0]
[8,1915,"Office Furniture & Equipment (10 years)",{"$f":"'App.2-BA_FA Cont Component 2013'!G49","v":1323138.44},170426,null,1493564.44,null,{"$f":"'App.2-BA_FA Cont Component 2013'!L49","v":-851762.72},-85856.73,null,-937619.45,555944.99]
[8,1915,"Office Furniture & Equipment (5 years)",{"$f":"'App.2-BA_FA Cont Component 2013'!G50","v":0},null,null,0,null,{"$f":"'App.2-BA_FA Cont Component 2013'!L50","v":0},null,null,0,0]
[10,1920,"Computer Equipment - Hardware",{"$f":"'App.2-BA_FA Cont Component 2013'!G51","v":1257769.3},null,null,1257769.3,null,{"$f":"'App.2-BA_FA Cont Component 2013'!L51","v":-1257769.3},null,null,-1257769.3,0]
[45,1920,"Computer Equip.-Hardware(Post Mar. 22/04)",{"$f":"'App.2-BA_FA Cont Component 2013'!G52","v":320323.46000000002},null,null,320323.46000000002,null,{"$f":"'App.2-BA_FA Cont Component 2013'!L52","v":-315054.35600000003},null,null,-315054.35600000003,5269.1039999999921]
[50,1920,"Computer Equip.-Hardware(Post Mar. 19/07)",{"$f":"'App.2-BA_FA Cont Component 2013'!G53","v":1923229.75},276353,null,2199582.75,null,{"$f":"'App.2-BA_FA Cont Component 2013'!L53","v":-1110846.4699999997},-304064.93,151.47999999999999,-1414759.9199999997,784822.83000000031]
[10,1930,"Transportation Equipment (1931)",{"$f":"'App.2-BA_FA Cont Component 2013'!G54","v":548320.97},180596.99,-22934.280000000028,705983.67999999993,null,{"$f":"'App.2-BA_FA Cont Component 2013'!L54","v":-321095.90999999997},-64851.07,22056,-363890.98,342092.69999999995]
[10,1930,"Transportation Equipment (1932) Large Trucks",{"$f":"'App.2-BA_FA Cont Component 2013'!G55","v":6735905.7400000002},1141557.01,-332764.71999999997,7544698.0300000003,null,{"$f":"'App.2-BA_FA Cont Component 2013'!L55","v":-4017550.0299999993},-488146.79,{"$f":"176946.68+155818.04","v":332764.71999999997},-4172932.0999999996,3371765.9300000006]
[10,1930,"Transportation Equipment (1933) Trailers",{"$f":"'App.2-BA_FA Cont Component 2013'!G56","v":320906.27},8420,null,329326.27,null,{"$f":"'App.2-BA_FA Cont Component 2013'!L56","v":-224400.54},-14675.39,null,-239075.93,90250.340000000026]
[8,1935,"Stores Equipment",{"$f":"'App.2-BA_FA Cont Component 2013'!G57","v":236414.31},0,null,236414.31,null,{"$f":"'App.2-BA_FA Cont Component 2013'!L57","v":-196641.28},-5424.28,null,-202065.56,34348.75]
[8,1940,"Tools, Shop & Garage Equipment",{"$f":"'App.2-BA_FA Cont Component 2013'!G58","v":1871743.55},83082,null,1954825.55,null,{"$f":"'App.2-BA_FA Cont Component 2013'!L58","v":-1457230.06},-75413.36,null,-1532643.4200000002,422182.12999999989]
[8,1945,"Measurement & Testing Equipment",{"$f":"'App.2-BA_FA Cont Component 2013'!G59","v":204006.33},0,null,204006.33,null,{"$f":"'App.2-BA_FA Cont Component 2013'!L59","v":-186619.05000000002},-7508.17,null,-194127.22000000003,9879.1099999999569]
[8,1950,"Power Operated Equipment",{"$f":"'App.2-BA_FA Cont Component 2013'!G60","v":0},0,null,0,null,{"$f":"'App.2-BA_FA Cont Component 2013'!L60","v":0},null,null,0,0]
[8,1955,"Communications Equipment",{"$f":"'App.2-BA_FA Cont Component 2013'!G61","v":502920.32999999996},343864,null,846784.33,null,{"$f":"'App.2-BA_FA Cont Component 2013'!L61","v":-155981.41},-107082.25,null,-263063.66000000003,583720.66999999993]
[8,1955,"Communication Equipment (Smart Meters)",{"$f":"'App.2-BA_FA Cont Component 2013'!G62","v":0},0,null,0,null,{"$f":"'App.2-BA_FA Cont Component 2013'!L62","v":0},null,null,0,0]
[8,1960,"Miscellaneous Equipment ",{"$f":"'App.2-BA_FA Cont Component 2013'!G63","v":72951.31},0,null,72951.31,null,{"$f":"'App.2-BA_FA Cont Component 2013'!L63","v":-67313.959999999992},-3318.45,null,-70632.409999999989,2318.9000000000087]
[47,1970,"Load Management Controls Customer Premises",{"$f":"'App.2-BA_FA Cont Component 2013'!G64","v":0},null,null,0,null,{"$f":"'App.2-BA_FA Cont Component 2013'!L64","v":0},null,null,0,0]
[47,1975,"Load Management Controls Utility Premises",{"$f":"'App.2-BA_FA Cont Component 2013'!G65","v":0},null,null,0,null,{"$f":"'App.2-BA_FA Cont Component 2013'!L65","v":0},null,null,0,0]
[47,1980,"System Supervisor Equipment",{"$f":"'App.2-BA_FA Cont Component 2013'!G66","v":128960.64},null,null,128960.64,null,{"$f":"'App.2-BA_FA Cont Component 2013'!L66","v":-128961},null,null,-128961,-0.36000000000058208]
[47,1985,"Miscellaneous Fixed Assets",{"$f":"'App.2-BA_FA Cont Component 2013'!G67","v":0},null,null,0,null,{"$f":"'App.2-BA_FA Cont Component 2013'!L67","v":0},null,null,0,0]
[47,1990,"Other Tangible Property",{"$f":"'App.2-BA_FA Cont Component 2013'!G68","v":0},null,null,0,null,{"$f":"'App.2-BA_FA Cont Component 2013'!L68","v":0},null,null,0,0]
[47,1995,"Contributions & Grants",{"$f":"'App.2-BA_FA Cont Component 2013'!G69","v":-20525490.359999999},-991373,null,-21516863.359999999,null,{"$f":"'App.2-BA_FA Cont Component 2013'!L69","v":5493615.1099999994},810261,null,6303876.1099999994,-15212987.25]
[47,2440,"Deferred Revenue5",{"$f":"'App.2-BA_FA Cont Component 2013'!G70","v":0},null,null,0,null,{"$f":"'App.2-BA_FA Cont Component 2013'!L70","v":0},null,null,null,0]
[47,2005,"2005-Property Under Capital Leases",{"$f":"'App.2-BA_FA Cont Component 2013'!G71","v":0},null,null,0,null,{"$f":"'App.2-BA_FA Cont Component 2013'!L71","v":0},null,null,null,0]
[null,null,null,null,null,null,0,null,null,null,null,0,{"$f":"G72+L72","v":0}]
[null,null,"Sub-Total",{"$f":"SUM(D17:D72)","v":215869068.53000009},{"$f":"SUM(E17:E72)","v":12649049.650000002},{"$f":"SUM(F17:F72)","v":-1209394},{"$f":"SUM(G17:G72)","v":227308724.18000013},null,{"$f":"SUM(I17:I72)","v":-111886124.85599996},{"$f":"SUM(J17:J72)","v":-8109664.709999999},{"$f":"SUM(K17:K72)","v":1141802.46},{"$f":"SUM(L17:L72)","v":-118853987.10600001},{"$f":"SUM(M17:M72)","v":108454737.07400002}]
[null,null,"Less Socialized Renewable Energy Generation Investments (input as negative)",null,null,null,{"$f":"D74+E74+F74","v":0},null,null,null,null,{"$f":"I74+J74+K74","v":0},{"$f":"G74+L74","v":0}]
[null,null,"Less Other Non Rate-Regulated Utility Assets (input as negative)",null,null,null,{"$f":"D75+E75+F75","v":0},null,null,null,null,{"$f":"I75+J75+K75","v":0},{"$f":"G75+L75","v":0}]
[null,null,"Total PP&E",{"$f":"SUM(D73:D75)","v":215869068.53000009},{"$f":"SUM(E73:E75)","v":12649049.650000002},{"$f":"SUM(F73:F75)","v":-1209394},{"$f":"SUM(G73:G75)","v":227308724.18000013},null,{"$f":"SUM(I73:I75)","v":-111886124.85599996},{"$f":"SUM(J73:J75)","v":-8109664.709999999},{"$f":"SUM(K73:K75)","v":1141802.46},{"$f":"SUM(L73:L75)","v":-118853987.10600001},{"$f":"SUM(M73:M75)","v":108454737.07400002}]
[null,null,"Depreciation Expense adj. from gain or loss on the retirement of assets (pool of like assets), if applicable6"]
[null,null,"Total",null,null,null,null,null,null,{"$f":"J76+J77","v":-8109664.709999999}]
[]
[null,null,null,null,null,null,null,null,"Less: Fully Allocated Depreciation"]
[10,null,"Transportation",null,null,null,null,null,"Transportation"]
[8,null,"Stores Equipment",null,null,null,null,null,"Stores Equipment"]
[null,null,null,null,null,null,null,null,"Net Depreciation",null,{"$f":"J78-K81-K82","v":-8109664.709999999}]
[]
["Notes:"]
[]
[1,"Tables in the format outlined above covering all fixed asset accounts should be submitted for the Test Year, Bridge Year and all relevant historical years.  At a minimum , the applicant must provide data for the earlier of: 1) all historical years back to its last rebasing; or 2) at least three years of historical actuals, in addition to Bridge Year and Test Year forecasts."]
[]
[]
[2,"The \"CCA Class\" for fixed assets should agree with the CCA Class used for tax purposes in Tax Returns. Fixed Assets sub-components may be used where the underlying asset components are classified under multiple CCA Classes for tax purposes. If an applicant uses any different classes from those shown in the table, an explanation should be provided. (also see note 3 below)."]
[]
[]
[3,"The table may need to be customized for a utility's asset categories or for any new asset accounts announced or authorized by the Board."]
[]
[4,"The additions column (E) must not include construction work in progress (CWIP)."]
[]
[5,"Effective on the date of IFRS adoption, customer contributions will no longer be recorded in Account 1995 Contributions & Grants, but will be recorded in Account 2440, Deferred Revenues.  "]
[]
[6,"Where a distributor for general financial reporting purposes under IFRS has accounted for the amount of gain or loss on the retirement of assets in a pool of like assets as a charge or credit to income, for reporting and rate application filings the distributor shall reclassify such gains and losses as depreciation expense, and disclose the amount separately."]

{"sheet":"App.2-BA_Fixed Asset Cont2014","index":13,"n_rows":99,"n_cols":13,"rows_kept":99,"cut":false,"hidden":false,"merged":[[98,1,99,12],[8,0,8,12],[9,0,9,12],[14,3,14,6],[76,2,76,8],[77,2,77,8],[86,1,87,12],[89,1,90,12],[92,1,92,12]]}
[null,null,null,null,null,null,null,null,null,null,null,"File Number:",{"$f":"EBNUMBER","v":"EB-2014-0096"}]
[null,null,null,null,null,null,null,null,null,null,null,"Exhibit:",2]
[null,null,null,null,null,null,null,null,null,null,null,"Tab:",1]
[null,null,null,null,null,null,null,null,null,null,null,"Schedule:",1]
[null,null,null,null,null,null,null,null,null,null,null,"Page:",6]
[]
[null,null,null,null,null,null,null,null,null,null,null,"Date:","2014-08-29"]
[]
["Appendix 2-BA"]
["Fixed Asset Continuity Schedule "]
[]
[null,null,null,null,"Accounting Standard","CGAAP"]
[null,null,null,null,"Year ",2014]
[]
[null,null,null,"Cost",null,null,null,null,null,"Accumulated Depreciation"]
["CCA Class","OEB","Description","Opening Balance","Additions","Disposals","Closing Balance",null,"Opening Balance","Additions","Disposals","Closing Balance","Net Book Value"]
[12,1611,"Computer Software (Formally known as Account 1925)",{"$f":"'App.2-BA_Fixed Asset Cont 2013'!G17","v":2691706.57},737966,null,{"$f":"D17+E17+F17","v":3429672.57},null,{"$f":"'App.2-BA_Fixed Asset Cont 2013'!L17","v":-2433511.8800000004},-467668.05749999965,null,{"$f":"I17+J17+K17","v":-2901179.9375},{"$f":"G17+L17","v":528492.63249999983}]
["CEC",1612,"Land Rights (Formally known as Account 1906)",{"$f":"'App.2-BA_Fixed Asset Cont 2013'!G18","v":0},null,null,{"$f":"D18+E18+F18","v":0},null,{"$f":"'App.2-BA_Fixed Asset Cont 2013'!L18","v":0},null,null,{"$f":"I18+J18+K18","v":0},{"$f":"G18+L18","v":0}]
["N/A",1805,"Land",{"$f":"'App.2-BA_Fixed Asset Cont 2013'!G19","v":507272.79000000004},null,null,507272.79000000004,null,{"$f":"'App.2-BA_Fixed Asset Cont 2013'!L19","v":0},null,null,0,507272.79000000004]
[47,1806,"Land Rights  ",{"$f":"'App.2-BA_Fixed Asset Cont 2013'!G20","v":1604396.28},null,null,1604396.28,null,{"$f":"'App.2-BA_Fixed Asset Cont 2013'!L20","v":-868161.78999999992},-57066.564799999818,null,-925228.35479999974,679167.92520000029]
[47,1808,"Buildings",{"$f":"'App.2-BA_Fixed Asset Cont 2013'!G21","v":111638.13},null,null,111638.13,null,{"$f":"'App.2-BA_Fixed Asset Cont 2013'!L21","v":-111637},0,null,-111637,1.1300000000046566]
[13,1810,"Leasehold Improvements",{"$f":"'App.2-BA_Fixed Asset Cont 2013'!G22","v":0},null,null,0,null,{"$f":"'App.2-BA_Fixed Asset Cont 2013'!L22","v":0},null,null,0,0]
[47,1815,"Transformer Station Equipment > 50 kV (1708, 1740, 1745)",{"$f":"'App.2-BA_Fixed Asset Cont 2013'!G23","v":3833012.8000000003},null,null,3833012.8000000003,null,{"$f":"'App.2-BA_Fixed Asset Cont 2013'!L23","v":-701333.67999999993},-76660.272474902493,null,-777993.95247490238,3055018.8475250979]
[47,1815,"Transformer Station Equipment > 50 kV (1715, 1815)",{"$f":"'App.2-BA_Fixed Asset Cont 2013'!G24","v":1519064.84},null,null,1519064.84,null,{"$f":"'App.2-BA_Fixed Asset Cont 2013'!L24","v":-212606.46000000002},-36488.1,null,-249094.56000000003,1269970.28]
[47,1815,"Transformer Station Equipment > 50 kV (1716)",{"$f":"'App.2-BA_Fixed Asset Cont 2013'!G25","v":46955.06},null,null,46955.06,null,{"$f":"'App.2-BA_Fixed Asset Cont 2013'!L25","v":-37019.67},-10840.71,null,-47860.38,-905.31999999999971]
[47,1815,"Transformer Station Equipment > 50 kV (1717)",{"$f":"'App.2-BA_Fixed Asset Cont 2013'!G26","v":610733.92999999993},null,null,610733.92999999993,null,{"$f":"'App.2-BA_Fixed Asset Cont 2013'!L26","v":-201066.31},-13339.38,null,-214405.69,396328.23999999993]
[47,1815,"Transformer Station Equipment  > 50 kV (1719)",{"$f":"'App.2-BA_Fixed Asset Cont 2013'!G27","v":625178.93999999994},null,null,625178.93999999994,null,{"$f":"'App.2-BA_Fixed Asset Cont 2013'!L27","v":-227913.67},-35746.730000000003,null,-263660.40000000002,361518.53999999992]
[47,1820,"Distribution Station Equipment <50 kV",{"$f":"'App.2-BA_Fixed Asset Cont 2013'!G28","v":4072270.4700000007},140249.91999999998,null,4212520.3900000006,null,{"$f":"'App.2-BA_Fixed Asset Cont 2013'!L28","v":-2131341.1900000004},-59365.952973723179,null,-2190707.1429737238,2021813.2470262768]
[47,1820,"Distribution Station Equipment <50 Kv (1821)",{"$f":"'App.2-BA_Fixed Asset Cont 2013'!G29","v":2281769.35},111787.08,null,2393556.4300000002,null,{"$f":"'App.2-BA_Fixed Asset Cont 2013'!L29","v":-793416.23},-71815.38,null,-865231.61,1528324.8200000003]
[47,1825,"Storage Battery Equipment",{"$f":"'App.2-BA_Fixed Asset Cont 2013'!G30","v":0},null,null,0,null,{"$f":"'App.2-BA_Fixed Asset Cont 2013'!L30","v":0},null,null,0,0]
[47,1830,"Poles, Towers & Fixtures - Wood",{"$f":"'App.2-BA_Fixed Asset Cont 2013'!G31","v":40535274.960000001},1869515.04,null,42404790,null,{"$f":"'App.2-BA_Fixed Asset Cont 2013'!L31","v":-23356812.859999999},-422132.56375429436,null,-23778945.423754293,18625844.576245707]
[47,1830,"Poles, Towers & Fixtures - (1831) Concrete",{"$f":"'App.2-BA_Fixed Asset Cont 2013'!G32","v":3038667.92},62223.96,null,3100891.88,null,{"$f":"'App.2-BA_Fixed Asset Cont 2013'!L32","v":-1273545.32},-34202.120000000003,null,-1307747.4400000002,1793144.4399999997]
[47,1835,"Overhead Conductors & Devices",{"$f":"'App.2-BA_Fixed Asset Cont 2013'!G33","v":23335990.289999999},673087.52,null,24009077.809999999,null,{"$f":"'App.2-BA_Fixed Asset Cont 2013'!L33","v":-8694269.9000000022},-273258.22957675933,null,-8967528.1295767613,15041549.680423237]
[47,1835,"Overhead Conductors & Devices (1836)",{"$f":"'App.2-BA_Fixed Asset Cont 2013'!G34","v":2606710.2999999998},138345.60000000001,null,2745055.9,null,{"$f":"'App.2-BA_Fixed Asset Cont 2013'!L34","v":-1135176.67},-214387.33,null,-1349564,1395491.9]
[47,1835,"Overhead Conductors & Devices (1837)",{"$f":"'App.2-BA_Fixed Asset Cont 2013'!G35","v":2242028.17},30398.880000000001,null,2272427.0499999998,null,{"$f":"'App.2-BA_Fixed Asset Cont 2013'!L35","v":-526796.14},-70256.320000000007,null,-597052.46,1675374.5899999999]
[47,1840,"Underground Conduit",{"$f":"'App.2-BA_Fixed Asset Cont 2013'!G36","v":9663794.5099999998},1246226,null,10910020.51,null,{"$f":"'App.2-BA_Fixed Asset Cont 2013'!L36","v":-2359337.2399999998},-179615.53920073435,null,-2538952.7792007341,8371067.7307992652]
[47,1845,"Underground Conductors & Devices",{"$f":"'App.2-BA_Fixed Asset Cont 2013'!G37","v":64503461.770000003},2441444.96,null,66944906.730000004,null,{"$f":"'App.2-BA_Fixed Asset Cont 2013'!L37","v":-37486295.559999995},-1700675.3994866633,null,-39186970.959486656,27757935.770513348]
[47,1845,"Underground Conductors & Devices (1846)",{"$f":"'App.2-BA_Fixed Asset Cont 2013'!G38","v":2071575.74},94463.039999999994,null,2166038.7799999998,null,{"$f":"'App.2-BA_Fixed Asset Cont 2013'!L38","v":-1037565.8400000001},-52929.440000000002,null,-1090495.28,1075543.4999999998]
[47,1850,"Line Transformers (1850) Polemount",{"$f":"'App.2-BA_Fixed Asset Cont 2013'!G39","v":19321844.870000001},950460.57000000007,null,20272305.440000001,null,{"$f":"'App.2-BA_Fixed Asset Cont 2013'!L39","v":-13332426.02},-221021.42741252983,null,-13553447.44741253,6718857.9925874714]
[47,1850,"Line Transformers (1853) Padmount",{"$f":"'App.2-BA_Fixed Asset Cont 2013'!G40","v":18034372.399999999},867991.44,null,18902363.84,null,{"$f":"'App.2-BA_Fixed Asset Cont 2013'!L40","v":-8380991.8899999997},-498830.11,null,-8879822,10022541.84]
[47,1855,"Services (Overhead & Underground)",{"$f":"'App.2-BA_Fixed Asset Cont 2013'!G41","v":5430061.25},1062007,null,6492068.25,null,{"$f":"'App.2-BA_Fixed Asset Cont 2013'!L41","v":-1310964.72},-238441.81759999995,null,-1549406.5375999999,4942661.7124000005]
[47,1860,"Meters",{"$f":"'App.2-BA_Fixed Asset Cont 2013'!G42","v":2893476.1799999997},602413.57999999996,null,3495889.76,null,{"$f":"'App.2-BA_Fixed Asset Cont 2013'!L42","v":-987855.0700000003},-164940.39352536015,null,-1152795.4635253605,2343094.2964746393]
[47,1860,"Meters (Smart Meters)",{"$f":"'App.2-BA_Fixed Asset Cont 2013'!G43","v":4202486.9399999995},1658578.3199999996,null,5861065.2599999988,null,{"$f":"'App.2-BA_Fixed Asset Cont 2013'!L43","v":-975073.27},-465231.12999999977,null,-1440304.4,4420760.8599999994]
[47,1865,"Other Installations on Customer's Premises",{"$f":"'App.2-BA_Fixed Asset Cont 2013'!G44","v":0},null,null,0,null,{"$f":"'App.2-BA_Fixed Asset Cont 2013'!L44","v":0},0,null,0,0]
[47,1875,"Street Lighting and Signal Systems",{"$f":"'App.2-BA_Fixed Asset Cont 2013'!G45","v":0},null,null,0,null,{"$f":"'App.2-BA_Fixed Asset Cont 2013'!L45","v":0},null,null,0,0]
["N/A",1905,"Land",{"$f":"'App.2-BA_Fixed Asset Cont 2013'!G46","v":508969.83},null,null,508969.83,null,{"$f":"'App.2-BA_Fixed Asset Cont 2013'!L46","v":0},null,null,0,508969.83]
[47,1908,"Buildings & Fixtures",{"$f":"'App.2-BA_Fixed Asset Cont 2013'!G47","v":15117430.529999999},1500485,null,16617915.529999999,null,{"$f":"'App.2-BA_Fixed Asset Cont 2013'!L47","v":-2687517},-260610.57213333267,null,-2948127.5721333325,13669787.957866667]
[13,1910,"Leasehold Improvements",{"$f":"'App.2-BA_Fixed Asset Cont 2013'!G48","v":120252.32},null,null,120252.32,null,{"$f":"'App.2-BA_Fixed Asset Cont 2013'!L48","v":-120252.32},null,null,-120252.32,0]
[8,1915,"Office Furniture & Equipment (10 years)",{"$f":"'App.2-BA_Fixed Asset Cont 2013'!G49","v":1493564.44},157000,null,1650564.44,null,{"$f":"'App.2-BA_Fixed Asset Cont 2013'!L49","v":-937619.44},-100229.14000000013,null,-1037848.5800000001,612715.85999999987]
[8,1915,"Office Furniture & Equipment (5 years)",{"$f":"'App.2-BA_Fixed Asset Cont 2013'!G50","v":0},null,null,0,null,{"$f":"'App.2-BA_Fixed Asset Cont 2013'!L50","v":0},null,null,0,0]
[10,1920,"Computer Equipment - Hardware",{"$f":"'App.2-BA_Fixed Asset Cont 2013'!G51","v":1257769.3},null,null,1257769.3,null,{"$f":"'App.2-BA_Fixed Asset Cont 2013'!L51","v":-1257769.3},null,null,-1257769.3,0]
[45,1920,"Computer Equip.-Hardware(Post Mar. 22/04)",{"$f":"'App.2-BA_Fixed Asset Cont 2013'!G52","v":320323.46000000002},null,null,320323.46000000002,null,{"$f":"'App.2-BA_Fixed Asset Cont 2013'!L52","v":-315054.35600000003},null,null,-315054.35600000003,5269.1039999999921]
[50,1920,"Computer Equip.-Hardware(Post Mar. 19/07)",{"$f":"'App.2-BA_Fixed Asset Cont 2013'!G53","v":2199582.75},302295,null,2501877.75,null,{"$f":"'App.2-BA_Fixed Asset Cont 2013'!L53","v":-1414759.9199999997},-284534.35899999482,null,-1699294.2789999945,802583.47100000549]
[10,1930,"Transportation Equipment (1931)",{"$f":"'App.2-BA_Fixed Asset Cont 2013'!G54","v":705983.67999999993},0,null,705983.67999999993,null,{"$f":"'App.2-BA_Fixed Asset Cont 2013'!L54","v":-363890.98},-68306.851795591807,null,-432197.8317955918,273785.84820440813]
[10,1930,"Transportation Equipment (1932) Large Trucks",{"$f":"'App.2-BA_Fixed Asset Cont 2013'!G55","v":7544698.0300000003},650000,null,8194698.0300000003,null,{"$f":"'App.2-BA_Fixed Asset Cont 2013'!L55","v":-3897852.3},-303228.31,null,-4201080.6099999994,3993617.4200000009]
[10,1930,"Transportation Equipment (1933) Trailers",{"$f":"'App.2-BA_Fixed Asset Cont 2013'!G56","v":329326.27},22000,null,351326.27,null,{"$f":"'App.2-BA_Fixed Asset Cont 2013'!L56","v":-229633.05000000002},-6133.61,null,-235766.66,115559.61000000002]
[8,1935,"Stores Equipment",{"$f":"'App.2-BA_Fixed Asset Cont 2013'!G57","v":236414.31},75000,null,311414.31,null,{"$f":"'App.2-BA_Fixed Asset Cont 2013'!L57","v":-202065.56},-9174.2799999999988,null,-211239.84,100174.47]
[8,1940,"Tools, Shop & Garage Equipment",{"$f":"'App.2-BA_Fixed Asset Cont 2013'!G58","v":1954825.55},67000,null,2021825.55,null,{"$f":"'App.2-BA_Fixed Asset Cont 2013'!L58","v":-1532643.4200000002},-78814.840000000782,null,-1611458.2600000009,410367.28999999911]
[8,1945,"Measurement & Testing Equipment",{"$f":"'App.2-BA_Fixed Asset Cont 2013'!G59","v":204006.33},0,null,204006.33,null,{"$f":"'App.2-BA_Fixed Asset Cont 2013'!L59","v":-194127.22000000003},-5092.2299999999523,null,{"$f":"I59+J59+K59","v":-199219.44999999998},4786.8800000000047]
[8,1950,"Power Operated Equipment",{"$f":"'App.2-BA_Fixed Asset Cont 2013'!G60","v":0},0,null,0,null,{"$f":"'App.2-BA_Fixed Asset Cont 2013'!L60","v":0},0,null,0,0]
[8,1955,"Communications Equipment",{"$f":"'App.2-BA_Fixed Asset Cont 2013'!G61","v":846784.33},227500,null,1074284.33,null,{"$f":"'App.2-BA_Fixed Asset Cont 2013'!L61","v":-175400.49},-40433.968875277613,null,-215834.4588752776,858449.87112472253]
[8,1955,"Communication Equipment (Smart Meters)",{"$f":"'App.2-BA_Fixed Asset Cont 2013'!G62","v":0},0,null,0,null,{"$f":"'App.2-BA_Fixed Asset Cont 2013'!L62","v":0},null,null,0,0]
[8,1960,"Miscellaneous Equipment ",{"$f":"'App.2-BA_Fixed Asset Cont 2013'!G63","v":72951.31},0,null,72951.31,null,{"$f":"'App.2-BA_Fixed Asset Cont 2013'!L63","v":-70632.409999999989},-2071.839999999982,null,-72704.249999999971,247.06000000002678]
[47,1970,"Load Management Controls Customer Premises",{"$f":"'App.2-BA_Fixed Asset Cont 2013'!G64","v":0},0,null,0,null,{"$f":"'App.2-BA_Fixed Asset Cont 2013'!L64","v":0},null,null,0,0]
[47,1975,"Load Management Controls Utility Premises",{"$f":"'App.2-BA_Fixed Asset Cont 2013'!G65","v":0},null,null,0,null,{"$f":"'App.2-BA_Fixed Asset Cont 2013'!L65","v":0},null,null,0,0]
[47,1980,"System Supervisor Equipment",{"$f":"'App.2-BA_Fixed Asset Cont 2013'!G66","v":128960.64},null,null,128960.64,null,{"$f":"'App.2-BA_Fixed Asset Cont 2013'!L66","v":-128961},null,null,-128961,-0.36000000000058208]
[47,1985,"Miscellaneous Fixed Assets",{"$f":"'App.2-BA_Fixed Asset Cont 2013'!G67","v":0},null,null,0,null,{"$f":"'App.2-BA_Fixed Asset Cont 2013'!L67","v":0},null,null,0,0]
[47,1990,"Other Tangible Property",{"$f":"'App.2-BA_Fixed Asset Cont 2013'!G68","v":0},null,null,0,null,{"$f":"'App.2-BA_Fixed Asset Cont 2013'!L68","v":0},null,null,0,0]
[47,1995,"Contributions & Grants",{"$f":"'App.2-BA_Fixed Asset Cont 2013'!G69","v":-21516863.359999999},-900000,null,-22416863.359999999,null,{"$f":"'App.2-BA_Fixed Asset Cont 2013'!L69","v":6303876.1199999992},845482.49519999977,null,7149358.615199999,-15267504.744800001]
[47,2440,"Deferred Revenue5",{"$f":"'App.2-BA_Fixed Asset Cont 2013'!G70","v":0},null,null,0,null,{"$f":"'App.2-BA_Fixed Asset Cont 2013'!L70","v":0},null,null,null,0]
[47,2005,"2005-Property Under Capital Leases",{"$f":"'App.2-BA_Fixed Asset Cont 2013'!G71","v":0},null,null,0,null,{"$f":"'App.2-BA_Fixed Asset Cont 2013'!L71","v":0},null,null,null,0]
[null,null,null,null,null,null,0,null,null,null,null,0,{"$f":"G72+L72","v":0}]
[null,null,"Sub-Total",{"$f":"SUM(D17:D72)","v":227308724.18000013},{"$f":"SUM(E17:E72)","v":14788438.91},{"$f":"SUM(F17:F72)","v":0},{"$f":"SUM(G17:G72)","v":242097163.09000009},null,{"$f":"SUM(I17:I72)","v":-115799421.02599999},{"$f":"SUM(J17:J72)","v":-5678060.4749091631},{"$f":"SUM(K17:K72)","v":0},{"$f":"SUM(L17:L72)","v":-121477481.50090916},{"$f":"SUM(M17:M72)","v":120619681.58909082}]
[null,null,"Less Socialized Renewable Energy Generation Investments (input as negative)",null,null,null,{"$f":"D74+E74+F74","v":0},null,null,null,null,{"$f":"I74+J74+K74","v":0},{"$f":"G74+L74","v":0}]
[null,null,"Less Other Non Rate-Regulated Utility Assets (input as negative)",null,null,null,{"$f":"D75+E75+F75","v":0},null,null,null,null,{"$f":"I75+J75+K75","v":0},{"$f":"G75+L75","v":0}]
[null,null,"Total PP&E",{"$f":"SUM(D73:D75)","v":227308724.18000013},{"$f":"SUM(E73:E75)","v":14788438.91},{"$f":"SUM(F73:F75)","v":0},{"$f":"SUM(G73:G75)","v":242097163.09000009},null,{"$f":"SUM(I73:I75)","v":-115799421.02599999},{"$f":"SUM(J73:J75)","v":-5678060.4749091631},{"$f":"SUM(K73:K75)","v":0},{"$f":"SUM(L73:L75)","v":-121477481.50090916},{"$f":"SUM(M73:M75)","v":120619681.58909082}]
[null,null,"Depreciation Expense adj. from gain or loss on the retirement of assets (pool of like assets), if applicable6"]
[null,null,"Total",null,null,null,null,null,null,{"$f":"J76+J77","v":-5678060.4749091631}]
[]
[null,null,null,null,null,null,null,null,"Less: Fully Allocated Depreciation"]
[10,null,"Transportation",null,null,null,null,null,"Transportation"]
[8,null,"Stores Equipment",null,null,null,null,null,"Stores Equipment"]
[null,null,null,null,null,null,null,null,"Net Depreciation",null,{"$f":"J78-K81-K82","v":-5678060.4749091631}]
[]
["Notes:"]
[]
[1,"Tables in the format outlined above covering all fixed asset accounts should be submitted for the Test Year, Bridge Year and all relevant historical years.  At a minimum , the applicant must provide data for the earlier of: 1) all historical years back to its last rebasing; or 2) at least three years of historical actuals, in addition to Bridge Year and Test Year forecasts."]
[]
[]
[2,"The \"CCA Class\" for fixed assets should agree with the CCA Class used for tax purposes in Tax Returns. Fixed Assets sub-components may be used where the underlying asset components are classified under multiple CCA Classes for tax purposes. If an applicant uses any different classes from those shown in the table, an explanation should be provided. (also see note 3 below)."]
[]
[]
[3,"The table may need to be customized for a utility's asset categories or for any new asset accounts announced or authorized by the Board."]
[]
[4,"The additions column (E) must not include construction work in progress (CWIP)."]
[]
[5,"Effective on the date of IFRS adoption, customer contributions will no longer be recorded in Account 1995 Contributions & Grants, but will be recorded in Account 2440, Deferred Revenues.  "]
[]
[6,"Where a distributor for general financial reporting purposes under IFRS has accounted for the amount of gain or loss on the retirement of assets in a pool of like assets as a charge or credit to income, for reporting and rate application filings the distributor shall reclassify such gains and losses as depreciation expense, and disclose the amount separately."]

{"sheet":"App.2-BA_Fixed Asset 2014_Old","index":14,"n_rows":99,"n_cols":13,"rows_kept":99,"cut":false,"hidden":false,"merged":[[89,1,90,12],[92,1,92,12],[98,1,99,12],[8,0,8,12],[9,0,9,12],[14,3,14,6],[76,2,76,8],[77,2,77,8],[86,1,87,12]]}
[null,null,null,null,null,null,null,null,null,null,null,"File Number:",{"$f":"EBNUMBER","v":"EB-2014-0096"}]
[null,null,null,null,null,null,null,null,null,null,null,"Exhibit:",2]
[null,null,null,null,null,null,null,null,null,null,null,"Tab:",1]
[null,null,null,null,null,null,null,null,null,null,null,"Schedule:",1]
[null,null,null,null,null,null,null,null,null,null,null,"Page:",7]
[]
[null,null,null,null,null,null,null,null,null,null,null,"Date:","2014-08-29"]
[]
["Appendix 2-BA"]
["Fixed Asset Continuity Schedule "]
[]
[null,null,null,null,"Accounting Standard","CGAAP"]
[null,null,null,null,"Year ",2014,null,null,"Using Old Useful Lives"]
[]
[null,null,null,"Cost",null,null,null,null,null,"Accumulated Depreciation"]
["CCA Class","OEB","Description","Opening Balance","Additions","Disposals","Closing Balance",null,"Opening Balance","Additions","Disposals","Closing Balance","Net Book Value"]
[12,1611,"Computer Software (Formally known as Account 1925)",{"$f":"'App.2-BA_Fixed Asset 2013_Old '!G17","v":2691706.57},737966,null,{"$f":"D17+E17+F17","v":3429672.57},null,{"$f":"'App.2-BA_Fixed Asset 2013_Old '!L17","v":-2433511.8800000004},{"$f":"-260670.56-206997.5","v":-467668.06},null,{"$f":"I17+J17+K17","v":-2901179.9400000004},{"$f":"G17+L17","v":528492.62999999942}]
["CEC",1612,"Land Rights (Formally known as Account 1906)",{"$f":"'App.2-BA_Fixed Asset 2013_Old '!G18","v":0},null,null,{"$f":"D18+E18+F18","v":0},null,{"$f":"'App.2-BA_Fixed Asset 2013_Old '!L18","v":0},null,null,{"$f":"I18+J18+K18","v":0},{"$f":"G18+L18","v":0}]
["N/A",1805,"Land",{"$f":"'App.2-BA_Fixed Asset 2013_Old '!G19","v":507272.79000000004},null,null,507272.79000000004,null,{"$f":"'App.2-BA_Fixed Asset 2013_Old '!L19","v":0},null,null,0,507272.79000000004]
[47,1806,"Land Rights  ",{"$f":"'App.2-BA_Fixed Asset 2013_Old '!G20","v":1604396.28},null,null,1604396.28,null,{"$f":"'App.2-BA_Fixed Asset 2013_Old '!L20","v":-868161.78999999992},-57066.559999999998,null,-925228.34999999986,679167.93000000017]
[47,1808,"Buildings",{"$f":"'App.2-BA_Fixed Asset 2013_Old '!G21","v":111638.13},null,null,111638.13,null,{"$f":"'App.2-BA_Fixed Asset 2013_Old '!L21","v":-111637},0,null,-111637,1.1300000000046566]
[13,1810,"Leasehold Improvements",{"$f":"'App.2-BA_Fixed Asset 2013_Old '!G22","v":0},null,null,0,null,{"$f":"'App.2-BA_Fixed Asset 2013_Old '!L22","v":0},null,null,0,0]
[47,1815,"Transformer Station Equipment > 50 kV (1708, 1740, 1745)",{"$f":"'App.2-BA_Fixed Asset 2013_Old '!G23","v":3833012.8000000003},null,null,3833012.8000000003,null,{"$f":"'App.2-BA_Fixed Asset 2013_Old '!L23","v":-701333.66999999993},-76660.28,null,-777993.95,3055018.8500000006]
[47,1815,"Transformer Station Equipment > 50 kV (1715, 1815)",{"$f":"'App.2-BA_Fixed Asset 2013_Old '!G24","v":1519064.84},null,null,1519064.84,null,{"$f":"'App.2-BA_Fixed Asset 2013_Old '!L24","v":-218270.58000000002},-42152.23,null,-260422.81000000003,1258642.03]
[47,1815,"Transformer Station Equipment > 50 kV (1716)",{"$f":"'App.2-BA_Fixed Asset 2013_Old '!G25","v":46955.06},null,null,46955.06,null,{"$f":"'App.2-BA_Fixed Asset 2013_Old '!L25","v":-15458.63},-1025.57,null,-16484.2,30470.859999999997]
[47,1815,"Transformer Station Equipment > 50 kV (1717)",{"$f":"'App.2-BA_Fixed Asset 2013_Old '!G26","v":610733.92999999993},null,null,610733.92999999993,null,{"$f":"'App.2-BA_Fixed Asset 2013_Old '!L26","v":-201066.31},-13339.37,null,-214405.68,396328.24999999994]
[47,1815,"Transformer Station Equipment  > 50 kV (1719)",{"$f":"'App.2-BA_Fixed Asset 2013_Old '!G27","v":625178.93999999994},null,null,625178.93999999994,null,{"$f":"'App.2-BA_Fixed Asset 2013_Old '!L27","v":-205821.81},-13654.88,null,-219476.69,405702.24999999994]
[47,1820,"Distribution Station Equipment <50 kV",{"$f":"'App.2-BA_Fixed Asset 2013_Old '!G28","v":4072270.4700000007},140249.91999999998,null,4212520.3900000006,null,{"$f":"'App.2-BA_Fixed Asset 2013_Old '!L28","v":-2194646.2300000004},-124656.76,null,-2319302.9900000002,1893217.4000000004]
[47,1820,"Distribution Station Equipment <50 Kv (1821)",{"$f":"'App.2-BA_Fixed Asset 2013_Old '!G29","v":2281769.35},111787.08,null,2393556.4300000002,null,{"$f":"'App.2-BA_Fixed Asset 2013_Old '!L29","v":-799923.97},-80033.69,null,-879957.65999999992,1513598.7700000003]
[47,1825,"Storage Battery Equipment",{"$f":"'App.2-BA_Fixed Asset 2013_Old '!G30","v":0},null,null,0,null,{"$f":"'App.2-BA_Fixed Asset 2013_Old '!L30","v":0},null,null,0,0]
[47,1830,"Poles, Towers & Fixtures - Wood",{"$f":"'App.2-BA_Fixed Asset 2013_Old '!G31","v":40535274.960000001},1869515.04,null,42404790,null,{"$f":"'App.2-BA_Fixed Asset 2013_Old '!L31","v":-24159487.620000001},{"$f":"-1243192.3-873.4","v":-1244065.7},null,-25403553.32,17001236.68]
[47,1830,"Poles, Towers & Fixtures - (1831) Concrete",{"$f":"'App.2-BA_Fixed Asset 2013_Old '!G32","v":3038667.92},62223.96,null,3100891.88,null,{"$f":"'App.2-BA_Fixed Asset 2013_Old '!L32","v":-1347668.71},-108794.22,null,-1456462.93,1644428.95]
[47,1835,"Overhead Conductors & Devices",{"$f":"'App.2-BA_Fixed Asset 2013_Old '!G33","v":23335990.289999999},673087.52,null,24009077.809999999,null,{"$f":"'App.2-BA_Fixed Asset 2013_Old '!L33","v":-9311883.3500000015},-907833.19,null,-10219716.540000001,13789361.269999998]
[47,1835,"Overhead Conductors & Devices (1836)",{"$f":"'App.2-BA_Fixed Asset 2013_Old '!G34","v":2606710.2999999998},138345.60000000001,null,2745055.9,null,{"$f":"'App.2-BA_Fixed Asset 2013_Old '!L34","v":-922075.95000000007},-110545.95,null,-1032621.9,1712434]
[47,1835,"Overhead Conductors & Devices (1837)",{"$f":"'App.2-BA_Fixed Asset 2013_Old '!G35","v":2242028.17},30398.880000000001,null,2272427.0499999998,null,{"$f":"'App.2-BA_Fixed Asset 2013_Old '!L35","v":-545623.1},-90194.55,null,-635817.65,1636609.4]
[47,1840,"Underground Conduit",{"$f":"'App.2-BA_Fixed Asset 2013_Old '!G36","v":9663794.5099999998},1246226,null,10910020.51,null,{"$f":"'App.2-BA_Fixed Asset 2013_Old '!L36","v":-2572782.5599999996},-411432,null,-2984214.5599999996,7925805.9500000002]
[47,1845,"Underground Conductors & Devices",{"$f":"'App.2-BA_Fixed Asset 2013_Old '!G37","v":64503461.770000003},2441444.96,null,66944906.730000004,null,{"$f":"'App.2-BA_Fixed Asset 2013_Old '!L37","v":-38118057.169999994},-2270043.94,null,-40388101.109999992,26556805.620000012]
[47,1845,"Underground Conductors & Devices (1846)",{"$f":"'App.2-BA_Fixed Asset 2013_Old '!G38","v":2071575.74},94463.039999999994,null,2166038.7799999998,null,{"$f":"'App.2-BA_Fixed Asset 2013_Old '!L38","v":-1015390.38},-73256.399999999994,null,-1088646.78,1077391.9999999998]
[47,1850,"Line Transformers (1850) Polemount",{"$f":"'App.2-BA_Fixed Asset 2013_Old '!G39","v":19321844.870000001},950460.57000000007,null,20272305.440000001,null,{"$f":"'App.2-BA_Fixed Asset 2013_Old '!L39","v":-13652067.839999998},-537276.68000000005,null,-14189344.519999998,6082960.9200000037]
[47,1850,"Line Transformers (1853) Padmount",{"$f":"'App.2-BA_Fixed Asset 2013_Old '!G40","v":18034372.399999999},867991.44,null,18902363.84,null,{"$f":"'App.2-BA_Fixed Asset 2013_Old '!L40","v":-8606858.8499999996},-706502.91,null,-9313361.7599999998,9589002.0800000001]
[47,1855,"Services (Overhead & Underground)",{"$f":"'App.2-BA_Fixed Asset 2013_Old '!G41","v":5430061.25},1062007,null,6492068.25,null,{"$f":"'App.2-BA_Fixed Asset 2013_Old '!L41","v":-1310964.72},-238441.82,null,-1549406.54,4942661.71]
[47,1860,"Meters",{"$f":"'App.2-BA_Fixed Asset 2013_Old '!G42","v":2893476.1799999997},602413.57999999996,null,3495889.76,null,{"$f":"'App.2-BA_Fixed Asset 2013_Old '!L42","v":-969733.10000000021},-152822.45000000001,null,-1122555.5500000003,2373334.2099999995]
[47,1860,"Meters (Smart Meters)",{"$f":"'App.2-BA_Fixed Asset 2013_Old '!G43","v":4202486.9399999995},1658578.3199999996,null,5861065.2599999988,null,{"$f":"'App.2-BA_Fixed Asset 2013_Old '!L43","v":-975073.37000000011},-465231.0299999998,null,-1440304.4,4420760.8599999994]
[47,1865,"Other Installations on Customer's Premises",{"$f":"'App.2-BA_Fixed Asset 2013_Old '!G44","v":0},null,null,0,null,{"$f":"'App.2-BA_Fixed Asset 2013_Old '!L44","v":0},null,null,0,0]
[47,1875,"Street Lighting and Signal Systems",{"$f":"'App.2-BA_Fixed Asset 2013_Old '!G45","v":0},null,null,0,null,{"$f":"'App.2-BA_Fixed Asset 2013_Old '!L45","v":0},null,null,0,0]
["N/A",1905,"Land",{"$f":"'App.2-BA_Fixed Asset 2013_Old '!G46","v":508969.83},null,null,508969.83,null,{"$f":"'App.2-BA_Fixed Asset 2013_Old '!L46","v":0},null,null,0,508969.83]
[47,1908,"Buildings & Fixtures",{"$f":"'App.2-BA_Fixed Asset 2013_Old '!G47","v":15117430.529999999},1500485,null,16617915.529999999,null,{"$f":"'App.2-BA_Fixed Asset 2013_Old '!L47","v":-2687517},-260610.57,null,-2948127.57,13669787.959999999]
[13,1910,"Leasehold Improvements",{"$f":"'App.2-BA_Fixed Asset 2013_Old '!G48","v":120252.32},null,null,120252.32,null,{"$f":"'App.2-BA_Fixed Asset 2013_Old '!L48","v":-120252.32},null,null,-120252.32,0]
[8,1915,"Office Furniture & Equipment (10 years)",{"$f":"'App.2-BA_Fixed Asset 2013_Old '!G49","v":1493564.44},157000,null,1650564.44,null,{"$f":"'App.2-BA_Fixed Asset 2013_Old '!L49","v":-937619.45},-100229.14000000013,null,-1037848.5900000001,612715.84999999986]
[8,1915,"Office Furniture & Equipment (5 years)",{"$f":"'App.2-BA_Fixed Asset 2013_Old '!G50","v":0},null,null,0,null,{"$f":"'App.2-BA_Fixed Asset 2013_Old '!L50","v":0},null,null,0,0]
[10,1920,"Computer Equipment - Hardware",{"$f":"'App.2-BA_Fixed Asset 2013_Old '!G51","v":1257769.3},null,null,1257769.3,null,{"$f":"'App.2-BA_Fixed Asset 2013_Old '!L51","v":-1257769.3},null,null,-1257769.3,0]
[45,1920,"Computer Equip.-Hardware(Post Mar. 22/04)",{"$f":"'App.2-BA_Fixed Asset 2013_Old '!G52","v":320323.46000000002},null,null,320323.46000000002,null,{"$f":"'App.2-BA_Fixed Asset 2013_Old '!L52","v":-315054.35600000003},null,null,-315054.35600000003,5269.1039999999921]
[50,1920,"Computer Equip.-Hardware(Post Mar. 19/07)",{"$f":"'App.2-BA_Fixed Asset 2013_Old '!G53","v":2199582.75},302295,null,2501877.75,null,{"$f":"'App.2-BA_Fixed Asset 2013_Old '!L53","v":-1414759.9199999997},{"$f":"-283226.86-1307.5","v":-284534.36},null,-1699294.2799999998,802583.4700000002]
[10,1930,"Transportation Equipment (1931)",{"$f":"'App.2-BA_Fixed Asset 2013_Old '!G54","v":705983.67999999993},0,null,705983.67999999993,null,{"$f":"'App.2-BA_Fixed Asset 2013_Old '!L54","v":-363890.98},-68306.849999999977,null,-432197.82999999996,273785.84999999998]
[10,1930,"Transportation Equipment (1932) Large Trucks",{"$f":"'App.2-BA_Fixed Asset 2013_Old '!G55","v":7544698.0300000003},650000,null,8194698.0300000003,null,{"$f":"'App.2-BA_Fixed Asset 2013_Old '!L55","v":-4172932.0999999996},-639749.48000000045,null,-4812681.58,3382016.45]
[10,1930,"Transportation Equipment (1933) Trailers",{"$f":"'App.2-BA_Fixed Asset 2013_Old '!G56","v":329326.27},22000,null,351326.27,null,{"$f":"'App.2-BA_Fixed Asset 2013_Old '!L56","v":-239075.93},-16927.03,null,-256002.96,95323.310000000027]
[8,1935,"Stores Equipment",{"$f":"'App.2-BA_Fixed Asset 2013_Old '!G57","v":236414.31},75000,null,311414.31,null,{"$f":"'App.2-BA_Fixed Asset 2013_Old '!L57","v":-202065.56},-9174.2799999999988,null,-211239.84,100174.47]
[8,1940,"Tools, Shop & Garage Equipment",{"$f":"'App.2-BA_Fixed Asset 2013_Old '!G58","v":1954825.55},67000,null,2021825.55,null,{"$f":"'App.2-BA_Fixed Asset 2013_Old '!L58","v":-1532643.4200000002},-78814.84,null,-1611458.2600000002,410367.2899999998]
[8,1945,"Measurement & Testing Equipment",{"$f":"'App.2-BA_Fixed Asset 2013_Old '!G59","v":204006.33},0,null,204006.33,null,{"$f":"'App.2-BA_Fixed Asset 2013_Old '!L59","v":-194127.22000000003},-5092.2299999999996,null,-199219.45000000004,4786.8799999999464]
[8,1950,"Power Operated Equipment",{"$f":"'App.2-BA_Fixed Asset 2013_Old '!G60","v":0},0,null,0,null,{"$f":"'App.2-BA_Fixed Asset 2013_Old '!L60","v":0},null,null,0,0]
[8,1955,"Communications Equipment",{"$f":"'App.2-BA_Fixed Asset 2013_Old '!G61","v":846784.33},227500,null,1074284.33,null,{"$f":"'App.2-BA_Fixed Asset 2013_Old '!L61","v":-263063.66000000003},-199196.15999999986,null,-462259.81999999989,612024.51000000024]
[8,1955,"Communication Equipment (Smart Meters)",{"$f":"'App.2-BA_Fixed Asset 2013_Old '!G62","v":0},0,null,0,null,{"$f":"'App.2-BA_Fixed Asset 2013_Old '!L62","v":0},null,null,0,0]
[8,1960,"Miscellaneous Equipment ",{"$f":"'App.2-BA_Fixed Asset 2013_Old '!G63","v":72951.31},0,null,72951.31,null,{"$f":"'App.2-BA_Fixed Asset 2013_Old '!L63","v":-70632.409999999989},-2071.839999999982,null,-72704.249999999971,247.06000000002678]
[47,1970,"Load Management Controls Customer Premises",{"$f":"'App.2-BA_Fixed Asset 2013_Old '!G64","v":0},0,null,0,null,{"$f":"'App.2-BA_Fixed Asset 2013_Old '!L64","v":0},null,null,0,0]
[47,1975,"Load Management Controls Utility Premises",{"$f":"'App.2-BA_Fixed Asset 2013_Old '!G65","v":0},null,null,0,null,{"$f":"'App.2-BA_Fixed Asset 2013_Old '!L65","v":0},null,null,0,0]
[47,1980,"System Supervisor Equipment",{"$f":"'App.2-BA_Fixed Asset 2013_Old '!G66","v":128960.64},null,null,128960.64,null,{"$f":"'App.2-BA_Fixed Asset 2013_Old '!L66","v":-128961},null,null,-128961,-0.36000000000058208]
[47,1985,"Miscellaneous Fixed Assets",{"$f":"'App.2-BA_Fixed Asset 2013_Old '!G67","v":0},null,null,0,null,{"$f":"'App.2-BA_Fixed Asset 2013_Old '!L67","v":0},null,null,0,0]
[47,1990,"Other Tangible Property",{"$f":"'App.2-BA_Fixed Asset 2013_Old '!G68","v":0},null,null,0,null,{"$f":"'App.2-BA_Fixed Asset 2013_Old '!L68","v":0},null,null,0,0]
[47,1995,"Contributions & Grants",{"$f":"'App.2-BA_Fixed Asset 2013_Old '!G69","v":-21516863.359999999},-900000,null,-22416863.359999999,null,{"$f":"'App.2-BA_Fixed Asset 2013_Old '!L69","v":6303876.1099999994},845482.5,null,7149358.6099999994,-15267504.75]
[47,2440,"Deferred Revenue5",{"$f":"'App.2-BA_Fixed Asset 2013_Old '!G70","v":0},null,null,0,null,{"$f":"'App.2-BA_Fixed Asset 2013_Old '!L70","v":0},null,null,null,0]
[47,2005,"2005-Property Under Capital Leases",{"$f":"'App.2-BA_Fixed Asset 2013_Old '!G71","v":0},null,null,0,null,{"$f":"'App.2-BA_Fixed Asset 2013_Old '!L71","v":0},null,null,null,0]
[null,null,null,null,null,null,0,null,null,null,null,0,{"$f":"G72+L72","v":0}]
[null,null,"Sub-Total",{"$f":"SUM(D17:D72)","v":227308724.18000013},{"$f":"SUM(E17:E72)","v":14788438.91},{"$f":"SUM(F17:F72)","v":0},{"$f":"SUM(G17:G72)","v":242097163.09000009},null,{"$f":"SUM(I17:I72)","v":-118853987.10600001},{"$f":"SUM(J17:J72)","v":-9011922.5199999996},{"$f":"SUM(K17:K72)","v":0},{"$f":"SUM(L17:L72)","v":-127865909.626},{"$f":"SUM(M17:M72)","v":114231253.464}]
[null,null,"Less Socialized Renewable Energy Generation Investments (input as negative)",null,null,null,{"$f":"D74+E74+F74","v":0},null,null,null,null,{"$f":"I74+J74+K74","v":0},{"$f":"G74+L74","v":0}]
[null,null,"Less Other Non Rate-Regulated Utility Assets (input as negative)",null,null,null,{"$f":"D75+E75+F75","v":0},null,null,null,null,{"$f":"I75+J75+K75","v":0},{"$f":"G75+L75","v":0}]
[null,null,"Total PP&E",{"$f":"SUM(D73:D75)","v":227308724.18000013},{"$f":"SUM(E73:E75)","v":14788438.91},{"$f":"SUM(F73:F75)","v":0},{"$f":"SUM(G73:G75)","v":242097163.09000009},null,{"$f":"SUM(I73:I75)","v":-118853987.10600001},{"$f":"SUM(J73:J75)","v":-9011922.5199999996},{"$f":"SUM(K73:K75)","v":0},{"$f":"SUM(L73:L75)","v":-127865909.626},{"$f":"SUM(M73:M75)","v":114231253.464}]
[null,null,"Depreciation Expense adj. from gain or loss on the retirement of assets (pool of like assets), if applicable6"]
[null,null,"Total",null,null,null,null,null,null,{"$f":"J76+J77","v":-9011922.5199999996}]
[]
[null,null,null,null,null,null,null,null,"Less: Fully Allocated Depreciation"]
[10,null,"Transportation",null,null,null,null,null,"Transportation"]
[8,null,"Stores Equipment",null,null,null,null,null,"Stores Equipment"]
[null,null,null,null,null,null,null,null,"Net Depreciation",null,{"$f":"J78-K81-K82","v":-9011922.5199999996}]
[]
["Notes:"]
[]
[1,"Tables in the format outlined above covering all fixed asset accounts should be submitted for the Test Year, Bridge Year and all relevant historical years.  At a minimum , the applicant must provide data for the earlier of: 1) all historical years back to its last rebasing; or 2) at least three years of historical actuals, in addition to Bridge Year and Test Year forecasts."]
[]
[]
[2,"The \"CCA Class\" for fixed assets should agree with the CCA Class used for tax purposes in Tax Returns. Fixed Assets sub-components may be used where the underlying asset components are classified under multiple CCA Classes for tax purposes. If an applicant uses any different classes from those shown in the table, an explanation should be provided. (also see note 3 below)."]
[]
[]
[3,"The table may need to be customized for a utility's asset categories or for any new asset accounts announced or authorized by the Board."]
[]
[4,"The additions column (E) must not include construction work in progress (CWIP)."]
[]
[5,"Effective on the date of IFRS adoption, customer contributions will no longer be recorded in Account 1995 Contributions & Grants, but will be recorded in Account 2440, Deferred Revenues.  "]
[]
[6,"Where a distributor for general financial reporting purposes under IFRS has accounted for the amount of gain or loss on the retirement of assets in a pool of like assets as a charge or credit to income, for reporting and rate application filings the distributor shall reclassify such gains and losses as depreciation expense, and disclose the amount separately."]

{"sheet":"App.2-BA_Fixed Asset Cont2015","index":15,"n_rows":99,"n_cols":13,"rows_kept":99,"cut":false,"hidden":false,"merged":[[98,1,99,12],[8,0,8,12],[9,0,9,12],[14,3,14,6],[76,2,76,8],[77,2,77,8],[86,1,87,12],[89,1,90,12],[92,1,92,12]]}
[null,null,null,null,null,null,null,null,null,null,null,"File Number:",{"$f":"EBNUMBER","v":"EB-2014-0096"}]
[null,null,null,null,null,null,null,null,null,null,null,"Exhibit:",2]
[null,null,null,null,null,null,null,null,null,null,null,"Tab:",1]
[null,null,null,null,null,null,null,null,null,null,null,"Schedule:",1]
[null,null,null,null,null,null,null,null,null,null,null,"Page:",8]
[]
[null,null,null,null,null,null,null,null,null,null,null,"Date:","2014-08-29"]
[]
["Appendix 2-BA"]
["Fixed Asset Continuity Schedule "]
[]
[null,null,null,null,"Accounting Standard","MIFRS"]
[null,null,null,null,"Year ",2015]
[]
[null,null,null,"Cost",null,null,null,null,null,"Accumulated Depreciation"]
["CCA Class","OEB","Description","Opening Balance","Additions","Disposals","Closing Balance",null,"Opening Balance","Additions","Disposals","Closing Balance","Net Book Value"]
[12,1611,"Computer Software (Formally known as Account 1925)",{"$f":"'App.2-BA_Fixed Asset Cont2014'!G17","v":3429672.57},368740.48,null,{"$f":"D17+E17+F17","v":3798413.05},null,{"$f":"'App.2-BA_Fixed Asset Cont2014'!L17","v":-2901179.9375},-78908.694444444962,null,{"$f":"I17+J17+K17","v":-2980088.631944445},{"$f":"G17+L17","v":818324.41805555485}]
["CEC",1612,"Land Rights (Formally known as Account 1906)",{"$f":"'App.2-BA_Fixed Asset Cont2014'!G18","v":0},null,null,{"$f":"D18+E18+F18","v":0},null,{"$f":"'App.2-BA_Fixed Asset Cont2014'!L18","v":0},null,null,{"$f":"I18+J18+K18","v":0},{"$f":"G18+L18","v":0}]
["N/A",1805,"Land",{"$f":"'App.2-BA_Fixed Asset Cont2014'!G19","v":507272.79000000004},null,null,507272.79000000004,null,{"$f":"'App.2-BA_Fixed Asset Cont2014'!L19","v":0},null,null,0,507272.79000000004]
[47,1806,"Land Rights  ",{"$f":"'App.2-BA_Fixed Asset Cont2014'!G20","v":1604396.28},null,null,1604396.28,null,{"$f":"'App.2-BA_Fixed Asset Cont2014'!L20","v":-925228.35479999974},-57066.567599999951,null,-982294.92239999969,622101.35760000034]
[47,1808,"Buildings",{"$f":"'App.2-BA_Fixed Asset Cont2014'!G21","v":111638.13},null,null,111638.13,null,{"$f":"'App.2-BA_Fixed Asset Cont2014'!L21","v":-111637},0,null,-111637,1.1300000000046566]
[13,1810,"Leasehold Improvements",{"$f":"'App.2-BA_Fixed Asset Cont2014'!G22","v":0},null,null,0,null,{"$f":"'App.2-BA_Fixed Asset Cont2014'!L22","v":0},null,null,0,0]
[47,1815,"Transformer Station Equipment > 50 kV (1708, 1740, 1745)",{"$f":"'App.2-BA_Fixed Asset Cont2014'!G23","v":3833012.8000000003},null,null,3833012.8000000003,null,{"$f":"'App.2-BA_Fixed Asset Cont2014'!L23","v":-777993.95247490238},-76660.281358888955,null,-854654.23383379134,2978358.5661662091]
[47,1815,"Transformer Station Equipment > 50 kV (1715, 1815)",{"$f":"'App.2-BA_Fixed Asset Cont2014'!G24","v":1519064.84},null,null,1519064.84,null,{"$f":"'App.2-BA_Fixed Asset Cont2014'!L24","v":-249094.56000000003},-36488.1,null,-285582.66000000003,1233482.1800000002]
[47,1815,"Transformer Station Equipment > 50 kV (1716)",{"$f":"'App.2-BA_Fixed Asset Cont2014'!G25","v":46955.06},null,null,46955.06,null,{"$f":"'App.2-BA_Fixed Asset Cont2014'!L25","v":-47860.38},905.19,null,-46955.189999999995,-0.12999999999738066]
[47,1815,"Transformer Station Equipment > 50 kV (1717)",{"$f":"'App.2-BA_Fixed Asset Cont2014'!G26","v":610733.92999999993},null,null,610733.92999999993,null,{"$f":"'App.2-BA_Fixed Asset Cont2014'!L26","v":-214405.69},-13339.38,null,-227745.07,382988.85999999993]
[47,1815,"Transformer Station Equipment  > 50 kV (1719)",{"$f":"'App.2-BA_Fixed Asset Cont2014'!G27","v":625178.93999999994},null,null,625178.93999999994,null,{"$f":"'App.2-BA_Fixed Asset Cont2014'!L27","v":-263660.40000000002},-35746.730000000003,null,-299407.13,325771.80999999994]
[47,1820,"Distribution Station Equipment <50 kV",{"$f":"'App.2-BA_Fixed Asset Cont2014'!G28","v":4212520.3900000006},null,null,4212520.3900000006,null,{"$f":"'App.2-BA_Fixed Asset Cont2014'!L28","v":-2190707.1429737238},-60924.276331306435,null,-2251631.4193050303,1960888.9706949703]
[47,1820,"Distribution Station Equipment <50 Kv (1821)",{"$f":"'App.2-BA_Fixed Asset Cont2014'!G29","v":2393556.4300000002},null,null,2393556.4300000002,null,{"$f":"'App.2-BA_Fixed Asset Cont2014'!L29","v":-865231.61},-73678.5,null,-938910.11,1454646.3200000003]
[47,1825,"Storage Battery Equipment",{"$f":"'App.2-BA_Fixed Asset Cont2014'!G30","v":0},null,null,0,null,{"$f":"'App.2-BA_Fixed Asset Cont2014'!L30","v":0},null,null,0,0]
[47,1830,"Poles, Towers & Fixtures - Wood",{"$f":"'App.2-BA_Fixed Asset Cont2014'!G31","v":42404790},2219067.4909999999,null,44623857.490999997,null,{"$f":"'App.2-BA_Fixed Asset Cont2014'!L31","v":-23778945.423754293},-462430.88332565164,null,-24241376.307079945,20382481.183920052]
[47,1830,"Poles, Towers & Fixtures - (1831) Concrete",{"$f":"'App.2-BA_Fixed Asset Cont2014'!G32","v":3100891.88},null,null,3100891.88,null,{"$f":"'App.2-BA_Fixed Asset Cont2014'!L32","v":-1307747.4400000002},-35210.239999999998,null,-1342957.6800000002,1757934.1999999997]
[47,1835,"Overhead Conductors & Devices",{"$f":"'App.2-BA_Fixed Asset Cont2014'!G33","v":24009077.809999999},1164812.1507999999,null,25173889.9608,null,{"$f":"'App.2-BA_Fixed Asset Cont2014'!L33","v":-8967528.1295767613},-288574.05610400956,null,-9256102.1856807712,15917787.775119228]
[47,1835,"Overhead Conductors & Devices (1836)",{"$f":"'App.2-BA_Fixed Asset Cont2014'!G34","v":2745055.9},101000,null,2846055.9,null,{"$f":"'App.2-BA_Fixed Asset Cont2014'!L34","v":-1349564},-210712.6,null,-1560276.6,1285779.2999999998]
[47,1835,"Overhead Conductors & Devices (1837)",{"$f":"'App.2-BA_Fixed Asset Cont2014'!G35","v":2272427.0499999998},30162.400000000001,null,2302589.4499999997,null,{"$f":"'App.2-BA_Fixed Asset Cont2014'!L35","v":-597052.46},-71265.679999999993,null,-668318.1399999999,1634271.3099999998]
[47,1840,"Underground Conduit",{"$f":"'App.2-BA_Fixed Asset Cont2014'!G36","v":10910020.51},836869.66,null,11746890.17,null,{"$f":"'App.2-BA_Fixed Asset Cont2014'!L36","v":-2538952.7792007341},-200446.50500399666,null,-2739399.2842047308,9007490.8857952692]
[47,1845,"Underground Conductors & Devices",{"$f":"'App.2-BA_Fixed Asset Cont2014'!G37","v":66944906.730000004},2444065.4622,null,69388972.192200005,null,{"$f":"'App.2-BA_Fixed Asset Cont2014'!L37","v":-39186970.959486656},-1245374.3668539673,null,-40432345.326340623,28956626.865859382]
[47,1845,"Underground Conductors & Devices (1846)",{"$f":"'App.2-BA_Fixed Asset Cont2014'!G38","v":2166038.7799999998},561196.25,null,2727235.03,null,{"$f":"'App.2-BA_Fixed Asset Cont2014'!L38","v":-1090495.28},-59598.720000000001,null,-1150094,1577141.0299999998]
[47,1850,"Line Transformers (1850) Polemount",{"$f":"'App.2-BA_Fixed Asset Cont2014'!G39","v":20272305.440000001},885008.16399999987,null,21157313.604000002,null,{"$f":"'App.2-BA_Fixed Asset Cont2014'!L39","v":-13553447.44741253},-243964.79608025413,null,-13797412.243492784,7359901.3605072182]
[47,1850,"Line Transformers (1853) Padmount",{"$f":"'App.2-BA_Fixed Asset Cont2014'!G40","v":18902363.84},662260,null,19564623.84,null,{"$f":"'App.2-BA_Fixed Asset Cont2014'!L40","v":-8879822},-522072.12,null,-9401894.1199999992,10162729.720000001]
[47,1855,"Services (Overhead & Underground)",{"$f":"'App.2-BA_Fixed Asset Cont2014'!G41","v":6492068.25},1018442.5165,null,7510510.7664999999,null,{"$f":"'App.2-BA_Fixed Asset Cont2014'!L41","v":-1549406.5375999999},-280050.81513,null,-1829457.3527299999,5681053.4137699995]
[47,1860,"Meters",{"$f":"'App.2-BA_Fixed Asset Cont2014'!G42","v":3495889.76},284541,null,3780430.76,null,{"$f":"'App.2-BA_Fixed Asset Cont2014'!L42","v":-1152795.4635253605},-186489.24497101363,null,-1339284.7084963741,2441146.0515036257]
[47,1860,"Meters (Smart Meters)",{"$f":"'App.2-BA_Fixed Asset Cont2014'!G43","v":5861065.2599999988},143150,null,6004215.2599999988,null,{"$f":"'App.2-BA_Fixed Asset Cont2014'!L43","v":-1440304.4},-405161.58666666667,null,-1845465.9866666666,4158749.2733333325]
[47,1865,"Other Installations on Customer's Premises",{"$f":"'App.2-BA_Fixed Asset Cont2014'!G44","v":0},null,null,0,null,{"$f":"'App.2-BA_Fixed Asset Cont2014'!L44","v":0},0,null,0,0]
[47,1875,"Street Lighting and Signal Systems",{"$f":"'App.2-BA_Fixed Asset Cont2014'!G45","v":0},null,null,0,null,{"$f":"'App.2-BA_Fixed Asset Cont2014'!L45","v":0},null,null,0,0]
["N/A",1905,"Land",{"$f":"'App.2-BA_Fixed Asset Cont2014'!G46","v":508969.83},null,null,508969.83,null,{"$f":"'App.2-BA_Fixed Asset Cont2014'!L46","v":0},null,null,0,508969.83]
[47,1908,"Buildings & Fixtures",{"$f":"'App.2-BA_Fixed Asset Cont2014'!G47","v":16617915.529999999},44000,null,16661915.529999999,null,{"$f":"'App.2-BA_Fixed Asset Cont2014'!L47","v":-2948127.5721333325},-281046.67453333322,null,-3229174.2466666657,13432741.283333333]
[13,1910,"Leasehold Improvements",{"$f":"'App.2-BA_Fixed Asset Cont2014'!G48","v":120252.32},null,null,120252.32,null,{"$f":"'App.2-BA_Fixed Asset Cont2014'!L48","v":-120252.32},null,null,-120252.32,0]
[8,1915,"Office Furniture & Equipment (10 years)",{"$f":"'App.2-BA_Fixed Asset Cont2014'!G49","v":1650564.44},32823.805637439997,null,1683388.2456374399,null,{"$f":"'App.2-BA_Fixed Asset Cont2014'!L49","v":-1037848.5800000001},-97373.020281871548,null,-1135221.6002818716,548166.64535556827]
[8,1915,"Office Furniture & Equipment (5 years)",{"$f":"'App.2-BA_Fixed Asset Cont2014'!G50","v":0},null,null,0,null,{"$f":"'App.2-BA_Fixed Asset Cont2014'!L50","v":0},null,null,0,0]
[10,1920,"Computer Equipment - Hardware",{"$f":"'App.2-BA_Fixed Asset Cont2014'!G51","v":1257769.3},null,null,1257769.3,null,{"$f":"'App.2-BA_Fixed Asset Cont2014'!L51","v":-1257769.3},null,null,-1257769.3,0]
[45,1920,"Computer Equip.-Hardware(Post Mar. 22/04)",{"$f":"'App.2-BA_Fixed Asset Cont2014'!G52","v":320323.46000000002},null,null,320323.46000000002,null,{"$f":"'App.2-BA_Fixed Asset Cont2014'!L52","v":-315054.35600000003},null,null,{"$f":"I52+J52+K52","v":-315054.35600000003},5269.1039999999921]
[50,1920,"Computer Equip.-Hardware(Post Mar. 19/07)",{"$f":"'App.2-BA_Fixed Asset Cont2014'!G53","v":2501877.75},240248,null,2742125.75,null,{"$f":"'App.2-BA_Fixed Asset Cont2014'!L53","v":-1699294.2789999945},-236679.2238666701,null,-1935973.5028666647,806152.24713333533]
[10,1930,"Transportation Equipment (1931)",{"$f":"'App.2-BA_Fixed Asset Cont2014'!G54","v":705983.67999999993},114085.51692032005,null,820069.19692031993,null,{"$f":"'App.2-BA_Fixed Asset Cont2014'!L54","v":-432197.8317955918},-65720.651224424524,null,-497918.48302001634,322150.71390030358]
[10,1930,"Transportation Equipment (1932) Large Trucks",{"$f":"'App.2-BA_Fixed Asset Cont2014'!G55","v":8194698.0300000003},513992.42,null,8708690.4500000011,null,{"$f":"'App.2-BA_Fixed Asset Cont2014'!L55","v":-4201080.6099999994},-342028.07,null,-4543108.68,4165581.7700000014]
[10,1930,"Transportation Equipment (1933) Trailers",{"$f":"'App.2-BA_Fixed Asset Cont2014'!G56","v":351326.27},70800,null,422126.27,null,{"$f":"'App.2-BA_Fixed Asset Cont2014'!L56","v":-235766.66},-8453.61,null,-244220.27000000002,177906]
[8,1935,"Stores Equipment",{"$f":"'App.2-BA_Fixed Asset Cont2014'!G57","v":311414.31},0,null,311414.31,null,{"$f":"'App.2-BA_Fixed Asset Cont2014'!L57","v":-211239.84},-8799.2799999999697,null,-220039.11999999997,91375.190000000031]
[8,1940,"Tools, Shop & Garage Equipment",{"$f":"'App.2-BA_Fixed Asset Cont2014'!G58","v":2021825.55},60802.699424640006,null,2082628.2494246401,null,{"$f":"'App.2-BA_Fixed Asset Cont2014'!L58","v":-1611458.2600000009},-78073.024971230654,null,-1689531.2849712316,393096.96445340849]
[8,1945,"Measurement & Testing Equipment",{"$f":"'App.2-BA_Fixed Asset Cont2014'!G59","v":204006.33},1000,null,205006.33,null,{"$f":"'App.2-BA_Fixed Asset Cont2014'!L59","v":-199219.44999999998},-3239.1799999999348,null,-202458.62999999992,2547.7000000000698]
[8,1950,"Power Operated Equipment",{"$f":"'App.2-BA_Fixed Asset Cont2014'!G60","v":0},0,null,0,null,{"$f":"'App.2-BA_Fixed Asset Cont2014'!L60","v":0},0,null,0,0]
[8,1955,"Communications Equipment",{"$f":"'App.2-BA_Fixed Asset Cont2014'!G61","v":1074284.33},215000,null,1289284.33,null,{"$f":"'App.2-BA_Fixed Asset Cont2014'!L61","v":-215834.4588752776},-51496.469812638796,null,-267330.92868791637,1021953.4013120837]
[8,1955,"Communication Equipment (Smart Meters)",{"$f":"'App.2-BA_Fixed Asset Cont2014'!G62","v":0},1000,null,1000,null,{"$f":"'App.2-BA_Fixed Asset Cont2014'!L62","v":0},null,null,0,1000]
[8,1960,"Miscellaneous Equipment ",{"$f":"'App.2-BA_Fixed Asset Cont2014'!G63","v":72951.31},0,null,72951.31,null,{"$f":"'App.2-BA_Fixed Asset Cont2014'!L63","v":-72704.249999999971},-249.30000000000291,null,-72953.549999999974,-2.2399999999761349]
[47,1970,"Load Management Controls Customer Premises",{"$f":"'App.2-BA_Fixed Asset Cont2014'!G64","v":0},0,null,0,null,{"$f":"'App.2-BA_Fixed Asset Cont2014'!L64","v":0},null,null,0,0]
[47,1975,"Load Management Controls Utility Premises",{"$f":"'App.2-BA_Fixed Asset Cont2014'!G65","v":0},null,null,0,null,{"$f":"'App.2-BA_Fixed Asset Cont2014'!L65","v":0},null,null,0,0]
[47,1980,"System Supervisor Equipment",{"$f":"'App.2-BA_Fixed Asset Cont2014'!G66","v":128960.64},null,null,128960.64,null,{"$f":"'App.2-BA_Fixed Asset Cont2014'!L66","v":-128961},null,null,-128961,-0.36000000000058208]
[47,1985,"Miscellaneous Fixed Assets",{"$f":"'App.2-BA_Fixed Asset Cont2014'!G67","v":0},null,null,0,null,{"$f":"'App.2-BA_Fixed Asset Cont2014'!L67","v":0},null,null,0,0]
[47,1990,"Other Tangible Property",{"$f":"'App.2-BA_Fixed Asset Cont2014'!G68","v":0},null,null,0,null,{"$f":"'App.2-BA_Fixed Asset Cont2014'!L68","v":0},null,null,0,0]
[47,1995,"Contributions & Grants",{"$f":"'App.2-BA_Fixed Asset Cont2014'!G69","v":-22416863.359999999},-827800,null,-23244663.359999999,null,{"$f":"'App.2-BA_Fixed Asset Cont2014'!L69","v":7149358.615199999},879538.50239999965,null,8028897.1175999986,-15215766.242400002]
[47,2440,"Deferred Revenue5",{"$f":"'App.2-BA_Fixed Asset Cont2014'!G70","v":0},null,null,0,null,{"$f":"'App.2-BA_Fixed Asset Cont2014'!L70","v":0},null,null,0,0]
[47,2005,"2005-Property Under Capital Leases",{"$f":"'App.2-BA_Fixed Asset Cont2014'!G71","v":0},null,null,0,null,{"$f":"'App.2-BA_Fixed Asset Cont2014'!L71","v":0},null,null,null,0]
[null,null,null,null,null,null,0,null,null,null,null,0,{"$f":"G72+L72","v":0}]
[null,null,"Sub-Total",{"$f":"SUM(D17:D72)","v":242097163.09000009},{"$f":"SUM(E17:E72)","v":11185268.016482398},{"$f":"SUM(F17:F72)","v":0},{"$f":"SUM(G17:G72)","v":253282431.10648233},null,{"$f":"SUM(I17:I72)","v":-121477481.50090916},{"$f":"SUM(J17:J72)","v":-4936878.9561603712},{"$f":"SUM(K17:K72)","v":0},{"$f":"SUM(L17:L72)","v":-126414360.45706955},{"$f":"SUM(M17:M72)","v":126868070.64941286}]
[null,null,"Less Socialized Renewable Energy Generation Investments (input as negative)",null,null,null,{"$f":"D74+E74+F74","v":0},null,null,null,null,{"$f":"I74+J74+K74","v":0},{"$f":"G74+L74","v":0}]
[null,null,"Less Other Non Rate-Regulated Utility Assets (input as negative)",null,null,null,{"$f":"D75+E75+F75","v":0},null,null,null,null,{"$f":"I75+J75+K75","v":0},{"$f":"G75+L75","v":0}]
[null,null,"Total PP&E",{"$f":"SUM(D73:D75)","v":242097163.09000009},{"$f":"SUM(E73:E75)","v":11185268.016482398},{"$f":"SUM(F73:F75)","v":0},{"$f":"SUM(G73:G75)","v":253282431.10648233},null,{"$f":"SUM(I73:I75)","v":-121477481.50090916},{"$f":"SUM(J73:J75)","v":-4936878.9561603712},{"$f":"SUM(K73:K75)","v":0},{"$f":"SUM(L73:L75)","v":-126414360.45706955},{"$f":"SUM(M73:M75)","v":126868070.64941286}]
[null,null,"Depreciation Expense adj. from gain or loss on the retirement of assets (pool of like assets), if applicable6"]
[null,null,"Total",null,null,null,null,null,null,{"$f":"J76+J77","v":-4936878.9561603712}]
[]
[null,null,null,null,null,null,null,null,"Less: Fully Allocated Depreciation"]
[10,null,"Transportation",null,null,null,null,null,"Transportation"]
[8,null,"Stores Equipment",null,null,null,null,null,"Stores Equipment"]
[null,null,null,null,null,null,null,null,"Net Depreciation",null,{"$f":"J78-K81-K82","v":-4936878.9561603712}]
[]
["Notes:"]
[]
[1,"Tables in the format outlined above covering all fixed asset accounts should be submitted for the Test Year, Bridge Year and all relevant historical years.  At a minimum , the applicant must provide data for the earlier of: 1) all historical years back to its last rebasing; or 2) at least three years of historical actuals, in addition to Bridge Year and Test Year forecasts."]
[]
[]
[2,"The \"CCA Class\" for fixed assets should agree with the CCA Class used for tax purposes in Tax Returns. Fixed Assets sub-components may be used where the underlying asset components are classified under multiple CCA Classes for tax purposes. If an applicant uses any different classes from those shown in the table, an explanation should be provided. (also see note 3 below)."]
[]
[]
[3,"The table may need to be customized for a utility's asset categories or for any new asset accounts announced or authorized by the Board."]
[]
[4,"The additions column (E) must not include construction work in progress (CWIP)."]
[]
[5,"Effective on the date of IFRS adoption, customer contributions will no longer be recorded in Account 1995 Contributions & Grants, but will be recorded in Account 2440, Deferred Revenues.  "]
[]
[6,"Where a distributor for general financial reporting purposes under IFRS has accounted for the amount of gain or loss on the retirement of assets in a pool of like assets as a charge or credit to income, for reporting and rate application filings the distributor shall reclassify such gains and losses as depreciation expense, and disclose the amount separately."]

{"sheet":"Appendix 2-BB Service Life  ","index":16,"n_rows":116,"n_cols":17,"rows_kept":116,"cut":false,"hidden":false,"merged":[[14,11,14,12],[14,13,14,14],[32,2,32,4],[33,2,33,4],[14,2,14,4],[14,5,14,7],[14,9,15,9],[14,10,15,10],[8,0,8,16],[9,0,9,16],[10,0,10,16],[14,15,14,16],[15,2,15,4],[36,3,36,4],[40,2,40,4],[41,2,41,4],[16,0,33,0],[16,1,18,1],[16,2,18,2],[16,3,16,4],[17,3,18,3],[25,2,25,4],[26,2,26,4],[27,2,27,4],[28,2,28,4],[29,2,29,4],[31,2,31,4],[19,1,21,1],[19,2,21,2],[19,3,19,4],[20,3,21,3],[22,1,24,1],[22,2,24,2],[22,3,22,4],[23,3,24,3],[37,1,39,1],[37,2,39,2],[65,2,65,4],[66,1,67,1],[66,2,67,2],[66,3,66,4],[67,3,67,4],[42,1,44,1],[42,2,44,2],[42,3,42,4],[43,3,43,4],[44,3,44,4],[47,1,48,1],[47,3,47,4],[48,3,48,4],[62,2,62,4],[68,2,68,4],[56,2,56,4],[57,0,77,0],[57,2,57,4],[58,2,58,4],[59,2,59,4],[60,2,60,4],[63,2,63,4],[64,2,64,4],[73,2,73,4],[74,2,74,4],[75,2,75,4],[76,2,76,4],[77,2,77,4],[34,0,56,0],[34,1,36,1],[34,2,36,2],[34,3,34,4],[35,3,35,4],[50,2,50,4],[51,2,51,4],[52,2,52,4],[53,2,53,4],[54,2,54,4],[81,0,81,7],[83,2,83,4],[83,5,84,7],[83,9,84,9],[87,6,87,7],[88,3,88,4],[88,6,88,7],[78,2,78,4],[69,2,69,4],[70,2,70,4],[71,1,72,1],[71,2,72,2],[71,3,71,4],[72,3,72,4],[86,1,88,1],[86,2,88,2],[86,3,86,4],[89,2,89,4],[89,6,89,7],[90,2,90,4],[90,5,90,7],[83,13,83,14],[83,15,83,16],[84,2,84,4],[85,2,85,4],[85,6,85,7],[83,10,84,10],[83,11,83,12],[86,6,86,7],[87,3,87,4],[95,1,96,1],[95,2,96,2],[95,3,95,4],[95,6,95,7],[96,3,96,4],[96,6,96,7],[91,1,94,1],[91,2,94,2],[91,3,91,4],[91,6,91,7],[92,3,92,4],[92,6,92,7],[93,3,93,4],[93,6,93,7],[94,3,94,4],[94,6,94,7],[97,1,100,1],[97,2,100,2],[97,3,97,4],[97,6,97,7],[98,3,98,4],[98,6,98,7],[99,3,99,4],[99,6,99,7],[100,3,100,4],[100,6,100,7],[103,2,103,4],[103,6,103,7],[104,2,104,4],[104,6,104,7],[105,2,105,4],[105,6,105,7],[101,1,102,1],[101,2,102,2],[101,3,101,4],[101,6,101,7],[102,3,102,4],[102,6,102,7],[109,2,109,4],[109,6,109,7],[112,0,112,7],[106,2,106,4],[106,6,106,7],[107,2,107,4],[107,6,107,7],[108,2,108,4],[108,6,108,7],[37,3,37,4],[38,3,38,4],[39,3,39,4],[45,1,46,1],[45,2,46,2],[45,3,45,4],[46,3,46,4],[49,2,49,4],[61,2,61,4],[55,2,55,4]]}
[null,null,null,null,null,null,null,null,null,null,null,null,"File Number:",null,0]
[null,null,null,null,null,null,null,null,null,null,null,null,"Exhibit:"]
[null,null,null,null,null,null,null,null,null,null,null,null,"Tab:"]
[null,null,null,null,null,null,null,null,null,null,null,null,"Schedule:"]
[null,null,null,null,null,null,null,null,null,null,null,null,"Page:"]
[]
[null,null,null,null,null,null,null,null,null,null,null,null,"Date:"]
[]
["Appendix 2-BB"]
["Service Life Comparison"]
["Table F-1 from Kinetrics Report1"]
[]
[]
[]
[null,null,"Asset Details",null,null,"Useful Life",null,null,null,"USoA Account Number","USoA Account Description","Current",null,"Proposed",null,"Outside Range of Min, Max TUL?"]
["Parent*","#","Category| Component | Type",null,null,"MIN UL","TUL","MAX UL",null,null,null,"Years","Rate","Years","Rate","Below Min TUL","Above Max TUL"]
["OH",1,"Fully Dressed Wood Poles","Overall",null,35,45,75,null,1830,"Fully Dressed Wood Poles",25,{"$f":"IF(ISERROR(1/L17), \"\", 1/L17)","v":0.04},50,{"$f":"IF(ISERROR(1/N17), \"\", 1/N17)","v":0.02},{"$f":"IF(ISBLANK(N17),\"\",IF(N17<F17,\"Yes\",\"No\"))","v":"No"},{"$f":"IF(ISBLANK(N17),\"\",IF(N17>H17,\"Yes\",\"No\"))","v":"No"}]
[null,null,null,"Cross Arm","Wood",20,40,55,null,null,null,null,{"$f":"IF(ISERROR(1/L18), \"\", 1/L18)","v":""},null,{"$f":"IF(ISERROR(1/N18), \"\", 1/N18)","v":""},"",""]
[null,null,null,null,"Steel",30,70,95,null,null,null,null,"",null,"","",""]
[null,2,"Fully Dressed Concrete Poles","Overall",null,50,60,80,null,1831,"Fully Dressed Concrete Poles",25,0.04,60,1.6666666666666666E-2,"No","No"]
[null,null,null,"Cross Arm","Wood",20,40,55,null,null,null,null,"",null,"","",""]
[null,null,null,null,"Steel",30,70,95,null,null,null,null,"",null,"","",""]
[null,3,"Fully Dressed Steel Poles","Overall",null,60,60,80,null,1831,"Fully Dressed Steel Poles",25,0.04,60,1.6666666666666666E-2,"No","No"]
[null,null,null,"Cross Arm","Wood",20,40,55,null,null,null,null,"",null,"","",""]
[null,null,null,null,"Steel",30,70,95,null,null,null,null,"",null,"","",""]
[null,4,"OH Line Switch",null,null,30,45,55,null,null,null,null,"",null,"","",""]
[null,5,"OH Line Switch Motor",null,null,15,25,25,null,1836,"OH Switch - complex (Motor &RTU)",25,0.04,15,6.6666666666666666E-2,"No","No"]
[null,6,"OH Line Switch RTU",null,null,15,20,20,null,1836,"OH Switch - complex (Motor &RTU)",25,0.04,15,6.6666666666666666E-2,"No","No"]
[null,7,"OH Integral Switches",null,null,35,45,60,null,null,null,null,"",null,"","",""]
[null,8,"OH Conductors",null,null,50,60,75,null,1835,"OH Conductors & non-complex switches",25,0.04,60,1.6666666666666666E-2,"No","No"]
[null,null,"OH Secondary Conductor",null,null,30,40,60,null,1837,"OH secondary conductor",25,0.04,30,3.3333333333333333E-2,"No","No"]
[null,9,"OH Transformers & Voltage Regulators",null,null,30,40,60,null,1850,"OH Transformers and Voltage Regulator",25,0.04,40,2.5000000000000001E-2,"No","No"]
[null,10,"OH Shunt Capacitor Banks",null,null,25,30,40,null,null,null,null,"",null,"","",""]
[null,11,"Reclosers",null,null,25,40,55,null,null,null,null,"",null,"","",""]
["TS & MS",12,"Power Transformers","Overall",null,30,45,60,null,"1715","Power Transformer",40,2.5000000000000001E-2,45,2.2222222222222223E-2,"No","No"]
[null,null,null,"Bushing",null,10,20,30,null,null,null,null,"",null,"",{"$f":"IF(ISBLANK(N36),\"\",IF(N36<F36,\"Yes\",\"No\"))","v":""},{"$f":"IF(ISBLANK(N36),\"\",IF(N36>H36,\"Yes\",\"No\"))","v":""}]
[null,null,null,"Tap Changer",null,20,30,60,null,null,null,null,"",null,"","",""]
[null,12,"MS Station - Power Transformers","Overall",null,30,45,60,null,1820,"Power Transformer",25,{"$f":"IF(ISERROR(1/L38), \"\", 1/L38)","v":0.04},45,2.2222222222222223E-2,"No","No"]
[null,null,null,"Bushing",null,10,20,30,null,null,null,null,null,null,null,"",""]
[null,null,null,"Tap Changer",null,20,30,60,null,null,null,null,null,null,null,"",""]
[null,13,"Station Service Transformer",null,null,30,45,55,null,null,null,null,"",null,"","",""]
[null,14,"Station Grounding Transformer",null,null,30,40,40,null,null,null,null,"",null,"","",""]
[null,15,"Station DC System","Overall",null,10,20,30,null,1716,"Station DC System",40,2.5000000000000001E-2,10,0.1,"No","No"]
[null,null,null,"Battery Bank",null,10,15,15,null,null,null,null,"",null,"","",""]
[null,null,null,"Charger",null,20,20,30,null,null,null,null,"",null,"","",""]
[null,16,"TS Station - Station Metal Clad Switchgear","Overall",null,30,40,60,null,1717,"Station Metal Clad Switchgear",40,2.5000000000000001E-2,40,2.5000000000000001E-2,"No","No"]
[null,null,null,"Removable Breaker",null,25,40,60,null,null,null,null,"",null,"","",""]
[null,16,"Station Metal Clad Switchgear","Overall",null,30,40,60,null,1821,"Station Metal Clad Switchgear",25,0.04,30,3.3333333333333333E-2,"No","No"]
[null,null,null,"Removable Breaker",null,25,40,60,null,null,null,null,"",null,"","",""]
[null,17,"TS Station - Station Independent Breakers",null,null,35,45,65,null,1718,"Station Independent Breakers",25,0.04,45,2.2222222222222223E-2,"No","No"]
[null,17,"MS Station - Station Independent Breakers",null,null,35,45,65,null,1718,"Station Independent Breakers",25,0.04,45,2.2222222222222223E-2,"No","No"]
[null,18,"Station Switch",null,null,30,50,60,null,null,null,null,"",null,"","",""]
[null,19,"Electromechanical Relays",null,null,25,35,50,null,null,null,null,"",null,"","",""]
[null,20,"Solid State Relays",null,null,10,30,45,null,1719,"Protection System",40,2.5000000000000001E-2,20,0.05,"No","No"]
[null,21,"Digital & Numeric Relays",null,null,15,20,20,null,1719,"Protection System",40,2.5000000000000001E-2,20,0.05,"No","No"]
[null,22,"Rigid Busbars",null,null,30,55,60,null,null,null,null,"",null,"",{"$f":"IF(ISBLANK(N56),\"\",IF(N56<F56,\"Yes\",\"No\"))","v":""},{"$f":"IF(ISBLANK(N56),\"\",IF(N56>H56,\"Yes\",\"No\"))","v":""}]
[null,23,"Steel Structure",null,null,35,50,90,null,null,null,null,"",null,"","",""]
["UG",24,"Primary Paper Insulated Lead Covered (PILC) Cables",null,null,60,65,75,null,null,null,null,"",null,"","",""]
[null,25,"Primary Ethylene-Propylene Rubber (EPR) Cables",null,null,20,25,25,null,null,null,null,"",null,"","",""]
[null,26,"Primary Non-Tree Retardant (TR) Cross Linked \nPolyethylene (XLPE) Cables Direct Buried",null,null,20,25,30,null,null,null,null,"",null,"","",""]
[null,27,"Primary Non-TR XLPE Cables in Duct",null,null,20,25,30,null,null,null,null,"",null,"","",""]
[null,28,"Primary TR XLPE Cables Direct Buried",null,null,25,30,35,null,null,null,null,"",null,"","",""]
[null,29,"Primary TR XLPE Cables in Duct",null,null,35,40,55,null,1845,"Primary TR XLPE Cables in Duct",25,0.04,35,2.8571428571428571E-2,"No","No"]
[null,30,"Secondary PILC Cables",null,null,70,75,80,null,null,null,null,"",null,"","",""]
[null,31,"Secondary Cables Direct Buried",null,null,25,35,40,null,null,null,null,"",null,"","",""]
[null,32,"Secondary Cables in Duct",null,null,35,40,60,null,null,null,null,"",null,"","",""]
[null,33,"Network Tranformers","Overall",null,20,35,50,null,null,null,null,"",null,"","",""]
[null,null,null,"Protector",null,20,35,40,null,null,null,null,"",null,"","",""]
[null,34,"Pad-Mounted Transformers",null,null,25,40,45,null,1853,"Pad-Mounted Transformers & Mini-pads",25,0.04,30,3.3333333333333333E-2,"No","No"]
[null,35,"Submersible/Vault Transformers",null,null,25,35,45,null,null,null,null,"",null,"","",""]
[null,36,"UG Foundation",null,null,35,55,70,null,1840,"Ducts/Concrete Encased Ducts Banks/Foundations",25,0.04,50,0.02,{"$f":"IF(ISBLANK(N71),\"\",IF(N71<F71,\"Yes\",\"No\"))","v":"No"},{"$f":"IF(ISBLANK(N71),\"\",IF(N71>H71,\"Yes\",\"No\"))","v":"No"}]
[null,37,"UG Vaults","Overall",null,40,60,80,null,null,null,null,"",null,"","",""]
[null,null,null,"Roof",null,20,30,45,null,null,null,null,"",null,"","",""]
[null,38,"UG Vault Switches",null,null,20,35,50,null,1846,"UG Vault Switches & Pad-Mounted Switchgear",25,0.04,30,3.3333333333333333E-2,"No","No"]
[null,39,"Pad-Mounted Switchgear",null,null,20,30,45,null,1846,"UG Vault Switches & Pad-Mounted Switchgear",25,0.04,30,3.3333333333333333E-2,"No","No"]
[null,40,"Ducts",null,null,30,50,85,null,1840,"Ducts/Concrete Encased Ducts Banks/Foundations",25,0.04,50,0.02,"No","No"]
[null,41,"Concrete Encased Duct Banks",null,null,35,55,80,null,1840,"Ducts/Concrete Encased Ducts Banks/Foundations",25,0.04,50,0.02,"No","No"]
[null,42,"Cable Chambers",null,null,50,60,80,null,1840,"Ducts/Concrete Encased Ducts Banks/Foundations",25,0.04,50,0.02,"No","No"]
["S",43,"Remote SCADA",null,null,15,20,30,null,"1955/1980","Remote SCADA/Wi-Max",4,0.25,20,0.05,"No","No"]
[]
[]
["Table F-2 from Kinetrics Report1"]
[]
[null,null,"Asset Details",null,null,"Useful Life Range",null,null,null,"USoA Account Number","USoA Account Description","Current",null,"Proposed",null,"Outside Range of Min, Max TUL?"]
[null,"#","Category| Component | Type",null,null,null,null,null,null,null,null,"Years","Rate","Years","Rate","Below Min Range","Above Max Range"]
[null,1,"Office Equipment",null,null,5,15,null,null,1915,"Office Equipment",10,{"$f":"IF(ISERROR(1/L86), \"\", 1/L86)","v":0.1},10,{"$f":"IF(ISERROR(1/N86), \"\", 1/N86)","v":0.1},{"$f":"IF(ISBLANK(N86),\"\",IF(N86<F86,\"Yes\",\"No\"))","v":"No"},{"$f":"IF(ISBLANK(N86),\"\",IF(N86>G86,\"Yes\",\"No\"))","v":"No"}]
[null,2,"Vehicles","Trucks & Buckets",null,5,15,null,null,1932,"Trucks & Buckets",8,{"$f":"IF(ISERROR(1/L87), \"\", 1/L87)","v":0.125},15,{"$f":"IF(ISERROR(1/N87), \"\", 1/N87)","v":6.6666666666666666E-2},{"$f":"IF(ISBLANK(N87),\"\",IF(N87<F87,\"Yes\",\"No\"))","v":"No"},{"$f":"IF(ISBLANK(N87),\"\",IF(N87>G87,\"Yes\",\"No\"))","v":"No"}]
[null,null,null,"Trailers",null,5,20,null,null,1933,"Trailers",8,0.125,20,0.05,{"$f":"IF(ISBLANK(N88),\"\",IF(N88<F88,\"Yes\",\"No\"))","v":"No"},{"$f":"IF(ISBLANK(N88),\"\",IF(N88>G88,\"Yes\",\"No\"))","v":"No"}]
[null,null,null,"Vans",null,5,10,null,null,1931,"Vans/Cars",8,0.125,8,0.125,{"$f":"IF(ISBLANK(N89),\"\",IF(N89<F89,\"Yes\",\"No\"))","v":"No"},{"$f":"IF(ISBLANK(N89),\"\",IF(N89>G89,\"Yes\",\"No\"))","v":"No"}]
[null,3,"Administrative Buildings",null,null,50,75,null,null,1908,"Admin Buildings",60,1.6666666666666666E-2,60,1.6666666666666666E-2,{"$f":"IF(ISBLANK(N90),\"\",IF(N90<F90,\"Yes\",\"No\"))","v":"No"},{"$f":"IF(ISBLANK(N90),\"\",IF(N90>G90,\"Yes\",\"No\"))","v":"No"}]
[null,4,"Leasehold Improvements",null,null,"Lease dependent",null,null,null,null,null,null,"",null,"","",""]
[null,5,"Station Buildings","Station Buildings",null,50,75,null,null,1708,"Station Building",50,0.02,50,0.02,"No","No"]
[null,null,null,"Parking",null,25,30,null,null,null,null,null,"",null,"","",""]
[null,null,null,"Fence",null,25,60,null,null,null,null,null,"",null,"","",""]
[null,null,null,"Roof",null,20,30,null,null,null,null,null,"",null,"","",""]
[null,6,"Computer Equipment","Hardware",null,3,5,null,null,1920,"Hardware",5,0.2,5,0.2,"No","No"]
[null,null,null,"Software",null,2,5,null,null,1925,"Software",3,0.33333333333333331,3,0.33333333333333331,"No","No"]
[null,7,"Equipment","Power Operated",null,5,10,null,null,null,null,null,"",null,"","",""]
[null,null,null,"Stores",null,5,10,null,null,1935,"Stores",10,0.1,10,0.1,"No","No"]
[null,null,null,"Tools, Shop, Garage Equipment",null,5,10,null,null,1940,"Tools",10,0.1,10,0.1,"No","No"]
[null,null,null,"Measurement & Testing Equipment",null,5,10,null,null,1945,"Measurement & Testing",5,0.2,5,0.2,"No","No"]
[null,8,"Communication","Towers",null,60,70,null,null,null,null,null,"",null,"","",""]
[null,null,null,"Wireless",null,2,10,null,null,null,null,null,"",null,"","",""]
[null,9,"Residential Energy Meters",null,null,25,35,null,null,null,null,null,"",null,"","",""]
[null,10,"Industrial/Commercial Energy Meters",null,null,25,35,null,null,null,null,null,"",null,"","",""]
[null,11,"Wholesale Energy Meters",null,null,15,30,null,null,1860,"Meters - non-smart meters",25,0.04,20,0.05,{"$f":"IF(ISBLANK(N106),\"\",IF(N106<F106,\"Yes\",\"No\"))","v":"No"},{"$f":"IF(ISBLANK(N106),\"\",IF(N106>G106,\"Yes\",\"No\"))","v":"No"}]
[null,12,"Current & Potential Transformer (CT & PT)",null,null,35,50,null,null,null,null,null,"",null,"",{"$f":"IF(ISBLANK(N107),\"\",IF(N107<F107,\"Yes\",\"No\"))","v":""},{"$f":"IF(ISBLANK(N107),\"\",IF(N107>G107,\"Yes\",\"No\"))","v":""}]
[null,13,"Smart Meters",null,null,5,15,null,null,"1860-01-06","Smart Meters",15,6.6666666666666666E-2,15,6.6666666666666666E-2,{"$f":"IF(ISBLANK(N108),\"\",IF(N108<F108,\"Yes\",\"No\"))","v":"No"},{"$f":"IF(ISBLANK(N108),\"\",IF(N108>G108,\"Yes\",\"No\"))","v":"No"}]
[null,14,"Repeaters - Smart Metering",null,null,10,15,null,null,null,null,null,"",null,"",{"$f":"IF(ISBLANK(N109),\"\",IF(N109<F109,\"Yes\",\"No\"))","v":""},{"$f":"IF(ISBLANK(N109),\"\",IF(N109>G109,\"Yes\",\"No\"))","v":""}]
[null,15,"Data Collectors - Smart Metering",null,null,15,20,null,null,null,null,null,"",null,"",{"$f":"IF(ISBLANK(N110),\"\",IF(N110<F110,\"Yes\",\"No\"))","v":""},{"$f":"IF(ISBLANK(N110),\"\",IF(N110>G110,\"Yes\",\"No\"))","v":""}]
[]
[]
["* TS & MS = Transformer and Municipal Stations UG = Underground Systems S = Monitoring and Control Systems"]
[]
["Note 1:","Tables F-1 and F-2 above are to be used as a reference in order to complete columns J, K, L and N."]
[null,"See pages 17-19 of Kinetrics Report"]

{"sheet":"App.2-CA_OldCGAAP_DepExp_2012","index":17,"n_rows":62,"n_cols":12,"rows_kept":62,"cut":false,"hidden":false,"merged":[[58,1,58,11],[59,1,60,9],[61,1,62,11],[8,0,8,11],[9,0,9,11],[14,0,15,0],[14,1,15,1],[14,10,15,10],[10,1,10,10]]}
[null,null,null,null,null,null,null,null,null,null,"File Number:",{"$f":"EBNUMBER","v":"EB-2014-0096"}]
[null,null,null,null,null,null,null,null,null,null,"Exhibit:"]
[null,null,null,null,null,null,null,null,null,null,"Tab:"]
[null,null,null,null,null,null,null,null,null,null,"Schedule:"]
[null,null,null,null,null,null,null,null,null,null,"Page:"]
[]
[null,null,null,null,null,null,null,null,null,null,"Date:"]
[]
["Appendix 2-CA"]
["Depreciation and Amortization Expense"]
[null,"Assumes the applicant made capitalization and depreciation expense accounting policy changes under CGAAP effective January 1, 2012 and will adopt IFRS for financial reporting purposes effective January 1, 2015."]
[]
[null,null,"Year",2012,"Former CGAAP"]
[]
["Account","Description","Opening Regulatory Gross PP&E as at Jan 1, 2012","Less Fully Depreciated","Net for Depreciation","Additions","Total for Depreciation","Years","Depreciation Rate","Depreciation Expense","2012 Depreciation Expense per Appendix 2-BA Fixed Assets, Column J \n (l)","Variance 2"]
[null,null,"(a)","(b)","(c)","(d)","(e) = (c) + ½ x (d) 1","(f)","(g) = 1 / (f)","(h) = (e) / (f)",null,"(m) = (h) - (l)"]
[1611,"Computer Software (Formally known as Account 1925)",null,null,{"$f":"C17-D17","v":0},null,{"$f":"E17+0.5*F17","v":0},null,{"$f":"IF(H17=0,0,1/H17)","v":0},{"$f":"IF(H17=0,0,G17/H17)","v":0},null,{"$f":"IF(ISERROR(+J17-K17), 0, +J17-K17)","v":0}]
[1612,"Land Rights (Formally known as Account 1906)",null,null,{"$f":"C18-D18","v":0},null,{"$f":"E18+0.5*F18","v":0},null,0,0,null,0]
[1805,"Land",null,null,0,null,0,null,0,0,null,0]
[1808,"Buildings",null,null,0,null,0,null,0,0,null,0]
[1810,"Leasehold Improvements",null,null,0,null,0,null,0,0,null,0]
[1815,"Transformer Station Equipment >50 kV",null,null,0,null,0,null,0,0,null,0]
[1820,"Distribution Station Equipment <50 kV",null,null,0,null,0,null,0,0,null,0]
[1825,"Storage Battery Equipment",null,null,0,null,0,null,0,0,null,0]
[1830,"Poles, Towers & Fixtures",null,null,0,null,0,null,0,0,null,0]
[1835,"Overhead Conductors & Devices",null,null,0,null,0,null,0,0,null,0]
[1840,"Underground Conduit",null,null,0,null,0,null,0,0,null,0]
[1845,"Underground Conductors & Devices",null,null,0,null,0,null,0,0,null,0]
[1850,"Line Transformers",null,null,0,null,0,null,0,0,null,0]
[1855,"Services (Overhead & Underground)",null,null,0,null,0,null,0,0,null,0]
[1860,"Meters",null,null,0,null,0,null,0,0,null,0]
[1860,"Meters (Smart Meters)",null,null,0,null,0,null,0,0,null,0]
[1905,"Land",null,null,0,null,0,null,0,0,null,0]
[1908,"Buildings & Fixtures",null,null,0,null,0,null,0,0,null,0]
[1910,"Leasehold Improvements",null,null,0,null,0,null,0,0,null,0]
[1915,"Office Furniture & Equipment (10 years)",null,null,0,null,0,null,0,0,null,0]
[1915,"Office Furniture & Equipment (5 years)",null,null,0,null,0,null,0,0,null,0]
[1920,"Computer Equipment - Hardware",null,null,0,null,0,null,0,0,null,0]
[1920,"Computer Equip.-Hardware(Post Mar. 22/04)",null,null,0,null,0,null,0,0,null,0]
[1920,"Computer Equip.-Hardware(Post Mar. 19/07)",null,null,0,null,0,null,0,0,null,0]
[1930,"Transportation Equipment",null,null,0,null,0,null,0,0,null,0]
[1935,"Stores Equipment",null,null,0,null,0,null,0,0,null,0]
[1940,"Tools, Shop & Garage Equipment",null,null,0,null,0,null,0,0,null,0]
[1945,"Measurement & Testing Equipment",null,null,0,null,0,null,0,0,null,0]
[1950,"Power Operated Equipment",null,null,0,null,0,null,0,0,null,0]
[1955,"Communications Equipment",null,null,0,null,0,null,0,0,null,0]
[1955,"Communication Equipment (Smart Meters)",null,null,0,null,0,null,0,0,null,0]
[1960,"Miscellaneous Equipment ",null,null,0,null,0,null,0,0,null,0]
[1970,"Load Management Controls Customer Premises",null,null,0,null,0,null,0,0,null,0]
[1975,"Load Management Controls Utility Premises",null,null,0,null,0,null,0,0,null,0]
[1980,"System Supervisor Equipment",null,null,0,null,0,null,0,0,null,0]
[1985,"Miscellaneous Fixed Assets",null,null,0,null,0,null,0,0,null,0]
[1990,"Other Tangible Property",null,null,0,null,0,null,0,0,null,0]
[1995,"Contributions & Grants",null,null,0,null,0,null,0,0,null,0]
[null,"Total",{"$f":"SUM(C17:C54)","v":0},{"$f":"SUM(D17:D54)","v":0},{"$f":"SUM(E17:E54)","v":0},{"$f":"SUM(F17:F54)","v":0},{"$f":"SUM(G17:G54)","v":0},null,null,{"$f":"SUM(J17:J54)","v":0},{"$f":"SUM(K17:K54)","v":0},{"$f":"SUM(L17:L54)","v":0}]
[]
["Notes:"]
[]
[1,"Board policy of the \"half-year\" rule - the applicant must ensure that additions in the year attract a half-year depreciation expense in the first year.  Deviations from this standard practice must be supported in the application."]
[2,"The applicant must provide an explanation of material variances in evidence."]
[]
["General","Applicants must provide a breakdown of depreciation and amortization expense in the above format for all relevant accounts.  Asset Retirement Obligations (AROs), depreciation and accretion expense should be disclosed separately consistent with the Notes of historical Audited Financial Statements."]

{"sheet":"App.2-CB_NewCGAAP_DepExp_2012","index":18,"n_rows":66,"n_cols":15,"rows_kept":66,"cut":false,"hidden":false,"merged":[[65,1,66,14],[58,1,58,14],[59,1,59,14],[60,1,60,14],[61,1,61,14],[62,1,62,14],[63,1,63,14],[8,0,8,14],[9,0,9,14],[10,0,10,14],[14,0,15,0],[14,1,15,1],[14,10,15,10],[14,13,15,13]]}
[null,null,null,null,null,null,null,null,null,null,null,null,null,"File Number:",{"$f":"EBNUMBER","v":"EB-2014-0096"}]
[null,null,null,null,null,null,null,null,null,null,null,null,null,"Exhibit:"]
[null,null,null,null,null,null,null,null,null,null,null,null,null,"Tab:"]
[null,null,null,null,null,null,null,null,null,null,null,null,null,"Schedule:"]
[null,null,null,null,null,null,null,null,null,null,null,null,null,"Page:"]
[]
[null,null,null,null,null,null,null,null,null,null,null,null,null,"Date:"]
[]
["Appendix 2-CB"]
["Depreciation and Amortization Expense"]
["Assumes the applicant made capitalization and depreciation expense accounting policy changes under CGAAP effective January 1, 2012 and will adopt IFRS for financial reporting purposes effective January 1, 2015."]
[]
[null,null,"Year",2012,"Revised CGAAP "]
[]
["Account","Description","Opening NBV as at Jan 1, 2012 5","Additions","Average Remaining Life of Opening NBV 4","Years (new additions only) 3","Depreciation Rate on New Additions","Depreciation Expense on Opening NBV","Depreciation Expense on Additions 1","2012 Depreciation Expense","2012 Depreciation Expense per Appendix 2-BA Fixed Assets, Column J \n (l)","Variance 2","Depreciation Expense on 2012 Full Year Additions","Less Depreciation Expense on Assets Fully Depreciated during the year\n(o)","2012 Full Year Depreciation 6"]
[null,null,"(a)","(d)","(i)","(f)","(g) = 1 / (f)","(j) = (a) / (i)","(h)=((d)*0.5)/(f) ","(k) = (j) + (h)",null,"(m) = (k) - (l)","(n) = (d)/(f) ",null,"(p) = (j) + (n) - (o)"]
[1611,"Computer Software (Formally known as Account 1925)",null,null,null,null,{"$f":"IF(F17=0,0,1/F17)","v":0},{"$f":"IF(E17=0,0,+C17/E17)","v":0},{"$f":"IF(F17=0,0,+(D17*0.5)/F17)","v":0},{"$f":"IF(ISERROR(+H17+I17), 0, +H17+I17)","v":0},null,{"$f":"IF(ISERROR(+J17-K17), 0, +J17-K17)","v":0},{"$f":"IF(F17=0,0,+(D17)/F17)","v":0},null,{"$f":"IF(ISERROR(+M17+H17-N17), 0, +M17+H17-N17)","v":0}]
[1612,"Land Rights (Formally known as Account 1906)",null,null,null,null,0,0,0,0,null,0,0,null,{"$f":"IF(ISERROR(+M18+H18-N18), 0, +M18+H18-N18)","v":0}]
[1805,"Land",null,null,null,null,0,0,0,0,null,0,0,null,0]
[1808,"Buildings",null,null,null,null,0,0,0,0,null,0,0,null,0]
[1810,"Leasehold Improvements",null,null,null,null,0,0,0,0,null,0,0,null,0]
[1815,"Transformer Station Equipment >50 kV",null,null,null,null,0,0,0,0,null,0,0,null,0]
[1820,"Distribution Station Equipment <50 kV",null,null,null,null,0,0,0,0,null,0,0,null,0]
[1825,"Storage Battery Equipment",null,null,null,null,0,0,0,0,null,0,0,null,0]
[1830,"Poles, Towers & Fixtures",null,null,null,null,0,0,0,0,null,0,0,null,0]
[1835,"Overhead Conductors & Devices",null,null,null,null,0,0,0,0,null,0,0,null,0]
[1840,"Underground Conduit",null,null,null,null,0,0,0,0,null,0,0,null,0]
[1845,"Underground Conductors & Devices",null,null,null,null,0,0,0,0,null,0,0,null,0]
[1850,"Line Transformers",null,null,null,null,0,0,0,0,null,0,0,null,0]
[1855,"Services (Overhead & Underground)",null,null,null,null,0,0,0,0,null,0,0,null,0]
[1860,"Meters",null,null,null,null,0,0,0,0,null,0,0,null,0]
[1860,"Meters (Smart Meters)",null,null,null,null,0,0,0,0,null,0,0,null,0]
[1905,"Land",null,null,null,null,0,0,0,0,null,0,0,null,0]
[1908,"Buildings & Fixtures",null,null,null,null,0,0,0,0,null,0,0,null,0]
[1910,"Leasehold Improvements",null,null,null,null,0,0,0,0,null,0,0,null,0]
[1915,"Office Furniture & Equipment (10 years)",null,null,null,null,0,0,0,0,null,0,0,null,0]
[1915,"Office Furniture & Equipment (5 years)",null,null,null,null,0,0,0,0,null,0,0,null,0]
[1920,"Computer Equipment - Hardware",null,null,null,null,0,0,0,0,null,0,0,null,0]
[1920,"Computer Equip.-Hardware(Post Mar. 22/04)",null,null,null,null,0,0,0,0,null,0,0,null,0]
[1920,"Computer Equip.-Hardware(Post Mar. 19/07)",null,null,null,null,0,0,0,0,null,0,0,null,0]
[1930,"Transportation Equipment",null,null,null,null,0,0,0,0,null,0,0,null,0]
[1935,"Stores Equipment",null,null,null,null,0,0,0,0,null,0,0,null,0]
[1940,"Tools, Shop & Garage Equipment",null,null,null,null,0,0,0,0,null,0,0,null,0]
[1945,"Measurement & Testing Equipment",null,null,null,null,0,0,0,0,null,0,0,null,0]
[1950,"Power Operated Equipment",null,null,null,null,0,0,0,0,null,0,0,null,0]
[1955,"Communications Equipment",null,null,null,null,0,0,0,0,null,0,0,null,0]
[1955,"Communication Equipment (Smart Meters)",null,null,null,null,0,0,0,0,null,0,0,null,0]
[1960,"Miscellaneous Equipment ",null,null,null,null,0,0,0,0,null,0,0,null,0]
[1970,"Load Management Controls Customer Premises",null,null,null,null,0,0,0,0,null,0,0,null,0]
[1975,"Load Management Controls Utility Premises",null,null,null,null,0,0,0,0,null,0,0,null,0]
[1980,"System Supervisor Equipment",null,null,null,null,0,0,0,0,null,0,0,null,0]
[1985,"Miscellaneous Fixed Assets",null,null,null,null,0,0,0,0,null,0,0,null,0]
[1990,"Other Tangible Property",null,null,null,null,0,0,0,0,null,0,0,null,0]
[1995,"Contributions & Grants",null,null,null,null,0,0,0,0,null,0,0,null,0]
[null,"Total",{"$f":"SUM(C17:C54)","v":0},{"$f":"SUM(D17:D54)","v":0},null,null,null,{"$f":"SUM(H17:H54)","v":0},0,0,0,0,0,0,0]
[]
["Notes:"]
[]
[1,"Board policy of the \"half-year\" rule - the applicant must ensure that additions in the year attract a half-year depreciation expense in the first year.  Deviations from this standard practice must be supported in the application."]
[2,"The applicant must provide an explanation of material variances in evidence."]
[3,"The applicant should ensure that the years for new additions of assets are the asset useful lives determined by management in accordance with the Board's regulatory accounting policies.   The capitalization and depreciation expense accounting changes should be implemented consistent with the Board’s regulatory accounting policies as set out for modified IFRS as contained in the Report of the Board, Transition to International Financial Reporting Standards, EB-2008-0408, the Kinectrics Report, and the Revised 2012 Accounting Procedures Handbook for Electricity Distributors (“APH”)."]
[4,"A recalculation should be performed to determine the average remaining life of opening balance of assets (i.e. excluding 2012 additions) under the change in policies under CGAAP.  For example, Asset A had a useful life of 20 years under CGAAP without the change in policies.  On January 1, 2012, the effective date of the changes in policies, Asset A was 3 years depreciated. As a result, Asset A would have a remaining service life of 17 years (20 years less 3 years) as of January 1, 2012.  Due to making the change in policies under CGAAP, management re-assessed the asset useful lives and concluded that the revised useful life of Asset A is now 30 years. Therefore, the average remaining useful life of the opening balance of Asset A is determined to be 27 years (30 years less 3 years) under the revised CGAAP as of January 1, 2012."]
[5," NBV must exclude assets still on the books but which have been fully amortized or depreciated."]
[6,"This column refers to the calculated full year depreciation but excludes the depreciation expense on assets fully depreciated during the year.  This column is used for the purpose of calculating depreciation expense in the following year on the next worksheet."]
[]
["General:","Applicants must provide a breakdown of depreciation and amortization expense in the above format for all relevant accounts.  Asset Retirement Obligations (AROs), depreciation and accretion expense should be disclosed separately consistent with the Notes of historical Audited Financial Statements."]

{"sheet":"App.2-CC_NewCGAAP_DepExp_2013","index":19,"n_rows":62,"n_cols":11,"rows_kept":62,"cut":false,"hidden":false,"merged":[[57,1,57,10],[58,1,58,10],[59,1,59,10],[61,1,62,10],[8,0,8,10],[9,0,9,10],[10,0,10,10],[14,0,15,0],[14,1,15,1],[14,6,15,6],[14,9,15,9]]}
[null,null,null,null,null,null,null,null,null,"File Number:",{"$f":"EBNUMBER","v":"EB-2014-0096"}]
[null,null,null,null,null,null,null,null,null,"Exhibit:"]
[null,null,null,null,null,null,null,null,null,"Tab:"]
[null,null,null,null,null,null,null,null,null,"Schedule:"]
[null,null,null,null,null,null,null,null,null,"Page:"]
[]
[null,null,null,null,null,null,null,null,null,"Date:"]
[]
["Appendix 2-CC"]
["Depreciation and Amortization Expense"]
["Assumes the applicant made capitalization and depreciation expense accounting policy changes under CGAAP effective January 1, 2012 and will adopt IFRS for financial reporting purposes effective January 1, 2015."]
[]
[null,null,2013,"Revised CGAAP "]
[]
["Account","Description","Additions","Years (new additions only)","Depreciation Rate on New Additions","2013 Depreciation Expense 1","2013 Depreciation Expense per Apppendix 2-BA Fixed Assets, Column J\n (l)","Variance 2","Depreciation Expense on 2013 Full Year Additions","Less Depreciation Expense on Assets Fully Depreciated during the year\n(o)","2013 Full Year Depreciation 3"]
[null,null,"(d)","(f)","(g) = 1 / (f)","(h)=2012 Full Year Deprecation + ((d)*0.5)/(f) ",null,"(m) = (h) - (l)","(n)=((d))/(f) ",null,"(p) = 2012 Full Year Depreciation  + (n) - (o)"]
[1611,"Computer Software (Formally known as Account 1925)",null,null,{"$f":"IF(D17=0,0,1/D17)","v":0},{"$f":"IF(D17=0,+'App.2-CB_NewCGAAP_DepExp_2012'!O17,+'App.2-CB_NewCGAAP_DepExp_2012'!O17+((C17*0.5)/D17))","v":0},null,{"$f":"IF(ISERROR(+F17-G17), 0, +F17-G17)","v":0},{"$f":"IF(D17=0,0,+(C17)/D17)","v":0},null,{"$f":"IF(ISERROR(+I17+'App.2-CB_NewCGAAP_DepExp_2012'!O17-J17), 0, +I17+'App.2-CB_NewCGAAP_DepExp_2012'!O17-J17)","v":0}]
[1612,"Land Rights (Formally known as Account 1906)",null,null,0,{"$f":"IF(D18=0,+'App.2-CB_NewCGAAP_DepExp_2012'!O18,+'App.2-CB_NewCGAAP_DepExp_2012'!O18+((C18*0.5)/D18))","v":0},null,0,0,null,{"$f":"IF(ISERROR(+I18+'App.2-CB_NewCGAAP_DepExp_2012'!O18-J18), 0, +I18+'App.2-CB_NewCGAAP_DepExp_2012'!O18-J18)","v":0}]
[1805,"Land",null,null,0,{"$f":"IF(D19=0,+'App.2-CB_NewCGAAP_DepExp_2012'!O19,+'App.2-CB_NewCGAAP_DepExp_2012'!O19+((C19*0.5)/D19))","v":0},null,0,0,null,{"$f":"IF(ISERROR(+I19+'App.2-CB_NewCGAAP_DepExp_2012'!O19-J19), 0, +I19+'App.2-CB_NewCGAAP_DepExp_2012'!O19-J19)","v":0}]
[1808,"Buildings",null,null,0,{"$f":"IF(D20=0,+'App.2-CB_NewCGAAP_DepExp_2012'!O20,+'App.2-CB_NewCGAAP_DepExp_2012'!O20+((C20*0.5)/D20))","v":0},null,0,0,null,{"$f":"IF(ISERROR(+I20+'App.2-CB_NewCGAAP_DepExp_2012'!O20-J20), 0, +I20+'App.2-CB_NewCGAAP_DepExp_2012'!O20-J20)","v":0}]
[1810,"Leasehold Improvements",null,null,0,{"$f":"IF(D21=0,+'App.2-CB_NewCGAAP_DepExp_2012'!O21,+'App.2-CB_NewCGAAP_DepExp_2012'!O21+((C21*0.5)/D21))","v":0},null,0,0,null,{"$f":"IF(ISERROR(+I21+'App.2-CB_NewCGAAP_DepExp_2012'!O21-J21), 0, +I21+'App.2-CB_NewCGAAP_DepExp_2012'!O21-J21)","v":0}]
[1815,"Transformer Station Equipment >50 kV",null,null,0,{"$f":"IF(D22=0,+'App.2-CB_NewCGAAP_DepExp_2012'!O22,+'App.2-CB_NewCGAAP_DepExp_2012'!O22+((C22*0.5)/D22))","v":0},null,0,0,null,{"$f":"IF(ISERROR(+I22+'App.2-CB_NewCGAAP_DepExp_2012'!O22-J22), 0, +I22+'App.2-CB_NewCGAAP_DepExp_2012'!O22-J22)","v":0}]
[1820,"Distribution Station Equipment <50 kV",null,null,0,{"$f":"IF(D23=0,+'App.2-CB_NewCGAAP_DepExp_2012'!O23,+'App.2-CB_NewCGAAP_DepExp_2012'!O23+((C23*0.5)/D23))","v":0},null,0,0,null,{"$f":"IF(ISERROR(+I23+'App.2-CB_NewCGAAP_DepExp_2012'!O23-J23), 0, +I23+'App.2-CB_NewCGAAP_DepExp_2012'!O23-J23)","v":0}]
[1825,"Storage Battery Equipment",null,null,0,{"$f":"IF(D24=0,+'App.2-CB_NewCGAAP_DepExp_2012'!O24,+'App.2-CB_NewCGAAP_DepExp_2012'!O24+((C24*0.5)/D24))","v":0},null,0,0,null,{"$f":"IF(ISERROR(+I24+'App.2-CB_NewCGAAP_DepExp_2012'!O24-J24), 0, +I24+'App.2-CB_NewCGAAP_DepExp_2012'!O24-J24)","v":0}]
[1830,"Poles, Towers & Fixtures",null,null,0,{"$f":"IF(D25=0,+'App.2-CB_NewCGAAP_DepExp_2012'!O25,+'App.2-CB_NewCGAAP_DepExp_2012'!O25+((C25*0.5)/D25))","v":0},null,0,0,null,{"$f":"IF(ISERROR(+I25+'App.2-CB_NewCGAAP_DepExp_2012'!O25-J25), 0, +I25+'App.2-CB_NewCGAAP_DepExp_2012'!O25-J25)","v":0}]
[1835,"Overhead Conductors & Devices",null,null,0,{"$f":"IF(D26=0,+'App.2-CB_NewCGAAP_DepExp_2012'!O26,+'App.2-CB_NewCGAAP_DepExp_2012'!O26+((C26*0.5)/D26))","v":0},null,0,0,null,{"$f":"IF(ISERROR(+I26+'App.2-CB_NewCGAAP_DepExp_2012'!O26-J26), 0, +I26+'App.2-CB_NewCGAAP_DepExp_2012'!O26-J26)","v":0}]
[1840,"Underground Conduit",null,null,0,{"$f":"IF(D27=0,+'App.2-CB_NewCGAAP_DepExp_2012'!O27,+'App.2-CB_NewCGAAP_DepExp_2012'!O27+((C27*0.5)/D27))","v":0},null,0,0,null,{"$f":"IF(ISERROR(+I27+'App.2-CB_NewCGAAP_DepExp_2012'!O27-J27), 0, +I27+'App.2-CB_NewCGAAP_DepExp_2012'!O27-J27)","v":0}]
[1845,"Underground Conductors & Devices",null,null,0,{"$f":"IF(D28=0,+'App.2-CB_NewCGAAP_DepExp_2012'!O28,+'App.2-CB_NewCGAAP_DepExp_2012'!O28+((C28*0.5)/D28))","v":0},null,0,0,null,{"$f":"IF(ISERROR(+I28+'App.2-CB_NewCGAAP_DepExp_2012'!O28-J28), 0, +I28+'App.2-CB_NewCGAAP_DepExp_2012'!O28-J28)","v":0}]
[1850,"Line Transformers",null,null,0,{"$f":"IF(D29=0,+'App.2-CB_NewCGAAP_DepExp_2012'!O29,+'App.2-CB_NewCGAAP_DepExp_2012'!O29+((C29*0.5)/D29))","v":0},null,0,0,null,{"$f":"IF(ISERROR(+I29+'App.2-CB_NewCGAAP_DepExp_2012'!O29-J29), 0, +I29+'App.2-CB_NewCGAAP_DepExp_2012'!O29-J29)","v":0}]
[1855,"Services (Overhead & Underground)",null,null,0,{"$f":"IF(D30=0,+'App.2-CB_NewCGAAP_DepExp_2012'!O30,+'App.2-CB_NewCGAAP_DepExp_2012'!O30+((C30*0.5)/D30))","v":0},null,0,0,null,{"$f":"IF(ISERROR(+I30+'App.2-CB_NewCGAAP_DepExp_2012'!O30-J30), 0, +I30+'App.2-CB_NewCGAAP_DepExp_2012'!O30-J30)","v":0}]
[1860,"Meters",null,null,0,{"$f":"IF(D31=0,+'App.2-CB_NewCGAAP_DepExp_2012'!O31,+'App.2-CB_NewCGAAP_DepExp_2012'!O31+((C31*0.5)/D31))","v":0},null,0,0,null,{"$f":"IF(ISERROR(+I31+'App.2-CB_NewCGAAP_DepExp_2012'!O31-J31), 0, +I31+'App.2-CB_NewCGAAP_DepExp_2012'!O31-J31)","v":0}]
[1860,"Meters (Smart Meters)",null,null,0,{"$f":"IF(D32=0,+'App.2-CB_NewCGAAP_DepExp_2012'!O32,+'App.2-CB_NewCGAAP_DepExp_2012'!O32+((C32*0.5)/D32))","v":0},null,0,0,null,{"$f":"IF(ISERROR(+I32+'App.2-CB_NewCGAAP_DepExp_2012'!O32-J32), 0, +I32+'App.2-CB_NewCGAAP_DepExp_2012'!O32-J32)","v":0}]
[1905,"Land",null,null,0,{"$f":"IF(D33=0,+'App.2-CB_NewCGAAP_DepExp_2012'!O33,+'App.2-CB_NewCGAAP_DepExp_2012'!O33+((C33*0.5)/D33))","v":0},null,0,0,null,{"$f":"IF(ISERROR(+I33+'App.2-CB_NewCGAAP_DepExp_2012'!O33-J33), 0, +I33+'App.2-CB_NewCGAAP_DepExp_2012'!O33-J33)","v":0}]
[1908,"Buildings & Fixtures",null,null,0,{"$f":"IF(D34=0,+'App.2-CB_NewCGAAP_DepExp_2012'!O34,+'App.2-CB_NewCGAAP_DepExp_2012'!O34+((C34*0.5)/D34))","v":0},null,0,0,null,{"$f":"IF(ISERROR(+I34+'App.2-CB_NewCGAAP_DepExp_2012'!O34-J34), 0, +I34+'App.2-CB_NewCGAAP_DepExp_2012'!O34-J34)","v":0}]
[1910,"Leasehold Improvements",null,null,0,{"$f":"IF(D35=0,+'App.2-CB_NewCGAAP_DepExp_2012'!O35,+'App.2-CB_NewCGAAP_DepExp_2012'!O35+((C35*0.5)/D35))","v":0},null,0,0,null,{"$f":"IF(ISERROR(+I35+'App.2-CB_NewCGAAP_DepExp_2012'!O35-J35), 0, +I35+'App.2-CB_NewCGAAP_DepExp_2012'!O35-J35)","v":0}]
[1915,"Office Furniture & Equipment (10 years)",null,null,0,{"$f":"IF(D36=0,+'App.2-CB_NewCGAAP_DepExp_2012'!O36,+'App.2-CB_NewCGAAP_DepExp_2012'!O36+((C36*0.5)/D36))","v":0},null,0,0,null,{"$f":"IF(ISERROR(+I36+'App.2-CB_NewCGAAP_DepExp_2012'!O36-J36), 0, +I36+'App.2-CB_NewCGAAP_DepExp_2012'!O36-J36)","v":0}]
[1915,"Office Furniture & Equipment (5 years)",null,null,0,{"$f":"IF(D37=0,+'App.2-CB_NewCGAAP_DepExp_2012'!O37,+'App.2-CB_NewCGAAP_DepExp_2012'!O37+((C37*0.5)/D37))","v":0},null,0,0,null,{"$f":"IF(ISERROR(+I37+'App.2-CB_NewCGAAP_DepExp_2012'!O37-J37), 0, +I37+'App.2-CB_NewCGAAP_DepExp_2012'!O37-J37)","v":0}]
[1920,"Computer Equipment - Hardware",null,null,0,{"$f":"IF(D38=0,+'App.2-CB_NewCGAAP_DepExp_2012'!O38,+'App.2-CB_NewCGAAP_DepExp_2012'!O38+((C38*0.5)/D38))","v":0},null,0,0,null,{"$f":"IF(ISERROR(+I38+'App.2-CB_NewCGAAP_DepExp_2012'!O38-J38), 0, +I38+'App.2-CB_NewCGAAP_DepExp_2012'!O38-J38)","v":0}]
[1920,"Computer Equip.-Hardware(Post Mar. 22/04)",null,null,0,{"$f":"IF(D39=0,+'App.2-CB_NewCGAAP_DepExp_2012'!O39,+'App.2-CB_NewCGAAP_DepExp_2012'!O39+((C39*0.5)/D39))","v":0},null,0,0,null,{"$f":"IF(ISERROR(+I39+'App.2-CB_NewCGAAP_DepExp_2012'!O39-J39), 0, +I39+'App.2-CB_NewCGAAP_DepExp_2012'!O39-J39)","v":0}]
[1920,"Computer Equip.-Hardware(Post Mar. 19/07)",null,null,0,{"$f":"IF(D40=0,+'App.2-CB_NewCGAAP_DepExp_2012'!O40,+'App.2-CB_NewCGAAP_DepExp_2012'!O40+((C40*0.5)/D40))","v":0},null,0,0,null,{"$f":"IF(ISERROR(+I40+'App.2-CB_NewCGAAP_DepExp_2012'!O40-J40), 0, +I40+'App.2-CB_NewCGAAP_DepExp_2012'!O40-J40)","v":0}]
[1930,"Transportation Equipment",null,null,0,{"$f":"IF(D41=0,+'App.2-CB_NewCGAAP_DepExp_2012'!O41,+'App.2-CB_NewCGAAP_DepExp_2012'!O41+((C41*0.5)/D41))","v":0},null,0,0,null,{"$f":"IF(ISERROR(+I41+'App.2-CB_NewCGAAP_DepExp_2012'!O41-J41), 0, +I41+'App.2-CB_NewCGAAP_DepExp_2012'!O41-J41)","v":0}]
[1935,"Stores Equipment",null,null,0,{"$f":"IF(D42=0,+'App.2-CB_NewCGAAP_DepExp_2012'!O42,+'App.2-CB_NewCGAAP_DepExp_2012'!O42+((C42*0.5)/D42))","v":0},null,0,0,null,{"$f":"IF(ISERROR(+I42+'App.2-CB_NewCGAAP_DepExp_2012'!O42-J42), 0, +I42+'App.2-CB_NewCGAAP_DepExp_2012'!O42-J42)","v":0}]
[1940,"Tools, Shop & Garage Equipment",null,null,0,{"$f":"IF(D43=0,+'App.2-CB_NewCGAAP_DepExp_2012'!O43,+'App.2-CB_NewCGAAP_DepExp_2012'!O43+((C43*0.5)/D43))","v":0},null,0,0,null,{"$f":"IF(ISERROR(+I43+'App.2-CB_NewCGAAP_DepExp_2012'!O43-J43), 0, +I43+'App.2-CB_NewCGAAP_DepExp_2012'!O43-J43)","v":0}]
[1945,"Measurement & Testing Equipment",null,null,0,{"$f":"IF(D44=0,+'App.2-CB_NewCGAAP_DepExp_2012'!O44,+'App.2-CB_NewCGAAP_DepExp_2012'!O44+((C44*0.5)/D44))","v":0},null,0,0,null,{"$f":"IF(ISERROR(+I44+'App.2-CB_NewCGAAP_DepExp_2012'!O44-J44), 0, +I44+'App.2-CB_NewCGAAP_DepExp_2012'!O44-J44)","v":0}]
[1950,"Power Operated Equipment",null,null,0,{"$f":"IF(D45=0,+'App.2-CB_NewCGAAP_DepExp_2012'!O45,+'App.2-CB_NewCGAAP_DepExp_2012'!O45+((C45*0.5)/D45))","v":0},null,0,0,null,{"$f":"IF(ISERROR(+I45+'App.2-CB_NewCGAAP_DepExp_2012'!O45-J45), 0, +I45+'App.2-CB_NewCGAAP_DepExp_2012'!O45-J45)","v":0}]
[1955,"Communications Equipment",null,null,0,{"$f":"IF(D46=0,+'App.2-CB_NewCGAAP_DepExp_2012'!O46,+'App.2-CB_NewCGAAP_DepExp_2012'!O46+((C46*0.5)/D46))","v":0},null,0,0,null,{"$f":"IF(ISERROR(+I46+'App.2-CB_NewCGAAP_DepExp_2012'!O46-J46), 0, +I46+'App.2-CB_NewCGAAP_DepExp_2012'!O46-J46)","v":0}]
[1955,"Communication Equipment (Smart Meters)",null,null,0,{"$f":"IF(D47=0,+'App.2-CB_NewCGAAP_DepExp_2012'!O47,+'App.2-CB_NewCGAAP_DepExp_2012'!O47+((C47*0.5)/D47))","v":0},null,0,0,null,{"$f":"IF(ISERROR(+I47+'App.2-CB_NewCGAAP_DepExp_2012'!O47-J47), 0, +I47+'App.2-CB_NewCGAAP_DepExp_2012'!O47-J47)","v":0}]
[1960,"Miscellaneous Equipment ",null,null,0,{"$f":"IF(D48=0,+'App.2-CB_NewCGAAP_DepExp_2012'!O48,+'App.2-CB_NewCGAAP_DepExp_2012'!O48+((C48*0.5)/D48))","v":0},null,0,0,null,{"$f":"IF(ISERROR(+I48+'App.2-CB_NewCGAAP_DepExp_2012'!O48-J48), 0, +I48+'App.2-CB_NewCGAAP_DepExp_2012'!O48-J48)","v":0}]
[1970,"Load Management Controls Customer Premises",null,null,0,{"$f":"IF(D49=0,+'App.2-CB_NewCGAAP_DepExp_2012'!O49,+'App.2-CB_NewCGAAP_DepExp_2012'!O49+((C49*0.5)/D49))","v":0},null,0,0,null,{"$f":"IF(ISERROR(+I49+'App.2-CB_NewCGAAP_DepExp_2012'!O49-J49), 0, +I49+'App.2-CB_NewCGAAP_DepExp_2012'!O49-J49)","v":0}]
[1975,"Load Management Controls Utility Premises",null,null,0,{"$f":"IF(D50=0,+'App.2-CB_NewCGAAP_DepExp_2012'!O50,+'App.2-CB_NewCGAAP_DepExp_2012'!O50+((C50*0.5)/D50))","v":0},null,0,0,null,{"$f":"IF(ISERROR(+I50+'App.2-CB_NewCGAAP_DepExp_2012'!O50-J50), 0, +I50+'App.2-CB_NewCGAAP_DepExp_2012'!O50-J50)","v":0}]
[1980,"System Supervisor Equipment",null,null,0,{"$f":"IF(D51=0,+'App.2-CB_NewCGAAP_DepExp_2012'!O51,+'App.2-CB_NewCGAAP_DepExp_2012'!O51+((C51*0.5)/D51))","v":0},null,0,0,null,{"$f":"IF(ISERROR(+I51+'App.2-CB_NewCGAAP_DepExp_2012'!O51-J51), 0, +I51+'App.2-CB_NewCGAAP_DepExp_2012'!O51-J51)","v":0}]
[1985,"Miscellaneous Fixed Assets",null,null,0,{"$f":"IF(D52=0,+'App.2-CB_NewCGAAP_DepExp_2012'!O52,+'App.2-CB_NewCGAAP_DepExp_2012'!O52+((C52*0.5)/D52))","v":0},null,0,0,null,{"$f":"IF(ISERROR(+I52+'App.2-CB_NewCGAAP_DepExp_2012'!O52-J52), 0, +I52+'App.2-CB_NewCGAAP_DepExp_2012'!O52-J52)","v":0}]
[1990,"Other Tangible Property",null,null,0,{"$f":"IF(D53=0,+'App.2-CB_NewCGAAP_DepExp_2012'!O53,+'App.2-CB_NewCGAAP_DepExp_2012'!O53+((C53*0.5)/D53))","v":0},null,0,0,null,{"$f":"IF(ISERROR(+I53+'App.2-CB_NewCGAAP_DepExp_2012'!O53-J53), 0, +I53+'App.2-CB_NewCGAAP_DepExp_2012'!O53-J53)","v":0}]
[1995,"Contributions & Grants",null,null,0,{"$f":"IF(D54=0,+'App.2-CB_NewCGAAP_DepExp_2012'!O54,+'App.2-CB_NewCGAAP_DepExp_2012'!O54+((C54*0.5)/D54))","v":0},null,0,0,null,{"$f":"IF(ISERROR(+I54+'App.2-CB_NewCGAAP_DepExp_2012'!O54-J54), 0, +I54+'App.2-CB_NewCGAAP_DepExp_2012'!O54-J54)","v":0}]
[null,"Total",{"$f":"SUM(C17:C54)","v":0},null,null,{"$f":"SUM(F17:F54)","v":0},0,0,0,0,0]
[]
["Notes:"]
[1,"Board policy of the \"half-year\" rule - the applicant must ensure that additions in the year attract a half-year depreciation expense in the first year.  Deviations from this standard practice must be supported in the application."]
[2,"The applicant must provide an explanation of material variances in evidence."]
[3,"This column refers to the calculated full year depreciation but excludes the depreciation expense on assets fully depreciated during the year.  This column is used for the purpose of calculating depreciation expense in the following year on the next worksheet."]
[]
["General:","Applicants must provide a breakdown of depreciation and amortization expense in the above format for all relevant accounts.  Asset Retirement Obligations (AROs), depreciation and accretion expense should be disclosed separately consistent with the Notes of historical Audited Financial Statements."]

{"sheet":"App.2-CD_MIFRS_DepExp_2014","index":20,"n_rows":64,"n_cols":11,"rows_kept":64,"cut":false,"hidden":false,"merged":[[59,1,59,10],[60,1,60,10],[61,1,61,10],[63,1,64,10],[8,0,8,10],[9,0,9,10],[10,0,10,10],[14,0,15,0],[14,1,15,1],[14,6,15,6],[14,9,15,9]]}
[null,null,null,null,null,null,null,null,null,"File Number:",{"$f":"EBNUMBER","v":"EB-2014-0096"}]
[null,null,null,null,null,null,null,null,null,"Exhibit:"]
[null,null,null,null,null,null,null,null,null,"Tab:"]
[null,null,null,null,null,null,null,null,null,"Schedule:"]
[null,null,null,null,null,null,null,null,null,"Page:"]
[]
[null,null,null,null,null,null,null,null,null,"Date:"]
[]
["Appendix 2-CD"]
["Depreciation and Amortization Expense"]
["Assumes the applicant made capitalization and depreciation expense accounting policy changes under CGAAP effective January 1, 2012 and will adopt IFRS for financial reporting purposes effective January 1, 2015."]
[]
[null,null,null,null,2014,"MIFRS"]
[]
["Account","Description","Additions","Years (new additions only)","Depreciation Rate on New Additions","2014 Depreciation Expense 1","2014 Depreciation Expense per Apppendix 2-BA Fixed Assets, Column J\n (l)","Variance 2","Depreciation Expense on 2014 Full Year Additions","Less Depreciation Expense on Assets Fully Depreciated during the year\n(o)","2014 Full Year Depreciation 3"]
[null,null,"(d)","(f)","(g) = 1 / (f)","(h)=2013 Full Year Deprecation + ((d)*0.5)/(f) ",null,"(m) = (h) - (l)","(n)=((d))/(f) ",null,"(p) = 2013 Full Year Depreciation  + (n) - (o)"]
[1611,"Computer Software (Formally known as Account 1925)",null,null,{"$f":"IF(D17=0,0,1/D17)","v":0},{"$f":"IF(D17=0,+'App.2-CC_NewCGAAP_DepExp_2013'!K17,+'App.2-CC_NewCGAAP_DepExp_2013'!K17+((C17*0.5)/D17))","v":0},null,{"$f":"IF(ISERROR(+F17-G17), 0, +F17-G17)","v":0},{"$f":"IF(D17=0,0,+(C17)/D17)","v":0},null,{"$f":"IF(ISERROR(+I17+'App.2-CC_NewCGAAP_DepExp_2013'!K17-J17), 0, +I17+'App.2-CC_NewCGAAP_DepExp_2013'!K17-J17)","v":0}]
[1612,"Land Rights (Formally known as Account 1906)",null,null,0,{"$f":"IF(D18=0,+'App.2-CC_NewCGAAP_DepExp_2013'!K18,+'App.2-CC_NewCGAAP_DepExp_2013'!K18+((C18*0.5)/D18))","v":0},null,0,0,null,{"$f":"IF(ISERROR(+I18+'App.2-CC_NewCGAAP_DepExp_2013'!K18-J18), 0, +I18+'App.2-CC_NewCGAAP_DepExp_2013'!K18-J18)","v":0}]
[1805,"Land",null,null,0,{"$f":"IF(D19=0,+'App.2-CC_NewCGAAP_DepExp_2013'!K19,+'App.2-CC_NewCGAAP_DepExp_2013'!K19+((C19*0.5)/D19))","v":0},null,0,0,null,{"$f":"IF(ISERROR(+I19+'App.2-CC_NewCGAAP_DepExp_2013'!K19-J19), 0, +I19+'App.2-CC_NewCGAAP_DepExp_2013'!K19-J19)","v":0}]
[1808,"Buildings",null,null,0,{"$f":"IF(D20=0,+'App.2-CC_NewCGAAP_DepExp_2013'!K20,+'App.2-CC_NewCGAAP_DepExp_2013'!K20+((C20*0.5)/D20))","v":0},null,0,0,null,{"$f":"IF(ISERROR(+I20+'App.2-CC_NewCGAAP_DepExp_2013'!K20-J20), 0, +I20+'App.2-CC_NewCGAAP_DepExp_2013'!K20-J20)","v":0}]
[1810,"Leasehold Improvements",null,null,0,{"$f":"IF(D21=0,+'App.2-CC_NewCGAAP_DepExp_2013'!K21,+'App.2-CC_NewCGAAP_DepExp_2013'!K21+((C21*0.5)/D21))","v":0},null,0,0,null,{"$f":"IF(ISERROR(+I21+'App.2-CC_NewCGAAP_DepExp_2013'!K21-J21), 0, +I21+'App.2-CC_NewCGAAP_DepExp_2013'!K21-J21)","v":0}]
[1815,"Transformer Station Equipment >50 kV",null,null,0,{"$f":"IF(D22=0,+'App.2-CC_NewCGAAP_DepExp_2013'!K22,+'App.2-CC_NewCGAAP_DepExp_2013'!K22+((C22*0.5)/D22))","v":0},null,0,0,null,{"$f":"IF(ISERROR(+I22+'App.2-CC_NewCGAAP_DepExp_2013'!K22-J22), 0, +I22+'App.2-CC_NewCGAAP_DepExp_2013'!K22-J22)","v":0}]
[1820,"Distribution Station Equipment <50 kV",null,null,0,{"$f":"IF(D23=0,+'App.2-CC_NewCGAAP_DepExp_2013'!K23,+'App.2-CC_NewCGAAP_DepExp_2013'!K23+((C23*0.5)/D23))","v":0},null,0,0,null,{"$f":"IF(ISERROR(+I23+'App.2-CC_NewCGAAP_DepExp_2013'!K23-J23), 0, +I23+'App.2-CC_NewCGAAP_DepExp_2013'!K23-J23)","v":0}]
[1825,"Storage Battery Equipment",null,null,0,{"$f":"IF(D24=0,+'App.2-CC_NewCGAAP_DepExp_2013'!K24,+'App.2-CC_NewCGAAP_DepExp_2013'!K24+((C24*0.5)/D24))","v":0},null,0,0,null,{"$f":"IF(ISERROR(+I24+'App.2-CC_NewCGAAP_DepExp_2013'!K24-J24), 0, +I24+'App.2-CC_NewCGAAP_DepExp_2013'!K24-J24)","v":0}]
[1830,"Poles, Towers & Fixtures",null,null,0,{"$f":"IF(D25=0,+'App.2-CC_NewCGAAP_DepExp_2013'!K25,+'App.2-CC_NewCGAAP_DepExp_2013'!K25+((C25*0.5)/D25))","v":0},null,0,0,null,{"$f":"IF(ISERROR(+I25+'App.2-CC_NewCGAAP_DepExp_2013'!K25-J25), 0, +I25+'App.2-CC_NewCGAAP_DepExp_2013'!K25-J25)","v":0}]
[1835,"Overhead Conductors & Devices",null,null,0,{"$f":"IF(D26=0,+'App.2-CC_NewCGAAP_DepExp_2013'!K26,+'App.2-CC_NewCGAAP_DepExp_2013'!K26+((C26*0.5)/D26))","v":0},null,0,0,null,{"$f":"IF(ISERROR(+I26+'App.2-CC_NewCGAAP_DepExp_2013'!K26-J26), 0, +I26+'App.2-CC_NewCGAAP_DepExp_2013'!K26-J26)","v":0}]
[1840,"Underground Conduit",null,null,0,{"$f":"IF(D27=0,+'App.2-CC_NewCGAAP_DepExp_2013'!K27,+'App.2-CC_NewCGAAP_DepExp_2013'!K27+((C27*0.5)/D27))","v":0},null,0,0,null,{"$f":"IF(ISERROR(+I27+'App.2-CC_NewCGAAP_DepExp_2013'!K27-J27), 0, +I27+'App.2-CC_NewCGAAP_DepExp_2013'!K27-J27)","v":0}]
[1845,"Underground Conductors & Devices",null,null,0,{"$f":"IF(D28=0,+'App.2-CC_NewCGAAP_DepExp_2013'!K28,+'App.2-CC_NewCGAAP_DepExp_2013'!K28+((C28*0.5)/D28))","v":0},null,0,0,null,{"$f":"IF(ISERROR(+I28+'App.2-CC_NewCGAAP_DepExp_2013'!K28-J28), 0, +I28+'App.2-CC_NewCGAAP_DepExp_2013'!K28-J28)","v":0}]
[1850,"Line Transformers",null,null,0,{"$f":"IF(D29=0,+'App.2-CC_NewCGAAP_DepExp_2013'!K29,+'App.2-CC_NewCGAAP_DepExp_2013'!K29+((C29*0.5)/D29))","v":0},null,0,0,null,{"$f":"IF(ISERROR(+I29+'App.2-CC_NewCGAAP_DepExp_2013'!K29-J29), 0, +I29+'App.2-CC_NewCGAAP_DepExp_2013'!K29-J29)","v":0}]
[1855,"Services (Overhead & Underground)",null,null,0,{"$f":"IF(D30=0,+'App.2-CC_NewCGAAP_DepExp_2013'!K30,+'App.2-CC_NewCGAAP_DepExp_2013'!K30+((C30*0.5)/D30))","v":0},null,0,0,null,{"$f":"IF(ISERROR(+I30+'App.2-CC_NewCGAAP_DepExp_2013'!K30-J30), 0, +I30+'App.2-CC_NewCGAAP_DepExp_2013'!K30-J30)","v":0}]
[1860,"Meters",null,null,0,{"$f":"IF(D31=0,+'App.2-CC_NewCGAAP_DepExp_2013'!K31,+'App.2-CC_NewCGAAP_DepExp_2013'!K31+((C31*0.5)/D31))","v":0},null,0,0,null,{"$f":"IF(ISERROR(+I31+'App.2-CC_NewCGAAP_DepExp_2013'!K31-J31), 0, +I31+'App.2-CC_NewCGAAP_DepExp_2013'!K31-J31)","v":0}]
[1860,"Meters (Smart Meters)",null,null,0,{"$f":"IF(D32=0,+'App.2-CC_NewCGAAP_DepExp_2013'!K32,+'App.2-CC_NewCGAAP_DepExp_2013'!K32+((C32*0.5)/D32))","v":0},null,0,0,null,{"$f":"IF(ISERROR(+I32+'App.2-CC_NewCGAAP_DepExp_2013'!K32-J32), 0, +I32+'App.2-CC_NewCGAAP_DepExp_2013'!K32-J32)","v":0}]
[1905,"Land",null,null,0,{"$f":"IF(D33=0,+'App.2-CC_NewCGAAP_DepExp_2013'!K33,+'App.2-CC_NewCGAAP_DepExp_2013'!K33+((C33*0.5)/D33))","v":0},null,0,0,null,{"$f":"IF(ISERROR(+I33+'App.2-CC_NewCGAAP_DepExp_2013'!K33-J33), 0, +I33+'App.2-CC_NewCGAAP_DepExp_2013'!K33-J33)","v":0}]
[1908,"Buildings & Fixtures",null,null,0,{"$f":"IF(D34=0,+'App.2-CC_NewCGAAP_DepExp_2013'!K34,+'App.2-CC_NewCGAAP_DepExp_2013'!K34+((C34*0.5)/D34))","v":0},null,0,0,null,{"$f":"IF(ISERROR(+I34+'App.2-CC_NewCGAAP_DepExp_2013'!K34-J34), 0, +I34+'App.2-CC_NewCGAAP_DepExp_2013'!K34-J34)","v":0}]
[1910,"Leasehold Improvements",null,null,0,{"$f":"IF(D35=0,+'App.2-CC_NewCGAAP_DepExp_2013'!K35,+'App.2-CC_NewCGAAP_DepExp_2013'!K35+((C35*0.5)/D35))","v":0},null,0,0,null,{"$f":"IF(ISERROR(+I35+'App.2-CC_NewCGAAP_DepExp_2013'!K35-J35), 0, +I35+'App.2-CC_NewCGAAP_DepExp_2013'!K35-J35)","v":0}]
[1915,"Office Furniture & Equipment (10 years)",null,null,0,{"$f":"IF(D36=0,+'App.2-CC_NewCGAAP_DepExp_2013'!K36,+'App.2-CC_NewCGAAP_DepExp_2013'!K36+((C36*0.5)/D36))","v":0},null,0,0,null,{"$f":"IF(ISERROR(+I36+'App.2-CC_NewCGAAP_DepExp_2013'!K36-J36), 0, +I36+'App.2-CC_NewCGAAP_DepExp_2013'!K36-J36)","v":0}]
[1915,"Office Furniture & Equipment (5 years)",null,null,0,{"$f":"IF(D37=0,+'App.2-CC_NewCGAAP_DepExp_2013'!K37,+'App.2-CC_NewCGAAP_DepExp_2013'!K37+((C37*0.5)/D37))","v":0},null,0,0,null,{"$f":"IF(ISERROR(+I37+'App.2-CC_NewCGAAP_DepExp_2013'!K37-J37), 0, +I37+'App.2-CC_NewCGAAP_DepExp_2013'!K37-J37)","v":0}]
[1920,"Computer Equipment - Hardware",null,null,0,{"$f":"IF(D38=0,+'App.2-CC_NewCGAAP_DepExp_2013'!K38,+'App.2-CC_NewCGAAP_DepExp_2013'!K38+((C38*0.5)/D38))","v":0},null,0,0,null,{"$f":"IF(ISERROR(+I38+'App.2-CC_NewCGAAP_DepExp_2013'!K38-J38), 0, +I38+'App.2-CC_NewCGAAP_DepExp_2013'!K38-J38)","v":0}]
[1920,"Computer Equip.-Hardware(Post Mar. 22/04)",null,null,0,{"$f":"IF(D39=0,+'App.2-CC_NewCGAAP_DepExp_2013'!K39,+'App.2-CC_NewCGAAP_DepExp_2013'!K39+((C39*0.5)/D39))","v":0},null,0,0,null,{"$f":"IF(ISERROR(+I39+'App.2-CC_NewCGAAP_DepExp_2013'!K39-J39), 0, +I39+'App.2-CC_NewCGAAP_DepExp_2013'!K39-J39)","v":0}]
[1920,"Computer Equip.-Hardware(Post Mar. 19/07)",null,null,0,{"$f":"IF(D40=0,+'App.2-CC_NewCGAAP_DepExp_2013'!K40,+'App.2-CC_NewCGAAP_DepExp_2013'!K40+((C40*0.5)/D40))","v":0},null,0,0,null,{"$f":"IF(ISERROR(+I40+'App.2-CC_NewCGAAP_DepExp_2013'!K40-J40), 0, +I40+'App.2-CC_NewCGAAP_DepExp_2013'!K40-J40)","v":0}]
[1930,"Transportation Equipment",null,null,0,{"$f":"IF(D41=0,+'App.2-CC_NewCGAAP_DepExp_2013'!K41,+'App.2-CC_NewCGAAP_DepExp_2013'!K41+((C41*0.5)/D41))","v":0},null,0,0,null,{"$f":"IF(ISERROR(+I41+'App.2-CC_NewCGAAP_DepExp_2013'!K41-J41), 0, +I41+'App.2-CC_NewCGAAP_DepExp_2013'!K41-J41)","v":0}]
[1935,"Stores Equipment",null,null,0,{"$f":"IF(D42=0,+'App.2-CC_NewCGAAP_DepExp_2013'!K42,+'App.2-CC_NewCGAAP_DepExp_2013'!K42+((C42*0.5)/D42))","v":0},null,0,0,null,{"$f":"IF(ISERROR(+I42+'App.2-CC_NewCGAAP_DepExp_2013'!K42-J42), 0, +I42+'App.2-CC_NewCGAAP_DepExp_2013'!K42-J42)","v":0}]
[1940,"Tools, Shop & Garage Equipment",null,null,0,{"$f":"IF(D43=0,+'App.2-CC_NewCGAAP_DepExp_2013'!K43,+'App.2-CC_NewCGAAP_DepExp_2013'!K43+((C43*0.5)/D43))","v":0},null,0,0,null,{"$f":"IF(ISERROR(+I43+'App.2-CC_NewCGAAP_DepExp_2013'!K43-J43), 0, +I43+'App.2-CC_NewCGAAP_DepExp_2013'!K43-J43)","v":0}]
[1945,"Measurement & Testing Equipment",null,null,0,{"$f":"IF(D44=0,+'App.2-CC_NewCGAAP_DepExp_2013'!K44,+'App.2-CC_NewCGAAP_DepExp_2013'!K44+((C44*0.5)/D44))","v":0},null,0,0,null,{"$f":"IF(ISERROR(+I44+'App.2-CC_NewCGAAP_DepExp_2013'!K44-J44), 0, +I44+'App.2-CC_NewCGAAP_DepExp_2013'!K44-J44)","v":0}]
[1950,"Power Operated Equipment",null,null,0,{"$f":"IF(D45=0,+'App.2-CC_NewCGAAP_DepExp_2013'!K45,+'App.2-CC_NewCGAAP_DepExp_2013'!K45+((C45*0.5)/D45))","v":0},null,0,0,null,{"$f":"IF(ISERROR(+I45+'App.2-CC_NewCGAAP_DepExp_2013'!K45-J45), 0, +I45+'App.2-CC_NewCGAAP_DepExp_2013'!K45-J45)","v":0}]
[1955,"Communications Equipment",null,null,0,{"$f":"IF(D46=0,+'App.2-CC_NewCGAAP_DepExp_2013'!K46,+'App.2-CC_NewCGAAP_DepExp_2013'!K46+((C46*0.5)/D46))","v":0},null,0,0,null,{"$f":"IF(ISERROR(+I46+'App.2-CC_NewCGAAP_DepExp_2013'!K46-J46), 0, +I46+'App.2-CC_NewCGAAP_DepExp_2013'!K46-J46)","v":0}]
[1955,"Communication Equipment (Smart Meters)",null,null,0,{"$f":"IF(D47=0,+'App.2-CC_NewCGAAP_DepExp_2013'!K47,+'App.2-CC_NewCGAAP_DepExp_2013'!K47+((C47*0.5)/D47))","v":0},null,0,0,null,{"$f":"IF(ISERROR(+I47+'App.2-CC_NewCGAAP_DepExp_2013'!K47-J47), 0, +I47+'App.2-CC_NewCGAAP_DepExp_2013'!K47-J47)","v":0}]
[1960,"Miscellaneous Equipment ",null,null,0,{"$f":"IF(D48=0,+'App.2-CC_NewCGAAP_DepExp_2013'!K48,+'App.2-CC_NewCGAAP_DepExp_2013'!K48+((C48*0.5)/D48))","v":0},null,0,0,null,{"$f":"IF(ISERROR(+I48+'App.2-CC_NewCGAAP_DepExp_2013'!K48-J48), 0, +I48+'App.2-CC_NewCGAAP_DepExp_2013'!K48-J48)","v":0}]
[1970,"Load Management Controls Customer Premises",null,null,0,{"$f":"IF(D49=0,+'App.2-CC_NewCGAAP_DepExp_2013'!K49,+'App.2-CC_NewCGAAP_DepExp_2013'!K49+((C49*0.5)/D49))","v":0},null,0,0,null,{"$f":"IF(ISERROR(+I49+'App.2-CC_NewCGAAP_DepExp_2013'!K49-J49), 0, +I49+'App.2-CC_NewCGAAP_DepExp_2013'!K49-J49)","v":0}]
[1975,"Load Management Controls Utility Premises",null,null,0,{"$f":"IF(D50=0,+'App.2-CC_NewCGAAP_DepExp_2013'!K50,+'App.2-CC_NewCGAAP_DepExp_2013'!K50+((C50*0.5)/D50))","v":0},null,0,0,null,{"$f":"IF(ISERROR(+I50+'App.2-CC_NewCGAAP_DepExp_2013'!K50-J50), 0, +I50+'App.2-CC_NewCGAAP_DepExp_2013'!K50-J50)","v":0}]
[1980,"System Supervisor Equipment",null,null,0,{"$f":"IF(D51=0,+'App.2-CC_NewCGAAP_DepExp_2013'!K51,+'App.2-CC_NewCGAAP_DepExp_2013'!K51+((C51*0.5)/D51))","v":0},null,0,0,null,{"$f":"IF(ISERROR(+I51+'App.2-CC_NewCGAAP_DepExp_2013'!K51-J51), 0, +I51+'App.2-CC_NewCGAAP_DepExp_2013'!K51-J51)","v":0}]
[1985,"Miscellaneous Fixed Assets",null,null,0,{"$f":"IF(D52=0,+'App.2-CC_NewCGAAP_DepExp_2013'!K52,+'App.2-CC_NewCGAAP_DepExp_2013'!K52+((C52*0.5)/D52))","v":0},null,0,0,null,{"$f":"IF(ISERROR(+I52+'App.2-CC_NewCGAAP_DepExp_2013'!K52-J52), 0, +I52+'App.2-CC_NewCGAAP_DepExp_2013'!K52-J52)","v":0}]
[1990,"Other Tangible Property",null,null,0,{"$f":"IF(D53=0,+'App.2-CC_NewCGAAP_DepExp_2013'!K53,+'App.2-CC_NewCGAAP_DepExp_2013'!K53+((C53*0.5)/D53))","v":0},null,0,0,null,{"$f":"IF(ISERROR(+I53+'App.2-CC_NewCGAAP_DepExp_2013'!K53-J53), 0, +I53+'App.2-CC_NewCGAAP_DepExp_2013'!K53-J53)","v":0}]
[null,null,null,null,0,{"$f":"IF(D54=0,+'App.2-CC_NewCGAAP_DepExp_2013'!K54,+'App.2-CC_NewCGAAP_DepExp_2013'!K54+((C54*0.5)/D54))","v":0},null,0,0,null,{"$f":"IF(ISERROR(+I54+'App.2-CC_NewCGAAP_DepExp_2013'!K54-J54), 0, +I54+'App.2-CC_NewCGAAP_DepExp_2013'!K54-J54)","v":0}]
[null,"Total",{"$f":"SUM(C17:C54)","v":0},null,null,{"$f":"SUM(F17:F54)","v":0},0,0,0,0,0]
[null,"Depreciation exp. adj. from gain or loss on the retirement of assets (pool of like assets)",null,null,null,0]
[null,"Total Depreciation Expense",null,null,null,{"$f":"+F56+F55","v":0}]
[]
["Notes:"]
[1,"Board policy of the \"half-year\" rule - the applicant must ensure that additions in the year attract a half-year depreciation expense in the first year.  Deviations from this standard practice must be supported in the application."]
[2,"The applicant must provide an explanation of material variances in evidence."]
[3,"This column refers to the calculated full year depreciation but excludes the depreciation expense on assets fully depreciated during the year.  This column is used for the purpose of calculating depreciation expense in the following year on the next worksheet."]
[]
["General:","Applicants must provide a breakdown of depreciation and amortization expense in the above format for all relevant accounts.  Asset Retirement Obligations (AROs), depreciation and accretion expense should be disclosed separately consistent with the Notes of historical Audited Financial Statements."]

{"sheet":"App.2-CE_MIFRS_DepExp_2015","index":21,"n_rows":63,"n_cols":8,"rows_kept":63,"cut":false,"hidden":false,"merged":[[64,1,65,7],[8,0,8,8],[9,0,9,8],[14,1,15,1],[14,6,15,6],[56,1,56,4],[58,1,58,7],[59,1,59,8],[61,1,61,8],[62,1,63,7],[10,0,10,7]]}
[null,null,null,null,null,null,"File Number:",{"$f":"EBNUMBER","v":"EB-2014-0096"}]
[null,null,null,null,null,null,"Exhibit:"]
[null,null,null,null,null,null,"Tab:"]
[null,null,null,null,null,null,"Schedule:"]
[null,null,null,null,null,null,"Page:"]
[]
[null,null,null,null,null,null,"Date:"]
[]
["Appendix 2-CE"]
["Depreciation and Amortization Expense"]
["Assumes the applicant made capitalization and depreciation expense accounting policy changes under CGAAP effective January 1, 2012 and will adopt IFRS for financial reporting purposes effective January 1, 2015."]
[]
[null,null,2015,"MIFRS"]
[]
["Account","Description","Additions","Years (new additions only)","Depreciation Rate on New Additions","2015 Depreciation Expense 1","2015 Depreciation Expense per Appendix 2-BA Fixed Assets, Column J\n (l)","Variance 2"]
[null,null,"(d)","(f)","(g) = 1 / (f)","(h)=2014 Full Year Depreciation + ((d)*0.5)/(f) ",null,"(m) = (h) - (l)"]
[1611,"Computer Software (Formally known as Account 1925)",null,null,{"$f":"IF(D17=0,0,1/D17)","v":0},{"$f":"IF(D17=0,'App.2-CD_MIFRS_DepExp_2014'!K17,+'App.2-CD_MIFRS_DepExp_2014'!K17+((C17*0.5)/D17))","v":0},null,{"$f":"IF(ISERROR(+F17-G17), 0, +F17-G17)","v":0}]
[1612,"Land Rights (Formally known as Account 1906)",null,null,0,{"$f":"IF(D18=0,'App.2-CD_MIFRS_DepExp_2014'!K18,+'App.2-CD_MIFRS_DepExp_2014'!K18+((C18*0.5)/D18))","v":0},null,0]
[1805,"Land",null,null,0,{"$f":"IF(D19=0,'App.2-CD_MIFRS_DepExp_2014'!K19,+'App.2-CD_MIFRS_DepExp_2014'!K19+((C19*0.5)/D19))","v":0},null,0]
[1808,"Buildings",null,null,0,{"$f":"IF(D20=0,'App.2-CD_MIFRS_DepExp_2014'!K20,+'App.2-CD_MIFRS_DepExp_2014'!K20+((C20*0.5)/D20))","v":0},null,0]
[1810,"Leasehold Improvements",null,null,0,{"$f":"IF(D21=0,'App.2-CD_MIFRS_DepExp_2014'!K21,+'App.2-CD_MIFRS_DepExp_2014'!K21+((C21*0.5)/D21))","v":0},null,0]
[1815,"Transformer Station Equipment >50 kV",null,null,0,{"$f":"IF(D22=0,'App.2-CD_MIFRS_DepExp_2014'!K22,+'App.2-CD_MIFRS_DepExp_2014'!K22+((C22*0.5)/D22))","v":0},null,0]
[1820,"Distribution Station Equipment <50 kV",null,null,0,{"$f":"IF(D23=0,'App.2-CD_MIFRS_DepExp_2014'!K23,+'App.2-CD_MIFRS_DepExp_2014'!K23+((C23*0.5)/D23))","v":0},null,0]
[1825,"Storage Battery Equipment",null,null,0,{"$f":"IF(D24=0,'App.2-CD_MIFRS_DepExp_2014'!K24,+'App.2-CD_MIFRS_DepExp_2014'!K24+((C24*0.5)/D24))","v":0},null,0]
[1830,"Poles, Towers & Fixtures",null,null,0,{"$f":"IF(D25=0,'App.2-CD_MIFRS_DepExp_2014'!K25,+'App.2-CD_MIFRS_DepExp_2014'!K25+((C25*0.5)/D25))","v":0},null,0]
[1835,"Overhead Conductors & Devices",null,null,0,{"$f":"IF(D26=0,'App.2-CD_MIFRS_DepExp_2014'!K26,+'App.2-CD_MIFRS_DepExp_2014'!K26+((C26*0.5)/D26))","v":0},null,0]
[1840,"Underground Conduit",null,null,0,{"$f":"IF(D27=0,'App.2-CD_MIFRS_DepExp_2014'!K27,+'App.2-CD_MIFRS_DepExp_2014'!K27+((C27*0.5)/D27))","v":0},null,0]
[1845,"Underground Conductors & Devices",null,null,0,{"$f":"IF(D28=0,'App.2-CD_MIFRS_DepExp_2014'!K28,+'App.2-CD_MIFRS_DepExp_2014'!K28+((C28*0.5)/D28))","v":0},null,0]
[1850,"Line Transformers",null,null,0,{"$f":"IF(D29=0,'App.2-CD_MIFRS_DepExp_2014'!K29,+'App.2-CD_MIFRS_DepExp_2014'!K29+((C29*0.5)/D29))","v":0},null,0]
[1855,"Services (Overhead & Underground)",null,null,0,{"$f":"IF(D30=0,'App.2-CD_MIFRS_DepExp_2014'!K30,+'App.2-CD_MIFRS_DepExp_2014'!K30+((C30*0.5)/D30))","v":0},null,0]
[1860,"Meters",null,null,0,{"$f":"IF(D31=0,'App.2-CD_MIFRS_DepExp_2014'!K31,+'App.2-CD_MIFRS_DepExp_2014'!K31+((C31*0.5)/D31))","v":0},null,0]
[1860,"Meters (Smart Meters)",null,null,0,{"$f":"IF(D32=0,'App.2-CD_MIFRS_DepExp_2014'!K32,+'App.2-CD_MIFRS_DepExp_2014'!K32+((C32*0.5)/D32))","v":0},null,0]
[1905,"Land",null,null,0,{"$f":"IF(D33=0,'App.2-CD_MIFRS_DepExp_2014'!K33,+'App.2-CD_MIFRS_DepExp_2014'!K33+((C33*0.5)/D33))","v":0},null,0]
[1908,"Buildings & Fixtures",null,null,0,{"$f":"IF(D34=0,'App.2-CD_MIFRS_DepExp_2014'!K34,+'App.2-CD_MIFRS_DepExp_2014'!K34+((C34*0.5)/D34))","v":0},null,0]
[1910,"Leasehold Improvements",null,null,0,{"$f":"IF(D35=0,'App.2-CD_MIFRS_DepExp_2014'!K35,+'App.2-CD_MIFRS_DepExp_2014'!K35+((C35*0.5)/D35))","v":0},null,0]
[1915,"Office Furniture & Equipment (10 years)",null,null,0,{"$f":"IF(D36=0,'App.2-CD_MIFRS_DepExp_2014'!K36,+'App.2-CD_MIFRS_DepExp_2014'!K36+((C36*0.5)/D36))","v":0},null,0]
[1915,"Office Furniture & Equipment (5 years)",null,null,0,{"$f":"IF(D37=0,'App.2-CD_MIFRS_DepExp_2014'!K37,+'App.2-CD_MIFRS_DepExp_2014'!K37+((C37*0.5)/D37))","v":0},null,0]
[1920,"Computer Equipment - Hardware",null,null,0,{"$f":"IF(D38=0,'App.2-CD_MIFRS_DepExp_2014'!K38,+'App.2-CD_MIFRS_DepExp_2014'!K38+((C38*0.5)/D38))","v":0},null,0]
[1920,"Computer Equip.-Hardware(Post Mar. 22/04)",null,null,0,{"$f":"IF(D39=0,'App.2-CD_MIFRS_DepExp_2014'!K39,+'App.2-CD_MIFRS_DepExp_2014'!K39+((C39*0.5)/D39))","v":0},null,0]
[1920,"Computer Equip.-Hardware(Post Mar. 19/07)",null,null,0,{"$f":"IF(D40=0,'App.2-CD_MIFRS_DepExp_2014'!K40,+'App.2-CD_MIFRS_DepExp_2014'!K40+((C40*0.5)/D40))","v":0},null,0]
[1930,"Transportation Equipment",null,null,0,{"$f":"IF(D41=0,'App.2-CD_MIFRS_DepExp_2014'!K41,+'App.2-CD_MIFRS_DepExp_2014'!K41+((C41*0.5)/D41))","v":0},null,0]
[1935,"Stores Equipment",null,null,0,{"$f":"IF(D42=0,'App.2-CD_MIFRS_DepExp_2014'!K42,+'App.2-CD_MIFRS_DepExp_2014'!K42+((C42*0.5)/D42))","v":0},null,0]
[1940,"Tools, Shop & Garage Equipment",null,null,0,{"$f":"IF(D43=0,'App.2-CD_MIFRS_DepExp_2014'!K43,+'App.2-CD_MIFRS_DepExp_2014'!K43+((C43*0.5)/D43))","v":0},null,0]
[1945,"Measurement & Testing Equipment",null,null,0,{"$f":"IF(D44=0,'App.2-CD_MIFRS_DepExp_2014'!K44,+'App.2-CD_MIFRS_DepExp_2014'!K44+((C44*0.5)/D44))","v":0},null,0]
[1950,"Power Operated Equipment",null,null,0,{"$f":"IF(D45=0,'App.2-CD_MIFRS_DepExp_2014'!K45,+'App.2-CD_MIFRS_DepExp_2014'!K45+((C45*0.5)/D45))","v":0},null,0]
[1955,"Communications Equipment",null,null,0,{"$f":"IF(D46=0,'App.2-CD_MIFRS_DepExp_2014'!K46,+'App.2-CD_MIFRS_DepExp_2014'!K46+((C46*0.5)/D46))","v":0},null,0]
[1955,"Communication Equipment (Smart Meters)",null,null,0,{"$f":"IF(D47=0,'App.2-CD_MIFRS_DepExp_2014'!K47,+'App.2-CD_MIFRS_DepExp_2014'!K47+((C47*0.5)/D47))","v":0},null,0]
[1960,"Miscellaneous Equipment ",null,null,0,{"$f":"IF(D48=0,'App.2-CD_MIFRS_DepExp_2014'!K48,+'App.2-CD_MIFRS_DepExp_2014'!K48+((C48*0.5)/D48))","v":0},null,0]
[1970,"Load Management Controls Customer Premises",null,null,0,{"$f":"IF(D49=0,'App.2-CD_MIFRS_DepExp_2014'!K49,+'App.2-CD_MIFRS_DepExp_2014'!K49+((C49*0.5)/D49))","v":0},null,0]
[1975,"Load Management Controls Utility Premises",null,null,0,{"$f":"IF(D50=0,'App.2-CD_MIFRS_DepExp_2014'!K50,+'App.2-CD_MIFRS_DepExp_2014'!K50+((C50*0.5)/D50))","v":0},null,0]
[1980,"System Supervisor Equipment",null,null,0,{"$f":"IF(D51=0,'App.2-CD_MIFRS_DepExp_2014'!K51,+'App.2-CD_MIFRS_DepExp_2014'!K51+((C51*0.5)/D51))","v":0},null,0]
[1985,"Miscellaneous Fixed Assets",null,null,0,{"$f":"IF(D52=0,'App.2-CD_MIFRS_DepExp_2014'!K52,+'App.2-CD_MIFRS_DepExp_2014'!K52+((C52*0.5)/D52))","v":0},null,0]
[1990,"Other Tangible Property",null,null,0,{"$f":"IF(D53=0,'App.2-CD_MIFRS_DepExp_2014'!K53,+'App.2-CD_MIFRS_DepExp_2014'!K53+((C53*0.5)/D53))","v":0},null,0]
[null,null,null,null,0,{"$f":"IF(D54=0,'App.2-CD_MIFRS_DepExp_2014'!K54,+'App.2-CD_MIFRS_DepExp_2014'!K54+((C54*0.5)/D54))","v":0},null,0]
[null,"Total",{"$f":"SUM(C17:C54)","v":0},null,null,{"$f":"SUM(F17:F54)","v":0},{"$f":"SUM(G17:G54)","v":0},{"$f":"SUM(H17:H54)","v":0}]
[null,"Depreciation exp. adj. from gain or loss on the retirement of assets (pool of like assets)"]
[null,"Total Depreciation expense to be included in the test year revenue requirement",null,null,null,{"$f":"SUM(F55:F56)","v":0}]
["Notes:"]
[1,"Board policy of the \"half-year\" rule - the applicant must ensure that additions in the year attract a half-year depreciation expense in the first year.  Deviations from this standard practice must be supported in the application."]
[2,"The applicant must provide an explanation of material variances in evidence."]
[]
[]
["General:","Applicants must provide a breakdown of depreciation and amortization expense in the above format for all relevant accounts.  Asset Retirement Obligations (AROs), depreciation and accretion expense should be disclosed separately consistent with the Notes of historical Audited Financial Statements."]

{"sheet":"App.2-CF_OldCGAAP_DepExp_2013","index":22,"n_rows":63,"n_cols":12,"rows_kept":63,"cut":false,"hidden":false,"merged":[[59,1,59,11],[60,1,61,9],[62,1,63,11],[8,0,8,11],[9,0,9,11],[14,0,15,0],[14,1,15,1],[14,10,15,10],[10,1,10,10]]}
[null,null,null,null,null,null,null,null,null,null,"File Number:",{"$f":"EBNUMBER","v":"EB-2014-0096"}]
[null,null,null,null,null,null,null,null,null,null,"Exhibit:",4]
[null,null,null,null,null,null,null,null,null,null,"Tab:",4]
[null,null,null,null,null,null,null,null,null,null,"Schedule:",1]
[null,null,null,null,null,null,null,null,null,null,"Page:",3]
[]
[null,null,null,null,null,null,null,null,null,null,"Date:","2014-08-29"]
[]
["Appendix 2-CF"]
["Depreciation and Amortization Expense"]
[null,"Assumes the applicant made capitalization and depreciation expense accounting policy changes under CGAAP effective January 1, 2013 and will adopt IFRS for financial reporting purposes effective January 1, 2015."]
[]
[null,null,"Year",2013,"Former CGAAP"]
[]
["Account","Description","Opening Regulatory Gross PP&E as at Jan 1, 2013","Less Fully Depreciated","Net for Depreciation","Additions","Total for Depreciation","Years","Depreciation Rate","Depreciation Expense","2013 Depreciation Expense per Appendix 2-BA Fixed Assets, Column J\n (l)","Variance 2"]
[null,null,"(a)","(b)","(c)","(d)","(e) = (c) + ½ x (d) 1","(f)","(g) = 1 / (f)","(h) = (e) / (f)",null,"(m) = (h) - (l)"]
[1611,"Computer Software (Formally known as Account 1925)",2576964.23,1920006,{"$f":"C17-D17","v":656958.23},114742,{"$f":"E17+0.5*F17","v":714329.23},3,{"$f":"IF(H17=0,0,1/H17)","v":0.33333333333333331},{"$f":"IF(H17=0,0,G17/H17)","v":238109.74333333332},223111.67583333282,{"$f":"IF(ISERROR(+J17-K17), 0, +J17-K17)","v":14998.067500000499}]
[1612,"Land Rights (Formally known as Account 1906)",1603586.98,{"$f":"166587.99","v":166587.99},{"$f":"C18-D18","v":1436998.99},809.6,{"$f":"E18+0.5*F18","v":1437403.79},25,0.04,57496.151600000005,57097.977599999998,398.17400000000634]
[1805,"Land",507272.79000000004,null,507272.79000000004,null,507272.79000000004,null,0,0,null,0]
[1808,"Buildings",111638.13,111638,0.13000000000465661,null,0.13000000000465661,50,0.02,2.6000000000931324E-3,null,2.6000000000931324E-3]
[1810,"Leasehold Improvements",null,null,0,null,0,null,0,0,null,0]
[1815,"Transformer Station Equipment >50 kV(1708,1740,1745)",{"$f":"3833014.14","v":3833014.14},null,3833014.14,null,{"$f":"E22+0.5*F22","v":3833014.14},50,0.02,76660.282800000001,{"$f":"76660.28","v":76660.28},2.8000000020256266E-3]
[1815,"Transformer Station Equipment >50 kV (1715)",{"$f":"2726687.83+58564.58","v":2785252.41},null,2785252.41,16679,{"$f":"E23+0.5*F23","v":2793591.91},40,2.5000000000000001E-2,69839.797749999998,{"$f":"42043.75+925.57+13339.39+13654.86","v":69963.570000000007},-123.77225000000908]
[1820,"Distribution Station Equipment <50 kV",6450524.96,{"$f":"615644.53+27967.76+48600.58+70656+1346.39+61824+19000+44162+64468+85537","v":1039206.26},5411318.7000000002,-96485,5363076.2,25,0.04,214523.04800000001,213305.16799999995,1217.8800000000629]
[1825,"Storage Battery Equipment",null,null,0,null,0,0,0,0,null,0]
[1830,"Poles, Towers & Fixtures",41553403.600000001,{"$f":"2492337+340747+338270.62+421740+6060689.22+467364","v":10121147.84},31432255.760000002,2020539.709999999,32442525.615000002,25,0.04,1297701.0246000001,1293914.4502919975,3786.5743080026004]
[1835,"Overhead Conductors & Devices",26220717.270000003,1019957,25200760.270000003,1964011.7599999979,26182766.150000002,25,0.04,1047310.6460000001,1061182.7119080024,-13872.065908002318]
[1840,"Underground Conduit",9072907.3900000006,0,9072907.3900000006,590886.74999999953,9368350.7650000006,25,0.04,374734.0306,374689.73733710824,44.293262891762424]
[1845,"Underground Conductors & Devices",64689818.890000001,{"$f":"666727+2886392+869027+184619+485516+237320+460351+41496+159689","v":5991137},58698681.890000001,1885218.6600000025,59641291.219999999,25,0.04,2385651.6488000001,2327443.8122628913,58207.836537108757]
[1850,"Line Transformers",36258270.759999998,{"$f":"5102067+1644799-3638+304445","v":7047673},29210597.759999998,1097946.1700000032,29759570.844999999,25,0.04,1190382.8337999999,1225004.9058000001,-34622.07200000016]
[1855,"Services (Overhead & Underground)",4629063.25,0,4629063.25,800998,5029562.25,25,0.04,201182.49,201181.72580000001,0.76419999997597188]
[1860,"Meters",2645455.7800000003,0,2645455.7800000003,248020,2769465.7800000003,25,0.04,110778.6312,128806.33100000001,-18027.699800000002]
[1860,"Meters (Smart Meters)",4175009,0,4175009,27477,4188747.5,15,6.6666666666666666E-2,279249.83333333331,279238.27999999997,11.553333333344199]
[1905,"Land",508969.83,null,508969.83,null,508969.83,null,0,0,null,0]
[1908,"Buildings & Fixtures",13205845.689999999,0,13205845.689999999,1911585,14161638.189999999,60,1.6666666666666666E-2,236027.30316666665,231983.6691,4043.6340666666511]
[1910,"Leasehold Improvements",120252.32,null,120252.32,null,120252.32,null,0,0,null,0]
[1915,"Office Furniture & Equipment (10 years)",1323138.81,475923.27,847215.54,170426,932428.54,10,0.1,93242.854000000007,85856.73,7386.1240000000107]
[1915,"Office Furniture & Equipment (5 years)",0,null,0,null,0,null,0,0,null,0]
[1920,"Computer Equipment - Hardware",3133839.7,{"$f":"1830028.83-D40-D41","v":1462546.83},1671292.87,276353,1809469.37,5,0.2,361893.87400000001,304064.93,57828.944000000018]
[1920,"Computer Equip.-Hardware(Post Mar. 22/04)",2832,2832,0,null,0,5,0.2,0,null,0]
[1920,"Computer Equip.-Hardware(Post Mar. 19/07)",364650,364650,0,null,0,5,0.2,0,null,0]
[1930,"Transportation Equipment",7605132.6500000004,3052671,4552461.6500000004,974875,5039899.1500000004,8,0.125,629987.39375000005,567673.24999999965,62314.143750000396]
[1935,"Stores Equipment",236413.92,182171,54242.920000000013,null,54242.920000000013,10,0.1,5424.2920000000013,5424.28,1.2000000001535227E-2]
[1940,"Tools, Shop & Garage Equipment",1871743.96,1154343,717400.96,83082,758941.96,10,0.1,75894.195999999996,75413.35999999987,480.83600000012666]
[1945,"Measurement & Testing Equipment",204006.18,164467,39539.179999999993,null,39539.179999999993,5,0.2,7907.8359999999984,7508.1700000000128,399.66599999998562]
[1950,"Power Operated Equipment",null,null,0,null,0,null,0,0,null,0]
[1955,"Communications Equipment",502920.61,113663,389257.61,343864,561189.61,4,0.25,140297.4025,107082.25000000003,33215.152499999967]
[1955,"Communication Equipment (Smart Meters)",null,null,0,null,0,null,0,0,null,0]
[1960,"Miscellaneous Equipment ",72951.31,38089,34862.31,null,34862.31,5,0.2,6972.4619999999995,3318.4499999999971,3654.0120000000024]
[1970,"Load Management Controls - Customer Premises",null,null,0,null,0,null,0,0,null,0]
[1975,"Load Management Controls Utility Premises",null,null,0,null,0,null,0,0,null,0]
[1980,"System Supervisor Equipment",128960.64,128961,-0.36000000000058208,null,-0.36000000000058208,15,6.6666666666666666E-2,-2.4000000000038806E-2,0,-2.4000000000038806E-2]
[1985,"Miscellaneous Fixed Assets",null,null,0,null,0,null,0,0,null,0]
[1990,"Other Tangible Property",null,null,0,null,0,null,0,0,null,0]
[1995,"Contributions & Grants",-20525490.620000001,0,-20525490.620000001,-991373,-21021177.120000001,25,0.04,-840847.08480000007,-810260.99879999994,-30586.086000000127]
[null,"Total",{"$f":"SUM(C17:C55)","v":215869066.58000001},{"$f":"SUM(D17:D55)","v":34557670.189999998},{"$f":"SUM(E17:E55)","v":181311396.39000002},{"$f":"SUM(F17:F55)","v":11439655.650000002},{"$f":"SUM(G17:G55)","v":187031224.215},null,null,{"$f":"SUM(J17:J55)","v":8260420.6690333327},{"$f":"SUM(K17:K55)","v":8109664.71613333},{"$f":"SUM(L17:L55)","v":150755.95290000158}]
[]
["Notes:"]
[]
[1,"Board policy of the \"half-year\" rule - the applicant must ensure that additions in the year attract a half-year depreciation expense in the first year.  Deviations from this standard practice must be supported in the application."]
[2,"The applicant must provide an explanation of material variances in evidence."]
[]
["General","Applicants must provide a breakdown of depreciation and amortization expense in the above format for all relevant accounts.  Asset Retirement Obligations (AROs), depreciation and accretion expense should be disclosed separately consistent with the Notes of historical Audited Financial Statements."]

{"sheet":"App.2-CG_NewCGAAP_DepExp_2013","index":23,"n_rows":78,"n_cols":15,"rows_kept":78,"cut":false,"hidden":false,"merged":[[8,0,8,14],[9,0,9,14],[14,0,15,0],[14,1,15,1],[14,10,15,10],[14,13,15,13],[10,0,10,14],[77,1,78,14],[70,1,70,14],[71,1,71,14],[72,1,72,14],[73,1,73,14],[74,1,74,14],[75,1,75,14]]}
[null,null,null,null,null,null,null,null,null,null,null,null,null,"File Number:",{"$f":"EBNUMBER","v":"EB-2014-0096"}]
[null,null,null,null,null,null,null,null,null,null,null,null,null,"Exhibit:",4]
[null,null,null,null,null,null,null,null,null,null,null,null,null,"Tab:",4]
[null,null,null,null,null,null,null,null,null,null,null,null,null,"Schedule:",1]
[null,null,null,null,null,null,null,null,null,null,null,null,null,"Page:",3]
[]
[null,null,null,null,null,null,null,null,null,null,null,null,null,"Date:","2014-08-29"]
[]
["Appendix 2-CG"]
["Depreciation and Amortization Expense"]
["Assumes the applicant made capitalization and depreciation expense accounting policy changes under CGAAP effective January 1, 2013 and will adopt IFRS for financial reporting purposes effective January 1, 2015."]
[]
[null,null,"Year",2013,"Revised CGAAP "]
[]
["Account","Description","Opening NBV as at Jan 1, 2013 5","Additions","Average Remaining Life of Opening NBV 4","Years (new additions only) 3","Depreciation Rate on New Additions","Depreciation Expense on Opening NBV","Depreciation Expense on Additions 1","2013 Depreciation Expense","2013 Depreciation Expense per Appendix 2-BA Fixed Assets, Column J\n (l)","Variance 2","Depreciation Expense on 2013 Full Year Additions","Less Depreciation Expense on Assets Fully Depreciated during the year\n(o)","2013 Full Year Depreciation 6"]
[null,null,"(a)","(d)","(i)","(f)","(g) = 1 / (f)","(j) = (a) / (i)","(h)=((d)*0.5)/(f) ","(k) = (j) + (h)",null,"(m) = (k) - (l)","(n) = (d)/(f) ",null,"(p) = (j) + (n) - (o)"]
[1611,"Computer Software (Formally known as Account 1925)",{"$f":"2576964.23-73577.76-2136822","v":366564.4700000002},{"$f":"'App.2-CF_OldCGAAP_DepExp_2013'!F17","v":114742},1.7969900000000001,3,{"$f":"IF(F17=0,0,1/F17)","v":0.33333333333333331},{"$f":"IF(E17=0,0,+C17/E17)","v":203988.04111319495},{"$f":"IF(F17=0,0,+(D17*0.5)/F17)","v":19123.666666666668},{"$f":"IF(ISERROR(+H17+I17), 0, +H17+I17)","v":223111.70777986161},223111.67999999999,{"$f":"IF(ISERROR(+J17-K17), 0, +J17-K17)","v":2.7779861615272239E-2},{"$f":"IF(F17=0,0,+(D17)/F17)","v":38247.333333333336},55419,{"$f":"IF(ISERROR(+M17+H17-N17), 0, +M17+H17-N17)","v":186816.37444652829}]
[1612,"Land Rights (Formally known as Account 1906)",{"$f":"1603586.98-811063.73","v":792523.25},{"$f":"'App.2-CF_OldCGAAP_DepExp_2013'!F18","v":809.6},13.884,25,0.04,57081.76678190723,16.192,57097.958781907233,57098,-4.1218092766939662E-2,32.384,48,{"$f":"IF(ISERROR(+M18+H18-N18), 0, +M18+H18-N18)","v":57066.150781907229}]
[1805,"Land",507272.79000000004,{"$f":"'App.2-CF_OldCGAAP_DepExp_2013'!F19","v":0},null,null,0,0,0,0,0,0,0,null,0]
[1808,"Buildings",{"$f":"111638.13-111638.13","v":0},{"$f":"'App.2-CF_OldCGAAP_DepExp_2013'!F20","v":0},0,50,0.02,0,0,0,0,0,0,null,0]
[1810,"Leasehold Improvements",0,{"$f":"'App.2-CF_OldCGAAP_DepExp_2013'!F21","v":0},null,null,0,0,0,0,null,0,0,null,0]
[1815,"Transformer Station Equipment >50 kV (1708,1740,1745)",{"$f":"3833014.14-624673","v":3208341.14},{"$f":"'App.2-CF_OldCGAAP_DepExp_2013'!F22","v":0},{"$f":"C22/K22","v":41.851414317818829},50,0.02,76660.28,0,76660.28,76660.28,0,0,null,76660.28]
[1815,"Transformer Station Equipment >50 kV (1715, 1815, 17)",{"$f":"2214599-C24-C25-C26","v":1326058.5900000001},{"$f":"'App.2-CF_OldCGAAP_DepExp_2013'!F23","v":16679},36.637500000000003,45,{"$f":"IF(F23=0,0,1/F23)","v":2.2222222222222223E-2},{"$f":"IF(E23=0,0,+C23/E23)","v":36194.024974411463},{"$f":"IF(F23=0,0,+(D23*0.5)/F23)","v":185.32222222222222},{"$f":"IF(ISERROR(+H23+I23), 0, +H23+I23)","v":36379.347196633687},36379.629999999997,{"$f":"IF(ISERROR(+J23-K23), 0, +J23-K23)","v":-0.28280336630996317},{"$f":"IF(F23=0,0,+(D23)/F23)","v":370.64444444444445},77,{"$f":"IF(ISERROR(+M23+H23-N23), 0, +M23+H23-N23)","v":36487.669418855905}]
[1815,"Transformer Station Equipment >50 kV (1716)",32522.13,{"$f":"'App.2-CF_OldCGAAP_DepExp_2013'!F25","v":0},{"$f":"C24/K24","v":1.4462887024767184},10,{"$f":"IF(F24=0,0,1/F24)","v":0.1},{"$f":"IF(E24=0,0,+C24/E24)","v":22486.61},{"$f":"IF(F24=0,0,+(D24*0.5)/F24)","v":0},{"$f":"IF(ISERROR(+H24+I24), 0, +H24+I24)","v":22486.61},22486.61,{"$f":"IF(ISERROR(+J24-K24), 0, +J24-K24)","v":0},{"$f":"IF(F24=0,0,+(D24)/F24)","v":0},{"$f":"11745-99","v":11646},{"$f":"IF(ISERROR(+M24+H24-N24), 0, +M24+H24-N24)","v":10840.61}]
[1815,"Transformer Station Equipment >50 kV (1717)",423006.78,0,{"$f":"C25/K25","v":31.711103731130137},40,{"$f":"IF(F25=0,0,1/F25)","v":2.5000000000000001E-2},{"$f":"IF(E25=0,0,+C25/E25)","v":13339.39},{"$f":"IF(F25=0,0,+(D25*0.5)/F25)","v":0},{"$f":"IF(ISERROR(+H25+I25), 0, +H25+I25)","v":13339.39},13339.39,{"$f":"IF(ISERROR(+J25-K25), 0, +J25-K25)","v":0},{"$f":"IF(F25=0,0,+(D25)/F25)","v":0},null,{"$f":"IF(ISERROR(+M25+H25-N25), 0, +M25+H25-N25)","v":13339.39}]
[1815,"Transformer Station Equipment >50 kV (1719)",{"$f":"546194.98-113183.48","v":433011.5},0,{"$f":"C26/K26","v":12.113321166249658},20,{"$f":"IF(F26=0,0,1/F26)","v":0.05},{"$f":"IF(E26=0,0,+C26/E26)","v":35746.720000000001},{"$f":"IF(F26=0,0,+(D26*0.5)/F26)","v":0},{"$f":"IF(ISERROR(+H26+I26), 0, +H26+I26)","v":35746.720000000001},35746.720000000001,{"$f":"IF(ISERROR(+J26-K26), 0, +J26-K26)","v":0},{"$f":"IF(F26=0,0,+(D26)/F26)","v":0},null,{"$f":"IF(ISERROR(+M26+H26-N26), 0, +M26+H26-N26)","v":35746.720000000001}]
[1820,"Distribution Station Equipment <50 kV",2004873.0299999998,-497870,23.37715,45,2.2222222222222223E-2,85762.080920899243,-5531.8888888888887,80230.192032010353,80229.87,0.32203201035736129,-11063.777777777777,16891,57807.303143121462]
[1820,"Distribution Station Equipment <50 kV (1821)",{"$f":"1880385.35-730153.71","v":1150231.6400000001},401384.64,20.332000000000001,30,{"$f":"IF(F28=0,0,1/F28)","v":3.3333333333333333E-2},{"$f":"IF(E28=0,0,+C28/E28)","v":56572.478851072206},{"$f":"IF(F28=0,0,+(D28*0.5)/F28)","v":6689.7440000000006},{"$f":"IF(ISERROR(+H28+I28), 0, +H28+I28)","v":63262.222851072205},63262.52,{"$f":"IF(ISERROR(+J28-K28), 0, +J28-K28)","v":-0.29714892779156798},{"$f":"IF(F28=0,0,+(D28)/F28)","v":13379.488000000001},null,{"$f":"IF(ISERROR(+M28+H28-N28), 0, +M28+H28-N28)","v":69951.966851072211}]
[1825,"Storage Battery Equipment",0,{"$f":"'App.2-CF_OldCGAAP_DepExp_2013'!F25","v":0},null,null,0,0,0,0,null,0,0,null,0]
[1830,"Poles, Towers & Fixtures-Wood poles",15662777.789999999,{"$f":"'App.2-CF_OldCGAAP_DepExp_2013'!F26-120419","v":1900120.709999999},42.860599999999998,50,0.02,365435.33664951025,19001.207099999989,384436.54374951025,{"$f":"383562.8+873.4","v":384436.2},0.34374951024074107,38002.414199999977,0,403437.75084951025]
[1830,"Poles, Towers & Fixtures (1831) Concrete",{"$f":"2732088.36+186160.95-1180177.31-60687.91","v":1677384.09},120419,52.953000000000003,60,{"$f":"IF(F31=0,0,1/F31)","v":1.6666666666666666E-2},{"$f":"IF(E31=0,0,+C31/E31)","v":31676.847204124413},{"$f":"IF(F31=0,0,+(D31*0.5)/F31)","v":1003.4916666666667},{"$f":"IF(ISERROR(+H31+I31), 0, +H31+I31)","v":32680.338870791078},32680.1,{"$f":"IF(ISERROR(+J31-K31), 0, +J31-K31)","v":0.23887079107953468},{"$f":"IF(F31=0,0,+(D31)/F31)","v":2006.9833333333333},null,{"$f":"IF(ISERROR(+M31+H31-N31), 0, +M31+H31-N31)","v":33683.830537457747}]
[1835,"Overhead Conductors & Devices",13378699.48,{"$f":"'App.2-CF_OldCGAAP_DepExp_2013'!F27-D33-D34","v":1858349.7599999979},23.964189999999999,60,1.6666666666666666E-2,558278.81017468148,15486.247999999983,573765.0581746815,{"$f":"254998.99+318766.52","v":573765.51},-0.45182531850878149,30972.495999999966,{"$f":"215041+106561","v":321602},267649.30617468141]
[1835,"Overhead Conductors & Devices (1836)",{"$f":"1784853.54+716194.76-509196.53-307213.62","v":1684638.15},105662,27.819600000000001,15,{"$f":"IF(F33=0,0,1/F33)","v":6.6666666666666666E-2},{"$f":"IF(E33=0,0,+C33/E33)","v":60555.800586636753},{"$f":"IF(F33=0,0,+(D33*0.5)/F33)","v":3522.0666666666666},{"$f":"IF(ISERROR(+H33+I33), 0, +H33+I33)","v":64077.867253303419},64077.51,{"$f":"IF(ISERROR(+J33-K33), 0, +J33-K33)","v":0.3572533034166554},{"$f":"IF(F33=0,0,+(D33)/F33)","v":7044.1333333333332},{"$f":"-112512.78-29663","v":-142175.78},{"$f":"IF(ISERROR(+M33+H33-N33), 0, +M33+H33-N33)","v":209775.71391997009}]
[1835,"Overhead Conductors & Devices (1837)",{"$f":"1586350.23+315348.35-330670.47-132048.16","v":1438979.9500000002},0,0,30,{"$f":"IF(F34=0,0,1/F34)","v":3.3333333333333333E-2},{"$f":"IF(E34=0,0,+C34/E34)","v":0},{"$f":"IF(F34=0,0,+(D34*0.5)/F34)","v":0},{"$f":"IF(ISERROR(+H34+I34), 0, +H34+I34)","v":0},null,{"$f":"IF(ISERROR(+J34-K34), 0, +J34-K34)","v":0},{"$f":"IF(F34=0,0,+(D34)/F34)","v":0},-69750,{"$f":"IF(ISERROR(+M34+H34-N34), 0, +M34+H34-N34)","v":69750}]
[1840,"Underground Conduit",6874814.5700000003,{"$f":"'App.2-CF_OldCGAAP_DepExp_2013'!F28","v":590886.74999999953},44.257899999999999,50,0.02,155335.30895049247,5908.8674999999957,161244.17645049246,161244,0.17645049246493727,11817.734999999991,null,167153.04395049246]
[1845,"Underground Conductors & Devices",26944944.489999998,{"$f":"'App.2-CF_OldCGAAP_DepExp_2013'!F29-D37","v":1698458.6600000025},16.80687,35,2.8571428571428571E-2,1603210.1450180789,24263.695142857177,1627473.8401609361,1627473.43,0.41016093618236482,48527.390285714355,-14060,1665797.5353037931]
[1845,"Underground Conductors & Devices (1846)",{"$f":"1807419.2+77396.51-881472.62-64472.43","v":938870.65999999992},186760,10.757999999999999,30,{"$f":"IF(F37=0,0,1/F37)","v":3.3333333333333333E-2},{"$f":"IF(E37=0,0,+C37/E37)","v":87271.859081613686},{"$f":"IF(F37=0,0,+(D37*0.5)/F37)","v":3112.6666666666665},{"$f":"IF(ISERROR(+H37+I37), 0, +H37+I37)","v":90384.525748280357},90384.23,{"$f":"IF(ISERROR(+J37-K37), 0, +J37-K37)","v":0.29574828036129475},{"$f":"IF(F37=0,0,+(D37)/F37)","v":6225.333333333333},{"$f":"25304+3011+13827","v":42142},{"$f":"IF(ISERROR(+M37+H37-N37), 0, +M37+H37-N37)","v":51355.192414947014}]
[1850,"Line Transformers (1850) Polemount",5768242.1700000018,{"$f":"'App.2-CF_OldCGAAP_DepExp_2013'!F30-D39","v":289471.03000000317},27.747699999999998,40,2.5000000000000001E-2,207881.81254662556,3618.3878750000395,211500.2004216256,211500.12,8.0421625607414171E-2,7236.7757500000789,5978,209140.58829662565]
[1850,"Line Transformers (1853) Padmount",{"$f":"14540422.95+2685474.31-6629220.78-1413244.68","v":9183431.799999997},808475.14,20.204599999999999,30,{"$f":"IF(F39=0,0,1/F39)","v":3.3333333333333333E-2},{"$f":"IF(E39=0,0,+C39/E39)","v":454521.83166209661},{"$f":"IF(F39=0,0,+(D39*0.5)/F39)","v":13474.585666666668},{"$f":"IF(ISERROR(+H39+I39), 0, +H39+I39)","v":467996.41732876329},467996,{"$f":"IF(ISERROR(+J39-K39), 0, +J39-K39)","v":0.41732876328751445},{"$f":"IF(F39=0,0,+(D39)/F39)","v":26949.171333333335},{"$f":"1315.72+106.92-4315","v":-2892.3599999999997},{"$f":"IF(ISERROR(+M39+H39-N39), 0, +M39+H39-N39)","v":484363.36299542995}]
[1855,"Services (Overhead & Underground)",3519280.26,{"$f":"'App.2-CF_OldCGAAP_DepExp_2013'!F31","v":800998},19.006499999999999,25,0.04,185161.93197064163,16019.96,201181.89197064162,201181.73,0.16197064160951413,32039.919999999998,0,217201.85197064164]
[1860,"Meters",1804529.01,{"$f":"'App.2-CF_OldCGAAP_DepExp_2013'!F32","v":248020},12.822800000000001,20,0.05,140728.15687681315,6200.5,146928.65687681315,146928.29,0.36687681314651854,12401,3249,149880.15687681315]
[1860,"Meters (Smart Meters)",3479173.91,{"$f":"'App.2-CF_OldCGAAP_DepExp_2013'!F33","v":27477},12.50051,15,6.6666666666666666E-2,278322.5572396646,915.9,279238.45723966463,279238,0.45723966462537646,1831.8,0,280154.35723966459]
[1905,"Land",508969.83,{"$f":"'App.2-CF_OldCGAAP_DepExp_2013'!F34","v":0},0,0,0,0,0,0,null,0,0,null,0]
[1908,"Buildings & Fixtures",{"$f":"13205845.69-1250.44-2454282.89","v":10750312.359999999},{"$f":"'App.2-CF_OldCGAAP_DepExp_2013'!F35","v":1911585},48.07,60,1.6666666666666666E-2,223638.70106095276,15929.875,239568.57606095276,{"$f":"2650.48+229333.19","v":231983.67},7584.9060609527514,31859.75,null,255498.45106095276]
[1910,"Leasehold Improvements",{"$f":"120252.32-120252.32","v":0},{"$f":"'App.2-CF_OldCGAAP_DepExp_2013'!F36","v":0},null,null,0,0,0,0,null,0,0,null,0]
[1915,"Office Furniture & Equipment (10 years)",{"$f":"1323138.81-21600-830163.17","v":471375.64},{"$f":"'App.2-CF_OldCGAAP_DepExp_2013'!F37","v":170426},6.0952000000000002,10,0.1,77335.549284683031,8521.2999999999993,85856.849284683034,85856.73,0.11928468303813133,17042.599999999999,null,94378.149284683022]
[1915,"Office Furniture & Equipment (5 years)",0,{"$f":"'App.2-CF_OldCGAAP_DepExp_2013'!F38","v":0},null,null,0,0,0,0,null,0,0,null,0]
[1920,"Computer Equipment - Hardware",{"$f":"3133839.7-317112.36-2366558.62+2832+364650","v":817650.7200000002},{"$f":"'App.2-CF_OldCGAAP_DepExp_2013'!F39","v":276353},2.957894,5,0.2,276430.02758043399,27635.3,304065.32758043398,304064.93,0.39758043398614973,55270.6,{"$f":"157888.9*0.5","v":78944.45},252756.17758043396]
[1920,"Computer Equip.-Hardware(Post Mar. 22/04)",{"$f":"2832-2832","v":0},{"$f":"'App.2-CF_OldCGAAP_DepExp_2013'!F40","v":0},null,null,0,0,0,0,null,0,0,null,0]
[1920,"Computer Equip.-Hardware(Post Mar. 19/07)",{"$f":"364650-364650","v":0},{"$f":"'App.2-CF_OldCGAAP_DepExp_2013'!F41","v":0},null,null,0,0,0,0,null,0,0,null,0]
[1930,"Transportation Equipment (1931)",{"$f":"548320.97-321095.91","v":227225.06},{"$f":"'App.2-CF_OldCGAAP_DepExp_2013'!F42-D52-D53","v":157663},4.1315999999999997,8,0.125,54996.868041436734,9853.9375,64850.805541436734,64851.07,-0.26445856326608919,19707.875,null,74704.743041436741]
[1930,"Transportation Equipment (1932)  Large Trucks",{"$f":"6735905.41-4017550.03","v":2718355.3800000004},808792,14.606400000000001,15,{"$f":"IF(F52=0,0,1/F52)","v":6.6666666666666666E-2},{"$f":"IF(E52=0,0,+C52/E52)","v":186107.14344396978},{"$f":"IF(F52=0,0,+(D52*0.5)/F52)","v":26959.733333333334},{"$f":"IF(ISERROR(+H52+I52), 0, +H52+I52)","v":213066.87677730311},213066.99,{"$f":"IF(ISERROR(+J52-K52), 0, +J52-K52)","v":-0.11322269687661901},{"$f":"IF(F52=0,0,+(D52)/F52)","v":53919.466666666667},-6166.95,{"$f":"IF(ISERROR(+M52+H52-N52), 0, +M52+H52-N52)","v":246193.56011063646}]
[1930,"Transportation Equipment (1933) Trailers",{"$f":"320906.27-224400.54","v":96505.73000000001},8420,19.215,20,{"$f":"IF(F53=0,0,1/F53)","v":0.05},{"$f":"IF(E53=0,0,+C53/E53)","v":5022.4163413999486},{"$f":"IF(F53=0,0,+(D53*0.5)/F53)","v":210.5},{"$f":"IF(ISERROR(+H53+I53), 0, +H53+I53)","v":5232.9163413999486},5232.51,{"$f":"IF(ISERROR(+J53-K53), 0, +J53-K53)","v":0.40634139994836005},{"$f":"IF(F53=0,0,+(D53)/F53)","v":421},null,{"$f":"IF(ISERROR(+M53+H53-N53), 0, +M53+H53-N53)","v":5443.4163413999486}]
[1935,"Stores Equipment",{"$f":"236413.92-196641.13","v":39772.790000000008},{"$f":"'App.2-CF_OldCGAAP_DepExp_2013'!F43","v":0},{"$f":"C54/K54","v":7.3323630048596327},10,0.1,5424.28,0,5424.28,5424.28,0,0,null,5424.28]
[1940,"Tools, Shop & Garage Equipment",{"$f":"1871743.96-263830.99-1193399.07","v":414513.89999999991},{"$f":"'App.2-CF_OldCGAAP_DepExp_2013'!F44","v":83082},5.8170000000000002,10,0.1,71259.05105724599,4154.1000000000004,75413.151057245996,75413.36,-0.20894275400496554,8308.2000000000007,null,79567.251057245987]
[1945,"Measurement & Testing Equipment",{"$f":"204006.18-138691.33-47927.72","v":17387.130000000005},{"$f":"'App.2-CF_OldCGAAP_DepExp_2013'!F45","v":0},{"$f":"C56/K56","v":2.3157613639541998},5,0.2,7508.17,0,7508.17,7508.17,0,0,null,7508.17]
[1950,"Power Operated Equipment",0,{"$f":"'App.2-CF_OldCGAAP_DepExp_2013'!F46","v":0},null,null,0,0,0,0,null,0,0,null,0]
[1955,"Communications Equipment",{"$f":"502920.61-155981.08","v":346939.53},{"$f":"'App.2-CF_OldCGAAP_DepExp_2013'!F47","v":343864},{"$f":"C58/K58","v":17.865909713539466},20,0.05,19419.080000000002,8596.6,28015.68,19419.080000000002,8596.5999999999985,17193.2,null,36612.28]
[1955,"Communication Equipment (Smart Meters)",0,{"$f":"'App.2-CF_OldCGAAP_DepExp_2013'!F48","v":0},null,null,0,0,0,0,null,0,0,null,0]
[1960,"Miscellaneous Equipment ",{"$f":"72951.31-67311.72-2","v":5637.5899999999965},{"$f":"'App.2-CF_OldCGAAP_DepExp_2013'!F49","v":0},{"$f":"C60/K60","v":1.6988624207084624},5,0.2,3318.45,0,3318.45,3318.45,0,0,null,3318.45]
[1970,"Load Management Controls - Customer Premises",0,{"$f":"'App.2-CF_OldCGAAP_DepExp_2013'!F50","v":0},null,null,0,0,0,0,null,0,0,null,0]
[1975,"Load Management Controls Utility Premises",0,{"$f":"'App.2-CF_OldCGAAP_DepExp_2013'!F51","v":0},null,null,0,0,0,0,null,0,0,null,0]
[1980,"System Supervisor Equipment",{"$f":"128960.64-128960.64","v":0},{"$f":"'App.2-CF_OldCGAAP_DepExp_2013'!F52","v":0},null,15,6.6666666666666666E-2,0,0,0,null,0,0,null,0]
[1985,"Miscellaneous Fixed Assets",0,{"$f":"'App.2-CF_OldCGAAP_DepExp_2013'!F53","v":0},null,null,0,0,0,0,null,0,0,null,0]
[1990,"Other Tangible Property",0,{"$f":"'App.2-CF_OldCGAAP_DepExp_2013'!F54","v":0},null,null,0,0,0,0,null,0,0,null,0]
[1995,"Contributions & Grants",{"$f":"-20525490.62+2457304.51+3036309.99","v":-15031876.119999999},{"$f":"'App.2-CF_OldCGAAP_DepExp_2013'!F55","v":-991373},19.017264999999998,25,0.04,-790433.12064063898,-19827.46,-810260.58064063895,-810261.01,0.42935936106368899,-39654.92,null,-830088.04064063902]
[null,"Total",{"$f":"SUM(C17:C66)","v":103982941.19000001},{"$f":"SUM(D17:D66)","v":11439655.290000003},null,null,null,{"$f":"SUM(H17:H66)","v":4856238.4067719467},215044.49811785718,5071282.904889808,5055098.0500000017,16184.854889805256,430088.99623571435,300951.36,4985376.0430076625]
[]
["Notes:"]
[]
[1,"Board policy of the \"half-year\" rule - the applicant must ensure that additions in the year attract a half-year depreciation expense in the first year.  Deviations from this standard practice must be supported in the application."]
[2,"The applicant must provide an explanation of material variances in evidence."]
[3,"The applicant should ensure that the years for new additions of assets are the asset useful lives determined by management in accordance with the Board's regulatory accounting policies.   The capitalization and depreciation expense accounting changes should be implemented consistent with the Board’s regulatory accounting policies as set out for MIFRS as contained in the Report of the Board, Transition to International Financial Reporting Standards, EB-2008-0408, the Kinectrics Report, and the Revised 2012 Accounting Procedures Handbook for Electricity Distributors."]
[4,"A recalculation should be performed to determine the average remaining life of opening balance of assets (i.e. excluding 2013 additions) under the change in policies under CGAAP.  For example, Asset A had a useful life of 20 years under CGAAP without the change in policies.  On January 1, 2013, the effective date of the changes in policies, Asset A was 3 years depreciated. As a result, Asset A would have a remaining service life of 17 years (20 years less 3 years) as of January 1, 2013.  Due to making the change in policies under CGAAP, management re-assessed the asset useful lives and concluded that the revised useful life of Asset A is now 30 years. Therefore, the average remaining useful life of the opening balance of Asset A is determined to be 27 years (30 years less 3 years) under the revised CGAAP as of January 1, 2013."]
[5," NBV must exclude assets still on the books but which have been fully amortized or depreciated."]
[6,"This column refers to the calculated full year depreciation but excludes the depreciation expense on assets fully depreciated during the year.  This column is used for the purpose of calculating depreciation expense in the following year on the next worksheet."]
[]
["General:","Applicants must provide a breakdown of depreciation and amortization expense in the above format for all relevant accounts.  Asset Retirement Obligations (AROs), depreciation and accretion expense should be disclosed separately consistent with the Notes of historical Audited Financial Statements."]

{"sheet":"App.2-CH_OldCGAAP_DepExp_2014","index":24,"n_rows":63,"n_cols":12,"rows_kept":63,"cut":false,"hidden":false,"merged":[[59,1,59,11],[60,1,61,9],[62,1,63,11],[8,0,8,11],[9,0,9,11],[10,1,10,10],[14,0,15,0],[14,1,15,1],[14,10,15,10]]}
[null,null,null,null,null,null,null,null,null,null,"File Number:",{"$f":"EBNUMBER","v":"EB-2014-0096"}]
[null,null,null,null,null,null,null,null,null,null,"Exhibit:",4]
[null,null,null,null,null,null,null,null,null,null,"Tab:",4]
[null,null,null,null,null,null,null,null,null,null,"Schedule:",1]
[null,null,null,null,null,null,null,null,null,null,"Page:",3]
[]
[null,null,null,null,null,null,null,null,null,null,"Date:","2014-08-29"]
[]
["Appendix 2-CH 2014-1"]
["Depreciation and Amortization Expense"]
[null,"Assumes the applicant made capitalization and depreciation expense accounting policy changes under CGAAP effective January 1, 2013 and will adopt IFRS for financial reporting purposes effective January 1, 2015."]
[]
[null,null,"Year",2014,"Former CGAAP"]
[]
["Account","Description","Opening Regulatory Gross PP&E as at Jan 1, 2014","Less Fully Depreciated","Net for Depreciation","Additions","Total for Depreciation","Years","Depreciation Rate","Depreciation Expense","2014 Depreciation Expense per Appendix 2-BA Fixed Assets, Column J\n (l)","Variance 2"]
[null,null,"(a)","(b)","(c)","(d)","(e) = (c) + ½ x (d) 1","(f)","(g) = 1 / (f)","(h) = (e) / (f)",null,"(m) = (h) - (l)"]
[1611,"Computer Software (Formally known as Account 1925)",2691706.16,2215733.3099999996,{"$f":"C17-D17","v":475972.85000000056},737966,{"$f":"E17+0.5*F17","v":844955.85000000056},3,{"$f":"IF(H17=0,0,1/H17)","v":0.33333333333333331},{"$f":"IF(H17=0,0,G17/H17)","v":281651.95000000019},467668.05749999965,{"$f":"IF(ISERROR(+J17-K17), 0, +J17-K17)","v":-186016.10749999946}]
[1612,"Land Rights (Formally known as Account 1906)",1604396.58,{"$f":"201895.34","v":201895.34},{"$f":"C18-D18","v":1402501.24},0,{"$f":"E18+0.5*F18","v":1402501.24},25,0.04,56100.049599999998,57066.564799999818,-966.51519999981974]
[1805,"Land",507272.79200000002,null,507272.79200000002,null,507272.79200000002,null,0,0,null,0]
[1808,"Buildings",111638.13,111638,0.13000000000465661,null,0.13000000000465661,50,0.02,2.6000000000931324E-3,null,2.6000000000931324E-3]
[1810,"Leasehold Improvements",null,null,0,null,0,null,0,0,null,0]
[1815,"Transformer Station Equipment >50 kV(1708,1740,1745)",{"$f":"3833014.14","v":3833014.14},null,3833014.14,null,{"$f":"E22+0.5*F22","v":3833014.14},50,0.02,76660.282800000001,76660.280000000144,2.7999998565064743E-3]
[1815,"Transformer Station Equipment >50 kV (1715)",{"$f":"2726687.83+58564.58+'App.2-CG_NewCGAAP_DepExp_2013'!D23","v":2801931.41},null,2801931.41,0,{"$f":"E23+0.5*F23","v":2801931.41},40,2.5000000000000001E-2,70048.285250000001,70172.055850000004,-123.77060000000347]
[1820,"Distribution Station Equipment <50 kV",6354039.79,{"$f":"615644.53+27967.76+48600.58+70656+1346.39+61824+19000+44162+64468+85537+70504+26103.78","v":1135814.04},5218225.75,252037,5344244.25,25,0.04,213769.77,204690.45319999935,9079.3168000006408]
[1825,"Storage Battery Equipment",null,null,0,null,0,0,0,0,null,0]
[1830,"Poles, Towers & Fixtures",43573943.420000002,{"$f":"2492337+340747+338270.62+421740+6060689.22+467364","v":10121147.84},33452795.580000002,1931739,34418665.079999998,25,0.04,1376746.6032,1352859.9175532865,23886.685646713478]
[1835,"Overhead Conductors & Devices",28184729.140000001,1019957,27164772.140000001,841832,27585688.140000001,25,0.04,1103427.5256000001,1108573.6935133522,-5146.1679133521393]
[1840,"Underground Conduit",9663793.7400000002,0,9663793.7400000002,1246226,10286906.74,25,0.04,411476.2696,411432.00356695731,44.266033042687923]
[1845,"Underground Conductors & Devices",66575037.950000003,{"$f":"666727+2944456.79+869027+184619+485516+237320+457698.82+41496+1404944.88","v":7291805.4900000002},59283232.460000001,2535908,60551186.460000001,25,0.04,2422047.4583999999,2343300.3428330375,78747.115566962399]
[1850,"Line Transformers",37356216.710000001,{"$f":"5102067+1644799-3638+304445+118050","v":7165723},30190493.710000001,1818452.01,31099719.715,25,0.04,1243988.7886000001,1243779.5923333606,209.19626663951203]
[1855,"Services (Overhead & Underground)",5430060.7999999998,0,5430060.7999999998,1062007,5961064.2999999998,25,0.04,238442.57199999999,238441.81759999995,0.7544000000343658]
[1860,"Meters",2893475.87,0,2893475.87,602413.57999999996,3194682.66,25,0.04,127787.3064,152822.45499999949,-25035.148599999491]
[1860,"Meters (Smart Meters)",4202486.3600000003,0,4202486.3600000003,1658578.3199999996,5031775.5200000005,15,6.6666666666666666E-2,335451.70133333339,465231.0299999998,-129779.32866666641]
[1905,"Land",508969.83,null,508969.83,null,508969.83,null,0,0,null,0]
[1908,"Buildings & Fixtures",15117430.199999999,0,15117430.199999999,1500485,15867672.699999999,60,1.6666666666666666E-2,264461.21166666667,260610.57213333267,3850.6395333340042]
[1910,"Leasehold Improvements",120252.32,null,120252.32,null,120252.32,null,0,0,null,0]
[1915,"Office Furniture & Equipment (10 years)",1493564.37,546937.59,946626.78000000014,157000,1025126.7800000001,10,0.1,102512.67800000001,100229.14000000013,2283.5379999998841]
[1915,"Office Furniture & Equipment (5 years)",0,null,0,null,0,null,0,0,null,0]
[1920,"Computer Equipment - Hardware",3410192.42,2070286.7099999981,1339905.7100000018,302295,1491053.2100000018,5,0.2,298210.64200000034,284534.35899999482,13676.283000005526]
[1920,"Computer Equip.-Hardware(Post Mar. 22/04)",2832,2832,0,null,0,5,0.2,0,null,0]
[1920,"Computer Equip.-Hardware(Post Mar. 19/07)",364650,364650,0,null,0,5,0.2,0,null,0]
[1930,"Transportation Equipment",8580007.5399999991,3226934.5500000003,5353072.9899999984,672000,5689072.9899999984,8,0.125,711134.1237499998,724983.36000000045,-13849.236250000657]
[1935,"Stores Equipment",236413.92,182171.13,54242.790000000008,75000,91742.790000000008,10,0.1,9174.2790000000005,9174.2799999999988,-9.9999999838473741E-4]
[1940,"Tools, Shop & Garage Equipment",1954825.97,1178844.2699999998,775981.70000000019,67000,809481.70000000019,10,0.1,80948.170000000013,78814.840000000782,2133.3299999992305]
[1945,"Measurement & Testing Equipment",204006.18,170549.68,33456.5,null,33456.5,5,0.2,6691.3,5092.2299999999523,1599.0700000000479]
[1950,"Power Operated Equipment",null,null,0,null,0,null,0,0,null,0]
[1955,"Communications Equipment",846784.65,158934.59999999998,687850.05,227500,801600.05,4,0.25,200400.01250000001,199196.15999999986,1203.8525000001537]
[1955,"Communication Equipment (Smart Meters)",null,null,0,null,0,null,0,0,null,0]
[1960,"Miscellaneous Equipment ",72951.31,62316.729999999996,10634.580000000002,null,10634.580000000002,5,0.2,2126.9160000000002,2071.839999999982,55.076000000018212]
[1970,"Load Management Controls - Customer Premises",null,null,0,null,0,null,0,0,null,0]
[1975,"Load Management Controls Utility Premises",null,null,0,null,0,null,0,0,null,0]
[1980,"System Supervisor Equipment",128960.64,128961,-0.36000000000058208,null,-0.36000000000058208,15,6.6666666666666666E-2,-2.4000000000038806E-2,null,-2.4000000000038806E-2]
[1985,"Miscellaneous Fixed Assets",null,null,0,null,0,null,0,0,null,0]
[1990,"Other Tangible Property",null,null,0,null,0,null,0,0,null,0]
[1995,"Contributions & Grants",-21516864.100000001,0,-21516864.100000001,-900000,-21966864.100000001,25,0.04,-878674.56400000001,-845482.49519999977,-33192.068800000241]
[null,"Total",{"$f":"SUM(C17:C55)","v":227308720.24200001},{"$f":"SUM(D17:D55)","v":37357132.280000001},{"$f":"SUM(E17:E55)","v":189951587.96200004},{"$f":"SUM(F17:F55)","v":14788438.91},{"$f":"SUM(G17:G55)","v":197345807.41700003},null,null,{"$f":"SUM(J17:J55)","v":8754583.3103},{"$f":"SUM(K17:K55)","v":9011922.5496833213},{"$f":"SUM(L17:L55)","v":-257339.2393833207}]
[]
["Notes:"]
[]
[1,"Board policy of the \"half-year\" rule - the applicant must ensure that additions in the year attract a half-year depreciation expense in the first year.  Deviations from this standard practice must be supported in the application."]
[2,"The applicant must provide an explanation of material variances in evidence."]
[]
["General","Applicants must provide a breakdown of depreciation and amortization expense in the above format for all relevant accounts.  Asset Retirement Obligations (AROs), depreciation and accretion expense should be disclosed separately consistent with the Notes of historical Audited Financial Statements."]

{"sheet":"App.2-CH_MIFRS_DepExp_2014","index":25,"n_rows":76,"n_cols":11,"rows_kept":76,"cut":false,"hidden":false,"merged":[[71,1,71,10],[72,1,72,10],[73,1,73,10],[75,1,76,10],[8,0,8,10],[9,0,9,10],[14,0,15,0],[14,1,15,1],[14,6,15,6],[14,9,15,9],[10,0,10,10],[68,1,68,4]]}
[null,null,null,null,null,null,null,null,null,"File Number:",{"$f":"EBNUMBER","v":"EB-2014-0096"}]
[null,null,null,null,null,null,null,null,null,"Exhibit:",4]
[null,null,null,null,null,null,null,null,null,"Tab:",4]
[null,null,null,null,null,null,null,null,null,"Schedule:",1]
[null,null,null,null,null,null,null,null,null,"Page:",3]
[]
[null,null,null,null,null,null,null,null,null,"Date:","2014-08-29"]
[]
["Appendix 2-CH-2014-2"]
["Depreciation and Amortization Expense"]
["Assumes the applicant made capitalization and depreciation expense accounting policy changes under CGAAP effective January 1, 2013 and will adopt IFRS for financial reporting purposes effective January 1, 2015."]
[]
[null,null,null,null,2014,"MIFRS"]
[]
["Account","Description","Additions","Years (new additions only)","Depreciation Rate on New Additions","2014 Depreciation Expense 1","2014 Depreciation Expense per Apppendix 2-BA Fixed Assets, Column J\n (l)","Variance 2","Depreciation Expense on 2014 Full Year Additions","Less Depreciation Expense on Assets Fully Depreciated during the year\n(o)","2014 Full Year Depreciation 3"]
[null,null,"(d)","(f)","(g) = 1 / (f)","(h)=2013 Full Year Deprecation + ((d)*0.5)/(f) ",null,"(m) = (h) - (l)","(n)=((d))/(f) ",null,"(p) = 2013 Full Year Depreciation  + (n) - (o)"]
[{"$f":"'App.2-CG_NewCGAAP_DepExp_2013'!A17","v":1611},{"$f":"'App.2-CG_NewCGAAP_DepExp_2013'!B17","v":"Computer Software (Formally known as Account 1925)"},737966,{"$f":"'App.2-CG_NewCGAAP_DepExp_2013'!F17","v":3},{"$f":"IF(D17=0,0,1/D17)","v":0.33333333333333331},{"$f":"IF(D17=0,+'App.2-CG_NewCGAAP_DepExp_2013'!O17,+'App.2-CG_NewCGAAP_DepExp_2013'!O17+((C17*0.5)/D17))","v":309810.70777986164},{"$f":"260670.56+206998","v":467668.56},{"$f":"IF(ISERROR(+F17-G17), 0, +F17-G17)","v":-157857.85222013836},{"$f":"IF(D17=0,0,+(C17)/D17)","v":245988.66666666666},{"$f":"70602+136103-35918+207247-107062+223112-145309+39875","v":388650},{"$f":"IF(ISERROR(+I17+'App.2-CG_NewCGAAP_DepExp_2013'!O17-J17), 0, +I17+'App.2-CG_NewCGAAP_DepExp_2013'!O17-J17)","v":44155.041113194951}]
[{"$f":"'App.2-CG_NewCGAAP_DepExp_2013'!A18","v":1612},{"$f":"'App.2-CG_NewCGAAP_DepExp_2013'!B18","v":"Land Rights (Formally known as Account 1906)"},0,{"$f":"'App.2-CG_NewCGAAP_DepExp_2013'!F18","v":25},0.04,{"$f":"IF(D18=0,+'App.2-CG_NewCGAAP_DepExp_2013'!O18,+'App.2-CG_NewCGAAP_DepExp_2013'!O18+((C18*0.5)/D18))","v":57066.150781907229},57066.5,-0.34921809277147986,0,null,{"$f":"IF(ISERROR(+I18+'App.2-CG_NewCGAAP_DepExp_2013'!O18-J18), 0, +I18+'App.2-CG_NewCGAAP_DepExp_2013'!O18-J18)","v":57066.150781907229}]
[{"$f":"'App.2-CG_NewCGAAP_DepExp_2013'!A19","v":1805},{"$f":"'App.2-CG_NewCGAAP_DepExp_2013'!B19","v":"Land"},null,{"$f":"'App.2-CG_NewCGAAP_DepExp_2013'!F19","v":0},0,{"$f":"IF(D19=0,+'App.2-CG_NewCGAAP_DepExp_2013'!O19,+'App.2-CG_NewCGAAP_DepExp_2013'!O19+((C19*0.5)/D19))","v":0},null,0,0,null,{"$f":"IF(ISERROR(+I19+'App.2-CG_NewCGAAP_DepExp_2013'!O19-J19), 0, +I19+'App.2-CG_NewCGAAP_DepExp_2013'!O19-J19)","v":0}]
[{"$f":"'App.2-CG_NewCGAAP_DepExp_2013'!A20","v":1808},{"$f":"'App.2-CG_NewCGAAP_DepExp_2013'!B20","v":"Buildings"},null,{"$f":"'App.2-CG_NewCGAAP_DepExp_2013'!F20","v":50},0.02,{"$f":"IF(D20=0,+'App.2-CG_NewCGAAP_DepExp_2013'!O20,+'App.2-CG_NewCGAAP_DepExp_2013'!O20+((C20*0.5)/D20))","v":0},null,0,0,null,{"$f":"IF(ISERROR(+I20+'App.2-CG_NewCGAAP_DepExp_2013'!O20-J20), 0, +I20+'App.2-CG_NewCGAAP_DepExp_2013'!O20-J20)","v":0}]
[{"$f":"'App.2-CG_NewCGAAP_DepExp_2013'!A21","v":1810},{"$f":"'App.2-CG_NewCGAAP_DepExp_2013'!B21","v":"Leasehold Improvements"},null,{"$f":"'App.2-CG_NewCGAAP_DepExp_2013'!F21","v":0},0,{"$f":"IF(D21=0,+'App.2-CG_NewCGAAP_DepExp_2013'!O21,+'App.2-CG_NewCGAAP_DepExp_2013'!O21+((C21*0.5)/D21))","v":0},null,0,0,null,{"$f":"IF(ISERROR(+I21+'App.2-CG_NewCGAAP_DepExp_2013'!O21-J21), 0, +I21+'App.2-CG_NewCGAAP_DepExp_2013'!O21-J21)","v":0}]
[{"$f":"'App.2-CG_NewCGAAP_DepExp_2013'!A22","v":1815},{"$f":"'App.2-CG_NewCGAAP_DepExp_2013'!B22","v":"Transformer Station Equipment >50 kV (1708,1740,1745)"},null,{"$f":"'App.2-CG_NewCGAAP_DepExp_2013'!F22","v":50},0.02,{"$f":"IF(D22=0,+'App.2-CG_NewCGAAP_DepExp_2013'!O22,+'App.2-CG_NewCGAAP_DepExp_2013'!O22+((C22*0.5)/D22))","v":76660.28},76660.28,0,0,null,{"$f":"IF(ISERROR(+I22+'App.2-CG_NewCGAAP_DepExp_2013'!O22-J22), 0, +I22+'App.2-CG_NewCGAAP_DepExp_2013'!O22-J22)","v":76660.28}]
[{"$f":"'App.2-CG_NewCGAAP_DepExp_2013'!A23","v":1815},{"$f":"'App.2-CG_NewCGAAP_DepExp_2013'!B23","v":"Transformer Station Equipment >50 kV (1715, 1815, 17)"},null,{"$f":"'App.2-CG_NewCGAAP_DepExp_2013'!F23","v":45},2.2222222222222223E-2,{"$f":"IF(D23=0,+'App.2-CG_NewCGAAP_DepExp_2013'!O23,+'App.2-CG_NewCGAAP_DepExp_2013'!O23+((C23*0.5)/D23))","v":36487.669418855905},36488.1,-0.43058114409359405,0,null,{"$f":"IF(ISERROR(+I23+'App.2-CG_NewCGAAP_DepExp_2013'!O23-J23), 0, +I23+'App.2-CG_NewCGAAP_DepExp_2013'!O23-J23)","v":36487.669418855905}]
[{"$f":"'App.2-CG_NewCGAAP_DepExp_2013'!A24","v":1815},{"$f":"'App.2-CG_NewCGAAP_DepExp_2013'!B24","v":"Transformer Station Equipment >50 kV (1716)"},null,{"$f":"'App.2-CG_NewCGAAP_DepExp_2013'!F24","v":10},0.1,{"$f":"IF(D24=0,+'App.2-CG_NewCGAAP_DepExp_2013'!O24,+'App.2-CG_NewCGAAP_DepExp_2013'!O24+((C24*0.5)/D24))","v":10840.61},10840.71,-9.9999999998544808E-2,0,11746,{"$f":"IF(ISERROR(+I24+'App.2-CG_NewCGAAP_DepExp_2013'!O24-J24), 0, +I24+'App.2-CG_NewCGAAP_DepExp_2013'!O24-J24)","v":-905.38999999999942}]
[{"$f":"'App.2-CG_NewCGAAP_DepExp_2013'!A25","v":1815},{"$f":"'App.2-CG_NewCGAAP_DepExp_2013'!B25","v":"Transformer Station Equipment >50 kV (1717)"},null,{"$f":"'App.2-CG_NewCGAAP_DepExp_2013'!F25","v":40},2.5000000000000001E-2,{"$f":"IF(D25=0,+'App.2-CG_NewCGAAP_DepExp_2013'!O25,+'App.2-CG_NewCGAAP_DepExp_2013'!O25+((C25*0.5)/D25))","v":13339.39},13339.37,1.9999999998617568E-2,0,null,{"$f":"IF(ISERROR(+I25+'App.2-CG_NewCGAAP_DepExp_2013'!O25-J25), 0, +I25+'App.2-CG_NewCGAAP_DepExp_2013'!O25-J25)","v":13339.39}]
[{"$f":"'App.2-CG_NewCGAAP_DepExp_2013'!A26","v":1815},{"$f":"'App.2-CG_NewCGAAP_DepExp_2013'!B26","v":"Transformer Station Equipment >50 kV (1719)"},null,{"$f":"'App.2-CG_NewCGAAP_DepExp_2013'!F26","v":20},0.05,{"$f":"IF(D26=0,+'App.2-CG_NewCGAAP_DepExp_2013'!O26,+'App.2-CG_NewCGAAP_DepExp_2013'!O26+((C26*0.5)/D26))","v":35746.720000000001},35746.730000000003,-1.0000000002037268E-2,0,null,{"$f":"IF(ISERROR(+I26+'App.2-CG_NewCGAAP_DepExp_2013'!O26-J26), 0, +I26+'App.2-CG_NewCGAAP_DepExp_2013'!O26-J26)","v":35746.720000000001}]
[{"$f":"'App.2-CG_NewCGAAP_DepExp_2013'!A27","v":1820},{"$f":"'App.2-CG_NewCGAAP_DepExp_2013'!B27","v":"Distribution Station Equipment <50 kV"},140250,{"$f":"'App.2-CG_NewCGAAP_DepExp_2013'!F27","v":45},2.2222222222222223E-2,{"$f":"IF(D27=0,+'App.2-CG_NewCGAAP_DepExp_2013'!O27,+'App.2-CG_NewCGAAP_DepExp_2013'!O27+((C27*0.5)/D27))","v":59365.636476454798},59365.95,-0.31352354519913206,3116.6666666666665,null,{"$f":"IF(ISERROR(+I27+'App.2-CG_NewCGAAP_DepExp_2013'!O27-J27), 0, +I27+'App.2-CG_NewCGAAP_DepExp_2013'!O27-J27)","v":60923.969809788126}]
[{"$f":"'App.2-CG_NewCGAAP_DepExp_2013'!A28","v":1820},{"$f":"'App.2-CG_NewCGAAP_DepExp_2013'!B28","v":"Distribution Station Equipment <50 kV (1821)"},111787.07999999999,{"$f":"'App.2-CG_NewCGAAP_DepExp_2013'!F28","v":30},3.3333333333333333E-2,{"$f":"IF(D28=0,+'App.2-CG_NewCGAAP_DepExp_2013'!O28,+'App.2-CG_NewCGAAP_DepExp_2013'!O28+((C28*0.5)/D28))","v":71815.084851072213},71815.38,-0.29514892779116053,3726.2359999999994,null,{"$f":"IF(ISERROR(+I28+'App.2-CG_NewCGAAP_DepExp_2013'!O28-J28), 0, +I28+'App.2-CG_NewCGAAP_DepExp_2013'!O28-J28)","v":73678.202851072216}]
[{"$f":"'App.2-CG_NewCGAAP_DepExp_2013'!A29","v":1825},{"$f":"'App.2-CG_NewCGAAP_DepExp_2013'!B29","v":"Storage Battery Equipment"},null,{"$f":"'App.2-CG_NewCGAAP_DepExp_2013'!F29","v":0},0,{"$f":"IF(D29=0,+'App.2-CG_NewCGAAP_DepExp_2013'!O29,+'App.2-CG_NewCGAAP_DepExp_2013'!O29+((C29*0.5)/D29))","v":0},null,0,0,null,{"$f":"IF(ISERROR(+I29+'App.2-CG_NewCGAAP_DepExp_2013'!O29-J29), 0, +I29+'App.2-CG_NewCGAAP_DepExp_2013'!O29-J29)","v":0}]
[{"$f":"'App.2-CG_NewCGAAP_DepExp_2013'!A30","v":1830},{"$f":"'App.2-CG_NewCGAAP_DepExp_2013'!B30","v":"Poles, Towers & Fixtures-Wood poles"},1869515.0399999996,{"$f":"'App.2-CG_NewCGAAP_DepExp_2013'!F30","v":50},0.02,{"$f":"IF(D30=0,+'App.2-CG_NewCGAAP_DepExp_2013'!O30,+'App.2-CG_NewCGAAP_DepExp_2013'!O30+((C30*0.5)/D30))","v":422132.90124951024},{"$f":"421259.16+873.4","v":422132.56},0.34124951023841277,37390.30079999999,null,{"$f":"IF(ISERROR(+I30+'App.2-CG_NewCGAAP_DepExp_2013'!O30-J30), 0, +I30+'App.2-CG_NewCGAAP_DepExp_2013'!O30-J30)","v":440828.05164951022}]
[{"$f":"'App.2-CG_NewCGAAP_DepExp_2013'!A31","v":1830},{"$f":"'App.2-CG_NewCGAAP_DepExp_2013'!B31","v":"Poles, Towers & Fixtures (1831) Concrete"},62223.960000000079,{"$f":"'App.2-CG_NewCGAAP_DepExp_2013'!F31","v":60},1.6666666666666666E-2,{"$f":"IF(D31=0,+'App.2-CG_NewCGAAP_DepExp_2013'!O31,+'App.2-CG_NewCGAAP_DepExp_2013'!O31+((C31*0.5)/D31))","v":34202.36353745775},34202.120000000003,0.24353745774715208,1037.0660000000014,null,{"$f":"IF(ISERROR(+I31+'App.2-CG_NewCGAAP_DepExp_2013'!O31-J31), 0, +I31+'App.2-CG_NewCGAAP_DepExp_2013'!O31-J31)","v":34720.896537457746}]
[{"$f":"'App.2-CG_NewCGAAP_DepExp_2013'!A32","v":1835},{"$f":"'App.2-CG_NewCGAAP_DepExp_2013'!B32","v":"Overhead Conductors & Devices"},673087.91999999993,{"$f":"'App.2-CG_NewCGAAP_DepExp_2013'!F32","v":60},1.6666666666666666E-2,{"$f":"IF(D32=0,+'App.2-CG_NewCGAAP_DepExp_2013'!O32,+'App.2-CG_NewCGAAP_DepExp_2013'!O32+((C32*0.5)/D32))","v":273258.3721746814},273258.21999999997,0.1521746814250946,11218.132,null,{"$f":"IF(ISERROR(+I32+'App.2-CG_NewCGAAP_DepExp_2013'!O32-J32), 0, +I32+'App.2-CG_NewCGAAP_DepExp_2013'!O32-J32)","v":278867.43817468139}]
[{"$f":"'App.2-CG_NewCGAAP_DepExp_2013'!A33","v":1835},{"$f":"'App.2-CG_NewCGAAP_DepExp_2013'!B33","v":"Overhead Conductors & Devices (1836)"},138345.59999999998,{"$f":"'App.2-CG_NewCGAAP_DepExp_2013'!F33","v":15},6.6666666666666666E-2,{"$f":"IF(D33=0,+'App.2-CG_NewCGAAP_DepExp_2013'!O33,+'App.2-CG_NewCGAAP_DepExp_2013'!O33+((C33*0.5)/D33))","v":214387.23391997008},214387.33,-9.6080029907170683E-2,9223.0399999999991,11653,{"$f":"IF(ISERROR(+I33+'App.2-CG_NewCGAAP_DepExp_2013'!O33-J33), 0, +I33+'App.2-CG_NewCGAAP_DepExp_2013'!O33-J33)","v":207345.7539199701}]
[{"$f":"'App.2-CG_NewCGAAP_DepExp_2013'!A34","v":1835},{"$f":"'App.2-CG_NewCGAAP_DepExp_2013'!B34","v":"Overhead Conductors & Devices (1837)"},30398.879999999888,{"$f":"'App.2-CG_NewCGAAP_DepExp_2013'!F34","v":30},3.3333333333333333E-2,{"$f":"IF(D34=0,+'App.2-CG_NewCGAAP_DepExp_2013'!O34,+'App.2-CG_NewCGAAP_DepExp_2013'!O34+((C34*0.5)/D34))","v":70256.648000000001},70256.320000000007,0.32799999999406282,1013.2959999999963,null,{"$f":"IF(ISERROR(+I34+'App.2-CG_NewCGAAP_DepExp_2013'!O34-J34), 0, +I34+'App.2-CG_NewCGAAP_DepExp_2013'!O34-J34)","v":70763.296000000002}]
[{"$f":"'App.2-CG_NewCGAAP_DepExp_2013'!A35","v":1840},{"$f":"'App.2-CG_NewCGAAP_DepExp_2013'!B35","v":"Underground Conduit"},1246226.2800000003,{"$f":"'App.2-CG_NewCGAAP_DepExp_2013'!F35","v":50},0.02,{"$f":"IF(D35=0,+'App.2-CG_NewCGAAP_DepExp_2013'!O35,+'App.2-CG_NewCGAAP_DepExp_2013'!O35+((C35*0.5)/D35))","v":179615.30675049245},{"$f":"132409.26+47206.27","v":179615.53},-0.22324950754409656,24924.525600000004,null,{"$f":"IF(ISERROR(+I35+'App.2-CG_NewCGAAP_DepExp_2013'!O35-J35), 0, +I35+'App.2-CG_NewCGAAP_DepExp_2013'!O35-J35)","v":192077.56955049245}]
[{"$f":"'App.2-CG_NewCGAAP_DepExp_2013'!A36","v":1845},{"$f":"'App.2-CG_NewCGAAP_DepExp_2013'!B36","v":"Underground Conductors & Devices"},2441445.2399999998,{"$f":"'App.2-CG_NewCGAAP_DepExp_2013'!F36","v":35},2.8571428571428571E-2,{"$f":"IF(D36=0,+'App.2-CG_NewCGAAP_DepExp_2013'!O36,+'App.2-CG_NewCGAAP_DepExp_2013'!O36+((C36*0.5)/D36))","v":1700675.3244466502},{"$f":"1590103.47+110571.92","v":1700675.39},-6.5553349675610662E-2,69755.578285714277,{"$f":"522583.96+510.09+2000","v":525094.05000000005},{"$f":"IF(ISERROR(+I36+'App.2-CG_NewCGAAP_DepExp_2013'!O36-J36), 0, +I36+'App.2-CG_NewCGAAP_DepExp_2013'!O36-J36)","v":1210459.0635895075}]
[{"$f":"'App.2-CG_NewCGAAP_DepExp_2013'!A37","v":1845},{"$f":"'App.2-CG_NewCGAAP_DepExp_2013'!B37","v":"Underground Conductors & Devices (1846)"},94463.040000000008,{"$f":"'App.2-CG_NewCGAAP_DepExp_2013'!F37","v":30},3.3333333333333333E-2,{"$f":"IF(D37=0,+'App.2-CG_NewCGAAP_DepExp_2013'!O37,+'App.2-CG_NewCGAAP_DepExp_2013'!O37+((C37*0.5)/D37))","v":52929.576414947012},52929.45,0.12641494701529155,3148.7680000000005,{"$f":"4258.3","v":4258.3},{"$f":"IF(ISERROR(+I37+'App.2-CG_NewCGAAP_DepExp_2013'!O37-J37), 0, +I37+'App.2-CG_NewCGAAP_DepExp_2013'!O37-J37)","v":50245.660414947015}]
[{"$f":"'App.2-CG_NewCGAAP_DepExp_2013'!A38","v":1850},{"$f":"'App.2-CG_NewCGAAP_DepExp_2013'!B38","v":"Line Transformers (1850) Polemount"},950460.72,{"$f":"'App.2-CG_NewCGAAP_DepExp_2013'!F38","v":40},2.5000000000000001E-2,{"$f":"IF(D38=0,+'App.2-CG_NewCGAAP_DepExp_2013'!O38,+'App.2-CG_NewCGAAP_DepExp_2013'!O38+((C38*0.5)/D38))","v":221021.34729662564},221021.43,-8.2703374355332926E-2,23761.518,null,{"$f":"IF(ISERROR(+I38+'App.2-CG_NewCGAAP_DepExp_2013'!O38-J38), 0, +I38+'App.2-CG_NewCGAAP_DepExp_2013'!O38-J38)","v":232902.10629662566}]
[{"$f":"'App.2-CG_NewCGAAP_DepExp_2013'!A39","v":1850},{"$f":"'App.2-CG_NewCGAAP_DepExp_2013'!B39","v":"Line Transformers (1853) Padmount"},867991.44,{"$f":"'App.2-CG_NewCGAAP_DepExp_2013'!F39","v":30},3.3333333333333333E-2,{"$f":"IF(D39=0,+'App.2-CG_NewCGAAP_DepExp_2013'!O39,+'App.2-CG_NewCGAAP_DepExp_2013'!O39+((C39*0.5)/D39))","v":498829.88699542993},498830.11,-0.22300457005621865,28933.047999999999,{"$f":"1861.85+400","v":2261.85},{"$f":"IF(ISERROR(+I39+'App.2-CG_NewCGAAP_DepExp_2013'!O39-J39), 0, +I39+'App.2-CG_NewCGAAP_DepExp_2013'!O39-J39)","v":511034.56099542999}]
[{"$f":"'App.2-CG_NewCGAAP_DepExp_2013'!A40","v":1855},{"$f":"'App.2-CG_NewCGAAP_DepExp_2013'!B40","v":"Services (Overhead & Underground)"},1062007.2000000004,{"$f":"'App.2-CG_NewCGAAP_DepExp_2013'!F40","v":25},0.04,{"$f":"IF(D40=0,+'App.2-CG_NewCGAAP_DepExp_2013'!O40,+'App.2-CG_NewCGAAP_DepExp_2013'!O40+((C40*0.5)/D40))","v":238441.99597064164},238441.82,0.17597064163419418,42480.288000000015,null,{"$f":"IF(ISERROR(+I40+'App.2-CG_NewCGAAP_DepExp_2013'!O40-J40), 0, +I40+'App.2-CG_NewCGAAP_DepExp_2013'!O40-J40)","v":259682.13997064164}]
[{"$f":"'App.2-CG_NewCGAAP_DepExp_2013'!A41","v":1860},{"$f":"'App.2-CG_NewCGAAP_DepExp_2013'!B41","v":"Meters"},602413.16,{"$f":"'App.2-CG_NewCGAAP_DepExp_2013'!F41","v":20},0.05,{"$f":"IF(D41=0,+'App.2-CG_NewCGAAP_DepExp_2013'!O41,+'App.2-CG_NewCGAAP_DepExp_2013'!O41+((C41*0.5)/D41))","v":164940.48587681315},164940.39000000001,9.5876813138602301E-2,30120.658000000003,625,{"$f":"IF(ISERROR(+I41+'App.2-CG_NewCGAAP_DepExp_2013'!O41-J41), 0, +I41+'App.2-CG_NewCGAAP_DepExp_2013'!O41-J41)","v":179375.81487681315}]
[{"$f":"'App.2-CG_NewCGAAP_DepExp_2013'!A42","v":1860},{"$f":"'App.2-CG_NewCGAAP_DepExp_2013'!B42","v":"Meters (Smart Meters)"},1658578.3199999996,{"$f":"'App.2-CG_NewCGAAP_DepExp_2013'!F42","v":15},6.6666666666666666E-2,{"$f":"IF(D42=0,+'App.2-CG_NewCGAAP_DepExp_2013'!O42,+'App.2-CG_NewCGAAP_DepExp_2013'!O42+((C42*0.5)/D42))","v":335440.30123966455},{"$f":"465231.03","v":465231.03},-129790.72876033548,110571.88799999998,0,{"$f":"IF(ISERROR(+I42+'App.2-CG_NewCGAAP_DepExp_2013'!O42-J42), 0, +I42+'App.2-CG_NewCGAAP_DepExp_2013'!O42-J42)","v":390726.24523966457}]
[{"$f":"'App.2-CG_NewCGAAP_DepExp_2013'!A43","v":1905},{"$f":"'App.2-CG_NewCGAAP_DepExp_2013'!B43","v":"Land"},null,{"$f":"'App.2-CG_NewCGAAP_DepExp_2013'!F43","v":0},0,{"$f":"IF(D43=0,+'App.2-CG_NewCGAAP_DepExp_2013'!O43,+'App.2-CG_NewCGAAP_DepExp_2013'!O43+((C43*0.5)/D43))","v":0},null,0,0,null,{"$f":"IF(ISERROR(+I43+'App.2-CG_NewCGAAP_DepExp_2013'!O43-J43), 0, +I43+'App.2-CG_NewCGAAP_DepExp_2013'!O43-J43)","v":0}]
[{"$f":"'App.2-CG_NewCGAAP_DepExp_2013'!A44","v":1908},{"$f":"'App.2-CG_NewCGAAP_DepExp_2013'!B44","v":"Buildings & Fixtures"},1500484.9800000004,{"$f":"'App.2-CG_NewCGAAP_DepExp_2013'!F44","v":60},1.6666666666666666E-2,{"$f":"IF(D44=0,+'App.2-CG_NewCGAAP_DepExp_2013'!O44,+'App.2-CG_NewCGAAP_DepExp_2013'!O44+((C44*0.5)/D44))","v":268002.49256095279},260610.57,7391.9225609527784,25008.083000000006,8171,{"$f":"IF(ISERROR(+I44+'App.2-CG_NewCGAAP_DepExp_2013'!O44-J44), 0, +I44+'App.2-CG_NewCGAAP_DepExp_2013'!O44-J44)","v":272335.53406095278}]
[{"$f":"'App.2-CG_NewCGAAP_DepExp_2013'!A45","v":1910},{"$f":"'App.2-CG_NewCGAAP_DepExp_2013'!B45","v":"Leasehold Improvements"},null,{"$f":"'App.2-CG_NewCGAAP_DepExp_2013'!F45","v":0},0,{"$f":"IF(D45=0,+'App.2-CG_NewCGAAP_DepExp_2013'!O45,+'App.2-CG_NewCGAAP_DepExp_2013'!O45+((C45*0.5)/D45))","v":0},null,0,0,null,{"$f":"IF(ISERROR(+I45+'App.2-CG_NewCGAAP_DepExp_2013'!O45-J45), 0, +I45+'App.2-CG_NewCGAAP_DepExp_2013'!O45-J45)","v":0}]
[{"$f":"'App.2-CG_NewCGAAP_DepExp_2013'!A46","v":1915},{"$f":"'App.2-CG_NewCGAAP_DepExp_2013'!B46","v":"Office Furniture & Equipment (10 years)"},157000,{"$f":"'App.2-CG_NewCGAAP_DepExp_2013'!F46","v":10},0.1,{"$f":"IF(D46=0,+'App.2-CG_NewCGAAP_DepExp_2013'!O46,+'App.2-CG_NewCGAAP_DepExp_2013'!O46+((C46*0.5)/D46))","v":102228.14928468302},100229.14,1999.009284683023,15700,2478,{"$f":"IF(ISERROR(+I46+'App.2-CG_NewCGAAP_DepExp_2013'!O46-J46), 0, +I46+'App.2-CG_NewCGAAP_DepExp_2013'!O46-J46)","v":107600.14928468302}]
[{"$f":"'App.2-CG_NewCGAAP_DepExp_2013'!A47","v":1915},{"$f":"'App.2-CG_NewCGAAP_DepExp_2013'!B47","v":"Office Furniture & Equipment (5 years)"},null,{"$f":"'App.2-CG_NewCGAAP_DepExp_2013'!F47","v":0},0,{"$f":"IF(D47=0,+'App.2-CG_NewCGAAP_DepExp_2013'!O47,+'App.2-CG_NewCGAAP_DepExp_2013'!O47+((C47*0.5)/D47))","v":0},null,0,0,null,{"$f":"IF(ISERROR(+I47+'App.2-CG_NewCGAAP_DepExp_2013'!O47-J47), 0, +I47+'App.2-CG_NewCGAAP_DepExp_2013'!O47-J47)","v":0}]
[{"$f":"'App.2-CG_NewCGAAP_DepExp_2013'!A48","v":1920},{"$f":"'App.2-CG_NewCGAAP_DepExp_2013'!B48","v":"Computer Equipment - Hardware"},302294.09000000003,{"$f":"'App.2-CG_NewCGAAP_DepExp_2013'!F48","v":5},0.2,{"$f":"IF(D48=0,+'App.2-CG_NewCGAAP_DepExp_2013'!O48,+'App.2-CG_NewCGAAP_DepExp_2013'!O48+((C48*0.5)/D48))","v":282985.58658043394},{"$f":"283226.86+1307.5","v":284534.36},-1548.773419566045,60458.818000000007,{"$f":"100561+1308","v":101869},{"$f":"IF(ISERROR(+I48+'App.2-CG_NewCGAAP_DepExp_2013'!O48-J48), 0, +I48+'App.2-CG_NewCGAAP_DepExp_2013'!O48-J48)","v":211345.99558043398}]
[{"$f":"'App.2-CG_NewCGAAP_DepExp_2013'!A49","v":1920},{"$f":"'App.2-CG_NewCGAAP_DepExp_2013'!B49","v":"Computer Equip.-Hardware(Post Mar. 22/04)"},null,{"$f":"'App.2-CG_NewCGAAP_DepExp_2013'!F49","v":0},0,{"$f":"IF(D49=0,+'App.2-CG_NewCGAAP_DepExp_2013'!O49,+'App.2-CG_NewCGAAP_DepExp_2013'!O49+((C49*0.5)/D49))","v":0},null,0,0,null,{"$f":"IF(ISERROR(+I49+'App.2-CG_NewCGAAP_DepExp_2013'!O49-J49), 0, +I49+'App.2-CG_NewCGAAP_DepExp_2013'!O49-J49)","v":0}]
[{"$f":"'App.2-CG_NewCGAAP_DepExp_2013'!A50","v":1920},{"$f":"'App.2-CG_NewCGAAP_DepExp_2013'!B50","v":"Computer Equip.-Hardware(Post Mar. 19/07)"},null,{"$f":"'App.2-CG_NewCGAAP_DepExp_2013'!F50","v":0},0,{"$f":"IF(D50=0,+'App.2-CG_NewCGAAP_DepExp_2013'!O50,+'App.2-CG_NewCGAAP_DepExp_2013'!O50+((C50*0.5)/D50))","v":0},null,0,0,null,{"$f":"IF(ISERROR(+I50+'App.2-CG_NewCGAAP_DepExp_2013'!O50-J50), 0, +I50+'App.2-CG_NewCGAAP_DepExp_2013'!O50-J50)","v":0}]
[{"$f":"'App.2-CG_NewCGAAP_DepExp_2013'!A51","v":1930},{"$f":"'App.2-CG_NewCGAAP_DepExp_2013'!B51","v":"Transportation Equipment (1931)"},0,{"$f":"'App.2-CG_NewCGAAP_DepExp_2013'!F51","v":8},0.125,{"$f":"IF(D51=0,+'App.2-CG_NewCGAAP_DepExp_2013'!O51,+'App.2-CG_NewCGAAP_DepExp_2013'!O51+((C51*0.5)/D51))","v":74704.743041436741},68306.850000000006,6397.8930414367351,0,null,{"$f":"IF(ISERROR(+I51+'App.2-CG_NewCGAAP_DepExp_2013'!O51-J51), 0, +I51+'App.2-CG_NewCGAAP_DepExp_2013'!O51-J51)","v":74704.743041436741}]
[{"$f":"'App.2-CG_NewCGAAP_DepExp_2013'!A52","v":1930},{"$f":"'App.2-CG_NewCGAAP_DepExp_2013'!B52","v":"Transportation Equipment (1932)  Large Trucks"},650000,{"$f":"'App.2-CG_NewCGAAP_DepExp_2013'!F52","v":15},6.6666666666666666E-2,{"$f":"IF(D52=0,+'App.2-CG_NewCGAAP_DepExp_2013'!O52,+'App.2-CG_NewCGAAP_DepExp_2013'!O52+((C52*0.5)/D52))","v":267860.22677730315},303228.31,-35368.083222696849,43333.333333333336,null,{"$f":"IF(ISERROR(+I52+'App.2-CG_NewCGAAP_DepExp_2013'!O52-J52), 0, +I52+'App.2-CG_NewCGAAP_DepExp_2013'!O52-J52)","v":289526.89344396978}]
[{"$f":"'App.2-CG_NewCGAAP_DepExp_2013'!A53","v":1930},{"$f":"'App.2-CG_NewCGAAP_DepExp_2013'!B53","v":"Transportation Equipment (1933) Trailers"},22000,{"$f":"'App.2-CG_NewCGAAP_DepExp_2013'!F53","v":20},0.05,{"$f":"IF(D53=0,+'App.2-CG_NewCGAAP_DepExp_2013'!O53,+'App.2-CG_NewCGAAP_DepExp_2013'!O53+((C53*0.5)/D53))","v":5993.4163413999486},6133.61,-140.19365860005109,1100,null,{"$f":"IF(ISERROR(+I53+'App.2-CG_NewCGAAP_DepExp_2013'!O53-J53), 0, +I53+'App.2-CG_NewCGAAP_DepExp_2013'!O53-J53)","v":6543.4163413999486}]
[{"$f":"'App.2-CG_NewCGAAP_DepExp_2013'!A54","v":1935},{"$f":"'App.2-CG_NewCGAAP_DepExp_2013'!B54","v":"Stores Equipment"},75000,{"$f":"'App.2-CG_NewCGAAP_DepExp_2013'!F54","v":10},0.1,{"$f":"IF(D54=0,+'App.2-CG_NewCGAAP_DepExp_2013'!O54,+'App.2-CG_NewCGAAP_DepExp_2013'!O54+((C54*0.5)/D54))","v":9174.2799999999988},9174.2800000000007,-1.8189894035458565E-12,7500,null,{"$f":"IF(ISERROR(+I54+'App.2-CG_NewCGAAP_DepExp_2013'!O54-J54), 0, +I54+'App.2-CG_NewCGAAP_DepExp_2013'!O54-J54)","v":12924.279999999999}]
[{"$f":"'App.2-CG_NewCGAAP_DepExp_2013'!A55","v":1940},{"$f":"'App.2-CG_NewCGAAP_DepExp_2013'!B55","v":"Tools, Shop & Garage Equipment"},67000,{"$f":"'App.2-CG_NewCGAAP_DepExp_2013'!F55","v":10},0.1,{"$f":"IF(D55=0,+'App.2-CG_NewCGAAP_DepExp_2013'!O55,+'App.2-CG_NewCGAAP_DepExp_2013'!O55+((C55*0.5)/D55))","v":82917.251057245987},78814.84,4102.4110572459904,6700,null,{"$f":"IF(ISERROR(+I55+'App.2-CG_NewCGAAP_DepExp_2013'!O55-J55), 0, +I55+'App.2-CG_NewCGAAP_DepExp_2013'!O55-J55)","v":86267.251057245987}]
[{"$f":"'App.2-CG_NewCGAAP_DepExp_2013'!A56","v":1945},{"$f":"'App.2-CG_NewCGAAP_DepExp_2013'!B56","v":"Measurement & Testing Equipment"},null,{"$f":"'App.2-CG_NewCGAAP_DepExp_2013'!F56","v":5},0.2,{"$f":"IF(D56=0,+'App.2-CG_NewCGAAP_DepExp_2013'!O56,+'App.2-CG_NewCGAAP_DepExp_2013'!O56+((C56*0.5)/D56))","v":7508.17},5092.2299999999996,2415.9400000000005,0,null,{"$f":"IF(ISERROR(+I56+'App.2-CG_NewCGAAP_DepExp_2013'!O56-J56), 0, +I56+'App.2-CG_NewCGAAP_DepExp_2013'!O56-J56)","v":7508.17}]
[{"$f":"'App.2-CG_NewCGAAP_DepExp_2013'!A57","v":1950},{"$f":"'App.2-CG_NewCGAAP_DepExp_2013'!B57","v":"Power Operated Equipment"},null,{"$f":"'App.2-CG_NewCGAAP_DepExp_2013'!F57","v":0},0,{"$f":"IF(D57=0,+'App.2-CG_NewCGAAP_DepExp_2013'!O57,+'App.2-CG_NewCGAAP_DepExp_2013'!O57+((C57*0.5)/D57))","v":0},null,0,0,null,{"$f":"IF(ISERROR(+I57+'App.2-CG_NewCGAAP_DepExp_2013'!O57-J57), 0, +I57+'App.2-CG_NewCGAAP_DepExp_2013'!O57-J57)","v":0}]
[{"$f":"'App.2-CG_NewCGAAP_DepExp_2013'!A58","v":1955},{"$f":"'App.2-CG_NewCGAAP_DepExp_2013'!B58","v":"Communications Equipment"},227500,{"$f":"'App.2-CG_NewCGAAP_DepExp_2013'!F58","v":20},0.05,{"$f":"IF(D58=0,+'App.2-CG_NewCGAAP_DepExp_2013'!O58,+'App.2-CG_NewCGAAP_DepExp_2013'!O58+((C58*0.5)/D58))","v":42299.78},40433.97,1865.8099999999977,11375,null,{"$f":"IF(ISERROR(+I58+'App.2-CG_NewCGAAP_DepExp_2013'!O58-J58), 0, +I58+'App.2-CG_NewCGAAP_DepExp_2013'!O58-J58)","v":47987.28}]
[{"$f":"'App.2-CG_NewCGAAP_DepExp_2013'!A59","v":1955},{"$f":"'App.2-CG_NewCGAAP_DepExp_2013'!B59","v":"Communication Equipment (Smart Meters)"},null,{"$f":"'App.2-CG_NewCGAAP_DepExp_2013'!F59","v":0},0,{"$f":"IF(D59=0,+'App.2-CG_NewCGAAP_DepExp_2013'!O59,+'App.2-CG_NewCGAAP_DepExp_2013'!O59+((C59*0.5)/D59))","v":0},null,0,0,null,{"$f":"IF(ISERROR(+I59+'App.2-CG_NewCGAAP_DepExp_2013'!O59-J59), 0, +I59+'App.2-CG_NewCGAAP_DepExp_2013'!O59-J59)","v":0}]
[{"$f":"'App.2-CG_NewCGAAP_DepExp_2013'!A60","v":1960},{"$f":"'App.2-CG_NewCGAAP_DepExp_2013'!B60","v":"Miscellaneous Equipment "},null,{"$f":"'App.2-CG_NewCGAAP_DepExp_2013'!F60","v":5},0.2,{"$f":"IF(D60=0,+'App.2-CG_NewCGAAP_DepExp_2013'!O60,+'App.2-CG_NewCGAAP_DepExp_2013'!O60+((C60*0.5)/D60))","v":3318.45},2071.84,1246.6099999999997,0,null,{"$f":"IF(ISERROR(+I60+'App.2-CG_NewCGAAP_DepExp_2013'!O60-J60), 0, +I60+'App.2-CG_NewCGAAP_DepExp_2013'!O60-J60)","v":3318.45}]
[{"$f":"'App.2-CG_NewCGAAP_DepExp_2013'!A61","v":1970},{"$f":"'App.2-CG_NewCGAAP_DepExp_2013'!B61","v":"Load Management Controls - Customer Premises"},null,{"$f":"'App.2-CG_NewCGAAP_DepExp_2013'!F61","v":0},0,{"$f":"IF(D61=0,+'App.2-CG_NewCGAAP_DepExp_2013'!O61,+'App.2-CG_NewCGAAP_DepExp_2013'!O61+((C61*0.5)/D61))","v":0},null,0,0,null,{"$f":"IF(ISERROR(+I61+'App.2-CG_NewCGAAP_DepExp_2013'!O61-J61), 0, +I61+'App.2-CG_NewCGAAP_DepExp_2013'!O61-J61)","v":0}]
[{"$f":"'App.2-CG_NewCGAAP_DepExp_2013'!A62","v":1975},{"$f":"'App.2-CG_NewCGAAP_DepExp_2013'!B62","v":"Load Management Controls Utility Premises"},null,{"$f":"'App.2-CG_NewCGAAP_DepExp_2013'!F62","v":0},0,{"$f":"IF(D62=0,+'App.2-CG_NewCGAAP_DepExp_2013'!O62,+'App.2-CG_NewCGAAP_DepExp_2013'!O62+((C62*0.5)/D62))","v":0},null,0,0,null,{"$f":"IF(ISERROR(+I62+'App.2-CG_NewCGAAP_DepExp_2013'!O62-J62), 0, +I62+'App.2-CG_NewCGAAP_DepExp_2013'!O62-J62)","v":0}]
[{"$f":"'App.2-CG_NewCGAAP_DepExp_2013'!A63","v":1980},{"$f":"'App.2-CG_NewCGAAP_DepExp_2013'!B63","v":"System Supervisor Equipment"},null,{"$f":"'App.2-CG_NewCGAAP_DepExp_2013'!F63","v":15},6.6666666666666666E-2,{"$f":"IF(D63=0,+'App.2-CG_NewCGAAP_DepExp_2013'!O63,+'App.2-CG_NewCGAAP_DepExp_2013'!O63+((C63*0.5)/D63))","v":0},0,0,0,null,{"$f":"IF(ISERROR(+I63+'App.2-CG_NewCGAAP_DepExp_2013'!O63-J63), 0, +I63+'App.2-CG_NewCGAAP_DepExp_2013'!O63-J63)","v":0}]
[{"$f":"'App.2-CG_NewCGAAP_DepExp_2013'!A64","v":1985},{"$f":"'App.2-CG_NewCGAAP_DepExp_2013'!B64","v":"Miscellaneous Fixed Assets"},null,{"$f":"'App.2-CG_NewCGAAP_DepExp_2013'!F64","v":0},0,{"$f":"IF(D64=0,+'App.2-CG_NewCGAAP_DepExp_2013'!O64,+'App.2-CG_NewCGAAP_DepExp_2013'!O64+((C64*0.5)/D64))","v":0},null,0,0,null,{"$f":"IF(ISERROR(+I64+'App.2-CG_NewCGAAP_DepExp_2013'!O64-J64), 0, +I64+'App.2-CG_NewCGAAP_DepExp_2013'!O64-J64)","v":0}]
[{"$f":"'App.2-CG_NewCGAAP_DepExp_2013'!A65","v":1990},{"$f":"'App.2-CG_NewCGAAP_DepExp_2013'!B65","v":"Other Tangible Property"},null,{"$f":"'App.2-CG_NewCGAAP_DepExp_2013'!F65","v":0},0,{"$f":"IF(D65=0,+'App.2-CG_NewCGAAP_DepExp_2013'!O65,+'App.2-CG_NewCGAAP_DepExp_2013'!O65+((C65*0.5)/D65))","v":0},null,0,0,null,{"$f":"IF(ISERROR(+I65+'App.2-CG_NewCGAAP_DepExp_2013'!O65-J65), 0, +I65+'App.2-CG_NewCGAAP_DepExp_2013'!O65-J65)","v":0}]
[{"$f":"'App.2-CG_NewCGAAP_DepExp_2013'!A66","v":1995},{"$f":"'App.2-CG_NewCGAAP_DepExp_2013'!B66","v":"Contributions & Grants"},-900000.0399999998,{"$f":"'App.2-CG_NewCGAAP_DepExp_2013'!F66","v":25},0.04,{"$f":"IF(D66=0,+'App.2-CG_NewCGAAP_DepExp_2013'!O66,+'App.2-CG_NewCGAAP_DepExp_2013'!O66+((C66*0.5)/D66))","v":-848088.04144063906},-845482.5,-2605.5414406390628,-36000.001599999989,null,{"$f":"IF(ISERROR(+I66+'App.2-CG_NewCGAAP_DepExp_2013'!O66-J66), 0, +I66+'App.2-CG_NewCGAAP_DepExp_2013'!O66-J66)","v":-866088.04224063898}]
[null,"Total",{"$f":"SUM(C17:C66)","v":14788438.910000002},null,null,{"$f":"SUM(F17:F66)","v":5376168.4973838534},5678060.7800000003,-301892.28261614754,781584.90875238075,1056806.2000000002,4710154.7517600441]
[null,"Depreciation exp. adj. from gain or loss on the retirement of assets (pool of like assets)"]
[null,"Total Depreciation Expense",null,null,null,{"$f":"SUM(F67:F68)","v":5376168.4973838534}]
[]
["Notes:"]
[1,"Board policy of the \"half-year\" rule - the applicant must ensure that additions in the year attract a half-year depreciation expense in the first year.  Deviations from this standard practice must be supported in the application."]
[2,"The applicant must provide an explanation of material variances in evidence."]
[3,"This column refers to the calculated full year depreciation but excludes the depreciation expense on assets fully depreciated during the year.  This column is used for the purpose of calculating depreciation expense in the following year on the next worksheet."]
[]
["General:","Applicants must provide a breakdown of depreciation and amortization expense in the above format for all relevant accounts.  Asset Retirement Obligations (AROs), depreciation and accretion expense should be disclosed separately consistent with the Notes of historical Audited Financial Statements."]

{"sheet":"App.2-CI MIFRS_DepExp_2015","index":26,"n_rows":74,"n_cols":8,"rows_kept":74,"cut":false,"hidden":false,"merged":[[10,0,10,7],[9,0,9,8],[14,1,15,1],[14,6,15,6],[8,0,8,7],[72,1,72,8],[73,1,74,7],[70,1,70,7],[71,1,71,8],[68,1,68,4]]}
[null,null,null,null,null,null,"File Number:",{"$f":"EBNUMBER","v":"EB-2014-0096"}]
[null,null,null,null,null,null,"Exhibit:",4]
[null,null,null,null,null,null,"Tab:",4]
[null,null,null,null,null,null,"Schedule:",1]
[null,null,null,null,null,null,"Page:",3]
[]
[null,null,null,null,null,null,"Date:","2014-08-29"]
[]
["Appendix 2-CI"]
["Depreciation and Amortization Expense"]
["Assumes the applicant made capitalization and depreciation expense accounting policy changes under CGAAP effective January 1, 2013 and will adopt IFRS for financial reporting purposes effective January 1, 2015."]
[]
[null,null,null,2015,"MIFRS"]
[]
["Account","Description","Additions","Years (new additions only)","Depreciation Rate on New Additions","2015 Depreciation Expense 1","2015 Depreciation Expense per Appendix 2-BA Fixed Assets, Column J\n (l)","Variance 2"]
[null,null,"(d)","(f)","(g) = 1 / (f)","(h)=2014 Full Year Depreciation + ((d)*0.5)/(f) ",null,"(m) = (h) - (l)"]
[{"$f":"'App.2-CH_MIFRS_DepExp_2014'!A17","v":1611},{"$f":"'App.2-CH_MIFRS_DepExp_2014'!B17","v":"Computer Software (Formally known as Account 1925)"},368740.48,{"$f":"'App.2-CH_MIFRS_DepExp_2014'!D17","v":3},{"$f":"IF(D17=0,0,1/D17)","v":0.33333333333333331},{"$f":"IF(D17=0,'App.2-CH_MIFRS_DepExp_2014'!K17,+'App.2-CH_MIFRS_DepExp_2014'!K17+((C17*0.5)/D17))","v":105611.78777986162},78908.694444444962,{"$f":"IF(ISERROR(+F17-G17), 0, +F17-G17)","v":26703.093335416663}]
[{"$f":"'App.2-CH_MIFRS_DepExp_2014'!A18","v":1612},{"$f":"'App.2-CH_MIFRS_DepExp_2014'!B18","v":"Land Rights (Formally known as Account 1906)"},null,{"$f":"'App.2-CH_MIFRS_DepExp_2014'!D18","v":25},{"$f":"IF(D18=0,0,1/D18)","v":0.04},{"$f":"IF(D18=0,'App.2-CH_MIFRS_DepExp_2014'!K18,+'App.2-CH_MIFRS_DepExp_2014'!K18+((C18*0.5)/D18))","v":57066.150781907229},57066.567599999951,-0.41681809272267856]
[{"$f":"'App.2-CH_MIFRS_DepExp_2014'!A19","v":1805},{"$f":"'App.2-CH_MIFRS_DepExp_2014'!B19","v":"Land"},null,{"$f":"'App.2-CH_MIFRS_DepExp_2014'!D19","v":0},0,{"$f":"IF(D19=0,'App.2-CH_MIFRS_DepExp_2014'!K19,+'App.2-CH_MIFRS_DepExp_2014'!K19+((C19*0.5)/D19))","v":0},null,0]
[{"$f":"'App.2-CH_MIFRS_DepExp_2014'!A20","v":1808},{"$f":"'App.2-CH_MIFRS_DepExp_2014'!B20","v":"Buildings"},null,{"$f":"'App.2-CH_MIFRS_DepExp_2014'!D20","v":50},0.02,{"$f":"IF(D20=0,'App.2-CH_MIFRS_DepExp_2014'!K20,+'App.2-CH_MIFRS_DepExp_2014'!K20+((C20*0.5)/D20))","v":0},null,0]
[{"$f":"'App.2-CH_MIFRS_DepExp_2014'!A21","v":1810},{"$f":"'App.2-CH_MIFRS_DepExp_2014'!B21","v":"Leasehold Improvements"},null,{"$f":"'App.2-CH_MIFRS_DepExp_2014'!D21","v":0},0,{"$f":"IF(D21=0,'App.2-CH_MIFRS_DepExp_2014'!K21,+'App.2-CH_MIFRS_DepExp_2014'!K21+((C21*0.5)/D21))","v":0},null,0]
[{"$f":"'App.2-CH_MIFRS_DepExp_2014'!A22","v":1815},{"$f":"'App.2-CH_MIFRS_DepExp_2014'!B22","v":"Transformer Station Equipment >50 kV (1708,1740,1745)"},null,{"$f":"'App.2-CH_MIFRS_DepExp_2014'!D22","v":50},0.02,{"$f":"IF(D22=0,'App.2-CH_MIFRS_DepExp_2014'!K22,+'App.2-CH_MIFRS_DepExp_2014'!K22+((C22*0.5)/D22))","v":76660.28},76660.280000000028,-2.9103830456733704E-11]
[{"$f":"'App.2-CH_MIFRS_DepExp_2014'!A23","v":1815},{"$f":"'App.2-CH_MIFRS_DepExp_2014'!B23","v":"Transformer Station Equipment >50 kV (1715, 1815, 17)"},null,{"$f":"'App.2-CH_MIFRS_DepExp_2014'!D23","v":45},2.2222222222222223E-2,{"$f":"IF(D23=0,'App.2-CH_MIFRS_DepExp_2014'!K23,+'App.2-CH_MIFRS_DepExp_2014'!K23+((C23*0.5)/D23))","v":36487.669418855905},36488.102543843677,-0.43312498777231667]
[{"$f":"'App.2-CH_MIFRS_DepExp_2014'!A24","v":1815},{"$f":"'App.2-CH_MIFRS_DepExp_2014'!B24","v":"Transformer Station Equipment >50 kV (1716)"},null,{"$f":"'App.2-CH_MIFRS_DepExp_2014'!D24","v":10},0.1,{"$f":"IF(D24=0,'App.2-CH_MIFRS_DepExp_2014'!K24,+'App.2-CH_MIFRS_DepExp_2014'!K24+((C24*0.5)/D24))","v":-905.38999999999942},-905.19000000000233,-0.19999999999708962]
[{"$f":"'App.2-CH_MIFRS_DepExp_2014'!A25","v":1815},{"$f":"'App.2-CH_MIFRS_DepExp_2014'!B25","v":"Transformer Station Equipment >50 kV (1717)"},null,{"$f":"'App.2-CH_MIFRS_DepExp_2014'!D25","v":40},2.5000000000000001E-2,{"$f":"IF(D25=0,'App.2-CH_MIFRS_DepExp_2014'!K25,+'App.2-CH_MIFRS_DepExp_2014'!K25+((C25*0.5)/D25))","v":13339.39},13339.37786804128,1.2131958719692193E-2]
[{"$f":"'App.2-CH_MIFRS_DepExp_2014'!A26","v":1815},{"$f":"'App.2-CH_MIFRS_DepExp_2014'!B26","v":"Transformer Station Equipment >50 kV (1719)"},null,{"$f":"'App.2-CH_MIFRS_DepExp_2014'!D26","v":20},0.05,{"$f":"IF(D26=0,'App.2-CH_MIFRS_DepExp_2014'!K26,+'App.2-CH_MIFRS_DepExp_2014'!K26+((C26*0.5)/D26))","v":35746.720000000001},35746.730947003962,-1.0947003960609436E-2]
[{"$f":"'App.2-CH_MIFRS_DepExp_2014'!A27","v":1820},{"$f":"'App.2-CH_MIFRS_DepExp_2014'!B27","v":"Distribution Station Equipment <50 kV"},null,{"$f":"'App.2-CH_MIFRS_DepExp_2014'!D27","v":45},2.2222222222222223E-2,{"$f":"IF(D27=0,'App.2-CH_MIFRS_DepExp_2014'!K27,+'App.2-CH_MIFRS_DepExp_2014'!K27+((C27*0.5)/D27))","v":60923.969809788126},60924.274735905914,-0.30492611778754508]
[{"$f":"'App.2-CH_MIFRS_DepExp_2014'!A28","v":1820},{"$f":"'App.2-CH_MIFRS_DepExp_2014'!B28","v":"Distribution Station Equipment <50 kV (1821)"},null,{"$f":"'App.2-CH_MIFRS_DepExp_2014'!D28","v":30},3.3333333333333333E-2,{"$f":"IF(D28=0,'App.2-CH_MIFRS_DepExp_2014'!K28,+'App.2-CH_MIFRS_DepExp_2014'!K28+((C28*0.5)/D28))","v":73678.202851072216},73678.501595400507,-0.29874432829092257]
[{"$f":"'App.2-CH_MIFRS_DepExp_2014'!A29","v":1825},{"$f":"'App.2-CH_MIFRS_DepExp_2014'!B29","v":"Storage Battery Equipment"},null,{"$f":"'App.2-CH_MIFRS_DepExp_2014'!D29","v":0},0,{"$f":"IF(D29=0,'App.2-CH_MIFRS_DepExp_2014'!K29,+'App.2-CH_MIFRS_DepExp_2014'!K29+((C29*0.5)/D29))","v":0},null,0]
[{"$f":"'App.2-CH_MIFRS_DepExp_2014'!A30","v":1830},{"$f":"'App.2-CH_MIFRS_DepExp_2014'!B30","v":"Poles, Towers & Fixtures-Wood poles"},2160317.4909999999,{"$f":"'App.2-CH_MIFRS_DepExp_2014'!D30","v":50},0.02,{"$f":"IF(D30=0,'App.2-CH_MIFRS_DepExp_2014'!K30,+'App.2-CH_MIFRS_DepExp_2014'!K30+((C30*0.5)/D30))","v":462431.22655951022},462430.88478963228,0.34176987793762237]
[{"$f":"'App.2-CH_MIFRS_DepExp_2014'!A31","v":1830},{"$f":"'App.2-CH_MIFRS_DepExp_2014'!B31","v":"Poles, Towers & Fixtures (1831) Concrete"},58750,{"$f":"'App.2-CH_MIFRS_DepExp_2014'!D31","v":60},1.6666666666666666E-2,{"$f":"IF(D31=0,'App.2-CH_MIFRS_DepExp_2014'!K31,+'App.2-CH_MIFRS_DepExp_2014'!K31+((C31*0.5)/D31))","v":35210.479870791081},35210.238536019344,0.24133477173745632]
[{"$f":"'App.2-CH_MIFRS_DepExp_2014'!A32","v":1835},{"$f":"'App.2-CH_MIFRS_DepExp_2014'!B32","v":"Overhead Conductors & Devices"},1164812.1507999999,{"$f":"'App.2-CH_MIFRS_DepExp_2014'!D32","v":60},1.6666666666666666E-2,{"$f":"IF(D32=0,'App.2-CH_MIFRS_DepExp_2014'!K32,+'App.2-CH_MIFRS_DepExp_2014'!K32+((C32*0.5)/D32))","v":288574.20609801472},288574.05760744005,0.14849057467654347]
[{"$f":"'App.2-CH_MIFRS_DepExp_2014'!A33","v":1835},{"$f":"'App.2-CH_MIFRS_DepExp_2014'!B33","v":"Overhead Conductors & Devices (1836)"},101000,{"$f":"'App.2-CH_MIFRS_DepExp_2014'!D33","v":15},6.6666666666666666E-2,{"$f":"IF(D33=0,'App.2-CH_MIFRS_DepExp_2014'!K33,+'App.2-CH_MIFRS_DepExp_2014'!K33+((C33*0.5)/D33))","v":210712.42058663676},210712.60001408122,-0.17942744446918368]
[{"$f":"'App.2-CH_MIFRS_DepExp_2014'!A34","v":1835},{"$f":"'App.2-CH_MIFRS_DepExp_2014'!B34","v":"Overhead Conductors & Devices (1837)"},30162.400000000001,{"$f":"'App.2-CH_MIFRS_DepExp_2014'!D34","v":30},3.3333333333333333E-2,{"$f":"IF(D34=0,'App.2-CH_MIFRS_DepExp_2014'!K34,+'App.2-CH_MIFRS_DepExp_2014'!K34+((C34*0.5)/D34))","v":71266.002666666667},71265.678482488263,0.32418417840381153]
[{"$f":"'App.2-CH_MIFRS_DepExp_2014'!A35","v":1840},{"$f":"'App.2-CH_MIFRS_DepExp_2014'!B35","v":"Underground Conduit"},836869.66,{"$f":"'App.2-CH_MIFRS_DepExp_2014'!D35","v":50},0.02,{"$f":"IF(D35=0,'App.2-CH_MIFRS_DepExp_2014'!K35,+'App.2-CH_MIFRS_DepExp_2014'!K35+((C35*0.5)/D35))","v":200446.26615049245},200446.50500399666,-0.23885350421187468]
[{"$f":"'App.2-CH_MIFRS_DepExp_2014'!A36","v":1845},{"$f":"'App.2-CH_MIFRS_DepExp_2014'!B36","v":"Underground Conductors & Devices"},2444065.4641999998,{"$f":"'App.2-CH_MIFRS_DepExp_2014'!D36","v":35},2.8571428571428571E-2,{"$f":"IF(D36=0,'App.2-CH_MIFRS_DepExp_2014'!K36,+'App.2-CH_MIFRS_DepExp_2014'!K36+((C36*0.5)/D36))","v":1245374.2845066504},1245374.3602240151,-7.5717364670708776E-2]
[{"$f":"'App.2-CH_MIFRS_DepExp_2014'!A37","v":1845},{"$f":"'App.2-CH_MIFRS_DepExp_2014'!B37","v":"Underground Conductors & Devices (1846)"},561196.24800000002,{"$f":"'App.2-CH_MIFRS_DepExp_2014'!D37","v":30},3.3333333333333333E-2,{"$f":"IF(D37=0,'App.2-CH_MIFRS_DepExp_2014'!K37,+'App.2-CH_MIFRS_DepExp_2014'!K37+((C37*0.5)/D37))","v":59598.931214947013},59598.726629952202,0.20458499481173931]
[{"$f":"'App.2-CH_MIFRS_DepExp_2014'!A38","v":1850},{"$f":"'App.2-CH_MIFRS_DepExp_2014'!B38","v":"Line Transformers (1850) Polemount"},885008.16399999987,{"$f":"'App.2-CH_MIFRS_DepExp_2014'!D38","v":40},2.5000000000000001E-2,{"$f":"IF(D38=0,'App.2-CH_MIFRS_DepExp_2014'!K38,+'App.2-CH_MIFRS_DepExp_2014'!K38+((C38*0.5)/D38))","v":243964.70834662564},243964.79270502459,-8.4358398948097602E-2]
[{"$f":"'App.2-CH_MIFRS_DepExp_2014'!A39","v":1850},{"$f":"'App.2-CH_MIFRS_DepExp_2014'!B39","v":"Line Transformers (1853) Padmount"},662260,{"$f":"'App.2-CH_MIFRS_DepExp_2014'!D39","v":30},3.3333333333333333E-2,{"$f":"IF(D39=0,'App.2-CH_MIFRS_DepExp_2014'!K39,+'App.2-CH_MIFRS_DepExp_2014'!K39+((C39*0.5)/D39))","v":522072.22766209667},522072.12337522954,0.10428686713567004]
[{"$f":"'App.2-CH_MIFRS_DepExp_2014'!A40","v":1855},{"$f":"'App.2-CH_MIFRS_DepExp_2014'!B40","v":"Services (Overhead & Underground)"},1018442.5165,{"$f":"'App.2-CH_MIFRS_DepExp_2014'!D40","v":25},0.04,{"$f":"IF(D40=0,'App.2-CH_MIFRS_DepExp_2014'!K40,+'App.2-CH_MIFRS_DepExp_2014'!K40+((C40*0.5)/D40))","v":280050.99030064163},280050.81513,0.17517064162530005]
[{"$f":"'App.2-CH_MIFRS_DepExp_2014'!A41","v":1860},{"$f":"'App.2-CH_MIFRS_DepExp_2014'!B41","v":"Meters"},284541,{"$f":"'App.2-CH_MIFRS_DepExp_2014'!D41","v":20},0.05,{"$f":"IF(D41=0,'App.2-CH_MIFRS_DepExp_2014'!K41,+'App.2-CH_MIFRS_DepExp_2014'!K41+((C41*0.5)/D41))","v":186489.33987681314},186489.24497101363,9.4905799516709521E-2]
[{"$f":"'App.2-CH_MIFRS_DepExp_2014'!A42","v":1860},{"$f":"'App.2-CH_MIFRS_DepExp_2014'!B42","v":"Meters (Smart Meters)"},143150,{"$f":"'App.2-CH_MIFRS_DepExp_2014'!D42","v":15},6.6666666666666666E-2,{"$f":"IF(D42=0,'App.2-CH_MIFRS_DepExp_2014'!K42,+'App.2-CH_MIFRS_DepExp_2014'!K42+((C42*0.5)/D42))","v":395497.91190633125},405161.58666666667,-9663.6747603354161]
[{"$f":"'App.2-CH_MIFRS_DepExp_2014'!A43","v":1905},{"$f":"'App.2-CH_MIFRS_DepExp_2014'!B43","v":"Land"},null,{"$f":"'App.2-CH_MIFRS_DepExp_2014'!D43","v":0},0,{"$f":"IF(D43=0,'App.2-CH_MIFRS_DepExp_2014'!K43,+'App.2-CH_MIFRS_DepExp_2014'!K43+((C43*0.5)/D43))","v":0},null,0]
[{"$f":"'App.2-CH_MIFRS_DepExp_2014'!A44","v":1908},{"$f":"'App.2-CH_MIFRS_DepExp_2014'!B44","v":"Buildings & Fixtures"},44000,{"$f":"'App.2-CH_MIFRS_DepExp_2014'!D44","v":60},1.6666666666666666E-2,{"$f":"IF(D44=0,'App.2-CH_MIFRS_DepExp_2014'!K44,+'App.2-CH_MIFRS_DepExp_2014'!K44+((C44*0.5)/D44))","v":272702.20072761946},281046.67453333322,-8344.4738057137583]
[{"$f":"'App.2-CH_MIFRS_DepExp_2014'!A45","v":1910},{"$f":"'App.2-CH_MIFRS_DepExp_2014'!B45","v":"Leasehold Improvements"},null,{"$f":"'App.2-CH_MIFRS_DepExp_2014'!D45","v":0},0,{"$f":"IF(D45=0,'App.2-CH_MIFRS_DepExp_2014'!K45,+'App.2-CH_MIFRS_DepExp_2014'!K45+((C45*0.5)/D45))","v":0},null,0]
[{"$f":"'App.2-CH_MIFRS_DepExp_2014'!A46","v":1915},{"$f":"'App.2-CH_MIFRS_DepExp_2014'!B46","v":"Office Furniture & Equipment (10 years)"},32823.805637439997,{"$f":"'App.2-CH_MIFRS_DepExp_2014'!D46","v":10},0.1,{"$f":"IF(D46=0,'App.2-CH_MIFRS_DepExp_2014'!K46,+'App.2-CH_MIFRS_DepExp_2014'!K46+((C46*0.5)/D46))","v":109241.33956655502},97373.020281871548,11868.319284683472]
[{"$f":"'App.2-CH_MIFRS_DepExp_2014'!A47","v":1915},{"$f":"'App.2-CH_MIFRS_DepExp_2014'!B47","v":"Office Furniture & Equipment (5 years)"},null,{"$f":"'App.2-CH_MIFRS_DepExp_2014'!D47","v":0},0,{"$f":"IF(D47=0,'App.2-CH_MIFRS_DepExp_2014'!K47,+'App.2-CH_MIFRS_DepExp_2014'!K47+((C47*0.5)/D47))","v":0},null,0]
[{"$f":"'App.2-CH_MIFRS_DepExp_2014'!A48","v":1920},{"$f":"'App.2-CH_MIFRS_DepExp_2014'!B48","v":"Computer Equipment - Hardware"},240248,{"$f":"'App.2-CH_MIFRS_DepExp_2014'!D48","v":5},0.2,{"$f":"IF(D48=0,'App.2-CH_MIFRS_DepExp_2014'!K48,+'App.2-CH_MIFRS_DepExp_2014'!K48+((C48*0.5)/D48))","v":235370.79558043397},236679.2238666701,-1308.4282862361288]
[{"$f":"'App.2-CH_MIFRS_DepExp_2014'!A49","v":1920},{"$f":"'App.2-CH_MIFRS_DepExp_2014'!B49","v":"Computer Equip.-Hardware(Post Mar. 22/04)"},null,{"$f":"'App.2-CH_MIFRS_DepExp_2014'!D49","v":0},0,{"$f":"IF(D49=0,'App.2-CH_MIFRS_DepExp_2014'!K49,+'App.2-CH_MIFRS_DepExp_2014'!K49+((C49*0.5)/D49))","v":0},null,0]
[{"$f":"'App.2-CH_MIFRS_DepExp_2014'!A50","v":1920},{"$f":"'App.2-CH_MIFRS_DepExp_2014'!B50","v":"Computer Equip.-Hardware(Post Mar. 19/07)"},null,{"$f":"'App.2-CH_MIFRS_DepExp_2014'!D50","v":0},0,{"$f":"IF(D50=0,'App.2-CH_MIFRS_DepExp_2014'!K50,+'App.2-CH_MIFRS_DepExp_2014'!K50+((C50*0.5)/D50))","v":0},null,0]
[{"$f":"'App.2-CH_MIFRS_DepExp_2014'!A51","v":1930},{"$f":"'App.2-CH_MIFRS_DepExp_2014'!B51","v":"Transportation Equipment (1931)"},114085.51912320001,{"$f":"'App.2-CH_MIFRS_DepExp_2014'!D51","v":8},0.125,{"$f":"IF(D51=0,'App.2-CH_MIFRS_DepExp_2014'!K51,+'App.2-CH_MIFRS_DepExp_2014'!K51+((C51*0.5)/D51))","v":81835.087986636747},65720.654945200018,16114.433041436729]
[{"$f":"'App.2-CH_MIFRS_DepExp_2014'!A52","v":1930},{"$f":"'App.2-CH_MIFRS_DepExp_2014'!B52","v":"Transportation Equipment (1932)  Large Trucks"},513992.41779712,{"$f":"'App.2-CH_MIFRS_DepExp_2014'!D52","v":15},6.6666666666666666E-2,{"$f":"IF(D52=0,'App.2-CH_MIFRS_DepExp_2014'!K52,+'App.2-CH_MIFRS_DepExp_2014'!K52+((C52*0.5)/D52))","v":306659.97403720708},342028.06546573807,-35368.091428530985]
[{"$f":"'App.2-CH_MIFRS_DepExp_2014'!A53","v":1930},{"$f":"'App.2-CH_MIFRS_DepExp_2014'!B53","v":"Transportation Equipment (1933) Trailers"},70800,{"$f":"'App.2-CH_MIFRS_DepExp_2014'!D53","v":20},0.05,{"$f":"IF(D53=0,'App.2-CH_MIFRS_DepExp_2014'!K53,+'App.2-CH_MIFRS_DepExp_2014'!K53+((C53*0.5)/D53))","v":8313.4163413999486},8453.6108134864189,-140.19447208647034]
[{"$f":"'App.2-CH_MIFRS_DepExp_2014'!A54","v":1935},{"$f":"'App.2-CH_MIFRS_DepExp_2014'!B54","v":"Stores Equipment"},null,{"$f":"'App.2-CH_MIFRS_DepExp_2014'!D54","v":10},0.1,{"$f":"IF(D54=0,'App.2-CH_MIFRS_DepExp_2014'!K54,+'App.2-CH_MIFRS_DepExp_2014'!K54+((C54*0.5)/D54))","v":12924.279999999999},8799.2799999999697,4125.0000000000291]
[{"$f":"'App.2-CH_MIFRS_DepExp_2014'!A55","v":1940},{"$f":"'App.2-CH_MIFRS_DepExp_2014'!B55","v":"Tools, Shop & Garage Equipment"},60802.699424640006,{"$f":"'App.2-CH_MIFRS_DepExp_2014'!D55","v":10},0.1,{"$f":"IF(D55=0,'App.2-CH_MIFRS_DepExp_2014'!K55,+'App.2-CH_MIFRS_DepExp_2014'!K55+((C55*0.5)/D55))","v":89307.38602847798},78073.024971230654,11234.361057247326]
[{"$f":"'App.2-CH_MIFRS_DepExp_2014'!A56","v":1945},{"$f":"'App.2-CH_MIFRS_DepExp_2014'!B56","v":"Measurement & Testing Equipment"},1000,{"$f":"'App.2-CH_MIFRS_DepExp_2014'!D56","v":5},0.2,{"$f":"IF(D56=0,'App.2-CH_MIFRS_DepExp_2014'!K56,+'App.2-CH_MIFRS_DepExp_2014'!K56+((C56*0.5)/D56))","v":7608.17},3239.1799999999348,4368.9900000000653]
[{"$f":"'App.2-CH_MIFRS_DepExp_2014'!A57","v":1950},{"$f":"'App.2-CH_MIFRS_DepExp_2014'!B57","v":"Power Operated Equipment"},null,{"$f":"'App.2-CH_MIFRS_DepExp_2014'!D57","v":0},0,{"$f":"IF(D57=0,'App.2-CH_MIFRS_DepExp_2014'!K57,+'App.2-CH_MIFRS_DepExp_2014'!K57+((C57*0.5)/D57))","v":0},null,0]
[{"$f":"'App.2-CH_MIFRS_DepExp_2014'!A58","v":1955},{"$f":"'App.2-CH_MIFRS_DepExp_2014'!B58","v":"Communications Equipment"},215000,{"$f":"'App.2-CH_MIFRS_DepExp_2014'!D58","v":20},0.05,{"$f":"IF(D58=0,'App.2-CH_MIFRS_DepExp_2014'!K58,+'App.2-CH_MIFRS_DepExp_2014'!K58+((C58*0.5)/D58))","v":53362.28},51496.469812638796,1865.8101873612031]
[{"$f":"'App.2-CH_MIFRS_DepExp_2014'!A59","v":1955},{"$f":"'App.2-CH_MIFRS_DepExp_2014'!B59","v":"Communication Equipment (Smart Meters)"},null,{"$f":"'App.2-CH_MIFRS_DepExp_2014'!D59","v":0},0,{"$f":"IF(D59=0,'App.2-CH_MIFRS_DepExp_2014'!K59,+'App.2-CH_MIFRS_DepExp_2014'!K59+((C59*0.5)/D59))","v":0},null,0]
[{"$f":"'App.2-CH_MIFRS_DepExp_2014'!A60","v":1960},{"$f":"'App.2-CH_MIFRS_DepExp_2014'!B60","v":"Miscellaneous Equipment "},1000,{"$f":"'App.2-CH_MIFRS_DepExp_2014'!D60","v":5},0.2,{"$f":"IF(D60=0,'App.2-CH_MIFRS_DepExp_2014'!K60,+'App.2-CH_MIFRS_DepExp_2014'!K60+((C60*0.5)/D60))","v":3418.45},249.30000000000291,3169.1499999999969]
[{"$f":"'App.2-CH_MIFRS_DepExp_2014'!A61","v":1970},{"$f":"'App.2-CH_MIFRS_DepExp_2014'!B61","v":"Load Management Controls - Customer Premises"},null,{"$f":"'App.2-CH_MIFRS_DepExp_2014'!D61","v":0},0,{"$f":"IF(D61=0,'App.2-CH_MIFRS_DepExp_2014'!K61,+'App.2-CH_MIFRS_DepExp_2014'!K61+((C61*0.5)/D61))","v":0},null,0]
[{"$f":"'App.2-CH_MIFRS_DepExp_2014'!A62","v":1975},{"$f":"'App.2-CH_MIFRS_DepExp_2014'!B62","v":"Load Management Controls Utility Premises"},null,{"$f":"'App.2-CH_MIFRS_DepExp_2014'!D62","v":0},0,{"$f":"IF(D62=0,'App.2-CH_MIFRS_DepExp_2014'!K62,+'App.2-CH_MIFRS_DepExp_2014'!K62+((C62*0.5)/D62))","v":0},null,0]
[{"$f":"'App.2-CH_MIFRS_DepExp_2014'!A63","v":1980},{"$f":"'App.2-CH_MIFRS_DepExp_2014'!B63","v":"System Supervisor Equipment"},null,{"$f":"'App.2-CH_MIFRS_DepExp_2014'!D63","v":15},6.6666666666666666E-2,{"$f":"IF(D63=0,'App.2-CH_MIFRS_DepExp_2014'!K63,+'App.2-CH_MIFRS_DepExp_2014'!K63+((C63*0.5)/D63))","v":0},null,0]
[{"$f":"'App.2-CH_MIFRS_DepExp_2014'!A64","v":1985},{"$f":"'App.2-CH_MIFRS_DepExp_2014'!B64","v":"Miscellaneous Fixed Assets"},null,{"$f":"'App.2-CH_MIFRS_DepExp_2014'!D64","v":0},{"$f":"IF(D64=0,0,1/D64)","v":0},{"$f":"IF(D64=0,'App.2-CH_MIFRS_DepExp_2014'!K64,+'App.2-CH_MIFRS_DepExp_2014'!K64+((C64*0.5)/D64))","v":0},null,0]
[{"$f":"'App.2-CH_MIFRS_DepExp_2014'!A65","v":1990},{"$f":"'App.2-CH_MIFRS_DepExp_2014'!B65","v":"Other Tangible Property"},null,{"$f":"'App.2-CH_MIFRS_DepExp_2014'!D65","v":0},{"$f":"IF(D65=0,0,1/D65)","v":0},{"$f":"IF(D65=0,'App.2-CH_MIFRS_DepExp_2014'!K65,+'App.2-CH_MIFRS_DepExp_2014'!K65+((C65*0.5)/D65))","v":0},null,0]
[{"$f":"'App.2-CH_MIFRS_DepExp_2014'!A66","v":1995},{"$f":"'App.2-CH_MIFRS_DepExp_2014'!B66","v":"Contributions & Grants"},-827800,{"$f":"'App.2-CH_MIFRS_DepExp_2014'!D66","v":25},{"$f":"IF(D66=0,0,1/D66)","v":0.04},{"$f":"IF(D66=0,'App.2-CH_MIFRS_DepExp_2014'!K66,+'App.2-CH_MIFRS_DepExp_2014'!K66+((C66*0.5)/D66))","v":-882644.04224063898},-879538.50239999965,-3105.539840639336]
[null,"Total",{"$f":"SUM(C17:C66)","v":11185268.016482398},null,null,{"$f":"SUM(F17:F66)","v":4958397.1144153923},{"$f":"SUM(G17:G66)","v":4936878.9561603703},{"$f":"SUM(H17:H66)","v":21518.158255025093}]
[null,"Depreciation exp. adj. from gain or loss on the retirement of assets (pool of like assets)"]
[null,"Total Depreciation expense to be included in the test year revenue requirement",null,null,null,{"$f":"SUM(F67:F68)","v":4958397.1144153923}]
["Notes:"]
[1,"Board policy of the \"half-year\" rule - the applicant must ensure that additions in the year attract a half-year depreciation expense in the first year.  Deviations from this standard practice must be supported in the application."]
[2,"The applicant must provide an explanation of material variances in evidence."]
[]
["General:","Applicants must provide a breakdown of depreciation and amortization expense in the above format for all relevant accounts.  Asset Retirement Obligations (AROs), depreciation and accretion expense should be disclosed separately consistent with the Notes of historical Audited Financial Statements."]

{"sheet":"App.2-D_Overhead","index":27,"n_rows":49,"n_cols":8,"rows_kept":49,"cut":false,"hidden":false,"merged":[[63,0,64,0],[49,0,50,0],[49,1,50,1],[52,0,53,0],[55,0,56,0],[58,0,61,0],[8,0,8,7],[9,0,9,7],[13,0,15,0],[30,0,32,0],[30,7,32,7],[11,0,11,5],[28,0,28,5]]}
[null,null,null,null,null,"File Number:",{"$f":"EBNUMBER","v":"EB-2014-0096"}]
[null,null,null,null,null,"Exhibit:",4]
[null,null,null,null,null,"Tab:",2]
[null,null,null,null,null,"Schedule:",1]
[null,null,null,null,null,"Page:",4]
[]
[null,null,null,null,null,"Date:","2014-08-29"]
[]
["Appendix 2-D"]
["Overhead Expense"]
[]
["Applicants are to provide a breakdown of OM&A before capitalization in the below table.  OM&A before capitalization may be broken down by cost center, program, drivers or another format best suited to focus on capitalized vs. uncapitalized OM&A."]
[]
[" OM&A Before Capitalization"]
[null,2011,2012,2013,2014,2015]
[null,"Historical Year","Historical Year","Historical Year","Bridge Year","Test Year"]
["Total wages as per Appendix 2K (T4 earnings for 2011, 2012 and 2013)",9546131.3800000027,10152180.730000002,10612484.32,10874153.642466247,11156959.68635015]
[]
[]
[]
[]
[]
[]
[]
[]
[]
["Total OM&A Before Capitalization (B)",{"$f":"SUM(B17:B26)","v":9546131.3800000027},{"$f":"SUM(C17:C26)","v":10152180.730000002},{"$f":"SUM(D17:D26)","v":10612484.32},{"$f":"SUM(E17:E26)","v":10874153.642466247},{"$f":"SUM(F17:F26)","v":11156959.68635015}]
[]
["Applicants are to provide a breakdown of capitalized OM&A in the below table.  Capitalized OM&A may be broken down using the categories listed in the table below if possible.  Otherwise, applicants are to provide its own break down of capitalized OM&A."]
[]
["Capitalized OM&A",null,null,null,null,null,"Directly","Explanation for Change in Overhead Capitalized"]
[null,2011,2012,2013,2014,2015,"Attributable?"]
[null,"Historical Year","Historical Year","Historical Year","Bridge Year","Test Year","(Y/N)"]
["employee benefits",4454193.3099999996,4706762.8899999997,5075419.129999999,4940226.2700000005,4984070.2275,"Y","NPEI does not have any changes in OH being capitalized"]
["costs of site preparation"]
["initial delivery and handling costs"]
["costs of testing whether the asset is functioning properly"]
["professional fees"]
[]
["costs of opening a new facility"]
["costs of introducing a new product or service (including costs of advertising and promotional activities)"]
["costs of conducting business in a new location or with a new class of customer (including costs of staff training)"]
["administration and other general overhead costs"]
[]
["Insert description of additional item(s) and new rows if needed"]
[]
["Total Capitalized OM&A (A)",{"$f":"SUM(B34:B46)","v":4454193.3099999996},{"$f":"SUM(C34:C46)","v":4706762.8899999997},{"$f":"SUM(D34:D46)","v":5075419.129999999},{"$f":"SUM(E34:E46)","v":4940226.2700000005},{"$f":"SUM(F34:F46)","v":4984070.2275}]
[]
["% of Capitalized OM&A (=A/B)",{"$f":"IF(ISERROR(B47/B27),\"0%\",B47/B27)","v":0.46659669060620013},{"$f":"IF(ISERROR(C47/C27),\"0%\",C47/C27)","v":0.46362087271470381},{"$f":"IF(ISERROR(D47/D27),\"0%\",D47/D27)","v":0.4782498590301803},{"$f":"IF(ISERROR(E47/E27),\"0%\",E47/E27)","v":0.45430903704608333},{"$f":"IF(ISERROR(F47/F27),\"0%\",F47/F27)","v":0.44672297539962447}]

{"sheet":"App.2-EA_1575 (2015)","index":28,"n_rows":47,"n_cols":10,"rows_kept":47,"cut":false,"hidden":false,"merged":[[20,1,20,6],[33,1,33,10],[37,7,38,8],[37,9,38,9],[45,0,45,8],[25,1,26,6],[8,0,8,9],[9,0,9,9],[10,0,10,9],[12,0,12,9],[14,0,14,9]]}
[null,null,null,null,null,null,null,null,"File Number:",{"$f":"EBNUMBER","v":"EB-2014-0096"}]
[null,null,null,null,null,null,null,null,"Exhibit:"]
[null,null,null,null,null,null,null,null,"Tab:"]
[null,null,null,null,null,null,null,null,"Schedule:"]
[null,null,null,null,null,null,null,null,"Page:"]
[]
[null,null,null,null,null,null,null,null,"Date:"]
[]
["Appendix 2-EA"]
["Account 1575 - IFRS-CGAAP Transitional PP&E Amounts"]
["2015 Adopters of IFRS for Financial Reporting Purposes"]
[]
["For applicants that will adopt IFRS on January 1, 2015 for financial reporting purposes"]
[]
[]
[]
[null,{"$f":"RebaseYear &\" Rebasing Year\"","v":"2011 Rebasing Year"},2011,2012,2013,2014,"2015 Rebasing Year"]
["Reporting Basis","CGAAP","IRM","IRM","IRM","IRM","MIFRS"]
[null,"Forecast","Actual","Actual","Actual","Forecast","Forecast"]
[null,null,null,null,null,"$","$"]
["PP&E Values under CGAAP"]
["            Opening net PP&E - Note 1"]
["            Net Additions - Note 4"]
["            Net Depreciation (amounts should be negative) - Note 4"]
["            Closing net PP&E (1)",null,null,null,null,{"$f":"SUM(F22:F24)","v":0}]
[]
["PP&E Values under MIFRS (Starts from 2014, the transition year)"]
["            Opening net PP&E  - Note 1"]
["            Net Additions - Note 4"]
["            Net Depreciation (amounts should be negative) - Note 4"]
["            Closing net PP&E (2)",null,null,null,null,{"$f":"SUM(F28:F30)","v":0}]
[]
["Difference in Closing net PP&E, CGAAP vs. MIFRS",null,null,null,null,{"$f":"F25-F31","v":0}]
[]
[]
["Effect on Deferral and Variance Account Rate Riders"]
["Closing balance in deferral account",null,null,null,null,null,{"$f":"IF(ISERROR(F33), 0, F33)","v":0},null,"WACC"]
["Return on Rate Base Associated with deferred PP&E balance at WACC  - Note 2",null,null,null,null,null,{"$f":"F33*J37*J38","v":0},"# of years of rate rider disposition period"]
["     Amount included in Deferral and Variance Account Rate Rider Calculation",null,null,null,null,null,{"$f":"G37+G38","v":0}]
[]
["Notes:"]
["1  For an applicant that adopts IFRS on January 1, 2015, the PP&E values as of January 1, 2014 under both CGAAP and MIFRS should be the same. "]
["2 Return on rate base associated with deferred balance is calculated as:"]
["     the deferral account opening balance as of 2015 rebasing year x WACC X # of years of rate rider disposition period"]
["     * Please note that the calculation should be adjusted once WACC is updated and finalized in the rate application."]
["3  The  PP&E deferral account is cleared by including the total balance in the deferral and variance account rate rider calculation."]
["4  Net additions are additions net of disposals; Net depreciation is additions to depreciation net of disposals."]

{"sheet":"App.2-EB_Account 1576 (2012)","index":29,"n_rows":47,"n_cols":10,"rows_kept":47,"cut":false,"hidden":false,"merged":[[45,0,45,8],[41,0,41,10],[31,1,31,6],[25,1,26,6],[20,1,20,6],[37,7,38,8],[37,9,38,9],[19,1,19,2],[8,0,8,9],[9,0,9,9],[10,0,10,9],[14,0,14,9],[12,0,12,9]]}
[null,null,null,null,null,null,null,null,"File Number:",{"$f":"EBNUMBER","v":"EB-2014-0096"}]
[null,null,null,null,null,null,null,null,"Exhibit:"]
[null,null,null,null,null,null,null,null,"Tab:"]
[null,null,null,null,null,null,null,null,"Schedule:"]
[null,null,null,null,null,null,null,null,"Page:"]
[]
[null,null,null,null,null,null,null,null,"Date:"]
[]
["Appendix 2-EB"]
["Account 1576 - Accounting Changes under CGAAP"]
["2012 Changes in Accounting Policies under CGAAP"]
[]
["For applicants that made capitalization and depreciation expense accounting policy changes under CGAAP effective January 1, 2012"]
[]
[]
[]
[null,{"$f":"RebaseYear &\" Rebasing Year\"","v":"2011 Rebasing Year"},2011,2012,2013,2014,"2015 Rebasing Year"]
["Reporting Basis","CGAAP","IRM","IRM","IRM","IRM","MIFRS"]
[null,"Forecast","Actual","Actual","Actual","Forecast","Forecast"]
[null,null,null,"$",null,"$","$"]
["PP&E Values under former CGAAP"]
["            Opening net PP&E - Note 1",null,null,null,{"$f":"+D25","v":0},{"$f":"+E25","v":0}]
["            Net Additions - Note 4"]
["            Net Depreciation (amounts should be negative) - Note 4"]
["            Closing net PP&E (1)",null,null,{"$f":"D22+D23+D24","v":0},{"$f":"E22+E23+E24","v":0},{"$f":"F22+F23+F24","v":0}]
[]
["PP&E Values under revised CGAAP (Starts from 2012)"]
["            Opening net PP&E  - Note 1",null,null,null,{"$f":"+D31","v":0},{"$f":"+E31","v":0}]
["            Net Additions - Note 4"]
["            Net Depreciation (amounts should be negative) - Note 4"]
["            Closing net PP&E (2)",null,null,{"$f":"SUM(D28:D30)","v":0},{"$f":"SUM(E28:E30)","v":0},{"$f":"SUM(F28:F30)","v":0}]
[]
["Difference in Closing net PP&E, former CGAAP vs. revised CGAAP ",null,null,{"$f":"D25-D31","v":0},{"$f":"E25-E31","v":0},{"$f":"F25-F31","v":0}]
[]
[]
["Effect on Deferral and Variance Account Rate Riders"]
["Closing balance in Account 1576",null,null,null,null,null,{"$f":"IF(ISERROR(F33), 0, F33)","v":0},null,"WACC"]
["Return on Rate Base Associated with Account 1576 balance at WACC  - Note 2",null,null,null,null,null,{"$f":"F33*J37*J38","v":0},"# of years of rate rider disposition period"]
["     Amount included in Deferral and Variance Account Rate Rider Calculation",null,null,null,null,null,{"$f":"G37+G38","v":0}]
[]
["Notes:"]
["1  For an applicant that made the capitalization and depreciation expense accounting policy changes on January 1, 2012, the PP&E values as of January 1, 2012 under both former CGAAP and revised CGAAP should be the same. "]
["2 Return on rate base associated with Account 1576 balance is calculated as:"]
["     the variance account opening balance as of 2015 rebasing year x WACC X # of years of rate rider disposition period"]
["     * Please note that the calculation should be adjusted once WACC is updated and finalized in the rate application."]
["3  Account 1576 is cleared by including the total balance in the deferral and variance account rate rider calculation."]
["4  Net additions are additions net of disposals; Net depreciation is additions to depreciation net of disposals."]

{"sheet":"App.2-EC_Account 1576 (2013)","index":30,"n_rows":47,"n_cols":10,"rows_kept":47,"cut":false,"hidden":false,"merged":[[20,1,20,6],[52,0,53,9],[8,0,8,9],[9,0,9,9],[10,0,10,9],[14,0,14,9],[47,0,47,10],[37,7,38,8],[37,9,38,9],[41,0,41,10],[45,0,45,8],[31,1,31,6],[25,1,26,6],[12,0,12,9]]}
[null,null,null,null,null,null,null,null,"File Number:",{"$f":"EBNUMBER","v":"EB-2014-0096"}]
[null,null,null,null,null,null,null,null,"Exhibit:",9]
[null,null,null,null,null,null,null,null,"Tab:",3]
[null,null,null,null,null,null,null,null,"Schedule:",8]
[null,null,null,null,null,null,null,null,"Attachment:",2]
[]
[null,null,null,null,null,null,null,null,"Date:","2014-08-29"]
[]
["Appendix 2-EC"]
["Account 1576 - Accounting Changes under CGAAP"]
["2013 Changes in Accounting Policies under CGAAP"]
[]
["For applicants that made capitalization and depreciation expense accounting policy changes under CGAAP effective January 1, 2013"]
[]
[]
[]
[null,{"$f":"RebaseYear &\" Rebasing Year\"","v":"2011 Rebasing Year"},2011,2012,2013,2014,"2015 Rebasing Year"]
["Reporting Basis","CGAAP","IRM","IRM","IRM","IRM","MIFRS"]
[null,"Forecast","Actual","Actual","Actual","Forecast","Forecast"]
[null,null,null,null,null,"$","$"]
["PP&E Values under former CGAAP"]
["            Opening net PP&E - Note 1",null,null,null,{"$f":"'App.2-CG_NewCGAAP_DepExp_2013'!C67","v":103982941.19000001},{"$f":"+E25","v":107312931.76386669}]
["            Net Additions - Note 4",null,null,null,{"$f":"'App.2-CG_NewCGAAP_DepExp_2013'!D67","v":11439655.290000003},{"$f":"F29","v":14788438.91}]
["            Net Depreciation (amounts should be negative) - Note 4",null,null,null,{"$f":"-'App.2-CF_OldCGAAP_DepExp_2013'!K56","v":-8109664.71613333},{"$f":"-'App.2-CH_OldCGAAP_DepExp_2014'!K56","v":-9011922.5496833213}]
["            Closing net PP&E (1)",null,null,null,{"$f":"E22+E23+E24","v":107312931.76386669},{"$f":"SUM(F22:F24)","v":113089448.12418337}]
[]
["PP&E Values under revised CGAAP (Starts from 2013)"]
["            Opening net PP&E  - Note 1",null,null,null,{"$f":"E22","v":103982941.19000001},{"$f":"+E31","v":110367498.43000002}]
["            Net Additions - Note 4",null,null,null,{"$f":"E23","v":11439655.290000003},14788438.91]
["            Net Depreciation (amounts should be negative) - Note 4",null,null,null,{"$f":"-'App.2-CG_NewCGAAP_DepExp_2013'!K67","v":-5055098.0500000017},{"$f":"-'App.2-CH_MIFRS_DepExp_2014'!G67","v":-5678060.7800000003}]
["            Closing net PP&E (2)",null,null,null,{"$f":"SUM(E28:E30)","v":110367498.43000002},{"$f":"SUM(F28:F30)","v":119477876.56000002}]
[]
["Difference in Closing net PP&E, former CGAAP vs. revised CGAAP ",null,null,null,{"$f":"E25-E31","v":-3054566.6661333293},{"$f":"F25-F31","v":-6388428.4358166456}]
[]
[]
["Effect on Deferral and Variance Account Rate Riders"]
["Closing balance in Account 1576",null,null,null,null,null,{"$f":"IF(ISERROR(F33), 0, F33)","v":-6388428.4358166456},null,"WACC",6.2253488591415052E-2]
["Return on Rate Base Associated with Account 1576 balance at WACC  - Note 2",null,null,null,null,null,{"$f":"F33*J37*J38","v":-795403.91349236609},"# of years of rate rider disposition period",null,2]
["     Amount included in Deferral and Variance Account Rate Rider Calculation",null,null,null,null,null,{"$f":"G37+G38","v":-7183832.3493090114}]
[]
["Notes:"]
["1  For an applicant that made the capitalization and depreciation expense accounting policy changes on January 1, 2013, the PP&E values as of January 1, 2013 under both former CGAAP and revised CGAAP should be the same. "]
["2 Return on rate base associated with Account 1576 balance is calculated as:"]
["     the variance account opening balance as of 2015 rebasing year x WACC X # of years of rate rider disposition period"]
["     * Please note that the calculation should be adjusted once WACC is updated and finalized in the rate application."]
["3  Account 1576 is cleared by including the total balance in the deferral and variance account rate rider calculation."]
["4  Net additions are additions net of disposals; Net depreciation is additions to depreciation net of disposals."]

{"sheet":"App.2-FA Proposed REG Invest.","index":31,"n_rows":101,"n_cols":11,"rows_kept":101,"cut":false,"hidden":false,"merged":[[8,0,8,10],[17,0,17,8],[16,0,16,9],[12,0,12,6],[13,0,13,5],[14,0,14,5],[11,0,11,6],[9,0,9,10]]}
[null,null,null,null,null,null,null,null,null,"File Number:",{"$f":"EBNUMBER","v":"EB-2014-0096"}]
[null,null,null,null,null,null,null,null,null,"Exhibit:",2]
[null,null,null,null,null,null,null,null,null,"Tab:",2]
[null,null,null,null,null,null,null,null,null,"Schedule:",7]
[null,null,null,null,null,null,null,null,null,"Page:",1]
[]
[null,null,null,null,null,null,null,null,null,"Date:","2014-08-29"]
[]
["Appendix 2-FA"]
["Renewable Generation Connection Investment Summary (past investments or over the future rate setting period)"]
[]
["Enter the details of the Renewable Generation Connection projects as described in the appropriate section of the Filing Requirements."]
["All costs entered on this page will be transferred to the appropriate cells in the appendices that follow."]
["For Part A, Renewable Enabling Improvements (REI), these amounts will be transferred to Appendix 2 - FB"]
["For Part B, Expansions, these amounts will be transferred to Appendix 2 - FC"]
[]
["If there are more than five projects proposed to be in-service in a certain year, please amend the tables below and ensure that the formulae for the Total Amounts in any given rate year are updated."]
["Based on the current methodology and allocation, amounts allocated represent 6% for REI Connection Investments and 17% for Expansion Investments. (pg 15, EB-2009-0349)"]
[]
["There are two scenarios described below.  Separate sets of spreadsheets (2-FA, 2-FB, 2-FC) should be submited for each scenario as required."]
["Scenario 1:  Past Investments with No Recovery.  The distributor has made investments in the past (during the IRM Years), but has not received approval for these projects and therefore did not receive"]
["revenue from the IESO under Regulation 330/09 and did not receive ratepayer revenue for the direct benefit portion of the investment."]
["The WCA percentage, debt percentages, interest rates, kWh, tax rates, amortization period, CCA Class and percentage should correspond to the distributor's last Cost of Service approval. "]
["The Direct Benefit portion of the calculated Revenue Requirement for each year should be summed and can be applied for recovery from the distributor's ratepayers through a rate rider."]
["The Provincial Recovery portion of the calculated Revenue Requirement for each year should be summed and can be applied for recovery from the IESO through a separate order."]
[]
["Scenario 2:  Investments in the Test Year and Beyond.  Distributor plans to make investments in 2015 and/or beyond.  These investments should be added to 2-FA in the appropriate year."]
["The WCA percentage, debt percentages, interest rates, kWh, tax rates, amortization period, CCA Class and percentage should correspond to the distributor's current application. "]
[]
["Part A"]
["REI Investments (Direct Benefit at 6%)",null,2011,2012,2013,2014,2015,{"$f":"G31+1","v":2016},{"$f":"H31+1","v":2017},{"$f":"I31+1","v":2018},{"$f":"J31+1","v":2019}]
["Project 1"]
["Name: REI Connection Project"]
["Capital Costs",null,0,0,0,0,0,0,0,0,0]
["OM&A (Start-Up)",null,0,0,0,0,0,0,0,0,0]
["OM&A (Ongoing)",null,0,0,0,0,0,0,0,0,0]
[]
["Project 2"]
["Name: REI Connection Project"]
["Capital Costs",null,0,0,0,0,0,0,0,0,0]
["OM&A (Start-Up)",null,0,0,0,0,0,0,0,0,0]
["OM&A (Ongoing)",null,0,0,0,0,0,0,0,0,0]
[]
["Project 3"]
["Name: REI Connection Project"]
["Capital Costs",null,0,0,0,0,0,0,0,0,0]
["OM&A (Start-Up)",null,0,0,0,0,0,0,0,0,0]
["OM&A (Ongoing)",null,0,0,0,0,0,0,0,0,0]
[]
["Project 4"]
["Name: REI Connection Project"]
["Capital Costs",null,0,0,0,0,0,0,0,0,0]
["OM&A (Start-Up)",null,0,0,0,0,0,0,0,0,0]
["OM&A (Ongoing)",null,0,0,0,0,0,0,0,0,0]
[]
["Project 5"]
["Name: REI Connection Project"]
["Capital Costs",null,0,0,0,0,0,0,0,0,0]
["OM&A (Start-Up)",null,0,0,0,0,0,0,0,0,0]
["OM&A (Ongoing)",null,0,0,0,0,0,0,0,0,0]
[]
["Total Capital Costs",null,{"$f":"SUM(C58,C52,C46,C40,C34)","v":0},0,0,0,{"$f":"SUM(G58,G52,G46,G40,G34)","v":0},{"$f":"SUM(H58,H52,H46,H40,H34)","v":0},0,0,0]
["Total OM&A (Start-Up)",null,0,0,0,0,{"$f":"SUM(G59,G53,G47,G41,G35)","v":0},0,0,0,0]
["Total OM&A (Ongoing)",null,0,0,0,0,{"$f":"SUM(G60,G54,G48,G42,G36)","v":0},0,0,0,0]
[]
[]
["Part B"]
["Expansion Investments (Direct Benefit at 17%)",null,2011,2012,2013,2014,2015,{"$f":"G68+1","v":2016},{"$f":"H68+1","v":2017},{"$f":"I68+1","v":2018},{"$f":"J68+1","v":2019}]
["Project 1"]
["Name: Expansion Connection Project"]
["Capital Costs",null,0,0,0,0,0,0,0,0,0]
["OM&A (Start-Up)",null,0,0,0,0,0,0,0,0,0]
["OM&A (Ongoing)",null,0,0,0,0,0,0,0,0,0]
[]
["Project 2"]
["Name: Expansion Connection Project"]
["Capital Costs",null,0,0,0,0,0,0,0,0,0]
["OM&A (Start-Up)",null,0,0,0,0,0,0,0,0,0]
["OM&A (Ongoing)",null,0,0,0,0,0,0,0,0,0]
[]
["Project 3"]
["Name: Expansion Connection Project"]
["Capital Costs",null,0,0,0,0,0,0,0,0,0]
["OM&A (Start-Up)",null,0,0,0,0,0,0,0,0,0]
["OM&A (Ongoing)",null,0,0,0,0,0,0,0,0,0]
[]
["Project 4"]
["Name: Expansion Connection Project"]
["Capital Costs",null,0,0,0,0,0,0,0,0,0]
["OM&A (Start-Up)",null,0,0,0,0,0,0,0,0,0]
["OM&A (Ongoing)",null,0,0,0,0,0,0,0,0,0]
[]
["Project 5"]
["Name: Expansion Connection Project"]
["Capital Costs",null,0,0,0,0,0,0,0,0,0]
["OM&A (Start-Up)",null,0,0,0,0,0,0,0,0,0]
["OM&A (Ongoing)",null,0,0,0,0,0,0,0,0,0]
[]
["Total Capital Costs",null,{"$f":"SUM(C95,C89,C83,C77,C71)","v":0},0,0,0,{"$f":"SUM(G95,G89,G83,G77,G71)","v":0},{"$f":"SUM(H95,H89,H83,H77,H71)","v":0},0,0,0]
["Total OM&A (Start-Up)",null,0,0,0,0,{"$f":"SUM(G96,G90,G84,G78,G72)","v":0},0,0,0,0]
["Total OM&A (Ongoing)",null,0,0,0,0,{"$f":"SUM(G97,G91,G85,G79,G73)","v":0},0,0,0,0]

{"sheet":"App.2-FB Calc of REG Improvemnt","index":32,"n_rows":95,"n_cols":29,"rows_kept":95,"cut":false,"hidden":false,"merged":[[16,26,16,28],[8,0,8,17],[9,0,9,17],[11,0,11,17],[12,0,12,17],[14,0,14,17],[46,0,46,22],[16,14,16,16],[16,17,16,19],[16,20,16,22],[16,23,16,25],[16,11,16,13],[16,8,16,10],[16,5,16,7],[16,2,16,4],[51,24,51,25],[51,27,51,28],[48,0,48,22],[49,0,49,1],[51,15,51,16],[51,18,51,19],[51,21,51,22],[51,12,51,13],[51,9,51,10],[51,6,51,7],[51,3,51,4]]}
[null,null,null,null,null,null,null,null,null,null,null,null,null,"File Number:",{"$f":"EBNUMBER","v":"EB-2014-0096"}]
[null,null,null,null,null,null,null,null,null,null,null,null,null,"Exhibit:",2]
[null,null,null,null,null,null,null,null,null,null,null,null,null,"Tab:",2]
[null,null,null,null,null,null,null,null,null,null,null,null,null,"Schedule:",7]
[null,null,null,null,null,null,null,null,null,null,null,null,null,"Page:",2]
[]
[null,null,null,null,null,null,null,null,null,null,null,null,null,"Date:","2014-08-29"]
[]
["Appendix 2-FB"]
["Calculation of Renewable Generation Connection Direct Benefits/Provincial Amount: Renewable Enabling Improvement Investments"]
[]
["This table will calculate the distributor/provincial shares of the investments entered in Part A of Appendix 2-FA."]
["Enter values in green shaded cells: WCA percentage, debt percentages, interest rates, kWh, tax rates, amortization period, CCA Class and percentage."]
["For historical investments, enter these variables for your last cost of service test year.  For 2015 and beyond, enter variables as in the application."]
["Rate Riders are not calculated for Test Year as these assets and costs are already in the distributor's rate base/revenue requirement."]
[]
[null,null,2011,null,null,2012,null,null,2013,null,null,2014,null,null,"2015 Test Year",null,null,2016,null,null,2017,2016,null,2018,null,null,2019]
[null,null,null,"Direct Benefit","Provincial",null,"Direct Benefit","Provincial",null,"Direct Benefit","Provincial",null,"Direct Benefit","Provincial",null,"Direct Benefit","Provincial",null,"Direct Benefit","Provincial",null,"Direct Benefit","Provincial",null,"Direct Benefit","Provincial",null,"Direct Benefit","Provincial"]
[null,null,"Total",0.06,0.94,"Total",0.06,0.94,"Total",0.06,0.94,"Total",0.06,0.94,"Total",0.06,0.94,"Total",0.06,0.94,"Total",0.06,0.94,"Total",0.06,0.94,"Total",0.06,0.94]
["Net Fixed Assets (average)",null,{"$f":"D82","v":0},{"$f":"C20*D19","v":0},{"$f":"C20*E19","v":0},{"$f":"E82","v":0},{"$f":"F20*G19","v":0},{"$f":"F20*H19","v":0},{"$f":"F82","v":0},{"$f":"I20*J19","v":0},{"$f":"I20*K19","v":0},{"$f":"G82","v":0},{"$f":"L20*M19","v":0},{"$f":"L20*N19","v":0},{"$f":"H82","v":0},{"$f":"O20*P19","v":0},{"$f":"O20*Q19","v":0},{"$f":"I82","v":0},{"$f":"R20*S19","v":0},{"$f":"R20*T19","v":0},{"$f":"J82","v":0},{"$f":"U20*V19","v":0},{"$f":"U20*W19","v":0},{"$f":"K82","v":0},{"$f":"X20*Y19","v":0},{"$f":"X20*Z19","v":0},{"$f":"L82","v":0},{"$f":"AA20*AB19","v":0},{"$f":"AA20*AC19","v":0}]
["Incremental OM&A (on-going, N/A for Provincial Recovery)",null,{"$f":"'App.2-FA Proposed REG Invest.'!C64","v":0},{"$f":"C21","v":0},null,{"$f":"'App.2-FA Proposed REG Invest.'!D64","v":0},{"$f":"F21","v":0},null,{"$f":"'App.2-FA Proposed REG Invest.'!E64","v":0},{"$f":"I21","v":0},null,{"$f":"'App.2-FA Proposed REG Invest.'!F64","v":0},{"$f":"L21","v":0},null,{"$f":"'App.2-FA Proposed REG Invest.'!G64","v":0},{"$f":"O21","v":0},null,{"$f":"'App.2-FA Proposed REG Invest.'!H64","v":0},{"$f":"R21","v":0},null,{"$f":"'App.2-FA Proposed REG Invest.'!I64","v":0},{"$f":"U21","v":0},null,{"$f":"'App.2-FA Proposed REG Invest.'!J64","v":0},{"$f":"X21","v":0},null,{"$f":"'App.2-FA Proposed REG Invest.'!K64","v":0},{"$f":"AA21","v":0}]
["Incremental OM&A (start-up, applicable for Provincial Recovery)",null,{"$f":"'App.2-FA Proposed REG Invest.'!C63","v":0},{"$f":"C22*D19","v":0},{"$f":"C22*E19","v":0},{"$f":"'App.2-FA Proposed REG Invest.'!D63","v":0},{"$f":"F22*G19","v":0},{"$f":"F22*H19","v":0},{"$f":"'App.2-FA Proposed REG Invest.'!E63","v":0},{"$f":"I22*J19","v":0},{"$f":"I22*K19","v":0},{"$f":"'App.2-FA Proposed REG Invest.'!F63","v":0},{"$f":"L22*M19","v":0},{"$f":"L22*N19","v":0},{"$f":"'App.2-FA Proposed REG Invest.'!G63","v":0},{"$f":"O22*P19","v":0},{"$f":"O22*Q19","v":0},{"$f":"'App.2-FA Proposed REG Invest.'!H63","v":0},{"$f":"R22*S19","v":0},{"$f":"R22*T19","v":0},{"$f":"'App.2-FA Proposed REG Invest.'!I63","v":0},{"$f":"U22*V19","v":0},{"$f":"U22*W19","v":0},{"$f":"'App.2-FA Proposed REG Invest.'!J63","v":0},{"$f":"X22*Y19","v":0},{"$f":"X22*Z19","v":0},{"$f":"'App.2-FA Proposed REG Invest.'!K63","v":0},{"$f":"AA22*AB19","v":0},{"$f":"AA22*AC19","v":0}]
["WCA",null,null,{"$f":"(D21+D22)*$B$23","v":0},{"$f":"E22*$B$23","v":0},null,{"$f":"(G21+G22)*$B$23","v":0},{"$f":"H22*$B$23","v":0},null,{"$f":"(J21+J22)*$B$23","v":0},{"$f":"K22*$B$23","v":0},null,{"$f":"(M21+M22)*$B$23","v":0},{"$f":"N22*$B$23","v":0},null,{"$f":"(P21+P22)*$B$23","v":0},{"$f":"Q22*$B$23","v":0},null,{"$f":"(S21+S22)*$B$23","v":0},{"$f":"T22*$B$23","v":0},null,{"$f":"(V21+V22)*$B$23","v":0},{"$f":"W22*$B$23","v":0},null,{"$f":"(Y21+Y22)*$B$23","v":0},{"$f":"Z22*$B$23","v":0},null,{"$f":"(AB21+AB22)*$B$23","v":0},{"$f":"AC22*$B$23","v":0}]
["Rate Base",null,null,{"$f":"SUM(D20+D23)","v":0},{"$f":"SUM(E20+E23)","v":0},null,{"$f":"SUM(G20+G23)","v":0},{"$f":"SUM(H20+H23)","v":0},null,{"$f":"SUM(J20+J23)","v":0},{"$f":"SUM(K20+K23)","v":0},null,{"$f":"SUM(M20+M23)","v":0},{"$f":"SUM(N20+N23)","v":0},null,{"$f":"SUM(P20+P23)","v":0},{"$f":"SUM(Q20+Q23)","v":0},null,{"$f":"SUM(S20+S23)","v":0},{"$f":"SUM(T20+T23)","v":0},null,{"$f":"SUM(V20+V23)","v":0},{"$f":"SUM(W20+W23)","v":0},null,{"$f":"SUM(Y20+Y23)","v":0},{"$f":"SUM(Z20+Z23)","v":0},null,{"$f":"SUM(AB20+AB23)","v":0},{"$f":"SUM(AC20+AC23)","v":0}]
[]
[]
["Deemed ST Debt",null,null,{"$f":"D24*$B$27","v":0},{"$f":"E24*$B$27","v":0},null,{"$f":"G24*$B$27","v":0},{"$f":"H24*$B$27","v":0},null,{"$f":"J24*$B$27","v":0},{"$f":"K24*$B$27","v":0},null,{"$f":"M24*$B$27","v":0},{"$f":"N24*$B$27","v":0},null,{"$f":"P24*$B$27","v":0},{"$f":"Q24*$B$27","v":0},null,{"$f":"S24*$B$27","v":0},{"$f":"T24*$B$27","v":0},null,{"$f":"V24*$B$27","v":0},{"$f":"W24*$B$27","v":0},null,{"$f":"Y24*$B$27","v":0},{"$f":"Z24*$B$27","v":0},null,{"$f":"AB24*$B$27","v":0},{"$f":"AC24*$B$27","v":0}]
["Deemed LT Debt",null,null,{"$f":"D24*$B$28","v":0},{"$f":"E24*$B$28","v":0},null,{"$f":"G24*$B$28","v":0},{"$f":"H24*$B$28","v":0},null,{"$f":"J24*$B$28","v":0},{"$f":"K24*$B$28","v":0},null,{"$f":"M24*$B$28","v":0},{"$f":"N24*$B$28","v":0},null,{"$f":"P24*$B$28","v":0},{"$f":"Q24*$B$28","v":0},null,{"$f":"S24*$B$28","v":0},{"$f":"T24*$B$28","v":0},null,{"$f":"V24*$B$28","v":0},{"$f":"W24*$B$28","v":0},null,{"$f":"Y24*$B$28","v":0},{"$f":"Z24*$B$28","v":0},null,{"$f":"AB24*$B$28","v":0},{"$f":"AC24*$B$28","v":0}]
["Deemed Equity",null,null,{"$f":"D24*$B$29","v":0},{"$f":"E24*$B$29","v":0},null,{"$f":"G24*$B$29","v":0},{"$f":"H24*$B$29","v":0},null,{"$f":"J24*$B$29","v":0},{"$f":"K24*$B$29","v":0},null,{"$f":"M24*$B$29","v":0},{"$f":"N24*$B$29","v":0},null,{"$f":"P24*$B$29","v":0},{"$f":"Q24*$B$29","v":0},null,{"$f":"S24*$B$29","v":0},{"$f":"T24*$B$29","v":0},null,{"$f":"V24*$B$29","v":0},{"$f":"W24*$B$29","v":0},null,{"$f":"Y24*$B$29","v":0},{"$f":"Z24*$B$29","v":0},null,{"$f":"AB24*$B$29","v":0},{"$f":"AC24*$B$29","v":0}]
[]
["ST Interest",null,null,{"$f":"D27*$B31","v":0},0,null,{"$f":"G27*$B31","v":0},0,null,{"$f":"J27*$B31","v":0},0,null,{"$f":"M27*$B31","v":0},0,null,{"$f":"P27*$B31","v":0},0,null,{"$f":"S27*$B31","v":0},0,null,{"$f":"V27*$B31","v":0},0,null,{"$f":"Y27*$B31","v":0},0,null,{"$f":"AB27*$B31","v":0},0]
["LT Interest",null,null,0,0,null,0,0,null,0,0,null,0,0,null,0,0,null,0,0,null,0,0,null,0,0,null,0,0]
["ROE",null,null,0,0,null,0,0,null,0,0,null,0,0,null,0,0,null,0,0,null,0,0,null,0,0,null,0,0]
["Cost of Capital Total",null,null,{"$f":"SUM(D31:D33)","v":0},{"$f":"SUM(E31:E33)","v":0},null,{"$f":"SUM(G31:G33)","v":0},{"$f":"SUM(H31:H33)","v":0},null,{"$f":"SUM(J31:J33)","v":0},{"$f":"SUM(K31:K33)","v":0},null,{"$f":"SUM(M31:M33)","v":0},{"$f":"SUM(N31:N33)","v":0},null,{"$f":"SUM(P31:P33)","v":0},{"$f":"SUM(Q31:Q33)","v":0},null,{"$f":"SUM(S31:S33)","v":0},{"$f":"SUM(T31:T33)","v":0},null,{"$f":"SUM(V31:V33)","v":0},{"$f":"SUM(W31:W33)","v":0},null,{"$f":"SUM(Y31:Y33)","v":0},{"$f":"SUM(Z31:Z33)","v":0},null,{"$f":"SUM(AB31:AB33)","v":0},{"$f":"SUM(AC31:AC33)","v":0}]
[]
["OM&A",null,null,{"$f":"D21+D22","v":0},{"$f":"E22","v":0},null,{"$f":"G21+G22","v":0},{"$f":"H22","v":0},null,{"$f":"J21+J22","v":0},{"$f":"K22","v":0},null,{"$f":"M21+M22","v":0},{"$f":"N22","v":0},null,{"$f":"P21+P22","v":0},{"$f":"Q22","v":0},null,{"$f":"S21+S22","v":0},{"$f":"T22","v":0},null,{"$f":"V21+V22","v":0},{"$f":"W22","v":0},null,{"$f":"Y21+Y22","v":0},{"$f":"Z22","v":0},null,{"$f":"AB21+AB22","v":0},{"$f":"AC22","v":0}]
["Amortization",null,{"$f":"D77","v":0},{"$f":"C37*D$19","v":0},{"$f":"C37*E$19","v":0},{"$f":"E77","v":0},{"$f":"F37*G$19","v":0},{"$f":"F37*H$19","v":0},{"$f":"F77","v":0},{"$f":"I37*J$19","v":0},{"$f":"I37*K$19","v":0},{"$f":"G77","v":0},{"$f":"L37*M$19","v":0},{"$f":"L37*N$19","v":0},{"$f":"H77","v":0},{"$f":"O37*P$19","v":0},{"$f":"O37*Q$19","v":0},{"$f":"I76+I77","v":0},{"$f":"R37*S$19","v":0},{"$f":"R37*T$19","v":0},{"$f":"J76+J77","v":0},{"$f":"U37*V$19","v":0},{"$f":"U37*W$19","v":0},{"$f":"K76+K77","v":0},{"$f":"X37*Y$19","v":0},{"$f":"X37*Z$19","v":0},{"$f":"L76+L77","v":0},{"$f":"AA37*AB$19","v":0},{"$f":"AA37*AC$19","v":0}]
["Grossed-up PILs",null,null,{"$f":"D65","v":0},{"$f":"E65","v":0},null,{"$f":"G65","v":0},{"$f":"H65","v":0},null,{"$f":"J65","v":0},{"$f":"K65","v":0},null,{"$f":"M65","v":0},{"$f":"N65","v":0},null,{"$f":"P65","v":0},{"$f":"Q65","v":0},null,{"$f":"S65","v":0},{"$f":"T65","v":0},null,{"$f":"V65","v":0},{"$f":"W65","v":0},null,{"$f":"Y65","v":0},{"$f":"Z65","v":0},null,{"$f":"AB65","v":0},{"$f":"AC65","v":0}]
[]
["Revenue Requirement",null,null,{"$f":"SUM(D34:D38)","v":0},{"$f":"SUM(E34:E38)","v":0},null,{"$f":"SUM(G34:G38)","v":0},{"$f":"SUM(H34:H38)","v":0},null,{"$f":"SUM(J34:J38)","v":0},{"$f":"SUM(K34:K38)","v":0},null,{"$f":"SUM(M34:M38)","v":0},{"$f":"SUM(N34:N38)","v":0},null,{"$f":"SUM(P34:P38)","v":0},{"$f":"SUM(Q34:Q38)","v":0},null,{"$f":"SUM(S34:S38)","v":0},{"$f":"SUM(T34:T38)","v":0},null,{"$f":"SUM(V34:V38)","v":0},{"$f":"SUM(W34:W38)","v":0},null,{"$f":"SUM(Y34:Y38)","v":0},{"$f":"SUM(Z34:Z38)","v":0},null,{"$f":"SUM(AB34:AB38)","v":0},{"$f":"SUM(AC34:AC38)","v":0}]
[]
[]
["Provincial Rate Protection",null,null,null,{"$f":"E40","v":0},null,null,{"$f":"H40","v":0},null,null,{"$f":"K40","v":0},null,null,{"$f":"N40","v":0},null,null,{"$f":"Q40","v":0},null,null,{"$f":"T40","v":0},null,null,{"$f":"W40","v":0},null,null,{"$f":"Z40","v":0},null,null,{"$f":"AC40","v":0}]
[]
["Monthly Amount Paid by IESO",null,null,null,{"$f":"E43/12","v":0},null,null,{"$f":"H43/12","v":0},null,null,{"$f":"K43/12","v":0},null,null,{"$f":"N43/12","v":0},null,null,{"$f":"Q43/12","v":0},null,null,{"$f":"T43/12","v":0},null,null,{"$f":"W43/12","v":0},null,null,{"$f":"Z43/12","v":0},null,null,{"$f":"AC43/12","v":0}]
[]
["Note 1: The difference between the actual costs of approved eligible investments and revenue received from the IESO should be recorded in a variance account.  The Board may provide "]
["regulatory accounting guidance regarding a variance account either in an individual proceeding or on a generic basis."]
["Note 2: For the 2015 Test Year, Costs and Revenues of the Direct Benefit are to be included in the test year applicant Rate Base and Revenues.  "]
[]
["PILs Calculation"]
[null,null,null,2011,null,null,2012,null,null,2013,null,null,2014,null,null,2015,null,null,{"$f":"P52+1","v":2016},null,null,{"$f":"S52+1","v":2017},null,null,{"$f":"V52+1","v":2018},null,null,{"$f":"Y52+1","v":2019}]
["Income Tax",null,null,"Direct Benefit","Provincial",null,"Direct Benefit","Provincial",null,"Direct Benefit","Provincial",null,"Direct Benefit","Provincial",null,"Direct Benefit","Provincial",null,"Direct Benefit","Provincial",null,"Direct Benefit","Provincial",null,"Direct Benefit","Provincial",null,"Direct Benefit","Provincial"]
[null,null,null,null,null,null,null,null,null,null,null,null,null,null,null,null,null,null,null,null,null,null,null,"Total",null,null,"Total"]
["Net Income - ROE on Rate Base",null,null,{"$f":"D33","v":0},{"$f":"E33","v":0},null,{"$f":"G33","v":0},{"$f":"H33","v":0},null,{"$f":"J33","v":0},{"$f":"K33","v":0},null,{"$f":"M33","v":0},{"$f":"N33","v":0},null,{"$f":"P33","v":0},{"$f":"Q33","v":0},null,{"$f":"S33","v":0},{"$f":"T33","v":0},null,{"$f":"V33","v":0},{"$f":"W33","v":0},null,{"$f":"Y33","v":0},{"$f":"Z33","v":0},null,{"$f":"AB33","v":0},{"$f":"AC33","v":0}]
["Amortization (6% DB and 94% P)",null,null,{"$f":"D37","v":0},{"$f":"E37","v":0},null,{"$f":"G37","v":0},{"$f":"H37","v":0},null,{"$f":"J37","v":0},{"$f":"K37","v":0},null,{"$f":"M37","v":0},{"$f":"N37","v":0},null,{"$f":"P37","v":0},{"$f":"Q37","v":0},null,{"$f":"S37","v":0},{"$f":"T37","v":0},null,{"$f":"V37","v":0},{"$f":"W37","v":0},null,{"$f":"Y37","v":0},{"$f":"Z37","v":0},null,{"$f":"AB37","v":0},{"$f":"AC37","v":0}]
["CCA (6% DB and 94% P)",null,null,{"$f":"-D94*D$19","v":0},{"$f":"-D94*E$19","v":0},null,{"$f":"-E94*G19","v":0},{"$f":"-E94*H$19","v":0},null,{"$f":"-F94*J$19","v":0},{"$f":"-F94*K$19","v":0},null,{"$f":"-G94*M$19","v":0},{"$f":"-G94*N$19","v":0},null,{"$f":"-H94*P$19","v":0},{"$f":"-H94*Q$19","v":0},null,{"$f":"-I94*S$19","v":0},{"$f":"-I94*T$19","v":0},null,{"$f":"-J94*V$19","v":0},{"$f":"-J94*W$19","v":0},null,{"$f":"-K94*Y$19","v":0},{"$f":"-K94*Z$19","v":0},null,{"$f":"-L94*AB$19","v":0},{"$f":"-L94*AC$19","v":0}]
["Taxable income",null,null,{"$f":"SUM(D55:D57)","v":0},{"$f":"SUM(E55:E57)","v":0},null,{"$f":"SUM(G55:G57)","v":0},{"$f":"SUM(H55:H57)","v":0},null,{"$f":"SUM(J55:J57)","v":0},{"$f":"SUM(K55:K57)","v":0},null,{"$f":"SUM(M55:M57)","v":0},{"$f":"SUM(N55:N57)","v":0},null,{"$f":"SUM(P55:P57)","v":0},{"$f":"SUM(Q55:Q57)","v":0},null,{"$f":"SUM(S55:S57)","v":0},{"$f":"SUM(T55:T57)","v":0},null,{"$f":"SUM(V55:V57)","v":0},{"$f":"SUM(W55:W57)","v":0},null,{"$f":"SUM(Y55:Y57)","v":0},{"$f":"SUM(Z55:Z57)","v":0},null,{"$f":"SUM(AB55:AB57)","v":0},{"$f":"SUM(AC55:AC57)","v":0}]
[]
["Tax Rate  (to be entered)"]
[]
["Income Taxes Payable",null,null,{"$f":"D58*D60","v":0},{"$f":"E58*E60","v":0},null,{"$f":"G58*G60","v":0},{"$f":"H58*H60","v":0},null,{"$f":"J58*J60","v":0},{"$f":"K58*K60","v":0},null,{"$f":"M58*M60","v":0},{"$f":"N58*N60","v":0},null,{"$f":"P58*P60","v":0},{"$f":"Q58*Q60","v":0},null,{"$f":"S58*S60","v":0},{"$f":"T58*T60","v":0},null,{"$f":"V58*V60","v":0},{"$f":"W58*W60","v":0},null,{"$f":"Y58*Y60","v":0},{"$f":"Z58*Z60","v":0},null,{"$f":"AB58*AB60","v":0},{"$f":"AC58*AC60","v":0}]
["Gross Up"]
["Income Taxes Payable",null,null,{"$f":"D62/(1-D60)","v":0},{"$f":"E62/(1-E60)","v":0},null,{"$f":"G62/(1-G60)","v":0},{"$f":"H62/(1-H60)","v":0},null,{"$f":"J62/(1-J60)","v":0},{"$f":"K62/(1-K60)","v":0},null,{"$f":"M62/(1-M60)","v":0},{"$f":"N62/(1-N60)","v":0},null,{"$f":"P62/(1-P60)","v":0},{"$f":"Q62/(1-Q60)","v":0},null,{"$f":"S62/(1-S60)","v":0},{"$f":"T62/(1-T60)","v":0},null,{"$f":"V62/(1-V60)","v":0},{"$f":"W62/(1-W60)","v":0},null,{"$f":"Y62/(1-Y60)","v":0},{"$f":"Z62/(1-Z60)","v":0},null,{"$f":"AB62/(1-AB60)","v":0},{"$f":"AC62/(1-AC60)","v":0}]
["Grossed Up PILs",null,null,{"$f":"SUM(D64:D64)","v":0},{"$f":"SUM(E64:E64)","v":0},null,{"$f":"SUM(G64:G64)","v":0},{"$f":"SUM(H64:H64)","v":0},null,{"$f":"SUM(J64:J64)","v":0},{"$f":"SUM(K64:K64)","v":0},null,{"$f":"SUM(M64:M64)","v":0},{"$f":"SUM(N64:N64)","v":0},null,{"$f":"SUM(P64:P64)","v":0},{"$f":"SUM(Q64:Q64)","v":0},null,{"$f":"SUM(S64:S64)","v":0},{"$f":"SUM(T64:T64)","v":0},null,{"$f":"SUM(V64:V64)","v":0},{"$f":"SUM(W64:W64)","v":0},null,{"$f":"SUM(Y64:Y64)","v":0},{"$f":"SUM(Z64:Z64)","v":0},null,{"$f":"SUM(AB64:AB64)","v":0},{"$f":"SUM(AC64:AC64)","v":0}]
[]
[]
[null,null,null,2011,2012,2013,2014,2015,{"$f":"H68+1","v":2016},{"$f":"I68+1","v":2017},{"$f":"J68+1","v":2018},{"$f":"K68+1","v":2019}]
["Net Fixed Assets"]
[null,"Enter applicable amortization in years:",25]
["Opening Gross Fixed Assets",null,null,null,{"$f":"D73","v":0},0,0,0,0,0,0,0]
["Gross Capital Additions",null,null,{"$f":"'App.2-FA Proposed REG Invest.'!C62","v":0},{"$f":"'App.2-FA Proposed REG Invest.'!D62","v":0},{"$f":"'App.2-FA Proposed REG Invest.'!E62","v":0},{"$f":"'App.2-FA Proposed REG Invest.'!F62","v":0},{"$f":"'App.2-FA Proposed REG Invest.'!G62","v":0},{"$f":"'App.2-FA Proposed REG Invest.'!H62","v":0},{"$f":"'App.2-FA Proposed REG Invest.'!I62","v":0},{"$f":"'App.2-FA Proposed REG Invest.'!J62","v":0},{"$f":"'App.2-FA Proposed REG Invest.'!K62","v":0}]
["Closing Gross Fixed Assets",null,null,{"$f":"SUM(D71:D72)","v":0},0,0,0,0,0,0,0,0]
[]
["Opening Accumulated Amortization",null,null,null,{"$f":"+D78","v":0},{"$f":"E78","v":0},0,0,0,0,0,0]
["Current Year Amortization (before additions)",null,null,{"$f":"IF(ISERROR(D71/$C$70), 0, D71/$C$70)","v":0},0,0,0,0,0,0,0,0]
["Additions (half year)",null,null,{"$f":"D72/$C$70/2","v":0},{"$f":"E72/$C$70/2","v":0},{"$f":"F72/$C$70/2","v":0},{"$f":"G72/$C$70/2","v":0},{"$f":"H72/$C$70/2","v":0},{"$f":"I72/C70/2","v":0},{"$f":"J72/C70/2","v":0},{"$f":"K72/C70/2","v":0},{"$f":"L72/C70/2","v":0}]
["Closing Accumulated Amortization",null,null,{"$f":"SUM(D75+D76+D77)","v":0},{"$f":"SUM(E75+E76+E77)","v":0},{"$f":"SUM(F75+F76+F77)","v":0},{"$f":"SUM(G75+G76+G77)","v":0},{"$f":"SUM(H75+H76+H77)","v":0},{"$f":"SUM(I75:I77)","v":0},{"$f":"SUM(J75:J77)","v":0},{"$f":"SUM(K75:K77)","v":0},{"$f":"SUM(L75:L77)","v":0}]
[]
["Opening Net Fixed Assets",null,null,{"$f":"D71-D75","v":0},{"$f":"E71-E75","v":0},{"$f":"F71-F75","v":0},{"$f":"G71-G75","v":0},{"$f":"H71-H75","v":0},{"$f":"H81","v":0},{"$f":"I81","v":0},{"$f":"J81","v":0},{"$f":"K81","v":0}]
["Closing Net Fixed Assets",null,null,{"$f":"D73-D78","v":0},0,0,0,0,0,0,0,0]
["Average Net Fixed Assets",null,null,{"$f":"SUM(D80:D81)/2","v":0},0,0,0,0,0,0,0,0]
[]
["UCC for PILs Calculation"]
[null,null,null,2011,2012,2013,2014,2015,{"$f":"H85+1","v":2016},{"$f":"I85+1","v":2017},{"$f":"J85+1","v":2018},{"$f":"K85+1","v":2019}]
[]
["Opening UCC",null,null,null,{"$f":"D95","v":0},0,0,0,0,0,0,0]
["Capital Additions (from Appendix 2-FA)",null,null,{"$f":"D72","v":0},{"$f":"E72","v":0},{"$f":"F72","v":0},{"$f":"G72","v":0},{"$f":"H72","v":0},{"$f":"'App.2-FA Proposed REG Invest.'!H40","v":0},{"$f":"'App.2-FA Proposed REG Invest.'!I40","v":0},{"$f":"'App.2-FA Proposed REG Invest.'!J40","v":0},{"$f":"'App.2-FA Proposed REG Invest.'!K40","v":0}]
["UCC Before Half Year Rule",null,null,{"$f":"SUM(D87:D88)","v":0},0,0,0,0,0,0,0,0]
["Half Year Rule (1/2 Additions - Disposals)",null,null,{"$f":"D88/2","v":0},0,0,0,0,0,0,0,0]
["Reduced UCC",null,null,{"$f":"D89-D90","v":0},0,0,0,0,0,0,0,0]
["CCA Rate Class (to be entered)",null,47,{"$f":"C92","v":47},{"$f":"D92","v":47},47,47,47,47,47,47,47]
["CCA Rate  (to be entered)",null,0.08,{"$f":"C93","v":0.08},0.08,0.08,0.08,0.08,0.08,0.08,0.08,0.08]
["CCA",null,null,{"$f":"D91*D93","v":0},0,0,0,0,0,0,0,0]
["Closing UCC",null,null,{"$f":"D89-D94","v":0},0,0,0,0,0,0,0,0]

{"sheet":"App.2-FC Calc of REG Expansion","index":33,"n_rows":95,"n_cols":30,"rows_kept":95,"cut":false,"hidden":false,"merged":[[8,0,8,14],[9,0,9,14],[11,0,11,14],[12,0,12,14],[14,0,14,14],[17,3,17,5],[17,6,17,8],[17,9,17,11],[17,12,17,14],[17,15,17,17],[17,18,17,20],[17,21,17,23],[17,24,17,26],[17,27,17,29],[52,22,52,23],[52,25,52,26],[52,28,52,29],[47,0,47,20],[49,0,49,21],[50,0,50,1],[52,4,52,5],[52,7,52,8],[52,10,52,11],[52,13,52,14],[52,16,52,17],[52,19,52,20]]}
[null,null,null,null,null,null,null,null,null,null,null,null,null,"File Number:",{"$f":"EBNUMBER","v":"EB-2014-0096"}]
[null,null,null,null,null,null,null,null,null,null,null,null,null,"Exhibit:",2]
[null,null,null,null,null,null,null,null,null,null,null,null,null,"Tab:",2]
[null,null,null,null,null,null,null,null,null,null,null,null,null,"Schedule:",7]
[null,null,null,null,null,null,null,null,null,null,null,null,null,"Page:",3]
[]
[null,null,null,null,null,null,null,null,null,null,null,null,null,"Date:","2014-08-29"]
[]
["Appendix 2-FC"]
["Calculation of Renewable Generation Connection Direct Benefits/Provincial Amount: Renewable Expansion Investments"]
[]
["This table will calculate the distributor/provincial shares of the investments entered in Part B of Appendix 2-FA."]
["Enter values in green shaded cells: WCA percentage, debt percentages, interest rates, kWh, tax rates, amortization period, CCA Class and percentage."]
["For historical investments, enter these variables for your last cost of service test year.  For 2015 and beyond, enter vaiables as in the application."]
["Rate Riders are not calculated for Test Year as these assets and costs are already in the distributors rate base."]
[]
[]
[null,null,null,2011,null,null,2012,null,null,2013,null,null,2014,null,null,"2015 TEST YEAR",null,null,2016,2016,null,2017,null,null,2018,null,null,2019]
[null,null,null,null,"Direct Benefit","Provincial",null,"Direct Benefit","Provincial",null,"Direct Benefit","Provincial",null,"Direct Benefit","Provincial",null,"Direct Benefit","Provincial",null,"Direct Benefit","Provincial",null,"Direct Benefit","Provincial",null,"Direct Benefit","Provincial",null,"Direct Benefit","Provincial"]
[null,null,null,"Total",0.17,0.83,"Total",0.17,0.83,"Total",0.17,0.83,"Total",0.17,0.83,"Total",0.17,0.83,"Total",0.17,0.83,"Total",0.17,0.83,"Total",0.17,0.83,"Total",0.17,0.83]
["Net Fixed Assets (average)",null,null,{"$f":"D82","v":0},{"$f":"D21*E20","v":0},{"$f":"D21*F20","v":0},{"$f":"E82","v":0},{"$f":"G21*H20","v":0},{"$f":"G21*I20","v":0},{"$f":"F82","v":0},{"$f":"J21*K20","v":0},{"$f":"J21*L20","v":0},{"$f":"G82","v":0},{"$f":"M21*N20","v":0},{"$f":"M21*O20","v":0},{"$f":"H82","v":0},{"$f":"P21*Q20","v":0},{"$f":"P21*R20","v":0},{"$f":"I82","v":0},{"$f":"S21*T20","v":0},{"$f":"S21*U20","v":0},{"$f":"J82","v":0},{"$f":"V21*W20","v":0},{"$f":"V21*X20","v":0},{"$f":"K82","v":0},{"$f":"Y21*Z20","v":0},{"$f":"Y21*AA20","v":0},{"$f":"L82","v":0},{"$f":"AB21*AC20","v":0},{"$f":"AB21*AD20","v":0}]
["Incremental OM&A (on-going, N/A for Provincial Recovery)",null,null,{"$f":"'App.2-FA Proposed REG Invest.'!C101","v":0},{"$f":"D22","v":0},null,{"$f":"'App.2-FA Proposed REG Invest.'!D$101","v":0},{"$f":"G22","v":0},null,{"$f":"'App.2-FA Proposed REG Invest.'!E$101","v":0},{"$f":"J22","v":0},null,{"$f":"'App.2-FA Proposed REG Invest.'!F$101","v":0},{"$f":"M22","v":0},null,{"$f":"'App.2-FA Proposed REG Invest.'!G$101","v":0},{"$f":"P22","v":0},null,{"$f":"'App.2-FA Proposed REG Invest.'!H$101","v":0},{"$f":"S22","v":0},null,{"$f":"'App.2-FA Proposed REG Invest.'!I$101","v":0},{"$f":"V22","v":0},null,{"$f":"'App.2-FA Proposed REG Invest.'!J$101","v":0},{"$f":"Y22","v":0},null,{"$f":"'App.2-FA Proposed REG Invest.'!K$101","v":0},{"$f":"AB22","v":0}]
["Incremental OM&A (start-up, applicable for Provincial Recovery)",null,null,{"$f":"'App.2-FA Proposed REG Invest.'!C100","v":0},{"$f":"D23*E20","v":0},{"$f":"D23*F20","v":0},{"$f":"'App.2-FA Proposed REG Invest.'!D$100","v":0},{"$f":"G23*H20","v":0},{"$f":"G23*I20","v":0},{"$f":"'App.2-FA Proposed REG Invest.'!E$100","v":0},{"$f":"J23*K20","v":0},{"$f":"J23*L20","v":0},{"$f":"'App.2-FA Proposed REG Invest.'!F$100","v":0},{"$f":"M23*N20","v":0},{"$f":"M23*O20","v":0},{"$f":"'App.2-FA Proposed REG Invest.'!G$100","v":0},{"$f":"P23*Q20","v":0},{"$f":"P23*R20","v":0},{"$f":"'App.2-FA Proposed REG Invest.'!H$100","v":0},{"$f":"S23*T20","v":0},{"$f":"S23*U20","v":0},{"$f":"'App.2-FA Proposed REG Invest.'!I$100","v":0},{"$f":"V23*W20","v":0},{"$f":"V23*X20","v":0},{"$f":"'App.2-FA Proposed REG Invest.'!J$100","v":0},{"$f":"Y23*Z20","v":0},{"$f":"Y23*AA20","v":0},{"$f":"'App.2-FA Proposed REG Invest.'!K$100","v":0},{"$f":"AB23*AC20","v":0},{"$f":"AB23*AD20","v":0}]
["WCA",null,null,null,{"$f":"(E22+E23)*$B$24","v":0},{"$f":"F23*$B$24","v":0},null,{"$f":"(H22+H23)*$B$24","v":0},{"$f":"I23*$B$24","v":0},null,{"$f":"(K22+K23)*$B$24","v":0},{"$f":"L23*$B$24","v":0},null,{"$f":"(N22+N23)*$B$24","v":0},{"$f":"O23*$B$24","v":0},null,{"$f":"(Q22+Q23)*$B$24","v":0},{"$f":"R23*$B$24","v":0},null,{"$f":"(T22+T23)*$B$24","v":0},{"$f":"U23*$B$24","v":0},null,{"$f":"(W22+W23)*$B$24","v":0},{"$f":"X23*$B$24","v":0},null,{"$f":"(Z22+Z23)*$B$24","v":0},{"$f":"AA23*$B$24","v":0},null,{"$f":"(AC22+AC23)*$B$24","v":0},{"$f":"AD23*$B$24","v":0}]
["Rate Base",null,null,null,{"$f":"SUM(E21+E24)","v":0},{"$f":"SUM(F21+F24)","v":0},null,{"$f":"SUM(H21+H24)","v":0},{"$f":"SUM(I21+I24)","v":0},null,{"$f":"SUM(K21+K24)","v":0},{"$f":"SUM(L21+L24)","v":0},null,{"$f":"SUM(N21+N24)","v":0},{"$f":"SUM(O21+O24)","v":0},null,{"$f":"SUM(Q21+Q24)","v":0},{"$f":"SUM(R21+R24)","v":0},null,{"$f":"SUM(T21+T24)","v":0},{"$f":"SUM(U21+U24)","v":0},null,{"$f":"SUM(W21+W24)","v":0},{"$f":"SUM(X21+X24)","v":0},null,{"$f":"SUM(Z21+Z24)","v":0},{"$f":"SUM(AA21+AA24)","v":0},null,{"$f":"SUM(AC21+AC24)","v":0},{"$f":"SUM(AD21+AD24)","v":0}]
[]
[]
["Deemed ST Debt",null,null,null,{"$f":"E25*$B$28","v":0},{"$f":"F25*$B$28","v":0},null,{"$f":"H25*$B$28","v":0},{"$f":"I25*$B$28","v":0},null,{"$f":"K25*$B$28","v":0},{"$f":"L25*$B$28","v":0},null,{"$f":"N25*$B$28","v":0},{"$f":"O25*$B$28","v":0},null,{"$f":"Q25*$B$28","v":0},{"$f":"R25*$B$28","v":0},null,{"$f":"T25*$B$28","v":0},{"$f":"U25*$B$28","v":0},null,{"$f":"W25*$B$28","v":0},{"$f":"X25*$B$28","v":0},null,{"$f":"Z25*$B$28","v":0},{"$f":"AA25*$B$28","v":0},null,{"$f":"AC25*$B$28","v":0},{"$f":"AD25*$B$28","v":0}]
["Deemed LT Debt",null,null,null,{"$f":"E25*$B$29","v":0},{"$f":"F25*$B$29","v":0},null,{"$f":"H25*$B$29","v":0},{"$f":"I25*$B$29","v":0},null,{"$f":"K25*$B$29","v":0},{"$f":"L25*$B$29","v":0},null,{"$f":"N25*$B$29","v":0},{"$f":"O25*$B$29","v":0},null,{"$f":"Q25*$B$29","v":0},{"$f":"R25*$B$29","v":0},null,{"$f":"T25*$B$29","v":0},{"$f":"U25*$B$29","v":0},null,{"$f":"W25*$B$29","v":0},{"$f":"X25*$B$29","v":0},null,{"$f":"Z25*$B$29","v":0},{"$f":"AA25*$B$29","v":0},null,{"$f":"AC25*$B$29","v":0},{"$f":"AD25*$B$29","v":0}]
["Deemed Equity",null,null,null,{"$f":"E25*$B$30","v":0},{"$f":"F25*$B$30","v":0},null,{"$f":"H25*$B$30","v":0},{"$f":"I25*$B$30","v":0},null,{"$f":"K25*$B$30","v":0},{"$f":"L25*$B$30","v":0},null,{"$f":"N25*$B$30","v":0},{"$f":"O25*$B$30","v":0},null,{"$f":"Q25*$B$30","v":0},{"$f":"R25*$B$30","v":0},null,{"$f":"T25*$B$30","v":0},{"$f":"U25*$B$30","v":0},null,{"$f":"W25*$B$30","v":0},{"$f":"X25*$B$30","v":0},null,{"$f":"Z25*$B$30","v":0},{"$f":"AA25*$B$30","v":0},null,{"$f":"AC25*$B$30","v":0},{"$f":"AD25*$B$30","v":0}]
[]
["ST Interest",null,null,null,{"$f":"E28*$B$32","v":0},{"$f":"F28*$B$32","v":0},null,{"$f":"H28*$B$32","v":0},{"$f":"I28*$B$32","v":0},null,{"$f":"K28*$B$32","v":0},{"$f":"L28*$B$32","v":0},null,{"$f":"N28*$B$32","v":0},{"$f":"O28*$B$32","v":0},null,{"$f":"Q28*$B$32","v":0},{"$f":"R28*$B$32","v":0},null,{"$f":"T28*$B$32","v":0},{"$f":"U28*$B$32","v":0},null,{"$f":"W28*$B$32","v":0},{"$f":"X28*$B$32","v":0},null,{"$f":"Z28*$B$32","v":0},{"$f":"AA28*$B$32","v":0},null,{"$f":"AC28*$B$32","v":0},{"$f":"AD28*$B$32","v":0}]
["LT Interest",null,null,null,{"$f":"E29*$B$33","v":0},{"$f":"F29*$B$33","v":0},null,{"$f":"H29*$B$33","v":0},{"$f":"I29*$B$33","v":0},null,{"$f":"K29*$B$33","v":0},{"$f":"L29*$B$33","v":0},null,{"$f":"N29*$B$33","v":0},{"$f":"O29*$B$33","v":0},null,{"$f":"Q29*$B$33","v":0},{"$f":"R29*$B$33","v":0},null,{"$f":"T29*$B$33","v":0},{"$f":"U29*$B$33","v":0},null,{"$f":"W29*$B$33","v":0},{"$f":"X29*$B$33","v":0},null,{"$f":"Z29*$B$33","v":0},{"$f":"AA29*$B$33","v":0},null,{"$f":"AC29*$B$33","v":0},{"$f":"AD29*$B$33","v":0}]
["ROE",null,null,null,{"$f":"E30*$B$34","v":0},{"$f":"F30*$B$34","v":0},null,{"$f":"H30*$B$34","v":0},{"$f":"I30*$B$34","v":0},null,{"$f":"K30*$B$34","v":0},{"$f":"L30*$B$34","v":0},null,{"$f":"N30*$B$34","v":0},{"$f":"O30*$B$34","v":0},null,{"$f":"Q30*$B$34","v":0},{"$f":"R30*$B$34","v":0},null,{"$f":"T30*$B$34","v":0},{"$f":"U30*$B$34","v":0},null,{"$f":"W30*$B$34","v":0},{"$f":"X30*$B$34","v":0},null,{"$f":"Z30*$B$34","v":0},{"$f":"AA30*$B$34","v":0},null,{"$f":"AC30*$B$34","v":0},{"$f":"AD30*$B$34","v":0}]
["Cost of Capital Total",null,null,null,{"$f":"SUM(E32:E34)","v":0},{"$f":"SUM(F32:F34)","v":0},null,{"$f":"SUM(H32:H34)","v":0},{"$f":"SUM(I32:I34)","v":0},null,{"$f":"SUM(K32:K34)","v":0},{"$f":"SUM(L32:L34)","v":0},null,{"$f":"SUM(N32:N34)","v":0},{"$f":"SUM(O32:O34)","v":0},null,{"$f":"SUM(Q32:Q34)","v":0},{"$f":"SUM(R32:R34)","v":0},null,{"$f":"SUM(T32:T34)","v":0},{"$f":"SUM(U32:U34)","v":0},null,{"$f":"SUM(W32:W34)","v":0},{"$f":"SUM(X32:X34)","v":0},null,{"$f":"SUM(Z32:Z34)","v":0},{"$f":"SUM(AA32:AA34)","v":0},null,{"$f":"SUM(AC32:AC34)","v":0},{"$f":"SUM(AD32:AD34)","v":0}]
[]
["OM&A",null,null,null,{"$f":"E22+E23","v":0},{"$f":"F23","v":0},null,{"$f":"H22+H23","v":0},{"$f":"I23","v":0},null,{"$f":"K22+K23","v":0},{"$f":"L23","v":0},null,{"$f":"N22+N23","v":0},{"$f":"O23","v":0},null,{"$f":"Q22+Q23","v":0},{"$f":"R23","v":0},null,{"$f":"T22+T23","v":0},{"$f":"U23","v":0},null,{"$f":"W22+W23","v":0},{"$f":"X23","v":0},null,{"$f":"Z22+Z23","v":0},{"$f":"AA23","v":0},null,{"$f":"AC22+AC23","v":0},{"$f":"AD23","v":0}]
["Amortization",null,null,{"$f":"D78","v":0},{"$f":"D38*E$20","v":0},{"$f":"D38*F$20","v":0},{"$f":"E78","v":0},{"$f":"G38*H$20","v":0},{"$f":"G38*I$20","v":0},{"$f":"F78","v":0},{"$f":"J38*K$20","v":0},{"$f":"J38*L$20","v":0},{"$f":"G78","v":0},{"$f":"M38*N$20","v":0},{"$f":"M38*O$20","v":0},{"$f":"H76+H77","v":0},{"$f":"P38*Q$20","v":0},{"$f":"P38*R$20","v":0},{"$f":"I76+I77","v":0},{"$f":"S38*T$20","v":0},{"$f":"S38*U$20","v":0},{"$f":"J76+J77","v":0},{"$f":"V38*W$20","v":0},{"$f":"V38*X$20","v":0},{"$f":"K76+K77","v":0},{"$f":"Y38*Z$20","v":0},{"$f":"Y38*AA$20","v":0},{"$f":"L76+L77","v":0},{"$f":"AB38*AC$20","v":0},{"$f":"AB38*AD$20","v":0}]
["Grossed-up PILs",null,null,null,{"$f":"E66","v":0},{"$f":"F66","v":0},null,{"$f":"H66","v":0},{"$f":"I66","v":0},null,{"$f":"K66","v":0},{"$f":"L66","v":0},null,{"$f":"N66","v":0},{"$f":"O66","v":0},null,{"$f":"Q66","v":0},{"$f":"R66","v":0},null,{"$f":"T66","v":0},{"$f":"U66","v":0},null,{"$f":"W66","v":0},{"$f":"X66","v":0},null,{"$f":"Z66","v":0},{"$f":"AA66","v":0},null,{"$f":"AC66","v":0},{"$f":"AD66","v":0}]
[]
["Revenue Requirement",null,null,null,{"$f":"SUM(E35:E39)","v":0},{"$f":"SUM(F35:F39)","v":0},null,{"$f":"SUM(H35:H39)","v":0},{"$f":"SUM(I35:I39)","v":0},null,{"$f":"SUM(K35:K39)","v":0},{"$f":"SUM(L35:L39)","v":0},null,{"$f":"SUM(N35:N39)","v":0},{"$f":"SUM(O35:O39)","v":0},null,{"$f":"SUM(Q35:Q39)","v":0},{"$f":"SUM(R35:R39)","v":0},null,{"$f":"SUM(T35:T39)","v":0},{"$f":"SUM(U35:U39)","v":0},null,{"$f":"SUM(W35:W39)","v":0},{"$f":"SUM(X35:X39)","v":0},null,{"$f":"SUM(Z35:Z39)","v":0},{"$f":"SUM(AA35:AA39)","v":0},null,{"$f":"SUM(AC35:AC39)","v":0},{"$f":"SUM(AD35:AD39)","v":0}]
[]
[]
["Provincial Rate Protection",null,null,null,null,{"$f":"F41","v":0},null,null,{"$f":"I41","v":0},null,null,{"$f":"L41","v":0},null,null,{"$f":"O41","v":0},null,null,{"$f":"R41","v":0},null,null,{"$f":"U41","v":0},null,null,{"$f":"X41","v":0},null,null,{"$f":"AA41","v":0},null,null,{"$f":"AD41","v":0}]
[]
["Monthly Amount Paid by IESO",null,null,null,null,{"$f":"F44/12","v":0},null,null,{"$f":"I44/12","v":0},null,null,{"$f":"L44/12","v":0},null,null,{"$f":"O44/12","v":0},null,null,{"$f":"R44/12","v":0},null,null,{"$f":"U44/12","v":0},null,null,{"$f":"X44/12","v":0},null,null,{"$f":"AA44/12","v":0},null,null,{"$f":"AD44/12","v":0}]
[]
["Note 1: The difference between the actual costs of approved eligible investments and revenue received from the IESO should be recorded in a variance account.  The Board may provide "]
["regulatory accounting guidance regarding a variance account either in an individual proceeding or on a generic basis."]
["Note 2: For the 2015 Test Year, Costs and Revenues of the Direct Benefit are to be included in the test year applicant Rate Base and Revenues."]
[]
["PILs Calculation"]
[null,null,null,null,2011,null,null,2012,null,null,2013,null,null,2014,null,null,"2015 TEST YEAR",null,null,2016,null,null,2017,null,null,2018,null,null,2019]
["Income Tax",null,null,null,"Direct Benefit","Provincial",null,"Direct Benefit","Provincial",null,"Direct Benefit","Provincial",null,"Direct Benefit","Provincial",null,"Direct Benefit","Provincial",null,"Direct Benefit","Provincial",null,"Direct Benefit","Provincial",null,"Direct Benefit","Provincial",null,"Direct Benefit","Provincial"]
[null,null,null,null,null,null,null,null,null,null,null,null,null,null,null,null,null,null,null,null,null,"Total",null,null,"Total",null,null,"Total"]
["Net Income - ROE on Rate Base",null,null,null,{"$f":"E34","v":0},{"$f":"F34","v":0},null,{"$f":"H34","v":0},{"$f":"I34","v":0},null,{"$f":"K34","v":0},{"$f":"L34","v":0},null,{"$f":"N34","v":0},{"$f":"O34","v":0},null,{"$f":"Q34","v":0},{"$f":"R34","v":0},null,{"$f":"T34","v":0},{"$f":"U34","v":0},null,{"$f":"W34","v":0},{"$f":"X34","v":0},null,{"$f":"Z34","v":0},{"$f":"AA34","v":0},null,{"$f":"AC34","v":0},{"$f":"AD34","v":0}]
["Amortization (17% DB and 83% P)",null,null,null,{"$f":"E38","v":0},{"$f":"F38","v":0},null,{"$f":"H38","v":0},{"$f":"I38","v":0},null,{"$f":"K38","v":0},{"$f":"L38","v":0},null,{"$f":"N38","v":0},{"$f":"O38","v":0},null,{"$f":"Q38","v":0},{"$f":"R38","v":0},null,{"$f":"T38","v":0},{"$f":"U38","v":0},null,{"$f":"W38","v":0},{"$f":"X38","v":0},null,{"$f":"Z38","v":0},{"$f":"AA38","v":0},null,{"$f":"AC38","v":0},{"$f":"AD38","v":0}]
["CCA (17% DB and 83% P)",null,null,null,{"$f":"-D94*E$20","v":0},{"$f":"-D94*F$20","v":0},null,{"$f":"-E94*H$20","v":0},{"$f":"-E94*I$20","v":0},null,{"$f":"-F94*K$20","v":0},{"$f":"-F94*L$20","v":0},null,{"$f":"-G94*N$20","v":0},{"$f":"-G94*O$20","v":0},null,{"$f":"-H94*Q$20","v":0},{"$f":"-H94*R$20","v":0},null,{"$f":"-I94*T$20","v":0},{"$f":"-I94*U$20","v":0},null,{"$f":"-J94*W$20","v":0},{"$f":"-J94*X$20","v":0},null,{"$f":"-K94*Z$20","v":0},{"$f":"-K94*AA$20","v":0},null,{"$f":"-L94*AC$20","v":0},{"$f":"-L94*AD$20","v":0}]
["Taxable income",null,null,null,{"$f":"SUM(E56:E58)","v":0},{"$f":"SUM(F56:F58)","v":0},null,{"$f":"SUM(H56:H58)","v":0},{"$f":"SUM(I56:I58)","v":0},null,{"$f":"SUM(K56:K58)","v":0},{"$f":"SUM(L56:L58)","v":0},null,{"$f":"SUM(N56:N58)","v":0},{"$f":"SUM(O56:O58)","v":0},null,{"$f":"SUM(Q56:Q58)","v":0},{"$f":"SUM(R56:R58)","v":0},null,{"$f":"SUM(T56:T58)","v":0},{"$f":"SUM(U56:U58)","v":0},null,{"$f":"SUM(W56:W58)","v":0},{"$f":"SUM(X56:X58)","v":0},null,{"$f":"SUM(Z56:Z58)","v":0},{"$f":"SUM(AA56:AA58)","v":0},null,{"$f":"SUM(AC56:AC58)","v":0},{"$f":"SUM(AD56:AD58)","v":0}]
[]
["Tax Rate  (to be entered)"]
[]
["Income Taxes Payable",null,null,null,{"$f":"E59*E61","v":0},{"$f":"F59*F61","v":0},null,{"$f":"H59*H61","v":0},{"$f":"I59*I61","v":0},null,{"$f":"K59*K61","v":0},{"$f":"L59*L61","v":0},null,{"$f":"N59*N61","v":0},{"$f":"O59*O61","v":0},null,{"$f":"Q59*Q61","v":0},{"$f":"R59*R61","v":0},null,{"$f":"T59*T61","v":0},{"$f":"U59*U61","v":0},null,{"$f":"W59*W61","v":0},{"$f":"X59*X61","v":0},null,{"$f":"Z59*Z61","v":0},{"$f":"AA59*AA61","v":0},null,{"$f":"AC59*AC61","v":0},{"$f":"AD59*AD61","v":0}]
["Gross Up"]
["Income Taxes Payable",null,null,null,{"$f":"E63/(1-E61)","v":0},{"$f":"F63/(1-F61)","v":0},null,{"$f":"H63/(1-H61)","v":0},{"$f":"I63/(1-I61)","v":0},null,{"$f":"K63/(1-K61)","v":0},{"$f":"L63/(1-L61)","v":0},null,{"$f":"N63/(1-N61)","v":0},{"$f":"O63/(1-O61)","v":0},null,{"$f":"Q63/(1-Q61)","v":0},{"$f":"R63/(1-R61)","v":0},null,{"$f":"T63/(1-T61)","v":0},{"$f":"U63/(1-U61)","v":0},null,{"$f":"W63/(1-W61)","v":0},{"$f":"X63/(1-X61)","v":0},null,{"$f":"Z63/(1-Z61)","v":0},{"$f":"AA63/(1-AA61)","v":0},null,{"$f":"AC63/(1-AC61)","v":0},{"$f":"AD63/(1-AD61)","v":0}]
["Grossed Up PILs",null,null,null,{"$f":"SUM(E65:E65)","v":0},{"$f":"SUM(F65:F65)","v":0},null,{"$f":"SUM(H65:H65)","v":0},{"$f":"SUM(I65:I65)","v":0},null,{"$f":"SUM(K65:K65)","v":0},{"$f":"SUM(L65:L65)","v":0},null,{"$f":"SUM(N65:N65)","v":0},{"$f":"SUM(O65:O65)","v":0},null,{"$f":"SUM(Q65:Q65)","v":0},{"$f":"SUM(R65:R65)","v":0},null,{"$f":"SUM(T65:T65)","v":0},{"$f":"SUM(U65:U65)","v":0},null,{"$f":"SUM(W65:W65)","v":0},{"$f":"SUM(X65:X65)","v":0},null,{"$f":"SUM(Z65:Z65)","v":0},{"$f":"SUM(AA65:AA65)","v":0},null,{"$f":"SUM(AC65:AC65)","v":0},{"$f":"SUM(AD65:AD65)","v":0}]
[]
[]
["Net Fixed Assets",null,null,2011,2012,2013,2014,2015,2016,2017,2018,2019]
[null,"Enter applicable amortization in years:",25]
["Opening Gross Fixed Assets",null,null,null,{"$f":"D73","v":0},0,0,0,0,0,0,0]
["Gross Capital Additions",null,null,{"$f":"'App.2-FA Proposed REG Invest.'!C99","v":0},{"$f":"'App.2-FA Proposed REG Invest.'!D99","v":0},{"$f":"'App.2-FA Proposed REG Invest.'!E99","v":0},{"$f":"'App.2-FA Proposed REG Invest.'!F99","v":0},{"$f":"'App.2-FA Proposed REG Invest.'!G99","v":0},{"$f":"'App.2-FA Proposed REG Invest.'!H99","v":0},{"$f":"'App.2-FA Proposed REG Invest.'!I99","v":0},{"$f":"'App.2-FA Proposed REG Invest.'!J99","v":0},{"$f":"'App.2-FA Proposed REG Invest.'!K99","v":0}]
["Closing Gross Fixed Assets",null,null,{"$f":"SUM(D71:D72)","v":0},0,0,0,0,0,0,0,0]
[]
["Opening Accumulated Amortization",null,null,null,{"$f":"+D78","v":0},{"$f":"E78","v":0},0,0,0,0,0,0]
["Current Year Amortization (before additions)",null,null,null,{"$f":"IF(ISERROR(E71/$C$70), 0, E71/$C$70)","v":0},{"$f":"IF(ISERROR(F71/$C$70), 0, F71/$C$70)","v":0},{"$f":"IF(ISERROR(G71/$C$70), 0, G71/$C$70)","v":0},{"$f":"H71/$C$70","v":0},{"$f":"I71/$C$70","v":0},{"$f":"J71/$C$70","v":0},{"$f":"K71/$C$70","v":0},{"$f":"L71/$C$70","v":0}]
["Additions (half year)",null,null,{"$f":"D72/C70/2","v":0},{"$f":"E72/C70/2","v":0},{"$f":"F72/C70/2","v":0},{"$f":"G72/C70/2","v":0},{"$f":"H72/C70/2","v":0},{"$f":"I72/C70/2","v":0},{"$f":"J72/C70/2","v":0},{"$f":"K72/C70/2","v":0},{"$f":"L72/C70/2","v":0}]
["Closing Accumulated Amortization",null,null,{"$f":"SUM(D75+D77)","v":0},{"$f":"SUM(E75:E77)","v":0},0,0,0,0,0,0,0]
[]
["Opening Net Fixed Assets",null,null,{"$f":"D71-D75","v":0},{"$f":"E71-E75","v":0},{"$f":"F71-F75","v":0},{"$f":"G71-G75","v":0},{"$f":"G81","v":0},{"$f":"H81","v":0},{"$f":"I81","v":0},{"$f":"J81","v":0},{"$f":"K81","v":0}]
["Closing Net Fixed Assets",null,null,{"$f":"D73-D78","v":0},0,0,0,0,0,0,0,0]
["Average Net Fixed Assets",null,null,{"$f":"SUM(D80:D81)/2","v":0},0,0,0,0,0,0,0,0]
[]
["UCC for PILs Calculation"]
[null,null,null,2014,2014,2014,2014,2015,2016,2017,2018,2019]
[]
["Opening UCC",null,null,null,{"$f":"D95","v":0},0,0,0,0,0,0,0]
["Capital Additions (from Appendix 2-FA)",null,null,{"$f":"D72","v":0},0,0,0,0,0,0,0,0]
["UCC Before Half Year Rule",null,null,{"$f":"SUM(D87:D88)","v":0},0,0,0,0,0,0,0,0]
["Half Year Rule (1/2 Additions - Disposals)",null,null,{"$f":"D88/2","v":0},0,0,0,0,0,0,0,0]
["Reduced UCC",null,null,{"$f":"D89-D90","v":0},0,0,0,0,0,0,0,0]
["CCA Rate Class (to be entered)",null,47,{"$f":"$C$92","v":47},{"$f":"$C$92","v":47},47,47,47,47,47,47,47]
["CCA Rate  (to be entered)",null,0.08,{"$f":"$C$93","v":0.08},{"$f":"$C$93","v":0.08},0.08,0.08,0.08,0.08,0.08,0.08,0.08]
["CCA",null,null,{"$f":"D91*D$93","v":0},0,0,0,0,0,0,0,0]
["Closing UCC",null,null,{"$f":"D89-D94","v":0},0,0,0,0,0,0,0,0]

{"sheet":"App.2-FA Proposed REG Inves (2","index":34,"n_rows":92,"n_cols":7,"rows_kept":92,"cut":false,"hidden":true,"merged":[[16,0,16,6],[17,0,17,6],[8,0,8,6],[9,0,9,6],[11,0,11,6],[12,0,12,6],[13,0,13,5],[14,0,14,5]]}
[null,null,null,null,null,"File Number:",{"$f":"EBNUMBER","v":"EB-2014-0096"}]
[null,null,null,null,null,"Exhibit:"]
[null,null,null,null,null,"Tab:"]
[null,null,null,null,null,"Schedule:"]
[null,null,null,null,null,"Page:"]
[]
[null,null,null,null,null,"Date:"]
[]
["Appendix 2-FA"]
["Renewable Generation Connection Investment Summary (over the rate setting period)"]
[]
["Enter the details of the Renewable Generation Connection projects as described in Section 2.5.2.5 of the Filing Requirements."]
["All costs entered on this page will be transferred to the appropriate cells in the appendices that follow."]
["For Part A, Renewable Enabling Improvements (REI), these amounts will be transferred to Appendix 2 - FB"]
["For Part B, Expansions, these amounts will be transferred to Appendix 2 - FC"]
[]
["If there are more than five projects proposed to be in-service in a certain year, please amend the tables below and ensure that the formulae for the Total Amounts in any given rate year are updated."]
["Based on the current methodology and allocation, amounts allocated represent 6% for REI Connection Investments and 17% for Expansion Investments. (pg 15, EB-2009-0349)"]
[]
[]
["Part A"]
["REI Investments (Direct Benefit at 6%)",null,2015,{"$f":"C22+1","v":2016},{"$f":"D22+1","v":2017},{"$f":"E22+1","v":2018},{"$f":"F22+1","v":2019}]
["Project 1"]
["Name: REI Connection Project"]
["Capital Costs",null,1000,0,1000,0,0]
["OM&A (Start-Up)",null,0,0,0,0,0]
["OM&A (Ongoing)",null,0,0,0,0,0]
[]
["Project 2"]
["Name: REI Connection Project"]
["Capital Costs",null,0,0,0,0,0]
["OM&A (Start-Up)",null,0,0,0,0,0]
["OM&A (Ongoing)",null,0,0,0,0,0]
[]
["Project 3"]
["Name: REI Connection Project"]
["Capital Costs",null,0,0,0,0,0]
["OM&A (Start-Up)",null,0,0,0,0,0]
["OM&A (Ongoing)",null,0,0,0,0,0]
[]
["Project 4"]
["Name: REI Connection Project"]
["Capital Costs",null,0,0,0,0,0]
["OM&A (Start-Up)",null,0,0,0,0,0]
["OM&A (Ongoing)",null,0,0,0,0,0]
[]
["Project 5"]
["Name: REI Connection Project"]
["Capital Costs",null,0,0,0,0,0]
["OM&A (Start-Up)",null,0,0,0,0,0]
["OM&A (Ongoing)",null,0,0,0,0,0]
[]
["Total Capital Costs",null,{"$f":"SUM(C49,C43,C37,C31,C25)","v":1000},{"$f":"SUM(D49,D43,D37,D31,D25)","v":0},1000,0,0]
["Total OM&A (Start-Up)",null,{"$f":"SUM(C50,C44,C38,C32,C26)","v":0},0,0,0,0]
["Total OM&A (Ongoing)",null,{"$f":"SUM(C51,C45,C39,C33,C27)","v":0},0,0,0,0]
[]
[]
["Part B"]
["Expansion Investments (Direct Benefit at 17%)",null,2015,{"$f":"C59+1","v":2016},{"$f":"D59+1","v":2017},{"$f":"E59+1","v":2018},{"$f":"F59+1","v":2019}]
["Project 1"]
["Name: Expansion Connection Project"]
["Capital Costs",null,0,0,0,0,0]
["OM&A (Start-Up)",null,0,0,0,0,0]
["OM&A (Ongoing)",null,0,0,0,0,0]
[]
["Project 2"]
["Name: Expansion Connection Project"]
["Capital Costs",null,0,0,0,0,0]
["OM&A (Start-Up)",null,0,0,0,0,0]
["OM&A (Ongoing)",null,0,0,0,0,0]
[]
["Project 3"]
["Name: Expansion Connection Project"]
["Capital Costs",null,0,0,0,0,0]
["OM&A (Start-Up)",null,0,0,0,0,0]
["OM&A (Ongoing)",null,0,0,0,0,0]
[]
["Project 4"]
["Name: Expansion Connection Project"]
["Capital Costs",null,0,0,0,0,0]
["OM&A (Start-Up)",null,0,0,0,0,0]
["OM&A (Ongoing)",null,0,0,0,0,0]
[]
["Project 5"]
["Name: Expansion Connection Project"]
["Capital Costs",null,0,0,0,0,0]
["OM&A (Start-Up)",null,0,0,0,0,0]
["OM&A (Ongoing)",null,0,0,0,0,0]
[]
["Total Capital Costs",null,{"$f":"SUM(C86,C80,C74,C68,C62)","v":0},{"$f":"SUM(D86,D80,D74,D68,D62)","v":0},0,0,0]
["Total OM&A (Start-Up)",null,{"$f":"SUM(C87,C81,C75,C69,C63)","v":0},0,0,0,0]
["Total OM&A (Ongoing)",null,{"$f":"SUM(C88,C82,C76,C70,C64)","v":0},0,0,0,0]

{"sheet":"App.2-FB Calc of REG Improv (2","index":35,"n_rows":95,"n_cols":18,"rows_kept":95,"cut":false,"hidden":true,"merged":[[49,0,49,1],[8,0,8,6],[9,0,9,6],[11,0,11,6],[12,0,12,6],[13,0,13,6],[16,3,16,5],[16,6,16,8],[16,9,16,11],[16,12,16,14],[16,15,16,17],[46,0,46,11],[48,0,48,11],[51,4,51,5],[51,7,51,8],[51,10,51,11],[51,13,51,14],[51,16,51,17]]}
[null,null,null,null,null,"File Number:",{"$f":"EBNUMBER","v":"EB-2014-0096"}]
[null,null,null,null,null,"Exhibit:"]
[null,null,null,null,null,"Tab:"]
[null,null,null,null,null,"Schedule:"]
[null,null,null,null,null,"Page:"]
[]
[null,null,null,null,null,"Date:"]
[]
["Appendix 2-FB"]
["Calculation of Renewable Generation Connection Direct Benefits/Provincial Amount: Renewable Enabling Improvement Investments"]
[]
["This table will calculate the distributor/provincial shares of the investments entered in Part A of Appendix 2-FA."]
["Enter values in green shaded cells: WCA percentage, debt percentages, interest rates, kWh, tax rates, amortization period, CCA Class and percentage."]
["Rate Riders are not calculated for Test Year as these assets and costs are already in the distributor's rate base/revenue requirement."]
[]
[]
[null,null,null,"2015 Test Year",null,null,2016,null,null,2017,2016,null,2018,null,null,2019]
[null,null,null,null,"Direct Benefit","Provincial",null,"Direct Benefit","Provincial",null,"Direct Benefit","Provincial",null,"Direct Benefit","Provincial",null,"Direct Benefit","Provincial"]
[null,null,null,"Total",0.06,0.94,"Total",0.06,0.94,"Total",0.06,0.94,"Total",0.06,0.94,"Total",0.06,0.94]
["Net Fixed Assets (average)",null,null,{"$f":"D82","v":490},{"$f":"D20*E19","v":29.4},{"$f":"D20*F19","v":460.59999999999997},{"$f":"E82","v":960},{"$f":"G20*H19","v":57.599999999999994},{"$f":"G20*I19","v":902.4},{"$f":"F82","v":1410},{"$f":"J20*K19","v":84.6},{"$f":"J20*L19","v":1325.3999999999999},{"$f":"G82","v":1840},{"$f":"M20*N19","v":110.39999999999999},{"$f":"M20*O19","v":1729.6},{"$f":"H82","v":1760},{"$f":"P20*Q19","v":105.6},{"$f":"P20*R19","v":1654.3999999999999}]
["Incremental OM&A (on-going, N/A for Provincial Recovery)",null,null,{"$f":"'App.2-FA Proposed REG Inves (2'!C55","v":0},{"$f":"D21","v":0},null,{"$f":"'App.2-FA Proposed REG Inves (2'!D55","v":0},{"$f":"G21","v":0},null,{"$f":"'App.2-FA Proposed REG Inves (2'!E55","v":0},{"$f":"J21","v":0},null,{"$f":"'App.2-FA Proposed REG Inves (2'!F55","v":0},{"$f":"M21","v":0},null,{"$f":"'App.2-FA Proposed REG Inves (2'!G55","v":0},{"$f":"P21","v":0}]
["Incremental OM&A (start-up, applicable for Provincial Recovery)",null,null,{"$f":"'App.2-FA Proposed REG Inves (2'!C54","v":0},{"$f":"D22*E19","v":0},{"$f":"D22*F19","v":0},{"$f":"'App.2-FA Proposed REG Inves (2'!D54","v":0},{"$f":"G22*H19","v":0},{"$f":"G22*I19","v":0},{"$f":"'App.2-FA Proposed REG Inves (2'!E54","v":0},{"$f":"J22*K19","v":0},{"$f":"J22*L19","v":0},{"$f":"'App.2-FA Proposed REG Inves (2'!F54","v":0},{"$f":"M22*N19","v":0},{"$f":"M22*O19","v":0},{"$f":"'App.2-FA Proposed REG Inves (2'!G54","v":0},{"$f":"P22*Q19","v":0},{"$f":"P22*R19","v":0}]
["WCA",0.13,null,null,{"$f":"(E21+E22)*$B$23","v":0},{"$f":"F22*$B$23","v":0},null,{"$f":"(H21+H22)*$B$23","v":0},{"$f":"I22*$B$23","v":0},null,{"$f":"(K21+K22)*$B$23","v":0},{"$f":"L22*$B$23","v":0},null,{"$f":"(N21+N22)*$B$23","v":0},{"$f":"O22*$B$23","v":0},null,{"$f":"(Q21+Q22)*$B$23","v":0},{"$f":"R22*$B$23","v":0}]
["Rate Base",null,null,null,{"$f":"SUM(E20+E23)","v":29.4},{"$f":"SUM(F20+F23)","v":460.59999999999997},null,{"$f":"SUM(H20+H23)","v":57.599999999999994},{"$f":"SUM(I20+I23)","v":902.4},null,{"$f":"SUM(K20+K23)","v":84.6},{"$f":"SUM(L20+L23)","v":1325.3999999999999},null,{"$f":"SUM(N20+N23)","v":110.39999999999999},{"$f":"SUM(O20+O23)","v":1729.6},null,{"$f":"SUM(Q20+Q23)","v":105.6},{"$f":"SUM(R20+R23)","v":1654.3999999999999}]
[]
[]
["Deemed ST Debt",0.04,null,null,{"$f":"E24*$B$27","v":1.1759999999999999},{"$f":"F24*$B$27","v":18.423999999999999},null,{"$f":"H24*$B$27","v":2.3039999999999998},{"$f":"I24*$B$27","v":36.095999999999997},null,{"$f":"K24*$B$27","v":3.3839999999999999},{"$f":"L24*$B$27","v":53.015999999999998},null,{"$f":"N24*$B$27","v":4.4159999999999995},{"$f":"O24*$B$27","v":69.183999999999997},null,{"$f":"Q24*$B$27","v":4.2240000000000002},{"$f":"R24*$B$27","v":66.176000000000002}]
["Deemed LT Debt",0.56000000000000005,null,null,{"$f":"E24*$B$28","v":16.464000000000002},{"$f":"F24*$B$28","v":257.93599999999998},null,{"$f":"H24*$B$28","v":32.256},{"$f":"I24*$B$28","v":505.34400000000005},null,{"$f":"K24*$B$28","v":47.376000000000005},{"$f":"L24*$B$28","v":742.22400000000005},null,{"$f":"N24*$B$28","v":61.823999999999998},{"$f":"O24*$B$28","v":968.57600000000002},null,{"$f":"Q24*$B$28","v":59.136000000000003},{"$f":"R24*$B$28","v":926.46400000000006}]
["Deemed Equity",0.4,null,null,{"$f":"E24*$B$29","v":11.76},{"$f":"F24*$B$29","v":184.24},null,{"$f":"H24*$B$29","v":23.04},{"$f":"I24*$B$29","v":360.96000000000004},null,{"$f":"K24*$B$29","v":33.839999999999996},{"$f":"L24*$B$29","v":530.16},null,{"$f":"N24*$B$29","v":44.16},{"$f":"O24*$B$29","v":691.84},null,{"$f":"Q24*$B$29","v":42.24},{"$f":"R24*$B$29","v":661.76}]
[]
["ST Interest",2.4E-2,null,null,{"$f":"E27*$B31","v":2.8223999999999999E-2},0.44217600000000001,null,{"$f":"H27*$B31","v":5.5295999999999998E-2},0.86630399999999996,null,{"$f":"K27*$B31","v":8.1215999999999997E-2},1.272384,null,{"$f":"N27*$B31","v":0.10598399999999999},1.6604159999999999,null,{"$f":"Q27*$B31","v":0.10137600000000001},1.5882240000000001]
["LT Interest",5.6000000000000001E-2,null,null,0.92198400000000014,14.444415999999999,null,1.8063359999999999,28.299264000000004,null,2.6530560000000003,41.564544000000005,null,3.4621439999999999,54.240256000000002,null,3.3116160000000003,51.881984000000003]
["ROE",8.5000000000000006E-2,null,null,0.99960000000000004,15.660400000000003,null,1.9584000000000001,30.681600000000007,null,2.8763999999999998,45.063600000000001,null,3.7536,58.806400000000004,null,3.5904000000000003,56.249600000000001]
["Cost of Capital Total",null,null,null,{"$f":"SUM(E31:E33)","v":1.9498080000000002},{"$f":"SUM(F31:F33)","v":30.546992000000003},null,{"$f":"SUM(H31:H33)","v":3.8200320000000003},{"$f":"SUM(I31:I33)","v":59.847168000000011},null,{"$f":"SUM(K31:K33)","v":5.6106720000000001},{"$f":"SUM(L31:L33)","v":87.900528000000008},null,{"$f":"SUM(N31:N33)","v":7.3217280000000002},{"$f":"SUM(O31:O33)","v":114.70707200000001},null,{"$f":"SUM(Q31:Q33)","v":7.0033920000000007},{"$f":"SUM(R31:R33)","v":109.719808}]
[]
["OM&A",null,null,null,{"$f":"E21+E22","v":0},{"$f":"F22","v":0},null,{"$f":"H21+H22","v":0},{"$f":"I22","v":0},null,{"$f":"K21+K22","v":0},{"$f":"L22","v":0},null,{"$f":"N21+N22","v":0},{"$f":"O22","v":0},null,{"$f":"Q21+Q22","v":0},{"$f":"R22","v":0}]
["Amortization",null,null,{"$f":"D77","v":20},{"$f":"D37*E$19","v":1.2},{"$f":"D37*F$19","v":18.799999999999997},{"$f":"E76+E77","v":40},{"$f":"G37*H$19","v":2.4},{"$f":"G37*I$19","v":37.599999999999994},{"$f":"F76+F77","v":60},{"$f":"J37*K$19","v":3.5999999999999996},{"$f":"J37*L$19","v":56.4},{"$f":"G76+G77","v":80},{"$f":"M37*N$19","v":4.8},{"$f":"M37*O$19","v":75.199999999999989},{"$f":"H76+H77","v":80},{"$f":"P37*Q$19","v":4.8},{"$f":"P37*R$19","v":75.199999999999989}]
["Grossed-up PILs",null,null,null,{"$f":"E65","v":0},{"$f":"F65","v":0},null,{"$f":"H65","v":0},{"$f":"I65","v":0},null,{"$f":"K65","v":0},{"$f":"L65","v":0},null,{"$f":"N65","v":0},{"$f":"O65","v":0},null,{"$f":"Q65","v":0},{"$f":"R65","v":0}]
[]
["Revenue Requirement",null,null,null,{"$f":"SUM(E34:E38)","v":3.1498080000000002},{"$f":"SUM(F34:F38)","v":49.346992},null,{"$f":"SUM(H34:H38)","v":6.2200319999999998},{"$f":"SUM(I34:I38)","v":97.447168000000005},null,{"$f":"SUM(K34:K38)","v":9.2106719999999989},{"$f":"SUM(L34:L38)","v":144.30052800000001},null,{"$f":"SUM(N34:N38)","v":12.121728000000001},{"$f":"SUM(O34:O38)","v":189.907072},null,{"$f":"SUM(Q34:Q38)","v":11.803392000000001},{"$f":"SUM(R34:R38)","v":184.91980799999999}]
[]
[]
["Provincial Rate Protection",null,null,null,null,{"$f":"F40","v":49.346992},null,null,{"$f":"I40","v":97.447168000000005},null,null,{"$f":"L40","v":144.30052800000001},null,null,{"$f":"O40","v":189.907072},null,null,{"$f":"R40","v":184.91980799999999}]
[]
["Monthly Amount Paid by IESO",null,null,null,null,{"$f":"F43/12","v":4.1122493333333336},null,null,{"$f":"I43/12","v":8.1205973333333343},null,null,{"$f":"L43/12","v":12.025044000000001},null,null,{"$f":"O43/12","v":15.825589333333333},null,null,{"$f":"R43/12","v":15.409984}]
[]
["Note 1: The difference between the actual costs of approved eligible investments and revenue received from the IESO should be recorded in a variance account.  The Board may provide "]
["regulatory accounting guidance regarding a variance account either in an individual proceeding or on a generic basis."]
["Note 2: For the 2014 Test Year, Costs and Revenues of the Direct Benefit are to be included in the test year applicant Rate Base and Revenues.  "]
[]
["PILs Calculation"]
[null,null,null,null,2015,null,null,{"$f":"E52+1","v":2016},null,null,{"$f":"H52+1","v":2017},null,null,{"$f":"K52+1","v":2018},null,null,{"$f":"N52+1","v":2019}]
["Income Tax",null,null,null,"Direct Benefit","Provincial",null,"Direct Benefit","Provincial",null,"Direct Benefit","Provincial",null,"Direct Benefit","Provincial",null,"Direct Benefit","Provincial"]
[null,null,null,null,null,null,null,null,null,null,null,null,"Total",null,null,"Total"]
["Net Income - ROE on Rate Base",null,null,null,{"$f":"E33","v":0.99960000000000004},{"$f":"F33","v":15.660400000000003},null,{"$f":"H33","v":1.9584000000000001},{"$f":"I33","v":30.681600000000007},null,{"$f":"K33","v":2.8763999999999998},{"$f":"L33","v":45.063600000000001},null,{"$f":"N33","v":3.7536},{"$f":"O33","v":58.806400000000004},null,{"$f":"Q33","v":3.5904000000000003},{"$f":"R33","v":56.249600000000001}]
["Amortization (6% DB and 94% P)",null,null,null,{"$f":"E37","v":1.2},{"$f":"F37","v":18.799999999999997},null,{"$f":"H37","v":2.4},{"$f":"I37","v":37.599999999999994},null,{"$f":"K37","v":3.5999999999999996},{"$f":"L37","v":56.4},null,{"$f":"N37","v":4.8},{"$f":"O37","v":75.199999999999989},null,{"$f":"Q37","v":4.8},{"$f":"R37","v":75.199999999999989}]
["CCA (6% DB and 94% P)",null,null,null,{"$f":"-D94*E$19","v":-2.4},{"$f":"-D94*F$19","v":-37.599999999999994},null,{"$f":"-E94*H$19","v":-4.6079999999999997},{"$f":"-E94*I$19","v":-72.191999999999993},null,{"$f":"-F94*K$19","v":-4.2393600000000005},{"$f":"-F94*L$19","v":-66.416640000000001},null,{"$f":"-G94*N$19","v":-3.9002112000000002},{"$f":"-G94*O$19","v":-61.103308800000008},null,{"$f":"-H94*Q$19","v":-3.5881943040000004},{"$f":"-H94*R$19","v":-56.215044096000007}]
["Taxable income",null,null,null,{"$f":"SUM(E55:E57)","v":-0.20039999999999969},{"$f":"SUM(F55:F57)","v":-3.1395999999999944},null,{"$f":"SUM(H55:H57)","v":-0.24960000000000004},{"$f":"SUM(I55:I57)","v":-3.9103999999999957},null,{"$f":"SUM(K55:K57)","v":2.2370399999999995},{"$f":"SUM(L55:L57)","v":35.046959999999999},null,{"$f":"SUM(N55:N57)","v":4.6533887999999992},{"$f":"SUM(O55:O57)","v":72.903091199999977},null,{"$f":"SUM(Q55:Q57)","v":4.8022056959999997},{"$f":"SUM(R55:R57)","v":75.234555903999961}]
[]
["Tax Rate  (to be entered)"]
[]
["Income Taxes Payable",null,null,null,{"$f":"E58*E60","v":0},{"$f":"F58*F60","v":0},null,{"$f":"H58*H60","v":0},{"$f":"I58*I60","v":0},null,{"$f":"K58*K60","v":0},{"$f":"L58*L60","v":0},null,{"$f":"N58*N60","v":0},{"$f":"O58*O60","v":0},null,{"$f":"Q58*Q60","v":0},{"$f":"R58*R60","v":0}]
["Gross Up"]
["Income Taxes Payable",null,null,null,{"$f":"E62/(1-E60)","v":0},{"$f":"F62/(1-F60)","v":0},null,{"$f":"H62/(1-H60)","v":0},{"$f":"I62/(1-I60)","v":0},null,{"$f":"K62/(1-K60)","v":0},{"$f":"L62/(1-L60)","v":0},null,{"$f":"N62/(1-N60)","v":0},{"$f":"O62/(1-O60)","v":0},null,{"$f":"Q62/(1-Q60)","v":0},{"$f":"R62/(1-R60)","v":0}]
["Grossed Up PILs",null,null,null,{"$f":"SUM(E64:E64)","v":0},{"$f":"SUM(F64:F64)","v":0},null,{"$f":"SUM(H64:H64)","v":0},{"$f":"SUM(I64:I64)","v":0},null,{"$f":"SUM(K64:K64)","v":0},{"$f":"SUM(L64:L64)","v":0},null,{"$f":"SUM(N64:N64)","v":0},{"$f":"SUM(O64:O64)","v":0},null,{"$f":"SUM(Q64:Q64)","v":0},{"$f":"SUM(R64:R64)","v":0}]
[]
[]
[null,null,null,2015,{"$f":"D68+1","v":2016},{"$f":"E68+1","v":2017},{"$f":"F68+1","v":2018},{"$f":"G68+1","v":2019}]
["Net Fixed Assets"]
[null,"Enter applicable amortization in years:",25]
["Opening Gross Fixed Assets",null,null,null,{"$f":"D73","v":1000},{"$f":"E73","v":1000},{"$f":"F73","v":2000},{"$f":"G73","v":2000}]
["Gross Capital Additions",null,null,{"$f":"'App.2-FA Proposed REG Inves (2'!C53","v":1000},{"$f":"'App.2-FA Proposed REG Inves (2'!D53","v":0},{"$f":"'App.2-FA Proposed REG Inves (2'!E53","v":1000},{"$f":"'App.2-FA Proposed REG Inves (2'!F53","v":0},{"$f":"'App.2-FA Proposed REG Inves (2'!G53","v":0}]
["Closing Gross Fixed Assets",null,null,{"$f":"SUM(D71:D72)","v":1000},{"$f":"SUM(E71:E72)","v":1000},{"$f":"SUM(F71:F72)","v":2000},{"$f":"SUM(G71:G72)","v":2000},{"$f":"SUM(H71:H72)","v":2000}]
[]
["Opening Accumulated Amortization",null,null,null,{"$f":"D78","v":20},{"$f":"E78","v":60},{"$f":"F78","v":120},{"$f":"G78","v":200}]
["Current Year Amortization (before additions)",null,null,null,{"$f":"IF(ISERROR(E71/$C$70), 0, E71/$C$70)","v":40},{"$f":"IF(ISERROR(F71/$C$70), 0, F71/$C$70)","v":40},{"$f":"IF(ISERROR(G71/$C$70), 0, G71/$C$70)","v":80},{"$f":"IF(ISERROR(H71/$C$70), 0, H71/$C$70)","v":80}]
["Additions (half year)",null,null,{"$f":"D72/C70/2","v":20},{"$f":"E72/C70/2","v":0},{"$f":"F72/C70/2","v":20},{"$f":"G72/C70/2","v":0},{"$f":"H72/C70/2","v":0}]
["Closing Accumulated Amortization",null,null,{"$f":"SUM(D75+D77)","v":20},{"$f":"SUM(E75:E77)","v":60},{"$f":"SUM(F75:F77)","v":120},{"$f":"SUM(G75:G77)","v":200},{"$f":"SUM(H75:H77)","v":280}]
[]
["Opening Net Fixed Assets",null,null,{"$f":"D71-D75","v":0},{"$f":"D81","v":980},{"$f":"E81","v":940},{"$f":"F81","v":1880},{"$f":"G81","v":1800}]
["Closing Net Fixed Assets",null,null,{"$f":"D73-D78","v":980},{"$f":"E73-E78","v":940},{"$f":"F73-F78","v":1880},{"$f":"G73-G78","v":1800},{"$f":"H73-H78","v":1720}]
["Average Net Fixed Assets",null,null,{"$f":"SUM(D80:D81)/2","v":490},{"$f":"SUM(E80:E81)/2","v":960},{"$f":"SUM(F80:F81)/2","v":1410},{"$f":"SUM(G80:G81)/2","v":1840},{"$f":"SUM(H80:H81)/2","v":1760}]
[]
["UCC for PILs Calculation"]
[null,null,null,2015,{"$f":"D85+1","v":2016},{"$f":"E85+1","v":2017},{"$f":"F85+1","v":2018},{"$f":"G85+1","v":2019}]
[]
["Opening UCC",null,null,null,{"$f":"D95","v":960},{"$f":"E95","v":883.2},{"$f":"F95","v":812.5440000000001},{"$f":"G95","v":747.54048000000012}]
["Capital Additions (from Appendix 2-FA)",null,null,{"$f":"D72","v":1000},{"$f":"'App.2-FA Proposed REG Inves (2'!D31","v":0},{"$f":"'App.2-FA Proposed REG Inves (2'!E31","v":0},{"$f":"'App.2-FA Proposed REG Inves (2'!F31","v":0},{"$f":"'App.2-FA Proposed REG Inves (2'!G31","v":0}]
["UCC Before Half Year Rule",null,null,{"$f":"SUM(D87:D88)","v":1000},{"$f":"SUM(E87:E88)","v":960},{"$f":"SUM(F87:F88)","v":883.2},{"$f":"SUM(G87:G88)","v":812.5440000000001},{"$f":"SUM(H87:H88)","v":747.54048000000012}]
["Half Year Rule (1/2 Additions - Disposals)",null,null,{"$f":"D88/2","v":500},{"$f":"E88/2","v":0},{"$f":"F88/2","v":0},{"$f":"G88/2","v":0},{"$f":"H88/2","v":0}]
["Reduced UCC",null,null,{"$f":"D89-D90","v":500},{"$f":"E89-E90","v":960},{"$f":"F89-F90","v":883.2},{"$f":"G89-G90","v":812.5440000000001},{"$f":"H89-H90","v":747.54048000000012}]
["CCA Rate Class (to be entered)",null,47,{"$f":"C92","v":47},{"$f":"C92","v":47},{"$f":"C92","v":47},{"$f":"C92","v":47},{"$f":"C92","v":47}]
["CCA Rate  (to be entered)",null,0.08,{"$f":"C93","v":0.08},{"$f":"C93","v":0.08},{"$f":"C93","v":0.08},{"$f":"C93","v":0.08},{"$f":"C93","v":0.08}]
["CCA",null,null,{"$f":"D91*D93","v":40},{"$f":"E91*E93","v":76.8},{"$f":"F91*F93","v":70.656000000000006},{"$f":"G91*G93","v":65.003520000000009},{"$f":"H91*H93","v":59.803238400000012}]
["Closing UCC",null,null,{"$f":"D89-D94","v":960},{"$f":"E89-E94","v":883.2},{"$f":"F89-F94","v":812.5440000000001},{"$f":"G89-G94","v":747.54048000000012},{"$f":"H89-H94","v":687.73724160000006}]

{"sheet":"App.2-FC Calc of REG Expans (2","index":36,"n_rows":94,"n_cols":18,"rows_kept":94,"cut":false,"hidden":true,"merged":[[8,0,8,5],[9,0,9,5],[11,0,11,5],[12,0,12,5],[13,0,13,5],[51,16,51,17],[16,6,16,8],[16,9,16,11],[16,12,16,14],[16,15,16,17],[46,0,46,11],[48,0,48,12],[16,3,16,5],[49,0,49,1],[51,4,51,5],[51,7,51,8],[51,10,51,11],[51,13,51,14]]}
[null,null,null,null,"File Number:",{"$f":"EBNUMBER","v":"EB-2014-0096"}]
[null,null,null,null,"Exhibit:"]
[null,null,null,null,"Tab:"]
[null,null,null,null,"Schedule:"]
[null,null,null,null,"Page:"]
[]
[null,null,null,null,"Date:"]
[]
["Appendix 2-FC"]
["Calculation of Renewable Generation Connection Direct Benefits/Provincial Amount: Renewable Expansion Investments"]
[]
["This table will calculate the distributor/provincial shares of the investments entered in Part B of Appendix 2-FA."]
["Enter values in green shaded cells: WCA percentage, debt percentages, interest rates, kWh, tax rates, amortization period, CCA Class and percentage."]
["Rate Riders are not calculated for Test Year as these assets and costs are already in the distributors rate base."]
[]
[]
[null,null,null,"2014 Test Year",null,null,2015,null,null,2016,2016,null,2017,null,null,2018]
[null,null,null,null,"Direct Benefit","Provincial",null,"Direct Benefit","Provincial",null,"Direct Benefit","Provincial",null,"Direct Benefit","Provincial",null,"Direct Benefit","Provincial"]
[null,null,null,"Total",0.17,0.83,"Total",0.17,0.83,"Total",0.17,0.83,"Total",0.17,0.83,"Total",0.17,0.83]
["Net Fixed Assets (average)",null,null,{"$f":"D81","v":0},{"$f":"D20*E19","v":0},{"$f":"D20*F19","v":0},{"$f":"E81","v":0},{"$f":"G20*H19","v":0},{"$f":"G20*I19","v":0},{"$f":"F81","v":0},{"$f":"J20*K19","v":0},{"$f":"J20*L19","v":0},{"$f":"G81","v":0},{"$f":"M20*N19","v":0},{"$f":"M20*O19","v":0},{"$f":"H81","v":0},{"$f":"P20*Q19","v":0},{"$f":"P20*R19","v":0}]
["Incremental OM&A (on-going, N/A for Provincial Recovery)",null,null,{"$f":"'App.2-FA Proposed REG Inves (2'!C$92","v":0},{"$f":"D21","v":0},null,{"$f":"'App.2-FA Proposed REG Inves (2'!D$92","v":0},{"$f":"G21","v":0},null,{"$f":"'App.2-FA Proposed REG Inves (2'!E$92","v":0},{"$f":"J21","v":0},null,{"$f":"'App.2-FA Proposed REG Inves (2'!F$92","v":0},{"$f":"M21","v":0},null,{"$f":"'App.2-FA Proposed REG Inves (2'!G$92","v":0},{"$f":"P21","v":0}]
["Incremental OM&A (start-up, applicable for Provincial Recovery)",null,null,{"$f":"'App.2-FA Proposed REG Inves (2'!C$91","v":0},{"$f":"D22*E19","v":0},{"$f":"D22*F19","v":0},{"$f":"'App.2-FA Proposed REG Inves (2'!D$91","v":0},{"$f":"G22*H19","v":0},{"$f":"G22*I19","v":0},{"$f":"'App.2-FA Proposed REG Inves (2'!E$91","v":0},{"$f":"J22*K19","v":0},{"$f":"J22*L19","v":0},{"$f":"'App.2-FA Proposed REG Inves (2'!F$91","v":0},{"$f":"M22*N19","v":0},{"$f":"M22*O19","v":0},{"$f":"'App.2-FA Proposed REG Inves (2'!G$91","v":0},{"$f":"P22*Q19","v":0},{"$f":"P22*R19","v":0}]
["WCA",null,null,null,{"$f":"(E21+E22)*$B$23","v":0},{"$f":"F22*$B$23","v":0},null,{"$f":"(H21+H22)*$B$23","v":0},{"$f":"I22*$B$23","v":0},null,{"$f":"(K21+K22)*$B$23","v":0},{"$f":"L22*$B$23","v":0},null,{"$f":"(N21+N22)*$B$23","v":0},{"$f":"O22*$B$23","v":0},null,{"$f":"(Q21+Q22)*$B$23","v":0},{"$f":"R22*$B$23","v":0}]
["Rate Base",null,null,null,{"$f":"SUM(E20+E23)","v":0},{"$f":"SUM(F20+F23)","v":0},null,{"$f":"SUM(H20+H23)","v":0},{"$f":"SUM(I20+I23)","v":0},null,{"$f":"SUM(K20+K23)","v":0},{"$f":"SUM(L20+L23)","v":0},null,{"$f":"SUM(N20+N23)","v":0},{"$f":"SUM(O20+O23)","v":0},null,{"$f":"SUM(Q20+Q23)","v":0},{"$f":"SUM(R20+R23)","v":0}]
[]
[]
["Deemed ST Debt",null,null,null,{"$f":"E24*$B$27","v":0},{"$f":"F24*$B$27","v":0},null,{"$f":"H24*$B$27","v":0},{"$f":"I24*$B$27","v":0},null,{"$f":"K24*$B$27","v":0},{"$f":"L24*$B$27","v":0},null,{"$f":"N24*$B$27","v":0},{"$f":"O24*$B$27","v":0},null,{"$f":"Q24*$B$27","v":0},{"$f":"R24*$B$27","v":0}]
["Deemed LT Debt",null,null,null,{"$f":"E24*$B$28","v":0},{"$f":"F24*$B$28","v":0},null,{"$f":"H24*$B$28","v":0},{"$f":"I24*$B$28","v":0},null,{"$f":"K24*$B$28","v":0},{"$f":"L24*$B$28","v":0},null,{"$f":"N24*$B$28","v":0},{"$f":"O24*$B$28","v":0},null,{"$f":"Q24*$B$28","v":0},{"$f":"R24*$B$28","v":0}]
["Deemed Equity",null,null,null,{"$f":"E24*$B$29","v":0},{"$f":"F24*$B$29","v":0},null,{"$f":"H24*$B$29","v":0},{"$f":"I24*$B$29","v":0},null,{"$f":"K24*$B$29","v":0},{"$f":"L24*$B$29","v":0},null,{"$f":"N24*$B$29","v":0},{"$f":"O24*$B$29","v":0},null,{"$f":"Q24*$B$29","v":0},{"$f":"R24*$B$29","v":0}]
[]
["ST Interest",null,null,null,{"$f":"E27*$B$31","v":0},{"$f":"F27*$B$31","v":0},null,{"$f":"H27*$B$31","v":0},{"$f":"I27*$B$31","v":0},null,{"$f":"K27*$B$31","v":0},{"$f":"L27*$B$31","v":0},null,{"$f":"N27*$B$31","v":0},{"$f":"O27*$B$31","v":0},null,{"$f":"Q27*$B$31","v":0},{"$f":"R27*$B$31","v":0}]
["LT Interest",null,null,null,{"$f":"E28*$B$32","v":0},{"$f":"F28*$B$32","v":0},null,{"$f":"H28*$B$32","v":0},{"$f":"I28*$B$32","v":0},null,{"$f":"K28*$B$32","v":0},{"$f":"L28*$B$32","v":0},null,{"$f":"N28*$B$32","v":0},{"$f":"O28*$B$32","v":0},null,{"$f":"Q28*$B$32","v":0},{"$f":"R28*$B$32","v":0}]
["ROE",null,null,null,{"$f":"E29*$B$33","v":0},{"$f":"F29*$B$33","v":0},null,{"$f":"H29*$B$33","v":0},{"$f":"I29*$B$33","v":0},null,{"$f":"K29*$B$33","v":0},{"$f":"L29*$B$33","v":0},null,{"$f":"N29*$B$33","v":0},{"$f":"O29*$B$33","v":0},null,{"$f":"Q29*$B$33","v":0},{"$f":"R29*$B$33","v":0}]
["Cost of Capital Total",null,null,null,{"$f":"SUM(E31:E33)","v":0},{"$f":"SUM(F31:F33)","v":0},null,{"$f":"SUM(H31:H33)","v":0},{"$f":"SUM(I31:I33)","v":0},null,{"$f":"SUM(K31:K33)","v":0},{"$f":"SUM(L31:L33)","v":0},null,{"$f":"SUM(N31:N33)","v":0},{"$f":"SUM(O31:O33)","v":0},null,{"$f":"SUM(Q31:Q33)","v":0},{"$f":"SUM(R31:R33)","v":0}]
[]
["OM&A",null,null,null,{"$f":"E21+E22","v":0},{"$f":"F22","v":0},null,{"$f":"H21+H22","v":0},{"$f":"I22","v":0},null,{"$f":"K21+K22","v":0},{"$f":"L22","v":0},null,{"$f":"N21+N22","v":0},{"$f":"O22","v":0},null,{"$f":"Q21+Q22","v":0},{"$f":"R22","v":0}]
["Amortization",null,null,{"$f":"D77","v":0},{"$f":"D37*E$19","v":0},{"$f":"D37*F$19","v":0},{"$f":"E75+E76","v":0},{"$f":"G37*H$19","v":0},{"$f":"G37*I$19","v":0},{"$f":"F75+F76","v":0},{"$f":"J37*K$19","v":0},{"$f":"J37*L$19","v":0},{"$f":"G75+G76","v":0},{"$f":"M37*N$19","v":0},{"$f":"M37*O$19","v":0},{"$f":"H75+H76","v":0},{"$f":"P37*Q$19","v":0},{"$f":"P37*R$19","v":0}]
["Grossed-up PILs",null,null,null,{"$f":"E65","v":0},{"$f":"F65","v":0},null,{"$f":"H65","v":0},{"$f":"I65","v":0},null,{"$f":"K65","v":0},{"$f":"L65","v":0},null,{"$f":"N65","v":0},{"$f":"O65","v":0},null,{"$f":"Q65","v":0},{"$f":"R65","v":0}]
[]
["Revenue Requirement",null,null,null,{"$f":"SUM(E34:E38)","v":0},{"$f":"SUM(F34:F38)","v":0},null,{"$f":"SUM(H34:H38)","v":0},{"$f":"SUM(I34:I38)","v":0},null,{"$f":"SUM(K34:K38)","v":0},{"$f":"SUM(L34:L38)","v":0},null,{"$f":"SUM(N34:N38)","v":0},{"$f":"SUM(O34:O38)","v":0},null,{"$f":"SUM(Q34:Q38)","v":0},{"$f":"SUM(R34:R38)","v":0}]
[]
[]
["Provincial Rate Protection",null,null,null,null,{"$f":"F40","v":0},null,null,{"$f":"I40","v":0},null,null,{"$f":"L40","v":0},null,null,{"$f":"O40","v":0},null,null,{"$f":"R40","v":0}]
[]
["Monthly Amount Paid by IESO",null,null,null,null,{"$f":"F43/12","v":0},null,null,{"$f":"I43/12","v":0},null,null,{"$f":"L43/12","v":0},null,null,{"$f":"O43/12","v":0},null,null,{"$f":"R43/12","v":0}]
[]
["Note 1: The difference between the actual costs of approved eligible investments and revenue received from the IESO should be recorded in a variance account.  The Board may provide "]
["regulatory accounting guidance regarding a variance account either in an individual proceeding or on a generic basis."]
["Note 2: For the 2014 Test Year, Costs and Revenues of the Direct Benefit are to be included in the test year applicant Rate Base and Revenues."]
[]
["PILs Calculation"]
[null,null,null,null,2014,null,null,2015,null,null,2016,null,null,2017,null,null,2018]
["Income Tax",null,null,null,"Direct Benefit","Provincial",null,"Direct Benefit","Provincial",null,"Direct Benefit","Provincial",null,"Direct Benefit","Provincial",null,"Direct Benefit","Provincial"]
[null,null,null,null,null,null,null,null,null,null,null,null,"Total",null,null,"Total"]
["Net Income - ROE on Rate Base",null,null,null,{"$f":"E33","v":0},{"$f":"F33","v":0},null,{"$f":"H33","v":0},{"$f":"I33","v":0},null,{"$f":"K33","v":0},{"$f":"L33","v":0},null,{"$f":"N33","v":0},{"$f":"O33","v":0},null,{"$f":"Q33","v":0},{"$f":"R33","v":0}]
["Amortization (17% DB and 83% P)",null,null,null,{"$f":"E37","v":0},{"$f":"F37","v":0},null,{"$f":"H37","v":0},{"$f":"I37","v":0},null,{"$f":"K37","v":0},{"$f":"L37","v":0},null,{"$f":"N37","v":0},{"$f":"O37","v":0},null,{"$f":"Q37","v":0},{"$f":"R37","v":0}]
["CCA (17% DB and 83% P)",null,null,null,{"$f":"-D93*E$19","v":0},{"$f":"-D93*F$19","v":0},null,{"$f":"-E93*H$19","v":0},{"$f":"-E93*I$19","v":0},null,{"$f":"-F93*K$19","v":0},{"$f":"-F93*L$19","v":0},null,{"$f":"-G93*N$19","v":0},{"$f":"-G93*O$19","v":0},null,{"$f":"-H93*Q$19","v":0},{"$f":"-H93*R$19","v":0}]
["Taxable income",null,null,null,{"$f":"SUM(E55:E57)","v":0},{"$f":"SUM(F55:F57)","v":0},null,{"$f":"SUM(H55:H57)","v":0},{"$f":"SUM(I55:I57)","v":0},null,{"$f":"SUM(K55:K57)","v":0},{"$f":"SUM(L55:L57)","v":0},null,{"$f":"SUM(N55:N57)","v":0},{"$f":"SUM(O55:O57)","v":0},null,{"$f":"SUM(Q55:Q57)","v":0},{"$f":"SUM(R55:R57)","v":0}]
[]
["Tax Rate  (to be entered)"]
[]
["Income Taxes Payable",null,null,null,{"$f":"E58*E60","v":0},{"$f":"F58*F60","v":0},null,{"$f":"H58*H60","v":0},{"$f":"I58*I60","v":0},null,{"$f":"K58*K60","v":0},{"$f":"L58*L60","v":0},null,{"$f":"N58*N60","v":0},{"$f":"O58*O60","v":0},null,{"$f":"Q58*Q60","v":0},{"$f":"R58*R60","v":0}]
["Gross Up"]
["Income Taxes Payable",null,null,null,{"$f":"E62/(1-E60)","v":0},{"$f":"F62/(1-F60)","v":0},null,{"$f":"H62/(1-H60)","v":0},{"$f":"I62/(1-I60)","v":0},null,{"$f":"K62/(1-K60)","v":0},{"$f":"L62/(1-L60)","v":0},null,{"$f":"N62/(1-N60)","v":0},{"$f":"O62/(1-O60)","v":0},null,{"$f":"Q62/(1-Q60)","v":0},{"$f":"R62/(1-R60)","v":0}]
["Grossed Up PILs",null,null,null,{"$f":"SUM(E64:E64)","v":0},{"$f":"SUM(F64:F64)","v":0},null,{"$f":"SUM(H64:H64)","v":0},{"$f":"SUM(I64:I64)","v":0},null,{"$f":"SUM(K64:K64)","v":0},{"$f":"SUM(L64:L64)","v":0},null,{"$f":"SUM(N64:N64)","v":0},{"$f":"SUM(O64:O64)","v":0},null,{"$f":"SUM(Q64:Q64)","v":0},{"$f":"SUM(R64:R64)","v":0}]
[]
[]
["Net Fixed Assets",null,null,2014,2015,2016,2017,2018]
[null,"Enter applicable amortization in years:",25]
["Opening Gross Fixed Assets",null,null,null,{"$f":"D72","v":0},{"$f":"E72","v":0},{"$f":"F72","v":0},{"$f":"G72","v":0}]
["Gross Capital Additions",null,null,{"$f":"'App.2-FA Proposed REG Inves (2'!C90","v":0},{"$f":"'App.2-FA Proposed REG Inves (2'!D90","v":0},{"$f":"'App.2-FA Proposed REG Inves (2'!E90","v":0},{"$f":"'App.2-FA Proposed REG Inves (2'!F90","v":0},{"$f":"'App.2-FA Proposed REG Inves (2'!G90","v":0}]
["Closing Gross Fixed Assets",null,null,{"$f":"SUM(D70:D71)","v":0},{"$f":"SUM(E70:E71)","v":0},{"$f":"SUM(F70:F71)","v":0},{"$f":"SUM(G70:G71)","v":0},{"$f":"SUM(H70:H71)","v":0}]
[]
["Opening Accumulated Amortization",null,null,null,{"$f":"D77","v":0},{"$f":"E77","v":0},{"$f":"F77","v":0},{"$f":"G77","v":0}]
["Current Year Amortization (before additions)",null,null,null,{"$f":"E70/$C$69","v":0},{"$f":"F70/$C$69","v":0},{"$f":"G70/$C$69","v":0},{"$f":"H70/$C$69","v":0}]
["Additions (half year)",null,null,{"$f":"D71/C69/2","v":0},{"$f":"E71/C69/2","v":0},{"$f":"F71/C69/2","v":0},{"$f":"G71/C69/2","v":0},{"$f":"H71/C69/2","v":0}]
["Closing Accumulated Amortization",null,null,{"$f":"SUM(D74+D76)","v":0},{"$f":"SUM(E74:E76)","v":0},{"$f":"SUM(F74:F76)","v":0},{"$f":"SUM(G74:G76)","v":0},{"$f":"SUM(H74:H76)","v":0}]
[]
["Opening Net Fixed Assets",null,null,{"$f":"D70-D74","v":0},{"$f":"D80","v":0},{"$f":"E80","v":0},{"$f":"F80","v":0},{"$f":"G80","v":0}]
["Closing Net Fixed Assets",null,null,{"$f":"D72-D77","v":0},{"$f":"E72-E77","v":0},{"$f":"F72-F77","v":0},{"$f":"G72-G77","v":0},{"$f":"H72-H77","v":0}]
["Average Net Fixed Assets",null,null,{"$f":"SUM(D79:D80)/2","v":0},{"$f":"SUM(E79:E80)/2","v":0},{"$f":"SUM(F79:F80)/2","v":0},{"$f":"SUM(G79:G80)/2","v":0},{"$f":"SUM(H79:H80)/2","v":0}]
[]
["UCC for PILs Calculation"]
[null,null,null,2014,2015,2016,2017,2018]
[]
["Opening UCC",null,null,null,{"$f":"D94","v":0},{"$f":"E94","v":0},{"$f":"F94","v":0},{"$f":"G94","v":0}]
["Capital Additions (from Appendix 2-FA)",null,null,{"$f":"D71","v":0},{"$f":"E71","v":0},{"$f":"F71","v":0},{"$f":"G71","v":0},{"$f":"H71","v":0}]
["UCC Before Half Year Rule",null,null,{"$f":"SUM(D86:D87)","v":0},{"$f":"SUM(E86:E87)","v":0},{"$f":"SUM(F86:F87)","v":0},{"$f":"SUM(G86:G87)","v":0},{"$f":"SUM(H86:H87)","v":0}]
["Half Year Rule (1/2 Additions - Disposals)",null,null,{"$f":"D87/2","v":0},{"$f":"E87/2","v":0},{"$f":"F87/2","v":0},{"$f":"G87/2","v":0},{"$f":"H87/2","v":0}]
["Reduced UCC",null,null,{"$f":"D88-D89","v":0},{"$f":"E88-E89","v":0},{"$f":"F88-F89","v":0},{"$f":"G88-G89","v":0},{"$f":"H88-H89","v":0}]
["CCA Rate Class (to be entered)",null,47,{"$f":"C91","v":47},{"$f":"C91","v":47},{"$f":"C91","v":47},{"$f":"C91","v":47},{"$f":"C91","v":47}]
["CCA Rate  (to be entered)",null,0.08,{"$f":"C92","v":0.08},{"$f":"C92","v":0.08},{"$f":"C92","v":0.08},{"$f":"C92","v":0.08},{"$f":"C92","v":0.08}]
["CCA",null,null,{"$f":"D90*D$92","v":0},{"$f":"E90*E$92","v":0},{"$f":"F90*F$92","v":0},{"$f":"G90*G$92","v":0},{"$f":"H90*H$92","v":0}]
["Closing UCC",null,null,{"$f":"D88-D93","v":0},{"$f":"E88-E93","v":0},{"$f":"F88-F93","v":0},{"$f":"G88-G93","v":0},{"$f":"H88-H93","v":0}]

{"sheet":"App.2-G SQI","index":37,"n_rows":37,"n_cols":11,"rows_kept":37,"cut":false,"hidden":false,"merged":[[18,1,18,4],[18,6,18,9],[21,0,21,10],[22,0,22,10],[17,0,17,10],[19,1,19,4],[19,6,19,9],[8,0,8,10],[9,0,9,10],[10,0,10,10],[12,0,13,0],[12,1,12,5],[12,6,12,10],[25,0,25,1],[26,0,26,1],[27,0,27,1],[33,0,33,1],[34,0,34,1],[35,0,35,1],[36,0,36,1],[28,0,28,1],[29,0,29,1],[30,0,30,1],[31,0,31,1],[32,0,32,1]]}
[null,null,null,null,null,null,null,null,"File Number:",null,{"$f":"EBNUMBER","v":"EB-2014-0096"}]
[null,null,null,null,null,null,null,null,"Exhibit:",null,2]
[null,null,null,null,null,null,null,null,"Tab:",null,3]
[null,null,null,null,null,null,null,null,"Schedule:",null,1]
[null,null,null,null,null,null,null,null,"Page:",null,1]
[]
[null,null,null,null,null,null,null,null,"Date:",null,"2014-08-29"]
[]
["Appendix 2-G"]
["Service Reliability Indicators"]
["2009 - 2013"]
[]
["Index","Includes outages caused by loss of supply",null,null,null,null,"Excludes outages caused by loss of supply"]
[null,2009,2010,2011,2012,2013,2009,2010,2011,2012,2013]
["SAIDI ",2.6707663369238164,2.1050615457895661,2.58,2.75,5.56,2.6707663369238164,1.7748251397628418,2.58,2.31,5.31]
["SAIFI",1.1179679753016585,1.2308355687031511,1.54,1.7,2.21,2.3889470860765671,1.6720199520093715,1.68,1.88,2.74]
[]
["5 Year Historical Average"]
["SAIDI ",null,null,null,null,{"$f":"IF(ISERROR(AVERAGE(B15:F15)), \"\", AVERAGE(B15:F15))","v":3.1331655765426767},null,null,null,null,{"$f":"IF(ISERROR(AVERAGE(G15:K15)), \"\", AVERAGE(G15:K15))","v":2.9291182953373314}]
["SAIFI",null,null,null,null,{"$f":"IF(ISERROR(AVERAGE(B16:F16)), \"\", AVERAGE(B16:F16))","v":1.559760708800962},null,null,null,null,{"$f":"IF(ISERROR(AVERAGE(G16:K16)), \"\", AVERAGE(G16:K16))","v":2.0721934076171875}]
[]
["SAIDI = System Average Interruption Duration Index"]
["SAIFI = System Average Interruption Frequency Index "]
[]
[]
["Indicator",null,"OEB Minimum Standard",2009,2010,2011,2012,2013]
["Low Voltage Connections",null,0.9,0.879,0.84699999999999998,0.81700000000000006,0.89300000000000002,0.79200000000000004]
["High Voltage Connections",null,0.9,0.9,0.85699999999999998,0.93299999999999994,0.94,0.9]
["Telephone Accessibility",null,0.65,0.61,0.41499999999999998,0.70299999999999996,0.7609999999999999,0.80700000000000005]
["Appointments Met",null,0.9,1,1,0.83200000000000007,0.996,0.96199999999999997]
["Written Response to Enquires",null,0.8,0.998,0.81499999999999995,0.9840000000000001,1,1]
["Emergency Urban Response",null,0.8,1,1,1,0.92200000000000004,0.86699999999999999]
["Emergency Rural Response",null,0.8,0.92900000000000005,1,1,0.84,0.82099999999999995]
["Telephone Call Abandon Rate",null,0.1,3.6000000000000004E-2,0.13900000000000001,1.8000000000000002E-2,3.9E-2,1.4E-2]
["Appointment Scheduling",null,0.9,1,1,1,0.996,1]
["Rescheduling a Missed Appointment",null,1,"n/a",1,1,1,1]
["Reconnection Performance Standard",null,0.85,"n/a","n/a",1,0.88099999999999989,1]

{"sheet":"App.2-I LF_CDM_WF_OLD","index":38,"n_rows":77,"n_cols":12,"rows_kept":77,"cut":false,"hidden":true,"merged":[[9,0,9,5],[8,0,8,5],[15,0,15,5],[17,0,17,5],[58,0,58,5],[36,0,36,5],[40,0,40,4],[69,1,69,5],[76,0,76,5],[13,0,13,5],[38,0,38,5],[43,0,43,1],[47,0,47,1],[19,0,19,5],[20,0,20,5],[27,0,27,5],[62,0,62,5],[64,0,64,5],[66,0,66,5],[35,0,35,5],[52,0,52,5],[49,0,49,5],[50,0,50,5]]}
[null,null,null,null,"File Number:",{"$f":"EBNUMBER","v":"EB-2014-0096"},null,{"$f":"'LDC Info'!$E$16","v":"EB-2014-0096"}]
[null,null,null,null,"Exhibit:"]
[null,null,null,null,"Tab:"]
[null,null,null,null,"Schedule:"]
[null,null,null,null,"Page:"]
[]
[null,null,null,null,"Date:"]
[]
["Appendix 2-I"]
["Load Forecast CDM Adjustment Work Form (2015)"]
[]
["Input the 2011-2014 CDM target in Cell B21."]
[]
["Input the measured results for 2011 CDM programs for each of the years 2011 and persistence into 2012, 2013 and 2014 into cells B29 to E29.  These results are taken from the final 2011 CDM Report issued by the OPA for that distributor in the fall of 2012."]
[]
["Measured results for 2012 CDM programs for each of the years 2012 and persistence into 2013 and 2014 are input into cells C30 to E30.  These results are taken from the final 2012 CDM Report issued by the OPA for that distributor in the fall of 2013.  Until that report is issued, the distributor should use the results from the preliminary 2012 CDM Report issued in the spring of 2013."]
[]
["\tBased on these inputs, the residual kWh to achieve the 4 year CDM target is allocated so that there is an equal incremental increase in each of the years 2012, 2013 and 2014.\r\n"]
[]
["4 Year (2011-2014) kWh Target:"]
[100000]
[null,2011,2012,2013,2014,"Total",null,null,{"$f":"B22","v":2011},{"$f":"C22","v":2012},{"$f":"D22","v":2013},{"$f":"E22","v":2014}]
["2011 CDM Programs",{"$f":"B29/$F$33","v":0.1},{"$f":"C29/$F$33","v":0.1},0.1,9.5000000000000001E-2,{"$f":"SUM(B23:E23)","v":0.39500000000000002},null,{"$f":"A23","v":"2011 CDM Programs"},{"$f":"50%","v":0.5},1,1,1]
["2012 CDM Programs",null,0.12,0.1195,0.11,{"$f":"SUM(B24:E24)","v":0.34949999999999998},null,{"$f":"A24","v":"2012 CDM Programs"},null,0.5,1,1]
["2013 CDM Programs",null,null,8.5166666666666654E-2,8.5166666666666654E-2,{"$f":"SUM(B25:E25)","v":0.17033333333333331},null,{"$f":"A25","v":"2013 CDM Programs"},null,null,0.5,1]
["2014 CDM Programs",null,null,null,8.5166666666666654E-2,{"$f":"SUM(B26:E26)","v":8.5166666666666654E-2},null,{"$f":"A26","v":"2014 CDM Programs"},null,null,null,0.5]
["Total in Year",{"$f":"SUM(B23:B26)","v":0.1},{"$f":"SUM(C23:C26)","v":0.22},{"$f":"SUM(D23:D26)","v":0.30466666666666664},{"$f":"SUM(E23:E26)","v":0.37533333333333335},{"$f":"SUM(B27:E27)","v":1}]
["kWh"]
["2011 CDM Programs",10000,10000,10000,9500,{"$f":"SUM(B29:E29)","v":39500}]
["2012 CDM Programs",null,12000,11950,11000,{"$f":"SUM(B30:E30)","v":34950}]
["2013 CDM Programs",null,null,{"$f":"(A21-SUM(F29:F30))/3","v":8516.6666666666661},{"$f":"D31","v":8516.6666666666661},{"$f":"SUM(B31:E31)","v":17033.333333333332}]
["2014 CDM Programs",null,null,null,{"$f":"D31","v":8516.6666666666661},{"$f":"SUM(B32:E32)","v":8516.6666666666661}]
["Total in Year",{"$f":"SUM(B29:B32)","v":10000},{"$f":"SUM(C29:C32)","v":22000},{"$f":"SUM(D29:D32)","v":30466.666666666664},{"$f":"SUM(E29:E32)","v":37533.333333333328},{"$f":"A21","v":100000}]
[]
[null,null,null,null,"Check",{"$f":"SUM(F29:F32)","v":100000}]
["From each of the 2006-2010 CDM Final Report, 2011 CDM Final Report, and the 2012 CDM Final Report, issued by the OPA for the distributor, the distributor should input the \"gross\" and \"net\" results of the cumulative CDM savings for 2014 into cells D31 to E33.  The model will calculate the cumulative savings for all programs from 2006 to 2012 and determine the \"net\" to \"gross\" factor \"g\"."]
["The Board has determined that the \"net\" number should be used in its Decision and Order with respect to Centre Wellington Hydro Ltd.'s 2013 Cost of Service rates (EB-2012-0113).  This approach has also been used in Settlement Agreements accepted by the Board in other 2013 applications.  The distributor should select whether the adjustment is done on a \"net\" or \"gross\" basis, but must support a proposal for the adjustment being done on a \"gross\" basis."]
[]
["Net-to-Gross Conversion"]
[]
["Is CDM adjustment being done on a \"net\" or \"gross\" basis?",null,null,null,null,"net"]
[]
[null,null,"\"Gross\"","\"Net\"","Difference","\"Net-to-Gross\" Conversion Factor"]
["Persistence of Historical CDM programs to 2014",null,"kWh","kWh","kWh","('g')"]
["2006-2010 CDM programs"]
["2011 CDM program"]
["2012 CDM program"]
["2006 to 2011 OPA CDM programs:  Persistence to 2014",null,{"$f":"SUM(C45:C47)","v":0},{"$f":"SUM(D45:D47)","v":0},{"$f":"C48-D48","v":0},{"$f":"IF(D48=0,0,IF(F41=\"net\",0,E48/D48))","v":0}]
[]
["The default values represent the factor that each year's CDM program is factored into the manual CDM adjustment.  Distributors can choose alternative weights of \"0\", \"0.5\" or \"1\" from the drop-down menu for each cell, but must support its alternatives."]
["These factors do not mean that CDM programs are excluded, but also reflect the assumption that impacts of 2011 and 2012 programs are already implicitly reflected in the actual data for those years that are the basis for the load forecast prior to any manual CDM adjustment."]
[]
["Weight Factor for Inclusion in CDM Adjustment to 2014 Load Forecast"]
[null,2011,2012,2013,2014]
["Weight Factor for each year's CDM program impact on 2014 load forecast",0,0,1,0.5,"Utility can select \"0\", \"0.5\", or \"1\" from drop-down list"]
["Default Value selection rationale.  ","Persistence of 2011 CDM programs for the full year of 2012 means that all of 2011 CDM impact is assumed to be in the base forecast before the CDM Adjustment","50% of 2012 CDM impact is assumed reflected in base forecast based on 1/2 year rule.","Full year impact of 2013 CDM programs on adjustment for 2014 load forecast","Only 50% of 2014 CDM impact is used based on a half year rule"]
[]
[]
["The Amount used for the CDM threshold of the LRAMVA is the kWh that will be used to determine the base amount for the LRAMVA balance for 2014, for assessing performance against the four-year target.  The base amount for 2011-2013 is 0 (zero) for 2014 Cost of Service applications, as the utility rebased prior to the 2011-2014 CDM programs, and there was no adjustment to reflect the impacts of the 2011-2014 programs on the load forecast used to determine their last cost of service-based rates."]
[]
["The proposed loss factor should correspond with the loss factor calculated in Appendix 2-R "]
[]
["The Manual Adjustment for the 2014 Load Forecast is the amount manually subtracted from the load forecast derived from the base forecast from historical data, and is intended to reflect the further CDM savings that the distributor needs to achieve assuming that they meet 100% of the 2011-2014 CDM target that is a condition of their target. "]
[]
["If the distributor has developed their load forecast on a system purchased basis, then the manual adjustment should be on system purchased basis, including the adjustment for losses.  If the load forecast has been developed on a billed basis, either on a system basis or on a class-specific basis, the manual adjustment should be on a billed basis, excluding losses."]
[]
["The distributor should determine the allocation of the savings to all customer classes in a reasonable manner, for both the LRAMVA and for the load forecast adjustment."]
[]
[null,2011,2012,2013,2014,"Total for 2014"]
[null,"kWh"]
["Amount used for CDM threshold for LRAMVA (2014)",{"$f":"E29","v":9500},{"$f":"E30","v":11000},{"$f":"E31","v":8516.6666666666661},{"$f":"E32","v":8516.6666666666661},{"$f":"SUM(B71:E71)","v":37533.333333333328}]
[]
["Manual Adjustment for 2014 Load Forecast (billed basis)",{"$f":"B71*(1+F48)*B55","v":0},{"$f":"C71*(1+F48)*C55","v":0},{"$f":"D71*(1+F48)*D55","v":8516.6666666666661},{"$f":"E71*(1+F48)*E55","v":4258.333333333333},{"$f":"SUM(B73:E73)","v":12775}]
[]
["Proposed Loss Factor (TLF)",4.7899999999999998E-2," Format: X.XX%"]
["Manual Adjustment for 2014 Load Forecast (system purchased basis)",{"$f":"B73*(1+$B75)","v":0},{"$f":"C73*(1+$B75)","v":0},{"$f":"D73*(1+$B75)","v":8924.6149999999998},{"$f":"E73*(1+$B75)","v":4462.3074999999999},{"$f":"SUM(B76:E76)","v":13386.922500000001}]
["Manual adjustment uses \"gross\" versus \"net\" (i.e. numbers multiplied by (1 + g).  The Weight factor is also used calculate the impact of each year's program on the CDM adjustment to the 2014 load forecast."]

{"sheet":"App.2-H_Other_Oper_Rev","index":39,"n_rows":205,"n_cols":10,"rows_kept":205,"cut":false,"hidden":false,"merged":[[156,0,156,1],[157,0,157,1],[137,0,137,1],[138,0,138,1],[139,0,139,1],[140,0,140,1],[141,0,141,1],[127,0,127,1],[128,0,128,1],[147,0,147,1],[148,0,148,1],[149,0,149,1],[70,0,70,1],[78,0,78,1],[95,0,95,1],[76,0,76,1],[61,0,61,1],[62,0,62,1],[63,0,63,1],[64,0,64,1],[65,0,65,1],[66,0,66,1],[67,0,67,1],[68,0,68,1],[69,0,69,1],[75,0,75,1],[172,0,172,1],[171,0,171,1],[204,1,204,8],[196,0,196,1],[197,0,197,1],[198,0,198,1],[199,0,199,1],[200,0,200,1],[181,0,181,1],[182,0,182,1],[173,0,173,1],[189,0,189,1],[190,0,190,1],[183,0,183,1],[191,0,191,1],[192,0,192,1],[184,0,184,1],[185,0,185,1],[120,0,120,1],[164,0,164,1],[165,0,165,1],[166,0,166,1],[170,0,170,1],[145,0,145,1],[154,0,154,1],[155,0,155,1],[146,0,146,1],[167,0,167,1],[168,0,168,1],[169,0,169,1],[158,0,158,1],[124,0,124,1],[125,0,125,1],[126,0,126,1],[116,0,116,1],[117,0,117,1],[118,0,118,1],[119,0,119,1],[97,0,97,1],[98,0,98,1],[99,0,99,1],[106,0,106,1],[107,0,107,1],[109,0,109,1],[110,0,110,1],[111,0,111,1],[104,0,104,1],[105,0,105,1],[96,0,96,1],[77,0,77,1],[83,0,83,1],[84,0,84,1],[85,0,85,1],[86,0,86,1],[87,0,87,1],[88,0,88,1],[89,0,89,1],[90,0,90,1],[8,0,8,9],[9,0,9,9],[59,0,59,1],[60,0,60,1],[45,0,45,1],[44,0,44,1],[46,0,46,1],[46,3,46,9],[47,0,47,1],[47,3,48,9],[51,0,51,9],[54,0,55,9]]}
[null,null,null,null,null,null,null,null,"Fil$E$ Numb$E$r:",{"$f":"EBNUMBER","v":"EB-2014-0096"}]
[null,null,null,null,null,null,null,null,"Exhibit:",3]
[null,null,null,null,null,null,null,null,"Tab:",3]
[null,null,null,null,null,null,null,null,"Schedule:",1]
[null,null,null,null,null,null,null,null,"Page:",1]
[]
[null,null,null,null,null,null,null,null,"Date:","2014-08-29"]
[]
["Appendix 2-H"]
["Other Operating Revenue"]
[]
["USoA #","USoA Description","2011 Board Approved Restated",{"$f":"H13-3 & \" Actual\"","v":"2011 Actual"},{"$f":"H13-2 & \" Actual\"","v":"2012 Actual"},{"$f":"H13-1 & \" Actual\"& CHAR(178)","v":"2013 Actual²"},{"$f":"H13-1 & \" Actual\"& CHAR(178)","v":"2013 Actual²"},{"$f":"\"Bridge Year\" & CHAR(179)","v":"Bridge Year³"},{"$f":"\"Bridge Year\" & CHAR(179)","v":"Bridge Year³"},"Test Year"]
[null,null,2011,2011,2012,2013,2013,{"$f":"I13","v":2014},{"$f":"BridgeYear","v":2014},{"$f":"TestYear","v":2015}]
[null,"Reporting Basis","CGAAP","CGAAP","CGAAP","CGAAP",null,"CGAAP",null,"MIFRS"]
[]
[4305,"Regulatory Debit",{"$f":"C129","v":0},{"$f":"D129","v":0},{"$f":"E129","v":0},{"$f":"F129","v":-3054565.73},{"$f":"G129","v":0},-3333862,{"$f":"I129","v":0},{"$f":"J129","v":0}]
[]
[null,"Other Revenue"]
[4235,"Specific Service Charges",{"$f":"C71","v":924416},{"$f":"D71","v":874868.3600000001},{"$f":"E71","v":794765.92},810536.29,0,805434,0,803284.75]
[4225,"Late Payment Charges",381550,419155.16,372203.04,353573.62,null,357661,null,361000]
["4080-01","MicroFit Charges",{"$f":"C79","v":0},{"$f":"D79","v":4486.08},{"$f":"E79","v":11087.15},16187.18,0,20541.600000000002,0,21060.000000000004]
[4082,"Retail Services Revenues",{"$f":"C91","v":80749},{"$f":"D91","v":68149.8},49123.199999999997,44006.400000000001,0,44317.5,0,44424]
[4084,"Service Transaction Requests (STR) Revenues",{"$f":"C100","v":2970},{"$f":"D100","v":1898},{"$f":"E100","v":1322.75},1071,0,1024,0,1047]
[4086,"SSS Administration Revenue",{"$f":"C112","v":126094},{"$f":"D112","v":132759.16},138433.35999999999,142218.02000000005,0,141293.87,0,140656]
[4215,"Other Utility Operating Income",{"$f":"C121","v":32416},43664.130000000005,42682.99,48358.73,0,43100,0,44000]
[4355,"Gain on Disposition of Utility and Other Property",{"$f":"C142","v":0},{"$f":"D142","v":16396.900000000001},358.85,11121.24,0,0,0,0]
[4360,"Loss on Disposition of Utility and Other Property",{"$f":"C150","v":0},{"$f":"D150","v":0},{"$f":"E150","v":0},-1135.2,0,0,0,0]
[4362,"Loss on Retirement of Utility & Other Property",{"$f":"C159","v":0},{"$f":"D159","v":0},{"$f":"E159","v":0},-66864.72,0,0,0,0]
[4375,"Revenue from Non-Utility Operations",{"$f":"C174","v":550885},{"$f":"D174","v":1334964.27},1825917.98,2018308.3299999998,0,1499364,0,0]
[4380,"Expenses from Non-Utility Operations",{"$f":"-C186","v":-260000},{"$f":"-D186","v":-1136686},{"$f":"-E186","v":-1482009.05},-1871114.19,0,-2998728,0,0]
[4390,"Miscellaneous Non-Operating Income",{"$f":"C193","v":40000},{"$f":"D193","v":58882},{"$f":"E193","v":118923},118062,0,111027,null,81003]
[4405,"Interest and Dividend Income including Carrying Charges",{"$f":"C201","v":127863},{"$f":"D201","v":140672.72999999998},174715.36,180173,0,307684,0,157000]
[null,null,{"$f":"SUM(C19:C32)","v":2006943},1959210.5899999999,2047524.5500000003,1804501.6999999997,0,332718.9700000002,0,1653474.75]
[null,"Less Carrying Charges in 4405",{"$f":"-C199","v":-45195},{"$f":"-D199","v":-55430.58},{"$f":"-E199","v":-54350},-63298,0,-187684,0,-57000]
[null,"Total Miscellaneous Revenue",{"$f":"SUM(C33:C34)","v":1961748},{"$f":"SUM(D33:D34)","v":1903780.0099999998},{"$f":"SUM(E33:E34)","v":1993174.5500000003},1741203.6999999997,0,145034.9700000002,0,1596474.75]
[]
["Summary"]
["Specific Service Charges",null,{"$f":"C19","v":924416},874868.3600000001,794765.92,810536.29,0,805434,0,803284.75]
["Late Payment Charges",null,381550,419155.16,372203.04,353573.62,0,357661,0,361000]
["Other Operating Revenues",null,{"$f":"C21+C22+C23+C24+C25","v":242229},{"$f":"D21+D22+D23+D24+D25","v":250957.17},{"$f":"E21+E22+E23+E24+E25","v":242649.44999999998},251841.33000000005,0,250276.97,0,251187]
["Other Income or Deductions Excluding Carrying Charges",null,{"$f":"C26+C27+C28+C29+C30+C31+C32+C34","v":413553},{"$f":"D26+D27+D28+D29+D30+D31+D32+D34","v":358799.31999999989},583556.14,325252.45999999996,0,-1268337,0,181003]
["Total",null,{"$f":"SUM(C38:C41)","v":1961748},{"$f":"SUM(D38:D41)","v":1903780.0099999998},{"$f":"SUM(E38:E41)","v":1993174.5499999998},1741203.7000000002,0,145034.96999999997,0,1596474.75]
[]
["Description",null,"Account(s)","Account(s)"]
["Specific Service Charges:",null,4235,4235]
["Late Payment Charges:",null,4225,4225]
["Other Distribution Revenues:",null,null,"4080, 4082, 4084, 4090, 4205, 4210, 4215, 4220, 4240, 4245"]
["Other Income and Expenses:",null,null,"4305, 4310, 4315, 4320, 4325, 4330, 4335, 4340, 4345, 4350, 4355, 4360, 4365, 4370, 4375, 4380, 4385, 4390, 4395, 4398, 4405, 4415"]
[]
[]
["Note: Add all applicable accounts listed above to the table and include all relevant information."]
[]
["Account Breakdown Details"]
[]
["For each \"Other Operating Revenue\" and \"Other Income or Deductions\" Account, a detailed breakdown of the account components is required.  See the example below for Account 4405, Interest and Dividend Income."]
[]
[]
[4235,"Specific Service Charges","2011 Board Approved Restated",{"$f":"D$12","v":"2011 Actual"},{"$f":"E$12","v":"2012 Actual"},"2013 Actual²","2013 Actual²","Bridge Year³","Bridge Year³","Test Year"]
[null,null,{"$f":"C$13","v":2011},{"$f":"D$13","v":2011},{"$f":"E$13","v":2012},2013,2013,2014,2014,2015]
["Reporting Basis",null,{"$f":"C$14","v":"CGAAP"},{"$f":"D$14","v":"CGAAP"},{"$f":"E$14","v":"CGAAP"},"CGAAP",0,"CGAAP",0,"MIFRS"]
["Specific Charge for Access to the Power Poles – per pole/year",null,313638,255897.52,255637.44,249326.06000000003,null,253058,null,249984.75000000003]
["Legal letter charge",null,13926,12155,10216.59,10722.04,null,11100,null,11100]
["Collection of account charge – no disconnection",null,223767,148216,227581.88,254845.98,null,265000,null,250000.00000000003]
["Returned Cheque charge (plus bank charges)",null,12380,10084.24,10300,8598.5,null,8700,null,9200]
["Disconnect/Reconnect at meter – during regular hours",null,45370,16885,19760,25055,null,25000,null,25000]
["Disconnect/Reconnect at meter – after regular hours",null,4625,4995,4855,5365,null,5400,null,5200]
["Disconnect/Reconnect at pole – during regular hours",null,0,7164.9999999999991,3517.4200000000005,6585,null,7300,null,5800]
["Account set up charge / change of occupancy charge",null,189030,182574.9,182280,184320,null,185290,null,184000]
["Miscellaneous Service Revenues-Other",null,121680,236895.7,80617.59,65718.710000000006,null,44586,null,63000]
[]
["Total",null,{"$f":"SUM(C61:C70)","v":924416},874868.3600000001,794765.92,810536.29,0,805434,0,803284.75]
[]
[]
["4080-01","MicroFit Charges","2011 Board Approved Restated",{"$f":"D$12","v":"2011 Actual"},{"$f":"E$12","v":"2012 Actual"},"2013 Actual²","2013 Actual²","Bridge Year³","Bridge Year³","Test Year"]
[null,null,{"$f":"C$13","v":2011},{"$f":"D$13","v":2011},{"$f":"E$13","v":2012},2013,2013,2014,2014,2015]
["Reporting Basis",null,{"$f":"C$14","v":"CGAAP"},{"$f":"D$14","v":"CGAAP"},{"$f":"E$14","v":"CGAAP"},"CGAAP",0,"CGAAP",0,"MIFRS"]
["MicroFit charges",null,0,4486.08,11087.15,16187.18,null,20541.600000000002,null,21060.000000000004]
[]
["Total",null,{"$f":"SUM(C77:C78)","v":0},{"$f":"SUM(D77:D78)","v":4486.08},11087.15,16187.18,0,20541.600000000002,0,21060.000000000004]
[]
[]
[4082,"Retail Services Revenues","2011 Board Approved Restated",{"$f":"D$12","v":"2011 Actual"},{"$f":"E$12","v":"2012 Actual"},"2013 Actual²","2013 Actual²","Bridge Year³","Bridge Year³","Test Year"]
[null,null,{"$f":"C$13","v":2011},{"$f":"D$13","v":2011},{"$f":"E$13","v":2012},2013,2013,2014,2014,2015]
["Reporting Basis",null,{"$f":"C$14","v":"CGAAP"},{"$f":"D$14","v":"CGAAP"},{"$f":"E$14","v":"CGAAP"},"CGAAP",0,"CGAAP",0,"MIFRS"]
["Retailer Service Agreement -- standard charge",null,0,400,300,0,null,0,null,0]
["Retailer Service Agreement -- monthly fixed charge (per retailer)",null,4800,3749,3360,4260,null,3915,null,4400]
["Retailer Service Agreement -- monthly variable charge (per customer)",null,50363,40000.5,28414.5,24879,null,25251.5,null,25015]
["Distributor-Consolidated Billing -- monthly charge (per customer)",null,25586,24000.3,17048.7,14867.4,null,15151,null,15009]
["Retailer-Consolidated Billing -- monthly credit (per customer)",null,0,0,0,0,null,0,null,0]
[]
["Total",null,{"$f":"SUM(C85:C90)","v":80749},68149.8,49123.199999999997,44006.400000000001,0,44317.5,0,44424]
[]
[]
[4084,"Service Transaction Request","2011 Board Approved Restated",{"$f":"D$12","v":"2011 Actual"},{"$f":"E$12","v":"2012 Actual"},"2013 Actual²","2013 Actual²","Bridge Year³","Bridge Year³","Test Year"]
[null,null,{"$f":"C$13","v":2011},{"$f":"D$13","v":2011},{"$f":"E$13","v":2012},2013,2013,2014,2014,2015]
["Reporting Basis",null,{"$f":"C$14","v":"CGAAP"},{"$f":"D$14","v":"CGAAP"},{"$f":"E$14","v":"CGAAP"},"CGAAP",0,"CGAAP",0,"MIFRS"]
["Service Transaction Request -- request fee (per request)",null,1215,668,468.75,391,null,376,null,383]
["Service Transaction Request -- processing fee (per processed request)",null,1755,1230,854,680,null,648,null,664]
[]
["Total",null,{"$f":"SUM(C97:C99)","v":2970},1898,1322.75,1071,0,1024,0,1047]
[]
[]
[4086,"SSS Admin Fee","2011 Board Approved Restated",{"$f":"D$12","v":"2011 Actual"},{"$f":"E$12","v":"2012 Actual"},"2013 Actual²","2013 Actual²","Bridge Year³","Bridge Year³","Test Year"]
[null,null,{"$f":"C$13","v":2011},{"$f":"D$13","v":2011},{"$f":"E$13","v":2012},2013,2013,2014,2014,2015]
["Reporting Basis",null,{"$f":"C$14","v":"CGAAP"},{"$f":"D$14","v":"CGAAP"},{"$f":"E$14","v":"CGAAP"},"CGAAP",0,"CGAAP",0,"MIFRS"]
["Residential",null,112268,118648.92000000001,{"$f":"124035.22+30","v":124065.22},{"$f":"127631.71-42","v":127589.71},null,126783.95,null,126150]
["GS < 50",null,10829,11353.45,11561.64,11786.75,null,438.83,null,429]
["GS > 50",null,2469,2359.3000000000002,2332.94,2362.29,null,2333.91,null,2343]
["Streetlight",null,18,46,40.75,45.75,null,42.25,null,43]
["Sentinel Lights",null,510,351.49,80.739999999999995,14.73,null,13.24,null,14]
["USL",null,0,0,352.07,418.79,null,11681.69,null,11677]
["Total",null,{"$f":"SUM(C106:C111)","v":126094},132759.16,138433.35999999999,142218.02000000005,0,141293.87,0,140656]
[]
[]
[4215,"Other Utility Operating Income","2011 Board Approved Restated",{"$f":"D$12","v":"2011 Actual"},{"$f":"E$12","v":"2012 Actual"},"2013 Actual²","2013 Actual²","Bridge Year³","Bridge Year³","Test Year"]
[null,null,{"$f":"C$13","v":2011},{"$f":"D$13","v":2011},{"$f":"E$13","v":2012},2013,2013,2014,2014,2015]
["Reporting Basis",null,{"$f":"C$14","v":"CGAAP"},{"$f":"D$14","v":"CGAAP"},{"$f":"E$14","v":"CGAAP"},"CGAAP",0,"CGAAP",0,"MIFRS"]
["Sale of Scrap Materials",null,24484,37577.29,33373.629999999997,39049.370000000003,null,35000,null,35000]
["Transformer Rentals",null,7932,6086.84,9309.36,9309.36,null,8100,null,9000]
[]
["Total",null,{"$f":"SUM(C118:C120)","v":32416},43664.130000000005,42682.99,48358.73,0,43100,0,44000]
[]
[{"$f":"A16","v":4305},{"$f":"B16","v":"Regulatory Debit"},"2011 Board Approved Restated",{"$f":"D$12","v":"2011 Actual"},{"$f":"E$12","v":"2012 Actual"},"2013 Actual²","2013 Actual²","Bridge Year³","Bridge Year³","Test Year"]
[null,null,{"$f":"C$13","v":2011},{"$f":"D$13","v":2011},{"$f":"E$13","v":2012},2013,2013,2014,2014,2015]
["Reporting Basis",null,{"$f":"C$14","v":"CGAAP"},{"$f":"D$14","v":"CGAAP"},{"$f":"E$14","v":"CGAAP"},"CGAAP",0,"CGAAP",0,"MIFRS"]
["Regulatory Debit - Accounting Change for Capital Assets"]
["Depreciation Lives",null,0,0,0,-3054565.73]
[]
["Total",null,{"$f":"SUM(C126:C128)","v":0},0,0,-3054565.73,0,0,0,0]
[]
[]
[]
[]
[]
[]
[{"$f":"A26","v":4355},{"$f":"B26","v":"Gain on Disposition of Utility and Other Property"},"2011 Board Approved Restated",{"$f":"D$12","v":"2011 Actual"},{"$f":"E$12","v":"2012 Actual"},"2013 Actual²","2013 Actual²","Bridge Year³","Bridge Year³","Test Year"]
[null,null,{"$f":"C$13","v":2011},{"$f":"D$13","v":2011},{"$f":"E$13","v":2012},2013,2013,2014,2014,2015]
["Reporting Basis",null,{"$f":"C$14","v":"CGAAP"},{"$f":"D$14","v":"CGAAP"},{"$f":"E$14","v":"CGAAP"},"CGAAP",0,"CGAAP",0,"MIFRS"]
["Vehicle - insurance settlement",null,0,16396.900000000001,0,0]
["Vehicle sales",null,null,null,358.85,11121.24]
[null,null,null,null,null,0]
["Total",null,{"$f":"SUM(C139:C141)","v":0},16396.900000000001,358.85,11121.24,0,0,0,0]
[]
[{"$f":"A27","v":4360},{"$f":"B27","v":"Loss on Disposition of Utility and Other Property"},"2011 Board Approved Restated",{"$f":"D$12","v":"2011 Actual"},{"$f":"E$12","v":"2012 Actual"},"2013 Actual²","2013 Actual²","Bridge Year³","Bridge Year³","Test Year"]
[null,null,{"$f":"C$13","v":2011},{"$f":"D$13","v":2011},{"$f":"E$13","v":2012},2013,2013,2014,2014,2015]
["Reporting Basis",null,{"$f":"C$14","v":"CGAAP"},{"$f":"D$14","v":"CGAAP"},{"$f":"E$14","v":"CGAAP"},"CGAAP",0,"CGAAP",0,"MIFRS"]
["Office equipment ",null,null,null,null,-1135.2]
[]
[]
["Total",null,{"$f":"SUM(C147:C149)","v":0},0,0,-1135.2,0,0,0,0]
[]
[]
[{"$f":"A28","v":4362},{"$f":"B28","v":"Loss on Retirement of Utility & Other Property"},"2011 Board Approved Restated",{"$f":"D$12","v":"2011 Actual"},{"$f":"E$12","v":"2012 Actual"},"2013 Actual²","2013 Actual²","Bridge Year³","Bridge Year³","Test Year"]
[null,null,{"$f":"C$13","v":2011},{"$f":"D$13","v":2011},{"$f":"E$13","v":2012},2013,2013,2014,2014,2015]
["Reporting Basis",null,{"$f":"C$14","v":"CGAAP"},{"$f":"D$14","v":"CGAAP"},{"$f":"E$14","v":"CGAAP"},"CGAAP",0,"CGAAP",0,"MIFRS"]
["Retirement of 3 DS stations",null,null,null,null,-66864.72]
[]
[]
["Total",null,{"$f":"SUM(C156:C158)","v":0},0,0,-66864.72,0,0,0,0]
[]
[]
[]
[4375,"Revenue from Non-Utility Operations","2011 Board Approved Restated",{"$f":"D$12","v":"2011 Actual"},{"$f":"E$12","v":"2012 Actual"},"2013 Actual²","2013 Actual²","Bridge Year³","Bridge Year³","Test Year"]
[null,null,{"$f":"C$13","v":2011},{"$f":"D$13","v":2011},{"$f":"E$13","v":2012},2013,2013,2014,2014,2015]
["Reporting Basis",null,{"$f":"C$14","v":"CGAAP"},{"$f":"D$14","v":"CGAAP"},{"$f":"E$14","v":"CGAAP"},"CGAAP",0,"CGAAP",0,"MIFRS"]
["Water Late Payment Charges",null,137007,109990.42,124110.69,126184.48,null,0]
["Water Occupancy Charge Revenue",null,20766,23895,24264,24867,null,0]
["Water Collection Charge Revenues",null,32463,33470,41351,42032,null,0]
["Water Billing Administration Charge",null,{"$f":"18108+277061","v":295169},321444.12,319020.71999999997,321229.92,null,0,null,0]
["OPA Peak Saver and ERIP revenues",null,65480,44605.73,187551,-11826.26,null,0,null,0]
["Installation of Poles for Bell Canada",null,0,12963,0,0,null,0,null,0]
["OPA fixed and incentive revenues",null,0,{"$f":"94399+105991+43713+5429+539064","v":788596},{"$f":"168736.81+170181.19+10000+3285.2+777417.37","v":1129620.57},{"$f":"260103.45+267412.37+26350+17712.02+944243.35","v":1515821.19},null,{"$f":"1286360+119483+67350+11206+14965","v":1499364}]
[]
["Total",null,{"$f":"SUM(C166:C173)","v":550885},1334964.27,1825917.98,2018308.3299999998,0,1499364,0,0]
[]
[]
[]
[]
[]
[4380,"Expenses from Non-Utility Operations","2011 Board Approved Restated",{"$f":"D$12","v":"2011 Actual"},{"$f":"E$12","v":"2012 Actual"},"2013 Actual²","2013 Actual²","Bridge Year³","Bridge Year³","Test Year"]
[null,null,{"$f":"C$13","v":2011},{"$f":"D$13","v":2011},{"$f":"E$13","v":2012},2013,2013,2014,2014,2015]
["Reporting Basis",null,{"$f":"C$14","v":"CGAAP"},{"$f":"D$14","v":"CGAAP"},{"$f":"E$14","v":"CGAAP"},"CGAAP",0,"CGAAP",0,"MIFRS"]
["Water Billing expenses",null,260000,348090,352388.49,355292.01,null,1499364]
["OPA expenses and incentives",null,0,788596,1129620.56,1515822.18,null,1499364]
[]
["Total",null,{"$f":"SUM(C183:C185)","v":260000},1136686,1482009.05,1871114.19,0,2998728,0,0]
[]
[4390,"Miscellaneous Non-Operating Income","2011 Board Approved Restated",{"$f":"D$12","v":"2011 Actual"},{"$f":"E$12","v":"2012 Actual"},"2013 Actual²","2013 Actual²","Bridge Year³","Bridge Year³","Test Year"]
[null,null,{"$f":"C$13","v":2011},{"$f":"D$13","v":2011},{"$f":"E$13","v":2012},2013,2013,2014,2014,2015]
["Reporting Basis",null,{"$f":"C$14","v":"CGAAP"},{"$f":"D$14","v":"CGAAP"},{"$f":"E$14","v":"CGAAP"},"CGAAP",0,"CGAAP",0,"MIFRS"]
["Apprenticeship Tax Credit",null,40000,58882,118923,118062,null,111027,{"$f":"I31","v":0},81003]
[]
["Total",null,{"$f":"SUM(C191:C192)","v":40000},58882,118923,118062,0,111027,0,81003]
[]
[4405,"Interest and Dividend Income","2011 Board Approved Restated",{"$f":"D$12","v":"2011 Actual"},{"$f":"E$12","v":"2012 Actual"},"2013 Actual²","2013 Actual²","Bridge Year³","Bridge Year³","Test Year"]
[null,null,{"$f":"C$13","v":2011},{"$f":"D$13","v":2011},{"$f":"E$13","v":2012},2013,2013,2014,2014,2015]
["Reporting Basis",null,{"$f":"C$14","v":"CGAAP"},{"$f":"D$14","v":"CGAAP"},{"$f":"E$14","v":"CGAAP"},"CGAAP",0,"CGAAP",0,"MIFRS"]
["Interest and Dividend Income",null,82668,85242.15,120365.36,116875,null,120000,null,100000]
["Interest and Dividend Carrying Charges",null,45195,55430.58,54350,63298,null,187684,null,57000]
[]
["Total",null,{"$f":"SUM(C198:C200)","v":127863},140672.72999999998,174715.36,180173,0,307684,0,157000]
[]
["Notes:"]
[1,"List and specify any other interest revenue."]
[2,"In the transition year to IFRS, the applicant is to present information in both MIFRS and CGAAP.  For the typical applicant that is adopting IFRS on January 1, 2015, 2014 must be presented in both a CGAAP and MIFRS basis."]

{"sheet":"App.2-I LF_CDM_WF","index":40,"n_rows":125,"n_cols":14,"rows_kept":125,"cut":false,"hidden":false,"merged":[[17,0,17,7],[8,0,8,7],[9,0,9,7],[11,0,11,7],[13,0,13,7],[15,0,15,7],[50,0,50,7],[19,0,19,7],[21,0,21,7],[23,0,23,7],[25,0,25,7],[27,0,27,7],[29,0,29,7],[31,0,31,5],[32,0,32,5],[39,0,39,5],[46,0,46,5],[48,0,48,7],[90,0,90,7],[51,0,51,7],[53,0,53,7],[61,0,61,7],[70,0,70,7],[72,0,72,7],[74,0,74,7],[76,0,76,5],[78,0,78,4],[81,0,81,1],[86,0,86,1],[88,0,88,7],[107,0,107,7],[109,0,109,7],[112,1,112,7],[124,0,124,7],[92,0,92,5],[97,0,97,7],[99,0,99,7],[101,0,101,7],[103,0,103,7],[105,0,105,7]]}
[null,null,null,null,null,null,"File Number:",{"$f":"EBNUMBER","v":"EB-2014-0096"}]
[null,null,null,null,null,null,"Exhibit:",3]
[null,null,null,null,null,null,"Tab:",1]
[null,null,null,null,null,null,"Schedule:",1]
[null,null,null,null,null,null,"Page:",1]
[]
[null,null,null,null,null,null,"Date:","2014-08-29"]
[]
["Appendix 2-I"]
["Load Forecast CDM Adjustment Work Form (2015)"]
[]
["The 2014 bridge year is the last year of the current four year (2011-2014) CDM program, and 2015 is the first year of a new six year (2015-2020) CDM program, per the Ministirial directives of March 31, 2014.  Thus, with 2015, there is a need to recognize the final year of the current 2011-2014 CDM program, as well as to estimate reasonable impacts each year for the new 2015-2020 CDM program.  These are combined to estimate the adjustment for CDM program impacts on the 2015 load forecast.  "]
[]
["Appendix 2-I was developed to help determine what would be the amount of CDM savings needed in each year to cumulatively achieve the four year 2011-2014 CDM target.  This then determined the amount of kWh (and with translation, kW of demand) savings that were converted in dollars balances for the LRAMVA, and also to determine the related adjustment to the load forecast to account for OPA-reported savings.  Beginning for the 2015 year, it has been adjusted because of the persistence of 2011-2014 CDM programs will be an adjustment to the load forecast in addition to the estimated savings for the first year (2015) for the new 2015-2020 CDM plan."]
[]
["It is assumed that the new six year (2015-2020) CDM program will work similar to the existing 2011-2014 CDM program, meaning that distributors will offer programs each year that, cumulatively over the six years (from January 1, 2015 to December 31, 2020) will cumulatively achieve the new six year CDM target.  This is the approach contemplated in the Ministerial directive letters of March 31, 2014 to the Board and to the OPA.  Thus, distributors will be able to offer programs on a basis so that cumulatively over the period, the impacts, including persistence, of the CDM programs will accumulate towards achieving each distributor's 2015-2020 CDM target."]
[]
["With this approach, it is necessary to account for estimated savings for the last year of the current program, particularly the estimated savings for new CDM programs offered in 2014, as well as the estimated savings for new CDM programs that the distributor will offer in 2015 towards achievement of the new six year (2015-2020) CDM program.   This necessitates expansion of this Appendix 2-I to deal with both the 2011-2014 and 2015-2020 CDM plans.  It is expected that this approach will be updated each year. "]
[]
["2011-2014 CDM Program - 2014, last year of the current CDM plan"]
[]
["Input the 2011-2014 CDM target in Cell B21."]
[]
["Input the measured results for 2011 CDM programs for each of the years 2011 and persistence into 2012, 2013 and 2014 into cells B31 to E31.  These results are taken from the final 2011 CDM Report issued by the OPA for that distributor in the fall of 2012."]
[]
["Measured results for 2012 CDM programs for each of the years 2012 and persistence into 2013 and 2014 are input into cells C32 to E32.  These results are taken from the final 2012 CDM Report issued by the OPA for that distributor in the fall of 2013."]
[]
["Measured results for 2013 CDM programs for each of the years 2013 and persistence into 2014 are input into cells C33 to E33.  These results are taken from the final 2013 CDM Report issued by the OPA for that distributor in the fall of 2014.  Until that report is issued, the distributor should use the results from the preliminary 2013 CDM Report issued in the spring of 2014."]
[]
["\tBased on these inputs, the residual kWh to achieve the 4 year CDM target icalculated for 2014 CDM under the assumption that the distributor will at least  achieve the 2011-2014 CDM target that is currently a condition of the utility's Distribution Licence.   If the distributor has met its cumulative kWh savings target by the end of 2013, the incremental savings for 2014 are assumed to be zero.  Any further savings for 2014 CDM savings and any further compensation for meeting or exceeding the four-year (2011-2014) targets will be dealt with through the disposition of the 2011-2014 LRAMVA balance, which will occur in the next cost of service application filed after the final 2014 CDM Reports issued by the OPA in the fall of 2015.\r\n"]
[]
["4 Year (2011-2014) kWh Target:"]
[58000000]
[null,2011,2012,2013,2014,"Total",null,null,null,null,{"$f":"B34","v":2011},{"$f":"C34","v":2012},{"$f":"D34","v":2013},{"$f":"E34","v":2014}]
["2011 CDM Programs",{"$f":"B41/$F$45","v":8.667203448275862E-2},{"$f":"C41/$F$45","v":8.667203448275862E-2},8.4482758620689657E-2,7.9310344827586213E-2,{"$f":"SUM(B35:E35)","v":0.3371371724137931},null,null,null,{"$f":"A35","v":"2011 CDM Programs"},{"$f":"50%","v":0.5},1,1,1]
["2012 CDM Programs",null,9.682670689655172E-2,9.682670689655172E-2,9.4827586206896547E-2,{"$f":"SUM(B36:E36)","v":0.28848099999999999},null,null,null,{"$f":"A36","v":"2012 CDM Programs"},null,0.5,1,1]
["2013 CDM Programs",null,null,0.12479394252873564,0.12479394252873564,{"$f":"SUM(B37:E37)","v":0.24958788505747129},null,null,null,{"$f":"A37","v":"2013 CDM Programs"},null,null,0.5,1]
["2014 CDM Programs",null,null,null,0.12479394252873564,{"$f":"SUM(B38:E38)","v":0.12479394252873564},null,null,null,{"$f":"A38","v":"2014 CDM Programs"},null,null,null,0.5]
["Total in Year",{"$f":"SUM(B35:B38)","v":8.667203448275862E-2},{"$f":"SUM(C35:C38)","v":0.18349874137931033},{"$f":"SUM(D35:D38)","v":0.30610340804597702},{"$f":"SUM(E35:E38)","v":0.42372581609195409},{"$f":"SUM(B39:E39)","v":1}]
["kWh"]
["2011 CDM Programs",5026978,5026978,4900000,4600000,{"$f":"SUM(B41:E41)","v":19553956}]
["2012 CDM Programs",null,5615949,5615949,5500000,{"$f":"SUM(B42:E42)","v":16731898}]
["2013 CDM Programs",null,null,{"$f":"(A33-SUM(F41:F42))/3","v":7238048.666666667},{"$f":"D43","v":7238048.666666667},{"$f":"SUM(B43:E43)","v":14476097.333333334}]
["2014 CDM Programs",null,null,null,{"$f":"D43","v":7238048.666666667},{"$f":"SUM(B44:E44)","v":7238048.666666667}]
["Total in Year",{"$f":"SUM(B41:B44)","v":5026978},{"$f":"SUM(C41:C44)","v":10642927},{"$f":"SUM(D41:D44)","v":17753997.666666668},{"$f":"SUM(E41:E44)","v":24576097.333333336},{"$f":"SUM(F41:F44)","v":58000000}]
[]
["2015-2020 CDM Program - 2015, first year of the current CDM plan"]
[]
["For the first year of the new 2015-2020 CDM plan, it is assumed that each year's program will achieve an equal amount of new CDM savings.  The new targets for 2015-2020 do not take into account persistence beyond the first year, but the OPA will encourage distributors to promote and implement  CDM plans that will have longer term persistence of savings.  This results in each year's program being about 1/6 (18.67%) of the cumulative 2015-2020 CDM target for kWh savings.  A distributor may propose an alternative approach but would be expected to document in its application why it believes that its proposal is more reasonable.  In its proposal, the distributor should ensure that the sum of the results for each year's CDM program from 2015 to 2020 add up to its 2015-2020 CDM target as established by the OPA."]
[]
["6 Year (2015-2020) kWh Target:"]
[17400000]
[null,2015,2016,2017,2018,2019,2020,"Total"]
["%"]
["2015 CDM Programs",{"$f":"B63/$H$69","v":0.16666666666666666},null,null,null,null,null,{"$f":"SUM(B55:G55)","v":0.16666666666666666}]
["2016 CDM Programs",null,{"$f":"C64/$H$69","v":0.16666666666666666},null,null,null,null,{"$f":"SUM(B56:G56)","v":0.16666666666666666}]
["2017 CDM Programs",null,null,{"$f":"D65/$H$69","v":0.16666666666666666},null,null,null,{"$f":"SUM(B57:G57)","v":0.16666666666666666}]
["2018 CDM Programs",null,null,null,{"$f":"E66/$H$69","v":0.16666666666666666},null,null,{"$f":"SUM(E58:G58)","v":0.16666666666666666}]
["2019 CDM Programs",null,null,null,null,{"$f":"F67/$H$69","v":0.16666666666666666},null,{"$f":"SUM(F59:G59)","v":0.16666666666666666}]
["2020 CDM Programs",null,null,null,null,null,{"$f":"G68/$H$69","v":0.16666666666666666},{"$f":"SUM(B60:G60)","v":0.16666666666666666}]
["Total in Year",{"$f":"SUM(B55:B60)","v":0.16666666666666666},{"$f":"SUM(C55:C60)","v":0.16666666666666666},{"$f":"SUM(D55:D60)","v":0.16666666666666666},{"$f":"SUM(E55:E58)","v":0.16666666666666666},{"$f":"SUM(F55:F59)","v":0.16666666666666666},{"$f":"SUM(G55:G60)","v":0.16666666666666666},{"$f":"SUM(B61:G61)","v":0.99999999999999989}]
["kWh"]
[{"$f":"A55","v":"2015 CDM Programs"},{"$f":"1/6*A52","v":2900000},null,null,null,null,null,{"$f":"SUM(B63:G63)","v":2900000}]
["2016 CDM Programs",null,{"$f":"B63","v":2900000},null,null,null,null,{"$f":"SUM(B64:G64)","v":2900000}]
["2017 CDM Programs",null,null,{"$f":"C64","v":2900000},null,null,null,{"$f":"SUM(B65:G65)","v":2900000}]
["2018 CDM Programs",null,null,null,{"$f":"D65","v":2900000},null,null,{"$f":"SUM(E66:G66)","v":2900000}]
["2019 CDM Programs",null,null,null,null,{"$f":"E66","v":2900000},null,{"$f":"SUM(F67:G67)","v":2900000}]
["2020 CDM Programs",null,null,null,null,null,{"$f":"F67","v":2900000},{"$f":"SUM(B68:G68)","v":2900000}]
["Total in Year",{"$f":"SUM(B63:B68)","v":2900000},{"$f":"SUM(C63:C68)","v":2900000},{"$f":"SUM(D63:D68)","v":2900000},{"$f":"SUM(E63:E66)","v":2900000},{"$f":"SUM(F63:F67)","v":2900000},{"$f":"SUM(G63:G68)","v":2900000},{"$f":"A52","v":17400000}]
[]
["Determination of 2015 Load Forecast Adjustment"]
[]
["The Board has determined that the \"net\" number should be used in its Decision and Order with respect to Centre Wellington Hydro Ltd.'s 2013 Cost of Service rates (EB-2012-0113).  This approach has also been used in Settlement Agreements accepted by the Board in other 2013 and 2-14 applications.  The distributor should select whether the adjustment is done on a \"net\" or \"gross\" basis, but must support a proposal for the adjustment being done on a \"gross\" basis.  Sheet 2-I defaults to the adjustment being done on a \"net\" basis consistent with Board policy and practice."]
[]
["From each of the 2006-2010 CDM Final Report,  and the 2011, 2012 and 2013 CDM Final Reports, issued by the OPA for the distributor, the distributor should input the \"gross\" and \"net\" results of the cumulative CDM savings for 2014 into cells D31 to E33.  The model will calculate the cumulative savings for all programs from 2006 to 2012 and determine the \"net\" to \"gross\" factor \"g\"."]
[]
["Net-to-Gross Conversion"]
[]
["Is CDM adjustment being done on a \"net\" or \"gross\" basis?",null,null,null,null,"net"]
[]
[null,null,"\"Gross\"","\"Net\"","Difference","\"Net-to-Gross\" Conversion Factor"]
["Persistence of Historical CDM programs to 2014",null,"kWh","kWh","kWh","('g')"]
["2006-2010 CDM programs"]
["2011 CDM program"]
["2012 CDM program"]
["2013 CDM program"]
["2006 to 2013 OPA CDM programs:  Persistence to 2015",null,{"$f":"SUM(C83:C86)","v":0},{"$f":"SUM(D83:D86)","v":0},{"$f":"C87-D87","v":0},{"$f":"IF(D87=0,0,IF(F79=\"net\",0,E87/D87))","v":0}]
[]
["The default values represent the factor that each year's CDM program is factored into the manual CDM adjustment.  Distributors can choose alternative weights of \"0\", \"0.5\" or \"1\" from the drop-down menu for each cell, but must support its alternatives."]
[]
["These factors do not mean that CDM programs are excluded, but also reflect the assumption that impacts of 2011 and 2012 programs are already implicitly reflected in the actual data for those years that are the basis for the load forecast prior to any manual CDM adjustment."]
[]
["Weight Factor for Inclusion in CDM Adjustment to 2014 Load Forecast"]
[null,2011,2012,2013,2014,2015]
["Weight Factor for each year's CDM program impact on 2015 load forecast",0,0,0,1,0.5,"Distributor can select \"0\", \"0.5\", or \"1\" from drop-down list"]
["Default Value selection rationale.  ","Full year persistence of 2011 CDM programs on 2015 load forecast.  Full impact assumed because of 50% impact in 2011 (first year) but full year persistence impact on 2012 and 2013, and thus reflected in base forecast before the CDM adjustment.","Full year persistence of 2012 CDM programs on 2015 load forecast.  Full impact assumed because of 50% impact in 2012 (first year) but full year persistence impact on 2013, and thus reflected in base forecast before the CDM adjustment.","Full year impact of persistence of 2013 CDM programs on 2015 load forecast, but 50% impact in base forecast (first year impact of 2013 CDM programs on 2013 load forecast, which is part of the data for the load forecast.","Full year impact of persistence of 2014 programs on 2015 load forecast.  2014 CDM programs not in base forecast.","Only 50% of 2015 CDM programs are assumed to impact the 2015 load forecast based on the \"half-year\" rule."]
[]
["2011-2014 and 2015-2020 LRAMVA and 2015 CDM adjustment to Load Forecast"]
[]
["One manual adjustment for CDM impacts to the 2015 load forecast is made.  However, the distributor will have two associated annualized CDM impacts, one for the 2011-2014 CDM program and the second for the 2015-2020 CDM plan.  In addition, the distributor needs to reflect the CDM adjustment that was explicitly factored into its 2011 load forecast in its 2011 cost of service application (assuming that it rebased in that year).  this amount, and equal persistence for 2012, 2013 and 2014 is used as an offset to determine what the net balance of the 2011-2014 LRAMVA balance should be for disposition."]
[]
["The Amount used for the CDM threshold of the LRAMVA is the kWh that will be used to determine the base amount for the LRAMVA balance for 2014, for assessing performance against the four-year target.  The base amount for 2011-2013 is 0 (zero) for 2014 Cost of Service applications, as the utility rebased prior to the 2011-2014 CDM programs, and there was no adjustment to reflect the impacts of the 2011-2014 programs on the load forecast used to determine their last cost of service-based rates."]
[]
["The proposed loss factor should correspond with the loss factor calculated in Appendix 2-R "]
[]
["The Manual Adjustment for the 2015 Load Forecast is the amount manually subtracted from the load forecast derived from the base forecast from historical data, and is intended to reflect the further CDM savings that the distributor needs to achieve assuming that they meet 100% of the 2011-2014 CDM target that is a condition of their target. "]
[]
["If the distributor has developed their load forecast on a system purchased basis, then the manual adjustment should be on system purchased basis, including the adjustment for losses.  If the load forecast has been developed on a billed basis, either on a system basis or on a class-specific basis, the manual adjustment should be on a billed basis, excluding losses."]
[]
["The distributor should determine the allocation of the savings to all customer classes in a reasonable manner (e.g. taking into account what programs and what OPA-measured impacts were directed at specific customer classes), for both the LRAMVA and for the load forecast adjustment."]
[]
[null,2011,2012,2013,2014,2015,"Total for 2014","Total for 2015"]
[null,"kWh"]
["Amount used for CDM threshold for LRAMVA (2015)",{"$f":"E41","v":4600000},{"$f":"E42","v":5500000},{"$f":"E43","v":7238048.666666667},{"$f":"E44","v":7238048.666666667},null,{"$f":"SUM(B114:E114)","v":24576097.333333336}]
[]
["2011 CDM adjustment (per Board Decision in 2011 Cost of Service Application)",5800000,{"$f":"B116","v":5800000},{"$f":"B116","v":5800000},{"$f":"B116","v":5800000},null,{"$f":"SUM(B116:E117)","v":23200000}]
[]
["Amount used for CDM threshold for LRAMVA (2015)",null,null,null,null,{"$f":"B63","v":2900000},null,{"$f":"SUM(B118:F118)","v":2900000}]
[]
["Manual Adjustment for 2015 Load Forecast (billed basis)",{"$f":"B114*(1+F87)*B95","v":0},{"$f":"C114*(1+F87)*C95","v":0},{"$f":"D114*(1+F87)*D95","v":0},{"$f":"E114*(1+F87)*E95","v":7238048.666666667},{"$f":"F118*(1+F87)*F95","v":1450000},null,{"$f":"SUM(B120:F120)","v":8688048.6666666679}]
[]
["Proposed Loss Factor (TLF)",4.7899999999999998E-2," Format: X.XX%"]
["Manual Adjustment for 2015 Load Forecast (system purchased basis)",{"$f":"B120*(1+$B122)","v":0},{"$f":"C120*(1+$B122)","v":0},{"$f":"D120*(1+$B122)","v":0},{"$f":"E120*(1+$B122)","v":7584751.1978000011},{"$f":"F120*(1+$B122)","v":1519455},null,{"$f":"SUM(B123:F123)","v":9104206.1978000011}]
[]
["Manual adjustment uses \"gross\" versus \"net\" (i.e. numbers multiplied by (1 + g).  The Weight factor is also used calculate the impact of each year's program on the CDM adjustment to the 2014 load forecast."]

{"sheet":"App.2-IA_Act_Frcst_Data","index":41,"n_rows":79,"n_cols":7,"rows_kept":79,"cut":false,"hidden":false,"merged":[[8,0,8,6],[9,0,9,6]]}
[null,null,null,null,null,"File Number:",{"$f":"EBNUMBER","v":"EB-2014-0096"}]
[null,null,null,null,null,"Exhibit:",3]
[null,null,null,null,null,"Tab:",1]
[null,null,null,null,null,"Schedule:",1]
[null,null,null,null,null,"Attachment:",2]
[]
[null,null,null,null,null,"Date:","2014-08-29"]
[]
["Appendix 2-IA"]
["Summary and Variances of Actual and Forecast Data"]
[]
["Replace \"Rate Class #\" with the appropriate rate classification."]
[]
[null,{"$f":"RebaseYear & \" Board Approved\"","v":"2011 Board Approved"},{"$f":"RebaseYear","v":2011},{"$f":"RebaseYear+1","v":2012},{"$f":"RebaseYear+2","v":2013},{"$f":"RebaseYear+3&\" Bridge\"","v":"2014 Bridge"},{"$f":"RebaseYear+4 &\" Test\"","v":"2015 Test"}]
["Residential"]
["# of Customers",46900,45996,45871,46274,46668.605005945043,47066.563370387645]
["kWh",462790265,418849931,414592237,412298278,402178820.57628191,399166843.44033277]
["kW"]
["Variance Analysis"]
[{"$f":"A16","v":"# of Customers"},{"$f":"B16","v":46900},{"$f":"IF(ISERROR((C16-$B16)/$B16), 0, (C16-$B16)/$B16)","v":-1.927505330490405E-2},-2.1940298507462687E-2,-1.3347547974413647E-2,-4.9337951824084724E-3,3.5514577907813363E-3]
["kWh",{"$f":"B17","v":462790265},-9.4946539119616091E-2,-0.10414659003252802,-0.10910339049590854,-0.13096957522154901,-0.13747787361012712]
["kW",{"$f":"B18","v":0},0,0,0,0,0]
[]
["General Service < 50 kW"]
["# of Customers",4352,4307,4260,4315,4350.2996958819085,4385.4252740469174]
["kWh",122331880,129680926,125465897,124179905,120510242.02491087,118740733.01474681]
["kW"]
["Variance Analysis"]
[{"$f":"A25","v":"# of Customers"},{"$f":"B25","v":4352},{"$f":"IF(ISERROR((C25-$B25)/$B25), 0, (C25-$B25)/$B25)","v":-1.0340073529411764E-2},-2.1139705882352942E-2,-8.5018382352941169E-3,-3.906948800761674E-4,7.6804398085747625E-3]
["kWh",{"$f":"B26","v":122331880},6.007465919758611E-2,2.5618971931110679E-2,1.5106650858304475E-2,-1.4890950544446245E-2,-2.9355773697364782E-2]
["kW",{"$f":"B27","v":0},0,0,0,0,0]
[]
["General Service > 50 kW"]
["# of Customers",848,859,855,863,862.60743127510148,862]
["kWh",628090148,675128624,664095955,655968805,651859446.78527617,657957067.81947422]
["kW",1818411,1793543,1761221,1721553.9692533722,1723755.1121789298,1739879.455366198]
["Variance Analysis"]
[{"$f":"A34","v":"# of Customers"},{"$f":"B34","v":848},{"$f":"IF(ISERROR((C34-$B34)/$B34), 0, (C34-$B34)/$B34)","v":1.2971698113207548E-2},8.2547169811320754E-3,1.7688679245283018E-2,1.7225744428185703E-2,1.6509433962264151E-2]
["kWh",{"$f":"B35","v":628090148},7.4891281370648086E-2,5.7325858580415119E-2,4.4386394355607692E-2,3.7843769498636007E-2,4.7551963543096716E-2]
["kW",{"$f":"B36","v":1818411},-1.3675676181017383E-2,-3.1450535659980058E-2,-5.3264652901147118E-2,-5.205417687259379E-2,-4.3186905839110092E-2]
[]
["Unmetered Scattered Load"]
["# of Connections",465,424,384,422,421.56641693389605,421.52702238852294]
["kWh",2335428,1798316,2264271,2247877,2231401.6422909871,2215047.0373685542]
["kW"]
["Variance Analysis"]
[{"$f":"A43","v":"# of Connections"},{"$f":"B43","v":465},{"$f":"IF(ISERROR((C43-$B43)/$B43), 0, (C43-$B43)/$B43)","v":-8.8172043010752682E-2},-0.17419354838709677,-9.2473118279569888E-2,-9.3405554980868707E-2,-9.3490274433284004E-2]
["kWh",{"$f":"B44","v":2335428},-0.22998439686430067,-3.0468505130537102E-2,-3.7488203447076936E-2,-4.4542738080134744E-2,-5.1545567935061945E-2]
["kW",{"$f":"B45","v":0},0,0,0,0,0]
[]
["Sentinel Lighting"]
["# of Connections",560,369,343,337,319.55827617785656,303]
["kWh",292817,246192,267435.26025404601,265619,262520.8315748173,259458.80005095116]
["kW",809,679,721,716.23040649278312,713.34740689392868,705.02695386826144]
["Variance Analysis"]
[{"$f":"A52","v":"# of Connections"},{"$f":"B52","v":560},{"$f":"IF(ISERROR((C52-$B52)/$B52), 0, (C52-$B52)/$B52)","v":-0.34107142857142858},-0.38750000000000001,-0.39821428571428569,-0.42936022111097044,-0.45892857142857141]
["kWh",{"$f":"B53","v":292817},-0.15922914311669062,-8.6681236902071926E-2,-9.2883951409924975E-2,-0.10346451341685317,-0.11392166421023656]
["kW",{"$f":"B54","v":809},-0.16069221260815822,-0.10877626699629171,-0.11467193264180084,-0.11823559098401894,-0.12852045257322442]
[]
["Street Lighting"]
["# of Connections",12408,12540,12507,12702,12844.852833256655,12989.312258543656]
["kWh",7467591,7294838,7329519,7344781,7411072.2161780158,7477961.7518079486]
["kW",20107,20391,21037,20808.575811577328,20994.730572838995,21184.221072692333]
["Variance Analysis"]
[{"$f":"A61","v":"# of Connections"},{"$f":"B61","v":12408},{"$f":"IF(ISERROR((C61-$B61)/$B61), 0, (C61-$B61)/$B61)","v":1.0638297872340425E-2},7.9787234042553185E-3,2.3694390715667313E-2,3.5207352776970888E-2,4.6849795175987738E-2]
["kWh",{"$f":"B62","v":7467591},-2.3133698672034932E-2,-1.8489496813631063E-2,-1.6445731963627894E-2,-7.5685430310771162E-3,1.3887680522337892E-3]
["kW",{"$f":"B63","v":20107},1.4124434276620083E-2,4.6252548863579851E-2,3.4892117748909726E-2,4.4150324406375625E-2,5.3574430431806493E-2]
[]
[]
[]
["Totals"]
["Customers / Connections",{"$f":"SUM(B16,B25,B34,B43,B52,B61)","v":65533},64495,64220,64913,65467.489659470455,66027.827925366742]
["kWh",1223308129,1232998827,1214015314.2602541,1202305265,1184453504.0765128,1185817111.8637812]
["kW from applicable classes",1839327,1814613,1782979,1743078.7754714421,1745463.1901586629,1761768.7033927587]
[]
["Totals - Variance"]
["Customers / Connections",{"$f":"B72","v":65533},{"$f":"IF(ISERROR((C72-$B72)/$B72), 0, (C72-$B72)/$B72)","v":-1.5839348114690309E-2},-2.0035707200952192E-2,-9.4608823035722458E-3,-9.9965422809187611E-4,7.5508205845412606E-3]
["kWh",{"$f":"B73","v":1223308129},7.9217147097041807E-3,-7.5964628366708541E-3,-1.7168907409426688E-2,-3.1761928170336864E-2,-3.0647239438248503E-2]
["kW from applicable classes",{"$f":"B74","v":1839327},-1.3436436261741387E-2,-3.0635118170939696E-2,-5.2327957197691247E-2,-5.1031605495562862E-2,-4.2166671074388221E-2]

{"sheet":"App.2-JA_OM&A_Summary_Analys","index":42,"n_rows":61,"n_cols":12,"rows_kept":61,"cut":false,"hidden":false,"merged":[[63,1,64,5],[58,0,59,11],[8,0,8,6],[9,0,9,6],[12,7,12,8]]}
[null,null,null,null,null,null,null,null,null,null,"File Number:",{"$f":"EBNUMBER","v":"EB-2014-0096"}]
[null,null,null,null,null,null,null,null,null,null,"Exhibit:",4]
[null,null,null,null,null,null,null,null,null,null,"Tab:",2]
[null,null,null,null,null,null,null,null,null,null,"Schedule:",1]
[null,null,null,null,null,null,null,null,null,null,"Page:",1]
[]
[null,null,null,null,null,null,null,null,null,null,"Date:","2014-08-29"]
[]
["Appendix 2-JA"]
["Summary of Recoverable OM&A Expenses"]
[]
[]
[null,{"$f":"\"Last Rebasing Year (\" & RebaseYear & \" Board-Approved)\"","v":"Last Rebasing Year (2011 Board-Approved)"},{"$f":"\"Last Rebasing Year (\" & RebaseYear & \" Actuals)\"","v":"Last Rebasing Year (2011 Actuals)"},{"$f":"BridgeYear -2 & \" Actuals\"","v":"2012 Actuals"},{"$f":"BridgeYear -1 & \" Actuals\"","v":"2013 Actuals"},{"$f":"BridgeYear & \" Bridge Year\"","v":"2014 Bridge Year"},{"$f":"TestYear & \" Test Year\"","v":"2015 Test Year"}]
["Reporting Basis"]
["Operations",3517644,4071987,4326888,4131174,4299653,4291150]
["Maintenance",2528132,2209781,2381216,2149552,{"$f":"2255316+81375","v":2336691},2554924]
["SubTotal",{"$f":"SUM(B15:B16)","v":6045776},6281768,6708104,6280726,6636344,6846074]
["%Change (year over year)",null,null,{"$f":"IF(ISERROR((D17-C17)/C17), \"\", (D17-C17)/C17)","v":6.7868791079199353E-2},{"$f":"IF(ISERROR((E17-D17)/D17), \"\", (E17-D17)/D17)","v":-6.3710699774481738E-2},{"$f":"IF(ISERROR((F17-E17)/E17), \"\", (F17-E17)/E17)","v":5.6620524442556483E-2},{"$f":"IF(ISERROR((G17-F17)/F17), \"\", (G17-F17)/F17)","v":3.1603244195900632E-2}]
["%Change (Test Year vs \nLast Rebasing Year - Actual)",null,null,null,null,null,{"$f":"IF(ISERROR((G17-C17)/C17), \"\", (G17-C17)/C17)","v":8.9832352929939463E-2}]
["Billing and Collecting",3913667,3875994,3697637,3735692,{"$f":"4692877+1500775","v":6193652},5609882]
["Community Relations",81464,60687,79068,81554,85525,69600]
["Administrative and General",{"$f":"3774395+222474+38906","v":4035775},{"$f":"3664417+185288+38906","v":3888611},{"$f":"3671166+406629+38906+167381","v":4284082},{"$f":"3756758+258673+38906","v":4054337},{"$f":"4021803+281600+38906","v":4342309},{"$f":"4191626+287232+37166","v":4516024}]
["SubTotal",{"$f":"SUM(B20:B22)","v":8030906},7825292,8060787,7871583,10621486,10195506]
["%Change (year over year)",null,null,{"$f":"IF(ISERROR((D23-C23)/C23), \"\", (D23-C23)/C23)","v":3.0094084668022613E-2},{"$f":"IF(ISERROR((E23-D23)/D23), \"\", (E23-D23)/D23)","v":-2.3472149803735045E-2},{"$f":"IF(ISERROR((F23-E23)/E23), \"\", (F23-E23)/E23)","v":0.34934561447170154},{"$f":"IF(ISERROR((G23-F23)/F23), \"\", (G23-F23)/F23)","v":-4.010549936233028E-2}]
["%Change (Test Year vs \nLast Rebasing Year - Actual)",null,null,null,null,null,{"$f":"IF(ISERROR((G23-C23)/C23), \"\", (G23-C23)/C23)","v":0.30289144481765023}]
["Total",{"$f":"SUM(B23,B17)","v":14076682},14107060,14768891,14152309,17257830,17041580]
["%Change (year over year)",null,null,{"$f":"IF(ISERROR((D26-C26)/C26), \"\", (D26-C26)/C26)","v":4.6914878082321899E-2},{"$f":"IF(ISERROR((E26-D26)/D26), \"\", (E26-D26)/D26)","v":-4.1748700020874961E-2},{"$f":"IF(ISERROR((F26-E26)/E26), \"\", (F26-E26)/E26)","v":0.21943564120879497},{"$f":"IF(ISERROR((G26-F26)/F26), \"\", (G26-F26)/F26)","v":-1.2530544106646085E-2}]
[]
[]
[null,{"$f":"B13","v":"Last Rebasing Year (2011 Board-Approved)"},"Last Rebasing Year (2011 Actuals)","2012 Actuals","2013 Actuals","2014 Bridge Year","2015 Test Year"]
["Operations",{"$f":"B15","v":3517644},4071987,4326888,4131174,4299653,4291150]
["Maintenance",2528132,2209781,2381216,2149552,2336691,2554924]
["Billing and Collecting",{"$f":"B20","v":3913667},3875994,3697637,3735692,6193652,5609882]
["Community Relations",81464,60687,79068,81554,85525,69600]
["Administrative and General",4035775,3888611,4284082,4054337,4342309,4516024]
["Total",{"$f":"SUM(B31:B35)","v":14076682},14107060,14768891,14152309,17257830,17041580]
["%Change (year over year)",null,null,{"$f":"IF(ISERROR((D36-C36)/C36), \"\", (D36-C36)/C36)","v":4.6914878082321899E-2},{"$f":"IF(ISERROR((E36-D36)/D36), \"\", (E36-D36)/D36)","v":-4.1748700020874961E-2},{"$f":"IF(ISERROR((F36-E36)/E36), \"\", (F36-E36)/E36)","v":0.21943564120879497},{"$f":"IF(ISERROR((G36-F36)/F36), \"\", (G36-F36)/F36)","v":-1.2530544106646085E-2}]
[]
[]
[null,{"$f":"B13","v":"Last Rebasing Year (2011 Board-Approved)"},{"$f":"C13","v":"Last Rebasing Year (2011 Actuals)"},{"$f":"\"Variance \" & 'LDC Info'!E28 & \"  BA – \" & 'LDC Info'!E28 & \" Actuals\"","v":"Variance 2011  BA – 2011 Actuals"},{"$f":"D13","v":"2012 Actuals"},{"$f":"\"Variance \" & 'LDC Info'!E26 -2 & \" Actuals vs. \" &  'LDC Info'!E28 & \" Actuals\"","v":"Variance 2012 Actuals vs. 2011 Actuals"},{"$f":"E13","v":"2013 Actuals"},{"$f":"\"Variance \" & 'LDC Info'!E26 -1 & \" Actuals vs. \" &  'LDC Info'!E26-2 & \" Actuals\"","v":"Variance 2013 Actuals vs. 2012 Actuals"},{"$f":"F13","v":"2014 Bridge Year"},{"$f":"\"Variance \" & 'LDC Info'!E26 & \" Bridge vs. \" & 'LDC Info'!E26 -1 & \" Actuals\"","v":"Variance 2014 Bridge vs. 2013 Actuals"},{"$f":"G13","v":"2015 Test Year"},{"$f":"\"Variance \" & TestYear & \" Test vs. \" & BridgeYear & \" Bridge\"","v":"Variance 2015 Test vs. 2014 Bridge"}]
["Operations",{"$f":"B15","v":3517644},{"$f":"C15","v":4071987},{"$f":"B41-C41","v":-554343},{"$f":"D15","v":4326888},{"$f":"E41-C41","v":254901},{"$f":"E15","v":4131174},{"$f":"G41-E41","v":-195714},{"$f":"F15","v":4299653},{"$f":"I41-G41","v":168479},{"$f":"G15","v":4291150},{"$f":"K41-I41","v":-8503}]
["Maintenance ",{"$f":"B16","v":2528132},{"$f":"C16","v":2209781},{"$f":"B42-C42","v":318351},{"$f":"D16","v":2381216},{"$f":"E42-C42","v":171435},{"$f":"E16","v":2149552},{"$f":"G42-E42","v":-231664},{"$f":"F16","v":2336691},187139,{"$f":"G16","v":2554924},218233]
["Billing and Collecting ",{"$f":"B20","v":3913667},3875994,{"$f":"B43-C43","v":37673},{"$f":"D20","v":3697637},{"$f":"E43-C43","v":-178357},{"$f":"E20","v":3735692},38055,{"$f":"F20","v":6193652},2457960,{"$f":"G20","v":5609882},-583770]
["Community Relations ",81464,60687,{"$f":"B44-C44","v":20777},{"$f":"D21","v":79068},{"$f":"E44-C44","v":18381},{"$f":"E21","v":81554},2486,{"$f":"F21","v":85525},3971,{"$f":"G21","v":69600},-15925]
["Administrative and General ",4035775,3888611,{"$f":"B45-C45","v":147164},{"$f":"D22","v":4284082},{"$f":"E45-C45","v":395471},{"$f":"E22","v":4054337},-229745,{"$f":"F22","v":4342309},287972,{"$f":"G22","v":4516024},173715]
["Total OM&A Expenses ",{"$f":"SUM(B41:B45)","v":14076682},{"$f":"SUM(C41:C45)","v":14107060},-30378,14768891,661831,14152309,-616582,17257830,3105521,17041580,-216250]
["Adjustments for Total non-recoverable items (from Appendices 2-JA and 2-JB)"]
["Total Recoverable OM&A Expenses ",{"$f":"B46-B47","v":14076682},{"$f":"C46-C47","v":14107060},-30378,14768891,661831,14152309,-616582,17257830,3105521,17041580,-216250]
["Variance from previous year ",null,null,null,{"$f":"E48-C48","v":661831},null,{"$f":"G48-E48","v":-616582},null,{"$f":"I48-G48","v":3105521},null,{"$f":"K48-I48","v":-216250}]
["Percent change (year over year) ",null,null,null,{"$f":"IF(ISERROR(E49/C48), \"\", E49/C48)","v":4.6914878082321899E-2},null,{"$f":"IF(ISERROR(G49/E48), \"\", G49/E48)","v":-4.1748700020874961E-2},null,{"$f":"IF(ISERROR(I49/G48), \"\", I49/G48)","v":0.21943564120879497},null,{"$f":"IF(ISERROR(K49/I48), \"\", K49/I48)","v":-1.2530544106646085E-2}]
["Percent Change:                                                    Test year vs. Most Current Actual ",null,null,null,null,null,{"$f":"IF(ISERROR((K48-G48)/G48), \"\", (K48-G48)/G48)","v":0.20415544912141192}]
["Simple average of % variance for all years",null,null,null,null,null,{"$f":"IF(ISERROR((K46-C46)/C46), \"\", (K46-C46)/C46)","v":0.20801782937054211},null,null,null,null,{"$f":"IF(ISERROR(AVERAGE(E50,G50,I50,K50)), \"\", AVERAGE(E50,G50,I50,K50))","v":5.3017818790898959E-2}]
["Compound Annual Growth Rate for all years",null,null,null,null,null,{"$f":"IF(ISERROR((K49-C49)/C49), \"\", (K49-C49)/C49)","v":""},null,null,null,null,{"$f":"IF((K48-C48)=0, \"\", (K48/C48)^(1/5)-1)","v":3.8519531698947063E-2}]
[{"$f":"\"Compound Growth Rate                                                            (\" & E13 & \" vs. \" & 'LDC Info'!E28 & \" Actuals)\"","v":"Compound Growth Rate                                                            (2013 Actuals vs. 2011 Actuals)"},null,null,null,null,null,{"$f":"IF(ISERROR((G48/C48)^(1/(3)) - 1), \"\", (G48/C48)^(1/(3)) - 1)","v":1.0680398480660269E-3}]
[]
["Note:"]
[]
["1     \"BA\" = Board-Approved"]
["2     If it has been more than three years since the applicant last filed a cost of service application, additional years of historical actuals should be incorporated into the table, as necessary, to go back to the last cost of service application.  If the applicant last filed a cost of service application less than three years ago, a minimum of three years of actual information is required."]
[]
["3     Recoverable OM&A that is included on these tables should be identical to the recoverable OM&A that is shown for the corresponding periods on Appendix 2-JB."]

{"sheet":"App.2-JB_OM&A_Cost _Drivers","index":43,"n_rows":84,"n_cols":7,"rows_kept":84,"cut":false,"hidden":false,"merged":[[9,0,9,6],[10,0,10,6],[80,1,82,6],[83,1,84,6],[79,1,79,6]]}
[null,null,null,null,null,"File Number:",{"$f":"EBNUMBER","v":"EB-2014-0096"}]
[null,null,null,null,null,"Exhibit:",4]
[null,null,null,null,null,"Tab:",2]
[null,null,null,null,null,"Schedule:",1]
[null,null,null,null,null,"Page:",2]
[]
[null,null,null,null,null,"Date:","2014-08-29"]
[]
[]
["Appendix 2-JB"]
["Recoverable OM&A Cost Driver Table"]
[]
["OM&A",{"$f":"\"Last Rebasing Year (\" & RebaseYear & \" Actuals)\"","v":"Last Rebasing Year (2011 Actuals)"},"2009 Actuals",{"$f":"BridgeYear -2 & \" Actuals\"","v":"2012 Actuals"},{"$f":"BridgeYear -1 & \" Actuals\"","v":"2013 Actuals"},{"$f":"BridgeYear & \" Bridge Year\"","v":"2014 Bridge Year"},{"$f":"TestYear & \" Test Year\"","v":"2015 Test Year"}]
["Reporting Basis"]
["Opening Balance",14076683.120000001,{"$f":"B71","v":14107060.121751867},{"$f":"B71","v":14107060.121751867},{"$f":"D71","v":14768890.753750451},{"$f":"E71","v":14152309.384464739},{"$f":"F71","v":17257829.863725781}]
["OMERS",85554.668418532077,null,148597.02723096719,113613.77596408906,{"$f":"47900*0.78","v":37362},21600]
["Labour-inflationary increase-Management",null,null,{"$f":"2864484*0.029","v":83070.036000000007},103000,{"$f":"3499353*0.031","v":108479.943},{"$f":"3652122*0.025","v":91303.05}]
["Labour-inflationary increase- Union",null,null,{"$f":"6681647*0.031/12*9*0.7778","v":120829.90210095003},{"$f":"6840692*0.029/12*9*0.7402","v":110130.69475019998},{"$f":"7113131*0.031/12*9*0.7425+10849","v":133643.86959437502},{"$f":"7222031*0.025/12*9*0.7286+13827","v":112488.97099875001}]
["Garage Labour 2 vehicle techs July 2011",{"$f":"69300*1.6","v":110880},null,{"$f":"110880","v":110880}]
["Garage-Lead hand retired",{"$f":"-121672/12*5","v":-50696.666666666672},null,{"$f":"-121672/12*7","v":-70975.333333333343}]
["Meter department maintenance vs capital",124764,null,-105309,-79180,null,68818]
["Maintenance Handyman retirees",-29446,null,-62400,null,{"$f":"-73840*1.6/12*9","v":-88608},{"$f":"-73840*1.5/12*3","v":-27690}]
["Maternity leaves and non-union Employees departed",-37906,null,{"$f":"(-70000-38000)","v":-108000},{"$f":"-57000*1.6-42000*0.7*1.6","v":-138240},-99183,99183]
["Lineman left offset by new apprentices",{"$f":"(-80000-44000-35000)*1.6*0.4-50000*1.6+69000*1.6","v":-71360},null,{"$f":"-144000*0.4","v":-57600},{"$f":"-105000*1.6*0.4-85000*1.6*0.4+(10*2080*4*1.6*0.4)","v":-68352},{"$f":"80000*1.6*0.4/12*7","v":29866.666666666668},{"$f":"128449","v":128449}]
["Employees on medical leave",null,null,null,{"$f":"-60115*2*1.6-80662*0.5*1.6*0.4","v":-218179.84},218180]
["Controller maternity leave",-71274,null,null,55700,55700]
["Engineering techs OM&A labour vs capital",142025,null,42000,-73853]
["Engineering Manager",-56800,null,102262]
["Accountant Temp - Management June 2012",null,null,65900,65900]
["Non-union Management contract ended",-30400,null,-38000]
["Smart meter co-ordinators 2014 wage & benefits",null,null,null,null,188000]
["Systems Analyst replace",null,null,null,null,null,111000]
["Water supervision not recovered",null,null,null,null,77172,43000]
["Water labour not recovered",null,null,null,null,345829,130000]
[]
[]
[]
[]
["Transformer station operations-outside services",42928,null,0,null,null,30729]
["Transformer station maintenance-outside services",null,null,82177,-82177,null,20267]
["Maintenance OH & UG materials",-81371,null,-31111]
["Maintenance poles outside services",-50152,null,20322,-80783,null,24609]
["Maintenance Transformers-outside services",-40118,null,29897,36690,null,21581]
["Locates",52139,null,29062,null,null,13825]
["Tree trimming-outside services",-45809,null,-51527,43346]
["Pole inspections",-28469,null,{"$f":"132187-126464","v":5723}]
["PCB Inspections",null,null,{"$f":"988*128","v":126464},null,null,-135552]
["Write off obsolete inventory",39000,null,20000,40600]
["Stores FMR consulting",null,null,null,97000,107000,-204000]
["Vehicle Maintenance",189500,null,-75686,0]
["Meter reading-outside services",-93463,null,-174297,-29151]
["Postage",102289,null,40343]
["Collection- outside services",null,null,21907]
["Bad Debt expense",-57225,null,-64456,-42416,41158]
["Allocated water expenses",{"$f":"-57426-12789","v":-70215},null,0,null,{"$f":"33272+203317","v":236589},{"$f":"78829+21766","v":100595}]
["Billing expenses reduced due to loss of water",null,null,null,null,0,-129000]
["IT expenditures",64494,null,0,57636,null,16000]
["Smart Meter costs prior years",null,null,null,null,{"$f":"81375+476493+665293","v":1223161},-1223161]
["Smart Meter costs current year exclude labour",null,null,null,null,{"$f":"200000+60000","v":260000}]
["MIST meter reading",null,null,null,null,null,132000]
["Outsource mail activities",null,null,null,null,null,102000]
["LPC Class action penalty &interest",null,null,167381,-167381]
["Property insurance",31600,null,null,63731]
["Property taxes",-37187,null,221342,-147957]
["Legal fees",51469,null,22198,-121289,97622]
["Regulatory expenses",null,null,null,null,null,50312]
["Building maintenance outside purchases",null,null,null,null,null,90145]
[]
["Other immaterial items",-154374,null,40837,-154970,133548,95248]
[]
["Closing Balance",{"$f":"SUM(B15:B70)","v":14107060.121751867},14107060.121751867,14768890.753750451,14152309.384464739,17257829.863725781,17041579.884724531]
[]
[]
[]
[]
[]
["Notes:"]
[]
[1,"For each year, a detailed explanation for each cost driver and associated amount is requied in Exhibit 4."]
[2,"For purposes of assessing incremental cost drivers, the closing balance for each year becomes the opening balance for the next year."]
[3,"If it has been more than three years since the applicant last filed a cost of service application, additional years of historical actuals should be incorporated into the table, as necessary, to go back to the last cost of service application.  If the applicant last filed a cost of service application less than three years ago, a minimum of three years of actual information is required."]
[]
[]
[4,"Opening Balance for \"Last Rebasing Year\" (cell B15) should be equal to the Board-Approved amount."]

{"sheet":"App.2-JC_OMA Programs","index":44,"n_rows":151,"n_cols":9,"rows_kept":151,"cut":false,"hidden":false,"merged":[[153,0,154,8],[8,0,8,7],[9,0,9,7],[11,0,11,7],[151,0,151,7],[149,0,149,8],[150,0,150,8]]}
[null,null,null,null,null,null,null,"File Number:",{"$f":"EBNUMBER","v":"EB-2014-0096"}]
[null,null,null,null,null,null,null,"Exhibit:",4]
[null,null,null,null,null,null,null,"Tab:",3]
[null,null,null,null,null,null,null,"Schedule:",1]
[null,null,null,null,null,null,null,"Page:",1]
[]
[null,null,null,null,null,null,null,"Date:","2104-08-29"]
[]
["Appendix 2-JC"]
["OM&A Programs Table"]
[]
[]
["Programs",{"$f":"\"Last Rebasing Year (\" & RebaseYear & \" Board-Approved)\"","v":"Last Rebasing Year (2011 Board-Approved)"},{"$f":"\"Last Rebasing Year (\" & RebaseYear & \" Actuals)\"","v":"Last Rebasing Year (2011 Actuals)"},{"$f":"BridgeYear -2 & \" Actuals\"","v":"2012 Actuals"},{"$f":"BridgeYear -1 & \" Actuals\"","v":"2013 Actuals"},{"$f":"BridgeYear & \" Bridge Year\"","v":"2014 Bridge Year"},{"$f":"TestYear & \" Test Year\"","v":"2015 Test Year"},{"$f":"\"Variance (Test Year vs. \" & E13 &\")\"","v":"Variance (Test Year vs. 2013 Actuals)"},{"$f":"\"Variance (Test Year vs. \" & B13","v":"Variance (Test Year vs. Last Rebasing Year (2011 Board-Approved)"}]
["Reporting Basis","CGAAP","CGAAP","CGAAP","CGAAP","CGAAP","MIFRS","MIFRS","MIFRS"]
["Distribution Stations"]
["Labour",58105.13,33334.99,43051.839999999997,33672.58,38000.04,40286.113046327817,{"$f":"G16-E16","v":6613.5330463278151},{"$f":"G16-B16","v":-17819.016953672181}]
["Materials",3666,6820,6827.18,184.41,1000,3782.0554500000003,{"$f":"G17-E17","v":3597.6454500000004},116.05545000000029]
["Outside Services",45000,23706.14,68325.69,28110.13,41608.82,61267.44,33157.31,16267.440000000002]
["Other Costs",13000,5622.89,9617.08,3964.39,4599.96,6010.5907999999999,2046.2008000000001,-6989.4092000000001]
["Maintenance Outside Services",4766.79,2761.57,28484.59,33541.519999999997,22700.04,47309.368600000002,13767.848600000005,42542.578600000001]
["Sub-Total",{"$f":"SUM(B16:B20)","v":124537.92},72245.590000000011,156306.38,99473.03,107908.86000000002,158655.56789632782,59182.53789632782,34117.64789632782]
[]
["Transformer Station "]
["Transformer Station operations",{"$f":"11507+54733","v":66240},{"$f":"7210+101958","v":109168},{"$f":"29298+94878","v":124176},{"$f":"11484+141834","v":153318},{"$f":"13850+120200","v":134050},{"$f":"16760+148019","v":164779},11461,{"$f":"G24-B24","v":98539}]
["Transformer Station Maintenance",0,0,82177,1115,1200,21467,20352,21467]
["Sub-Total",{"$f":"SUM(B24:B25)","v":66240},109168,206353,154433,135250,186246,31813,120006]
["Overhead Distribution Lines & Feeders"]
["Labour",168210.50999999998,157354.63,197821.26,143938.84,152499.96,172209.44697428268,28270.60697428268,{"$f":"G28-B28","v":3998.9369742826966}]
["Materials",2812.36,5048.1099999999997,6723.04,0,0,3001.6432499999996,3001.6432499999996,189.2832499999995]
["Outside Services",12390.84,24724.589999999997,34815.449999999997,32416.010000000002,28500,33070,653.98999999999796,20679.16]
["Other Costs",34365.72,34424.019999999997,35521.379999999997,35565.4,36999.96,35983.966899999999,418.56689999999799,1618.2468999999983]
[]
["Sub-Total",{"$f":"SUM(B28:B32)","v":217779.42999999996},221551.34999999998,274881.13,211920.25,217999.91999999998,244265.05712428267,32344.80712428267,26485.627124282706]
["Underground Distribution "]
["Labour",56349.56,66599.97,65308.1,60931.96,68000.039999999994,72899.428220062866,11967.468220062867,{"$f":"G35-B35","v":16549.868220062868}]
["Materials",814.16,950.63,217.95,0,0,297.98789999999997,297.98789999999997,-516.1721]
["Outside Services",0,850,0,0,0,0,0,0]
["Other Costs",15441.88,18096.96,16700.439999999999,15821.84,16500,16947.608099999998,1125.7680999999975,1505.7280999999984]
["Locates",194990.79,247129.85,276192.13,250001.5,251000.04,264825.52834999998,14824.028349999979,69834.738349999971]
["Sub-Total",{"$f":"SUM(B35:B39)","v":267596.39},333627.41000000003,358418.62,326755.3,335500.08,354970.55257006281,28215.252570062818,87374.162570062792]
["Load Dispatching"]
["Load Dispatching outside service",43800,42648,43296,38222.449999999997,45999.96,46000,{"$f":"G42-E42","v":7777.5500000000029},{"$f":"G42-B42","v":2200}]
[]
["Sub-Total",{"$f":"SUM(B42:B43)","v":43800},42648,43296,38222.449999999997,45999.96,46000,7777.5500000000029,2200]
["Meter Department"]
["Labour",427942.67,552706.64,447398.14,368218.36,369999.96,440539.05215143692,{"$f":"G46-E46","v":72320.692151436931},{"$f":"G46-B46","v":12596.382151436934}]
["Materials",5414.62,6145.52,2762.7,3262.89,3500.04,3996.1432500000005,733.25325000000066,-1418.4767499999994]
["Outside Services",29885.14,12874.46,23961.43,35776.78,11000.04,8970.5700000000015,-26806.21,-20914.57]
["Other Costs",26684.7,36722.660000000003,24967.05,20313.89,21500.04,26134.669100000003,5820.7791000000034,-550.03089999999793]
["Smart Meter from previous years",null,null,null,null,81375,null,0,0]
["Sub-Total",{"$f":"SUM(B46:B50)","v":489927.13},608449.28000000003,499089.32,427571.92000000004,487375.07999999996,479640.43450143695,52068.514501436905,-10286.695498563058]
["Customer Premises"]
["Labour",83180,83518.960000000006,74842.080000000002,101957.59,80000.039999999994,80642.365696884444,{"$f":"G53-E53","v":-21315.224303115552},{"$f":"G53-B53","v":-2537.6343031155557}]
["Materials",125,1855.91,773.34,452.79,650.04,951.68039999999996,498.89039999999994,826.68039999999996]
["Outside Services",1117.5,3152.55,807.99,3013.46,2400,2390.37,-623.09000000000015,1272.8699999999999]
["Other Costs",12000,12707.45,10742.78,15595.41,15000,15150,-445.40999999999985,3150]
[null,null,null,null,null,null,null,0,0]
["Sub-Total",{"$f":"SUM(B53:B57)","v":96422.5},101234.87000000001,87166.19,121019.25,98050.079999999987,99134.416096884437,-21884.833903115563,2711.9160968844371]
["Engineering"]
["Labour",1106294.92,1191519.7,1335613.6200000001,1261761.07,1239699.96,1202913.5495835003,{"$f":"G60-E60","v":-58847.520416499814},{"$f":"G60-B60","v":96618.629583500326}]
["Outside Services",111715.95999999999,100150.12000000001,115542.01000000001,82733.899999999994,74499.959999999992,95265.000000000015,12531.10000000002,-16450.959999999977]
["Software Mtce fees",100000,94449.85,131607.41,147238.9,150000,155000,7761.1000000000058,55000]
["Pole & PCB Inspections",143954,115485.11,247672.55,279527.65000000002,283400,225960,-53567.650000000023,82006]
["Other Costs",33129.729999999996,27795.120000000003,37318.92,11691.57,17100,23729.839949999998,12038.269949999998,-9399.8900499999982]
["Sub-Total",{"$f":"SUM(B60:B64)","v":1495094.6099999999},1529399.9000000004,1867754.51,1782953.09,1764699.92,1702868.3895335002,-80084.700466499897,207773.77953350032]
["Operations and Maintenance Supervision"]
["Labour",1013605.18,1042861.75,1048587.49,1102996.6200000001,1146031.08,1213726.3041975438,{"$f":"G67-E67","v":110729.68419754365},{"$f":"G67-B67","v":200121.12419754372}]
["Outside Services",29848.75,40676.07,45874.240000000005,40090.53,43213.919999999998,44078.28,3987.75,14229.529999999999]
["Other Costs",67797.89,70629,72662,73041.5,73999.92,73308.936049999989,267.43604999998934,5511.0460499999899]
["Sub-Total",{"$f":"SUM(B67:B69)","v":1111251.82},1154166.82,1167123.73,1216128.6500000001,1263244.92,1331113.5202475437,114984.87024754356,219861.70024754363]
["Stores and Garage"]
["Stores and Garage",72442.000000000175,366859.1,254669.40000000002,279054.99999999988,460013.08000000007,303147.45402184059,{"$f":"G72-E72","v":24092.454021840706},{"$f":"G72-B72","v":230705.45402184041}]
[]
["Sub-Total",{"$f":"SUM(B72:B73)","v":72442.000000000175},366859.1,254669.40000000002,279054.99999999988,460013.08000000007,303147.45402184059,24092.454021840706,230705.45402184041]
["Maintenance of Poles, OH Conductors & services"]
["Labour",629095.10000000009,637446.18000000005,698642.29,609927.88,680853.36,809302.33471915836,{"$f":"G76-E76","v":199374.45471915836},{"$f":"G76-B76","v":180207.23471915827}]
["Materials",233717.57,152346.07999999999,121234.65,109674.68000000001,120999.96,136585.11934999999,26910.439349999986,-97132.450650000013]
["Outside Services",208924.09,158772.13,179093.98,98311.31,93740.040000000008,108790.8,10479.490000000005,-100133.29]
["Other Costs",107680.54000000001,115049.93999999999,126433.23999999999,106758.59,119600.04000000001,118130.05702499999,11371.467024999991,10449.517024999979]
["Sub-Total",{"$f":"SUM(B75:B79)","v":1179417.3000000003},1063614.33,1125404.1600000001,924672.46000000008,1015193.4,1172808.3110941583,248135.85109415825,-6608.9889058419503]
["Tree Trimming"]
["Outside Services",283132,237323.31,185795.99,229142.43,245000,246000,{"$f":"G82-E82","v":16857.570000000007},{"$f":"G82-B82","v":-37132}]
["Other Costs",69168.549999999988,19079.72,22347.880000000005,15307.540000000008,15999.959999999992,18233.09069923294,2925.5506992329319,-50935.459300767048]
["Sub-Total",{"$f":"SUM(B81:B83)","v":352300.55},256403.03,208143.87,244449.97,260999.96,264233.09069923294,19783.120699232939,-88067.459300767048]
["Maintenance of U/G conduit, conductors & services"]
["Labour",180474.65000000002,169793.90999999997,146491.6,140477.82,148399.56,168068.65814920299,27590.838149202988,-12405.991850797029]
["Materials",23901.87,23123.769999999997,34324.639999999999,31535.350000000002,32400,30952.858800000002,-582.49120000000039,7050.9888000000028]
["Outside Services",145916.66999999998,118528.97,109332.12,105440.23,98747.04,110897.94,5457.7100000000064,-35018.729999999981]
["Other Costs",33248.619999999995,34195.97,30149.910000000003,25651.99,27400.080000000002,29642.982375,3990.992374999998,-3605.6376249999958]
["Sub-Total",{"$f":"SUM(B85:B89)","v":383541.81},345642.62,320298.27,303105.39,306946.68,339562.43932420301,36457.049324202992,-43979.370675796992]
["Maintenance of Transformers"]
["Labour",26843.26,19185.8,32291.88,26995.19,30690,32297.236387799749,{"$f":"G92-E92","v":5302.0463877997499},{"$f":"G92-B92","v":5453.9763877997502}]
["Materials",14076.44,764.33,18096.080000000002,950.7,3000,5816.8330500000011,4866.1330500000013,-8259.6069499999994]
["Outside Services",82250.990000000005,42132.9,72029.789999999994,108719.43,88071.96,109653.057,933.62700000000768,27402.066999999995]
["Other Costs",8828.94,6765.89,10233.94,8764.83,9800.0400000000009,8980.0867500000004,215.25675000000047,151.14674999999988]
["Sub-Total",{"$f":"SUM(B91:B95)","v":131999.63},68848.92,132651.69,145430.15,131562,156747.21318779973,11317.063187799737,24747.583187799726]
["Meter Reading",null,null,null,null,null,null,null,{"$f":"G97-B97","v":0}]
["Labour and Other Costs",23338.2,6290.46,6738.11,970.98,1699.96,1169.5639995853046,{"$f":"G98-E98","v":198.58399958530458},-22168.636000414695]
["Outside Services",449982.15,356519.48,182222.72,153072.04999999999,354400.04000000004,477680,324607.95,27697.849999999977]
["Smart Meter costs from previous years",null,null,null,null,476493,null,0,0]
["Sub-Total",{"$f":"SUM(B97:B100)","v":473320.35000000003},362809.94,188960.83,154043.03,832593,478849.56399958528,324806.53399958531,5529.2139995852485]
["Billing & Customer Services"]
["Labour",1745889.7,1759548.8599999999,1772940.3099999998,1792454.33,2582113.5,2856455.8300879234,{"$f":"G103-E103","v":1064001.5000879234},{"$f":"G103-B103","v":1110566.1300879235}]
["Outside Services",550197.42000000016,664061.49,728737.97999999952,763322.60000000021,831200.10000000009,900576.53449728526,137253.93449728505,350379.1144972851]
["Reallocated for affiliate water activities",-260000,-272789,-279400,-282146,-78829,0,282146,260000]
["Smart Meter costs from previous years",null,null,null,null,{"$f":"518321+146972","v":665293},null,null,0]
["Sub-Total",{"$f":"SUM(B102:B106)","v":2036087.12},2150821.3499999996,2222278.2899999991,2273630.9300000002,3999777.6,3757032.3645852087,1483401.4345852085,1720945.2445852086]
["Information Technology Expenses",274851.92,339346.2,353603.49,411239.89,399999.96,416000,{"$f":"G108-E108","v":4760.109999999986},{"$f":"G108-B108","v":141148.08000000002}]
[]
["Sub-Total",{"$f":"SUM(B108:B109)","v":274851.92},339346.2,353603.49,411239.89,399999.96,416000,4760.109999999986,141148.08000000002]
["Collection Expenses"]
["Labour",404442.93,366536.6,338266.36,315265.93,305275.32,327453.39276000002,{"$f":"G112-E112","v":12187.462760000024},{"$f":"G112-B112","v":-76989.537239999976}]
["Outside Services",78720.359999999986,84244.07,98080.299999999988,113862.87,118056.14999999997,118728.5196,4865.6496000000043,40008.159600000014]
[]
[]
["Sub-Total",{"$f":"SUM(B111:B115)","v":483163.29},450780.67,436346.66,429128.8,423331.47,446181.91236000002,17053.112360000028,-36981.377639999962]
["Bad Debt Expense",387938,330712.76,266257.19,223841.58,264999.96000000002,264999.96000000002,{"$f":"G117-E117","v":41158.380000000034},{"$f":"G117-B117","v":-122938.03999999998}]
[]
["Sub-Total",{"$f":"SUM(B117:B118)","v":387938},330712.76,266257.19,223841.58,264999.96000000002,264999.96000000002,41158.380000000034,-122938.03999999998]
["Miscellaneous Customer Accounts",258306.35000000006,241522.39000000004,230189.78000000003,243807.99,272949.54000000004,246818.574211,{"$f":"G120-E120","v":3010.5842110000085},{"$f":"G120-B120","v":-11487.775789000065}]
[]
["Sub-Total",{"$f":"SUM(B120:B121)","v":258306.35000000006},241522.39000000004,230189.78000000003,243807.99,272949.54000000004,246818.574211,3010.5842110000085,-11487.775789000065]
["Community Relations",81464.06,60687.34,79067.929999999993,81553.81,85525,69600.40113032209,{"$f":"G123-E123","v":-11953.408869677907},{"$f":"G123-B123","v":-11863.658869677907}]
[]
["Sub-Total",{"$f":"SUM(B123:B124)","v":81464.06},60687.34,79067.929999999993,81553.81,85525,69600.40113032209,-11953.408869677907,-11863.658869677907]
["General & Administration"]
["Labour",1969704.8499999999,1898430.4000000001,1887896.5099999998,1971340.62,2147723.44,2218414.659755216,{"$f":"G127-E127","v":247074.03975521587},{"$f":"G127-B127","v":248709.80975521612}]
["Legal and Consulting",100000,151469.26,173667.39,52378.1,150000,150000,97621.9,50000]
["Property Insurance",209776.67,241376.39,221161.29,284891.96000000002,281000.03999999998,288604.92,3712.9599999999627,78828.249999999971]
["Regulatory Expenses",228429,239075.23,242929.62,222003.09,230000.04,280312.5,58309.41,51883.5]
["Property Taxes",222474.05,185287.51,406629.24,258672.54,281600,287232,28559.459999999992,64757.950000000012]
["LEAP",38906,38906,38906,38906,38906,37165.5936,-1740.4063999999998,-1740.4063999999998]
["Outside Services",702164.36,634582.56999999995,698683.72,722879.48,697166.04,690714.50060000003,-32164.979399999953,-11449.859399999958]
["Reallocated for affiliate water activities",null,-57426,-54881,-55038,-21766,0,55038,0]
["Penalties LPC ",null,null,167381,0,null,null,0,0]
[]
["Sub-Total",{"$f":"SUM(B126:B135)","v":3471454.9299999997},{"$f":"SUM(C126:C135)","v":3331701.36},3782373.7699999996,3496033.79,3804629.56,3952444.1739552156,456410.38395521557,480989.2439552159]
["Maintenance of General Plant"]
["Labour",114875.13,85429.46,74474.5,72990.59,78259.56,14014.1796875,{"$f":"G139-E139","v":-58976.410312499997},{"$f":"G139-B139","v":-100860.9503125}]
["Outside Services",449445.12000000011,471480.06,427233.92000000004,483830.97,459420.00000000006,549565.47959999996,65734.50959999999,100120.35959999985]
[]
["Sub-Total",{"$f":"SUM(B138:B141)","v":564320.25000000012},556909.52,501708.42000000004,556821.55999999994,537679.56000000006,563579.65928749996,{"$f":"G142-E142","v":6758.0992875000229},{"$f":"G142-B142","v":-740.59071250015404}]
["Miscellaneous",13425,7909,6548,{"$f":"5536+1482","v":7018},5600,6681,-337,-6744]
["Total",{"$f":"SUMPRODUCT(--($A15:$A143=\"Sub-Total\"), B$15:B$143)+B143","v":14076682.359999998},14107059.75,14768890.629999999,14152309.290000005,17257829.590000004,17041580.055826105,{"$f":"G144-E144","v":2889270.7658261005},2964897.6958261076]
[]
[]
[]
["Notes:"]
[]
["1   Please provide a breakdown of the major components of each OM&A Program undertaken in each year.  Please ensure that all Programs below the materiality threshold are included in the miscellaneous line.  Add more Programs as required."]
["2   The applicant should group projects appropriately and avoid presentations that result in classification of significant components of the OM&A budget in the miscellaneous category"]

{"sheet":"App.2-K_Employee Costs","index":45,"n_rows":31,"n_cols":7,"rows_kept":31,"cut":false,"hidden":false,"merged":[[24,0,24,6],[8,0,8,6],[9,0,9,6],[12,0,12,6],[16,0,16,6],[20,0,20,6]]}
[null,null,null,null,null,"File Number:",{"$f":"EBNUMBER","v":"EB-2014-0096"}]
[null,null,null,null,null,"Exhibit:",4]
[null,null,null,null,null,"Tab:",3]
[null,null,null,null,null,"Schedule:",2]
[null,null,null,null,null,"Page:",1]
[]
[null,null,null,null,null,"Date:","2014-08-29"]
[]
["Appendix 2-K"]
["Employee Costs"]
[]
[null,{"$f":"\"Last Rebasing Year - \"&RebaseYear&\"- Board Approved\"","v":"Last Rebasing Year - 2011- Board Approved"},{"$f":"\"Last Rebasing Year - \"&RebaseYear&\"-  Actual\"","v":"Last Rebasing Year - 2011-  Actual"},{"$f":"BridgeYear -2 & \" Actuals\"","v":"2012 Actuals"},{"$f":"BridgeYear -1 & \" Actuals\"","v":"2013 Actuals"},{"$f":"BridgeYear & \" Bridge Year\"","v":"2014 Bridge Year"},{"$f":"TestYear & \" Test Year\"","v":"2015 Test Year"}]
["Number of Employees (FTEs including Part-Time)1"]
["Management (including executive)",29,29.6,33.799999999999997,34.599999999999994,35,36]
["Non-Management (union and non-union)",104,97.2,94.899999999999991,94.699999999999989,93.8,94.2]
["Total",{"$f":"SUM(B14:B15)","v":133},126.80000000000001,128.69999999999999,129.29999999999998,128.80000000000001,130.19999999999999]
["Total Salary and Wages including ovetime and incentive pay"]
["Management (including executive)",2724598,2864483.8900000006,3311489.14,3499353.49,3652122.3444099985,3819388.4030202483]
["Non-Management (union and non-union)",6506743,6681647.4900000021,6840691.5900000017,7113130.8300000001,7222031.2980562495,7337571.2833299013]
["Total",{"$f":"SUM(B18:B19)","v":9231341},9546131.3800000027,10152180.730000002,10612484.32,10874153.642466247,11156959.68635015]
["Total Benefits (Current + Accrued)"]
["Management (including executive)",556257,636364.53772000002,726387.71759999997,815842.46109999996,781854.99658000004,839477.52473691711]
["Non-Management (union and non-union)",1188354,1271186.59228,1371385.0624000002,1483169.2189000002,1465769.8284200002,1539495.5223630825]
["Total",{"$f":"SUM(B22:B23)","v":1744611},1907551.13,2097772.7800000003,2299011.6800000002,2247624.8250000002,2378973.0470999996]
["Total Compensation (Salary, Wages, & Benefits)"]
["Management (including executive)",{"$f":"B18+B22","v":3280855},3500848.4277200005,4037876.8576000002,4315195.9511000002,4433977.3409899985,4658865.9277571654]
["Non-Management (union and non-union)",7695097,7952834.0822800025,8212076.6524000019,8596300.0489000008,8687801.1264762506,8877066.8056929838]
["Total",10975952,11453682.510000002,12249953.510000002,12911496,13121778.467466246,13535932.73345015]
[]
["Note:"]
["1 If an applicant wishes to use headcount, it must also file the same schedule on an FTE basis."]

{"sheet":"App.2-L_OM&A_per_Cust_FTEE","index":46,"n_rows":29,"n_cols":8,"rows_kept":29,"cut":false,"hidden":false,"merged":[[8,0,8,7],[9,0,9,7],[28,1,29,6],[22,1,25,6],[26,1,26,6],[27,1,27,6],[15,0,15,1],[16,0,16,1],[17,0,17,1],[18,0,18,1],[13,0,13,1],[14,0,14,1],[12,0,12,1]]}
[null,null,null,null,null,null,"File Number:",{"$f":"EBNUMBER","v":"EB-2014-0096"}]
[null,null,null,null,null,null,"Exhibit:",4]
[null,null,null,null,null,null,"Tab:",2]
[null,null,null,null,null,null,"Schedule:",1]
[null,null,null,null,null,null,"Page:",3]
[]
[null,null,null,null,null,null,"Date:","2014-08-29"]
[]
["Appendix 2-L"]
["Recoverable OM&A Cost per Customer and per FTE"]
[]
[null,null,{"$f":"\"Last Rebasing Year - \"&RebaseYear&\"- Board Approved\"","v":"Last Rebasing Year - 2011- Board Approved"},{"$f":"\"Last Rebasing Year - \"&RebaseYear&\"-  Actual\"","v":"Last Rebasing Year - 2011-  Actual"},{"$f":"BridgeYear -2 & \" Actuals\"","v":"2012 Actuals"},{"$f":"BridgeYear -1 & \" Actuals\"","v":"2013 Actuals"},{"$f":"BridgeYear & \" Bridge Year\"","v":"2014 Bridge Year"},{"$f":"TestYear & \" Test Year\"","v":"2015 Test Year"}]
["Reporting Basis",null,"CGAAP","CGAAP","CGAAP","CGAAP","CGAAP","MIFRS"]
["Number of Customers",null,{"$f":"'App.2-IA_Act_Frcst_Data'!B16+'App.2-IA_Act_Frcst_Data'!B25+'App.2-IA_Act_Frcst_Data'!B34+'App.2-IA_Act_Frcst_Data'!B52+4+20","v":52684},{"$f":"'App.2-IA_Act_Frcst_Data'!C16+'App.2-IA_Act_Frcst_Data'!C25+'App.2-IA_Act_Frcst_Data'!C34+'App.2-IA_Act_Frcst_Data'!C52+4+18","v":51553},{"$f":"'App.2-IA_Act_Frcst_Data'!D16+'App.2-IA_Act_Frcst_Data'!D25+'App.2-IA_Act_Frcst_Data'!D34+'App.2-IA_Act_Frcst_Data'!D52+4+19","v":51352},{"$f":"'App.2-IA_Act_Frcst_Data'!E16+'App.2-IA_Act_Frcst_Data'!E25+'App.2-IA_Act_Frcst_Data'!E34+'App.2-IA_Act_Frcst_Data'!E52+4+17","v":51810},{"$f":"'App.2-IA_Act_Frcst_Data'!F16+'App.2-IA_Act_Frcst_Data'!F25+'App.2-IA_Act_Frcst_Data'!F34+'App.2-IA_Act_Frcst_Data'!F52+4+17","v":52222.070409279906},{"$f":"'App.2-IA_Act_Frcst_Data'!G16+'App.2-IA_Act_Frcst_Data'!G25+'App.2-IA_Act_Frcst_Data'!G34+'App.2-IA_Act_Frcst_Data'!G52+4+17","v":52637.988644434561}]
["Total Recoverable OM&A from Appendix 2-JB",null,{"$f":"'App.2-JA_OM&A_Summary_Analys'!B26","v":14076682},{"$f":"'App.2-JA_OM&A_Summary_Analys'!C26","v":14107060},{"$f":"'App.2-JA_OM&A_Summary_Analys'!D26","v":14768891},{"$f":"'App.2-JA_OM&A_Summary_Analys'!E26","v":14152309},{"$f":"'App.2-JA_OM&A_Summary_Analys'!F26","v":17257830},{"$f":"'App.2-JA_OM&A_Summary_Analys'!G26","v":17041580}]
["OM&A cost per customer",null,{"$f":"IF(C14=0,\"\",C15/C14)","v":267.19083592741629},273.64188311058524,287.60108661785324,273.15786527697355,330.47004580142556,323.75059227879166]
["Number of FTEs",null,{"$f":"'App.2-K_Employee Costs'!B16","v":133},{"$f":"'App.2-K_Employee Costs'!C16","v":126.80000000000001},{"$f":"'App.2-K_Employee Costs'!D16","v":128.69999999999999},{"$f":"'App.2-K_Employee Costs'!E16","v":129.29999999999998},{"$f":"'App.2-K_Employee Costs'!F16","v":128.80000000000001},{"$f":"'App.2-K_Employee Costs'!G16","v":130.19999999999999}]
["Customers/FTEs",null,{"$f":"IF(C17=0,\"\",C14/C17)","v":396.12030075187971},406.5694006309148,399.00543900543903,400.69605568445479,405.45085721490608,404.28562706938993]
["OM&A Cost per FTE",null,{"$f":"IF(C17=0,\"\",C15/C17)","v":105839.71428571429},111254.41640378548,114754.39782439783,109453.27919566901,133989.36335403725,130887.71121351767]
[]
["Notes:"]
[]
[1,"If it has been more than three years since the applicant last filed a cost of service application, additional years of historical actuals should be incorporated into the table, as necessary, to go back to the last cost of service application.  If the applicant last filed a cost of service application less than three years ago, a minimum of three years of actual information is required."]
[]
[]
[]
[2,"The method of calculating the number of customers must be identified."]
[3,"The method of calculating the number of FTEs must be identified.  See also Appendix 2-K"]
[4,"The number of customers and the number of FTEs should correspond to mid-year or average of January 1 and December 31 figures."]

{"sheet":"App.2-M_Regulatory_Costs","index":47,"n_rows":45,"n_cols":11,"rows_kept":45,"cut":false,"hidden":false,"merged":[[12,0,12,1],[13,0,13,1],[8,0,8,10],[9,0,9,10]]}
[null,null,null,null,null,null,null,null,null,"File Number:",{"$f":"EBNUMBER","v":"EB-2014-0096"}]
[null,null,null,null,null,null,null,null,null,"Exhibit:",4]
[null,null,null,null,null,null,null,null,null,"Tab:",3]
[null,null,null,null,null,null,null,null,null,"Schedule:",6]
[null,null,null,null,null,null,null,null,null,"Page:",1]
[]
[null,null,null,null,null,null,null,null,null,"Date:","2014-08-29"]
[]
["Appendix 2-M"]
["Regulatory Cost Schedule"]
[null,null,null,null,"On-Going"]
[null,null,null,null,"One-Time"]
["Regulatory Cost Category",null,"USoA Account","USoA Account Balance","Ongoing or One-time Cost? 2",{"$f":"\"Last Rebasing Year (\" & RebaseYear & \" Board Approved)\"","v":"Last Rebasing Year (2011 Board Approved)"},{"$f":"\"Most Current Actuals               Year \" & TestYear - 2","v":"Most Current Actuals               Year 2013"},{"$f":"TestYear -1 & \" Bridge Year\"","v":"2014 Bridge Year"},"Annual % Change",{"$f":"TestYear & \" Test Year\"","v":"2015 Test Year"},"Annual % Change"]
["(A)",null,"(B)","(C )","(D)","(E)","(F)","(G)","(H) = [(G)-(F)]/(F)","(I)","(J) = [(I)-(G)]/(G)"]
[1,"OEB Annual Assessment",5655,null,"On-Going",187429,166367,170000,{"$f":"IF(G15=0,\"\",(H15-G15)/G15)","v":2.1837263399592466E-2},172000,{"$f":"IF(H15=0,\"\",(J15-H15)/H15)","v":1.1764705882352941E-2}]
[2,"OEB Section 30 Costs (Applicant-originated)",null,null,null,null,null,null,{"$f":"IF(G16=0,\"\",(H16-G16)/G16)","v":""},null,{"$f":"IF(H16=0,\"\",(J16-H16)/H16)","v":""}]
[3,"OEB Section 30 Costs (OEB-initiated)",5655,null,"On-Going",3500,0,12868,"",10000,-0.22287845819086105]
[4,"Expert Witness costs for regulatory matters",null,null,null,null,null,null,"",null,""]
[5,"Legal costs for regulatory matters",5655,null,"One-Time",50000,6306,6306,0,56250,7.9200761179828731]
[6,"Consultants' costs for regulatory matters",5655,null,"One-Time",20000,28324,28324,0,28813,1.7264510662335829E-2]
[7,"Operating expenses associated with staff resources allocated to regulatory matters",null,null,null,null,null,null,"",null,""]
[8,"Operating expenses associated with other resources allocated to regulatory matters 1",null,null,null,null,null,null,"",null,""]
[9,"Other regulatory agency fees or assessments",null,null,null,null,null,null,"",null,""]
[10,"Any other costs for regulatory matters (please define)",null,null,null,null,null,null,"",null,""]
[11,"Intervenor costs",5655,null,"One-Time",7500,12501,12501,0,13250,5.9915206783457325E-2]
[12,"Sub-total - Ongoing Costs 3",null,{"$f":"SUMIF($E15:$E25,$E11,D15:D25)","v":0},null,{"$f":"SUMIF($E15:$E25,$E11,F15:F25)","v":190929},{"$f":"SUMIF($E15:$E25,$E11,G15:G25)","v":166367},{"$f":"SUMIF($E15:$E25,$E11,H15:H25)","v":182868},9.9184333431509855E-2,{"$f":"SUMIF($E15:$E25,$E11,J15:J25)","v":182000},-4.7465931710304696E-3]
[13,"Sub-total - One-time Costs 4",null,{"$f":"SUMIF($E15:$E25,$E12,D15:D25)","v":0},null,{"$f":"SUMIF($E15:$E25,$E12,F15:F25)","v":77500},{"$f":"SUMIF($E15:$E25,$E12,G15:G25)","v":47131},{"$f":"SUMIF($E15:$E25,$E12,H15:H25)","v":47131},0,{"$f":"SUMIF($E15:$E25,$E12,J15:J25)","v":98313},1.0859519212407969]
[14,"Total",null,{"$f":"D26+D27","v":0},null,{"$f":"F26+F27","v":268429},{"$f":"G26+G27","v":213498},{"$f":"H26+H27","v":229999},7.7288780222765557E-2,{"$f":"J26+J27","v":280313},0.21875747285857763]
[]
[]
["Please fill out the following table for all one-time costs related to this cost of service application to be amortized over the test year plus the IRM period."]
[]
[null,null,"Historical Year(s)",{"$f":"H13","v":"2014 Bridge Year"},{"$f":"J13","v":"2015 Test Year"},"Amortize 4 years"]
[4,"Expert Witness costs"]
[5,"Legal costs",25224.42,6306.11,225000,{"$f":"E35/4","v":56250}]
[6,"Consultants' costs",113297.72,28324.43,115250,{"$f":"E36/4","v":28812.5}]
[7,"Incremental operating expenses associated with staff resources allocated to this application.",null,null,null,{"$f":"E37/4","v":0}]
[8,"Incremental operating expenses associated with other resources allocated to this application. 1",null,null,null,{"$f":"E38/4","v":0}]
[11,"Intervenor costs",50003.9,12500.98,53000,{"$f":"E39/4","v":13250}]
[null,null,{"$f":"SUM(C34:C39)","v":188526.04},{"$f":"SUM(D34:D39)","v":47131.520000000004},{"$f":"SUM(E34:E39)","v":393250},{"$f":"SUM(F34:F39)","v":98312.5}]
[]
["1","Please identify the resources involved."]
["2","Where a category's costs include both one-time and ongoing costs, the applicant should prove a separate breakdown between one-time and ongoing costs."]
["3","Sum of all ongoing costs identified in rows 1 to 11 inclusive."]
["4","Sum of all one-time costs identified in rows 1 to 11 inclusive."]

{"sheet":"App.2-N_Corp_Cost_Allocation","index":48,"n_rows":142,"n_cols":6,"rows_kept":142,"cut":false,"hidden":false,"merged":[[15,6,16,6],[118,0,118,1],[118,2,120,2],[118,3,120,3],[118,5,119,5],[118,4,119,4],[119,0,120,0],[119,1,120,1],[116,0,116,5],[31,2,33,2],[31,3,33,3],[31,4,32,4],[31,5,32,5],[31,6,32,6],[32,0,33,0],[32,1,33,1],[135,0,135,5],[138,0,138,5],[141,0,141,5],[13,0,13,5],[8,0,8,5],[9,0,9,5],[131,1,132,5],[16,0,17,0],[16,1,17,1],[15,2,17,2],[15,3,17,3],[15,0,15,1],[15,4,16,4],[15,5,16,5],[29,0,29,5],[31,0,31,1],[45,0,45,5],[47,0,47,1],[47,2,49,2],[47,3,49,3],[47,4,48,4],[47,5,48,5],[47,6,48,6],[48,0,49,0],[48,1,49,1],[74,0,74,5],[76,0,76,1],[76,2,78,2],[76,3,78,3],[76,4,77,4],[76,5,77,5],[76,6,77,6],[77,0,78,0],[77,1,78,1],[98,6,99,6],[99,0,100,0],[99,1,100,1],[96,0,96,5],[98,0,98,1],[98,2,100,2],[98,3,100,3],[98,4,99,4],[98,5,99,5]]}
[null,null,null,null,"File Number:",{"$f":"EBNUMBER","v":"EB-2014-0096"}]
[null,null,null,null,"Exhibit:",4]
[null,null,null,null,"Tab:",3]
[null,null,null,null,"Schedule:",3]
[null,null,null,null,"Page:",1]
[]
[null,null,null,null,"Date:","2014-08-29"]
[]
["Appendix 2-N"]
["Shared Services and Corporate Cost Allocation"]
[]
[null,"Year:",2015]
[]
["Shared Services"]
[]
["Name of Company",null,"Service Offered","Pricing Methodology","Price for the Service","Cost for the Service"]
["From","To"]
[null,null,null,null,"$","$"]
["Niagara Peninsula Energy","Peninsula West Services","Year End Accounting","Flat fee",1000,{"$f":"59*1.58*9","v":838.98}]
["Niagara Peninsula Energy","Peninsula West Power","Year End Accounting","Flat fee",1000,{"$f":"59*8*1.58","v":745.76}]
["Niagara Peninsula Energy","Peninsula West Services","Insurance","Actual Premium",1080,1080]
["Niagara Peninsula Energy","Peninsula West Power","Insurance","Actual Premium",1080,1080]
["Niagara Peninsula Energy","Peninsula West Services","Bookkeeping/Customer Service","Actual Direct Labour",32514,32514]
["Niagara Peninsula Energy","Niagara Falls Hydro Services","Water Billing, collecting, customer service","Market Price X # Customers",0,0]
[]
[]
[]
[null,"Year:",2014]
[]
["Shared Services"]
[]
["Name of Company",null,"Service Offered","Pricing Methodology","Price for the Service","Cost for the Service"]
["From","To"]
[null,null,null,null,"$","$"]
["Niagara Peninsula Energy","Peninsula West Services","Year End Accounting","Flat fee",1000,{"$f":"57*1.58*9","v":810.54}]
["Niagara Peninsula Energy","Peninsula West Power","Year End Accounting","Flat fee",1000,{"$f":"57*8*1.58","v":720.48}]
["Niagara Peninsula Energy","Peninsula West Services","Insurance","Actual Premium",1080,1080]
["Niagara Peninsula Energy","Peninsula West Power","Insurance","Actual Premium",1080,1080]
["Niagara Peninsula Energy","Peninsula West Services","Bookkeeping/Customer Service","Actual Direct Labour",31722,31722]
["Niagara Peninsula Energy","Niagara Falls Hydro Services","Water Billing, collecting, customer service","Market Price X # Customers",322376,296304]
[]
[]
[]
[null,"Year:",2013]
[]
["Shared Services"]
[]
["Name of Company",null,"Service Offered","Pricing Methodology","Price for the Service","Cost for the Service"]
["From","To"]
[null,null,null,null,"$","$"]
["Niagara Peninsula Energy","Peninsula West Services","Year End Accounting","Flat fee",1000,{"$f":"55*1.58*9","v":782.1}]
["Niagara Peninsula Energy","Peninsula West Power","Year End Accounting","Flat fee",1000,{"$f":"55*8*1.58","v":695.2}]
["Niagara Peninsula Energy","Peninsula West Services","Insurance","Actual Premium",1080,1080]
["Niagara Peninsula Energy","Peninsula West Power","Insurance","Actual Premium",1080,1080]
["Niagara Peninsula Energy","Peninsula West Services","Bookkeeping/Customer Service","Actual Direct Labour",32239,32239]
["Niagara Peninsula Energy","Niagara Falls Hydro Holding ","Insurance","Actual Premium",1080,1080]
["Niagara Peninsula Energy","Niagara Falls Hydro Services","Insurance","Actual Premium",1080,1080]
["Niagara Peninsula Energy","Niagara Falls Hydro Services","Water Billing, collecting, customer service","Market Price X # Customers",985389,841372]
[]
[]
[]
[]
[]
[]
[]
[]
[]
[]
[]
[]
[]
[]
[null,"Year:",2012]
[]
["Shared Services"]
[]
["Name of Company",null,"Service Offered","Pricing Methodology","Price for the Service","Cost for the Service"]
["From","To"]
[null,null,null,null,"$","$"]
["Niagara Peninsula Energy","Peninsula West Services","Year End Accounting","Flat fee",1000,{"$f":"55*1.58*9","v":782.1}]
["Niagara Peninsula Energy","Peninsula West Power","Year End Accounting","Flat fee",1000,{"$f":"55*8*1.58","v":695.2}]
["Niagara Peninsula Energy","Peninsula West Services","Insurance","Actual Premium",1080,1080]
["Niagara Peninsula Energy","Peninsula West Power","Insurance","Actual Premium",1080,1080]
["Niagara Peninsula Energy","Peninsula West Services","Bookkeeping/Customer Service","Actual Direct Labour",29610,29610]
["Niagara Peninsula Energy","Niagara Falls Hydro Holding ","Year End Accounting","Flat fee",1000,{"$f":"55*1.58*9","v":782.1}]
["Niagara Peninsula Energy","Niagara Falls Hydro Services","Year End Accounting","Flat fee",1000,{"$f":"55*8*1.58","v":695.2}]
["Niagara Peninsula Energy","Niagara Falls Hydro Holding ","Insurance","Actual Premium",1080,1080]
["Niagara Peninsula Energy","Niagara Falls Hydro Services","Insurance","Actual Premium",1080,1080]
["Niagara Peninsula Energy","Niagara Falls Hydro Services","Water Billing, collecting, customer service","Market Price X # Customers",867067,740712]
[]
[]
[]
[]
[]
[null,"Year:",2011]
[]
["Shared Services"]
[]
["Name of Company",null,"Service Offered","Pricing Methodology","Price for the Service","Cost for the Service"]
["From","To"]
[null,null,null,null,"$","$"]
["Niagara Peninsula Energy","Peninsula West Services","Year End Accounting","Flat fee",1000,{"$f":"55*1.58*9","v":782.1}]
["Niagara Peninsula Energy","Peninsula West Power","Year End Accounting","Flat fee",1000,{"$f":"55*8*1.58","v":695.2}]
["Niagara Peninsula Energy","Peninsula West Services","Insurance","Actual Premium",1080,1080]
["Niagara Peninsula Energy","Peninsula West Power","Insurance","Actual Premium",1080,1080]
["Niagara Peninsula Energy","Peninsula West Services","Bookkeeping/Customer Service","Actual Direct Labour",34679,34679]
["Niagara Peninsula Energy","Niagara Falls Hydro Holding ","Year End Accounting","Flat fee",1000,{"$f":"55*1.58*9","v":782.1}]
["Niagara Peninsula Energy","Niagara Falls Hydro Services","Year End Accounting","Flat fee",1000,{"$f":"55*8*1.58","v":695.2}]
["Niagara Peninsula Energy","Niagara Falls Hydro Holding ","Insurance","Actual Premium",1080,1080]
["Niagara Peninsula Energy","Niagara Falls Hydro Services","Insurance","Actual Premium",1080,1080]
["Niagara Peninsula Energy","Niagara Falls Hydro Holding ","Property Taxes","Actual Taxes",17279,17279]
["Niagara Peninsula Energy","Niagara Falls Hydro Services","Water Billing, collecting, customer service","Market Price X # Customers",811759,691050]
[]
[]
[]
[]
["Corporate Cost Allocation"]
[]
["Name of Company",null,"Service Offered","Pricing Methodology","% of Corporate Costs Allocated","Amount Allocated"]
["From","To"]
[null,null,null,null,"%","$"]
["None","None"]
[]
[]
[]
[]
[]
[]
[]
[]
["Note: "]
[1,"This appendix must be completed in relation to each service provided or received for the Historical (actuals), Bridge and Test years. The required information includes:"]
[]
[]
["·         Type of Service:"]
["Services such as billing, accounting, payroll, etc.  The applicant must identify any costs related to the Board of Directors of the parent company that are allocated to the applicant."]
[]
["·         Pricing Methodology:"]
["Pricing Methodology includes approaches such as cost-base, market-base, tendering, etc.  The applicant must provide evidence demonstrating the pricing methodology used.  The applicant must also provide a description of why that pricing methodology was chosen, whether or not it is in conformity with ARC, and why it is appropriate."]
[]
["·         % Allocation:"]
["The applicant must provide the percentage of the costs allocated to the entity for the service being offered.  The Applicant must also provide a description of the allocator and why it is an appropriate allocator."]

{"sheet":"App.2-OA Capital Structure","index":49,"n_rows":63,"n_cols":15,"rows_kept":63,"cut":false,"hidden":false,"merged":[[40,2,40,14],[12,0,12,14],[34,2,34,14],[35,2,35,14],[36,2,36,14],[37,2,37,14],[38,2,38,14],[39,2,39,14],[33,0,33,14],[9,2,9,14],[10,2,10,14],[16,0,17,0],[17,4,17,8],[14,7,14,9],[42,7,42,9],[44,0,45,0],[45,4,45,8],[61,0,61,14],[62,2,62,14],[68,2,68,14],[63,2,63,14],[64,2,64,14],[65,2,65,14],[66,2,66,14],[67,2,67,14]]}
[null,null,null,null,null,null,null,null,null,null,"File Number:",null,null,null,{"$f":"EBNUMBER","v":"EB-2014-0096"}]
[null,null,null,null,null,null,null,null,null,null,"Exhibit:",null,null,null,5]
[null,null,null,null,null,null,null,null,null,null,"Tab:",null,null,null,1]
[null,null,null,null,null,null,null,null,null,null,"Schedule:",null,null,null,1]
[null,null,null,null,null,null,null,null,null,null,"Page:",null,null,null,1]
[]
[null,null,null,null,null,null,null,null,null,null,"Date:",null,null,null,"2014-08-29"]
[]
[]
[null,null,"Appendix 2-OA"]
[null,null,"Capital Structure and Cost of Capital"]
[]
["This table must be completed for the last Board approved year and the test year."]
[]
[null,null,null,null,null,null,"Year:",2015]
[]
["Line No."]
[null,null,"Particulars",null,"Capitalization Ratio",null,null,null,null,null,"Cost Rate",null,null,null,"Return"]
[]
[null,null,null,null,"(%)",null,null,null,"($)",null,"(%)",null,null,null,"($)"]
[null,null,"Debt"]
[1,null,"  Long-term Debt",null,0.56000000000000005,null,null,null,{"$f":"$I$31*E22","v":80506663.121302411},null,4.2802658198955436E-2,null,null,null,{"$f":"K22*I22","v":3445899.1843195581}]
[2,null,"  Short-term Debt",null,0.04,null,"(1)",null,{"$f":"$I$31*E23","v":5750475.9372358862},null,2.1100000000000001E-2,null,null,null,{"$f":"K23*I23","v":121335.0422756772}]
[3,null,"Total Debt",null,{"$f":"SUM(E22:E23)","v":0.60000000000000009},null,null,null,{"$f":"SUM(I22:I23)","v":86257139.058538303},null,{"$f":"IF(E24=0,0,SUMPRODUCT(E22:E23,K22:K23)/E24)","v":4.1355814319025075E-2},null,null,null,{"$f":"SUM(O22:O23)","v":3567234.2265952351}]
[]
[null,null,"Equity"]
[4,null,"  Common Equity",null,0.4,null,null,null,{"$f":"$I$31*E27","v":57504759.372358859},null,9.3600000000000003E-2,null,null,null,{"$f":"K27*I27","v":5382445.4772527898}]
[5,null,"  Preferred Shares",null,0,null,null,null,{"$f":"$I$31*E28","v":0},null,null,null,null,null,{"$f":"K28*I28","v":0}]
[6,null,"Total Equity",null,{"$f":"SUM(E27:E28)","v":0.4},null,null,null,{"$f":"SUM(I27:I28)","v":57504759.372358859},null,{"$f":"IF(E29=0,0,SUMPRODUCT(E27:E28,K27:K28)/E29)","v":9.3600000000000003E-2},null,null,null,{"$f":"SUM(O27:O28)","v":5382445.4772527898}]
[]
[7,null,"Total",null,1,null,null,null,143761898.43089715,null,{"$f":"(K24*E24)+(K29*E29)","v":6.2253488591415052E-2},null,null,null,{"$f":"O24+O29","v":8949679.7038480248}]
[]
[]
["Notes"]
["(1)",null,"4.0% unless an applicant has proposed or been approved for a different amount."]
[]
[]
[]
[]
[]
[]
[]
[null,null,null,null,null,null,"Year:","2011 Board Approved"]
[]
["Line No."]
[null,null,"Particulars",null,"Capitalization Ratio",null,null,null,null,null,"Cost Rate",null,null,null,"Return"]
[]
[null,null,null,null,"(%)",null,null,null,"($)",null,"(%)",null,null,null,"($)"]
[null,null,"Debt"]
[1,null,"  Long-term Debt",null,0.56000000000000005,null,null,null,{"$f":"$I$59*E50","v":66964501.520000003},null,5.1550283000000002E-2,null,null,null,{"$f":"K50*I50","v":3452039.0043099304}]
[2,null,"  Short-term Debt",null,0.04,null,"(1)",null,{"$f":"$I$59*E51","v":4783178.68},null,2.46E-2,null,null,null,{"$f":"K51*I51","v":117666.195528}]
[3,null,"Total Debt",null,{"$f":"SUM(E50:E51)","v":0.60000000000000009},null,null,null,{"$f":"SUM(I50:I51)","v":71747680.200000003},null,{"$f":"IF(E52=0,0,SUMPRODUCT(E50:E51,K50:K51)/E52)","v":4.975359746666666E-2},null,null,null,{"$f":"SUM(O50:O51)","v":3569705.1998379305}]
[]
[null,null,"Equity"]
[4,null,"  Common Equity",null,0.4,null,null,null,{"$f":"$I$59*E55","v":47831786.800000004},null,9.5799999999999996E-2,null,null,null,{"$f":"K55*I55","v":4582285.1754400004}]
[5,null,"  Preferred Shares",null,0,null,null,null,{"$f":"$I$59*E56","v":0},null,0,null,null,null,{"$f":"K56*I56","v":0}]
[6,null,"Total Equity",null,{"$f":"SUM(E55:E56)","v":0.4},null,null,null,{"$f":"SUM(I55:I56)","v":47831786.800000004},null,{"$f":"IF(E57=0,0,SUMPRODUCT(E55:E56,K55:K56)/E57)","v":9.5799999999999996E-2},null,null,null,{"$f":"SUM(O55:O56)","v":4582285.1754400004}]
[]
[7,null,"Total",null,1,null,null,null,119579467,null,{"$f":"(K52*E52)+(K57*E57)","v":6.8172158479999995E-2},null,null,null,{"$f":"O52+O57","v":8151990.3752779309}]
[]
[]
["Notes"]
["(1)",null,"4.0% unless an applicant has proposed or been approved for a different amount."]

{"sheet":"App.2-OB_Debt Instruments","index":50,"n_rows":124,"n_cols":11,"rows_kept":124,"cut":false,"hidden":false,"merged":[[9,0,9,10],[10,0,10,10],[10,11,10,14],[11,0,11,10],[105,1,105,10]]}
[null,null,null,null,null,null,null,null,null,"File Number:",{"$f":"EBNUMBER","v":"EB-2014-0096"}]
[null,null,null,null,null,null,null,null,null,"Exhibit:",5]
[null,null,null,null,null,null,null,null,null,"Tab:",1]
[null,null,null,null,null,null,null,null,null,"Schedule:",1]
[null,null,null,null,null,null,null,null,null,"Page:",2]
[]
[null,null,null,null,null,null,null,null,null,"Date:","2014-08-29"]
[]
[]
["Appendix 2-OB"]
["Debt Instruments"]
["This table must be completed for all required historical years, the bridge year and the test year."]
[null,null,null,"Year",2009,"This is 2010"]
[]
["Row","Description","Lender","Affiliated or Third-Party Debt?","Fixed or Variable-Rate?","Start Date","Term              (years)","Principal                         ($)","Rate (%)                     (Note 2)","Interest ($)       (Note 1)","Additional Comments, if any"]
[1,"Long Term Note Payable","City of Niagara Falls","Affiliated","Fixed Rate","2000-04-01",20,22000000,7.2499999999999995E-2,{"$f":"H16*I16","v":1595000}]
[2,"Long Term Note Payable","Niagara Falls Hydro Holding Corporation","Affiliated","Fixed Rate","2000-04-01",20,3605090,7.2499999999999995E-2,{"$f":"H17*I17","v":261369.02499999999}]
[3,"Long Term Bank Loan Payable","Scotiabank","Third-Party","Fixed Rate","2004-06-01",10,4237226,6.4399999999999999E-2,248408,"Per amortization schedule"]
[4,"Term Loan payable","TD Bank","Third-Party","Fixed Rate","2009-07-19",10,8703329,4.58E-2,383217,"Per amortization schedule"]
[5,"Non-revolving term loan payable","Scotiabank","Third-Party","Fixed Rate","2010-09-30",5,4500000,4.9700000000000001E-2,81384,"Per amortization schedule"]
[12,null,null,null,null,null,null,null,null,{"$f":"H21*I21","v":0}]
[]
["Total",null,null,null,null,null,null,{"$f":"SUM(H16:H21)","v":43045645},{"$f":"IF(H23=0,\"\",J23/H23)","v":5.9689616104021667E-2},{"$f":"SUM(J16:J21)","v":2569378.0249999999}]
[]
[null,null,null,"Year",2009,"This is 2011 BOARD APPROVED"]
[]
["Row","Description","Lender","Affiliated or Third-Party Debt?","Fixed or Variable-Rate?","Start Date","Term              (years)","Principal                         ($)","Rate (%)                     (Note 2)","Interest ($)       (Note 1)","Additional Comments, if any"]
[1,"Long Term Note Payable","City of Niagara Falls","Affiliated","Fixed Rate","2000-04-01",20,22000000,5.3199999999999997E-2,{"$f":"H28*I28","v":1170400}]
[2,"Long Term Note Payable","Niagara Falls Hydro Holding Corporation","Affiliated","Fixed Rate","2000-04-01",20,3605090,5.3199999999999997E-2,{"$f":"H29*I29","v":191790.788}]
[3,"Long Term Bank Loan Payable","Scotiabank","Third-Party","Fixed Rate","2004-06-01",10,3398502,6.4399999999999999E-2,192771,"Per amortization schedule"]
[4,"Term Loan payable","TD Bank","Third-Party","Fixed Rate","2009-07-19",10,7965243,4.58E-2,348793,"Per amortization schedule"]
[5,"Non-revolving term loan payable","Scotiabank","Third-Party","Fixed Rate","2010-09-30",5,4143643,4.9700000000000001E-2,215605,"Per amortization schedule"]
[6,null,null,null,null,null,null,null,null,{"$f":"H33*I33","v":0}]
[]
["Total",null,null,null,null,null,null,{"$f":"SUM(H28:H33)","v":41112478},{"$f":"IF(H35=0,\"\",J35/H35)","v":5.1550280866066979E-2},{"$f":"SUM(J28:J33)","v":2119359.7879999997}]
[]
[null,null,null,"Year",2009,"This is 2011 ACTUAL"]
[]
["Row","Description","Lender","Affiliated or Third-Party Debt?","Fixed or Variable-Rate?","Start Date","Term              (years)","Principal                         ($)","Rate (%)                     (Note 2)","Interest ($)       (Note 1)","Additional Comments, if any"]
[1,"Long Term Note Payable","City of Niagara Falls","Affiliated","Fixed Rate","2000-04-01",20,22000000,7.2499999999999995E-2,{"$f":"H40*I40","v":1595000}]
[2,"Long Term Note Payable","Niagara Falls Hydro Holding Corporation","Affiliated","Fixed Rate","2000-04-01",20,3605090,7.2499999999999995E-2,{"$f":"H41*I41","v":261369.02499999999}]
[3,"Long Term Bank Loan Payable","Scotiabank","Third-Party","Fixed Rate","2004-06-01",10,2951322,6.4399999999999999E-2,192771,"Per amortization schedule"]
[4,"Term Loan payable","TD Bank","Third-Party","Fixed Rate","2009-07-19",10,7578939,4.58E-2,348692,"Per amortization schedule"]
[5,"Non-revolving term loan payable","Scotiabank","Third-Party","Fixed Rate","2010-09-30",5,4180500,4.9700000000000001E-2,207786,"Per amortization schedule"]
[12,null,null,null,null,null,null,null,null,{"$f":"H45*I45","v":0}]
[]
["Total",null,null,null,null,null,null,{"$f":"SUM(H40:H45)","v":40315851},{"$f":"IF(H47=0,\"\",J47/H47)","v":6.4630113475714554E-2},{"$f":"SUM(J40:J45)","v":2605618.0249999999}]
[]
[]
[null,null,null,"Year",2012]
[]
["Row","Description","Lender","Affiliated or Third-Party Debt?","Fixed or Variable-Rate?","Start Date","Term              (years)","Principal                         ($)","Rate (%)                     (Note 2)","Interest ($)       (Note 1)","Additional Comments, if any"]
[1,"Long Term Note Payable","City of Niagara Falls","Affiliated","Fixed Rate","2000-04-01",20,22000000,5.8000000000000003E-2,1276550]
[2,"Long Term Note Payable","Niagara Falls Hydro Holding Corporation","Affiliated","Fixed Rate","2000-04-01",20,3605090,5.8200000000000002E-2,209740]
[3,"Long Term Bank Loan Payable","Scotiabank","Third-Party","Fixed Rate","2004-06-01",10,2027297,6.4399999999999999E-2,133443,"Per amortization schedule"]
[4,"Term Loan payable","TD Bank","Third-Party","Fixed Rate","2009-07-19",10,6788719,4.58E-2,313473,"Per amortization schedule"]
[5,"Non-revolving term loan payable","Scotiabank","Third-Party","Fixed Rate","2010-09-30",5,3712500,4.9700000000000001E-2,186416,"Per amortization schedule"]
[6,"Term Loan payable","TD Bank","Third-Party","Fixed Rate","2012-06-27",5,10000000,2.8000000000000001E-2,135781,"Interest only repayments"]
[]
["Total",null,null,null,null,null,null,{"$f":"SUM(H53:H58)","v":48133606},{"$f":"IF(H60=0,\"\",J60/H60)","v":4.6857137609843731E-2},{"$f":"SUM(J53:J58)","v":2255403}]
[]
[null,null,null,"Year",2013]
[]
["Row","Description","Lender","Affiliated or Third-Party Debt?","Fixed or Variable-Rate?","Start Date","Term              (years)","Principal                         ($)","Rate (%)                     (Note 2)","Interest ($)       (Note 1)","Additional Comments, if any"]
[1,"Long Term Note Payable","City of Niagara Falls","Affiliated","Fixed Rate","2000-04-01",20,22000000,5.3199999999999997E-2,{"$f":"H65*I65","v":1170400}]
[2,"Long Term Note Payable","Niagara Falls Hydro Holding Corporation","Affiliated","Fixed Rate","2000-04-01",20,3605090,5.3199999999999997E-2,{"$f":"H66*I66","v":191790.788}]
[3,"Long Term Bank Loan Payable","Scotiabank","Third-Party","Fixed Rate","2004-06-01",10,1041976,6.4399999999999999E-2,70180,"Per amortization schedule"]
[4,"Term Loan payable","TD Bank","Third-Party","Fixed Rate","2009-07-19",10,5961538,4.58E-2,274771,"Per amortization schedule"]
[5,"Non-revolving term loan payable","Scotiabank","Third-Party","Fixed Rate","2010-09-30",5,3262500,4.9700000000000001E-2,162554,"Per amortization schedule"]
[6,"Term Loan payable","TD Bank","Third-Party","Fixed Rate","2012-06-27",5,10000000,2.8000000000000001E-2,288035,"Interest only repayments"]
[7,"Term Loan payable","TD Bank","Third-Party","Fixed Rate","2013-12-03",5,10000000,2.9329999999999998E-2,14465,"Interest only repayments"]
[]
["Total",null,null,null,null,null,null,{"$f":"SUM(H65:H71)","v":55871104},{"$f":"IF(H73=0,\"\",J73/H73)","v":3.8878698154953227E-2},{"$f":"SUM(J65:J71)","v":2172195.7879999997}]
[]
[null,null,null,"Year",2014,"BRIDGE YEAR"]
[]
["Row","Description","Lender","Affiliated or Third-Party Debt?","Fixed or Variable-Rate?","Start Date","Term              (years)","Principal                         ($)","Rate (%)                     (Note 2)","Interest ($)       (Note 1)","Additional Comments, if any"]
[1,"Long Term Note Payable","City of Niagara Falls","Affiliated","Fixed Rate","2000-04-01",20,22000000,5.3199999999999997E-2,{"$f":"H78*I78","v":1170400}]
[2,"Long Term Note Payable","Niagara Falls Hydro Holding Corporation","Affiliated","Fixed Rate","2000-04-01",20,3605090,5.3199999999999997E-2,{"$f":"H79*I79","v":191790.788}]
[3,"Long Term Bank Loan Payable","Scotiabank","Third-Party","Fixed Rate","2004-06-01",10,223632,6.4399999999999999E-2,10065,"Per amortization schedule"]
[4,"Term Loan payable","TD Bank","Third-Party","Fixed Rate","2009-07-19",10,5095208,4.58E-2,235175,"Per amortization schedule"]
[5,"Non-revolving term loan payable","Scotiabank","Third-Party","Fixed Rate","2010-09-30",5,2812500,4.9700000000000001E-2,140680,"Per amortization schedule"]
[6,"Term Loan payable","TD Bank","Third-Party","Fixed Rate","2012-06-27",5,10000000,2.8000000000000001E-2,280000,"Interest only repayments"]
[7,"Term Loan payable","TD Bank","Third-Party","Fixed Rate","2013-12-03",5,10000000,2.9329999999999998E-2,293300,"Interest only repayments"]
[7,"Term Loan payable-NEW","To be Determined","Third-Party","Fixed Rate","2014-11-30",5,{"$f":"10000000/365*31","v":849315.06849315064},3.0499999999999999E-2,{"$f":"10000000*I85/365*31","v":25904.109589041098},"Interest only repayments"]
[]
["Total",null,null,null,null,null,null,{"$f":"SUM(H78:H85)","v":54585745.06849315},{"$f":"IF(H87=0,\"\",J87/H87)","v":4.3002342363261233E-2},{"$f":"SUM(J78:J85)","v":2347314.8975890409}]
[]
[]
[null,null,null,"Year",2015,"TEST YEAR"]
[]
["Row","Description","Lender","Affiliated or Third-Party Debt?","Fixed or Variable-Rate?","Start Date","Term              (years)","Principal                         ($)","Rate (%)                     (Note 2)","Interest ($)       (Note 1)","Additional Comments, if any"]
[1,"Long Term Note Payable","City of Niagara Falls","Affiliated","Fixed Rate","2000-04-01",20,22000000,4.8800000000000003E-2,{"$f":"H93*I93","v":1073600}]
[2,"Long Term Note Payable","Niagara Falls Hydro Holding Corporation","Affiliated","Fixed Rate","2000-04-01",20,3605090,4.8800000000000003E-2,{"$f":"H94*I94","v":175928.39200000002}]
[4,"Term Loan payable","TD Bank","Third-Party","Fixed Rate","2009-07-19",10,3724570,4.58E-2,193728,"Per amortization schedule"]
[5,"Non-revolving term loan payable","Scotiabank","Third-Party","Fixed Rate","2010-09-30",5,0,4.9700000000000001E-2,90905,"Per amortization schedule"]
[6,"Term Loan payable","TD Bank","Third-Party","Fixed Rate","2012-06-27",5,10000000,2.8000000000000001E-2,280000,"Interest only repayments"]
[7,"Term Loan payable","TD Bank","Third-Party","Fixed Rate","2013-12-03",5,10000000,2.9329999999999998E-2,293300,"Interest only repayments"]
[7,"Term Loan payable-NEW","To be Determined","Third-Party","Fixed Rate","2014-11-30",5,{"$f":"10000000","v":10000000},3.0499999999999999E-2,{"$f":"H99*I99","v":305000},"Interest only repayments"]
[]
["Total",null,null,null,null,null,null,{"$f":"SUM(H93:H99)","v":59329660},{"$f":"IF(H101=0,\"\",J101/H101)","v":4.0661979050613133E-2},{"$f":"SUM(J93:J99)","v":2412461.392}]
[]
["Notes"]
[]
[1,"If financing is in place only part of the year, calculate the pro-rated interest and input in the cell."]
[2,"Input actual or deemed long-term debt rate in accordance with the guidelines in The Report of the Board on the Cost of Capital for Ontario's Regulated Utilities, issued December 11, 2009, or with any subsequent update issued by the Board."]
[3,"Add more lines above row 12 if necessary."]
[]
[]
[]
[null,null,null,"Year",2015,"Deemed Interest Calculation"]
[]
["Row","Description","Lender","Affiliated or Third-Party Debt?","Fixed or Variable-Rate?","Start Date","Term              (years)","Principal                         ($)","Rate (%)                     (Note 2)","Interest ($)       (Note 1)","Additional Comments, if any"]
[1,"Long Term Note Payable","City of Niagara Falls","Affiliated","Fixed Rate","2000-04-01",20,22000000,4.8800000000000003E-2,{"$f":"H114*I114","v":1073600}]
[2,"Long Term Note Payable","Niagara Falls Hydro Holding Corporation","Affiliated","Fixed Rate","2000-04-01",20,3605090,4.8800000000000003E-2,{"$f":"H115*I115","v":175928.39200000002}]
[4,"Term Loan payable","TD Bank","Third-Party","Fixed Rate","2009-07-19",10,3724570,4.58E-2,193728,"Per amortization schedule"]
[5,"Non-revolving term loan payable","Scotiabank","Third-Party","Fixed Rate","2010-09-30",5,0,4.9700000000000001E-2,90905,"Per amortization schedule"]
[6,"Term Loan payable","TD Bank","Third-Party","Fixed Rate","2012-06-27",5,10000000,2.8000000000000001E-2,280000,"Interest only repayments"]
[7,"Term Loan payable","TD Bank","Third-Party","Fixed Rate","2013-12-03",5,10000000,2.9329999999999998E-2,293300,"Interest only repayments"]
[7,"Term Loan payable-NEW","To be Determined","Third-Party","Fixed Rate","2014-11-30",5,{"$f":"10000000","v":10000000},3.0499999999999999E-2,{"$f":"H120*I120","v":305000},"Interest only repayments"]
[]
["Total",null,null,null,null,null,null,{"$f":"SUM(H114:H120)","v":59329660},{"$f":"IF(H122=0,\"\",J122/H122)","v":4.0661979050613133E-2},{"$f":"SUM(J114:J120)","v":2412461.392}]
[null,null,null,null,"Remaining subject to deemed interest",null,null,{"$f":"'App.2-OA Capital Structure'!I22-'App.2-OB_Debt Instruments'!H122","v":21177003.121302411},4.8800000000000003E-2,{"$f":"H123*I123","v":1033437.7523195577}]
[null,null,null,null,null,null,null,{"$f":"SUM(H122:H123)","v":80506663.121302411},{"$f":"J124/H124","v":4.2802657702102148E-2},{"$f":"SUM(J122:J123)","v":3445899.1443195576}]

{"sheet":"App.2-P_Cost_Allocation 1 &2","index":51,"n_rows":97,"n_cols":7,"rows_kept":97,"cut":false,"hidden":false,"merged":[[101,0,103,5],[91,0,91,1],[92,0,92,1],[93,0,93,1],[96,0,99,5],[90,0,90,1],[85,0,87,1],[85,2,85,4],[85,5,86,5],[88,0,88,1],[47,0,47,1],[48,0,48,1],[74,0,74,1],[57,0,58,5],[89,0,89,1],[60,0,61,5],[78,0,79,5],[81,0,81,5],[72,0,72,1],[73,0,73,1],[65,0,67,1],[65,5,67,5],[66,3,67,3],[66,4,67,4],[68,0,68,1],[55,0,55,5],[69,0,69,1],[70,0,70,1],[71,0,71,1],[52,0,53,5],[37,1,37,5],[39,0,39,1],[40,3,41,3],[40,4,41,4],[40,5,41,5],[45,0,45,1],[46,0,46,1],[40,0,41,1],[40,2,41,2],[43,0,43,1],[44,0,44,1],[42,0,42,1],[26,0,27,4],[29,0,31,4],[33,0,34,4],[8,0,8,5],[9,0,9,5]]}
[null,null,null,null,"File Number:",{"$f":"EBNUMBER","v":"EB-2014-0096"}]
[null,null,null,null,"Exhibit:",7]
[null,null,null,null,"Tab:",4]
[null,null,null,null,"Schedule:",1]
[null,null,null,null,"Page:",1]
[]
[null,null,null,null,"Date:","2014-08-29"]
[]
["Appendix 2-P"]
["Cost Allocation"]
[]
["Please complete the following four tables."]
[]
["A)  Allocated Costs"]
[]
["Classes","Costs Allocated from Previous Study","%","Costs Allocated in Test Year Study                    (Column 7A)","%"]
["Residential",21014763.720202468,{"$f":"IF(B$23=0,\"\",B17/B$23)","v":0.6612448233172783},21379438.325079385,{"$f":"IF(D$23=0,\"\",D17/D$23)","v":0.69029776528561293}]
["GS < 50 kW",3602085.0805165926,0.113342226653265,3327173.2119052559,0.1074275291040802]
["GS > 50 kW ",6500897.1957893269,0.20455545800407826,5729872.3596947128,0.18500570618963513]
["Street Lighting",376121.72976315452,1.1834943759273922E-2,329444.62714617967,1.0637084400743506E-2]
["Sentinel Lighting",145568.53927227753,4.5804199520509317E-3,92675.921418142796,2.9923134779309734E-3]
["Unmetered Scattered Load (USL)",141173.54668479049,4.4421283140536035E-3,112723.29219087207,3.6396015419973499E-3]
["Total",{"$f":"SUM(B17:B22)","v":31780609.812228609},{"$f":"SUM(C17:C22)","v":1},{"$f":"SUM(D17:D22)","v":30971327.737434547},{"$f":"SUM(E17:E22)","v":1}]
[]
["Notes"]
[]
["1     Customer Classification - If proposed rate classes differ from those in place in the previous Cost Allocation study, modify the rate classes to match the current application as closely as possible."]
[]
[]
["2     Host Distributors -  Provide information on embedded distributor(s) as a separate class, if applicable.   If embedded distributor(s) are billed as customers in a General Service class, include the allocated cost and revenue of the embedded distributor(s) in the applicable class.  Also complete Appendix 2-Q."]
[]
[]
["  "]
["3     Class Revenue Requirements - If using the Board-issued model, in column 7A enter the results from Worksheet O-1, Revenue Requirement (row 40 in the 2013 model).  This excludes costs in deferral and variance accounts.  Note to Embedded Distributor(s), it also does not include Account 4750 - Low Voltage (LV) Costs. "]
[]
[]
[]
["B)  Calculated Class Revenues"]
[]
[null,null,"Column 7B","Column 7C","Column 7D","Column 7E"]
["Classes (same as previous table)",null,"Load Forecast (LF) X current approved rates","L.F. X current approved rates X (1 + d)","LF X proposed rates","Miscellaneous Revenue","Difference in"]
[null,null,null,null,null,null,"Base Dx Revenue 7(D)-7(B)"]
[{"$f":"A17","v":"Residential"},null,15497254.272130463,16045549.289111102,17344032.240489896,1256079.1023291773,{"$f":"E43-C43","v":1846777.9683594331}]
["GS < 50 kW",null,3627324.7688783025,3755660.0249709296,3755660.024970931,188761.11184126034,128335.25609262846]
["GS > 50 kW ",null,8785396.3307526801,9096224.8779111486,7789541.9726251401,138539.51982502802,-995854.35812753998]
["Street Lighting",null,273854.88521222456,283543.90923551214,283543.90923551226,5761.1683540514969,9689.0240232876968]
["Sentinel Lighting",null,58114.73925244109,60170.846830319926,68911.431563408463,5229.3055711058105,10796.692310967373]
["Unmetered Scattered Load (USL)",null,129135.21737892345,133704.03937553393,133163.40854966955,2104.5420793769522,4028.1911707460968]
["Total",null,{"$f":"SUM(C43:C48)","v":28371080.213605035},{"$f":"SUM(D43:D48)","v":29374852.98743454},{"$f":"SUM(E43:E48)","v":29374852.987434555},{"$f":"SUM(F43:F48)","v":1596474.75},{"$f":"SUM(G43:G48)","v":1003772.7738295228}]
[]
["Notes:"]
[]
["1     Columns 7B to 7D - LF means Load Forecast of Annual Billing Quantities (i.e. customers or connections X 12, (kWh or kW, as applicable).  Revenue Quantities should be net of Transfomrer Ownership Allowance.  Exclude revenue from rate adders and rate riders.  "]
[]
[]
["2     Columns 7C and 7D - Column total in each column should equal the Base Revenue Requirement"]
[]
["3     Columns 7C - The Board cost allocation model calculates \"1+d\" in worksheet O-1, cell C21. \"d\" is defined as Revenue Deficiency/ Revenue at Current Rates."]
[]
[]
["4     Columns 7E - If using the Board-issued Cost Allocation model, enter Miscellaneous Revenue as it appears in Worksheet O-1, row 19."]
[]
[]
["C)  Rebalancing Revenue-to-Cost (R/C) Ratios"]
[]
["Class",null,"Previously Approved Ratios","Status Quo Ratios","Proposed Ratios","Policy Range"]
[null,null,"Most Recent Year:","(7C + 7E) / (7A)","(7D + 7E) / (7A)"]
[null,null,2014]
[null,null,"%","%","%","%"]
[{"$f":"A43","v":"Residential"},null,0.85,{"$f":"IF(D17=0,\"\",(D43+F43)/D17*100)","v":80.926487068392319},{"$f":"IF(D17=0,\"\",(E43+F43)/D17*100)","v":87.000000000000028},"85 - 115"]
["GS < 50 kW",null,1.0908580849771645,118.55172200528376,118.55172200528381,"80 - 120"]
["GS > 50 kW ",null,1.458293567502615,161.1687628976818,138.3640157190618,"80 - 120"]
["Street Lighting",null,0.7,87.815995087148437,87.815995087148465,"70 - 120"]
["Sentinel Lighting",null,0.7,70.568656238493688,80.000000000000043,"80 - 120"]
["Unmetered Scattered Load (USL)",null,1.0150518025204474,120.47960879722086,120.00000000000001,"80 - 120"]
[]
["Notes"]
[]
["1     Previously Approved Revenue-to-Cost Ratios - For most applicants, Most Recent Year would be the third year of the IRM 3 period,  e.g. if the applicant rebased in 2009 with further adjustments over 2 years, the Most recent year is 2011.  For applicants whose most recent rebasing year is 2006, the applicant should enter the ratios from their Informational Filing."]
[]
[]
["2     Status Quo Ratios - The Board's updated Cost Allocation Model yields the Status Quo Ratios in Worksheet O-1.  Status Quo means \"Before Rebalancing\"."]
[]
["D)  Proposed Revenue-to-Cost Ratios"]
[]
["Class",null,"Proposed Revenue-to-Cost Ratios",null,null,"Policy Range"]
[null,null,{"$f":"TestYear","v":2015},{"$f":"C87+1","v":2016},{"$f":"D87+1","v":2017}]
[null,null,"%","%","%","%"]
[{"$f":"A70","v":"Residential"},null,0.87,0.89,0.91920999999999997,{"$f":"F70","v":"85 - 115"}]
["GS < 50 kW",null,{"$f":"E71","v":118.55172200528381},1.1855172200528377,1.1855172200528377,"80 - 120"]
["GS > 50 kW ",null,1.3836401571906174,1.3090156734919318,1.2000266150500014,"80 - 120"]
["Street Lighting",null,{"$f":"E73","v":87.815995087148465},0.87815995087148435,0.87815995087148435,"70 - 120"]
["Sentinel Lighting",null,{"$f":"E74","v":80.000000000000043},0.8,0.8,"80 - 120"]
["Unmetered Scattered Load (USL)",null,{"$f":"E75","v":120.00000000000001},1.2,1.2,"80 - 120"]
[]
["Note"]
["1     The applicant should complete Table D if it is applying for approval of a revenue to cost ratio in 2015 that is outside the Board’s policy range for any customer class. Table (d) will show the information that the distributor would likely enter in the IRM model) in 2016.  In 2015 Table (d), enter the planned ratios for the classes that will be ‘Change’ and ‘No Change’ in 2015 (in the current Revenue Cost Ratio Adjustment Workform, Worksheet C1.1 ‘Decision – Cost Revenue Adjustment’, column d), and enter TBD for class(es) that will be entered as ‘Rebalance’. "]

{"sheet":"App.2-Q_Cost of Serv. Emb. Dx","index":52,"n_rows":61,"n_cols":7,"rows_kept":61,"cut":false,"hidden":false,"merged":[[9,7,9,11],[12,0,12,6],[11,0,11,6],[14,0,14,1],[14,2,14,3],[59,3,60,3],[59,4,60,4],[54,4,55,4],[8,0,8,6],[9,0,9,6],[16,0,16,1],[16,2,16,3],[54,3,55,3]]}
[null,null,null,null,null,"File Number:",{"$f":"EBNUMBER","v":"EB-2014-0096"}]
[null,null,null,null,null,"Exhibit:"]
[null,null,null,null,null,"Tab:"]
[null,null,null,null,null,"Schedule:"]
[null,null,null,null,null,"Page:"]
[]
[null,null,null,null,null,"Date:"]
[]
["Appendix 2-Q"]
["Cost of Serving Embedded Distributor(s) "]
[]
["To be completed by Host Distributors ONLY*"]
["(Not required if Host Distributor has an Embedded Distributor rate class, i.e. a separate row in Appendix 2-P.)"]
[]
[]
[]
["Proposed Rate Class for Billing Embedded Distributor(s)"]
[]
["Host's Distribution Facilities used by Embedded Distributor(s)"]
[]
["(1)","(2)","(3)","(4)","(5)","(6) = '(3) + (4)"]
["Asset Class","Total OM&A costs asociated with asset class ","Original cost of asset class ","Accumulated amortization of asset class","Annual amortization of asset class","Net Book Value of asset class"]
["Totals for Host Distributor:","($)","($)","($)","($)"]
["Distribution Stations",null,null,null,null,{"$f":"C24+D24","v":0}]
["Low Voltage Line",null,null,null,null,0]
["LV Line category # 2 (if applcable)",null,null,null,null,0]
["TS (owned by host)",null,null,null,null,0]
["add rows if necessary... ",null,null,null,null,0]
[null,null,null,null,null,0]
[null,null,null,null,null,0]
[]
["(1)","(7)","(8)","(9)","(10)","(11)"]
[{"$f":"A22","v":"Asset Class"},"Total line length or station capacity in asset class","Line length or capacity required to provide LV service to Embedded Distributor(s)","Annual total demand on station/line providing LV services (sum of 12 monthly peaks)","Annual billed Embedded Distributor demand on station/line providing LV services","Embedded Distributor(s)' Responsibility Share "]
["Embedded Distributor's share:","kW or kVa; km","kW or kVA; km","kW or kVA","kW or kVA","percent"]
["Distribution Stations",null,null,null,null,{"$f":"IF(D35=0,0,(C35/B35)*(E35/D35))","v":0}]
["Low Voltage Line",null,null,null,null,{"$f":"IF(D36=0,0,(C36/B36)*(E36/D36))","v":0}]
["LV Line # 2 (if applicable) ",null,null,null,null,{"$f":"IF(D37=0,0,(C37/B37)*(E37/D37))","v":0}]
["TS (owned by host)",null,null,null,null,{"$f":"IF(D38=0,0,(C38/B38)*(E38/D38))","v":0}]
["add rows if necessary ",null,null,null,null,{"$f":"IF(D39=0,0,(C39/B39)*(E39/D39))","v":0}]
[]
["(1)","(12)","(12a)","(13)","(14)","(15)","(16)"]
[{"$f":"A33","v":"Asset Class"},"Return on Assets used to Provide LV services","Taxes/PILs","Annual amortization on assets used to provide LV services","OM&A costs with burden associated with assets used to provide LV services","Total annual cost associated with assets used to provide LV services","Monthly cost associated with the delivery of LV services"]
[null,"($)","($)","($)","($)","($)","$/kW or $/kVA"]
["Distribution Stations",{"$f":"E$55*(F24+B24*E$60)*F35","v":0},{"$f":"(B44-(B$55*C$55*F35*(F24+B24*E58)+B$56*C$56*F35*(F24+B24*E$58)))*E$58/(1-E$58)","v":0},{"$f":"E24*F35","v":0},{"$f":"B24*F35","v":0},{"$f":"SUM(B44:E44)","v":0},{"$f":"IF(E35=0,0,(D44/E35))","v":0}]
["Low Voltage Line",{"$f":"E$55*(F25+B25*E$60)*F36","v":0},{"$f":"(B45-(B$55*C$55*F36*(F25+B25*E59)+B$56*C$56*F36*(F25+B25*E59)))*E$58/(1-E$58)","v":0},{"$f":"E25*F36","v":0},{"$f":"B25*F36","v":0},{"$f":"SUM(B45:E45)","v":0},{"$f":"IF(E36=0,0,(D45/E36))","v":0}]
["LV Line # 2 (if applicable) ",{"$f":"E$55*(F26+B26*E$60)*F37","v":0},{"$f":"(B46-(B$55*C$55*F37*(F26+B26*E60)+B$56*C$56*F37*(F26+B26*E$60)))*E$58/(1-E$58)","v":0},{"$f":"E26*F37","v":0},{"$f":"B26*F37","v":0},{"$f":"SUM(B46:E46)","v":0},{"$f":"IF(E37=0,0,(D46/E37))","v":0}]
["TS (owned by host)",{"$f":"E$55*(F27+B27*E$60)*F38","v":0},{"$f":"(B47-(B$55*C$55*F38*(F27+B27*E61)+B$56*C$56*F38*(F27+B27*E61)))*E$58/(1-E$58)","v":0},{"$f":"E27*F38","v":0},{"$f":"B27*F38","v":0},{"$f":"SUM(B47:E47)","v":0},{"$f":"IF(E38=0,0,(D47/E38))","v":0}]
["add rows if necessary ",{"$f":"E$55*(F28+B28*E$60)*F39","v":0},{"$f":"(B48-(B$55*C$55*F39*(F28+B28*I62)+B$56*C$56*F39*(F28+B28*I62)))*E$58/(1-E$58)","v":0},{"$f":"E28*F39","v":0},{"$f":"B28*F39","v":0},{"$f":"SUM(B48:E48)","v":0},{"$f":"IF(E39=0,0,(D48/E39))","v":0}]
[]
["Total",null,null,null,null,{"$f":"SUM(F44:F48)","v":0},{"$f":"SUM(G44:G48)","v":0}]
[]
["(17)","(18)","(19)","(20)","(21)"]
[null,"Capital Structure","Cost Rate"]
[null,"(%)","(%)",null,"(%)"]
["Long-Term Debt",null,null,"Weighted Average Cost of Capital",{"$f":"IF(B61=0%,0,SUMPRODUCT(B55:B59,C55:C59)/B61)","v":0}]
["Short-term Debt"]
[]
["Common Equity",null,null,"Tax/PILs Rate"]
["Preferred Shares"]
[null,null,null,"Working Capital Allowance Factor"]
["Total",{"$f":"SUM(B55:B59)","v":0}]

{"sheet":"App.2-R_Loss Factors","index":53,"n_rows":73,"n_cols":8,"rows_kept":73,"cut":false,"hidden":false,"merged":[[57,1,58,7],[60,1,61,7],[32,1,34,7],[71,1,71,7],[63,1,63,7],[65,1,65,7],[67,1,69,6],[52,1,52,7],[15,1,15,7],[24,1,24,7],[26,1,26,7],[54,1,55,7],[36,1,39,7],[43,1,45,7],[47,1,50,7],[8,0,8,7],[9,0,9,7],[11,0,11,7],[13,0,14,1],[13,2,13,6],[13,7,14,7]]}
[null,null,null,null,null,null,"File Number:",{"$f":"EBNUMBER","v":"EB-2014-0096"}]
[null,null,null,null,null,null,"Exhibit:",8]
[null,null,null,null,null,null,"Tab:",9]
[null,null,null,null,null,null,"Schedule:",1]
[null,null,null,null,null,null,"Page:",1]
[]
[null,null,null,null,null,null,"Date:","2014-08-29"]
[]
["Appendix 2-R"]
["Loss Factors"]
[]
[]
[]
[null,null,"Historical Years",null,null,null,null,"5-Year Average"]
[null,null,{"$f":"IF(ISBLANK('LDC Info'!E26-5), \"Year 5\", 'LDC Info'!E26-5)","v":2009},{"$f":"IF(ISBLANK('LDC Info'!E26-4), \"Year 5\", 'LDC Info'!E26-4)","v":2010},{"$f":"IF(ISBLANK('LDC Info'!E26-3), \"Year 5\", 'LDC Info'!E26-3)","v":2011},{"$f":"IF(ISBLANK('LDC Info'!E26-2), \"Year 5\", 'LDC Info'!E26-2)","v":2012},{"$f":"IF(ISBLANK('LDC Info'!E26-1), \"Year 5\", 'LDC Info'!E26-1)","v":2013}]
[null,"Losses Within Distributor's System"]
["A(1)","\"Wholesale\" kWh delivered to distributor (higher value)",0,1271540802.7692308,1273076225.0769231,1267361419.7412589,1256535574.0000002,{"$f":"IF(SUM(C17:G17)=0,0,AVERAGE(C17:G17))","v":1013702804.3174826}]
["A(2)","\"Wholesale\" kWh delivered to distributor (lower value)",1217543467,1265872663.1092393,1267420745.0332735,1261735599.2192719,1250965044.3832755,{"$f":"IF(SUM(C18:G18)=0,0,AVERAGE(C18:G18))","v":1252707503.749012}]
["B","Portion of \"Wholesale\" kWh delivered to distributor for its Large Use Customer(s)",0,0,0,0,0,{"$f":"IF(SUM(C19:G19)=0,0,AVERAGE(C19:G19))","v":0}]
["C","Net \"Wholesale\" kWh delivered to distributor  = A(2) - B",{"$f":"C18-C19","v":1217543467},1265872663.1092393,1267420745.0332735,1261735599.2192719,1250965044.3832755,1252707503.749012]
["D","\"Retail\" kWh delivered by distributor",1161778118,1193712076,1232998827,1214015314.2602541,1202305265,{"$f":"IF(SUM(C21:G21)=0,0,AVERAGE(C21:G21))","v":1200961920.0520508}]
["E","Portion of \"Retail\" kWh delivered by distributor to its Large Use Customer(s)",0,0,0,0,0,{"$f":"IF(SUM(C22:G22)=0,0,AVERAGE(C22:G22))","v":0}]
["F","Net \"Retail\" kWh delivered by distributor = D - E",{"$f":"C21-C22","v":1161778118},1193712076,1232998827,1214015314.2602541,1202305265,1200961920.0520508]
["G","Loss Factor in Distributor's system = C / F",{"$f":"IF(C23=0,\"\",C20/C23)","v":1.0479999994284623},1.0604505798006514,1.02791723502043,1.0393078113582905,1.040472067119556,1.0430867813816431]
[null,"Losses Upstream of Distributor's System"]
["H","Supply Facilities Loss Factor",1.0044999999999999,1.0044999999999999,1.0044999999999999,1.0044999999999999,1.0044999999999999,{"$f":"IF(SUM(C26:G26)=0,0,AVERAGE(C26:G26))","v":1.0044999999999999}]
[null,"Total Losses"]
["I","Total Loss Factor = G x H",{"$f":"IF(C24=\"\",\"\",C24*C26)","v":1.0527159994258903},1.0652226074097542,1.0325428625780217,1.0439846965094028,1.0451541914215938,1.0477806718978604]
[]
["Notes"]
[]
[]
["A(1)","If directly connected to the IESO-controlled grid, kWh pertains to the virtual meter on the primary or high voltage side of the transformer at the interface with the transmission grid.  This corresponds to the \"With Losses\" kWh value provided by the IESO's MV-WEB.  It is the higher of the two values provided by MV-WEB."]
[]
[]
[]
[null,"If fully embedded within a host distributor, kWh pertains to the virtual meter on the primary or high voltage side of the transformer, at the interface between the host distributor and the transmission grid.  For example, if the host distributor is Hydro One Networks Inc., kWh from the Hydro One Networks' invoice corresponding to \"Total kWh w Losses\" should be reported.  This corresponds to the higher of the two kWh values provided in Hydro One Networks' invoice."]
[]
[]
[]
[]
[null,"If partially embedded, kWh pertains to the sum of the above."]
[]
["A(2)","If directly connected to the IESO-controlled grid, kWh pertains to a metering installation on the secondary or low voltage side of the transformer at the interface with the transmission grid.  This corresponds to the \"Without Losses\" kWh value provided by the IESO's MV-WEB.  It is the lower of the two kWh values provided by MV-WEB."]
[]
[]
[]
[null,"If fully embedded with the host distributor, kWh pertains to a metering installation on the secondary or low voltage side of the transformer at the interface between the embedded distributor and the host distributor.  For example, if the host distributor is Hydro One Networks Inc., kWh from the Hydro One Networks' invoice corresponding to \"Total kWh\" should be reported.  This corresponds to the lower of the two kWh values provided in Hydro One Networks' invoice."]
[]
[]
[]
[]
[null,"If partially embedded, kWh pertains to the sum of the above."]
[]
[null,"Additionally, kWh pertaining to distributed generation directly connected to the distributor's own distribution network should be included in A(2)."]
[]
[]
["B","If a Large Use Customer is metered on the secondary or low voltage side of the transformer, the default loss is 1%                         (i.e., B = 1.01 X E)."]
[]
[]
["D","kWh corresponding to D should equal metered or estimated kWh at the customer’s delivery point."]
[]
[]
["G and I","These loss factors pertain to secondary-metered customers with demand less than 5,000 kW."]
[]
["H","If directly connected to the IESO-controlled grid, SFLF = 1.0045."]
[]
[null,"If fully embedded within a host distributor, SFLF = loss factor re losses in transformer at grid interface X loss factor re losses in host distributor's system.  If the host distributor is Hydro One Networks Inc., SFLF = 1.0060 X 1.0278 = 1.0340. If partially embedded, SFLF should be calculated as the weighted average of above."]
[]
[]
[]
[null,"Distributors that wish to propose a different SFLF should provide appropriate justification for any such proposal including supporting"]
[null,"calculations and any other relevant material."]

{"sheet":"App.2-S_Stranded Meters","index":54,"n_rows":90,"n_cols":8,"rows_kept":90,"cut":false,"hidden":false,"merged":[[8,0,8,7],[9,0,9,7],[27,0,30,7],[32,0,33,7],[52,2,53,7],[60,2,62,7],[64,0,65,7],[35,1,36,7],[38,1,40,7],[42,1,45,7],[47,1,50,7],[55,2,58,7],[89,0,92,7],[82,1,84,7],[86,1,87,7],[67,1,68,7],[74,1,76,7],[78,1,80,7],[70,1,72,7]]}
[null,null,null,null,null,null,"File Number:",{"$f":"EBNUMBER","v":"EB-2014-0096"}]
[null,null,null,null,null,null,"Exhibit:",2]
[null,null,null,null,null,null,"Tab:",1]
[null,null,null,null,null,null,"Schedule:",4]
[null,null,null,null,null,null,"Page:",1]
[]
[null,null,null,null,null,null,"Date:","2014-08-29"]
[]
["Appendix 2-S"]
["Stranded Meter Treatment"]
[]
["Year","Notes","Gross Asset Value","Accumulated Amortization","Contributed Capital (Net of Amortization)","Net Asset","Proceeds on Disposition","Residual Net Book Value"]
[null,null,"(A)","(B)","(C)","(D ) = (A) - (B) - (C)","(E)","(F) = (D) - (E)"]
[2006,null,null,null,null,{"$f":"C14-D14-E14","v":0},null,{"$f":"F14-G14","v":0}]
[2007,null,null,null,null,0,null,0]
[2008,null,null,null,null,0,null,0]
[2009,null,631139.73,400378.14,null,230761.58999999997,0,230761.58999999997]
[2010,null,5014897.1122639962,3596059.2618026137,null,1418837.8504613824,8207.75,1410630.1004613824]
[2011,null,5251157.5338380588,3825271.8441725164,null,1425885.6896655424,10938.380000000001,1414947.3096655426]
[2012,null,5392714.1100000013,3985137.480071716,null,1407576.6299282853,10938.380000000001,1396638.2499282854]
[2013,null,5392714.1100000013,4041348.2298682458,null,{"$f":"C21-D21-E21","v":1351365.8801317555},11450.570000000002,{"$f":"F21-G21","v":1339915.3101317554}]
[2014,"(1) Includes forecast 2014 depreciation of $56,211",5392714.1100000013,4097558.9796647755,null,1295155.1303352257,11450.570000000002,1283704.5603352257]
[]
["Notes:"]
[]
["(1)","For 2014, please indicate whether the amounts provided are on a forecast or actual basis."]
[]
["Some distributors have transferred the cost of stranded meters from Account 1860 - Meters to \"Sub-account Stranded Meter Costs of Account 1555\", while in some cases distributors have left these costs in Account 1860.  Depending on which treatment the applicant has chosen. please provide the information under either of the two scenarios (A and B below), as applicable."]
[]
[]
[]
[]
["Scenario A:  If the stranded meter costs were transferred to \"Sub-account Stranded Meter Costs\" of Account 1555, the above table should be completed and the following information should be provided in Exhibit 9."]
[]
[]
[1,"A description of the accounting treatment followed by the applicant on stranded meter costs for financial accounting and reporting purposes."]
[]
[]
[2,"The amount of the pooled residual net book value of the removed from service stranded meters, less any contributed capital (net of accumulated amortization), and less any net proceeds from sales, which were transferred to this sub-account as of December 31, 2010."]
[]
[]
[]
[3,"A statement as to whether or not, since transferring the removed stranded meter costs to the sub-account, the recording of depreciation expenses was continued in order to reduce the net book value through accumulated depreciation.  If so, the total depreciation expense amount for the period from the time the costs for the stranded meters were transferred to the sub-account to December 31, 2010 should be provided."]
[]
[]
[]
[]
[null,"If no depreciation expenses were recorded to reduce the net book value of stranded meter costs through accumulated depreciation, the total depreciation expense amount that would have been applicable from the time that the stranded meter costs were transferred to the sub-account of Account 1555 to December 31, 2010 should be provided.  In addition, the following information should be provided:"]
[]
[]
[]
[]
[null,"a)","Whether or not carrying charges were recorded for the stranded meter cost balances in the sub-account, and if so, the total carrying charges recorded to December 31, 2010."]
[]
[]
[null,"b)","The estimated amount of the pooled residual net book value of the removed from service meters, less any net proceeds from sales and contributed capital, at the time when the smart meters will have been fully deployed (e.g., as of December 31, 2010).  If the smart meters have been fully deployed, the actual amount should be provided."]
[]
[]
[]
[]
[null,"c)","A description as to how the applicant intends to recover in rates the remaining costs for stranded meters, including the proposed accounting treatment, the proposed disposition period, and the associated bill impacts."]
[]
[]
[]
["Scenario B:  If the stranded meter costs remained recorded in Account 1860, the above table should be completed and the following information should be provided in Exhibit 9:"]
[]
[]
[1,"A description of the accounting treatment followed by the applicant on stranded meter costs for financial accounting and reporting purposes."]
[]
[]
[2,"The amount of the pooled residual net book value of the removed from service stranded meters, less any contributed capital (net of accumulated amortization), and less any net proceeds from sales, as of December 31, 2010."]
[]
[]
[]
[3,"A statement as to whether or not the recording of depreciation expenses continued in order to reduce the net book value through accumulated depreciation.  If so, provision of the total (cumulative) depreciation expense for the period from the time that the meters became stranded to December 31, 2010."]
[]
[]
[]
[4,"If no depreciation expenses were recorded to reduce the net book value of stranded meters through accumulated depreciation, the total (cumulative) depreciation expense amount that would have been applicable for the period from the time that the meters became stranded to December 31, 2010."]
[]
[]
[]
[5,"The estimated amount of the pooled residual net book value of the removed from service meters, less any net proceeds from sales and contributed capital, at the time when smart meters will have been fully deployed.  If the smart meters have been fully deployed, please provide the actual amount."]
[]
[]
[]
[6,"A description as to how the applicant intends to recover in rates the costs for stranded meters, including the proposed accounting treatment, the proposed disposition period and the associated bill impacts."]
[]
[]
["Distributors should also provide the Net Book Value per class of meter as of December 31, 2010 as well as the number of meters that were removed / stranded.  In preparing this information, distributors should review the Board's letter of January 16, 2007 Stranded Meter Costs Related to the Installation of Smart Meters   which stated that records were to be kept of the type and number of each meter to support the stranded meter costs."]

{"sheet":"App.2-TA_1592_Tax_Variance","index":55,"n_rows":57,"n_cols":5,"rows_kept":57,"cut":false,"hidden":false,"merged":[[17,0,17,2],[8,0,8,4],[9,0,9,4],[11,0,11,4],[13,0,15,2],[16,0,16,2],[33,0,33,2],[18,0,18,2],[19,0,19,2],[20,0,20,2],[21,0,21,2],[25,0,25,2],[26,0,26,2],[27,0,27,2],[28,0,28,2],[29,0,29,2],[30,0,30,2],[31,0,31,2],[22,0,22,2],[23,0,23,2],[24,0,24,2],[32,0,32,2],[34,0,34,2],[56,0,57,0],[56,1,57,4],[45,0,46,0],[45,1,46,4],[48,0,49,0],[48,1,49,4],[51,0,54,0],[51,1,54,4],[35,0,35,2],[36,0,36,2],[40,0,41,0],[40,1,41,4],[43,0,44,0],[43,1,43,4]]}
[null,null,"File Number:",null,{"$f":"EBNUMBER","v":"EB-2014-0096"}]
[null,null,"Exhibit:",null,9]
[null,null,"Tab:",null,3]
[null,null,"Schedule:",null,2]
[null,null,"Page:",null,1]
[]
[null,null,"Date:",null,"2014-08-29"]
[]
["Appendix 2-TA"]
["Account 1592, PILs and Tax Variances for 2006 and Subsequent Years\nand Subsequent Years"]
[]
["The following table should be completed based on the information requested below, in accordance with the notes following the table. An explanation should be provided for any blank entries."]
[]
["Tax Item",null,null,null,"Principal as of"]
[null,null,null,null,"December 31,"]
[null,null,null,null,2013]
["Large Corporation Tax grossed-up proxy from 2006 EDR application PILs model for the period from May 1, 2006 to April 30, 2007"]
["Large Corporation Tax grossed-up proxy from 2006 EDR application PILs model for the period from January 1, 2006 to April 30, 2006 (4/12ths of the approved grossed-up proxy), if not recorded in PILs account 1562"]
["Ontario Capital Tax rate decrease and increase in capital deduction for 2007"]
["Ontario Capital Tax rate decrease and increase in capital deduction for 2008"]
["Ontario Capital Tax rate decrease and increase in capital deduction for 2009"]
["Ontario Capital Tax rate decrease and increase in capital deduction for 2010"]
["Ontario Capital Tax rate decrease and increase in capital deduction for 2011"]
["Ontario Capital Tax rate decrease and increase in capital deduction for 2012"]
["Ontario Capital Tax rate decrease and increase in capital deduction for 2013"]
["Capital Cost Allowance class changes from 2006 EDR application for 2006"]
["Capital Cost Allowance class changes from 2006 EDR application for 2007"]
["Capital Cost Allowance class changes from 2006 EDR application for 2008"]
["Capital Cost Allowance class changes from 2006 EDR application for 2009"]
["Capital Cost Allowance class changes from 2006 EDR application for 2010"]
["Capital Cost Allowance class changes from 2006 EDR application for 2011"]
["Capital Cost Allowance class changes from 2006 EDR application for 2012"]
["Capital Cost Allowance class changes from 2006 EDR application for 2013"]
["Capital Cost Allowance class changes from any prior application not recorded above.  Please provide details and explanation separately."]
["Sub-Account HST/OVAT Input Tax Credits",null,null,null,123675.08212084044]
["Sub-Account HST/OVAT Input Tax Credits Contra Account",null,null,null,-123675.08212084044]
["Total",null,null,null,{"$f":"SUM(E17:E36)","v":0}]
[]
["Notes:"]
[]
[1,"Revise the deferral and variance account continuity schedule to include account 1592 as a group 2 account and enter all relevant information for transactions, adjustments, etc., for all relevant years."]
[]
[]
[2,"Describe each type of tax item that has been recorded in account 1592."]
[]
[3,"Provide the calculations that show how each item was determined and provide any pertinent supporting evidence and documentation."]
[]
[]
[4,"Please state whether or not the applicant followed the guidance provided in the FAQ of July 2007.  If not, please provide an explanation."]
[]
[]
[5,"Identify the account balance as of December 31, 2012 as per the 2012 Audited Financial Statements.  Identify the account balance as of December 31, 2012 as per the April 2013 2.1.7 RRR filing to the Board.  Provide a reconciliation if the balances provided are not identical to each other and to the total shown on the continuity schedule."]
[]
[]
[]
[]
[6,"Complete the above table based on the answers to the previous.  Add rows as required to complete the analysis in an informative manner.  Please provide the completed table as a working Excel spreadsheet."]

{"sheet":"App.2-TB_1592_HST-OVAT","index":56,"n_rows":30,"n_cols":12,"rows_kept":30,"cut":false,"hidden":false,"merged":[[8,0,8,10],[9,0,9,10],[10,0,10,10],[29,0,30,10],[13,0,14,10],[16,0,16,10],[12,0,12,10]]}
[null,null,null,null,null,null,null,null,"File Number:",null,{"$f":"EBNUMBER","v":"EB-2014-0096"}]
[null,null,null,null,null,null,null,null,"Exhibit:",null,9]
[null,null,null,null,null,null,null,null,"Tab:",null,3]
[null,null,null,null,null,null,null,null,"Schedule:",null,3]
[null,null,null,null,null,null,null,null,"Page:",null,1]
[]
[null,null,null,null,null,null,null,null,"Date:"]
[]
["Appendix 2-TB"]
["Account 1592, PILs and Tax Variances for 2006 and Subsequent Years,\nand Subsequent Years"]
["Sub-account HST/OVAT Input Tax Credits (ITCs)"]
[]
["The following table should be completed based on the information requested below.  An explanation should be provided for any blank entries."]
["100% of the balance in Account 1592,  PILs and Tax Variances for 2006 and Subsequent Years, Sub-account HST/OVAT Input Tax Credits (ITCs), should be recorded in this table."]
[]
[]
["Summary of PST Savings from 2009 Historic Year Analysis"]
[]
[null,null,null,null,"Principal \n2010","Principal \n2011","Principal \n2012","Principal \n2013","Principal \n2014","Principal \nJan-April 2015 1","Carrying Charges to April 30, 2015","Total Account 1592, sub-account HST/OVAT Balance"]
[]
[]
[]
["OM&A Expenses PST Savings",null,null,null,63137.400000000038,42722.113124998956,null,null,null,null,{"$f":"0.0147*16/12*(E23+F23)","v":2074.8464572499802},{"$f":"SUM(E23:K23)","v":107934.35958224897}]
["Capital Items PST Savings",null,null,null,6105.7699705077775,11709.799025333652,null,null,null,null,{"$f":"0.0147*16/12*(E24+F24)","v":349.18515231849199},{"$f":"SUM(E24:K24)","v":18164.754148159922}]
["Total Annual PST Savings 2",null,null,null,{"$f":"SUM(E23:E24)","v":69243.169970507821},54431.91215033261,0,0,null,0,2424.031609568472,126099.11373040889]
[]
["1 Include January to April 30, 2015 PST savings if the rate year begins May 1, 2015.  If the rate year begins Jan 1, 2015, include PST savings to December 31, 2014."]
["2 Derived PST savings proxy for each year per 2009 historic year analysis"]
[]
["Note: Assumes level OM&A and Capital Spending year over year.  An alternative detailed transactional analysis may also be performed using actual expenditures from 2010 to the start of the rate year."]

{"sheet":"App.2-U_IFRS Transition Costs","index":57,"n_rows":34,"n_cols":16,"rows_kept":34,"cut":false,"hidden":false,"merged":[[16,0,16,2],[8,0,8,17],[9,0,9,17],[13,0,15,2],[13,15,15,15],[13,10,14,10],[13,11,14,11],[13,12,15,12],[13,13,15,13],[13,14,15,14],[11,0,11,15],[28,0,28,2],[17,0,17,2],[18,0,18,2],[19,0,19,2],[20,0,20,2],[21,0,21,2],[22,0,22,2],[23,0,23,2],[24,0,24,2],[25,0,25,2],[26,0,26,2],[27,0,27,2],[32,1,32,15],[40,0,43,0],[40,1,43,4],[45,0,46,0],[45,1,46,4],[33,1,33,4],[34,0,35,0],[34,1,35,4],[37,0,38,0],[37,1,38,4]]}
[]
[null,null,null,null,null,null,null,null,null,null,null,null,null,null,"File Number:",{"$f":"EBNUMBER","v":"EB-2014-0096"}]
[null,null,null,null,null,null,null,null,null,null,null,null,null,null,"Exhibit:",9]
[null,null,null,null,null,null,null,null,null,null,null,null,null,null,"Tab:",3]
[null,null,null,null,null,null,null,null,null,null,null,null,null,null,"Schedule:",6]
[null,null,null,null,null,null,null,null,null,null,null,null,null,null,"Page:",1]
[]
[null,null,null,null,null,null,null,null,null,null,null,null,null,null,"Date:"]
["Appendix 2-U"]
["One-Time Incremental IFRS Transition Costs"]
[]
["The following table should be completed based on the information requested below. An explanation should be provided for any blank entries.  The entries should include one-time incremental IFRS transition costs that are currently included in Account 1508, Other Regulatory Assets, sub-account Deferred IFRS Transition Costs Account, or Account 1508, Other Regulatory Assets, sub-account IFRS Transition Costs Variance Account."]
[]
["Nature of One-Time Incremental IFRS Transition Costs 1",null,null,null,"Audited Actual","Audited Actual","Audited Actual","Audited Actual","Audited Actual","Audited Carrying","Forecasted Costs ","Forecasted Costs ","Total Costs Excluding Carrying Charges","Carrying Charges January 1, 2014 to April 30, 2015","Total Costs and Carrying Charges","Reasons why the costs recorded meet the criteria of one-time IFRS administrative incremental costs"]
[null,null,null,null,"Costs Incurred","Costs Incurred","Costs Incurred","Costs Incurred","Costs Incurred","Charges"]
[null,null,null,null,2009,2010,2011,2012,2013,"to Dec 31, 2013",2014,2015]
["professional accounting fees",null,null,null,null,null,10000,5290,null,null,null,null,{"$f":"SUM(E17:I17,K17,L17)","v":15290},null,{"$f":"SUM(M17,N17)","v":15290},"NPEI engaged KPMG for consulting on componentization and useful lives."]
["professional legal fees",null,null,null,null,null,null,null,null,null,null,null,0,null,0]
["salaries, wages and benefits of staff added to support the transition to IFRS",null,null,null,null,null,null,null,null,null,null,null,0,null,0]
["associated staff training and development costs",null,null,null,299,null,598,null,null,null,null,null,897,null,897,"IFRS training seminars for existing NPEI staff."]
["costs related to system upgrades, or replacements or changes where IFRS was the major reason for conversion",null,null,null,null,null,null,null,null,null,null,null,0,null,0]
["Carrying Charges at OEB Prescribed Rates",null,null,null,null,null,null,null,null,487.28999999999996,null,null,{"$f":"J22","v":487.28999999999996},317.26519999999999,804.55520000000001,"Actual and forecast carrying charges at OEB prescribed interest rates."]
[null,null,null,null,null,null,null,null,null,null,null,null,0,null,0]
[null,null,null,null,null,null,null,null,null,null,null,null,0,null,0]
[null,null,null,null,null,null,null,null,null,null,null,null,0,null,0]
["Amounts, if any, included in previous Board approved rates (amounts should be negative) 3",null,null,null,null,null,null,null,null,null,null,null,0,null,0]
[null,null,null,null,null,null,null,null,null,null,null,null,0,null,0]
["Insert description of additional item(s) and new rows if needed.",null,null,null,null,null,null,null,null,null,null,null,0,null,0]
["Total",null,null,null,{"$f":"SUM(E17:E28)","v":299},{"$f":"SUM(F17:F28)","v":0},10598,5290,0,{"$f":"SUM(J17:J28)","v":487.28999999999996},0,0,{"$f":"SUM(M17:M28)","v":16674.29},null,{"$f":"SUM(O17:O28)","v":16991.555199999999}]
[]
[]
["Note:"]
[1,"The Deferred IFRS Transition Costs Account and the IFRS Transition Costs Variance Account are exclusively for necessary, incremental transition costs and shall not include ongoing IFRS compliance costs or impacts arising from adopting accounting policy changes that reflect changes in the timing of the recognition of income. The incremental costs in these accounts shall not include costs related to system upgrades, or replacements or changes where IFRS was not the major reason for conversion. In addition, incremental IFRS costs shall not include capital assets or expenditures."]
[2,"If there were any amounts approved in previous Board approved rates, please state the EB #:"]

{"sheet":"App.2-V_Rev_Reconciliation","index":58,"n_rows":32,"n_cols":16,"rows_kept":32,"cut":false,"hidden":false,"merged":[[31,0,32,13],[29,0,30,13],[8,0,8,15],[11,10,12,10],[9,0,9,15],[11,5,11,6],[11,2,11,4],[11,12,12,12],[11,13,12,13],[11,14,12,14],[11,15,12,15],[11,1,12,1],[12,8,12,9],[11,7,11,9]]}
[null,null,null,null,null,null,null,null,null,null,null,null,null,null,"File Number:",{"$f":"EBNUMBER","v":"EB-2014-0096"}]
[null,null,null,null,null,null,null,null,null,null,null,null,null,null,"Exhibit:",8]
[null,null,null,null,null,null,null,null,null,null,null,null,null,null,"Tab:",12]
[null,null,null,null,null,null,null,null,null,null,null,null,null,null,"Schedule:",1]
[null,null,null,null,null,null,null,null,null,null,null,null,null,null,"Page:",1]
[]
[null,null,null,null,null,null,null,null,null,null,null,null,null,null,"Date:","2014-08-29"]
[]
["Appendix 2-V"]
["Revenue Reconciliation"]
[]
["Rate Class","Customers/ Connections","Number of Customers/Connections",null,null,"Test Year Consumption",null,"Proposed Rates",null,null,"Revenues at Proposed Rates",null,"Class Specific Revenue Requirement","Transformer Allowance Credit","Total","Difference"]
[null,null,"Start of Test Year","End of Test Year","Average","kWh","kW","Monthly Service Charge","Volumetric"]
[null,null,null,null,null,null,null,null,"kWh","kW"]
[]
["Residential","Customers",46867.584188166344,47265.542552608946,{"$f":"IF(SUM(C16:D16)=0,0,AVERAGE(C16:D16))","v":47066.563370387645},399166843.44033277,null,19.96,1.52E-2,null,{"$f":"H16*E16*12+I16*F16+J16*G16","v":17340719.278768308},null,17344032.240489896,null,{"$f":"SUM(M16:N16)","v":17344032.240489896},{"$f":"O16-K16","v":3312.9617215879261}]
["GS < 50 kW","Customers",4367.8624849644129,4402.9880631294218,4385.4252740469174,118740733.01474681,null,46.39,1.11E-2,null,3759300.6780201276,null,3755660.024970931,null,3755660.024970931,-3640.6530491965823]
["GS > 50 to 4,999 kW","Connections",862.30371563755079,861.69628436244921,862,null,1739879.455366198,159.22,null,3.7887,8238852.9725459144,null,7789541.9726251401,449268.08,8238810.0526251402,-42.919920774176717]
["Unmetered Scattered Load","Connections",421.54671966120952,421.50732511583635,421.52702238852294,2215047.0373685542,null,20.14,1.41E-2,null,133106.81399775483,null,133163.40854966955,null,133163.40854966955,56.594551914720796]
["Sentinel Lighting","Connections",311.27913808892828,294.72086191107172,303,null,705.02695386826144,15.26,null,19.0381,68907.733650439346,null,68911.431563408463,null,68911.431563408463,3.6979129691171693]
["Street Lighting","Connections",12917.082545900155,13061.541971187156,12989.312258543656,null,21184.221072692333,1.19,null,4.6237000000000004,283436.86202581099,null,283543.90923551226,null,283543.90923551226,107.047209701268]
[null,null,null,null,0,null,null,null,null,null,0,null,null,null,0,0]
[null,null,null,null,0,null,null,null,null,null,0,null,null,null,0,0]
[null,null,null,null,0,null,null,null,null,null,0,null,null,null,0,0]
[]
["Total",null,null,null,null,null,null,null,null,null,{"$f":"SUM(K16:K24)","v":29824324.339008354},null,{"$f":"SUM(M16:M24)","v":29374852.987434555},{"$f":"SUM(N16:N24)","v":449268.08},{"$f":"M26+N26","v":29824121.067434553},{"$f":"O26-K26","v":-203.27157380059361}]
[]
["Note"]
[]
["1       The class specific revenue requirements in column N must be the amounts used in the final rate design process.  The total of column N should equate to the proposed base revenue requirement."]
[]
["2       Rates should be entered with the number of decimal places that will show on the Tariff of Rates and Charges."]

{"sheet":"App.2-W_Bill Impacts_Res","index":59,"n_rows":81,"n_cols":20,"rows_kept":81,"cut":false,"hidden":false,"merged":[[19,13,19,14],[13,3,13,14],[9,1,9,14],[10,1,10,14],[54,1,54,3],[20,3,21,3],[20,13,21,13],[20,14,21,14],[60,1,60,3],[61,1,61,3],[2,0,2,10],[19,5,19,7],[19,9,19,11],[55,1,55,3]]}
[null,null,null,null,null,null,null,null,null,null,null,null,null,"File Number:",{"$f":"EBNUMBER","v":"EB-2014-0096"},null,null,null,null,1]
[null,null,null,null,null,null,null,null,null,null,null,null,null,"Exhibit:",8]
[null,null,null,null,null,null,null,null,null,null,null,null,null,"Tab:",13]
[null,null,null,null,null,null,null,null,null,null,null,null,null,"Schedule:",1]
[null,null,null,null,null,null,null,null,null,null,null,null,null,"Page:",1]
[]
[null,null,null,null,null,null,null,null,null,null,null,null,null,"Date:","2014-08-29"]
[]
[]
[null,"Appendix 2-W"]
[null,"Bill Impacts"]
[]
[]
[null,"Customer Class:",null,"Residential"]
[]
[null,"TOU / non-TOU:",null,"TOU"]
[]
[null,null,null,"Consumption",null,800," kWh"]
[]
[null,null,null,null,null,"Current Board-Approved",null,null,null,"Proposed",null,null,null,"Impact"]
[null,null,null,"Charge Unit",null,"Rate","Volume","Charge",null,"Rate","Volume","Charge",null,"$ Change","% Change"]
[null,null,null,null,null,"($)",null,"($)",null,"($)",null,"($)"]
[null,"Monthly Service Charge",null,"Monthly",null,16.059999999999999,1,{"$f":"G23*F23","v":16.059999999999999},null,19.96,1,{"$f":"K23*J23","v":19.96},null,{"$f":"L23-H23","v":3.9000000000000021},{"$f":"IF((H23)=0,\"\",(N23/H23))","v":0.24283935242839369}]
[null,"Smart Meter Rate Adder",null,"Monthly",null,0.9,1,{"$f":"G24*F24","v":0.9},null,0,1,{"$f":"K24*J24","v":0},null,{"$f":"L24-H24","v":-0.9},{"$f":"IF((H24)=0,\"\",(N24/H24))","v":-1}]
[null,"Distribution Volumetric Rate",null,"per kWh",null,1.61E-2,800,12.879999999999999,null,1.52E-2,800,{"$f":"K25*J25","v":12.16},null,{"$f":"L25-H25","v":-0.71999999999999886},{"$f":"IF((H25)=0,\"\",(N25/H25))","v":-5.5900621118012341E-2}]
[null,"Rate Rider for Disposition of Residual Historical Smart Meter Costs",null,"Monthly",null,-0.04,1,-0.04,null,0,1,0,null,0.04,-1]
[null,"Disposition of Accounts 1575/1576",null,"per kWh",null,0,800,0,null,-3.0000000000000001E-3,800,-2.4,null,-2.4,""]
[null,"Disposition of Accounts 1575/1576",null,"per kWh",null,0,800,0,null,0,800,0,null,0,""]
[null,"Stranded meter recovery ",null,"Monthly",null,0,1,0,null,0.89290000000000003,1,0.89290000000000003,null,0.89290000000000003,""]
[null,"Sub-Total A (excluding pass through)",null,null,null,null,null,{"$f":"SUM(H23:H29)","v":29.799999999999997},null,null,null,{"$f":"SUM(L23:L29)","v":30.612900000000007},null,0.81290000000000973,2.7278523489933214E-2]
[null,"Deferral/Variance Account Disposition Rate Rider",null,"per kWh",null,-5.7000000000000002E-3,{"$f":"$F$18","v":800},{"$f":"G31*F31","v":-4.5600000000000005},null,-5.9999999999999995E-4,{"$f":"$F$18","v":800},{"$f":"K31*J31","v":-0.48},null,{"$f":"L31-H31","v":4.08},{"$f":"IF((H31)=0,\"\",(N31/H31))","v":-0.89473684210526305}]
[null,"Rate Rider for Deferral/Variance Account Disposition",null,"per kWh",null,0,{"$f":"$F$18","v":800},0,null,0,{"$f":"$F$18","v":800},0,null,0,""]
[null,"Rate Rider for Application of Tax Change",null,"per kWh",null,-1E-4,{"$f":"$F$18","v":800},-0.08,null,0,{"$f":"$F$18","v":800},0,null,0.08,-1]
[null,"Rate Rider for Application of Tax Change",null,"per kWh",null,0,{"$f":"$F$18","v":800},0,null,0,{"$f":"$F$18","v":800},0,null,0,""]
[null,"Low Voltage Service Charge",null,"per kWh",null,5.0000000000000001E-4,{"$f":"$F$18","v":800},0.4,null,5.0000000000000001E-4,{"$f":"$F$18","v":800},0.4,null,0,0]
[null,"Line Losses on Cost of Power",null,"per kWh",null,9.2460000000000001E-2,{"$f":"$F$18*(1+$F$65)-$F$18","v":44.800000000000068},4.1422080000000063,null,9.2460000000000001E-2,{"$f":"$F$18*(1+$J$65)-$F$18","v":38.339257175146145},3.5448477184140126,null,-0.59736028158599375,-0.14421300948334628]
[null,"Smart Meter Entity Charge",null,"Monthly",null,0.79,1,0.79,null,0.79,1,0.79,null,0]
[null,"Sub-Total B - Distribution (includes Sub-Total A)",null,null,null,null,null,{"$f":"SUM(H31:H37)+H30","v":30.492208000000005},null,null,null,{"$f":"SUM(L31:L37)+L30","v":34.867747718414023},null,{"$f":"L38-H38","v":4.3755397184140179},{"$f":"IF((H38)=0,\"\",(N38/H38))","v":0.14349697858593963}]
[null,"RTSR - Network",null,"per kWh",null,7.3000000000000001E-3,{"$f":"F18*(1+F65)","v":844.80000000000007},{"$f":"G39*F39","v":6.167040000000001},null,7.6E-3,{"$f":"F18*(1+J65)","v":838.33925717514614},{"$f":"K39*J39","v":6.3713783545311111},null,0.20433835453111016,3.3133943436577371E-2]
[null,"RTSR - Line and Transformation Connection",null,"per kWh",null,5.0000000000000001E-3,{"$f":"G39","v":844.80000000000007},{"$f":"G40*F40","v":4.2240000000000002},null,5.1999999999999998E-3,{"$f":"K39","v":838.33925717514614},{"$f":"K40*J40","v":4.3593641373107594},null,0.13536413731075925,3.2046434022433533E-2]
[null,"Sub-Total C - Delivery (including Sub-Total B)",null,null,null,null,null,{"$f":"SUM(H38:H40)","v":40.883248000000009},null,null,null,{"$f":"SUM(L38:L40)","v":45.598490210255889},null,4.7152422102558802,0.11533433474404674]
[null,"Wholesale Market Service Charge (WMSC)",null,"per kWh",null,4.4000000000000003E-3,{"$f":"G40","v":844.80000000000007},{"$f":"G42*F42","v":3.7171200000000004},null,4.4000000000000003E-3,{"$f":"K40","v":838.33925717514614},{"$f":"K42*J42","v":3.6886927315706433},null,-2.8427268429357166E-2,-7.647659593813803E-3]
[null,"Rural and Remote Rate Protection (RRRP)",null,"per kWh",null,1.2999999999999999E-3,{"$f":"G40","v":844.80000000000007},1.0982400000000001,null,1.2999999999999999E-3,{"$f":"K40","v":838.33925717514614},1.0898410343276899,null,-8.3989656723102435E-3,-7.6476595938139592E-3]
[null,"Standard Supply Service Charge",null,null,null,0,1,0,null,0,1,0,null,0,""]
[null,"Debt Retirement Charge (DRC)",null,"per kWh",null,7.0000000000000001E-3,{"$f":"F18","v":800},5.6000000000000005,null,7.0000000000000001E-3,{"$f":"F18","v":800},5.6000000000000005,null,0,0]
[null,"TOU - Off Peak",null,null,null,7.4999999999999997E-2,{"$f":"0.64*$F$18","v":512},38.4,null,7.4999999999999997E-2,{"$f":"G46","v":512},38.4,null,0,0]
[null,"TOU - Mid Peak",null,null,null,0.112,{"$f":"0.18*$F$18","v":144},16.128,null,0.112,{"$f":"G47","v":144},16.128,null,0,0]
[null,"TOU - On Peak",null,null,null,0.13500000000000001,{"$f":"0.18*$F$18","v":144},19.440000000000001,null,0.13500000000000001,{"$f":"G48","v":144},19.440000000000001,null,0,0]
[null,"Energy - RPP - Tier 1",null,null,null,8.5999999999999993E-2,{"$f":"IF(AND($T$1=1, F18>=600), 600, IF(AND($T$1=1, AND(F18<600, F18>=0)), F18, IF(AND($T$1=2, F18>=1000), 1000, IF(AND($T$1=2, AND(F18<1000, F18>=0)), F18))))","v":600},{"$f":"G49*F49","v":51.599999999999994},null,8.5999999999999993E-2,{"$f":"G49","v":600},{"$f":"K49*J49","v":51.599999999999994},null,0,0]
[null,"Energy - RPP - Tier 2",null,null,null,0.10100000000000001,{"$f":"IF(AND($T$1=1, F18>=600), F18-600, IF(AND($T$1=1, AND(F18<600, F18>=0)), 0, IF(AND($T$1=2, F18>=1000), F18-1000, IF(AND($T$1=2, AND(F18<1000, F18>=0)), 0))))","v":200},{"$f":"G50*F50","v":20.200000000000003},null,0.10100000000000001,{"$f":"G50","v":200},{"$f":"K50*J50","v":20.200000000000003},null,0,0]
[]
[null,"Total Bill on TOU (before Taxes)",null,null,null,null,null,{"$f":"SUM(H42:H48,H41)","v":125.26660800000001},null,null,null,{"$f":"SUM(L42:L48,L41)","v":129.94502397615423},null,{"$f":"L52-H52","v":4.678415976154227},{"$f":"IF((H52)=0,\"\",(N52/H52))","v":3.7347670307750547E-2}]
[null,"HST",null,null,null,0.13,null,{"$f":"H52*F53","v":16.284659040000001},null,0.13,null,{"$f":"L52*J53","v":16.892853116900049},null,0.60819407690004823,3.7347670307750463E-2]
[null,"Total Bill (including HST)",null,null,null,null,null,{"$f":"H52+H53","v":141.55126704},null,null,null,{"$f":"L52+L53","v":146.83787709305429},null,5.2866100530542894,3.7347670307750637E-2]
[null,"Ontario Clean Energy Benefit 1",null,null,null,null,null,{"$f":"ROUND(-H54*10%,2)","v":-14.16},null,null,null,{"$f":"ROUND(-L54*10%,2)","v":-14.68},null,-0.51999999999999957,3.6723163841807877E-2]
[null,"Total Bill on TOU (including OCEB)",null,null,null,null,null,{"$f":"H54+H55","v":127.39126704},null,null,null,{"$f":"L54+L55","v":132.15787709305428},null,4.7666100530542792,3.7417086459761766E-2]
[]
[null,"Total Bill on RPP (before Taxes)",null,null,null,null,null,{"$f":"SUM(H49:H50,H41,H42:H45)","v":123.098608},null,null,null,{"$f":"SUM(L49:L50,L41,L42:L45)","v":127.77702397615421},null,{"$f":"L58-H58","v":4.6784159761542128},{"$f":"IF((H58)=0,\"\",(N58/H58))","v":3.8005433628901901E-2}]
[null,"HST",null,null,null,0.13,null,{"$f":"H58*F59","v":16.002819040000002},null,0.13,null,{"$f":"L58*J59","v":16.611013116900047},null,{"$f":"L59-H59","v":0.60819407690004468},{"$f":"IF((H59)=0,\"\",(N59/H59))","v":3.8005433628901714E-2}]
[null,"Total Bill (including HST)",null,null,null,null,null,{"$f":"H58+H59","v":139.10142704},null,null,null,{"$f":"L58+L59","v":144.38803709305427},null,{"$f":"L60-H60","v":5.286610053054261},{"$f":"IF((H60)=0,\"\",(N60/H60))","v":3.8005433628901908E-2}]
[null,"Ontario Clean Energy Benefit 1",null,null,null,null,null,{"$f":"ROUND(-H60*10%,2)","v":-13.91},null,null,null,{"$f":"ROUND(-L60*10%,2)","v":-14.44},null,{"$f":"L61-H61","v":-0.52999999999999936},{"$f":"IF((H61)=0,\"\",(N61/H61))","v":3.8102084831056746E-2}]
[null,"Total Bill on RPP (including OCEB)",null,null,null,null,null,{"$f":"SUM(H60:H61)","v":125.19142704000001},null,null,null,{"$f":"SUM(L60:L61)","v":129.94803709305427},null,{"$f":"L62-H62","v":4.7566100530542599},{"$f":"IF((H62)=0,\"\",(N62/H62))","v":3.799469472885289E-2}]
[]
[]
[null,"Loss Factor (%)",null,null,null,5.600000000000005E-2,null,null,null,4.7924071468932627E-2]
[]
["1 Applicable to eligible customers only.  Refer to the Ontario Clean Energy Benefit Act, 2010."]
[]
["Note that the \"Charge $\" columns provide breakdowns of the amounts that each bill component contributes to the total monthly bill at the referenced "]
["consumption level at existing and proposed rates."]
[]
["Applicants must provide bill impacts for residential at 800 kWh and GS<50kW at 2000 kWh. In addition, their filing must cover the range that is relevant"]
["to their service territory, class by class. A general guideline of consumption levels follows:"]
[]
["Residential (kWh) - 100, 250, 500, 800, 1000, 1500, 2000"]
["GS<50kW (kWh) - 1000, 2000, 5000, 10000, 15000"]
["GS>50kW (kW) - 60, 100, 500, 1000"]
["Large User - range appropriate for utility"]
["Lighting Classes and USL - 150 kWh and 1 kW, range appropriate for utility."]
[]
[null,"Note that cells with the highlighted color shown to the left indicate quantities that are loss adjusted."]

{"sheet":"App.2-W_Bill Impacts_GS<50","index":60,"n_rows":81,"n_cols":20,"rows_kept":81,"cut":false,"hidden":false,"merged":[[2,0,2,10],[9,1,9,14],[10,1,10,14],[13,3,13,14],[19,5,19,7],[19,9,19,11],[19,13,19,14],[61,1,61,3],[20,3,21,3],[20,13,21,13],[20,14,21,14],[54,1,54,3],[55,1,55,3],[60,1,60,3]]}
[null,null,null,null,null,null,null,null,null,null,null,null,null,"File Number:",{"$f":"EBNUMBER","v":"EB-2014-0096"},null,null,null,null,1]
[null,null,null,null,null,null,null,null,null,null,null,null,null,"Exhibit:",8]
[null,null,null,null,null,null,null,null,null,null,null,null,null,"Tab:",13]
[null,null,null,null,null,null,null,null,null,null,null,null,null,"Schedule:",1]
[null,null,null,null,null,null,null,null,null,null,null,null,null,"Page:",2]
[]
[null,null,null,null,null,null,null,null,null,null,null,null,null,"Date:","2014-08-29"]
[]
[]
[null,"Appendix 2-W"]
[null,"Bill Impacts"]
[]
[]
[null,"Customer Class:",null,"General Service < 50 kW"]
[]
[null,"TOU / non-TOU:",null,"TOU"]
[]
[null,null,null,"Consumption",null,2000," kWh"]
[]
[null,null,null,null,null,"Current Board-Approved",null,null,null,"Proposed",null,null,null,"Impact"]
[null,null,null,"Charge Unit",null,"Rate","Volume","Charge",null,"Rate","Volume","Charge",null,"$ Change","% Change"]
[null,null,null,null,null,"($)",null,"($)",null,"($)",null,"($)"]
[null,"Monthly Service Charge",null,"Monthly",null,37.79,1,{"$f":"G23*F23","v":37.79},null,46.39,1,{"$f":"K23*J23","v":46.39},null,{"$f":"L23-H23","v":8.6000000000000014},{"$f":"IF((H23)=0,\"\",(N23/H23))","v":0.2275734321249008}]
[null,"Smart Meter Rate Adder",null,"Monthly",null,1.53,1,{"$f":"G24*F24","v":1.53},null,0,1,{"$f":"K24*J24","v":0},null,{"$f":"L24-H24","v":-1.53},{"$f":"IF((H24)=0,\"\",(N24/H24))","v":-1}]
[null,"Distribution Volumetric Rate",null,"per kWh",null,1.38E-2,2000,27.599999999999998,null,1.11E-2,2000,{"$f":"K25*J25","v":22.2},null,{"$f":"L25-H25","v":-5.3999999999999986},{"$f":"IF((H25)=0,\"\",(N25/H25))","v":-0.19565217391304343}]
[null,"Rate Rider for Disposition of Residual Historical Smart Meter Costs",null,"Monthly",null,2.4900000000000002,1,2.4900000000000002,null,0,1,0,null,-2.4900000000000002,-1]
[null,"Disposition of Accounts 1575/1576",null,"per kWh",null,0,2000,0,null,-3.0000000000000001E-3,2000,-6,null,-6,""]
[null,"Disposition of Accounts 1575/1576",null,"per kWh",null,0,2000,0,null,0,2000,0,null,0,""]
[null,"Stranded meter recovery ",null,"Monthly",null,0,1,0,null,2.6137999999999999,1,2.6137999999999999,null,2.6137999999999999,""]
[null,"Sub-Total A (excluding pass through)",null,null,null,null,null,{"$f":"SUM(H23:H29)","v":69.41},null,null,null,{"$f":"SUM(L23:L29)","v":65.203800000000001},null,-4.2061999999999955,-6.0599337271286496E-2]
[null,"Rate Rider for Deferral/Variance Account Disposition",null,"per kWh",null,-5.7000000000000002E-3,{"$f":"$F$18","v":2000},{"$f":"G31*F31","v":-11.4},null,-1E-3,{"$f":"$F$18","v":2000},{"$f":"K31*J31","v":-2},null,9.4,-0.82456140350877194]
[null,"Rate Rider for Deferral/Variance Account Disposition",null,"per kWh",null,0,{"$f":"$F$18","v":2000},0,null,0,{"$f":"$F$18","v":2000},0,null,0,""]
[null,"Rate Rider for Application of Tax Change",null,"per kWh",null,-1E-4,{"$f":"$F$18","v":2000},-0.2,null,0,{"$f":"$F$18","v":2000},0,null,0.2,-1]
[null,"Rate Rider for Application of Tax Change",null,"per kWh",null,0,{"$f":"$F$18","v":2000},0,null,0,{"$f":"$F$18","v":2000},0,null,0,""]
[null,"Low Voltage Service Charge",null,"per kWh",null,4.0000000000000002E-4,{"$f":"$F$18","v":2000},0.8,null,4.0000000000000002E-4,{"$f":"$F$18","v":2000},0.8,null,0,0]
[null,"Line Losses on Cost of Power",null,"per kWh",null,9.2460000000000001E-2,{"$f":"$F$18*(1+$F$65)-$F$18","v":112},10.35552,null,9.2460000000000001E-2,{"$f":"$F$18*(1+$J$65)-$F$18","v":95.848142937865305},8.8621192960350257,null,-1.4934007039649746,-0.14421300948334556]
[null,"Smart Meter Entity Charge",null,"Monthly",null,0.79,1,0.79,null,0.79,1,0.79,null,0]
[null,"Sub-Total B - Distribution (includes Sub-Total A)",null,null,null,null,null,{"$f":"SUM(H31:H37)+H30","v":69.755520000000004},null,null,null,{"$f":"SUM(L31:L37)+L30","v":73.655919296035023},null,3.9003992960350189,{"$f":"IF((H38)=0,\"\",(N38/H38))","v":5.5915278045881082E-2}]
[null,"RTSR - Network",null,"per kWh",null,6.6E-3,{"$f":"F18*(1+F65)","v":2112},{"$f":"G39*F39","v":13.9392},null,6.8999999999999999E-3,{"$f":"F18*(1+J65)","v":2095.8481429378653},{"$f":"K39*J39","v":14.46135218627127},null,0.52215218627127058,3.7459264970103781E-2]
[null,"RTSR - Line and Transformation Connection",null,"per kWh",null,4.4000000000000003E-3,{"$f":"G39","v":2112},{"$f":"G40*F40","v":9.2927999999999997},null,4.5999999999999999E-3,{"$f":"K39","v":2095.8481429378653},{"$f":"K40*J40","v":9.6409014575141807},null,0.34810145751418098,3.7459264970103844E-2]
[null,"Sub-Total C - Delivery (including Sub-Total B)",null,null,null,null,null,{"$f":"SUM(H38:H40)","v":92.987520000000004},null,null,null,{"$f":"SUM(L38:L40)","v":97.758172939820469},null,4.7706529398204651,5.1304228135350474E-2]
[null,"Wholesale Market Service Charge (WMSC)",null,"per kWh",null,4.4000000000000003E-3,{"$f":"G40","v":2112},{"$f":"G42*F42","v":9.2927999999999997},null,4.4000000000000003E-3,{"$f":"K40","v":2095.8481429378653},{"$f":"K42*J42","v":9.2217318289266075},null,-7.106817107339225E-2,-7.6476595938137328E-3]
[null,"Rural and Remote Rate Protection (RRRP)",null,"per kWh",null,1.2999999999999999E-3,{"$f":"G40","v":2112},2.7456,null,1.2999999999999999E-3,{"$f":"K40","v":2095.8481429378653},2.7246025858192247,null,-2.0997414180775387E-2,-7.6476595938138794E-3]
[null,"Standard Supply Service Charge",null,null,null,0,1,0,null,0,1,0,null,0,""]
[null,"Debt Retirement Charge (DRC)",null,"per kWh",null,7.0000000000000001E-3,{"$f":"F18","v":2000},14,null,7.0000000000000001E-3,{"$f":"F18","v":2000},14,null,0,0]
[null,"TOU - Off Peak",null,null,null,7.4999999999999997E-2,{"$f":"0.64*$F$18","v":1280},96,null,7.4999999999999997E-2,{"$f":"G46","v":1280},96,null,0,0]
[null,"TOU - Mid Peak",null,null,null,0.112,{"$f":"0.18*$F$18","v":360},40.32,null,0.112,{"$f":"G47","v":360},40.32,null,0,0]
[null,"TOU - On Peak",null,null,null,0.13500000000000001,{"$f":"0.18*$F$18","v":360},48.6,null,0.13500000000000001,{"$f":"G48","v":360},48.6,null,0,0]
[null,"Energy - RPP - Tier 1",null,null,null,8.5999999999999993E-2,{"$f":"IF(2000>=750,750,2000)","v":750},{"$f":"G49*F49","v":64.5},null,8.5999999999999993E-2,{"$f":"G49","v":750},{"$f":"K49*J49","v":64.5},null,0,0]
[null,"Energy - RPP - Tier 2",null,null,null,0.10100000000000001,{"$f":"IF(2000>=750,2000-750,0)","v":1250},{"$f":"G50*F50","v":126.25000000000001},null,0.10100000000000001,{"$f":"G50","v":1250},{"$f":"K50*J50","v":126.25000000000001},null,0,0]
[]
[null,"Total Bill on TOU (before Taxes)",null,null,null,null,null,{"$f":"SUM(H42:H48,H41)","v":303.94592},null,null,null,{"$f":"SUM(L42:L48,L41)","v":308.62450735456628},null,{"$f":"L52-H52","v":4.6785873545662753},{"$f":"IF((H52)=0,\"\",(N52/H52))","v":1.5392828285262969E-2}]
[null,"HST",null,null,null,0.13,null,{"$f":"H52*F53","v":39.512969599999998},null,0.13,null,{"$f":"L52*J53","v":40.121185956093619},null,0.6082163560936209,1.5392828285263099E-2]
[null,"Total Bill (including HST)",null,null,null,null,null,{"$f":"H52+H53","v":343.45888960000002},null,null,null,{"$f":"L52+L53","v":348.74569331065987},null,5.2868037106598536,1.5392828285262857E-2]
[null,"Ontario Clean Energy Benefit 1",null,null,null,null,null,{"$f":"ROUND(-H54*10%,2)","v":-34.35},null,null,null,{"$f":"ROUND(-L54*10%,2)","v":-34.869999999999997},null,-0.51999999999999602,1.5138282387190567E-2]
[null,"Total Bill on TOU (including OCEB)",null,null,null,null,null,{"$f":"H54+H55","v":309.1088896},null,null,null,{"$f":"L54+L55","v":313.87569331065987},null,4.7668037106598717,1.5421114924350179E-2]
[]
[null,"Total Bill on RPP (before Taxes)",null,null,null,null,null,{"$f":"SUM(H49:H50,H41,H42:H45)","v":309.77592000000004},null,null,null,{"$f":"SUM(L49:L50,L41,L42:L45)","v":314.45450735456637},null,{"$f":"L58-H58","v":4.6785873545663321},{"$f":"IF((H58)=0,\"\",(N58/H58))","v":1.5103134402978551E-2}]
[null,"HST",null,null,null,0.13,null,{"$f":"H58*F59","v":40.270869600000005},null,0.13,null,{"$f":"L58*J59","v":40.879085956093633},null,{"$f":"L59-H59","v":0.60821635609362801},{"$f":"IF((H59)=0,\"\",(N59/H59))","v":1.5103134402978672E-2}]
[null,"Total Bill (including HST)",null,null,null,null,null,{"$f":"H58+H59","v":350.04678960000007},null,null,null,{"$f":"L58+L59","v":355.33359331066004},null,{"$f":"L60-H60","v":5.2868037106599672},{"$f":"IF((H60)=0,\"\",(N60/H60))","v":1.5103134402978585E-2}]
[null,"Ontario Clean Energy Benefit 1",null,null,null,null,null,{"$f":"ROUND(-H60*10%,2)","v":-35},null,null,null,{"$f":"ROUND(-L60*10%,2)","v":-35.53},null,{"$f":"L61-H61","v":-0.53000000000000114},{"$f":"IF((H61)=0,\"\",(N61/H61))","v":1.5142857142857175E-2}]
[null,"Total Bill on RPP (including OCEB)",null,null,null,null,null,{"$f":"SUM(H60:H61)","v":315.04678960000007},null,null,null,{"$f":"SUM(L60:L61)","v":319.80359331066006},null,{"$f":"L62-H62","v":4.7568037106599945},{"$f":"IF((H62)=0,\"\",(N62/H62))","v":1.5098721420711768E-2}]
[]
[]
[null,"Loss Factor (%)",null,null,null,5.600000000000005E-2,null,null,null,4.7924071468932627E-2]
[]
["1 Applicable to eligible customers only.  Refer to the Ontario Clean Energy Benefit Act, 2010."]
[]
["Note that the \"Charge $\" columns provide breakdowns of the amounts that each bill component contributes to the total monthly bill at the referenced "]
["consumption level at existing and proposed rates."]
[]
["Applicants must provide bill impacts for residential at 800 kWh and GS<50kW at 2000 kWh. In addition, their filing must cover the range that is relevant"]
["to their service territory, class by class. A general guideline of consumption levels follows:"]
[]
["Residential (kWh) - 100, 250, 500, 800, 1000, 1500, 2000"]
["GS<50kW (kWh) - 1000, 2000, 5000, 10000, 15000"]
["GS>50kW (kW) - 60, 100, 500, 1000"]
["Large User - range appropriate for utility"]
["Lighting Classes and USL - 150 kWh and 1 kW, range appropriate for utility."]
[]
[null,"Note that cells with the highlighted color shown to the left indicate quantities that are loss adjusted."]

{"sheet":"App.2-W_Bill Impacts_GS>50","index":61,"n_rows":80,"n_cols":20,"rows_kept":80,"cut":false,"hidden":false,"merged":[[2,0,2,10],[9,1,9,14],[10,1,10,14],[13,3,13,14],[19,5,19,7],[19,9,19,11],[19,13,19,14],[60,1,60,3],[20,3,21,3],[20,13,21,13],[20,14,21,14],[53,1,53,3],[54,1,54,3],[59,1,59,3]]}
[null,null,null,null,null,null,null,null,null,null,null,null,null,"File Number:",{"$f":"EBNUMBER","v":"EB-2014-0096"},null,null,null,null,1]
[null,null,null,null,null,null,null,null,null,null,null,null,null,"Exhibit:",8]
[null,null,null,null,null,null,null,null,null,null,null,null,null,"Tab:",13]
[null,null,null,null,null,null,null,null,null,null,null,null,null,"Schedule:",1]
[null,null,null,null,null,null,null,null,null,null,null,null,null,"Page:",3]
[]
[null,null,null,null,null,null,null,null,null,null,null,null,null,"Date:","2014-08-29"]
[]
[]
[null,"Appendix 2-W"]
[null,"Bill Impacts"]
[]
[]
[null,"Customer Class:",null,"General Service > 50"]
[]
[null,"TOU / non-TOU:",null,"non-TOU"]
[]
[null,null,null,"Consumption",null,65000," kWh"]
[]
[null,null,null,null,null,"Current Board-Approved",null,null,null,"Proposed",null,null,null,"Impact"]
[null,null,null,"Charge Unit",null,"Rate","Volume","Charge",null,"Rate","Volume","Charge",null,"$ Change","% Change"]
[null,null,null,null,null,"($)",null,"($)",null,"($)",null,"($)"]
[null,"Monthly Service Charge",null,"Monthly",null,179.58,1,{"$f":"G23*F23","v":179.58},null,159.22,1,{"$f":"K23*J23","v":159.22},null,{"$f":"L23-H23","v":-20.360000000000014},{"$f":"IF((H23)=0,\"\",(N23/H23))","v":-0.11337565430448832}]
[null,"Smart Meter Rate Adder",null,"Monthly",null,0,1,{"$f":"G24*F24","v":0},null,0,1,{"$f":"K24*J24","v":0},null,{"$f":"L24-H24","v":0},{"$f":"IF((H24)=0,\"\",(N24/H24))","v":""}]
[null,"Distribution Volumetric Rate",null,"per kW",null,4.24,180,763.2,null,3.7887,180,681.96600000000001,null,-81.234000000000037,-0.10643867924528307]
[null,"Rate Rider for Disposition of Residual Historical Smart Meter Costs",null,"Monthly",null,0,1,0,null,0,1,0,null,0,""]
[null,"Disposition of Accounts 1575/1576",null,"per kW",null,0,65000,0,null,0,65000,{"$f":"K27*J27","v":0},null,{"$f":"L27-H27","v":0},{"$f":"IF((H27)=0,\"\",(N27/H27))","v":""}]
[null,"Disposition of Accounts 1575/1576",null,"per kW",null,0,180,0,null,-1.1383000000000001,180,{"$f":"K28*J28","v":-204.89400000000001},null,{"$f":"L28-H28","v":-204.89400000000001},{"$f":"IF((H28)=0,\"\",(N28/H28))","v":""}]
[null,"Stranded meter recovery ",null,"Monthly",null,0,1,0,null,0,1,{"$f":"K29*J29","v":0},null,{"$f":"L29-H29","v":0},{"$f":"IF((H29)=0,\"\",(N29/H29))","v":""}]
[null,"Sub-Total A (excluding pass through)",null,null,null,null,null,{"$f":"SUM(H23:H29)","v":942.78000000000009},null,null,null,{"$f":"SUM(L23:L29)","v":636.29200000000003},null,-306.48800000000006,-0.32508962854536588]
[null,"Rate Rider for Deferral/Variance Account Disposition",null,"per kW",null,0,65000,{"$f":"G31*F31","v":0},null,0,65000,{"$f":"K31*J31","v":0},null,0,""]
[null,"Rate Rider for Deferral/Variance Account Disposition",null,"per kW",null,-1.9525999999999999,180,-351.46799999999996,null,-0.43880000000000002,180,-78.984000000000009,null,272.48399999999992,-0.7752739936494929]
[null,"Rate Rider for Application of Tax Change",null,"per kWh",null,0,65000,0,null,0,65000,0,null,0,""]
[null,"Rate Rider for Application of Tax Change",null,"per kW",null,-1.78E-2,180,-3.2040000000000002,null,0,180,0,null,3.2040000000000002,-1]
[null,"Low Voltage Service Charge",null,"per kW",null,0.15920000000000001,180,28.656000000000002,null,0.1643,180,29.574000000000002,null,0.91799999999999926,3.2035175879396957E-2]
[null,"Line Losses on Cost of Power",null,"per kWh",null,9.2499999999999999E-2,{"$f":"$F$18*(1+$F$64)-$F$18","v":3640},336.7,null,9.2460000000000001E-2,{"$f":"$F$18*(1+$J$64)-$F$18","v":3115.0646454806265},288.0188771211387,null,-48.681122878861288,-0.14458307953329758]
[null,"Sub-Total B - Distribution (includes Sub-Total A)",null,null,null,null,null,{"$f":"SUM(H31:H36)+H30","v":953.46400000000017},null,null,null,{"$f":"SUM(L31:L36)+L30","v":874.90087712113871},null,-78.563122878861464,{"$f":"IF((H37)=0,\"\",(N37/H37))","v":-8.2397576498810077E-2}]
[null,"RTSR - Network",null,"per kW",null,2.7218,190.08,{"$f":"G38*F38","v":517.35974399999998},null,2.8420999999999998,188.62633286440789,{"$f":"K38*J38","v":536.09490063393366},null,18.735156633933684,3.6213015896988082E-2]
[null,"RTSR - Line and Transformation Connection",null,"per kW",null,1.7466999999999999,190.08,{"$f":"G39*F39","v":332.01273600000002},null,1.8072999999999999,188.62633286440789,{"$f":"K39*J39","v":340.90437138584434},null,8.8916353858443244,2.6781006936566206E-2]
[null,"Sub-Total C - Delivery (including Sub-Total B)",null,null,null,null,null,{"$f":"SUM(H37:H39)","v":1802.8364800000004},null,null,null,{"$f":"SUM(L37:L39)","v":1751.9001491409167},null,-50.936330859083682,-2.8253439191048359E-2]
[null,"Wholesale Market Service Charge (WMSC)",null,"per kWh",null,4.4000000000000003E-3,68640,{"$f":"G41*F41","v":302.01600000000002},null,4.4000000000000003E-3,68115.064645480626,{"$f":"K41*J41","v":299.70628444011476},null,-2.3097155598852623,-7.6476595938137788E-3]
[null,"Rural and Remote Rate Protection (RRRP)",null,"per kWh",null,1.2999999999999999E-3,68640,89.231999999999999,null,1.2999999999999999E-3,{"$f":"K41","v":68115.064645480626},88.549584039124809,null,-0.68241596087518985,-7.6476595938137649E-3]
[null,"Standard Supply Service Charge",null,null,null,0,1,0,null,0,1,0,null,0,""]
[null,"Debt Retirement Charge (DRC)",null,"per kWh",null,7.0000000000000001E-3,65000,455,null,7.0000000000000001E-3,{"$f":"F18","v":65000},455,null,0,0]
[null,"TOU - Off Peak",null,null,null,7.4999999999999997E-2,41600,3120,null,7.4999999999999997E-2,{"$f":"G45","v":41600},3120,null,0,0]
[null,"TOU - Mid Peak",null,null,null,0.112,11700,1310.4000000000001,null,0.112,{"$f":"G46","v":11700},1310.4000000000001,null,0,0]
[null,"TOU - On Peak",null,null,null,0.13500000000000001,11700,1579.5,null,0.13500000000000001,{"$f":"G47","v":11700},1579.5,null,0,0]
[null,"Energy - RPP - Tier 1",null,null,null,8.5999999999999993E-2,750,{"$f":"G48*F48","v":64.5},null,8.5999999999999993E-2,{"$f":"G48","v":750},{"$f":"K48*J48","v":64.5},null,0,0]
[null,"Energy - RPP - Tier 2",null,null,null,0.10100000000000001,64250,{"$f":"G49*F49","v":6489.25},null,0.10100000000000001,{"$f":"G49","v":64250},{"$f":"K49*J49","v":6489.25},null,0,0]
[]
[null,"Total Bill on TOU (before Taxes)",null,null,null,null,null,{"$f":"SUM(H41:H47,H40)","v":8658.984480000001},null,null,null,{"$f":"SUM(L41:L47,L40)","v":8605.0560176201561},null,{"$f":"L51-H51","v":-53.928462379844859},{"$f":"IF((H51)=0,\"\",(N51/H51))","v":-6.2280354589392744E-3}]
[null,"HST",null,null,null,0.13,null,{"$f":"H51*F52","v":1125.6679824000003},null,0.13,null,{"$f":"L51*J52","v":1118.6572822906203},null,-7.0107001093799681,-6.228035458939395E-3]
[null,"Total Bill (including HST)",null,null,null,null,null,{"$f":"H51+H52","v":9784.6524624000012},null,null,null,{"$f":"L51+L52","v":9723.7132999107762},null,-60.939162489225055,-6.2280354589393117E-3]
[null,"Ontario Clean Energy Benefit 1",null,null,null,null,null,{"$f":"ROUND(-H53*10%,2)","v":-978.47},null,null,null,{"$f":"ROUND(-L53*10%,2)","v":-972.37},null,6.1000000000000227,-6.2342228172555343E-3]
[null,"Total Bill on TOU (including OCEB)",null,null,null,null,null,{"$f":"H53+H54","v":8806.1824624000019},null,null,null,{"$f":"L53+L54","v":8751.3432999107754},null,-54.83916248922651,-6.2273479709709376E-3]
[]
[null,"Total Bill on RPP (before Taxes)",null,null,null,null,null,{"$f":"SUM(H48:H49,H40,H41:H44)","v":9202.8344799999995},null,null,null,{"$f":"SUM(L48:L49,L40,L41:L44)","v":9148.9060176201565},null,{"$f":"L57-H57","v":-53.92846237984304},{"$f":"IF((H57)=0,\"\",(N57/H57))","v":-5.8599839535354806E-3}]
[null,"HST",null,null,null,0.13,null,{"$f":"H57*F58","v":1196.3684823999999},null,0.13,null,{"$f":"L57*J58","v":1189.3577822906204},null,{"$f":"L58-H58","v":-7.0107001093795134},{"$f":"IF((H58)=0,\"\",(N58/H58))","v":-5.859983953535413E-3}]
[null,"Total Bill (including HST)",null,null,null,null,null,{"$f":"H57+H58","v":10399.202962399999},null,null,null,{"$f":"L57+L58","v":10338.263799910777},null,{"$f":"L59-H59","v":-60.939162489221417},{"$f":"IF((H59)=0,\"\",(N59/H59))","v":-5.8599839535353644E-3}]
[null,"Ontario Clean Energy Benefit 1",null,null,null,null,null,{"$f":"ROUND(-H59*10%,2)","v":-1039.92},null,null,null,{"$f":"ROUND(-L59*10%,2)","v":-1033.83},null,{"$f":"L60-H60","v":6.0900000000001455},{"$f":"IF((H60)=0,\"\",(N60/H60))","v":-5.8562197092085402E-3}]
[null,"Total Bill on RPP (including OCEB)",null,null,null,null,null,{"$f":"SUM(H59:H60)","v":9359.2829623999987},null,null,null,{"$f":"SUM(L59:L60)","v":9304.4337999107775},null,{"$f":"L61-H61","v":-54.849162489221271},{"$f":"IF((H61)=0,\"\",(N61/H61))","v":-5.8604022027726275E-3}]
[]
[]
[null,"Loss Factor (%)",null,null,null,5.600000000000005E-2,null,null,null,4.7924071468932627E-2]
[]
["1 Applicable to eligible customers only.  Refer to the Ontario Clean Energy Benefit Act, 2010."]
[]
["Note that the \"Charge $\" columns provide breakdowns of the amounts that each bill component contributes to the total monthly bill at the referenced "]
["consumption level at existing and proposed rates."]
[]
["Applicants must provide bill impacts for residential at 800 kWh and GS<50kW at 2000 kWh. In addition, their filing must cover the range that is relevant"]
["to their service territory, class by class. A general guideline of consumption levels follows:"]
[]
["Residential (kWh) - 100, 250, 500, 800, 1000, 1500, 2000"]
["GS<50kW (kWh) - 1000, 2000, 5000, 10000, 15000"]
["GS>50kW (kW) - 60, 100, 500, 1000"]
["Large User - range appropriate for utility"]
["Lighting Classes and USL - 150 kWh and 1 kW, range appropriate for utility."]
[]
[null,"Note that cells with the highlighted color shown to the left indicate quantities that are loss adjusted."]

{"sheet":"App.2-W_Bill Impacts_USL","index":62,"n_rows":81,"n_cols":20,"rows_kept":81,"cut":false,"hidden":false,"merged":[[61,1,61,3],[20,3,21,3],[20,13,21,13],[20,14,21,14],[54,1,54,3],[55,1,55,3],[60,1,60,3],[2,0,2,10],[9,1,9,14],[10,1,10,14],[13,3,13,14],[19,5,19,7],[19,9,19,11],[19,13,19,14]]}
[null,null,null,null,null,null,null,null,null,null,null,null,null,"File Number:",{"$f":"EBNUMBER","v":"EB-2014-0096"},null,null,null,null,1]
[null,null,null,null,null,null,null,null,null,null,null,null,null,"Exhibit:",8]
[null,null,null,null,null,null,null,null,null,null,null,null,null,"Tab:",13]
[null,null,null,null,null,null,null,null,null,null,null,null,null,"Schedule:",1]
[null,null,null,null,null,null,null,null,null,null,null,null,null,"Page:",4]
[]
[null,null,null,null,null,null,null,null,null,null,null,null,null,"Date:","2014-08-29"]
[]
[]
[null,"Appendix 2-W"]
[null,"Bill Impacts"]
[]
[]
[null,"Customer Class:",null,"Unmetered Scattered Load"]
[]
[null,"TOU / non-TOU:",null,"non-TOU"]
[]
[null,null,null,"Consumption",null,250," kWh"]
[]
[null,null,null,null,null,"Current Board-Approved",null,null,null,"Proposed",null,null,null,"Impact"]
[null,null,null,"Charge Unit",null,"Rate","Volume","Charge",null,"Rate","Volume","Charge",null,"$ Change","% Change"]
[null,null,null,null,null,"($)",null,"($)",null,"($)",null,"($)"]
[null,"Monthly Service Charge",null,"Monthly",null,19.53,1,{"$f":"G23*F23","v":19.53},null,20.14,1,{"$f":"K23*J23","v":20.14},null,{"$f":"L23-H23","v":0.60999999999999943},{"$f":"IF((H23)=0,\"\",(N23/H23))","v":3.1233998975934429E-2}]
[null,"Smart Meter Rate Adder",null,"Monthly",null,0,1,{"$f":"G24*F24","v":0},null,0,1,{"$f":"K24*J24","v":0},null,{"$f":"L24-H24","v":0},{"$f":"IF((H24)=0,\"\",(N24/H24))","v":""}]
[null,"Distribution Volumetric Rate",null,"per kWh",null,1.37E-2,250,3.4250000000000003,null,1.41E-2,250,{"$f":"K25*J25","v":3.5249999999999999},null,{"$f":"L25-H25","v":9.9999999999999645E-2},{"$f":"IF((H25)=0,\"\",(N25/H25))","v":2.9197080291970698E-2}]
[null,"Rate Rider for Disposition of Residual Historical Smart Meter Costs",null,"Monthly",null,0,1,0,null,0,1,0,null,0,""]
[null,"Disposition of Accounts 1575/1576",null,"per kWh",null,0,{"$f":"$F$18","v":250},0,null,-3.0000000000000001E-3,{"$f":"$F$18","v":250},-0.75,null,-0.75,""]
[null,"Disposition of Accounts 1575/1576",null,"per kWh",null,0,250,0,null,0,{"$f":"$F$18","v":250},0,null,0,""]
[null,"Stranded meter recovery ",null,"Monthly",null,0,1,0,null,0,1,0,null,0,""]
[null,"Sub-Total A (excluding pass through)",null,null,null,null,null,{"$f":"SUM(H23:H29)","v":22.955000000000002},null,null,null,{"$f":"SUM(L23:L29)","v":22.914999999999999},null,-4.00000000000027E-2,-1.7425397516882028E-3]
[null,"Rate Rider for Deferral/Variance Account Disposition",null,"per kWh",null,-5.7000000000000002E-3,{"$f":"$F$18","v":250},{"$f":"G31*F31","v":-1.425},null,-2.9999999999999997E-4,{"$f":"$F$18","v":250},{"$f":"K31*J31","v":-7.4999999999999997E-2},null,1.35,-0.94736842105263164]
[null,"Rate Rider for Deferral/Variance Account Disposition",null,"per kWh",null,0,{"$f":"$F$18","v":250},0,null,0,{"$f":"$F$18","v":250},0,null,0,""]
[null,"Rate Rider for Application of Tax Change",null,null,null,-2.0000000000000001E-4,{"$f":"$F$18","v":250},-0.05,null,0,{"$f":"$F$18","v":250},0,null,0.05,-1]
[null,"Rate Rider for Application of Tax Change",null,null,null,0,{"$f":"$F$18","v":250},0,null,0,{"$f":"$F$18","v":250},0,null,0,""]
[null,"Low Voltage Service Charge",null,"per kWh",null,4.0000000000000002E-4,{"$f":"$F$18","v":250},0.1,null,4.0000000000000002E-4,{"$f":"$F$18","v":250},0.1,null,0,0]
[null,"Line Losses on Cost of Power",null,"per kWh",null,9.2499999999999999E-2,14,1.2949999999999999,null,9.2460000000000001E-2,11.981017867233163,1.1077649120043782,null,-0.18723508799562172,-0.14458307953329863]
[]
[null,"Sub-Total B - Distribution (includes Sub-Total A)",null,null,null,null,null,{"$f":"SUM(H31:H37)+H30","v":22.875},null,null,null,{"$f":"SUM(L31:L37)+L30","v":24.047764912004379},null,1.1727649120043786,{"$f":"IF((H38)=0,\"\",(N38/H38))","v":5.1268411453743327E-2}]
[null,"RTSR - Network",null,"per kWh",null,6.6E-3,264,{"$f":"G39*F39","v":1.7423999999999999},null,6.8999999999999999E-3,261.98101786723316,{"$f":"K39*J39","v":1.8076690232839088},null,6.5269023283908822E-2,3.7459264970103781E-2]
[null,"RTSR - Line and Transformation Connection",null,"per kWh",null,4.4000000000000003E-3,264,{"$f":"G40*F40","v":1.1616},null,4.5999999999999999E-3,261.98101786723316,{"$f":"K40*J40","v":1.2051126821892726},null,4.3512682189272622E-2,3.7459264970103844E-2]
[null,"Sub-Total C - Delivery (including Sub-Total B)",null,null,null,null,null,{"$f":"SUM(H38:H40)","v":25.779},null,null,null,{"$f":"SUM(L38:L40)","v":27.060546617477563},null,1.2815466174775629,4.9712813432544432E-2]
[null,"Wholesale Market Service Charge (WMSC)",null,"per kWh",null,4.4000000000000003E-3,{"$f":"G40","v":264},{"$f":"G42*F42","v":1.1616},null,4.4000000000000003E-3,{"$f":"K40","v":261.98101786723316},{"$f":"K42*J42","v":1.1527164786158259},null,-8.8835213841740313E-3,-7.6476595938137328E-3]
[null,"Rural and Remote Rate Protection (RRRP)",null,"per kWh",null,1.2999999999999999E-3,{"$f":"G40","v":264},0.34320000000000001,null,1.2999999999999999E-3,{"$f":"K40","v":261.98101786723316},0.34057532322740308,null,-2.6246767725969233E-3,-7.6476595938138794E-3]
[null,"Standard Supply Service Charge",null,null,null,0,1,0,null,0,1,0,null,0,""]
[null,"Debt Retirement Charge (DRC)",null,"per kWh",null,7.0000000000000001E-3,{"$f":"F18","v":250},1.75,null,7.0000000000000001E-3,{"$f":"F18","v":250},1.75,null,0,0]
[null,"TOU - Off Peak",null,null,null,7.4999999999999997E-2,{"$f":"0.64*$F$18","v":160},12,null,7.4999999999999997E-2,{"$f":"G46","v":160},12,null,0,0]
[null,"TOU - Mid Peak",null,null,null,0.112,{"$f":"0.18*$F$18","v":45},5.04,null,0.112,{"$f":"G47","v":45},5.04,null,0,0]
[null,"TOU - On Peak",null,null,null,0.13500000000000001,{"$f":"0.18*$F$18","v":45},6.0750000000000002,null,0.13500000000000001,{"$f":"G48","v":45},6.0750000000000002,null,0,0]
[null,"Energy - RPP - Tier 1",null,null,null,8.5999999999999993E-2,250,{"$f":"G49*F49","v":21.5},null,8.5999999999999993E-2,{"$f":"G49","v":250},{"$f":"K49*J49","v":21.5},null,0,0]
[null,"Energy - RPP - Tier 2",null,null,null,0.10100000000000001,0,{"$f":"G50*F50","v":0},null,0.10100000000000001,{"$f":"G50","v":0},{"$f":"K50*J50","v":0},null,0,""]
[]
[null,"Total Bill on TOU (before Taxes)",null,null,null,null,null,{"$f":"SUM(H42:H48,H41)","v":52.148799999999994},null,null,null,{"$f":"SUM(L42:L48,L41)","v":53.418838419320792},null,{"$f":"L52-H52","v":1.2700384193207981},{"$f":"IF((H52)=0,\"\",(N52/H52))","v":2.435412548938419E-2}]
[null,"HST",null,null,null,0.13,null,{"$f":"H52*F53","v":6.7793439999999991},null,0.13,null,{"$f":"L52*J53","v":6.9444489945117036},null,0.16510499451170446,2.4354125489384294E-2]
[null,"Total Bill (including HST)",null,null,null,null,null,{"$f":"H52+H53","v":58.928143999999996},null,null,null,{"$f":"L52+L53","v":60.363287413832495},null,1.435143413832499,2.4354125489384142E-2]
[null,"Ontario Clean Energy Benefit 1",null,null,null,null,null,{"$f":"ROUND(-H54*10%,2)","v":-5.89},null,null,null,{"$f":"ROUND(-L54*10%,2)","v":-6.04},null,-0.15000000000000036,2.5466893039049299E-2]
[null,"Total Bill on TOU (including OCEB)",null,null,null,null,null,{"$f":"H54+H55","v":53.038143999999996},null,null,null,{"$f":"L54+L55","v":54.323287413832496},null,1.2851434138325004,2.4230550258932525E-2]
[]
[null,"Total Bill on RPP (before Taxes)",null,null,null,null,null,{"$f":"SUM(H49:H50,H41,H42:H45)","v":50.533799999999999},null,null,null,{"$f":"SUM(L49:L50,L41,L42:L45)","v":51.80383841932079},null,{"$f":"L58-H58","v":1.270038419320791},{"$f":"IF((H58)=0,\"\",(N58/H58))","v":2.5132454304263502E-2}]
[null,"HST",null,null,null,0.13,null,{"$f":"H58*F59","v":6.569394},null,0.13,null,{"$f":"L58*J59","v":6.7344989945117026},null,{"$f":"L59-H59","v":0.16510499451170269},{"$f":"IF((H59)=0,\"\",(N59/H59))","v":2.5132454304263481E-2}]
[null,"Total Bill (including HST)",null,null,null,null,null,{"$f":"H58+H59","v":57.103194000000002},null,null,null,{"$f":"L58+L59","v":58.538337413832494},null,{"$f":"L60-H60","v":1.4351434138324919},{"$f":"IF((H60)=0,\"\",(N60/H60))","v":2.5132454304263467E-2}]
[null,"Ontario Clean Energy Benefit 1",null,null,null,null,null,{"$f":"ROUND(-H60*10%,2)","v":-5.71},null,null,null,{"$f":"ROUND(-L60*10%,2)","v":-5.85},null,{"$f":"L61-H61","v":-0.13999999999999968},{"$f":"IF((H61)=0,\"\",(N61/H61))","v":2.451838879159364E-2}]
[null,"Total Bill on RPP (including OCEB)",null,null,null,null,null,{"$f":"SUM(H60:H61)","v":51.393194000000001},null,null,null,{"$f":"SUM(L60:L61)","v":52.688337413832492},null,{"$f":"L62-H62","v":1.2951434138324913},{"$f":"IF((H62)=0,\"\",(N62/H62))","v":2.5200679565323209E-2}]
[]
[]
[null,"Loss Factor (%)",null,null,null,5.600000000000005E-2,null,null,null,4.7924071468932627E-2]
[]
["1 Applicable to eligible customers only.  Refer to the Ontario Clean Energy Benefit Act, 2010."]
[]
["Note that the \"Charge $\" columns provide breakdowns of the amounts that each bill component contributes to the total monthly bill at the referenced "]
["consumption level at existing and proposed rates."]
[]
["Applicants must provide bill impacts for residential at 800 kWh and GS<50kW at 2000 kWh. In addition, their filing must cover the range that is relevant"]
["to their service territory, class by class. A general guideline of consumption levels follows:"]
[]
["Residential (kWh) - 100, 250, 500, 800, 1000, 1500, 2000"]
["GS<50kW (kWh) - 1000, 2000, 5000, 10000, 15000"]
["GS>50kW (kW) - 60, 100, 500, 1000"]
["Large User - range appropriate for utility"]
["Lighting Classes and USL - 150 kWh and 1 kW, range appropriate for utility."]
[]
[null,"Note that cells with the highlighted color shown to the left indicate quantities that are loss adjusted."]

{"sheet":"App.2-W_Bill Impacts_Sentinel","index":63,"n_rows":80,"n_cols":20,"rows_kept":80,"cut":false,"hidden":false,"merged":[[60,1,60,3],[20,3,21,3],[20,13,21,13],[20,14,21,14],[53,1,53,3],[54,1,54,3],[59,1,59,3],[2,0,2,10],[9,1,9,14],[10,1,10,14],[13,3,13,14],[19,5,19,7],[19,9,19,11],[19,13,19,14]]}
[null,null,null,null,null,null,null,null,null,null,null,null,null,"File Number:",{"$f":"EBNUMBER","v":"EB-2014-0096"},null,null,null,null,1]
[null,null,null,null,null,null,null,null,null,null,null,null,null,"Exhibit:",8]
[null,null,null,null,null,null,null,null,null,null,null,null,null,"Tab:",13]
[null,null,null,null,null,null,null,null,null,null,null,null,null,"Schedule:",1]
[null,null,null,null,null,null,null,null,null,null,null,null,null,"Page:",5]
[]
[null,null,null,null,null,null,null,null,null,null,null,null,null,"Date:","2014-08-29"]
[]
[]
[null,"Appendix 2-W"]
[null,"Bill Impacts"]
[]
[]
[null,"Customer Class:",null,"Sentinel Lighting"]
[]
[null,"TOU / non-TOU:",null,"non-TOU"]
[]
[null,null,null,"Consumption",null,44," kWh"]
[]
[null,null,null,null,null,"Current Board-Approved",null,null,null,"Proposed",null,null,null,"Impact"]
[null,null,null,"Charge Unit",null,"Rate","Volume","Charge",null,"Rate","Volume","Charge",null,"$ Change","% Change"]
[null,null,null,null,null,"($)",null,"($)",null,"($)",null,"($)"]
[null,"Monthly Service Charge",null,"Monthly",null,12.87,1,{"$f":"G23*F23","v":12.87},null,15.26,1,{"$f":"K23*J23","v":15.26},null,{"$f":"L23-H23","v":2.3900000000000006},{"$f":"IF((H23)=0,\"\",(N23/H23))","v":0.18570318570318575}]
[null,"Smart Meter Rate Adder",null,"Monthly",null,0,1,{"$f":"G24*F24","v":0},null,0,1,{"$f":"K24*J24","v":0},null,{"$f":"L24-H24","v":0},{"$f":"IF((H24)=0,\"\",(N24/H24))","v":""}]
[null,"Distribution Volumetric Rate",null,"per kW",null,16.055299999999999,0.12,1.9266359999999998,null,19.0381,0.12,2.2845719999999998,null,0.35793600000000003,0.18578288789371739]
[null,"Rate Rider for Disposition of Residual Historical Smart Meter Costs",null,"Monthly",null,0,1,0,null,0,1,0,null,0,""]
[null,"Disposition of Accounts 1575/1576",null,"per kWh",null,0,44,{"$f":"G27*F27","v":0},null,0,44,{"$f":"K27*J27","v":0},null,{"$f":"L27-H27","v":0},{"$f":"IF((H27)=0,\"\",(N27/H27))","v":""}]
[null,"Disposition of Accounts 1575/1576",null,"per kW",null,0,0.12,{"$f":"G28*F28","v":0},null,-1.1079000000000001,0.12,{"$f":"K28*J28","v":-0.13294800000000001},null,{"$f":"L28-H28","v":-0.13294800000000001},{"$f":"IF((H28)=0,\"\",(N28/H28))","v":""}]
[null,"Stranded meter recovery ",null,"Monthly",null,0,1,{"$f":"G29*F29","v":0},null,0,1,{"$f":"K29*J29","v":0},null,{"$f":"L29-H29","v":0},{"$f":"IF((H29)=0,\"\",(N29/H29))","v":""}]
[null,"Sub-Total A (excluding pass through)",null,null,null,null,null,{"$f":"SUM(H23:H29)","v":14.796635999999999},null,null,null,{"$f":"SUM(L23:L29)","v":17.411624},null,2.6149880000000003,0.17672854829976223]
[null,"Rate Rider for Deferral/Variance Account Disposition",null,"per kWh",null,0,44,{"$f":"G31*F31","v":0},null,0,44,{"$f":"K31*J31","v":0},null,0,""]
[null,"Rate Rider for Deferral/Variance Account Disposition",null,"per kW",null,-2.0979999999999999,0.12,-0.25175999999999998,null,1.8252999999999999,0.12,0.21903599999999998,null,0.47079599999999999,-1.8700190657769304]
[null,"Rate Rider for Deferral/Variance Account Disposition",null,"per kWh",null,0,44,0,null,0,44,0,null,0,""]
[null,"Rate Rider for Deferral/Variance Account Disposition",null,"per kW",null,-0.4168,0.12,-5.0015999999999998E-2,null,0,0.12,0,null,5.0015999999999998E-2,-1]
[null,"Low Voltage Service Charge",null,"per kW",null,0.13300000000000001,0.12,1.5960000000000002E-2,null,0.13719999999999999,0.12,1.6463999999999999E-2,null,5.0399999999999751E-4,3.1578947368420894E-2]
[null,"Line Losses on Cost of Power",null,"per kWh",null,9.2499999999999999E-2,2.4639999999999986,0.22791999999999987,null,9.2460000000000001E-2,2.1086591446330374,0.19496662451277064,null,-3.2953375487229236E-2,-0.14458307953329788]
[null,"Sub-Total B - Distribution (includes Sub-Total A)",null,null,null,null,null,{"$f":"SUM(H31:H36)+H30","v":14.73874},null,null,null,{"$f":"SUM(L31:L36)+L30","v":17.842090624512771},null,3.1033506245127711,{"$f":"IF((H37)=0,\"\",(N37/H37))","v":0.21055738987951284}]
[null,"RTSR - Network",null,"per kW",null,2.0152000000000001,0.12672,{"$f":"G38*F38","v":0.25536614400000002},null,2.1042999999999998,0.12575088857627192,{"$f":"K38*J38","v":0.26461759483104896},null,9.2514508310489463E-3,3.6228180784407135E-2]
[null,"RTSR - Line and Transformation Connection",null,"per kW",null,1.4595,0.12672,{"$f":"G39*F39","v":0.18494784},null,1.5101,0.12575088857627192,{"$f":"K39*J39","v":0.18989641683902822},null,4.9485768390282181E-3,2.6756607911875143E-2]
[null,"Sub-Total C - Delivery (including Sub-Total B)",null,null,null,null,null,{"$f":"SUM(H37:H39)","v":15.179053983999999},null,null,null,{"$f":"SUM(L37:L39)","v":18.296604636182845},null,3.117550652182846,0.20538504280102085]
[null,"Wholesale Market Service Charge (WMSC)",null,"per kWh",null,4.4000000000000003E-3,46.463999999999999,{"$f":"G41*F41","v":0.2044416},null,4.4000000000000003E-3,46.108659144633037,{"$f":"K41*J41","v":0.20287810023638539},null,-1.563499763614612E-3,-7.6476595938136461E-3]
[null,"Rural and Remote Rate Protection (RRRP)",null,"per kWh",null,1.2999999999999999E-3,46.463999999999999,6.0403199999999997E-2,null,1.2999999999999999E-3,46.108659144633037,5.9941256888022945E-2,null,-4.6194311197705201E-4,-7.6476595938137718E-3]
[null,"Standard Supply Service Charge",null,null,null,0,1,0,null,0,1,0,null,0,""]
[null,"Debt Retirement Charge (DRC)",null,"per kWh",null,7.0000000000000001E-3,44,0.308,null,7.0000000000000001E-3,44,0.308,null,0,0]
[null,"TOU - Off Peak",null,null,null,7.4999999999999997E-2,28.16,2.1120000000000001,null,7.4999999999999997E-2,28.16,2.1120000000000001,null,0,0]
[null,"TOU - Mid Peak",null,null,null,0.112,7.92,0.88704000000000005,null,0.112,7.92,0.88704000000000005,null,0,0]
[null,"TOU - On Peak",null,null,null,0.13500000000000001,7.92,1.0692000000000002,null,0.13500000000000001,7.92,1.0692000000000002,null,0,0]
[null,"Energy - RPP - Tier 1",null,null,null,8.5999999999999993E-2,44,{"$f":"G48*F48","v":3.7839999999999998},null,8.5999999999999993E-2,44,{"$f":"K48*J48","v":3.7839999999999998},null,0,0]
[null,"Energy - RPP - Tier 2",null,null,null,0.10100000000000001,0,{"$f":"G49*F49","v":0},null,0.10100000000000001,0,{"$f":"K49*J49","v":0},null,0,""]
[]
[null,"Total Bill on TOU (before Taxes)",null,null,null,null,null,{"$f":"SUM(H41:H47,H40)","v":19.820138784000001},null,null,null,{"$f":"SUM(L41:L47,L40)","v":22.935663993307255},null,{"$f":"L51-H51","v":3.1155252093072541},{"$f":"IF((H51)=0,\"\",(N51/H51))","v":0.157189878600764}]
[null,"HST",null,null,null,0.13,null,{"$f":"H51*F52","v":2.5766180419200002},null,0.13,null,{"$f":"L51*J52","v":2.9816363191299433},null,0.4050182772099431,0.157189878600764]
[null,"Total Bill (including HST)",null,null,null,null,null,{"$f":"H51+H52","v":22.396756825920001},null,null,null,{"$f":"L51+L52","v":25.917300312437199},null,3.5205434865171981,0.15718987860076403]
[null,"Ontario Clean Energy Benefit 1",null,null,null,null,null,{"$f":"ROUND(-H53*10%,2)","v":-2.2400000000000002},null,null,null,{"$f":"ROUND(-L53*10%,2)","v":-2.59},null,-0.34999999999999964,0.15624999999999983]
[null,"Total Bill on TOU (including OCEB)",null,null,null,null,null,{"$f":"H53+H54","v":20.156756825919999},null,null,null,{"$f":"L53+L54","v":23.327300312437199},null,3.1705434865172002,0.15729432635909618]
[]
[null,"Total Bill on RPP (before Taxes)",null,null,null,null,null,{"$f":"SUM(H48:H49,H40,H41:H44)","v":19.535898783999997},null,null,null,{"$f":"SUM(L48:L49,L40,L41:L44)","v":22.651423993307255},null,{"$f":"L57-H57","v":3.1155252093072576},{"$f":"IF((H57)=0,\"\",(N57/H57))","v":0.15947693237737745}]
[null,"HST",null,null,null,0.13,null,{"$f":"H57*F58","v":2.5396668419199995},null,0.13,null,{"$f":"L57*J58","v":2.944685119129943},null,{"$f":"L58-H58","v":0.40501827720994354},{"$f":"IF((H58)=0,\"\",(N58/H58))","v":0.15947693237737748}]
[null,"Total Bill (including HST)",null,null,null,null,null,{"$f":"H57+H58","v":22.075565625919996},null,null,null,{"$f":"L57+L58","v":25.596109112437198},null,{"$f":"L59-H59","v":3.5205434865172016},{"$f":"IF((H59)=0,\"\",(N59/H59))","v":0.15947693237737748}]
[null,"Ontario Clean Energy Benefit 1",null,null,null,null,null,{"$f":"ROUND(-H59*10%,2)","v":-2.21},null,null,null,{"$f":"ROUND(-L59*10%,2)","v":-2.56},null,{"$f":"L60-H60","v":-0.35000000000000009},{"$f":"IF((H60)=0,\"\",(N60/H60))","v":0.15837104072398195}]
[null,"Total Bill on RPP (including OCEB)",null,null,null,null,null,{"$f":"SUM(H59:H60)","v":19.865565625919995},null,null,null,{"$f":"SUM(L59:L60)","v":23.036109112437199},null,{"$f":"L61-H61","v":3.1705434865172037},{"$f":"IF((H61)=0,\"\",(N61/H61))","v":0.15959996036460061}]
[]
[]
[null,"Loss Factor (%)",null,null,null,5.600000000000005E-2,null,null,null,4.7924071468932627E-2]
[]
["1 Applicable to eligible customers only.  Refer to the Ontario Clean Energy Benefit Act, 2010."]
[]
["Note that the \"Charge $\" columns provide breakdowns of the amounts that each bill component contributes to the total monthly bill at the referenced "]
["consumption level at existing and proposed rates."]
[]
["Applicants must provide bill impacts for residential at 800 kWh and GS<50kW at 2000 kWh. In addition, their filing must cover the range that is relevant"]
["to their service territory, class by class. A general guideline of consumption levels follows:"]
[]
["Residential (kWh) - 100, 250, 500, 800, 1000, 1500, 2000"]
["GS<50kW (kWh) - 1000, 2000, 5000, 10000, 15000"]
["GS>50kW (kW) - 60, 100, 500, 1000"]
["Large User - range appropriate for utility"]
["Lighting Classes and USL - 150 kWh and 1 kW, range appropriate for utility."]
[]
[null,"Note that cells with the highlighted color shown to the left indicate quantities that are loss adjusted."]

{"sheet":"App.2-W_Bill Impacts_Streetligh","index":64,"n_rows":80,"n_cols":20,"rows_kept":80,"cut":false,"hidden":false,"merged":[[60,1,60,3],[20,3,21,3],[20,13,21,13],[20,14,21,14],[53,1,53,3],[54,1,54,3],[59,1,59,3],[2,0,2,10],[9,1,9,14],[10,1,10,14],[13,3,13,14],[19,5,19,7],[19,9,19,11],[19,13,19,14]]}
[null,null,null,null,null,null,null,null,null,null,null,null,null,"File Number:",{"$f":"EBNUMBER","v":"EB-2014-0096"},null,null,null,null,1]
[null,null,null,null,null,null,null,null,null,null,null,null,null,"Exhibit:",8]
[null,null,null,null,null,null,null,null,null,null,null,null,null,"Tab:",13]
[null,null,null,null,null,null,null,null,null,null,null,null,null,"Schedule:",1]
[null,null,null,null,null,null,null,null,null,null,null,null,null,"Page:",6]
[]
[null,null,null,null,null,null,null,null,null,null,null,null,null,"Date:","2014-08-29"]
[]
[]
[null,"Appendix 2-W"]
[null,"Bill Impacts"]
[]
[]
[null,"Customer Class:",null,"Street Lighting"]
[]
[null,"TOU / non-TOU:",null,"non-TOU"]
[]
[null,null,null,"Consumption",null,50," kWh"]
[]
[null,null,null,null,null,"Current Board-Approved",null,null,null,"Proposed",null,null,null,"Impact"]
[null,null,null,"Charge Unit",null,"Rate","Volume","Charge",null,"Rate","Volume","Charge",null,"$ Change","% Change"]
[null,null,null,null,null,"($)",null,"($)",null,"($)",null,"($)"]
[null,"Monthly Service Charge",null,"Monthly",null,1.1499999999999999,1,{"$f":"G23*F23","v":1.1499999999999999},null,1.19,1,{"$f":"K23*J23","v":1.19},null,{"$f":"L23-H23","v":4.0000000000000036E-2},{"$f":"IF((H23)=0,\"\",(N23/H23))","v":3.4782608695652209E-2}]
[null,"Smart Meter Rate Adder",null,"Monthly",null,0,1,{"$f":"G24*F24","v":0},null,0,1,{"$f":"K24*J24","v":0},null,{"$f":"L24-H24","v":0},{"$f":"IF((H24)=0,\"\",(N24/H24))","v":""}]
[null,"Distribution Volumetric Rate",null,"per kW",null,4.4657,0.13,0.58054099999999997,null,4.6237000000000004,0.13,0.60108100000000009,null,2.0540000000000114E-2,3.538079136529567E-2]
[null,"Rate Rider for Disposition of Residual Historical Smart Meter Costs",null,"Monthly",null,0,1,0,null,0,1,0,null,0,""]
[null,"Disposition of Accounts 1575/1576",null,"per kWh",null,0,50,{"$f":"G27*F27","v":0},null,0,50,{"$f":"K27*J27","v":0},null,{"$f":"L27-H27","v":0},{"$f":"IF((H27)=0,\"\",(N27/H27))","v":""}]
[null,"Disposition of Accounts 1575/1576",null,"per kW",null,0,0.13,{"$f":"G28*F28","v":0},null,-1.0545,0.13,{"$f":"K28*J28","v":-0.13708500000000001},null,{"$f":"L28-H28","v":-0.13708500000000001},{"$f":"IF((H28)=0,\"\",(N28/H28))","v":""}]
[null,"Stranded meter recovery ",null,"Monthly",null,0,1,{"$f":"G29*F29","v":0},null,0,1,{"$f":"K29*J29","v":0},null,{"$f":"L29-H29","v":0},{"$f":"IF((H29)=0,\"\",(N29/H29))","v":""}]
[null,"Sub-Total A (excluding pass through)",null,null,null,null,null,{"$f":"SUM(H23:H29)","v":1.7305409999999999},null,null,null,{"$f":"SUM(L23:L29)","v":1.6539960000000002},null,-7.6544999999999641E-2,-4.4231832704339072E-2]
[null,"Rate Rider for Deferral/Variance Account Disposition",null,"per kW",null,0,50,{"$f":"G31*F31","v":0},null,0,50,{"$f":"K31*J31","v":0},null,0,""]
[null,"Rate Rider for Deferral/Variance Account Disposition",null,"per kW",null,-2.1152000000000002,0.13,-0.27497600000000005,null,2.5764,0.13,0.33493200000000001,null,0.60990800000000012,-2.2180408472012103]
[null,"Rate Rider for Application of Tax Change",null,null,null,0,50,0,null,0,50,0,null,0,""]
[null,"Rate Rider for Application of Tax Change",null,null,null,-4.3900000000000002E-2,0.13,-5.7070000000000003E-3,null,0,0.13,0,null,5.7070000000000003E-3,-1]
[null,"Low Voltage Service Charge",null,"per kW",null,0.12230000000000001,0.13,1.5899E-2,null,0.12620000000000001,0.13,1.6406E-2,null,5.0700000000000051E-4,3.1888798037612458E-2]
[null,"Line Losses on Cost of Power",null,"per kWh",null,9.2499999999999999E-2,2.8000000000000043,0.2590000000000004,null,9.2460000000000001E-2,2.396203573446634,0.22155298240087579,null,-3.744701759912461E-2,-0.14458307953329944]
[null,"Sub-Total B - Distribution (includes Sub-Total A)",null,null,null,null,null,{"$f":"SUM(H31:H36)+H30","v":1.7247570000000003},null,null,null,{"$f":"SUM(L31:L36)+L30","v":2.2268869824008761},null,0.50212998240087581,{"$f":"IF((H37)=0,\"\",(N37/H37))","v":0.29113085634722791}]
[null,"RTSR - Network",null,"per kW",null,2.0575999999999999,0.13728000000000001,{"$f":"G38*F38","v":0.28246732800000002},null,2.1486000000000001,0.13623012929096123,{"$f":"K38*J38","v":0.29270405579455933},null,1.0236727794559308E-2,3.624039589654527E-2]
[null,"RTSR - Line and Transformation Connection",null,"per kW",null,1.3420000000000001,0.13728000000000001,{"$f":"G39*F39","v":0.18422976000000002},null,1.3885000000000001,0.13623012929096123,{"$f":"K39*J39","v":0.18915553452049969},null,4.925774520499665E-3,2.6737127163926525E-2]
[null,"Sub-Total C - Delivery (including Sub-Total B)",null,null,null,null,null,{"$f":"SUM(H37:H39)","v":2.1914540880000004},null,null,null,{"$f":"SUM(L37:L39)","v":2.7087465727159352},null,0.51729248471593481,0.2360498846626691]
[null,"Wholesale Market Service Charge (WMSC)",null,"per kWh",null,4.4000000000000003E-3,52.800000000000004,{"$f":"G41*F41","v":0.23232000000000003},null,4.4000000000000003E-3,52.396203573446634,{"$f":"K41*J41","v":0.2305432957231652},null,-1.7767042768348229E-3,-7.647659593813803E-3]
[null,"Rural and Remote Rate Protection (RRRP)",null,"per kWh",null,1.2999999999999999E-3,52.800000000000004,6.8640000000000007E-2,null,1.2999999999999999E-3,52.396203573446634,6.8115064645480616E-2,null,-5.2493535451939022E-4,-7.6476595938139592E-3]
[null,"Standard Supply Service Charge",null,null,null,0,1,0,null,0,1,0,null,0,""]
[null,"Debt Retirement Charge (DRC)",null,"per kWh",null,7.0000000000000001E-3,50,0.35000000000000003,null,7.0000000000000001E-3,50,0.35000000000000003,null,0,0]
[null,"TOU - Off Peak",null,null,null,7.4999999999999997E-2,32,2.4,null,7.4999999999999997E-2,32,2.4,null,0,0]
[null,"TOU - Mid Peak",null,null,null,0.112,9,1.008,null,0.112,9,1.008,null,0,0]
[null,"TOU - On Peak",null,null,null,0.13500000000000001,9,1.2150000000000001,null,0.13500000000000001,9,1.2150000000000001,null,0,0]
[null,"Energy - RPP - Tier 1",null,null,null,8.5999999999999993E-2,50,{"$f":"G48*F48","v":4.3},null,8.5999999999999993E-2,50,{"$f":"K48*J48","v":4.3},null,0,0]
[null,"Energy - RPP - Tier 2",null,null,null,0.10100000000000001,0,{"$f":"G49*F49","v":0},null,0.10100000000000001,0,{"$f":"K49*J49","v":0},null,0,""]
[]
[null,"Total Bill on TOU (before Taxes)",null,null,null,null,null,{"$f":"SUM(H41:H47,H40)","v":7.4654140880000002},null,null,null,{"$f":"SUM(L41:L47,L40)","v":7.9804049330845803},null,{"$f":"L51-H51","v":0.51499084508458015},{"$f":"IF((H51)=0,\"\",(N51/H51))","v":6.8983560592088641E-2}]
[null,"HST",null,null,null,0.13,null,{"$f":"H51*F52","v":0.97050383144000008},null,0.13,null,{"$f":"L51*J52","v":1.0374526413009955},null,6.6948809860995384E-2,6.89835605920886E-2]
[null,"Total Bill (including HST)",null,null,null,null,null,{"$f":"H51+H52","v":8.4359179194399996},null,null,null,{"$f":"L51+L52","v":9.0178575743855767},null,0.58193965494557709,6.8983560592088822E-2]
[null,"Ontario Clean Energy Benefit 1",null,null,null,null,null,{"$f":"ROUND(-H53*10%,2)","v":-0.84},null,null,null,{"$f":"ROUND(-L53*10%,2)","v":-0.9},null,-6.0000000000000053E-2,7.1428571428571494E-2]
[null,"Total Bill on TOU (including OCEB)",null,null,null,null,null,{"$f":"H53+H54","v":7.5959179194399997},null,null,null,{"$f":"L53+L54","v":8.1178575743855763},null,0.52193965494557659,6.8713177325125177E-2]
[]
[null,"Total Bill on RPP (before Taxes)",null,null,null,null,null,{"$f":"SUM(H48:H49,H40,H41:H44)","v":7.1424140879999998},null,null,null,{"$f":"SUM(L48:L49,L40,L41:L44)","v":7.6574049330845808},null,{"$f":"L57-H57","v":0.51499084508458104},{"$f":"IF((H57)=0,\"\",(N57/H57))","v":7.2103190705481407E-2}]
[null,"HST",null,null,null,0.13,null,{"$f":"H57*F58","v":0.92851383143999999},null,0.13,null,{"$f":"L57*J58","v":0.99546264130099549},null,{"$f":"L58-H58","v":6.6948809860995495E-2},{"$f":"IF((H58)=0,\"\",(N58/H58))","v":7.2103190705481365E-2}]
[null,"Total Bill (including HST)",null,null,null,null,null,{"$f":"H57+H58","v":8.070927919439999},null,null,null,{"$f":"L57+L58","v":8.6528675743855761},null,{"$f":"L59-H59","v":0.58193965494557709},{"$f":"IF((H59)=0,\"\",(N59/H59))","v":7.2103190705481476E-2}]
[null,"Ontario Clean Energy Benefit 1",null,null,null,null,null,{"$f":"ROUND(-H59*10%,2)","v":-0.81},null,null,null,{"$f":"ROUND(-L59*10%,2)","v":-0.87},null,{"$f":"L60-H60","v":-5.9999999999999942E-2},{"$f":"IF((H60)=0,\"\",(N60/H60))","v":7.4074074074074001E-2}]
[null,"Total Bill on RPP (including OCEB)",null,null,null,null,null,{"$f":"SUM(H59:H60)","v":7.2609279194399985},null,null,null,{"$f":"SUM(L59:L60)","v":7.782867574385576},null,{"$f":"L61-H61","v":0.52193965494557748},{"$f":"IF((H61)=0,\"\",(N61/H61))","v":7.1883326860767441E-2}]
[]
[]
[null,"Loss Factor (%)",null,null,null,5.600000000000005E-2,null,null,null,4.7924071468932627E-2]
[]
["1 Applicable to eligible customers only.  Refer to the Ontario Clean Energy Benefit Act, 2010."]
[]
["Note that the \"Charge $\" columns provide breakdowns of the amounts that each bill component contributes to the total monthly bill at the referenced "]
["consumption level at existing and proposed rates."]
[]
["Applicants must provide bill impacts for residential at 800 kWh and GS<50kW at 2000 kWh. In addition, their filing must cover the range that is relevant"]
["to their service territory, class by class. A general guideline of consumption levels follows:"]
[]
["Residential (kWh) - 100, 250, 500, 800, 1000, 1500, 2000"]
["GS<50kW (kWh) - 1000, 2000, 5000, 10000, 15000"]
["GS>50kW (kW) - 60, 100, 500, 1000"]
["Large User - range appropriate for utility"]
["Lighting Classes and USL - 150 kWh and 1 kW, range appropriate for utility."]
[]
[null,"Note that cells with the highlighted color shown to the left indicate quantities that are loss adjusted."]

{"sheet":"App.2-Y_MIFRS Summary Impacts","index":65,"n_rows":38,"n_cols":9,"rows_kept":38,"cut":false,"hidden":false,"merged":[[8,0,8,8],[9,0,9,8],[10,0,10,8],[14,0,16,2],[14,6,14,8],[15,6,15,8],[15,4,16,4],[17,0,17,2],[17,6,17,8],[18,0,18,2],[18,6,18,8],[19,0,19,2],[19,6,19,8],[20,0,20,2],[20,6,20,8],[21,0,21,2],[21,6,21,8],[22,0,22,2],[22,3,22,5],[22,6,22,8],[23,0,23,2],[23,6,23,8],[24,0,24,2],[24,6,24,8],[25,0,25,2],[25,6,25,8],[26,0,26,2],[26,6,26,8],[27,0,27,2],[27,6,27,8],[28,0,28,2],[28,6,28,8],[29,0,29,2],[29,6,29,8],[30,0,30,2],[30,6,30,8],[31,0,31,2],[31,6,31,8],[37,0,41,8],[32,0,32,2],[32,6,32,8],[33,0,33,2],[33,6,33,8],[34,0,34,2],[34,6,34,8]]}
[null,null,null,null,null,null,null,"File Number:",{"$f":"EBNUMBER","v":"EB-2014-0096"}]
[null,null,null,null,null,null,null,"Exhibit:"]
[null,null,null,null,null,null,null,"Tab:"]
[null,null,null,null,null,null,null,"Schedule:"]
[null,null,null,null,null,null,null,"Page:"]
[]
[null,null,null,null,null,null,null,"Date:"]
[]
["Appendix 2-Y"]
["Summary of Impacts to Revenue Requirement"]
["from Transition to MIFRS"]
[]
[]
[]
["Revenue Requirement Component",null,null,2015,2015,"Difference","Reasons why the revenue requirement "]
[null,null,null,"MIFRS","CGAAP without policy changes",null,"component is different under"]
[]
["Closing NBV 2014",null,null,null,null,{"$f":"+D18-E18","v":0}]
["Closing NBV 2015",null,null,null,null,{"$f":"+D19-E19","v":0}]
["Average NBV",null,null,{"$f":"(D18+D19)/2","v":0},{"$f":"(E18+E19)/2","v":0},{"$f":"(F18+F19)/2","v":0}]
["Working Capital",null,null,null,null,{"$f":"+D21-E21","v":0}]
["Rate Base",null,null,{"$f":"SUM(D20:D21)","v":0},{"$f":"SUM(E20:E21)","v":0},{"$f":"SUM(F20:F21)","v":0}]
[null,null,null,null,null,{"$f":"+D23-E23","v":0}]
["Return on Rate Base",null,null,null,null,0]
[null,null,null,null,null,0]
["OM&A",null,null,null,null,0]
["Depreciation",null,null,null,null,0]
["PILs or Income Taxes",null,null,null,null,0]
[null,null,null,null,null,0]
["Less: Revenue Offsets",null,null,null,null,0]
[null,null,null,null,null,0]
[null,null,null,null,null,0]
[null,null,null,null,null,0]
["Insert description of additional item(s) and new rows if needed.",null,null,null,null,0]
["Total Base Revenue Requirement",null,null,{"$f":"SUM(D24:D34)","v":0},{"$f":"SUM(E24:E34)","v":0},{"$f":"SUM(F24:F34)","v":0}]
[]
[]
["Applicants must provide a summary of the dollar impacts of MIFRS to each component of the revenue requirement (e.g. rate base, operating costs, etc.), including the overall impact on the proposed revenue requirement.  Accordingly, the applicants must identify financial differences and resulting revenue requirement impacts arising from the adoption of  MIFRS as compared to CGAAP prior to capitalization and depreciation policy changes.  Applicants should explain the financial differences and may separate the differences arising from changes in capitalization and depreciation policy versus the adoption of IFRS.    "]

{"sheet":"App. 2-Z_Tariff","index":66,"n_rows":494,"n_cols":4,"rows_kept":494,"cut":false,"hidden":false,"merged":[[184,0,184,3],[176,0,176,1],[185,0,185,3],[208,0,208,1],[158,0,158,1],[167,0,167,1],[168,0,168,1],[170,0,170,1],[147,0,147,1],[148,0,148,1],[202,0,202,1],[203,0,203,1],[204,0,204,1],[205,0,205,1],[206,0,206,1],[207,0,207,1],[201,0,201,1],[189,0,189,1],[192,0,192,1],[193,0,193,1],[194,0,194,1],[195,0,195,1],[82,0,82,1],[87,0,87,1],[88,0,88,1],[89,0,89,3],[91,0,91,3],[86,0,86,1],[248,0,248,1],[249,0,249,1],[250,0,250,1],[190,0,190,1],[191,0,191,1],[166,0,166,1],[210,0,210,1],[211,0,211,1],[212,0,212,1],[213,0,213,1],[214,0,214,1],[233,0,233,1],[174,0,174,1],[169,0,169,1],[177,0,177,3],[179,0,179,3],[182,0,182,3],[183,0,183,3],[133,0,133,1],[0,2,0,3],[9,0,9,3],[10,0,10,3],[12,0,12,1],[14,0,14,3],[18,0,18,3],[17,0,17,3],[6,2,6,3],[4,2,4,3],[75,0,75,1],[76,0,76,1],[77,0,77,1],[7,0,7,3],[44,0,44,3],[46,0,46,3],[49,0,49,3],[2,2,2,3],[50,0,50,3],[51,0,51,3],[96,0,96,3],[109,0,109,1],[110,0,110,1],[111,0,111,1],[1,2,1,3],[3,2,3,3],[19,0,19,3],[36,0,36,3],[37,0,37,3],[38,0,38,3],[40,0,40,3],[41,0,41,3],[42,0,42,3],[20,0,20,3],[21,0,21,3],[22,0,22,3],[23,0,23,3],[24,0,24,3],[118,0,118,1],[119,0,119,1],[197,0,197,1],[198,0,198,1],[199,0,199,1],[200,0,200,1],[120,0,120,1],[121,0,121,1],[149,0,149,1],[150,0,150,1],[151,0,151,1],[152,0,152,1],[153,0,153,1],[154,0,154,1],[122,0,122,1],[123,0,123,1],[124,0,124,1],[125,0,125,1],[126,0,126,1],[127,0,127,1],[155,0,155,1],[196,0,196,1],[131,0,131,1],[132,0,132,1],[52,0,52,3],[56,0,56,1],[80,0,80,1],[81,0,81,1],[68,0,68,1],[69,0,69,1],[70,0,70,1],[78,0,78,1],[79,0,79,1],[71,0,71,1],[72,0,72,1],[57,0,57,1],[58,0,58,1],[59,0,59,1],[73,0,73,1],[74,0,74,1],[61,0,61,1],[60,0,60,1],[62,0,62,1],[63,0,63,1],[64,0,64,1],[65,0,65,1],[66,0,66,1],[67,0,67,1],[106,0,106,1],[107,0,107,1],[108,0,108,1],[117,0,117,1],[94,0,94,3],[95,0,95,3],[112,0,112,1],[113,0,113,1],[114,0,114,1],[115,0,115,1],[116,0,116,1],[104,0,104,1],[105,0,105,1],[97,0,97,3],[101,0,101,1],[102,0,102,1],[103,0,103,1],[134,0,134,3],[136,0,136,3],[139,0,139,3],[140,0,140,3],[141,0,141,3],[142,0,142,3],[146,0,146,1],[165,0,165,1],[175,0,175,1],[156,0,156,1],[157,0,157,1],[159,0,159,1],[160,0,160,1],[161,0,161,1],[162,0,162,1],[163,0,163,1],[164,0,164,1],[236,0,236,1],[234,0,234,1],[235,0,235,1],[209,0,209,1],[221,0,221,3],[223,0,223,3],[226,0,226,3],[227,0,227,3],[228,0,228,3],[229,0,229,3],[218,0,218,1],[219,0,219,1],[220,0,220,1],[237,0,237,1],[238,0,238,1],[239,0,239,1],[253,0,253,1],[254,0,254,1],[255,0,255,1],[256,0,256,1],[257,0,257,1],[241,0,241,1],[242,0,242,1],[243,0,243,1],[244,0,244,1],[245,0,245,1],[240,0,240,1],[251,0,251,1],[252,0,252,1],[246,0,246,1],[247,0,247,1],[278,0,278,1],[279,0,279,1],[280,0,280,1],[281,0,281,1],[282,0,282,1],[283,0,283,1],[258,0,258,1],[265,0,265,3],[267,0,267,3],[270,0,270,3],[271,0,271,3],[272,0,272,3],[273,0,273,3],[277,0,277,1],[262,0,262,1],[263,0,263,1],[264,0,264,1],[284,0,284,1],[285,0,285,1],[286,0,286,1],[287,0,287,1],[288,0,288,1],[289,0,289,1],[290,0,290,1],[291,0,291,1],[292,0,292,1],[293,0,293,1],[294,0,294,1],[295,0,295,1],[296,0,296,1],[297,0,297,1],[298,0,298,1],[299,0,299,1],[300,0,300,1],[301,0,301,1],[302,0,302,1],[306,0,306,1],[307,0,307,1],[308,0,308,1],[309,0,309,3],[311,0,311,3],[314,0,314,3],[315,0,315,3],[316,0,316,3],[317,0,317,3],[321,0,321,1],[322,0,322,1],[323,0,323,1],[324,0,324,1],[325,0,325,1],[326,0,326,1],[327,0,327,1],[328,0,328,1],[329,0,329,1],[330,0,330,1],[331,0,331,1],[332,0,332,1],[333,0,333,1],[334,0,334,1],[335,0,335,1],[336,0,336,1],[337,0,337,1],[338,0,338,1],[339,0,339,1],[340,0,340,1],[341,0,341,1],[342,0,342,1],[343,0,343,1],[344,0,344,1],[345,0,345,1],[346,0,346,1],[347,0,347,1],[348,0,348,1],[349,0,349,1],[350,0,350,1],[355,0,355,1],[356,0,356,1],[357,0,357,1],[358,0,358,1],[364,0,364,3],[366,0,366,3],[366,4,366,7],[368,0,368,3],[368,4,368,7],[372,0,372,1],[373,0,373,1],[374,0,374,1],[375,0,375,1],[376,0,376,1],[377,0,377,1],[378,0,378,1],[379,0,379,1],[380,0,380,1],[381,0,381,1],[382,0,382,1],[383,0,383,1],[384,0,384,1],[385,0,385,1],[386,0,386,1],[387,0,387,1],[388,0,388,1],[389,0,389,1],[390,0,390,1],[391,0,391,1],[392,0,392,1],[393,0,393,1],[394,0,394,1],[395,0,395,1],[396,0,396,1],[397,0,397,1],[398,0,398,1],[399,0,399,1],[400,0,400,1],[401,0,401,1],[402,0,402,1],[403,0,403,1],[404,0,404,1],[405,0,405,1],[406,0,406,1],[410,0,410,1],[411,0,411,1],[412,0,412,1],[413,0,413,1],[414,0,414,1],[415,0,415,1],[416,0,416,1],[417,0,417,1],[418,0,418,1],[419,0,419,1],[420,0,420,1],[421,0,421,1],[422,0,422,1],[423,0,423,1],[424,0,424,1],[425,0,425,1],[426,0,426,1],[427,0,427,1],[428,0,428,1],[429,0,429,1],[430,0,430,1],[431,0,431,1],[432,0,432,1],[433,0,433,1],[434,0,434,1],[437,0,437,1],[438,0,438,1],[439,0,439,1],[440,0,440,1],[441,0,441,1],[442,0,442,1],[443,0,443,1],[444,0,444,1],[445,0,445,1],[446,0,446,1],[447,0,447,1],[448,0,448,1],[449,0,449,1],[450,0,450,1],[451,0,451,1],[452,0,452,1],[453,0,453,1],[454,0,454,1],[455,0,455,1],[456,0,456,1],[457,0,457,1],[461,0,461,3],[461,4,461,7],[462,0,462,3],[462,4,462,7],[463,0,463,3],[463,4,463,7],[464,0,464,3],[464,4,464,7],[465,0,465,3],[465,4,465,7],[466,0,466,3],[466,4,466,7],[467,0,467,3],[467,4,467,7],[468,0,468,3],[468,4,468,7],[469,0,469,3],[469,4,469,7],[471,0,471,1],[471,4,471,5],[472,0,472,1],[495,0,495,1],[482,0,482,1],[483,0,483,1],[487,0,487,3],[487,4,487,7],[494,0,494,1],[473,0,473,1],[474,0,474,1],[475,0,475,1],[476,0,476,1],[477,0,477,1],[478,0,478,1],[479,0,479,1],[480,0,480,1],[481,0,481,1]]}
[null,"File Number:",{"$f":"EBNUMBER","v":"EB-2014-0096"}]
[null,"Exhibit:",8]
[null,"Tab:",11]
[null,"Schedule:",1]
[null,"Attachment:",3]
[]
[null,"Date:","2014-08-29"]
["Appendix 2-Z\nProposed Tariff of Rates and Charges"]
[]
["For each class, Applicants are required to copy and paste the class descriptions (located directly under the class name) and the description of the applicability of those rates (description is found under the class name and directly under the word \"APPLICATION\").  By using the drop-down lists located under the column labeled \"Rate Description\", please select the descriptions of the rates and charges that BEST MATCHES the descriptions on your most recent Board-Approved Tariff of Rates and Charges.  If the description is not found in the drop-down list, please enter the description in the green shaded cells under the correct class exactly as it appears on the tariff.   Please do not enter more than one \"Service Charge\" for each class for which a base monthly fixed charge applies.  All rate rider descriptions should begin with \"Rate Rider for...\"."]
["Select the appropriate rate classes as they appear on your most recent Board-Approved Tariff of Rates and Charges, including the MicroFit Class."]
[]
["How many classes are listed on your most recent Board-Approved Tariff of Rates and Charges?",null,7]
[]
["Select Your Rate Classes from the Blue Cells below.  \nPlease ensure that a rate class is assigned to each shaded cell."]
[]
[]
["Rate Class Classification"]
["RESIDENTIAL"]
["GENERAL SERVICE LESS THAN 50 KW"]
["GENERAL SERVICE 50 TO 4,999 KW"]
["UNMETERED SCATTERED LOAD"]
["SENTINEL LIGHTING"]
["STREET LIGHTING"]
["microFIT"]
[]
[]
[]
[]
[]
[]
[]
[]
[]
["Once all blue shaded cells above are filled out, press the following button to create your tariff template"]
[]
[{"$f":"'LDC Info'!E14","v":"Niagara Peninsula Energy Inc."}]
["TARIFF OF RATES AND CHARGES"]
[{"$f":"\"Effective and Implementation Date May 1, 2014\"","v":"Effective and Implementation Date May 1, 2014"}]
[]
["This schedule supersedes and replaces all previously"]
["approved schedules of Rates, Charges and Loss Factors"]
[{"$f":"EBNUMBER","v":"EB-2014-0096"}]
[]
["RESIDENTIAL SERVICE CLASSIFICATION"]
[]
["This class pertains to customers residing in detached, semi-detached or duplex dwelling units, where energy is supplied single-phase, 3 wire, 60 hertz, having a nominal voltage of 120/240 volts.  Large residential services will include all services from 201 amp. up to and including 400 amp., 120/240 volt, single phase, three wire.  Further servicing details are available in the distributor's Conditions of Service."]
["APPLICATION"]
[]
["The application of these rates and charges shall be in accordance with the Licence of the Distributor and any Code or Order of the Board, and amendments thereto as approved by the Board, which may be applicable to the administration of this schedule."]
["No rates and charges for the distribution of electricity and charges to meet the costs of any work or service done or furnished for the purpose of the distribution of electricity shall be made except as permitted by this schedule, unless required by the Distributor's Licence or a Code or Order of the Board, and amendments thereto as approved by the Board, or as specified herein."]
["Unless specifically noted, this schedule does not contain any charges for the electricity commodity, be it under the Regulated Price Plan, a contract with a retailer or the wholesale market price, as applicable. In addition, the charges in the MONTHLY RATES AND CHARGES - Regulatory component of this schedule do not apply to a customer that is an embedded wholesale market participant."]
["It should be noted that this schedule does not list any charges, assessments or credits that are required by law to be invoiced by a distributor and that are not subject to Board approval, such as the Debt Retirement Charge, the Global Adjustment, the Ontario Clean Energy Benefit and the HST."]
[]
["MONTHLY RATES AND CHARGES - Delivery Component"]
[]
["Service Charge",null,"$",19.96]
["Smart Meter Entity Charge",null,"$",0.79]
["Rate Rider for Disposition of Stranded Meter Costs - effective until April 30, 2017",null,"$",0.89288481995107027]
["Distribution Volumetric Rate",null,"$/kWh",1.52E-2]
["Low Voltage Volumetric Rate",null,"$/kWh",5.0000000000000001E-4]
["Retail Transmission Rate - Network Service Rate",null,"$/kWh",7.622781870784843E-3]
["Retail Transmission Rate - Line and Transformation Connection Service Rate",null,"$/kWh",5.1733400209937972E-3]
[]
[]
[]
[]
[]
[]
[]
[]
[]
[]
[]
[]
[]
[]
[]
["Rate Rider for Deferral/Variance Account Disposition (2015) - effective until April 28, 2016",null,"$/kWh",-6.2694174867445902E-4]
["Rate Rider for Global Adjustment Sub-Account Disposition (2015) - effective until April 28, 2016 Applicable only for Non-RPP Customers",null,"$/kWh",2.3342519883378264E-3]
["Rate Rider for CGAAP Accounting Changes (2015) - effective until April 30, 2017",null,"$/kWh",-2.9875239532519342E-3]
[]
[]
[]
["MONTHLY RATES AND CHARGES - Regulatory Component"]
[]
["Wholesale Market Service Rate",null,"$/kWh",4.4000000000000003E-3]
["Rural Rate Protection Charge",null,"$/kWh",1.2999999999999999E-3]
["Standard Supply Service - Administrative Charge (if applicable)",null,"$",0.25]
["GENERAL SERVICE LESS THAN 50 KW SERVICE CLASSIFICATION"]
[]
["This class pertains to non-residential customers taking electricity at 750 volts or less whose monthly average peak demand is less than, or is forecast to be less than, 50 kW.  Further servicing details are available in the distributor's Conditions of Service."]
["APPLICATION"]
[]
["The application of these rates and charges shall be in accordance with the Licence of the Distributor and any Code or Order of the Board, and amendments thereto as approved by the Board, which may be applicable to the administration of this schedule."]
["No rates and charges for the distribution of electricity and charges to meet the costs of any work or service done or furnished for the purpose of the distribution of electricity shall be made except as permitted by this schedule, unless required by the Distributor's Licence or a Code or Order of the Board, and amendments thereto as approved by the Board, or as specified herein."]
["Unless specifically noted, this schedule does not contain any charges for the electricity commodity, be it under the Regulated Price Plan, a contract with a retailer or the wholesale market price, as applicable. In addition, the charges in the MONTHLY RATES AND CHARGES - Regulatory component of this schedule do not apply to a customer that is an embedded wholesale market participant."]
["It should be noted that this schedule does not list any charges, assessments or credits that are required by law to be invoiced by a distributor and that are not subject to Board approval, such as the Debt Retirement Charge, the Global Adjustment, the Ontario Clean Energy Benefit and the HST."]
[]
["MONTHLY RATES AND CHARGES - Delivery Component"]
[]
["Service Charge",null,"$",46.39]
["Smart Meter Entity Charge",null,"$",0.79]
["Rate Rider for Disposition of Stranded Meter Costs - effective until April 30, 2017",null,"$",2.6138103688871306]
["Distribution Volumetric Rate",null,"$/kWh",1.11E-2]
["Low Voltage Volumetric Rate",null,"$/kWh",4.0000000000000002E-4]
["Retail Transmission Rate - Network Service Rate",null,"$/kWh",6.8918301845452001E-3]
["Retail Transmission Rate - Line and Transformation Connection Service Rate",null,"$/kWh",4.5525392184745427E-3]
[]
[]
[]
[]
[]
[]
[]
[]
[]
[]
[]
[]
[]
[]
[]
["Rate Rider for Deferral/Variance Account Disposition (2015) - effective until April 28, 2016",null,"$/kWh",-9.9871622767102827E-4]
["Rate Rider for Global Adjustment Sub-Account Disposition (2015) - effective until April 28, 2016 Applicable only for Non-RPP Customers",null,"$/kWh",2.3342519883378259E-3]
["Rate Rider for CGAAP Accounting Changes (2015) - effective until April 30, 2017",null,"$/kWh",-2.9875239532519346E-3]
[]
[]
[]
["MONTHLY RATES AND CHARGES - Regulatory Component"]
[]
["Wholesale Market Service Rate",null,"$/kWh",4.4000000000000003E-3]
["Rural Rate Protection Charge",null,"$/kWh",1.2999999999999999E-3]
["Standard Supply Service - Administrative Charge (if applicable)",null,"$",0.25]
["GENERAL SERVICE 50 TO 4,999 KW SERVICE CLASSIFICATION"]
[]
["This classification referes to a non residential account whose monthly average peak demand is equal to or greater than, or is forecast to be equal to or greater than 50 kW but less than 5,000 kW.  Further servicing details are available in the distributor's Conditions of Service."]
["APPLICATION"]
[]
["The application of these rates and charges shall be in accordance with the Licence of the Distributor and any Code or Order of the Board, and amendments thereto as approved by the Board, which may be applicable to the administration of this schedule."]
["No rates and charges for the distribution of electricity and charges to meet the costs of any work or service done or furnished for the purpose of the distribution of electricity shall be made except as permitted by this schedule, unless required by the Distributor's Licence or a Code or Order of the Board, and amendments thereto as approved by the Board, or as specified herein."]
["Unless specifically noted, this schedule does not contain any charges for the electricity commodity, be it under the Regulated Price Plan, a contract with a retailer or the wholesale market price, as applicable. In addition, the charges in the MONTHLY RATES AND CHARGES - Regulatory component of this schedule do not apply to a customer that is an embedded wholesale market participant."]
["It should be noted that this schedule does not list any charges, assessments or credits that are required by law to be invoiced by a distributor and that are not subject to Board approval, such as the Debt Retirement Charge, the Global Adjustment, the Ontario Clean Energy Benefit and the HST."]
[]
["MONTHLY RATES AND CHARGES - Delivery Component"]
[]
["Service Charge",null,"$",159.22]
["Distribution Volumetric Rate",null,"$/kW",3.7887]
["Low Voltage Volumetric Rate",null,"$/kW",0.1643]
["Retail Transmission Rate - Network Service Rate",null,"$/kW",2.8421489994386557]
["Retail Transmission Rate - Line and Transformation Connection Service Rate",null,"$/kW",1.8072546029339731]
[]
[]
[]
[]
[]
[]
[]
[]
[]
[]
[]
[]
[]
[]
[]
["Rate Rider for Deferral/Variance Account Disposition (2015) - effective until April 28, 2016",null,"$/kW",-0.43884964615492811]
["Rate Rider for Global Adjustment Sub-Account Disposition (2015) - effective until April 28, 2016 Applicable only for Non-RPP Customers",null,"$/kW",0.88942694490310326]
["Rate Rider for CGAAP Accounting Changes (2015) - effective until April 30, 2017",null,"$/kW",-1.1383450954915271]
[]
[]
[]
["MONTHLY RATES AND CHARGES - Regulatory Component"]
[]
["Wholesale Market Service Rate",null,"$/kWh",4.4000000000000003E-3]
["Rural Rate Protection Charge",null,"$/kWh",1.2999999999999999E-3]
["Standard Supply Service - Administrative Charge (if applicable)",null,"$",0.25]
["UNMETERED SCATTERED LOAD SERVICE CLASSIFICATION"]
[]
["This classification refers to an account taking electricity at 750 volts or less whos monthly averge peak demand is less than, or forecast to be less than, 50 kW and the consumption is unmetered.  Such connections include cable TV power pack, bus shelters, telephone booths, traffic lights, railway crossings etc.  The customer will provide detailed manufacturer information/documentation with regard to electricity demand/consumption of the proposed unmetered load.  Further servicing details are available in the distributor's Conditions of Service."]
["APPLICATION"]
[]
["The application of these rates and charges shall be in accordance with the Licence of the Distributor and any Code or Order of the Board, and amendments thereto as approved by the Board, which may be applicable to the administration of this schedule."]
["No rates and charges for the distribution of electricity and charges to meet the costs of any work or service done or furnished for the purpose of the distribution of electricity shall be made except as permitted by this schedule, unless required by the Distributor's Licence or a Code or Order of the Board, and amendments thereto as approved by the Board, or as specified herein."]
["Unless specifically noted, this schedule does not contain any charges for the electricity commodity, be it under the Regulated Price Plan, a contract with a retailer or the wholesale market price, as applicable. In addition, the charges in the MONTHLY RATES AND CHARGES - Regulatory component of this schedule do not apply to a customer that is an embedded wholesale market participant."]
["It should be noted that this schedule does not list any charges, assessments or credits that are required by law to be invoiced by a distributor and that are not subject to Board approval, such as the Debt Retirement Charge, the Global Adjustment, the Ontario Clean Energy Benefit and the HST."]
[]
["MONTHLY RATES AND CHARGES - Delivery Component"]
[]
["Service Charge",null,"$",20.14]
["Distribution Volumetric Rate",null,"$/kWh",1.41E-2]
["Low Voltage Volumetric Rate",null,"$/kWh",4.0000000000000002E-4]
["Retail Transmission Rate - Network Service Rate",null,"$/kWh",6.8918301845452001E-3]
["Retail Transmission Rate - Line and Transformation Connection Service Rate",null,"$/kWh",4.5525392184745427E-3]
[]
[]
[]
[]
[]
[]
[]
[]
[]
[]
[]
[]
[]
[]
[]
[]
["Rate Rider for Deferral/Variance Account Disposition (2015) - effective until April 28, 2016",null,"$/kWh",-2.7241750751139733E-4]
["Rate Rider for CGAAP Accounting Changes (2015) - effective until April 30, 2017",null,"$/kWh",-2.9875239532519346E-3]
[]
[]
[]
[]
["MONTHLY RATES AND CHARGES - Regulatory Component"]
[]
["Wholesale Market Service Rate",null,"$/kWh",4.4000000000000003E-3]
["Rural Rate Protection Charge",null,"$/kWh",1.2999999999999999E-3]
["Standard Supply Service - Administrative Charge (if applicable)",null,"$",0.25]
["SENTINEL LIGHTING SERVICE CLASSIFICATION"]
[]
["This classification refers to accounts that are an unmetered lighting load supplied to a sentinel light.  Further servicing details are available in the distributor's Conditions of Service."]
["APPLICATION"]
[]
["The application of these rates and charges shall be in accordance with the Licence of the Distributor and any Code or Order of the Board, and amendments thereto as approved by the Board, which may be applicable to the administration of this schedule."]
["No rates and charges for the distribution of electricity and charges to meet the costs of any work or service done or furnished for the purpose of the distribution of electricity shall be made except as permitted by this schedule, unless required by the Distributor's Licence or a Code or Order of the Board, and amendments thereto as approved by the Board, or as specified herein."]
["Unless specifically noted, this schedule does not contain any charges for the electricity commodity, be it under the Regulated Price Plan, a contract with a retailer or the wholesale market price, as applicable. In addition, the charges in the MONTHLY RATES AND CHARGES - Regulatory component of this schedule do not apply to a customer that is an embedded wholesale market participant."]
["It should be noted that this schedule does not list any charges, assessments or credits that are required by law to be invoiced by a distributor and that are not subject to Board approval, such as the Debt Retirement Charge, the Global Adjustment, the Ontario Clean Energy Benefit and the HST."]
[]
["MONTHLY RATES AND CHARGES - Delivery Component"]
[]
["Service Charge",null,"$",15.26]
["Distribution Volumetric Rate",null,"$/kW",19.0381]
["Low Voltage Volumetric Rate",null,"$/kW",0.13719999999999999]
["Retail Transmission Rate - Network Service Rate",null,"$/kW",2.1043054830144676]
["Retail Transmission Rate - Line and Transformation Connection Service Rate",null,"$/kW",1.5100979521280893]
[]
[]
[]
[]
[]
[]
[]
[]
[]
[]
[]
[]
[]
[]
[]
[]
["Rate Rider for Deferral/Variance Account Disposition (2015) - effective until April 28, 2016",null,"$/kW",1.825334538108788]
["Rate Rider for Global Adjustment Sub-Account Disposition (2015) - effective until April 28, 2016 Applicable only for Non-RPP Customers",null,"$/kW",0.86567349454822751]
["Rate Rider for CGAAP Accounting Changes (2015) - effective until April 30, 2017",null,"$/kW",-1.1079439210415896]
[]
[]
[]
["MONTHLY RATES AND CHARGES - Regulatory Component"]
[]
["Wholesale Market Service Rate",null,"$/kWh",4.4000000000000003E-3]
["Rural Rate Protection Charge",null,"$/kWh",1.2999999999999999E-3]
["Standard Supply Service - Administrative Charge (if applicable)",null,"$",0.25]
["STREET LIGHTING SERVICE CLASSIFICATION"]
[]
["This classification refers to an account for roadway lighting with a Municipality, Regional Municipality, Ministry of Transportation and private roadway lighting operation, controlled by photo cells.  Street lighting profile is derived throught the use of a \"virtual streetlight meter\" that uses a street light control eye, consistent with the model type and product manufacturer of devices currently in service in the Applicant's distribution area, to simulate the exact daily condititions that the typical street light is exposed to.  This simulated street light load is captured using an interval metering device, and is processed as part of the distributor's daily interval meter interrogation, validation and processing procedures.   Further servicing details are available in the distributor's Conditions of Service."]
["APPLICATION"]
[]
["The application of these rates and charges shall be in accordance with the Licence of the Distributor and any Code or Order of the Board, and amendments thereto as approved by the Board, which may be applicable to the administration of this schedule."]
["No rates and charges for the distribution of electricity and charges to meet the costs of any work or service done or furnished for the purpose of the distribution of electricity shall be made except as permitted by this schedule, unless required by the Distributor's Licence or a Code or Order of the Board, and amendments thereto as approved by the Board, or as specified herein."]
["Unless specifically noted, this schedule does not contain any charges for the electricity commodity, be it under the Regulated Price Plan, a contract with a retailer or the wholesale market price, as applicable. In addition, the charges in the MONTHLY RATES AND CHARGES - Regulatory component of this schedule do not apply to a customer that is an embedded wholesale market participant."]
["It should be noted that this schedule does not list any charges, assessments or credits that are required by law to be invoiced by a distributor and that are not subject to Board approval, such as the Debt Retirement Charge, the Global Adjustment, the Ontario Clean Energy Benefit and the HST."]
[]
["MONTHLY RATES AND CHARGES - Delivery Component"]
[]
["Service Charge",null,"$",1.19]
["Distribution Volumetric Rate",null,"$/kW",4.6237000000000004]
["Low Voltage Volumetric Rate",null,"$/kW",0.12620000000000001]
["Retail Transmission Rate - Network Service Rate",null,"$/kW",2.1485802708666975]
["Retail Transmission Rate - Line and Transformation Connection Service Rate",null,"$/kW",1.3885244616347354]
[]
[]
[]
[]
[]
[]
[]
[]
[]
[]
[]
[]
[]
[]
[]
[]
["Rate Rider for Deferral/Variance Account Disposition (2015) - effective until April 28, 2016",null,"$/kW",2.5763988787679826]
["Rate Rider for Global Adjustment Sub-Account Disposition (2015) - effective until April 28, 2016 Applicable only for Non-RPP Customers",null,"$/kW",0.82391845594820146]
["Rate Rider for CGAAP Accounting Changes (2015) - effective until April 30, 2017",null,"$/kW",-1.05450317059572]
[]
[]
[]
["MONTHLY RATES AND CHARGES - Regulatory Component"]
[]
["Wholesale Market Service Rate",null,"$/kWh",4.4000000000000003E-3]
["Rural Rate Protection Charge",null,"$/kWh",1.2999999999999999E-3]
["Standard Supply Service - Administrative Charge (if applicable)",null,"$",0.25]
["microFIT SERVICE CLASSIFICATION"]
[]
["This classification applies to an electricity generation facility contracted under the Ontario Power Authority's microFIT program and connected to the distributor's distribution system.  Further servicing details are available in the distributor's Conditions of Service."]
["APPLICATION"]
[]
["The application of these rates and charges shall be in accordance with the Licence of the Distributor and any Code or Order of the Board, and amendments thereto as approved by the Board, which may be applicable to the administration of this schedule."]
["No rates and charges for the distribution of electricity and charges to meet the costs of any work or service done or furnished for the purpose of the distribution of electricity shall be made except as permitted by this schedule, unless required by the Distributor's Licence or a Code or Order of the Board, and amendments thereto as approved by the Board, or as specified herein."]
["Unless specifically noted, this schedule does not contain any charges for the electricity commodity, be it under the Regulated Price Plan, a contract with a retailer or the wholesale market price, as applicable."]
["It should be noted that this schedule does not list any charges, assessments or credits that are required by law to be invoiced by a distributor and that are not subject to Board approval, such as the Debt Retirement Charge, the Global Adjustment, the Ontario Clean Energy Benefit and the HST."]
[]
["MONTHLY RATES AND CHARGES - Delivery Component"]
[]
["Service Charge",null,"$",5.4]
[]
[]
[]
[]
[]
[]
[]
[]
[]
[]
[]
[]
[]
[]
[]
[]
[]
[]
[]
[]
[]
[]
[]
[]
[]
[]
[]
[]
[]
[]
[]
["ALLOWANCES"]
[]
["Transformer Allowance for Ownership - per kW of billing demand/month",null,"$/kW",-0.6]
[]
[]
["Primary Metering Allowance for transformer losses – applied to measured demand and energy",null,"%",-1]
[]
["SPECIFIC SERVICE CHARGES"]
[]
["APPLICATION"]
[]
["The application of these rates and charges shall be in accordance with the Licence of the Distributor and any Code or Order of the Board, and amendments thereto as approved by the Board, which may be applicable to the administration of this schedule."]
[]
["No charges to meet the costs of any work or service done or furnished for the purpose of the distribution of electricity shall be made except as permitted by this schedule, unless required by the Distributor’s Licence or a Code or Order of the Board, and amendments thereto as approved by the Board, or as specified herein."]
[]
["It should be noted that this schedule does not list any charges, assessments or credits that are required by law to be invoiced by a distributor and that are not subject to Board approval, such as the Debt Retirement Charge, the Global Adjustment, the Ontario Clean Energy Benefit and the HST."]
[]
["Customer Administration"]
[]
["Returned cheque (plus bank charges)",null,"$",20]
["Legal letter charge",null,"$",15]
["Account set up charge/change of occupancy charge (plus credit agency costs if applicable)",null,"$",30]
["Meter dispute charge plus Measurement Canada fees (if meter found correct)",null,"$",30]
[]
[]
[]
[]
[]
[]
[]
[]
[]
[]
[]
[]
[]
[]
[]
[]
[]
[]
[]
[]
[]
[]
[]
[]
[]
[]
[]
[]
[]
[]
[]
[]
["Non-Payment of Account"]
[]
["Late Payment – per month",null,"%",1.5]
["Late Payment – per annum",null,"%",19.559999999999999]
["Collection of account charge – no disconnection",null,"$",30]
["Collection of account charge – no disconnection – after regular hours",null,"$",165]
["Disconnect/Reconnect at meter – during regular hours",null,"$",65]
["Disconnect/Reconnect at meter – after regular hours",null,"$",185]
["Disconnect/Reconnect at pole – during regular hours",null,"$",185]
["Disconnect/Reconnect at pole – after regular hours",null,"$",415]
["Install/Remove load control device – during regular hours",null,"$",65]
["Install/Remove load control device – after regular hours",null,"$",185]
["Service call – customer owned equipment",null,"$",30]
["Service call – after regular hours",null,"$",165]
["Temporary service install & remove – overhead – no transformer",null,"$",500]
["Temporary Service – Install & remove – underground – no transformer",null,"$",300]
["Temporary Service Install & Remove – Overhead – With Transformer",null,"$",1000]
["Specific Charge for Access to the Power Poles - $/pole/year",null,"$",22.35]
[]
[]
[]
[]
[]
[]
[]
[]
[]
[]
[]
[]
[]
[]
[]
[]
[]
[]
[]
[]
[]
[]
[]
[]
[]
[]
[]
[]
[]
[]
[]
[]
[]
["RETAIL SERVICE CHARGES (if applicable)"]
[]
["The application of these rates and charges shall be in accordance with the Licence of the Distributor and any Code or Order of the Board, and amendments thereto as approved by the Board, which may be applicable to the administration of this schedule."]
[]
["No rates and charges for the distribution of electricity and charges to meet the costs of any work or service done or furnished for the purpose of the distribution of electricity shall be made except as permitted by this schedule, unless required by the Distributor’s Licence or a Code or Order of the Board, and amendments thereto as approved by the Board, or as specified herein."]
[]
["Unless specifically noted, this schedule does not contain any charges for the electricity commodity, be it under the Regulated Price Plan, a contract with a retailer or the wholesale market price, as applicable."]
[]
["It should be noted that this schedule does not list any charges, assessments or credits that are required by law to be invoiced by a distributor and that are not subject to Board approval, such as the Debt Retirement Charge, the Global Adjustment, the Ontario Clean Energy Benefit and the HST."]
[]
["Retail Service Charges refer to services provided by a distributor to retailers or customers related to the supply of competitive electricity."]
[]
["One-time charge, per retailer, to establish the service agreement between the distributor and the retailer",null,"$",100]
["Monthly Fixed Charge, per retailer",null,"$",20]
["Monthly Variable Charge, per customer, per retailer",null,"$/cust.",0.5]
["Distributor-consolidated billing monthly charge, per customer, per retailer",null,"$/cust.",0.3]
["Retailer-consolidated billing monthly credit, per customer, per retailer",null,"$/cust.",-0.3]
["Service Transaction Requests (STR) "]
["Request fee, per request, applied to the requesting party",null,"$",0.25]
["Processing fee, per request, applied to the requesting party",null,"$",0.5]
["Request for customer information as outlined in Section 10.6.3 and Chapter 11 of the Retail"]
["Settlement Code directly to retailers and customers, if not delivered electronically through the"]
["Electronic Business Transaction (EBT) system, applied to the requesting party "]
["Up to twice a year",null,"$","no charge"]
["More than twice a year, per request (plus incremental delivery costs)",null,"$",2]
[]
["LOSS FACTORS"]
[]
["If the distributor is not capable of prorating changed loss factors jointly with distribution rates, the revised loss factors will be implemented upon the first subsequent billing for each billing cycle."]
[]
[]
["Total Loss Factor – Secondary Metered Customer < 5,000 kW",null,null,1.0479240714689326]
["Total Loss Factor – Secondary Metered Customer > 5,000 kW",null,null,"N/A"]
["Total Loss Factor – Primary Metered Customer < 5,000 kW",null,null,1.0374448307542432]
["Total Loss Factor – Primary Metered Customer > 5,000 kW",null,null,"N/A"]

{"sheet":"lists","index":67,"n_rows":212,"n_cols":55,"rows_kept":212,"cut":false,"hidden":true,"merged":[[12,51,12,52],[11,51,11,52],[0,51,0,52],[1,51,1,52],[2,51,2,52],[3,51,3,52],[4,51,4,52],[5,51,5,52],[6,51,6,52],[7,51,7,52],[8,51,8,52],[9,51,9,52],[10,51,10,52],[13,51,13,52],[14,51,14,52],[15,51,15,52],[16,51,16,52],[17,51,17,52]]}
["DISTRIBUTED GENERATION [DGEN]","Embedded Distributor",{"$f":"COUNTA(B1:B17)","v":4},null,null,null,null,null,"A Standby Service Charge will be applied for a month where standby power is not provided. The applicable rate is the approved Distribution Volumetric Rate of the applicable service class and is applied to gross metered demand or contracted amount, whichever is greater. A monthly administration charge of $200, for simple metering arrangements, or $500, for complex metering arrangements, will also be applied.",null,null,"Loss Factors",null,"Units","Units1","Units2",null,null,null,null,null,null,null,null,null,"Account History","Account set up charge/change of occupancy charge (plus credit agency costs if applicable)","Total Loss Factor – Embedded Distributor – Hydro One Networks Inc.",null,null,null,null,null,null,null,null,null,"Algoma Power Inc.","Algoma Power Inc.",null,"DISTRIBUTED GENERATION [DGEN]","kW",null,null,null,"Sub-Total:  Delivery (Distribution and Retail Transmission)"]
["EMBEDDED DISTRIBUTOR","General Service 3,000 to 4,999 kW",null,null,null,null,null,null,"Distribution Volumetric Rate",null,null,"Total Loss Factor – Primary Metered Customer",null,"$","$/kWh","$",null,null,null,null,null,null,null,null,null,"Account set up charge/change of occupancy charge","Administrative Billing Charge","Total Loss Factor – Primary Metered Customer",null,null,null,null,null,null,null,null,null,"Atikokan Hydro Inc.","Atikokan Hydro Inc.",null,"EMBEDDED DISTRIBUTOR","kW",null,null,null,"Wholesale Market Service Rate ",null,null,{"$f":"AU2*AV2","v":0},{"$f":"AU2","v":0},0,{"$f":"AX2*AY2","v":0},null,{"$f":"AZ2-AW2","v":0},{"$f":"BB2/AW2","v":{"$error":"#DIV/0!"}}]
["EMBEDDED DISTRIBUTOR","General Service 1,000 to 4,999 kW",null,null,null,null,null,null,"Distribution Volumetric Rate - $/kW of contracted amount",null,null,"Total Loss Factor – Primary Metered Customer < 5,000 kW",null,"$/kWh","$/kW","%",null,null,null,null,null,null,"MSC",null,null,"Account set up charge/change of occupancy charge (plus credit agency costs if applicable – Residential)","Bell Canada Pole Rentals","Total Loss Factor – Primary Metered Customer < 5,000 kW",null,null,null,null,null,null,null,null,null,"Attawapiskat Power Corp. ","Attawapiskat Power Corp. ",null,"EMBEDDED DISTRIBUTOR","kW",null,null,null,"Rural Rate Protection Charge",null,null,{"$f":"AU3*AV3","v":0},0,0,{"$f":"AX3*AY3","v":0},null,{"$f":"AZ3-AW3","v":0},{"$f":"BB3/AW3","v":{"$error":"#DIV/0!"}}]
["FARMS - SINGLE PHASE ENERGY-BILLED [F1]","General Service Equal To Or Greater Than 1,500 kW - Interval Metered",null,null,null,null,null,null,"Distribution Wheeling Service Rate",null,null,"Total Loss Factor – Primary Metered Customer > 5,000 kW",null,"$/kW","$/kVA",null,null,null,null,null,null,null,"SM_Rate_Adder",null,null,"Account set up charge/change of occupancy charge (plus credit agency costs if applicable)","Clearance Pole Attachment charge $/pole/year","Total Loss Factor – Primary Metered Customer > 5,000 kW",null,null,null,null,null,null,null,null,null,"Bluewater Power Distribution Corporation","Bluewater Power Distribution Corporation",null,"FARMS - SINGLE PHASE ENERGY-BILLED [F1]","kWh",null,null,null,"Standard Supply Service – Administration Charge (if applicable)",null,null,{"$f":"AU4*AV4","v":0},0,0,{"$f":"AX4*AY4","v":0},null,{"$f":"AZ4-AW4","v":0},{"$f":"BB4/AW4","v":{"$error":"#DIV/0!"}}]
["FARMS - THREE PHASE ENERGY-BILLED [F3]",null,null,null,null,null,null,null,"Electricity Rate",null,null,"Total Loss Factor – Secondary Metered Customer",null,"$/kVA",null,null,null,null,null,null,null,null,"MSC_Rate_Rider_",null,null,"Arrears certificate","Collection of account charge – no disconnection","Total Loss Factor – Secondary Metered Customer",null,null,null,null,null,null,null,null,null,"Brant County Power Inc.","Brant County Power Inc.",null,"FARMS - THREE PHASE ENERGY-BILLED [F3]","kWh",null,null,null,"Sub-Total:  Regulatory",null,null,{"$f":"SUM(AW2:AW4)","v":0},null,null,{"$f":"SUM(AZ2:BA4)","v":0},null,{"$f":"AZ5-AW5","v":0},{"$f":"BB5/AW5","v":{"$error":"#DIV/0!"}}]
["GENERAL SERVICE - COMMERCIAL",null,null,null,null,null,null,null,"Electricity Rate - All Additional kWh",null,null,"Total Loss Factor – Secondary Metered Customer < 5,000 kW",null,null,null,null,null,null,null,null,null,null,"VC",null,null,"Arrears certificate (credit reference)","Collection of account charge – no disconnection – after regular hours","Total Loss Factor – Secondary Metered Customer < 5,000 kW",null,null,null,null,null,null,null,null,null,"Brantford Power Inc.","Brantford Power Inc.",null,"GENERAL SERVICE - COMMERCIAL","kW",null,null,null,"Debt Retirement Charge (DRC)",null,null,{"$f":"AU6*AV6","v":0},{"$f":"AU6","v":0},{"$f":"AV6","v":0},{"$f":"AX6*AY6","v":0},null,{"$f":"AZ6-AW6","v":0},{"$f":"BB6/AW6","v":{"$error":"#DIV/0!"}}]
["GENERAL SERVICE - INSTITUTIONAL",null,null,null,null,null,null,null,"Electricity Rate - First 250 kWh",null,null,null,null,null,null,null,null,null,null,null,null,null,null,null,null,null,null,null,null,null,null,null,null,null,null,null,null,"Burlington Hydro Inc.","Burlington Hydro Inc.",null,"GENERAL SERVICE - INSTITUTIONAL","kW"]
["GENERAL SERVICE 1,000 TO 2,999 KW",null,null,null,null,null,null,null,"Electricity Rate -All Additional kWh",null,null,"Total Loss Factor – Secondary Metered Customer > 5,000 kW",null,null,null,null,null,null,null,null,null,null,"VC_Rate_Rider_",null,null,"Charge to certify cheque","Collection of account charge – no disconnection - during regular business hours","Total Loss Factor – Secondary Metered Customer > 5,000 kW",null,null,null,null,null,null,null,null,null,"Cambridge and North Dumfries Hydro Inc.","Cambridge and North Dumfries Hydro Inc.",null,"GENERAL SERVICE 1,000 TO 2,999 KW","kW",null,null,null,"Total Bill on RPP (before taxes)",null,null,null,null,null,null,null,{"$f":"AZ8-AW8","v":0}]
["GENERAL SERVICE 1,000 TO 4,999 KW",null,null,null,null,null,null,null,"Electricity Rate First 1,000 kWh",null,null,"Distribution Loss Factor - Secondary Metered Customer < 5,000 kW",null,null,null,null,null,null,null,null,null,null,"VC_GA_Rate_Rider_kW_",null,null,"Collection of Account Charge – No Disconnection","Collection of account charge – no disconnection – during regular hours",null,null,null,null,null,null,null,null,null,null,"Canadian Niagara Power Inc.","Canadian Niagara Power Inc. - Eastern Ontario Power",null,"GENERAL SERVICE 1,000 TO 4,999 KW - INTERVAL METERS","kW",null,null,null,"HST",null,null,{"$f":"AV9*AW8","v":0},null,{"$f":"AV9","v":0},{"$f":"AY9*AZ8","v":0},null,{"$f":"AZ9-AW9","v":0},{"$f":"BB9/AW9","v":{"$error":"#DIV/0!"}}]
["GENERAL SERVICE 1,000 TO 4,999 KW - INTERVAL METERS",null,null,null,null,null,null,null,"Electricity Rate First 25,000 kWh",null,null,"Distribution Loss Factor - Secondary Metered Customer > 5,000 kW",null,null,null,null,null,null,null,null,null,null,"VC_LV_Rate",null,null,"Credit Card Convenience Charge","Collection/Disconnection/Load Limiter/Reconnection – if in Community",null,null,null,null,null,null,null,null,null,null,"Centre Wellington Hydro Ltd.","Canadian Niagara Power Inc. - Fort Erie",null,"GENERAL SERVICE 1,000 TO 4,999 KW (CO-GENERATION)","kW",null,null,null,"Total Bill (including HST)",null,null,{"$f":"AW9+AW8","v":0},null,null,{"$f":"AZ9+AZ8","v":0},null,{"$f":"AZ10-AW10","v":0},{"$f":"BB10/AW10","v":{"$error":"#DIV/0!"}}]
["GENERAL SERVICE 1,000 TO 4,999 KW (CO-GENERATION)",null,null,null,null,null,null,null,"Electricity Rate First 6,000 kWh",null,null,"Distribution Loss Factor - Primary Metered Customer < 5,000 kW",null,null,null,null,null,null,null,null,null,null,"RTSR_Network",null,null,"Credit check (plus credit agency costs)","Credit Card Convenience Charge",null,null,null,null,null,null,null,null,null,null,"Chapleau Public Utilities Corporation","Canadian Niagara Power Inc. - Port Colborne Hydro Inc.",null,"GENERAL SERVICE 1,000 TO 4,999 KW","kW",null,null,null,"Ontario Clean Energy Benefit (OCEB)",null,null,{"$f":"-0.1*AW10","v":0},null,{"$f":"AV11","v":0},{"$f":"-0.1*AZ10","v":0},null,{"$f":"AZ11-AW11","v":0},{"$f":"BB11/AW11","v":{"$error":"#DIV/0!"}}]
["GENERAL SERVICE 1,500 TO 4,999 KW",null,null,null,null,null,null,null,"Electricity Rate Next 1,500 kWh",null,null,"Distribution Loss Factor - Primary Metered Customer > 5,000 kW",null,null,null,null,null,null,null,null,null,null,"RTSR_Connection",null,null,"Credit reference Letter","Disconnect/Reconnect at meter – after regular hours",null,null,null,null,null,null,null,null,null,null,"Clinton Power Corporation","Centre Wellington Hydro Ltd.",null,"GENERAL SERVICE 1,500 TO 4,999 KW","kW",null,null,null,"Total Bill on RPP (including OCEB)",null,null,{"$f":"AW10+AW11","v":0},null,null,{"$f":"AZ10+AZ11","v":0},null,{"$f":"AZ12-AW12","v":0},{"$f":"BB12/AW12","v":{"$error":"#DIV/0!"}}]
["GENERAL SERVICE 2,500 TO 4,999 KW",null,null,null,null,null,null,null,"General Service 1,500 to 4,999 kW customer",null,null,null,null,null,null,null,null,null,null,null,null,null,null,null,null,null,null,null,null,null,null,null,null,null,null,null,null,"COLLUS Power Corporation","Chapleau Public Utilities Corporation",null,"GENERAL SERVICE 2,500 TO 4,999 KW","kW"]
["GENERAL SERVICE 3,000 TO 4,999 KW",null,null,null,null,null,null,null,"General Service 50 to 1,499 kW customer",null,null,"Total Loss Factor - Embedded Distributor",null,null,null,null,null,null,null,null,null,null,"RTSR_Network_Interval",null,null,"Credit reference/credit check (plus credit agency costs – General Service)","Disconnect/Reconnect at meter – during regular hours",null,null,null,null,null,null,null,null,null,null,"Cooperative Hydro Embrun Inc.","Clinton Power Corporation",null,"GENERAL SERVICE 3,000 TO 4,999 KW - INTERMEDIATE USE","kW",null,null,null,"Total Bill on TOU (before taxes)",null,null,null,null,null,null,null,{"$f":"AZ14-AW14","v":0}]
["GENERAL SERVICE 3,000 TO 4,999 KW - INTERMEDIATE USE",null,null,null,null,null,null,null,"General Service Large Use customer",null,null,"Total Loss Factor – Embedded Distributor – Hydro One Networks Inc.",null,null,null,null,null,null,null,null,null,null,"RTSR_Connection_Interval",null,null,"Credit Reference/credit check (plus credit agency costs)","Disconnect/Reconnect at pole – after regular hours",null,null,null,null,null,null,null,null,null,null,"E.L.K. Energy Inc.","COLLUS Power Corporation",null,"GENERAL SERVICE 3,000 TO 4,999 KW - INTERVAL METERED","kW",null,null,null,"HST",null,null,{"$f":"AV15*AW14","v":0},null,{"$f":"AV15","v":0},{"$f":"AY15*AZ14","v":0},null,{"$f":"AZ15-AW15","v":0},{"$f":"BB15/AW15","v":{"$error":"#DIV/0!"}}]
["GENERAL SERVICE 3,000 TO 4,999 KW - INTERVAL METERED",null,null,null,null,null,null,null,"Green Energy Act Initiatives Funding Adder - effective until the date of the next cost of service-based rate order",null,null,null,null,null,null,null,null,null,null,null,null,null,"RTSR_Network_Interval_GR1000kW",null,null,"Dispute Test – Commercial self contained -- MC","Disconnect/Reconnect at pole – during regular hours",null,null,null,null,null,null,null,null,null,null,"Enersource Hydro Mississauga Inc.","Cooperative Hydro Embrun Inc.",null,"GENERAL SERVICE 3,000 TO 4,999 KW - TIME OF USE","kW",null,null,null,"Total Bill (including HST)",null,null,{"$f":"AW15+AW14","v":0},null,null,{"$f":"AZ15+AZ14","v":0},null,{"$f":"AZ16-AW16","v":0},{"$f":"BB16/AW16","v":{"$error":"#DIV/0!"}}]
["GENERAL SERVICE 3,000 TO 4,999 KW - TIME OF USE",null,null,null,null,null,null,null,"Green Energy Act Plan Funding Adder",null,null,null,null,null,null,null,null,null,null,null,null,null,"RTSR_Connection_Interval_GR1000kW",null,null,"Dispute Test – Commercial TT -- MC","Disconnect/Reconnect Charge – At Meter – After Hours",null,null,null,null,null,null,null,null,null,null,"Entegrus Powerlines Inc.","E.L.K. Energy Inc.",null,"GENERAL SERVICE 3,000 TO 4,999 KW","kW",null,null,null,"Ontario Clean Energy Benefit (OCEB)",null,null,{"$f":"-0.1*AW16","v":0},null,{"$f":"AV17","v":0},{"$f":"-0.1*AZ16","v":0},null,{"$f":"AZ17-AW17","v":0},{"$f":"BB17/AW17","v":{"$error":"#DIV/0!"}}]
["GENERAL SERVICE 50 TO 1,000 KW",null,null,null,null,null,null,null,"Green Energy Act Plan Funding Adder - effective April 1, 2013 until March 31, 2014",null,null,null,null,null,null,null,null,null,null,null,null,null,"RTSR_Line_Connection",null,null,"Dispute Test – Residential","Disconnect/Reconnect Charge – At Meter – During Regular Hours",null,null,null,null,null,null,null,null,null,null,"ENWIN Utilities Ltd.","Enersource Hydro Mississauga Inc.",null,"GENERAL SERVICE 50 TO 1,000 KW - INTERVAL METERS","kW",null,null,null,"Total Bill on TOU (including OCEB)",null,null,{"$f":"AW16+AW17","v":0},null,null,{"$f":"AZ16+AZ17","v":0},null,{"$f":"AZ18-AW18","v":0},{"$f":"BB18/AW18","v":{"$error":"#DIV/0!"}}]
["GENERAL SERVICE 50 TO 1,000 KW - INTERVAL METERS",null,null,null,null,null,null,null,"Green Energy Act Plan Funding Adder - effective April 1, 2014 until March 31, 2015",null,null,null,null,null,null,null,null,null,null,null,null,null,"RTSR_Transformer_Connection",null,null,"Duplicate Invoices for previous billing","Disconnect/Reconnect Charge – At Pole – After Hours",null,null,null,null,null,null,null,null,null,null,"Erie Thames Powerlines Corporation","Entegrus Powerlines Inc. - Chatham-Kent",null,"GENERAL SERVICE 50 TO 1,000 KW - NON INTERVAL METERS","kW"]
["GENERAL SERVICE 50 TO 1,000 KW - NON INTERVAL METERS",null,null,null,null,null,null,null,"ICM Rate Rider (2014) - in effect until the effective date of the next cost of service rates",null,null,null,null,null,null,null,null,null,null,null,null,null,"WMSR",null,null,"Easement Letter","Disconnect/Reconnect Charge – At Pole – During Regular Hours",null,null,null,null,null,null,null,null,null,null,"Espanola Regional Hydro Distribution Corporation","Entegrus Powerlines Inc. - Dutton",null,"GENERAL SERVICE 50 TO 1,000 KW","kW"]
["GENERAL SERVICE 50 TO 1,499 KW",null,null,null,null,null,null,null,"Low Voltage Service Charge",null,null,null,null,null,null,null,null,null,null,null,null,null,"RRRP",null,null,"Income Tax Letter","Disconnect/Reconnect Charges for non payment of account - At Meter After Hours",null,null,null,null,null,null,null,null,null,null,"Essex Powerlines Corporation","Entegrus Powerlines Inc. - Newbury",null,"GENERAL SERVICE 50 TO 1,499 KW - INTERVAL METERED","kW"]
["GENERAL SERVICE 50 TO 1,499 KW - INTERVAL METERED",null,null,null,null,null,null,null,"Low Voltage Service Rate",null,null,null,null,null,null,null,null,null,null,null,null,null,"SPC",null,null,"Interval Meter Interrogation","Disconnect/Reconnect charges for non payment of account – at meter after regular hours",null,null,null,null,null,null,null,null,null,null,"Festival Hydro Inc.","Entegrus Powerlines Inc. - Strathroy, Mounth Brydges & Parkhill",null,"GENERAL SERVICE 50 TO 1,499 KW","kW"]
["GENERAL SERVICE 50 TO 2,499 KW",null,null,null,null,null,null,null,"Low Voltage Volumetric Rate",null,null,null,null,null,null,null,null,null,null,null,null,null,"DRC",null,null,"Interval meter request change","Disconnect/Reconnect Charges for non payment of account - At Meter During Regular Hours",null,null,null,null,null,null,null,null,null,null,"Fort Albany Power Corporation","ENWIN Utilities Ltd.",null,"GENERAL SERVICE 50 TO 2,499 KW","kW"]
["GENERAL SERVICE 50 TO 2,999 KW",null,null,null,null,null,null,null,"LRAM Rate Rider - Effective Until April 30, 2015",null,null,null,null,null,null,null,null,null,null,null,null,null,"SSS",null,null,"Legal letter","Disconnect/Reconnect charges for non payment of account – at meter during regular hours",null,null,null,null,null,null,null,null,null,null,"Fort Frances Power Corporation","Erie Thames Powerlines Corporation",null,"GENERAL SERVICE 50 TO 2,999 KW - INTERVAL METERED","kW"]
["GENERAL SERVICE 50 TO 2,999 KW - INTERVAL METERED",null,null,null,null,null,null,null,"Minimum Distribution Charge - per KW of maximum billing demand in the previous 11 months",null,null,null,null,null,null,null,null,null,null,null,null,null,"SFLF",null,null,"Legal letter charge","Disconnect/Reconnect charges for non payment of account – at pole after regular hours",null,null,null,null,null,null,null,null,null,null,"Greater Sudbury Hydro Inc.","Espanola Regional Hydro Distribution Corporation",null,"GENERAL SERVICE 50 TO 2,999 KW - TIME OF USE","kW"]
["GENERAL SERVICE 50 TO 2,999 KW - TIME OF USE","January",null,null,null,null,null,null,"Monthly Distribution Wheeling Service Rate - Dedicated LV Line",null,null,null,null,null,null,null,null,null,null,null,null,null,"DLF_Secondary_LT_5000kW",null,null,"Meter dispute charge plus Measurement Canada fees (if meter found correct)","Disconnect/Reconnect charges for non payment of account – at pole during regular hours",null,null,null,null,null,null,null,null,null,null,"Grimsby Power Inc.","Essex Powerlines Corporation",null,"GENERAL SERVICE 50 TO 2,999 KW","kW"]
["GENERAL SERVICE 50 TO 4,999 KW","February",null,null,null,null,null,null,"Monthly Distribution Wheeling Service Rate - Hydro One Networks",null,null,null,null,null,null,null,null,null,null,null,null,null,"DLF_Secondary_GT_5000kW",null,null,"Notification charge","Disconnect/Reconnection for >300 volts - after regular hours",null,null,null,null,null,null,null,null,null,null,"Guelph Hydro Electric Systems Inc.","Festival Hydro Inc.",null,"GENERAL SERVICE 50 TO 4,999 KW - INTERVAL METERED","kW"]
["GENERAL SERVICE 50 TO 4,999 KW - INTERVAL METERED","March",null,null,null,null,null,null,"Monthly Distribution Wheeling Service Rate - Shared LV Line",null,null,null,null,null,null,null,null,null,null,null,null,null,"DLF_Primary_LT_5000kW",null,null,"Pulling Post Dated Cheques","Disconnect/Reconnection for >300 volts - during regular hours",null,null,null,null,null,null,null,null,null,null,"Haldimand County Hydro Inc.","Festival Hydro Inc. - Hensall",null,"GENERAL SERVICE 50 TO 4,999 KW - TIME OF USE","kW"]
["GENERAL SERVICE 50 TO 4,999 KW - TIME OF USE","April",null,null,null,null,null,null,"Monthly Distribution Wheeling Service Rate - Waterloo North Hydro",null,null,null,null,null,null,null,null,null,null,null,null,null,"DLF_Primary_GT_5000kW",null,null,"Request for other billing information","Disposal of Concrete Poles",null,null,null,null,null,null,null,null,null,null,"Halton Hills Hydro Inc.","Fort Albany Power Corporation",null,"GENERAL SERVICE 50 TO 4,999 KW (COGENERATION)","kW"]
["GENERAL SERVICE 50 TO 4,999 KW (COGENERATION)","May",null,null,null,null,null,null,"Rate Rider for Application of Tax Change - effective until April 30, 2015",null,null,null,null,null,null,null,null,null,null,null,null,null,"TLF_Secondary_LT_5000kW",null,null,"Returned cheque (plus bank charges)","Dispute Test – Commercial TT -- MC",null,null,null,null,null,null,null,null,null,null,"Hearst Power Distribution Company Limited","Fort Frances Power Corporation",null,"GENERAL SERVICE 50 TO 4,999 KW (FORMERLY TIME OF USE)","kW"]
["GENERAL SERVICE 50 TO 4,999 KW (FORMERLY TIME OF USE)","June",null,null,null,null,null,null,"Rate Rider for Application of Tax Change - effective until December 31, 2014",null,null,null,null,null,null,null,null,null,null,null,null,null,"TLF_Secondary_GT_5000kW",null,null,"Returned cheque charge (plus bank charges)","Install/Remove load control device – after regular hours",null,null,null,null,null,null,null,null,null,null,"Horizon Utilities Corporation","Greater Sudbury Hydro Inc.",null,"GENERAL SERVICE 50 TO 4,999 KW","kW"]
["GENERAL SERVICE 50 TO 499 KW","July",null,null,null,null,null,null,"Rate Rider for Application of Tax Change (2014) - effective until April 30, 2015",null,null,null,null,null,null,null,null,null,null,null,null,null,"TLF_Primary_LT_5000kW",null,null,"Special Billing Service (aggregation)","Install/Remove load control device – during regular hours",null,null,null,null,null,null,null,null,null,null,"Hydro 2000 Inc.","Grimsby Power Inc.",null,"GENERAL SERVICE 50 TO 499 KW","kW"]
["GENERAL SERVICE 50 TO 699 KW","August",null,null,null,null,null,null,"Rate Rider for Application of Tax Change (per connection) - effective until April 30, 2015",null,null,null,null,null,null,null,null,null,null,null,null,null,"TLF_Primary_GT_5000kW",null,null,"Special Billing Service (sub-metering charge per meter)","Interval Meter Interrogation",null,null,null,null,null,null,null,null,null,null,"Hydro Hawkesbury Inc.","Guelph Hydro Electric Systems Inc.",null,"GENERAL SERVICE 50 TO 699 KW","kW"]
["GENERAL SERVICE 50 TO 999 KW","September",null,null,null,null,null,null,"Rate Rider for CGAAP Accounting Changes (2013) - effective until April 30, 2017",null,null,null,null,null,null,null,null,null,null,null,null,null,"TLF_EmbeddedDistributor",null,null,"Special meter reads","Interval Meter Load Management Tool Charge $/month",null,null,null,null,null,null,null,null,null,null,"Hydro One Brampton Networks Inc.","Haldimand County Hydro Inc.",null,"GENERAL SERVICE 50 TO 999 KW - INTERVAL METERED","kW"]
["GENERAL SERVICE 50 TO 999 KW - INTERVAL METERED","October",null,null,null,null,null,null,"Rate Rider for Deferral/Variance Account (2012) - effective unitl April 30, 2016",null,null,null,null,null,null,null,null,null,null,null,null,null,null,null,null,"Statement of Account","Interval meter request change",null,null,null,null,null,null,null,null,null,null,"Hydro One Networks Inc.","Halton Hills Hydro Inc.",null,"GENERAL SERVICE 50 TO 999 KW","kW"]
["GENERAL SERVICE 500 TO 4,999 KW","November",null,null,null,null,null,null,"Rate Rider for Deferral/Variance Account Disposition – effective until April 30, 2015",null,null,null,null,null,null,null,null,null,null,null,null,null,null,null,null,"Unprocessed Payment Charge (plus bank charges)","Late Payment – per annum",null,null,null,null,null,null,null,null,null,null,"Hydro Ottawa Limited","Hearst Power Distribution Company Limited",null,"GENERAL SERVICE 500 TO 4,999 KW","kW"]
["GENERAL SERVICE 700 TO 4,999 KW","December",null,null,null,null,null,null,"Rate Rider for Deferral/Variance Account Disposition (2012) - effective until April 30, 2016",null,null,null,null,null,null,null,null,null,null,null,null,null,null,null,null,null,"Late Payment – per month",null,null,null,null,null,null,null,null,null,null,"Innisfil Hydro Distribution Systems Limited","Horizon Utilities Corporation",null,"GENERAL SERVICE 700 TO 4,999 KW","kW"]
["GENERAL SERVICE DEMAND BILLED (50 KW AND ABOVE) [GSD]",null,null,null,null,null,null,null,"Rate Rider for Deferral/Variance Account Disposition (2013) - effective until April 30, 2014",null,null,null,null,null,null,null,null,null,null,null,null,null,null,null,null,null,"Layout fees",null,null,null,null,null,null,null,null,null,null,"Kashechewan Power Corporation","Hydro 2000 Inc.",null,"GENERAL SERVICE DEMAND BILLED (50 KW AND ABOVE) [GSD]","kW"]
["GENERAL SERVICE ENERGY BILLED (LESS THAN 50 KW) [GSE-METERED]",null,null,null,null,null,null,null,"Rate Rider for Deferral/Variance Account Disposition (2014) - effective until April 28, 2016",null,null,null,null,null,null,null,null,null,null,null,null,null,null,null,null,null,"Meter dispute charge plus Measurement Canada fees (if meter found correct)",null,null,null,null,null,null,null,null,null,null,"Kenora Hydro Electric Corporation Ltd.","Hydro Hawkesbury Inc.",null,"GENERAL SERVICE ENERGY BILLED (LESS THAN 50 KW) [GSE-METERED]","kWh"]
["GENERAL SERVICE ENERGY BILLED (LESS THAN TO 50 KW) [GSE-UNMETERED]",null,null,null,null,null,null,null,"Rate Rider for Deferral/Variance Account Disposition (2014) - effective until April 30, 2015",null,null,null,null,null,null,null,null,null,null,null,null,null,null,null,null,null,"Meter Interrogation Charge",null,null,null,null,null,null,null,null,null,null,"Kingston Hydro Corporation","Hydro One Brampton Networks Inc.",null,"GENERAL SERVICE ENERGY BILLED (LESS THAN TO 50 KW) [GSE-UNMETERED]","kWh"]
["GENERAL SERVICE EQUAL TO OR GREATER THAN 1,500 KW",null,null,null,null,null,null,null,"Rate Rider for Deferral/Variance Account Disposition (2014) - effective until Decembeer 31, 2015",null,null,null,null,null,null,null,null,null,null,null,null,null,null,null,null,null,"Missed Service Appointment",null,null,null,null,null,null,null,null,null,null,"Kitchener-Wilmot Hydro Inc.","Hydro One Networks Inc.",null,"GENERAL SERVICE EQUAL TO OR GREATER THAN 1,500 KW - INTERVAL METERED","kW"]
["GENERAL SERVICE EQUAL TO OR GREATER THAN 1,500 KW - INTERVAL METERED",null,null,null,null,null,null,null,"Rate Rider for Deferral/Variance Account Disposition (2014) - effective until December 30, 2015",null,null,null,null,null,null,null,null,null,null,null,null,null,null,null,null,null,"Norfolk Pole Rentals – Billed",null,null,null,null,null,null,null,null,null,null,"Lakefront Utilities Inc.","Hydro Ottawa Limited",null,"GENERAL SERVICE EQUAL TO OR GREATER THAN 1,500 KW","kW"]
["GENERAL SERVICE GREATER THAN 1,000 KW",null,null,null,null,null,null,null,"Rate Rider for Deferral/Variance Account Disposition (2014) - effective until December 31, 2014",null,null,null,null,null,null,null,null,null,null,null,null,null,null,null,null,null,"Optional Interval/TOU Meter charge $/month",null,null,null,null,null,null,null,null,null,null,"Lakeland Power Distribution Ltd.","Innisfil Hydro Distribution Systems Limited",null,"GENERAL SERVICE GREATER THAN 1,000 KW","kW"]
["GENERAL SERVICE GREATER THAN 50 kW - WMP",null,null,null,null,null,null,null,"Rate Rider for Deferral/Variance Account Disposition (2014) - effective until December 31, 2015",null,null,null,null,null,null,null,null,null,null,null,null,null,null,null,null,null,"Overtime Locate",null,null,null,null,null,null,null,null,null,null,"London Hydro Inc.","Kashechewan Power Corporation",null,"GENERAL SERVICE INTERMEDIATE 1,000 TO 4,999 KW","kW"]
["GENERAL SERVICE INTERMEDIATE 1,000 TO 4,999 KW",null,null,null,null,null,null,null,"Rate Rider for Deferral/Variance Account Dispositon (2012) - effective until April 30, 2016",null,null,null,null,null,null,null,null,null,null,null,null,null,null,null,null,null,"Owner Requested Disconnection/Reconnection – after regular hours",null,null,null,null,null,null,null,null,null,null,"Midland Power Utility Corporation","Kenora Hydro Electric Corporation Ltd.",null,"GENERAL SERVICE INTERMEDIATE RATE CLASS 1,000 TO 4,999 KW (FORMERLY GENERAL SERVICE > 50 KW CUSTOMERS)","kW"]
["GENERAL SERVICE INTERMEDIATE RATE CLASS 1,000 TO 4,999 KW (FORMERLY GENERAL SERVICE > 50 KW CUSTOMERS)",null,null,null,null,null,null,null,"Rate Rider for Disposition of Accounting Changes Under CGAAP Account 1576 - effective until April 30, 2016",null,null,null,null,null,null,null,null,null,null,null,null,null,null,null,null,null,"Owner Requested Disconnection/Reconnection – during regular hours",null,null,null,null,null,null,null,null,null,null,"Milton Hydro Distribution inc.","Kingston Hydro Corporation",null,"GENERAL SERVICE INTERMEDIATE RATE CLASS 1,000 TO 4,999 KW (FORMERLY LARGE USE CUSTOMERS)","kW"]
["GENERAL SERVICE INTERMEDIATE RATE CLASS 1,000 TO 4,999 KW (FORMERLY LARGE USE CUSTOMERS)",null,null,null,null,null,null,null,"Rate Rider for Disposition of Deferral/Variance Accounts (2010) - effective until December 31, 2014",null,null,null,null,null,null,null,null,null,null,null,null,null,null,null,null,null,"Returned cheque (plus bank charges)",null,null,null,null,null,null,null,null,null,null,"Newmarket - Tay Power Distribution Ltd.","Kitchener-Wilmot Hydro Inc.",null,"GENERAL SERVICE LESS THAN 50 KW - SINGLE PHASE ENERGY-BILLED [G1]","kWh"]
["GENERAL SERVICE LESS THAN 50 KW",null,null,null,null,null,null,null,"Rate Rider for Disposition of Deferral/Variance Accounts (2011) - effective until April 30, 2015",null,null,null,null,null,null,null,null,null,null,null,null,null,null,null,null,null,"Rural system expansion / line connection fee",null,null,null,null,null,null,null,null,null,null,"Niagara Peninsula Energy Inc.","Lakefront Utilities Inc.",null,"GENERAL SERVICE LESS THAN 50 KW - THREE PHASE ENERGY-BILLED [G3]","kWh"]
["GENERAL SERVICE LESS THAN 50 KW - SINGLE PHASE ENERGY-BILLED [G1]",null,null,null,null,null,null,null,"Rate Rider for Disposition of Deferral/Variance Accounts (2011) - effective until April 30, 2016",null,null,null,null,null,null,null,null,null,null,null,null,null,null,null,null,null,"Same Day Open Trench",null,null,null,null,null,null,null,null,null,null,"Niagara-on-the-Lake Hydro Inc.","Lakeland Power Distribution Ltd.",null,"GENERAL SERVICE LESS THAN 50 KW - TRANSMISSION CLASS ENERGY-BILLED [T]","kWh"]
["GENERAL SERVICE LESS THAN 50 KW - THREE PHASE ENERGY-BILLED [G3]",null,null,null,null,null,null,null,"Rate Rider for Disposition of Deferral/Variance Accounts (2012) - effective until April 30, 2014",null,null,null,null,null,null,null,null,null,null,null,null,null,null,null,null,null,"Scheduled Day Open Trench",null,null,null,null,null,null,null,null,null,null,"Norfolk Power Distribution Inc.","London Hydro Inc.",null,"GENERAL SERVICE LESS THAN 50 KW - URBAN ENERGY-BILLED [UG]","kWh"]
["GENERAL SERVICE LESS THAN 50 KW - TRANSMISSION CLASS ENERGY-BILLED [T]",null,null,null,null,null,null,null,"Rate Rider for Disposition of Deferral/Variance Accounts (2012) - effective until April 30, 2015",null,null,null,null,null,null,null,null,null,null,null,null,null,null,null,null,null,"Service call – after regular hours",null,null,null,null,null,null,null,null,null,null,"North Bay Hydro Distribution Limited","Midland Power Utility Corporation",null,"GENERAL SERVICE LESS THAN 50 KW","kWh"]
["GENERAL SERVICE LESS THAN 50 KW - URBAN ENERGY-BILLED [UG]",null,null,null,null,null,null,null,"Rate Rider for Disposition of Deferral/Variance Accounts (2012) - effective until April 30, 2016",null,null,null,null,null,null,null,null,null,null,null,null,null,null,null,null,null,"Service call – customer owned equipment",null,null,null,null,null,null,null,null,null,null,"Northern Ontario Wires Inc.","Milton Hydro Distribution inc.",null,"GENERAL SERVICE SINGLE PHASE - G1","kW"]
["GENERAL SERVICE SINGLE PHASE - G1",null,null,null,null,null,null,null,"Rate Rider for Disposition of Deferral/Variance Accounts (2012) - effective until August 31, 2014",null,null,null,null,null,null,null,null,null,null,null,null,null,null,null,null,null,"Service Call – Customer-owned Equipment – After Regular Hours",null,null,null,null,null,null,null,null,null,null,"Oakville Hydro Electricity Distribution Inc.","Newmarket - Tay Power Distribution Ltd. - Newmarket",null,"GENERAL SERVICE THREE PHASE - G3","kW"]
["GENERAL SERVICE THREE PHASE - G3",null,null,null,null,null,null,null,"Rate Rider for Disposition of Deferral/Variance Accounts (2012) - effective until December 31, 2015",null,null,null,null,null,null,null,null,null,null,null,null,null,null,null,null,null,"Service Call – Customer-owned Equipment – During Regular Hours",null,null,null,null,null,null,null,null,null,null,"Orangeville Hydro Limited","Newmarket - Tay Power Distribution Ltd. - Tay",null,"INTERMEDIATE USERS","kW"]
["INTERMEDIATE USERS",null,null,null,null,null,null,null,"Rate Rider for Disposition of Deferral/Variance Accounts (2012) - effective until December 31, 2016 Applicable only in the former service area of Clinton Power",null,null,null,null,null,null,null,null,null,null,null,null,null,null,null,null,null,"Service Charge for onsite interrogation of interval meter due to customer phone line failure - required weekly until line repaired $ 6",null,null,null,null,null,null,null,null,null,null,"Orillia Power Distribution Corporation","Niagara Peninsula Energy Inc. - Niagara Falls",null,"INTERMEDIATE WITH SELF GENERATION","kW"]
["INTERMEDIATE WITH SELF GENERATION",null,null,null,null,null,null,null,"Rate Rider for Disposition of Deferral/Variance Accounts (2012) – effective until December 31, 2016 Applicable only in the former service area of Clinton Power",null,null,null,null,null,null,null,null,null,null,null,null,null,null,null,null,null,"Service Layout - Commercial",null,null,null,null,null,null,null,null,null,null,"Oshawa PUC Networks Inc.","Niagara Peninsula Energy Inc. - Peninsula West",null,"LARGE USE - 3TS","kW"]
["LARGE USE",null,null,null,null,null,null,null,"Rate Rider for Disposition of Deferral/Variance Accounts (2012) - effective until January 31, 2014",null,null,null,null,null,null,null,null,null,null,null,null,null,null,null,null,null,"Service Layout - ResidentiaI",null,null,null,null,null,null,null,null,null,null,"Ottawa River Power Corporation","Niagara-on-the-Lake Hydro Inc.",null,"LARGE USE - FORD ANNEX","kW"]
["LARGE USE - 3TS",null,null,null,null,null,null,null,"Rate Rider for Disposition of Deferral/Variance Accounts (2012) - effective until June 30, 2014",null,null,null,null,null,null,null,null,null,null,null,null,null,null,null,null,null,"Special Billing Service (sub-metering charge per meter)",null,null,null,null,null,null,null,null,null,null,"Parry Sound Power Corporation","Norfolk Power Distribution Inc.",null,"LARGE USE - REGULAR","kW"]
["LARGE USE - FORD ANNEX",null,null,null,null,null,null,null,"Rate Rider for Disposition of Deferral/Variance Accounts (2013) - Applicable only to Wholesale Market Participants - effective until April 30, 2015",null,null,null,null,null,null,null,null,null,null,null,null,null,null,null,null,null,"Special meter reads",null,null,null,null,null,null,null,null,null,null,"Peterborough Distribution Incorporated","North Bay Hydro Distribution Limited",null,"LARGE USE > 5000 KW","kW"]
["LARGE USE - REGULAR",null,null,null,null,null,null,null,"Rate Rider for Disposition of Deferral/Variance Accounts (2013) - effective until April 30, 2014",null,null,null,null,null,null,null,null,null,null,null,null,null,null,null,null,null,"Specific Charge for Access to the Power Poles - $/pole/year",null,null,null,null,null,null,null,null,null,null,"PowerStream Inc.","Northern Ontario Wires Inc.",null,"LARGE USE","kW"]
["LARGE USE > 5000 KW",null,null,null,null,null,null,null,"Rate Rider for Disposition of Deferral/Variance Accounts (2013) - effective until April 30, 2015",null,null,null,null,null,null,null,null,null,null,null,null,null,null,null,null,null,"Specific Charge for Bell Canada Access to the Power Poles – per pole/year",null,null,null,null,null,null,null,null,null,null,"PUC Distribution Inc.","Oakville Hydro Electricity Distribution Inc.",null,"microFIT","$"]
["microFIT",null,null,null,null,null,null,null,"Rate Rider for Disposition of Deferral/Variance Accounts (2013) - effective until April 30, 2015, not applicable to Wholesale Market Participants",null,null,null,null,null,null,null,null,null,null,null,null,null,null,null,null,null,"Switching for company maintenance – Charge based on Time and Materials",null,null,null,null,null,null,null,null,null,null,"Renfrew Hydro Inc.","Orangeville Hydro Limited",null,"RESIDENTIAL - HENSALL","kWh"]
["RESIDENTIAL",null,null,null,null,null,null,null,"Rate Rider for Disposition of Deferral/Variance Accounts (2013) - effective until April 30, 2017",null,null,null,null,null,null,null,null,null,null,null,null,null,null,null,null,null,"Temporary Service – Install & remove – overhead – no transformer",null,null,null,null,null,null,null,null,null,null,"Rideau St. Lawrence Distribution Inc.","Orillia Power Distribution Corporation",null,"RESIDENTIAL - HIGH DENSITY [R1]","kWh"]
["RESIDENTIAL - HENSALL",null,null,null,null,null,null,null,"Rate Rider for Disposition of Deferral/Variance Accounts (2013) - effective until August 31, 2014",null,null,null,null,null,null,null,null,null,null,null,null,null,null,null,null,null,"Temporary Service – Install & remove – overhead – with transformer",null,null,null,null,null,null,null,null,null,null,"Sioux Lookout Hydro Inc.","Oshawa PUC Networks Inc.",null,"RESIDENTIAL - LOW DENSITY [R2]","kWh"]
["RESIDENTIAL - HIGH DENSITY [R1]",null,null,null,null,null,null,null,"Rate Rider for Disposition of Deferral/Variance Accounts (2013) - effective until December 31, 2014",null,null,null,null,null,null,null,null,null,null,null,null,null,null,null,null,null,"Temporary Service – Install & remove – underground – no transformer",null,null,null,null,null,null,null,null,null,null,"St. Thomas Energy Inc.","Ottawa River Power Corporation",null,"RESIDENTIAL - MEDIUM DENSITY [R1]","kWh"]
["RESIDENTIAL - LOW DENSITY [R2]",null,null,null,null,null,null,null,"Rate Rider for Disposition of Deferral/Variance Accounts (2013) - effective until May 31, 2014",null,null,null,null,null,null,null,null,null,null,null,null,null,null,null,null,null,"Temporary service install & remove – overhead – no transformer",null,null,null,null,null,null,null,null,null,null,"Thunder Bay Hydro Electricity Distribution Inc.","Parry Sound Power Corporation",null,"RESIDENTIAL - NORMAL DENSITY [R2]","kWh"]
["RESIDENTIAL - MEDIUM DENSITY [R1]",null,null,null,null,null,null,null,"Rate Rider for Disposition of Deferred PILs Variance Account 1562 - effective until March 31, 2016",null,null,null,null,null,null,null,null,null,null,null,null,null,null,null,null,null,"Temporary Service Install & Remove – Overhead – With Transformer",null,null,null,null,null,null,null,null,null,null,"Tillsonburg Hydro Inc.","Peterborough Distribution Incorporated",null,"RESIDENTIAL - TIME OF USE","kWh"]
["RESIDENTIAL - NORMAL DENSITY [R2]",null,null,null,null,null,null,null,"Rate Rider for Disposition of Deferred PILs Variance Account 1562 (2012) - effective until April 30, 2015",null,null,null,null,null,null,null,null,null,null,null,null,null,null,null,null,null,"Temporary Service Install & Remove – Underground – No Transformer",null,null,null,null,null,null,null,null,null,null,"Toronto Hydro-Electric System Limited","PowerStream Inc. - Barrie",null,"RESIDENTIAL - URBAN [UR]","kWh"]
["RESIDENTIAL - TIME OF USE",null,null,null,null,null,null,null,"Rate Rider for Disposition of Deferred PILs Variance Account 1562 (2012) - effective until April 30, 2016",null,null,null,null,null,null,null,null,null,null,null,null,null,null,null,null,null,"Temporary service installation and removal – overhead – no transformer",null,null,null,null,null,null,null,null,null,null,"Veridian Connections Inc.","PowerStream Inc. - South",null,"RESIDENTIAL REGULAR","kWh"]
["RESIDENTIAL - URBAN [UR]",null,null,null,null,null,null,null,"Rate Rider for Disposition of Deferred PILs Variance Account 1562 (2nd Installment - 2012) - effective until April 30, 2016",null,null,null,null,null,null,null,null,null,null,null,null,null,null,null,null,null,"Temporary service installation and removal – overhead – with transformer",null,null,null,null,null,null,null,null,null,null,"Wasaga Distribution Inc.","PUC Distribution Inc.",null,"RESIDENTIAL","kWh"]
["RESIDENTIAL REGULAR",null,null,null,null,null,null,null,"Rate Rider for Disposition of Deferred PILs Variance Account 1562 (per connection) (2012) - effective until April 30, 2015",null,null,null,null,null,null,null,null,null,null,null,null,null,null,null,null,null,"Temporary service installation and removal – underground – no transformer",null,null,null,null,null,null,null,null,null,null,"Waterloo North Hydro Inc.","Renfrew Hydro Inc.",null,"RESIDENTIAL SUBURBAN SEASONAL","kWh"]
["RESIDENTIAL SUBURBAN",null,null,null,null,null,null,null,"Rate Rider for Disposition of Deferred PILs Variance Account 1562 (per connection) (2012) - effective until April 30, 2016",null,null,null,null,null,null,null,null,null,null,null,null,null,null,null,null,null,null,null,null,null,null,null,null,null,null,null,null,"Welland Hydro-Electric System Corp.","Rideau St. Lawrence Distribution Inc.",null,"RESIDENTIAL SUBURBAN","kWh"]
["RESIDENTIAL SUBURBAN SEASONAL",null,null,null,null,null,null,null,"Rate Rider for Disposition of Global Adjustment Sub-Account (2011) - effective until April 30, 2015 Applicable only for Non-RPP Customers",null,null,null,null,null,null,null,null,null,null,null,null,null,null,null,null,null,null,null,null,null,null,null,null,null,null,null,null,"Wellington North Power Inc.","Sioux Lookout Hydro Inc.",null,"RESIDENTIAL SUBURBAN YEAR ROUND","kWh"]
["RESIDENTIAL SUBURBAN YEAR ROUND",null,null,null,null,null,null,null,"Rate Rider for Disposition of Global Adjustment Sub-Account (2011) - effective until April 30, 2016 Applicable only for Non-RPP Customers",null,null,null,null,null,null,null,null,null,null,null,null,null,null,null,null,null,null,null,null,null,null,null,null,null,null,null,null,"West Coast Huron Energy Inc.","St. Thomas Energy Inc.",null,"RESIDENTIAL URBAN","kWh"]
["RESIDENTIAL URBAN",null,null,null,null,null,null,null,"Rate Rider for Disposition of Global Adjustment Sub-Account (2012) - effective until April 30, 2014 Applicable only for Non-RPP Customers",null,null,null,null,null,null,null,null,null,null,null,null,null,null,null,null,null,null,null,null,null,null,null,null,null,null,null,null,"West Perth Power Inc.","Thunder Bay Hydro Electricity Distribution Inc.",null,"RESIDENTIAL URBAN YEAR-ROUND","kWh"]
["RESIDENTIAL URBAN YEAR-ROUND",null,null,null,null,null,null,null,"Rate Rider for Disposition of Global Adjustment Sub-Account (2012) - effective until April 30, 2015 Applicable only for Non-RPP Customers",null,null,null,null,null,null,null,null,null,null,null,null,null,null,null,null,null,null,null,null,null,null,null,null,null,null,null,null,"Westario Power Inc.","Tillsonburg Hydro Inc.",null,"SEASONAL RESIDENTIAL - HIGH DENSITY [R3]","kWh"]
["SEASONAL RESIDENTIAL",null,null,null,null,null,null,null,"Rate Rider for Disposition of Global Adjustment Sub-Account (2012) - effective until April 30, 2015 Applicatble only for Non-RPP Customers",null,null,null,null,null,null,null,null,null,null,null,null,null,null,null,null,null,null,null,null,null,null,null,null,null,null,null,null,"Whitby Hydro Electric Corporation","Toronto Hydro-Electric System Limited",null,"SEASONAL RESIDENTIAL - NORMAL DENSITY [R4]","kWh"]
["SEASONAL RESIDENTIAL - HIGH DENSITY [R3]",null,null,null,null,null,null,null,"Rate Rider for Disposition of Global Adjustment Sub-Account (2012) - effective until April 30, 2016 Applicable only for Non-RPP Customers",null,null,null,null,null,null,null,null,null,null,null,null,null,null,null,null,null,null,null,null,null,null,null,null,null,null,null,null,"Woodstock Hydro Services Inc.","Veridian Connections Inc.",null,"SEASONAL RESIDENTIAL","kWh"]
["SEASONAL RESIDENTIAL - NORMAL DENSITY [R4]",null,null,null,null,null,null,null,"Rate Rider for Disposition of Global Adjustment Sub-Account (2012) - effective until January 31, 2014. Applicable only for Non-RPP Customers",null,null,null,null,null,null,null,null,null,null,null,null,null,null,null,null,null,null,null,null,null,null,null,null,null,null,null,null,null,"Veridian Connections Inc. - Gravenhurst",null,"SENTINEL LIGHTING","kW"]
["SENTINEL LIGHTING",null,null,null,null,null,null,null,"Rate Rider for Disposition of Global Adjustment Sub-Account (2012) - effective until June 30, 2014 Applicable only for Non-RPP Customers",null,null,null,null,null,null,null,null,null,null,null,null,null,null,null,null,null,null,null,null,null,null,null,null,null,null,null,null,null,"Wasaga Distribution Inc.",null,"SMALL COMMERCIAL AND USL - PER CONNECTION","kW"]
["SMALL COMMERCIAL AND USL - PER CONNECTION",null,null,null,null,null,null,null,"Rate Rider for Disposition of Global Adjustment Sub-Account (2012) Applicable only for Non-RPP Customers - effective until August 31, 2014",null,null,null,null,null,null,null,null,null,null,null,null,null,null,null,null,null,null,null,null,null,null,null,null,null,null,null,null,null,"Waterloo North Hydro Inc.",null,"SMALL COMMERCIAL AND USL - PER METER","kW"]
["SMALL COMMERCIAL AND USL - PER METER",null,null,null,null,null,null,null,"Rate Rider for Disposition of Global Adjustment Sub-Account (2012) Applicable only to Non-RPP Customers - effective until August 31, 2014",null,null,null,null,null,null,null,null,null,null,null,null,null,null,null,null,null,null,null,null,null,null,null,null,null,null,null,null,null,"Welland Hydro-Electric System Corp.",null,"STANDARD A GENERAL SERVICE AIR ACCESS","kW"]
["STANDARD A GENERAL SERVICE AIR ACCESS",null,null,null,null,null,null,null,"Rate Rider for Disposition of Global Adjustment Sub-Account (2013) - effective until April 30, 2014 Applicable only for Non-RPP Customers",null,null,null,null,null,null,null,null,null,null,null,null,null,null,null,null,null,null,null,null,null,null,null,null,null,null,null,null,null,"Wellington North Power Inc.",null,"STANDARD A GENERAL SERVICE ROAD/RAIL","kW"]
["STANDARD A GENERAL SERVICE ROAD/RAIL",null,null,null,null,null,null,null,"Rate Rider for Disposition of Global Adjustment Sub-Account (2013) - effective until April 30, 2015 Applicable only for Non-RPP Customers",null,null,null,null,null,null,null,null,null,null,null,null,null,null,null,null,null,null,null,null,null,null,null,null,null,null,null,null,null,"West Coast Huron Energy Inc.",null,"STANDARD A RESIDENTIAL AIR ACCESS","kW"]
["STANDARD A GRID CONNECTED",null,null,null,null,null,null,null,"Rate Rider for Disposition of Global Adjustment Sub-Account (2013) - effective until April 30, 2015 Applicable only for Non-RPP Customers and excluding Wholesale Market Participants",null,null,null,null,null,null,null,null,null,null,null,null,null,null,null,null,null,null,null,null,null,null,null,null,null,null,null,null,null,"West Perth Power Inc.",null,"STANDARD A RESIDENTIAL ROAD/RAIL","kW"]
["STANDARD A RESIDENTIAL AIR ACCESS",null,null,null,null,null,null,null,"Rate Rider for Disposition of Global Adjustment Sub-Account (2013) - effective until April 30, 2017 Applicable only for Non-RPP Customers",null,null,null,null,null,null,null,null,null,null,null,null,null,null,null,null,null,null,null,null,null,null,null,null,null,null,null,null,null,"Westario Power Inc.",null,"STANDBY - GENERAL SERVICE 1,000 - 5,000 KW","kW"]
["STANDARD A RESIDENTIAL ROAD/RAIL",null,null,null,null,null,null,null,"Rate Rider For Disposition of Global Adjustment Sub-Account (2013) - effective until August 31, 2014 Applicable only for Non-RPP Customers",null,null,null,null,null,null,null,null,null,null,null,null,null,null,null,null,null,null,null,null,null,null,null,null,null,null,null,null,null,"Whitby Hydro Electric Corporation",null,"STANDBY - GENERAL SERVICE 50 - 1,000 KW","kW"]
["STANDBY - GENERAL SERVICE 1,000 - 5,000 KW",null,null,null,null,null,null,null,"Rate Rider for Disposition of Global Adjustment Sub-Account (2013) - effective until December 31, 2014 Applicable only for Non-RPP Customers",null,null,null,null,null,null,null,null,null,null,null,null,null,null,null,null,null,null,null,null,null,null,null,null,null,null,null,null,null,"Woodstock Hydro Services Inc.",null,"STANDBY - LARGE USE","kW"]
["STANDBY - GENERAL SERVICE 50 - 1,000 KW",null,null,null,null,null,null,null,"Rate Rider for Disposition of Global Adjustment Sub-Account (2013) - effective until May 31, 2014 Applicable only for Non-RPP Customers",null,null,null,null,null,null,null,null,null,null,null,null,null,null,null,null,null,null,null,null,null,null,null,null,null,null,null,null,null,null,null,"STANDBY DISTRIBUTION SERVICE","kW"]
["STANDBY - LARGE USE",null,null,null,null,null,null,null,"Rate Rider for Disposition of Global Adjustment Sub-Account (2014) - effective until December 31, 2014. Applicable only for Non-RPP - Class B Customers",null,null,null,null,null,null,null,null,null,null,null,null,null,null,null,null,null,null,null,null,null,null,null,null,null,null,null,null,null,null,null,"STANDBY POWER - APPROVED ON AN INTERIM BASIS","kW"]
["STANDBY DISTRIBUTION SERVICE",null,null,null,null,null,null,null,"Rate Rider for Disposition of Global Adjustment Sub-Account (2014) - effective until December 31, 2014. Applicable only for Non-RPP Customers",null,null,null,null,null,null,null,null,null,null,null,null,null,null,null,null,null,null,null,null,null,null,null,null,null,null,null,null,null,null,null,"STANDBY POWER GENERAL SERVICE 1,500 TO 4,999 KW","kW"]
["STANDBY POWER",null,null,null,null,null,null,null,"Rate Rider for Disposition of Global Adjustment Sub-Account (2014) - effective until December 31, 2014. Applicable only for Non-RPP Customers - Class A Customers",null,null,null,null,null,null,null,null,null,null,null,null,null,null,null,null,null,null,null,null,null,null,null,null,null,null,null,null,null,null,null,"STANDBY POWER GENERAL SERVICE 50 TO 1,499 KW","kW"]
["STANDBY POWER - APPROVED ON AN INTERIM BASIS",null,null,null,null,null,null,null,"Rate Rider for Disposition of Global Adjustment Sub-Account (2014) - effective until December 31, 2014. Applicable only for Non-RPP Customers - Interval Metered",null,null,null,null,null,null,null,null,null,null,null,null,null,null,null,null,null,null,null,null,null,null,null,null,null,null,null,null,null,null,null,"STANDBY POWER GENERAL SERVICE LARGE USE","kW"]
["STANDBY POWER GENERAL SERVICE 1,500 TO 4,999 KW",null,null,null,null,null,null,null,"Rate Rider for Disposition of Global Adjustment Sub-Account (2014) - effective until December 31, 2014. Applicable only for Non-RPP Customers - Non Interval Metered",null,null,null,null,null,null,null,null,null,null,null,null,null,null,null,null,null,null,null,null,null,null,null,null,null,null,null,null,null,null,null,"STANDBY POWER","kW"]
["STANDBY POWER GENERAL SERVICE 50 TO 1,499 KW",null,null,null,null,null,null,null,"Rate Rider for Disposition of Post Retirement Actuarial Gain - effective until March 31, 2025",null,null,null,null,null,null,null,null,null,null,null,null,null,null,null,null,null,null,null,null,null,null,null,null,null,null,null,null,null,null,null,"STREET LIGHTING","kWh"]
["STANDBY POWER GENERAL SERVICE LARGE USE",null,null,null,null,null,null,null,"Rate Rider for Disposition of Residual Hisotrical Smart Meter Costs - effective until April 30, 2015",null,null,null,null,null,null,null,null,null,null,null,null,null,null,null,null,null,null,null,null,null,null,null,null,null,null,null,null,null,null,null,"SUB TRANSMISSION [ST]","kW"]
["STREET LIGHTING",null,null,null,null,null,null,null,"Rate Rider for Disposition of Residual Hisotrical Smart Meter Costs - effective until April 30, 2017",null,null,null,null,null,null,null,null,null,null,null,null,null,null,null,null,null,null,null,null,null,null,null,null,null,null,null,null,null,null,null,"UNMETERED SCATTERED LOAD","kWh"]
["SUB TRANSMISSION [ST]",null,null,null,null,null,null,null,"Rate Rider for Disposition of Residual Historical Smart Meter Costs - effective until April 30, 2014",null,null,null,null,null,null,null,null,null,null,null,null,null,null,null,null,null,null,null,null,null,null,null,null,null,null,null,null,null,null,null,"URBAN GENERAL SERVICE DEMAND BILLED (50 KW AND ABOVE) [UGD]","kW"]
["UNMETERED SCATTERED LOAD",null,null,null,null,null,null,null,"Rate Rider for Disposition of Residual Historical Smart Meter Costs - effective until April 30, 2016",null,null,null,null,null,null,null,null,null,null,null,null,null,null,null,null,null,null,null,null,null,null,null,null,null,null,null,null,null,null,null,"URBAN GENERAL SERVICE ENERGY BILLED (LESS THAN 50 KW) [UGE]","kWh"]
["URBAN GENERAL SERVICE DEMAND BILLED (50 KW AND ABOVE) [UGD]",null,null,null,null,null,null,null,"Rate Rider for Disposition of Residual Historical Smart Meter Costs - effective until August 31, 2014",null,null,null,null,null,null,null,null,null,null,null,null,null,null,null,null,null,null,null,null,null,null,null,null,null,null,null,null,null,null,null,"WESTPORT SEWAGE TREATMENT PLANT","kW"]
["URBAN GENERAL SERVICE ENERGY BILLED (LESS THAN 50 KW) [UGE]",null,null,null,null,null,null,null,"Rate Rider for Disposition of Residual Historical Smart Meter Costs - effective until August 31, 2015",null,null,null,null,null,null,null,null,null,null,null,null,null,null,null,null,null,null,null,null,null,null,null,null,null,null,null,null,null,null,null,"YEAR-ROUND RESIDENTIAL - R2","kWh"]
["WESTPORT SEWAGE TREATMENT PLANT",null,null,null,null,null,null,null,"Rate Rider for Disposition of Residual Historical Smart Meter Costs - effective until December 31, 2014"]
["YEAR-ROUND RESIDENTIAL - R2",null,null,null,null,null,null,null,"Rate Rider for Disposition of Residual Historical Smart Meter Costs – effective until December 31, 2014"]
[null,null,null,null,null,null,null,null,"Rate Rider for Disposition of Residual Historical Smart Meter Costs - effective until December 31, 2015"]
[null,null,null,null,null,null,null,null,"Rate Rider for Disposition of Residual Historical Smart Meter Costs - effective until December 31, 2016"]
[null,null,null,null,null,null,null,null,"Rate Rider for Disposition of Residual Historical Smart Meter Costs - effective until October 31, 2014"]
[null,null,null,null,null,null,null,null,"Rate Rider for Disposition of Residual Historical Smart Meter Costs - effective until September 30, 2014"]
[null,null,null,null,null,null,null,null,"Rate Rider for Disposition of Residual Historical Smart Meter Costs - Non-Interval Metered \n - effective until April 30, 2014"]
[null,null,null,null,null,null,null,null,"Rate Rider for Disposition of Residual Historical Smart Meter Costs 2 - in effect until the effective \n date of the next cost of service-based rate order"]
[null,null,null,null,null,null,null,null,"Rate Rider for Disposition of Residual Historical Smart Meter Costs 3 - in effect until the effective \n date of the next cost of service-based rate order"]
[null,null,null,null,null,null,null,null,"Rate Rider for Disposition of Residual Incremental Historical Smart Meter Costs - \n effective until August 31, 2015"]
[null,null,null,null,null,null,null,null,"Rate Rider for Disposition of Stranded Meter costs - effective until April 30, 2015"]
[null,null,null,null,null,null,null,null,"Rate Rider for Disposition of Stranded Meter Costs - effective until April 30, 2016"]
[null,null,null,null,null,null,null,null,"Rate Rider for Disposition of Stranded Meter Costs - effective until April 30, 2017"]
[null,null,null,null,null,null,null,null,"Rate Rider for Global Adjustment Sub Account Disposition - effective until April 30, 2016 Applicable only for Non RPP Customers"]
[null,null,null,null,null,null,null,null,"Rate Rider for Global Adjustment Sub-Account Disposition \n Applicable only for Non-RPP Customers – effective until April 30, 2015"]
[null,null,null,null,null,null,null,null,"Rate Rider for Global Adjustment Sub-Account Disposition (2014) - effective until April 28, 2016 Applicable only for Non-RPP Customers"]
[null,null,null,null,null,null,null,null,"Rate Rider for Global Adjustment Sub-Account Disposition (2014) - effective until April 30, 2015 Applicable only for Non-RPP Customers"]
[null,null,null,null,null,null,null,null,"Rate Rider for Global Adjustment Sub-Account Disposition (2014) - effective until December 30, 2015 Applicable only for Non-RPP Customers"]
[null,null,null,null,null,null,null,null,"Rate Rider for Global Adjustment Sub-Account Disposition (2014) - effective until December 31, 2014 Applicable only for Non-RPP Customers"]
[null,null,null,null,null,null,null,null,"Rate Rider for Global Adjustment Sub-Account Disposition (2014) - effective until December 31, 2015 Applicable only for Non-RPP Customers"]
[null,null,null,null,null,null,null,null,"Rate Rider for Global Adjustment Sub-Account Disposition (2014) - effective until December, 2015 Applicable only for Non-RPP Customers"]
[null,null,null,null,null,null,null,null,"Rate Rider for Incremental Capital - Distribution Volumetric - effective until April 30, 2016"]
[null,null,null,null,null,null,null,null,"Rate Rider for Incremental Capital - Service Charge - effective until April 30, 2016"]
[null,null,null,null,null,null,null,null,"Rate Rider for Incremental Capital (2012) - effective until April 30, 2015"]
[null,null,null,null,null,null,null,null,"Rate Rider for Lost Revenue Adjustment Mechanism Variance Account (LRAMVA) Recovery \n (2012 CDM Activities) - effective until April 30, 2015"]
[null,null,null,null,null,null,null,null,"Rate Rider for Recover of Residual Historical Smart meter Costs - effective until June 30, 2014"]
[null,null,null,null,null,null,null,null,"Rate Rider for Recovery of CGAAP/CWIP Differential - in effect until December 31, 2016"]
[null,null,null,null,null,null,null,null,"Rate Rider for Recovery of Foregone Revenue - effective until April 30, 2015"]
[null,null,null,null,null,null,null,null,"Rate Rider for Recovery of Forgone Revenue - effective until April 30, 2015"]
[null,null,null,null,null,null,null,null,"Rate Rider for Recovery of Forgone Revenue - effective until December 31, 2014"]
[null,null,null,null,null,null,null,null,"Rate Rider for Recovery of Green Energy Act related costs - effective until December 31, 2014"]
[null,null,null,null,null,null,null,null,"Rate Rider for Recovery of Incremental Capital (2013) - in effect until the effective date of the next cost of service-based rate order"]
[null,null,null,null,null,null,null,null,"Rate Rider for Recovery of Incremental Capital (2013) - in effect until the effective date of the\n next cost of service-based rate order"]
[null,null,null,null,null,null,null,null,"Rate Rider for Recovery of Incremental Capital (2013) (per connection) - in effect until the effective date of \n the next cost of service-based rate order"]
[null,null,null,null,null,null,null,null,"Rate Rider for Recovery of Incremental Capital (2013) (per connection)- in effect until the effective date of the next cost of service-based rate order"]
[null,null,null,null,null,null,null,null,"Rate Rider for Recovery of Incremental Capital Costs"]
[null,null,null,null,null,null,null,null,"Rate Rider for Recovery of Incremental Capital Costs - effective until April 30, 2015"]
[null,null,null,null,null,null,null,null,"Rate Rider for Recovery of Lost Revenue Adjustment Mechanism ( LRAM)/Shared Savings Mechanism (SSM) (2012) - effective until August 31, 2014"]
[null,null,null,null,null,null,null,null,"Rate Rider for Recovery of Lost Revenue Adjustment Mechanism (2013) - effective until December 31, 2014"]
[null,null,null,null,null,null,null,null,"Rate Rider for Recovery of Lost Revenue Adjustment Mechanism (LRAM) - effective until April 30, 2016"]
[null,null,null,null,null,null,null,null,"Rate Rider for Recovery of Lost Revenue Adjustment Mechanism (LRAM) (pre-2011 CDM Activities) - effective until April 30, 2015"]
[null,null,null,null,null,null,null,null,"Rate Rider for Recovery of Lost Revenue Adjustment Mechanism (LRAM) (pre-2011 CDM Activities) (2013) - effective until April 30, 2015"]
[null,null,null,null,null,null,null,null,"Rate Rider for Recovery of Lost Revenue Adjustment Mechanism (LRAM)/Shared Savings"]
[null,null,null,null,null,null,null,null,"Rate Rider for Recovery of Lost Revenue Adjustment Mechanism (LRAM)/Shared Savings Mechanism (SSM) - effective until December 31, 2014 and applicable in the service area excluding the former service area of Clinton Power"]
[null,null,null,null,null,null,null,null,"Rate Rider for Recovery of Lost Revenue Adjustment Mechanism (LRAM)/Shared Savings Mechanism (SSM) - effective until December 31, 2014 and applicable in the service area excluding the former service areas of Clinton Power and West Perth Power"]
[null,null,null,null,null,null,null,null,"Rate Rider for Recovery of Lost Revenue Adjustment Mechanism (LRAM)/Shared Savings Mechanism (SSM) - effective until December 31, 2014 and applicable only in the former service area of Clinton Power"]
[null,null,null,null,null,null,null,null,"Rate Rider for Recovery of Lost Revenue Adjustment Mechanism (LRAM)/Shared Savings Mechanism (SSM) - effective until December 31, 2014 and applicable only in the former service area of West Perth Power"]
[null,null,null,null,null,null,null,null,"Rate Rider for Recovery of Lost Revenue Adjustment Mechanism (LRAM)/Shared Savings Mechanism (SSM) - effective until March 31, 2016"]
[null,null,null,null,null,null,null,null,"Rate Rider for Recovery of Lost Revenue Adjustment Mechanism (LRAM)/Shared Savings Mechanism (SSM) (2012) - effective until August 31, 2014"]
[null,null,null,null,null,null,null,null,"Rate Rider for Recovery of Lost Revenue Adjustment Mechanism (LRAM)/Shared Savings Mechanism (SSM) Recovery - effective until April 30, 2015"]
[null,null,null,null,null,null,null,null,"Rate Rider for Recovery of Lost Revenue Adjustment Mechanism Variance Account (LRAMVA) (2014) - effective until April 30, 2015"]
[null,null,null,null,null,null,null,null,"Rate Rider for Recovery of Residual Historical Smart Meter Costs - effective July 1, 2012 - April 30, 2016"]
[null,null,null,null,null,null,null,null,"Rate Rider for Recovery of Smart Meter Incremental Revenue Requirement - effective until the date of the next cost of service-based rate order"]
[null,null,null,null,null,null,null,null,"Rate Rider for Recovery of Smart Meter Incremental Revenue Requirement - effective until the effective date of the next cost of service-based rate order, or October 31, 2017, whichever occurs earlier"]
[null,null,null,null,null,null,null,null,"Rate Rider for Recovery of Smart Meter Incremental Revenue Requirement - in effect until the effective date of the next cost of service-based rate order"]
[null,null,null,null,null,null,null,null,"Rate Rider for Recovery of Smart Meter Incremental Revenue Requirement - Non-Interval Metered - in effect until the effective date of the next cost of service-based rate order"]
[null,null,null,null,null,null,null,null,"Rate Rider for Recovery of Smart Meter Incremental Revenue Requirements - in effect until the effective date of the next cost of service application"]
[null,null,null,null,null,null,null,null,"Rate Rider for Recovery of Smart Meter Stranded Assets - effective until April 30, 2016"]
[null,null,null,null,null,null,null,null,"Rate Rider for Recovery of Storm Damage Costs - effective until August 31, 2017"]
[null,null,null,null,null,null,null,null,"Rate Rider for Recovery of Stranded Assets - effective until April 30, 2016"]
[null,null,null,null,null,null,null,null,"Rate Rider for Recovery of Stranded Meter Assets - effective July 1, 2012 - April 30, 2016"]
[null,null,null,null,null,null,null,null,"Rate Rider for Recovery of Stranded Meter Assets – effective until April 30, 2015"]
[null,null,null,null,null,null,null,null,"Rate Rider for Recovery of Stranded Meter Assets - effective until April 30, 2016"]
[null,null,null,null,null,null,null,null,"Rate Rider for Recovery of Stranded Meter Assets - effective until April 30, 2017"]
[null,null,null,null,null,null,null,null,"Rate Rider for Recovery of Stranded Meter Assets - effective until August 31, 2015"]
[null,null,null,null,null,null,null,null,"Rate Rider for Recovery of Stranded Meter Assets - effective until August 31, 2017"]
[null,null,null,null,null,null,null,null,"Rate Rider for Recovery of Stranded Meter Assets - effective until December 31, 2014"]
[null,null,null,null,null,null,null,null,"Rate Rider for Recovery of Stranded Meter Assets - effective until December 31, 2015"]
[null,null,null,null,null,null,null,null,"Rate Rider for Recovery of Stranded Meter Assets - effective until June 30, 2016"]
[null,null,null,null,null,null,null,null,"Rate Rider for Recovery of Stranded Meter Assets - effective until March 31, 2016"]
[null,null,null,null,null,null,null,null,"Rate Rider for Recovery of Stranded Meter Assets - effective until May 31, 2014"]
[null,null,null,null,null,null,null,null,"Rate Rider for Reversal of Deferral/Variance Account Disposition (2011) - effective until April 30, 2015"]
[null,null,null,null,null,null,null,null,"Rate Rider for Smart Meter Disposition - effective until April 30, 2016"]
[null,null,null,null,null,null,null,null,"Rate Rider for Smart Meter Incremental Revenue Requirement - in effect until the effective date of the next cost of service-based rate order"]
[null,null,null,null,null,null,null,null,"Rate Rider for Smart Metering Entity Charge - effective until October 31, 2018"]
[null,null,null,null,null,null,null,null,"Rate Rider for Stranded Meter Cost Recovery - effective until April 30, 2017"]
[null,null,null,null,null,null,null,null,"Rate Rider for Tax Change"]
[null,null,null,null,null,null,null,null,"Rate Rider for Tax Change - effective until April 30, 2015"]
[null,null,null,null,null,null,null,null,"Rate Rider for Tax Change (2014) - effective until April 30, 2015"]
[null,null,null,null,null,null,null,null,"Retail Transmission Rate - Line and Transformation Connection Service Rate"]
[null,null,null,null,null,null,null,null,"Retail Transmission Rate - Line and Transformation Connection Service Rate - (less than 1,000 kW)"]
[null,null,null,null,null,null,null,null,"Retail Transmission Rate - Line and Transformation Connection Service Rate - Interval Metered"]
[null,null,null,null,null,null,null,null,"Retail Transmission Rate - Line and Transformation Connection Service Rate - Interval Metered (1,000 to 4,999 kW)"]
[null,null,null,null,null,null,null,null,"Retail Transmission Rate - Line and Transformation Connection Service Rate - Interval Metered (less than 1,000 kW)"]
[null,null,null,null,null,null,null,null,"Retail Transmission Rate - Line and Transformation Connection Service Rate - Interval Metered < 1,000 kW"]
[null,null,null,null,null,null,null,null,"Retail Transmission Rate - Line and Transformation Connection Service Rate - Interval Metered > 1,000 kW"]
[null,null,null,null,null,null,null,null,"Retail Transmission Rate - Line and Transformation Connection Service Rate FOR ALL SERVICE AREAS EXCEPT HENSALL"]
[null,null,null,null,null,null,null,null,"Retail Transmission Rate - Line Connection Service Rate"]
[null,null,null,null,null,null,null,null,"Retail Transmission Rate - Network Service Rate"]
[null,null,null,null,null,null,null,null,"Retail Transmission Rate - Network Service Rate - (less than 1,000 kW)"]
[null,null,null,null,null,null,null,null,"Retail Transmission Rate - Network Service Rate - Interval Metered"]
[null,null,null,null,null,null,null,null,"Retail Transmission Rate - Network Service Rate - Interval Metered (1,000 to 4,999 kW)"]
[null,null,null,null,null,null,null,null,"Retail Transmission Rate - Network Service Rate - Interval Metered (less than 1,000 kW)"]
[null,null,null,null,null,null,null,null,"Retail Transmission Rate - Network Service Rate - Interval Metered > 1,000 kW"]
[null,null,null,null,null,null,null,null,"Retail Transmission Rate - Transformation Connection Service Rate"]
[null,null,null,null,null,null,null,null,"Rider for Global Adjustment Sub-Account Disposition (2012) - effective until April 30, 2016 Applicable only for Non-RPP Customers"]
[null,null,null,null,null,null,null,null,"Rural or Remote Electricity Rate Protection Charge (RRRP)"]
[null,null,null,null,null,null,null,null,"Sentinel lights (dusk-to-dawn) connected to unmetered wires will have a flat rate monthly energy charge added to the regular customer bill. Further servicing details are available in the distributor’s Conditions of Service."]
[null,null,null,null,null,null,null,null,"Service Charge"]
[null,null,null,null,null,null,null,null,"Service Charge (per connection)"]
[null,null,null,null,null,null,null,null,"Service Charge (per customer)"]
[null,null,null,null,null,null,null,null,"Service Charge (per light)"]
[null,null,null,null,null,null,null,null,"Smart Grid Funding Adder (2014) - in effect until December 31, 2014"]
[null,null,null,null,null,null,null,null,"Smart Meter Disposition Rider"]
[null,null,null,null,null,null,null,null,"Smart Meter Entity Charge"]
[null,null,null,null,null,null,null,null,"Smart Meter Incremental Revenue Requirement Rate Rider"]
[null,null,null,null,null,null,null,null,"Standard Supply Service - Administrative Charge (if applicable)"]
[null,null,null,null,null,null,null,null,"Standby Charge - for a month where standby power is not provided, the charge is based on the applicable General Service 50 to 4,999 kW or Large Use Distribution Volumetric Charge applied to the contracted amount (e.g. Nameplate rating of generating facility)."]
[null,null,null,null,null,null,null,null,"Standby Charge - for a month where standby power is not provided. The charge is applied to the amount of reserved load transfer capacity contracted or the amount of monthly peak load displaced by a generating facility"]
[null,null,null,null,null,null,null,null,"Standby Charge - for a month where standby power is not provided. The charge is applied to the contracted amount (e.g. nameplate rating of the generation facility)."]
[null,null,null,null,null,null,null,null,"Wholesale Market Service Rate"]

{"sheet":"lists2","index":68,"n_rows":187,"n_cols":4,"rows_kept":187,"cut":false,"hidden":true,"merged":[[0,0,0,3],[48,0,48,5],[94,0,94,1],[95,0,95,1],[96,0,96,1],[97,0,97,1],[125,0,125,1],[126,0,126,1],[127,0,127,1],[2,0,2,3],[5,0,5,3],[6,0,6,3],[7,0,7,3],[8,0,8,3],[37,0,37,1],[38,0,38,1],[39,0,39,1],[40,0,40,1],[41,0,41,1],[45,0,45,1],[47,0,47,1],[30,0,30,1],[31,0,31,1],[32,0,32,1],[192,0,192,1],[193,0,193,1],[194,0,194,1],[186,0,186,3],[186,4,186,7],[160,0,160,3],[160,4,160,7],[161,0,161,3],[161,4,161,7],[162,0,162,3],[162,4,162,7],[163,0,163,3],[163,4,163,7],[164,0,164,3],[164,4,164,7],[165,0,165,3],[165,4,165,7],[166,0,166,3],[166,4,166,7],[167,0,167,3],[181,0,181,1],[182,0,182,1],[189,0,189,1],[167,4,167,7],[191,0,191,1],[144,0,144,1],[145,0,145,1],[146,0,146,1],[147,0,147,1],[168,0,168,3],[178,0,178,1],[179,0,179,1],[180,0,180,1],[175,0,175,1],[176,0,176,1],[177,0,177,1],[172,0,172,1],[173,0,173,1],[174,0,174,1],[33,0,33,1],[34,0,34,1],[35,0,35,1],[54,0,54,1],[190,0,190,1],[110,0,110,1],[111,0,111,1],[112,0,112,1],[113,0,113,1],[114,0,114,1],[115,0,115,1],[116,0,116,1],[117,0,117,1],[118,0,118,1],[119,0,119,1],[120,0,120,1],[121,0,121,1],[122,0,122,1],[123,0,123,1],[124,0,124,1],[55,0,55,1],[56,0,56,1],[57,0,57,1],[63,0,63,3],[12,0,12,1],[13,0,13,1],[14,0,14,1],[15,0,15,1],[16,0,16,1],[17,0,17,1],[18,0,18,1],[19,0,19,1],[20,0,20,1],[21,0,21,1],[22,0,22,1],[23,0,23,1],[24,0,24,1],[25,0,25,1],[26,0,26,1],[27,0,27,1],[28,0,28,1],[29,0,29,1],[36,0,36,1],[46,0,46,1],[65,0,65,3],[65,4,65,7],[67,0,67,3],[67,4,67,7],[71,0,71,1],[72,0,72,1],[73,0,73,1],[74,0,74,1],[75,0,75,1],[76,0,76,1],[77,0,77,1],[78,0,78,1],[79,0,79,1],[80,0,80,1],[81,0,81,1],[82,0,82,1],[83,0,83,1],[84,0,84,1],[85,0,85,1],[86,0,86,1],[87,0,87,1],[88,0,88,1],[89,0,89,1],[90,0,90,1],[91,0,91,1],[92,0,92,1],[93,0,93,1],[98,0,98,1],[99,0,99,1],[100,0,100,1],[101,0,101,1],[102,0,102,1],[103,0,103,1],[104,0,104,1],[105,0,105,1],[109,0,109,1],[137,0,137,1],[138,0,138,1],[139,0,139,1],[140,0,140,1],[141,0,141,1],[142,0,142,1],[143,0,143,1],[129,0,129,1],[130,0,130,1],[132,0,132,1],[133,0,133,1],[131,0,131,1],[128,0,128,1],[136,0,136,1],[168,4,168,7],[170,0,170,1],[170,4,170,5],[171,0,171,1],[148,0,148,1],[149,0,149,1],[150,0,150,1],[151,0,151,1],[153,0,153,1],[154,0,154,1],[155,0,155,1],[156,0,156,1],[152,0,152,1]]}
["RESIDENTIAL Service Classification"]
[]
[]
["APPLICATION"]
[]
[]
[]
[]
[]
[]
["MONTHLY RATES AND CHARGES - Delivery Component"]
[]
[]
[]
[]
[]
[]
[]
[]
[]
[]
[]
[]
[]
[]
[]
[]
[]
[]
[]
[]
[]
[]
[]
[]
[]
[]
[]
[]
[]
[]
[]
[]
["MONTHLY RATES AND CHARGES - Regulatory Component"]
[]
["Wholesale Market Service Rate",null,"$/kWh",4.4000000000000003E-3]
["Rural Rate Protection Charge",null,"$/kWh",1.1000000000000001E-3]
["Standard Supply Service - Administrative Charge (if applicable)",null,"$",0.25]
[]
[]
[]
[]
["ALLOWANCES"]
[]
["Transformer Allowance for Ownership - per kW of billing demand/month"]
[]
[]
["Primary Metering Allowance for transformer losses – applied to measured demand and energy"]
[]
["SPECIFIC SERVICE CHARGES"]
[]
["APPLICATION"]
[]
["The application of these rates and charges shall be in accordance with the Licence of the Distributor and any Code or Order of the Board, and amendments thereto as approved by the Board, which may be applicable to the administration of this schedule."]
[]
["No charges to meet the costs of any work or service done or furnished for the purpose of the distribution of electricity shall be made except as permitted by this schedule, unless required by the Distributor’s Licence or a Code or Order of the Board, and amendments thereto as approved by the Board, or as specified herein."]
[]
["It should be noted that this schedule does not list any charges, assessments or credits that are required by law to be invoiced by a distributor and that are not subject to Board approval, such as the Debt Retirement Charge, the Global Adjustment, the Ontario Clean Energy Benefit and the HST."]
[]
["Customer Administration"]
[]
[]
[]
[]
[]
[]
[]
[]
[]
[]
[]
[]
[]
[]
[]
[]
[]
[]
[]
[]
[]
[]
[]
[]
[]
[]
[]
[]
[]
[]
[]
[]
[]
[]
[]
[]
[]
["Non-Payment of Account"]
[]
[]
[]
[]
[]
[]
[]
[]
[]
[]
[]
[]
[]
[]
[]
[]
[]
[]
[]
[]
[]
[]
[]
[]
[]
[]
[]
[]
[]
[]
[]
[]
[]
[]
[]
[]
[]
[]
[]
[]
[]
[]
[]
[]
[]
[]
[]
[]
[]
[]
["RETAIL SERVICE CHARGES (if applicable)"]
[]
["The application of these rates and charges shall be in accordance with the Licence of the Distributor and any Code or Order of the Board, and amendments thereto as approved by the Board, which may be applicable to the administration of this schedule."]
[]
["No rates and charges for the distribution of electricity and charges to meet the costs of any work or service done or furnished for the purpose of the distribution of electricity shall be made except as permitted by this schedule, unless required by the Distributor’s Licence or a Code or Order of the Board, and amendments thereto as approved by the Board, or as specified herein."]
[]
["Unless specifically noted, this schedule does not contain any charges for the electricity commodity, be it under the Regulated Price Plan, a contract with a retailer or the wholesale market price, as applicable."]
[]
["It should be noted that this schedule does not list any charges, assessments or credits that are required by law to be invoiced by a distributor and that are not subject to Board approval, such as the Debt Retirement Charge, the Global Adjustment, the Ontario Clean Energy Benefit and the HST."]
[]
["Retail Service Charges refer to services provided by a distributor to retailers or customers related to the supply of competitive electricity."]
[]
["One-time charge, per retailer, to establish the service agreement between the distributor and the retailer",null,"$",100]
["Monthly Fixed Charge, per retailer",null,"$",20]
["Monthly Variable Charge, per customer, per retailer",null,"$/cust.",0.5]
["Distributor-consolidated billing monthly charge, per customer, per retailer",null,"$/cust.",0.3]
["Retailer-consolidated billing monthly credit, per customer, per retailer",null,"$/cust.",-0.3]
["Service Transaction Requests (STR) "]
["Request fee, per request, applied to the requesting party",null,"$",0.25]
["Processing fee, per request, applied to the requesting party",null,"$",0.5]
["Request for customer information as outlined in Section 10.6.3 and Chapter 11 of the Retail"]
["Settlement Code directly to retailers and customers, if not delivered electronically through the"]
["Electronic Business Transaction (EBT) system, applied to the requesting party "]
["Up to twice a year",null,"$","no charge"]
["More than twice a year, per request (plus incremental delivery costs)",null,"$",2]
[]
["LOSS FACTORS"]
[]
["If the distributor is not capable of prorating changed loss factors jointly with distribution rates, the revised loss factors will be implemented upon the first subsequent billing for each billing cycle."]

{"sheet":"Sheet19","index":69,"n_rows":72,"n_cols":9,"rows_kept":72,"cut":false,"hidden":true,"merged":[]}
[null,"CGAAP","CGAAP","CGAAP","MIFRS","USGAAP","ASPE","ASPE","ASPE"]
[null,"N/A",2012,2013,null,null,"N/A",2012,2013]
["LDC Info","x","x","x","x","x","x","x","x"]
["Table of Contents","x","x","x","x","x","x","x","x"]
["COS Flowchart","x","x","x","x","x","x","x","x"]
["List of Key References","x","x","x","x","x","x","x","x"]
["App.2-AA_Capital Projects","x","x","x","x","x","x","x","x"]
["App.2-AB_Capital Expenditures","x","x","x","x","x","x","x","x"]
["App.2-BA1_Fix Asset Cont.CGAAP","x","x","x","n","x","x","x","x"]
["App.2-BA2_Fix Asset Cont.MIFRS","n","n","n","x","n","n","n","n"]
["Appendix 2-BB Service Life Comp","x","x","x","x","x","x","x","x"]
["Instruction for App. 2-C MIFRS","n","n","n","x","n","n","n","n"]
["App.2-CA_CGAAP_DepExp_2011","n","n","n","x","n","n","n","n"]
["App.2-CB_MIFRS_DepExp_2011","n","n","n","x","n","n","n","n"]
["App.2-CC_MIFRS_DepExp_2012","n","n","n","x","n","n","n","n"]
["App.2-CD_MIFRS_DepExp_2013","n","n","n","x","n","n","n","n"]
["App.2-CE_MIFRS_DepExp_2014","n","n","n","x","n","n","n","n"]
["App.2-CF_CGAAP_DepExp_2012","n","n","n","x","n","n","n","n"]
["App.2-CG_MIFRS_DepExp_2012","n","n","n","x","n","n","n","n"]
["App.2-CH_MIFRS_DepExp_2013","n","n","n","x","n","n","n","n"]
["App.2-CI_MIFRS_DepExp_2014","n","n","n","x","n","n","n","n"]
["App.2-CJ_CGAAP_DepExp_2012","n","n","n","x","n","n","n","n"]
["App.2-CK_CGAAP_DepExp_2013","n","n","n","x","n","n","n","n"]
["App.2-CL_MIFRS_DepExp_2013","n","n","n","x","n","n","n","n"]
["App.2-CM_MIFRS_DepExp_2014","n","n","n","x","n","n","n","n"]
["Instruction for App. 2-C CGAAP","x","x","x","n","n","x","x","x"]
["App.2-CN_OldCGAAP_DepExp_2012","x","x","n","n","n","x","x","n"]
["App.2-CO_NewCGAAP_DepExp_2012","x","x","n","n","n","x","x","n"]
["App.2-CP_NewCGAAP_DepExp_2013","x","x","n","n","n","x","x","n"]
["App.2-CQ NewCGAAP_DepExp_2014","x","x","n","n","n","x","x","n"]
["App.2-CR_OldCGAAP_DepExp_2012","x","n","x","n","n","x","n","x"]
["App.2-CS_OldCGAAP_DepExp_2013","x","n","x","n","n","x","n","x"]
["App.2-CT_NewCGAAP_DepExp_2013","x","n","x","n","n","x","n","x"]
["App.2-CU_NewCGAAP_DepExp_2014","x","n","x","n","n","x","n","x"]
["App.2-CV_USGAAP_DepExp","n","n","n","n","x","n","n","n"]
["App.2-DA_Overhead","n","n","n","x","n","n","n","n"]
["App.2-DB_Overhead","x","x","x","n","n","x","x","x"]
["App.2-EA_PP&E Deferral Account","n","n","n","x","x","n","n","n"]
["App.2-EB_PP&E Deferral Account","n","n","n","x","x","n","n","n"]
["App.2-EC_PP&E Deferral Account","n","n","n","x","x","n","n","n"]
["App.2-ED_Account 1576 (2012)","x","x","n","x","x","x","x","n"]
["App.2-EE_Account 1576 (2013)","x","n","x","x","x","x","n","x"]
["App.2-FA Proposed REG Invest.","o","o","o","o","o","o","o","o"]
["App.2-FB Calc of REG Improvemnt","o","o","o","o","o","o","o","o"]
["App.2-FC Calc of REG Expansion","o","o","o","o","o","o","o","o"]
["App.2-G SQI","x","x","x","x","x","x","x","x"]
["App.2-H_Other_Oper_Rev","x","x","x","x","x","x","x","x"]
["App.2-I LF_CDM_WF","x","x","x","x","x","x","x","x"]
["App.2-JA_OM&A_Summary_Analys","x","x","x","x","x","x","x","x"]
["App.2-JB_OM&A_Cost _Drivers","x","x","x","x","x","x","x","x"]
["App.2-JC_OMA Programs","x","x","x","x","x","x","x","x"]
["App.2-K_Employee Costs","x","x","x","x","x","x","x","x"]
["App.2-L_OM&A_per_Cust_FTEE","x","x","x","x","x","x","x","x"]
["App.2-M_Regulatory_Costs","x","x","x","x","x","x","x","x"]
["App.2-N_Corp_Cost_Allocation","x","x","x","x","x","x","x","x"]
["App.2-OA Capital Structure","x","x","x","x","x","x","x","x"]
["App.2-OB_Debt Instruments","x","x","x","x","x","x","x","x"]
["App.2-P_Cost_Allocation","x","x","x","x","x","x","x","x"]
["App.2-Q_Cost of Serv. Emb. Dx","e","e","e","e","e","e","e","e"]
["App.2-R_Loss Factors","x","x","x","x","x","x","x","x"]
["App.2-S_Stranded Meters","x","x","x","x","x","x","x","x"]
["App.2-TA_1592_Tax_Variance","x","x","x","x","x","x","x","x"]
["App.2-TB_1592_HST-OVAT","x","x","x","x","x","x","x","x"]
["App.2-U_IFRS Transition Costs","x","x","x","x","x","x","x","x"]
["App.2-V_Rev_Reconciliation","x","x","x","x","x","x","x","x"]
["App.2-W_Bill Impacts","x","x","x","x","x","x","x","x"]
["App.2-YA_MIFRS Summary Impacts","n","n","n","x","n","n","n","n"]
["App. 2-YB_CGAAP Summary Impacts","x","x","x","n","n","x","x","x"]
["App. 2-Z_Tariff","x","x","x","x","x","x","x","x"]
["lists","n","n","n","n","n","n","n","n"]
["lists2","n","n","n","n","n","n","n","n"]
["Sheet19","n","n","n","n","n","n","n","n"]

{"sheet":"Sheet1","index":70,"n_rows":0,"n_cols":0,"rows_kept":0,"cut":false,"hidden":true,"merged":[]}