{"text_format":"1","workbook":"xlsx","n_sheets":5,"sheets":["TRC - System","TRC - Boiler","TRC - Process Direct Heat","TRC - Other Process","TRC - HVAC"],"not_rendered":{"charts":0,"images":0,"macros":0,"external_links":1,"defined_names":0,"comments":0,"pivot_tables":0},"unopened":[],"bounds":{"document_bytes":16777216,"sheet_cells":100000,"rows_first":2000,"rows_last":500,"rows_between":2000,"halvings":0,"cell_chars":16384,"cell_head_chars":4096},"cells_cut":0,"cells_raw":0,"read":"whole","date_system":"1900"}

{"sheet":"TRC - System","index":0,"n_rows":5,"n_cols":16,"rows_kept":5,"cut":false,"hidden":false,"merged":[[3,0,4,0]]}
["System Measures"]
[]
["Facility Size Category","Measure","Measure Life (Years)","Individual Measure % Savings","Baseline Energy Consumption\n(GJ)","Baseline Gas Consumption\n(m3)","Baseline Technology Capital Cost","Measure Capital Cost (Full)","Installation / Engineering Cost (Full)","Incremental Annual O&M Cost","Now/ EOL","Annual Gas Savings (GJ)","Annual Gas Savings (m3)","Net Measure TRC","Simple Payback  Period (Yrs)","B/C Ratio"]
["Medium",{"$f":"'[1]Measure Setup - NG TRC'!G5","v":"Integrated control system"},{"$f":"'[1]Measure Setup - NG TRC'!I5","v":10},{"$f":"'[1]Measure Setup - NG TRC'!J5","v":0.08},{"$f":"'[1]Measure Setup - NG TRC'!AY5","v":1200000},{"$f":"(1/0.03769)*E4","v":31838684.001061291},"N/A",{"$f":"'[1]Measure Setup - NG TRC'!BB5","v":165000},{"$f":"'[1]Measure Setup - NG TRC'!BC5","v":13200},"N/A",{"$f":"'[1]Measure Setup - NG TRC'!CL5","v":"Now"},{"$f":"'[1]Measure Setup - NG TRC'!BK5","v":95999.999999999956},{"$f":"IF(L4=\"\",\"\",(1/0.03769)*L4)","v":2547094.7200849019},{"$f":"'[1]Measure Setup - NG TRC'!BO5","v":6193194.5769350277},{"$f":"'[1]Measure Setup - NG TRC'!BR5","v":0.17032229152459769},{"$f":"'[1]Measure Setup - NG TRC'!BT5","v":35.754178321745378}]
[null,{"$f":"'[1]Measure Setup - NG TRC'!G6","v":"Sub-metering"},{"$f":"'[1]Measure Setup - NG TRC'!I6","v":15},{"$f":"'[1]Measure Setup - NG TRC'!J6","v":0.05},{"$f":"'[1]Measure Setup - NG TRC'!AY6","v":1200000},31838684.001061291,"N/A",{"$f":"'[1]Measure Setup - NG TRC'!BB6","v":330000},{"$f":"'[1]Measure Setup - NG TRC'!BC6","v":33000},{"$f":"'[1]Measure Setup - NG TRC'!BD6","v":3300},{"$f":"'[1]Measure Setup - NG TRC'!CL6","v":"Now"},{"$f":"'[1]Measure Setup - NG TRC'!BK6","v":60000.000000000051},{"$f":"IF(L5=\"\",\"\",(1/0.03769)*L5)","v":1591934.2000530658},{"$f":"'[1]Measure Setup - NG TRC'!BO6","v":4674293.9528667778},{"$f":"'[1]Measure Setup - NG TRC'!BR6","v":0.56301238276800258},{"$f":"'[1]Measure Setup - NG TRC'!BT6","v":13.044043292115306}]

{"sheet":"TRC - Boiler","index":1,"n_rows":51,"n_cols":16,"rows_kept":51,"cut":false,"hidden":false,"merged":[[3,0,19,0],[20,0,36,0],[37,0,50,0]]}
["Boiler, Steam & Hot Water Systems"]
[]
["System / Technology Size Category","Measure","Measure Life (Years)","Individual Measure % Savings","Baseline Energy Consumption\n(GJ)","Baseline Gas Consumption\n(m3)","Baseline Technology Capital Cost","Measure Capital Cost (Full)","Installation / Engineering Cost (Full)","Incremental Annual O&M Cost","Now/ EOL","Annual Gas Savings (GJ)","Annual Gas Savings (m3)","Net Measure TRC","Simple Payback  Period (Yrs)","B/C Ratio"]
["Small\n(200 BHP)",{"$f":"'[1]Measure Setup - NG TRC'!G34","v":"Economizer"},{"$f":"'[1]Measure Setup - NG TRC'!I34","v":20},{"$f":"'[1]Measure Setup - NG TRC'!J34","v":0.04},{"$f":"'[1]Measure Setup - NG TRC'!R34","v":30987.043902439025},{"$f":"(1/0.03769)*E4","v":822155.58244730765},"N/A",{"$f":"'[1]Measure Setup - NG TRC'!U34","v":27000},{"$f":"'[1]Measure Setup - NG TRC'!V34","v":3000},{"$f":"'[1]Measure Setup - NG TRC'!W34","v":1000},{"$f":"'[1]Measure Setup - NG TRC'!X34","v":"Now"},{"$f":"'[1]Measure Setup - NG TRC'!AD34","v":1239.4817560975621},{"$f":"IF(L4=\"\",\"\",(1/0.03769)*L4)","v":32886.223297892335},{"$f":"'[1]Measure Setup - NG TRC'!AH34","v":81164.600249413867},{"$f":"'[1]Measure Setup - NG TRC'!AK34","v":2.4783271526403357},{"$f":"'[1]Measure Setup - NG TRC'!AM34","v":3.1074289785282607}]
[null,{"$f":"'[1]Measure Setup - NG TRC'!G35","v":"Blowdown heat recovery"},{"$f":"'[1]Measure Setup - NG TRC'!I35","v":20},{"$f":"'[1]Measure Setup - NG TRC'!J35","v":0.02},{"$f":"'[1]Measure Setup - NG TRC'!R35","v":30987.043902439025},822155.58244730765,"N/A",{"$f":"'[1]Measure Setup - NG TRC'!U35","v":23000},{"$f":"'[1]Measure Setup - NG TRC'!V35","v":2000},{"$f":"'[1]Measure Setup - NG TRC'!W35","v":1000},{"$f":"'[1]Measure Setup - NG TRC'!X35","v":"Now"},{"$f":"'[1]Measure Setup - NG TRC'!AD35","v":619.74087804878104},16443.111648946167,{"$f":"'[1]Measure Setup - NG TRC'!AH35","v":26325.518264827653},{"$f":"'[1]Measure Setup - NG TRC'!AK35","v":4.5184240288776616},{"$f":"'[1]Measure Setup - NG TRC'!AM35","v":1.7855183198349909}]
[null,{"$f":"'[1]Measure Setup - NG TRC'!G36","v":"Boiler combustion air preheat"},{"$f":"'[1]Measure Setup - NG TRC'!I36","v":15},{"$f":"'[1]Measure Setup - NG TRC'!J36","v":0.05},{"$f":"'[1]Measure Setup - NG TRC'!R36","v":30987.043902439025},822155.58244730765,"N/A",{"$f":"'[1]Measure Setup - NG TRC'!U36","v":50000},{"$f":"'[1]Measure Setup - NG TRC'!V36","v":10000},{"$f":"'[1]Measure Setup - NG TRC'!W36","v":2000},{"$f":"'[1]Measure Setup - NG TRC'!X36","v":"Now"},{"$f":"'[1]Measure Setup - NG TRC'!AD36","v":1549.3521951219527},41107.77912236542,{"$f":"'[1]Measure Setup - NG TRC'!AH36","v":55511.69565539324},{"$f":"'[1]Measure Setup - NG TRC'!AK36","v":4.1651140624465777},{"$f":"'[1]Measure Setup - NG TRC'!AM36","v":1.7380681047339861}]
[null,{"$f":"'[1]Measure Setup - NG TRC'!G37","v":"Process heat recovery to preheat makeup water "},{"$f":"'[1]Measure Setup - NG TRC'!I37","v":20},{"$f":"'[1]Measure Setup - NG TRC'!J37","v":0.06},{"$f":"'[1]Measure Setup - NG TRC'!R37","v":30987.043902439025},822155.58244730765,"N/A",{"$f":"'[1]Measure Setup - NG TRC'!U37","v":70000},{"$f":"'[1]Measure Setup - NG TRC'!V37","v":8000},{"$f":"'[1]Measure Setup - NG TRC'!W37","v":1500},{"$f":"'[1]Measure Setup - NG TRC'!X37","v":"Now"},{"$f":"'[1]Measure Setup - NG TRC'!AD37","v":1859.2226341463431},49329.334946838506,{"$f":"'[1]Measure Setup - NG TRC'!AH37","v":88746.900374120771},{"$f":"'[1]Measure Setup - NG TRC'!AK37","v":4.2371399706431543},{"$f":"'[1]Measure Setup - NG TRC'!AM37","v":1.977708080842969}]
[null,{"$f":"'[1]Measure Setup - NG TRC'!G38","v":"Condensing boiler"},{"$f":"'[1]Measure Setup - NG TRC'!I38","v":20},{"$f":"'[1]Measure Setup - NG TRC'!J38","v":0.1},{"$f":"'[1]Measure Setup - NG TRC'!R38","v":30987.043902439025},822155.58244730765,{"$f":"'[1]Measure Setup - NG TRC'!S38","v":80000},{"$f":"'[1]Measure Setup - NG TRC'!U38","v":120000},{"$f":"'[1]Measure Setup - NG TRC'!V38","v":20000},{"$f":"'[1]Measure Setup - NG TRC'!W38","v":1000},{"$f":"'[1]Measure Setup - NG TRC'!X38","v":"EOL"},{"$f":"'[1]Measure Setup - NG TRC'!AD38","v":3098.7043902439018},82215.558244730753,{"$f":"'[1]Measure Setup - NG TRC'!AH38","v":250681.84620317214},{"$f":"'[1]Measure Setup - NG TRC'!AK38","v":1.8613965409935236},{"$f":"'[1]Measure Setup - NG TRC'!AM38","v":6.1672527636034014}]
[null,{"$f":"'[1]Measure Setup - NG TRC'!G40","v":"Direct contact hot water heaters"},{"$f":"'[1]Measure Setup - NG TRC'!I40","v":20},{"$f":"'[1]Measure Setup - NG TRC'!J40","v":0.1},{"$f":"'[1]Measure Setup - NG TRC'!R40","v":30987.043902439025},822155.58244730765,{"$f":"'[1]Measure Setup - NG TRC'!S40","v":80000},{"$f":"'[1]Measure Setup - NG TRC'!U40","v":75000},{"$f":"'[1]Measure Setup - NG TRC'!V40","v":13000},{"$f":"'[1]Measure Setup - NG TRC'!W40","v":-3000},{"$f":"'[1]Measure Setup - NG TRC'!X40","v":"EOL"},{"$f":"'[1]Measure Setup - NG TRC'!AD40","v":3098.7043902439018},82215.558244730753,{"$f":"'[1]Measure Setup - NG TRC'!AH40","v":329736.10108220641},{"$f":"'[1]Measure Setup - NG TRC'!AK40","v":0.13597637519928626},{"$f":"'[1]Measure Setup - NG TRC'!AM40","v":"N/A"}]
[null,{"$f":"'[1]Measure Setup - NG TRC'!G41","v":"Boiler right sizing and load management"},{"$f":"'[1]Measure Setup - NG TRC'!I41","v":20},{"$f":"'[1]Measure Setup - NG TRC'!J41","v":0.1},{"$f":"'[1]Measure Setup - NG TRC'!R41","v":30987.043902439025},822155.58244730765,{"$f":"'[1]Measure Setup - NG TRC'!S41","v":80000},{"$f":"'[1]Measure Setup - NG TRC'!U41","v":70000},{"$f":"'[1]Measure Setup - NG TRC'!V41","v":13000},{"$f":"'[1]Measure Setup - NG TRC'!W41","v":-3000},{"$f":"'[1]Measure Setup - NG TRC'!X41","v":"EOL"},{"$f":"'[1]Measure Setup - NG TRC'!AD41","v":3098.7043902439018},82215.558244730753,{"$f":"'[1]Measure Setup - NG TRC'!AH41","v":334736.10108220641},{"$f":"'[1]Measure Setup - NG TRC'!AK41","v":0},{"$f":"'[1]Measure Setup - NG TRC'!AM41","v":"N/A"}]
[null,{"$f":"'[1]Measure Setup - NG TRC'!G42","v":"High efficiency burners"},{"$f":"'[1]Measure Setup - NG TRC'!I42","v":20},{"$f":"'[1]Measure Setup - NG TRC'!J42","v":0.05},{"$f":"'[1]Measure Setup - NG TRC'!R42","v":30987.043902439025},822155.58244730765,"N/A",{"$f":"'[1]Measure Setup - NG TRC'!U42","v":48000},{"$f":"'[1]Measure Setup - NG TRC'!V42","v":6000},{"$f":"'[1]Measure Setup - NG TRC'!W42","v":0},{"$f":"'[1]Measure Setup - NG TRC'!X42","v":"Now"},{"$f":"'[1]Measure Setup - NG TRC'!AD42","v":1549.3521951219509},41107.779122365377,{"$f":"'[1]Measure Setup - NG TRC'!AH42","v":95597.704961465352},{"$f":"'[1]Measure Setup - NG TRC'!AK42","v":3.1980012772417998},{"$f":"'[1]Measure Setup - NG TRC'!AM42","v":2.7703278696567657}]
[null,{"$f":"'[1]Measure Setup - NG TRC'!G43","v":"Insulation"},{"$f":"'[1]Measure Setup - NG TRC'!I43","v":15},{"$f":"'[1]Measure Setup - NG TRC'!J43","v":0.05},{"$f":"'[1]Measure Setup - NG TRC'!R43","v":30987.043902439025},822155.58244730765,"N/A",{"$f":"'[1]Measure Setup - NG TRC'!U43","v":20000},{"$f":"'[1]Measure Setup - NG TRC'!V43","v":1500},{"$f":"'[1]Measure Setup - NG TRC'!W43","v":150},{"$f":"'[1]Measure Setup - NG TRC'!X43","v":"Now"},{"$f":"'[1]Measure Setup - NG TRC'!AD43","v":1549.3521951219509},41107.779122365377,{"$f":"'[1]Measure Setup - NG TRC'!AH43","v":108082.94274206355},{"$f":"'[1]Measure Setup - NG TRC'!AK43","v":1.2936535837828118},{"$f":"'[1]Measure Setup - NG TRC'!AM43","v":5.7737892844413921}]
[null,{"$f":"'[1]Measure Setup - NG TRC'!G44","v":"Advanced boiler controls"},{"$f":"'[1]Measure Setup - NG TRC'!I44","v":15},{"$f":"'[1]Measure Setup - NG TRC'!J44","v":0.03},{"$f":"'[1]Measure Setup - NG TRC'!R44","v":30987.043902439025},822155.58244730765,"N/A",{"$f":"'[1]Measure Setup - NG TRC'!U44","v":40000},{"$f":"'[1]Measure Setup - NG TRC'!V44","v":1200},{"$f":"'[1]Measure Setup - NG TRC'!W44","v":150},{"$f":"'[1]Measure Setup - NG TRC'!X44","v":"Now"},{"$f":"'[1]Measure Setup - NG TRC'!AD44","v":929.61131707317156},24664.667473419253,{"$f":"'[1]Measure Setup - NG TRC'!AH44","v":36093.400874859704},{"$f":"'[1]Measure Setup - NG TRC'!AK44","v":4.1427353003461578},{"$f":"'[1]Measure Setup - NG TRC'!AM44","v":1.8524474139335174}]
[null,{"$f":"'[1]Measure Setup - NG TRC'!G45","v":"Blowdown control"},{"$f":"'[1]Measure Setup - NG TRC'!I45","v":20},{"$f":"'[1]Measure Setup - NG TRC'!J45","v":0.01},{"$f":"'[1]Measure Setup - NG TRC'!R45","v":30987.043902439025},822155.58244730765,"N/A",{"$f":"'[1]Measure Setup - NG TRC'!U45","v":35000},{"$f":"'[1]Measure Setup - NG TRC'!V45","v":3500},{"$f":"'[1]Measure Setup - NG TRC'!W45","v":600},{"$f":"'[1]Measure Setup - NG TRC'!X45","v":"Now"},{"$f":"'[1]Measure Setup - NG TRC'!AD45","v":309.87043902439052},8221.5558244730837,{"$f":"'[1]Measure Setup - NG TRC'!AH45","v":-13688.597239562034},{"$f":"'[1]Measure Setup - NG TRC'!AK45","v":14.079388002727551},{"$f":"'[1]Measure Setup - NG TRC'!AM45","v":0.68609993926402701}]
[null,{"$f":"'[1]Measure Setup - NG TRC'!G46","v":"Boiler water treatment"},{"$f":"'[1]Measure Setup - NG TRC'!I46","v":10},{"$f":"'[1]Measure Setup - NG TRC'!J46","v":0.01},{"$f":"'[1]Measure Setup - NG TRC'!R46","v":30987.043902439025},822155.58244730765,"N/A",{"$f":"'[1]Measure Setup - NG TRC'!U46","v":10000},{"$f":"'[1]Measure Setup - NG TRC'!V46","v":2000},{"$f":"'[1]Measure Setup - NG TRC'!W46","v":500},{"$f":"'[1]Measure Setup - NG TRC'!X46","v":"Now"},{"$f":"'[1]Measure Setup - NG TRC'!AD46","v":309.87043902439052},8221.5558244730837,{"$f":"'[1]Measure Setup - NG TRC'!AH46","v":5493.4126424859787},{"$f":"'[1]Measure Setup - NG TRC'!AK46","v":4.3446384893054439},{"$f":"'[1]Measure Setup - NG TRC'!AM46","v":1.3644711581508417}]
[null,{"$f":"'[1]Measure Setup - NG TRC'!G47","v":"Boiler maintenance"},{"$f":"'[1]Measure Setup - NG TRC'!I47","v":5},{"$f":"'[1]Measure Setup - NG TRC'!J47","v":0.05},{"$f":"'[1]Measure Setup - NG TRC'!R47","v":30987.043902439025},822155.58244730765,"N/A",{"$f":"'[1]Measure Setup - NG TRC'!U47","v":0},{"$f":"'[1]Measure Setup - NG TRC'!V47","v":0},{"$f":"'[1]Measure Setup - NG TRC'!W47","v":8000},{"$f":"'[1]Measure Setup - NG TRC'!X47","v":"Now"},{"$f":"'[1]Measure Setup - NG TRC'!AD47","v":1549.3521951219509},41107.779122365377,{"$f":"'[1]Measure Setup - NG TRC'!AH47","v":31488.878044745779},{"$f":"'[1]Measure Setup - NG TRC'!AK47","v":0.90033852116886059},{"$f":"'[1]Measure Setup - NG TRC'!AM47","v":2.0383358376571121}]
[null,{"$f":"'[1]Measure Setup - NG TRC'!G48","v":"Minimize deaerator vent losses"},{"$f":"'[1]Measure Setup - NG TRC'!I48","v":20},{"$f":"'[1]Measure Setup - NG TRC'!J48","v":0.02},{"$f":"'[1]Measure Setup - NG TRC'!R48","v":30987.043902439025},822155.58244730765,"N/A",{"$f":"'[1]Measure Setup - NG TRC'!U48","v":35000},{"$f":"'[1]Measure Setup - NG TRC'!V48","v":3500},{"$f":"'[1]Measure Setup - NG TRC'!W48","v":600},{"$f":"'[1]Measure Setup - NG TRC'!X48","v":"Now"},{"$f":"'[1]Measure Setup - NG TRC'!AD48","v":619.74087804878104},16443.111648946167,{"$f":"'[1]Measure Setup - NG TRC'!AH48","v":16230.943752731073},{"$f":"'[1]Measure Setup - NG TRC'!AK48","v":6.3533653846830749},{"$f":"'[1]Measure Setup - NG TRC'!AM48","v":1.372199878528054}]
[null,{"$f":"'[1]Measure Setup - NG TRC'!G49","v":"Condensate return"},{"$f":"'[1]Measure Setup - NG TRC'!I49","v":20},{"$f":"'[1]Measure Setup - NG TRC'!J49","v":0.02},{"$f":"'[1]Measure Setup - NG TRC'!R49","v":30987.043902439025},822155.58244730765,"N/A",{"$f":"'[1]Measure Setup - NG TRC'!U49","v":40000},{"$f":"'[1]Measure Setup - NG TRC'!V49","v":8000},{"$f":"'[1]Measure Setup - NG TRC'!W49","v":700},{"$f":"'[1]Measure Setup - NG TRC'!X49","v":"Now"},{"$f":"'[1]Measure Setup - NG TRC'!AD49","v":619.74087804878104},16443.111648946167,{"$f":"'[1]Measure Setup - NG TRC'!AH49","v":5879.5873807552125},{"$f":"'[1]Measure Setup - NG TRC'!AK49","v":8.0439776769008766},{"$f":"'[1]Measure Setup - NG TRC'!AM49","v":1.108962980916018}]
[null,{"$f":"'[1]Measure Setup - NG TRC'!G50","v":"Steam trap survey and repair"},{"$f":"'[1]Measure Setup - NG TRC'!I50","v":3},{"$f":"'[1]Measure Setup - NG TRC'!J50","v":0.04},{"$f":"'[1]Measure Setup - NG TRC'!R50","v":30987.043902439025},{"$f":"(1/0.03769)*E19","v":822155.58244730765},"N/A",{"$f":"'[1]Measure Setup - NG TRC'!U50","v":20000},{"$f":"'[1]Measure Setup - NG TRC'!V50","v":1000},{"$f":"'[1]Measure Setup - NG TRC'!W50","v":0},{"$f":"'[1]Measure Setup - NG TRC'!X50","v":"Now"},{"$f":"'[1]Measure Setup - NG TRC'!AD50","v":1239.4817560975612},{"$f":"IF(L19=\"\",\"\",(1/0.03769)*L19)","v":32886.223297892313},{"$f":"'[1]Measure Setup - NG TRC'!AH50","v":11627.874207867648},{"$f":"'[1]Measure Setup - NG TRC'!AK50","v":1.5545839542147633},{"$f":"'[1]Measure Setup - NG TRC'!AM50","v":1.5537082956127448}]
[null,{"$f":"'[1]Measure Setup - NG TRC'!G51","v":"Instantaneous Steam Generation "},{"$f":"'[1]Measure Setup - NG TRC'!I51","v":15},{"$f":"'[1]Measure Setup - NG TRC'!J51","v":0.15},{"$f":"'[1]Measure Setup - NG TRC'!R51","v":30987.043902439025},{"$f":"(1/0.03769)*E20","v":822155.58244730765},{"$f":"'[1]Measure Setup - NG TRC'!S51","v":80000},{"$f":"'[1]Measure Setup - NG TRC'!U51","v":120000},{"$f":"'[1]Measure Setup - NG TRC'!V51","v":20000},{"$f":"'[1]Measure Setup - NG TRC'!W51","v":1000},{"$f":"'[1]Measure Setup - NG TRC'!X51","v":"EOL"},{"$f":"'[1]Measure Setup - NG TRC'!AD51","v":4648.0565853658536},{"$f":"IF(L20=\"\",\"\",(1/0.03769)*L20)","v":123323.33736709614},{"$f":"'[1]Measure Setup - NG TRC'!AH51","v":344565.48449772113},{"$f":"'[1]Measure Setup - NG TRC'!AK51","v":1.2284359106356308},{"$f":"'[1]Measure Setup - NG TRC'!AM51","v":8.2378462597841544}]
["Medium\n(450 BHP)",{"$f":"'[1]Measure Setup - NG TRC'!G34","v":"Economizer"},{"$f":"'[1]Measure Setup - NG TRC'!I34","v":20},{"$f":"'[1]Measure Setup - NG TRC'!J34","v":0.04},{"$f":"'[1]Measure Setup - NG TRC'!AY34","v":78435.954878048797},2081081.3180697479,"N/A",{"$f":"'[1]Measure Setup - NG TRC'!BB34","v":55000},{"$f":"'[1]Measure Setup - NG TRC'!BC34","v":4400},{"$f":"'[1]Measure Setup - NG TRC'!BD34","v":1000},{"$f":"'[1]Measure Setup - NG TRC'!BE34","v":"Now"},{"$f":"'[1]Measure Setup - NG TRC'!BK34","v":3137.4381951219548},83243.252722789999,{"$f":"'[1]Measure Setup - NG TRC'!BO34","v":235021.78882720915},{"$f":"'[1]Measure Setup - NG TRC'!BR34","v":1.8196480468529561},{"$f":"'[1]Measure Setup - NG TRC'!BT34","v":4.4606016229248864}]
[null,{"$f":"'[1]Measure Setup - NG TRC'!G35","v":"Blowdown heat recovery"},{"$f":"'[1]Measure Setup - NG TRC'!I35","v":20},{"$f":"'[1]Measure Setup - NG TRC'!J35","v":0.02},{"$f":"'[1]Measure Setup - NG TRC'!AY35","v":78435.954878048797},2081081.3180697479,"N/A",{"$f":"'[1]Measure Setup - NG TRC'!BB35","v":50000},{"$f":"'[1]Measure Setup - NG TRC'!BC35","v":4000},{"$f":"'[1]Measure Setup - NG TRC'!BD35","v":1000},{"$f":"'[1]Measure Setup - NG TRC'!BE35","v":"Now"},{"$f":"'[1]Measure Setup - NG TRC'!BK35","v":1568.7190975609774},41621.626361395,{"$f":"'[1]Measure Setup - NG TRC'!BO35","v":88954.11255372531},{"$f":"'[1]Measure Setup - NG TRC'!BR35","v":3.4168672341524258},{"$f":"'[1]Measure Setup - NG TRC'!BT35","v":2.422956991421843}]
[null,{"$f":"'[1]Measure Setup - NG TRC'!G36","v":"Boiler combustion air preheat"},{"$f":"'[1]Measure Setup - NG TRC'!I36","v":15},{"$f":"'[1]Measure Setup - NG TRC'!J36","v":0.05},{"$f":"'[1]Measure Setup - NG TRC'!AY36","v":78435.954878048797},2081081.3180697479,"N/A",{"$f":"'[1]Measure Setup - NG TRC'!BB36","v":140000},{"$f":"'[1]Measure Setup - NG TRC'!BC36","v":21000},{"$f":"'[1]Measure Setup - NG TRC'!BD36","v":5000},{"$f":"'[1]Measure Setup - NG TRC'!BE36","v":"Now"},{"$f":"'[1]Measure Setup - NG TRC'!BK36","v":3921.7977439024435},104054.06590348748,{"$f":"'[1]Measure Setup - NG TRC'!BO36","v":131864.35959685838},{"$f":"'[1]Measure Setup - NG TRC'!BR36","v":4.3983366690348618},{"$f":"'[1]Measure Setup - NG TRC'!BT36","v":1.6625337698778442}]
[null,{"$f":"'[1]Measure Setup - NG TRC'!G37","v":"Process heat recovery to preheat makeup water "},{"$f":"'[1]Measure Setup - NG TRC'!I37","v":20},{"$f":"'[1]Measure Setup - NG TRC'!J37","v":0.06},{"$f":"'[1]Measure Setup - NG TRC'!AY37","v":78435.954878048797},2081081.3180697479,"N/A",{"$f":"'[1]Measure Setup - NG TRC'!BB37","v":130000},{"$f":"'[1]Measure Setup - NG TRC'!BC37","v":15000},{"$f":"'[1]Measure Setup - NG TRC'!BD37","v":1800},{"$f":"'[1]Measure Setup - NG TRC'!BE37","v":"Now"},{"$f":"'[1]Measure Setup - NG TRC'!BK37","v":4706.1572926829322},124864.87908418498,{"$f":"'[1]Measure Setup - NG TRC'!BO37","v":294078.61412488623},{"$f":"'[1]Measure Setup - NG TRC'!BR37","v":2.9662649086340762},{"$f":"'[1]Measure Setup - NG TRC'!BT37","v":2.8342721829566764}]
[null,{"$f":"'[1]Measure Setup - NG TRC'!G38","v":"Condensing boiler"},{"$f":"'[1]Measure Setup - NG TRC'!I38","v":20},{"$f":"'[1]Measure Setup - NG TRC'!J38","v":0.1},{"$f":"'[1]Measure Setup - NG TRC'!AY38","v":78435.954878048797},2081081.3180697479,{"$f":"'[1]Measure Setup - NG TRC'!AZ38","v":135000},{"$f":"'[1]Measure Setup - NG TRC'!BB38","v":180000},{"$f":"'[1]Measure Setup - NG TRC'!BC38","v":15000},{"$f":"'[1]Measure Setup - NG TRC'!BD38","v":2800},{"$f":"'[1]Measure Setup - NG TRC'!BE38","v":"EOL"},{"$f":"'[1]Measure Setup - NG TRC'!BK38","v":7843.5954878048778},208108.13180697474,{"$f":"'[1]Measure Setup - NG TRC'!BO38","v":688500.40295209456},{"$f":"'[1]Measure Setup - NG TRC'!BR38","v":0.75952661376255326},{"$f":"'[1]Measure Setup - NG TRC'!BT38","v":11.001752212973587}]
[null,{"$f":"'[1]Measure Setup - NG TRC'!G40","v":"Direct contact hot water heaters"},{"$f":"'[1]Measure Setup - NG TRC'!I40","v":20},{"$f":"'[1]Measure Setup - NG TRC'!J40","v":0.1},{"$f":"'[1]Measure Setup - NG TRC'!AY40","v":78435.954878048797},2081081.3180697479,{"$f":"'[1]Measure Setup - NG TRC'!AZ40","v":135000},{"$f":"'[1]Measure Setup - NG TRC'!BB40","v":130000},{"$f":"'[1]Measure Setup - NG TRC'!BC40","v":20000},{"$f":"'[1]Measure Setup - NG TRC'!BD40","v":-5000},{"$f":"'[1]Measure Setup - NG TRC'!BE40","v":"EOL"},{"$f":"'[1]Measure Setup - NG TRC'!BK40","v":7843.5954878048778},208108.13180697474,{"$f":"'[1]Measure Setup - NG TRC'!BO40","v":804906.19996621134},{"$f":"'[1]Measure Setup - NG TRC'!BR40","v":0.11051789976889945},{"$f":"'[1]Measure Setup - NG TRC'!BT40","v":"N/A"}]
[null,{"$f":"'[1]Measure Setup - NG TRC'!G41","v":"Boiler right sizing and load management"},{"$f":"'[1]Measure Setup - NG TRC'!I41","v":20},{"$f":"'[1]Measure Setup - NG TRC'!J41","v":0.1},{"$f":"'[1]Measure Setup - NG TRC'!AY41","v":78435.954878048797},2081081.3180697479,{"$f":"'[1]Measure Setup - NG TRC'!AZ41","v":135000},{"$f":"'[1]Measure Setup - NG TRC'!BB41","v":125000},{"$f":"'[1]Measure Setup - NG TRC'!BC41","v":20000},{"$f":"'[1]Measure Setup - NG TRC'!BD41","v":-5000},{"$f":"'[1]Measure Setup - NG TRC'!BE41","v":"EOL"},{"$f":"'[1]Measure Setup - NG TRC'!BK41","v":7843.5954878048778},208108.13180697474,{"$f":"'[1]Measure Setup - NG TRC'!BO41","v":809906.19996621134},{"$f":"'[1]Measure Setup - NG TRC'!BR41","v":5.5258949884449723E-2},{"$f":"'[1]Measure Setup - NG TRC'!BT41","v":"N/A"}]
[null,{"$f":"'[1]Measure Setup - NG TRC'!G42","v":"High efficiency burners"},{"$f":"'[1]Measure Setup - NG TRC'!I42","v":20},{"$f":"'[1]Measure Setup - NG TRC'!J42","v":0.05},{"$f":"'[1]Measure Setup - NG TRC'!AY42","v":78435.954878048797},2081081.3180697479,"N/A",{"$f":"'[1]Measure Setup - NG TRC'!BB42","v":90000},{"$f":"'[1]Measure Setup - NG TRC'!BC42","v":10000},{"$f":"'[1]Measure Setup - NG TRC'!BD42","v":0},{"$f":"'[1]Measure Setup - NG TRC'!BE42","v":"Now"},{"$f":"'[1]Measure Setup - NG TRC'!BK42","v":3921.7977439024389},104054.06590348737,{"$f":"'[1]Measure Setup - NG TRC'!BO42","v":278669.19068370928},{"$f":"'[1]Measure Setup - NG TRC'!BR42","v":2.3396442814754819},{"$f":"'[1]Measure Setup - NG TRC'!BT42","v":3.7866919068370932}]
[null,{"$f":"'[1]Measure Setup - NG TRC'!G43","v":"Insulation"},{"$f":"'[1]Measure Setup - NG TRC'!I43","v":15},{"$f":"'[1]Measure Setup - NG TRC'!J43","v":0.05},{"$f":"'[1]Measure Setup - NG TRC'!AY43","v":78435.954878048797},2081081.3180697479,"N/A",{"$f":"'[1]Measure Setup - NG TRC'!BB43","v":35000},{"$f":"'[1]Measure Setup - NG TRC'!BC43","v":2800},{"$f":"'[1]Measure Setup - NG TRC'!BD43","v":1000},{"$f":"'[1]Measure Setup - NG TRC'!BE43","v":"Now"},{"$f":"'[1]Measure Setup - NG TRC'!BK43","v":3921.7977439024389},104054.06590348737,{"$f":"'[1]Measure Setup - NG TRC'!BO43","v":285488.67762209155},{"$f":"'[1]Measure Setup - NG TRC'!BR43","v":0.92952966895685407},{"$f":"'[1]Measure Setup - NG TRC'!BT43","v":7.2874549119006833}]
[null,{"$f":"'[1]Measure Setup - NG TRC'!G44","v":"Advanced boiler controls"},{"$f":"'[1]Measure Setup - NG TRC'!I44","v":15},{"$f":"'[1]Measure Setup - NG TRC'!J44","v":0.03},{"$f":"'[1]Measure Setup - NG TRC'!AY44","v":78435.954878048797},2081081.3180697479,"N/A",{"$f":"'[1]Measure Setup - NG TRC'!BB44","v":75000},{"$f":"'[1]Measure Setup - NG TRC'!BC44","v":6500},{"$f":"'[1]Measure Setup - NG TRC'!BD44","v":800},{"$f":"'[1]Measure Setup - NG TRC'!BE44","v":"Now"},{"$f":"'[1]Measure Setup - NG TRC'!BK44","v":2353.0786463414661},62432.439542092492,{"$f":"'[1]Measure Setup - NG TRC'!BO44","v":110951.99067199347},{"$f":"'[1]Measure Setup - NG TRC'!BR44","v":3.3125478546952194},{"$f":"'[1]Measure Setup - NG TRC'!BT44","v":2.2667941252077299}]
[null,{"$f":"'[1]Measure Setup - NG TRC'!G45","v":"Blowdown control"},{"$f":"'[1]Measure Setup - NG TRC'!I45","v":20},{"$f":"'[1]Measure Setup - NG TRC'!J45","v":0.01},{"$f":"'[1]Measure Setup - NG TRC'!AY45","v":78435.954878048797},2081081.3180697479,"N/A",{"$f":"'[1]Measure Setup - NG TRC'!BB45","v":60000},{"$f":"'[1]Measure Setup - NG TRC'!BC45","v":6000},{"$f":"'[1]Measure Setup - NG TRC'!BD45","v":1000},{"$f":"'[1]Measure Setup - NG TRC'!BE45","v":"Now"},{"$f":"'[1]Measure Setup - NG TRC'!BK45","v":784.35954878048869},20810.8131806975,{"$f":"'[1]Measure Setup - NG TRC'!BO45","v":1220.274416983375},{"$f":"'[1]Measure Setup - NG TRC'!BR45","v":8.8761613501607144},{"$f":"'[1]Measure Setup - NG TRC'!BT45","v":1.0163765408076946}]
[null,{"$f":"'[1]Measure Setup - NG TRC'!G46","v":"Boiler water treatment"},{"$f":"'[1]Measure Setup - NG TRC'!I46","v":10},{"$f":"'[1]Measure Setup - NG TRC'!J46","v":0.01},{"$f":"'[1]Measure Setup - NG TRC'!AY46","v":78435.954878048797},2081081.3180697479,"N/A",{"$f":"'[1]Measure Setup - NG TRC'!BB46","v":20000},{"$f":"'[1]Measure Setup - NG TRC'!BC46","v":3500},{"$f":"'[1]Measure Setup - NG TRC'!BD46","v":1000},{"$f":"'[1]Measure Setup - NG TRC'!BE46","v":"Now"},{"$f":"'[1]Measure Setup - NG TRC'!BK46","v":784.35954878048869},20810.8131806975,{"$f":"'[1]Measure Setup - NG TRC'!BO46","v":22412.351388745446},{"$f":"'[1]Measure Setup - NG TRC'!BR46","v":3.2457604937154856},{"$f":"'[1]Measure Setup - NG TRC'!BT46","v":1.7560357116644318}]
[null,{"$f":"'[1]Measure Setup - NG TRC'!G47","v":"Boiler maintenance"},{"$f":"'[1]Measure Setup - NG TRC'!I47","v":5},{"$f":"'[1]Measure Setup - NG TRC'!J47","v":0.05},{"$f":"'[1]Measure Setup - NG TRC'!AY47","v":78435.954878048797},2081081.3180697479,"N/A",{"$f":"'[1]Measure Setup - NG TRC'!BB47","v":0},{"$f":"'[1]Measure Setup - NG TRC'!BC47","v":0},{"$f":"'[1]Measure Setup - NG TRC'!BD47","v":13000},{"$f":"'[1]Measure Setup - NG TRC'!BE47","v":"Now"},{"$f":"'[1]Measure Setup - NG TRC'!BK47","v":3921.7977439024389},104054.06590348737,{"$f":"'[1]Measure Setup - NG TRC'!BO47","v":107189.42662897403},{"$f":"'[1]Measure Setup - NG TRC'!BR47","v":0.43709908542740289},{"$f":"'[1]Measure Setup - NG TRC'!BT47","v":3.1751000548120407}]
[null,{"$f":"'[1]Measure Setup - NG TRC'!G48","v":"Minimize deaerator vent losses"},{"$f":"'[1]Measure Setup - NG TRC'!I48","v":20},{"$f":"'[1]Measure Setup - NG TRC'!J48","v":0.02},{"$f":"'[1]Measure Setup - NG TRC'!AY48","v":78435.954878048797},2081081.3180697479,"N/A",{"$f":"'[1]Measure Setup - NG TRC'!BB48","v":60000},{"$f":"'[1]Measure Setup - NG TRC'!BC48","v":6000},{"$f":"'[1]Measure Setup - NG TRC'!BD48","v":1000},{"$f":"'[1]Measure Setup - NG TRC'!BE48","v":"Now"},{"$f":"'[1]Measure Setup - NG TRC'!BK48","v":1568.7190975609774},41621.626361395,{"$f":"'[1]Measure Setup - NG TRC'!BO48","v":76954.11255372531},{"$f":"'[1]Measure Setup - NG TRC'!BR48","v":4.1623655397856822},{"$f":"'[1]Measure Setup - NG TRC'!BT48","v":2.0327530816153891}]
[null,{"$f":"'[1]Measure Setup - NG TRC'!G49","v":"Condensate return"},{"$f":"'[1]Measure Setup - NG TRC'!I49","v":20},{"$f":"'[1]Measure Setup - NG TRC'!J49","v":0.02},{"$f":"'[1]Measure Setup - NG TRC'!AY49","v":78435.954878048797},2081081.3180697479,"N/A",{"$f":"'[1]Measure Setup - NG TRC'!BB49","v":80000},{"$f":"'[1]Measure Setup - NG TRC'!BC49","v":15000},{"$f":"'[1]Measure Setup - NG TRC'!BD49","v":1200},{"$f":"'[1]Measure Setup - NG TRC'!BE49","v":"Now"},{"$f":"'[1]Measure Setup - NG TRC'!BK49","v":1568.7190975609774},41621.626361395,{"$f":"'[1]Measure Setup - NG TRC'!BO49","v":46251.399809773589},{"$f":"'[1]Measure Setup - NG TRC'!BR49","v":6.0516024058250855},{"$f":"'[1]Measure Setup - NG TRC'!BT49","v":1.4395840773335669}]
[null,{"$f":"'[1]Measure Setup - NG TRC'!G50","v":"Steam trap survey and repair"},{"$f":"'[1]Measure Setup - NG TRC'!I50","v":3},{"$f":"'[1]Measure Setup - NG TRC'!J50","v":0.04},{"$f":"'[1]Measure Setup - NG TRC'!AY50","v":78435.954878048797},{"$f":"(1/0.03769)*E36","v":2081081.3180697479},"N/A",{"$f":"'[1]Measure Setup - NG TRC'!BB50","v":35000},{"$f":"'[1]Measure Setup - NG TRC'!BC50","v":1500},{"$f":"'[1]Measure Setup - NG TRC'!BD50","v":0},{"$f":"'[1]Measure Setup - NG TRC'!BE50","v":"Now"},{"$f":"'[1]Measure Setup - NG TRC'!BK50","v":3137.4381951219525},{"$f":"IF(L36=\"\",\"\",(1/0.03769)*L36)","v":83243.252722789926},{"$f":"'[1]Measure Setup - NG TRC'!BO50","v":46089.306588665},{"$f":"'[1]Measure Setup - NG TRC'!BR50","v":1.0674627034231881},{"$f":"'[1]Measure Setup - NG TRC'!BT50","v":2.2627207284565749}]
[null,{"$f":"'[1]Measure Setup - NG TRC'!G51","v":"Instantaneous Steam Generation "},{"$f":"'[1]Measure Setup - NG TRC'!I51","v":15},{"$f":"'[1]Measure Setup - NG TRC'!J51","v":0.15},{"$f":"'[1]Measure Setup - NG TRC'!AY51","v":78435.954878048797},{"$f":"(1/0.03769)*E37","v":2081081.3180697479},{"$f":"'[1]Measure Setup - NG TRC'!AZ51","v":135000},{"$f":"'[1]Measure Setup - NG TRC'!BB51","v":180000},{"$f":"'[1]Measure Setup - NG TRC'!BC51","v":28000},{"$f":"'[1]Measure Setup - NG TRC'!BD51","v":1500},{"$f":"'[1]Measure Setup - NG TRC'!BE51","v":"EOL"},{"$f":"'[1]Measure Setup - NG TRC'!BK51","v":11765.39323170732},{"$f":"IF(L37=\"\",\"\",(1/0.03769)*L37)","v":312162.19771046221},{"$f":"'[1]Measure Setup - NG TRC'!BO51","v":936275.1521257374},{"$f":"'[1]Measure Setup - NG TRC'!BR51","v":0.58788891795829756},{"$f":"'[1]Measure Setup - NG TRC'!BT51","v":17.597939560431598}]
["Large\n(3,000 BHP)",{"$f":"'[1]Measure Setup - NG TRC'!G34","v":"Economizer"},{"$f":"'[1]Measure Setup - NG TRC'!I34","v":20},{"$f":"'[1]Measure Setup - NG TRC'!J34","v":0.04},{"$f":"'[1]Measure Setup - NG TRC'!CF34","v":813409.90243902453},21581584.039241828,"N/A",{"$f":"'[1]Measure Setup - NG TRC'!CI34","v":350000},{"$f":"'[1]Measure Setup - NG TRC'!CJ34","v":40000},{"$f":"'[1]Measure Setup - NG TRC'!CK34","v":2000},{"$f":"'[1]Measure Setup - NG TRC'!CL34","v":"Now"},{"$f":"'[1]Measure Setup - NG TRC'!CR34","v":32536.39609756101},863263.36156967387,{"$f":"'[1]Measure Setup - NG TRC'!CV34","v":2734524.6767512597},{"$f":"'[1]Measure Setup - NG TRC'!CY34","v":1.1117524445804887},{"$f":"'[1]Measure Setup - NG TRC'!DA34","v":7.718286061062603}]
[null,{"$f":"'[1]Measure Setup - NG TRC'!G35","v":"Blowdown heat recovery"},{"$f":"'[1]Measure Setup - NG TRC'!I35","v":20},{"$f":"'[1]Measure Setup - NG TRC'!J35","v":0.02},{"$f":"'[1]Measure Setup - NG TRC'!CF35","v":813409.90243902453},21581584.039241828,"N/A",{"$f":"'[1]Measure Setup - NG TRC'!CI35","v":200000},{"$f":"'[1]Measure Setup - NG TRC'!CJ35","v":25000},{"$f":"'[1]Measure Setup - NG TRC'!CK35","v":5000},{"$f":"'[1]Measure Setup - NG TRC'!CL35","v":"Now"},{"$f":"'[1]Measure Setup - NG TRC'!CR35","v":16268.198048780505},431631.68078483694,{"$f":"'[1]Measure Setup - NG TRC'!CV35","v":1303208.0834965955},{"$f":"'[1]Measure Setup - NG TRC'!CY35","v":1.3348946521669829},{"$f":"'[1]Measure Setup - NG TRC'!DA35","v":5.8705710960356692}]
[null,{"$f":"'[1]Measure Setup - NG TRC'!G36","v":"Boiler combustion air preheat"},{"$f":"'[1]Measure Setup - NG TRC'!I36","v":15},{"$f":"'[1]Measure Setup - NG TRC'!J36","v":0.05},{"$f":"'[1]Measure Setup - NG TRC'!CF36","v":813409.90243902453},21581584.039241828,"N/A",{"$f":"'[1]Measure Setup - NG TRC'!CI36","v":500000},{"$f":"'[1]Measure Setup - NG TRC'!CJ36","v":60000},{"$f":"'[1]Measure Setup - NG TRC'!CK36","v":7000},{"$f":"'[1]Measure Setup - NG TRC'!CL36","v":"Now"},{"$f":"'[1]Measure Setup - NG TRC'!CR36","v":40670.495121951266},1079079.2019620924,{"$f":"'[1]Measure Setup - NG TRC'!CV36","v":2818258.6284911036},{"$f":"'[1]Measure Setup - NG TRC'!CY36","v":1.2997265713171495},{"$f":"'[1]Measure Setup - NG TRC'!DA36","v":5.5956670789010463}]
[null,{"$f":"'[1]Measure Setup - NG TRC'!G37","v":"Process heat recovery to preheat makeup water "},{"$f":"'[1]Measure Setup - NG TRC'!I37","v":20},{"$f":"'[1]Measure Setup - NG TRC'!J37","v":0.06},{"$f":"'[1]Measure Setup - NG TRC'!CF37","v":813409.90243902453},21581584.039241828,"N/A",{"$f":"'[1]Measure Setup - NG TRC'!CI37","v":400000},{"$f":"'[1]Measure Setup - NG TRC'!CJ37","v":50000},{"$f":"'[1]Measure Setup - NG TRC'!CK37","v":5000},{"$f":"'[1]Measure Setup - NG TRC'!CL37","v":"Now"},{"$f":"'[1]Measure Setup - NG TRC'!CR37","v":48804.594146341515},1294895.0423545109,{"$f":"'[1]Measure Setup - NG TRC'!CV37","v":4219759.887687372},{"$f":"'[1]Measure Setup - NG TRC'!CY37","v":0.86355011938197912},{"$f":"'[1]Measure Setup - NG TRC'!DA37","v":9.5668607009108282}]
[null,{"$f":"'[1]Measure Setup - NG TRC'!G41","v":"Boiler right sizing and load management"},{"$f":"'[1]Measure Setup - NG TRC'!I41","v":20},{"$f":"'[1]Measure Setup - NG TRC'!J41","v":0.1},{"$f":"'[1]Measure Setup - NG TRC'!CF41","v":813409.90243902453},21581584.039241828,{"$f":"'[1]Measure Setup - NG TRC'!CG41","v":2800000},{"$f":"'[1]Measure Setup - NG TRC'!CI41","v":2700000},{"$f":"'[1]Measure Setup - NG TRC'!CJ41","v":150000},{"$f":"'[1]Measure Setup - NG TRC'!CK41","v":-10000},{"$f":"'[1]Measure Setup - NG TRC'!CL41","v":"EOL"},{"$f":"'[1]Measure Setup - NG TRC'!CR41","v":81340.99024390243},2158158.4039241825,{"$f":"'[1]Measure Setup - NG TRC'!CV41","v":8039015.1476745177},{"$f":"'[1]Measure Setup - NG TRC'!CY41","v":4.4618396542629238E-2},{"$f":"'[1]Measure Setup - NG TRC'!DA41","v":"N/A"}]
[null,{"$f":"'[1]Measure Setup - NG TRC'!G42","v":"High efficiency burners"},{"$f":"'[1]Measure Setup - NG TRC'!I42","v":20},{"$f":"'[1]Measure Setup - NG TRC'!J42","v":0.05},{"$f":"'[1]Measure Setup - NG TRC'!CF42","v":813409.90243902453},21581584.039241828,"N/A",{"$f":"'[1]Measure Setup - NG TRC'!CI42","v":400000},{"$f":"'[1]Measure Setup - NG TRC'!CJ42","v":60000},{"$f":"'[1]Measure Setup - NG TRC'!CK42","v":0},{"$f":"'[1]Measure Setup - NG TRC'!CL42","v":"Now"},{"$f":"'[1]Measure Setup - NG TRC'!CR42","v":40670.495121951266},1079079.2019620924,{"$f":"'[1]Measure Setup - NG TRC'!CV42","v":3466939.7552384711},{"$f":"'[1]Measure Setup - NG TRC'!CY42","v":1.0377993562830519},{"$f":"'[1]Measure Setup - NG TRC'!DA42","v":8.5368255548662422}]
[null,{"$f":"'[1]Measure Setup - NG TRC'!G43","v":"Insulation"},{"$f":"'[1]Measure Setup - NG TRC'!I43","v":15},{"$f":"'[1]Measure Setup - NG TRC'!J43","v":0.05},{"$f":"'[1]Measure Setup - NG TRC'!CF43","v":813409.90243902453},21581584.039241828,"N/A",{"$f":"'[1]Measure Setup - NG TRC'!CI43","v":150000},{"$f":"'[1]Measure Setup - NG TRC'!CJ43","v":30000},{"$f":"'[1]Measure Setup - NG TRC'!CK43","v":1500},{"$f":"'[1]Measure Setup - NG TRC'!CL43","v":"Now"},{"$f":"'[1]Measure Setup - NG TRC'!CR43","v":40670.495121951266},1079079.2019620924,{"$f":"'[1]Measure Setup - NG TRC'!CV43","v":3240092.0657757996},{"$f":"'[1]Measure Setup - NG TRC'!CY43","v":0.41086996531228176},{"$f":"'[1]Measure Setup - NG TRC'!DA43","v":17.927574184089568}]
[null,{"$f":"'[1]Measure Setup - NG TRC'!G44","v":"Advanced boiler controls"},{"$f":"'[1]Measure Setup - NG TRC'!I44","v":15},{"$f":"'[1]Measure Setup - NG TRC'!J44","v":0.03},{"$f":"'[1]Measure Setup - NG TRC'!CF44","v":813409.90243902453},21581584.039241828,"N/A",{"$f":"'[1]Measure Setup - NG TRC'!CI44","v":200000},{"$f":"'[1]Measure Setup - NG TRC'!CJ44","v":40000},{"$f":"'[1]Measure Setup - NG TRC'!CK44","v":3000},{"$f":"'[1]Measure Setup - NG TRC'!CL44","v":"Now"},{"$f":"'[1]Measure Setup - NG TRC'!CR44","v":24402.297073170757},647447.52117725543,{"$f":"'[1]Measure Setup - NG TRC'!CV44","v":1796082.4725022321},{"$f":"'[1]Measure Setup - NG TRC'!CY44","v":0.92413933770338719},{"$f":"'[1]Measure Setup - NG TRC'!DA44","v":7.8339339104614645}]
[null,{"$f":"'[1]Measure Setup - NG TRC'!G45","v":"Blowdown control"},{"$f":"'[1]Measure Setup - NG TRC'!I45","v":20},{"$f":"'[1]Measure Setup - NG TRC'!J45","v":0.01},{"$f":"'[1]Measure Setup - NG TRC'!CF45","v":813409.90243902453},21581584.039241828,"N/A",{"$f":"'[1]Measure Setup - NG TRC'!CI45","v":120000},{"$f":"'[1]Measure Setup - NG TRC'!CJ45","v":12000},{"$f":"'[1]Measure Setup - NG TRC'!CK45","v":2000},{"$f":"'[1]Measure Setup - NG TRC'!CL45","v":"Now"},{"$f":"'[1]Measure Setup - NG TRC'!CR45","v":8134.0990243902525},215815.84039241847,{"$f":"'[1]Measure Setup - NG TRC'!CV45","v":636360.82360817702},{"$f":"'[1]Measure Setup - NG TRC'!CY45","v":1.5464669405740266},{"$f":"'[1]Measure Setup - NG TRC'!DA45","v":5.2701005819658242}]
[null,{"$f":"'[1]Measure Setup - NG TRC'!G46","v":"Boiler water treatment"},{"$f":"'[1]Measure Setup - NG TRC'!I46","v":10},{"$f":"'[1]Measure Setup - NG TRC'!J46","v":0.01},{"$f":"'[1]Measure Setup - NG TRC'!CF46","v":813409.90243902453},21581584.039241828,"N/A",{"$f":"'[1]Measure Setup - NG TRC'!CI46","v":50000},{"$f":"'[1]Measure Setup - NG TRC'!CJ46","v":8000},{"$f":"'[1]Measure Setup - NG TRC'!CK46","v":3000},{"$f":"'[1]Measure Setup - NG TRC'!CL46","v":"Now"},{"$f":"'[1]Measure Setup - NG TRC'!CR46","v":8134.0990243902525},215815.84039241847,{"$f":"'[1]Measure Setup - NG TRC'!CV46","v":463415.82381051697},{"$f":"'[1]Measure Setup - NG TRC'!CY46","v":0.71220813213560685},{"$f":"'[1]Measure Setup - NG TRC'!DA46","v":7.0629776633197645}]
[null,{"$f":"'[1]Measure Setup - NG TRC'!G47","v":"Boiler maintenance"},{"$f":"'[1]Measure Setup - NG TRC'!I47","v":5},{"$f":"'[1]Measure Setup - NG TRC'!J47","v":0.05},{"$f":"'[1]Measure Setup - NG TRC'!CF47","v":813409.90243902453},21581584.039241828,"N/A",{"$f":"'[1]Measure Setup - NG TRC'!CI47","v":0},{"$f":"'[1]Measure Setup - NG TRC'!CJ47","v":0},{"$f":"'[1]Measure Setup - NG TRC'!CK47","v":30000},{"$f":"'[1]Measure Setup - NG TRC'!CL47","v":"Now"},{"$f":"'[1]Measure Setup - NG TRC'!CR47","v":40670.495121951266},1079079.2019620924,{"$f":"'[1]Measure Setup - NG TRC'!CV47","v":1508924.6671680999},{"$f":"'[1]Measure Setup - NG TRC'!CY47","v":7.2596053980852407E-2},{"$f":"'[1]Measure Setup - NG TRC'!DA47","v":14.268350863599807}]
[null,{"$f":"'[1]Measure Setup - NG TRC'!G48","v":"Minimize deaerator vent losses"},{"$f":"'[1]Measure Setup - NG TRC'!I48","v":20},{"$f":"'[1]Measure Setup - NG TRC'!J48","v":0.02},{"$f":"'[1]Measure Setup - NG TRC'!CF48","v":813409.90243902453},21581584.039241828,"N/A",{"$f":"'[1]Measure Setup - NG TRC'!CI48","v":150000},{"$f":"'[1]Measure Setup - NG TRC'!CJ48","v":15000},{"$f":"'[1]Measure Setup - NG TRC'!CK48","v":2000},{"$f":"'[1]Measure Setup - NG TRC'!CL48","v":"Now"},{"$f":"'[1]Measure Setup - NG TRC'!CR48","v":16268.198048780505},431631.68078483694,{"$f":"'[1]Measure Setup - NG TRC'!CV48","v":1388748.7746558713},{"$f":"'[1]Measure Setup - NG TRC'!CY48","v":0.95266215676830657},{"$f":"'[1]Measure Setup - NG TRC'!DA48","v":8.6293506038945544}]
[null,{"$f":"'[1]Measure Setup - NG TRC'!G49","v":"Condensate return"},{"$f":"'[1]Measure Setup - NG TRC'!I49","v":20},{"$f":"'[1]Measure Setup - NG TRC'!J49","v":0.02},{"$f":"'[1]Measure Setup - NG TRC'!CF49","v":813409.90243902453},21581584.039241828,"N/A",{"$f":"'[1]Measure Setup - NG TRC'!CI49","v":350000},{"$f":"'[1]Measure Setup - NG TRC'!CJ49","v":80000},{"$f":"'[1]Measure Setup - NG TRC'!CK49","v":10000},{"$f":"'[1]Measure Setup - NG TRC'!CL49","v":"Now"},{"$f":"'[1]Measure Setup - NG TRC'!CR49","v":16268.198048780505},431631.68078483694,{"$f":"'[1]Measure Setup - NG TRC'!CV49","v":1055640.2648978028},{"$f":"'[1]Measure Setup - NG TRC'!CY49","v":2.6300336353375182},{"$f":"'[1]Measure Setup - NG TRC'!DA49","v":3.0492472053392432}]
[null,{"$f":"'[1]Measure Setup - NG TRC'!G50","v":"Steam trap survey and repair"},{"$f":"'[1]Measure Setup - NG TRC'!I50","v":3},{"$f":"'[1]Measure Setup - NG TRC'!J50","v":0.04},{"$f":"'[1]Measure Setup - NG TRC'!CF50","v":813409.90243902453},{"$f":"(1/0.03769)*E51","v":21581584.039241828},"N/A",{"$f":"'[1]Measure Setup - NG TRC'!CI50","v":200000},{"$f":"'[1]Measure Setup - NG TRC'!CJ50","v":30000},{"$f":"'[1]Measure Setup - NG TRC'!CK50","v":0},{"$f":"'[1]Measure Setup - NG TRC'!CL50","v":"Now"},{"$f":"'[1]Measure Setup - NG TRC'!CR50","v":32536.396097560966},{"$f":"IF(L51=\"\",\"\",(1/0.03769)*L51)","v":863263.36156967282},{"$f":"'[1]Measure Setup - NG TRC'!CV50","v":626481.69795652537},{"$f":"'[1]Measure Setup - NG TRC'!CY50","v":0.64862459767690828},{"$f":"'[1]Measure Setup - NG TRC'!DA50","v":3.723833469376197}]

{"sheet":"TRC - Process Direct Heat","index":2,"n_rows":26,"n_cols":16,"rows_kept":26,"cut":false,"hidden":false,"merged":[[3,0,8,0],[9,0,17,0],[18,0,25,0]]}
["Process Direct Heat (Furnaces / Kilns / Ovens / Dryers)"]
[]
["System / Technology Size Category","Measure","Measure Life (Years)","Individual Measure % Savings","Baseline Energy Consumption\n(GJ)","Baseline Gas Consumption\n(m3)","Baseline Technology Capital Cost","Measure Capital Cost (Full)","Installation / Engineering Cost (Full)","Incremental Annual O&M Cost","Now/ EOL","Annual Gas Savings (GJ)","Annual Gas Savings (m3)","Net Measure TRC","Simple Payback  Period (Yrs)","B/C Ratio"]
["Small\n(2 MMBTU)",{"$f":"'[1]Measure Setup - NG TRC'!G62","v":"Exhaust gas heat recovery"},{"$f":"'[1]Measure Setup - NG TRC'!I62","v":15},{"$f":"'[1]Measure Setup - NG TRC'!J62","v":0.15},{"$f":"'[1]Measure Setup - NG TRC'!R62","v":9472.4639999999999},{"$f":"(1/0.03769)*E4","v":251325.65667285753},"N/A",{"$f":"'[1]Measure Setup - NG TRC'!U62","v":30000},{"$f":"'[1]Measure Setup - NG TRC'!V62","v":5000},{"$f":"'[1]Measure Setup - NG TRC'!W62","v":1000},{"$f":"'[1]Measure Setup - NG TRC'!X62","v":"Now"},{"$f":"'[1]Measure Setup - NG TRC'!AD62","v":1420.8696000000002},{"$f":"IF(L4=\"\",\"\",(1/0.03769)*L4)","v":37698.848500928638},{"$f":"'[1]Measure Setup - NG TRC'!AH62","v":77277.283151575481},{"$f":"'[1]Measure Setup - NG TRC'!AK62","v":2.48528078349631},{"$f":"'[1]Measure Setup - NG TRC'!AM62","v":2.8137618867310614}]
[null,{"$f":"'[1]Measure Setup - NG TRC'!G63","v":"High efficiency burners and burner controls "},{"$f":"'[1]Measure Setup - NG TRC'!I63","v":20},{"$f":"'[1]Measure Setup - NG TRC'!J63","v":0.1},{"$f":"'[1]Measure Setup - NG TRC'!R63","v":9472.4639999999999},251325.65667285753,"N/A",{"$f":"'[1]Measure Setup - NG TRC'!U63","v":15000},{"$f":"'[1]Measure Setup - NG TRC'!V63","v":2000},{"$f":"'[1]Measure Setup - NG TRC'!W63","v":0},{"$f":"'[1]Measure Setup - NG TRC'!X63","v":"Now"},{"$f":"'[1]Measure Setup - NG TRC'!AD63","v":947.24639999999977},25132.565667285748,{"$f":"'[1]Measure Setup - NG TRC'!AH63","v":74461.378451693075},{"$f":"'[1]Measure Setup - NG TRC'!AK63","v":1.6467246357296415},{"$f":"'[1]Measure Setup - NG TRC'!AM63","v":5.3800810853937104}]
[null,{"$f":"'[1]Measure Setup - NG TRC'!G64","v":"Insulation"},{"$f":"'[1]Measure Setup - NG TRC'!I64","v":15},{"$f":"'[1]Measure Setup - NG TRC'!J64","v":0.05},{"$f":"'[1]Measure Setup - NG TRC'!R64","v":9472.4639999999999},251325.65667285753,"N/A",{"$f":"'[1]Measure Setup - NG TRC'!U64","v":8000},{"$f":"'[1]Measure Setup - NG TRC'!V64","v":500},{"$f":"'[1]Measure Setup - NG TRC'!W64","v":300},{"$f":"'[1]Measure Setup - NG TRC'!X64","v":"Now"},{"$f":"'[1]Measure Setup - NG TRC'!AD64","v":473.62320000000039},12566.282833642887,{"$f":"'[1]Measure Setup - NG TRC'!AH64","v":29179.297034068801},{"$f":"'[1]Measure Setup - NG TRC'!AK64","v":1.8100435014212524},{"$f":"'[1]Measure Setup - NG TRC'!AM64","v":3.7063414719901044}]
[null,{"$f":"'[1]Measure Setup - NG TRC'!G66","v":"High efficiency ovens "},{"$f":"'[1]Measure Setup - NG TRC'!I66","v":20},{"$f":"'[1]Measure Setup - NG TRC'!J66","v":0.12},{"$f":"'[1]Measure Setup - NG TRC'!R66","v":9472.4639999999999},251325.65667285753,"N/A",{"$f":"'[1]Measure Setup - NG TRC'!U66","v":18000},{"$f":"'[1]Measure Setup - NG TRC'!V66","v":2000},{"$f":"'[1]Measure Setup - NG TRC'!W66","v":0},{"$f":"'[1]Measure Setup - NG TRC'!X66","v":"Now"},{"$f":"'[1]Measure Setup - NG TRC'!AD66","v":1136.69568},30159.078800742904,{"$f":"'[1]Measure Setup - NG TRC'!AH66","v":89753.654142031723},{"$f":"'[1]Measure Setup - NG TRC'!AK66","v":1.6144359173820011},{"$f":"'[1]Measure Setup - NG TRC'!AM66","v":5.4876827071015866}]
[null,{"$f":"'[1]Measure Setup - NG TRC'!G67","v":"High efficiency dryers"},{"$f":"'[1]Measure Setup - NG TRC'!I67","v":20},{"$f":"'[1]Measure Setup - NG TRC'!J67","v":0.12},{"$f":"'[1]Measure Setup - NG TRC'!R67","v":9472.4639999999999},251325.65667285753,"N/A",{"$f":"'[1]Measure Setup - NG TRC'!U67","v":18000},{"$f":"'[1]Measure Setup - NG TRC'!V67","v":2000},{"$f":"'[1]Measure Setup - NG TRC'!W67","v":0},{"$f":"'[1]Measure Setup - NG TRC'!X67","v":"Now"},{"$f":"'[1]Measure Setup - NG TRC'!AD67","v":1136.69568},30159.078800742904,{"$f":"'[1]Measure Setup - NG TRC'!AH67","v":89753.654142031723},{"$f":"'[1]Measure Setup - NG TRC'!AK67","v":1.6144359173820011},{"$f":"'[1]Measure Setup - NG TRC'!AM67","v":5.4876827071015866}]
[null,{"$f":"'[1]Measure Setup - NG TRC'!G70","v":"Air curtains"},{"$f":"'[1]Measure Setup - NG TRC'!I70","v":20},{"$f":"'[1]Measure Setup - NG TRC'!J70","v":0.15},{"$f":"'[1]Measure Setup - NG TRC'!R70","v":9472.4639999999999},251325.65667285753,"N/A",{"$f":"'[1]Measure Setup - NG TRC'!U70","v":15000},{"$f":"'[1]Measure Setup - NG TRC'!V70","v":2000},{"$f":"'[1]Measure Setup - NG TRC'!W70","v":1000},{"$f":"'[1]Measure Setup - NG TRC'!X70","v":"Now"},{"$f":"'[1]Measure Setup - NG TRC'!AD70","v":1420.8696000000002},37698.848500928638,{"$f":"'[1]Measure Setup - NG TRC'!AH70","v":111678.50395778113},{"$f":"'[1]Measure Setup - NG TRC'!AK70","v":1.242640391748155},{"$f":"'[1]Measure Setup - NG TRC'!AM70","v":5.3772208847207619}]
["Medium\n(20 MMBTU)",{"$f":"'[1]Measure Setup - NG TRC'!G62","v":"Exhaust gas heat recovery"},{"$f":"'[1]Measure Setup - NG TRC'!I62","v":15},{"$f":"'[1]Measure Setup - NG TRC'!J62","v":0.15},{"$f":"'[1]Measure Setup - NG TRC'!AY62","v":106565.22},{"$f":"(1/0.03769)*E10","v":2827413.6375696473},"N/A",{"$f":"'[1]Measure Setup - NG TRC'!BB62","v":120000},{"$f":"'[1]Measure Setup - NG TRC'!BC62","v":35000},{"$f":"'[1]Measure Setup - NG TRC'!BD62","v":3000},{"$f":"'[1]Measure Setup - NG TRC'!BE62","v":"Now"},{"$f":"'[1]Measure Setup - NG TRC'!BK62","v":15984.783000000003},{"$f":"IF(L10=\"\",\"\",(1/0.03769)*L10)","v":424112.04563544714},{"$f":"'[1]Measure Setup - NG TRC'!BO62","v":1170869.5913822684},{"$f":"'[1]Measure Setup - NG TRC'!BR62","v":0.92284623383005859},{"$f":"'[1]Measure Setup - NG TRC'!BT62","v":7.5846428416714575}]
[null,{"$f":"'[1]Measure Setup - NG TRC'!G63","v":"High efficiency burners and burner controls "},{"$f":"'[1]Measure Setup - NG TRC'!I63","v":20},{"$f":"'[1]Measure Setup - NG TRC'!J63","v":0.1},{"$f":"'[1]Measure Setup - NG TRC'!AY63","v":106565.22},2827413.6375696473,"N/A",{"$f":"'[1]Measure Setup - NG TRC'!BB63","v":60000},{"$f":"'[1]Measure Setup - NG TRC'!BC63","v":4000},{"$f":"'[1]Measure Setup - NG TRC'!BD63","v":0},{"$f":"'[1]Measure Setup - NG TRC'!BE63","v":"Now"},{"$f":"'[1]Measure Setup - NG TRC'!BK63","v":10656.521999999997},282741.36375696462,{"$f":"'[1]Measure Setup - NG TRC'!BO63","v":964940.50758154714},{"$f":"'[1]Measure Setup - NG TRC'!BR63","v":0.55106079313305645},{"$f":"'[1]Measure Setup - NG TRC'!BT63","v":16.077195430961673}]
[null,{"$f":"'[1]Measure Setup - NG TRC'!G64","v":"Insulation"},{"$f":"'[1]Measure Setup - NG TRC'!I64","v":15},{"$f":"'[1]Measure Setup - NG TRC'!J64","v":0.05},{"$f":"'[1]Measure Setup - NG TRC'!AY64","v":106565.22},2827413.6375696473,"N/A",{"$f":"'[1]Measure Setup - NG TRC'!BB64","v":40000},{"$f":"'[1]Measure Setup - NG TRC'!BC64","v":3000},{"$f":"'[1]Measure Setup - NG TRC'!BD64","v":1000},{"$f":"'[1]Measure Setup - NG TRC'!BE64","v":"Now"},{"$f":"'[1]Measure Setup - NG TRC'!BK64","v":5328.261000000005},141370.68187848249,{"$f":"'[1]Measure Setup - NG TRC'!BO64","v":398956.53046075645},{"$f":"'[1]Measure Setup - NG TRC'!BR64","v":0.77098546117447875},{"$f":"'[1]Measure Setup - NG TRC'!BT64","v":8.8835692144660996}]
[null,{"$f":"'[1]Measure Setup - NG TRC'!G65","v":"Advanced heating and process controls"},{"$f":"'[1]Measure Setup - NG TRC'!I65","v":15},{"$f":"'[1]Measure Setup - NG TRC'!J65","v":0.1},{"$f":"'[1]Measure Setup - NG TRC'!AY65","v":106565.22},2827413.6375696473,"N/A",{"$f":"'[1]Measure Setup - NG TRC'!BB65","v":100000},{"$f":"'[1]Measure Setup - NG TRC'!BC65","v":25000},{"$f":"'[1]Measure Setup - NG TRC'!BD65","v":3000},{"$f":"'[1]Measure Setup - NG TRC'!BE65","v":"Now"},{"$f":"'[1]Measure Setup - NG TRC'!BK65","v":10656.521999999997},282741.36375696462,{"$f":"'[1]Measure Setup - NG TRC'!BO65","v":751306.98141520342},{"$f":"'[1]Measure Setup - NG TRC'!BR65","v":1.1313453390718786},{"$f":"'[1]Measure Setup - NG TRC'!BT65","v":6.0826406060779421}]
[null,{"$f":"'[1]Measure Setup - NG TRC'!G66","v":"High efficiency ovens "},{"$f":"'[1]Measure Setup - NG TRC'!I66","v":20},{"$f":"'[1]Measure Setup - NG TRC'!J66","v":0.12},{"$f":"'[1]Measure Setup - NG TRC'!AY66","v":106565.22},2827413.6375696473,"N/A",{"$f":"'[1]Measure Setup - NG TRC'!BB66","v":100000},{"$f":"'[1]Measure Setup - NG TRC'!BC66","v":15000},{"$f":"'[1]Measure Setup - NG TRC'!BD66","v":0},{"$f":"'[1]Measure Setup - NG TRC'!BE66","v":"Now"},{"$f":"'[1]Measure Setup - NG TRC'!BK66","v":12787.8264},339289.63650835765,{"$f":"'[1]Measure Setup - NG TRC'!BO66","v":1119728.6090978568},{"$f":"'[1]Measure Setup - NG TRC'!BR66","v":0.82515613555080058},{"$f":"'[1]Measure Setup - NG TRC'!BT66","v":10.736770513894406}]
[null,{"$f":"'[1]Measure Setup - NG TRC'!G67","v":"High efficiency dryers"},{"$f":"'[1]Measure Setup - NG TRC'!I67","v":20},{"$f":"'[1]Measure Setup - NG TRC'!J67","v":0.12},{"$f":"'[1]Measure Setup - NG TRC'!AY67","v":106565.22},2827413.6375696473,"N/A",{"$f":"'[1]Measure Setup - NG TRC'!BB67","v":100000},{"$f":"'[1]Measure Setup - NG TRC'!BC67","v":15000},{"$f":"'[1]Measure Setup - NG TRC'!BD67","v":0},{"$f":"'[1]Measure Setup - NG TRC'!BE67","v":"Now"},{"$f":"'[1]Measure Setup - NG TRC'!BK67","v":12787.8264},339289.63650835765,{"$f":"'[1]Measure Setup - NG TRC'!BO67","v":1119728.6090978568},{"$f":"'[1]Measure Setup - NG TRC'!BR67","v":0.82515613555080058},{"$f":"'[1]Measure Setup - NG TRC'!BT67","v":10.736770513894406}]
[null,{"$f":"'[1]Measure Setup - NG TRC'!G68","v":"High Efficiency kilns"},{"$f":"'[1]Measure Setup - NG TRC'!I68","v":20},{"$f":"'[1]Measure Setup - NG TRC'!J68","v":0.14000000000000001},{"$f":"'[1]Measure Setup - NG TRC'!AY68","v":106565.22},2827413.6375696473,"N/A",{"$f":"'[1]Measure Setup - NG TRC'!BB68","v":100000},{"$f":"'[1]Measure Setup - NG TRC'!BC68","v":15000},{"$f":"'[1]Measure Setup - NG TRC'!BD68","v":0},{"$f":"'[1]Measure Setup - NG TRC'!BE68","v":"Now"},{"$f":"'[1]Measure Setup - NG TRC'!BK68","v":14919.130800000001},395837.90925975062,{"$f":"'[1]Measure Setup - NG TRC'!BO68","v":1325516.7106141665},{"$f":"'[1]Measure Setup - NG TRC'!BR68","v":0.70727668761497187},{"$f":"'[1]Measure Setup - NG TRC'!BT68","v":12.526232266210144}]
[null,{"$f":"'[1]Measure Setup - NG TRC'!G69","v":"High Efficiency Furnaces"},{"$f":"'[1]Measure Setup - NG TRC'!I69","v":20},{"$f":"'[1]Measure Setup - NG TRC'!J69","v":0.14000000000000001},{"$f":"'[1]Measure Setup - NG TRC'!AY69","v":106565.22},2827413.6375696473,"N/A",{"$f":"'[1]Measure Setup - NG TRC'!BB69","v":100000},{"$f":"'[1]Measure Setup - NG TRC'!BC69","v":15000},{"$f":"'[1]Measure Setup - NG TRC'!BD69","v":0},{"$f":"'[1]Measure Setup - NG TRC'!BE69","v":"Now"},{"$f":"'[1]Measure Setup - NG TRC'!BK69","v":14919.130800000001},395837.90925975062,{"$f":"'[1]Measure Setup - NG TRC'!BO69","v":1325516.7106141665},{"$f":"'[1]Measure Setup - NG TRC'!BR69","v":0.70727668761497187},{"$f":"'[1]Measure Setup - NG TRC'!BT69","v":12.526232266210144}]
[null,{"$f":"'[1]Measure Setup - NG TRC'!G70","v":"Air curtains"},{"$f":"'[1]Measure Setup - NG TRC'!I70","v":20},{"$f":"'[1]Measure Setup - NG TRC'!J70","v":0.15},{"$f":"'[1]Measure Setup - NG TRC'!AY70","v":106565.22},2827413.6375696473,"N/A",{"$f":"'[1]Measure Setup - NG TRC'!BB70","v":80000},{"$f":"'[1]Measure Setup - NG TRC'!BC70","v":18000},{"$f":"'[1]Measure Setup - NG TRC'!BD70","v":1000},{"$f":"'[1]Measure Setup - NG TRC'!BE70","v":"Now"},{"$f":"'[1]Measure Setup - NG TRC'!BK70","v":15984.782999999999},424112.04563544708,{"$f":"'[1]Measure Setup - NG TRC'!BO70","v":1436897.1976525625},{"$f":"'[1]Measure Setup - NG TRC'!BR70","v":0.57156233451620897},{"$f":"'[1]Measure Setup - NG TRC'!BT70","v":14.49027436010963}]
["Large\n(100 MMBTU)",{"$f":"'[1]Measure Setup - NG TRC'!G62","v":"Exhaust gas heat recovery"},{"$f":"'[1]Measure Setup - NG TRC'!I62","v":15},{"$f":"'[1]Measure Setup - NG TRC'!J62","v":0.15},{"$f":"'[1]Measure Setup - NG TRC'!CF62","v":828840.6},21990994.958875034,"N/A",{"$f":"'[1]Measure Setup - NG TRC'!CI62","v":900000},{"$f":"'[1]Measure Setup - NG TRC'!CJ62","v":180000},{"$f":"'[1]Measure Setup - NG TRC'!CK62","v":10000},{"$f":"'[1]Measure Setup - NG TRC'!CL62","v":"Now"},{"$f":"'[1]Measure Setup - NG TRC'!CR62","v":124326.09000000001},3298649.2438312555,{"$f":"'[1]Measure Setup - NG TRC'!CV62","v":9333733.4375017527},{"$f":"'[1]Measure Setup - NG TRC'!CY62","v":0.81043156489870016},{"$f":"'[1]Measure Setup - NG TRC'!DA62","v":9.0737392681778726}]
[null,{"$f":"'[1]Measure Setup - NG TRC'!G63","v":"High efficiency burners and burner controls "},{"$f":"'[1]Measure Setup - NG TRC'!I63","v":20},{"$f":"'[1]Measure Setup - NG TRC'!J63","v":0.1},{"$f":"'[1]Measure Setup - NG TRC'!CF63","v":828840.6},21990994.958875034,"N/A",{"$f":"'[1]Measure Setup - NG TRC'!CI63","v":500000},{"$f":"'[1]Measure Setup - NG TRC'!CJ63","v":80000},{"$f":"'[1]Measure Setup - NG TRC'!CK63","v":5000},{"$f":"'[1]Measure Setup - NG TRC'!CL63","v":"Now"},{"$f":"'[1]Measure Setup - NG TRC'!CR63","v":82884.059999999983},2199099.495887503,{"$f":"'[1]Measure Setup - NG TRC'!CV63","v":7380302.7959243516},{"$f":"'[1]Measure Setup - NG TRC'!CY63","v":0.65122409796932756},{"$f":"'[1]Measure Setup - NG TRC'!DA63","v":12.854616598293058}]
[null,{"$f":"'[1]Measure Setup - NG TRC'!G64","v":"Insulation"},{"$f":"'[1]Measure Setup - NG TRC'!I64","v":15},{"$f":"'[1]Measure Setup - NG TRC'!J64","v":0.05},{"$f":"'[1]Measure Setup - NG TRC'!CF64","v":828840.6},21990994.958875034,"N/A",{"$f":"'[1]Measure Setup - NG TRC'!CI64","v":250000},{"$f":"'[1]Measure Setup - NG TRC'!CJ64","v":30000},{"$f":"'[1]Measure Setup - NG TRC'!CK64","v":2000},{"$f":"'[1]Measure Setup - NG TRC'!CL64","v":"Now"},{"$f":"'[1]Measure Setup - NG TRC'!CR64","v":41442.030000000035},1099549.7479437527,{"$f":"'[1]Measure Setup - NG TRC'!CV64","v":3201385.9185089981},{"$f":"'[1]Measure Setup - NG TRC'!CY64","v":0.62714867849957578},{"$f":"'[1]Measure Setup - NG TRC'!DA64","v":11.844356578050625}]
[null,{"$f":"'[1]Measure Setup - NG TRC'!G65","v":"Advanced heating and process controls"},{"$f":"'[1]Measure Setup - NG TRC'!I65","v":15},{"$f":"'[1]Measure Setup - NG TRC'!J65","v":0.1},{"$f":"'[1]Measure Setup - NG TRC'!CF65","v":828840.6},21990994.958875034,"N/A",{"$f":"'[1]Measure Setup - NG TRC'!CI65","v":500000},{"$f":"'[1]Measure Setup - NG TRC'!CJ65","v":6500},{"$f":"'[1]Measure Setup - NG TRC'!CK65","v":8000},{"$f":"'[1]Measure Setup - NG TRC'!CL65","v":"Now"},{"$f":"'[1]Measure Setup - NG TRC'!CR65","v":82884.059999999983},2199099.495887503,{"$f":"'[1]Measure Setup - NG TRC'!CV65","v":6425847.5189927546},{"$f":"'[1]Measure Setup - NG TRC'!CY65","v":0.5746623938503167},{"$f":"'[1]Measure Setup - NG TRC'!DA65","v":12.326100233051694}]
[null,{"$f":"'[1]Measure Setup - NG TRC'!G66","v":"High efficiency ovens "},{"$f":"'[1]Measure Setup - NG TRC'!I66","v":20},{"$f":"'[1]Measure Setup - NG TRC'!J66","v":0.12},{"$f":"'[1]Measure Setup - NG TRC'!CF66","v":828840.6},21990994.958875034,"N/A",{"$f":"'[1]Measure Setup - NG TRC'!CI66","v":1000000},{"$f":"'[1]Measure Setup - NG TRC'!CJ66","v":100000},{"$f":"'[1]Measure Setup - NG TRC'!CK66","v":0},{"$f":"'[1]Measure Setup - NG TRC'!CL66","v":"Now"},{"$f":"'[1]Measure Setup - NG TRC'!CR66","v":99460.871999999988},2638919.3950650035,{"$f":"'[1]Measure Setup - NG TRC'!CV66","v":8503444.7374277748},{"$f":"'[1]Measure Setup - NG TRC'!CY66","v":1.0147882909258295},{"$f":"'[1]Measure Setup - NG TRC'!DA66","v":8.7304043067525221}]
[null,{"$f":"'[1]Measure Setup - NG TRC'!G67","v":"High efficiency dryers"},{"$f":"'[1]Measure Setup - NG TRC'!I67","v":20},{"$f":"'[1]Measure Setup - NG TRC'!J67","v":0.12},{"$f":"'[1]Measure Setup - NG TRC'!CF67","v":828840.6},21990994.958875034,"N/A",{"$f":"'[1]Measure Setup - NG TRC'!CI67","v":1000000},{"$f":"'[1]Measure Setup - NG TRC'!CJ67","v":100000},{"$f":"'[1]Measure Setup - NG TRC'!CK67","v":0},{"$f":"'[1]Measure Setup - NG TRC'!CL67","v":"Now"},{"$f":"'[1]Measure Setup - NG TRC'!CR67","v":99460.871999999988},2638919.3950650035,{"$f":"'[1]Measure Setup - NG TRC'!CV67","v":8503444.7374277748},{"$f":"'[1]Measure Setup - NG TRC'!CY67","v":1.0147882909258295},{"$f":"'[1]Measure Setup - NG TRC'!DA67","v":8.7304043067525221}]
[null,{"$f":"'[1]Measure Setup - NG TRC'!G68","v":"High Efficiency kilns"},{"$f":"'[1]Measure Setup - NG TRC'!I68","v":20},{"$f":"'[1]Measure Setup - NG TRC'!J68","v":0.14000000000000001},{"$f":"'[1]Measure Setup - NG TRC'!CF68","v":828840.6},21990994.958875034,"N/A",{"$f":"'[1]Measure Setup - NG TRC'!CI68","v":1000000},{"$f":"'[1]Measure Setup - NG TRC'!CJ68","v":100000},{"$f":"'[1]Measure Setup - NG TRC'!CK68","v":0},{"$f":"'[1]Measure Setup - NG TRC'!CL68","v":"Now"},{"$f":"'[1]Measure Setup - NG TRC'!CR68","v":116037.68400000001},3078739.294242505,{"$f":"'[1]Measure Setup - NG TRC'!CV68","v":10104018.860332405},{"$f":"'[1]Measure Setup - NG TRC'!CY68","v":0.86981853507928208},{"$f":"'[1]Measure Setup - NG TRC'!DA68","v":10.185471691211278}]
[null,{"$f":"'[1]Measure Setup - NG TRC'!G69","v":"High Efficiency Furnaces"},{"$f":"'[1]Measure Setup - NG TRC'!I69","v":20},{"$f":"'[1]Measure Setup - NG TRC'!J69","v":0.14000000000000001},{"$f":"'[1]Measure Setup - NG TRC'!CF69","v":828840.6},21990994.958875034,"N/A",{"$f":"'[1]Measure Setup - NG TRC'!CI69","v":1000000},{"$f":"'[1]Measure Setup - NG TRC'!CJ69","v":100000},{"$f":"'[1]Measure Setup - NG TRC'!CK69","v":0},{"$f":"'[1]Measure Setup - NG TRC'!CL69","v":"Now"},{"$f":"'[1]Measure Setup - NG TRC'!CR69","v":116037.68400000001},3078739.294242505,{"$f":"'[1]Measure Setup - NG TRC'!CV69","v":10104018.860332405},{"$f":"'[1]Measure Setup - NG TRC'!CY69","v":0.86981853507928208},{"$f":"'[1]Measure Setup - NG TRC'!DA69","v":10.185471691211278}]

{"sheet":"TRC - Other Process","index":3,"n_rows":9,"n_cols":16,"rows_kept":9,"cut":false,"hidden":false,"merged":[[6,0,8,0],[3,0,5,0]]}
["Other Process"]
[]
["System / Technology Size Category","Measure","Measure Life (Years)","Individual Measure % Savings","Baseline Energy Consumption\n(GJ)","Baseline Gas Consumption\n(m3)","Baseline Technology Capital Cost","Measure Capital Cost (Full)","Installation / Engineering Cost (Full)","Incremental Annual O&M Cost","Now/ EOL","Annual Gas Savings (GJ)","Annual Gas Savings (m3)","Net Measure TRC","Simple Payback  Period (Yrs)","B/C Ratio"]
["Medium\n(20 MMTBU)",{"$f":"'[1]Measure Setup - NG TRC'!G73","v":"Pollution control measures"},{"$f":"'[1]Measure Setup - NG TRC'!I73","v":20},{"$f":"'[1]Measure Setup - NG TRC'!J73","v":0.1},{"$f":"'[1]Measure Setup - NG TRC'!AY73","v":106565.22},{"$f":"(1/0.03769)*E4","v":2827413.6375696473},"N/A",{"$f":"'[1]Measure Setup - NG TRC'!BB73","v":80000},{"$f":"'[1]Measure Setup - NG TRC'!BC73","v":6400},{"$f":"'[1]Measure Setup - NG TRC'!BD73","v":20000},{"$f":"'[1]Measure Setup - NG TRC'!BE73","v":"Now"},{"$f":"'[1]Measure Setup - NG TRC'!BK73","v":10656.521999999997},{"$f":"IF(L4=\"\",\"\",(1/0.03769)*L4)","v":282741.36375696462},{"$f":"'[1]Measure Setup - NG TRC'!BO73","v":772269.23318637582},{"$f":"'[1]Measure Setup - NG TRC'!BR73","v":1.106723556308145},{"$f":"'[1]Measure Setup - NG TRC'!BT73","v":4.0087871539430218}]
[null,{"$f":"'[1]Measure Setup - NG TRC'!G75","v":"Hydrogen Atmospheres for Steel Batch Coil Annealing "},{"$f":"'[1]Measure Setup - NG TRC'!I75","v":15},{"$f":"'[1]Measure Setup - NG TRC'!J75","v":0.3},{"$f":"'[1]Measure Setup - NG TRC'!AY75","v":106565.22},{"$f":"(1/0.03769)*E5","v":2827413.6375696473},"N/A",{"$f":"'[1]Measure Setup - NG TRC'!BB75","v":250000},{"$f":"'[1]Measure Setup - NG TRC'!BC75","v":60000},{"$f":"'[1]Measure Setup - NG TRC'!BD75","v":3000},{"$f":"'[1]Measure Setup - NG TRC'!BE75","v":"Now"},{"$f":"'[1]Measure Setup - NG TRC'!BK75","v":31969.565999999992},{"$f":"IF(L5=\"\",\"\",(1/0.03769)*L5)","v":848224.09127089393},{"$f":"'[1]Measure Setup - NG TRC'!BO75","v":2364557.4212834602},{"$f":"'[1]Measure Setup - NG TRC'!BR75","v":0.90614610954220298},{"$f":"'[1]Measure Setup - NG TRC'!BT75","v":8.1046509704695886}]
[null,{"$f":"'[1]Measure Setup - NG TRC'!G76","v":"Process Heat Recovery"},{"$f":"'[1]Measure Setup - NG TRC'!I76","v":15},{"$f":"'[1]Measure Setup - NG TRC'!J76","v":0.15},{"$f":"'[1]Measure Setup - NG TRC'!AY76","v":106565.22},2827413.6375696473,"N/A",{"$f":"'[1]Measure Setup - NG TRC'!BB76","v":300000},{"$f":"'[1]Measure Setup - NG TRC'!BC76","v":60000},{"$f":"'[1]Measure Setup - NG TRC'!BD76","v":10000},{"$f":"'[1]Measure Setup - NG TRC'!BE76","v":"Now"},{"$f":"'[1]Measure Setup - NG TRC'!BK76","v":15984.783000000003},424112.04563544714,{"$f":"'[1]Measure Setup - NG TRC'!BO76","v":912627.03483810974},{"$f":"'[1]Measure Setup - NG TRC'!BR76","v":2.2532198393431959},{"$f":"'[1]Measure Setup - NG TRC'!BT76","v":3.092889443789788}]
["Large\n(100 MMBTU)",{"$f":"'[1]Measure Setup - NG TRC'!G73","v":"Pollution control measures"},{"$f":"'[1]Measure Setup - NG TRC'!I73","v":20},{"$f":"'[1]Measure Setup - NG TRC'!J73","v":0.1},{"$f":"'[1]Measure Setup - NG TRC'!CF73","v":828840.6},21990994.958875034,"N/A",{"$f":"'[1]Measure Setup - NG TRC'!CI73","v":1000000},{"$f":"'[1]Measure Setup - NG TRC'!CJ73","v":80000},{"$f":"'[1]Measure Setup - NG TRC'!CK73","v":125000},{"$f":"'[1]Measure Setup - NG TRC'!CL73","v":"Now"},{"$f":"'[1]Measure Setup - NG TRC'!CR73","v":82884.059999999983},2199099.495887503,{"$f":"'[1]Measure Setup - NG TRC'!CV73","v":5858675.1495533232},{"$f":"'[1]Measure Setup - NG TRC'!CY73","v":1.5482297046026323},{"$f":"'[1]Measure Setup - NG TRC'!DA73","v":3.7323419181076316}]
[null,{"$f":"'[1]Measure Setup - NG TRC'!G75","v":"Hydrogen Atmospheres for Steel Batch Coil Annealing "},{"$f":"'[1]Measure Setup - NG TRC'!I75","v":15},{"$f":"'[1]Measure Setup - NG TRC'!J75","v":0.3},{"$f":"'[1]Measure Setup - NG TRC'!CF75","v":828840.6},21990994.958875034,"N/A",{"$f":"'[1]Measure Setup - NG TRC'!CI75","v":2000000},{"$f":"'[1]Measure Setup - NG TRC'!CJ75","v":160000},{"$f":"'[1]Measure Setup - NG TRC'!CK75","v":10000},{"$f":"'[1]Measure Setup - NG TRC'!CL75","v":"Now"},{"$f":"'[1]Measure Setup - NG TRC'!CR75","v":248652.17999999993},6597298.4876625082,{"$f":"'[1]Measure Setup - NG TRC'!CV75","v":18743527.67006658},{"$f":"'[1]Measure Setup - NG TRC'!CY75","v":0.80372607615307967},{"$f":"'[1]Measure Setup - NG TRC'!DA75","v":9.3823873266101376}]
[null,{"$f":"'[1]Measure Setup - NG TRC'!G76","v":"Process Heat Recovery"},{"$f":"'[1]Measure Setup - NG TRC'!I76","v":15},{"$f":"'[1]Measure Setup - NG TRC'!J76","v":0.15},{"$f":"'[1]Measure Setup - NG TRC'!CF76","v":828840.6},21990994.958875034,"N/A",{"$f":"'[1]Measure Setup - NG TRC'!CI76","v":1000000},{"$f":"'[1]Measure Setup - NG TRC'!CJ76","v":150000},{"$f":"'[1]Measure Setup - NG TRC'!CK76","v":25000},{"$f":"'[1]Measure Setup - NG TRC'!CL76","v":"Now"},{"$f":"'[1]Measure Setup - NG TRC'!CR76","v":124326.09000000001},3298649.2438312555,{"$f":"'[1]Measure Setup - NG TRC'!CV76","v":9149642.2449071277},{"$f":"'[1]Measure Setup - NG TRC'!CY76","v":0.88348360900281675},{"$f":"'[1]Measure Setup - NG TRC'!DA76","v":7.8273168485155828}]

{"sheet":"TRC - HVAC","index":4,"n_rows":27,"n_cols":16,"rows_kept":27,"cut":false,"hidden":false,"merged":[[3,0,10,0],[11,0,18,0],[19,0,26,0]]}
["Heating, Ventilation & Air Conditioning (HVAC)"]
[]
["System / Technology Size Category","Measure","Measure Life (Years)","Individual Measure % Savings","Baseline Energy Consumption\n(GJ)","Baseline Gas Consumption\n(m3)","Baseline Technology Capital Cost","Measure Capital Cost (Full)","Installation / Engineering Cost (Full)","Incremental Annual O&M Cost","Now/ EOL","Annual Gas Savings (GJ)","Annual Gas Savings (m3)","Net Measure TRC","Simple Payback  Period (Yrs)","B/C Ratio"]
["Small\n(0.8 MMBTU)",{"$f":"'[1]Measure Setup - NG TRC'!G80","v":"Radiant heaters"},{"$f":"'[1]Measure Setup - NG TRC'!I80","v":20},{"$f":"'[1]Measure Setup - NG TRC'!J80","v":0.25},{"$f":"'[1]Measure Setup - NG TRC'!R80","v":3250.3552941176476},{"$f":"(1/0.03769)*E4","v":86239.195917157005},"N/A",{"$f":"'[1]Measure Setup - NG TRC'!U80","v":30000},{"$f":"'[1]Measure Setup - NG TRC'!V80","v":4000},{"$f":"'[1]Measure Setup - NG TRC'!W80","v":1000},{"$f":"'[1]Measure Setup - NG TRC'!X80","v":"Now"},{"$f":"'[1]Measure Setup - NG TRC'!AD80","v":812.58882352941191},{"$f":"IF(L4=\"\",\"\",(1/0.03769)*L4)","v":21559.798979289251},{"$f":"'[1]Measure Setup - NG TRC'!AH80","v":35945.95210889975},{"$f":"'[1]Measure Setup - NG TRC'!AK80","v":4.4552141598913391},{"$f":"'[1]Measure Setup - NG TRC'!AM80","v":1.8455172646981264}]
[null,{"$f":"'[1]Measure Setup - NG TRC'!G82","v":"Automated temperature control"},{"$f":"'[1]Measure Setup - NG TRC'!I82","v":20},{"$f":"'[1]Measure Setup - NG TRC'!J82","v":0.15},{"$f":"'[1]Measure Setup - NG TRC'!R82","v":3250.3552941176476},86239.195917157005,"N/A",{"$f":"'[1]Measure Setup - NG TRC'!U82","v":12000},{"$f":"'[1]Measure Setup - NG TRC'!V82","v":960},{"$f":"'[1]Measure Setup - NG TRC'!W82","v":500},{"$f":"'[1]Measure Setup - NG TRC'!X82","v":"Now"},{"$f":"'[1]Measure Setup - NG TRC'!AD82","v":487.55329411764723},12935.879387573554,{"$f":"'[1]Measure Setup - NG TRC'!AH82","v":29858.927637315712},{"$f":"'[1]Measure Setup - NG TRC'!AK82","v":2.7962566835715963},{"$f":"'[1]Measure Setup - NG TRC'!AM82","v":2.7342920343840076}]
[null,{"$f":"'[1]Measure Setup - NG TRC'!G83","v":"Solar Walls"},{"$f":"'[1]Measure Setup - NG TRC'!I83","v":20},{"$f":"'[1]Measure Setup - NG TRC'!J83","v":0.15},{"$f":"'[1]Measure Setup - NG TRC'!R83","v":3250.3552941176476},86239.195917157005,"N/A",{"$f":"'[1]Measure Setup - NG TRC'!U83","v":100000},{"$f":"'[1]Measure Setup - NG TRC'!V83","v":8000},{"$f":"'[1]Measure Setup - NG TRC'!W83","v":0},{"$f":"'[1]Measure Setup - NG TRC'!X83","v":"Now"},{"$f":"'[1]Measure Setup - NG TRC'!AD83","v":487.55329411764723},12935.879387573554,{"$f":"'[1]Measure Setup - NG TRC'!AH83","v":-60924.290502805008},{"$f":"'[1]Measure Setup - NG TRC'!AK83","v":20.32528693243442},{"$f":"'[1]Measure Setup - NG TRC'!AM83","v":0.43588619904810177}]
[null,{"$f":"'[1]Measure Setup - NG TRC'!G84","v":"Ventilation & Heat Recovery Optimization"},{"$f":"'[1]Measure Setup - NG TRC'!I84","v":20},{"$f":"'[1]Measure Setup - NG TRC'!J84","v":0.17},{"$f":"'[1]Measure Setup - NG TRC'!R84","v":3250.3552941176476},86239.195917157005,"N/A",{"$f":"'[1]Measure Setup - NG TRC'!U84","v":25000},{"$f":"'[1]Measure Setup - NG TRC'!V84","v":1600},{"$f":"'[1]Measure Setup - NG TRC'!W84","v":200},{"$f":"'[1]Measure Setup - NG TRC'!X84","v":"Now"},{"$f":"'[1]Measure Setup - NG TRC'!AD84","v":552.56040000000019},14660.663305916694,{"$f":"'[1]Measure Setup - NG TRC'!AH84","v":25049.758019535948},{"$f":"'[1]Measure Setup - NG TRC'!AK84","v":4.6031854814711268},{"$f":"'[1]Measure Setup - NG TRC'!AM84","v":1.8850656206051868}]
[null,{"$f":"'[1]Measure Setup - NG TRC'!G85","v":"Warehouse loading dock seals"},{"$f":"'[1]Measure Setup - NG TRC'!I85","v":10},{"$f":"'[1]Measure Setup - NG TRC'!J85","v":0.05},{"$f":"'[1]Measure Setup - NG TRC'!R85","v":3250.3552941176476},{"$f":"(1/0.03769)*E8","v":86239.195917157005},"N/A",{"$f":"'[1]Measure Setup - NG TRC'!U85","v":10000},{"$f":"'[1]Measure Setup - NG TRC'!V85","v":5000},{"$f":"'[1]Measure Setup - NG TRC'!W85","v":500},{"$f":"'[1]Measure Setup - NG TRC'!X85","v":"Now"},{"$f":"'[1]Measure Setup - NG TRC'!AD85","v":162.51776470588234},{"$f":"IF(L8=\"\",\"\",(1/0.03769)*L8)","v":4311.9597958578497},{"$f":"'[1]Measure Setup - NG TRC'!AH85","v":-7286.1918371996126},{"$f":"'[1]Measure Setup - NG TRC'!AK85","v":12.193273218210651},{"$f":"'[1]Measure Setup - NG TRC'!AM85","v":0.59683059332866462}]
[null,{"$f":"'[1]Measure Setup - NG TRC'!G86","v":"Air curtains"},{"$f":"'[1]Measure Setup - NG TRC'!I86","v":15},{"$f":"'[1]Measure Setup - NG TRC'!J86","v":0.05},{"$f":"'[1]Measure Setup - NG TRC'!R86","v":3250.3552941176476},{"$f":"(1/0.03769)*E9","v":86239.195917157005},"N/A",{"$f":"'[1]Measure Setup - NG TRC'!U86","v":13000},{"$f":"'[1]Measure Setup - NG TRC'!V86","v":2000},{"$f":"'[1]Measure Setup - NG TRC'!W86","v":500},{"$f":"'[1]Measure Setup - NG TRC'!X86","v":"Now"},{"$f":"'[1]Measure Setup - NG TRC'!AD86","v":162.51776470588234},{"$f":"IF(L9=\"\",\"\",(1/0.03769)*L9)","v":4311.9597958578497},{"$f":"'[1]Measure Setup - NG TRC'!AH86","v":-5090.8904295400225},{"$f":"'[1]Measure Setup - NG TRC'!AK86","v":12.193273218210651},{"$f":"'[1]Measure Setup - NG TRC'!AM86","v":0.72925173289143141}]
[null,{"$f":"'[1]Measure Setup - NG TRC'!G87","v":"Air compressor heat recovery"},{"$f":"'[1]Measure Setup - NG TRC'!I87","v":20},{"$f":"'[1]Measure Setup - NG TRC'!J87","v":0.15},{"$f":"'[1]Measure Setup - NG TRC'!R87","v":3250.3552941176476},{"$f":"(1/0.03769)*E10","v":86239.195917157005},"N/A",{"$f":"'[1]Measure Setup - NG TRC'!U87","v":18000},{"$f":"'[1]Measure Setup - NG TRC'!V87","v":2500},{"$f":"'[1]Measure Setup - NG TRC'!W87","v":500},{"$f":"'[1]Measure Setup - NG TRC'!X87","v":"Now"},{"$f":"'[1]Measure Setup - NG TRC'!AD87","v":487.55329411764711},{"$f":"IF(L10=\"\",\"\",(1/0.03769)*L10)","v":12935.87938757355},{"$f":"'[1]Measure Setup - NG TRC'!AH87","v":22318.927637315697},{"$f":"'[1]Measure Setup - NG TRC'!AK87","v":4.3626590159735166},{"$f":"'[1]Measure Setup - NG TRC'!AM87","v":1.901527822300912}]
[null,{"$f":"'[1]Measure Setup - NG TRC'!G88","v":"Destratification fans"},{"$f":"'[1]Measure Setup - NG TRC'!I88","v":20},{"$f":"'[1]Measure Setup - NG TRC'!J88","v":0.08},{"$f":"'[1]Measure Setup - NG TRC'!R88","v":3250.3552941176476},{"$f":"(1/0.03769)*E11","v":86239.195917157005},"N/A",{"$f":"'[1]Measure Setup - NG TRC'!U88","v":10000},{"$f":"'[1]Measure Setup - NG TRC'!V88","v":800},{"$f":"'[1]Measure Setup - NG TRC'!W88","v":0},{"$f":"'[1]Measure Setup - NG TRC'!X88","v":"Now"},{"$f":"'[1]Measure Setup - NG TRC'!AD88","v":260.02842352941184},{"$f":"IF(L11=\"\",\"\",(1/0.03769)*L11)","v":6899.1356733725615},{"$f":"'[1]Measure Setup - NG TRC'!AH88","v":14307.045065170663},{"$f":"'[1]Measure Setup - NG TRC'!AK88","v":3.8109912998314539},{"$f":"'[1]Measure Setup - NG TRC'!AM88","v":2.3247263949232098}]
["Medium\n(2 MMBTU)",{"$f":"'[1]Measure Setup - NG TRC'!G80","v":"Radiant heaters"},{"$f":"'[1]Measure Setup - NG TRC'!I80","v":20},{"$f":"'[1]Measure Setup - NG TRC'!J80","v":0.25},{"$f":"'[1]Measure Setup - NG TRC'!AY80","v":8125.8882352941182},{"$f":"(1/0.03769)*E12","v":215597.98979289251},"N/A",{"$f":"'[1]Measure Setup - NG TRC'!BB80","v":70000},{"$f":"'[1]Measure Setup - NG TRC'!BC80","v":10000},{"$f":"'[1]Measure Setup - NG TRC'!BD80","v":1000},{"$f":"'[1]Measure Setup - NG TRC'!BE80","v":"Now"},{"$f":"'[1]Measure Setup - NG TRC'!BK80","v":2031.4720588235296},{"$f":"IF(L12=\"\",\"\",(1/0.03769)*L12)","v":53899.497448223126},{"$f":"'[1]Measure Setup - NG TRC'!BO80","v":107635.2258518872},{"$f":"'[1]Measure Setup - NG TRC'!BR80","v":3.8316153859124196},{"$f":"'[1]Measure Setup - NG TRC'!BT80","v":2.2160308694910245}]
[null,{"$f":"'[1]Measure Setup - NG TRC'!G82","v":"Automated temperature control"},{"$f":"'[1]Measure Setup - NG TRC'!I82","v":20},{"$f":"'[1]Measure Setup - NG TRC'!J82","v":0.15},{"$f":"'[1]Measure Setup - NG TRC'!AY82","v":8125.8882352941182},215597.98979289251,"N/A",{"$f":"'[1]Measure Setup - NG TRC'!BB82","v":29000},{"$f":"'[1]Measure Setup - NG TRC'!BC82","v":2320},{"$f":"'[1]Measure Setup - NG TRC'!BD82","v":500},{"$f":"'[1]Measure Setup - NG TRC'!BE82","v":"Now"},{"$f":"'[1]Measure Setup - NG TRC'!BK82","v":1218.8832352941179},32339.698468933879,{"$f":"'[1]Measure Setup - NG TRC'!BO82","v":82112.491883108189},{"$f":"'[1]Measure Setup - NG TRC'!BR82","v":2.4890594594160138},{"$f":"'[1]Measure Setup - NG TRC'!BT82","v":3.3080359602650917}]
[null,{"$f":"'[1]Measure Setup - NG TRC'!G83","v":"Solar Walls"},{"$f":"'[1]Measure Setup - NG TRC'!I83","v":20},{"$f":"'[1]Measure Setup - NG TRC'!J83","v":0.15},{"$f":"'[1]Measure Setup - NG TRC'!AY83","v":8125.8882352941182},215597.98979289251,"N/A",{"$f":"'[1]Measure Setup - NG TRC'!BB83","v":175000},{"$f":"'[1]Measure Setup - NG TRC'!BC83","v":14000},{"$f":"'[1]Measure Setup - NG TRC'!BD83","v":0},{"$f":"'[1]Measure Setup - NG TRC'!BE83","v":"Now"},{"$f":"'[1]Measure Setup - NG TRC'!BK83","v":1218.8832352941179},32339.698468933879,{"$f":"'[1]Measure Setup - NG TRC'!BO83","v":-71310.726257012502},{"$f":"'[1]Measure Setup - NG TRC'!BR83","v":14.227700852704098},{"$f":"'[1]Measure Setup - NG TRC'!BT83","v":0.62269457006871676}]
[null,{"$f":"'[1]Measure Setup - NG TRC'!G84","v":"Ventilation & Heat Recovery Optimization"},{"$f":"'[1]Measure Setup - NG TRC'!I84","v":20},{"$f":"'[1]Measure Setup - NG TRC'!J84","v":0.17},{"$f":"'[1]Measure Setup - NG TRC'!AY84","v":8125.8882352941182},215597.98979289251,"N/A",{"$f":"'[1]Measure Setup - NG TRC'!BB84","v":70000},{"$f":"'[1]Measure Setup - NG TRC'!BC84","v":12000},{"$f":"'[1]Measure Setup - NG TRC'!BD84","v":1000},{"$f":"'[1]Measure Setup - NG TRC'!BE84","v":"Now"},{"$f":"'[1]Measure Setup - NG TRC'!BK84","v":1381.4010000000005},36651.658264791738,{"$f":"'[1]Measure Setup - NG TRC'!BO84","v":42867.613188960589},{"$f":"'[1]Measure Setup - NG TRC'!BR84","v":5.9053137650060785},{"$f":"'[1]Measure Setup - NG TRC'!BT84","v":1.473604302242304}]
[null,{"$f":"'[1]Measure Setup - NG TRC'!G85","v":"Warehouse loading dock seals"},{"$f":"'[1]Measure Setup - NG TRC'!I85","v":10},{"$f":"'[1]Measure Setup - NG TRC'!J85","v":0.05},{"$f":"'[1]Measure Setup - NG TRC'!AY85","v":8125.8882352941182},{"$f":"(1/0.03769)*E16","v":215597.98979289251},"N/A",{"$f":"'[1]Measure Setup - NG TRC'!BB85","v":20000},{"$f":"'[1]Measure Setup - NG TRC'!BC85","v":4000},{"$f":"'[1]Measure Setup - NG TRC'!BD85","v":500},{"$f":"'[1]Measure Setup - NG TRC'!BE85","v":"Now"},{"$f":"'[1]Measure Setup - NG TRC'!BK85","v":406.29441176470584},{"$f":"IF(L16=\"\",\"\",(1/0.03769)*L16)","v":10779.899489644624},{"$f":"'[1]Measure Setup - NG TRC'!BO85","v":-107.0542637205217},{"$f":"'[1]Measure Setup - NG TRC'!BR85","v":6.2372998238478763},{"$f":"'[1]Measure Setup - NG TRC'!BT85","v":0.99604561382819723}]
[null,{"$f":"'[1]Measure Setup - NG TRC'!G86","v":"Air curtains"},{"$f":"'[1]Measure Setup - NG TRC'!I86","v":15},{"$f":"'[1]Measure Setup - NG TRC'!J86","v":0.05},{"$f":"'[1]Measure Setup - NG TRC'!AY86","v":8125.8882352941182},{"$f":"(1/0.03769)*E17","v":215597.98979289251},"N/A",{"$f":"'[1]Measure Setup - NG TRC'!BB86","v":18000},{"$f":"'[1]Measure Setup - NG TRC'!BC86","v":1440},{"$f":"'[1]Measure Setup - NG TRC'!BD86","v":500},{"$f":"'[1]Measure Setup - NG TRC'!BE86","v":"Now"},{"$f":"'[1]Measure Setup - NG TRC'!BK86","v":406.29441176470584},{"$f":"IF(L17=\"\",\"\",(1/0.03769)*L17)","v":10779.899489644624},{"$f":"'[1]Measure Setup - NG TRC'!BO86","v":11037.333555881218},{"$f":"'[1]Measure Setup - NG TRC'!BR86","v":5.0763983056133331},{"$f":"'[1]Measure Setup - NG TRC'!BT86","v":1.4748661824399885}]
[null,{"$f":"'[1]Measure Setup - NG TRC'!G87","v":"Air compressor heat recovery"},{"$f":"'[1]Measure Setup - NG TRC'!I87","v":20},{"$f":"'[1]Measure Setup - NG TRC'!J87","v":0.15},{"$f":"'[1]Measure Setup - NG TRC'!AY87","v":8125.8882352941182},{"$f":"(1/0.03769)*E18","v":215597.98979289251},"N/A",{"$f":"'[1]Measure Setup - NG TRC'!BB87","v":45000},{"$f":"'[1]Measure Setup - NG TRC'!BC87","v":3500},{"$f":"'[1]Measure Setup - NG TRC'!BD87","v":1000},{"$f":"'[1]Measure Setup - NG TRC'!BE87","v":"Now"},{"$f":"'[1]Measure Setup - NG TRC'!BK87","v":1218.8832352941176},{"$f":"IF(L18=\"\",\"\",(1/0.03769)*L18)","v":32339.698468933871},{"$f":"'[1]Measure Setup - NG TRC'!BO87","v":60675.710023228872},{"$f":"'[1]Measure Setup - NG TRC'!BR87","v":4.0296499825484471},{"$f":"'[1]Measure Setup - NG TRC'!BT87","v":2.0642328959030003}]
[null,{"$f":"'[1]Measure Setup - NG TRC'!G88","v":"Destratification fans"},{"$f":"'[1]Measure Setup - NG TRC'!I88","v":20},{"$f":"'[1]Measure Setup - NG TRC'!J88","v":0.08},{"$f":"'[1]Measure Setup - NG TRC'!AY88","v":8125.8882352941182},{"$f":"(1/0.03769)*E19","v":215597.98979289251},"N/A",{"$f":"'[1]Measure Setup - NG TRC'!BB88","v":25000},{"$f":"'[1]Measure Setup - NG TRC'!BC88","v":2000},{"$f":"'[1]Measure Setup - NG TRC'!BD88","v":500},{"$f":"'[1]Measure Setup - NG TRC'!BE88","v":"Now"},{"$f":"'[1]Measure Setup - NG TRC'!BK88","v":650.07105882352948},{"$f":"IF(L19=\"\",\"\",(1/0.03769)*L19)","v":17247.839183431402},{"$f":"'[1]Measure Setup - NG TRC'!BO88","v":31510.830803047364},{"$f":"'[1]Measure Setup - NG TRC'!BR88","v":4.1763032767376833},{"$f":"'[1]Measure Setup - NG TRC'!BT88","v":2.0081278022896587}]
["Large\n(5 MMBTU)",{"$f":"'[1]Measure Setup - NG TRC'!G80","v":"Radiant heaters"},{"$f":"'[1]Measure Setup - NG TRC'!I80","v":20},{"$f":"'[1]Measure Setup - NG TRC'!J80","v":0.25},{"$f":"'[1]Measure Setup - NG TRC'!CF80","v":20314.720588235294},{"$f":"(1/0.03769)*E20","v":538994.97448223119},"N/A",{"$f":"'[1]Measure Setup - NG TRC'!CI80","v":200000},{"$f":"'[1]Measure Setup - NG TRC'!CJ80","v":20000},{"$f":"'[1]Measure Setup - NG TRC'!CK80","v":5000},{"$f":"'[1]Measure Setup - NG TRC'!CL80","v":"Now"},{"$f":"'[1]Measure Setup - NG TRC'!CR80","v":5078.6801470588234},{"$f":"IF(L20=\"\",\"\",(1/0.03769)*L20)","v":134748.7436205578},{"$f":"'[1]Measure Setup - NG TRC'!CV80","v":227804.15533032152},{"$f":"'[1]Measure Setup - NG TRC'!CY80","v":4.4687391923086093},{"$f":"'[1]Measure Setup - NG TRC'!DA80","v":1.8676012031710918}]
[null,{"$f":"'[1]Measure Setup - NG TRC'!G82","v":"Automated temperature control"},{"$f":"'[1]Measure Setup - NG TRC'!I82","v":20},{"$f":"'[1]Measure Setup - NG TRC'!J82","v":0.15},{"$f":"'[1]Measure Setup - NG TRC'!CF82","v":20314.720588235294},538994.97448223119,"N/A",{"$f":"'[1]Measure Setup - NG TRC'!CI82","v":70000},{"$f":"'[1]Measure Setup - NG TRC'!CJ82","v":5600},{"$f":"'[1]Measure Setup - NG TRC'!CK82","v":1000},{"$f":"'[1]Measure Setup - NG TRC'!CL82","v":"Now"},{"$f":"'[1]Measure Setup - NG TRC'!CR82","v":3047.2080882352943},80849.246172334693,{"$f":"'[1]Measure Setup - NG TRC'!CV82","v":210109.62063771003},{"$f":"'[1]Measure Setup - NG TRC'!CY82","v":2.3781535286880646},{"$f":"'[1]Measure Setup - NG TRC'!DA82","v":3.4979279363044582}]
[null,{"$f":"'[1]Measure Setup - NG TRC'!G83","v":"Solar Walls"},{"$f":"'[1]Measure Setup - NG TRC'!I83","v":20},{"$f":"'[1]Measure Setup - NG TRC'!J83","v":0.15},{"$f":"'[1]Measure Setup - NG TRC'!CF83","v":20314.720588235294},538994.97448223119,"N/A",{"$f":"'[1]Measure Setup - NG TRC'!CI83","v":250000},{"$f":"'[1]Measure Setup - NG TRC'!CJ83","v":20000},{"$f":"'[1]Measure Setup - NG TRC'!CK83","v":0},{"$f":"'[1]Measure Setup - NG TRC'!CL83","v":"Now"},{"$f":"'[1]Measure Setup - NG TRC'!CR83","v":3047.2080882352943},80849.246172334693,{"$f":"'[1]Measure Setup - NG TRC'!CV83","v":24223.184357468621},{"$f":"'[1]Measure Setup - NG TRC'!CY83","v":8.1301147729737711},{"$f":"'[1]Measure Setup - NG TRC'!DA83","v":1.0897154976202541}]
[null,{"$f":"'[1]Measure Setup - NG TRC'!G84","v":"Ventilation & Heat Recovery Optimization"},{"$f":"'[1]Measure Setup - NG TRC'!I84","v":20},{"$f":"'[1]Measure Setup - NG TRC'!J84","v":0.17},{"$f":"'[1]Measure Setup - NG TRC'!CF84","v":20314.720588235294},538994.97448223119,"N/A",{"$f":"'[1]Measure Setup - NG TRC'!CI84","v":150000},{"$f":"'[1]Measure Setup - NG TRC'!CJ84","v":15000},{"$f":"'[1]Measure Setup - NG TRC'!CK84","v":1000},{"$f":"'[1]Measure Setup - NG TRC'!CL84","v":"Now"},{"$f":"'[1]Measure Setup - NG TRC'!CR84","v":3453.502500000001},91629.145661979332,{"$f":"'[1]Measure Setup - NG TRC'!CV84","v":159939.3785520393},{"$f":"'[1]Measure Setup - NG TRC'!CY84","v":4.5308341636652099},{"$f":"'[1]Measure Setup - NG TRC'!DA84","v":1.921768737401746}]
[null,{"$f":"'[1]Measure Setup - NG TRC'!G85","v":"Warehouse loading dock seals"},{"$f":"'[1]Measure Setup - NG TRC'!I85","v":10},{"$f":"'[1]Measure Setup - NG TRC'!J85","v":0.05},{"$f":"'[1]Measure Setup - NG TRC'!CF85","v":20314.720588235294},{"$f":"(1/0.03769)*E24","v":538994.97448223119},"N/A",{"$f":"'[1]Measure Setup - NG TRC'!CI85","v":40000},{"$f":"'[1]Measure Setup - NG TRC'!CJ85","v":8000},{"$f":"'[1]Measure Setup - NG TRC'!CK85","v":1000},{"$f":"'[1]Measure Setup - NG TRC'!CL85","v":"Now"},{"$f":"'[1]Measure Setup - NG TRC'!CR85","v":1015.7360294117644},{"$f":"IF(L24=\"\",\"\",(1/0.03769)*L24)","v":26949.748724111552},{"$f":"'[1]Measure Setup - NG TRC'!CV85","v":13268.506117124853},{"$f":"'[1]Measure Setup - NG TRC'!CY85","v":4.8659604538471539},{"$f":"'[1]Measure Setup - NG TRC'!DA85","v":1.2450570172852464}]
[null,{"$f":"'[1]Measure Setup - NG TRC'!G86","v":"Air curtains"},{"$f":"'[1]Measure Setup - NG TRC'!I86","v":15},{"$f":"'[1]Measure Setup - NG TRC'!J86","v":0.05},{"$f":"'[1]Measure Setup - NG TRC'!CF86","v":20314.720588235294},{"$f":"(1/0.03769)*E25","v":538994.97448223119},"N/A",{"$f":"'[1]Measure Setup - NG TRC'!CI86","v":40000},{"$f":"'[1]Measure Setup - NG TRC'!CJ86","v":7000},{"$f":"'[1]Measure Setup - NG TRC'!CK86","v":1000},{"$f":"'[1]Measure Setup - NG TRC'!CL86","v":"Now"},{"$f":"'[1]Measure Setup - NG TRC'!CR86","v":1015.7360294117644},{"$f":"IF(L25=\"\",\"\",(1/0.03769)*L25)","v":26949.748724111552},{"$f":"'[1]Measure Setup - NG TRC'!CV86","v":31094.853766280132},{"$f":"'[1]Measure Setup - NG TRC'!CY86","v":4.766655138462518},{"$f":"'[1]Measure Setup - NG TRC'!DA86","v":1.5694394112781505}]
[null,{"$f":"'[1]Measure Setup - NG TRC'!G87","v":"Air compressor heat recovery"},{"$f":"'[1]Measure Setup - NG TRC'!I87","v":20},{"$f":"'[1]Measure Setup - NG TRC'!J87","v":0.15},{"$f":"'[1]Measure Setup - NG TRC'!CF87","v":20314.720588235294},{"$f":"(1/0.03769)*E26","v":538994.97448223119},"N/A",{"$f":"'[1]Measure Setup - NG TRC'!CI87","v":100000},{"$f":"'[1]Measure Setup - NG TRC'!CJ87","v":10000},{"$f":"'[1]Measure Setup - NG TRC'!CK87","v":2000},{"$f":"'[1]Measure Setup - NG TRC'!CL87","v":"Now"},{"$f":"'[1]Measure Setup - NG TRC'!CR87","v":3047.2080882352939},{"$f":"IF(L26=\"\",\"\",(1/0.03769)*L26)","v":80849.246172334679},{"$f":"'[1]Measure Setup - NG TRC'!CV87","v":167196.05691795144},{"$f":"'[1]Measure Setup - NG TRC'!CY87","v":3.5886091208471007},{"$f":"'[1]Measure Setup - NG TRC'!DA87","v":2.3162232374148619}]
[null,{"$f":"'[1]Measure Setup - NG TRC'!G88","v":"Destratification fans"},{"$f":"'[1]Measure Setup - NG TRC'!I88","v":20},{"$f":"'[1]Measure Setup - NG TRC'!J88","v":0.08},{"$f":"'[1]Measure Setup - NG TRC'!CF88","v":20314.720588235294},{"$f":"(1/0.03769)*E27","v":538994.97448223119},"N/A",{"$f":"'[1]Measure Setup - NG TRC'!CI88","v":60000},{"$f":"'[1]Measure Setup - NG TRC'!CJ88","v":4800},{"$f":"'[1]Measure Setup - NG TRC'!CK88","v":2000},{"$f":"'[1]Measure Setup - NG TRC'!CL88","v":"Now"},{"$f":"'[1]Measure Setup - NG TRC'!CR88","v":1625.1776470588236},{"$f":"IF(L27=\"\",\"\",(1/0.03769)*L27)","v":43119.597958578495},{"$f":"'[1]Measure Setup - NG TRC'!CV88","v":75091.904217799471},{"$f":"'[1]Measure Setup - NG TRC'!CY88","v":4.2515472268677366},{"$f":"'[1]Measure Setup - NG TRC'!DA88","v":1.9176896045055958}]