Workbook

Sheet Residential_Data
A1: in MWh for all classes
A2: Coef | D2: {=TRANSPOSE(Residential_Coef!B2:B10)} -> 144.158 | E2: 1039.792 | F2: 172339.28 | G2: 87641.818 | H2: -37018.303 | I2: -27311.703 | J2: -54075.034 | K2: -17702.897 | L2: 20652.257
A3: Year | B3: Month | C3: ResMWh | D3: Res_HDD10 | E3: Res_CDD18 | F3: PCI*Pop*EI_Idx | G3: 39448 | H3: 39479 | I3: 40483 | J3: 41791 | K3: Nov | L3: Dec
A4: 2008 | B4: 1 | C4: 316539.53 | D4: 382.85 | E4: 0 | F4: 1.01 | G4: 1 | H4: 0 | I4: 0 | J4: 0 | K4: 0 | L4: 0
A5: 2008 | B5: 2 | C5: 190338.98 | D5: 375.1 | E5: 0 | F5: 1.01 | G5: 0 | H5: 1 | I5: 0 | J5: 0 | K5: 0 | L5: 0
A6: 2008 | B6: 3 | C6: 221370.05 | D6: 427 | E6: 0 | F6: 1 | G6: 0 | H6: 0 | I6: 0 | J6: 0 | K6: 0 | L6: 0
A7: 2008 | B7: 4 | C7: 212630.4 | D7: 362.7 | E7: 0 | F7: 1 | G7: 0 | H7: 0 | I7: 0 | J7: 0 | K7: 0 | L7: 0
A8: 2008 | B8: 5 | C8: 174495.85 | D8: 15 | E8: 0 | F8: 1 | G8: 0 | H8: 0 | I8: 0 | J8: 0 | K8: 0 | L8: 0
A9: 2008 | B9: 6 | C9: 173116.01 | D9: 0 | E9: 2.5 | F9: 0.99 | G9: 0 | H9: 0 | I9: 0 | J9: 0 | K9: 0 | L9: 0
A10: 2008 | B10: 7 | C10: 232195.81 | D10: 0 | E10: 71.5 | F10: 0.99 | G10: 0 | H10: 0 | I10: 0 | J10: 0 | K10: 0 | L10: 0
A11: 2008 | B11: 8 | C11: 281463.24 | D11: 0 | E11: 111 | F11: 0.99 | G11: 0 | H11: 0 | I11: 0 | J11: 0 | K11: 0 | L11: 0
A12: 2008 | B12: 9 | C12: 250675.45 | D12: 0 | E12: 64 | F12: 0.99 | G12: 0 | H12: 0 | I12: 0 | J12: 0 | K12: 0 | L12: 0
A13: 2008 | B13: 10 | C13: 199301.91 | D13: 0 | E13: 26.7 | F13: 0.99 | G13: 0 | H13: 0 | I13: 0 | J13: 0 | K13: 0 | L13: 0
A14: 2008 | B14: 11 | C14: 164785.61 | D14: 31 | E14: 0 | F14: 0.98 | G14: 0 | H14: 0 | I14: 0 | J14: 0 | K14: 1 | L14: 0
A15: 2008 | B15: 12 | C15: 208740.18 | D15: 211.5 | E15: 0 | F15: 0.98 | G15: 0 | H15: 0 | I15: 0 | J15: 0 | K15: 0 | L15: 1
... A87: 2014 | B87: 12 | C87: 213533.95 | D87: 310 | E87: 0 | F87: 1.01 | G87: 0 | H87: 0 | I87: 0 | J87: 0 | K87: 0 | L87: 1
A88: 2015 | B88: 1 | D88: 449.35 | E88: 0 | F88: 1.0136 | G88: 0 | H88: 0 | I88: 0 | J88: 0 | K88: 0 | L88: 0
A89: 2015 | B89: 2 | D89: 413.44 | E89: 0 | F89: 1.014513 | G89: 0 | H89: 0 | I89: 0 | J89: 0 | K89: 0 | L89: 0
A90: 2015 | B90: 3 | D90: 292.8 | E90: 0.02 | F90: 1.014823 | G90: 0 | H90: 0 | I90: 0 | J90: 0 | K90: 0 | L90: 0
A91: 2015 | B91: 4 | D91: 72.75 | E91: 0.12 | F91: 1.015129 | G91: 0 | H91: 0 | I91: 0 | J91: 0 | K91: 0 | L91: 0
A92: 2015 | B92: 5 | D92: 0 | E92: 18.9 | F92: 1.015431 | G92: 0 | H92: 0 | I92: 0 | J92: 0 | K92: 0 | L92: 0
A93: 2015 | B93: 6 | D93: 0 | E93: 76.3 | F93: 1.01612 | G93: 0 | H93: 0 | I93: 0 | J93: 0 | K93: 0 | L93: 0
A94: 2015 | B94: 7 | D94: 0 | E94: 138.04 | F94: 1.016804 | G94: 0 | H94: 0 | I94: 0 | J94: 0 | K94: 0 | L94: 0
A95: 2015 | B95: 8 | D95: 0 | E95: 108.7 | F95: 1.017485 | G95: 0 | H95: 0 | I95: 0 | J95: 0 | K95: 0 | L95: 0
A96: 2015 | B96: 9 | D96: 0 | E96: 32.55 | F96: 1.018257 | G96: 0 | H96: 0 | I96: 0 | J96: 0 | K96: 0 | L96: 0
A97: 2015 | B97: 10 | D97: 11.16 | E97: 3.37 | F97: 1.019026 | G97: 0 | H97: 0 | I97: 0 | J97: 0 | K97: 0 | L97: 0
A98: 2015 | B98: 11 | D98: 178.95 | E98: 0 | F98: 1.01979 | G98: 0 | H98: 0 | I98: 0 | J98: 0 | K98: 1 | L98: 0
A99: 2015 | B99: 12 | D99: 358.98 | E99: 0 | F99: 1.020939 | G99: 0 | H99: 0 | I99: 0 | J99: 0 | K99: 0 | L99: 1
... A159: 2020 | B159: 12 | D159: 358.98 | E159: 0 | F159: 1.078888 | G159: 0 | H159: 0 | I159: 0 | J159: 0 | K159: 0 | L159: 1

Sheet Residential_Coef
A1: Variable | B1: Coefficient | C1: StdErr | D1: T-Stat | E1: P-Value
A2: mWthr.Res_HDD10 | B2: 144.158 | C2: 10.869 | D2: 13.264 | E2: 0
A3: mWthr.Res_CDD18 | B3: 1039.792 | C3: 42.041 | D3: 24.733 | E3: 0
A4: PCI*Pop*EI_Idx | B4: 172339.28 | C4: 3250.496 | D4: 53.019 | E4: 0
A5: mBin.Jan08 | B5: 87641.818 | C5: 14976.223 | D5: 5.852 | E5: 0
A6: mBin.Feb08 | B6: -37018.303 | C6: 14966.56 | D6: -2.473 | E6: 0.0156
A7: mBin.Nov10 | B7: -27311.703 | C7: 15898.417 | D7: -1.718 | E7: 0.0899
A8: mBin.Jun14 | B8: -54075.034 | C8: 14896.513 | D8: -3.63 | E8: 0.0005
A9: mBin.Nov | B9: -17702.897 | C9: 6655.153 | D9: -2.66 | E9: 0.0095
A10: mBin.Dec | B10: 20652.257 | C10: 5988.156 | D10: 3.449 | E10: 0.0009

Sheet Residential_MStat
A1: Model Statistics
A2: Adjusted Observations | B2: 84
A3: Deg. of Freedom for Error | B3: 75
A4: R-Squared | B4: 0.917
A5: Adjusted R-Squared | B5: 0.908
A6: Model Sum of Squares | B6: 1.7834385e+11
A7: Sum of Squared Errors | B7: 1.6231759e+10
A8: Mean Squared Error | B8: 2.1642346e+08
A9: Std. Error of Regression | B9: 14711.34
A10: Mean Abs. Dev. (MAD) | B10: 11199.62
A11: Mean Abs. % Err. (MAPE) | B11: 0.0523
A12: Durbin-Watson Statistic | B12: 2.027

Sheet Residential_Forcast
A1: Year | B1: Month | C1: Actual | D1: Pred
A2: 2015 | B2: 1 | D2: =+Residential_Equation!C2 -> 239460.49
A3: 2015 | B3: 2 | D3: =+Residential_Equation!C3 -> 234441.12
A4: 2015 | B4: 3 | D4: =+Residential_Equation!C4 -> 217124.12
A5: 2015 | B5: 4 | D5: =+Residential_Equation!C5 -> 185558.87
A6: 2015 | B6: 5 | D6: =+Residential_Equation!C6 -> 194650.72
A7: 2015 | B7: 6 | D7: =+Residential_Equation!C7 -> 254453.52
A8: 2015 | B8: 7 | D8: =+Residential_Equation!C8 -> 318768.16
A9: 2015 | B9: 8 | D9: =+Residential_Equation!C9 -> 288378.02
A10: 2015 | B10: 9 | D10: =+Residential_Equation!C10 -> 209330.91
A11: 2015 | B11: 10 | D11: =+Residential_Equation!C11 -> 180731.11
A12: 2015 | B12: 11 | D12: =+Residential_Equation!C12 -> 183844.05
A13: 2015 | B13: 12 | D13: =+Residential_Equation!C13 -> 248349.99
... A73: 2020 | B73: 12 | D73: =+Residential_Equation!C73 -> 258336.88
A75: Year | B75: Sales Forecast | C75: Allocationto GS>50 | D75: Sales Forecast Before CDM Adjustment
A76: 2015 | B76: =SUMIF($A$2:$A$73,$A$76:$A$81,$D$2:$D$73) -> 2755091.1 | C76: -3173.2484 | D76: =B76+C76 -> 2751917.8
A77: 2016 | B77: =SUMIF($A$2:$A$73,$A$76:$A$81,$D$2:$D$73) -> 2768783.3 | C77: -6346.4968 | D77: =B77+C77 -> 2762436.8
A78: 2017 | B78: =SUMIF($A$2:$A$73,$A$76:$A$81,$D$2:$D$73) -> 2780974.6 | C78: -9519.7452 | D78: =B78+C78 -> 2771454.8
A79: 2018 | B79: =SUMIF($A$2:$A$73,$A$76:$A$81,$D$2:$D$73) -> 2807917.9 | C79: -12692.994 | D79: =B79+C79 -> 2795224.9
A80: 2019 | B80: =SUMIF($A$2:$A$73,$A$76:$A$81,$D$2:$D$73) -> 2841479.6 | C80: -15866.242 | D80: =B80+C80 -> 2825613.4
A81: 2020 | B81: =SUMIF($A$2:$A$73,$A$76:$A$81,$D$2:$D$73) -> 2870817.6 | C81: -19039.49 | D81: =B81+C81 -> 2851778.1
A82: Note : Reallocation to GS > 50 kW based on the trend of new condominiums opting for submetering.

Sheet Residential_Equation
A1: Year | B1: Month | C1: Pred | D1: Res_HDD10 | E1: Res_CDD18 | F1: PCI*Pop*EI_Idx | G1: 39448 | H1: 39479 | I1: 40483 | J1: 41791 | K1: Nov | L1: Dec
A2: 2015 | B2: 1 | C2: =SUM(D2:L2) -> 239460.49 | D2: =Residential_Data!D88*Residential_Data!D$2 -> 64777.397 | E2: =Residential_Data!E88*Residential_Data!E$2 -> 0 | F2: =Residential_Data!F88*Residential_Data!F$2 -> 174683.1 | G2: =Residential_Data!G88*Residential_Data!G$2 -> 0 | H2: =Residential_Data!H88*Residential_Data!H$2 -> 0 | I2: =Residential_Data!I88*Residential_Data!I$2 -> 0 | J2: =Residential_Data!J88*Residential_Data!J$2 -> 0 | K2: =Residential_Data!K88*Residential_Data!K$2 -> 0 | L2: =Residential_Data!L88*Residential_Data!L$2 -> 0
A3: 2015 | B3: 2 | C3: =SUM(D3:L3) -> 234441.12 | D3: =Residential_Data!D89*Residential_Data!D$2 -> 59600.684 | E3: =Residential_Data!E89*Residential_Data!E$2 -> 0 | F3: =Residential_Data!F89*Residential_Data!F$2 -> 174840.44 | G3: =Residential_Data!G89*Residential_Data!G$2 -> 0 | H3: =Residential_Data!H89*Residential_Data!H$2 -> 0 | I3: =Residential_Data!I89*Residential_Data!I$2 -> 0 | J3: =Residential_Data!J89*Residential_Data!J$2 -> 0 | K3: =Residential_Data!K89*Residential_Data!K$2 -> 0 | L3: =Residential_Data!L89*Residential_Data!L$2 -> 0
A4: 2015 | B4: 3 | C4: =SUM(D4:L4) -> 217124.12 | D4: =Residential_Data!D90*Residential_Data!D$2 -> 42209.462 | E4: =Residential_Data!E90*Residential_Data!E$2 -> 20.79584 | F4: =Residential_Data!F90*Residential_Data!F$2 -> 174893.87 | G4: =Residential_Data!G90*Residential_Data!G$2 -> 0 | H4: =Residential_Data!H90*Residential_Data!H$2 -> 0 | I4: =Residential_Data!I90*Residential_Data!I$2 -> 0 | J4: =Residential_Data!J90*Residential_Data!J$2 -> 0 | K4: =Residential_Data!K90*Residential_Data!K$2 -> 0 | L4: =Residential_Data!L90*Residential_Data!L$2 -> 0
A5: 2015 | B5: 4 | C5: =SUM(D5:L5) -> 185558.87 | D5: =Residential_Data!D91*Residential_Data!D$2 -> 10487.494 | E5: =Residential_Data!E91*Residential_Data!E$2 -> 124.77504 | F5: =Residential_Data!F91*Residential_Data!F$2 -> 174946.6 | G5: =Residential_Data!G91*Residential_Data!G$2 -> 0 | H5: =Residential_Data!H91*Residential_Data!H$2 -> 0 | I5: =Residential_Data!I91*Residential_Data!I$2 -> 0 | J5: =Residential_Data!J91*Residential_Data!J$2 -> 0 | K5: =Residential_Data!K91*Residential_Data!K$2 -> 0 | L5: =Residential_Data!L91*Residential_Data!L$2 -> 0
A6: 2015 | B6: 5 | C6: =SUM(D6:L6) -> 194650.72 | D6: =Residential_Data!D92*Residential_Data!D$2 -> 0 | E6: =Residential_Data!E92*Residential_Data!E$2 -> 19652.069 | F6: =Residential_Data!F92*Residential_Data!F$2 -> 174998.65 | G6: =Residential_Data!G92*Residential_Data!G$2 -> 0 | H6: =Residential_Data!H92*Residential_Data!H$2 -> 0 | I6: =Residential_Data!I92*Residential_Data!I$2 -> 0 | J6: =Residential_Data!J92*Residential_Data!J$2 -> 0 | K6: =Residential_Data!K92*Residential_Data!K$2 -> 0 | L6: =Residential_Data!L92*Residential_Data!L$2 -> 0
A7: 2015 | B7: 6 | C7: =SUM(D7:L7) -> 254453.52 | D7: =Residential_Data!D93*Residential_Data!D$2 -> 0 | E7: =Residential_Data!E93*Residential_Data!E$2 -> 79336.13 | F7: =Residential_Data!F93*Residential_Data!F$2 -> 175117.39 | G7: =Residential_Data!G93*Residential_Data!G$2 -> 0 | H7: =Residential_Data!H93*Residential_Data!H$2 -> 0 | I7: =Residential_Data!I93*Residential_Data!I$2 -> 0 | J7: =Residential_Data!J93*Residential_Data!J$2 -> 0 | K7: =Residential_Data!K93*Residential_Data!K$2 -> 0 | L7: =Residential_Data!L93*Residential_Data!L$2 -> 0
A8: 2015 | B8: 7 | C8: =SUM(D8:L8) -> 318768.16 | D8: =Residential_Data!D94*Residential_Data!D$2 -> 0 | E8: =Residential_Data!E94*Residential_Data!E$2 -> 143532.89 | F8: =Residential_Data!F94*Residential_Data!F$2 -> 175235.27 | G8: =Residential_Data!G94*Residential_Data!G$2 -> 0 | H8: =Residential_Data!H94*Residential_Data!H$2 -> 0 | I8: =Residential_Data!I94*Residential_Data!I$2 -> 0 | J8: =Residential_Data!J94*Residential_Data!J$2 -> 0 | K8: =Residential_Data!K94*Residential_Data!K$2 -> 0 | L8: =Residential_Data!L94*Residential_Data!L$2 -> 0
A9: 2015 | B9: 8 | C9: =SUM(D9:L9) -> 288378.02 | D9: =Residential_Data!D95*Residential_Data!D$2 -> 0 | E9: =Residential_Data!E95*Residential_Data!E$2 -> 113025.39 | F9: =Residential_Data!F95*Residential_Data!F$2 -> 175352.63 | G9: =Residential_Data!G95*Residential_Data!G$2 -> 0 | H9: =Residential_Data!H95*Residential_Data!H$2 -> 0 | I9: =Residential_Data!I95*Residential_Data!I$2 -> 0 | J9: =Residential_Data!J95*Residential_Data!J$2 -> 0 | K9: =Residential_Data!K95*Residential_Data!K$2 -> 0 | L9: =Residential_Data!L95*Residential_Data!L$2 -> 0
A10: 2015 | B10: 9 | C10: =SUM(D10:L10) -> 209330.91 | D10: =Residential_Data!D96*Residential_Data!D$2 -> 0 | E10: =Residential_Data!E96*Residential_Data!E$2 -> 33845.23 | F10: =Residential_Data!F96*Residential_Data!F$2 -> 175485.68 | G10: =Residential_Data!G96*Residential_Data!G$2 -> 0 | H10: =Residential_Data!H96*Residential_Data!H$2 -> 0 | I10: =Residential_Data!I96*Residential_Data!I$2 -> 0 | J10: =Residential_Data!J96*Residential_Data!J$2 -> 0 | K10: =Residential_Data!K96*Residential_Data!K$2 -> 0 | L10: =Residential_Data!L96*Residential_Data!L$2 -> 0
A11: 2015 | B11: 10 | C11: =SUM(D11:L11) -> 180731.11 | D11: =Residential_Data!D97*Residential_Data!D$2 -> 1608.8033 | E11: =Residential_Data!E97*Residential_Data!E$2 -> 3504.099 | F11: =Residential_Data!F97*Residential_Data!F$2 -> 175618.21 | G11: =Residential_Data!G97*Residential_Data!G$2 -> 0 | H11: =Residential_Data!H97*Residential_Data!H$2 -> 0 | I11: =Residential_Data!I97*Residential_Data!I$2 -> 0 | J11: =Residential_Data!J97*Residential_Data!J$2 -> 0 | K11: =Residential_Data!K97*Residential_Data!K$2 -> 0 | L11: =Residential_Data!L97*Residential_Data!L$2 -> 0
A12: 2015 | B12: 11 | C12: =SUM(D12:L12) -> 183844.05 | D12: =Residential_Data!D98*Residential_Data!D$2 -> 25797.074 | E12: =Residential_Data!E98*Residential_Data!E$2 -> 0 | F12: =Residential_Data!F98*Residential_Data!F$2 -> 175749.88 | G12: =Residential_Data!G98*Residential_Data!G$2 -> 0 | H12: =Residential_Data!H98*Residential_Data!H$2 -> 0 | I12: =Residential_Data!I98*Residential_Data!I$2 -> 0 | J12: =Residential_Data!J98*Residential_Data!J$2 -> 0 | K12: =Residential_Data!K98*Residential_Data!K$2 -> -17702.897 | L12: =Residential_Data!L98*Residential_Data!L$2 -> 0
A13: 2015 | B13: 12 | C13: =SUM(D13:L13) -> 248349.99 | D13: =Residential_Data!D99*Residential_Data!D$2 -> 51749.839 | E13: =Residential_Data!E99*Residential_Data!E$2 -> 0 | F13: =Residential_Data!F99*Residential_Data!F$2 -> 175947.89 | G13: =Residential_Data!G99*Residential_Data!G$2 -> 0 | H13: =Residential_Data!H99*Residential_Data!H$2 -> 0 | I13: =Residential_Data!I99*Residential_Data!I$2 -> 0 | J13: =Residential_Data!J99*Residential_Data!J$2 -> 0 | K13: =Residential_Data!K99*Residential_Data!K$2 -> 0 | L13: =Residential_Data!L99*Residential_Data!L$2 -> 20652.257
... A73: 2020 | B73: 12 | C73: =SUM(D73:L73) -> 258336.88 | D73: =Residential_Data!D159*Residential_Data!D$2 -> 51749.839 | E73: =Residential_Data!E159*Residential_Data!E$2 -> 0 | F73: =Residential_Data!F159*Residential_Data!F$2 -> 185934.78 | G73: =Residential_Data!G159*Residential_Data!G$2 -> 0 | H73: =Residential_Data!H159*Residential_Data!H$2 -> 0 | I73: =Residential_Data!I159*Residential_Data!I$2 -> 0 | J73: =Residential_Data!J159*Residential_Data!J$2 -> 0 | K73: =Residential_Data!K159*Residential_Data!K$2 -> 0 | L73: =Residential_Data!L159*Residential_Data!L$2 -> 20652.257

Sheet GS<50_Data
A1: Coef | D1: {=TRANSPOSE('GS<50_Coef'!B2:B9)} -> 40.957 | E1: 155.252 | F1: 19490.263 | G1: 1770.392 | H1: 22442.563 | I1: -9630.7 | J1: -3637.471 | K1: 7955.754
A2: Year | B2: Month | C2: SmlGSMWh | D2: SmlGS_HDD10 | E2: SmlGS_CDD18 | F2: GDP_Idx | G2: CalDays | H2: 39448 | I2: 39479 | J2: Oct | K2: Dec
A3: 2008 | B3: 1 | C3: 112349.34 | D3: 379.29 | E3: 0 | F3: 1 | G3: 31 | H3: 1 | I3: 0 | J3: 0 | K3: 0
A4: 2008 | B4: 2 | C4: 77479.28 | D4: 398.97 | E4: 0 | F4: 1 | G4: 29 | H4: 0 | I4: 1 | J4: 0 | K4: 0
A5: 2008 | B5: 3 | C5: 89442.41 | D5: 397.42 | E5: 0 | F5: 1 | G5: 31 | H5: 0 | I5: 0 | J5: 0 | K5: 0
A6: 2008 | B6: 4 | C6: 82567.64 | D6: 202.76 | E6: 0 | F6: 1 | G6: 30 | H6: 0 | I6: 0 | J6: 0 | K6: 0
A7: 2008 | B7: 5 | C7: 75272.87 | D7: 8.1 | E7: 1.48 | F7: 1 | G7: 31 | H7: 0 | I7: 0 | J7: 0 | K7: 0
A8: 2008 | B8: 6 | C8: 76367.07 | D8: 0 | E8: 43.21 | F8: 1 | G8: 30 | H8: 0 | I8: 0 | J8: 0 | K8: 0
A9: 2008 | B9: 7 | C9: 87560.87 | D9: 0 | E9: 94.81 | F9: 1 | G9: 31 | H9: 0 | I9: 0 | J9: 0 | K9: 0
A10: 2008 | B10: 8 | C10: 89808.14 | D10: 0 | E10: 83.27 | F10: 1 | G10: 31 | H10: 0 | I10: 0 | J10: 0 | K10: 0
A11: 2008 | B11: 9 | C11: 80302.67 | D11: 0 | E11: 41.99 | F11: 0.99 | G11: 30 | H11: 0 | I11: 0 | J11: 0 | K11: 0
A12: 2008 | B12: 10 | C12: 74791.19 | D12: 14.26 | E12: 10.95 | F12: 0.98 | G12: 31 | H12: 0 | I12: 0 | J12: 1 | K12: 0
A13: 2008 | B13: 11 | C13: 76194.91 | D13: 114.03 | E13: 0 | F13: 0.98 | G13: 30 | H13: 0 | I13: 0 | J13: 0 | K13: 0
A14: 2008 | B14: 12 | C14: 86649.42 | D14: 301.02 | E14: 0 | F14: 0.97 | G14: 31 | H14: 0 | I14: 0 | J14: 0 | K14: 1
... A86: 2014 | B86: 12 | C86: 97260.62 | D86: 310 | E86: 0 | F86: 1.11 | G86: 31 | H86: 0 | I86: 0 | J86: 0 | K86: 1
A87: 2015 | B87: 1 | D87: 449.35 | E87: 0 | F87: 1.114123 | G87: 31 | H87: 0 | I87: 0 | J87: 0 | K87: 0
A88: 2015 | B88: 2 | D88: 413.44 | E88: 0 | F88: 1.116877 | G88: 28 | H88: 0 | I88: 0 | J88: 0 | K88: 0
A89: 2015 | B89: 3 | D89: 292.8 | E89: 0.02 | F89: 1.119503 | G89: 31 | H89: 0 | I89: 0 | J89: 0 | K89: 0
A90: 2015 | B90: 4 | D90: 72.75 | E90: 0.12 | F90: 1.122128 | G90: 30 | H90: 0 | I90: 0 | J90: 0 | K90: 0
A91: 2015 | B91: 5 | D91: 0 | E91: 18.9 | F91: 1.124754 | G91: 31 | H91: 0 | I91: 0 | J91: 0 | K91: 0
A92: 2015 | B92: 6 | D92: 0 | E92: 76.3 | F92: 1.127427 | G92: 30 | H92: 0 | I92: 0 | J92: 0 | K92: 0
A93: 2015 | B93: 7 | D93: 0 | E93: 138.04 | F93: 1.1301 | G93: 31 | H93: 0 | I93: 0 | J93: 0 | K93: 0
A94: 2015 | B94: 8 | D94: 0 | E94: 108.7 | F94: 1.132773 | G94: 31 | H94: 0 | I94: 0 | J94: 0 | K94: 0
A95: 2015 | B95: 9 | D95: 0 | E95: 32.55 | F95: 1.135533 | G95: 30 | H95: 0 | I95: 0 | J95: 0 | K95: 0
A96: 2015 | B96: 10 | D96: 11.16 | E96: 3.37 | F96: 1.138293 | G96: 31 | H96: 0 | I96: 0 | J96: 1 | K96: 0
A97: 2015 | B97: 11 | D97: 178.95 | E97: 0 | F97: 1.141053 | G97: 30 | H97: 0 | I97: 0 | J97: 0 | K97: 0
A98: 2015 | B98: 12 | D98: 358.98 | E98: 0 | F98: 1.14399 | G98: 31 | H98: 0 | I98: 0 | J98: 0 | K98: 1
... A158: 2020 | B158: 12 | D158: 358.98 | E158: 0 | F158: 1.317147 | G158: 31 | H158: 0 | I158: 0 | J158: 0 | K158: 1

Sheet GS<50_Coef
A1: Variable | B1: Coefficient | C1: StdErr | D1: T-Stat | E1: P-Value
A2: mWthr.SmlGS_HDD10 | B2: 40.957 | C2: 2.504 | D2: 16.355 | E2: 0
A3: mWthr.SmlGS_CDD18 | B3: 155.252 | C3: 9.747 | D3: 15.928 | E3: 0
A4: mEcon.GDP_Idx | B4: 19490.263 | C4: 6587.748 | D4: 2.959 | E4: 0.0041
A5: mWthr.CalDays | B5: 1770.392 | C5: 223.875 | D5: 7.908 | E5: 0
A6: mBin.Jan08 | B6: 22442.563 | C6: 3069.508 | D6: 7.311 | E6: 0
A7: mBin.Feb08 | B7: -9630.7 | C7: 3050.48 | D7: -3.157 | E7: 0.0023
A8: mBin.Oct | B8: -3637.471 | C8: 1299.98 | D8: -2.798 | E8: 0.0065
A9: mBin.Dec | B9: 7955.754 | C9: 1230.02 | D9: 6.468 | E9: 0

Sheet GS<50_MStat
A1: Model Statistics
A2: Adjusted Observations | B2: 84
A3: Deg. of Freedom for Error | B3: 76
A4: R-Squared | B4: 0.89
A5: Adjusted R-Squared | B5: 0.88
A6: Model Sum of Squares | B6: 5.4589205e+09
A7: Sum of Squared Errors | B7: 6.7652225e+08
A8: Mean Squared Error | B8: 8901608.5
A9: Std. Error of Regression | B9: 2983.56
A10: Mean Abs. Dev. (MAD) | B10: 2269.97
A11: Mean Abs. % Err. (MAPE) | B11: 0.0266
A12: Durbin-Watson Statistic | B12: 2.298

Sheet GS<50_Forecast
A1: Year | B1: Month | C1: Actual | D1: Pred
A2: 2015 | B2: 1 | D2: =+'GS<50_Equation'!C2 -> 95000.73
A3: 2015 | B3: 2 | D3: =+'GS<50_Equation'!C3 -> 88272.465
A4: 2015 | B4: 3 | D4: =+'GS<50_Equation'!C4 -> 88696.875
A5: 2015 | B5: 4 | D5: =+'GS<50_Equation'!C5 -> 77980.582
A6: 2015 | B6: 5 | D6: =+'GS<50_Equation'!C6 -> 79738.166
A7: 2015 | B7: 6 | D7: =+'GS<50_Equation'!C7 -> 86931.336
A8: 2015 | B8: 7 | D8: =+'GS<50_Equation'!C8 -> 98339.084
A9: 2015 | B9: 8 | D9: =+'GS<50_Equation'!C9 -> 93836.088
A10: 2015 | B10: 9 | D10: =+'GS<50_Equation'!C10 -> 80297.049
A11: 2015 | B11: 10 | D11: =+'GS<50_Equation'!C11 -> 74410.59
A12: 2015 | B12: 11 | D12: =+'GS<50_Equation'!C12 -> 82680.438
A13: 2015 | B13: 12 | D13: =+'GS<50_Equation'!C13 -> 99837.316
... A73: 2020 | B73: 12 | D73: =+'GS<50_Equation'!C73 -> 103212.19
A75: Year | B75: Sales Forecast before CDM Adjustment
A76: 2015 | B76: =SUMIF($A$2:$A$73,$A$76:$A$81,$D$2:$D$73) -> 1046020.7
A77: 2016 | B77: =SUMIF($A$2:$A$73,$A$76:$A$81,$D$2:$D$73) -> 1055538.5
A78: 2017 | B78: =SUMIF($A$2:$A$73,$A$76:$A$81,$D$2:$D$73) -> 1061218.8
A79: 2018 | B79: =SUMIF($A$2:$A$73,$A$76:$A$81,$D$2:$D$73) -> 1068522.5
A80: 2019 | B80: =SUMIF($A$2:$A$73,$A$76:$A$81,$D$2:$D$73) -> 1076785
A81: 2020 | B81: =SUMIF($A$2:$A$73,$A$76:$A$81,$D$2:$D$73) -> 1087583.5

Sheet GS<50_Equation
A1: Year | B1: Month | C1: Pred | D1: SmlGS_HDD10 | E1: SmlGS_CDD18 | F1: GDP_Idx | G1: CalDays | H1: 39448 | I1: 39479 | J1: Oct | K1: Dec
A2: 2015 | B2: 1 | C2: =SUM(D2:K2) -> 95000.73 | D2: ='GS<50_Data'!D87*'GS<50_Data'!D$1 -> 18404.028 | E2: ='GS<50_Data'!E87*'GS<50_Data'!E$1 -> 0 | F2: ='GS<50_Data'!F87*'GS<50_Data'!F$1 -> 21714.55 | G2: ='GS<50_Data'!G87*'GS<50_Data'!G$1 -> 54882.152 | H2: ='GS<50_Data'!H87*'GS<50_Data'!H$1 -> 0 | I2: ='GS<50_Data'!I87*'GS<50_Data'!I$1 -> 0 | J2: ='GS<50_Data'!J87*'GS<50_Data'!J$1 -> 0 | K2: ='GS<50_Data'!K87*'GS<50_Data'!K$1 -> 0
A3: 2015 | B3: 2 | C3: =SUM(D3:K3) -> 88272.465 | D3: ='GS<50_Data'!D88*'GS<50_Data'!D$1 -> 16933.262 | E3: ='GS<50_Data'!E88*'GS<50_Data'!E$1 -> 0 | F3: ='GS<50_Data'!F88*'GS<50_Data'!F$1 -> 21768.226 | G3: ='GS<50_Data'!G88*'GS<50_Data'!G$1 -> 49570.976 | H3: ='GS<50_Data'!H88*'GS<50_Data'!H$1 -> 0 | I3: ='GS<50_Data'!I88*'GS<50_Data'!I$1 -> 0 | J3: ='GS<50_Data'!J88*'GS<50_Data'!J$1 -> 0 | K3: ='GS<50_Data'!K88*'GS<50_Data'!K$1 -> 0
A4: 2015 | B4: 3 | C4: =SUM(D4:K4) -> 88696.875 | D4: ='GS<50_Data'!D89*'GS<50_Data'!D$1 -> 11992.21 | E4: ='GS<50_Data'!E89*'GS<50_Data'!E$1 -> 3.10504 | F4: ='GS<50_Data'!F89*'GS<50_Data'!F$1 -> 21819.408 | G4: ='GS<50_Data'!G89*'GS<50_Data'!G$1 -> 54882.152 | H4: ='GS<50_Data'!H89*'GS<50_Data'!H$1 -> 0 | I4: ='GS<50_Data'!I89*'GS<50_Data'!I$1 -> 0 | J4: ='GS<50_Data'!J89*'GS<50_Data'!J$1 -> 0 | K4: ='GS<50_Data'!K89*'GS<50_Data'!K$1 -> 0
A5: 2015 | B5: 4 | C5: =SUM(D5:K5) -> 77980.582 | D5: ='GS<50_Data'!D90*'GS<50_Data'!D$1 -> 2979.6218 | E5: ='GS<50_Data'!E90*'GS<50_Data'!E$1 -> 18.63024 | F5: ='GS<50_Data'!F90*'GS<50_Data'!F$1 -> 21870.57 | G5: ='GS<50_Data'!G90*'GS<50_Data'!G$1 -> 53111.76 | H5: ='GS<50_Data'!H90*'GS<50_Data'!H$1 -> 0 | I5: ='GS<50_Data'!I90*'GS<50_Data'!I$1 -> 0 | J5: ='GS<50_Data'!J90*'GS<50_Data'!J$1 -> 0 | K5: ='GS<50_Data'!K90*'GS<50_Data'!K$1 -> 0
A6: 2015 | B6: 5 | C6: =SUM(D6:K6) -> 79738.166 | D6: ='GS<50_Data'!D91*'GS<50_Data'!D$1 -> 0 | E6: ='GS<50_Data'!E91*'GS<50_Data'!E$1 -> 2934.2628 | F6: ='GS<50_Data'!F91*'GS<50_Data'!F$1 -> 21921.751 | G6: ='GS<50_Data'!G91*'GS<50_Data'!G$1 -> 54882.152 | H6: ='GS<50_Data'!H91*'GS<50_Data'!H$1 -> 0 | I6: ='GS<50_Data'!I91*'GS<50_Data'!I$1 -> 0 | J6: ='GS<50_Data'!J91*'GS<50_Data'!J$1 -> 0 | K6: ='GS<50_Data'!K91*'GS<50_Data'!K$1 -> 0
A7: 2015 | B7: 6 | C7: =SUM(D7:K7) -> 86931.336 | D7: ='GS<50_Data'!D92*'GS<50_Data'!D$1 -> 0 | E7: ='GS<50_Data'!E92*'GS<50_Data'!E$1 -> 11845.728 | F7: ='GS<50_Data'!F92*'GS<50_Data'!F$1 -> 21973.849 | G7: ='GS<50_Data'!G92*'GS<50_Data'!G$1 -> 53111.76 | H7: ='GS<50_Data'!H92*'GS<50_Data'!H$1 -> 0 | I7: ='GS<50_Data'!I92*'GS<50_Data'!I$1 -> 0 | J7: ='GS<50_Data'!J92*'GS<50_Data'!J$1 -> 0 | K7: ='GS<50_Data'!K92*'GS<50_Data'!K$1 -> 0
A8: 2015 | B8: 7 | C8: =SUM(D8:K8) -> 98339.084 | D8: ='GS<50_Data'!D93*'GS<50_Data'!D$1 -> 0 | E8: ='GS<50_Data'!E93*'GS<50_Data'!E$1 -> 21430.986 | F8: ='GS<50_Data'!F93*'GS<50_Data'!F$1 -> 22025.946 | G8: ='GS<50_Data'!G93*'GS<50_Data'!G$1 -> 54882.152 | H8: ='GS<50_Data'!H93*'GS<50_Data'!H$1 -> 0 | I8: ='GS<50_Data'!I93*'GS<50_Data'!I$1 -> 0 | J8: ='GS<50_Data'!J93*'GS<50_Data'!J$1 -> 0 | K8: ='GS<50_Data'!K93*'GS<50_Data'!K$1 -> 0
A9: 2015 | B9: 8 | C9: =SUM(D9:K9) -> 93836.088 | D9: ='GS<50_Data'!D94*'GS<50_Data'!D$1 -> 0 | E9: ='GS<50_Data'!E94*'GS<50_Data'!E$1 -> 16875.892 | F9: ='GS<50_Data'!F94*'GS<50_Data'!F$1 -> 22078.044 | G9: ='GS<50_Data'!G94*'GS<50_Data'!G$1 -> 54882.152 | H9: ='GS<50_Data'!H94*'GS<50_Data'!H$1 -> 0 | I9: ='GS<50_Data'!I94*'GS<50_Data'!I$1 -> 0 | J9: ='GS<50_Data'!J94*'GS<50_Data'!J$1 -> 0 | K9: ='GS<50_Data'!K94*'GS<50_Data'!K$1 -> 0
A10: 2015 | B10: 9 | C10: =SUM(D10:K10) -> 80297.049 | D10: ='GS<50_Data'!D95*'GS<50_Data'!D$1 -> 0 | E10: ='GS<50_Data'!E95*'GS<50_Data'!E$1 -> 5053.4526 | F10: ='GS<50_Data'!F95*'GS<50_Data'!F$1 -> 22131.837 | G10: ='GS<50_Data'!G95*'GS<50_Data'!G$1 -> 53111.76 | H10: ='GS<50_Data'!H95*'GS<50_Data'!H$1 -> 0 | I10: ='GS<50_Data'!I95*'GS<50_Data'!I$1 -> 0 | J10: ='GS<50_Data'!J95*'GS<50_Data'!J$1 -> 0 | K10: ='GS<50_Data'!K95*'GS<50_Data'!K$1 -> 0
A11: 2015 | B11: 10 | C11: =SUM(D11:K11) -> 74410.59 | D11: ='GS<50_Data'!D96*'GS<50_Data'!D$1 -> 457.08012 | E11: ='GS<50_Data'!E96*'GS<50_Data'!E$1 -> 523.19924 | F11: ='GS<50_Data'!F96*'GS<50_Data'!F$1 -> 22185.63 | G11: ='GS<50_Data'!G96*'GS<50_Data'!G$1 -> 54882.152 | H11: ='GS<50_Data'!H96*'GS<50_Data'!H$1 -> 0 | I11: ='GS<50_Data'!I96*'GS<50_Data'!I$1 -> 0 | J11: ='GS<50_Data'!J96*'GS<50_Data'!J$1 -> -3637.471 | K11: ='GS<50_Data'!K96*'GS<50_Data'!K$1 -> 0
A12: 2015 | B12: 11 | C12: =SUM(D12:K12) -> 82680.438 | D12: ='GS<50_Data'!D97*'GS<50_Data'!D$1 -> 7329.2551 | E12: ='GS<50_Data'!E97*'GS<50_Data'!E$1 -> 0 | F12: ='GS<50_Data'!F97*'GS<50_Data'!F$1 -> 22239.423 | G12: ='GS<50_Data'!G97*'GS<50_Data'!G$1 -> 53111.76 | H12: ='GS<50_Data'!H97*'GS<50_Data'!H$1 -> 0 | I12: ='GS<50_Data'!I97*'GS<50_Data'!I$1 -> 0 | J12: ='GS<50_Data'!J97*'GS<50_Data'!J$1 -> 0 | K12: ='GS<50_Data'!K97*'GS<50_Data'!K$1 -> 0
A13: 2015 | B13: 12 | C13: =SUM(D13:K13) -> 99837.316 | D13: ='GS<50_Data'!D98*'GS<50_Data'!D$1 -> 14702.744 | E13: ='GS<50_Data'!E98*'GS<50_Data'!E$1 -> 0 | F13: ='GS<50_Data'!F98*'GS<50_Data'!F$1 -> 22296.666 | G13: ='GS<50_Data'!G98*'GS<50_Data'!G$1 -> 54882.152 | H13: ='GS<50_Data'!H98*'GS<50_Data'!H$1 -> 0 | I13: ='GS<50_Data'!I98*'GS<50_Data'!I$1 -> 0 | J13: ='GS<50_Data'!J98*'GS<50_Data'!J$1 -> 0 | K13: ='GS<50_Data'!K98*'GS<50_Data'!K$1 -> 7955.754
... A73: 2020 | B73: 12 | C73: =SUM(D73:K73) -> 103212.19 | D73: ='GS<50_Data'!D158*'GS<50_Data'!D$1 -> 14702.744 | E73: ='GS<50_Data'!E158*'GS<50_Data'!E$1 -> 0 | F73: ='GS<50_Data'!F158*'GS<50_Data'!F$1 -> 25671.541 | G73: ='GS<50_Data'!G158*'GS<50_Data'!G$1 -> 54882.152 | H73: ='GS<50_Data'!H158*'GS<50_Data'!H$1 -> 0 | I73: ='GS<50_Data'!I158*'GS<50_Data'!I$1 -> 0 | J73: ='GS<50_Data'!J158*'GS<50_Data'!J$1 -> 0 | K73: ='GS<50_Data'!K158*'GS<50_Data'!K$1 -> 7955.754

Sheet GS>50_Data
A1: Coef | D1: {=TRANSPOSE('GS>50_Coef'!B2:B13)} -> 47.068 | E1: 360.236 | F1: 124202.56 | G1: 7989.848 | H1: -110044.07 | I1: 130117.18 | J1: -44101.786 | K1: 42117.617 | L1: -50873.368 | M1: 41040.997 | N1: 31908.573 | O1: 15237.613
A2: Year | B2: Month | C2: LrgGSMWh | D2: LrgGS_HDD10 | E2: LrgGS_CDD18 | F2: ManGDP_Idx | G2: CalDays | H2: 39448 | I2: 39479 | J2: 40422 | K2: 40664 | L2: 40695 | M2: 41609 | N2: 41944 | O2: Jun
A3: 2008 | B3: 1 | C3: 279663.32 | D3: 378.59 | E3: 0 | F3: 1 | G3: 31 | H3: 1 | I3: 0 | J3: 0 | K3: 0 | L3: 0 | M3: 0 | N3: 0 | O3: 0
A4: 2008 | B4: 2 | C4: 503296.05 | D4: 403.65 | E4: 0 | F4: 0.99 | G4: 29 | H4: 0 | I4: 1 | J4: 0 | K4: 0 | L4: 0 | M4: 0 | N4: 0 | O4: 0
A5: 2008 | B5: 3 | C5: 383710.25 | D5: 391.64 | E5: 0 | F5: 0.99 | G5: 31 | H5: 0 | I5: 0 | J5: 0 | K5: 0 | L5: 0 | M5: 0 | N5: 0 | O5: 0
A6: 2008 | B6: 4 | C6: 379433.9 | D6: 171.47 | E6: 0 | F6: 0.99 | G6: 30 | H6: 0 | I6: 0 | J6: 0 | K6: 0 | L6: 0 | M6: 0 | N6: 0 | O6: 0
A7: 2008 | B7: 5 | C7: 394550.88 | D7: 6.75 | E7: 1.38 | F7: 0.99 | G7: 31 | H7: 0 | I7: 0 | J7: 0 | K7: 0 | L7: 0 | M7: 0 | N7: 0 | O7: 0
A8: 2008 | B8: 6 | C8: 380228.51 | D8: 0 | E8: 40.45 | F8: 0.99 | G8: 30 | H8: 0 | I8: 0 | J8: 0 | K8: 0 | L8: 0 | M8: 0 | N8: 0 | O8: 1
A9: 2008 | B9: 7 | C9: 393898.25 | D9: 0 | E9: 93.23 | F9: 0.99 | G9: 31 | H9: 0 | I9: 0 | J9: 0 | K9: 0 | L9: 0 | M9: 0 | N9: 0 | O9: 0
A10: 2008 | B10: 8 | C10: 406782.27 | D10: 0 | E10: 85.15 | F10: 0.99 | G10: 31 | H10: 0 | I10: 0 | J10: 0 | K10: 0 | L10: 0 | M10: 0 | N10: 0 | O10: 0
A11: 2008 | B11: 9 | C11: 370628.42 | D11: 0 | E11: 43.49 | F11: 0.96 | G11: 30 | H11: 0 | I11: 0 | J11: 0 | K11: 0 | L11: 0 | M11: 0 | N11: 0 | O11: 0
A12: 2008 | B12: 10 | C12: 372236.42 | D12: 17.05 | E12: 12.02 | F12: 0.94 | G12: 31 | H12: 0 | I12: 0 | J12: 0 | K12: 0 | L12: 0 | M12: 0 | N12: 0 | O12: 0
A13: 2008 | B13: 11 | C13: 354467.16 | D13: 130.28 | E13: 0 | F13: 0.92 | G13: 30 | H13: 0 | I13: 0 | J13: 0 | K13: 0 | L13: 0 | M13: 0 | N13: 0 | O13: 0
A14: 2008 | B14: 12 | C14: 365944.89 | D14: 318.53 | E14: 0 | F14: 0.88 | G14: 31 | H14: 0 | I14: 0 | J14: 0 | K14: 0 | L14: 0 | M14: 0 | N14: 0 | O14: 0
... A86: 2014 | B86: 12 | C86: 381743.97 | D86: 310 | E86: 0 | F86: 0.94 | G86: 31 | H86: 0 | I86: 0 | J86: 0 | K86: 0 | L86: 0 | M86: 0 | N86: 0 | O86: 0
A87: 2015 | B87: 1 | D87: 449.35 | E87: 0 | F87: 0.937697 | G87: 31 | H87: 0 | I87: 0 | J87: 0 | K87: 0 | L87: 0 | M87: 0 | N87: 0 | O87: 0
A88: 2015 | B88: 2 | D88: 413.44 | E88: 0 | F88: 0.938843 | G88: 28 | H88: 0 | I88: 0 | J88: 0 | K88: 0 | L88: 0 | M88: 0 | N88: 0 | O88: 0
A89: 2015 | B89: 3 | D89: 292.8 | E89: 0.02 | F89: 0.941059 | G89: 31 | H89: 0 | I89: 0 | J89: 0 | K89: 0 | L89: 0 | M89: 0 | N89: 0 | O89: 0
A90: 2015 | B90: 4 | D90: 72.75 | E90: 0.12 | F90: 0.943275 | G90: 30 | H90: 0 | I90: 0 | J90: 0 | K90: 0 | L90: 0 | M90: 0 | N90: 0 | O90: 0
A91: 2015 | B91: 5 | D91: 0 | E91: 18.9 | F91: 0.945491 | G91: 31 | H91: 0 | I91: 0 | J91: 0 | K91: 0 | L91: 0 | M91: 0 | N91: 0 | O91: 0
A92: 2015 | B92: 6 | D92: 0 | E92: 76.3 | F92: 0.947917 | G92: 30 | H92: 0 | I92: 0 | J92: 0 | K92: 0 | L92: 0 | M92: 0 | N92: 0 | O92: 1
A93: 2015 | B93: 7 | D93: 0 | E93: 138.04 | F93: 0.950344 | G93: 31 | H93: 0 | I93: 0 | J93: 0 | K93: 0 | L93: 0 | M93: 0 | N93: 0 | O93: 0
A94: 2015 | B94: 8 | D94: 0 | E94: 108.7 | F94: 0.952771 | G94: 31 | H94: 0 | I94: 0 | J94: 0 | K94: 0 | L94: 0 | M94: 0 | N94: 0 | O94: 0
A95: 2015 | B95: 9 | D95: 0 | E95: 32.55 | F95: 0.955408 | G95: 30 | H95: 0 | I95: 0 | J95: 0 | K95: 0 | L95: 0 | M95: 0 | N95: 0 | O95: 0
A96: 2015 | B96: 10 | D96: 11.16 | E96: 3.37 | F96: 0.958046 | G96: 31 | H96: 0 | I96: 0 | J96: 0 | K96: 0 | L96: 0 | M96: 0 | N96: 0 | O96: 0
A97: 2015 | B97: 11 | D97: 178.95 | E97: 0 | F97: 0.960683 | G97: 30 | H97: 0 | I97: 0 | J97: 0 | K97: 0 | L97: 0 | M97: 0 | N97: 0 | O97: 0
A98: 2015 | B98: 12 | D98: 358.98 | E98: 0 | F98: 0.964199 | G98: 31 | H98: 0 | I98: 0 | J98: 0 | K98: 0 | L98: 0 | M98: 0 | N98: 0 | O98: 0
... A158: 2020 | B158: 12 | D158: 358.98 | E158: 0 | F158: 1.105625 | G158: 31 | H158: 0 | I158: 0 | J158: 0 | K158: 0 | L158: 0 | M158: 0 | N158: 0 | O158: 0

Sheet GS>50_Coef
A1: Variable | B1: Coefficient | C1: StdErr | D1: T-Stat | E1: P-Value
A2: mWthr.LrgGS_HDD10 | B2: 47.068 | C2: 8.87 | D2: 5.306 | E2: 0
A3: mWthr.LrgGS_CDD18 | B3: 360.236 | C3: 34.553 | D3: 10.426 | E3: 0
A4: mEcon.ManGDP_Idx | B4: 124202.56 | C4: 25035.034 | D4: 4.961 | E4: 0
A5: mWthr.CalDays | B5: 7989.848 | C5: 734.244 | D5: 10.882 | E5: 0
A6: mBin.Jan08 | B6: -110044.07 | C6: 11553.038 | D6: -9.525 | E6: 0
A7: mBin.Feb08 | B7: 130117.18 | C7: 11858.461 | D7: 10.973 | E7: 0
A8: mBin.Sep10 | B8: -44101.786 | C8: 11298.789 | D8: -3.903 | E8: 0.0002
A9: mBin.May11 | B9: 42117.617 | C9: 11341.563 | D9: 3.714 | E9: 0.0004
A10: mBin.Jun11 | B10: -50873.368 | C10: 12026.911 | D10: -4.23 | E10: 0.0001
A11: mBin.Dec13 | B11: 41040.997 | C11: 11289.703 | D11: 3.635 | E11: 0.0005
A12: mBin.Nov14 | B12: 31908.573 | C12: 11318.968 | D12: 2.819 | E12: 0.0062
A13: mBin.Jun | B13: 15237.613 | C13: 4884.865 | D13: 3.119 | E13: 0.0026

Sheet GS>50 MStat
A1: Model Statistics
A2: Adjusted Observations | B2: 84
A3: Deg. of Freedom for Error | B3: 72
A4: R-Squared | B4: 0.865
A5: Adjusted R-Squared | B5: 0.844
A6: Model Sum of Squares | B6: 5.6923039e+10
A7: Sum of Squared Errors | B7: 8.8949931e+09
A8: Mean Squared Error | B8: 1.2354157e+08
A9: Std. Error of Regression | B9: 11114.93
A10: Mean Abs. Dev. (MAD) | B10: 7787.61
A11: Mean Abs. % Err. (MAPE) | B11: 0.0209
A12: Durbin-Watson Statistic | B12: 1.951

Sheet GS>50_Forecast
A1: Year | B1: Month | C1: Actual | D1: Pred
A2: 2015 | B2: 1 | D2: =+'GS>50 Equation'!C2 -> 385299.66
A3: 2015 | B3: 2 | D3: =+'GS>50 Equation'!C3 -> 359782.24
A4: 2015 | B4: 3 | D4: =+'GS>50 Equation'!C4 -> 378355.94
A5: 2015 | B5: 4 | D5: =+'GS>50 Equation'!C5 -> 360320.04
A6: 2015 | B6: 5 | D6: =+'GS>50 Equation'!C6 -> 371926.15
A7: 2015 | B7: 6 | D7: =+'GS>50 Equation'!C7 -> 400152.78
A8: 2015 | B8: 7 | D8: =+'GS>50 Equation'!C8 -> 415447.42
A9: 2015 | B9: 8 | D9: =+'GS>50 Equation'!C9 -> 405179.54
A10: 2015 | B10: 9 | D10: =+'GS>50 Equation'!C10 -> 370085.24
A11: 2015 | B11: 10 | D11: =+'GS>50 Equation'!C11 -> 368416.33
A12: 2015 | B12: 11 | D12: =+'GS>50 Equation'!C12 -> 367437.55
A13: 2015 | B13: 12 | D13: =+'GS>50 Equation'!C13 -> 384337.74
... A73: 2020 | B73: 12 | D73: =+'GS>50 Equation'!C73 -> 401903.22
A75: Year | B75: Sales Forecast | C75: Allocation of Sales to GS>50 | D75: Sales Forecast Before CDM Adjustment
A76: 2015 | B76: =SUMIF($A$2:$A$73,$A$76:$A$81,$D$2:$D$73) -> 4566740.6 | C76: =-Residential_Forcast!C76 -> 3173.2484 | D76: =B76+C76 -> 4569913.9
A77: 2016 | B77: =SUMIF($A$2:$A$73,$A$76:$A$81,$D$2:$D$73) -> 4625277.1 | C77: =-Residential_Forcast!C77 -> 6346.4968 | D77: =B77+C77 -> 4631623.6
A78: 2017 | B78: =SUMIF($A$2:$A$73,$A$76:$A$81,$D$2:$D$73) -> 4664233.6 | C78: =-Residential_Forcast!C78 -> 9519.7452 | D78: =B78+C78 -> 4673753.3
A79: 2018 | B79: =SUMIF($A$2:$A$73,$A$76:$A$81,$D$2:$D$73) -> 4705155.3 | C79: =-Residential_Forcast!C79 -> 12692.994 | D79: =B79+C79 -> 4717848.3
A80: 2019 | B80: =SUMIF($A$2:$A$73,$A$76:$A$81,$D$2:$D$73) -> 4743987.4 | C80: =-Residential_Forcast!C80 -> 15866.242 | D80: =B80+C80 -> 4759853.6
A81: 2020 | B81: =SUMIF($A$2:$A$73,$A$76:$A$81,$D$2:$D$73) -> 4789732.9 | C81: =-Residential_Forcast!C81 -> 19039.49 | D81: =B81+C81 -> 4808772.4
A82: Note : Reallocation from Residential to GS > 50 kW based on the trend of new condominiums opting for submetering.

Sheet GS>50 Equation
A1: Year | B1: Month | C1: Pred | D1: LrgGS_HDD10 | E1: LrgGS_CDD18 | F1: ManGDP_Idx | G1: CalDays | H1: 39448 | I1: 39479 | J1: 40422 | K1: 40664 | L1: 40695 | M1: 41609 | N1: 41944 | O1: Jun
A2: 2015 | B2: 1 | C2: =SUM(D2:O2) -> 385299.66 | D2: ='GS>50_Data'!D87*'GS>50_Data'!D$1 -> 21150.006 | E2: ='GS>50_Data'!E87*'GS>50_Data'!E$1 -> 0 | F2: ='GS>50_Data'!F87*'GS>50_Data'!F$1 -> 116464.37 | G2: ='GS>50_Data'!G87*'GS>50_Data'!G$1 -> 247685.29 | H2: ='GS>50_Data'!H87*'GS>50_Data'!H$1 -> 0 | I2: ='GS>50_Data'!I87*'GS>50_Data'!I$1 -> 0 | J2: ='GS>50_Data'!J87*'GS>50_Data'!J$1 -> 0 | K2: ='GS>50_Data'!K87*'GS>50_Data'!K$1 -> 0 | ... O2: ='GS>50_Data'!O87*'GS>50_Data'!O$1 -> 0
A3: 2015 | B3: 2 | C3: =SUM(D3:O3) -> 359782.24 | D3: ='GS>50_Data'!D88*'GS>50_Data'!D$1 -> 19459.794 | E3: ='GS>50_Data'!E88*'GS>50_Data'!E$1 -> 0 | F3: ='GS>50_Data'!F88*'GS>50_Data'!F$1 -> 116606.7 | G3: ='GS>50_Data'!G88*'GS>50_Data'!G$1 -> 223715.74 | H3: ='GS>50_Data'!H88*'GS>50_Data'!H$1 -> 0 | I3: ='GS>50_Data'!I88*'GS>50_Data'!I$1 -> 0 | J3: ='GS>50_Data'!J88*'GS>50_Data'!J$1 -> 0 | K3: ='GS>50_Data'!K88*'GS>50_Data'!K$1 -> 0 | ... O3: ='GS>50_Data'!O88*'GS>50_Data'!O$1 -> 0
A4: 2015 | B4: 3 | C4: =SUM(D4:O4) -> 378355.94 | D4: ='GS>50_Data'!D89*'GS>50_Data'!D$1 -> 13781.51 | E4: ='GS>50_Data'!E89*'GS>50_Data'!E$1 -> 7.20472 | F4: ='GS>50_Data'!F89*'GS>50_Data'!F$1 -> 116881.94 | G4: ='GS>50_Data'!G89*'GS>50_Data'!G$1 -> 247685.29 | H4: ='GS>50_Data'!H89*'GS>50_Data'!H$1 -> 0 | I4: ='GS>50_Data'!I89*'GS>50_Data'!I$1 -> 0 | J4: ='GS>50_Data'!J89*'GS>50_Data'!J$1 -> 0 | K4: ='GS>50_Data'!K89*'GS>50_Data'!K$1 -> 0 | ... O4: ='GS>50_Data'!O89*'GS>50_Data'!O$1 -> 0
A5: 2015 | B5: 4 | C5: =SUM(D5:O5) -> 360320.04 | D5: ='GS>50_Data'!D90*'GS>50_Data'!D$1 -> 3424.197 | E5: ='GS>50_Data'!E90*'GS>50_Data'!E$1 -> 43.22832 | F5: ='GS>50_Data'!F90*'GS>50_Data'!F$1 -> 117157.17 | G5: ='GS>50_Data'!G90*'GS>50_Data'!G$1 -> 239695.44 | H5: ='GS>50_Data'!H90*'GS>50_Data'!H$1 -> 0 | I5: ='GS>50_Data'!I90*'GS>50_Data'!I$1 -> 0 | J5: ='GS>50_Data'!J90*'GS>50_Data'!J$1 -> 0 | K5: ='GS>50_Data'!K90*'GS>50_Data'!K$1 -> 0 | ... O5: ='GS>50_Data'!O90*'GS>50_Data'!O$1 -> 0
A6: 2015 | B6: 5 | C6: =SUM(D6:O6) -> 371926.15 | D6: ='GS>50_Data'!D91*'GS>50_Data'!D$1 -> 0 | E6: ='GS>50_Data'!E91*'GS>50_Data'!E$1 -> 6808.4604 | F6: ='GS>50_Data'!F91*'GS>50_Data'!F$1 -> 117432.4 | G6: ='GS>50_Data'!G91*'GS>50_Data'!G$1 -> 247685.29 | H6: ='GS>50_Data'!H91*'GS>50_Data'!H$1 -> 0 | I6: ='GS>50_Data'!I91*'GS>50_Data'!I$1 -> 0 | J6: ='GS>50_Data'!J91*'GS>50_Data'!J$1 -> 0 | K6: ='GS>50_Data'!K91*'GS>50_Data'!K$1 -> 0 | ... O6: ='GS>50_Data'!O91*'GS>50_Data'!O$1 -> 0
A7: 2015 | B7: 6 | C7: =SUM(D7:O7) -> 400152.78 | D7: ='GS>50_Data'!D92*'GS>50_Data'!D$1 -> 0 | E7: ='GS>50_Data'!E92*'GS>50_Data'!E$1 -> 27486.007 | F7: ='GS>50_Data'!F92*'GS>50_Data'!F$1 -> 117733.72 | G7: ='GS>50_Data'!G92*'GS>50_Data'!G$1 -> 239695.44 | H7: ='GS>50_Data'!H92*'GS>50_Data'!H$1 -> 0 | I7: ='GS>50_Data'!I92*'GS>50_Data'!I$1 -> 0 | J7: ='GS>50_Data'!J92*'GS>50_Data'!J$1 -> 0 | K7: ='GS>50_Data'!K92*'GS>50_Data'!K$1 -> 0 | ... O7: ='GS>50_Data'!O92*'GS>50_Data'!O$1 -> 15237.613
A8: 2015 | B8: 7 | C8: =SUM(D8:O8) -> 415447.42 | D8: ='GS>50_Data'!D93*'GS>50_Data'!D$1 -> 0 | E8: ='GS>50_Data'!E93*'GS>50_Data'!E$1 -> 49726.977 | F8: ='GS>50_Data'!F93*'GS>50_Data'!F$1 -> 118035.16 | G8: ='GS>50_Data'!G93*'GS>50_Data'!G$1 -> 247685.29 | H8: ='GS>50_Data'!H93*'GS>50_Data'!H$1 -> 0 | I8: ='GS>50_Data'!I93*'GS>50_Data'!I$1 -> 0 | J8: ='GS>50_Data'!J93*'GS>50_Data'!J$1 -> 0 | K8: ='GS>50_Data'!K93*'GS>50_Data'!K$1 -> 0 | ... O8: ='GS>50_Data'!O93*'GS>50_Data'!O$1 -> 0
A9: 2015 | B9: 8 | C9: =SUM(D9:O9) -> 405179.54 | D9: ='GS>50_Data'!D94*'GS>50_Data'!D$1 -> 0 | E9: ='GS>50_Data'!E94*'GS>50_Data'!E$1 -> 39157.653 | F9: ='GS>50_Data'!F94*'GS>50_Data'!F$1 -> 118336.6 | G9: ='GS>50_Data'!G94*'GS>50_Data'!G$1 -> 247685.29 | H9: ='GS>50_Data'!H94*'GS>50_Data'!H$1 -> 0 | I9: ='GS>50_Data'!I94*'GS>50_Data'!I$1 -> 0 | J9: ='GS>50_Data'!J94*'GS>50_Data'!J$1 -> 0 | K9: ='GS>50_Data'!K94*'GS>50_Data'!K$1 -> 0 | ... O9: ='GS>50_Data'!O94*'GS>50_Data'!O$1 -> 0
A10: 2015 | B10: 9 | C10: =SUM(D10:O10) -> 370085.24 | D10: ='GS>50_Data'!D95*'GS>50_Data'!D$1 -> 0 | E10: ='GS>50_Data'!E95*'GS>50_Data'!E$1 -> 11725.682 | F10: ='GS>50_Data'!F95*'GS>50_Data'!F$1 -> 118664.12 | G10: ='GS>50_Data'!G95*'GS>50_Data'!G$1 -> 239695.44 | H10: ='GS>50_Data'!H95*'GS>50_Data'!H$1 -> 0 | I10: ='GS>50_Data'!I95*'GS>50_Data'!I$1 -> 0 | J10: ='GS>50_Data'!J95*'GS>50_Data'!J$1 -> 0 | K10: ='GS>50_Data'!K95*'GS>50_Data'!K$1 -> 0 | ... O10: ='GS>50_Data'!O95*'GS>50_Data'!O$1 -> 0
A11: 2015 | B11: 10 | C11: =SUM(D11:O11) -> 368416.33 | D11: ='GS>50_Data'!D96*'GS>50_Data'!D$1 -> 525.27888 | E11: ='GS>50_Data'!E96*'GS>50_Data'!E$1 -> 1213.9953 | F11: ='GS>50_Data'!F96*'GS>50_Data'!F$1 -> 118991.77 | G11: ='GS>50_Data'!G96*'GS>50_Data'!G$1 -> 247685.29 | H11: ='GS>50_Data'!H96*'GS>50_Data'!H$1 -> 0 | I11: ='GS>50_Data'!I96*'GS>50_Data'!I$1 -> 0 | J11: ='GS>50_Data'!J96*'GS>50_Data'!J$1 -> 0 | K11: ='GS>50_Data'!K96*'GS>50_Data'!K$1 -> 0 | ... O11: ='GS>50_Data'!O96*'GS>50_Data'!O$1 -> 0
A12: 2015 | B12: 11 | C12: =SUM(D12:O12) -> 367437.55 | D12: ='GS>50_Data'!D97*'GS>50_Data'!D$1 -> 8422.8186 | E12: ='GS>50_Data'!E97*'GS>50_Data'!E$1 -> 0 | F12: ='GS>50_Data'!F97*'GS>50_Data'!F$1 -> 119319.29 | G12: ='GS>50_Data'!G97*'GS>50_Data'!G$1 -> 239695.44 | H12: ='GS>50_Data'!H97*'GS>50_Data'!H$1 -> 0 | I12: ='GS>50_Data'!I97*'GS>50_Data'!I$1 -> 0 | J12: ='GS>50_Data'!J97*'GS>50_Data'!J$1 -> 0 | K12: ='GS>50_Data'!K97*'GS>50_Data'!K$1 -> 0 | ... O12: ='GS>50_Data'!O97*'GS>50_Data'!O$1 -> 0
A13: 2015 | B13: 12 | C13: =SUM(D13:O13) -> 384337.74 | D13: ='GS>50_Data'!D98*'GS>50_Data'!D$1 -> 16896.471 | E13: ='GS>50_Data'!E98*'GS>50_Data'!E$1 -> 0 | F13: ='GS>50_Data'!F98*'GS>50_Data'!F$1 -> 119755.99 | G13: ='GS>50_Data'!G98*'GS>50_Data'!G$1 -> 247685.29 | H13: ='GS>50_Data'!H98*'GS>50_Data'!H$1 -> 0 | I13: ='GS>50_Data'!I98*'GS>50_Data'!I$1 -> 0 | J13: ='GS>50_Data'!J98*'GS>50_Data'!J$1 -> 0 | K13: ='GS>50_Data'!K98*'GS>50_Data'!K$1 -> 0 | ... O13: ='GS>50_Data'!O98*'GS>50_Data'!O$1 -> 0
... A73: 2020 | B73: 12 | C73: =SUM(D73:O73) -> 401903.22 | D73: ='GS>50_Data'!D158*'GS>50_Data'!D$1 -> 16896.471 | E73: ='GS>50_Data'!E158*'GS>50_Data'!E$1 -> 0 | F73: ='GS>50_Data'!F158*'GS>50_Data'!F$1 -> 137321.46 | G73: ='GS>50_Data'!G158*'GS>50_Data'!G$1 -> 247685.29 | H73: ='GS>50_Data'!H158*'GS>50_Data'!H$1 -> 0 | I73: ='GS>50_Data'!I158*'GS>50_Data'!I$1 -> 0 | J73: ='GS>50_Data'!J158*'GS>50_Data'!J$1 -> 0 | K73: ='GS>50_Data'!K158*'GS>50_Data'!K$1 -> 0 | ... O73: ='GS>50_Data'!O158*'GS>50_Data'!O$1 -> 0

Sheet Sentinel_Data
A1: Coef | D1: {=TRANSPOSE(Sentinel_Coef!B2:B12)} -> 0.278 | E1: -18.337 | F1: -7.415 | G1: 3.728 | H1: 4.574 | I1: 3.238 | J1: 2.462 | K1: 1.777 | L1: 3.424 | M1: 2.111 | N1: 1.908
A2: Year | B2: Month | C2: SentinelMWh | D2: SentinelCusts | E2: 41730 | F2: 41548 | G2: Jan | H2: Mar | I2: May | J2: Jul | K2: Aug | L2: Oct | M2: Nov | N2: Dec
A3: 2008 | B3: 1 | C3: 41.76 | D3: 142 | E3: 0 | F3: 0 | G3: 1 | H3: 0 | I3: 0 | J3: 0 | K3: 0 | L3: 0 | M3: 0 | N3: 0
A4: 2008 | B4: 2 | C4: 38.53 | D4: 142 | E4: 0 | F4: 0 | G4: 0 | H4: 0 | I4: 0 | J4: 0 | K4: 0 | L4: 0 | M4: 0 | N4: 0
A5: 2008 | B5: 3 | C5: 45 | D5: 142 | E5: 0 | F5: 0 | G5: 0 | H5: 1 | I5: 0 | J5: 0 | K5: 0 | L5: 0 | M5: 0 | N5: 0
A6: 2008 | B6: 4 | C6: 40.4 | D6: 141 | E6: 0 | F6: 0 | G6: 0 | H6: 0 | I6: 0 | J6: 0 | K6: 0 | L6: 0 | M6: 0 | N6: 0
A7: 2008 | B7: 5 | C7: 43.13 | D7: 141 | E7: 0 | F7: 0 | G7: 0 | H7: 0 | I7: 1 | J7: 0 | K7: 0 | L7: 0 | M7: 0 | N7: 0
A8: 2008 | B8: 6 | C8: 38 | D8: 141 | E8: 0 | F8: 0 | G8: 0 | H8: 0 | I8: 0 | J8: 0 | K8: 0 | L8: 0 | M8: 0 | N8: 0
A9: 2008 | B9: 7 | C9: 40.31 | D9: 141 | E9: 0 | F9: 0 | G9: 0 | H9: 0 | I9: 0 | J9: 1 | K9: 0 | L9: 0 | M9: 0 | N9: 0
A10: 2008 | B10: 8 | C10: 39.77 | D10: 140 | E10: 0 | F10: 0 | G10: 0 | H10: 0 | I10: 0 | J10: 0 | K10: 1 | L10: 0 | M10: 0 | N10: 0
A11: 2008 | B11: 9 | C11: 38.5 | D11: 140 | E11: 0 | F11: 0 | G11: 0 | H11: 0 | I11: 0 | J11: 0 | K11: 0 | L11: 0 | M11: 0 | N11: 0
A12: 2008 | B12: 10 | C12: 41.58 | D12: 140 | E12: 0 | F12: 0 | G12: 0 | H12: 0 | I12: 0 | J12: 0 | K12: 0 | L12: 1 | M12: 0 | N12: 0
A13: 2008 | B13: 11 | C13: 38.76 | D13: 140 | E13: 0 | F13: 0 | G13: 0 | H13: 0 | I13: 0 | J13: 0 | K13: 0 | L13: 0 | M13: 1 | N13: 0
A14: 2008 | B14: 12 | C14: 41.09 | D14: 141 | E14: 0 | F14: 0 | G14: 0 | H14: 0 | I14: 0 | J14: 0 | K14: 0 | L14: 0 | M14: 0 | N14: 1
... A86: 2014 | B86: 12 | C86: 32.04 | D86: 107 | E86: 0 | F86: 0 | G86: 0 | H86: 0 | I86: 0 | J86: 0 | K86: 0 | L86: 0 | M86: 0 | N86: 1
A87: 2015 | B87: 1 | D87: 106.95 | E87: 0 | F87: 0 | G87: 1 | H87: 0 | I87: 0 | J87: 0 | K87: 0 | L87: 0 | M87: 0 | N87: 0
A88: 2015 | B88: 2 | D88: 106.9 | E88: 0 | F88: 0 | G88: 0 | H88: 0 | I88: 0 | J88: 0 | K88: 0 | L88: 0 | M88: 0 | N88: 0
A89: 2015 | B89: 3 | D89: 106.85 | E89: 0 | F89: 0 | G89: 0 | H89: 1 | I89: 0 | J89: 0 | K89: 0 | L89: 0 | M89: 0 | N89: 0
A90: 2015 | B90: 4 | D90: 106.81 | E90: 0 | F90: 0 | G90: 0 | H90: 0 | I90: 0 | J90: 0 | K90: 0 | L90: 0 | M90: 0 | N90: 0
A91: 2015 | B91: 5 | D91: 106.77 | E91: 0 | F91: 0 | G91: 0 | H91: 0 | I91: 1 | J91: 0 | K91: 0 | L91: 0 | M91: 0 | N91: 0
A92: 2015 | B92: 6 | D92: 106.74 | E92: 0 | F92: 0 | G92: 0 | H92: 0 | I92: 0 | J92: 0 | K92: 0 | L92: 0 | M92: 0 | N92: 0
A93: 2015 | B93: 7 | D93: 106.71 | E93: 0 | F93: 0 | G93: 0 | H93: 0 | I93: 0 | J93: 1 | K93: 0 | L93: 0 | M93: 0 | N93: 0
A94: 2015 | B94: 8 | D94: 106.68 | E94: 0 | F94: 0 | G94: 0 | H94: 0 | I94: 0 | J94: 0 | K94: 1 | L94: 0 | M94: 0 | N94: 0
A95: 2015 | B95: 9 | D95: 106.66 | E95: 0 | F95: 0 | G95: 0 | H95: 0 | I95: 0 | J95: 0 | K95: 0 | L95: 0 | M95: 0 | N95: 0
A96: 2015 | B96: 10 | D96: 106.63 | E96: 0 | F96: 0 | G96: 0 | H96: 0 | I96: 0 | J96: 0 | K96: 0 | L96: 1 | M96: 0 | N96: 0
A97: 2015 | B97: 11 | D97: 106.61 | E97: 0 | F97: 0 | G97: 0 | H97: 0 | I97: 0 | J97: 0 | K97: 0 | L97: 0 | M97: 1 | N97: 0
A98: 2015 | B98: 12 | D98: 106.6 | E98: 0 | F98: 0 | G98: 0 | H98: 0 | I98: 0 | J98: 0 | K98: 0 | L98: 0 | M98: 0 | N98: 1
... A158: 2020 | B158: 12 | D158: 106.45 | E158: 0 | F158: 0 | G158: 0 | H158: 0 | I158: 0 | J158: 0 | K158: 0 | L158: 0 | M158: 0 | N158: 1

Sheet Sentinel_Coef
A1: Variable | B1: Coefficient | C1: StdErr | D1: T-Stat | E1: P-Value
A2: SentinelCusts | B2: 0.278 | C2: 0.003 | D2: 107.52 | E2: 0
A3: mBin.Apr14 | B3: -18.337 | C3: 1.729 | D3: -10.602 | E3: 0
A4: mBin.Oct13 | B4: -7.415 | C4: 1.844 | D4: -4.022 | E4: 0.0001
A5: mBin.Jan | B5: 3.728 | C5: 0.724 | D5: 5.153 | E5: 0
A6: mBin.Mar | B6: 4.574 | C6: 0.722 | D6: 6.331 | E6: 0
A7: mBin.May | B7: 3.238 | C7: 0.721 | D7: 4.49 | E7: 0
A8: mBin.Jul | B8: 2.462 | C8: 0.721 | D8: 3.415 | E8: 0.0011
A9: mBin.Aug | B9: 1.777 | C9: 0.72 | D9: 2.466 | E9: 0.016
A10: mBin.Oct | B10: 3.424 | C10: 0.768 | D10: 4.458 | E10: 0
A11: mBin.Nov | B11: 2.111 | C11: 0.719 | D11: 2.937 | E11: 0.0044
A12: mBin.Dec | B12: 1.908 | C12: 0.718 | D12: 2.656 | E12: 0.0097

Sheet Sentinel_Forecast
A1: Year | B1: Month | C1: Actual | D1: Pred
A2: 2015 | B2: 1 | D2: =+Sentinel_Equation!C2 -> 33.4601
A3: 2015 | B3: 2 | D3: =+Sentinel_Equation!C3 -> 29.7182
A4: 2015 | B4: 3 | D4: =+Sentinel_Equation!C4 -> 34.2783
A5: 2015 | B5: 4 | D5: =+Sentinel_Equation!C5 -> 29.69318
A6: 2015 | B6: 5 | D6: =+Sentinel_Equation!C6 -> 32.92006
A7: 2015 | B7: 6 | D7: =+Sentinel_Equation!C7 -> 29.67372
A8: 2015 | B8: 7 | D8: =+Sentinel_Equation!C8 -> 32.12738
A9: 2015 | B9: 8 | D9: =+Sentinel_Equation!C9 -> 31.43404
A10: 2015 | B10: 9 | D10: =+Sentinel_Equation!C10 -> 29.65148
A11: 2015 | B11: 10 | D11: =+Sentinel_Equation!C11 -> 33.06714
A12: 2015 | B12: 11 | D12: =+Sentinel_Equation!C12 -> 31.74858
A13: 2015 | B13: 12 | D13: =+Sentinel_Equation!C13 -> 31.5428
... A73: 2020 | B73: 12 | D73: =+Sentinel_Equation!C73 -> 31.5011
A75: Year | B75: Sales Forecast before CDM Adjustment
A76: 2015 | B76: =SUMIF($A$2:$A$73,$A$76:$A$81,$D$2:$D$73) -> 379.31498
A77: 2016 | B77: =SUMIF($A$2:$A$73,$A$76:$A$81,$D$2:$D$73) -> 378.5894
A78: 2017 | B78: =SUMIF($A$2:$A$73,$A$76:$A$81,$D$2:$D$73) -> 378.3948
A79: 2018 | B79: =SUMIF($A$2:$A$73,$A$76:$A$81,$D$2:$D$73) -> 378.34198
A80: 2019 | B80: =SUMIF($A$2:$A$73,$A$76:$A$81,$D$2:$D$73) -> 378.3392
A81: 2020 | B81: =SUMIF($A$2:$A$73,$A$76:$A$81,$D$2:$D$73) -> 378.3392

Sheet Sentinel_MStat
A1: Model Statistics
A2: Adjusted Observations | B2: 84
A3: Deg. of Freedom for Error | B3: 73
A4: R-Squared | B4: 0.882
A5: Adjusted R-Squared | B5: 0.865
A6: Model Sum of Squares | B6: 1581.72
A7: Sum of Squared Errors | B7: 212.57
A8: Mean Squared Error | B8: 2.91
A9: Std. Error of Regression | B9: 1.71
A10: Mean Abs. Dev. (MAD) | B10: 1.18
A11: Mean Abs. % Err. (MAPE) | B11: 0.033
A12: Durbin-Watson Statistic | B12: 1.847

Sheet Sentinel_Equation
A1: Year | B1: Month | C1: Pred | D1: Filled | E1: 41730 | F1: 41548 | G1: Jan | H1: Mar | I1: May | J1: Jul | K1: Aug | L1: Oct | M1: Nov | N1: Dec
A2: 2015 | B2: 1 | C2: =SUM(D2:N2) -> 33.4601 | D2: =Sentinel_Data!D87*Sentinel_Data!D$1 -> 29.7321 | E2: =Sentinel_Data!E87*Sentinel_Data!E$1 -> 0 | F2: =Sentinel_Data!F87*Sentinel_Data!F$1 -> 0 | G2: =Sentinel_Data!G87*Sentinel_Data!G$1 -> 3.728 | H2: =Sentinel_Data!H87*Sentinel_Data!H$1 -> 0 | I2: =Sentinel_Data!I87*Sentinel_Data!I$1 -> 0 | J2: =Sentinel_Data!J87*Sentinel_Data!J$1 -> 0 | K2: =Sentinel_Data!K87*Sentinel_Data!K$1 -> 0 | ... N2: =Sentinel_Data!N87*Sentinel_Data!N$1 -> 0
A3: 2015 | B3: 2 | C3: =SUM(D3:N3) -> 29.7182 | D3: =Sentinel_Data!D88*Sentinel_Data!D$1 -> 29.7182 | E3: =Sentinel_Data!E88*Sentinel_Data!E$1 -> 0 | F3: =Sentinel_Data!F88*Sentinel_Data!F$1 -> 0 | G3: =Sentinel_Data!G88*Sentinel_Data!G$1 -> 0 | H3: =Sentinel_Data!H88*Sentinel_Data!H$1 -> 0 | I3: =Sentinel_Data!I88*Sentinel_Data!I$1 -> 0 | J3: =Sentinel_Data!J88*Sentinel_Data!J$1 -> 0 | K3: =Sentinel_Data!K88*Sentinel_Data!K$1 -> 0 | ... N3: =Sentinel_Data!N88*Sentinel_Data!N$1 -> 0
A4: 2015 | B4: 3 | C4: =SUM(D4:N4) -> 34.2783 | D4: =Sentinel_Data!D89*Sentinel_Data!D$1 -> 29.7043 | E4: =Sentinel_Data!E89*Sentinel_Data!E$1 -> 0 | F4: =Sentinel_Data!F89*Sentinel_Data!F$1 -> 0 | G4: =Sentinel_Data!G89*Sentinel_Data!G$1 -> 0 | H4: =Sentinel_Data!H89*Sentinel_Data!H$1 -> 4.574 | I4: =Sentinel_Data!I89*Sentinel_Data!I$1 -> 0 | J4: =Sentinel_Data!J89*Sentinel_Data!J$1 -> 0 | K4: =Sentinel_Data!K89*Sentinel_Data!K$1 -> 0 | ... N4: =Sentinel_Data!N89*Sentinel_Data!N$1 -> 0
A5: 2015 | B5: 4 | C5: =SUM(D5:N5) -> 29.69318 | D5: =Sentinel_Data!D90*Sentinel_Data!D$1 -> 29.69318 | E5: =Sentinel_Data!E90*Sentinel_Data!E$1 -> 0 | F5: =Sentinel_Data!F90*Sentinel_Data!F$1 -> 0 | G5: =Sentinel_Data!G90*Sentinel_Data!G$1 -> 0 | H5: =Sentinel_Data!H90*Sentinel_Data!H$1 -> 0 | I5: =Sentinel_Data!I90*Sentinel_Data!I$1 -> 0 | J5: =Sentinel_Data!J90*Sentinel_Data!J$1 -> 0 | K5: =Sentinel_Data!K90*Sentinel_Data!K$1 -> 0 | ... N5: =Sentinel_Data!N90*Sentinel_Data!N$1 -> 0
A6: 2015 | B6: 5 | C6: =SUM(D6:N6) -> 32.92006 | D6: =Sentinel_Data!D91*Sentinel_Data!D$1 -> 29.68206 | E6: =Sentinel_Data!E91*Sentinel_Data!E$1 -> 0 | F6: =Sentinel_Data!F91*Sentinel_Data!F$1 -> 0 | G6: =Sentinel_Data!G91*Sentinel_Data!G$1 -> 0 | H6: =Sentinel_Data!H91*Sentinel_Data!H$1 -> 0 | I6: =Sentinel_Data!I91*Sentinel_Data!I$1 -> 3.238 | J6: =Sentinel_Data!J91*Sentinel_Data!J$1 -> 0 | K6: =Sentinel_Data!K91*Sentinel_Data!K$1 -> 0 | ... N6: =Sentinel_Data!N91*Sentinel_Data!N$1 -> 0
A7: 2015 | B7: 6 | C7: =SUM(D7:N7) -> 29.67372 | D7: =Sentinel_Data!D92*Sentinel_Data!D$1 -> 29.67372 | E7: =Sentinel_Data!E92*Sentinel_Data!E$1 -> 0 | F7: =Sentinel_Data!F92*Sentinel_Data!F$1 -> 0 | G7: =Sentinel_Data!G92*Sentinel_Data!G$1 -> 0 | H7: =Sentinel_Data!H92*Sentinel_Data!H$1 -> 0 | I7: =Sentinel_Data!I92*Sentinel_Data!I$1 -> 0 | J7: =Sentinel_Data!J92*Sentinel_Data!J$1 -> 0 | K7: =Sentinel_Data!K92*Sentinel_Data!K$1 -> 0 | ... N7: =Sentinel_Data!N92*Sentinel_Data!N$1 -> 0
A8: 2015 | B8: 7 | C8: =SUM(D8:N8) -> 32.12738 | D8: =Sentinel_Data!D93*Sentinel_Data!D$1 -> 29.66538 | E8: =Sentinel_Data!E93*Sentinel_Data!E$1 -> 0 | F8: =Sentinel_Data!F93*Sentinel_Data!F$1 -> 0 | G8: =Sentinel_Data!G93*Sentinel_Data!G$1 -> 0 | H8: =Sentinel_Data!H93*Sentinel_Data!H$1 -> 0 | I8: =Sentinel_Data!I93*Sentinel_Data!I$1 -> 0 | J8: =Sentinel_Data!J93*Sentinel_Data!J$1 -> 2.462 | K8: =Sentinel_Data!K93*Sentinel_Data!K$1 -> 0 | ... N8: =Sentinel_Data!N93*Sentinel_Data!N$1 -> 0
A9: 2015 | B9: 8 | C9: =SUM(D9:N9) -> 31.43404 | D9: =Sentinel_Data!D94*Sentinel_Data!D$1 -> 29.65704 | E9: =Sentinel_Data!E94*Sentinel_Data!E$1 -> 0 | F9: =Sentinel_Data!F94*Sentinel_Data!F$1 -> 0 | G9: =Sentinel_Data!G94*Sentinel_Data!G$1 -> 0 | H9: =Sentinel_Data!H94*Sentinel_Data!H$1 -> 0 | I9: =Sentinel_Data!I94*Sentinel_Data!I$1 -> 0 | J9: =Sentinel_Data!J94*Sentinel_Data!J$1 -> 0 | K9: =Sentinel_Data!K94*Sentinel_Data!K$1 -> 1.777 | ... N9: =Sentinel_Data!N94*Sentinel_Data!N$1 -> 0
A10: 2015 | B10: 9 | C10: =SUM(D10:N10) -> 29.65148 | D10: =Sentinel_Data!D95*Sentinel_Data!D$1 -> 29.65148 | E10: =Sentinel_Data!E95*Sentinel_Data!E$1 -> 0 | F10: =Sentinel_Data!F95*Sentinel_Data!F$1 -> 0 | G10: =Sentinel_Data!G95*Sentinel_Data!G$1 -> 0 | H10: =Sentinel_Data!H95*Sentinel_Data!H$1 -> 0 | I10: =Sentinel_Data!I95*Sentinel_Data!I$1 -> 0 | J10: =Sentinel_Data!J95*Sentinel_Data!J$1 -> 0 | K10: =Sentinel_Data!K95*Sentinel_Data!K$1 -> 0 | ... N10: =Sentinel_Data!N95*Sentinel_Data!N$1 -> 0
A11: 2015 | B11: 10 | C11: =SUM(D11:N11) -> 33.06714 | D11: =Sentinel_Data!D96*Sentinel_Data!D$1 -> 29.64314 | E11: =Sentinel_Data!E96*Sentinel_Data!E$1 -> 0 | F11: =Sentinel_Data!F96*Sentinel_Data!F$1 -> 0 | G11: =Sentinel_Data!G96*Sentinel_Data!G$1 -> 0 | H11: =Sentinel_Data!H96*Sentinel_Data!H$1 -> 0 | I11: =Sentinel_Data!I96*Sentinel_Data!I$1 -> 0 | J11: =Sentinel_Data!J96*Sentinel_Data!J$1 -> 0 | K11: =Sentinel_Data!K96*Sentinel_Data!K$1 -> 0 | ... N11: =Sentinel_Data!N96*Sentinel_Data!N$1 -> 0
A12: 2015 | B12: 11 | C12: =SUM(D12:N12) -> 31.74858 | D12: =Sentinel_Data!D97*Sentinel_Data!D$1 -> 29.63758 | E12: =Sentinel_Data!E97*Sentinel_Data!E$1 -> 0 | F12: =Sentinel_Data!F97*Sentinel_Data!F$1 -> 0 | G12: =Sentinel_Data!G97*Sentinel_Data!G$1 -> 0 | H12: =Sentinel_Data!H97*Sentinel_Data!H$1 -> 0 | I12: =Sentinel_Data!I97*Sentinel_Data!I$1 -> 0 | J12: =Sentinel_Data!J97*Sentinel_Data!J$1 -> 0 | K12: =Sentinel_Data!K97*Sentinel_Data!K$1 -> 0 | ... N12: =Sentinel_Data!N97*Sentinel_Data!N$1 -> 0
A13: 2015 | B13: 12 | C13: =SUM(D13:N13) -> 31.5428 | D13: =Sentinel_Data!D98*Sentinel_Data!D$1 -> 29.6348 | E13: =Sentinel_Data!E98*Sentinel_Data!E$1 -> 0 | F13: =Sentinel_Data!F98*Sentinel_Data!F$1 -> 0 | G13: =Sentinel_Data!G98*Sentinel_Data!G$1 -> 0 | H13: =Sentinel_Data!H98*Sentinel_Data!H$1 -> 0 | I13: =Sentinel_Data!I98*Sentinel_Data!I$1 -> 0 | J13: =Sentinel_Data!J98*Sentinel_Data!J$1 -> 0 | K13: =Sentinel_Data!K98*Sentinel_Data!K$1 -> 0 | ... N13: =Sentinel_Data!N98*Sentinel_Data!N$1 -> 1.908
... A73: 2020 | B73: 12 | C73: =SUM(D73:N73) -> 31.5011 | D73: =Sentinel_Data!D158*Sentinel_Data!D$1 -> 29.5931 | E73: =Sentinel_Data!E158*Sentinel_Data!E$1 -> 0 | F73: =Sentinel_Data!F158*Sentinel_Data!F$1 -> 0 | G73: =Sentinel_Data!G158*Sentinel_Data!G$1 -> 0 | H73: =Sentinel_Data!H158*Sentinel_Data!H$1 -> 0 | I73: =Sentinel_Data!I158*Sentinel_Data!I$1 -> 0 | J73: =Sentinel_Data!J158*Sentinel_Data!J$1 -> 0 | K73: =Sentinel_Data!K158*Sentinel_Data!K$1 -> 0 | ... N73: =Sentinel_Data!N158*Sentinel_Data!N$1 -> 1.908

Sheet Street Lighting_Data
A1: Coef | D1: {=TRANSPOSE('Street Lighting_Coef'!Y3:Y13)} -> -17.111 | E1: -2905.004 | F1: -2620.212 | G1: -2778.941 | H1: -4489.222 | I1: 4618.688 | J1: 692.273 | K1: 1628.228 | L1: 1182.015 | M1: 902.124 | N1: 1166.639
A2: Year | B2: Month | C2: StLMWh | D2: HrLight | E2: 39753 | F2: 39904 | G2: 40210 | H2: 41214 | I2: 41244 | J2: Jan | K2: Apr | L2: May | M2: Aug | N2: Dec
A3: 2008 | B3: 1 | C3: 5837.92 | D3: 289.69 | E3: 0 | F3: 0 | G3: 0 | H3: 0 | I3: 0 | J3: 1 | K3: 0 | L3: 0 | M3: 0 | N3: 0
A4: 2008 | B4: 2 | C4: 4633.56 | D4: 304.53 | E4: 0 | F4: 0 | G4: 0 | H4: 0 | I4: 0 | J4: 0 | K4: 0 | L4: 0 | M4: 0 | N4: 0
A5: 2008 | B5: 3 | C5: 3679.41 | D5: 370.92 | E5: 0 | F5: 0 | G5: 0 | H5: 0 | I5: 0 | J5: 0 | K5: 0 | L5: 0 | M5: 0 | N5: 0
A6: 2008 | B6: 4 | C6: 6200.48 | D6: 404.03 | E6: 0 | F6: 0 | G6: 0 | H6: 0 | I6: 0 | J6: 0 | K6: 1 | L6: 0 | M6: 0 | N6: 0
A7: 2008 | B7: 5 | C7: 4634.56 | D7: 457.07 | E7: 0 | F7: 0 | G7: 0 | H7: 0 | I7: 0 | J7: 0 | K7: 0 | L7: 1 | M7: 0 | N7: 0
A8: 2008 | B8: 6 | C8: 1726.48 | D8: 461.67 | E8: 0 | F8: 0 | G8: 0 | H8: 0 | I8: 0 | J8: 0 | K8: 0 | L8: 0 | M8: 0 | N8: 0
A9: 2008 | B9: 7 | C9: 4053.18 | D9: 466.6 | E9: 0 | F9: 0 | G9: 0 | H9: 0 | I9: 0 | J9: 0 | K9: 0 | L9: 0 | M9: 0 | N9: 0
A10: 2008 | B10: 8 | C10: 4003.77 | D10: 431.57 | E10: 0 | F10: 0 | G10: 0 | H10: 0 | I10: 0 | J10: 0 | K10: 0 | L10: 0 | M10: 1 | N10: 0
A11: 2008 | B11: 9 | C11: 4231.55 | D11: 374.43 | E11: 0 | F11: 0 | G11: 0 | H11: 0 | I11: 0 | J11: 0 | K11: 0 | L11: 0 | M11: 0 | N11: 0
A12: 2008 | B12: 10 | C12: 4632.84 | D12: 340.59 | E12: 0 | F12: 0 | G12: 0 | H12: 0 | I12: 0 | J12: 0 | K12: 0 | L12: 0 | M12: 0 | N12: 0
A13: 2008 | B13: 11 | C13: 3036.77 | D13: 290.1 | E13: 1 | F13: 0 | G13: 0 | H13: 0 | I13: 0 | J13: 0 | K13: 0 | L13: 0 | M13: 0 | N13: 0
A14: 2008 | B14: 12 | C14: 9006.98 | D14: 278.6 | E14: 0 | F14: 0 | G14: 0 | H14: 0 | I14: 0 | J14: 0 | K14: 0 | L14: 0 | M14: 0 | N14: 1
... A86: 2014 | B86: 12 | C86: 6352.24 | D86: 278.73 | E86: 0 | F86: 0 | G86: 0 | H86: 0 | I86: 0 | J86: 0 | K86: 0 | L86: 0 | M86: 0 | N86: 1
A87: 2015 | B87: 1 | D87: 289.9942 | E87: 0 | F87: 0 | G87: 0 | H87: 0 | I87: 0 | J87: 1 | K87: 0 | L87: 0 | M87: 0 | N87: 0
A88: 2015 | B88: 2 | D88: 293.77237 | E88: 0 | F88: 0 | G88: 0 | H88: 0 | I88: 0 | J88: 0 | K88: 0 | L88: 0 | M88: 0 | N88: 0
A89: 2015 | B89: 3 | D89: 369.84276 | E89: 0 | F89: 0 | G89: 0 | H89: 0 | I89: 0 | J89: 0 | K89: 0 | L89: 0 | M89: 0 | N89: 0
A90: 2015 | B90: 4 | D90: 403.02424 | E90: 0 | F90: 0 | G90: 0 | H90: 0 | I90: 0 | J90: 0 | K90: 1 | L90: 0 | M90: 0 | N90: 0
A91: 2015 | B91: 5 | D91: 456.30007 | E91: 0 | F91: 0 | G91: 0 | H91: 0 | I91: 0 | J91: 0 | K91: 0 | L91: 1 | M91: 0 | N91: 0
A92: 2015 | B92: 6 | D92: 461.50425 | E92: 0 | F92: 0 | G92: 0 | H92: 0 | I92: 0 | J92: 0 | K92: 0 | L92: 0 | M92: 0 | N92: 0
A93: 2015 | B93: 7 | D93: 467.11632 | E93: 0 | F93: 0 | G93: 0 | H93: 0 | I93: 0 | J93: 0 | K93: 0 | L93: 0 | M93: 0 | N93: 0
A94: 2015 | B94: 8 | D94: 432.48515 | E94: 0 | F94: 0 | G94: 0 | H94: 0 | I94: 0 | J94: 0 | K94: 0 | L94: 0 | M94: 1 | N94: 0
A95: 2015 | B95: 9 | D95: 375.45301 | E95: 0 | F95: 0 | G95: 0 | H95: 0 | I95: 0 | J95: 0 | K95: 0 | L95: 0 | M95: 0 | N95: 0
A96: 2015 | B96: 10 | D96: 341.63809 | E96: 0 | F96: 0 | G96: 0 | H96: 0 | I96: 0 | J96: 0 | K96: 0 | L96: 0 | M96: 0 | N96: 0
A97: 2015 | B97: 11 | D97: 290.88557 | E97: 0 | F97: 0 | G97: 0 | H97: 0 | I97: 0 | J97: 0 | K97: 0 | L97: 0 | M97: 0 | N97: 0
A98: 2015 | B98: 12 | D98: 278.78712 | E98: 0 | F98: 0 | G98: 0 | H98: 0 | I98: 0 | J98: 0 | K98: 0 | L98: 0 | M98: 0 | N98: 1
... A158: 2020 | B158: 12 | D158: 278.66184 | E158: 0 | F158: 0 | G158: 0 | H158: 0 | I158: 0 | J158: 0 | K158: 0 | L158: 0 | M158: 0 | N158: 1

Sheet Street Lighting_Coef
A1: Variable | B1: Coefficient | C1: StdErr | D1: T-Stat | E1: P-Value | X1: Variable | Y1: Coefficient | Z1: StdErr | AA1: T-Stat | AB1: P-Value
A2: CONST | B2: 10905.752 | C2: 657.035 | D2: 16.598 | E2: 0 | X2: CONST | Y2: 10905.752 | Z2: 657.035 | AA2: 16.598 | AB2: 0
A3: mWthr.HrLight | B3: -17.111 | C3: 1.718 | D3: -9.961 | E3: 0 | X3: mWthr.HrLight | Y3: -17.111 | Z3: 1.718 | AA3: -9.961 | AB3: 0
A4: mBin.Nov08 | B4: -2905.004 | C4: 773.966 | D4: -3.753 | E4: 0.0004 | X4: mBin.Nov08 | Y4: -2905.004 | Z4: 773.966 | AA4: -3.753 | AB4: 0.0004
A5: mBin.Apr09 | B5: -2620.212 | C5: 811.507 | D5: -3.229 | E5: 0.0019 | X5: mBin.Apr09 | Y5: -2620.212 | Z5: 811.507 | AA5: -3.229 | AB5: 0.0019
A6: mBin.Feb10 | B6: -2778.941 | C6: 772.69 | D6: -3.596 | E6: 0.0006 | X6: mBin.Feb10 | Y6: -2778.941 | Z6: 772.69 | AA6: -3.596 | AB6: 0.0006
A7: mBin.Nov12 | B7: -4489.222 | C7: 773.971 | D7: -5.8 | E7: 0 | X7: mBin.Nov12 | Y7: -4489.222 | Z7: 773.971 | AA7: -5.8 | AB7: 0
A8: mBin.Dec12 | B8: 4618.688 | C8: 811.507 | D8: 5.691 | E8: 0 | X8: mBin.Dec12 | Y8: 4618.688 | Z8: 811.507 | AA8: 5.691 | AB8: 0
A9: mBin.Jan | B9: 692.273 | C9: 339.423 | D9: 2.04 | E9: 0.0451 | X9: mBin.Jan | Y9: 692.273 | Z9: 339.423 | AA9: 2.04 | AB9: 0.0451
A10: mBin.Apr | B10: 1628.228 | C10: 329.292 | D10: 4.945 | E10: 0 | X10: mBin.Apr | Y10: 1628.228 | Z10: 329.292 | AA10: 4.945 | AB10: 0
A11: mBin.May | B11: 1182.015 | C11: 334.175 | D11: 3.537 | E11: 0.0007 | X11: mBin.May | Y11: 1182.015 | Z11: 334.175 | AA11: 3.537 | AB11: 0.0007
A12: mBin.Aug | B12: 902.124 | C12: 319.096 | D12: 2.827 | E12: 0.0061 | X12: mBin.Aug | Y12: 902.124 | Z12: 319.096 | AA12: 2.827 | AB12: 0.0061
A13: mBin.Dec | B13: 1166.639 | C13: 367.247 | D13: 3.177 | E13: 0.0022 | X13: mBin.Dec | Y13: 1166.639 | Z13: 367.247 | AA13: 3.177 | AB13: 0.0022

Sheet Street Lighting_MStat
A1: Model Statistics
A2: Adjusted Observations | B2: 84
A3: Deg. of Freedom for Error | B3: 72
A4: R-Squared | B4: 0.831
A5: Adjusted R-Squared | B5: 0.805
A6: Model Sum of Squares | B6: 1.9994839e+08
A7: Sum of Squared Errors | B7: 40641505
A8: Mean Squared Error | B8: 564465.34
A9: Std. Error of Regression | B9: 751.31
A10: Mean Abs. Dev. (MAD) | B10: 459.16
A11: Mean Abs. % Err. (MAPE) | B11: 0.098
A12: Durbin-Watson Statistic | B12: 2.367

Sheet Street Lighting_Forecast
A1: Year | B1: Month | C1: Actual | D1: Pred
A2: 2015 | B2: 1 | D2: =+'Street Lighting_Equation'!C2 -> 6635.9342
A3: 2015 | B3: 2 | D3: =+'Street Lighting_Equation'!C3 -> 5879.013
A4: 2015 | B4: 3 | D4: =+'Street Lighting_Equation'!C4 -> 4577.3726
A5: 2015 | B5: 4 | D5: =+'Street Lighting_Equation'!C5 -> 5637.8322
A6: 2015 | B6: 5 | D6: =+'Street Lighting_Equation'!C6 -> 4280.0166
A7: 2015 | B7: 6 | D7: =+'Street Lighting_Equation'!C7 -> 3008.9528
A8: 2015 | B8: 7 | D8: =+'Street Lighting_Equation'!C8 -> 2912.9246
A9: 2015 | B9: 8 | D9: =+'Street Lighting_Equation'!C9 -> 4407.6227
A10: 2015 | B10: 9 | D10: =+'Street Lighting_Equation'!C10 -> 4481.3756
A11: 2015 | B11: 10 | D11: =+'Street Lighting_Equation'!C11 -> 5059.9826
A12: 2015 | B12: 11 | D12: =+'Street Lighting_Equation'!C12 -> 5928.409
A13: 2015 | B13: 12 | D13: =+'Street Lighting_Equation'!C13 -> 7302.0646
... A73: 2020 | B73: 12 | D73: =+'Street Lighting_Equation'!C73 -> 7304.2083
A75: Year | B75: Sales Forecast | C75: LED Adjustment | D75: Sales Forecast Before CDM Adjustment
A76: 2015 | B76: =SUMIF($A$2:$A$73,$A$76:$A$81,$D$2:$D$73) -> 60111.5 | D76: =B76-C76 -> 60111.5
A77: 2016 | B77: =SUMIF($A$2:$A$73,$A$76:$A$81,$D$2:$D$73) -> 59957.762 | C77: 6947.8236 | D77: =B77-C77 -> 53009.939
