Workbook

Sheet Residential_Data
A1: Coef | D1: =+Residential_Coef!B2 -> 53.236
A2: Year | B2: Month | C2: Res_Custs | D2: 12 Months Moving Average_Population
A3: 2008 | B3: 1 | C3: 270204 | D3: 5425.37
A4: 2008 | B4: 2 | C4: 270559 | D4: 5432.53
A5: 2008 | B5: 3 | C5: 270856 | D5: 5439.71
A6: 2008 | B6: 4 | C6: 271644 | D6: 5446.91
A7: 2008 | B7: 5 | C7: 272077 | D7: 5454.12
A8: 2008 | B8: 6 | C8: 272937 | D8: 5461.35
A9: 2008 | B9: 7 | C9: 273537 | D9: 5468.58
A10: 2008 | B10: 8 | C10: 274231 | D10: 5475.82
A11: 2008 | B11: 9 | C11: 275091 | D11: 5483.07
A12: 2008 | B12: 10 | C12: 276307 | D12: 5490.32
A13: 2008 | B13: 11 | C13: 277116 | D13: 5497.58
A14: 2008 | B14: 12 | C14: 277828 | D14: 5504.8
... A86: 2014 | B86: 12 | C86: 316765 | D86: 6060.24
A87: 2015 | B87: 1 | D87: 6069.2
A88: 2015 | B88: 2 | D88: 6078.06
A89: 2015 | B89: 3 | D89: 6086.9
A90: 2015 | B90: 4 | D90: 6095.7
A91: 2015 | B91: 5 | D91: 6104.47
A92: 2015 | B92: 6 | D92: 6113.21
A93: 2015 | B93: 7 | D93: 6121.92
A94: 2015 | B94: 8 | D94: 6130.59
A95: 2015 | B95: 9 | D95: 6139.27
A96: 2015 | B96: 10 | D96: 6147.94
A97: 2015 | B97: 11 | D97: 6156.62
A98: 2015 | B98: 12 | D98: 6165.34
... A158: 2020 | B158: 12 | D158: 6746.8

Sheet Residential_Coef
A1: Variable | B1: Coefficient | C1: StdErr | D1: T-Stat | E1: P-Value
A2: MA_Population | B2: 53.236 | C2: 0.795 | D2: 66.923 | E2: 0
A3: AR(1) | B3: 0.98618349 | C3: 0.006 | D3: 168.341 | E3: 0

Sheet Residential_MStat
A1: Model Statistics
A2: Adjusted Observations | B2: 83
A3: Deg. of Freedom for Error | B3: 81
A4: R-Squared | B4: 1
A5: Adjusted R-Squared | B5: 1
A6: Model Sum of Squares | B6: 1.5153354e+10
A7: Sum of Squared Errors | B7: 4188837.6
A8: Mean Squared Error | B8: 51714.04
A9: Std. Error of Regression | B9: 227.41
A10: Mean Abs. Dev. (MAD) | B10: 177.54
A11: Mean Abs. % Err. (MAPE) | B11: 0.0006
A12: Durbin-Watson Statistic | B12: 1.555

Sheet Residenital_Forecast
A1: Year | B1: Month | C1: Actual | D1: Pred
A2: 2015 | B2: 1 | D2: =+Residential_Equation!C2 -> 317324.23
A3: 2015 | B3: 2 | D3: =+Residential_Equation!C3 -> 317875.7
A4: 2015 | B4: 3 | D4: =+Residential_Equation!C4 -> 318425.01
A5: 2015 | B5: 4 | D5: =+Residential_Equation!C5 -> 318971.09
A6: 2015 | B6: 5 | D6: =+Residential_Equation!C6 -> 319514.51
A7: 2015 | B7: 6 | D7: =+Residential_Equation!C7 -> 320055.27
A8: 2015 | B8: 7 | D8: =+Residential_Equation!C8 -> 320593.4
A9: 2015 | B9: 8 | D9: =+Residential_Equation!C9 -> 321128.36
A10: 2015 | B10: 9 | D10: =+Residential_Equation!C10 -> 321662.84
A11: 2015 | B11: 10 | D11: =+Residential_Equation!C11 -> 322195.8
A12: 2015 | B12: 11 | D12: =+Residential_Equation!C12 -> 322728.29
A13: 2015 | B13: 12 | D13: =+Residential_Equation!C13 -> 323261.94
... A73: 2020 | B73: 12 | D73: =+Residential_Equation!C73 -> 357021.83
A76: Year | B76: Residential Customer Counts from Regression Model Counts Forecast | C76: Allocation to the GS>50 | D76: Residential Customer Counts Forecast
A77: 2015 | B77: =+D13 -> 323261.94 | C77: 935.66667 | D77: =B77-C77 -> 322326.28
A78: 2016 | B78: =+D25 -> 329779.35 | C78: 1871.3333 | D78: =B78-C78 -> 327908.01
A79: 2017 | B79: =+D37 -> 336481.42 | C79: 2807 | D79: =B79-C79 -> 333674.42
A80: 2018 | B80: =+D49 -> 343224.35 | C80: 3742.6667 | D80: =B80-C80 -> 339481.68
A81: 2019 | B81: =+D61 -> 350042.54 | C81: 4678.3333 | D81: =B81-C81 -> 345364.2
A82: 2020 | B82: =+D73 -> 357021.83 | C82: 5614 | D82: =B82-C82 -> 351407.83
A83: Note : Reallocation to GS > 50 kW based on the trend of new condominiums opting for submetering.

Sheet Residential_Equation
A1: Year | B1: Month | C1: Pred | D1: MA_Population | E1: ARMA
A2: 2015 | B2: 1 | C2: =D2+E2 -> 317324.23 | D2: =Residential_Data!D87*Residential_Data!$D$1 -> 323099.93 | E2: -5775.7
A3: 2015 | B3: 2 | C3: =D3+E3 -> 317875.7 | D3: =Residential_Data!D88*Residential_Data!$D$1 -> 323571.6 | E3: =E2*Residential_Coef!$B$3 -> -5695.9
A4: 2015 | B4: 3 | C4: =D4+E4 -> 318425.01 | D4: =Residential_Data!D89*Residential_Data!$D$1 -> 324042.21 | E4: =E3*Residential_Coef!$B$3 -> -5617.2026
A5: 2015 | B5: 4 | C5: =D5+E5 -> 318971.09 | D5: =Residential_Data!D90*Residential_Data!$D$1 -> 324510.69 | E5: =E4*Residential_Coef!$B$3 -> -5539.5924
A6: 2015 | B6: 5 | C6: =D6+E6 -> 319514.51 | D6: =Residential_Data!D91*Residential_Data!$D$1 -> 324977.56 | E6: =E5*Residential_Coef!$B$3 -> -5463.0546
A7: 2015 | B7: 6 | C7: =D7+E7 -> 320055.27 | D7: =Residential_Data!D92*Residential_Data!$D$1 -> 325442.85 | E7: =E6*Residential_Coef!$B$3 -> -5387.5743
A8: 2015 | B8: 7 | C8: =D8+E8 -> 320593.4 | D8: =Residential_Data!D93*Residential_Data!$D$1 -> 325906.53 | E8: =E7*Residential_Coef!$B$3 -> -5313.1368
A9: 2015 | B9: 8 | C9: =D9+E9 -> 321128.36 | D9: =Residential_Data!D94*Residential_Data!$D$1 -> 326368.09 | E9: =E8*Residential_Coef!$B$3 -> -5239.7278
A10: 2015 | B10: 9 | C10: =D10+E10 -> 321662.84 | D10: =Residential_Data!D95*Residential_Data!$D$1 -> 326830.18 | E10: =E9*Residential_Coef!$B$3 -> -5167.3331
A11: 2015 | B11: 10 | C11: =D11+E11 -> 322195.8 | D11: =Residential_Data!D96*Residential_Data!$D$1 -> 327291.73 | E11: =E10*Residential_Coef!$B$3 -> -5095.9386
A12: 2015 | B12: 11 | C12: =D12+E12 -> 322728.29 | D12: =Residential_Data!D97*Residential_Data!$D$1 -> 327753.82 | E12: =E11*Residential_Coef!$B$3 -> -5025.5305
A13: 2015 | B13: 12 | C13: =D13+E13 -> 323261.94 | D13: =Residential_Data!D98*Residential_Data!$D$1 -> 328218.04 | E13: =E12*Residential_Coef!$B$3 -> -4956.0953
A14: 2016 | B14: 1 | C14: =D14+E14 -> 323796.77 | D14: =Residential_Data!D99*Residential_Data!$D$1 -> 328684.39 | E14: =E13*Residential_Coef!$B$3 -> -4887.6193
... A73: 2020 | B73: 12 | C73: =D73+E73 -> 357021.83 | D73: =Residential_Data!D158*Residential_Data!$D$1 -> 359172.64 | E73: =E72*Residential_Coef!$B$3 -> -2150.8166

Sheet GS<50_Data
A1: Coef | D1: {=TRANSPOSE('GS<50_Coef'!B3:B4)} -> 0.056552778 | E1: 350.803
A2: Year | B2: Month | C2: GS<50_Custs | D2: Res_Custs | E2: AftApr14
A3: 2008 | B3: 1 | C3: 28292 | D3: 270204 | E3: 0
A4: 2008 | B4: 2 | C4: 28338 | D4: 270559 | E4: 0
A5: 2008 | B5: 3 | C5: 28411 | D5: 270856 | E5: 0
A6: 2008 | B6: 4 | C6: 28513 | D6: 271644 | E6: 0
A7: 2008 | B7: 5 | C7: 28558 | D7: 272077 | E7: 0
A8: 2008 | B8: 6 | C8: 28544 | D8: 272937 | E8: 0
A9: 2008 | B9: 7 | C9: 28640 | D9: 273537 | E9: 0
A10: 2008 | B10: 8 | C10: 28667 | D10: 274231 | E10: 0
A11: 2008 | B11: 9 | C11: 28751 | D11: 275091 | E11: 0
A12: 2008 | B12: 10 | C12: 28771 | D12: 276307 | E12: 0
A13: 2008 | B13: 11 | C13: 28810 | D13: 277116 | E13: 0
A14: 2008 | B14: 12 | C14: 28892 | D14: 277828 | E14: 0
... A86: 2014 | B86: 12 | C86: 31865 | D86: 316765 | E86: 1
A87: 2015 | B87: 1 | D87: 317323.05 | E87: 1
A88: 2015 | B88: 2 | D88: 317874.78 | E88: 1
A89: 2015 | B89: 3 | D89: 318423.74 | E89: 1
A90: 2015 | B90: 4 | D90: 318969.93 | E90: 1
A91: 2015 | B91: 5 | D91: 319513.37 | E91: 1
A92: 2015 | B92: 6 | D92: 320054.06 | E92: 1
A93: 2015 | B93: 7 | D93: 320592 | E93: 1
A94: 2015 | B94: 8 | D94: 321127.21 | E94: 1
A95: 2015 | B95: 9 | D95: 321661.42 | E95: 1
A96: 2015 | B96: 10 | D96: 322194.63 | E96: 1
A97: 2015 | B97: 11 | D97: 322726.87 | E97: 1
A98: 2015 | B98: 12 | D98: 323260.46 | E98: 1
... A158: 2020 | B158: 12 | D158: 357019.62 | E158: 1

Sheet GS<50_Coef
A1: Variable | B1: Coefficient | C1: StdErr | D1: T-Stat | E1: P-Value
A2: CONST | B2: 13592.333 | C2: 2020.531 | D2: 6.727 | E2: 0
A3: Res_Custs | B3: 0.056552778 | C3: 0.007 | D3: 8.534 | E3: 0
A4: mBin.AftApr14 | B4: 350.803 | C4: 50.592 | D4: 6.934 | E4: 0
A5: AR(1) | B5: 0.929 | C5: 0.032 | D5: 28.85 | E5: 0

Sheet GS<50_MStat
A1: Model Statistics
A2: Adjusted Observations | B2: 83
A3: Deg. of Freedom for Error | B3: 79
A4: R-Squared | B4: 0.997
A5: Adjusted R-Squared | B5: 0.997
A6: Model Sum of Squares | B6: 70274628
A7: Sum of Squared Errors | B7: 193784.74
A8: Mean Squared Error | B8: 2452.97
A9: Std. Error of Regression | B9: 49.53
A10: Mean Abs. Dev. (MAD) | B10: 30.07
A11: Mean Abs. % Err. (MAPE) | B11: 0.001
A12: Durbin-Watson Statistic | B12: 1.962

Sheet GS<50_Forecast
A1: Year | B1: Month | C1: Actual | D1: Pred
A2: 2015 | B2: 1 | D2: =+'GS<50_Equation'!C2 -> 31895.936
A3: 2015 | B3: 2 | D3: =+'GS<50_Equation'!C3 -> 31926.62
A4: 2015 | B4: 3 | D4: =+'GS<50_Equation'!C4 -> 31957.183
A5: 2015 | B5: 4 | D5: =+'GS<50_Equation'!C5 -> 31987.625
A6: 2015 | B6: 5 | D6: =+'GS<50_Equation'!C6 -> 32017.942
A7: 2015 | B7: 6 | D7: =+'GS<50_Equation'!C7 -> 32048.133
A8: 2015 | B8: 7 | D8: =+'GS<50_Equation'!C8 -> 32078.197
A9: 2015 | B9: 8 | D9: =+'GS<50_Equation'!C9 -> 32108.131
A10: 2015 | B10: 9 | D10: =+'GS<50_Equation'!C10 -> 32138.033
A11: 2015 | B11: 10 | D11: =+'GS<50_Equation'!C11 -> 32167.9
A12: 2015 | B12: 11 | D12: =+'GS<50_Equation'!C12 -> 32197.732
A13: 2015 | B13: 12 | D13: =+'GS<50_Equation'!C13 -> 32227.66
... A73: 2020 | B73: 12 | D73: =+'GS<50_Equation'!C73 -> 34133.626
A76: Year | B76: GS<50 Customer Counts from Regression Model Counts Forecast
A77: 2015 | B77: =+D13 -> 32227.66
A78: 2016 | B78: =+D25 -> 32594.315
A79: 2017 | B79: =+D37 -> 32972.553
A80: 2018 | B80: =+D49 -> 33353.552
A81: 2019 | B81: =+D61 -> 33738.977
A82: 2020 | B82: =+D73 -> 34133.626

Sheet GS<50_Equation
A1: Year | B1: Month | C1: Pred | D1: CONST | E1: Res_Custs | F1: AftApr14 | G1: ARMA
A2: 2015 | B2: 1 | C2: =SUM(D2:G2) -> 31895.936 | D2: =+'GS<50_Coef'!$B$2 -> 13592.333 | E2: ='GS<50_Data'!D87*'GS<50_Data'!D$1 -> 17945.5 | F2: ='GS<50_Data'!E87*'GS<50_Data'!E$1 -> 350.803 | G2: 7.3
A3: 2015 | B3: 2 | C3: =SUM(D3:G3) -> 31926.62 | D3: =+'GS<50_Coef'!$B$2 -> 13592.333 | E3: ='GS<50_Data'!D88*'GS<50_Data'!D$1 -> 17976.702 | F3: ='GS<50_Data'!E88*'GS<50_Data'!E$1 -> 350.803 | G3: =G2*'GS<50_Coef'!$B$5 -> 6.7817
A4: 2015 | B4: 3 | C4: =SUM(D4:G4) -> 31957.183 | D4: =+'GS<50_Coef'!$B$2 -> 13592.333 | E4: ='GS<50_Data'!D89*'GS<50_Data'!D$1 -> 18007.747 | F4: ='GS<50_Data'!E89*'GS<50_Data'!E$1 -> 350.803 | G4: =G3*'GS<50_Coef'!$B$5 -> 6.3001993
A5: 2015 | B5: 4 | C5: =SUM(D5:G5) -> 31987.625 | D5: =+'GS<50_Coef'!$B$2 -> 13592.333 | E5: ='GS<50_Data'!D90*'GS<50_Data'!D$1 -> 18038.636 | F5: ='GS<50_Data'!E90*'GS<50_Data'!E$1 -> 350.803 | G5: =G4*'GS<50_Coef'!$B$5 -> 5.8528851
A6: 2015 | B6: 5 | C6: =SUM(D6:G6) -> 32017.942 | D6: =+'GS<50_Coef'!$B$2 -> 13592.333 | E6: ='GS<50_Data'!D91*'GS<50_Data'!D$1 -> 18069.369 | F6: ='GS<50_Data'!E91*'GS<50_Data'!E$1 -> 350.803 | G6: =G5*'GS<50_Coef'!$B$5 -> 5.4373303
A7: 2015 | B7: 6 | C7: =SUM(D7:G7) -> 32048.133 | D7: =+'GS<50_Coef'!$B$2 -> 13592.333 | E7: ='GS<50_Data'!D92*'GS<50_Data'!D$1 -> 18099.946 | F7: ='GS<50_Data'!E92*'GS<50_Data'!E$1 -> 350.803 | G7: =G6*'GS<50_Coef'!$B$5 -> 5.0512799
A8: 2015 | B8: 7 | C8: =SUM(D8:G8) -> 32078.197 | D8: =+'GS<50_Coef'!$B$2 -> 13592.333 | E8: ='GS<50_Data'!D93*'GS<50_Data'!D$1 -> 18130.368 | F8: ='GS<50_Data'!E93*'GS<50_Data'!E$1 -> 350.803 | G8: =G7*'GS<50_Coef'!$B$5 -> 4.692639
A9: 2015 | B9: 8 | C9: =SUM(D9:G9) -> 32108.131 | D9: =+'GS<50_Coef'!$B$2 -> 13592.333 | E9: ='GS<50_Data'!D94*'GS<50_Data'!D$1 -> 18160.636 | F9: ='GS<50_Data'!E94*'GS<50_Data'!E$1 -> 350.803 | G9: =G8*'GS<50_Coef'!$B$5 -> 4.3594616
A10: 2015 | B10: 9 | C10: =SUM(D10:G10) -> 32138.033 | D10: =+'GS<50_Coef'!$B$2 -> 13592.333 | E10: ='GS<50_Data'!D95*'GS<50_Data'!D$1 -> 18190.847 | F10: ='GS<50_Data'!E95*'GS<50_Data'!E$1 -> 350.803 | G10: =G9*'GS<50_Coef'!$B$5 -> 4.0499398
A11: 2015 | B11: 10 | C11: =SUM(D11:G11) -> 32167.9 | D11: =+'GS<50_Coef'!$B$2 -> 13592.333 | E11: ='GS<50_Data'!D96*'GS<50_Data'!D$1 -> 18221.001 | F11: ='GS<50_Data'!E96*'GS<50_Data'!E$1 -> 350.803 | G11: =G10*'GS<50_Coef'!$B$5 -> 3.7623941
A12: 2015 | B12: 11 | C12: =SUM(D12:G12) -> 32197.732 | D12: =+'GS<50_Coef'!$B$2 -> 13592.333 | E12: ='GS<50_Data'!D97*'GS<50_Data'!D$1 -> 18251.101 | F12: ='GS<50_Data'!E97*'GS<50_Data'!E$1 -> 350.803 | G12: =G11*'GS<50_Coef'!$B$5 -> 3.4952641
A13: 2015 | B13: 12 | C13: =SUM(D13:G13) -> 32227.66 | D13: =+'GS<50_Coef'!$B$2 -> 13592.333 | E13: ='GS<50_Data'!D98*'GS<50_Data'!D$1 -> 18281.277 | F13: ='GS<50_Data'!E98*'GS<50_Data'!E$1 -> 350.803 | G13: =G12*'GS<50_Coef'!$B$5 -> 3.2471004
A14: 2016 | B14: 1 | C14: =SUM(D14:G14) -> 32257.682 | D14: =+'GS<50_Coef'!$B$2 -> 13592.333 | E14: ='GS<50_Data'!D99*'GS<50_Data'!D$1 -> 18311.529 | F14: ='GS<50_Data'!E99*'GS<50_Data'!E$1 -> 350.803 | G14: =G13*'GS<50_Coef'!$B$5 -> 3.0165562
... A73: 2020 | B73: 12 | C73: =SUM(D73:G73) -> 34133.626 | D73: =+'GS<50_Coef'!$B$2 -> 13592.333 | E73: ='GS<50_Data'!D158*'GS<50_Data'!D$1 -> 20190.451 | F73: ='GS<50_Data'!E158*'GS<50_Data'!E$1 -> 350.803 | G73: =G72*'GS<50_Coef'!$B$5 -> 0.039123577

Sheet GS>50_Data
A1: Coef | D1: {=TRANSPOSE('GS>50_Coef'!B2:B3)} -> 0.83065803 | E1: -187.122
A2: Year | B2: Month | C2: GS>50_Custs | D2: Population | E2: AftApr14
A3: 2010 | B3: 3 | C3: 4452 | D3: 5655.65 | E3: 0
A4: 2010 | B4: 4 | C4: 4457 | D4: 5663.15 | E4: 0
A5: 2010 | B5: 5 | C5: 4467 | D5: 5670.64 | E5: 0
A6: 2010 | B6: 6 | C6: 4472 | D6: 5678.08 | E6: 0
A7: 2010 | B7: 7 | C7: 4471 | D7: 5685.52 | E7: 0
A8: 2010 | B8: 8 | C8: 4481 | D8: 5692.96 | E8: 0
A9: 2010 | B9: 9 | C9: 4493 | D9: 5700.35 | E9: 0
A10: 2010 | B10: 10 | C10: 4500 | D10: 5707.74 | E10: 0
A11: 2010 | B11: 11 | C11: 4510 | D11: 5715.12 | E11: 0
A12: 2010 | B12: 12 | C12: 4511 | D12: 5721.7 | E12: 0
A13: 2011 | B13: 1 | C13: 4529 | D13: 5728.27 | E13: 0
A14: 2011 | B14: 2 | C14: 4534 | D14: 5734.85 | E14: 0
... A60: 2014 | B60: 12 | C60: 4789 | D60: 6109.17 | E60: 1
A61: 2015 | B61: 1 | D61: 6117.68 | E61: 1
A62: 2015 | B62: 2 | D62: 6126.18 | E62: 1
A63: 2015 | B63: 3 | D63: 6134.8 | E63: 1
A64: 2015 | B64: 4 | D64: 6143.41 | E64: 1
A65: 2015 | B65: 5 | D65: 6152.02 | E65: 1
A66: 2015 | B66: 6 | D66: 6160.75 | E66: 1
A67: 2015 | B67: 7 | D67: 6169.48 | E67: 1
A68: 2015 | B68: 8 | D68: 6178.21 | E68: 1
A69: 2015 | B69: 9 | D69: 6187.06 | E69: 1
A70: 2015 | B70: 10 | D70: 6195.92 | E70: 1
A71: 2015 | B71: 11 | D71: 6204.77 | E71: 1
A72: 2015 | B72: 12 | D72: 6213.8 | E72: 1
... A132: 2020 | B132: 12 | D132: 6804.33 | E132: 1

Sheet GS>50_Coef
A1: Variable | B1: Coefficient | C1: StdErr | D1: T-Stat | E1: P-Value
A2: Population | B2: 0.83065803 | C2: 0.052 | D2: 15.936 | E2: 0
A3: mBin.AftApr14 | B3: -187.122 | C3: 11.572 | D3: -16.17 | E3: 0
A4: AR(1) | B4: 0.985 | C4: 0.026 | D4: 37.762 | E4: 0

Sheet GS>50_MStat
A1: Model Statistics
A2: Adjusted Observations | B2: 57
A3: Deg. of Freedom for Error | B3: 54
A4: R-Squared | B4: 0.993
A5: Adjusted R-Squared | B5: 0.993
A6: Model Sum of Squares | B6: 961524.83
A7: Sum of Squared Errors | B7: 6811.73
A8: Mean Squared Error | B8: 126.14
A9: Std. Error of Regression | B9: 11.23
A10: Mean Abs. Dev. (MAD) | B10: 7.81
A11: Mean Abs. % Err. (MAPE) | B11: 0.0017
A12: Durbin-Watson Statistic | B12: 2.475

Sheet GS>50_Forecast
A1: Year | B1: Month | C1: Actual | D1: Pred
A2: 2015 | B2: 1 | D2: =+'GS>50_Equation'!C2 -> 4797.578
A3: 2015 | B3: 2 | D3: =+'GS>50_Equation'!C3 -> 4806.0936
A4: 2015 | B4: 3 | D4: =+'GS>50_Equation'!C4 -> 4814.687
A5: 2015 | B5: 4 | D5: =+'GS>50_Equation'!C5 -> 4823.2507
A6: 2015 | B6: 5 | D6: =+'GS>50_Equation'!C6 -> 4831.7932
A7: 2015 | B7: 6 | D7: =+'GS>50_Equation'!C7 -> 4840.4144
A8: 2015 | B8: 7 | D8: =+'GS>50_Equation'!C8 -> 4849.0152
A9: 2015 | B9: 8 | D9: =+'GS>50_Equation'!C9 -> 4857.5957
A10: 2015 | B10: 9 | D10: =+'GS>50_Equation'!C10 -> 4866.2559
A11: 2015 | B11: 10 | D11: =+'GS>50_Equation'!C11 -> 4874.9049
A12: 2015 | B12: 11 | D12: =+'GS>50_Equation'!C12 -> 4883.5262
A13: 2015 | B13: 12 | D13: =+'GS>50_Equation'!C13 -> 4892.2779
... A73: 2020 | B73: 12 | D73: =+'GS>50_Equation'!C73 -> 5431.7794
A76: Year | B76: GS>50 Customer Counts from Regression Model Counts Forecast | C76: Allocation from Residential Class | D76: GS>50 Customer Counts Forecast
A77: 2015 | B77: =+D13 -> 4892.2779 | C77: =+Residenital_Forecast!C77/250 -> 3.7426667 | D77: =B77+C77 -> 4896.0206
A78: 2016 | B78: =+D25 -> 4998.1224 | C78: =+Residenital_Forecast!C78/250 -> 7.4853333 | D78: =B78+C78 -> 5005.6078
A79: 2017 | B79: =+D37 -> 5105.5198 | C79: =+Residenital_Forecast!C79/250 -> 11.228 | D79: =B79+C79 -> 5116.7478
A80: 2018 | B80: =+D49 -> 5212.3445 | C80: =+Residenital_Forecast!C80/250 -> 14.970667 | D80: =B80+C80 -> 5227.3151
A81: 2019 | B81: =+D61 -> 5321.2766 | C81: =+Residenital_Forecast!C81/250 -> 18.713333 | D81: =B81+C81 -> 5339.9899
A82: 2020 | B82: =+D73 -> 5431.7794 | C82: =+Residenital_Forecast!C82/250 -> 22.456 | D82: =B82+C82 -> 5454.2354
A83: Note : Reallocation from Residential to GS > 50 kW based on the trend of new condominiums opting for submetering.

Sheet GS>50_Equation
A1: Year | B1: Month | C1: Pred | D1: Population | E1: AftApr14 | F1: ARMA
A2: 2015 | B2: 1 | C2: =SUM(D2:F2) -> 4797.578 | D2: ='GS>50_Data'!D61*'GS>50_Data'!D$1 -> 5081.7 | E2: ='GS>50_Data'!E61*'GS>50_Data'!E$1 -> -187.122 | F2: -97
A3: 2015 | B3: 2 | C3: =SUM(D3:F3) -> 4806.0936 | D3: ='GS>50_Data'!D62*'GS>50_Data'!D$1 -> 5088.7606 | E3: ='GS>50_Data'!E62*'GS>50_Data'!E$1 -> -187.122 | F3: =F2*'GS>50_Coef'!$B$4 -> -95.545
A4: 2015 | B4: 3 | C4: =SUM(D4:F4) -> 4814.687 | D4: ='GS>50_Data'!D63*'GS>50_Data'!D$1 -> 5095.9209 | E4: ='GS>50_Data'!E63*'GS>50_Data'!E$1 -> -187.122 | F4: =F3*'GS>50_Coef'!$B$4 -> -94.111825
A5: 2015 | B5: 4 | C5: =SUM(D5:F5) -> 4823.2507 | D5: ='GS>50_Data'!D64*'GS>50_Data'!D$1 -> 5103.0728 | E5: ='GS>50_Data'!E64*'GS>50_Data'!E$1 -> -187.122 | F5: =F4*'GS>50_Coef'!$B$4 -> -92.700148
A6: 2015 | B6: 5 | C6: =SUM(D6:F6) -> 4831.7932 | D6: ='GS>50_Data'!D65*'GS>50_Data'!D$1 -> 5110.2248 | E6: ='GS>50_Data'!E65*'GS>50_Data'!E$1 -> -187.122 | F6: =F5*'GS>50_Coef'!$B$4 -> -91.309645
A7: 2015 | B7: 6 | C7: =SUM(D7:F7) -> 4840.4144 | D7: ='GS>50_Data'!D66*'GS>50_Data'!D$1 -> 5117.4764 | E7: ='GS>50_Data'!E66*'GS>50_Data'!E$1 -> -187.122 | F7: =F6*'GS>50_Coef'!$B$4 -> -89.940001
A8: 2015 | B8: 7 | C8: =SUM(D8:F8) -> 4849.0152 | D8: ='GS>50_Data'!D67*'GS>50_Data'!D$1 -> 5124.7281 | E8: ='GS>50_Data'!E67*'GS>50_Data'!E$1 -> -187.122 | F8: =F7*'GS>50_Coef'!$B$4 -> -88.590901
A9: 2015 | B9: 8 | C9: =SUM(D9:F9) -> 4857.5957 | D9: ='GS>50_Data'!D68*'GS>50_Data'!D$1 -> 5131.9797 | E9: ='GS>50_Data'!E68*'GS>50_Data'!E$1 -> -187.122 | F9: =F8*'GS>50_Coef'!$B$4 -> -87.262037
A10: 2015 | B10: 9 | C10: =SUM(D10:F10) -> 4866.2559 | D10: ='GS>50_Data'!D69*'GS>50_Data'!D$1 -> 5139.3311 | E10: ='GS>50_Data'!E69*'GS>50_Data'!E$1 -> -187.122 | F10: =F9*'GS>50_Coef'!$B$4 -> -85.953107
A11: 2015 | B11: 10 | C11: =SUM(D11:F11) -> 4874.9049 | D11: ='GS>50_Data'!D70*'GS>50_Data'!D$1 -> 5146.6907 | E11: ='GS>50_Data'!E70*'GS>50_Data'!E$1 -> -187.122 | F11: =F10*'GS>50_Coef'!$B$4 -> -84.66381
A12: 2015 | B12: 11 | C12: =SUM(D12:F12) -> 4883.5262 | D12: ='GS>50_Data'!D71*'GS>50_Data'!D$1 -> 5154.042 | E12: ='GS>50_Data'!E71*'GS>50_Data'!E$1 -> -187.122 | F12: =F11*'GS>50_Coef'!$B$4 -> -83.393853
A13: 2015 | B13: 12 | C13: =SUM(D13:F13) -> 4892.2779 | D13: ='GS>50_Data'!D72*'GS>50_Data'!D$1 -> 5161.5428 | E13: ='GS>50_Data'!E72*'GS>50_Data'!E$1 -> -187.122 | F13: =F12*'GS>50_Coef'!$B$4 -> -82.142945
A14: 2016 | B14: 1 | C14: =SUM(D14:F14) -> 4901.0109 | D14: ='GS>50_Data'!D73*'GS>50_Data'!D$1 -> 5169.0437 | E14: ='GS>50_Data'!E73*'GS>50_Data'!E$1 -> -187.122 | F14: =F13*'GS>50_Coef'!$B$4 -> -80.910801
... A73: 2020 | B73: 12 | C73: =SUM(D73:F73) -> 5431.7794 | D73: ='GS>50_Data'!D132*'GS>50_Data'!D$1 -> 5652.0713 | E73: ='GS>50_Data'!E132*'GS>50_Data'!E$1 -> -187.122 | F73: =F72*'GS>50_Coef'!$B$4 -> -33.169895

Sheet Sentinel_Data
A1: Year | B1: Month | C1: Sentinel_Custs
A2: 2008 | B2: 1 | C2: 142
A3: 2008 | B3: 2 | C3: 142
A4: 2008 | B4: 3 | C4: 142
A5: 2008 | B5: 4 | C5: 141
A6: 2008 | B6: 5 | C6: 141
A7: 2008 | B7: 6 | C7: 141
A8: 2008 | B8: 7 | C8: 141
A9: 2008 | B9: 8 | C9: 140
A10: 2008 | B10: 9 | C10: 140
A11: 2008 | B11: 10 | C11: 140
A12: 2008 | B12: 11 | C12: 140
A13: 2008 | B13: 12 | C13: 141
... A85: 2014 | B85: 12 | C85: 107

Sheet Sentinel_Coef
A1: Variable | B1: Coefficient | C1: StdErr | D1: T-Stat | E1: P-Value
A2: Simple | B2: 1.103 | C2: 0.145 | D2: 7.583 | E2: 0
A3: Trend | B3: -0.276 | C3: 0.031 | D3: -8.891 | E3: 0
A4: Damp Factor | B4: 0.897 | C4: 0.011 | D4: 82.988 | E4: 0

Sheet Sentinel_MStas
A1: Model Statistics
A2: Adjusted Observations | B2: 84
A3: Deg. of Freedom for Error | B3: 81
A4: R-Squared | B4: 0.996
A5: Adjusted R-Squared | B5: 0.996
A6: Model Sum of Squares | B6: 11195
A7: Sum of Squared Errors | B7: 40
A8: Mean Squared Error | B8: 0
A9: Std. Error of Regression | B9: 1
A10: Mean Abs. Dev. (MAD) | B10: 1
A11: Mean Abs. % Err. (MAPE) | B11: 0.0047
A12: Durbin-Watson Statistic | B12: 1.987

Sheet Sentinel_Forecast
A1: Year | B1: Month | C1: Actual | D1: Pred
A2: 2015 | B2: 1 | D2: 106.9
A3: 2015 | B3: 2 | D3: 106.9
A4: 2015 | B4: 3 | D4: 106.8
A5: 2015 | B5: 4 | D5: 106.8
A6: 2015 | B6: 5 | D6: 106.8
A7: 2015 | B7: 6 | D7: 106.7
A8: 2015 | B8: 7 | D8: 106.7
A9: 2015 | B9: 8 | D9: 106.7
A10: 2015 | B10: 9 | D10: 106.7
A11: 2015 | B11: 10 | D11: 106.6
A12: 2015 | B12: 11 | D12: 106.6
A13: 2015 | B13: 12 | D13: 106.6
... A73: 2020 | B73: 12 | D73: 106.4
A76: Year | B76: Sentinel Customer Counts from Regression Model Counts Forecast
A77: 2015 | B77: =+D13 -> 106.6
A78: 2016 | B78: =+D25 -> 106.5
A79: 2017 | B79: =+D37 -> 106.5
A80: 2018 | B80: =+D49 -> 106.4
A81: 2019 | B81: =+D61 -> 106.4
A82: 2020 | B82: =+D73 -> 106.4

Sheet Street Lighting_Data
A1: Coef | D1: =+'Street Lighting_Coef'!B3 -> 0.24202091
A2: Year | B2: Month | C2: StreetLighting_Custs | D2: Res_Custs
A3: 2008 | B3: 1 | C3: 74654 | D3: 270204
A4: 2008 | B4: 2 | C4: 73891 | D4: 270559
A5: 2008 | B5: 3 | C5: 74183 | D5: 270856
A6: 2008 | B6: 4 | C6: 75236 | D6: 271644
A7: 2008 | B7: 5 | C7: 75538 | D7: 272077
A8: 2008 | B8: 6 | C8: 75626 | D8: 272937
A9: 2008 | B9: 7 | C9: 75743 | D9: 273537
A10: 2008 | B10: 8 | C10: 75803 | D10: 274231
A11: 2008 | B11: 9 | C11: 75878 | D11: 275091
A12: 2008 | B12: 10 | C12: 76102 | D12: 276307
A13: 2008 | B13: 11 | C13: 76217 | D13: 277116
A14: 2008 | B14: 12 | C14: 76297 | D14: 277828
... A86: 2014 | B86: 12 | C86: 85990 | D86: 316765
A87: 2015 | B87: 1 | D87: 317323
A88: 2015 | B88: 2 | D88: 317875
A89: 2015 | B89: 3 | D89: 318424
A90: 2015 | B90: 4 | D90: 318970
A91: 2015 | B91: 5 | D91: 319513
A92: 2015 | B92: 6 | D92: 320054
A93: 2015 | B93: 7 | D93: 320592
A94: 2015 | B94: 8 | D94: 321127
A95: 2015 | B95: 9 | D95: 321661
A96: 2015 | B96: 10 | D96: 322195
A97: 2015 | B97: 11 | D97: 322727
A98: 2015 | B98: 12 | D98: 323260
... A158: 2020 | B158: 12 | D158: 357020

Sheet Street Lighting_Coef
A1: Variable | B1: Coefficient | C1: StdErr | D1: T-Stat | E1: P-Value
A2: CONST | B2: 9140.343 | C2: 1235.854 | D2: 7.396 | E2: 0
A3: Res_Custs | B3: 0.24202091 | C3: 0.004 | D3: 57.908 | E3: 0
A4: AR(1) | B4: 0.618 | C4: 0.088 | D4: 7.034 | E4: 0

Sheet Street Lighting_MStat
A1: Model Statistics
A2: Adjusted Observations | B2: 83
A3: Deg. of Freedom for Error | B3: 80
A4: R-Squared | B4: 0.997
A5: Adjusted R-Squared | B5: 0.996
A6: Model Sum of Squares | B6: 8.8550654e+08
A7: Sum of Squared Errors | B7: 3109295.8
A8: Mean Squared Error | B8: 38866.2
A9: Std. Error of Regression | B9: 197.15
A10: Mean Abs. Dev. (MAD) | B10: 116.59
A11: Mean Abs. % Err. (MAPE) | B11: 0.0015
A12: Durbin-Watson Statistic | B12: 1.724

Sheet Street Lighting_Forecast
A1: Year | B1: Month | C1: Actual | D1: Pred
A2: 2015 | B2: 1 | D2: =+'Street Lighting_Equation'!C2 -> 86053.943
A3: 2015 | B3: 2 | D3: =+'Street Lighting_Equation'!C3 -> 86143.685
A4: 2015 | B4: 3 | D4: =+'Street Lighting_Equation'!C4 -> 86249.453
A5: 2015 | B5: 4 | D5: =+'Street Lighting_Equation'!C5 -> 86364.848
A6: 2015 | B6: 5 | D6: =+'Street Lighting_Equation'!C6 -> 86485.914
A7: 2015 | B7: 6 | D7: =+'Street Lighting_Equation'!C7 -> 86610.451
A8: 2015 | B8: 7 | D8: =+'Street Lighting_Equation'!C8 -> 86736.705
A9: 2015 | B9: 8 | D9: =+'Street Lighting_Equation'!C9 -> 86863.743
A10: 2015 | B10: 9 | D10: =+'Street Lighting_Equation'!C10 -> 86991.472
A11: 2015 | B11: 10 | D11: =+'Street Lighting_Equation'!C11 -> 87119.778
A12: 2015 | B12: 11 | D12: =+'Street Lighting_Equation'!C12 -> 87247.957
A13: 2015 | B13: 12 | D13: =+'Street Lighting_Equation'!C13 -> 87376.598
... A73: 2020 | B73: 12 | D73: =+'Street Lighting_Equation'!C73 -> 95546.647
A76: Year | B76: Street Lighting Customer Counts from Regression Model Counts Forecast
A77: 2015 | B77: =+D13 -> 87376.598
A78: 2016 | B78: =+D25 -> 88953.515
A79: 2017 | B79: =+D37 -> 90575.538
A80: 2018 | B80: =+D49 -> 92207.484
A81: 2019 | B81: =+D61 -> 93857.341
A82: 2020 | B82: =+D73 -> 95546.647

Sheet Street Lighting_Equation
A1: Year | B1: Month | C1: Pred | D1: CONST | E1: Res_Custs | F1: ARMA
A2: 2015 | B2: 1 | C2: =SUM(D2:F2) -> 86053.943 | D2: =+'Street Lighting_Coef'!$B$2 -> 9140.343 | E2: ='Street Lighting_Data'!D87*'Street Lighting_Data'!D$1 -> 76798.8 | F2: 114.8
A3: 2015 | B3: 2 | C3: =SUM(D3:F3) -> 86143.685 | D3: =+'Street Lighting_Coef'!$B$2 -> 9140.343 | E3: ='Street Lighting_Data'!D88*'Street Lighting_Data'!D$1 -> 76932.396 | F3: =F2*'Street Lighting_Coef'!$B$4 -> 70.9464
A4: 2015 | B4: 3 | C4: =SUM(D4:F4) -> 86249.453 | D4: =+'Street Lighting_Coef'!$B$2 -> 9140.343 | E4: ='Street Lighting_Data'!D89*'Street Lighting_Data'!D$1 -> 77065.265 | F4: =F3*'Street Lighting_Coef'!$B$4 -> 43.844875
A5: 2015 | B5: 4 | C5: =SUM(D5:F5) -> 86364.848 | D5: =+'Street Lighting_Coef'!$B$2 -> 9140.343 | E5: ='Street Lighting_Data'!D90*'Street Lighting_Data'!D$1 -> 77197.408 | F5: =F4*'Street Lighting_Coef'!$B$4 -> 27.096133
A6: 2015 | B6: 5 | C6: =SUM(D6:F6) -> 86485.914 | D6: =+'Street Lighting_Coef'!$B$2 -> 9140.343 | E6: ='Street Lighting_Data'!D91*'Street Lighting_Data'!D$1 -> 77328.826 | F6: =F5*'Street Lighting_Coef'!$B$4 -> 16.74541
A7: 2015 | B7: 6 | C7: =SUM(D7:F7) -> 86610.451 | D7: =+'Street Lighting_Coef'!$B$2 -> 9140.343 | E7: ='Street Lighting_Data'!D92*'Street Lighting_Data'!D$1 -> 77459.759 | F7: =F6*'Street Lighting_Coef'!$B$4 -> 10.348663
A8: 2015 | B8: 7 | C8: =SUM(D8:F8) -> 86736.705 | D8: =+'Street Lighting_Coef'!$B$2 -> 9140.343 | E8: ='Street Lighting_Data'!D93*'Street Lighting_Data'!D$1 -> 77589.966 | F8: =F7*'Street Lighting_Coef'!$B$4 -> 6.395474
A9: 2015 | B9: 8 | C9: =SUM(D9:F9) -> 86863.743 | D9: =+'Street Lighting_Coef'!$B$2 -> 9140.343 | E9: ='Street Lighting_Data'!D94*'Street Lighting_Data'!D$1 -> 77719.448 | F9: =F8*'Street Lighting_Coef'!$B$4 -> 3.9524029
A10: 2015 | B10: 9 | C10: =SUM(D10:F10) -> 86991.472 | D10: =+'Street Lighting_Coef'!$B$2 -> 9140.343 | E10: ='Street Lighting_Data'!D95*'Street Lighting_Data'!D$1 -> 77848.687 | F10: =F9*'Street Lighting_Coef'!$B$4 -> 2.442585
A11: 2015 | B11: 10 | C11: =SUM(D11:F11) -> 87119.778 | D11: =+'Street Lighting_Coef'!$B$2 -> 9140.343 | E11: ='Street Lighting_Data'!D96*'Street Lighting_Data'!D$1 -> 77977.926 | F11: =F10*'Street Lighting_Coef'!$B$4 -> 1.5095175
A12: 2015 | B12: 11 | C12: =SUM(D12:F12) -> 87247.957 | D12: =+'Street Lighting_Coef'!$B$2 -> 9140.343 | E12: ='Street Lighting_Data'!D97*'Street Lighting_Data'!D$1 -> 78106.681 | F12: =F11*'Street Lighting_Coef'!$B$4 -> 0.93288184
A13: 2015 | B13: 12 | C13: =SUM(D13:F13) -> 87376.598 | D13: =+'Street Lighting_Coef'!$B$2 -> 9140.343 | E13: ='Street Lighting_Data'!D98*'Street Lighting_Data'!D$1 -> 78235.678 | F13: =F12*'Street Lighting_Coef'!$B$4 -> 0.57652098
A14: 2016 | B14: 1 | C14: =SUM(D14:F14) -> 87505.859 | D14: =+'Street Lighting_Coef'!$B$2 -> 9140.343 | E14: ='Street Lighting_Data'!D99*'Street Lighting_Data'!D$1 -> 78365.159 | F14: =F13*'Street Lighting_Coef'!$B$4 -> 0.35628996
... A73: 2020 | B73: 12 | C73: =SUM(D73:F73) -> 95546.647 | D73: =+'Street Lighting_Coef'!$B$2 -> 9140.343 | E73: ='Street Lighting_Data'!D158*'Street Lighting_Data'!D$1 -> 86406.304 | F73: =F72*'Street Lighting_Coef'!$B$4 -> 1.6600594e-13

Sheet USL Data
A1: Year | B1: Month | C1: USLCC
A2: 2008 | B2: 1 | C2: 2346
A3: 2008 | B3: 2 | C3: 2372
A4: 2008 | B4: 3 | C4: 2391
A5: 2008 | B5: 4 | C5: 2394
A6: 2008 | B6: 5 | C6: 2393
A7: 2008 | B7: 6 | C7: 2362
A8: 2008 | B8: 7 | C8: 2368
A9: 2008 | B9: 8 | C9: 2369
A10: 2008 | B10: 9 | C10: 2381
A11: 2008 | B11: 10 | C11: 2387
A12: 2008 | B12: 11 | C12: 2387
A13: 2008 | B13: 12 | C13: 2711
... A85: 2014 | B85: 12 | C85: 2890

Sheet USL Coef
A1: Variable | B1: Coefficient | C1: StdErr | D1: T-Stat | E1: P-Value
A2: Simple | B2: 0.677 | C2: 0.121 | D2: 5.608 | E2: 0
A3: Trend | B3: -0.205 | C3: 0.009 | D3: -23.009 | E3: 0
A4: Damp Factor | B4: 1.012 | C4: 0.001 | D4: 1261.933 | E4: 0

Sheet USL_Mstat
A1: Model Statistics
A2: Adjusted Observations | B2: 84
A3: Deg. of Freedom for Error | B3: 81
A4: R-Squared | B4: 0.951
A5: Adjusted R-Squared | B5: 0.95
A6: Model Sum of Squares | B6: 1886582
A7: Sum of Squared Errors | B7: 96418
A8: Mean Squared Error | B8: 1190
A9: Std. Error of Regression | B9: 35
A10: Mean Abs. Dev. (MAD) | B10: 14
A11: Mean Abs. % Err. (MAPE) | B11: 0.0053
A12: Durbin-Watson Statistic | B12: 1.597

Sheet USL_Forecast
A1: Year | B1: Month | C1: Pred
A2: 2015 | B2: 1 | C2: 2892.5
A3: 2015 | B3: 2 | C3: 2896.9
A4: 2015 | B4: 3 | C4: 2901.2
A5: 2015 | B5: 4 | C5: 2905.7
A6: 2015 | B6: 5 | C6: 2910.1
A7: 2015 | B7: 6 | C7: 2914.6
A8: 2015 | B8: 7 | C8: 2919.2
A9: 2015 | B9: 8 | C9: 2923.8
A10: 2015 | B10: 9 | C10: 2928.5
A11: 2015 | B11: 10 | C11: 2933.3
A12: 2015 | B12: 11 | C12: 2938
A13: 2015 | B13: 12 | C13: 2942.9
... A73: 2020 | B73: 12 | C73: 3363.2
A76: Year | B76: USL Customer Counts from Regression Model Counts Forecast
A77: 2015 | B77: =+C13 -> 2942.9
A78: 2016 | B78: =+C25 -> 3005.6
A79: 2017 | B79: =+C37 -> 3077.5
A80: 2018 | B80: =+C49 -> 3160
A81: 2019 | B81: =+C61 -> 3254.6
A82: 2020 | B82: =+C73 -> 3363.2
