Workbook

Sheet Residential_Data
A1: Coef | D1: =+Residential_Coef!B2 -> 53.414425
A2: Year | B2: Month | C2: Res_Custs | D2: 12 Months Moving Average_Population
A3: 2008 | B3: 1 | C3: 270204 | D3: 5425.37
A4: 2008 | B4: 2 | C4: 270559 | D4: 5432.53
A5: 2008 | B5: 3 | C5: 270856 | D5: 5439.71
A6: 2008 | B6: 4 | C6: 271644 | D6: 5446.91
A7: 2008 | B7: 5 | C7: 272077 | D7: 5454.12
A8: 2008 | B8: 6 | C8: 272937 | D8: 5461.35
A9: 2008 | B9: 7 | C9: 273537 | D9: 5468.58
A10: 2008 | B10: 8 | C10: 274231 | D10: 5475.82
A11: 2008 | B11: 9 | C11: 275091 | D11: 5483.07
A12: 2008 | B12: 10 | C12: 276307 | D12: 5490.32
A13: 2008 | B13: 11 | C13: 277116 | D13: 5497.58
A14: 2008 | B14: 12 | C14: 277828 | D14: 5504.8
... A86: 2014 | B86: 12 | C86: 316765 | D86: 6060.24
A87: 2015 | B87: 1 | D87: 6063.13
A88: 2015 | B88: 2 | D88: 6070.53
A89: 2015 | B89: 3 | D89: 6078.03
A90: 2015 | B90: 4 | D90: 6085.64
A91: 2015 | B91: 5 | D91: 6093.35
A92: 2015 | B92: 6 | D92: 6101.2
A93: 2015 | B93: 7 | D93: 6109.18
A94: 2015 | B94: 8 | D94: 6117.29
A95: 2015 | B95: 9 | D95: 6125.57
A96: 2015 | B96: 10 | D96: 6134.01
A97: 2015 | B97: 11 | D97: 6142.61
A98: 2015 | B98: 12 | D98: 6151.27
... A158: 2020 | B158: 12 | D158: 6725.46

Sheet Residential_Coef
A1: Variable | B1: Coefficient | C1: StdErr | D1: T-Stat | E1: P-Value
A2: mEcon.MA_Pop | B2: 53.414425 | C2: 0.94 | D2: 56.845 | E2: 0
A3: AR(1) | B3: 0.98727424 | C3: 0.006 | D3: 166.536 | E3: 0

Sheet Residential_MStat
A1: Model Statistics
A2: Adjusted Observations | B2: 83
A3: Deg. of Freedom for Error | B3: 81
A4: R-Squared | B4: 1
A5: Adjusted R-Squared | B5: 1
A6: Model Sum of Squares | B6: 1.5153373e+10
A7: Sum of Squared Errors | B7: 4170059.6
A8: Mean Squared Error | B8: 51482.22
A9: Std. Error of Regression | B9: 226.9
A10: Mean Abs. Dev. (MAD) | B10: 177.66
A11: Mean Abs. % Err. (MAPE) | B11: 0.0006
A12: Durbin-Watson Statistic | B12: 1.563

Sheet Residenital_Forecast
A1: Year | B1: Month | C1: Actual | D1: Pred
A2: 2015 | B2: 1 | D2: =+Residential_Equation!C2 -> 317242.1
A3: 2015 | B3: 2 | D3: =+Residential_Equation!C3 -> 317721.57
A4: 2015 | B4: 3 | D4: =+Residential_Equation!C4 -> 318205.3
A5: 2015 | B5: 4 | D5: =+Residential_Equation!C5 -> 318693.86
A6: 2015 | B6: 5 | D6: =+Residential_Equation!C6 -> 319186.71
A7: 2015 | B7: 6 | D7: =+Residential_Equation!C7 -> 319686.01
A8: 2015 | B8: 7 | D8: =+Residential_Equation!C8 -> 320191.23
A9: 2015 | B9: 8 | D9: =+Residential_Equation!C9 -> 320702.39
A10: 2015 | B10: 9 | D10: =+Residential_Equation!C10 -> 321221.65
A11: 2015 | B11: 10 | D11: =+Residential_Equation!C11 -> 321748.46
A12: 2015 | B12: 11 | D12: =+Residential_Equation!C12 -> 322282.86
A13: 2015 | B13: 12 | D13: =+Residential_Equation!C13 -> 322819.51
... A73: 2020 | B73: 12 | D73: =+Residential_Equation!C73 -> 356571.48
A76: Year | B76: Residential Customer Counts from Regression Model Counts Forecast | C76: Allocation to the GS>50 | D76: Residential Customer Counts Forecast
A77: 2015 | B77: =+D13 -> 322819.51 | C77: 935.66667 | D77: =B77-C77 -> 321883.84
A78: 2016 | B78: =+D25 -> 329376.55 | C78: 1871.3333 | D78: =B78-C78 -> 327505.22
A79: 2017 | B79: =+D37 -> 336038.09 | C79: 2807 | D79: =B79-C79 -> 333231.09
A80: 2018 | B80: =+D49 -> 342748.64 | C80: 3742.6667 | D80: =B80-C80 -> 339005.97
A81: 2019 | B81: =+D61 -> 349578.52 | C81: 4678.3333 | D81: =B81-C81 -> 344900.19
A82: 2020 | B82: =+D73 -> 356571.48 | C82: 5614 | D82: =B82-C82 -> 350957.48
A83: Note : Reallocation to GS > 50 kW based on the trend of new condominiums opting for submetering.

Sheet Residential_Equation
A1: Year | B1: Month | C1: Pred | D1: MA_Population | E1: ARMA
A2: 2015 | B2: 1 | C2: =D2+E2 -> 317242.1 | D2: =Residential_Data!D87*Residential_Data!$D$1 -> 323858.6 | E2: -6616.5
A3: 2015 | B3: 2 | C3: =D3+E3 -> 317721.57 | D3: =Residential_Data!D88*Residential_Data!$D$1 -> 324253.87 | E3: =E2*Residential_Coef!$B$3 -> -6532.3
A4: 2015 | B4: 3 | C4: =D4+E4 -> 318205.3 | D4: =Residential_Data!D89*Residential_Data!$D$1 -> 324654.47 | E4: =E3*Residential_Coef!$B$3 -> -6449.1715
A5: 2015 | B5: 4 | C5: =D5+E5 -> 318693.86 | D5: =Residential_Data!D90*Residential_Data!$D$1 -> 325060.96 | E5: =E4*Residential_Coef!$B$3 -> -6367.1009
A6: 2015 | B6: 5 | C6: =D6+E6 -> 319186.71 | D6: =Residential_Data!D91*Residential_Data!$D$1 -> 325472.78 | E6: =E5*Residential_Coef!$B$3 -> -6286.0747
A7: 2015 | B7: 6 | C7: =D7+E7 -> 319686.01 | D7: =Residential_Data!D92*Residential_Data!$D$1 -> 325892.09 | E7: =E6*Residential_Coef!$B$3 -> -6206.0796
A8: 2015 | B8: 7 | C8: =D8+E8 -> 320191.23 | D8: =Residential_Data!D93*Residential_Data!$D$1 -> 326318.33 | E8: =E7*Residential_Coef!$B$3 -> -6127.1025
A9: 2015 | B9: 8 | C9: =D9+E9 -> 320702.39 | D9: =Residential_Data!D94*Residential_Data!$D$1 -> 326751.53 | E9: =E8*Residential_Coef!$B$3 -> -6049.1305
A10: 2015 | B10: 9 | C10: =D10+E10 -> 321221.65 | D10: =Residential_Data!D95*Residential_Data!$D$1 -> 327193.8 | E10: =E9*Residential_Coef!$B$3 -> -5972.1507
A11: 2015 | B11: 10 | C11: =D11+E11 -> 321748.46 | D11: =Residential_Data!D96*Residential_Data!$D$1 -> 327644.61 | E11: =E10*Residential_Coef!$B$3 -> -5896.1505
A12: 2015 | B12: 11 | C12: =D12+E12 -> 322282.86 | D12: =Residential_Data!D97*Residential_Data!$D$1 -> 328103.98 | E12: =E11*Residential_Coef!$B$3 -> -5821.1175
A13: 2015 | B13: 12 | C13: =D13+E13 -> 322819.51 | D13: =Residential_Data!D98*Residential_Data!$D$1 -> 328566.55 | E13: =E12*Residential_Coef!$B$3 -> -5747.0394
A14: 2016 | B14: 1 | C14: =D14+E14 -> 323357.88 | D14: =Residential_Data!D99*Residential_Data!$D$1 -> 329031.79 | E14: =E13*Residential_Coef!$B$3 -> -5673.9039
... A73: 2020 | B73: 12 | C73: =D73+E73 -> 356571.48 | D73: =Residential_Data!D158*Residential_Data!$D$1 -> 359236.58 | E73: =E72*Residential_Coef!$B$3 -> -2665.0936

Sheet GS<50_Data
A1: Coef | D1: {=TRANSPOSE('GS<50_Coef'!B3:B4)} -> 0.056553029 | E1: 350.803
A2: Year | B2: Month | C2: GS<50_Custs | D2: Res_Custs | E2: AftApr14
A3: 2008 | B3: 1 | C3: 28292 | D3: 270204 | E3: 0
A4: 2008 | B4: 2 | C4: 28338 | D4: 270559 | E4: 0
A5: 2008 | B5: 3 | C5: 28411 | D5: 270856 | E5: 0
A6: 2008 | B6: 4 | C6: 28513 | D6: 271644 | E6: 0
A7: 2008 | B7: 5 | C7: 28558 | D7: 272077 | E7: 0
A8: 2008 | B8: 6 | C8: 28544 | D8: 272937 | E8: 0
A9: 2008 | B9: 7 | C9: 28640 | D9: 273537 | E9: 0
A10: 2008 | B10: 8 | C10: 28667 | D10: 274231 | E10: 0
A11: 2008 | B11: 9 | C11: 28751 | D11: 275091 | E11: 0
A12: 2008 | B12: 10 | C12: 28771 | D12: 276307 | E12: 0
A13: 2008 | B13: 11 | C13: 28810 | D13: 277116 | E13: 0
A14: 2008 | B14: 12 | C14: 28892 | D14: 277828 | E14: 0
... A86: 2014 | B86: 12 | C86: 31865 | D86: 316765 | E86: 1
A87: 2015 | B87: 1 | D87: 317242.07 | E87: 1
A88: 2015 | B88: 2 | D88: 317721.71 | E88: 1
A89: 2015 | B89: 3 | D89: 318205.77 | E89: 1
A90: 2015 | B90: 4 | D90: 318694.29 | E90: 1
A91: 2015 | B91: 5 | D91: 319187.25 | E91: 1
A92: 2015 | B92: 6 | D92: 319686.37 | E92: 1
A93: 2015 | B93: 7 | D93: 320191.64 | E93: 1
A94: 2015 | B94: 8 | D94: 320703.09 | E94: 1
A95: 2015 | B95: 9 | D95: 321222.21 | E95: 1
A96: 2015 | B96: 10 | D96: 321749.03 | E96: 1
A97: 2015 | B97: 11 | D97: 322283.55 | E97: 1
A98: 2015 | B98: 12 | D98: 322820.17 | E98: 1
... A158: 2020 | B158: 12 | D158: 356573.25 | E158: 1

Sheet GS<50_Coef
A1: Variable | B1: Coefficient | C1: StdErr | D1: T-Stat | E1: P-Value
A2: CONST | B2: 13592.333 | C2: 2020.531 | D2: 6.727 | E2: 0
A3: ResCusts.Filled | B3: 0.056553029 | C3: 0.007 | D3: 8.534 | E3: 0
A4: mBin.AftApr14 | B4: 350.803 | C4: 50.592 | D4: 6.934 | E4: 0
A5: AR(1) | B5: 0.929 | C5: 0.032 | D5: 28.85 | E5: 0

Sheet GS<50_MStat
A1: Model Statistics
A2: Adjusted Observations | B2: 83
A3: Deg. of Freedom for Error | B3: 79
A4: R-Squared | B4: 0.997
A5: Adjusted R-Squared | B5: 0.997
A6: Model Sum of Squares | B6: 70274628
A7: Sum of Squared Errors | B7: 193784.74
A8: Mean Squared Error | B8: 2452.97
A9: Std. Error of Regression | B9: 49.53
A10: Mean Abs. Dev. (MAD) | B10: 30.07
A11: Mean Abs. % Err. (MAPE) | B11: 0.001
A12: Durbin-Watson Statistic | B12: 1.962

Sheet GS<50_Forecast
A1: Year | B1: Month | C1: Actual | D1: Pred
A2: 2015 | B2: 1 | D2: =+'GS<50_Equation'!C2 -> 31891.436
A3: 2015 | B3: 2 | D3: =+'GS<50_Equation'!C3 -> 31918.043
A4: 2015 | B4: 3 | D4: =+'GS<50_Equation'!C4 -> 31944.936
A5: 2015 | B5: 4 | D5: =+'GS<50_Equation'!C5 -> 31972.116
A6: 2015 | B6: 5 | D6: =+'GS<50_Equation'!C6 -> 31999.579
A7: 2015 | B7: 6 | D7: =+'GS<50_Equation'!C7 -> 32027.42
A8: 2015 | B8: 7 | D8: =+'GS<50_Equation'!C8 -> 32055.636
A9: 2015 | B9: 8 | D9: =+'GS<50_Equation'!C9 -> 32084.227
A10: 2015 | B10: 9 | D10: =+'GS<50_Equation'!C10 -> 32113.275
A11: 2015 | B11: 10 | D11: =+'GS<50_Equation'!C11 -> 32142.781
A12: 2015 | B12: 11 | D12: =+'GS<50_Equation'!C12 -> 32172.742
A13: 2015 | B13: 12 | D13: =+'GS<50_Equation'!C13 -> 32202.842
... A73: 2020 | B73: 12 | D73: =+'GS<50_Equation'!C73 -> 34108.472
A76: Year | B76: GS<50 Customer Counts from Regression Model Counts Forecast
A77: 2015 | B77: =+D13 -> 32202.842
A78: 2016 | B78: =+D25 -> 32571.782
A79: 2017 | B79: =+D37 -> 32947.759
A80: 2018 | B80: =+D49 -> 33326.934
A81: 2019 | B81: =+D61 -> 33713.05
A82: 2020 | B82: =+D73 -> 34108.472

Sheet GS<50_Equation
A1: Year | B1: Month | C1: Pred | D1: CONST | E1: Res_Custs | F1: AftApr14 | G1: ARMA
A2: 2015 | B2: 1 | C2: =SUM(D2:G2) -> 31891.436 | D2: =+'GS<50_Coef'!$B$2 -> 13592.333 | E2: ='GS<50_Data'!D87*'GS<50_Data'!D$1 -> 17941 | F2: ='GS<50_Data'!E87*'GS<50_Data'!E$1 -> 350.803 | G2: 7.3
A3: 2015 | B3: 2 | C3: =SUM(D3:G3) -> 31918.043 | D3: =+'GS<50_Coef'!$B$2 -> 13592.333 | E3: ='GS<50_Data'!D88*'GS<50_Data'!D$1 -> 17968.125 | F3: ='GS<50_Data'!E88*'GS<50_Data'!E$1 -> 350.803 | G3: =G2*'GS<50_Coef'!$B$5 -> 6.7817
A4: 2015 | B4: 3 | C4: =SUM(D4:G4) -> 31944.936 | D4: =+'GS<50_Coef'!$B$2 -> 13592.333 | E4: ='GS<50_Data'!D89*'GS<50_Data'!D$1 -> 17995.5 | F4: ='GS<50_Data'!E89*'GS<50_Data'!E$1 -> 350.803 | G4: =G3*'GS<50_Coef'!$B$5 -> 6.3001993
A5: 2015 | B5: 4 | C5: =SUM(D5:G5) -> 31972.116 | D5: =+'GS<50_Coef'!$B$2 -> 13592.333 | E5: ='GS<50_Data'!D90*'GS<50_Data'!D$1 -> 18023.127 | F5: ='GS<50_Data'!E90*'GS<50_Data'!E$1 -> 350.803 | G5: =G4*'GS<50_Coef'!$B$5 -> 5.8528851
A6: 2015 | B6: 5 | C6: =SUM(D6:G6) -> 31999.579 | D6: =+'GS<50_Coef'!$B$2 -> 13592.333 | E6: ='GS<50_Data'!D91*'GS<50_Data'!D$1 -> 18051.006 | F6: ='GS<50_Data'!E91*'GS<50_Data'!E$1 -> 350.803 | G6: =G5*'GS<50_Coef'!$B$5 -> 5.4373303
A7: 2015 | B7: 6 | C7: =SUM(D7:G7) -> 32027.42 | D7: =+'GS<50_Coef'!$B$2 -> 13592.333 | E7: ='GS<50_Data'!D92*'GS<50_Data'!D$1 -> 18079.233 | F7: ='GS<50_Data'!E92*'GS<50_Data'!E$1 -> 350.803 | G7: =G6*'GS<50_Coef'!$B$5 -> 5.0512799
A8: 2015 | B8: 7 | C8: =SUM(D8:G8) -> 32055.636 | D8: =+'GS<50_Coef'!$B$2 -> 13592.333 | E8: ='GS<50_Data'!D93*'GS<50_Data'!D$1 -> 18107.807 | F8: ='GS<50_Data'!E93*'GS<50_Data'!E$1 -> 350.803 | G8: =G7*'GS<50_Coef'!$B$5 -> 4.692639
A9: 2015 | B9: 8 | C9: =SUM(D9:G9) -> 32084.227 | D9: =+'GS<50_Coef'!$B$2 -> 13592.333 | E9: ='GS<50_Data'!D94*'GS<50_Data'!D$1 -> 18136.731 | F9: ='GS<50_Data'!E94*'GS<50_Data'!E$1 -> 350.803 | G9: =G8*'GS<50_Coef'!$B$5 -> 4.3594616
A10: 2015 | B10: 9 | C10: =SUM(D10:G10) -> 32113.275 | D10: =+'GS<50_Coef'!$B$2 -> 13592.333 | E10: ='GS<50_Data'!D95*'GS<50_Data'!D$1 -> 18166.089 | F10: ='GS<50_Data'!E95*'GS<50_Data'!E$1 -> 350.803 | G10: =G9*'GS<50_Coef'!$B$5 -> 4.0499398
A11: 2015 | B11: 10 | C11: =SUM(D11:G11) -> 32142.781 | D11: =+'GS<50_Coef'!$B$2 -> 13592.333 | E11: ='GS<50_Data'!D96*'GS<50_Data'!D$1 -> 18195.882 | F11: ='GS<50_Data'!E96*'GS<50_Data'!E$1 -> 350.803 | G11: =G10*'GS<50_Coef'!$B$5 -> 3.7623941
A12: 2015 | B12: 11 | C12: =SUM(D12:G12) -> 32172.742 | D12: =+'GS<50_Coef'!$B$2 -> 13592.333 | E12: ='GS<50_Data'!D97*'GS<50_Data'!D$1 -> 18226.111 | F12: ='GS<50_Data'!E97*'GS<50_Data'!E$1 -> 350.803 | G12: =G11*'GS<50_Coef'!$B$5 -> 3.4952641
A13: 2015 | B13: 12 | C13: =SUM(D13:G13) -> 32202.842 | D13: =+'GS<50_Coef'!$B$2 -> 13592.333 | E13: ='GS<50_Data'!D98*'GS<50_Data'!D$1 -> 18256.458 | F13: ='GS<50_Data'!E98*'GS<50_Data'!E$1 -> 350.803 | G13: =G12*'GS<50_Coef'!$B$5 -> 3.2471004
A14: 2016 | B14: 1 | C14: =SUM(D14:G14) -> 32233.078 | D14: =+'GS<50_Coef'!$B$2 -> 13592.333 | E14: ='GS<50_Data'!D99*'GS<50_Data'!D$1 -> 18286.926 | F14: ='GS<50_Data'!E99*'GS<50_Data'!E$1 -> 350.803 | G14: =G13*'GS<50_Coef'!$B$5 -> 3.0165562
... A73: 2020 | B73: 12 | C73: =SUM(D73:G73) -> 34108.472 | D73: =+'GS<50_Coef'!$B$2 -> 13592.333 | E73: ='GS<50_Data'!D158*'GS<50_Data'!D$1 -> 20165.297 | F73: ='GS<50_Data'!E158*'GS<50_Data'!E$1 -> 350.803 | G73: =G72*'GS<50_Coef'!$B$5 -> 0.039123577

Sheet GS>50_Data
A1: Coef | D1: {=TRANSPOSE('GS>50_Coef'!B2:B3)} -> 0.85315907 | E1: -186.272
A2: Year | B2: Month | C2: GS>50_Custs | D2: Population | E2: AftApr14
A3: 2010 | B3: 3 | C3: 4452 | D3: 5655.65 | E3: 0
A4: 2010 | B4: 4 | C4: 4457 | D4: 5663.15 | E4: 0
A5: 2010 | B5: 5 | C5: 4467 | D5: 5670.64 | E5: 0
A6: 2010 | B6: 6 | C6: 4472 | D6: 5678.08 | E6: 0
A7: 2010 | B7: 7 | C7: 4471 | D7: 5685.52 | E7: 0
A8: 2010 | B8: 8 | C8: 4481 | D8: 5692.96 | E8: 0
A9: 2010 | B9: 9 | C9: 4493 | D9: 5700.35 | E9: 0
A10: 2010 | B10: 10 | C10: 4500 | D10: 5707.74 | E10: 0
A11: 2010 | B11: 11 | C11: 4510 | D11: 5715.12 | E11: 0
A12: 2010 | B12: 12 | C12: 4511 | D12: 5721.7 | E12: 0
A13: 2011 | B13: 1 | C13: 4529 | D13: 5728.27 | E13: 0
A14: 2011 | B14: 2 | C14: 4534 | D14: 5734.85 | E14: 0
... A60: 2014 | B60: 12 | C60: 4789 | D60: 6109.17 | E60: 1
A61: 2015 | B61: 1 | D61: 6104.02 | E61: 1
A62: 2015 | B62: 2 | D62: 6112.29 | E62: 1
A63: 2015 | B63: 3 | D63: 6120.81 | E63: 1
A64: 2015 | B64: 4 | D64: 6129.32 | E64: 1
A65: 2015 | B65: 5 | D65: 6137.84 | E65: 1
A66: 2015 | B66: 6 | D66: 6146.57 | E66: 1
A67: 2015 | B67: 7 | D67: 6155.29 | E67: 1
A68: 2015 | B68: 8 | D68: 6164.02 | E68: 1
A69: 2015 | B69: 9 | D69: 6172.91 | E69: 1
A70: 2015 | B70: 10 | D70: 6181.8 | E70: 1
A71: 2015 | B71: 11 | D71: 6190.7 | E71: 1
A72: 2015 | B72: 12 | D72: 6199.66 | E72: 1
... A132: 2020 | B132: 12 | D132: 6782.45 | E132: 1

Sheet GS>50_Coef
A1: Variable | B1: Coefficient | C1: StdErr | D1: T-Stat | E1: P-Value
A2: Economics.Pop | B2: 0.85315907 | C2: 0.148 | D2: 5.752 | E2: 0
A3: mBin.AftApr14 | B3: -186.272 | C3: 11.506 | D3: -16.189 | E3: 0
A4: AR(1) | B4: 0.99149888 | C4: 0.027 | D4: 36.89 | E4: 0

Sheet GS>50_MStat
A1: Model Statistics
A2: Adjusted Observations | B2: 57
A3: Deg. of Freedom for Error | B3: 54
A4: R-Squared | B4: 0.993
A5: Adjusted R-Squared | B5: 0.993
A6: Model Sum of Squares | B6: 961542.93
A7: Sum of Squared Errors | B7: 6793.64
A8: Mean Squared Error | B8: 125.81
A9: Std. Error of Regression | B9: 11.22
A10: Mean Abs. Dev. (MAD) | B10: 7.76
A11: Mean Abs. % Err. (MAPE) | B11: 0.0016
A12: Durbin-Watson Statistic | B12: 2.501

Sheet GS>50_Forecast
A1: Year | B1: Month | C1: Actual | D1: Pred
A2: 2015 | B2: 1 | D2: =+'GS>50_Equation'!C2 -> 4797.928
A3: 2015 | B3: 2 | D3: =+'GS>50_Equation'!C3 -> 4806.8836
A4: 2015 | B4: 3 | D4: =+'GS>50_Equation'!C4 -> 4816.0364
A5: 2015 | B5: 4 | D5: =+'GS>50_Equation'!C5 -> 4825.1646
A6: 2015 | B6: 5 | D6: =+'GS>50_Equation'!C6 -> 4834.2855
A7: 2015 | B7: 6 | D7: =+'GS>50_Equation'!C7 -> 4843.5698
A8: 2015 | B8: 7 | D8: =+'GS>50_Equation'!C8 -> 4852.8299
A9: 2015 | B9: 8 | D9: =+'GS>50_Equation'!C9 -> 4862.0831
A10: 2015 | B10: 9 | D10: =+'GS>50_Equation'!C10 -> 4871.4575
A11: 2015 | B11: 10 | D11: =+'GS>50_Equation'!C11 -> 4880.8166
A12: 2015 | B12: 11 | D12: =+'GS>50_Equation'!C12 -> 4890.1692
A13: 2015 | B13: 12 | D13: =+'GS>50_Equation'!C13 -> 4899.558
... A73: 2020 | B73: 12 | D73: =+'GS>50_Equation'!C73 -> 5478.3305
A76: Year | B76: GS>50 Customer Counts from Regression Model Counts Forecast | C76: Allocation from Residential Class | D76: GS>50 Customer Counts Forecast
A77: 2015 | B77: =+D13 -> 4899.558 | C77: =+Residenital_Forecast!C77/250 -> 3.7426667 | D77: =B77+C77 -> 4903.3007
A78: 2016 | B78: =+D25 -> 5012.9453 | C78: =+Residenital_Forecast!C78/250 -> 7.4853333 | D78: =B78+C78 -> 5020.4306
A79: 2017 | B79: =+D37 -> 5127.176 | C79: =+Residenital_Forecast!C79/250 -> 11.228 | D79: =B79+C79 -> 5138.404
A80: 2018 | B80: =+D49 -> 5242.0627 | C80: =+Residenital_Forecast!C80/250 -> 14.970667 | D80: =B80+C80 -> 5257.0334
A81: 2019 | B81: =+D61 -> 5359.4471 | C81: =+Residenital_Forecast!C81/250 -> 18.713333 | D81: =B81+C81 -> 5378.1604
A82: 2020 | B82: =+D73 -> 5478.3305 | C82: =+Residenital_Forecast!C82/250 -> 22.456 | D82: =B82+C82 -> 5500.7865
A83: Note : Reallocation from Residential to GS > 50 kW based on the trend of new condominiums opting for submetering.

Sheet GS>50_Equation
A1: Year | B1: Month | C1: Pred | D1: Population | E1: AftApr14 | F1: ARMA
A2: 2015 | B2: 1 | C2: =SUM(D2:F2) -> 4797.928 | D2: ='GS>50_Data'!D61*'GS>50_Data'!D$1 -> 5207.7 | E2: ='GS>50_Data'!E61*'GS>50_Data'!E$1 -> -186.272 | F2: -223.5
A3: 2015 | B3: 2 | C3: =SUM(D3:F3) -> 4806.8836 | D3: ='GS>50_Data'!D62*'GS>50_Data'!D$1 -> 5214.7556 | E3: ='GS>50_Data'!E62*'GS>50_Data'!E$1 -> -186.272 | F3: =F2*'GS>50_Coef'!$B$4 -> -221.6
A4: 2015 | B4: 3 | C4: =SUM(D4:F4) -> 4816.0364 | D4: ='GS>50_Data'!D63*'GS>50_Data'!D$1 -> 5222.0245 | E4: ='GS>50_Data'!E63*'GS>50_Data'!E$1 -> -186.272 | F4: =F3*'GS>50_Coef'!$B$4 -> -219.71615
A5: 2015 | B5: 4 | C5: =SUM(D5:F5) -> 4825.1646 | D5: ='GS>50_Data'!D64*'GS>50_Data'!D$1 -> 5229.2849 | E5: ='GS>50_Data'!E64*'GS>50_Data'!E$1 -> -186.272 | F5: =F4*'GS>50_Coef'!$B$4 -> -217.84832
A6: 2015 | B6: 5 | C6: =SUM(D6:F6) -> 4834.2855 | D6: ='GS>50_Data'!D65*'GS>50_Data'!D$1 -> 5236.5538 | E6: ='GS>50_Data'!E65*'GS>50_Data'!E$1 -> -186.272 | F6: =F5*'GS>50_Coef'!$B$4 -> -215.99636
A7: 2015 | B7: 6 | C7: =SUM(D7:F7) -> 4843.5698 | D7: ='GS>50_Data'!D66*'GS>50_Data'!D$1 -> 5244.0019 | E7: ='GS>50_Data'!E66*'GS>50_Data'!E$1 -> -186.272 | F7: =F6*'GS>50_Coef'!$B$4 -> -214.16015
A8: 2015 | B8: 7 | C8: =SUM(D8:F8) -> 4852.8299 | D8: ='GS>50_Data'!D67*'GS>50_Data'!D$1 -> 5251.4415 | E8: ='GS>50_Data'!E67*'GS>50_Data'!E$1 -> -186.272 | F8: =F7*'GS>50_Coef'!$B$4 -> -212.33955
A9: 2015 | B9: 8 | C9: =SUM(D9:F9) -> 4862.0831 | D9: ='GS>50_Data'!D68*'GS>50_Data'!D$1 -> 5258.8895 | E9: ='GS>50_Data'!E68*'GS>50_Data'!E$1 -> -186.272 | F9: =F8*'GS>50_Coef'!$B$4 -> -210.53443
A10: 2015 | B10: 9 | C10: =SUM(D10:F10) -> 4871.4575 | D10: ='GS>50_Data'!D69*'GS>50_Data'!D$1 -> 5266.4741 | E10: ='GS>50_Data'!E69*'GS>50_Data'!E$1 -> -186.272 | F10: =F9*'GS>50_Coef'!$B$4 -> -208.74465
A11: 2015 | B11: 10 | C11: =SUM(D11:F11) -> 4880.8166 | D11: ='GS>50_Data'!D70*'GS>50_Data'!D$1 -> 5274.0587 | E11: ='GS>50_Data'!E70*'GS>50_Data'!E$1 -> -186.272 | F11: =F10*'GS>50_Coef'!$B$4 -> -206.97009
A12: 2015 | B12: 11 | C12: =SUM(D12:F12) -> 4890.1692 | D12: ='GS>50_Data'!D71*'GS>50_Data'!D$1 -> 5281.6518 | E12: ='GS>50_Data'!E71*'GS>50_Data'!E$1 -> -186.272 | F12: =F11*'GS>50_Coef'!$B$4 -> -205.21061
A13: 2015 | B13: 12 | C13: =SUM(D13:F13) -> 4899.558 | D13: ='GS>50_Data'!D72*'GS>50_Data'!D$1 -> 5289.2961 | E13: ='GS>50_Data'!E72*'GS>50_Data'!E$1 -> -186.272 | F13: =F12*'GS>50_Coef'!$B$4 -> -203.46609
A14: 2016 | B14: 1 | C14: =SUM(D14:F14) -> 4908.9235 | D14: ='GS>50_Data'!D73*'GS>50_Data'!D$1 -> 5296.9319 | E14: ='GS>50_Data'!E73*'GS>50_Data'!E$1 -> -186.272 | F14: =F13*'GS>50_Coef'!$B$4 -> -201.7364
... A73: 2020 | B73: 12 | C73: =SUM(D73:F73) -> 5478.3305 | D73: ='GS>50_Data'!D132*'GS>50_Data'!D$1 -> 5786.5087 | E73: ='GS>50_Data'!E132*'GS>50_Data'!E$1 -> -186.272 | F73: =F72*'GS>50_Coef'!$B$4 -> -121.90619

Sheet Sentinel_Data
A1: Year | B1: Month | C1: Sentinel_Custs
A2: 2008 | B2: 1 | C2: 142
A3: 2008 | B3: 2 | C3: 142
A4: 2008 | B4: 3 | C4: 142
A5: 2008 | B5: 4 | C5: 141
A6: 2008 | B6: 5 | C6: 141
A7: 2008 | B7: 6 | C7: 141
A8: 2008 | B8: 7 | C8: 141
A9: 2008 | B9: 8 | C9: 140
A10: 2008 | B10: 9 | C10: 140
A11: 2008 | B11: 10 | C11: 140
A12: 2008 | B12: 11 | C12: 140
A13: 2008 | B13: 12 | C13: 141
... A85: 2014 | B85: 12 | C85: 107

Sheet Sentinel_Coef
A1: Variable | B1: Coefficient | C1: StdErr | D1: T-Stat | E1: P-Value
A2: Simple | B2: 1.1030329 | C2: 0.145 | D2: 7.583 | E2: 0
A3: Trend | B3: -0.27566349 | C3: 0.031 | D3: -8.891 | E3: 0
A4: Damp Factor | B4: 0.89705479 | C4: 0.011 | D4: 82.988 | E4: 0

Sheet Sentinel_MStas
A1: Model Statistics
A2: Adjusted Observations | B2: 84
A3: Deg. of Freedom for Error | B3: 81
A4: R-Squared | B4: 0.996
A5: Adjusted R-Squared | B5: 0.996
A6: Model Sum of Squares | B6: 11195
A7: Sum of Squared Errors | B7: 40
A8: Mean Squared Error | B8: 0
A9: Std. Error of Regression | B9: 1
A10: Mean Abs. Dev. (MAD) | B10: 1
A11: Mean Abs. % Err. (MAPE) | B11: 0.0047
A12: Durbin-Watson Statistic | B12: 1.987

Sheet Sentinel_Forecast
A1: Year | B1: Month | C1: Actual | D1: Pred
A2: 2015 | B2: 1 | D2: =Sentinel_Equation!C2 -> 106.94716
A3: 2015 | B3: 2 | D3: =Sentinel_Equation!C3 -> 106.89546
A4: 2015 | B4: 3 | D4: =Sentinel_Equation!C4 -> 106.84909
A5: 2015 | B5: 4 | D5: =Sentinel_Equation!C5 -> 106.80748
A6: 2015 | B6: 5 | D6: =Sentinel_Equation!C6 -> 106.77017
A7: 2015 | B7: 6 | D7: =Sentinel_Equation!C7 -> 106.73669
A8: 2015 | B8: 7 | D8: =Sentinel_Equation!C8 -> 106.70666
A9: 2015 | B9: 8 | D9: =Sentinel_Equation!C9 -> 106.67972
A10: 2015 | B10: 9 | D10: =Sentinel_Equation!C10 -> 106.65555
A11: 2015 | B11: 10 | D11: =Sentinel_Equation!C11 -> 106.63387
A12: 2015 | B12: 11 | D12: =Sentinel_Equation!C12 -> 106.61443
A13: 2015 | B13: 12 | D13: =Sentinel_Equation!C13 -> 106.59698
... A73: 2020 | B73: 12 | D73: =Sentinel_Equation!C73 -> 106.4452
A76: Year | B76: Sentinel Customer Counts from Regression Model Counts Forecast
A77: 2015 | B77: =+D13 -> 106.59698
A78: 2016 | B78: =+D25 -> 106.48625
A79: 2017 | B79: =+D37 -> 106.45618
A80: 2018 | B80: =+D49 -> 106.44802
A81: 2019 | B81: =+D61 -> 106.4458
A82: 2020 | B82: =+D73 -> 106.4452

Sheet Sentinel_Equation
A1: Year | B1: Month | C1: Pred | D1: Ybar | E1: Ytrend
A2: 2015 | B2: 1 | C2: 106.94716 | D2: 106.94716 | E2: -0.05763067
A3: 2015 | B3: 2 | C3: =D2+(E2*Sentinel_Coef!$B$4) -> 106.89546 | D3: =Sentinel_Coef!$B$2*C3+(1-Sentinel_Coef!$B$2)*(D2+Sentinel_Coef!$B$4*E2) -> 106.89546 | E3: =Sentinel_Coef!$B$3*(D3-D2)+(1-Sentinel_Coef!$B$3)*Sentinel_Coef!$B$4*E2 -> -0.051697868
A4: 2015 | B4: 3 | C4: =D3+(E3*Sentinel_Coef!$B$4) -> 106.84909 | D4: =Sentinel_Coef!$B$2*C4+(1-Sentinel_Coef!$B$2)*(D3+Sentinel_Coef!$B$4*E3) -> 106.84909 | E4: =Sentinel_Coef!$B$3*(D4-D3)+(1-Sentinel_Coef!$B$3)*Sentinel_Coef!$B$4*E3 -> -0.046375821
A5: 2015 | B5: 4 | C5: =D4+(E4*Sentinel_Coef!$B$4) -> 106.80748 | D5: =Sentinel_Coef!$B$2*C5+(1-Sentinel_Coef!$B$2)*(D4+Sentinel_Coef!$B$4*E4) -> 106.80748 | E5: =Sentinel_Coef!$B$3*(D5-D4)+(1-Sentinel_Coef!$B$3)*Sentinel_Coef!$B$4*E4 -> -0.041601652
A6: 2015 | B6: 5 | C6: =D5+(E5*Sentinel_Coef!$B$4) -> 106.77017 | D6: =Sentinel_Coef!$B$2*C6+(1-Sentinel_Coef!$B$2)*(D5+Sentinel_Coef!$B$4*E5) -> 106.77017 | E6: =Sentinel_Coef!$B$3*(D6-D5)+(1-Sentinel_Coef!$B$3)*Sentinel_Coef!$B$4*E5 -> -0.037318961
A7: 2015 | B7: 6 | C7: =D6+(E6*Sentinel_Coef!$B$4) -> 106.73669 | D7: =Sentinel_Coef!$B$2*C7+(1-Sentinel_Coef!$B$2)*(D6+Sentinel_Coef!$B$4*E6) -> 106.73669 | E7: =Sentinel_Coef!$B$3*(D7-D6)+(1-Sentinel_Coef!$B$3)*Sentinel_Coef!$B$4*E6 -> -0.033477153
A8: 2015 | B8: 7 | C8: =D7+(E7*Sentinel_Coef!$B$4) -> 106.70666 | D8: =Sentinel_Coef!$B$2*C8+(1-Sentinel_Coef!$B$2)*(D7+Sentinel_Coef!$B$4*E7) -> 106.70666 | E8: =Sentinel_Coef!$B$3*(D8-D7)+(1-Sentinel_Coef!$B$3)*Sentinel_Coef!$B$4*E7 -> -0.03003084
A9: 2015 | B9: 8 | C9: =D8+(E8*Sentinel_Coef!$B$4) -> 106.67972 | D9: =Sentinel_Coef!$B$2*C9+(1-Sentinel_Coef!$B$2)*(D8+Sentinel_Coef!$B$4*E8) -> 106.67972 | E9: =Sentinel_Coef!$B$3*(D9-D8)+(1-Sentinel_Coef!$B$3)*Sentinel_Coef!$B$4*E8 -> -0.026939309
A10: 2015 | B10: 9 | C10: =D9+(E9*Sentinel_Coef!$B$4) -> 106.65555 | D10: =Sentinel_Coef!$B$2*C10+(1-Sentinel_Coef!$B$2)*(D9+Sentinel_Coef!$B$4*E9) -> 106.65555 | E10: =Sentinel_Coef!$B$3*(D10-D9)+(1-Sentinel_Coef!$B$3)*Sentinel_Coef!$B$4*E9 -> -0.024166036
A11: 2015 | B11: 10 | C11: =D10+(E10*Sentinel_Coef!$B$4) -> 106.63387 | D11: =Sentinel_Coef!$B$2*C11+(1-Sentinel_Coef!$B$2)*(D10+Sentinel_Coef!$B$4*E10) -> 106.63387 | E11: =Sentinel_Coef!$B$3*(D11-D10)+(1-Sentinel_Coef!$B$3)*Sentinel_Coef!$B$4*E10 -> -0.021678259
A12: 2015 | B12: 11 | C12: =D11+(E11*Sentinel_Coef!$B$4) -> 106.61443 | D12: =Sentinel_Coef!$B$2*C12+(1-Sentinel_Coef!$B$2)*(D11+Sentinel_Coef!$B$4*E11) -> 106.61443 | E12: =Sentinel_Coef!$B$3*(D12-D11)+(1-Sentinel_Coef!$B$3)*Sentinel_Coef!$B$4*E11 -> -0.019446586
A13: 2015 | B13: 12 | C13: =D12+(E12*Sentinel_Coef!$B$4) -> 106.59698 | D13: =Sentinel_Coef!$B$2*C13+(1-Sentinel_Coef!$B$2)*(D12+Sentinel_Coef!$B$4*E12) -> 106.59698 | E13: =Sentinel_Coef!$B$3*(D13-D12)+(1-Sentinel_Coef!$B$3)*Sentinel_Coef!$B$4*E12 -> -0.017444653
A14: 2016 | B14: 1 | C14: =D13+(E13*Sentinel_Coef!$B$4) -> 106.58133 | D14: =Sentinel_Coef!$B$2*C14+(1-Sentinel_Coef!$B$2)*(D13+Sentinel_Coef!$B$4*E13) -> 106.58133 | E14: =Sentinel_Coef!$B$3*(D14-D13)+(1-Sentinel_Coef!$B$3)*Sentinel_Coef!$B$4*E13 -> -0.01564881
... A73: 2020 | B73: 12 | C73: =D72+(E72*Sentinel_Coef!$B$4) -> 106.4452 | D73: =Sentinel_Coef!$B$2*C73+(1-Sentinel_Coef!$B$2)*(D72+Sentinel_Coef!$B$4*E72) -> 106.4452 | E73: =Sentinel_Coef!$B$3*(D73-D72)+(1-Sentinel_Coef!$B$3)*Sentinel_Coef!$B$4*E72 -> -2.5751381e-05

Sheet Street Lighting_Data
A1: Coef | D1: =+'Street Lighting_Coef'!B3 -> 0.24202092
A2: Year | B2: Month | C2: StreetLighting_Custs | D2: Res_Custs
A3: 2008 | B3: 1 | C3: 74654 | D3: 270204
A4: 2008 | B4: 2 | C4: 73891 | D4: 270559
A5: 2008 | B5: 3 | C5: 74183 | D5: 270856
A6: 2008 | B6: 4 | C6: 75236 | D6: 271644
A7: 2008 | B7: 5 | C7: 75538 | D7: 272077
A8: 2008 | B8: 6 | C8: 75626 | D8: 272937
A9: 2008 | B9: 7 | C9: 75743 | D9: 273537
A10: 2008 | B10: 8 | C10: 75803 | D10: 274231
A11: 2008 | B11: 9 | C11: 75878 | D11: 275091
A12: 2008 | B12: 10 | C12: 76102 | D12: 276307
A13: 2008 | B13: 11 | C13: 76217 | D13: 277116
A14: 2008 | B14: 12 | C14: 76297 | D14: 277828
... A86: 2014 | B86: 12 | C86: 85990 | D86: 316765
A87: 2015 | B87: 1 | D87: 317242
A88: 2015 | B88: 2 | D88: 317722
A89: 2015 | B89: 3 | D89: 318206
A90: 2015 | B90: 4 | D90: 318694
A91: 2015 | B91: 5 | D91: 319187
A92: 2015 | B92: 6 | D92: 319686
A93: 2015 | B93: 7 | D93: 320192
A94: 2015 | B94: 8 | D94: 320703
A95: 2015 | B95: 9 | D95: 321222
A96: 2015 | B96: 10 | D96: 321749
A97: 2015 | B97: 11 | D97: 322284
A98: 2015 | B98: 12 | D98: 322820
... A158: 2020 | B158: 12 | D158: 356573

Sheet Street Lighting_Coef
A1: Variable | B1: Coefficient | C1: StdErr | D1: T-Stat | E1: P-Value
A2: CONST | B2: 9140.343 | C2: 1235.854 | D2: 7.396 | E2: 0
A3: mBuildupFcst.Res_Custs | B3: 0.24202092 | C3: 0.004 | D3: 57.908 | E3: 0
A4: AR(1) | B4: 0.618 | C4: 0.088 | D4: 7.034 | E4: 0

Sheet Street Lighting_MStat
A1: Model Statistics
A2: Adjusted Observations | B2: 83
A3: Deg. of Freedom for Error | B3: 80
A4: R-Squared | B4: 0.997
A5: Adjusted R-Squared | B5: 0.996
A6: Model Sum of Squares | B6: 8.8550654e+08
A7: Sum of Squared Errors | B7: 3109295.8
A8: Mean Squared Error | B8: 38866.2
A9: Std. Error of Regression | B9: 197.15
A10: Mean Abs. Dev. (MAD) | B10: 116.59
A11: Mean Abs. % Err. (MAPE) | B11: 0.0015
A12: Durbin-Watson Statistic | B12: 1.724

Sheet Street Lighting_Forecast
A1: Year | B1: Month | C1: Actual | D1: Pred
A2: 2015 | B2: 1 | D2: =+'Street Lighting_Equation'!C2 -> 86034.343
A3: 2015 | B3: 2 | D3: =+'Street Lighting_Equation'!C3 -> 86106.659
A4: 2015 | B4: 3 | D4: =+'Street Lighting_Equation'!C4 -> 86196.696
A5: 2015 | B5: 4 | D5: =+'Street Lighting_Equation'!C5 -> 86298.054
A6: 2015 | B6: 5 | D6: =+'Street Lighting_Equation'!C6 -> 86407.019
A7: 2015 | B7: 6 | D7: =+'Street Lighting_Equation'!C7 -> 86521.391
A8: 2015 | B8: 7 | D8: =+'Street Lighting_Equation'!C8 -> 86639.9
A9: 2015 | B9: 8 | D9: =+'Street Lighting_Equation'!C9 -> 86761.13
A10: 2015 | B10: 9 | D10: =+'Street Lighting_Equation'!C10 -> 86885.229
A11: 2015 | B11: 10 | D11: =+'Street Lighting_Equation'!C11 -> 87011.841
A12: 2015 | B12: 11 | D12: =+'Street Lighting_Equation'!C12 -> 87140.745
A13: 2015 | B13: 12 | D13: =+'Street Lighting_Equation'!C13 -> 87270.112
... A73: 2020 | B73: 12 | D73: =+'Street Lighting_Equation'!C73 -> 95438.468
A76: Year | B76: Street Lighting Customer Counts from Regression Model Counts Forecast
A77: 2015 | B77: =+D13 -> 87270.112
A78: 2016 | B78: =+D25 -> 88856.711
A79: 2017 | B79: =+D37 -> 90469.052
A80: 2018 | B80: =+D49 -> 92093.013
A81: 2019 | B81: =+D61 -> 93746.015
A82: 2020 | B82: =+D73 -> 95438.468

Sheet Street Lighting_Equation
A1: Year | B1: Month | C1: Pred | D1: CONST | E1: Res_Custs | F1: ARMA
A2: 2015 | B2: 1 | C2: =SUM(D2:F2) -> 86034.343 | D2: =+'Street Lighting_Coef'!$B$2 -> 9140.343 | E2: ='Street Lighting_Data'!D87*'Street Lighting_Data'!D$1 -> 76779.2 | F2: 114.8
A3: 2015 | B3: 2 | C3: =SUM(D3:F3) -> 86106.659 | D3: =+'Street Lighting_Coef'!$B$2 -> 9140.343 | E3: ='Street Lighting_Data'!D88*'Street Lighting_Data'!D$1 -> 76895.37 | F3: =F2*'Street Lighting_Coef'!$B$4 -> 70.9464
A4: 2015 | B4: 3 | C4: =SUM(D4:F4) -> 86196.696 | D4: =+'Street Lighting_Coef'!$B$2 -> 9140.343 | E4: ='Street Lighting_Data'!D89*'Street Lighting_Data'!D$1 -> 77012.508 | F4: =F3*'Street Lighting_Coef'!$B$4 -> 43.844875
A5: 2015 | B5: 4 | C5: =SUM(D5:F5) -> 86298.054 | D5: =+'Street Lighting_Coef'!$B$2 -> 9140.343 | E5: ='Street Lighting_Data'!D90*'Street Lighting_Data'!D$1 -> 77130.614 | F5: =F4*'Street Lighting_Coef'!$B$4 -> 27.096133
A6: 2015 | B6: 5 | C6: =SUM(D6:F6) -> 86407.019 | D6: =+'Street Lighting_Coef'!$B$2 -> 9140.343 | E6: ='Street Lighting_Data'!D91*'Street Lighting_Data'!D$1 -> 77249.931 | F6: =F5*'Street Lighting_Coef'!$B$4 -> 16.74541
A7: 2015 | B7: 6 | C7: =SUM(D7:F7) -> 86521.391 | D7: =+'Street Lighting_Coef'!$B$2 -> 9140.343 | E7: ='Street Lighting_Data'!D92*'Street Lighting_Data'!D$1 -> 77370.699 | F7: =F6*'Street Lighting_Coef'!$B$4 -> 10.348663
A8: 2015 | B8: 7 | C8: =SUM(D8:F8) -> 86639.9 | D8: =+'Street Lighting_Coef'!$B$2 -> 9140.343 | E8: ='Street Lighting_Data'!D93*'Street Lighting_Data'!D$1 -> 77493.162 | F8: =F7*'Street Lighting_Coef'!$B$4 -> 6.395474
A9: 2015 | B9: 8 | C9: =SUM(D9:F9) -> 86761.13 | D9: =+'Street Lighting_Coef'!$B$2 -> 9140.343 | E9: ='Street Lighting_Data'!D94*'Street Lighting_Data'!D$1 -> 77616.834 | F9: =F8*'Street Lighting_Coef'!$B$4 -> 3.9524029
A10: 2015 | B10: 9 | C10: =SUM(D10:F10) -> 86885.229 | D10: =+'Street Lighting_Coef'!$B$2 -> 9140.343 | E10: ='Street Lighting_Data'!D95*'Street Lighting_Data'!D$1 -> 77742.443 | F10: =F9*'Street Lighting_Coef'!$B$4 -> 2.442585
A11: 2015 | B11: 10 | C11: =SUM(D11:F11) -> 87011.841 | D11: =+'Street Lighting_Coef'!$B$2 -> 9140.343 | E11: ='Street Lighting_Data'!D96*'Street Lighting_Data'!D$1 -> 77869.988 | F11: =F10*'Street Lighting_Coef'!$B$4 -> 1.5095175
A12: 2015 | B12: 11 | C12: =SUM(D12:F12) -> 87140.745 | D12: =+'Street Lighting_Coef'!$B$2 -> 9140.343 | E12: ='Street Lighting_Data'!D97*'Street Lighting_Data'!D$1 -> 77999.469 | F12: =F11*'Street Lighting_Coef'!$B$4 -> 0.93288184
A13: 2015 | B13: 12 | C13: =SUM(D13:F13) -> 87270.112 | D13: =+'Street Lighting_Coef'!$B$2 -> 9140.343 | E13: ='Street Lighting_Data'!D98*'Street Lighting_Data'!D$1 -> 78129.193 | F13: =F12*'Street Lighting_Coef'!$B$4 -> 0.57652098
A14: 2016 | B14: 1 | C14: =SUM(D14:F14) -> 87400.341 | D14: =+'Street Lighting_Coef'!$B$2 -> 9140.343 | E14: ='Street Lighting_Data'!D99*'Street Lighting_Data'!D$1 -> 78259.642 | F14: =F13*'Street Lighting_Coef'!$B$4 -> 0.35628996
... A73: 2020 | B73: 12 | C73: =SUM(D73:F73) -> 95438.468 | D73: =+'Street Lighting_Coef'!$B$2 -> 9140.343 | E73: ='Street Lighting_Data'!D158*'Street Lighting_Data'!D$1 -> 86298.125 | F73: =F72*'Street Lighting_Coef'!$B$4 -> 1.6600594e-13

Sheet USL Data
A1: Year | B1: Month | C1: USLCC
A2: 2008 | B2: 1 | C2: 2346
A3: 2008 | B3: 2 | C3: 2372
A4: 2008 | B4: 3 | C4: 2391
A5: 2008 | B5: 4 | C5: 2394
A6: 2008 | B6: 5 | C6: 2393
A7: 2008 | B7: 6 | C7: 2362
A8: 2008 | B8: 7 | C8: 2368
A9: 2008 | B9: 8 | C9: 2369
A10: 2008 | B10: 9 | C10: 2381
A11: 2008 | B11: 10 | C11: 2387
A12: 2008 | B12: 11 | C12: 2387
A13: 2008 | B13: 12 | C13: 2711
... A85: 2014 | B85: 12 | C85: 2890

Sheet USL Coef
A1: Variable | B1: Coefficient | C1: StdErr | D1: T-Stat | E1: P-Value
A2: Simple | B2: 0.67709717 | C2: 0.121 | D2: 5.608 | E2: 0
A3: Trend | B3: -0.20459209 | C3: 0.009 | D3: -23.009 | E3: 0
A4: Damp Factor | B4: 1.0115231 | C4: 0.001 | D4: 1261.933 | E4: 0

Sheet USL_Mstat
A1: Model Statistics
A2: Adjusted Observations | B2: 84
A3: Deg. of Freedom for Error | B3: 81
A4: R-Squared | B4: 0.951
A5: Adjusted R-Squared | B5: 0.95
A6: Model Sum of Squares | B6: 1886582
A7: Sum of Squared Errors | B7: 96418
A8: Mean Squared Error | B8: 1190
A9: Std. Error of Regression | B9: 35
A10: Mean Abs. Dev. (MAD) | B10: 14
A11: Mean Abs. % Err. (MAPE) | B11: 0.0053
A12: Durbin-Watson Statistic | B12: 1.597

Sheet USL_Forecast
A1: Year | B1: Month | C1: Pred
A2: 2015 | B2: 1 | C2: =USL_Equation!C2 -> 2892.5435
A3: 2015 | B3: 2 | C3: =USL_Equation!C3 -> 2896.8628
A4: 2015 | B4: 3 | C4: =USL_Equation!C4 -> 2901.232
A5: 2015 | B5: 4 | C5: =USL_Equation!C5 -> 2905.6514
A6: 2015 | B6: 5 | C6: =USL_Equation!C6 -> 2910.1218
A7: 2015 | B7: 6 | C7: =USL_Equation!C7 -> 2914.6438
A8: 2015 | B8: 7 | C8: =USL_Equation!C8 -> 2919.2178
A9: 2015 | B9: 8 | C9: =USL_Equation!C9 -> 2923.8445
A10: 2015 | B10: 9 | C10: =USL_Equation!C10 -> 2928.5246
A11: 2015 | B11: 10 | C11: =USL_Equation!C11 -> 2933.2586
A12: 2015 | B12: 11 | C12: =USL_Equation!C12 -> 2938.0471
A13: 2015 | B13: 12 | C13: =USL_Equation!C13 -> 2942.8908
... A73: 2020 | B73: 12 | C73: =USL_Equation!C73 -> 3363.2366
A76: Year | B76: USL Customer Counts from Regression Model Counts Forecast
A77: 2015 | B77: =+C13 -> 2942.8908
A78: 2016 | B78: =+C25 -> 3005.5581
A79: 2017 | B79: =+C37 -> 3077.4618
A80: 2018 | B80: =+C49 -> 3159.9631
A81: 2019 | B81: =+C61 -> 3254.624
A82: 2020 | B82: =+C73 -> 3363.2366

Sheet USL_Equation
A1: Year | B1: Month | C1: Pred | D1: Ybar | E1: Ytrend
A2: 2015 | B2: 1 | C2: 2892.5435 | D2: 2892.5435 | E2: 4.2701577
A3: 2015 | B3: 2 | C3: =D2+(E2*'USL Coef'!$B$4) -> 2896.8628 | D3: ='USL Coef'!$B$2*C3+(1-'USL Coef'!$B$2)*(D2+'USL Coef'!$B$4*E2) -> 2896.8628 | E3: ='USL Coef'!$B$3*(D3-D2)+(1-'USL Coef'!$B$3)*'USL Coef'!$B$4*E2 -> 4.3193632
A4: 2015 | B4: 3 | C4: =D3+(E3*'USL Coef'!$B$4) -> 2901.232 | D4: ='USL Coef'!$B$2*C4+(1-'USL Coef'!$B$2)*(D3+'USL Coef'!$B$4*E3) -> 2901.232 | E4: ='USL Coef'!$B$3*(D4-D3)+(1-'USL Coef'!$B$3)*'USL Coef'!$B$4*E3 -> 4.3691356
A5: 2015 | B5: 4 | C5: =D4+(E4*'USL Coef'!$B$4) -> 2905.6514 | D5: ='USL Coef'!$B$2*C5+(1-'USL Coef'!$B$2)*(D4+'USL Coef'!$B$4*E4) -> 2905.6514 | E5: ='USL Coef'!$B$3*(D5-D4)+(1-'USL Coef'!$B$3)*'USL Coef'!$B$4*E4 -> 4.4194817
A6: 2015 | B6: 5 | C6: =D5+(E5*'USL Coef'!$B$4) -> 2910.1218 | D6: ='USL Coef'!$B$2*C6+(1-'USL Coef'!$B$2)*(D5+'USL Coef'!$B$4*E5) -> 2910.1218 | E6: ='USL Coef'!$B$3*(D6-D5)+(1-'USL Coef'!$B$3)*'USL Coef'!$B$4*E5 -> 4.4704078
A7: 2015 | B7: 6 | C7: =D6+(E6*'USL Coef'!$B$4) -> 2914.6438 | D7: ='USL Coef'!$B$2*C7+(1-'USL Coef'!$B$2)*(D6+'USL Coef'!$B$4*E6) -> 2914.6438 | E7: ='USL Coef'!$B$3*(D7-D6)+(1-'USL Coef'!$B$3)*'USL Coef'!$B$4*E6 -> 4.5219208
A8: 2015 | B8: 7 | C8: =D7+(E7*'USL Coef'!$B$4) -> 2919.2178 | D8: ='USL Coef'!$B$2*C8+(1-'USL Coef'!$B$2)*(D7+'USL Coef'!$B$4*E7) -> 2919.2178 | E8: ='USL Coef'!$B$3*(D8-D7)+(1-'USL Coef'!$B$3)*'USL Coef'!$B$4*E7 -> 4.5740273
A9: 2015 | B9: 8 | C9: =D8+(E8*'USL Coef'!$B$4) -> 2923.8445 | D9: ='USL Coef'!$B$2*C9+(1-'USL Coef'!$B$2)*(D8+'USL Coef'!$B$4*E8) -> 2923.8445 | E9: ='USL Coef'!$B$3*(D9-D8)+(1-'USL Coef'!$B$3)*'USL Coef'!$B$4*E8 -> 4.6267343
A10: 2015 | B10: 9 | C10: =D9+(E9*'USL Coef'!$B$4) -> 2928.5246 | D10: ='USL Coef'!$B$2*C10+(1-'USL Coef'!$B$2)*(D9+'USL Coef'!$B$4*E9) -> 2928.5246 | E10: ='USL Coef'!$B$3*(D10-D9)+(1-'USL Coef'!$B$3)*'USL Coef'!$B$4*E9 -> 4.6800487
A11: 2015 | B11: 10 | C11: =D10+(E10*'USL Coef'!$B$4) -> 2933.2586 | D11: ='USL Coef'!$B$2*C11+(1-'USL Coef'!$B$2)*(D10+'USL Coef'!$B$4*E10) -> 2933.2586 | E11: ='USL Coef'!$B$3*(D11-D10)+(1-'USL Coef'!$B$3)*'USL Coef'!$B$4*E10 -> 4.7339774
A12: 2015 | B12: 11 | C12: =D11+(E11*'USL Coef'!$B$4) -> 2938.0471 | D12: ='USL Coef'!$B$2*C12+(1-'USL Coef'!$B$2)*(D11+'USL Coef'!$B$4*E11) -> 2938.0471 | E12: ='USL Coef'!$B$3*(D12-D11)+(1-'USL Coef'!$B$3)*'USL Coef'!$B$4*E11 -> 4.7885275
A13: 2015 | B13: 12 | C13: =D12+(E12*'USL Coef'!$B$4) -> 2942.8908 | D13: ='USL Coef'!$B$2*C13+(1-'USL Coef'!$B$2)*(D12+'USL Coef'!$B$4*E12) -> 2942.8908 | E13: ='USL Coef'!$B$3*(D13-D12)+(1-'USL Coef'!$B$3)*'USL Coef'!$B$4*E12 -> 4.8437062
A14: 2016 | B14: 1 | C14: =D13+(E13*'USL Coef'!$B$4) -> 2947.7903 | D14: ='USL Coef'!$B$2*C14+(1-'USL Coef'!$B$2)*(D13+'USL Coef'!$B$4*E13) -> 2947.7903 | E14: ='USL Coef'!$B$3*(D14-D13)+(1-'USL Coef'!$B$3)*'USL Coef'!$B$4*E13 -> 4.8995207
... A73: 2020 | B73: 12 | C73: =D72+(E72*'USL Coef'!$B$4) -> 3363.2366 | D73: ='USL Coef'!$B$2*C73+(1-'USL Coef'!$B$2)*(D72+'USL Coef'!$B$4*E72) -> 3363.2366 | E73: ='USL Coef'!$B$3*(D73-D72)+(1-'USL Coef'!$B$3)*'USL Coef'!$B$4*E72 -> 9.6322157
