{"text_format":"1","workbook":"xlsx","n_sheets":39,"sheets":["LDC Info","App.2-B_Acct Instructions","Sheet2","App.2-BA_FA Cont 2010 OldCGAAP","App.2-BA_FA Cont 2011 OldCGAAP","App.2-BA_FA 2012 OldCGAAP","App.2-BA_FA Cont 2013 OldCGAAP","App.2-BA_FA Cont 2013 NewCGAAP","App.2-BA_FA Cont 2014 OldCGAAP","App.2-BA_FA Cont 2014 NewCGAAP","App.2-BA_FA Cont 2014 MIFRS","App.2-BA_FA PreCont2015OldCGAAP","App.2-BA_FA PreCont2015NewC","App.2-BA_FA Cont 2015 MIFRS","App.2-BA_FA Cont 2016 MIFRS ","Appendix 2-BB Service Life  ","App.2-CA_OldCGAAP_DepExp_2010","App.2-CA_OldCGAAP_DepExp_2011","App.2-CA_OldCGAAP_DepExp_2012","App.2-CB_OldCGAAP_DepExp_2013","App.2-CC_NewCGAAP_DepExp_2013","App.2-CD_MIFRS_DepExp_2014","App.2-CD_MIFRS_DepExp_2015","App.2-CE_MIFRS_DepExp_2016","App.2-CF_OldCGAAP_DepExp_2013","App.2-CG_NewCGAAP_DepExp_2013","App.2-CH_MIFRS_DepExp_2014","App.2-CI MIFRS_DepExp_2015","App.2-EC_Account 1576 (2013)","App.2-EC_Account 1576 (2014)","App.2-EC_Account 1576 (2013 Rev","App.2-EA_1575 (2015)","App.2-FA Proposed REG Inves (2","App.2-FB Calc of REG Improv (2","App.2-FC Calc of REG Expans (2","lists","lists2","Sheet19","Sheet1"],"not_rendered":{"charts":0,"images":2,"macros":1,"external_links":1,"defined_names":12,"comments":4,"pivot_tables":0},"unopened":[],"bounds":{"document_bytes":16777216,"sheet_cells":100000,"rows_first":2000,"rows_last":500,"rows_between":2000,"halvings":0,"cell_chars":16384,"cell_head_chars":4096},"cells_cut":0,"cells_raw":0,"read":"whole","date_system":"1900"}

{"sheet":"LDC Info","index":0,"n_rows":99,"n_cols":27,"rows_kept":99,"cut":false,"hidden":false,"merged":[[45,4,45,6],[45,0,45,3],[50,2,50,11],[54,2,54,12],[52,2,52,13],[27,4,27,6],[30,4,30,6],[29,0,30,3],[42,0,43,3],[38,0,39,3],[39,4,39,6],[32,0,33,3],[33,4,33,6],[35,0,36,3],[43,4,43,6],[17,4,17,10],[13,4,13,10],[15,4,15,8],[19,4,19,8],[25,4,25,6],[23,4,23,6]]}
[]
[]
[null,null,null,null,null,null,null,null,null,null,null,null,null,null,null,null,null,null,null,null,null,null,null,null,null,null,"Algoma Power Inc."]
[null,null,null,null,null,null,null,null,null,null,null,null,null,null,null,null,null,null,null,null,null,null,null,null,null,null,"Atikokan Hydro Inc."]
[null,null,null,null,null,null,null,null,null,null,null,null,null,null,null,null,null,null,null,null,null,null,null,null,null,null,"Attawapiskat Power Corporation"]
[null,null,null,null,null,null,null,null,null,null,null,null,null,null,null,null,null,null,null,null,null,null,null,null,null,null,"Bluewater Power Distribution Corp."]
[null,null,null,null,null,null,null,null,null,null,null,null,null,null,null,null,null,null,null,null,null,null,null,null,null,null,"Brant County Power"]
[null,null,null,null,null,null,null,null,null,null,null,null,null,null,null,null,null,null,null,null,null,null,null,null,null,null,"Brantford Power Inc."]
[null,null,null,null,null,null,null,null,null,null,null,null,null,null,null,null,null,null,null,null,null,null,null,null,null,null,"Burlington Hydro Inc."]
[null,null,null,null,null,null,null,null,null,null,null,null,null,null,null,null,null,null,null,null,null,null,null,null,null,null,"Cambridge and North Dumfries Hydro"]
[null,null,null,null,null,null,null,null,null,null,null,null,null,null,null,null,null,null,null,null,null,null,null,null,null,null,"Canadian Niagara Power Inc. – Eastern Ontario Power/Fort Erie/Port Colborne"]
[null,null,null,null,null,null,null,null,null,null,null,null,null,null,null,null,null,null,null,null,null,null,null,null,null,null,"Centre Wellington Hydro Ltd."]
[null,null,null,null,null,null,null,null,null,null,null,null,null,null,null,null,null,null,null,null,null,null,null,null,null,null,"Chapleau Public Utilities Corporation"]
[null,null,null,"Utility Name   ","Ottawa River Power Corporation",null,null,null,null,null,null,null,null,null,null,null,null,null,null,null,null,null,null,null,null,null,"COLLUS Power Corp."]
[null,null,null,null,null,null,null,null,null,null,null,null,null,null,null,null,null,null,null,null,null,null,null,null,null,null,"Cooperative Hydro Embrun Inc."]
[null,null,null,"Assigned EB Number","EB-2014-0105",null,null,null,null,null,null,null,null,null,null,null,null,null,null,null,null,null,null,null,null,null,"E.L.K. Energy Inc."]
[null,null,null,null,null,null,null,null,null,null,null,null,null,null,null,null,null,null,null,null,null,null,null,null,null,null,"Enersource Hydro Mississauga Inc."]
[null,null,null,"Name of Contact and Title","Jane Wilkinson-Donnelly",null,null,null,null,null,null,null,null,null,null,null,null,null,null,null,null,null,null,null,null,null,"Entegrus Powerlines Inc."]
[null,null,null,null,null,null,null,null,null,null,null,null,null,null,null,null,null,null,null,null,null,null,null,null,null,null,"ENWIN Utilities Ltd."]
[null,null,null,"Phone Number   ","613-732-3687 ext. 34",null,null,null,null,null,null,null,null,null,null,null,null,null,null,null,null,null,null,null,null,null,"Erie Thames Powerlines Corp."]
[null,null,null,null,null,null,null,null,null,null,null,null,null,null,null,null,null,null,null,null,null,null,null,null,null,null,"Espanola Regional Hydro Distribution Corporation"]
[null,null,null,"Email Address   ","jwilkinson@orpowercorp.com",null,null,null,null,null,null,null,null,null,null,null,null,null,null,null,null,null,null,null,null,null,"Essex Powerlines Corporation"]
[null,null,null,null,null,null,null,null,null,null,null,null,null,null,null,null,null,null,null,null,null,null,null,null,null,null,"Festival Hydro Inc."]
[null,null,null,"Test Year",2015,null,null,null,null,null,null,null,null,null,null,null,null,null,null,null,null,null,null,null,null,null,"Fort Albany Power Corporation"]
[null,null,null,null,null,null,null,null,null,null,null,null,null,null,null,null,null,null,null,null,null,null,null,null,null,null,"Fort Frances Power Corporation"]
[null,null,null,"Bridge Year",{"$f":"IF(ISBLANK(E24), \"\", E24-1)","v":2014},null,null,null,null,null,null,null,null,null,null,null,null,null,null,null,null,null,null,null,null,null,"Greater Sudbury Hydro Inc."]
[null,null,null,null,null,null,null,null,null,null,null,null,null,null,null,null,null,null,null,null,null,null,null,null,null,null,"Grimsby Power Inc."]
[null,null,null,"Last Rebasing Year",2010,null,null,null,null,null,null,null,null,null,null,null,null,null,null,null,null,null,null,null,null,null,"Guelph Hydro Electric Systems Inc."]
[null,null,null,null,null,null,null,null,null,null,null,null,null,null,null,null,null,null,null,null,null,null,null,null,null,null,"Haldimand County Hydro Inc."]
["Identify the accounting standard used for the test year"]
[null,null,null,null,"MIFRS"]
[]
["Did you update your depreciation and capitalization policies?"]
[null,null,null,null,"Yes"]
[]
["When did you update your depreciation and capitalization policies?"]
[null,null,null,null,"2001-01-01",2013]
[]
["Identify the year that the applicant has adopted or is expected to adopt IFRS for financial reporting purposes"]
[null,null,null,null,"2015 or Later"]
[]
[]
["Are you applying for cost recovery for the test and/or future year(s) for Green Energy initiatives?"]
[null,null,null,null,"No"]
[]
[{"$f":"\"Is \" & E14 & \" an embedded distributor?\"","v":"Is Ottawa River Power Corporation an embedded distributor?"},null,null,null,"Yes"]
[]
[]
[null,"Notes",null,null,null,null,null,null,null,null,null,null,null,null,null,null,null,null,null,null,null,null,null,null,null,null,"Guelph Hydro Electric Systems Inc."]
[null,null,null,null,null,null,null,null,null,null,null,null,null,null,null,null,null,null,null,null,null,null,null,null,null,null,"Halton Hills Hydro Inc."]
[null,null,"Pale green cells represent input cells.",null,null,null,null,null,null,null,null,null,null,null,null,null,null,null,null,null,null,null,null,null,null,null,"Hearst Power Distribution Co. Ltd."]
[null,null,null,null,null,null,null,null,null,null,null,null,null,null,null,null,null,null,null,null,null,null,null,null,null,null,"Horizon Utilities Corporation"]
[null,null,"Pale blue cells represent drop-down lists.  The applicant should select the appropriate item from the drop-down list.",null,null,null,null,null,null,null,null,null,null,null,null,null,null,null,null,null,null,null,null,null,null,null,"Hydro 2000 Inc."]
[null,null,null,null,null,null,null,null,null,null,null,null,null,null,null,null,null,null,null,null,null,null,null,null,null,null,"Hydro Hawkesbury Inc."]
[null,null,"White cells contain fixed values, automatically generated values or formulae. ",null,null,null,null,null,null,null,null,null,null,null,null,null,null,null,null,null,null,null,null,null,null,null,"Hydro One Brampton Networks Inc."]
[null,null,null,null,null,null,null,null,null,null,null,null,null,null,null,null,null,null,null,null,null,null,null,null,null,null,"Hydro One Networks Inc."]
[null,null,null,null,null,null,null,null,null,null,null,null,null,null,null,null,null,null,null,null,null,null,null,null,null,null,"Hydro One Remote Communities Inc."]
[null,null,null,null,null,null,null,null,null,null,null,null,null,null,null,null,null,null,null,null,null,null,null,null,null,null,"Hydro Ottawa Limited"]
[null,null,null,null,null,null,null,null,null,null,null,null,null,null,null,null,null,null,null,null,null,null,null,null,null,null,"Innisfil Hydro Dist. Systems Limited"]
[null,null,null,null,null,null,null,null,null,null,null,null,null,null,null,null,null,null,null,null,null,null,null,null,null,null,"Kashechewan Power Corporation"]
[null,null,null,null,null,null,null,null,null,null,null,null,null,null,null,null,null,null,null,null,null,null,null,null,null,null,"Kenora Hydro Electric Corporation Ltd."]
[null,null,null,null,null,null,null,null,null,null,null,null,null,null,null,null,null,null,null,null,null,null,null,null,null,null,"Kingston Hydro Corporation"]
[null,null,null,null,null,null,null,null,null,null,null,null,null,null,null,null,null,null,null,null,null,null,null,null,null,null,"Kitchener-Wilmot Hydro Inc."]
[null,null,null,null,null,null,null,null,null,null,null,null,null,null,null,null,null,null,null,null,null,null,null,null,null,null,"Lakefront Utilities Inc."]
[null,null,null,null,null,null,null,null,null,null,null,null,null,null,null,null,null,null,null,null,null,null,null,null,null,null,"Lakeland Power Distribution Ltd."]
[null,null,null,null,null,null,null,null,null,null,null,null,null,null,null,null,null,null,null,null,null,null,null,null,null,null,"London Hydro Inc."]
[null,null,null,null,null,null,null,null,null,null,null,null,null,null,null,null,null,null,null,null,null,null,null,null,null,null,"Midland Power Utility Corporation"]
[null,null,null,null,null,null,null,null,null,null,null,null,null,null,null,null,null,null,null,null,null,null,null,null,null,null,"Milton Hydro Distribution Inc."]
[null,null,null,null,null,null,null,null,null,null,null,null,null,null,null,null,null,null,null,null,null,null,null,null,null,null,"Newmarket – Tay Power Distribution Ltd."]
[null,null,null,null,null,null,null,null,null,null,null,null,null,null,null,null,null,null,null,null,null,null,null,null,null,null,"Niagara Peninsula Energy Inc."]
[null,null,null,null,null,null,null,null,null,null,null,null,null,null,null,null,null,null,null,null,null,null,null,null,null,null,"Niagara-on-the-Lake Hydro Inc."]
[null,null,null,null,null,null,null,null,null,null,null,null,null,null,null,null,null,null,null,null,null,null,null,null,null,null,"Norfolk Power Distribution Ltd."]
[null,null,null,null,null,null,null,null,null,null,null,null,null,null,null,null,null,null,null,null,null,null,null,null,null,null,"North Bay Hydro Distribution Limited"]
[null,null,null,null,null,null,null,null,null,null,null,null,null,null,null,null,null,null,null,null,null,null,null,null,null,null,"Northern Ontario Wires Inc."]
[null,null,null,null,null,null,null,null,null,null,null,null,null,null,null,null,null,null,null,null,null,null,null,null,null,null,"Oakville Hydro Distribution Inc."]
[null,null,null,null,null,null,null,null,null,null,null,null,null,null,null,null,null,null,null,null,null,null,null,null,null,null,"Orangeville Hydro Limited"]
[null,null,null,null,null,null,null,null,null,null,null,null,null,null,null,null,null,null,null,null,null,null,null,null,null,null,"Orillia Power Distribution Corp."]
[null,null,null,null,null,null,null,null,null,null,null,null,null,null,null,null,null,null,null,null,null,null,null,null,null,null,"Oshawa PUC Networks Inc."]
[null,null,null,null,null,null,null,null,null,null,null,null,null,null,null,null,null,null,null,null,null,null,null,null,null,null,"Ottawa River Power Corporation"]
[null,null,null,null,null,null,null,null,null,null,null,null,null,null,null,null,null,null,null,null,null,null,null,null,null,null,"Parry Sound Power Corporation"]
[null,null,null,null,null,null,null,null,null,null,null,null,null,null,null,null,null,null,null,null,null,null,null,null,null,null,"Peterborough Distribution Inc."]
[null,null,null,null,null,null,null,null,null,null,null,null,null,null,null,null,null,null,null,null,null,null,null,null,null,null,"PowerStream Inc."]
[null,null,null,null,null,null,null,null,null,null,null,null,null,null,null,null,null,null,null,null,null,null,null,null,null,null,"PUC Distribution Inc."]
[null,null,null,null,null,null,null,null,null,null,null,null,null,null,null,null,null,null,null,null,null,null,null,null,null,null,"Renfrew Hydro Inc."]
[null,null,null,null,null,null,null,null,null,null,null,null,null,null,null,null,null,null,null,null,null,null,null,null,null,null,"Rideau St. Lawrence Distribution Inc."]
[null,null,null,null,null,null,null,null,null,null,null,null,null,null,null,null,null,null,null,null,null,null,null,null,null,null,"St. Thomas Energy Inc."]
[null,null,null,null,null,null,null,null,null,null,null,null,null,null,null,null,null,null,null,null,null,null,null,null,null,null,"Sioux Lookout Hydro Inc."]
[null,null,null,null,null,null,null,null,null,null,null,null,null,null,null,null,null,null,null,null,null,null,null,null,null,null,"Thunder Bay Hydro Electricity Distribution"]
[null,null,null,null,null,null,null,null,null,null,null,null,null,null,null,null,null,null,null,null,null,null,null,null,null,null,"Tillsonburg Hydro Inc."]
[null,null,null,null,null,null,null,null,null,null,null,null,null,null,null,null,null,null,null,null,null,null,null,null,null,null,"Toronto Hydro-Electric System Limited"]
[null,null,null,null,null,null,null,null,null,null,null,null,null,null,null,null,null,null,null,null,null,null,null,null,null,null,"Veridian Connections Inc."]
[null,null,null,null,null,null,null,null,null,null,null,null,null,null,null,null,null,null,null,null,null,null,null,null,null,null,"Wasaga Distribution Inc."]
[null,null,null,null,null,null,null,null,null,null,null,null,null,null,null,null,null,null,null,null,null,null,null,null,null,null,"Waterloo North Hydro Inc."]
[null,null,null,null,null,null,null,null,null,null,null,null,null,null,null,null,null,null,null,null,null,null,null,null,null,null,"Welland Hydro Electric System Corp."]
[null,null,null,null,null,null,null,null,null,null,null,null,null,null,null,null,null,null,null,null,null,null,null,null,null,null,"Wellington North Power Inc."]
[null,null,null,null,null,null,null,null,null,null,null,null,null,null,null,null,null,null,null,null,null,null,null,null,null,null,"West Coast Huron Energy Inc."]
[null,null,null,null,null,null,null,null,null,null,null,null,null,null,null,null,null,null,null,null,null,null,null,null,null,null,"Westario Power Inc."]
[null,null,null,null,null,null,null,null,null,null,null,null,null,null,null,null,null,null,null,null,null,null,null,null,null,null,"Whitby Hydro Electric Corporation"]
[null,null,null,null,null,null,null,null,null,null,null,null,null,null,null,null,null,null,null,null,null,null,null,null,null,null,"Woodstock Hydro Services Inc."]

{"sheet":"App.2-B_Acct Instructions","index":1,"n_rows":66,"n_cols":6,"rows_kept":66,"cut":false,"hidden":false,"merged":[[57,0,57,13],[59,0,59,13],[0,0,0,10],[1,0,1,10],[65,0,67,10],[5,0,5,10],[10,0,14,0],[9,4,9,5],[16,0,18,10],[19,0,21,10],[24,0,24,18],[33,0,35,10],[33,11,35,18],[41,0,43,10],[41,11,43,18],[27,0,29,10],[52,0,52,13],[55,0,55,18],[72,0,72,10],[72,11,72,18],[73,0,73,10],[73,11,73,18],[82,0,82,10],[82,11,82,18],[83,0,83,10],[83,11,83,18],[84,0,84,10],[74,11,74,18],[74,0,74,10],[75,11,75,18],[76,0,76,10],[76,11,76,18],[77,0,77,10],[77,11,77,18],[78,0,78,10],[78,11,78,18],[84,11,84,18],[79,0,79,10],[79,11,79,18],[80,0,80,10],[80,11,80,18],[81,0,81,10],[81,11,81,18],[89,0,89,10],[89,11,89,18],[87,0,87,10],[87,11,87,18],[85,0,85,10],[85,11,85,18],[86,0,86,10],[86,11,86,18],[92,11,92,18],[93,0,93,10],[93,11,93,18],[94,0,94,10],[94,11,94,18],[90,11,90,18],[91,0,91,10],[91,11,91,18],[88,0,88,10],[88,11,88,18],[90,0,90,10],[98,0,98,10],[98,11,98,18],[99,0,99,10],[99,11,99,18],[100,0,100,10],[100,11,100,18],[95,0,95,10],[95,11,95,18],[96,0,96,10],[96,11,96,18],[97,0,97,10],[97,11,97,18],[104,0,104,10],[104,11,104,18],[105,0,105,10],[105,11,105,18],[106,0,106,10],[106,11,106,18],[101,0,101,10],[101,11,101,18],[102,0,102,10],[102,11,102,18],[103,0,103,10],[103,11,103,18],[125,0,125,10],[125,11,125,18],[122,0,122,10],[122,11,122,18],[123,0,123,10],[123,11,123,18],[124,0,124,10],[124,11,124,18],[119,0,119,10],[119,11,119,18],[120,0,120,10],[120,11,120,18],[121,0,121,10],[121,11,121,18],[116,0,116,10],[116,11,116,18],[117,0,117,10],[117,11,117,18],[118,0,118,10],[118,11,118,18],[113,0,113,10],[113,11,113,18],[114,0,114,10],[114,11,114,18],[115,0,115,10],[115,11,115,18],[110,0,110,10],[110,11,110,18],[111,0,111,10],[111,11,111,18],[112,0,112,10],[112,11,112,18],[107,0,107,10],[107,11,107,18],[108,0,108,10],[108,11,108,18],[109,0,109,10],[109,11,109,18]]}
["General Instructions to MIFRS Appendices"]
["Types of Schedules to File"]
[]
["The purpose of this tab is to provide general instructions.  The specific instructions to each appendix are listed in footnotes of each appendix."]
[]
["The typical applicant is expected to have made capitalization and depreciation policy changes under CGAAP as permitted by the Board on January 1, 2012 or mandated by the Board by January 1, 2013, and adopts IFRS for reporting purposes on January 1, 2015 (transition date January 1, 2014).  In general, applicants under the two scenarios should provide the following information in the appendices:"]
[]
[]
[null,null,null,null,"Accounting Policy Changes in 2012 and Adopts IFRS in 2015","Accounting Policy Changes in 2013 and Adopts IFRS in 2015"]
[null,null,null,null,"(Date of Transition to IFRS 2014)"]
["Information to be filed in 2015 CoS Application",2015,"Test",null,"MIFRS","MIFRS"]
[null,2014,"Bridge",null," MIFRS and Revised CGAAP*"," MIFRS and Revised CGAAP*"]
[null,2013,"Historical",null,"Revised CGAAP","CGAAP and Revised CGAAP"]
[null,2012,"Historical",null,"CGAAP and Revised CGAAP","CGAAP"]
[null,"2011 and Prior","Historical",null,"CGAAP","CGAAP"]
[]
["1) For the year that the applicant implemented changes to its capitalization and depreciation policies (2012 or 2013), the applicant must file two appendices, one before and one after the policy changes."]
[]
[]
["2)  For the transition year (2014), the applicant may file two appendices, one under Revised CGAAP and one under MIFRS depending, on the materiality of impacts.  See the specific instructions under each appendix below for further details."]
[]
[]
[]
[]
["Appendix 2-BA - Fixed Asset Schedule "]
[]
["Applicants are to provide Appendix 2-BA in accordance with the years and corresponding accounting standards noted in the above table to provide a year over year continuity in fixed assets."]
["*For the transition year (2014), the applicant should file two appendices, one under Revised CGAAP and one under MIFRS if the change between Revised CGAAP and MIFRS is material.  If the change from the accounting standards is not material, the applicant may choose to only provide one appendix under MIFRS.  The applicant must also indicate the fixed asset net book value balance under Revised CGAAP, the total dollar value of the change and explain why it is not material."]
[]
[]
[]
["Regulatory Gross Assets of Property, Plant and Equipment"]
[]
["For an applicant that is adopting IFRS on January 1, 2015 for financial reporting purposes, the applicant must establish the continuity of historic cost by using the December 31, 2013 regulatory gross assets of property, plant and equipment as the opening January 1, 2014 regulatory gross assets.  The applicant must provide schedules (including Appendix 2-BA, Fixed Asset Continuity Schedule) which must identify the following details to substantiate the continuity of historic cost for regulatory purposes: "]
[]
[]
["·         December 31, 2013 regulatory gross assets of property, plant and equipment, by asset class; and"]
["·         January 1, 2014 regulatory gross assets of property, plant and equipment, by asset class."]
[]
["Accumulated Depreciation"]
[]
["For an applicant that is adopting IFRS on January 1, 2015 for financial reporting purposes, the applicant must establish the continuity of historic cost by using the December 31, 2013 regulatory accumulated depreciation as the opening January 1, 2014 regulatory accumulated depreciation.  The applicant must provide schedules (including Appendix 2-BA, Fixed Asset Continuity Schedule) which must identify the following details to substantiate the continuity of historic cost for regulatory purposes: "]
[]
[]
["·         December 31, 2013 regulatory accumulated depreciation, by asset class; and"]
["·         January 1, 2014 regulatory accumulated depreciation, by asset class."]
[]
["Appendix 2-C - Depreciation and Amortization "]
[]
["Applicants are to provide Appendix 2-C starting in the year capitalization and depreciation policy changes were implemented in accordance with the years and corresponding accounting standards listed in the above table.  "]
["If an applicant changed capitalization and depreciation policies effective January 1, 2012 and will adopt IFRS for reporting purposes effective January 1, 2015, the applicant must complete Appendix 2-CA to 2-CE (inclusive)."]
["If an applicant changed capitalization and depreciation policies effective January 1, 2013 and will adopt IFRS for reporting purposes effective January 1, 2015, the applicant must complete Appendix 2-CF to 2-CI (inclusive)."]
["*Depreciation accounting policy changes were mandated by the Board by January 1, 2013.  These accounting changes should be implemented consistent with the Board’s regulatory accounting policies as set out for MIFRS as contained in the Report of the Board, Transition to International Financial Reporting Standards (EB-2008-0408), the Depreciation Study for Use by Electricity Distributors (EB-2010-0178) and the Revised 2012 Accounting Procedures Handbook for Electricity Distributors.  In general, no further changes to an applicant's depreciation policy (i.e.  assets' service lives) are expected after the Board mandated changes by January 1, 2013.  The set of Appendix CA to CI assumes this to be the case.  If the applicant has made any changes to its depreciation policy subsequent to the Board mandated changes,  applicants must identify the change, explain the nature of the change, the reason for the change, quantify the impact of the change, and quantify the depreciation expense before and after the change."]
[]
[]
["Appendix 2-E - Account 1575, IFRS-CGAAP Transitional PP&E Amounts (2-EA), Account 1576, Accounting Changes Under CGAAP (2-EB, 2-EC)"]
[]
["If an applicant changed capitalization and depreciation policies effective January 1, 2012 and will adopt IFRS for reporting purposes effective January 1, 2015, the applicant must complete Appendix 2-EA and 2-EB.  If the applicant does not make any further PP&E accounting policy changes beyond the capitalization and depreciation policy changes as permitted by the Board on January 1, 2012 (i.e. no further changes made on transition to IFRS), the applicant must indicate this and does not need to complete Appendix 2-EA."]
[]
["If an applicant changed capitalization and depreciation policies effective January 1, 2013 and will adopt IFRS for reporting purposes effective January 1, 2015, the applicant must complete Appendix 2-EA  and 2-EC.   If the applicant does not make any further PP&E accounting policy changes beyond the capitalization and depreciation policy changes as mandated by the Board by January 1, 2013 (i.e. no further changes made on transition to IFRS), the applicant must indicate this and does not need to complete Appendix 2-EA."]
[]
["Please refer to section 2.12.4 and 2.12.5 of the Filing Requirements for further details."]
[]
["Appendix 2-YA - Summary of Impacts to Revenue Requirement from Transition to MIFRS"]
[]
["For  applicants adopting MIFRS, the applicants must provide a summary of the dollar impacts of  MIFRS to each component of the revenue requirement (e.g. rate base, operating costs, etc), including the overall impact on the proposed revenue requirement.  Accordingly, the applicants must identify financial differences and resulting revenue requirement impacts arising from the adoption of  MIFRS  as compared to CGAAP prior to capitalization and depreciation policy changes.  "]

{"sheet":"Sheet2","index":2,"n_rows":6,"n_cols":2,"rows_kept":6,"cut":false,"hidden":false,"merged":[]}
[]
[null,"Fixed Assets"]
[null,2009]
[]
[]
["Opening balance"]

{"sheet":"App.2-BA_FA Cont 2010 OldCGAAP","index":3,"n_rows":83,"n_cols":13,"rows_kept":83,"cut":false,"hidden":false,"merged":[[82,1,83,12],[73,1,74,12],[76,1,76,12],[8,0,8,12],[9,0,9,12],[14,3,14,6],[60,2,60,8],[61,2,61,8],[70,1,71,12]]}
[null,null,null,null,null,null,null,null,null,null,null,"File Number:",{"$f":"EBNUMBER","v":{"$error":"#NAME?"}}]
[null,null,null,null,null,null,null,null,null,null,null,"Exhibit:"]
[null,null,null,null,null,null,null,null,null,null,null,"Tab:"]
[null,null,null,null,null,null,null,null,null,null,null,"Schedule:"]
[null,null,null,null,null,null,null,null,null,null,null,"Page:"]
[]
[null,null,null,null,null,null,null,null,null,null,null,"Date:"]
[]
["Appendix 2-BA"]
["Fixed Asset Continuity Schedule "]
[]
[null,null,null,null,"Accounting Standard","CGAAP","Old CGAAP"]
[null,null,null,null,"Year ",2010]
[]
[null,null,null,"Cost",null,null,null,null,null,"Accumulated Depreciation"]
["CCA Class","OEB","Description","Opening Balance","Additions","Disposals","Closing Balance",null,"Opening Balance","Additions","Disposals","Closing Balance","Net Book Value"]
[12,1611,"Computer Software (Formally known as Account 1925)",293410.74,12194,null,{"$f":"D17+E17+F17","v":305604.74},null,-193749.62,-99860.87,null,{"$f":"I17+J17+K17","v":-293610.49},{"$f":"G17+L17","v":11994.25}]
["CEC",1612,"Land Rights (Formally known as Account 1906)",10808.84,null,null,{"$f":"D18+E18+F18","v":10808.84},null,-6721,-335,null,{"$f":"I18+J18+K18","v":-7056},{"$f":"G18+L18","v":3752.84}]
["N/A",1805,"Land",130499.26,null,null,{"$f":"D19+E19+F19","v":130499.26},null,null,null,null,{"$f":"I19+J19+K19","v":0},{"$f":"G19+L19","v":130499.26}]
[47,1808,"Buildings",453549.70999999996,14386,null,{"$f":"D20+E20+F20","v":467935.70999999996},null,-247903,{"$f":"-7852.81-744.23-55.48","v":-8652.52},null,{"$f":"I20+J20+K20","v":-256555.51999999999},{"$f":"G20+L20","v":211380.18999999997}]
[13,1810,"Leasehold Improvements",null,null,null,0,null,null,null,null,0,0]
[47,1815,"Transformer Station Equipment >50 kV",null,null,null,0,null,null,null,null,0,0]
[47,1820,"Distribution Station Equipment <50 kV",2563070.89,166448,null,2729518.89,null,-1644838.69,{"$f":"-54616.18+177.27","v":-54438.91},null,-1699277.5999999999,1030241.2900000003]
[47,1825,"Storage Battery Equipment",null,null,null,0,null,null,null,null,0,0]
[47,1830,"Poles, Towers & Fixtures",8107720.3799999999,117217.95,null,8224938.3300000001,null,-5835293,-262546,null,-6097839,2127099.33]
[47,1835,"Overhead Conductors & Devices",2430844.33,145586.4,null,2576430.73,null,-545720,{"$f":"-100988.98+20218.6","v":-80770.38},null,-626490.38,1949940.35]
[47,1840,"Underground Conduit",2933508.47,40594,null,2974102.47,null,-1985939.8399999999,{"$f":"-109502.44+1185.66-671.72-1874.82","v":-110863.32},null,-2096803.16,877299.31000000029]
[47,1845,"Underground Conductors & Devices",330338.84000000003,75749,null,406087.84,null,-57662.48,-14728.55,null,-72391.03,333696.81000000006]
[47,1850,"Line Transformers",{"$f":"3200351.67+322420.2","v":3522771.87},60897,null,3583668.87,null,-1988166.77,{"$f":"-118744.44+4537.07+4010.74-17312.38","v":-127509.01},null,-2115675.7799999998,1467993.0900000003]
[47,1855,"Services (Overhead & Underground)",875350.1,103019,null,978369.1,null,-160436.76999999999,{"$f":"-37198.64+1009.05+1034.62+860.63","v":-34294.339999999997},null,-194731.11,783637.99]
[47,1860,"Meters",671911.43,10436,{"$f":"-571953-16747.34","v":-588700.34},93647.090000000084,null,-391108.94,-2226.35,357001.04000000004,-36334.249999999942,57312.840000000142]
[47,1860,"Meters (Smart Meters)",null,null,null,0,null,null,null,null,0,0]
["N/A",1905,"Land",null,null,null,0,null,null,null,null,0,0]
[47,1908,"Buildings & Fixtures",null,null,null,0,null,null,null,null,0,0]
[13,1910,"Leasehold Improvements",null,null,null,0,null,null,null,null,0,0]
[8,1915,"Office Furniture & Equipment (10 years)",122774.43,5883,-668,127989.43,null,-116712.13,{"$f":"-2439.07+236.17","v":-2202.9},668.52,-118246.51,9742.9199999999983]
[8,1915,"Office Furniture & Equipment (5 years)",null,null,null,0,null,null,null,null,0,0]
[10,1920,"Computer Equipment - Hardware",null,null,null,0,null,null,null,null,0,0]
[45,1920,"Computer Equip.-Hardware(Post Mar. 22/04)",null,null,null,0,null,null,null,null,0,0]
[45.1,1920,"Computer Equip.-Hardware(Post Mar. 19/07)",320010.28999999998,2297,null,322307.28999999998,null,-296709.61,{"$f":"-23357.41+2148.45","v":-21208.959999999999},null,-317918.57,4388.7199999999721]
[10,1930,"Transportation Equipment",1593934.71,277694,-178877,1692751.71,null,-1322217.21,{"$f":"-83893.06+1632.31","v":-82260.75},178877.46,-1225600.5,467151.20999999996]
[8,1935,"Stores Equipment",1761.26,null,null,1761.26,null,-1761,null,null,-1761,0.25999999999999091]
[8,1940,"Tools, Shop & Garage Equipment",234048.66,2335,null,236383.66,null,-205669.75,{"$f":"-6652.22-627.78","v":-7280},null,-212949.75,23433.910000000003]
[8,1945,"Measurement & Testing Equipment",null,null,null,0,null,null,null,null,0,0]
[8,1950,"Power Operated Equipment",null,null,null,0,null,null,null,null,0,0]
[8,1955,"Communications Equipment",29543.89,5658,null,35201.89,null,-29543.89,-565.80999999999995,null,-30109.7,5092.1899999999987]
[8,1955,"Communication Equipment (Smart Meters)",null,null,null,0,null,null,null,null,0,0]
[8,1960,"Miscellaneous Equipment ",null,null,null,0,null,null,null,null,0,0]
[47,1970,"Load Management Controls Customer Premises",254912,null,null,254912,null,-251593.73,-839.35,null,-252433.08000000002,2478.9199999999837]
[47,1975,"Load Management Controls Utility Premises",64873.19,null,null,64873.19,null,-64873,null,null,-64873,0.19000000000232831]
[47,1980,"System Supervisor Equipment",502268.44,64230,null,566498.43999999994,null,-480823.79,-16225.59,null,-497049.38,69449.059999999939]
[47,1985,"Miscellaneous Fixed Assets",0,0,0,0,null,null,null,null,0,0]
[47,1990,"Other Tangible Property",null,null,null,0,null,null,null,null,0,0]
[47,1995,"Contributions & Grants",{"$f":"-1257312-21179.21","v":-1278491.21},-125254.7,null,-1403745.91,null,245977,{"$f":"52763+21179.21","v":73942.209999999992},null,319919.20999999996,-1083826.7]
[47,2440,"Deferred Revenue5"]
[null,null,null,null,null,null,0,null,null,null,null,0,0]
[null,null,"Sub-Total",{"$f":"SUM(D17:D56)","v":24169420.520000007},{"$f":"SUM(E17:E56)","v":979369.65000000014},{"$f":"SUM(F17:F56)","v":-768245.34},{"$f":"SUM(G17:G56)","v":24380544.830000006},null,{"$f":"SUM(I17:I56)","v":-15581467.219999999},{"$f":"SUM(J17:J56)","v":-852866.4},{"$f":"SUM(K17:K56)","v":536547.02},{"$f":"SUM(L17:L56)","v":-15897786.599999998},{"$f":"SUM(M17:M56)","v":8482758.2300000023}]
[null,null,"Less Socialized Renewable Energy Generation Investments (input as negative)",null,null,null,{"$f":"D58+E58+F58","v":0},null,null,null,null,{"$f":"I58+J58+K58","v":0},{"$f":"G58+L58","v":0}]
[null,null,"Less Other Non Rate-Regulated Utility Assets (input as negative)",null,null,null,0,null,null,null,null,0,0]
[null,null,"Total PP&E",{"$f":"SUM(D57:D59)","v":24169420.520000007},{"$f":"SUM(E57:E59)","v":979369.65000000014},-768245.34,24380544.830000006,null,{"$f":"SUM(I57:I59)","v":-15581467.219999999},-852866.4,536547.02,-15897786.599999998,8482758.2300000023]
[null,null,"Depreciation Expense adj. from gain or loss on the retirement of assets (pool of like assets), if applicable6"]
[null,null,"Total",null,null,null,null,null,null,{"$f":"J60+J61","v":-852866.4}]
[]
[null,null,null,null,null,null,null,null,"Less: Fully Allocated Depreciation"]
[10,null,"Transportation",null,null,null,null,null,"Transportation",null,-79521.97]
[8,null,"Stores Equipment",null,null,null,null,null,"Stores Equipment"]
[null,null,null,null,null,null,null,null,"Net Depreciation",null,{"$f":"J62-K65-K66","v":-773344.43}]
[]
["Notes:"]
[]
[1,"Tables in the format outlined above covering all fixed asset accounts should be submitted for the Test Year, Bridge Year and all relevant historical years.  At a minimum , the applicant must provide data for the earlier of: 1) all historical years back to its last rebasing; or 2) at least three years of historical actuals, in addition to Bridge Year and Test Year forecasts."]
[]
[]
[2,"The \"CCA Class\" for fixed assets should agree with the CCA Class used for tax purposes in Tax Returns. Fixed Assets sub-components may be used where the underlying asset components are classified under multiple CCA Classes for tax purposes. If an applicant uses any different classes from those shown in the table, an explanation should be provided. (also see note 3 below)."]
[]
[]
[3,"The table may need to be customized for a utility's asset categories or for any new asset accounts announced or authorized by the Board."]
[]
[4,"The additions column (E) must not include construction work in progress (CWIP)."]
[]
[5,"Effective on the date of IFRS adoption, customer contributions will no longer be recorded in Account 1995 Contributions & Grants, but will be recorded in Account 2440, Deferred Revenues.  "]
[]
[6,"Where a distributor for general financial reporting purposes under IFRS has accounted for the amount of gain or loss on the retirement of assets in a pool of like assets as a charge or credit to income, for reporting and rate application filings the distributor shall reclassify such gains and losses as depreciation expense, and disclose the amount separately."]

{"sheet":"App.2-BA_FA Cont 2011 OldCGAAP","index":4,"n_rows":83,"n_cols":13,"rows_kept":83,"cut":false,"hidden":false,"merged":[[73,1,74,12],[76,1,76,12],[82,1,83,12],[8,0,8,12],[9,0,9,12],[14,3,14,6],[60,2,60,8],[61,2,61,8],[70,1,71,12]]}
[null,null,null,null,null,null,null,null,null,null,null,"File Number:",{"$f":"EBNUMBER","v":{"$error":"#NAME?"}}]
[null,null,null,null,null,null,null,null,null,null,null,"Exhibit:"]
[null,null,null,null,null,null,null,null,null,null,null,"Tab:"]
[null,null,null,null,null,null,null,null,null,null,null,"Schedule:"]
[null,null,null,null,null,null,null,null,null,null,null,"Page:"]
[]
[null,null,null,null,null,null,null,null,null,null,null,"Date:"]
[]
["Appendix 2-BA"]
["Fixed Asset Continuity Schedule "]
[]
[null,null,null,null,"Accounting Standard","CGAAP","Old CGAAP"]
[null,null,null,null,"Year ",2011]
[]
[null,null,null,"Cost",null,null,null,null,null,"Accumulated Depreciation"]
["CCA Class","OEB","Description","Opening Balance","Additions","Disposals","Closing Balance",null,"Opening Balance","Additions","Disposals","Closing Balance","Net Book Value"]
[12,1611,"Computer Software (Formally known as Account 1925)",{"$f":"'App.2-BA_FA Cont 2010 OldCGAAP'!G17","v":305604.74},8648,null,{"$f":"D17+E17+F17","v":314252.74},null,{"$f":"'App.2-BA_FA Cont 2010 OldCGAAP'!L17","v":-293610.49},-7338.48,null,{"$f":"I17+J17+K17","v":-300948.96999999997},{"$f":"G17+L17","v":13303.770000000019}]
["CEC",1612,"Land Rights (Formally known as Account 1906)",{"$f":"'App.2-BA_FA Cont 2010 OldCGAAP'!G18","v":10808.84},null,null,{"$f":"D18+E18+F18","v":10808.84},null,{"$f":"'App.2-BA_FA Cont 2010 OldCGAAP'!L18","v":-7056},-335,null,{"$f":"I18+J18+K18","v":-7391},{"$f":"G18+L18","v":3417.84}]
["N/A",1805,"Land",{"$f":"'App.2-BA_FA Cont 2010 OldCGAAP'!G19","v":130499.26},null,null,{"$f":"D19+E19+F19","v":130499.26},null,{"$f":"'App.2-BA_FA Cont 2010 OldCGAAP'!L19","v":0},null,null,{"$f":"I19+J19+K19","v":0},{"$f":"G19+L19","v":130499.26}]
[47,1808,"Buildings",{"$f":"'App.2-BA_FA Cont 2010 OldCGAAP'!G20","v":467935.70999999996},18607,null,{"$f":"D20+E20+F20","v":486542.70999999996},null,{"$f":"'App.2-BA_FA Cont 2010 OldCGAAP'!L20","v":-256555.51999999999},-8512.69,null,{"$f":"I20+J20+K20","v":-265068.20999999996},{"$f":"G20+L20","v":221474.5}]
[13,1810,"Leasehold Improvements",{"$f":"'App.2-BA_FA Cont 2010 OldCGAAP'!G21","v":0},null,null,0,null,{"$f":"'App.2-BA_FA Cont 2010 OldCGAAP'!L21","v":0},null,null,0,0]
[47,1815,"Transformer Station Equipment >50 kV",{"$f":"'App.2-BA_FA Cont 2010 OldCGAAP'!G22","v":0},null,null,0,null,{"$f":"'App.2-BA_FA Cont 2010 OldCGAAP'!L22","v":0},null,null,0,0]
[47,1820,"Distribution Station Equipment <50 kV",{"$f":"'App.2-BA_FA Cont 2010 OldCGAAP'!G23","v":2729518.89},90613,null,2820131.89,null,{"$f":"'App.2-BA_FA Cont 2010 OldCGAAP'!L23","v":-1699277.5999999999},-58620.62,null,-1757898.22,1062233.6700000002]
[47,1825,"Storage Battery Equipment",{"$f":"'App.2-BA_FA Cont 2010 OldCGAAP'!G24","v":0},null,null,0,null,{"$f":"'App.2-BA_FA Cont 2010 OldCGAAP'!L24","v":0},null,null,0,0]
[47,1830,"Poles, Towers & Fixtures",{"$f":"'App.2-BA_FA Cont 2010 OldCGAAP'!G25","v":8224938.3300000001},70412,null,8295350.3300000001,null,{"$f":"'App.2-BA_FA Cont 2010 OldCGAAP'!L25","v":-6097839},-232996.87000000002,null,-6330835.8700000001,1964514.46]
[47,1835,"Overhead Conductors & Devices",{"$f":"'App.2-BA_FA Cont 2010 OldCGAAP'!G26","v":2576430.73},121027,null,2697457.73,null,{"$f":"'App.2-BA_FA Cont 2010 OldCGAAP'!L26","v":-626490.38},-104944.9,null,-731435.28,1966022.45]
[47,1840,"Underground Conduit",{"$f":"'App.2-BA_FA Cont 2010 OldCGAAP'!G27","v":2974102.47},58881,null,3032983.47,null,{"$f":"'App.2-BA_FA Cont 2010 OldCGAAP'!L27","v":-2096803.16},-104470.73000000001,null,-2201273.89,831709.58000000007]
[47,1845,"Underground Conductors & Devices",{"$f":"'App.2-BA_FA Cont 2010 OldCGAAP'!G28","v":406087.84},99504,null,505591.84,null,{"$f":"'App.2-BA_FA Cont 2010 OldCGAAP'!L28","v":-72391.03},-17487,null,-89878.03,415713.81000000006]
[47,1850,"Line Transformers",{"$f":"'App.2-BA_FA Cont 2010 OldCGAAP'!G29","v":3583668.87},129496.48,null,3713165.35,null,{"$f":"'App.2-BA_FA Cont 2010 OldCGAAP'!L29","v":-2115675.7799999998},-108607,null,-2224282.7799999998,1488882.5700000003]
[47,1855,"Services (Overhead & Underground)",{"$f":"'App.2-BA_FA Cont 2010 OldCGAAP'!G30","v":978369.1},95630,null,1073999.1000000001,null,{"$f":"'App.2-BA_FA Cont 2010 OldCGAAP'!L30","v":-194731.11},-40330,null,-235061.11,838937.99000000011]
[47,1860,"Meters",{"$f":"'App.2-BA_FA Cont 2010 OldCGAAP'!G31","v":93647.090000000084},{"$f":"13749-2459.68","v":11289.32},-39732,65204.410000000091,null,{"$f":"'App.2-BA_FA Cont 2010 OldCGAAP'!L31","v":-36334.249999999942},-1500,28655,-9179.2499999999418,56025.160000000149]
[47,1860,"Meters (Smart Meters)",{"$f":"'App.2-BA_FA Cont 2010 OldCGAAP'!G32","v":0},null,null,0,null,{"$f":"'App.2-BA_FA Cont 2010 OldCGAAP'!L32","v":0},null,null,0,0]
["N/A",1905,"Land",{"$f":"'App.2-BA_FA Cont 2010 OldCGAAP'!G33","v":0},null,null,0,null,{"$f":"'App.2-BA_FA Cont 2010 OldCGAAP'!L33","v":0},null,null,0,0]
[47,1908,"Buildings & Fixtures",{"$f":"'App.2-BA_FA Cont 2010 OldCGAAP'!G34","v":0},null,null,0,null,{"$f":"'App.2-BA_FA Cont 2010 OldCGAAP'!L34","v":0},null,null,0,0]
[13,1910,"Leasehold Improvements",{"$f":"'App.2-BA_FA Cont 2010 OldCGAAP'!G35","v":0},null,null,0,null,{"$f":"'App.2-BA_FA Cont 2010 OldCGAAP'!L35","v":0},null,null,0,0]
[8,1915,"Office Furniture & Equipment (10 years)",{"$f":"'App.2-BA_FA Cont 2010 OldCGAAP'!G36","v":127989.43},2572,null,130561.43,null,{"$f":"'App.2-BA_FA Cont 2010 OldCGAAP'!L36","v":-118246.51},-2682.68,null,-120929.18999999999,9632.2400000000052]
[8,1915,"Office Furniture & Equipment (5 years)",{"$f":"'App.2-BA_FA Cont 2010 OldCGAAP'!G37","v":0},null,null,0,null,{"$f":"'App.2-BA_FA Cont 2010 OldCGAAP'!L37","v":0},null,null,0,0]
[10,1920,"Computer Equipment - Hardware",{"$f":"'App.2-BA_FA Cont 2010 OldCGAAP'!G38","v":0},null,null,0,null,{"$f":"'App.2-BA_FA Cont 2010 OldCGAAP'!L38","v":0},null,null,0,0]
[45,1920,"Computer Equip.-Hardware(Post Mar. 22/04)",{"$f":"'App.2-BA_FA Cont 2010 OldCGAAP'!G39","v":0},null,null,0,null,{"$f":"'App.2-BA_FA Cont 2010 OldCGAAP'!L39","v":0},null,null,0,0]
[45.1,1920,"Computer Equip.-Hardware(Post Mar. 19/07)",{"$f":"'App.2-BA_FA Cont 2010 OldCGAAP'!G40","v":322307.28999999998},8336,null,330643.28999999998,null,{"$f":"'App.2-BA_FA Cont 2010 OldCGAAP'!L40","v":-317918.57},-4629,null,-322547.57,8095.7199999999721]
[10,1930,"Transportation Equipment",{"$f":"'App.2-BA_FA Cont 2010 OldCGAAP'!G41","v":1692751.71},28088,-21450,1699389.71,null,{"$f":"'App.2-BA_FA Cont 2010 OldCGAAP'!L41","v":-1225600.5},-103527,21449.88,-1307677.6200000001,391712.08999999985]
[8,1935,"Stores Equipment",{"$f":"'App.2-BA_FA Cont 2010 OldCGAAP'!G42","v":1761.26},null,null,1761.26,null,{"$f":"'App.2-BA_FA Cont 2010 OldCGAAP'!L42","v":-1761},null,null,-1761,0.25999999999999091]
[8,1940,"Tools, Shop & Garage Equipment",{"$f":"'App.2-BA_FA Cont 2010 OldCGAAP'!G43","v":236383.66},5114,null,241497.66,null,{"$f":"'App.2-BA_FA Cont 2010 OldCGAAP'!L43","v":-212949.75},-6648,null,-219597.75,21899.910000000003]
[8,1945,"Measurement & Testing Equipment",{"$f":"'App.2-BA_FA Cont 2010 OldCGAAP'!G44","v":0},null,null,0,null,{"$f":"'App.2-BA_FA Cont 2010 OldCGAAP'!L44","v":0},null,null,0,0]
[8,1950,"Power Operated Equipment",{"$f":"'App.2-BA_FA Cont 2010 OldCGAAP'!G45","v":0},null,null,0,null,{"$f":"'App.2-BA_FA Cont 2010 OldCGAAP'!L45","v":0},null,null,0,0]
[8,1955,"Communications Equipment",{"$f":"'App.2-BA_FA Cont 2010 OldCGAAP'!G46","v":35201.89},null,null,35201.89,null,{"$f":"'App.2-BA_FA Cont 2010 OldCGAAP'!L46","v":-30109.7},-1131.6199999999999,null,-31241.32,3960.5699999999997]
[8,1955,"Communication Equipment (Smart Meters)",{"$f":"'App.2-BA_FA Cont 2010 OldCGAAP'!G47","v":0},null,null,0,null,{"$f":"'App.2-BA_FA Cont 2010 OldCGAAP'!L47","v":0},null,null,0,0]
[8,1960,"Miscellaneous Equipment ",{"$f":"'App.2-BA_FA Cont 2010 OldCGAAP'!G48","v":0},null,null,0,null,{"$f":"'App.2-BA_FA Cont 2010 OldCGAAP'!L48","v":0},null,null,0,0]
[47,1970,"Load Management Controls Customer Premises",{"$f":"'App.2-BA_FA Cont 2010 OldCGAAP'!G49","v":254912},null,null,254912,null,{"$f":"'App.2-BA_FA Cont 2010 OldCGAAP'!L49","v":-252433.08000000002},-839.35,null,-253272.43000000002,1639.5699999999779]
[47,1975,"Load Management Controls Utility Premises",{"$f":"'App.2-BA_FA Cont 2010 OldCGAAP'!G50","v":64873.19},null,null,64873.19,null,{"$f":"'App.2-BA_FA Cont 2010 OldCGAAP'!L50","v":-64873},null,null,-64873,0.19000000000232831]
[47,1980,"System Supervisor Equipment",{"$f":"'App.2-BA_FA Cont 2010 OldCGAAP'!G51","v":566498.43999999994},null,null,566498.43999999994,null,{"$f":"'App.2-BA_FA Cont 2010 OldCGAAP'!L51","v":-497049.38},-26710,null,-523759.38,42739.059999999939]
[47,1985,"Miscellaneous Fixed Assets",{"$f":"'App.2-BA_FA Cont 2010 OldCGAAP'!G52","v":0},null,null,0,null,{"$f":"'App.2-BA_FA Cont 2010 OldCGAAP'!L52","v":0},null,null,0,0]
[47,1990,"Other Tangible Property",{"$f":"'App.2-BA_FA Cont 2010 OldCGAAP'!G53","v":0},null,null,0,null,{"$f":"'App.2-BA_FA Cont 2010 OldCGAAP'!L53","v":0},null,null,0,0]
[47,1995,"Contributions & Grants",{"$f":"'App.2-BA_FA Cont 2010 OldCGAAP'!G54","v":-1403745.91},-254011.49,null,-1657757.4,null,{"$f":"'App.2-BA_FA Cont 2010 OldCGAAP'!L54","v":319919.20999999996},58443.5,null,378362.70999999996,-1279394.69]
[47,2440,"Deferred Revenue5",{"$f":"'App.2-BA_FA Cont 2010 OldCGAAP'!G55","v":0},null,null,null,null,{"$f":"'App.2-BA_FA Cont 2010 OldCGAAP'!L55","v":0}]
[null,null,null,{"$f":"'App.2-BA_FA Cont 2010 OldCGAAP'!G56","v":0},null,null,0,null,null,null,null,0,0]
[null,null,"Sub-Total",{"$f":"SUM(D17:D56)","v":24380544.830000006},{"$f":"SUM(E17:E56)","v":494206.30999999994},{"$f":"SUM(F17:F56)","v":-61182},{"$f":"SUM(G17:G56)","v":24813569.140000008},null,{"$f":"SUM(I17:I56)","v":-15897786.599999998},{"$f":"SUM(J17:J56)","v":-772867.44000000006},{"$f":"SUM(K17:K56)","v":50104.880000000005},{"$f":"SUM(L17:L56)","v":-16620549.159999996},{"$f":"SUM(M17:M56)","v":8193019.9800000023}]
[null,null,"Less Socialized Renewable Energy Generation Investments (input as negative)",null,null,null,{"$f":"D58+E58+F58","v":0},null,null,null,null,{"$f":"I58+J58+K58","v":0},{"$f":"G58+L58","v":0}]
[null,null,"Less Other Non Rate-Regulated Utility Assets (input as negative)",null,null,null,0,null,null,null,null,0,0]
[null,null,"Total PP&E",{"$f":"SUM(D57:D59)","v":24380544.830000006},{"$f":"SUM(E57:E59)","v":494206.30999999994},-61182,24813569.140000008,null,{"$f":"SUM(I57:I59)","v":-15897786.599999998},-772867.44000000006,50104.880000000005,-16620549.159999996,8193019.9800000023]
[null,null,"Depreciation Expense adj. from gain or loss on the retirement of assets (pool of like assets), if applicable6"]
[null,null,"Total",null,null,null,null,null,null,{"$f":"J60+J61","v":-772867.44000000006}]
[]
[null,null,null,null,null,null,null,null,"Less: Fully Allocated Depreciation"]
[10,null,"Transportation",null,null,null,null,null,"Transportation",null,-100658.98]
[8,null,"Stores Equipment",null,null,null,null,null,"Stores Equipment"]
[null,null,null,null,null,null,null,null,"Net Depreciation",null,{"$f":"J62-K65-K66","v":-672208.46000000008}]
[]
["Notes:"]
[]
[1,"Tables in the format outlined above covering all fixed asset accounts should be submitted for the Test Year, Bridge Year and all relevant historical years.  At a minimum , the applicant must provide data for the earlier of: 1) all historical years back to its last rebasing; or 2) at least three years of historical actuals, in addition to Bridge Year and Test Year forecasts."]
[]
[]
[2,"The \"CCA Class\" for fixed assets should agree with the CCA Class used for tax purposes in Tax Returns. Fixed Assets sub-components may be used where the underlying asset components are classified under multiple CCA Classes for tax purposes. If an applicant uses any different classes from those shown in the table, an explanation should be provided. (also see note 3 below)."]
[]
[]
[3,"The table may need to be customized for a utility's asset categories or for any new asset accounts announced or authorized by the Board."]
[]
[4,"The additions column (E) must not include construction work in progress (CWIP)."]
[]
[5,"Effective on the date of IFRS adoption, customer contributions will no longer be recorded in Account 1995 Contributions & Grants, but will be recorded in Account 2440, Deferred Revenues.  "]
[]
[6,"Where a distributor for general financial reporting purposes under IFRS has accounted for the amount of gain or loss on the retirement of assets in a pool of like assets as a charge or credit to income, for reporting and rate application filings the distributor shall reclassify such gains and losses as depreciation expense, and disclose the amount separately."]

{"sheet":"App.2-BA_FA 2012 OldCGAAP","index":5,"n_rows":83,"n_cols":13,"rows_kept":83,"cut":false,"hidden":false,"merged":[[73,1,74,12],[76,1,76,12],[82,1,83,12],[8,0,8,12],[9,0,9,12],[14,3,14,6],[60,2,60,8],[61,2,61,8],[70,1,71,12]]}
[null,null,null,null,null,null,null,null,null,null,null,"File Number:",{"$f":"EBNUMBER","v":{"$error":"#NAME?"}}]
[null,null,null,null,null,null,null,null,null,null,null,"Exhibit:"]
[null,null,null,null,null,null,null,null,null,null,null,"Tab:"]
[null,null,null,null,null,null,null,null,null,null,null,"Schedule:"]
[null,null,null,null,null,null,null,null,null,null,null,"Page:"]
[]
[null,null,null,null,null,null,null,null,null,null,null,"Date:"]
[]
["Appendix 2-BA"]
["Fixed Asset Continuity Schedule "]
[]
[null,null,null,null,"Accounting Standard","CGAAP","Old CGAAP"]
[null,null,null,null,"Year ",2012]
[]
[null,null,null,"Cost",null,null,null,null,null,"Accumulated Depreciation"]
["CCA Class","OEB","Description","Opening Balance","Additions","Disposals","Closing Balance",null,"Opening Balance","Additions","Disposals","Closing Balance","Net Book Value"]
[12,1611,"Computer Software (Formally known as Account 1925)",{"$f":"'App.2-BA_FA Cont 2011 OldCGAAP'!G17","v":314252.74},0,0,{"$f":"D17+E17+F17","v":314252.74},null,{"$f":"'App.2-BA_FA Cont 2011 OldCGAAP'!L17","v":-300948.96999999997},{"$f":"-1499.99-5447.25-25.2","v":-6972.44},null,{"$f":"I17+J17+K17","v":-307921.40999999997},{"$f":"G17+L17","v":6331.3300000000163}]
["CEC",1612,"Land Rights (Formally known as Account 1906)",{"$f":"'App.2-BA_FA Cont 2011 OldCGAAP'!G18","v":10808.84},0,0,{"$f":"D18+E18+F18","v":10808.84},null,{"$f":"'App.2-BA_FA Cont 2011 OldCGAAP'!L18","v":-7391},-335,null,{"$f":"I18+J18+K18","v":-7726},{"$f":"G18+L18","v":3082.84}]
["N/A",1805,"Land",{"$f":"'App.2-BA_FA Cont 2011 OldCGAAP'!G19","v":130499.26},0,0,{"$f":"D19+E19+F19","v":130499.26},null,{"$f":"'App.2-BA_FA Cont 2011 OldCGAAP'!L19","v":0},0,null,{"$f":"I19+J19+K19","v":0},{"$f":"G19+L19","v":130499.26}]
[47,1808,"Buildings",{"$f":"'App.2-BA_FA Cont 2011 OldCGAAP'!G20","v":486542.70999999996},60160,null,{"$f":"D20+E20+F20","v":546702.71},null,{"$f":"'App.2-BA_FA Cont 2011 OldCGAAP'!L20","v":-265068.20999999996},-10088.040000000001,null,{"$f":"I20+J20+K20","v":-275156.24999999994},{"$f":"G20+L20","v":271546.46000000002}]
[13,1810,"Leasehold Improvements",{"$f":"'App.2-BA_FA Cont 2011 OldCGAAP'!G21","v":0},null,null,0,null,{"$f":"'App.2-BA_FA Cont 2011 OldCGAAP'!L21","v":0},null,null,0,0]
[47,1815,"Transformer Station Equipment >50 kV",{"$f":"'App.2-BA_FA Cont 2011 OldCGAAP'!G22","v":0},null,null,0,null,{"$f":"'App.2-BA_FA Cont 2011 OldCGAAP'!L22","v":0},null,null,0,0]
[47,1820,"Distribution Station Equipment <50 kV",{"$f":"'App.2-BA_FA Cont 2011 OldCGAAP'!G23","v":2820131.89},6177,null,2826308.89,null,{"$f":"'App.2-BA_FA Cont 2011 OldCGAAP'!L23","v":-1757898.22},-59953.03,null,-1817851.25,1008457.6400000001]
[47,1825,"Storage Battery Equipment",{"$f":"'App.2-BA_FA Cont 2011 OldCGAAP'!G24","v":0},null,null,0,null,{"$f":"'App.2-BA_FA Cont 2011 OldCGAAP'!L24","v":0},null,null,0,0]
[47,1830,"Poles, Towers & Fixtures",{"$f":"'App.2-BA_FA Cont 2011 OldCGAAP'!G25","v":8295350.3300000001},88303,null,8383653.3300000001,null,{"$f":"'App.2-BA_FA Cont 2011 OldCGAAP'!L25","v":-6330835.8700000001},{"$f":"-208134.15+2062.18","v":-206071.97},null,-6536907.8399999999,1846745.4900000002]
[47,1835,"Overhead Conductors & Devices",{"$f":"'App.2-BA_FA Cont 2011 OldCGAAP'!G26","v":2697457.73},239543.24,null,2937000.9699999997,null,{"$f":"'App.2-BA_FA Cont 2011 OldCGAAP'!L26","v":-731435.28},{"$f":"-112689.18+4636.71","v":-108052.46999999999},null,-839487.75,2097513.2199999997]
[47,1840,"Underground Conduit",{"$f":"'App.2-BA_FA Cont 2011 OldCGAAP'!G27","v":3032983.47},3645,null,3036628.47,null,{"$f":"'App.2-BA_FA Cont 2011 OldCGAAP'!L27","v":-2201273.89},{"$f":"-100628.65-1361.42","v":-101990.06999999999},null,-2303263.96,733364.51000000024]
[47,1845,"Underground Conductors & Devices",{"$f":"'App.2-BA_FA Cont 2011 OldCGAAP'!G28","v":505591.84},43959,null,549550.84000000008,null,{"$f":"'App.2-BA_FA Cont 2011 OldCGAAP'!L28","v":-89878.03},{"$f":"-21102.84+1822","v":-19280.84},null,-109158.87,440391.97000000009]
[47,1850,"Line Transformers",{"$f":"'App.2-BA_FA Cont 2011 OldCGAAP'!G29","v":3713165.35},119724.37,null,3832889.72,null,{"$f":"'App.2-BA_FA Cont 2011 OldCGAAP'!L29","v":-2224282.7799999998},{"$f":"-109078.79+1074.69","v":-108004.09999999999},null,-2332286.88,1500602.8400000003]
[47,1855,"Services (Overhead & Underground)",{"$f":"'App.2-BA_FA Cont 2011 OldCGAAP'!G30","v":1073999.1000000001},50079,null,1124078.1000000001,null,{"$f":"'App.2-BA_FA Cont 2011 OldCGAAP'!L30","v":-235061.11},{"$f":"-43961.54+2019.73","v":-41941.81},null,-277002.92,847075.18000000017]
[47,1860,"Meters",{"$f":"'App.2-BA_FA Cont 2011 OldCGAAP'!G31","v":65204.410000000091},{"$f":"23542+1054","v":24596},null,89800.410000000091,null,{"$f":"'App.2-BA_FA Cont 2011 OldCGAAP'!L31","v":-9179.2499999999418},-2189.23,null,-11368.479999999941,78431.930000000153]
[47,1860,"Meters (Smart Meters)",{"$f":"'App.2-BA_FA Cont 2011 OldCGAAP'!G32","v":0},null,null,0,null,{"$f":"'App.2-BA_FA Cont 2011 OldCGAAP'!L32","v":0},null,null,0,0]
["N/A",1905,"Land",{"$f":"'App.2-BA_FA Cont 2011 OldCGAAP'!G33","v":0},null,null,0,null,{"$f":"'App.2-BA_FA Cont 2011 OldCGAAP'!L33","v":0},null,null,0,0]
[47,1908,"Buildings & Fixtures",{"$f":"'App.2-BA_FA Cont 2011 OldCGAAP'!G34","v":0},null,null,0,null,{"$f":"'App.2-BA_FA Cont 2011 OldCGAAP'!L34","v":0},null,null,0,0]
[13,1910,"Leasehold Improvements",{"$f":"'App.2-BA_FA Cont 2011 OldCGAAP'!G35","v":0},null,null,0,null,{"$f":"'App.2-BA_FA Cont 2011 OldCGAAP'!L35","v":0},null,null,0,0]
[8,1915,"Office Furniture & Equipment (10 years)",{"$f":"'App.2-BA_FA Cont 2011 OldCGAAP'!G36","v":130561.43},null,null,130561.43,null,{"$f":"'App.2-BA_FA Cont 2011 OldCGAAP'!L36","v":-120929.18999999999},-2538.6999999999998,null,-123467.88999999998,7093.5400000000081]
[8,1915,"Office Furniture & Equipment (5 years)",{"$f":"'App.2-BA_FA Cont 2011 OldCGAAP'!G37","v":0},null,null,0,null,{"$f":"'App.2-BA_FA Cont 2011 OldCGAAP'!L37","v":0},null,null,0,0]
[10,1920,"Computer Equipment - Hardware",{"$f":"'App.2-BA_FA Cont 2011 OldCGAAP'!G38","v":0},null,null,0,null,{"$f":"'App.2-BA_FA Cont 2011 OldCGAAP'!L38","v":0},null,null,0,0]
[45,1920,"Computer Equip.-Hardware(Post Mar. 22/04)",{"$f":"'App.2-BA_FA Cont 2011 OldCGAAP'!G39","v":0},null,null,0,null,{"$f":"'App.2-BA_FA Cont 2011 OldCGAAP'!L39","v":0},null,null,0,0]
[45.1,1920,"Computer Equip.-Hardware(Post Mar. 19/07)",{"$f":"'App.2-BA_FA Cont 2011 OldCGAAP'!G40","v":330643.28999999998},5308,null,335951.29,null,{"$f":"'App.2-BA_FA Cont 2011 OldCGAAP'!L40","v":-322547.57},-4428.93,null,-326976.5,8974.789999999979]
[10,1930,"Transportation Equipment",{"$f":"'App.2-BA_FA Cont 2011 OldCGAAP'!G41","v":1699389.71},145403,-24248,1820544.71,null,{"$f":"'App.2-BA_FA Cont 2011 OldCGAAP'!L41","v":-1307677.6200000001},-90647.9,24248,-1374077.52,446467.18999999994]
[8,1935,"Stores Equipment",{"$f":"'App.2-BA_FA Cont 2011 OldCGAAP'!G42","v":1761.26},null,null,1761.26,null,{"$f":"'App.2-BA_FA Cont 2011 OldCGAAP'!L42","v":-1761},null,null,-1761,0.25999999999999091]
[8,1940,"Tools, Shop & Garage Equipment",{"$f":"'App.2-BA_FA Cont 2011 OldCGAAP'!G43","v":241497.66},12399,null,253896.66,null,{"$f":"'App.2-BA_FA Cont 2011 OldCGAAP'!L43","v":-219597.75},-7117.93,null,-226715.68,27180.98000000001]
[8,1945,"Measurement & Testing Equipment",{"$f":"'App.2-BA_FA Cont 2011 OldCGAAP'!G44","v":0},null,null,0,null,{"$f":"'App.2-BA_FA Cont 2011 OldCGAAP'!L44","v":0},null,null,0,0]
[8,1950,"Power Operated Equipment",{"$f":"'App.2-BA_FA Cont 2011 OldCGAAP'!G45","v":0},null,null,0,null,{"$f":"'App.2-BA_FA Cont 2011 OldCGAAP'!L45","v":0},null,null,0,0]
[8,1955,"Communications Equipment",{"$f":"'App.2-BA_FA Cont 2011 OldCGAAP'!G46","v":35201.89},1574,null,36775.89,null,{"$f":"'App.2-BA_FA Cont 2011 OldCGAAP'!L46","v":-31241.32},-1289.05,null,-32530.37,4245.5200000000004]
[8,1955,"Communication Equipment (Smart Meters)",{"$f":"'App.2-BA_FA Cont 2011 OldCGAAP'!G47","v":0},null,null,0,null,{"$f":"'App.2-BA_FA Cont 2011 OldCGAAP'!L47","v":0},null,null,0,0]
[8,1960,"Miscellaneous Equipment ",{"$f":"'App.2-BA_FA Cont 2011 OldCGAAP'!G48","v":0},null,null,0,null,{"$f":"'App.2-BA_FA Cont 2011 OldCGAAP'!L48","v":0},null,null,0,0]
[47,1970,"Load Management Controls Customer Premises",{"$f":"'App.2-BA_FA Cont 2011 OldCGAAP'!G49","v":254912},null,null,254912,null,{"$f":"'App.2-BA_FA Cont 2011 OldCGAAP'!L49","v":-253272.43000000002},-839,null,-254111.43000000002,800.56999999997788]
[47,1975,"Load Management Controls Utility Premises",{"$f":"'App.2-BA_FA Cont 2011 OldCGAAP'!G50","v":64873.19},null,null,64873.19,null,{"$f":"'App.2-BA_FA Cont 2011 OldCGAAP'!L50","v":-64873},null,null,-64873,0.19000000000232831]
[47,1980,"System Supervisor Equipment",{"$f":"'App.2-BA_FA Cont 2011 OldCGAAP'!G51","v":566498.43999999994},4116,null,570614.43999999994,null,{"$f":"'App.2-BA_FA Cont 2011 OldCGAAP'!L51","v":-523759.38},-23613.62,null,-547373,23241.439999999944]
[47,1985,"Miscellaneous Fixed Assets",{"$f":"'App.2-BA_FA Cont 2011 OldCGAAP'!G52","v":0},null,null,0,null,{"$f":"'App.2-BA_FA Cont 2011 OldCGAAP'!L52","v":0},null,null,0,0]
[47,1990,"Other Tangible Property",{"$f":"'App.2-BA_FA Cont 2011 OldCGAAP'!G53","v":0},0,0,0,null,{"$f":"'App.2-BA_FA Cont 2011 OldCGAAP'!L53","v":0},null,null,0,0]
[47,1995,"Contributions & Grants",{"$f":"'App.2-BA_FA Cont 2011 OldCGAAP'!G54","v":-1657757.4},-347303.89,null,-2005061.29,null,{"$f":"'App.2-BA_FA Cont 2011 OldCGAAP'!L54","v":378362.70999999996},65959.95,null,444322.66,-1560738.6300000001]
[47,2440,"Deferred Revenue5",{"$f":"'App.2-BA_FA Cont 2011 OldCGAAP'!G55","v":0},null,null,null,null,{"$f":"'App.2-BA_FA Cont 2011 OldCGAAP'!L55","v":0}]
[null,null,null,null,null,null,0,null,null,null,null,0,0]
[null,null,"Sub-Total",{"$f":"SUM(D17:D56)","v":24813569.140000008},{"$f":"SUM(E17:E56)","v":457682.72},{"$f":"SUM(F17:F56)","v":-24248},{"$f":"SUM(G17:G56)","v":25247003.860000003},null,{"$f":"SUM(I17:I56)","v":-16620549.159999996},{"$f":"SUM(J17:J56)","v":-729394.18000000017},{"$f":"SUM(K17:K56)","v":24248},{"$f":"SUM(L17:L56)","v":-17325695.340000004},{"$f":"SUM(M17:M56)","v":7921308.5199999968}]
[null,null,"Less Socialized Renewable Energy Generation Investments (input as negative)",null,null,null,{"$f":"D58+E58+F58","v":0},null,null,null,null,{"$f":"I58+J58+K58","v":0},{"$f":"G58+L58","v":0}]
[null,null,"Less Other Non Rate-Regulated Utility Assets (input as negative)",null,null,null,0,null,null,null,null,0,0]
[null,null,"Total PP&E",{"$f":"SUM(D57:D59)","v":24813569.140000008},{"$f":"SUM(E57:E59)","v":457682.72},-24248,25247003.860000003,null,{"$f":"SUM(I57:I59)","v":-16620549.159999996},-729394.18000000017,24248,-17325695.340000004,7921308.5199999968]
[null,null,"Depreciation Expense adj. from gain or loss on the retirement of assets (pool of like assets), if applicable6"]
[null,null,"Total",null,null,null,null,null,null,{"$f":"J60+J61","v":-729394.18000000017}]
[]
[null,null,null,null,null,null,null,null,"Less: Fully Allocated Depreciation"]
[10,null,"Transportation",null,null,null,null,null,"Transportation",null,-81511.490000000005]
[8,null,"Stores Equipment",null,null,null,null,null,"Stores Equipment"]
[null,null,null,null,null,null,null,null,"Net Depreciation",null,{"$f":"J62-K65-K66","v":-647882.69000000018}]
[]
["Notes:"]
[]
[1,"Tables in the format outlined above covering all fixed asset accounts should be submitted for the Test Year, Bridge Year and all relevant historical years.  At a minimum , the applicant must provide data for the earlier of: 1) all historical years back to its last rebasing; or 2) at least three years of historical actuals, in addition to Bridge Year and Test Year forecasts."]
[]
[]
[2,"The \"CCA Class\" for fixed assets should agree with the CCA Class used for tax purposes in Tax Returns. Fixed Assets sub-components may be used where the underlying asset components are classified under multiple CCA Classes for tax purposes. If an applicant uses any different classes from those shown in the table, an explanation should be provided. (also see note 3 below)."]
[]
[]
[3,"The table may need to be customized for a utility's asset categories or for any new asset accounts announced or authorized by the Board."]
[]
[4,"The additions column (E) must not include construction work in progress (CWIP)."]
[]
[5,"Effective on the date of IFRS adoption, customer contributions will no longer be recorded in Account 1995 Contributions & Grants, but will be recorded in Account 2440, Deferred Revenues.  "]
[]
[6,"Where a distributor for general financial reporting purposes under IFRS has accounted for the amount of gain or loss on the retirement of assets in a pool of like assets as a charge or credit to income, for reporting and rate application filings the distributor shall reclassify such gains and losses as depreciation expense, and disclose the amount separately."]

{"sheet":"App.2-BA_FA Cont 2013 OldCGAAP","index":6,"n_rows":84,"n_cols":13,"rows_kept":84,"cut":false,"hidden":false,"merged":[[74,1,75,12],[77,1,77,12],[83,1,84,12],[8,0,8,12],[9,0,9,12],[14,3,14,6],[61,2,61,8],[62,2,62,8],[71,1,72,12]]}
[null,null,null,null,null,null,null,null,null,null,null,"File Number:",{"$f":"EBNUMBER","v":{"$error":"#NAME?"}}]
[null,null,null,null,null,null,null,null,null,null,null,"Exhibit:"]
[null,null,null,null,null,null,null,null,null,null,null,"Tab:"]
[null,null,null,null,null,null,null,null,null,null,null,"Schedule:"]
[null,null,null,null,null,null,null,null,null,null,null,"Page:"]
[]
[null,null,null,null,null,null,null,null,null,null,null,"Date:"]
[]
["Appendix 2-BA"]
["Fixed Asset Continuity Schedule "]
[]
[null,null,null,null,"Accounting Standard","CGAAP","Old CGAAP"]
[null,null,null,null,"Year ",2013]
[]
[null,null,null,"Cost",null,null,null,null,null,"Accumulated Depreciation"]
["CCA Class","OEB","Description","Opening Balance","Additions","Disposals","Closing Balance",null,"Opening Balance","Additions","Disposals","Closing Balance","Net Book Value"]
[12,1611,"Computer Software (Formally known as Account 1925)",{"$f":"+'App.2-BA_FA 2012 OldCGAAP'!G17","v":314252.74},46620,0,{"$f":"D17+E17+F17","v":360872.74},null,{"$f":"'App.2-BA_FA 2012 OldCGAAP'!L17","v":-307921.40999999997},-12684.96,0,{"$f":"I17+J17+K17","v":-320606.37},{"$f":"G17+L17","v":40266.369999999995}]
["CEC",1612,"Land Rights (Formally known as Account 1906)",{"$f":"+'App.2-BA_FA 2012 OldCGAAP'!G18","v":10808.84},null,0,{"$f":"D18+E18+F18","v":10808.84},null,{"$f":"'App.2-BA_FA 2012 OldCGAAP'!L18","v":-7726},-335,0,{"$f":"I18+J18+K18","v":-8061},{"$f":"G18+L18","v":2747.84}]
["N/A",1805,"Land",{"$f":"+'App.2-BA_FA 2012 OldCGAAP'!G19","v":130499.26},null,0,{"$f":"D19+E19+F19","v":130499.26},null,{"$f":"'App.2-BA_FA 2012 OldCGAAP'!L19","v":0},null,0,{"$f":"I19+J19+K19","v":0},{"$f":"G19+L19","v":130499.26}]
[47,1808,"Buildings",{"$f":"+'App.2-BA_FA 2012 OldCGAAP'!G20","v":546702.71},93745,null,{"$f":"D20+E20+F20","v":640447.71},null,{"$f":"'App.2-BA_FA 2012 OldCGAAP'!L20","v":-275156.24999999994},-13163.54,null,{"$f":"I20+J20+K20","v":-288319.78999999992},{"$f":"G20+L20","v":352127.92000000004}]
[13,1810,"Leasehold Improvements",{"$f":"+'App.2-BA_FA 2012 OldCGAAP'!G21","v":0},null,null,0,null,{"$f":"'App.2-BA_FA 2012 OldCGAAP'!L21","v":0},null,null,0,0]
[47,1815,"Transformer Station Equipment >50 kV",{"$f":"+'App.2-BA_FA 2012 OldCGAAP'!G22","v":0},null,null,0,null,{"$f":"'App.2-BA_FA 2012 OldCGAAP'!L22","v":0},null,null,0,0]
[47,1820,"Distribution Station Equipment <50 kV",{"$f":"+'App.2-BA_FA 2012 OldCGAAP'!G23","v":2826308.89},40093,null,2866401.89,null,{"$f":"'App.2-BA_FA 2012 OldCGAAP'!L23","v":-1817851.25},-60502.47,null,-1878353.72,988048.17000000016]
[]
[47,1825,"Storage Battery Equipment",{"$f":"+'App.2-BA_FA 2012 OldCGAAP'!G24","v":0},null,null,0,null,{"$f":"'App.2-BA_FA 2012 OldCGAAP'!L24","v":0},null,null,0,0]
[47,1830,"Poles, Towers & Fixtures",{"$f":"+'App.2-BA_FA 2012 OldCGAAP'!G25","v":8383653.3300000001},161461,null,8545114.3300000001,null,{"$f":"'App.2-BA_FA 2012 OldCGAAP'!L25","v":-6536907.8399999999},-197547,null,-6734454.8399999999,1810659.4900000002]
[47,1835,"Overhead Conductors & Devices",{"$f":"+'App.2-BA_FA 2012 OldCGAAP'!G26","v":2937000.9699999997},224632,null,3161632.9699999997,null,{"$f":"'App.2-BA_FA 2012 OldCGAAP'!L26","v":-839487.75},-121673,null,-961160.75,2200472.2199999997]
[47,1840,"Underground Conduit",{"$f":"+'App.2-BA_FA 2012 OldCGAAP'!G27","v":3036628.47},2064,null,3038692.47,null,{"$f":"'App.2-BA_FA 2012 OldCGAAP'!L27","v":-2303263.96},{"$f":"-97006.25-3073.88","v":-100080.13},null,-2403344.09,635348.38000000035]
[47,1845,"Underground Conductors & Devices",{"$f":"+'App.2-BA_FA 2012 OldCGAAP'!G28","v":549550.84000000008},33860,null,583410.84000000008,null,{"$f":"'App.2-BA_FA 2012 OldCGAAP'!L28","v":-109158.87},-22228,null,-131386.87,452023.97000000009]
[47,1850,"Line Transformers",{"$f":"+'App.2-BA_FA 2012 OldCGAAP'!G29","v":3832889.72},119766.48,null,3952656.2,null,{"$f":"'App.2-BA_FA 2012 OldCGAAP'!L29","v":-2332286.88},{"$f":"-102650.99-6564.48-2572.13","v":-111787.6},null,-2444074.48,1508581.7200000002]
[47,1855,"Services (Overhead & Underground)",{"$f":"+'App.2-BA_FA 2012 OldCGAAP'!G30","v":1124078.1000000001},118992,null,1243070.1000000001,null,{"$f":"'App.2-BA_FA 2012 OldCGAAP'!L30","v":-277002.92},-47342.96,null,-324345.88,918724.22000000009]
[47,1860,"Meters",{"$f":"+'App.2-BA_FA 2012 OldCGAAP'!G31","v":89800.410000000091},{"$f":"17449-8171","v":9278},null,99078.410000000091,null,{"$f":"'App.2-BA_FA 2012 OldCGAAP'!L31","v":-11368.479999999941},-3555,null,-14923.479999999941,84154.930000000153]
[47,1860,"Meters (Smart Meters)",{"$f":"+'App.2-BA_FA 2012 OldCGAAP'!G32","v":0},null,null,0,null,{"$f":"'App.2-BA_FA 2012 OldCGAAP'!L32","v":0},null,null,0,0]
["N/A",1905,"Land",{"$f":"+'App.2-BA_FA 2012 OldCGAAP'!G33","v":0},null,null,0,null,{"$f":"'App.2-BA_FA 2012 OldCGAAP'!L33","v":0},null,null,0,0]
[47,1908,"Buildings & Fixtures",{"$f":"+'App.2-BA_FA 2012 OldCGAAP'!G34","v":0},null,null,0,null,{"$f":"'App.2-BA_FA 2012 OldCGAAP'!L34","v":0},null,null,0,0]
[13,1910,"Leasehold Improvements",{"$f":"+'App.2-BA_FA 2012 OldCGAAP'!G35","v":0},null,null,0,null,{"$f":"'App.2-BA_FA 2012 OldCGAAP'!L35","v":0},null,null,0,0]
[8,1915,"Office Furniture & Equipment (10 years)",{"$f":"+'App.2-BA_FA 2012 OldCGAAP'!G36","v":130561.43},1388,null,131949.43,null,{"$f":"'App.2-BA_FA 2012 OldCGAAP'!L36","v":-123467.88999999998},-1409.66,null,-124877.54999999999,7071.8800000000047]
[8,1915,"Office Furniture & Equipment (5 years)",{"$f":"+'App.2-BA_FA 2012 OldCGAAP'!G37","v":0},null,null,0,null,{"$f":"'App.2-BA_FA 2012 OldCGAAP'!L37","v":0},null,null,0,0]
[10,1920,"Computer Equipment - Hardware",{"$f":"+'App.2-BA_FA 2012 OldCGAAP'!G38","v":0},null,null,0,null,{"$f":"'App.2-BA_FA 2012 OldCGAAP'!L38","v":0},null,null,0,0]
[45,1920,"Computer Equip.-Hardware(Post Mar. 22/04)",{"$f":"+'App.2-BA_FA 2012 OldCGAAP'!G39","v":0},null,null,0,null,{"$f":"'App.2-BA_FA 2012 OldCGAAP'!L39","v":0},null,null,0,0]
[45.1,1920,"Computer Equip.-Hardware(Post Mar. 19/07)",{"$f":"+'App.2-BA_FA 2012 OldCGAAP'!G40","v":335951.29},28127,null,364078.29,null,{"$f":"'App.2-BA_FA 2012 OldCGAAP'!L40","v":-326976.5},-9618.64,null,-336595.14,27483.149999999965]
[10,1930,"Transportation Equipment",{"$f":"+'App.2-BA_FA 2012 OldCGAAP'!G41","v":1820544.71},457242,-51998.71,2225788,null,{"$f":"'App.2-BA_FA 2012 OldCGAAP'!L41","v":-1374077.52},-125582.76,51998.71,-1447661.57,778126.42999999993]
[8,1935,"Stores Equipment",{"$f":"+'App.2-BA_FA 2012 OldCGAAP'!G42","v":1761.26},null,null,1761.26,null,{"$f":"'App.2-BA_FA 2012 OldCGAAP'!L42","v":-1761},null,null,-1761,0.25999999999999091]
[8,1940,"Tools, Shop & Garage Equipment",{"$f":"+'App.2-BA_FA 2012 OldCGAAP'!G43","v":253896.66},6273,null,260169.66,null,{"$f":"'App.2-BA_FA 2012 OldCGAAP'!L43","v":-226715.68},-6673.37,null,-233389.05,26780.610000000015]
[8,1945,"Measurement & Testing Equipment",{"$f":"+'App.2-BA_FA 2012 OldCGAAP'!G44","v":0},18090,null,18090,null,{"$f":"'App.2-BA_FA 2012 OldCGAAP'!L44","v":0},-904.5,null,-904.5,17185.5]
[8,1950,"Power Operated Equipment",{"$f":"+'App.2-BA_FA 2012 OldCGAAP'!G45","v":0},null,null,0,null,{"$f":"'App.2-BA_FA 2012 OldCGAAP'!L45","v":0},null,null,0,0]
[8,1955,"Communications Equipment",{"$f":"+'App.2-BA_FA 2012 OldCGAAP'!G46","v":36775.89},null,null,36775.89,null,{"$f":"'App.2-BA_FA 2012 OldCGAAP'!L46","v":-32530.37},-1446.49,null,-33976.86,2799.0299999999988]
[8,1955,"Communication Equipment (Smart Meters)",{"$f":"+'App.2-BA_FA 2012 OldCGAAP'!G47","v":0},null,null,0,null,{"$f":"'App.2-BA_FA 2012 OldCGAAP'!L47","v":0},null,null,0,0]
[8,1960,"Miscellaneous Equipment ",{"$f":"+'App.2-BA_FA 2012 OldCGAAP'!G48","v":0},12104,null,12104,null,{"$f":"'App.2-BA_FA 2012 OldCGAAP'!L48","v":0},-605.20000000000005,null,-605.20000000000005,11498.8]
[47,1970,"Load Management Controls Customer Premises",{"$f":"+'App.2-BA_FA 2012 OldCGAAP'!G49","v":254912},null,null,254912,null,{"$f":"'App.2-BA_FA 2012 OldCGAAP'!L49","v":-254111.43000000002},-801,null,-254912.43000000002,-0.43000000002211891]
[47,1975,"Load Management Controls Utility Premises",{"$f":"+'App.2-BA_FA 2012 OldCGAAP'!G50","v":64873.19},null,null,64873.19,null,{"$f":"'App.2-BA_FA 2012 OldCGAAP'!L50","v":-64873},null,null,-64873,0.19000000000232831]
[47,1980,"System Supervisor Equipment",{"$f":"+'App.2-BA_FA 2012 OldCGAAP'!G51","v":570614.43999999994},503,null,571117.43999999994,null,{"$f":"'App.2-BA_FA 2012 OldCGAAP'!L51","v":-547373},-13678.56,null,-561051.56000000006,10065.879999999888]
[47,1985,"Miscellaneous Fixed Assets",{"$f":"+'App.2-BA_FA 2012 OldCGAAP'!G52","v":0},null,null,0,null,{"$f":"'App.2-BA_FA 2012 OldCGAAP'!L52","v":0},null,null,0,0]
[47,1990,"Other Tangible Property",{"$f":"+'App.2-BA_FA 2012 OldCGAAP'!G53","v":0},null,null,0,null,{"$f":"'App.2-BA_FA 2012 OldCGAAP'!L53","v":0},null,null,0,0]
[47,1995,"Contributions & Grants",{"$f":"+'App.2-BA_FA 2012 OldCGAAP'!G54","v":-2005061.29},-35216.9,null,-2040278.19,null,{"$f":"'App.2-BA_FA 2012 OldCGAAP'!L54","v":444322.66},69166,null,513488.66,-1526789.53]
[47,2440,"Deferred Revenue5",{"$f":"+'App.2-BA_FA 2012 OldCGAAP'!G55","v":0},null,null,null,null,{"$f":"'App.2-BA_FA 2012 OldCGAAP'!L55","v":0}]
[null,null,null,null,null,null,0,null,{"$f":"'App.2-BA_FA Cont 2011 OldCGAAP'!L56","v":0},null,null,0,0]
[null,null,"Sub-Total",{"$f":"SUM(D17:D57)","v":25247003.860000003},{"$f":"SUM(E17:E57)","v":1339021.58},{"$f":"SUM(F17:F57)","v":-51998.71},{"$f":"SUM(G17:G57)","v":26534026.73},null,{"$f":"SUM(I17:I57)","v":-17325695.340000004},{"$f":"SUM(J17:J57)","v":-782453.84},{"$f":"SUM(K17:K57)","v":51998.71},{"$f":"SUM(L17:L57)","v":-18056150.469999999},{"$f":"SUM(M17:M57)","v":8477876.2599999998}]
[null,null,"Less Socialized Renewable Energy Generation Investments (input as negative)",null,null,null,{"$f":"D59+E59+F59","v":0},null,null,null,null,{"$f":"I59+J59+K59","v":0},{"$f":"G59+L59","v":0}]
[null,null,"Less Other Non Rate-Regulated Utility Assets (input as negative)",null,null,null,0,null,null,null,null,0,0]
[null,null,"Total PP&E",{"$f":"SUM(D58:D60)","v":25247003.860000003},{"$f":"SUM(E58:E60)","v":1339021.58},-51998.71,26534026.73,null,{"$f":"SUM(I58:I60)","v":-17325695.340000004},-782453.84,51998.71,-18056150.469999999,8477876.2599999998]
[null,null,"Depreciation Expense adj. from gain or loss on the retirement of assets (pool of like assets), if applicable6"]
[null,null,"Total",null,null,null,null,null,null,{"$f":"J61+J62","v":-782453.84}]
[]
[null,null,null,null,null,null,null,null,"Less: Fully Allocated Depreciation"]
[10,null,"Transportation",null,null,null,null,null,"Transportation",null,-109895.88]
[8,null,"Stores Equipment",null,null,null,null,null,"Stores Equipment"]
[null,null,null,null,null,null,null,null,"Net Depreciation",null,{"$f":"J63-K66-K67","v":-672557.96}]
[]
["Notes:"]
[]
[1,"Tables in the format outlined above covering all fixed asset accounts should be submitted for the Test Year, Bridge Year and all relevant historical years.  At a minimum , the applicant must provide data for the earlier of: 1) all historical years back to its last rebasing; or 2) at least three years of historical actuals, in addition to Bridge Year and Test Year forecasts."]
[]
[]
[2,"The \"CCA Class\" for fixed assets should agree with the CCA Class used for tax purposes in Tax Returns. Fixed Assets sub-components may be used where the underlying asset components are classified under multiple CCA Classes for tax purposes. If an applicant uses any different classes from those shown in the table, an explanation should be provided. (also see note 3 below)."]
[]
[]
[3,"The table may need to be customized for a utility's asset categories or for any new asset accounts announced or authorized by the Board."]
[]
[4,"The additions column (E) must not include construction work in progress (CWIP)."]
[]
[5,"Effective on the date of IFRS adoption, customer contributions will no longer be recorded in Account 1995 Contributions & Grants, but will be recorded in Account 2440, Deferred Revenues.  "]
[]
[6,"Where a distributor for general financial reporting purposes under IFRS has accounted for the amount of gain or loss on the retirement of assets in a pool of like assets as a charge or credit to income, for reporting and rate application filings the distributor shall reclassify such gains and losses as depreciation expense, and disclose the amount separately."]

{"sheet":"App.2-BA_FA Cont 2013 NewCGAAP","index":7,"n_rows":83,"n_cols":13,"rows_kept":83,"cut":false,"hidden":false,"merged":[[73,1,74,12],[76,1,76,12],[82,1,83,12],[8,0,8,12],[9,0,9,12],[14,3,14,6],[60,2,60,8],[61,2,61,8],[70,1,71,12]]}
[null,null,null,null,null,null,null,null,null,null,null,"File Number:",{"$f":"EBNUMBER","v":{"$error":"#NAME?"}}]
[null,null,null,null,null,null,null,null,null,null,null,"Exhibit:"]
[null,null,null,null,null,null,null,null,null,null,null,"Tab:"]
[null,null,null,null,null,null,null,null,null,null,null,"Schedule:"]
[null,null,null,null,null,null,null,null,null,null,null,"Page:"]
[]
[null,null,null,null,null,null,null,null,null,null,null,"Date:"]
[]
["Appendix 2-BA"]
["Fixed Asset Continuity Schedule "]
[]
[null,null,null,null,"Accounting Standard","CGAAP","New CGAAP"]
[null,null,null,null,"Year ",2013]
[]
[null,null,null,"Cost",null,null,null,null,null,"Accumulated Depreciation"]
["CCA Class","OEB","Description","Opening Balance","Additions","Disposals","Closing Balance",null,"Opening Balance","Additions","Disposals","Closing Balance","Net Book Value"]
[12,1611,"Computer Software (Formally known as Account 1925)",{"$f":"+'App.2-BA_FA 2012 OldCGAAP'!G17","v":314252.74},46620,null,{"$f":"D17+E17+F17","v":360872.74},null,{"$f":"+'App.2-BA_FA 2012 OldCGAAP'!L17","v":-307921.40999999997},-12684.96,null,{"$f":"I17+J17+K17","v":-320606.37},{"$f":"G17+L17","v":40266.369999999995}]
["CEC",1612,"Land Rights (Formally known as Account 1906)",{"$f":"+'App.2-BA_FA 2012 OldCGAAP'!G18","v":10808.84},null,null,{"$f":"D18+E18+F18","v":10808.84},null,{"$f":"+'App.2-BA_FA 2012 OldCGAAP'!L18","v":-7726},-335,null,{"$f":"I18+J18+K18","v":-8061},{"$f":"G18+L18","v":2747.84}]
["N/A",1805,"Land",{"$f":"+'App.2-BA_FA 2012 OldCGAAP'!G19","v":130499.26},null,null,{"$f":"D19+E19+F19","v":130499.26},null,{"$f":"'App.2-BA_FA Cont 2013 OldCGAAP'!L19","v":0},null,null,{"$f":"I19+J19+K19","v":0},{"$f":"G19+L19","v":130499.26}]
[47,1808,"Buildings",{"$f":"+'App.2-BA_FA 2012 OldCGAAP'!G20","v":546702.71},93745,null,{"$f":"D20+E20+F20","v":640447.71},null,{"$f":"+'App.2-BA_FA 2012 OldCGAAP'!L20","v":-275156.24999999994},{"$f":"-9706-3458","v":-13164},null,{"$f":"I20+J20+K20","v":-288320.24999999994},{"$f":"G20+L20","v":352127.46}]
[13,1810,"Leasehold Improvements",{"$f":"+'App.2-BA_FA 2012 OldCGAAP'!G21","v":0},null,null,0,null,{"$f":"'App.2-BA_FA Cont 2013 OldCGAAP'!L21","v":0},null,null,0,0]
[47,1815,"Transformer Station Equipment >50 kV",{"$f":"+'App.2-BA_FA 2012 OldCGAAP'!G22","v":0},null,null,0,null,{"$f":"'App.2-BA_FA Cont 2013 OldCGAAP'!L22","v":0},null,null,0,0]
[47,1820,"Distribution Station Equipment <50 kV",{"$f":"+'App.2-BA_FA 2012 OldCGAAP'!G23","v":2826308.89},40093,null,2866401.89,null,{"$f":"+'App.2-BA_FA 2012 OldCGAAP'!L23","v":-1817851.25},-60502.57,null,-1878353.82,988048.07000000007]
[47,1825,"Storage Battery Equipment",{"$f":"+'App.2-BA_FA 2012 OldCGAAP'!G24","v":0},null,null,0,null,{"$f":"'App.2-BA_FA Cont 2013 OldCGAAP'!L25","v":0},null,null,0,0]
[47,1830,"Poles, Towers & Fixtures",{"$f":"+'App.2-BA_FA 2012 OldCGAAP'!G25","v":8383653.3300000001},161461,null,8545114.3300000001,null,{"$f":"+'App.2-BA_FA 2012 OldCGAAP'!L25","v":-6536907.8399999999},-184628.03000000003,null,-6721535.8700000001,1823578.46]
[47,1835,"Overhead Conductors & Devices",{"$f":"+'App.2-BA_FA 2012 OldCGAAP'!G26","v":2937000.9699999997},224632,null,3161632.9699999997,null,{"$f":"+'App.2-BA_FA 2012 OldCGAAP'!L26","v":-839487.75},-112036.68,null,-951524.42999999993,2210108.54]
[47,1840,"Underground Conduit",{"$f":"+'App.2-BA_FA 2012 OldCGAAP'!G27","v":3036628.47},2064,null,3038692.47,null,{"$f":"+'App.2-BA_FA 2012 OldCGAAP'!L27","v":-2303263.96},-97006.25,null,-2400270.21,638422.26000000024]
[47,1845,"Underground Conductors & Devices",{"$f":"+'App.2-BA_FA 2012 OldCGAAP'!G28","v":549550.84000000008},33860,null,583410.84000000008,null,{"$f":"+'App.2-BA_FA 2012 OldCGAAP'!L28","v":-109158.87},-20253.36,null,-129412.23,453998.6100000001]
[47,1850,"Line Transformers",{"$f":"+'App.2-BA_FA 2012 OldCGAAP'!G29","v":3832889.72},119766,null,3952655.72,null,{"$f":"+'App.2-BA_FA 2012 OldCGAAP'!L29","v":-2332286.88},-102650.98999999999,null,-2434937.87,1517717.85]
[47,1855,"Services (Overhead & Underground)",{"$f":"+'App.2-BA_FA 2012 OldCGAAP'!G30","v":1124078.1000000001},118992,null,1243070.1000000001,null,{"$f":"+'App.2-BA_FA 2012 OldCGAAP'!L30","v":-277002.92},-43918.049999999996,null,-320920.96999999997,922149.13000000012]
[47,1860,"Meters",{"$f":"+'App.2-BA_FA 2012 OldCGAAP'!G31","v":89800.410000000091},9278,null,99078.410000000091,null,{"$f":"+'App.2-BA_FA 2012 OldCGAAP'!L31","v":-11368.479999999941},-2968.93,null,-14337.409999999942,84741.000000000146]
[47,1860,"Meters (Smart Meters)",{"$f":"+'App.2-BA_FA 2012 OldCGAAP'!G32","v":0},null,null,0,null,{"$f":"'App.2-BA_FA Cont 2013 OldCGAAP'!L33","v":0},null,null,0,0]
["N/A",1905,"Land",{"$f":"+'App.2-BA_FA 2012 OldCGAAP'!G33","v":0},null,null,0,null,{"$f":"'App.2-BA_FA Cont 2013 OldCGAAP'!L34","v":0},null,null,0,0]
[47,1908,"Buildings & Fixtures",{"$f":"+'App.2-BA_FA 2012 OldCGAAP'!G34","v":0},null,null,0,null,{"$f":"'App.2-BA_FA Cont 2013 OldCGAAP'!L35","v":0},null,null,0,0]
[13,1910,"Leasehold Improvements",{"$f":"+'App.2-BA_FA 2012 OldCGAAP'!G35","v":0},null,null,0,null,{"$f":"'App.2-BA_FA Cont 2013 OldCGAAP'!L36","v":0},null,null,0,0]
[8,1915,"Office Furniture & Equipment (10 years)",{"$f":"+'App.2-BA_FA 2012 OldCGAAP'!G36","v":130561.43},1388,null,131949.43,null,{"$f":"+'App.2-BA_FA 2012 OldCGAAP'!L36","v":-123467.88999999998},-1409.66,null,-124877.54999999999,7071.8800000000047]
[8,1915,"Office Furniture & Equipment (5 years)",{"$f":"+'App.2-BA_FA 2012 OldCGAAP'!G37","v":0},null,null,0,null,{"$f":"'App.2-BA_FA Cont 2013 OldCGAAP'!L38","v":0},null,null,0,0]
[10,1920,"Computer Equipment - Hardware",{"$f":"+'App.2-BA_FA 2012 OldCGAAP'!G38","v":0},null,null,0,null,{"$f":"'App.2-BA_FA Cont 2013 OldCGAAP'!L39","v":0},null,null,0,0]
[45,1920,"Computer Equip.-Hardware(Post Mar. 22/04)",{"$f":"+'App.2-BA_FA 2012 OldCGAAP'!G39","v":0},null,null,0,null,{"$f":"'App.2-BA_FA Cont 2013 OldCGAAP'!L40","v":0},null,null,0,0]
[45.1,1920,"Computer Equip.-Hardware(Post Mar. 19/07)",{"$f":"+'App.2-BA_FA 2012 OldCGAAP'!G40","v":335951.29},28127,null,364078.29,null,{"$f":"+'App.2-BA_FA 2012 OldCGAAP'!L40","v":-326976.5},-9618.64,null,-336595.14,27483.149999999965]
[10,1930,"Transportation Equipment",{"$f":"+'App.2-BA_FA 2012 OldCGAAP'!G41","v":1820544.71},457242,-51999,2225787.71,null,{"$f":"+'App.2-BA_FA 2012 OldCGAAP'!L41","v":-1374077.52},-125582.76,51998.71,-1447661.57,778126.1399999999]
[8,1935,"Stores Equipment",{"$f":"+'App.2-BA_FA 2012 OldCGAAP'!G42","v":1761.26},null,null,1761.26,null,{"$f":"+'App.2-BA_FA 2012 OldCGAAP'!L42","v":-1761},null,null,-1761,0.25999999999999091]
[8,1940,"Tools, Shop & Garage Equipment",{"$f":"+'App.2-BA_FA 2012 OldCGAAP'!G43","v":253896.66},6273,null,260169.66,null,{"$f":"+'App.2-BA_FA 2012 OldCGAAP'!L43","v":-226715.68},-6673.37,null,-233389.05,26780.610000000015]
[8,1945,"Measurement & Testing Equipment",{"$f":"+'App.2-BA_FA 2012 OldCGAAP'!G44","v":0},18090,null,18090,null,{"$f":"+'App.2-BA_FA 2012 OldCGAAP'!L44","v":0},-905,null,-905,17185]
[8,1950,"Power Operated Equipment",{"$f":"+'App.2-BA_FA 2012 OldCGAAP'!G45","v":0},null,null,0,null,{"$f":"'App.2-BA_FA Cont 2013 OldCGAAP'!L46","v":0},null,null,0,0]
[8,1955,"Communications Equipment",{"$f":"+'App.2-BA_FA 2012 OldCGAAP'!G46","v":36775.89},null,null,36775.89,null,{"$f":"+'App.2-BA_FA 2012 OldCGAAP'!L46","v":-32530.37},-1446.49,null,-33976.86,2799.0299999999988]
[8,1955,"Communication Equipment (Smart Meters)",{"$f":"+'App.2-BA_FA 2012 OldCGAAP'!G47","v":0},null,null,0,null,{"$f":"'App.2-BA_FA Cont 2013 OldCGAAP'!L48","v":0},null,null,0,0]
[8,1960,"Miscellaneous Equipment ",{"$f":"+'App.2-BA_FA 2012 OldCGAAP'!G48","v":0},12104,null,12104,null,{"$f":"+'App.2-BA_FA 2012 OldCGAAP'!L48","v":0},-605.20000000000005,null,-605.20000000000005,11498.8]
[47,1970,"Load Management Controls Customer Premises",{"$f":"+'App.2-BA_FA 2012 OldCGAAP'!G49","v":254912},null,null,254912,null,{"$f":"+'App.2-BA_FA 2012 OldCGAAP'!L49","v":-254111.43000000002},-800.22,null,-254911.65000000002,0.34999999997671694]
[47,1975,"Load Management Controls Utility Premises",{"$f":"+'App.2-BA_FA 2012 OldCGAAP'!G50","v":64873.19},null,null,64873.19,null,{"$f":"+'App.2-BA_FA 2012 OldCGAAP'!L50","v":-64873},null,null,-64873,0.19000000000232831]
[47,1980,"System Supervisor Equipment",{"$f":"+'App.2-BA_FA 2012 OldCGAAP'!G51","v":570614.43999999994},503,null,571117.43999999994,null,{"$f":"+'App.2-BA_FA 2012 OldCGAAP'!L51","v":-547373},-13679,null,-561052,10065.439999999944]
[47,1985,"Miscellaneous Fixed Assets",{"$f":"+'App.2-BA_FA 2012 OldCGAAP'!G52","v":0},0,0,0,null,{"$f":"+'App.2-BA_FA 2012 OldCGAAP'!L52","v":0},0,0,0,0]
[47,1990,"Other Tangible Property",{"$f":"+'App.2-BA_FA 2012 OldCGAAP'!G53","v":0},null,null,0,null,{"$f":"+'App.2-BA_FA 2012 OldCGAAP'!L53","v":0},null,null,0,0]
[47,1995,"Contributions & Grants",{"$f":"+'App.2-BA_FA 2012 OldCGAAP'!G54","v":-2005061.29},-35216.9,null,-2040278.19,null,{"$f":"+'App.2-BA_FA 2012 OldCGAAP'!L54","v":444322.66},69166,null,513488.66,-1526789.53]
[47,2440,"Deferred Revenue5",{"$f":"+'App.2-BA_FA 2012 OldCGAAP'!G55","v":0},null,null,null,null,{"$f":"+'App.2-BA_FA 2012 OldCGAAP'!L55","v":0}]
[null,null,null,null,null,null,0,null,null,null,null,0,0]
[null,null,"Sub-Total",{"$f":"SUM(D17:D56)","v":25247003.860000003},{"$f":"SUM(E17:E56)","v":1339021.1000000001},{"$f":"SUM(F17:F56)","v":-51999},{"$f":"SUM(G17:G56)","v":26534025.960000001},null,{"$f":"SUM(I17:I56)","v":-17325695.340000004},{"$f":"SUM(J17:J56)","v":-741703.16000000015},{"$f":"SUM(K17:K56)","v":51998.71},{"$f":"SUM(L17:L56)","v":-18015399.789999999},{"$f":"SUM(M17:M56)","v":8518626.1700000018}]
[null,null,"Less Socialized Renewable Energy Generation Investments (input as negative)",null,null,null,{"$f":"D58+E58+F58","v":0},null,null,null,null,{"$f":"I58+J58+K58","v":0},{"$f":"G58+L58","v":0}]
[null,null,"Less Other Non Rate-Regulated Utility Assets (input as negative)",null,null,null,0,null,null,null,null,0,0]
[null,null,"Total PP&E",{"$f":"SUM(D57:D59)","v":25247003.860000003},{"$f":"SUM(E57:E59)","v":1339021.1000000001},-51999,26534025.960000001,null,{"$f":"SUM(I57:I59)","v":-17325695.340000004},-741703.16000000015,51998.71,-18015399.789999999,8518626.1700000018]
[null,null,"Depreciation Expense adj. from gain or loss on the retirement of assets (pool of like assets), if applicable6"]
[null,null,"Total",null,null,null,null,null,null,{"$f":"J60+J61","v":-741703.16000000015}]
[]
[null,null,null,null,null,null,null,null,"Less: Fully Allocated Depreciation"]
[10,null,"Transportation",null,null,null,null,null,"Transportation",null,-109896]
[8,null,"Stores Equipment",null,null,null,null,null,"Stores Equipment"]
[null,null,null,null,null,null,null,null,"Net Depreciation",null,{"$f":"J62-K65-K66","v":-631807.16000000015}]
[]
["Notes:"]
[]
[1,"Tables in the format outlined above covering all fixed asset accounts should be submitted for the Test Year, Bridge Year and all relevant historical years.  At a minimum , the applicant must provide data for the earlier of: 1) all historical years back to its last rebasing; or 2) at least three years of historical actuals, in addition to Bridge Year and Test Year forecasts."]
[]
[]
[2,"The \"CCA Class\" for fixed assets should agree with the CCA Class used for tax purposes in Tax Returns. Fixed Assets sub-components may be used where the underlying asset components are classified under multiple CCA Classes for tax purposes. If an applicant uses any different classes from those shown in the table, an explanation should be provided. (also see note 3 below)."]
[]
[]
[3,"The table may need to be customized for a utility's asset categories or for any new asset accounts announced or authorized by the Board."]
[]
[4,"The additions column (E) must not include construction work in progress (CWIP)."]
[]
[5,"Effective on the date of IFRS adoption, customer contributions will no longer be recorded in Account 1995 Contributions & Grants, but will be recorded in Account 2440, Deferred Revenues.  "]
[]
[6,"Where a distributor for general financial reporting purposes under IFRS has accounted for the amount of gain or loss on the retirement of assets in a pool of like assets as a charge or credit to income, for reporting and rate application filings the distributor shall reclassify such gains and losses as depreciation expense, and disclose the amount separately."]

{"sheet":"App.2-BA_FA Cont 2014 OldCGAAP","index":8,"n_rows":83,"n_cols":13,"rows_kept":83,"cut":false,"hidden":false,"merged":[[73,1,74,12],[76,1,76,12],[82,1,83,12],[8,0,8,12],[9,0,9,12],[14,3,14,6],[60,2,60,8],[61,2,61,8],[70,1,71,12]]}
[null,null,null,null,null,null,null,null,null,null,null,"File Number:",{"$f":"EBNUMBER","v":{"$error":"#NAME?"}}]
[null,null,null,null,null,null,null,null,null,null,null,"Exhibit:"]
[null,null,null,null,null,null,null,null,null,null,null,"Tab:"]
[null,null,null,null,null,null,null,null,null,null,null,"Schedule:"]
[null,null,null,null,null,null,null,null,null,null,null,"Page:"]
[]
[null,null,null,null,null,null,null,null,null,null,null,"Date:"]
[]
["Appendix 2-BA"]
["Fixed Asset Continuity Schedule "]
[]
[null,null,null,null,"Accounting Standard","CGAAP","New CGAAP"]
[null,null,null,null,"Year ",2014]
[]
[null,null,null,"Cost",null,null,null,null,null,"Accumulated Depreciation"]
["CCA Class","OEB","Description","Opening Balance","Additions","Disposals","Closing Balance",null,"Opening Balance","Additions","Disposals","Closing Balance","Net Book Value"]
[12,1611,"Computer Software (Formally known as Account 1925)",{"$f":"'App.2-BA_FA Cont 2013 NewCGAAP'!G17","v":360872.74},40967,null,{"$f":"D17+E17+F17","v":401839.74},null,{"$f":"+'App.2-BA_FA Cont 2013 OldCGAAP'!L17","v":-320606.37},{"$f":"-23809-4135.57","v":-27944.57},null,{"$f":"I17+J17+K17","v":-348550.94},{"$f":"G17+L17","v":53288.799999999988}]
["CEC",1612,"Land Rights (Formally known as Account 1906)",{"$f":"'App.2-BA_FA Cont 2013 NewCGAAP'!G18","v":10808.84},null,null,{"$f":"D18+E18+F18","v":10808.84},null,{"$f":"+'App.2-BA_FA Cont 2013 OldCGAAP'!L18","v":-8061},-335,null,{"$f":"I18+J18+K18","v":-8396},{"$f":"G18+L18","v":2412.84}]
["N/A",1805,"Land",{"$f":"'App.2-BA_FA Cont 2013 NewCGAAP'!G19","v":130499.26},null,null,{"$f":"D19+E19+F19","v":130499.26},null,{"$f":"'App.2-BA_FA Cont 2013 NewCGAAP'!L19","v":0},null,null,{"$f":"I19+J19+K19","v":0},{"$f":"G19+L19","v":130499.26}]
[47,1808,"Buildings",{"$f":"'App.2-BA_FA Cont 2013 NewCGAAP'!G20","v":640447.71},24730,null,{"$f":"D20+E20+F20","v":665177.71},null,{"$f":"+'App.2-BA_FA Cont 2013 OldCGAAP'!L20","v":-288319.78999999992},{"$f":"-11445-3953","v":-15398},null,{"$f":"I20+J20+K20","v":-303717.78999999992},{"$f":"G20+L20","v":361459.92000000004}]
[13,1810,"Leasehold Improvements",{"$f":"'App.2-BA_FA Cont 2013 NewCGAAP'!G21","v":0},null,null,0,null,{"$f":"'App.2-BA_FA Cont 2013 NewCGAAP'!L21","v":0},null,null,0,0]
[47,1815,"Transformer Station Equipment >50 kV",{"$f":"'App.2-BA_FA Cont 2013 NewCGAAP'!G22","v":0},null,null,0,null,{"$f":"'App.2-BA_FA Cont 2013 NewCGAAP'!L22","v":0},null,null,0,0]
[47,1820,"Distribution Station Equipment <50 kV",{"$f":"'App.2-BA_FA Cont 2013 NewCGAAP'!G23","v":2866401.89},{"$f":"2203+84326+20935","v":107464},null,2973865.89,null,{"$f":"+'App.2-BA_FA Cont 2013 OldCGAAP'!L23","v":-1878353.72},{"$f":"-29760-13438-18705-698+574.51","v":-62026.49},null,-1940380.21,1033485.6800000002]
[47,1825,"Storage Battery Equipment",{"$f":"'App.2-BA_FA Cont 2013 NewCGAAP'!G24","v":0},null,null,0,null,{"$f":"'App.2-BA_FA Cont 2013 NewCGAAP'!L24","v":0},null,null,0,0]
[47,1830,"Poles, Towers & Fixtures",{"$f":"'App.2-BA_FA Cont 2013 NewCGAAP'!G25","v":8545114.3300000001},74730,null,8619844.3300000001,null,{"$f":"+'App.2-BA_FA Cont 2013 OldCGAAP'!L26","v":-6734454.8399999999},{"$f":"-173813-830-4992.75-1363.55","v":-180999.3},null,-6915454.1399999997,1704390.1900000004]
[47,1835,"Overhead Conductors & Devices",{"$f":"'App.2-BA_FA Cont 2013 NewCGAAP'!G26","v":3161632.9699999997},{"$f":"313555+28281+2763","v":344599},null,3506231.9699999997,null,{"$f":"+'App.2-BA_FA Cont 2013 OldCGAAP'!L27","v":-961160.75},{"$f":"-110116-6076-663-63-13588.46-3693.68","v":-134200.13999999998},null,-1095360.8899999999,2410871.08]
[47,1840,"Underground Conduit",{"$f":"'App.2-BA_FA Cont 2013 NewCGAAP'!G27","v":3038692.47},43881,null,3082573.47,null,{"$f":"+'App.2-BA_FA Cont 2013 OldCGAAP'!L28","v":-2403344.09},{"$f":"-92782-590-1730.62","v":-95102.62},null,-2498446.71,584126.76000000024]
[47,1845,"Underground Conductors & Devices",{"$f":"'App.2-BA_FA Cont 2013 NewCGAAP'!G28","v":583410.84000000008},176031,null,759441.84000000008,null,{"$f":"+'App.2-BA_FA Cont 2013 OldCGAAP'!L29","v":-131386.87},{"$f":"-19830-3047-3980.07","v":-26857.07},null,-158243.94,601197.90000000014]
[47,1850,"Line Transformers",{"$f":"'App.2-BA_FA Cont 2013 NewCGAAP'!G29","v":3952655.72},158090,null,4110745.72,null,{"$f":"+'App.2-BA_FA Cont 2013 OldCGAAP'!L30","v":-2444074.48},{"$f":"-92057-3824-4066.7-2488.98","v":-102436.68},null,-2546511.16,1564234.56]
[47,1855,"Services (Overhead & Underground)",{"$f":"'App.2-BA_FA Cont 2013 NewCGAAP'!G30","v":1243070.1000000001},{"$f":"13559+66725","v":80284},null,1323354.1000000001,null,{"$f":"+'App.2-BA_FA Cont 2013 OldCGAAP'!L31","v":-324345.88},{"$f":"-42483-323-3493-1624.44-3528.37","v":-51451.810000000005},null,-375797.69,947556.41000000015]
[47,1860,"Meters",{"$f":"'App.2-BA_FA Cont 2013 NewCGAAP'!G31","v":99078.410000000091},null,null,99078.410000000091,null,{"$f":"+'App.2-BA_FA Cont 2013 OldCGAAP'!L32","v":-14923.479999999941},{"$f":"-74-2783","v":-2857},null,-17780.479999999941,81297.930000000153]
[47,1860,"Meters (Smart Meters)",{"$f":"'App.2-BA_FA Cont 2013 NewCGAAP'!G32","v":0},31909,null,31909,null,{"$f":"'App.2-BA_FA Cont 2013 NewCGAAP'!L32","v":0},-1064,null,-1064,30845]
["N/A",1905,"Land",{"$f":"'App.2-BA_FA Cont 2013 NewCGAAP'!G33","v":0},null,null,0,null,{"$f":"'App.2-BA_FA Cont 2013 NewCGAAP'!L33","v":0},null,null,0,0]
[47,1908,"Buildings & Fixtures",{"$f":"'App.2-BA_FA Cont 2013 NewCGAAP'!G34","v":0},null,null,0,null,{"$f":"'App.2-BA_FA Cont 2013 NewCGAAP'!L34","v":0},null,null,0,0]
[13,1910,"Leasehold Improvements",{"$f":"'App.2-BA_FA Cont 2013 NewCGAAP'!G35","v":0},null,null,0,null,{"$f":"'App.2-BA_FA Cont 2013 NewCGAAP'!L35","v":0},null,null,0,0]
[8,1915,"Office Furniture & Equipment (10 years)",{"$f":"'App.2-BA_FA Cont 2013 NewCGAAP'!G36","v":131949.43},3337,null,135286.43,null,{"$f":"'App.2-BA_FA Cont 2013 NewCGAAP'!L36","v":-124877.54999999999},-1151,null,-126028.54999999999,9257.8800000000047]
[8,1915,"Office Furniture & Equipment (5 years)",{"$f":"'App.2-BA_FA Cont 2013 NewCGAAP'!G37","v":0},null,null,0,null,{"$f":"'App.2-BA_FA Cont 2013 NewCGAAP'!L37","v":0},null,null,0,0]
[10,1920,"Computer Equipment - Hardware",{"$f":"'App.2-BA_FA Cont 2013 NewCGAAP'!G38","v":0},null,null,0,null,{"$f":"'App.2-BA_FA Cont 2013 NewCGAAP'!L38","v":0},null,null,0,0]
[45,1920,"Computer Equip.-Hardware(Post Mar. 22/04)",{"$f":"'App.2-BA_FA Cont 2013 NewCGAAP'!G39","v":0},null,null,0,null,{"$f":"'App.2-BA_FA Cont 2013 NewCGAAP'!L39","v":0},null,null,0,0]
[45.1,1920,"Computer Equip.-Hardware(Post Mar. 19/07)",{"$f":"'App.2-BA_FA Cont 2013 NewCGAAP'!G40","v":364078.29},10557,null,374635.29,null,{"$f":"'App.2-BA_FA Cont 2013 NewCGAAP'!L40","v":-336595.14},-14294,null,-350889.14,23746.149999999965]
[10,1930,"Transportation Equipment",{"$f":"'App.2-BA_FA Cont 2013 NewCGAAP'!G41","v":2225787.71},{"$f":"28236+30643","v":58879},-27759.62,2256907.09,null,{"$f":"'App.2-BA_FA Cont 2013 NewCGAAP'!L41","v":-1447661.57},{"$f":"-50166-14007-96966","v":-161139},27759.62,-1581040.95,675866.1399999999]
[8,1935,"Stores Equipment",{"$f":"'App.2-BA_FA Cont 2013 NewCGAAP'!G42","v":1761.26},null,null,1761.26,null,{"$f":"'App.2-BA_FA Cont 2013 NewCGAAP'!L42","v":-1761},null,null,-1761,0.25999999999999091]
[8,1940,"Tools, Shop & Garage Equipment",{"$f":"'App.2-BA_FA Cont 2013 NewCGAAP'!G43","v":260169.66},39977,null,300146.66000000003,null,{"$f":"'App.2-BA_FA Cont 2013 NewCGAAP'!L43","v":-233389.05},-7521,null,-240910.05,59236.610000000044]
[8,1945,"Measurement & Testing Equipment",{"$f":"'App.2-BA_FA Cont 2013 NewCGAAP'!G44","v":18090},null,null,18090,null,{"$f":"'App.2-BA_FA Cont 2013 NewCGAAP'!L44","v":-905},-1809,null,-2714,15376]
[8,1950,"Power Operated Equipment",{"$f":"'App.2-BA_FA Cont 2013 NewCGAAP'!G45","v":0},null,null,0,null,{"$f":"'App.2-BA_FA Cont 2013 NewCGAAP'!L45","v":0},null,null,0,0]
[8,1955,"Communications Equipment",{"$f":"'App.2-BA_FA Cont 2013 NewCGAAP'!G46","v":36775.89},2148,null,38923.89,null,{"$f":"'App.2-BA_FA Cont 2013 NewCGAAP'!L46","v":-33976.86},-1661,null,-35637.86,3286.0299999999988]
[8,1955,"Communication Equipment (Smart Meters)",{"$f":"'App.2-BA_FA Cont 2013 NewCGAAP'!G47","v":0},null,null,0,null,{"$f":"'App.2-BA_FA Cont 2013 NewCGAAP'!L47","v":0},null,null,0,0]
[8,1960,"Miscellaneous Equipment ",{"$f":"'App.2-BA_FA Cont 2013 NewCGAAP'!G48","v":12104},null,null,12104,null,{"$f":"'App.2-BA_FA Cont 2013 NewCGAAP'!L48","v":-605.20000000000005},-1210.4000000000001,null,-1815.6000000000001,10288.4]
[47,1970,"Load Management Controls Customer Premises",{"$f":"'App.2-BA_FA Cont 2013 NewCGAAP'!G49","v":254912},null,-254912,0,null,{"$f":"'App.2-BA_FA Cont 2013 NewCGAAP'!L49","v":-254911.65000000002},null,254912,0.34999999997671694,0.34999999997671694]
[47,1975,"Load Management Controls Utility Premises",{"$f":"'App.2-BA_FA Cont 2013 NewCGAAP'!G50","v":64873.19},null,null,64873.19,null,{"$f":"'App.2-BA_FA Cont 2013 NewCGAAP'!L50","v":-64873},null,null,-64873,0.19000000000232831]
[47,1980,"System Supervisor Equipment",{"$f":"'App.2-BA_FA Cont 2013 NewCGAAP'!G51","v":571117.43999999994},611,-186720.42,385008.0199999999,null,{"$f":"'App.2-BA_FA Cont 2013 NewCGAAP'!L51","v":-561052},-1645,179131.78,-383565.22,1442.7999999999302]
[47,1985,"Miscellaneous Fixed Assets",{"$f":"'App.2-BA_FA Cont 2013 NewCGAAP'!G52","v":0},0,null,0,null,{"$f":"'App.2-BA_FA Cont 2013 NewCGAAP'!L52","v":0},null,null,0,0]
[47,1990,"Other Tangible Property",{"$f":"'App.2-BA_FA Cont 2013 NewCGAAP'!G53","v":0},0,null,0,null,{"$f":"'App.2-BA_FA Cont 2013 NewCGAAP'!L53","v":0},null,null,0,0]
[47,1995,"Contributions & Grants",{"$f":"'App.2-BA_FA Cont 2013 NewCGAAP'!G54","v":-2040278.19},{"$f":"-114792-34000","v":-148792},null,-2189070.19,null,{"$f":"'App.2-BA_FA Cont 2013 NewCGAAP'!L54","v":513488.66},{"$f":"71181+1435+5667","v":78283},null,591771.65999999992,-1597298.53]
[47,2440,"Deferred Revenue5",{"$f":"'App.2-BA_FA Cont 2013 NewCGAAP'!G55","v":0},null,null,null,null,{"$f":"'App.2-BA_FA Cont 2013 NewCGAAP'!L55","v":0}]
[null,null,null,null,null,null,0,null,{"$f":"'App.2-BA_FA Cont 2013 NewCGAAP'!L56","v":0},null,null,0,0]
[null,null,"Sub-Total",{"$f":"SUM(D17:D56)","v":26534025.960000001},{"$f":"SUM(E17:E56)","v":1049402},{"$f":"SUM(F17:F56)","v":-469392.04000000004},{"$f":"SUM(G17:G56)","v":27114035.919999998},null,{"$f":"SUM(I17:I56)","v":-18056150.629999999},{"$f":"SUM(J17:J56)","v":-812820.08},{"$f":"SUM(K17:K56)","v":461803.4},{"$f":"SUM(L17:L56)","v":-18407167.309999999},{"$f":"SUM(M17:M56)","v":8706868.6100000031}]
[null,null,"Less Socialized Renewable Energy Generation Investments (input as negative)",null,null,null,{"$f":"D58+E58+F58","v":0},null,null,null,null,{"$f":"I58+J58+K58","v":0},{"$f":"G58+L58","v":0}]
[null,null,"Less Other Non Rate-Regulated Utility Assets (input as negative)",null,null,null,0,null,null,null,null,0,0]
[null,null,"Total PP&E",{"$f":"SUM(D57:D59)","v":26534025.960000001},{"$f":"SUM(E57:E59)","v":1049402},-469392.04000000004,27114035.919999998,null,{"$f":"SUM(I57:I59)","v":-18056150.629999999},-812820.08,461803.4,-18407167.309999999,8706868.6100000031]
[null,null,"Depreciation Expense adj. from gain or loss on the retirement of assets (pool of like assets), if applicable6"]
[null,null,"Total",null,null,null,null,null,null,{"$f":"J60+J61","v":-812820.08}]
[]
[null,null,null,null,null,null,null,null,"Less: Fully Allocated Depreciation"]
[10,null,"Transportation",null,null,null,null,null,"Transportation",null,-144099.87]
[8,null,"Stores Equipment",null,null,null,null,null,"Stores Equipment"]
[null,null,null,null,null,null,null,null,"Net Depreciation",null,{"$f":"J62-K65-K66","v":-668720.21}]
[]
["Notes:"]
[]
[1,"Tables in the format outlined above covering all fixed asset accounts should be submitted for the Test Year, Bridge Year and all relevant historical years.  At a minimum , the applicant must provide data for the earlier of: 1) all historical years back to its last rebasing; or 2) at least three years of historical actuals, in addition to Bridge Year and Test Year forecasts."]
[]
[]
[2,"The \"CCA Class\" for fixed assets should agree with the CCA Class used for tax purposes in Tax Returns. Fixed Assets sub-components may be used where the underlying asset components are classified under multiple CCA Classes for tax purposes. If an applicant uses any different classes from those shown in the table, an explanation should be provided. (also see note 3 below)."]
[]
[]
[3,"The table may need to be customized for a utility's asset categories or for any new asset accounts announced or authorized by the Board."]
[]
[4,"The additions column (E) must not include construction work in progress (CWIP)."]
[]
[5,"Effective on the date of IFRS adoption, customer contributions will no longer be recorded in Account 1995 Contributions & Grants, but will be recorded in Account 2440, Deferred Revenues.  "]
[]
[6,"Where a distributor for general financial reporting purposes under IFRS has accounted for the amount of gain or loss on the retirement of assets in a pool of like assets as a charge or credit to income, for reporting and rate application filings the distributor shall reclassify such gains and losses as depreciation expense, and disclose the amount separately."]

{"sheet":"App.2-BA_FA Cont 2014 NewCGAAP","index":9,"n_rows":83,"n_cols":13,"rows_kept":83,"cut":false,"hidden":false,"merged":[[73,1,74,12],[76,1,76,12],[82,1,83,12],[8,0,8,12],[9,0,9,12],[14,3,14,6],[60,2,60,8],[61,2,61,8],[70,1,71,12]]}
[null,null,null,null,null,null,null,null,null,null,null,"File Number:",{"$f":"EBNUMBER","v":{"$error":"#NAME?"}}]
[null,null,null,null,null,null,null,null,null,null,null,"Exhibit:"]
[null,null,null,null,null,null,null,null,null,null,null,"Tab:"]
[null,null,null,null,null,null,null,null,null,null,null,"Schedule:"]
[null,null,null,null,null,null,null,null,null,null,null,"Page:"]
[]
[null,null,null,null,null,null,null,null,null,null,null,"Date:"]
[]
["Appendix 2-BA"]
["Fixed Asset Continuity Schedule "]
[]
[null,null,null,null,"Accounting Standard","CGAAP","New CGAAP"]
[null,null,null,null,"Year ",2014]
[]
[null,null,null,"Cost",null,null,null,null,null,"Accumulated Depreciation"]
["CCA Class","OEB","Description","Opening Balance","Additions","Disposals","Closing Balance",null,"Opening Balance","Additions","Disposals","Closing Balance","Net Book Value"]
[12,1611,"Computer Software (Formally known as Account 1925)",{"$f":"'App.2-BA_FA Cont 2013 NewCGAAP'!G17","v":360872.74},40967,null,{"$f":"D17+E17+F17","v":401839.74},null,{"$f":"'App.2-BA_FA Cont 2013 NewCGAAP'!L17","v":-320606.37},-23809,null,{"$f":"I17+J17+K17","v":-344415.37},{"$f":"G17+L17","v":57424.369999999995}]
["CEC",1612,"Land Rights (Formally known as Account 1906)",{"$f":"'App.2-BA_FA Cont 2013 NewCGAAP'!G18","v":10808.84},null,null,{"$f":"D18+E18+F18","v":10808.84},null,{"$f":"'App.2-BA_FA Cont 2013 NewCGAAP'!L18","v":-8061},-335,null,{"$f":"I18+J18+K18","v":-8396},{"$f":"G18+L18","v":2412.84}]
["N/A",1805,"Land",{"$f":"'App.2-BA_FA Cont 2013 NewCGAAP'!G19","v":130499.26},null,null,{"$f":"D19+E19+F19","v":130499.26},null,{"$f":"'App.2-BA_FA Cont 2013 NewCGAAP'!L19","v":0},null,null,{"$f":"I19+J19+K19","v":0},{"$f":"G19+L19","v":130499.26}]
[47,1808,"Buildings",{"$f":"'App.2-BA_FA Cont 2013 NewCGAAP'!G20","v":640447.71},24730,null,{"$f":"D20+E20+F20","v":665177.71},null,{"$f":"+'App.2-BA_FA Cont 2013 NewCGAAP'!L20","v":-288320.24999999994},{"$f":"-11445-3953","v":-15398},null,{"$f":"I20+J20+K20","v":-303718.24999999994},{"$f":"G20+L20","v":361459.46}]
[13,1810,"Leasehold Improvements",{"$f":"'App.2-BA_FA Cont 2013 NewCGAAP'!G21","v":0},null,null,0,null,{"$f":"'App.2-BA_FA Cont 2013 NewCGAAP'!L21","v":0},null,null,0,0]
[47,1815,"Transformer Station Equipment >50 kV",{"$f":"'App.2-BA_FA Cont 2013 NewCGAAP'!G22","v":0},null,null,0,null,{"$f":"'App.2-BA_FA Cont 2013 NewCGAAP'!L22","v":0},null,null,0,0]
[47,1820,"Distribution Station Equipment <50 kV",{"$f":"'App.2-BA_FA Cont 2013 NewCGAAP'!G23","v":2866401.89},{"$f":"2203+84326+20935","v":107464},null,2973865.89,null,{"$f":"'App.2-BA_FA Cont 2013 NewCGAAP'!L23","v":-1878353.82},{"$f":"-29760-13438-18705-698","v":-62601},null,-1940954.82,1032911.0700000001]
[47,1825,"Storage Battery Equipment",{"$f":"'App.2-BA_FA Cont 2013 NewCGAAP'!G24","v":0},null,null,0,null,{"$f":"'App.2-BA_FA Cont 2013 NewCGAAP'!L24","v":0},null,null,0,0]
[47,1830,"Poles, Towers & Fixtures",{"$f":"'App.2-BA_FA Cont 2013 NewCGAAP'!G25","v":8545114.3300000001},74730,null,8619844.3300000001,null,{"$f":"'App.2-BA_FA Cont 2013 NewCGAAP'!L25","v":-6721535.8700000001},{"$f":"-173813-830","v":-174643},null,-6896178.8700000001,1723665.46]
[47,1835,"Overhead Conductors & Devices",{"$f":"'App.2-BA_FA Cont 2013 NewCGAAP'!G26","v":3161632.9699999997},{"$f":"313555+28281+2763","v":344599},null,3506231.9699999997,null,{"$f":"'App.2-BA_FA Cont 2013 NewCGAAP'!L26","v":-951524.42999999993},{"$f":"-110116-6076-663-63","v":-116918},null,-1068442.43,2437789.54]
[47,1840,"Underground Conduit",{"$f":"'App.2-BA_FA Cont 2013 NewCGAAP'!G27","v":3038692.47},43881,null,3082573.47,null,{"$f":"'App.2-BA_FA Cont 2013 NewCGAAP'!L27","v":-2400270.21},{"$f":"-92782-590","v":-93372},null,-2493642.21,588931.26000000024]
[47,1845,"Underground Conductors & Devices",{"$f":"'App.2-BA_FA Cont 2013 NewCGAAP'!G28","v":583410.84000000008},176031,null,759441.84000000008,null,{"$f":"'App.2-BA_FA Cont 2013 NewCGAAP'!L28","v":-129412.23},{"$f":"-19830-3047","v":-22877},null,-152289.22999999998,607152.6100000001]
[47,1850,"Line Transformers",{"$f":"'App.2-BA_FA Cont 2013 NewCGAAP'!G29","v":3952655.72},158090,null,4110745.72,null,{"$f":"'App.2-BA_FA Cont 2013 NewCGAAP'!L29","v":-2434937.87},{"$f":"-92057-3824","v":-95881},null,-2530818.87,1579926.85]
[47,1855,"Services (Overhead & Underground)",{"$f":"'App.2-BA_FA Cont 2013 NewCGAAP'!G30","v":1243070.1000000001},{"$f":"13559+66725","v":80284},null,1323354.1000000001,null,{"$f":"'App.2-BA_FA Cont 2013 NewCGAAP'!L30","v":-320920.96999999997},{"$f":"-42483-323-3493","v":-46299},null,-367219.97,956134.13000000012]
[47,1860,"Meters",{"$f":"'App.2-BA_FA Cont 2013 NewCGAAP'!G31","v":99078.410000000091},null,null,99078.410000000091,null,{"$f":"'App.2-BA_FA Cont 2013 NewCGAAP'!L31","v":-14337.409999999942},{"$f":"-74-2783","v":-2857},null,-17194.409999999942,81884.000000000146]
[47,1860,"Meters (Smart Meters)",{"$f":"'App.2-BA_FA Cont 2013 NewCGAAP'!G32","v":0},31909,null,31909,null,{"$f":"'App.2-BA_FA Cont 2013 NewCGAAP'!L32","v":0},-1064,null,-1064,30845]
["N/A",1905,"Land",{"$f":"'App.2-BA_FA Cont 2013 NewCGAAP'!G33","v":0},null,null,0,null,{"$f":"'App.2-BA_FA Cont 2013 NewCGAAP'!L33","v":0},null,null,0,0]
[47,1908,"Buildings & Fixtures",{"$f":"'App.2-BA_FA Cont 2013 NewCGAAP'!G34","v":0},null,null,0,null,{"$f":"'App.2-BA_FA Cont 2013 NewCGAAP'!L34","v":0},null,null,0,0]
[13,1910,"Leasehold Improvements",{"$f":"'App.2-BA_FA Cont 2013 NewCGAAP'!G35","v":0},null,null,0,null,{"$f":"'App.2-BA_FA Cont 2013 NewCGAAP'!L35","v":0},null,null,0,0]
[8,1915,"Office Furniture & Equipment (10 years)",{"$f":"'App.2-BA_FA Cont 2013 NewCGAAP'!G36","v":131949.43},3337,null,135286.43,null,{"$f":"'App.2-BA_FA Cont 2013 NewCGAAP'!L36","v":-124877.54999999999},-1151,null,-126028.54999999999,9257.8800000000047]
[8,1915,"Office Furniture & Equipment (5 years)",{"$f":"'App.2-BA_FA Cont 2013 NewCGAAP'!G37","v":0},null,null,0,null,{"$f":"'App.2-BA_FA Cont 2013 NewCGAAP'!L37","v":0},null,null,0,0]
[10,1920,"Computer Equipment - Hardware",{"$f":"'App.2-BA_FA Cont 2013 NewCGAAP'!G38","v":0},null,null,0,null,{"$f":"'App.2-BA_FA Cont 2013 NewCGAAP'!L38","v":0},null,null,0,0]
[45,1920,"Computer Equip.-Hardware(Post Mar. 22/04)",{"$f":"'App.2-BA_FA Cont 2013 NewCGAAP'!G39","v":0},null,null,0,null,{"$f":"'App.2-BA_FA Cont 2013 NewCGAAP'!L39","v":0},null,null,0,0]
[45.1,1920,"Computer Equip.-Hardware(Post Mar. 19/07)",{"$f":"'App.2-BA_FA Cont 2013 NewCGAAP'!G40","v":364078.29},10557,null,374635.29,null,{"$f":"'App.2-BA_FA Cont 2013 NewCGAAP'!L40","v":-336595.14},-14294,null,-350889.14,23746.149999999965]
[10,1930,"Transportation Equipment",{"$f":"'App.2-BA_FA Cont 2013 NewCGAAP'!G41","v":2225787.71},{"$f":"28236+30643","v":58879},-27759.62,2256907.09,null,{"$f":"'App.2-BA_FA Cont 2013 NewCGAAP'!L41","v":-1447661.57},{"$f":"-50166-14007-96966","v":-161139},27759.62,-1581040.95,675866.1399999999]
[8,1935,"Stores Equipment",{"$f":"'App.2-BA_FA Cont 2013 NewCGAAP'!G42","v":1761.26},null,null,1761.26,null,{"$f":"'App.2-BA_FA Cont 2013 NewCGAAP'!L42","v":-1761},null,null,-1761,0.25999999999999091]
[8,1940,"Tools, Shop & Garage Equipment",{"$f":"'App.2-BA_FA Cont 2013 NewCGAAP'!G43","v":260169.66},39977,null,300146.66000000003,null,{"$f":"'App.2-BA_FA Cont 2013 NewCGAAP'!L43","v":-233389.05},-7521,null,-240910.05,59236.610000000044]
[8,1945,"Measurement & Testing Equipment",{"$f":"'App.2-BA_FA Cont 2013 NewCGAAP'!G44","v":18090},null,null,18090,null,{"$f":"'App.2-BA_FA Cont 2013 NewCGAAP'!L44","v":-905},-1809,null,-2714,15376]
[8,1950,"Power Operated Equipment",{"$f":"'App.2-BA_FA Cont 2013 NewCGAAP'!G45","v":0},null,null,0,null,{"$f":"'App.2-BA_FA Cont 2013 NewCGAAP'!L45","v":0},null,null,0,0]
[8,1955,"Communications Equipment",{"$f":"'App.2-BA_FA Cont 2013 NewCGAAP'!G46","v":36775.89},2148,null,38923.89,null,{"$f":"'App.2-BA_FA Cont 2013 NewCGAAP'!L46","v":-33976.86},-1661,null,-35637.86,3286.0299999999988]
[8,1955,"Communication Equipment (Smart Meters)",{"$f":"'App.2-BA_FA Cont 2013 NewCGAAP'!G47","v":0},null,null,0,null,{"$f":"'App.2-BA_FA Cont 2013 NewCGAAP'!L47","v":0},null,null,0,0]
[8,1960,"Miscellaneous Equipment ",{"$f":"'App.2-BA_FA Cont 2013 NewCGAAP'!G48","v":12104},null,null,12104,null,{"$f":"'App.2-BA_FA Cont 2013 NewCGAAP'!L48","v":-605.20000000000005},-1210.4000000000001,null,-1815.6000000000001,10288.4]
[47,1970,"Load Management Controls Customer Premises",{"$f":"'App.2-BA_FA Cont 2013 NewCGAAP'!G49","v":254912},null,-254912,0,null,{"$f":"'App.2-BA_FA Cont 2013 NewCGAAP'!L49","v":-254911.65000000002},null,254912,0.34999999997671694,0.34999999997671694]
[47,1975,"Load Management Controls Utility Premises",{"$f":"'App.2-BA_FA Cont 2013 NewCGAAP'!G50","v":64873.19},null,null,64873.19,null,{"$f":"'App.2-BA_FA Cont 2013 NewCGAAP'!L50","v":-64873},null,null,-64873,0.19000000000232831]
[47,1980,"System Supervisor Equipment",{"$f":"'App.2-BA_FA Cont 2013 NewCGAAP'!G51","v":571117.43999999994},611,-186720.42,385008.0199999999,null,{"$f":"'App.2-BA_FA Cont 2013 NewCGAAP'!L51","v":-561052},-1645,179131.78,-383565.22,1442.7999999999302]
[47,1985,"Miscellaneous Fixed Assets",{"$f":"'App.2-BA_FA Cont 2013 NewCGAAP'!G52","v":0},0,null,0,null,{"$f":"'App.2-BA_FA Cont 2013 NewCGAAP'!L52","v":0},null,null,0,0]
[47,1990,"Other Tangible Property",{"$f":"'App.2-BA_FA Cont 2013 NewCGAAP'!G53","v":0},0,null,0,null,{"$f":"'App.2-BA_FA Cont 2013 NewCGAAP'!L53","v":0},null,null,0,0]
[47,1995,"Contributions & Grants",{"$f":"'App.2-BA_FA Cont 2013 NewCGAAP'!G54","v":-2040278.19},{"$f":"-114792-34000","v":-148792},null,-2189070.19,null,{"$f":"'App.2-BA_FA Cont 2013 NewCGAAP'!L54","v":513488.66},{"$f":"71181+1435+5667","v":78283},null,591771.65999999992,-1597298.53]
[47,2440,"Deferred Revenue5",{"$f":"'App.2-BA_FA Cont 2013 NewCGAAP'!G55","v":0},null,null,null,null,{"$f":"'App.2-BA_FA Cont 2013 NewCGAAP'!L55","v":0}]
[null,null,null,null,null,null,0,null,{"$f":"'App.2-BA_FA Cont 2013 NewCGAAP'!L56","v":0},null,null,0,0]
[null,null,"Sub-Total",{"$f":"SUM(D17:D56)","v":26534025.960000001},{"$f":"SUM(E17:E56)","v":1049402},{"$f":"SUM(F17:F56)","v":-469392.04000000004},{"$f":"SUM(G17:G56)","v":27114035.919999998},null,{"$f":"SUM(I17:I56)","v":-18015399.789999999},{"$f":"SUM(J17:J56)","v":-768201.4},{"$f":"SUM(K17:K56)","v":461803.4},{"$f":"SUM(L17:L56)","v":-18321797.790000003},{"$f":"SUM(M17:M56)","v":8792238.1300000027}]
[null,null,"Less Socialized Renewable Energy Generation Investments (input as negative)",null,null,null,{"$f":"D58+E58+F58","v":0},null,null,null,null,{"$f":"I58+J58+K58","v":0},{"$f":"G58+L58","v":0}]
[null,null,"Less Other Non Rate-Regulated Utility Assets (input as negative)",null,null,null,0,null,null,null,null,0,0]
[null,null,"Total PP&E",{"$f":"SUM(D57:D59)","v":26534025.960000001},{"$f":"SUM(E57:E59)","v":1049402},-469392.04000000004,27114035.919999998,null,{"$f":"SUM(I57:I59)","v":-18015399.789999999},-768201.4,461803.4,-18321797.790000003,8792238.1300000027]
[null,null,"Depreciation Expense adj. from gain or loss on the retirement of assets (pool of like assets), if applicable6"]
[null,null,"Total",null,null,null,null,null,null,{"$f":"J60+J61","v":-768201.4}]
[]
[null,null,null,null,null,null,null,null,"Less: Fully Allocated Depreciation"]
[10,null,"Transportation",null,null,null,null,null,"Transportation",null,-144100]
[8,null,"Stores Equipment",null,null,null,null,null,"Stores Equipment"]
[null,null,null,null,null,null,null,null,"Net Depreciation",null,{"$f":"J62-K65-K66","v":-624101.4}]
[]
["Notes:"]
[]
[1,"Tables in the format outlined above covering all fixed asset accounts should be submitted for the Test Year, Bridge Year and all relevant historical years.  At a minimum , the applicant must provide data for the earlier of: 1) all historical years back to its last rebasing; or 2) at least three years of historical actuals, in addition to Bridge Year and Test Year forecasts."]
[]
[]
[2,"The \"CCA Class\" for fixed assets should agree with the CCA Class used for tax purposes in Tax Returns. Fixed Assets sub-components may be used where the underlying asset components are classified under multiple CCA Classes for tax purposes. If an applicant uses any different classes from those shown in the table, an explanation should be provided. (also see note 3 below)."]
[]
[]
[3,"The table may need to be customized for a utility's asset categories or for any new asset accounts announced or authorized by the Board."]
[]
[4,"The additions column (E) must not include construction work in progress (CWIP)."]
[]
[5,"Effective on the date of IFRS adoption, customer contributions will no longer be recorded in Account 1995 Contributions & Grants, but will be recorded in Account 2440, Deferred Revenues.  "]
[]
[6,"Where a distributor for general financial reporting purposes under IFRS has accounted for the amount of gain or loss on the retirement of assets in a pool of like assets as a charge or credit to income, for reporting and rate application filings the distributor shall reclassify such gains and losses as depreciation expense, and disclose the amount separately."]

{"sheet":"App.2-BA_FA Cont 2014 MIFRS","index":10,"n_rows":83,"n_cols":13,"rows_kept":83,"cut":false,"hidden":false,"merged":[[73,1,74,12],[76,1,76,12],[82,1,83,12],[8,0,8,12],[9,0,9,12],[14,3,14,6],[60,2,60,8],[61,2,61,8],[70,1,71,12]]}
[null,null,null,null,null,null,null,null,null,null,null,"File Number:",{"$f":"EBNUMBER","v":{"$error":"#NAME?"}}]
[null,null,null,null,null,null,null,null,null,null,null,"Exhibit:"]
[null,null,null,null,null,null,null,null,null,null,null,"Tab:"]
[null,null,null,null,null,null,null,null,null,null,null,"Schedule:"]
[null,null,null,null,null,null,null,null,null,null,null,"Page:"]
[]
[null,null,null,null,null,null,null,null,null,null,null,"Date:"]
[]
["Appendix 2-BA"]
["Fixed Asset Continuity Schedule "]
[]
[null,null,null,null,"Accounting Standard","MIFRS"]
[null,null,null,null,"Year ",2014]
[]
[null,null,null,"Cost",null,null,null,null,null,"Accumulated Depreciation"]
["CCA Class","OEB","Description","Opening Balance","Additions","Disposals","Closing Balance",null,"Opening Balance","Additions","Disposals","Closing Balance","Net Book Value"]
[12,1611,"Computer Software (Formally known as Account 1925)",{"$f":"'App.2-BA_FA Cont 2013 NewCGAAP'!G17","v":360872.74},40967,null,{"$f":"D17+E17+F17","v":401839.74},null,{"$f":"'App.2-BA_FA Cont 2013 NewCGAAP'!L17","v":-320606.37},-23809,null,{"$f":"I17+J17+K17","v":-344415.37},{"$f":"G17+L17","v":57424.369999999995}]
["CEC",1612,"Land Rights (Formally known as Account 1906)",{"$f":"'App.2-BA_FA Cont 2013 NewCGAAP'!G18","v":10808.84},null,null,10808.84,null,{"$f":"'App.2-BA_FA Cont 2013 NewCGAAP'!L18","v":-8061},-335,null,{"$f":"I18+J18+K18","v":-8396},{"$f":"G18+L18","v":2412.84}]
["N/A",1805,"Land",{"$f":"'App.2-BA_FA Cont 2013 NewCGAAP'!G19","v":130499.26},null,null,130499.26,null,{"$f":"'App.2-BA_FA Cont 2013 NewCGAAP'!L19","v":0},null,null,{"$f":"I19+J19+K19","v":0},{"$f":"G19+L19","v":130499.26}]
[47,1808,"Buildings",{"$f":"'App.2-BA_FA Cont 2013 NewCGAAP'!G20","v":640447.71},24730,null,665177.71,null,{"$f":"'App.2-BA_FA Cont 2013 NewCGAAP'!L20","v":-288320.24999999994},{"$f":"-11445-3953","v":-15398},null,{"$f":"I20+J20+K20","v":-303718.24999999994},{"$f":"G20+L20","v":361459.46}]
[13,1810,"Leasehold Improvements",{"$f":"'App.2-BA_FA Cont 2013 NewCGAAP'!G21","v":0},null,null,0,null,{"$f":"'App.2-BA_FA Cont 2013 NewCGAAP'!L21","v":0},null,null,0,0]
[47,1815,"Transformer Station Equipment >50 kV",{"$f":"'App.2-BA_FA Cont 2013 NewCGAAP'!G22","v":0},null,null,0,null,{"$f":"'App.2-BA_FA Cont 2013 NewCGAAP'!L22","v":0},null,null,0,0]
[47,1820,"Distribution Station Equipment <50 kV",{"$f":"'App.2-BA_FA Cont 2013 NewCGAAP'!G23","v":2866401.89},{"$f":"2203+84326+20935","v":107464},null,2973865.89,null,{"$f":"'App.2-BA_FA Cont 2013 NewCGAAP'!L23","v":-1878353.82},{"$f":"-29760-13438-18705-698","v":-62601},null,-1940954.82,1032911.0700000001]
[47,1825,"Storage Battery Equipment",{"$f":"'App.2-BA_FA Cont 2013 NewCGAAP'!G24","v":0},null,null,0,null,{"$f":"'App.2-BA_FA Cont 2013 NewCGAAP'!L24","v":0},null,null,0,0]
[47,1830,"Poles, Towers & Fixtures",{"$f":"'App.2-BA_FA Cont 2013 NewCGAAP'!G25","v":8545114.3300000001},74730,null,8619844.3300000001,null,{"$f":"'App.2-BA_FA Cont 2013 NewCGAAP'!L25","v":-6721535.8700000001},{"$f":"-173813-830","v":-174643},null,-6896178.8700000001,1723665.46]
[47,1835,"Overhead Conductors & Devices",{"$f":"'App.2-BA_FA Cont 2013 NewCGAAP'!G26","v":3161632.9699999997},{"$f":"313555+28281+2763","v":344599},null,3506231.9699999997,null,{"$f":"'App.2-BA_FA Cont 2013 NewCGAAP'!L26","v":-951524.42999999993},{"$f":"-110116-6076-663-63","v":-116918},null,-1068442.43,2437789.54]
[47,1840,"Underground Conduit",{"$f":"'App.2-BA_FA Cont 2013 NewCGAAP'!G27","v":3038692.47},43881,null,3082573.47,null,{"$f":"'App.2-BA_FA Cont 2013 NewCGAAP'!L27","v":-2400270.21},{"$f":"-92782-590","v":-93372},null,-2493642.21,588931.26000000024]
[47,1845,"Underground Conductors & Devices",{"$f":"'App.2-BA_FA Cont 2013 NewCGAAP'!G28","v":583410.84000000008},176031,null,759441.84000000008,null,{"$f":"'App.2-BA_FA Cont 2013 NewCGAAP'!L28","v":-129412.23},{"$f":"-19830-3047","v":-22877},null,-152289.22999999998,607152.6100000001]
[47,1850,"Line Transformers",{"$f":"'App.2-BA_FA Cont 2013 NewCGAAP'!G29","v":3952655.72},158090,null,4110745.72,null,{"$f":"'App.2-BA_FA Cont 2013 NewCGAAP'!L29","v":-2434937.87},{"$f":"-92057-3824","v":-95881},null,-2530818.87,1579926.85]
[47,1855,"Services (Overhead & Underground)",{"$f":"'App.2-BA_FA Cont 2013 NewCGAAP'!G30","v":1243070.1000000001},{"$f":"13559+66725","v":80284},null,1323354.1000000001,null,{"$f":"'App.2-BA_FA Cont 2013 NewCGAAP'!L30","v":-320920.96999999997},{"$f":"-42483-323-3493","v":-46299},null,-367219.97,956134.13000000012]
[47,1860,"Meters",{"$f":"'App.2-BA_FA Cont 2013 NewCGAAP'!G31","v":99078.410000000091},null,null,99078.410000000091,null,{"$f":"'App.2-BA_FA Cont 2013 NewCGAAP'!L31","v":-14337.409999999942},{"$f":"-74-2783","v":-2857},null,-17194.409999999942,81884.000000000146]
[47,1860,"Meters (Smart Meters)",{"$f":"'App.2-BA_FA Cont 2013 NewCGAAP'!G32","v":0},31909,null,31909,null,{"$f":"'App.2-BA_FA Cont 2013 NewCGAAP'!L32","v":0},-1064,null,-1064,30845]
["N/A",1905,"Land",{"$f":"'App.2-BA_FA Cont 2013 NewCGAAP'!G33","v":0},null,null,0,null,{"$f":"'App.2-BA_FA Cont 2013 NewCGAAP'!L33","v":0},null,null,0,0]
[47,1908,"Buildings & Fixtures",{"$f":"'App.2-BA_FA Cont 2013 NewCGAAP'!G34","v":0},null,null,0,null,{"$f":"'App.2-BA_FA Cont 2013 NewCGAAP'!L34","v":0},null,null,0,0]
[13,1910,"Leasehold Improvements",{"$f":"'App.2-BA_FA Cont 2013 NewCGAAP'!G35","v":0},null,null,0,null,{"$f":"'App.2-BA_FA Cont 2013 NewCGAAP'!L35","v":0},null,null,0,0]
[8,1915,"Office Furniture & Equipment (10 years)",{"$f":"'App.2-BA_FA Cont 2013 NewCGAAP'!G36","v":131949.43},3337,null,135286.43,null,{"$f":"'App.2-BA_FA Cont 2013 NewCGAAP'!L36","v":-124877.54999999999},-1151,null,-126028.54999999999,9257.8800000000047]
[8,1915,"Office Furniture & Equipment (5 years)",{"$f":"'App.2-BA_FA Cont 2013 NewCGAAP'!G37","v":0},null,null,0,null,{"$f":"'App.2-BA_FA Cont 2013 NewCGAAP'!L37","v":0},null,null,0,0]
[10,1920,"Computer Equipment - Hardware",{"$f":"'App.2-BA_FA Cont 2013 NewCGAAP'!G38","v":0},null,null,0,null,{"$f":"'App.2-BA_FA Cont 2013 NewCGAAP'!L38","v":0},null,null,0,0]
[45,1920,"Computer Equip.-Hardware(Post Mar. 22/04)",{"$f":"'App.2-BA_FA Cont 2013 NewCGAAP'!G39","v":0},null,null,0,null,{"$f":"'App.2-BA_FA Cont 2013 NewCGAAP'!L39","v":0},null,null,0,0]
[45.1,1920,"Computer Equip.-Hardware(Post Mar. 19/07)",{"$f":"'App.2-BA_FA Cont 2013 NewCGAAP'!G40","v":364078.29},10557,null,374635.29,null,{"$f":"'App.2-BA_FA Cont 2013 NewCGAAP'!L40","v":-336595.14},-14294,null,-350889.14,23746.149999999965]
[10,1930,"Transportation Equipment",{"$f":"'App.2-BA_FA Cont 2013 NewCGAAP'!G41","v":2225787.71},{"$f":"28236+30643","v":58879},-27759.62,2256907.09,null,{"$f":"'App.2-BA_FA Cont 2013 NewCGAAP'!L41","v":-1447661.57},{"$f":"-50166-14007-96966","v":-161139},27759.62,-1581040.95,675866.1399999999]
[8,1935,"Stores Equipment",{"$f":"'App.2-BA_FA Cont 2013 NewCGAAP'!G42","v":1761.26},null,null,1761.26,null,{"$f":"'App.2-BA_FA Cont 2013 NewCGAAP'!L42","v":-1761},null,null,-1761,0.25999999999999091]
[8,1940,"Tools, Shop & Garage Equipment",{"$f":"'App.2-BA_FA Cont 2013 NewCGAAP'!G43","v":260169.66},39977,null,300146.66000000003,null,{"$f":"'App.2-BA_FA Cont 2013 NewCGAAP'!L43","v":-233389.05},-7521,null,-240910.05,59236.610000000044]
[8,1945,"Measurement & Testing Equipment",{"$f":"'App.2-BA_FA Cont 2013 NewCGAAP'!G44","v":18090},null,null,18090,null,{"$f":"'App.2-BA_FA Cont 2013 NewCGAAP'!L44","v":-905},-1809,null,-2714,15376]
[8,1950,"Power Operated Equipment",{"$f":"'App.2-BA_FA Cont 2013 NewCGAAP'!G45","v":0},null,null,0,null,{"$f":"'App.2-BA_FA Cont 2013 NewCGAAP'!L45","v":0},null,null,0,0]
[8,1955,"Communications Equipment",{"$f":"'App.2-BA_FA Cont 2013 NewCGAAP'!G46","v":36775.89},2148,null,38923.89,null,{"$f":"'App.2-BA_FA Cont 2013 NewCGAAP'!L46","v":-33976.86},-1661,null,-35637.86,3286.0299999999988]
[8,1955,"Communication Equipment (Smart Meters)",{"$f":"'App.2-BA_FA Cont 2013 NewCGAAP'!G47","v":0},null,null,0,null,{"$f":"'App.2-BA_FA Cont 2013 NewCGAAP'!L47","v":0},null,null,0,0]
[8,1960,"Miscellaneous Equipment ",{"$f":"'App.2-BA_FA Cont 2013 NewCGAAP'!G48","v":12104},null,null,12104,null,{"$f":"'App.2-BA_FA Cont 2013 NewCGAAP'!L48","v":-605.20000000000005},-1210.4000000000001,null,-1815.6000000000001,10288.4]
[47,1970,"Load Management Controls Customer Premises",{"$f":"'App.2-BA_FA Cont 2013 NewCGAAP'!G49","v":254912},null,-254912,0,null,{"$f":"'App.2-BA_FA Cont 2013 NewCGAAP'!L49","v":-254911.65000000002},null,254912,0.34999999997671694,0.34999999997671694]
[47,1975,"Load Management Controls Utility Premises",{"$f":"'App.2-BA_FA Cont 2013 NewCGAAP'!G50","v":64873.19},null,null,64873.19,null,{"$f":"'App.2-BA_FA Cont 2013 NewCGAAP'!L50","v":-64873},null,null,-64873,0.19000000000232831]
[47,1980,"System Supervisor Equipment",{"$f":"'App.2-BA_FA Cont 2013 NewCGAAP'!G51","v":571117.43999999994},611,-186720.42,385008.0199999999,null,{"$f":"'App.2-BA_FA Cont 2013 NewCGAAP'!L51","v":-561052},-1645,179131.78,-383565.22,1442.7999999999302]
[47,1985,"Miscellaneous Fixed Assets",{"$f":"'App.2-BA_FA Cont 2013 NewCGAAP'!G52","v":0},0,null,0,null,{"$f":"'App.2-BA_FA Cont 2013 NewCGAAP'!L52","v":0},null,null,0,0]
[47,1990,"Other Tangible Property",{"$f":"'App.2-BA_FA Cont 2013 NewCGAAP'!G53","v":0},0,null,0,null,{"$f":"'App.2-BA_FA Cont 2013 NewCGAAP'!L53","v":0},null,null,0,0]
[47,1995,"Contributions & Grants",{"$f":"'App.2-BA_FA Cont 2013 NewCGAAP'!G54","v":-2040278.19},null,null,-2040278.19,null,{"$f":"'App.2-BA_FA Cont 2013 NewCGAAP'!L54","v":513488.66},{"$f":"71181+1435+5667","v":78283},null,591771.65999999992,-1448506.53]
[47,2440,"Deferred Revenue5",{"$f":"'App.2-BA_FA Cont 2013 NewCGAAP'!G55","v":0},-148792,null,-148792,null,{"$f":"'App.2-BA_FA Cont 2013 NewCGAAP'!L55","v":0},null,null,0,-148792]
[null,null,null,{"$f":"'App.2-BA_FA Cont 2013 NewCGAAP'!G56","v":0},null,null,{"$f":"D56+E56+F56","v":0},null,null,null,null,0,0]
[null,null,"Sub-Total",{"$f":"SUM(D17:D56)","v":26534025.960000001},{"$f":"SUM(E17:E56)","v":1049402},{"$f":"SUM(F17:F56)","v":-469392.04000000004},{"$f":"SUM(G17:G56)","v":27114035.919999998},null,{"$f":"SUM(I17:I56)","v":-18015399.789999999},{"$f":"SUM(J17:J56)","v":-768201.4},{"$f":"SUM(K17:K56)","v":461803.4},{"$f":"SUM(L17:L56)","v":-18321797.790000003},{"$f":"SUM(M17:M56)","v":8792238.1300000027}]
[null,null,"Less Socialized Renewable Energy Generation Investments (input as negative)",null,null,null,{"$f":"D58+E58+F58","v":0},null,null,null,null,{"$f":"I58+J58+K58","v":0},{"$f":"G58+L58","v":0}]
[null,null,"Less Other Non Rate-Regulated Utility Assets (input as negative)",null,null,null,{"$f":"D59+E59+F59","v":0},null,null,null,null,0,0]
[null,null,"Total PP&E",{"$f":"SUM(D57:D59)","v":26534025.960000001},{"$f":"SUM(E57:E59)","v":1049402},-469392.04000000004,27114035.919999998,null,{"$f":"SUM(I57:I59)","v":-18015399.789999999},-768201.4,461803.4,-18321797.790000003,8792238.1300000027]
[null,null,"Depreciation Expense adj. from gain or loss on the retirement of assets (pool of like assets), if applicable6"]
[null,null,"Total",null,null,null,null,null,null,{"$f":"J60+J61","v":-768201.4}]
[]
[null,null,null,null,null,null,null,null,"Less: Fully Allocated Depreciation"]
[10,null,"Transportation",null,null,null,null,null,"Transportation",null,-144100]
[8,null,"Stores Equipment",null,null,null,null,null,"Stores Equipment"]
[null,null,null,null,null,null,null,null,"Net Depreciation",null,{"$f":"J62-K65-K66","v":-624101.4}]
[]
["Notes:"]
[]
[1,"Tables in the format outlined above covering all fixed asset accounts should be submitted for the Test Year, Bridge Year and all relevant historical years.  At a minimum , the applicant must provide data for the earlier of: 1) all historical years back to its last rebasing; or 2) at least three years of historical actuals, in addition to Bridge Year and Test Year forecasts."]
[]
[]
[2,"The \"CCA Class\" for fixed assets should agree with the CCA Class used for tax purposes in Tax Returns. Fixed Assets sub-components may be used where the underlying asset components are classified under multiple CCA Classes for tax purposes. If an applicant uses any different classes from those shown in the table, an explanation should be provided. (also see note 3 below)."]
[]
[]
[3,"The table may need to be customized for a utility's asset categories or for any new asset accounts announced or authorized by the Board."]
[]
[4,"The additions column (E) must not include construction work in progress (CWIP)."]
[]
[5,"Effective on the date of IFRS adoption, customer contributions will no longer be recorded in Account 1995 Contributions & Grants, but will be recorded in Account 2440, Deferred Revenues.  "]
[]
[6,"Where a distributor for general financial reporting purposes under IFRS has accounted for the amount of gain or loss on the retirement of assets in a pool of like assets as a charge or credit to income, for reporting and rate application filings the distributor shall reclassify such gains and losses as depreciation expense, and disclose the amount separately."]

{"sheet":"App.2-BA_FA PreCont2015OldCGAAP","index":11,"n_rows":83,"n_cols":13,"rows_kept":83,"cut":false,"hidden":false,"merged":[[73,1,74,12],[76,1,76,12],[82,1,83,12],[8,0,8,12],[9,0,9,12],[14,3,14,6],[60,2,60,8],[61,2,61,8],[70,1,71,12]]}
[null,null,null,null,null,null,null,null,null,null,null,"File Number:",{"$f":"EBNUMBER","v":{"$error":"#NAME?"}}]
[null,null,null,null,null,null,null,null,null,null,null,"Exhibit:"]
[null,null,null,null,null,null,null,null,null,null,null,"Tab:"]
[null,null,null,null,null,null,null,null,null,null,null,"Schedule:"]
[null,null,null,null,null,null,null,null,null,null,null,"Page:"]
[]
[null,null,null,null,null,null,null,null,null,null,null,"Date:"]
[]
["Appendix 2-BA"]
["Fixed Asset Continuity Schedule "]
[]
[null,null,null,null,"Accounting Standard","CGAAP","New CGAAP"]
[null,null,null,null,"Year ",2015]
[]
[null,null,null,"Cost",null,null,null,null,null,"Accumulated Depreciation"]
["CCA Class","OEB","Description","Opening Balance","Additions","Disposals","Closing Balance",null,"Opening Balance","Additions","Disposals","Closing Balance","Net Book Value"]
[12,1611,"Computer Software (Formally known as Account 1925)",{"$f":"'App.2-BA_FA Cont 2014 OldCGAAP'!G17","v":401839.74},18666,null,{"$f":"D17+E17+F17","v":420505.74},null,{"$f":"'App.2-BA_FA Cont 2014 OldCGAAP'!L17","v":-348550.94},{"$f":"-28171-4135.57","v":-32306.57},null,{"$f":"I17+J17+K17","v":-380857.51},{"$f":"G17+L17","v":39648.229999999981}]
["CEC",1612,"Land Rights (Formally known as Account 1906)",{"$f":"'App.2-BA_FA Cont 2014 OldCGAAP'!G18","v":10808.84},null,null,{"$f":"D18+E18+F18","v":10808.84},null,{"$f":"'App.2-BA_FA Cont 2014 OldCGAAP'!L18","v":-8396},-335,null,{"$f":"I18+J18+K18","v":-8731},{"$f":"G18+L18","v":2077.84}]
["N/A",1805,"Land",{"$f":"'App.2-BA_FA Cont 2014 OldCGAAP'!G19","v":130499.26},null,null,{"$f":"D19+E19+F19","v":130499.26},null,{"$f":"'App.2-BA_FA Cont 2014 OldCGAAP'!L19","v":0},null,null,{"$f":"I19+J19+K19","v":0},{"$f":"G19+L19","v":130499.26}]
[47,1808,"Buildings",{"$f":"'App.2-BA_FA Cont 2014 OldCGAAP'!G20","v":665177.71},10151,null,{"$f":"D20+E20+F20","v":675328.71},null,{"$f":"'App.2-BA_FA Cont 2014 OldCGAAP'!L20","v":-303717.78999999992},-16094.94,null,{"$f":"I20+J20+K20","v":-319812.72999999992},{"$f":"G20+L20","v":355515.98000000004}]
[13,1810,"Leasehold Improvements",{"$f":"'App.2-BA_FA Cont 2014 OldCGAAP'!G21","v":0},null,null,0,null,{"$f":"'App.2-BA_FA Cont 2014 OldCGAAP'!L21","v":0},null,null,0,0]
[47,1815,"Transformer Station Equipment >50 kV",{"$f":"'App.2-BA_FA Cont 2014 OldCGAAP'!G22","v":0},null,null,0,null,{"$f":"'App.2-BA_FA Cont 2014 OldCGAAP'!L22","v":0},null,null,0,0]
[47,1820,"Distribution Station Equipment <50 kV",{"$f":"'App.2-BA_FA Cont 2014 OldCGAAP'!G23","v":2973865.89},{"$f":"92955+24000","v":116955},null,3090820.89,null,{"$f":"'App.2-BA_FA Cont 2014 OldCGAAP'!L23","v":-1940380.21},-67219.5,null,-2007599.71,1083221.1800000002]
[47,1825,"Storage Battery Equipment",{"$f":"'App.2-BA_FA Cont 2014 OldCGAAP'!G24","v":0},null,null,0,null,{"$f":"'App.2-BA_FA Cont 2014 OldCGAAP'!L24","v":0},null,null,0,0]
[47,1830,"Poles, Towers & Fixtures",{"$f":"'App.2-BA_FA Cont 2014 OldCGAAP'!G25","v":8619844.3300000001},103610,null,8723454.3300000001,null,{"$f":"'App.2-BA_FA Cont 2014 OldCGAAP'!L25","v":-6915454.1399999997},-172912.04,null,-7088366.1799999997,1635088.1500000004]
[47,1835,"Overhead Conductors & Devices",{"$f":"'App.2-BA_FA Cont 2014 OldCGAAP'!G26","v":3506231.9699999997},{"$f":"185675-50","v":185625},null,3691856.9699999997,null,{"$f":"'App.2-BA_FA Cont 2014 OldCGAAP'!L26","v":-1095360.8899999999},-144805.29,null,-1240166.18,2451690.79]
[47,1840,"Underground Conduit",{"$f":"'App.2-BA_FA Cont 2014 OldCGAAP'!G27","v":3082573.47},2573,null,3085146.47,null,{"$f":"'App.2-BA_FA Cont 2014 OldCGAAP'!L27","v":-2498446.71},-81870,null,-2580316.71,504829.76000000024]
[47,1845,"Underground Conductors & Devices",{"$f":"'App.2-BA_FA Cont 2014 OldCGAAP'!G28","v":759441.84000000008},87120,null,846561.84000000008,null,{"$f":"'App.2-BA_FA Cont 2014 OldCGAAP'!L28","v":-158243.94},-32120.09,null,-190364.03,656197.81000000006]
[47,1850,"Line Transformers",{"$f":"'App.2-BA_FA Cont 2014 OldCGAAP'!G29","v":4110745.72},{"$f":"35732+20584+60152","v":116468},null,4227213.7200000007,null,{"$f":"'App.2-BA_FA Cont 2014 OldCGAAP'!L29","v":-2546511.16},-97248.44,null,-2643759.6,1583454.1200000006]
[47,1855,"Services (Overhead & Underground)",{"$f":"'App.2-BA_FA Cont 2014 OldCGAAP'!G30","v":1323354.1000000001},113823,null,1437177.1,null,{"$f":"'App.2-BA_FA Cont 2014 OldCGAAP'!L30","v":-375797.69},-55334.879999999997,null,-431132.57,1006044.53]
[47,1860,"Meters",{"$f":"'App.2-BA_FA Cont 2014 OldCGAAP'!G31","v":99078.410000000091},null,null,99078.410000000091,null,{"$f":"'App.2-BA_FA Cont 2014 OldCGAAP'!L31","v":-17780.479999999941},-2857,null,-20637.479999999941,78440.930000000153]
[47,1860,"Meters (Smart Meters)",{"$f":"'App.2-BA_FA Cont 2014 OldCGAAP'!G32","v":31909},{"$f":"22011+20000","v":42011},null,73920,null,{"$f":"'App.2-BA_FA Cont 2014 OldCGAAP'!L32","v":-1064},-2495,null,-3559,70361]
["N/A",1905,"Land",{"$f":"'App.2-BA_FA Cont 2014 OldCGAAP'!G33","v":0},null,null,0,null,{"$f":"'App.2-BA_FA Cont 2014 OldCGAAP'!L33","v":0},null,null,0,0]
[47,1908,"Buildings & Fixtures",{"$f":"'App.2-BA_FA Cont 2014 OldCGAAP'!G34","v":0},null,null,0,null,{"$f":"'App.2-BA_FA Cont 2014 OldCGAAP'!L34","v":0},null,null,0,0]
[13,1910,"Leasehold Improvements",{"$f":"'App.2-BA_FA Cont 2014 OldCGAAP'!G35","v":0},null,null,0,null,{"$f":"'App.2-BA_FA Cont 2014 OldCGAAP'!L35","v":0},null,null,0,0]
[8,1915,"Office Furniture & Equipment (10 years)",{"$f":"'App.2-BA_FA Cont 2014 OldCGAAP'!G36","v":135286.43},2737,null,138023.43,null,{"$f":"'App.2-BA_FA Cont 2014 OldCGAAP'!L36","v":-126028.54999999999},-1455,null,-127483.54999999999,10539.880000000005]
[8,1915,"Office Furniture & Equipment (5 years)",{"$f":"'App.2-BA_FA Cont 2014 OldCGAAP'!G37","v":0},null,null,0,null,{"$f":"'App.2-BA_FA Cont 2014 OldCGAAP'!L37","v":0},null,null,0,0]
[10,1920,"Computer Equipment - Hardware",{"$f":"'App.2-BA_FA Cont 2014 OldCGAAP'!G38","v":0},null,null,0,null,{"$f":"'App.2-BA_FA Cont 2014 OldCGAAP'!L38","v":0},null,null,0,0]
[45,1920,"Computer Equip.-Hardware(Post Mar. 22/04)",{"$f":"'App.2-BA_FA Cont 2014 OldCGAAP'!G39","v":0},null,null,0,null,{"$f":"'App.2-BA_FA Cont 2014 OldCGAAP'!L39","v":0},null,null,0,0]
[45.1,1920,"Computer Equip.-Hardware(Post Mar. 19/07)",{"$f":"'App.2-BA_FA Cont 2014 OldCGAAP'!G40","v":374635.29},7982,null,382617.29,null,{"$f":"'App.2-BA_FA Cont 2014 OldCGAAP'!L40","v":-350889.14},-15110,null,-365999.14,16618.149999999965]
[10,1930,"Transportation Equipment",{"$f":"'App.2-BA_FA Cont 2014 OldCGAAP'!G41","v":2256907.09},33246,-22100,2268053.09,null,{"$f":"'App.2-BA_FA Cont 2014 OldCGAAP'!L41","v":-1581040.95},-160551,22100,-1719491.95,548561.1399999999]
[8,1935,"Stores Equipment",{"$f":"'App.2-BA_FA Cont 2014 OldCGAAP'!G42","v":1761.26},null,null,1761.26,null,{"$f":"'App.2-BA_FA Cont 2014 OldCGAAP'!L42","v":-1761},null,null,-1761,0.25999999999999091]
[8,1940,"Tools, Shop & Garage Equipment",{"$f":"'App.2-BA_FA Cont 2014 OldCGAAP'!G43","v":300146.66000000003},14101,null,314247.66000000003,null,{"$f":"'App.2-BA_FA Cont 2014 OldCGAAP'!L43","v":-240910.05},{"$f":"-8349.58-774.52","v":-9124.1},null,-250034.15,64213.510000000038]
[8,1945,"Measurement & Testing Equipment",{"$f":"'App.2-BA_FA Cont 2014 OldCGAAP'!G44","v":18090},null,null,18090,null,{"$f":"'App.2-BA_FA Cont 2014 OldCGAAP'!L44","v":-2714},-1809,null,-4523,13567]
[8,1950,"Power Operated Equipment",{"$f":"'App.2-BA_FA Cont 2014 OldCGAAP'!G45","v":0},null,null,0,null,{"$f":"'App.2-BA_FA Cont 2014 OldCGAAP'!L45","v":0},null,null,0,0]
[8,1955,"Communications Equipment",{"$f":"'App.2-BA_FA Cont 2014 OldCGAAP'!G46","v":38923.89},17644,null,56567.89,null,{"$f":"'App.2-BA_FA Cont 2014 OldCGAAP'!L46","v":-35637.86},-3074.59,null,-38712.449999999997,17855.440000000002]
[8,1955,"Communication Equipment (Smart Meters)",{"$f":"'App.2-BA_FA Cont 2014 OldCGAAP'!G47","v":0},null,null,0,null,{"$f":"'App.2-BA_FA Cont 2014 OldCGAAP'!L47","v":0},null,null,0,0]
[8,1960,"Miscellaneous Equipment ",{"$f":"'App.2-BA_FA Cont 2014 OldCGAAP'!G48","v":12104},null,null,12104,null,{"$f":"'App.2-BA_FA Cont 2014 OldCGAAP'!L48","v":-1815.6000000000001},-1210,null,-3025.6000000000004,9078.4]
[47,1970,"Load Management Controls Customer Premises",{"$f":"'App.2-BA_FA Cont 2014 OldCGAAP'!G49","v":0},null,null,0,null,{"$f":"'App.2-BA_FA Cont 2014 OldCGAAP'!L49","v":0.34999999997671694},null,null,0.34999999997671694,0.34999999997671694]
[47,1975,"Load Management Controls Utility Premises",{"$f":"'App.2-BA_FA Cont 2014 OldCGAAP'!G50","v":64873.19},null,null,64873.19,null,{"$f":"'App.2-BA_FA Cont 2014 OldCGAAP'!L50","v":-64873},null,null,-64873,0.19000000000232831]
[47,1980,"System Supervisor Equipment",{"$f":"'App.2-BA_FA Cont 2014 OldCGAAP'!G51","v":385008.0199999999},12050,null,397058.0199999999,null,{"$f":"'App.2-BA_FA Cont 2014 OldCGAAP'!L51","v":-383565.22},{"$f":"-3065-1517.73-1517.73","v":-6100.4599999999991},null,-389665.68,7392.3399999999092]
[47,1985,"Miscellaneous Fixed Assets",{"$f":"'App.2-BA_FA Cont 2014 OldCGAAP'!G52","v":0},null,null,0,null,{"$f":"'App.2-BA_FA Cont 2014 OldCGAAP'!L52","v":0},null,null,0,0]
[47,1990,"Other Tangible Property",{"$f":"'App.2-BA_FA Cont 2014 OldCGAAP'!G53","v":0},null,null,0,null,{"$f":"'App.2-BA_FA Cont 2014 OldCGAAP'!L53","v":0},null,null,0,0]
[47,1995,"Contributions & Grants",{"$f":"'App.2-BA_FA Cont 2014 OldCGAAP'!G54","v":-2189070.19},-173516,null,-2362586.19,null,{"$f":"'App.2-BA_FA Cont 2014 OldCGAAP'!L54","v":591771.65999999992},null,null,591771.65999999992,-1770814.53]
[47,2440,"Deferred Revenue5",{"$f":"'App.2-BA_FA Cont 2013 NewCGAAP'!G55","v":0},null,null,null,null,{"$f":"'App.2-BA_FA Cont 2013 NewCGAAP'!L55","v":0}]
[null,null,null,null,null,null,0,null,{"$f":"'App.2-BA_FA Cont 2013 NewCGAAP'!L56","v":0},null,null,0,0]
[null,null,"Sub-Total",{"$f":"SUM(D17:D56)","v":27114035.919999998},{"$f":"SUM(E17:E56)","v":711246},{"$f":"SUM(F17:F56)","v":-22100},{"$f":"SUM(G17:G56)","v":27803181.919999998},null,{"$f":"SUM(I17:I56)","v":-18407167.309999999},{"$f":"SUM(J17:J56)","v":-904032.9},{"$f":"SUM(K17:K56)","v":22100},{"$f":"SUM(L17:L56)","v":-19289100.209999997},{"$f":"SUM(M17:M56)","v":8514081.7100000028}]
[null,null,"Less Socialized Renewable Energy Generation Investments (input as negative)",null,null,null,{"$f":"D58+E58+F58","v":0},null,null,null,null,{"$f":"I58+J58+K58","v":0},{"$f":"G58+L58","v":0}]
[null,null,"Less Other Non Rate-Regulated Utility Assets (input as negative)",null,null,null,0,null,null,null,null,0,0]
[null,null,"Total PP&E",{"$f":"SUM(D57:D59)","v":27114035.919999998},{"$f":"SUM(E57:E59)","v":711246},-22100,27803181.919999998,null,{"$f":"SUM(I57:I59)","v":-18407167.309999999},-904032.9,22100,-19289100.209999997,8514081.7100000028]
[null,null,"Depreciation Expense adj. from gain or loss on the retirement of assets (pool of like assets), if applicable6"]
[null,null,"Total",null,null,null,null,null,null,{"$f":"J60+J61","v":-904032.9}]
[]
[null,null,null,null,null,null,null,null,"Less: Fully Allocated Depreciation"]
[10,null,"Transportation",null,null,null,null,null,"Transportation"]
[8,null,"Stores Equipment",null,null,null,null,null,"Stores Equipment"]
[null,null,null,null,null,null,null,null,"Net Depreciation",null,{"$f":"J62-K65-K66","v":-904032.9}]
[]
["Notes:"]
[]
[1,"Tables in the format outlined above covering all fixed asset accounts should be submitted for the Test Year, Bridge Year and all relevant historical years.  At a minimum , the applicant must provide data for the earlier of: 1) all historical years back to its last rebasing; or 2) at least three years of historical actuals, in addition to Bridge Year and Test Year forecasts."]
[]
[]
[2,"The \"CCA Class\" for fixed assets should agree with the CCA Class used for tax purposes in Tax Returns. Fixed Assets sub-components may be used where the underlying asset components are classified under multiple CCA Classes for tax purposes. If an applicant uses any different classes from those shown in the table, an explanation should be provided. (also see note 3 below)."]
[]
[]
[3,"The table may need to be customized for a utility's asset categories or for any new asset accounts announced or authorized by the Board."]
[]
[4,"The additions column (E) must not include construction work in progress (CWIP)."]
[]
[5,"Effective on the date of IFRS adoption, customer contributions will no longer be recorded in Account 1995 Contributions & Grants, but will be recorded in Account 2440, Deferred Revenues.  "]
[]
[6,"Where a distributor for general financial reporting purposes under IFRS has accounted for the amount of gain or loss on the retirement of assets in a pool of like assets as a charge or credit to income, for reporting and rate application filings the distributor shall reclassify such gains and losses as depreciation expense, and disclose the amount separately."]

{"sheet":"App.2-BA_FA PreCont2015NewC","index":12,"n_rows":83,"n_cols":13,"rows_kept":83,"cut":false,"hidden":false,"merged":[[73,1,74,12],[76,1,76,12],[82,1,83,12],[8,0,8,12],[9,0,9,12],[14,3,14,6],[60,2,60,8],[61,2,61,8],[70,1,71,12]]}
[null,null,null,null,null,null,null,null,null,null,null,"File Number:",{"$f":"EBNUMBER","v":{"$error":"#NAME?"}}]
[null,null,null,null,null,null,null,null,null,null,null,"Exhibit:"]
[null,null,null,null,null,null,null,null,null,null,null,"Tab:"]
[null,null,null,null,null,null,null,null,null,null,null,"Schedule:"]
[null,null,null,null,null,null,null,null,null,null,null,"Page:"]
[]
[null,null,null,null,null,null,null,null,null,null,null,"Date:"]
[]
["Appendix 2-BA"]
["Fixed Asset Continuity Schedule "]
[]
[null,null,null,null,"Accounting Standard","CGAAP","New CGAAP"]
[null,null,null,null,"Year ",2015]
[]
[null,null,null,"Cost",null,null,null,null,null,"Accumulated Depreciation"]
["CCA Class","OEB","Description","Opening Balance","Additions","Disposals","Closing Balance",null,"Opening Balance","Additions","Disposals","Closing Balance","Net Book Value"]
[12,1611,"Computer Software (Formally known as Account 1925)",{"$f":"+'App.2-BA_FA Cont 2014 NewCGAAP'!G17","v":401839.74},18666,null,{"$f":"D17+E17+F17","v":420505.74},null,{"$f":"+'App.2-BA_FA Cont 2014 NewCGAAP'!L17","v":-344415.37},{"$f":"-28171-4135.57","v":-32306.57},null,{"$f":"I17+J17+K17","v":-376721.94},{"$f":"G17+L17","v":43783.799999999988}]
["CEC",1612,"Land Rights (Formally known as Account 1906)",{"$f":"+'App.2-BA_FA Cont 2014 NewCGAAP'!G18","v":10808.84},null,null,{"$f":"D18+E18+F18","v":10808.84},null,{"$f":"+'App.2-BA_FA Cont 2014 NewCGAAP'!L18","v":-8396},-335,null,{"$f":"I18+J18+K18","v":-8731},{"$f":"G18+L18","v":2077.84}]
["N/A",1805,"Land",{"$f":"+'App.2-BA_FA Cont 2014 NewCGAAP'!G19","v":130499.26},null,null,{"$f":"D19+E19+F19","v":130499.26},null,{"$f":"+'App.2-BA_FA Cont 2014 NewCGAAP'!L19","v":0},null,null,{"$f":"I19+J19+K19","v":0},{"$f":"G19+L19","v":130499.26}]
[47,1808,"Buildings",{"$f":"+'App.2-BA_FA Cont 2014 NewCGAAP'!G20","v":665177.71},10151,null,{"$f":"D20+E20+F20","v":675328.71},null,{"$f":"+'App.2-BA_FA Cont 2014 NewCGAAP'!L20","v":-303718.24999999994},-16094.94,null,{"$f":"I20+J20+K20","v":-319813.18999999994},{"$f":"G20+L20","v":355515.52}]
[13,1810,"Leasehold Improvements",{"$f":"+'App.2-BA_FA Cont 2014 NewCGAAP'!G21","v":0},null,null,0,null,{"$f":"+'App.2-BA_FA Cont 2014 NewCGAAP'!L21","v":0},null,null,0,0]
[47,1815,"Transformer Station Equipment >50 kV",{"$f":"+'App.2-BA_FA Cont 2014 NewCGAAP'!G22","v":0},null,null,0,null,{"$f":"+'App.2-BA_FA Cont 2014 NewCGAAP'!L22","v":0},null,null,0,0]
[47,1820,"Distribution Station Equipment <50 kV",{"$f":"+'App.2-BA_FA Cont 2014 NewCGAAP'!G23","v":2973865.89},{"$f":"92955+24000","v":116955},null,3090820.89,null,{"$f":"+'App.2-BA_FA Cont 2014 NewCGAAP'!L23","v":-1940954.82},{"$f":"-67219.5+2294.92","v":-64924.58},null,-2005879.4000000001,1084941.49]
[47,1825,"Storage Battery Equipment",{"$f":"+'App.2-BA_FA Cont 2014 NewCGAAP'!G24","v":0},null,null,0,null,{"$f":"+'App.2-BA_FA Cont 2014 NewCGAAP'!L24","v":0},null,null,0,0]
[47,1830,"Poles, Towers & Fixtures",{"$f":"+'App.2-BA_FA Cont 2014 NewCGAAP'!G25","v":8619844.3300000001},103610,null,8723454.3300000001,null,{"$f":"+'App.2-BA_FA Cont 2014 NewCGAAP'!L25","v":-6896178.8700000001},{"$f":"-172912.04+6324.22+1617.34","v":-164970.48000000001},null,-7061149.3500000006,1662304.9799999995]
[47,1835,"Overhead Conductors & Devices",{"$f":"+'App.2-BA_FA Cont 2014 NewCGAAP'!G26","v":3506231.9699999997},{"$f":"185675-50","v":185625},null,3691856.9699999997,null,{"$f":"+'App.2-BA_FA Cont 2014 NewCGAAP'!L26","v":-1068442.43},{"$f":"-144805.29+18842.63+4481.23","v":-121481.43000000001},null,-1189923.8599999999,2501933.11]
[47,1840,"Underground Conduit",{"$f":"+'App.2-BA_FA Cont 2014 NewCGAAP'!G27","v":3082573.47},2573,null,3085146.47,null,{"$f":"+'App.2-BA_FA Cont 2014 NewCGAAP'!L27","v":-2493642.21},{"$f":"-81870+2195.16","v":-79674.84},null,-2573317.0499999998,511829.42000000039]
[47,1845,"Underground Conductors & Devices",{"$f":"+'App.2-BA_FA Cont 2014 NewCGAAP'!G28","v":759441.84000000008},87120,null,846561.84000000008,null,{"$f":"+'App.2-BA_FA Cont 2014 NewCGAAP'!L28","v":-152289.22999999998},{"$f":"-32120.09+5953.71","v":-26166.38},null,-178455.61,668106.2300000001]
[47,1850,"Line Transformers",{"$f":"+'App.2-BA_FA Cont 2014 NewCGAAP'!G29","v":4110745.72},{"$f":"35732+20584+60152","v":116468},null,4227213.7200000007,null,{"$f":"+'App.2-BA_FA Cont 2014 NewCGAAP'!L29","v":-2530818.87},{"$f":"-97248.44+5620.6","v":-91627.839999999997},null,-2622446.71,1604767.0100000007]
[47,1855,"Services (Overhead & Underground)",{"$f":"+'App.2-BA_FA Cont 2014 NewCGAAP'!G30","v":1323354.1000000001},113823,null,1437177.1,null,{"$f":"+'App.2-BA_FA Cont 2014 NewCGAAP'!L30","v":-367219.97},{"$f":"-55334.88+2196.88+5595.11","v":-47542.89},null,-414762.86,1022414.2400000001]
[47,1860,"Meters",{"$f":"+'App.2-BA_FA Cont 2014 NewCGAAP'!G31","v":99078.410000000091},null,null,99078.410000000091,null,{"$f":"+'App.2-BA_FA Cont 2014 NewCGAAP'!L31","v":-17194.409999999942},-2857,null,-20051.409999999942,79027.000000000146]
[47,1860,"Meters (Smart Meters)",{"$f":"+'App.2-BA_FA Cont 2014 NewCGAAP'!G32","v":31909},{"$f":"22011+20000","v":42011},null,73920,null,{"$f":"+'App.2-BA_FA Cont 2014 NewCGAAP'!L32","v":-1064},-2495,null,-3559,70361]
["N/A",1905,"Land",{"$f":"+'App.2-BA_FA Cont 2014 NewCGAAP'!G33","v":0},null,null,0,null,{"$f":"+'App.2-BA_FA Cont 2014 NewCGAAP'!L33","v":0},null,null,0,0]
[47,1908,"Buildings & Fixtures",{"$f":"+'App.2-BA_FA Cont 2014 NewCGAAP'!G34","v":0},null,null,0,null,{"$f":"+'App.2-BA_FA Cont 2014 NewCGAAP'!L34","v":0},null,null,0,0]
[13,1910,"Leasehold Improvements",{"$f":"+'App.2-BA_FA Cont 2014 NewCGAAP'!G35","v":0},null,null,0,null,{"$f":"+'App.2-BA_FA Cont 2014 NewCGAAP'!L35","v":0},null,null,0,0]
[8,1915,"Office Furniture & Equipment (10 years)",{"$f":"+'App.2-BA_FA Cont 2014 NewCGAAP'!G36","v":135286.43},2737,null,138023.43,null,{"$f":"+'App.2-BA_FA Cont 2014 NewCGAAP'!L36","v":-126028.54999999999},-1455,null,-127483.54999999999,10539.880000000005]
[8,1915,"Office Furniture & Equipment (5 years)",{"$f":"+'App.2-BA_FA Cont 2014 NewCGAAP'!G37","v":0},null,null,0,null,{"$f":"+'App.2-BA_FA Cont 2014 NewCGAAP'!L37","v":0},null,null,0,0]
[10,1920,"Computer Equipment - Hardware",{"$f":"+'App.2-BA_FA Cont 2014 NewCGAAP'!G38","v":0},null,null,0,null,{"$f":"+'App.2-BA_FA Cont 2014 NewCGAAP'!L38","v":0},null,null,0,0]
[45,1920,"Computer Equip.-Hardware(Post Mar. 22/04)",{"$f":"+'App.2-BA_FA Cont 2014 NewCGAAP'!G39","v":0},null,null,0,null,{"$f":"+'App.2-BA_FA Cont 2014 NewCGAAP'!L39","v":0},null,null,0,0]
[45.1,1920,"Computer Equip.-Hardware(Post Mar. 19/07)",{"$f":"+'App.2-BA_FA Cont 2014 NewCGAAP'!G40","v":374635.29},7982,null,382617.29,null,{"$f":"+'App.2-BA_FA Cont 2014 NewCGAAP'!L40","v":-350889.14},-15110,null,-365999.14,16618.149999999965]
[10,1930,"Transportation Equipment",{"$f":"+'App.2-BA_FA Cont 2014 NewCGAAP'!G41","v":2256907.09},33246,-22100,2268053.09,null,{"$f":"+'App.2-BA_FA Cont 2014 NewCGAAP'!L41","v":-1581040.95},-160551,22100,-1719491.95,548561.1399999999]
[8,1935,"Stores Equipment",{"$f":"+'App.2-BA_FA Cont 2014 NewCGAAP'!G42","v":1761.26},null,null,1761.26,null,{"$f":"+'App.2-BA_FA Cont 2014 NewCGAAP'!L42","v":-1761},null,null,-1761,0.25999999999999091]
[8,1940,"Tools, Shop & Garage Equipment",{"$f":"+'App.2-BA_FA Cont 2014 NewCGAAP'!G43","v":300146.66000000003},14101,null,314247.66000000003,null,{"$f":"+'App.2-BA_FA Cont 2014 NewCGAAP'!L43","v":-240910.05},{"$f":"-8349.58-774.52","v":-9124.1},null,-250034.15,64213.510000000038]
[8,1945,"Measurement & Testing Equipment",{"$f":"+'App.2-BA_FA Cont 2014 NewCGAAP'!G44","v":18090},null,null,18090,null,{"$f":"+'App.2-BA_FA Cont 2014 NewCGAAP'!L44","v":-2714},-1809,null,-4523,13567]
[8,1950,"Power Operated Equipment",{"$f":"+'App.2-BA_FA Cont 2014 NewCGAAP'!G45","v":0},null,null,0,null,{"$f":"+'App.2-BA_FA Cont 2014 NewCGAAP'!L45","v":0},null,null,0,0]
[8,1955,"Communications Equipment",{"$f":"+'App.2-BA_FA Cont 2014 NewCGAAP'!G46","v":38923.89},17644,null,56567.89,null,{"$f":"+'App.2-BA_FA Cont 2014 NewCGAAP'!L46","v":-35637.86},-3074.59,null,-38712.449999999997,17855.440000000002]
[8,1955,"Communication Equipment (Smart Meters)",{"$f":"+'App.2-BA_FA Cont 2014 NewCGAAP'!G47","v":0},null,null,0,null,{"$f":"+'App.2-BA_FA Cont 2014 NewCGAAP'!L47","v":0},null,null,0,0]
[8,1960,"Miscellaneous Equipment ",{"$f":"+'App.2-BA_FA Cont 2014 NewCGAAP'!G48","v":12104},null,null,12104,null,{"$f":"+'App.2-BA_FA Cont 2014 NewCGAAP'!L48","v":-1815.6000000000001},-1210,null,-3025.6000000000004,9078.4]
[47,1970,"Load Management Controls Customer Premises",{"$f":"+'App.2-BA_FA Cont 2014 NewCGAAP'!G49","v":0},null,null,0,null,{"$f":"+'App.2-BA_FA Cont 2014 NewCGAAP'!L49","v":0.34999999997671694},null,null,0.34999999997671694,0.34999999997671694]
[47,1975,"Load Management Controls Utility Premises",{"$f":"+'App.2-BA_FA Cont 2014 NewCGAAP'!G50","v":64873.19},null,null,64873.19,null,{"$f":"+'App.2-BA_FA Cont 2014 NewCGAAP'!L50","v":-64873},null,null,-64873,0.19000000000232831]
[47,1980,"System Supervisor Equipment",{"$f":"+'App.2-BA_FA Cont 2014 NewCGAAP'!G51","v":385008.0199999999},12050,null,397058.0199999999,null,{"$f":"+'App.2-BA_FA Cont 2014 NewCGAAP'!L51","v":-383565.22},{"$f":"-3065-1517.73-1517.73","v":-6100.4599999999991},null,-389665.68,7392.3399999999092]
[47,1985,"Miscellaneous Fixed Assets",{"$f":"+'App.2-BA_FA Cont 2014 NewCGAAP'!G52","v":0},null,null,0,null,{"$f":"+'App.2-BA_FA Cont 2014 NewCGAAP'!L52","v":0},null,null,0,0]
[47,1990,"Other Tangible Property",{"$f":"+'App.2-BA_FA Cont 2014 NewCGAAP'!G53","v":0},null,null,0,null,{"$f":"+'App.2-BA_FA Cont 2014 NewCGAAP'!L53","v":0},null,null,0,0]
[47,1995,"Contributions & Grants",{"$f":"+'App.2-BA_FA Cont 2014 NewCGAAP'!G54","v":-2189070.19},-173516,null,-2362586.19,null,{"$f":"+'App.2-BA_FA Cont 2014 NewCGAAP'!L54","v":591771.65999999992},null,null,591771.65999999992,-1770814.53]
[47,2440,"Deferred Revenue5",{"$f":"'App.2-BA_FA Cont 2013 NewCGAAP'!G55","v":0},null,null,null,null,{"$f":"'App.2-BA_FA Cont 2013 NewCGAAP'!L55","v":0}]
[null,null,null,null,null,null,0,null,{"$f":"'App.2-BA_FA Cont 2013 NewCGAAP'!L56","v":0},null,null,0,0]
[null,null,"Sub-Total",{"$f":"SUM(D17:D56)","v":27114035.919999998},{"$f":"SUM(E17:E56)","v":711246},{"$f":"SUM(F17:F56)","v":-22100},{"$f":"SUM(G17:G56)","v":27803181.919999998},null,{"$f":"SUM(I17:I56)","v":-18321797.790000003},{"$f":"SUM(J17:J56)","v":-848911.09999999986},{"$f":"SUM(K17:K56)","v":22100},{"$f":"SUM(L17:L56)","v":-19148608.889999997},{"$f":"SUM(M17:M56)","v":8654573.0300000012}]
[null,null,"Less Socialized Renewable Energy Generation Investments (input as negative)",null,null,null,{"$f":"D58+E58+F58","v":0},null,null,null,null,{"$f":"I58+J58+K58","v":0},{"$f":"G58+L58","v":0}]
[null,null,"Less Other Non Rate-Regulated Utility Assets (input as negative)",null,null,null,0,null,null,null,null,0,0]
[null,null,"Total PP&E",{"$f":"SUM(D57:D59)","v":27114035.919999998},{"$f":"SUM(E57:E59)","v":711246},-22100,27803181.919999998,null,{"$f":"SUM(I57:I59)","v":-18321797.790000003},-848911.09999999986,22100,-19148608.889999997,8654573.0300000012]
[null,null,"Depreciation Expense adj. from gain or loss on the retirement of assets (pool of like assets), if applicable6"]
[null,null,"Total",null,null,null,null,null,null,{"$f":"J60+J61","v":-848911.09999999986}]
[]
[null,null,null,null,null,null,null,null,"Less: Fully Allocated Depreciation"]
[10,null,"Transportation",null,null,null,null,null,"Transportation"]
[8,null,"Stores Equipment",null,null,null,null,null,"Stores Equipment"]
[null,null,null,null,null,null,null,null,"Net Depreciation",null,{"$f":"J62-K65-K66","v":-848911.09999999986}]
[]
["Notes:"]
[]
[1,"Tables in the format outlined above covering all fixed asset accounts should be submitted for the Test Year, Bridge Year and all relevant historical years.  At a minimum , the applicant must provide data for the earlier of: 1) all historical years back to its last rebasing; or 2) at least three years of historical actuals, in addition to Bridge Year and Test Year forecasts."]
[]
[]
[2,"The \"CCA Class\" for fixed assets should agree with the CCA Class used for tax purposes in Tax Returns. Fixed Assets sub-components may be used where the underlying asset components are classified under multiple CCA Classes for tax purposes. If an applicant uses any different classes from those shown in the table, an explanation should be provided. (also see note 3 below)."]
[]
[]
[3,"The table may need to be customized for a utility's asset categories or for any new asset accounts announced or authorized by the Board."]
[]
[4,"The additions column (E) must not include construction work in progress (CWIP)."]
[]
[5,"Effective on the date of IFRS adoption, customer contributions will no longer be recorded in Account 1995 Contributions & Grants, but will be recorded in Account 2440, Deferred Revenues.  "]
[]
[6,"Where a distributor for general financial reporting purposes under IFRS has accounted for the amount of gain or loss on the retirement of assets in a pool of like assets as a charge or credit to income, for reporting and rate application filings the distributor shall reclassify such gains and losses as depreciation expense, and disclose the amount separately."]

{"sheet":"App.2-BA_FA Cont 2015 MIFRS","index":13,"n_rows":86,"n_cols":13,"rows_kept":86,"cut":false,"hidden":false,"merged":[[76,1,77,12],[79,1,79,12],[85,1,86,12],[8,0,8,12],[9,0,9,12],[14,3,14,6],[63,2,63,8],[64,2,64,8],[73,1,74,12]]}
[null,null,null,null,null,null,null,null,null,null,null,"File Number:",{"$f":"EBNUMBER","v":{"$error":"#NAME?"}}]
[null,null,null,null,null,null,null,null,null,null,null,"Exhibit:"]
[null,null,null,null,null,null,null,null,null,null,null,"Tab:"]
[null,null,null,null,null,null,null,null,null,null,null,"Schedule:"]
[null,null,null,null,null,null,null,null,null,null,null,"Page:"]
[]
[null,null,null,null,null,null,null,null,null,null,null,"Date:"]
[]
["Appendix 2-BA"]
["Fixed Asset Continuity Schedule "]
[]
[null,null,null,null,"Accounting Standard","MIFRS"]
[null,null,null,null,"Year ",2015]
[]
[null,null,null,"Cost",null,null,null,null,null,"Accumulated Depreciation"]
["CCA Class","OEB","Description","Opening Balance","Additions","Disposals","Closing Balance",null,"Opening Balance","Additions","Disposals","Closing Balance","Net Book Value"]
[12,1611,"Computer Software (Formally known as Account 1925)",{"$f":"'App.2-BA_FA Cont 2014 MIFRS'!G17","v":401839.74},34000,null,{"$f":"D17+E17+F17","v":435839.74},null,{"$f":"'App.2-BA_FA Cont 2014 MIFRS'!L17","v":-344415.37},-34862,null,{"$f":"I17+J17+K17","v":-379277.37},{"$f":"G17+L17","v":56562.369999999995}]
[12,1611,"Computer Software (Formally known as Account 1925) from acct 1555",103008,null,null,{"$f":"D18+E18+F18","v":103008},null,-103008,0,null,{"$f":"I18+J18+K18","v":-103008},{"$f":"G18+L18","v":0}]
["CEC",1612,"Land Rights (Formally known as Account 1906)",{"$f":"'App.2-BA_FA Cont 2014 MIFRS'!G18","v":10808.84},null,null,{"$f":"D19+E19+F19","v":10808.84},null,{"$f":"'App.2-BA_FA Cont 2014 MIFRS'!L18","v":-8396},-335,null,{"$f":"I19+J19+K19","v":-8731},{"$f":"G19+L19","v":2077.84}]
["N/A",1805,"Land",{"$f":"'App.2-BA_FA Cont 2014 MIFRS'!G19","v":130499.26},null,null,{"$f":"D20+E20+F20","v":130499.26},null,{"$f":"'App.2-BA_FA Cont 2014 MIFRS'!L19","v":0},null,null,{"$f":"I20+J20+K20","v":0},{"$f":"G20+L20","v":130499.26}]
[47,1808,"Buildings",{"$f":"'App.2-BA_FA Cont 2014 MIFRS'!G20","v":665177.71},106000,null,{"$f":"D21+E21+F21","v":771177.71},null,{"$f":"'App.2-BA_FA Cont 2014 MIFRS'!L20","v":-303718.24999999994},{"$f":"-13566-4447","v":-18013},null,{"$f":"I21+J21+K21","v":-321731.24999999994},{"$f":"G21+L21","v":449446.46}]
[13,1810,"Leasehold Improvements",{"$f":"'App.2-BA_FA Cont 2014 MIFRS'!G21","v":0},null,null,0,null,{"$f":"'App.2-BA_FA Cont 2014 MIFRS'!L21","v":0},null,null,0,0]
[47,1815,"Transformer Station Equipment >50 kV",{"$f":"'App.2-BA_FA Cont 2014 MIFRS'!G22","v":0},null,null,0,null,{"$f":"'App.2-BA_FA Cont 2014 MIFRS'!L22","v":0},null,null,0,0]
[47,1820,"Distribution Station Equipment <50 kV",{"$f":"'App.2-BA_FA Cont 2014 MIFRS'!G23","v":2973865.89},139500,null,3113365.89,null,{"$f":"'App.2-BA_FA Cont 2014 MIFRS'!L23","v":-1940954.82},{"$f":"-32085-13465-19652","v":-65202},null,-2006156.82,1107209.07]
[47,1825,"Storage Battery Equipment",{"$f":"'App.2-BA_FA Cont 2014 MIFRS'!G24","v":0},null,null,0,null,{"$f":"'App.2-BA_FA Cont 2014 MIFRS'!L24","v":0},null,null,0,0]
[47,1830,"Poles, Towers & Fixtures",{"$f":"'App.2-BA_FA Cont 2014 MIFRS'!G25","v":8619844.3300000001},154820,null,8774664.3300000001,null,{"$f":"'App.2-BA_FA Cont 2014 MIFRS'!L25","v":-6896178.8700000001},{"$f":"-163244-1661","v":-164905},null,-7061083.8700000001,1713580.46]
[47,1835,"Overhead Conductors & Devices",{"$f":"'App.2-BA_FA Cont 2014 MIFRS'!G26","v":3506231.9699999997},210000,null,3716231.9699999997,null,{"$f":"'App.2-BA_FA Cont 2014 MIFRS'!L26","v":-1068442.43},{"$f":"-122-1188-10265-110116","v":-121691},null,-1190133.43,2526098.54]
[47,1840,"Underground Conduit",{"$f":"'App.2-BA_FA Cont 2014 MIFRS'!G27","v":3082573.47},73000,null,3155573.47,null,{"$f":"'App.2-BA_FA Cont 2014 MIFRS'!L27","v":-2493642.21},{"$f":"-79241-1138","v":-80379},null,-2574021.21,581552.26000000024]
[47,1845,"Underground Conductors & Devices",{"$f":"'App.2-BA_FA Cont 2014 MIFRS'!G28","v":759441.84000000008},243650,null,1003091.8400000001,null,{"$f":"'App.2-BA_FA Cont 2014 MIFRS'!L28","v":-152289.22999999998},{"$f":"-24229-3892","v":-28121},null,-180410.22999999998,822681.6100000001]
[47,1850,"Line Transformers",{"$f":"'App.2-BA_FA Cont 2014 MIFRS'!G29","v":4110745.72},187000,null,4297745.7200000007,null,{"$f":"'App.2-BA_FA Cont 2014 MIFRS'!L29","v":-2530818.87},{"$f":"-81377-8138","v":-89515},null,-2620333.87,1677411.8500000006]
[47,1855,"Services (Overhead & Underground)",{"$f":"'App.2-BA_FA Cont 2014 MIFRS'!G30","v":1323354.1000000001},101000,null,1424354.1,null,{"$f":"'App.2-BA_FA Cont 2014 MIFRS'!L30","v":-367219.97},{"$f":"-42483-1152-4438","v":-48073},null,-415292.97,1009061.1300000001]
[47,1860,"Meters",{"$f":"'App.2-BA_FA Cont 2014 MIFRS'!G31","v":99078.410000000091},10000,null,109078.41000000009,null,{"$f":"'App.2-BA_FA Cont 2014 MIFRS'!L31","v":-17194.409999999942},{"$f":"-74-2783","v":-2857},null,-20051.409999999942,89027.000000000146]
[47,1860,"Meters (Smart Meters)",{"$f":"'App.2-BA_FA Cont 2014 MIFRS'!G32","v":31909},65000,null,96909,null,{"$f":"'App.2-BA_FA Cont 2014 MIFRS'!L32","v":-1064},-4294,null,-5358,91551]
[47,1860,"Meters (Smart Meters) from account 1555",1645232,null,null,1645232,null,-553128,-102942,null,{"$f":"I34+J34+K34","v":-656070},{"$f":"G34+L34","v":989162}]
["N/A",1905,"Land",{"$f":"'App.2-BA_FA Cont 2014 MIFRS'!G33","v":0},null,null,0,null,{"$f":"'App.2-BA_FA Cont 2014 MIFRS'!L33","v":0},null,null,0,0]
[47,1908,"Buildings & Fixtures",{"$f":"'App.2-BA_FA Cont 2014 MIFRS'!G34","v":0},null,null,0,null,{"$f":"'App.2-BA_FA Cont 2014 MIFRS'!L34","v":0},null,null,0,0]
[13,1910,"Leasehold Improvements",{"$f":"'App.2-BA_FA Cont 2014 MIFRS'!G35","v":0},null,null,0,null,{"$f":"'App.2-BA_FA Cont 2014 MIFRS'!L35","v":0},null,null,0,0]
[8,1915,"Office Furniture & Equipment (10 years)",{"$f":"'App.2-BA_FA Cont 2014 MIFRS'!G36","v":135286.43},5000,null,140286.43,null,{"$f":"'App.2-BA_FA Cont 2014 MIFRS'!L36","v":-126028.54999999999},-1568,null,-127596.54999999999,12689.880000000005]
[8,1915,"Office Furniture & Equipment (5 years)",{"$f":"'App.2-BA_FA Cont 2014 MIFRS'!G37","v":0},null,null,0,null,{"$f":"'App.2-BA_FA Cont 2014 MIFRS'!L37","v":0},null,null,0,0]
[10,1920,"Computer Equipment - Hardware",{"$f":"'App.2-BA_FA Cont 2014 MIFRS'!G38","v":0},null,null,0,null,{"$f":"'App.2-BA_FA Cont 2014 MIFRS'!L38","v":0},null,null,0,0]
[45,1920,"Computer Equip.-Hardware(Post Mar. 22/04)",{"$f":"'App.2-BA_FA Cont 2014 MIFRS'!G39","v":0},null,null,0,null,{"$f":"'App.2-BA_FA Cont 2014 MIFRS'!L39","v":0},null,null,0,0]
[45.1,1920,"Computer Equip.-Hardware(Post Mar. 19/07)",{"$f":"'App.2-BA_FA Cont 2014 MIFRS'!G40","v":374635.29},10000,null,384635.29,null,{"$f":"'App.2-BA_FA Cont 2014 MIFRS'!L40","v":-350889.14},-15446,null,-366335.14,18300.149999999965]
[45.1,1920,"Computer Equip.-Hardware(Post Mar. 19/07)\nfrom acct 1555",25493,null,null,25493,null,-22821,-1781.6,null,-24602.6,890.40000000000146]
[10,1930,"Transportation Equipment",{"$f":"'App.2-BA_FA Cont 2014 MIFRS'!G41","v":2256907.09},61000,null,2317907.09,null,{"$f":"'App.2-BA_FA Cont 2014 MIFRS'!L41","v":-1581040.95},{"$f":"-53978-16830-88489","v":-159297},null,-1740337.95,577569.1399999999]
[8,1935,"Stores Equipment",{"$f":"'App.2-BA_FA Cont 2014 MIFRS'!G42","v":1761.26},null,null,1761.26,null,{"$f":"'App.2-BA_FA Cont 2014 MIFRS'!L42","v":-1761},null,null,-1761,0.25999999999999091]
[8,1940,"Tools, Shop & Garage Equipment",{"$f":"'App.2-BA_FA Cont 2014 MIFRS'!G43","v":300146.66000000003},10000,null,310146.66000000003,null,{"$f":"'App.2-BA_FA Cont 2014 MIFRS'!L43","v":-240910.05},-8919,null,-249829.05,60317.610000000044]
[8,1945,"Measurement & Testing Equipment",{"$f":"'App.2-BA_FA Cont 2014 MIFRS'!G44","v":18090},null,null,18090,null,{"$f":"'App.2-BA_FA Cont 2014 MIFRS'!L44","v":-2714},-1809,null,-4523,13567]
[8,1950,"Power Operated Equipment",{"$f":"'App.2-BA_FA Cont 2014 MIFRS'!G45","v":0},null,null,0,null,{"$f":"'App.2-BA_FA Cont 2014 MIFRS'!L45","v":0},null,null,0,0]
[8,1955,"Communications Equipment",{"$f":"'App.2-BA_FA Cont 2014 MIFRS'!G46","v":38923.89},1200,null,40123.89,null,{"$f":"'App.2-BA_FA Cont 2014 MIFRS'!L46","v":-35637.86},-1430,null,-37067.86,3056.0299999999988]
[8,1955,"Communication Equipment (Smart Meters)",{"$f":"'App.2-BA_FA Cont 2014 MIFRS'!G47","v":0},null,null,0,null,{"$f":"'App.2-BA_FA Cont 2014 MIFRS'!L47","v":0},null,null,0,0]
[8,1960,"Miscellaneous Equipment ",{"$f":"'App.2-BA_FA Cont 2014 MIFRS'!G48","v":12104},null,null,12104,null,{"$f":"'App.2-BA_FA Cont 2014 MIFRS'!L48","v":-1815.6000000000001},-1210.4000000000001,null,-3026,9078]
[47,1970,"Load Management Controls Customer Premises",{"$f":"'App.2-BA_FA Cont 2014 MIFRS'!G49","v":0},null,null,0,null,{"$f":"'App.2-BA_FA Cont 2014 MIFRS'!L49","v":0.34999999997671694},null,null,0.34999999997671694,0.34999999997671694]
[47,1975,"Load Management Controls Utility Premises",{"$f":"'App.2-BA_FA Cont 2014 MIFRS'!G50","v":64873.19},null,null,64873.19,null,{"$f":"'App.2-BA_FA Cont 2014 MIFRS'!L50","v":-64873},null,null,-64873,0.19000000000232831]
[47,1980,"System Supervisor Equipment",{"$f":"'App.2-BA_FA Cont 2014 MIFRS'!G51","v":385008.0199999999},22500,null,407508.0199999999,null,{"$f":"'App.2-BA_FA Cont 2014 MIFRS'!L51","v":-383565.22},-4812,null,-388377.22,19130.79999999993]
[47,1985,"Miscellaneous Fixed Assets",{"$f":"'App.2-BA_FA Cont 2014 MIFRS'!G52","v":0},0,null,0,null,{"$f":"'App.2-BA_FA Cont 2014 MIFRS'!L52","v":0},null,null,0,0]
[47,1990,"Other Tangible Property",{"$f":"'App.2-BA_FA Cont 2014 MIFRS'!G53","v":0},0,null,0,null,{"$f":"'App.2-BA_FA Cont 2014 MIFRS'!L53","v":0},null,null,0,0]
[47,1995,"Contributions & Grants",{"$f":"'App.2-BA_FA Cont 2014 MIFRS'!G54","v":-2040278.19},null,null,-2040278.19,null,{"$f":"'App.2-BA_FA Cont 2014 MIFRS'!L54","v":591771.65999999992},{"$f":"71181+11334","v":82515},null,674286.65999999992,-1365991.53]
[47,2440,"Deferred Revenue5",{"$f":"'App.2-BA_FA Cont 2014 MIFRS'!G55","v":-148792},-324000,null,-472792,null,{"$f":"'App.2-BA_FA Cont 2014 MIFRS'!L55","v":0},6920,null,6920,-465872]
[null,null,null,{"$f":"'App.2-BA_FA Cont 2014 MIFRS'!G56","v":0},null,null,0,null,{"$f":"'App.2-BA_FA Cont 2014 MIFRS'!L56","v":0},null,null,0,0]
[null,null,"Sub-Total",{"$f":"SUM(D17:D59)","v":28887768.919999998},{"$f":"SUM(E17:E59)","v":1109670},{"$f":"SUM(F17:F59)","v":0},{"$f":"SUM(G17:G59)","v":29997438.919999998},null,{"$f":"SUM(I17:I59)","v":-19000754.789999999},{"$f":"SUM(J17:J59)","v":-868027},{"$f":"SUM(K17:K59)","v":0},{"$f":"SUM(L17:L59)","v":-19868781.789999999},{"$f":"SUM(M17:M59)","v":10128657.130000003}]
[null,null,"Less Socialized Renewable Energy Generation Investments (input as negative)",null,null,null,{"$f":"D61+E61+F61","v":0},null,null,null,null,{"$f":"I61+J61+K61","v":0},{"$f":"G61+L61","v":0}]
[null,null,"Less Other Non Rate-Regulated Utility Assets (input as negative)",null,null,null,0,null,null,null,null,0,0]
[null,null,"Total PP&E",{"$f":"SUM(D60:D62)","v":28887768.919999998},{"$f":"SUM(E60:E62)","v":1109670},0,29997438.919999998,null,{"$f":"SUM(I60:I62)","v":-19000754.789999999},-868027,0,-19868781.789999999,10128657.130000003]
[null,null,"Depreciation Expense adj. from gain or loss on the retirement of assets (pool of like assets), if applicable6"]
[null,null,"Total",null,null,null,null,null,null,{"$f":"J63+J64","v":-868027}]
[]
[null,null,null,null,null,null,null,null,"Less: Fully Allocated Depreciation"]
[10,null,"Transportation",null,null,null,null,null,"Transportation",null,-141609.60999999999]
[8,null,"Stores Equipment",null,null,null,null,null,"Stores Equipment"]
[null,null,null,null,null,null,null,null,"Net Depreciation",null,{"$f":"J65-K68-K69","v":-726417.39}]
[]
["Notes:"]
[]
[1,"Tables in the format outlined above covering all fixed asset accounts should be submitted for the Test Year, Bridge Year and all relevant historical years.  At a minimum , the applicant must provide data for the earlier of: 1) all historical years back to its last rebasing; or 2) at least three years of historical actuals, in addition to Bridge Year and Test Year forecasts."]
[]
[]
[2,"The \"CCA Class\" for fixed assets should agree with the CCA Class used for tax purposes in Tax Returns. Fixed Assets sub-components may be used where the underlying asset components are classified under multiple CCA Classes for tax purposes. If an applicant uses any different classes from those shown in the table, an explanation should be provided. (also see note 3 below)."]
[]
[]
[3,"The table may need to be customized for a utility's asset categories or for any new asset accounts announced or authorized by the Board."]
[]
[4,"The additions column (E) must not include construction work in progress (CWIP)."]
[]
[5,"Effective on the date of IFRS adoption, customer contributions will no longer be recorded in Account 1995 Contributions & Grants, but will be recorded in Account 2440, Deferred Revenues.  "]
[]
[6,"Where a distributor for general financial reporting purposes under IFRS has accounted for the amount of gain or loss on the retirement of assets in a pool of like assets as a charge or credit to income, for reporting and rate application filings the distributor shall reclassify such gains and losses as depreciation expense, and disclose the amount separately."]

{"sheet":"App.2-BA_FA Cont 2016 MIFRS ","index":14,"n_rows":86,"n_cols":13,"rows_kept":86,"cut":false,"hidden":false,"merged":[[76,1,77,12],[79,1,79,12],[85,1,86,12],[8,0,8,12],[9,0,9,12],[14,3,14,6],[63,2,63,8],[64,2,64,8],[73,1,74,12]]}
[null,null,null,null,null,null,null,null,null,null,null,"File Number:",{"$f":"EBNUMBER","v":{"$error":"#NAME?"}}]
[null,null,null,null,null,null,null,null,null,null,null,"Exhibit:"]
[null,null,null,null,null,null,null,null,null,null,null,"Tab:"]
[null,null,null,null,null,null,null,null,null,null,null,"Schedule:"]
[null,null,null,null,null,null,null,null,null,null,null,"Page:"]
[]
[null,null,null,null,null,null,null,null,null,null,null,"Date:"]
[]
["Appendix 2-BA"]
["Fixed Asset Continuity Schedule "]
[]
[null,null,null,null,"Accounting Standard","MIFRS"]
[null,null,null,null,"Year ",2016]
[]
[null,null,null,"Cost",null,null,null,null,null,"Accumulated Depreciation"]
["CCA Class","OEB","Description","Opening Balance","Additions","Disposals","Closing Balance",null,"Opening Balance","Additions","Disposals","Closing Balance","Net Book Value"]
[12,1611,"Computer Software (Formally known as Account 1925)",{"$f":"'App.2-BA_FA Cont 2015 MIFRS'!G17","v":435839.74},19000,null,{"$f":"D17+E17+F17","v":454839.74},null,{"$f":"'App.2-BA_FA Cont 2015 MIFRS'!L17","v":-379277.37},-35926,null,{"$f":"I17+J17+K17","v":-415203.37},{"$f":"G17+L17","v":39636.369999999995}]
[12,1611,"Computer Software (Formally known as Account 1925) from acct 1555",{"$f":"'App.2-BA_FA Cont 2015 MIFRS'!G18","v":103008},null,null,{"$f":"D18+E18+F18","v":103008},null,{"$f":"'App.2-BA_FA Cont 2015 MIFRS'!L18","v":-103008},null,null,{"$f":"I18+J18+K18","v":-103008},{"$f":"G18+L18","v":0}]
["CEC",1612,"Land Rights (Formally known as Account 1906)",{"$f":"'App.2-BA_FA Cont 2015 MIFRS'!G19","v":10808.84},null,null,{"$f":"D19+E19+F19","v":10808.84},null,{"$f":"'App.2-BA_FA Cont 2015 MIFRS'!L19","v":-8731},-335,null,{"$f":"I19+J19+K19","v":-9066},{"$f":"G19+L19","v":1742.8400000000001}]
["N/A",1805,"Land",{"$f":"'App.2-BA_FA Cont 2015 MIFRS'!G20","v":130499.26},null,null,{"$f":"D20+E20+F20","v":130499.26},null,{"$f":"'App.2-BA_FA Cont 2015 MIFRS'!L20","v":0},null,null,{"$f":"I20+J20+K20","v":0},{"$f":"G20+L20","v":130499.26}]
[47,1808,"Buildings",{"$f":"'App.2-BA_FA Cont 2015 MIFRS'!G21","v":771177.71},38000,null,{"$f":"D21+E21+F21","v":809177.71},null,{"$f":"'App.2-BA_FA Cont 2015 MIFRS'!L21","v":-321731.24999999994},{"$f":"-16446-4447","v":-20893},null,{"$f":"I21+J21+K21","v":-342624.24999999994},{"$f":"G21+L21","v":466553.46}]
[13,1810,"Leasehold Improvements",{"$f":"'App.2-BA_FA Cont 2015 MIFRS'!G22","v":0},null,null,0,null,{"$f":"'App.2-BA_FA Cont 2015 MIFRS'!L22","v":0},null,null,0,0]
[47,1815,"Transformer Station Equipment >50 kV",{"$f":"'App.2-BA_FA Cont 2015 MIFRS'!G23","v":0},null,null,0,null,{"$f":"'App.2-BA_FA Cont 2015 MIFRS'!L23","v":0},null,null,0,0]
[47,1820,"Distribution Station Equipment <50 kV",{"$f":"'App.2-BA_FA Cont 2015 MIFRS'!G24","v":3113365.89},193500,null,3306865.89,null,{"$f":"'App.2-BA_FA Cont 2015 MIFRS'!L24","v":-2006156.82},{"$f":"-37635-13465-19652","v":-70752},null,-2076908.82,1229957.07]
[47,1825,"Storage Battery Equipment",{"$f":"'App.2-BA_FA Cont 2015 MIFRS'!G25","v":0},null,null,0,null,{"$f":"'App.2-BA_FA Cont 2015 MIFRS'!L25","v":0},null,null,0,0]
[47,1830,"Poles, Towers & Fixtures",{"$f":"'App.2-BA_FA Cont 2015 MIFRS'!G26","v":8774664.3300000001},137700,null,8912364.3300000001,null,{"$f":"'App.2-BA_FA Cont 2015 MIFRS'!L26","v":-7061083.8700000001},{"$f":"-157385-1661","v":-159046},null,-7220129.8700000001,1692234.46]
[47,1835,"Overhead Conductors & Devices",{"$f":"'App.2-BA_FA Cont 2015 MIFRS'!G27","v":3716231.9699999997},{"$f":"172080+17208+1912","v":191200},null,3907431.9699999997,null,{"$f":"'App.2-BA_FA Cont 2015 MIFRS'!L27","v":-1190133.43},{"$f":"-110116-13275-1589-171","v":-125151},null,-1315284.43,2592147.54]
[47,1840,"Underground Conduit",{"$f":"'App.2-BA_FA Cont 2015 MIFRS'!G28","v":3155573.47},0,null,3155573.47,null,{"$f":"'App.2-BA_FA Cont 2015 MIFRS'!L28","v":-2574021.21},{"$f":"-76782-1138","v":-77920},null,-2651941.21,503632.26000000024]
[47,1845,"Underground Conductors & Devices",{"$f":"'App.2-BA_FA Cont 2015 MIFRS'!G29","v":1003091.8400000001},163650,null,1166741.8400000001,null,{"$f":"'App.2-BA_FA Cont 2015 MIFRS'!L29","v":-180410.22999999998},{"$f":"-22185-8983","v":-31168},null,-211578.22999999998,955163.6100000001]
[47,1850,"Line Transformers",{"$f":"'App.2-BA_FA Cont 2015 MIFRS'!G30","v":4297745.7200000007},172000,null,4469745.7200000007,null,{"$f":"'App.2-BA_FA Cont 2015 MIFRS'!L30","v":-2620333.87},{"$f":"-78795-12625","v":-91420},null,-2711753.87,1757991.8500000006]
[47,1855,"Services (Overhead & Underground)",{"$f":"'App.2-BA_FA Cont 2015 MIFRS'!G31","v":1424354.1},{"$f":"15150+85850","v":101000},null,1525354.1,null,{"$f":"'App.2-BA_FA Cont 2015 MIFRS'!L31","v":-415292.97},{"$f":"-36396-1993-5700","v":-44089},null,-459381.97,1065972.1300000001]
[47,1860,"Meters",{"$f":"'App.2-BA_FA Cont 2015 MIFRS'!G32","v":109078.41000000009},7500,null,116578.41000000009,null,{"$f":"'App.2-BA_FA Cont 2015 MIFRS'!L32","v":-20051.409999999942},{"$f":"-74-2933","v":-3007},null,-23058.409999999942,93520.000000000146]
[47,1860,"Meters (Smart Meters)",{"$f":"'App.2-BA_FA Cont 2015 MIFRS'!G33","v":96909},35200,null,132109,null,{"$f":"'App.2-BA_FA Cont 2015 MIFRS'!L33","v":-5358},-7634,null,-12992,119117]
[47,1860,"Meters (Smart Meters) from account 1555",{"$f":"'App.2-BA_FA Cont 2015 MIFRS'!G34","v":1645232},null,null,1645232,null,-656070,-102942,null,-759012,886220]
["N/A",1905,"Land",{"$f":"'App.2-BA_FA Cont 2015 MIFRS'!G35","v":0},null,null,0,null,{"$f":"'App.2-BA_FA Cont 2015 MIFRS'!L35","v":0},null,null,0,0]
[47,1908,"Buildings & Fixtures",{"$f":"'App.2-BA_FA Cont 2015 MIFRS'!G36","v":0},null,null,0,null,{"$f":"'App.2-BA_FA Cont 2015 MIFRS'!L36","v":0},null,null,0,0]
[13,1910,"Leasehold Improvements",{"$f":"'App.2-BA_FA Cont 2015 MIFRS'!G37","v":0},null,null,0,null,{"$f":"'App.2-BA_FA Cont 2015 MIFRS'!L37","v":0},null,null,0,0]
[8,1915,"Office Furniture & Equipment (10 years)",{"$f":"'App.2-BA_FA Cont 2015 MIFRS'!G38","v":140286.43},8000,null,148286.43,null,{"$f":"'App.2-BA_FA Cont 2015 MIFRS'!L38","v":-127596.54999999999},-2218,null,-129814.54999999999,18471.880000000005]
[8,1915,"Office Furniture & Equipment (5 years)",{"$f":"'App.2-BA_FA Cont 2015 MIFRS'!G39","v":0},null,null,0,null,{"$f":"'App.2-BA_FA Cont 2015 MIFRS'!L39","v":0},null,null,0,0]
[10,1920,"Computer Equipment - Hardware",{"$f":"'App.2-BA_FA Cont 2015 MIFRS'!G40","v":0},null,null,0,null,{"$f":"'App.2-BA_FA Cont 2015 MIFRS'!L40","v":0},null,null,0,0]
[45,1920,"Computer Equip.-Hardware(Post Mar. 22/04)",{"$f":"'App.2-BA_FA Cont 2015 MIFRS'!G41","v":0},null,null,0,null,{"$f":"'App.2-BA_FA Cont 2015 MIFRS'!L41","v":0},null,null,0,0]
[45.1,1920,"Computer Equip.-Hardware(Post Mar. 19/07)",{"$f":"'App.2-BA_FA Cont 2015 MIFRS'!G42","v":384635.29},10000,null,394635.29,null,{"$f":"'App.2-BA_FA Cont 2015 MIFRS'!L42","v":-366335.14},-13206,null,-379541.14,15094.149999999965]
[45.1,1920,"Computer Equip.-Hardware(Post Mar. 19/07)\nfrom acct 1555",{"$f":"'App.2-BA_FA Cont 2015 MIFRS'!G43","v":25493},null,null,25493,null,{"$f":"'App.2-BA_FA Cont 2015 MIFRS'!L43","v":-24602.6},-890,null,-25492.6,0.40000000000145519]
[10,1930,"Transportation Equipment",{"$f":"'App.2-BA_FA Cont 2015 MIFRS'!G44","v":2317907.09},328000,null,2645907.09,null,{"$f":"'App.2-BA_FA Cont 2015 MIFRS'!L44","v":-1740337.95},{"$f":"-78291-16830-62622","v":-157743},null,-1898080.95,747826.1399999999]
[8,1935,"Stores Equipment",{"$f":"'App.2-BA_FA Cont 2015 MIFRS'!G45","v":1761.26},null,null,1761.26,null,{"$f":"'App.2-BA_FA Cont 2015 MIFRS'!L45","v":-1761},null,null,-1761,0.25999999999999091]
[8,1940,"Tools, Shop & Garage Equipment",{"$f":"'App.2-BA_FA Cont 2015 MIFRS'!G46","v":310146.66000000003},10000,null,320146.66000000003,null,{"$f":"'App.2-BA_FA Cont 2015 MIFRS'!L46","v":-249829.05},-8319,null,-258148.05,61998.610000000044]
[8,1945,"Measurement & Testing Equipment",{"$f":"'App.2-BA_FA Cont 2015 MIFRS'!G47","v":18090},null,null,18090,null,{"$f":"'App.2-BA_FA Cont 2015 MIFRS'!L47","v":-4523},-1809,null,-6332,11758]
[8,1950,"Power Operated Equipment",{"$f":"'App.2-BA_FA Cont 2015 MIFRS'!G48","v":0},null,null,0,null,{"$f":"'App.2-BA_FA Cont 2015 MIFRS'!L48","v":0},null,null,0,0]
[8,1955,"Communications Equipment",{"$f":"'App.2-BA_FA Cont 2015 MIFRS'!G49","v":40123.89},1200,null,41323.89,null,{"$f":"'App.2-BA_FA Cont 2015 MIFRS'!L49","v":-37067.86},-1104,null,-38171.86,3152.0299999999988]
[8,1955,"Communication Equipment (Smart Meters)",{"$f":"'App.2-BA_FA Cont 2015 MIFRS'!G50","v":0},null,null,0,null,{"$f":"'App.2-BA_FA Cont 2015 MIFRS'!L50","v":0},null,null,0,0]
[8,1960,"Miscellaneous Equipment ",{"$f":"'App.2-BA_FA Cont 2015 MIFRS'!G51","v":12104},null,null,12104,null,{"$f":"'App.2-BA_FA Cont 2015 MIFRS'!L51","v":-3026},-1210,null,-4236,7868]
[47,1970,"Load Management Controls Customer Premises",{"$f":"'App.2-BA_FA Cont 2015 MIFRS'!G52","v":0},null,null,0,null,{"$f":"'App.2-BA_FA Cont 2015 MIFRS'!L52","v":0.34999999997671694},null,null,0.34999999997671694,0.34999999997671694]
[47,1975,"Load Management Controls Utility Premises",{"$f":"'App.2-BA_FA Cont 2015 MIFRS'!G53","v":64873.19},null,null,64873.19,null,{"$f":"'App.2-BA_FA Cont 2015 MIFRS'!L53","v":-64873},null,null,-64873,0.19000000000232831]
[47,1980,"System Supervisor Equipment",{"$f":"'App.2-BA_FA Cont 2015 MIFRS'!G54","v":407508.0199999999},130000,null,537508.0199999999,null,{"$f":"'App.2-BA_FA Cont 2015 MIFRS'!L54","v":-388377.22},-30229,null,-418606.22,118901.79999999993]
[47,1985,"Miscellaneous Fixed Assets",{"$f":"'App.2-BA_FA Cont 2015 MIFRS'!G55","v":0},null,null,0,null,{"$f":"'App.2-BA_FA Cont 2015 MIFRS'!L55","v":0},null,null,0,0]
[47,1990,"Other Tangible Property",{"$f":"'App.2-BA_FA Cont 2015 MIFRS'!G56","v":0},null,null,0,null,{"$f":"'App.2-BA_FA Cont 2015 MIFRS'!L56","v":0},null,null,0,0]
[47,1995,"Contributions & Grants",{"$f":"'App.2-BA_FA Cont 2015 MIFRS'!G57","v":-2040278.19},null,null,-2040278.19,null,{"$f":"'App.2-BA_FA Cont 2015 MIFRS'!L57","v":674286.65999999992},71181,null,745467.65999999992,-1294810.53]
[47,2440,"Deferred Revenue5",{"$f":"'App.2-BA_FA Cont 2015 MIFRS'!G58","v":-472792},-300000,null,-772792,null,{"$f":"'App.2-BA_FA Cont 2015 MIFRS'!L58","v":6920},26054,null,32974,-739818]
[null,null,null,{"$f":"'App.2-BA_FA Cont 2015 MIFRS'!G59","v":0},null,null,0,null,{"$f":"'App.2-BA_FA Cont 2015 MIFRS'!L59","v":0},null,null,0,0]
[null,null,"Sub-Total",{"$f":"SUM(D17:D59)","v":29997438.919999998},{"$f":"SUM(E17:E59)","v":1245950},{"$f":"SUM(F17:F59)","v":0},{"$f":"SUM(G17:G59)","v":31243388.919999998},null,{"$f":"SUM(I17:I59)","v":-19868781.789999999},{"$f":"SUM(J17:J59)","v":-889776},{"$f":"SUM(K17:K59)","v":0},{"$f":"SUM(L17:L59)","v":-20758557.789999999},{"$f":"SUM(M17:M59)","v":10484831.130000003}]
[null,null,"Less Socialized Renewable Energy Generation Investments (input as negative)",null,null,null,{"$f":"D61+E61+F61","v":0},null,null,null,null,{"$f":"I61+J61+K61","v":0},{"$f":"G61+L61","v":0}]
[null,null,"Less Other Non Rate-Regulated Utility Assets (input as negative)",null,null,null,0,null,null,null,null,0,0]
[null,null,"Total PP&E",{"$f":"SUM(D60:D62)","v":29997438.919999998},{"$f":"SUM(E60:E62)","v":1245950},0,31243388.919999998,null,{"$f":"SUM(I60:I62)","v":-19868781.789999999},-889776,0,-20758557.789999999,10484831.130000003]
[null,null,"Depreciation Expense adj. from gain or loss on the retirement of assets (pool of like assets), if applicable6"]
[null,null,"Total",null,null,null,null,null,null,{"$f":"J63+J64","v":-889776}]
[]
[null,null,null,null,null,null,null,null,"Less: Fully Allocated Depreciation"]
[10,null,"Transportation",null,null,null,null,null,"Transportation",null,-140055.60999999999]
[8,null,"Stores Equipment",null,null,null,null,null,"Stores Equipment"]
[null,null,null,null,null,null,null,null,"Net Depreciation",null,{"$f":"J65-K68-K69","v":-749720.39}]
[]
["Notes:"]
[]
[1,"Tables in the format outlined above covering all fixed asset accounts should be submitted for the Test Year, Bridge Year and all relevant historical years.  At a minimum , the applicant must provide data for the earlier of: 1) all historical years back to its last rebasing; or 2) at least three years of historical actuals, in addition to Bridge Year and Test Year forecasts."]
[]
[]
[2,"The \"CCA Class\" for fixed assets should agree with the CCA Class used for tax purposes in Tax Returns. Fixed Assets sub-components may be used where the underlying asset components are classified under multiple CCA Classes for tax purposes. If an applicant uses any different classes from those shown in the table, an explanation should be provided. (also see note 3 below)."]
[]
[]
[3,"The table may need to be customized for a utility's asset categories or for any new asset accounts announced or authorized by the Board."]
[]
[4,"The additions column (E) must not include construction work in progress (CWIP)."]
[]
[5,"Effective on the date of IFRS adoption, customer contributions will no longer be recorded in Account 1995 Contributions & Grants, but will be recorded in Account 2440, Deferred Revenues.  "]
[]
[6,"Where a distributor for general financial reporting purposes under IFRS has accounted for the amount of gain or loss on the retirement of assets in a pool of like assets as a charge or credit to income, for reporting and rate application filings the distributor shall reclassify such gains and losses as depreciation expense, and disclose the amount separately."]

{"sheet":"Appendix 2-BB Service Life  ","index":15,"n_rows":107,"n_cols":17,"rows_kept":107,"cut":false,"hidden":false,"merged":[[100,2,100,4],[100,6,100,7],[103,0,103,7],[97,2,97,4],[97,6,97,7],[98,2,98,4],[98,6,98,7],[99,2,99,4],[99,6,99,7],[94,2,94,4],[94,6,94,7],[95,2,95,4],[95,6,95,7],[96,2,96,4],[96,6,96,7],[92,1,93,1],[92,2,93,2],[92,3,92,4],[92,6,92,7],[93,3,93,4],[93,6,93,7],[88,1,91,1],[88,2,91,2],[88,3,88,4],[88,6,88,7],[89,3,89,4],[89,6,89,7],[90,3,90,4],[90,6,90,7],[91,3,91,4],[91,6,91,7],[86,1,87,1],[86,2,87,2],[86,3,86,4],[86,6,86,7],[87,3,87,4],[87,6,87,7],[82,1,85,1],[82,2,85,2],[82,3,82,4],[82,6,82,7],[83,3,83,4],[83,6,83,7],[84,3,84,4],[84,6,84,7],[85,3,85,4],[85,6,85,7],[80,2,80,4],[80,6,80,7],[81,2,81,4],[81,5,81,7],[74,13,74,14],[74,15,74,16],[75,2,75,4],[76,2,76,4],[76,6,76,7],[74,10,75,10],[74,11,74,12],[77,6,77,7],[78,3,78,4],[72,0,72,7],[74,2,74,4],[74,5,75,7],[74,9,75,9],[78,6,78,7],[79,3,79,4],[79,6,79,7],[69,2,69,4],[60,2,60,4],[61,2,61,4],[62,1,63,1],[62,2,63,2],[62,3,62,4],[63,3,63,4],[77,1,79,1],[77,2,79,2],[77,3,77,4],[59,2,59,4],[49,2,49,4],[50,0,68,0],[50,2,50,4],[51,2,51,4],[52,2,52,4],[53,2,53,4],[54,2,54,4],[55,2,55,4],[64,2,64,4],[65,2,65,4],[66,2,66,4],[67,2,67,4],[68,2,68,4],[33,0,49,0],[33,1,35,1],[33,2,35,2],[33,3,33,4],[34,3,34,4],[43,2,43,4],[44,2,44,4],[45,2,45,4],[46,2,46,4],[47,2,47,4],[48,2,48,4],[56,2,56,4],[57,1,58,1],[57,2,58,2],[57,3,57,4],[58,3,58,4],[38,1,40,1],[38,2,40,2],[38,3,38,4],[39,3,39,4],[40,3,40,4],[41,1,42,1],[41,3,41,4],[42,3,42,4],[35,3,35,4],[36,2,36,4],[37,2,37,4],[16,0,32,0],[16,1,18,1],[16,2,18,2],[16,3,16,4],[17,3,18,3],[25,2,25,4],[26,2,26,4],[27,2,27,4],[28,2,28,4],[29,2,29,4],[30,2,30,4],[19,1,21,1],[19,2,21,2],[19,3,19,4],[20,3,21,3],[22,1,24,1],[22,2,24,2],[22,3,22,4],[23,3,24,3],[14,11,14,12],[14,13,14,14],[31,2,31,4],[32,2,32,4],[14,2,14,4],[14,5,14,7],[14,9,15,9],[14,10,15,10],[8,0,8,16],[9,0,9,16],[10,0,10,16],[14,15,14,16],[15,2,15,4]]}
[null,null,null,null,null,null,null,null,null,null,null,null,"File Number:",null,0]
[null,null,null,null,null,null,null,null,null,null,null,null,"Exhibit:"]
[null,null,null,null,null,null,null,null,null,null,null,null,"Tab:"]
[null,null,null,null,null,null,null,null,null,null,null,null,"Schedule:"]
[null,null,null,null,null,null,null,null,null,null,null,null,"Page:"]
[]
[null,null,null,null,null,null,null,null,null,null,null,null,"Date:"]
[]
["Appendix 2-BB"]
["Service Life Comparison"]
["Table F-1 from Kinetrics Report1"]
[]
[]
[]
[null,null,"Asset Details",null,null,"Useful Life",null,null,null,"USoA Account Number","USoA Account Description","Current",null,"Proposed",null,"Outside Range of Min, Max TUL?"]
["Parent*","#","Category| Component | Type",null,null,"MIN UL","TUL","MAX UL",null,null,null,"Years","Rate","Years","Rate","Below Min TUL","Above Max TUL"]
["OH",1,"Fully Dressed Wood Poles","Overall",null,35,45,75,null,1830,null,45,{"$f":"IF(ISERROR(1/L17), \"\", 1/L17)","v":2.2222222222222223E-2},null,{"$f":"IF(ISERROR(1/N17), \"\", 1/N17)","v":""},{"$f":"IF(ISBLANK(N17),\"\",IF(N17<F17,\"Yes\",\"No\"))","v":""},{"$f":"IF(ISBLANK(N17),\"\",IF(N17>H17,\"Yes\",\"No\"))","v":""}]
[null,null,null,"Cross Arm","Wood",20,40,55,null,null,null,null,{"$f":"IF(ISERROR(1/L18), \"\", 1/L18)","v":""},null,{"$f":"IF(ISERROR(1/N18), \"\", 1/N18)","v":""},{"$f":"IF(ISBLANK(N18),\"\",IF(N18<F18,\"Yes\",\"No\"))","v":""},{"$f":"IF(ISBLANK(N18),\"\",IF(N18>H18,\"Yes\",\"No\"))","v":""}]
[null,null,null,null,"Steel",30,70,95,null,null,null,null,"",null,"","",""]
[null,2,"Fully Dressed Concrete Poles","Overall",null,50,60,80,null,1830,null,60,1.6666666666666666E-2,null,"","",""]
[null,null,null,"Cross Arm","Wood",20,40,55,null,null,null,null,"",null,"","",""]
[null,null,null,null,"Steel",30,70,95,null,null,null,null,"",null,"","",""]
[null,3,"Fully Dressed Steel Poles","Overall",null,60,60,80,null,1830,null,60,1.6666666666666666E-2,null,"","",""]
[null,null,null,"Cross Arm","Wood",20,40,55,null,null,null,null,"",null,"","",""]
[null,null,null,null,"Steel",30,70,95,null,null,null,null,"",null,"","",""]
[null,4,"OH Line Switch",null,null,30,45,55,null,1835,null,null,"",null,"","",""]
[null,5,"OH Line Switch Motor",null,null,15,25,25,null,1835,null,null,"",null,"","",""]
[null,6,"OH Line Switch RTU",null,null,15,20,20,null,1835,null,null,"",null,"","",""]
[null,7,"OH Integral Switches",null,null,35,45,60,null,1835,null,null,"",null,"","",""]
[null,8,"OH Conductors",null,null,50,60,75,null,1835,null,null,"",null,"","",""]
[null,9,"OH Transformers & Voltage Regulators",null,null,30,40,60,null,1835,null,40,2.5000000000000001E-2,null,"","",""]
[null,10,"OH Shunt Capacitor Banks",null,null,25,30,40,null,1835,null,null,"",null,"","",""]
[null,11,"Reclosers",null,null,25,40,55,null,1835,null,null,"",null,"","",""]
["TS & MS",12,"Power Transformers","Overall",null,30,45,60,null,null,null,45,2.2222222222222223E-2,null,"","",""]
[null,null,null,"Bushing",null,10,20,30,null,null,null,null,"",null,"","",""]
[null,null,null,"Tap Changer",null,20,30,60,null,null,null,null,"",null,"","",""]
[null,13,"Station Service Transformer",null,null,30,45,55,null,null,null,null,"",null,"","",""]
[null,14,"Station Grounding Transformer",null,null,30,40,40,null,null,null,null,"",null,"","",""]
[null,15,"Station DC System","Overall",null,10,20,30,null,null,null,null,"",null,"","",""]
[null,null,null,"Battery Bank",null,10,15,15,null,null,null,null,"",null,"","",""]
[null,null,null,"Charger",null,20,20,30,null,null,null,null,"",null,"","",""]
[null,16,"Station Metal Clad Switchgear","Overall",null,30,40,60,null,null,null,40,2.5000000000000001E-2,null,"","",""]
[null,null,null,"Removable Breaker",null,25,40,60,null,null,null,null,"",null,"","",""]
[null,17,"Station Independent Breakers",null,null,35,45,65,null,null,null,null,"",null,"","",""]
[null,18,"Station Switch",null,null,30,50,60,null,null,null,null,"",null,"","",""]
[null,19,"Electromechanical Relays",null,null,25,35,50,null,null,null,30,3.3333333333333333E-2,null,"","",""]
[null,20,"Solid State Relays",null,null,10,30,45,null,null,null,null,"",null,"","",""]
[null,21,"Digital & Numeric Relays",null,null,15,20,20,null,null,null,null,"",null,"","",""]
[null,22,"Rigid Busbars",null,null,30,55,60,null,null,null,null,"",null,"","",""]
[null,23,"Steel Structure",null,null,35,50,90,null,null,null,null,"",null,"","",""]
["UG",24,"Primary Paper Insulated Lead Covered (PILC) Cables",null,null,60,65,75,null,null,null,null,"",null,"","",""]
[null,25,"Primary Ethylene-Propylene Rubber (EPR) Cables",null,null,20,25,25,null,null,null,null,"",null,"","",""]
[null,26,"Primary Non-Tree Retardant (TR) Cross Linked \nPolyethylene (XLPE) Cables Direct Buried",null,null,20,25,30,null,null,null,null,"",null,"","",""]
[null,27,"Primary Non-TR XLPE Cables in Duct",null,null,20,25,30,null,null,null,null,"",null,"","",""]
[null,30,"Secondary PILC Cables",null,null,70,75,80,null,null,null,null,"",null,"","",""]
[null,31,"Secondary Cables Direct Buried",null,null,25,35,40,null,null,null,null,"",null,"","",""]
[null,32,"Secondary Cables in Duct",null,null,35,40,60,null,null,null,null,"",null,"","",""]
[null,33,"Network Tranformers","Overall",null,20,35,50,null,null,null,null,"",null,"","",""]
[null,null,null,"Protector",null,20,35,40,null,null,null,null,"",null,"","",""]
[null,34,"Pad-Mounted Transformers",null,null,25,40,45,null,null,null,40,2.5000000000000001E-2,null,"","",""]
[null,35,"Submersible/Vault Transformers",null,null,25,35,45,null,null,null,null,"",null,"","",""]
[null,36,"UG Foundation",null,null,35,55,70,null,null,null,null,"",null,"","",""]
[null,37,"UG Vaults","Overall",null,40,60,80,null,null,null,null,"",null,"","",""]
[null,null,null,"Roof",null,20,30,45,null,null,null,null,"",null,"","",""]
[null,38,"UG Vault Switches",null,null,20,35,50,null,null,null,null,"",null,"","",""]
[null,39,"Pad-Mounted Switchgear",null,null,20,30,45,null,null,null,null,"",null,"","",""]
[null,40,"Ducts",null,null,30,50,85,null,null,null,null,"",null,"","",""]
[null,41,"Concrete Encased Duct Banks",null,null,35,55,80,null,null,null,null,"",null,"","",""]
[null,42,"Cable Chambers",null,null,50,60,80,null,null,null,null,"",null,"","",""]
["S",43,"Remote SCADA",null,null,15,20,30,null,null,null,15,6.6666666666666666E-2,null,"","",""]
[]
[]
["Table F-2 from Kinetrics Report1"]
[]
[null,null,"Asset Details",null,null,"Useful Life Range",null,null,null,"USoA Account Number","USoA Account Description","Current",null,"Proposed",null,"Outside Range of Min, Max TUL?"]
[null,"#","Category| Component | Type",null,null,null,null,null,null,null,null,"Years","Rate","Years","Rate","Below Min Range","Above Max Range"]
[null,1,"Office Equipment",null,null,5,15,null,null,null,null,null,{"$f":"IF(ISERROR(1/L77), \"\", 1/L77)","v":""},null,{"$f":"IF(ISERROR(1/N77), \"\", 1/N77)","v":""},{"$f":"IF(ISBLANK(N77),\"\",IF(N77<F77,\"Yes\",\"No\"))","v":""},{"$f":"IF(ISBLANK(N77),\"\",IF(N77>G77,\"Yes\",\"No\"))","v":""}]
[null,2,"Vehicles","Trucks & Buckets",null,5,15,null,null,null,null,8,{"$f":"IF(ISERROR(1/L78), \"\", 1/L78)","v":0.125},null,{"$f":"IF(ISERROR(1/N78), \"\", 1/N78)","v":""},{"$f":"IF(ISBLANK(N78),\"\",IF(N78<F78,\"Yes\",\"No\"))","v":""},{"$f":"IF(ISBLANK(N78),\"\",IF(N78>G78,\"Yes\",\"No\"))","v":""}]
[null,null,null,"Trailers",null,5,20,null,null,null,null,8,0.125,null,"","",""]
[null,null,null,"Vans",null,5,10,null,null,null,null,5,0.2,null,"","",""]
[null,3,"Administrative Buildings",null,null,50,75,null,null,null,null,50,0.02,null,"","",""]
[null,4,"Leasehold Improvements",null,null,"Lease dependent",null,null,null,null,null,25,0.04,null,""]
[null,5,"Station Buildings","Station Buildings",null,50,75,null,null,null,null,null,"",null,"","",""]
[null,null,null,"Parking",null,25,30,null,null,null,null,null,"",null,"","",""]
[null,null,null,"Fence",null,25,60,null,null,null,null,null,"",null,"","",""]
[null,null,null,"Roof",null,20,30,null,null,null,null,null,"",null,"","",""]
[null,6,"Computer Equipment","Hardware",null,3,5,null,null,null,null,3,0.33333333333333331,null,"","",""]
[null,null,null,"Software",null,2,5,null,null,null,null,3,0.33333333333333331,null,"","",""]
[null,7,"Equipment","Power Operated",null,5,10,null,null,null,null,null,"",null,"","",""]
[null,null,null,"Stores",null,5,10,null,null,null,null,null,"",null,"","",""]
[null,null,null,"Tools, Shop, Garage Equipment",null,5,10,null,null,null,null,10,0.1,null,"","",""]
[null,null,null,"Measurement & Testing Equipment",null,5,10,null,null,null,null,10,0.1,null,"","",""]
[null,8,"Communication","Towers",null,60,70,null,null,null,null,null,"",null,"","",""]
[null,null,null,"Wireless",null,2,10,null,null,null,null,null,"",null,"","",""]
[null,9,"Residential Energy Meters",null,null,25,35,null,null,null,null,null,"",null,"","",""]
[null,10,"Industrial/Commercial Energy Meters",null,null,25,35,null,null,null,null,25,0.04,null,"","",""]
[null,11,"Wholesale Energy Meters",null,null,15,30,null,null,null,null,null,"",null,"","",""]
[null,12,"Current & Potential Transformer (CT & PT)",null,null,35,50,null,null,null,null,null,"",null,"","",""]
[null,13,"Smart Meters",null,null,5,15,null,null,null,null,15,6.6666666666666666E-2,null,"","",""]
[null,14,"Repeaters - Smart Metering",null,null,10,15,null,null,null,null,15,6.6666666666666666E-2,null,"","",""]
[null,15,"Data Collectors - Smart Metering",null,null,15,20,null,null,null,null,15,6.6666666666666666E-2,null,"","",""]
[]
[]
["* TS & MS = Transformer and Municipal Stations UG = Underground Systems S = Monitoring and Control Systems"]
[]
["Note 1:","Tables F-1 and F-2 above are to be used as a reference in order to complete columns J, K, L and N."]
[null,"See pages 17-19 of Kinetrics Report"]

{"sheet":"App.2-CA_OldCGAAP_DepExp_2010","index":16,"n_rows":74,"n_cols":12,"rows_kept":74,"cut":false,"hidden":false,"merged":[[8,0,8,11],[9,0,9,11],[10,1,10,10]]}
[null,null,null,null,null,null,null,null,null,null,"File Number:",{"$f":"EBNUMBER","v":{"$error":"#NAME?"}}]
[null,null,null,null,null,null,null,null,null,null,"Exhibit:"]
[null,null,null,null,null,null,null,null,null,null,"Tab:"]
[null,null,null,null,null,null,null,null,null,null,"Schedule:"]
[null,null,null,null,null,null,null,null,null,null,"Page:"]
[]
[null,null,null,null,null,null,null,null,null,null,"Date:"]
[]
["Appendix 2-CA"]
["Depreciation and Amortization Expense"]
[null,"Assumes the applicant made capitalization and depreciation expense accounting policy changes under CGAAP effective January 1, 2013 and will adopt IFRS for financial reporting purposes effective January 1, 2015."]
[]
[null,null,"Year",2010,"Former CGAAP"]
["Account","Description","Opening Regulatory Gross PP&E as at Jan 1, 2010","Less Fully Depreciated","Net for Depreciation","Additions","Total for Depreciation","Years","Depreciation Rate","2010 Depreciation Expense","2010 Depreciation Expense per Appendix 2-B Fixed Assets, Column K\n (l)","Variance 2"]
[null,null,"(a)","(b)","(c)","(d)","(e) = (c) + ½ x (d) 1","(f)","(g) = 1 / (f)","(h) = (e) / (f)",null,"(m) = (h) - (l)"]
[1611,"Computer Software (Formally known as Account 1925)",293410.74000000005,null,{"$f":"C16-D16","v":293410.74000000005},12193.75,{"$f":"E16+0.5*F16","v":299507.61500000005},3,{"$f":"IF(H16=0,\"\",1/H16)","v":0.33333333333333331},{"$f":"IF(H16=0,0,G16/H16)","v":99835.871666666688},99860.87,{"$f":"IF(ISERROR(+J16-K16), \"\", +J16-K16)","v":-24.998333333307528}]
[1612,"Land Rights (Formally known as Account 1906)",null,null,{"$f":"C17-D17","v":0},null,{"$f":"E17+0.5*F17","v":0},35,2.8571428571428571E-2,0,null,{"$f":"IF(ISERROR(+J17-K17), \"\", +J17-K17)","v":0}]
[1612,"Land Rights (Formally known as Account 1906)",10808.84,2433.8000000000002,8375.0400000000009,null,8375.0400000000009,25,0.04,335.00160000000005,335,1.6000000000531145E-3]
[1805,"Land",130499.26,null,130499.26,null,130499.26,0,"",0,null,0]
[1808,"Buildings - Equipment",null,null,0,null,0,10,0.1,0,null,0]
[1808,"Buildings - Equipment",null,null,0,null,0,20,0.05,0]
[1808,"Buildings - Major Repairs",null,null,0,null,0,25,0.04,0,null,0]
[1808,"Buildings - Major Repairs",null,null,0,null,0,30,3.3333333333333333E-2,0,null,0]
[1808,"Buildings - Brick, Stone, Concrete and Steel",453549.70999999996,244418,209131.70999999996,14386.46,216324.93999999997,25,0.04,8652.9975999999988,8653,-2.4000000012165401E-3]
[1810,"Leasehold Improvements",null,null,0,null,0,null,"",0,null,0]
[1815,"Transformer Station Equipment >50 kV",null,null,0,null,0,null,"",0,null,0]
[1820,"Distribution Station Equipment <50 kV",2563070.89,1013124.65,1549946.2400000002,166447.78,1633170.1300000001,30,3.3333333333333333E-2,54439.004333333338,54439,4.3333333378541283E-3]
[1825,"Storage Battery Equipment",null,null,0,null,0,null,"",0,null,0]
[1830,"Poles, Towers & Fixtures",8107720.3800000008,1602679.28,6505041.1000000006,117217.95,6563650.0750000002,25,0.04,262546.00300000003,262546,3.0000000260770321E-3]
[1835,"Overhead Conductors & Devices",2430844.33,484387.45,1946456.8800000001,145586.4,2019250.08,25,0.04,80770.003200000006,80770,3.2000000064726919E-3]
[1840,"Underground Conduit",2933508.47,182230.5,2751277.97,40593.949999999997,2771574.9450000003,25,0.04,110862.99780000001,110863,-2.199999988079071E-3]
[1845,"Underground Conductors & Devices",330338.83999999997,null,330338.83999999997,75748.73,368213.20499999996,25,0.04,14728.528199999999,14728.53,-1.8000000018218998E-3]
[1850,"Line Transformers",3522771.87,365495.5,3157276.37,60897.34,3187725.04,25,0.04,127509.0016,127509,1.6000000032363459E-3]
[1855,"Services (Overhead & Underground)",875350.1,69509.429999999993,805840.66999999993,103018.64,857349.98999999987,25,0.04,34293.999599999996,34294,-4.0000000444706529E-4]
[1860,"Meters",671911.43,621470.6,50440.830000000075,10435.959999999999,55658.81000000007,25,0.04,2226.3524000000029,{"$f":"1825.09+401.26","v":2226.35},2.4000000030355295E-3]
[1860,"Meters (Smart Meters)",null,null,0,null,0,null,"",0,null,0]
[1905,"Land",null,null,0,null,0,0,"",0,null,0]
[1908,"Buildings & Fixtures - Equipment",null,null,0,null,0,10,0.1,0,null,0]
[1908,"Buildings & Fixtures - Driveways",null,null,0,null,0,20,0.05,0,null,0]
[1908,"Buildings & Fixtures - Major Repairs",null,null,0,null,0,25,0.04,0,null,0]
[1908,"Buildings & Fixtures - Brick Store etc",null,null,0,null,0,50,0.02,0,null,0]
[1910,"Leasehold Improvements",null,null,0,null,0,null,"",0,null,0]
[1915,"Office Furniture & Equipment (10 years)",122774.43000000001,103685.38,19089.050000000003,5883.38,22030.74,10,0.1,2203.0740000000001,2203.0700000000002,3.9999999999054126E-3]
[1915,"Office Furniture & Equipment (5 years)",null,null,0,null,0,null,"",0,null,0]
[1920,"Computer Equipment - Hardware",320010.28999999998,215113.62,104896.66999999998,2296.6999999999998,106045.01999999999,5,0.2,21209.003999999997,21209,3.9999999971769284E-3]
[1920,"Computer Equip.-Hardware(Post Mar. 22/04)",null,null,0,null,0,null,"",0,null,0]
[1920,"Computer Equip.-Hardware(Post Mar. 19/07)",null,null,0,null,0,null,"",0,null,0]
[1930,"Transportation Equipment - under 3 Tons",193005.69,178849.56,14156.130000000005,null,14156.130000000005,5,0.2,2831.226000000001,{"$f":"82261-K49","v":2831.2299999999959},-3.9999999949031917E-3]
[1930,"Transportation Equipment - 3 Tons & Over",1400929.02,904338.25,496590.77,277694.84000000003,635438.19000000006,8,null,79429.773750000008,79429.77,3.7500000034924597E-3]
[1935,"Stores Equipment",1761.26,1761.26,0,null,0,10,0.1,0,null,0]
[1940,"Tools, Shop & Garage Equipment",234048.66,162416.15,71632.510000000009,2334.9,72799.960000000006,10,0.1,7279.996000000001,7280,-3.9999999989959178E-3]
[1945,"Measurement & Testing Equipment",null,null,0,null,0,10,0.1,0,null,0]
[1950,"Power Operated Equipment",null,null,0,null,0,null,"",0,null,0]
[1955,"Communications Equipment",29543.89,29543.89,0,5658.09,2829.0450000000001,5,0.2,565.80899999999997,565.80999999999995,-9.9999999997635314E-4]
[1955,"Communication Equipment (Smart Meters)",null,null,0,null,0,null,"",0,null,0]
[1960,"Miscellaneous Equipment ",null,null,0,null,0,null,"",0,null,0]
[1970,"Load Management Controls Customer Premises",254912,246518.5,{"$f":"C57-D57","v":8393.5},null,{"$f":"E57+0.5*F57","v":8393.5},10,{"$f":"IF(H57=0,\"\",1/H57)","v":0.1},{"$f":"IF(H57=0,0,G57/H57)","v":839.35},839.35,{"$f":"IF(ISERROR(+J57-K57), \"\", +J57-K57)","v":0}]
[1975,"Load Management Controls Utility Premises",64873.19,64873.19,0,null,{"$f":"E58+0.5*F58","v":0},10,0.1,0,null,0]
[1980,"System Supervisor Equipment",502268.44000000006,290999.5,211268.94000000006,64229.68,{"$f":"E59+0.5*F59","v":243383.78000000006},15,6.6666666666666666E-2,16225.585333333338,{"$f":"11949.07+4276.52","v":16225.59},-4.6666666621604236E-3]
[1985,"Miscellaneous Fixed Assets",0,0,0,0,0,null,"",0,0,0]
[1990,"Other Tangible Property",0,0,{"$f":"C61-D61","v":0},0,{"$f":"E61+0.5*F61","v":0},null,{"$f":"IF(H61=0,\"\",1/H61)","v":""},{"$f":"IF(H61=0,0,G61/H61)","v":0},0,{"$f":"IF(ISERROR(+J61-K61), \"\", +J61-K61)","v":0}]
[1995,"Contributions & Grants",{"$f":"-1257311.91-21179.21","v":-1278491.1199999999},0,-1278491.1199999999,{"$f":"-125254.7","v":-125254.7},-1341118.47,18.138000000000002,5.5132870217223504E-2,-73939.710552431352,-73942,2.2894475686480291]
[]
[]
[]
[]
[]
[]
[]
[]
[]
[]
[]
[null,"Total",{"$f":"SUM(C16:C73)","v":24169420.610000007},{"$f":"SUM(D16:D73)","v":6783848.5099999998},{"$f":"SUM(E16:E73)","v":17385572.100000001},{"$f":"SUM(F16:F73)","v":979369.84999999986},{"$f":"SUM(G16:G73)","v":17875257.025000002},null,null,{"$f":"SUM(J16:J73)","v":852843.86853090208},{"$f":"SUM(K16:K73)","v":852866.57},{"$f":"SUM(L16:L73)","v":-22.701469097933796}]

{"sheet":"App.2-CA_OldCGAAP_DepExp_2011","index":17,"n_rows":77,"n_cols":12,"rows_kept":77,"cut":false,"hidden":false,"merged":[[13,0,14,0],[13,1,14,1],[8,0,8,11],[9,0,9,11],[10,1,10,10]]}
[null,null,null,null,null,null,null,null,null,null,"File Number:",{"$f":"EBNUMBER","v":{"$error":"#NAME?"}}]
[null,null,null,null,null,null,null,null,null,null,"Exhibit:"]
[null,null,null,null,null,null,null,null,null,null,"Tab:"]
[null,null,null,null,null,null,null,null,null,null,"Schedule:"]
[null,null,null,null,null,null,null,null,null,null,"Page:"]
[]
[null,null,null,null,null,null,null,null,null,null,"Date:"]
[]
["Appendix 2-CA"]
["Depreciation and Amortization Expense"]
[null,"Assumes the applicant made capitalization and depreciation expense accounting policy changes under CGAAP effective January 1, 2013 and will adopt IFRS for financial reporting purposes effective January 1, 2015."]
[]
[null,null,"Year",2011,"Former CGAAP"]
["Account","Description","Opening Regulatory Gross PP&E as at Jan 1, 2011","Less Fully Depreciated","Net for Depreciation","Additions","Total for Depreciation","Years","Depreciation Rate","2011 Depreciation Expense","2011 Depreciation Expense per Appendix 2-B Fixed Assets, Column K\n (l)","Variance 2"]
[null,null,"(a)","(b)","(c)","(d)","(e) = (c) + ½ x (d) 1","(f)","(g) = 1 / (f)","(h) = (e) / (f)",null,"(m) = (h) - (l)"]
[1611,"Computer Software (Formally known as Account 1925)",305604.49000000005,287913.07,{"$f":"C16-D16","v":17691.420000000042},{"$f":"4500+4148.02","v":8648.02},{"$f":"E16+0.5*F16","v":22015.430000000044},3,{"$f":"IF(H16=0,\"\",1/H16)","v":0.33333333333333331},{"$f":"IF(H16=0,0,G16/H16)","v":7338.476666666681},7338.48,{"$f":"IF(ISERROR(+J16-K16), \"\", +J16-K16)","v":-3.3333333185510128E-3}]
[1612,"Land Rights (Formally known as Account 1906)",null,null,{"$f":"C17-D17","v":0},null,{"$f":"E17+0.5*F17","v":0},35,2.8571428571428571E-2,0,null,{"$f":"IF(ISERROR(+J17-K17), \"\", +J17-K17)","v":0}]
[1612,"Land Rights (Formally known as Account 1906)",10808.84,2433.75,8375.09,null,8375.09,25,0.04,335.00360000000001,335,3.6000000000058208E-3]
[1805,"Land",130499.26,null,130499.26,null,130499.26,0,"",0,null,0]
[1808,"Buildings - Equipment",null,null,0,null,0,10,0.1,0,null,0]
[1808,"Buildings - Equipment",null,null,0,null,{"$f":"E21+0.5*F21","v":0},20,0.05,0]
[1808,"Buildings - Equipment",null,null,0,null,{"$f":"E22+0.5*F22","v":0},25,0.04,0]
[1808,"Buildings - Major Repairs",null,null,0,null,0,30,3.3333333333333333E-2,0,null,0]
[1808,"Buildings - Major Repairs",null,null,0,null,0,25,0.04,0]
[1808,"Buildings - Brick, Stone, Concrete and Steel",467936.17,264422.75,203513.41999999998,18607.45,212817.14499999999,25,0.04,8512.6857999999993,8512.69,-4.2000000012194505E-3]
[1810,"Leasehold Improvements",null,null,0,null,0,null,"",0,null,0]
[1815,"Transformer Station Equipment >50 kV",null,null,0,null,0,30,3.3333333333333333E-2,0,null,0]
[1820,"Distribution Station Equipment <50 kV",2729518.6700000004,1016206.5,1713312.1700000004,90612.98,1758618.6600000004,30,3.3333333333333333E-2,58620.62200000001,58620.62,2.0000000076834112E-3]
[1825,"Storage Battery Equipment",null,null,0,null,0,null,"",0,null,0]
[1830,"Poles, Towers & Fixtures",8224938.3300000001,2435222.52,5789715.8100000005,70411.710000000006,5824921.665000001,25,0.04,232996.86660000004,{"$f":"9863+140922.35+15830.72+27200.66+33991.44+5188.7","v":232996.87000000002},-3.3999999868683517E-3]
[1835,"Overhead Conductors & Devices",2576430.73,13321.75,2563108.98,121026.95,2623622.4550000001,25,0.04,104944.8982,{"$f":"2899.82+83113.45+6229.19+10589.04+2113.4","v":104944.9},-1.799999998183921E-3]
[1840,"Underground Conduit",2974102.4200000004,391774.65,2582327.7700000005,58881.17,2611768.3550000004,25,0.04,104470.73420000002,{"$f":"2576+79054.83+1343.44+21496.46","v":104470.73000000001},4.2000000103143975E-3]
[1845,"Underground Conductors & Devices",406087.57,18656.5,387431.07,99504.28,437183.21,25,0.04,17487.328400000002,{"$f":"15831.93+1655.4","v":17487.330000000002},-1.5999999995983671E-3]
[1850,"Line Transformers",3583669.21,933234.1,2650435.11,129496.48,2715183.35,25,0.04,108607.334,{"$f":"2151+74267.89+17378.51+14809.93","v":108607.32999999999},4.0000000153668225E-3]
[1855,"Services (Overhead & Underground)",978368.73999999987,17931.96,960436.77999999991,{"$f":"29860.41+65769.42","v":95629.83},1008251.6949999999,25,0.04,40330.067799999997,{"$f":"16926.55+17395.9+2492.22+3515.4","v":40330.07},-2.2000000026309863E-3]
[1860,"Meters",93646.66,61783,31863.660000000003,{"$f":"13749.35-2460","v":11289.35},37508.335000000006,25,0.04,1500.3334000000002,{"$f":"1120.8+379.53","v":1500.33},3.4000000002833985E-3]
[1860,"Meters (Smart Meters)",null,null,0,null,0,null,"",0,null,0]
[1905,"Land",null,null,0,null,0,0,"",0,null,0]
[1908,"Buildings & Fixtures - Equipment",null,null,0,null,0,10,0.1,0,null,0]
[1908,"Buildings & Fixtures - Equipment",null,null,null,null,0,20,0.05,0]
[1908,"Buildings & Fixtures - Driveways",null,null,0,null,0,25,0.04,0,null,0]
[1908,"Buildings & Fixtures - Major Repairs",null,null,0,null,0,50,0.02,0,null,0]
[1908,"Buildings & Fixtures - Brick Store etc",null,null,0,null,0,null,"",0,null,0]
[1910,"Leasehold Improvements",null,null,0,null,0,10,0.1,0,null,0]
[1915,"Office Furniture & Equipment (10 years)",127989.29,102448.61,25540.679999999993,2572.1999999999998,26826.779999999992,10,0.1,2682.677999999999,2682.68,-2.000000000862201E-3]
[1915,"Office Furniture & Equipment (5 years)",null,null,0,null,0,null,"",0,null,0]
[1920,"Computer Equipment - Hardware",322306.99,303327.90000000002,18979.089999999967,8336.17,23147.174999999967,5,0.2,4629.4349999999931,4629.43,4.9999999928331818E-3]
[1920,"Computer Equip.-Hardware(Post Mar. 22/04)",null,null,0,null,0,null,"",0,null,0]
[1920,"Computer Equip.-Hardware(Post Mar. 19/07)",null,null,0,null,0,null,"",0,null,0]
[1930,"Transportation Equipment - under 3 Tons",193005.69,170687.05,22318.640000000014,28088.01,36362.645000000011,5,0.2,7272.5290000000023,7272.53,-9.9999999747524271E-4]
[1930,"Transportation Equipment - 3 Tons & Over",1499746.4,729712.4,770033.99999999988,null,770033.99999999988,8,0.125,96254.249999999985,{"$f":"103526.78-K50","v":96254.25},-1.4551915228366852E-11]
[1935,"Stores Equipment",1761.26,1761.26,0,null,0,10,0.1,0,null,0]
[1940,"Tools, Shop & Garage Equipment",236383.56,172462.9,63920.66,5113.6099999999997,66477.464999999997,10,0.1,6647.7464999999993,{"$f":"4216.72+2431.03","v":6647.75},-3.5000000007130438E-3]
[1945,"Measurement & Testing Equipment",null,null,0,0,0,10,0.1,0,null,0]
[1950,"Power Operated Equipment",null,null,0,0,0,null,"",0,null,0]
[1955,"Communications Equipment",35201.980000000003,29543.89,5658.0900000000038,0,5658.0900000000038,5,0.2,1131.6180000000008,1131.6199999999999,-1.9999999990432116E-3]
[1955,"Communication Equipment (Smart Meters)",0,0,0,0,0,null,"",0,null,0]
[1960,"Miscellaneous Equipment ",0,0,0,0,0,null,"",0,null,0]
[1970,"Load Management Controls Customer Premises",254912,246512.5,{"$f":"C59-D59","v":8399.5},0,{"$f":"E59+0.5*F59","v":8399.5},10,{"$f":"IF(H59=0,\"\",1/H59)","v":0.1},{"$f":"IF(H59=0,0,G59/H59)","v":839.95},839.95,{"$f":"IF(ISERROR(+J59-K59), \"\", +J59-K59)","v":0}]
[1975,"Load Management Controls Utility Premises",64873.19,64873.19,0,0,0,10,0.1,0,null,0]
[1980,"System Supervisor Equipment",{"$f":"379777.7+186720.42","v":566498.12},165851.1,400647.02,0,400647.02,15,6.6666666666666666E-2,26709.801333333333,{"$f":"22654+4055.8","v":26709.8},1.3333333336049691E-3]
[1985,"Miscellaneous Fixed Assets",0,0,0,0,0,null,"",0,0,0]
[1990,"Other Tangible Property",0,0,{"$f":"C63-D63","v":0},0,{"$f":"E63+0.5*F63","v":0},null,{"$f":"IF(H63=0,\"\",1/H63)","v":""},{"$f":"IF(H63=0,0,G63/H63)","v":0},0,{"$f":"IF(ISERROR(+J63-K63), \"\", +J63-K63)","v":0}]
[1995,"Contributions & Grants",-1403746,-69664.2,-1334081.8,-254011.49,-1461087.5449999999,25,0.04,-58443.501799999998,-58443.5,-1.799999998183921E-3]
[1609,"Other Tangible Property",0,0,0,0,0,null,"",0,0,0]
[]
[]
[]
[]
[]
[]
[]
[]
[]
[]
[null,null,null,null,0,null,0,null,"",0,null,0]
[null,"Total",{"$f":"SUM(C16:C76)","v":24380543.570000004},{"$f":"SUM(D16:D76)","v":7360417.1500000004},{"$f":"SUM(E16:E76)","v":17020126.420000002},{"$f":"SUM(F16:F76)","v":494206.71999999986},{"$f":"SUM(G16:G76)","v":17267229.780000001},null,null,{"$f":"SUM(J16:J76)","v":772868.8567},{"$f":"SUM(K16:K76)","v":772868.86},{"$f":"SUM(L16:L76)","v":-3.2999999577896233E-3}]

{"sheet":"App.2-CA_OldCGAAP_DepExp_2012","index":18,"n_rows":78,"n_cols":12,"rows_kept":78,"cut":false,"hidden":false,"merged":[[8,0,8,11],[9,0,9,11],[10,1,10,10],[13,0,14,0],[13,1,14,1]]}
[null,null,null,null,null,null,null,null,null,null,"File Number:",{"$f":"EBNUMBER","v":{"$error":"#NAME?"}}]
[null,null,null,null,null,null,null,null,null,null,"Exhibit:"]
[null,null,null,null,null,null,null,null,null,null,"Tab:"]
[null,null,null,null,null,null,null,null,null,null,"Schedule:"]
[null,null,null,null,null,null,null,null,null,null,"Page:"]
[]
[null,null,null,null,null,null,null,null,null,null,"Date:"]
[]
["Appendix 2-CA"]
["Depreciation and Amortization Expense"]
[null,"Assumes the applicant made capitalization and depreciation expense accounting policy changes under CGAAP effective January 1, 2013 and will adopt IFRS for financial reporting purposes effective January 1, 2015."]
[]
[null,null,"Year",2012,"Former CGAAP"]
["Account","Description","Opening Regulatory Gross PP&E as at Jan 1, 2012","Less Fully Depreciated","Net for Depreciation","Additions","Total for Depreciation","Years","Depreciation Rate","2012 Depreciation Expense","2012 Depreciation Expense per Appendix 2-B Fixed Assets, Column K\n (l)","Variance 2"]
[null,null,"(a)","(b)","(c)","(d)","(e) = (c) + ½ x (d) 1","(f)","(g) = 1 / (f)","(h) = (e) / (f)",null,"(m) = (h) - (l)"]
[1611,"Computer Software (Formally known as Account 1925)",314253,293337,{"$f":"C16-D16","v":20916},null,{"$f":"E16+0.5*F16","v":20916},3,{"$f":"IF(H16=0,\"\",1/H16)","v":0.33333333333333331},{"$f":"IF(H16=0,0,G16/H16)","v":6972},6972,{"$f":"IF(ISERROR(+J16-K16), \"\", +J16-K16)","v":0}]
[1612,"Land Rights (Formally known as Account 1906)",null,null,{"$f":"C17-D17","v":0},null,{"$f":"E17+0.5*F17","v":0},null,"",0,null,{"$f":"IF(ISERROR(+J17-K17), \"\", +J17-K17)","v":0}]
[1612,"Land Rights (Formally known as Account 1906)",10809,2433.75,8375.25,null,8375.25,25,0.04,335.01,335,9.9999999999909051E-3]
[1805,"Land",130499,null,130499,null,130499,0,"",0,null,0]
[1808,"Buildings",null,null,0,null,0,null,"",0,null,0]
[1808,"Buildings",null,null,0,null,0,null,"",0,null,0]
[1808,"Buildings",null,null,0,null,0,null,"",0,null,0]
[1808,"Buildings",null,null,0,null,0,null,"",0,null,0]
[1808,"Buildings",486543,264422.75,222120.25,60159.83,252200.16500000001,25,0.04,10088.006600000001,{"$f":"3457.94+6630.1","v":10088.040000000001},-3.3400000000256114E-2]
[1808,"Buildings",null,null,0,null,0,null,"",0,null,0]
[1810,"Leasehold Improvements",null,null,0,null,0,null,"",0,null,0]
[1815,"Transformer Station Equipment >50 kV",null,null,0,null,0,null,"",0,null,0]
[1820,"Distribution Station Equipment <50 kV",2820132,1024630.65,1795501.35,6177.55,1798590.125,30,3.3333333333333333E-2,59953.004166666666,59953,4.166666665696539E-3]
[1825,"Storage Battery Equipment",null,null,0,null,0,null,"",0,null,0]
[1830,"Poles, Towers & Fixtures",8295350,3187701.8,5107648.2,{"$f":"62283.37+26020.08","v":88303.450000000012},5151799.9249999998,25,0.04,206071.997,206072,-2.9999999969732016E-3]
[1835,"Overhead Conductors & Devices",2697458,115929.60000000001,2581528.4,{"$f":"226073.63+13469.61","v":239543.24},2701300.02,25,0.04,108052.00079999999,108052,7.9999999434221536E-4]
[1840,"Underground Conduit",3032983,485055.6,2547927.4,3645.29,2549750.0449999999,25,0.04,101990.0018,101990,1.799999998183921E-3]
[1845,"Underground Conductors & Devices",505592,45546.6,460045.4,43959.29,482025.04500000004,25,0.04,19281.001800000002,19281,1.8000000018218998E-3]
[1850,"Line Transformers",3713165.69,1072927.8,2640237.8899999997,119724,2700099.8899999997,25,0.04,108003.99559999998,108004,-4.4000000198138878E-3]
[1855,"Services (Overhead & Underground)",1073999,50488.5,1023510.5,{"$f":"20359.89+29719.19","v":50079.08},1048550.04,25,0.04,41942.001600000003,41942,1.6000000032363459E-3]
[1860,"Meters",65204.32,44667.3,20537.019999999997,24596,32835.019999999997,15,6.6666666666666666E-2,2189.0013333333332,2189,1.3333333331502217E-3]
[1860,"Meters (Smart Meters)",null,null,0,null,0,null,"",0,null,0]
[1905,"Land",null,null,0,null,0,0,"",0,null,0]
[1908,"Buildings & Fixtures",null,null,0,null,0,null,"",0,null,0]
[1908,"Buildings & Fixtures",null,null,0,null,0,null,"",0,null,0]
[1908,"Buildings & Fixtures",null,null,0,null,0,null,"",0,null,0]
[1908,"Buildings & Fixtures",null,null,0,null,0,null,"",0,null,0]
[1908,"Buildings & Fixtures",null,null,0,null,0,null,"",0,null,0]
[1908,"Buildings & Fixtures",null,null,0,null,0,null,"",0,null,0]
[1910,"Leasehold Improvements",null,null,0,null,0,null,"",0,null,0]
[1915,"Office Furniture & Equipment (10 years)",130561,105171,25390,null,25390,10,0.1,2539,2539,0]
[1915,"Office Furniture & Equipment (5 years)",null,null,0,null,0,null,"",0,null,0]
[1920,"Computer Equipment - Hardware",null,null,0,null,0,null,"",0,null,0]
[1920,"Computer Equip.-Hardware(Post Mar. 22/04)",null,null,0,null,0,null,"",0,null,0]
[1920,"Computer Equip.-Hardware(Post Mar. 19/07)",330643,311151.90000000002,19491.099999999977,5307.82,22145.009999999977,5,0.2,4429.001999999995,4429,1.9999999949504854E-3]
[1930,"Transportation Equipment",null,null,0,null,0,null,"",0,null,0]
[1930,"Transportation Equipment",1699390,1046907.52,652482.48,145403,725183.98,8,0.125,90647.997499999998,90648,-2.5000000023283064E-3]
[1935,"Stores Equipment",1761,1761,0,null,0,null,"",0,null,0]
[1940,"Tools, Shop & Garage Equipment",241498,176517.5,64980.5,12399,71180,10,0.1,7118,7118,0]
[1945,"Measurement & Testing Equipment",null,null,0,null,0,null,"",0,null,0]
[1950,"Power Operated Equipment",null,null,0,null,0,null,"",0,null,0]
[1955,"Communications Equipment",35202,29543.75,5658.25,1574,6445.25,5,0.2,1289.05,1289.05,0]
[1955,"Communication Equipment (Smart Meters)",null,null,0,null,0,null,"",0,null,0]
[1960,"Miscellaneous Equipment ",null,null,0,null,0,null,"",0,null,0]
[1970,"Load Management Controls Customer Premises",254912,246518.5,{"$f":"C60-D60","v":8393.5},null,{"$f":"E60+0.5*F60","v":8393.5},10,{"$f":"IF(H60=0,\"\",1/H60)","v":0.1},{"$f":"IF(H60=0,0,G60/H60)","v":839.35},839.35,0]
[1975,"Load Management Controls Utility Premises",64873.19,64873.19,0,null,0,10,0.1,0,null,0]
[1980,"System Supervisor Equipment",566498,214346,352152,4116,354210,15,6.6666666666666666E-2,23614,23614,0]
[1985,"Miscellaneous Fixed Assets",0,0,0,0,0,null,"",0,0,0]
[1990,"Other Tangible Property",0,0,{"$f":"C64-D64","v":0},0,{"$f":"E64+0.5*F64","v":0},null,{"$f":"IF(H64=0,\"\",1/H64)","v":""},{"$f":"IF(H64=0,0,G64/H64)","v":0},0,0]
[1995,"Contributions & Grants",-1657757,-182410.3,-1475346.7,-347303.89,-1648998.645,25,0.04,-65959.945800000001,-65959.95,4.1999999957624823E-3]
[1609,"Other Tangible Property",0,0,0,0,0,null,"",0,0,0]
[]
[]
[]
[]
[]
[]
[]
[]
[]
[]
[]
[null,"Total",{"$f":"SUM(C16:C77)","v":24813569.200000003},{"$f":"SUM(D16:D77)","v":8601521.4099999964},{"$f":"SUM(E16:E77)","v":16212047.789999999},{"$f":"SUM(F16:F77)","v":457683.6599999998},{"$f":"SUM(G16:G77)","v":16440889.620000001},null,null,{"$f":"SUM(J16:J77)","v":729394.47439999995},{"$f":"SUM(K16:K77)","v":729394.49000000011},{"$f":"SUM(L16:L77)","v":-1.5600000032236494E-2}]

{"sheet":"App.2-CB_OldCGAAP_DepExp_2013","index":19,"n_rows":78,"n_cols":12,"rows_kept":78,"cut":false,"hidden":false,"merged":[[8,0,8,11],[9,0,9,11],[10,1,10,10],[13,0,14,0],[13,1,14,1]]}
[null,null,null,null,null,null,null,null,null,null,"File Number:",{"$f":"EBNUMBER","v":{"$error":"#NAME?"}}]
[null,null,null,null,null,null,null,null,null,null,"Exhibit:"]
[null,null,null,null,null,null,null,null,null,null,"Tab:"]
[null,null,null,null,null,null,null,null,null,null,"Schedule:"]
[null,null,null,null,null,null,null,null,null,null,"Page:"]
[]
[null,null,null,null,null,null,null,null,null,null,"Date:"]
[]
["Appendix 2-CA"]
["Depreciation and Amortization Expense"]
[null,"Assumes the applicant made capitalization and depreciation expense accounting policy changes under CGAAP effective January 1, 2013 and will adopt IFRS for financial reporting purposes effective January 1, 2015."]
[]
[null,null,"Year",2013,"Former CGAAP"]
["Account","Description","Opening Regulatory Gross PP&E as at Jan 1, 2013","Less Fully Depreciated","Net for Depreciation","Additions","Total for Depreciation","Years","Depreciation Rate","2013 Depreciation Expense","2013 Depreciation Expense per Appendix 2-B Fixed Assets, Column K\n (l)","Variance 2"]
[null,null,"(a)","(b)","(c)","(d)","(e) = (c) + ½ x (d) 1","(f)","(g) = 1 / (f)","(h) = (e) / (f)",null,"(m) = (h) - (l)"]
[1611,"Computer Software (Formally known as Account 1925)",314253,299508.12,{"$f":"C16-D16","v":14744.880000000005},46620,{"$f":"E16+0.5*F16","v":38054.880000000005},3,{"$f":"IF(H16=0,\"\",1/H16)","v":0.33333333333333331},{"$f":"IF(H16=0,0,G16/H16)","v":12684.960000000001},{"$f":"9270+3414.96","v":12684.96},{"$f":"IF(ISERROR(+J16-K16), \"\", +J16-K16)","v":1.8189894035458565E-12}]
[1612,"Land Rights (Formally known as Account 1906)",null,null,{"$f":"C17-D17","v":0},null,{"$f":"E17+0.5*F17","v":0},null,"",0,null,{"$f":"IF(ISERROR(+J17-K17), \"\", +J17-K17)","v":0}]
[1612,"Land Rights (Formally known as Account 1906)",10809,2434,8375,null,8375,25,0.04,335,335,0]
[1805,"Land",130499,null,130499,null,130499,0,"",0,null,0]
[1808,"Buildings",null,null,0,null,0,null,"",0,null,0]
[1808,"Buildings",null,null,0,null,0,null,"",0,null,0]
[1808,"Buildings",null,null,0,null,0,null,"",0,null,0]
[1808,"Buildings",null,null,0,null,0,null,"",0,null,0]
[1808,"Buildings",{"$f":"486543+60159.83","v":546702.82999999996},264486.82,282216.00999999995,93745,329088.50999999995,25,0.04,13163.540399999998,{"$f":"3457.94+9705.6","v":13163.54},3.9999999717110768E-4]
[1808,"Buildings",null,null,0,null,0,null,"",0,null,0]
[1810,"Leasehold Improvements",null,null,0,null,0,null,"",0,null,0]
[1815,"Transformer Station Equipment >50 kV",null,null,0,null,0,null,"",0,null,0]
[1820,"Distribution Station Equipment <50 kV",{"$f":"2820132+6177.55","v":2826309.55},1031295.9,1795013.65,40093,1815060.15,30,3.3333333333333333E-2,60502.004999999997,60502,4.9999999973806553E-3]
[1825,"Storage Battery Equipment",null,null,0,null,0,null,"",0,null,0]
[1830,"Poles, Towers & Fixtures",{"$f":"8295350+88303.45","v":8383653.4500000002},3525709.03,4857944.42,161461,4938674.92,25,0.04,197546.99679999999,197547,-3.2000000064726919E-3]
[1835,"Overhead Conductors & Devices",{"$f":"2697458+239543.24","v":2937001.24},7492.14,2929509.1,224632,3041825.1,25,0.04,121673.004,121673,4.0000000008149073E-3]
[1840,"Underground Conduit",{"$f":"3032983+3645.29","v":3036628.29},{"$f":"535660.2","v":535660.19999999995},2500968.09,2064,2502000.09,25,0.04,100080.0036,{"$f":"100080","v":100080},3.599999996367842E-3]
[1845,"Underground Conductors & Devices",{"$f":"505592+43959.29","v":549551.29},10781.2,538770.09000000008,33860,555700.09000000008,25,0.04,22228.003600000004,{"$f":"25228-3000","v":22228},3.6000000036437996E-3]
[1850,"Line Transformers",3832890.06,1098073,2734817.06,119766,2794700.06,25,0.04,111788.0024,{"$f":"111788","v":111788},2.3999999975785613E-3]
[1855,"Services (Overhead & Underground)",{"$f":"1073999+50079.08","v":1124078.0800000001},null,1124078.0800000001,118992,1183574.08,25,0.04,47342.963200000006,{"$f":"50452-3109.04","v":47342.96},3.2000000064726919E-3]
[1860,"Meters",89799.87,41108.199999999997,48691.67,9278,53330.67,15,6.6666666666666666E-2,3555.3779999999997,{"$f":"3569-13.62","v":3555.38},-2.0000000004074536E-3]
[1860,"Meters (Smart Meters)",null,null,0,null,0,null,"",0,null,0]
[1905,"Land",null,null,0,null,0,0,"",0,null,0]
[1908,"Buildings & Fixtures",null,null,0,null,0,null,"",0,null,0]
[1908,"Buildings & Fixtures",null,null,0,null,0,null,"",0,null,0]
[1908,"Buildings & Fixtures",null,null,0,null,0,null,"",0,null,0]
[1908,"Buildings & Fixtures",null,null,0,null,0,null,"",0,null,0]
[1908,"Buildings & Fixtures",null,null,0,null,0,null,"",0,null,0]
[1908,"Buildings & Fixtures",null,null,0,null,0,null,"",0,null,0]
[1910,"Leasehold Improvements",null,null,0,null,0,null,"",0,null,0]
[1915,"Office Furniture & Equipment (10 years)",130561,117155,13406,1388,14100,10,0.1,1410,1410,0]
[1915,"Office Furniture & Equipment (5 years)",null,null,0,null,0,null,"",0,null,0]
[1920,"Computer Equipment - Hardware",null,null,0,null,0,null,"",0,null,0]
[1920,"Computer Equip.-Hardware(Post Mar. 22/04)",null,null,0,null,0,null,"",0,null,0]
[1920,"Computer Equip.-Hardware(Post Mar. 19/07)",{"$f":"330643+5307.82","v":335950.82},301919.3,34031.520000000019,28127,48095.020000000019,5,0.2,9619.0040000000045,9619,4.0000000044528861E-3]
[1930,"Transportation Equipment",null,null,0,null,0,null,"",0,null,0]
[1930,"Transportation Equipment",1820545,1044502,776043,457242,1004664,8,0.125,125583,125583,0]
[1935,"Stores Equipment",1761,1761,0,null,0,10,0.1,0,null,0]
[1940,"Tools, Shop & Garage Equipment",{"$f":"241498+12399","v":253897},190303.5,63593.5,6273,66730,10,0.1,6673,6673,0]
[1945,"Measurement & Testing Equipment",null,null,0,18090,9045,10,0.1,904.5,904.5,0]
[1950,"Power Operated Equipment",null,null,0,null,0,null,"",0,null,0]
[1955,"Communications Equipment",{"$f":"35202+1574","v":36776},29546,7230,null,7230,5,0.2,1446,1446,0]
[1955,"Communication Equipment (Smart Meters)",null,null,0,null,0,null,"",0,null,0]
[1960,"Miscellaneous Equipment ",null,null,0,12104,6052,10,0.1,605.20000000000005,605.20000000000005,0]
[1970,"Load Management Controls Customer Premises",254912,246902,{"$f":"C60-D60","v":8010},null,{"$f":"E60+0.5*F60","v":8010},10,{"$f":"IF(H60=0,\"\",1/H60)","v":0.1},{"$f":"IF(H60=0,0,G60/H60)","v":801},801,0]
[1975,"Load Management Controls Utility Premises",64873.19,64873.19,0,null,0,10,0.1,0,null,0]
[1980,"System Supervisor Equipment",570614,502471,68143,504,68395,5,0.2,13679,13679,0]
[1985,"Miscellaneous Fixed Assets",0,null,0,0,0,null,"",0,0,0]
[1990,"Other Tangible Property",0,0,{"$f":"C64-D64","v":0},0,{"$f":"E64+0.5*F64","v":0},null,{"$f":"IF(H64=0,\"\",1/H64)","v":""},{"$f":"IF(H64=0,0,G64/H64)","v":0},0,0]
[1995,"Contributions & Grants",-2005061,-293508.5,-1711552.5,-35216.980000000003,-1729160.99,25,0.04,-69166.439599999998,-69166.44,4.0000000444706529E-4]
[1609,"Other Tangible Property",0,0,0,0,0,null,"",0,0,0]
[]
[]
[]
[]
[]
[]
[]
[]
[]
[]
[]
[null,"Total",{"$f":"SUM(C16:C77)","v":25247004.670000002},{"$f":"SUM(D16:D77)","v":9022473.0999999996},{"$f":"SUM(E16:E77)","v":16224531.570000004},{"$f":"SUM(F16:F77)","v":1339022.02},{"$f":"SUM(G16:G77)","v":16894042.580000006},null,null,{"$f":"SUM(J16:J77)","v":782454.12139999995},{"$f":"SUM(K16:K77)","v":782454.09999999986},{"$f":"SUM(L16:L77)","v":2.140000000326836E-2}]

{"sheet":"App.2-CC_NewCGAAP_DepExp_2013","index":20,"n_rows":81,"n_cols":15,"rows_kept":81,"cut":false,"hidden":false,"merged":[[8,0,8,14],[9,0,9,14],[10,0,10,14],[14,0,15,0],[14,1,15,1],[14,10,15,10],[14,13,15,13],[80,1,81,14],[73,1,73,14],[74,1,74,14],[75,1,75,14],[76,1,76,14],[77,1,77,14],[78,1,78,14]]}
[null,null,null,null,null,null,null,null,null,null,null,null,null,"File Number:",{"$f":"EBNUMBER","v":{"$error":"#NAME?"}}]
[null,null,null,null,null,null,null,null,null,null,null,null,null,"Exhibit:"]
[null,null,null,null,null,null,null,null,null,null,null,null,null,"Tab:"]
[null,null,null,null,null,null,null,null,null,null,null,null,null,"Schedule:"]
[null,null,null,null,null,null,null,null,null,null,null,null,null,"Page:"]
[]
[null,null,null,null,null,null,null,null,null,null,null,null,null,"Date:"]
[]
["Appendix 2-CB"]
["Depreciation and Amortization Expense"]
["Assumes the applicant made capitalization and depreciation expense accounting policy changes under CGAAP effective January 1, 2013 and will adopt IFRS for financial reporting purposes effective January 1, 2015."]
[]
[null,null,"Year",2013,"Revised CGAAP "]
[]
["Account","Description","Opening NBV as at Jan 1, 2013 5","Additions","Average Remaining Life of Opening NBV 4","Years (new additions only) 3","Depreciation Rate on New Additions","Depreciation Expense on Opening NBV","Depreciation Expense on Additions 1","2013 Depreciation Expense","2013 Depreciation Expense per Appendix 2-BA Fixed Assets, Column J \n (l)","Variance 2","Depreciation Expense on 2013 Full Year Additions","Less Depreciation Expense on Assets Fully Depreciated during the year\n(o)","2013 Full Year Depreciation 6"]
[null,null,"(a)","(d)","(i)","(f)","(g) = 1 / (f)","(j) = (a) / (i)","(h)=((d)*0.5)/(f) ","(k) = (j) + (h)",null,"(m) = (k) - (l)","(n) = (d)/(f) ",null,"(p) = (j) + (n) - (o)"]
[1611,"Computer Software (Formally known as Account 1925)",6331,46620,1.288,3,{"$f":"IF(F17=0,0,1/F17)","v":0.33333333333333331},{"$f":"IF(E17=0,0,+C17/E17)","v":4915.3726708074537},{"$f":"IF(F17=0,0,+(D17*0.5)/F17)","v":7770},{"$f":"IF(ISERROR(+H17+I17), 0, +H17+I17)","v":12685.372670807454},12685,{"$f":"IF(ISERROR(+J17-K17), 0, +J17-K17)","v":0.3726708074536873},{"$f":"IF(F17=0,0,+(D17)/F17)","v":15540},3475,{"$f":"IF(ISERROR(+M17+H17-N17), 0, +M17+H17-N17)","v":16980.372670807454}]
[1612,"Land Rights (Formally known as Account 1906)",3083,null,9.1999999999999993,25,0.04,335.10869565217394,0,335.10869565217394,335,0.10869565217393529,0,null,{"$f":"IF(ISERROR(+M18+H18-N18), 0, +M18+H18-N18)","v":335.10869565217394}]
[1805,"Land",130499,null,null,null,0,0,0,0,null,0,0,null,0]
[1808,"Buildings - Other",164452,93745,21,25,0.04,7831.0476190476193,1874.9,9705.9476190476198,9705.6,0.34761904761944606,3749.8,135,11445.847619047619]
[1808,"Buildings - Brick and Stone",107094,null,30.97,50,{"$f":"IF(F21=0,0,1/F21)","v":0.02},{"$f":"IF(E21=0,0,+C21/E21)","v":3457.9916047788183},{"$f":"IF(F21=0,0,+(D21*0.5)/F21)","v":0},{"$f":"IF(ISERROR(+H21+I21), 0, +H21+I21)","v":3457.9916047788183},3457.94,{"$f":"IF(ISERROR(+J21-K21), 0, +J21-K21)","v":5.1604778818273189E-2},{"$f":"IF(F21=0,0,+(D21)/F21)","v":0},null,{"$f":"IF(ISERROR(+M21+H21-N21), 0, +M21+H21-N21)","v":3457.9916047788183}]
[1810,"Leasehold Improvements",null,null,null,null,0,0,0,0,null,0,0,null,0]
[1815,"Transformer Station Equipment >50 kV",null,null,null,null,0,0,0,0,null,0,0,null,0]
[1820,"Distribution Station Equipment <50 kV",{"$f":"239149+493152","v":732301},null,24.606999999999999,30,3.3333333333333333E-2,29759.865079042549,0,29759.865079042549,29759.47,0.39507904254787718,0,null,29759.865079042549]
[1820,"Distribution Station Equipment <50 kV",107283,null,8,40,2.5000000000000001E-2,13410.375,0,13410.375,13410,0.375,0,null,13410.375]
[1820,"Distribution Station Equipment <50 kV",168874,40093,10,45,2.2222222222222223E-2,16887.400000000001,445.47777777777776,17332.87777777778,17333,-0.12222222222044365,890.95555555555552,null,17778.355555555558]
[1825,"Storage Battery Equipment",null,null,null,null,0,0,0,0,null,0,0,null,0]
[1830,"Poles, Towers & Fixtures",1846745,null,10.1006,null,0,182835.17810823119,0,182835.17810823119,182835,0.17810823119361885,0,9022,173813.17810823119]
[1830,"Poles, Towers & Fixtures",null,161461,null,45,2.2222222222222223E-2,0,{"$f":"IF(F29=0,0,+(D29*0.5)/F29)","v":1794.0111111111112},{"$f":"IF(ISERROR(+H29+I29), 0, +H29+I29)","v":1794.0111111111112},1794,1.1111111111176797E-2,3588.0222222222224]
[1835,"Overhead Conductors & Devices",2097513,null,19.048200000000001,null,null,110116.07395974422,null,110116.07395974422,110116,7.3959744215244427E-2,0,null,110116.07395974422]
[1835,"Overhead Conductors & Devices",null,{"$f":"100847.87+106950.46","v":207798.33000000002},null,60,1.6666666666666666E-2,0,1731.6527500000002,1731.6527500000002,1732,-0.34724999999980355,3463.3055000000004,null,3463.3055000000004]
[1835,"Overhead Conductors & Devices",null,{"$f":"10084.79+5628.97","v":15713.760000000002},null,45,{"$f":"IF(F32=0,0,1/F32)","v":2.2222222222222223E-2},{"$f":"IF(E32=0,0,+C32/E32)","v":0},{"$f":"IF(F32=0,0,+(D32*0.5)/F32)","v":174.59733333333335},{"$f":"IF(ISERROR(+H32+I32), 0, +H32+I32)","v":174.59733333333335},175,{"$f":"IF(ISERROR(+J32-K32), 0, +J32-K32)","v":-0.40266666666664719},{"$f":"IF(F32=0,0,+(D32)/F32)","v":349.19466666666671},null,{"$f":"IF(ISERROR(+M32+H32-N32), 0, +M32+H32-N32)","v":349.19466666666671}]
[1835,"Overhead Conductors & Devices",null,1120.53,null,40,2.5000000000000001E-2,null,14.006625,{"$f":"IF(ISERROR(+H33+I33), 0, +H33+I33)","v":14.006625},14,6.6249999999996589E-3,28.013249999999999,null,28.013249999999999]
[1840,"Underground Conduit",733365,null,7.5615500000000004,50,0.02,96986.067671310768,0,96986.067671310768,{"$f":"97007-21","v":96986},6.7671310767764226E-2,0,4204,92782.067671310768]
[1840,"Underground Conduit",null,2064,null,50,0.02,{"$f":"IF(E35=0,0,+C35/E35)","v":0},{"$f":"IF(F35=0,0,+(D35*0.5)/F35)","v":20.64},{"$f":"IF(ISERROR(+H35+I35), 0, +H35+I35)","v":20.64},21,{"$f":"IF(ISERROR(+J35-K35), 0, +J35-K35)","v":-0.35999999999999943},{"$f":"IF(F35=0,0,+(D35)/F35)","v":41.28},null,{"$f":"IF(ISERROR(+M35+H35-N35), 0, +M35+H35-N35)","v":41.28}]
[1845,"Underground Conductors & Devices",440392,null,22.21,40,2.5000000000000001E-2,19828.545700135073,0,19828.545700135073,19829,-0.45429986492672469,0,null,19828.545700135073]
[1845,"Underground Conductors & Devices",null,33860,null,40,{"$f":"IF(F37=0,0,1/F37)","v":2.5000000000000001E-2},{"$f":"IF(E37=0,0,+C37/E37)","v":0},{"$f":"IF(F37=0,0,+(D37*0.5)/F37)","v":423.25},{"$f":"IF(ISERROR(+H37+I37), 0, +H37+I37)","v":423.25},423,{"$f":"IF(ISERROR(+J37-K37), 0, +J37-K37)","v":0.25},{"$f":"IF(F37=0,0,+(D37)/F37)","v":846.5},null,{"$f":"IF(ISERROR(+M37+H37-N37), 0, +M37+H37-N37)","v":846.5}]
[1850,"Line Transformers",1500603,45855,14.8347,40,2.5000000000000001E-2,101154.92729883314,573.1875,101728.11479883314,101728,0.1147988331358647,1146.375,10244,92057.302298833136]
[1850,"Line Transformers",null,73911,null,40,{"$f":"IF(F39=0,0,1/F39)","v":2.5000000000000001E-2},{"$f":"IF(E39=0,0,+C39/E39)","v":0},{"$f":"IF(F39=0,0,+(D39*0.5)/F39)","v":923.88750000000005},{"$f":"IF(ISERROR(+H39+I39), 0, +H39+I39)","v":923.88750000000005},924,{"$f":"IF(ISERROR(+J39-K39), 0, +J39-K39)","v":-0.11249999999995453},{"$f":"IF(F39=0,0,+(D39)/F39)","v":1847.7750000000001},null,{"$f":"IF(ISERROR(+M39+H39-N39), 0, +M39+H39-N39)","v":1847.7750000000001}]
[1855,"Services (Overhead & Underground)",847075,null,19.939,40,2.5000000000000001E-2,42483.324138622796,0,42483.324138622796,{"$f":"43918-105-1330","v":42483},0.324138622796454,0,null,42483.324138622796]
[1855,"Services (Overhead & Underground)",null,12618,null,60,{"$f":"IF(F41=0,0,1/F41)","v":1.6666666666666666E-2},{"$f":"IF(E41=0,0,+C41/E41)","v":0},{"$f":"IF(F41=0,0,+(D41*0.5)/F41)","v":105.15},{"$f":"IF(ISERROR(+H41+I41), 0, +H41+I41)","v":105.15},105,{"$f":"IF(ISERROR(+J41-K41), 0, +J41-K41)","v":0.15000000000000568},{"$f":"IF(F41=0,0,+(D41)/F41)","v":210.3},null,{"$f":"IF(ISERROR(+M41+H41-N41), 0, +M41+H41-N41)","v":210.3}]
[1855,"Services (Overhead & Underground)",null,106373,null,40,{"$f":"IF(F42=0,0,1/F42)","v":2.5000000000000001E-2},{"$f":"IF(E42=0,0,+C42/E42)","v":0},{"$f":"IF(F42=0,0,+(D42*0.5)/F42)","v":1329.6624999999999},{"$f":"IF(ISERROR(+H42+I42), 0, +H42+I42)","v":1329.6624999999999},1330,{"$f":"IF(ISERROR(+J42-K42), 0, +J42-K42)","v":-0.33750000000009095},{"$f":"IF(F42=0,0,+(D42)/F42)","v":2659.3249999999998},null,{"$f":"IF(ISERROR(+M42+H42-N42), 0, +M42+H42-N42)","v":2659.3249999999998}]
[1860,"Meters",null,9278,null,25,0.04,0,185.56,185.56,186,-0.43999999999999773,371.12,297,74.12]
[1860,"Meters",78432,null,28.18,25,0.04,2783.2505322924062,0,2783.2505322924062,2783,0.25053229240620567,0,null,2783.2505322924062]
[1860,"Meters (Smart Meters)",null,null,null,null,0,0,0,0,null,0,0,null,0]
[1905,"Land",null,null,null,null,0,0,0,0,null,0,0,null,0]
[1908,"Buildings & Fixtures",null,null,null,null,0,0,0,0,null,0,0,null,0]
[1910,"Leasehold Improvements",null,null,null,null,0,0,0,0,null,0,0,null,0]
[1915,"Office Furniture & Equipment (10 years)",7094,1388,5.29,10,0.1,1341.0207939508507,69.400000000000006,1410.4207939508508,1410,0.42079395085079341,138.80000000000001,496,983.82079395085066]
[1915,"Office Furniture & Equipment (5 years)",null,null,null,null,0,0,0,0,null,0,0,null,0]
[1920,"Computer Equipment - Hardware",null,null,null,null,0,0,0,0,null,0,0,null,0]
[1920,"Computer Equip.-Hardware(Post Mar. 22/04)",null,null,null,null,0,0,0,0,null,0,0,null,0]
[1920,"Computer Equip.-Hardware(Post Mar. 19/07)",8975,28127,1.82,3,0.33333333333333331,4931.3186813186812,4687.833333333333,9619.1520146520143,9619,0.1520146520142589,9375.6666666666661,1773,12533.985347985348]
[1930,"Transportation Equipment",null,{"$f":"457242-55916","v":401326},null,8,0.125,0,25082.875,25082.875,25083,-0.125,50165.75,null,50165.75]
[1930,"Transportation Equipment",null,55916,null,5,{"$f":"IF(F55=0,0,1/F55)","v":0.2},{"$f":"IF(E55=0,0,+C55/E55)","v":0},{"$f":"IF(F55=0,0,+(D55*0.5)/F55)","v":5591.6},{"$f":"IF(ISERROR(+H55+I55), 0, +H55+I55)","v":5591.6},5592,{"$f":"IF(ISERROR(+J55-K55), 0, +J55-K55)","v":-0.3999999999996362},{"$f":"IF(F55=0,0,+(D55)/F55)","v":11183.2},null,{"$f":"IF(ISERROR(+M55+H55-N55), 0, +M55+H55-N55)","v":11183.2}]
[1930,"Transportation Equipment",446467,null,4.7041899999999996,8,0.125,94908.368922173642,0,94908.368922173642,{"$f":"119991-25083","v":94908},0.36892217364220414,0,null,94908.368922173642]
[1935,"Stores Equipment",null,null,null,null,0,0,0,0,null,0,0,null,0]
[1940,"Tools, Shop & Garage Equipment",27181,6273,4.274,10,0.1,6359.6162845109966,313.64999999999998,6673.2662845109962,6673,0.26628451099622907,627.29999999999995,1465,5521.9162845109968]
[1945,"Measurement & Testing Equipment",null,18090,null,10,0.1,0,904.5,904.5,905,-0.5,1809,null,1809]
[1950,"Power Operated Equipment",null,null,null,null,0,0,0,0,null,0,0,null,0]
[1955,"Communications Equipment",4246,null,2.9350000000000001,5,0.2,1446.6780238500851,0,1446.6780238500851,1446.4,0.27802385008499186,0,null,1446.6780238500851]
[1955,"Communication Equipment (Smart Meters)",null,null,null,null,0,0,0,0,null,0,0,null,0]
[1960,"Miscellaneous Equipment ",null,12104,null,10,0.1,0,605.20000000000005,605.20000000000005,605,0.20000000000004547,1210.4000000000001,null,1210.4000000000001]
[1970,"Load Management Controls Customer Premises",801,null,1,10,0.1,801,0,801,800,1,0,801,0]
[1975,"Load Management Controls Utility Premises",0,null,0,10,0.1,0,0,0,null,0,0,null,0]
[1980,"System Supervisor Equipment",23241,504,1.7095,3,0.33333333333333331,13595.20327581164,84,13679.20327581164,13679,0.20327581164019648,168,12220,1543.2032758116402]
[1985,"Miscellaneous Fixed Assets",null,null,null,null,0,0,0,0,null,0,0,null,0]
[1990,"Other Tangible Property",null,null,null,null,0,0,0,0,null,0,0,null,0]
[1995,"Contributions & Grants",-1560739,-35216.980000000003,22.71,40,2.5000000000000001E-2,-68724.746807573756,-440.21225000000004,-69164.959057573753,-69166,1.0409424262470566,-880.42450000000008,1576,-71181.17130757375]
[null,"Total",{"$f":"SUM(C17:C69)","v":7921308},{"$f":"SUM(D17:D69)","v":1339021.6400000001},null,null,null,{"$f":"SUM(H17:H69)","v":687442.98725254042},54264.829180555556,741707.81643309584,741704.41,3.406433095902031,108529.65836111111,45708,746676.62339142931]
[]
["Notes:"]
[]
[1,"Board policy of the \"half-year\" rule - the applicant must ensure that additions in the year attract a half-year depreciation expense in the first year.  Deviations from this standard practice must be supported in the application."]
[2,"The applicant must provide an explanation of material variances in evidence."]
[3,"The applicant should ensure that the years for new additions of assets are the asset useful lives determined by management in accordance with the Board's regulatory accounting policies.   The capitalization and depreciation expense accounting changes should be implemented consistent with the Board’s regulatory accounting policies as set out for modified IFRS as contained in the Report of the Board, Transition to International Financial Reporting Standards, EB-2008-0408, the Kinectrics Report, and the Revised 2012 Accounting Procedures Handbook for Electricity Distributors (“APH”)."]
[4,"A recalculation should be performed to determine the average remaining life of opening balance of assets (i.e. excluding 2012 additions) under the change in policies under CGAAP.  For example, Asset A had a useful life of 20 years under CGAAP without the change in policies.  On January 1, 2012, the effective date of the changes in policies, Asset A was 3 years depreciated. As a result, Asset A would have a remaining service life of 17 years (20 years less 3 years) as of January 1, 2012.  Due to making the change in policies under CGAAP, management re-assessed the asset useful lives and concluded that the revised useful life of Asset A is now 30 years. Therefore, the average remaining useful life of the opening balance of Asset A is determined to be 27 years (30 years less 3 years) under the revised CGAAP as of January 1, 2012."]
[5," NBV must exclude assets still on the books but which have been fully amortized or depreciated."]
[6,"This column refers to the calculated full year depreciation but excludes the depreciation expense on assets fully depreciated during the year.  This column is used for the purpose of calculating depreciation expense in the following year on the next worksheet."]
[]
["General:","Applicants must provide a breakdown of depreciation and amortization expense in the above format for all relevant accounts.  Asset Retirement Obligations (AROs), depreciation and accretion expense should be disclosed separately consistent with the Notes of historical Audited Financial Statements."]

{"sheet":"App.2-CD_MIFRS_DepExp_2014","index":21,"n_rows":83,"n_cols":11,"rows_kept":83,"cut":false,"hidden":false,"merged":[[78,1,78,10],[79,1,79,10],[80,1,80,10],[82,1,83,10],[8,0,8,10],[9,0,9,10],[10,0,10,10],[14,0,15,0],[14,1,15,1],[14,6,15,6],[14,9,15,9]]}
[null,null,null,null,null,null,null,null,null,"File Number:",{"$f":"EBNUMBER","v":{"$error":"#NAME?"}}]
[null,null,null,null,null,null,null,null,null,"Exhibit:"]
[null,null,null,null,null,null,null,null,null,"Tab:"]
[null,null,null,null,null,null,null,null,null,"Schedule:"]
[null,null,null,null,null,null,null,null,null,"Page:"]
[]
[null,null,null,null,null,null,null,null,null,"Date:"]
[]
["Appendix 2-CD"]
["Depreciation and Amortization Expense"]
["Assumes the applicant made capitalization and depreciation expense accounting policy changes under CGAAP effective January 1, 2013 and will adopt IFRS for financial reporting purposes effective January 1, 2015."]
[]
[null,null,null,null,2014,"MIFRS"]
[]
["Account","Description","Additions","Years (new additions only)","Depreciation Rate on New Additions","2014 Depreciation Expense 1","2014 Depreciation Expense per Apppendix 2-BA Fixed Assets, Column J\n (l)","Variance 2","Depreciation Expense on 2014 Full Year Additions","Less Depreciation Expense on Assets Fully Depreciated during the year\n(o)","2014 Full Year Depreciation 3"]
[null,null,"(d)","(f)","(g) = 1 / (f)","(h)=2013 Full Year Deprecation + ((d)*0.5)/(f) ",null,"(m) = (h) - (l)","(n)=((d))/(f) ",null,"(p) = 2013 Full Year Depreciation  + (n) - (o)"]
[1611,"Computer Software (Formally known as Account 1925)",40967,3,{"$f":"IF(D17=0,0,1/D17)","v":0.33333333333333331},{"$f":"IF(D17=0,+'App.2-CC_NewCGAAP_DepExp_2013'!O17,+'App.2-CC_NewCGAAP_DepExp_2013'!O17+((C17*0.5)/D17))","v":23808.206004140786},23809,{"$f":"IF(ISERROR(+F17-G17), 0, +F17-G17)","v":-0.79399585921419202},{"$f":"IF(D17=0,0,+(C17)/D17)","v":13655.666666666666},1441,{"$f":"IF(ISERROR(+I17+'App.2-CC_NewCGAAP_DepExp_2013'!O17-J17), 0, +I17+'App.2-CC_NewCGAAP_DepExp_2013'!O17-J17)","v":29195.039337474118}]
[1612,"Land Rights (Formally known as Account 1906)",null,null,0,{"$f":"IF(D18=0,+'App.2-CC_NewCGAAP_DepExp_2013'!O18,+'App.2-CC_NewCGAAP_DepExp_2013'!O18+((C18*0.5)/D18))","v":335.10869565217394},335,0.10869565217393529,0,null,{"$f":"IF(ISERROR(+I18+'App.2-CC_NewCGAAP_DepExp_2013'!O18-J18), 0, +I18+'App.2-CC_NewCGAAP_DepExp_2013'!O18-J18)","v":335.10869565217394}]
[1805,"Land",null,null,0,{"$f":"IF(D19=0,+'App.2-CC_NewCGAAP_DepExp_2013'!O19,+'App.2-CC_NewCGAAP_DepExp_2013'!O19+((C19*0.5)/D19))","v":0},null,0,0,null,{"$f":"IF(ISERROR(+I19+'App.2-CC_NewCGAAP_DepExp_2013'!O19-J19), 0, +I19+'App.2-CC_NewCGAAP_DepExp_2013'!O19-J19)","v":0}]
[1808,"Buildings",null,null,0,{"$f":"IF(D20=0,+'App.2-CC_NewCGAAP_DepExp_2013'!O20,+'App.2-CC_NewCGAAP_DepExp_2013'!O20+((C20*0.5)/D20))","v":11445.847619047619},11445,0.84761904761944606,0,null,{"$f":"IF(ISERROR(+I20+'App.2-CC_NewCGAAP_DepExp_2013'!O20-J20), 0, +I20+'App.2-CC_NewCGAAP_DepExp_2013'!O20-J20)","v":11445.847619047619}]
[1808,"Buildings",24730,25,0.04,{"$f":"IF(D21=0,+'App.2-CC_NewCGAAP_DepExp_2013'!O21,+'App.2-CC_NewCGAAP_DepExp_2013'!O21+((C21*0.5)/D21))","v":3952.5916047788182},3953,-0.40839522118176319,989.2,null,{"$f":"IF(ISERROR(+I21+'App.2-CC_NewCGAAP_DepExp_2013'!O21-J21), 0, +I21+'App.2-CC_NewCGAAP_DepExp_2013'!O21-J21)","v":4447.1916047788181}]
[1810,"Leasehold Improvements",null,null,0,{"$f":"IF(D22=0,+'App.2-CC_NewCGAAP_DepExp_2013'!O22,+'App.2-CC_NewCGAAP_DepExp_2013'!O22+((C22*0.5)/D22))","v":0},null,{"$f":"IF(ISERROR(+F22-G22), 0, +F22-G22)","v":0},0,null,{"$f":"IF(ISERROR(+I22+'App.2-CG_NewCGAAP_DepExp_2013'!O22-J22), 0, +I22+'App.2-CG_NewCGAAP_DepExp_2013'!O22-J22)","v":0}]
[1815,"Transformer Station Equipment >50 kV",null,null,0,{"$f":"IF(D23=0,+'App.2-CC_NewCGAAP_DepExp_2013'!O23,+'App.2-CC_NewCGAAP_DepExp_2013'!O23+((C23*0.5)/D23))","v":0},null,{"$f":"IF(ISERROR(+F23-G23), 0, +F23-G23)","v":0},0,null,{"$f":"IF(ISERROR(+I23+'App.2-CC_NewCGAAP_DepExp_2013'!O23-J23), 0, +I23+'App.2-CC_NewCGAAP_DepExp_2013'!O23-J23)","v":0}]
[1820,"Distribution Station Equipment <50 kV",null,null,0,{"$f":"IF(D24=0,+'App.2-CC_NewCGAAP_DepExp_2013'!O24,+'App.2-CC_NewCGAAP_DepExp_2013'!O24+((C24*0.5)/D24))","v":29759.865079042549},29760,-0.13492095745095867,0,null,{"$f":"IF(ISERROR(+I24+'App.2-CC_NewCGAAP_DepExp_2013'!O24-J24), 0, +I24+'App.2-CC_NewCGAAP_DepExp_2013'!O24-J24)","v":29759.865079042549}]
[1820,"Distribution Station Equipment <50 kV",2203,40,2.5000000000000001E-2,{"$f":"IF(D25=0,+'App.2-CC_NewCGAAP_DepExp_2013'!O25,+'App.2-CC_NewCGAAP_DepExp_2013'!O25+((C25*0.5)/D25))","v":13437.9125},13438,-8.7499999999636202E-2,55.075000000000003,null,{"$f":"IF(ISERROR(+I25+'App.2-CC_NewCGAAP_DepExp_2013'!O25-J25), 0, +I25+'App.2-CC_NewCGAAP_DepExp_2013'!O25-J25)","v":13465.45}]
[1820,"Distribution Station Equipment <50 kV",84326,45,2.2222222222222223E-2,{"$f":"IF(D26=0,+'App.2-CC_NewCGAAP_DepExp_2013'!O26,+'App.2-CC_NewCGAAP_DepExp_2013'!O26+((C26*0.5)/D26))","v":18715.311111111114},18705,10.31111111111386,1873.911111111111,null,{"$f":"IF(ISERROR(+I26+'App.2-CC_NewCGAAP_DepExp_2013'!O26-J26), 0, +I26+'App.2-CC_NewCGAAP_DepExp_2013'!O26-J26)","v":19652.26666666667}]
[1820,"Distribution Station Equipment <50 kV",20935,15,6.6666666666666666E-2,{"$f":"IF(D27=0,+'App.2-CC_NewCGAAP_DepExp_2013'!O27,+'App.2-CC_NewCGAAP_DepExp_2013'!O27+((C27*0.5)/D27))","v":697.83333333333337},698,-0.16666666666662877,1395.6666666666667,null,{"$f":"IF(ISERROR(+I27+'App.2-CC_NewCGAAP_DepExp_2013'!O27-J27), 0, +I27+'App.2-CC_NewCGAAP_DepExp_2013'!O27-J27)","v":1395.6666666666667}]
[1825,"Storage Battery Equipment",null,null,0,0,null,0,0,null,{"$f":"IF(ISERROR(+I28+'App.2-CC_NewCGAAP_DepExp_2013'!O27-J28), 0, +I28+'App.2-CC_NewCGAAP_DepExp_2013'!O27-J28)","v":0}]
[1830,"Poles, Towers & Fixtures",null,null,0,{"$f":"IF(D29=0,+'App.2-CC_NewCGAAP_DepExp_2013'!O28,+'App.2-CC_NewCGAAP_DepExp_2013'!O28+((C29*0.5)/D29))","v":173813.17810823119},173812.99,0.18810823120293207,0,{"$f":"10628+1661","v":12289},{"$f":"IF(ISERROR(+I29+'App.2-CC_NewCGAAP_DepExp_2013'!O28-J29), 0, +I29+'App.2-CC_NewCGAAP_DepExp_2013'!O28-J29)","v":161524.17810823119}]
[1830,"Poles, Towers & Fixtures",74730,45,2.2222222222222223E-2,{"$f":"IF(D30=0,+'App.2-CC_NewCGAAP_DepExp_2013'!O29,+'App.2-CC_NewCGAAP_DepExp_2013'!O29+((C30*0.5)/D30))","v":830.33333333333337},830,0.33333333333337123,1660.6666666666667,null,{"$f":"IF(ISERROR(+I30+'App.2-CC_NewCGAAP_DepExp_2013'!O29-J30), 0, +I30+'App.2-CC_NewCGAAP_DepExp_2013'!O29-J30)","v":1660.6666666666667}]
[1835,"Overhead Conductors & Devices",null,null,null,{"$f":"IF(D31=0,+'App.2-CC_NewCGAAP_DepExp_2013'!O30,+'App.2-CC_NewCGAAP_DepExp_2013'!O30+((C31*0.5)/D31))","v":110116.07395974422},110116,7.3959744215244427E-2,0,null,{"$f":"IF(ISERROR(+I31+'App.2-CC_NewCGAAP_DepExp_2013'!O30-J31), 0, +I31+'App.2-CC_NewCGAAP_DepExp_2013'!O30-J31)","v":110116.07395974422}]
[1835,"Overhead Conductors & Devices",313555,60,1.6666666666666666E-2,{"$f":"IF(D32=0,+'App.2-CC_NewCGAAP_DepExp_2013'!O31,+'App.2-CC_NewCGAAP_DepExp_2013'!O31+((C32*0.5)/D32))","v":6076.2638333333343},6076,0.26383333333433256,5225.916666666667,null,{"$f":"IF(ISERROR(+I32+'App.2-CC_NewCGAAP_DepExp_2013'!O31-J32), 0, +I32+'App.2-CC_NewCGAAP_DepExp_2013'!O31-J32)","v":8689.2221666666665}]
[1835,"Overhead Conductors & Devices",28281,45,2.2222222222222223E-2,{"$f":"IF(D33=0,+'App.2-CC_NewCGAAP_DepExp_2013'!O32,+'App.2-CC_NewCGAAP_DepExp_2013'!O32+((C33*0.5)/D33))","v":663.42800000000011},663,0.42800000000011096,628.4666666666667,null,{"$f":"IF(ISERROR(+I33+'App.2-CC_NewCGAAP_DepExp_2013'!O32-J33), 0, +I33+'App.2-CC_NewCGAAP_DepExp_2013'!O32-J33)","v":977.66133333333346}]
[1835,"Overhead Conductors & Devices",2763,40,2.5000000000000001E-2,{"$f":"IF(D34=0,+'App.2-CC_NewCGAAP_DepExp_2013'!O33,+'App.2-CC_NewCGAAP_DepExp_2013'!O33+((C34*0.5)/D34))","v":62.550750000000001},63,-0.44924999999999926,69.075000000000003,null,{"$f":"IF(ISERROR(+I34+'App.2-CC_NewCGAAP_DepExp_2013'!O33-J34), 0, +I34+'App.2-CC_NewCGAAP_DepExp_2013'!O33-J34)","v":97.088250000000002}]
[1840,"Underground Conduit",null,null,0,{"$f":"IF(D35=0,+'App.2-CC_NewCGAAP_DepExp_2013'!O34,+'App.2-CC_NewCGAAP_DepExp_2013'!O34+((C35*0.5)/D35))","v":92782.067671310768},92782,6.7671310767764226E-2,0,14271,{"$f":"IF(ISERROR(+I35+'App.2-CC_NewCGAAP_DepExp_2013'!O34-J35), 0, +I35+'App.2-CC_NewCGAAP_DepExp_2013'!O34-J35)","v":78511.067671310768}]
[1840,"Underground Conduit",43881,40,2.5000000000000001E-2,{"$f":"IF(D36=0,+'App.2-CC_NewCGAAP_DepExp_2013'!O35,+'App.2-CC_NewCGAAP_DepExp_2013'!O35+((C36*0.5)/D36))","v":589.79250000000002},590,-0.20749999999998181,1097.0250000000001,null,{"$f":"IF(ISERROR(+I36+'App.2-CC_NewCGAAP_DepExp_2013'!O35-J36), 0, +I36+'App.2-CC_NewCGAAP_DepExp_2013'!O35-J36)","v":1138.3050000000001}]
[1845,"Underground Conductors & Devices",null,null,0,{"$f":"IF(D37=0,+'App.2-CC_NewCGAAP_DepExp_2013'!O36,+'App.2-CC_NewCGAAP_DepExp_2013'!O36+((C37*0.5)/D37))","v":19828.545700135073},19830,-1.4542998649267247,0,null,{"$f":"IF(ISERROR(+I38+'App.2-CC_NewCGAAP_DepExp_2013'!O36-J37), 0, +I38+'App.2-CC_NewCGAAP_DepExp_2013'!O36-J37)","v":24229.320700135075}]
[1845,"Underground Conductors & Devices",176031,40,2.5000000000000001E-2,{"$f":"IF(D38=0,+'App.2-CC_NewCGAAP_DepExp_2013'!O37,+'App.2-CC_NewCGAAP_DepExp_2013'!O37+((C38*0.5)/D38))","v":3046.8874999999998},3047,-0.1125000000001819,4400.7749999999996,null,{"$f":"IF(ISERROR(+I39+'App.2-CC_NewCGAAP_DepExp_2013'!O37-J38), 0, +I39+'App.2-CC_NewCGAAP_DepExp_2013'!O37-J38)","v":846.5}]
[1850,"Line Transformers",null,null,0,{"$f":"IF(D39=0,+'App.2-CC_NewCGAAP_DepExp_2013'!O38,+'App.2-CC_NewCGAAP_DepExp_2013'!O38+((C39*0.5)/D39))","v":92057.302298833136},92057,0.3022988331358647,0,10680,{"$f":"IF(ISERROR(+I39+'App.2-CC_NewCGAAP_DepExp_2013'!O38-J39), 0, +I39+'App.2-CC_NewCGAAP_DepExp_2013'!O38-J39)","v":81377.302298833136}]
[1850,"Line Transformers",158090,40,2.5000000000000001E-2,{"$f":"IF(D40=0,+'App.2-CC_NewCGAAP_DepExp_2013'!O39,+'App.2-CC_NewCGAAP_DepExp_2013'!O39+((C40*0.5)/D40))","v":3823.9},3824,-9.9999999999909051E-2,3952.25,null,{"$f":"IF(ISERROR(+I40+'App.2-CC_NewCGAAP_DepExp_2013'!O39-J40), 0, +I40+'App.2-CC_NewCGAAP_DepExp_2013'!O39-J40)","v":5800.0249999999996}]
[1855,"Services (Overhead & Underground)",null,null,0,{"$f":"IF(D41=0,+'App.2-CC_NewCGAAP_DepExp_2013'!O40,+'App.2-CC_NewCGAAP_DepExp_2013'!O40+((C41*0.5)/D41))","v":42483.324138622796},42483,0.324138622796454,0,null,{"$f":"IF(ISERROR(+I41+'App.2-CC_NewCGAAP_DepExp_2013'!O40-J41), 0, +I41+'App.2-CC_NewCGAAP_DepExp_2013'!O40-J41)","v":42483.324138622796}]
[1855,"Services (Overhead & Underground)",13559,60,1.6666666666666666E-2,{"$f":"IF(D42=0,+'App.2-CC_NewCGAAP_DepExp_2013'!O41,+'App.2-CC_NewCGAAP_DepExp_2013'!O41+((C42*0.5)/D42))","v":323.29166666666669},323,0.29166666666668561,225.98333333333332,null,{"$f":"IF(ISERROR(+I42+'App.2-CC_NewCGAAP_DepExp_2013'!O41-J42), 0, +I42+'App.2-CC_NewCGAAP_DepExp_2013'!O41-J42)","v":436.2833333333333}]
[1855,"Services (Overhead & Underground)",66725,40,2.5000000000000001E-2,{"$f":"IF(D43=0,+'App.2-CC_NewCGAAP_DepExp_2013'!O42,+'App.2-CC_NewCGAAP_DepExp_2013'!O42+((C43*0.5)/D43))","v":3493.3874999999998},3493,0.3874999999998181,1668.125,79,{"$f":"IF(ISERROR(+I43+'App.2-CC_NewCGAAP_DepExp_2013'!O42-J43), 0, +I43+'App.2-CC_NewCGAAP_DepExp_2013'!O42-J43)","v":4248.45}]
[1860,"Meters",null,null,0,{"$f":"IF(D44=0,+'App.2-CC_NewCGAAP_DepExp_2013'!O43,+'App.2-CC_NewCGAAP_DepExp_2013'!O43+((C44*0.5)/D44))","v":74.12},74,0.12000000000000455,0,null,{"$f":"IF(ISERROR(+I44+'App.2-CC_NewCGAAP_DepExp_2013'!O43-J44), 0, +I44+'App.2-CC_NewCGAAP_DepExp_2013'!O43-J44)","v":74.12}]
[1860,"Meters",null,null,0,{"$f":"IF(D45=0,+'App.2-CC_NewCGAAP_DepExp_2013'!O44,+'App.2-CC_NewCGAAP_DepExp_2013'!O44+((C45*0.5)/D45))","v":2783.2505322924062},2783,0.25053229240620567,0,null,{"$f":"IF(ISERROR(+I45+'App.2-CC_NewCGAAP_DepExp_2013'!O44-J45), 0, +I45+'App.2-CC_NewCGAAP_DepExp_2013'!O44-J45)","v":2783.2505322924062}]
[1860,"Meters (Smart Meters)",31909,15,6.6666666666666666E-2,{"$f":"IF(D46=0,+'App.2-CC_NewCGAAP_DepExp_2013'!O45,+'App.2-CC_NewCGAAP_DepExp_2013'!O45+((C46*0.5)/D46))","v":1063.6333333333334},1064,-0.36666666666656056,2127.2666666666669,null,{"$f":"IF(ISERROR(+I46+'App.2-CC_NewCGAAP_DepExp_2013'!O45-J46), 0, +I46+'App.2-CC_NewCGAAP_DepExp_2013'!O45-J46)","v":2127.2666666666669}]
[1905,"Land",null,null,0,{"$f":"IF(D47=0,+'App.2-CC_NewCGAAP_DepExp_2013'!O46,+'App.2-CC_NewCGAAP_DepExp_2013'!O46+((C47*0.5)/D47))","v":0},null,0,0,null,{"$f":"IF(ISERROR(+I47+'App.2-CC_NewCGAAP_DepExp_2013'!O46-J47), 0, +I47+'App.2-CC_NewCGAAP_DepExp_2013'!O46-J47)","v":0}]
[1908,"Buildings & Fixtures",null,null,0,{"$f":"IF(D48=0,+'App.2-CC_NewCGAAP_DepExp_2013'!O47,+'App.2-CC_NewCGAAP_DepExp_2013'!O47+((C48*0.5)/D48))","v":0},null,0,0,null,{"$f":"IF(ISERROR(+I48+'App.2-CC_NewCGAAP_DepExp_2013'!O47-J48), 0, +I48+'App.2-CC_NewCGAAP_DepExp_2013'!O47-J48)","v":0}]
[1910,"Leasehold Improvements",null,null,0,{"$f":"IF(D49=0,+'App.2-CC_NewCGAAP_DepExp_2013'!O48,+'App.2-CC_NewCGAAP_DepExp_2013'!O48+((C49*0.5)/D49))","v":0},null,0,0,null,{"$f":"IF(ISERROR(+I49+'App.2-CC_NewCGAAP_DepExp_2013'!O48-J49), 0, +I49+'App.2-CC_NewCGAAP_DepExp_2013'!O48-J49)","v":0}]
[1915,"Office Furniture & Equipment (10 years)",3337,10,0.1,{"$f":"IF(D50=0,+'App.2-CC_NewCGAAP_DepExp_2013'!O49,+'App.2-CC_NewCGAAP_DepExp_2013'!O49+((C50*0.5)/D50))","v":1150.6707939508506},1151,-0.32920604914943397,333.7,null,{"$f":"IF(ISERROR(+I50+'App.2-CC_NewCGAAP_DepExp_2013'!O49-J50), 0, +I50+'App.2-CC_NewCGAAP_DepExp_2013'!O49-J50)","v":1317.5207939508507}]
[1915,"Office Furniture & Equipment (5 years)",null,null,0,{"$f":"IF(D51=0,+'App.2-CC_NewCGAAP_DepExp_2013'!O50,+'App.2-CC_NewCGAAP_DepExp_2013'!O50+((C51*0.5)/D51))","v":0},null,0,0,null,{"$f":"IF(ISERROR(+I51+'App.2-CC_NewCGAAP_DepExp_2013'!O50-J51), 0, +I51+'App.2-CC_NewCGAAP_DepExp_2013'!O50-J51)","v":0}]
[1920,"Computer Equipment - Hardware",null,null,0,{"$f":"IF(D52=0,+'App.2-CC_NewCGAAP_DepExp_2013'!O51,+'App.2-CC_NewCGAAP_DepExp_2013'!O51+((C52*0.5)/D52))","v":0},null,0,0,null,{"$f":"IF(ISERROR(+I52+'App.2-CC_NewCGAAP_DepExp_2013'!O51-J52), 0, +I52+'App.2-CC_NewCGAAP_DepExp_2013'!O51-J52)","v":0}]
[1920,"Computer Equip.-Hardware(Post Mar. 22/04)",null,null,0,{"$f":"IF(D53=0,+'App.2-CC_NewCGAAP_DepExp_2013'!O52,+'App.2-CC_NewCGAAP_DepExp_2013'!O52+((C53*0.5)/D53))","v":0},null,0,0,null,{"$f":"IF(ISERROR(+I53+'App.2-CC_NewCGAAP_DepExp_2013'!O52-J53), 0, +I53+'App.2-CC_NewCGAAP_DepExp_2013'!O52-J53)","v":0}]
[1920,"Computer Equip.-Hardware(Post Mar. 19/07)",10557,3,0.33333333333333331,{"$f":"IF(D54=0,+'App.2-CC_NewCGAAP_DepExp_2013'!O53,+'App.2-CC_NewCGAAP_DepExp_2013'!O53+((C54*0.5)/D54))","v":14293.485347985348},14294,-0.51465201465180144,3519,2274,{"$f":"IF(ISERROR(+I54+'App.2-CC_NewCGAAP_DepExp_2013'!O53-J54), 0, +I54+'App.2-CC_NewCGAAP_DepExp_2013'!O53-J54)","v":13778.985347985348}]
[1930,"Transportation Equipment",null,null,0,{"$f":"IF(D55=0,+'App.2-CC_NewCGAAP_DepExp_2013'!O54,+'App.2-CC_NewCGAAP_DepExp_2013'!O54+((C55*0.5)/D55))","v":50165.75},50166,-0.25,0,null,{"$f":"IF(ISERROR(+I55+'App.2-CC_NewCGAAP_DepExp_2013'!O54-J55), 0, +I55+'App.2-CC_NewCGAAP_DepExp_2013'!O54-J55)","v":50165.75}]
[1930,"Transportation Equipment",28236,5,0.2,{"$f":"IF(D56=0,+'App.2-CC_NewCGAAP_DepExp_2013'!O55,+'App.2-CC_NewCGAAP_DepExp_2013'!O55+((C56*0.5)/D56))","v":14006.800000000001},14007,-0.19999999999890861,5647.2,null,{"$f":"IF(ISERROR(+I56+'App.2-CC_NewCGAAP_DepExp_2013'!O55-J56), 0, +I56+'App.2-CC_NewCGAAP_DepExp_2013'!O55-J56)","v":16830.400000000001}]
[1930,"Transportation Equipment",30643,8,0.125,{"$f":"IF(D57=0,+'App.2-CC_NewCGAAP_DepExp_2013'!O56,+'App.2-CC_NewCGAAP_DepExp_2013'!O56+((C57*0.5)/D57))","v":96823.556422173642},96966,-142.4435778263578,3830.375,10250,{"$f":"IF(ISERROR(+I57+'App.2-CC_NewCGAAP_DepExp_2013'!O56-J57), 0, +I57+'App.2-CC_NewCGAAP_DepExp_2013'!O56-J57)","v":88488.743922173642}]
[1935,"Stores Equipment",null,null,0,{"$f":"IF(D58=0,+'App.2-CC_NewCGAAP_DepExp_2013'!O57,+'App.2-CC_NewCGAAP_DepExp_2013'!O57+((C58*0.5)/D58))","v":0},null,0,0,null,{"$f":"IF(ISERROR(+I58+'App.2-CC_NewCGAAP_DepExp_2013'!O57-J58), 0, +I58+'App.2-CC_NewCGAAP_DepExp_2013'!O57-J58)","v":0}]
[1940,"Tools, Shop & Garage Equipment",39977,10,0.1,{"$f":"IF(D59=0,+'App.2-CC_NewCGAAP_DepExp_2013'!O58,+'App.2-CC_NewCGAAP_DepExp_2013'!O58+((C59*0.5)/D59))","v":7520.7662845109971},7521,-0.23371548900286143,3997.7,1101,{"$f":"IF(ISERROR(+I59+'App.2-CC_NewCGAAP_DepExp_2013'!O58-J59), 0, +I59+'App.2-CC_NewCGAAP_DepExp_2013'!O58-J59)","v":8418.6162845109975}]
[1945,"Measurement & Testing Equipment",null,null,0,{"$f":"IF(D60=0,+'App.2-CC_NewCGAAP_DepExp_2013'!O59,+'App.2-CC_NewCGAAP_DepExp_2013'!O59+((C60*0.5)/D60))","v":1809},1809,0,0,null,{"$f":"IF(ISERROR(+I60+'App.2-CC_NewCGAAP_DepExp_2013'!O59-J60), 0, +I60+'App.2-CC_NewCGAAP_DepExp_2013'!O59-J60)","v":1809}]
[1950,"Power Operated Equipment",null,null,0,{"$f":"IF(D61=0,+'App.2-CC_NewCGAAP_DepExp_2013'!O60,+'App.2-CC_NewCGAAP_DepExp_2013'!O60+((C61*0.5)/D61))","v":0},null,0,0,null,{"$f":"IF(ISERROR(+I61+'App.2-CC_NewCGAAP_DepExp_2013'!O60-J61), 0, +I61+'App.2-CC_NewCGAAP_DepExp_2013'!O60-J61)","v":0}]
[1955,"Communications Equipment",2148,5,0.2,{"$f":"IF(D62=0,+'App.2-CC_NewCGAAP_DepExp_2013'!O61,+'App.2-CC_NewCGAAP_DepExp_2013'!O61+((C62*0.5)/D62))","v":1661.478023850085},1661,0.47802385008503734,429.6,566,{"$f":"IF(ISERROR(+I62+'App.2-CC_NewCGAAP_DepExp_2013'!O61-J62), 0, +I62+'App.2-CC_NewCGAAP_DepExp_2013'!O61-J62)","v":1310.278023850085}]
[1955,"Communication Equipment (Smart Meters)",null,null,0,{"$f":"IF(D63=0,+'App.2-CC_NewCGAAP_DepExp_2013'!O62,+'App.2-CC_NewCGAAP_DepExp_2013'!O62+((C63*0.5)/D63))","v":0},null,0,0,null,{"$f":"IF(ISERROR(+I63+'App.2-CC_NewCGAAP_DepExp_2013'!O62-J63), 0, +I63+'App.2-CC_NewCGAAP_DepExp_2013'!O62-J63)","v":0}]
[1960,"Miscellaneous Equipment ",null,null,0,{"$f":"IF(D64=0,+'App.2-CC_NewCGAAP_DepExp_2013'!O63,+'App.2-CC_NewCGAAP_DepExp_2013'!O63+((C64*0.5)/D64))","v":1210.4000000000001},1210,0.40000000000009095,0,null,{"$f":"IF(ISERROR(+I64+'App.2-CC_NewCGAAP_DepExp_2013'!O63-J64), 0, +I64+'App.2-CC_NewCGAAP_DepExp_2013'!O63-J64)","v":1210.4000000000001}]
[1970,"Load Management Controls Customer Premises",null,null,0,{"$f":"IF(D65=0,+'App.2-CC_NewCGAAP_DepExp_2013'!O64,+'App.2-CC_NewCGAAP_DepExp_2013'!O64+((C65*0.5)/D65))","v":0},null,0,0,null,{"$f":"IF(ISERROR(+I65+'App.2-CC_NewCGAAP_DepExp_2013'!O64-J65), 0, +I65+'App.2-CC_NewCGAAP_DepExp_2013'!O64-J65)","v":0}]
[1975,"Load Management Controls Utility Premises",null,null,0,{"$f":"IF(D66=0,+'App.2-CC_NewCGAAP_DepExp_2013'!O65,+'App.2-CC_NewCGAAP_DepExp_2013'!O65+((C66*0.5)/D66))","v":0},null,0,0,null,{"$f":"IF(ISERROR(+I66+'App.2-CC_NewCGAAP_DepExp_2013'!O65-J66), 0, +I66+'App.2-CC_NewCGAAP_DepExp_2013'!O65-J66)","v":0}]
[1980,"System Supervisor Equipment",611,3,0.33333333333333331,{"$f":"IF(D67=0,+'App.2-CC_NewCGAAP_DepExp_2013'!O66,+'App.2-CC_NewCGAAP_DepExp_2013'!O66+((C67*0.5)/D67))","v":1645.0366091449735},1645,3.6609144973454022E-2,203.66666666666666,685,{"$f":"IF(ISERROR(+I67+'App.2-CC_NewCGAAP_DepExp_2013'!O66-J67), 0, +I67+'App.2-CC_NewCGAAP_DepExp_2013'!O66-J67)","v":1061.8699424783069}]
[1985,"Miscellaneous Fixed Assets",null,null,0,{"$f":"IF(D68=0,+'App.2-CC_NewCGAAP_DepExp_2013'!O67,+'App.2-CC_NewCGAAP_DepExp_2013'!O67+((C68*0.5)/D68))","v":0},null,0,0,null,{"$f":"IF(ISERROR(+I68+'App.2-CC_NewCGAAP_DepExp_2013'!O67-J68), 0, +I68+'App.2-CC_NewCGAAP_DepExp_2013'!O67-J68)","v":0}]
[1990,"Other Tangible Property",null,null,0,{"$f":"IF(D69=0,+'App.2-CC_NewCGAAP_DepExp_2013'!O68,+'App.2-CC_NewCGAAP_DepExp_2013'!O68+((C69*0.5)/D69))","v":0},null,0,0,null,{"$f":"IF(ISERROR(+I69+'App.2-CC_NewCGAAP_DepExp_2013'!O68-J69), 0, +I69+'App.2-CC_NewCGAAP_DepExp_2013'!O68-J69)","v":0}]
[1995,"Contributions & Grants",null,null,0,{"$f":"IF(D70=0,+'App.2-CC_NewCGAAP_DepExp_2013'!O69,+'App.2-CC_NewCGAAP_DepExp_2013'!O69+((C70*0.5)/D70))","v":-71181.17130757375},-71181,-0.17130757374980021,0,null,{"$f":"IF(ISERROR(+I70+'App.2-CC_NewCGAAP_DepExp_2013'!O69-J70), 0, +I70+'App.2-CC_NewCGAAP_DepExp_2013'!O69-J70)","v":-71181.17130757375}]
[4245,"Other Operating Revenues",-114792,40,2.5000000000000001E-2,-1435,-1435,0,null,null,{"$f":"+G71*2","v":-2870}]
[4245,"Other Operating Revenues",-34000,3,0.33333333333333331,{"$f":"IF(D72=0,+'App.2-CC_NewCGAAP_DepExp_2013'!O71,+'App.2-CC_NewCGAAP_DepExp_2013'!O71+((C72*0.5)/D72))","v":-5666.666666666667},-5667,0.33333333333303017,null,null,{"$f":"+G72*2","v":-11334}]
[]
[null,"Total",{"$f":"SUM(C17:C73)","v":1049402},null,null,{"$f":"SUM(F17:F73)","v":768068.11228031828},768200.99,-132.8777196818595,56986.311111111107,53636,735822.93450254051]
[null,"Depreciation exp. adj. from gain or loss on the retirement of assets (pool of like assets)",null,null,null,0]
[null,"Total Depreciation Expense",null,null,null,{"$f":"+F75+F74","v":768068.11228031828}]
[]
["Notes:"]
[1,"Board policy of the \"half-year\" rule - the applicant must ensure that additions in the year attract a half-year depreciation expense in the first year.  Deviations from this standard practice must be supported in the application."]
[2,"The applicant must provide an explanation of material variances in evidence."]
[3,"This column refers to the calculated full year depreciation but excludes the depreciation expense on assets fully depreciated during the year.  This column is used for the purpose of calculating depreciation expense in the following year on the next worksheet."]
[]
["General:","Applicants must provide a breakdown of depreciation and amortization expense in the above format for all relevant accounts.  Asset Retirement Obligations (AROs), depreciation and accretion expense should be disclosed separately consistent with the Notes of historical Audited Financial Statements."]

{"sheet":"App.2-CD_MIFRS_DepExp_2015","index":22,"n_rows":84,"n_cols":11,"rows_kept":84,"cut":false,"hidden":false,"merged":[[79,1,79,10],[80,1,80,10],[81,1,81,10],[83,1,84,10],[8,0,8,10],[9,0,9,10],[10,0,10,10],[14,0,15,0],[14,1,15,1],[14,6,15,6],[14,9,15,9]]}
[null,null,null,null,null,null,null,null,null,"File Number:",{"$f":"EBNUMBER","v":{"$error":"#NAME?"}}]
[null,null,null,null,null,null,null,null,null,"Exhibit:"]
[null,null,null,null,null,null,null,null,null,"Tab:"]
[null,null,null,null,null,null,null,null,null,"Schedule:"]
[null,null,null,null,null,null,null,null,null,"Page:"]
[]
[null,null,null,null,null,null,null,null,null,"Date:"]
[]
["Appendix 2-CD"]
["Depreciation and Amortization Expense"]
["Assumes the applicant made capitalization and depreciation expense accounting policy changes under CGAAP effective January 1, 2013 and will adopt IFRS for financial reporting purposes effective January 1, 2015."]
[]
[null,null,null,null,2015,"MIFRS"]
[]
["Account","Description","Additions","Years (new additions only)","Depreciation Rate on New Additions","2015 Depreciation Expense 1","2015 Depreciation Expense per Apppendix 2-BA Fixed Assets, Column J\n (l)","Variance 2","Depreciation Expense on 2014 Full Year Additions","Less Depreciation Expense on Assets Fully Depreciated during the year\n(o)","2015 Full Year Depreciation 3"]
[null,null,"(d)","(f)","(g) = 1 / (f)","(h)=2014 Full Year Deprecation + ((d)*0.5)/(f) ",null,"(m) = (h) - (l)","(n)=((d))/(f) ",null,"(p) = 2014 Full Year Depreciation  + (n) - (o)"]
[1611,"Computer Software (Formally known as Account 1925)",34000,3,{"$f":"IF(D17=0,0,1/D17)","v":0.33333333333333331},{"$f":"IF(D17=0,+'App.2-CD_MIFRS_DepExp_2014'!K17,+'App.2-CD_MIFRS_DepExp_2014'!K17+((C17*0.5)/D17))","v":34861.706004140782},34862,{"$f":"IF(ISERROR(+F17-G17), 0, +F17-G17)","v":-0.29399585921783},{"$f":"IF(D17=0,0,+(C17)/D17)","v":11333.333333333334},7769,{"$f":"IF(ISERROR(+I17+'App.2-CD_MIFRS_DepExp_2014'!K17-J17), 0, +I17+'App.2-CD_MIFRS_DepExp_2014'!K17-J17)","v":32759.372670807454}]
[1612,"Computer Software (Formally known as Account 1925)",null,null,null,0,0,null,null,null,0]
[1612,"Land Rights (Formally known as Account 1906)",null,null,0,{"$f":"IF(D19=0,+'App.2-CD_MIFRS_DepExp_2014'!K18,+'App.2-CD_MIFRS_DepExp_2014'!K18+((C19*0.5)/D19))","v":335.10869565217394},335,0.10869565217393529,0,null,{"$f":"IF(ISERROR(+I19+'App.2-CD_MIFRS_DepExp_2014'!K18-J19), 0, +I19+'App.2-CD_MIFRS_DepExp_2014'!K18-J19)","v":335.10869565217394}]
[1805,"Land",null,null,0,{"$f":"IF(D20=0,+'App.2-CD_MIFRS_DepExp_2014'!K19,+'App.2-CD_MIFRS_DepExp_2014'!K19+((C20*0.5)/D20))","v":0},null,0,0,null,{"$f":"IF(ISERROR(+I20+'App.2-CD_MIFRS_DepExp_2014'!K19-J20), 0, +I20+'App.2-CD_MIFRS_DepExp_2014'!K19-J20)","v":0}]
[1808,"Buildings",106000,25,0.04,{"$f":"IF(D21=0,+'App.2-CD_MIFRS_DepExp_2014'!K20,+'App.2-CD_MIFRS_DepExp_2014'!K20+((C21*0.5)/D21))","v":13565.847619047619},13566,-0.15238095238055394,4240,null,{"$f":"IF(ISERROR(+I21+'App.2-CD_MIFRS_DepExp_2014'!K20-J21), 0, +I21+'App.2-CD_MIFRS_DepExp_2014'!K20-J21)","v":15685.847619047619}]
[1808,"Buildings",null,null,0,{"$f":"IF(D22=0,+'App.2-CD_MIFRS_DepExp_2014'!K21,+'App.2-CD_MIFRS_DepExp_2014'!K21+((C22*0.5)/D22))","v":4447.1916047788181},4447,0.19160477881814586,0,null,{"$f":"IF(ISERROR(+I22+'App.2-CD_MIFRS_DepExp_2014'!K21-J22), 0, +I22+'App.2-CD_MIFRS_DepExp_2014'!K21-J22)","v":4447.1916047788181}]
[1810,"Leasehold Improvements",null,null,0,{"$f":"IF(D23=0,+'App.2-CD_MIFRS_DepExp_2014'!K22,+'App.2-CD_MIFRS_DepExp_2014'!K22+((C23*0.5)/D23))","v":0},null,{"$f":"IF(ISERROR(+F23-G23), 0, +F23-G23)","v":0},0,null,{"$f":"IF(ISERROR(+I23+'App.2-CD_MIFRS_DepExp_2014'!K22-J23), 0, +I23+'App.2-CD_MIFRS_DepExp_2014'!K22-J23)","v":0}]
[1815,"Transformer Station Equipment >50 kV",null,null,0,{"$f":"IF(D24=0,+'App.2-CD_MIFRS_DepExp_2014'!K23,+'App.2-CD_MIFRS_DepExp_2014'!K23+((C24*0.5)/D24))","v":0},null,{"$f":"IF(ISERROR(+F24-G24), 0, +F24-G24)","v":0},0,null,{"$f":"IF(ISERROR(+I24+'App.2-CD_MIFRS_DepExp_2014'!K23-J24), 0, +I24+'App.2-CD_MIFRS_DepExp_2014'!K23-J24)","v":0}]
[1820,"Distribution Station Equipment <50 kV",139500,30,3.3333333333333333E-2,{"$f":"IF(D25=0,+'App.2-CD_MIFRS_DepExp_2014'!K24,+'App.2-CD_MIFRS_DepExp_2014'!K24+((C25*0.5)/D25))","v":32084.865079042549},32085,-0.13492095745095867,4650,null,{"$f":"IF(ISERROR(+I25+'App.2-CD_MIFRS_DepExp_2014'!K24-J25), 0, +I25+'App.2-CD_MIFRS_DepExp_2014'!K24-J25)","v":34409.865079042545}]
[1820,"Distribution Station Equipment <50 kV",null,null,0,{"$f":"IF(D26=0,+'App.2-CD_MIFRS_DepExp_2014'!K25,+'App.2-CD_MIFRS_DepExp_2014'!K25+((C26*0.5)/D26))","v":13465.45},13465,0.4500000000007276,0,null,{"$f":"IF(ISERROR(+I26+'App.2-CD_MIFRS_DepExp_2014'!K25-J26), 0, +I26+'App.2-CD_MIFRS_DepExp_2014'!K25-J26)","v":13465.45}]
[1820,"Distribution Station Equipment <50 kV",null,null,0,{"$f":"IF(D27=0,+'App.2-CD_MIFRS_DepExp_2014'!K26,+'App.2-CD_MIFRS_DepExp_2014'!K26+((C27*0.5)/D27))","v":19652.26666666667},19652,0.26666666667006211,0,null,{"$f":"IF(ISERROR(+I27+'App.2-CD_MIFRS_DepExp_2014'!K26-J27), 0, +I27+'App.2-CD_MIFRS_DepExp_2014'!K26-J27)","v":19652.26666666667}]
[1825,"Storage Battery Equipment",null,null,0,{"$f":"IF(D28=0,+'App.2-CD_MIFRS_DepExp_2014'!K28,+'App.2-CD_MIFRS_DepExp_2014'!K28+((C28*0.5)/D28))","v":0},null,0,0,null,{"$f":"IF(ISERROR(+I28+'App.2-CD_MIFRS_DepExp_2014'!K28-J28), 0, +I28+'App.2-CD_MIFRS_DepExp_2014'!K28-J28)","v":0}]
[1830,"Poles, Towers & Fixtures",154820,45,2.2222222222222223E-2,{"$f":"IF(D29=0,+'App.2-CD_MIFRS_DepExp_2014'!K29,+'App.2-CD_MIFRS_DepExp_2014'!K29+((C29*0.5)/D29))","v":163244.40033045341},{"$f":"164905.01-1661","v":163244.01},0.39033045340329409,3440.4444444444443,{"$f":"10771-1661","v":9110},{"$f":"IF(ISERROR(+I29+'App.2-CD_MIFRS_DepExp_2014'!K29-J29), 0, +I29+'App.2-CD_MIFRS_DepExp_2014'!K29-J29)","v":155854.62255267563}]
[1830,"Poles, Towers & Fixtures",null,null,0,{"$f":"IF(D30=0,+'App.2-CD_MIFRS_DepExp_2014'!K30,+'App.2-CD_MIFRS_DepExp_2014'!K30+((C30*0.5)/D30))","v":1660.6666666666667},1661,-0.33333333333325754,0,null,{"$f":"IF(ISERROR(+I30+'App.2-CD_MIFRS_DepExp_2014'!K30-J30), 0, +I30+'App.2-CD_MIFRS_DepExp_2014'!K30-J30)","v":1660.6666666666667}]
[1835,"Overhead Conductors & Devices",null,null,0,{"$f":"IF(D31=0,+'App.2-CD_MIFRS_DepExp_2014'!K31,+'App.2-CD_MIFRS_DepExp_2014'!K31+((C31*0.5)/D31))","v":110116.07395974422},110116,7.3959744215244427E-2,0,null,{"$f":"IF(ISERROR(+I31+'App.2-CD_MIFRS_DepExp_2014'!K31-J31), 0, +I31+'App.2-CD_MIFRS_DepExp_2014'!K31-J31)","v":110116.07395974422}]
[1835,"Overhead Conductors & Devices",189100,60,1.6666666666666666E-2,{"$f":"IF(D32=0,+'App.2-CD_MIFRS_DepExp_2014'!K32,+'App.2-CD_MIFRS_DepExp_2014'!K32+((C32*0.5)/D32))","v":10265.0555},10265,5.5500000000392902E-2,3151.6666666666665,null,{"$f":"IF(ISERROR(+I32+'App.2-CD_MIFRS_DepExp_2014'!K32-J32), 0, +I32+'App.2-CD_MIFRS_DepExp_2014'!K32-J32)","v":11840.888833333333}]
[1835,"Overhead Conductors & Devices",18910,45,2.2222222222222223E-2,{"$f":"IF(D33=0,+'App.2-CD_MIFRS_DepExp_2014'!K33,+'App.2-CD_MIFRS_DepExp_2014'!K33+((C33*0.5)/D33))","v":1187.7724444444445},1188,-0.2275555555554547,420.22222222222223,null,{"$f":"IF(ISERROR(+I33+'App.2-CD_MIFRS_DepExp_2014'!K33-J33), 0, +I33+'App.2-CD_MIFRS_DepExp_2014'!K33-J33)","v":1397.8835555555556}]
[1835,"Overhead Conductors & Devices",1990,40,2.5000000000000001E-2,{"$f":"IF(D34=0,+'App.2-CD_MIFRS_DepExp_2014'!K34,+'App.2-CD_MIFRS_DepExp_2014'!K34+((C34*0.5)/D34))","v":121.96325},122,-3.674999999999784E-2,49.75,null,{"$f":"IF(ISERROR(+I34+'App.2-CD_MIFRS_DepExp_2014'!K34-J34), 0, +I34+'App.2-CD_MIFRS_DepExp_2014'!K34-J34)","v":146.83825000000002}]
[1840,"Underground Conduit",73000,50,0.02,{"$f":"IF(D35=0,+'App.2-CD_MIFRS_DepExp_2014'!K35,+'App.2-CD_MIFRS_DepExp_2014'!K35+((C35*0.5)/D35))","v":79241.067671310768},79241,6.7671310767764226E-2,1460,3189,{"$f":"IF(ISERROR(+I35+'App.2-CD_MIFRS_DepExp_2014'!K35-J35), 0, +I35+'App.2-CD_MIFRS_DepExp_2014'!K35-J35)","v":76782.067671310768}]
[1840,"Underground Conduit",null,null,0,{"$f":"IF(D36=0,+'App.2-CD_MIFRS_DepExp_2014'!K36,+'App.2-CD_MIFRS_DepExp_2014'!K36+((C36*0.5)/D36))","v":1138.3050000000001},1138,0.30500000000006366,0,null,{"$f":"IF(ISERROR(+I36+'App.2-CD_MIFRS_DepExp_2014'!K36-J36), 0, +I36+'App.2-CD_MIFRS_DepExp_2014'!K36-J36)","v":1138.3050000000001}]
[1845,"Underground Conductors & Devices",null,null,0,{"$f":"IF(D37=0,+'App.2-CD_MIFRS_DepExp_2014'!K37,+'App.2-CD_MIFRS_DepExp_2014'!K37+((C37*0.5)/D37))","v":24229.320700135075},24229,0.3207001350747305,0,2044,{"$f":"IF(ISERROR(+I37+'App.2-CD_MIFRS_DepExp_2014'!K37-J37), 0, +I37+'App.2-CD_MIFRS_DepExp_2014'!K37-J37)","v":22185.320700135075}]
[1845,"Underground Conductors & Devices",243650,40,2.5000000000000001E-2,{"$f":"IF(D38=0,+'App.2-CD_MIFRS_DepExp_2014'!K38,+'App.2-CD_MIFRS_DepExp_2014'!K38+((C38*0.5)/D38))","v":3892.125},3892,0.125,6091.25,null,{"$f":"IF(ISERROR(+I38+'App.2-CD_MIFRS_DepExp_2014'!K38-J38), 0, +I38+'App.2-CD_MIFRS_DepExp_2014'!K38-J38)","v":6937.75}]
[1850,"Line Transformers",null,null,0,{"$f":"IF(D39=0,+'App.2-CD_MIFRS_DepExp_2014'!K39,+'App.2-CD_MIFRS_DepExp_2014'!K39+((C39*0.5)/D39))","v":81377.302298833136},81377,0.3022988331358647,0,2582,{"$f":"IF(ISERROR(+I39+'App.2-CD_MIFRS_DepExp_2014'!K39-J39), 0, +I39+'App.2-CD_MIFRS_DepExp_2014'!K39-J39)","v":78795.302298833136}]
[1850,"Line Transformers",187000,40,2.5000000000000001E-2,{"$f":"IF(D40=0,+'App.2-CD_MIFRS_DepExp_2014'!K40,+'App.2-CD_MIFRS_DepExp_2014'!K40+((C40*0.5)/D40))","v":8137.5249999999996},8138,-0.4750000000003638,4675,null,{"$f":"IF(ISERROR(+I40+'App.2-CD_MIFRS_DepExp_2014'!K40-J40), 0, +I40+'App.2-CD_MIFRS_DepExp_2014'!K40-J40)","v":10475.025}]
[1855,"Services (Overhead & Underground)",null,null,0,{"$f":"IF(D41=0,+'App.2-CD_MIFRS_DepExp_2014'!K41,+'App.2-CD_MIFRS_DepExp_2014'!K41+((C41*0.5)/D41))","v":42483.324138622796},42483,0.324138622796454,0,6088,{"$f":"IF(ISERROR(+I41+'App.2-CD_MIFRS_DepExp_2014'!K41-J41), 0, +I41+'App.2-CD_MIFRS_DepExp_2014'!K41-J41)","v":36395.324138622796}]
[1855,"Services (Overhead & Underground)",85850,60,1.6666666666666666E-2,{"$f":"IF(D42=0,+'App.2-CD_MIFRS_DepExp_2014'!K42,+'App.2-CD_MIFRS_DepExp_2014'!K42+((C42*0.5)/D42))","v":1151.6999999999998},1152,-0.3000000000001819,1430.8333333333333,null,{"$f":"IF(ISERROR(+I42+'App.2-CD_MIFRS_DepExp_2014'!K42-J42), 0, +I42+'App.2-CD_MIFRS_DepExp_2014'!K42-J42)","v":1867.1166666666666}]
[1855,"Services (Overhead & Underground)",15150,40,2.5000000000000001E-2,{"$f":"IF(D43=0,+'App.2-CD_MIFRS_DepExp_2014'!K43,+'App.2-CD_MIFRS_DepExp_2014'!K43+((C43*0.5)/D43))","v":4437.8249999999998},4438,-0.1750000000001819,378.75,null,{"$f":"IF(ISERROR(+I43+'App.2-CD_MIFRS_DepExp_2014'!K43-J43), 0, +I43+'App.2-CD_MIFRS_DepExp_2014'!K43-J43)","v":4627.2}]
[1860,"Meters",10000,null,0,{"$f":"IF(D44=0,+'App.2-CD_MIFRS_DepExp_2014'!K44,+'App.2-CD_MIFRS_DepExp_2014'!K44+((C44*0.5)/D44))","v":74.12},74,0.12000000000000455,0,null,{"$f":"IF(ISERROR(+I44+'App.2-CD_MIFRS_DepExp_2014'!K44-J44), 0, +I44+'App.2-CD_MIFRS_DepExp_2014'!K44-J44)","v":74.12}]
[1860,"Meters",null,null,0,{"$f":"IF(D45=0,+'App.2-CD_MIFRS_DepExp_2014'!K45,+'App.2-CD_MIFRS_DepExp_2014'!K45+((C45*0.5)/D45))","v":2783.2505322924062},2783,0.25053229240620567,0,null,{"$f":"IF(ISERROR(+I45+'App.2-CD_MIFRS_DepExp_2014'!K45-J45), 0, +I45+'App.2-CD_MIFRS_DepExp_2014'!K45-J45)","v":2783.2505322924062}]
[1860,"Meters (Smart Meters)",65000,15,6.6666666666666666E-2,{"$f":"IF(D46=0,+'App.2-CD_MIFRS_DepExp_2014'!K46,+'App.2-CD_MIFRS_DepExp_2014'!K46+((C46*0.5)/D46))","v":4293.9333333333334},4294,-6.6666666666606034E-2,4333.333333333333,null,{"$f":"IF(ISERROR(+I46+'App.2-CD_MIFRS_DepExp_2014'!K46-J46), 0, +I46+'App.2-CD_MIFRS_DepExp_2014'!K46-J46)","v":6460.6}]
[1860,"Meters (Smart Meters)",null,null,null,null,null,null,null,null,102942]
[1905,"Land",null,null,0,null,null,0,0,null,{"$f":"IF(ISERROR(+I48+'App.2-CD_MIFRS_DepExp_2014'!K47-J48), 0, +I48+'App.2-CD_MIFRS_DepExp_2014'!K47-J48)","v":0}]
[1908,"Buildings & Fixtures",null,null,0,{"$f":"IF(D49=0,+'App.2-CD_MIFRS_DepExp_2014'!K48,+'App.2-CD_MIFRS_DepExp_2014'!K48+((C49*0.5)/D49))","v":0},null,0,0,null,{"$f":"IF(ISERROR(+I49+'App.2-CD_MIFRS_DepExp_2014'!K48-J49), 0, +I49+'App.2-CD_MIFRS_DepExp_2014'!K48-J49)","v":0}]
[1910,"Leasehold Improvements",null,null,0,{"$f":"IF(D50=0,+'App.2-CD_MIFRS_DepExp_2014'!K49,+'App.2-CD_MIFRS_DepExp_2014'!K49+((C50*0.5)/D50))","v":0},null,0,0,null,{"$f":"IF(ISERROR(+I50+'App.2-CD_MIFRS_DepExp_2014'!K49-J50), 0, +I50+'App.2-CD_MIFRS_DepExp_2014'!K49-J50)","v":0}]
[1915,"Office Furniture & Equipment (10 years)",5000,10,0.1,{"$f":"IF(D51=0,+'App.2-CD_MIFRS_DepExp_2014'!K50,+'App.2-CD_MIFRS_DepExp_2014'!K50+((C51*0.5)/D51))","v":1567.5207939508507},1568,-0.47920604914929754,500,null,{"$f":"IF(ISERROR(+I51+'App.2-CD_MIFRS_DepExp_2014'!K50-J51), 0, +I51+'App.2-CD_MIFRS_DepExp_2014'!K50-J51)","v":1817.5207939508507}]
[1915,"Office Furniture & Equipment (5 years)",null,null,0,{"$f":"IF(D52=0,+'App.2-CD_MIFRS_DepExp_2014'!K51,+'App.2-CD_MIFRS_DepExp_2014'!K51+((C52*0.5)/D52))","v":0},null,0,0,null,{"$f":"IF(ISERROR(+I52+'App.2-CD_MIFRS_DepExp_2014'!K51-J52), 0, +I52+'App.2-CD_MIFRS_DepExp_2014'!K51-J52)","v":0}]
[1920,"Computer Equipment - Hardware",null,null,0,{"$f":"IF(D53=0,+'App.2-CD_MIFRS_DepExp_2014'!K52,+'App.2-CD_MIFRS_DepExp_2014'!K52+((C53*0.5)/D53))","v":0},null,0,0,null,{"$f":"IF(ISERROR(+I53+'App.2-CD_MIFRS_DepExp_2014'!K52-J53), 0, +I53+'App.2-CD_MIFRS_DepExp_2014'!K52-J53)","v":0}]
[1920,"Computer Equip.-Hardware(Post Mar. 22/04)",null,null,0,{"$f":"IF(D54=0,+'App.2-CD_MIFRS_DepExp_2014'!K53,+'App.2-CD_MIFRS_DepExp_2014'!K53+((C54*0.5)/D54))","v":0},null,0,0,null,{"$f":"IF(ISERROR(+I54+'App.2-CD_MIFRS_DepExp_2014'!K53-J54), 0, +I54+'App.2-CD_MIFRS_DepExp_2014'!K53-J54)","v":0}]
[1920,"Computer Equip.-Hardware(Post Mar. 19/07)",10000,3,0.33333333333333331,{"$f":"IF(D55=0,+'App.2-CD_MIFRS_DepExp_2014'!K54,+'App.2-CD_MIFRS_DepExp_2014'!K54+((C55*0.5)/D55))","v":15445.652014652014},15446,-0.3479853479857411,3333.3333333333335,5573,{"$f":"IF(ISERROR(+I55+'App.2-CD_MIFRS_DepExp_2014'!K54-J55), 0, +I55+'App.2-CD_MIFRS_DepExp_2014'!K54-J55)","v":11539.31868131868}]
[1920,"Computer Equip.-Hardware(Post Mar. 19/07)",null,null,null,null,null,null,null,null,890]
[1930,"Transportation Equipment",61000,8,0.125,{"$f":"IF(D57=0,+'App.2-CD_MIFRS_DepExp_2014'!K55,+'App.2-CD_MIFRS_DepExp_2014'!K55+((C57*0.5)/D57))","v":53978.25},53978,0.25,7625,null,{"$f":"IF(ISERROR(+I57+'App.2-CD_MIFRS_DepExp_2014'!K55-J57), 0, +I57+'App.2-CD_MIFRS_DepExp_2014'!K55-J57)","v":57790.75}]
[1930,"Transportation Equipment",null,null,0,{"$f":"IF(D58=0,+'App.2-CD_MIFRS_DepExp_2014'!K56,+'App.2-CD_MIFRS_DepExp_2014'!K56+((C58*0.5)/D58))","v":16830.400000000001},16830,0.40000000000145519,0,null,{"$f":"IF(ISERROR(+I58+'App.2-CD_MIFRS_DepExp_2014'!K56-J58), 0, +I58+'App.2-CD_MIFRS_DepExp_2014'!K56-J58)","v":16830.400000000001}]
[1930,"Transportation Equipment",null,null,0,{"$f":"IF(D59=0,+'App.2-CD_MIFRS_DepExp_2014'!K57,+'App.2-CD_MIFRS_DepExp_2014'!K57+((C59*0.5)/D59))","v":88488.743922173642},88489,-0.25607782635779586,0,25867,{"$f":"IF(ISERROR(+I59+'App.2-CD_MIFRS_DepExp_2014'!K57-J59), 0, +I59+'App.2-CD_MIFRS_DepExp_2014'!K57-J59)","v":62621.743922173642}]
[1935,"Stores Equipment",null,null,0,{"$f":"IF(D60=0,+'App.2-CD_MIFRS_DepExp_2014'!K58,+'App.2-CD_MIFRS_DepExp_2014'!K58+((C60*0.5)/D60))","v":0},null,0,0,null,{"$f":"IF(ISERROR(+I60+'App.2-CD_MIFRS_DepExp_2014'!K58-J60), 0, +I60+'App.2-CD_MIFRS_DepExp_2014'!K58-J60)","v":0}]
[1940,"Tools, Shop & Garage Equipment",10000,10,0.1,{"$f":"IF(D61=0,+'App.2-CD_MIFRS_DepExp_2014'!K59,+'App.2-CD_MIFRS_DepExp_2014'!K59+((C61*0.5)/D61))","v":8918.6162845109975},8919,-0.38371548900249763,1000,1600,{"$f":"IF(ISERROR(+I61+'App.2-CD_MIFRS_DepExp_2014'!K59-J61), 0, +I61+'App.2-CD_MIFRS_DepExp_2014'!K59-J61)","v":7818.6162845109975}]
[1945,"Measurement & Testing Equipment",null,null,0,{"$f":"IF(D62=0,+'App.2-CD_MIFRS_DepExp_2014'!K60,+'App.2-CD_MIFRS_DepExp_2014'!K60+((C62*0.5)/D62))","v":1809},1809,0,0,null,{"$f":"IF(ISERROR(+I62+'App.2-CD_MIFRS_DepExp_2014'!K60-J62), 0, +I62+'App.2-CD_MIFRS_DepExp_2014'!K60-J62)","v":1809}]
[1950,"Power Operated Equipment",null,null,0,{"$f":"IF(D63=0,+'App.2-CD_MIFRS_DepExp_2014'!K61,+'App.2-CD_MIFRS_DepExp_2014'!K61+((C63*0.5)/D63))","v":0},null,0,0,null,{"$f":"IF(ISERROR(+I63+'App.2-CD_MIFRS_DepExp_2014'!K61-J63), 0, +I63+'App.2-CD_MIFRS_DepExp_2014'!K61-J63)","v":0}]
[1955,"Communications Equipment",1200,5,0.2,{"$f":"IF(D64=0,+'App.2-CD_MIFRS_DepExp_2014'!K62,+'App.2-CD_MIFRS_DepExp_2014'!K62+((C64*0.5)/D64))","v":1430.278023850085},1430,0.27802385008499186,240,566,{"$f":"IF(ISERROR(+I64+'App.2-CD_MIFRS_DepExp_2014'!K62-J64), 0, +I64+'App.2-CD_MIFRS_DepExp_2014'!K62-J64)","v":984.27802385008499}]
[1955,"Communication Equipment (Smart Meters)",null,null,0,{"$f":"IF(D65=0,+'App.2-CD_MIFRS_DepExp_2014'!K63,+'App.2-CD_MIFRS_DepExp_2014'!K63+((C65*0.5)/D65))","v":0},null,0,0,null,{"$f":"IF(ISERROR(+I65+'App.2-CD_MIFRS_DepExp_2014'!K63-J65), 0, +I65+'App.2-CD_MIFRS_DepExp_2014'!K63-J65)","v":0}]
[1960,"Miscellaneous Equipment ",null,null,0,{"$f":"IF(D66=0,+'App.2-CD_MIFRS_DepExp_2014'!K64,+'App.2-CD_MIFRS_DepExp_2014'!K64+((C66*0.5)/D66))","v":1210.4000000000001},1210,0.40000000000009095,0,null,{"$f":"IF(ISERROR(+I66+'App.2-CD_MIFRS_DepExp_2014'!K64-J66), 0, +I66+'App.2-CD_MIFRS_DepExp_2014'!K64-J66)","v":1210.4000000000001}]
[1970,"Load Management Controls Customer Premises",null,null,0,{"$f":"IF(D67=0,+'App.2-CD_MIFRS_DepExp_2014'!K65,+'App.2-CD_MIFRS_DepExp_2014'!K65+((C67*0.5)/D67))","v":0},null,0,0,null,{"$f":"IF(ISERROR(+I67+'App.2-CD_MIFRS_DepExp_2014'!K65-J67), 0, +I67+'App.2-CD_MIFRS_DepExp_2014'!K65-J67)","v":0}]
[1975,"Load Management Controls Utility Premises",null,null,0,{"$f":"IF(D68=0,+'App.2-CD_MIFRS_DepExp_2014'!K66,+'App.2-CD_MIFRS_DepExp_2014'!K66+((C68*0.5)/D68))","v":0},null,0,0,null,{"$f":"IF(ISERROR(+I68+'App.2-CD_MIFRS_DepExp_2014'!K66-J68), 0, +I68+'App.2-CD_MIFRS_DepExp_2014'!K66-J68)","v":0}]
[1980,"System Supervisor Equipment",22500,3,0.33333333333333331,{"$f":"IF(D69=0,+'App.2-CD_MIFRS_DepExp_2014'!K67,+'App.2-CD_MIFRS_DepExp_2014'!K67+((C69*0.5)/D69))","v":4811.8699424783072},4812,-0.13005752169283369,7500,null,{"$f":"IF(ISERROR(+I69+'App.2-CD_MIFRS_DepExp_2014'!K67-J69), 0, +I69+'App.2-CD_MIFRS_DepExp_2014'!K67-J69)","v":8561.8699424783063}]
[1985,"Miscellaneous Fixed Assets",null,null,0,{"$f":"IF(D70=0,+'App.2-CD_MIFRS_DepExp_2014'!K68,+'App.2-CD_MIFRS_DepExp_2014'!K68+((C70*0.5)/D70))","v":0},null,0,0,null,{"$f":"IF(ISERROR(+I70+'App.2-CD_MIFRS_DepExp_2014'!K68-J70), 0, +I70+'App.2-CD_MIFRS_DepExp_2014'!K68-J70)","v":0}]
[1990,"Other Tangible Property",null,null,0,{"$f":"IF(D71=0,+'App.2-CD_MIFRS_DepExp_2014'!K69,+'App.2-CD_MIFRS_DepExp_2014'!K69+((C71*0.5)/D71))","v":0},null,0,0,null,{"$f":"IF(ISERROR(+I71+'App.2-CD_MIFRS_DepExp_2014'!K69-J71), 0, +I71+'App.2-CD_MIFRS_DepExp_2014'!K69-J71)","v":0}]
[1995,"Contributions & Grants",null,null,0,{"$f":"IF(D72=0,+'App.2-CD_MIFRS_DepExp_2014'!K70,+'App.2-CD_MIFRS_DepExp_2014'!K70+((C72*0.5)/D72))","v":-71181.17130757375},-71181,-0.17130757374980021,0,null,{"$f":"IF(ISERROR(+I72+'App.2-CD_MIFRS_DepExp_2014'!K70-J72), 0, +I72+'App.2-CD_MIFRS_DepExp_2014'!K70-J72)","v":-71181.17130757375}]
[4245,"Other Operating Revenues",-324000,40,{"$f":"IF(D73=0,0,1/D73)","v":2.5000000000000001E-2},{"$f":"IF(D73=0,+'App.2-CD_MIFRS_DepExp_2014'!K71,+'App.2-CD_MIFRS_DepExp_2014'!K71+((C73*0.5)/D73))","v":-6920},-6920,{"$f":"IF(ISERROR(+F73-G73), 0, +F73-G73)","v":0},{"$f":"IF(D73=0,0,+(C73)/D73)","v":-8100},null,{"$f":"IF(ISERROR(+I73+'App.2-CD_MIFRS_DepExp_2014'!K71-J73), 0, +I73+'App.2-CD_MIFRS_DepExp_2014'!K71-J73)","v":-10970}]
[null,null,null,null,null,{"$f":"IF(D74=0,+'App.2-CD_MIFRS_DepExp_2014'!K72,+'App.2-CD_MIFRS_DepExp_2014'!K72+((C74*0.5)/D74))","v":-11334},-11334,null,null,null,{"$f":"IF(ISERROR(+I74+'App.2-CD_MIFRS_DepExp_2014'!K72-J74), 0, +I74+'App.2-CD_MIFRS_DepExp_2014'!K72-J74)","v":-11334}]
[null,"Total",{"$f":"SUM(C17:C74)","v":1109670},null,null,{"$f":"SUM(F17:F74)","v":763303.7261692069},763303.01,0.71616920700607523,57752.916666666686,64388,831624.18450254039]
[null,"Depreciation exp. adj. from gain or loss on the retirement of assets (pool of like assets)",null,null,null,0]
[null,"Total Depreciation Expense",null,null,null,{"$f":"+F76+F75","v":763303.7261692069}]
[]
["Notes:"]
[1,"Board policy of the \"half-year\" rule - the applicant must ensure that additions in the year attract a half-year depreciation expense in the first year.  Deviations from this standard practice must be supported in the application."]
[2,"The applicant must provide an explanation of material variances in evidence."]
[3,"This column refers to the calculated full year depreciation but excludes the depreciation expense on assets fully depreciated during the year.  This column is used for the purpose of calculating depreciation expense in the following year on the next worksheet."]
[]
["General:","Applicants must provide a breakdown of depreciation and amortization expense in the above format for all relevant accounts.  Asset Retirement Obligations (AROs), depreciation and accretion expense should be disclosed separately consistent with the Notes of historical Audited Financial Statements."]

{"sheet":"App.2-CE_MIFRS_DepExp_2016","index":23,"n_rows":83,"n_cols":8,"rows_kept":83,"cut":false,"hidden":false,"merged":[[84,1,85,7],[8,0,8,8],[9,0,9,8],[14,1,15,1],[14,6,15,6],[76,1,76,4],[78,1,78,7],[79,1,79,8],[81,1,81,8],[82,1,83,7],[10,0,10,7]]}
[null,null,null,null,null,null,"File Number:",{"$f":"EBNUMBER","v":{"$error":"#NAME?"}}]
[null,null,null,null,null,null,"Exhibit:"]
[null,null,null,null,null,null,"Tab:"]
[null,null,null,null,null,null,"Schedule:"]
[null,null,null,null,null,null,"Page:"]
[]
[null,null,null,null,null,null,"Date:"]
[]
["Appendix 2-CE"]
["Depreciation and Amortization Expense"]
["Assumes the applicant made capitalization and depreciation expense accounting policy changes under CGAAP effective January 1, 2013 and will adopt IFRS for financial reporting purposes effective January 1, 2015."]
[]
[null,null,2016,"MIFRS"]
[]
["Account","Description","Additions","Years (new additions only)","Depreciation Rate on New Additions","2016 Depreciation Expense 1","2016 Depreciation Expense per Appendix 2-BA Fixed Assets, Column J\n (l)","Variance 2"]
[null,null,"(d)","(f)","(g) = 1 / (f)","(h)=2015 Full Year Depreciation + ((d)*0.5)/(f) ",null,"(m) = (h) - (l)"]
[1611,"Computer Software (Formally known as Account 1925)",19000,3,{"$f":"IF(D17=0,0,1/D17)","v":0.33333333333333331},{"$f":"IF(D17=0,'App.2-CD_MIFRS_DepExp_2015'!K17,+'App.2-CD_MIFRS_DepExp_2015'!K17+((C17*0.5)/D17))","v":35926.039337474118},35925.57,{"$f":"IF(ISERROR(+F17-G17), 0, +F17-G17)","v":0.46933747411821969}]
[1611,"Computer Software (Formally known as Account 1925)",null,null,null,null,null,0]
[1612,"Land Rights (Formally known as Account 1906)",null,null,0,{"$f":"IF(D19=0,'App.2-CD_MIFRS_DepExp_2015'!K19,+'App.2-CD_MIFRS_DepExp_2015'!K19+((C19*0.5)/D19))","v":335.10869565217394},335,0.10869565217393529]
[1805,"Land",null,null,0,{"$f":"IF(D20=0,'App.2-CD_MIFRS_DepExp_2015'!K20,+'App.2-CD_MIFRS_DepExp_2015'!K20+((C20*0.5)/D20))","v":0},null,0]
[1808,"Buildings",38000,25,0.04,{"$f":"IF(D21=0,'App.2-CD_MIFRS_DepExp_2015'!K21,+'App.2-CD_MIFRS_DepExp_2015'!K21+((C21*0.5)/D21))","v":16445.847619047621},16446,-0.15238095237873495]
[1808,"Buildings",null,null,0,{"$f":"IF(D22=0,'App.2-CD_MIFRS_DepExp_2015'!K22,+'App.2-CD_MIFRS_DepExp_2015'!K22+((C22*0.5)/D22))","v":4447.1916047788181},4447,0.19160477881814586]
[1810,"Leasehold Improvements",null,null,0,{"$f":"IF(D23=0,'App.2-CD_MIFRS_DepExp_2015'!K23,+'App.2-CD_MIFRS_DepExp_2015'!K23+((C23*0.5)/D23))","v":0},null,0]
[1815,"Transformer Station Equipment >50 kV",null,null,0,{"$f":"IF(D24=0,'App.2-CD_MIFRS_DepExp_2015'!K24,+'App.2-CD_MIFRS_DepExp_2015'!K24+((C24*0.5)/D24))","v":0},null,0]
[1820,"Distribution Station Equipment <50 kV",193500,30,3.3333333333333333E-2,{"$f":"IF(D25=0,'App.2-CD_MIFRS_DepExp_2015'!K25,+'App.2-CD_MIFRS_DepExp_2015'!K25+((C25*0.5)/D25))","v":37634.865079042545},37635,-0.13492095745459665]
[1820,"Distribution Station Equipment <50 kV",null,null,0,{"$f":"IF(D26=0,'App.2-CD_MIFRS_DepExp_2015'!K26,+'App.2-CD_MIFRS_DepExp_2015'!K26+((C26*0.5)/D26))","v":13465.45},13465,0.4500000000007276]
[1820,"Distribution Station Equipment <50 kV",null,null,0,{"$f":"IF(D27=0,'App.2-CD_MIFRS_DepExp_2015'!K27,+'App.2-CD_MIFRS_DepExp_2015'!K27+((C27*0.5)/D27))","v":19652.26666666667},19652,0.26666666667006211]
[1825,"Storage Battery Equipment",null,null,0,{"$f":"IF(D28=0,'App.2-CD_MIFRS_DepExp_2015'!K28,+'App.2-CD_MIFRS_DepExp_2015'!K28+((C28*0.5)/D28))","v":0},null,0]
[1830,"Poles, Towers & Fixtures",137700,45,2.2222222222222223E-2,{"$f":"IF(D29=0,'App.2-CD_MIFRS_DepExp_2015'!K29,+'App.2-CD_MIFRS_DepExp_2015'!K29+((C29*0.5)/D29))","v":157384.62255267563},157385,-0.37744732436840422]
[1830,"Poles, Towers & Fixtures",null,null,0,{"$f":"IF(D30=0,'App.2-CD_MIFRS_DepExp_2015'!K30,+'App.2-CD_MIFRS_DepExp_2015'!K30+((C30*0.5)/D30))","v":1660.6666666666667},1661,-0.33333333333325754]
[1835,"Overhead Conductors & Devices",null,null,0,{"$f":"IF(D31=0,'App.2-CD_MIFRS_DepExp_2015'!K31,+'App.2-CD_MIFRS_DepExp_2015'!K31+((C31*0.5)/D31))","v":110116.07395974422},110116,7.3959744215244427E-2]
[1835,"Overhead Conductors & Devices",172080,60,1.6666666666666666E-2,{"$f":"IF(D32=0,'App.2-CD_MIFRS_DepExp_2015'!K32,+'App.2-CD_MIFRS_DepExp_2015'!K32+((C32*0.5)/D32))","v":13274.888833333333},13275,-0.11116666666748642]
[1835,"Overhead Conductors & Devices",17208,45,2.2222222222222223E-2,{"$f":"IF(D33=0,'App.2-CD_MIFRS_DepExp_2015'!K33,+'App.2-CD_MIFRS_DepExp_2015'!K33+((C33*0.5)/D33))","v":1589.0835555555557},1589,8.3555555555676619E-2]
[1835,"Overhead Conductors & Devices",1912,40,2.5000000000000001E-2,{"$f":"IF(D34=0,'App.2-CD_MIFRS_DepExp_2015'!K34,+'App.2-CD_MIFRS_DepExp_2015'!K34+((C34*0.5)/D34))","v":170.73825000000002},171,-0.26174999999997794]
[1840,"Underground Conduit",null,null,0,{"$f":"IF(D35=0,'App.2-CD_MIFRS_DepExp_2015'!K35,+'App.2-CD_MIFRS_DepExp_2015'!K35+((C35*0.5)/D35))","v":76782.067671310768},76782,6.7671310767764226E-2]
[1840,"Underground Conduit",null,null,0,{"$f":"IF(D36=0,'App.2-CD_MIFRS_DepExp_2015'!K36,+'App.2-CD_MIFRS_DepExp_2015'!K36+((C36*0.5)/D36))","v":1138.3050000000001},1138,0.30500000000006366]
[1845,"Underground Conductors & Devices",null,null,0,{"$f":"IF(D37=0,'App.2-CD_MIFRS_DepExp_2015'!K37,+'App.2-CD_MIFRS_DepExp_2015'!K37+((C37*0.5)/D37))","v":22185.320700135075},22185,0.3207001350747305]
[1845,"Underground Conductors & Devices",163650,40,2.5000000000000001E-2,{"$f":"IF(D38=0,'App.2-CD_MIFRS_DepExp_2015'!K38,+'App.2-CD_MIFRS_DepExp_2015'!K38+((C38*0.5)/D38))","v":8983.375},8983,0.375]
[1850,"Line Transformers",null,null,0,{"$f":"IF(D39=0,'App.2-CD_MIFRS_DepExp_2015'!K39,+'App.2-CD_MIFRS_DepExp_2015'!K39+((C39*0.5)/D39))","v":78795.302298833136},78795,0.3022988331358647]
[1850,"Line Transformers",172000,40,2.5000000000000001E-2,{"$f":"IF(D40=0,'App.2-CD_MIFRS_DepExp_2015'!K40,+'App.2-CD_MIFRS_DepExp_2015'!K40+((C40*0.5)/D40))","v":12625.025},12625,2.4999999999636202E-2]
[1855,"Services (Overhead & Underground)",null,null,0,{"$f":"IF(D41=0,'App.2-CD_MIFRS_DepExp_2015'!K41,+'App.2-CD_MIFRS_DepExp_2015'!K41+((C41*0.5)/D41))","v":36395.324138622796},{"$f":"44715.75-741-7579","v":36395.75},-0.425861377203546]
[1855,"Services (Overhead & Underground)",15150,60,1.6666666666666666E-2,{"$f":"IF(D42=0,'App.2-CD_MIFRS_DepExp_2015'!K42,+'App.2-CD_MIFRS_DepExp_2015'!K42+((C42*0.5)/D42))","v":1993.3666666666666},1993,0.36666666666656056]
[1855,"Services (Overhead & Underground)",85850,40,2.5000000000000001E-2,{"$f":"IF(D43=0,'App.2-CD_MIFRS_DepExp_2015'!K43,+'App.2-CD_MIFRS_DepExp_2015'!K43+((C43*0.5)/D43))","v":5700.3249999999998},5700,0.3249999999998181]
[1860,"Meters",null,null,0,{"$f":"IF(D44=0,'App.2-CD_MIFRS_DepExp_2015'!K44,+'App.2-CD_MIFRS_DepExp_2015'!K44+((C44*0.5)/D44))","v":74.12},74,0.12000000000000455]
[1860,"Meters",7500,25,0.04,{"$f":"IF(D45=0,'App.2-CD_MIFRS_DepExp_2015'!K45,+'App.2-CD_MIFRS_DepExp_2015'!K45+((C45*0.5)/D45))","v":2933.2505322924062},2933,0.25053229240620567]
[1860,"Meters (Smart Meters)",35200,15,6.6666666666666666E-2,{"$f":"IF(D46=0,'App.2-CD_MIFRS_DepExp_2015'!K46,+'App.2-CD_MIFRS_DepExp_2015'!K46+((C46*0.5)/D46))","v":7633.9333333333334},7634,-6.6666666666606034E-2]
[1860,"Meters (Smart Meters)",null,null,null,102942,102942,0]
[1905,"Land",null,null,0,{"$f":"IF(D48=0,'App.2-CD_MIFRS_DepExp_2015'!K48,+'App.2-CD_MIFRS_DepExp_2015'!K48+((C48*0.5)/D48))","v":0},null,0]
[1908,"Buildings & Fixtures",null,null,0,{"$f":"IF(D49=0,'App.2-CD_MIFRS_DepExp_2015'!K49,+'App.2-CD_MIFRS_DepExp_2015'!K49+((C49*0.5)/D49))","v":0},null,0]
[1910,"Leasehold Improvements",null,null,0,{"$f":"IF(D50=0,'App.2-CD_MIFRS_DepExp_2015'!K50,+'App.2-CD_MIFRS_DepExp_2015'!K50+((C50*0.5)/D50))","v":0},null,0]
[1915,"Office Furniture & Equipment (10 years)",8000,10,0.1,{"$f":"IF(D51=0,'App.2-CD_MIFRS_DepExp_2015'!K51,+'App.2-CD_MIFRS_DepExp_2015'!K51+((C51*0.5)/D51))","v":2217.5207939508509},2218,-0.47920604914907017]
[1915,"Office Furniture & Equipment (5 years)",null,null,0,{"$f":"IF(D52=0,'App.2-CD_MIFRS_DepExp_2015'!K52,+'App.2-CD_MIFRS_DepExp_2015'!K52+((C52*0.5)/D52))","v":0},null,0]
[1920,"Computer Equipment - Hardware",null,null,0,{"$f":"IF(D53=0,'App.2-CD_MIFRS_DepExp_2015'!K53,+'App.2-CD_MIFRS_DepExp_2015'!K53+((C53*0.5)/D53))","v":0},null,0]
[1920,"Computer Equip.-Hardware(Post Mar. 22/04)",null,null,0,{"$f":"IF(D54=0,'App.2-CD_MIFRS_DepExp_2015'!K54,+'App.2-CD_MIFRS_DepExp_2015'!K54+((C54*0.5)/D54))","v":0},null,0]
[1920,"Computer Equip.-Hardware(Post Mar. 19/07)",10000,3,0.33333333333333331,{"$f":"IF(D55=0,'App.2-CD_MIFRS_DepExp_2015'!K55,+'App.2-CD_MIFRS_DepExp_2015'!K55+((C55*0.5)/D55))","v":13205.985347985346},13206,-1.4652014653620427E-2]
[1920,"Computer Equip.-Hardware(Post Mar. 19/07)",null,null,null,891,891,0]
[1930,"Transportation Equipment",328000,8,0.125,{"$f":"IF(D57=0,'App.2-CD_MIFRS_DepExp_2015'!K57,+'App.2-CD_MIFRS_DepExp_2015'!K57+((C57*0.5)/D57))","v":78290.75},78291,-0.25]
[1930,"Transportation Equipment",null,null,0,{"$f":"IF(D58=0,'App.2-CD_MIFRS_DepExp_2015'!K58,+'App.2-CD_MIFRS_DepExp_2015'!K58+((C58*0.5)/D58))","v":16830.400000000001},16830,0.40000000000145519]
[1930,"Transportation Equipment",null,null,0,{"$f":"IF(D59=0,'App.2-CD_MIFRS_DepExp_2015'!K59,+'App.2-CD_MIFRS_DepExp_2015'!K59+((C59*0.5)/D59))","v":62621.743922173642},62622,-0.25607782635779586]
[1935,"Stores Equipment",null,null,0,{"$f":"IF(D60=0,'App.2-CD_MIFRS_DepExp_2015'!K60,+'App.2-CD_MIFRS_DepExp_2015'!K60+((C60*0.5)/D60))","v":0},null,0]
[1940,"Tools, Shop & Garage Equipment",10000,10,0.1,{"$f":"IF(D61=0,'App.2-CD_MIFRS_DepExp_2015'!K61,+'App.2-CD_MIFRS_DepExp_2015'!K61+((C61*0.5)/D61))","v":8318.6162845109975},8319,-0.38371548900249763]
[1945,"Measurement & Testing Equipment",null,null,0,{"$f":"IF(D62=0,'App.2-CD_MIFRS_DepExp_2015'!K62,+'App.2-CD_MIFRS_DepExp_2015'!K62+((C62*0.5)/D62))","v":1809},1809,0]
[1950,"Power Operated Equipment",null,null,0,{"$f":"IF(D63=0,'App.2-CD_MIFRS_DepExp_2015'!K63,+'App.2-CD_MIFRS_DepExp_2015'!K63+((C63*0.5)/D63))","v":0},null,0]
[1955,"Communications Equipment",1200,5,0.2,{"$f":"IF(D64=0,'App.2-CD_MIFRS_DepExp_2015'!K64,+'App.2-CD_MIFRS_DepExp_2015'!K64+((C64*0.5)/D64))","v":1104.278023850085},1104,0.27802385008499186]
[1955,"Communication Equipment (Smart Meters)",null,null,0,{"$f":"IF(D65=0,'App.2-CD_MIFRS_DepExp_2015'!K65,+'App.2-CD_MIFRS_DepExp_2015'!K65+((C65*0.5)/D65))","v":0},null,0]
[1960,"Miscellaneous Equipment ",null,null,0,{"$f":"IF(D66=0,'App.2-CD_MIFRS_DepExp_2015'!K66,+'App.2-CD_MIFRS_DepExp_2015'!K66+((C66*0.5)/D66))","v":1210.4000000000001},1210,0.40000000000009095]
[1970,"Load Management Controls Customer Premises",null,null,0,{"$f":"IF(D67=0,'App.2-CD_MIFRS_DepExp_2015'!K67,+'App.2-CD_MIFRS_DepExp_2015'!K67+((C67*0.5)/D67))","v":0},null,0]
[1975,"Load Management Controls Utility Premises",null,null,0,{"$f":"IF(D68=0,'App.2-CD_MIFRS_DepExp_2015'!K68,+'App.2-CD_MIFRS_DepExp_2015'!K68+((C68*0.5)/D68))","v":0},null,0]
[1980,"System Supervisor Equipment",130000,3,0.33333333333333331,{"$f":"IF(D69=0,'App.2-CD_MIFRS_DepExp_2015'!K69,+'App.2-CD_MIFRS_DepExp_2015'!K69+((C69*0.5)/D69))","v":30228.536609144976},30229,-0.46339085502404487]
[1985,"Miscellaneous Fixed Assets",null,null,0,{"$f":"IF(D70=0,'App.2-CD_MIFRS_DepExp_2015'!K70,+'App.2-CD_MIFRS_DepExp_2015'!K70+((C70*0.5)/D70))","v":0},null,0]
[1990,"Other Tangible Property",null,null,0,{"$f":"IF(D71=0,'App.2-CD_MIFRS_DepExp_2015'!K71,+'App.2-CD_MIFRS_DepExp_2015'!K71+((C71*0.5)/D71))","v":0},null,0]
[1995,"Contributions & Grants",null,null,0,{"$f":"IF(D72=0,'App.2-CD_MIFRS_DepExp_2015'!K72,+'App.2-CD_MIFRS_DepExp_2015'!K72+((C72*0.5)/D72))","v":-71181.17130757375},-71181.3,0.12869242625311017]
[4245,"Other Operating Revenues",-300000,40,2.5000000000000001E-2,{"$f":"IF(D73=0,'App.2-CD_MIFRS_DepExp_2015'!K73,+'App.2-CD_MIFRS_DepExp_2015'!K73+((C73*0.5)/D73))","v":-14720},-14720,0]
[4245,"Other Operating Revenues",null,null,0,{"$f":"IF(D74=0,'App.2-CD_MIFRS_DepExp_2015'!K74,+'App.2-CD_MIFRS_DepExp_2015'!K74+((C74*0.5)/D74))","v":-11334},-11334,0]
[null,"Total",{"$f":"SUM(C17:C74)","v":1245950},null,null,{"$f":"SUM(F17:F74)","v":889777.61783587374},{"$f":"SUM(G17:G74)","v":889776.02},{"$f":"SUM(H17:H74)","v":1.5978358736826692}]
[null,"Depreciation exp. adj. from gain or loss on the retirement of assets (pool of like assets)"]
[null,"Total Depreciation expense to be included in the test year revenue requirement",null,null,null,{"$f":"SUM(F75:F76)","v":889777.61783587374}]
["Notes:"]
[1,"Board policy of the \"half-year\" rule - the applicant must ensure that additions in the year attract a half-year depreciation expense in the first year.  Deviations from this standard practice must be supported in the application."]
[2,"The applicant must provide an explanation of material variances in evidence."]
[]
[]
["General:","Applicants must provide a breakdown of depreciation and amortization expense in the above format for all relevant accounts.  Asset Retirement Obligations (AROs), depreciation and accretion expense should be disclosed separately consistent with the Notes of historical Audited Financial Statements."]

{"sheet":"App.2-CF_OldCGAAP_DepExp_2013","index":24,"n_rows":62,"n_cols":12,"rows_kept":62,"cut":false,"hidden":true,"merged":[[58,1,58,11],[59,1,60,9],[61,1,62,11],[8,0,8,11],[9,0,9,11],[14,0,15,0],[14,1,15,1],[14,10,15,10],[10,1,10,10]]}
[null,null,null,null,null,null,null,null,null,null,"File Number:",{"$f":"EBNUMBER","v":{"$error":"#NAME?"}}]
[null,null,null,null,null,null,null,null,null,null,"Exhibit:"]
[null,null,null,null,null,null,null,null,null,null,"Tab:"]
[null,null,null,null,null,null,null,null,null,null,"Schedule:"]
[null,null,null,null,null,null,null,null,null,null,"Page:"]
[]
[null,null,null,null,null,null,null,null,null,null,"Date:"]
[]
["Appendix 2-CF"]
["Depreciation and Amortization Expense"]
[null,"Assumes the applicant made capitalization and depreciation expense accounting policy changes under CGAAP effective January 1, 2013 and will adopt IFRS for financial reporting purposes effective January 1, 2015."]
[]
[null,null,"Year",2013,"Former CGAAP"]
[]
["Account","Description","Opening Regulatory Gross PP&E as at Jan 1, 2013","Less Fully Depreciated","Net for Depreciation","Additions","Total for Depreciation","Years","Depreciation Rate","Depreciation Expense","2013 Depreciation Expense per Appendix 2-BA Fixed Assets, Column J\n (l)","Variance 2"]
[null,null,"(a)","(b)","(c)","(d)","(e) = (c) + ½ x (d) 1","(f)","(g) = 1 / (f)","(h) = (e) / (f)",null,"(m) = (h) - (l)"]
[1611,"Computer Software (Formally known as Account 1925)",null,null,{"$f":"C17-D17","v":0},null,{"$f":"E17+0.5*F17","v":0},null,{"$f":"IF(H17=0,0,1/H17)","v":0},{"$f":"IF(H17=0,0,G17/H17)","v":0},null,{"$f":"IF(ISERROR(+J17-K17), 0, +J17-K17)","v":0}]
[1612,"Land Rights (Formally known as Account 1906)",null,null,{"$f":"C18-D18","v":0},null,{"$f":"E18+0.5*F18","v":0},null,0,0,null,0]
[1805,"Land",null,null,0,null,0,null,0,0,null,0]
[1808,"Buildings",null,null,0,null,0,null,0,0,null,0]
[1810,"Leasehold Improvements",null,null,0,null,0,null,0,0,null,0]
[1815,"Transformer Station Equipment >50 kV",null,null,0,null,0,null,0,0,null,0]
[1820,"Distribution Station Equipment <50 kV",null,null,0,null,0,null,0,0,null,0]
[1825,"Storage Battery Equipment",null,null,0,null,0,null,0,0,null,0]
[1830,"Poles, Towers & Fixtures",null,null,0,null,0,null,0,0,null,0]
[1835,"Overhead Conductors & Devices",null,null,0,null,0,null,0,0,null,0]
[1840,"Underground Conduit",null,null,0,null,0,null,0,0,null,0]
[1845,"Underground Conductors & Devices",null,null,0,null,0,null,0,0,null,0]
[1850,"Line Transformers",null,null,0,null,0,null,0,0,null,0]
[1855,"Services (Overhead & Underground)",null,null,0,null,0,null,0,0,null,0]
[1860,"Meters",null,null,0,null,0,null,0,0,null,0]
[1860,"Meters (Smart Meters)",null,null,0,null,0,null,0,0,null,0]
[1905,"Land",null,null,0,null,0,null,0,0,null,0]
[1908,"Buildings & Fixtures",null,null,0,null,0,null,0,0,null,0]
[1910,"Leasehold Improvements",null,null,0,null,0,null,0,0,null,0]
[1915,"Office Furniture & Equipment (10 years)",null,null,0,null,0,null,0,0,null,0]
[1915,"Office Furniture & Equipment (5 years)",null,null,0,null,0,null,0,0,null,0]
[1920,"Computer Equipment - Hardware",null,null,0,null,0,null,0,0,null,0]
[1920,"Computer Equip.-Hardware(Post Mar. 22/04)",null,null,0,null,0,null,0,0,null,0]
[1920,"Computer Equip.-Hardware(Post Mar. 19/07)",null,null,0,null,0,null,0,0,null,0]
[1930,"Transportation Equipment",null,null,0,null,0,null,0,0,null,0]
[1935,"Stores Equipment",null,null,0,null,0,null,0,0,null,0]
[1940,"Tools, Shop & Garage Equipment",null,null,0,null,0,null,0,0,null,0]
[1945,"Measurement & Testing Equipment",null,null,0,null,0,null,0,0,null,0]
[1950,"Power Operated Equipment",null,null,0,null,0,null,0,0,null,0]
[1955,"Communications Equipment",null,null,0,null,0,null,0,0,null,0]
[1955,"Communication Equipment (Smart Meters)",null,null,0,null,0,null,0,0,null,0]
[1960,"Miscellaneous Equipment ",null,null,0,null,0,null,0,0,null,0]
[1970,"Load Management Controls - Customer Premises",null,null,0,null,0,null,0,0,null,0]
[1975,"Load Management Controls Utility Premises",null,null,0,null,0,null,0,0,null,0]
[1980,"System Supervisor Equipment",null,null,0,null,0,null,0,0,null,0]
[1985,"Miscellaneous Fixed Assets",null,null,0,null,0,null,0,0,null,0]
[1990,"Other Tangible Property",null,null,0,null,0,null,0,0,null,0]
[1995,"Contributions & Grants",null,null,0,null,0,null,0,0,null,0]
[null,"Total",{"$f":"SUM(C17:C54)","v":0},{"$f":"SUM(D17:D54)","v":0},{"$f":"SUM(E17:E54)","v":0},{"$f":"SUM(F17:F54)","v":0},{"$f":"SUM(G17:G54)","v":0},null,null,{"$f":"SUM(J17:J54)","v":0},{"$f":"SUM(K17:K54)","v":0},{"$f":"SUM(L17:L54)","v":0}]
[]
["Notes:"]
[]
[1,"Board policy of the \"half-year\" rule - the applicant must ensure that additions in the year attract a half-year depreciation expense in the first year.  Deviations from this standard practice must be supported in the application."]
[2,"The applicant must provide an explanation of material variances in evidence."]
[]
["General","Applicants must provide a breakdown of depreciation and amortization expense in the above format for all relevant accounts.  Asset Retirement Obligations (AROs), depreciation and accretion expense should be disclosed separately consistent with the Notes of historical Audited Financial Statements."]

{"sheet":"App.2-CG_NewCGAAP_DepExp_2013","index":25,"n_rows":66,"n_cols":15,"rows_kept":66,"cut":false,"hidden":true,"merged":[[65,1,66,14],[58,1,58,14],[59,1,59,14],[60,1,60,14],[61,1,61,14],[62,1,62,14],[63,1,63,14],[8,0,8,14],[9,0,9,14],[14,0,15,0],[14,1,15,1],[14,10,15,10],[14,13,15,13],[10,0,10,14]]}
[null,null,null,null,null,null,null,null,null,null,null,null,null,"File Number:",{"$f":"EBNUMBER","v":{"$error":"#NAME?"}}]
[null,null,null,null,null,null,null,null,null,null,null,null,null,"Exhibit:"]
[null,null,null,null,null,null,null,null,null,null,null,null,null,"Tab:"]
[null,null,null,null,null,null,null,null,null,null,null,null,null,"Schedule:"]
[null,null,null,null,null,null,null,null,null,null,null,null,null,"Page:"]
[]
[null,null,null,null,null,null,null,null,null,null,null,null,null,"Date:"]
[]
["Appendix 2-CO"]
["Depreciation and Amortization Expense"]
["Assumes the applicant made capitalization and depreciation expense accounting policy changes under CGAAP effective January 1, 2013 and will adopt IFRS for financial reporting purposes effective January 1, 2015."]
[]
[null,null,"Year",2013,"Revised CGAAP "]
[]
["Account","Description","Opening NBV as at Jan 1, 2013 5","Additions","Average Remaining Life of Opening NBV 4","Years (new additions only) 3","Depreciation Rate on New Additions","Depreciation Expense on Opening NBV","Depreciation Expense on Additions 1","2013 Depreciation Expense","2013 Depreciation Expense per Appendix 2-BA Fixed Assets, Column J\n (l)","Variance 2","Depreciation Expense on 2013 Full Year Additions","Less Depreciation Expense on Assets Fully Depreciated during the year\n(o)","2013 Full Year Depreciation 6"]
[null,null,"(a)","(d)","(i)","(f)","(g) = 1 / (f)","(j) = (a) / (i)","(h)=((d)*0.5)/(f) ","(k) = (j) + (h)",null,"(m) = (k) - (l)","(n) = (d)/(f) ",null,"(p) = (j) + (n) - (o)"]
[1611,"Computer Software (Formally known as Account 1925)",null,null,null,null,{"$f":"IF(F17=0,0,1/F17)","v":0},{"$f":"IF(E17=0,0,+C17/E17)","v":0},{"$f":"IF(F17=0,0,+(D17*0.5)/F17)","v":0},{"$f":"IF(ISERROR(+H17+I17), 0, +H17+I17)","v":0},null,{"$f":"IF(ISERROR(+J17-K17), 0, +J17-K17)","v":0},{"$f":"IF(F17=0,0,+(D17)/F17)","v":0},null,{"$f":"IF(ISERROR(+M17+H17-N17), 0, +M17+H17-N17)","v":0}]
[1612,"Land Rights (Formally known as Account 1906)",null,null,null,null,0,0,0,0,null,0,0,null,{"$f":"IF(ISERROR(+M18+H18-N18), 0, +M18+H18-N18)","v":0}]
[1805,"Land",null,null,null,null,0,0,0,0,null,0,0,null,0]
[1808,"Buildings",null,null,null,null,0,0,0,0,null,0,0,null,0]
[1810,"Leasehold Improvements",null,null,null,null,0,0,0,0,null,0,0,null,0]
[1815,"Transformer Station Equipment >50 kV",null,null,null,null,0,0,0,0,null,0,0,null,0]
[1820,"Distribution Station Equipment <50 kV",null,null,null,null,0,0,0,0,null,0,0,null,0]
[1825,"Storage Battery Equipment",null,null,null,null,0,0,0,0,null,0,0,null,0]
[1830,"Poles, Towers & Fixtures",null,null,null,null,0,0,0,0,null,0,0,null,0]
[1835,"Overhead Conductors & Devices",null,null,null,null,0,0,0,0,null,0,0,null,0]
[1840,"Underground Conduit",null,null,null,null,0,0,0,0,null,0,0,null,0]
[1845,"Underground Conductors & Devices",null,null,null,null,0,0,0,0,null,0,0,null,0]
[1850,"Line Transformers",null,null,null,null,0,0,0,0,null,0,0,null,0]
[1855,"Services (Overhead & Underground)",null,null,null,null,0,0,0,0,null,0,0,null,0]
[1860,"Meters",null,null,null,null,0,0,0,0,null,0,0,null,0]
[1860,"Meters (Smart Meters)",null,null,null,null,0,0,0,0,null,0,0,null,0]
[1905,"Land",null,null,null,null,0,0,0,0,null,0,0,null,0]
[1908,"Buildings & Fixtures",null,null,null,null,0,0,0,0,null,0,0,null,0]
[1910,"Leasehold Improvements",null,null,null,null,0,0,0,0,null,0,0,null,0]
[1915,"Office Furniture & Equipment (10 years)",null,null,null,null,0,0,0,0,null,0,0,null,0]
[1915,"Office Furniture & Equipment (5 years)",null,null,null,null,0,0,0,0,null,0,0,null,0]
[1920,"Computer Equipment - Hardware",null,null,null,null,0,0,0,0,null,0,0,null,0]
[1920,"Computer Equip.-Hardware(Post Mar. 22/04)",null,null,null,null,0,0,0,0,null,0,0,null,0]
[1920,"Computer Equip.-Hardware(Post Mar. 19/07)",null,null,null,null,0,0,0,0,null,0,0,null,0]
[1930,"Transportation Equipment",null,null,null,null,0,0,0,0,null,0,0,null,0]
[1935,"Stores Equipment",null,null,null,null,0,0,0,0,null,0,0,null,0]
[1940,"Tools, Shop & Garage Equipment",null,null,null,null,0,0,0,0,null,0,0,null,0]
[1945,"Measurement & Testing Equipment",null,null,null,null,0,0,0,0,null,0,0,null,0]
[1950,"Power Operated Equipment",null,null,null,null,0,0,0,0,null,0,0,null,0]
[1955,"Communications Equipment",null,null,null,null,0,0,0,0,null,0,0,null,0]
[1955,"Communication Equipment (Smart Meters)",null,null,null,null,0,0,0,0,null,0,0,null,0]
[1960,"Miscellaneous Equipment ",null,null,null,null,0,0,0,0,null,0,0,null,0]
[1970,"Load Management Controls - Customer Premises",null,null,null,null,0,0,0,0,null,0,0,null,0]
[1975,"Load Management Controls Utility Premises",null,null,null,null,0,0,0,0,null,0,0,null,0]
[1980,"System Supervisor Equipment",null,null,null,null,0,0,0,0,null,0,0,null,0]
[1985,"Miscellaneous Fixed Assets",null,null,null,null,0,0,0,0,null,0,0,null,0]
[1990,"Other Tangible Property",null,null,null,null,0,0,0,0,null,0,0,null,0]
[1995,"Contributions & Grants",null,null,null,null,0,0,0,0,null,0,0,null,0]
[null,"Total",{"$f":"SUM(C17:C54)","v":0},{"$f":"SUM(D17:D54)","v":0},null,null,null,{"$f":"SUM(H17:H54)","v":0},0,0,0,0,0,0,0]
[]
["Notes:"]
[]
[1,"Board policy of the \"half-year\" rule - the applicant must ensure that additions in the year attract a half-year depreciation expense in the first year.  Deviations from this standard practice must be supported in the application."]
[2,"The applicant must provide an explanation of material variances in evidence."]
[3,"The applicant should ensure that the years for new additions of assets are the asset useful lives determined by management in accordance with the Board's regulatory accounting policies.   The capitalization and depreciation expense accounting changes should be implemented consistent with the Board’s regulatory accounting policies as set out for MIFRS as contained in the Report of the Board, Transition to International Financial Reporting Standards, EB-2008-0408, the Kinectrics Report, and the Revised 2012 Accounting Procedures Handbook for Electricity Distributors."]
[4,"A recalculation should be performed to determine the average remaining life of opening balance of assets (i.e. excluding 2013 additions) under the change in policies under CGAAP.  For example, Asset A had a useful life of 20 years under CGAAP without the change in policies.  On January 1, 2013, the effective date of the changes in policies, Asset A was 3 years depreciated. As a result, Asset A would have a remaining service life of 17 years (20 years less 3 years) as of January 1, 2013.  Due to making the change in policies under CGAAP, management re-assessed the asset useful lives and concluded that the revised useful life of Asset A is now 30 years. Therefore, the average remaining useful life of the opening balance of Asset A is determined to be 27 years (30 years less 3 years) under the revised CGAAP as of January 1, 2013."]
[5," NBV must exclude assets still on the books but which have been fully amortized or depreciated."]
[6,"This column refers to the calculated full year depreciation but excludes the depreciation expense on assets fully depreciated during the year.  This column is used for the purpose of calculating depreciation expense in the following year on the next worksheet."]
[]
["General:","Applicants must provide a breakdown of depreciation and amortization expense in the above format for all relevant accounts.  Asset Retirement Obligations (AROs), depreciation and accretion expense should be disclosed separately consistent with the Notes of historical Audited Financial Statements."]

{"sheet":"App.2-CH_MIFRS_DepExp_2014","index":26,"n_rows":64,"n_cols":11,"rows_kept":64,"cut":false,"hidden":true,"merged":[[59,1,59,10],[60,1,60,10],[61,1,61,10],[63,1,64,10],[8,0,8,10],[9,0,9,10],[14,0,15,0],[14,1,15,1],[14,6,15,6],[14,9,15,9],[10,0,10,10],[56,1,56,4]]}
[null,null,null,null,null,null,null,null,null,"File Number:",{"$f":"EBNUMBER","v":{"$error":"#NAME?"}}]
[null,null,null,null,null,null,null,null,null,"Exhibit:"]
[null,null,null,null,null,null,null,null,null,"Tab:"]
[null,null,null,null,null,null,null,null,null,"Schedule:"]
[null,null,null,null,null,null,null,null,null,"Page:"]
[]
[null,null,null,null,null,null,null,null,null,"Date:"]
[]
["Appendix 2-CP"]
["Depreciation and Amortization Expense"]
["Assumes the applicant made capitalization and depreciation expense accounting policy changes under CGAAP effective January 1, 2013 and will adopt IFRS for financial reporting purposes effective January 1, 2015."]
[]
[null,null,null,null,2014,"MIFRS"]
[]
["Account","Description","Additions","Years (new additions only)","Depreciation Rate on New Additions","2014 Depreciation Expense 1","2014 Depreciation Expense per Apppendix 2-BA Fixed Assets, Column J\n (l)","Variance 2","Depreciation Expense on 2014 Full Year Additions","Less Depreciation Expense on Assets Fully Depreciated during the year\n(o)","2014 Full Year Depreciation 3"]
[null,null,"(d)","(f)","(g) = 1 / (f)","(h)=2013 Full Year Deprecation + ((d)*0.5)/(f) ",null,"(m) = (h) - (l)","(n)=((d))/(f) ",null,"(p) = 2013 Full Year Depreciation  + (n) - (o)"]
[1611,"Computer Software (Formally known as Account 1925)",null,null,{"$f":"IF(D17=0,0,1/D17)","v":0},{"$f":"IF(D17=0,+'App.2-CG_NewCGAAP_DepExp_2013'!O17,+'App.2-CG_NewCGAAP_DepExp_2013'!O17+((C17*0.5)/D17))","v":0},null,{"$f":"IF(ISERROR(+F17-G17), 0, +F17-G17)","v":0},{"$f":"IF(D17=0,0,+(C17)/D17)","v":0},null,{"$f":"IF(ISERROR(+I17+'App.2-CG_NewCGAAP_DepExp_2013'!O17-J17), 0, +I17+'App.2-CG_NewCGAAP_DepExp_2013'!O17-J17)","v":0}]
[1612,"Land Rights (Formally known as Account 1906)",null,null,0,{"$f":"IF(D18=0,+'App.2-CG_NewCGAAP_DepExp_2013'!O18,+'App.2-CG_NewCGAAP_DepExp_2013'!O18+((C18*0.5)/D18))","v":0},null,0,0,null,{"$f":"IF(ISERROR(+I18+'App.2-CG_NewCGAAP_DepExp_2013'!O18-J18), 0, +I18+'App.2-CG_NewCGAAP_DepExp_2013'!O18-J18)","v":0}]
[1805,"Land",null,null,0,{"$f":"IF(D19=0,+'App.2-CG_NewCGAAP_DepExp_2013'!O19,+'App.2-CG_NewCGAAP_DepExp_2013'!O19+((C19*0.5)/D19))","v":0},null,0,0,null,{"$f":"IF(ISERROR(+I19+'App.2-CG_NewCGAAP_DepExp_2013'!O19-J19), 0, +I19+'App.2-CG_NewCGAAP_DepExp_2013'!O19-J19)","v":0}]
[1808,"Buildings",null,null,0,{"$f":"IF(D20=0,+'App.2-CG_NewCGAAP_DepExp_2013'!O20,+'App.2-CG_NewCGAAP_DepExp_2013'!O20+((C20*0.5)/D20))","v":0},null,0,0,null,{"$f":"IF(ISERROR(+I20+'App.2-CG_NewCGAAP_DepExp_2013'!O20-J20), 0, +I20+'App.2-CG_NewCGAAP_DepExp_2013'!O20-J20)","v":0}]
[1810,"Leasehold Improvements",null,null,0,{"$f":"IF(D21=0,+'App.2-CG_NewCGAAP_DepExp_2013'!O21,+'App.2-CG_NewCGAAP_DepExp_2013'!O21+((C21*0.5)/D21))","v":0},null,0,0,null,{"$f":"IF(ISERROR(+I21+'App.2-CG_NewCGAAP_DepExp_2013'!O21-J21), 0, +I21+'App.2-CG_NewCGAAP_DepExp_2013'!O21-J21)","v":0}]
[1815,"Transformer Station Equipment >50 kV",null,null,0,{"$f":"IF(D22=0,+'App.2-CG_NewCGAAP_DepExp_2013'!O22,+'App.2-CG_NewCGAAP_DepExp_2013'!O22+((C22*0.5)/D22))","v":0},null,0,0,null,{"$f":"IF(ISERROR(+I22+'App.2-CG_NewCGAAP_DepExp_2013'!O22-J22), 0, +I22+'App.2-CG_NewCGAAP_DepExp_2013'!O22-J22)","v":0}]
[1820,"Distribution Station Equipment <50 kV",null,null,0,{"$f":"IF(D23=0,+'App.2-CG_NewCGAAP_DepExp_2013'!O23,+'App.2-CG_NewCGAAP_DepExp_2013'!O23+((C23*0.5)/D23))","v":0},null,0,0,null,{"$f":"IF(ISERROR(+I23+'App.2-CG_NewCGAAP_DepExp_2013'!O23-J23), 0, +I23+'App.2-CG_NewCGAAP_DepExp_2013'!O23-J23)","v":0}]
[1825,"Storage Battery Equipment",null,null,0,{"$f":"IF(D24=0,+'App.2-CG_NewCGAAP_DepExp_2013'!O24,+'App.2-CG_NewCGAAP_DepExp_2013'!O24+((C24*0.5)/D24))","v":0},null,0,0,null,{"$f":"IF(ISERROR(+I24+'App.2-CG_NewCGAAP_DepExp_2013'!O24-J24), 0, +I24+'App.2-CG_NewCGAAP_DepExp_2013'!O24-J24)","v":0}]
[1830,"Poles, Towers & Fixtures",null,null,0,{"$f":"IF(D25=0,+'App.2-CG_NewCGAAP_DepExp_2013'!O25,+'App.2-CG_NewCGAAP_DepExp_2013'!O25+((C25*0.5)/D25))","v":0},null,0,0,null,{"$f":"IF(ISERROR(+I25+'App.2-CG_NewCGAAP_DepExp_2013'!O25-J25), 0, +I25+'App.2-CG_NewCGAAP_DepExp_2013'!O25-J25)","v":0}]
[1835,"Overhead Conductors & Devices",null,null,0,{"$f":"IF(D26=0,+'App.2-CG_NewCGAAP_DepExp_2013'!O26,+'App.2-CG_NewCGAAP_DepExp_2013'!O26+((C26*0.5)/D26))","v":0},null,0,0,null,{"$f":"IF(ISERROR(+I26+'App.2-CG_NewCGAAP_DepExp_2013'!O26-J26), 0, +I26+'App.2-CG_NewCGAAP_DepExp_2013'!O26-J26)","v":0}]
[1840,"Underground Conduit",null,null,0,{"$f":"IF(D27=0,+'App.2-CG_NewCGAAP_DepExp_2013'!O27,+'App.2-CG_NewCGAAP_DepExp_2013'!O27+((C27*0.5)/D27))","v":0},null,0,0,null,{"$f":"IF(ISERROR(+I27+'App.2-CG_NewCGAAP_DepExp_2013'!O27-J27), 0, +I27+'App.2-CG_NewCGAAP_DepExp_2013'!O27-J27)","v":0}]
[1845,"Underground Conductors & Devices",null,null,0,{"$f":"IF(D28=0,+'App.2-CG_NewCGAAP_DepExp_2013'!O28,+'App.2-CG_NewCGAAP_DepExp_2013'!O28+((C28*0.5)/D28))","v":0},null,0,0,null,{"$f":"IF(ISERROR(+I28+'App.2-CG_NewCGAAP_DepExp_2013'!O28-J28), 0, +I28+'App.2-CG_NewCGAAP_DepExp_2013'!O28-J28)","v":0}]
[1850,"Line Transformers",null,null,0,{"$f":"IF(D29=0,+'App.2-CG_NewCGAAP_DepExp_2013'!O29,+'App.2-CG_NewCGAAP_DepExp_2013'!O29+((C29*0.5)/D29))","v":0},null,0,0,null,{"$f":"IF(ISERROR(+I29+'App.2-CG_NewCGAAP_DepExp_2013'!O29-J29), 0, +I29+'App.2-CG_NewCGAAP_DepExp_2013'!O29-J29)","v":0}]
[1855,"Services (Overhead & Underground)",null,null,0,{"$f":"IF(D30=0,+'App.2-CG_NewCGAAP_DepExp_2013'!O30,+'App.2-CG_NewCGAAP_DepExp_2013'!O30+((C30*0.5)/D30))","v":0},null,0,0,null,{"$f":"IF(ISERROR(+I30+'App.2-CG_NewCGAAP_DepExp_2013'!O30-J30), 0, +I30+'App.2-CG_NewCGAAP_DepExp_2013'!O30-J30)","v":0}]
[1860,"Meters",null,null,0,{"$f":"IF(D31=0,+'App.2-CG_NewCGAAP_DepExp_2013'!O31,+'App.2-CG_NewCGAAP_DepExp_2013'!O31+((C31*0.5)/D31))","v":0},null,0,0,null,{"$f":"IF(ISERROR(+I31+'App.2-CG_NewCGAAP_DepExp_2013'!O31-J31), 0, +I31+'App.2-CG_NewCGAAP_DepExp_2013'!O31-J31)","v":0}]
[1860,"Meters (Smart Meters)",null,null,0,{"$f":"IF(D32=0,+'App.2-CG_NewCGAAP_DepExp_2013'!O32,+'App.2-CG_NewCGAAP_DepExp_2013'!O32+((C32*0.5)/D32))","v":0},null,0,0,null,{"$f":"IF(ISERROR(+I32+'App.2-CG_NewCGAAP_DepExp_2013'!O32-J32), 0, +I32+'App.2-CG_NewCGAAP_DepExp_2013'!O32-J32)","v":0}]
[1905,"Land",null,null,0,{"$f":"IF(D33=0,+'App.2-CG_NewCGAAP_DepExp_2013'!O33,+'App.2-CG_NewCGAAP_DepExp_2013'!O33+((C33*0.5)/D33))","v":0},null,0,0,null,{"$f":"IF(ISERROR(+I33+'App.2-CG_NewCGAAP_DepExp_2013'!O33-J33), 0, +I33+'App.2-CG_NewCGAAP_DepExp_2013'!O33-J33)","v":0}]
[1908,"Buildings & Fixtures",null,null,0,{"$f":"IF(D34=0,+'App.2-CG_NewCGAAP_DepExp_2013'!O34,+'App.2-CG_NewCGAAP_DepExp_2013'!O34+((C34*0.5)/D34))","v":0},null,0,0,null,{"$f":"IF(ISERROR(+I34+'App.2-CG_NewCGAAP_DepExp_2013'!O34-J34), 0, +I34+'App.2-CG_NewCGAAP_DepExp_2013'!O34-J34)","v":0}]
[1910,"Leasehold Improvements",null,null,0,{"$f":"IF(D35=0,+'App.2-CG_NewCGAAP_DepExp_2013'!O35,+'App.2-CG_NewCGAAP_DepExp_2013'!O35+((C35*0.5)/D35))","v":0},null,0,0,null,{"$f":"IF(ISERROR(+I35+'App.2-CG_NewCGAAP_DepExp_2013'!O35-J35), 0, +I35+'App.2-CG_NewCGAAP_DepExp_2013'!O35-J35)","v":0}]
[1915,"Office Furniture & Equipment (10 years)",null,null,0,{"$f":"IF(D36=0,+'App.2-CG_NewCGAAP_DepExp_2013'!O36,+'App.2-CG_NewCGAAP_DepExp_2013'!O36+((C36*0.5)/D36))","v":0},null,0,0,null,{"$f":"IF(ISERROR(+I36+'App.2-CG_NewCGAAP_DepExp_2013'!O36-J36), 0, +I36+'App.2-CG_NewCGAAP_DepExp_2013'!O36-J36)","v":0}]
[1915,"Office Furniture & Equipment (5 years)",null,null,0,{"$f":"IF(D37=0,+'App.2-CG_NewCGAAP_DepExp_2013'!O37,+'App.2-CG_NewCGAAP_DepExp_2013'!O37+((C37*0.5)/D37))","v":0},null,0,0,null,{"$f":"IF(ISERROR(+I37+'App.2-CG_NewCGAAP_DepExp_2013'!O37-J37), 0, +I37+'App.2-CG_NewCGAAP_DepExp_2013'!O37-J37)","v":0}]
[1920,"Computer Equipment - Hardware",null,null,0,{"$f":"IF(D38=0,+'App.2-CG_NewCGAAP_DepExp_2013'!O38,+'App.2-CG_NewCGAAP_DepExp_2013'!O38+((C38*0.5)/D38))","v":0},null,0,0,null,{"$f":"IF(ISERROR(+I38+'App.2-CG_NewCGAAP_DepExp_2013'!O38-J38), 0, +I38+'App.2-CG_NewCGAAP_DepExp_2013'!O38-J38)","v":0}]
[1920,"Computer Equip.-Hardware(Post Mar. 22/04)",null,null,0,{"$f":"IF(D39=0,+'App.2-CG_NewCGAAP_DepExp_2013'!O39,+'App.2-CG_NewCGAAP_DepExp_2013'!O39+((C39*0.5)/D39))","v":0},null,0,0,null,{"$f":"IF(ISERROR(+I39+'App.2-CG_NewCGAAP_DepExp_2013'!O39-J39), 0, +I39+'App.2-CG_NewCGAAP_DepExp_2013'!O39-J39)","v":0}]
[1920,"Computer Equip.-Hardware(Post Mar. 19/07)",null,null,0,{"$f":"IF(D40=0,+'App.2-CG_NewCGAAP_DepExp_2013'!O40,+'App.2-CG_NewCGAAP_DepExp_2013'!O40+((C40*0.5)/D40))","v":0},null,0,0,null,{"$f":"IF(ISERROR(+I40+'App.2-CG_NewCGAAP_DepExp_2013'!O40-J40), 0, +I40+'App.2-CG_NewCGAAP_DepExp_2013'!O40-J40)","v":0}]
[1930,"Transportation Equipment",null,null,0,{"$f":"IF(D41=0,+'App.2-CG_NewCGAAP_DepExp_2013'!O41,+'App.2-CG_NewCGAAP_DepExp_2013'!O41+((C41*0.5)/D41))","v":0},null,0,0,null,{"$f":"IF(ISERROR(+I41+'App.2-CG_NewCGAAP_DepExp_2013'!O41-J41), 0, +I41+'App.2-CG_NewCGAAP_DepExp_2013'!O41-J41)","v":0}]
[1935,"Stores Equipment",null,null,0,{"$f":"IF(D42=0,+'App.2-CG_NewCGAAP_DepExp_2013'!O42,+'App.2-CG_NewCGAAP_DepExp_2013'!O42+((C42*0.5)/D42))","v":0},null,0,0,null,{"$f":"IF(ISERROR(+I42+'App.2-CG_NewCGAAP_DepExp_2013'!O42-J42), 0, +I42+'App.2-CG_NewCGAAP_DepExp_2013'!O42-J42)","v":0}]
[1940,"Tools, Shop & Garage Equipment",null,null,0,{"$f":"IF(D43=0,+'App.2-CG_NewCGAAP_DepExp_2013'!O43,+'App.2-CG_NewCGAAP_DepExp_2013'!O43+((C43*0.5)/D43))","v":0},null,0,0,null,{"$f":"IF(ISERROR(+I43+'App.2-CG_NewCGAAP_DepExp_2013'!O43-J43), 0, +I43+'App.2-CG_NewCGAAP_DepExp_2013'!O43-J43)","v":0}]
[1945,"Measurement & Testing Equipment",null,null,0,{"$f":"IF(D44=0,+'App.2-CG_NewCGAAP_DepExp_2013'!O44,+'App.2-CG_NewCGAAP_DepExp_2013'!O44+((C44*0.5)/D44))","v":0},null,0,0,null,{"$f":"IF(ISERROR(+I44+'App.2-CG_NewCGAAP_DepExp_2013'!O44-J44), 0, +I44+'App.2-CG_NewCGAAP_DepExp_2013'!O44-J44)","v":0}]
[1950,"Power Operated Equipment",null,null,0,{"$f":"IF(D45=0,+'App.2-CG_NewCGAAP_DepExp_2013'!O45,+'App.2-CG_NewCGAAP_DepExp_2013'!O45+((C45*0.5)/D45))","v":0},null,0,0,null,{"$f":"IF(ISERROR(+I45+'App.2-CG_NewCGAAP_DepExp_2013'!O45-J45), 0, +I45+'App.2-CG_NewCGAAP_DepExp_2013'!O45-J45)","v":0}]
[1955,"Communications Equipment",null,null,0,{"$f":"IF(D46=0,+'App.2-CG_NewCGAAP_DepExp_2013'!O46,+'App.2-CG_NewCGAAP_DepExp_2013'!O46+((C46*0.5)/D46))","v":0},null,0,0,null,{"$f":"IF(ISERROR(+I46+'App.2-CG_NewCGAAP_DepExp_2013'!O46-J46), 0, +I46+'App.2-CG_NewCGAAP_DepExp_2013'!O46-J46)","v":0}]
[1955,"Communication Equipment (Smart Meters)",null,null,0,{"$f":"IF(D47=0,+'App.2-CG_NewCGAAP_DepExp_2013'!O47,+'App.2-CG_NewCGAAP_DepExp_2013'!O47+((C47*0.5)/D47))","v":0},null,0,0,null,{"$f":"IF(ISERROR(+I47+'App.2-CG_NewCGAAP_DepExp_2013'!O47-J47), 0, +I47+'App.2-CG_NewCGAAP_DepExp_2013'!O47-J47)","v":0}]
[1960,"Miscellaneous Equipment ",null,null,0,{"$f":"IF(D48=0,+'App.2-CG_NewCGAAP_DepExp_2013'!O48,+'App.2-CG_NewCGAAP_DepExp_2013'!O48+((C48*0.5)/D48))","v":0},null,0,0,null,{"$f":"IF(ISERROR(+I48+'App.2-CG_NewCGAAP_DepExp_2013'!O48-J48), 0, +I48+'App.2-CG_NewCGAAP_DepExp_2013'!O48-J48)","v":0}]
[1970,"Load Management Controls - Customer Premises",null,null,0,{"$f":"IF(D49=0,+'App.2-CG_NewCGAAP_DepExp_2013'!O49,+'App.2-CG_NewCGAAP_DepExp_2013'!O49+((C49*0.5)/D49))","v":0},null,0,0,null,{"$f":"IF(ISERROR(+I49+'App.2-CG_NewCGAAP_DepExp_2013'!O49-J49), 0, +I49+'App.2-CG_NewCGAAP_DepExp_2013'!O49-J49)","v":0}]
[1975,"Load Management Controls Utility Premises",null,null,0,{"$f":"IF(D50=0,+'App.2-CG_NewCGAAP_DepExp_2013'!O50,+'App.2-CG_NewCGAAP_DepExp_2013'!O50+((C50*0.5)/D50))","v":0},null,0,0,null,{"$f":"IF(ISERROR(+I50+'App.2-CG_NewCGAAP_DepExp_2013'!O50-J50), 0, +I50+'App.2-CG_NewCGAAP_DepExp_2013'!O50-J50)","v":0}]
[1980,"System Supervisor Equipment",null,null,0,{"$f":"IF(D51=0,+'App.2-CG_NewCGAAP_DepExp_2013'!O51,+'App.2-CG_NewCGAAP_DepExp_2013'!O51+((C51*0.5)/D51))","v":0},null,0,0,null,{"$f":"IF(ISERROR(+I51+'App.2-CG_NewCGAAP_DepExp_2013'!O51-J51), 0, +I51+'App.2-CG_NewCGAAP_DepExp_2013'!O51-J51)","v":0}]
[1985,"Miscellaneous Fixed Assets",null,null,0,{"$f":"IF(D52=0,+'App.2-CG_NewCGAAP_DepExp_2013'!O52,+'App.2-CG_NewCGAAP_DepExp_2013'!O52+((C52*0.5)/D52))","v":0},null,0,0,null,{"$f":"IF(ISERROR(+I52+'App.2-CG_NewCGAAP_DepExp_2013'!O52-J52), 0, +I52+'App.2-CG_NewCGAAP_DepExp_2013'!O52-J52)","v":0}]
[1990,"Other Tangible Property",null,null,0,{"$f":"IF(D53=0,+'App.2-CG_NewCGAAP_DepExp_2013'!O53,+'App.2-CG_NewCGAAP_DepExp_2013'!O53+((C53*0.5)/D53))","v":0},null,0,0,null,{"$f":"IF(ISERROR(+I53+'App.2-CG_NewCGAAP_DepExp_2013'!O53-J53), 0, +I53+'App.2-CG_NewCGAAP_DepExp_2013'!O53-J53)","v":0}]
[null,null,null,null,0,{"$f":"IF(D54=0,+'App.2-CG_NewCGAAP_DepExp_2013'!O54,+'App.2-CG_NewCGAAP_DepExp_2013'!O54+((C54*0.5)/D54))","v":0},null,0,0,null,{"$f":"IF(ISERROR(+I54+'App.2-CG_NewCGAAP_DepExp_2013'!O54-J54), 0, +I54+'App.2-CG_NewCGAAP_DepExp_2013'!O54-J54)","v":0}]
[null,"Total",{"$f":"SUM(C17:C54)","v":0},null,null,{"$f":"SUM(F17:F54)","v":0},0,0,0,0,0]
[null,"Depreciation exp. adj. from gain or loss on the retirement of assets (pool of like assets)"]
[null,"Total Depreciation Expense",null,null,null,{"$f":"SUM(F55:F56)","v":0}]
[]
["Notes:"]
[1,"Board policy of the \"half-year\" rule - the applicant must ensure that additions in the year attract a half-year depreciation expense in the first year.  Deviations from this standard practice must be supported in the application."]
[2,"The applicant must provide an explanation of material variances in evidence."]
[3,"This column refers to the calculated full year depreciation but excludes the depreciation expense on assets fully depreciated during the year.  This column is used for the purpose of calculating depreciation expense in the following year on the next worksheet."]
[]
["General:","Applicants must provide a breakdown of depreciation and amortization expense in the above format for all relevant accounts.  Asset Retirement Obligations (AROs), depreciation and accretion expense should be disclosed separately consistent with the Notes of historical Audited Financial Statements."]

{"sheet":"App.2-CI MIFRS_DepExp_2015","index":27,"n_rows":62,"n_cols":8,"rows_kept":62,"cut":false,"hidden":true,"merged":[[60,1,60,8],[61,1,62,7],[58,1,58,7],[59,1,59,8],[56,1,56,4],[10,0,10,7],[9,0,9,8],[14,1,15,1],[14,6,15,6],[8,0,8,7]]}
[null,null,null,null,null,null,"File Number:",{"$f":"EBNUMBER","v":{"$error":"#NAME?"}}]
[null,null,null,null,null,null,"Exhibit:"]
[null,null,null,null,null,null,"Tab:"]
[null,null,null,null,null,null,"Schedule:"]
[null,null,null,null,null,null,"Page:"]
[]
[null,null,null,null,null,null,"Date:"]
[]
["Appendix 2-CQ"]
["Depreciation and Amortization Expense"]
["Assumes the applicant made capitalization and depreciation expense accounting policy changes under CGAAP effective January 1, 2013 and will adopt IFRS for financial reporting purposes effective January 1, 2015."]
[]
[null,null,null,2015,"MIFRS"]
[]
["Account","Description","Additions","Years (new additions only)","Depreciation Rate on New Additions","2015 Depreciation Expense 1","2015 Depreciation Expense per Appendix 2-BA Fixed Assets, Column J\n (l)","Variance 2"]
[null,null,"(d)","(f)","(g) = 1 / (f)","(h)=2014 Full Year Depreciation + ((d)*0.5)/(f) ",null,"(m) = (h) - (l)"]
[1611,"Computer Software (Formally known as Account 1925)",null,null,{"$f":"IF(D17=0,0,1/D17)","v":0},{"$f":"IF(D17=0,'App.2-CH_MIFRS_DepExp_2014'!K17,+'App.2-CH_MIFRS_DepExp_2014'!K17+((C17*0.5)/D17))","v":0},null,{"$f":"IF(ISERROR(+F17-G17), 0, +F17-G17)","v":0}]
[1612,"Land Rights (Formally known as Account 1906)",null,null,0,{"$f":"IF(D18=0,'App.2-CH_MIFRS_DepExp_2014'!K18,+'App.2-CH_MIFRS_DepExp_2014'!K18+((C18*0.5)/D18))","v":0},null,0]
[1805,"Land",null,null,0,{"$f":"IF(D19=0,'App.2-CH_MIFRS_DepExp_2014'!K19,+'App.2-CH_MIFRS_DepExp_2014'!K19+((C19*0.5)/D19))","v":0},null,0]
[1808,"Buildings",null,null,0,{"$f":"IF(D20=0,'App.2-CH_MIFRS_DepExp_2014'!K20,+'App.2-CH_MIFRS_DepExp_2014'!K20+((C20*0.5)/D20))","v":0},null,0]
[1810,"Leasehold Improvements",null,null,0,{"$f":"IF(D21=0,'App.2-CH_MIFRS_DepExp_2014'!K21,+'App.2-CH_MIFRS_DepExp_2014'!K21+((C21*0.5)/D21))","v":0},null,0]
[1815,"Transformer Station Equipment >50 kV",null,null,0,{"$f":"IF(D22=0,'App.2-CH_MIFRS_DepExp_2014'!K22,+'App.2-CH_MIFRS_DepExp_2014'!K22+((C22*0.5)/D22))","v":0},null,0]
[1820,"Distribution Station Equipment <50 kV",null,null,0,{"$f":"IF(D23=0,'App.2-CH_MIFRS_DepExp_2014'!K23,+'App.2-CH_MIFRS_DepExp_2014'!K23+((C23*0.5)/D23))","v":0},null,0]
[1825,"Storage Battery Equipment",null,null,0,{"$f":"IF(D24=0,'App.2-CH_MIFRS_DepExp_2014'!K24,+'App.2-CH_MIFRS_DepExp_2014'!K24+((C24*0.5)/D24))","v":0},null,0]
[1830,"Poles, Towers & Fixtures",null,null,0,{"$f":"IF(D25=0,'App.2-CH_MIFRS_DepExp_2014'!K25,+'App.2-CH_MIFRS_DepExp_2014'!K25+((C25*0.5)/D25))","v":0},null,0]
[1835,"Overhead Conductors & Devices",null,null,0,{"$f":"IF(D26=0,'App.2-CH_MIFRS_DepExp_2014'!K26,+'App.2-CH_MIFRS_DepExp_2014'!K26+((C26*0.5)/D26))","v":0},null,0]
[1840,"Underground Conduit",null,null,0,{"$f":"IF(D27=0,'App.2-CH_MIFRS_DepExp_2014'!K27,+'App.2-CH_MIFRS_DepExp_2014'!K27+((C27*0.5)/D27))","v":0},null,0]
[1845,"Underground Conductors & Devices",null,null,0,{"$f":"IF(D28=0,'App.2-CH_MIFRS_DepExp_2014'!K28,+'App.2-CH_MIFRS_DepExp_2014'!K28+((C28*0.5)/D28))","v":0},null,0]
[1850,"Line Transformers",null,null,0,{"$f":"IF(D29=0,'App.2-CH_MIFRS_DepExp_2014'!K29,+'App.2-CH_MIFRS_DepExp_2014'!K29+((C29*0.5)/D29))","v":0},null,0]
[1855,"Services (Overhead & Underground)",null,null,0,{"$f":"IF(D30=0,'App.2-CH_MIFRS_DepExp_2014'!K30,+'App.2-CH_MIFRS_DepExp_2014'!K30+((C30*0.5)/D30))","v":0},null,0]
[1860,"Meters",null,null,0,{"$f":"IF(D31=0,'App.2-CH_MIFRS_DepExp_2014'!K31,+'App.2-CH_MIFRS_DepExp_2014'!K31+((C31*0.5)/D31))","v":0},null,0]
[1860,"Meters (Smart Meters)",null,null,0,{"$f":"IF(D32=0,'App.2-CH_MIFRS_DepExp_2014'!K32,+'App.2-CH_MIFRS_DepExp_2014'!K32+((C32*0.5)/D32))","v":0},null,0]
[1905,"Land",null,null,0,{"$f":"IF(D33=0,'App.2-CH_MIFRS_DepExp_2014'!K33,+'App.2-CH_MIFRS_DepExp_2014'!K33+((C33*0.5)/D33))","v":0},null,0]
[1908,"Buildings & Fixtures",null,null,0,{"$f":"IF(D34=0,'App.2-CH_MIFRS_DepExp_2014'!K34,+'App.2-CH_MIFRS_DepExp_2014'!K34+((C34*0.5)/D34))","v":0},null,0]
[1910,"Leasehold Improvements",null,null,0,{"$f":"IF(D35=0,'App.2-CH_MIFRS_DepExp_2014'!K35,+'App.2-CH_MIFRS_DepExp_2014'!K35+((C35*0.5)/D35))","v":0},null,0]
[1915,"Office Furniture & Equipment (10 years)",null,null,0,{"$f":"IF(D36=0,'App.2-CH_MIFRS_DepExp_2014'!K36,+'App.2-CH_MIFRS_DepExp_2014'!K36+((C36*0.5)/D36))","v":0},null,0]
[1915,"Office Furniture & Equipment (5 years)",null,null,0,{"$f":"IF(D37=0,'App.2-CH_MIFRS_DepExp_2014'!K37,+'App.2-CH_MIFRS_DepExp_2014'!K37+((C37*0.5)/D37))","v":0},null,0]
[1920,"Computer Equipment - Hardware",null,null,0,{"$f":"IF(D38=0,'App.2-CH_MIFRS_DepExp_2014'!K38,+'App.2-CH_MIFRS_DepExp_2014'!K38+((C38*0.5)/D38))","v":0},null,0]
[1920,"Computer Equip.-Hardware(Post Mar. 22/04)",null,null,0,{"$f":"IF(D39=0,'App.2-CH_MIFRS_DepExp_2014'!K39,+'App.2-CH_MIFRS_DepExp_2014'!K39+((C39*0.5)/D39))","v":0},null,0]
[1920,"Computer Equip.-Hardware(Post Mar. 19/07)",null,null,0,{"$f":"IF(D40=0,'App.2-CH_MIFRS_DepExp_2014'!K40,+'App.2-CH_MIFRS_DepExp_2014'!K40+((C40*0.5)/D40))","v":0},null,0]
[1930,"Transportation Equipment",null,null,0,{"$f":"IF(D41=0,'App.2-CH_MIFRS_DepExp_2014'!K41,+'App.2-CH_MIFRS_DepExp_2014'!K41+((C41*0.5)/D41))","v":0},null,0]
[1935,"Stores Equipment",null,null,0,{"$f":"IF(D42=0,'App.2-CH_MIFRS_DepExp_2014'!K42,+'App.2-CH_MIFRS_DepExp_2014'!K42+((C42*0.5)/D42))","v":0},null,0]
[1940,"Tools, Shop & Garage Equipment",null,null,0,{"$f":"IF(D43=0,'App.2-CH_MIFRS_DepExp_2014'!K43,+'App.2-CH_MIFRS_DepExp_2014'!K43+((C43*0.5)/D43))","v":0},null,0]
[1945,"Measurement & Testing Equipment",null,null,0,{"$f":"IF(D44=0,'App.2-CH_MIFRS_DepExp_2014'!K44,+'App.2-CH_MIFRS_DepExp_2014'!K44+((C44*0.5)/D44))","v":0},null,0]
[1950,"Power Operated Equipment",null,null,0,{"$f":"IF(D45=0,'App.2-CH_MIFRS_DepExp_2014'!K45,+'App.2-CH_MIFRS_DepExp_2014'!K45+((C45*0.5)/D45))","v":0},null,0]
[1955,"Communications Equipment",null,null,0,{"$f":"IF(D46=0,'App.2-CH_MIFRS_DepExp_2014'!K46,+'App.2-CH_MIFRS_DepExp_2014'!K46+((C46*0.5)/D46))","v":0},null,0]
[1955,"Communication Equipment (Smart Meters)",null,null,0,{"$f":"IF(D47=0,'App.2-CH_MIFRS_DepExp_2014'!K47,+'App.2-CH_MIFRS_DepExp_2014'!K47+((C47*0.5)/D47))","v":0},null,0]
[1960,"Miscellaneous Equipment ",null,null,0,{"$f":"IF(D48=0,'App.2-CH_MIFRS_DepExp_2014'!K48,+'App.2-CH_MIFRS_DepExp_2014'!K48+((C48*0.5)/D48))","v":0},null,0]
[1970,"Load Management Controls - Customer Premises",null,null,0,{"$f":"IF(D49=0,'App.2-CH_MIFRS_DepExp_2014'!K49,+'App.2-CH_MIFRS_DepExp_2014'!K49+((C49*0.5)/D49))","v":0},null,0]
[1975,"Load Management Controls Utility Premises",null,null,0,{"$f":"IF(D50=0,'App.2-CH_MIFRS_DepExp_2014'!K50,+'App.2-CH_MIFRS_DepExp_2014'!K50+((C50*0.5)/D50))","v":0},null,0]
[1980,"System Supervisor Equipment",null,null,0,{"$f":"IF(D51=0,'App.2-CH_MIFRS_DepExp_2014'!K51,+'App.2-CH_MIFRS_DepExp_2014'!K51+((C51*0.5)/D51))","v":0},null,0]
[1985,"Miscellaneous Fixed Assets",null,null,0,{"$f":"IF(D52=0,'App.2-CH_MIFRS_DepExp_2014'!K52,+'App.2-CH_MIFRS_DepExp_2014'!K52+((C52*0.5)/D52))","v":0},null,0]
[1990,"Other Tangible Property",null,null,0,{"$f":"IF(D53=0,'App.2-CH_MIFRS_DepExp_2014'!K53,+'App.2-CH_MIFRS_DepExp_2014'!K53+((C53*0.5)/D53))","v":0},null,0]
[1995,"Contributions & Grants",null,null,0,{"$f":"IF(D54=0,'App.2-CH_MIFRS_DepExp_2014'!K54,+'App.2-CH_MIFRS_DepExp_2014'!K54+((C54*0.5)/D54))","v":0},null,0]
[null,"Total",{"$f":"SUM(C17:C54)","v":0},null,null,{"$f":"SUM(F17:F54)","v":0},{"$f":"SUM(G17:G54)","v":0},{"$f":"SUM(H17:H54)","v":0}]
[null,"Depreciation exp. adj. from gain or loss on the retirement of assets (pool of like assets)"]
[null,"Total Depreciation expense to be included in the test year revenue requirement",null,null,null,{"$f":"SUM(F55:F56)","v":0}]
["Notes:"]
[1,"Board policy of the \"half-year\" rule - the applicant must ensure that additions in the year attract a half-year depreciation expense in the first year.  Deviations from this standard practice must be supported in the application."]
[2,"The applicant must provide an explanation of material variances in evidence."]
[]
["General:","Applicants must provide a breakdown of depreciation and amortization expense in the above format for all relevant accounts.  Asset Retirement Obligations (AROs), depreciation and accretion expense should be disclosed separately consistent with the Notes of historical Audited Financial Statements."]

{"sheet":"App.2-EC_Account 1576 (2013)","index":28,"n_rows":47,"n_cols":10,"rows_kept":47,"cut":false,"hidden":true,"merged":[[20,1,20,6],[52,0,53,9],[8,0,8,9],[9,0,9,9],[10,0,10,9],[14,0,14,9],[47,0,47,10],[37,7,38,8],[37,9,38,9],[41,0,41,10],[45,0,45,8],[31,1,31,6],[25,1,26,6],[12,0,12,9]]}
[null,null,null,null,null,null,null,null,"File Number:",{"$f":"EBNUMBER","v":{"$error":"#NAME?"}}]
[null,null,null,null,null,null,null,null,"Exhibit:"]
[null,null,null,null,null,null,null,null,"Tab:"]
[null,null,null,null,null,null,null,null,"Schedule:"]
[null,null,null,null,null,null,null,null,"Page:"]
[]
[null,null,null,null,null,null,null,null,"Date:"]
[]
["Appendix 2-EC"]
["Account 1576 - Accounting Changes under CGAAP"]
["2013 Changes in Accounting Policies under CGAAP"]
[]
["For applicants that made capitalization and depreciation expense accounting policy changes under CGAAP effective January 1, 2013"]
[]
[]
[]
[null,{"$f":"RebaseYear &\" Rebasing Year\"","v":{"$error":"#NAME?"}},2011,2012,2013,2014,"2015 Rebasing Year"]
["Reporting Basis","CGAAP","IRM","IRM","IRM","IRM","MIFRS"]
[null,"Forecast","Actual","Actual","Actual","Forecast","Forecast"]
[null,null,null,null,null,"$","$"]
["PP&E Values under former CGAAP"]
["            Opening net PP&E - Note 1",null,null,null,{"$f":"'App.2-BA_FA Cont 2013 OldCGAAP'!D61","v":25247003.860000003},{"$f":"+E25","v":25803571.600000005}]
["            Net Additions - Note 4",null,null,null,{"$f":"SUM('App.2-BA_FA Cont 2013 OldCGAAP'!E61+'App.2-BA_FA Cont 2013 OldCGAAP'!F61)","v":1287022.8700000001},{"$f":"+'App.2-BA_FA Cont 2014 OldCGAAP'!E57+'App.2-BA_FA Cont 2014 OldCGAAP'!F57","v":580009.96}]
["            Net Depreciation (amounts should be negative) - Note 4",null,null,null,{"$f":"SUM('App.2-BA_FA Cont 2013 OldCGAAP'!J61+'App.2-BA_FA Cont 2013 OldCGAAP'!K61)","v":-730455.13},{"$f":"+'App.2-BA_FA Cont 2014 OldCGAAP'!J57+'App.2-BA_FA Cont 2014 OldCGAAP'!K57","v":-351016.67999999993}]
["            Closing net PP&E (1)",null,null,null,{"$f":"E22+E23+E24","v":25803571.600000005},{"$f":"SUM(F22:F24)","v":26032564.880000006}]
[]
["PP&E Values under revised CGAAP (Starts from 2013)"]
["            Opening net PP&E  - Note 1",null,null,null,{"$f":"'App.2-BA_FA Cont 2013 NewCGAAP'!D60","v":25247003.860000003},{"$f":"+E31","v":25844321.510000005}]
["            Net Additions - Note 4",null,null,null,{"$f":"SUM('App.2-BA_FA Cont 2013 NewCGAAP'!E60+'App.2-BA_FA Cont 2013 NewCGAAP'!F60)","v":1287022.1000000001},{"$f":"+'App.2-BA_FA Cont 2014 NewCGAAP'!E60+'App.2-BA_FA Cont 2014 NewCGAAP'!F60","v":580009.96}]
["            Net Depreciation (amounts should be negative) - Note 4",null,null,null,{"$f":"'App.2-BA_FA Cont 2013 NewCGAAP'!J60+'App.2-BA_FA Cont 2013 NewCGAAP'!K60","v":-689704.45000000019},{"$f":"+'App.2-BA_FA Cont 2014 NewCGAAP'!J60+'App.2-BA_FA Cont 2014 NewCGAAP'!K60","v":-306398}]
["            Closing net PP&E (2)",null,null,null,{"$f":"SUM(E28:E30)","v":25844321.510000005},{"$f":"SUM(F28:F30)","v":26117933.470000006}]
[]
["Difference in Closing net PP&E, former CGAAP vs. revised CGAAP ",null,null,null,{"$f":"E25-E31","v":-40749.910000000149},{"$f":"F25-F31","v":-85368.589999999851}]
[null,null,null,null,null,{"$f":"F33-E33","v":-44618.679999999702}]
[]
["Effect on Deferral and Variance Account Rate Riders"]
["Closing balance in Account 1576",null,null,null,null,null,{"$f":"IF(ISERROR(F33), 0, F33)","v":-85368.589999999851},null,"WACC",7.8663999999999998E-2]
["Return on Rate Base Associated with Account 1576 balance at WACC  - Note 2",null,null,null,null,null,{"$f":"F33*J37*J38","v":-6715.4347637599885},"# of years of rate rider disposition period",null,1]
["     Amount included in Deferral and Variance Account Rate Rider Calculation",null,null,null,null,null,{"$f":"G37+G38","v":-92084.024763759837}]
[]
["Notes:"]
["1  For an applicant that made the capitalization and depreciation expense accounting policy changes on January 1, 2013, the PP&E values as of January 1, 2013 under both former CGAAP and revised CGAAP should be the same. "]
["2 Return on rate base associated with Account 1576 balance is calculated as:"]
["     the variance account opening balance as of 2015 rebasing year x WACC X # of years of rate rider disposition period"]
["     * Please note that the calculation should be adjusted once WACC is updated and finalized in the rate application."]
["3  Account 1576 is cleared by including the total balance in the deferral and variance account rate rider calculation."]
["4  Net additions are additions net of disposals; Net depreciation is additions to depreciation net of disposals."]

{"sheet":"App.2-EC_Account 1576 (2014)","index":29,"n_rows":47,"n_cols":10,"rows_kept":47,"cut":false,"hidden":true,"merged":[[47,0,47,10],[52,0,53,9],[25,1,26,6],[31,1,31,6],[37,7,38,8],[37,9,38,9],[41,0,41,10],[45,0,45,8],[20,1,20,6],[8,0,8,9],[9,0,9,9],[10,0,10,9],[12,0,12,9],[14,0,14,9]]}
[null,null,null,null,null,null,null,null,"File Number:",{"$f":"EBNUMBER","v":{"$error":"#NAME?"}}]
[null,null,null,null,null,null,null,null,"Exhibit:"]
[null,null,null,null,null,null,null,null,"Tab:"]
[null,null,null,null,null,null,null,null,"Schedule:"]
[null,null,null,null,null,null,null,null,"Page:"]
[]
[null,null,null,null,null,null,null,null,"Date:"]
[]
["Appendix 2-EC"]
["Account 1576 - Accounting Changes under CGAAP"]
["2013 Changes in Accounting Policies under CGAAP"]
[]
["For applicants that made capitalization and depreciation expense accounting policy changes under CGAAP effective January 1, 2013"]
[]
[]
[]
[null,{"$f":"RebaseYear &\" Rebasing Year\"","v":{"$error":"#NAME?"}},2011,2012,2013,2014,"2015 Rebasing Year"]
["Reporting Basis","CGAAP","IRM","IRM","IRM","IRM","MIFRS"]
[null,"Forecast","Actual","Actual","Actual","Forecast","Forecast"]
[null,null,null,null,null,"$","$"]
["PP&E Values under former CGAAP"]
["            Opening net PP&E - Note 1",null,null,null,{"$f":"'App.2-BA_FA Cont 2013 OldCGAAP'!D61","v":25247003.860000003},{"$f":"+E25","v":25803571.600000005},{"$f":"+F25","v":26032564.880000006}]
["            Net Additions - Note 4",null,null,null,{"$f":"SUM('App.2-BA_FA Cont 2013 OldCGAAP'!E61+'App.2-BA_FA Cont 2013 OldCGAAP'!F61)","v":1287022.8700000001},{"$f":"+'App.2-BA_FA Cont 2014 OldCGAAP'!E57+'App.2-BA_FA Cont 2014 OldCGAAP'!F57","v":580009.96}]
["            Net Depreciation (amounts should be negative) - Note 4",null,null,null,{"$f":"SUM('App.2-BA_FA Cont 2013 OldCGAAP'!J61+'App.2-BA_FA Cont 2013 OldCGAAP'!K61)","v":-730455.13},{"$f":"+'App.2-BA_FA Cont 2014 OldCGAAP'!J57+'App.2-BA_FA Cont 2014 OldCGAAP'!K57","v":-351016.67999999993}]
["            Closing net PP&E (1)",null,null,null,{"$f":"E22+E23+E24","v":25803571.600000005},{"$f":"SUM(F22:F24)","v":26032564.880000006}]
[]
["PP&E Values under revised CGAAP (Starts from 2013)"]
["            Opening net PP&E  - Note 1",null,null,null,{"$f":"'App.2-BA_FA Cont 2013 NewCGAAP'!D60","v":25247003.860000003},{"$f":"+E31","v":25844321.510000005}]
["            Net Additions - Note 4",null,null,null,{"$f":"SUM('App.2-BA_FA Cont 2013 NewCGAAP'!E60+'App.2-BA_FA Cont 2013 NewCGAAP'!F60)","v":1287022.1000000001},{"$f":"+'App.2-BA_FA Cont 2014 NewCGAAP'!E60+'App.2-BA_FA Cont 2014 NewCGAAP'!F60","v":580009.96}]
["            Net Depreciation (amounts should be negative) - Note 4",null,null,null,{"$f":"'App.2-BA_FA Cont 2013 NewCGAAP'!J60+'App.2-BA_FA Cont 2013 NewCGAAP'!K60","v":-689704.45000000019},{"$f":"+'App.2-BA_FA Cont 2014 NewCGAAP'!J60+'App.2-BA_FA Cont 2014 NewCGAAP'!K60","v":-306398}]
["            Closing net PP&E (2)",null,null,null,{"$f":"SUM(E28:E30)","v":25844321.510000005},{"$f":"SUM(F28:F30)","v":26117933.470000006}]
[]
["Difference in Closing net PP&E, former CGAAP vs. revised CGAAP ",null,null,null,{"$f":"E25-E31","v":-40749.910000000149},{"$f":"F25-F31","v":-85368.589999999851}]
[null,null,null,null,null,{"$f":"F33-E33","v":-44618.679999999702}]
[]
["Effect on Deferral and Variance Account Rate Riders"]
["Closing balance in Account 1576",null,null,null,null,null,{"$f":"IF(ISERROR(F33), 0, F33)","v":-85368.589999999851},null,"WACC",7.8E-2]
["Return on Rate Base Associated with Account 1576 balance at WACC  - Note 2",null,null,null,null,null,{"$f":"F33*J37*J38","v":-13317.500039999977},"# of years of rate rider disposition period",null,2]
["     Amount included in Deferral and Variance Account Rate Rider Calculation",null,null,null,null,null,{"$f":"G37+G38","v":-98686.090039999835}]
[]
["Notes:"]
["1  For an applicant that made the capitalization and depreciation expense accounting policy changes on January 1, 2013, the PP&E values as of January 1, 2013 under both former CGAAP and revised CGAAP should be the same. "]
["2 Return on rate base associated with Account 1576 balance is calculated as:"]
["     the variance account opening balance as of 2015 rebasing year x WACC X # of years of rate rider disposition period"]
["     * Please note that the calculation should be adjusted once WACC is updated and finalized in the rate application."]
["3  Account 1576 is cleared by including the total balance in the deferral and variance account rate rider calculation."]
["4  Net additions are additions net of disposals; Net depreciation is additions to depreciation net of disposals."]

{"sheet":"App.2-EC_Account 1576 (2013 Rev","index":30,"n_rows":47,"n_cols":10,"rows_kept":47,"cut":false,"hidden":false,"merged":[[47,0,47,10],[52,0,53,9],[25,1,26,6],[31,1,31,6],[37,7,38,8],[37,9,38,9],[41,0,41,10],[45,0,45,8],[20,1,20,6],[8,0,8,9],[9,0,9,9],[10,0,10,9],[12,0,12,9],[14,0,14,9]]}
[null,null,null,null,null,null,null,null,"File Number:",{"$f":"EBNUMBER","v":{"$error":"#NAME?"}}]
[null,null,null,null,null,null,null,null,"Exhibit:"]
[null,null,null,null,null,null,null,null,"Tab:"]
[null,null,null,null,null,null,null,null,"Schedule:"]
[null,null,null,null,null,null,null,null,"Page:"]
[]
[null,null,null,null,null,null,null,null,"Date:"]
[]
["Appendix 2-EC"]
["Account 1576 - Accounting Changes under CGAAP"]
["2013 Changes in Accounting Policies under CGAAP"]
[]
["For applicants that made capitalization and depreciation expense accounting policy changes under CGAAP effective January 1, 2013"]
[]
[]
[]
[null,{"$f":"RebaseYear &\" Rebasing Year\"","v":{"$error":"#NAME?"}},2011,2012,2013,2014,"2015 Rebasing Year"]
["Reporting Basis","CGAAP","IRM","IRM","IRM","IRM","MIFRS"]
[null,"Forecast","Actual","Actual","Actual","Forecast","Forecast"]
[null,null,null,null,null,"$","$"]
["PP&E Values under former CGAAP"]
["            Opening net PP&E - Note 1",null,null,null,7921309,{"$f":"+E25","v":8477877},{"$f":"+F25","v":8718594}]
["            Net Additions - Note 4",null,null,null,1339022,1049402,{"$f":"+'App.2-BA_FA PreCont2015OldCGAAP'!E60","v":711246}]
["            Net Depreciation (amounts should be negative) - Note 4",null,null,null,-782454,-808685,{"$f":"+'App.2-BA_FA PreCont2015OldCGAAP'!J60","v":-904032.9}]
["            Closing net PP&E (1)",null,null,null,{"$f":"E22+E23+E24","v":8477877},{"$f":"SUM(F22:F24)","v":8718594},{"$f":"SUM(G22:G24)","v":8525807.0999999996}]
[]
["PP&E Values under revised CGAAP (Starts from 2013)"]
["            Opening net PP&E  - Note 1",null,null,null,7921309,{"$f":"+E31","v":8518628},{"$f":"+F28","v":8518628}]
["            Net Additions - Note 4",null,null,null,1339022,1049402,{"$f":"+G23","v":711246}]
["            Net Depreciation (amounts should be negative) - Note 4",null,null,null,-741703,-768201,-848911]
["            Closing net PP&E (2)",null,null,null,{"$f":"SUM(E28:E30)","v":8518628},{"$f":"SUM(F28:F30)","v":8799829},{"$f":"SUM(G28:G30)","v":8380963}]
[]
["Difference in Closing net PP&E, former CGAAP vs. revised CGAAP ",null,null,null,{"$f":"E25-E31","v":-40751},{"$f":"F25-F31","v":-81235},{"$f":"G25-G31","v":144844.09999999963}]
[]
[]
["Effect on Deferral and Variance Account Rate Riders"]
["Closing balance in Account 1576",null,null,null,null,null,{"$f":"IF(ISERROR(G33), 0, G33)","v":144844.09999999963},null,"WACC",7.8E-2]
["Return on Rate Base Associated with Account 1576 balance at WACC  - Note 2",null,null,null,null,null,{"$f":"F33*J37*J38","v":-12672.66},"# of years of rate rider disposition period",null,2]
["     Amount included in Deferral and Variance Account Rate Rider Calculation",null,null,null,null,null,{"$f":"G37+G38","v":132171.43999999962}]
[]
["Notes:"]
["1  For an applicant that made the capitalization and depreciation expense accounting policy changes on January 1, 2013, the PP&E values as of January 1, 2013 under both former CGAAP and revised CGAAP should be the same. "]
["2 Return on rate base associated with Account 1576 balance is calculated as:"]
["     the variance account opening balance as of 2015 rebasing year x WACC X # of years of rate rider disposition period"]
["     * Please note that the calculation should be adjusted once WACC is updated and finalized in the rate application."]
["3  Account 1576 is cleared by including the total balance in the deferral and variance account rate rider calculation."]
["4  Net additions are additions net of disposals; Net depreciation is additions to depreciation net of disposals."]

{"sheet":"App.2-EA_1575 (2015)","index":31,"n_rows":47,"n_cols":10,"rows_kept":47,"cut":false,"hidden":false,"merged":[[8,0,8,9],[9,0,9,9],[10,0,10,9],[12,0,12,9],[14,0,14,9],[20,1,20,6],[33,1,33,10],[37,7,38,8],[37,9,38,9],[45,0,45,8],[25,1,26,6]]}
[null,null,null,null,null,null,null,null,"File Number:",{"$f":"EBNUMBER","v":{"$error":"#NAME?"}}]
[null,null,null,null,null,null,null,null,"Exhibit:"]
[null,null,null,null,null,null,null,null,"Tab:"]
[null,null,null,null,null,null,null,null,"Schedule:"]
[null,null,null,null,null,null,null,null,"Page:"]
[]
[null,null,null,null,null,null,null,null,"Date:"]
[]
["Appendix 2-EA"]
["Account 1575 - IFRS-CGAAP Transitional PP&E Amounts"]
["2015 Adopters of IFRS for Financial Reporting Purposes"]
[]
["For applicants that will adopt IFRS on January 1, 2015 for financial reporting purposes"]
[]
[]
[]
[null,{"$f":"RebaseYear &\" Rebasing Year\"","v":{"$error":"#NAME?"}},2011,2012,2013,2014,"2015 Rebasing Year"]
["Reporting Basis","CGAAP","IRM","IRM","IRM","IRM","MIFRS"]
[null,"Forecast","Actual","Actual","Actual","Forecast","Forecast"]
[null,null,null,null,null,"$","$"]
["PP&E Values under CGAAP"]
["            Opening net PP&E - Note 1",null,null,null,null,{"$f":"'App.2-BA_FA Cont 2014 NewCGAAP'!D60","v":26534025.960000001}]
["            Net Additions - Note 4",null,null,null,null,{"$f":"SUM('App.2-BA_FA Cont 2014 NewCGAAP'!E60+'App.2-BA_FA Cont 2014 NewCGAAP'!F60)","v":580009.96}]
["            Net Depreciation (amounts should be negative) - Note 4",null,null,null,null,{"$f":"SUM('App.2-BA_FA Cont 2014 NewCGAAP'!J60+'App.2-BA_FA Cont 2014 NewCGAAP'!K60)","v":-306398}]
["            Closing net PP&E (1)",null,null,null,null,{"$f":"SUM(F22:F24)","v":26807637.920000002}]
[]
["PP&E Values under MIFRS (Starts from 2014, the transition year)"]
["            Opening net PP&E  - Note 1",null,null,null,null,{"$f":"'App.2-BA_FA Cont 2014 MIFRS'!D60","v":26534025.960000001}]
["            Net Additions - Note 4",null,null,null,null,{"$f":"SUM('App.2-BA_FA Cont 2014 MIFRS'!E60+'App.2-BA_FA Cont 2014 MIFRS'!F60)","v":580009.96}]
["            Net Depreciation (amounts should be negative) - Note 4",null,null,null,null,{"$f":"SUM('App.2-BA_FA Cont 2014 MIFRS'!J60+'App.2-BA_FA Cont 2014 MIFRS'!K60)","v":-306398}]
["            Closing net PP&E (2)",null,null,null,null,{"$f":"SUM(F28:F30)","v":26807637.920000002}]
[]
["Difference in Closing net PP&E, CGAAP vs. MIFRS",null,null,null,null,{"$f":"F25-F31","v":0}]
[]
[]
["Effect on Deferral and Variance Account Rate Riders"]
["Closing balance in deferral account",null,null,null,null,null,{"$f":"IF(ISERROR(F33), 0, F33)","v":0},null,"WACC"]
["Return on Rate Base Associated with deferred PP&E balance at WACC  - Note 2",null,null,null,null,null,{"$f":"F33*J37*J38","v":0},"# of years of rate rider disposition period"]
["     Amount included in Deferral and Variance Account Rate Rider Calculation",null,null,null,null,null,{"$f":"G37+G38","v":0}]
[]
["Notes:"]
["1  For an applicant that adopts IFRS on January 1, 2015, the PP&E values as of January 1, 2014 under both CGAAP and MIFRS should be the same. "]
["2 Return on rate base associated with deferred balance is calculated as:"]
["     the deferral account opening balance as of 2015 rebasing year x WACC X # of years of rate rider disposition period"]
["     * Please note that the calculation should be adjusted once WACC is updated and finalized in the rate application."]
["3  The  PP&E deferral account is cleared by including the total balance in the deferral and variance account rate rider calculation."]
["4  Net additions are additions net of disposals; Net depreciation is additions to depreciation net of disposals."]

{"sheet":"App.2-FA Proposed REG Inves (2","index":32,"n_rows":92,"n_cols":7,"rows_kept":92,"cut":false,"hidden":true,"merged":[[16,0,16,6],[17,0,17,6],[8,0,8,6],[9,0,9,6],[11,0,11,6],[12,0,12,6],[13,0,13,5],[14,0,14,5]]}
[null,null,null,null,null,"File Number:",{"$f":"EBNUMBER","v":{"$error":"#NAME?"}}]
[null,null,null,null,null,"Exhibit:"]
[null,null,null,null,null,"Tab:"]
[null,null,null,null,null,"Schedule:"]
[null,null,null,null,null,"Page:"]
[]
[null,null,null,null,null,"Date:"]
[]
["Appendix 2-FA"]
["Renewable Generation Connection Investment Summary (over the rate setting period)"]
[]
["Enter the details of the Renewable Generation Connection projects as described in Section 2.5.2.5 of the Filing Requirements."]
["All costs entered on this page will be transferred to the appropriate cells in the appendices that follow."]
["For Part A, Renewable Enabling Improvements (REI), these amounts will be transferred to Appendix 2 - FB"]
["For Part B, Expansions, these amounts will be transferred to Appendix 2 - FC"]
[]
["If there are more than five projects proposed to be in-service in a certain year, please amend the tables below and ensure that the formulae for the Total Amounts in any given rate year are updated."]
["Based on the current methodology and allocation, amounts allocated represent 6% for REI Connection Investments and 17% for Expansion Investments. (pg 15, EB-2009-0349)"]
[]
[]
["Part A"]
["REI Investments (Direct Benefit at 6%)",null,2015,{"$f":"C22+1","v":2016},{"$f":"D22+1","v":2017},2018,2019]
["Project 1"]
["Name: REI Connection Project"]
["Capital Costs",null,1000,0,1000,0,0]
["OM&A (Start-Up)",null,0,0,0,0,0]
["OM&A (Ongoing)",null,0,0,0,0,0]
[]
["Project 2"]
["Name: REI Connection Project"]
["Capital Costs",null,0,0,0,0,0]
["OM&A (Start-Up)",null,0,0,0,0,0]
["OM&A (Ongoing)",null,0,0,0,0,0]
[]
["Project 3"]
["Name: REI Connection Project"]
["Capital Costs",null,0,0,0,0,0]
["OM&A (Start-Up)",null,0,0,0,0,0]
["OM&A (Ongoing)",null,0,0,0,0,0]
[]
["Project 4"]
["Name: REI Connection Project"]
["Capital Costs",null,0,0,0,0,0]
["OM&A (Start-Up)",null,0,0,0,0,0]
["OM&A (Ongoing)",null,0,0,0,0,0]
[]
["Project 5"]
["Name: REI Connection Project"]
["Capital Costs",null,0,0,0,0,0]
["OM&A (Start-Up)",null,0,0,0,0,0]
["OM&A (Ongoing)",null,0,0,0,0,0]
[]
["Total Capital Costs",null,{"$f":"SUM(C49,C43,C37,C31,C25)","v":1000},{"$f":"SUM(D49,D43,D37,D31,D25)","v":0},1000,0,0]
["Total OM&A (Start-Up)",null,{"$f":"SUM(C50,C44,C38,C32,C26)","v":0},0,0,0,0]
["Total OM&A (Ongoing)",null,{"$f":"SUM(C51,C45,C39,C33,C27)","v":0},0,0,0,0]
[]
[]
["Part B"]
["Expansion Investments (Direct Benefit at 17%)",null,2015,{"$f":"C59+1","v":2016},{"$f":"D59+1","v":2017},2018,2019]
["Project 1"]
["Name: Expansion Connection Project"]
["Capital Costs",null,0,0,0,0,0]
["OM&A (Start-Up)",null,0,0,0,0,0]
["OM&A (Ongoing)",null,0,0,0,0,0]
[]
["Project 2"]
["Name: Expansion Connection Project"]
["Capital Costs",null,0,0,0,0,0]
["OM&A (Start-Up)",null,0,0,0,0,0]
["OM&A (Ongoing)",null,0,0,0,0,0]
[]
["Project 3"]
["Name: Expansion Connection Project"]
["Capital Costs",null,0,0,0,0,0]
["OM&A (Start-Up)",null,0,0,0,0,0]
["OM&A (Ongoing)",null,0,0,0,0,0]
[]
["Project 4"]
["Name: Expansion Connection Project"]
["Capital Costs",null,0,0,0,0,0]
["OM&A (Start-Up)",null,0,0,0,0,0]
["OM&A (Ongoing)",null,0,0,0,0,0]
[]
["Project 5"]
["Name: Expansion Connection Project"]
["Capital Costs",null,0,0,0,0,0]
["OM&A (Start-Up)",null,0,0,0,0,0]
["OM&A (Ongoing)",null,0,0,0,0,0]
[]
["Total Capital Costs",null,{"$f":"SUM(C86,C80,C74,C68,C62)","v":0},{"$f":"SUM(D86,D80,D74,D68,D62)","v":0},0,0,0]
["Total OM&A (Start-Up)",null,{"$f":"SUM(C87,C81,C75,C69,C63)","v":0},0,0,0,0]
["Total OM&A (Ongoing)",null,{"$f":"SUM(C88,C82,C76,C70,C64)","v":0},0,0,0,0]

{"sheet":"App.2-FB Calc of REG Improv (2","index":33,"n_rows":95,"n_cols":18,"rows_kept":95,"cut":false,"hidden":true,"merged":[[51,4,51,5],[51,7,51,8],[51,10,51,11],[51,13,51,14],[51,16,51,17],[16,9,16,11],[16,12,16,14],[16,15,16,17],[46,0,46,11],[48,0,48,11],[49,0,49,1],[8,0,8,6],[9,0,9,6],[11,0,11,6],[12,0,12,6],[13,0,13,6],[16,3,16,5],[16,6,16,8]]}
[null,null,null,null,null,"File Number:",{"$f":"EBNUMBER","v":{"$error":"#NAME?"}}]
[null,null,null,null,null,"Exhibit:"]
[null,null,null,null,null,"Tab:"]
[null,null,null,null,null,"Schedule:"]
[null,null,null,null,null,"Page:"]
[]
[null,null,null,null,null,"Date:"]
[]
["Appendix 2-FB"]
["Calculation of Renewable Generation Connection Direct Benefits/Provincial Amount: Renewable Enabling Improvement Investments"]
[]
["This table will calculate the distributor/provincial shares of the investments entered in Part A of Appendix 2-FA."]
["Enter values in green shaded cells: WCA percentage, debt percentages, interest rates, kWh, tax rates, amortization period, CCA Class and percentage."]
["Rate Riders are not calculated for Test Year as these assets and costs are already in the distributor's rate base/revenue requirement."]
[]
[]
[null,null,null,"2015 Test Year",null,null,2016,null,null,2017,2016,null,2018,null,null,2019]
[null,null,null,null,"Direct Benefit","Provincial",null,"Direct Benefit","Provincial",null,"Direct Benefit","Provincial",null,"Direct Benefit","Provincial",null,"Direct Benefit","Provincial"]
[null,null,null,"Total",0.06,0.94,"Total",0.06,0.94,"Total",0.06,0.94,"Total",0.06,0.94,"Total",0.06,0.94]
["Net Fixed Assets (average)",null,null,{"$f":"D82","v":490},{"$f":"D20*E19","v":29.4},{"$f":"D20*F19","v":460.59999999999997},{"$f":"E82","v":960},{"$f":"G20*H19","v":57.599999999999994},{"$f":"G20*I19","v":902.4},{"$f":"F82","v":1410},{"$f":"J20*K19","v":84.6},{"$f":"J20*L19","v":1325.3999999999999},{"$f":"G82","v":1840},{"$f":"M20*N19","v":110.39999999999999},{"$f":"M20*O19","v":1729.6},{"$f":"H82","v":1760},{"$f":"P20*Q19","v":105.6},{"$f":"P20*R19","v":1654.3999999999999}]
["Incremental OM&A (on-going, N/A for Provincial Recovery)",null,null,{"$f":"'App.2-FA Proposed REG Inves (2'!C55","v":0},{"$f":"D21","v":0},null,{"$f":"'App.2-FA Proposed REG Inves (2'!D55","v":0},{"$f":"G21","v":0},null,{"$f":"'App.2-FA Proposed REG Inves (2'!E55","v":0},{"$f":"J21","v":0},null,{"$f":"'App.2-FA Proposed REG Inves (2'!F55","v":0},{"$f":"M21","v":0},null,{"$f":"'App.2-FA Proposed REG Inves (2'!G55","v":0},{"$f":"P21","v":0}]
["Incremental OM&A (start-up, applicable for Provincial Recovery)",null,null,{"$f":"'App.2-FA Proposed REG Inves (2'!C54","v":0},{"$f":"D22*E19","v":0},{"$f":"D22*F19","v":0},{"$f":"'App.2-FA Proposed REG Inves (2'!D54","v":0},{"$f":"G22*H19","v":0},{"$f":"G22*I19","v":0},{"$f":"'App.2-FA Proposed REG Inves (2'!E54","v":0},{"$f":"J22*K19","v":0},{"$f":"J22*L19","v":0},{"$f":"'App.2-FA Proposed REG Inves (2'!F54","v":0},{"$f":"M22*N19","v":0},{"$f":"M22*O19","v":0},{"$f":"'App.2-FA Proposed REG Inves (2'!G54","v":0},{"$f":"P22*Q19","v":0},{"$f":"P22*R19","v":0}]
["WCA",0.13,null,null,{"$f":"(E21+E22)*$B$23","v":0},{"$f":"F22*$B$23","v":0},null,{"$f":"(H21+H22)*$B$23","v":0},{"$f":"I22*$B$23","v":0},null,{"$f":"(K21+K22)*$B$23","v":0},{"$f":"L22*$B$23","v":0},null,{"$f":"(N21+N22)*$B$23","v":0},{"$f":"O22*$B$23","v":0},null,{"$f":"(Q21+Q22)*$B$23","v":0},{"$f":"R22*$B$23","v":0}]
["Rate Base",null,null,null,{"$f":"SUM(E20+E23)","v":29.4},{"$f":"SUM(F20+F23)","v":460.59999999999997},null,{"$f":"SUM(H20+H23)","v":57.599999999999994},{"$f":"SUM(I20+I23)","v":902.4},null,{"$f":"SUM(K20+K23)","v":84.6},{"$f":"SUM(L20+L23)","v":1325.3999999999999},null,{"$f":"SUM(N20+N23)","v":110.39999999999999},{"$f":"SUM(O20+O23)","v":1729.6},null,{"$f":"SUM(Q20+Q23)","v":105.6},{"$f":"SUM(R20+R23)","v":1654.3999999999999}]
[]
[]
["Deemed ST Debt",0.04,null,null,{"$f":"E24*$B$27","v":1.1759999999999999},{"$f":"F24*$B$27","v":18.423999999999999},null,{"$f":"H24*$B$27","v":2.3039999999999998},{"$f":"I24*$B$27","v":36.095999999999997},null,{"$f":"K24*$B$27","v":3.3839999999999999},{"$f":"L24*$B$27","v":53.015999999999998},null,{"$f":"N24*$B$27","v":4.4159999999999995},{"$f":"O24*$B$27","v":69.183999999999997},null,{"$f":"Q24*$B$27","v":4.2240000000000002},{"$f":"R24*$B$27","v":66.176000000000002}]
["Deemed LT Debt",0.56000000000000005,null,null,{"$f":"E24*$B$28","v":16.464000000000002},{"$f":"F24*$B$28","v":257.93599999999998},null,{"$f":"H24*$B$28","v":32.256},{"$f":"I24*$B$28","v":505.34400000000005},null,{"$f":"K24*$B$28","v":47.376000000000005},{"$f":"L24*$B$28","v":742.22400000000005},null,{"$f":"N24*$B$28","v":61.823999999999998},{"$f":"O24*$B$28","v":968.57600000000002},null,{"$f":"Q24*$B$28","v":59.136000000000003},{"$f":"R24*$B$28","v":926.46400000000006}]
["Deemed Equity",0.4,null,null,{"$f":"E24*$B$29","v":11.76},{"$f":"F24*$B$29","v":184.24},null,{"$f":"H24*$B$29","v":23.04},{"$f":"I24*$B$29","v":360.96000000000004},null,{"$f":"K24*$B$29","v":33.839999999999996},{"$f":"L24*$B$29","v":530.16},null,{"$f":"N24*$B$29","v":44.16},{"$f":"O24*$B$29","v":691.84},null,{"$f":"Q24*$B$29","v":42.24},{"$f":"R24*$B$29","v":661.76}]
[]
["ST Interest",2.4E-2,null,null,{"$f":"E27*$B31","v":2.8223999999999999E-2},{"$f":"F27*$B31","v":0.44217600000000001},null,{"$f":"H27*$B31","v":5.5295999999999998E-2},{"$f":"I27*$B31","v":0.86630399999999996},null,{"$f":"K27*$B31","v":8.1215999999999997E-2},{"$f":"L27*$B31","v":1.272384},null,{"$f":"N27*$B31","v":0.10598399999999999},{"$f":"O27*$B31","v":1.6604159999999999},null,{"$f":"Q27*$B31","v":0.10137600000000001},{"$f":"R27*$B31","v":1.5882240000000001}]
["LT Interest",5.6000000000000001E-2,null,null,{"$f":"E28*$B32","v":0.92198400000000014},14.444415999999999,null,{"$f":"H28*$B32","v":1.8063359999999999},28.299264000000004,null,{"$f":"K28*$B32","v":2.6530560000000003},41.564544000000005,null,{"$f":"N28*$B32","v":3.4621439999999999},54.240256000000002,null,{"$f":"Q28*$B32","v":3.3116160000000003},51.881984000000003]
["ROE",8.5000000000000006E-2,null,null,0.99960000000000004,15.660400000000003,null,1.9584000000000001,30.681600000000007,null,2.8763999999999998,45.063600000000001,null,3.7536,58.806400000000004,null,3.5904000000000003,56.249600000000001]
["Cost of Capital Total",null,null,null,{"$f":"SUM(E31:E33)","v":1.9498080000000002},{"$f":"SUM(F31:F33)","v":30.546992000000003},null,{"$f":"SUM(H31:H33)","v":3.8200320000000003},{"$f":"SUM(I31:I33)","v":59.847168000000011},null,{"$f":"SUM(K31:K33)","v":5.6106720000000001},{"$f":"SUM(L31:L33)","v":87.900528000000008},null,{"$f":"SUM(N31:N33)","v":7.3217280000000002},{"$f":"SUM(O31:O33)","v":114.70707200000001},null,{"$f":"SUM(Q31:Q33)","v":7.0033920000000007},{"$f":"SUM(R31:R33)","v":109.719808}]
[]
["OM&A",null,null,null,{"$f":"E21+E22","v":0},{"$f":"F22","v":0},null,{"$f":"H21+H22","v":0},{"$f":"I22","v":0},null,{"$f":"K21+K22","v":0},{"$f":"L22","v":0},null,{"$f":"N21+N22","v":0},{"$f":"O22","v":0},null,{"$f":"Q21+Q22","v":0},{"$f":"R22","v":0}]
["Amortization",null,null,{"$f":"D77","v":20},{"$f":"D37*E$19","v":1.2},{"$f":"D37*F$19","v":18.799999999999997},{"$f":"E76+E77","v":40},{"$f":"G37*H$19","v":2.4},{"$f":"G37*I$19","v":37.599999999999994},{"$f":"F76+F77","v":60},{"$f":"J37*K$19","v":3.5999999999999996},{"$f":"J37*L$19","v":56.4},{"$f":"G76+G77","v":80},{"$f":"M37*N$19","v":4.8},{"$f":"M37*O$19","v":75.199999999999989},{"$f":"H76+H77","v":80},{"$f":"P37*Q$19","v":4.8},{"$f":"P37*R$19","v":75.199999999999989}]
["Grossed-up PILs",null,null,null,{"$f":"E65","v":0},{"$f":"F65","v":0},null,{"$f":"H65","v":0},{"$f":"I65","v":0},null,{"$f":"K65","v":0},{"$f":"L65","v":0},null,{"$f":"N65","v":0},{"$f":"O65","v":0},null,{"$f":"Q65","v":0},{"$f":"R65","v":0}]
[]
["Revenue Requirement",null,null,null,{"$f":"SUM(E34:E38)","v":3.1498080000000002},{"$f":"SUM(F34:F38)","v":49.346992},null,{"$f":"SUM(H34:H38)","v":6.2200319999999998},{"$f":"SUM(I34:I38)","v":97.447168000000005},null,{"$f":"SUM(K34:K38)","v":9.2106719999999989},{"$f":"SUM(L34:L38)","v":144.30052800000001},null,{"$f":"SUM(N34:N38)","v":12.121728000000001},{"$f":"SUM(O34:O38)","v":189.907072},null,{"$f":"SUM(Q34:Q38)","v":11.803392000000001},{"$f":"SUM(R34:R38)","v":184.91980799999999}]
[]
[]
["Provincial Rate Protection",null,null,null,null,{"$f":"F40","v":49.346992},null,null,{"$f":"I40","v":97.447168000000005},null,null,{"$f":"L40","v":144.30052800000001},null,null,{"$f":"O40","v":189.907072},null,null,{"$f":"R40","v":184.91980799999999}]
[]
["Monthly Amount Paid by IESO",null,null,null,null,{"$f":"F43/12","v":4.1122493333333336},null,null,{"$f":"I43/12","v":8.1205973333333343},null,null,{"$f":"L43/12","v":12.025044000000001},null,null,{"$f":"O43/12","v":15.825589333333333},null,null,{"$f":"R43/12","v":15.409984}]
[]
["Note 1: The difference between the actual costs of approved eligible investments and revenue received from the IESO should be recorded in a variance account.  The Board may provide "]
["regulatory accounting guidance regarding a variance account either in an individual proceeding or on a generic basis."]
["Note 2: For the 2014 Test Year, Costs and Revenues of the Direct Benefit are to be included in the test year applicant Rate Base and Revenues.  "]
[]
["PILs Calculation"]
[null,null,null,null,2015,null,null,{"$f":"E52+1","v":2016},null,null,{"$f":"H52+1","v":2017},null,null,{"$f":"K52+1","v":2018},null,null,{"$f":"N52+1","v":2019}]
["Income Tax",null,null,null,"Direct Benefit","Provincial",null,"Direct Benefit","Provincial",null,"Direct Benefit","Provincial",null,"Direct Benefit","Provincial",null,"Direct Benefit","Provincial"]
[null,null,null,null,null,null,null,null,null,null,null,null,"Total",null,null,"Total"]
["Net Income - ROE on Rate Base",null,null,null,{"$f":"E33","v":0.99960000000000004},{"$f":"F33","v":15.660400000000003},null,{"$f":"H33","v":1.9584000000000001},{"$f":"I33","v":30.681600000000007},null,{"$f":"K33","v":2.8763999999999998},{"$f":"L33","v":45.063600000000001},null,{"$f":"N33","v":3.7536},{"$f":"O33","v":58.806400000000004},null,{"$f":"Q33","v":3.5904000000000003},{"$f":"R33","v":56.249600000000001}]
["Amortization (6% DB and 94% P)",null,null,null,{"$f":"E37","v":1.2},{"$f":"F37","v":18.799999999999997},null,{"$f":"H37","v":2.4},{"$f":"I37","v":37.599999999999994},null,{"$f":"K37","v":3.5999999999999996},{"$f":"L37","v":56.4},null,{"$f":"N37","v":4.8},{"$f":"O37","v":75.199999999999989},null,{"$f":"Q37","v":4.8},{"$f":"R37","v":75.199999999999989}]
["CCA (6% DB and 94% P)",null,null,null,{"$f":"-D94*E$19","v":-2.4},{"$f":"-D94*F$19","v":-37.599999999999994},null,{"$f":"-E94*H$19","v":-4.6079999999999997},{"$f":"-E94*I$19","v":-72.191999999999993},null,{"$f":"-F94*K$19","v":-4.2393600000000005},{"$f":"-F94*L$19","v":-66.416640000000001},null,{"$f":"-G94*N$19","v":-3.9002112000000002},{"$f":"-G94*O$19","v":-61.103308800000008},null,{"$f":"-H94*Q$19","v":-3.5881943040000004},{"$f":"-H94*R$19","v":-56.215044096000007}]
["Taxable income",null,null,null,{"$f":"SUM(E55:E57)","v":-0.20039999999999969},{"$f":"SUM(F55:F57)","v":-3.1395999999999944},null,{"$f":"SUM(H55:H57)","v":-0.24960000000000004},{"$f":"SUM(I55:I57)","v":-3.9103999999999957},null,{"$f":"SUM(K55:K57)","v":2.2370399999999995},{"$f":"SUM(L55:L57)","v":35.046959999999999},null,{"$f":"SUM(N55:N57)","v":4.6533887999999992},{"$f":"SUM(O55:O57)","v":72.903091199999977},null,{"$f":"SUM(Q55:Q57)","v":4.8022056959999997},{"$f":"SUM(R55:R57)","v":75.234555903999961}]
[]
["Tax Rate  (to be entered)"]
[]
["Income Taxes Payable",null,null,null,{"$f":"E58*E60","v":0},{"$f":"F58*F60","v":0},null,{"$f":"H58*H60","v":0},{"$f":"I58*I60","v":0},null,{"$f":"K58*K60","v":0},{"$f":"L58*L60","v":0},null,{"$f":"N58*N60","v":0},{"$f":"O58*O60","v":0},null,{"$f":"Q58*Q60","v":0},{"$f":"R58*R60","v":0}]
["Gross Up"]
["Income Taxes Payable",null,null,null,{"$f":"E62/(1-E60)","v":0},{"$f":"F62/(1-F60)","v":0},null,{"$f":"H62/(1-H60)","v":0},{"$f":"I62/(1-I60)","v":0},null,{"$f":"K62/(1-K60)","v":0},{"$f":"L62/(1-L60)","v":0},null,{"$f":"N62/(1-N60)","v":0},{"$f":"O62/(1-O60)","v":0},null,{"$f":"Q62/(1-Q60)","v":0},{"$f":"R62/(1-R60)","v":0}]
["Grossed Up PILs",null,null,null,{"$f":"SUM(E64:E64)","v":0},{"$f":"SUM(F64:F64)","v":0},null,{"$f":"SUM(H64:H64)","v":0},{"$f":"SUM(I64:I64)","v":0},null,{"$f":"SUM(K64:K64)","v":0},{"$f":"SUM(L64:L64)","v":0},null,{"$f":"SUM(N64:N64)","v":0},{"$f":"SUM(O64:O64)","v":0},null,{"$f":"SUM(Q64:Q64)","v":0},{"$f":"SUM(R64:R64)","v":0}]
[]
[]
[null,null,null,2015,{"$f":"D68+1","v":2016},{"$f":"E68+1","v":2017},2018,2019]
["Net Fixed Assets"]
[null,"Enter applicable amortization in years:",25]
["Opening Gross Fixed Assets",null,null,null,{"$f":"D73","v":1000},{"$f":"E73","v":1000},{"$f":"F73","v":2000},{"$f":"G73","v":2000}]
["Gross Capital Additions",null,null,{"$f":"'App.2-FA Proposed REG Inves (2'!C53","v":1000},{"$f":"'App.2-FA Proposed REG Inves (2'!D53","v":0},{"$f":"'App.2-FA Proposed REG Inves (2'!E53","v":1000},{"$f":"'App.2-FA Proposed REG Inves (2'!F53","v":0},{"$f":"'App.2-FA Proposed REG Inves (2'!G53","v":0}]
["Closing Gross Fixed Assets",null,null,{"$f":"SUM(D71:D72)","v":1000},{"$f":"SUM(E71:E72)","v":1000},2000,2000,2000]
[]
["Opening Accumulated Amortization",null,null,null,{"$f":"D78","v":20},{"$f":"E78","v":60},{"$f":"F78","v":120},{"$f":"G78","v":200}]
["Current Year Amortization (before additions)",null,null,null,{"$f":"IF(ISERROR(E71/$C$70), 0, E71/$C$70)","v":40},{"$f":"IF(ISERROR(F71/$C$70), 0, F71/$C$70)","v":40},{"$f":"IF(ISERROR(G71/$C$70), 0, G71/$C$70)","v":80},{"$f":"IF(ISERROR(H71/$C$70), 0, H71/$C$70)","v":80}]
["Additions (half year)",null,null,{"$f":"D72/C70/2","v":20},{"$f":"E72/C70/2","v":0},{"$f":"F72/C70/2","v":20},{"$f":"G72/C70/2","v":0},{"$f":"H72/C70/2","v":0}]
["Closing Accumulated Amortization",null,null,{"$f":"SUM(D75+D77)","v":20},{"$f":"SUM(E75:E77)","v":60},{"$f":"SUM(F75:F77)","v":120},{"$f":"SUM(G75:G77)","v":200},{"$f":"SUM(H75:H77)","v":280}]
[]
["Opening Net Fixed Assets",null,null,{"$f":"D71-D75","v":0},{"$f":"D81","v":980},{"$f":"E81","v":940},{"$f":"F81","v":1880},{"$f":"G81","v":1800}]
["Closing Net Fixed Assets",null,null,{"$f":"D73-D78","v":980},{"$f":"E73-E78","v":940},{"$f":"F73-F78","v":1880},{"$f":"G73-G78","v":1800},{"$f":"H73-H78","v":1720}]
["Average Net Fixed Assets",null,null,{"$f":"SUM(D80:D81)/2","v":490},{"$f":"SUM(E80:E81)/2","v":960},{"$f":"SUM(F80:F81)/2","v":1410},{"$f":"SUM(G80:G81)/2","v":1840},{"$f":"SUM(H80:H81)/2","v":1760}]
[]
["UCC for PILs Calculation"]
[null,null,null,2015,{"$f":"D85+1","v":2016},{"$f":"E85+1","v":2017},2018,2019]
[]
["Opening UCC",null,null,null,{"$f":"D95","v":960},{"$f":"E95","v":883.2},{"$f":"F95","v":812.5440000000001},{"$f":"G95","v":747.54048000000012}]
["Capital Additions (from Appendix 2-FA)",null,null,{"$f":"D72","v":1000},{"$f":"'App.2-FA Proposed REG Inves (2'!D31","v":0},{"$f":"'App.2-FA Proposed REG Inves (2'!E31","v":0},{"$f":"'App.2-FA Proposed REG Inves (2'!F31","v":0},{"$f":"'App.2-FA Proposed REG Inves (2'!G31","v":0}]
["UCC Before Half Year Rule",null,null,{"$f":"SUM(D87:D88)","v":1000},{"$f":"SUM(E87:E88)","v":960},{"$f":"SUM(F87:F88)","v":883.2},{"$f":"SUM(G87:G88)","v":812.5440000000001},{"$f":"SUM(H87:H88)","v":747.54048000000012}]
["Half Year Rule (1/2 Additions - Disposals)",null,null,{"$f":"D88/2","v":500},{"$f":"E88/2","v":0},{"$f":"F88/2","v":0},{"$f":"G88/2","v":0},{"$f":"H88/2","v":0}]
["Reduced UCC",null,null,{"$f":"D89-D90","v":500},{"$f":"E89-E90","v":960},{"$f":"F89-F90","v":883.2},{"$f":"G89-G90","v":812.5440000000001},{"$f":"H89-H90","v":747.54048000000012}]
["CCA Rate Class (to be entered)",null,47,{"$f":"C92","v":47},{"$f":"C92","v":47},{"$f":"C92","v":47},{"$f":"C92","v":47},{"$f":"C92","v":47}]
["CCA Rate  (to be entered)",null,0.08,{"$f":"C93","v":0.08},{"$f":"C93","v":0.08},{"$f":"C93","v":0.08},{"$f":"C93","v":0.08},{"$f":"C93","v":0.08}]
["CCA",null,null,{"$f":"D91*D93","v":40},{"$f":"E91*E93","v":76.8},70.656000000000006,65.003520000000009,{"$f":"H91*H93","v":59.803238400000012}]
["Closing UCC",null,null,{"$f":"D89-D94","v":960},{"$f":"E89-E94","v":883.2},{"$f":"F89-F94","v":812.5440000000001},{"$f":"G89-G94","v":747.54048000000012},{"$f":"H89-H94","v":687.73724160000006}]

{"sheet":"App.2-FC Calc of REG Expans (2","index":34,"n_rows":94,"n_cols":18,"rows_kept":94,"cut":false,"hidden":true,"merged":[[51,16,51,17],[16,6,16,8],[16,9,16,11],[16,12,16,14],[16,15,16,17],[46,0,46,11],[48,0,48,12],[16,3,16,5],[49,0,49,1],[51,4,51,5],[51,7,51,8],[51,10,51,11],[51,13,51,14],[8,0,8,5],[9,0,9,5],[11,0,11,5],[12,0,12,5],[13,0,13,5]]}
[null,null,null,null,"File Number:",{"$f":"EBNUMBER","v":{"$error":"#NAME?"}}]
[null,null,null,null,"Exhibit:"]
[null,null,null,null,"Tab:"]
[null,null,null,null,"Schedule:"]
[null,null,null,null,"Page:"]
[]
[null,null,null,null,"Date:"]
[]
["Appendix 2-FC"]
["Calculation of Renewable Generation Connection Direct Benefits/Provincial Amount: Renewable Expansion Investments"]
[]
["This table will calculate the distributor/provincial shares of the investments entered in Part B of Appendix 2-FA."]
["Enter values in green shaded cells: WCA percentage, debt percentages, interest rates, kWh, tax rates, amortization period, CCA Class and percentage."]
["Rate Riders are not calculated for Test Year as these assets and costs are already in the distributors rate base."]
[]
[]
[null,null,null,"2014 Test Year",null,null,2015,null,null,2016,2016,null,2017,null,null,2018]
[null,null,null,null,"Direct Benefit","Provincial",null,"Direct Benefit","Provincial",null,"Direct Benefit","Provincial",null,"Direct Benefit","Provincial",null,"Direct Benefit","Provincial"]
[null,null,null,"Total",0.17,0.83,"Total",0.17,0.83,"Total",0.17,0.83,"Total",0.17,0.83,"Total",0.17,0.83]
["Net Fixed Assets (average)",null,null,{"$f":"D81","v":0},{"$f":"D20*E19","v":0},{"$f":"D20*F19","v":0},{"$f":"E81","v":0},{"$f":"G20*H19","v":0},{"$f":"G20*I19","v":0},{"$f":"F81","v":0},{"$f":"J20*K19","v":0},{"$f":"J20*L19","v":0},{"$f":"G81","v":0},{"$f":"M20*N19","v":0},{"$f":"M20*O19","v":0},{"$f":"H81","v":0},{"$f":"P20*Q19","v":0},{"$f":"P20*R19","v":0}]
["Incremental OM&A (on-going, N/A for Provincial Recovery)",null,null,{"$f":"'App.2-FA Proposed REG Inves (2'!C$92","v":0},{"$f":"D21","v":0},null,{"$f":"'App.2-FA Proposed REG Inves (2'!D$92","v":0},{"$f":"G21","v":0},null,{"$f":"'App.2-FA Proposed REG Inves (2'!E$92","v":0},{"$f":"J21","v":0},null,{"$f":"'App.2-FA Proposed REG Inves (2'!F$92","v":0},{"$f":"M21","v":0},null,{"$f":"'App.2-FA Proposed REG Inves (2'!G$92","v":0},{"$f":"P21","v":0}]
["Incremental OM&A (start-up, applicable for Provincial Recovery)",null,null,{"$f":"'App.2-FA Proposed REG Inves (2'!C$91","v":0},{"$f":"D22*E19","v":0},{"$f":"D22*F19","v":0},{"$f":"'App.2-FA Proposed REG Inves (2'!D$91","v":0},{"$f":"G22*H19","v":0},{"$f":"G22*I19","v":0},{"$f":"'App.2-FA Proposed REG Inves (2'!E$91","v":0},{"$f":"J22*K19","v":0},{"$f":"J22*L19","v":0},{"$f":"'App.2-FA Proposed REG Inves (2'!F$91","v":0},{"$f":"M22*N19","v":0},{"$f":"M22*O19","v":0},{"$f":"'App.2-FA Proposed REG Inves (2'!G$91","v":0},{"$f":"P22*Q19","v":0},{"$f":"P22*R19","v":0}]
["WCA",null,null,null,{"$f":"(E21+E22)*$B$23","v":0},{"$f":"F22*$B$23","v":0},null,{"$f":"(H21+H22)*$B$23","v":0},{"$f":"I22*$B$23","v":0},null,{"$f":"(K21+K22)*$B$23","v":0},{"$f":"L22*$B$23","v":0},null,{"$f":"(N21+N22)*$B$23","v":0},{"$f":"O22*$B$23","v":0},null,{"$f":"(Q21+Q22)*$B$23","v":0},{"$f":"R22*$B$23","v":0}]
["Rate Base",null,null,null,{"$f":"SUM(E20+E23)","v":0},{"$f":"SUM(F20+F23)","v":0},null,{"$f":"SUM(H20+H23)","v":0},{"$f":"SUM(I20+I23)","v":0},null,{"$f":"SUM(K20+K23)","v":0},{"$f":"SUM(L20+L23)","v":0},null,{"$f":"SUM(N20+N23)","v":0},{"$f":"SUM(O20+O23)","v":0},null,{"$f":"SUM(Q20+Q23)","v":0},{"$f":"SUM(R20+R23)","v":0}]
[]
[]
["Deemed ST Debt",null,null,null,{"$f":"E24*$B$27","v":0},{"$f":"F24*$B$27","v":0},null,{"$f":"H24*$B$27","v":0},{"$f":"I24*$B$27","v":0},null,{"$f":"K24*$B$27","v":0},{"$f":"L24*$B$27","v":0},null,{"$f":"N24*$B$27","v":0},{"$f":"O24*$B$27","v":0},null,{"$f":"Q24*$B$27","v":0},{"$f":"R24*$B$27","v":0}]
["Deemed LT Debt",null,null,null,{"$f":"E24*$B$28","v":0},{"$f":"F24*$B$28","v":0},null,{"$f":"H24*$B$28","v":0},{"$f":"I24*$B$28","v":0},null,{"$f":"K24*$B$28","v":0},{"$f":"L24*$B$28","v":0},null,{"$f":"N24*$B$28","v":0},{"$f":"O24*$B$28","v":0},null,{"$f":"Q24*$B$28","v":0},{"$f":"R24*$B$28","v":0}]
["Deemed Equity",null,null,null,{"$f":"E24*$B$29","v":0},{"$f":"F24*$B$29","v":0},null,{"$f":"H24*$B$29","v":0},{"$f":"I24*$B$29","v":0},null,{"$f":"K24*$B$29","v":0},{"$f":"L24*$B$29","v":0},null,{"$f":"N24*$B$29","v":0},{"$f":"O24*$B$29","v":0},null,{"$f":"Q24*$B$29","v":0},{"$f":"R24*$B$29","v":0}]
[]
["ST Interest",null,null,null,{"$f":"E27*$B$31","v":0},{"$f":"F27*$B$31","v":0},null,{"$f":"H27*$B$31","v":0},{"$f":"I27*$B$31","v":0},null,{"$f":"K27*$B$31","v":0},{"$f":"L27*$B$31","v":0},null,{"$f":"N27*$B$31","v":0},{"$f":"O27*$B$31","v":0},null,{"$f":"Q27*$B$31","v":0},{"$f":"R27*$B$31","v":0}]
["LT Interest",null,null,null,{"$f":"E28*$B$32","v":0},{"$f":"F28*$B$32","v":0},null,{"$f":"H28*$B$32","v":0},{"$f":"I28*$B$32","v":0},null,{"$f":"K28*$B$32","v":0},{"$f":"L28*$B$32","v":0},null,{"$f":"N28*$B$32","v":0},{"$f":"O28*$B$32","v":0},null,{"$f":"Q28*$B$32","v":0},{"$f":"R28*$B$32","v":0}]
["ROE",null,null,null,{"$f":"E29*$B$33","v":0},{"$f":"F29*$B$33","v":0},null,{"$f":"H29*$B$33","v":0},{"$f":"I29*$B$33","v":0},null,{"$f":"K29*$B$33","v":0},{"$f":"L29*$B$33","v":0},null,{"$f":"N29*$B$33","v":0},{"$f":"O29*$B$33","v":0},null,{"$f":"Q29*$B$33","v":0},{"$f":"R29*$B$33","v":0}]
["Cost of Capital Total",null,null,null,{"$f":"SUM(E31:E33)","v":0},{"$f":"SUM(F31:F33)","v":0},null,{"$f":"SUM(H31:H33)","v":0},{"$f":"SUM(I31:I33)","v":0},null,{"$f":"SUM(K31:K33)","v":0},{"$f":"SUM(L31:L33)","v":0},null,{"$f":"SUM(N31:N33)","v":0},{"$f":"SUM(O31:O33)","v":0},null,{"$f":"SUM(Q31:Q33)","v":0},{"$f":"SUM(R31:R33)","v":0}]
[]
["OM&A",null,null,null,{"$f":"E21+E22","v":0},{"$f":"F22","v":0},null,{"$f":"H21+H22","v":0},{"$f":"I22","v":0},null,{"$f":"K21+K22","v":0},{"$f":"L22","v":0},null,{"$f":"N21+N22","v":0},{"$f":"O22","v":0},null,{"$f":"Q21+Q22","v":0},{"$f":"R22","v":0}]
["Amortization",null,null,{"$f":"D77","v":0},{"$f":"D37*E$19","v":0},{"$f":"D37*F$19","v":0},{"$f":"E75+E76","v":0},{"$f":"G37*H$19","v":0},{"$f":"G37*I$19","v":0},{"$f":"F75+F76","v":0},{"$f":"J37*K$19","v":0},{"$f":"J37*L$19","v":0},{"$f":"G75+G76","v":0},{"$f":"M37*N$19","v":0},{"$f":"M37*O$19","v":0},{"$f":"H75+H76","v":0},{"$f":"P37*Q$19","v":0},{"$f":"P37*R$19","v":0}]
["Grossed-up PILs",null,null,null,{"$f":"E65","v":0},{"$f":"F65","v":0},null,{"$f":"H65","v":0},{"$f":"I65","v":0},null,{"$f":"K65","v":0},{"$f":"L65","v":0},null,{"$f":"N65","v":0},{"$f":"O65","v":0},null,{"$f":"Q65","v":0},{"$f":"R65","v":0}]
[]
["Revenue Requirement",null,null,null,{"$f":"SUM(E34:E38)","v":0},{"$f":"SUM(F34:F38)","v":0},null,{"$f":"SUM(H34:H38)","v":0},{"$f":"SUM(I34:I38)","v":0},null,{"$f":"SUM(K34:K38)","v":0},{"$f":"SUM(L34:L38)","v":0},null,{"$f":"SUM(N34:N38)","v":0},{"$f":"SUM(O34:O38)","v":0},null,{"$f":"SUM(Q34:Q38)","v":0},{"$f":"SUM(R34:R38)","v":0}]
[]
[]
["Provincial Rate Protection",null,null,null,null,{"$f":"F40","v":0},null,null,{"$f":"I40","v":0},null,null,{"$f":"L40","v":0},null,null,{"$f":"O40","v":0},null,null,{"$f":"R40","v":0}]
[]
["Monthly Amount Paid by IESO",null,null,null,null,{"$f":"F43/12","v":0},null,null,{"$f":"I43/12","v":0},null,null,{"$f":"L43/12","v":0},null,null,{"$f":"O43/12","v":0},null,null,{"$f":"R43/12","v":0}]
[]
["Note 1: The difference between the actual costs of approved eligible investments and revenue received from the IESO should be recorded in a variance account.  The Board may provide "]
["regulatory accounting guidance regarding a variance account either in an individual proceeding or on a generic basis."]
["Note 2: For the 2014 Test Year, Costs and Revenues of the Direct Benefit are to be included in the test year applicant Rate Base and Revenues."]
[]
["PILs Calculation"]
[null,null,null,null,2014,null,null,2015,null,null,2016,null,null,2017,null,null,2018]
["Income Tax",null,null,null,"Direct Benefit","Provincial",null,"Direct Benefit","Provincial",null,"Direct Benefit","Provincial",null,"Direct Benefit","Provincial",null,"Direct Benefit","Provincial"]
[null,null,null,null,null,null,null,null,null,null,null,null,"Total",null,null,"Total"]
["Net Income - ROE on Rate Base",null,null,null,{"$f":"E33","v":0},{"$f":"F33","v":0},null,{"$f":"H33","v":0},{"$f":"I33","v":0},null,{"$f":"K33","v":0},{"$f":"L33","v":0},null,{"$f":"N33","v":0},{"$f":"O33","v":0},null,{"$f":"Q33","v":0},{"$f":"R33","v":0}]
["Amortization (17% DB and 83% P)",null,null,null,{"$f":"E37","v":0},{"$f":"F37","v":0},null,{"$f":"H37","v":0},{"$f":"I37","v":0},null,{"$f":"K37","v":0},{"$f":"L37","v":0},null,{"$f":"N37","v":0},{"$f":"O37","v":0},null,{"$f":"Q37","v":0},{"$f":"R37","v":0}]
["CCA (17% DB and 83% P)",null,null,null,{"$f":"-D93*E$19","v":0},{"$f":"-D93*F$19","v":0},null,{"$f":"-E93*H$19","v":0},{"$f":"-E93*I$19","v":0},null,{"$f":"-F93*K$19","v":0},{"$f":"-F93*L$19","v":0},null,{"$f":"-G93*N$19","v":0},{"$f":"-G93*O$19","v":0},null,{"$f":"-H93*Q$19","v":0},{"$f":"-H93*R$19","v":0}]
["Taxable income",null,null,null,{"$f":"SUM(E55:E57)","v":0},{"$f":"SUM(F55:F57)","v":0},null,{"$f":"SUM(H55:H57)","v":0},{"$f":"SUM(I55:I57)","v":0},null,{"$f":"SUM(K55:K57)","v":0},{"$f":"SUM(L55:L57)","v":0},null,{"$f":"SUM(N55:N57)","v":0},{"$f":"SUM(O55:O57)","v":0},null,{"$f":"SUM(Q55:Q57)","v":0},{"$f":"SUM(R55:R57)","v":0}]
[]
["Tax Rate  (to be entered)"]
[]
["Income Taxes Payable",null,null,null,{"$f":"E58*E60","v":0},{"$f":"F58*F60","v":0},null,{"$f":"H58*H60","v":0},{"$f":"I58*I60","v":0},null,{"$f":"K58*K60","v":0},{"$f":"L58*L60","v":0},null,{"$f":"N58*N60","v":0},{"$f":"O58*O60","v":0},null,{"$f":"Q58*Q60","v":0},{"$f":"R58*R60","v":0}]
["Gross Up"]
["Income Taxes Payable",null,null,null,{"$f":"E62/(1-E60)","v":0},{"$f":"F62/(1-F60)","v":0},null,{"$f":"H62/(1-H60)","v":0},{"$f":"I62/(1-I60)","v":0},null,{"$f":"K62/(1-K60)","v":0},{"$f":"L62/(1-L60)","v":0},null,{"$f":"N62/(1-N60)","v":0},{"$f":"O62/(1-O60)","v":0},null,{"$f":"Q62/(1-Q60)","v":0},{"$f":"R62/(1-R60)","v":0}]
["Grossed Up PILs",null,null,null,{"$f":"SUM(E64:E64)","v":0},{"$f":"SUM(F64:F64)","v":0},null,{"$f":"SUM(H64:H64)","v":0},{"$f":"SUM(I64:I64)","v":0},null,{"$f":"SUM(K64:K64)","v":0},{"$f":"SUM(L64:L64)","v":0},null,{"$f":"SUM(N64:N64)","v":0},{"$f":"SUM(O64:O64)","v":0},null,{"$f":"SUM(Q64:Q64)","v":0},{"$f":"SUM(R64:R64)","v":0}]
[]
[]
["Net Fixed Assets",null,null,2014,2015,2016,2017,2018]
[null,"Enter applicable amortization in years:",25]
["Opening Gross Fixed Assets",null,null,null,{"$f":"D72","v":0},{"$f":"E72","v":0},{"$f":"F72","v":0},{"$f":"G72","v":0}]
["Gross Capital Additions",null,null,{"$f":"'App.2-FA Proposed REG Inves (2'!C90","v":0},{"$f":"'App.2-FA Proposed REG Inves (2'!D90","v":0},{"$f":"'App.2-FA Proposed REG Inves (2'!E90","v":0},{"$f":"'App.2-FA Proposed REG Inves (2'!F90","v":0},{"$f":"'App.2-FA Proposed REG Inves (2'!G90","v":0}]
["Closing Gross Fixed Assets",null,null,{"$f":"SUM(D70:D71)","v":0},{"$f":"SUM(E70:E71)","v":0},{"$f":"SUM(F70:F71)","v":0},{"$f":"SUM(G70:G71)","v":0},{"$f":"SUM(H70:H71)","v":0}]
[]
["Opening Accumulated Amortization",null,null,null,{"$f":"D77","v":0},{"$f":"E77","v":0},{"$f":"F77","v":0},{"$f":"G77","v":0}]
["Current Year Amortization (before additions)",null,null,null,{"$f":"E70/$C$69","v":0},{"$f":"F70/$C$69","v":0},{"$f":"G70/$C$69","v":0},{"$f":"H70/$C$69","v":0}]
["Additions (half year)",null,null,{"$f":"D71/C69/2","v":0},{"$f":"E71/C69/2","v":0},{"$f":"F71/C69/2","v":0},{"$f":"G71/C69/2","v":0},{"$f":"H71/C69/2","v":0}]
["Closing Accumulated Amortization",null,null,{"$f":"SUM(D74+D76)","v":0},{"$f":"SUM(E74:E76)","v":0},{"$f":"SUM(F74:F76)","v":0},{"$f":"SUM(G74:G76)","v":0},{"$f":"SUM(H74:H76)","v":0}]
[]
["Opening Net Fixed Assets",null,null,{"$f":"D70-D74","v":0},{"$f":"D80","v":0},{"$f":"E80","v":0},{"$f":"F80","v":0},{"$f":"G80","v":0}]
["Closing Net Fixed Assets",null,null,{"$f":"D72-D77","v":0},{"$f":"E72-E77","v":0},{"$f":"F72-F77","v":0},{"$f":"G72-G77","v":0},{"$f":"H72-H77","v":0}]
["Average Net Fixed Assets",null,null,{"$f":"SUM(D79:D80)/2","v":0},{"$f":"SUM(E79:E80)/2","v":0},{"$f":"SUM(F79:F80)/2","v":0},{"$f":"SUM(G79:G80)/2","v":0},{"$f":"SUM(H79:H80)/2","v":0}]
[]
["UCC for PILs Calculation"]
[null,null,null,2014,2015,2016,2017,2018]
[]
["Opening UCC",null,null,null,{"$f":"D94","v":0},{"$f":"E94","v":0},{"$f":"F94","v":0},{"$f":"G94","v":0}]
["Capital Additions (from Appendix 2-FA)",null,null,{"$f":"D71","v":0},{"$f":"E71","v":0},{"$f":"F71","v":0},{"$f":"G71","v":0},{"$f":"H71","v":0}]
["UCC Before Half Year Rule",null,null,{"$f":"SUM(D86:D87)","v":0},{"$f":"SUM(E86:E87)","v":0},{"$f":"SUM(F86:F87)","v":0},{"$f":"SUM(G86:G87)","v":0},{"$f":"SUM(H86:H87)","v":0}]
["Half Year Rule (1/2 Additions - Disposals)",null,null,{"$f":"D87/2","v":0},{"$f":"E87/2","v":0},{"$f":"F87/2","v":0},{"$f":"G87/2","v":0},{"$f":"H87/2","v":0}]
["Reduced UCC",null,null,{"$f":"D88-D89","v":0},{"$f":"E88-E89","v":0},{"$f":"F88-F89","v":0},{"$f":"G88-G89","v":0},{"$f":"H88-H89","v":0}]
["CCA Rate Class (to be entered)",null,47,{"$f":"C91","v":47},{"$f":"C91","v":47},{"$f":"C91","v":47},{"$f":"C91","v":47},{"$f":"C91","v":47}]
["CCA Rate  (to be entered)",null,0.08,{"$f":"C92","v":0.08},{"$f":"C92","v":0.08},{"$f":"C92","v":0.08},{"$f":"C92","v":0.08},{"$f":"C92","v":0.08}]
["CCA",null,null,{"$f":"D90*D$92","v":0},{"$f":"E90*E$92","v":0},0,0,0]
["Closing UCC",null,null,{"$f":"D88-D93","v":0},{"$f":"E88-E93","v":0},{"$f":"F88-F93","v":0},{"$f":"G88-G93","v":0},{"$f":"H88-H93","v":0}]

{"sheet":"lists","index":35,"n_rows":212,"n_cols":55,"rows_kept":212,"cut":false,"hidden":true,"merged":[[13,51,13,52],[14,51,14,52],[15,51,15,52],[16,51,16,52],[17,51,17,52],[12,51,12,52],[11,51,11,52],[0,51,0,52],[1,51,1,52],[2,51,2,52],[3,51,3,52],[4,51,4,52],[5,51,5,52],[6,51,6,52],[7,51,7,52],[8,51,8,52],[9,51,9,52],[10,51,10,52]]}
["DISTRIBUTED GENERATION [DGEN]","Embedded Distributor",{"$f":"COUNTA(B1:B17)","v":4},null,null,null,null,null,"A Standby Service Charge will be applied for a month where standby power is not provided. The applicable rate is the approved Distribution Volumetric Rate of the applicable service class and is applied to gross metered demand or contracted amount, whichever is greater. A monthly administration charge of $200, for simple metering arrangements, or $500, for complex metering arrangements, will also be applied.",null,null,"Loss Factors",null,"Units","Units1","Units2",null,null,null,null,null,null,null,null,null,"Account History","Account set up charge/change of occupancy charge (plus credit agency costs if applicable)","Total Loss Factor – Embedded Distributor – Hydro One Networks Inc.",null,null,null,null,null,null,null,null,null,"Algoma Power Inc.","Algoma Power Inc.",null,"DISTRIBUTED GENERATION [DGEN]","kW",null,null,null,"Sub-Total:  Delivery (Distribution and Retail Transmission)"]
["EMBEDDED DISTRIBUTOR","General Service 3,000 to 4,999 kW",null,null,null,null,null,null,"Distribution Volumetric Rate",null,null,"Total Loss Factor – Primary Metered Customer",null,"$","$/kWh","$",null,null,null,null,null,null,null,null,null,"Account set up charge/change of occupancy charge","Administrative Billing Charge","Total Loss Factor – Primary Metered Customer",null,null,null,null,null,null,null,null,null,"Atikokan Hydro Inc.","Atikokan Hydro Inc.",null,"EMBEDDED DISTRIBUTOR","kW",null,null,null,"Wholesale Market Service Rate ",null,null,{"$f":"AU2*AV2","v":0},{"$f":"AU2","v":0},0,{"$f":"AX2*AY2","v":0},null,{"$f":"AZ2-AW2","v":0},{"$f":"BB2/AW2","v":{"$error":"#DIV/0!"}}]
["EMBEDDED DISTRIBUTOR","General Service 1,000 to 4,999 kW",null,null,null,null,null,null,"Distribution Volumetric Rate - $/kW of contracted amount",null,null,"Total Loss Factor – Primary Metered Customer < 5,000 kW",null,"$/kWh","$/kW","%",null,null,null,null,null,null,"MSC",null,null,"Account set up charge/change of occupancy charge (plus credit agency costs if applicable – Residential)","Bell Canada Pole Rentals","Total Loss Factor – Primary Metered Customer < 5,000 kW",null,null,null,null,null,null,null,null,null,"Attawapiskat Power Corp. ","Attawapiskat Power Corp. ",null,"EMBEDDED DISTRIBUTOR","kW",null,null,null,"Rural Rate Protection Charge",null,null,{"$f":"AU3*AV3","v":0},0,0,{"$f":"AX3*AY3","v":0},null,{"$f":"AZ3-AW3","v":0},{"$f":"BB3/AW3","v":{"$error":"#DIV/0!"}}]
["FARMS - SINGLE PHASE ENERGY-BILLED [F1]","General Service Equal To Or Greater Than 1,500 kW - Interval Metered",null,null,null,null,null,null,"Distribution Wheeling Service Rate",null,null,"Total Loss Factor – Primary Metered Customer > 5,000 kW",null,"$/kW","$/kVA",null,null,null,null,null,null,null,"SM_Rate_Adder",null,null,"Account set up charge/change of occupancy charge (plus credit agency costs if applicable)","Clearance Pole Attachment charge $/pole/year","Total Loss Factor – Primary Metered Customer > 5,000 kW",null,null,null,null,null,null,null,null,null,"Bluewater Power Distribution Corporation","Bluewater Power Distribution Corporation",null,"FARMS - SINGLE PHASE ENERGY-BILLED [F1]","kWh",null,null,null,"Standard Supply Service – Administration Charge (if applicable)",null,null,{"$f":"AU4*AV4","v":0},0,0,{"$f":"AX4*AY4","v":0},null,{"$f":"AZ4-AW4","v":0},{"$f":"BB4/AW4","v":{"$error":"#DIV/0!"}}]
["FARMS - THREE PHASE ENERGY-BILLED [F3]",null,null,null,null,null,null,null,"Electricity Rate",null,null,"Total Loss Factor – Secondary Metered Customer",null,"$/kVA",null,null,null,null,null,null,null,null,"MSC_Rate_Rider_",null,null,"Arrears certificate","Collection of account charge – no disconnection","Total Loss Factor – Secondary Metered Customer",null,null,null,null,null,null,null,null,null,"Brant County Power Inc.","Brant County Power Inc.",null,"FARMS - THREE PHASE ENERGY-BILLED [F3]","kWh",null,null,null,"Sub-Total:  Regulatory",null,null,{"$f":"SUM(AW2:AW4)","v":0},null,null,{"$f":"SUM(AZ2:BA4)","v":0},null,{"$f":"AZ5-AW5","v":0},{"$f":"BB5/AW5","v":{"$error":"#DIV/0!"}}]
["GENERAL SERVICE - COMMERCIAL",null,null,null,null,null,null,null,"Electricity Rate - All Additional kWh",null,null,"Total Loss Factor – Secondary Metered Customer < 5,000 kW",null,null,null,null,null,null,null,null,null,null,"VC",null,null,"Arrears certificate (credit reference)","Collection of account charge – no disconnection – after regular hours","Total Loss Factor – Secondary Metered Customer < 5,000 kW",null,null,null,null,null,null,null,null,null,"Brantford Power Inc.","Brantford Power Inc.",null,"GENERAL SERVICE - COMMERCIAL","kW",null,null,null,"Debt Retirement Charge (DRC)",null,null,{"$f":"AU6*AV6","v":0},{"$f":"AU6","v":0},{"$f":"AV6","v":0},{"$f":"AX6*AY6","v":0},null,{"$f":"AZ6-AW6","v":0},{"$f":"BB6/AW6","v":{"$error":"#DIV/0!"}}]
["GENERAL SERVICE - INSTITUTIONAL",null,null,null,null,null,null,null,"Electricity Rate - First 250 kWh",null,null,null,null,null,null,null,null,null,null,null,null,null,null,null,null,null,null,null,null,null,null,null,null,null,null,null,null,"Burlington Hydro Inc.","Burlington Hydro Inc.",null,"GENERAL SERVICE - INSTITUTIONAL","kW"]
["GENERAL SERVICE 1,000 TO 2,999 KW",null,null,null,null,null,null,null,"Electricity Rate -All Additional kWh",null,null,"Total Loss Factor – Secondary Metered Customer > 5,000 kW",null,null,null,null,null,null,null,null,null,null,"VC_Rate_Rider_",null,null,"Charge to certify cheque","Collection of account charge – no disconnection - during regular business hours","Total Loss Factor – Secondary Metered Customer > 5,000 kW",null,null,null,null,null,null,null,null,null,"Cambridge and North Dumfries Hydro Inc.","Cambridge and North Dumfries Hydro Inc.",null,"GENERAL SERVICE 1,000 TO 2,999 KW","kW",null,null,null,"Total Bill on RPP (before taxes)",null,null,null,null,null,null,null,{"$f":"AZ8-AW8","v":0}]
["GENERAL SERVICE 1,000 TO 4,999 KW",null,null,null,null,null,null,null,"Electricity Rate First 1,000 kWh",null,null,"Distribution Loss Factor - Secondary Metered Customer < 5,000 kW",null,null,null,null,null,null,null,null,null,null,"VC_GA_Rate_Rider_kW_",null,null,"Collection of Account Charge – No Disconnection","Collection of account charge – no disconnection – during regular hours",null,null,null,null,null,null,null,null,null,null,"Canadian Niagara Power Inc.","Canadian Niagara Power Inc. - Eastern Ontario Power",null,"GENERAL SERVICE 1,000 TO 4,999 KW - INTERVAL METERS","kW",null,null,null,"HST",null,null,{"$f":"AV9*AW8","v":0},null,{"$f":"AV9","v":0},{"$f":"AY9*AZ8","v":0},null,{"$f":"AZ9-AW9","v":0},{"$f":"BB9/AW9","v":{"$error":"#DIV/0!"}}]
["GENERAL SERVICE 1,000 TO 4,999 KW - INTERVAL METERS",null,null,null,null,null,null,null,"Electricity Rate First 25,000 kWh",null,null,"Distribution Loss Factor - Secondary Metered Customer > 5,000 kW",null,null,null,null,null,null,null,null,null,null,"VC_LV_Rate",null,null,"Credit Card Convenience Charge","Collection/Disconnection/Load Limiter/Reconnection – if in Community",null,null,null,null,null,null,null,null,null,null,"Centre Wellington Hydro Ltd.","Canadian Niagara Power Inc. - Fort Erie",null,"GENERAL SERVICE 1,000 TO 4,999 KW (CO-GENERATION)","kW",null,null,null,"Total Bill (including HST)",null,null,{"$f":"AW9+AW8","v":0},null,null,{"$f":"AZ9+AZ8","v":0},null,{"$f":"AZ10-AW10","v":0},{"$f":"BB10/AW10","v":{"$error":"#DIV/0!"}}]
["GENERAL SERVICE 1,000 TO 4,999 KW (CO-GENERATION)",null,null,null,null,null,null,null,"Electricity Rate First 6,000 kWh",null,null,"Distribution Loss Factor - Primary Metered Customer < 5,000 kW",null,null,null,null,null,null,null,null,null,null,"RTSR_Network",null,null,"Credit check (plus credit agency costs)","Credit Card Convenience Charge",null,null,null,null,null,null,null,null,null,null,"Chapleau Public Utilities Corporation","Canadian Niagara Power Inc. - Port Colborne Hydro Inc.",null,"GENERAL SERVICE 1,000 TO 4,999 KW","kW",null,null,null,"Ontario Clean Energy Benefit (OCEB)",null,null,{"$f":"-0.1*AW10","v":0},null,{"$f":"AV11","v":0},{"$f":"-0.1*AZ10","v":0},null,{"$f":"AZ11-AW11","v":0},{"$f":"BB11/AW11","v":{"$error":"#DIV/0!"}}]
["GENERAL SERVICE 1,500 TO 4,999 KW",null,null,null,null,null,null,null,"Electricity Rate Next 1,500 kWh",null,null,"Distribution Loss Factor - Primary Metered Customer > 5,000 kW",null,null,null,null,null,null,null,null,null,null,"RTSR_Connection",null,null,"Credit reference Letter","Disconnect/Reconnect at meter – after regular hours",null,null,null,null,null,null,null,null,null,null,"Clinton Power Corporation","Centre Wellington Hydro Ltd.",null,"GENERAL SERVICE 1,500 TO 4,999 KW","kW",null,null,null,"Total Bill on RPP (including OCEB)",null,null,{"$f":"AW10+AW11","v":0},null,null,{"$f":"AZ10+AZ11","v":0},null,{"$f":"AZ12-AW12","v":0},{"$f":"BB12/AW12","v":{"$error":"#DIV/0!"}}]
["GENERAL SERVICE 2,500 TO 4,999 KW",null,null,null,null,null,null,null,"General Service 1,500 to 4,999 kW customer",null,null,null,null,null,null,null,null,null,null,null,null,null,null,null,null,null,null,null,null,null,null,null,null,null,null,null,null,"COLLUS Power Corporation","Chapleau Public Utilities Corporation",null,"GENERAL SERVICE 2,500 TO 4,999 KW","kW"]
["GENERAL SERVICE 3,000 TO 4,999 KW",null,null,null,null,null,null,null,"General Service 50 to 1,499 kW customer",null,null,"Total Loss Factor - Embedded Distributor",null,null,null,null,null,null,null,null,null,null,"RTSR_Network_Interval",null,null,"Credit reference/credit check (plus credit agency costs – General Service)","Disconnect/Reconnect at meter – during regular hours",null,null,null,null,null,null,null,null,null,null,"Cooperative Hydro Embrun Inc.","Clinton Power Corporation",null,"GENERAL SERVICE 3,000 TO 4,999 KW - INTERMEDIATE USE","kW",null,null,null,"Total Bill on TOU (before taxes)",null,null,null,null,null,null,null,{"$f":"AZ14-AW14","v":0}]
["GENERAL SERVICE 3,000 TO 4,999 KW - INTERMEDIATE USE",null,null,null,null,null,null,null,"General Service Large Use customer",null,null,"Total Loss Factor – Embedded Distributor – Hydro One Networks Inc.",null,null,null,null,null,null,null,null,null,null,"RTSR_Connection_Interval",null,null,"Credit Reference/credit check (plus credit agency costs)","Disconnect/Reconnect at pole – after regular hours",null,null,null,null,null,null,null,null,null,null,"E.L.K. Energy Inc.","COLLUS Power Corporation",null,"GENERAL SERVICE 3,000 TO 4,999 KW - INTERVAL METERED","kW",null,null,null,"HST",null,null,{"$f":"AV15*AW14","v":0},null,{"$f":"AV15","v":0},{"$f":"AY15*AZ14","v":0},null,{"$f":"AZ15-AW15","v":0},{"$f":"BB15/AW15","v":{"$error":"#DIV/0!"}}]
["GENERAL SERVICE 3,000 TO 4,999 KW - INTERVAL METERED",null,null,null,null,null,null,null,"Green Energy Act Initiatives Funding Adder - effective until the date of the next cost of service-based rate order",null,null,null,null,null,null,null,null,null,null,null,null,null,"RTSR_Network_Interval_GR1000kW",null,null,"Dispute Test – Commercial self contained -- MC","Disconnect/Reconnect at pole – during regular hours",null,null,null,null,null,null,null,null,null,null,"Enersource Hydro Mississauga Inc.","Cooperative Hydro Embrun Inc.",null,"GENERAL SERVICE 3,000 TO 4,999 KW - TIME OF USE","kW",null,null,null,"Total Bill (including HST)",null,null,{"$f":"AW15+AW14","v":0},null,null,{"$f":"AZ15+AZ14","v":0},null,{"$f":"AZ16-AW16","v":0},{"$f":"BB16/AW16","v":{"$error":"#DIV/0!"}}]
["GENERAL SERVICE 3,000 TO 4,999 KW - TIME OF USE",null,null,null,null,null,null,null,"Green Energy Act Plan Funding Adder",null,null,null,null,null,null,null,null,null,null,null,null,null,"RTSR_Connection_Interval_GR1000kW",null,null,"Dispute Test – Commercial TT -- MC","Disconnect/Reconnect Charge – At Meter – After Hours",null,null,null,null,null,null,null,null,null,null,"Entegrus Powerlines Inc.","E.L.K. Energy Inc.",null,"GENERAL SERVICE 3,000 TO 4,999 KW","kW",null,null,null,"Ontario Clean Energy Benefit (OCEB)",null,null,{"$f":"-0.1*AW16","v":0},null,{"$f":"AV17","v":0},{"$f":"-0.1*AZ16","v":0},null,{"$f":"AZ17-AW17","v":0},{"$f":"BB17/AW17","v":{"$error":"#DIV/0!"}}]
["GENERAL SERVICE 50 TO 1,000 KW",null,null,null,null,null,null,null,"Green Energy Act Plan Funding Adder - effective April 1, 2013 until March 31, 2014",null,null,null,null,null,null,null,null,null,null,null,null,null,"RTSR_Line_Connection",null,null,"Dispute Test – Residential","Disconnect/Reconnect Charge – At Meter – During Regular Hours",null,null,null,null,null,null,null,null,null,null,"ENWIN Utilities Ltd.","Enersource Hydro Mississauga Inc.",null,"GENERAL SERVICE 50 TO 1,000 KW - INTERVAL METERS","kW",null,null,null,"Total Bill on TOU (including OCEB)",null,null,{"$f":"AW16+AW17","v":0},null,null,{"$f":"AZ16+AZ17","v":0},null,{"$f":"AZ18-AW18","v":0},{"$f":"BB18/AW18","v":{"$error":"#DIV/0!"}}]
["GENERAL SERVICE 50 TO 1,000 KW - INTERVAL METERS",null,null,null,null,null,null,null,"Green Energy Act Plan Funding Adder - effective April 1, 2014 until March 31, 2015",null,null,null,null,null,null,null,null,null,null,null,null,null,"RTSR_Transformer_Connection",null,null,"Duplicate Invoices for previous billing","Disconnect/Reconnect Charge – At Pole – After Hours",null,null,null,null,null,null,null,null,null,null,"Erie Thames Powerlines Corporation","Entegrus Powerlines Inc. - Chatham-Kent",null,"GENERAL SERVICE 50 TO 1,000 KW - NON INTERVAL METERS","kW"]
["GENERAL SERVICE 50 TO 1,000 KW - NON INTERVAL METERS",null,null,null,null,null,null,null,"ICM Rate Rider (2014) - in effect until the effective date of the next cost of service rates",null,null,null,null,null,null,null,null,null,null,null,null,null,"WMSR",null,null,"Easement Letter","Disconnect/Reconnect Charge – At Pole – During Regular Hours",null,null,null,null,null,null,null,null,null,null,"Espanola Regional Hydro Distribution Corporation","Entegrus Powerlines Inc. - Dutton",null,"GENERAL SERVICE 50 TO 1,000 KW","kW"]
["GENERAL SERVICE 50 TO 1,499 KW",null,null,null,null,null,null,null,"Low Voltage Service Charge",null,null,null,null,null,null,null,null,null,null,null,null,null,"RRRP",null,null,"Income Tax Letter","Disconnect/Reconnect Charges for non payment of account - At Meter After Hours",null,null,null,null,null,null,null,null,null,null,"Essex Powerlines Corporation","Entegrus Powerlines Inc. - Newbury",null,"GENERAL SERVICE 50 TO 1,499 KW - INTERVAL METERED","kW"]
["GENERAL SERVICE 50 TO 1,499 KW - INTERVAL METERED",null,null,null,null,null,null,null,"Low Voltage Service Rate",null,null,null,null,null,null,null,null,null,null,null,null,null,"SPC",null,null,"Interval Meter Interrogation","Disconnect/Reconnect charges for non payment of account – at meter after regular hours",null,null,null,null,null,null,null,null,null,null,"Festival Hydro Inc.","Entegrus Powerlines Inc. - Strathroy, Mounth Brydges & Parkhill",null,"GENERAL SERVICE 50 TO 1,499 KW","kW"]
["GENERAL SERVICE 50 TO 2,499 KW",null,null,null,null,null,null,null,"Low Voltage Volumetric Rate",null,null,null,null,null,null,null,null,null,null,null,null,null,"DRC",null,null,"Interval meter request change","Disconnect/Reconnect Charges for non payment of account - At Meter During Regular Hours",null,null,null,null,null,null,null,null,null,null,"Fort Albany Power Corporation","ENWIN Utilities Ltd.",null,"GENERAL SERVICE 50 TO 2,499 KW","kW"]
["GENERAL SERVICE 50 TO 2,999 KW",null,null,null,null,null,null,null,"LRAM Rate Rider - Effective Until April 30, 2015",null,null,null,null,null,null,null,null,null,null,null,null,null,"SSS",null,null,"Legal letter","Disconnect/Reconnect charges for non payment of account – at meter during regular hours",null,null,null,null,null,null,null,null,null,null,"Fort Frances Power Corporation","Erie Thames Powerlines Corporation",null,"GENERAL SERVICE 50 TO 2,999 KW - INTERVAL METERED","kW"]
["GENERAL SERVICE 50 TO 2,999 KW - INTERVAL METERED",null,null,null,null,null,null,null,"Minimum Distribution Charge - per KW of maximum billing demand in the previous 11 months",null,null,null,null,null,null,null,null,null,null,null,null,null,"SFLF",null,null,"Legal letter charge","Disconnect/Reconnect charges for non payment of account – at pole after regular hours",null,null,null,null,null,null,null,null,null,null,"Greater Sudbury Hydro Inc.","Espanola Regional Hydro Distribution Corporation",null,"GENERAL SERVICE 50 TO 2,999 KW - TIME OF USE","kW"]
["GENERAL SERVICE 50 TO 2,999 KW - TIME OF USE","January",null,null,null,null,null,null,"Monthly Distribution Wheeling Service Rate - Dedicated LV Line",null,null,null,null,null,null,null,null,null,null,null,null,null,"DLF_Secondary_LT_5000kW",null,null,"Meter dispute charge plus Measurement Canada fees (if meter found correct)","Disconnect/Reconnect charges for non payment of account – at pole during regular hours",null,null,null,null,null,null,null,null,null,null,"Grimsby Power Inc.","Essex Powerlines Corporation",null,"GENERAL SERVICE 50 TO 2,999 KW","kW"]
["GENERAL SERVICE 50 TO 4,999 KW","February",null,null,null,null,null,null,"Monthly Distribution Wheeling Service Rate - Hydro One Networks",null,null,null,null,null,null,null,null,null,null,null,null,null,"DLF_Secondary_GT_5000kW",null,null,"Notification charge","Disconnect/Reconnection for >300 volts - after regular hours",null,null,null,null,null,null,null,null,null,null,"Guelph Hydro Electric Systems Inc.","Festival Hydro Inc.",null,"GENERAL SERVICE 50 TO 4,999 KW - INTERVAL METERED","kW"]
["GENERAL SERVICE 50 TO 4,999 KW - INTERVAL METERED","March",null,null,null,null,null,null,"Monthly Distribution Wheeling Service Rate - Shared LV Line",null,null,null,null,null,null,null,null,null,null,null,null,null,"DLF_Primary_LT_5000kW",null,null,"Pulling Post Dated Cheques","Disconnect/Reconnection for >300 volts - during regular hours",null,null,null,null,null,null,null,null,null,null,"Haldimand County Hydro Inc.","Festival Hydro Inc. - Hensall",null,"GENERAL SERVICE 50 TO 4,999 KW - TIME OF USE","kW"]
["GENERAL SERVICE 50 TO 4,999 KW - TIME OF USE","April",null,null,null,null,null,null,"Monthly Distribution Wheeling Service Rate - Waterloo North Hydro",null,null,null,null,null,null,null,null,null,null,null,null,null,"DLF_Primary_GT_5000kW",null,null,"Request for other billing information","Disposal of Concrete Poles",null,null,null,null,null,null,null,null,null,null,"Halton Hills Hydro Inc.","Fort Albany Power Corporation",null,"GENERAL SERVICE 50 TO 4,999 KW (COGENERATION)","kW"]
["GENERAL SERVICE 50 TO 4,999 KW (COGENERATION)","May",null,null,null,null,null,null,"Rate Rider for Application of Tax Change - effective until April 30, 2015",null,null,null,null,null,null,null,null,null,null,null,null,null,"TLF_Secondary_LT_5000kW",null,null,"Returned cheque (plus bank charges)","Dispute Test – Commercial TT -- MC",null,null,null,null,null,null,null,null,null,null,"Hearst Power Distribution Company Limited","Fort Frances Power Corporation",null,"GENERAL SERVICE 50 TO 4,999 KW (FORMERLY TIME OF USE)","kW"]
["GENERAL SERVICE 50 TO 4,999 KW (FORMERLY TIME OF USE)","June",null,null,null,null,null,null,"Rate Rider for Application of Tax Change - effective until December 31, 2014",null,null,null,null,null,null,null,null,null,null,null,null,null,"TLF_Secondary_GT_5000kW",null,null,"Returned cheque charge (plus bank charges)","Install/Remove load control device – after regular hours",null,null,null,null,null,null,null,null,null,null,"Horizon Utilities Corporation","Greater Sudbury Hydro Inc.",null,"GENERAL SERVICE 50 TO 4,999 KW","kW"]
["GENERAL SERVICE 50 TO 499 KW","July",null,null,null,null,null,null,"Rate Rider for Application of Tax Change (2014) - effective until April 30, 2015",null,null,null,null,null,null,null,null,null,null,null,null,null,"TLF_Primary_LT_5000kW",null,null,"Special Billing Service (aggregation)","Install/Remove load control device – during regular hours",null,null,null,null,null,null,null,null,null,null,"Hydro 2000 Inc.","Grimsby Power Inc.",null,"GENERAL SERVICE 50 TO 499 KW","kW"]
["GENERAL SERVICE 50 TO 699 KW","August",null,null,null,null,null,null,"Rate Rider for Application of Tax Change (per connection) - effective until April 30, 2015",null,null,null,null,null,null,null,null,null,null,null,null,null,"TLF_Primary_GT_5000kW",null,null,"Special Billing Service (sub-metering charge per meter)","Interval Meter Interrogation",null,null,null,null,null,null,null,null,null,null,"Hydro Hawkesbury Inc.","Guelph Hydro Electric Systems Inc.",null,"GENERAL SERVICE 50 TO 699 KW","kW"]
["GENERAL SERVICE 50 TO 999 KW","September",null,null,null,null,null,null,"Rate Rider for CGAAP Accounting Changes (2013) - effective until April 30, 2017",null,null,null,null,null,null,null,null,null,null,null,null,null,"TLF_EmbeddedDistributor",null,null,"Special meter reads","Interval Meter Load Management Tool Charge $/month",null,null,null,null,null,null,null,null,null,null,"Hydro One Brampton Networks Inc.","Haldimand County Hydro Inc.",null,"GENERAL SERVICE 50 TO 999 KW - INTERVAL METERED","kW"]
["GENERAL SERVICE 50 TO 999 KW - INTERVAL METERED","October",null,null,null,null,null,null,"Rate Rider for Deferral/Variance Account (2012) - effective unitl April 30, 2016",null,null,null,null,null,null,null,null,null,null,null,null,null,null,null,null,"Statement of Account","Interval meter request change",null,null,null,null,null,null,null,null,null,null,"Hydro One Networks Inc.","Halton Hills Hydro Inc.",null,"GENERAL SERVICE 50 TO 999 KW","kW"]
["GENERAL SERVICE 500 TO 4,999 KW","November",null,null,null,null,null,null,"Rate Rider for Deferral/Variance Account Disposition – effective until April 30, 2015",null,null,null,null,null,null,null,null,null,null,null,null,null,null,null,null,"Unprocessed Payment Charge (plus bank charges)","Late Payment – per annum",null,null,null,null,null,null,null,null,null,null,"Hydro Ottawa Limited","Hearst Power Distribution Company Limited",null,"GENERAL SERVICE 500 TO 4,999 KW","kW"]
["GENERAL SERVICE 700 TO 4,999 KW","December",null,null,null,null,null,null,"Rate Rider for Deferral/Variance Account Disposition (2012) - effective until April 30, 2016",null,null,null,null,null,null,null,null,null,null,null,null,null,null,null,null,null,"Late Payment – per month",null,null,null,null,null,null,null,null,null,null,"Innisfil Hydro Distribution Systems Limited","Horizon Utilities Corporation",null,"GENERAL SERVICE 700 TO 4,999 KW","kW"]
["GENERAL SERVICE DEMAND BILLED (50 KW AND ABOVE) [GSD]",null,null,null,null,null,null,null,"Rate Rider for Deferral/Variance Account Disposition (2013) - effective until April 30, 2014",null,null,null,null,null,null,null,null,null,null,null,null,null,null,null,null,null,"Layout fees",null,null,null,null,null,null,null,null,null,null,"Kashechewan Power Corporation","Hydro 2000 Inc.",null,"GENERAL SERVICE DEMAND BILLED (50 KW AND ABOVE) [GSD]","kW"]
["GENERAL SERVICE ENERGY BILLED (LESS THAN 50 KW) [GSE-METERED]",null,null,null,null,null,null,null,"Rate Rider for Deferral/Variance Account Disposition (2014) - effective until April 28, 2016",null,null,null,null,null,null,null,null,null,null,null,null,null,null,null,null,null,"Meter dispute charge plus Measurement Canada fees (if meter found correct)",null,null,null,null,null,null,null,null,null,null,"Kenora Hydro Electric Corporation Ltd.","Hydro Hawkesbury Inc.",null,"GENERAL SERVICE ENERGY BILLED (LESS THAN 50 KW) [GSE-METERED]","kWh"]
["GENERAL SERVICE ENERGY BILLED (LESS THAN TO 50 KW) [GSE-UNMETERED]",null,null,null,null,null,null,null,"Rate Rider for Deferral/Variance Account Disposition (2014) - effective until April 30, 2015",null,null,null,null,null,null,null,null,null,null,null,null,null,null,null,null,null,"Meter Interrogation Charge",null,null,null,null,null,null,null,null,null,null,"Kingston Hydro Corporation","Hydro One Brampton Networks Inc.",null,"GENERAL SERVICE ENERGY BILLED (LESS THAN TO 50 KW) [GSE-UNMETERED]","kWh"]
["GENERAL SERVICE EQUAL TO OR GREATER THAN 1,500 KW",null,null,null,null,null,null,null,"Rate Rider for Deferral/Variance Account Disposition (2014) - effective until Decembeer 31, 2015",null,null,null,null,null,null,null,null,null,null,null,null,null,null,null,null,null,"Missed Service Appointment",null,null,null,null,null,null,null,null,null,null,"Kitchener-Wilmot Hydro Inc.","Hydro One Networks Inc.",null,"GENERAL SERVICE EQUAL TO OR GREATER THAN 1,500 KW - INTERVAL METERED","kW"]
["GENERAL SERVICE EQUAL TO OR GREATER THAN 1,500 KW - INTERVAL METERED",null,null,null,null,null,null,null,"Rate Rider for Deferral/Variance Account Disposition (2014) - effective until December 30, 2015",null,null,null,null,null,null,null,null,null,null,null,null,null,null,null,null,null,"Norfolk Pole Rentals – Billed",null,null,null,null,null,null,null,null,null,null,"Lakefront Utilities Inc.","Hydro Ottawa Limited",null,"GENERAL SERVICE EQUAL TO OR GREATER THAN 1,500 KW","kW"]
["GENERAL SERVICE GREATER THAN 1,000 KW",null,null,null,null,null,null,null,"Rate Rider for Deferral/Variance Account Disposition (2014) - effective until December 31, 2014",null,null,null,null,null,null,null,null,null,null,null,null,null,null,null,null,null,"Optional Interval/TOU Meter charge $/month",null,null,null,null,null,null,null,null,null,null,"Lakeland Power Distribution Ltd.","Innisfil Hydro Distribution Systems Limited",null,"GENERAL SERVICE GREATER THAN 1,000 KW","kW"]
["GENERAL SERVICE GREATER THAN 50 kW - WMP",null,null,null,null,null,null,null,"Rate Rider for Deferral/Variance Account Disposition (2014) - effective until December 31, 2015",null,null,null,null,null,null,null,null,null,null,null,null,null,null,null,null,null,"Overtime Locate",null,null,null,null,null,null,null,null,null,null,"London Hydro Inc.","Kashechewan Power Corporation",null,"GENERAL SERVICE INTERMEDIATE 1,000 TO 4,999 KW","kW"]
["GENERAL SERVICE INTERMEDIATE 1,000 TO 4,999 KW",null,null,null,null,null,null,null,"Rate Rider for Deferral/Variance Account Dispositon (2012) - effective until April 30, 2016",null,null,null,null,null,null,null,null,null,null,null,null,null,null,null,null,null,"Owner Requested Disconnection/Reconnection – after regular hours",null,null,null,null,null,null,null,null,null,null,"Midland Power Utility Corporation","Kenora Hydro Electric Corporation Ltd.",null,"GENERAL SERVICE INTERMEDIATE RATE CLASS 1,000 TO 4,999 KW (FORMERLY GENERAL SERVICE > 50 KW CUSTOMERS)","kW"]
["GENERAL SERVICE INTERMEDIATE RATE CLASS 1,000 TO 4,999 KW (FORMERLY GENERAL SERVICE > 50 KW CUSTOMERS)",null,null,null,null,null,null,null,"Rate Rider for Disposition of Accounting Changes Under CGAAP Account 1576 - effective until April 30, 2016",null,null,null,null,null,null,null,null,null,null,null,null,null,null,null,null,null,"Owner Requested Disconnection/Reconnection – during regular hours",null,null,null,null,null,null,null,null,null,null,"Milton Hydro Distribution inc.","Kingston Hydro Corporation",null,"GENERAL SERVICE INTERMEDIATE RATE CLASS 1,000 TO 4,999 KW (FORMERLY LARGE USE CUSTOMERS)","kW"]
["GENERAL SERVICE INTERMEDIATE RATE CLASS 1,000 TO 4,999 KW (FORMERLY LARGE USE CUSTOMERS)",null,null,null,null,null,null,null,"Rate Rider for Disposition of Deferral/Variance Accounts (2010) - effective until December 31, 2014",null,null,null,null,null,null,null,null,null,null,null,null,null,null,null,null,null,"Returned cheque (plus bank charges)",null,null,null,null,null,null,null,null,null,null,"Newmarket - Tay Power Distribution Ltd.","Kitchener-Wilmot Hydro Inc.",null,"GENERAL SERVICE LESS THAN 50 KW - SINGLE PHASE ENERGY-BILLED [G1]","kWh"]
["GENERAL SERVICE LESS THAN 50 KW",null,null,null,null,null,null,null,"Rate Rider for Disposition of Deferral/Variance Accounts (2011) - effective until April 30, 2015",null,null,null,null,null,null,null,null,null,null,null,null,null,null,null,null,null,"Rural system expansion / line connection fee",null,null,null,null,null,null,null,null,null,null,"Niagara Peninsula Energy Inc.","Lakefront Utilities Inc.",null,"GENERAL SERVICE LESS THAN 50 KW - THREE PHASE ENERGY-BILLED [G3]","kWh"]
["GENERAL SERVICE LESS THAN 50 KW - SINGLE PHASE ENERGY-BILLED [G1]",null,null,null,null,null,null,null,"Rate Rider for Disposition of Deferral/Variance Accounts (2011) - effective until April 30, 2016",null,null,null,null,null,null,null,null,null,null,null,null,null,null,null,null,null,"Same Day Open Trench",null,null,null,null,null,null,null,null,null,null,"Niagara-on-the-Lake Hydro Inc.","Lakeland Power Distribution Ltd.",null,"GENERAL SERVICE LESS THAN 50 KW - TRANSMISSION CLASS ENERGY-BILLED [T]","kWh"]
["GENERAL SERVICE LESS THAN 50 KW - THREE PHASE ENERGY-BILLED [G3]",null,null,null,null,null,null,null,"Rate Rider for Disposition of Deferral/Variance Accounts (2012) - effective until April 30, 2014",null,null,null,null,null,null,null,null,null,null,null,null,null,null,null,null,null,"Scheduled Day Open Trench",null,null,null,null,null,null,null,null,null,null,"Norfolk Power Distribution Inc.","London Hydro Inc.",null,"GENERAL SERVICE LESS THAN 50 KW - URBAN ENERGY-BILLED [UG]","kWh"]
["GENERAL SERVICE LESS THAN 50 KW - TRANSMISSION CLASS ENERGY-BILLED [T]",null,null,null,null,null,null,null,"Rate Rider for Disposition of Deferral/Variance Accounts (2012) - effective until April 30, 2015",null,null,null,null,null,null,null,null,null,null,null,null,null,null,null,null,null,"Service call – after regular hours",null,null,null,null,null,null,null,null,null,null,"North Bay Hydro Distribution Limited","Midland Power Utility Corporation",null,"GENERAL SERVICE LESS THAN 50 KW","kWh"]
["GENERAL SERVICE LESS THAN 50 KW - URBAN ENERGY-BILLED [UG]",null,null,null,null,null,null,null,"Rate Rider for Disposition of Deferral/Variance Accounts (2012) - effective until April 30, 2016",null,null,null,null,null,null,null,null,null,null,null,null,null,null,null,null,null,"Service call – customer owned equipment",null,null,null,null,null,null,null,null,null,null,"Northern Ontario Wires Inc.","Milton Hydro Distribution inc.",null,"GENERAL SERVICE SINGLE PHASE - G1","kW"]
["GENERAL SERVICE SINGLE PHASE - G1",null,null,null,null,null,null,null,"Rate Rider for Disposition of Deferral/Variance Accounts (2012) - effective until August 31, 2014",null,null,null,null,null,null,null,null,null,null,null,null,null,null,null,null,null,"Service Call – Customer-owned Equipment – After Regular Hours",null,null,null,null,null,null,null,null,null,null,"Oakville Hydro Electricity Distribution Inc.","Newmarket - Tay Power Distribution Ltd. - Newmarket",null,"GENERAL SERVICE THREE PHASE - G3","kW"]
["GENERAL SERVICE THREE PHASE - G3",null,null,null,null,null,null,null,"Rate Rider for Disposition of Deferral/Variance Accounts (2012) - effective until December 31, 2015",null,null,null,null,null,null,null,null,null,null,null,null,null,null,null,null,null,"Service Call – Customer-owned Equipment – During Regular Hours",null,null,null,null,null,null,null,null,null,null,"Orangeville Hydro Limited","Newmarket - Tay Power Distribution Ltd. - Tay",null,"INTERMEDIATE USERS","kW"]
["INTERMEDIATE USERS",null,null,null,null,null,null,null,"Rate Rider for Disposition of Deferral/Variance Accounts (2012) - effective until December 31, 2016 Applicable only in the former service area of Clinton Power",null,null,null,null,null,null,null,null,null,null,null,null,null,null,null,null,null,"Service Charge for onsite interrogation of interval meter due to customer phone line failure - required weekly until line repaired $ 6",null,null,null,null,null,null,null,null,null,null,"Orillia Power Distribution Corporation","Niagara Peninsula Energy Inc. - Niagara Falls",null,"INTERMEDIATE WITH SELF GENERATION","kW"]
["INTERMEDIATE WITH SELF GENERATION",null,null,null,null,null,null,null,"Rate Rider for Disposition of Deferral/Variance Accounts (2012) – effective until December 31, 2016 Applicable only in the former service area of Clinton Power",null,null,null,null,null,null,null,null,null,null,null,null,null,null,null,null,null,"Service Layout - Commercial",null,null,null,null,null,null,null,null,null,null,"Oshawa PUC Networks Inc.","Niagara Peninsula Energy Inc. - Peninsula West",null,"LARGE USE - 3TS","kW"]
["LARGE USE",null,null,null,null,null,null,null,"Rate Rider for Disposition of Deferral/Variance Accounts (2012) - effective until January 31, 2014",null,null,null,null,null,null,null,null,null,null,null,null,null,null,null,null,null,"Service Layout - ResidentiaI",null,null,null,null,null,null,null,null,null,null,"Ottawa River Power Corporation","Niagara-on-the-Lake Hydro Inc.",null,"LARGE USE - FORD ANNEX","kW"]
["LARGE USE - 3TS",null,null,null,null,null,null,null,"Rate Rider for Disposition of Deferral/Variance Accounts (2012) - effective until June 30, 2014",null,null,null,null,null,null,null,null,null,null,null,null,null,null,null,null,null,"Special Billing Service (sub-metering charge per meter)",null,null,null,null,null,null,null,null,null,null,"Parry Sound Power Corporation","Norfolk Power Distribution Inc.",null,"LARGE USE - REGULAR","kW"]
["LARGE USE - FORD ANNEX",null,null,null,null,null,null,null,"Rate Rider for Disposition of Deferral/Variance Accounts (2013) - Applicable only to Wholesale Market Participants - effective until April 30, 2015",null,null,null,null,null,null,null,null,null,null,null,null,null,null,null,null,null,"Special meter reads",null,null,null,null,null,null,null,null,null,null,"Peterborough Distribution Incorporated","North Bay Hydro Distribution Limited",null,"LARGE USE > 5000 KW","kW"]
["LARGE USE - REGULAR",null,null,null,null,null,null,null,"Rate Rider for Disposition of Deferral/Variance Accounts (2013) - effective until April 30, 2014",null,null,null,null,null,null,null,null,null,null,null,null,null,null,null,null,null,"Specific Charge for Access to the Power Poles - $/pole/year",null,null,null,null,null,null,null,null,null,null,"PowerStream Inc.","Northern Ontario Wires Inc.",null,"LARGE USE","kW"]
["LARGE USE > 5000 KW",null,null,null,null,null,null,null,"Rate Rider for Disposition of Deferral/Variance Accounts (2013) - effective until April 30, 2015",null,null,null,null,null,null,null,null,null,null,null,null,null,null,null,null,null,"Specific Charge for Bell Canada Access to the Power Poles – per pole/year",null,null,null,null,null,null,null,null,null,null,"PUC Distribution Inc.","Oakville Hydro Electricity Distribution Inc.",null,"microFIT","$"]
["microFIT",null,null,null,null,null,null,null,"Rate Rider for Disposition of Deferral/Variance Accounts (2013) - effective until April 30, 2015, not applicable to Wholesale Market Participants",null,null,null,null,null,null,null,null,null,null,null,null,null,null,null,null,null,"Switching for company maintenance – Charge based on Time and Materials",null,null,null,null,null,null,null,null,null,null,"Renfrew Hydro Inc.","Orangeville Hydro Limited",null,"RESIDENTIAL - HENSALL","kWh"]
["RESIDENTIAL",null,null,null,null,null,null,null,"Rate Rider for Disposition of Deferral/Variance Accounts (2013) - effective until April 30, 2017",null,null,null,null,null,null,null,null,null,null,null,null,null,null,null,null,null,"Temporary Service – Install & remove – overhead – no transformer",null,null,null,null,null,null,null,null,null,null,"Rideau St. Lawrence Distribution Inc.","Orillia Power Distribution Corporation",null,"RESIDENTIAL - HIGH DENSITY [R1]","kWh"]
["RESIDENTIAL - HENSALL",null,null,null,null,null,null,null,"Rate Rider for Disposition of Deferral/Variance Accounts (2013) - effective until August 31, 2014",null,null,null,null,null,null,null,null,null,null,null,null,null,null,null,null,null,"Temporary Service – Install & remove – overhead – with transformer",null,null,null,null,null,null,null,null,null,null,"Sioux Lookout Hydro Inc.","Oshawa PUC Networks Inc.",null,"RESIDENTIAL - LOW DENSITY [R2]","kWh"]
["RESIDENTIAL - HIGH DENSITY [R1]",null,null,null,null,null,null,null,"Rate Rider for Disposition of Deferral/Variance Accounts (2013) - effective until December 31, 2014",null,null,null,null,null,null,null,null,null,null,null,null,null,null,null,null,null,"Temporary Service – Install & remove – underground – no transformer",null,null,null,null,null,null,null,null,null,null,"St. Thomas Energy Inc.","Ottawa River Power Corporation",null,"RESIDENTIAL - MEDIUM DENSITY [R1]","kWh"]
["RESIDENTIAL - LOW DENSITY [R2]",null,null,null,null,null,null,null,"Rate Rider for Disposition of Deferral/Variance Accounts (2013) - effective until May 31, 2014",null,null,null,null,null,null,null,null,null,null,null,null,null,null,null,null,null,"Temporary service install & remove – overhead – no transformer",null,null,null,null,null,null,null,null,null,null,"Thunder Bay Hydro Electricity Distribution Inc.","Parry Sound Power Corporation",null,"RESIDENTIAL - NORMAL DENSITY [R2]","kWh"]
["RESIDENTIAL - MEDIUM DENSITY [R1]",null,null,null,null,null,null,null,"Rate Rider for Disposition of Deferred PILs Variance Account 1562 - effective until March 31, 2016",null,null,null,null,null,null,null,null,null,null,null,null,null,null,null,null,null,"Temporary Service Install & Remove – Overhead – With Transformer",null,null,null,null,null,null,null,null,null,null,"Tillsonburg Hydro Inc.","Peterborough Distribution Incorporated",null,"RESIDENTIAL - TIME OF USE","kWh"]
["RESIDENTIAL - NORMAL DENSITY [R2]",null,null,null,null,null,null,null,"Rate Rider for Disposition of Deferred PILs Variance Account 1562 (2012) - effective until April 30, 2015",null,null,null,null,null,null,null,null,null,null,null,null,null,null,null,null,null,"Temporary Service Install & Remove – Underground – No Transformer",null,null,null,null,null,null,null,null,null,null,"Toronto Hydro-Electric System Limited","PowerStream Inc. - Barrie",null,"RESIDENTIAL - URBAN [UR]","kWh"]
["RESIDENTIAL - TIME OF USE",null,null,null,null,null,null,null,"Rate Rider for Disposition of Deferred PILs Variance Account 1562 (2012) - effective until April 30, 2016",null,null,null,null,null,null,null,null,null,null,null,null,null,null,null,null,null,"Temporary service installation and removal – overhead – no transformer",null,null,null,null,null,null,null,null,null,null,"Veridian Connections Inc.","PowerStream Inc. - South",null,"RESIDENTIAL REGULAR","kWh"]
["RESIDENTIAL - URBAN [UR]",null,null,null,null,null,null,null,"Rate Rider for Disposition of Deferred PILs Variance Account 1562 (2nd Installment - 2012) - effective until April 30, 2016",null,null,null,null,null,null,null,null,null,null,null,null,null,null,null,null,null,"Temporary service installation and removal – overhead – with transformer",null,null,null,null,null,null,null,null,null,null,"Wasaga Distribution Inc.","PUC Distribution Inc.",null,"RESIDENTIAL","kWh"]
["RESIDENTIAL REGULAR",null,null,null,null,null,null,null,"Rate Rider for Disposition of Deferred PILs Variance Account 1562 (per connection) (2012) - effective until April 30, 2015",null,null,null,null,null,null,null,null,null,null,null,null,null,null,null,null,null,"Temporary service installation and removal – underground – no transformer",null,null,null,null,null,null,null,null,null,null,"Waterloo North Hydro Inc.","Renfrew Hydro Inc.",null,"RESIDENTIAL SUBURBAN SEASONAL","kWh"]
["RESIDENTIAL SUBURBAN",null,null,null,null,null,null,null,"Rate Rider for Disposition of Deferred PILs Variance Account 1562 (per connection) (2012) - effective until April 30, 2016",null,null,null,null,null,null,null,null,null,null,null,null,null,null,null,null,null,null,null,null,null,null,null,null,null,null,null,null,"Welland Hydro-Electric System Corp.","Rideau St. Lawrence Distribution Inc.",null,"RESIDENTIAL SUBURBAN","kWh"]
["RESIDENTIAL SUBURBAN SEASONAL",null,null,null,null,null,null,null,"Rate Rider for Disposition of Global Adjustment Sub-Account (2011) - effective until April 30, 2015 Applicable only for Non-RPP Customers",null,null,null,null,null,null,null,null,null,null,null,null,null,null,null,null,null,null,null,null,null,null,null,null,null,null,null,null,"Wellington North Power Inc.","Sioux Lookout Hydro Inc.",null,"RESIDENTIAL SUBURBAN YEAR ROUND","kWh"]
["RESIDENTIAL SUBURBAN YEAR ROUND",null,null,null,null,null,null,null,"Rate Rider for Disposition of Global Adjustment Sub-Account (2011) - effective until April 30, 2016 Applicable only for Non-RPP Customers",null,null,null,null,null,null,null,null,null,null,null,null,null,null,null,null,null,null,null,null,null,null,null,null,null,null,null,null,"West Coast Huron Energy Inc.","St. Thomas Energy Inc.",null,"RESIDENTIAL URBAN","kWh"]
["RESIDENTIAL URBAN",null,null,null,null,null,null,null,"Rate Rider for Disposition of Global Adjustment Sub-Account (2012) - effective until April 30, 2014 Applicable only for Non-RPP Customers",null,null,null,null,null,null,null,null,null,null,null,null,null,null,null,null,null,null,null,null,null,null,null,null,null,null,null,null,"West Perth Power Inc.","Thunder Bay Hydro Electricity Distribution Inc.",null,"RESIDENTIAL URBAN YEAR-ROUND","kWh"]
["RESIDENTIAL URBAN YEAR-ROUND",null,null,null,null,null,null,null,"Rate Rider for Disposition of Global Adjustment Sub-Account (2012) - effective until April 30, 2015 Applicable only for Non-RPP Customers",null,null,null,null,null,null,null,null,null,null,null,null,null,null,null,null,null,null,null,null,null,null,null,null,null,null,null,null,"Westario Power Inc.","Tillsonburg Hydro Inc.",null,"SEASONAL RESIDENTIAL - HIGH DENSITY [R3]","kWh"]
["SEASONAL RESIDENTIAL",null,null,null,null,null,null,null,"Rate Rider for Disposition of Global Adjustment Sub-Account (2012) - effective until April 30, 2015 Applicatble only for Non-RPP Customers",null,null,null,null,null,null,null,null,null,null,null,null,null,null,null,null,null,null,null,null,null,null,null,null,null,null,null,null,"Whitby Hydro Electric Corporation","Toronto Hydro-Electric System Limited",null,"SEASONAL RESIDENTIAL - NORMAL DENSITY [R4]","kWh"]
["SEASONAL RESIDENTIAL - HIGH DENSITY [R3]",null,null,null,null,null,null,null,"Rate Rider for Disposition of Global Adjustment Sub-Account (2012) - effective until April 30, 2016 Applicable only for Non-RPP Customers",null,null,null,null,null,null,null,null,null,null,null,null,null,null,null,null,null,null,null,null,null,null,null,null,null,null,null,null,"Woodstock Hydro Services Inc.","Veridian Connections Inc.",null,"SEASONAL RESIDENTIAL","kWh"]
["SEASONAL RESIDENTIAL - NORMAL DENSITY [R4]",null,null,null,null,null,null,null,"Rate Rider for Disposition of Global Adjustment Sub-Account (2012) - effective until January 31, 2014. Applicable only for Non-RPP Customers",null,null,null,null,null,null,null,null,null,null,null,null,null,null,null,null,null,null,null,null,null,null,null,null,null,null,null,null,null,"Veridian Connections Inc. - Gravenhurst",null,"SENTINEL LIGHTING","kW"]
["SENTINEL LIGHTING",null,null,null,null,null,null,null,"Rate Rider for Disposition of Global Adjustment Sub-Account (2012) - effective until June 30, 2014 Applicable only for Non-RPP Customers",null,null,null,null,null,null,null,null,null,null,null,null,null,null,null,null,null,null,null,null,null,null,null,null,null,null,null,null,null,"Wasaga Distribution Inc.",null,"SMALL COMMERCIAL AND USL - PER CONNECTION","kW"]
["SMALL COMMERCIAL AND USL - PER CONNECTION",null,null,null,null,null,null,null,"Rate Rider for Disposition of Global Adjustment Sub-Account (2012) Applicable only for Non-RPP Customers - effective until August 31, 2014",null,null,null,null,null,null,null,null,null,null,null,null,null,null,null,null,null,null,null,null,null,null,null,null,null,null,null,null,null,"Waterloo North Hydro Inc.",null,"SMALL COMMERCIAL AND USL - PER METER","kW"]
["SMALL COMMERCIAL AND USL - PER METER",null,null,null,null,null,null,null,"Rate Rider for Disposition of Global Adjustment Sub-Account (2012) Applicable only to Non-RPP Customers - effective until August 31, 2014",null,null,null,null,null,null,null,null,null,null,null,null,null,null,null,null,null,null,null,null,null,null,null,null,null,null,null,null,null,"Welland Hydro-Electric System Corp.",null,"STANDARD A GENERAL SERVICE AIR ACCESS","kW"]
["STANDARD A GENERAL SERVICE AIR ACCESS",null,null,null,null,null,null,null,"Rate Rider for Disposition of Global Adjustment Sub-Account (2013) - effective until April 30, 2014 Applicable only for Non-RPP Customers",null,null,null,null,null,null,null,null,null,null,null,null,null,null,null,null,null,null,null,null,null,null,null,null,null,null,null,null,null,"Wellington North Power Inc.",null,"STANDARD A GENERAL SERVICE ROAD/RAIL","kW"]
["STANDARD A GENERAL SERVICE ROAD/RAIL",null,null,null,null,null,null,null,"Rate Rider for Disposition of Global Adjustment Sub-Account (2013) - effective until April 30, 2015 Applicable only for Non-RPP Customers",null,null,null,null,null,null,null,null,null,null,null,null,null,null,null,null,null,null,null,null,null,null,null,null,null,null,null,null,null,"West Coast Huron Energy Inc.",null,"STANDARD A RESIDENTIAL AIR ACCESS","kW"]
["STANDARD A GRID CONNECTED",null,null,null,null,null,null,null,"Rate Rider for Disposition of Global Adjustment Sub-Account (2013) - effective until April 30, 2015 Applicable only for Non-RPP Customers and excluding Wholesale Market Participants",null,null,null,null,null,null,null,null,null,null,null,null,null,null,null,null,null,null,null,null,null,null,null,null,null,null,null,null,null,"West Perth Power Inc.",null,"STANDARD A RESIDENTIAL ROAD/RAIL","kW"]
["STANDARD A RESIDENTIAL AIR ACCESS",null,null,null,null,null,null,null,"Rate Rider for Disposition of Global Adjustment Sub-Account (2013) - effective until April 30, 2017 Applicable only for Non-RPP Customers",null,null,null,null,null,null,null,null,null,null,null,null,null,null,null,null,null,null,null,null,null,null,null,null,null,null,null,null,null,"Westario Power Inc.",null,"STANDBY - GENERAL SERVICE 1,000 - 5,000 KW","kW"]
["STANDARD A RESIDENTIAL ROAD/RAIL",null,null,null,null,null,null,null,"Rate Rider For Disposition of Global Adjustment Sub-Account (2013) - effective until August 31, 2014 Applicable only for Non-RPP Customers",null,null,null,null,null,null,null,null,null,null,null,null,null,null,null,null,null,null,null,null,null,null,null,null,null,null,null,null,null,"Whitby Hydro Electric Corporation",null,"STANDBY - GENERAL SERVICE 50 - 1,000 KW","kW"]
["STANDBY - GENERAL SERVICE 1,000 - 5,000 KW",null,null,null,null,null,null,null,"Rate Rider for Disposition of Global Adjustment Sub-Account (2013) - effective until December 31, 2014 Applicable only for Non-RPP Customers",null,null,null,null,null,null,null,null,null,null,null,null,null,null,null,null,null,null,null,null,null,null,null,null,null,null,null,null,null,"Woodstock Hydro Services Inc.",null,"STANDBY - LARGE USE","kW"]
["STANDBY - GENERAL SERVICE 50 - 1,000 KW",null,null,null,null,null,null,null,"Rate Rider for Disposition of Global Adjustment Sub-Account (2013) - effective until May 31, 2014 Applicable only for Non-RPP Customers",null,null,null,null,null,null,null,null,null,null,null,null,null,null,null,null,null,null,null,null,null,null,null,null,null,null,null,null,null,null,null,"STANDBY DISTRIBUTION SERVICE","kW"]
["STANDBY - LARGE USE",null,null,null,null,null,null,null,"Rate Rider for Disposition of Global Adjustment Sub-Account (2014) - effective until December 31, 2014. Applicable only for Non-RPP - Class B Customers",null,null,null,null,null,null,null,null,null,null,null,null,null,null,null,null,null,null,null,null,null,null,null,null,null,null,null,null,null,null,null,"STANDBY POWER - APPROVED ON AN INTERIM BASIS","kW"]
["STANDBY DISTRIBUTION SERVICE",null,null,null,null,null,null,null,"Rate Rider for Disposition of Global Adjustment Sub-Account (2014) - effective until December 31, 2014. Applicable only for Non-RPP Customers",null,null,null,null,null,null,null,null,null,null,null,null,null,null,null,null,null,null,null,null,null,null,null,null,null,null,null,null,null,null,null,"STANDBY POWER GENERAL SERVICE 1,500 TO 4,999 KW","kW"]
["STANDBY POWER",null,null,null,null,null,null,null,"Rate Rider for Disposition of Global Adjustment Sub-Account (2014) - effective until December 31, 2014. Applicable only for Non-RPP Customers - Class A Customers",null,null,null,null,null,null,null,null,null,null,null,null,null,null,null,null,null,null,null,null,null,null,null,null,null,null,null,null,null,null,null,"STANDBY POWER GENERAL SERVICE 50 TO 1,499 KW","kW"]
["STANDBY POWER - APPROVED ON AN INTERIM BASIS",null,null,null,null,null,null,null,"Rate Rider for Disposition of Global Adjustment Sub-Account (2014) - effective until December 31, 2014. Applicable only for Non-RPP Customers - Interval Metered",null,null,null,null,null,null,null,null,null,null,null,null,null,null,null,null,null,null,null,null,null,null,null,null,null,null,null,null,null,null,null,"STANDBY POWER GENERAL SERVICE LARGE USE","kW"]
["STANDBY POWER GENERAL SERVICE 1,500 TO 4,999 KW",null,null,null,null,null,null,null,"Rate Rider for Disposition of Global Adjustment Sub-Account (2014) - effective until December 31, 2014. Applicable only for Non-RPP Customers - Non Interval Metered",null,null,null,null,null,null,null,null,null,null,null,null,null,null,null,null,null,null,null,null,null,null,null,null,null,null,null,null,null,null,null,"STANDBY POWER","kW"]
["STANDBY POWER GENERAL SERVICE 50 TO 1,499 KW",null,null,null,null,null,null,null,"Rate Rider for Disposition of Post Retirement Actuarial Gain - effective until March 31, 2025",null,null,null,null,null,null,null,null,null,null,null,null,null,null,null,null,null,null,null,null,null,null,null,null,null,null,null,null,null,null,null,"STREET LIGHTING","kWh"]
["STANDBY POWER GENERAL SERVICE LARGE USE",null,null,null,null,null,null,null,"Rate Rider for Disposition of Residual Hisotrical Smart Meter Costs - effective until April 30, 2015",null,null,null,null,null,null,null,null,null,null,null,null,null,null,null,null,null,null,null,null,null,null,null,null,null,null,null,null,null,null,null,"SUB TRANSMISSION [ST]","kW"]
["STREET LIGHTING",null,null,null,null,null,null,null,"Rate Rider for Disposition of Residual Hisotrical Smart Meter Costs - effective until April 30, 2017",null,null,null,null,null,null,null,null,null,null,null,null,null,null,null,null,null,null,null,null,null,null,null,null,null,null,null,null,null,null,null,"UNMETERED SCATTERED LOAD","kWh"]
["SUB TRANSMISSION [ST]",null,null,null,null,null,null,null,"Rate Rider for Disposition of Residual Historical Smart Meter Costs - effective until April 30, 2014",null,null,null,null,null,null,null,null,null,null,null,null,null,null,null,null,null,null,null,null,null,null,null,null,null,null,null,null,null,null,null,"URBAN GENERAL SERVICE DEMAND BILLED (50 KW AND ABOVE) [UGD]","kW"]
["UNMETERED SCATTERED LOAD",null,null,null,null,null,null,null,"Rate Rider for Disposition of Residual Historical Smart Meter Costs - effective until April 30, 2016",null,null,null,null,null,null,null,null,null,null,null,null,null,null,null,null,null,null,null,null,null,null,null,null,null,null,null,null,null,null,null,"URBAN GENERAL SERVICE ENERGY BILLED (LESS THAN 50 KW) [UGE]","kWh"]
["URBAN GENERAL SERVICE DEMAND BILLED (50 KW AND ABOVE) [UGD]",null,null,null,null,null,null,null,"Rate Rider for Disposition of Residual Historical Smart Meter Costs - effective until August 31, 2014",null,null,null,null,null,null,null,null,null,null,null,null,null,null,null,null,null,null,null,null,null,null,null,null,null,null,null,null,null,null,null,"WESTPORT SEWAGE TREATMENT PLANT","kW"]
["URBAN GENERAL SERVICE ENERGY BILLED (LESS THAN 50 KW) [UGE]",null,null,null,null,null,null,null,"Rate Rider for Disposition of Residual Historical Smart Meter Costs - effective until August 31, 2015",null,null,null,null,null,null,null,null,null,null,null,null,null,null,null,null,null,null,null,null,null,null,null,null,null,null,null,null,null,null,null,"YEAR-ROUND RESIDENTIAL - R2","kWh"]
["WESTPORT SEWAGE TREATMENT PLANT",null,null,null,null,null,null,null,"Rate Rider for Disposition of Residual Historical Smart Meter Costs - effective until December 31, 2014"]
["YEAR-ROUND RESIDENTIAL - R2",null,null,null,null,null,null,null,"Rate Rider for Disposition of Residual Historical Smart Meter Costs – effective until December 31, 2014"]
[null,null,null,null,null,null,null,null,"Rate Rider for Disposition of Residual Historical Smart Meter Costs - effective until December 31, 2015"]
[null,null,null,null,null,null,null,null,"Rate Rider for Disposition of Residual Historical Smart Meter Costs - effective until December 31, 2016"]
[null,null,null,null,null,null,null,null,"Rate Rider for Disposition of Residual Historical Smart Meter Costs - effective until October 31, 2014"]
[null,null,null,null,null,null,null,null,"Rate Rider for Disposition of Residual Historical Smart Meter Costs - effective until September 30, 2014"]
[null,null,null,null,null,null,null,null,"Rate Rider for Disposition of Residual Historical Smart Meter Costs - Non-Interval Metered \n - effective until April 30, 2014"]
[null,null,null,null,null,null,null,null,"Rate Rider for Disposition of Residual Historical Smart Meter Costs 2 - in effect until the effective \n date of the next cost of service-based rate order"]
[null,null,null,null,null,null,null,null,"Rate Rider for Disposition of Residual Historical Smart Meter Costs 3 - in effect until the effective \n date of the next cost of service-based rate order"]
[null,null,null,null,null,null,null,null,"Rate Rider for Disposition of Residual Incremental Historical Smart Meter Costs - \n effective until August 31, 2015"]
[null,null,null,null,null,null,null,null,"Rate Rider for Disposition of Stranded Meter costs - effective until April 30, 2015"]
[null,null,null,null,null,null,null,null,"Rate Rider for Disposition of Stranded Meter Costs - effective until April 30, 2016"]
[null,null,null,null,null,null,null,null,"Rate Rider for Disposition of Stranded Meter Costs - effective until April 30, 2017"]
[null,null,null,null,null,null,null,null,"Rate Rider for Global Adjustment Sub Account Disposition - effective until April 30, 2016 Applicable only for Non RPP Customers"]
[null,null,null,null,null,null,null,null,"Rate Rider for Global Adjustment Sub-Account Disposition \n Applicable only for Non-RPP Customers – effective until April 30, 2015"]
[null,null,null,null,null,null,null,null,"Rate Rider for Global Adjustment Sub-Account Disposition (2014) - effective until April 28, 2016 Applicable only for Non-RPP Customers"]
[null,null,null,null,null,null,null,null,"Rate Rider for Global Adjustment Sub-Account Disposition (2014) - effective until April 30, 2015 Applicable only for Non-RPP Customers"]
[null,null,null,null,null,null,null,null,"Rate Rider for Global Adjustment Sub-Account Disposition (2014) - effective until December 30, 2015 Applicable only for Non-RPP Customers"]
[null,null,null,null,null,null,null,null,"Rate Rider for Global Adjustment Sub-Account Disposition (2014) - effective until December 31, 2014 Applicable only for Non-RPP Customers"]
[null,null,null,null,null,null,null,null,"Rate Rider for Global Adjustment Sub-Account Disposition (2014) - effective until December 31, 2015 Applicable only for Non-RPP Customers"]
[null,null,null,null,null,null,null,null,"Rate Rider for Global Adjustment Sub-Account Disposition (2014) - effective until December, 2015 Applicable only for Non-RPP Customers"]
[null,null,null,null,null,null,null,null,"Rate Rider for Incremental Capital - Distribution Volumetric - effective until April 30, 2016"]
[null,null,null,null,null,null,null,null,"Rate Rider for Incremental Capital - Service Charge - effective until April 30, 2016"]
[null,null,null,null,null,null,null,null,"Rate Rider for Incremental Capital (2012) - effective until April 30, 2015"]
[null,null,null,null,null,null,null,null,"Rate Rider for Lost Revenue Adjustment Mechanism Variance Account (LRAMVA) Recovery \n (2012 CDM Activities) - effective until April 30, 2015"]
[null,null,null,null,null,null,null,null,"Rate Rider for Recover of Residual Historical Smart meter Costs - effective until June 30, 2014"]
[null,null,null,null,null,null,null,null,"Rate Rider for Recovery of CGAAP/CWIP Differential - in effect until December 31, 2016"]
[null,null,null,null,null,null,null,null,"Rate Rider for Recovery of Foregone Revenue - effective until April 30, 2015"]
[null,null,null,null,null,null,null,null,"Rate Rider for Recovery of Forgone Revenue - effective until April 30, 2015"]
[null,null,null,null,null,null,null,null,"Rate Rider for Recovery of Forgone Revenue - effective until December 31, 2014"]
[null,null,null,null,null,null,null,null,"Rate Rider for Recovery of Green Energy Act related costs - effective until December 31, 2014"]
[null,null,null,null,null,null,null,null,"Rate Rider for Recovery of Incremental Capital (2013) - in effect until the effective date of the next cost of service-based rate order"]
[null,null,null,null,null,null,null,null,"Rate Rider for Recovery of Incremental Capital (2013) - in effect until the effective date of the\n next cost of service-based rate order"]
[null,null,null,null,null,null,null,null,"Rate Rider for Recovery of Incremental Capital (2013) (per connection) - in effect until the effective date of \n the next cost of service-based rate order"]
[null,null,null,null,null,null,null,null,"Rate Rider for Recovery of Incremental Capital (2013) (per connection)- in effect until the effective date of the next cost of service-based rate order"]
[null,null,null,null,null,null,null,null,"Rate Rider for Recovery of Incremental Capital Costs"]
[null,null,null,null,null,null,null,null,"Rate Rider for Recovery of Incremental Capital Costs - effective until April 30, 2015"]
[null,null,null,null,null,null,null,null,"Rate Rider for Recovery of Lost Revenue Adjustment Mechanism ( LRAM)/Shared Savings Mechanism (SSM) (2012) - effective until August 31, 2014"]
[null,null,null,null,null,null,null,null,"Rate Rider for Recovery of Lost Revenue Adjustment Mechanism (2013) - effective until December 31, 2014"]
[null,null,null,null,null,null,null,null,"Rate Rider for Recovery of Lost Revenue Adjustment Mechanism (LRAM) - effective until April 30, 2016"]
[null,null,null,null,null,null,null,null,"Rate Rider for Recovery of Lost Revenue Adjustment Mechanism (LRAM) (pre-2011 CDM Activities) - effective until April 30, 2015"]
[null,null,null,null,null,null,null,null,"Rate Rider for Recovery of Lost Revenue Adjustment Mechanism (LRAM) (pre-2011 CDM Activities) (2013) - effective until April 30, 2015"]
[null,null,null,null,null,null,null,null,"Rate Rider for Recovery of Lost Revenue Adjustment Mechanism (LRAM)/Shared Savings"]
[null,null,null,null,null,null,null,null,"Rate Rider for Recovery of Lost Revenue Adjustment Mechanism (LRAM)/Shared Savings Mechanism (SSM) - effective until December 31, 2014 and applicable in the service area excluding the former service area of Clinton Power"]
[null,null,null,null,null,null,null,null,"Rate Rider for Recovery of Lost Revenue Adjustment Mechanism (LRAM)/Shared Savings Mechanism (SSM) - effective until December 31, 2014 and applicable in the service area excluding the former service areas of Clinton Power and West Perth Power"]
[null,null,null,null,null,null,null,null,"Rate Rider for Recovery of Lost Revenue Adjustment Mechanism (LRAM)/Shared Savings Mechanism (SSM) - effective until December 31, 2014 and applicable only in the former service area of Clinton Power"]
[null,null,null,null,null,null,null,null,"Rate Rider for Recovery of Lost Revenue Adjustment Mechanism (LRAM)/Shared Savings Mechanism (SSM) - effective until December 31, 2014 and applicable only in the former service area of West Perth Power"]
[null,null,null,null,null,null,null,null,"Rate Rider for Recovery of Lost Revenue Adjustment Mechanism (LRAM)/Shared Savings Mechanism (SSM) - effective until March 31, 2016"]
[null,null,null,null,null,null,null,null,"Rate Rider for Recovery of Lost Revenue Adjustment Mechanism (LRAM)/Shared Savings Mechanism (SSM) (2012) - effective until August 31, 2014"]
[null,null,null,null,null,null,null,null,"Rate Rider for Recovery of Lost Revenue Adjustment Mechanism (LRAM)/Shared Savings Mechanism (SSM) Recovery - effective until April 30, 2015"]
[null,null,null,null,null,null,null,null,"Rate Rider for Recovery of Lost Revenue Adjustment Mechanism Variance Account (LRAMVA) (2014) - effective until April 30, 2015"]
[null,null,null,null,null,null,null,null,"Rate Rider for Recovery of Residual Historical Smart Meter Costs - effective July 1, 2012 - April 30, 2016"]
[null,null,null,null,null,null,null,null,"Rate Rider for Recovery of Smart Meter Incremental Revenue Requirement - effective until the date of the next cost of service-based rate order"]
[null,null,null,null,null,null,null,null,"Rate Rider for Recovery of Smart Meter Incremental Revenue Requirement - effective until the effective date of the next cost of service-based rate order, or October 31, 2017, whichever occurs earlier"]
[null,null,null,null,null,null,null,null,"Rate Rider for Recovery of Smart Meter Incremental Revenue Requirement - in effect until the effective date of the next cost of service-based rate order"]
[null,null,null,null,null,null,null,null,"Rate Rider for Recovery of Smart Meter Incremental Revenue Requirement - Non-Interval Metered - in effect until the effective date of the next cost of service-based rate order"]
[null,null,null,null,null,null,null,null,"Rate Rider for Recovery of Smart Meter Incremental Revenue Requirements - in effect until the effective date of the next cost of service application"]
[null,null,null,null,null,null,null,null,"Rate Rider for Recovery of Smart Meter Stranded Assets - effective until April 30, 2016"]
[null,null,null,null,null,null,null,null,"Rate Rider for Recovery of Storm Damage Costs - effective until August 31, 2017"]
[null,null,null,null,null,null,null,null,"Rate Rider for Recovery of Stranded Assets - effective until April 30, 2016"]
[null,null,null,null,null,null,null,null,"Rate Rider for Recovery of Stranded Meter Assets - effective July 1, 2012 - April 30, 2016"]
[null,null,null,null,null,null,null,null,"Rate Rider for Recovery of Stranded Meter Assets – effective until April 30, 2015"]
[null,null,null,null,null,null,null,null,"Rate Rider for Recovery of Stranded Meter Assets - effective until April 30, 2016"]
[null,null,null,null,null,null,null,null,"Rate Rider for Recovery of Stranded Meter Assets - effective until April 30, 2017"]
[null,null,null,null,null,null,null,null,"Rate Rider for Recovery of Stranded Meter Assets - effective until August 31, 2015"]
[null,null,null,null,null,null,null,null,"Rate Rider for Recovery of Stranded Meter Assets - effective until August 31, 2017"]
[null,null,null,null,null,null,null,null,"Rate Rider for Recovery of Stranded Meter Assets - effective until December 31, 2014"]
[null,null,null,null,null,null,null,null,"Rate Rider for Recovery of Stranded Meter Assets - effective until December 31, 2015"]
[null,null,null,null,null,null,null,null,"Rate Rider for Recovery of Stranded Meter Assets - effective until June 30, 2016"]
[null,null,null,null,null,null,null,null,"Rate Rider for Recovery of Stranded Meter Assets - effective until March 31, 2016"]
[null,null,null,null,null,null,null,null,"Rate Rider for Recovery of Stranded Meter Assets - effective until May 31, 2014"]
[null,null,null,null,null,null,null,null,"Rate Rider for Reversal of Deferral/Variance Account Disposition (2011) - effective until April 30, 2015"]
[null,null,null,null,null,null,null,null,"Rate Rider for Smart Meter Disposition - effective until April 30, 2016"]
[null,null,null,null,null,null,null,null,"Rate Rider for Smart Meter Incremental Revenue Requirement - in effect until the effective date of the next cost of service-based rate order"]
[null,null,null,null,null,null,null,null,"Rate Rider for Smart Metering Entity Charge - effective until October 31, 2018"]
[null,null,null,null,null,null,null,null,"Rate Rider for Stranded Meter Cost Recovery - effective until April 30, 2017"]
[null,null,null,null,null,null,null,null,"Rate Rider for Tax Change"]
[null,null,null,null,null,null,null,null,"Rate Rider for Tax Change - effective until April 30, 2015"]
[null,null,null,null,null,null,null,null,"Rate Rider for Tax Change (2014) - effective until April 30, 2015"]
[null,null,null,null,null,null,null,null,"Retail Transmission Rate - Line and Transformation Connection Service Rate"]
[null,null,null,null,null,null,null,null,"Retail Transmission Rate - Line and Transformation Connection Service Rate - (less than 1,000 kW)"]
[null,null,null,null,null,null,null,null,"Retail Transmission Rate - Line and Transformation Connection Service Rate - Interval Metered"]
[null,null,null,null,null,null,null,null,"Retail Transmission Rate - Line and Transformation Connection Service Rate - Interval Metered (1,000 to 4,999 kW)"]
[null,null,null,null,null,null,null,null,"Retail Transmission Rate - Line and Transformation Connection Service Rate - Interval Metered (less than 1,000 kW)"]
[null,null,null,null,null,null,null,null,"Retail Transmission Rate - Line and Transformation Connection Service Rate - Interval Metered < 1,000 kW"]
[null,null,null,null,null,null,null,null,"Retail Transmission Rate - Line and Transformation Connection Service Rate - Interval Metered > 1,000 kW"]
[null,null,null,null,null,null,null,null,"Retail Transmission Rate - Line and Transformation Connection Service Rate FOR ALL SERVICE AREAS EXCEPT HENSALL"]
[null,null,null,null,null,null,null,null,"Retail Transmission Rate - Line Connection Service Rate"]
[null,null,null,null,null,null,null,null,"Retail Transmission Rate - Network Service Rate"]
[null,null,null,null,null,null,null,null,"Retail Transmission Rate - Network Service Rate - (less than 1,000 kW)"]
[null,null,null,null,null,null,null,null,"Retail Transmission Rate - Network Service Rate - Interval Metered"]
[null,null,null,null,null,null,null,null,"Retail Transmission Rate - Network Service Rate - Interval Metered (1,000 to 4,999 kW)"]
[null,null,null,null,null,null,null,null,"Retail Transmission Rate - Network Service Rate - Interval Metered (less than 1,000 kW)"]
[null,null,null,null,null,null,null,null,"Retail Transmission Rate - Network Service Rate - Interval Metered > 1,000 kW"]
[null,null,null,null,null,null,null,null,"Retail Transmission Rate - Transformation Connection Service Rate"]
[null,null,null,null,null,null,null,null,"Rider for Global Adjustment Sub-Account Disposition (2012) - effective until April 30, 2016 Applicable only for Non-RPP Customers"]
[null,null,null,null,null,null,null,null,"Rural or Remote Electricity Rate Protection Charge (RRRP)"]
[null,null,null,null,null,null,null,null,"Sentinel lights (dusk-to-dawn) connected to unmetered wires will have a flat rate monthly energy charge added to the regular customer bill. Further servicing details are available in the distributor’s Conditions of Service."]
[null,null,null,null,null,null,null,null,"Service Charge"]
[null,null,null,null,null,null,null,null,"Service Charge (per connection)"]
[null,null,null,null,null,null,null,null,"Service Charge (per customer)"]
[null,null,null,null,null,null,null,null,"Service Charge (per light)"]
[null,null,null,null,null,null,null,null,"Smart Grid Funding Adder (2014) - in effect until December 31, 2014"]
[null,null,null,null,null,null,null,null,"Smart Meter Disposition Rider"]
[null,null,null,null,null,null,null,null,"Smart Meter Entity Charge"]
[null,null,null,null,null,null,null,null,"Smart Meter Incremental Revenue Requirement Rate Rider"]
[null,null,null,null,null,null,null,null,"Standard Supply Service - Administrative Charge (if applicable)"]
[null,null,null,null,null,null,null,null,"Standby Charge - for a month where standby power is not provided, the charge is based on the applicable General Service 50 to 4,999 kW or Large Use Distribution Volumetric Charge applied to the contracted amount (e.g. Nameplate rating of generating facility)."]
[null,null,null,null,null,null,null,null,"Standby Charge - for a month where standby power is not provided. The charge is applied to the amount of reserved load transfer capacity contracted or the amount of monthly peak load displaced by a generating facility"]
[null,null,null,null,null,null,null,null,"Standby Charge - for a month where standby power is not provided. The charge is applied to the contracted amount (e.g. nameplate rating of the generation facility)."]
[null,null,null,null,null,null,null,null,"Wholesale Market Service Rate"]

{"sheet":"lists2","index":36,"n_rows":187,"n_cols":4,"rows_kept":187,"cut":false,"hidden":true,"merged":[[168,4,168,7],[170,0,170,1],[170,4,170,5],[171,0,171,1],[148,0,148,1],[149,0,149,1],[150,0,150,1],[151,0,151,1],[153,0,153,1],[154,0,154,1],[155,0,155,1],[156,0,156,1],[152,0,152,1],[105,0,105,1],[109,0,109,1],[137,0,137,1],[138,0,138,1],[139,0,139,1],[140,0,140,1],[141,0,141,1],[142,0,142,1],[143,0,143,1],[129,0,129,1],[130,0,130,1],[132,0,132,1],[133,0,133,1],[131,0,131,1],[128,0,128,1],[136,0,136,1],[92,0,92,1],[93,0,93,1],[98,0,98,1],[99,0,99,1],[100,0,100,1],[101,0,101,1],[102,0,102,1],[103,0,103,1],[104,0,104,1],[83,0,83,1],[84,0,84,1],[85,0,85,1],[86,0,86,1],[87,0,87,1],[88,0,88,1],[89,0,89,1],[90,0,90,1],[91,0,91,1],[74,0,74,1],[75,0,75,1],[76,0,76,1],[77,0,77,1],[78,0,78,1],[79,0,79,1],[80,0,80,1],[81,0,81,1],[82,0,82,1],[36,0,36,1],[46,0,46,1],[65,0,65,3],[65,4,65,7],[67,0,67,3],[67,4,67,7],[71,0,71,1],[72,0,72,1],[73,0,73,1],[21,0,21,1],[22,0,22,1],[23,0,23,1],[24,0,24,1],[25,0,25,1],[26,0,26,1],[27,0,27,1],[28,0,28,1],[29,0,29,1],[12,0,12,1],[13,0,13,1],[14,0,14,1],[15,0,15,1],[16,0,16,1],[17,0,17,1],[18,0,18,1],[19,0,19,1],[20,0,20,1],[33,0,33,1],[34,0,34,1],[35,0,35,1],[54,0,54,1],[190,0,190,1],[110,0,110,1],[111,0,111,1],[112,0,112,1],[113,0,113,1],[114,0,114,1],[115,0,115,1],[116,0,116,1],[117,0,117,1],[118,0,118,1],[119,0,119,1],[120,0,120,1],[121,0,121,1],[122,0,122,1],[123,0,123,1],[124,0,124,1],[55,0,55,1],[56,0,56,1],[57,0,57,1],[63,0,63,3],[191,0,191,1],[144,0,144,1],[145,0,145,1],[146,0,146,1],[147,0,147,1],[168,0,168,3],[178,0,178,1],[179,0,179,1],[180,0,180,1],[175,0,175,1],[176,0,176,1],[177,0,177,1],[172,0,172,1],[173,0,173,1],[174,0,174,1],[192,0,192,1],[193,0,193,1],[194,0,194,1],[186,0,186,3],[186,4,186,7],[160,0,160,3],[160,4,160,7],[161,0,161,3],[161,4,161,7],[162,0,162,3],[162,4,162,7],[163,0,163,3],[163,4,163,7],[164,0,164,3],[164,4,164,7],[165,0,165,3],[165,4,165,7],[166,0,166,3],[166,4,166,7],[167,0,167,3],[181,0,181,1],[182,0,182,1],[189,0,189,1],[167,4,167,7],[0,0,0,3],[48,0,48,5],[94,0,94,1],[95,0,95,1],[96,0,96,1],[97,0,97,1],[125,0,125,1],[126,0,126,1],[127,0,127,1],[2,0,2,3],[5,0,5,3],[6,0,6,3],[7,0,7,3],[8,0,8,3],[37,0,37,1],[38,0,38,1],[39,0,39,1],[40,0,40,1],[41,0,41,1],[45,0,45,1],[47,0,47,1],[30,0,30,1],[31,0,31,1],[32,0,32,1]]}
["RESIDENTIAL Service Classification"]
[]
[]
["APPLICATION"]
[]
[]
[]
[]
[]
[]
["MONTHLY RATES AND CHARGES - Delivery Component"]
[]
[]
[]
[]
[]
[]
[]
[]
[]
[]
[]
[]
[]
[]
[]
[]
[]
[]
[]
[]
[]
[]
[]
[]
[]
[]
[]
[]
[]
[]
[]
[]
["MONTHLY RATES AND CHARGES - Regulatory Component"]
[]
["Wholesale Market Service Rate",null,"$/kWh",4.4000000000000003E-3]
["Rural Rate Protection Charge",null,"$/kWh",1.1000000000000001E-3]
["Standard Supply Service - Administrative Charge (if applicable)",null,"$",0.25]
[]
[]
[]
[]
["ALLOWANCES"]
[]
["Transformer Allowance for Ownership - per kW of billing demand/month"]
[]
[]
["Primary Metering Allowance for transformer losses – applied to measured demand and energy"]
[]
["SPECIFIC SERVICE CHARGES"]
[]
["APPLICATION"]
[]
["The application of these rates and charges shall be in accordance with the Licence of the Distributor and any Code or Order of the Board, and amendments thereto as approved by the Board, which may be applicable to the administration of this schedule."]
[]
["No charges to meet the costs of any work or service done or furnished for the purpose of the distribution of electricity shall be made except as permitted by this schedule, unless required by the Distributor’s Licence or a Code or Order of the Board, and amendments thereto as approved by the Board, or as specified herein."]
[]
["It should be noted that this schedule does not list any charges, assessments or credits that are required by law to be invoiced by a distributor and that are not subject to Board approval, such as the Debt Retirement Charge, the Global Adjustment, the Ontario Clean Energy Benefit and the HST."]
[]
["Customer Administration"]
[]
[]
[]
[]
[]
[]
[]
[]
[]
[]
[]
[]
[]
[]
[]
[]
[]
[]
[]
[]
[]
[]
[]
[]
[]
[]
[]
[]
[]
[]
[]
[]
[]
[]
[]
[]
[]
["Non-Payment of Account"]
[]
[]
[]
[]
[]
[]
[]
[]
[]
[]
[]
[]
[]
[]
[]
[]
[]
[]
[]
[]
[]
[]
[]
[]
[]
[]
[]
[]
[]
[]
[]
[]
[]
[]
[]
[]
[]
[]
[]
[]
[]
[]
[]
[]
[]
[]
[]
[]
[]
[]
["RETAIL SERVICE CHARGES (if applicable)"]
[]
["The application of these rates and charges shall be in accordance with the Licence of the Distributor and any Code or Order of the Board, and amendments thereto as approved by the Board, which may be applicable to the administration of this schedule."]
[]
["No rates and charges for the distribution of electricity and charges to meet the costs of any work or service done or furnished for the purpose of the distribution of electricity shall be made except as permitted by this schedule, unless required by the Distributor’s Licence or a Code or Order of the Board, and amendments thereto as approved by the Board, or as specified herein."]
[]
["Unless specifically noted, this schedule does not contain any charges for the electricity commodity, be it under the Regulated Price Plan, a contract with a retailer or the wholesale market price, as applicable."]
[]
["It should be noted that this schedule does not list any charges, assessments or credits that are required by law to be invoiced by a distributor and that are not subject to Board approval, such as the Debt Retirement Charge, the Global Adjustment, the Ontario Clean Energy Benefit and the HST."]
[]
["Retail Service Charges refer to services provided by a distributor to retailers or customers related to the supply of competitive electricity."]
[]
["One-time charge, per retailer, to establish the service agreement between the distributor and the retailer",null,"$",100]
["Monthly Fixed Charge, per retailer",null,"$",20]
["Monthly Variable Charge, per customer, per retailer",null,"$/cust.",0.5]
["Distributor-consolidated billing monthly charge, per customer, per retailer",null,"$/cust.",0.3]
["Retailer-consolidated billing monthly credit, per customer, per retailer",null,"$/cust.",-0.3]
["Service Transaction Requests (STR) "]
["Request fee, per request, applied to the requesting party",null,"$",0.25]
["Processing fee, per request, applied to the requesting party",null,"$",0.5]
["Request for customer information as outlined in Section 10.6.3 and Chapter 11 of the Retail"]
["Settlement Code directly to retailers and customers, if not delivered electronically through the"]
["Electronic Business Transaction (EBT) system, applied to the requesting party "]
["Up to twice a year",null,"$","no charge"]
["More than twice a year, per request (plus incremental delivery costs)",null,"$",2]
[]
["LOSS FACTORS"]
[]
["If the distributor is not capable of prorating changed loss factors jointly with distribution rates, the revised loss factors will be implemented upon the first subsequent billing for each billing cycle."]

{"sheet":"Sheet19","index":37,"n_rows":72,"n_cols":9,"rows_kept":72,"cut":false,"hidden":true,"merged":[]}
[null,"CGAAP","CGAAP","CGAAP","MIFRS","USGAAP","ASPE","ASPE","ASPE"]
[null,"N/A",2012,2013,null,null,"N/A",2012,2013]
["LDC Info","x","x","x","x","x","x","x","x"]
["Table of Contents","x","x","x","x","x","x","x","x"]
["COS Flowchart","x","x","x","x","x","x","x","x"]
["List of Key References","x","x","x","x","x","x","x","x"]
["App.2-AA_Capital Projects","x","x","x","x","x","x","x","x"]
["App.2-AB_Capital Expenditures","x","x","x","x","x","x","x","x"]
["App.2-BA1_Fix Asset Cont.CGAAP","x","x","x","n","x","x","x","x"]
["App.2-BA2_Fix Asset Cont.MIFRS","n","n","n","x","n","n","n","n"]
["Appendix 2-BB Service Life Comp","x","x","x","x","x","x","x","x"]
["Instruction for App. 2-C MIFRS","n","n","n","x","n","n","n","n"]
["App.2-CA_CGAAP_DepExp_2011","n","n","n","x","n","n","n","n"]
["App.2-CB_MIFRS_DepExp_2011","n","n","n","x","n","n","n","n"]
["App.2-CC_MIFRS_DepExp_2012","n","n","n","x","n","n","n","n"]
["App.2-CD_MIFRS_DepExp_2013","n","n","n","x","n","n","n","n"]
["App.2-CE_MIFRS_DepExp_2014","n","n","n","x","n","n","n","n"]
["App.2-CF_CGAAP_DepExp_2012","n","n","n","x","n","n","n","n"]
["App.2-CG_MIFRS_DepExp_2012","n","n","n","x","n","n","n","n"]
["App.2-CH_MIFRS_DepExp_2013","n","n","n","x","n","n","n","n"]
["App.2-CI_MIFRS_DepExp_2014","n","n","n","x","n","n","n","n"]
["App.2-CJ_CGAAP_DepExp_2012","n","n","n","x","n","n","n","n"]
["App.2-CK_CGAAP_DepExp_2013","n","n","n","x","n","n","n","n"]
["App.2-CL_MIFRS_DepExp_2013","n","n","n","x","n","n","n","n"]
["App.2-CM_MIFRS_DepExp_2014","n","n","n","x","n","n","n","n"]
["Instruction for App. 2-C CGAAP","x","x","x","n","n","x","x","x"]
["App.2-CN_OldCGAAP_DepExp_2012","x","x","n","n","n","x","x","n"]
["App.2-CO_NewCGAAP_DepExp_2012","x","x","n","n","n","x","x","n"]
["App.2-CP_NewCGAAP_DepExp_2013","x","x","n","n","n","x","x","n"]
["App.2-CQ NewCGAAP_DepExp_2014","x","x","n","n","n","x","x","n"]
["App.2-CR_OldCGAAP_DepExp_2012","x","n","x","n","n","x","n","x"]
["App.2-CS_OldCGAAP_DepExp_2013","x","n","x","n","n","x","n","x"]
["App.2-CT_NewCGAAP_DepExp_2013","x","n","x","n","n","x","n","x"]
["App.2-CU_NewCGAAP_DepExp_2014","x","n","x","n","n","x","n","x"]
["App.2-CV_USGAAP_DepExp","n","n","n","n","x","n","n","n"]
["App.2-DA_Overhead","n","n","n","x","n","n","n","n"]
["App.2-DB_Overhead","x","x","x","n","n","x","x","x"]
["App.2-EA_PP&E Deferral Account","n","n","n","x","x","n","n","n"]
["App.2-EB_PP&E Deferral Account","n","n","n","x","x","n","n","n"]
["App.2-EC_PP&E Deferral Account","n","n","n","x","x","n","n","n"]
["App.2-ED_Account 1576 (2012)","x","x","n","x","x","x","x","n"]
["App.2-EE_Account 1576 (2013)","x","n","x","x","x","x","n","x"]
["App.2-FA Proposed REG Invest.","o","o","o","o","o","o","o","o"]
["App.2-FB Calc of REG Improvemnt","o","o","o","o","o","o","o","o"]
["App.2-FC Calc of REG Expansion","o","o","o","o","o","o","o","o"]
["App.2-G SQI","x","x","x","x","x","x","x","x"]
["App.2-H_Other_Oper_Rev","x","x","x","x","x","x","x","x"]
["App.2-I LF_CDM_WF","x","x","x","x","x","x","x","x"]
["App.2-JA_OM&A_Summary_Analys","x","x","x","x","x","x","x","x"]
["App.2-JB_OM&A_Cost _Drivers","x","x","x","x","x","x","x","x"]
["App.2-JC_OMA Programs","x","x","x","x","x","x","x","x"]
["App.2-K_Employee Costs","x","x","x","x","x","x","x","x"]
["App.2-L_OM&A_per_Cust_FTEE","x","x","x","x","x","x","x","x"]
["App.2-M_Regulatory_Costs","x","x","x","x","x","x","x","x"]
["App.2-N_Corp_Cost_Allocation","x","x","x","x","x","x","x","x"]
["App.2-OA Capital Structure","x","x","x","x","x","x","x","x"]
["App.2-OB_Debt Instruments","x","x","x","x","x","x","x","x"]
["App.2-P_Cost_Allocation","x","x","x","x","x","x","x","x"]
["App.2-Q_Cost of Serv. Emb. Dx","e","e","e","e","e","e","e","e"]
["App.2-R_Loss Factors","x","x","x","x","x","x","x","x"]
["App.2-S_Stranded Meters","x","x","x","x","x","x","x","x"]
["App.2-TA_1592_Tax_Variance","x","x","x","x","x","x","x","x"]
["App.2-TB_1592_HST-OVAT","x","x","x","x","x","x","x","x"]
["App.2-U_IFRS Transition Costs","x","x","x","x","x","x","x","x"]
["App.2-V_Rev_Reconciliation","x","x","x","x","x","x","x","x"]
["App.2-W_Bill Impacts","x","x","x","x","x","x","x","x"]
["App.2-YA_MIFRS Summary Impacts","n","n","n","x","n","n","n","n"]
["App. 2-YB_CGAAP Summary Impacts","x","x","x","n","n","x","x","x"]
["App. 2-Z_Tariff","x","x","x","x","x","x","x","x"]
["lists","n","n","n","n","n","n","n","n"]
["lists2","n","n","n","n","n","n","n","n"]
["Sheet19","n","n","n","n","n","n","n","n"]

{"sheet":"Sheet1","index":38,"n_rows":0,"n_cols":0,"rows_kept":0,"cut":false,"hidden":true,"merged":[]}