Workbook
Name AllVariables: '5.Variables'!$B$120:$B$125
Name Variable1: '5.Variables'!$B$16
Name Variable2: '5.Variables'!$B$39
Name Variable3: '5.Variables'!$B$62
Name Variable5: '5.Variables'!$B$90
Name Variable6: '5.Variables'!$B$104

Sheet 1. LDC Info
A1: Load Forecast Model version 1.0 © CHEC
B11: LDC Info
B13: Utility Name
B15: Service Territory
B17: Assigned EB Number
B19: Name of Contact and Title
B21: Phone Number
B23: Email Address
B25: Bridge Year | F25: 2016
B27: Test Year | F27: 2017
B29: Last Rebasing Year | F29: 2013
B32: Model Notes
B33: Input cells
B34: Drop down cells

Sheet 2. Customer Classes
A1: Load Forecast Model version 1.0 © CHEC
B11: Customer Classes
B13: Customer Class Name | C13: Energy (kWh) Weather Sensitive / Non-weather sensitive | D13: Demand (kW) Weather Sensitive / Non-weather sensitive
B14: Residential | C14: Weather-Sensitive | D14: n/a | F14: Enter Only Customer Clasess in which Distribution Volumetric is billed in kWh | I14: kWh
B15: General Service < 50 kW | C15: Weather-Sensitive | D15: n/a | I15: kWh
B16: Unmetered Scattered Load | C16: Weather-Sensitive | D16: Non-Weather Sensitive | I16: kWh
C17: n/a | D17: n/a
B18: General Service > 50 kW - 2999 kW | C18: Weather-Sensitive | D18: Non-Weather Sensitive | F18: Enter Only Customer Clasess in which Distribution Volumetric is billed in kW | I18: kW
B19: Streetlighting | C19: Non-Weather Sensitive | D19: Non-Weather Sensitive | I19: kW
B20: Sentinel Lighting | C20: Non-Weather Sensitive | D20: Non-Weather Sensitive | I20: kW
B21: General Service 3000-4999 kW | C21: Non-Weather Sensitive | D21: Non-Weather Sensitive | I21: kW
B22: other | C22: n/a | D22: n/a
B23: other | C23: n/a | D23: n/a

Sheet 3. Consumption by Rate Class
A1: Load Forecast Model version 1.0 © CHEC
B11: Consumption by Rate Class
B12: Notes:
B13: 1) "Wholesale" purchases are purchases measured at the wholesale meter.
B14: 2) "Metered" or Class consumption is monthly usage measured at the retail meter, unadjusted for losses (i.e., the retail consumption amount)
B15: 3) "Consumed" consumption (retail) is the uplifted consumption billed
B16: 4) Number of customers is defined as number of connections (i.e., meters). Add or delete rate classes as appropriate.
B18: Consumption should reflect usage in the month, not the month in which it was billed (e.g what was used in January not what was billed in January, etc.).
D20: ='2. Customer Classes'!B14 -> Residential | F20: ='2. Customer Classes'!B15 -> General Service < 50 kW | H20: =+'2. Customer Classes'!B16 -> Unmetered Scattered Load | J20: =+'2. Customer Classes'!B17 -> 0 | L20: ='2. Customer Classes'!B18 -> General Service > 50 kW - 2999 kW | O20: ='2. Customer Classes'!B19 -> Streetlighting | R20: ='2. Customer Classes'!B20 -> Sentinel Lighting | U20: ='2. Customer Classes'!B21 -> General Service 3000-4999 kW | X20: ='2. Customer Classes'!B22 -> other | Z20: ='2. Customer Classes'!B23 -> other
D21: Unadjusted | F21: Unadjusted | H21: Unadjusted | J21: Unadjusted | L21: Unadjusted | O21: Unadjusted | R21: Unadjusted | U21: Unadjusted | X21: Unadjusted | Z21: Unadjusted
E22: Customer | G22: Customer | I22: Customer | K22: Customer | N22: Customer | Q22: Customer | T22: Customer | W22: Customer | Y22: Customer | AA22: Customer
D23: kWh | E23: Connections | F23: kWh | G23: Connections | H23: kWh | I23: Connections | J23: kWh | K23: Connections | L23: kWh | M23: kW | N23: Connections | O23: kWh | P23: kW | Q23: Connections | R23: kWh | S23: kW | T23: Connections | U23: kWh | V23: kW | W23: Connections | X23: kWh | Y23: Connections | Z23: kWh | AA23: Connections
B24: Year | C24: Montth
B25: ='1. LDC Info'!$F$27-11 -> 2006 | C25: January | D25: 7300752 | E25: 7627 | F25: 2930015 | G25: 1029 | H25: 48281 | I25: 58 | L25: 10265894 | M25: 25126.3 | N25: 149 | O25: 202108 | P25: 434.6 | Q25: 2649 | R25: 5005.9821 | S25: 13.905506 | T25: 55 | U25: 1773711 | V25: 4008.1 | W25: 1
B26: ='1. LDC Info'!$F$27-11 -> 2006 | C26: February | D26: 6348471 | E26: 7656 | F26: 2761922 | G26: 1038 | H26: 48281 | I26: 58 | L26: 9772851 | M26: 24406.6 | N26: 140 | O26: 167336 | P26: 434.6 | Q26: 2657 | R26: 5554.0179 | S26: 15.427827 | T26: 55 | U26: 2088608 | V26: 4977.1 | W26: 1
B27: ='1. LDC Info'!$F$27-11 -> 2006 | C27: March | D27: 6372359 | E27: 7656 | F27: 2913477 | G27: 1036 | H27: 49841 | I27: 58 | L27: 10557668 | M27: 24256.6 | N27: 140 | O27: 169024 | P27: 434.8 | Q27: 2657 | R27: 4806.6071 | S27: 13.351687 | T27: 55 | U27: 2656351 | V27: 4972.4 | W27: 1
B28: ='1. LDC Info'!$F$27-11 -> 2006 | C28: April | D28: 5389827 | E28: 7686 | F28: 2529409 | G28: 1043 | H28: 49660.778 | I28: 58 | L28: 9685903 | M28: 24940.7 | N28: 140 | O28: 143611.82 | P28: 434.8 | Q28: 2657 | R28: 6492.7417 | S28: 18.100845 | T28: 55 | U28: 2554129 | V28: 4608.6 | W28: 1
B29: ='1. LDC Info'!$F$27-11 -> 2006 | C29: May | D29: 5080428 | E29: 7692 | F29: 2528254 | G29: 1043 | H29: 49841 | I29: 58 | L29: 9983253 | M29: 24060.5 | N29: 140 | O29: 131959 | P29: 434.8 | Q29: 2677 | R29: 5170.8696 | S29: 14.363527 | T29: 55 | U29: 2231737 | V29: 4333 | W29: 1
B30: ='1. LDC Info'!$F$27-11 -> 2006 | C30: June | D30: 5168425 | E30: 7703 | F30: 2645963 | G30: 1042 | H30: 49841 | I30: 78 | L30: 10241009 | M30: 25334.4 | N30: 140 | O30: 117817 | P30: 435.2 | Q30: 2677 | R30: 7893.9545 | S30: 21.927652 | T30: 55 | U30: 2396213 | V30: 4523.4 | W30: 1
B31: ='1. LDC Info'!$F$27-11 -> 2006 | C31: July | D31: 5687825 | E31: 7732 | F31: 2870298 | G31: 1042 | H31: 49841 | I31: 79 | L31: 10368462 | M31: 24997 | N31: 140 | O31: 124670 | P31: 435.2 | Q31: 2693 | R31: 7356.6 | S31: 20.435 | T31: 55 | U31: 1690009 | V31: 3806.2 | W31: 1
B32: ='1. LDC Info'!$F$27-11 -> 2006 | C32: August | D32: 5571804 | E32: 7737 | F32: 2779493 | G32: 1047 | H32: 49841 | I32: 79 | L32: 10464948 | M32: 25681.4 | N32: 140 | O32: 141195 | P32: 435.5 | Q32: 2693 | R32: 7096.74 | S32: 19.713167 | T32: 55 | U32: 1809678 | V32: 4296.4 | W32: 1
B33: ='1. LDC Info'!$F$27-11 -> 2006 | C33: September | D33: 5073158 | E33: 7757 | F33: 2447829 | G33: 1045 | H33: 49841 | I33: 79 | L33: 9997621 | M33: 25546.6 | N33: 140 | O33: 152952 | P33: 435.5 | Q33: 2693 | R33: 7024.76 | S33: 19.513222 | T33: 55 | U33: 1560923 | V33: 3464.9 | W33: 1
B34: ='1. LDC Info'!$F$27-11 -> 2006 | C34: October | D34: 5463031 | E34: 7798 | F34: 2506700 | G34: 1046 | H34: 49841 | I34: 79 | L34: 10128900 | M34: 24925.2 | N34: 140 | O34: 178208 | P34: 435.5 | Q34: 2693 | R34: 6318.5 | S34: 17.551389 | T34: 55 | U34: 1423298 | V34: 3193.2 | W34: 1
B35: ='1. LDC Info'!$F$27-11 -> 2006 | C35: November | D35: 5992249 | E35: 7781 | F35: 2605868 | G35: 1041 | H35: 49841 | I35: 79 | L35: 9888279 | M35: 24552.9 | N35: 140 | O35: 188876 | P35: 435.5 | Q35: 2693 | R35: 6220 | S35: 17.277778 | T35: 55 | U35: 1844230 | V35: 3447.85 | W35: 1
B36: ='1. LDC Info'!$F$27-11 -> 2006 | C36: December | D36: 6894335 | E36: 7781 | F36: 2853942 | G36: 1044 | H36: 50300 | I36: 79 | L36: 9620914 | M36: 23649.1 | N36: 142 | O36: 205533 | P36: 435.5 | Q36: 2693 | R36: 7122.9231 | S36: 19.785897 | T36: 55 | U36: 1414303 | V36: 2847.8 | W36: 1
B37: ='1. LDC Info'!$F$27-10 -> 2007 | C37: January | D37: 7474072 | E37: 7806 | F37: 2958704 | G37: 1042 | H37: 50300 | I37: 80 | L37: 10302859 | M37: 24192.9 | N37: 142 | O37: 202485 | P37: 435.5 | Q37: 2693 | R37: 5061.3462 | S37: 14.059295 | T37: 55 | U37: 1825623 | V37: 3706.2 | W37: 1
B38: ='1. LDC Info'!$F$27-10 -> 2007 | C38: February | D38: 6905296 | E38: 7806 | F38: 3042367 | G38: 1058 | H38: 50300 | I38: 80 | L38: 9896543 | M38: 24741.5 | N38: 131 | O38: 167649 | P38: 435.5 | Q38: 2693 | R38: 7041.7692 | S38: 19.56047 | T38: 55 | U38: 1915433 | V38: 4300.5 | W38: 1
B39: ='1. LDC Info'!$F$27-10 -> 2007 | C39: March | D39: 6959117 | E39: 7808 | F39: 3159610 | G39: 1057 | H39: 50300 | I39: 80 | L39: 10659680 | M39: 25079.3 | N39: 131 | O39: 169281 | P39: 435.5 | Q39: 2693 | R39: 7349.3846 | S39: 20.414957 | T39: 55 | U39: 2426025 | V39: 4487.2 | W39: 1
B40: ='1. LDC Info'!$F$27-10 -> 2007 | C40: April | D40: 5686517 | E40: 7805 | F40: 2680164 | G40: 1050 | H40: 50300 | I40: 82 | L40: 9498379 | M40: 24263.7 | N40: 130 | O40: 144352 | P40: 435.5 | Q40: 2693 | R40: 7796.4878 | S40: 21.656911 | T40: 55 | U40: 2464608 | V40: 4764.7 | W40: 1
B41: ='1. LDC Info'!$F$27-10 -> 2007 | C41: May | D41: 5201753 | E41: 7808 | F41: 2632488 | G41: 1039 | H41: 50300 | I41: 82 | L41: 9577169 | M41: 23771.2 | N41: 129 | O41: 132159 | P41: 435.5 | Q41: 2693 | R41: 3116.76 | S41: 8.6576667 | T41: 55 | U41: 2207305 | V41: 4345.3 | W41: 1
B42: ='1. LDC Info'!$F$27-10 -> 2007 | C42: June | D42: 5104206 | E42: 7811 | F42: 2713078 | G42: 1038 | H42: 50300 | I42: 80 | L42: 10263136 | M42: 25232.8 | N42: 129 | O42: 117898 | P42: 435.5 | Q42: 2693 | R42: 6370.0976 | S42: 17.694715 | T42: 55 | U42: 1558995.9 | V42: 4405.9 | W42: 1
B43: ='1. LDC Info'!$F$27-10 -> 2007 | C43: July | D43: 5541854 | E43: 7813 | F43: 2861486 | G43: 1037 | H43: 50300 | I43: 80 | L43: 9983112 | M43: 25114.5 | N43: 130 | O43: 124756 | P43: 435.5 | Q43: 2693 | R43: 5282.5588 | S43: 14.673775 | T43: 55 | U43: 1016601 | V43: 2468.5 | W43: 1
B44: ='1. LDC Info'!$F$27-10 -> 2007 | C44: August | D44: 5563548 | E44: 7854 | F44: 2891889 | G44: 1034 | H44: 50300 | I44: 80 | L44: 10907434 | M44: 25443.1 | N44: 130 | O44: 141195 | P44: 435.5 | Q44: 2693 | R44: 7581 | S44: 21.058333 | T44: 55 | U44: 1281199.6 | V44: 2700 | W44: 1
B45: ='1. LDC Info'!$F$27-10 -> 2007 | C45: September | D45: 5096979 | E45: 7872 | F45: 2651573 | G45: 1037 | H45: 50300 | I45: 80 | L45: 10588626 | M45: 25461.4 | N45: 132 | O45: 152952 | P45: 435.5 | Q45: 2693 | R45: 7245.3333 | S45: 20.125926 | T45: 55 | U45: 1330747.2 | V45: 5218 | W45: 1
B46: ='1. LDC Info'!$F$27-10 -> 2007 | C46: October | D46: 5337475 | E46: 7875 | F46: 2688452 | G46: 1041 | H46: 50300 | I46: 80 | L46: 10688243 | M46: 25262.6 | N46: 132 | O46: 178208 | P46: 435.5 | Q46: 2693 | R46: 7139.25 | S46: 19.83125 | T46: 55 | U46: 1439149.3 | V46: 2880.4 | W46: 1
B47: ='1. LDC Info'!$F$27-10 -> 2007 | C47: November | D47: 6070463 | E47: 7879 | F47: 2822735 | G47: 1047 | H47: 51164 | I47: 81 | L47: 10410695 | M47: 25206.2 | N47: 132 | O47: 188876 | P47: 435.5 | Q47: 2792 | R47: 6430.9412 | S47: 17.863725 | T47: 55 | U47: 1692527.8 | V47: 3570.9 | W47: 1
B48: ='1. LDC Info'!$F$27-10 -> 2007 | C48: December | D48: 7160075 | E48: 7878 | F48: 3020385 | G48: 1044 | H48: 51164 | I48: 81 | L48: 9641305 | M48: 27039.9 | N48: 153 | O48: 212117 | P48: 449.4 | Q48: 2793 | R48: 6027.2222 | S48: 16.742284 | T48: 55 | U48: 1425400.3 | V48: 3379 | W48: 1
B49: ='1. LDC Info'!$F$27-9 -> 2008 | C49: January | D49: 7483894 | E49: 7889 | F49: 3377051 | G49: 1043 | H49: 51164 | I49: 82 | L49: 10485719 | M49: 25249.4 | N49: 132 | O49: 208972 | P49: 449.4 | Q49: 2793 | R49: 6673.75 | S49: 18.538194 | T49: 55 | U49: 2132961 | V49: 4242.9 | W49: 1
B50: ='1. LDC Info'!$F$27-9 -> 2008 | C50: February | D50: 6878615 | E50: 7892 | F50: 3032937 | G50: 1041 | H50: 50446 | I50: 83 | L50: 10240909 | M50: 25006.4 | N50: 132 | O50: 179198 | P50: 449.4 | Q50: 2793 | R50: 8038.7812 | S50: 22.329948 | T50: 55 | U50: 1768153 | V50: 3792.6 | W50: 1
B51: ='1. LDC Info'!$F$27-9 -> 2008 | C51: March | D51: 6751127 | E51: 7895 | F51: 3033738 | G51: 1039 | H51: 57935 | I51: 92 | L51: 10387412 | M51: 25006.8 | N51: 133 | O51: 172196 | P51: 443 | Q51: 2793 | R51: 6652.1111 | S51: 18.478086 | T51: 55 | U51: 1674289 | V51: 3523.9 | W51: 1
B52: ='1. LDC Info'!$F$27-9 -> 2008 | C52: April | D52: 5538476 | E52: 7897 | F52: 2674755 | G52: 1039 | H52: 59572 | I52: 96 | L52: 9777040 | M52: 24685.9 | N52: 133 | O52: 146174 | P52: 443 | Q52: 2793 | R52: 7145.5833 | S52: 19.848843 | T52: 55 | U52: 1801153.5 | V52: 3400.3 | W52: 1
B53: ='1. LDC Info'!$F$27-9 -> 2008 | C53: May | D53: 5154485 | E53: 7898 | F53: 2551153 | G53: 1041 | H53: 61689 | I53: 96 | L53: 9623583 | M53: 24617.3 | N53: 133 | O53: 133882 | P53: 443 | Q53: 2793 | R53: 6360.7347 | S53: 17.668707 | T53: 55 | U53: 1531545.4 | V53: 3447.6 | W53: 1
B54: ='1. LDC Info'!$F$27-9 -> 2008 | C54: June | D54: 5121822 | E54: 7907 | F54: 2651204 | G54: 1042 | H54: 62303.743 | I54: 96 | L54: 10074899 | M54: 24008.2 | N54: 132 | O54: 120396.52 | P54: 443 | Q54: 2793 | R54: 6235.8235 | S54: 17.206703 | T54: 61 | U54: 1483481.9 | V54: 3087.2 | W54: 1
B55: ='1. LDC Info'!$F$27-9 -> 2008 | C55: July | D55: 5501402 | E55: 7917 | F55: 2888471 | G55: 1043 | H55: 62599 | I55: 97 | L55: 10548104 | M55: 25267.2 | N55: 132 | O55: 127016 | P55: 443 | Q55: 2793 | R55: 6758.8846 | S55: 18.774679 | T55: 61 | U55: 1640411.3 | V55: 3252 | W55: 1
B56: ='1. LDC Info'!$F$27-9 -> 2008 | C56: August | D56: 5472077 | E56: 7915 | F56: 2833285 | G56: 1043 | H56: 62079 | I56: 97 | L56: 10126348 | M56: 25272.5 | N56: 132 | O56: 144181 | P56: 443 | Q56: 2793 | R56: 7602.7941 | S56: 21.118873 | T56: 61 | U56: 1062188 | V56: 3439.1 | W56: 1
B57: ='1. LDC Info'!$F$27-9 -> 2008 | C57: September | D57: 5086238 | E57: 7932 | F57: 2637269 | G57: 1040 | H57: 63463 | I57: 98 | L57: 10239212 | M57: 24989.9 | N57: 133 | O57: 156140 | P57: 443 | Q57: 2793 | R57: 6276.1071 | S57: 17.433631 | T57: 61 | U57: 1678443 | V57: 3600.2 | W57: 1
B58: ='1. LDC Info'!$F$27-9 -> 2008 | C58: October | D58: 5400379 | E58: 8052 | F58: 2668598 | G58: 1052 | H58: 62943 | I58: 98 | L58: 10096532 | M58: 25549.1 | N58: 133 | O58: 149422 | P58: 363.8 | Q58: 2793 | R58: 7349.7429 | S58: 20.415952 | T58: 61 | U58: 1500377.3 | V58: 2810 | W58: 1
B59: ='1. LDC Info'!$F$27-9 -> 2008 | C59: November | D59: 6282236 | E59: 8084 | F59: 2862777 | G59: 1051 | H59: 63463 | I59: 98 | L59: 9776177 | M59: 24612.2 | N59: 134 | O59: 158245 | P59: 363.8 | Q59: 2793 | R59: 6626.5091 | S59: 18.40697 | T59: 61 | U59: 1600666.3 | V59: 3201.4 | W59: 1
B60: ='1. LDC Info'!$F$27-9 -> 2008 | C60: December | D60: 7515253 | E60: 8023 | F60: 3245558 | G60: 1052 | H60: 62743 | I60: 98 | L60: 9627441 | M60: 24647.5 | N60: 134 | O60: 171977 | P60: 363.8 | Q60: 2793 | R60: 5332.9778 | S60: 14.813827 | T60: 61 | U60: 931835.7 | V60: 2666.6 | W60: 1
B61: ='1. LDC Info'!$F$27-8 -> 2009 | C61: January | D61: 7866405 | E61: 8132 | F61: 3373321.2 | G61: 1060 | H61: 63263 | I61: 97 | L61: 9990638 | M61: 24548.8 | N61: 129 | O61: 169158 | P61: 363.8 | Q61: 2886 | R61: 6423.1923 | S61: 17.842201 | T61: 62 | U61: 1512592.9 | V61: 3346 | W61: 1
B62: ='1. LDC Info'!$F$27-8 -> 2009 | C62: February | D62: 6760650 | E62: 8131 | F62: 3021045 | G62: 1061 | H62: 62743 | I62: 97 | L62: 9262361 | M62: 24764.3 | N62: 130 | O62: 126954 | P62: 329.8 | Q62: 2886 | R62: 7147.6389 | S62: 19.854552 | T62: 62 | U62: 1657022 | V62: 3608.2 | W62: 1
B63: ='1. LDC Info'!$F$27-8 -> 2009 | C63: March | D63: 6632476 | E63: 8151 | F63: 3070816 | G63: 1060 | H63: 63263 | I63: 97 | L63: 9986968 | M63: 24347.9 | N63: 131 | O63: 127778 | P63: 329.8 | Q63: 2886 | R63: 6507.9583 | S63: 18.077662 | T63: 62 | U63: 1438631.7 | V63: 4236.1 | W63: 1
B64: ='1. LDC Info'!$F$27-8 -> 2009 | C64: April | D64: 5541968 | E64: 8181 | F64: 2674378 | G64: 1064 | H64: 62743 | I64: 97 | L64: 9128521 | M64: 23610.9 | N64: 131 | O64: 108818 | P64: 329.8 | Q64: 2886 | R64: 7354.5294 | S64: 20.429248 | T64: 57 | U64: 1582039 | V64: 4091.5 | W64: 1
B65: ='1. LDC Info'!$F$27-8 -> 2009 | C65: May | D65: 5117567 | E65: 8191 | F65: 2653110 | G65: 1051 | H65: 63213 | I65: 96 | L65: 9208490 | M65: 24000.7 | N65: 131 | O65: 99667 | P65: 329.8 | Q65: 2733 | R65: 6159.5217 | S65: 17.109783 | T65: 57 | U65: 1832551 | V65: 4727 | W65: 1
B66: ='1. LDC Info'!$F$27-8 -> 2009 | C66: June | D66: 4951914 | E66: 8195 | F66: 2637237 | G66: 1058 | H66: 62693 | I66: 96 | L66: 9666388 | M66: 23560.3 | N66: 130 | O66: 82945 | P66: 307.3 | Q66: 2641 | R66: 6613.075 | S66: 18.369653 | T66: 57 | U66: 1897917 | V66: 4612.3 | W66: 1
B67: ='1. LDC Info'!$F$27-8 -> 2009 | C67: July | D67: 5396409 | E67: 8203 | F67: 2874677 | G67: 1060 | H67: 63213 | I67: 96 | L67: 9765834 | M67: 24621.9 | N67: 129 | O67: 77686 | P67: 271 | Q67: 2642 | R67: 6475.2174 | S67: 17.986715 | T67: 57 | U67: 1678303 | V67: 4217.5 | W67: 1
B68: ='1. LDC Info'!$F$27-8 -> 2009 | C68: August | D68: 5625332 | E68: 8219 | F68: 2967579 | G68: 1062 | H68: 62953 | I68: 96 | L68: 10129093 | M68: 24304.3 | N68: 129 | O68: 88190 | P68: 271 | Q68: 2705 | R68: 6932.4 | S68: 19.256667 | T68: 57 | U68: 1565396 | V68: 4434.1 | W68: 1
B69: ='1. LDC Info'!$F$27-8 -> 2009 | C69: September | D69: 5229017 | E69: 8230 | F69: 2674140 | G69: 1063 | H69: 62953 | I69: 95 | L69: 9710715 | M69: 25263.8 | N69: 129 | O69: 97876 | P69: 277.7 | Q69: 2735 | R69: 7801.0952 | S69: 21.669709 | T69: 57 | U69: 1527190 | V69: 3800.5 | W69: 1
B70: ='1. LDC Info'!$F$27-8 -> 2009 | C70: October | D70: 5448050 | E70: 8234 | F70: 2694171 | G70: 1063 | H70: 56645 | I70: 96 | L70: 9546808 | M70: 24143.9 | N70: 129 | O70: 116281 | P70: 280.7 | Q70: 2745 | R70: 6408.8158 | S70: 17.802266 | T70: 57 | U70: 1612105 | V70: 3949.4 | W70: 1
B71: ='1. LDC Info'!$F$27-8 -> 2009 | C71: November | D71: 5954931 | E71: 8237 | F71: 2725548 | G71: 1063 | H71: 63213 | I71: 96 | L71: 9055750 | M71: 23440.7 | N71: 129 | O71: 122409 | P71: 281.7 | Q71: 2745 | R71: 6551.6154 | S71: 18.198932 | T71: 57 | U71: 1800121 | V71: 4158.6 | W71: 1
B72: ='1. LDC Info'!$F$27-8 -> 2009 | C72: December | D72: 7412279 | E72: 8243 | F72: 3132924 | G72: 1065 | H72: 60979.034 | I72: 94 | L72: 9424394 | M72: 23535.1 | N72: 130 | O72: 133139.17 | P72: 281.7 | Q72: 2745 | R72: 4424.6276 | S72: 15.510913 | T72: 57 | U72: 1450498 | V72: 4447.7 | W72: 1
B73: ='1. LDC Info'!$F$27-7 -> 2010 | C73: January | D73: 7764497 | E73: 8242 | F73: 3326441 | G73: 1066 | H73: 62693.293 | I73: 94 | L73: 10389064 | M73: 24787 | N73: 130 | O73: 130958.16 | P73: 281.7 | Q73: 2745 | R73: 2855.5166 | S73: 17.84375 | T73: 57 | U73: 1493109 | V73: 3716.3 | W73: 1 | AB73: =D73+F73+H73+L73+O73+R73+U73 -> 23169618
B74: ='1. LDC Info'!$F$27-7 -> 2010 | C74: February | D74: 6490321 | E74: 8244 | F74: 2949100 | G74: 1064 | H74: 63752.965 | I74: 95 | L74: 9634785 | M74: 25055.6 | N74: 131 | O74: 108428.04 | P74: 281.7 | Q74: 2745 | R74: 4787.0221 | S74: 16.698837 | T74: 57 | U74: 1671448 | V74: 3833.2 | W74: 1 | AB74: =D74+F74+H74+L74+O74+R74+U74 -> 20922622
B75: ='1. LDC Info'!$F$27-7 -> 2010 | C75: March | D75: 6072098 | E75: 8261 | F75: 2860303 | G75: 1063 | H75: 63752.965 | I75: 96 | L75: 10091212 | M75: 24525 | N75: 131 | O75: 106016.51 | P75: 273.6 | Q75: 2754 | R75: 3219.8084 | S75: 17.888889 | T75: 57 | U75: 2063110 | V75: 4535.6 | W75: 1 | AB75: =D75+F75+H75+L75+O75+R75+U75 -> 21259712
B76: ='1. LDC Info'!$F$27-7 -> 2010 | C76: April | D76: 5314621 | E76: 8286 | F76: 2568070 | G76: 1061 | H76: 63233.09 | I76: 97 | L76: 9738508 | M76: 23927.2 | N76: 131 | O76: 90285.552 | P76: 273.6 | Q76: 2754 | R76: 4513.8032 | S76: 19.345714 | T76: 57 | U76: 2169883 | V76: 4397.4 | W76: 1 | AB76: =D76+F76+H76+L76+O76+R76+U76 -> 19949114
B77: ='1. LDC Info'!$F$27-7 -> 2010 | C77: May | D77: 5267795 | E77: 8292 | F77: 2659492 | G77: 1063 | H77: 63752.965 | I77: 95 | L77: 10023048 | M77: 25436.9 | N77: 131 | O77: 82692.344 | P77: 273.6 | Q77: 2754 | R77: 3082.2503 | S77: 17.786538 | T77: 57 | U77: 2187136 | V77: 4653.1 | W77: 1 | AB77: =D77+F77+H77+L77+O77+R77+U77 -> 20286999
B78: ='1. LDC Info'!$F$27-7 -> 2010 | C78: June | D78: 5484743 | E78: 8306 | F78: 2779559 | G78: 1064 | H78: 56913.955 | I78: 95 | L78: 10316562 | M78: 25785 | N78: 132 | O78: 73869.652 | P78: 273.6 | Q78: 2754 | R78: 4991.9362 | S78: 17.018182 | T78: 57 | U78: 1938469 | V78: 4074.5 | W78: 1 | AB78: =D78+F78+H78+L78+O78+R78+U78 -> 20655109
B79: ='1. LDC Info'!$F$27-7 -> 2010 | C79: July | D79: 6120843 | E79: 8315 | F79: 3022126 | G79: 1067 | H79: 57433.83 | I79: 95 | L79: 10419758 | M79: 25761.6 | N79: 132 | O79: 78452.708 | P79: 273.6 | Q79: 2754 | R79: 2877.3361 | S79: 17.9875 | T79: 57 | U79: 1435239 | V79: 3955.1 | W79: 1 | AB79: =D79+F79+H79+L79+O79+R79+U79 -> 21136730
B80: ='1. LDC Info'!$F$27-7 -> 2010 | C80: August | D80: 6016644 | E80: 8316 | F80: 2931180 | G80: 1069 | H80: 56913.955 | I80: 95 | L80: 11803879 | M80: 25590.5 | N80: 132 | O80: 89215.444 | P80: 274.1 | Q80: 2759 | R80: 4855.3268 | S80: 20.807143 | T80: 57 | U80: 1249785 | V80: 3351.9 | W80: 1 | AB80: =D80+F80+H80+L80+O80+R80+U80 -> 22152473
B81: ='1. LDC Info'!$F$27-7 -> 2010 | C81: September | D81: 5253197 | E81: 8348 | F81: 2566360 | G81: 1070 | H81: 57433.83 | I81: 95 | L81: 9556779 | M81: 25568.7 | N81: 132 | O81: 96617.019 | P81: 274.1 | Q81: 2759 | R81: 2877.3361 | S81: 17.9875 | T81: 57 | U81: 1520762 | V81: 3926.4 | W81: 1 | AB81: =D81+F81+H81+L81+O81+R81+U81 -> 19054026
B82: ='1. LDC Info'!$F$27-7 -> 2010 | C82: October | D82: 5493832 | E82: 8351 | F82: 2603494 | G82: 1071 | H82: 56914 | I82: 95 | L82: 9836994 | M82: 25627.21 | N82: 132 | O82: 112582.3 | P82: 274.1 | Q82: 2759 | R82: 6687.2432 | S82: 18.575676 | T82: 57 | U82: 952609 | V82: 2960.9 | W82: 1 | AB82: =D82+F82+H82+L82+O82+R82+U82 -> 19063113
B83: ='1. LDC Info'!$F$27-7 -> 2010 | C83: November | D83: 5954931 | E83: 8351 | F83: 2725548 | G83: 1071 | H83: 56914 | I83: 95 | L83: 9055750 | M83: 23440.7 | N83: 132 | O83: 112582 | P83: 274.1 | Q83: 2759 | R83: 6687.2432 | S83: 18.575676 | T83: 57 | U83: 1033367 | V83: 2454.84 | W83: 1 | AB83: =D83+F83+H83+L83+O83+R83+U83 -> 18945779
B84: ='1. LDC Info'!$F$27-7 -> 2010 | C84: December | D84: 7412279 | E84: 8351 | F84: 3132924 | G84: 1071 | H84: 56914 | I84: 96 | L84: 9424394 | M84: 23535.1 | N84: 132 | O84: 112582 | P84: 274.1 | Q84: 2759 | R84: 6687.2432 | S84: 18.575676 | T84: 53 | U84: 1321427.5 | V84: 3396.48 | W84: 1 | AB84: =D84+F84+H84+L84+O84+R84+U84 -> 21467208 | AC84: =SUM(AB73:AB84) -> 2.480625e+08 | AD84: 2010
B85: ='1. LDC Info'!$F$27-6 -> 2011 | C85: January | D85: 6554103 | E85: 8369 | F85: 2776298 | G85: 1069 | H85: 54656 | I85: 97 | L85: 8708269 | M85: 24695.4 | N85: 131 | O85: 129576 | P85: 274 | Q85: 2759 | R85: 4513 | S85: 11 | T85: 53 | U85: 1321427 | V85: 3614 | W85: 1 | AB85: =D85+F85+H85+L85+O85+R85+U85 -> 19548842
B86: ='1. LDC Info'!$F$27-6 -> 2011 | C86: February | D86: 7713927 | E86: 8372 | F86: 4052117 | G86: 1069 | H86: 55176 | I86: 97 | L86: 11771518 | M86: 24772 | N86: 130 | O86: 128708 | P86: 277 | Q86: 2759 | R86: 2939 | S86: 11 | T86: 53 | U86: 1448905 | V86: 3706 | W86: 1 | AB86: =D86+F86+H86+L86+O86+R86+U86 -> 25173290
B87: ='1. LDC Info'!$F$27-6 -> 2011 | C87: March | D87: 8556772 | E87: 8375 | F87: 3559983 | G87: 1074 | H87: 55520 | I87: 96 | L87: 10361108 | M87: 25054.5 | N87: 130 | O87: 106564 | P87: 277 | Q87: 2759 | R87: 4096 | S87: 11 | T87: 53 | U87: 1450616 | V87: 3723 | W87: 1 | AB87: =D87+F87+H87+L87+O87+R87+U87 -> 24094659
B88: ='1. LDC Info'!$F$27-6 -> 2011 | C88: April | D88: 6453981 | E88: 8394 | F88: 2785413 | G88: 1075 | H88: 56040 | I88: 96 | L88: 9718344 | M88: 24418.4 | N88: 130 | O88: 107256 | P88: 277 | Q88: 2759 | R88: 2939 | S88: 11 | T88: 53 | U88: 2054608 | V88: 4375.9 | W88: 1 | AB88: =D88+F88+H88+L88+O88+R88+U88 -> 21178581
B89: ='1. LDC Info'!$F$27-6 -> 2011 | C89: May | D89: 6122592 | E89: 8401 | F89: 3468546 | G89: 1076 | H89: 55520 | I89: 96 | L89: 10134569 | M89: 24605.5 | N89: 130 | O89: 91341 | P89: 277 | Q89: 2759 | R89: 4369 | S89: 11 | T89: 53 | U89: 1789131 | V89: 4405.2 | W89: 1 | AB89: =D89+F89+H89+L89+O89+R89+U89 -> 21666068
B90: ='1. LDC Info'!$F$27-6 -> 2011 | C90: June | D90: 5185840 | E90: 8401 | F90: 2706200 | G90: 1075 | H90: 56040 | I90: 96 | L90: 9488200 | M90: 25134.2 | N90: 129 | O90: 83660 | P90: 277 | Q90: 2759 | R90: 2803 | S90: 11 | T90: 53 | U90: 1582482 | V90: 4255 | W90: 1 | AB90: =D90+F90+H90+L90+O90+R90+U90 -> 19105225
B91: ='1. LDC Info'!$F$27-6 -> 2011 | C91: July | D91: 4973050 | E91: 8416 | F91: 3090189 | G91: 1075 | H91: 55520 | I91: 96 | L91: 9812363 | M91: 25620.7 | N91: 129 | O91: 74734 | P91: 277 | Q91: 2759 | R91: 4814 | S91: 11 | T91: 53 | U91: 1133216 | V91: 3445.1 | W91: 1 | AB91: =D91+F91+H91+L91+O91+R91+U91 -> 19143886
B92: ='1. LDC Info'!$F$27-6 -> 2011 | C92: August | D92: 5077797 | E92: 8430 | F92: 3461820 | G92: 1074 | H92: 56040 | I92: 95 | L92: 10255976 | M92: 25728.1 | N92: 129 | O92: 79369 | P92: 277 | Q92: 2759 | R92: 2945 | S92: 11 | T92: 53 | U92: 917248 | V92: 3612.9 | W92: 1 | AB92: =D92+F92+H92+L92+O92+R92+U92 -> 19851195
B93: ='1. LDC Info'!$F$27-6 -> 2011 | C93: September | D93: 5415807 | E93: 8437 | F93: 2944776 | G93: 1072 | H93: 1156 | I93: 95 | L93: 9847716 | M93: 25651.5 | N93: 130 | O93: 90095 | P93: 277 | Q93: 2759 | R93: 3818 | S93: 11 | T93: 53 | U93: 995920 | V93: 3602.9 | W93: 1 | AB93: =D93+F93+H93+L93+O93+R93+U93 -> 19299288
B94: ='1. LDC Info'!$F$27-6 -> 2011 | C94: October | D94: 6292561 | E94: 8442 | F94: 3729962 | G94: 1074 | H94: 108380 | I94: 95 | L94: 10772286 | M94: 25963.1 | N94: 131 | O94: 97569 | P94: 277 | Q94: 2759 | R94: 3350 | S94: 11 | T94: 53 | U94: 881375 | V94: 2888.9 | W94: 1 | AB94: =D94+F94+H94+L94+O94+R94+U94 -> 21885483
B95: ='1. LDC Info'!$F$27-6 -> 2011 | C95: November | D95: 5956185 | E95: 8447 | F95: 3262189 | G95: 1075 | H95: 53023 | I95: 95 | L95: 9677006 | M95: 24796.4 | N95: 131 | O95: 113692 | P95: 277 | Q95: 2759 | R95: 4233 | S95: 11 | T95: 53 | U95: 775755 | V95: 2587.7 | W95: 1 | AB95: =D95+F95+H95+L95+O95+R95+U95 -> 19842083
B96: ='1. LDC Info'!$F$27-6 -> 2011 | C96: December | D96: 4869502 | E96: 8481 | F96: 2966207 | G96: 1076 | H96: 52503 | I96: 95 | L96: 10287559 | M96: 23689.5 | N96: 132 | O96: 120403 | P96: 277 | Q96: 2759 | R96: 2939 | S96: 11 | T96: 53 | U96: 700999 | V96: 2119.3 | W96: 1 | AB96: =D96+F96+H96+L96+O96+R96+U96 -> 19000112 | AC96: =SUM(AB85:AB96) -> 249788712 | AD96: 2011
B97: ='1. LDC Info'!$F$27-5 -> 2012 | C97: January | D97: 6216544 | E97: 8475 | F97: 2269581 | G97: 1077 | H97: 53023 | I97: 95 | L97: 8294749 | M97: 24139 | N97: 134 | O97: 130852 | P97: 277 | Q97: 2759 | R97: 4198 | S97: 11 | T97: 54 | U97: 814703 | V97: 3118.8 | W97: 1 | AB97: =D97+F97+H97+L97+O97+R97+U97 -> 17783650
B98: ='1. LDC Info'!$F$27-5 -> 2012 | C98: February | D98: 6436875 | E98: 8479 | F98: 3492604 | G98: 1073 | H98: 53023 | I98: 92 | L98: 13129611 | M98: 28323 | N98: 134 | O98: 128708 | P98: 277 | Q98: 2759 | R98: 2905 | S98: 11 | T98: 54 | U98: 1388461 | V98: 3422.2 | W98: 1 | AB98: =D98+F98+H98+L98+O98+R98+U98 -> 24632187
B99: ='1. LDC Info'!$F$27-5 -> 2012 | C99: March | D99: 7529265 | E99: 8487 | F99: 3236548 | G99: 1075 | H99: 52503 | I99: 94 | L99: 10820247 | M99: 26598 | N99: 136 | O99: 110370 | P99: 277 | Q99: 2759 | R99: 4198 | S99: 11 | T99: 54 | U99: 1616316 | V99: 3595.6 | W99: 1 | AB99: =D99+F99+H99+L99+O99+R99+U99 -> 23369447
B100: ='1. LDC Info'!$F$27-5 -> 2012 | C100: April | D100: 6336198 | E100: 8505 | F100: 2773186 | G100: 1076 | H100: 53023 | I100: 94 | L100: 10622442 | M100: 26504 | N100: 136 | O100: 107256 | P100: 277 | Q100: 2759 | R100: 2905 | S100: 11 | T100: 54 | U100: 1750524 | V100: 3859.9 | W100: 1 | AB100: =D100+F100+H100+L100+O100+R100+U100 -> 21645534
B101: ='1. LDC Info'!$F$27-5 -> 2012 | C101: May | D101: 5500261 | E101: 8508 | F101: 2604582 | G101: 1077 | H101: 52503 | I101: 94 | L101: 9633098 | M101: 25262 | N101: 136 | O101: 91341 | P101: 277 | Q101: 2759 | R101: 3754 | S101: 11 | T101: 54 | U101: 1543861 | V101: 3570.5 | W101: 1 | AB101: =D101+F101+H101+L101+O101+R101+U101 -> 19429400
B102: ='1. LDC Info'!$F$27-5 -> 2012 | C102: June | D102: 5696737 | E102: 8515 | F102: 2752139 | G102: 1071 | H102: 53023 | I102: 94 | L102: 10661158 | M102: 28164 | N102: 136 | O102: 82035 | P102: 277 | Q102: 2805 | R102: 3213 | S102: 11 | T102: 54 | U102: 1442834 | V102: 3454.2 | W102: 1 | AB102: =D102+F102+H102+L102+O102+R102+U102 -> 20691139
B103: ='1. LDC Info'!$F$27-5 -> 2012 | C103: July | D103: 5153043 | E103: 8526 | F103: 2797420 | G103: 1071 | H103: 52503 | I103: 94 | L103: 10529491 | M103: 27471 | N103: 137 | O103: 75156 | P103: 278 | Q103: 2805 | R103: 4335 | S103: 11 | T103: 54 | U103: 1273812 | V103: 3185.8 | W103: 1 | AB103: =D103+F103+H103+L103+O103+R103+U103 -> 19885760
B104: ='1. LDC Info'!$F$27-5 -> 2012 | C104: August | D104: 5791711 | E104: 8547 | F104: 2689392 | G104: 1071 | H104: 53023 | I104: 94 | L104: 10810375 | M104: 27608 | N104: 140 | O104: 78570 | P104: 280 | Q104: 2805 | R104: 2905 | S104: 11 | T104: 54 | U104: 1331320 | V104: 3360.6 | W104: 1 | AB104: =D104+F104+H104+L104+O104+R104+U104 -> 20757296
B105: ='1. LDC Info'!$F$27-5 -> 2012 | C105: September | D105: 6067565 | E105: 8557 | F105: 3183887 | G105: 1071 | H105: 1206 | I105: 93 | L105: 11858807 | M105: 28229 | N105: 140 | O105: 83127 | P105: 280 | Q105: 2816 | R105: 4130 | S105: 11 | T105: 54 | U105: 1035915 | V105: 3614.9 | W105: 1 | AB105: =D105+F105+H105+L105+O105+R105+U105 -> 22234637
B106: ='1. LDC Info'!$F$27-5 -> 2012 | C106: October | D106: 6218895 | E106: 8556 | F106: 2276693 | G106: 1058 | H106: 101730 | I106: 94 | L106: 10187763 | M106: 26574 | N106: 138 | O106: 98466 | P106: 280 | Q106: 2816 | R106: 2529 | S106: 11 | T106: 54 | U106: 977779 | V106: 3298.2 | W106: 1 | AB106: =D106+F106+H106+L106+O106+R106+U106 -> 19863855
B107: ='1. LDC Info'!$F$27-5 -> 2012 | C107: November | D107: 5216085 | E107: 8555 | F107: 2471177 | G107: 1057 | H107: 51183 | I107: 94 | L107: 11173996 | M107: 28947 | N107: 139 | O107: 114737 | P107: 280 | Q107: 2845 | R107: 4575 | S107: 11 | T107: 54 | U107: 1111452 | V107: 2743.1 | W107: 1 | AB107: =D107+F107+H107+L107+O107+R107+U107 -> 20143205
B108: ='1. LDC Info'!$F$27-5 -> 2012 | C108: December | D108: 4747092 | E108: 8575 | F108: 2626865 | G108: 1057 | H108: 50724 | I108: 94 | L108: 10810590 | M108: 24516 | N108: 140 | O108: 121510 | P108: 280 | Q108: 2845 | R108: 2291 | S108: 11 | T108: 54 | U108: 906371 | V108: 2438.8 | W108: 1 | AB108: =D108+F108+H108+L108+O108+R108+U108 -> 19265443 | AC108: =SUM(AB97:AB108) -> 249701553 | AD108: 2012
B109: ='1. LDC Info'!$F$27-4 -> 2013 | C109: January | D109: 7215795 | E109: 8583 | F109: 2724360 | G109: 1057 | H109: 52212 | I109: 94 | L109: 9523660 | M109: 28369 | N109: 140 | O109: 133315 | P109: 281 | Q109: 2845 | R109: 5511 | S109: 11 | T109: 54 | U109: 876367 | V109: 2983 | W109: 1 | AB109: =D109+F109+H109+L109+O109+R109+U109 -> 20531220
B110: ='1. LDC Info'!$F$27-4 -> 2013 | C110: February | D110: 6452035 | E110: 8596 | F110: 3073929 | G110: 1055 | H110: 50597 | I110: 94 | L110: 12148846 | M110: 26210 | N110: 141 | O110: 131130 | P110: 281 | Q110: 2845 | R110: 1895 | S110: 11 | T110: 54 | U110: 1162232 | V110: 2891 | W110: 1 | AB110: =D110+F110+H110+L110+O110+R110+U110 -> 23020664
B111: ='1. LDC Info'!$F$27-4 -> 2013 | C111: March | D111: 7899287 | E111: 8598 | F111: 3344576 | G111: 1056 | H111: 52389 | I111: 94 | L111: 10545274 | M111: 26649 | N111: 142 | O111: 108570 | P111: 281 | Q111: 2845 | R111: 4917 | S111: 11 | T111: 54 | U111: 1310293 | V111: 3249 | W111: 1 | AB111: =D111+F111+H111+L111+O111+R111+U111 -> 23265306
...

Sheet 4. Customer Growth
A1: Load Forecast Model version 1.0 © CHEC
B11: Customer Growth Chart
B12: Notes:
B13: 1) Utilities will have the choice to manually adjust the projected growth in the bridge and test years if it is felt that the Geomean average does not represent forecasted growth.
C15: ='2. Customer Classes'!B14 -> Residential | E15: ='2. Customer Classes'!B15 -> General Service < 50 kW | G15: ='2. Customer Classes'!B16 -> Unmetered Scattered Load | I15: ='2. Customer Classes'!B17 -> 0 | K15: ='2. Customer Classes'!B18 -> General Service > 50 kW - 2999 kW | M15: ='2. Customer Classes'!B19 -> Streetlighting | O15: ='2. Customer Classes'!B20 -> Sentinel Lighting | Q15: ='2. Customer Classes'!B21 -> General Service 3000-4999 kW | S15: ='2. Customer Classes'!B22 -> other | V15: Total Customers
B16: Date | C16: Customers or Connections | D16: Growth Rate | E16: Customers or Connections | F16: Growth Rate | G16: Customers or Connections | H16: Growth Rate | K16: Customers or Connections | L16: Growth Rate | M16: Customers or Connections | N16: Growth Rate | O16: Customers or Connections | P16: Growth Rate | Q16: Customers or Connections | R16: Growth Rate | S16: Customers or Connections | T16: Growth Rate | V16: Customers & Connections | W16: Growth Rate
B17: ='1. LDC Info'!F25-10 -> 2006 | C17: =AVERAGE('3. Consumption by Rate Class'!E25,'3. Consumption by Rate Class'!E36) -> 7704 | E17: =AVERAGE('3. Consumption by Rate Class'!G25,'3. Consumption by Rate Class'!G36) -> 1036.5 | G17: =AVERAGE('3. Consumption by Rate Class'!I25,'3. Consumption by Rate Class'!I36) -> 68.5 | K17: =AVERAGE('3. Consumption by Rate Class'!N25,'3. Consumption by Rate Class'!N36) -> 145.5 | M17: =IF(SUM('3. Consumption by Rate Class'!Q25:Q36)>0,+AVERAGE('3. Consumption by Rate Class'!Q25,'3. Consumption by Rate Class'!Q36),0) -> 2671 | O17: =AVERAGE('3. Consumption by Rate Class'!T25,'3. Consumption by Rate Class'!T36) -> 55 | Q17: 1 | V17: =+C17+E17+G17+I17+K17+M17+O17+Q17 -> 11681.5
B18: ='1. LDC Info'!F25-9 -> 2007 | C18: =AVERAGE('3. Consumption by Rate Class'!E37,'3. Consumption by Rate Class'!E48) -> 7842 | D18: =C18/C17 -> 1.0179128 | E18: =AVERAGE('3. Consumption by Rate Class'!G37,'3. Consumption by Rate Class'!G48) -> 1043 | F18: =E18/E17 -> 1.0062711 | G18: =AVERAGE('3. Consumption by Rate Class'!I37,'3. Consumption by Rate Class'!I48) -> 80.5 | H18: =G18/G17 -> 1.1751825 | K18: =AVERAGE('3. Consumption by Rate Class'!N37,'3. Consumption by Rate Class'!N48) -> 147.5 | L18: =K18/K17 -> 1.0137457 | M18: =IF(SUM('3. Consumption by Rate Class'!Q37:Q48)>0,+AVERAGE('3. Consumption by Rate Class'!Q37,'3. Consumption by Rate Class'!Q48),0) -> 2743 | N18: =IF(M18>0,+M18/M17,0) -> 1.0269562 | O18: =AVERAGE('3. Consumption by Rate Class'!T37,'3. Consumption by Rate Class'!T48) -> 55 | P18: =O18/O17 -> 1 | Q18: 1 | R18: =Q18/Q17 -> 1 | V18: =+C18+E18+G18+I18+K18+M18+O18+Q18 -> 11912 | W18: =V18/V17 -> 1.0197321
B19: ='1. LDC Info'!F25-8 -> 2008 | C19: =AVERAGE('3. Consumption by Rate Class'!E49,'3. Consumption by Rate Class'!E60) -> 7956 | D19: =C19/C18 -> 1.0145371 | E19: =AVERAGE('3. Consumption by Rate Class'!G49,'3. Consumption by Rate Class'!G60) -> 1047.5 | F19: =E19/E18 -> 1.0043145 | G19: =AVERAGE('3. Consumption by Rate Class'!I49,'3. Consumption by Rate Class'!I60) -> 90 | H19: =G19/G18 -> 1.1180124 | K19: =AVERAGE('3. Consumption by Rate Class'!N49,'3. Consumption by Rate Class'!N60) -> 133 | L19: =K19/K18 -> 0.90169492 | M19: =IF(SUM('3. Consumption by Rate Class'!Q49:Q60)>0,+AVERAGE('3. Consumption by Rate Class'!Q49,'3. Consumption by Rate Class'!Q60),0) -> 2793 | N19: =IF(M19>0,+M19/M18,0) -> 1.0182282 | O19: =AVERAGE('3. Consumption by Rate Class'!T49,'3. Consumption by Rate Class'!T60) -> 58 | P19: =O19/O18 -> 1.0545455 | Q19: 1 | R19: =Q19/Q18 -> 1 | V19: =+C19+E19+G19+I19+K19+M19+O19+Q19 -> 12078.5 | W19: =V19/V18 -> 1.0139775
B20: ='1. LDC Info'!F25-7 -> 2009 | C20: =AVERAGE('3. Consumption by Rate Class'!E61,'3. Consumption by Rate Class'!E72) -> 8187.5 | D20: =C20/C19 -> 1.0290975 | E20: =AVERAGE('3. Consumption by Rate Class'!G61,'3. Consumption by Rate Class'!G72) -> 1062.5 | F20: =E20/E19 -> 1.0143198 | G20: =AVERAGE('3. Consumption by Rate Class'!I61,'3. Consumption by Rate Class'!I72) -> 95.5 | H20: =G20/G19 -> 1.0611111 | K20: =AVERAGE('3. Consumption by Rate Class'!N61,'3. Consumption by Rate Class'!N72) -> 129.5 | L20: =K20/K19 -> 0.97368421 | M20: =IF(SUM('3. Consumption by Rate Class'!Q61:Q72)>0,+AVERAGE('3. Consumption by Rate Class'!Q61,'3. Consumption by Rate Class'!Q72),0) -> 2815.5 | N20: =IF(M20>0,+M20/M19,0) -> 1.0080559 | O20: =AVERAGE('3. Consumption by Rate Class'!T61,'3. Consumption by Rate Class'!T72) -> 59.5 | P20: =O20/O19 -> 1.0258621 | Q20: 1 | R20: =Q20/Q19 -> 1 | V20: =+C20+E20+G20+I20+K20+M20+O20+Q20 -> 12351 | W20: =V20/V19 -> 1.0225607
B21: ='1. LDC Info'!F25-6 -> 2010 | C21: =AVERAGE('3. Consumption by Rate Class'!E73,'3. Consumption by Rate Class'!E84) -> 8296.5 | D21: =C21/C20 -> 1.013313 | E21: =AVERAGE('3. Consumption by Rate Class'!G73,'3. Consumption by Rate Class'!G84) -> 1068.5 | F21: =E21/E20 -> 1.0056471 | G21: =AVERAGE('3. Consumption by Rate Class'!I73,'3. Consumption by Rate Class'!I84) -> 95 | H21: =G21/G20 -> 0.9947644 | K21: =AVERAGE('3. Consumption by Rate Class'!N73,'3. Consumption by Rate Class'!N84) -> 131 | L21: =K21/K20 -> 1.011583 | M21: =IF(SUM('3. Consumption by Rate Class'!Q73:Q84)>0,+AVERAGE('3. Consumption by Rate Class'!Q73,'3. Consumption by Rate Class'!Q84),0) -> 2752 | N21: =IF(M21>0,+M21/M20,0) -> 0.97744628 | O21: =AVERAGE('3. Consumption by Rate Class'!T73,'3. Consumption by Rate Class'!T84) -> 55 | P21: =O21/O20 -> 0.92436975 | Q21: 1 | R21: =Q21/Q20 -> 1 | V21: =+C21+E21+G21+I21+K21+M21+O21+Q21 -> 12399 | W21: =V21/V20 -> 1.0038863
B22: ='1. LDC Info'!F25-5 -> 2011 | C22: =AVERAGE('3. Consumption by Rate Class'!E85,'3. Consumption by Rate Class'!E96) -> 8425 | D22: =C22/C21 -> 1.0154885 | E22: =AVERAGE('3. Consumption by Rate Class'!G85,'3. Consumption by Rate Class'!G96) -> 1072.5 | F22: =E22/E21 -> 1.0037436 | G22: =AVERAGE('3. Consumption by Rate Class'!I85,'3. Consumption by Rate Class'!I96) -> 96 | H22: =G22/G21 -> 1.0105263 | K22: =AVERAGE('3. Consumption by Rate Class'!N85,'3. Consumption by Rate Class'!N96) -> 131.5 | L22: =K22/K21 -> 1.0038168 | M22: =IF(SUM('3. Consumption by Rate Class'!Q85:Q96)>0,+AVERAGE('3. Consumption by Rate Class'!Q85,'3. Consumption by Rate Class'!Q96),0) -> 2759 | N22: =IF(M22>0,+M22/M21,0) -> 1.0025436 | O22: =AVERAGE('3. Consumption by Rate Class'!T85,'3. Consumption by Rate Class'!T96) -> 53 | P22: =O22/O21 -> 0.96363636 | Q22: 1 | R22: =Q22/Q21 -> 1 | V22: =+C22+E22+G22+I22+K22+M22+O22+Q22 -> 12538 | W22: =V22/V21 -> 1.0112106
B23: ='1. LDC Info'!F25-4 -> 2012 | C23: =AVERAGE('3. Consumption by Rate Class'!E97,'3. Consumption by Rate Class'!E108) -> 8525 | D23: =C23/C22 -> 1.0118694 | E23: =AVERAGE('3. Consumption by Rate Class'!G97,'3. Consumption by Rate Class'!G108) -> 1067 | F23: =E23/E22 -> 0.99487179 | G23: =AVERAGE('3. Consumption by Rate Class'!I97,'3. Consumption by Rate Class'!I108) -> 94.5 | H23: =G23/G22 -> 0.984375 | K23: =AVERAGE('3. Consumption by Rate Class'!N97,'3. Consumption by Rate Class'!N108) -> 137 | L23: =K23/K22 -> 1.0418251 | M23: =IF(SUM('3. Consumption by Rate Class'!Q97:Q108)>0,+AVERAGE('3. Consumption by Rate Class'!Q97,'3. Consumption by Rate Class'!Q108),0) -> 2802 | N23: =IF(M23>0,+M23/M22,0) -> 1.0155854 | O23: =AVERAGE('3. Consumption by Rate Class'!T97,'3. Consumption by Rate Class'!T108) -> 54 | P23: =O23/O22 -> 1.0188679 | Q23: 1 | R23: =Q23/Q22 -> 1 | V23: =+C23+E23+G23+I23+K23+M23+O23+Q23 -> 12680.5 | W23: =V23/V22 -> 1.0113654
B24: ='1. LDC Info'!F25-3 -> 2013 | C24: =AVERAGE('3. Consumption by Rate Class'!E109,'3. Consumption by Rate Class'!E120) -> 8627 | D24: =C24/C23 -> 1.0119648 | E24: =AVERAGE('3. Consumption by Rate Class'!G109,'3. Consumption by Rate Class'!G120) -> 1058 | F24: =E24/E23 -> 0.99156514 | G24: =AVERAGE('3. Consumption by Rate Class'!I109,'3. Consumption by Rate Class'!I120) -> 93.5 | H24: =G24/G23 -> 0.98941799 | K24: =AVERAGE('3. Consumption by Rate Class'!N109,'3. Consumption by Rate Class'!N120) -> 141.5 | L24: =K24/K23 -> 1.0328467 | M24: =IF(SUM('3. Consumption by Rate Class'!Q109:Q120)>0,+AVERAGE('3. Consumption by Rate Class'!Q109,'3. Consumption by Rate Class'!Q120),0) -> 2862 | N24: =IF(M24>0,+M24/M23,0) -> 1.0214133 | O24: =AVERAGE('3. Consumption by Rate Class'!T109,'3. Consumption by Rate Class'!T120) -> 54 | P24: =O24/O23 -> 1 | Q24: 1 | R24: =Q24/Q23 -> 1 | V24: =+C24+E24+G24+I24+K24+M24+O24+Q24 -> 12837 | W24: =V24/V23 -> 1.0123418
B25: ='1. LDC Info'!F25-2 -> 2014 | C25: =AVERAGE('3. Consumption by Rate Class'!E121,'3. Consumption by Rate Class'!E132) -> 8760.5 | D25: =C25/C24 -> 1.0154747 | E25: =AVERAGE('3. Consumption by Rate Class'!G121,'3. Consumption by Rate Class'!G132) -> 1068.5 | F25: =E25/E24 -> 1.0099244 | G25: =AVERAGE('3. Consumption by Rate Class'!I121,'3. Consumption by Rate Class'!I132) -> 93 | H25: =G25/G24 -> 0.99465241 | K25: =AVERAGE('3. Consumption by Rate Class'!N121,'3. Consumption by Rate Class'!N132) -> 138 | L25: =K25/K24 -> 0.97526502 | M25: =IF(SUM('3. Consumption by Rate Class'!Q121:Q132)>0,+AVERAGE('3. Consumption by Rate Class'!Q121,'3. Consumption by Rate Class'!Q132),0) -> 2634 | N25: =IF(M25>0,+M25/M24,0) -> 0.92033543 | O25: =AVERAGE('3. Consumption by Rate Class'!T121,'3. Consumption by Rate Class'!T132) -> 54 | P25: =O25/O24 -> 1 | Q25: 1 | R25: =Q25/Q24 -> 1 | V25: =+C25+E25+G25+I25+K25+M25+O25+Q25 -> 12749 | W25: =V25/V24 -> 0.99314482
B26: ='1. LDC Info'!F25-1 -> 2015 | C26: =AVERAGE('3. Consumption by Rate Class'!E133,'3. Consumption by Rate Class'!E144) -> 8885 | D26: =C26/C25 -> 1.0142115 | E26: =AVERAGE('3. Consumption by Rate Class'!G133,'3. Consumption by Rate Class'!G144) -> 1077.5 | F26: =E26/E25 -> 1.008423 | G26: =AVERAGE('3. Consumption by Rate Class'!I133,'3. Consumption by Rate Class'!I144) -> 90 | H26: =G26/G25 -> 0.96774194 | K26: =AVERAGE('3. Consumption by Rate Class'!N133,'3. Consumption by Rate Class'!N144) -> 134 | L26: =K26/K25 -> 0.97101449 | M26: =IF(SUM('3. Consumption by Rate Class'!Q132:Q144)>0,+AVERAGE('3. Consumption by Rate Class'!Q133,'3. Consumption by Rate Class'!Q144),0) -> 2694 | N26: =IF(M26>0,+M26/M25,0) -> 1.022779 | O26: =AVERAGE('3. Consumption by Rate Class'!T133,'3. Consumption by Rate Class'!T144) -> 54 | P26: =O26/O25 -> 1 | Q26: 1 | R26: =Q26/Q25 -> 1 | V26: =+C26+E26+G26+I26+K26+M26+O26+Q26 -> 12935.5 | W26: =V26/V25 -> 1.0146286
B28: Geomean | D28: =GEOMEAN(D18:D26) -> 1.0159734 | F28: =GEOMEAN(F18:F26) -> 1.0043197 | H28: =GEOMEAN(H18:H26) -> 1.0307953 | L28: =GEOMEAN(L18:L26) -> 0.99089324 | N28: =IF(SUM(N18:N26)>0,+GEOMEAN(N18:N26),0) -> 1.0009531 | P28: =GEOMEAN(P18:P26) -> 0.99796328 | R28: =GEOMEAN(R18:R26) -> 1 | W28: =GEOMEAN(W18:W26) -> 1.0113943
B30: ='1. LDC Info'!F25 -> 2016 | C30: =C26*D28 -> 9026.9239 | E30: =E26*F28 -> 1082.1545 | G30: =G26*H28 -> 92.771579 | K30: =K26*L28 -> 132.77969 | M30: =M26*N28 -> 2696.5677 | O30: =O26*P28 -> 53.890017 | Q30: =Q26*R28 -> 1 | V30: =+C30+E30+G30+I30+K30+M30+O30+R30 -> 13085.087
B31: ='1. LDC Info'!F27 -> 2017 | C31: =C30*D28 -> 9171.1149 | E31: =E30*F28 -> 1086.8291 | G31: =G30*H28 -> 95.628509 | K31: =K30*L28 -> 131.5705 | M31: =M30*N28 -> 2699.1379 | O31: =O30*P28 -> 53.780259 | Q31: =Q30*R28 -> 1 | V31: =+C31+E31+G31+I31+K31+M31+O31+R31 -> 13238.061
B33: In the section below, LDCs can adjust the computed customer count for the Bridge and Test Year for special circumstance such as new subdivision or loss of customer or other utility specific reasons.
B35: Adjusted | V35: Adjusted
B36: ='1. LDC Info'!F25 -> 2016 | D36: =C36/C26 -> 0 | F36: =E36/E26 -> 0 | H36: =G36/G26 -> 0 | J36: =IF(I36>0,+I36/I26,0) -> 0 | L36: =K36/K26 -> 0 | N36: =IF(M36>0,+M36/M26,0) -> 0 | P36: =O36/O26 -> 0 | Q36: 0 | R36: =Q36/Q26 -> 0 | V36: =+C36+E36+G36+I36+K36+M36+O36 -> 0 | W36: =V36/V26 -> 0
B37: ='1. LDC Info'!F27 -> 2017 | D37: =IF(C37>0,+C37/C36,0) -> 0 | F37: =IF(E37>0,+E37/E36,0) -> 0 | H37: =IF(G37>0,+G37/G36,0) -> 0 | J37: =IF(I37>0,+I37/I36,0) -> 0 | L37: =IF(K37>0,+K37/K36,0) -> 0 | N37: =IF(M37>0,+M37/M36,0) -> 0 | P37: =IF(O37>0,+O37/O36,0) -> 0 | Q37: 0 | R37: =IF(Q37>0,+Q37/Q36,0) -> 0 | V37: =+C37+E37+G37+I37+K37+M37+O37 -> 0 | W37: =IF(V37>0,+V37/V36,0) -> 0
B39: Note: The model computes an average customer count. Utility may chose to overwrite the customer/connection count if a year end count is more appropriate.
B41: FINAL ADJUSTED NUMBERS | V41: Adjusted
B42: 2014 | C42: =IF(C36>0,+C36,C30) -> 9026.9239 | D42: =IF(D36>0,+D36,D28) -> 1.0159734 | E42: =IF(E36>0,+E36,E30) -> 1082.1545 | F42: =IF(F36>0,+F36,F28) -> 1.0043197 | G42: =IF(G36>0,+G36,G30) -> 92.771579 | H42: =IF(H36>0,+H36,H28) -> 1.0307953 | I42: =IF(I36>0,+I36,I30) -> 0 | J42: =IF(J36>0,+J36,J28) -> 0 | K42: =IF(K36>0,+K36,K30) -> 132.77969 | L42: =IF(L36>0,+L36,L28) -> 0.99089324 | M42: =IF(M36>0,+M36,M30) -> 2696.5677 | N42: =IF(N36>0,+N36,N28) -> 1.0009531 | O42: =IF(O36>0,+O36,O30) -> 53.890017 | P42: =IF(P36>0,+P36,P28) -> 0.99796328 | Q42: =IF(Q36>0,+Q36,Q30) -> 1 | R42: =IF(R36>0,+R36,R28) -> 1 | V42: =+C42+E42+G42+I42+K42+M42+O42 -> 13085.087 | W42: =IF(V36>1,+W36,W28) -> 1.0113943
B43: 2015 | C43: =IF(C37>0,+C37,C31) -> 9171.1149 | D43: =IF(D37>0,+D37,D28) -> 1.0159734 | E43: =IF(E37>0,+E37,E31) -> 1086.8291 | F43: =IF(F37>0,+F37,F28) -> 1.0043197 | G43: =IF(G37>0,+G37,G31) -> 95.628509 | H43: =IF(H37>0,+H37,H28) -> 1.0307953 | I43: =IF(I37>0,+I37,I31) -> 0 | J43: =IF(J37>0,+J37,J28) -> 0 | K43: =IF(K37>0,+K37,K31) -> 131.5705 | L43: =IF(L37>0,+L37,L28) -> 0.99089324 | M43: =IF(M37>0,+M37,M31) -> 2699.1379 | N43: =IF(N37>0,+N37,N28) -> 1.0009531 | O43: =IF(O37>0,+O37,O31) -> 53.780259 | P43: =IF(P37>0,+P37,P28) -> 0.99796328 | Q43: =IF(Q37>0,+Q37,Q31) -> 1 | R43: =IF(R37>0,+R37,R28) -> 1 | V43: =+C43+E43+G43+I43+K43+M43+O43 -> 13238.061 | W43: =IF(W37>1,+W37,W28) -> 1.0113943

Sheet 5.Variables
A1: Load Forecast Model version 1.0 © CHEC
B11: Variables
B12: Notes:
B13: 1) Enter Variables here that will be used to run the regression analysis in worksheet 6. WS Regression Analysis ( Maximum 6 variables) "Wholesale" purchases are purchases measured at the wholesale meter.
B14: Note: Your final regression analysis does not need to include all six of the variables Note: Your final regression analysis does not need to include all six of the variables
B16: HDD | C16: Jan | D16: Feb | E16: Mar | F16: Apr | G16: May | H16: Jun | I16: Jul | J16: Aug | K16: Sept | L16: Oct | M16: Nov | N16: Dec
B17: 1996 | C17: 761.8 | D17: 669.3 | E17: 625.5 | F17: 415.6 | G17: 252.7 | H17: 38.7 | I17: 12.9 | J17: 3.1 | K17: 65.5 | L17: 275.3 | M17: 513 | N17: 539
B18: ='1. LDC Info'!F27-20 -> 1997 | C18: 739 | D18: 582.8 | E18: 601.6 | F18: 389.4 | G18: 290 | H18: 33.3 | I18: 24.6 | J18: 17.1 | K18: 105.7 | L18: 293.7 | M18: 457.6 | N18: 578.6
B19: ='1. LDC Info'!F27-19 -> 1998 | C19: 639.3 | D19: 520.7 | E19: 518.8 | F19: 323.6 | G19: 78.8 | H19: 66.3 | I19: 4.6 | J19: 5.2 | K19: 56.3 | L19: 247.6 | M19: 419.1 | N19: 566.4
B20: ='1. LDC Info'!F27-18 -> 1999 | C20: 738.5 | D20: 551.8 | E20: 576.5 | F20: 335.6 | G20: 136.1 | H20: 36.1 | I20: 4.4 | J20: 14.9 | K20: 56.7 | L20: 269.1 | M20: 385.3 | N20: 586.6
B21: ='1. LDC Info'!F27-17 -> 2000 | C21: 678.5 | D21: 577 | E21: 473.9 | F21: 377.8 | G21: 193.7 | H21: 73.5 | I21: 16.9 | J21: 25.7 | K21: 124 | L21: 251.1 | M21: 432.2 | N21: 769.6
B22: ='1. LDC Info'!F27-16 -> 2001 | C22: 657.4 | D22: 601 | E22: 581.1 | F22: 335.8 | G22: 158.2 | H22: 51.1 | I22: 28 | J22: 3 | K22: 80.9 | L22: 263.8 | M22: 368.5 | N22: 521.1
B23: ='1. LDC Info'!F27-15 -> 2002 | C23: 573.8 | D23: 547.4 | E23: 474.8 | F23: 354 | G23: 261.9 | H23: 57.8 | I23: 5 | J23: 3 | K23: 35.8 | L23: 295.9 | M23: 446.6 | N23: 617.4
B24: ='1. LDC Info'!F27-14 -> 2003 | C24: 832.6 | D24: 713.4 | E24: 592.2 | F24: 435.4 | G24: 207.7 | H24: 65.4 | I24: 11.9 | J24: 9.7 | K24: 59.9 | L24: 325.6 | M24: 420.5 | N24: 606.4
B25: ='1. LDC Info'!F27-13 -> 2004 | C25: 872.6 | D25: 636.4 | E25: 519.9 | F25: 372.3 | G25: 205.4 | H25: 100.8 | I25: 14.7 | J25: 26.9 | K25: 50.3 | L25: 250.1 | M25: 411 | N25: 645.2
B26: ='1. LDC Info'!F27-12 -> 2005 | C26: 782.8 | D26: 631.3 | E26: 612.1 | F26: 362.5 | G26: 259.9 | H26: 40.7 | I26: 4.2 | J26: 1 | K26: 45.5 | L26: 251.9 | M26: 411.5 | N26: 668.4
B27: ='1. LDC Info'!F27-11 -> 2006 | C27: 589 | D27: 627.2 | E27: 564.4 | F27: 342.6 | G27: 192.1 | H27: 40.1 | I27: 5.9 | J27: 6.7 | K27: 103.3 | L27: 296.4 | M27: 390.9 | N27: 505.5 | Z27: =+$B$16 -> HDD
B28: ='1. LDC Info'!F27-10 -> 2007 | C28: 669.3 | D28: 728.2 | E28: 578.3 | F28: 401 | G28: 208.1 | H28: 45.4 | I28: 22.4 | J28: 12.1 | K28: 61.8 | L28: 165.8 | M28: 441.5 | N28: 648.3 | Z28: =+B39 -> CDD
B29: ='1. LDC Info'!F27-9 -> 2008 | C29: 633.3 | D29: 660.6 | E29: 632.3 | F29: 326.3 | G29: 253.6 | H29: 71 | I29: 9.4 | J29: 15.2 | K29: 73.5 | L29: 288.1 | M29: 459 | N29: 652.5 | Z29: =+B62 -> Number of Days in Month
B30: ='1. LDC Info'!F27-8 -> 2009 | C30: 823.9 | D30: 608.5 | E30: 568.1 | F30: 345.4 | G30: 231.1 | H30: 86.1 | I30: 41.5 | J30: 15.7 | K30: 70.1 | L30: 313.3 | M30: 361 | N30: 638.6 | Z30: =+B76 -> Employment Stats
B31: ='1. LDC Info'!F27-7 -> 2010 | C31: 718 | D31: 597.2 | E31: 450.7 | F31: 262.7 | G31: 160.4 | H31: 37.9 | I31: 5.1 | J31: 6 | K31: 99.9 | L31: 265.5 | M31: 412.1 | N31: 676.5 | Z31: =+B90 -> Spring and Fall
B32: ='1. LDC Info'!F27-6 -> 2011 | C32: 789.5 | D32: 648.9 | E32: 574.5 | F32: 372.4 | G32: 177.6 | H32: 64 | I32: 8.4 | J32: 9.1 | K32: 59.7 | L32: 244.3 | M32: 360.3 | N32: 546.2
B33: ='1. LDC Info'!F27-5 -> 2012 | C33: 633 | D33: 539.6 | E33: 425.1 | F33: 355.6 | G33: 136 | H33: 36.6 | I33: 0 | J33: 7.3 | K33: 87.5 | L33: 245.1 | M33: 449.4 | N33: 535.8
B34: ='1. LDC Info'!F27-4 -> 2013 | C34: 649.6 | D34: 633.3 | E34: 556.1 | F34: 383.6 | G34: 171.6 | H34: 67.1 | I34: 9.3 | J34: 18.5 | K34: 110.4 | L34: 202.2 | M34: 481.9 | N34: 683.9
B35: ='1. LDC Info'!F27-3 -> 2014 | C35: 792.3 | D35: 714.7 | E35: 692.7 | F35: 394.2 | G35: 218.9 | H35: 61.9 | I35: 36.9 | J35: 26.9 | K35: 97.3 | L35: 231.4 | M35: 473.2 | N35: 519.4
B36: ='1. LDC Info'!F27-2 -> 2015 | C36: 759.2 | D36: 842.5 | E36: 639.7 | F36: 351 | G36: 183.4 | H36: 88.3 | I36: 18.5 | J36: 12.9 | K36: 43.1 | L36: 271.1 | M36: 349.8 | N36: 430.8
B39: CDD | C39: Jan | D39: Feb | E39: Mar | F39: Apr | G39: May | H39: Jun | I39: Jul | J39: Aug | K39: Sept | L39: Oct | M39: Nov | N39: Dec
B40: =B17 -> 1996 | C40: 0 | D40: 0 | E40: 0 | F40: 0 | G40: 0 | H40: 18.1 | I40: 35 | J40: 61.8 | K40: 26.3 | L40: 0 | M40: 0 | N40: 0
B41: =B18 -> 1997 | C41: 0 | D41: 0 | E41: 0 | F41: 0 | G41: 0 | H41: 17.7 | I41: 45.8 | J41: 12.7 | K41: 0.8 | L41: 0.3 | M41: 0 | N41: 0
B42: =B19 -> 1998 | C42: 0 | D42: 0 | E42: 0 | F42: 0 | G42: 4 | H42: 35.6 | I42: 58.5 | J42: 64 | K42: 14.3 | L42: 0 | M42: 0 | N42: 0
B43: =B20 -> 1999 | C43: 0 | D43: 0 | E43: 0 | F43: 0 | G43: 0 | H43: 27.5 | I43: 95.5 | J43: 48.1 | K43: 32.9 | L43: 0 | M43: 0 | N43: 0
B44: =B21 -> 2000 | C44: 0 | D44: 0 | E44: 0 | F44: 0 | G44: 0 | H44: 2 | I44: 30.2 | J44: 46.2 | K44: 15 | L44: 0 | M44: 0 | N44: 0
B45: =B22 -> 2001 | C45: 0 | D45: 0 | E45: 0 | F45: 0 | G45: 0 | H45: 26.5 | I45: 45.4 | J45: 83.2 | K45: 18.5 | L45: 0 | M45: 0 | N45: 0
B46: =B23 -> 2002 | C46: 0 | D46: 0 | E46: 0 | F46: 0 | G46: 0 | H46: 18.3 | I46: 72.7 | J46: 68.4 | K46: 30.3 | L46: 2.8 | M46: 0 | N46: 0
B47: =B24 -> 2003 | C47: 0 | D47: 0 | E47: 0 | F47: 0 | G47: 0 | H47: 5.6 | I47: 20.4 | J47: 77.7 | K47: 10.9 | L47: 0 | M47: 0 | N47: 0
B48: =B25 -> 2004 | C48: 0 | D48: 0 | E48: 0 | F48: 0 | G48: 0 | H48: 5.1 | I48: 41.2 | J48: 43.1 | K48: 18.1 | L48: 0 | M48: 0 | N48: 0
B49: =B26 -> 2005 | C49: 0 | D49: 0 | E49: 0 | F49: 0 | G49: 0 | H49: 52.6 | I49: 116.8 | J49: 87.6 | K49: 16.3 | L49: 0 | M49: 0 | N49: 0
B50: =B27 -> 2006 | C50: 0 | D50: 0 | E50: 0 | F50: 0 | G50: 6.3 | H50: 18 | I50: 86.9 | J50: 56.4 | K50: 1.3 | L50: 0 | M50: 0 | N50: 0
B51: =B28 -> 2007 | C51: 0 | D51: 0 | E51: 0 | F51: 0 | G51: 0 | H51: 19.9 | I51: 45.3 | J51: 91.5 | K51: 17.9 | L51: 4.1 | M51: 0 | N51: 0
... B59: =B36 -> 2015 | C59: 0 | D59: 0 | E59: 0 | F59: 0 | G59: 0 | H59: 5.6 | I59: 37 | J59: 44.7 | K59: 41.7 | L59: 0 | M59: 0 | N59: 0
B62: Number of Days in Month
C63: Jan | D63: Feb | E63: Mar | F63: Apr | G63: May | H63: Jun | I63: Jul | J63: Aug | K63: Sept | L63: Oct | M63: Nov | N63: Dec
B64: =B50 -> 2006 | C64: 31 | D64: 28 | E64: 31 | F64: 30 | G64: 31 | H64: 30 | I64: 31 | J64: 31 | K64: 30 | L64: 31 | M64: 30 | N64: 31
B65: =B51 -> 2007 | C65: 31 | D65: 28 | E65: 31 | F65: 30 | G65: 31 | H65: 30 | I65: 31 | J65: 31 | K65: 30 | L65: 31 | M65: 30 | N65: 31
B66: =B52 -> 2008 | C66: 31 | D66: 29 | E66: 31 | F66: 30 | G66: 31 | H66: 30 | I66: 31 | J66: 31 | K66: 30 | L66: 31 | M66: 30 | N66: 31
B67: =B53 -> 2009 | C67: 31 | D67: 28 | E67: 31 | F67: 30 | G67: 31 | H67: 30 | I67: 31 | J67: 31 | K67: 30 | L67: 31 | M67: 30 | N67: 31
B68: =B54 -> 2010 | C68: 31 | D68: 28 | E68: 31 | F68: 30 | G68: 31 | H68: 30 | I68: 31 | J68: 31 | K68: 30 | L68: 31 | M68: 30 | N68: 31
B69: =B55 -> 2011 | C69: 31 | D69: 28 | E69: 31 | F69: 30 | G69: 31 | H69: 30 | I69: 31 | J69: 31 | K69: 30 | L69: 31 | M69: 30 | N69: 31
B70: =B56 -> 2012 | C70: 31 | D70: 29 | E70: 31 | F70: 30 | G70: 31 | H70: 30 | I70: 31 | J70: 31 | K70: 30 | L70: 31 | M70: 30 | N70: 31
B71: =B57 -> 2013 | C71: 31 | D71: 28 | E71: 31 | F71: 30 | G71: 31 | H71: 30 | I71: 31 | J71: 31 | K71: 30 | L71: 31 | M71: 30 | N71: 31
B72: =B58 -> 2014 | C72: 31 | D72: 28 | E72: 31 | F72: 30 | G72: 31 | H72: 30 | I72: 31 | J72: 31 | K72: 30 | L72: 31 | M72: 30 | N72: 31
B73: =B59 -> 2015 | C73: 31 | D73: 28 | E73: 31 | F73: 30 | G73: 31 | H73: 30 | I73: 31 | J73: 31 | K73: 30 | L73: 31 | M73: 30 | N73: 31
B76: Employment Stats
C77: Jan | D77: Feb | E77: Mar | F77: Apr | G77: May | H77: Jun | I77: Jul | J77: Aug | K77: Sept | L77: Oct | M77: Nov | N77: Dec
B78: =B64 -> 2006 | C78: 134.25 | D78: 134.56 | E78: 134.81 | F78: 135.08 | G78: 135.36 | H78: 135.64 | I78: 135.92 | J78: 136.2 | K78: 136.48 | L78: 136.76 | M78: 137.04 | N78: 137.33
B79: =B65 -> 2007 | C79: 137.59 | D79: 137.85 | E79: 138.11 | F79: 138.37 | G79: 138.63 | H79: 138.9 | I79: 139.16 | J79: 139.42 | K79: 139.69 | L79: 139.95 | M79: 140.22 | N79: 140.48
B80: =B66 -> 2008 | C80: 140.43 | D80: 140.37 | E80: 140.31 | F80: 140.25 | G80: 140.19 | H80: 140.13 | I80: 140.07 | J80: 140.02 | K80: 139.96 | L80: 139.9 | M80: 139.84 | N80: 139.78
B81: =B67 -> 2009 | C81: 139.38 | D81: 138.98 | E81: 138.58 | F81: 138.18 | G81: 137.78 | H81: 137.38 | I81: 136.99 | J81: 136.59 | K81: 136.2 | L81: 135.81 | M81: 135.42 | N81: 135.03
B82: =B68 -> 2010 | C82: 135.33 | D82: 135.63 | E82: 135.93 | F82: 136.23 | G82: 136.54 | H82: 136.84 | I82: 137.14 | J82: 137.45 | K82: 137.75 | L82: 138.06 | M82: 138.37 | N82: 138.67
B83: =B69 -> 2011 | C83: 139 | D83: 139.3 | E83: 139.6 | F83: 139.9 | G83: 140.2 | H83: 140.5 | I83: 140.8 | J83: 141.1 | K83: 141.4 | L83: 141.7 | M83: 142 | N83: 142.3
B84: =B70 -> 2012 | C84: 142.6 | D84: 142.9 | E84: 143.2 | F84: 143.5 | G84: 143.8 | H84: 144.11 | I84: 144.4 | J84: 144.7 | K84: 145 | L84: 145.4 | M84: 145.7 | N84: 146
B85: =B71 -> 2013 | C85: 145 | D85: 145.1 | E85: 145.3 | F85: 145.5 | G85: 145.6 | H85: 145.8 | I85: 145.9 | J85: 146.1 | K85: 146.2 | L85: 146.4 | M85: 146.6 | N85: 146.7
B86: =B72 -> 2014 | C86: 146.9 | D86: 147.2 | E86: 147.4 | F86: 147.6 | G86: 147.9 | H86: 148.1 | I86: 148.3 | J86: 148.6 | K86: 148.8 | L86: 149 | M86: 149.3 | N86: 149.5
B87: =B73 -> 2015 | C87: 140.05333 | D87: 140.21 | E87: 140.36 | F87: 140.51222 | G87: 140.66667 | H87: 140.82222 | I87: 140.96444 | J87: 141.13111 | K87: 141.27556 | L87: 141.44222 | M87: 141.61 | N87: 141.75444
B90: Spring and Fall
C91: Jan | D91: Feb | E91: Mar | F91: Apr | G91: May | H91: Jun | I91: Jul | J91: Aug | K91: Sept | L91: Oct | M91: Nov | N91: Dec
B92: =B78 -> 2006 | C92: 0 | D92: 0 | E92: 1 | F92: 1 | G92: 1 | H92: 0 | I92: 0 | J92: 0 | K92: 1 | L92: 1 | M92: 1 | N92: 0
B93: =B79 -> 2007 | C93: 0 | D93: 0 | E93: 1 | F93: 1 | G93: 1 | H93: 0 | I93: 0 | J93: 0 | K93: 1 | L93: 1 | M93: 1 | N93: 0
B94: =B80 -> 2008 | C94: 0 | D94: 0 | E94: 1 | F94: 1 | G94: 1 | H94: 0 | I94: 0 | J94: 0 | K94: 1 | L94: 1 | M94: 1 | N94: 0
B95: =B81 -> 2009 | C95: 0 | D95: 0 | E95: 1 | F95: 1 | G95: 1 | H95: 0 | I95: 0 | J95: 0 | K95: 1 | L95: 1 | M95: 1 | N95: 0
B96: =B82 -> 2010 | C96: 0 | D96: 0 | E96: 1 | F96: 1 | G96: 1 | H96: 0 | I96: 0 | J96: 0 | K96: 1 | L96: 1 | M96: 1 | N96: 0
B97: =B83 -> 2011 | C97: 0 | D97: 0 | E97: 1 | F97: 1 | G97: 1 | H97: 0 | I97: 0 | J97: 0 | K97: 1 | L97: 1 | M97: 1 | N97: 0
B98: =B84 -> 2012 | C98: 0 | D98: 0 | E98: 1 | F98: 1 | G98: 1 | H98: 0 | I98: 0 | J98: 0 | K98: 1 | L98: 1 | M98: 1 | N98: 0
B99: =B85 -> 2013 | C99: 0 | D99: 0 | E99: 1 | F99: 1 | G99: 1 | H99: 0 | I99: 0 | J99: 0 | K99: 1 | L99: 1 | M99: 1 | N99: 0
B100: =B86 -> 2014 | C100: 0 | D100: 0 | E100: 1 | F100: 1 | G100: 1 | H100: 0 | I100: 0 | J100: 0 | K100: 1 | L100: 1 | M100: 1 | N100: 0
B101: =B87 -> 2015 | C101: 0 | D101: 0 | E101: 1 | F101: 1 | G101: 1 | H101: 0 | I101: 0 | J101: 0 | K101: 1 | L101: 1 | M101: 1 | N101: 0
B104: Holiday Months
C105: Jan | D105: Feb | E105: Mar | F105: Apr | G105: May | H105: Jun | I105: Jul | J105: Aug | K105: Sept | L105: Oct | M105: Nov | N105: Dec
B106: =B92 -> 2006 | C106: 336 | D106: 320 | E106: 368 | F106: 304 | G106: 352 | H106: 352 | I106: 320 | J106: 352 | K106: 320 | L106: 336 | M106: 352 | N106: 304
B107: =B93 -> 2007 | C107: 352 | D107: 320 | E107: 352 | F107: 320 | G107: 352 | H107: 336 | I107: 336 | J107: 352 | K107: 304 | L107: 352 | M107: 352 | N107: 304
B108: =B94 -> 2008 | C108: 352 | D108: 320 | E108: 304 | F108: 352 | G108: 336 | H108: 336 | I108: 352 | J108: 320 | K108: 336 | L108: 352 | M108: 304 | N108: 336
B109: =B95 -> 2009 | C109: 336 | D109: 304 | E109: 352 | F109: 320 | G109: 320 | H109: 352 | I109: 352 | J109: 320 | K109: 336 | L109: 336 | M109: 320 | N109: 352
B110: =B96 -> 2010 | C110: 320 | D110: 304 | E110: 368 | F110: 320 | G110: 320 | H110: 352 | I110: 336 | J110: 336 | K110: 336 | L110: 320 | M110: 336 | N110: 368
B111: =B97 -> 2011 | C111: 352 | D111: 320 | E111: 352 | F111: 320 | G111: 352 | H111: 336 | I111: 336 | J111: 352 | K111: 304 | L111: 352 | M111: 352 | N111: 304
B112: =B98 -> 2012 | C112: 352 | D112: 320 | E112: 304 | F112: 352 | G112: 336 | H112: 336 | I112: 352 | J112: 320 | K112: 336 | L112: 352 | M112: 304 | N112: 336
B113: =B99 -> 2013 | C113: 352 | D113: 304 | E113: 320 | F113: 352 | G113: 352 | H113: 320 | I113: 352 | J113: 336 | K113: 320 | L113: 352 | M113: 336 | N113: 320
B114: =B100 -> 2014 | C114: 352 | D114: 304 | E114: 336 | F114: 336 | G114: 336 | H114: 336 | I114: 352 | J114: 320 | K114: 336 | L114: 352 | M114: 320 | N114: 336
B115: =B101 -> 2015 | C115: 344.88889 | D115: 312.88889 | E115: 339.55556 | F115: 330.66667 | G115: 339.55556 | H115: 339.55556 | I115: 343.11111 | J115: 334.22222 | K115: 325.33333 | L115: 344.88889 | M115: 330.66667 | N115: 328.88889
B118: Summary of Variables
B120: =Variable1 -> HDD
B121: =Variable2 -> CDD
B122: =Variable3 -> Number of Days in Month
B123: =B76 -> Employment Stats
B124: =Variable5 -> Spring and Fall
B125: =Variable6 -> Holiday Months

Sheet 6. WS Regression Analysis
A1: Load Forecast Model version 1.0 © CHEC
B11: Regression Analysis
B12: Notes:
B13: 1) Update Wholesale Purchases.
B14: 2) Use drop down lists to select the variables inputted from 5.Variable Worksheet and Select Forecast Methodology
B15: 3) Run Regression -> Data -> Data Analysis - > Regression
D17: Adjustments to Wholesale Purchases (i.e. CDM, Loss of customer etc) | K17: Variables Used
C18: Unadjusted Wholesale Purchases kWh | D18: Adjustment for loss of GS | E18: Large Customer | F18: MicroFIT/FIT Generation | G18: CDM Adjustment | H18: Adjustment | I18: Adjustment | J18: Revised Wholesale Purchases | K18: HDD | L18: CDD | M18: Number of Days in Month | N18: Employment Stats | O18: Winter Flag | P18: Holiday Months | R18: Weather Normalized | S18: Yearly Total | U18: SUMMARY OUTPUT
I19: FORECAST METHODOLOGY | K19: Average | L19: Average | M19: Average | N19: Linear Trending | O19: Average | P19: Average
A20: 1 | B20: =CONCATENATE('3. Consumption by Rate Class'!B25,"-",'3. Consumption by Rate Class'!C25) -> 2006-January | C20: 26817115 | D20: 2612043 | E20: 1851400 | J20: =C20-D20-E20+F20+G20 -> 22353672 | K20: =IF(K$18='5.Variables'!$B$16,+'5.Variables'!$C27,+IF(K$18='5.Variables'!$B$39,+'5.Variables'!$C50,+IF(K$18='5.Variables'!$B$62,+'5.Variables'!$C64,+IF(K$18='5.Variables'!$B$76,+'5.Variables'!$C78,+IF(K$18='5.Variables'!$B$90,+'5.Variables'!$C92,+IF(K$18='5.Variables'!$B$104,+'5.Variables'!$C106,0)))))) -> 589 | L20: =IF(L$18='5.Variables'!$B$16,+'5.Variables'!$C27,+IF(L$18='5.Variables'!$B$39,+'5.Variables'!$C50,+IF(L$18='5.Variables'!$B$62,+'5.Variables'!$C64,+IF(L$18='5.Variables'!$B$76,+'5.Variables'!$C78,+IF(L$18='5.Variables'!$B$90,+'5.Variables'!$C92,+IF(L$18='5.Variables'!$B$104,+'5.Variables'!$C106,0)))))) -> 0 | M20: =IF(M$18='5.Variables'!$B$16,+'5.Variables'!$C26,+IF(M$18='5.Variables'!$B$39,+'5.Variables'!$C50,+IF(M$18='5.Variables'!$B$62,+'5.Variables'!$C64,+IF(M$18='5.Variables'!$B$76,+'5.Variables'!$C78,+IF(M$18='5.Variables'!$B$90,+'5.Variables'!$C92,+IF(M$18='5.Variables'!$B$104,+'5.Variables'!$C106,0)))))) -> 31 | N20: =IF(N$18='5.Variables'!$B$16,+'5.Variables'!$C26,+IF(N$18='5.Variables'!$B$39,+'5.Variables'!$C50,+IF(N$18='5.Variables'!$B$62,+'5.Variables'!$C64,+IF(N$18='5.Variables'!$B$76,+'5.Variables'!$C78,+IF(N$18='5.Variables'!$B$90,+'5.Variables'!$C92,+IF(N$18='5.Variables'!$B$104,+'5.Variables'!$C106,0)))))) -> 134.25 | O20: =IF(O$18='5.Variables'!$B$16,+'5.Variables'!$C26,+IF(O$18='5.Variables'!$B$39,+'5.Variables'!$C50,+IF(O$18='5.Variables'!$B$62,+'5.Variables'!$C64,+IF(O$18='5.Variables'!$B$76,+'5.Variables'!$C78,+IF(O$18='5.Variables'!$B$90,+'5.Variables'!$C92,+IF(O$18='5.Variables'!$B$104,+'5.Variables'!$C106,0)))))) -> 0 | P20: =IF(P$18='5.Variables'!$B$16,+'5.Variables'!$C26,+IF(P$18='5.Variables'!$B$39,+'5.Variables'!$C50,+IF(P$18='5.Variables'!$B$62,+'5.Variables'!$C64,+IF(P$18='5.Variables'!$B$76,+'5.Variables'!$C78,+IF(P$18='5.Variables'!$B$90,+'5.Variables'!$C92,+IF(P$18='5.Variables'!$B$104,+'5.Variables'!$C106,0)))))) -> 336 | R20: =$V$34+(K20*$V$35)+(L20*$V$36)+(M20*$V$37)+(N20*$V$38)+(O20*$V$39)+(P20*$V$40) -> 21887806 | U20: Regression Statistics
A21: =+A20+1 -> 2 | B21: =CONCATENATE('3. Consumption by Rate Class'!B26,"-",'3. Consumption by Rate Class'!C26) -> 2006-February | C21: 25311949 | D21: 2635193 | E21: 2180089 | J21: =C21-D21-E21+F21+G21 -> 20496667 | K21: =IF(K$18='5.Variables'!$B$16,+'5.Variables'!$D27,+IF(K$18='5.Variables'!$B$39,+'5.Variables'!$D50,+IF(K$18='5.Variables'!$B$62,+'5.Variables'!$D64,+IF(K$18='5.Variables'!$B$76,+'5.Variables'!$D78,+IF(K$18='5.Variables'!$B$90,+'5.Variables'!$D92,+IF(K$18='5.Variables'!$B$104,+'5.Variables'!$D106,0)))))) -> 627.2 | L21: =IF(L$18='5.Variables'!$B$16,+'5.Variables'!$D27,+IF(L$18='5.Variables'!$B$39,+'5.Variables'!$D50,+IF(L$18='5.Variables'!$B$62,+'5.Variables'!$D64,+IF(L$18='5.Variables'!$B$76,+'5.Variables'!$D78,+IF(L$18='5.Variables'!$B$90,+'5.Variables'!$D92,+IF(L$18='5.Variables'!$B$104,+'5.Variables'!$D106,0)))))) -> 0 | M21: =IF(M$18='5.Variables'!$B$16,+'5.Variables'!$D26,+IF(M$18='5.Variables'!$B$39,+'5.Variables'!$D50,+IF(M$18='5.Variables'!$B$62,+'5.Variables'!$D64,+IF(M$18='5.Variables'!$B$76,+'5.Variables'!$D78,+IF(M$18='5.Variables'!$B$90,+'5.Variables'!$D92,+IF(M$18='5.Variables'!$B$104,+'5.Variables'!$D106,0)))))) -> 28 | N21: =IF(N$18='5.Variables'!$B$16,+'5.Variables'!$D26,+IF(N$18='5.Variables'!$B$39,+'5.Variables'!$D50,+IF(N$18='5.Variables'!$B$62,+'5.Variables'!$D64,+IF(N$18='5.Variables'!$B$76,+'5.Variables'!$D78,+IF(N$18='5.Variables'!$B$90,+'5.Variables'!$D92,+IF(N$18='5.Variables'!$B$104,+'5.Variables'!$D106,0)))))) -> 134.56 | O21: =IF(O$18='5.Variables'!$B$16,+'5.Variables'!$D26,+IF(O$18='5.Variables'!$B$39,+'5.Variables'!$D50,+IF(O$18='5.Variables'!$B$62,+'5.Variables'!$D64,+IF(O$18='5.Variables'!$B$76,+'5.Variables'!$D78,+IF(O$18='5.Variables'!$B$90,+'5.Variables'!$D92,+IF(O$18='5.Variables'!$B$104,+'5.Variables'!$D106,0)))))) -> 0 | P21: =IF(P$18='5.Variables'!$B$16,+'5.Variables'!$D26,+IF(P$18='5.Variables'!$B$39,+'5.Variables'!$D50,+IF(P$18='5.Variables'!$B$62,+'5.Variables'!$D64,+IF(P$18='5.Variables'!$B$76,+'5.Variables'!$D78,+IF(P$18='5.Variables'!$B$90,+'5.Variables'!$D92,+IF(P$18='5.Variables'!$B$104,+'5.Variables'!$D106,0)))))) -> 320 | R21: =$V$34+(K21*$V$35)+(L21*$V$36)+(M21*$V$37)+(N21*$V$38)+(O21*$V$39)+(P21*$V$40) -> 20884992 | U21: Multiple R | V21: 0.93612971
A22: =+A21+1 -> 3 | B22: =CONCATENATE('3. Consumption by Rate Class'!B27,"-",'3. Consumption by Rate Class'!C27) -> 2006-March | C22: 27026370 | D22: 2700439 | E22: 2772699 | J22: =C22-D22-E22+F22+G22 -> 21553232 | K22: =IF(K$18='5.Variables'!$B$16,+'5.Variables'!$E27,+IF(K$18='5.Variables'!$B$39,+'5.Variables'!$E50,+IF(K$18='5.Variables'!$B$62,+'5.Variables'!$E64,+IF(K$18='5.Variables'!$B$76,+'5.Variables'!$E78,+IF(K$18='5.Variables'!$B$90,+'5.Variables'!$E92,+IF(K$18='5.Variables'!$B$104,+'5.Variables'!$E106,0)))))) -> 564.4 | L22: =IF(L$18='5.Variables'!$B$16,+'5.Variables'!$E27,+IF(L$18='5.Variables'!$B$39,+'5.Variables'!$E50,+IF(L$18='5.Variables'!$B$62,+'5.Variables'!$E64,+IF(L$18='5.Variables'!$B$76,+'5.Variables'!$E78,+IF(L$18='5.Variables'!$B$90,+'5.Variables'!$E92,+IF(L$18='5.Variables'!$B$104,+'5.Variables'!$E106,0)))))) -> 0 | M22: =IF(M$18='5.Variables'!$B$16,+'5.Variables'!$E26,+IF(M$18='5.Variables'!$B$39,+'5.Variables'!$E50,+IF(M$18='5.Variables'!$B$62,+'5.Variables'!$E64,+IF(M$18='5.Variables'!$B$76,+'5.Variables'!$E78,+IF(M$18='5.Variables'!$B$90,+'5.Variables'!$E92,+IF(M$18='5.Variables'!$B$104,+'5.Variables'!$E106,0)))))) -> 31 | N22: =IF(N$18='5.Variables'!$B$16,+'5.Variables'!$E26,+IF(N$18='5.Variables'!$B$39,+'5.Variables'!$E50,+IF(N$18='5.Variables'!$B$62,+'5.Variables'!$E64,+IF(N$18='5.Variables'!$B$76,+'5.Variables'!$E78,+IF(N$18='5.Variables'!$B$90,+'5.Variables'!$E92,+IF(N$18='5.Variables'!$B$104,+'5.Variables'!$E106,0)))))) -> 134.81 | O22: =IF(O$18='5.Variables'!$B$16,+'5.Variables'!$E26,+IF(O$18='5.Variables'!$B$39,+'5.Variables'!$E50,+IF(O$18='5.Variables'!$B$62,+'5.Variables'!$E64,+IF(O$18='5.Variables'!$B$76,+'5.Variables'!$E78,+IF(O$18='5.Variables'!$B$90,+'5.Variables'!$E92,+IF(O$18='5.Variables'!$B$104,+'5.Variables'!$E106,0)))))) -> 0 | P22: =IF(P$18='5.Variables'!$B$16,+'5.Variables'!$E26,+IF(P$18='5.Variables'!$B$39,+'5.Variables'!$E50,+IF(P$18='5.Variables'!$B$62,+'5.Variables'!$E64,+IF(P$18='5.Variables'!$B$76,+'5.Variables'!$E78,+IF(P$18='5.Variables'!$B$90,+'5.Variables'!$E92,+IF(P$18='5.Variables'!$B$104,+'5.Variables'!$E106,0)))))) -> 368 | R22: =$V$34+(K22*$V$35)+(L22*$V$36)+(M22*$V$37)+(N22*$V$38)+(O22*$V$39)+(P22*$V$40) -> 21987354 | U22: R Square | V22: 0.87633884
A23: =+A22+1 -> 4 | B23: =CONCATENATE('3. Consumption by Rate Class'!B28,"-",'3. Consumption by Rate Class'!C28) -> 2006-April | C23: 23542027 | D23: 2416600 | E23: 2666000 | J23: =C23-D23-E23+F23+G23 -> 18459427 | K23: =IF(K$18='5.Variables'!$B$16,+'5.Variables'!$F27,+IF(K$18='5.Variables'!$B$39,+'5.Variables'!$F50,+IF(K$18='5.Variables'!$B$62,+'5.Variables'!$F64,+IF(K$18='5.Variables'!$B$76,+'5.Variables'!$F78,+IF(K$18='5.Variables'!$B$90,+'5.Variables'!$F92,+IF(K$18='5.Variables'!$B$104,+'5.Variables'!$F106,0)))))) -> 342.6 | L23: =IF(L$18='5.Variables'!$B$16,+'5.Variables'!$F27,+IF(L$18='5.Variables'!$B$39,+'5.Variables'!$F50,+IF(L$18='5.Variables'!$B$62,+'5.Variables'!$F64,+IF(L$18='5.Variables'!$B$76,+'5.Variables'!$F78,+IF(L$18='5.Variables'!$B$90,+'5.Variables'!$F92,+IF(L$18='5.Variables'!$B$104,+'5.Variables'!$F106,0)))))) -> 0 | M23: =IF(M$18='5.Variables'!$B$16,+'5.Variables'!$F26,+IF(M$18='5.Variables'!$B$39,+'5.Variables'!$F50,+IF(M$18='5.Variables'!$B$62,+'5.Variables'!$F64,+IF(M$18='5.Variables'!$B$76,+'5.Variables'!$F78,+IF(M$18='5.Variables'!$B$90,+'5.Variables'!$F92,+IF(M$18='5.Variables'!$B$104,+'5.Variables'!$F106,0)))))) -> 30 | N23: =IF(N$18='5.Variables'!$B$16,+'5.Variables'!$F26,+IF(N$18='5.Variables'!$B$39,+'5.Variables'!$F50,+IF(N$18='5.Variables'!$B$62,+'5.Variables'!$F64,+IF(N$18='5.Variables'!$B$76,+'5.Variables'!$F78,+IF(N$18='5.Variables'!$B$90,+'5.Variables'!$F92,+IF(N$18='5.Variables'!$B$104,+'5.Variables'!$F106,0)))))) -> 135.08 | O23: =IF(O$18='5.Variables'!$B$16,+'5.Variables'!$F26,+IF(O$18='5.Variables'!$B$39,+'5.Variables'!$F50,+IF(O$18='5.Variables'!$B$62,+'5.Variables'!$F64,+IF(O$18='5.Variables'!$B$76,+'5.Variables'!$F78,+IF(O$18='5.Variables'!$B$90,+'5.Variables'!$F92,+IF(O$18='5.Variables'!$B$104,+'5.Variables'!$F106,0)))))) -> 0 | P23: =IF(P$18='5.Variables'!$B$16,+'5.Variables'!$F26,+IF(P$18='5.Variables'!$B$39,+'5.Variables'!$F50,+IF(P$18='5.Variables'!$B$62,+'5.Variables'!$F64,+IF(P$18='5.Variables'!$B$76,+'5.Variables'!$F78,+IF(P$18='5.Variables'!$B$90,+'5.Variables'!$F92,+IF(P$18='5.Variables'!$B$104,+'5.Variables'!$F106,0)))))) -> 304 | R23: =$V$34+(K23*$V$35)+(L23*$V$36)+(M23*$V$37)+(N23*$V$38)+(O23*$V$39)+(P23*$V$40) -> 19683575 | U23: Adjusted R Square | V23: 0.86977276
A24: =+A23+1 -> 5 | B24: =CONCATENATE('3. Consumption by Rate Class'!B29,"-",'3. Consumption by Rate Class'!C29) -> 2006-May | C24: 23594804 | D24: 2664711 | E24: 2329487 | J24: =C24-D24-E24+F24+G24 -> 18600606 | K24: =IF(K$18='5.Variables'!$B$16,+'5.Variables'!$G27,+IF(K$18='5.Variables'!$B$39,+'5.Variables'!$G50,+IF(K$18='5.Variables'!$B$62,+'5.Variables'!$G64,+IF(K$18='5.Variables'!$B$76,+'5.Variables'!$G78,+IF(K$18='5.Variables'!$B$90,+'5.Variables'!$G92,+IF(K$18='5.Variables'!$B$104,+'5.Variables'!$G106,0)))))) -> 192.1 | L24: =IF(L$18='5.Variables'!$B$16,+'5.Variables'!$G27,+IF(L$18='5.Variables'!$B$39,+'5.Variables'!$G50,+IF(L$18='5.Variables'!$B$62,+'5.Variables'!$G64,+IF(L$18='5.Variables'!$B$76,+'5.Variables'!$G78,+IF(L$18='5.Variables'!$B$90,+'5.Variables'!$G92,+IF(L$18='5.Variables'!$B$104,+'5.Variables'!$G106,0)))))) -> 6.3 | M24: =IF(M$18='5.Variables'!$B$16,+'5.Variables'!$G26,+IF(M$18='5.Variables'!$B$39,+'5.Variables'!$G50,+IF(M$18='5.Variables'!$B$62,+'5.Variables'!$G64,+IF(M$18='5.Variables'!$B$76,+'5.Variables'!$G78,+IF(M$18='5.Variables'!$B$90,+'5.Variables'!$G92,+IF(M$18='5.Variables'!$B$104,+'5.Variables'!$G106,0)))))) -> 31 | N24: =IF(N$18='5.Variables'!$B$16,+'5.Variables'!$G26,+IF(N$18='5.Variables'!$B$39,+'5.Variables'!$G50,+IF(N$18='5.Variables'!$B$62,+'5.Variables'!$G64,+IF(N$18='5.Variables'!$B$76,+'5.Variables'!$G78,+IF(N$18='5.Variables'!$B$90,+'5.Variables'!$G92,+IF(N$18='5.Variables'!$B$104,+'5.Variables'!$G106,0)))))) -> 135.36 | O24: =IF(O$18='5.Variables'!$B$16,+'5.Variables'!$G26,+IF(O$18='5.Variables'!$B$39,+'5.Variables'!$G50,+IF(O$18='5.Variables'!$B$62,+'5.Variables'!$G64,+IF(O$18='5.Variables'!$B$76,+'5.Variables'!$G78,+IF(O$18='5.Variables'!$B$90,+'5.Variables'!$G92,+IF(O$18='5.Variables'!$B$104,+'5.Variables'!$G106,0)))))) -> 0 | P24: =IF(P$18='5.Variables'!$B$16,+'5.Variables'!$G26,+IF(P$18='5.Variables'!$B$39,+'5.Variables'!$G50,+IF(P$18='5.Variables'!$B$62,+'5.Variables'!$G64,+IF(P$18='5.Variables'!$B$76,+'5.Variables'!$G78,+IF(P$18='5.Variables'!$B$90,+'5.Variables'!$G92,+IF(P$18='5.Variables'!$B$104,+'5.Variables'!$G106,0)))))) -> 352 | R24: =$V$34+(K24*$V$35)+(L24*$V$36)+(M24*$V$37)+(N24*$V$38)+(O24*$V$39)+(P24*$V$40) -> 19706791 | U24: Standard Error | V24: 562293.85
A25: =+A24+1 -> 6 | B25: =CONCATENATE('3. Consumption by Rate Class'!B30,"-",'3. Consumption by Rate Class'!C30) -> 2006-June | C25: 24393760 | D25: 2672909 | E25: 2501167 | J25: =C25-D25-E25+F25+G25 -> 19219684 | K25: =IF(K$18='5.Variables'!$B$16,+'5.Variables'!$H27,+IF(K$18='5.Variables'!$B$39,+'5.Variables'!$H50,+IF(K$18='5.Variables'!$B$62,+'5.Variables'!$H64,+IF(K$18='5.Variables'!$B$76,+'5.Variables'!$H78,+IF(K$18='5.Variables'!$B$90,+'5.Variables'!$H92,+IF(K$18='5.Variables'!$B$104,+'5.Variables'!$H106,0)))))) -> 40.1 | L25: =IF(L$18='5.Variables'!$B$16,+'5.Variables'!$H27,+IF(L$18='5.Variables'!$B$39,+'5.Variables'!$H50,+IF(L$18='5.Variables'!$B$62,+'5.Variables'!$H64,+IF(L$18='5.Variables'!$B$76,+'5.Variables'!$H78,+IF(L$18='5.Variables'!$B$90,+'5.Variables'!$H92,+IF(L$18='5.Variables'!$B$104,+'5.Variables'!$H106,0)))))) -> 18 | M25: =IF(M$18='5.Variables'!$B$16,+'5.Variables'!$H26,+IF(M$18='5.Variables'!$B$39,+'5.Variables'!$H50,+IF(M$18='5.Variables'!$B$62,+'5.Variables'!$H64,+IF(M$18='5.Variables'!$B$76,+'5.Variables'!$H78,+IF(M$18='5.Variables'!$B$90,+'5.Variables'!$H92,+IF(M$18='5.Variables'!$B$104,+'5.Variables'!$H106,0)))))) -> 30 | N25: =IF(N$18='5.Variables'!$B$16,+'5.Variables'!$H26,+IF(N$18='5.Variables'!$B$39,+'5.Variables'!$H50,+IF(N$18='5.Variables'!$B$62,+'5.Variables'!$H64,+IF(N$18='5.Variables'!$B$76,+'5.Variables'!$H78,+IF(N$18='5.Variables'!$B$90,+'5.Variables'!$H92,+IF(N$18='5.Variables'!$B$104,+'5.Variables'!$H106,0)))))) -> 135.64 | O25: =IF(O$18='5.Variables'!$B$16,+'5.Variables'!$H26,+IF(O$18='5.Variables'!$B$39,+'5.Variables'!$H50,+IF(O$18='5.Variables'!$B$62,+'5.Variables'!$H64,+IF(O$18='5.Variables'!$B$76,+'5.Variables'!$H78,+IF(O$18='5.Variables'!$B$90,+'5.Variables'!$H92,+IF(O$18='5.Variables'!$B$104,+'5.Variables'!$H106,0)))))) -> 0 | P25: =IF(P$18='5.Variables'!$B$16,+'5.Variables'!$H26,+IF(P$18='5.Variables'!$B$39,+'5.Variables'!$H50,+IF(P$18='5.Variables'!$B$62,+'5.Variables'!$H64,+IF(P$18='5.Variables'!$B$76,+'5.Variables'!$H78,+IF(P$18='5.Variables'!$B$90,+'5.Variables'!$H92,+IF(P$18='5.Variables'!$B$104,+'5.Variables'!$H106,0)))))) -> 352 | R25: =$V$34+(K25*$V$35)+(L25*$V$36)+(M25*$V$37)+(N25*$V$38)+(O25*$V$39)+(P25*$V$40) -> 18810653 | U25: Observations | V25: 120
A26: =+A25+1 -> 7 | B26: =CONCATENATE('3. Consumption by Rate Class'!B31,"-",'3. Consumption by Rate Class'!C31) -> 2006-July | C26: 25023621 | D26: 2416512 | E26: 1764031 | J26: =C26-D26-E26+F26+G26 -> 20843078 | K26: =IF(K$18='5.Variables'!$B$16,+'5.Variables'!$I27,+IF(K$18='5.Variables'!$B$39,+'5.Variables'!$I50,+IF(K$18='5.Variables'!$B$62,+'5.Variables'!$I64,+IF(K$18='5.Variables'!$B$76,+'5.Variables'!$I78,+IF(K$18='5.Variables'!$B$90,+'5.Variables'!$I92,+IF(K$18='5.Variables'!$B$104,+'5.Variables'!$I106,0)))))) -> 5.9 | L26: =IF(L$18='5.Variables'!$B$16,+'5.Variables'!$I27,+IF(L$18='5.Variables'!$B$39,+'5.Variables'!$I50,+IF(L$18='5.Variables'!$B$62,+'5.Variables'!$I64,+IF(L$18='5.Variables'!$B$76,+'5.Variables'!$I78,+IF(L$18='5.Variables'!$B$90,+'5.Variables'!$I92,+IF(L$18='5.Variables'!$B$104,+'5.Variables'!$I106,0)))))) -> 86.9 | M26: =IF(M$18='5.Variables'!$B$16,+'5.Variables'!$I26,+IF(M$18='5.Variables'!$B$39,+'5.Variables'!$I50,+IF(M$18='5.Variables'!$B$62,+'5.Variables'!$I64,+IF(M$18='5.Variables'!$B$76,+'5.Variables'!$I78,+IF(M$18='5.Variables'!$B$90,+'5.Variables'!$I92,+IF(M$18='5.Variables'!$B$104,+'5.Variables'!$I106,0)))))) -> 31 | N26: =IF(N$18='5.Variables'!$B$16,+'5.Variables'!$I26,+IF(N$18='5.Variables'!$B$39,+'5.Variables'!$I50,+IF(N$18='5.Variables'!$B$62,+'5.Variables'!$I64,+IF(N$18='5.Variables'!$B$76,+'5.Variables'!$I78,+IF(N$18='5.Variables'!$B$90,+'5.Variables'!$I92,+IF(N$18='5.Variables'!$B$104,+'5.Variables'!$I106,0)))))) -> 135.92 | O26: =IF(O$18='5.Variables'!$B$16,+'5.Variables'!$I26,+IF(O$18='5.Variables'!$B$39,+'5.Variables'!$I50,+IF(O$18='5.Variables'!$B$62,+'5.Variables'!$I64,+IF(O$18='5.Variables'!$B$76,+'5.Variables'!$I78,+IF(O$18='5.Variables'!$B$90,+'5.Variables'!$I92,+IF(O$18='5.Variables'!$B$104,+'5.Variables'!$I106,0)))))) -> 0 | P26: =IF(P$18='5.Variables'!$B$16,+'5.Variables'!$I26,+IF(P$18='5.Variables'!$B$39,+'5.Variables'!$I50,+IF(P$18='5.Variables'!$B$62,+'5.Variables'!$I64,+IF(P$18='5.Variables'!$B$76,+'5.Variables'!$I78,+IF(P$18='5.Variables'!$B$90,+'5.Variables'!$I92,+IF(P$18='5.Variables'!$B$104,+'5.Variables'!$I106,0)))))) -> 320 | R26: =$V$34+(K26*$V$35)+(L26*$V$36)+(M26*$V$37)+(N26*$V$38)+(O26*$V$39)+(P26*$V$40) -> 21474797
A27: =+A26+1 -> 8 | B27: =CONCATENATE('3. Consumption by Rate Class'!B32,"-",'3. Consumption by Rate Class'!C32) -> 2006-August | C27: 24820037 | D27: 2557912 | E27: 1888942 | J27: =C27-D27-E27+F27+G27 -> 20373183 | K27: =IF(K$18='5.Variables'!$B$16,+'5.Variables'!$J27,+IF(K$18='5.Variables'!$B$39,+'5.Variables'!$J50,+IF(K$18='5.Variables'!$B$62,+'5.Variables'!$J64,+IF(K$18='5.Variables'!$B$76,+'5.Variables'!$J78,+IF(K$18='5.Variables'!$B$90,+'5.Variables'!$J92,+IF(K$18='5.Variables'!$B$104,+'5.Variables'!$J106,0)))))) -> 6.7 | L27: =IF(L$18='5.Variables'!$B$16,+'5.Variables'!$J27,+IF(L$18='5.Variables'!$B$39,+'5.Variables'!$J50,+IF(L$18='5.Variables'!$B$62,+'5.Variables'!$J64,+IF(L$18='5.Variables'!$B$76,+'5.Variables'!$J78,+IF(L$18='5.Variables'!$B$90,+'5.Variables'!$J92,+IF(L$18='5.Variables'!$B$104,+'5.Variables'!$J106,0)))))) -> 56.4 | M27: =IF(M$18='5.Variables'!$B$16,+'5.Variables'!$J26,+IF(M$18='5.Variables'!$B$39,+'5.Variables'!$J50,+IF(M$18='5.Variables'!$B$62,+'5.Variables'!$J64,+IF(M$18='5.Variables'!$B$76,+'5.Variables'!$J78,+IF(M$18='5.Variables'!$B$90,+'5.Variables'!$J92,+IF(M$18='5.Variables'!$B$104,+'5.Variables'!$J106,0)))))) -> 31 | N27: =IF(N$18='5.Variables'!$B$16,+'5.Variables'!$J26,+IF(N$18='5.Variables'!$B$39,+'5.Variables'!$J50,+IF(N$18='5.Variables'!$B$62,+'5.Variables'!$J64,+IF(N$18='5.Variables'!$B$76,+'5.Variables'!$J78,+IF(N$18='5.Variables'!$B$90,+'5.Variables'!$J92,+IF(N$18='5.Variables'!$B$104,+'5.Variables'!$J106,0)))))) -> 136.2 | O27: =IF(O$18='5.Variables'!$B$16,+'5.Variables'!$J26,+IF(O$18='5.Variables'!$B$39,+'5.Variables'!$J50,+IF(O$18='5.Variables'!$B$62,+'5.Variables'!$J64,+IF(O$18='5.Variables'!$B$76,+'5.Variables'!$J78,+IF(O$18='5.Variables'!$B$90,+'5.Variables'!$J92,+IF(O$18='5.Variables'!$B$104,+'5.Variables'!$J106,0)))))) -> 0 | P27: =IF(P$18='5.Variables'!$B$16,+'5.Variables'!$J26,+IF(P$18='5.Variables'!$B$39,+'5.Variables'!$J50,+IF(P$18='5.Variables'!$B$62,+'5.Variables'!$J64,+IF(P$18='5.Variables'!$B$76,+'5.Variables'!$J78,+IF(P$18='5.Variables'!$B$90,+'5.Variables'!$J92,+IF(P$18='5.Variables'!$B$104,+'5.Variables'!$J106,0)))))) -> 352 | R27: =$V$34+(K27*$V$35)+(L27*$V$36)+(M27*$V$37)+(N27*$V$38)+(O27*$V$39)+(P27*$V$40) -> 20517609 | U27: ANOVA
A28: =+A27+1 -> 9 | B28: =CONCATENATE('3. Consumption by Rate Class'!B33,"-",'3. Consumption by Rate Class'!C33) -> 2006-September | C28: 22477600 | D28: 2531686 | E28: 1629291 | J28: =C28-D28-E28+F28+G28 -> 18316623 | K28: =IF(K$18='5.Variables'!$B$16,+'5.Variables'!$K27,+IF(K$18='5.Variables'!$B$39,+'5.Variables'!$K50,+IF(K$18='5.Variables'!$B$62,+'5.Variables'!$K64,+IF(K$18='5.Variables'!$B$76,+'5.Variables'!$K78,+IF(K$18='5.Variables'!$B$90,+'5.Variables'!$K92,+IF(K$18='5.Variables'!$B$104,+'5.Variables'!$K106,0)))))) -> 103.3 | L28: =IF(L$18='5.Variables'!$B$16,+'5.Variables'!$K27,+IF(L$18='5.Variables'!$B$39,+'5.Variables'!$K50,+IF(L$18='5.Variables'!$B$62,+'5.Variables'!$K64,+IF(L$18='5.Variables'!$B$76,+'5.Variables'!$K78,+IF(L$18='5.Variables'!$B$90,+'5.Variables'!$K92,+IF(L$18='5.Variables'!$B$104,+'5.Variables'!$K106,0)))))) -> 1.3 | M28: =IF(M$18='5.Variables'!$B$16,+'5.Variables'!$K26,+IF(M$18='5.Variables'!$B$39,+'5.Variables'!$K50,+IF(M$18='5.Variables'!$B$62,+'5.Variables'!$K64,+IF(M$18='5.Variables'!$B$76,+'5.Variables'!$K78,+IF(M$18='5.Variables'!$B$90,+'5.Variables'!$K92,+IF(M$18='5.Variables'!$B$104,+'5.Variables'!$K106,0)))))) -> 30 | N28: =IF(N$18='5.Variables'!$B$16,+'5.Variables'!$K26,+IF(N$18='5.Variables'!$B$39,+'5.Variables'!$K50,+IF(N$18='5.Variables'!$B$62,+'5.Variables'!$K64,+IF(N$18='5.Variables'!$B$76,+'5.Variables'!$K78,+IF(N$18='5.Variables'!$B$90,+'5.Variables'!$K92,+IF(N$18='5.Variables'!$B$104,+'5.Variables'!$K106,0)))))) -> 136.48 | O28: =IF(O$18='5.Variables'!$B$16,+'5.Variables'!$K26,+IF(O$18='5.Variables'!$B$39,+'5.Variables'!$K50,+IF(O$18='5.Variables'!$B$62,+'5.Variables'!$K64,+IF(O$18='5.Variables'!$B$76,+'5.Variables'!$K78,+IF(O$18='5.Variables'!$B$90,+'5.Variables'!$K92,+IF(O$18='5.Variables'!$B$104,+'5.Variables'!$K106,0)))))) -> 0 | P28: =IF(P$18='5.Variables'!$B$16,+'5.Variables'!$K26,+IF(P$18='5.Variables'!$B$39,+'5.Variables'!$K50,+IF(P$18='5.Variables'!$B$62,+'5.Variables'!$K64,+IF(P$18='5.Variables'!$B$76,+'5.Variables'!$K78,+IF(P$18='5.Variables'!$B$90,+'5.Variables'!$K92,+IF(P$18='5.Variables'!$B$104,+'5.Variables'!$K106,0)))))) -> 320 | R28: =$V$34+(K28*$V$35)+(L28*$V$36)+(M28*$V$37)+(N28*$V$38)+(O28*$V$39)+(P28*$V$40) -> 18338877 | V28: df | W28: SS | X28: MS | Y28: F | Z28: Significance F
A29: =+A28+1 -> 10 | B29: =CONCATENATE('3. Consumption by Rate Class'!B34,"-",'3. Consumption by Rate Class'!C34) -> 2006-October | C29: 23787971 | D29: 2787075 | E29: 1485638 | J29: =C29-D29-E29+F29+G29 -> 19515258 | K29: =IF(K$18='5.Variables'!$B$16,+'5.Variables'!$L27,+IF(K$18='5.Variables'!$B$39,+'5.Variables'!$L50,+IF(K$18='5.Variables'!$B$62,+'5.Variables'!$L64,+IF(K$18='5.Variables'!$B$76,+'5.Variables'!$L78,+IF(K$18='5.Variables'!$B$90,+'5.Variables'!$L92,+IF(K$18='5.Variables'!$B$104,+'5.Variables'!$L106,0)))))) -> 296.4 | L29: =IF(L$18='5.Variables'!$B$16,+'5.Variables'!$L27,+IF(L$18='5.Variables'!$B$39,+'5.Variables'!$L50,+IF(L$18='5.Variables'!$B$62,+'5.Variables'!$L64,+IF(L$18='5.Variables'!$B$76,+'5.Variables'!$L78,+IF(L$18='5.Variables'!$B$90,+'5.Variables'!$L92,+IF(L$18='5.Variables'!$B$104,+'5.Variables'!$L106,0)))))) -> 0 | M29: =IF(M$18='5.Variables'!$B$16,+'5.Variables'!$L26,+IF(M$18='5.Variables'!$B$39,+'5.Variables'!$L50,+IF(M$18='5.Variables'!$B$62,+'5.Variables'!$L64,+IF(M$18='5.Variables'!$B$76,+'5.Variables'!$L78,+IF(M$18='5.Variables'!$B$90,+'5.Variables'!$L92,+IF(M$18='5.Variables'!$B$104,+'5.Variables'!$L106,0)))))) -> 31 | N29: =IF(N$18='5.Variables'!$B$16,+'5.Variables'!$L26,+IF(N$18='5.Variables'!$B$39,+'5.Variables'!$L50,+IF(N$18='5.Variables'!$B$62,+'5.Variables'!$L64,+IF(N$18='5.Variables'!$B$76,+'5.Variables'!$L78,+IF(N$18='5.Variables'!$B$90,+'5.Variables'!$L92,+IF(N$18='5.Variables'!$B$104,+'5.Variables'!$L106,0)))))) -> 136.76 | O29: =IF(O$18='5.Variables'!$B$16,+'5.Variables'!$L26,+IF(O$18='5.Variables'!$B$39,+'5.Variables'!$L50,+IF(O$18='5.Variables'!$B$62,+'5.Variables'!$L64,+IF(O$18='5.Variables'!$B$76,+'5.Variables'!$L78,+IF(O$18='5.Variables'!$B$90,+'5.Variables'!$L92,+IF(O$18='5.Variables'!$B$104,+'5.Variables'!$L106,0)))))) -> 0 | P29: =IF(P$18='5.Variables'!$B$16,+'5.Variables'!$L26,+IF(P$18='5.Variables'!$B$39,+'5.Variables'!$L50,+IF(P$18='5.Variables'!$B$62,+'5.Variables'!$L64,+IF(P$18='5.Variables'!$B$76,+'5.Variables'!$L78,+IF(P$18='5.Variables'!$B$90,+'5.Variables'!$L92,+IF(P$18='5.Variables'!$B$104,+'5.Variables'!$L106,0)))))) -> 336 | R29: =$V$34+(K29*$V$35)+(L29*$V$36)+(M29*$V$37)+(N29*$V$38)+(O29*$V$39)+(P29*$V$40) -> 20054882 | U29: Regression | V29: 6 | W29: 2.5318842e+14 | X29: 4.2198071e+13 | Y29: 133.46455 | Z29: 6.6750091e-49
A30: =+A29+1 -> 11 | B30: =CONCATENATE('3. Consumption by Rate Class'!B35,"-",'3. Consumption by Rate Class'!C35) -> 2006-November | C30: 24490934 | D30: 2645364 | E30: 1925007 | J30: =C30-D30-E30+F30+G30 -> 19920563 | K30: =IF(K$18='5.Variables'!$B$16,+'5.Variables'!$M27,+IF(K$18='5.Variables'!$B$39,+'5.Variables'!$M50,+IF(K$18='5.Variables'!$B$62,+'5.Variables'!$M64,+IF(K$18='5.Variables'!$B$76,+'5.Variables'!$M78,+IF(K$18='5.Variables'!$B$90,+'5.Variables'!$M92,+IF(K$18='5.Variables'!$B$104,+'5.Variables'!$M106,0)))))) -> 390.9 | L30: =IF(L$18='5.Variables'!$B$16,+'5.Variables'!$M27,+IF(L$18='5.Variables'!$B$39,+'5.Variables'!$M50,+IF(L$18='5.Variables'!$B$62,+'5.Variables'!$M64,+IF(L$18='5.Variables'!$B$76,+'5.Variables'!$M78,+IF(L$18='5.Variables'!$B$90,+'5.Variables'!$M92,+IF(L$18='5.Variables'!$B$104,+'5.Variables'!$M106,0)))))) -> 0 | M30: =IF(M$18='5.Variables'!$B$16,+'5.Variables'!$M26,+IF(M$18='5.Variables'!$B$39,+'5.Variables'!$M50,+IF(M$18='5.Variables'!$B$62,+'5.Variables'!$M64,+IF(M$18='5.Variables'!$B$76,+'5.Variables'!$M78,+IF(M$18='5.Variables'!$B$90,+'5.Variables'!$M92,+IF(M$18='5.Variables'!$B$104,+'5.Variables'!$M106,0)))))) -> 30 | N30: =IF(N$18='5.Variables'!$B$16,+'5.Variables'!$M26,+IF(N$18='5.Variables'!$B$39,+'5.Variables'!$M50,+IF(N$18='5.Variables'!$B$62,+'5.Variables'!$M64,+IF(N$18='5.Variables'!$B$76,+'5.Variables'!$M78,+IF(N$18='5.Variables'!$B$90,+'5.Variables'!$M92,+IF(N$18='5.Variables'!$B$104,+'5.Variables'!$M106,0)))))) -> 137.04 | O30: =IF(O$18='5.Variables'!$B$16,+'5.Variables'!$M26,+IF(O$18='5.Variables'!$B$39,+'5.Variables'!$M50,+IF(O$18='5.Variables'!$B$62,+'5.Variables'!$M64,+IF(O$18='5.Variables'!$B$76,+'5.Variables'!$M78,+IF(O$18='5.Variables'!$B$90,+'5.Variables'!$M92,+IF(O$18='5.Variables'!$B$104,+'5.Variables'!$M106,0)))))) -> 0 | P30: =IF(P$18='5.Variables'!$B$16,+'5.Variables'!$M26,+IF(P$18='5.Variables'!$B$39,+'5.Variables'!$M50,+IF(P$18='5.Variables'!$B$62,+'5.Variables'!$M64,+IF(P$18='5.Variables'!$B$76,+'5.Variables'!$M78,+IF(P$18='5.Variables'!$B$90,+'5.Variables'!$M92,+IF(P$18='5.Variables'!$B$104,+'5.Variables'!$M106,0)))))) -> 352 | R30: =$V$34+(K30*$V$35)+(L30*$V$36)+(M30*$V$37)+(N30*$V$38)+(O30*$V$39)+(P30*$V$40) -> 20420822 | U30: Residual | V30: 113 | W30: 3.5727704e+13 | X30: 3.1617437e+11
A31: =+A30+1 -> 12 | B31: =CONCATENATE('3. Consumption by Rate Class'!B36,"-",'3. Consumption by Rate Class'!C36) -> 2006-December | C31: 24544738 | D31: 2032814 | E31: 1476249 | J31: =C31-D31-E31+F31+G31 -> 21035675 | K31: =IF(K$18='5.Variables'!$B$16,+'5.Variables'!$N27,+IF(K$18='5.Variables'!$B$39,+'5.Variables'!$N50,+IF(K$18='5.Variables'!$B$62,+'5.Variables'!$N64,+IF(K$18='5.Variables'!$B$76,+'5.Variables'!$N78,+IF(K$18='5.Variables'!$B$90,+'5.Variables'!$N92,+IF(K$18='5.Variables'!$B$104,+'5.Variables'!$N106,0)))))) -> 505.5 | L31: =IF(L$18='5.Variables'!$B$16,+'5.Variables'!$N27,+IF(L$18='5.Variables'!$B$39,+'5.Variables'!$N50,+IF(L$18='5.Variables'!$B$62,+'5.Variables'!$N64,+IF(L$18='5.Variables'!$B$76,+'5.Variables'!$N78,+IF(L$18='5.Variables'!$B$90,+'5.Variables'!$N92,+IF(L$18='5.Variables'!$B$104,+'5.Variables'!$N106,0)))))) -> 0 | M31: =IF(M$18='5.Variables'!$B$16,+'5.Variables'!$N26,+IF(M$18='5.Variables'!$B$39,+'5.Variables'!$N50,+IF(M$18='5.Variables'!$B$62,+'5.Variables'!$N64,+IF(M$18='5.Variables'!$B$76,+'5.Variables'!$N78,+IF(M$18='5.Variables'!$B$90,+'5.Variables'!$N92,+IF(M$18='5.Variables'!$B$104,+'5.Variables'!$N106,0)))))) -> 31 | N31: =IF(N$18='5.Variables'!$B$16,+'5.Variables'!$N26,+IF(N$18='5.Variables'!$B$39,+'5.Variables'!$N50,+IF(N$18='5.Variables'!$B$62,+'5.Variables'!$N64,+IF(N$18='5.Variables'!$B$76,+'5.Variables'!$N78,+IF(N$18='5.Variables'!$B$90,+'5.Variables'!$N92,+IF(N$18='5.Variables'!$B$104,+'5.Variables'!$N106,0)))))) -> 137.33 | O31: =IF(O$18='5.Variables'!$B$16,+'5.Variables'!$N26,+IF(O$18='5.Variables'!$B$39,+'5.Variables'!$N50,+IF(O$18='5.Variables'!$B$62,+'5.Variables'!$N64,+IF(O$18='5.Variables'!$B$76,+'5.Variables'!$N78,+IF(O$18='5.Variables'!$B$90,+'5.Variables'!$N92,+IF(O$18='5.Variables'!$B$104,+'5.Variables'!$N106,0)))))) -> 0 | P31: =IF(P$18='5.Variables'!$B$16,+'5.Variables'!$N26,+IF(P$18='5.Variables'!$B$39,+'5.Variables'!$N50,+IF(P$18='5.Variables'!$B$62,+'5.Variables'!$N64,+IF(P$18='5.Variables'!$B$76,+'5.Variables'!$N78,+IF(P$18='5.Variables'!$B$90,+'5.Variables'!$N92,+IF(P$18='5.Variables'!$B$104,+'5.Variables'!$N106,0)))))) -> 304 | R31: =$V$34+(K31*$V$35)+(L31*$V$36)+(M31*$V$37)+(N31*$V$38)+(O31*$V$39)+(P31*$V$40) -> 21190541 | S31: =SUM(R20:R31) -> 2.449587e+08 | U31: Total | V31: 119 | W31: 288916128358280
A32: =+A31+1 -> 13 | B32: =CONCATENATE('3. Consumption by Rate Class'!B37,"-",'3. Consumption by Rate Class'!C37) -> 2007-January | C32: 27264426 | D32: 2165951 | E32: 1905585 | J32: =C32-D32-E32+F32+G32 -> 23192890 | K32: =IF(K$18='5.Variables'!$B$16,+'5.Variables'!$C28,+IF(K$18='5.Variables'!$B$39,+'5.Variables'!$C51,+IF(K$18='5.Variables'!$B$62,+'5.Variables'!$C65,+IF(K$18='5.Variables'!$B$76,+'5.Variables'!$C79,+IF(K$18='5.Variables'!$B$90,+'5.Variables'!$C93,+IF(K$18='5.Variables'!$B$104,+'5.Variables'!$C107,0)))))) -> 669.3 | L32: =IF(L$18='5.Variables'!$B$16,+'5.Variables'!$C27,+IF(L$18='5.Variables'!$B$39,+'5.Variables'!$C51,+IF(L$18='5.Variables'!$B$62,+'5.Variables'!$C65,+IF(L$18='5.Variables'!$B$76,+'5.Variables'!$C79,+IF(L$18='5.Variables'!$B$90,+'5.Variables'!$C93,+IF(L$18='5.Variables'!$B$104,+'5.Variables'!$C107,0)))))) -> 0 | M32: =IF(M$18='5.Variables'!$B$16,+'5.Variables'!$C27,+IF(M$18='5.Variables'!$B$39,+'5.Variables'!$C51,+IF(M$18='5.Variables'!$B$62,+'5.Variables'!$C65,+IF(M$18='5.Variables'!$B$76,+'5.Variables'!$C79,+IF(M$18='5.Variables'!$B$90,+'5.Variables'!$C93,+IF(M$18='5.Variables'!$B$104,+'5.Variables'!$C107,0)))))) -> 31 | N32: =IF(N$18='5.Variables'!$B$16,+'5.Variables'!$C27,+IF(N$18='5.Variables'!$B$39,+'5.Variables'!$C51,+IF(N$18='5.Variables'!$B$62,+'5.Variables'!$C65,+IF(N$18='5.Variables'!$B$76,+'5.Variables'!$C79,+IF(N$18='5.Variables'!$B$90,+'5.Variables'!$C93,+IF(N$18='5.Variables'!$B$104,+'5.Variables'!$C107,0)))))) -> 137.59 | O32: =IF(O$18='5.Variables'!$B$16,+'5.Variables'!$C27,+IF(O$18='5.Variables'!$B$39,+'5.Variables'!$C51,+IF(O$18='5.Variables'!$B$62,+'5.Variables'!$C65,+IF(O$18='5.Variables'!$B$76,+'5.Variables'!$C79,+IF(O$18='5.Variables'!$B$90,+'5.Variables'!$C93,+IF(O$18='5.Variables'!$B$104,+'5.Variables'!$C107,0)))))) -> 0 | P32: =IF(P$18='5.Variables'!$B$16,+'5.Variables'!$C27,+IF(P$18='5.Variables'!$B$39,+'5.Variables'!$C51,+IF(P$18='5.Variables'!$B$62,+'5.Variables'!$C65,+IF(P$18='5.Variables'!$B$76,+'5.Variables'!$C79,+IF(P$18='5.Variables'!$B$90,+'5.Variables'!$C93,+IF(P$18='5.Variables'!$B$104,+'5.Variables'!$C107,0)))))) -> 352 | R32: =$V$34+(K32*$V$35)+(L32*$V$36)+(M32*$V$37)+(N32*$V$38)+(O32*$V$39)+(P32*$V$40) -> 22630539
A33: =+A32+1 -> 14 | B33: =CONCATENATE('3. Consumption by Rate Class'!B38,"-",'3. Consumption by Rate Class'!C38) -> 2007-February | C33: 26230425 | D33: 2178438 | E33: 1999329 | J33: =C33-D33-E33+F33+G33 -> 22052658 | K33: =IF(K$18='5.Variables'!$B$16,+'5.Variables'!$D28,+IF(K$18='5.Variables'!$B$39,+'5.Variables'!$D51,+IF(K$18='5.Variables'!$B$62,+'5.Variables'!$D65,+IF(K$18='5.Variables'!$B$76,+'5.Variables'!$D79,+IF(K$18='5.Variables'!$B$90,+'5.Variables'!$D93,+IF(K$18='5.Variables'!$B$104,+'5.Variables'!$D107,0)))))) -> 728.2 | L33: =IF(L$18='5.Variables'!$B$16,+'5.Variables'!$D27,+IF(L$18='5.Variables'!$B$39,+'5.Variables'!$D51,+IF(L$18='5.Variables'!$B$62,+'5.Variables'!$D65,+IF(L$18='5.Variables'!$B$76,+'5.Variables'!$D79,+IF(L$18='5.Variables'!$B$90,+'5.Variables'!$D93,+IF(L$18='5.Variables'!$B$104,+'5.Variables'!$D107,0)))))) -> 0 | M33: =IF(M$18='5.Variables'!$B$16,+'5.Variables'!$D27,+IF(M$18='5.Variables'!$B$39,+'5.Variables'!$D51,+IF(M$18='5.Variables'!$B$62,+'5.Variables'!$D65,+IF(M$18='5.Variables'!$B$76,+'5.Variables'!$D79,+IF(M$18='5.Variables'!$B$90,+'5.Variables'!$D93,+IF(M$18='5.Variables'!$B$104,+'5.Variables'!$D107,0)))))) -> 28 | N33: =IF(N$18='5.Variables'!$B$16,+'5.Variables'!$D27,+IF(N$18='5.Variables'!$B$39,+'5.Variables'!$D51,+IF(N$18='5.Variables'!$B$62,+'5.Variables'!$D65,+IF(N$18='5.Variables'!$B$76,+'5.Variables'!$D79,+IF(N$18='5.Variables'!$B$90,+'5.Variables'!$D93,+IF(N$18='5.Variables'!$B$104,+'5.Variables'!$D107,0)))))) -> 137.85 | O33: =IF(O$18='5.Variables'!$B$16,+'5.Variables'!$D27,+IF(O$18='5.Variables'!$B$39,+'5.Variables'!$D51,+IF(O$18='5.Variables'!$B$62,+'5.Variables'!$D65,+IF(O$18='5.Variables'!$B$76,+'5.Variables'!$D79,+IF(O$18='5.Variables'!$B$90,+'5.Variables'!$D93,+IF(O$18='5.Variables'!$B$104,+'5.Variables'!$D107,0)))))) -> 0 | P33: =IF(P$18='5.Variables'!$B$16,+'5.Variables'!$D27,+IF(P$18='5.Variables'!$B$39,+'5.Variables'!$D51,+IF(P$18='5.Variables'!$B$62,+'5.Variables'!$D65,+IF(P$18='5.Variables'!$B$76,+'5.Variables'!$D79,+IF(P$18='5.Variables'!$B$90,+'5.Variables'!$D93,+IF(P$18='5.Variables'!$B$104,+'5.Variables'!$D107,0)))))) -> 320 | R33: =$V$34+(K33*$V$35)+(L33*$V$36)+(M33*$V$37)+(N33*$V$38)+(O33*$V$39)+(P33*$V$40) -> 21639418 | V33: Coefficients | W33: Standard Error | X33: t Stat | Y33: P-value | Z33: Lower 95% | AA33: Upper 95% | AB33: Lower 95.0% | AC33: Upper 95.0%
A34: =+A33+1 -> 15 | B34: =CONCATENATE('3. Consumption by Rate Class'!B39,"-",'3. Consumption by Rate Class'!C39) -> 2007-March | C34: 27093283 | D34: 2320895 | E34: 2532285 | J34: =C34-D34-E34+F34+G34 -> 22240103 | K34: =IF(K$18='5.Variables'!$B$16,+'5.Variables'!$E28,+IF(K$18='5.Variables'!$B$39,+'5.Variables'!$E51,+IF(K$18='5.Variables'!$B$62,+'5.Variables'!$E65,+IF(K$18='5.Variables'!$B$76,+'5.Variables'!$E79,+IF(K$18='5.Variables'!$B$90,+'5.Variables'!$E93,+IF(K$18='5.Variables'!$B$104,+'5.Variables'!$E107,0)))))) -> 578.3 | L34: =IF(L$18='5.Variables'!$B$16,+'5.Variables'!$E27,+IF(L$18='5.Variables'!$B$39,+'5.Variables'!$E51,+IF(L$18='5.Variables'!$B$62,+'5.Variables'!$E65,+IF(L$18='5.Variables'!$B$76,+'5.Variables'!$E79,+IF(L$18='5.Variables'!$B$90,+'5.Variables'!$E93,+IF(L$18='5.Variables'!$B$104,+'5.Variables'!$E107,0)))))) -> 0 | M34: =IF(M$18='5.Variables'!$B$16,+'5.Variables'!$E27,+IF(M$18='5.Variables'!$B$39,+'5.Variables'!$E51,+IF(M$18='5.Variables'!$B$62,+'5.Variables'!$E65,+IF(M$18='5.Variables'!$B$76,+'5.Variables'!$E79,+IF(M$18='5.Variables'!$B$90,+'5.Variables'!$E93,+IF(M$18='5.Variables'!$B$104,+'5.Variables'!$E107,0)))))) -> 31 | N34: =IF(N$18='5.Variables'!$B$16,+'5.Variables'!$E27,+IF(N$18='5.Variables'!$B$39,+'5.Variables'!$E51,+IF(N$18='5.Variables'!$B$62,+'5.Variables'!$E65,+IF(N$18='5.Variables'!$B$76,+'5.Variables'!$E79,+IF(N$18='5.Variables'!$B$90,+'5.Variables'!$E93,+IF(N$18='5.Variables'!$B$104,+'5.Variables'!$E107,0)))))) -> 138.11 | O34: =IF(O$18='5.Variables'!$B$16,+'5.Variables'!$E27,+IF(O$18='5.Variables'!$B$39,+'5.Variables'!$E51,+IF(O$18='5.Variables'!$B$62,+'5.Variables'!$E65,+IF(O$18='5.Variables'!$B$76,+'5.Variables'!$E79,+IF(O$18='5.Variables'!$B$90,+'5.Variables'!$E93,+IF(O$18='5.Variables'!$B$104,+'5.Variables'!$E107,0)))))) -> 0 | P34: =IF(P$18='5.Variables'!$B$16,+'5.Variables'!$E27,+IF(P$18='5.Variables'!$B$39,+'5.Variables'!$E51,+IF(P$18='5.Variables'!$B$62,+'5.Variables'!$E65,+IF(P$18='5.Variables'!$B$76,+'5.Variables'!$E79,+IF(P$18='5.Variables'!$B$90,+'5.Variables'!$E93,+IF(P$18='5.Variables'!$B$104,+'5.Variables'!$E107,0)))))) -> 352 | R34: =$V$34+(K34*$V$35)+(L34*$V$36)+(M34*$V$37)+(N34*$V$38)+(O34*$V$39)+(P34*$V$40) -> 22052858 | U34: Intercept | V34: -208229.05 | W34: 2656633.6 | X34: -0.078380791 | Y34: 0.93766378 | Z34: -5471499.4 | AA34: 5055041.3 | AB34: -5471499.4 | AC34: 5055041.3
A35: =+A34+1 -> 16 | B35: =CONCATENATE('3. Consumption by Rate Class'!B40,"-",'3. Consumption by Rate Class'!C40) -> 2007-April | C35: 24473677 | D35: 2552010 | E35: 2572558 | J35: =C35-D35-E35+F35+G35 -> 19349109 | K35: =IF(K$18='5.Variables'!$B$16,+'5.Variables'!$F28,+IF(K$18='5.Variables'!$B$39,+'5.Variables'!$F51,+IF(K$18='5.Variables'!$B$62,+'5.Variables'!$F65,+IF(K$18='5.Variables'!$B$76,+'5.Variables'!$F79,+IF(K$18='5.Variables'!$B$90,+'5.Variables'!$F93,+IF(K$18='5.Variables'!$B$104,+'5.Variables'!$F107,0)))))) -> 401 | L35: =IF(L$18='5.Variables'!$B$16,+'5.Variables'!$F27,+IF(L$18='5.Variables'!$B$39,+'5.Variables'!$F51,+IF(L$18='5.Variables'!$B$62,+'5.Variables'!$F65,+IF(L$18='5.Variables'!$B$76,+'5.Variables'!$F79,+IF(L$18='5.Variables'!$B$90,+'5.Variables'!$F93,+IF(L$18='5.Variables'!$B$104,+'5.Variables'!$F107,0)))))) -> 0 | M35: =IF(M$18='5.Variables'!$B$16,+'5.Variables'!$F27,+IF(M$18='5.Variables'!$B$39,+'5.Variables'!$F51,+IF(M$18='5.Variables'!$B$62,+'5.Variables'!$F65,+IF(M$18='5.Variables'!$B$76,+'5.Variables'!$F79,+IF(M$18='5.Variables'!$B$90,+'5.Variables'!$F93,+IF(M$18='5.Variables'!$B$104,+'5.Variables'!$F107,0)))))) -> 30 | N35: =IF(N$18='5.Variables'!$B$16,+'5.Variables'!$F27,+IF(N$18='5.Variables'!$B$39,+'5.Variables'!$F51,+IF(N$18='5.Variables'!$B$62,+'5.Variables'!$F65,+IF(N$18='5.Variables'!$B$76,+'5.Variables'!$F79,+IF(N$18='5.Variables'!$B$90,+'5.Variables'!$F93,+IF(N$18='5.Variables'!$B$104,+'5.Variables'!$F107,0)))))) -> 138.37 | O35: =IF(O$18='5.Variables'!$B$16,+'5.Variables'!$F27,+IF(O$18='5.Variables'!$B$39,+'5.Variables'!$F51,+IF(O$18='5.Variables'!$B$62,+'5.Variables'!$F65,+IF(O$18='5.Variables'!$B$76,+'5.Variables'!$F79,+IF(O$18='5.Variables'!$B$90,+'5.Variables'!$F93,+IF(O$18='5.Variables'!$B$104,+'5.Variables'!$F107,0)))))) -> 0 | P35: =IF(P$18='5.Variables'!$B$16,+'5.Variables'!$F27,+IF(P$18='5.Variables'!$B$39,+'5.Variables'!$F51,+IF(P$18='5.Variables'!$B$62,+'5.Variables'!$F65,+IF(P$18='5.Variables'!$B$76,+'5.Variables'!$F79,+IF(P$18='5.Variables'!$B$90,+'5.Variables'!$F93,+IF(P$18='5.Variables'!$B$104,+'5.Variables'!$F107,0)))))) -> 320 | R35: =$V$34+(K35*$V$35)+(L35*$V$36)+(M35*$V$37)+(N35*$V$38)+(O35*$V$39)+(P35*$V$40) -> 20282154 | U35: HDD | V35: 6515.5101 | W35: 286.55695 | X35: 22.737226 | Y35: 5.6683762e-44 | Z35: 5947.7891 | AA35: 7083.2311 | AB35: 5947.7891 | AC35: 7083.2311
A36: =+A35+1 -> 17 | B36: =CONCATENATE('3. Consumption by Rate Class'!B41,"-",'3. Consumption by Rate Class'!C41) -> 2007-May | C36: 23433104 | D36: 2745510 | E36: 2303985 | J36: =C36-D36-E36+F36+G36 -> 18383609 | K36: =IF(K$18='5.Variables'!$B$16,+'5.Variables'!$G28,+IF(K$18='5.Variables'!$B$39,+'5.Variables'!$G51,+IF(K$18='5.Variables'!$B$62,+'5.Variables'!$G65,+IF(K$18='5.Variables'!$B$76,+'5.Variables'!$G79,+IF(K$18='5.Variables'!$B$90,+'5.Variables'!$G93,+IF(K$18='5.Variables'!$B$104,+'5.Variables'!$G107,0)))))) -> 208.1 | L36: =IF(L$18='5.Variables'!$B$16,+'5.Variables'!$G27,+IF(L$18='5.Variables'!$B$39,+'5.Variables'!$G51,+IF(L$18='5.Variables'!$B$62,+'5.Variables'!$G65,+IF(L$18='5.Variables'!$B$76,+'5.Variables'!$G79,+IF(L$18='5.Variables'!$B$90,+'5.Variables'!$G93,+IF(L$18='5.Variables'!$B$104,+'5.Variables'!$G107,0)))))) -> 0 | M36: =IF(M$18='5.Variables'!$B$16,+'5.Variables'!$G27,+IF(M$18='5.Variables'!$B$39,+'5.Variables'!$G51,+IF(M$18='5.Variables'!$B$62,+'5.Variables'!$G65,+IF(M$18='5.Variables'!$B$76,+'5.Variables'!$G79,+IF(M$18='5.Variables'!$B$90,+'5.Variables'!$G93,+IF(M$18='5.Variables'!$B$104,+'5.Variables'!$G107,0)))))) -> 31 | N36: =IF(N$18='5.Variables'!$B$16,+'5.Variables'!$G27,+IF(N$18='5.Variables'!$B$39,+'5.Variables'!$G51,+IF(N$18='5.Variables'!$B$62,+'5.Variables'!$G65,+IF(N$18='5.Variables'!$B$76,+'5.Variables'!$G79,+IF(N$18='5.Variables'!$B$90,+'5.Variables'!$G93,+IF(N$18='5.Variables'!$B$104,+'5.Variables'!$G107,0)))))) -> 138.63 | O36: =IF(O$18='5.Variables'!$B$16,+'5.Variables'!$G27,+IF(O$18='5.Variables'!$B$39,+'5.Variables'!$G51,+IF(O$18='5.Variables'!$B$62,+'5.Variables'!$G65,+IF(O$18='5.Variables'!$B$76,+'5.Variables'!$G79,+IF(O$18='5.Variables'!$B$90,+'5.Variables'!$G93,+IF(O$18='5.Variables'!$B$104,+'5.Variables'!$G107,0)))))) -> 0 | P36: =IF(P$18='5.Variables'!$B$16,+'5.Variables'!$G27,+IF(P$18='5.Variables'!$B$39,+'5.Variables'!$G51,+IF(P$18='5.Variables'!$B$62,+'5.Variables'!$G65,+IF(P$18='5.Variables'!$B$76,+'5.Variables'!$G79,+IF(P$18='5.Variables'!$B$90,+'5.Variables'!$G93,+IF(P$18='5.Variables'!$B$104,+'5.Variables'!$G107,0)))))) -> 352 | R36: =$V$34+(K36*$V$35)+(L36*$V$36)+(M36*$V$37)+(N36*$V$38)+(O36*$V$39)+(P36*$V$40) -> 19656046 | U36: CDD | V36: 39804.224 | W36: 3223.7489 | X36: 12.347185 | Y36: 1.0857814e-22 | Z36: 33417.396 | AA36: 46191.052 | AB36: 33417.396 | AC36: 46191.052
A37: =+A36+1 -> 18 | B37: =CONCATENATE('3. Consumption by Rate Class'!B42,"-",'3. Consumption by Rate Class'!C42) -> 2007-June | C37: 24099862 | D37: 2671934 | E37: 1627280 | J37: =C37-D37-E37+F37+G37 -> 19800648 | K37: =IF(K$18='5.Variables'!$B$16,+'5.Variables'!$H28,+IF(K$18='5.Variables'!$B$39,+'5.Variables'!$H51,+IF(K$18='5.Variables'!$B$62,+'5.Variables'!$H65,+IF(K$18='5.Variables'!$B$76,+'5.Variables'!$H79,+IF(K$18='5.Variables'!$B$90,+'5.Variables'!$H93,+IF(K$18='5.Variables'!$B$104,+'5.Variables'!$H107,0)))))) -> 45.4 | L37: =IF(L$18='5.Variables'!$B$16,+'5.Variables'!$H27,+IF(L$18='5.Variables'!$B$39,+'5.Variables'!$H51,+IF(L$18='5.Variables'!$B$62,+'5.Variables'!$H65,+IF(L$18='5.Variables'!$B$76,+'5.Variables'!$H79,+IF(L$18='5.Variables'!$B$90,+'5.Variables'!$H93,+IF(L$18='5.Variables'!$B$104,+'5.Variables'!$H107,0)))))) -> 19.9 | M37: =IF(M$18='5.Variables'!$B$16,+'5.Variables'!$H27,+IF(M$18='5.Variables'!$B$39,+'5.Variables'!$H51,+IF(M$18='5.Variables'!$B$62,+'5.Variables'!$H65,+IF(M$18='5.Variables'!$B$76,+'5.Variables'!$H79,+IF(M$18='5.Variables'!$B$90,+'5.Variables'!$H93,+IF(M$18='5.Variables'!$B$104,+'5.Variables'!$H107,0)))))) -> 30 | N37: =IF(N$18='5.Variables'!$B$16,+'5.Variables'!$H27,+IF(N$18='5.Variables'!$B$39,+'5.Variables'!$H51,+IF(N$18='5.Variables'!$B$62,+'5.Variables'!$H65,+IF(N$18='5.Variables'!$B$76,+'5.Variables'!$H79,+IF(N$18='5.Variables'!$B$90,+'5.Variables'!$H93,+IF(N$18='5.Variables'!$B$104,+'5.Variables'!$H107,0)))))) -> 138.9 | O37: =IF(O$18='5.Variables'!$B$16,+'5.Variables'!$H27,+IF(O$18='5.Variables'!$B$39,+'5.Variables'!$H51,+IF(O$18='5.Variables'!$B$62,+'5.Variables'!$H65,+IF(O$18='5.Variables'!$B$76,+'5.Variables'!$H79,+IF(O$18='5.Variables'!$B$90,+'5.Variables'!$H93,+IF(O$18='5.Variables'!$B$104,+'5.Variables'!$H107,0)))))) -> 0 | P37: =IF(P$18='5.Variables'!$B$16,+'5.Variables'!$H27,+IF(P$18='5.Variables'!$B$39,+'5.Variables'!$H51,+IF(P$18='5.Variables'!$B$62,+'5.Variables'!$H65,+IF(P$18='5.Variables'!$B$76,+'5.Variables'!$H79,+IF(P$18='5.Variables'!$B$90,+'5.Variables'!$H93,+IF(P$18='5.Variables'!$B$104,+'5.Variables'!$H107,0)))))) -> 336 | R37: =$V$34+(K37*$V$35)+(L37*$V$36)+(M37*$V$37)+(N37*$V$38)+(O37*$V$39)+(P37*$V$40) -> 18894580 | U37: Number of Days in Month | V37: 379690.65 | W37: 72377.538 | X37: 5.2459735 | Y37: 7.3422847e-07 | Z37: 236297.69 | AA37: 523083.6 | AB37: 236297.69 | AC37: 523083.6
A38: =+A37+1 -> 19 | B38: =CONCATENATE('3. Consumption by Rate Class'!B43,"-",'3. Consumption by Rate Class'!C43) -> 2007-July | C38: 23042716 | D38: 2175447 | E38: 1061128 | J38: =C38-D38-E38+F38+G38 -> 19806141 | K38: =IF(K$18='5.Variables'!$B$16,+'5.Variables'!$I28,+IF(K$18='5.Variables'!$B$39,+'5.Variables'!$I51,+IF(K$18='5.Variables'!$B$62,+'5.Variables'!$I65,+IF(K$18='5.Variables'!$B$76,+'5.Variables'!$I79,+IF(K$18='5.Variables'!$B$90,+'5.Variables'!$I93,+IF(K$18='5.Variables'!$B$104,+'5.Variables'!$I107,0)))))) -> 22.4 | L38: =IF(L$18='5.Variables'!$B$16,+'5.Variables'!$I27,+IF(L$18='5.Variables'!$B$39,+'5.Variables'!$I51,+IF(L$18='5.Variables'!$B$62,+'5.Variables'!$I65,+IF(L$18='5.Variables'!$B$76,+'5.Variables'!$I79,+IF(L$18='5.Variables'!$B$90,+'5.Variables'!$I93,+IF(L$18='5.Variables'!$B$104,+'5.Variables'!$I107,0)))))) -> 45.3 | M38: =IF(M$18='5.Variables'!$B$16,+'5.Variables'!$I27,+IF(M$18='5.Variables'!$B$39,+'5.Variables'!$I51,+IF(M$18='5.Variables'!$B$62,+'5.Variables'!$I65,+IF(M$18='5.Variables'!$B$76,+'5.Variables'!$I79,+IF(M$18='5.Variables'!$B$90,+'5.Variables'!$I93,+IF(M$18='5.Variables'!$B$104,+'5.Variables'!$I107,0)))))) -> 31 | N38: =IF(N$18='5.Variables'!$B$16,+'5.Variables'!$I27,+IF(N$18='5.Variables'!$B$39,+'5.Variables'!$I51,+IF(N$18='5.Variables'!$B$62,+'5.Variables'!$I65,+IF(N$18='5.Variables'!$B$76,+'5.Variables'!$I79,+IF(N$18='5.Variables'!$B$90,+'5.Variables'!$I93,+IF(N$18='5.Variables'!$B$104,+'5.Variables'!$I107,0)))))) -> 139.16 | O38: =IF(O$18='5.Variables'!$B$16,+'5.Variables'!$I27,+IF(O$18='5.Variables'!$B$39,+'5.Variables'!$I51,+IF(O$18='5.Variables'!$B$62,+'5.Variables'!$I65,+IF(O$18='5.Variables'!$B$76,+'5.Variables'!$I79,+IF(O$18='5.Variables'!$B$90,+'5.Variables'!$I93,+IF(O$18='5.Variables'!$B$104,+'5.Variables'!$I107,0)))))) -> 0 | P38: =IF(P$18='5.Variables'!$B$16,+'5.Variables'!$I27,+IF(P$18='5.Variables'!$B$39,+'5.Variables'!$I51,+IF(P$18='5.Variables'!$B$62,+'5.Variables'!$I65,+IF(P$18='5.Variables'!$B$76,+'5.Variables'!$I79,+IF(P$18='5.Variables'!$B$90,+'5.Variables'!$I93,+IF(P$18='5.Variables'!$B$104,+'5.Variables'!$I107,0)))))) -> 336 | R38: =$V$34+(K38*$V$35)+(L38*$V$36)+(M38*$V$37)+(N38*$V$38)+(O38*$V$39)+(P38*$V$40) -> 20143056 | U38: Employment Stats | V38: 29288.578 | W38: 12989.58 | X38: 2.2547748 | Y38: 0.026074295 | Z38: 3553.8766 | AA38: 55023.279 | AB38: 3553.8766 | AC38: 55023.279
A39: =+A38+1 -> 20 | B39: =CONCATENATE('3. Consumption by Rate Class'!B44,"-",'3. Consumption by Rate Class'!C44) -> 2007-August | C39: 25156769 | D39: 2317085 | E39: 1337316 | J39: =C39-D39-E39+F39+G39 -> 21502368 | K39: =IF(K$18='5.Variables'!$B$16,+'5.Variables'!$J28,+IF(K$18='5.Variables'!$B$39,+'5.Variables'!$J51,+IF(K$18='5.Variables'!$B$62,+'5.Variables'!$J65,+IF(K$18='5.Variables'!$B$76,+'5.Variables'!$J79,+IF(K$18='5.Variables'!$B$90,+'5.Variables'!$J93,+IF(K$18='5.Variables'!$B$104,+'5.Variables'!$J107,0)))))) -> 12.1 | L39: =IF(L$18='5.Variables'!$B$16,+'5.Variables'!$J27,+IF(L$18='5.Variables'!$B$39,+'5.Variables'!$J51,+IF(L$18='5.Variables'!$B$62,+'5.Variables'!$J65,+IF(L$18='5.Variables'!$B$76,+'5.Variables'!$J79,+IF(L$18='5.Variables'!$B$90,+'5.Variables'!$J93,+IF(L$18='5.Variables'!$B$104,+'5.Variables'!$J107,0)))))) -> 91.5 | M39: =IF(M$18='5.Variables'!$B$16,+'5.Variables'!$J27,+IF(M$18='5.Variables'!$B$39,+'5.Variables'!$J51,+IF(M$18='5.Variables'!$B$62,+'5.Variables'!$J65,+IF(M$18='5.Variables'!$B$76,+'5.Variables'!$J79,+IF(M$18='5.Variables'!$B$90,+'5.Variables'!$J93,+IF(M$18='5.Variables'!$B$104,+'5.Variables'!$J107,0)))))) -> 31 | N39: =IF(N$18='5.Variables'!$B$16,+'5.Variables'!$J27,+IF(N$18='5.Variables'!$B$39,+'5.Variables'!$J51,+IF(N$18='5.Variables'!$B$62,+'5.Variables'!$J65,+IF(N$18='5.Variables'!$B$76,+'5.Variables'!$J79,+IF(N$18='5.Variables'!$B$90,+'5.Variables'!$J93,+IF(N$18='5.Variables'!$B$104,+'5.Variables'!$J107,0)))))) -> 139.42 | O39: =IF(O$18='5.Variables'!$B$16,+'5.Variables'!$J27,+IF(O$18='5.Variables'!$B$39,+'5.Variables'!$J51,+IF(O$18='5.Variables'!$B$62,+'5.Variables'!$J65,+IF(O$18='5.Variables'!$B$76,+'5.Variables'!$J79,+IF(O$18='5.Variables'!$B$90,+'5.Variables'!$J93,+IF(O$18='5.Variables'!$B$104,+'5.Variables'!$J107,0)))))) -> 0 | P39: =IF(P$18='5.Variables'!$B$16,+'5.Variables'!$J27,+IF(P$18='5.Variables'!$B$39,+'5.Variables'!$J51,+IF(P$18='5.Variables'!$B$62,+'5.Variables'!$J65,+IF(P$18='5.Variables'!$B$76,+'5.Variables'!$J79,+IF(P$18='5.Variables'!$B$90,+'5.Variables'!$J93,+IF(P$18='5.Variables'!$B$104,+'5.Variables'!$J107,0)))))) -> 352 | R39: =$V$34+(K39*$V$35)+(L39*$V$36)+(M39*$V$37)+(N39*$V$38)+(O39*$V$39)+(P39*$V$40) -> 22044231 | U39: Spring and Fall Flag | V39: -666791.39 | W39: 124829.37 | X39: -5.3416224 | Y39: 4.8285338e-07 | Z39: -914100.9 | AA39: -419481.89 | AB39: -914100.9 | AC39: -419481.89
A40: =+A39+1 -> 21 | B40: =CONCATENATE('3. Consumption by Rate Class'!B45,"-",'3. Consumption by Rate Class'!C45) -> 2007-September | C40: 23115006 | D40: 2429810 | E40: 1389034 | J40: =C40-D40-E40+F40+G40 -> 19296162 | K40: =IF(K$18='5.Variables'!$B$16,+'5.Variables'!$K28,+IF(K$18='5.Variables'!$B$39,+'5.Variables'!$K51,+IF(K$18='5.Variables'!$B$62,+'5.Variables'!$K65,+IF(K$18='5.Variables'!$B$76,+'5.Variables'!$K79,+IF(K$18='5.Variables'!$B$90,+'5.Variables'!$K93,+IF(K$18='5.Variables'!$B$104,+'5.Variables'!$K107,0)))))) -> 61.8 | L40: =IF(L$18='5.Variables'!$B$16,+'5.Variables'!$K27,+IF(L$18='5.Variables'!$B$39,+'5.Variables'!$K51,+IF(L$18='5.Variables'!$B$62,+'5.Variables'!$K65,+IF(L$18='5.Variables'!$B$76,+'5.Variables'!$K79,+IF(L$18='5.Variables'!$B$90,+'5.Variables'!$K93,+IF(L$18='5.Variables'!$B$104,+'5.Variables'!$K107,0)))))) -> 17.9 | M40: =IF(M$18='5.Variables'!$B$16,+'5.Variables'!$K27,+IF(M$18='5.Variables'!$B$39,+'5.Variables'!$K51,+IF(M$18='5.Variables'!$B$62,+'5.Variables'!$K65,+IF(M$18='5.Variables'!$B$76,+'5.Variables'!$K79,+IF(M$18='5.Variables'!$B$90,+'5.Variables'!$K93,+IF(M$18='5.Variables'!$B$104,+'5.Variables'!$K107,0)))))) -> 30 | N40: =IF(N$18='5.Variables'!$B$16,+'5.Variables'!$K27,+IF(N$18='5.Variables'!$B$39,+'5.Variables'!$K51,+IF(N$18='5.Variables'!$B$62,+'5.Variables'!$K65,+IF(N$18='5.Variables'!$B$76,+'5.Variables'!$K79,+IF(N$18='5.Variables'!$B$90,+'5.Variables'!$K93,+IF(N$18='5.Variables'!$B$104,+'5.Variables'!$K107,0)))))) -> 139.69 | O40: =IF(O$18='5.Variables'!$B$16,+'5.Variables'!$K27,+IF(O$18='5.Variables'!$B$39,+'5.Variables'!$K51,+IF(O$18='5.Variables'!$B$62,+'5.Variables'!$K65,+IF(O$18='5.Variables'!$B$76,+'5.Variables'!$K79,+IF(O$18='5.Variables'!$B$90,+'5.Variables'!$K93,+IF(O$18='5.Variables'!$B$104,+'5.Variables'!$K107,0)))))) -> 0 | P40: =IF(P$18='5.Variables'!$B$16,+'5.Variables'!$K27,+IF(P$18='5.Variables'!$B$39,+'5.Variables'!$K51,+IF(P$18='5.Variables'!$B$62,+'5.Variables'!$K65,+IF(P$18='5.Variables'!$B$76,+'5.Variables'!$K79,+IF(P$18='5.Variables'!$B$90,+'5.Variables'!$K93,+IF(P$18='5.Variables'!$B$104,+'5.Variables'!$K107,0)))))) -> 304 | R40: =$V$34+(K40*$V$35)+(L40*$V$36)+(M40*$V$37)+(N40*$V$38)+(O40*$V$39)+(P40*$V$40) -> 18701535 | U40: Holiday Months | V40: 7607.1365 | W40: 3416.9211 | X40: 2.2263132 | Y40: 0.027976633 | Z40: 837.59953 | AA40: 14376.673 | AB40: 837.59953 | AC40: 14376.673
A41: =+A40+1 -> 22 | B41: =CONCATENATE('3. Consumption by Rate Class'!B46,"-",'3. Consumption by Rate Class'!C46) -> 2007-October | C41: 23500919 | D41: 2307735 | E41: 1502184 | J41: =C41-D41-E41+F41+G41 -> 19691000 | K41: =IF(K$18='5.Variables'!$B$16,+'5.Variables'!$L28,+IF(K$18='5.Variables'!$B$39,+'5.Variables'!$L51,+IF(K$18='5.Variables'!$B$62,+'5.Variables'!$L65,+IF(K$18='5.Variables'!$B$76,+'5.Variables'!$L79,+IF(K$18='5.Variables'!$B$90,+'5.Variables'!$L93,+IF(K$18='5.Variables'!$B$104,+'5.Variables'!$L107,0)))))) -> 165.8 | L41: =IF(L$18='5.Variables'!$B$16,+'5.Variables'!$L27,+IF(L$18='5.Variables'!$B$39,+'5.Variables'!$L51,+IF(L$18='5.Variables'!$B$62,+'5.Variables'!$L65,+IF(L$18='5.Variables'!$B$76,+'5.Variables'!$L79,+IF(L$18='5.Variables'!$B$90,+'5.Variables'!$L93,+IF(L$18='5.Variables'!$B$104,+'5.Variables'!$L107,0)))))) -> 4.1 | M41: =IF(M$18='5.Variables'!$B$16,+'5.Variables'!$L27,+IF(M$18='5.Variables'!$B$39,+'5.Variables'!$L51,+IF(M$18='5.Variables'!$B$62,+'5.Variables'!$L65,+IF(M$18='5.Variables'!$B$76,+'5.Variables'!$L79,+IF(M$18='5.Variables'!$B$90,+'5.Variables'!$L93,+IF(M$18='5.Variables'!$B$104,+'5.Variables'!$L107,0)))))) -> 31 | N41: =IF(N$18='5.Variables'!$B$16,+'5.Variables'!$L27,+IF(N$18='5.Variables'!$B$39,+'5.Variables'!$L51,+IF(N$18='5.Variables'!$B$62,+'5.Variables'!$L65,+IF(N$18='5.Variables'!$B$76,+'5.Variables'!$L79,+IF(N$18='5.Variables'!$B$90,+'5.Variables'!$L93,+IF(N$18='5.Variables'!$B$104,+'5.Variables'!$L107,0)))))) -> 139.95 | O41: =IF(O$18='5.Variables'!$B$16,+'5.Variables'!$L27,+IF(O$18='5.Variables'!$B$39,+'5.Variables'!$L51,+IF(O$18='5.Variables'!$B$62,+'5.Variables'!$L65,+IF(O$18='5.Variables'!$B$76,+'5.Variables'!$L79,+IF(O$18='5.Variables'!$B$90,+'5.Variables'!$L93,+IF(O$18='5.Variables'!$B$104,+'5.Variables'!$L107,0)))))) -> 0 | P41: =IF(P$18='5.Variables'!$B$16,+'5.Variables'!$L27,+IF(P$18='5.Variables'!$B$39,+'5.Variables'!$L51,+IF(P$18='5.Variables'!$B$62,+'5.Variables'!$L65,+IF(P$18='5.Variables'!$B$76,+'5.Variables'!$L79,+IF(P$18='5.Variables'!$B$90,+'5.Variables'!$L93,+IF(P$18='5.Variables'!$B$104,+'5.Variables'!$L107,0)))))) -> 352 | R41: =$V$34+(K41*$V$35)+(L41*$V$36)+(M41*$V$37)+(N41*$V$38)+(O41*$V$39)+(P41*$V$40) -> 19582298
A42: =+A41+1 -> 23 | B42: =CONCATENATE('3. Consumption by Rate Class'!B47,"-",'3. Consumption by Rate Class'!C47) -> 2007-November | C42: 24801467 | D42: 2122510 | E42: 1766661 | J42: =C42-D42-E42+F42+G42 -> 20912296 | K42: =IF(K$18='5.Variables'!$B$16,+'5.Variables'!$M28,+IF(K$18='5.Variables'!$B$39,+'5.Variables'!$M51,+IF(K$18='5.Variables'!$B$62,+'5.Variables'!$M65,+IF(K$18='5.Variables'!$B$76,+'5.Variables'!$M79,+IF(K$18='5.Variables'!$B$90,+'5.Variables'!$M93,+IF(K$18='5.Variables'!$B$104,+'5.Variables'!$M107,0)))))) -> 441.5 | L42: =IF(L$18='5.Variables'!$B$16,+'5.Variables'!$M27,+IF(L$18='5.Variables'!$B$39,+'5.Variables'!$M51,+IF(L$18='5.Variables'!$B$62,+'5.Variables'!$M65,+IF(L$18='5.Variables'!$B$76,+'5.Variables'!$M79,+IF(L$18='5.Variables'!$B$90,+'5.Variables'!$M93,+IF(L$18='5.Variables'!$B$104,+'5.Variables'!$M107,0)))))) -> 0 | M42: =IF(M$18='5.Variables'!$B$16,+'5.Variables'!$M27,+IF(M$18='5.Variables'!$B$39,+'5.Variables'!$M51,+IF(M$18='5.Variables'!$B$62,+'5.Variables'!$M65,+IF(M$18='5.Variables'!$B$76,+'5.Variables'!$M79,+IF(M$18='5.Variables'!$B$90,+'5.Variables'!$M93,+IF(M$18='5.Variables'!$B$104,+'5.Variables'!$M107,0)))))) -> 30 | N42: =IF(N$18='5.Variables'!$B$16,+'5.Variables'!$M27,+IF(N$18='5.Variables'!$B$39,+'5.Variables'!$M51,+IF(N$18='5.Variables'!$B$62,+'5.Variables'!$M65,+IF(N$18='5.Variables'!$B$76,+'5.Variables'!$M79,+IF(N$18='5.Variables'!$B$90,+'5.Variables'!$M93,+IF(N$18='5.Variables'!$B$104,+'5.Variables'!$M107,0)))))) -> 140.22 | O42: =IF(O$18='5.Variables'!$B$16,+'5.Variables'!$M27,+IF(O$18='5.Variables'!$B$39,+'5.Variables'!$M51,+IF(O$18='5.Variables'!$B$62,+'5.Variables'!$M65,+IF(O$18='5.Variables'!$B$76,+'5.Variables'!$M79,+IF(O$18='5.Variables'!$B$90,+'5.Variables'!$M93,+IF(O$18='5.Variables'!$B$104,+'5.Variables'!$M107,0)))))) -> 0 | P42: =IF(P$18='5.Variables'!$B$16,+'5.Variables'!$M27,+IF(P$18='5.Variables'!$B$39,+'5.Variables'!$M51,+IF(P$18='5.Variables'!$B$62,+'5.Variables'!$M65,+IF(P$18='5.Variables'!$B$76,+'5.Variables'!$M79,+IF(P$18='5.Variables'!$B$90,+'5.Variables'!$M93,+IF(P$18='5.Variables'!$B$104,+'5.Variables'!$M107,0)))))) -> 352 | R42: =$V$34+(K42*$V$35)+(L42*$V$36)+(M42*$V$37)+(N42*$V$38)+(O42*$V$39)+(P42*$V$40) -> 20843644
A43: =+A42+1 -> 24 | B43: =CONCATENATE('3. Consumption by Rate Class'!B48,"-",'3. Consumption by Rate Class'!C48) -> 2007-December | C43: 25783134 | D43: 1839231 | E43: 1487833 | J43: =C43-D43-E43+F43+G43 -> 22456070 | K43: =IF(K$18='5.Variables'!$B$16,+'5.Variables'!$N28,+IF(K$18='5.Variables'!$B$39,+'5.Variables'!$N51,+IF(K$18='5.Variables'!$B$62,+'5.Variables'!$N65,+IF(K$18='5.Variables'!$B$76,+'5.Variables'!$N79,+IF(K$18='5.Variables'!$B$90,+'5.Variables'!$N93,+IF(K$18='5.Variables'!$B$104,+'5.Variables'!$N107,0)))))) -> 648.3 | L43: =IF(L$18='5.Variables'!$B$16,+'5.Variables'!$N27,+IF(L$18='5.Variables'!$B$39,+'5.Variables'!$N51,+IF(L$18='5.Variables'!$B$62,+'5.Variables'!$N65,+IF(L$18='5.Variables'!$B$76,+'5.Variables'!$N79,+IF(L$18='5.Variables'!$B$90,+'5.Variables'!$N93,+IF(L$18='5.Variables'!$B$104,+'5.Variables'!$N107,0)))))) -> 0 | M43: =IF(M$18='5.Variables'!$B$16,+'5.Variables'!$N27,+IF(M$18='5.Variables'!$B$39,+'5.Variables'!$N51,+IF(M$18='5.Variables'!$B$62,+'5.Variables'!$N65,+IF(M$18='5.Variables'!$B$76,+'5.Variables'!$N79,+IF(M$18='5.Variables'!$B$90,+'5.Variables'!$N93,+IF(M$18='5.Variables'!$B$104,+'5.Variables'!$N107,0)))))) -> 31 | N43: =IF(N$18='5.Variables'!$B$16,+'5.Variables'!$N27,+IF(N$18='5.Variables'!$B$39,+'5.Variables'!$N51,+IF(N$18='5.Variables'!$B$62,+'5.Variables'!$N65,+IF(N$18='5.Variables'!$B$76,+'5.Variables'!$N79,+IF(N$18='5.Variables'!$B$90,+'5.Variables'!$N93,+IF(N$18='5.Variables'!$B$104,+'5.Variables'!$N107,0)))))) -> 140.48 | O43: =IF(O$18='5.Variables'!$B$16,+'5.Variables'!$N27,+IF(O$18='5.Variables'!$B$39,+'5.Variables'!$N51,+IF(O$18='5.Variables'!$B$62,+'5.Variables'!$N65,+IF(O$18='5.Variables'!$B$76,+'5.Variables'!$N79,+IF(O$18='5.Variables'!$B$90,+'5.Variables'!$N93,+IF(O$18='5.Variables'!$B$104,+'5.Variables'!$N107,0)))))) -> 0 | P43: =IF(P$18='5.Variables'!$B$16,+'5.Variables'!$N27,+IF(P$18='5.Variables'!$B$39,+'5.Variables'!$N51,+IF(P$18='5.Variables'!$B$62,+'5.Variables'!$N65,+IF(P$18='5.Variables'!$B$76,+'5.Variables'!$N79,+IF(P$18='5.Variables'!$B$90,+'5.Variables'!$N93,+IF(P$18='5.Variables'!$B$104,+'5.Variables'!$N107,0)))))) -> 304 | R43: =$V$34+(K43*$V$35)+(L43*$V$36)+(M43*$V$37)+(N43*$V$38)+(O43*$V$39)+(P43*$V$40) -> 22213215 | S43: =SUM(R32:R43) -> 2.4868358e+08
A44: =+A43+1 -> 25 | B44: =CONCATENATE('3. Consumption by Rate Class'!B49,"-",'3. Consumption by Rate Class'!C49) -> 2008-January | C44: 26907991 | D44: 2091843 | E44: 2226385 | J44: =C44-D44-E44+F44+G44 -> 22589763 | K44: =IF(K$18='5.Variables'!$B$16,+'5.Variables'!$C29,+IF(K$18='5.Variables'!$B$39,+'5.Variables'!$C52,+IF(K$18='5.Variables'!$B$62,+'5.Variables'!$C66,+IF(K$18='5.Variables'!$B$76,+'5.Variables'!$C80,+IF(K$18='5.Variables'!$B$90,+'5.Variables'!$C94,+IF(K$18='5.Variables'!$B$104,+'5.Variables'!$C108,0)))))) -> 633.3 | L44: =IF(L$18='5.Variables'!$B$16,+'5.Variables'!$C28,+IF(L$18='5.Variables'!$B$39,+'5.Variables'!$C52,+IF(L$18='5.Variables'!$B$62,+'5.Variables'!$C66,+IF(L$18='5.Variables'!$B$76,+'5.Variables'!$C80,+IF(L$18='5.Variables'!$B$90,+'5.Variables'!$C94,+IF(L$18='5.Variables'!$B$104,+'5.Variables'!$C108,0)))))) -> 0 | M44: =IF(M$18='5.Variables'!$B$16,+'5.Variables'!$C28,+IF(M$18='5.Variables'!$B$39,+'5.Variables'!$C52,+IF(M$18='5.Variables'!$B$62,+'5.Variables'!$C66,+IF(M$18='5.Variables'!$B$76,+'5.Variables'!$C80,+IF(M$18='5.Variables'!$B$90,+'5.Variables'!$C94,+IF(M$18='5.Variables'!$B$104,+'5.Variables'!$C108,0)))))) -> 31 | N44: =IF(N$18='5.Variables'!$B$16,+'5.Variables'!$C28,+IF(N$18='5.Variables'!$B$39,+'5.Variables'!$C52,+IF(N$18='5.Variables'!$B$62,+'5.Variables'!$C66,+IF(N$18='5.Variables'!$B$76,+'5.Variables'!$C80,+IF(N$18='5.Variables'!$B$90,+'5.Variables'!$C94,+IF(N$18='5.Variables'!$B$104,+'5.Variables'!$C108,0)))))) -> 140.43 | O44: =IF(O$18='5.Variables'!$B$16,+'5.Variables'!$C28,+IF(O$18='5.Variables'!$B$39,+'5.Variables'!$C52,+IF(O$18='5.Variables'!$B$62,+'5.Variables'!$C66,+IF(O$18='5.Variables'!$B$76,+'5.Variables'!$C80,+IF(O$18='5.Variables'!$B$90,+'5.Variables'!$C94,+IF(O$18='5.Variables'!$B$104,+'5.Variables'!$C108,0)))))) -> 0 | P44: =IF(P$18='5.Variables'!$B$16,+'5.Variables'!$C28,+IF(P$18='5.Variables'!$B$39,+'5.Variables'!$C52,+IF(P$18='5.Variables'!$B$62,+'5.Variables'!$C66,+IF(P$18='5.Variables'!$B$76,+'5.Variables'!$C80,+IF(P$18='5.Variables'!$B$90,+'5.Variables'!$C94,+IF(P$18='5.Variables'!$B$104,+'5.Variables'!$C108,0)))))) -> 352 | R44: =$V$34+(K44*$V$35)+(L44*$V$36)+(M44*$V$37)+(N44*$V$38)+(O44*$V$39)+(P44*$V$40) -> 22479161 | U44: kWh Predicted Vs. Actual
A45: =+A44+1 -> 26 | B45: =CONCATENATE('3. Consumption by Rate Class'!B50,"-",'3. Consumption by Rate Class'!C50) -> 2008-February | C45: 25497644 | D45: 2051853 | E45: 1845598 | J45: =C45-D45-E45+F45+G45 -> 21600193 | K45: =IF(K$18='5.Variables'!$B$16,+'5.Variables'!$D29,+IF(K$18='5.Variables'!$B$39,+'5.Variables'!$D52,+IF(K$18='5.Variables'!$B$62,+'5.Variables'!$D66,+IF(K$18='5.Variables'!$B$76,+'5.Variables'!$D80,+IF(K$18='5.Variables'!$B$90,+'5.Variables'!$D94,+IF(K$18='5.Variables'!$B$104,+'5.Variables'!$D108,0)))))) -> 660.6 | L45: =IF(L$18='5.Variables'!$B$16,+'5.Variables'!$D28,+IF(L$18='5.Variables'!$B$39,+'5.Variables'!$D52,+IF(L$18='5.Variables'!$B$62,+'5.Variables'!$D66,+IF(L$18='5.Variables'!$B$76,+'5.Variables'!$D80,+IF(L$18='5.Variables'!$B$90,+'5.Variables'!$D94,+IF(L$18='5.Variables'!$B$104,+'5.Variables'!$D108,0)))))) -> 0 | M45: =IF(M$18='5.Variables'!$B$16,+'5.Variables'!$D28,+IF(M$18='5.Variables'!$B$39,+'5.Variables'!$D52,+IF(M$18='5.Variables'!$B$62,+'5.Variables'!$D66,+IF(M$18='5.Variables'!$B$76,+'5.Variables'!$D80,+IF(M$18='5.Variables'!$B$90,+'5.Variables'!$D94,+IF(M$18='5.Variables'!$B$104,+'5.Variables'!$D108,0)))))) -> 29 | N45: =IF(N$18='5.Variables'!$B$16,+'5.Variables'!$D28,+IF(N$18='5.Variables'!$B$39,+'5.Variables'!$D52,+IF(N$18='5.Variables'!$B$62,+'5.Variables'!$D66,+IF(N$18='5.Variables'!$B$76,+'5.Variables'!$D80,+IF(N$18='5.Variables'!$B$90,+'5.Variables'!$D94,+IF(N$18='5.Variables'!$B$104,+'5.Variables'!$D108,0)))))) -> 140.37 | O45: =IF(O$18='5.Variables'!$B$16,+'5.Variables'!$D28,+IF(O$18='5.Variables'!$B$39,+'5.Variables'!$D52,+IF(O$18='5.Variables'!$B$62,+'5.Variables'!$D66,+IF(O$18='5.Variables'!$B$76,+'5.Variables'!$D80,+IF(O$18='5.Variables'!$B$90,+'5.Variables'!$D94,+IF(O$18='5.Variables'!$B$104,+'5.Variables'!$D108,0)))))) -> 0 | P45: =IF(P$18='5.Variables'!$B$16,+'5.Variables'!$D28,+IF(P$18='5.Variables'!$B$39,+'5.Variables'!$D52,+IF(P$18='5.Variables'!$B$62,+'5.Variables'!$D66,+IF(P$18='5.Variables'!$B$76,+'5.Variables'!$D80,+IF(P$18='5.Variables'!$B$90,+'5.Variables'!$D94,+IF(P$18='5.Variables'!$B$104,+'5.Variables'!$D108,0)))))) -> 320 | R45: =$V$34+(K45*$V$35)+(L45*$V$36)+(M45*$V$37)+(N45*$V$38)+(O45*$V$39)+(P45*$V$40) -> 21652467 | U45: Year | V45: Actual kWh Purchased | W45: Year over Year | X45: Predicted kWh | Y45: Year over Year | Z45: Purchased vs Predicted
A46: =+A45+1 -> 27 | B46: =CONCATENATE('3. Consumption by Rate Class'!B51,"-",'3. Consumption by Rate Class'!C51) -> 2008-March | C46: 25682528 | D46: 2087020 | E46: 1747623 | J46: =C46-D46-E46+F46+G46 -> 21847885 | K46: =IF(K$18='5.Variables'!$B$16,+'5.Variables'!$E29,+IF(K$18='5.Variables'!$B$39,+'5.Variables'!$E52,+IF(K$18='5.Variables'!$B$62,+'5.Variables'!$E66,+IF(K$18='5.Variables'!$B$76,+'5.Variables'!$E80,+IF(K$18='5.Variables'!$B$90,+'5.Variables'!$E94,+IF(K$18='5.Variables'!$B$104,+'5.Variables'!$E108,0)))))) -> 632.3 | L46: =IF(L$18='5.Variables'!$B$16,+'5.Variables'!$E28,+IF(L$18='5.Variables'!$B$39,+'5.Variables'!$E52,+IF(L$18='5.Variables'!$B$62,+'5.Variables'!$E66,+IF(L$18='5.Variables'!$B$76,+'5.Variables'!$E80,+IF(L$18='5.Variables'!$B$90,+'5.Variables'!$E94,+IF(L$18='5.Variables'!$B$104,+'5.Variables'!$E108,0)))))) -> 0 | M46: =IF(M$18='5.Variables'!$B$16,+'5.Variables'!$E28,+IF(M$18='5.Variables'!$B$39,+'5.Variables'!$E52,+IF(M$18='5.Variables'!$B$62,+'5.Variables'!$E66,+IF(M$18='5.Variables'!$B$76,+'5.Variables'!$E80,+IF(M$18='5.Variables'!$B$90,+'5.Variables'!$E94,+IF(M$18='5.Variables'!$B$104,+'5.Variables'!$E108,0)))))) -> 31 | N46: =IF(N$18='5.Variables'!$B$16,+'5.Variables'!$E28,+IF(N$18='5.Variables'!$B$39,+'5.Variables'!$E52,+IF(N$18='5.Variables'!$B$62,+'5.Variables'!$E66,+IF(N$18='5.Variables'!$B$76,+'5.Variables'!$E80,+IF(N$18='5.Variables'!$B$90,+'5.Variables'!$E94,+IF(N$18='5.Variables'!$B$104,+'5.Variables'!$E108,0)))))) -> 140.31 | O46: =IF(O$18='5.Variables'!$B$16,+'5.Variables'!$E28,+IF(O$18='5.Variables'!$B$39,+'5.Variables'!$E52,+IF(O$18='5.Variables'!$B$62,+'5.Variables'!$E66,+IF(O$18='5.Variables'!$B$76,+'5.Variables'!$E80,+IF(O$18='5.Variables'!$B$90,+'5.Variables'!$E94,+IF(O$18='5.Variables'!$B$104,+'5.Variables'!$E108,0)))))) -> 0 | P46: =IF(P$18='5.Variables'!$B$16,+'5.Variables'!$E28,+IF(P$18='5.Variables'!$B$39,+'5.Variables'!$E52,+IF(P$18='5.Variables'!$B$62,+'5.Variables'!$E66,+IF(P$18='5.Variables'!$B$76,+'5.Variables'!$E80,+IF(P$18='5.Variables'!$B$90,+'5.Variables'!$E94,+IF(P$18='5.Variables'!$B$104,+'5.Variables'!$E108,0)))))) -> 304 | R46: =$V$34+(K46*$V$35)+(L46*$V$36)+(M46*$V$37)+(N46*$V$38)+(O46*$V$39)+(P46*$V$40) -> 22103988 | U46: ='4. Customer Growth'!B17 -> 2006 | V46: =SUM(J20:J31) -> 240687668 | X46: =S31 -> 2.449587e+08 | Z46: =(X46-V46)/V46 -> 0.017745117
A47: =+A46+1 -> 28 | B47: =CONCATENATE('3. Consumption by Rate Class'!B52,"-",'3. Consumption by Rate Class'!C52) -> 2008-April | C47: 22564521 | D47: 2052242 | E47: 1880044 | J47: =C47-D47-E47+F47+G47 -> 18632235 | K47: =IF(K$18='5.Variables'!$B$16,+'5.Variables'!$F29,+IF(K$18='5.Variables'!$B$39,+'5.Variables'!$F52,+IF(K$18='5.Variables'!$B$62,+'5.Variables'!$F66,+IF(K$18='5.Variables'!$B$76,+'5.Variables'!$F80,+IF(K$18='5.Variables'!$B$90,+'5.Variables'!$F94,+IF(K$18='5.Variables'!$B$104,+'5.Variables'!$F108,0)))))) -> 326.3 | L47: =IF(L$18='5.Variables'!$B$16,+'5.Variables'!$F28,+IF(L$18='5.Variables'!$B$39,+'5.Variables'!$F52,+IF(L$18='5.Variables'!$B$62,+'5.Variables'!$F66,+IF(L$18='5.Variables'!$B$76,+'5.Variables'!$F80,+IF(L$18='5.Variables'!$B$90,+'5.Variables'!$F94,+IF(L$18='5.Variables'!$B$104,+'5.Variables'!$F108,0)))))) -> 0 | M47: =IF(M$18='5.Variables'!$B$16,+'5.Variables'!$F28,+IF(M$18='5.Variables'!$B$39,+'5.Variables'!$F52,+IF(M$18='5.Variables'!$B$62,+'5.Variables'!$F66,+IF(M$18='5.Variables'!$B$76,+'5.Variables'!$F80,+IF(M$18='5.Variables'!$B$90,+'5.Variables'!$F94,+IF(M$18='5.Variables'!$B$104,+'5.Variables'!$F108,0)))))) -> 30 | N47: =IF(N$18='5.Variables'!$B$16,+'5.Variables'!$F28,+IF(N$18='5.Variables'!$B$39,+'5.Variables'!$F52,+IF(N$18='5.Variables'!$B$62,+'5.Variables'!$F66,+IF(N$18='5.Variables'!$B$76,+'5.Variables'!$F80,+IF(N$18='5.Variables'!$B$90,+'5.Variables'!$F94,+IF(N$18='5.Variables'!$B$104,+'5.Variables'!$F108,0)))))) -> 140.25 | O47: =IF(O$18='5.Variables'!$B$16,+'5.Variables'!$F28,+IF(O$18='5.Variables'!$B$39,+'5.Variables'!$F52,+IF(O$18='5.Variables'!$B$62,+'5.Variables'!$F66,+IF(O$18='5.Variables'!$B$76,+'5.Variables'!$F80,+IF(O$18='5.Variables'!$B$90,+'5.Variables'!$F94,+IF(O$18='5.Variables'!$B$104,+'5.Variables'!$F108,0)))))) -> 0 | P47: =IF(P$18='5.Variables'!$B$16,+'5.Variables'!$F28,+IF(P$18='5.Variables'!$B$39,+'5.Variables'!$F52,+IF(P$18='5.Variables'!$B$62,+'5.Variables'!$F66,+IF(P$18='5.Variables'!$B$76,+'5.Variables'!$F80,+IF(P$18='5.Variables'!$B$90,+'5.Variables'!$F94,+IF(P$18='5.Variables'!$B$104,+'5.Variables'!$F108,0)))))) -> 352 | R47: =$V$34+(K47*$V$35)+(L47*$V$36)+(M47*$V$37)+(N47*$V$38)+(O47*$V$39)+(P47*$V$40) -> 20093936 | U47: ='4. Customer Growth'!B18 -> 2007 | V47: =SUM(J32:J43) -> 2.4868305e+08 | W47: =(V47-V46)/V46 -> 0.033218924 | X47: =S43 -> 2.4868358e+08 | Y47: =(X47-X46)/X46 -> 0.015206141 | Z47: =(X47-V47)/V47 -> 2.098915e-06
A48: =+A47+1 -> 29 | B48: =CONCATENATE('3. Consumption by Rate Class'!B53,"-",'3. Consumption by Rate Class'!C53) -> 2008-May | C48: 21827055 | D48: 2097715 | E48: 1598627 | J48: =C48-D48-E48+F48+G48 -> 18130713 | K48: =IF(K$18='5.Variables'!$B$16,+'5.Variables'!$G29,+IF(K$18='5.Variables'!$B$39,+'5.Variables'!$G52,+IF(K$18='5.Variables'!$B$62,+'5.Variables'!$G66,+IF(K$18='5.Variables'!$B$76,+'5.Variables'!$G80,+IF(K$18='5.Variables'!$B$90,+'5.Variables'!$G94,+IF(K$18='5.Variables'!$B$104,+'5.Variables'!$G108,0)))))) -> 253.6 | L48: =IF(L$18='5.Variables'!$B$16,+'5.Variables'!$G28,+IF(L$18='5.Variables'!$B$39,+'5.Variables'!$G52,+IF(L$18='5.Variables'!$B$62,+'5.Variables'!$G66,+IF(L$18='5.Variables'!$B$76,+'5.Variables'!$G80,+IF(L$18='5.Variables'!$B$90,+'5.Variables'!$G94,+IF(L$18='5.Variables'!$B$104,+'5.Variables'!$G108,0)))))) -> 0 | M48: =IF(M$18='5.Variables'!$B$16,+'5.Variables'!$G28,+IF(M$18='5.Variables'!$B$39,+'5.Variables'!$G52,+IF(M$18='5.Variables'!$B$62,+'5.Variables'!$G66,+IF(M$18='5.Variables'!$B$76,+'5.Variables'!$G80,+IF(M$18='5.Variables'!$B$90,+'5.Variables'!$G94,+IF(M$18='5.Variables'!$B$104,+'5.Variables'!$G108,0)))))) -> 31 | N48: =IF(N$18='5.Variables'!$B$16,+'5.Variables'!$G28,+IF(N$18='5.Variables'!$B$39,+'5.Variables'!$G52,+IF(N$18='5.Variables'!$B$62,+'5.Variables'!$G66,+IF(N$18='5.Variables'!$B$76,+'5.Variables'!$G80,+IF(N$18='5.Variables'!$B$90,+'5.Variables'!$G94,+IF(N$18='5.Variables'!$B$104,+'5.Variables'!$G108,0)))))) -> 140.19 | O48: =IF(O$18='5.Variables'!$B$16,+'5.Variables'!$G28,+IF(O$18='5.Variables'!$B$39,+'5.Variables'!$G52,+IF(O$18='5.Variables'!$B$62,+'5.Variables'!$G66,+IF(O$18='5.Variables'!$B$76,+'5.Variables'!$G80,+IF(O$18='5.Variables'!$B$90,+'5.Variables'!$G94,+IF(O$18='5.Variables'!$B$104,+'5.Variables'!$G108,0)))))) -> 0 | P48: =IF(P$18='5.Variables'!$B$16,+'5.Variables'!$G28,+IF(P$18='5.Variables'!$B$39,+'5.Variables'!$G52,+IF(P$18='5.Variables'!$B$62,+'5.Variables'!$G66,+IF(P$18='5.Variables'!$B$76,+'5.Variables'!$G80,+IF(P$18='5.Variables'!$B$90,+'5.Variables'!$G94,+IF(P$18='5.Variables'!$B$104,+'5.Variables'!$G108,0)))))) -> 336 | R48: =$V$34+(K48*$V$35)+(L48*$V$36)+(M48*$V$37)+(N48*$V$38)+(O48*$V$39)+(P48*$V$40) -> 19876478 | U48: ='4. Customer Growth'!B19 -> 2008 | V48: =SUM(J44:J55) -> 241507708 | W48: =(V48-V47)/V47 -> -0.028853375 | X48: =S55 -> 2.4706984e+08 | Y48: =(X48-X47)/X47 -> -0.0064891072 | Z48: =(X48-V48)/V48 -> 0.023030871
A49: =+A48+1 -> 30 | B49: =CONCATENATE('3. Consumption by Rate Class'!B54,"-",'3. Consumption by Rate Class'!C54) -> 2008-June | C49: 22607091 | D49: 2071844 | E49: 1548458 | J49: =C49-D49-E49+F49+G49 -> 18986789 | K49: =IF(K$18='5.Variables'!$B$16,+'5.Variables'!$H29,+IF(K$18='5.Variables'!$B$39,+'5.Variables'!$H52,+IF(K$18='5.Variables'!$B$62,+'5.Variables'!$H66,+IF(K$18='5.Variables'!$B$76,+'5.Variables'!$H80,+IF(K$18='5.Variables'!$B$90,+'5.Variables'!$H94,+IF(K$18='5.Variables'!$B$104,+'5.Variables'!$H108,0)))))) -> 71 | L49: =IF(L$18='5.Variables'!$B$16,+'5.Variables'!$H28,+IF(L$18='5.Variables'!$B$39,+'5.Variables'!$H52,+IF(L$18='5.Variables'!$B$62,+'5.Variables'!$H66,+IF(L$18='5.Variables'!$B$76,+'5.Variables'!$H80,+IF(L$18='5.Variables'!$B$90,+'5.Variables'!$H94,+IF(L$18='5.Variables'!$B$104,+'5.Variables'!$H108,0)))))) -> 2.6 | M49: =IF(M$18='5.Variables'!$B$16,+'5.Variables'!$H28,+IF(M$18='5.Variables'!$B$39,+'5.Variables'!$H52,+IF(M$18='5.Variables'!$B$62,+'5.Variables'!$H66,+IF(M$18='5.Variables'!$B$76,+'5.Variables'!$H80,+IF(M$18='5.Variables'!$B$90,+'5.Variables'!$H94,+IF(M$18='5.Variables'!$B$104,+'5.Variables'!$H108,0)))))) -> 30 | N49: =IF(N$18='5.Variables'!$B$16,+'5.Variables'!$H28,+IF(N$18='5.Variables'!$B$39,+'5.Variables'!$H52,+IF(N$18='5.Variables'!$B$62,+'5.Variables'!$H66,+IF(N$18='5.Variables'!$B$76,+'5.Variables'!$H80,+IF(N$18='5.Variables'!$B$90,+'5.Variables'!$H94,+IF(N$18='5.Variables'!$B$104,+'5.Variables'!$H108,0)))))) -> 140.13 | O49: =IF(O$18='5.Variables'!$B$16,+'5.Variables'!$H28,+IF(O$18='5.Variables'!$B$39,+'5.Variables'!$H52,+IF(O$18='5.Variables'!$B$62,+'5.Variables'!$H66,+IF(O$18='5.Variables'!$B$76,+'5.Variables'!$H80,+IF(O$18='5.Variables'!$B$90,+'5.Variables'!$H94,+IF(O$18='5.Variables'!$B$104,+'5.Variables'!$H108,0)))))) -> 0 | P49: =IF(P$18='5.Variables'!$B$16,+'5.Variables'!$H28,+IF(P$18='5.Variables'!$B$39,+'5.Variables'!$H52,+IF(P$18='5.Variables'!$B$62,+'5.Variables'!$H66,+IF(P$18='5.Variables'!$B$76,+'5.Variables'!$H80,+IF(P$18='5.Variables'!$B$90,+'5.Variables'!$H94,+IF(P$18='5.Variables'!$B$104,+'5.Variables'!$H108,0)))))) -> 336 | R49: =$V$34+(K49*$V$35)+(L49*$V$36)+(M49*$V$37)+(N49*$V$38)+(O49*$V$39)+(P49*$V$40) -> 18408789 | U49: ='4. Customer Growth'!B20 -> 2009 | V49: =SUM(J56:J67) -> 236526800 | W49: =(V49-V48)/V48 -> -0.02062422 | X49: =S67 -> 2.4547067e+08 | Y49: =(X49-X48)/X48 -> -0.006472539 | Z49: =(X49-V49)/V49 -> 0.037813355
A50: =+A49+1 -> 31 | B50: =CONCATENATE('3. Consumption by Rate Class'!B55,"-",'3. Consumption by Rate Class'!C55) -> 2008-July | C50: 24337168 | D50: 2101677 | E50: 1712261 | J50: =C50-D50-E50+F50+G50 -> 20523230 | K50: =IF(K$18='5.Variables'!$B$16,+'5.Variables'!$I29,+IF(K$18='5.Variables'!$B$39,+'5.Variables'!$I52,+IF(K$18='5.Variables'!$B$62,+'5.Variables'!$I66,+IF(K$18='5.Variables'!$B$76,+'5.Variables'!$I80,+IF(K$18='5.Variables'!$B$90,+'5.Variables'!$I94,+IF(K$18='5.Variables'!$B$104,+'5.Variables'!$I108,0)))))) -> 9.4 | L50: =IF(L$18='5.Variables'!$B$16,+'5.Variables'!$I28,+IF(L$18='5.Variables'!$B$39,+'5.Variables'!$I52,+IF(L$18='5.Variables'!$B$62,+'5.Variables'!$I66,+IF(L$18='5.Variables'!$B$76,+'5.Variables'!$I80,+IF(L$18='5.Variables'!$B$90,+'5.Variables'!$I94,+IF(L$18='5.Variables'!$B$104,+'5.Variables'!$I108,0)))))) -> 50.9 | M50: =IF(M$18='5.Variables'!$B$16,+'5.Variables'!$I28,+IF(M$18='5.Variables'!$B$39,+'5.Variables'!$I52,+IF(M$18='5.Variables'!$B$62,+'5.Variables'!$I66,+IF(M$18='5.Variables'!$B$76,+'5.Variables'!$I80,+IF(M$18='5.Variables'!$B$90,+'5.Variables'!$I94,+IF(M$18='5.Variables'!$B$104,+'5.Variables'!$I108,0)))))) -> 31 | N50: =IF(N$18='5.Variables'!$B$16,+'5.Variables'!$I28,+IF(N$18='5.Variables'!$B$39,+'5.Variables'!$I52,+IF(N$18='5.Variables'!$B$62,+'5.Variables'!$I66,+IF(N$18='5.Variables'!$B$76,+'5.Variables'!$I80,+IF(N$18='5.Variables'!$B$90,+'5.Variables'!$I94,+IF(N$18='5.Variables'!$B$104,+'5.Variables'!$I108,0)))))) -> 140.07 | O50: =IF(O$18='5.Variables'!$B$16,+'5.Variables'!$I28,+IF(O$18='5.Variables'!$B$39,+'5.Variables'!$I52,+IF(O$18='5.Variables'!$B$62,+'5.Variables'!$I66,+IF(O$18='5.Variables'!$B$76,+'5.Variables'!$I80,+IF(O$18='5.Variables'!$B$90,+'5.Variables'!$I94,+IF(O$18='5.Variables'!$B$104,+'5.Variables'!$I108,0)))))) -> 0 | P50: =IF(P$18='5.Variables'!$B$16,+'5.Variables'!$I28,+IF(P$18='5.Variables'!$B$39,+'5.Variables'!$I52,+IF(P$18='5.Variables'!$B$62,+'5.Variables'!$I66,+IF(P$18='5.Variables'!$B$76,+'5.Variables'!$I80,+IF(P$18='5.Variables'!$B$90,+'5.Variables'!$I94,+IF(P$18='5.Variables'!$B$104,+'5.Variables'!$I108,0)))))) -> 352 | R50: =$V$34+(K50*$V$35)+(L50*$V$36)+(M50*$V$37)+(N50*$V$38)+(O50*$V$39)+(P50*$V$40) -> 20429625 | U50: ='4. Customer Growth'!B21 -> 2010 | V50: =SUM(J68:J79) -> 2.4454339e+08 | W50: =(V50-V49)/V49 -> 0.033892948 | X50: =S79 -> 2.4720539e+08 | Y50: =(X50-X49)/X49 -> 0.0070669176 | Z50: =(X50-V50)/V50 -> 0.010885603
A51: =+A50+1 -> 32 | B51: =CONCATENATE('3. Consumption by Rate Class'!B56,"-",'3. Consumption by Rate Class'!C56) -> 2008-August | C51: 22452560 | D51: 1789821 | E51: 1108712 | J51: =C51-D51-E51+F51+G51 -> 19554027 | K51: =IF(K$18='5.Variables'!$B$16,+'5.Variables'!$J29,+IF(K$18='5.Variables'!$B$39,+'5.Variables'!$J52,+IF(K$18='5.Variables'!$B$62,+'5.Variables'!$J66,+IF(K$18='5.Variables'!$B$76,+'5.Variables'!$J80,+IF(K$18='5.Variables'!$B$90,+'5.Variables'!$J94,+IF(K$18='5.Variables'!$B$104,+'5.Variables'!$J108,0)))))) -> 15.2 | L51: =IF(L$18='5.Variables'!$B$16,+'5.Variables'!$J28,+IF(L$18='5.Variables'!$B$39,+'5.Variables'!$J52,+IF(L$18='5.Variables'!$B$62,+'5.Variables'!$J66,+IF(L$18='5.Variables'!$B$76,+'5.Variables'!$J80,+IF(L$18='5.Variables'!$B$90,+'5.Variables'!$J94,+IF(L$18='5.Variables'!$B$104,+'5.Variables'!$J108,0)))))) -> 40.4 | M51: =IF(M$18='5.Variables'!$B$16,+'5.Variables'!$J28,+IF(M$18='5.Variables'!$B$39,+'5.Variables'!$J52,+IF(M$18='5.Variables'!$B$62,+'5.Variables'!$J66,+IF(M$18='5.Variables'!$B$76,+'5.Variables'!$J80,+IF(M$18='5.Variables'!$B$90,+'5.Variables'!$J94,+IF(M$18='5.Variables'!$B$104,+'5.Variables'!$J108,0)))))) -> 31 | N51: =IF(N$18='5.Variables'!$B$16,+'5.Variables'!$J28,+IF(N$18='5.Variables'!$B$39,+'5.Variables'!$J52,+IF(N$18='5.Variables'!$B$62,+'5.Variables'!$J66,+IF(N$18='5.Variables'!$B$76,+'5.Variables'!$J80,+IF(N$18='5.Variables'!$B$90,+'5.Variables'!$J94,+IF(N$18='5.Variables'!$B$104,+'5.Variables'!$J108,0)))))) -> 140.02 | O51: =IF(O$18='5.Variables'!$B$16,+'5.Variables'!$J28,+IF(O$18='5.Variables'!$B$39,+'5.Variables'!$J52,+IF(O$18='5.Variables'!$B$62,+'5.Variables'!$J66,+IF(O$18='5.Variables'!$B$76,+'5.Variables'!$J80,+IF(O$18='5.Variables'!$B$90,+'5.Variables'!$J94,+IF(O$18='5.Variables'!$B$104,+'5.Variables'!$J108,0)))))) -> 0 | P51: =IF(P$18='5.Variables'!$B$16,+'5.Variables'!$J28,+IF(P$18='5.Variables'!$B$39,+'5.Variables'!$J52,+IF(P$18='5.Variables'!$B$62,+'5.Variables'!$J66,+IF(P$18='5.Variables'!$B$76,+'5.Variables'!$J80,+IF(P$18='5.Variables'!$B$90,+'5.Variables'!$J94,+IF(P$18='5.Variables'!$B$104,+'5.Variables'!$J108,0)))))) -> 320 | R51: =$V$34+(K51*$V$35)+(L51*$V$36)+(M51*$V$37)+(N51*$V$38)+(O51*$V$39)+(P51*$V$40) -> 19804578 | U51: ='4. Customer Growth'!B22 -> 2011 | V51: =SUM(J80:J91) -> 2.4860168e+08 | W51: =(V51-V50)/V50 -> 0.016595387 | X51: =S91 -> 2.4867399e+08 | Y51: =(X51-X50)/X50 -> 0.0059408161 | Z51: =(X51-V51)/V51 -> 0.00029087419
A52: =+A51+1 -> 33 | B52: =CONCATENATE('3. Consumption by Rate Class'!B57,"-",'3. Consumption by Rate Class'!C57) -> 2008-September | C52: 22496229 | D52: 1759869 | E52: 1751959 | J52: =C52-D52-E52+F52+G52 -> 18984401 | K52: =IF(K$18='5.Variables'!$B$16,+'5.Variables'!$K29,+IF(K$18='5.Variables'!$B$39,+'5.Variables'!$K52,+IF(K$18='5.Variables'!$B$62,+'5.Variables'!$K66,+IF(K$18='5.Variables'!$B$76,+'5.Variables'!$K80,+IF(K$18='5.Variables'!$B$90,+'5.Variables'!$K94,+IF(K$18='5.Variables'!$B$104,+'5.Variables'!$K108,0)))))) -> 73.5 | L52: =IF(L$18='5.Variables'!$B$16,+'5.Variables'!$K28,+IF(L$18='5.Variables'!$B$39,+'5.Variables'!$K52,+IF(L$18='5.Variables'!$B$62,+'5.Variables'!$K66,+IF(L$18='5.Variables'!$B$76,+'5.Variables'!$K80,+IF(L$18='5.Variables'!$B$90,+'5.Variables'!$K94,+IF(L$18='5.Variables'!$B$104,+'5.Variables'!$K108,0)))))) -> 16.2 | M52: =IF(M$18='5.Variables'!$B$16,+'5.Variables'!$K28,+IF(M$18='5.Variables'!$B$39,+'5.Variables'!$K52,+IF(M$18='5.Variables'!$B$62,+'5.Variables'!$K66,+IF(M$18='5.Variables'!$B$76,+'5.Variables'!$K80,+IF(M$18='5.Variables'!$B$90,+'5.Variables'!$K94,+IF(M$18='5.Variables'!$B$104,+'5.Variables'!$K108,0)))))) -> 30 | N52: =IF(N$18='5.Variables'!$B$16,+'5.Variables'!$K28,+IF(N$18='5.Variables'!$B$39,+'5.Variables'!$K52,+IF(N$18='5.Variables'!$B$62,+'5.Variables'!$K66,+IF(N$18='5.Variables'!$B$76,+'5.Variables'!$K80,+IF(N$18='5.Variables'!$B$90,+'5.Variables'!$K94,+IF(N$18='5.Variables'!$B$104,+'5.Variables'!$K108,0)))))) -> 139.96 | O52: =IF(O$18='5.Variables'!$B$16,+'5.Variables'!$K28,+IF(O$18='5.Variables'!$B$39,+'5.Variables'!$K52,+IF(O$18='5.Variables'!$B$62,+'5.Variables'!$K66,+IF(O$18='5.Variables'!$B$76,+'5.Variables'!$K80,+IF(O$18='5.Variables'!$B$90,+'5.Variables'!$K94,+IF(O$18='5.Variables'!$B$104,+'5.Variables'!$K108,0)))))) -> 0 | P52: =IF(P$18='5.Variables'!$B$16,+'5.Variables'!$K28,+IF(P$18='5.Variables'!$B$39,+'5.Variables'!$K52,+IF(P$18='5.Variables'!$B$62,+'5.Variables'!$K66,+IF(P$18='5.Variables'!$B$76,+'5.Variables'!$K80,+IF(P$18='5.Variables'!$B$90,+'5.Variables'!$K94,+IF(P$18='5.Variables'!$B$104,+'5.Variables'!$K108,0)))))) -> 336 | R52: =$V$34+(K52*$V$35)+(L52*$V$36)+(M52*$V$37)+(N52*$V$38)+(O52*$V$39)+(P52*$V$40) -> 18961436 | U52: ='4. Customer Growth'!B23 -> 2012 | V52: =SUM(J92:J103) -> 2.501444e+08 | W52: =(V52-V51)/V51 -> 0.0062055848 | X52: =S103:S103 -> 2.5034277e+08 | Y52: =(X52-X51)/X51 -> 0.0067107155 | Z52: =(X52-V52)/V52 -> 0.00079303559
A53: =+A52+1 -> 34 | B53: =CONCATENATE('3. Consumption by Rate Class'!B58,"-",'3. Consumption by Rate Class'!C58) -> 2008-October | C53: 21865207 | D53: 1165992 | E53: 1566094 | J53: =C53-D53-E53+F53+G53 -> 19133121 | K53: =IF(K$18='5.Variables'!$B$16,+'5.Variables'!$L29,+IF(K$18='5.Variables'!$B$39,+'5.Variables'!$L52,+IF(K$18='5.Variables'!$B$62,+'5.Variables'!$L66,+IF(K$18='5.Variables'!$B$76,+'5.Variables'!$L80,+IF(K$18='5.Variables'!$B$90,+'5.Variables'!$L94,+IF(K$18='5.Variables'!$B$104,+'5.Variables'!$L108,0)))))) -> 288.1 | L53: =IF(L$18='5.Variables'!$B$16,+'5.Variables'!$L28,+IF(L$18='5.Variables'!$B$39,+'5.Variables'!$L52,+IF(L$18='5.Variables'!$B$62,+'5.Variables'!$L66,+IF(L$18='5.Variables'!$B$76,+'5.Variables'!$L80,+IF(L$18='5.Variables'!$B$90,+'5.Variables'!$L94,+IF(L$18='5.Variables'!$B$104,+'5.Variables'!$L108,0)))))) -> 0 | M53: =IF(M$18='5.Variables'!$B$16,+'5.Variables'!$L28,+IF(M$18='5.Variables'!$B$39,+'5.Variables'!$L52,+IF(M$18='5.Variables'!$B$62,+'5.Variables'!$L66,+IF(M$18='5.Variables'!$B$76,+'5.Variables'!$L80,+IF(M$18='5.Variables'!$B$90,+'5.Variables'!$L94,+IF(M$18='5.Variables'!$B$104,+'5.Variables'!$L108,0)))))) -> 31 | N53: =IF(N$18='5.Variables'!$B$16,+'5.Variables'!$L28,+IF(N$18='5.Variables'!$B$39,+'5.Variables'!$L52,+IF(N$18='5.Variables'!$B$62,+'5.Variables'!$L66,+IF(N$18='5.Variables'!$B$76,+'5.Variables'!$L80,+IF(N$18='5.Variables'!$B$90,+'5.Variables'!$L94,+IF(N$18='5.Variables'!$B$104,+'5.Variables'!$L108,0)))))) -> 139.9 | O53: =IF(O$18='5.Variables'!$B$16,+'5.Variables'!$L28,+IF(O$18='5.Variables'!$B$39,+'5.Variables'!$L52,+IF(O$18='5.Variables'!$B$62,+'5.Variables'!$L66,+IF(O$18='5.Variables'!$B$76,+'5.Variables'!$L80,+IF(O$18='5.Variables'!$B$90,+'5.Variables'!$L94,+IF(O$18='5.Variables'!$B$104,+'5.Variables'!$L108,0)))))) -> 0 | P53: =IF(P$18='5.Variables'!$B$16,+'5.Variables'!$L28,+IF(P$18='5.Variables'!$B$39,+'5.Variables'!$L52,+IF(P$18='5.Variables'!$B$62,+'5.Variables'!$L66,+IF(P$18='5.Variables'!$B$76,+'5.Variables'!$L80,+IF(P$18='5.Variables'!$B$90,+'5.Variables'!$L94,+IF(P$18='5.Variables'!$B$104,+'5.Variables'!$L108,0)))))) -> 352 | R53: =$V$34+(K53*$V$35)+(L53*$V$36)+(M53*$V$37)+(N53*$V$38)+(O53*$V$39)+(P53*$V$40) -> 20214484 | U53: ='4. Customer Growth'!B24 -> 2013 | V53: =SUM(J104:J115) -> 2.4616663e+08 | W53: =(V53-V52)/V52 -> -0.015901916 | X53: =S115 -> 2.4934225e+08 | Y53: =(X53-X52)/X52 -> -0.0039966358 | Z53: =(X53-V53)/V53 -> 0.012900285
A54: =+A53+1 -> 35 | B54: =CONCATENATE('3. Consumption by Rate Class'!B59,"-",'3. Consumption by Rate Class'!C59) -> 2008-November | C54: 22177406 | D54: 805206 | E54: 1670775 | J54: =C54-D54-E54+F54+G54 -> 19701425 | K54: =IF(K$18='5.Variables'!$B$16,+'5.Variables'!$M29,+IF(K$18='5.Variables'!$B$39,+'5.Variables'!$M52,+IF(K$18='5.Variables'!$B$62,+'5.Variables'!$M66,+IF(K$18='5.Variables'!$B$76,+'5.Variables'!$M80,+IF(K$18='5.Variables'!$B$90,+'5.Variables'!$M94,+IF(K$18='5.Variables'!$B$104,+'5.Variables'!$M108,0)))))) -> 459 | L54: =IF(L$18='5.Variables'!$B$16,+'5.Variables'!$M28,+IF(L$18='5.Variables'!$B$39,+'5.Variables'!$M52,+IF(L$18='5.Variables'!$B$62,+'5.Variables'!$M66,+IF(L$18='5.Variables'!$B$76,+'5.Variables'!$M80,+IF(L$18='5.Variables'!$B$90,+'5.Variables'!$M94,+IF(L$18='5.Variables'!$B$104,+'5.Variables'!$M108,0)))))) -> 0 | M54: =IF(M$18='5.Variables'!$B$16,+'5.Variables'!$M28,+IF(M$18='5.Variables'!$B$39,+'5.Variables'!$M52,+IF(M$18='5.Variables'!$B$62,+'5.Variables'!$M66,+IF(M$18='5.Variables'!$B$76,+'5.Variables'!$M80,+IF(M$18='5.Variables'!$B$90,+'5.Variables'!$M94,+IF(M$18='5.Variables'!$B$104,+'5.Variables'!$M108,0)))))) -> 30 | N54: =IF(N$18='5.Variables'!$B$16,+'5.Variables'!$M28,+IF(N$18='5.Variables'!$B$39,+'5.Variables'!$M52,+IF(N$18='5.Variables'!$B$62,+'5.Variables'!$M66,+IF(N$18='5.Variables'!$B$76,+'5.Variables'!$M80,+IF(N$18='5.Variables'!$B$90,+'5.Variables'!$M94,+IF(N$18='5.Variables'!$B$104,+'5.Variables'!$M108,0)))))) -> 139.84 | O54: =IF(O$18='5.Variables'!$B$16,+'5.Variables'!$M28,+IF(O$18='5.Variables'!$B$39,+'5.Variables'!$M52,+IF(O$18='5.Variables'!$B$62,+'5.Variables'!$M66,+IF(O$18='5.Variables'!$B$76,+'5.Variables'!$M80,+IF(O$18='5.Variables'!$B$90,+'5.Variables'!$M94,+IF(O$18='5.Variables'!$B$104,+'5.Variables'!$M108,0)))))) -> 0 | P54: =IF(P$18='5.Variables'!$B$16,+'5.Variables'!$M28,+IF(P$18='5.Variables'!$B$39,+'5.Variables'!$M52,+IF(P$18='5.Variables'!$B$62,+'5.Variables'!$M66,+IF(P$18='5.Variables'!$B$76,+'5.Variables'!$M80,+IF(P$18='5.Variables'!$B$90,+'5.Variables'!$M94,+IF(P$18='5.Variables'!$B$104,+'5.Variables'!$M108,0)))))) -> 304 | R54: =$V$34+(K54*$V$35)+(L54*$V$36)+(M54*$V$37)+(N54*$V$38)+(O54*$V$39)+(P54*$V$40) -> 20581394 | U54: ='4. Customer Growth'!B25 -> 2014 | V54: =SUM(J116:J127) -> 2.4253526e+08 | W54: =(V54-V53)/V53 -> -0.014751646 | X54: =S127 -> 2.4965843e+08 | Y54: =(X54-X53)/X53 -> 0.0012680659 | Z54: =(X54-V54)/V54 -> 0.029369606
A55: =+A54+1 -> 36 | B55: =CONCATENATE('3. Consumption by Rate Class'!B60,"-",'3. Consumption by Rate Class'!C60) -> 2008-December | C55: 23390423 | D55: 593847 | E55: 972650 | J55: =C55-D55-E55+F55+G55 -> 21823926 | K55: =IF(K$18='5.Variables'!$B$16,+'5.Variables'!$N29,+IF(K$18='5.Variables'!$B$39,+'5.Variables'!$N52,+IF(K$18='5.Variables'!$B$62,+'5.Variables'!$N66,+IF(K$18='5.Variables'!$B$76,+'5.Variables'!$N80,+IF(K$18='5.Variables'!$B$90,+'5.Variables'!$N94,+IF(K$18='5.Variables'!$B$104,+'5.Variables'!$N108,0)))))) -> 652.5 | L55: =IF(L$18='5.Variables'!$B$16,+'5.Variables'!$N28,+IF(L$18='5.Variables'!$B$39,+'5.Variables'!$N52,+IF(L$18='5.Variables'!$B$62,+'5.Variables'!$N66,+IF(L$18='5.Variables'!$B$76,+'5.Variables'!$N80,+IF(L$18='5.Variables'!$B$90,+'5.Variables'!$N94,+IF(L$18='5.Variables'!$B$104,+'5.Variables'!$N108,0)))))) -> 0 | M55: =IF(M$18='5.Variables'!$B$16,+'5.Variables'!$N28,+IF(M$18='5.Variables'!$B$39,+'5.Variables'!$N52,+IF(M$18='5.Variables'!$B$62,+'5.Variables'!$N66,+IF(M$18='5.Variables'!$B$76,+'5.Variables'!$N80,+IF(M$18='5.Variables'!$B$90,+'5.Variables'!$N94,+IF(M$18='5.Variables'!$B$104,+'5.Variables'!$N108,0)))))) -> 31 | N55: =IF(N$18='5.Variables'!$B$16,+'5.Variables'!$N28,+IF(N$18='5.Variables'!$B$39,+'5.Variables'!$N52,+IF(N$18='5.Variables'!$B$62,+'5.Variables'!$N66,+IF(N$18='5.Variables'!$B$76,+'5.Variables'!$N80,+IF(N$18='5.Variables'!$B$90,+'5.Variables'!$N94,+IF(N$18='5.Variables'!$B$104,+'5.Variables'!$N108,0)))))) -> 139.78 | O55: =IF(O$18='5.Variables'!$B$16,+'5.Variables'!$N28,+IF(O$18='5.Variables'!$B$39,+'5.Variables'!$N52,+IF(O$18='5.Variables'!$B$62,+'5.Variables'!$N66,+IF(O$18='5.Variables'!$B$76,+'5.Variables'!$N80,+IF(O$18='5.Variables'!$B$90,+'5.Variables'!$N94,+IF(O$18='5.Variables'!$B$104,+'5.Variables'!$N108,0)))))) -> 0 | P55: =IF(P$18='5.Variables'!$B$16,+'5.Variables'!$N28,+IF(P$18='5.Variables'!$B$39,+'5.Variables'!$N52,+IF(P$18='5.Variables'!$B$62,+'5.Variables'!$N66,+IF(P$18='5.Variables'!$B$76,+'5.Variables'!$N80,+IF(P$18='5.Variables'!$B$90,+'5.Variables'!$N94,+IF(P$18='5.Variables'!$B$104,+'5.Variables'!$N108,0)))))) -> 336 | R55: =$V$34+(K55*$V$35)+(L55*$V$36)+(M55*$V$37)+(N55*$V$38)+(O55*$V$39)+(P55*$V$40) -> 22463507 | S55: =SUM(R44:R55) -> 2.4706984e+08 | U55: ='4. Customer Growth'!B26 -> 2015 | V55: =SUM(J128:J139) -> 2.3940128e+08 | W55: =(V55-V54)/V54 -> -0.012921753 | X55: =S139 -> 2.4739974e+08 | Y55: =(X55-X54)/X54 -> -0.0090471297 | Z55: =(X55-V55)/V55 -> 0.033410238
A56: =+A55+1 -> 37 | B56: =CONCATENATE('3. Consumption by Rate Class'!B61,"-",'3. Consumption by Rate Class'!C61) -> 2009-January | C56: 25602870 | D56: 483317 | E56: 1578844 | J56: =C56-D56-E56+F56+G56 -> 23540709 | K56: =IF(K$18='5.Variables'!$B$16,+'5.Variables'!$C30,+IF(K$18='5.Variables'!$B$39,+'5.Variables'!$C53,+IF(K$18='5.Variables'!$B$62,+'5.Variables'!$C67,+IF(K$18='5.Variables'!$B$76,+'5.Variables'!$C81,+IF(K$18='5.Variables'!$B$90,+'5.Variables'!$C95,+IF(K$18='5.Variables'!$B$104,+'5.Variables'!$C109,0)))))) -> 823.9 | L56: =IF(L$18='5.Variables'!$B$16,+'5.Variables'!$C29,+IF(L$18='5.Variables'!$B$39,+'5.Variables'!$C53,+IF(L$18='5.Variables'!$B$62,+'5.Variables'!$C67,+IF(L$18='5.Variables'!$B$76,+'5.Variables'!$C81,+IF(L$18='5.Variables'!$B$90,+'5.Variables'!$C95,+IF(L$18='5.Variables'!$B$104,+'5.Variables'!$C109,0)))))) -> 0 | M56: =IF(M$18='5.Variables'!$B$16,+'5.Variables'!$C29,+IF(M$18='5.Variables'!$B$39,+'5.Variables'!$C53,+IF(M$18='5.Variables'!$B$62,+'5.Variables'!$C67,+IF(M$18='5.Variables'!$B$76,+'5.Variables'!$C81,+IF(M$18='5.Variables'!$B$90,+'5.Variables'!$C95,+IF(M$18='5.Variables'!$B$104,+'5.Variables'!$C109,0)))))) -> 31 | N56: =IF(N$18='5.Variables'!$B$16,+'5.Variables'!$C29,+IF(N$18='5.Variables'!$B$39,+'5.Variables'!$C53,+IF(N$18='5.Variables'!$B$62,+'5.Variables'!$C67,+IF(N$18='5.Variables'!$B$76,+'5.Variables'!$C81,+IF(N$18='5.Variables'!$B$90,+'5.Variables'!$C95,+IF(N$18='5.Variables'!$B$104,+'5.Variables'!$C109,0)))))) -> 139.38 | O56: =IF(O$18='5.Variables'!$B$16,+'5.Variables'!$C29,+IF(O$18='5.Variables'!$B$39,+'5.Variables'!$C53,+IF(O$18='5.Variables'!$B$62,+'5.Variables'!$C67,+IF(O$18='5.Variables'!$B$76,+'5.Variables'!$C81,+IF(O$18='5.Variables'!$B$90,+'5.Variables'!$C95,+IF(O$18='5.Variables'!$B$104,+'5.Variables'!$C109,0)))))) -> 0 | P56: =IF(P$18='5.Variables'!$B$16,+'5.Variables'!$C29,+IF(P$18='5.Variables'!$B$39,+'5.Variables'!$C53,+IF(P$18='5.Variables'!$B$62,+'5.Variables'!$C67,+IF(P$18='5.Variables'!$B$76,+'5.Variables'!$C81,+IF(P$18='5.Variables'!$B$90,+'5.Variables'!$C95,+IF(P$18='5.Variables'!$B$104,+'5.Variables'!$C109,0)))))) -> 336 | R56: =$V$34+(K56*$V$35)+(L56*$V$36)+(M56*$V$37)+(N56*$V$38)+(O56*$V$39)+(P56*$V$40) -> 23568550
A57: =+A56+1 -> 38 | B57: =CONCATENATE('3. Consumption by Rate Class'!B62,"-",'3. Consumption by Rate Class'!C62) -> 2009-February | C57: 22117612 | D57: 367134 | E57: 1729600 | J57: =C57-D57-E57+F57+G57 -> 20020878 | K57: =IF(K$18='5.Variables'!$B$16,+'5.Variables'!$D30,+IF(K$18='5.Variables'!$B$39,+'5.Variables'!$D53,+IF(K$18='5.Variables'!$B$62,+'5.Variables'!$D67,+IF(K$18='5.Variables'!$B$76,+'5.Variables'!$D81,+IF(K$18='5.Variables'!$B$90,+'5.Variables'!$D95,+IF(K$18='5.Variables'!$B$104,+'5.Variables'!$D109,0)))))) -> 608.5 | L57: =IF(L$18='5.Variables'!$B$16,+'5.Variables'!$D29,+IF(L$18='5.Variables'!$B$39,+'5.Variables'!$D53,+IF(L$18='5.Variables'!$B$62,+'5.Variables'!$D67,+IF(L$18='5.Variables'!$B$76,+'5.Variables'!$D81,+IF(L$18='5.Variables'!$B$90,+'5.Variables'!$D95,+IF(L$18='5.Variables'!$B$104,+'5.Variables'!$D109,0)))))) -> 0 | M57: =IF(M$18='5.Variables'!$B$16,+'5.Variables'!$D29,+IF(M$18='5.Variables'!$B$39,+'5.Variables'!$D53,+IF(M$18='5.Variables'!$B$62,+'5.Variables'!$D67,+IF(M$18='5.Variables'!$B$76,+'5.Variables'!$D81,+IF(M$18='5.Variables'!$B$90,+'5.Variables'!$D95,+IF(M$18='5.Variables'!$B$104,+'5.Variables'!$D109,0)))))) -> 28 | N57: =IF(N$18='5.Variables'!$B$16,+'5.Variables'!$D29,+IF(N$18='5.Variables'!$B$39,+'5.Variables'!$D53,+IF(N$18='5.Variables'!$B$62,+'5.Variables'!$D67,+IF(N$18='5.Variables'!$B$76,+'5.Variables'!$D81,+IF(N$18='5.Variables'!$B$90,+'5.Variables'!$D95,+IF(N$18='5.Variables'!$B$104,+'5.Variables'!$D109,0)))))) -> 138.98 | O57: =IF(O$18='5.Variables'!$B$16,+'5.Variables'!$D29,+IF(O$18='5.Variables'!$B$39,+'5.Variables'!$D53,+IF(O$18='5.Variables'!$B$62,+'5.Variables'!$D67,+IF(O$18='5.Variables'!$B$76,+'5.Variables'!$D81,+IF(O$18='5.Variables'!$B$90,+'5.Variables'!$D95,+IF(O$18='5.Variables'!$B$104,+'5.Variables'!$D109,0)))))) -> 0 | P57: =IF(P$18='5.Variables'!$B$16,+'5.Variables'!$D29,+IF(P$18='5.Variables'!$B$39,+'5.Variables'!$D53,+IF(P$18='5.Variables'!$B$62,+'5.Variables'!$D67,+IF(P$18='5.Variables'!$B$76,+'5.Variables'!$D81,+IF(P$18='5.Variables'!$B$90,+'5.Variables'!$D95,+IF(P$18='5.Variables'!$B$104,+'5.Variables'!$D109,0)))))) -> 304 | R57: =$V$34+(K57*$V$35)+(L57*$V$36)+(M57*$V$37)+(N57*$V$38)+(O57*$V$39)+(P57*$V$40) -> 20770893
A58: =+A57+1 -> 39 | B58: =CONCATENATE('3. Consumption by Rate Class'!B63,"-",'3. Consumption by Rate Class'!C63) -> 2009-March | C58: 22665029 | D58: 250099 | E58: 1501644 | J58: =C58-D58-E58+F58+G58 -> 20913286 | K58: =IF(K$18='5.Variables'!$B$16,+'5.Variables'!$E30,+IF(K$18='5.Variables'!$B$39,+'5.Variables'!$E53,+IF(K$18='5.Variables'!$B$62,+'5.Variables'!$E67,+IF(K$18='5.Variables'!$B$76,+'5.Variables'!$E81,+IF(K$18='5.Variables'!$B$90,+'5.Variables'!$E95,+IF(K$18='5.Variables'!$B$104,+'5.Variables'!$E109,0)))))) -> 568.1 | L58: =IF(L$18='5.Variables'!$B$16,+'5.Variables'!$E29,+IF(L$18='5.Variables'!$B$39,+'5.Variables'!$E53,+IF(L$18='5.Variables'!$B$62,+'5.Variables'!$E67,+IF(L$18='5.Variables'!$B$76,+'5.Variables'!$E81,+IF(L$18='5.Variables'!$B$90,+'5.Variables'!$E95,+IF(L$18='5.Variables'!$B$104,+'5.Variables'!$E109,0)))))) -> 0 | M58: =IF(M$18='5.Variables'!$B$16,+'5.Variables'!$E29,+IF(M$18='5.Variables'!$B$39,+'5.Variables'!$E53,+IF(M$18='5.Variables'!$B$62,+'5.Variables'!$E67,+IF(M$18='5.Variables'!$B$76,+'5.Variables'!$E81,+IF(M$18='5.Variables'!$B$90,+'5.Variables'!$E95,+IF(M$18='5.Variables'!$B$104,+'5.Variables'!$E109,0)))))) -> 31 | N58: =IF(N$18='5.Variables'!$B$16,+'5.Variables'!$E29,+IF(N$18='5.Variables'!$B$39,+'5.Variables'!$E53,+IF(N$18='5.Variables'!$B$62,+'5.Variables'!$E67,+IF(N$18='5.Variables'!$B$76,+'5.Variables'!$E81,+IF(N$18='5.Variables'!$B$90,+'5.Variables'!$E95,+IF(N$18='5.Variables'!$B$104,+'5.Variables'!$E109,0)))))) -> 138.58 | O58: =IF(O$18='5.Variables'!$B$16,+'5.Variables'!$E29,+IF(O$18='5.Variables'!$B$39,+'5.Variables'!$E53,+IF(O$18='5.Variables'!$B$62,+'5.Variables'!$E67,+IF(O$18='5.Variables'!$B$76,+'5.Variables'!$E81,+IF(O$18='5.Variables'!$B$90,+'5.Variables'!$E95,+IF(O$18='5.Variables'!$B$104,+'5.Variables'!$E109,0)))))) -> 0 | P58: =IF(P$18='5.Variables'!$B$16,+'5.Variables'!$E29,+IF(P$18='5.Variables'!$B$39,+'5.Variables'!$E53,+IF(P$18='5.Variables'!$B$62,+'5.Variables'!$E67,+IF(P$18='5.Variables'!$B$76,+'5.Variables'!$E81,+IF(P$18='5.Variables'!$B$90,+'5.Variables'!$E95,+IF(P$18='5.Variables'!$B$104,+'5.Variables'!$E109,0)))))) -> 352 | R58: =$V$34+(K58*$V$35)+(L58*$V$36)+(M58*$V$37)+(N58*$V$38)+(O58*$V$39)+(P58*$V$40) -> 22000165 | U58: Year | V58: kWh Purchased | W58: Adjusted
A59: =+A58+1 -> 40 | B59: =CONCATENATE('3. Consumption by Rate Class'!B64,"-",'3. Consumption by Rate Class'!C64) -> 2009-April | C59: 20109223 | E59: 1650019 | J59: =C59-D59-E59+F59+G59 -> 18459204 | K59: =IF(K$18='5.Variables'!$B$16,+'5.Variables'!$F30,+IF(K$18='5.Variables'!$B$39,+'5.Variables'!$F53,+IF(K$18='5.Variables'!$B$62,+'5.Variables'!$F67,+IF(K$18='5.Variables'!$B$76,+'5.Variables'!$F81,+IF(K$18='5.Variables'!$B$90,+'5.Variables'!$F95,+IF(K$18='5.Variables'!$B$104,+'5.Variables'!$F109,0)))))) -> 345.4 | L59: =IF(L$18='5.Variables'!$B$16,+'5.Variables'!$F29,+IF(L$18='5.Variables'!$B$39,+'5.Variables'!$F53,+IF(L$18='5.Variables'!$B$62,+'5.Variables'!$F67,+IF(L$18='5.Variables'!$B$76,+'5.Variables'!$F81,+IF(L$18='5.Variables'!$B$90,+'5.Variables'!$F95,+IF(L$18='5.Variables'!$B$104,+'5.Variables'!$F109,0)))))) -> 0 | M59: =IF(M$18='5.Variables'!$B$16,+'5.Variables'!$F29,+IF(M$18='5.Variables'!$B$39,+'5.Variables'!$F53,+IF(M$18='5.Variables'!$B$62,+'5.Variables'!$F67,+IF(M$18='5.Variables'!$B$76,+'5.Variables'!$F81,+IF(M$18='5.Variables'!$B$90,+'5.Variables'!$F95,+IF(M$18='5.Variables'!$B$104,+'5.Variables'!$F109,0)))))) -> 30 | N59: =IF(N$18='5.Variables'!$B$16,+'5.Variables'!$F29,+IF(N$18='5.Variables'!$B$39,+'5.Variables'!$F53,+IF(N$18='5.Variables'!$B$62,+'5.Variables'!$F67,+IF(N$18='5.Variables'!$B$76,+'5.Variables'!$F81,+IF(N$18='5.Variables'!$B$90,+'5.Variables'!$F95,+IF(N$18='5.Variables'!$B$104,+'5.Variables'!$F109,0)))))) -> 138.18 | O59: =IF(O$18='5.Variables'!$B$16,+'5.Variables'!$F29,+IF(O$18='5.Variables'!$B$39,+'5.Variables'!$F53,+IF(O$18='5.Variables'!$B$62,+'5.Variables'!$F67,+IF(O$18='5.Variables'!$B$76,+'5.Variables'!$F81,+IF(O$18='5.Variables'!$B$90,+'5.Variables'!$F95,+IF(O$18='5.Variables'!$B$104,+'5.Variables'!$F109,0)))))) -> 0 | P59: =IF(P$18='5.Variables'!$B$16,+'5.Variables'!$F29,+IF(P$18='5.Variables'!$B$39,+'5.Variables'!$F53,+IF(P$18='5.Variables'!$B$62,+'5.Variables'!$F67,+IF(P$18='5.Variables'!$B$76,+'5.Variables'!$F81,+IF(P$18='5.Variables'!$B$90,+'5.Variables'!$F95,+IF(P$18='5.Variables'!$B$104,+'5.Variables'!$F109,0)))))) -> 320 | R59: =$V$34+(K59*$V$35)+(L59*$V$36)+(M59*$V$37)+(N59*$V$38)+(O59*$V$39)+(P59*$V$40) -> 19914327 | U59: ='4. Customer Growth'!B17 -> 2006 | V59: =V46 -> 240687668 | W59: =X46 -> 2.449587e+08 | X59: =IF(ABS(V59-W59)=0,0,ABS(V59-W59)/V59) -> 0.017745117
A60: =+A59+1 -> 41 | B60: =CONCATENATE('3. Consumption by Rate Class'!B65,"-",'3. Consumption by Rate Class'!C65) -> 2009-May | C60: 19485273 | E60: 1911296 | J60: =C60-D60-E60+F60+G60 -> 17573977 | K60: =IF(K$18='5.Variables'!$B$16,+'5.Variables'!$G30,+IF(K$18='5.Variables'!$B$39,+'5.Variables'!$G53,+IF(K$18='5.Variables'!$B$62,+'5.Variables'!$G67,+IF(K$18='5.Variables'!$B$76,+'5.Variables'!$G81,+IF(K$18='5.Variables'!$B$90,+'5.Variables'!$G95,+IF(K$18='5.Variables'!$B$104,+'5.Variables'!$G109,0)))))) -> 231.1 | L60: =IF(L$18='5.Variables'!$B$16,+'5.Variables'!$G29,+IF(L$18='5.Variables'!$B$39,+'5.Variables'!$G53,+IF(L$18='5.Variables'!$B$62,+'5.Variables'!$G67,+IF(L$18='5.Variables'!$B$76,+'5.Variables'!$G81,+IF(L$18='5.Variables'!$B$90,+'5.Variables'!$G95,+IF(L$18='5.Variables'!$B$104,+'5.Variables'!$G109,0)))))) -> 0 | M60: =IF(M$18='5.Variables'!$B$16,+'5.Variables'!$G29,+IF(M$18='5.Variables'!$B$39,+'5.Variables'!$G53,+IF(M$18='5.Variables'!$B$62,+'5.Variables'!$G67,+IF(M$18='5.Variables'!$B$76,+'5.Variables'!$G81,+IF(M$18='5.Variables'!$B$90,+'5.Variables'!$G95,+IF(M$18='5.Variables'!$B$104,+'5.Variables'!$G109,0)))))) -> 31 | N60: =IF(N$18='5.Variables'!$B$16,+'5.Variables'!$G29,+IF(N$18='5.Variables'!$B$39,+'5.Variables'!$G53,+IF(N$18='5.Variables'!$B$62,+'5.Variables'!$G67,+IF(N$18='5.Variables'!$B$76,+'5.Variables'!$G81,+IF(N$18='5.Variables'!$B$90,+'5.Variables'!$G95,+IF(N$18='5.Variables'!$B$104,+'5.Variables'!$G109,0)))))) -> 137.78 | O60: =IF(O$18='5.Variables'!$B$16,+'5.Variables'!$G29,+IF(O$18='5.Variables'!$B$39,+'5.Variables'!$G53,+IF(O$18='5.Variables'!$B$62,+'5.Variables'!$G67,+IF(O$18='5.Variables'!$B$76,+'5.Variables'!$G81,+IF(O$18='5.Variables'!$B$90,+'5.Variables'!$G95,+IF(O$18='5.Variables'!$B$104,+'5.Variables'!$G109,0)))))) -> 0 | P60: =IF(P$18='5.Variables'!$B$16,+'5.Variables'!$G29,+IF(P$18='5.Variables'!$B$39,+'5.Variables'!$G53,+IF(P$18='5.Variables'!$B$62,+'5.Variables'!$G67,+IF(P$18='5.Variables'!$B$76,+'5.Variables'!$G81,+IF(P$18='5.Variables'!$B$90,+'5.Variables'!$G95,+IF(P$18='5.Variables'!$B$104,+'5.Variables'!$G109,0)))))) -> 320 | R60: =$V$34+(K60*$V$35)+(L60*$V$36)+(M60*$V$37)+(N60*$V$38)+(O60*$V$39)+(P60*$V$40) -> 19537579 | U60: ='4. Customer Growth'!B18 -> 2007 | V60: =V47 -> 2.4868305e+08 | W60: =X47 -> 2.4868358e+08 | X60: =IF(ABS(V60-W60)=0,0,ABS(V60-W60)/V60) -> 2.098915e-06
A61: =+A60+1 -> 42 | B61: =CONCATENATE('3. Consumption by Rate Class'!B66,"-",'3. Consumption by Rate Class'!C66) -> 2009-June | C61: 20406593 | E61: 1979470 | J61: =C61-D61-E61+F61+G61 -> 18427123 | K61: =IF(K$18='5.Variables'!$B$16,+'5.Variables'!$H30,+IF(K$18='5.Variables'!$B$39,+'5.Variables'!$H53,+IF(K$18='5.Variables'!$B$62,+'5.Variables'!$H67,+IF(K$18='5.Variables'!$B$76,+'5.Variables'!$H81,+IF(K$18='5.Variables'!$B$90,+'5.Variables'!$H95,+IF(K$18='5.Variables'!$B$104,+'5.Variables'!$H109,0)))))) -> 86.1 | L61: =IF(L$18='5.Variables'!$B$16,+'5.Variables'!$H29,+IF(L$18='5.Variables'!$B$39,+'5.Variables'!$H53,+IF(L$18='5.Variables'!$B$62,+'5.Variables'!$H67,+IF(L$18='5.Variables'!$B$76,+'5.Variables'!$H81,+IF(L$18='5.Variables'!$B$90,+'5.Variables'!$H95,+IF(L$18='5.Variables'!$B$104,+'5.Variables'!$H109,0)))))) -> 12.1 | M61: =IF(M$18='5.Variables'!$B$16,+'5.Variables'!$H29,+IF(M$18='5.Variables'!$B$39,+'5.Variables'!$H53,+IF(M$18='5.Variables'!$B$62,+'5.Variables'!$H67,+IF(M$18='5.Variables'!$B$76,+'5.Variables'!$H81,+IF(M$18='5.Variables'!$B$90,+'5.Variables'!$H95,+IF(M$18='5.Variables'!$B$104,+'5.Variables'!$H109,0)))))) -> 30 | N61: =IF(N$18='5.Variables'!$B$16,+'5.Variables'!$H29,+IF(N$18='5.Variables'!$B$39,+'5.Variables'!$H53,+IF(N$18='5.Variables'!$B$62,+'5.Variables'!$H67,+IF(N$18='5.Variables'!$B$76,+'5.Variables'!$H81,+IF(N$18='5.Variables'!$B$90,+'5.Variables'!$H95,+IF(N$18='5.Variables'!$B$104,+'5.Variables'!$H109,0)))))) -> 137.38 | O61: =IF(O$18='5.Variables'!$B$16,+'5.Variables'!$H29,+IF(O$18='5.Variables'!$B$39,+'5.Variables'!$H53,+IF(O$18='5.Variables'!$B$62,+'5.Variables'!$H67,+IF(O$18='5.Variables'!$B$76,+'5.Variables'!$H81,+IF(O$18='5.Variables'!$B$90,+'5.Variables'!$H95,+IF(O$18='5.Variables'!$B$104,+'5.Variables'!$H109,0)))))) -> 0 | P61: =IF(P$18='5.Variables'!$B$16,+'5.Variables'!$H29,+IF(P$18='5.Variables'!$B$39,+'5.Variables'!$H53,+IF(P$18='5.Variables'!$B$62,+'5.Variables'!$H67,+IF(P$18='5.Variables'!$B$76,+'5.Variables'!$H81,+IF(P$18='5.Variables'!$B$90,+'5.Variables'!$H95,+IF(P$18='5.Variables'!$B$104,+'5.Variables'!$H109,0)))))) -> 352 | R61: =$V$34+(K61*$V$35)+(L61*$V$36)+(M61*$V$37)+(N61*$V$38)+(O61*$V$39)+(P61*$V$40) -> 18926484 | U61: ='4. Customer Growth'!B19 -> 2008 | V61: =V48 -> 241507708 | W61: =X48 -> 2.4706984e+08 | X61: =IF(ABS(V61-W61)=0,0,ABS(V61-W61)/V61) -> 0.023030871
A62: =+A61+1 -> 43 | B62: =CONCATENATE('3. Consumption by Rate Class'!B67,"-",'3. Consumption by Rate Class'!C67) -> 2009-July | C62: 20738546 | E62: 1750420 | J62: =C62-D62-E62+F62+G62 -> 18988126 | K62: =IF(K$18='5.Variables'!$B$16,+'5.Variables'!$I30,+IF(K$18='5.Variables'!$B$39,+'5.Variables'!$I53,+IF(K$18='5.Variables'!$B$62,+'5.Variables'!$I67,+IF(K$18='5.Variables'!$B$76,+'5.Variables'!$I81,+IF(K$18='5.Variables'!$B$90,+'5.Variables'!$I95,+IF(K$18='5.Variables'!$B$104,+'5.Variables'!$I109,0)))))) -> 41.5 | L62: =IF(L$18='5.Variables'!$B$16,+'5.Variables'!$I29,+IF(L$18='5.Variables'!$B$39,+'5.Variables'!$I53,+IF(L$18='5.Variables'!$B$62,+'5.Variables'!$I67,+IF(L$18='5.Variables'!$B$76,+'5.Variables'!$I81,+IF(L$18='5.Variables'!$B$90,+'5.Variables'!$I95,+IF(L$18='5.Variables'!$B$104,+'5.Variables'!$I109,0)))))) -> 18.2 | M62: =IF(M$18='5.Variables'!$B$16,+'5.Variables'!$I29,+IF(M$18='5.Variables'!$B$39,+'5.Variables'!$I53,+IF(M$18='5.Variables'!$B$62,+'5.Variables'!$I67,+IF(M$18='5.Variables'!$B$76,+'5.Variables'!$I81,+IF(M$18='5.Variables'!$B$90,+'5.Variables'!$I95,+IF(M$18='5.Variables'!$B$104,+'5.Variables'!$I109,0)))))) -> 31 | N62: =IF(N$18='5.Variables'!$B$16,+'5.Variables'!$I29,+IF(N$18='5.Variables'!$B$39,+'5.Variables'!$I53,+IF(N$18='5.Variables'!$B$62,+'5.Variables'!$I67,+IF(N$18='5.Variables'!$B$76,+'5.Variables'!$I81,+IF(N$18='5.Variables'!$B$90,+'5.Variables'!$I95,+IF(N$18='5.Variables'!$B$104,+'5.Variables'!$I109,0)))))) -> 136.99 | O62: =IF(O$18='5.Variables'!$B$16,+'5.Variables'!$I29,+IF(O$18='5.Variables'!$B$39,+'5.Variables'!$I53,+IF(O$18='5.Variables'!$B$62,+'5.Variables'!$I67,+IF(O$18='5.Variables'!$B$76,+'5.Variables'!$I81,+IF(O$18='5.Variables'!$B$90,+'5.Variables'!$I95,+IF(O$18='5.Variables'!$B$104,+'5.Variables'!$I109,0)))))) -> 0 | P62: =IF(P$18='5.Variables'!$B$16,+'5.Variables'!$I29,+IF(P$18='5.Variables'!$B$39,+'5.Variables'!$I53,+IF(P$18='5.Variables'!$B$62,+'5.Variables'!$I67,+IF(P$18='5.Variables'!$B$76,+'5.Variables'!$I81,+IF(P$18='5.Variables'!$B$90,+'5.Variables'!$I95,+IF(P$18='5.Variables'!$B$104,+'5.Variables'!$I109,0)))))) -> 352 | R62: =$V$34+(K62*$V$35)+(L62*$V$36)+(M62*$V$37)+(N62*$V$38)+(O62*$V$39)+(P62*$V$40) -> 19246966 | U62: ='4. Customer Growth'!B20 -> 2009 | V62: =V49 -> 236526800 | W62: =X49 -> 2.4547067e+08 | X62: =IF(ABS(V62-W62)=0,0,ABS(V62-W62)/V62) -> 0.037813355
A63: =+A62+1 -> 44 | B63: =CONCATENATE('3. Consumption by Rate Class'!B68,"-",'3. Consumption by Rate Class'!C68) -> 2009-August | C63: 22020601 | E63: 1632661 | J63: =C63-D63-E63+F63+G63 -> 20387940 | K63: =IF(K$18='5.Variables'!$B$16,+'5.Variables'!$J30,+IF(K$18='5.Variables'!$B$39,+'5.Variables'!$J53,+IF(K$18='5.Variables'!$B$62,+'5.Variables'!$J67,+IF(K$18='5.Variables'!$B$76,+'5.Variables'!$J81,+IF(K$18='5.Variables'!$B$90,+'5.Variables'!$J95,+IF(K$18='5.Variables'!$B$104,+'5.Variables'!$J109,0)))))) -> 15.7 | L63: =IF(L$18='5.Variables'!$B$16,+'5.Variables'!$J29,+IF(L$18='5.Variables'!$B$39,+'5.Variables'!$J53,+IF(L$18='5.Variables'!$B$62,+'5.Variables'!$J67,+IF(L$18='5.Variables'!$B$76,+'5.Variables'!$J81,+IF(L$18='5.Variables'!$B$90,+'5.Variables'!$J95,+IF(L$18='5.Variables'!$B$104,+'5.Variables'!$J109,0)))))) -> 58.6 | M63: =IF(M$18='5.Variables'!$B$16,+'5.Variables'!$J29,+IF(M$18='5.Variables'!$B$39,+'5.Variables'!$J53,+IF(M$18='5.Variables'!$B$62,+'5.Variables'!$J67,+IF(M$18='5.Variables'!$B$76,+'5.Variables'!$J81,+IF(M$18='5.Variables'!$B$90,+'5.Variables'!$J95,+IF(M$18='5.Variables'!$B$104,+'5.Variables'!$J109,0)))))) -> 31 | N63: =IF(N$18='5.Variables'!$B$16,+'5.Variables'!$J29,+IF(N$18='5.Variables'!$B$39,+'5.Variables'!$J53,+IF(N$18='5.Variables'!$B$62,+'5.Variables'!$J67,+IF(N$18='5.Variables'!$B$76,+'5.Variables'!$J81,+IF(N$18='5.Variables'!$B$90,+'5.Variables'!$J95,+IF(N$18='5.Variables'!$B$104,+'5.Variables'!$J109,0)))))) -> 136.59 | O63: =IF(O$18='5.Variables'!$B$16,+'5.Variables'!$J29,+IF(O$18='5.Variables'!$B$39,+'5.Variables'!$J53,+IF(O$18='5.Variables'!$B$62,+'5.Variables'!$J67,+IF(O$18='5.Variables'!$B$76,+'5.Variables'!$J81,+IF(O$18='5.Variables'!$B$90,+'5.Variables'!$J95,+IF(O$18='5.Variables'!$B$104,+'5.Variables'!$J109,0)))))) -> 0 | P63: =IF(P$18='5.Variables'!$B$16,+'5.Variables'!$J29,+IF(P$18='5.Variables'!$B$39,+'5.Variables'!$J53,+IF(P$18='5.Variables'!$B$62,+'5.Variables'!$J67,+IF(P$18='5.Variables'!$B$76,+'5.Variables'!$J81,+IF(P$18='5.Variables'!$B$90,+'5.Variables'!$J95,+IF(P$18='5.Variables'!$B$104,+'5.Variables'!$J109,0)))))) -> 320 | R63: =$V$34+(K63*$V$35)+(L63*$V$36)+(M63*$V$37)+(N63*$V$38)+(O63*$V$39)+(P63*$V$40) -> 20431813 | U63: ='4. Customer Growth'!B21 -> 2010 | V63: =V50 -> 2.4454339e+08 | W63: =X50 -> 2.4720539e+08 | X63: =IF(ABS(V63-W63)=0,0,ABS(V63-W63)/V63) -> 0.010885603
A64: =+A63+1 -> 45 | B64: =CONCATENATE('3. Consumption by Rate Class'!B69,"-",'3. Consumption by Rate Class'!C69) -> 2009-September | C64: 19999575 | E64: 1592813 | J64: =C64-D64-E64+F64+G64 -> 18406762 | K64: =IF(K$18='5.Variables'!$B$16,+'5.Variables'!$K30,+IF(K$18='5.Variables'!$B$39,+'5.Variables'!$K53,+IF(K$18='5.Variables'!$B$62,+'5.Variables'!$K67,+IF(K$18='5.Variables'!$B$76,+'5.Variables'!$K81,+IF(K$18='5.Variables'!$B$90,+'5.Variables'!$K95,+IF(K$18='5.Variables'!$B$104,+'5.Variables'!$K109,0)))))) -> 70.1 | L64: =IF(L$18='5.Variables'!$B$16,+'5.Variables'!$K29,+IF(L$18='5.Variables'!$B$39,+'5.Variables'!$K53,+IF(L$18='5.Variables'!$B$62,+'5.Variables'!$K67,+IF(L$18='5.Variables'!$B$76,+'5.Variables'!$K81,+IF(L$18='5.Variables'!$B$90,+'5.Variables'!$K95,+IF(L$18='5.Variables'!$B$104,+'5.Variables'!$K109,0)))))) -> 11.6 | M64: =IF(M$18='5.Variables'!$B$16,+'5.Variables'!$K29,+IF(M$18='5.Variables'!$B$39,+'5.Variables'!$K53,+IF(M$18='5.Variables'!$B$62,+'5.Variables'!$K67,+IF(M$18='5.Variables'!$B$76,+'5.Variables'!$K81,+IF(M$18='5.Variables'!$B$90,+'5.Variables'!$K95,+IF(M$18='5.Variables'!$B$104,+'5.Variables'!$K109,0)))))) -> 30 | N64: =IF(N$18='5.Variables'!$B$16,+'5.Variables'!$K29,+IF(N$18='5.Variables'!$B$39,+'5.Variables'!$K53,+IF(N$18='5.Variables'!$B$62,+'5.Variables'!$K67,+IF(N$18='5.Variables'!$B$76,+'5.Variables'!$K81,+IF(N$18='5.Variables'!$B$90,+'5.Variables'!$K95,+IF(N$18='5.Variables'!$B$104,+'5.Variables'!$K109,0)))))) -> 136.2 | O64: =IF(O$18='5.Variables'!$B$16,+'5.Variables'!$K29,+IF(O$18='5.Variables'!$B$39,+'5.Variables'!$K53,+IF(O$18='5.Variables'!$B$62,+'5.Variables'!$K67,+IF(O$18='5.Variables'!$B$76,+'5.Variables'!$K81,+IF(O$18='5.Variables'!$B$90,+'5.Variables'!$K95,+IF(O$18='5.Variables'!$B$104,+'5.Variables'!$K109,0)))))) -> 0 | P64: =IF(P$18='5.Variables'!$B$16,+'5.Variables'!$K29,+IF(P$18='5.Variables'!$B$39,+'5.Variables'!$K53,+IF(P$18='5.Variables'!$B$62,+'5.Variables'!$K67,+IF(P$18='5.Variables'!$B$76,+'5.Variables'!$K81,+IF(P$18='5.Variables'!$B$90,+'5.Variables'!$K95,+IF(P$18='5.Variables'!$B$104,+'5.Variables'!$K109,0)))))) -> 336 | R64: =$V$34+(K64*$V$35)+(L64*$V$36)+(M64*$V$37)+(N64*$V$38)+(O64*$V$39)+(P64*$V$40) -> 18646059 | U64: ='4. Customer Growth'!B22 -> 2011 | V64: =V51 -> 2.4860168e+08 | W64: =X51 -> 2.4867399e+08 | X64: =IF(ABS(V64-W64)=0,0,ABS(V64-W64)/V64) -> 0.00029087419
A65: =+A64+1 -> 46 | B65: =CONCATENATE('3. Consumption by Rate Class'!B70,"-",'3. Consumption by Rate Class'!C70) -> 2009-October | C65: 20858420 | E65: 1681377 | J65: =C65-D65-E65+F65+G65 -> 19177043 | K65: =IF(K$18='5.Variables'!$B$16,+'5.Variables'!$L30,+IF(K$18='5.Variables'!$B$39,+'5.Variables'!$L53,+IF(K$18='5.Variables'!$B$62,+'5.Variables'!$L67,+IF(K$18='5.Variables'!$B$76,+'5.Variables'!$L81,+IF(K$18='5.Variables'!$B$90,+'5.Variables'!$L95,+IF(K$18='5.Variables'!$B$104,+'5.Variables'!$L109,0)))))) -> 313.3 | L65: =IF(L$18='5.Variables'!$B$16,+'5.Variables'!$L29,+IF(L$18='5.Variables'!$B$39,+'5.Variables'!$L53,+IF(L$18='5.Variables'!$B$62,+'5.Variables'!$L67,+IF(L$18='5.Variables'!$B$76,+'5.Variables'!$L81,+IF(L$18='5.Variables'!$B$90,+'5.Variables'!$L95,+IF(L$18='5.Variables'!$B$104,+'5.Variables'!$L109,0)))))) -> 0 | M65: =IF(M$18='5.Variables'!$B$16,+'5.Variables'!$L29,+IF(M$18='5.Variables'!$B$39,+'5.Variables'!$L53,+IF(M$18='5.Variables'!$B$62,+'5.Variables'!$L67,+IF(M$18='5.Variables'!$B$76,+'5.Variables'!$L81,+IF(M$18='5.Variables'!$B$90,+'5.Variables'!$L95,+IF(M$18='5.Variables'!$B$104,+'5.Variables'!$L109,0)))))) -> 31 | N65: =IF(N$18='5.Variables'!$B$16,+'5.Variables'!$L29,+IF(N$18='5.Variables'!$B$39,+'5.Variables'!$L53,+IF(N$18='5.Variables'!$B$62,+'5.Variables'!$L67,+IF(N$18='5.Variables'!$B$76,+'5.Variables'!$L81,+IF(N$18='5.Variables'!$B$90,+'5.Variables'!$L95,+IF(N$18='5.Variables'!$B$104,+'5.Variables'!$L109,0)))))) -> 135.81 | O65: =IF(O$18='5.Variables'!$B$16,+'5.Variables'!$L29,+IF(O$18='5.Variables'!$B$39,+'5.Variables'!$L53,+IF(O$18='5.Variables'!$B$62,+'5.Variables'!$L67,+IF(O$18='5.Variables'!$B$76,+'5.Variables'!$L81,+IF(O$18='5.Variables'!$B$90,+'5.Variables'!$L95,+IF(O$18='5.Variables'!$B$104,+'5.Variables'!$L109,0)))))) -> 0 | P65: =IF(P$18='5.Variables'!$B$16,+'5.Variables'!$L29,+IF(P$18='5.Variables'!$B$39,+'5.Variables'!$L53,+IF(P$18='5.Variables'!$B$62,+'5.Variables'!$L67,+IF(P$18='5.Variables'!$B$76,+'5.Variables'!$L81,+IF(P$18='5.Variables'!$B$90,+'5.Variables'!$L95,+IF(P$18='5.Variables'!$B$104,+'5.Variables'!$L109,0)))))) -> 336 | R65: =$V$34+(K65*$V$35)+(L65*$V$36)+(M65*$V$37)+(N65*$V$38)+(O65*$V$39)+(P65*$V$40) -> 20137170 | U65: ='4. Customer Growth'!B23 -> 2012 | V65: =V52 -> 2.501444e+08 | W65: =X52 -> 2.5034277e+08 | X65: =IF(ABS(V65-W65)=0,0,ABS(V65-W65)/V65) -> 0.00079303559
A66: =+A65+1 -> 47 | B66: =CONCATENATE('3. Consumption by Rate Class'!B71,"-",'3. Consumption by Rate Class'!C71) -> 2009-November | C66: 20896295 | E66: 1877472 | J66: =C66-D66-E66+F66+G66 -> 19018823 | K66: =IF(K$18='5.Variables'!$B$16,+'5.Variables'!$M30,+IF(K$18='5.Variables'!$B$39,+'5.Variables'!$M53,+IF(K$18='5.Variables'!$B$62,+'5.Variables'!$M67,+IF(K$18='5.Variables'!$B$76,+'5.Variables'!$M81,+IF(K$18='5.Variables'!$B$90,+'5.Variables'!$M95,+IF(K$18='5.Variables'!$B$104,+'5.Variables'!$M109,0)))))) -> 361 | L66: =IF(L$18='5.Variables'!$B$16,+'5.Variables'!$M29,+IF(L$18='5.Variables'!$B$39,+'5.Variables'!$M53,+IF(L$18='5.Variables'!$B$62,+'5.Variables'!$M67,+IF(L$18='5.Variables'!$B$76,+'5.Variables'!$M81,+IF(L$18='5.Variables'!$B$90,+'5.Variables'!$M95,+IF(L$18='5.Variables'!$B$104,+'5.Variables'!$M109,0)))))) -> 0 | M66: =IF(M$18='5.Variables'!$B$16,+'5.Variables'!$M29,+IF(M$18='5.Variables'!$B$39,+'5.Variables'!$M53,+IF(M$18='5.Variables'!$B$62,+'5.Variables'!$M67,+IF(M$18='5.Variables'!$B$76,+'5.Variables'!$M81,+IF(M$18='5.Variables'!$B$90,+'5.Variables'!$M95,+IF(M$18='5.Variables'!$B$104,+'5.Variables'!$M109,0)))))) -> 30 | N66: =IF(N$18='5.Variables'!$B$16,+'5.Variables'!$M29,+IF(N$18='5.Variables'!$B$39,+'5.Variables'!$M53,+IF(N$18='5.Variables'!$B$62,+'5.Variables'!$M67,+IF(N$18='5.Variables'!$B$76,+'5.Variables'!$M81,+IF(N$18='5.Variables'!$B$90,+'5.Variables'!$M95,+IF(N$18='5.Variables'!$B$104,+'5.Variables'!$M109,0)))))) -> 135.42 | O66: =IF(O$18='5.Variables'!$B$16,+'5.Variables'!$M29,+IF(O$18='5.Variables'!$B$39,+'5.Variables'!$M53,+IF(O$18='5.Variables'!$B$62,+'5.Variables'!$M67,+IF(O$18='5.Variables'!$B$76,+'5.Variables'!$M81,+IF(O$18='5.Variables'!$B$90,+'5.Variables'!$M95,+IF(O$18='5.Variables'!$B$104,+'5.Variables'!$M109,0)))))) -> 0 | P66: =IF(P$18='5.Variables'!$B$16,+'5.Variables'!$M29,+IF(P$18='5.Variables'!$B$39,+'5.Variables'!$M53,+IF(P$18='5.Variables'!$B$62,+'5.Variables'!$M67,+IF(P$18='5.Variables'!$B$76,+'5.Variables'!$M81,+IF(P$18='5.Variables'!$B$90,+'5.Variables'!$M95,+IF(P$18='5.Variables'!$B$104,+'5.Variables'!$M109,0)))))) -> 320 | R66: =$V$34+(K66*$V$35)+(L66*$V$36)+(M66*$V$37)+(N66*$V$38)+(O66*$V$39)+(P66*$V$40) -> 19935132 | U66: ='4. Customer Growth'!B24 -> 2013 | V66: =V53 -> 2.4616663e+08 | W66: =X53 -> 2.4934225e+08 | X66: =IF(ABS(V66-W66)=0,0,ABS(V66-W66)/V66) -> 0.012900285
A67: =+A66+1 -> 48 | B67: =CONCATENATE('3. Consumption by Rate Class'!B72,"-",'3. Consumption by Rate Class'!C72) -> 2009-December | C67: 23140679 | E67: 1527750 | J67: =C67-D67-E67+F67+G67 -> 21612929 | K67: =IF(K$18='5.Variables'!$B$16,+'5.Variables'!$N30,+IF(K$18='5.Variables'!$B$39,+'5.Variables'!$N53,+IF(K$18='5.Variables'!$B$62,+'5.Variables'!$N67,+IF(K$18='5.Variables'!$B$76,+'5.Variables'!$N81,+IF(K$18='5.Variables'!$B$90,+'5.Variables'!$N95,+IF(K$18='5.Variables'!$B$104,+'5.Variables'!$N109,0)))))) -> 638.6 | L67: =IF(L$18='5.Variables'!$B$16,+'5.Variables'!$N29,+IF(L$18='5.Variables'!$B$39,+'5.Variables'!$N53,+IF(L$18='5.Variables'!$B$62,+'5.Variables'!$N67,+IF(L$18='5.Variables'!$B$76,+'5.Variables'!$N81,+IF(L$18='5.Variables'!$B$90,+'5.Variables'!$N95,+IF(L$18='5.Variables'!$B$104,+'5.Variables'!$N109,0)))))) -> 0 | M67: =IF(M$18='5.Variables'!$B$16,+'5.Variables'!$N29,+IF(M$18='5.Variables'!$B$39,+'5.Variables'!$N53,+IF(M$18='5.Variables'!$B$62,+'5.Variables'!$N67,+IF(M$18='5.Variables'!$B$76,+'5.Variables'!$N81,+IF(M$18='5.Variables'!$B$90,+'5.Variables'!$N95,+IF(M$18='5.Variables'!$B$104,+'5.Variables'!$N109,0)))))) -> 31 | N67: =IF(N$18='5.Variables'!$B$16,+'5.Variables'!$N29,+IF(N$18='5.Variables'!$B$39,+'5.Variables'!$N53,+IF(N$18='5.Variables'!$B$62,+'5.Variables'!$N67,+IF(N$18='5.Variables'!$B$76,+'5.Variables'!$N81,+IF(N$18='5.Variables'!$B$90,+'5.Variables'!$N95,+IF(N$18='5.Variables'!$B$104,+'5.Variables'!$N109,0)))))) -> 135.03 | O67: =IF(O$18='5.Variables'!$B$16,+'5.Variables'!$N29,+IF(O$18='5.Variables'!$B$39,+'5.Variables'!$N53,+IF(O$18='5.Variables'!$B$62,+'5.Variables'!$N67,+IF(O$18='5.Variables'!$B$76,+'5.Variables'!$N81,+IF(O$18='5.Variables'!$B$90,+'5.Variables'!$N95,+IF(O$18='5.Variables'!$B$104,+'5.Variables'!$N109,0)))))) -> 0 | P67: =IF(P$18='5.Variables'!$B$16,+'5.Variables'!$N29,+IF(P$18='5.Variables'!$B$39,+'5.Variables'!$N53,+IF(P$18='5.Variables'!$B$62,+'5.Variables'!$N67,+IF(P$18='5.Variables'!$B$76,+'5.Variables'!$N81,+IF(P$18='5.Variables'!$B$90,+'5.Variables'!$N95,+IF(P$18='5.Variables'!$B$104,+'5.Variables'!$N109,0)))))) -> 352 | R67: =$V$34+(K67*$V$35)+(L67*$V$36)+(M67*$V$37)+(N67*$V$38)+(O67*$V$39)+(P67*$V$40) -> 22355534 | S67: =SUM(R56:R67) -> 2.4547067e+08 | U67: ='4. Customer Growth'!B25 -> 2014 | V67: =V54 -> 2.4253526e+08 | W67: =X54 -> 2.4965843e+08 | X67: =IF(ABS(V67-W67)=0,0,ABS(V67-W67)/V67) -> 0.029369606
A68: =+A67+1 -> 49 | B68: =CONCATENATE('3. Consumption by Rate Class'!B73,"-",'3. Consumption by Rate Class'!C73) -> 2010-January | C68: 25102489 | E68: 1573886 | J68: =C68-D68-E68+F68+G68 -> 23528603 | K68: =IF(K$18='5.Variables'!$B$16,+'5.Variables'!$C31,+IF(K$18='5.Variables'!$B$39,+'5.Variables'!$C54,+IF(K$18='5.Variables'!$B$62,+'5.Variables'!$C68,+IF(K$18='5.Variables'!$B$76,+'5.Variables'!$C82,+IF(K$18='5.Variables'!$B$90,+'5.Variables'!$C96,+IF(K$18='5.Variables'!$B$104,+'5.Variables'!$C110,0)))))) -> 718 | L68: =IF(L$18='5.Variables'!$B$16,+'5.Variables'!$C30,+IF(L$18='5.Variables'!$B$39,+'5.Variables'!$C54,+IF(L$18='5.Variables'!$B$62,+'5.Variables'!$C68,+IF(L$18='5.Variables'!$B$76,+'5.Variables'!$C82,+IF(L$18='5.Variables'!$B$90,+'5.Variables'!$C96,+IF(L$18='5.Variables'!$B$104,+'5.Variables'!$C110,0)))))) -> 0 | M68: =IF(M$18='5.Variables'!$B$16,+'5.Variables'!$C30,+IF(M$18='5.Variables'!$B$39,+'5.Variables'!$C54,+IF(M$18='5.Variables'!$B$62,+'5.Variables'!$C68,+IF(M$18='5.Variables'!$B$76,+'5.Variables'!$C82,+IF(M$18='5.Variables'!$B$90,+'5.Variables'!$C96,+IF(M$18='5.Variables'!$B$104,+'5.Variables'!$C110,0)))))) -> 31 | N68: =IF(N$18='5.Variables'!$B$16,+'5.Variables'!$C30,+IF(N$18='5.Variables'!$B$39,+'5.Variables'!$C54,+IF(N$18='5.Variables'!$B$62,+'5.Variables'!$C68,+IF(N$18='5.Variables'!$B$76,+'5.Variables'!$C82,+IF(N$18='5.Variables'!$B$90,+'5.Variables'!$C96,+IF(N$18='5.Variables'!$B$104,+'5.Variables'!$C110,0)))))) -> 135.33 | O68: =IF(O$18='5.Variables'!$B$16,+'5.Variables'!$C30,+IF(O$18='5.Variables'!$B$39,+'5.Variables'!$C54,+IF(O$18='5.Variables'!$B$62,+'5.Variables'!$C68,+IF(O$18='5.Variables'!$B$76,+'5.Variables'!$C82,+IF(O$18='5.Variables'!$B$90,+'5.Variables'!$C96,+IF(O$18='5.Variables'!$B$104,+'5.Variables'!$C110,0)))))) -> 0 | P68: =IF(P$18='5.Variables'!$B$16,+'5.Variables'!$C30,+IF(P$18='5.Variables'!$B$39,+'5.Variables'!$C54,+IF(P$18='5.Variables'!$B$62,+'5.Variables'!$C68,+IF(P$18='5.Variables'!$B$76,+'5.Variables'!$C82,+IF(P$18='5.Variables'!$B$90,+'5.Variables'!$C96,+IF(P$18='5.Variables'!$B$104,+'5.Variables'!$C110,0)))))) -> 320 | R68: =$V$34+(K68*$V$35)+(L68*$V$36)+(M68*$V$37)+(N68*$V$38)+(O68*$V$39)+(P68*$V$40) -> 22638224 | U68: ='4. Customer Growth'!B26 -> 2015 | V68: =V55 -> 2.3940128e+08 | W68: =X55 -> 2.4739974e+08 | X68: =IF(ABS(V68-W68)=0,0,ABS(V68-W68)/V68) -> 0.033410238
A69: =+A68+1 -> 50 | B69: =CONCATENATE('3. Consumption by Rate Class'!B74,"-",'3. Consumption by Rate Class'!C74) -> 2010-February | C69: 22657765 | E69: 1761873 | J69: =C69-D69-E69+F69+G69 -> 20895892 | K69: =IF(K$18='5.Variables'!$B$16,+'5.Variables'!$D31,+IF(K$18='5.Variables'!$B$39,+'5.Variables'!$D54,+IF(K$18='5.Variables'!$B$62,+'5.Variables'!$D68,+IF(K$18='5.Variables'!$B$76,+'5.Variables'!$D82,+IF(K$18='5.Variables'!$B$90,+'5.Variables'!$D96,+IF(K$18='5.Variables'!$B$104,+'5.Variables'!$D110,0)))))) -> 597.2 | L69: =IF(L$18='5.Variables'!$B$16,+'5.Variables'!$D30,+IF(L$18='5.Variables'!$B$39,+'5.Variables'!$D54,+IF(L$18='5.Variables'!$B$62,+'5.Variables'!$D68,+IF(L$18='5.Variables'!$B$76,+'5.Variables'!$D82,+IF(L$18='5.Variables'!$B$90,+'5.Variables'!$D96,+IF(L$18='5.Variables'!$B$104,+'5.Variables'!$D110,0)))))) -> 0 | M69: =IF(M$18='5.Variables'!$B$16,+'5.Variables'!$D30,+IF(M$18='5.Variables'!$B$39,+'5.Variables'!$D54,+IF(M$18='5.Variables'!$B$62,+'5.Variables'!$D68,+IF(M$18='5.Variables'!$B$76,+'5.Variables'!$D82,+IF(M$18='5.Variables'!$B$90,+'5.Variables'!$D96,+IF(M$18='5.Variables'!$B$104,+'5.Variables'!$D110,0)))))) -> 28 | N69: =IF(N$18='5.Variables'!$B$16,+'5.Variables'!$D30,+IF(N$18='5.Variables'!$B$39,+'5.Variables'!$D54,+IF(N$18='5.Variables'!$B$62,+'5.Variables'!$D68,+IF(N$18='5.Variables'!$B$76,+'5.Variables'!$D82,+IF(N$18='5.Variables'!$B$90,+'5.Variables'!$D96,+IF(N$18='5.Variables'!$B$104,+'5.Variables'!$D110,0)))))) -> 135.63 | O69: =IF(O$18='5.Variables'!$B$16,+'5.Variables'!$D30,+IF(O$18='5.Variables'!$B$39,+'5.Variables'!$D54,+IF(O$18='5.Variables'!$B$62,+'5.Variables'!$D68,+IF(O$18='5.Variables'!$B$76,+'5.Variables'!$D82,+IF(O$18='5.Variables'!$B$90,+'5.Variables'!$D96,+IF(O$18='5.Variables'!$B$104,+'5.Variables'!$D110,0)))))) -> 0 | P69: =IF(P$18='5.Variables'!$B$16,+'5.Variables'!$D30,+IF(P$18='5.Variables'!$B$39,+'5.Variables'!$D54,+IF(P$18='5.Variables'!$B$62,+'5.Variables'!$D68,+IF(P$18='5.Variables'!$B$76,+'5.Variables'!$D82,+IF(P$18='5.Variables'!$B$90,+'5.Variables'!$D96,+IF(P$18='5.Variables'!$B$104,+'5.Variables'!$D110,0)))))) -> 304 | R69: =$V$34+(K69*$V$35)+(L69*$V$36)+(M69*$V$37)+(N69*$V$38)+(O69*$V$39)+(P69*$V$40) -> 20599151 | U69: Mean Average Percentage Error (Mape) : | X69: =AVERAGE(X59:X68) -> 0.016624108
A70: =+A69+1 -> 51 | B70: =CONCATENATE('3. Consumption by Rate Class'!B75,"-",'3. Consumption by Rate Class'!C75) -> 2010-March | C70: 22985701 | E70: 2174724 | J70: =C70-D70-E70+F70+G70 -> 20810977 | K70: =IF(K$18='5.Variables'!$B$16,+'5.Variables'!$E31,+IF(K$18='5.Variables'!$B$39,+'5.Variables'!$E54,+IF(K$18='5.Variables'!$B$62,+'5.Variables'!$E68,+IF(K$18='5.Variables'!$B$76,+'5.Variables'!$E82,+IF(K$18='5.Variables'!$B$90,+'5.Variables'!$E96,+IF(K$18='5.Variables'!$B$104,+'5.Variables'!$E110,0)))))) -> 450.7 | L70: =IF(L$18='5.Variables'!$B$16,+'5.Variables'!$E30,+IF(L$18='5.Variables'!$B$39,+'5.Variables'!$E54,+IF(L$18='5.Variables'!$B$62,+'5.Variables'!$E68,+IF(L$18='5.Variables'!$B$76,+'5.Variables'!$E82,+IF(L$18='5.Variables'!$B$90,+'5.Variables'!$E96,+IF(L$18='5.Variables'!$B$104,+'5.Variables'!$E110,0)))))) -> 0 | M70: =IF(M$18='5.Variables'!$B$16,+'5.Variables'!$E30,+IF(M$18='5.Variables'!$B$39,+'5.Variables'!$E54,+IF(M$18='5.Variables'!$B$62,+'5.Variables'!$E68,+IF(M$18='5.Variables'!$B$76,+'5.Variables'!$E82,+IF(M$18='5.Variables'!$B$90,+'5.Variables'!$E96,+IF(M$18='5.Variables'!$B$104,+'5.Variables'!$E110,0)))))) -> 31 | N70: =IF(N$18='5.Variables'!$B$16,+'5.Variables'!$E30,+IF(N$18='5.Variables'!$B$39,+'5.Variables'!$E54,+IF(N$18='5.Variables'!$B$62,+'5.Variables'!$E68,+IF(N$18='5.Variables'!$B$76,+'5.Variables'!$E82,+IF(N$18='5.Variables'!$B$90,+'5.Variables'!$E96,+IF(N$18='5.Variables'!$B$104,+'5.Variables'!$E110,0)))))) -> 135.93 | O70: =IF(O$18='5.Variables'!$B$16,+'5.Variables'!$E30,+IF(O$18='5.Variables'!$B$39,+'5.Variables'!$E54,+IF(O$18='5.Variables'!$B$62,+'5.Variables'!$E68,+IF(O$18='5.Variables'!$B$76,+'5.Variables'!$E82,+IF(O$18='5.Variables'!$B$90,+'5.Variables'!$E96,+IF(O$18='5.Variables'!$B$104,+'5.Variables'!$E110,0)))))) -> 0 | P70: =IF(P$18='5.Variables'!$B$16,+'5.Variables'!$E30,+IF(P$18='5.Variables'!$B$39,+'5.Variables'!$E54,+IF(P$18='5.Variables'!$B$62,+'5.Variables'!$E68,+IF(P$18='5.Variables'!$B$76,+'5.Variables'!$E82,+IF(P$18='5.Variables'!$B$90,+'5.Variables'!$E96,+IF(P$18='5.Variables'!$B$104,+'5.Variables'!$E110,0)))))) -> 368 | R70: =$V$34+(K70*$V$35)+(L70*$V$36)+(M70*$V$37)+(N70*$V$38)+(O70*$V$39)+(P70*$V$40) -> 21279344 | U70: Median | X70: =MEDIAN(X59:X68) -> 0.015322701
A71: =+A70+1 -> 52 | B71: =CONCATENATE('3. Consumption by Rate Class'!B76,"-",'3. Consumption by Rate Class'!C76) -> 2010-April | C71: 20452236 | E71: 2287274 | J71: =C71-D71-E71+F71+G71 -> 18164962 | K71: =IF(K$18='5.Variables'!$B$16,+'5.Variables'!$F31,+IF(K$18='5.Variables'!$B$39,+'5.Variables'!$F54,+IF(K$18='5.Variables'!$B$62,+'5.Variables'!$F68,+IF(K$18='5.Variables'!$B$76,+'5.Variables'!$F82,+IF(K$18='5.Variables'!$B$90,+'5.Variables'!$F96,+IF(K$18='5.Variables'!$B$104,+'5.Variables'!$F110,0)))))) -> 262.7 | L71: =IF(L$18='5.Variables'!$B$16,+'5.Variables'!$F30,+IF(L$18='5.Variables'!$B$39,+'5.Variables'!$F54,+IF(L$18='5.Variables'!$B$62,+'5.Variables'!$F68,+IF(L$18='5.Variables'!$B$76,+'5.Variables'!$F82,+IF(L$18='5.Variables'!$B$90,+'5.Variables'!$F96,+IF(L$18='5.Variables'!$B$104,+'5.Variables'!$F110,0)))))) -> 0 | M71: =IF(M$18='5.Variables'!$B$16,+'5.Variables'!$F30,+IF(M$18='5.Variables'!$B$39,+'5.Variables'!$F54,+IF(M$18='5.Variables'!$B$62,+'5.Variables'!$F68,+IF(M$18='5.Variables'!$B$76,+'5.Variables'!$F82,+IF(M$18='5.Variables'!$B$90,+'5.Variables'!$F96,+IF(M$18='5.Variables'!$B$104,+'5.Variables'!$F110,0)))))) -> 30 | N71: =IF(N$18='5.Variables'!$B$16,+'5.Variables'!$F30,+IF(N$18='5.Variables'!$B$39,+'5.Variables'!$F54,+IF(N$18='5.Variables'!$B$62,+'5.Variables'!$F68,+IF(N$18='5.Variables'!$B$76,+'5.Variables'!$F82,+IF(N$18='5.Variables'!$B$90,+'5.Variables'!$F96,+IF(N$18='5.Variables'!$B$104,+'5.Variables'!$F110,0)))))) -> 136.23 | O71: =IF(O$18='5.Variables'!$B$16,+'5.Variables'!$F30,+IF(O$18='5.Variables'!$B$39,+'5.Variables'!$F54,+IF(O$18='5.Variables'!$B$62,+'5.Variables'!$F68,+IF(O$18='5.Variables'!$B$76,+'5.Variables'!$F82,+IF(O$18='5.Variables'!$B$90,+'5.Variables'!$F96,+IF(O$18='5.Variables'!$B$104,+'5.Variables'!$F110,0)))))) -> 0 | P71: =IF(P$18='5.Variables'!$B$16,+'5.Variables'!$F30,+IF(P$18='5.Variables'!$B$39,+'5.Variables'!$F54,+IF(P$18='5.Variables'!$B$62,+'5.Variables'!$F68,+IF(P$18='5.Variables'!$B$76,+'5.Variables'!$F82,+IF(P$18='5.Variables'!$B$90,+'5.Variables'!$F96,+IF(P$18='5.Variables'!$B$104,+'5.Variables'!$F110,0)))))) -> 320 | R71: =$V$34+(K71*$V$35)+(L71*$V$36)+(M71*$V$37)+(N71*$V$38)+(O71*$V$39)+(P71*$V$40) -> 19318381
A72: =+A71+1 -> 53 | B72: =CONCATENATE('3. Consumption by Rate Class'!B77,"-",'3. Consumption by Rate Class'!C77) -> 2010-May | C72: 21307341 | E72: 2305460 | J72: =C72-D72-E72+F72+G72 -> 19001881 | K72: =IF(K$18='5.Variables'!$B$16,+'5.Variables'!$G31,+IF(K$18='5.Variables'!$B$39,+'5.Variables'!$G54,+IF(K$18='5.Variables'!$B$62,+'5.Variables'!$G68,+IF(K$18='5.Variables'!$B$76,+'5.Variables'!$G82,+IF(K$18='5.Variables'!$B$90,+'5.Variables'!$G96,+IF(K$18='5.Variables'!$B$104,+'5.Variables'!$G110,0)))))) -> 160.4 | L72: =IF(L$18='5.Variables'!$B$16,+'5.Variables'!$G30,+IF(L$18='5.Variables'!$B$39,+'5.Variables'!$G54,+IF(L$18='5.Variables'!$B$62,+'5.Variables'!$G68,+IF(L$18='5.Variables'!$B$76,+'5.Variables'!$G82,+IF(L$18='5.Variables'!$B$90,+'5.Variables'!$G96,+IF(L$18='5.Variables'!$B$104,+'5.Variables'!$G110,0)))))) -> 9.1 | M72: =IF(M$18='5.Variables'!$B$16,+'5.Variables'!$G30,+IF(M$18='5.Variables'!$B$39,+'5.Variables'!$G54,+IF(M$18='5.Variables'!$B$62,+'5.Variables'!$G68,+IF(M$18='5.Variables'!$B$76,+'5.Variables'!$G82,+IF(M$18='5.Variables'!$B$90,+'5.Variables'!$G96,+IF(M$18='5.Variables'!$B$104,+'5.Variables'!$G110,0)))))) -> 31 | N72: =IF(N$18='5.Variables'!$B$16,+'5.Variables'!$G30,+IF(N$18='5.Variables'!$B$39,+'5.Variables'!$G54,+IF(N$18='5.Variables'!$B$62,+'5.Variables'!$G68,+IF(N$18='5.Variables'!$B$76,+'5.Variables'!$G82,+IF(N$18='5.Variables'!$B$90,+'5.Variables'!$G96,+IF(N$18='5.Variables'!$B$104,+'5.Variables'!$G110,0)))))) -> 136.54 | O72: =IF(O$18='5.Variables'!$B$16,+'5.Variables'!$G30,+IF(O$18='5.Variables'!$B$39,+'5.Variables'!$G54,+IF(O$18='5.Variables'!$B$62,+'5.Variables'!$G68,+IF(O$18='5.Variables'!$B$76,+'5.Variables'!$G82,+IF(O$18='5.Variables'!$B$90,+'5.Variables'!$G96,+IF(O$18='5.Variables'!$B$104,+'5.Variables'!$G110,0)))))) -> 0 | P72: =IF(P$18='5.Variables'!$B$16,+'5.Variables'!$G30,+IF(P$18='5.Variables'!$B$39,+'5.Variables'!$G54,+IF(P$18='5.Variables'!$B$62,+'5.Variables'!$G68,+IF(P$18='5.Variables'!$B$76,+'5.Variables'!$G82,+IF(P$18='5.Variables'!$B$90,+'5.Variables'!$G96,+IF(P$18='5.Variables'!$B$104,+'5.Variables'!$G110,0)))))) -> 320 | R72: =$V$34+(K72*$V$35)+(L72*$V$36)+(M72*$V$37)+(N72*$V$38)+(O72*$V$39)+(P72*$V$40) -> 19402833 | U72: Note: Statistically, MAPE is defined as the average of percentage errors
A73: =+A72+1 -> 54 | B73: =CONCATENATE('3. Consumption by Rate Class'!B78,"-",'3. Consumption by Rate Class'!C78) -> 2010-June | C73: 21585694 | E73: 2043340 | J73: =C73-D73-E73+F73+G73 -> 19542354 | K73: =IF(K$18='5.Variables'!$B$16,+'5.Variables'!$H31,+IF(K$18='5.Variables'!$B$39,+'5.Variables'!$H54,+IF(K$18='5.Variables'!$B$62,+'5.Variables'!$H68,+IF(K$18='5.Variables'!$B$76,+'5.Variables'!$H82,+IF(K$18='5.Variables'!$B$90,+'5.Variables'!$H96,+IF(K$18='5.Variables'!$B$104,+'5.Variables'!$H110,0)))))) -> 37.9 | L73: =IF(L$18='5.Variables'!$B$16,+'5.Variables'!$H30,+IF(L$18='5.Variables'!$B$39,+'5.Variables'!$H54,+IF(L$18='5.Variables'!$B$62,+'5.Variables'!$H68,+IF(L$18='5.Variables'!$B$76,+'5.Variables'!$H82,+IF(L$18='5.Variables'!$B$90,+'5.Variables'!$H96,+IF(L$18='5.Variables'!$B$104,+'5.Variables'!$H110,0)))))) -> 15.7 | M73: =IF(M$18='5.Variables'!$B$16,+'5.Variables'!$H30,+IF(M$18='5.Variables'!$B$39,+'5.Variables'!$H54,+IF(M$18='5.Variables'!$B$62,+'5.Variables'!$H68,+IF(M$18='5.Variables'!$B$76,+'5.Variables'!$H82,+IF(M$18='5.Variables'!$B$90,+'5.Variables'!$H96,+IF(M$18='5.Variables'!$B$104,+'5.Variables'!$H110,0)))))) -> 30 | N73: =IF(N$18='5.Variables'!$B$16,+'5.Variables'!$H30,+IF(N$18='5.Variables'!$B$39,+'5.Variables'!$H54,+IF(N$18='5.Variables'!$B$62,+'5.Variables'!$H68,+IF(N$18='5.Variables'!$B$76,+'5.Variables'!$H82,+IF(N$18='5.Variables'!$B$90,+'5.Variables'!$H96,+IF(N$18='5.Variables'!$B$104,+'5.Variables'!$H110,0)))))) -> 136.84 | O73: =IF(O$18='5.Variables'!$B$16,+'5.Variables'!$H30,+IF(O$18='5.Variables'!$B$39,+'5.Variables'!$H54,+IF(O$18='5.Variables'!$B$62,+'5.Variables'!$H68,+IF(O$18='5.Variables'!$B$76,+'5.Variables'!$H82,+IF(O$18='5.Variables'!$B$90,+'5.Variables'!$H96,+IF(O$18='5.Variables'!$B$104,+'5.Variables'!$H110,0)))))) -> 0 | P73: =IF(P$18='5.Variables'!$B$16,+'5.Variables'!$H30,+IF(P$18='5.Variables'!$B$39,+'5.Variables'!$H54,+IF(P$18='5.Variables'!$B$62,+'5.Variables'!$H68,+IF(P$18='5.Variables'!$B$76,+'5.Variables'!$H82,+IF(P$18='5.Variables'!$B$90,+'5.Variables'!$H96,+IF(P$18='5.Variables'!$B$104,+'5.Variables'!$H110,0)))))) -> 352 | R73: =$V$34+(K73*$V$35)+(L73*$V$36)+(M73*$V$37)+(N73*$V$38)+(O73*$V$39)+(P73*$V$40) -> 18739916 | U73: Note: the median is the numerical value separating the higher half of a data sample, from the lower half
A74: =+A73+1 -> 55 | B74: =CONCATENATE('3. Consumption by Rate Class'!B79,"-",'3. Consumption by Rate Class'!C79) -> 2010-July | C74: 22982463 | E74: 1512885 | J74: =C74-D74-E74+F74+G74 -> 21469578 | K74: =IF(K$18='5.Variables'!$B$16,+'5.Variables'!$I31,+IF(K$18='5.Variables'!$B$39,+'5.Variables'!$I54,+IF(K$18='5.Variables'!$B$62,+'5.Variables'!$I68,+IF(K$18='5.Variables'!$B$76,+'5.Variables'!$I82,+IF(K$18='5.Variables'!$B$90,+'5.Variables'!$I96,+IF(K$18='5.Variables'!$B$104,+'5.Variables'!$I110,0)))))) -> 5.1 | L74: =IF(L$18='5.Variables'!$B$16,+'5.Variables'!$I30,+IF(L$18='5.Variables'!$B$39,+'5.Variables'!$I54,+IF(L$18='5.Variables'!$B$62,+'5.Variables'!$I68,+IF(L$18='5.Variables'!$B$76,+'5.Variables'!$I82,+IF(L$18='5.Variables'!$B$90,+'5.Variables'!$I96,+IF(L$18='5.Variables'!$B$104,+'5.Variables'!$I110,0)))))) -> 90.2 | M74: =IF(M$18='5.Variables'!$B$16,+'5.Variables'!$I30,+IF(M$18='5.Variables'!$B$39,+'5.Variables'!$I54,+IF(M$18='5.Variables'!$B$62,+'5.Variables'!$I68,+IF(M$18='5.Variables'!$B$76,+'5.Variables'!$I82,+IF(M$18='5.Variables'!$B$90,+'5.Variables'!$I96,+IF(M$18='5.Variables'!$B$104,+'5.Variables'!$I110,0)))))) -> 31 | N74: =IF(N$18='5.Variables'!$B$16,+'5.Variables'!$I30,+IF(N$18='5.Variables'!$B$39,+'5.Variables'!$I54,+IF(N$18='5.Variables'!$B$62,+'5.Variables'!$I68,+IF(N$18='5.Variables'!$B$76,+'5.Variables'!$I82,+IF(N$18='5.Variables'!$B$90,+'5.Variables'!$I96,+IF(N$18='5.Variables'!$B$104,+'5.Variables'!$I110,0)))))) -> 137.14 | O74: =IF(O$18='5.Variables'!$B$16,+'5.Variables'!$I30,+IF(O$18='5.Variables'!$B$39,+'5.Variables'!$I54,+IF(O$18='5.Variables'!$B$62,+'5.Variables'!$I68,+IF(O$18='5.Variables'!$B$76,+'5.Variables'!$I82,+IF(O$18='5.Variables'!$B$90,+'5.Variables'!$I96,+IF(O$18='5.Variables'!$B$104,+'5.Variables'!$I110,0)))))) -> 0 | P74: =IF(P$18='5.Variables'!$B$16,+'5.Variables'!$I30,+IF(P$18='5.Variables'!$B$39,+'5.Variables'!$I54,+IF(P$18='5.Variables'!$B$62,+'5.Variables'!$I68,+IF(P$18='5.Variables'!$B$76,+'5.Variables'!$I82,+IF(P$18='5.Variables'!$B$90,+'5.Variables'!$I96,+IF(P$18='5.Variables'!$B$104,+'5.Variables'!$I110,0)))))) -> 336 | R74: =$V$34+(K74*$V$35)+(L74*$V$36)+(M74*$V$37)+(N74*$V$38)+(O74*$V$39)+(P74*$V$40) -> 21758385
A75: =+A74+1 -> 56 | B75: =CONCATENATE('3. Consumption by Rate Class'!B80,"-",'3. Consumption by Rate Class'!C80) -> 2010-August | C75: 22592532 | E75: 1317398 | J75: =C75-D75-E75+F75+G75 -> 21275134 | K75: =IF(K$18='5.Variables'!$B$16,+'5.Variables'!$J31,+IF(K$18='5.Variables'!$B$39,+'5.Variables'!$J54,+IF(K$18='5.Variables'!$B$62,+'5.Variables'!$J68,+IF(K$18='5.Variables'!$B$76,+'5.Variables'!$J82,+IF(K$18='5.Variables'!$B$90,+'5.Variables'!$J96,+IF(K$18='5.Variables'!$B$104,+'5.Variables'!$J110,0)))))) -> 6 | L75: =IF(L$18='5.Variables'!$B$16,+'5.Variables'!$J30,+IF(L$18='5.Variables'!$B$39,+'5.Variables'!$J54,+IF(L$18='5.Variables'!$B$62,+'5.Variables'!$J68,+IF(L$18='5.Variables'!$B$76,+'5.Variables'!$J82,+IF(L$18='5.Variables'!$B$90,+'5.Variables'!$J96,+IF(L$18='5.Variables'!$B$104,+'5.Variables'!$J110,0)))))) -> 80.7 | M75: =IF(M$18='5.Variables'!$B$16,+'5.Variables'!$J30,+IF(M$18='5.Variables'!$B$39,+'5.Variables'!$J54,+IF(M$18='5.Variables'!$B$62,+'5.Variables'!$J68,+IF(M$18='5.Variables'!$B$76,+'5.Variables'!$J82,+IF(M$18='5.Variables'!$B$90,+'5.Variables'!$J96,+IF(M$18='5.Variables'!$B$104,+'5.Variables'!$J110,0)))))) -> 31 | N75: =IF(N$18='5.Variables'!$B$16,+'5.Variables'!$J30,+IF(N$18='5.Variables'!$B$39,+'5.Variables'!$J54,+IF(N$18='5.Variables'!$B$62,+'5.Variables'!$J68,+IF(N$18='5.Variables'!$B$76,+'5.Variables'!$J82,+IF(N$18='5.Variables'!$B$90,+'5.Variables'!$J96,+IF(N$18='5.Variables'!$B$104,+'5.Variables'!$J110,0)))))) -> 137.45 | O75: =IF(O$18='5.Variables'!$B$16,+'5.Variables'!$J30,+IF(O$18='5.Variables'!$B$39,+'5.Variables'!$J54,+IF(O$18='5.Variables'!$B$62,+'5.Variables'!$J68,+IF(O$18='5.Variables'!$B$76,+'5.Variables'!$J82,+IF(O$18='5.Variables'!$B$90,+'5.Variables'!$J96,+IF(O$18='5.Variables'!$B$104,+'5.Variables'!$J110,0)))))) -> 0 | P75: =IF(P$18='5.Variables'!$B$16,+'5.Variables'!$J30,+IF(P$18='5.Variables'!$B$39,+'5.Variables'!$J54,+IF(P$18='5.Variables'!$B$62,+'5.Variables'!$J68,+IF(P$18='5.Variables'!$B$76,+'5.Variables'!$J82,+IF(P$18='5.Variables'!$B$90,+'5.Variables'!$J96,+IF(P$18='5.Variables'!$B$104,+'5.Variables'!$J110,0)))))) -> 336 | R75: =$V$34+(K75*$V$35)+(L75*$V$36)+(M75*$V$37)+(N75*$V$38)+(O75*$V$39)+(P75*$V$40) -> 21395188 | U75: Year | V75: kWH Forecasted Purchases | W75: year over year
A76: =+A75+1 -> 57 | B76: =CONCATENATE('3. Consumption by Rate Class'!B81,"-",'3. Consumption by Rate Class'!C81) -> 2010-September | C76: 19831509 | E76: 1603035 | J76: =C76-D76-E76+F76+G76 -> 18228474 | K76: =IF(K$18='5.Variables'!$B$16,+'5.Variables'!$K31,+IF(K$18='5.Variables'!$B$39,+'5.Variables'!$K54,+IF(K$18='5.Variables'!$B$62,+'5.Variables'!$K68,+IF(K$18='5.Variables'!$B$76,+'5.Variables'!$K82,+IF(K$18='5.Variables'!$B$90,+'5.Variables'!$K96,+IF(K$18='5.Variables'!$B$104,+'5.Variables'!$K110,0)))))) -> 99.9 | L76: =IF(L$18='5.Variables'!$B$16,+'5.Variables'!$K30,+IF(L$18='5.Variables'!$B$39,+'5.Variables'!$K54,+IF(L$18='5.Variables'!$B$62,+'5.Variables'!$K68,+IF(L$18='5.Variables'!$B$76,+'5.Variables'!$K82,+IF(L$18='5.Variables'!$B$90,+'5.Variables'!$K96,+IF(L$18='5.Variables'!$B$104,+'5.Variables'!$K110,0)))))) -> 14.4 | M76: =IF(M$18='5.Variables'!$B$16,+'5.Variables'!$K30,+IF(M$18='5.Variables'!$B$39,+'5.Variables'!$K54,+IF(M$18='5.Variables'!$B$62,+'5.Variables'!$K68,+IF(M$18='5.Variables'!$B$76,+'5.Variables'!$K82,+IF(M$18='5.Variables'!$B$90,+'5.Variables'!$K96,+IF(M$18='5.Variables'!$B$104,+'5.Variables'!$K110,0)))))) -> 30 | N76: =IF(N$18='5.Variables'!$B$16,+'5.Variables'!$K30,+IF(N$18='5.Variables'!$B$39,+'5.Variables'!$K54,+IF(N$18='5.Variables'!$B$62,+'5.Variables'!$K68,+IF(N$18='5.Variables'!$B$76,+'5.Variables'!$K82,+IF(N$18='5.Variables'!$B$90,+'5.Variables'!$K96,+IF(N$18='5.Variables'!$B$104,+'5.Variables'!$K110,0)))))) -> 137.75 | O76: =IF(O$18='5.Variables'!$B$16,+'5.Variables'!$K30,+IF(O$18='5.Variables'!$B$39,+'5.Variables'!$K54,+IF(O$18='5.Variables'!$B$62,+'5.Variables'!$K68,+IF(O$18='5.Variables'!$B$76,+'5.Variables'!$K82,+IF(O$18='5.Variables'!$B$90,+'5.Variables'!$K96,+IF(O$18='5.Variables'!$B$104,+'5.Variables'!$K110,0)))))) -> 0 | P76: =IF(P$18='5.Variables'!$B$16,+'5.Variables'!$K30,+IF(P$18='5.Variables'!$B$39,+'5.Variables'!$K54,+IF(P$18='5.Variables'!$B$62,+'5.Variables'!$K68,+IF(P$18='5.Variables'!$B$76,+'5.Variables'!$K82,+IF(P$18='5.Variables'!$B$90,+'5.Variables'!$K96,+IF(P$18='5.Variables'!$B$104,+'5.Variables'!$K110,0)))))) -> 336 | R76: =$V$34+(K76*$V$35)+(L76*$V$36)+(M76*$V$37)+(N76*$V$38)+(O76*$V$39)+(P76*$V$40) -> 18997070 | U76: 2015 | V76: =S151 -> 2.4981798e+08 | W76: =(V76-V68)/V68 -> 0.043511435
A77: =+A76+1 -> 58 | B77: =CONCATENATE('3. Consumption by Rate Class'!B82,"-",'3. Consumption by Rate Class'!C82) -> 2010-October | C77: 19683209 | E77: 1004145 | J77: =C77-D77-E77+F77+G77 -> 18679064 | K77: =IF(K$18='5.Variables'!$B$16,+'5.Variables'!$L31,+IF(K$18='5.Variables'!$B$39,+'5.Variables'!$L54,+IF(K$18='5.Variables'!$B$62,+'5.Variables'!$L68,+IF(K$18='5.Variables'!$B$76,+'5.Variables'!$L82,+IF(K$18='5.Variables'!$B$90,+'5.Variables'!$L96,+IF(K$18='5.Variables'!$B$104,+'5.Variables'!$L110,0)))))) -> 265.5 | L77: =IF(L$18='5.Variables'!$B$16,+'5.Variables'!$L30,+IF(L$18='5.Variables'!$B$39,+'5.Variables'!$L54,+IF(L$18='5.Variables'!$B$62,+'5.Variables'!$L68,+IF(L$18='5.Variables'!$B$76,+'5.Variables'!$L82,+IF(L$18='5.Variables'!$B$90,+'5.Variables'!$L96,+IF(L$18='5.Variables'!$B$104,+'5.Variables'!$L110,0)))))) -> 0 | M77: =IF(M$18='5.Variables'!$B$16,+'5.Variables'!$L30,+IF(M$18='5.Variables'!$B$39,+'5.Variables'!$L54,+IF(M$18='5.Variables'!$B$62,+'5.Variables'!$L68,+IF(M$18='5.Variables'!$B$76,+'5.Variables'!$L82,+IF(M$18='5.Variables'!$B$90,+'5.Variables'!$L96,+IF(M$18='5.Variables'!$B$104,+'5.Variables'!$L110,0)))))) -> 31 | N77: =IF(N$18='5.Variables'!$B$16,+'5.Variables'!$L30,+IF(N$18='5.Variables'!$B$39,+'5.Variables'!$L54,+IF(N$18='5.Variables'!$B$62,+'5.Variables'!$L68,+IF(N$18='5.Variables'!$B$76,+'5.Variables'!$L82,+IF(N$18='5.Variables'!$B$90,+'5.Variables'!$L96,+IF(N$18='5.Variables'!$B$104,+'5.Variables'!$L110,0)))))) -> 138.06 | O77: =IF(O$18='5.Variables'!$B$16,+'5.Variables'!$L30,+IF(O$18='5.Variables'!$B$39,+'5.Variables'!$L54,+IF(O$18='5.Variables'!$B$62,+'5.Variables'!$L68,+IF(O$18='5.Variables'!$B$76,+'5.Variables'!$L82,+IF(O$18='5.Variables'!$B$90,+'5.Variables'!$L96,+IF(O$18='5.Variables'!$B$104,+'5.Variables'!$L110,0)))))) -> 0 | P77: =IF(P$18='5.Variables'!$B$16,+'5.Variables'!$L30,+IF(P$18='5.Variables'!$B$39,+'5.Variables'!$L54,+IF(P$18='5.Variables'!$B$62,+'5.Variables'!$L68,+IF(P$18='5.Variables'!$B$76,+'5.Variables'!$L82,+IF(P$18='5.Variables'!$B$90,+'5.Variables'!$L96,+IF(P$18='5.Variables'!$B$104,+'5.Variables'!$L110,0)))))) -> 320 | R77: =$V$34+(K77*$V$35)+(L77*$V$36)+(M77*$V$37)+(N77*$V$38)+(O77*$V$39)+(P77*$V$40) -> 19769914 | U77: 2016 | V77: =S163 -> 2.5028267e+08 | W77: =(V77-V76)/V76 -> 0.0018601344
A78: =+A77+1 -> 59 | B78: =CONCATENATE('3. Consumption by Rate Class'!B83,"-",'3. Consumption by Rate Class'!C83) -> 2010-November | C78: 21151312 | E78: 1054100 | J78: =C78-D78-E78+F78+G78 -> 20097212 | K78: =IF(K$18='5.Variables'!$B$16,+'5.Variables'!$M31,+IF(K$18='5.Variables'!$B$39,+'5.Variables'!$M54,+IF(K$18='5.Variables'!$B$62,+'5.Variables'!$M68,+IF(K$18='5.Variables'!$B$76,+'5.Variables'!$M82,+IF(K$18='5.Variables'!$B$90,+'5.Variables'!$M96,+IF(K$18='5.Variables'!$B$104,+'5.Variables'!$M110,0)))))) -> 412.1 | L78: =IF(L$18='5.Variables'!$B$16,+'5.Variables'!$M30,+IF(L$18='5.Variables'!$B$39,+'5.Variables'!$M54,+IF(L$18='5.Variables'!$B$62,+'5.Variables'!$M68,+IF(L$18='5.Variables'!$B$76,+'5.Variables'!$M82,+IF(L$18='5.Variables'!$B$90,+'5.Variables'!$M96,+IF(L$18='5.Variables'!$B$104,+'5.Variables'!$M110,0)))))) -> 0 | M78: =IF(M$18='5.Variables'!$B$16,+'5.Variables'!$M30,+IF(M$18='5.Variables'!$B$39,+'5.Variables'!$M54,+IF(M$18='5.Variables'!$B$62,+'5.Variables'!$M68,+IF(M$18='5.Variables'!$B$76,+'5.Variables'!$M82,+IF(M$18='5.Variables'!$B$90,+'5.Variables'!$M96,+IF(M$18='5.Variables'!$B$104,+'5.Variables'!$M110,0)))))) -> 30 | N78: =IF(N$18='5.Variables'!$B$16,+'5.Variables'!$M30,+IF(N$18='5.Variables'!$B$39,+'5.Variables'!$M54,+IF(N$18='5.Variables'!$B$62,+'5.Variables'!$M68,+IF(N$18='5.Variables'!$B$76,+'5.Variables'!$M82,+IF(N$18='5.Variables'!$B$90,+'5.Variables'!$M96,+IF(N$18='5.Variables'!$B$104,+'5.Variables'!$M110,0)))))) -> 138.37 | O78: =IF(O$18='5.Variables'!$B$16,+'5.Variables'!$M30,+IF(O$18='5.Variables'!$B$39,+'5.Variables'!$M54,+IF(O$18='5.Variables'!$B$62,+'5.Variables'!$M68,+IF(O$18='5.Variables'!$B$76,+'5.Variables'!$M82,+IF(O$18='5.Variables'!$B$90,+'5.Variables'!$M96,+IF(O$18='5.Variables'!$B$104,+'5.Variables'!$M110,0)))))) -> 0 | P78: =IF(P$18='5.Variables'!$B$16,+'5.Variables'!$M30,+IF(P$18='5.Variables'!$B$39,+'5.Variables'!$M54,+IF(P$18='5.Variables'!$B$62,+'5.Variables'!$M68,+IF(P$18='5.Variables'!$B$76,+'5.Variables'!$M82,+IF(P$18='5.Variables'!$B$90,+'5.Variables'!$M96,+IF(P$18='5.Variables'!$B$104,+'5.Variables'!$M110,0)))))) -> 336 | R78: =$V$34+(K78*$V$35)+(L78*$V$36)+(M78*$V$37)+(N78*$V$38)+(O78*$V$39)+(P78*$V$40) -> 20476190
A79: =+A78+1 -> 60 | B79: =CONCATENATE('3. Consumption by Rate Class'!B84,"-",'3. Consumption by Rate Class'!C84) -> 2010-December | C79: 23903359 | E79: 1054100 | J79: =C79-D79-E79+F79+G79 -> 22849259 | K79: =IF(K$18='5.Variables'!$B$16,+'5.Variables'!$N31,+IF(K$18='5.Variables'!$B$39,+'5.Variables'!$N54,+IF(K$18='5.Variables'!$B$62,+'5.Variables'!$N68,+IF(K$18='5.Variables'!$B$76,+'5.Variables'!$N82,+IF(K$18='5.Variables'!$B$90,+'5.Variables'!$N96,+IF(K$18='5.Variables'!$B$104,+'5.Variables'!$N110,0)))))) -> 676.5 | L79: =IF(L$18='5.Variables'!$B$16,+'5.Variables'!$N30,+IF(L$18='5.Variables'!$B$39,+'5.Variables'!$N54,+IF(L$18='5.Variables'!$B$62,+'5.Variables'!$N68,+IF(L$18='5.Variables'!$B$76,+'5.Variables'!$N82,+IF(L$18='5.Variables'!$B$90,+'5.Variables'!$N96,+IF(L$18='5.Variables'!$B$104,+'5.Variables'!$N110,0)))))) -> 0 | M79: =IF(M$18='5.Variables'!$B$16,+'5.Variables'!$N30,+IF(M$18='5.Variables'!$B$39,+'5.Variables'!$N54,+IF(M$18='5.Variables'!$B$62,+'5.Variables'!$N68,+IF(M$18='5.Variables'!$B$76,+'5.Variables'!$N82,+IF(M$18='5.Variables'!$B$90,+'5.Variables'!$N96,+IF(M$18='5.Variables'!$B$104,+'5.Variables'!$N110,0)))))) -> 31 | N79: =IF(N$18='5.Variables'!$B$16,+'5.Variables'!$N30,+IF(N$18='5.Variables'!$B$39,+'5.Variables'!$N54,+IF(N$18='5.Variables'!$B$62,+'5.Variables'!$N68,+IF(N$18='5.Variables'!$B$76,+'5.Variables'!$N82,+IF(N$18='5.Variables'!$B$90,+'5.Variables'!$N96,+IF(N$18='5.Variables'!$B$104,+'5.Variables'!$N110,0)))))) -> 138.67 | O79: =IF(O$18='5.Variables'!$B$16,+'5.Variables'!$N30,+IF(O$18='5.Variables'!$B$39,+'5.Variables'!$N54,+IF(O$18='5.Variables'!$B$62,+'5.Variables'!$N68,+IF(O$18='5.Variables'!$B$76,+'5.Variables'!$N82,+IF(O$18='5.Variables'!$B$90,+'5.Variables'!$N96,+IF(O$18='5.Variables'!$B$104,+'5.Variables'!$N110,0)))))) -> 0 | P79: =IF(P$18='5.Variables'!$B$16,+'5.Variables'!$N30,+IF(P$18='5.Variables'!$B$39,+'5.Variables'!$N54,+IF(P$18='5.Variables'!$B$62,+'5.Variables'!$N68,+IF(P$18='5.Variables'!$B$76,+'5.Variables'!$N82,+IF(P$18='5.Variables'!$B$90,+'5.Variables'!$N96,+IF(P$18='5.Variables'!$B$104,+'5.Variables'!$N110,0)))))) -> 368 | R79: =$V$34+(K79*$V$35)+(L79*$V$36)+(M79*$V$37)+(N79*$V$38)+(O79*$V$39)+(P79*$V$40) -> 22830797 | S79: =SUM(R68:R79) -> 2.4720539e+08
