Workbook
Name AllVariables: '5.Variables'!$B$120:$B$125
Name Variable1: '5.Variables'!$B$16
Name Variable2: '5.Variables'!$B$39
Name Variable3: '5.Variables'!$B$62
Name Variable5: '5.Variables'!$B$90
Name Variable6: '5.Variables'!$B$104

Sheet 1. LDC Info
A1: Load Forecast Model version 1.0 © CHEC
B11: LDC Info
B13: Utility Name
B15: Service Territory
B17: Assigned EB Number
B19: Name of Contact and Title
B21: Phone Number
B23: Email Address
B25: Bridge Year | F25: 2016
B27: Test Year | F27: 2017
B29: Last Rebasing Year | F29: 2013
B32: Model Notes
B33: Input cells
B34: Drop down cells

Sheet 2. Customer Classes
A1: Load Forecast Model version 1.0 © CHEC
B11: Customer Classes
B13: Customer Class Name | C13: Energy (kWh) Weather Sensitive / Non-weather sensitive | D13: Demand (kW) Weather Sensitive / Non-weather sensitive
B14: Residential | C14: Weather-Sensitive | D14: n/a | F14: Enter Only Customer Clasess in which Distribution Volumetric is billed in kWh | I14: kWh
B15: General Service < 50 kW | C15: Weather-Sensitive | D15: n/a | I15: kWh
B16: Unmetered Scattered Load | C16: Weather-Sensitive | D16: Non-Weather Sensitive | I16: kWh
C17: n/a | D17: n/a
B18: General Service > 50 kW - 2999 kW | C18: Weather-Sensitive | D18: Non-Weather Sensitive | F18: Enter Only Customer Clasess in which Distribution Volumetric is billed in kW | I18: kW
B19: Streetlighting | C19: Non-Weather Sensitive | D19: Non-Weather Sensitive | I19: kW
B20: Sentinel Lighting | C20: Non-Weather Sensitive | D20: Non-Weather Sensitive | I20: kW
B21: General Service 3000-4999 kW | C21: Non-Weather Sensitive | D21: Non-Weather Sensitive | I21: kW
B22: other | C22: n/a | D22: n/a
B23: other | C23: n/a | D23: n/a

Sheet 3. Consumption by Rate Class
A1: Load Forecast Model version 1.0 © CHEC
B11: Consumption by Rate Class
B12: Notes:
B13: 1) "Wholesale" purchases are purchases measured at the wholesale meter.
B14: 2) "Metered" or Class consumption is monthly usage measured at the retail meter, unadjusted for losses (i.e., the retail consumption amount)
B15: 3) "Consumed" consumption (retail) is the uplifted consumption billed
B16: 4) Number of customers is defined as number of connections (i.e., meters). Add or delete rate classes as appropriate.
B18: Consumption should reflect usage in the month, not the month in which it was billed (e.g what was used in January not what was billed in January, etc.).
D20: ='2. Customer Classes'!B14 -> Residential | F20: ='2. Customer Classes'!B15 -> General Service < 50 kW | H20: =+'2. Customer Classes'!B16 -> Unmetered Scattered Load | J20: =+'2. Customer Classes'!B17 -> 0 | L20: ='2. Customer Classes'!B18 -> General Service > 50 kW - 2999 kW | O20: ='2. Customer Classes'!B19 -> Streetlighting | R20: ='2. Customer Classes'!B20 -> Sentinel Lighting | U20: ='2. Customer Classes'!B21 -> General Service 3000-4999 kW | X20: ='2. Customer Classes'!B22 -> other | Z20: ='2. Customer Classes'!B23 -> other
D21: Unadjusted | F21: Unadjusted | H21: Unadjusted | J21: Unadjusted | L21: Unadjusted | O21: Unadjusted | R21: Unadjusted | U21: Unadjusted | X21: Unadjusted | Z21: Unadjusted
E22: Customer | G22: Customer | I22: Customer | K22: Customer | N22: Customer | Q22: Customer | T22: Customer | W22: Customer | Y22: Customer | AA22: Customer
D23: kWh | E23: Connections | F23: kWh | G23: Connections | H23: kWh | I23: Connections | J23: kWh | K23: Connections | L23: kWh | M23: kW | N23: Connections | O23: kWh | P23: kW | Q23: Connections | R23: kWh | S23: kW | T23: Connections | U23: kWh | V23: kW | W23: Connections | X23: kWh | Y23: Connections | Z23: kWh | AA23: Connections
B24: Year | C24: Montth
B25: ='1. LDC Info'!$F$27-11 -> 2006 | C25: January | D25: 7300752 | E25: 7627 | F25: 2930015 | G25: 1029 | H25: 48281 | I25: 58 | L25: 10265894 | M25: 25126.3 | N25: 149 | O25: 202108 | P25: 434.6 | Q25: 2649 | R25: 5005.9821 | S25: 13.905506 | T25: 55 | U25: 1773711 | V25: 4008.1 | W25: 1
B26: ='1. LDC Info'!$F$27-11 -> 2006 | C26: February | D26: 6348471 | E26: 7656 | F26: 2761922 | G26: 1038 | H26: 48281 | I26: 58 | L26: 9772851 | M26: 24406.6 | N26: 140 | O26: 167336 | P26: 434.6 | Q26: 2657 | R26: 5554.0179 | S26: 15.427827 | T26: 55 | U26: 2088608 | V26: 4977.1 | W26: 1
B27: ='1. LDC Info'!$F$27-11 -> 2006 | C27: March | D27: 6372359 | E27: 7656 | F27: 2913477 | G27: 1036 | H27: 49841 | I27: 58 | L27: 10557668 | M27: 24256.6 | N27: 140 | O27: 169024 | P27: 434.8 | Q27: 2657 | R27: 4806.6071 | S27: 13.351687 | T27: 55 | U27: 2656351 | V27: 4972.4 | W27: 1
B28: ='1. LDC Info'!$F$27-11 -> 2006 | C28: April | D28: 5389827 | E28: 7686 | F28: 2529409 | G28: 1043 | H28: 49660.778 | I28: 58 | L28: 9685903 | M28: 24940.7 | N28: 140 | O28: 143611.82 | P28: 434.8 | Q28: 2657 | R28: 6492.7417 | S28: 18.100845 | T28: 55 | U28: 2554129 | V28: 4608.6 | W28: 1
B29: ='1. LDC Info'!$F$27-11 -> 2006 | C29: May | D29: 5080428 | E29: 7692 | F29: 2528254 | G29: 1043 | H29: 49841 | I29: 58 | L29: 9983253 | M29: 24060.5 | N29: 140 | O29: 131959 | P29: 434.8 | Q29: 2677 | R29: 5170.8696 | S29: 14.363527 | T29: 55 | U29: 2231737 | V29: 4333 | W29: 1
B30: ='1. LDC Info'!$F$27-11 -> 2006 | C30: June | D30: 5168425 | E30: 7703 | F30: 2645963 | G30: 1042 | H30: 49841 | I30: 78 | L30: 10241009 | M30: 25334.4 | N30: 140 | O30: 117817 | P30: 435.2 | Q30: 2677 | R30: 7893.9545 | S30: 21.927652 | T30: 55 | U30: 2396213 | V30: 4523.4 | W30: 1
B31: ='1. LDC Info'!$F$27-11 -> 2006 | C31: July | D31: 5687825 | E31: 7732 | F31: 2870298 | G31: 1042 | H31: 49841 | I31: 79 | L31: 10368462 | M31: 24997 | N31: 140 | O31: 124670 | P31: 435.2 | Q31: 2693 | R31: 7356.6 | S31: 20.435 | T31: 55 | U31: 1690009 | V31: 3806.2 | W31: 1
B32: ='1. LDC Info'!$F$27-11 -> 2006 | C32: August | D32: 5571804 | E32: 7737 | F32: 2779493 | G32: 1047 | H32: 49841 | I32: 79 | L32: 10464948 | M32: 25681.4 | N32: 140 | O32: 141195 | P32: 435.5 | Q32: 2693 | R32: 7096.74 | S32: 19.713167 | T32: 55 | U32: 1809678 | V32: 4296.4 | W32: 1
B33: ='1. LDC Info'!$F$27-11 -> 2006 | C33: September | D33: 5073158 | E33: 7757 | F33: 2447829 | G33: 1045 | H33: 49841 | I33: 79 | L33: 9997621 | M33: 25546.6 | N33: 140 | O33: 152952 | P33: 435.5 | Q33: 2693 | R33: 7024.76 | S33: 19.513222 | T33: 55 | U33: 1560923 | V33: 3464.9 | W33: 1
B34: ='1. LDC Info'!$F$27-11 -> 2006 | C34: October | D34: 5463031 | E34: 7798 | F34: 2506700 | G34: 1046 | H34: 49841 | I34: 79 | L34: 10128900 | M34: 24925.2 | N34: 140 | O34: 178208 | P34: 435.5 | Q34: 2693 | R34: 6318.5 | S34: 17.551389 | T34: 55 | U34: 1423298 | V34: 3193.2 | W34: 1
B35: ='1. LDC Info'!$F$27-11 -> 2006 | C35: November | D35: 5992249 | E35: 7781 | F35: 2605868 | G35: 1041 | H35: 49841 | I35: 79 | L35: 9888279 | M35: 24552.9 | N35: 140 | O35: 188876 | P35: 435.5 | Q35: 2693 | R35: 6220 | S35: 17.277778 | T35: 55 | U35: 1844230 | V35: 3447.85 | W35: 1
B36: ='1. LDC Info'!$F$27-11 -> 2006 | C36: December | D36: 6894335 | E36: 7781 | F36: 2853942 | G36: 1044 | H36: 50300 | I36: 79 | L36: 9620914 | M36: 23649.1 | N36: 142 | O36: 205533 | P36: 435.5 | Q36: 2693 | R36: 7122.9231 | S36: 19.785897 | T36: 55 | U36: 1414303 | V36: 2847.8 | W36: 1
B37: ='1. LDC Info'!$F$27-10 -> 2007 | C37: January | D37: 7474072 | E37: 7806 | F37: 2958704 | G37: 1042 | H37: 50300 | I37: 80 | L37: 10302859 | M37: 24192.9 | N37: 142 | O37: 202485 | P37: 435.5 | Q37: 2693 | R37: 5061.3462 | S37: 14.059295 | T37: 55 | U37: 1825623 | V37: 3706.2 | W37: 1
B38: ='1. LDC Info'!$F$27-10 -> 2007 | C38: February | D38: 6905296 | E38: 7806 | F38: 3042367 | G38: 1058 | H38: 50300 | I38: 80 | L38: 9896543 | M38: 24741.5 | N38: 131 | O38: 167649 | P38: 435.5 | Q38: 2693 | R38: 7041.7692 | S38: 19.56047 | T38: 55 | U38: 1915433 | V38: 4300.5 | W38: 1
B39: ='1. LDC Info'!$F$27-10 -> 2007 | C39: March | D39: 6959117 | E39: 7808 | F39: 3159610 | G39: 1057 | H39: 50300 | I39: 80 | L39: 10659680 | M39: 25079.3 | N39: 131 | O39: 169281 | P39: 435.5 | Q39: 2693 | R39: 7349.3846 | S39: 20.414957 | T39: 55 | U39: 2426025 | V39: 4487.2 | W39: 1
B40: ='1. LDC Info'!$F$27-10 -> 2007 | C40: April | D40: 5686517 | E40: 7805 | F40: 2680164 | G40: 1050 | H40: 50300 | I40: 82 | L40: 9498379 | M40: 24263.7 | N40: 130 | O40: 144352 | P40: 435.5 | Q40: 2693 | R40: 7796.4878 | S40: 21.656911 | T40: 55 | U40: 2464608 | V40: 4764.7 | W40: 1
B41: ='1. LDC Info'!$F$27-10 -> 2007 | C41: May | D41: 5201753 | E41: 7808 | F41: 2632488 | G41: 1039 | H41: 50300 | I41: 82 | L41: 9577169 | M41: 23771.2 | N41: 129 | O41: 132159 | P41: 435.5 | Q41: 2693 | R41: 3116.76 | S41: 8.6576667 | T41: 55 | U41: 2207305 | V41: 4345.3 | W41: 1
B42: ='1. LDC Info'!$F$27-10 -> 2007 | C42: June | D42: 5104206 | E42: 7811 | F42: 2713078 | G42: 1038 | H42: 50300 | I42: 80 | L42: 10263136 | M42: 25232.8 | N42: 129 | O42: 117898 | P42: 435.5 | Q42: 2693 | R42: 6370.0976 | S42: 17.694715 | T42: 55 | U42: 1558995.9 | V42: 4405.9 | W42: 1
B43: ='1. LDC Info'!$F$27-10 -> 2007 | C43: July | D43: 5541854 | E43: 7813 | F43: 2861486 | G43: 1037 | H43: 50300 | I43: 80 | L43: 9983112 | M43: 25114.5 | N43: 130 | O43: 124756 | P43: 435.5 | Q43: 2693 | R43: 5282.5588 | S43: 14.673775 | T43: 55 | U43: 1016601 | V43: 2468.5 | W43: 1
B44: ='1. LDC Info'!$F$27-10 -> 2007 | C44: August | D44: 5563548 | E44: 7854 | F44: 2891889 | G44: 1034 | H44: 50300 | I44: 80 | L44: 10907434 | M44: 25443.1 | N44: 130 | O44: 141195 | P44: 435.5 | Q44: 2693 | R44: 7581 | S44: 21.058333 | T44: 55 | U44: 1281199.6 | V44: 2700 | W44: 1
B45: ='1. LDC Info'!$F$27-10 -> 2007 | C45: September | D45: 5096979 | E45: 7872 | F45: 2651573 | G45: 1037 | H45: 50300 | I45: 80 | L45: 10588626 | M45: 25461.4 | N45: 132 | O45: 152952 | P45: 435.5 | Q45: 2693 | R45: 7245.3333 | S45: 20.125926 | T45: 55 | U45: 1330747.2 | V45: 5218 | W45: 1
B46: ='1. LDC Info'!$F$27-10 -> 2007 | C46: October | D46: 5337475 | E46: 7875 | F46: 2688452 | G46: 1041 | H46: 50300 | I46: 80 | L46: 10688243 | M46: 25262.6 | N46: 132 | O46: 178208 | P46: 435.5 | Q46: 2693 | R46: 7139.25 | S46: 19.83125 | T46: 55 | U46: 1439149.3 | V46: 2880.4 | W46: 1
B47: ='1. LDC Info'!$F$27-10 -> 2007 | C47: November | D47: 6070463 | E47: 7879 | F47: 2822735 | G47: 1047 | H47: 51164 | I47: 81 | L47: 10410695 | M47: 25206.2 | N47: 132 | O47: 188876 | P47: 435.5 | Q47: 2792 | R47: 6430.9412 | S47: 17.863725 | T47: 55 | U47: 1692527.8 | V47: 3570.9 | W47: 1
B48: ='1. LDC Info'!$F$27-10 -> 2007 | C48: December | D48: 7160075 | E48: 7878 | F48: 3020385 | G48: 1044 | H48: 51164 | I48: 81 | L48: 9641305 | M48: 27039.9 | N48: 153 | O48: 212117 | P48: 449.4 | Q48: 2793 | R48: 6027.2222 | S48: 16.742284 | T48: 55 | U48: 1425400.3 | V48: 3379 | W48: 1
B49: ='1. LDC Info'!$F$27-9 -> 2008 | C49: January | D49: 7483894 | E49: 7889 | F49: 3377051 | G49: 1043 | H49: 51164 | I49: 82 | L49: 10485719 | M49: 25249.4 | N49: 132 | O49: 208972 | P49: 449.4 | Q49: 2793 | R49: 6673.75 | S49: 18.538194 | T49: 55 | U49: 2132961 | V49: 4242.9 | W49: 1
B50: ='1. LDC Info'!$F$27-9 -> 2008 | C50: February | D50: 6878615 | E50: 7892 | F50: 3032937 | G50: 1041 | H50: 50446 | I50: 83 | L50: 10240909 | M50: 25006.4 | N50: 132 | O50: 179198 | P50: 449.4 | Q50: 2793 | R50: 8038.7812 | S50: 22.329948 | T50: 55 | U50: 1768153 | V50: 3792.6 | W50: 1
B51: ='1. LDC Info'!$F$27-9 -> 2008 | C51: March | D51: 6751127 | E51: 7895 | F51: 3033738 | G51: 1039 | H51: 57935 | I51: 92 | L51: 10387412 | M51: 25006.8 | N51: 133 | O51: 172196 | P51: 443 | Q51: 2793 | R51: 6652.1111 | S51: 18.478086 | T51: 55 | U51: 1674289 | V51: 3523.9 | W51: 1
...

Sheet 4. Customer Growth
A1: Load Forecast Model version 1.0 © CHEC
B11: Customer Growth Chart
B12: Notes:
B13: 1) Utilities will have the choice to manually adjust the projected growth in the bridge and test years if it is felt that the Geomean average does not represent forecasted growth.
C15: ='2. Customer Classes'!B14 -> Residential | E15: ='2. Customer Classes'!B15 -> General Service < 50 kW | G15: ='2. Customer Classes'!B16 -> Unmetered Scattered Load | I15: ='2. Customer Classes'!B17 -> 0 | K15: ='2. Customer Classes'!B18 -> General Service > 50 kW - 2999 kW | M15: ='2. Customer Classes'!B19 -> Streetlighting | O15: ='2. Customer Classes'!B20 -> Sentinel Lighting | Q15: ='2. Customer Classes'!B21 -> General Service 3000-4999 kW | S15: ='2. Customer Classes'!B22 -> other | V15: Total Customers
B16: Date | C16: Customers or Connections | D16: Growth Rate | E16: Customers or Connections | F16: Growth Rate | G16: Customers or Connections | H16: Growth Rate | K16: Customers or Connections | L16: Growth Rate | M16: Customers or Connections | N16: Growth Rate | O16: Customers or Connections | P16: Growth Rate | Q16: Customers or Connections | R16: Growth Rate | S16: Customers or Connections | T16: Growth Rate | V16: Customers & Connections | W16: Growth Rate
B17: ='1. LDC Info'!F25-10 -> 2006 | C17: =AVERAGE('3. Consumption by Rate Class'!E25,'3. Consumption by Rate Class'!E36) -> 7704 | E17: =AVERAGE('3. Consumption by Rate Class'!G25,'3. Consumption by Rate Class'!G36) -> 1036.5 | G17: =AVERAGE('3. Consumption by Rate Class'!I25,'3. Consumption by Rate Class'!I36) -> 68.5 | K17: =AVERAGE('3. Consumption by Rate Class'!N25,'3. Consumption by Rate Class'!N36) -> 145.5 | M17: =IF(SUM('3. Consumption by Rate Class'!Q25:Q36)>0,+AVERAGE('3. Consumption by Rate Class'!Q25,'3. Consumption by Rate Class'!Q36),0) -> 2671 | O17: =AVERAGE('3. Consumption by Rate Class'!T25,'3. Consumption by Rate Class'!T36) -> 55 | Q17: 1 | V17: =+C17+E17+G17+I17+K17+M17+O17+Q17 -> 11681.5
B18: ='1. LDC Info'!F25-9 -> 2007 | C18: =AVERAGE('3. Consumption by Rate Class'!E37,'3. Consumption by Rate Class'!E48) -> 7842 | D18: =C18/C17 -> 1.0179128 | E18: =AVERAGE('3. Consumption by Rate Class'!G37,'3. Consumption by Rate Class'!G48) -> 1043 | F18: =E18/E17 -> 1.0062711 | G18: =AVERAGE('3. Consumption by Rate Class'!I37,'3. Consumption by Rate Class'!I48) -> 80.5 | H18: =G18/G17 -> 1.1751825 | K18: =AVERAGE('3. Consumption by Rate Class'!N37,'3. Consumption by Rate Class'!N48) -> 147.5 | L18: =K18/K17 -> 1.0137457 | M18: =IF(SUM('3. Consumption by Rate Class'!Q37:Q48)>0,+AVERAGE('3. Consumption by Rate Class'!Q37,'3. Consumption by Rate Class'!Q48),0) -> 2743 | N18: =IF(M18>0,+M18/M17,0) -> 1.0269562 | O18: =AVERAGE('3. Consumption by Rate Class'!T37,'3. Consumption by Rate Class'!T48) -> 55 | P18: =O18/O17 -> 1 | Q18: 1 | R18: =Q18/Q17 -> 1 | V18: =+C18+E18+G18+I18+K18+M18+O18+Q18 -> 11912 | W18: =V18/V17 -> 1.0197321
B19: ='1. LDC Info'!F25-8 -> 2008 | C19: =AVERAGE('3. Consumption by Rate Class'!E49,'3. Consumption by Rate Class'!E60) -> 7956 | D19: =C19/C18 -> 1.0145371 | E19: =AVERAGE('3. Consumption by Rate Class'!G49,'3. Consumption by Rate Class'!G60) -> 1047.5 | F19: =E19/E18 -> 1.0043145 | G19: =AVERAGE('3. Consumption by Rate Class'!I49,'3. Consumption by Rate Class'!I60) -> 90 | H19: =G19/G18 -> 1.1180124 | K19: =AVERAGE('3. Consumption by Rate Class'!N49,'3. Consumption by Rate Class'!N60) -> 133 | L19: =K19/K18 -> 0.90169492 | M19: =IF(SUM('3. Consumption by Rate Class'!Q49:Q60)>0,+AVERAGE('3. Consumption by Rate Class'!Q49,'3. Consumption by Rate Class'!Q60),0) -> 2793 | N19: =IF(M19>0,+M19/M18,0) -> 1.0182282 | O19: =AVERAGE('3. Consumption by Rate Class'!T49,'3. Consumption by Rate Class'!T60) -> 58 | P19: =O19/O18 -> 1.0545455 | Q19: 1 | R19: =Q19/Q18 -> 1 | V19: =+C19+E19+G19+I19+K19+M19+O19+Q19 -> 12078.5 | W19: =V19/V18 -> 1.0139775
B20: ='1. LDC Info'!F25-7 -> 2009 | C20: =AVERAGE('3. Consumption by Rate Class'!E61,'3. Consumption by Rate Class'!E72) -> 8187.5 | D20: =C20/C19 -> 1.0290975 | E20: =AVERAGE('3. Consumption by Rate Class'!G61,'3. Consumption by Rate Class'!G72) -> 1062.5 | F20: =E20/E19 -> 1.0143198 | G20: =AVERAGE('3. Consumption by Rate Class'!I61,'3. Consumption by Rate Class'!I72) -> 95.5 | H20: =G20/G19 -> 1.0611111 | K20: =AVERAGE('3. Consumption by Rate Class'!N61,'3. Consumption by Rate Class'!N72) -> 129.5 | L20: =K20/K19 -> 0.97368421 | M20: =IF(SUM('3. Consumption by Rate Class'!Q61:Q72)>0,+AVERAGE('3. Consumption by Rate Class'!Q61,'3. Consumption by Rate Class'!Q72),0) -> 2815.5 | N20: =IF(M20>0,+M20/M19,0) -> 1.0080559 | O20: =AVERAGE('3. Consumption by Rate Class'!T61,'3. Consumption by Rate Class'!T72) -> 59.5 | P20: =O20/O19 -> 1.0258621 | Q20: 1 | R20: =Q20/Q19 -> 1 | V20: =+C20+E20+G20+I20+K20+M20+O20+Q20 -> 12351 | W20: =V20/V19 -> 1.0225607
B21: ='1. LDC Info'!F25-6 -> 2010 | C21: =AVERAGE('3. Consumption by Rate Class'!E73,'3. Consumption by Rate Class'!E84) -> 8296.5 | D21: =C21/C20 -> 1.013313 | E21: =AVERAGE('3. Consumption by Rate Class'!G73,'3. Consumption by Rate Class'!G84) -> 1068.5 | F21: =E21/E20 -> 1.0056471 | G21: =AVERAGE('3. Consumption by Rate Class'!I73,'3. Consumption by Rate Class'!I84) -> 95 | H21: =G21/G20 -> 0.9947644 | K21: =AVERAGE('3. Consumption by Rate Class'!N73,'3. Consumption by Rate Class'!N84) -> 131 | L21: =K21/K20 -> 1.011583 | M21: =IF(SUM('3. Consumption by Rate Class'!Q73:Q84)>0,+AVERAGE('3. Consumption by Rate Class'!Q73,'3. Consumption by Rate Class'!Q84),0) -> 2752 | N21: =IF(M21>0,+M21/M20,0) -> 0.97744628 | O21: =AVERAGE('3. Consumption by Rate Class'!T73,'3. Consumption by Rate Class'!T84) -> 55 | P21: =O21/O20 -> 0.92436975 | Q21: 1 | R21: =Q21/Q20 -> 1 | V21: =+C21+E21+G21+I21+K21+M21+O21+Q21 -> 12399 | W21: =V21/V20 -> 1.0038863
B22: ='1. LDC Info'!F25-5 -> 2011 | C22: =AVERAGE('3. Consumption by Rate Class'!E85,'3. Consumption by Rate Class'!E96) -> 8425 | D22: =C22/C21 -> 1.0154885 | E22: =AVERAGE('3. Consumption by Rate Class'!G85,'3. Consumption by Rate Class'!G96) -> 1072.5 | F22: =E22/E21 -> 1.0037436 | G22: =AVERAGE('3. Consumption by Rate Class'!I85,'3. Consumption by Rate Class'!I96) -> 96 | H22: =G22/G21 -> 1.0105263 | K22: =AVERAGE('3. Consumption by Rate Class'!N85,'3. Consumption by Rate Class'!N96) -> 131.5 | L22: =K22/K21 -> 1.0038168 | M22: =IF(SUM('3. Consumption by Rate Class'!Q85:Q96)>0,+AVERAGE('3. Consumption by Rate Class'!Q85,'3. Consumption by Rate Class'!Q96),0) -> 2759 | N22: =IF(M22>0,+M22/M21,0) -> 1.0025436 | O22: =AVERAGE('3. Consumption by Rate Class'!T85,'3. Consumption by Rate Class'!T96) -> 53 | P22: =O22/O21 -> 0.96363636 | Q22: 1 | R22: =Q22/Q21 -> 1 | V22: =+C22+E22+G22+I22+K22+M22+O22+Q22 -> 12538 | W22: =V22/V21 -> 1.0112106
B23: ='1. LDC Info'!F25-4 -> 2012 | C23: =AVERAGE('3. Consumption by Rate Class'!E97,'3. Consumption by Rate Class'!E108) -> 8525 | D23: =C23/C22 -> 1.0118694 | E23: =AVERAGE('3. Consumption by Rate Class'!G97,'3. Consumption by Rate Class'!G108) -> 1067 | F23: =E23/E22 -> 0.99487179 | G23: =AVERAGE('3. Consumption by Rate Class'!I97,'3. Consumption by Rate Class'!I108) -> 94.5 | H23: =G23/G22 -> 0.984375 | K23: =AVERAGE('3. Consumption by Rate Class'!N97,'3. Consumption by Rate Class'!N108) -> 137 | L23: =K23/K22 -> 1.0418251 | M23: =IF(SUM('3. Consumption by Rate Class'!Q97:Q108)>0,+AVERAGE('3. Consumption by Rate Class'!Q97,'3. Consumption by Rate Class'!Q108),0) -> 2802 | N23: =IF(M23>0,+M23/M22,0) -> 1.0155854 | O23: =AVERAGE('3. Consumption by Rate Class'!T97,'3. Consumption by Rate Class'!T108) -> 54 | P23: =O23/O22 -> 1.0188679 | Q23: 1 | R23: =Q23/Q22 -> 1 | V23: =+C23+E23+G23+I23+K23+M23+O23+Q23 -> 12680.5 | W23: =V23/V22 -> 1.0113654
B24: ='1. LDC Info'!F25-3 -> 2013 | C24: =AVERAGE('3. Consumption by Rate Class'!E109,'3. Consumption by Rate Class'!E120) -> 8627 | D24: =C24/C23 -> 1.0119648 | E24: =AVERAGE('3. Consumption by Rate Class'!G109,'3. Consumption by Rate Class'!G120) -> 1058 | F24: =E24/E23 -> 0.99156514 | G24: =AVERAGE('3. Consumption by Rate Class'!I109,'3. Consumption by Rate Class'!I120) -> 93.5 | H24: =G24/G23 -> 0.98941799 | K24: =AVERAGE('3. Consumption by Rate Class'!N109,'3. Consumption by Rate Class'!N120) -> 141.5 | L24: =K24/K23 -> 1.0328467 | M24: =IF(SUM('3. Consumption by Rate Class'!Q109:Q120)>0,+AVERAGE('3. Consumption by Rate Class'!Q109,'3. Consumption by Rate Class'!Q120),0) -> 2862 | N24: =IF(M24>0,+M24/M23,0) -> 1.0214133 | O24: =AVERAGE('3. Consumption by Rate Class'!T109,'3. Consumption by Rate Class'!T120) -> 54 | P24: =O24/O23 -> 1 | Q24: 1 | R24: =Q24/Q23 -> 1 | V24: =+C24+E24+G24+I24+K24+M24+O24+Q24 -> 12837 | W24: =V24/V23 -> 1.0123418
B25: ='1. LDC Info'!F25-2 -> 2014 | C25: =AVERAGE('3. Consumption by Rate Class'!E121,'3. Consumption by Rate Class'!E132) -> 8760.5 | D25: =C25/C24 -> 1.0154747 | E25: =AVERAGE('3. Consumption by Rate Class'!G121,'3. Consumption by Rate Class'!G132) -> 1068.5 | F25: =E25/E24 -> 1.0099244 | G25: =AVERAGE('3. Consumption by Rate Class'!I121,'3. Consumption by Rate Class'!I132) -> 93 | H25: =G25/G24 -> 0.99465241 | K25: =AVERAGE('3. Consumption by Rate Class'!N121,'3. Consumption by Rate Class'!N132) -> 138 | L25: =K25/K24 -> 0.97526502 | M25: =IF(SUM('3. Consumption by Rate Class'!Q121:Q132)>0,+AVERAGE('3. Consumption by Rate Class'!Q121,'3. Consumption by Rate Class'!Q132),0) -> 2634 | N25: =IF(M25>0,+M25/M24,0) -> 0.92033543 | O25: =AVERAGE('3. Consumption by Rate Class'!T121,'3. Consumption by Rate Class'!T132) -> 54 | P25: =O25/O24 -> 1 | Q25: 1 | R25: =Q25/Q24 -> 1 | V25: =+C25+E25+G25+I25+K25+M25+O25+Q25 -> 12749 | W25: =V25/V24 -> 0.99314482
B26: ='1. LDC Info'!F25-1 -> 2015 | C26: =AVERAGE('3. Consumption by Rate Class'!E133,'3. Consumption by Rate Class'!E144) -> 8885 | D26: =C26/C25 -> 1.0142115 | E26: =AVERAGE('3. Consumption by Rate Class'!G133,'3. Consumption by Rate Class'!G144) -> 1077.5 | F26: =E26/E25 -> 1.008423 | G26: =AVERAGE('3. Consumption by Rate Class'!I133,'3. Consumption by Rate Class'!I144) -> 90 | H26: =G26/G25 -> 0.96774194 | K26: =AVERAGE('3. Consumption by Rate Class'!N133,'3. Consumption by Rate Class'!N144) -> 134 | L26: =K26/K25 -> 0.97101449 | M26: =IF(SUM('3. Consumption by Rate Class'!Q132:Q144)>0,+AVERAGE('3. Consumption by Rate Class'!Q133,'3. Consumption by Rate Class'!Q144),0) -> 2694 | N26: =IF(M26>0,+M26/M25,0) -> 1.022779 | O26: =AVERAGE('3. Consumption by Rate Class'!T133,'3. Consumption by Rate Class'!T144) -> 54 | P26: =O26/O25 -> 1 | Q26: 1 | R26: =Q26/Q25 -> 1 | V26: =+C26+E26+G26+I26+K26+M26+O26+Q26 -> 12935.5 | W26: =V26/V25 -> 1.0146286
B28: Geomean | D28: =GEOMEAN(D18:D26) -> 1.0159734 | F28: =GEOMEAN(F18:F26) -> 1.0043197 | H28: =GEOMEAN(H18:H26) -> 1.0307953 | L28: =GEOMEAN(L18:L26) -> 0.99089324 | N28: =IF(SUM(N18:N26)>0,+GEOMEAN(N18:N26),0) -> 1.0009531 | P28: =GEOMEAN(P18:P26) -> 0.99796328 | R28: =GEOMEAN(R18:R26) -> 1 | W28: =GEOMEAN(W18:W26) -> 1.0113943
B30: ='1. LDC Info'!F25 -> 2016 | C30: =C26*D28 -> 9026.9239 | E30: =E26*F28 -> 1082.1545 | G30: =G26*H28 -> 92.771579 | K30: =K26*L28 -> 132.77969 | M30: =M26*N28 -> 2696.5677 | O30: =O26*P28 -> 53.890017 | Q30: =Q26*R28 -> 1 | V30: =+C30+E30+G30+I30+K30+M30+O30+R30 -> 13085.087
B31: ='1. LDC Info'!F27 -> 2017 | C31: =C30*D28 -> 9171.1149 | E31: =E30*F28 -> 1086.8291 | G31: =G30*H28 -> 95.628509 | K31: =K30*L28 -> 131.5705 | M31: =M30*N28 -> 2699.1379 | O31: =O30*P28 -> 53.780259 | Q31: =Q30*R28 -> 1 | V31: =+C31+E31+G31+I31+K31+M31+O31+R31 -> 13238.061
B33: In the section below, LDCs can adjust the computed customer count for the Bridge and Test Year for special circumstance such as new subdivision or loss of customer or other utility specific reasons.
B35: Adjusted | V35: Adjusted
B36: ='1. LDC Info'!F25 -> 2016 | D36: =C36/C26 -> 0 | F36: =E36/E26 -> 0 | H36: =G36/G26 -> 0 | J36: =IF(I36>0,+I36/I26,0) -> 0 | L36: =K36/K26 -> 0 | N36: =IF(M36>0,+M36/M26,0) -> 0 | P36: =O36/O26 -> 0 | Q36: 0 | R36: =Q36/Q26 -> 0 | V36: =+C36+E36+G36+I36+K36+M36+O36 -> 0 | W36: =V36/V26 -> 0
B37: ='1. LDC Info'!F27 -> 2017 | D37: =IF(C37>0,+C37/C36,0) -> 0 | F37: =IF(E37>0,+E37/E36,0) -> 0 | H37: =IF(G37>0,+G37/G36,0) -> 0 | J37: =IF(I37>0,+I37/I36,0) -> 0 | L37: =IF(K37>0,+K37/K36,0) -> 0 | N37: =IF(M37>0,+M37/M36,0) -> 0 | P37: =IF(O37>0,+O37/O36,0) -> 0 | Q37: 0 | R37: =IF(Q37>0,+Q37/Q36,0) -> 0 | V37: =+C37+E37+G37+I37+K37+M37+O37 -> 0 | W37: =IF(V37>0,+V37/V36,0) -> 0
B39: Note: The model computes an average customer count. Utility may chose to overwrite the customer/connection count if a year end count is more appropriate.
B41: FINAL ADJUSTED NUMBERS | V41: Adjusted
B42: 2014 | C42: =IF(C36>0,+C36,C30) -> 9026.9239 | D42: =IF(D36>0,+D36,D28) -> 1.0159734 | E42: =IF(E36>0,+E36,E30) -> 1082.1545 | F42: =IF(F36>0,+F36,F28) -> 1.0043197 | G42: =IF(G36>0,+G36,G30) -> 92.771579 | H42: =IF(H36>0,+H36,H28) -> 1.0307953 | I42: =IF(I36>0,+I36,I30) -> 0 | J42: =IF(J36>0,+J36,J28) -> 0 | K42: =IF(K36>0,+K36,K30) -> 132.77969 | L42: =IF(L36>0,+L36,L28) -> 0.99089324 | M42: =IF(M36>0,+M36,M30) -> 2696.5677 | N42: =IF(N36>0,+N36,N28) -> 1.0009531 | O42: =IF(O36>0,+O36,O30) -> 53.890017 | P42: =IF(P36>0,+P36,P28) -> 0.99796328 | Q42: =IF(Q36>0,+Q36,Q30) -> 1 | R42: =IF(R36>0,+R36,R28) -> 1 | V42: =+C42+E42+G42+I42+K42+M42+O42 -> 13085.087 | W42: =IF(V36>1,+W36,W28) -> 1.0113943
B43: 2015 | C43: =IF(C37>0,+C37,C31) -> 9171.1149 | D43: =IF(D37>0,+D37,D28) -> 1.0159734 | E43: =IF(E37>0,+E37,E31) -> 1086.8291 | F43: =IF(F37>0,+F37,F28) -> 1.0043197 | G43: =IF(G37>0,+G37,G31) -> 95.628509 | H43: =IF(H37>0,+H37,H28) -> 1.0307953 | I43: =IF(I37>0,+I37,I31) -> 0 | J43: =IF(J37>0,+J37,J28) -> 0 | K43: =IF(K37>0,+K37,K31) -> 131.5705 | L43: =IF(L37>0,+L37,L28) -> 0.99089324 | M43: =IF(M37>0,+M37,M31) -> 2699.1379 | N43: =IF(N37>0,+N37,N28) -> 1.0009531 | O43: =IF(O37>0,+O37,O31) -> 53.780259 | P43: =IF(P37>0,+P37,P28) -> 0.99796328 | Q43: =IF(Q37>0,+Q37,Q31) -> 1 | R43: =IF(R37>0,+R37,R28) -> 1 | V43: =+C43+E43+G43+I43+K43+M43+O43 -> 13238.061 | W43: =IF(W37>1,+W37,W28) -> 1.0113943

Sheet 5.Variables
A1: Load Forecast Model version 1.0 © CHEC
B11: Variables
B12: Notes:
B13: 1) Enter Variables here that will be used to run the regression analysis in worksheet 6. WS Regression Analysis ( Maximum 6 variables) "Wholesale" purchases are purchases measured at the wholesale meter.
B14: Note: Your final regression analysis does not need to include all six of the variables Note: Your final regression analysis does not need to include all six of the variables
B16: HDD | C16: Jan | D16: Feb | E16: Mar | F16: Apr | G16: May | H16: Jun | I16: Jul | J16: Aug | K16: Sept | L16: Oct | M16: Nov | N16: Dec
B17: 1996 | C17: 761.8 | D17: 669.3 | E17: 625.5 | F17: 415.6 | G17: 252.7 | H17: 38.7 | I17: 12.9 | J17: 3.1 | K17: 65.5 | L17: 275.3 | M17: 513 | N17: 539
B18: ='1. LDC Info'!F27-20 -> 1997 | C18: 739 | D18: 582.8 | E18: 601.6 | F18: 389.4 | G18: 290 | H18: 33.3 | I18: 24.6 | J18: 17.1 | K18: 105.7 | L18: 293.7 | M18: 457.6 | N18: 578.6
B19: ='1. LDC Info'!F27-19 -> 1998 | C19: 639.3 | D19: 520.7 | E19: 518.8 | F19: 323.6 | G19: 78.8 | H19: 66.3 | I19: 4.6 | J19: 5.2 | K19: 56.3 | L19: 247.6 | M19: 419.1 | N19: 566.4
B20: ='1. LDC Info'!F27-18 -> 1999 | C20: 738.5 | D20: 551.8 | E20: 576.5 | F20: 335.6 | G20: 136.1 | H20: 36.1 | I20: 4.4 | J20: 14.9 | K20: 56.7 | L20: 269.1 | M20: 385.3 | N20: 586.6
B21: ='1. LDC Info'!F27-17 -> 2000 | C21: 678.5 | D21: 577 | E21: 473.9 | F21: 377.8 | G21: 193.7 | H21: 73.5 | I21: 16.9 | J21: 25.7 | K21: 124 | L21: 251.1 | M21: 432.2 | N21: 769.6
B22: ='1. LDC Info'!F27-16 -> 2001 | C22: 657.4 | D22: 601 | E22: 581.1 | F22: 335.8 | G22: 158.2 | H22: 51.1 | I22: 28 | J22: 3 | K22: 80.9 | L22: 263.8 | M22: 368.5 | N22: 521.1
B23: ='1. LDC Info'!F27-15 -> 2002 | C23: 573.8 | D23: 547.4 | E23: 474.8 | F23: 354 | G23: 261.9 | H23: 57.8 | I23: 5 | J23: 3 | K23: 35.8 | L23: 295.9 | M23: 446.6 | N23: 617.4
B24: ='1. LDC Info'!F27-14 -> 2003 | C24: 832.6 | D24: 713.4 | E24: 592.2 | F24: 435.4 | G24: 207.7 | H24: 65.4 | I24: 11.9 | J24: 9.7 | K24: 59.9 | L24: 325.6 | M24: 420.5 | N24: 606.4
B25: ='1. LDC Info'!F27-13 -> 2004 | C25: 872.6 | D25: 636.4 | E25: 519.9 | F25: 372.3 | G25: 205.4 | H25: 100.8 | I25: 14.7 | J25: 26.9 | K25: 50.3 | L25: 250.1 | M25: 411 | N25: 645.2
B26: ='1. LDC Info'!F27-12 -> 2005 | C26: 782.8 | D26: 631.3 | E26: 612.1 | F26: 362.5 | G26: 259.9 | H26: 40.7 | I26: 4.2 | J26: 1 | K26: 45.5 | L26: 251.9 | M26: 411.5 | N26: 668.4
B27: ='1. LDC Info'!F27-11 -> 2006 | C27: 589 | D27: 627.2 | E27: 564.4 | F27: 342.6 | G27: 192.1 | H27: 40.1 | I27: 5.9 | J27: 6.7 | K27: 103.3 | L27: 296.4 | M27: 390.9 | N27: 505.5 | Z27: =+$B$16 -> HDD
B28: ='1. LDC Info'!F27-10 -> 2007 | C28: 669.3 | D28: 728.2 | E28: 578.3 | F28: 401 | G28: 208.1 | H28: 45.4 | I28: 22.4 | J28: 12.1 | K28: 61.8 | L28: 165.8 | M28: 441.5 | N28: 648.3 | Z28: =+B39 -> CDD
B29: ='1. LDC Info'!F27-9 -> 2008 | C29: 633.3 | D29: 660.6 | E29: 632.3 | F29: 326.3 | G29: 253.6 | H29: 71 | I29: 9.4 | J29: 15.2 | K29: 73.5 | L29: 288.1 | M29: 459 | N29: 652.5 | Z29: =+B62 -> Number of Days in Month
B30: ='1. LDC Info'!F27-8 -> 2009 | C30: 823.9 | D30: 608.5 | E30: 568.1 | F30: 345.4 | G30: 231.1 | H30: 86.1 | I30: 41.5 | J30: 15.7 | K30: 70.1 | L30: 313.3 | M30: 361 | N30: 638.6 | Z30: =+B76 -> Employment Stats
B31: ='1. LDC Info'!F27-7 -> 2010 | C31: 718 | D31: 597.2 | E31: 450.7 | F31: 262.7 | G31: 160.4 | H31: 37.9 | I31: 5.1 | J31: 6 | K31: 99.9 | L31: 265.5 | M31: 412.1 | N31: 676.5 | Z31: =+B90 -> Spring and Fall
B32: ='1. LDC Info'!F27-6 -> 2011 | C32: 789.5 | D32: 648.9 | E32: 574.5 | F32: 372.4 | G32: 177.6 | H32: 64 | I32: 8.4 | J32: 9.1 | K32: 59.7 | L32: 244.3 | M32: 360.3 | N32: 546.2
B33: ='1. LDC Info'!F27-5 -> 2012 | C33: 633 | D33: 539.6 | E33: 425.1 | F33: 355.6 | G33: 136 | H33: 36.6 | I33: 0 | J33: 7.3 | K33: 87.5 | L33: 245.1 | M33: 449.4 | N33: 535.8
B34: ='1. LDC Info'!F27-4 -> 2013 | C34: 649.6 | D34: 633.3 | E34: 556.1 | F34: 383.6 | G34: 171.6 | H34: 67.1 | I34: 9.3 | J34: 18.5 | K34: 110.4 | L34: 202.2 | M34: 481.9 | N34: 683.9
B35: ='1. LDC Info'!F27-3 -> 2014 | C35: 792.3 | D35: 714.7 | E35: 692.7 | F35: 394.2 | G35: 218.9 | H35: 61.9 | I35: 36.9 | J35: 26.9 | K35: 97.3 | L35: 231.4 | M35: 473.2 | N35: 519.4
B36: ='1. LDC Info'!F27-2 -> 2015 | C36: 759.2 | D36: 842.5 | E36: 639.7 | F36: 351 | G36: 183.4 | H36: 88.3 | I36: 18.5 | J36: 12.9 | K36: 43.1 | L36: 271.1 | M36: 349.8 | N36: 430.8
B39: CDD | C39: Jan | D39: Feb | E39: Mar | F39: Apr | G39: May | H39: Jun | I39: Jul | J39: Aug | K39: Sept | L39: Oct | M39: Nov | N39: Dec
B40: =B17 -> 1996 | C40: 0 | D40: 0 | E40: 0 | F40: 0 | G40: 0 | H40: 18.1 | I40: 35 | J40: 61.8 | K40: 26.3 | L40: 0 | M40: 0 | N40: 0
B41: =B18 -> 1997 | C41: 0 | D41: 0 | E41: 0 | F41: 0 | G41: 0 | H41: 17.7 | I41: 45.8 | J41: 12.7 | K41: 0.8 | L41: 0.3 | M41: 0 | N41: 0
B42: =B19 -> 1998 | C42: 0 | D42: 0 | E42: 0 | F42: 0 | G42: 4 | H42: 35.6 | I42: 58.5 | J42: 64 | K42: 14.3 | L42: 0 | M42: 0 | N42: 0
B43: =B20 -> 1999 | C43: 0 | D43: 0 | E43: 0 | F43: 0 | G43: 0 | H43: 27.5 | I43: 95.5 | J43: 48.1 | K43: 32.9 | L43: 0 | M43: 0 | N43: 0
B44: =B21 -> 2000 | C44: 0 | D44: 0 | E44: 0 | F44: 0 | G44: 0 | H44: 2 | I44: 30.2 | J44: 46.2 | K44: 15 | L44: 0 | M44: 0 | N44: 0
B45: =B22 -> 2001 | C45: 0 | D45: 0 | E45: 0 | F45: 0 | G45: 0 | H45: 26.5 | I45: 45.4 | J45: 83.2 | K45: 18.5 | L45: 0 | M45: 0 | N45: 0
B46: =B23 -> 2002 | C46: 0 | D46: 0 | E46: 0 | F46: 0 | G46: 0 | H46: 18.3 | I46: 72.7 | J46: 68.4 | K46: 30.3 | L46: 2.8 | M46: 0 | N46: 0
B47: =B24 -> 2003 | C47: 0 | D47: 0 | E47: 0 | F47: 0 | G47: 0 | H47: 5.6 | I47: 20.4 | J47: 77.7 | K47: 10.9 | L47: 0 | M47: 0 | N47: 0
B48: =B25 -> 2004 | C48: 0 | D48: 0 | E48: 0 | F48: 0 | G48: 0 | H48: 5.1 | I48: 41.2 | J48: 43.1 | K48: 18.1 | L48: 0 | M48: 0 | N48: 0
B49: =B26 -> 2005 | C49: 0 | D49: 0 | E49: 0 | F49: 0 | G49: 0 | H49: 52.6 | I49: 116.8 | J49: 87.6 | K49: 16.3 | L49: 0 | M49: 0 | N49: 0
B50: =B27 -> 2006 | C50: 0 | D50: 0 | E50: 0 | F50: 0 | G50: 6.3 | H50: 18 | I50: 86.9 | J50: 56.4 | K50: 1.3 | L50: 0 | M50: 0 | N50: 0
B51: =B28 -> 2007 | C51: 0 | D51: 0 | E51: 0 | F51: 0 | G51: 0 | H51: 19.9 | I51: 45.3 | J51: 91.5 | K51: 17.9 | L51: 4.1 | M51: 0 | N51: 0
... B59: =B36 -> 2015 | C59: 0 | D59: 0 | E59: 0 | F59: 0 | G59: 0 | H59: 5.6 | I59: 37 | J59: 44.7 | K59: 41.7 | L59: 0 | M59: 0 | N59: 0
...

Sheet 6. WS Regression Analysis
A1: Load Forecast Model version 1.0 © CHEC
B11: Regression Analysis
B12: Notes:
B13: 1) Update Wholesale Purchases.
B14: 2) Use drop down lists to select the variables inputted from 5.Variable Worksheet and Select Forecast Methodology
B15: 3) Run Regression -> Data -> Data Analysis - > Regression
D17: Adjustments to Wholesale Purchases (i.e. CDM, Loss of customer etc) | K17: Variables Used
C18: Unadjusted Wholesale Purchases kWh | D18: Adjustment for loss of GS | E18: Large Customer | F18: MicroFIT/FIT Generation | G18: CDM Adjustment | H18: Adjustment | I18: Adjustment | J18: Revised Wholesale Purchases | K18: HDD | L18: CDD | M18: Number of Days in Month | N18: Employment Stats | O18: Winter Flag | P18: Holiday Months | R18: Weather Normalized | S18: Yearly Total | U18: SUMMARY OUTPUT
I19: FORECAST METHODOLOGY | K19: Average | L19: Average | M19: Average | N19: Linear Trending | O19: Average | P19: Average
A20: 1 | B20: =CONCATENATE('3. Consumption by Rate Class'!B25,"-",'3. Consumption by Rate Class'!C25) -> 2006-January | C20: 26817115 | D20: 2612043 | E20: 1851400 | J20: =C20-D20-E20+F20+G20 -> 22353672 | K20: =IF(K$18='5.Variables'!$B$16,+'5.Variables'!$C27,+IF(K$18='5.Variables'!$B$39,+'5.Variables'!$C50,+IF(K$18='5.Variables'!$B$62,+'5.Variables'!$C64,+IF(K$18='5.Variables'!$B$76,+'5.Variables'!$C78,+IF(K$18='5.Variables'!$B$90,+'5.Variables'!$C92,+IF(K$18='5.Variables'!$B$104,+'5.Variables'!$C106,0)))))) -> 589 | L20: =IF(L$18='5.Variables'!$B$16,+'5.Variables'!$C27,+IF(L$18='5.Variables'!$B$39,+'5.Variables'!$C50,+IF(L$18='5.Variables'!$B$62,+'5.Variables'!$C64,+IF(L$18='5.Variables'!$B$76,+'5.Variables'!$C78,+IF(L$18='5.Variables'!$B$90,+'5.Variables'!$C92,+IF(L$18='5.Variables'!$B$104,+'5.Variables'!$C106,0)))))) -> 0 | M20: =IF(M$18='5.Variables'!$B$16,+'5.Variables'!$C26,+IF(M$18='5.Variables'!$B$39,+'5.Variables'!$C50,+IF(M$18='5.Variables'!$B$62,+'5.Variables'!$C64,+IF(M$18='5.Variables'!$B$76,+'5.Variables'!$C78,+IF(M$18='5.Variables'!$B$90,+'5.Variables'!$C92,+IF(M$18='5.Variables'!$B$104,+'5.Variables'!$C106,0)))))) -> 31 | N20: =IF(N$18='5.Variables'!$B$16,+'5.Variables'!$C26,+IF(N$18='5.Variables'!$B$39,+'5.Variables'!$C50,+IF(N$18='5.Variables'!$B$62,+'5.Variables'!$C64,+IF(N$18='5.Variables'!$B$76,+'5.Variables'!$C78,+IF(N$18='5.Variables'!$B$90,+'5.Variables'!$C92,+IF(N$18='5.Variables'!$B$104,+'5.Variables'!$C106,0)))))) -> 134.25 | O20: =IF(O$18='5.Variables'!$B$16,+'5.Variables'!$C26,+IF(O$18='5.Variables'!$B$39,+'5.Variables'!$C50,+IF(O$18='5.Variables'!$B$62,+'5.Variables'!$C64,+IF(O$18='5.Variables'!$B$76,+'5.Variables'!$C78,+IF(O$18='5.Variables'!$B$90,+'5.Variables'!$C92,+IF(O$18='5.Variables'!$B$104,+'5.Variables'!$C106,0)))))) -> 0 | P20: =IF(P$18='5.Variables'!$B$16,+'5.Variables'!$C26,+IF(P$18='5.Variables'!$B$39,+'5.Variables'!$C50,+IF(P$18='5.Variables'!$B$62,+'5.Variables'!$C64,+IF(P$18='5.Variables'!$B$76,+'5.Variables'!$C78,+IF(P$18='5.Variables'!$B$90,+'5.Variables'!$C92,+IF(P$18='5.Variables'!$B$104,+'5.Variables'!$C106,0)))))) -> 336 | R20: =$V$34+(K20*$V$35)+(L20*$V$36)+(M20*$V$37)+(N20*$V$38)+(O20*$V$39)+(P20*$V$40) -> 21887806 | U20: Regression Statistics
A21: =+A20+1 -> 2 | B21: =CONCATENATE('3. Consumption by Rate Class'!B26,"-",'3. Consumption by Rate Class'!C26) -> 2006-February | C21: 25311949 | D21: 2635193 | E21: 2180089 | J21: =C21-D21-E21+F21+G21 -> 20496667 | K21: =IF(K$18='5.Variables'!$B$16,+'5.Variables'!$D27,+IF(K$18='5.Variables'!$B$39,+'5.Variables'!$D50,+IF(K$18='5.Variables'!$B$62,+'5.Variables'!$D64,+IF(K$18='5.Variables'!$B$76,+'5.Variables'!$D78,+IF(K$18='5.Variables'!$B$90,+'5.Variables'!$D92,+IF(K$18='5.Variables'!$B$104,+'5.Variables'!$D106,0)))))) -> 627.2 | L21: =IF(L$18='5.Variables'!$B$16,+'5.Variables'!$D27,+IF(L$18='5.Variables'!$B$39,+'5.Variables'!$D50,+IF(L$18='5.Variables'!$B$62,+'5.Variables'!$D64,+IF(L$18='5.Variables'!$B$76,+'5.Variables'!$D78,+IF(L$18='5.Variables'!$B$90,+'5.Variables'!$D92,+IF(L$18='5.Variables'!$B$104,+'5.Variables'!$D106,0)))))) -> 0 | M21: =IF(M$18='5.Variables'!$B$16,+'5.Variables'!$D26,+IF(M$18='5.Variables'!$B$39,+'5.Variables'!$D50,+IF(M$18='5.Variables'!$B$62,+'5.Variables'!$D64,+IF(M$18='5.Variables'!$B$76,+'5.Variables'!$D78,+IF(M$18='5.Variables'!$B$90,+'5.Variables'!$D92,+IF(M$18='5.Variables'!$B$104,+'5.Variables'!$D106,0)))))) -> 28 | N21: =IF(N$18='5.Variables'!$B$16,+'5.Variables'!$D26,+IF(N$18='5.Variables'!$B$39,+'5.Variables'!$D50,+IF(N$18='5.Variables'!$B$62,+'5.Variables'!$D64,+IF(N$18='5.Variables'!$B$76,+'5.Variables'!$D78,+IF(N$18='5.Variables'!$B$90,+'5.Variables'!$D92,+IF(N$18='5.Variables'!$B$104,+'5.Variables'!$D106,0)))))) -> 134.56 | O21: =IF(O$18='5.Variables'!$B$16,+'5.Variables'!$D26,+IF(O$18='5.Variables'!$B$39,+'5.Variables'!$D50,+IF(O$18='5.Variables'!$B$62,+'5.Variables'!$D64,+IF(O$18='5.Variables'!$B$76,+'5.Variables'!$D78,+IF(O$18='5.Variables'!$B$90,+'5.Variables'!$D92,+IF(O$18='5.Variables'!$B$104,+'5.Variables'!$D106,0)))))) -> 0 | P21: =IF(P$18='5.Variables'!$B$16,+'5.Variables'!$D26,+IF(P$18='5.Variables'!$B$39,+'5.Variables'!$D50,+IF(P$18='5.Variables'!$B$62,+'5.Variables'!$D64,+IF(P$18='5.Variables'!$B$76,+'5.Variables'!$D78,+IF(P$18='5.Variables'!$B$90,+'5.Variables'!$D92,+IF(P$18='5.Variables'!$B$104,+'5.Variables'!$D106,0)))))) -> 320 | R21: =$V$34+(K21*$V$35)+(L21*$V$36)+(M21*$V$37)+(N21*$V$38)+(O21*$V$39)+(P21*$V$40) -> 20884992 | U21: Multiple R | V21: 0.93612971
A22: =+A21+1 -> 3 | B22: =CONCATENATE('3. Consumption by Rate Class'!B27,"-",'3. Consumption by Rate Class'!C27) -> 2006-March | C22: 27026370 | D22: 2700439 | E22: 2772699 | J22: =C22-D22-E22+F22+G22 -> 21553232 | K22: =IF(K$18='5.Variables'!$B$16,+'5.Variables'!$E27,+IF(K$18='5.Variables'!$B$39,+'5.Variables'!$E50,+IF(K$18='5.Variables'!$B$62,+'5.Variables'!$E64,+IF(K$18='5.Variables'!$B$76,+'5.Variables'!$E78,+IF(K$18='5.Variables'!$B$90,+'5.Variables'!$E92,+IF(K$18='5.Variables'!$B$104,+'5.Variables'!$E106,0)))))) -> 564.4 | L22: =IF(L$18='5.Variables'!$B$16,+'5.Variables'!$E27,+IF(L$18='5.Variables'!$B$39,+'5.Variables'!$E50,+IF(L$18='5.Variables'!$B$62,+'5.Variables'!$E64,+IF(L$18='5.Variables'!$B$76,+'5.Variables'!$E78,+IF(L$18='5.Variables'!$B$90,+'5.Variables'!$E92,+IF(L$18='5.Variables'!$B$104,+'5.Variables'!$E106,0)))))) -> 0 | M22: =IF(M$18='5.Variables'!$B$16,+'5.Variables'!$E26,+IF(M$18='5.Variables'!$B$39,+'5.Variables'!$E50,+IF(M$18='5.Variables'!$B$62,+'5.Variables'!$E64,+IF(M$18='5.Variables'!$B$76,+'5.Variables'!$E78,+IF(M$18='5.Variables'!$B$90,+'5.Variables'!$E92,+IF(M$18='5.Variables'!$B$104,+'5.Variables'!$E106,0)))))) -> 31 | N22: =IF(N$18='5.Variables'!$B$16,+'5.Variables'!$E26,+IF(N$18='5.Variables'!$B$39,+'5.Variables'!$E50,+IF(N$18='5.Variables'!$B$62,+'5.Variables'!$E64,+IF(N$18='5.Variables'!$B$76,+'5.Variables'!$E78,+IF(N$18='5.Variables'!$B$90,+'5.Variables'!$E92,+IF(N$18='5.Variables'!$B$104,+'5.Variables'!$E106,0)))))) -> 134.81 | O22: =IF(O$18='5.Variables'!$B$16,+'5.Variables'!$E26,+IF(O$18='5.Variables'!$B$39,+'5.Variables'!$E50,+IF(O$18='5.Variables'!$B$62,+'5.Variables'!$E64,+IF(O$18='5.Variables'!$B$76,+'5.Variables'!$E78,+IF(O$18='5.Variables'!$B$90,+'5.Variables'!$E92,+IF(O$18='5.Variables'!$B$104,+'5.Variables'!$E106,0)))))) -> 0 | P22: =IF(P$18='5.Variables'!$B$16,+'5.Variables'!$E26,+IF(P$18='5.Variables'!$B$39,+'5.Variables'!$E50,+IF(P$18='5.Variables'!$B$62,+'5.Variables'!$E64,+IF(P$18='5.Variables'!$B$76,+'5.Variables'!$E78,+IF(P$18='5.Variables'!$B$90,+'5.Variables'!$E92,+IF(P$18='5.Variables'!$B$104,+'5.Variables'!$E106,0)))))) -> 368 | R22: =$V$34+(K22*$V$35)+(L22*$V$36)+(M22*$V$37)+(N22*$V$38)+(O22*$V$39)+(P22*$V$40) -> 21987354 | U22: R Square | V22: 0.87633884
A23: =+A22+1 -> 4 | B23: =CONCATENATE('3. Consumption by Rate Class'!B28,"-",'3. Consumption by Rate Class'!C28) -> 2006-April | C23: 23542027 | D23: 2416600 | E23: 2666000 | J23: =C23-D23-E23+F23+G23 -> 18459427 | K23: =IF(K$18='5.Variables'!$B$16,+'5.Variables'!$F27,+IF(K$18='5.Variables'!$B$39,+'5.Variables'!$F50,+IF(K$18='5.Variables'!$B$62,+'5.Variables'!$F64,+IF(K$18='5.Variables'!$B$76,+'5.Variables'!$F78,+IF(K$18='5.Variables'!$B$90,+'5.Variables'!$F92,+IF(K$18='5.Variables'!$B$104,+'5.Variables'!$F106,0)))))) -> 342.6 | L23: =IF(L$18='5.Variables'!$B$16,+'5.Variables'!$F27,+IF(L$18='5.Variables'!$B$39,+'5.Variables'!$F50,+IF(L$18='5.Variables'!$B$62,+'5.Variables'!$F64,+IF(L$18='5.Variables'!$B$76,+'5.Variables'!$F78,+IF(L$18='5.Variables'!$B$90,+'5.Variables'!$F92,+IF(L$18='5.Variables'!$B$104,+'5.Variables'!$F106,0)))))) -> 0 | M23: =IF(M$18='5.Variables'!$B$16,+'5.Variables'!$F26,+IF(M$18='5.Variables'!$B$39,+'5.Variables'!$F50,+IF(M$18='5.Variables'!$B$62,+'5.Variables'!$F64,+IF(M$18='5.Variables'!$B$76,+'5.Variables'!$F78,+IF(M$18='5.Variables'!$B$90,+'5.Variables'!$F92,+IF(M$18='5.Variables'!$B$104,+'5.Variables'!$F106,0)))))) -> 30 | N23: =IF(N$18='5.Variables'!$B$16,+'5.Variables'!$F26,+IF(N$18='5.Variables'!$B$39,+'5.Variables'!$F50,+IF(N$18='5.Variables'!$B$62,+'5.Variables'!$F64,+IF(N$18='5.Variables'!$B$76,+'5.Variables'!$F78,+IF(N$18='5.Variables'!$B$90,+'5.Variables'!$F92,+IF(N$18='5.Variables'!$B$104,+'5.Variables'!$F106,0)))))) -> 135.08 | O23: =IF(O$18='5.Variables'!$B$16,+'5.Variables'!$F26,+IF(O$18='5.Variables'!$B$39,+'5.Variables'!$F50,+IF(O$18='5.Variables'!$B$62,+'5.Variables'!$F64,+IF(O$18='5.Variables'!$B$76,+'5.Variables'!$F78,+IF(O$18='5.Variables'!$B$90,+'5.Variables'!$F92,+IF(O$18='5.Variables'!$B$104,+'5.Variables'!$F106,0)))))) -> 0 | P23: =IF(P$18='5.Variables'!$B$16,+'5.Variables'!$F26,+IF(P$18='5.Variables'!$B$39,+'5.Variables'!$F50,+IF(P$18='5.Variables'!$B$62,+'5.Variables'!$F64,+IF(P$18='5.Variables'!$B$76,+'5.Variables'!$F78,+IF(P$18='5.Variables'!$B$90,+'5.Variables'!$F92,+IF(P$18='5.Variables'!$B$104,+'5.Variables'!$F106,0)))))) -> 304 | R23: =$V$34+(K23*$V$35)+(L23*$V$36)+(M23*$V$37)+(N23*$V$38)+(O23*$V$39)+(P23*$V$40) -> 19683575 | U23: Adjusted R Square | V23: 0.86977276
A24: =+A23+1 -> 5 | B24: =CONCATENATE('3. Consumption by Rate Class'!B29,"-",'3. Consumption by Rate Class'!C29) -> 2006-May | C24: 23594804 | D24: 2664711 | E24: 2329487 | J24: =C24-D24-E24+F24+G24 -> 18600606 | K24: =IF(K$18='5.Variables'!$B$16,+'5.Variables'!$G27,+IF(K$18='5.Variables'!$B$39,+'5.Variables'!$G50,+IF(K$18='5.Variables'!$B$62,+'5.Variables'!$G64,+IF(K$18='5.Variables'!$B$76,+'5.Variables'!$G78,+IF(K$18='5.Variables'!$B$90,+'5.Variables'!$G92,+IF(K$18='5.Variables'!$B$104,+'5.Variables'!$G106,0)))))) -> 192.1 | L24: =IF(L$18='5.Variables'!$B$16,+'5.Variables'!$G27,+IF(L$18='5.Variables'!$B$39,+'5.Variables'!$G50,+IF(L$18='5.Variables'!$B$62,+'5.Variables'!$G64,+IF(L$18='5.Variables'!$B$76,+'5.Variables'!$G78,+IF(L$18='5.Variables'!$B$90,+'5.Variables'!$G92,+IF(L$18='5.Variables'!$B$104,+'5.Variables'!$G106,0)))))) -> 6.3 | M24: =IF(M$18='5.Variables'!$B$16,+'5.Variables'!$G26,+IF(M$18='5.Variables'!$B$39,+'5.Variables'!$G50,+IF(M$18='5.Variables'!$B$62,+'5.Variables'!$G64,+IF(M$18='5.Variables'!$B$76,+'5.Variables'!$G78,+IF(M$18='5.Variables'!$B$90,+'5.Variables'!$G92,+IF(M$18='5.Variables'!$B$104,+'5.Variables'!$G106,0)))))) -> 31 | N24: =IF(N$18='5.Variables'!$B$16,+'5.Variables'!$G26,+IF(N$18='5.Variables'!$B$39,+'5.Variables'!$G50,+IF(N$18='5.Variables'!$B$62,+'5.Variables'!$G64,+IF(N$18='5.Variables'!$B$76,+'5.Variables'!$G78,+IF(N$18='5.Variables'!$B$90,+'5.Variables'!$G92,+IF(N$18='5.Variables'!$B$104,+'5.Variables'!$G106,0)))))) -> 135.36 | O24: =IF(O$18='5.Variables'!$B$16,+'5.Variables'!$G26,+IF(O$18='5.Variables'!$B$39,+'5.Variables'!$G50,+IF(O$18='5.Variables'!$B$62,+'5.Variables'!$G64,+IF(O$18='5.Variables'!$B$76,+'5.Variables'!$G78,+IF(O$18='5.Variables'!$B$90,+'5.Variables'!$G92,+IF(O$18='5.Variables'!$B$104,+'5.Variables'!$G106,0)))))) -> 0 | P24: =IF(P$18='5.Variables'!$B$16,+'5.Variables'!$G26,+IF(P$18='5.Variables'!$B$39,+'5.Variables'!$G50,+IF(P$18='5.Variables'!$B$62,+'5.Variables'!$G64,+IF(P$18='5.Variables'!$B$76,+'5.Variables'!$G78,+IF(P$18='5.Variables'!$B$90,+'5.Variables'!$G92,+IF(P$18='5.Variables'!$B$104,+'5.Variables'!$G106,0)))))) -> 352 | R24: =$V$34+(K24*$V$35)+(L24*$V$36)+(M24*$V$37)+(N24*$V$38)+(O24*$V$39)+(P24*$V$40) -> 19706791 | U24: Standard Error | V24: 562293.85
A25: =+A24+1 -> 6 | B25: =CONCATENATE('3. Consumption by Rate Class'!B30,"-",'3. Consumption by Rate Class'!C30) -> 2006-June | C25: 24393760 | D25: 2672909 | E25: 2501167 | J25: =C25-D25-E25+F25+G25 -> 19219684 | K25: =IF(K$18='5.Variables'!$B$16,+'5.Variables'!$H27,+IF(K$18='5.Variables'!$B$39,+'5.Variables'!$H50,+IF(K$18='5.Variables'!$B$62,+'5.Variables'!$H64,+IF(K$18='5.Variables'!$B$76,+'5.Variables'!$H78,+IF(K$18='5.Variables'!$B$90,+'5.Variables'!$H92,+IF(K$18='5.Variables'!$B$104,+'5.Variables'!$H106,0)))))) -> 40.1 | L25: =IF(L$18='5.Variables'!$B$16,+'5.Variables'!$H27,+IF(L$18='5.Variables'!$B$39,+'5.Variables'!$H50,+IF(L$18='5.Variables'!$B$62,+'5.Variables'!$H64,+IF(L$18='5.Variables'!$B$76,+'5.Variables'!$H78,+IF(L$18='5.Variables'!$B$90,+'5.Variables'!$H92,+IF(L$18='5.Variables'!$B$104,+'5.Variables'!$H106,0)))))) -> 18 | M25: =IF(M$18='5.Variables'!$B$16,+'5.Variables'!$H26,+IF(M$18='5.Variables'!$B$39,+'5.Variables'!$H50,+IF(M$18='5.Variables'!$B$62,+'5.Variables'!$H64,+IF(M$18='5.Variables'!$B$76,+'5.Variables'!$H78,+IF(M$18='5.Variables'!$B$90,+'5.Variables'!$H92,+IF(M$18='5.Variables'!$B$104,+'5.Variables'!$H106,0)))))) -> 30 | N25: =IF(N$18='5.Variables'!$B$16,+'5.Variables'!$H26,+IF(N$18='5.Variables'!$B$39,+'5.Variables'!$H50,+IF(N$18='5.Variables'!$B$62,+'5.Variables'!$H64,+IF(N$18='5.Variables'!$B$76,+'5.Variables'!$H78,+IF(N$18='5.Variables'!$B$90,+'5.Variables'!$H92,+IF(N$18='5.Variables'!$B$104,+'5.Variables'!$H106,0)))))) -> 135.64 | O25: =IF(O$18='5.Variables'!$B$16,+'5.Variables'!$H26,+IF(O$18='5.Variables'!$B$39,+'5.Variables'!$H50,+IF(O$18='5.Variables'!$B$62,+'5.Variables'!$H64,+IF(O$18='5.Variables'!$B$76,+'5.Variables'!$H78,+IF(O$18='5.Variables'!$B$90,+'5.Variables'!$H92,+IF(O$18='5.Variables'!$B$104,+'5.Variables'!$H106,0)))))) -> 0 | P25: =IF(P$18='5.Variables'!$B$16,+'5.Variables'!$H26,+IF(P$18='5.Variables'!$B$39,+'5.Variables'!$H50,+IF(P$18='5.Variables'!$B$62,+'5.Variables'!$H64,+IF(P$18='5.Variables'!$B$76,+'5.Variables'!$H78,+IF(P$18='5.Variables'!$B$90,+'5.Variables'!$H92,+IF(P$18='5.Variables'!$B$104,+'5.Variables'!$H106,0)))))) -> 352 | R25: =$V$34+(K25*$V$35)+(L25*$V$36)+(M25*$V$37)+(N25*$V$38)+(O25*$V$39)+(P25*$V$40) -> 18810653 | U25: Observations | V25: 120
A26: =+A25+1 -> 7 | B26: =CONCATENATE('3. Consumption by Rate Class'!B31,"-",'3. Consumption by Rate Class'!C31) -> 2006-July | C26: 25023621 | D26: 2416512 | E26: 1764031 | J26: =C26-D26-E26+F26+G26 -> 20843078 | K26: =IF(K$18='5.Variables'!$B$16,+'5.Variables'!$I27,+IF(K$18='5.Variables'!$B$39,+'5.Variables'!$I50,+IF(K$18='5.Variables'!$B$62,+'5.Variables'!$I64,+IF(K$18='5.Variables'!$B$76,+'5.Variables'!$I78,+IF(K$18='5.Variables'!$B$90,+'5.Variables'!$I92,+IF(K$18='5.Variables'!$B$104,+'5.Variables'!$I106,0)))))) -> 5.9 | L26: =IF(L$18='5.Variables'!$B$16,+'5.Variables'!$I27,+IF(L$18='5.Variables'!$B$39,+'5.Variables'!$I50,+IF(L$18='5.Variables'!$B$62,+'5.Variables'!$I64,+IF(L$18='5.Variables'!$B$76,+'5.Variables'!$I78,+IF(L$18='5.Variables'!$B$90,+'5.Variables'!$I92,+IF(L$18='5.Variables'!$B$104,+'5.Variables'!$I106,0)))))) -> 86.9 | M26: =IF(M$18='5.Variables'!$B$16,+'5.Variables'!$I26,+IF(M$18='5.Variables'!$B$39,+'5.Variables'!$I50,+IF(M$18='5.Variables'!$B$62,+'5.Variables'!$I64,+IF(M$18='5.Variables'!$B$76,+'5.Variables'!$I78,+IF(M$18='5.Variables'!$B$90,+'5.Variables'!$I92,+IF(M$18='5.Variables'!$B$104,+'5.Variables'!$I106,0)))))) -> 31 | N26: =IF(N$18='5.Variables'!$B$16,+'5.Variables'!$I26,+IF(N$18='5.Variables'!$B$39,+'5.Variables'!$I50,+IF(N$18='5.Variables'!$B$62,+'5.Variables'!$I64,+IF(N$18='5.Variables'!$B$76,+'5.Variables'!$I78,+IF(N$18='5.Variables'!$B$90,+'5.Variables'!$I92,+IF(N$18='5.Variables'!$B$104,+'5.Variables'!$I106,0)))))) -> 135.92 | O26: =IF(O$18='5.Variables'!$B$16,+'5.Variables'!$I26,+IF(O$18='5.Variables'!$B$39,+'5.Variables'!$I50,+IF(O$18='5.Variables'!$B$62,+'5.Variables'!$I64,+IF(O$18='5.Variables'!$B$76,+'5.Variables'!$I78,+IF(O$18='5.Variables'!$B$90,+'5.Variables'!$I92,+IF(O$18='5.Variables'!$B$104,+'5.Variables'!$I106,0)))))) -> 0 | P26: =IF(P$18='5.Variables'!$B$16,+'5.Variables'!$I26,+IF(P$18='5.Variables'!$B$39,+'5.Variables'!$I50,+IF(P$18='5.Variables'!$B$62,+'5.Variables'!$I64,+IF(P$18='5.Variables'!$B$76,+'5.Variables'!$I78,+IF(P$18='5.Variables'!$B$90,+'5.Variables'!$I92,+IF(P$18='5.Variables'!$B$104,+'5.Variables'!$I106,0)))))) -> 320 | R26: =$V$34+(K26*$V$35)+(L26*$V$36)+(M26*$V$37)+(N26*$V$38)+(O26*$V$39)+(P26*$V$40) -> 21474797
A27: =+A26+1 -> 8 | B27: =CONCATENATE('3. Consumption by Rate Class'!B32,"-",'3. Consumption by Rate Class'!C32) -> 2006-August | C27: 24820037 | D27: 2557912 | E27: 1888942 | J27: =C27-D27-E27+F27+G27 -> 20373183 | K27: =IF(K$18='5.Variables'!$B$16,+'5.Variables'!$J27,+IF(K$18='5.Variables'!$B$39,+'5.Variables'!$J50,+IF(K$18='5.Variables'!$B$62,+'5.Variables'!$J64,+IF(K$18='5.Variables'!$B$76,+'5.Variables'!$J78,+IF(K$18='5.Variables'!$B$90,+'5.Variables'!$J92,+IF(K$18='5.Variables'!$B$104,+'5.Variables'!$J106,0)))))) -> 6.7 | L27: =IF(L$18='5.Variables'!$B$16,+'5.Variables'!$J27,+IF(L$18='5.Variables'!$B$39,+'5.Variables'!$J50,+IF(L$18='5.Variables'!$B$62,+'5.Variables'!$J64,+IF(L$18='5.Variables'!$B$76,+'5.Variables'!$J78,+IF(L$18='5.Variables'!$B$90,+'5.Variables'!$J92,+IF(L$18='5.Variables'!$B$104,+'5.Variables'!$J106,0)))))) -> 56.4 | M27: =IF(M$18='5.Variables'!$B$16,+'5.Variables'!$J26,+IF(M$18='5.Variables'!$B$39,+'5.Variables'!$J50,+IF(M$18='5.Variables'!$B$62,+'5.Variables'!$J64,+IF(M$18='5.Variables'!$B$76,+'5.Variables'!$J78,+IF(M$18='5.Variables'!$B$90,+'5.Variables'!$J92,+IF(M$18='5.Variables'!$B$104,+'5.Variables'!$J106,0)))))) -> 31 | N27: =IF(N$18='5.Variables'!$B$16,+'5.Variables'!$J26,+IF(N$18='5.Variables'!$B$39,+'5.Variables'!$J50,+IF(N$18='5.Variables'!$B$62,+'5.Variables'!$J64,+IF(N$18='5.Variables'!$B$76,+'5.Variables'!$J78,+IF(N$18='5.Variables'!$B$90,+'5.Variables'!$J92,+IF(N$18='5.Variables'!$B$104,+'5.Variables'!$J106,0)))))) -> 136.2 | O27: =IF(O$18='5.Variables'!$B$16,+'5.Variables'!$J26,+IF(O$18='5.Variables'!$B$39,+'5.Variables'!$J50,+IF(O$18='5.Variables'!$B$62,+'5.Variables'!$J64,+IF(O$18='5.Variables'!$B$76,+'5.Variables'!$J78,+IF(O$18='5.Variables'!$B$90,+'5.Variables'!$J92,+IF(O$18='5.Variables'!$B$104,+'5.Variables'!$J106,0)))))) -> 0 | P27: =IF(P$18='5.Variables'!$B$16,+'5.Variables'!$J26,+IF(P$18='5.Variables'!$B$39,+'5.Variables'!$J50,+IF(P$18='5.Variables'!$B$62,+'5.Variables'!$J64,+IF(P$18='5.Variables'!$B$76,+'5.Variables'!$J78,+IF(P$18='5.Variables'!$B$90,+'5.Variables'!$J92,+IF(P$18='5.Variables'!$B$104,+'5.Variables'!$J106,0)))))) -> 352 | R27: =$V$34+(K27*$V$35)+(L27*$V$36)+(M27*$V$37)+(N27*$V$38)+(O27*$V$39)+(P27*$V$40) -> 20517609 | U27: ANOVA
A28: =+A27+1 -> 9 | B28: =CONCATENATE('3. Consumption by Rate Class'!B33,"-",'3. Consumption by Rate Class'!C33) -> 2006-September | C28: 22477600 | D28: 2531686 | E28: 1629291 | J28: =C28-D28-E28+F28+G28 -> 18316623 | K28: =IF(K$18='5.Variables'!$B$16,+'5.Variables'!$K27,+IF(K$18='5.Variables'!$B$39,+'5.Variables'!$K50,+IF(K$18='5.Variables'!$B$62,+'5.Variables'!$K64,+IF(K$18='5.Variables'!$B$76,+'5.Variables'!$K78,+IF(K$18='5.Variables'!$B$90,+'5.Variables'!$K92,+IF(K$18='5.Variables'!$B$104,+'5.Variables'!$K106,0)))))) -> 103.3 | L28: =IF(L$18='5.Variables'!$B$16,+'5.Variables'!$K27,+IF(L$18='5.Variables'!$B$39,+'5.Variables'!$K50,+IF(L$18='5.Variables'!$B$62,+'5.Variables'!$K64,+IF(L$18='5.Variables'!$B$76,+'5.Variables'!$K78,+IF(L$18='5.Variables'!$B$90,+'5.Variables'!$K92,+IF(L$18='5.Variables'!$B$104,+'5.Variables'!$K106,0)))))) -> 1.3 | M28: =IF(M$18='5.Variables'!$B$16,+'5.Variables'!$K26,+IF(M$18='5.Variables'!$B$39,+'5.Variables'!$K50,+IF(M$18='5.Variables'!$B$62,+'5.Variables'!$K64,+IF(M$18='5.Variables'!$B$76,+'5.Variables'!$K78,+IF(M$18='5.Variables'!$B$90,+'5.Variables'!$K92,+IF(M$18='5.Variables'!$B$104,+'5.Variables'!$K106,0)))))) -> 30 | N28: =IF(N$18='5.Variables'!$B$16,+'5.Variables'!$K26,+IF(N$18='5.Variables'!$B$39,+'5.Variables'!$K50,+IF(N$18='5.Variables'!$B$62,+'5.Variables'!$K64,+IF(N$18='5.Variables'!$B$76,+'5.Variables'!$K78,+IF(N$18='5.Variables'!$B$90,+'5.Variables'!$K92,+IF(N$18='5.Variables'!$B$104,+'5.Variables'!$K106,0)))))) -> 136.48 | O28: =IF(O$18='5.Variables'!$B$16,+'5.Variables'!$K26,+IF(O$18='5.Variables'!$B$39,+'5.Variables'!$K50,+IF(O$18='5.Variables'!$B$62,+'5.Variables'!$K64,+IF(O$18='5.Variables'!$B$76,+'5.Variables'!$K78,+IF(O$18='5.Variables'!$B$90,+'5.Variables'!$K92,+IF(O$18='5.Variables'!$B$104,+'5.Variables'!$K106,0)))))) -> 0 | P28: =IF(P$18='5.Variables'!$B$16,+'5.Variables'!$K26,+IF(P$18='5.Variables'!$B$39,+'5.Variables'!$K50,+IF(P$18='5.Variables'!$B$62,+'5.Variables'!$K64,+IF(P$18='5.Variables'!$B$76,+'5.Variables'!$K78,+IF(P$18='5.Variables'!$B$90,+'5.Variables'!$K92,+IF(P$18='5.Variables'!$B$104,+'5.Variables'!$K106,0)))))) -> 320 | R28: =$V$34+(K28*$V$35)+(L28*$V$36)+(M28*$V$37)+(N28*$V$38)+(O28*$V$39)+(P28*$V$40) -> 18338877 | V28: df | W28: SS | X28: MS | Y28: F | Z28: Significance F
A29: =+A28+1 -> 10 | B29: =CONCATENATE('3. Consumption by Rate Class'!B34,"-",'3. Consumption by Rate Class'!C34) -> 2006-October | C29: 23787971 | D29: 2787075 | E29: 1485638 | J29: =C29-D29-E29+F29+G29 -> 19515258 | K29: =IF(K$18='5.Variables'!$B$16,+'5.Variables'!$L27,+IF(K$18='5.Variables'!$B$39,+'5.Variables'!$L50,+IF(K$18='5.Variables'!$B$62,+'5.Variables'!$L64,+IF(K$18='5.Variables'!$B$76,+'5.Variables'!$L78,+IF(K$18='5.Variables'!$B$90,+'5.Variables'!$L92,+IF(K$18='5.Variables'!$B$104,+'5.Variables'!$L106,0)))))) -> 296.4 | L29: =IF(L$18='5.Variables'!$B$16,+'5.Variables'!$L27,+IF(L$18='5.Variables'!$B$39,+'5.Variables'!$L50,+IF(L$18='5.Variables'!$B$62,+'5.Variables'!$L64,+IF(L$18='5.Variables'!$B$76,+'5.Variables'!$L78,+IF(L$18='5.Variables'!$B$90,+'5.Variables'!$L92,+IF(L$18='5.Variables'!$B$104,+'5.Variables'!$L106,0)))))) -> 0 | M29: =IF(M$18='5.Variables'!$B$16,+'5.Variables'!$L26,+IF(M$18='5.Variables'!$B$39,+'5.Variables'!$L50,+IF(M$18='5.Variables'!$B$62,+'5.Variables'!$L64,+IF(M$18='5.Variables'!$B$76,+'5.Variables'!$L78,+IF(M$18='5.Variables'!$B$90,+'5.Variables'!$L92,+IF(M$18='5.Variables'!$B$104,+'5.Variables'!$L106,0)))))) -> 31 | N29: =IF(N$18='5.Variables'!$B$16,+'5.Variables'!$L26,+IF(N$18='5.Variables'!$B$39,+'5.Variables'!$L50,+IF(N$18='5.Variables'!$B$62,+'5.Variables'!$L64,+IF(N$18='5.Variables'!$B$76,+'5.Variables'!$L78,+IF(N$18='5.Variables'!$B$90,+'5.Variables'!$L92,+IF(N$18='5.Variables'!$B$104,+'5.Variables'!$L106,0)))))) -> 136.76 | O29: =IF(O$18='5.Variables'!$B$16,+'5.Variables'!$L26,+IF(O$18='5.Variables'!$B$39,+'5.Variables'!$L50,+IF(O$18='5.Variables'!$B$62,+'5.Variables'!$L64,+IF(O$18='5.Variables'!$B$76,+'5.Variables'!$L78,+IF(O$18='5.Variables'!$B$90,+'5.Variables'!$L92,+IF(O$18='5.Variables'!$B$104,+'5.Variables'!$L106,0)))))) -> 0 | P29: =IF(P$18='5.Variables'!$B$16,+'5.Variables'!$L26,+IF(P$18='5.Variables'!$B$39,+'5.Variables'!$L50,+IF(P$18='5.Variables'!$B$62,+'5.Variables'!$L64,+IF(P$18='5.Variables'!$B$76,+'5.Variables'!$L78,+IF(P$18='5.Variables'!$B$90,+'5.Variables'!$L92,+IF(P$18='5.Variables'!$B$104,+'5.Variables'!$L106,0)))))) -> 336 | R29: =$V$34+(K29*$V$35)+(L29*$V$36)+(M29*$V$37)+(N29*$V$38)+(O29*$V$39)+(P29*$V$40) -> 20054882 | U29: Regression | V29: 6 | W29: 2.5318842e+14 | X29: 4.2198071e+13 | Y29: 133.46455 | Z29: 6.6750091e-49
A30: =+A29+1 -> 11 | B30: =CONCATENATE('3. Consumption by Rate Class'!B35,"-",'3. Consumption by Rate Class'!C35) -> 2006-November | C30: 24490934 | D30: 2645364 | E30: 1925007 | J30: =C30-D30-E30+F30+G30 -> 19920563 | K30: =IF(K$18='5.Variables'!$B$16,+'5.Variables'!$M27,+IF(K$18='5.Variables'!$B$39,+'5.Variables'!$M50,+IF(K$18='5.Variables'!$B$62,+'5.Variables'!$M64,+IF(K$18='5.Variables'!$B$76,+'5.Variables'!$M78,+IF(K$18='5.Variables'!$B$90,+'5.Variables'!$M92,+IF(K$18='5.Variables'!$B$104,+'5.Variables'!$M106,0)))))) -> 390.9 | L30: =IF(L$18='5.Variables'!$B$16,+'5.Variables'!$M27,+IF(L$18='5.Variables'!$B$39,+'5.Variables'!$M50,+IF(L$18='5.Variables'!$B$62,+'5.Variables'!$M64,+IF(L$18='5.Variables'!$B$76,+'5.Variables'!$M78,+IF(L$18='5.Variables'!$B$90,+'5.Variables'!$M92,+IF(L$18='5.Variables'!$B$104,+'5.Variables'!$M106,0)))))) -> 0 | M30: =IF(M$18='5.Variables'!$B$16,+'5.Variables'!$M26,+IF(M$18='5.Variables'!$B$39,+'5.Variables'!$M50,+IF(M$18='5.Variables'!$B$62,+'5.Variables'!$M64,+IF(M$18='5.Variables'!$B$76,+'5.Variables'!$M78,+IF(M$18='5.Variables'!$B$90,+'5.Variables'!$M92,+IF(M$18='5.Variables'!$B$104,+'5.Variables'!$M106,0)))))) -> 30 | N30: =IF(N$18='5.Variables'!$B$16,+'5.Variables'!$M26,+IF(N$18='5.Variables'!$B$39,+'5.Variables'!$M50,+IF(N$18='5.Variables'!$B$62,+'5.Variables'!$M64,+IF(N$18='5.Variables'!$B$76,+'5.Variables'!$M78,+IF(N$18='5.Variables'!$B$90,+'5.Variables'!$M92,+IF(N$18='5.Variables'!$B$104,+'5.Variables'!$M106,0)))))) -> 137.04 | O30: =IF(O$18='5.Variables'!$B$16,+'5.Variables'!$M26,+IF(O$18='5.Variables'!$B$39,+'5.Variables'!$M50,+IF(O$18='5.Variables'!$B$62,+'5.Variables'!$M64,+IF(O$18='5.Variables'!$B$76,+'5.Variables'!$M78,+IF(O$18='5.Variables'!$B$90,+'5.Variables'!$M92,+IF(O$18='5.Variables'!$B$104,+'5.Variables'!$M106,0)))))) -> 0 | P30: =IF(P$18='5.Variables'!$B$16,+'5.Variables'!$M26,+IF(P$18='5.Variables'!$B$39,+'5.Variables'!$M50,+IF(P$18='5.Variables'!$B$62,+'5.Variables'!$M64,+IF(P$18='5.Variables'!$B$76,+'5.Variables'!$M78,+IF(P$18='5.Variables'!$B$90,+'5.Variables'!$M92,+IF(P$18='5.Variables'!$B$104,+'5.Variables'!$M106,0)))))) -> 352 | R30: =$V$34+(K30*$V$35)+(L30*$V$36)+(M30*$V$37)+(N30*$V$38)+(O30*$V$39)+(P30*$V$40) -> 20420822 | U30: Residual | V30: 113 | W30: 3.5727704e+13 | X30: 3.1617437e+11
A31: =+A30+1 -> 12 | B31: =CONCATENATE('3. Consumption by Rate Class'!B36,"-",'3. Consumption by Rate Class'!C36) -> 2006-December | C31: 24544738 | D31: 2032814 | E31: 1476249 | J31: =C31-D31-E31+F31+G31 -> 21035675 | K31: =IF(K$18='5.Variables'!$B$16,+'5.Variables'!$N27,+IF(K$18='5.Variables'!$B$39,+'5.Variables'!$N50,+IF(K$18='5.Variables'!$B$62,+'5.Variables'!$N64,+IF(K$18='5.Variables'!$B$76,+'5.Variables'!$N78,+IF(K$18='5.Variables'!$B$90,+'5.Variables'!$N92,+IF(K$18='5.Variables'!$B$104,+'5.Variables'!$N106,0)))))) -> 505.5 | L31: =IF(L$18='5.Variables'!$B$16,+'5.Variables'!$N27,+IF(L$18='5.Variables'!$B$39,+'5.Variables'!$N50,+IF(L$18='5.Variables'!$B$62,+'5.Variables'!$N64,+IF(L$18='5.Variables'!$B$76,+'5.Variables'!$N78,+IF(L$18='5.Variables'!$B$90,+'5.Variables'!$N92,+IF(L$18='5.Variables'!$B$104,+'5.Variables'!$N106,0)))))) -> 0 | M31: =IF(M$18='5.Variables'!$B$16,+'5.Variables'!$N26,+IF(M$18='5.Variables'!$B$39,+'5.Variables'!$N50,+IF(M$18='5.Variables'!$B$62,+'5.Variables'!$N64,+IF(M$18='5.Variables'!$B$76,+'5.Variables'!$N78,+IF(M$18='5.Variables'!$B$90,+'5.Variables'!$N92,+IF(M$18='5.Variables'!$B$104,+'5.Variables'!$N106,0)))))) -> 31 | N31: =IF(N$18='5.Variables'!$B$16,+'5.Variables'!$N26,+IF(N$18='5.Variables'!$B$39,+'5.Variables'!$N50,+IF(N$18='5.Variables'!$B$62,+'5.Variables'!$N64,+IF(N$18='5.Variables'!$B$76,+'5.Variables'!$N78,+IF(N$18='5.Variables'!$B$90,+'5.Variables'!$N92,+IF(N$18='5.Variables'!$B$104,+'5.Variables'!$N106,0)))))) -> 137.33 | O31: =IF(O$18='5.Variables'!$B$16,+'5.Variables'!$N26,+IF(O$18='5.Variables'!$B$39,+'5.Variables'!$N50,+IF(O$18='5.Variables'!$B$62,+'5.Variables'!$N64,+IF(O$18='5.Variables'!$B$76,+'5.Variables'!$N78,+IF(O$18='5.Variables'!$B$90,+'5.Variables'!$N92,+IF(O$18='5.Variables'!$B$104,+'5.Variables'!$N106,0)))))) -> 0 | P31: =IF(P$18='5.Variables'!$B$16,+'5.Variables'!$N26,+IF(P$18='5.Variables'!$B$39,+'5.Variables'!$N50,+IF(P$18='5.Variables'!$B$62,+'5.Variables'!$N64,+IF(P$18='5.Variables'!$B$76,+'5.Variables'!$N78,+IF(P$18='5.Variables'!$B$90,+'5.Variables'!$N92,+IF(P$18='5.Variables'!$B$104,+'5.Variables'!$N106,0)))))) -> 304 | R31: =$V$34+(K31*$V$35)+(L31*$V$36)+(M31*$V$37)+(N31*$V$38)+(O31*$V$39)+(P31*$V$40) -> 21190541 | S31: =SUM(R20:R31) -> 2.449587e+08 | U31: Total | V31: 119 | W31: 288916128358280
