Workbook
Name EBNUMBER: '[1]LDC Info'!$E$16
Name GSL_current: '[2]PS Bill Impacts'!$AD$60:$AJ$65
Name GSL_kW: '[2]PS Bill Impacts'!$AD$58:$AJ$58
Name GSL_kWh: '[2]PS Bill Impacts'!$AB$60:$AB$65
Name GSL_new: '[2]PS Bill Impacts'!$AD$71:$AJ$76
Name LU_Current: '[2]PS Bill Impacts'!$AQ$60:$AW$65
Name LU_kW: '[2]PS Bill Impacts'!$AQ$58:$AW$58
Name LU_kWh: '[2]PS Bill Impacts'!$AO$60:$AO$65
Name LU_New: '[2]PS Bill Impacts'!$AQ$71:$AW$76
Name SENT_Current: '[2]PS Bill Impacts'!$BQ$60:$BW$63
Name SENT_kW: '[2]PS Bill Impacts'!$BQ$58:$BU$58
Name SENT_kWh: '[2]PS Bill Impacts'!$BO$60:$BO$63
Name SENT_New: '[2]PS Bill Impacts'!$BQ$71:$BW$74
Name SL_Current: '[2]PS Bill Impacts'!$CD$60:$CJ$64
Name SL_kW: '[2]PS Bill Impacts'!$CD$58:$CI$58
Name SL_kWh: '[2]PS Bill Impacts'!$CB$60:$CB$64
Name SL_New: '[2]PS Bill Impacts'!$CC$71:$CJ$75
Name Utility: [2]Inputs!$C$5

Sheet Summary Tables
B1: DRO Model
A2: A | B2: Distribution Charge
G3: TEST YEAR 1 - 2016 | K3: TEST YEAR 2 - 2017
B4: Customer Class | C4: Billing Determinant | D4: Consumption per customer | E4: Load per customer | G4: Monthly Distribution Charge Impact | K4: Monthly Distribution Charge Impact
D5: kwh | E5: kW | G5: $ | I5: % | K5: $ | L5: %
B6: Residential | C6: kWh | D6: 750 | G6: =Residential!L47 -> 5.145 | I6: =Residential!M47 -> 0.18761035 | K6: =Residential!R47 -> 0.886312 | L6: =Residential!S47 -> 0.027213479
B7: GS<50 kW | C7: kWh | D7: 2000 | G7: ='GS<50'!L47 -> 12.81 | I7: ='GS<50'!M47 -> 0.20054179 | K7: ='GS<50'!R47 -> 1.204986 | L7: ='GS<50'!S47 -> 0.01571305
B8: GS>50 kW | C8: kW | D8: 80000 | E8: 250 | G8: ='GS>50'!L50 -> 606.915 | I8: ='GS>50'!M50 -> 0.61046178 | K8: ='GS>50'!R50 -> -133.31 | L8: ='GS>50'!S50 -> -0.083261248
B9: Large Use | C9: kW | D9: 2800000 | E9: 7350 | G9: =LU!L50 -> 13310.08 | I9: =LU!M50 -> 0.75545938 | K9: =LU!R50 -> -6472.445 | L9: =LU!S50 -> -0.20927051
B10: Unmetered Scattered Load | C10: kWh | D10: 150 | G10: =USL!L49 -> 2.765 | I10: =USL!M49 -> 0.2878709 | K10: =USL!R49 -> -0.39 | L10: =USL!S49 -> -0.03152789
B11: Sentinel Lights | C11: kW | D11: 180 | E11: 1 | G11: =Sentinel!L50 -> 2.2078 | I11: =Sentinel!M50 -> 0.18899323 | K11: =Sentinel!R50 -> 0.8179 | L11: =Sentinel!S50 -> 0.058885361
B12: Street Lighting | C12: kW | D12: 280 | E12: 1 | G12: =SL!L50 -> 0.5794 | I12: =SL!M50 -> 0.072375242 | K12: =SL!R50 -> -0.8045 | L12: =SL!S50 -> -0.093711051
A14: B | B14: Delivery Charge
B16: Customer Class | C16: Billing Determinant | D16: Consumption per customer | E16: Load per customer | G16: Monthly Delivery Charge Impact | K16: Monthly Delivery Charge Impact
D17: kwh | E17: kW | G17: $ | I17: % | K17: $ | L17: %
B18: =B6 -> Residential | C18: =C6 -> kWh | D18: =D6 -> 750 | E18: =E6 -> 0 | G18: =Residential!L50 -> 5.145 | I18: =Residential!M50 -> 0.14155451 | K18: =Residential!R50 -> 1.2958495 | L18: =Residential!S50 -> 0.031231744
B19: =B7 -> GS<50 kW | C19: =C7 -> kWh | D19: =D7 -> 2000 | E19: =E7 -> 0 | G19: ='GS<50'!L50 -> 12.81 | I19: ='GS<50'!M50 -> 0.15074 | K19: ='GS<50'!R50 -> 2.083466 | L19: ='GS<50'!S50 -> 0.021305346
B20: =B8 -> GS>50 kW | C20: =C8 -> kW | D20: =D8 -> 80000 | E20: =E8 -> 250 | G20: ='GS>50'!L53 -> 606.915 | I20: ='GS>50'!M53 -> 0.30087897 | K20: ='GS>50'!R53 -> -109.11 | L20: ='GS>50'!S53 -> -0.041580683
B21: =B9 -> Large Use | C21: =C9 -> kW | D21: =D9 -> 2800000 | E21: =E9 -> 7350 | G21: =LU!L53 -> 13310.08 | I21: =LU!M53 -> 0.25637081 | K21: =LU!R53 -> -5095.055 | L21: =LU!S53 -> -0.078112213
B22: =B10 -> Unmetered Scattered Load | C22: =C10 -> kWh | D22: =D10 -> 150 | E22: =E10 -> 0 | G22: =USL!L52 -> 2.765 | I22: =USL!M52 -> 0.24578095 | K22: =USL!R52 -> -0.417291 | L22: =USL!S52 -> -0.029774907
B23: =B11 -> Sentinel Lights | C23: =C11 -> kW | D23: =D11 -> 180 | E23: =E11 -> 1 | G23: =Sentinel!L53 -> 2.2078 | I23: =Sentinel!M53 -> 0.1491666 | K23: =Sentinel!R53 -> 0.9068 | L23: =Sentinel!S53 -> 0.053313892
B24: =B12 -> Street Lighting | C24: =C12 -> kW | D24: =D12 -> 280 | E24: =E12 -> 1 | G24: =SL!L53 -> 0.5794 | I24: =Sentinel!M53 -> 0.1491666 | K24: =SL!R53 -> 0.32 | L24: =SL!S53 -> 0.027221301
A27: C | B27: Total Bill
B29: Customer Class | C29: Billing Determinant | D29: Consumption per customer | E29: Load per customer | G29: Total Monthly Bill Impact | K29: Total Monthly Bill Impact
D30: kwh | E30: kW | G30: $ | I30: % | K30: $ | L30: %
B31: =B18 -> Residential | C31: =C18 -> kWh | D31: =D18 -> 750 | E31: =E18 -> 0 | G31: =Residential!L65 -> 5.81385 | I31: =Residential!M65 -> 0.041126043 | K31: =Residential!R65 -> 1.4742765 | L31: =Residential!S65 -> 0.010016794
B32: =B19 -> GS<50 kW | C32: =C19 -> kWh | D32: =D19 -> 2000 | E32: =E19 -> 0 | G32: ='GS<50'!L65 -> 14.4753 | I32: ='GS<50'!M65 -> 0.038210421 | K32: ='GS<50'!R65 -> 2.3808942 | L32: ='GS<50'!S65 -> 0.0060535337
B33: =B20 -> GS>50 kW | C33: =C20 -> kW | D33: =D20 -> 80000 | E33: =E20 -> 250 | G33: ='GS>50'!L68 -> 685.81395 | I33: ='GS>50'!M68 -> 0.049235436 | K33: ='GS>50'!R68 -> -97.96639 | L33: ='GS>50'!S68 -> -0.0067030989
B34: =B21 -> Large Use | C34: =C21 -> kW | D34: =D21 -> 2800000 | E34: =E21 -> 7350 | G34: =LU!L68 -> 15040.39 | I34: =LU!M68 -> 0.03224758 | K34: =LU!R68 -> -4870.9353 | L34: =LU!S68 -> -0.010117344
B35: =B22 -> Unmetered Scattered Load | C35: =C22 -> kWh | D35: =D22 -> 150 | E35: =E22 -> 0 | G35: =USL!L67 -> 3.12445 | I35: =USL!M67 -> 0.089685416 | K35: =USL!R67 -> -0.424049 | L35: =USL!S67 -> -0.011170257
B36: =B23 -> Sentinel Lights | C36: =C23 -> kW | D36: =D23 -> 180 | E36: =E23 -> 1 | G36: =Sentinel!L68 -> 2.494814 | I36: =Sentinel!M68 -> 0.057724705 | K36: =Sentinel!R68 -> 1.0816718 | L36: =Sentinel!S68 -> 0.023661725
B37: =B24 -> Street Lighting | C37: =C24 -> kW | D37: =D24 -> 280 | E37: =E24 -> 1 | G37: =SL!L68 -> 0.654722 | I37: =SL!M68 -> 0.012195582 | K37: =SL!R68 -> 0.45024769 | L37: =SL!S68 -> 0.0082857656
B40: Summary of Bill Impacts
B41: Customer Class | C41: Billing | D41: Consumption per Customer | E41: Load per Customer | F41: Distribution Component
C42: Determinant | D42: (kWh) | E42: (kW) | G42: 2016 | I42: 2017
B43: Residential | C43: kWh | D43: 750 | G43: =I6 -> 0.18761035 | I43: =L6 -> 0.027213479
B44: GS<50 kW | C44: kWh | D44: 2000 | G44: =I7 -> 0.20054179 | I44: =L7 -> 0.01571305
B45: GS>50 kW | C45: kW | D45: 80000 | E45: 250 | G45: =I8 -> 0.61046178 | I45: =L8 -> -0.083261248
B46: Large Use | C46: kW | D46: 2800000 | E46: 7350 | G46: =I9 -> 0.75545938 | I46: =L9 -> -0.20927051
B47: Unmetered Scattered Load | C47: kWh | D47: 150 | G47: =I10 -> 0.2878709 | I47: =L10 -> -0.03152789
...

Sheet Residential
O1: May 1 - Oct 31 | P1: 1 | R1: 2
O2: Nov 1 - Apr 30 | P2: 2
P8: 1380
P9: =P8*4 -> 5520
B10: Appendix 2-W
B11: Bill Impacts - Residential
B14: Customer Class: | D14: RESIDENTIAL
B16: TOU / non-TOU: | D16: TOU
D18: Consumption | F18: 750
F20: 2015 Current Board-Approved | I20: 2016 | L20: Impact 2016 vs. 2015 | O20: 2017 TEST YEAR | R20: Impact 2017 TEST vs. 2016
D21: Charge Unit | E21: Volume | F21: Rate | G21: Charge | I21: Rate | J21: Charge | L21: $ Change | M21: % Change | O21: Rate | P21: Charge | R21: $ Change | S21: % Change
A22: ID | F22: ($) | G22: ($) | I22: ($) | J22: ($) | O22: ($) | P22: ($)
A23: Fix_R | B23: Monthly Service Charge | D23: Monthly | E23: 1 | F23: =IF($A23<>"",VLOOKUP($A23,[3]Rates!$A$1:$R$65536,12,FALSE),0) -> 12.67 | G23: =E23*F23 -> 12.67 | I23: =IF($A23<>"",VLOOKUP($A23,[3]Rates!$A$1:$R$65536,14,FALSE),0) -> 13.92 | J23: =$E23*I23 -> 13.92 | L23: =J23-G23 -> 1.25 | M23: =IF((G23)=0,"",(L23/G23)) -> 0.098658248 | O23: =IF($A23<>"",VLOOKUP($A23,[3]Rates!$A$1:$R$65536,15,FALSE),0) -> 18.89 | P23: =$E23*O23 -> 18.89 | R23: =P23-J23 -> 4.97 | S23: =IF((J23)=0,"",(R23/J23)) -> 0.35704023
B24: Smart Meter Rate Adder | D24: Monthly | E24: 1 | F24: =IF(A24<>"",VLOOKUP(A24,[3]Rates!$A$1:$R$65536,12,FALSE),0) -> 0 | G24: =E24*F24 -> 0 | I24: =IF($A24<>"",VLOOKUP($A24,[3]Rates!$A$1:$R$65536,14,FALSE),0) -> 0 | J24: =$E24*I24 -> 0 | L24: =J24-G24 -> 0 | M24: =IF((G24)=0,"",(L24/G24)) | O24: =IF($A24<>"",VLOOKUP($A24,[3]Rates!$A$1:$R$65536,15,FALSE),0) -> 0 | P24: =$E24*O24 -> 0 | R24: =P24-J24 -> 0 | S24: =IF((J24)=0,"",(R24/J24))
A25: PPE_R | B25: Recovery of CGAAP/CWIP Differential | D25: Monthly | E25: 1 | F25: =IF(A25<>"",VLOOKUP(A25,[3]Rates!$A$1:$R$65536,12,FALSE),0) -> 0.2 | G25: =E25*F25 -> 0.2 | I25: =IF($A25<>"",VLOOKUP($A25,[3]Rates!$A$1:$R$65536,14,FALSE),0) -> 0.2 | J25: =$E25*I25 -> 0.2 | L25: =J25-G25 -> 0 | M25: =IF((G25)=0,"",(L25/G25)) -> 0 | O25: =IF($A25<>"",VLOOKUP($A25,[3]Rates!$A$1:$R$65536,15,FALSE),0) -> 0 | P25: =$E25*O25 -> 0 | R25: =P25-J25 -> -0.2 | S25: =IF((J25)=0,"",(R25/J25)) -> -1
A26: ICMF_R | B26: ICM Rate Rider (2014) | D26: Monthly | E26: 1 | F26: =IF(A26<>"",VLOOKUP(A26,[3]Rates!$A$1:$R$65536,12,FALSE),0) -> 0.07 | G26: =E26*F26 -> 0.07 | I26: =IF($A26<>"",VLOOKUP($A26,[3]Rates!$A$1:$R$65536,14,FALSE),0) -> 0 | J26: =$E26*I26 -> 0 | L26: =J26-G26 -> -0.07 | M26: =IF((G26)=0,"",(L26/G26)) -> -1 | O26: =IF($A26<>"",VLOOKUP($A26,[3]Rates!$A$1:$R$65536,15,FALSE),0) -> 0 | P26: =$E26*O26 -> 0 | R26: =P26-J26 -> 0 | S26: =IF((J26)=0,"",(R26/J26))
A27: FR_R | B27: Forgone Revenue Rate Rider (2016) | D27: Monthly | E27: 1 | F27: =IF(A27<>"",VLOOKUP(A27,[3]Rates!$A$1:$R$65536,12,FALSE),0) -> 0 | G27: =E27*F27 -> 0 | I27: =IF($A27<>"",VLOOKUP($A27,[3]Rates!$A$1:$R$65536,14,FALSE),0) -> 6.32 | J27: =$E27*I27 -> 6.32 | L27: =J27-G27 -> 6.32 | M27: =IF((G27)=0,"",(L27/G27)) | O27: =IF($A27<>"",VLOOKUP($A27,[3]Rates!$A$1:$R$65536,15,FALSE),0) -> 0 | P27: =$E27*O27 -> 0 | R27: =P27-J27 -> -6.32 | S27: =IF((J27)=0,"",(R27/J27)) -> -1
E28: 1 | F28: =IF(A28<>"",VLOOKUP(A28,[3]Rates!$A$1:$R$65536,12,FALSE),0) -> 0 | G28: =E28*F28 -> 0 | I28: =IF($A28<>"",VLOOKUP($A28,[3]Rates!$A$1:$R$65536,14,FALSE),0) -> 0 | J28: =$E28*I28 -> 0 | L28: =J28-G28 -> 0 | M28: =IF((G28)=0,"",(L28/G28)) | O28: =IF($A28<>"",VLOOKUP($A28,[3]Rates!$A$1:$R$65536,15,FALSE),0) -> 0 | P28: =$E28*O28 -> 0 | R28: =P28-J28 -> 0 | S28: =IF((J28)=0,"",(R28/J28))
A29: Var_R | B29: Distribution Volumetric Rate | D29: per kWh | E29: =$F$18 -> 750 | F29: =IF(A29<>"",VLOOKUP(A29,[3]Rates!$A$1:$R$65536,12,FALSE),0) -> 0.014 | G29: =E29*F29 -> 10.5 | I29: =IF($A29<>"",VLOOKUP($A29,[3]Rates!$A$1:$R$65536,14,FALSE),0) -> 0.0154 | J29: =$E29*I29 -> 11.55 | L29: =J29-G29 -> 1.05 | M29: =IF((G29)=0,"",(L29/G29)) -> 0.1 | O29: =IF($A29<>"",VLOOKUP($A29,[3]Rates!$A$1:$R$65536,15,FALSE),0) -> 0.0132 | P29: =$E29*O29 -> 9.9 | R29: =P29-J29 -> -1.65 | S29: =IF((J29)=0,"",(R29/J29)) -> -0.14285714
B30: Smart Meter Disposition Rider | D30: per kWh | E30: =$F$18 -> 750 | F30: =IF(A30<>"",VLOOKUP(A30,[3]Rates!$A$1:$R$65536,12,FALSE),0) -> 0 | G30: =E30*F30 -> 0 | I30: =IF($A30<>"",VLOOKUP($A30,[3]Rates!$A$1:$R$65536,14,FALSE),0) -> 0 | J30: =$E30*I30 -> 0 | L30: =J30-G30 -> 0 | M30: =IF((G30)=0,"",(L30/G30)) | O30: =IF($A30<>"",VLOOKUP($A30,[3]Rates!$A$1:$R$65536,15,FALSE),0) -> 0 | P30: =$E30*O30 -> 0 | R30: =P30-J30 -> 0 | S30: =IF((J30)=0,"",(R30/J30))
B31: LRAM & SSM Rate Rider | D31: per kWh | E31: =$F$18 -> 750 | F31: =IF(A31<>"",VLOOKUP(A31,[3]Rates!$A$1:$R$65536,12,FALSE),0) -> 0 | G31: =E31*F31 -> 0 | I31: =IF($A31<>"",VLOOKUP($A31,[3]Rates!$A$1:$R$65536,14,FALSE),0) -> 0 | J31: =$E31*I31 -> 0 | L31: =J31-G31 -> 0 | M31: =IF((G31)=0,"",(L31/G31)) | O31: =IF($A31<>"",VLOOKUP($A31,[3]Rates!$A$1:$R$65536,15,FALSE),0) -> 0 | P31: =$E31*O31 -> 0 | R31: =P31-J31 -> 0 | S31: =IF((J31)=0,"",(R31/J31))
A32: ICMV_R | B32: ICM Rate Rider (2014) | D32: per kWh | E32: =$F$18 -> 750 | F32: =IF(A32<>"",VLOOKUP(A32,[3]Rates!$A$1:$R$65536,12,FALSE),0) -> 0.0001 | G32: =E32*F32 -> 0.075 | I32: =IF($A32<>"",VLOOKUP($A32,[3]Rates!$A$1:$R$65536,14,FALSE),0) -> 0 | J32: =$E32*I32 -> 0 | L32: =J32-G32 -> -0.075 | M32: =IF((G32)=0,"",(L32/G32)) -> -1 | O32: =IF($A32<>"",VLOOKUP($A32,[3]Rates!$A$1:$R$65536,15,FALSE),0) -> 0 | P32: =$E32*O32 -> 0 | R32: =P32-J32 -> 0 | S32: =IF((J32)=0,"",(R32/J32))
A33: =[3]Rates!$A36 -> 2RAL16_R | B33: =[3]Rates!$B$36 -> Disposition of Deferral/Variance Accounts - Group 2 Accounts (2016) | D33: Monthly | E33: 1 | F33: =IF(A33<>"",VLOOKUP(A33,[3]Rates!$A$1:$R$65536,12,FALSE),0) -> 0 | G33: =E33*F33 -> 0 | I33: =IF($A33<>"",VLOOKUP($A33,[3]Rates!$A$1:$R$65536,14,FALSE),0) -> 0 | J33: =$E33*I33 -> 0 | L33: =J33-G33 -> 0 | M33: =IF((G33)=0,"",(L33/G33)) | O33: =IF($A33<>"",VLOOKUP($A33,[3]Rates!$A$1:$R$65536,15,FALSE),0) -> 0.12 | P33: =$E33*O33 -> 0.12 | R33: =P33-J33 -> 0.12 | S33: =IF((J33)=0,"",(R33/J33))
A34: =[3]Rates!$A37 -> LRVA16_R | B34: =[3]Rates!$B$37 -> Lost Revenue Adjustment Mechanism Variance Account (LRAMVA) (2016) | D34: Monthly | E34: 1 | F34: =IF(A34<>"",VLOOKUP(A34,[3]Rates!$A$1:$R$65536,12,FALSE),0) -> 0 | G34: =E34*F34 -> 0 | I34: =IF($A34<>"",VLOOKUP($A34,[3]Rates!$A$1:$R$65536,14,FALSE),0) -> -0.39 | J34: =$E34*I34 -> -0.39 | L34: =J34-G34 -> -0.39 | M34: =IF((G34)=0,"",(L34/G34)) | O34: =IF($A34<>"",VLOOKUP($A34,[3]Rates!$A$1:$R$65536,15,FALSE),0) -> 0 | P34: =$E34*O34 -> 0 | R34: =P34-J34 -> 0.39 | S34: =IF((J34)=0,"",(R34/J34)) -> -1
A35: =[3]Rates!$A38 -> PPE16_R | B35: =[3]Rates!$B$38 -> Account 1575 (2016) | D35: Monthly | E35: 1 | F35: =IF(A35<>"",VLOOKUP(A35,[3]Rates!$A$1:$R$65536,12,FALSE),0) -> 0 | G35: =E35*F35 -> 0 | I35: =IF($A35<>"",VLOOKUP($A35,[3]Rates!$A$1:$R$65536,14,FALSE),0) -> -0.82 | J35: =$E35*I35 -> -0.82 | L35: =J35-G35 -> -0.82 | M35: =IF((G35)=0,"",(L35/G35)) | O35: =IF($A35<>"",VLOOKUP($A35,[3]Rates!$A$1:$R$65536,15,FALSE),0) -> 0 | P35: =$E35*O35 -> 0 | R35: =P35-J35 -> 0.82 | S35: =IF((J35)=0,"",(R35/J35)) -> -1
A36: =[3]Rates!$A39 -> SG16_R | B36: =[3]Rates!$B$39 -> Smart Grid True-up (2016) | D36: Monthly | E36: 1 | F36: =IF(A36<>"",VLOOKUP(A36,[3]Rates!$A$1:$R$65536,12,FALSE),0) -> 0 | G36: =E36*F36 -> 0 | I36: =IF($A36<>"",VLOOKUP($A36,[3]Rates!$A$1:$R$65536,14,FALSE),0) -> -0.17 | J36: =$E36*I36 -> -0.17 | L36: =J36-G36 -> -0.17 | M36: =IF((G36)=0,"",(L36/G36)) | O36: =IF($A36<>"",VLOOKUP($A36,[3]Rates!$A$1:$R$65536,15,FALSE),0) -> 0 | P36: =$E36*O36 -> 0 | R36: =P36-J36 -> 0.17 | S36: =IF((J36)=0,"",(R36/J36)) -> -1
A37: =[3]Rates!$A40 -> SMA16_R | B37: =[3]Rates!$B$40 -> Recovery of Stranded Meter Assets (2016) | D37: Monthly | E37: 1 | F37: =IF(A37<>"",VLOOKUP(A37,[3]Rates!$A$1:$R$65536,12,FALSE),0) -> 0 | G37: =E37*F37 -> 0 | I37: =IF($A37<>"",VLOOKUP($A37,[3]Rates!$A$1:$R$65536,14,FALSE),0) -> 0 | J37: =$E37*I37 -> 0 | L37: =J37-G37 -> 0 | M37: =IF((G37)=0,"",(L37/G37)) | O37: =IF($A37<>"",VLOOKUP($A37,[3]Rates!$A$1:$R$65536,15,FALSE),0) -> 0.06 | P37: =$E37*O37 -> 0.06 | R37: =P37-J37 -> 0.06 | S37: =IF((J37)=0,"",(R37/J37))
A38: LRVA_R | D38: per kWh | E38: =F18 -> 750 | G38: =E38*F38 -> 0 | I38: =IF($A38<>"",VLOOKUP($A38,[3]Rates!$A$1:$R$65536,14,FALSE),0) -> 0 | J38: =$E38*I38 -> 0 | L38: =J38-G38 -> 0 | M38: =IF((G38)=0,"",(L38/G38)) | O38: =IF($A38<>"",VLOOKUP($A38,[3]Rates!$A$1:$R$65536,15,FALSE),0) -> 0 | P38: =$E38*O38 -> 0 | R38: =P38-J38 -> 0 | S38: =IF((J38)=0,"",(R38/J38))
B39: Sub-Total A (excluding pass through) | G39: =SUM(G23:G38) -> 23.515 | J39: =SUM(J23:J38) -> 30.61 | L39: =J39-G39 -> 7.095 | M39: =IF((G39)=0,"",(L39/G39)) -> 0.3017223 | P39: =SUM(P23:P38) -> 28.97 | R39: =P39-J39 -> -1.64 | S39: =IF((J39)=0,"",(R39/J39)) -> -0.053577262
A40: RAL14_R | D40: per kWh | E40: =$F$18 -> 750 | G40: =E40*F40 -> 0 | I40: =IF($A40<>"",VLOOKUP($A40,[3]Rates!$A$1:$R$65536,14,FALSE),0) -> 0 | J40: =$E40*I40 -> 0 | L40: =J40-G40 -> 0 | M40: =IF((G40)=0,"",(L40/G40)) | O40: =IF($A40<>"",VLOOKUP($A40,[3]Rates!$A$1:$R$65536,15,FALSE),0) -> 0 | P40: =$E40*O40 -> 0 | R40: =P40-J40 -> 0 | S40: =IF((J40)=0,"",(R40/J40))
A41: =[3]Rates!$A$33 -> RAL16_R | B41: =[3]Rates!$B$33 -> Disposition of Deferral/Variance Accounts (2016) | D41: per kWh | E41: =$F$18 -> 750 | F41: =IF(A41<>"",VLOOKUP(A41,[3]Rates!$A$1:$R$65536,12,FALSE),0) -> 0 | G41: =E41*F41 -> 0 | I41: =IF($A41<>"",VLOOKUP($A41,[3]Rates!$A$1:$R$65536,14,FALSE),0) -> 0 | J41: =$E41*I41 -> 0 | L41: =J41-G41 -> 0 | M41: =IF((G41)=0,"",(L41/G41)) | O41: =IF($A41<>"",VLOOKUP($A41,[3]Rates!$A$1:$R$65536,15,FALSE),0) -> 0.0003 | P41: =$E41*O41 -> 0.225 | R41: =P41-J41 -> 0.225 | S41: =IF((J41)=0,"",(R41/J41))
A42: =[3]Rates!$A$34 -> RALP16_R | B42: =[3]Rates!$B$34 -> Disposition of Deferral/Variance Accounts - Power (2016) | D42: per kWh | E42: =$F$18 -> 750 | F42: =IF(A42<>"",VLOOKUP(A42,[3]Rates!$A$1:$R$65536,12,FALSE),0) -> 0 | G42: =E42*F42 -> 0 | I42: =IF($A42<>"",VLOOKUP($A42,[3]Rates!$A$1:$R$65536,14,FALSE),0) -> -0.0026 | J42: =$E42*I42 -> -1.95 | L42: =J42-G42 -> -1.95 | M42: =IF((G42)=0,"",(L42/G42)) | O42: =IF($A42<>"",VLOOKUP($A42,[3]Rates!$A$1:$R$65536,15,FALSE),0) -> 0 | P42: =$E42*O42 -> 0 | R42: =P42-J42 -> 1.95 | S42: =IF((J42)=0,"",(R42/J42)) -> -1
E43: =$F$18 -> 750 | F43: =IF(A43<>"",VLOOKUP(A43,[3]Rates!$A$1:$R$65536,12,FALSE),0) -> 0 | G43: =E43*F43 -> 0 | I43: =IF($A43<>"",VLOOKUP($A43,[3]Rates!$A$1:$R$65536,14,FALSE),0) -> 0 | J43: =$E43*I43 -> 0 | L43: =J43-G43 -> 0 | M43: =IF((G43)=0,"",(L43/G43)) | O43: =IF($A43<>"",VLOOKUP($A43,[3]Rates!$A$1:$R$65536,15,FALSE),0) -> 0 | P43: =$E43*O43 -> 0 | R43: =P43-J43 -> 0 | S43: =IF((J43)=0,"",(R43/J43))
A44: LV_R | B44: Low Voltage Service Charge | D44: per kWh | E44: =$F$18 -> 750 | F44: =IF(A44<>"",VLOOKUP(A44,[3]Rates!$A$1:$R$65536,12,FALSE),0) -> 0.0003 | G44: =E44*F44 -> 0.225 | I44: =IF($A44<>"",VLOOKUP($A44,[3]Rates!$A$1:$R$65536,14,FALSE),0) -> 0.0003 | J44: =$E44*I44 -> 0.225 | L44: =J44-G44 -> 0 | M44: =IF((G44)=0,"",(L44/G44)) -> 0 | O44: =IF($A44<>"",VLOOKUP($A44,[3]Rates!$A$1:$R$65536,15,FALSE),0) -> 0.0005 | P44: =$E44*O44 -> 0.375 | R44: =P44-J44 -> 0.15 | S44: =IF((J44)=0,"",(R44/J44)) -> 0.66666667
B45: Line Losses on Cost of Power | E45: =$F$18*(1+$F$74)-$F$18 -> 25.875 | F45: =IF(ISBLANK(D16)=TRUE, 0, IF(D16="TOU", 0.64*$F$55+0.18*$F$56+0.18*$F$57, IF(AND(D16="non-TOU", E59>0), F59,F58))) -> 0.11184 | G45: =E45*F45 -> 2.89386 | H45: =$F$18*(1+$O$74)-$F$18 -> 27.675 | I45: =0.64*$F$55+0.18*$F$56+0.18*$F$57 -> 0.11184 | J45: =$E45*I45 -> 2.89386 | L45: =J45-G45 -> 0 | M45: =IF((G45)=0,"",(L45/G45)) -> 0 | O45: =0.64*$F$55+0.18*$F$56+0.18*$F$57 -> 0.11184 | P45: =$H45*O45 -> 3.095172 | R45: =P45-J45 -> 0.201312 | S45: =IF((J45)=0,"",(R45/J45)) -> 0.069565217
B46: Smart Meter Entity Charge | D46: Monthly | E46: 1 | F46: 0.79 | G46: =E46*F46 -> 0.79 | I46: 0.79 | J46: =$E46*I46 -> 0.79 | L46: =J46-G46 -> 0 | O46: 0.79 | P46: =$E46*O46 -> 0.79 | R46: =P46-J46 -> 0 | S46: =IF((J46)=0,"",(R46/J46)) -> 0
B47: Sub-Total B - Distribution (includes Sub-Total A) | G47: =SUM(G40:G46)+G39 -> 27.42386 | J47: =SUM(J40:J46)+J39 -> 32.56886 | L47: =J47-G47 -> 5.145 | M47: =IF((G47)=0,"",(L47/G47)) -> 0.18761035 | P47: =SUM(P40:P46)+P39 -> 33.455172 | R47: =P47-J47 -> 0.886312 | S47: =IF((J47)=0,"",(R47/J47)) -> 0.027213479
A48: TN_R | B48: RTSR - Network | D48: per kWh | E48: =F18*(1+F74) -> 775.875 | F48: =IF(A48<>"",VLOOKUP(A48,[3]Rates!$A$1:$R$65536,12,FALSE),0) -> 0.008 | G48: =E48*F48 -> 6.207 | H48: =F18*(1+O74) -> 777.675 | I48: =IF($A48<>"",VLOOKUP($A48,[3]Rates!$A$1:$R$65536,14,FALSE),0) -> 0.008 | J48: =$E48*I48 -> 6.207 | L48: =J48-G48 -> 0 | M48: =IF((G48)=0,"",(L48/G48)) -> 0 | O48: =IF($A48<>"",VLOOKUP($A48,[3]Rates!$A$1:$R$65536,15,FALSE),0) -> 0.0082 | P48: =$H48*O48 -> 6.376935 | R48: =P48-J48 -> 0.169935 | S48: =IF((J48)=0,"",(R48/J48)) -> 0.02737796
A49: TC_R | B49: RTSR - Line and Transformation Connection | D49: per kWh | E49: =E48 -> 775.875 | F49: =IF(A49<>"",VLOOKUP(A49,[3]Rates!$A$1:$R$65536,12,FALSE),0) -> 0.0035 | G49: =E49*F49 -> 2.7155625 | H49: =H48 -> 777.675 | I49: =IF($A49<>"",VLOOKUP($A49,[3]Rates!$A$1:$R$65536,14,FALSE),0) -> 0.0035 | J49: =$E49*I49 -> 2.7155625 | L49: =J49-G49 -> 0 | M49: =IF((G49)=0,"",(L49/G49)) -> 0 | O49: =IF($A49<>"",VLOOKUP($A49,[3]Rates!$A$1:$R$65536,15,FALSE),0) -> 0.0038 | P49: =$H49*O49 -> 2.955165 | R49: =P49-J49 -> 0.2396025 | S49: =IF((J49)=0,"",(R49/J49)) -> 0.088233101
B50: Sub-Total C - Delivery (including Sub-Total B) | G50: =SUM(G47:G49) -> 36.346422 | J50: =SUM(J47:J49) -> 41.491422 | L50: =J50-G50 -> 5.145 | M50: =IF((G50)=0,"",(L50/G50)) -> 0.14155451 | P50: =SUM(P47:P49) -> 42.787272 | R50: =P50-J50 -> 1.2958495 | S50: =IF((J50)=0,"",(R50/J50)) -> 0.031231744
...

Sheet GS<50
O1: May 1 - Oct 31 | P1: 1 | R1: 2
O2: Nov 1 - Apr 30 | P2: 2
B10: Appendix 2-W
B11: Bill Impacts - GS<50
B14: Customer Class: | D14: GS<50
B16: TOU / non-TOU: | D16: TOU
D18: Consumption | F18: 2000
F20: 2015 Current Board-Approved | I20: =Residential!I20 -> 2016 | L20: =Residential!L20 -> Impact 2016 vs. 2015 | O20: =Residential!O20 -> 2017 TEST YEAR | R20: =Residential!R20 -> Impact 2017 TEST vs. 2016
D21: Charge Unit | E21: Volume | F21: Rate | G21: Charge | I21: Rate | J21: Charge | L21: $ Change | M21: % Change | O21: Rate | P21: Charge | R21: $ Change | S21: % Change
F22: ($) | G22: ($) | I22: ($) | J22: ($) | O22: ($) | P22: ($)
A23: =[3]Rates!$A$48 -> Fix_GS | B23: Monthly Service Charge | D23: Monthly | E23: 1 | F23: =IF($A23<>"",VLOOKUP($A23,[3]Rates!$A$1:$R$65536,12,FALSE),0) -> 26.08 | G23: =E23*F23 -> 26.08 | I23: =IF($A23<>"",VLOOKUP($A23,[3]Rates!$A$1:$R$65536,14,FALSE),0) -> 28.75 | J23: =$E23*I23 -> 28.75 | L23: =J23-G23 -> 2.67 | M23: =IF((G23)=0,"",(L23/G23)) -> 0.1023773 | O23: =IF($A23<>"",VLOOKUP($A23,[3]Rates!$A$1:$R$65536,15,FALSE),0) -> 29.038154 | P23: =$E23*O23 -> 29.038154 | R23: =P23-J23 -> 0.28815402 | S23: =IF((J23)=0,"",(R23/J23)) -> 0.010022749
B24: Smart Meter Rate Adder | D24: Monthly | E24: 1 | F24: =IF($A24<>"",VLOOKUP($A24,[3]Rates!$A$1:$R$65536,12,FALSE),0) -> 0 | G24: =E24*F24 -> 0 | I24: =IF($A24<>"",VLOOKUP($A24,[3]Rates!$A$1:$R$65536,14,FALSE),0) -> 0 | J24: =$E24*I24 -> 0 | L24: =J24-G24 -> 0 | M24: =IF((G24)=0,"",(L24/G24)) | O24: =IF($A24<>"",VLOOKUP($A24,[3]Rates!$A$1:$R$65536,15,FALSE),0) -> 0 | P24: =$E24*O24 -> 0 | R24: =P24-J24 -> 0 | S24: =IF((J24)=0,"",(R24/J24))
A25: =[3]Rates!$A$50 -> PPE_GS | B25: Recovery of CGAAP/CWIP Differential | D25: Monthly | E25: 1 | F25: =IF($A25<>"",VLOOKUP($A25,[3]Rates!$A$1:$R$65536,12,FALSE),0) -> 0.55 | G25: =E25*F25 -> 0.55 | I25: =IF($A25<>"",VLOOKUP($A25,[3]Rates!$A$1:$R$65536,14,FALSE),0) -> 0.55 | J25: =$E25*I25 -> 0.55 | L25: =J25-G25 -> 0 | M25: =IF((G25)=0,"",(L25/G25)) -> 0 | O25: =IF($A25<>"",VLOOKUP($A25,[3]Rates!$A$1:$R$65536,15,FALSE),0) -> 0 | P25: =$E25*O25 -> 0 | R25: =P25-J25 -> -0.55 | S25: =IF((J25)=0,"",(R25/J25)) -> -1
A26: =[3]Rates!$A$51 -> ICMF_GS | B26: ICM Rate Rider (2014) | D26: Monthly | E26: 1 | F26: =IF($A26<>"",VLOOKUP($A26,[3]Rates!$A$1:$R$65536,12,FALSE),0) -> 0.14 | G26: =E26*F26 -> 0.14 | I26: =IF($A26<>"",VLOOKUP($A26,[3]Rates!$A$1:$R$65536,14,FALSE),0) -> 0 | J26: =$E26*I26 -> 0 | L26: =J26-G26 -> -0.14 | M26: =IF((G26)=0,"",(L26/G26)) -> -1 | O26: =IF($A26<>"",VLOOKUP($A26,[3]Rates!$A$1:$R$65536,15,FALSE),0) -> 0 | P26: =$E26*O26 -> 0 | R26: =P26-J26 -> 0 | S26: =IF((J26)=0,"",(R26/J26))
A27: FR_GS | B27: Forgone Revenue Rate Rider - Fixed Component (2016) | D27: Monthly | E27: 1 | F27: =IF($A27<>"",VLOOKUP($A27,[3]Rates!$A$1:$R$65536,12,FALSE),0) -> 0 | G27: =E27*F27 -> 0 | I27: =IF($A27<>"",VLOOKUP($A27,[3]Rates!$A$1:$R$65536,14,FALSE),0) -> 7.55 | J27: =$E27*I27 -> 7.55 | L27: =J27-G27 -> 7.55 | M27: =IF((G27)=0,"",(L27/G27)) | O27: =IF($A27<>"",VLOOKUP($A27,[3]Rates!$A$1:$R$65536,15,FALSE),0) -> 0 | P27: =$E27*O27 -> 0 | R27: =P27-J27 -> -7.55 | S27: =IF((J27)=0,"",(R27/J27)) -> -1
E28: 1 | F28: =IF($A28<>"",VLOOKUP($A28,[3]Rates!$A$1:$R$65536,12,FALSE),0) -> 0 | G28: =E28*F28 -> 0 | I28: =IF($A28<>"",VLOOKUP($A28,[3]Rates!$A$1:$R$65536,14,FALSE),0) -> 0 | J28: =$E28*I28 -> 0 | L28: =J28-G28 -> 0 | M28: =IF((G28)=0,"",(L28/G28)) | O28: =IF($A28<>"",VLOOKUP($A28,[3]Rates!$A$1:$R$65536,15,FALSE),0) -> 0 | P28: =$E28*O28 -> 0 | R28: =P28-J28 -> 0 | S28: =IF((J28)=0,"",(R28/J28))
A29: =[3]Rates!$A$53 -> Var_GS | B29: Distribution Volumetric Rate | D29: per kWh | E29: =$F$18 -> 2000 | F29: =IF($A29<>"",VLOOKUP($A29,[3]Rates!$A$1:$R$65536,12,FALSE),0) -> 0.0139 | G29: =E29*F29 -> 27.8 | I29: =IF($A29<>"",VLOOKUP($A29,[3]Rates!$A$1:$R$65536,14,FALSE),0) -> 0.0153 | J29: =$E29*I29 -> 30.6 | L29: =J29-G29 -> 2.8 | M29: =IF((G29)=0,"",(L29/G29)) -> 0.10071942 | O29: =IF($A29<>"",VLOOKUP($A29,[3]Rates!$A$1:$R$65536,15,FALSE),0) -> 0.0189 | P29: =$E29*O29 -> 37.8 | R29: =P29-J29 -> 7.2 | S29: =IF((J29)=0,"",(R29/J29)) -> 0.23529412
B30: Smart Meter Disposition Rider | D30: per kWh | E30: =$F$18 -> 2000 | F30: =IF($A30<>"",VLOOKUP($A30,[3]Rates!$A$1:$R$65536,12,FALSE),0) -> 0 | G30: =E30*F30 -> 0 | I30: =IF($A30<>"",VLOOKUP($A30,[3]Rates!$A$1:$R$65536,14,FALSE),0) -> 0 | J30: =$E30*I30 -> 0 | L30: =J30-G30 -> 0 | M30: =IF((G30)=0,"",(L30/G30)) | O30: =IF($A30<>"",VLOOKUP($A30,[3]Rates!$A$1:$R$65536,15,FALSE),0) -> 0 | P30: =$E30*O30 -> 0 | R30: =P30-J30 -> 0 | S30: =IF((J30)=0,"",(R30/J30))
A31: FRV_GS | B31: Forgone Revenue Rate Rider - Variable Component (2016) | D31: per kWh | E31: =$F$18 -> 2000 | F31: =IF($A31<>"",VLOOKUP($A31,[3]Rates!$A$1:$R$65536,12,FALSE),0) -> 0 | G31: =E31*F31 -> 0 | I31: =IF($A31<>"",VLOOKUP($A31,[3]Rates!$A$1:$R$65536,14,FALSE),0) -> 0.004 | J31: =$E31*I31 -> 8 | L31: =J31-G31 -> 8 | M31: =IF((G31)=0,"",(L31/G31)) | O31: =IF($A31<>"",VLOOKUP($A31,[3]Rates!$A$1:$R$65536,15,FALSE),0) -> 0 | P31: =$E31*O31 -> 0 | R31: =P31-J31 -> -8 | S31: =IF((J31)=0,"",(R31/J31)) -> -1
A32: =[3]Rates!$A$60 -> ICMV_GS | B32: ICM Rate Rider (2014) | D32: per kWh | E32: =$F$18 -> 2000 | F32: =IF($A32<>"",VLOOKUP($A32,[3]Rates!$A$1:$R$65536,12,FALSE),0) -> 0.0001 | G32: =E32*F32 -> 0.2 | I32: =IF($A32<>"",VLOOKUP($A32,[3]Rates!$A$1:$R$65536,14,FALSE),0) -> 0 | J32: =$E32*I32 -> 0 | L32: =J32-G32 -> -0.2 | M32: =IF((G32)=0,"",(L32/G32)) -> -1 | O32: =IF($A32<>"",VLOOKUP($A32,[3]Rates!$A$1:$R$65536,15,FALSE),0) -> 0 | P32: =$E32*O32 -> 0 | R32: =P32-J32 -> 0 | S32: =IF((J32)=0,"",(R32/J32))
A33: =[3]Rates!$A69 -> 2RAL16_GS | B33: =[3]Rates!$B69 -> Disposition of Deferral/Variance Accounts - Group 2 Accounts (2016) | D33: per kWh | E33: =$F$18 -> 2000 | F33: =IF($A33<>"",VLOOKUP($A33,[3]Rates!$A$1:$R$65536,12,FALSE),0) -> 0 | G33: =E33*F33 -> 0 | I33: =IF($A33<>"",VLOOKUP($A33,[3]Rates!$A$1:$R$65536,14,FALSE),0) -> 0 | J33: =$E33*I33 -> 0 | L33: =J33-G33 -> 0 | M33: =IF((G33)=0,"",(L33/G33)) | O33: =IF($A33<>"",VLOOKUP($A33,[3]Rates!$A$1:$R$65536,15,FALSE),0) -> 0.0002 | P33: =$E33*O33 -> 0.4 | R33: =P33-J33 -> 0.4 | S33: =IF((J33)=0,"",(R33/J33))
A34: =[3]Rates!$A70 -> LRVA16_GS | B34: =[3]Rates!$B70 -> Lost Revenue Adjustment Mechanism Variance Account (LRAMVA) (2016) | D34: per kWh | E34: =$F$18 -> 2000 | F34: =IF($A34<>"",VLOOKUP($A34,[3]Rates!$A$1:$R$65536,12,FALSE),0) -> 0 | G34: =E34*F34 -> 0 | I34: =IF($A34<>"",VLOOKUP($A34,[3]Rates!$A$1:$R$65536,14,FALSE),0) -> 0.0002 | J34: =$E34*I34 -> 0.4 | L34: =J34-G34 -> 0.4 | M34: =IF((G34)=0,"",(L34/G34)) | O34: =IF($A34<>"",VLOOKUP($A34,[3]Rates!$A$1:$R$65536,15,FALSE),0) -> 0 | P34: =$E34*O34 -> 0 | R34: =P34-J34 -> -0.4 | S34: =IF((J34)=0,"",(R34/J34)) -> -1
A35: =[3]Rates!$A71 -> PPE16_GS | B35: =[3]Rates!$B71 -> Account 1575 (2016) | D35: per kWh | E35: =$F$18 -> 2000 | F35: =IF($A35<>"",VLOOKUP($A35,[3]Rates!$A$1:$R$65536,12,FALSE),0) -> 0 | G35: =E35*F35 -> 0 | I35: =IF($A35<>"",VLOOKUP($A35,[3]Rates!$A$1:$R$65536,14,FALSE),0) -> -0.0012 | J35: =$E35*I35 -> -2.4 | L35: =J35-G35 -> -2.4 | M35: =IF((G35)=0,"",(L35/G35)) | O35: =IF($A35<>"",VLOOKUP($A35,[3]Rates!$A$1:$R$65536,15,FALSE),0) -> 0 | P35: =$E35*O35 -> 0 | R35: =P35-J35 -> 2.4 | S35: =IF((J35)=0,"",(R35/J35)) -> -1
A36: =[3]Rates!$A72 -> SG16_GS | B36: =[3]Rates!$B72 -> Smart Grid True-up (2016) | D36: Monthly | E36: 1 | F36: =IF($A36<>"",VLOOKUP($A36,[3]Rates!$A$1:$R$65536,12,FALSE),0) -> 0 | G36: =E36*F36 -> 0 | I36: =IF($A36<>"",VLOOKUP($A36,[3]Rates!$A$1:$R$65536,14,FALSE),0) -> -0.67 | J36: =$E36*I36 -> -0.67 | L36: =J36-G36 -> -0.67 | M36: =IF((G36)=0,"",(L36/G36)) | O36: =IF($A36<>"",VLOOKUP($A36,[3]Rates!$A$1:$R$65536,15,FALSE),0) -> 0 | P36: =$E36*O36 -> 0 | R36: =P36-J36 -> 0.67 | S36: =IF((J36)=0,"",(R36/J36)) -> -1
A37: =[3]Rates!$A73 -> SMA16_GS | B37: =[3]Rates!$B73 -> Recovery of Stranded Meter Assets (2016) | D37: Monthly | E37: 1 | F37: =IF($A37<>"",VLOOKUP($A37,[3]Rates!$A$1:$R$65536,12,FALSE),0) -> 0 | G37: =E37*F37 -> 0 | I37: =IF($A37<>"",VLOOKUP($A37,[3]Rates!$A$1:$R$65536,14,FALSE),0) -> 0 | J37: =$E37*I37 -> 0 | L37: =J37-G37 -> 0 | M37: =IF((G37)=0,"",(L37/G37)) | O37: =IF($A37<>"",VLOOKUP($A37,[3]Rates!$A$1:$R$65536,15,FALSE),0) -> 0.21 | P37: =$E37*O37 -> 0.21 | R37: =P37-J37 -> 0.21 | S37: =IF((J37)=0,"",(R37/J37))
A38: =[3]Rates!$A$65 -> LRVA_GS | D38: per kWh | E38: =E35 -> 2000 | G38: =E38*F38 -> 0 | I38: =IF($A38<>"",VLOOKUP($A38,[3]Rates!$A$1:$R$65536,14,FALSE),0) -> 0 | J38: =$E38*I38 -> 0 | L38: =J38-G38 -> 0 | M38: =IF((G38)=0,"",(L38/G38)) | O38: =IF($A38<>"",VLOOKUP($A38,[3]Rates!$A$1:$R$65536,15,FALSE),0) -> 0 | P38: =$E38*O38 -> 0 | R38: =P38-J38 -> 0 | S38: =IF((J38)=0,"",(R38/J38))
B39: Sub-Total A (excluding pass through) | G39: =SUM(G23:G38) -> 54.77 | J39: =SUM(J23:J38) -> 72.78 | L39: =J39-G39 -> 18.01 | M39: =IF((G39)=0,"",(L39/G39)) -> 0.32882965 | P39: =SUM(P23:P38) -> 67.448154 | R39: =P39-J39 -> -5.331846 | S39: =IF((J39)=0,"",(R39/J39)) -> -0.073259769
A40: =[3]Rates!$A$58 -> RAL14_GS | D40: per kWh | E40: =$F$18 -> 2000 | G40: =E40*F40 -> 0 | I40: =IF($A40<>"",VLOOKUP($A40,[3]Rates!$A$1:$R$65536,14,FALSE),0) -> 0 | J40: =$E40*I40 -> 0 | L40: =J40-G40 -> 0 | M40: =IF((G40)=0,"",(L40/G40)) | O40: =IF($A40<>"",VLOOKUP($A40,[3]Rates!$A$1:$R$65536,15,FALSE),0) -> 0 | P40: =$E40*O40 -> 0 | R40: =P40-J40 -> 0 | S40: =IF((J40)=0,"",(R40/J40))
A41: =[3]Rates!$A$66 -> RAL16_GS | B41: =[3]Rates!$B$66 -> Disposition of Deferral/Variance Accounts (2016) | D41: per kWh | E41: =$F$18 -> 2000 | F41: =IF($A41<>"",VLOOKUP($A41,[3]Rates!$A$1:$R$65536,12,FALSE),0) -> 0 | G41: =E41*F41 -> 0 | I41: =IF($A41<>"",VLOOKUP($A41,[3]Rates!$A$1:$R$65536,14,FALSE),0) -> 0 | J41: =$E41*I41 -> 0 | L41: =J41-G41 -> 0 | M41: =IF((G41)=0,"",(L41/G41)) | O41: =IF($A41<>"",VLOOKUP($A41,[3]Rates!$A$1:$R$65536,15,FALSE),0) -> 0.0003 | P41: =$E41*O41 -> 0.6 | R41: =P41-J41 -> 0.6 | S41: =IF((J41)=0,"",(R41/J41))
A42: =[3]Rates!$A$67 -> RALP16_GS | B42: =[3]Rates!$B$67 -> Disposition of Deferral/Variance Accounts - Power (2016) | D42: per kWh | E42: =$F$18 -> 2000 | F42: =IF($A42<>"",VLOOKUP($A42,[3]Rates!$A$1:$R$65536,12,FALSE),0) -> 0 | G42: =E42*F42 -> 0 | I42: =IF($A42<>"",VLOOKUP($A42,[3]Rates!$A$1:$R$65536,14,FALSE),0) -> -0.0026 | J42: =$E42*I42 -> -5.2 | L42: =J42-G42 -> -5.2 | M42: =IF((G42)=0,"",(L42/G42)) | O42: =IF($A42<>"",VLOOKUP($A42,[3]Rates!$A$1:$R$65536,15,FALSE),0) -> 0 | P42: =$E42*O42 -> 0 | R42: =P42-J42 -> 5.2 | S42: =IF((J42)=0,"",(R42/J42)) -> -1
F43: =IF($A43<>"",VLOOKUP($A43,[3]Rates!$A$1:$R$65536,12,FALSE),0) -> 0 | G43: =E43*F43 -> 0 | I43: =IF($A43<>"",VLOOKUP($A43,[3]Rates!$A$1:$R$65536,14,FALSE),0) -> 0 | J43: =$E43*I43 -> 0 | L43: =J43-G43 -> 0 | M43: =IF((G43)=0,"",(L43/G43)) | O43: =IF($A43<>"",VLOOKUP($A43,[3]Rates!$A$1:$R$65536,15,FALSE),0) -> 0 | P43: =$E43*O43 -> 0 | R43: =P43-J43 -> 0 | S43: =IF((J43)=0,"",(R43/J43))
A44: =[3]Rates!$A$54 -> LV_GS | B44: Low Voltage Service Charge | D44: per kWh | E44: =$F$18 -> 2000 | F44: =IF($A44<>"",VLOOKUP($A44,[3]Rates!$A$1:$R$65536,12,FALSE),0) -> 0.0003 | G44: =E44*F44 -> 0.6 | I44: =IF($A44<>"",VLOOKUP($A44,[3]Rates!$A$1:$R$65536,14,FALSE),0) -> 0.0003 | J44: =$E44*I44 -> 0.6 | L44: =J44-G44 -> 0 | M44: =IF((G44)=0,"",(L44/G44)) -> 0 | O44: =IF($A44<>"",VLOOKUP($A44,[3]Rates!$A$1:$R$65536,15,FALSE),0) -> 0.0004 | P44: =$E44*O44 -> 0.8 | R44: =P44-J44 -> 0.2 | S44: =IF((J44)=0,"",(R44/J44)) -> 0.33333333
B45: Line Losses on Cost of Power | E45: =$F$18*(1+$F$74)-$F$18 -> 69 | F45: =IF(ISBLANK(D16)=TRUE, 0, IF(D16="TOU", 0.64*$F$55+0.18*$F$56+0.18*$F$57, IF(AND(D16="non-TOU", E59>0), F59,F58))) -> 0.11184 | G45: =E45*F45 -> 7.71696 | H45: =$F$18*(1+$O$74)-$F$18 -> 73.8 | I45: =0.64*$F$55+0.18*$F$56+0.18*$F$57 -> 0.11184 | J45: =$E45*I45 -> 7.71696 | L45: =J45-G45 -> 0 | M45: =IF((G45)=0,"",(L45/G45)) -> 0 | O45: =0.64*$F$55+0.18*$F$56+0.18*$F$57 -> 0.11184 | P45: =$H45*O45 -> 8.253792 | R45: =P45-J45 -> 0.536832 | S45: =IF((J45)=0,"",(R45/J45)) -> 0.069565217
B46: Smart Meter Entity Charge | D46: Monthly | E46: 1 | F46: 0.79 | G46: =E46*F46 -> 0.79 | I46: 0.79 | J46: =$E46*I46 -> 0.79 | L46: =J46-G46 -> 0 | O46: 0.79 | P46: =$E46*O46 -> 0.79 | R46: =P46-J46 -> 0 | S46: =IF((J46)=0,"",(R46/J46)) -> 0
B47: Sub-Total B - Distribution (includes Sub-Total A) | G47: =SUM(G40:G46)+G39 -> 63.87696 | J47: =SUM(J40:J46)+J39 -> 76.68696 | L47: =J47-G47 -> 12.81 | M47: =IF((G47)=0,"",(L47/G47)) -> 0.20054179 | P47: =SUM(P40:P46)+P39 -> 77.891946 | R47: =P47-J47 -> 1.204986 | S47: =IF((J47)=0,"",(R47/J47)) -> 0.01571305
A48: =[3]Rates!$A$76 -> TN_GS | B48: RTSR - Network | D48: per kWh | E48: =F18*(1+F74) -> 2069 | F48: =IF($A48<>"",VLOOKUP($A48,[3]Rates!$A$1:$R$65536,12,FALSE),0) -> 0.0072 | G48: =E48*F48 -> 14.8968 | H48: =F18*(1+O74) -> 2073.8 | I48: =IF($A48<>"",VLOOKUP($A48,[3]Rates!$A$1:$R$65536,14,FALSE),0) -> 0.0072 | J48: =$E48*I48 -> 14.8968 | L48: =J48-G48 -> 0 | M48: =IF((G48)=0,"",(L48/G48)) -> 0 | O48: =IF($A48<>"",VLOOKUP($A48,[3]Rates!$A$1:$R$65536,15,FALSE),0) -> 0.0073 | P48: =$H48*O48 -> 15.13874 | R48: =P48-J48 -> 0.24194 | S48: =IF((J48)=0,"",(R48/J48)) -> 0.016241072
A49: =[3]Rates!$A$77 -> TC_GS | B49: RTSR - Line and Transformation Connection | D49: per kWh | E49: =E48 -> 2069 | F49: =IF($A49<>"",VLOOKUP($A49,[3]Rates!$A$1:$R$65536,12,FALSE),0) -> 0.003 | G49: =E49*F49 -> 6.207 | H49: =H48 -> 2073.8 | I49: =IF($A49<>"",VLOOKUP($A49,[3]Rates!$A$1:$R$65536,14,FALSE),0) -> 0.003 | J49: =$E49*I49 -> 6.207 | L49: =J49-G49 -> 0 | M49: =IF((G49)=0,"",(L49/G49)) -> 0 | O49: =IF($A49<>"",VLOOKUP($A49,[3]Rates!$A$1:$R$65536,15,FALSE),0) -> 0.0033 | P49: =$H49*O49 -> 6.84354 | R49: =P49-J49 -> 0.63654 | S49: =IF((J49)=0,"",(R49/J49)) -> 0.10255196
B50: Sub-Total C - Delivery (including Sub-Total B) | G50: =SUM(G47:G49) -> 84.98076 | J50: =SUM(J47:J49) -> 97.79076 | L50: =J50-G50 -> 12.81 | M50: =IF((G50)=0,"",(L50/G50)) -> 0.15074 | P50: =SUM(P47:P49) -> 99.874226 | R50: =P50-J50 -> 2.083466 | S50: =IF((J50)=0,"",(R50/J50)) -> 0.021305346
B51: Wholesale Market Service Charge (WMSC) | D51: per kWh | E51: =E49 -> 2069 | F51: 0.0036 | G51: =E51*F51 -> 7.4484 | H51: =H49 -> 2073.8 | I51: 0.0036 | J51: =$E51*I51 -> 7.4484 | L51: =J51-G51 -> 0 | M51: =IF((G51)=0,"",(L51/G51)) -> 0 | O51: =I51 -> 0.0036 | P51: =$H51*O51 -> 7.46568 | R51: =P51-J51 -> 0.01728 | S51: =IF((J51)=0,"",(R51/J51)) -> 0.0023199613
B52: Rural and Remote Rate Protection (RRRP) | D52: per kWh | E52: =E49 -> 2069 | F52: 0.0013 | G52: =E52*F52 -> 2.6897 | H52: =H49 -> 2073.8 | I52: 0.0013 | J52: =$E52*I52 -> 2.6897 | L52: =J52-G52 -> 0 | M52: =IF((G52)=0,"",(L52/G52)) -> 0 | O52: 0.0013 | P52: =$H52*O52 -> 2.69594 | R52: =P52-J52 -> 0.00624 | S52: =IF((J52)=0,"",(R52/J52)) -> 0.0023199613
...

Sheet GS>50
O1: May 1 - Oct 31 | P1: 1 | R1: 2
O2: Nov 1 - Apr 30 | P2: 2
B10: Appendix 2-W
B11: Bill Impacts - GS > 50
B14: Customer Class: | D14: GS > 50
B16: TOU / non-TOU: | D16: TOU
D17: Consumption | F17: 80000
D18: Load | F18: 250
F20: 2015 Current Board-Approved | I20: =Residential!I20 -> 2016 | L20: =Residential!L20 -> Impact 2016 vs. 2015 | O20: =Residential!O20 -> 2017 TEST YEAR | R20: =Residential!R20 -> Impact 2017 TEST vs. 2016
D21: Charge Unit | E21: Volume | F21: Rate | G21: Charge | I21: Rate | J21: Charge | L21: $ Change | M21: % Change | O21: Rate | P21: Charge | R21: $ Change | S21: % Change
F22: ($) | G22: ($) | I22: ($) | J22: ($) | O22: ($) | P22: ($)
A23: =[3]Rates!$A$81 -> Fix_GSL | B23: Monthly Service Charge | D23: Monthly | E23: 1 | F23: =IF($A23<>"",VLOOKUP($A23,[3]Rates!$A$1:$R$65536,12,FALSE),0) -> 138.48 | G23: =E23*F23 -> 138.48 | I23: =IF($A23<>"",VLOOKUP($A23,[3]Rates!$A$1:$R$65536,14,FALSE),0) -> 138.48 | J23: =$E23*I23 -> 138.48 | L23: =J23-G23 -> 0 | M23: =IF((G23)=0,"",(L23/G23)) -> 0 | O23: =IF($A23<>"",VLOOKUP($A23,[3]Rates!$A$1:$R$65536,15,FALSE),0) -> 138.48 | P23: =$E23*O23 -> 138.48 | R23: =P23-J23 -> 0 | S23: =IF((J23)=0,"",(R23/J23)) -> 0
B24: Smart Meter Rate Adder | D24: Monthly | E24: 1 | F24: =IF($A24<>"",VLOOKUP($A24,[3]Rates!$A$1:$R$65536,12,FALSE),0) -> 0 | G24: =E24*F24 -> 0 | I24: =IF($A24<>"",VLOOKUP($A24,[3]Rates!$A$1:$R$65536,14,FALSE),0) -> 0 | J24: =$E24*I24 -> 0 | L24: =J24-G24 -> 0 | M24: =IF((G24)=0,"",(L24/G24)) | O24: =IF($A24<>"",VLOOKUP($A24,[3]Rates!$A$1:$R$65536,15,FALSE),0) -> 0 | P24: =$E24*O24 -> 0 | R24: =P24-J24 -> 0 | S24: =IF((J24)=0,"",(R24/J24))
A25: =[3]Rates!$A$83 -> PPE_GSL | B25: Recovery of CGAAP/CWIP Differential | D25: Monthly | E25: 1 | F25: =IF($A25<>"",VLOOKUP($A25,[3]Rates!$A$1:$R$65536,12,FALSE),0) -> 6.99 | G25: =E25*F25 -> 6.99 | I25: =IF($A25<>"",VLOOKUP($A25,[3]Rates!$A$1:$R$65536,14,FALSE),0) -> 6.99 | J25: =$E25*I25 -> 6.99 | L25: =J25-G25 -> 0 | M25: =IF((G25)=0,"",(L25/G25)) -> 0 | O25: =IF($A25<>"",VLOOKUP($A25,[3]Rates!$A$1:$R$65536,15,FALSE),0) -> 0 | P25: =$E25*O25 -> 0 | R25: =P25-J25 -> -6.99 | S25: =IF((J25)=0,"",(R25/J25)) -> -1
A26: =[3]Rates!$A$84 -> ICMF_GSL | B26: ICM Rate Rider (2014) | D26: Monthly | E26: 1 | F26: =IF($A26<>"",VLOOKUP($A26,[3]Rates!$A$1:$R$65536,12,FALSE),0) -> 0.72 | G26: =E26*F26 -> 0.72 | I26: =IF($A26<>"",VLOOKUP($A26,[3]Rates!$A$1:$R$65536,14,FALSE),0) -> 0 | J26: =$E26*I26 -> 0 | L26: =J26-G26 -> -0.72 | M26: =IF((G26)=0,"",(L26/G26)) -> -1 | O26: =IF($A26<>"",VLOOKUP($A26,[3]Rates!$A$1:$R$65536,15,FALSE),0) -> 0 | P26: =$E26*O26 -> 0 | R26: =P26-J26 -> 0 | S26: =IF((J26)=0,"",(R26/J26))
A27: FR_GSL | B27: Forgone Revenue Rate Rider - Fixed Component (2016) | D27: Monthly | E27: 1 | F27: =IF($A27<>"",VLOOKUP($A27,[3]Rates!$A$1:$R$65536,12,FALSE),0) -> 0 | G27: =E27*F27 -> 0 | I27: =IF($A27<>"",VLOOKUP($A27,[3]Rates!$A$1:$R$65536,14,FALSE),0) -> -2.13 | J27: =$E27*I27 -> -2.13 | L27: =J27-G27 -> -2.13 | M27: =IF((G27)=0,"",(L27/G27)) | O27: =IF($A27<>"",VLOOKUP($A27,[3]Rates!$A$1:$R$65536,15,FALSE),0) -> 0 | P27: =$E27*O27 -> 0 | R27: =P27-J27 -> 2.13 | S27: =IF((J27)=0,"",(R27/J27)) -> -1
E28: 1 | F28: =IF($A28<>"",VLOOKUP($A28,[3]Rates!$A$1:$R$65536,12,FALSE),0) -> 0 | G28: =E28*F28 -> 0 | I28: =IF($A28<>"",VLOOKUP($A28,[3]Rates!$A$1:$R$65536,14,FALSE),0) -> 0 | J28: =$E28*I28 -> 0 | L28: =J28-G28 -> 0 | M28: =IF((G28)=0,"",(L28/G28)) | O28: =IF($A28<>"",VLOOKUP($A28,[3]Rates!$A$1:$R$65536,15,FALSE),0) -> 0 | P28: =$E28*O28 -> 0 | R28: =P28-J28 -> 0 | S28: =IF((J28)=0,"",(R28/J28))
A29: =[3]Rates!$A$86 -> Var_GSL | B29: Distribution Volumetric Rate | D29: per kW | E29: =$F$18 -> 250 | F29: =IF($A29<>"",VLOOKUP($A29,[3]Rates!$A$1:$R$65536,12,FALSE),0) -> 3.3278 | G29: =E29*F29 -> 831.95 | I29: =IF($A29<>"",VLOOKUP($A29,[3]Rates!$A$1:$R$65536,14,FALSE),0) -> 3.7199 | J29: =$E29*I29 -> 929.975 | L29: =J29-G29 -> 98.025 | M29: =IF((G29)=0,"",(L29/G29)) -> 0.11782559 | O29: =IF($A29<>"",VLOOKUP($A29,[3]Rates!$A$1:$R$65536,15,FALSE),0) -> 4.3278 | P29: =$E29*O29 -> 1081.95 | R29: =P29-J29 -> 151.975 | S29: =IF((J29)=0,"",(R29/J29)) -> 0.16341837
B30: Smart Meter Disposition Rider | D30: per kW | E30: =$F$18 -> 250 | F30: =IF($A30<>"",VLOOKUP($A30,[3]Rates!$A$1:$R$65536,12,FALSE),0) -> 0 | G30: =E30*F30 -> 0 | I30: =IF($A30<>"",VLOOKUP($A30,[3]Rates!$A$1:$R$65536,14,FALSE),0) -> 0 | J30: =$E30*I30 -> 0 | L30: =J30-G30 -> 0 | M30: =IF((G30)=0,"",(L30/G30)) | O30: =IF($A30<>"",VLOOKUP($A30,[3]Rates!$A$1:$R$65536,15,FALSE),0) -> 0 | P30: =$E30*O30 -> 0 | R30: =P30-J30 -> 0 | S30: =IF((J30)=0,"",(R30/J30))
A31: FRV_GSL | B31: Forgone Revenue Rate Rider - Variable Component (2016) | D31: per kW | E31: =$F$18 -> 250 | F31: =IF($A31<>"",VLOOKUP($A31,[3]Rates!$A$1:$R$65536,12,FALSE),0) -> 0 | G31: =E31*F31 -> 0 | I31: =IF($A31<>"",VLOOKUP($A31,[3]Rates!$A$1:$R$65536,14,FALSE),0) -> 1.1617 | J31: =$E31*I31 -> 290.425 | L31: =J31-G31 -> 290.425 | M31: =IF((G31)=0,"",(L31/G31)) | O31: =IF($A31<>"",VLOOKUP($A31,[3]Rates!$A$1:$R$65536,15,FALSE),0) -> 0 | P31: =$E31*O31 -> 0 | R31: =P31-J31 -> -290.425 | S31: =IF((J31)=0,"",(R31/J31)) -> -1
A32: =[3]Rates!$A$92 -> ICMV_GSL | B32: ICM Rate Rider (2014) | D32: per kW | E32: =$F$18 -> 250 | F32: =IF($A32<>"",VLOOKUP($A32,[3]Rates!$A$1:$R$65536,12,FALSE),0) -> 0.0173 | G32: =E32*F32 -> 4.325 | I32: =IF($A32<>"",VLOOKUP($A32,[3]Rates!$A$1:$R$65536,14,FALSE),0) -> 0 | J32: =$E32*I32 -> 0 | L32: =J32-G32 -> -4.325 | M32: =IF((G32)=0,"",(L32/G32)) -> -1 | O32: =IF($A32<>"",VLOOKUP($A32,[3]Rates!$A$1:$R$65536,15,FALSE),0) -> 0 | P32: =$E32*O32 -> 0 | R32: =P32-J32 -> 0 | S32: =IF((J32)=0,"",(R32/J32))
A33: =[3]Rates!$A102 -> 2RAL16_GSL | B33: =[3]Rates!$B$102 -> Disposition of Deferral/Variance Accounts - Group 2 Accounts (2016) | D33: per kW | E33: =$F$18 -> 250 | F33: =IF($A33<>"",VLOOKUP($A33,[3]Rates!$A$1:$R$65536,12,FALSE),0) -> 0 | G33: =E33*F33 -> 0 | I33: =IF($A33<>"",VLOOKUP($A33,[3]Rates!$A$1:$R$65536,14,FALSE),0) -> 0.1273 | J33: =$E33*I33 -> 31.825 | L33: =J33-G33 -> 31.825 | M33: =IF((G33)=0,"",(L33/G33)) | O33: =IF($A33<>"",VLOOKUP($A33,[3]Rates!$A$1:$R$65536,15,FALSE),0) -> 0.1273 | P33: =$E33*O33 -> 31.825 | R33: =P33-J33 -> 0 | S33: =IF((J33)=0,"",(R33/J33)) -> 0
A34: =[3]Rates!$A103 -> LRVA16_GSL | B34: =[3]Rates!$B103 -> Lost Revenue Adjustment Mechanism Variance Account (LRAMVA) (2016) | D34: per kW | E34: =$F$18 -> 250 | F34: =IF($A34<>"",VLOOKUP($A34,[3]Rates!$A$1:$R$65536,12,FALSE),0) -> 0 | G34: =E34*F34 -> 0 | I34: =IF($A34<>"",VLOOKUP($A34,[3]Rates!$A$1:$R$65536,14,FALSE),0) -> -0.0196 | J34: =$E34*I34 -> -4.9 | L34: =J34-G34 -> -4.9 | M34: =IF((G34)=0,"",(L34/G34)) | O34: =IF($A34<>"",VLOOKUP($A34,[3]Rates!$A$1:$R$65536,15,FALSE),0) -> -0.0196 | P34: =$E34*O34 -> -4.9 | R34: =P34-J34 -> 0 | S34: =IF((J34)=0,"",(R34/J34)) -> 0
A35: =[3]Rates!$A104 -> PPE16_GSL | B35: =[3]Rates!$B104 -> Account 1575 (2016) | D35: per kW | E35: =$F$18 -> 250 | F35: =IF($A35<>"",VLOOKUP($A35,[3]Rates!$A$1:$R$65536,12,FALSE),0) -> 0 | G35: =E35*F35 -> 0 | I35: =IF($A35<>"",VLOOKUP($A35,[3]Rates!$A$1:$R$65536,14,FALSE),0) -> -0.1105 | J35: =$E35*I35 -> -27.625 | L35: =J35-G35 -> -27.625 | M35: =IF((G35)=0,"",(L35/G35)) | O35: =IF($A35<>"",VLOOKUP($A35,[3]Rates!$A$1:$R$65536,15,FALSE),0) -> -0.1105 | P35: =$E35*O35 -> -27.625 | R35: =P35-J35 -> 0 | S35: =IF((J35)=0,"",(R35/J35)) -> 0
A36: =[3]Rates!$A105 -> SG16_GSL | B36: =[3]Rates!$B105 -> Smart Grid True-up (2016) | D36: Monthly | E36: 1 | F36: =IF($A36<>"",VLOOKUP($A36,[3]Rates!$A$1:$R$65536,12,FALSE),0) -> 0 | G36: =E36*F36 -> 0 | I36: =IF($A36<>"",VLOOKUP($A36,[3]Rates!$A$1:$R$65536,14,FALSE),0) -> -4.81 | J36: =$E36*I36 -> -4.81 | L36: =J36-G36 -> -4.81 | M36: =IF((G36)=0,"",(L36/G36)) | O36: =IF($A36<>"",VLOOKUP($A36,[3]Rates!$A$1:$R$65536,15,FALSE),0) -> -4.81 | P36: =$E36*O36 -> -4.81 | R36: =P36-J36 -> 0 | S36: =IF((J36)=0,"",(R36/J36)) -> 0
A37: =[3]Rates!$A$98 -> LRVA_GSL | D37: per kW | E37: =E29 -> 250 | G37: =E37*F37 -> 0 | I37: =IF($A37<>"",VLOOKUP($A37,[3]Rates!$A$1:$R$65536,14,FALSE),0) -> 0 | J37: =$E37*I37 -> 0 | L37: =J37-G37 -> 0 | M37: =IF((G37)=0,"",(L37/G37)) | O37: =IF($A37<>"",VLOOKUP($A37,[3]Rates!$A$1:$R$65536,15,FALSE),0) -> 0 | P37: =$E37*O37 -> 0 | R37: =P37-J37 -> 0 | S37: =IF((J37)=0,"",(R37/J37))
F38: =IF($A38<>"",VLOOKUP($A38,[3]Rates!$A$1:$R$65536,12,FALSE),0) -> 0 | G38: =E38*F38 -> 0 | I38: =IF($A38<>"",VLOOKUP($A38,[3]Rates!$A$1:$R$65536,14,FALSE),0) -> 0 | J38: =$E38*I38 -> 0 | L38: =J38-G38 -> 0 | M38: =IF((G38)=0,"",(L38/G38)) | O38: =IF($A38<>"",VLOOKUP($A38,[3]Rates!$A$1:$R$65536,15,FALSE),0) -> 0 | P38: =$E38*O38 -> 0 | R38: =P38-J38 -> 0 | S38: =IF((J38)=0,"",(R38/J38))
B39: Sub-Total A (excluding pass through) | G39: =SUM(G23:G38) -> 982.465 | J39: =SUM(J23:J38) -> 1358.23 | L39: =J39-G39 -> 375.765 | M39: =IF((G39)=0,"",(L39/G39)) -> 0.38247164 | P39: =SUM(P23:P38) -> 1214.92 | R39: =P39-J39 -> -143.31 | S39: =IF((J39)=0,"",(R39/J39)) -> -0.10551232
A40: =[3]Rates!$A$90 -> RAL14_GSL | D40: per kW | E40: =$F$18 -> 250 | G40: =E40*F40 -> 0 | I40: =IF($A40<>"",VLOOKUP($A40,[3]Rates!$A$1:$R$65536,14,FALSE),0) -> 0 | J40: =$E40*I40 -> 0 | L40: =J40-G40 -> 0 | M40: =IF((G40)=0,"",(L40/G40)) | O40: =IF($A40<>"",VLOOKUP($A40,[3]Rates!$A$1:$R$65536,15,FALSE),0) -> 0 | P40: =$E40*O40 -> 0 | R40: =P40-J40 -> 0 | S40: =IF((J40)=0,"",(R40/J40))
A41: =[3]Rates!$A99 -> RAL16_GSL | B41: =[3]Rates!$B99 -> Disposition of Deferral/Variance Accounts (2016) | D41: per kW | E41: =$F$18 -> 250 | F41: =IF($A41<>"",VLOOKUP($A41,[3]Rates!$A$1:$R$65536,12,FALSE),0) -> 0 | G41: =E41*F41 -> 0 | I41: =IF($A41<>"",VLOOKUP($A41,[3]Rates!$A$1:$R$65536,14,FALSE),0) -> 0.2338 | J41: =$E41*I41 -> 58.45 | L41: =J41-G41 -> 58.45 | M41: =IF((G41)=0,"",(L41/G41)) | O41: =IF($A41<>"",VLOOKUP($A41,[3]Rates!$A$1:$R$65536,15,FALSE),0) -> 0.2338 | P41: =$E41*O41 -> 58.45 | R41: =P41-J41 -> 0 | S41: =IF((J41)=0,"",(R41/J41)) -> 0
A42: =[3]Rates!$A100 -> RALP16_GSL | B42: =[3]Rates!$B100 -> Disposition of Deferral/Variance Accounts - Power (2016) | D42: per kW | E42: =$F$18 -> 250 | F42: =IF($A42<>"",VLOOKUP($A42,[3]Rates!$A$1:$R$65536,12,FALSE),0) -> 0 | G42: =E42*F42 -> 0 | I42: =IF($A42<>"",VLOOKUP($A42,[3]Rates!$A$1:$R$65536,14,FALSE),0) -> -0.2449 | J42: =$E42*I42 -> -61.225 | L42: =J42-G42 -> -61.225 | M42: =IF((G42)=0,"",(L42/G42)) | O42: =IF($A42<>"",VLOOKUP($A42,[3]Rates!$A$1:$R$65536,15,FALSE),0) -> -0.2449 | P42: =$E42*O42 -> -61.225 | R42: =P42-J42 -> 0 | S42: =IF((J42)=0,"",(R42/J42)) -> 0
A43: =[3]Rates!$A101 -> GA16_GSL | B43: =[3]Rates!$B101 -> Disposition of Deferral/Variance Accounts - Power - Global Adjustment (2016) | D43: per kW | E43: =$F$18 -> 250 | F43: =IF($A43<>"",VLOOKUP($A43,[3]Rates!$A$1:$R$65536,12,FALSE),0) -> 0 | G43: =E43*F43 -> 0 | I43: =IF($A43<>"",VLOOKUP($A43,[3]Rates!$A$1:$R$65536,14,FALSE),0) -> 0.8637 | J43: =$E43*I43 -> 215.925 | L43: =J43-G43 -> 215.925 | M43: =IF((G43)=0,"",(L43/G43)) | O43: =IF($A43<>"",VLOOKUP($A43,[3]Rates!$A$1:$R$65536,15,FALSE),0) -> 0.8637 | P43: =$E43*O43 -> 215.925 | R43: =P43-J43 -> 0 | S43: =IF((J43)=0,"",(R43/J43)) -> 0
A44: =[3]Rates!$A$91 -> GA14_GSL | B44: =[3]Rates!$B$91 -> Disposition of Global Adjustment Sub-Account (2014) | D44: per kW | E44: =F18 -> 250 | F44: =IF($A44<>"",VLOOKUP($A44,[3]Rates!$A$1:$R$65536,12,FALSE),0) -> -0.072 | G44: =E44*F44 -> -18 | I44: =IF($A44<>"",VLOOKUP($A44,[3]Rates!$A$1:$R$65536,14,FALSE),0) -> 0 | J44: =$E44*I44 -> 0 | L44: =J44-G44 -> 18 | O44: =IF($A44<>"",VLOOKUP($A44,[3]Rates!$A$1:$R$65536,15,FALSE),0) -> 0 | P44: =$E44*O44 -> 0 | R44: =P44-J44 -> 0 | S44: =IF((J44)=0,"",(R44/J44))
F45: =IF($A45<>"",VLOOKUP($A45,[3]Rates!$A$1:$R$65536,12,FALSE),0) -> 0 | I45: =IF($A45<>"",VLOOKUP($A45,[3]Rates!$A$1:$R$65536,14,FALSE),0) -> 0 | O45: =IF($A45<>"",VLOOKUP($A45,[3]Rates!$A$1:$R$65536,15,FALSE),0) -> 0 | P45: =$E45*O45 -> 0 | R45: =P45-J45 -> 0 | S45: =IF((J45)=0,"",(R45/J45))
F46: =IF($A46<>"",VLOOKUP($A46,[3]Rates!$A$1:$R$65536,12,FALSE),0) -> 0 | I46: =IF($A46<>"",VLOOKUP($A46,[3]Rates!$A$1:$R$65536,14,FALSE),0) -> 0 | O46: =IF($A46<>"",VLOOKUP($A46,[3]Rates!$A$1:$R$65536,15,FALSE),0) -> 0
A47: =[3]Rates!$A$87 -> LV_GSL | B47: Low Voltage Service Charge | D47: per kW | E47: =$F$18 -> 250 | F47: =IF($A47<>"",VLOOKUP($A47,[3]Rates!$A$1:$R$65536,12,FALSE),0) -> 0.1189 | G47: =E47*F47 -> 29.725 | I47: =IF($A47<>"",VLOOKUP($A47,[3]Rates!$A$1:$R$65536,14,FALSE),0) -> 0.1189 | J47: =$E47*I47 -> 29.725 | L47: =J47-G47 -> 0 | M47: =IF((G47)=0,"",(L47/G47)) -> 0 | O47: =IF($A47<>"",VLOOKUP($A47,[3]Rates!$A$1:$R$65536,15,FALSE),0) -> 0.1589 | P47: =$E47*O47 -> 39.725 | R47: =P47-J47 -> 10 | S47: =IF((J47)=0,"",(R47/J47)) -> 0.33641716
B48: Line Losses on Cost of Power | E48: =$F$17*(1+$F$77)-$F$17 -> 2760 | G48: =E48*F48 -> 0 | H48: =$F$17*(1+$O$77)-$F$17 -> 2952 | J48: =$H48*I48 -> 0 | L48: =J48-G48 -> 0 | M48: =IF((G48)=0,"",(L48/G48)) | P48: =$H48*O48 -> 0 | R48: =P48-J48 -> 0 | S48: =IF((J48)=0,"",(R48/J48))
G49: =E49*F49 -> 0 | L49: =J49-G49 -> 0 | P49: =$E49*O49 -> 0 | R49: =P49-J49 -> 0 | S49: =IF((J49)=0,"",(R49/J49))
B50: Sub-Total B - Distribution (includes Sub-Total A) | G50: =SUM(G40:G49)+G39 -> 994.19 | J50: =SUM(J40:J49)+J39 -> 1601.105 | L50: =J50-G50 -> 606.915 | M50: =IF((G50)=0,"",(L50/G50)) -> 0.61046178 | P50: =SUM(P40:P49)+P39 -> 1467.795 | R50: =P50-J50 -> -133.31 | S50: =IF((J50)=0,"",(R50/J50)) -> -0.083261248
A51: =[3]Rates!$A$108 -> TN_GSL | B51: RTSR - Network | D51: per kW | E51: =F18 -> 250 | F51: =IF($A51<>"",VLOOKUP($A51,[3]Rates!$A$1:$R$65536,12,FALSE),0) -> 2.9192 | G51: =E51*F51 -> 729.8 | H51: 250 | I51: =IF($A51<>"",VLOOKUP($A51,[3]Rates!$A$1:$R$65536,14,FALSE),0) -> 2.9192 | J51: =$E51*I51 -> 729.8 | L51: =J51-G51 -> 0 | M51: =IF((G51)=0,"",(L51/G51)) -> 0 | O51: =IF($A51<>"",VLOOKUP($A51,[3]Rates!$A$1:$R$65536,15,FALSE),0) -> 2.9268 | P51: =$E51*O51 -> 731.7 | R51: =P51-J51 -> 1.9 | S51: =IF((J51)=0,"",(R51/J51)) -> 0.002603453
...

Sheet LU
O1: May 1 - Oct 31 | P1: 1 | R1: 2
O2: Nov 1 - Apr 30 | P2: 2
B10: Appendix 2-W
B11: Bill Impacts - Large User
B14: Customer Class: | D14: Large User
B16: TOU / non-TOU: | D16: TOU
D17: Consumption | F17: 2800000
D18: Load | F18: 7350
F20: 2015 Current Board-Approved | I20: =Residential!I20 -> 2016 | L20: =Residential!L20 -> Impact 2016 vs. 2015 | O20: =Residential!O20 -> 2017 TEST YEAR | R20: =Residential!R20 -> Impact 2017 TEST vs. 2016
D21: Charge Unit | E21: Volume | F21: Rate | G21: Charge | I21: Rate | J21: Charge | L21: $ Change | M21: % Change | O21: Rate | P21: Charge | R21: $ Change | S21: % Change
F22: ($) | G22: ($) | I22: ($) | J22: ($) | O22: ($) | P22: ($)
A23: =[3]Rates!$A$113 -> Fix_LU | B23: Monthly Service Charge | D23: Monthly | E23: 1 | F23: =IF($A23<>"",VLOOKUP($A23,[3]Rates!$A$1:$R$65536,12,FALSE),0) -> 5966.29 | G23: =E23*F23 -> 5966.29 | I23: =IF($A23<>"",VLOOKUP($A23,[3]Rates!$A$1:$R$65536,14,FALSE),0) -> 5758.58 | J23: =$E23*I23 -> 5758.58 | L23: =J23-G23 -> -207.71 | M23: =IF((G23)=0,"",(L23/G23)) -> -0.03481393 | O23: =IF($A23<>"",VLOOKUP($A23,[3]Rates!$A$1:$R$65536,15,FALSE),0) -> 5369.68 | P23: =$E23*O23 -> 5369.68 | R23: =P23-J23 -> -388.9 | S23: =IF((J23)=0,"",(R23/J23)) -> -0.06753401
B24: Smart Meter Rate Adder | D24: Monthly | E24: 1 | F24: =IF($A24<>"",VLOOKUP($A24,[3]Rates!$A$1:$R$65536,12,FALSE),0) -> 0 | G24: =E24*F24 -> 0 | I24: =IF($A24<>"",VLOOKUP($A24,[3]Rates!$A$1:$R$65536,14,FALSE),0) -> 0 | J24: =$E24*I24 -> 0 | L24: =J24-G24 -> 0 | M24: =IF((G24)=0,"",(L24/G24)) | O24: =IF($A24<>"",VLOOKUP($A24,[3]Rates!$A$1:$R$65536,15,FALSE),0) -> 0 | P24: =$E24*O24 -> 0 | R24: =P24-J24 -> 0 | S24: =IF((J24)=0,"",(R24/J24))
A25: =[3]Rates!$A$115 -> PPE_LU | B25: Recovery of CGAAP/CWIP Differential | D25: Monthly | E25: 1 | F25: =IF($A25<>"",VLOOKUP($A25,[3]Rates!$A$1:$R$65536,12,FALSE),0) -> 104.59 | G25: =E25*F25 -> 104.59 | I25: =IF($A25<>"",VLOOKUP($A25,[3]Rates!$A$1:$R$65536,14,FALSE),0) -> 104.59 | J25: =$E25*I25 -> 104.59 | L25: =J25-G25 -> 0 | M25: =IF((G25)=0,"",(L25/G25)) -> 0 | O25: =IF($A25<>"",VLOOKUP($A25,[3]Rates!$A$1:$R$65536,15,FALSE),0) -> 0 | P25: =$E25*O25 -> 0 | R25: =P25-J25 -> -104.59 | S25: =IF((J25)=0,"",(R25/J25)) -> -1
A26: =[3]Rates!$A$116 -> ICMF_LU | B26: ICM Rate Rider (2014) | D26: Monthly | E26: 1 | F26: =IF($A26<>"",VLOOKUP($A26,[3]Rates!$A$1:$R$65536,12,FALSE),0) -> 30.93 | G26: =E26*F26 -> 30.93 | I26: =IF($A26<>"",VLOOKUP($A26,[3]Rates!$A$1:$R$65536,14,FALSE),0) -> 0 | J26: =$E26*I26 -> 0 | L26: =J26-G26 -> -30.93 | M26: =IF((G26)=0,"",(L26/G26)) -> -1 | O26: =IF($A26<>"",VLOOKUP($A26,[3]Rates!$A$1:$R$65536,15,FALSE),0) -> 0 | P26: =$E26*O26 -> 0 | R26: =P26-J26 -> 0 | S26: =IF((J26)=0,"",(R26/J26))
A27: FR_LU | B27: Forgone Revenue Rate Rider - Fixed Component (2016) | D27: Monthly | E27: 1 | F27: =IF($A27<>"",VLOOKUP($A27,[3]Rates!$A$1:$R$65536,12,FALSE),0) -> 0 | G27: =E27*F27 -> 0 | I27: =IF($A27<>"",VLOOKUP($A27,[3]Rates!$A$1:$R$65536,14,FALSE),0) -> -715.92 | J27: =$E27*I27 -> -715.92 | L27: =J27-G27 -> -715.92 | M27: =IF((G27)=0,"",(L27/G27)) | O27: =IF($A27<>"",VLOOKUP($A27,[3]Rates!$A$1:$R$65536,15,FALSE),0) -> 0 | P27: =$E27*O27 -> 0 | R27: =P27-J27 -> 715.92 | S27: =IF((J27)=0,"",(R27/J27)) -> -1
E28: 1 | F28: =IF($A28<>"",VLOOKUP($A28,[3]Rates!$A$1:$R$65536,12,FALSE),0) -> 0 | G28: =E28*F28 -> 0 | I28: =IF($A28<>"",VLOOKUP($A28,[3]Rates!$A$1:$R$65536,14,FALSE),0) -> 0 | J28: =$E28*I28 -> 0 | L28: =J28-G28 -> 0 | M28: =IF((G28)=0,"",(L28/G28)) | O28: =IF($A28<>"",VLOOKUP($A28,[3]Rates!$A$1:$R$65536,15,FALSE),0) -> 0 | P28: =$E28*O28 -> 0 | R28: =P28-J28 -> 0 | S28: =IF((J28)=0,"",(R28/J28))
A29: =[3]Rates!$A$118 -> Var_LU | B29: Distribution Volumetric Rate | D29: per kW | E29: =$F$18 -> 7350 | F29: =IF($A29<>"",VLOOKUP($A29,[3]Rates!$A$1:$R$65536,12,FALSE),0) -> 1.4159 | G29: =E29*F29 -> 10406.865 | I29: =IF($A29<>"",VLOOKUP($A29,[3]Rates!$A$1:$R$65536,14,FALSE),0) -> 1.9666 | J29: =$E29*I29 -> 14454.51 | L29: =J29-G29 -> 4047.645 | M29: =IF((G29)=0,"",(L29/G29)) -> 0.3889399 | O29: =IF($A29<>"",VLOOKUP($A29,[3]Rates!$A$1:$R$65536,15,FALSE),0) -> 2.4338 | P29: =$E29*O29 -> 17888.43 | R29: =P29-J29 -> 3433.92 | S29: =IF((J29)=0,"",(R29/J29)) -> 0.23756738
B30: Smart Meter Disposition Rider | D30: per kW | E30: =$F$18 -> 7350 | F30: =IF($A30<>"",VLOOKUP($A30,[3]Rates!$A$1:$R$65536,12,FALSE),0) -> 0 | G30: =E30*F30 -> 0 | I30: =IF($A30<>"",VLOOKUP($A30,[3]Rates!$A$1:$R$65536,14,FALSE),0) -> 0 | J30: =$E30*I30 -> 0 | L30: =J30-G30 -> 0 | M30: =IF((G30)=0,"",(L30/G30)) | O30: =IF($A30<>"",VLOOKUP($A30,[3]Rates!$A$1:$R$65536,15,FALSE),0) -> 0 | P30: =$E30*O30 -> 0 | R30: =P30-J30 -> 0 | S30: =IF((J30)=0,"",(R30/J30))
A31: FRV_LU | B31: Forgone Revenue Rate Rider - Variable Component (2016) | D31: per kW | E31: =$F$18 -> 7350 | F31: =IF($A31<>"",VLOOKUP($A31,[3]Rates!$A$1:$R$65536,12,FALSE),0) -> 0 | G31: =E31*F31 -> 0 | I31: =IF($A31<>"",VLOOKUP($A31,[3]Rates!$A$1:$R$65536,14,FALSE),0) -> 1.6171 | J31: =$E31*I31 -> 11885.685 | L31: =J31-G31 -> 11885.685 | M31: =IF((G31)=0,"",(L31/G31)) | O31: =IF($A31<>"",VLOOKUP($A31,[3]Rates!$A$1:$R$65536,15,FALSE),0) -> 0 | P31: =$E31*O31 -> 0 | R31: =P31-J31 -> -11885.685 | S31: =IF((J31)=0,"",(R31/J31)) -> -1
A32: =[3]Rates!$A$123 -> ICMV_LU | B32: ICM Rate Rider (2014) | D32: per kW | E32: =$F$18 -> 7350 | F32: =IF($A32<>"",VLOOKUP($A32,[3]Rates!$A$1:$R$65536,12,FALSE),0) -> 0.0073 | G32: =E32*F32 -> 53.655 | I32: =IF($A32<>"",VLOOKUP($A32,[3]Rates!$A$1:$R$65536,14,FALSE),0) -> 0 | J32: =$E32*I32 -> 0 | L32: =J32-G32 -> -53.655 | M32: =IF((G32)=0,"",(L32/G32)) -> -1 | O32: =IF($A32<>"",VLOOKUP($A32,[3]Rates!$A$1:$R$65536,15,FALSE),0) -> 0 | P32: =$E32*O32 -> 0 | R32: =P32-J32 -> 0 | S32: =IF((J32)=0,"",(R32/J32))
A33: =[3]Rates!$A129 -> 2RAL16_LU | B33: =[3]Rates!$B129 -> Disposition of Deferral/Variance Accounts - Group 2 Accounts (2016) | D33: per kW | E33: =$F$18 -> 7350 | F33: =IF($A33<>"",VLOOKUP($A33,[3]Rates!$A$1:$R$65536,12,FALSE),0) -> 0 | G33: =E33*F33 -> 0 | I33: =IF($A33<>"",VLOOKUP($A33,[3]Rates!$A$1:$R$65536,14,FALSE),0) -> 0.69 | J33: =$E33*I33 -> 5071.5 | L33: =J33-G33 -> 5071.5 | M33: =IF((G33)=0,"",(L33/G33)) | O33: =IF($A33<>"",VLOOKUP($A33,[3]Rates!$A$1:$R$65536,15,FALSE),0) -> 0 | P33: =$E33*O33 -> 0 | R33: =P33-J33 -> -5071.5 | S33: =IF((J33)=0,"",(R33/J33)) -> -1
A34: =[3]Rates!$A130 -> LRVA16_LU | B34: =[3]Rates!$B130 -> Lost Revenue Adjustment Mechanism Variance Account (LRAMVA) (2016) | D34: per kW | E34: =$F$18 -> 7350 | F34: =IF($A34<>"",VLOOKUP($A34,[3]Rates!$A$1:$R$65536,12,FALSE),0) -> 0 | G34: =E34*F34 -> 0 | I34: =IF($A34<>"",VLOOKUP($A34,[3]Rates!$A$1:$R$65536,14,FALSE),0) -> -0.1424 | J34: =$E34*I34 -> -1046.64 | L34: =J34-G34 -> -1046.64 | M34: =IF((G34)=0,"",(L34/G34)) | O34: =IF($A34<>"",VLOOKUP($A34,[3]Rates!$A$1:$R$65536,15,FALSE),0) -> 0 | P34: =$E34*O34 -> 0 | R34: =P34-J34 -> 1046.64 | S34: =IF((J34)=0,"",(R34/J34)) -> -1
A35: =[3]Rates!$A131 -> PPE16_LU | B35: =[3]Rates!$B131 -> Account 1575 (2016) | D35: per kW | E35: =$F$18 -> 7350 | F35: =IF($A35<>"",VLOOKUP($A35,[3]Rates!$A$1:$R$65536,12,FALSE),0) -> 0 | G35: =E35*F35 -> 0 | I35: =IF($A35<>"",VLOOKUP($A35,[3]Rates!$A$1:$R$65536,14,FALSE),0) -> -0.5987 | J35: =$E35*I35 -> -4400.445 | L35: =J35-G35 -> -4400.445 | M35: =IF((G35)=0,"",(L35/G35)) | O35: =IF($A35<>"",VLOOKUP($A35,[3]Rates!$A$1:$R$65536,15,FALSE),0) -> 0 | P35: =$E35*O35 -> 0 | R35: =P35-J35 -> 4400.445 | S35: =IF((J35)=0,"",(R35/J35)) -> -1
A36: =[3]Rates!$A132 -> SG16_LU | B36: =[3]Rates!$B132 -> Smart Grid True-up (2016) | D36: Monthly | E36: 1 | F36: =IF($A36<>"",VLOOKUP($A36,[3]Rates!$A$1:$R$65536,12,FALSE),0) -> 0 | G36: =E36*F36 -> 0 | I36: =IF($A36<>"",VLOOKUP($A36,[3]Rates!$A$1:$R$65536,14,FALSE),0) -> -798.45 | J36: =$E36*I36 -> -798.45 | L36: =J36-G36 -> -798.45 | M36: =IF((G36)=0,"",(L36/G36)) | O36: =IF($A36<>"",VLOOKUP($A36,[3]Rates!$A$1:$R$65536,15,FALSE),0) -> 0 | P36: =$E36*O36 -> 0 | R36: =P36-J36 -> 798.45 | S36: =IF((J36)=0,"",(R36/J36)) -> -1
F37: =IF($A37<>"",VLOOKUP($A37,[3]Rates!$A$1:$R$65536,12,FALSE),0) -> 0 | I37: =IF($A37<>"",VLOOKUP($A37,[3]Rates!$A$1:$R$65536,14,FALSE),0) -> 0 | O37: =IF($A37<>"",VLOOKUP($A37,[3]Rates!$A$1:$R$65536,15,FALSE),0) -> 0
F38: =IF($A38<>"",VLOOKUP($A38,[3]Rates!$A$1:$R$65536,12,FALSE),0) -> 0 | G38: =E38*F38 -> 0 | I38: =IF($A38<>"",VLOOKUP($A38,[3]Rates!$A$1:$R$65536,14,FALSE),0) -> 0 | J38: =$E38*I38 -> 0 | L38: =J38-G38 -> 0 | M38: =IF((G38)=0,"",(L38/G38)) | O38: =IF($A38<>"",VLOOKUP($A38,[3]Rates!$A$1:$R$65536,15,FALSE),0) -> 0 | P38: =$E38*O38 -> 0 | R38: =P38-J38 -> 0 | S38: =IF((J38)=0,"",(R38/J38))
F39: =IF($A39<>"",VLOOKUP($A39,[3]Rates!$A$1:$R$65536,12,FALSE),0) -> 0 | G39: =E39*F39 -> 0 | I39: =IF($A39<>"",VLOOKUP($A39,[3]Rates!$A$1:$R$65536,14,FALSE),0) -> 0 | J39: =$E39*I39 -> 0 | L39: =J39-G39 -> 0 | M39: =IF((G39)=0,"",(L39/G39)) | O39: =IF($A39<>"",VLOOKUP($A39,[3]Rates!$A$1:$R$65536,15,FALSE),0) -> 0 | P39: =$E39*O39 -> 0 | R39: =P39-J39 -> 0 | S39: =IF((J39)=0,"",(R39/J39))
B40: Sub-Total A (excluding pass through) | G40: =SUM(G23:G39) -> 16562.33 | J40: =SUM(J23:J39) -> 30313.41 | L40: =J40-G40 -> 13751.08 | M40: =IF((G40)=0,"",(L40/G40)) -> 0.83026241 | P40: =SUM(P23:P39) -> 23258.11 | R40: =P40-J40 -> -7055.3 | S40: =IF((J40)=0,"",(R40/J40)) -> -0.23274518
A41: =[3]Rates!$A$122 -> RAL14_LU | D41: per kW | E41: =$F$18 -> 7350 | G41: =E41*F41 -> 0 | I41: =IF($A41<>"",VLOOKUP($A41,[3]Rates!$A$1:$R$65536,14,FALSE),0) -> 0 | J41: =$E41*I41 -> 0 | L41: =J41-G41 -> 0 | M41: =IF((G41)=0,"",(L41/G41)) | O41: =IF($A41<>"",VLOOKUP($A41,[3]Rates!$A$1:$R$65536,15,FALSE),0) -> 0 | P41: =$E41*O41 -> 0 | R41: =P41-J41 -> 0 | S41: =IF((J41)=0,"",(R41/J41))
A42: =[3]Rates!$A126 -> RAL16_LU | B42: =[3]Rates!$B126 -> Disposition of Deferral/Variance Accounts (2016) | D42: per kW | E42: =$F$18 -> 7350 | F42: =IF($A42<>"",VLOOKUP($A42,[3]Rates!$A$1:$R$65536,12,FALSE),0) -> 0 | G42: =E42*F42 -> 0 | I42: =IF($A42<>"",VLOOKUP($A42,[3]Rates!$A$1:$R$65536,14,FALSE),0) -> 1.2673 | J42: =$E42*I42 -> 9314.655 | L42: =J42-G42 -> 9314.655 | M42: =IF((G42)=0,"",(L42/G42)) | O42: =IF($A42<>"",VLOOKUP($A42,[3]Rates!$A$1:$R$65536,15,FALSE),0) -> 0 | P42: =$E42*O42 -> 0 | R42: =P42-J42 -> -9314.655 | S42: =IF((J42)=0,"",(R42/J42)) -> -1
A43: =[3]Rates!$A127 -> RALP16_LU | B43: =[3]Rates!$B127 -> Disposition of Deferral/Variance Accounts - Power (2016) | D43: per kW | E43: =$F$18 -> 7350 | F43: =IF($A43<>"",VLOOKUP($A43,[3]Rates!$A$1:$R$65536,12,FALSE),0) -> 0 | G43: =E43*F43 -> 0 | I43: =IF($A43<>"",VLOOKUP($A43,[3]Rates!$A$1:$R$65536,14,FALSE),0) -> -1.3273 | J43: =$E43*I43 -> -9755.655 | L43: =J43-G43 -> -9755.655 | M43: =IF((G43)=0,"",(L43/G43)) | O43: =IF($A43<>"",VLOOKUP($A43,[3]Rates!$A$1:$R$65536,15,FALSE),0) -> 0 | P43: =$E43*O43 -> 0 | R43: =P43-J43 -> 9755.655 | S43: =IF((J43)=0,"",(R43/J43)) -> -1
