Workbook
Name BI_LDCLIST: '[1]3. Rate Class Selection'!$B$19:$B$21
Name BridgeYear: '[2]LDC Info'!$E$26
Name BridgeYear: '[3]LDC Info'!$E$26
Name contactf: #REF!
Name contactf: #REF!
Name contactf: #REF!
Name CustomerAdministration: [2]lists!$Z$1:$Z$36
Name CustomerAdministration: [3]lists!$Z$1:$Z$36
Name EBNUMBER: '[2]LDC Info'!$E$16
Name EBNUMBER: '[3]LDC Info'!$E$16
Name Fixed_Charges: [2]lists!$I$1:$I$212
Name histdate: [4]Financials!$E$76
Name Incr2000: #REF!
Name Incr2000: #REF!
Name Incr2000: #REF!
Name LDC_LIST: [5]lists!$AM$1:$AM$80
Name LDCLIST: '[2]LDC Info'!$AA$3:$AA$99
Name LDCLIST: '[3]LDC Info'!$AA$3:$AA$99
Name LIMIT: #REF!
Name LIMIT: #REF!
Name LIMIT: #REF!
Name LossFactors: [2]lists!$L$2:$L$15
Name LossFactors: [3]lists!$L$2:$L$15
Name man_beg_bud: #REF!
Name man_beg_bud: #REF!
Name man_beg_bud: #REF!
Name man_end_bud: #REF!
Name man_end_bud: #REF!
Name man_end_bud: #REF!
Name man12ACT: #REF!
Name man12ACT: #REF!
Name man12ACT: #REF!
Name MANBUD: #REF!
Name MANBUD: #REF!
Name MANBUD: #REF!
Name manCYACT: #REF!
Name manCYACT: #REF!
Name manCYACT: #REF!
Name manCYBUD: #REF!
Name manCYBUD: #REF!
Name manCYBUD: #REF!
Name manCYF: #REF!
Name manCYF: #REF!
Name manCYF: #REF!
Name MANEND: #REF!
Name MANEND: #REF!
Name MANEND: #REF!
Name manNYbud: #REF!
Name manNYbud: #REF!
Name manNYbud: #REF!
Name manpower_costs: #REF!
Name manpower_costs: #REF!
Name manpower_costs: #REF!
Name manPYACT: #REF!
Name manPYACT: #REF!
Name manPYACT: #REF!
Name MANSTART: #REF!
Name MANSTART: #REF!
Name MANSTART: #REF!
Name mat_beg_bud: #REF!

Sheet Tables
A2: Table 1: Proposed Residential Rates and Acquisition Riders - Five Year Rate Period (2016-2020)
A3: Proposed Rate Effective Dates | B3: Fixed Service Charge | C3: 1% Fixed Acquisition Rider | D3: Volumetric Charge | E3: 1% Volumetric Acquisition Rider
A4: October 31 2015 | B4: ='2016 Bill Impact'!C14 -> 12.98 | C4: ='2016 Bill Impact'!C15 -> -0.13 | D4: ='2016 Bill Impact'!C17 -> 0.0222 | E4: ='2016 Bill Impact'!C18 -> -0.0002
A5: January 1 2016 | B5: ='2016 Bill Impact'!G14 -> 16.38 | C5: ='2016 Bill Impact'!G15 -> -0.1638 | D5: ='2016 Bill Impact'!G17 -> 0.0178 | E5: ='2016 Bill Impact'!G18 -> -0.0002
A6: January 1 2017 | B6: ='2017 Bill Impact'!G14 -> 19.77 | C6: ='2017 Bill Impact'!G15 -> -0.1977 | D6: ='2017 Bill Impact'!G17 -> 0.0133 | E6: ='2017 Bill Impact'!G18 -> -0.0001
A7: January 1 2018 | B7: ='2018 Bill Impact'!G14 -> 23.18 | C7: ='2018 Bill Impact'!G15 -> -0.2318 | D7: ='2018 Bill Impact'!G17 -> 0.0089 | E7: ='2018 Bill Impact'!G18 -> -0.0001
A8: January 1 2019 | B8: ='2019 Bill Impact'!G14 -> 26.57 | C8: ='2019 Bill Impact'!G15 -> -0.2657 | D8: ='2019 Bill Impact'!G17 -> 0.0044 | E8: ='2019 Bill Impact'!G18 -> -4e-05
A9: January 1 2020 | B9: ='2020 Bill Impact'!G14 -> 29.98 | C9: ='2020 Bill Impact'!G15 -> -0.2998 | D9: ='2020 Bill Impact'!G17 -> 0 | E9: ='2020 Bill Impact'!G18 -> 0
A13: Table 2: Total Monthly Residential TOU Bill Impacts - Five Year Rate Period (2016-2020)
A14: Total kWh | B14: Oct 31 2015 | C14: Jan 1 2016 | D14: Total Impact $ | E14: Total Impact %
A15: 285 kWh | B15: ='2016 Bill Impact'!E39 -> 64.321871 | C15: ='2016 Bill Impact'!I39 -> 66.708657 | D15: ='2016 Bill Impact'!K39 -> 2.386786 | E15: ='2016 Bill Impact'!L39 -> 0.037106912
A16: 800 kWh | B16: ='2016 Bill Impact'!E75 -> 150.88338 | C16: ='2016 Bill Impact'!I75 -> 150.70959 | D16: ='2016 Bill Impact'!K75 -> -0.173794 | E16: ='2016 Bill Impact'!L75 -> -0.0011518432
A17: 1,500 kWh | B17: ='2016 Bill Impact'!E111 -> 268.5398 | C17: ='2016 Bill Impact'!I111 -> 264.88561 | D17: ='2016 Bill Impact'!K111 -> -3.654194 | E17: ='2016 Bill Impact'!L111 -> -0.013607644
B19: Jan 1 2016 | C19: Jan 1 2017 | D19: Total Impact $ | E19: Total Impact %
A20: 285 kWh | B20: =C15 -> 66.708657 | C20: ='2017 Bill Impact'!I39 -> 69.08403 | D20: ='2017 Bill Impact'!K39 -> 2.375373 | E20: ='2017 Bill Impact'!L39 -> 0.035608167
A21: 800 kWh | B21: =C16 -> 150.70959 | C21: ='2017 Bill Impact'!I75 -> 150.52438 | D21: ='2017 Bill Impact'!K75 -> -0.185207 | E21: ='2017 Bill Impact'!L75 -> -0.0012288999
A22: 1,500 kWh | B22: =C17 -> 264.88561 | C22: ='2017 Bill Impact'!I111 -> 261.22 | D22: ='2017 Bill Impact'!K111 -> -3.665607 | E22: ='2017 Bill Impact'!L111 -> -0.013838453
B24: Jan 1 2017 | C24: Jan 1 2018 | D24: Total Impact $ | E24: Total Impact %
A25: 285 kWh | B25: =C20 -> 69.08403 | C25: ='2018 Bill Impact'!I39 -> 71.481777 | D25: ='2018 Bill Impact'!K39 -> 2.397747 | E25: ='2018 Bill Impact'!L39 -> 0.034707689
A26: 800 kWh | B26: =C21 -> 150.52438 | C26: ='2018 Bill Impact'!I75 -> 150.36155 | D26: ='2018 Bill Impact'!K75 -> -0.162833 | E26: ='2018 Bill Impact'!L75 -> -0.0010817716
A27: 1,500 kWh | B27: =C22 -> 261.22 | C27: ='2018 Bill Impact'!I111 -> 257.57677 | D27: ='2018 Bill Impact'!K111 -> -3.643233 | E27: ='2018 Bill Impact'!L111 -> -0.013946991
B29: Jan 1 2018 | C29: Jan 1 2019 | D29: Total Impact $ | E29: Total Impact %
A30: 285 kWh | B30: =C25 -> 71.481777 | C30: ='2019 Bill Impact'!I39 -> 72.951568 | D30: ='2019 Bill Impact'!K39 -> 1.469791 | E30: ='2019 Bill Impact'!L39 -> 0.020561758
A31: 800 kWh | B31: =C26 -> 150.36155 | C31: ='2019 Bill Impact'!I75 -> 149.24748 | D31: ='2019 Bill Impact'!K75 -> -1.114067 | E31: ='2019 Bill Impact'!L75 -> -0.0074092547
A32: 1,500 kWh | B32: =C27 -> 257.57677 | C32: ='2019 Bill Impact'!I111 -> 252.95066 | D32: ='2019 Bill Impact'!K111 -> -4.626107 | E32: ='2019 Bill Impact'!L111 -> -0.01796011
B34: Jan 1 2019 | C34: Jan 1 2020 | D34: Total Impact $ | E34: Total Impact %
A35: 285 kWh | B35: =C30 -> 72.951568 | C35: ='2020 Bill Impact'!I39 -> 75.362197 | D35: ='2020 Bill Impact'!K39 -> 2.410629 | E35: ='2020 Bill Impact'!L39 -> 0.033044238
A36: 800 kWh | B36: =C31 -> 149.24748 | C36: ='2020 Bill Impact'!I75 -> 149.12081 | D36: ='2020 Bill Impact'!K75 -> -0.126673 | E36: ='2020 Bill Impact'!L75 -> -0.00084874465
A37: 1,500 kWh | B37: =C32 -> 252.95066 | C37: ='2020 Bill Impact'!I111 -> 249.37523 | D37: ='2020 Bill Impact'!K111 -> -3.575433 | E37: ='2020 Bill Impact'!L111 -> -0.014134903

Sheet APPENDIX B
A9: Residential Class Distribution Rate Design - Proposed 5 Year Transition Period (2016 - 2020)
A10: Rate Effective Dates | B10: Fixed Service Charge | C10: Net Change | D10: Volumetric Charge | E10: Net Change | F10: Revenue Requirement | G10: Net Change
A11: Current Approved
A12: May 1 2014 | B12: ='2016 Bill Impact'!C14 -> 12.98 | D12: ='2016 Bill Impact'!C17 -> 0.0222 | F12: ='App.2-PA_Res_Rate_Design_16'!B20 -> 4959006
A13: Proposed
A14: January 1 2016 | B14: ='2016 Bill Impact'!G14 -> 16.38 | C14: =B14-B12 -> 3.4 | D14: ='2016 Bill Impact'!G17 -> 0.0178 | E14: =D14-D12 -> -0.0044 | F14: ='App.2-PA_Res_Rate_Design_16'!E45 -> 4964129.5 | G14: =F14-F12 -> 5123.5292
A15: January 1 2017 | B15: ='2017 Bill Impact'!G14 -> 19.77 | C15: =B15-B14 -> 3.39 | D15: ='2017 Bill Impact'!G17 -> 0.0133 | E15: =D15-D14 -> -0.0045 | F15: ='App.2-PA_Res_Rate_Design_17'!E45 -> 4954932.8 | G15: =F15-F14 -> -9196.6815
A16: January 1 2018 | B16: ='2018 Bill Impact'!G14 -> 23.18 | C16: =B16-B15 -> 3.41 | D16: ='2018 Bill Impact'!G17 -> 0.0089 | E16: =D16-D15 -> -0.0044 | F16: ='App.2-PA_Res_Rate_Design_18'!E45 -> 4961710.6 | G16: =F16-F15 -> 6777.7292
A17: January 1 2019 | B17: ='2019 Bill Impact'!G14 -> 26.57 | C17: =B17-B16 -> 3.39 | D17: ='2019 Bill Impact'!G17 -> 0.0044 | E17: =D17-D16 -> -0.0045 | F17: ='App.2-PA_Res_Rate_Design_19'!E45 -> 4952513.9 | G17: =F17-F16 -> -9196.6815
A18: January 1 2020 | B18: ='2020 Bill Impact'!G14 -> 29.98 | C18: =B18-B17 -> 3.41 | D18: ='2020 Bill Impact'!G17 -> 0 | E18: =D18-D17 -> -0.0044 | F18: =App.2PA_Res_Rate_Design_20!E45 -> 4959291.6 | G18: =F18-F17 -> 6777.7292
A19: Average Net Change | C19: =AVERAGE(C14:C18) -> 3.4 | D19: =AVERAGE(D14:D18) -> 0.00888 | F19: Cumulative Net Change | G19: =SUM(G14:G18) -> 285.6246

Sheet App.2-PA_Res_Rate_Design_16
A9: January 1 2016 Adjustment (Filing Requirements Appendix 2-PA)
A10: New Rate Design Policy For Residential Customers
A14: A) Data Inputs
A16: Test Year Billing Determinants for Residential Class
A17: Customers | B17: 13785
A18: kWh | B18: 126660107
A20: Proposed Residential Class Specific Revenue Requirement1 | B20: =(B17*B23*12)+B18*B24 -> 4959006
A22: Residential Base Rates on Current Tariff
A23: Monthly Fixed Charge ($) | B23: 12.98
A24: Distribution Volumetric Rate ($/kWh) | B24: 0.0222
B25: .
A26: B) Current Fixed/Variable Split
B28: Base Rates | C28: Billing Determinants | D28: Revenue | E28: % of Total Revenue
A29: Fixed | B29: =IF(B23="","",B23) -> 12.98 | C29: =IF(B17="","",B17) -> 13785 | D29: =IF(ISERROR(B29*C29*12),"",B29*C29*12) -> 2147151.6 | E29: =IF(ISERROR(D29/D31),"",D29/D31) -> 0.43298024
A30: Variable | B30: =IF(B24="","",B24) -> 0.0222 | C30: =IF(B18="","",B18) -> 126660107 | D30: =IF(ISERROR(B30*C30),"",B30*C30) -> 2811854.4 | E30: =IF(ISERROR(D30/D31),"",D30/D31) -> 0.56701976
A31: TOTAL | B31: - | C31: - | D31: =IF(ISERROR(D29+D30),"",D29+D30) -> 4959006 | E31: -
A33: C) Calculating Test Year Base Rates
A35: Number of Required Rate Design Policy Transition Years2 | B35: 5
B37: Test Year Revenue @ Current F/V Split | C37: Test Year Base Rates @ Current F/V Split | D37: Reconciliation - Test Year Base Rates @ Current F/V Split
A38: Fixed | B38: =IF(ISERROR(B$20*E29),"",B$20*E29) -> 2147151.6 | C38: =IF(ISERROR(ROUND(B38/B17/12,2)),"",ROUND(B38/B17/12,2)) -> 12.98 | D38: =IF(ISERROR(C38*B17*12),"",C38*B17*12) -> 2147151.6
A39: Variable | B39: =IF(ISERROR(B$20*E30),"",B$20*E30) -> 2811854.4 | C39: =IF(ISERROR(ROUND(B39/B18,4)),"",ROUND(B39/B18,4)) -> 0.0222 | D39: =IF(ISERROR(C39*B18),"",C39*B18) -> 2811854.4
A40: TOTAL | B40: =IF(ISERROR(B38+B39),"",B38+B39) -> 4959006 | C40: - | D40: =IF(ISERROR(D38+D39),"",D38+D39) -> 4959006
B42: New F/V Split | C42: Revenue @ new F/V Split | D42: Final Adjusted Base Rates | E42: Revenue Reconciliation @ Adjusted Rates
A43: Fixed | B43: =IF(ISERROR(((1-E29)/B35)+E29),"",((1-E29)/B35)+E29) -> 0.54638419 | C43: =IF(ISERROR(B43*B$20),"",B43*B$20) -> 2709522.5 | D43: =IF(ISERROR(ROUND(C43/B17/12,2)),"",ROUND(C43/B17/12,2)) -> 16.38 | E43: =IF(ISERROR(D43*12*B17),"",D43*12*B17) -> 2709579.6
A44: Variable | B44: =IF(ISERROR(1-B43),"",1-B43) -> 0.45361581 | C44: =IF(ISERROR(B44*B$20),"",B44*B$20) -> 2249483.5 | D44: =IF(ISERROR(ROUND(C44/B18,4)),"",ROUND(C44/B18,4)) -> 0.0178 | E44: =IF(ISERROR(D44*B18),"",D44*B18) -> 2254549.9
A45: TOTAL | B45: - | C45: =IF(ISERROR(SUM(C43:C44)),"",SUM(C43:C44)) -> 4959006 | D45: - | E45: =IF(ISERROR(E43+E44),"",E43+E44) -> 4964129.5
A47: Checks3
A48: Change in Fixed Rate | B48: =IF(ISERROR(D43-C38),"",D43-C38) -> 3.4
A49: Difference Between Revenues @ Proposed Rates and Class Specific Revenue Requirement | B49: =IF(ISERROR((D43*12*B17)+(D44*B18)-B20),"",(D43*12*B17)+(D44*B18)-B20) -> 5123.5292
B50: =IF(ISERROR(B49/B20), "", B49/B20) -> 0.0010331767
A52: Notes:
A54: 1 The final residential class specific revenue requirement, as shown in Appendix 2-P, should be used (i.e. the revenue requirement after any proposed adjustments to R/C ratios).
A57: 2 Default number of transition years for rate design policy change is 4. Where the change in the residential rate design will result in the fixed charge increasing by more than $4/year, a distributor may propose an additional transition year.
A60: 3 Change in fixed rate due to rate design policy should be less than $4. The difference between the proposed class revenue requirement and the revenue at calculated base rates should be minimal (i.e. should be reasonably considered as a rounding error)

Sheet App.2-PA_Res_Rate_Design_17
A9: January 1 2017 Adjustment (Filing Requirements Appendix 2-PA)
A10: New Rate Design Policy For Residential Customers
A14: A) Data Inputs
A16: Test Year Billing Determinants for Residential Class
A17: Customers | B17: 13785
A18: kWh | B18: 126660107
A20: Proposed Residential Class Specific Revenue Requirement1 | B20: ='App.2-PA_Res_Rate_Design_16'!B20 -> 4959006
A22: Residential Base Rates on Current Tariff
A23: Monthly Fixed Charge ($) | B23: 12.98
A24: Distribution Volumetric Rate ($/kWh) | B24: 0.0222
B25: .
A26: B) Current Fixed/Variable Split
B28: Base Rates | C28: Billing Determinants | D28: Revenue | E28: % of Total Revenue
A29: Fixed | B29: ='App.2-PA_Res_Rate_Design_16'!D43 -> 16.38 | C29: =IF(B17="","",B17) -> 13785 | D29: =IF(ISERROR(B29*C29*12),"",B29*C29*12) -> 2709579.6 | E29: =IF(ISERROR(D29/D31),"",D29/D31) -> 0.54583177
A30: Variable | B30: ='App.2-PA_Res_Rate_Design_16'!D44 -> 0.0178 | C30: =IF(B18="","",B18) -> 126660107 | D30: =IF(ISERROR(B30*C30),"",B30*C30) -> 2254549.9 | E30: =IF(ISERROR(D30/D31),"",D30/D31) -> 0.45416823
A31: TOTAL | B31: - | C31: - | D31: =IF(ISERROR(D29+D30),"",D29+D30) -> 4964129.5 | E31: -
A33: C) Calculating Test Year Base Rates
A35: Number of Required Rate Design Policy Transition Years2 | B35: ='App.2-PA_Res_Rate_Design_16'!B35-1 -> 4
B37: Test Year Revenue @ Current F/V Split | C37: Test Year Base Rates @ Current F/V Split | D37: Reconciliation - Test Year Base Rates @ Current F/V Split
A38: Fixed | B38: =IF(ISERROR(B$20*E29),"",B$20*E29) -> 2706783 | C38: =IF(ISERROR(ROUND(B38/B17/12,2)),"",ROUND(B38/B17/12,2)) -> 16.36 | D38: =IF(ISERROR(C38*B17*12),"",C38*B17*12) -> 2706271.2
A39: Variable | B39: =IF(ISERROR(B$20*E30),"",B$20*E30) -> 2252223 | C39: =IF(ISERROR(ROUND(B39/B18,4)),"",ROUND(B39/B18,4)) -> 0.0178 | D39: =IF(ISERROR(C39*B18),"",C39*B18) -> 2254549.9
A40: TOTAL | B40: =IF(ISERROR(B38+B39),"",B38+B39) -> 4959006 | C40: - | D40: =IF(ISERROR(D38+D39),"",D38+D39) -> 4960821.1
B42: New F/V Split | C42: Revenue @ new F/V Split | D42: Final Adjusted Base Rates | E42: Revenue Reconciliation @ Adjusted Rates
A43: Fixed | B43: =IF(ISERROR(((1-E29)/B35)+E29),"",((1-E29)/B35)+E29) -> 0.65937383 | C43: =IF(ISERROR(B43*B$20),"",B43*B$20) -> 3269838.8 | D43: =IF(ISERROR(ROUND(C43/B17/12,2)),"",ROUND(C43/B17/12,2)) -> 19.77 | E43: =IF(ISERROR(D43*12*B17),"",D43*12*B17) -> 3270353.4
A44: Variable | B44: =IF(ISERROR(1-B43),"",1-B43) -> 0.34062617 | C44: =IF(ISERROR(B44*B$20),"",B44*B$20) -> 1689167.2 | D44: =IF(ISERROR(ROUND(C44/B18,4)),"",ROUND(C44/B18,4)) -> 0.0133 | E44: =IF(ISERROR(D44*B18),"",D44*B18) -> 1684579.4
A45: TOTAL | B45: - | C45: =IF(ISERROR(SUM(C43:C44)),"",SUM(C43:C44)) -> 4959006 | D45: - | E45: =IF(ISERROR(E43+E44),"",E43+E44) -> 4954932.8
A47: Checks3
A48: Change in Fixed Rate | B48: =IF(ISERROR(D43-C38),"",D43-C38) -> 3.41
A49: Difference Between Revenues @ Proposed Rates and Class Specific Revenue Requirement | B49: =IF(ISERROR((D43*12*B17)+(D44*B18)-B20),"",(D43*12*B17)+(D44*B18)-B20) -> -4073.1523
B50: =IF(ISERROR(B49/B20), "", B49/B20) -> -0.00082136467
A52: Notes:
A54: 1 The final residential class specific revenue requirement, as shown in Appendix 2-P, should be used (i.e. the revenue requirement after any proposed adjustments to R/C ratios).
A57: 2 Default number of transition years for rate design policy change is 4. Where the change in the residential rate design will result in the fixed charge increasing by more than $4/year, a distributor may propose an additional transition year.
A60: 3 Change in fixed rate due to rate design policy should be less than $4. The difference between the proposed class revenue requirement and the revenue at calculated base rates should be minimal (i.e. should be reasonably considered as a rounding error)

Sheet App.2-PA_Res_Rate_Design_18
A9: January 1 2018 Adjustment (Filing Requirements Appendix 2-PA)
A10: New Rate Design Policy For Residential Customers
A14: A) Data Inputs
A16: Test Year Billing Determinants for Residential Class
A17: Customers | B17: 13785
A18: kWh | B18: 126660107
A20: Proposed Residential Class Specific Revenue Requirement1 | B20: ='App.2-PA_Res_Rate_Design_17'!B20 -> 4959006
A22: Residential Base Rates on Current Tariff
A23: Monthly Fixed Charge ($) | B23: 12.98
A24: Distribution Volumetric Rate ($/kWh) | B24: 0.0222
B25: .
A26: B) Current Fixed/Variable Split
B28: Base Rates | C28: Billing Determinants | D28: Revenue | E28: % of Total Revenue
A29: Fixed | B29: ='App.2-PA_Res_Rate_Design_17'!D43 -> 19.77 | C29: =IF(B17="","",B17) -> 13785 | D29: =IF(ISERROR(B29*C29*12),"",B29*C29*12) -> 3270353.4 | E29: =IF(ISERROR(D29/D31),"",D29/D31) -> 0.66001973
A30: Variable | B30: ='App.2-PA_Res_Rate_Design_17'!D44 -> 0.0133 | C30: =IF(B18="","",B18) -> 126660107 | D30: =IF(ISERROR(B30*C30),"",B30*C30) -> 1684579.4 | E30: =IF(ISERROR(D30/D31),"",D30/D31) -> 0.33998027
A31: TOTAL | B31: - | C31: - | D31: =IF(ISERROR(D29+D30),"",D29+D30) -> 4954932.8 | E31: -
A33: C) Calculating Test Year Base Rates
A35: Number of Required Rate Design Policy Transition Years2 | B35: ='App.2-PA_Res_Rate_Design_17'!B35-1 -> 3
B37: Test Year Revenue @ Current F/V Split | C37: Test Year Base Rates @ Current F/V Split | D37: Reconciliation - Test Year Base Rates @ Current F/V Split
A38: Fixed | B38: =IF(ISERROR(B$20*E29),"",B$20*E29) -> 3273041.8 | C38: =IF(ISERROR(ROUND(B38/B17/12,2)),"",ROUND(B38/B17/12,2)) -> 19.79 | D38: =IF(ISERROR(C38*B17*12),"",C38*B17*12) -> 3273661.8
A39: Variable | B39: =IF(ISERROR(B$20*E30),"",B$20*E30) -> 1685964.2 | C39: =IF(ISERROR(ROUND(B39/B18,4)),"",ROUND(B39/B18,4)) -> 0.0133 | D39: =IF(ISERROR(C39*B18),"",C39*B18) -> 1684579.4
A40: TOTAL | B40: =IF(ISERROR(B38+B39),"",B38+B39) -> 4959006 | C40: - | D40: =IF(ISERROR(D38+D39),"",D38+D39) -> 4958241.2
B42: New F/V Split | C42: Revenue @ new F/V Split | D42: Final Adjusted Base Rates | E42: Revenue Reconciliation @ Adjusted Rates
A43: Fixed | B43: =IF(ISERROR(((1-E29)/B35)+E29),"",((1-E29)/B35)+E29) -> 0.77334648 | C43: =IF(ISERROR(B43*B$20),"",B43*B$20) -> 3835029.8 | D43: =IF(ISERROR(ROUND(C43/B17/12,2)),"",ROUND(C43/B17/12,2)) -> 23.18 | E43: =IF(ISERROR(D43*12*B17),"",D43*12*B17) -> 3834435.6
A44: Variable | B44: =IF(ISERROR(1-B43),"",1-B43) -> 0.22665352 | C44: =IF(ISERROR(B44*B$20),"",B44*B$20) -> 1123976.1 | D44: =IF(ISERROR(ROUND(C44/B18,4)),"",ROUND(C44/B18,4)) -> 0.0089 | E44: =IF(ISERROR(D44*B18),"",D44*B18) -> 1127275
A45: TOTAL | B45: - | C45: =IF(ISERROR(SUM(C43:C44)),"",SUM(C43:C44)) -> 4959006 | D45: - | E45: =IF(ISERROR(E43+E44),"",E43+E44) -> 4961710.6
A47: Checks3
A48: Change in Fixed Rate | B48: =IF(ISERROR(D43-C38),"",D43-C38) -> 3.39
A49: Difference Between Revenues @ Proposed Rates and Class Specific Revenue Requirement | B49: =IF(ISERROR((D43*12*B17)+(D44*B18)-B20),"",(D43*12*B17)+(D44*B18)-B20) -> 2704.5769
B50: =IF(ISERROR(B49/B20), "", B49/B20) -> 0.0005453869
A52: Notes:
A54: 1 The final residential class specific revenue requirement, as shown in Appendix 2-P, should be used (i.e. the revenue requirement after any proposed adjustments to R/C ratios).
A57: 2 Default number of transition years for rate design policy change is 4. Where the change in the residential rate design will result in the fixed charge increasing by more than $4/year, a distributor may propose an additional transition year.
A60: 3 Change in fixed rate due to rate design policy should be less than $4. The difference between the proposed class revenue requirement and the revenue at calculated base rates should be minimal (i.e. should be reasonably considered as a rounding error)

Sheet App.2-PA_Res_Rate_Design_19
A9: January 1 2019 Adjustment (Filing Requirements Appendix 2-PA)
A10: New Rate Design Policy For Residential Customers
A14: A) Data Inputs
A16: Test Year Billing Determinants for Residential Class
A17: Customers | B17: 13785
A18: kWh | B18: 126660107
A20: Proposed Residential Class Specific Revenue Requirement1 | B20: ='App.2-PA_Res_Rate_Design_18'!B20 -> 4959006
A22: Residential Base Rates on Current Tariff
A23: Monthly Fixed Charge ($) | B23: 12.98
A24: Distribution Volumetric Rate ($/kWh) | B24: 0.0222
B25: .
A26: B) Current Fixed/Variable Split
B28: Base Rates | C28: Billing Determinants | D28: Revenue | E28: % of Total Revenue
A29: Fixed | B29: ='App.2-PA_Res_Rate_Design_18'!D43 -> 23.18 | C29: =IF(B17="","",B17) -> 13785 | D29: =IF(ISERROR(B29*C29*12),"",B29*C29*12) -> 3834435.6 | E29: =IF(ISERROR(D29/D31),"",D29/D31) -> 0.77280518
A30: Variable | B30: ='App.2-PA_Res_Rate_Design_18'!D44 -> 0.0089 | C30: =IF(B18="","",B18) -> 126660107 | D30: =IF(ISERROR(B30*C30),"",B30*C30) -> 1127275 | E30: =IF(ISERROR(D30/D31),"",D30/D31) -> 0.22719482
A31: TOTAL | B31: - | C31: - | D31: =IF(ISERROR(D29+D30),"",D29+D30) -> 4961710.6 | E31: -
A33: C) Calculating Test Year Base Rates
A35: Number of Required Rate Design Policy Transition Years2 | B35: ='App.2-PA_Res_Rate_Design_18'!B35-1 -> 2
B37: Test Year Revenue @ Current F/V Split | C37: Test Year Base Rates @ Current F/V Split | D37: Reconciliation - Test Year Base Rates @ Current F/V Split
A38: Fixed | B38: =IF(ISERROR(B$20*E29),"",B$20*E29) -> 3832345.5 | C38: =IF(ISERROR(ROUND(B38/B17/12,2)),"",ROUND(B38/B17/12,2)) -> 23.17 | D38: =IF(ISERROR(C38*B17*12),"",C38*B17*12) -> 3832781.4
A39: Variable | B39: =IF(ISERROR(B$20*E30),"",B$20*E30) -> 1126660.5 | C39: =IF(ISERROR(ROUND(B39/B18,4)),"",ROUND(B39/B18,4)) -> 0.0089 | D39: =IF(ISERROR(C39*B18),"",C39*B18) -> 1127275
A40: TOTAL | B40: =IF(ISERROR(B38+B39),"",B38+B39) -> 4959006 | C40: - | D40: =IF(ISERROR(D38+D39),"",D38+D39) -> 4960056.4
B42: New F/V Split | C42: Revenue @ new F/V Split | D42: Final Adjusted Base Rates | E42: Revenue Reconciliation @ Adjusted Rates
A43: Fixed | B43: =IF(ISERROR(((1-E29)/B35)+E29),"",((1-E29)/B35)+E29) -> 0.88640259 | C43: =IF(ISERROR(B43*B$20),"",B43*B$20) -> 4395675.7 | D43: =IF(ISERROR(ROUND(C43/B17/12,2)),"",ROUND(C43/B17/12,2)) -> 26.57 | E43: =IF(ISERROR(D43*12*B17),"",D43*12*B17) -> 4395209.4
A44: Variable | B44: =IF(ISERROR(1-B43),"",1-B43) -> 0.11359741 | C44: =IF(ISERROR(B44*B$20),"",B44*B$20) -> 563330.24 | D44: =IF(ISERROR(ROUND(C44/B18,4)),"",ROUND(C44/B18,4)) -> 0.0044 | E44: =IF(ISERROR(D44*B18),"",D44*B18) -> 557304.47
A45: TOTAL | B45: - | C45: =IF(ISERROR(SUM(C43:C44)),"",SUM(C43:C44)) -> 4959006 | D45: - | E45: =IF(ISERROR(E43+E44),"",E43+E44) -> 4952513.9
A47: Checks3
A48: Change in Fixed Rate | B48: =IF(ISERROR(D43-C38),"",D43-C38) -> 3.4
A49: Difference Between Revenues @ Proposed Rates and Class Specific Revenue Requirement | B49: =IF(ISERROR((D43*12*B17)+(D44*B18)-B20),"",(D43*12*B17)+(D44*B18)-B20) -> -6492.1046
B50: =IF(ISERROR(B49/B20), "", B49/B20) -> -0.0013091544
A52: Notes:
A54: 1 The final residential class specific revenue requirement, as shown in Appendix 2-P, should be used (i.e. the revenue requirement after any proposed adjustments to R/C ratios).
A57: 2 Default number of transition years for rate design policy change is 4. Where the change in the residential rate design will result in the fixed charge increasing by more than $4/year, a distributor may propose an additional transition year.
A60: 3 Change in fixed rate due to rate design policy should be less than $4. The difference between the proposed class revenue requirement and the revenue at calculated base rates should be minimal (i.e. should be reasonably considered as a rounding error)

Sheet App.2PA_Res_Rate_Design_20
A9: January 1 2020 Adjustment (Filing Requirements Appendix 2-PA)
A10: New Rate Design Policy For Residential Customers
A14: A) Data Inputs
A16: Test Year Billing Determinants for Residential Class
A17: Customers | B17: 13785
A18: kWh | B18: 126660107
A20: Proposed Residential Class Specific Revenue Requirement1 | B20: ='App.2-PA_Res_Rate_Design_19'!B20 -> 4959006
A22: Residential Base Rates on Current Tariff
A23: Monthly Fixed Charge ($) | B23: 12.98
A24: Distribution Volumetric Rate ($/kWh) | B24: 0.0222
B25: .
A26: B) Current Fixed/Variable Split
B28: Base Rates | C28: Billing Determinants | D28: Revenue | E28: % of Total Revenue
A29: Fixed | B29: ='App.2-PA_Res_Rate_Design_19'!D43 -> 26.57 | C29: =IF(B17="","",B17) -> 13785 | D29: =IF(ISERROR(B29*C29*12),"",B29*C29*12) -> 4395209.4 | E29: =IF(ISERROR(D29/D31),"",D29/D31) -> 0.88747039
A30: Variable | B30: ='App.2-PA_Res_Rate_Design_19'!D44 -> 0.0044 | C30: =IF(B18="","",B18) -> 126660107 | D30: =IF(ISERROR(B30*C30),"",B30*C30) -> 557304.47 | E30: =IF(ISERROR(D30/D31),"",D30/D31) -> 0.11252961
A31: TOTAL | B31: - | C31: - | D31: =IF(ISERROR(D29+D30),"",D29+D30) -> 4952513.9 | E31: -
A33: C) Calculating Test Year Base Rates
A35: Number of Required Rate Design Policy Transition Years2 | B35: ='App.2-PA_Res_Rate_Design_19'!B35-1 -> 1
B37: Test Year Revenue @ Current F/V Split | C37: Test Year Base Rates @ Current F/V Split | D37: Reconciliation - Test Year Base Rates @ Current F/V Split
A38: Fixed | B38: =IF(ISERROR(B$20*E29),"",B$20*E29) -> 4400971 | C38: =IF(ISERROR(ROUND(B38/B17/12,2)),"",ROUND(B38/B17/12,2)) -> 26.6 | D38: =IF(ISERROR(C38*B17*12),"",C38*B17*12) -> 4400172
A39: Variable | B39: =IF(ISERROR(B$20*E30),"",B$20*E30) -> 558035.02 | C39: =IF(ISERROR(ROUND(B39/B18,4)),"",ROUND(B39/B18,4)) -> 0.0044 | D39: =IF(ISERROR(C39*B18),"",C39*B18) -> 557304.47
A40: TOTAL | B40: =IF(ISERROR(B38+B39),"",B38+B39) -> 4959006 | C40: - | D40: =IF(ISERROR(D38+D39),"",D38+D39) -> 4957476.5
B42: New F/V Split | C42: Revenue @ new F/V Split | D42: Final Adjusted Base Rates | E42: Revenue Reconciliation @ Adjusted Rates
A43: Fixed | B43: =IF(ISERROR(((1-E29)/B35)+E29),"",((1-E29)/B35)+E29) -> 1 | C43: =IF(ISERROR(B43*B$20),"",B43*B$20) -> 4959006 | D43: =IF(ISERROR(ROUND(C43/B17/12,2)),"",ROUND(C43/B17/12,2)) -> 29.98 | E43: =IF(ISERROR(D43*12*B17),"",D43*12*B17) -> 4959291.6
A44: Variable | B44: =IF(ISERROR(1-B43),"",1-B43) -> 0 | C44: =IF(ISERROR(B44*B$20),"",B44*B$20) -> 0 | D44: =IF(ISERROR(ROUND(C44/B18,4)),"",ROUND(C44/B18,4)) -> 0 | E44: =IF(ISERROR(D44*B18),"",D44*B18) -> 0
A45: TOTAL | B45: - | C45: =IF(ISERROR(SUM(C43:C44)),"",SUM(C43:C44)) -> 4959006 | D45: - | E45: =IF(ISERROR(E43+E44),"",E43+E44) -> 4959291.6
A47: Checks3
A48: Change in Fixed Rate | B48: =IF(ISERROR(D43-C38),"",D43-C38) -> 3.38
A49: Difference Between Revenues @ Proposed Rates and Class Specific Revenue Requirement | B49: =IF(ISERROR((D43*12*B17)+(D44*B18)-B20),"",(D43*12*B17)+(D44*B18)-B20) -> 285.6246
B50: =IF(ISERROR(B49/B20), "", B49/B20) -> 5.7597148e-05
A52: Notes:
A54: 1 The final residential class specific revenue requirement, as shown in Appendix 2-P, should be used (i.e. the revenue requirement after any proposed adjustments to R/C ratios).
A57: 2 Default number of transition years for rate design policy change is 4. Where the change in the residential rate design will result in the fixed charge increasing by more than $4/year, a distributor may propose an additional transition year.
A60: 3 Change in fixed rate due to rate design policy should be less than $4. The difference between the proposed class revenue requirement and the revenue at calculated base rates should be minimal (i.e. should be reasonably considered as a rounding error)

Sheet 2016 Bill Impact
A7: Woodstock Residential Customer Class TOU
A9: Consumption kWh | C9: 285
A10: Loss Adjustment Factor | C10: 1.0431
C12: Approved Oct 31 2015 | G12: Proposed January 1 2016 | K12: Impact
C13: Rate ($) | D13: Volume | E13: Charge ($) | G13: Rate ($) | H13: Volume | I13: Charge ($) | K13: Charge ($) | L13: % Change
A14: Monthly Service Charge | B14: Monthly | C14: 12.98 | D14: 1 | E14: =C14*D14 -> 12.98 | G14: ='App.2-PA_Res_Rate_Design_16'!D43 -> 16.38 | H14: 1 | I14: =G14*H14 -> 16.38 | K14: =I14-E14 -> 3.4 | L14: =IF(I14-E14=0, " 0.00%", I14/E14-1) -> 0.26194145
A15: Rate Rider per Hydro One Networks' Acquisition Agreement | B15: Monthly | C15: -0.13 | D15: 1 | E15: =C15*D15 -> -0.13 | G15: =-G14*0.01 -> -0.1638 | H15: 1 | I15: =G15*H15 -> -0.1638 | K15: =I15-E15 -> -0.0338 | L15: =IF(I15-E15=0, " 0.00%", I15/E15-1) -> 0.26
A16: Rate Rider for Recovery of Smart Meter Incremental Revenue Requirements | B16: Monthly | C16: 0.64 | D16: 1 | E16: =C16*D16 -> 0.64 | G16: 0.64 | H16: 1 | I16: =G16*H16 -> 0.64 | K16: =I16-E16 -> 0 | L16: =IF(I16-E16=0, " 0.00%", I16/E16-1) -> 0.00%
A17: Distribution Volumetric Rate | B17: per kWh | C17: 0.0222 | D17: =$C$9 -> 285 | E17: =C17*D17 -> 6.327 | G17: ='App.2-PA_Res_Rate_Design_16'!D44 -> 0.0178 | H17: =$C$9 -> 285 | I17: =G17*H17 -> 5.073 | K17: =I17-E17 -> -1.254 | L17: =IF(I17-E17=0, " 0.00%", I17/E17-1) -> -0.1981982
A18: Rate Rider per Hydro One Networks' Acquisition Agreement | B18: per kWh | C18: -0.0002 | D18: =$C$9 -> 285 | E18: =C18*D18 -> -0.057 | G18: =ROUND(-G17*0.01,4) -> -0.0002 | H18: =$C$9 -> 285 | I18: =G18*H18 -> -0.057 | K18: =I18-E18 -> 0 | L18: =IF(I18-E18=0, " 0.00%", I18/E18-1) -> 0.00%
A19: Rate Rider for Recovery of Incremental Capital | B19: per kWh | C19: 0.0008 | D19: =$C$9 -> 285 | E19: =C19*D19 -> 0.228 | G19: 0.0008 | H19: =$C$9 -> 285 | I19: =G19*H19 -> 0.228 | K19: =I19-E19 -> 0 | L19: =IF(I19-E19=0, " 0.00%", I19/E19-1) -> 0.00%
A20: Sub-Total A (excluding pass through) | E20: =SUM(E14:E19) -> 19.988 | I20: =SUM(I14:I19) -> 22.1002 | K20: =I20-E20 -> 2.1122 | L20: =IF(I20-E20=0, " 0.00%", I20/E20-1) -> 0.1056734
A21: Line Losses on Cost of Power | B21: per kWh | C21: =C31*0.64+C32*0.18+C33*0.18 -> 0.10214 | D21: =($C$9*$C$10)-$C$9 -> 12.2835 | E21: =C21*D21 -> 1.2546367 | G21: =G31*0.64+G32*0.18+G33*0.18 -> 0.10214 | H21: =($C$9*$C$10)-$C$9 -> 12.2835 | I21: =G21*H21 -> 1.2546367 | K21: =I21-E21 -> 0 | L21: =IF(I21-E21=0, " 0.00%", I21/E21-1) -> 0.00%
A22: Total Deferral/Variance Account Rate Riders | B22: per kWh | C22: 0 | D22: 0 | E22: 0 | G22: 0 | H22: 0 | I22: 0 | K22: =I22-E22 -> 0 | L22: =IF(I22-E22=0, " 0.00%", I22/E22-1) -> 0.00%
A23: Smart Meter Entity Charge | B23: Monthly | C23: 0.79 | D23: 1 | E23: =C23*D23 -> 0.79 | G23: 0.79 | H23: 1 | I23: =G23*H23 -> 0.79 | K23: =I23-E23 -> 0 | L23: =IF(I23-E23=0, " 0.00%", I23/E23-1) -> 0.00%
A24: Sub-Total B - Distribution (includes Sub-Total A) | E24: =SUM(E20:E23) -> 22.032637 | I24: =SUM(I20:I23) -> 24.144837 | K24: =I24-E24 -> 2.1122 | L24: =IF(I24-E24=0, " 0.00%", I24/E24-1) -> 0.095866874
A25: RTSR - Network | B25: per kWh | C25: 0.0075 | D25: =$C$9*$C$10 -> 297.2835 | E25: =C25*D25 -> 2.2296262 | G25: 0.0075 | H25: =$C$9*$C$10 -> 297.2835 | I25: =G25*H25 -> 2.2296262 | K25: =I25-E25 -> 0 | L25: =IF(I25-E25=0, " 0.00%", I25/E25-1) -> 0.00%
A26: RTSR - Connection and/or Line and Transformation Connection | B26: per kWh | C26: 0.0054 | D26: =$C$9*$C$10 -> 297.2835 | E26: =C26*D26 -> 1.6053309 | G26: 0.0054 | H26: =$C$9*$C$10 -> 297.2835 | I26: =G26*H26 -> 1.6053309 | K26: =I26-E26 -> 0 | L26: =IF(I26-E26=0, " 0.00%", I26/E26-1) -> 0.00%
A27: Sub-Total C - Delivery (including Sub-Total B) | E27: =SUM(E24:E26) -> 25.867594 | I27: =SUM(I24:I26) -> 27.979794 | K27: =I27-E27 -> 2.1122 | L27: =IF(I27-E27=0, " 0.00%", I27/E27-1) -> 0.08165429
A28: Wholesale Market Service Charge (WMSC) | B28: per kWh | C28: 0.0044 | D28: =$C$9*$C$10 -> 297.2835 | E28: =C28*D28 -> 1.3080474 | G28: 0.0044 | H28: =$C$9*$C$10 -> 297.2835 | I28: =G28*H28 -> 1.3080474 | K28: =I28-E28 -> 0 | L28: =IF(I28-E28=0, " 0.00%", I28/E28-1) -> 0.00%
A29: Rural and Remote Rate Protection (RRRP) | B29: per kWh | C29: 0.0013 | D29: =$C$9*$C$10 -> 297.2835 | E29: =C29*D29 -> 0.38646855 | G29: 0.0013 | H29: =$C$9*$C$10 -> 297.2835 | I29: =G29*H29 -> 0.38646855 | K29: =I29-E29 -> 0 | L29: =IF(I29-E29=0, " 0.00%", I29/E29-1) -> 0.00%
A30: Standard Supply Service Charge | B30: Monthly | C30: 0.25 | D30: 1 | E30: =C30*D30 -> 0.25 | G30: 0.25 | H30: 1 | I30: =G30*H30 -> 0.25 | K30: =I30-E30 -> 0 | L30: =IF(I30-E30=0, " 0.00%", I30/E30-1) -> 0.00%
A31: TOU - Off Peak | B31: per kWh | C31: 0.08 | D31: =$C$9*0.64 -> 182.4 | E31: =C31*D31 -> 14.592 | G31: 0.08 | H31: =$C$9*0.64 -> 182.4 | I31: =G31*H31 -> 14.592 | K31: =I31-E31 -> 0 | L31: =IF(I31-E31=0, " 0.00%", I31/E31-1) -> 0.00%
A32: TOU - Mid Peak | B32: per kWh | C32: 0.122 | D32: =$C$9*0.18 -> 51.3 | E32: =C32*D32 -> 6.2586 | G32: 0.122 | H32: =$C$9*0.18 -> 51.3 | I32: =G32*H32 -> 6.2586 | K32: =I32-E32 -> 0 | L32: =IF(I32-E32=0, " 0.00%", I32/E32-1) -> 0.00%
A33: TOU - On Peak | B33: per kWh | C33: 0.161 | D33: =$C$9*0.18 -> 51.3 | E33: =C33*D33 -> 8.2593 | G33: 0.161 | H33: =$C$9*0.18 -> 51.3 | I33: =G33*H33 -> 8.2593 | K33: =I33-E33 -> 0 | L33: =IF(I33-E33=0, " 0.00%", I33/E33-1) -> 0.00%
A35: Total Bill on TOU (before Taxes) | E35: =SUM(E27:E33) -> 56.92201 | I35: =SUM(I27:I33) -> 59.03421 | K35: =I35-E35 -> 2.1122 | L35: =IF(I35-E35=0, " 0.00%", I35/E35-1) -> 0.037106912
A36: HST | C36: 0.13 | E36: =E35*C36 -> 7.3998613 | G36: 0.13 | I36: =I35*G36 -> 7.6744473 | K36: =I36-E36 -> 0.274586 | L36: =IF(I36-E36=0, " 0.00%", I36/E36-1) -> 0.037106912
A37: Total Bill (including HST) | E37: =E35+E36 -> 64.321871 | I37: =I35+I36 -> 66.708657 | K37: =I37-E37 -> 2.386786 | L37: =I37/E37-1 -> 0.037106912
E38: 0 | I38: 0 | K38: =I38-E38 -> 0 | L38: 0
A39: Total Bill Including HST | E39: =E37+E38 -> 64.321871 | I39: =I37+I38 -> 66.708657 | K39: =I39-E39 -> 2.386786 | L39: =IF(I39-E39=0, " 0.00%", I39/E39-1) -> 0.037106912
A43: Woodstock Residential Customer Class TOU
A45: Consumption kWh | C45: 800
A46: Loss Adjustment Factor | C46: 1.0431
C48: Approved Oct 31 2015 | G48: Proposed January 1 2016 | K48: Impact
C49: Rate ($) | D49: Volume | E49: Charge ($) | G49: Rate ($) | H49: Volume | I49: Charge ($) | K49: $ Change | L49: % Change
A50: Monthly Service Charge | B50: Monthly | C50: 12.98 | D50: 1 | E50: =C50*D50 -> 12.98 | G50: =G14 -> 16.38 | H50: 1 | I50: =G50*H50 -> 16.38 | K50: =I50-E50 -> 3.4 | L50: =IF(I50-E50=0, " 0.00%", I50/E50-1) -> 0.26194145
A51: Rate Rider per Hydro One Networks' Acquisition Agreement | B51: Monthly | C51: -0.13 | D51: 1 | E51: =C51*D51 -> -0.13 | G51: =G15 -> -0.1638 | H51: 1 | I51: =G51*H51 -> -0.1638 | K51: =I51-E51 -> -0.0338 | L51: =IF(I51-E51=0, " 0.00%", I51/E51-1) -> 0.26
A52: Rate Rider for Recovery of Smart Meter Incremental Revenue Requirements | B52: Monthly | C52: 0.64 | D52: 1 | E52: =C52*D52 -> 0.64 | G52: =G16 -> 0.64 | H52: 1 | I52: =G52*H52 -> 0.64 | K52: =I52-E52 -> 0 | L52: =IF(I52-E52=0, " 0.00%", I52/E52-1) -> 0.00%
A53: Distribution Volumetric Rate | B53: per kWh | C53: =C17 -> 0.0222 | D53: =$C$45 -> 800 | E53: =C53*D53 -> 17.76 | G53: =G17 -> 0.0178 | H53: =$C$45 -> 800 | I53: =G53*H53 -> 14.24 | K53: =I53-E53 -> -3.52 | L53: =IF(I53-E53=0, " 0.00%", I53/E53-1) -> -0.1981982
A54: Rate Rider per Hydro One Networks' Acquisition Agreement | B54: per kWh | C54: =C18 -> -0.0002 | D54: =$C$45 -> 800 | E54: =C54*D54 -> -0.16 | G54: =G18 -> -0.0002 | H54: =$C$45 -> 800 | I54: =G54*H54 -> -0.16 | K54: =I54-E54 -> 0 | L54: =IF(I54-E54=0, " 0.00%", I54/E54-1) -> 0.00%
...

Sheet 2017 Bill Impact
A7: Woodstock Residential Customer Class TOU
A9: Consumption kWh | C9: ='2016 Bill Impact'!C9 -> 285
A10: Loss Adjustment Factor | C10: ='2016 Bill Impact'!C10 -> 1.0431
C12: Proposed January 1 2016 | G12: Proposed January 1 2017 | K12: Impact
C13: Rate ($) | D13: Volume | E13: Charge ($) | G13: Rate ($) | H13: Volume | I13: Charge ($) | K13: $ Change | L13: % Change
A14: Monthly Service Charge | B14: Monthly | C14: ='2016 Bill Impact'!G14 -> 16.38 | D14: 1 | E14: =C14*D14 -> 16.38 | G14: ='App.2-PA_Res_Rate_Design_17'!D43 -> 19.77 | H14: 1 | I14: =G14*H14 -> 19.77 | K14: =I14-E14 -> 3.39 | L14: =IF(I14-E14=0, " 0.00%", I14/E14-1) -> 0.20695971
A15: Rate Rider per Hydro One Networks' Acquisition Agreement | B15: Monthly | C15: ='2016 Bill Impact'!G15 -> -0.1638 | D15: 1 | E15: =C15*D15 -> -0.1638 | G15: =-G14*0.01 -> -0.1977 | H15: 1 | I15: =G15*H15 -> -0.1977 | K15: =I15-E15 -> -0.0339 | L15: =IF(I15-E15=0, " 0.00%", I15/E15-1) -> 0.20695971
A16: Rate Rider for Recovery of Smart Meter Incremental Revenue Requirements | B16: Monthly | C16: ='2016 Bill Impact'!G16 -> 0.64 | D16: 1 | E16: =C16*D16 -> 0.64 | G16: 0.64 | H16: 1 | I16: =G16*H16 -> 0.64 | K16: =I16-E16 -> 0 | L16: =IF(I16-E16=0, " 0.00%", I16/E16-1) -> 0.00%
A17: Distribution Volumetric Rate | B17: per kWh | C17: ='2016 Bill Impact'!G17 -> 0.0178 | D17: =$C$9 -> 285 | E17: =C17*D17 -> 5.073 | G17: ='App.2-PA_Res_Rate_Design_17'!D44 -> 0.0133 | H17: =$C$9 -> 285 | I17: =G17*H17 -> 3.7905 | K17: =I17-E17 -> -1.2825 | L17: =IF(I17-E17=0, " 0.00%", I17/E17-1) -> -0.25280899
A18: Rate Rider per Hydro One Networks' Acquisition Agreement | B18: per kWh | C18: ='2016 Bill Impact'!G18 -> -0.0002 | D18: =$C$9 -> 285 | E18: =C18*D18 -> -0.057 | G18: =ROUND(-G17*0.01,4) -> -0.0001 | H18: =$C$9 -> 285 | I18: =G18*H18 -> -0.0285 | K18: =I18-E18 -> 0.0285 | L18: =IF(I18-E18=0, " 0.00%", I18/E18-1) -> -0.5
A19: Rate Rider for Recovery of Incremental Capital | B19: per kWh | C19: ='2016 Bill Impact'!G19 -> 0.0008 | D19: =$C$9 -> 285 | E19: =C19*D19 -> 0.228 | G19: 0.0008 | H19: =$C$9 -> 285 | I19: =G19*H19 -> 0.228 | K19: =I19-E19 -> 0 | L19: =IF(I19-E19=0, " 0.00%", I19/E19-1) -> 0.00%
A20: Sub-Total A (excluding pass through) | E20: =SUM(E14:E19) -> 22.1002 | I20: =SUM(I14:I19) -> 24.2023 | K20: =I20-E20 -> 2.1021 | L20: =IF(I20-E20=0, " 0.00%", I20/E20-1) -> 0.095116786
A21: Line Losses on Cost of Power | B21: per kWh | C21: ='2016 Bill Impact'!G21 -> 0.10214 | D21: =($C$9*$C$10)-$C$9 -> 12.2835 | E21: =C21*D21 -> 1.2546367 | G21: =G31*0.64+G32*0.18+G33*0.18 -> 0.10214 | H21: =($C$9*$C$10)-$C$9 -> 12.2835 | I21: =G21*H21 -> 1.2546367 | K21: =I21-E21 -> 0 | L21: =IF(I21-E21=0, " 0.00%", I21/E21-1) -> 0.00%
A22: Total Deferral/Variance Account Rate Riders | B22: per kWh | C22: ='2016 Bill Impact'!G22 -> 0 | D22: 0 | E22: 0 | G22: 0 | H22: 0 | I22: 0 | K22: =I22-E22 -> 0 | L22: =IF(I22-E22=0, " 0.00%", I22/E22-1) -> 0.00%
A23: Smart Meter Entity Charge | B23: Monthly | C23: ='2016 Bill Impact'!G23 -> 0.79 | D23: 1 | E23: =C23*D23 -> 0.79 | G23: 0.79 | H23: 1 | I23: =G23*H23 -> 0.79 | K23: =I23-E23 -> 0 | L23: =IF(I23-E23=0, " 0.00%", I23/E23-1) -> 0.00%
A24: Sub-Total B - Distribution (includes Sub-Total A) | E24: =SUM(E20:E23) -> 24.144837 | I24: =SUM(I20:I23) -> 26.246937 | K24: =I24-E24 -> 2.1021 | L24: =IF(I24-E24=0, " 0.00%", I24/E24-1) -> 0.087062092
A25: RTSR - Network | B25: per kWh | C25: ='2016 Bill Impact'!G25 -> 0.0075 | D25: =$C$9*$C$10 -> 297.2835 | E25: =C25*D25 -> 2.2296262 | G25: 0.0075 | H25: =$C$9*$C$10 -> 297.2835 | I25: =G25*H25 -> 2.2296262 | K25: =I25-E25 -> 0 | L25: =IF(I25-E25=0, " 0.00%", I25/E25-1) -> 0.00%
A26: RTSR - Connection and/or Line and Transformation Connection | B26: per kWh | C26: ='2016 Bill Impact'!G26 -> 0.0054 | D26: =$C$9*$C$10 -> 297.2835 | E26: =C26*D26 -> 1.6053309 | G26: 0.0054 | H26: =$C$9*$C$10 -> 297.2835 | I26: =G26*H26 -> 1.6053309 | K26: =I26-E26 -> 0 | L26: =IF(I26-E26=0, " 0.00%", I26/E26-1) -> 0.00%
A27: Sub-Total C - Delivery (including Sub-Total B) | E27: =SUM(E24:E26) -> 27.979794 | I27: =SUM(I24:I26) -> 30.081894 | K27: =I27-E27 -> 2.1021 | L27: =IF(I27-E27=0, " 0.00%", I27/E27-1) -> 0.075129217
A28: Wholesale Market Service Charge (WMSC) | B28: per kWh | C28: ='2016 Bill Impact'!G28 -> 0.0044 | D28: =$C$9*$C$10 -> 297.2835 | E28: =C28*D28 -> 1.3080474 | G28: 0.0044 | H28: =$C$9*$C$10 -> 297.2835 | I28: =G28*H28 -> 1.3080474 | K28: =I28-E28 -> 0 | L28: =IF(I28-E28=0, " 0.00%", I28/E28-1) -> 0.00%
A29: Rural and Remote Rate Protection (RRRP) | B29: per kWh | C29: ='2016 Bill Impact'!G29 -> 0.0013 | D29: =$C$9*$C$10 -> 297.2835 | E29: =C29*D29 -> 0.38646855 | G29: 0.0013 | H29: =$C$9*$C$10 -> 297.2835 | I29: =G29*H29 -> 0.38646855 | K29: =I29-E29 -> 0 | L29: =IF(I29-E29=0, " 0.00%", I29/E29-1) -> 0.00%
A30: Standard Supply Service Charge | B30: Monthly | C30: ='2016 Bill Impact'!G30 -> 0.25 | D30: 1 | E30: =C30*D30 -> 0.25 | G30: 0.25 | H30: 1 | I30: =G30*H30 -> 0.25 | K30: =I30-E30 -> 0 | L30: =IF(I30-E30=0, " 0.00%", I30/E30-1) -> 0.00%
A31: TOU - Off Peak | B31: per kWh | C31: ='2016 Bill Impact'!G31 -> 0.08 | D31: =$C$9*0.64 -> 182.4 | E31: =C31*D31 -> 14.592 | G31: 0.08 | H31: =$C$9*0.64 -> 182.4 | I31: =G31*H31 -> 14.592 | K31: =I31-E31 -> 0 | L31: =IF(I31-E31=0, " 0.00%", I31/E31-1) -> 0.00%
A32: TOU - Mid Peak | B32: per kWh | C32: ='2016 Bill Impact'!G32 -> 0.122 | D32: =$C$9*0.18 -> 51.3 | E32: =C32*D32 -> 6.2586 | G32: 0.122 | H32: =$C$9*0.18 -> 51.3 | I32: =G32*H32 -> 6.2586 | K32: =I32-E32 -> 0 | L32: =IF(I32-E32=0, " 0.00%", I32/E32-1) -> 0.00%
A33: TOU - On Peak | B33: per kWh | C33: ='2016 Bill Impact'!G33 -> 0.161 | D33: =$C$9*0.18 -> 51.3 | E33: =C33*D33 -> 8.2593 | G33: 0.161 | H33: =$C$9*0.18 -> 51.3 | I33: =G33*H33 -> 8.2593 | K33: =I33-E33 -> 0 | L33: =IF(I33-E33=0, " 0.00%", I33/E33-1) -> 0.00%
A35: Total Bill on TOU (before Taxes) | E35: =SUM(E27:E33) -> 59.03421 | I35: =SUM(I27:I33) -> 61.13631 | K35: =I35-E35 -> 2.1021 | L35: =IF(I35-E35=0, " 0.00%", I35/E35-1) -> 0.035608167
A36: HST | C36: 0.13 | E36: =E35*C36 -> 7.6744473 | G36: 0.13 | I36: =I35*G36 -> 7.9477203 | K36: =I36-E36 -> 0.273273 | L36: =IF(I36-E36=0, " 0.00%", I36/E36-1) -> 0.035608167
A37: Total Bill (including HST) | E37: =E35+E36 -> 66.708657 | I37: =I35+I36 -> 69.08403 | K37: =I37-E37 -> 2.375373 | L37: =I37/E37-1 -> 0.035608167
E38: 0 | I38: 0 | K38: =I38-E38 -> 0 | L38: 0
A39: Total Bill Including HST | E39: =E37+E38 -> 66.708657 | I39: =I37+I38 -> 69.08403 | K39: =I39-E39 -> 2.375373 | L39: =IF(I39-E39=0, " 0.00%", I39/E39-1) -> 0.035608167
A43: Woodstock Residential Customer Class TOU
A45: Consumption kWh | C45: ='2016 Bill Impact'!C45 -> 800
A46: Loss Adjustment Factor | C46: ='2016 Bill Impact'!C46 -> 1.0431
C48: Proposed January 1 2016 | G48: Proposed January 1 2017 | K48: Impact
C49: Rate ($) | D49: Volume | E49: Charge ($) | G49: Rate ($) | H49: Volume | I49: Charge ($) | K49: $ Change | L49: % Change
A50: Monthly Service Charge | B50: Monthly | C50: =C14 -> 16.38 | D50: 1 | E50: =C50*D50 -> 16.38 | G50: =G14 -> 19.77 | H50: 1 | I50: =G50*H50 -> 19.77 | K50: =I50-E50 -> 3.39 | L50: =IF(I50-E50=0, " 0.00%", I50/E50-1) -> 0.20695971
A51: Rate Rider per Hydro One Networks' Acquisition Agreement | B51: Monthly | C51: =C15 -> -0.1638 | D51: 1 | E51: =C51*D51 -> -0.1638 | G51: =G15 -> -0.1977 | H51: 1 | I51: =G51*H51 -> -0.1977 | K51: =I51-E51 -> -0.0339 | L51: =IF(I51-E51=0, " 0.00%", I51/E51-1) -> 0.20695971
A52: Rate Rider for Recovery of Smart Meter Incremental Revenue Requirements | B52: Monthly | C52: =C16 -> 0.64 | D52: 1 | E52: =C52*D52 -> 0.64 | G52: =G16 -> 0.64 | H52: 1 | I52: =G52*H52 -> 0.64 | K52: =I52-E52 -> 0 | L52: =IF(I52-E52=0, " 0.00%", I52/E52-1) -> 0.00%
A53: Distribution Volumetric Rate | B53: per kWh | C53: =C17 -> 0.0178 | D53: =$C$45 -> 800 | E53: =C53*D53 -> 14.24 | G53: =G17 -> 0.0133 | H53: =$C$45 -> 800 | I53: =G53*H53 -> 10.64 | K53: =I53-E53 -> -3.6 | L53: =IF(I53-E53=0, " 0.00%", I53/E53-1) -> -0.25280899
A54: Rate Rider per Hydro One Networks' Acquisition Agreement | B54: per kWh | C54: =C18 -> -0.0002 | D54: =$C$45 -> 800 | E54: =C54*D54 -> -0.16 | G54: =G18 -> -0.0001 | H54: =$C$45 -> 800 | I54: =G54*H54 -> -0.08 | K54: =I54-E54 -> 0.08 | L54: =IF(I54-E54=0, " 0.00%", I54/E54-1) -> -0.5
...

Sheet 2018 Bill Impact
A7: Woodstock Residential Customer Class TOU
A9: Consumption kWh | C9: ='2017 Bill Impact'!C9 -> 285
A10: Loss Adjustment Factor | C10: ='2017 Bill Impact'!C10 -> 1.0431
C12: Proposed January 1 2017 | G12: Proposed January 1 2018 | K12: Impact
C13: Rate ($) | D13: Volume | E13: Charge ($) | G13: Rate ($) | H13: Volume | I13: Charge ($) | K13: $ Change | L13: % Change
A14: Monthly Service Charge | B14: Monthly | C14: ='2017 Bill Impact'!G14 -> 19.77 | D14: 1 | E14: =C14*D14 -> 19.77 | G14: ='App.2-PA_Res_Rate_Design_18'!D43 -> 23.18 | H14: 1 | I14: =G14*H14 -> 23.18 | K14: =I14-E14 -> 3.41 | L14: =IF(I14-E14=0, " 0.00%", I14/E14-1) -> 0.17248356
A15: Rate Rider per Hydro One Networks' Acquisition Agreement | B15: Monthly | C15: ='2017 Bill Impact'!G15 -> -0.1977 | D15: 1 | E15: =C15*D15 -> -0.1977 | G15: =-G14*0.01 -> -0.2318 | H15: 1 | I15: =G15*H15 -> -0.2318 | K15: =I15-E15 -> -0.0341 | L15: =IF(I15-E15=0, " 0.00%", I15/E15-1) -> 0.17248356
A16: Rate Rider for Recovery of Smart Meter Incremental Revenue Requirements | B16: Monthly | C16: ='2017 Bill Impact'!G16 -> 0.64 | D16: 1 | E16: =C16*D16 -> 0.64 | G16: 0.64 | H16: 1 | I16: =G16*H16 -> 0.64 | K16: =I16-E16 -> 0 | L16: =IF(I16-E16=0, " 0.00%", I16/E16-1) -> 0.00%
A17: Distribution Volumetric Rate | B17: per kWh | C17: ='2017 Bill Impact'!G17 -> 0.0133 | D17: =$C$9 -> 285 | E17: =C17*D17 -> 3.7905 | G17: ='App.2-PA_Res_Rate_Design_18'!D44 -> 0.0089 | H17: =$C$9 -> 285 | I17: =G17*H17 -> 2.5365 | K17: =I17-E17 -> -1.254 | L17: =IF(I17-E17=0, " 0.00%", I17/E17-1) -> -0.33082707
A18: Rate Rider per Hydro One Networks' Acquisition Agreement | B18: per kWh | C18: ='2017 Bill Impact'!G18 -> -0.0001 | D18: =$C$9 -> 285 | E18: =C18*D18 -> -0.0285 | G18: =ROUND(-G17*0.01,4) -> -0.0001 | H18: =$C$9 -> 285 | I18: =G18*H18 -> -0.0285 | K18: =I18-E18 -> 0 | L18: =IF(I18-E18=0, " 0.00%", I18/E18-1) -> 0.00%
A19: Rate Rider for Recovery of Incremental Capital | B19: per kWh | C19: ='2017 Bill Impact'!G19 -> 0.0008 | D19: =$C$9 -> 285 | E19: =C19*D19 -> 0.228 | G19: 0.0008 | H19: =$C$9 -> 285 | I19: =G19*H19 -> 0.228 | K19: =I19-E19 -> 0 | L19: =IF(I19-E19=0, " 0.00%", I19/E19-1) -> 0.00%
A20: Sub-Total A (excluding pass through) | E20: =SUM(E14:E19) -> 24.2023 | I20: =SUM(I14:I19) -> 26.3242 | K20: =I20-E20 -> 2.1219 | L20: =IF(I20-E20=0, " 0.00%", I20/E20-1) -> 0.087673486
A21: Line Losses on Cost of Power | B21: per kWh | C21: ='2017 Bill Impact'!G21 -> 0.10214 | D21: =($C$9*$C$10)-$C$9 -> 12.2835 | E21: =C21*D21 -> 1.2546367 | G21: =G31*0.64+G32*0.18+G33*0.18 -> 0.10214 | H21: =($C$9*$C$10)-$C$9 -> 12.2835 | I21: =G21*H21 -> 1.2546367 | K21: =I21-E21 -> 0 | L21: =IF(I21-E21=0, " 0.00%", I21/E21-1) -> 0.00%
A22: Total Deferral/Variance Account Rate Riders | B22: per kWh | C22: ='2017 Bill Impact'!G22 -> 0 | D22: 0 | E22: 0 | G22: 0 | H22: 0 | I22: 0 | K22: =I22-E22 -> 0 | L22: =IF(I22-E22=0, " 0.00%", I22/E22-1) -> 0.00%
A23: Smart Meter Entity Charge | B23: Monthly | C23: ='2017 Bill Impact'!G23 -> 0.79 | D23: 1 | E23: =C23*D23 -> 0.79 | G23: 0.79 | H23: 1 | I23: =G23*H23 -> 0.79 | K23: =I23-E23 -> 0 | L23: =IF(I23-E23=0, " 0.00%", I23/E23-1) -> 0.00%
A24: Sub-Total B - Distribution (includes Sub-Total A) | E24: =SUM(E20:E23) -> 26.246937 | I24: =SUM(I20:I23) -> 28.368837 | K24: =I24-E24 -> 2.1219 | L24: =IF(I24-E24=0, " 0.00%", I24/E24-1) -> 0.08084372
A25: RTSR - Network | B25: per kWh | C25: ='2017 Bill Impact'!G25 -> 0.0075 | D25: =$C$9*$C$10 -> 297.2835 | E25: =C25*D25 -> 2.2296262 | G25: 0.0075 | H25: =$C$9*$C$10 -> 297.2835 | I25: =G25*H25 -> 2.2296262 | K25: =I25-E25 -> 0 | L25: =IF(I25-E25=0, " 0.00%", I25/E25-1) -> 0.00%
A26: RTSR - Connection and/or Line and Transformation Connection | B26: per kWh | C26: ='2017 Bill Impact'!G26 -> 0.0054 | D26: =$C$9*$C$10 -> 297.2835 | E26: =C26*D26 -> 1.6053309 | G26: 0.0054 | H26: =$C$9*$C$10 -> 297.2835 | I26: =G26*H26 -> 1.6053309 | K26: =I26-E26 -> 0 | L26: =IF(I26-E26=0, " 0.00%", I26/E26-1) -> 0.00%
A27: Sub-Total C - Delivery (including Sub-Total B) | E27: =SUM(E24:E26) -> 30.081894 | I27: =SUM(I24:I26) -> 32.203794 | K27: =I27-E27 -> 2.1219 | L27: =IF(I27-E27=0, " 0.00%", I27/E27-1) -> 0.070537447
A28: Wholesale Market Service Charge (WMSC) | B28: per kWh | C28: ='2017 Bill Impact'!G28 -> 0.0044 | D28: =$C$9*$C$10 -> 297.2835 | E28: =C28*D28 -> 1.3080474 | G28: 0.0044 | H28: =$C$9*$C$10 -> 297.2835 | I28: =G28*H28 -> 1.3080474 | K28: =I28-E28 -> 0 | L28: =IF(I28-E28=0, " 0.00%", I28/E28-1) -> 0.00%
A29: Rural and Remote Rate Protection (RRRP) | B29: per kWh | C29: ='2017 Bill Impact'!G29 -> 0.0013 | D29: =$C$9*$C$10 -> 297.2835 | E29: =C29*D29 -> 0.38646855 | G29: 0.0013 | H29: =$C$9*$C$10 -> 297.2835 | I29: =G29*H29 -> 0.38646855 | K29: =I29-E29 -> 0 | L29: =IF(I29-E29=0, " 0.00%", I29/E29-1) -> 0.00%
A30: Standard Supply Service Charge | B30: Monthly | C30: ='2017 Bill Impact'!G30 -> 0.25 | D30: 1 | E30: =C30*D30 -> 0.25 | G30: 0.25 | H30: 1 | I30: =G30*H30 -> 0.25 | K30: =I30-E30 -> 0 | L30: =IF(I30-E30=0, " 0.00%", I30/E30-1) -> 0.00%
A31: TOU - Off Peak | B31: per kWh | C31: ='2017 Bill Impact'!G31 -> 0.08 | D31: =$C$9*0.64 -> 182.4 | E31: =C31*D31 -> 14.592 | G31: 0.08 | H31: =$C$9*0.64 -> 182.4 | I31: =G31*H31 -> 14.592 | K31: =I31-E31 -> 0 | L31: =IF(I31-E31=0, " 0.00%", I31/E31-1) -> 0.00%
A32: TOU - Mid Peak | B32: per kWh | C32: ='2017 Bill Impact'!G32 -> 0.122 | D32: =$C$9*0.18 -> 51.3 | E32: =C32*D32 -> 6.2586 | G32: 0.122 | H32: =$C$9*0.18 -> 51.3 | I32: =G32*H32 -> 6.2586 | K32: =I32-E32 -> 0 | L32: =IF(I32-E32=0, " 0.00%", I32/E32-1) -> 0.00%
A33: TOU - On Peak | B33: per kWh | C33: ='2017 Bill Impact'!G33 -> 0.161 | D33: =$C$9*0.18 -> 51.3 | E33: =C33*D33 -> 8.2593 | G33: 0.161 | H33: =$C$9*0.18 -> 51.3 | I33: =G33*H33 -> 8.2593 | K33: =I33-E33 -> 0 | L33: =IF(I33-E33=0, " 0.00%", I33/E33-1) -> 0.00%
A35: Total Bill on TOU (before Taxes) | E35: =SUM(E27:E33) -> 61.13631 | I35: =SUM(I27:I33) -> 63.25821 | K35: =I35-E35 -> 2.1219 | L35: =IF(I35-E35=0, " 0.00%", I35/E35-1) -> 0.034707689
A36: HST | C36: 0.13 | E36: =E35*C36 -> 7.9477203 | G36: 0.13 | I36: =I35*G36 -> 8.2235673 | K36: =I36-E36 -> 0.275847 | L36: =IF(I36-E36=0, " 0.00%", I36/E36-1) -> 0.034707689
A37: Total Bill (including HST) | E37: =E35+E36 -> 69.08403 | I37: =I35+I36 -> 71.481777 | K37: =I37-E37 -> 2.397747 | L37: =I37/E37-1 -> 0.034707689
E38: 0 | I38: 0 | K38: =I38-E38 -> 0 | L38: 0
A39: Total Bill Including HST | E39: =E37+E38 -> 69.08403 | I39: =I37+I38 -> 71.481777 | K39: =I39-E39 -> 2.397747 | L39: =IF(I39-E39=0, " 0.00%", I39/E39-1) -> 0.034707689
A43: Woodstock Residential Customer Class TOU
A45: Consumption kWh | C45: ='2017 Bill Impact'!C45 -> 800
A46: Loss Adjustment Factor | C46: ='2017 Bill Impact'!C46 -> 1.0431
C48: Proposed January 1 2017 | G48: Proposed January 1 2018 | K48: Impact
C49: Rate ($) | D49: Volume | E49: Charge ($) | G49: Rate ($) | H49: Volume | I49: Charge ($) | K49: $ Change | L49: % Change
A50: Monthly Service Charge | B50: Monthly | C50: =C14 -> 19.77 | D50: 1 | E50: =C50*D50 -> 19.77 | G50: =G14 -> 23.18 | H50: 1 | I50: =G50*H50 -> 23.18 | K50: =I50-E50 -> 3.41 | L50: =IF(I50-E50=0, " 0.00%", I50/E50-1) -> 0.17248356
A51: Rate Rider per Hydro One Networks' Acquisition Agreement | B51: Monthly | C51: =C15 -> -0.1977 | D51: 1 | E51: =C51*D51 -> -0.1977 | G51: =G15 -> -0.2318 | H51: 1 | I51: =G51*H51 -> -0.2318 | K51: =I51-E51 -> -0.0341 | L51: =IF(I51-E51=0, " 0.00%", I51/E51-1) -> 0.17248356
A52: Rate Rider for Recovery of Smart Meter Incremental Revenue Requirements | B52: Monthly | C52: =C16 -> 0.64 | D52: 1 | E52: =C52*D52 -> 0.64 | G52: =G16 -> 0.64 | H52: 1 | I52: =G52*H52 -> 0.64 | K52: =I52-E52 -> 0 | L52: =IF(I52-E52=0, " 0.00%", I52/E52-1) -> 0.00%
A53: Distribution Volumetric Rate | B53: per kWh | C53: =C17 -> 0.0133 | D53: =$C$45 -> 800 | E53: =C53*D53 -> 10.64 | G53: =G17 -> 0.0089 | H53: =$C$45 -> 800 | I53: =G53*H53 -> 7.12 | K53: =I53-E53 -> -3.52 | L53: =IF(I53-E53=0, " 0.00%", I53/E53-1) -> -0.33082707
A54: Rate Rider per Hydro One Networks' Acquisition Agreement | B54: per kWh | C54: =C18 -> -0.0001 | D54: =$C$45 -> 800 | E54: =C54*D54 -> -0.08 | G54: =G18 -> -0.0001 | H54: =$C$45 -> 800 | I54: =G54*H54 -> -0.08 | K54: =I54-E54 -> 0 | L54: =IF(I54-E54=0, " 0.00%", I54/E54-1) -> 0.00%
...

Sheet 2019 Bill Impact
A7: Woodstock Residential Customer Class TOU
A9: Consumption kWh | C9: ='2018 Bill Impact'!C9 -> 285
A10: Loss Adjustment Factor | C10: ='2018 Bill Impact'!C10 -> 1.0431
C12: Proposed January 1 2018 | G12: Proposed January 1 2019 | K12: Impact
C13: Rate ($) | D13: Volume | E13: Charge ($) | G13: Rate ($) | H13: Volume | I13: Charge ($) | K13: $ Change | L13: % Change
A14: Monthly Service Charge | B14: Monthly | C14: ='2018 Bill Impact'!G14 -> 23.18 | D14: 1 | E14: =C14*D14 -> 23.18 | G14: ='App.2-PA_Res_Rate_Design_19'!D43 -> 26.57 | H14: 1 | I14: =G14*H14 -> 26.57 | K14: =I14-E14 -> 3.39 | L14: =IF(I14-E14=0, " 0.00%", I14/E14-1) -> 0.14624676
A15: Rate Rider per Hydro One Networks' Acquisition Agreement | B15: Monthly | C15: ='2018 Bill Impact'!G15 -> -0.2318 | D15: 1 | E15: =C15*D15 -> -0.2318 | G15: =-G14*0.01 -> -0.2657 | H15: 1 | I15: =G15*H15 -> -0.2657 | K15: =I15-E15 -> -0.0339 | L15: =IF(I15-E15=0, " 0.00%", I15/E15-1) -> 0.14624676
A16: Rate Rider for Recovery of Smart Meter Incremental Revenue Requirements | B16: Monthly | C16: ='2018 Bill Impact'!G16 -> 0.64 | D16: 1 | E16: =C16*D16 -> 0.64 | G16: 0.64 | H16: 1 | I16: =G16*H16 -> 0.64 | K16: =I16-E16 -> 0 | L16: =IF(I16-E16=0, " 0.00%", I16/E16-1) -> 0.00%
A17: Distribution Volumetric Rate | B17: per kWh | C17: ='2018 Bill Impact'!G17 -> 0.0089 | D17: =$C$9 -> 285 | E17: =C17*D17 -> 2.5365 | G17: ='App.2-PA_Res_Rate_Design_19'!D44 -> 0.0044 | H17: =$C$9 -> 285 | I17: =G17*H17 -> 1.254 | K17: =I17-E17 -> -1.2825 | L17: =IF(I17-E17=0, " 0.00%", I17/E17-1) -> -0.50561798
A18: Rate Rider per Hydro One Networks' Acquisition Agreement | B18: per kWh | C18: ='2018 Bill Impact'!G18 -> -0.0001 | D18: =$C$9 -> 285 | E18: =C18*D18 -> -0.0285 | G18: =-ROUND(G17*0.01,5) -> -4e-05 | H18: =$C$9 -> 285 | I18: =G18*H18 -> -0.0114 | K18: =I18-E18 -> 0.0171 | L18: =IF(I18-E18=0, " 0.00%", I18/E18-1) -> -0.6
A19: Rate Rider for Recovery of Incremental Capital | B19: per kWh | C19: ='2018 Bill Impact'!G19 -> 0.0008 | D19: =$C$9 -> 285 | E19: =C19*D19 -> 0.228 | G19: 0.0008 | H19: =$C$9 -> 285 | I19: =G19*H19 -> 0.228 | K19: =I19-E19 -> 0 | L19: =IF(I19-E19=0, " 0.00%", I19/E19-1) -> 0.00%
A20: Sub-Total A (excluding pass through) | C20: ='2018 Bill Impact'!G20 -> 0 | E20: =SUM(E14:E19) -> 26.3242 | I20: =SUM(I14:I19) -> 28.4149 | K20: =I20-E20 -> 2.0907 | L20: =IF(I20-E20=0, " 0.00%", I20/E20-1) -> 0.079421217
A21: Line Losses on Cost of Power | B21: per kWh | C21: ='2018 Bill Impact'!G21 -> 0.10214 | D21: =($C$9*$C$10)-$C$9 -> 12.2835 | E21: =C21*D21 -> 1.2546367 | G21: =G31*0.64+G32*0.18+G33*0.18 -> 0.10214 | H21: =($C$9*$C$10)-$C$9 -> 12.2835 | I21: =G21*H21 -> 1.2546367 | K21: =I21-E21 -> 0 | L21: =IF(I21-E21=0, " 0.00%", I21/E21-1) -> 0.00%
A22: Total Deferral/Variance Account Rate Riders | B22: per kWh | C22: ='2018 Bill Impact'!G22 -> 0 | D22: 0 | E22: 0 | G22: 0 | H22: 0 | I22: 0 | K22: =I22-E22 -> 0 | L22: =IF(I22-E22=0, " 0.00%", I22/E22-1) -> 0.00%
A23: Smart Meter Entity Charge | B23: Monthly | C23: ='2018 Bill Impact'!G23 -> 0.79 | D23: 1 | E23: =C23*D23 -> 0.79 | G23: 0 | H23: 1 | I23: =G23*H23 -> 0 | K23: =I23-E23 -> -0.79 | L23: =IF(I23-E23=0, " 0.00%", I23/E23-1) -> -1
A24: Sub-Total B - Distribution (includes Sub-Total A) | C24: ='2018 Bill Impact'!G24 -> 0 | E24: =SUM(E20:E23) -> 28.368837 | I24: =SUM(I20:I23) -> 29.669537 | K24: =I24-E24 -> 1.3007 | L24: =IF(I24-E24=0, " 0.00%", I24/E24-1) -> 0.045849607
A25: RTSR - Network | B25: per kWh | C25: ='2018 Bill Impact'!G25 -> 0.0075 | D25: =$C$9*$C$10 -> 297.2835 | E25: =C25*D25 -> 2.2296262 | G25: 0.0075 | H25: =$C$9*$C$10 -> 297.2835 | I25: =G25*H25 -> 2.2296262 | K25: =I25-E25 -> 0 | L25: =IF(I25-E25=0, " 0.00%", I25/E25-1) -> 0.00%
A26: RTSR - Connection and/or Line and Transformation Connection | B26: per kWh | C26: ='2018 Bill Impact'!G26 -> 0.0054 | D26: =$C$9*$C$10 -> 297.2835 | E26: =C26*D26 -> 1.6053309 | G26: 0.0054 | H26: =$C$9*$C$10 -> 297.2835 | I26: =G26*H26 -> 1.6053309 | K26: =I26-E26 -> 0 | L26: =IF(I26-E26=0, " 0.00%", I26/E26-1) -> 0.00%
A27: Sub-Total C - Delivery (including Sub-Total B) | C27: ='2018 Bill Impact'!G27 -> 0 | E27: =SUM(E24:E26) -> 32.203794 | I27: =SUM(I24:I26) -> 33.504494 | K27: =I27-E27 -> 1.3007 | L27: =IF(I27-E27=0, " 0.00%", I27/E27-1) -> 0.040389651
A28: Wholesale Market Service Charge (WMSC) | B28: per kWh | C28: ='2018 Bill Impact'!G28 -> 0.0044 | D28: =$C$9*$C$10 -> 297.2835 | E28: =C28*D28 -> 1.3080474 | G28: 0.0044 | H28: =$C$9*$C$10 -> 297.2835 | I28: =G28*H28 -> 1.3080474 | K28: =I28-E28 -> 0 | L28: =IF(I28-E28=0, " 0.00%", I28/E28-1) -> 0.00%
A29: Rural and Remote Rate Protection (RRRP) | B29: per kWh | C29: ='2018 Bill Impact'!G29 -> 0.0013 | D29: =$C$9*$C$10 -> 297.2835 | E29: =C29*D29 -> 0.38646855 | G29: 0.0013 | H29: =$C$9*$C$10 -> 297.2835 | I29: =G29*H29 -> 0.38646855 | K29: =I29-E29 -> 0 | L29: =IF(I29-E29=0, " 0.00%", I29/E29-1) -> 0.00%
A30: Standard Supply Service Charge | B30: Monthly | C30: ='2018 Bill Impact'!G30 -> 0.25 | D30: 1 | E30: =C30*D30 -> 0.25 | G30: 0.25 | H30: 1 | I30: =G30*H30 -> 0.25 | K30: =I30-E30 -> 0 | L30: =IF(I30-E30=0, " 0.00%", I30/E30-1) -> 0.00%
A31: TOU - Off Peak | B31: per kWh | C31: ='2018 Bill Impact'!G31 -> 0.08 | D31: =$C$9*0.64 -> 182.4 | E31: =C31*D31 -> 14.592 | G31: 0.08 | H31: =$C$9*0.64 -> 182.4 | I31: =G31*H31 -> 14.592 | K31: =I31-E31 -> 0 | L31: =IF(I31-E31=0, " 0.00%", I31/E31-1) -> 0.00%
A32: TOU - Mid Peak | B32: per kWh | C32: ='2018 Bill Impact'!G32 -> 0.122 | D32: =$C$9*0.18 -> 51.3 | E32: =C32*D32 -> 6.2586 | G32: 0.122 | H32: =$C$9*0.18 -> 51.3 | I32: =G32*H32 -> 6.2586 | K32: =I32-E32 -> 0 | L32: =IF(I32-E32=0, " 0.00%", I32/E32-1) -> 0.00%
A33: TOU - On Peak | B33: per kWh | C33: ='2018 Bill Impact'!G33 -> 0.161 | D33: =$C$9*0.18 -> 51.3 | E33: =C33*D33 -> 8.2593 | G33: 0.161 | H33: =$C$9*0.18 -> 51.3 | I33: =G33*H33 -> 8.2593 | K33: =I33-E33 -> 0 | L33: =IF(I33-E33=0, " 0.00%", I33/E33-1) -> 0.00%
A35: Total Bill on TOU (before Taxes) | E35: =SUM(E27:E33) -> 63.25821 | I35: =SUM(I27:I33) -> 64.55891 | K35: =I35-E35 -> 1.3007 | L35: =IF(I35-E35=0, " 0.00%", I35/E35-1) -> 0.020561758
A36: HST | C36: 0.13 | E36: =E35*C36 -> 8.2235673 | G36: 0.13 | I36: =I35*G36 -> 8.3926583 | K36: =I36-E36 -> 0.169091 | L36: =IF(I36-E36=0, " 0.00%", I36/E36-1) -> 0.020561758
A37: Total Bill (including HST) | E37: =E35+E36 -> 71.481777 | I37: =I35+I36 -> 72.951568 | K37: =I37-E37 -> 1.469791 | L37: =I37/E37-1 -> 0.020561758
E38: 0 | I38: 0 | K38: =I38-E38 -> 0 | L38: 0
A39: Total Bill Including HST | E39: =E37+E38 -> 71.481777 | I39: =I37+I38 -> 72.951568 | K39: =I39-E39 -> 1.469791 | L39: =IF(I39-E39=0, " 0.00%", I39/E39-1) -> 0.020561758
A43: Woodstock Residential Customer Class TOU
A45: Consumption kWh | C45: ='2018 Bill Impact'!C45 -> 800
A46: Loss Adjustment Factor | C46: ='2018 Bill Impact'!C46 -> 1.0431
C48: Proposed January 1 2018 | G48: Proposed January 1 2019 | K48: Impact
C49: Rate ($) | D49: Volume | E49: Charge ($) | G49: Rate ($) | H49: Volume | I49: Charge ($) | K49: $ Change | L49: % Change
A50: Monthly Service Charge | B50: Monthly | C50: =C14 -> 23.18 | D50: 1 | E50: =C50*D50 -> 23.18 | G50: =G14 -> 26.57 | H50: 1 | I50: =G50*H50 -> 26.57 | K50: =I50-E50 -> 3.39 | L50: =IF(I50-E50=0, " 0.00%", I50/E50-1) -> 0.14624676
A51: Rate Rider per Hydro One Networks' Acquisition Agreement | B51: Monthly | C51: =C15 -> -0.2318 | D51: 1 | E51: =C51*D51 -> -0.2318 | G51: =G15 -> -0.2657 | H51: 1 | I51: =G51*H51 -> -0.2657 | K51: =I51-E51 -> -0.0339 | L51: =IF(I51-E51=0, " 0.00%", I51/E51-1) -> 0.14624676
A52: Rate Rider for Recovery of Smart Meter Incremental Revenue Requirements | B52: Monthly | C52: =C16 -> 0.64 | D52: 1 | E52: =C52*D52 -> 0.64 | G52: =G16 -> 0.64 | H52: 1 | I52: =G52*H52 -> 0.64 | K52: =I52-E52 -> 0 | L52: =IF(I52-E52=0, " 0.00%", I52/E52-1) -> 0.00%
A53: Distribution Volumetric Rate | B53: per kWh | C53: =C17 -> 0.0089 | D53: =$C$45 -> 800 | E53: =C53*D53 -> 7.12 | G53: =G17 -> 0.0044 | H53: =$C$45 -> 800 | I53: =G53*H53 -> 3.52 | K53: =I53-E53 -> -3.6 | L53: =IF(I53-E53=0, " 0.00%", I53/E53-1) -> -0.50561798
A54: Rate Rider per Hydro One Networks' Acquisition Agreement | B54: per kWh | C54: =C18 -> -0.0001 | D54: =$C$45 -> 800 | E54: =C54*D54 -> -0.08 | G54: =G18 -> -4e-05 | H54: =$C$45 -> 800 | I54: =G54*H54 -> -0.032 | K54: =I54-E54 -> 0.048 | L54: =IF(I54-E54=0, " 0.00%", I54/E54-1) -> -0.6
...

Sheet 2020 Bill Impact
A7: Woodstock Residential Customer Class TOU
A9: Consumption kWh | C9: ='2019 Bill Impact'!C9 -> 285
A10: Loss Adjustment Factor | C10: ='2019 Bill Impact'!C10 -> 1.0431
C12: Proposed January 1 2019 | G12: Proposed January 1 2020 | K12: Impact
C13: Rate ($) | D13: Volume | E13: Charge ($) | G13: Rate ($) | H13: Volume | I13: Charge ($) | K13: $ Change | L13: % Change
