Workbook
Name _ftn1: 'App.2-B_Acctg Instructions'!#REF!
Name _ftnref1: 'App.2-B_Acctg Instructions'!#REF!
Name BI_LDCLIST: '[1]3. Rate Class Selection'!$B$19:$B$21
Name BridgeYear: 'LDC Info'!$E$26
Name BridgeYear: '[2]LDC Info'!$E$26
Name BridgeYear: 'LDC Info'!$E$26
Name contactf: #REF!
Name contactf: #REF!
Name contactf: #REF!
Name contactf: #REF!
Name contactf: #REF!
Name contactf: #REF!
Name contactf: #REF!
Name contactf: #REF!
Name contactf: #REF!
Name CustomerAdministration: [3]lists!$Z$1:$Z$36
Name CustomerAdministration: [2]lists!$Z$1:$Z$36
Name CustomerAdministration: [3]lists!$Z$1:$Z$36
Name EBNUMBER: 'LDC Info'!$E$16
Name EBNUMBER: '[2]LDC Info'!$E$16
Name EBNUMBER: 'LDC Info'!$E$16
Name Fixed_Charges: [3]lists!$I$1:$I$212
Name Fixed_Charges: [2]lists!$I$1:$I$185
Name Fixed_Charges: [3]lists!$I$1:$I$212
Name histdate: [4]Financials!$E$76
Name Incr2000: #REF!
Name Incr2000: #REF!
Name Incr2000: #REF!
Name Incr2000: #REF!
Name Incr2000: #REF!
Name Incr2000: #REF!
Name Incr2000: #REF!
Name Incr2000: #REF!
Name Incr2000: #REF!
Name infra: 'List of Key References'!$B$41
Name IRMWG: 'App.2-B_Acctg Instructions'!#REF!
Name LDC_LIST: [5]lists!$AM$1:$AM$80
Name LDC_LIST: [6]lists!$AM$1:$AM$80
Name LDCLIST: #REF!
Name LDCLIST: #REF!
Name LDCLIST: #REF!
Name LDCLIST: '[7]LDC Info'!$AA$3:$AA$79
Name LDCLIST: 'LDC Info'!$AA$3:$AA$77
Name LDCNAMES: [3]lists!$AL$1:$AL$78
Name LIMIT: #REF!
Name LIMIT: #REF!
Name LIMIT: #REF!
Name LIMIT: #REF!
Name LIMIT: #REF!
Name LIMIT: #REF!
Name LIMIT: #REF!
Name LIMIT: #REF!
Name LIMIT: #REF!
Name LossFactors: [3]lists!$L$2:$L$15
Name LossFactors: [2]lists!$L$2:$L$15
Name LossFactors: [3]lists!$L$2:$L$15
Name man_beg_bud: #REF!
Name man_beg_bud: #REF!
Name man_beg_bud: #REF!
Name man_beg_bud: #REF!

Sheet LDC Info
Z3: 1 | AA3: Algoma Power Inc.
Z4: 2 | AA4: Atikokan Hydro Inc.
Z5: 3 | AA5: Attawapiskat Power Corporation
Z6: 4 | AA6: Bluewater Power Distribution Corporation
Z7: 5 | AA7: Brantford Power Inc.
Z8: 6 | AA8: Burlington Hydro Inc.
Z9: 7 | AA9: Canadian Niagara Power Inc.
Z10: 8 | AA10: Centre Wellington Hydro Ltd.
Z11: 9 | AA11: Chapleau Public Utilities Corporation
Z12: 10 | AA12: COLLUS PowerStream Corp.
Z13: 11 | AA13: Cooperative Hydro Embrun Inc.
D14: Utility Name | E14: E.L.K. Energy Inc. | Z14: 12 | AA14: E.L.K. Energy Inc.
Z15: 13 | AA15: Energy + Inc.
D16: Assigned EB Number | E16: EB-2016-0066 | Z16: 14 | AA16: Enersource Hydro Mississauga Inc.
Z17: 15 | AA17: Entegrus Powerlines Inc.
D18: Name of Contact and Title | E18: Mark Danelon, Director, Finance & Regulatory Affairs | Z18: 16 | AA18: ENWIN Utilities Ltd.
Z19: 17 | AA19: Erie Thames Powerlines Corporation
D20: Phone Number | E20: 519-776-5291 ext 204 | Z20: 18 | AA20: Espanola Regional Hydro Distribution Corporation
Z21: 19 | AA21: Essex Powerlines Corporation
D22: Email Address | E22: mdanelon@elkenergy.com | Z22: 20 | AA22: Festival Hydro Inc.
Z23: 21 | AA23: Fort Albany Power Corporation
D24: Test Year | E24: 2017 | Z24: 22 | AA24: Fort Frances Power Corporation
Z25: 23 | AA25: Greater Sudbury Hydro Inc.
D26: Bridge Year | E26: =IF(ISBLANK(E24), "", E24-1) -> 2016 | Z26: 24 | AA26: Grimsby Power Inc.
Z27: 25 | AA27: Guelph Hydro Electric Systems Inc.
D28: Last Rebasing Year | E28: 2012 | Z28: 26 | AA28: Haldimand County Hydro Inc.
Z29: 27 | AA29: Halton Hills Hydro Inc.
A30: Identify the accounting standard used for the test year | Z30: 28 | AA30: Hearst Power Distribution Company Limited
E31: MIFRS | Z31: 29 | AA31: Horizon Utilities Corporation
Z32: 30 | AA32: Hydro 2000 Inc.
A33: Did you update your depreciation and capitalization policies and reflect the changes in policies in a prior rebasing application? | Z33: 31 | AA33: Hydro Hawkesbury Inc.
E34: Yes | Z34: 32 | AA34: Hydro One Brampton Networks Inc.
Z35: 33 | AA35: Hydro One Networks Inc.
A36: When did you update your actual depreciation and capitalization policies? | Z36: 34 | AA36: Hydro One Networks Inc. - Norfolk
E37: 36892 | F37: 2013 | Z37: 35 | AA37: Hydro One Remote Communities Inc.
Z38: 36 | AA38: Hydro Ottawa Limited
A39: Identify the year the applicant adopted IFRS for financial reporting purposes | Z39: 37 | AA39: Innpower Corporation
E40: 2015 | Z40: 38 | AA40: Kashechewan Power Corporation
Z41: 39 | AA41: Kenora Hydro Electric Corporation Ltd.
Z42: 40 | AA42: Kingston Hydro Corporation
...

Sheet Index
A15: 1 | B15: LDC Information Sheet | E15: 27 | F15: App.2-G: Service Reliability Indicators
A16: 2 | B16: Index | E16: 28 | F16: App.2-H: Other Operating Revenue
A17: 3 | B17: Cost of Service Application Flowchart | E17: 29 | F17: App.2-I: Load Forecast CDM Adjustment Workform
A18: 4 | B18: List of Key References | E18: 30 | F18: App.2-IA: Load Forecast Data Instructions
A19: 5 | B19: App.2-A: List of Requested Approvals | E19: 31 | F19: App.2-IB: Actual and Forecast Load and Customer Data
A20: 6 | B20: App.2-AA: Capital Projects Table | E20: 32 | F20: App.2-JA: OM&A Summary Analysis
A21: 7 | B21: App.2-AB: Capital Expenditures | E21: 33 | F21: App.2-JB: Recoverable OM&A Cost Driver Table
A22: 8 | B22: App. 2-AC: Customer Engagement Worksheet | E22: 34 | F22: App.2-JC: OM&A Programs Table
A23: 9 | B23: App.2-B: General Accounting Instructions | E23: 35 | F23: App.2-K: Employee Costs
A24: 10 | B24: App.2-BA: Fixed Asset Continuity Schedule | E24: 36 | F24: App.2-KA: OPEBs (Other Post-Employment Benefits) Costs
A25: 11 | B25: Appendix 2-BB: Service Life Comparison | E25: 37 | F25: App.2-L: Recoverable OM&A Cost per Customer and per FTE
A26: 12 | B26: App.2-CA: Year 1 Depreciation and Amortization Expense (Old CGAAP) | E26: 38 | F26: App.2-M: Regulatory Costs Schedule
... A34: 20 | B34: App.2-D: Overhead Expenses | E34: 46 | F34: App.2-YA: One-Time Incremental IFRS Transition Costs
A35: 21 | B35: App.2-EA: Account 1575 PP&E Deferral Account (2015 IFRS Adopters)
A36: 22 | B36: App.2-EB: Account 1576 - Accounting Changes Under CGAAP (2012 Changes)
A37: 23 | B37: App.2-EC: Account 1576 - Accounting Changes Under CGAAP (2013 Changes)
A38: 24 | B38: App.2-FA: Renewable Generation Connection Investment Summary
A39: 25 | B39: App.2-FB: Calculation of Renewable Generation Connection Direct Benefits/Provincial Amount: Renewable Enabling Improvement Investments
A40: 26 | B40: App.2-FC: Calculation of Renewable Generation Connection Direct Benefits/Provincial Amount: Renewable Expansion Investments
A42: Note: | B42: Appendices for the Tariff of Rates and Charges at Current and Proposed Rates, and for the Bill Impacts are now in a separate spreadsheet model. These appendices were formerly 2-Z and 2-W.

Sheet COS Flowchart
B4: Cost of Service Rate Application Schematic
B6: The Cost of Service Rate Application Schematic is a flowchart that is included as a guide for the components of an application. The schematic demonstrates how demand and costs interrelate to derive the revenue requirement and how the revenue requirement is allocated between classes and through fixed/variable splits to derive rates that will be compensatory for the annual revenue requirement, based on the the forecasted demand. There is no form to be filled out; therefore, this Schedule is not required to be filed.

Sheet List of Key References
B3: List of Key References
A5: A list of key references for understanding the Filing Requirements has been embedded in the document below. To access the list of references and associated hyperlinks double-click the icon below.

Sheet App.2-A_Requested_Approvals
G1: File Number: | H1: =EBNUMBER -> EB-2016-0066
G2: Exhibit:
G3: Tab:
G4: Schedule:
G5: Page:
G7: Date:
B9: Appendix 2-A
B10: List of Requested Approvals
B12: The distributor must fill out the following sheet with the complete list of specific approvals requested and relevant section(s) of the legislation must be provided. All approvals, including accounting orders (deferral and variance accounts) new rate classes, revised specific service charges or retail service charges which the applicant is seeking, must be separately identified, as well being clearly documented in the appropriate sections of the application.
B14: Additional requests may be added by copying and pasting blank input rows, as needed.
B16: If additional requests arise, or requested approvals are removed, during the processing of the application, the distributor should update this list.
B18: =CONCATENATE('LDC Info'!E14," is seeking the following approvals in this application:") -> E.L.K. Energy Inc. is seeking the following approvals in this application:
B20: 1 | F20: Approval under Section 78 of the Ontario Energy Board Act, 1998 to charge distribution rates effective May 1, 2017 to recover a service revenue requirement of $4,513,093 which includes a revenue deficiency of $627,952 as detailed in Exhibit 6. The schedule of proposed rates is set out in Exhibit 8.
B22: 2 | F22: Approval of the Distribution System Plan as outlined in Exhibit 2.
B24: 3 | F24: Approval of revised low voltage rates as proposed and described in Exhibit 8.
B26: 4 | F26: Approval to adjust the Retail Transmission Rates - Network and Connection as detailed in Exhibit 8.
B28: 5 | F28: Approval to continue to charge Wholesale Market and Rural Rate Protection Charges approved in the Board Decision and Order in the matter of E.L.K.`s 2016 Distribution Rates (EB-2015-0064).
B30: 6 | F30: Approval to continue the Specific Service Charges and Transformer Allowance approved in the Board Decision and Order in the matter of E.L.K.`s 2016 Distribution Rates (EB-2015-0064).
B32: 7 | F32: Approval of the proposed loss factors as detailed in Exhibit 8.
B34: 8 | F34: Approval of the rate riders for a one year disposition of the Group 1 and Other Deferral and Variance Accounts as detailed in Exhibit 9.
B36: 9 | F36: Approval of the rate riders for a one year disposition of the Lost Revenue Adjustment Mechanism Variance Account (`LRAMVA``) for lost revenue from 2011 to 2015 resulting from 2011 to 2015 IESO (formally OPA) programs as detailed in Exhibit 4.
B38: 10 | F38: Approval to continue to charge Hydro One Networks Inc. (‘HONI’), the Embedded Distributor Rate class. HONI has been consulted. And Hydro One has stated that “it has reviewed the 2017 cost allocation model with respect to ELK’s proposed Embedded Distributor rate class and has no concerns with the determination of costs allocated to the embedded distributor class.”
B40: 11 | F40: To change the wording under specific service charges from Returned Cheque (plus bank charges) to Returned Item (plus bank charges).
B42: 12 | F42: To change the wording under Specific charge for access to the power poles - $/pole/year (with the exception of wireless attachments). E.L.K. is not proposing a change to the dollar value, simply the wording as a general housekeeping item to make it more specific, and all inclusive. E.L.K.’s proposal is to rename this specific charge to Specific charge for all attachments to the power poles (including streetlighting attachments) $/pole/year (with the exception of wireless attachments).
B44: 13 | F44: 13. E.L.K. is applying to increase the specific service charge for service call – customer owned equipment and service call – after regular hours to a more reasonable and actual cost amount for the work performed

Sheet App.2-AA_Capital Projects
H1: File Number: | I1: =EBNUMBER -> EB-2016-0066
H2: Exhibit:
H3: Tab:
H4: Schedule:
H5: Page:
H7: Date:
A9: Appendix 2-AA
A10: Capital Projects Table
A13: Projects | B13: 2012 OEB Approved | C13: =D13-1 -> 2012 | D13: =E13-1 -> 2013 | E13: =F13-1 -> 2014 | F13: =BridgeYear - 1 -> 2015 | G13: =BridgeYear & " Bridge Year" -> 2016 Bridge Year | H13: =TestYear & " Test Year" -> 2017 Test Year
A14: Reporting Basis
A15: Project Name #1
A16: Underground Asset Renewal | B16: 165527 | C16: 206859 | D16: 109702 | E16: 133322 | F16: 494469 | G16: 261632 | H16: 261793
A19: Sub-Total | B19: =SUM(B16:B18) -> 165527 | C19: =SUM(C16:C18) -> 206859 | D19: =SUM(D16:D18) -> 109702 | E19: =SUM(E16:E18) -> 133322 | F19: =SUM(F16:F18) -> 494469 | G19: =SUM(G16:G18) -> 261632 | H19: =SUM(H16:H18) -> 261793
A20: Project Name #2
A21: FIT Contributions | B21: 0 | C21: 60300 | D21: 45000 | E21: 28893 | F21: 42300 | G21: 63900
A23: Sub-Total | B23: =SUM(B21:B22) -> 0 | C23: =SUM(C21:C22) -> 60300 | D23: =SUM(D21:D22) -> 45000 | E23: =SUM(E21:E22) -> 28893 | F23: =SUM(F21:F22) -> 42300 | G23: =SUM(G21:G22) -> 63900 | H23: =SUM(H21:H22) -> 0
A24: Project Name #3
A25: Fleet - UG Truck Replacement | E25: 70712
A27: Sub-Total | B27: =SUM(B25:B26) -> 0 | C27: =SUM(C25:C26) -> 0 | D27: =SUM(D25:D26) -> 0 | E27: =SUM(E25:E26) -> 70712 | F27: =SUM(F25:F26) -> 0 | G27: =SUM(G25:G26) -> 0 | H27: =SUM(H25:H26) -> 0
A28: Project Name #4
A29: Smart Meters | B29: 0 | C29: 57319
A31: Sub-Total | B31: =SUM(B29:B30) -> 0 | C31: =SUM(C29:C30) -> 57319 | D31: =SUM(D29:D30) -> 0 | E31: =SUM(E29:E30) -> 0 | F31: =SUM(F29:F30) -> 0 | G31: =SUM(G29:G30) -> 0 | H31: =SUM(H29:H30) -> 0
A32: Project Name #5
A33: Comber Solar | B33: 36800 | C33: 67810
A35: Sub-Total | B35: =SUM(B33:B34) -> 36800 | C35: =SUM(C33:C34) -> 67810 | D35: =SUM(D33:D34) -> 0 | E35: =SUM(E33:E34) -> 0 | F35: =SUM(F33:F34) -> 0 | G35: =SUM(G33:G34) -> 0 | H35: =SUM(H33:H34) -> 0
A36: Project Name #6
A37: Cooper Estates Ph 4B | B37: 77500 | C37: 66701
A39: Sub-Total | B39: =SUM(B37:B38) -> 77500 | C39: =SUM(C37:C38) -> 66701 | D39: =SUM(D37:D38) -> 0 | E39: =SUM(E37:E38) -> 0 | F39: =SUM(F37:F38) -> 0 | G39: =SUM(G37:G38) -> 0 | H39: =SUM(H37:H38) -> 0
A40: Project Name #7
A41: Cottam Woods Solar | C41: 125965
A43: Sub-Total | B43: =SUM(B41:B42) -> 0 | C43: =SUM(C41:C42) -> 125965 | D43: =SUM(D41:D42) -> 0 | E43: =SUM(E41:E42) -> 0 | F43: =SUM(F41:F42) -> 0 | G43: =SUM(G41:G42) -> 0 | H43: =SUM(H41:H42) -> 0
A44: Project Name #8
A45: Townsview Ph 3 | B45: 67701 | C45: 52865
A47: Sub-Total | B47: =SUM(B45:B46) -> 67701 | C47: =SUM(C45:C46) -> 52865 | D47: =SUM(D45:D46) -> 0 | E47: =SUM(E45:E46) -> 0 | F47: =SUM(F45:F46) -> 0 | G47: =SUM(G45:G46) -> 0 | H47: =SUM(H45:H46) -> 0
A48: Project Name #9
A49: Timbercreek Estates Ph 1 | D49: 122068 | E49: 37754
A50: 3 Phase Pump Feed | D50: 25252
A51: Sub-Total | B51: =SUM(B49:B50) -> 0 | C51: =SUM(C49:C50) -> 0 | D51: =SUM(D49:D50) -> 147320 | E51: =SUM(E49:E50) -> 37754 | F51: =SUM(F49:F50) -> 0 | G51: =SUM(G49:G50) -> 0 | H51: =SUM(H49:H50) -> 0
A52: Project Name #10
A53: Jakana Phase 4 | D53: 161193
...

Sheet App.2-AB_Capital Expenditures
S1: File Number: | U1: =EBNUMBER -> EB-2016-0066
S2: Exhibit:
S3: Tab:
S4: Schedule:
S5: Page:
S7: Date:
A9: Appendix 2-AB
A10: Table 2 - Capital Expenditure Summary from Chapter 5 Consolidated Distribution System Plan Filing Requirements
A12: First year of Forecast Period: | B12: =TestYear -> 2017
A13: CATEGORY | B13: Historical Period (previous plan1 & actual) | Q13: Forecast Period (planned)
B14: =E14-1 -> 2012 | E14: =H14-1 -> 2013 | H14: =K14-1 -> 2014 | K14: =N14-1 -> 2015 | N14: =Q14-1 -> 2016 | Q14: =B12 -> 2017 | R14: =Q14+1 -> 2018 | S14: =R14+1 -> 2019 | T14: =S14+1 -> 2020 | U14: =T14+1 -> 2021
B15: Plan | C15: Actual | D15: Var | E15: Plan | F15: Actual | G15: Var | H15: Plan | I15: Actual | J15: Var | K15: Plan | L15: Actual | M15: Var | N15: Plan | O15: Actual2 | P15: Var
B16: $ '000 | D16: % | E16: $ '000 | G16: % | H16: $ '000 | J16: % | K16: $ '000 | M16: % | N16: $ '000 | P16: % | Q16: $ '000
A17: System Access | C17: 566654 | D17: =IF(ISERROR((C17-B17)/B17),"--",(C17-B17)/B17) -> -- | F17: 1316405 | G17: =IF(ISERROR((F17-E17)/E17),"--",(F17-E17)/E17) -> -- | I17: 734364 | J17: =IF(ISERROR((I17-H17)/H17),"--",(I17-H17)/H17) -> -- | L17: 793896 | M17: =IF(ISERROR((L17-K17)/K17),"--",(L17-K17)/K17) -> -- | O17: 1068807 | P17: =IF(ISERROR((O17-N17)/N17),"--",(O17-N17)/N17) -> -- | Q17: 560210 | R17: 677053 | S17: 693979 | T17: 711329 | U17: 729112
A18: System Renewal | C18: 206859 | D18: =IF(ISERROR((C18-B18)/B18),"--",(C18-B18)/B18) -> -- | F18: 109702 | G18: =IF(ISERROR((F18-E18)/E18),"--",(F18-E18)/E18) -> -- | I18: 133322 | J18: =IF(ISERROR((I18-H18)/H18),"--",(I18-H18)/H18) -> -- | L18: 494469 | M18: =IF(ISERROR((L18-K18)/K18),"--",(L18-K18)/K18) -> -- | O18: 262193 | P18: =IF(ISERROR((O18-N18)/N18),"--",(O18-N18)/N18) -> -- | Q18: 261793 | R18: 295149 | S18: 459279 | T18: 476214 | U18: 301272
A19: System Service | D19: =IF(ISERROR((C19-B19)/B19),"--",(C19-B19)/B19) -> -- | G19: =IF(ISERROR((F19-E19)/E19),"--",(F19-E19)/E19) -> -- | J19: =IF(ISERROR((I19-H19)/H19),"--",(I19-H19)/H19) -> -- | M19: =IF(ISERROR((L19-K19)/K19),"--",(L19-K19)/K19) -> -- | P19: =IF(ISERROR((O19-N19)/N19),"--",(O19-N19)/N19) -> --
A20: General Plant | C20: 11101 | D20: =IF(ISERROR((C20-B20)/B20),"--",(C20-B20)/B20) -> -- | F20: 52779 | G20: =IF(ISERROR((F20-E20)/E20),"--",(F20-E20)/E20) -> -- | I20: 118492 | J20: =IF(ISERROR((I20-H20)/H20),"--",(I20-H20)/H20) -> -- | L20: 39655 | M20: =IF(ISERROR((L20-K20)/K20),"--",(L20-K20)/K20) -> -- | O20: 148500 | P20: =IF(ISERROR((O20-N20)/N20),"--",(O20-N20)/N20) -> -- | Q20: 491500 | R20: 457000 | S20: 202000 | T20: 177000 | U20: 337000
A21: TOTAL EXPENDITURE | B21: 1187103 | C21: =SUM(C17:C20) -> 784614 | D21: =IF(ISERROR((C21-B21)/B21),"--",(C21-B21)/B21) -> -0.33905146 | E21: 1197250 | F21: =SUM(F17:F20) -> 1478886 | G21: =IF(ISERROR((F21-E21)/E21),"--",(F21-E21)/E21) -> 0.23523575 | H21: 1650000 | I21: =SUM(I17:I20) -> 986178 | J21: =IF(ISERROR((I21-H21)/H21),"--",(I21-H21)/H21) -> -0.40231636 | K21: 1412500 | L21: =SUM(L17:L20) -> 1328020 | M21: =IF(ISERROR((L21-K21)/K21),"--",(L21-K21)/K21) -> -0.05980885 | N21: 1479500 | O21: =SUM(O17:O20) -> 1479500 | P21: =IF(ISERROR((O21-N21)/N21),"--",(O21-N21)/N21) -> 0 | Q21: =SUM(Q17:Q20) -> 1313503 | R21: =SUM(R17:R20) -> 1429202 | S21: =SUM(S17:S20) -> 1355258 | T21: =SUM(T17:T20) -> 1364543 | U21: =SUM(U17:U20) -> 1367384
A22: System O&M | C22: =272543+604288 -> 876831 | D22: =IF(ISERROR((C22-B22)/B22),"--",(C22-B22)/B22) -> -- | F22: =233391+491922 -> 725313 | G22: =IF(ISERROR((F22-E22)/E22),"--",(F22-E22)/E22) -> -- | I22: =260055+546411 -> 806466 | J22: =IF(ISERROR((I22-H22)/H22),"--",(I22-H22)/H22) -> -- | L22: =263090+939207 -> 1202297 | M22: =IF(ISERROR((L22-K22)/K22),"--",(L22-K22)/K22) -> -- | O22: =365280+918809 -> 1284089 | P22: =IF(ISERROR((O22-N22)/N22),"--",(O22-N22)/N22) -> -- | Q22: =642274+900026 -> 1542300 | R22: 1413195 | S22: 1477747 | T22: 1445471 | U22: 1461609
A24: Notes to the Table:
A25: 1. Historical “previous plan” data is not required unless a plan has previously been filed. However, use the last Board-approved, at least on a Total (Capital) Expenditure basis for the last cost of service rebasing year, and the applicant should include their planned budget in each subsequent historical year up to and including the Bridge Year.
A26: 2. Indicate the number of months of 'actual' data included in the last year of the Historical Period (normally a 'bridge' year):
A28: Explanatory Notes on Variances (complete only if applicable)
A29: Notes on shifts in forecast vs. historical budgets by category
A32: Notes on year over year Plan vs. Actual variances for Total Expenditures
A35: Notes on Plan vs. Actual variance trends for individual expenditure categories

Sheet App.2-AC_Customer Engagement
B1: File Number: | C1: =EBNUMBER -> EB-2016-0066
B2: Exhibit:
B3: Tab:
B4: Schedule:
B5: Page:
B7: Date:
A9: Appendix 2-AC
A10: Customer Engagement Activities Summary
A12: Provide a list of customer engagement activities | B12: Provide a list of customer needs and preferences identified through each engagement activity | C12: Actions taken to respond to identified needs and preferences. If no action was taken, explain why.
A13: Customer Letters, E-Blast, Bill Inserts | B13: Conservation and Usage Reduction for Small Business and Residential and Low Income. Programs available to manage peak demand. | C13: General Awareness is being promoted. Increase awareness, reduce consumption and cost.
A14: Outreach to Essex Chamber of Commerce, Local B.I.A. | B14: Conservation and Usage Reduction for Small Business and Residential and Low Income. Programs available to manage peak demand. | C14: General Awareness is being promoted. Increase awareness, reduce consumption and cost.
A15: Outreach to Local Area Foodbanks, Local Social Service Agency | B15: Conservation and Usage Reduction for Small Business and Residential and Low Income | C15: General Awareness is being promoted. Increase awareness, reduce consumption and cost.
A16: Complete Re-design of E.L.K. Energy Website | B16: Rate changes and impacts, great ability to reseach and gain greater understanding and awareness of industry and bill. | C16: e-Services portal enables future enhancement
A17: Customer Education Literature | B17: Rate changes and impacts, great ability to reseach and gain greater understanding and awareness of industry and bill. | C17: E.L.K. has created a Customer Education Section at the front of the office that has brochures, bill inserts, TOU info , Conservation info etc and staff are always willing and ready to answer questions.
A18: E-Billing/Customer Connect - Online Account Services | B18: E.L.K. provides access to customer bills and consumption data | C18: E.L.K. has offering to customers based on input received from customers. This also reduces E.L.K.'s carbon footprint.
A19: Financial Assistance Program | B19: E.L.K. provides support through partnerships with the provinces Low Income Energy Assistance Program. This emergency financial assistance program are designed to help low income customers who have difficulty making their electricity bill payments | C19: E.L.K. promotes and continues to promote verbally and in writing on a monthly basis about the financial assistance programs available.
A20: Regional Planning Engagements | B20: E.L.K. has partipated in all Regional Planning Initiatives with Government and Municipalities.
A21: Increased Functionality with Phone System | B21: Greater communication ability | C21: Notification of rate changes, new e billing features
A22: Oraclepoll Research Group Telephone Survey | B22: Communication | C22: E.L.K. has since engaged Greensaver to assist in the development of an entire Social Media Stream to allow for further option for customers to connect with E.L.K.
A23: Oraclepoll Research Group Telephone Survey | B23: Affordability | C23: E.L.K. has since engaged Greensaver to assist in the development of an entire Social Media Stream to allow for further option for customers to connect with E.L.K.
A24: Oraclepoll Research Group Telephone Survey | B24: Power quality and reliability | C24: Line Capacitors, Automatic Reclose Switches
A25: Oraclepoll Research Group Telephone Survey | B25: Customer service quality | C25: Satisfaction surveys
A26: Oraclepoll Research Group Telephone Survey | B26: Value and affordability of service
A27: Oraclepoll Research Group Telephone Survey | B27: Technological and self-service enhancements | C27: E-Service Ontario's Green Button Policy
A28: Oraclepoll Research Group Telephone Survey | B28: Communicate unplanned outage information | C28: Initial stages of a possible outage management system
A29: Oraclepoll Research Group Telephone Survey | B29: Consumption information | C29: E-Services portal enables future enhancement
A30: OEL meetings and Channel Partner/Contractor events/Geospatial analysis | B30: Educate re: CDM programs and incentives
A31: Oraclepoll Research Group Telephone Survey | B31: Spend what is needed to maintain the current level of outages | C31: Line Capacitors, Automatic Reclose Switches
A32: Oraclepoll Research Group Telephone Survey | B32: Spend what is needed to maintain the current length of unexpected outages | C32: Line Capacitors, Automatic Reclose Switches
A33: Oraclepoll Research Group Telephone Survey | B33: Invest what it takes to replace the system’s aging infrastructure to maintain system reliability | C33: Rebuilds - Pole Replacements, Transformer Replacements, Vault Replacements and General Rebuilds
A38: Note: Use "ALT-ENTER" to go to the next line within a cell

Sheet App.2-B_Acctg Instructions
A1: General Instructions to MIFRS Appendices
A2: Types of Schedules to File
A4: The purpose of this tab is to provide general instructions. The specific instructions to each appendix are listed in footnotes of each appendix.
A6: The typical applicant is expected to have made capitalization and depreciation policy changes under CGAAP as permitted by the Board on January 1, 2012 or mandated by the Board by January 1, 2013, and adopted IFRS for reporting purposes on January 1, 2015 (transition date January 1, 2014). Some distributors filing for 2017 rates have rebased with these accounting changes reflected in a prior rebasing application. If that is the case, information relating to pre-accounting policy changes is not generally required. The information to be provided by applicants will depend on when the accounting policy changes were made and when they last rebased. In general, applicants should provide the following information in the appendices:
E9: Reflecting Accounting Policy Changes in Current Application | G9: Reflected Accounting Policy Changes in Prior Application3
E10: Accounting Policy Changes in 2012 and Adopted IFRS in 2015 | F10: Accounting Policy Changes in 2013 and Adopted IFRS in 2015 | G10: Adopted IFRS in 2015
A11: Information to be filed in 2017 CoS Application | B11: 2017 | C11: Test | E11: MIFRS | F11: MIFRS | G11: MIFRS
B12: 2016 | C12: Bridge | E12: MIFRS | F12: MIFRS | G12: MIFRS
B13: 2015 | C13: Historical | E13: MIFRS | F13: MIFRS | G13: MIFRS
B14: 2014 | C14: Historical | E14: MIFRS and Revised CGAAP1 | F14: MIFRS and Revised CGAAP1 | G14: MIFRS and Revised CGAAP1
B15: 2013 | C15: Historical | E15: Revised CGAAP | F15: CGAAP and Revised CGAAP2 | G15: Rebased under Revised CGAAP
B16: 2012 | C16: Historical | E16: CGAAP and Revised CGAAP2 | F16: CGAAP | G16: Rebased under Revised CGAAP
B17: Prior | C17: Historicals | E17: Rebased under CGAAP | F17: Rebased under CGAAP | G17: N/A
A19: 1) For the transition year (2014), the applicant may file two appendices, one under Revised CGAAP and one under MIFRS, depending on the materiality of impacts. See the specific instructions under each appendix below for further details.
A20: 2) For applicants that are reflecting accounting policy changes for the first time in a rebasing application, the applicant must file two appendices in the year that the applicant implemented changes to its capitalization and depreciation policies (2012 or 2013), one before and one after the policy changes.
A21: 3) Applicants should provide CGGAP and Revised CGAAP schedules (i.e. as indicated in the first two columns of the above table) to support balances in Account 1576 if the account has yet to be disposed of.
A23: Appendix 2-BA - Fixed Asset Schedule
A25: Applicants are to provide Appendix 2-BA in accordance with the years and corresponding accounting standards noted in the above table to provide a year over year continuity in fixed assets.
A26: For the transition year (2014), the applicant should file two appendices, one under Revised CGAAP and one under MIFRS if the change between Revised CGAAP and MIFRS is material. If the change from the accounting standards is not material, the applicant may choose to only provide one appendix under MIFRS. However, the applicant must also indicate the fixed asset net book value balance under Revised CGAAP, the total dollar value of the change and explain why it is not material.
A30: Regulatory Gross Assets of Property, Plant and Equipment
A32: For an applicant that adopted IFRS on January 1, 2015 for financial reporting purposes, the applicant must establish the continuity of historic cost by using the December 31, 2013 regulatory gross assets of property, plant and equipment as the opening January 1, 2014 regulatory gross assets. The applicant must provide schedules (including Appendix 2-BA, Fixed Asset Continuity Schedule) which must identify the following details to substantiate the continuity of historic cost for regulatory purposes:
A35: · December 31, 2013 regulatory gross assets of property, plant and equipment, by asset class; and
A36: · January 1, 2014 regulatory gross assets of property, plant and equipment, by asset class.
A38: Accumulated Depreciation
A40: For an applicant that adopted IFRS on January 1, 2015 for financial reporting purposes, the applicant must establish the continuity of historic cost by using the December 31, 2013 regulatory accumulated depreciation as the opening January 1, 2014 regulatory accumulated depreciation. The applicant must provide schedules (including Appendix 2-BA, Fixed Asset Continuity Schedule) which must identify the following details to substantiate the continuity of historic cost for regulatory purposes:
... A48: Applicants are to provide Appendix 2-Cx in accordance with the years and corresponding accounting standards listed in the above table.
A49: · | B49: If an applicant is reflecting changes to its depreciation policies for the first time in a rebasing application, the applicant should complete Appendix 2-CA to 2-CG (changes made in 2012) or Appendix 2-CA to 2-CF (changes made in 2013). In this set of appendices, the applicant will need to indicate the year it made the accounting policy changes. The applicant must provide data starting from the year it made changes to its capitalization and depreciation policies.
B52: *Depreciation accounting policy changes were mandated by the Board by January 1, 2013. In general, no further changes to an applicant's depreciation policy (i.e. assets' service lives) are expected after the Board mandated changes by January 1, 2013. The set of Appendix 2-CA to 2-CG assumes this to be the case. If the applicant has made any changes to its depreciation policy subsequent to the Board mandated changes, applicants must identify the change, explain the nature of the change, the reason for the change, quantify the impact of the change, and quantify the depreciation expense before and after the change.
A53: · | B53: If an applicant changed depreciation policies and reflected these changes in a prior rebasing application, the applicant should complete Appendix 2-CH. The applicant must provide data starting from the earlier of 1) all historical years back to its last rebasing; or 2) at least three years of historical actuals, in addition to Bridge Year and Test Year forecasts.
A56: Appendix 2-E - Account 1575, IFRS-CGAAP Transitional PP&E Amounts (2-EA), Account 1576, Accounting Changes Under CGAAP (2-EB, 2-EC)
A58: 1) For an applicant that has a balance in Account 1576 to dispose:
A59: · | B59: If an applicant changed capitalization and depreciation policies effective January 1, 2012, the applicant must complete Appendix 2-EB
A60: · | B60: If an applicant changed capitalization and depreciation policies effective January 1, 2013, the applicant must complete Appendix 2-EC
A62: 2) For an applicant that has a balance in Account 1575 to dispose:
A63: · | B63: The applicant must complete 2-EA
A64: If the applicant did not make any further PP&E accounting policy changes beyond the capitalization and depreciation policy changes as mandated by the Board by January 1, 2013 (i.e. no further changes made on transition to IFRS), the applicant must indicate this and does not need to complete Appendix 2-EA.
A69: Please refer to section 2.12.4 and 2.12.5 of the Filing Requirements for further details.
A71: Appendix 2-Y - Summary of Impacts to Revenue Requirement from Transition to MIFRS
A73: An applicant must provide a summary of the dollar impacts of MIFRS to each component of the revenue requirement (e.g. rate base, operating costs, etc.), including the overall impact on the proposed revenue requirement. Accordingly, the applicant must identify financial differences and resulting revenue requirement impacts arising from the adoption of MIFRS as compared to CGAAP. If the applicant is reflecting the changes in capitalization and depreciation policies for the first time in a rebasing application, then a comparison between MIFRS and CGAAP before the change in accounting policies should be completed. If the applicant changed capitalization and depreciation policies and reflected these changes in a prior rebasing application, then a comparison between MIFRS and CGAAP after the change in accounting policies should be completed.

Sheet App.2-BA_Fixed Asset Cont
L1: File Number: | M1: =EBNUMBER -> EB-2016-0066
L2: Exhibit:
L3: Tab:
L4: Schedule:
L5: Page:
L7: Date:
A9: Appendix 2-BA
A10: Fixed Asset Continuity Schedule 1
E12: Accounting Standard | F12: CGAAP
E13: Year | F13: 2012
D15: Cost | J15: Accumulated Depreciation
A16: CCA Class 2 | B16: OEB Account 3 | C16: Description 3 | D16: Opening Balance | E16: Additions 4 | F16: Disposals 6 | G16: Closing Balance | I16: Opening Balance | J16: Additions | K16: Disposals 6 | L16: Closing Balance | M16: Net Book Value
A17: 12 | B17: 1611 | C17: Computer Software (Formally known as Account 1925) | D17: 239727 | E17: 1294 | G17: =D17+E17+F17 -> 241021 | I17: 194362 | J17: 36535 | L17: =I17+J17+K17 -> 230897 | M17: =G17-L17 -> 10124
A18: CEC | B18: 1612 | C18: Land Rights (Formally known as Account 1906) | D18: 2945 | G18: =D18+E18+F18 -> 2945 | I18: 2725 | L18: =I18+J18+K18 -> 2725 | M18: =G18-L18 -> 220
A19: N/A | B19: 1805 | C19: Land | D19: 2112 | G19: =D19+E19+F19 -> 2112 | L19: =I19+J19+K19 -> 0 | M19: =G19-L19 -> 2112
A20: 47 | B20: 1808 | C20: Buildings | G20: =D20+E20+F20 -> 0 | L20: =I20+J20+K20 -> 0 | M20: =G20-L20 -> 0
A21: 13 | B21: 1810 | C21: Leasehold Improvements | G21: =D21+E21+F21 -> 0 | L21: =I21+J21+K21 -> 0 | M21: =G21-L21 -> 0
A22: 47 | B22: 1815 | C22: Transformer Station Equipment >50 kV | G22: =D22+E22+F22 -> 0 | L22: =I22+J22+K22 -> 0 | M22: =G22-L22 -> 0
A23: 47 | B23: 1820 | C23: Distribution Station Equipment <50 kV | D23: 142098 | G23: =D23+E23+F23 -> 142098 | I23: 140952 | J23: 62 | L23: =I23+J23+K23 -> 141014 | M23: =G23-L23 -> 1084
A24: 47 | B24: 1825 | C24: Storage Battery Equipment | G24: =D24+E24+F24 -> 0 | L24: =I24+J24+K24 -> 0 | M24: =G24-L24 -> 0
A25: 47 | B25: 1830 | C25: Poles, Towers & Fixtures | D25: 888856 | E25: 23732 | G25: =D25+E25+F25 -> 912588 | I25: 197610 | J25: 36039 | L25: =I25+J25+K25 -> 233649 | M25: =G25-L25 -> 678939
A26: 47 | B26: 1835 | C26: Overhead Conductors & Devices | D26: 6275033 | E26: 106131 | G26: =D26+E26+F26 -> 6381164 | I26: 4306416 | J26: 248008 | L26: =I26+J26+K26 -> 4554424 | M26: =G26-L26 -> 1826740
A27: 47 | B27: 1840 | C27: Underground Conduit | D27: 1251542 | E27: 124331 | G27: =D27+E27+F27 -> 1375873 | I27: 243930 | J27: 52553 | L27: =I27+J27+K27 -> 296483 | M27: =G27-L27 -> 1079390
A28: 47 | B28: 1845 | C28: Underground Conductors & Devices | D28: 7246993 | E28: 229404 | G28: =D28+E28+F28 -> 7476397 | I28: 4537673 | J28: 277280 | L28: =I28+J28+K28 -> 4814953 | M28: =G28-L28 -> 2661444
A29: 47 | B29: 1850 | C29: Line Transformers | D29: 5511324 | E29: 216442 | G29: =D29+E29+F29 -> 5727766 | I29: 3331320 | J29: 200371 | L29: =I29+J29+K29 -> 3531691 | M29: =G29-L29 -> 2196075
A30: 47 | B30: 1855 | C30: Services (Overhead & Underground) | D30: 699827 | E30: 72965 | G30: =D30+E30+F30 -> 772792 | I30: 137902 | J30: 29462 | L30: =I30+J30+K30 -> 167364 | M30: =G30-L30 -> 605428
A31: 47 | B31: 1860 | C31: Meters | D31: 514262 | E31: 2402 | G31: =D31+E31+F31 -> 516664 | I31: 70591 | J31: 12642 | L31: =I31+J31+K31 -> 83233 | M31: =G31-L31 -> 433431
A32: 47 | B32: 1860 | C32: Meters (Smart Meters) | G32: =D32+E32+F32 -> 0 | L32: =I32+J32+K32 -> 0 | M32: =G32-L32 -> 0
A33: N/A | B33: 1905 | C33: Land | D33: 171765 | G33: =D33+E33+F33 -> 171765 | L33: =I33+J33+K33 -> 0 | M33: =G33-L33 -> 171765
A34: 47 | B34: 1908 | C34: Buildings & Fixtures | D34: 661840 | E34: 3031 | G34: =D34+E34+F34 -> 664871 | I34: 429951 | J34: 14459 | L34: =I34+J34+K34 -> 444410 | M34: =G34-L34 -> 220461
A35: 13 | B35: 1910 | C35: Leasehold Improvements | G35: =D35+E35+F35 -> 0 | L35: =I35+J35+K35 -> 0 | M35: =G35-L35 -> 0
A36: 8 | B36: 1915 | C36: Office Furniture & Equipment (10 years) | D36: 242909 | E36: 45 | G36: =D36+E36+F36 -> 242954 | I36: 204575 | J36: 6979 | L36: =I36+J36+K36 -> 211554 | M36: =G36-L36 -> 31400
A37: 8 | B37: 1915 | C37: Office Furniture & Equipment (5 years) | G37: =D37+E37+F37 -> 0 | L37: =I37+J37+K37 -> 0 | M37: =G37-L37 -> 0
A38: 10 | B38: 1920 | C38: Computer Equipment - Hardware | D38: 360969 | E38: 4643 | G38: =D38+E38+F38 -> 365612 | I38: 347322 | J38: 11652 | L38: =I38+J38+K38 -> 358974 | M38: =G38-L38 -> 6638
A39: 45 | B39: 1920 | C39: Computer Equip.-Hardware(Post Mar. 22/04) | G39: =D39+E39+F39 -> 0 | L39: =I39+J39+K39 -> 0 | M39: =G39-L39 -> 0
A40: 45.1 | B40: 1920 | C40: Computer Equip.-Hardware(Post Mar. 19/07) | G40: =D40+E40+F40 -> 0 | L40: =I40+J40+K40 -> 0 | M40: =G40-L40 -> 0
A41: 10 | B41: 1930 | C41: Transportation Equipment | D41: 1886565 | G41: =D41+E41+F41 -> 1886565 | I41: 1562244 | J41: 83137 | L41: =I41+J41+K41 -> 1645381 | M41: =G41-L41 -> 241184
A42: 8 | B42: 1935 | C42: Stores Equipment | G42: =D42+E42+F42 -> 0 | L42: =I42+J42+K42 -> 0 | M42: =G42-L42 -> 0
A43: 8 | B43: 1940 | C43: Tools, Shop & Garage Equipment | D43: 365317 | E43: 196 | G43: =D43+E43+F43 -> 365513 | I43: 306443 | J43: 12669 | L43: =I43+J43+K43 -> 319112 | M43: =G43-L43 -> 46401
A44: 8 | B44: 1945 | C44: Measurement & Testing Equipment | G44: =D44+E44+F44 -> 0 | L44: =I44+J44+K44 -> 0 | M44: =G44-L44 -> 0
...

Sheet Appendix 2-BB Service Life  
N1: File Number: | P1: 0
N2: Exhibit:
N3: Tab:
N4: Schedule:
N5: Page:
N7: Date:
A9: Appendix 2-BB
A10: Service Life Comparison
A11: Table F-1 from Kinetrics Report1
C15: Asset Details | F15: Useful Life | J15: USoA Account Number | K15: USoA Account Description | L15: Current | N15: Proposed | P15: Outside Range of Min, Max TUL?
A16: Parent* | B16: # | C16: Category| Component | Type | F16: MIN UL | G16: TUL | H16: MAX UL | L16: Years | M16: Rate | N16: Years | O16: Rate | P16: Below Min TUL | Q16: Above Max TUL
A17: OH | B17: 1 | C17: Fully Dressed Wood Poles | D17: Overall | F17: 35 | G17: 45 | H17: 75 | J17: 1830 | K17: Overhead Poles, Tower & Fixtures | L17: 45 | M17: =IF(ISERROR(1/L17), "", 1/L17) -> 0.022222222 | N17: 45 | O17: =IF(ISERROR(1/N17), "", 1/N17) -> 0.022222222 | P17: =IF(ISBLANK(N17),"",IF(N17<F17,"Yes","No")) -> No | Q17: =IF(ISBLANK(N17),"",IF(N17>H17,"Yes","No")) -> No
D18: Cross Arm | E18: Wood | F18: 20 | G18: 40 | H18: 55 | M18: =IF(ISERROR(1/L18), "", 1/L18) | O18: =IF(ISERROR(1/N18), "", 1/N18) | P18: =IF(ISBLANK(N18),"",IF(N18<F18,"Yes","No")) | Q18: =IF(ISBLANK(N18),"",IF(N18>H18,"Yes","No"))
E19: Steel | F19: 30 | G19: 70 | H19: 95 | M19: =IF(ISERROR(1/L19), "", 1/L19) | O19: =IF(ISERROR(1/N19), "", 1/N19) | P19: =IF(ISBLANK(N19),"",IF(N19<F19,"Yes","No")) | Q19: =IF(ISBLANK(N19),"",IF(N19>H19,"Yes","No"))
B20: 2 | C20: Fully Dressed Concrete Poles | D20: Overall | F20: 50 | G20: 60 | H20: 80 | M20: =IF(ISERROR(1/L20), "", 1/L20) | O20: =IF(ISERROR(1/N20), "", 1/N20) | P20: =IF(ISBLANK(N20),"",IF(N20<F20,"Yes","No")) | Q20: =IF(ISBLANK(N20),"",IF(N20>H20,"Yes","No"))
D21: Cross Arm | E21: Wood | F21: 20 | G21: 40 | H21: 55 | M21: =IF(ISERROR(1/L21), "", 1/L21) | O21: =IF(ISERROR(1/N21), "", 1/N21) | P21: =IF(ISBLANK(N21),"",IF(N21<F21,"Yes","No")) | Q21: =IF(ISBLANK(N21),"",IF(N21>H21,"Yes","No"))
E22: Steel | F22: 30 | G22: 70 | H22: 95 | M22: =IF(ISERROR(1/L22), "", 1/L22) | O22: =IF(ISERROR(1/N22), "", 1/N22) | P22: =IF(ISBLANK(N22),"",IF(N22<F22,"Yes","No")) | Q22: =IF(ISBLANK(N22),"",IF(N22>H22,"Yes","No"))
B23: 3 | C23: Fully Dressed Steel Poles | D23: Overall | F23: 60 | G23: 60 | H23: 80 | M23: =IF(ISERROR(1/L23), "", 1/L23) | O23: =IF(ISERROR(1/N23), "", 1/N23) | P23: =IF(ISBLANK(N23),"",IF(N23<F23,"Yes","No")) | Q23: =IF(ISBLANK(N23),"",IF(N23>H23,"Yes","No"))
D24: Cross Arm | E24: Wood | F24: 20 | G24: 40 | H24: 55 | M24: =IF(ISERROR(1/L24), "", 1/L24) | O24: =IF(ISERROR(1/N24), "", 1/N24) | P24: =IF(ISBLANK(N24),"",IF(N24<F24,"Yes","No")) | Q24: =IF(ISBLANK(N24),"",IF(N24>H24,"Yes","No"))
E25: Steel | F25: 30 | G25: 70 | H25: 95 | M25: =IF(ISERROR(1/L25), "", 1/L25) | O25: =IF(ISERROR(1/N25), "", 1/N25) | P25: =IF(ISBLANK(N25),"",IF(N25<F25,"Yes","No")) | Q25: =IF(ISBLANK(N25),"",IF(N25>H25,"Yes","No"))
B26: 4 | C26: OH Line Switch | F26: 30 | G26: 45 | H26: 55 | M26: =IF(ISERROR(1/L26), "", 1/L26) | O26: =IF(ISERROR(1/N26), "", 1/N26) | P26: =IF(ISBLANK(N26),"",IF(N26<F26,"Yes","No")) | Q26: =IF(ISBLANK(N26),"",IF(N26>H26,"Yes","No"))
B27: 5 | C27: OH Line Switch Motor | F27: 15 | G27: 25 | H27: 25 | M27: =IF(ISERROR(1/L27), "", 1/L27) | O27: =IF(ISERROR(1/N27), "", 1/N27) | P27: =IF(ISBLANK(N27),"",IF(N27<F27,"Yes","No")) | Q27: =IF(ISBLANK(N27),"",IF(N27>H27,"Yes","No"))
B28: 6 | C28: OH Line Switch RTU | F28: 15 | G28: 20 | H28: 20 | M28: =IF(ISERROR(1/L28), "", 1/L28) | O28: =IF(ISERROR(1/N28), "", 1/N28) | P28: =IF(ISBLANK(N28),"",IF(N28<F28,"Yes","No")) | Q28: =IF(ISBLANK(N28),"",IF(N28>H28,"Yes","No"))
B29: 7 | C29: OH Integral Switches | F29: 35 | G29: 45 | H29: 60 | M29: =IF(ISERROR(1/L29), "", 1/L29) | O29: =IF(ISERROR(1/N29), "", 1/N29) | P29: =IF(ISBLANK(N29),"",IF(N29<F29,"Yes","No")) | Q29: =IF(ISBLANK(N29),"",IF(N29>H29,"Yes","No"))
B30: 8 | C30: OH Conductors | F30: 50 | G30: 60 | H30: 75 | J30: 1835 | K30: Overhead Line Switches, Conductors & Devices | L30: 60 | M30: =IF(ISERROR(1/L30), "", 1/L30) -> 0.016666667 | N30: 60 | O30: =IF(ISERROR(1/N30), "", 1/N30) -> 0.016666667 | P30: =IF(ISBLANK(N30),"",IF(N30<F30,"Yes","No")) -> No | Q30: =IF(ISBLANK(N30),"",IF(N30>H30,"Yes","No")) -> No
B31: 9 | C31: OH Transformers & Voltage Regulators | F31: 30 | G31: 40 | H31: 60 | J31: 1850 | K31: Line Transformers- OH & UG Transformers | L31: 40 | M31: =IF(ISERROR(1/L31), "", 1/L31) -> 0.025 | N31: 40 | O31: =IF(ISERROR(1/N31), "", 1/N31) -> 0.025 | P31: =IF(ISBLANK(N31),"",IF(N31<F31,"Yes","No")) -> No | Q31: =IF(ISBLANK(N31),"",IF(N31>H31,"Yes","No")) -> No
B32: 10 | C32: OH Shunt Capacitor Banks | F32: 25 | G32: 30 | H32: 40 | M32: =IF(ISERROR(1/L32), "", 1/L32) | O32: =IF(ISERROR(1/N32), "", 1/N32) | P32: =IF(ISBLANK(N32),"",IF(N32<F32,"Yes","No")) | Q32: =IF(ISBLANK(N32),"",IF(N32>H32,"Yes","No"))
B33: 11 | C33: Reclosers | F33: 25 | G33: 40 | H33: 55 | M33: =IF(ISERROR(1/L33), "", 1/L33) | O33: =IF(ISERROR(1/N33), "", 1/N33) | P33: =IF(ISBLANK(N33),"",IF(N33<F33,"Yes","No")) | Q33: =IF(ISBLANK(N33),"",IF(N33>H33,"Yes","No"))
A34: TS & MS | B34: 12 | C34: Power Transformers | D34: Overall | F34: 30 | G34: 45 | H34: 60 | M34: =IF(ISERROR(1/L34), "", 1/L34) | O34: =IF(ISERROR(1/N34), "", 1/N34) | P34: =IF(ISBLANK(N34),"",IF(N34<F34,"Yes","No")) | Q34: =IF(ISBLANK(N34),"",IF(N34>H34,"Yes","No"))
D35: Bushing | F35: 10 | G35: 20 | H35: 30 | M35: =IF(ISERROR(1/L35), "", 1/L35) | O35: =IF(ISERROR(1/N35), "", 1/N35) | P35: =IF(ISBLANK(N35),"",IF(N35<F35,"Yes","No")) | Q35: =IF(ISBLANK(N35),"",IF(N35>H35,"Yes","No"))
D36: Tap Changer | F36: 20 | G36: 30 | H36: 60 | M36: =IF(ISERROR(1/L36), "", 1/L36) | O36: =IF(ISERROR(1/N36), "", 1/N36) | P36: =IF(ISBLANK(N36),"",IF(N36<F36,"Yes","No")) | Q36: =IF(ISBLANK(N36),"",IF(N36>H36,"Yes","No"))
B37: 13 | C37: Station Service Transformer | F37: 30 | G37: 45 | H37: 55 | J37: 1820 | K37: Station Equipment | L37: 30 | M37: =IF(ISERROR(1/L37), "", 1/L37) -> 0.033333333 | N37: 30 | O37: =IF(ISERROR(1/N37), "", 1/N37) -> 0.033333333 | P37: =IF(ISBLANK(N37),"",IF(N37<F37,"Yes","No")) -> No | Q37: =IF(ISBLANK(N37),"",IF(N37>H37,"Yes","No")) -> No
B38: 14 | C38: Station Grounding Transformer | F38: 30 | G38: 40 | H38: 40 | M38: =IF(ISERROR(1/L38), "", 1/L38) | O38: =IF(ISERROR(1/N38), "", 1/N38) | P38: =IF(ISBLANK(N38),"",IF(N38<F38,"Yes","No")) | Q38: =IF(ISBLANK(N38),"",IF(N38>H38,"Yes","No"))
B39: 15 | C39: Station DC System | D39: Overall | F39: 10 | G39: 20 | H39: 30 | M39: =IF(ISERROR(1/L39), "", 1/L39) | O39: =IF(ISERROR(1/N39), "", 1/N39) | P39: =IF(ISBLANK(N39),"",IF(N39<F39,"Yes","No")) | Q39: =IF(ISBLANK(N39),"",IF(N39>H39,"Yes","No"))
D40: Battery Bank | F40: 10 | G40: 15 | H40: 15 | M40: =IF(ISERROR(1/L40), "", 1/L40) | O40: =IF(ISERROR(1/N40), "", 1/N40) | P40: =IF(ISBLANK(N40),"",IF(N40<F40,"Yes","No")) | Q40: =IF(ISBLANK(N40),"",IF(N40>H40,"Yes","No"))
D41: Charger | F41: 20 | G41: 20 | H41: 30 | M41: =IF(ISERROR(1/L41), "", 1/L41) | O41: =IF(ISERROR(1/N41), "", 1/N41) | P41: =IF(ISBLANK(N41),"",IF(N41<F41,"Yes","No")) | Q41: =IF(ISBLANK(N41),"",IF(N41>H41,"Yes","No"))
B42: 16 | C42: Station Metal Clad Switchgear | D42: Overall | F42: 30 | G42: 40 | H42: 60 | M42: =IF(ISERROR(1/L42), "", 1/L42) | O42: =IF(ISERROR(1/N42), "", 1/N42) | P42: =IF(ISBLANK(N42),"",IF(N42<F42,"Yes","No")) | Q42: =IF(ISBLANK(N42),"",IF(N42>H42,"Yes","No"))
D43: Removable Breaker | F43: 25 | G43: 40 | H43: 60 | M43: =IF(ISERROR(1/L43), "", 1/L43) | O43: =IF(ISERROR(1/N43), "", 1/N43) | P43: =IF(ISBLANK(N43),"",IF(N43<F43,"Yes","No")) | Q43: =IF(ISBLANK(N43),"",IF(N43>H43,"Yes","No"))
B44: 17 | C44: Station Independent Breakers | F44: 35 | G44: 45 | H44: 65 | M44: =IF(ISERROR(1/L44), "", 1/L44) | O44: =IF(ISERROR(1/N44), "", 1/N44) | P44: =IF(ISBLANK(N44),"",IF(N44<F44,"Yes","No")) | Q44: =IF(ISBLANK(N44),"",IF(N44>H44,"Yes","No"))
B45: 18 | C45: Station Switch | F45: 30 | G45: 50 | H45: 60 | M45: =IF(ISERROR(1/L45), "", 1/L45) | O45: =IF(ISERROR(1/N45), "", 1/N45) | P45: =IF(ISBLANK(N45),"",IF(N45<F45,"Yes","No")) | Q45: =IF(ISBLANK(N45),"",IF(N45>H45,"Yes","No"))
...

Sheet App.2-CA_OldCGAAPDepExp_Yr1
K1: File Number: | L1: =EBNUMBER -> EB-2016-0066
K2: Exhibit:
K3: Tab:
K4: Schedule:
K5: Page:
K7: Date:
A9: Appendix 2-CA - Not Applicable
A10: Depreciation and Amortization Expense
B11: Former CGAAP (Year 1)
A13: Select the set of appendices that apply | K13: Year Reflected in Schedule Below | L13: Accounting Standard
A14: 2012 Set of Appendices (2-CA to 2-CG) | C14: Assumes the applicant made capitalization and depreciation expense accounting policy changes under CGAAP effective January 1, 2012 and has adopted IFRS for financial reporting purposes effective January 1, 2015. Assumes that the applicant is reflecting these changes in a rebasing application for the first time. | K14: 2012 | L14: Former CGAAP
A15: 2013 Set of Appendices (2-CA to 2-CF) | C15: Assumes the applicant made capitalization and depreciation expense accounting policy changes under CGAAP effective January 1, 2013 and has adopted IFRS for financial reporting purposes effective January 1, 2015. Assumes that the applicant is reflecting these changes in a rebasing application for the first time. | K15: 2013 | L15: Former CGAAP
A18: Account | B18: Description | C18: Opening Regulatory Gross PP&E as at Jan. 1 | D18: Less Fully Depreciated | E18: Net for Depreciation | F18: Additions | G18: Total for Depreciation 1 | H18: Years | I18: Depreciation Rate | J18: Current Year Depreciation Expense | K18: Depreciation Expense per Appendix 2-BA Fixed Assets, Column J (l) | L18: Variance 2
C19: (a) | D19: (b) | E19: (c) | F19: (d) | G19: (e) = (c) + ½ x (d) | H19: (f) | I19: (g) = 1 / (f) | J19: (h) = (e) / (f) | L19: (m) = (h) - (l)
A20: 1611 | B20: Computer Software (Formally known as Account 1925) | E20: =C20-D20 -> 0 | G20: =E20+0.5*F20 -> 0 | I20: =IF(H20=0,0,1/H20) -> 0 | J20: =IF(H20=0,0,G20/H20) -> 0 | L20: =IF(ISERROR(+J20-K20), 0, +J20-K20) -> 0
A21: 1612 | B21: Land Rights (Formally known as Account 1906) | E21: =C21-D21 -> 0 | G21: =E21+0.5*F21 -> 0 | I21: =IF(H21=0,0,1/H21) -> 0 | J21: =IF(H21=0,0,G21/H21) -> 0 | L21: =IF(ISERROR(+J21-K21), 0, +J21-K21) -> 0
A22: 1805 | B22: Land | E22: =C22-D22 -> 0 | G22: =E22+0.5*F22 -> 0 | I22: =IF(H22=0,0,1/H22) -> 0 | J22: =IF(H22=0,0,G22/H22) -> 0 | L22: =IF(ISERROR(+J22-K22), 0, +J22-K22) -> 0
A23: 1808 | B23: Buildings | E23: =C23-D23 -> 0 | G23: =E23+0.5*F23 -> 0 | I23: =IF(H23=0,0,1/H23) -> 0 | J23: =IF(H23=0,0,G23/H23) -> 0 | L23: =IF(ISERROR(+J23-K23), 0, +J23-K23) -> 0
A24: 1810 | B24: Leasehold Improvements | E24: =C24-D24 -> 0 | G24: =E24+0.5*F24 -> 0 | I24: =IF(H24=0,0,1/H24) -> 0 | J24: =IF(H24=0,0,G24/H24) -> 0 | L24: =IF(ISERROR(+J24-K24), 0, +J24-K24) -> 0
A25: 1815 | B25: Transformer Station Equipment >50 kV | E25: =C25-D25 -> 0 | G25: =E25+0.5*F25 -> 0 | I25: =IF(H25=0,0,1/H25) -> 0 | J25: =IF(H25=0,0,G25/H25) -> 0 | L25: =IF(ISERROR(+J25-K25), 0, +J25-K25) -> 0
A26: 1820 | B26: Distribution Station Equipment <50 kV | E26: =C26-D26 -> 0 | G26: =E26+0.5*F26 -> 0 | I26: =IF(H26=0,0,1/H26) -> 0 | J26: =IF(H26=0,0,G26/H26) -> 0 | L26: =IF(ISERROR(+J26-K26), 0, +J26-K26) -> 0
A27: 1825 | B27: Storage Battery Equipment | E27: =C27-D27 -> 0 | G27: =E27+0.5*F27 -> 0 | I27: =IF(H27=0,0,1/H27) -> 0 | J27: =IF(H27=0,0,G27/H27) -> 0 | L27: =IF(ISERROR(+J27-K27), 0, +J27-K27) -> 0
A28: 1830 | B28: Poles, Towers & Fixtures | E28: =C28-D28 -> 0 | G28: =E28+0.5*F28 -> 0 | I28: =IF(H28=0,0,1/H28) -> 0 | J28: =IF(H28=0,0,G28/H28) -> 0 | L28: =IF(ISERROR(+J28-K28), 0, +J28-K28) -> 0
A29: 1835 | B29: Overhead Conductors & Devices | E29: =C29-D29 -> 0 | G29: =E29+0.5*F29 -> 0 | I29: =IF(H29=0,0,1/H29) -> 0 | J29: =IF(H29=0,0,G29/H29) -> 0 | L29: =IF(ISERROR(+J29-K29), 0, +J29-K29) -> 0
A30: 1840 | B30: Underground Conduit | E30: =C30-D30 -> 0 | G30: =E30+0.5*F30 -> 0 | I30: =IF(H30=0,0,1/H30) -> 0 | J30: =IF(H30=0,0,G30/H30) -> 0 | L30: =IF(ISERROR(+J30-K30), 0, +J30-K30) -> 0
A31: 1845 | B31: Underground Conductors & Devices | E31: =C31-D31 -> 0 | G31: =E31+0.5*F31 -> 0 | I31: =IF(H31=0,0,1/H31) -> 0 | J31: =IF(H31=0,0,G31/H31) -> 0 | L31: =IF(ISERROR(+J31-K31), 0, +J31-K31) -> 0
... A57: 1995 | B57: Contributions & Grants | E57: =C57-D57 -> 0 | G57: =E57+0.5*F57 -> 0 | I57: =IF(H57=0,0,1/H57) -> 0 | J57: =IF(H57=0,0,G57/H57) -> 0 | L57: =IF(ISERROR(+J57-K57), 0, +J57-K57) -> 0
B58: Total | C58: =SUM(C20:C57) -> 0 | D58: =SUM(D20:D57) -> 0 | E58: =SUM(E20:E57) -> 0 | F58: =SUM(F20:F57) -> 0 | G58: =SUM(G20:G57) -> 0 | J58: =SUM(J20:J57) -> 0 | K58: =SUM(K20:K57) -> 0 | L58: =SUM(L20:L57) -> 0
A60: Notes:
A62: 1 | B62: Board policy of the "half-year" rule - the applicant must ensure that additions in the year attract a half-year depreciation expense in the first year. Deviations from this standard practice must be supported in the application.
A63: 2 | B63: The applicant must provide an explanation of material variances.
A65: General | B65: Applicants must provide a breakdown of depreciation and amortization expense in the above format for all relevant accounts. Asset Retirement Obligations (AROs), depreciation and accretion expense should be disclosed separately consistent with the Notes of historical Audited Financial Statements.

Sheet App.2-CB_NewCGAAP_DepExp_Yr1
N1: File Number: | O1: =EBNUMBER -> EB-2016-0066
N2: Exhibit:
N3: Tab:
N4: Schedule:
N5: Page:
N7: Date:
A9: Appendix 2-CB - Not Applicable
A10: Depreciation and Amortization Expense
A11: Revised CGAAP (Year 1)
A13: Select the set of appendices that apply | L13: Year Reflected in Schedule Below | N13: Accounting Standard
A14: 2012 Set of Appendices (2-CA to 2-CG) | C14: Assumes the applicant made capitalization and depreciation expense accounting policy changes under CGAAP effective January 1, 2012 and has adopted IFRS for financial reporting purposes effective January 1, 2015. Assumes that the applicant is reflecting these changes in a rebasing application for the first time. | L14: 2012 | N14: Revised CGAAP
A15: 2013 Set of Appendices (2-CA to 2-CF) | C15: Assumes the applicant made capitalization and depreciation expense accounting policy changes under CGAAP effective January 1, 2013 and has adopted IFRS for financial reporting purposes effective January 1, 2015. Assumes that the applicant is reflecting these changes in a rebasing application for the first time. | L15: 2013 | N15: Revised CGAAP
A18: Account | B18: Description | C18: Opening NBV as at Jan 15 | D18: Additions | E18: Average Remaining Life of Opening NBV 4 | F18: Years (new additions only) 3 | G18: Depreciation Rate on New Additions | H18: Depreciation Expense on Opening NBV | I18: Depreciation Expense on Additions 1 | J18: Current Year Depreciation Expense | K18: Depreciation Expense per Appendix 2-BA Fixed Assets, Column J (l) | L18: Variance 2 | M18: Depreciation Expense on Current Full Year Additions | N18: Less Depreciation Expense on Assets Fully Depreciated During the Year (o) | O18: Current Full Year Depreciation 6
C19: (a) | D19: (d) | E19: (i) | F19: (f) | G19: (g) = 1 / (f) | H19: (j) = (a) / (i) | I19: (h)=((d)*0.5)/(f) | J19: (k) = (j) + (h) | L19: (m) = (k) - (l) | M19: (n) = (d)/(f) | O19: (p) = (j) + (n) - (o)
A20: 1611 | B20: Computer Software (Formally known as Account 1925) | G20: =IF(F20=0,0,1/F20) -> 0 | H20: =IF(E20=0,0,+C20/E20) -> 0 | I20: =IF(F20=0,0,+(D20*0.5)/F20) -> 0 | J20: =IF(ISERROR(+H20+I20), 0, +H20+I20) -> 0 | L20: =IF(ISERROR(+J20-K20), 0, +J20-K20) -> 0 | M20: =IF(F20=0,0,+(D20)/F20) -> 0 | O20: =IF(ISERROR(+M20+H20-N20), 0, +M20+H20-N20) -> 0
A21: 1612 | B21: Land Rights (Formally known as Account 1906) | G21: =IF(F21=0,0,1/F21) -> 0 | H21: =IF(E21=0,0,+C21/E21) -> 0 | I21: =IF(F21=0,0,+(D21*0.5)/F21) -> 0 | J21: =IF(ISERROR(+H21+I21), 0, +H21+I21) -> 0 | L21: =IF(ISERROR(+J21-K21), 0, +J21-K21) -> 0 | M21: =IF(F21=0,0,+(D21)/F21) -> 0 | O21: =IF(ISERROR(+M21+H21-N21), 0, +M21+H21-N21) -> 0
A22: 1805 | B22: Land | G22: =IF(F22=0,0,1/F22) -> 0 | H22: =IF(E22=0,0,+C22/E22) -> 0 | I22: =IF(F22=0,0,+(D22*0.5)/F22) -> 0 | J22: =IF(ISERROR(+H22+I22), 0, +H22+I22) -> 0 | L22: =IF(ISERROR(+J22-K22), 0, +J22-K22) -> 0 | M22: =IF(F22=0,0,+(D22)/F22) -> 0 | O22: =IF(ISERROR(+M22+H22-N22), 0, +M22+H22-N22) -> 0
A23: 1808 | B23: Buildings | G23: =IF(F23=0,0,1/F23) -> 0 | H23: =IF(E23=0,0,+C23/E23) -> 0 | I23: =IF(F23=0,0,+(D23*0.5)/F23) -> 0 | J23: =IF(ISERROR(+H23+I23), 0, +H23+I23) -> 0 | L23: =IF(ISERROR(+J23-K23), 0, +J23-K23) -> 0 | M23: =IF(F23=0,0,+(D23)/F23) -> 0 | O23: =IF(ISERROR(+M23+H23-N23), 0, +M23+H23-N23) -> 0
A24: 1810 | B24: Leasehold Improvements | G24: =IF(F24=0,0,1/F24) -> 0 | H24: =IF(E24=0,0,+C24/E24) -> 0 | I24: =IF(F24=0,0,+(D24*0.5)/F24) -> 0 | J24: =IF(ISERROR(+H24+I24), 0, +H24+I24) -> 0 | L24: =IF(ISERROR(+J24-K24), 0, +J24-K24) -> 0 | M24: =IF(F24=0,0,+(D24)/F24) -> 0 | O24: =IF(ISERROR(+M24+H24-N24), 0, +M24+H24-N24) -> 0
A25: 1815 | B25: Transformer Station Equipment >50 kV | G25: =IF(F25=0,0,1/F25) -> 0 | H25: =IF(E25=0,0,+C25/E25) -> 0 | I25: =IF(F25=0,0,+(D25*0.5)/F25) -> 0 | J25: =IF(ISERROR(+H25+I25), 0, +H25+I25) -> 0 | L25: =IF(ISERROR(+J25-K25), 0, +J25-K25) -> 0 | M25: =IF(F25=0,0,+(D25)/F25) -> 0 | O25: =IF(ISERROR(+M25+H25-N25), 0, +M25+H25-N25) -> 0
A26: 1820 | B26: Distribution Station Equipment <50 kV | G26: =IF(F26=0,0,1/F26) -> 0 | H26: =IF(E26=0,0,+C26/E26) -> 0 | I26: =IF(F26=0,0,+(D26*0.5)/F26) -> 0 | J26: =IF(ISERROR(+H26+I26), 0, +H26+I26) -> 0 | L26: =IF(ISERROR(+J26-K26), 0, +J26-K26) -> 0 | M26: =IF(F26=0,0,+(D26)/F26) -> 0 | O26: =IF(ISERROR(+M26+H26-N26), 0, +M26+H26-N26) -> 0
A27: 1825 | B27: Storage Battery Equipment | G27: =IF(F27=0,0,1/F27) -> 0 | H27: =IF(E27=0,0,+C27/E27) -> 0 | I27: =IF(F27=0,0,+(D27*0.5)/F27) -> 0 | J27: =IF(ISERROR(+H27+I27), 0, +H27+I27) -> 0 | L27: =IF(ISERROR(+J27-K27), 0, +J27-K27) -> 0 | M27: =IF(F27=0,0,+(D27)/F27) -> 0 | O27: =IF(ISERROR(+M27+H27-N27), 0, +M27+H27-N27) -> 0
A28: 1830 | B28: Poles, Towers & Fixtures | G28: =IF(F28=0,0,1/F28) -> 0 | H28: =IF(E28=0,0,+C28/E28) -> 0 | I28: =IF(F28=0,0,+(D28*0.5)/F28) -> 0 | J28: =IF(ISERROR(+H28+I28), 0, +H28+I28) -> 0 | L28: =IF(ISERROR(+J28-K28), 0, +J28-K28) -> 0 | M28: =IF(F28=0,0,+(D28)/F28) -> 0 | O28: =IF(ISERROR(+M28+H28-N28), 0, +M28+H28-N28) -> 0
A29: 1835 | B29: Overhead Conductors & Devices | G29: =IF(F29=0,0,1/F29) -> 0 | H29: =IF(E29=0,0,+C29/E29) -> 0 | I29: =IF(F29=0,0,+(D29*0.5)/F29) -> 0 | J29: =IF(ISERROR(+H29+I29), 0, +H29+I29) -> 0 | L29: =IF(ISERROR(+J29-K29), 0, +J29-K29) -> 0 | M29: =IF(F29=0,0,+(D29)/F29) -> 0 | O29: =IF(ISERROR(+M29+H29-N29), 0, +M29+H29-N29) -> 0
A30: 1840 | B30: Underground Conduit | G30: =IF(F30=0,0,1/F30) -> 0 | H30: =IF(E30=0,0,+C30/E30) -> 0 | I30: =IF(F30=0,0,+(D30*0.5)/F30) -> 0 | J30: =IF(ISERROR(+H30+I30), 0, +H30+I30) -> 0 | L30: =IF(ISERROR(+J30-K30), 0, +J30-K30) -> 0 | M30: =IF(F30=0,0,+(D30)/F30) -> 0 | O30: =IF(ISERROR(+M30+H30-N30), 0, +M30+H30-N30) -> 0
A31: 1845 | B31: Underground Conductors & Devices | G31: =IF(F31=0,0,1/F31) -> 0 | H31: =IF(E31=0,0,+C31/E31) -> 0 | I31: =IF(F31=0,0,+(D31*0.5)/F31) -> 0 | J31: =IF(ISERROR(+H31+I31), 0, +H31+I31) -> 0 | L31: =IF(ISERROR(+J31-K31), 0, +J31-K31) -> 0 | M31: =IF(F31=0,0,+(D31)/F31) -> 0 | O31: =IF(ISERROR(+M31+H31-N31), 0, +M31+H31-N31) -> 0
... A57: 1995 | B57: Contributions & Grants | G57: =IF(F57=0,0,1/F57) -> 0 | H57: =IF(E57=0,0,+C57/E57) -> 0 | I57: =IF(F57=0,0,+(D57*0.5)/F57) -> 0 | J57: =IF(ISERROR(+H57+I57), 0, +H57+I57) -> 0 | L57: =IF(ISERROR(+J57-K57), 0, +J57-K57) -> 0 | M57: =IF(F57=0,0,+(D57)/F57) -> 0 | O57: =IF(ISERROR(+M57+H57-N57), 0, +M57+H57-N57) -> 0
B58: Total | C58: =SUM(C20:C57) -> 0 | D58: =SUM(D20:D57) -> 0 | H58: =SUM(H20:H57) -> 0 | I58: =SUM(I20:I57) -> 0 | J58: =SUM(J20:J57) -> 0 | K58: =SUM(K20:K57) -> 0 | L58: =SUM(L20:L57) -> 0 | M58: =SUM(M20:M57) -> 0 | N58: =SUM(N20:N57) -> 0 | O58: =SUM(O20:O57) -> 0
A60: Notes:
A62: 1 | B62: Board policy of the "half-year" rule - the applicant must ensure that additions in the year attract a half-year depreciation expense in the first year. Deviations from this standard practice must be supported in the application.
A63: 2 | B63: The applicant must provide an explanation of material variances in evidence.
A64: 3 | B64: The applicant should ensure that the years for new additions of assets are the asset useful lives determined by management in accordance with the Board's regulatory accounting policies. The capitalization and depreciation expense accounting changes should be implemented consistent with the Board’s regulatory accounting policies as set out for modified IFRS as contained in the Report of the Board, Transition to International Financial Reporting Standards, EB-2008-0408, the Kinectrics Report, and the Revised 2012 Accounting Procedures Handbook for Electricity Distributors (“APH”).
A65: 4 | B65: A recalculation should be performed to determine the average remaining life of opening balance of assets (i.e. excluding current year's additions) under the change in policies under CGAAP. For example, Asset A had a useful life of 20 years under CGAAP without the change in policies. On January 1 of the year of policy changes, Asset A was 3 years depreciated. As a result, Asset A would have a remaining service life of 17 years (20 years less 3 years) as at January 1 of the year of policy changes. Due to making the change in policies under CGAAP, management re-assessed the asset useful lives and concluded that the revised useful life of Asset A is now 30 years. Therefore, the average remaining useful life of the opening balance of Asset A is determined to be 27 years (30 years less 3 years) under the revised CGAAP as at January 1 of the year of policy changes.
A66: 5 | B66: NBV must exclude assets still on the books but which have been fully amortized or depreciated.
A67: 6 | B67: This column refers to the calculated full year depreciation but excludes the depreciation expense on assets fully depreciated during the year. This column is used for the purpose of calculating depreciation expense in the following year on the next worksheet.
A69: General: | B69: Applicants must provide a breakdown of depreciation and amortization expense in the above format for all relevant accounts. Asset Retirement Obligations (AROs), depreciation and accretion expense should be disclosed separately consistent with the Notes of historical Audited Financial Statements.

Sheet App.2-CC_DepExp_Yr2
J1: File Number: | K1: =EBNUMBER -> EB-2016-0066
J2: Exhibit:
J3: Tab:
J4: Schedule:
J5: Page:
