Workbook
Name CarryingChargeyear: [1]CarryingCharges!$Q$127:$Q$133
Name CarryingChargeyear: [2]CarryingCharges!$Q$153:$Q$160
Name CarryingChargeyear: [3]CarryingCharges!$Q$112:$Q$117
Name CarryingChargeyear: [2]CarryingCharges!$Q$145:$Q$149
Name CurrentAvail: '[3]2012LostRev'!$Q$110
Name CurrentSheetRef: '[3]2012LostRev'!$R$110
Name DistRates: [1]Rates!$A$40:$L$51
Name DistRates: [3]Rates!$A$4:$H$13
Name DistRates: [2]Rates!$A$40:$L$51
Name DistRatesTable: [1]Rates!$B$7:$C$18
Name DistRatesTable: [3]Rates!$B$4:$G$15
Name DistRatesTable: [2]Rates!$B$7:$C$18
Name IncluDR3?: '[3]LRAMVA Register'!$O$95:$O$96
Name RateNames: [3]Rates!$A$4:$C$15
Name resultsyear: '[1]2011 OPA final results'!$B$4
Name resultsyear: '[3]2011 OPA final results'!$B$4
Name resultsyear: '[2]2011 OPA final results'!$B$4
Name Resultsyears: '[1]LRAMVA Register'!$O$97:$O$99
Name Resultsyears: '[2]LRAMVA Register'!$O$112:$O$114
Name Resultsyears: '[3]LRAMVA Register'!$O$88:$O$92
Name Resultsyears: '[4]LRAMVA Register'!$O$112:$O$114
Name resultyear: '[1]2015 IESO final results'!$B$4
Name resultyear: '[2]2015 IESO final results'!$B$4
Name resultyear: '[2]2015 IESO final results'!$B$2
Name resultyear: '[5]2015 IESO final results'!$B$4
Name zzz: [6]CarryingCharges!$Q$134:$Q$140

Sheet Contents Navigator
B3: Generic LRAMVA Work Forms
B5: File Name | C5: Description
B6: 1. LRAMVA Summary | C6: Table 1 provides a summary of the LRAMVA balances and carrying charges associated with the LRAMVA claim. The balances are populated from entries into other tabs throughout this work form.
B8: 2. CDM Allocation | C8: Tables 2, 3 and 4 include the CDM savings and allocation by rate class that were included in the load forecast.
B10: 3. Distribution Rates | C10: Tables 5 and 6 include a historical account of distribution rates that were used to calculate lost revenues.
B12: 4. 2011-14 LRAM | C12: Tables 7, 8, 9 and 10 includes 2011-2014 LRAMVA work forms. These should only be used if the LDC has not applied for approval of these amounts.
B14: 5. 2015 LRAM | C14: Table 11-a includes a template workform for calculating 2015 lost revenues based on legacy and new programs.
B15: 5-b. 2016 LRAM | C15: Table 11-b includes a template workform for calculating 2016 lost revenues based on legacy and new programs.
B17: 5-c. 2017 LRAM | C17: Table 11-c includes a template workform for calculating 2017 lost revenues based on legacy and new programs.
B19: 5-d. 2018 LRAM | C19: Table 11-d includes a template workform for calculating 2018 lost revenues based on legacy and new programs. | E19: Included for completeness. However, these sheets do not require filling out for 2017 cost of service applications
B21: 5-e. 2019 LRAM | C21: Table 11-e includes a template workform for calculating 2019 lost revenues based on legacy and new programs.
B23: 5-f. 2020 LRAM | C23: Table 11-f includes a template workform for calculating 2020 lost revenues based on legacy and new programs.
B25: 6. Persistence Rates | C25: Tables 12 and 13 includes the 2011-2014 persistence factors and 2015-2020 persistance factors.
B27: 7. Carrying Charges | C27: Tables 19 and 20 includes the carrying charges related to the LRAMVA claim that is being made.

Sheet Input Output Flow Chart
B3: General Note on the LRAMVA Model The LRAMVA model consolidates information that LDCs are already required to file with the OEB. The model has been created to provide LDCs with a consistent format to display CDM impacts, the CDM component of the load forecast and ultimately, any variance between actual CDM savings and the CDM component of the load forecast. The majority of the information required in the LRAMVA work form will be provided to LDCs from the IESO as part of the Final CDM Results each year.
C9: Inputs | I9: Outputs
B11: Tab 2 | C11: CDM savings allocated by rate class | F11: -----------------------> | H11: Tab 1 | I11: Forecast revenues lost
B12: Tab 4, 5 | C12: CDM savings and LRAMVA amounts by program | F12: -----------------------> | I12: Actual revenues lost
B13: Tab 7 | C13: Carrying charges by rate class | F13: -----------------------> | I13: Carrying charges
B15: Tab 4, 5 | H15: Tab 4, 6 | I15: Program LRAM amounts ($) from current and prior year savings
C16: IESO CDM Savings Results (kWh, kW saved)
C17: x
C18: CDM Savings allocated (%) by class
C19: x
C20: Average distribution rates
B23: Tab 6 | C23: Persistence rates
C24: x
B25: Tab 4, 5 | C25: Prior year kwh or kW savings

Sheet 1.  LRAMVA Summary
B3: LRAMVA Summary
B5: This is a summary sheet that contains the final LRAMVA balances with links from Tabs 2, 4, 5 and 7.
C8: File Number | D8: EB-2016-0107
C9: Exhibit | F9: Amount of LRAM claimed in the past | H9: 292767
C10: Schedule | F10: Years of LRAM Claimed | H10: 2011-2012
C11: Tab | F11: Last Cost of Service Application (File No.) | H11: ='3. Distribution Rates'!H14 -> EB-2013-0174
C12: Page
C14: Legend | D14: User Inputs (Green) | F14: Amount of LRAMVA to claim | H14: =N38 -> 561168.3
D15: Auto Populated Cells (White) | F15: Recovery Period of LRAMVA Claim | H15: 1 year
B19: Table 1. Annual and Total LRAMVA by Rate Class
B21: Description | C21: Residential | D21: GS < 50 kW | E21: GS 50 to 2,999 kW | F21: GS 50 to 2,999 kW with owned transformer | G21: GS 3,000 to 4,999 kW | H21: GS 3,000 to 4,999 kW with owned transformer | I21: Large Use | J21: Large Use with owned transformer | K21: Unmetered Scattered Load | L21: Sentinel Lighting | M21: Street Lighting | N21: Total
B22: 2011 Forecast | C22: =-'2. CDM Allocation'!C133 -> 0 | D22: =-'2. CDM Allocation'!D133 -> 0 | E22: =-'2. CDM Allocation'!E133 -> 0 | F22: =-'2. CDM Allocation'!F133 -> 0 | G22: =-'2. CDM Allocation'!G133 -> 0 | H22: =-'2. CDM Allocation'!H133 -> 0 | I22: =-'2. CDM Allocation'!I133 -> 0 | J22: =-'2. CDM Allocation'!J133 -> 0 | ... M22: =-'2. CDM Allocation'!M133 -> 0 | N22: =SUM(C22:M22) -> 0
B23: 2011 Actuals | C23: ='4. 2011-14 LRAM'!H73 -> 0 | D23: ='4. 2011-14 LRAM'!I73 -> 0 | E23: ='4. 2011-14 LRAM'!J73 -> 0 | F23: ='4. 2011-14 LRAM'!K73 -> 0 | G23: ='4. 2011-14 LRAM'!L73 -> 0 | H23: ='4. 2011-14 LRAM'!M73 -> 0 | I23: ='4. 2011-14 LRAM'!N73 -> 0 | J23: ='4. 2011-14 LRAM'!O73 -> 0 | ... M23: ='4. 2011-14 LRAM'!R73 -> 0 | N23: =SUM(C23:M23) -> 0
B24: Amount Cleared | G24: =-(G22+G23) -> 0 | H24: =-(H22+H23) -> 0 | I24: =-(I22+I23) -> 0 | J24: =-(J22+J23) -> 0 | K24: =-(K22+K23) -> 0 | L24: =-(L22+L23) -> 0 | M24: =-(M22+M23) -> 0
B25: 2012 Forecast | C25: =-'2. CDM Allocation'!C134 -> 0 | D25: =-'2. CDM Allocation'!D134 -> 0 | E25: =-'2. CDM Allocation'!E134 -> 0 | F25: =-'2. CDM Allocation'!F134 -> 0 | G25: =-'2. CDM Allocation'!G134 -> 0 | H25: =-'2. CDM Allocation'!H134 -> 0 | I25: =-'2. CDM Allocation'!I134 -> 0 | J25: =-'2. CDM Allocation'!J134 -> 0 | ... M25: =-'2. CDM Allocation'!M134 -> 0 | N25: =SUM(C25:M25) -> 0
B26: 2012 Actuals | C26: ='4. 2011-14 LRAM'!H153 -> 0 | D26: ='4. 2011-14 LRAM'!I153 -> 0 | E26: ='4. 2011-14 LRAM'!J153 -> 0 | F26: ='4. 2011-14 LRAM'!K153 -> 0 | G26: ='4. 2011-14 LRAM'!L153 -> 0 | H26: ='4. 2011-14 LRAM'!M153 -> 0 | I26: ='4. 2011-14 LRAM'!N153 -> 0 | J26: ='4. 2011-14 LRAM'!O153 -> 0 | ... M26: ='4. 2011-14 LRAM'!R153 -> 0 | N26: =SUM(C26:M26) -> 0
B27: Amount Cleared | G27: =-(G25+G26) -> 0 | H27: =-(H25+H26) -> 0 | I27: =-(I25+I26) -> 0 | J27: =-(J25+J26) -> 0 | K27: =-(K25+K26) -> 0 | L27: =-(L25+L26) -> 0 | M27: =-(M25+M26) -> 0
B28: 2013 Forecast | C28: =-'2. CDM Allocation'!C135 -> 0 | D28: =-'2. CDM Allocation'!D135 -> 0 | E28: =-'2. CDM Allocation'!E135 -> 0 | F28: =-'2. CDM Allocation'!F135 -> 0 | G28: =-'2. CDM Allocation'!G135 -> 0 | H28: =-'2. CDM Allocation'!H135 -> 0 | I28: =-'2. CDM Allocation'!I135 -> 0 | J28: =-'2. CDM Allocation'!J135 -> 0 | ... M28: =-'2. CDM Allocation'!M135 -> 0 | N28: =SUM(C28:M28) -> 0
B29: 2013 Actuals | C29: ='4. 2011-14 LRAM'!H234 -> 106609 | D29: ='4. 2011-14 LRAM'!I234 -> 79507.383 | E29: ='4. 2011-14 LRAM'!J234 -> 72916.988 | F29: ='4. 2011-14 LRAM'!K234 -> 33935.089 | G29: ='4. 2011-14 LRAM'!L234 -> 0 | H29: ='4. 2011-14 LRAM'!M234 -> 326.55546 | I29: ='4. 2011-14 LRAM'!N234 -> 0 | J29: ='4. 2011-14 LRAM'!O234 -> 2178.0048 | ... M29: ='4. 2011-14 LRAM'!R234 -> 0 | N29: =SUM(C29:M29) -> 295473.02
B30: Amount Cleared | C30: 0 | D30: 0 | E30: 0 | F30: 0 | G30: 0 | H30: 0 | I30: 0
B31: 2014 Forecast | C31: =-'2. CDM Allocation'!C136 -> -100010.62 | D31: =-'2. CDM Allocation'!D136 -> -87746.56 | E31: =-'2. CDM Allocation'!E136 -> -29507.769 | F31: =-'2. CDM Allocation'!F136 -> -25074.08 | G31: =-'2. CDM Allocation'!G136 -> 0 | H31: =-'2. CDM Allocation'!H136 -> -65.4048 | I31: =-'2. CDM Allocation'!I136 -> 0 | J31: =-'2. CDM Allocation'!J136 -> -832.41 | ... M31: =-'2. CDM Allocation'!M136 -> 0 | N31: =SUM(C31:M31) -> -243236.85
B32: 2014 Actuals | C32: ='4. 2011-14 LRAM'!H316 -> 118626.89 | D32: ='4. 2011-14 LRAM'!I316 -> 74740.531 | E32: ='4. 2011-14 LRAM'!J316 -> 46554.968 | F32: ='4. 2011-14 LRAM'!K316 -> 34296.557 | G32: ='4. 2011-14 LRAM'!L316 -> 0 | H32: ='4. 2011-14 LRAM'!M316 -> 457.76612 | I32: ='4. 2011-14 LRAM'!N316 -> 0 | J32: ='4. 2011-14 LRAM'!O316 -> 12094.008 | ... M32: ='4. 2011-14 LRAM'!R316 -> 2512.9186 | N32: =SUM(C32:M32) -> 289283.64
B33: Amount Cleared | C33: 0 | D33: 0 | E33: 0 | F33: 0 | G33: 0 | H33: 0 | I33: 0
B34: 2015 Forecast | C34: =-'2. CDM Allocation'!C137 -> -101252.99 | D34: =-'2. CDM Allocation'!D137 -> -87211.52 | E34: =-'2. CDM Allocation'!E137 -> -30135.454 | F34: =-'2. CDM Allocation'!F137 -> -25733.43 | G34: =-'2. CDM Allocation'!G137 -> 0 | H34: =-'2. CDM Allocation'!H137 -> -77.328 | I34: =-'2. CDM Allocation'!I137 -> 0 | J34: =-'2. CDM Allocation'!J137 -> -1017.72 | ... M34: =-'2. CDM Allocation'!M137 -> 0 | N34: =SUM(C34:M34) -> -245428.44
B35: 2015 Actuals | C35: ='5. 2015 LRAM'!H123 -> 197130.18 | D35: ='5. 2015 LRAM'!I123 -> 90598.718 | E35: ='5. 2015 LRAM'!J123 -> 73656.9 | F35: ='5. 2015 LRAM'!K123 -> 50643.125 | G35: ='5. 2015 LRAM'!L123 -> 0 | H35: ='5. 2015 LRAM'!M123 -> 646.43693 | I35: ='5. 2015 LRAM'!N123 -> 0 | J35: ='5. 2015 LRAM'!O123 -> 28910.722 | ... M35: ='5. 2015 LRAM'!R123 -> 3791.9459 | N35: =SUM(C35:M35) -> 445394.49
B36: Amount Cleared | C36: 0 | D36: 0 | E36: 0 | F36: 0 | G36: 0 | H36: 0 | I36: 0
B37: Carrying Charges | C37: ='7. Carrying Charges'!I118 -> 7637.7763 | D37: ='7. Carrying Charges'!J118 -> 3452.2104 | E37: ='7. Carrying Charges'!K118 -> 4931.401 | F37: ='7. Carrying Charges'!L118 -> 2430.1002 | G37: ='7. Carrying Charges'!M118 -> 0 | H37: ='7. Carrying Charges'!N118 -> 40.02132 | I37: ='7. Carrying Charges'!O118 -> 0 | J37: ='7. Carrying Charges'!P118 -> 1031.8221 | ... M37: ='7. Carrying Charges'!S118 -> 158.77871 | N37: =SUM(C37:M37) -> 19682.436
B38: Total LRAMVA Balance | C38: =SUM(C22:C37) -> 228740.24 | D38: =SUM(D22:D37) -> 73340.763 | E38: =SUM(E22:E37) -> 138417.03 | F38: =SUM(F22:F37) -> 70497.361 | G38: =SUM(G22:G37) -> 0 | H38: =SUM(H22:H37) -> 1328.047 | I38: =SUM(I22:I37) -> 0 | J38: =SUM(J22:J37) -> 42364.427 | ... N38: =SUM(N22:N37) -> 561168.3

Sheet 2.  CDM Allocation
B2: CDM Savings Target Allocation by Rate Class
B4: Instruction | C4: Please update the template as needed or replace this spreadsheet with an existing templates that estimated savings in CDM forecast.
C5: An example template is provided below and can be filled in if it is applicable to the LDC. The LDC may re-populate CDM savings by rate class for historical years based on past year's approved cost of service application, or relevant information from Appendix 2-I.
C6: Alternatively, LDCs may want to link this spreadsheet to their CDM savings allocation (e.g. appended as another tab in this workbook) to fill in Tables 2, 3 and 4 below.
B8: Legend | C8: User Inputs (Green)
C9: Auto Populated Cells (White)
B11: Table 2. Amount used for CDM Threshold for LRAMVA
B13: Forecast Year | C13: kWh | D13: kW | E13: kWh (check)
B14: 2011 | C14: 0 | D14: 0 | E14: =C14 -> 0
B15: 2012 | C15: 0 | D15: 0 | E15: =C15 -> 0
B16: 2013 | C16: 0 | D16: 0 | E16: =C16 -> 0
B17: 2014 | C17: 31633296 | D17: 19771 | E17: =C17 -> 31633296
B18: 2015 | C18: 31633296 | D18: 19771 | E18: =C18 -> 31633296
B19: 2016 | C19: 31633296 | D19: 19771 | E19: =C19 -> 31633296
B20: 2017 | C20: 31633296 | D20: 19771 | E20: =C20 -> 31633296
B22: Table 3. Allocation of CDM Savings (Energy and Demand Billed) by Rate Class in Approved Load Forecast
B24: Forecast Year | C24: ='1. LRAMVA Summary'!C21 -> Residential | D24: ='1. LRAMVA Summary'!D21 -> GS < 50 kW | E24: ='1. LRAMVA Summary'!E21 -> GS 50 to 2,999 kW | F24: ='1. LRAMVA Summary'!F21 -> GS 50 to 2,999 kW with owned transformer | G24: ='1. LRAMVA Summary'!G21 -> GS 3,000 to 4,999 kW | H24: ='1. LRAMVA Summary'!H21 -> GS 3,000 to 4,999 kW with owned transformer | I24: ='1. LRAMVA Summary'!I21 -> Large Use | J24: ='1. LRAMVA Summary'!J21 -> Large Use with owned transformer | ... M24: ='1. LRAMVA Summary'!M21 -> Street Lighting
C25: kWh | D25: kWh | E25: kW | F25: kW | G25: kW | H25: kW | I25: kW | J25: kW | K25: kWh | L25: kW | M25: kW
B26: 2011 | C26: 0 | D26: 0 | E26: 0 | F26: 0 | G26: 0 | H26: 0 | I26: 0 | J26: 0 | K26: 0 | L26: 0 | M26: 0
B27: 2012 | C27: 0 | D27: 0 | E27: 0 | F27: 0 | G27: 0 | H27: 0 | I27: 0 | J27: 0 | K27: 0 | L27: 0 | M27: 0
B28: 2013 | C28: 0 | D28: 0 | E28: 0 | F28: 0 | G28: 0 | H28: 0 | I28: 0 | J28: 0 | K28: 0 | L28: 0 | M28: 0
B29: 2014 | C29: ='2a. LRAMVA Forecast'!B8 -> 6211840 | D29: ='2a. LRAMVA Forecast'!C8 -> 5350400 | E29: ='2a. LRAMVA Forecast'!D9 -> 9396.4809 | F29: ='2a. LRAMVA Forecast'!E9 -> 9870.5191 | G29: 0 | H29: ='2a. LRAMVA Forecast'!G9 -> 54 | I29: 0 | J29: ='2a. LRAMVA Forecast'!I9 -> 450 | K29: 0 | L29: 0 | M29: 0
B30: 2015 | C30: =C29 -> 6211840 | D30: =D29 -> 5350400 | E30: =E29 -> 9396.4809 | F30: =F29 -> 9870.5191 | G30: 0 | H30: =H29 -> 54 | I30: 0 | J30: =J29 -> 450 | K30: 0 | L30: 0 | M30: 0
B31: 2016 | C31: =C30 -> 6211840 | D31: =D30 -> 5350400 | E31: =E30 -> 9396.4809 | F31: =F30 -> 9870.5191 | G31: 0 | H31: =H30 -> 54 | I31: 0 | J31: =J30 -> 450 | K31: 0 | L31: 0 | M31: 0
B32: 2017 | C32: =#REF! -> #REF! | D32: =#REF! -> #REF! | E32: =#REF! -> #REF! | F32: =#REF! -> #REF! | G32: =#REF! -> #REF! | H32: =#REF! -> #REF! | I32: =#REF! -> #REF! | J32: =#REF! -> #REF! | ... M32: =#REF! -> #REF!
B34: Tables 3A: CDM Adjustment as Approved in Cost of Service Application
D35: Note: Tables 3A are not used so have been hidden
B36: 2011 | C36: =C24 -> Residential | D36: =D24 -> GS < 50 kW | E36: =E24 -> GS 50 to 2,999 kW | F36: =F24 -> GS 50 to 2,999 kW with owned transformer | G36: =G24 -> GS 3,000 to 4,999 kW | H36: =H24 -> GS 3,000 to 4,999 kW with owned transformer | I36: =I24 -> Large Use | J36: Other | K36: =K24 -> Unmetered Scattered Load | L36: =L24 -> Sentinel Lighting | M36: Other | N36: Total
B37: kWh
B38: Weather Normal Billed kWh (Insert Year) | F38: 0 | G38: 0 | H38: GS 3,000 to 4,999 kW with owned transformer | I38: 0 | K38: Unmetered Scattered Load | L38: 0 | N38: =SUM(C38:I38) -> 0
B39: % of Billed | C39: =C38/$N$38 -> #DIV/0! | D39: =D38/$N$38 -> #DIV/0! | E39: =E38/$N$38 -> #DIV/0! | F39: =F38/$N$38 -> #DIV/0! | G39: =G38/$N$38 -> #DIV/0! | H39: =H38/$N$38 -> #VALUE! | I39: =I38/$N$38 -> #DIV/0! | K39: =K38/$N$38 -> #VALUE! | L39: =L38/$N$38 -> #DIV/0! | N39: =SUM(C39:I39) -> #DIV/0!
B40: CDM Allocation | C40: =-$C$14*C39 -> #DIV/0! | D40: =-$C$14*D39 -> #DIV/0! | E40: =-$C$14*E39 -> #DIV/0! | F40: =-$C$14*F39 -> #DIV/0! | G40: =-$C$14*G39 -> #DIV/0! | H40: =-$C$14*H39 -> #VALUE! | I40: =-$C$14*I39 -> #DIV/0! | K40: =-$C$14*K39 -> #VALUE! | L40: =-$C$14*L39 -> #DIV/0! | N40: =SUM(C40:I40) -> #DIV/0!
B41: Adjusted Billed kWh with CDM Applied | C41: =C38+C40 -> #DIV/0! | D41: =D38+D40 -> #DIV/0! | E41: =E38+E40 -> #DIV/0! | F41: =F38+F40 -> #DIV/0! | G41: =G38+G40 -> #DIV/0! | H41: =H38+H40 -> #VALUE! | I41: =I38+I40 -> #DIV/0! | K41: =K38+K40 -> #VALUE! | L41: =L38+L40 -> #DIV/0! | N41: =SUM(C41:I41) -> #DIV/0!
B42: kW
B43: Weather Normal Billed kW (Insert Year) | E43: =E38*E46 -> 0 | F43: =F38*F46 -> 0 | G43: =G38*G46 -> 0 | H43: =H38*H46 -> #VALUE! | I43: =I38*I46 -> 0 | K43: =K38*K46 -> #VALUE! | L43: =L38*L46 -> 0
B44: CDM kW Reduction | E44: =E40*E46 -> #DIV/0! | F44: =F40*F46 -> #DIV/0! | G44: =G40*G46 -> #DIV/0! | H44: =H40*H46 -> #VALUE! | I44: =I40*I46 -> #DIV/0! | K44: =K40*K46 -> #VALUE! | L44: =L40*L46 -> #DIV/0! | N44: =SUM(C44:I44) -> #DIV/0!
B45: Adjusted Billed kWh with CDM Applied | E45: =E43+E44 -> #DIV/0! | F45: =F43+F44 -> #DIV/0! | G45: =G43+G44 -> #DIV/0! | H45: =H43+H44 -> #VALUE! | I45: =I43+I44 -> #DIV/0! | K45: =K43+K44 -> #VALUE! | L45: =L43+L44 -> #DIV/0! | N45: =SUM(C45:I45) -> #DIV/0!
B46: kWh to kW Ratio
B49: 2012 | C49: =C36 -> Residential | D49: =D36 -> GS < 50 kW | E49: =E36 -> GS 50 to 2,999 kW | F49: =F36 -> GS 50 to 2,999 kW with owned transformer | G49: =G36 -> GS 3,000 to 4,999 kW | H49: =H36 -> GS 3,000 to 4,999 kW with owned transformer | I49: =I36 -> Large Use | J49: Other | K49: =K36 -> Unmetered Scattered Load | L49: =L36 -> Sentinel Lighting | M49: Other | N49: Total
B50: kWh
...

Sheet 2a. LRAMVA Forecast
A1: Forecasted impact of CDM in the load forecast
A2: Hide this row | B2: 1 | C2: 2 | D2: 3 | E2: 4 | F2: 5 | G2: 6 | H2: 7 | I2: 8 | J2: 9 | K2: 10 | L2: 11 | M2: 12
A4: Table 2a. LRAMVA Thresholds 2014
B6: Residential | C6: GS < 50 kW | D6: GS 50 to 2,999 kW | E6: GS 50 to 2,999 kW with owned transformer | F6: GS 3,000 to 4,999 kW | G6: GS 3,000 to 4,999 kW with owned transformer | H6: Large Use | I6: Large Use with owned transformer | J6: Unmetered Scattered Load | K6: Sentinel Lighting | L6: Street Lighting | M6: MicroFIT Generator | N6: Total
B7: kWh | C7: kWh | D7: kW | E7: kW | F7: kW | G7: kW | H7: kW | I7: kW | J7: kWh | K7: kW | L7: kW | M7: NA
A8: kWh | B8: =6117617+94223 -> 6211840 | C8: 5350400 | D8: 9532927.6 | E8: 10013849 | F8: 0 | G8: 62993 | H8: 0 | I8: 461286 | J8: 0 | K8: 0 | L8: 0 | M8: 0 | N8: =SUM(B8:M8) -> 31633296
A9: kW | B9: 0 | C9: 0 | D9: 9396.4809 | E9: 9870.5191 | F9: 0 | G9: 54 | H9: 0 | I9: 450 | J9: 0 | K9: 0 | L9: 0 | M9: 0 | N9: =SUM(B9:M9) -> 19771
A11: Source: | B11: Veridian Connections Inc. EB-2013-0174 Settlement Proposal Filed: March 26, 2014, Page 38 of 54 as part of the final decision and order for the Cost of Service rate case. Allocation to with and without transformer based on actual results for 2014 and 2015.

Sheet 3.  Distribution Rates
B3: Distribution Rates
B5: Instruction | C5: Please update Table 5 with the approved distribution rates for the utility's respective rate classes. The applicable rates to estimate lost revenues will autopopulate in Table 6 and be used in the LRAM Work Sheets (Tab 4 and Tab 5) for the applicable year in which LRAM is claimed.
C6: LDCs to update the rate classes as appropriate below depending on the utility's customer mix.
B7: Legend | C7: User Inputs (Green)
C8: Auto Populated Cells (White)
B12: Table 5. Distribution Volumetric Rate by Billing Period
B14: Decision & Orders for Approved Volumetric Rates: | F14: EB-2011-0199 | G14: EB-2012-0170 | H14: EB-2013-0174 | I14: EB-2014-0117 | J14: EB-2015-0106
B16: Rate Class | C16: Billing Unit | D16: May 1, 2010-April 30, 2011 | E16: May 1, 2011-April 30, 2012 | F16: May 1, 2012-April 30, 2013 | G16: May 1, 2013-April 30, 2014 | H16: May 1, 2014-April 30, 2015 | I16: May 1, 2015-April 30, 2016 | J16: May 1, 2016-April 30, 2017 | K16: May 1, 2017-April 30, 2018
B17: Rate Year | D17: 2010 | E17: 2011 | F17: 2012 | G17: 2013 | H17: 2014 | I17: 2015 | J17: 2016 | K17: 2017
B18: Pro-ratio of Rates (months) - Period 1 | D18: 4 | E18: 4 | F18: 4 | G18: 4 | H18: 4 | I18: 4 | J18: 4
B19: Pro-ratio of Rates (months) - Period 2 | D19: =12-D18 -> 8 | E19: =12-E18 -> 8 | F19: =12-F18 -> 8 | G19: =12-G18 -> 8 | H19: =12-H18 -> 8 | I19: =12-I18 -> 8 | J19: =12-J18 -> 8
B20: Residential | C20: kWh | D20: 0 | E20: 0 | F20: 0 | G20: 0 | H20: 0 | I20: 0 | J20: 0
B21: GS < 50 kW | C21: kWh | D21: 0 | E21: 0 | F21: 0 | G21: 0 | H21: 0.0162 | I21: 0.0164 | J21: 0.0167
B22: GS 50 to 2,999 kW | C22: kW | D22: 0 | E22: 0 | F22: 0 | G22: 0 | H22: 3.1796 | I22: 3.2209 | J22: 3.2789
B23: GS 50 to 2,999 kW with owned transformer | C23: kW | D23: 0 | E23: 0 | F23: 0 | G23: 0 | H23: 2.5796 | I23: 2.6209 | J23: 2.6789
B24: GS 3,000 to 4,999 kW | C24: kW | D24: 0 | E24: 0 | F24: 1.3948 | G24: 1.4045 | H24: 2.0145 | I24: 2.0407 | J24: 2.0774
B25: GS 3,000 to 4,999 kW with owned transformer | C25: kW | D25: 0 | E25: 0 | F25: 0.7948 | G25: 0.8045 | H25: 1.4145 | I25: 1.4407 | J25: 1.4774
B26: Large Use | C26: kW | D26: 0 | E26: 0 | F26: 1.6638 | G26: 1.6753 | H26: 2.837 | I26: 2.8739 | J26: 2.9256
B27: Large Use with owned transformer | C27: kW | D27: 0 | E27: 0 | F27: 1.0638 | G27: 1.0753 | H27: 2.237 | I27: 2.2739 | J27: 2.3256
B28: Unmetered Scattered Load | C28: kWh | D28: 0 | E28: 0 | F28: 0.0183 | G28: 0.0185 | H28: 0.0161 | I28: 0.0163 | J28: 0.0166
B29: Sentinel Lighting | C29: kW | D29: 0 | E29: 0 | F29: 10.8103 | G29: 10.8878 | H29: 13.0977 | I29: 13.268 | J29: 13.5068
B30: Street Lighting | C30: kW | D30: 0 | E30: 0 | F30: 3.5851 | G30: 3.6101 | H30: 3.5814 | I30: 3.628 | J30: 3.6933
B33: Table 6. Summary Table: Average Distribution Volumetric Rates by Year for LRAM Calculation
B35: Rate Class | C35: Billing Unit | E35: 2011 | F35: 2012 | G35: 2013 | H35: 2014 | I35: 2015 | J35: 2016 | K35: 2017
B36: =B20 -> Residential | C36: =C20 -> kWh | G36: ='3a. Rates-weighted averages'!I21 -> 0.0159 | H36: ='3a. Rates-weighted averages'!I38 -> 0.0161 | I36: ='3a. Rates-weighted averages'!I53 -> 0.0163 | J36: ='3a. Rates-weighted averages'!I62 -> 0.0138 | K36: =ROUND(SUM(J20*K$18+K20*K$19)/12,4) -> 0
B37: =B21 -> GS < 50 kW | C37: =C21 -> kWh | G37: ='3a. Rates-weighted averages'!I22 -> 0.0169 | H37: ='3a. Rates-weighted averages'!I39 -> 0.0164 | I37: =ROUND(SUM(H21*I$18+I21*I$19)/12,4) -> 0.0163 | J37: =ROUND(SUM(I21*J$18+J21*J$19)/12,4) -> 0.0166 | K37: =ROUND(SUM(J21*K$18+K21*K$19)/12,4) -> 0
B38: =B22 -> GS 50 to 2,999 kW | C38: =C22 -> kW | G38: ='3a. Rates-weighted averages'!I23 -> 3.0556 | H38: ='3a. Rates-weighted averages'!I40 -> 3.1403 | I38: =ROUND(SUM(H22*I$18+I22*I$19)/12,4) -> 3.2071 | J38: =ROUND(SUM(I22*J$18+J22*J$19)/12,4) -> 3.2596 | K38: =ROUND(SUM(J22*K$18+K22*K$19)/12,4) -> 0
B39: =B23 -> GS 50 to 2,999 kW with owned transformer | C39: =C23 -> kW | G39: =G38-0.6 -> 2.4556 | H39: =H38-0.6 -> 2.5403 | I39: =ROUND(SUM(H23*I$18+I23*I$19)/12,4) -> 2.6071 | J39: =ROUND(SUM(I23*J$18+J23*J$19)/12,4) -> 2.6596 | K39: =ROUND(SUM(J23*K$18+K23*K$19)/12,4) -> 0
B40: =B24 -> GS 3,000 to 4,999 kW | C40: =C24 -> kW | G40: =ROUND(SUM(F24*G$18+G24*G$19)/12,4) -> 1.4013 | H40: =ROUND(SUM(G24*H$18+H24*H$19)/12,4) -> 1.8112 | I40: =ROUND(SUM(H24*I$18+I24*I$19)/12,4) -> 2.032 | J40: =ROUND(SUM(I24*J$18+J24*J$19)/12,4) -> 2.0652 | K40: =ROUND(SUM(J24*K$18+K24*K$19)/12,4) -> 0
B41: =B25 -> GS 3,000 to 4,999 kW with owned transformer | C41: =C25 -> kW | G41: =ROUND(SUM(F25*G$18+G25*G$19)/12,4) -> 0.8013 | H41: =ROUND(SUM(G25*H$18+H25*H$19)/12,4) -> 1.2112 | I41: =ROUND(SUM(H25*I$18+I25*I$19)/12,4) -> 1.432 | J41: =ROUND(SUM(I25*J$18+J25*J$19)/12,4) -> 1.4652 | K41: =ROUND(SUM(J25*K$18+K25*K$19)/12,4) -> 0
B42: =B26 -> Large Use | C42: =C26 -> kW | G42: =ROUND(SUM(F26*G$18+G26*G$19)/12,4) -> 1.6715 | H42: =ROUND(SUM(G26*H$18+H26*H$19)/12,4) -> 2.4498 | I42: =ROUND(SUM(H26*I$18+I26*I$19)/12,4) -> 2.8616 | J42: =ROUND(SUM(I26*J$18+J26*J$19)/12,4) -> 2.9084 | K42: =ROUND(SUM(J26*K$18+K26*K$19)/12,4) -> 0
B43: =B27 -> Large Use with owned transformer | C43: =C27 -> kW | G43: =ROUND(SUM(F27*G$18+G27*G$19)/12,4) -> 1.0715 | H43: =ROUND(SUM(G27*H$18+H27*H$19)/12,4) -> 1.8498 | I43: =ROUND(SUM(H27*I$18+I27*I$19)/12,4) -> 2.2616 | J43: =ROUND(SUM(I27*J$18+J27*J$19)/12,4) -> 2.3084 | K43: =ROUND(SUM(J27*K$18+K27*K$19)/12,4) -> 0
B44: =B28 -> Unmetered Scattered Load | C44: =C28 -> kWh | G44: =ROUND(SUM(F28*G$18+G28*G$19)/12,4) -> 0.0184 | H44: =ROUND(SUM(G28*H$18+H28*H$19)/12,4) -> 0.0169 | I44: =ROUND(SUM(H28*I$18+I28*I$19)/12,4) -> 0.0162 | J44: =ROUND(SUM(I28*J$18+J28*J$19)/12,4) -> 0.0165 | K44: =ROUND(SUM(J28*K$18+K28*K$19)/12,4) -> 0
B45: =B29 -> Sentinel Lighting | C45: =C29 -> kW | G45: =ROUND(SUM(F29*G$18+G29*G$19)/12,4) -> 10.862 | H45: =ROUND(SUM(G29*H$18+H29*H$19)/12,4) -> 12.3611 | I45: =ROUND(SUM(H29*I$18+I29*I$19)/12,4) -> 13.2112 | J45: =ROUND(SUM(I29*J$18+J29*J$19)/12,4) -> 13.4272 | K45: =ROUND(SUM(J29*K$18+K29*K$19)/12,4) -> 0
B46: =B30 -> Street Lighting | C46: =C30 -> kW | G46: =ROUND(SUM(F30*G$18+G30*G$19)/12,4) -> 3.6018 | H46: =ROUND(SUM(G30*H$18+H30*H$19)/12,4) -> 3.591 | I46: =ROUND(SUM(H30*I$18+I30*I$19)/12,4) -> 3.6125 | J46: =ROUND(SUM(I30*J$18+J30*J$19)/12,4) -> 3.6715 | K46: =ROUND(SUM(J30*K$18+K30*K$19)/12,4) -> 0
B48: Notes: | C48: 2011-2012 rates removed, as 2011-2012 LRAMVA was disposed in 2014 COS rate case.
C49: Table 6a in Tab 3a shows weighted average calculations based on customer counts for equivalent rates in different rate zones and different customer types (e.g. Residential Urban, Suburban, and Seasonal) were directly calculated using rates pro-rated to the calendar year for the following rate classes: Residential, GS < 50 kW (prior to 2014 rate year), and GS 50 to 2,999 kW (prior to 2014 rate year).
C50: Prior to 2014 rate year, rates for all service areas except Gravenhurst were used for other rate classes because no Gravenhurst rate class existed (Unmetered Scattered Load), there was no CDM undertaken by customers in that rate class (Sentinel Lighting), or all CDM was undertaken by customers not in Gravenhurst (Street Lighting).
C51: Rates for the GS 50 to 2,999 kW, GS 3,000 to 4,999 kW, and Large Use rate classes were adjusted to account for the Transformer Allowance for Ownership and these adjusted rates were applied to CDM results for customers that own transformers.

Sheet 3a. Rates-weighted averages
A1: Table 6a. Average Distribution Volumetric Rates by Year Weighted by Customer Counts for LRAM Calculations
A2: 2012 | B2: Rates | G2: Customer Counts (YE) | I2: Weighted Average
A3: Veridian | B3: Jan 1st to Apr 30th | D3: May 1st to Dec 31st | E3: Calendar Year Average
A4: Residential | B4: 0.0156 | D4: =0.0157-0.0003 -> 0.0154 | E4: =((B4*4)+(D4*8))/12 -> 0.015466667 | F4: kWh | G4: 100120
A5: GS < 50 kW | B5: 0.0169 | D5: =0.017-0.0002 -> 0.0168 | E5: =((B5*4)+(D5*8))/12 -> 0.016833333 | F5: kWh | G5: 8899
A6: GS > 50 kW | B6: 3.0226 | D6: =3.0492-0.04 -> 3.0092 | E6: =((B6*4)+(D6*8))/12 -> 3.0136667 | F6: kW | G6: 1017
A7: Intermediate | B7: 1.4136 | D7: =1.426-0.0312 -> 1.3948 | E7: =((B7*4)+(D7*8))/12 -> 1.4010667 | F7: kW | G7: 3
A8: Large Use | B8: 1.6837 | D8: =1.6985-0.0347 -> 1.6638 | E8: =((B8*4)+(D8*8))/12 -> 1.6704333 | F8: kW | G8: 4
A10: Gravenhurst | B10: Jan 1st to Apr 30th | D10: May 1st to Dec 31st | E10: Calendar Year Average
A11: Residential-Urban | B11: 0.0192 | D11: =0.0194-(0.0001) -> 0.0193 | E11: =((B11*4)+(D11*8))/12 -> 0.019266667 | F11: kWh | G11: 3036
A12: Residential-Suburban | B12: 0.0226 | D12: =0.0253-(0.0001) -> 0.0252 | E12: =((B12*4)+(D12*8))/12 -> 0.024333333 | F12: kWh | G12: 782
A13: Residential-Seasonal | B13: 0.0327 | D13: =0.033-(0.0003) -> 0.0327 | E13: =((B13*4)+(D13*8))/12 -> 0.0327 | F13: kWh | G13: 1588
A14: GS < 50 kW | B14: 0.0184 | D14: =0.0168-(0.0001) -> 0.0167 | E14: =((B14*4)+(D14*8))/12 -> 0.017266667 | F14: kWh | G14: 713
A15: GS > 50 kW | B15: 3.8717 | D15: =3.8174-(0.0159) -> 3.8015 | E15: =((B15*4)+(D15*8))/12 -> 3.8249 | F15: kW | G15: 46
A17: 2012 rate year rates adjusted for Rate Rider for Tax Change
A19: 2013 | B19: Rates | G19: Customer Counts (YE) | I19: Weighted Average
A20: Veridian | B20: Jan 1st to Apr 30th | D20: May 1st to Dec 31st | E20: Calendar Year Average
A21: Residential | B21: =D4 -> 0.0154 | D21: =0.0158-(0.0003) -> 0.0155 | E21: =((B21*4)+(D21*8))/12 -> 0.015466667 | F21: kWh | G21: 101253 | I21: =ROUND((E21*G21+SUMPRODUCT(E28:E30,G28:G30))/SUM(G21,G28:G30),4) -> 0.0159
A22: GS < 50 kW | B22: =D5 -> 0.0168 | D22: =0.0171-(0.0002) -> 0.0169 | E22: =((B22*4)+(D22*8))/12 -> 0.016866667 | F22: kWh | G22: 8048 | I22: =ROUND((E22*G22+E31*G31)/SUM(G22,G31),4) -> 0.0169
A23: GS > 50 kW | B23: =D6 -> 3.0092 | D23: =3.0638-(0.0362) -> 3.0276 | E23: =((B23*4)+(D23*8))/12 -> 3.0214667 | F23: kW | G23: 1023 | I23: =ROUND((E23*G23+E32*G32)/SUM(G23,G32),4) -> 3.0556
A24: Intermediate | B24: =D7 -> 1.3948 | D24: =1.4328-(0.0283) -> 1.4045 | E24: =((B24*4)+(D24*8))/12 -> 1.4012667 | F24: kW | G24: 5
A25: Large Use | B25: =D8 -> 1.6638 | D25: =1.7067-(0.0314) -> 1.6753 | E25: =((B25*4)+(D25*8))/12 -> 1.6714667 | F25: kW | G25: 2
A27: Gravenhurst | B27: Jan 1st to Apr 30th | D27: May 1st to Dec 31st | E27: Calendar Year Average
A28: Residential-Urban | B28: =D11 -> 0.0193 | D28: =0.0195-(0.0001) -> 0.0194 | E28: =((B28*4)+(D28*8))/12 -> 0.019366667 | F28: kWh | G28: 3058
A29: Residential-Suburban | B29: =D12 -> 0.0252 | D29: =0.0254-(0.0001) -> 0.0253 | E29: =((B29*4)+(D29*8))/12 -> 0.025266667 | F29: kWh | G29: 787
A30: Residential-Seasonal | B30: =D13 -> 0.0327 | D30: =0.0332-(0.0003) -> 0.0329 | E30: =((B30*4)+(D30*8))/12 -> 0.032833333 | F30: kWh | G30: 1591
A31: GS < 50 kW | B31: =D14 -> 0.0167 | D31: =0.0169-(0.0001) -> 0.0168 | E31: =((B31*4)+(D31*8))/12 -> 0.016766667 | F31: kWh | G31: 715
A32: GS > 50 kW | B32: =D15 -> 3.8015 | D32: =3.8357-(0.0155) -> 3.8202 | E32: =((B32*4)+(D32*8))/12 -> 3.8139667 | F32: kW | G32: 46
A34: 2013 rate year rates adjusted for Rate Rider for Tax Change
A36: 2014 | B36: Rates | G36: Customer Counts (YE) | I36: Weighted Average
A37: Veridian | B37: Jan 1st to Apr 30th | D37: May 1st to Dec 31st | E37: Calendar Year Average
A38: Residential | B38: =D21 -> 0.0155 | D38: 0.0159 | E38: =((B38*4)+(D38*8))/12 -> 0.015766667 | F38: kWh | G38: 102311 | I38: =ROUND((E38*G38+SUMPRODUCT(E45:E47,G45:G47))/SUM(G38,G45:G47),4) -> 0.0161
A39: GS < 50 kW | B39: =D22 -> 0.0169 | D39: 0.0162 | E39: =((B39*4)+(D39*8))/12 -> 0.016433333 | F39: kWh | G39: 8092 | I39: =ROUND((E39*G39+E48*G48)/SUM(G39,G48),4) -> 0.0164
A40: GS > 50 kW | B40: =D23 -> 3.0276 | D40: 3.1796 | E40: =((B40*4)+(D40*8))/12 -> 3.1289333 | F40: kW | G40: 1001 | I40: =ROUND((E40*G40+E49*G49)/SUM(G40,G49),4) -> 3.1403
A41: Intermediate | B41: =D24 -> 1.4045 | D41: 2.0145 | E41: =((B41*4)+(D41*8))/12 -> 1.8111667 | F41: kW | G41: 6
A42: Large Use | B42: =D25 -> 1.6753 | D42: 2.837 | E42: =((B42*4)+(D42*8))/12 -> 2.4497667 | F42: kW | G42: 2
A44: Gravenhurst | B44: Jan 1st to Apr 30th | D44: May 1st to Dec 31st | E44: Calendar Year Average
A45: Residential-Urban | B45: =D28 -> 0.0194 | D45: =D38 -> 0.0159 | E45: =((B45*4)+(D45*8))/12 -> 0.017066667 | F45: kWh | G45: 3895
A46: Residential-Suburban | B46: =D29 -> 0.0253 | D46: =D38 -> 0.0159 | E46: =((B46*4)+(D46*8))/12 -> 0.019033333 | F46: kWh
A47: Residential-Seasonal | B47: =D30 -> 0.0329 | D47: 0.0343 | E47: =((B47*4)+(D47*8))/12 -> 0.033833333 | F47: kWh | G47: 1558
...

Sheet 4.  2011-14 LRAM
B3: 2011-2014 Lost Revenues Work Form
C5: Instruction | D5: The following LRAM work forms apply to LDCs that need to recover lost revenues from the 2011-2014 period.
D6: This workbook contains links from Tab 3 (Distribution Rates) and Tab 6 (Persistence Rates).
D7: Demand Response (DR3) Savings should generally not be included with the LRAMVA calculation, unless suported by empirical evidence
D8: Please see revised LRAM policy related to peak demand savings, issued by the OEB in EB-2016-0182.
D10: LDC to adjust the rate allocations by class (columns h to n). Please insert IESO verified savings for applicable programs (columns f to g).
D11: Adjustments will apply to the year that LRAM is claimed.
C12: Legend
D13: User Inputs (Green)
D14: Auto Populated Cells (White)
B17: Table 7. 2011 Lost Revenues Work Form
B19: # | C19: Initiative | D19: Results Status | E19: Months of Demand Savings | F19: Net Incremental Peak Demand Savings (kW) | G19: Net Incremental Energy Savings (kWh) | H19: Rate Allocation for LRAMVA
F20: 2011 kW Saved | G20: 2011 kWh Saved | H20: ='1. LRAMVA Summary'!C21 -> Residential | I20: ='1. LRAMVA Summary'!D21 -> GS < 50 kW | J20: ='1. LRAMVA Summary'!E21 -> GS 50 to 2,999 kW | K20: ='1. LRAMVA Summary'!F21 -> GS 50 to 2,999 kW with owned transformer | L20: ='1. LRAMVA Summary'!G21 -> GS 3,000 to 4,999 kW | M20: ='1. LRAMVA Summary'!H21 -> GS 3,000 to 4,999 kW with owned transformer | N20: ='1. LRAMVA Summary'!I21 -> Large Use | O20: ='1. LRAMVA Summary'!J21 -> Large Use with owned transformer | ... S20: ='1. LRAMVA Summary'!N21 -> Total
A21: 2011 | C21: Consumer Program | H21: ='2. CDM Allocation'!C25 -> kWh | I21: ='2. CDM Allocation'!D25 -> kWh | J21: ='2. CDM Allocation'!E25 -> kW | K21: ='2. CDM Allocation'!F25 -> kW | L21: ='2. CDM Allocation'!G25 -> kW | M21: ='2. CDM Allocation'!H25 -> kW | N21: ='2. CDM Allocation'!I25 -> kW | O21: ='2. CDM Allocation'!J25 -> kW | ... R21: ='2. CDM Allocation'!M25 -> kW
B22: 1 | C22: Appliance Retirement | D22: Verified | E22: 12 | F22: 52.703 | G22: 373331.18 | H22: 1 | I22: 0 | J22: 0 | K22: 0 | L22: 0 | M22: 0 | N22: 0 | O22: 0 | P22: 0 | Q22: 0 | R22: 0 | S22: =SUM(H22:R22) -> 1
B23: 2 | C23: Appliance Exchange | D23: Verified | E23: 12 | F23: 6.526 | G23: 8087.939 | H23: 1 | I23: 0 | J23: 0 | K23: 0 | L23: 0 | M23: 0 | N23: 0 | O23: 0 | P23: 0 | Q23: 0 | R23: 0 | S23: =SUM(H23:R23) -> 1
B24: 3 | C24: HVAC Incentives | D24: Verified | E24: 12 | F24: 808.909 | G24: 1507824.8 | H24: 1 | I24: 0 | J24: 0 | K24: 0 | L24: 0 | M24: 0 | N24: 0 | O24: 0 | P24: 0 | Q24: 0 | R24: 0 | S24: =SUM(H24:R24) -> 1
B25: 4 | C25: Conservation Instant Coupon Booklet | D25: Verified | E25: 12 | F25: 27.643 | G25: 447750.47 | H25: 1 | I25: 0 | J25: 0 | K25: 0 | L25: 0 | M25: 0 | N25: 0 | O25: 0 | P25: 0 | Q25: 0 | R25: 0 | S25: =SUM(H25:R25) -> 1
B26: 5 | C26: Bi-Annual Retailer Event | D26: Verified | E26: 12 | F26: 39.557 | G26: 691340.76 | H26: 1 | I26: 0 | J26: 0 | K26: 0 | L26: 0 | M26: 0 | N26: 0 | O26: 0 | P26: 0 | Q26: 0 | R26: 0 | S26: =SUM(H26:R26) -> 1
B27: 6 | C27: Retailer Co-op | D27: Verified | E27: 12 | F27: 0 | G27: 0 | H27: 1 | I27: 0 | J27: 0 | K27: 0 | L27: 0 | M27: 0 | N27: 0 | O27: 0 | P27: 0 | Q27: 0 | R27: 0 | S27: =SUM(H27:R27) -> 1
B28: 7 | C28: Residential Demand Response | D28: Verified | E28: 0 | F28: 565.6 | G28: 1464.5 | H28: 1 | I28: 0 | J28: 0 | K28: 0 | L28: 0 | M28: 0 | N28: 0 | O28: 0 | P28: 0 | Q28: 0 | R28: 0 | S28: =SUM(H28:R28) -> 1
B29: 8 | C29: Residential New Construction | D29: Verified | E29: 12 | F29: 0 | G29: 0 | H29: 1 | I29: 0 | J29: 0 | K29: 0 | L29: 0 | M29: 0 | N29: 0 | O29: 0 | P29: 0 | Q29: 0 | R29: 0 | S29: =SUM(H29:R29) -> 1
C30: Adjustments to 2011 results (if any) | D30: True-up | E30: 12 | F30: -146.864 | G30: -222421.74 | H30: 1 | I30: 0 | J30: 0 | K30: 0 | L30: 0 | M30: 0 | N30: 0 | O30: 0 | P30: 0 | Q30: 0 | R30: 0 | S30: =SUM(H30:R30) -> 1
S31: =SUM(H31:R31) -> 0
S32: =SUM(H32:R32) -> 0
C33: Business Program
B34: 9 | C34: Retrofit | D34: Verified | E34: 12 | F34: 456.757 | G34: 2463617.6 | H34: 0 | I34: 0.14059523 | J34: 0.37903226 | K34: 0.45737327 | L34: 0 | M34: 0 | N34: 0 | O34: 0.023041475 | P34: 0 | Q34: 0 | R34: 0 | S34: =SUM(H34:R34) -> 1.0000422
B35: 10 | C35: Direct Install Lighting | D35: Verified | E35: 12 | F35: 84.977 | G35: 212589.89 | H35: 0 | I35: 1 | J35: 0 | K35: 0 | L35: 0 | M35: 0 | N35: 0 | O35: 0 | P35: 0 | Q35: 0 | R35: 0 | S35: =SUM(H35:R35) -> 1
B36: 11 | C36: Building Commissioning | D36: Verified | E36: 3 | F36: 0 | G36: 0 | H36: 0 | I36: 0 | J36: 0 | K36: 0 | L36: 0 | M36: 0 | N36: 0 | O36: 0 | P36: 0 | Q36: 0 | R36: 0 | S36: =SUM(H36:R36) -> 0
B37: 12 | C37: New Construction | D37: Verified | E37: 12 | F37: 0 | G37: 0 | H37: 0 | I37: 0 | J37: 0 | K37: 0 | L37: 0 | M37: 0 | N37: 0 | O37: 0 | P37: 0 | Q37: 0 | R37: 0 | S37: =SUM(H37:R37) -> 0
B38: 13 | C38: Energy Audit | D38: Verified | E38: 12 | F38: 0 | G38: 0 | H38: 0 | I38: 1 | J38: 0 | K38: 0 | L38: 0 | M38: 0 | N38: 0 | O38: 0 | P38: 0 | Q38: 0 | R38: 0 | S38: =SUM(H38:R38) -> 1
B39: 14 | C39: Commercial Demand Response (part of residential program) | D39: Verified | E39: 0 | F39: 0 | G39: 0 | H39: 0 | I39: 0 | J39: 0 | K39: 0 | L39: 0 | M39: 0 | N39: 0 | O39: 0 | P39: 0 | Q39: 0 | R39: 0 | S39: =SUM(H39:R39) -> 0
B40: 15 | C40: Demand Response 3 | D40: Verified | E40: 0 | F40: 108.461 | G40: 4234.649 | H40: 0 | I40: 1 | J40: 0 | K40: 0 | L40: 0 | M40: 0 | N40: 0 | O40: 0 | P40: 0 | Q40: 0 | R40: 0 | S40: =SUM(H40:R40) -> 1
C41: Adjustments to 2011 results (if any) | D41: True-up | E41: 12 | F41: 17.19 | G41: 42107.561 | H41: 0 | I41: 0.67937782 | J41: 0.25943534 | K41: 0.31305724 | L41: 0 | M41: 0 | N41: 0 | O41: 0.015771145 | P41: 0 | Q41: 0 | R41: 0 | S41: =SUM(H41:R41) -> 1.2676415
S42: =SUM(H42:R42) -> 0
S43: =SUM(H43:R43) -> 0
C44: Industrial Program
B45: 16 | C45: Process & System Upgrades | D45: Verified | E45: 12 | F45: 0 | G45: 0 | H45: 0 | I45: 0 | J45: 0 | K45: 0 | L45: 0 | M45: 0 | N45: 0 | O45: 0 | P45: 0 | Q45: 0 | R45: 0 | S45: =SUM(H45:R45) -> 0
B46: 17 | C46: Monitoring & Targeting | D46: Verified | E46: 12 | F46: 0 | G46: 0 | H46: 0 | I46: 0 | J46: 0 | K46: 0 | L46: 0 | M46: 0 | N46: 0 | O46: 0 | P46: 0 | Q46: 0 | R46: 0 | S46: =SUM(H46:R46) -> 0
B47: 18 | C47: Energy Manager | D47: Verified | E47: 12 | F47: 0 | G47: 0 | H47: 0 | I47: 0 | J47: 0 | K47: 0 | L47: 0 | M47: 0 | N47: 0 | O47: 0 | P47: 0 | Q47: 0 | R47: 0 | S47: =SUM(H47:R47) -> 0
...

Sheet 5.  2015 LRAM
B2: 2015 Lost Revenues Work Form
C4: Instruction | E4: LDCs can apply for disposition of LRAMVA amounts at any time, but at a minimum, must do so as part of a Cost of Service application.
E5: Lost revenues for the period prior to rebasing should be included within the LDCs load forecast on a go forward basis, negating the need for perpetual LRAMVA claims related to persisting savings from historic programs.
E6: LDC to adjust the rate allocations by class (columns h to n). Please insert IESO verified savings for applicable programs (columns f to g).
E7: Adjustments will apply to the year that LRAM is claimed.
E8: This workbook contains links from Tab 3 (Distribution Rates) and Tab 6 (Persistence Rates).
C11: Legend | E11: User Inputs (Green)
E12: Auto Populated Cells (White)
B14: Table11-a. 2015 LRAM Work Form
B15: # | C15: Initiative | D15: Results Status | E15: Months of Demand Savings | F15: Net Incremental Peak Demand Savings (kW) | G15: Net Incremental Energy Savings (kWh) | H15: Rate Allocation for LRAMVA
F16: 2015 kW saved | G16: 2015 kWh saved | H16: ='4. 2011-14 LRAM'!H247 -> Residential | I16: ='4. 2011-14 LRAM'!I247 -> GS < 50 kW | J16: ='4. 2011-14 LRAM'!J247 -> GS 50 to 2,999 kW | K16: ='4. 2011-14 LRAM'!K247 -> GS 50 to 2,999 kW with owned transformer | L16: ='4. 2011-14 LRAM'!L247 -> GS 3,000 to 4,999 kW | M16: ='4. 2011-14 LRAM'!M247 -> GS 3,000 to 4,999 kW with owned transformer | N16: ='4. 2011-14 LRAM'!N247 -> Large Use | O16: ='4. 2011-14 LRAM'!O247 -> Large Use with owned transformer | ... R16: ='4. 2011-14 LRAM'!R247 -> Street Lighting | S16: Total
B17: 2011-2014+2015 Extension Legacy Framework Programs | H17: ='4. 2011-14 LRAM'!H21 -> kWh | I17: ='4. 2011-14 LRAM'!I21 -> kWh | J17: ='4. 2011-14 LRAM'!J21 -> kW | K17: ='4. 2011-14 LRAM'!K21 -> kW | L17: ='4. 2011-14 LRAM'!L21 -> kW | M17: ='4. 2011-14 LRAM'!M21 -> kW | N17: ='4. 2011-14 LRAM'!N21 -> kW | O17: ='4. 2011-14 LRAM'!O21 -> kW | ... R17: ='4. 2011-14 LRAM'!R21 -> kW
B18: Residential Program
B19: 1 | C19: Coupon Initiative | D19: Verified | E19: 12 | F19: 78 | G19: 1183155 | H19: 1 | I19: 0 | J19: 0 | K19: 0 | L19: 0 | M19: 0 | N19: 0 | O19: 0 | P19: 0 | Q19: 0 | R19: 0 | S19: =SUM(H19:R19) -> 1
B20: 2 | C20: Bi-Annual Retailer Event Initiative | D20: Verified | E20: 12 | F20: 141 | G20: 2088014 | H20: 1 | I20: 0 | J20: 0 | K20: 0 | L20: 0 | M20: 0 | N20: 0 | O20: 0 | P20: 0 | Q20: 0 | R20: 0 | S20: =SUM(H20:R20) -> 1
B21: 3 | C21: Appliance Retirement Initiative | D21: Verified | E21: 12 | F21: 8 | G21: 47892 | H21: 1 | I21: 0 | J21: 0 | K21: 0 | L21: 0 | M21: 0 | N21: 0 | O21: 0 | P21: 0 | Q21: 0 | R21: 0 | S21: =SUM(H21:R21) -> 1
B22: 4 | C22: HVAC Incentives Initaitive | D22: Verified | E22: 12 | F22: 946 | G22: 1808692 | H22: 1 | I22: 0 | J22: 0 | K22: 0 | L22: 0 | M22: 0 | N22: 0 | O22: 0 | P22: 0 | Q22: 0 | R22: 0 | S22: =SUM(H22:R22) -> 1
B23: 5 | C23: Residential New Construction and Major Renovation Initiative | D23: Verified | E23: 12 | F23: 2 | G23: 5803 | H23: 1 | I23: 0 | J23: 0 | K23: 0 | L23: 0 | M23: 0 | N23: 0 | O23: 0 | P23: 0 | Q23: 0 | R23: 0 | S23: =SUM(H23:R23) -> 1
B24: Adjustments to 2015 results (if any) | D24: True-up | E24: 12 | S24: =SUM(H24:R24) -> 0
B28: Commercial & Institutional Program
B29: 7 | C29: Energy Audit Initiative | D29: Verified | E29: 12 | F29: 155 | G29: 729262 | H29: 0 | I29: 0.1 | J29: 0.6 | K29: 0.3 | L29: 0 | M29: 0 | N29: 0 | O29: 0 | P29: 0 | Q29: 0 | R29: 0 | S29: =SUM(H29:R29) -> 1
B30: 8 | C30: Efficiency: Equipment Replacement Incentive Initiative | D30: Verified | E30: 12 | F30: 1208 | G30: 7428449 | H30: 0.0069272608 | I30: 0.12327267 | J30: 0.44060611 | K30: 0.36395685 | L30: 0 | M30: 0.0048372671 | N30: 0 | O30: 0.035563263 | P30: 0.00012563147 | Q30: 0 | R30: 0 | S30: =SUM(H30:R30) -> 0.97528905
B31: 9 | C31: Direct Install Lighting and Water Heating Initiative | D31: Verified | E31: 12 | F31: 425 | G31: 1859906 | H31: 0 | I31: 0 | J31: 0 | K31: 0 | L31: 0 | M31: 0 | N31: 0 | O31: 0 | P31: 0 | Q31: 0 | R31: 0 | S31: =SUM(H31:R31) -> 0
B32: 10 | C32: New Construction and Major Renovation Initiative | D32: Verified | E32: 12 | F32: 0 | G32: 0 | H32: 0 | I32: 0 | J32: 0 | K32: 0 | L32: 0 | M32: 0 | N32: 0 | O32: 0 | P32: 0 | Q32: 0 | R32: 0 | S32: =SUM(H32:R32) -> 0
B33: 11 | C33: Existing Building Commissioning Incentive Initiative | D33: Verified | E33: 3 | F33: 0 | G33: 0 | H33: 0 | I33: 0 | J33: 0 | K33: 0 | L33: 0 | M33: 0 | N33: 0 | O33: 0 | P33: 0 | Q33: 0 | R33: 0 | S33: =SUM(H33:R33) -> 0
B34: Adjustments to 2015 results (if any) | D34: True-up | E34: 12 | S34: =SUM(H34:R34) -> 0
B38: Industrial Program
B39: 12 | C39: Process and Systems Upgrades Initiatives - Project Incentive Initiative | D39: Verified | E39: 12 | F39: 0 | G39: 0 | H39: 0 | I39: 0 | J39: 0 | K39: 0 | L39: 0 | M39: 0 | N39: 0 | O39: 0 | P39: 0 | Q39: 0 | R39: 0 | S39: =SUM(H39:R39) -> 0
B40: 13 | C40: Process and Systems Upgrades Initiatives - Monitoring and Targeting Initiative | D40: Verified | E40: 12 | F40: 0 | G40: 0 | H40: 0 | I40: 0 | J40: 0 | K40: 0 | L40: 0 | M40: 0 | N40: 0 | O40: 0 | P40: 0 | Q40: 0 | R40: 0 | S40: =SUM(H40:R40) -> 0
B41: 14 | C41: Process and Systems Upgrades Initiatives - Energy Manager Initiative | D41: Verified | E41: 12 | F41: 776 | G41: 4305014 | H41: 0 | I41: 0 | J41: 0.029139261 | K41: 0.0054850889 | L41: 0 | M41: 0 | N41: 0 | O41: 0.96537565 | P41: 0 | Q41: 0 | R41: 0 | S41: =SUM(H41:R41) -> 1
B42: Adjustments to 2015 results (if any) | D42: True-up | E42: 12 | S42: =SUM(H42:R42) -> 0
B46: Low Income Program
B47: 15 | C47: Low Income Initiative | D47: Verified | E47: 12 | F47: 23 | G47: 291475 | H47: 0 | I47: 0 | J47: 0 | K47: 0 | L47: 0 | M47: 0 | N47: 0 | O47: 0 | P47: 0 | Q47: 0 | R47: 0 | S47: =SUM(H47:R47) -> 0
B48: Adjustments to 2015 results (if any) | D48: True-up | E48: 12 | S48: =SUM(H48:R48) -> 0
S49: =SUM(H49:O49) -> 0
S51: =SUM(H51:O51) -> 0
B52: Pilots
B53: 16 | C53: Loblaws Pilot | D53: Verified | E53: 12 | F53: 0 | G53: 0 | H53: 0 | I53: 0 | J53: 0 | K53: 0 | L53: 0 | M53: 0 | N53: 0 | O53: 0 | P53: 0 | Q53: 0 | R53: 0 | S53: =SUM(H53:R53) -> 0
B54: 17 | C54: Social Benchmarking Pliot | D54: Verified | E54: 12 | F54: 0 | G54: 0 | H54: 0 | I54: 0 | J54: 0 | K54: 0 | L54: 0 | M54: 0 | N54: 0 | O54: 0 | P54: 0 | Q54: 0 | R54: 0 | S54: =SUM(H54:R54) -> 0
B55: 18 | C55: Conservation Fund Pilot - SEG | D55: Verified | E55: 12 | F55: 0 | G55: 0 | H55: 0 | I55: 0 | J55: 0 | K55: 0 | L55: 0 | M55: 0 | N55: 0 | O55: 0 | P55: 0 | Q55: 0 | R55: 0 | S55: =SUM(H55:R55) -> 0
...

Sheet 5-b. 2016 LRAM
B2: 2016 Lost Revenues Work Form
C4: Instruction | E4: LDCs are only eligible to apply for lost revenues until they have rebased. Lost revenues for the period prior to rebasing should be included within the LDCs load forecast on a go forward basis.
E5: LDC to adjust the rate allocations by class (columns h to n). Please insert IESO verified savings for applicable programs (columns f to g).
E6: Adjustments will apply to the year that LRAM is claimed.
E7: This workbook contains links from Tab 3 (Distribution Rates) and Tab 5 (Persistence Rates).
C9: Legend | E9: User Inputs (Green)
E10: Auto Populated Cells (White)
B12: Table1-b. 2016 LRAM Work Form
B13: # | C13: Initiative | D13: Results Status | E13: Months of Demand Savings | F13: Net Incremental Energy Savings (kWh) | G13: Net Incremental Peak Demand Savings (kW) | H13: Rate Allocation for LRAMVA
F14: 2015 kWh saved | G14: 2015 kW saved | H14: Residential | I14: General Service <50 kW | J14: General Service 50 - 999 kW | K14: General Service 1,000 - 4,999 kW | L14: Sentinel Lighting | M14: Street Lighting | N14: Unmetered Scattered Load | O14: Other | P14: Total
B15: 2011-2014+2015 Extension Legacy Framework Programs
B16: Residential Program
B17: 1 | C17: Coupon Initiative | D17: Verified | H17: 1 | P17: =SUM(H17:O17) -> 1
B18: 2 | C18: Bi-Annual Retailer Event Initiative | D18: Verified | H18: 1 | P18: =SUM(H18:O18) -> 1
B19: 3 | C19: Appliance Retirement Initiative | D19: Verified | H19: 1 | P19: =SUM(H19:O19) -> 1
B20: 4 | C20: Appliance Exchange Initiative | D20: Verified | H20: 1 | P20: =SUM(H20:O20) -> 1
B21: 5 | C21: HVAC Incentives Initaitive | D21: Verified | H21: 1 | P21: =SUM(H21:O21) -> 1
B22: 6 | C22: Residential New Construction and Major Renovation Initiative | D22: Verified | H22: 1 | P22: =SUM(H22:O22) -> 1
B23: Adjustments to 2016 results (if any) | D23: True-up | P23: =SUM(H23:O23) -> 0
P24: =SUM(H24:O24) -> 0
P25: =SUM(H25:O25) -> 0
P26: =SUM(H26:O26) -> 0
B27: Commercial & Institutional Program
B28: 7 | C28: Energy Audit Initiative | D28: Verified | E28: 12 | G28: 50 | I28: 0.2 | J28: 0.5 | K28: 0.3 | P28: =SUM(H28:O28) -> 1
B29: 8 | C29: Efficiency: Equipment Replacement Incentive Initiative | D29: Verified | E29: 12 | I29: 0.8 | J29: 0.2 | P29: =SUM(H29:O29) -> 1
B30: 9 | C30: Direct Install Lighting and Water Heating Initiative | D30: Verified | E30: 12 | I30: 0.5 | J30: 0.5 | P30: =SUM(H30:O30) -> 1
B31: 10 | C31: New Construction and Major Renovation Initiative | D31: Verified | E31: 12 | I31: 1 | P31: =SUM(H31:O31) -> 1
B32: 11 | C32: Existing Building Commissioning Incentive Initiative | D32: Verified | E32: 3 | J32: 0.9 | K32: 0.1 | P32: =SUM(H32:O32) -> 1
B33: Adjustments to 2016 results (if any) | D33: True-up | P33: =SUM(H33:O33) -> 0
P34: =SUM(H34:O34) -> 0
P35: =SUM(H35:O35) -> 0
P36: =SUM(H36:O36) -> 0
B37: Industrial Program
B38: 12 | C38: Process and Systems Upgrades Initiatives - Project Incentive Initiative | D38: Verified | E38: 12 | J38: 1 | P38: =SUM(H38:O38) -> 1
B39: 13 | C39: Process and Systems Upgrades Initiatives - Monitoring and Targeting Initiative | D39: Verified | E39: 12 | J39: 1 | P39: =SUM(H39:O39) -> 1
B40: 14 | C40: Process and Systems Upgrades Initiatives - Energy Manager Initiative | D40: Verified | E40: 12 | J40: 1 | P40: =SUM(H40:O40) -> 1
B41: Adjustments to 2016 results (if any) | D41: True-up | P41: =SUM(H41:O41) -> 0
P42: =SUM(H42:O42) -> 0
P43: =SUM(H43:O43) -> 0
P44: =SUM(H44:O44) -> 0
...

Sheet 5-c.  2017 LRAM
B2: 2017 Lost Revenues Work Form
C4: Instruction | E4: LDCs are only eligible to apply for lost revenues until they have rebased. Lost revenues for the period prior to rebasing should be included within the LDCs load forecast on a go forward basis.
E5: LDC to adjust the rate allocations by class (columns h to n). Please insert IESO verified savings for applicable programs (columns f to g).
E6: Adjustments will apply to the year that LRAM is claimed.
E7: This workbook contains links from Tab 3 (Distribution Rates) and Tab 5 (Persistence Rates).
C9: Legend | E9: User Inputs (Green)
E10: Auto Populated Cells (White)
B12: Table 11-c. 2017 LRAM Work Form
B13: # | C13: Initiative | D13: Results Status | E13: Months of Demand Savings | F13: Net Incremental Energy Savings (kWh) | G13: Net Incremental Peak Demand Savings (kW) | H13: Rate Allocation for LRAMVA
F14: 2015 kWh saved | G14: 2015 kW saved | H14: Residential | I14: General Service <50 kW | J14: General Service 50 - 999 kW | K14: General Service 1,000 - 4,999 kW | L14: Sentinel Lighting | M14: Street Lighting | N14: Unmetered Scattered Load | O14: Other | P14: Total
B15: 2011-2014+2015 Extension Legacy Framework Programs
B16: Residential Program
B17: 1 | C17: Coupon Initiative | D17: Verified | H17: 1 | P17: =SUM(H17:O17) -> 1
B18: 2 | C18: Bi-Annual Retailer Event Initiative | D18: Verified | H18: 1 | P18: =SUM(H18:O18) -> 1
B19: 3 | C19: Appliance Retirement Initiative | D19: Verified | H19: 1 | P19: =SUM(H19:O19) -> 1
B20: 4 | C20: Appliance Exchange Initiative | D20: Verified | H20: 1 | P20: =SUM(H20:O20) -> 1
B21: 5 | C21: HVAC Incentives Initaitive | D21: Verified | H21: 1 | P21: =SUM(H21:O21) -> 1
B22: 6 | C22: Residential New Construction and Major Renovation Initiative | D22: Verified | H22: 1 | P22: =SUM(H22:O22) -> 1
B23: Adjustments to 2017 results (if any) | D23: True-up | P23: =SUM(H23:O23) -> 0
P24: =SUM(H24:O24) -> 0
P25: =SUM(H25:O25) -> 0
P26: =SUM(H26:O26) -> 0
B27: Commercial & Institutional Program
B28: 7 | C28: Energy Audit Initiative | D28: Verified | E28: 12 | G28: 50 | I28: 0.2 | J28: 0.5 | K28: 0.3 | P28: =SUM(H28:O28) -> 1
B29: 8 | C29: Efficiency: Equipment Replacement Incentive Initiative | D29: Verified | E29: 12 | I29: 0.8 | J29: 0.2 | P29: =SUM(H29:O29) -> 1
B30: 9 | C30: Direct Install Lighting and Water Heating Initiative | D30: Verified | E30: 12 | I30: 0.5 | J30: 0.5 | P30: =SUM(H30:O30) -> 1
B31: 10 | C31: New Construction and Major Renovation Initiative | D31: Verified | E31: 12 | I31: 1 | P31: =SUM(H31:O31) -> 1
B32: 11 | C32: Existing Building Commissioning Incentive Initiative | D32: Verified | E32: 3 | J32: 1 | P32: =SUM(H32:O32) -> 1
B33: Adjustments to 2017 results (if any) | D33: True-up | P33: =SUM(H33:O33) -> 0
P34: =SUM(H34:O34) -> 0
P35: =SUM(H35:O35) -> 0
P36: =SUM(H36:O36) -> 0
B37: Industrial Program
B38: Industrial Program | P38: =SUM(H38:O38) -> 0
B39: 12 | C39: Process and Systems Upgrades Initiatives - Project Incentive Initiative | D39: Verified | E39: 12 | J39: 1 | P39: =SUM(H39:O39) -> 1
B40: 13 | C40: Process and Systems Upgrades Initiatives - Monitoring and Targeting Initiative | D40: Verified | E40: 12 | J40: 1 | P40: =SUM(H40:O40) -> 1
B41: 14 | C41: Process and Systems Upgrades Initiatives - Energy Manager Initiative | D41: Verified | E41: 12 | J41: 1 | P41: =SUM(H41:O41) -> 1
B42: Adjustments to 2017 results (if any) | D42: True-up | P42: =SUM(H42:O42) -> 0
P43: =SUM(H43:O43) -> 0
P44: =SUM(H44:O44) -> 0
...

Sheet 5-d.  2018 LRAM
B2: 2018 Lost Revenues Work Form
C4: Instruction | E4: LDCs are only eligible to apply for lost revenues until they have rebased. Lost revenues for the period prior to rebasing should be included within the LDCs load forecast on a go forward basis.
E5: LDC to adjust the rate allocations by class (columns h to n). Please insert IESO verified savings for applicable programs (columns f to g).
E6: Adjustments will apply to the year that LRAM is claimed.
E7: This workbook contains links from Tab 3 (Distribution Rates) and Tab 5 (Persistence Rates).
C9: Legend | E9: User Inputs (Green)
E10: Auto Populated Cells (White)
B12: Table 11-d. 2018 LRAM Work Form
B13: # | C13: Initiative | D13: Results Status | E13: Months of Demand Savings | F13: Net Incremental Energy Savings (kWh) | G13: Net Incremental Peak Demand Savings (kW) | H13: Rate Allocation for LRAMVA
F14: 2015 kWh saved | G14: 2015 kW saved | H14: Residential | I14: General Service <50 kW | J14: General Service 50 - 999 kW | K14: General Service 1,000 - 4,999 kW | L14: Sentinel Lighting | M14: Street Lighting | N14: Unmetered Scattered Load | O14: Other | P14: Total
B15: 2011-2014+2015 Extension Legacy Framework Programs
B16: Residential Program
B17: 1 | C17: Coupon Initiative | D17: Verified | H17: 1 | P17: =SUM(H17:O17) -> 1
B18: 2 | C18: Bi-Annual Retailer Event Initiative | D18: Verified | H18: 1 | P18: =SUM(H18:O18) -> 1
B19: 3 | C19: Appliance Retirement Initiative | D19: Verified | H19: 1 | P19: =SUM(H19:O19) -> 1
B20: 4 | C20: Appliance Exchange Initiative | D20: Verified | H20: 1 | P20: =SUM(H20:O20) -> 1
B21: 5 | C21: HVAC Incentives Initaitive | D21: Verified | H21: 1 | P21: =SUM(H21:O21) -> 1
B22: 6 | C22: Residential New Construction and Major Renovation Initiative | D22: Verified | H22: 1 | P22: =SUM(H22:O22) -> 1
B23: Adjustments to 2018 results (if any) | D23: True-up | P23: =SUM(H23:O23) -> 0
P24: =SUM(H24:O24) -> 0
P25: =SUM(H25:O25) -> 0
P26: =SUM(H26:O26) -> 0
B27: Commercial & Institutional Program
B28: 7 | C28: Energy Audit Initiative | D28: Verified | E28: 12 | I28: 0.2 | J28: 0.5 | K28: 0.3 | P28: =SUM(H28:O28) -> 1
B29: 8 | C29: Efficiency: Equipment Replacement Incentive Initiative | D29: Verified | E29: 12 | I29: 0.8 | J29: 0.2 | P29: =SUM(H29:O29) -> 1
B30: 9 | C30: Direct Install Lighting and Water Heating Initiative | D30: Verified | E30: 12 | I30: 0.5 | J30: 0.5 | P30: =SUM(H30:O30) -> 1
B31: 10 | C31: New Construction and Major Renovation Initiative | D31: Verified | E31: 12 | I31: 1 | P31: =SUM(H31:O31) -> 1
B32: 11 | C32: Existing Building Commissioning Incentive Initiative | D32: Verified | E32: 3 | J32: 1 | P32: =SUM(H32:O32) -> 1
B33: Adjustments to 2018 results (if any) | D33: True-up | P33: =SUM(H33:O33) -> 0
P34: =SUM(H34:O34) -> 0
P35: =SUM(H35:O35) -> 0
P36: =SUM(H36:O36) -> 0
B37: Industrial Program
B38: 12 | C38: Process and Systems Upgrades Initiatives - Project Incentive Initiative | D38: Verified | E38: 12 | J38: 1 | P38: =SUM(H38:O38) -> 1
B39: 13 | C39: Process and Systems Upgrades Initiatives - Monitoring and Targeting Initiative | D39: Verified | E39: 12 | J39: 1 | P39: =SUM(H39:O39) -> 1
B40: 14 | C40: Process and Systems Upgrades Initiatives - Energy Manager Initiative | D40: Verified | E40: 12 | J40: 1 | P40: =SUM(H40:O40) -> 1
B41: Adjustments to 2018 results (if any) | D41: True-up | P41: =SUM(H41:O41) -> 0
P42: =SUM(H42:O42) -> 0
P43: =SUM(H43:O43) -> 0
P44: =SUM(H44:O44) -> 0
...

Sheet 5-e.  2019 LRAM
B2: 2019 Lost Revenues Work Form
C4: Instruction | E4: LDCs are only eligible to apply for lost revenues until they have rebased. Lost revenues for the period prior to rebasing should be included within the LDCs load forecast on a go forward basis.
E5: LDC to adjust the rate allocations by class (columns h to n). Please insert IESO verified savings for applicable programs (columns f to g).
E6: Adjustments will apply to the year that LRAM is claimed.
E7: This workbook contains links from Tab 3 (Distribution Rates) and Tab 5 (Persistence Rates).
C9: Legend | E9: User Inputs (Green)
E10: Auto Populated Cells (White)
B12: Table 11-e. 2018 LRAM Work Form
B13: # | C13: Initiative | D13: Results Status | E13: Months of Demand Savings | F13: Net Incremental Energy Savings (kWh) | G13: Net Incremental Peak Demand Savings (kW) | H13: Rate Allocation for LRAMVA
F14: 2015 kWh saved | G14: 2015 kW saved | H14: Residential | I14: General Service <50 kW | J14: General Service 50 - 999 kW | K14: General Service 1,000 - 4,999 kW | L14: Sentinel Lighting | M14: Street Lighting | N14: Unmetered Scattered Load | O14: Other | P14: Total
B15: 2011-2014+2015 Extension Legacy Framework Programs
B16: Residential Program
B17: 1 | C17: Coupon Initiative | D17: Verified | H17: 1 | P17: =SUM(H17:O17) -> 1
B18: 2 | C18: Bi-Annual Retailer Event Initiative | D18: Verified | H18: 1 | P18: =SUM(H18:O18) -> 1
B19: 3 | C19: Appliance Retirement Initiative | D19: Verified | H19: 1 | P19: =SUM(H19:O19) -> 1
B20: 4 | C20: Appliance Exchange Initiative | D20: Verified | H20: 1 | P20: =SUM(H20:O20) -> 1
B21: 5 | C21: HVAC Incentives Initaitive | D21: Verified | H21: 1 | P21: =SUM(H21:O21) -> 1
B22: 6 | C22: Residential New Construction and Major Renovation Initiative | D22: Verified | H22: 1 | P22: =SUM(H22:O22) -> 1
B23: Adjustments to 2019 results (if any) | D23: True-up | P23: =SUM(H23:O23) -> 0
P24: =SUM(H24:O24) -> 0
P25: =SUM(H25:O25) -> 0
P26: =SUM(H26:O26) -> 0
B27: Commercial & Institutional Program
B28: 7 | C28: Energy Audit Initiative | D28: Verified | E28: 12 | I28: 0.2 | J28: 0.5 | K28: 0.3 | P28: =SUM(H28:O28) -> 1
B29: 8 | C29: Efficiency: Equipment Replacement Incentive Initiative | D29: Verified | E29: 12 | I29: 0.8 | J29: 0.2 | P29: =SUM(H29:O29) -> 1
B30: 9 | C30: Direct Install Lighting and Water Heating Initiative | D30: Verified | E30: 12 | I30: 0.5 | J30: 0.5 | P30: =SUM(H30:O30) -> 1
B31: 10 | C31: New Construction and Major Renovation Initiative | D31: Verified | E31: 12 | I31: 1 | P31: =SUM(H31:O31) -> 1
B32: 11 | C32: Existing Building Commissioning Incentive Initiative | D32: Verified | E32: 3 | J32: 1 | P32: =SUM(H32:O32) -> 1
B33: Adjustments to 2019 results (if any) | D33: True-up | P33: =SUM(H33:O33) -> 0
P34: =SUM(H34:O34) -> 0
P35: =SUM(H35:O35) -> 0
P36: =SUM(H36:O36) -> 0
B37: Industrial Program
B38: 12 | C38: Process and Systems Upgrades Initiatives - Project Incentive Initiative | D38: Verified | E38: 12 | J38: 1 | P38: =SUM(H38:O38) -> 1
B39: 13 | C39: Process and Systems Upgrades Initiatives - Monitoring and Targeting Initiative | D39: Verified | E39: 12 | J39: 1 | P39: =SUM(H39:O39) -> 1
B40: 14 | C40: Process and Systems Upgrades Initiatives - Energy Manager Initiative | D40: Verified | E40: 12 | J40: 1 | P40: =SUM(H40:O40) -> 1
B41: Adjustments to 2019 results (if any) | D41: True-up | P41: =SUM(H41:O41) -> 0
P42: =SUM(H42:O42) -> 0
P43: =SUM(H43:O43) -> 0
P44: =SUM(H44:O44) -> 0
...

Sheet 5-f.  2020 LRAM
B2: 2020 Lost Revenues Work Form
C4: Instruction | E4: LDCs are only eligible to apply for lost revenues until they have rebased. Lost revenues for the period prior to rebasing should be included within the LDCs load forecast on a go forward basis.
E5: LDC to adjust the rate allocations by class (columns h to n). Please insert IESO verified savings for applicable programs (columns f to g).
E6: Adjustments will apply to the year that LRAM is claimed.
E7: This workbook contains links from Tab 3 (Distribution Rates) and Tab 5 (Persistence Rates).
C9: Legend | E9: User Inputs (Green)
E10: Auto Populated Cells (White)
B12: Table 11-f. 2018 LRAM Work Form
B13: # | C13: Initiative | D13: Results Status | E13: Months of Demand Savings | F13: Net Incremental Energy Savings (kWh) | G13: Net Incremental Peak Demand Savings (kW) | H13: Rate Allocation for LRAMVA
F14: 2015 kWh saved | G14: 2015 kW saved | H14: Residential | I14: General Service <50 kW | J14: General Service 50 - 999 kW | K14: General Service 1,000 - 4,999 kW | L14: Sentinel Lighting | M14: Street Lighting | N14: Unmetered Scattered Load | O14: Other | P14: Total
B15: 2011-2014+2015 Extension Legacy Framework Programs
B16: Residential Program
B17: 1 | C17: Coupon Initiative | D17: Verified | H17: 1 | P17: =SUM(H17:O17) -> 1
B18: 2 | C18: Bi-Annual Retailer Event Initiative | D18: Verified | H18: 1 | P18: =SUM(H18:O18) -> 1
B19: 3 | C19: Appliance Retirement Initiative | D19: Verified | H19: 1 | P19: =SUM(H19:O19) -> 1
B20: 4 | C20: Appliance Exchange Initiative | D20: Verified | H20: 1 | P20: =SUM(H20:O20) -> 1
B21: 5 | C21: HVAC Incentives Initaitive | D21: Verified | H21: 1 | P21: =SUM(H21:O21) -> 1
B22: 6 | C22: Residential New Construction and Major Renovation Initiative | D22: Verified | H22: 1 | P22: =SUM(H22:O22) -> 1
B23: Adjustments to 2020 results (if any) | D23: True-up | P23: =SUM(H23:O23) -> 0
P24: =SUM(H24:O24) -> 0
P25: =SUM(H25:O25) -> 0
P26: =SUM(H26:O26) -> 0
B27: Commercial & Institutional Program
