Workbook
Name Table_1_b.__Annual_LRAMVA_Breakdown_by_Year_and_Rate_Class: '1. LRAMVA Summary'!$B$44
Name Table_3.__Inputs_for_Distribution_Rates_and_Adjustments_by_Rate_Class: '3. Distribution Rates'!$B$11
Name Table_3_a.__Distribution_Rates_by_Rate_Class: '3. Distribution Rates'!$B$119
Name Table_4_a.__2011_Lost_Revenues_Work_Form: '4. 2011-2014 LRAM'!$B$18
Name Table_4_b.__2012_Lost_Revenues_Work_Form: '4. 2011-2014 LRAM'!$B$146
Name Table_4_c.__2013_Lost_Revenues_Work_Form: '4. 2011-2014 LRAM'!$B$275
Name Table_4_d.__2014_Lost_Revenues_Work_Form: '4. 2011-2014 LRAM'!$B$404
Name Table_5_a.__2015_Lost_Revenues_Work_Form: '5. 2015-2020 LRAM'!$B$33
Name Table_5_b.__2016_Lost_Revenues_Work_Form: '5. 2015-2020 LRAM'!$B$216
Name Table_5_c.__2017_Lost_Revenues_Work_Form: '5. 2015-2020 LRAM'!$B$399
Name Table_5_d.__2018_Lost_Revenues_Work_Form: '5. 2015-2020 LRAM'!$B$582
Name Table_5_e.__2019_Lost_Revenues_Work_Form: '5. 2015-2020 LRAM'!$B$765
Name Table_5_f.__2020_Lost_Revenues_Work_Form: '5. 2015-2020 LRAM'!$B$948
Name Targets: '[1]LDC Targets'!$A$3:$D$83

Sheet Contents
B3: Generic LRAMVA Work Forms
B5: Worksheet Name | C5: Description
B6: 1. LRAMVA Summary | C6: Tables 1-a and 1-b provide a summary of the LRAMVA balances and carrying charges associated with the LRAMVA disposition. The balances are populated from entries into other tabs throughout this work form.
B7: 1-a. Summary of Changes | C7: Tables A-1 and A-2 include a template for LDCs to summarize changes to the LRAMVA work form.
B8: 2. LRAMVA Threshold | C8: Tables 2-a, 2-b and 2-c include the LRAMVA thresholds and allocations by rate class.
B9: 3. Distribution Rates | C9: Tables 3-a and 3-b include the distribution rates that are used to calculate lost revenues.
B10: 3-a. Rate Class Allocations | C10: A blank spreadsheet is provided to allow LDCs to populate distributor specific rate class percentages to allocate actual CDM savings to different customer classes.
B11: 4. 2011-2014 LRAM | C11: Tables 4-a, 4-b, 4-c and 4-d include the template 2011-2014 LRAMVA work forms.
B12: 5. 2015-2020 LRAM | C12: Tables 5-a, 5-b, 5-c and 5-d include the template 2015-2020 LRAMVA work forms.
B13: 6. Carrying Charges | C13: Table 6-b includes the variance on carrying charges related to the LRAMVA disposition.
B15: 7. Persistence Report | C15: A blank spreadsheet is provided to allow LDCs to populate with CDM savings persistence data provided by the IESO.
B17: 8. Streetlighting | C17: A blank spreadsheet is provided to allow LDCs to populate data on streetlighting projects whose savings were not provided by the IESO in the CDM Final Results Report (i.e., streetlighting projects).

Sheet Instructions
B16: Tab | C16: Instructions
B17: LRAMVA Checklist/Schematic Tab | C17: The LRAMVA work form was created in a generic manner for use by all LDCs. There are some elements that are not applicable at this time (i.e., 2017, 2018, 2019 and 2020 related components) but have been included in an effort to avoid major updates in the future. Distributors should follow the checklist, which is referenced in this tab of the work form and listed below:
C19: o Highlight changes to this work form made by the LDC, if any, and provide rationale for the change in Tab 1-a.
C21: o Include any necessary assumptions the LDC has to make in its LRAMVA work form in the "Notes" section of the work form.
C23: o Provide documentation on the LRAMVA threshold by providing the reference and source material from the LDC’s cost of service proceeding where its most recent load forecast was approved.
C25: o Include a copy of initiative-level persistence savings information that was verified by the IESO. Persistence information is available upon request from the IESO.
C27: o Apply the IESO verified savings adjustments to the year it relates to. For example, savings adjustments to 2015 programs will be provided to LDCs with the 2016 Final Results Report. The 2015 savings adjustments should be included in the 2015 verified savings portion of the work form.
C29: o Provide documentation or data substantiating savings from projects that were not provided in the IESO's verified results reports, inserted in Tab 8 (i.e., streetlighting projects), as applicable.
C31: o Provide documentation or analysis on how rate class allocations were determined by customer class and program each year, inserted in Tab 3-a.
B33: Tab 1. LRAMVA Summary | C33: Distributors are required to report any past approved LRAMVA amounts along with the current LRAMVA amount requested for approval. There are separate tables indicating new lost revenues and carrying charges amounts by year and the totals for rate rider calculations.
B35: Tab 1-a. Summary of Changes | C35: Distributors should list all significant changes and changes in assumptions in the generic work form affecting the LRAMVA.
B37: Tab 2. LRAMVA Threshold | C37: Distributors should use the tables to display the LRAMVA threshold amounts as approved at a rate class level. This should be taken from the LDC’s most recently approved cost of service application.
B39: Tab 3. Distribution Rates | C39: Distributors should complete the tables with rate class specific distribution rates and adjustments as applicable.
B41: Tab 3-a. Rate Class Allocations | C41: A tab is provided to allow LDCs to include documentation or analysis on how rate class allocations for actual CDM savings were determined by customer class and program each year. The rate class allocations would support the LRAMVA rate class allocation figures used in Tabs 4 and 5.
B43: Tabs 4 and 5 (2011-2020) | C43: Distributors should complete the lost revenue calculation for 2011-2014 program years and 2015-2020 program years, as applicable, by undertaking the following:
C45: o Input or manually link the savings, adjustments and program savings persistence data from Tab 7 (Persistence Report) to Tabs 4 and 5. As noted earlier, persistence data is available upon request from the IESO.
C47: o Ensure that the IESO verified savings adjustments apply to the program year it relates to. For example, savings adjustments related to 2012 programs that were reported by the IESO in 2013 should be included in the 2012 program savings table.
C49: o Confirm the monthly multipliers applied to demand savings. If a different monthly multiplier is used than what was confirmed in the LRAMVA Report, provide rationale in Tab 1-a and highlight the new monthly multiplier that has been used.
C51: o Input the rate class allocations by program and year to allocate actual savings to customers. If a different allocation is proposed for adjustments, LDCs must provide the supporting rationale in Tab 1-a and highlight the change.
C53: o Provide assumptions about the year(s) in which persistence is captured in the load forecast via the "Notes" section of each table and adjust what is included in the LRAMVA totals, as appropriate.
B55: Tab 6. Carrying Charges | C55: Distributors are requested to calculate carrying charges based on the methodology provided in the work form. This includes updating Table 6 as new prescribed interest rates for deferral and variance accounts become available and entering any collected interest amounts into the "Amounts Cleared" row to calculate outstanding variances on carrying charges.
B57: Tab 7. Persistence Report | C57: Persistence savings report(s) provided by the IESO should be included for the relevant years in the LRAMVA work form. Tab 7 has been created consistently with the IESO’s persistence report.
B59: Tab 8. Streetlighting | C59: A tab is provided to ensure LDCs include documentation or data to support projects whose program savings were not provided by the IESO (i.e., streetlighting projects).

Sheet LRAMVA Checklist Schematic
B3: General Note on the LRAMVA Model The LRAMVA work form has been created in a generic manner that should allow for use by all LDCs. There are some elements that are not applicable at this time (i.e., 2017, 2018, 2019 and 2020 related components). These have been included (but hidden in the work form) in an effort to avoid major updates in the future. This LRAMVA work form consolidates information that LDCs are already required to file with the OEB. The model has been created to provide LDCs with a consistent format to display CDM impacts, the forecast savings component and, ultimately, any variance between actual CDM savings and forecast CDM savings. The majority of the information required in the LRAMVA work form will be provided to LDCs from the IESO as part of the Final CDM Results each year. Please contact the IESO for any reports that may be required to complete this LRAMVA work form. The LRAMVA work form is unlocked to enable LDCs to tailor it to their own unique circumstances.
B8: LRAMVA ($) = (Actual Net CDM Savings - Forecast CDM Savings) x Distribution Volumetric Rate + Carrying Charges from LRAMVA balance
B10: Legend | C10: Drop Down List (Blue)
B12: Important Checklist
B13: Not Applicable | C13: o Highlight changes to this work form made by the LDC, if any, and provide rationale for the change in Tab 1-a
B14: Not Applicable | C14: o Include any necessary assumptions the LDC has to make in its LRAMVA work form in the "Notes" section of the work form
B15: Yes | C15: o Provide documentation on the LRAMVA threshold by providing the reference and source material from the LDC’s cost of service proceeding where its most recent load forecast was approved
B16: Yes | C16: o Include a copy of initiative-level persistence savings information that was verified by the IESO in Tab 7. Persistence information is available upon request from the IESO
B17: Yes | C17: o Apply the IESO verified savings adjustments to the year it relates to.
C18: o Provide documentation or data substantiating savings from projects that were not provided in the IESO's verified results reports, inserted in Tab 8 (i.e., streetlighting projects), as applicable
B19: Yes | C19: o Provide documentation or analysis on how rate class allocations were determined by customer class and program each year, inserted in Tab 3-a
B21: Work Form Calculations | C21: Source of Calculation | D21: Inputs (Tables to Complete) | E21: Source of Data Inputs | F21: Outputs of Data (Auto-Populated)
B22: Actual Incremental CDM Savings by Initiative | C22: Tabs "4. 2011-2014 LRAM" and "5. 2015-2020 LRAM" | D22: Tables 4-a to 4-d / 5-a to 5-f (Columns D & O) | E22: IESO Verified Persistence Results Reports included in Tab 7 (Columns L to BT). | F22: Tables 4-a to 4-d / 5-a to 5-f (Columns Y-AL)
B23: +/- IESO Verified Savings Adjustments | C23: Tab "4. 2011-2014 LRAM" | D23: Tables 4-a to 4-d / 5-a to 5-f (Columns D-M & Columns O-X) | E23: IESO Verified Persistence Results Reports included in Tab 7 (Columns L to BT). | F23: Tables 4-a to 4-d / 5-a to 5-f (Columns Y-AL)
B24: + Initiative Level Savings Persistence | C24: Tab "4. 2011-2014 LRAM" | D24: Tables 4-a to 4-d / 5-a to 5-f (Columns E-M & Columns P-X) | E24: IESO Verified Persistence Results Reports included in Tab 7 (Columns L to BT). | F24: Tables 4-a to 4-d / 5-a to 5-f (Columns Y-AL)
B25: x Allocation % to Rate Class | C25: Tabs "4. 2011-2014 LRAM" and "5. 2015-2020 LRAM" | D25: Tables 4-a to 4-d / 5-a to 5-f (Columns Y-AJ) | E25: Determined by the LDC
B26: Actual Lost Revenues (kWh and kW) by Rate Class | C26: Tabs "4. 2011-2014 LRAM" and "5. 2015-2020 LRAM"
B27: - Forecast Lost Revenues (kWh and kW) by Rate Class | C27: Tabs "4. 2011-2014 LRAM" and "5. 2015-2020 LRAM" | D27: Tab "2. LRAMVA Threshold" Tables 2-a, 2-b and 2-c
B28: x Distribution Rate by Rate Class | C28: Tab "3. Distribution Rates" | D28: Table 3 | E28: LDC's Approved Tariff Sheets
B29: LRAMVA ($) by Rate Class | C29: Tabs "4. 2011-2014 LRAM" and "5. 2015-2020 LRAM" | F29: Tables 1-a and 1-b
B30: + Carrying Charges ($) by Rate Class | C30: Tabs "1. LRAMVA Summary" and "6. Carrying Charges" | D30: Table 6 | F30: Table 6-a
B31: Total LRAMVA ($) by Rate Class | C31: Tab "1. LRAMVA Summary"

Sheet DropDownList
A1: Service Classifications | B1: Billing Unit | C1: Year | D1: Response | E1: Threshold | F1: Tabs | G1: Source of Persistence Reports | H1: Record
A2: Residential | B2: kWh | C2: 2006 | D2: Yes | E2: ='2. LRAMVA Threshold'!D9 -> 2008 | F2: 1. LRAMVA Summary | G2: 2011 Results Persistence | H2: Current year savings
A3: GS<50 kW | B3: kWh | C3: 2007 | D3: No | E3: ='2. LRAMVA Threshold'!D24 -> 2012 | F3: 2. LRAMVA Threshold | G3: 2012 Results Persistence | H3: Adjustment
A4: GS>50 kW | B4: kW | C4: 2008 | D4: Not Applicable | F4: 3. Distribution Rates | G4: 2013 Results Persistence
A5: General Service ≥ 1,000 kW | B5: kW | C5: 2009 | F5: 4. 2011-2014 LRAM | G5: 2014 Results Persistence
A6: General Service ≥ 1,500 kW | B6: kW | C6: 2010 | F6: 5. 2015-2020 LRAM | G6: 2015 Results Persistence
A7: General Service 1,000 kW and Greater | B7: kW | C7: 2011 | F7: 6. Carrying Charges | G7: 2016 Results Persistence
A8: General Service 1,000 to 4,999 kW | B8: kW | C8: 2012 | F8: 7. Persistence Data | G8: 2017 Results Persistence
A9: General Service 1,000 to 4,999 kW (co-generation) | B9: kW | C9: 2013 | G9: 2018 Results Persistence
A10: General Service 1,500 to 4,999 kW | B10: kW | C10: 2014 | G10: 2019 Results Persistence
A11: General Service 3,000 to 4,999 kW | B11: kW | C11: 2015 | G11: 2020 Results Persistence
A12: General Service 50 to 1,499 kW | B12: kW | C12: 2016
A13: General Service 50 to 2,999 kW | B13: kW | C13: 2017
A14: General Service 50 to 4,999 kW | B14: kW | C14: 2018
A15: General Service 50 to 499 kW | B15: kW | C15: 2019
A16: General Service 50 to 699 kW | B16: kW | C16: 2020
A17: General Service 50 to 999 kW | B17: kW
A18: General Service 500 to 1,499 kW | B18: kW
A19: General Service 500 to 4,999 kW | B19: kW
A20: General Service 700 to 4,999 kW | B20: kW
A21: General Service Demand Billed (50 kW and above) - GSd | B21: kW
A22: General Service Intermediate 1,000 to 4,999 kW | B22: kW
A23: Intermediate With Self Generation | B23: kW
A24: Intermediate With Self Generation - excluding MUSH customers | B24: kW
A25: Sub-Transmission (Embedded supply to LDC or loads > 500 kW) - ST | B25: kW
A26: Unmetered Scattered Load | B26: kWh
A27: Urban General Service Demand Billed (50 kW and above) - UGd | B27: kW
A28: Embedded Distributor | B28: kW
... A40: Street Lighting | B40: kW

Sheet 1.  LRAMVA Summary
B4: Legend | C4: User Inputs (Green)
C5: Auto Populated Cells (White)
C6: Instructions (Grey)
B8: LDC Name | C8: Rideau St Lawrence Distribution Inc.
B9: Application Details
B11: Please fill in the requested information: a) the amounts approved in the previous LRAMVA application, b) details on the current application, and c) documentation of changes if applicable.
B13: A. Previous LRAMVA Application | F13: B. Current LRAMVA Application | J13: C. Documentation of Changes
B14: Previous LRAMVA Application (EB#) | D14: EB-2015-0100 | F14: Current LRAMVA Application (EB#) | H14: EB-2017-0265 | J14: Original Amount
B15: Application of Previous LRAMVA Claim | D15: 2016 COS Application | F15: Application of Current LRAMVA Claim | H15: 2018 IRM Application | J15: Amount for Final Disposition
B16: Period of LRAMVA Claimed in Previous Application | D16: 2012-2014 | F16: Period of New LRAMVA in this Application | H16: 2015
B17: Amount of LRAMVA Claimed in Previous Application | D17: 24701.653 | F17: Actual Lost Revenues ($) | G17: A | H17: =SUM(R52,R55,R58,R61,R64,R67) -> 42160.543
F18: Forecast Lost Revenues ($) | G18: B | H18: =-SUM(R53,R56,R59,R62,R65,R68) -> 11145.162
F19: Carrying Charges ($) | G19: C | H19: =R82 -> 1027.1906
F20: LRAMVA ($) for Account 1568 | G20: A-B+C | H20: =H17-H18+H19 -> 32042.571
B22: Table 1-a. LRAMVA Totals by Rate Class
B24: Please input the customer rate classes applicable to the LDC and associated billing units (kWh or kW) in Table 1-a below. This will update all tables throughout the workform. The LRAMVA total by rate class in Table 1-a should be used to inform the determination of rate riders in the Deferral and Variance Account Work Form or IRM Rate Generator Model. Please also ensure that the principal amounts in column E of Table 1-a capture the appropriate years and amounts for the LRAMVA claim. NOTE: If the LDC has more than 14 customer classes in which CDM savings was allocated, LDCs must contact OEB staff to make adjustments to the workform.
B26: Customer Class | D26: Billing Unit | E26: Principal ($) | F26: Carrying Charges ($) | G26: Total LRAMVA ($)
B27: Residential | D27: kWh | E27: =SUM(D52:D81) -> 6117.5371 | F27: =D82 -> 202.60518 | G27: =E27+F27 -> 6320.1422
B28: GS<50 kW | D28: kWh | E28: =SUM(E52:E81) -> 10533.922 | F28: =E82 -> 348.87032 | G28: =E28+F28 -> 10882.792
B29: GS 50 TO 4,999 KW | D29: kW | E29: =SUM(F52:F81) -> 4281.0135 | F29: =F82 -> 141.78182 | G29: =E29+F29 -> 4422.7953
B30: Street Lighting | D30: kW | E30: =SUM(G52:G81) -> 10082.908 | F30: =G82 -> 333.93331 | G30: =E30+F30 -> 10416.841
E31: =SUM(H52:H81) -> 0 | F31: =H82 -> 0 | G31: =E31+F31 -> 0
E32: =SUM(I52:I81) -> 0 | F32: =I82 -> 0 | G32: =E32+F32 -> 0
E33: =SUM(J52:J81) -> 0 | F33: =J82 -> 0 | G33: =E33+F33 -> 0
E34: =SUM(K52:K81) -> 0 | F34: =K82 -> 0 | G34: =E34+F34 -> 0
E35: =SUM(L52:L81) -> 0 | F35: =L82 -> 0 | G35: =E35+F35 -> 0
E36: =SUM(M52:M81) -> 0 | F36: =M82 -> 0 | G36: =E36+F36 -> 0
E37: =SUM(N52:N81) -> 0 | F37: =N82 -> 0 | G37: =E37+F37 -> 0
E38: =SUM(O52:O81) -> 0 | F38: =O82 -> 0 | G38: =E38+F38 -> 0
E39: =SUM(P52:P81) -> 0 | F39: =P82 -> 0 | G39: =E39+F39 -> 0
E40: =SUM(Q52:Q81) -> 0 | F40: =Q82 -> 0 | G40: =E40+F40 -> 0
B41: Total | E41: =SUM(E27:E40) -> 31015.38 | F41: =SUM(F27:F40) -> 1027.1906 | G41: =SUM(G27:G40) -> 32042.571
B44: Table 1-b. Annual LRAMVA Breakdown by Year and Rate Class
B46: In column C of Table 1-b below, please insert a 'check mark' to indicate the years in which LRAMVA has been claimed. If you inserted a check-mark for a particular year, please delete the amounts associated with the actual and forecast lost revenues for all rate classes for that year, up to and including the total. Any LRAMVA from a prior year that has already been claimed cannot be included in the current LRAMVA disposition, with the exception of the case noted below.
B47: If LDCs are seeking to claim true-up amounts that were previously approved by the OEB, please note that the "Amount Cleared" rows are applicable to the LDC and should be filled out. This may relate to claiming the difference in LRAM approved before the May 19, 2016 Peak Demand Consultation, and the lost revenues that would have been incurred after that consultation, as approved by the OEB. If this is the case, reference to the decision must be noted in the rate application. If this is not the case, LDCs are requested to leave those rows blank.
B48: Depending on the period of LRAMVA to be claimed, LDCs are expected to adjust the totals for carrying charges in row 82 of Table 1-b and the years included in the LRAMVA balance in row 83, as appropriate.
B50: Description | C50: LRAMVA Previously Claimed | D50: =IF($B27<>"",$B27,"") -> Residential | E50: =IF($B28<>"",$B28,"") -> GS<50 kW | F50: =IF($B29<>"",$B29,"") -> GS 50 TO 4,999 KW | G50: Street Lighting | H50: =IF($B31<>"",$B31,"") | I50: =IF($B32<>"",$B32,"") | J50: =IF($B33<>"",$B33,"") | K50: =IF($B34<>"",$B34,"") | L50: =IF($B35<>"",$B35,"") | M50: =IF($B36<>"",$B36,"") | N50: =IF($B37<>"",$B37,"") | O50: =IF($B38<>"",$B38,"") | P50: =IF($B39<>"",$B39,"") | Q50: =IF($B40<>"",$B40,"") | R50: Total
D51: =D27 -> kWh | E51: =D28 -> kWh | F51: =D29 -> kW | G51: =D30 -> kW | H51: =D31 -> 0 | I51: =D32 -> 0 | J51: =D33 -> 0 | K51: =D34 -> 0 | L51: =D35 -> 0 | M51: =D36 -> 0 | N51: =D37 -> 0 | O51: =D38 -> 0 | P51: =D39 -> 0 | Q51: =D40 -> 0
B52: 2011 Actuals | R52: =SUM(D52:Q52) -> 0
B53: 2011 Forecast | R53: =SUM(D53:Q53) -> 0
...

Sheet 1-a.  Summary of Changes
B14: Legend | C14: User Inputs (Green)
C15: Drop Down List (Blue)
C16: Instructions (Grey)
B19: Table A-1. Changes to Generic Assumptions in LRAMVA Work Form
B21: Please document any changes in assumptions made to the generic inputs of the LRAMVA work form. This may include, but are not limited to, the use of different monthly multipliers to claim demand savings from energy efficiency programs; use of different rate allocations between current year savings and prior year savings adjustments; inclusion of additional adjustments affecting distribution rates; use of a different LRAMVA threshold; etc. All important changes should be highlighted in the work form as well.
B23: No. | C23: Tab | D23: Cell Reference | E23: Description | G23: Rationale
B24: 1 | C24: 1. LRAMVA Summary | D24: G61,G64 | E24: Insert formulary to calculate lost revenue in street lighting | G24: RSL lost revenue in street lighting due to implementation of LED projects in 2014 and 2015. But the savings are not included in the OPA final results.
B25: 2
B26: 3
B27: 4
B28: 5
B29: 6
B30: 7
B31: 8
B32: 9
B33: 10
B34: etc.
B36: Table A-2. Updates to LRAMVA Disposition
B37: Please document any changes related to interrogatories or questions during the application process that affect the LRAMVA amount.
B39: No. | C39: Tab | D39: Cell Reference | E39: Description | G39: Rationale
B40: 1
B41: 2
B42: 3
B43: 4
B44: 5
B45: 6
B46: 7
B47: 8
B48: 9
B49: 10
B50: etc.

Sheet 2. LRAMVA Threshold
B4: Legend | D4: User Inputs (Green)
D5: Drop Down List (Blue)
D6: Auto Populated Cells (White)
D7: Instructions (Grey)
B9: Table 2-a. LRAMVA Threshold | D9: 2008
B11: Please provide the LRAMVA threshold approved in the cost of service (COS) application, which is used as the comparator against actual savings in the period of the LRAMVA claim. The LRAMVA threshold should generally be consistent with the annualized savings targets developed from Appendix 2-I. If a manual update is required to reflect a different allocation of forecast savings that was approved by the OEB, please note the changes and provide rationale for the change in Tab 1-a.
C13: ='1. LRAMVA Summary'!R50 -> Total | D13: ='1. LRAMVA Summary'!D50 -> Residential | E13: ='1. LRAMVA Summary'!E50 -> GS<50 kW | F13: ='1. LRAMVA Summary'!F50 -> GS 50 TO 4,999 KW | G13: ='1. LRAMVA Summary'!G50 -> Street Lighting | H13: ='1. LRAMVA Summary'!H50 | I13: ='1. LRAMVA Summary'!I50 | J13: ='1. LRAMVA Summary'!J50 | K13: ='1. LRAMVA Summary'!K50 | ... Q13: ='1. LRAMVA Summary'!Q50
D14: ='1. LRAMVA Summary'!D51 -> kWh | E14: ='1. LRAMVA Summary'!E51 -> kWh | F14: ='1. LRAMVA Summary'!F51 -> kW | G14: ='1. LRAMVA Summary'!G51 -> kW | H14: ='1. LRAMVA Summary'!H51 -> 0 | I14: ='1. LRAMVA Summary'!I51 -> 0 | J14: ='1. LRAMVA Summary'!J51 -> 0 | K14: ='1. LRAMVA Summary'!K51 -> 0 | ... Q14: ='1. LRAMVA Summary'!Q51 -> 0
B15: kWh | C15: =SUM(D15:Q15) -> 0 | D15: 0 | E15: 0
B16: kW | C16: =SUM(D16:Q16) -> 0 | F16: 0
B18: Summary | D18: =IF(D14="kw",HLOOKUP(D14,D14:D16,3,FALSE),HLOOKUP(D14,D14:D16,2,FALSE)) -> 0 | E18: =IF(E14="kw",HLOOKUP(E14,E14:E16,3,FALSE),HLOOKUP(E14,E14:E16,2,FALSE)) -> 0 | F18: =IF(F14="kw",HLOOKUP(F14,F14:F16,3,FALSE),HLOOKUP(F14,F14:F16,2,FALSE)) -> 0 | G18: =IF(G14="kw",HLOOKUP(G14,G14:G16,3,FALSE),HLOOKUP(G14,G14:G16,2,FALSE)) -> 0 | H18: =IF(H14="kw",HLOOKUP(H14,H14:H16,3,FALSE),HLOOKUP(H14,H14:H16,2,FALSE)) -> 0 | I18: =IF(I14="kw",HLOOKUP(I14,I14:I16,3,FALSE),HLOOKUP(I14,I14:I16,2,FALSE)) -> 0 | J18: =IF(J14="kw",HLOOKUP(J14,J14:J16,3,FALSE),HLOOKUP(J14,J14:J16,2,FALSE)) -> 0 | K18: =IF(K14="kw",HLOOKUP(K14,K14:K16,3,FALSE),HLOOKUP(K14,K14:K16,2,FALSE)) -> 0 | ... Q18: =IF(Q14="kw",HLOOKUP(Q14,Q14:Q16,3,FALSE),HLOOKUP(Q14,Q14:Q16,2,FALSE)) -> 0
B20: Basis of Threshold | C20: N/A
B21: Source of Threshold | C21: 2008 Settlement Agreement, EB-2007-0762
B24: Table 2-b. LRAMVA Threshold | D24: 2012
B26: Please provide the LRAMVA threshold approved in the last COS application, which is used as the comparator against actual savings in the period of the LRAMVA claim. The LRAMVA threshold should generally be consistent with the annualized savings targets developed from Appendix 2-I. If a manual update is required to reflect a different allocation of forecast savings that was approved by the OEB, please note the changes and provide rationale for the change in Tab 1-a.
C28: ='1. LRAMVA Summary'!R50 -> Total | D28: ='1. LRAMVA Summary'!D50 -> Residential | E28: ='1. LRAMVA Summary'!E50 -> GS<50 kW | F28: ='1. LRAMVA Summary'!F50 -> GS 50 TO 4,999 KW | G28: ='1. LRAMVA Summary'!G50 -> Street Lighting | H28: ='1. LRAMVA Summary'!H50 | I28: ='1. LRAMVA Summary'!I50 | J28: ='1. LRAMVA Summary'!J50 | K28: ='1. LRAMVA Summary'!K50 | ... Q28: ='1. LRAMVA Summary'!Q50
D29: ='1. LRAMVA Summary'!D51 -> kWh | E29: ='1. LRAMVA Summary'!E51 -> kWh | F29: ='1. LRAMVA Summary'!F51 -> kW | G29: ='1. LRAMVA Summary'!G51 -> kW | H29: ='1. LRAMVA Summary'!H51 -> 0 | I29: ='1. LRAMVA Summary'!I51 -> 0 | J29: ='1. LRAMVA Summary'!J51 -> 0 | K29: ='1. LRAMVA Summary'!K51 -> 0 | ... Q29: ='1. LRAMVA Summary'!Q51 -> 0
B30: kWh | C30: =SUM(D30:Q30) -> 754381 | D30: 522335 | E30: 232046 | G30: 0
B31: kW | C31: =SUM(D31:Q31) -> 631 | F31: 631
B33: Summary | D33: =IF(D29="kw",HLOOKUP(D29,D29:D31,3,FALSE),HLOOKUP(D29,D29:D31,2,FALSE)) -> 522335 | E33: =IF(E29="kw",HLOOKUP(E29,E29:E31,3,FALSE),HLOOKUP(E29,E29:E31,2,FALSE)) -> 232046 | F33: =IF(F29="kw",HLOOKUP(F29,F29:F31,3,FALSE),HLOOKUP(F29,F29:F31,2,FALSE)) -> 631 | G33: =IF(G29="kw",HLOOKUP(G29,G29:G31,3,FALSE),HLOOKUP(G29,G29:G31,2,FALSE)) -> 0 | H33: =IF(H29="kw",HLOOKUP(H29,H29:H31,3,FALSE),HLOOKUP(H29,H29:H31,2,FALSE)) -> 0 | I33: =IF(I29="kw",HLOOKUP(I29,I29:I31,3,FALSE),HLOOKUP(I29,I29:I31,2,FALSE)) -> 0 | J33: =IF(J29="kw",HLOOKUP(J29,J29:J31,3,FALSE),HLOOKUP(J29,J29:J31,2,FALSE)) -> 0 | K33: =IF(K29="kw",HLOOKUP(K29,K29:K31,3,FALSE),HLOOKUP(K29,K29:K31,2,FALSE)) -> 0 | ... Q33: =IF(Q29="kw",HLOOKUP(Q29,Q29:Q31,3,FALSE),HLOOKUP(Q29,Q29:Q31,2,FALSE)) -> 0
B35: Basis of Threshold | C35: Savings from 2012 CDM programs
B36: Source of Threshold | C36: 2012 Settlement Agreement, EB-2011-0274
B39: Table 2-c. Inputs for LRAMVA Thresholds
B40: Please complete Table 2-c below by selecting the appropriate LRAMVA threshold year in column C. The LRAMVA threshold values in Table 2-c will auto-populate from Tables 2-a and 2-b depending on the year selected. If there was no LRAMVA threshold established for a particular year, please select the "blank" option. The LRAMVA threshold values in Table 2-c will be auto-populated in Tabs 4 and 5 of this work form.
B42: Year | C42: LRAMVA Threshold | D42: ='1. LRAMVA Summary'!D50 -> Residential | E42: ='1. LRAMVA Summary'!E50 -> GS<50 kW | F42: ='1. LRAMVA Summary'!F50 -> GS 50 TO 4,999 KW | G42: ='1. LRAMVA Summary'!G50 -> Street Lighting | H42: ='1. LRAMVA Summary'!H50 | I42: ='1. LRAMVA Summary'!I50 | J42: ='1. LRAMVA Summary'!J50 | K42: ='1. LRAMVA Summary'!K50 | ... Q42: ='1. LRAMVA Summary'!Q50
D43: ='1. LRAMVA Summary'!D51 -> kWh | E43: ='1. LRAMVA Summary'!E51 -> kWh | F43: ='1. LRAMVA Summary'!F51 -> kW | G43: ='1. LRAMVA Summary'!G51 -> kW | H43: ='1. LRAMVA Summary'!H51 -> 0 | I43: ='1. LRAMVA Summary'!I51 -> 0 | J43: ='1. LRAMVA Summary'!J51 -> 0 | K43: ='1. LRAMVA Summary'!K51 -> 0 | ... Q43: ='1. LRAMVA Summary'!Q51 -> 0
B44: 2011 | C44: 2008 | D44: =IF(ISBLANK($C$44),0,IF($C44=$D$9,HLOOKUP(D43,D14:D18,5,FALSE),HLOOKUP(D43,D29:D33,5,FALSE))) -> 0 | E44: =IF(ISBLANK($C$44),0,IF($C44=$D$9,HLOOKUP(E43,E14:E18,5,FALSE),HLOOKUP(E43,E29:E33,5,FALSE))) -> 0 | F44: =IF(ISBLANK($C$44),0,IF($C44=$D$9,HLOOKUP(F43,F14:F18,5,FALSE),HLOOKUP(F43,F29:F33,5,FALSE))) -> 0 | G44: =IF(ISBLANK($C$44),0,IF($C44=$D$9,HLOOKUP(G43,G14:G18,5,FALSE),HLOOKUP(G43,G29:G33,5,FALSE))) -> 0 | H44: =IF(ISBLANK($C$44),0,IF($C44=$D$9,HLOOKUP(H43,H14:H18,5,FALSE),HLOOKUP(H43,H29:H33,5,FALSE))) -> 0 | I44: =IF(ISBLANK($C$44),0,IF($C44=$D$9,HLOOKUP(I43,I14:I18,5,FALSE),HLOOKUP(I43,I29:I33,5,FALSE))) -> 0 | J44: =IF(ISBLANK($C$44),0,IF($C44=$D$9,HLOOKUP(J43,J14:J18,5,FALSE),HLOOKUP(J43,J29:J33,5,FALSE))) -> 0 | K44: =IF(ISBLANK($C$44),0,IF($C44=$D$9,HLOOKUP(K43,K14:K18,5,FALSE),HLOOKUP(K43,K29:K33,5,FALSE))) -> 0 | ... Q44: =IF(ISBLANK($C$44),0,IF($C44=$D$9,HLOOKUP(Q43,Q14:Q18,5,FALSE),HLOOKUP(Q43,Q29:Q33,5,FALSE))) -> 0
B45: 2012 | C45: 2012 | D45: =IF(ISBLANK($C$45),0,IF($C$45=$D$9,HLOOKUP(D43,D14:D18,5,FALSE),HLOOKUP(D43,D29:D33,5,FALSE))) -> 522335 | E45: =IF(ISBLANK($C$45),0,IF($C$45=$D$9,HLOOKUP(E43,E14:E18,5,FALSE),HLOOKUP(E43,E29:E33,5,FALSE))) -> 232046 | F45: =IF(ISBLANK($C$45),0,IF($C$45=$D$9,HLOOKUP(F43,F14:F18,5,FALSE),HLOOKUP(F43,F29:F33,5,FALSE))) -> 631 | G45: =IF(ISBLANK($C$45),0,IF($C$45=$D$9,HLOOKUP(G43,G14:G18,5,FALSE),HLOOKUP(G43,G29:G33,5,FALSE))) -> 0 | H45: =IF(ISBLANK($C$45),0,IF($C$45=$D$9,HLOOKUP(H43,H14:H18,5,FALSE),HLOOKUP(H43,H29:H33,5,FALSE))) -> 0 | I45: =IF(ISBLANK($C$45),0,IF($C$45=$D$9,HLOOKUP(I43,I14:I18,5,FALSE),HLOOKUP(I43,I29:I33,5,FALSE))) -> 0 | J45: =IF(ISBLANK($C$45),0,IF($C$45=$D$9,HLOOKUP(J43,J14:J18,5,FALSE),HLOOKUP(J43,J29:J33,5,FALSE))) -> 0 | K45: =IF(ISBLANK($C$45),0,IF($C$45=$D$9,HLOOKUP(K43,K14:K18,5,FALSE),HLOOKUP(K43,K29:K33,5,FALSE))) -> 0 | ... Q45: =IF(ISBLANK($C$45),0,IF($C$45=$D$9,HLOOKUP(Q43,Q14:Q18,5,FALSE),HLOOKUP(Q43,Q29:Q33,5,FALSE))) -> 0
B46: 2013 | C46: 2012 | D46: =IF(ISBLANK($C$46),0,IF($C$46=$D$9,HLOOKUP(D43,D14:D18,5,FALSE),HLOOKUP(D43,D29:D33,5,FALSE))) -> 522335 | E46: =IF(ISBLANK($C$46),0,IF($C$46=$D$9,HLOOKUP(E43,E14:E18,5,FALSE),HLOOKUP(E43,E29:E33,5,FALSE))) -> 232046 | F46: =IF(ISBLANK($C$46),0,IF($C$46=$D$9,HLOOKUP(F43,F14:F18,5,FALSE),HLOOKUP(F43,F29:F33,5,FALSE))) -> 631 | G46: =IF(ISBLANK($C$46),0,IF($C$46=$D$9,HLOOKUP(G43,G14:G18,5,FALSE),HLOOKUP(G43,G29:G33,5,FALSE))) -> 0 | H46: =IF(ISBLANK($C$46),0,IF($C$46=$D$9,HLOOKUP(H43,H14:H18,5,FALSE),HLOOKUP(H43,H29:H33,5,FALSE))) -> 0 | I46: =IF(ISBLANK($C$46),0,IF($C$46=$D$9,HLOOKUP(I43,I14:I18,5,FALSE),HLOOKUP(I43,I29:I33,5,FALSE))) -> 0 | J46: =IF(ISBLANK($C$46),0,IF($C$46=$D$9,HLOOKUP(J43,J14:J18,5,FALSE),HLOOKUP(J43,J29:J33,5,FALSE))) -> 0 | K46: =IF(ISBLANK($C$46),0,IF($C$46=$D$9,HLOOKUP(K43,K14:K18,5,FALSE),HLOOKUP(K43,K29:K33,5,FALSE))) -> 0 | ... Q46: =IF(ISBLANK($C$46),0,IF($C$46=$D$9,HLOOKUP(Q43,Q14:Q18,5,FALSE),HLOOKUP(Q43,Q29:Q33,5,FALSE))) -> 0
B47: 2014 | C47: 2012 | D47: =IF(ISBLANK($C$47),0,IF($C$47=$D$9,HLOOKUP(D43,D14:D18,5,FALSE),HLOOKUP(D43,D29:D33,5,FALSE))) -> 522335 | E47: =IF(ISBLANK($C$47),0,IF($C$47=$D$9,HLOOKUP(E43,E14:E18,5,FALSE),HLOOKUP(E43,E29:E33,5,FALSE))) -> 232046 | F47: =IF(ISBLANK($C$47),0,IF($C$47=$D$9,HLOOKUP(F43,F14:F18,5,FALSE),HLOOKUP(F43,F29:F33,5,FALSE))) -> 631 | G47: =IF(ISBLANK($C$47),0,IF($C$47=$D$9,HLOOKUP(G43,G14:G18,5,FALSE),HLOOKUP(G43,G29:G33,5,FALSE))) -> 0 | H47: =IF(ISBLANK($C$47),0,IF($C$47=$D$9,HLOOKUP(H43,H14:H18,5,FALSE),HLOOKUP(H43,H29:H33,5,FALSE))) -> 0 | I47: =IF(ISBLANK($C$47),0,IF($C$47=$D$9,HLOOKUP(I43,I14:I18,5,FALSE),HLOOKUP(I43,I29:I33,5,FALSE))) -> 0 | J47: =IF(ISBLANK($C$47),0,IF($C$47=$D$9,HLOOKUP(J43,J14:J18,5,FALSE),HLOOKUP(J43,J29:J33,5,FALSE))) -> 0 | K47: =IF(ISBLANK($C$47),0,IF($C$47=$D$9,HLOOKUP(K43,K14:K18,5,FALSE),HLOOKUP(K43,K29:K33,5,FALSE))) -> 0 | ... Q47: =IF(ISBLANK($C$47),0,IF($C$47=$D$9,HLOOKUP(Q43,Q14:Q18,5,FALSE),HLOOKUP(Q43,Q29:Q33,5,FALSE))) -> 0
B48: 2015 | C48: 2012 | D48: =IF(ISBLANK($C$48),0,IF($C$48=$D$9,HLOOKUP(D43,D14:D18,5,FALSE),HLOOKUP(D43,D29:D33,5,FALSE))) -> 522335 | E48: =IF(ISBLANK($C$48),0,IF($C$48=$D$9,HLOOKUP(E43,E14:E18,5,FALSE),HLOOKUP(E43,E29:E33,5,FALSE))) -> 232046 | F48: =IF(ISBLANK($C$48),0,IF($C$48=$D$9,HLOOKUP(F43,F14:F18,5,FALSE),HLOOKUP(F43,F29:F33,5,FALSE))) -> 631 | G48: =IF(ISBLANK($C$48),0,IF($C$48=$D$9,HLOOKUP(G43,G14:G18,5,FALSE),HLOOKUP(G43,G29:G33,5,FALSE))) -> 0 | H48: =IF(ISBLANK($C$48),0,IF($C$48=$D$9,HLOOKUP(H43,H14:H18,5,FALSE),HLOOKUP(H43,H29:H33,5,FALSE))) -> 0 | I48: =IF(ISBLANK($C$48),0,IF($C$48=$D$9,HLOOKUP(I43,I14:I18,5,FALSE),HLOOKUP(I43,I29:I33,5,FALSE))) -> 0 | J48: =IF(ISBLANK($C$48),0,IF($C$48=$D$9,HLOOKUP(J43,J14:J18,5,FALSE),HLOOKUP(J43,J29:J33,5,FALSE))) -> 0 | K48: =IF(ISBLANK($C$48),0,IF($C$48=$D$9,HLOOKUP(K43,K14:K18,5,FALSE),HLOOKUP(K43,K29:K33,5,FALSE))) -> 0 | ... Q48: =IF(ISBLANK($C$48),0,IF($C$48=$D$9,HLOOKUP(Q43,Q14:Q18,5,FALSE),HLOOKUP(Q43,Q29:Q33,5,FALSE))) -> 0
B49: 2016 | D49: =IF(ISBLANK($C$49),0,IF($C$49=$D$9,HLOOKUP(D43,D14:D18,5,FALSE),HLOOKUP(D43,D29:D33,5,FALSE))) -> 0 | E49: =IF(ISBLANK($C$49),0,IF($C$49=$D$9,HLOOKUP(E43,E14:E18,5,FALSE),HLOOKUP(E43,E29:E33,5,FALSE))) -> 0 | F49: =IF(ISBLANK($C$49),0,IF($C$49=$D$9,HLOOKUP(F43,F14:F18,5,FALSE),HLOOKUP(F43,F29:F33,5,FALSE))) -> 0 | G49: =IF(ISBLANK($C$49),0,IF($C$49=$D$9,HLOOKUP(G43,G14:G18,5,FALSE),HLOOKUP(G43,G29:G33,5,FALSE))) -> 0 | H49: =IF(ISBLANK($C$49),0,IF($C$49=$D$9,HLOOKUP(H43,H14:H18,5,FALSE),HLOOKUP(H43,H29:H33,5,FALSE))) -> 0 | I49: =IF(ISBLANK($C$49),0,IF($C$49=$D$9,HLOOKUP(I43,I14:I18,5,FALSE),HLOOKUP(I43,I29:I33,5,FALSE))) -> 0 | J49: =IF(ISBLANK($C$49),0,IF($C$49=$D$9,HLOOKUP(J43,J14:J18,5,FALSE),HLOOKUP(J43,J29:J33,5,FALSE))) -> 0 | K49: =IF(ISBLANK($C$49),0,IF($C$49=$D$9,HLOOKUP(K43,K14:K18,5,FALSE),HLOOKUP(K43,K29:K33,5,FALSE))) -> 0 | ... Q49: =IF(ISBLANK($C$49),0,IF($C$49=$D$9,HLOOKUP(Q43,Q14:Q18,5,FALSE),HLOOKUP(Q43,Q29:Q33,5,FALSE))) -> 0
B50: 2017 | D50: =IF(ISBLANK($C$50),0,IF($C$50=$D$9,HLOOKUP(D43,D14:D18,5,FALSE),HLOOKUP(D43,D29:D33,5,FALSE))) -> 0 | E50: =IF(ISBLANK($C$50),0,IF($C$50=$D$9,HLOOKUP(E43,E14:E18,5,FALSE),HLOOKUP(E43,E29:E33,5,FALSE))) -> 0 | F50: =IF(ISBLANK($C$50),0,IF($C$50=$D$9,HLOOKUP(F43,F14:F18,5,FALSE),HLOOKUP(F43,F29:F33,5,FALSE))) -> 0 | G50: =IF(ISBLANK($C$50),0,IF($C$50=$D$9,HLOOKUP(G43,G14:G18,5,FALSE),HLOOKUP(G43,G29:G33,5,FALSE))) -> 0 | H50: =IF(ISBLANK($C$50),0,IF($C$50=$D$9,HLOOKUP(H43,H14:H18,5,FALSE),HLOOKUP(H43,H29:H33,5,FALSE))) -> 0 | I50: =IF(ISBLANK($C$50),0,IF($C$50=$D$9,HLOOKUP(I43,I14:I18,5,FALSE),HLOOKUP(I43,I29:I33,5,FALSE))) -> 0 | J50: =IF(ISBLANK($C$50),0,IF($C$50=$D$9,HLOOKUP(J43,J14:J18,5,FALSE),HLOOKUP(J43,J29:J33,5,FALSE))) -> 0 | K50: =IF(ISBLANK($C$50),0,IF($C$50=$D$9,HLOOKUP(K43,K14:K18,5,FALSE),HLOOKUP(K43,K29:K33,5,FALSE))) -> 0 | ... Q50: =IF(ISBLANK($C$50),0,IF($C$50=$D$9,HLOOKUP(Q43,Q14:Q18,5,FALSE),HLOOKUP(Q43,Q29:Q33,5,FALSE))) -> 0
B51: 2018 | D51: =IF(ISBLANK($C$51),0,IF($C$51=$D$9,HLOOKUP(D43,D14:D18,5,FALSE),HLOOKUP(D43,D29:D33,5,FALSE))) -> 0 | E51: =IF(ISBLANK($C$51),0,IF($C$51=$D$9,HLOOKUP(E43,E14:E18,5,FALSE),HLOOKUP(E43,E29:E33,5,FALSE))) -> 0 | F51: =IF(ISBLANK($C$51),0,IF($C$51=$D$9,HLOOKUP(F43,F14:F18,5,FALSE),HLOOKUP(F43,F29:F33,5,FALSE))) -> 0 | G51: =IF(ISBLANK($C$51),0,IF($C$51=$D$9,HLOOKUP(G43,G14:G18,5,FALSE),HLOOKUP(G43,G29:G33,5,FALSE))) -> 0 | H51: =IF(ISBLANK($C$51),0,IF($C$51=$D$9,HLOOKUP(H43,H14:H18,5,FALSE),HLOOKUP(H43,H29:H33,5,FALSE))) -> 0 | I51: =IF(ISBLANK($C$51),0,IF($C$51=$D$9,HLOOKUP(I43,I14:I18,5,FALSE),HLOOKUP(I43,I29:I33,5,FALSE))) -> 0 | J51: =IF(ISBLANK($C$51),0,IF($C$51=$D$9,HLOOKUP(J43,J14:J18,5,FALSE),HLOOKUP(J43,J29:J33,5,FALSE))) -> 0 | K51: =IF(ISBLANK($C$51),0,IF($C$51=$D$9,HLOOKUP(K43,K14:K18,5,FALSE),HLOOKUP(K43,K29:K33,5,FALSE))) -> 0 | ... Q51: =IF(ISBLANK($C$51),0,IF($C$51=$D$9,HLOOKUP(Q43,Q14:Q18,5,FALSE),HLOOKUP(Q43,Q29:Q33,5,FALSE))) -> 0
B52: 2019 | D52: =IF(ISBLANK($C$52),0,IF($C$52=$D$9,HLOOKUP(D43,D14:D18,5,FALSE),HLOOKUP(D43,D29:D33,5,FALSE))) -> 0 | E52: =IF(ISBLANK($C$52),0,IF($C$52=$D$9,HLOOKUP(E43,E14:E18,5,FALSE),HLOOKUP(E43,E29:E33,5,FALSE))) -> 0 | F52: =IF(ISBLANK($C$52),0,IF($C$52=$D$9,HLOOKUP(F43,F14:F18,5,FALSE),HLOOKUP(F43,F29:F33,5,FALSE))) -> 0 | G52: =IF(ISBLANK($C$52),0,IF($C$52=$D$9,HLOOKUP(G43,G14:G18,5,FALSE),HLOOKUP(G43,G29:G33,5,FALSE))) -> 0 | H52: =IF(ISBLANK($C$52),0,IF($C$52=$D$9,HLOOKUP(H43,H14:H18,5,FALSE),HLOOKUP(H43,H29:H33,5,FALSE))) -> 0 | I52: =IF(ISBLANK($C$52),0,IF($C$52=$D$9,HLOOKUP(I43,I14:I18,5,FALSE),HLOOKUP(I43,I29:I33,5,FALSE))) -> 0 | J52: =IF(ISBLANK($C$52),0,IF($C$52=$D$9,HLOOKUP(J43,J14:J18,5,FALSE),HLOOKUP(J43,J29:J33,5,FALSE))) -> 0 | K52: =IF(ISBLANK($C$52),0,IF($C$52=$D$9,HLOOKUP(K43,K14:K18,5,FALSE),HLOOKUP(K43,K29:K33,5,FALSE))) -> 0 | ... Q52: =IF(ISBLANK($C$52),0,IF($C$52=$D$9,HLOOKUP(Q43,Q14:Q18,5,FALSE),HLOOKUP(Q43,Q29:Q33,5,FALSE))) -> 0
B53: 2020 | D53: =IF(ISBLANK($C$53),0,IF($C$53=$D$9,HLOOKUP(D43,D14:D18,5,FALSE),HLOOKUP(D43,D29:D33,5,FALSE))) -> 0 | E53: =IF(ISBLANK($C$53),0,IF($C$53=$D$9,HLOOKUP(E43,E14:E18,5,FALSE),HLOOKUP(E43,E29:E33,5,FALSE))) -> 0 | F53: =IF(ISBLANK($C$53),0,IF($C$53=$D$9,HLOOKUP(F43,F14:F18,5,FALSE),HLOOKUP(F43,F29:F33,5,FALSE))) -> 0 | G53: =IF(ISBLANK($C$53),0,IF($C$53=$D$9,HLOOKUP(G43,G14:G18,5,FALSE),HLOOKUP(G43,G29:G33,5,FALSE))) -> 0 | H53: =IF(ISBLANK($C$53),0,IF($C$53=$D$9,HLOOKUP(H43,H14:H18,5,FALSE),HLOOKUP(H43,H29:H33,5,FALSE))) -> 0 | I53: =IF(ISBLANK($C$53),0,IF($C$53=$D$9,HLOOKUP(I43,I14:I18,5,FALSE),HLOOKUP(I43,I29:I33,5,FALSE))) -> 0 | J53: =IF(ISBLANK($C$53),0,IF($C$53=$D$9,HLOOKUP(J43,J14:J18,5,FALSE),HLOOKUP(J43,J29:J33,5,FALSE))) -> 0 | K53: =IF(ISBLANK($C$53),0,IF($C$53=$D$9,HLOOKUP(K43,K14:K18,5,FALSE),HLOOKUP(K43,K29:K33,5,FALSE))) -> 0 | ... Q53: =IF(ISBLANK($C$53),0,IF($C$53=$D$9,HLOOKUP(Q43,Q14:Q18,5,FALSE),HLOOKUP(Q43,Q29:Q33,5,FALSE))) -> 0
B54: Note: LDC to make note of assumptions included above, if any

Sheet 3.  Distribution Rates
B4: Legend | C4: User Inputs (Green)
C5: Auto Populated Cells (White)
C6: Instructions (Grey)
B8: Tables | C8: Table 3
C9: Table 3-a.
B11: Table 3. Inputs for Distribution Rates and Adjustments by Rate Class
B12: Please complete Table 3 with the rate class specific distribution rates that pertain to the years of the LRAMVA disposition. Any adjustments that affect distribution rates can be incorporated in the calculation by expanding the "plus" button at the left hand bar. Table 3 will convert the distribution rates to a calendar year rate (January to December) based on the number of months entered in row 16 of each rate year starting from January to the start of the LDC's rate year. Please enter 0 in row 16, if the rate year begins on January 1. If there are additional adjustments (i.e., rows) added to Table 3, please adjust the formulas in Table 3-a accordingly.
C14: Billing Unit | D14: EB-2009-0248 | E14: EB-2010-0113 | F14: EB-2011-0274 | G14: EB-2012-0164 | H14: EB-2013-0169 | I14: EB-2014-0111 | J14: EB-2015-0100 | K14: EB-2016-XXXX | L14: EB-2017-XXXX | M14: EB-2018-XXXX | N14: EB-2019-XXXX | O14: EB-2020-XXXX
B15: Rate Year | D15: 2010 | E15: 2011 | F15: 2012 | G15: 2013 | H15: 2014 | I15: 2015 | J15: 2016 | K15: 2017 | L15: 2018 | M15: 2019 | N15: 2020 | O15: 2021
B16: Period 1 (# months) | D16: 4 | E16: 4 | F16: 6 | G16: 4 | H16: 4 | I16: 4 | J16: 12
B17: Period 2 (# months) | D17: =12-D16 -> 8 | E17: =12-E16 -> 8 | F17: =12-F16 -> 6 | G17: =12-G16 -> 8 | H17: =12-H16 -> 8 | I17: =12-I16 -> 8 | J17: =12-J16 -> 0 | K17: =12-K16 -> 12 | ... O17: =12-O16 -> 12
B18: ='1. LRAMVA Summary'!B27 -> Residential | C18: ='2. LRAMVA Threshold'!D43 -> kWh | D18: 0.0117 | E18: 0.0117 | F18: 0.0145 | G18: 0.0146 | H18: 0.0148 | I18: 0.015 | J18: 0.0122
B19: Rate rider for tax sharing
B20: Rate rider for foregone revenue
B21: Other
B22: Adjusted rate | D22: =SUM(D18:D21) -> 0.0117 | E22: =SUM(E18:E21) -> 0.0117 | F22: =SUM(F18:F21) -> 0.0145 | G22: =SUM(G18:G21) -> 0.0146 | H22: =SUM(H18:H21) -> 0.0148 | I22: =SUM(I18:I21) -> 0.015 | J22: =SUM(J18:J21) -> 0.0122 | K22: =SUM(K18:K21) -> 0 | ... N22: =SUM(N18:N21) -> 0
B23: Calendar year equivalent | E23: =ROUND(SUM(D22*E16+E22*E17)/12,4) -> 0.0117 | F23: =ROUND(SUM(E22*F16+F22*F17)/12,4) -> 0.0131 | G23: =ROUND(SUM(F22*G16+G22*G17)/12,4) -> 0.0146 | H23: =ROUND(SUM(G22*H16+H22*H17)/12,4) -> 0.0147 | I23: =ROUND(SUM(H22*I16+I22*I17)/12,4) -> 0.0149 | J23: =ROUND(SUM(I22*J16+J22*J17)/12,4) -> 0.015 | K23: =ROUND(SUM(J22*K16+K22*K17)/12,4) -> 0 | L23: =ROUND(SUM(K22*L16+L22*L17)/12,4) -> 0 | ... N23: =ROUND(SUM(M22*N16+N22*N17)/12,4) -> 0
B25: ='1. LRAMVA Summary'!B28 -> GS<50 kW | C25: ='2. LRAMVA Threshold'!E43 -> kWh | D25: 0.0074 | E25: 0.0074 | F25: 0.009 | G25: 0.009 | H25: 0.0091 | I25: 0.0092 | J25: 0.011
B26: Rate rider for tax sharing
B27: Rate rider for foregone revenue
B28: Other
B29: Adjusted rate | D29: =SUM(D25:D28) -> 0.0074 | E29: =SUM(E25:E28) -> 0.0074 | F29: =SUM(F25:F28) -> 0.009 | G29: =SUM(G25:G28) -> 0.009 | H29: =SUM(H25:H28) -> 0.0091 | I29: =SUM(I25:I28) -> 0.0092 | J29: =SUM(J25:J28) -> 0.011 | K29: =SUM(K25:K28) -> 0 | ... N29: =SUM(N25:N28) -> 0
B30: Calendar year equivalent | E30: =ROUND(SUM(D29*E16+E29*E17)/12,4) -> 0.0074 | F30: =ROUND(SUM(E29*F16+F29*F17)/12,4) -> 0.0082 | G30: =ROUND(SUM(F29*G16+G29*G17)/12,4) -> 0.009 | H30: =ROUND(SUM(G29*H16+H29*H17)/12,4) -> 0.0091 | I30: =ROUND(SUM(H29*I16+I29*I17)/12,4) -> 0.0092 | J30: =ROUND(SUM(I29*J16+J29*J17)/12,4) -> 0.0092 | K30: =ROUND(SUM(J29*K16+K29*K17)/12,4) -> 0 | L30: =ROUND(SUM(K29*L16+L29*L17)/12,4) -> 0 | ... N30: =ROUND(SUM(M29*N16+N29*N17)/12,4) -> 0
B32: ='1. LRAMVA Summary'!B29 -> GS 50 TO 4,999 KW | C32: ='2. LRAMVA Threshold'!F43 -> kW | D32: 1.2451 | E32: 1.2473 | F32: 1.8902 | G32: 1.8993 | H32: 1.9287 | I32: 1.9538 | J32: 2.2394
B33: Rate rider for tax sharing
B34: Rate rider for foregone revenue
B35: Other
B36: Adjusted rate | D36: =SUM(D32:D35) -> 1.2451 | E36: =SUM(E32:E35) -> 1.2473 | F36: =SUM(F32:F35) -> 1.8902 | G36: =SUM(G32:G35) -> 1.8993 | H36: =SUM(H32:H35) -> 1.9287 | I36: =SUM(I32:I35) -> 1.9538 | J36: =SUM(J32:J35) -> 2.2394 | K36: =SUM(K32:K35) -> 0 | ... N36: =SUM(N32:N35) -> 0
B37: Calendar year equivalent | E37: =ROUND(SUM(D36*E16+E36*E17)/12,4) -> 1.2466 | F37: =ROUND(SUM(E36*F16+F36*F17)/12,4) -> 1.5688 | G37: =ROUND(SUM(F36*G16+G36*G17)/12,4) -> 1.8963 | H37: =ROUND(SUM(G36*H16+H36*H17)/12,4) -> 1.9189 | I37: =ROUND(SUM(H36*I16+I36*I17)/12,4) -> 1.9454 | J37: =ROUND(SUM(I36*J16+J36*J17)/12,4) -> 1.9538 | K37: =ROUND(SUM(J36*K16+K36*K17)/12,4) -> 0 | L37: =ROUND(SUM(K36*L16+L36*L17)/12,4) -> 0 | ... N37: =ROUND(SUM(M36*N16+N36*N17)/12,4) -> 0
B39: ='1. LRAMVA Summary'!B30 -> Street Lighting | C39: ='2. LRAMVA Threshold'!G43 -> kW | D39: =8.7236 -> 8.7236 | E39: =8.7393 -> 8.7393 | F39: =12.7064 -> 12.7064 | G39: =12.7674 -> 12.7674 | H39: =12.9653 -> 12.9653 | I39: =13.1338 -> 13.1338 | J39: =12.7431 -> 12.7431
B40: Rate rider for tax sharing
B41: Rate rider for foregone revenue
B42: Other
B43: Adjusted rate | D43: =SUM(D39:D42) -> 8.7236 | E43: =SUM(E39:E42) -> 8.7393 | F43: =SUM(F39:F42) -> 12.7064 | G43: =SUM(G39:G42) -> 12.7674 | H43: =SUM(H39:H42) -> 12.9653 | I43: =SUM(I39:I42) -> 13.1338 | J43: =SUM(J39:J42) -> 12.7431 | K43: =SUM(K39:K42) -> 0 | ... N43: =SUM(N39:N42) -> 0
B44: Calendar year equivalent | E44: =ROUND(SUM(D43*E16+E43*E17)/12,4) -> 8.7341 | F44: =ROUND(SUM(E43*F16+F43*F17)/12,4) -> 10.7229 | G44: =ROUND(SUM(F43*G16+G43*G17)/12,4) -> 12.7471 | H44: =ROUND(SUM(G43*H16+H43*H17)/12,4) -> 12.8993 | I44: =ROUND(SUM(H43*I16+I43*I17)/12,4) -> 13.0776 | J44: =ROUND(SUM(I43*J16+J43*J17)/12,4) -> 13.1338 | K44: =ROUND(SUM(J43*K16+K43*K17)/12,4) -> 0 | L44: =ROUND(SUM(K43*L16+L43*L17)/12,4) -> 0 | ... N44: =ROUND(SUM(M43*N16+N43*N17)/12,4) -> 0
B46: ='1. LRAMVA Summary'!B31 -> 0 | C46: ='2. LRAMVA Threshold'!H43 -> 0
B47: Rate rider for tax sharing
B48: Rate rider for foregone revenue
B49: Other
B50: Adjusted rate | D50: =SUM(D46:D49) -> 0 | E50: =SUM(E46:E49) -> 0 | F50: =SUM(F46:F49) -> 0 | G50: =SUM(G46:G49) -> 0 | H50: =SUM(H46:H49) -> 0 | I50: =SUM(I46:I49) -> 0 | J50: =SUM(J46:J49) -> 0 | K50: =SUM(K46:K49) -> 0 | ... N50: =SUM(N46:N49) -> 0
...

Sheet 3-a.  Rate Class Allocations
B14: Instructions
B16: LDCs must clearly show how it has allocated actual CDM savings to applicable rate classes, including supporting documentation and rationale for its proposal. This should be shown by customer class and program each year.
B18: RSL has allocated actual CDM savings based on the IESO's final results which segment the program results into sectors. The results for Retrofit and HPNC items are initially collected for all rate classes then using verified project savings the result savings are divided into the appropriate rate classes.
B19: The allocation of retrofit results is shown in the tables below .
C23: kWh | D23: 2011 | E23: 2012 | F23: 2013 | G23: 2014 | H23: 2015
C24: GS<50 | D24: 0.5 | E24: 0 | F24: 0.25669919 | G24: 0.018795861 | H24: 0.21260388
C25: GS>50 | D25: 0.5 | E25: 1 | F25: 0.74330081 | G25: 0.62919657 | H25: 0.36971086
C26: Street Lights | D26: 0 | E26: 0 | F26: 0 | G26: 0.35200756 | H26: 0.29029265
C28: kW | D28: 2011 | E28: 2012 | F28: 2013 | G28: 2014 | H28: 2015
C29: GS<50 | D29: 0.5 | E29: 0 | F29: 0.29100735 | G29: 0.037456946 | H29: 0.28725252
C30: GS>50 | D30: 0.5 | E30: 1 | F30: 0.70899265 | G30: 0.96254305 | H30: 0.56033345
C31: Street Lights | D31: 0 | E31: 0 | F31: 0 | G31: 0 | H31: 0

Sheet 4.  2011-2014 LRAM
B3: Legend | C3: User Inputs (Green)
C4: Auto Populated Cells (White)
C5: Instructions (Grey)
B7: Instructions | C7: 1. LDCs can apply for disposition of LRAMVA amounts at any time, but at a minimum, must do so as part of a cost of service (COS) application. The following LRAMVA work forms apply to LDCs that need to recover lost revenues from the 2011-2014 period. Please input or manually link the savings, adjustments and program savings persistence data in these tables from the LDC's Persistence Reports provided by the IESO (in Tab 7). As noted earlier, persistence data is available upon request from the IESO. Please also be advised that the same rate classes (of up to 14) are carried over from the Summary Tab 1.
C8: 2. Please ensure that the IESO verified savings adjustments apply back to the program year it relates to. For example, savings adjustments related to 2012 programs that were reported by the IESO in 2013 should be included in the 2012 program savings table. In order for persisting savings to be claimed in future years, past year's initiative level savings results need to be filled out in the tables below. If the IESO adjustments were made available to the LDC after the LRAMVA was approved, the persistence of those savings adjustments in the future can be claimed as approved LRAMVA amounts are considered to be final.
C9: 3. The work forms below include the monthly multipliers for most programs in order to claim demand savings from energy efficiency programs, consistent with the monthly multipliers indicated in the OEB's updated LRAM policy related to peak demand savings in EB-2016-0182. Demand Response (DR3) savings should generally not be included with the LRAMVA calculation, unless suported by empirical evidence. LDCs are requested to confirm the monthly multipliers for all programs each year as placeholder values are provided. If a different monthly multiplier is used, please include rationale in Tab 1-a and highlight the new multiplier that has been used.
C10: 4. LDC are requested to input the applicable rate class allocation percentages to allocate actual savings to the rate classes. The generic template currently includes the same allocation percentage for program savings and its savings adjustments. If a different allocation is proposed for savings adjustments, LDCs must provide supporting rationale in Tab 1-a and highlight the change.
C11: 5. The persistence of future savings is expected to be included in the distributor's load forecast after re-basing. LDCs are requested to delete the applicable savings persistence rows (auto-calculated after the LRAMVA totals for the year) if future year's persistence of savings is already captured in the updated load forecast. Please also provide assumptions about the years in which persistence is captured in the load forecast calculation in the "Notes" section below each table.
B13: Tables | C13: Table 4-a. 2011 Lost Revenues
C14: Table 4-b. 2012 Lost Revenues
C15: Table 4-c. 2013 Lost Revenues
C16: Table 4-d. 2014 Lost Revenues
B18: Table 4-a. 2011 Lost Revenues Work Form
B19: Program | C19: Results Status | D19: Net Energy Savings (kWh) | E19: Net Energy Savings Persistence (kWh) | N19: Monthly Multiplier | O19: Net Demand Savings (kW) | P19: Net Peak Demand Savings Persistence (kW) | Y19: Rate Allocations for LRAMVA
D20: 2011 | E20: 2012 | F20: 2013 | G20: 2014 | H20: 2015 | I20: 2016 | J20: 2017 | K20: 2018 | L20: 2019 | M20: 2020 | O20: 2011 | P20: 2012 | Q20: 2013 | R20: 2014 | S20: 2015 | T20: 2016 | U20: 2017 | V20: 2018 | W20: 2019 | X20: 2020 | Y20: ='1. LRAMVA Summary'!D50 -> Residential | Z20: ='1. LRAMVA Summary'!E50 -> GS<50 kW | AA20: ='1. LRAMVA Summary'!F50 -> GS 50 TO 4,999 KW | AB20: ='1. LRAMVA Summary'!G50 -> Street Lighting | AC20: ='1. LRAMVA Summary'!H50 | AD20: ='1. LRAMVA Summary'!I50 | AE20: ='1. LRAMVA Summary'!J50 | AF20: ='1. LRAMVA Summary'!K50 | ... AM20: ='1. LRAMVA Summary'!R50 -> Total
B21: Consumer Program | Y21: ='1. LRAMVA Summary'!D51 -> kWh | Z21: ='1. LRAMVA Summary'!E51 -> kWh | AA21: ='1. LRAMVA Summary'!F51 -> kW | AB21: ='1. LRAMVA Summary'!G51 -> kW | AC21: ='1. LRAMVA Summary'!H51 -> 0 | AD21: ='1. LRAMVA Summary'!I51 -> 0 | AE21: ='1. LRAMVA Summary'!J51 -> 0 | AF21: ='1. LRAMVA Summary'!K51 -> 0 | ... AL21: ='1. LRAMVA Summary'!Q51 -> 0
A22: 1 | B22: Appliance Retirement | C22: Verified | D22: 43725.781 | E22: 43725.781 | F22: 43725.781 | G22: 43523.796 | H22: 29725.232 | I22: 0 | J22: 0 | O22: 6.1199298 | P22: 6.1199298 | Q22: 6.1199298 | R22: 5.8940599 | S22: 3.9082652 | T22: 0 | U22: 0 | Y22: 1 | AM22: =SUM(Y22:AL22) -> 1
B23: Adjustment to 2011 savings | C23: True-up | Y23: =Y22 -> 1 | Z23: =Z22 -> 0 | AA23: =AA22 -> 0 | AB23: =AB22 -> 0 | AC23: =AC22 -> 0 | AD23: =AD22 -> 0 | AE23: =AE22 -> 0 | AF23: =AF22 -> 0 | ... AL23: =AL22 -> 0
A25: 2 | B25: Appliance Exchange | C25: Verified | D25: 1139.0643 | E25: 1139.0643 | F25: 1139.0643 | G25: 63.783491 | H25: 0 | I25: 0 | J25: 0 | O25: 1.2382046 | P25: 1.2382046 | Q25: 1.2382046 | R25: 0.035771891 | S25: 0 | T25: 0 | U25: 0 | Y25: 1 | AM25: =SUM(Y25:AL25) -> 1
B26: Adjustment to 2011 savings | C26: True-up | Y26: =Y25 -> 1 | Z26: =Z25 -> 0 | AA26: =AA25 -> 0 | AB26: =AB25 -> 0 | AC26: =AC25 -> 0 | AD26: =AD25 -> 0 | AE26: =AE25 -> 0 | AF26: =AF25 -> 0 | ... AL26: =AL25 -> 0
A28: 3 | B28: HVAC Incentives | C28: Verified | D28: 61704.381 | E28: 61704.381 | F28: 61704.381 | G28: 61704.381 | H28: 61704.381 | I28: 61704.381 | J28: 61704.381 | O28: 31.068265 | P28: 31.068265 | Q28: 31.068265 | R28: 31.068265 | S28: 31.068265 | T28: 31.068265 | U28: 31.068265 | Y28: 1 | AM28: =SUM(Y28:AL28) -> 1
B29: Adjustment to 2011 savings | C29: True-up | D29: -10571.716 | E29: -10571.716 | F29: -10571.716 | G29: -10571.716 | H29: -10571.716 | I29: -10571.716 | J29: -10571.716 | O29: -5.4691773 | P29: -5.4691773 | Q29: -5.4691773 | R29: -5.4691773 | S29: -5.4691773 | T29: -5.4691773 | U29: -5.4691773 | Y29: =Y28 -> 1 | Z29: =Z28 -> 0 | AA29: =AA28 -> 0 | AB29: =AB28 -> 0 | AC29: =AC28 -> 0 | AD29: =AD28 -> 0 | AE29: =AE28 -> 0 | AF29: =AF28 -> 0 | ... AL29: =AL28 -> 0
A31: 4 | B31: Conservation Instant Coupon Booklet | C31: Verified | D31: 20878.313 | E31: 20878.313 | F31: 20878.313 | G31: 20878.313 | H31: 19210.002 | I31: 17387.442 | J31: 13550.872 | O31: 1.2871493 | P31: 1.2871493 | Q31: 1.2871493 | R31: 1.2871493 | S31: 1.2099016 | T31: 1.1255117 | U31: 0.94786721 | Y31: 1 | AM31: =SUM(Y31:AL31) -> 1
B32: Adjustment to 2011 savings | C32: True-up | D32: 308.76911 | E32: 308.76911 | F32: 308.76911 | G32: 308.76911 | H32: 308.76911 | I32: 282.1164 | J32: 173.07597 | O32: 0.018032936 | P32: 0.018032936 | Q32: 0.018032936 | R32: 0.018032936 | S32: 0.018032936 | T32: 0.016798837 | U32: 0.011749943 | Y32: =Y31 -> 1 | Z32: =Z31 -> 0 | AA32: =AA31 -> 0 | AB32: =AB31 -> 0 | AC32: =AC31 -> 0 | AD32: =AD31 -> 0 | AE32: =AE31 -> 0 | AF32: =AF31 -> 0 | ... AL32: =AL31 -> 0
A34: 5 | B34: Bi-Annual Retailer Event | C34: Verified | D34: 32917.734 | E34: 32917.734 | F34: 32917.734 | G34: 32917.734 | H34: 30084.385 | I34: 26989.07 | J34: 20348.038 | O34: 1.8834711 | P34: 1.8834711 | Q34: 1.8834711 | R34: 1.8834711 | S34: 1.7522787 | T34: 1.6089565 | U34: 1.3014571 | Y34: 1 | AM34: =SUM(Y34:AL34) -> 1
B35: Adjustment to 2011 savings | C35: True-up | D35: 2445.6777 | E35: 2445.6777 | F35: 2445.6777 | G35: 2445.6777 | H35: 2445.6777 | I35: 2222.42 | J35: 1199.8605 | O35: 0.12082159 | P35: 0.12082159 | Q35: 0.12082159 | R35: 0.12082159 | S35: 0.12082159 | T35: 0.1104841 | U35: 0.063136581 | Y35: =Y34 -> 1 | Z35: =Z34 -> 0 | AA35: =AA34 -> 0 | AB35: =AB34 -> 0 | AC35: =AC34 -> 0 | AD35: =AD34 -> 0 | AE35: =AE34 -> 0 | AF35: =AF34 -> 0 | ... AL35: =AL34 -> 0
A37: 6 | B37: Retailer Co-op | C37: Verified | D37: 0 | E37: 0 | F37: 0 | G37: 0 | H37: 0 | I37: 0 | J37: 0 | O37: 0 | P37: 0 | Q37: 0 | R37: 0 | S37: 0 | T37: 0 | U37: 0 | Y37: 1 | AM37: =SUM(Y37:AL37) -> 1
B38: Adjustment to 2011 savings | C38: True-up | Y38: =Y37 -> 1 | Z38: =Z37 -> 0 | AA38: =AA37 -> 0 | AB38: =AB37 -> 0 | AC38: =AC37 -> 0 | AD38: =AD37 -> 0 | AE38: =AE37 -> 0 | AF38: =AF37 -> 0 | ... AL38: =AL37 -> 0
A40: 7 | B40: Residential Demand Response | C40: Verified | AM40: =SUM(Y40:AL40) -> 0
B41: Adjustment to 2011 savings | C41: True-up | Y41: =Y40 -> 0 | Z41: =Z40 -> 0 | AA41: =AA40 -> 0 | AB41: =AB40 -> 0 | AC41: =AC40 -> 0 | AD41: =AD40 -> 0 | AE41: =AE40 -> 0 | AF41: =AF40 -> 0 | ... AL41: =AL40 -> 0
A43: 8 | B43: Residential Demand Response (IHD) | C43: Verified | AM43: =SUM(Y43:AL43) -> 0
B44: Adjustment to 2011 savings | C44: True-up | Y44: =Y43 -> 0 | Z44: =Z43 -> 0 | AA44: =AA43 -> 0 | AB44: =AB43 -> 0 | AC44: =AC43 -> 0 | AD44: =AD43 -> 0 | AE44: =AE43 -> 0 | AF44: =AF43 -> 0 | ... AL44: =AL43 -> 0
A46: 9 | B46: Residential New Construction | C46: Verified | AM46: =SUM(Y46:AL46) -> 0
B47: Adjustment to 2011 savings | C47: True-up | Y47: =Y46 -> 0 | Z47: =Z46 -> 0 | AA47: =AA46 -> 0 | AB47: =AB46 -> 0 | AC47: =AC46 -> 0 | AD47: =AD46 -> 0 | AE47: =AE46 -> 0 | AF47: =AF46 -> 0 | ... AL47: =AL46 -> 0
B49: Business Program
A50: 10 | B50: Retrofit | C50: Verified | D50: 340676.31 | E50: 340676.31 | F50: 340676.31 | G50: 340676.31 | H50: 340676.31 | I50: 340676.31 | J50: 340676.31 | N50: 12 | O50: 61.916212 | P50: 61.916212 | Q50: 61.916212 | R50: 61.916212 | S50: 61.916212 | T50: 61.916212 | U50: 61.916212 | Z50: 0.5 | AA50: 0.5 | AM50: =SUM(Y50:AL50) -> 1
B51: Adjustment to 2011 savings | C51: True-up | N51: =N50 -> 12 | Y51: =Y50 -> 0 | Z51: =Z50 -> 0.5 | AA51: =AA50 -> 0.5 | AB51: =AB50 -> 0 | AC51: =AC50 -> 0 | AD51: =AD50 -> 0 | AE51: =AE50 -> 0 | AF51: =AF50 -> 0 | ... AL51: =AL50 -> 0
A53: 11 | B53: Direct Install Lighting | C53: Verified | D53: 267169.06 | E53: 267169.06 | F53: 267169.06 | G53: 182289.73 | H53: 182289.73 | I53: 182289.73 | J53: 19233.308 | N53: 12 | O53: 106.12394 | P53: 106.12394 | Q53: 106.12394 | R53: 75.402852 | S53: 75.402852 | T53: 75.402852 | U53: 7.5132095 | Z53: 1 | AM53: =SUM(Y53:AL53) -> 1
B54: Adjustment to 2011 savings | C54: True-up | D54: 5137.2573 | E54: 5137.2573 | F54: 5137.2573 | G54: 4940.0127 | H54: 4940.0127 | I54: 4940.0127 | J54: 740.32887 | N54: =N53 -> 12 | O54: 2.6223072 | P54: 2.6223072 | Q54: 2.6223072 | R54: 2.5370476 | S54: 2.5370476 | T54: 2.5370476 | U54: 0.38021149 | Y54: =Y53 -> 0 | Z54: =Z53 -> 1 | AA54: =AA53 -> 0 | AB54: =AB53 -> 0 | AC54: =AC53 -> 0 | AD54: =AD53 -> 0 | AE54: =AE53 -> 0 | AF54: =AF53 -> 0 | ... AL54: =AL53 -> 0
A56: 12 | B56: Building Commissioning | C56: Verified | N56: 3 | AM56: =SUM(Y56:AL56) -> 0
...

Sheet 5.  2015-2020 LRAM
B14: Legend | C14: User Inputs (Green)
C15: Auto Populated Cells (White)
C16: Instructions (Grey)
B18: Instructions | C18: 1. LDCs can apply for disposition of LRAMVA amounts at any time, but at a minimum, must do so as part of a cost of service (COS) application. The following LRAMVA work forms apply to LDCs that need to recover lost revenues from the 2015-2020 period. Please input or manually link the savings, adjustments and program savings persistence data in these tables from the LDC's Persistence Reports provided by the IESO (in Tab 7). As noted earlier, persistence data is available upon request from the IESO. Please also be advised that the same rate classes (of up to 14) are carried over from the Summary Tab 1.
C19: 2. Please ensure that the IESO verified savings adjustments apply back to the program year it relates to. For example, savings adjustments related to 2016 programs that were reported by the IESO in 2017 should be included in the 2016 program savings table. In order for persisting savings to be claimed in future years, past year's initiative level savings results need to be filled out in the tables below. If the IESO adjustments were made available to the LDC after the LRAMVA was approved, the persistence of those savings adjustments in the future can be claimed as approved LRAMVA amounts are considered to be final.
C20: 3. The work forms below include the monthly multipliers for most programs in order to claim demand savings from energy efficiency programs, consistent with the monthly multipliers indicated in the OEB's updated LRAM policy related to peak demand savings in EB-2016-0182. Demand Response (DR3) savings should generally not be included with the LRAMVA calculation, unless suported by empirical evidence. LDCs are requested to confirm the monthly multipliers for all programs each year as placeholder values are provided. If a different monthly multiplier is used, please include rationale in Tab 1-a and highlight the new multiplier that has been used.
C21: 4. LDC are requested to input the applicable rate class allocation percentages to allocate actual savings to the rate classes. The generic template currently includes the same allocation percentage for program savings and its savings adjustments. If a different allocation is proposed for savings adjustments, LDCs must provide supporting rationale in Tab 1-a and highlight the change.
C22: 5. The persistence of future savings is expected to be included in the distributor's load forecast after re-basing. LDCs are requested to delete the applicable savings persistence rows (auto-calculated after the LRAMVA totals for the year) if future year's persistence of savings is already captured in the updated load forecast. Please also provide assumptions about the years in which persistence is captured in the load forecast calculation in the "Notes" section below each table.
B24: Tables | C24: Table 5-a. 2015 Lost Revenues
C25: Table 5-b. 2016 Lost Revenues
C26: Table 5-c. 2017 Lost Revenues
C27: Table 5-d. 2018 Lost Revenues
C28: Table 5-e. 2019 Lost Revenues
C29: Table 5-f. 2020 Lost Revenues
B33: Table 5-a. 2015 Lost Revenues Work Form
B34: Program | C34: Results Status | D34: Net Energy Savings (kWh) | E34: Net Energy Savings Persistence (kWh) | N34: Monthly Multiplier | O34: Net Demand Savings (kW) | P34: Net Peak Demand Savings Persistence (kW) | Y34: Rate Allocations for LRAMVA
D35: 2015 | E35: 2016 | F35: 2017 | G35: 2018 | H35: 2019 | I35: 2020 | J35: 2021 | K35: 2022 | L35: 2023 | M35: 2024 | O35: 2015 | P35: 2016 | Q35: 2017 | R35: 2018 | S35: 2019 | T35: 2020 | U35: 2021 | V35: 2022 | W35: 2023 | X35: 2024 | Y35: ='1. LRAMVA Summary'!D50 -> Residential | Z35: ='1. LRAMVA Summary'!E50 -> GS<50 kW | AA35: ='1. LRAMVA Summary'!F50 -> GS 50 TO 4,999 KW | AB35: ='1. LRAMVA Summary'!G50 -> Street Lighting | AC35: ='1. LRAMVA Summary'!H50 | AD35: ='1. LRAMVA Summary'!I50 | AE35: ='1. LRAMVA Summary'!J50 | AF35: ='1. LRAMVA Summary'!K50 | ... AM35: ='1. LRAMVA Summary'!R50 -> Total
B36: Legacy Framework | Y36: ='1. LRAMVA Summary'!D51 -> kWh | Z36: ='1. LRAMVA Summary'!E51 -> kWh | AA36: ='1. LRAMVA Summary'!F51 -> kW | AB36: ='1. LRAMVA Summary'!G51 -> kW | AC36: ='1. LRAMVA Summary'!H51 -> 0 | AD36: ='1. LRAMVA Summary'!I51 -> 0 | AE36: ='1. LRAMVA Summary'!J51 -> 0 | AF36: ='1. LRAMVA Summary'!K51 -> 0 | ... AL36: ='1. LRAMVA Summary'!Q51 -> 0
B37: Residential Program
