{"text_format":"1","workbook":"xlsx","n_sheets":30,"sheets":["INDEX","Model Specs","1. Information Sheet","2. Current Tariff Schedule","3. Continuity Schedule","4. Billing Det. for Def-Var","5. Allocating Def-Var Balances","6. GA Calculation","6A. GA Allocation_Class A","6B. GA Allocation_new Class B ","7. CBR Calculation","7A. CBR  Allocation_Class A","7B. CBR Allocation_new Class B","8. Calculation of Def-Var RR","9. STS-Tax Change","10. Shared Tax - RR","11. RTSR - Current Rates","12. RTSR-UTRs & Sub-Tx","13. RTSR-Historic Wholesale","14. RTSR-Current Wholesale","15. RTSR-Forecast Wholesale","16. RTSR-Rates to Forecast","17. Rev2Cost-GDPIPI","18. Regulatory Charges","19. Additional Rates","20. Final Tariff Schedule","21. Bill Impacts","RATES","BoD Reporting","10th percentile"],"not_rendered":{"charts":0,"images":0,"macros":1,"external_links":4,"defined_names":95,"comments":5,"pivot_tables":0},"unopened":[],"bounds":{"document_bytes":16777216,"sheet_cells":100000,"rows_first":2000,"rows_last":500,"rows_between":2000,"halvings":0,"cell_chars":16384,"cell_head_chars":4096},"cells_cut":0,"cells_raw":0,"read":"whole","date_system":"1900"}

{"sheet":"INDEX","index":0,"n_rows":30,"n_cols":2,"rows_kept":30,"cut":false,"hidden":false,"merged":[]}
["INDEX","Required updates (if not specifically stated, no input required)"]
["Model Specs"]
["1. Information Sheet","update"]
["2. Current Tariff Schedule"]
["3. Continuity Schedule"]
["4. Billing Det. for Def-Var","column T - Account 1568 balances by rate class"]
["5. Allocating Def-Var Balances"]
["6. GA Calculation","columns  E & G - 2016 Class A data; NEW - Column H"]
["6A. GA Allocation_Class A","Table \"Allocation of GA Balances to Former Class B Customers\" - Class A data"]
["6B. GA Allocation_new Class B ","NEW - Input only required in Table \"Allocation of GA Balances to Former Class A Customers\""]
["7. CBR Calculation"]
["7A. CBR  Allocation_Class A"]
["7B. CBR Allocation_new Class B"]
["8. Calculation of Def-Var RR","update recovery period, if different from the default \"12\""]
["9. STS-Tax Change"]
["10. Shared Tax - RR"]
["11. RTSR - Current Rates"]
["12. RTSR-UTRs & Sub-Tx","Update wholesale rates, if required"]
["13. RTSR-Historic Wholesale"]
["14. RTSR-Current Wholesale"]
["15. RTSR-Forecast Wholesale"]
["16. RTSR-Rates to Forecast"]
["17. Rev2Cost-GDPIPI"]
["18. Regulatory Charges"]
["19. Additional Rates"]
["20. Final Tariff Schedule","map rates from  RATES tab"]
["21. Bill Impacts"]
["RATES"]
["BoD Reporting"]
["10th percentile","not active"]

{"sheet":"Model Specs","index":1,"n_rows":34,"n_cols":12,"rows_kept":34,"cut":false,"hidden":false,"merged":[]}
["Back to Index",null,null,null,null,null,null,null,null,null,"Lists:"]
[null,"Model Specifications"]
[null,null,null,null,null,null,null,null,null,null,"Yes"]
[null,"Utility","Alectra - Hydro One Brampton",null,null,null,null,null,null,null,"No"]
[]
[null,"Applying for Rates Effective","2018-01-01",null,null,null,null,null,null,null,"kWh"]
[null,null,null,null,null,null,null,null,null,null,"kW"]
[null,null,null,null,null,null,null,null,null,null,"kVA"]
[null,"Line Loss Factor",1.0341]
[null,null,null,null,null,null,null,null,null,null,"Alectra - PowerStream"]
[null,null,null,null,null,null,null,null,null,null,"Alectra - Enersource"]
[null,null,null,null,null,null,null,null,null,null,"Alectra - Horizon Utilites"]
[null,null,null,null,null,null,null,null,null,null,"Alectra - Hydro One Brampton"]
[null,null,"Rate Classes (select from the List)"]
[null,{"$f":"IFERROR(VLOOKUP(C15,$K$16:$L$29,2,FALSE),\"\")","v":"RES"},"RESIDENTIAL SERVICE CLASSIFICATION"]
[null,{"$f":"IFERROR(VLOOKUP(C16,$K$16:$L$29,2,FALSE),\"\")","v":"GSL"},"GENERAL SERVICE LESS THAN 50 kW SERVICE CLASSIFICATION",null,null,null,null,null,null,null,"RESIDENTIAL SERVICE CLASSIFICATION","RES"]
[null,"GS50_699","GENERAL SERVICE 50 to 699 KW SERVICE CLASSIFICATION",null,null,null,null,null,null,null,"GENERAL SERVICE LESS THAN 50 kW SERVICE CLASSIFICATION","GSL"]
[null,"GS700","GENERAL SERVICE 700 to 4,999 KW SERVICE CLASSIFICATION",null,null,null,null,null,null,null,"GENERAL SERVICE 50 to 499 kW SERVICE CLASSIFICATION","GS50_499"]
[null,"LU","LARGE USE SERVICE CLASSIFICATION",null,null,null,null,null,null,null,"GENERAL SERVICE 50 to 699 KW SERVICE CLASSIFICATION","GS50_699"]
[null,"SB","STANDBY POWER SERVICE CLASSIFICATION ",null,null,null,null,null,null,null,"GENERAL SERVICE 500 to 4,999 kW SERVICE CLASSIFICATION","GS500"]
[null,"USL","UNMETERED SCATTERED LOAD SERVICE CLASSIFICATION",null,null,null,null,null,null,null,"GENERAL SERVICE 700 to 4,999 KW SERVICE CLASSIFICATION","GS700"]
[null,"SL","STREET LIGHTING SERVICE CLASSIFICATION",null,null,null,null,null,null,null,"LARGE USE SERVICE CLASSIFICATION","LU"]
[null,"EMB","EMBEDDED DISTRIBUTOR SERVICE CLASSIFICATION",null,null,null,null,null,null,null,"UNMETERED SCATTERED LOAD SERVICE CLASSIFICATION","USL"]
[null,"DG","DISTRIBUTED GENERATION [DGEN] SERVICE CLASSIFICATION",null,null,null,null,null,null,null,"STREET LIGHTING SERVICE CLASSIFICATION","SL"]
[null,"WST","ENERGY FROM WASTE SERVICE CLASSIFICATION",null,null,null,null,null,null,null,"STANDBY POWER SERVICE CLASSIFICATION ","SB"]
[null,"",null,null,null,null,null,null,null,null,"SENTINEL LIGHTING SERVICE CLASSIFICATION","SEN"]
[null,"",null,null,null,null,null,null,null,null,"EMBEDDED DISTRIBUTOR SERVICE CLASSIFICATION","EMB"]
[null,"",null,null,null,null,null,null,null,null,"DISTRIBUTED GENERATION [DGEN] SERVICE CLASSIFICATION","DG"]
[null,"",null,null,null,null,null,null,null,null,"ENERGY FROM WASTE SERVICE CLASSIFICATION","WST"]
[null,""]
[null,""]
[]
[]
[null,"Have one or more Class A customers","Yes"]

{"sheet":"1. Information Sheet","index":2,"n_rows":44,"n_cols":22,"rows_kept":44,"cut":false,"hidden":false,"merged":[[43,1,43,7],[25,6,25,8],[27,6,27,8],[29,1,29,5],[29,6,29,8],[31,1,31,5],[31,6,31,8],[36,3,36,12],[38,3,38,14],[40,3,40,13],[1,1,8,14],[23,6,23,10],[13,6,13,12],[15,6,15,10],[17,6,17,8],[19,6,19,11],[21,6,21,8]]}
["Back to Index",null,null,null,null,null,null,null,null,null,null,null,null,null,null,null,null,null,null,null,null,"a"]
[null,"INCENTIVE REGULATION MODEL FOR 2018 FILERS"]
[]
[]
[]
[]
[]
[]
[]
[]
[]
[null,null,null,null,null,null,null,null,null,null,null,null,null,"Version",1]
[]
[null,null,null,null,null,"Utility Name   ","Alectra - Hydro One Brampton"]
[]
[null,null,null,null,null,"Service Territory"]
[]
[null,null,null,null,null,"Assigned EB Number","EB-2017-0024"]
[]
[null,null,null,null,null,"Name of Contact and Title","Indy J. Butany-DeSouza"]
[]
[null,null,null,null,null,"Phone Number   ","905-821-5727"]
[]
[null,null,null,null,null,"Email Address   ","indy.butany@alectrautilities.com"]
[]
[null,null,null,null,null,"We are applying for rates effective   ","2018-01-01"]
[]
[null,null,null,null,null,"Rate-Setting Method","Price Cap IR"]
[]
[null,"Please indicate in which Rate Year the Group 1 accounts were last cleared1",null,null,null,null,2017]
[]
[null,"Please indicate the last Cost of Service \nRe-Basing Year",null,null,null,null,2015]
[]
[]
[null,null,"Notes"]
[]
[null,null,null,"Pale gray cells represent input cells."]
[]
[null,null,null,"Pale blue cells represent drop-down lists.  "]
[]
[null,null,null,"White cells contain fixed values, automatically generated values or formulae. "]
[]
[]
[null,"Note:  \n1.  Rate year of application"]

{"sheet":"2. Current Tariff Schedule","index":3,"n_rows":464,"n_cols":4,"rows_kept":464,"cut":false,"hidden":false,"merged":[[459,1,459,3],[440,1,440,3],[442,1,442,3],[434,1,434,3],[436,1,436,3],[438,1,438,3],[399,1,399,3],[393,1,393,3],[395,1,395,3],[397,1,397,3],[381,1,381,3],[371,1,371,3],[373,1,373,3],[375,1,375,3],[377,1,377,3],[379,1,379,3],[363,1,363,3],[365,1,365,3],[368,1,368,3],[369,1,369,3],[353,1,353,3],[355,1,355,3],[357,1,357,3],[359,1,359,3],[361,1,361,3],[352,1,352,3],[334,1,334,3],[336,1,336,3],[324,1,324,3],[326,1,326,3],[328,1,328,3],[330,1,330,3],[332,1,332,3],[323,1,323,3],[304,1,304,3],[306,1,306,3],[308,1,308,3],[295,1,295,3],[296,1,296,3],[298,1,298,3],[300,1,300,3],[302,1,302,3],[286,1,286,3],[288,1,288,3],[290,1,290,3],[292,1,292,3],[279,1,279,3],[280,1,280,3],[282,1,282,3],[284,1,284,3],[259,1,259,3],[261,1,261,3],[249,1,249,3],[251,1,251,3],[253,1,253,3],[255,1,255,3],[257,1,257,3],[248,1,248,3],[222,1,222,3],[224,1,224,3],[226,1,226,3],[228,1,228,3],[230,1,230,3],[217,1,217,3],[218,1,218,3],[220,1,220,3],[195,1,195,3],[197,1,197,3],[199,1,199,3],[186,1,186,3],[187,1,187,3],[189,1,189,3],[191,1,191,3],[193,1,193,3],[160,1,160,3],[162,1,162,3],[164,1,164,3],[166,1,166,3],[153,1,153,3],[154,1,154,3],[156,1,156,3],[158,1,158,3],[133,1,133,3],[135,1,135,3],[123,1,123,3],[125,1,125,3],[127,1,127,3],[129,1,129,3],[131,1,131,3],[122,1,122,3],[97,1,97,3],[99,1,99,3],[101,1,101,3],[103,1,103,3],[90,1,90,3],[91,1,91,3],[93,1,93,3],[95,1,95,3],[59,1,59,3],[51,1,51,3],[53,1,53,3],[55,1,55,3],[56,1,56,3],[57,1,57,3],[13,1,13,2],[15,1,15,2],[16,1,16,2],[10,1,10,2],[11,1,11,2],[12,1,12,2],[1,1,8,3],[50,1,50,3],[25,1,25,3],[27,1,27,3],[29,1,29,3],[31,1,31,3],[17,1,17,3],[18,1,18,3],[19,1,19,3],[21,1,21,3],[23,1,23,3]]}
["Back to Index"]
[null,"INCENTIVE REGULATION MODEL FOR 2018 FILERS"]
[]
[]
[]
[]
[]
[]
[]
[]
[null,{"$f":"'Model Specs'!C4","v":"Alectra - Hydro One Brampton"}]
[null,"TARIFF OF RATES AND CHARGES"]
[null,"Effective Date January 1, 2017"]
[null,"Implementation Date January 1, 2017"]
[]
[null,"This schedule supersedes and replaces all previously "]
[null,"approved schedules of Rates, Charges and Loss Factors"]
[null,"EB-2016-0080"]
[null,"RESIDENTIAL SERVICE CLASSIFICATION"]
[null,"This classification applies to an account where the electricity is supplied exclusively to single-family dwelling units for domestic or household purposes, including seasonal occupancy. This includes, but is not limited to, detached houses, one unit of a semi-detached, duplex, triplex or quadruplex house, with a residential zoning. Separately metered dwellings within a town house complex also qualify as residential customers. Further servicing details are available in the distributor’s Conditions of Service."]
[]
[null,"APPLICATION"]
[]
[null,"The application of these rates and charges shall be in accordance with the Licence of the Distributor and any Code or Order of the Ontario Energy Board, and amendments thereto as approved by the Ontario Energy Board, which may be applicable to the administration of this schedule."]
[]
[null,"No rates and charges for the distribution of electricity and charges to meet the costs of any work or service done or furnished for the purpose of the distribution of electricity shall be made except as permitted by this schedule, unless required by the Distributor’s Licence or a Code or Order of the Ontario Energy Ontario Energy Board, and amendments thereto as approved by the Ontario Energy Board, or as specified herein."]
[]
[null,"Unless specifically noted, this schedule does not contain any charges for the electricity commodity, be it under the Regulated Price Plan, a contract with a retailer or the wholesale market price, as applicable. In addition, the charges in the MONTHLY RATES AND CHARGES - Regulatory Component of this schedule do not apply to a customer that is an embedded wholesale market participant."]
[]
[null,"It should be noted that this schedule does not list any charges, assessments, or credits that are required by law to be invoiced by a distributor and that are not subject to Ontario Energy Board approval, such as the Debt Retirement Charge, the Global Adjustment and the HST."]
[]
[null,"MONTHLY RATES AND CHARGES - Delivery Component"]
[]
["R_F","Service Charge","$",17.64]
[null,"Rate Rider for Smart Metering Entity Charge - effective until October 31, 2018","$",0.79]
["R_V","Distribution Volumetric Rate","$/kWh",8.0000000000000002E-3]
["R_GA16","Rate Rider for Disposition of Global Adjustment Account (2018) - effective until December 31, 2017\n      Applicable only for Non-RPP Customers","$/kWh",4.8999999999999998E-3]
["R_LRVA16","Rate Rider for Disposition of Lost Revenue Adjustment Mechanism Variance Account (LRAMVA) (2018)\n      - effective until December 31, 2017","$/kWh",1E-4]
["R_DVA16","Rate Rider for Disposition of Deferral/Variance Accounts (2018) - effective until December 31, 2017","$/kWh",-3.8E-3]
["R_1576","Rate Rider for Disposition of Account 1576 - effective until December 31, 2017","$/kWh",5.0000000000000001E-4]
["R_CBR16","Rate Rider for Disposition of CBR Class B (2017) - effective until  December 31, 2017","$/kWh",2.9999999999999997E-4]
["R_TN","Retail Transmission Rate - Network Service Rate","$/kWh",7.4000000000000003E-3]
["R_TC","Retail Transmission Rate - Line and Transformation Connection Service Rate","$/kWh",5.7000000000000002E-3]
[]
[null,"MONTHLY RATES AND CHARGES - Regulatory Component"]
[]
[null,"Wholesale Market Service Rate","$/kWh",3.5999999999999999E-3]
[null,"Rural or Remote Electricity Rate Protection Charge (RRRP)","$/kWh",1.2999999999999999E-3]
[null,"Ontario Electricity Support Program Charge (OESP)","$/kWh",1.1000000000000001E-3]
[null,"Standard Supply Service - Administrative Charge (if applicable)","$",0.25]
[null,"ONTARIO ELECTRICITY SUPPORT PROGRAM RECIPIENTS"]
[null,"In addition to the charges specified on page 1 of this tariff of rates and charges, the following credits are to be applied to eligible residential customers."]
[]
[null,"APPLICATION"]
[]
[null,"The application of the charges are in accordance with the Distribution System Code (Section 9) and subsection 79.2(4) of the Ontario Energy Board Act, 1998."]
[null,"The application of these charges shall be in accordance with the Licence of the Distributor and any Code or Order of the Ontario Energy Board, and amendments thereto as approved by the Ontario Energy Board, which may be applicable to the administration of this schedule."]
[null,"In this class:\n\n“Aboriginal person” includes a person who is a First Nations person, a Métis person or an Inuit person;\n“account-holder” means a consumer who has an account with a distributor that falls within a residential-rate classification as specified in a rate order made by the Ontario Energy Board under section 78 of the Act, and who lives at the service address to which the account relates for at least six months in a year;\n“electricity-intensive medical device” means an oxygen concentrator, a mechanical ventilator, or such other device as may be specified by the Ontario Energy Board;\n“household” means the account-holder and any other people living at the accountholder’s service address for at least six months in a year, including people other than the account-holder’s spouse, children or other relatives;\n“household income” means the combined annual after-tax income of all members of a household aged 16 or over;"]
[]
[null,"MONTHLY RATES AND CHARGES"]
[]
[]
[null,"Class A"]
[null,"(a) account-holders with a household income of $28,000 or less living in a household of one or two persons;\n(b) account-holders with a household income of between $28,001 and $39,000 living in a household of three persons;\n(c) account-holders with a household income of between $39,001 and $48,000 living in a household of five persons; and\n(d) account-holders with a household income of between $48,001 and $52,000 living in a household of seven or more persons;\nbut does not include account-holders in Class E.\nOESP Credit","$",-30]
[]
[null,"Class B"]
[null,"(a) account-holders with a household income of $28,000 or less living in a household of three persons;\n(b) account-holders with a household income of between $28,001 and $39,000 living in a household of four persons;\n(c) account-holders with a household income of between $39,001 and $48,000 living in a household of six persons;\nbut does not include account-holders in Class F.\nOESP Credit","$",-34]
[]
[null,"Class C"]
[null,"(a) account-holders with a household income of $28,000 or less living in a household of four persons;\n(b) account-holders with a household income of between $28,001 and $39,000 living in a household of five persons;\n(c) account-holders with a household income of between $39,001 and $48,000 living in a household of seven or more persons;\nbut does not include account-holders in Class G.\nOESP Credit","$",-38]
[]
[null,"Class D"]
[null,"(a) account-holders with a household income of $28,000 or less living in a household\nof five persons; and\n(b) account-holders with a household income of between $28,001 and $39,000 living\nin a household of six persons;\nbut does not include account-holders in Class H.\nOESP Credit","$",-42]
[]
[null,"Class E"]
[null,"Class E comprises account-holders with a household income and household size described under Class A who also meet any of the following conditions:\n(a) the dwelling to which the account relates is heated primarily by electricity;\n(b) the account-holder or any member of the account-holder’s household is an Aboriginal person; or\n(c) the account-holder or any member of the account-holder’s household regularly uses, for medical purposes, an electricity-intensive medical device at the dwelling to which the account relates.\nOESP Credit","$",-45]
[]
[null,"Class F"]
[null,"(a) account-holders with a household income of $28,000 or less living in a household of six or more persons;\n(b) account-holders with a household income of between $28,001 and $39,000 living in a household of seven or more persons; or\n(c) account-holders with a household income and household size described under Class B who also meet any of the following conditions:"]
[null,"i. the dwelling to which the account relates is heated primarily by electricity;\nii. the account-holder or any member of the account-holder’s household is an Aboriginal person; or\niii. the account-holder or any member of the account-holder’s household regularly uses, for medical purposes, an electricity-intensive medical device at the dwelling to which the account relates"]
[null,"OESP Credit","$",-50]
[]
[null,"Class G"]
[null,"Class G comprises account-holders with a household income and household size described under Class C who also meet any of the following conditions:\n(a) the dwelling to which the account relates is heated primarily by electricity;\n(b) the account-holder or any member of the account-holder’s household is an Aboriginal person; or\n(c) the account-holder or any member of the account-holder’s household regularly uses, for medical purposes, an electricity-intensive medical device at the dwelling to which the account relates.\nOESP Credit","$",-55]
[]
[null,"Class H"]
[null,"Class H comprises account-holders with a household income and household size described under Class D who also meet any of the following conditions:\n(a) the dwelling to which the account relates is heated primarily by electricity;\n(b) the account-holder or any member of the account-holder’s household is an Aboriginal person ; or\n(c) the account-holder or any member of the account-holder’s household regularly uses, for medical purposes, an electricity-intensive medical device at the dwelling to which the account relates.\nOESP Credit","$",-60]
[]
[null,"Class I"]
[null,"Class I comprises account-holders with a household income and household size described under paragraphs (a) or (b) of Class F who also meet any of the following conditions:\n(a) the dwelling to which the account relates is heated primarily by electricity;\n(b) the account-holder or any member of the account-holder’s household is an Aboriginal person; or\n(c) the account-holder or any member of the account-holder’s household regularly uses, for medical purposes, an electricity-intensive medical device at the dwelling to which the account relates.\nOESP Credit","$",-75]
[null,"GENERAL SERVICE LESS THAN 50 KW SERVICE CLASSIFICATION"]
[null,"This classification applies to a non residential account whose average monthly maximum demand is less than, or is forecast to be less than, 50 kW. Multi-unit residential establishments such as apartment buildings supplied through one service (bulk metered) shall normally be classified as general service. Where service is provided to combined residential and business, or residential and agricultural, whether seasonal or all-year premises, and the wiring does not provide for separate metering, the service shall normally be classed as general service. Further servicing details are available in the distributor’s Conditions of Service."]
[]
[null,"APPLICATION"]
[]
[null,"The application of these rates and charges shall be in accordance with the Licence of the Distributor and any Code or Order of the Ontario Energy Board, and amendments thereto as approved by the Ontario Energy Board, which may be applicable to the administration of this schedule."]
[]
[null,"No rates and charges for the distribution of electricity and charges to meet the costs of any work or service done or furnished for the purpose of the distribution of electricity shall be made except as permitted by this schedule, unless required by the Distributor’s Licence or a Code or Order of the Ontario Energy Board, and amendments thereto as approved by the Ontario Energy Board, or as specified herein."]
[]
[null,"Unless specifically noted, this schedule does not contain any charges for the electricity commodity, be it under the Regulated Price Plan, a contract with a retailer or the wholesale market price, as applicable. In addition, the charges in the MONTHLY RATES AND CHARGES - Regulatory Component of this schedule do not apply to a customer that is an embedded wholesale market participant."]
[]
[null,"It should be noted that this schedule does not list any charges, assessments, or credits that are required by law to be invoiced by a distributor and that are not subject to Ontario Energy Board approval, such as the Debt Retirement Charge, the Global Adjustment and the HST."]
[]
[null,"MONTHLY RATES AND CHARGES - Delivery Component"]
[]
["GSL_F","Service Charge","$",25.12]
[null,"Rate Rider for Smart Metering Entity Charge - effective until October 31, 2018","$",0.79]
["GSL_V","Distribution Volumetric Rate","$/kWh",1.67E-2]
["GSL_GA16","Rate Rider for Disposition of Global Adjustment Account (2018) - effective until December 31, 2017\n      Applicable only for Non-RPP Customers","$/kWh",4.8999999999999998E-3]
["GSL_LRVA16","Rate Rider for Disposition of Lost Revenue Adjustment Mechanism Variance Account (LRAMVA) (2018)\n      - effective until December 31, 2017","$/kWh",1.4E-3]
["GSL_DVA16","Rate Rider for Disposition of Deferral/Variance Accounts (2018) - effective until December 31, 2017","$/kWh",-3.8E-3]
["GSL_1576","Rate Rider for Disposition of Account 1576 - effective until December 31, 2017","$/kWh",5.0000000000000001E-4]
["GSL_CBR16","Rate Rider for Disposition of CBR Class B (2017) - effective until  December 31, 2017","$/kWh",2.9999999999999997E-4]
["GSL_TN","Retail Transmission Rate - Network Service Rate","$/kWh",6.6E-3]
["GSL_TC","Retail Transmission Rate - Line and Transformation Connection Service Rate","$/kWh",4.7999999999999996E-3]
[]
[null,"MONTHLY RATES AND CHARGES - Regulatory Component"]
[]
[null,"Wholesale Market Service Rate","$/kWh",3.5999999999999999E-3]
[null,"Rural or Remote Electricity Rate Protection Charge (RRRP)","$/kWh",1.2999999999999999E-3]
[null,"Ontario Electricity Support Program Charge (OESP)","$/kWh",1.1000000000000001E-3]
[null,"Standard Supply Service - Administrative Charge (if applicable)","$",0.25]
[null,"GENERAL SERVICE 50 TO 699 KW SERVICE CLASSIFICATION"]
[null,"This classification applies to a non residential account whose average monthly maximum demand used for billing purposes is equal to or greater than, or is forecast to be equal to or greater than, 50 kW but less than 700 kW. Further servicing details are available in the distributor’s Conditions of Service."]
[]
[null,"APPLICATION"]
[]
[null,"The application of these rates and charges shall be in accordance with the Licence of the Distributor and any Code or Order of the Ontario Energy Board, and amendments thereto as approved by the Ontario Energy Board, which may be applicable to the administration of this schedule."]
[]
[null,"No rates and charges for the distribution of electricity and charges to meet the costs of any work or service done or furnished for the purpose of the distribution of electricity shall be made except as permitted by this schedule, unless required by the Distributor’s Licence or a Code or Order of the Ontario Energy Board, and amendments thereto as approved by the Ontario Energy Board, or as specified herein."]
[]
[null,"Unless specifically noted, this schedule does not contain any charges for the electricity commodity, be it under the Regulated Price Plan, a contract with a retailer or the wholesale market price, as applicable. In addition, the charges in the MONTHLY RATES AND CHARGES - Regulatory Component of this schedule do not apply to a customer that is an embedded wholesale market participant."]
[]
[null,"It should be noted that this schedule does not list any charges, assessments, or credits that are required by law to be invoiced by a distributor and that are not subject to Ontario Energy Board approval, such as the Debt Retirement Charge, the Global Adjustment and the HST."]
[]
[null,"MONTHLY RATES AND CHARGES - Delivery Component"]
[]
["GS50_699_F","Service Charge","$",125.33]
["GS50_699_V","Distribution Volumetric Rate","$/kW",2.8386999999999998]
["GS50_699_GA16","Rate Rider for Disposition of Global Adjustment Account (2018) - effective until December 31, 2017\n      Applicable only for Non-RPP Customers","$/kWh",4.8999999999999998E-3]
["GS50_699_LRVA16","Rate Rider for Disposition of Lost Revenue Adjustment Mechanism Variance Account (LRAMVA) (2018)\n      - effective until December 31, 2017","$/kW",7.5300000000000006E-2]
["GS50_699_DVA16","Rate Rider for Disposition of Deferral/Variance Accounts (2018) - effective until December 31, 2017","$/kW",-1.3502000000000001]
["GS50_699_1576","Rate Rider for Disposition of Account 1576 - effective until December 31, 2017","$/kW",0.17710000000000001]
["GS50_699_CBR16","Rate Rider for Disposition of CBR Class B (2017) - effective until  December 31, 2017","$/kW",0.1027]
["GS50_699_TN","Retail Transmission Rate - Network Service Rate","$/kW",2.5604]
["GS50_699_TC","Retail Transmission Rate - Line and Transformation Connection Service Rate","$/kW",1.9177]
[]
[null,"MONTHLY RATES AND CHARGES - Regulatory Component"]
[]
[null,"Wholesale Market Service Rate","$/kWh",3.5999999999999999E-3]
[null,"Rural or Remote Electricity Rate Protection Charge (RRRP)","$/kWh",1.2999999999999999E-3]
[null,"Ontario Electricity Support Program Charge (OESP)","$/kWh",1.1000000000000001E-3]
[null,"Standard Supply Service - Administrative Charge (if applicable)","$",0.25]
[null,"GENERAL SERVICE 700 TO 4,999 KW SERVICE CLASSIFICATION"]
[null,"This classification applies to a non residential account whose average monthly maximum demand used for billing purposes is equal to or greater than, or is forecast to be equal to or greater than, 700 kW but less than 5,000 kW. Further servicing details are available in the distributor’s Conditions of Service."]
[]
[null,"APPLICATION"]
[]
[null,"The application of these rates and charges shall be in accordance with the Licence of the Distributor and any Code or Order of the Ontario Energy Board, and amendments thereto as approved by the Ontario Energy Board, which may be applicable to the administration of this schedule."]
[]
[null,"No rates and charges for the distribution of electricity and charges to meet the costs of any work or service done or furnished for the purpose of the distribution of electricity shall be made except as permitted by this schedule, unless required by the Distributor’s Licence or a Code or Order of the Ontario Energy Board, and amendments thereto as approved by the Ontario Energy Board, or as specified herein."]
[]
[null,"Unless specifically noted, this schedule does not contain any charges for the electricity commodity, be it under the Regulated Price Plan, a contract with a retailer or the wholesale market price, as applicable. In addition, the charges in the MONTHLY RATES AND CHARGES - Regulatory Component of this schedule do not apply to a customer that is an embedded wholesale market participant."]
[]
[null,"It should be noted that this schedule does not list any charges, assessments, or credits that are required by law to be invoiced by a distributor and that are not subject to Ontario Energy Board approval, such as the Debt Retirement Charge, the Global Adjustment and the HST."]
[]
[null,"MONTHLY RATES AND CHARGES - Delivery Component"]
[]
["GS700_F","Service Charge","$",1130.8399999999999]
["GS700_V","Distribution Volumetric Rate","$/kW",3.2953000000000001]
["GS700_GA16","Rate Rider for Disposition of Global Adjustment Account (2018) - effective until December 31, 2017\n      Applicable only for Non-RPP Customers","$/kWh",4.8999999999999998E-3]
["GS700_LRVA16","Rate Rider for Disposition of Lost Revenue Adjustment Mechanism Variance Account (LRAMVA) (2018)\n      - effective until December 31, 2017","$/kW",2.0999999999999999E-3]
["GS700_DVA_nonWMP","Rate Rider for Disposition of Deferral/Variance Accounts (2018) - effective until December 31, 2017\n      Applicable only for Non-Wholesale Market Participants","$/kW",-1.5808]
["GS700_DVA16","Rate Rider for Disposition of Deferral/Variance Accounts (2018) - effective until December 31, 2017","$/kW",3.7199999999999997E-2]
["GS700_1576","Rate Rider for Disposition of Account 1576 - effective until December 31, 2017","$/kW",0.2029]
["GS700_CBR16","Rate Rider for Disposition of CBR Class B (2017) - Applicable only to Class B customers - effective until  December 31, 2017","$/kW",0.1137]
["GS700_CBR16_A","Rate Rider for Disposition of CBR Class B (2017) - For Class A , formerly Class B  - effective until  December 31, 2017","$/kW",1.2999999999999999E-2]
["GS700_TN","Retail Transmission Rate - Network Service Rate","$/kW",2.8714]
["GS700_TC","Retail Transmission Rate - Line and Transformation Connection Service Rate","$/kW",2.0613999999999999]
[]
[null,"MONTHLY RATES AND CHARGES - Regulatory Component"]
[]
[null,"Wholesale Market Service Rate","$/kWh",3.5999999999999999E-3]
[null,"Rural or Remote Electricity Rate Protection Charge (RRRP)","$/kWh",1.2999999999999999E-3]
[null,"Ontario Electricity Support Program Charge (OESP)","$/kWh",1.1000000000000001E-3]
[null,"Standard Supply Service - Administrative Charge (if applicable)","$",0.25]
[null,"LARGE USE SERVICE CLASSIFICATION"]
[null,"This classification applies to an account whose average monthly maximum demand over 12 consecutive months used for billing purposes is equal to or greater than 5,000 kW, or is forecast to be equal to or greater than 5,000 kW. Further servicing details are available in the distributor’s Conditions of Service."]
[]
[null,"APPLICATION"]
[]
[null,"The application of these rates and charges shall be in accordance with the Licence of the Distributor and any Code or Order of the Ontario Energy Board, and amendments thereto as approved by the Ontario Energy Board, which may be applicable to the administration of this schedule."]
[]
[null,"No rates and charges for the distribution of electricity and charges to meet the costs of any work or service done or furnished for the purpose of the distribution of electricity shall be made except as permitted by this schedule, unless required by the Distributor’s Licence or a Code or Order of the Ontario Energy Board, and amendments thereto as approved by the Ontario Energy Board, or as specified herein."]
[]
[null,"Unless specifically noted, this schedule does not contain any charges for the electricity commodity, be it under the Regulated Price Plan, a contract with a retailer or the wholesale market price, as applicable. In addition, the charges in the MONTHLY RATES AND CHARGES - Regulatory Component of this schedule do not apply to a customer that is an embedded wholesale market participant."]
[]
[null,"It should be noted that this schedule does not list any charges, assessments, or credits that are required by law to be invoiced by a distributor and that are not subject to Ontario Energy Board approval, such as the Debt Retirement Charge, the Global Adjustment and the HST."]
[]
[null,"MONTHLY RATES AND CHARGES - Delivery Component"]
[]
["LU_F","Service Charge","$",4705.66]
["LU_V","Distribution Volumetric Rate","$/kW",2.4948999999999999]
["LU_GA16","Rate Rider for Disposition of Global Adjustment Account (2018) - effective until December 31, 2017\n      Applicable only for Non-RPP Customers","$/kWh",4.8999999999999998E-3]
["LU_LRVA16","Rate Rider for Disposition of Lost Revenue Adjustment Mechanism Variance Account (LRAMVA) (2018)\n      - effective until December 31, 2017","$/kW",4.07E-2]
["LU_DVA16","Rate Rider for Disposition of Deferral/Variance Accounts (2018) - effective until December 31, 2017","$/kW",-2.0206]
["LU_1576","Rate Rider for Disposition of Account 1576 - effective until December 31, 2017","$/kW",0.26340000000000002]
["LU_CBR16","Rate Rider for Disposition of CBR Class B (2017) - Applicable ony to Class B customers - effective until  December 31, 2017","$/kW",0.16020000000000001]
["LU_TN","Retail Transmission Rate - Network Service Rate","$/kW",3.2498999999999998]
["LU_TC","Retail Transmission Rate - Line and Transformation Connection Service Rate","$/kW",2.3826000000000001]
[]
[null,"MONTHLY RATES AND CHARGES - Regulatory Component"]
[]
[null,"Wholesale Market Service Rate","$/kWh",3.5999999999999999E-3]
[null,"Rural or Remote Electricity Rate Protection Charge (RRRP)","$/kWh",1.2999999999999999E-3]
[null,"Ontario Electricity Support Program Charge (OESP)","$/kWh",1.1000000000000001E-3]
[null,"Standard Supply Service - Administrative Charge (if applicable)","$",0.25]
[null,"UNMETERED SCATTERED LOAD SERVICE CLASSIFICATION"]
[null,"This classification applies to an account whose average monthly maximum demand is less than, or is forecast to be less than, 50 kW and the consumption is unmetered. Such connections include cable TV power packs, bus  shelters, telephone booths, traffic lights, railway crossings, etc. The level of the consumption will be agreed to by the distributor and the customer, based on detailed manufacturer information/documentation with regard to electrical consumption of the unmetered load or periodic monitoring of actual consumption. Further servicing details are available in the distributor’s Conditions of Service."]
[]
[null,"APPLICATION"]
[]
[null,"The application of these rates and charges shall be in accordance with the Licence of the Distributor and any Code or Order of the Ontario Energy Board, and amendments thereto as approved by the Ontario Energy Board, which may be applicable to the administration of this schedule."]
[]
[null,"No rates and charges for the distribution of electricity and charges to meet the costs of any work or service done or furnished for the purpose of the distribution of electricity shall be made except as permitted by this schedule, unless required by the Distributor’s Licence or a Code or Order of the Ontario Energy Board, and amendments thereto as approved by the Ontario Energy Board, or as specified herein."]
[]
[null,"Unless specifically noted, this schedule does not contain any charges for the electricity commodity, be it under the Regulated Price Plan, a contract with a retailer or the wholesale market price, as applicable. In addition, the charges in the MONTHLY RATES AND CHARGES - Regulatory Component of this schedule do not apply to a customer that is an embedded wholesale market participant."]
[]
[null,"It should be noted that this schedule does not list any charges, assessments, or credits that are required by law to be invoiced by a distributor and that are not subject to Ontario Energy Board approval, such as the Debt Retirement Charge, the Global Adjustment and the HST."]
[]
[null,"MONTHLY RATES AND CHARGES - Delivery Component"]
[]
["USL_F","Service Charge (per connection)","$",1.0900000000000001]
["USL_V","Distribution Volumetric Rate","$/kWh",1.9800000000000002E-2]
["USL_GA16","Rate Rider for Disposition of Global Adjustment Account (2018) - effective until December 31, 2017\n      Applicable only for Non-RPP Customers","$/kWh",4.8999999999999998E-3]
["USL_LRVA16","Rate Rider for Disposition of Lost Revenue Adjustment Mechanism Variance Account (LRAMVA) (2018)\n      - effective until December 31, 2017","$/kWh",-2.9999999999999997E-4]
["USL_DVA16","Rate Rider for Disposition of Deferral/Variance Accounts (2018) - effective until December 31, 2017","$/kWh",-3.7000000000000002E-3]
["USL_1576","Rate Rider for Disposition of Account 1576 - effective until December 31, 2017","$/kWh",5.0000000000000001E-4]
["USL_CBR16","Rate Rider for Disposition of CBR Class B (2017) - effective until  December 31, 2017","$/kWh",2.9999999999999997E-4]
["USL_TN","Retail Transmission Rate - Network Service Rate","$/kWh",6.6E-3]
["USL_TC","Retail Transmission Rate - Line and Transformation Connection Service Rate","$/kWh",4.7999999999999996E-3]
[]
[null,"MONTHLY RATES AND CHARGES - Regulatory Component"]
[]
[null,"Wholesale Market Service Rate","$/kWh",3.5999999999999999E-3]
[null,"Rural or Remote Electricity Rate Protection Charge (RRRP)","$/kWh",1.2999999999999999E-3]
[null,"Ontario Electricity Support Program Charge (OESP)","$/kWh",1.1000000000000001E-3]
[null,"Standard Supply Service - Administrative Charge (if applicable)","$",0.25]
[null,"STREET LIGHTING SERVICE CLASSIFICATION"]
[null,"All service supplied to roadway lighting equipment owned by or operated by the City of Brampton, Regional Municipality of Peel, or the Ministry of Transportation, controlled by photo cells. The consumption for these customers will be based on the calculated connected load times the required lighting times established in the approved OEB street lighting load shape template. Further servicing details are available in the distributor’s Conditions of Service."]
[]
[null,"APPLICATION"]
[]
[null,"The application of these rates and charges shall be in accordance with the Licence of the Distributor and any Code or Order of the Ontario Energy Board, and amendments thereto as approved by the Ontario Energy Board, which may be applicable to the administration of this schedule."]
[]
[null,"No rates and charges for the distribution of electricity and charges to meet the costs of any work or service done or furnished for the purpose of the distribution of electricity shall be made except as permitted by this schedule, unless required by the Distributor’s Licence or a Code or Order of the Ontario Energy Board, and amendments thereto as approved by the Ontario Energy Board, or as specified herein."]
[]
[null,"Unless specifically noted, this schedule does not contain any charges for the electricity commodity, be it under the Regulated Price Plan, a contract with a retailer or the wholesale market price, as applicable. In addition, the charges in the MONTHLY RATES AND CHARGES - Regulatory Component of this schedule do not apply to a customer that is an embedded wholesale market participant."]
[]
[null,"It should be noted that this schedule does not list any charges, assessments, or credits that are required by law to be invoiced by a distributor and that are not subject to Ontario Energy Board approval, such as the Debt Retirement Charge, the Global Adjustment and the HST."]
[]
[null,"MONTHLY RATES AND CHARGES - Delivery Component"]
[]
["SL_F","Service Charge (per connection)","$",2.2999999999999998]
["SL_V","Distribution Volumetric Rate","$/kW",11.5388]
["SL_GA16","Rate Rider for Disposition of Global Adjustment Account (2018) - effective until December 31, 2017\n      Applicable only for Non-RPP Customers","$/kWh",4.8999999999999998E-3]
["SL_LRVA16","Rate Rider for Disposition of Lost Revenue Adjustment Mechanism Variance Account (LRAMVA) (2018)\n      - effective until December 31, 2017","$/kW",3.8800000000000001E-2]
["SL_DVA16","Rate Rider for Disposition of Deferral/Variance Accounts (2018) - effective until December 31, 2017","$/kW",-1.2356]
["SL_1576","Rate Rider for Disposition of Account 1576 - effective until December 31, 2017","$/kW",0.16400000000000001]
["SL_CBR16","Rate Rider for Disposition of CBR Class B (2017) - effective until  December 31, 2017","$/kW",9.4E-2]
["SL_TN","Retail Transmission Rate - Network Service Rate","$/kW",2.1318999999999999]
["SL_TC","Retail Transmission Rate - Line and Transformation Connection Service Rate","$/kW",1.5966]
[]
[null,"MONTHLY RATES AND CHARGES - Regulatory Component"]
[]
[null,"Wholesale Market Service Rate","$/kWh",3.5999999999999999E-3]
[null,"Rural or Remote Electricity Rate Protection Charge (RRRP)","$/kWh",1.2999999999999999E-3]
[null,"Ontario Electricity Support Program Charge (OESP)","$/kWh",1.1000000000000001E-3]
[null,"Standard Supply Service - Administrative Charge (if applicable)","$",0.25]
[null,"STANDBY POWER SERVICE CLASSIFICATION"]
[null,"This classification refers to an account that has Load Displacement Generation and requires the distributor to provide back-up service. Further servicing details are available in the distributor’s Conditions of Service."]
[]
[null,"APPLICATION"]
[]
[null,"The application of these rates and charges shall be in accordance with the Licence of the Distributor and any Code or Order of the Ontario Energy Board, and amendments thereto as approved by the Ontario Energy Board, which may be applicable to the administration of this schedule."]
[]
[null,"No rates and charges for the distribution of electricity and charges to meet the costs of any work or service done or furnished for the purpose of the distribution of electricity shall be made except as permitted by this schedule, unless required by the Distributor’s Licence or a Code or Order of the Ontario Energy Board, and amendments thereto as approved by the Ontario Energy Board, or as specified herein."]
[]
[null,"Unless specifically noted, this schedule does not contain any charges for the electricity commodity, be it under the Regulated Price Plan, a contract with a retailer or the wholesale market price, as applicable. In addition, the charges in the MONTHLY RATES AND CHARGES - Regulatory Component of this schedule do not apply to a customer that is an embedded wholesale market participant."]
[]
[null,"It should be noted that this schedule does not list any charges, assessments, or credits that are required by law to be invoiced by a distributor and that are not subject to Ontario Energy Board approval, such as the Debt Retirement Charge, the Global Adjustment and the HST."]
[]
[null,"MONTHLY RATES AND CHARGES - Delivery Component - Approved on an Interim Basis"]
[]
["SB_V","Distribution Volumetric Rate","$/kW",1.6779999999999999]
[null,"EMBEDDED DISTRIBUTOR SERVICE CLASSIFICATION"]
[null,"This classification applies to an electricity distributor licensed by the Ontario Energy Board, that is provided electricity by means of this distributor's facilities. Further servicing details are available in the distributor’s Conditions of Service."]
[]
[null,"APPLICATION"]
[]
[null,"The application of these rates and charges shall be in accordance with the Licence of the Distributor and any Code or Order of the Ontario Energy Board, and amendments thereto as approved by the Ontario Energy Board, which may be applicable to the administration of this schedule."]
[]
[null,"No rates and charges for the distribution of electricity and charges to meet the costs of any work or service done or furnished for the purpose of the distribution of electricity shall be made except as permitted by this schedule, unless required by the Distributor’s Licence or a Code or Order of the Ontario Energy Board, and amendments thereto as approved by the Ontario Energy Board, or as specified herein."]
[]
[null,"Unless specifically noted, this schedule does not contain any charges for the electricity commodity, be it under the Regulated Price Plan, a contract with a retailer or the wholesale market price, as applicable. In addition, the charges in the MONTHLY RATES AND CHARGES - Regulatory Component of this schedule do not apply to a customer that is an embedded wholesale market participant."]
[]
[null,"It should be noted that this schedule does not list any charges, assessments, or credits that are required by law to be invoiced by a distributor and that are not subject to Ontario Energy Board approval, such as the Debt Retirement Charge, the Global Adjustment and the HST."]
[]
[null,"MONTHLY RATES AND CHARGES - Delivery Component"]
[]
["EMD_F","Service Charge","$",4159.82]
["EMD_GA16","Rate Rider for Disposition of Global Adjustment Account (2018) - effective until December 31, 2017\n      Applicable only for Non-RPP Customers","$/kWh",4.8999999999999998E-3]
["EMD_DVA16","Rate Rider for Disposition of Deferral/Variance Accounts (2018) - effective until December 31, 2017","$/kWh",-3.7000000000000002E-3]
["EMD_CBR16","Rate Rider for Disposition of CBR Class B (2017) - effective until  December 31, 2017","$/kWh",2.9999999999999997E-4]
["EMD_TN","Retail Transmission Rate - Network Service Rate","$/kW",2.8714]
["EMD_TC","Retail Transmission Rate - Line and Transformation Connection Service Rate","$/kW",2.0613999999999999]
[]
[null,"MONTHLY RATES AND CHARGES - Regulatory Component"]
[]
[null,"Wholesale Market Service Rate","$/kWh",3.5999999999999999E-3]
[null,"Rural or Remote Electricity Rate Protection Charge (RRRP)","$/kWh",1.2999999999999999E-3]
[null,"Ontario Electricity Support Program Charge (OESP)","$/kWh",1.1000000000000001E-3]
[null,"Standard Supply Service - Administrative Charge (if applicable)","$",0.25]
[null,"DISTRIBUTED GENERATION [DGEN] SERVICE CLASSIFICATION"]
[null,"This classification applies to a distributed generator that is not a microFIT or an Energy from Waste Generator and connected to the distributor's distribution system. Further servicing details are available in the distributor’s Conditions of Service."]
[]
[null,"APPLICATION"]
[]
[null,"The application of these rates and charges shall be in accordance with the Licence of the Distributor and any Code or Order of the Ontario Energy Board, and amendments thereto as approved by the Ontario Energy Board, which may be applicable to the administration of this schedule."]
[]
[null,"No rates and charges for the distribution of electricity and charges to meet the costs of any work or service done or furnished for the purpose of the distribution of electricity shall be made except as permitted by this schedule, unless required by the Distributor’s Licence or a Code or Order of the Ontario Energy Board, and amendments thereto as approved by the Ontario Energy Board, or as specified herein."]
[]
[null,"Unless specifically noted, this schedule does not contain any charges for the electricity commodity, be it under the Regulated Price Plan, a contract with a retailer or the wholesale market price, as applicable. In addition, the charges in the MONTHLY RATES AND CHARGES - Regulatory Component of this schedule do not apply to a customer that is an embedded wholesale market participant."]
[]
[null,"It should be noted that this schedule does not list any charges, assessments, or credits that are required by law to be invoiced by a distributor and that are not subject to Ontario Energy Board approval, such as the Debt Retirement Charge, the Global Adjustment and the HST."]
[]
[null,"MONTHLY RATES AND CHARGES - Delivery Component"]
[]
["DG_F","Service Charge","$",103.97]
["DG_GA16","Rate Rider for Disposition of Global Adjustment Account (2018) - effective until December 31, 2017\n      Applicable only for Non-RPP Customers","$/kWh",4.8999999999999998E-3]
["DG_DVA16","Rate Rider for Disposition of Deferral/Variance Accounts (2018) - effective until December 31, 2017","$/kWh",-3.7000000000000002E-3]
["DG_1576","Rate Rider for Disposition of Account 1576 - effective until December 31, 2017","$/kWh",5.0000000000000001E-4]
["DG_CBR16","Rate Rider for Disposition of CBR Class B (2017) - effective until  December 31, 2017","$/kWh",2.9999999999999997E-4]
["DG_TN","Retail Transmission Rate - Network Service Rate","$/kWh",6.6E-3]
["DG_TC","Retail Transmission Rate - Line and Transformation Connection Service Rate","$/kWh",4.7999999999999996E-3]
[]
[null,"MONTHLY RATES AND CHARGES - Regulatory Component"]
[]
[null,"Wholesale Market Service Rate","$/kWh",3.5999999999999999E-3]
[null,"Rural or Remote Electricity Rate Protection Charge (RRRP)","$/kWh",1.2999999999999999E-3]
[null,"Ontario Electricity Support Program Charge (OESP)","$/kWh",1.1000000000000001E-3]
[null,"Standard Supply Service - Administrative Charge (if applicable)","$",0.25]
[null,"ENERGY FROM WASTE SERVICE CLASSIFICATION"]
[null,"This classification applies to an electricity generation facility that is not covered by a microFIT or Distributed Generation classification which produces energy from combustion of consumer waste with the capability to generate over 4,000 KW. Further servicing details are available in the distributor’s Conditions of Service."]
[]
[null,"APPLICATION"]
[]
[null,"The application of these rates and charges shall be in accordance with the Licence of the Distributor and any Code or Order of the Ontario Energy Board, and amendments thereto as approved by the Ontario Energy Board, which may be applicable to the administration of this schedule."]
[]
[null,"No rates and charges for the distribution of electricity and charges to meet the costs of any work or service done or furnished for the purpose of the distribution of electricity shall be made except as permitted by this schedule, unless required by the Distributor’s Licence or a Code or Order of the Ontario Energy Board, and amendments thereto as approved by the Ontario Energy Board, or as specified herein."]
[]
[null,"Unless specifically noted, this schedule does not contain any charges for the electricity commodity, be it under the Regulated Price Plan, a contract with a retailer or the wholesale market price, as applicable. In addition, the charges in the MONTHLY RATES AND CHARGES - Regulatory Component of this schedule do not apply to a customer that is an embedded wholesale market participant."]
[]
[null,"It should be noted that this schedule does not list any charges, assessments, or credits that are required by law to be invoiced by a distributor and that are not subject to Ontario Energy Board approval, such as the Debt Retirement Charge, the Global Adjustment and the HST."]
[]
[null,"MONTHLY RATES AND CHARGES - Delivery Component"]
[]
["WST_F","Service Charge","$",63.09]
[null,"microFIT SERVICE CLASSIFICATION"]
[null,"This classification applies to an electricity generation facility contracted under the Independent Electricity System Operator's microFIT program and connected to the distributor's distribution system. Further servicing details are available in the distributor’s Conditions of Service."]
[]
[null,"APPLICATION"]
[]
[null,"The application of these rates and charges shall be in accordance with the Licence of the Distributor and any Code or Order of the Ontario Energy Board, and amendments thereto as approved by the Ontario Energy Board, which may be applicable to the administration of this schedule."]
[]
[null,"No rates and charges for the distribution of electricity and charges to meet the costs of any work or service done or furnished for the purpose of the distribution of electricity shall be made except as permitted by this schedule, unless required by the Distributor’s Licence or a Code or Order of the Ontario Energy Board, and amendments thereto as approved by the Ontario Energy Board, or as specified herein."]
[]
[null,"Unless specifically noted, this schedule does not contain any charges for the electricity commodity, be it under the Regulated Price Plan, a contract with a retailer or the wholesale market price, as applicable. In addition, the charges in the MONTHLY RATES AND CHARGES - Regulatory Component of this schedule do not apply to a customer that is an embedded wholesale market participant."]
[]
[null,"It should be noted that this schedule does not list any charges, assessments, or credits that are required by law to be invoiced by a distributor and that are not subject to Ontario Energy Board approval, such as the Debt Retirement Charge, the Global Adjustment and the HST."]
[]
[null,"MONTHLY RATES AND CHARGES - Delivery Component"]
[]
[null,"Service Charge","$",5.4]
[]
[null,"ALLOWANCES"]
[null,"Transformer Allowance for Ownership - per kW of billing demand/month"]
[null,"   General Service less than 50 kW Classification","$/kWh",-3.2000000000000002E-3]
[null,"   General Service 50 to 699 kW Classification","$/kW",-0.68400000000000005]
[null,"   General Service 700 to 4,999 kW Classification","$/kW",-0.85150000000000003]
[null,"Primary Metering Allowance for transformer losses - applied to measured demand and energy","%",-1]
[null,"SPECIFIC SERVICE CHARGES"]
[]
[null,"APPLICATION"]
[]
[null,"The application of these rates and charges shall be in accordance with the Licence of the Distributor and any Code or Order of the Ontario Energy Board, and amendments thereto as approved by the Ontario Energy Board, which may be applicable to the administration of this schedule."]
[]
[null,"No charges to meet the costs of any work or service done or furnished for the purpose of the distribution of electricity shall be made except as permitted by this schedule, unless required by the Distributor’s Licence or a Code or Order of the Ontario Energy Board, and amendments thereto as approved by the Ontario Energy Board, or as specified herein."]
[]
[null,"It should be noted that this schedule does not list any charges, assessments, or credits that are required by law to be invoiced by a distributor and that are not subject to Ontario Energy Board approval, such as the Debt Retirement Charge, the Global Adjustment and the HST."]
[]
[null,"Customer Administration"]
[null,"Arrears certificate","$",15]
[null,"Pulling post dated cheques","$",15]
[null,"Duplicate invoices for previous billing","$",15]
[null,"Request for other billing information","$",15]
[null,"Easement letter","$",15]
[null,"Income tax letter","$",15]
[null,"Account history","$",15]
[null,"Credit reference/credit check (plus credit agency costs)","$",15]
[null,"Returned cheque (plus bank charges)","$",15]
[null,"Legal letter charge","$",15]
[null,"Account set up charge/change of occupancy charge (plus credit agency costs if applicable)","$",30]
[null,"Special meter reads","$",30]
[null,"Special billing service (aggregation)","$",125]
[null,"Special billing service (sub-metering charge per meter)","$",25]
[]
[null,"Non-Payment of Account"]
[null,"Late payment - per month","%",1.5]
[null,"Late payment - per annum","%",19.559999999999999]
[null,"Collection of account charge - no disconnection","$",30]
[null,"Disconnect/reconnect at meter - during regular hours","$",65]
[null,"Disconnect/reconnect at meter - after regular hours","$",185]
[null,"Disconnect/reconnect at pole - during regular hours","$",185]
[null,"Disconnect/reconnect at pole - after regular hours","$",415]
[null,"Disconnect/reconnection for >300 volts - during regular hours","$",60]
[null,"Disconnect/reconnection for >300 volts - after regular hours","$",155]
[]
[null,"Other"]
[null,"Owner requested disconnection/reconnection - during regular hours","$",120]
[null,"Owner requested disconnection/reconnection - after regular hours","$",155]
[null,"Specific charge for access to the power poles - $/pole/year","$",22.35]
[null,"RETAIL SERVICE CHARGES (if applicable)"]
[]
[null,"The application of these rates and charges shall be in accordance with the Licence of the Distributor and any Code or Order of the Ontario Energy Board, and amendments thereto as approved by the Ontario Energy Board, which may be applicable to the administration of this schedule."]
[]
[null,"No rates and charges for the distribution of electricity and charges to meet the costs of any work or service done or furnished for the purpose of the distribution of electricity shall be made except as permitted by this schedule, unless required by the Distributor’s Licence or a Code or Order of the Ontario Energy Board, and amendments thereto as approved by the Ontario Energy Board, or as specified herein."]
[]
[null,"Unless specifically noted, this schedule does not contain any charges for the electricity commodity, be it under the Regulated Price Plan, a contract with a retailer or the wholesale market price, as applicable."]
[]
[null,"It should be noted that this schedule does not list any charges, assessments, or credits that are required by law to be invoiced by a distributor and that are not subject to Ontario Energy Board approval, such as the Debt Retirement Charge, the Global Adjustment and the HST."]
[]
[null,"Retail Service Charges refer to services provided by a distributor to retailers or customers related to the supply of competitive electricity."]
[null,"One-time charge, per retailer, to establish the service agreement between the distributor and the retailer","$",100]
[null,"Monthly fixed charge, per retailer","$",20]
[null,"Monthly variable charge, per customer, per retailer","$/cust.",0.5]
[null,"Distributor-consolidated billing monthly charge, per customer, per retailer","$/cust.",0.3]
[null,"Retailer-consolidated billing monthly credit, per customer, per retailer","$/cust.",-0.3]
[null,"Service Transaction Requests (STR)"]
[null,"Request fee, per request, applied to the requesting party","$",0.25]
[null,"Processing fee, per request, applied to the requesting party","$",0.5]
[null,"Request for customer information as outlined in Section 10.6.3 and Chapter 11 of the Retail"]
[null,"Settlement Code directly to retailers and customers, if not delivered electronically through the"]
[null,"Electronic Business Transaction (EBT) system, applied to the requesting party"]
[null,"Up to twice a year","$","no charge"]
[null,"More than twice a year, per request (plus incremental delivery costs)","$",2]
[]
[null,"LOSS FACTORS"]
[]
[null,"If the distributor is not capable of prorating changed loss factors jointly with distribution rates, the revised loss factors will be implemented upon the first subsequent billing for each billing cycle."]
[null,"Total Loss Factor - Secondary Metered Customer < 5,000 kW",null,1.0341]
[null,"Total Loss Factor - Secondary Metered Customer > 5,000 kW",null,1.0145]
[null,"Total Loss Factor - Primary Metered Customer < 5,000 kW",null,1.0239]
[null,"Total Loss Factor - Primary Metered Customer > 5,000 kW",null,1.0044999999999999]

{"sheet":"3. Continuity Schedule","index":4,"n_rows":55,"n_cols":89,"rows_kept":55,"cut":false,"hidden":false,"merged":[[11,2,14,3],[15,4,15,13],[15,14,15,23],[15,24,15,33],[16,24,18,24],[16,25,18,25],[16,26,18,26],[16,15,18,15],[16,16,18,16],[16,17,18,17],[16,23,18,23],[16,9,18,9],[16,10,18,10],[16,11,18,11],[16,12,18,12],[16,13,18,13],[51,2,51,3],[52,2,52,3],[53,2,53,3],[54,2,54,3],[48,2,49,3],[1,2,8,16],[15,34,15,43],[16,14,18,14],[15,54,15,63],[15,78,15,81],[16,2,18,2],[16,3,18,3],[16,4,18,4],[16,5,18,5],[16,6,18,6],[16,7,18,7],[16,8,18,8],[15,44,15,53],[15,64,15,73],[16,64,18,64],[16,65,18,65],[16,18,18,18],[16,19,18,19],[16,20,18,20],[16,21,18,21],[16,22,18,22],[16,44,18,44],[16,38,18,38],[16,27,18,27],[16,28,18,28],[16,29,18,29],[16,30,18,30],[16,31,18,31],[16,32,18,32],[16,33,18,33],[16,34,18,34],[16,35,18,35],[16,36,18,36],[16,37,18,37],[16,39,18,39],[16,40,18,40],[16,41,18,41],[16,50,18,50],[16,42,18,42],[16,43,18,43],[16,73,18,73],[16,78,18,78],[16,57,18,57],[16,58,18,58],[16,59,18,59],[16,60,18,60],[16,61,18,61],[16,62,18,62],[16,67,18,67],[16,68,18,68],[16,69,18,69],[16,53,18,53],[16,54,18,54],[16,45,18,45],[16,46,18,46],[16,47,18,47],[16,48,18,48],[16,49,18,49],[16,79,18,79],[16,80,18,80],[16,81,18,81],[16,82,18,82],[16,83,18,83],[15,74,15,77],[16,74,18,74],[16,75,18,75],[16,76,18,76],[16,77,18,77],[16,63,18,63],[16,70,18,70],[16,71,18,71],[16,72,18,72],[16,51,18,51],[16,52,18,52],[16,56,18,56],[16,55,18,55],[16,66,18,66]]}
["Back to Index","Back to Index",null,null,null,null,null,null,null,null,null,null,null,null,null,null,null,null,null,null,null,null,null,null,null,null,null,null,null,null,null,null,null,null,null,null,null,null,null,null,null,null,null,null,null,null,null,null,null,null,null,null,null,null,null,null,null,null,null,null,null,null,null,null,null,null,null,null,null,null,null,null,null,null,null,null,null,null,null,null,null,null,null,null,null,null,null,null,false]
[null,null,"INCENTIVE REGULATION MODEL FOR 2018 FILERS",null,null,null,null,null,null,null,null,null,null,null,null,null,null,null,null,null,null,null,null,null,null,null,null,null,null,null,null,null,null,null,null,null,null,null,null,null,null,null,null,null,null,null,null,null,null,null,null,null,null,null,null,null,null,null,null,null,null,null,null,null,null,null,null,null,null,null,null,null,null,null,null,null,null,null,null,null,null,null,null,null,null,null,null,null,false]
[null,null,null,null,null,null,null,null,null,null,null,null,null,null,null,null,null,null,null,null,null,null,null,null,null,null,null,null,null,null,null,null,null,null,null,null,null,null,null,null,null,null,null,null,null,null,null,null,null,null,null,null,null,null,null,null,null,null,null,null,null,null,null,null,null,null,null,null,null,null,null,null,null,null,null,null,null,null,null,null,null,null,null,null,null,null,null,null,false]
[null,null,null,null,null,null,null,null,null,null,null,null,null,null,null,null,null,null,null,null,null,null,null,null,null,null,null,null,null,null,null,null,null,null,null,null,null,null,null,null,null,null,null,null,null,null,null,null,null,null,null,null,null,null,null,null,null,null,null,null,null,null,null,null,null,null,null,null,null,null,null,null,null,null,null,null,null,null,null,null,null,null,null,null,null,null,null,null,false]
[null,null,null,null,null,null,null,null,null,null,null,null,null,null,null,null,null,null,null,null,null,null,null,null,null,null,null,null,null,null,null,null,null,null,null,null,null,null,null,null,null,null,null,null,null,null,null,null,null,null,null,null,null,null,null,null,null,null,null,null,null,null,null,null,null,null,null,null,null,null,null,null,null,null,null,null,null,null,null,null,null,null,null,null,null,null,null,null,false]
[null,null,null,null,null,null,null,null,null,null,null,null,null,null,null,null,null,null,null,null,null,null,null,null,null,null,null,null,null,null,null,null,null,null,null,null,null,null,null,null,null,null,null,null,null,null,null,null,null,null,null,null,null,null,null,null,null,null,null,null,null,null,null,null,null,null,null,null,null,null,null,null,null,null,null,null,null,null,null,null,null,null,null,null,null,null,null,null,false]
[null,null,null,null,null,null,null,null,null,null,null,null,null,null,null,null,null,null,null,null,null,null,null,null,null,null,null,null,null,null,null,null,null,null,null,null,null,null,null,null,null,null,null,null,null,null,null,null,null,null,null,null,null,null,null,null,null,null,null,null,null,null,null,null,null,null,null,null,null,null,null,null,null,null,null,null,null,null,null,null,null,null,null,null,null,null,null,null,false]
[null,null,null,null,null,null,null,null,null,null,null,null,null,null,null,null,null,null,null,null,null,null,null,null,null,null,null,null,null,null,null,null,null,null,null,null,null,null,null,null,null,null,null,null,null,null,null,null,null,null,null,null,null,null,null,null,null,null,null,null,null,null,null,null,null,null,null,null,null,null,null,null,null,null,null,null,null,null,null,null,null,null,null,null,null,null,null,null,false]
[null,null,null,null,null,null,null,null,null,null,null,null,null,null,null,null,null,null,null,null,null,null,null,null,null,null,null,null,null,null,null,null,null,null,null,null,null,null,null,null,null,null,null,null,null,null,null,null,null,null,null,null,null,null,null,null,null,null,null,null,null,null,null,null,null,null,null,null,null,null,null,null,null,null,null,null,null,null,null,null,null,null,null,null,null,null,null,null,false]
[null,null,null,null,null,null,null,null,null,null,null,null,null,null,null,null,null,null,null,null,null,null,null,null,null,null,null,null,null,null,null,null,null,null,null,null,null,null,null,null,null,null,null,null,null,null,null,null,null,null,null,null,null,null,null,null,null,null,null,null,null,null,null,null,null,null,null,null,null,null,null,null,null,null,null,null,null,null,null,null,null,null,null,null,null,null,null,null,true]
[null,null,null,null,null,null,null,null,null,null,null,null,null,null,null,null,null,null,null,null,null,null,null,null,null,null,null,null,null,null,null,null,null,null,null,null,null,null,null,null,null,null,null,null,null,null,null,null,null,null,null,null,null,null,null,null,null,null,null,null,null,null,null,null,null,null,null,null,null,null,null,null,null,null,null,null,null,null,null,null,null,null,null,null,null,null,null,null,true]
[null,null,"Please complete the following continuity schedule for the following Deferral/Variance Accounts.  Enter information into green cells only. Column CE shoudl match the latest 2.1.7 RRR filing.\n\nWhen inputting balances in the continuity schedule, Account 1580 RSVA - Wholesale Market Service Charge is to exclude any amounts relating to CBR. The CBR amounts are to be entered separately in the Class A and Class B 1580 sub-accounts. Only Class B amounts are to be disposed. Class A amounts are not to be disposed.\n\nIf you have received approval to dispose of balances from prior years, the starting point for entries in the schedule below will be the balance sheet date as per your general ledger for which you received approval.  For example, if in the 2016 EDR process (CoS or IRM) you received approval for the December 31, 2014 balances, the starting point for your entries below should be the 2013 year. This will allow for the correct starting point for the 2014 opening balance columns for both principal and interest.\n\nPlease refer to the footnotes for further instructions."]
[]
[]
[]
[null,null,null,null,2010,null,null,null,null,null,null,null,null,null,2011,null,null,null,null,null,null,null,null,null,2012,null,null,null,null,null,null,null,null,null,2013,null,null,null,null,null,null,null,null,null,2014,null,null,null,null,null,null,null,null,null,2015,null,null,null,null,null,null,null,null,null,2016,null,null,null,null,null,null,null,null,null,2017,null,null,null,"Projected Interest on Dec-31-16 Balances",null,null,null,"2.1.7 RRR"]
[null,null,"Account Descriptions","Account Number","Opening Principal Amounts as of Jan 1, 2010","Transactions2 Debit / (Credit) during 2010","OEB-Approved Disposition during 2010","Principal Adjustments1 during 2010","Closing Principal Balance as of Dec 31, 2010","Opening Interest Amounts as of Jan 1, 2010","Interest Jan 1 to Dec 31, 2010","OEB-Approved Disposition during 2010","Interest Adjustments1 during 2010","Closing Interest Amounts as of Dec 31, 2010","Opening Principal Amounts as of Jan 1, 2011","Transactions2 Debit / (Credit) during 2011 ","OEB-Approved Disposition during 2011","Principal Adjustments1 during 2011 ","Closing Principal Balance as of Dec 31, 2011","Opening Interest Amounts as of Jan 1, 2011","Interest Jan 1 to Dec 31, 2011","OEB-Approved Disposition during 2011","Interest Adjustments1 during 2011","Closing Interest Amounts as of Dec 31, 2011","Opening Principal Amounts as of Jan 1, 2012","Transactions2 Debit / (Credit) during 2012","OEB-Approved Disposition during 2012","Principal Adjustments1 during 2012","Closing Principal Balance as of Dec 31, 2012","Opening Interest Amounts as of Jan 1, 2012","Interest Jan 1 to Dec 31, 2012","OEB-Approved Disposition during 2012","Interest Adjustments1 during 2012","Closing Interest Amounts as of Dec 31, 2012","Opening Principal Amounts as of Jan 1, 2013","Transactions2 Debit / (Credit) during 2013","OEB-Approved Disposition during 2013","Principal Adjustments1 during 2013","Closing Principal Balance as of Dec 31, 2013","Opening Interest Amounts as of Jan 1, 2013","Interest Jan 1 to Dec 31, 2013","OEB-Approved Disposition during 2013","Interest Adjustments1 during 2013","Closing Interest Amounts as of Dec 31, 2013","Opening Principal Amounts as of Jan 1, 2014","Transactions2 Debit / (Credit) during 2014","OEB-Approved Disposition during 2014","Principal Adjustments1 during 2014","Closing Principal Balance as of Dec 31, 2014","Opening Interest Amounts as of Jan 1, 2014","Interest Jan 1 to Dec 31. 2014","OEB-Approved Disposition during 2014","Interest Adjustments1 during 2014","Closing Interest Amounts as of Dec 31, 2014","Opening Principal Amounts as of Jan 1, 2015","Transactions2 Debit / (Credit) during 2015","OEB-Approved Disposition during 2015","Principal Adjustments1 during 2015 ","Closing Principal Balance as of Dec 31, 15","Opening Interest Amounts as of Jan 1, 15","Interest Jan 1 to Dec 31, 15","OEB-Approved Disposition during 2015","Interest Adjustments1 during 2015","Closing Interest Amounts as of Dec 31, 15","Opening Principal Amounts as of Jan 1, 2016","Transactions2 Debit / (Credit) during 2016","OEB-Approved Disposition during 2016","Principal Adjustments1 during 2016","Closing Principal Balance as of Dec 31, 16","Opening Interest Amounts as of Jan 1, 16","Interest Jan 1 to Dec 31, 16","OEB-Approved Disposition during 2016","Interest Adjustments1 during 2016","Closing Interest Amounts as of Dec 31, 16","Principal Disposition during 2017 - instructed by OEB","Interest Disposition during 2017 - instructed by OEB","Closing Principal Balances as of Dec 31, 2017 Adjusted for Dispositions during 2017","Closing Interest Balances as of Dec 31, 16 Adjusted for Disposition in 2017","Projected Interest from Jan 1, 2016 to December 31, 2016 on Dec 31 -16 balance adjusted for disposition on May 1, 2018","Projected Interest from January 1, 2018 to April 30, 2018 on Dec 31 -16 balance adjusted for disposition during 2017  3","Total Interest","Total Claim","As of Dec 31-16","Variance                           RRR vs. 2016 Balance                        (Principal + Interest)"]
[]
[null,null,null,null,null,null,null,null,null,null,null,null,null,null,null,null,null,null,null,null,null,null,null,null,null,null,null,null,null,null,null,null,null,null,null,null,null,null,null,null,null,null,null,null,null,null,null,null,null,null,null,null,null,null,null,null,null,null,null,null,null,null,null,null,null,null,null,null,null,null,null,null,null,null,null,null,null,null,null,null,null,"Claim before Forecasted Transactions"]
[null,null,"Group 1 Accounts"]
[null,null,"LV Variance Account",1550,null,null,null,null,{"$f":"E21+F21-G21+H21","v":0},null,null,null,null,{"$f":"J21+K21-L21+M21","v":0},{"$f":"I21","v":0},67166.499999999956,null,null,{"$f":"O21+P21-Q21+SUM(R21:R21)","v":67166.499999999956},{"$f":"N21","v":0},110.60999999999855,null,null,{"$f":"T21+U21-V21+W21","v":110.60999999999855},{"$f":"S21","v":67166.499999999956},129687.79,0,0,{"$f":"Y21+Z21-AA21+SUM(AB21:AB21)","v":196854.28999999995},{"$f":"X21","v":110.60999999999855},1934.8,null,null,{"$f":"AD21+AE21-AF21+AG21","v":2045.4099999999985},{"$f":"AC21","v":196854.28999999995},159066.82999999999,null,null,{"$f":"AI21+AJ21-AK21+SUM(AL21:AL21)","v":355921.11999999994},{"$f":"AH21","v":2045.4099999999985},3889.81,null,null,{"$f":"AN21+AO21-AP21+AQ21","v":5935.2199999999984},{"$f":"AM21","v":355921.11999999994},{"$f":"2045.71+153880.84","v":155926.54999999999},{"$f":"2045.71+196854.29","v":198900},null,{"$f":"AS21+AT21-AU21+SUM(AV21:AV21)","v":312947.66999999993},{"$f":"AR21","v":5935.2199999999984},{"$f":"-2045.41+3206.04","v":1160.6299999999999},{"$f":"-2045.41+4939.41","v":2894},null,{"$f":"AX21+AY21-AZ21+BA21","v":4201.8499999999985},{"$f":"AW21","v":312947.66999999993},248566.56000000003,159066.82999999999,null,{"$f":"BC21+BD21-BE21+SUM(BF21:BF21)","v":402447.4},{"$f":"BB21","v":4201.8499999999985},3001.42,3334.09,null,{"$f":"BH21+BI21-BJ21+BK21","v":3869.1799999999985},{"$f":"BG21","v":402447.4},247216.53999999992,null,null,{"$f":"BM21+BN21-BO21+SUM(BP21:BP21)","v":649663.93999999994},{"$f":"BL21","v":3869.1799999999985},5671.2800000000025,null,null,{"$f":"BR21+BS21-BT21+BU21","v":9540.4600000000009},402447.4,8296.1,{"$f":"BQ21-BW21","v":247216.53999999992},{"$f":"BV21-BX21","v":1244.3600000000006},{"$f":"+BY21*(1.1%*0.75+1.5%*0.5+1.89%*1/12)","v":4283.0265554999987},null,{"$f":"BZ21+CA21+CB21","v":5527.3865554999993},{"$f":"SUM(BY21:CB21)","v":252743.9265554999},659204.4,{"$f":"CE21-SUM(BQ21,BV21)","v":0}]
[null,null,"Smart Metering Entity Charge Variance Account",1551,null,null,null,null,{"$f":"E22+F22-G22+H22","v":0},null,null,null,null,{"$f":"J22+K22-L22+M22","v":0},{"$f":"I22","v":0},0,null,null,0,0,0,null,null,{"$f":"T22+U22-V22+W22","v":0},0,null,null,null,{"$f":"Y22+Z22-AA22+SUM(AB22:AB22)","v":0},{"$f":"X22","v":0},null,null,null,{"$f":"AD22+AE22-AF22+AG22","v":0},0,-44087.229999999996,null,null,-44087.229999999996,0,-378.86,null,null,{"$f":"AN22+AO22-AP22+AQ22","v":-378.86},-44087.229999999996,-64162.869999999995,null,null,-108250.09999999999,-378.86,-1008.84,null,null,{"$f":"AX22+AY22-AZ22+BA22","v":-1387.7},-108250.09999999999,{"$f":"-54699.37-378.77","v":-55078.14},{"$f":"-44087.23-378.77","v":-44466},null,-118862.23999999999,-1387.7,{"$f":"-937.04+378.77","v":-558.27},{"$f":"-1032.51+378.77","v":-653.74},null,{"$f":"BH22+BI22-BJ22+BK22","v":-1292.23},{"$f":"BG22","v":-118862.23999999999},-59949.3,null,null,{"$f":"BM22+BN22-BO22+SUM(BP22:BP22)","v":-178811.53999999998},-1292.23,-1545.4,null,null,{"$f":"BR22+BS22-BT22+BU22","v":-2837.63},-118862.24,-2599.71,{"$f":"BQ22-BW22","v":-59949.299999999974},{"$f":"BV22-BX22","v":-237.92000000000007},{"$f":"+BY22*(1.1%*0.75+1.5%*0.5+1.89%*1/12)","v":-1038.6216224999996},null,{"$f":"BZ22+CA22+CB22","v":-1276.5416224999997},{"$f":"SUM(BY22:CB22)","v":-61225.841622499975},-181649.17,{"$f":"CE22-SUM(BQ22,BV22)","v":0}]
[null,null,"RSVA - Wholesale Market Service Charge",1580,null,null,null,null,{"$f":"E23+F23-G23+H23","v":0},null,null,null,null,{"$f":"J23+K23-L23+M23","v":0},{"$f":"I23","v":0},-7817418.2400000002,null,null,{"$f":"O23+P23-Q23+SUM(R23:R23)","v":-7817418.2400000002},0,-123699.45999999996,null,null,{"$f":"T23+U23-V23+W23","v":-123699.45999999996},-7817418.2400000002,-4935145,0,0,{"$f":"Y23+Z23-AA23+SUM(AB23:AB23)","v":-12752563.24},-123699.45999999996,-148594.66,null,null,{"$f":"AD23+AE23-AF23+AG23","v":-272294.12},-12752563.24,-2481578.98,null,null,-15234142.220000001,-272294.12,-209914.28,null,null,{"$f":"AN23+AO23-AP23+AQ23","v":-482208.4},-15234142.220000001,{"$f":"-871126.24-272293.76","v":-1143420},{"$f":"-12752563.24-272293.76","v":-13024857},null,-3352705.2200000007,-482208.4,{"$f":"-9921.42+272294.12","v":262372.7},{"$f":"-459757.12+272294.12","v":-187463},null,{"$f":"AX23+AY23-AZ23+BA23","v":-32372.700000000012},-3352705.2200000007,-8458613.7200000007,-2481578.98,null,-9329739.9600000009,-32372.700000000012,-35534.35,-58930.49,null,{"$f":"BH23+BI23-BJ23+BK23","v":-8976.5600000000195},-9329739.9600000009,{"$f":"-3723875.51-2366.51","v":-3726242.0199999996},null,null,{"$f":"BM23+BN23-BO23+SUM(BP23:BP23)","v":-13055981.98},-8976.5600000000195,-119774.12,null,null,{"$f":"BR23+BS23-BT23+BU23","v":-128750.68000000002},-9329739.9600000009,-111603.7,-3726242.0199999996,-17146.980000000025,-64557.142996499992,null,-81704.122996500024,{"$f":"SUM(BY23:CB23)","v":-3807946.1429964993},-12307849.369999999,{"$f":"CE23-SUM(BQ23,BV23)","v":876883.29000000097}]
[null,null,"Variance WMS – Sub-account CBR Class A",1580,null,null,null,null,0,null,null,null,null,0,0,0,null,null,0,0,0,null,null,0,0,null,null,null,0,0,null,null,null,0,0,null,null,null,0,0,null,null,null,0,0,null,null,null,0,0,null,null,null,0,0,76773.569999999992,null,{"$f":"84783-76774","v":8009},{"$f":"BC24+BD24-BE24+SUM(BF24:BF24)","v":84782.569999999992},0,63,null,7,70,84782.569999999992,{"$f":"-87149.1+2366.51","v":-84782.590000000011},null,null,{"$f":"BM24+BN24-BO24+SUM(BP24:BP24)","v":-2.0000000018626451E-2},70,{"$f":"-36.1799999999999-33.82","v":-69.999999999999901},null,null,9.9475983006414026E-14,null,null,{"$f":"BQ24-BW24","v":-2.0000000018626451E-2},9.9475983006414026E-14,-3.4650000032270326E-4,null,-3.4650000022322727E-4,{"$f":"SUM(BY24:CB24)","v":-2.0346500018849679E-2},-2332.71,{"$f":"CE24-SUM(BQ24,BV24)","v":-2332.6899999999814}]
[null,null,"Variance WMS – Sub-account CBR Class B",1580,null,null,null,null,0,null,null,null,null,0,0,0,null,null,0,0,0,null,null,0,0,null,null,null,0,0,null,null,null,0,0,null,null,null,0,0,null,null,null,0,0,null,null,null,0,0,null,null,null,0,0,887200.84000000008,null,{"$f":"964946-887201","v":77745},964945.84000000008,0,734.9680800000001,null,78,812.9680800000001,964945.84000000008,-97871.79999999993,null,null,{"$f":"BM25+BN25-BO25+SUM(BP25:BP25)","v":867074.04000000015},812.9680800000001,{"$f":"8962.48192+33.82","v":8996.3019199999999},null,null,9809.27,964945.84,11427.37,-97871.799999999814,-1618.1000000000004,-1695.6289349999968,null,-3313.7289349999974,-101185.52893499982,876829.49,{"$f":"CE25-SUM(BQ25,BV25)","v":-53.820000000181608}]
[null,null,"RSVA - Retail Transmission Network Charge",1584,null,null,null,null,0,null,null,null,null,0,{"$f":"I26","v":0},2802828.02,null,null,2802828.02,0,41205.810000000005,null,null,{"$f":"T26+U26-V26+W26","v":41205.810000000005},2802828.02,-131628.07999999999,0,0,2671199.94,41205.810000000005,40722.629999999997,null,null,{"$f":"AD26+AE26-AF26+AG26","v":81928.44},2671199.94,1048861.42,null,null,3720061.36,81928.44,43640.07,null,null,{"$f":"AN26+AO26-AP26+AQ26","v":125568.51000000001},3720061.36,{"$f":"81928.06+716819.9","v":798747.96},{"$f":"2671199.94+81928.06","v":2753128},null,1765681.3200000003,125568.51000000001,{"$f":"-81928.06+21273.62","v":-60654.44},{"$f":"-81928.06+121195.44","v":39267.380000000005},null,{"$f":"AX26+AY26-AZ26+BA26","v":25646.690000000002},1765681.3200000003,-1213537.23,1048861.42,null,-496717.32999999961,25646.690000000002,2377.21,19791.330000000002,null,{"$f":"BH26+BI26-BJ26+BK26","v":8232.57},-496717.32999999961,-479527.58,null,null,-976244.90999999968,8232.57,-8982.35,null,null,{"$f":"BR26+BS26-BT26+BU26","v":-749.78000000000065},-496717.33,2768.68,-479527.57999999967,-3518.4600000000005,-8307.8153234999936,null,-11826.275323499995,-491353.85532349971,-976994.69,{"$f":"CE26-SUM(BQ26,BV26)","v":0}]
[null,null,"RSVA - Retail Transmission Connection Charge",1586,null,null,null,null,0,null,null,null,null,0,0,794420.6400000006,null,null,794420.6400000006,0,2379.6799999999585,null,null,2379.6799999999585,794420.6400000006,-15977.83,0,0,778442.81000000064,2379.6799999999585,12855.64,null,null,15235.319999999958,778442.81000000064,-300104.84000000003,null,null,478337.97000000061,15235.319999999958,7917.27,null,null,23152.58999999996,478337.97000000061,{"$f":"15235.19+477699.11","v":492934.3},{"$f":"15235.19+778442.810000001","v":793678.00000000093},null,177594.26999999967,23152.58999999996,{"$f":"-231.89-15235.32","v":-15467.21},{"$f":"-15235.32+26678.32","v":11443},null,-3757.620000000039,177594.26999999967,-60225.369999999995,-300104.84000000003,null,417473.7399999997,-3757.620000000039,5119.57,-7937.27,null,9299.2199999999611,417473.7399999997,555267.17000000004,null,null,972740.90999999968,9299.2199999999611,6812.3200000000397,null,null,16111.54,417473.74,13891.43,555267.16999999969,2220.1100000000006,9620.0037202499952,null,11840.113720249996,567107.28372024966,988852.45,0]
[null,null,"RSVA - Power",1588,null,null,null,null,0,null,null,null,null,0,0,-429113.31999999977,null,null,-429113.31999999977,0,-6396.41,null,null,-6396.41,-429113.31999999977,-414329.38000000006,0,0,-843442.69999999984,-6396.41,-18709.04,null,null,-25105.45,-843442.69999999984,-1530583.91,null,null,-2374026.61,-25105.45,-30854.78,null,null,-55960.229999999996,-2374026.61,{"$f":"-4590839.52-25105.3","v":-4615944.8199999994},{"$f":"-843442.7-25105.3","v":-868548},null,-6121423.4299999997,-55960.229999999996,{"$f":"-22744.8+25105.45","v":2360.6500000000015},{"$f":"-37504.45+25105.45","v":-12398.999999999996},null,-41200.58,-6121423.4299999997,-723029.18000000063,-1530583.91,null,-5313868.7,-41200.58,-60980.25,-40955.360000000001,null,-61225.47,-5313868.7,-1020480.3099999996,null,{"$f":"803138.79","v":803138.79},-5531210.2199999997,-61225.47,-69198.169999999984,null,null,-130423.63999999998,-5313868.7,-119678.03,-217341.51999999955,-10745.609999999986,-3765.4418339999925,null,-14511.051833999978,{"$f":"SUM(BY28:CB28)","v":-231852.57183399954},-6464772.6500000004,-803138.79000000097]
[null,null,"RSVA - Global Adjustment",1589,null,null,null,null,0,null,null,null,null,0,0,4893434.3,null,null,4893434.3,0,22182.530000000006,null,null,22182.530000000006,4893434.3,-2946122.0700000003,0,0,1947312.2299999995,22182.530000000006,26117.1,null,null,48299.630000000005,1947312.2299999995,3459067.38,null,null,5406379.6099999994,48299.630000000005,67180.66,null,null,115480.29000000001,5406379.6099999994,{"$f":"48299.77+7681841.8","v":7730141.5699999994},{"$f":"48299.77+1947312.23","v":1995612},null,11140909.18,115480.29000000001,{"$f":"-48299.63+56521.81","v":8222.18},{"$f":"-48299.63+76924.63","v":28625.000000000007},null,95077.47,11140909.18,1769070.5000000009,3459067.38,null,9450912.3000000007,95077.47,73364.44,89403.95,null,79037.960000000006,9450912.3000000007,8213.2599999997765,null,{"$f":"-1619355.47","v":-1619355.47},7839770.0900000008,79037.960000000006,114760.96000000002,null,null,193798.92000000004,9450912.3000000007,182998,-1611142.21,10800.920000000042,-27913.03878825,null,-17112.118788249958,-1628254.32878825,9652924.4800000004,1619355.4699999997]
[null,null,"Disposition and Recovery/Refund of Regulatory Balances (2009)4",1595,null,null,null,null,0,null,null,null,null,0,0,0,null,null,0,0,0,null,null,0,0,0,null,null,0,0,null,null,null,0,0,null,null,null,0,0,null,null,null,0,0,null,null,null,0,0,null,null,null,0,0,null,0,null,0,0,null,null,null,0,0,null,null,null,0,0,null,null,null,0,null,null,0,0,0,null,0,0,0,0]
[null,null,"Disposition and Recovery/Refund of Regulatory Balances (2010)4",1595,null,null,null,null,0,null,null,null,null,0,0,-2388706.54,null,null,-2388706.54,0,744532.79,null,null,744532.79,-2388706.54,2601535.6800000002,null,null,212829.14000000013,744532.79,-874564.29,null,null,-130031.5,212829.14000000013,null,null,null,212829.14000000013,-130031.5,3128,null,null,-126903.5,212829.14000000013,-130031.14,{"$f":"-130031.14+212829.14","v":82798.000000000015},null,1.1641532182693481E-10,-126903.5,130032.5,{"$f":"-126903.5+130032.5","v":3129},null,0,1.1641532182693481E-10,null,0,null,1.1641532182693481E-10,0,null,null,null,0,1.1641532182693481E-10,null,null,null,1.1641532182693481E-10,0,null,null,null,0,null,null,1.1641532182693481E-10,0,2.0168954506516457E-12,null,2.0168954506516457E-12,1.1843221727758646E-10,1.1769589036703109E-10,1.2805685400962712E-12]
[null,null,"Disposition and Recovery/Refund of Regulatory Balances (2011)4",1595,null,null,null,null,0,null,null,null,null,0,0,-132847.62,null,null,{"$f":"O32+P32-Q32+SUM(R32:R32)","v":-132847.62},0,11550.810000000027,null,null,11550.810000000027,-132847.62,{"$f":"97294.12-98295","v":-1000.8800000000047},null,null,-133848.5,11550.810000000027,-4437.0700000000006,null,null,7113.7400000000262,-133848.5,-22.78,null,null,-133871.28,7113.7400000000262,-1967,null,null,5146.7400000000262,-133871.28,7113.5,{"$f":"-133848.5+7113.5","v":-126735},null,-22.779999999998836,5146.7400000000262,{"$f":"-6.57-7114.74","v":-7121.3099999999995},{"$f":"-7114.74+5146.74","v":-1968},null,-6.5699999999733336,-22.779999999998836,-15.040000000001164,null,null,-37.82,-6.5699999999733336,6.9899999999733335,null,null,0.41999999999999993,-37.82,37.82,null,null,0,0.41999999999999993,null,null,null,0.41999999999999993,null,null,0,0.41999999999999993,0,null,0.41999999999999993,0.41999999999999993,0,-0.41999999999999993]
[null,null,"Disposition and Recovery/Refund of Regulatory Balances (2012)4",1595,null,null,null,null,0,null,null,null,null,0,0,0,null,null,0,0,0,null,null,0,0,null,null,null,0,0,null,null,null,0,0,-86304,null,null,-86304,0,null,null,null,0,-86304,null,null,null,-86304,0,-1215.83,null,null,-1215.83,-86304,null,-86304,null,0,-1215.83,-53,-1268.83,null,0,0,null,null,null,0,0,0,null,null,0,null,null,0,0,0,null,0,0,0,0]
[null,null,"Disposition and Recovery/Refund of Regulatory Balances (2013)4",1595,null,null,null,null,0,null,null,null,null,0,0,0,null,null,0,0,0,null,null,0,0,null,null,null,0,0,null,null,null,0,0,null,null,null,0,0,null,null,null,0,0,null,null,null,0,0,null,null,null,0,0,null,null,null,0,0,null,null,null,0,0,{"$f":"-885.81-37.82","v":-923.63},null,null,-923.63,0,-4.8099999999999996,null,null,-4.8099999999999996,null,null,-923.63,-4.8099999999999996,-16.00188975,null,-20.811889749999999,-944.44188974999997,-928.02,0.41999999999995907]
[null,null,"Disposition and Recovery/Refund of Regulatory Balances (2014)4",1595,null,null,null,null,0,null,null,null,null,0,0,0,null,null,0,0,0,null,null,0,0,null,null,null,0,0,null,null,null,0,0,null,null,null,0,0,null,null,null,0,0,{"$f":"-86832.55+4134200.72+272807.97","v":4320176.1400000006},8196023.5999999996,null,-3875847.459999999,0,{"$f":"-88961.04-272808.53","v":-361769.57},116471.5,null,-478241.07,-3875847.459999999,{"$f":"3789015+6866.09","v":3795881.09},null,null,{"$f":"BC35+BD35-BE35+SUM(BF35:BF35)","v":-79966.36999999918},-478241.07,{"$f":"-113674.48+478241.8","v":364567.32},null,null,-113673.75,-79966.36999999918,{"$f":"343885.48-0.5","v":343884.98},null,null,{"$f":"BM35+BN35-BO35+SUM(BP35:BP35)","v":263918.6100000008},{"$f":"BL35","v":-113673.75},{"$f":"8099.75-949.32","v":7150.43},null,null,-106523.32,null,null,263918.6100000008,-106523.32,4572.3899182500136,null,{"$f":"BZ35+CA35+CB35","v":-101950.93008174999},{"$f":"SUM(BY35:CB35)","v":161967.6799182508},157394.97,-0.32000000079278834]
[null,null,"Disposition and Recovery/Refund of Regulatory Balances (2015)4",1595,null,null,null,null,0,null,null,null,null,0,0,0,null,null,0,0,0,null,null,0,0,null,null,null,0,0,null,null,null,0,0,null,null,null,0,0,null,null,null,0,0,null,null,null,0,0,null,null,null,0,0,{"$f":"-397083.04-223958","v":-621041.04},-223958,null,-397083.04000000004,0,{"$f":"13800.31-2784","v":11016.31},-2783.68,null,13799.99,-397083.04000000004,{"$f":"-288009.96+260189.4","v":-27820.560000000027},null,null,-424903.60000000009,13799.99,{"$f":"-357.11-7502.03","v":-7859.1399999999994},null,null,5940.85,null,null,-424903.60000000009,5940.85,-7361.4548700000014,null,-1420.604870000001,{"$f":"SUM(BY36:CB36)","v":-426324.20487000013},-418962.43,0.32000000012340024]
[null,null,"Disposition and Recovery/Refund of Regulatory Balances (2016)4\nNot to be disposed of unless rate rider has expired and balance has been audited",1595,null,null,null,null,0,null,null,null,null,0,0,null,null,null,0,0,null,null,null,0,0,null,null,null,0,0,null,null,null,0,0,null,null,null,0,0,null,null,null,0,0,null,null,null,0,0,null,null,null,0,0,null,null,null,0,0,null,null,null,0,0,null,null,null,0,0,null,null,null,0,null,null,0,0,0,null,0,0,0,0]
[null,null,"Disposition and Recovery/Refund of Regulatory Balances (2017)4",null,null,null,null,null,null,null,null,null,null,null,null,null,null,null,null,null,null,null,null,null,null,null,null,null,null,null,null,null,null,null,null,null,null,null,null,null,null,null,null,null,null,null,null,null,null,null,null,null,null,null,null,null,null,null,null,null,null,null,null,null,null,null,null,null,null,null,null,null,null,null,{"$f":"-SUM(BW21:BW37)","v":4023408.9499999993},{"$f":"-SUM(BX21:BX37)","v":14499.860000000015},{"$f":"BQ38-BW38","v":-4023408.9499999993},{"$f":"BV38-BX38","v":-14499.860000000015},-69705.560058749994,null,{"$f":"+BV38","v":0},{"$f":"+BQ38","v":0},0,0]
[]
[null,null,{"$f":"C29","v":"RSVA - Global Adjustment"},1589,{"$f":"E29","v":0},0,0,0,0,0,0,0,0,0,0,4893434.3,0,0,4893434.3,0,22182.530000000006,0,0,22182.530000000006,4893434.3,-2946122.0700000003,0,0,1947312.2299999995,22182.530000000006,26117.1,0,0,48299.630000000005,1947312.2299999995,3459067.38,0,0,5406379.6099999994,48299.630000000005,67180.66,0,0,115480.29000000001,5406379.6099999994,7730141.5699999994,1995612,0,11140909.18,115480.29000000001,8222.18,28625.000000000007,0,95077.47,11140909.18,1769070.5000000009,3459067.38,0,9450912.3000000007,95077.47,73364.44,89403.95,0,79037.960000000006,9450912.3000000007,8213.2599999997765,0,-1619355.47,{"$f":"BQ29","v":7839770.0900000008},79037.960000000006,114760.96000000002,0,0,193798.92000000004,9450912.3000000007,182998,-1611142.21,10800.920000000042,{"$f":"CA29","v":-27913.03878825},{"$f":"CB29","v":0},{"$f":"CC29","v":-17112.118788249958},{"$f":"CD29","v":-1628254.32878825},{"$f":"CE29","v":9652924.4800000004},{"$f":"CE40-SUM(BQ40,BV40)","v":1619355.4699999997}]
[null,null,"Total Group 1 Balance excluding Account 1589 - Global Adjustment",null,{"$f":"SUM(E21:E37)-E29","v":0},{"$f":"SUM(F21:F37)-F29","v":0},0,0,0,0,0,0,0,0,0,{"$f":"SUM(P21:P38)-P29","v":-7103670.5599999996},{"$f":"SUM(Q21:Q38)-Q29","v":0},0,-7103670.5599999996,0,669683.83000000007,0,0,669683.83000000007,-7103670.5599999996,-2766857.7,0,0,-9870528.2600000016,669683.83000000007,-990791.99,0,0,-321108.16000000003,-9870528.2600000016,-3234753.49,0,0,-13105281.75,-321108.16000000003,-184539.77,0,0,-505647.92999999993,-13105281.75,-178660.37999999989,-1995612.4000000004,0,-11288329.729999999,-505647.92999999993,-51310.720000000038,-28625.120000000003,0,-528333.53,-11288329.729999999,-6123117.660000002,-3459067.48,85754,-13866625.91,-528333.53,289760.91807999997,-89403.95,85,-149083.66192000004,-13866625.91,-4351191.2799999984,0,803138.79,-17414678.399999999,-149083.66192000004,-178803.65807999994,0,0,{"$f":"SUM(BV21:BV38)-BV29","v":-327887.31999999995},-9450912.3000000007,-182998,-7963766.0999999968,-144889.32000000004,-137972.24768249993,{"$f":"SUM(CB21:CB37)-CB29","v":0},{"$f":"SUM(CC21:CC38)-CC29","v":-198656.14762375},{"$f":"SUM(CD21:CD38)-CD29","v":-4139013.297623748},{"$f":"SUM(CE21:CE38)-CE29-CE24-CE25","v":-18545704.509999998},{"$f":"CE41-SUM(BQ41,BV41)","v":-803138.78999999911}]
[null,null,"Total Group 1 Balance",null,{"$f":"SUM(E40,E41)","v":0},{"$f":"SUM(F40,F41)","v":0},0,0,0,0,0,0,0,0,0,{"$f":"SUM(P40,P41)","v":-2210236.2599999998},{"$f":"SUM(Q40,Q41)","v":0},0,-2210236.2599999998,0,691866.3600000001,0,0,691866.3600000001,-2210236.2599999998,-5712979.7700000005,0,0,-7923216.0300000021,691866.3600000001,-964674.89,0,0,-272808.53000000003,-7923216.0300000021,224313.88999999966,0,0,-7698902.1400000006,-272808.53000000003,-117359.10999999999,0,0,-390167.6399999999,-7698902.1400000006,7551481.1899999995,-0.40000000037252903,0,-147420.54999999888,-390167.6399999999,-43088.540000000037,-0.11999999999534339,0,-433256.06000000006,-147420.54999999888,-4354047.1600000011,-0.10000000009313226,85754,-4415713.6099999994,-433256.06000000006,363125.35807999998,0,85,-70045.701920000036,-4415713.6099999994,-4342978.0199999986,0,-816216.67999999993,-9574908.3099999987,-70045.701920000036,-64042.698079999915,0,0,-134088.39999999991,0,0,-9574908.3099999968,-134088.4,-165885.28647074994,0,-215768.26641199997,{"$f":"SUM(CD40,CD41)","v":-5767267.6264119977},{"$f":"SUM(CE40,CE41)","v":-8892780.0299999975},{"$f":"CE42-SUM(BQ42,BV42)","v":816216.68000000156}]
[]
[29,null,"LRAM Variance Account (only input amounts if applying for disposition of this account)",1568,null,null,null,null,null,null,null,null,null,null,null,null,null,null,{"$f":"O44+P44-Q44+SUM(R44:R44)","v":0},null,null,null,null,{"$f":"T44+U44-V44+W44","v":0},{"$f":"S44","v":0},null,null,null,{"$f":"Y44+Z44-AA44+SUM(AB44:AB44)","v":0},{"$f":"X44","v":0},null,null,null,{"$f":"AD44+AE44-AF44+AG44","v":0},{"$f":"AC44","v":0},null,null,null,{"$f":"AI44+AJ44-AK44+SUM(AL44:AL44)","v":0},{"$f":"AH44","v":0},null,null,null,{"$f":"AN44+AO44-AP44+AQ44","v":0},{"$f":"AM44","v":0},142020.89000000001,null,null,{"$f":"AS44+AT44-AU44+SUM(AV44:AV44)","v":142020.89000000001},{"$f":"AR44","v":0},-174.59,null,null,{"$f":"AX44+AY44-AZ44+BA44","v":-174.59},{"$f":"AW44","v":142020.89000000001},376487.2,0,360540.93,{"$f":"BC44+BD44-BE44+SUM(BF44:BF44)","v":879049.02},{"$f":"BB44","v":-174.59},2707.56,null,11069.801569998497,{"$f":"BH44+BI44-BJ44+BK44","v":13602.771569998496},{"$f":"BG44","v":879049.02},579460,null,null,{"$f":"BM44+BN44-BO44+SUM(BP44:BP44)","v":1458509.02},{"$f":"BL44","v":13602.771569998496},16554.638430001505,null,null,{"$f":"BR44+BS44-BT44+BU44","v":30157.410000000003},879049.02,23272.32,{"$f":"BQ44-BW44","v":579460},{"$f":"BV44-BX44","v":6885.0900000000038},{"$f":"+BY44*(1.1%*0.75+1.5%*0.5+1.89%*1/12)","v":10039.1445},null,{"$f":"BZ44+CA44+CB44","v":16924.234500000006},{"$f":"SUM(BY44:CB44)","v":596384.23450000002},1488666.4299999997,{"$f":"CE44-SUM(BQ44,BV44)","v":0}]
[]
[null,null,"Total including Account 1568",null,{"$f":"SUM(E42,E44)","v":0},{"$f":"SUM(F42,F44)","v":0},0,0,0,0,0,0,0,0,0,-2210236.2599999998,0,0,-2210236.2599999998,0,691866.3600000001,0,0,691866.3600000001,-2210236.2599999998,-5712979.7700000005,0,0,-7923216.0300000021,691866.3600000001,-964674.89,0,0,-272808.53000000003,-7923216.0300000021,224313.88999999966,0,0,-7698902.1400000006,-272808.53000000003,-117359.10999999999,0,0,-390167.6399999999,-7698902.1400000006,7693502.0799999991,-0.40000000037252903,0,-5399.6599999988684,-390167.6399999999,-43263.130000000034,-0.11999999999534339,0,-433430.65000000008,-5399.6599999988684,-3977559.9600000009,-0.10000000009313226,446294.93,-3536664.5899999994,-433430.65000000008,365832.91807999997,0,11154.801569998497,-56442.930350001538,-3536664.5899999994,-3763518.0199999986,0,-816216.67999999993,-8116399.2899999991,-56442.930350001538,-47488.059649998409,0,0,-103930.9899999999,879049.02,23272.32,-8995448.3099999968,-127203.31,-155846.14197074994,{"$f":"SUM(CB42,CB44)","v":0},{"$f":"SUM(CC42,CC44)","v":-198844.03191199998},{"$f":"SUM(CD42,CD44)","v":-5170883.3919119975},{"$f":"SUM(CE42,CE44)","v":-7404113.5999999978},{"$f":"SUM(CF42,CF44)","v":816216.68000000156}]
[]
[null,null,null,null,null,null,null,null,null,null,null,null,null,null,null,null,null,null,null,null,null,null,null,null,null,null,null,null,null,null,null,null,null,null,null,null,null,null,null,null,null,null,null,null,null,null,null,null,null,null,null,null,null,null,null,null,null,null,null,null,null,null,null,null,null,null,null,null,null,null,null,null,null,null,null,null,null,null,null,null,null,{"$f":"+CD21+CD22+CD23+CD26+CD27+CD28+CD34+CD35+CD36","v":-4037828.1683422476}]
[null,null,"For all OEB-Approved dispositions, please ensure that the disposition amount has the same sign (e.g: debit balances are to have a positive figure and credit balance are to have a negative figure) as per the related OEB decision."]
[]
[]
[null,1,"Please provide explanations for the nature of the adjustments.  If the adjustment relates to previously OEB-Approved disposed balances, please provide amounts for adjustments and include supporting documentations."]
[null,2,"For RSVA accounts only, report the net variance to the account during the year.  For all other accounts, record the transactions during the year."]
[null,3,"If the LDC’s rate year begins on January 1, 2017, the projected interest is recorded from January 1, 2016 to December 31, 2016 on the December 31, 2015 balances adjusted for the disposed balances approved by the OEB in the 2016 rate decision.  If the LDC’s rate year begins on May 1, 2017, the projected interest is recorded from January 1, 2016 to April 30, 2017 on the December 31, 2015 balances adjusted for the disposed interest balances approved by the OEB in the 2016 rate decision."]
[null,4,"Include Account 1595 as part of Group 1 accounts (lines 30-36) for review and disposition if the recovery (or refund) period has been completed. If the recovery (or refund) period has not been completed, do not include the respective balance in Account 1595 for disposition at this time."]

{"sheet":"4. Billing Det. for Def-Var","index":5,"n_rows":61,"n_cols":21,"rows_kept":61,"cut":false,"hidden":false,"merged":[[31,17,31,19],[32,17,32,20],[14,8,15,8],[14,9,15,9],[14,16,15,16],[14,17,15,17],[14,19,15,19],[14,18,15,18],[1,1,8,9],[14,20,15,20],[14,10,15,10],[14,11,15,11],[14,12,15,12],[14,13,15,13],[14,14,15,14],[14,15,15,15],[12,1,12,7],[13,3,13,8],[14,3,15,3],[14,4,15,4],[14,5,15,5],[14,6,15,6],[14,7,15,7],[13,11,13,18],[46,9,47,9],[46,10,47,10],[44,1,44,7],[45,3,45,8],[46,3,47,3],[46,4,47,4],[46,5,47,5],[46,6,47,6],[46,7,47,7],[46,8,47,8]]}
["Back to Index",null,null,null,null,null,null,null,null,null,"Yes",null,null,null,null,null,null,null,null,{"$f":"IF(D18=\"YES\", \"YES\", \"NO\")","v":"NO"}]
[null,"INCENTIVE REGULATION MODEL FOR 2018 FILERS"]
[]
[]
[]
[]
[]
[]
[]
[]
[]
[]
[null,"Information from the most recent RRR (2016 for 2018 IRM)"]
[null,null,null,null,null,null,null,null,null,null,null,"Approved Recoveries (class allocation %)"]
[null,null,null,"Total Metered kWh","Total Metered kW","Metered kWh for Non-RPP Customers excluding WMP","Metered kW for Non-RPP Customers excluding WMP","Metered kWh for Wholesale Market Participants (WMP)","Metered kW for Wholesale Market Participants (WMP)","Total Metered kWh less WMP consumption\n(if applicable)","Total Metered kW less WMP consumption \n(if applicable)","1595 Recovery Proportion (2009) 1","1595 Recovery Proportion (2010) 1","1595 Recovery Proportion (2011) 1","1595 Recovery Proportion (2012) 1","1595 Recovery Proportion (2013) 1","1595 Recovery Proportion (2014) 1","1595 Recovery Proportion (2015) 1","1595 Recovery Proportion (2016) 1","1568 LRAM Variance Account Class Allocation                           ($ amounts)","Number of Customers for Residential and GS<50 classes3"]
[null,"Rate Class","Unit"]
[null,{"$f":"'Model Specs'!C15","v":"RESIDENTIAL SERVICE CLASSIFICATION"},"kWh",1311941173,null,91312361,null,null,null,{"$f":"D17-H17","v":1311941173},{"$f":"E17-I17","v":0},null,null,null,null,0.315,0.315,0.315,null,null,146977]
[null,{"$f":"'Model Specs'!C16","v":"GENERAL SERVICE LESS THAN 50 kW SERVICE CLASSIFICATION"},"kWh",337539785,null,67523320,null,null,null,{"$f":"D18-H18","v":337539785},{"$f":"E18-I18","v":0},null,null,null,null,9.0999999999999998E-2,9.0999999999999998E-2,9.0999999999999998E-2,null,null,9989]
[null,{"$f":"'Model Specs'!C17","v":"GENERAL SERVICE 50 to 699 KW SERVICE CLASSIFICATION"},"kW",1118515365,3142997.7300000004,945060807,2656072.5707283323,4174812.59,11167.73,1114340552.4100001,{"$f":"E19-I19","v":3131830.0000000005},null,null,null,null,0.27800000000000002,0.27800000000000002,0.27800000000000002]
[null,{"$f":"'Model Specs'!C18","v":"GENERAL SERVICE 700 to 4,999 KW SERVICE CLASSIFICATION"},"kW",852708466,2009962.0099999998,{"$f":"+D20-H20","v":790313087.53999996},{"$f":"+E20-I20","v":1906577.9999999998},62395378.460000001,103384.01,790313087.53999996,1906577.9999999998,null,null,null,null,0.21099999999999999,0.21099999999999999,0.21099999999999999]
[null,{"$f":"'Model Specs'!C19","v":"LARGE USE SERVICE CLASSIFICATION"},"kW",363967969,666341.81491998362,363967969,666342,null,null,363967969,666341.81491998362,null,null,null,null,0.1,0.1,0.1]
[null,{"$f":"'Model Specs'!C20","v":"STANDBY POWER SERVICE CLASSIFICATION "},"kW",null,null,null,null,null,null,0,0]
[null,{"$f":"'Model Specs'!C21","v":"UNMETERED SCATTERED LOAD SERVICE CLASSIFICATION"},"kWh",5837113,null,5837113,null,null,null,5837113,0,null,null,null,null,1E-3,1E-3,1E-3]
[null,{"$f":"'Model Specs'!C22","v":"STREET LIGHTING SERVICE CLASSIFICATION"},"kW",34274583,103149.15808304329,34274583,103149,null,null,34274583,103149.15808304329,null,null,null,null,4.0000000000000001E-3,4.0000000000000001E-3,4.0000000000000001E-3]
[null,{"$f":"'Model Specs'!C23","v":"EMBEDDED DISTRIBUTOR SERVICE CLASSIFICATION"},"kWh",5292579,null,5292579,null,null,null,5292579,0]
[null,{"$f":"'Model Specs'!C24","v":"DISTRIBUTED GENERATION [DGEN] SERVICE CLASSIFICATION"},"kWh",141477,null,141477,null,null,null,141477,0]
[null,{"$f":"'Model Specs'!C25","v":"ENERGY FROM WASTE SERVICE CLASSIFICATION"},"kW",0,0,0,0,0,0,0,0]
[null,null,null,null,null,null,null,null,null,0,0]
[null,null,"Total",{"$f":"SUM(D17:D28)","v":4030218510},{"$f":"SUM(E17:E28)","v":5922450.7130030273},2303723296.54,5332141.5707283318,66570191.049999997,114551.73999999999,3963648318.9499998,5807898.973003027,0,0,0,0,1,1,1,0,0,156966]
[]
[]
[null,"Threshold Test",null,null,null,null,null,null,null,null,null,null,null,null,null,null,null,"1568 Account Balance from Continuity Schedule",null,null,{"$f":"'3. Continuity Schedule'!CD44","v":596384.23450000002}]
[null,"Total Claim (including Account 1568)",null,{"$f":"'3. Continuity Schedule'!CD46-'3. Continuity Schedule'!CD38","v":-5170883.3919119975},null,null,null,null,null,null,null,null,null,null,null,null,null,{"$f":"IF(U32=T29,\"Total Balance of Account 1568 in Column R matches the amount entered on the Continuity Schedule\",\"Total Balance of Account 1568 in Column T DOES NOT MATCH the amount entered on the Continuity Schedule\")","v":"Total Balance of Account 1568 in Column T DOES NOT MATCH the amount entered on the Continuity Schedule"}]
[null,"Total Claim for Threshold Test (All Group 1 Accounts)",null,{"$f":"'3. Continuity Schedule'!CD42-'3. Continuity Schedule'!CD38","v":-5767267.6264119977}]
[null,"Threshold Test (Total claim per kWh) 2",null,{"$f":"IFERROR(D34/D29,\"\")","v":-1.4310061879031957E-3}]
[null,"Exceeds Threshold?",null,{"$f":"IF(D35=\"\",\"\",IF(OR(D35>0.001,D35<-0.001),\"Yes\",\"No\"))","v":"Yes"}]
[null,"ELECT TO DISPOSE of the Group 1 Account Balances?",null,"Yes"]
[]
[]
[null,"As per Section 3.2.5 of the 2017 Filing Requirements for Electricity Distribution Rate Applications, an applicant may elect to dispose of the Group 1 account balances below the threshold. "]
[null,"1 Residual Account balance to be allocated to rate classes in proportion to the recovery share as established when rate riders were implemented."]
[null,"2 The Threshold Test does not include the amount in 1568."]
[null,"3 The proportion of customers for the Residential and GS<50 Classes will be used to allocate Account 1551."]
[]
[null,"Information from the 2015 RRR"]
[]
[null,null,null,"Total Metered kWh","Total Metered kW","Metered kWh for Non-RPP Customers","Metered kW for Non-RPP Customers","Metered kWh for Wholesale Market Participants (WMP)","Metered kW for Wholesale Market Participants (WMP)","Total Metered kWh less WMP consumption\n(if applicable)","Total Metered kW less WMP consumption \n(if applicable)"]
[null,"Rate Class","Unit"]
[null,{"$f":"B17","v":"RESIDENTIAL SERVICE CLASSIFICATION"},"kWh",null,null,null,null,null,null,{"$f":"D49-H49","v":0},{"$f":"E49-I49","v":0}]
[null,{"$f":"B18","v":"GENERAL SERVICE LESS THAN 50 kW SERVICE CLASSIFICATION"},"kWh",null,null,null,null,null,null,{"$f":"D50-H50","v":0},{"$f":"E50-I50","v":0}]
[null,"GENERAL SERVICE 50 to 699 KW SERVICE CLASSIFICATION","kW",null,null,null,null,null,null,0,{"$f":"E51-I51","v":0}]
[null,"GENERAL SERVICE 700 to 4,999 KW SERVICE CLASSIFICATION","kW",null,null,null,null,null,null,0,{"$f":"E52-I52","v":0}]
[null,"LARGE USE SERVICE CLASSIFICATION","kWh",null,null,null,null,null,null,0,0]
[null,"STANDBY POWER SERVICE CLASSIFICATION ","kW",null,null,null,null,null,null,0,0]
[null,"UNMETERED SCATTERED LOAD SERVICE CLASSIFICATION","kW",null,null,null,null,null,null,0,0]
[null,"STREET LIGHTING SERVICE CLASSIFICATION","kW",null,null,null,null,null,null,0,0]
[null,"EMBEDDED DISTRIBUTOR SERVICE CLASSIFICATION","kWh",null,null,null,null,null,null,0,0]
[null,"DISTRIBUTED GENERATION [DGEN] SERVICE CLASSIFICATION","kWh",null,null,null,null,null,null,0,0]
[null,"ENERGY FROM WASTE SERVICE CLASSIFICATION","kW",null,null,null,null,null,null,0,0]
[null,null,null,null,null,null,null,null,null,0,0]
[null,null,"Total",{"$f":"SUM(D49:D60)","v":0},{"$f":"SUM(E49:E60)","v":0},0,0,0,0,0,0]

{"sheet":"5. Allocating Def-Var Balances","index":6,"n_rows":35,"n_cols":24,"rows_kept":35,"cut":false,"hidden":false,"merged":[[1,1,8,7],[13,23,14,23],[13,15,14,15],[13,16,14,16],[13,17,14,17],[13,18,14,18],[13,19,14,19],[13,20,14,20],[13,14,14,14],[10,1,11,11],[13,2,14,2],[13,3,14,3],[13,4,14,4],[13,5,14,5],[13,21,14,21],[13,22,14,22]]}
["Back to Index"]
[null,"INCENTIVE REGULATION MODEL FOR 2018 FILERS"]
[]
[]
[]
[]
[]
[]
[]
[]
[null,"No input required.  This workshseet allocates the deferral/variance account balances (Group 1 and 1568) to the appropriate classes as per EDDVAR dated July 31, 2009"]
[]
[null,"Allocation of Group 1 Accounts (including Account 1568)"]
[null,null,"% of  Total kWh","% of  Total non-RPP kWh","% of Customer Numbers **","% of  Total kWh adjusted for WMP",null,null,"allocated based on Total less WMP",null,null,null,null,"allocated based on Total less WMP","1595_(2009)","1595_(2010)","1595_(2011)","1595_(2012)","1595_(2013)","1595_(2014)","1595_(2015)","1595_(2016)","1595_(2017)",1568]
[null,"Rate Class",null,null,null,null,1550,1551,1580,"1580 (Class A)","1580 (Class B)",1584,1586,1588]
[null,{"$f":"'4. Billing Det. for Def-Var'!B17","v":"RESIDENTIAL SERVICE CLASSIFICATION"},{"$f":"IFERROR('4. Billing Det. for Def-Var'!D17/'4. Billing Det. for Def-Var'!D$29,\"\")","v":0.32552606508672899},{"$f":"IFERROR('4. Billing Det. for Def-Var'!F17/'4. Billing Det. for Def-Var'!F$29,\"\")","v":3.9636861396133614E-2},{"$f":"IFERROR('4. Billing Det. for Def-Var'!U17/'4. Billing Det. for Def-Var'!U$29,\"\")","v":0.93636201470382119},{"$f":"IFERROR('4. Billing Det. for Def-Var'!J17/'4. Billing Det. for Def-Var'!J$29,\"\")","v":0.33099333427934974},{"$f":"IFERROR(G$28*C16,\"\")","v":82274.735886181108},{"$f":"IFERROR(H$28*E16,\"\")","v":-57329.55241358115},{"$f":"IFERROR(I$28*F16,\"\")","v":-1260404.7906266009},null,null,{"$f":"IFERROR(L$28*$C16,\"\")","v":-159948.48708865279},{"$f":"IFERROR(M$28*$C16,\"\")","v":184608.20255147608},{"$f":"IFERROR(N$28*$F16,\"\")","v":-76741.655812577956},{"$f":"'4. Billing Det. for Def-Var'!L17*O$28","v":0},{"$f":"'4. Billing Det. for Def-Var'!M17*P$28","v":0},{"$f":"'4. Billing Det. for Def-Var'!N17*Q$28","v":0},{"$f":"'4. Billing Det. for Def-Var'!O17*R$28","v":0},{"$f":"'4. Billing Det. for Def-Var'!P17*S$28","v":-297.49919527125002},{"$f":"'4. Billing Det. for Def-Var'!Q17*T$28","v":51019.819174249002},{"$f":"'4. Billing Det. for Def-Var'!R17*U$28","v":-134292.12453405003},{"$f":"'4. Billing Det. for Def-Var'!S17*V$28","v":0},{"$f":"'4. Billing Det. for Def-Var'!T17*W$28","v":0},{"$f":"'4. Billing Det. for Def-Var'!T17","v":0}]
[null,{"$f":"'4. Billing Det. for Def-Var'!B18","v":"GENERAL SERVICE LESS THAN 50 kW SERVICE CLASSIFICATION"},{"$f":"IFERROR('4. Billing Det. for Def-Var'!D18/'4. Billing Det. for Def-Var'!D$29,\"\")","v":8.3752229354928945E-2},{"$f":"IFERROR('4. Billing Det. for Def-Var'!F18/'4. Billing Det. for Def-Var'!F$29,\"\")","v":2.9310516632537593E-2},{"$f":"IFERROR('4. Billing Det. for Def-Var'!U18/'4. Billing Det. for Def-Var'!U$29,\"\")","v":6.3637985296178784E-2},{"$f":"IFERROR('4. Billing Det. for Def-Var'!J18/'4. Billing Det. for Def-Var'!J$29,\"\")","v":8.5158863208483856E-2},{"$f":"IFERROR(G$28*C17,\"\")","v":21167.867304941545},{"$f":"IFERROR(H$28*E17,\"\")","v":-3896.2892089188244},{"$f":"IFERROR(I$28*F17,\"\")","v":-324280.36469671258},null,null,{"$f":"IFERROR(L$28*$C17,\"\")","v":-41151.980785482323},47496.499294989109,{"$f":"IFERROR(N$28*$F17,\"\")","v":-19744.301449346745},{"$f":"'4. Billing Det. for Def-Var'!L18*O$28","v":0},{"$f":"'4. Billing Det. for Def-Var'!M18*P$28","v":0},{"$f":"'4. Billing Det. for Def-Var'!N18*Q$28","v":0},{"$f":"'4. Billing Det. for Def-Var'!O18*R$28","v":0},{"$f":"'4. Billing Det. for Def-Var'!P18*S$28","v":-85.944211967249998},{"$f":"'4. Billing Det. for Def-Var'!Q18*T$28","v":14739.058872560821},{"$f":"'4. Billing Det. for Def-Var'!R18*U$28","v":-38795.50264317001},{"$f":"'4. Billing Det. for Def-Var'!S18*V$28","v":0},{"$f":"'4. Billing Det. for Def-Var'!T18*W$28","v":0},{"$f":"'4. Billing Det. for Def-Var'!T18","v":0}]
[null,{"$f":"'4. Billing Det. for Def-Var'!B19","v":"GENERAL SERVICE 50 to 699 KW SERVICE CLASSIFICATION"},{"$f":"IFERROR('4. Billing Det. for Def-Var'!D19/'4. Billing Det. for Def-Var'!D$29,\"\")","v":0.27753218894327397},{"$f":"IFERROR('4. Billing Det. for Def-Var'!F19/'4. Billing Det. for Def-Var'!F$29,\"\")","v":0.41023190954373834},{"$f":"IFERROR('4. Billing Det. for Def-Var'!U19/'4. Billing Det. for Def-Var'!U$29,\"\")","v":0},{"$f":"IFERROR('4. Billing Det. for Def-Var'!J19/'4. Billing Det. for Def-Var'!J$29,\"\")","v":0.28114011706901315},{"$f":"IFERROR(G$28*C18,\"\")","v":70144.575179065956},{"$f":"IFERROR(H$28*E18,\"\")","v":0},{"$f":"IFERROR(I$28*F18,\"\")","v":-1070566.4244345329},null,null,-136366.51101364763,157390.52581655522,{"$f":"IFERROR(N$28*$F18,\"\")","v":-65183.059188162413},{"$f":"'4. Billing Det. for Def-Var'!L19*O$28","v":0},{"$f":"'4. Billing Det. for Def-Var'!M19*P$28","v":0},{"$f":"'4. Billing Det. for Def-Var'!N19*Q$28","v":0},{"$f":"'4. Billing Det. for Def-Var'!O19*R$28","v":0},{"$f":"'4. Billing Det. for Def-Var'!P19*S$28","v":-262.55484535049999},{"$f":"'4. Billing Det. for Def-Var'!Q19*T$28","v":45027.015017273727},{"$f":"'4. Billing Det. for Def-Var'!R19*U$28","v":-118518.12895386005},{"$f":"'4. Billing Det. for Def-Var'!S19*V$28","v":0},{"$f":"'4. Billing Det. for Def-Var'!T19*W$28","v":0},{"$f":"'4. Billing Det. for Def-Var'!T19","v":0}]
[null,{"$f":"'4. Billing Det. for Def-Var'!B20","v":"GENERAL SERVICE 700 to 4,999 KW SERVICE CLASSIFICATION"},{"$f":"IFERROR('4. Billing Det. for Def-Var'!D20/'4. Billing Det. for Def-Var'!D$29,\"\")","v":0.21157871809784329},{"$f":"IFERROR('4. Billing Det. for Def-Var'!F20/'4. Billing Det. for Def-Var'!F$29,\"\")","v":0.34305903349025652},{"$f":"IFERROR('4. Billing Det. for Def-Var'!U20/'4. Billing Det. for Def-Var'!U$29,\"\")","v":0},{"$f":"IFERROR('4. Billing Det. for Def-Var'!J20/'4. Billing Det. for Def-Var'!J$29,\"\")","v":0.19939031517038319},53475.235987628119,0,-759267.58160391706,null,null,-103960.01884177922,119987.83211348034,-46229.157371045076,{"$f":"'4. Billing Det. for Def-Var'!L20*O$28","v":0},{"$f":"'4. Billing Det. for Def-Var'!M20*P$28","v":0},{"$f":"'4. Billing Det. for Def-Var'!N20*Q$28","v":0},{"$f":"'4. Billing Det. for Def-Var'!O20*R$28","v":0},{"$f":"'4. Billing Det. for Def-Var'!P20*S$28","v":-199.27723873724997},{"$f":"'4. Billing Det. for Def-Var'!Q20*T$28","v":34175.180462750919},{"$f":"'4. Billing Det. for Def-Var'!R20*U$28","v":-89954.407227570031},{"$f":"'4. Billing Det. for Def-Var'!S20*V$28","v":0},{"$f":"'4. Billing Det. for Def-Var'!T20*W$28","v":0},{"$f":"'4. Billing Det. for Def-Var'!T20","v":0}]
[null,{"$f":"'4. Billing Det. for Def-Var'!B21","v":"LARGE USE SERVICE CLASSIFICATION"},{"$f":"IFERROR('4. Billing Det. for Def-Var'!D21/'4. Billing Det. for Def-Var'!D$29,\"\")","v":9.0309735836134608E-2},{"$f":"IFERROR('4. Billing Det. for Def-Var'!F21/'4. Billing Det. for Def-Var'!F$29,\"\")","v":0.15799118303254975},{"$f":"IFERROR('4. Billing Det. for Def-Var'!U21/'4. Billing Det. for Def-Var'!U$29,\"\")","v":0},{"$f":"IFERROR('4. Billing Det. for Def-Var'!J21/'4. Billing Det. for Def-Var'!J$29,\"\")","v":9.1826504198136788E-2},22825.237241414601,0,-349670.38248614682,null,null,-44374.036876331564,51215.308983523588,-21290.211160863571,{"$f":"'4. Billing Det. for Def-Var'!L21*O$28","v":0},{"$f":"'4. Billing Det. for Def-Var'!M21*P$28","v":0},{"$f":"'4. Billing Det. for Def-Var'!N21*Q$28","v":0},{"$f":"'4. Billing Det. for Def-Var'!O21*R$28","v":0},{"$f":"'4. Billing Det. for Def-Var'!P21*S$28","v":-94.444188975000003},{"$f":"'4. Billing Det. for Def-Var'!Q21*T$28","v":16196.76799182508},{"$f":"'4. Billing Det. for Def-Var'!R21*U$28","v":-42632.420487000018},{"$f":"'4. Billing Det. for Def-Var'!S21*V$28","v":0},{"$f":"'4. Billing Det. for Def-Var'!T21*W$28","v":0},{"$f":"'4. Billing Det. for Def-Var'!T21","v":0}]
[null,{"$f":"'4. Billing Det. for Def-Var'!B22","v":"STANDBY POWER SERVICE CLASSIFICATION "},{"$f":"IFERROR('4. Billing Det. for Def-Var'!D22/'4. Billing Det. for Def-Var'!D$29,\"\")","v":0},{"$f":"IFERROR('4. Billing Det. for Def-Var'!F22/'4. Billing Det. for Def-Var'!F$29,\"\")","v":0},{"$f":"IFERROR('4. Billing Det. for Def-Var'!U22/'4. Billing Det. for Def-Var'!U$29,\"\")","v":0},{"$f":"IFERROR('4. Billing Det. for Def-Var'!J22/'4. Billing Det. for Def-Var'!J$29,\"\")","v":0},0,0,0,null,null,0,0,0,{"$f":"'4. Billing Det. for Def-Var'!L22*O$28","v":0},{"$f":"'4. Billing Det. for Def-Var'!M22*P$28","v":0},{"$f":"'4. Billing Det. for Def-Var'!N22*Q$28","v":0},{"$f":"'4. Billing Det. for Def-Var'!O22*R$28","v":0},{"$f":"'4. Billing Det. for Def-Var'!P22*S$28","v":0},{"$f":"'4. Billing Det. for Def-Var'!Q22*T$28","v":0},{"$f":"'4. Billing Det. for Def-Var'!R22*U$28","v":0},{"$f":"'4. Billing Det. for Def-Var'!S22*V$28","v":0},{"$f":"'4. Billing Det. for Def-Var'!T22*W$28","v":0},{"$f":"'4. Billing Det. for Def-Var'!T22","v":0}]
[null,{"$f":"'4. Billing Det. for Def-Var'!B23","v":"UNMETERED SCATTERED LOAD SERVICE CLASSIFICATION"},{"$f":"IFERROR('4. Billing Det. for Def-Var'!D23/'4. Billing Det. for Def-Var'!D$29,\"\")","v":1.4483366064437038E-3},{"$f":"IFERROR('4. Billing Det. for Def-Var'!F23/'4. Billing Det. for Def-Var'!F$29,\"\")","v":2.5337734825909243E-3},{"$f":"IFERROR('4. Billing Det. for Def-Var'!U23/'4. Billing Det. for Def-Var'!U$29,\"\")","v":0},{"$f":"IFERROR('4. Billing Det. for Def-Var'!J23/'4. Billing Det. for Def-Var'!J$29,\"\")","v":1.4726616819391019E-3},366.05828088664941,0,-5607.8163716787403,null,null,-711.6457753822682,821.36223879289309,-341.44039839896419,{"$f":"'4. Billing Det. for Def-Var'!L23*O$28","v":0},{"$f":"'4. Billing Det. for Def-Var'!M23*P$28","v":0},{"$f":"'4. Billing Det. for Def-Var'!N23*Q$28","v":0},{"$f":"'4. Billing Det. for Def-Var'!O23*R$28","v":0},{"$f":"'4. Billing Det. for Def-Var'!P23*S$28","v":-0.94444188974999999},{"$f":"'4. Billing Det. for Def-Var'!Q23*T$28","v":161.96767991825081},{"$f":"'4. Billing Det. for Def-Var'!R23*U$28","v":-426.32420487000013},{"$f":"'4. Billing Det. for Def-Var'!S23*V$28","v":0},{"$f":"'4. Billing Det. for Def-Var'!T23*W$28","v":0},{"$f":"'4. Billing Det. for Def-Var'!T23","v":0}]
[null,{"$f":"'4. Billing Det. for Def-Var'!B24","v":"STREET LIGHTING SERVICE CLASSIFICATION"},{"$f":"IFERROR('4. Billing Det. for Def-Var'!D24/'4. Billing Det. for Def-Var'!D$29,\"\")","v":8.5043981895661525E-3},{"$f":"IFERROR('4. Billing Det. for Def-Var'!F24/'4. Billing Det. for Def-Var'!F$29,\"\")","v":1.4877907885672538E-2},{"$f":"IFERROR('4. Billing Det. for Def-Var'!U24/'4. Billing Det. for Def-Var'!U$29,\"\")","v":0},{"$f":"IFERROR('4. Billing Det. for Def-Var'!J24/'4. Billing Det. for Def-Var'!J$29,\"\")","v":8.6472310966982033E-3},2149.434991422434,0,-32928.190302271309,null,null,-4178.6688376495204,4822.90615696027,-2004.8827690124147,{"$f":"'4. Billing Det. for Def-Var'!L24*O$28","v":0},{"$f":"'4. Billing Det. for Def-Var'!M24*P$28","v":0},{"$f":"'4. Billing Det. for Def-Var'!N24*Q$28","v":0},{"$f":"'4. Billing Det. for Def-Var'!O24*R$28","v":0},{"$f":"'4. Billing Det. for Def-Var'!P24*S$28","v":-3.7777675589999999},{"$f":"'4. Billing Det. for Def-Var'!Q24*T$28","v":647.87071967300324},{"$f":"'4. Billing Det. for Def-Var'!R24*U$28","v":-1705.2968194800005},{"$f":"'4. Billing Det. for Def-Var'!S24*V$28","v":0},{"$f":"'4. Billing Det. for Def-Var'!T24*W$28","v":0},{"$f":"'4. Billing Det. for Def-Var'!T24","v":0}]
[null,{"$f":"'4. Billing Det. for Def-Var'!B25","v":"EMBEDDED DISTRIBUTOR SERVICE CLASSIFICATION"},{"$f":"IFERROR('4. Billing Det. for Def-Var'!D25/'4. Billing Det. for Def-Var'!D$29,\"\")","v":1.3132238331166814E-3},{"$f":"IFERROR('4. Billing Det. for Def-Var'!F25/'4. Billing Det. for Def-Var'!F$29,\"\")","v":2.2974022131690085E-3},{"$f":"IFERROR('4. Billing Det. for Def-Var'!U25/'4. Billing Det. for Def-Var'!U$29,\"\")","v":0},{"$f":"IFERROR('4. Billing Det. for Def-Var'!J25/'4. Billing Det. for Def-Var'!J$29,\"\")","v":1.3352796651247918E-3},{"$f":"IFERROR(G$28*C24,\"\")","v":331.90934802817458},{"$f":"IFERROR(H$28*E24,\"\")","v":0},{"$f":"IFERROR(I$28*F24,\"\")","v":-5084.673050633608},null,null,-645.25759330458561,744.73880091549563,-309.58802447682461,{"$f":"'4. Billing Det. for Def-Var'!L25*O$28","v":0},{"$f":"'4. Billing Det. for Def-Var'!M25*P$28","v":0},{"$f":"'4. Billing Det. for Def-Var'!N25*Q$28","v":0},{"$f":"'4. Billing Det. for Def-Var'!O25*R$28","v":0},{"$f":"'4. Billing Det. for Def-Var'!P25*S$28","v":0},{"$f":"'4. Billing Det. for Def-Var'!Q25*T$28","v":0},{"$f":"'4. Billing Det. for Def-Var'!R25*U$28","v":0},{"$f":"'4. Billing Det. for Def-Var'!S25*V$28","v":0},{"$f":"'4. Billing Det. for Def-Var'!T25*W$28","v":0},{"$f":"'4. Billing Det. for Def-Var'!T25","v":0}]
[null,{"$f":"'4. Billing Det. for Def-Var'!B26","v":"DISTRIBUTED GENERATION [DGEN] SERVICE CLASSIFICATION"},{"$f":"IFERROR('4. Billing Det. for Def-Var'!D26/'4. Billing Det. for Def-Var'!D$29,\"\")","v":3.5104051963673803E-5},{"$f":"IFERROR('4. Billing Det. for Def-Var'!F26/'4. Billing Det. for Def-Var'!F$29,\"\")","v":6.1412323351717907E-5},{"$f":"IFERROR('4. Billing Det. for Def-Var'!U26/'4. Billing Det. for Def-Var'!U$29,\"\")","v":0},{"$f":"IFERROR('4. Billing Det. for Def-Var'!J26/'4. Billing Det. for Def-Var'!J$29,\"\")","v":3.5693630871236909E-5},8.872335931307223,0,-135.91942400566737,null,null,-17.248511269827592,19.907763556693546,-8.2756601155897194,{"$f":"'4. Billing Det. for Def-Var'!L26*O$28","v":0},{"$f":"'4. Billing Det. for Def-Var'!M26*P$28","v":0},{"$f":"'4. Billing Det. for Def-Var'!N26*Q$28","v":0},{"$f":"'4. Billing Det. for Def-Var'!O26*R$28","v":0},{"$f":"'4. Billing Det. for Def-Var'!P26*S$28","v":0},{"$f":"'4. Billing Det. for Def-Var'!Q26*T$28","v":0},{"$f":"'4. Billing Det. for Def-Var'!R26*U$28","v":0},{"$f":"'4. Billing Det. for Def-Var'!S26*V$28","v":0},{"$f":"'4. Billing Det. for Def-Var'!T26*W$28","v":0},{"$f":"'4. Billing Det. for Def-Var'!T26","v":0}]
[null,{"$f":"'4. Billing Det. for Def-Var'!B27","v":"ENERGY FROM WASTE SERVICE CLASSIFICATION"},{"$f":"IFERROR('4. Billing Det. for Def-Var'!D27/'4. Billing Det. for Def-Var'!D$29,\"\")","v":0},{"$f":"IFERROR('4. Billing Det. for Def-Var'!F27/'4. Billing Det. for Def-Var'!F$29,\"\")","v":0},{"$f":"IFERROR('4. Billing Det. for Def-Var'!U27/'4. Billing Det. for Def-Var'!U$29,\"\")","v":0},{"$f":"IFERROR('4. Billing Det. for Def-Var'!J27/'4. Billing Det. for Def-Var'!J$29,\"\")","v":0},{"$f":"IFERROR(G$28*C26,\"\")","v":0},{"$f":"IFERROR(H$28*E26,\"\")","v":0},{"$f":"IFERROR(I$28*F26,\"\")","v":0},null,null,0,0,0,{"$f":"'4. Billing Det. for Def-Var'!L27*O$28","v":0},{"$f":"'4. Billing Det. for Def-Var'!M27*P$28","v":0},{"$f":"'4. Billing Det. for Def-Var'!N27*Q$28","v":0},{"$f":"'4. Billing Det. for Def-Var'!O27*R$28","v":0},{"$f":"'4. Billing Det. for Def-Var'!P27*S$28","v":0},{"$f":"'4. Billing Det. for Def-Var'!Q27*T$28","v":0},{"$f":"'4. Billing Det. for Def-Var'!R27*U$28","v":0},{"$f":"'4. Billing Det. for Def-Var'!S27*V$28","v":0},{"$f":"'4. Billing Det. for Def-Var'!T27*W$28","v":0},{"$f":"'4. Billing Det. for Def-Var'!T27","v":0}]
[]
[null,null,{"$f":"SUM(C16:C27)","v":1.0000000000000002},{"$f":"SUM(D16:D27)","v":1},{"$f":"SUM(E16:E27)","v":1},{"$f":"SUM(F16:F27)","v":1},{"$f":"'3. Continuity Schedule'!CD21","v":252743.9265554999},{"$f":"'3. Continuity Schedule'!CD22","v":-61225.841622499975},{"$f":"'3. Continuity Schedule'!CD23","v":-3807946.1429964993},null,null,{"$f":"'3. Continuity Schedule'!CD26","v":-491353.85532349971},{"$f":"'3. Continuity Schedule'!CD27","v":567107.28372024966},{"$f":"'3. Continuity Schedule'!CD28","v":-231852.57183399954},{"$f":"TRANSPOSE('3. Continuity Schedule'!CD30:CD36)","v":0},1.1843221727758646E-10,0.41999999999999993,0,-944.44188974999997,161967.6799182508,-426324.20487000013,0,0,{"$f":"SUM(X16:X26)","v":0}]
[null,null,null,null,null,null,{"$f":"SUM(G16:G27)-G28","v":0},{"$f":"SUM(H16:H27)-H28","v":0},0,0,0,0,0,0,0,-1.1843221727758646E-10,-0.41999999999999993,0,0,0,0,0,null,0]
[]
[null,null,null,null,null,null,null,null,null,null,null,null,null,null,null,null,null,null,null,null,null,null,null,{"$f":"SUM(G28:X28)","v":-4037827.7483422477}]
[null,"** Used to allocate Account 1551 as this account records the variances arising from the Smart Metering Entity Charges to Residential and GS<50 customers.",null,null,null,null,null,null,null,null,null,null,null,null,null,null,null,null,null,null,null,null,null,{"$f":"+X31-N28-I28","v":1970.9664882509969}]
[]
[null,"TO DO:"]
[null,"Hid columns"]

{"sheet":"6. GA Calculation","index":7,"n_rows":51,"n_cols":16,"rows_kept":51,"cut":false,"hidden":false,"merged":[[12,1,12,11],[1,1,8,6]]}
["Back to Index"]
[null,"INCENTIVE REGULATION MODEL FOR 2018 FILERS"]
[]
[]
[]
[]
[]
[]
[]
[]
[]
[]
[null,"The purpose of this tab is to calculate the GA rate riders for all current Class B customers of the distributor.\nIdentify the total billed consumption for former Class B customers prior to becoming Class A customers in  Column G.\nEffective January 2017, the billing determinant and all rate riders for the disposition of GA balances will be calculated on an energy basis (kWhs) regardless of the billing determinant used for distribution rates for the particular class (see Chapter 3, Filing Requirements, section 3.2.5.2)"]
[null,null,"Total Metered Non-RPP consumption minus WMP",null,"Total  Metered Class A Consumption in 2016 (partial and/or full year Class A customers)*",null,"Total Metered Consumption for New Class A customer(s) in the period prior to becoming Class A (i.e. Jan. 1 - June 30, 2016) ","Total Metered Consumption for New Class B customer(s) in the period after becoming Class B (i.e. Jul 1 - Dec 31, 2016) ","Metered Consumption for Current Class B Customers (Non-RPP consumption LESS WMP, Class A and new Class A's former Class B consumption if applicable)",null,"% of total kWh","Total GA $ allocated to Current Class B Customers","GA Rate Rider",null,"Revenue Reconciliation","Variance"]
[null,null,"kWh","kW","kWh","kW","kWh","kWh","kWh","kW"]
[]
[null,{"$f":"'4. Billing Det. for Def-Var'!B17","v":"RESIDENTIAL SERVICE CLASSIFICATION"},{"$f":"'4. Billing Det. for Def-Var'!F17-'4. Billing Det. for Def-Var'!H17","v":91312361},null,null,null,null,null,{"$f":"C17-E17-G17-H17","v":91312361},null,{"$f":"IFERROR(I17/I$29,\"\")","v":5.3166941942445152E-2},{"$f":"IFERROR(L$29*K17,\"\")","v":-84851.870918962784},{"$f":"IFERROR(L17/I17,\"\")","v":-9.2924846088431317E-4},"kwh",{"$f":"IFERROR(ROUND(M17,4)*I17,\"\")","v":-82181.124899999995},{"$f":"IFERROR(L17-O17,\"\")","v":-2670.7460189627891}]
[null,{"$f":"'4. Billing Det. for Def-Var'!B18","v":"GENERAL SERVICE LESS THAN 50 kW SERVICE CLASSIFICATION"},{"$f":"'4. Billing Det. for Def-Var'!F18-'4. Billing Det. for Def-Var'!H18","v":67523320},null,null,null,null,null,{"$f":"C18-E18-G18-H18","v":67523320},null,{"$f":"IFERROR(I18/I$29,\"\")","v":3.9315689517667222E-2},{"$f":"IFERROR(L$29*K18,\"\")","v":-62745.941183798961},{"$f":"IFERROR(L18/I18,\"\")","v":-9.2924846088431317E-4},"kwh",{"$f":"IFERROR(ROUND(M18,4)*I18,\"\")","v":-60770.987999999998},{"$f":"IFERROR(L18-O18,\"\")","v":-1974.9531837989634}]
[null,{"$f":"'4. Billing Det. for Def-Var'!B19","v":"GENERAL SERVICE 50 to 699 KW SERVICE CLASSIFICATION"},{"$f":"'4. Billing Det. for Def-Var'!F19-'4. Billing Det. for Def-Var'!H19","v":940885994.40999997},null,null,null,null,null,940885994.40999997,null,0.54783416496323256,-874316.86217309907,{"$f":"IFERROR(L19/I19,\"\")","v":-9.2924846088431328E-4},"kwh",-846797.3949689999,-27519.467204099172]
[null,{"$f":"'4. Billing Det. for Def-Var'!B20","v":"GENERAL SERVICE 700 to 4,999 KW SERVICE CLASSIFICATION"},{"$f":"'4. Billing Det. for Def-Var'!F20-'4. Billing Det. for Def-Var'!H20","v":727917709.07999992},null,158307064.70000002,null,26385933.199999999,{"$f":"+'6B. GA Allocation_new Class B '!E33","v":8376177},534848534.17999983,null,0.3114174319153783,-497007.17719299591,-9.2924846088431338E-4,"kwh",-481363.68076199986,-15643.496430996049]
[null,{"$f":"'4. Billing Det. for Def-Var'!B21","v":"LARGE USE SERVICE CLASSIFICATION"},{"$f":"'4. Billing Det. for Def-Var'!F21-'4. Billing Det. for Def-Var'!H21","v":363967969},null,326618948.32999998,null,null,null,37349020.670000017,null,2.1746598070868792E-2,-34706.519973133916,-9.2924846088431317E-4,"kwh",-33614.118603000017,-1092.401370133899]
[null,{"$f":"'4. Billing Det. for Def-Var'!B22","v":"STANDBY POWER SERVICE CLASSIFICATION "},{"$f":"'4. Billing Det. for Def-Var'!F22-'4. Billing Det. for Def-Var'!H22","v":0},null,null,null,null,null,0,null,0,0,"","kwh","",""]
[null,{"$f":"'4. Billing Det. for Def-Var'!B23","v":"UNMETERED SCATTERED LOAD SERVICE CLASSIFICATION"},{"$f":"'4. Billing Det. for Def-Var'!F23-'4. Billing Det. for Def-Var'!H23","v":5837113},null,null,null,null,null,5837113,null,3.398679484177305E-3,-5424.1282712578168,-9.2924846088431328E-4,"kwh",-5253.4016999999994,-170.72657125781734]
[null,{"$f":"'4. Billing Det. for Def-Var'!B24","v":"STREET LIGHTING SERVICE CLASSIFICATION"},{"$f":"'4. Billing Det. for Def-Var'!F24-'4. Billing Det. for Def-Var'!H24","v":34274583},null,null,null,null,null,34274583,null,1.9956495971695635E-2,-31849.603500201647,-9.2924846088431328E-4,"kwh",-30847.1247,-1002.4788002016467]
[null,{"$f":"'4. Billing Det. for Def-Var'!B25","v":"EMBEDDED DISTRIBUTOR SERVICE CLASSIFICATION"},{"$f":"'4. Billing Det. for Def-Var'!F25-'4. Billing Det. for Def-Var'!H25","v":5292579},null,null,null,null,null,5292579,null,3.0816226558724553E-3,-4918.1208898586374,-9.2924846088431317E-4,"kwh",-4763.3211000000001,-154.79978985863727]
[null,{"$f":"'4. Billing Det. for Def-Var'!B26","v":"DISTRIBUTED GENERATION [DGEN] SERVICE CLASSIFICATION"},{"$f":"'4. Billing Det. for Def-Var'!F26-'4. Billing Det. for Def-Var'!H26","v":141477},null,null,null,null,null,141477,null,8.2375478662645825E-5,-131.46728450052998,-9.2924846088431328E-4,"kwh",-127.3293,-4.1379845005299813]
[null,{"$f":"'4. Billing Det. for Def-Var'!B27","v":"ENERGY FROM WASTE SERVICE CLASSIFICATION"},{"$f":"'4. Billing Det. for Def-Var'!F27-'4. Billing Det. for Def-Var'!H27","v":0}]
[]
[null,null,{"$f":"SUM(C17:C28)","v":2237153105.4899998},{"$f":"SUM(D17:D28)","v":0},484926013.02999997,0,26385933.199999999,8376177,1717464982.2599998,0,1,{"$f":"'6B. GA Allocation_new Class B '!D28","v":-1595951.6913878091},null,null,{"$f":"SUM(O17:O26)","v":-1545718.484034},{"$f":"SUM(P17:P26)","v":-50233.207353809506}]
[]
[]
[null,"*For new Class A customers (who became Class A in 2016), add their consumption only related to July to December period."]
[]
[]
[]
[null,"2015 DATA","Total Metered Non-RPP consumption minus WMP",null,"Total  Metered Class A Consumption in 2015 (partial and/or full year Class A customers)*",null,"Total Metered Consumption for New Class A customer(s) in the period prior to becoming Class A (i.e. Jan. 1 - June 30, 2015) "]
[null,null,"kWh","kW","kWh","kW","kWh"]
[]
[null,{"$f":"B17","v":"RESIDENTIAL SERVICE CLASSIFICATION"},{"$f":"'4. Billing Det. for Def-Var'!F49-'4. Billing Det. for Def-Var'!H49","v":0}]
[null,{"$f":"B18","v":"GENERAL SERVICE LESS THAN 50 kW SERVICE CLASSIFICATION"},{"$f":"'4. Billing Det. for Def-Var'!F50-'4. Billing Det. for Def-Var'!H50","v":0}]
[null,"GENERAL SERVICE 50 to 699 KW SERVICE CLASSIFICATION",{"$f":"'4. Billing Det. for Def-Var'!F51-'4. Billing Det. for Def-Var'!H51","v":0}]
[null,"GENERAL SERVICE 700 to 4,999 KW SERVICE CLASSIFICATION",{"$f":"'4. Billing Det. for Def-Var'!F52-'4. Billing Det. for Def-Var'!H52","v":0}]
[null,"LARGE USE SERVICE CLASSIFICATION",{"$f":"'4. Billing Det. for Def-Var'!F53-'4. Billing Det. for Def-Var'!H53","v":0}]
[null,"STANDBY POWER SERVICE CLASSIFICATION ",{"$f":"'4. Billing Det. for Def-Var'!F54-'4. Billing Det. for Def-Var'!H54","v":0}]
[null,"UNMETERED SCATTERED LOAD SERVICE CLASSIFICATION",{"$f":"'4. Billing Det. for Def-Var'!F55-'4. Billing Det. for Def-Var'!H55","v":0}]
[null,"STREET LIGHTING SERVICE CLASSIFICATION",{"$f":"'4. Billing Det. for Def-Var'!F56-'4. Billing Det. for Def-Var'!H56","v":0}]
[null,"EMBEDDED DISTRIBUTOR SERVICE CLASSIFICATION",{"$f":"'4. Billing Det. for Def-Var'!F57-'4. Billing Det. for Def-Var'!H57","v":0}]
[null,"DISTRIBUTED GENERATION [DGEN] SERVICE CLASSIFICATION",{"$f":"'4. Billing Det. for Def-Var'!F58-'4. Billing Det. for Def-Var'!H58","v":0}]
[null,"ENERGY FROM WASTE SERVICE CLASSIFICATION",{"$f":"'4. Billing Det. for Def-Var'!F59-'4. Billing Det. for Def-Var'!H59","v":0}]
[]
[null,null,{"$f":"SUM(C39:C50)","v":0},{"$f":"SUM(D39:D50)","v":0},0,0,0]

{"sheet":"6A. GA Allocation_Class A","index":8,"n_rows":43,"n_cols":12,"rows_kept":43,"cut":false,"hidden":false,"merged":[[29,1,29,3],[1,1,8,6],[28,1,28,4],[11,1,11,5],[13,3,13,9],[15,1,15,5],[22,1,22,3]]}
["Back to Index"]
[null,"INCENTIVE REGULATION MODEL FOR 2018 FILERS"]
[]
[]
[]
[]
[]
[]
[]
[]
[]
[null,"This tab allocates the GA balance to former Class B customers who contributed to the current GA balance but are now Class A customers. The tables below calculate specific amounts for each customer who made the change. Consistent with both decisions for 2016 rates and EDDVAR, distributors are generally expected to settle the amount through 12 equal adjustments to bills. A one-time settlement is acceptable if the affected customer has expressed a clear preference for this approach. (see Filing Requirements section 3.2.5.2)"]
[]
[null,"Year of Group 1 Account Balance Last Disposed",2015,"(e.g. If in the 2017 EDR process, you received approval to dispose the GA variance account balance as of December 31, 2014, please enter 2014 in cell C16.)"]
[]
[null,"Allocation of total Non-RPP consumption (kWh) between Class B and New Class A (Former Class B) customers"]
[null,null,null,"Total",2016,2015,2014,2013,2012]
[null,"Total Class B Consumption for Years Since Last Disposition (Non-RPP consumption LESS WMP and Class A)","A",{"$f":"SUM(E18:I18)","v":1752227092.4599998},{"$f":"'6. GA Calculation'!C29-'6. GA Calculation'!E29","v":1752227092.4599998}]
[null,"New Class A Customer(s)' Former Class B Consumption","B",{"$f":"SUM(E19:I19)","v":26385933.199999999},{"$f":"E43","v":26385933.199999999},{"$f":"F43","v":0},{"$f":"G43","v":0},{"$f":"H43","v":0},{"$f":"I43","v":0}]
[null,"Portion of Consumption of Former Class B Customers","C=B/A",{"$f":"IFERROR(+D19/D18,0)","v":1.5058512286187781E-2}]
[]
[]
[null,"Allocation of Total GA Balance $"]
[]
[null,"Total GA Balance","D",{"$f":"'3. Continuity Schedule'!CD29","v":-1628254.32878825}]
[null,"New Class A Customer(s)' Former Class B Portion of GA Balance","E=C*D",{"$f":"+D20*D25","v":-24519.087815096304}]
[null,"GA Balance to be disposed to Current Class B Customers (if no Class A to Class  B Transition Customers)","F=D-E",{"$f":"+D25-D26","v":-1603735.2409731536}]
[]
[null,"Allocation of GA Balances to Former Class B Customers"]
[null,"# of Former Class B customer(s)",null,null,3]
[null,"Customer",null,"Total Metered kWh Consumption for each new Class A customer for the period prior to becoming Class A","Metered kWh Consumption for each new Class A customer for the period prior to becoming Class A in 2016","Metered kWh Consumption for each new Class A customer for the period prior to becoming Class A in 2015","Metered kWh Consumption for each new Class A customer for the period prior to becoming Class A in 2014","Metered kWh Consumption for each new Class A customer for the period prior to becoming Class A in 2013","Metered kWh Consumption for each new Class A customer for the period prior to becoming Class A in 2012","% of kWh","Customer specific GA allocation for the period prior to becoming Class A","Monthly Equal Payments"]
[null,"Customer 1",null,{"$f":"SUM(E32:I32)","v":10101928.970000001},10101928.970000001,null,null,null,null,{"$f":"IFERROR(+D32/$D$43,0)","v":0.3828528213661968},{"$f":"+J32*$D$26","v":-9387.2019473351575},{"$f":"+K32/12","v":-782.26682894459645}]
[null,"Customer 2",null,8219287.5099999998,8219287.5099999998,null,null,null,null,0.31150262708919463,{"$f":"+J33*$D$26","v":-7637.7602682331599},{"$f":"+K33/12","v":-636.48002235276329}]
[null,"Customer 3",null,8064716.7199999997,8064716.7199999997,null,null,null,null,0.30564455154460862,-7494.1255995279871,-624.51046662733222]
[null,"Customer 4",null,0,null,null,null,null,null,0,0,0]
[null,"Customer 5",null,0,null,null,null,null,null,0,0,0]
[null,"Customer 6",null,0,null,null,null,null,null,0,0,0]
[null,"Customer 7",null,0,null,null,null,null,null,0,0,0]
[null,"Customer 8",null,0,null,null,null,null,null,0,{"$f":"+J39*$D$26","v":0},{"$f":"+K39/12","v":0}]
[null,"Customer 9",null,0,null,null,null,null,null,0,0,0]
[null,"Customer 10",null,0,null,null,null,null,null,0,0,0]
[null,"Customer 11",null,0,null,null,null,null,null,0,0,0]
[null,"Total",null,{"$f":"SUM(D32:D42)","v":26385933.199999999},{"$f":"SUM(E32:E42)","v":26385933.199999999},{"$f":"SUM(F32:F42)","v":0},{"$f":"SUM(G32:G38)","v":0},0,0,{"$f":"SUM(J32:J42)","v":1},{"$f":"SUM(K32:K42)","v":-24519.087815096304}]

{"sheet":"6B. GA Allocation_new Class B ","index":9,"n_rows":44,"n_cols":15,"rows_kept":44,"cut":false,"hidden":false,"merged":[[30,1,30,3],[1,1,8,6],[11,1,11,5],[13,3,13,9],[15,1,15,5],[22,1,22,3],[29,1,29,4]]}
["Back to Index"]
[null,"INCENTIVE REGULATION MODEL FOR 2018 FILERS"]
[]
[]
[]
[]
[]
[]
[]
[]
[]
[null,"This tab allocates the GA balance to former Class A customers who contributed to the current Class B GA balance once switched to Class B customers. The tables below calculate specific amounts for each customer who made the transition. Consistent with both decisions for 2016 rates and EDDVAR, distributors are generally expected to settle the amount through 12 equal adjustments to bills. A one-time settlement is acceptable if the affected customer has expressed a clear preference for this approach. (see Filing Requirements section 3.2.5.2)"]
[]
[null,"Year of Group 1 Account Balance Last Disposed",2015,"(e.g. If in the 2017 EDR process, you received approval to dispose the GA variance account balance as of December 31, 2014, please enter 2014 in cell C16.)"]
[]
[null,"Allocation of total Non-RPP consumption (kWh) between Class B and New Class B (Former Class A) customers"]
[null,null,null,"Total",2016,2015,2014,2013,2012]
[null,"Total Class B Consumption for Years Since Last Disposition (Non-RPP consumption LESS WMP and Class A)","A",{"$f":"SUM(E18:I18)","v":1752227092.4599998},{"$f":"'6. GA Calculation'!C29-'6. GA Calculation'!E29","v":1752227092.4599998}]
[null,"New Class B Customer(s)'  Consumption","B",{"$f":"SUM(E19:I19)","v":8376177},{"$f":"E44","v":8376177},{"$f":"F44","v":0},{"$f":"G44","v":0},{"$f":"H44","v":0},{"$f":"I44","v":0}]
[null,"Portion of Consumption of New Class B Customers","C=B/A",{"$f":"IFERROR(+D19/D18,0)","v":4.7803033271449167E-3}]
[]
[]
[null,"Allocation of Total GA Balance $"]
[]
[null,"Total GA Calss B Balance adjusted for Class A","D",{"$f":"'6A. GA Allocation_Class A'!D25","v":-1628254.32878825}]
[null,"New Class B Customer(s)' Former Class A Portion of GA Balance attributable to Class B","E=C*D",{"$f":"+D20*D25","v":-7783.5495853445846}]
[null,"New Class A Customer(s)' Former Class B Portion of GA Balance","F=Sheet 6A",{"$f":"'6A. GA Allocation_Class A'!D26","v":-24519.087815096304}]
[null,"GA Balance to be disposed to Current Class B Customers","G=D-E-F",{"$f":"+D25-D26-D27","v":-1595951.6913878091},"Input into Sheet 6. GA Calculation",null,null,null,null,null,null,null,null,null,"s"]
[]
[null,"Allocation of GA Balances to Former Class A Customers"]
[null,"# of Former Class A customer(s)",null,null,null,9]
[null,"Customer",null,"Total Metered kWh Consumption for each new Class B customer for the period after becoming Class B","Metered kWh Consumption for each new Class B customer for the period after becoming Class B in 2016","Metered kWh Consumption for each new Class B customer for the period prior to becoming Class B in 2015","Metered kWh Consumption for each new Class B customer for the period prior to becoming Class B in 2014","Metered kWh Consumption for each new Class B customer for the period prior to becoming Class B in 2013","Metered kWh Consumption for each new Class B customer for the period prior to becoming Class B in 2012","% of kWh","Customer specific GA allocation for the period after becoming Class B","Monthly Equal Payments"]
[null,"Customer 1",null,{"$f":"SUM(E33:I33)","v":8376177},8376177,null,null,null,null,{"$f":"IFERROR(+D33/$D$44,0)","v":1},{"$f":"+J33*$D$26","v":-7783.5495853445846},{"$f":"+K33/12","v":-648.62913211204875}]
[null,"Customer 2",null,0,null,null,null,null,null,0,{"$f":"+J34*$D$26","v":0},{"$f":"+K34/12","v":0}]
[null,"Customer 3",null,0,null,null,null,null,null,0,0,0]
[null,null,null,null,null,null,null,null,null,0,0,0]
[null,null,null,null,null,null,null,null,null,0,0,0]
[null,null,null,null,null,null,null,null,null,0,0,0]
[null,null,null,null,null,null,null,null,null,0,0,0]
[null,null,null,null,null,null,null,null,null,0,0,0]
[null,null,null,null,null,null,null,null,null,0,0,0]
[null,null,null,null,null,null,null,null,null,0,0,0]
[null,null,null,null,null,null,null,null,null,0,0,0]
[null,"Total",null,{"$f":"SUM(D33:D43)","v":8376177},{"$f":"SUM(E33:E43)","v":8376177},{"$f":"SUM(F33:F43)","v":0},{"$f":"SUM(G33:G39)","v":0},0,0,{"$f":"SUM(J33:J43)","v":1},{"$f":"SUM(K33:K43)","v":-7783.5495853445846}]

{"sheet":"7. CBR Calculation","index":10,"n_rows":37,"n_cols":20,"rows_kept":37,"cut":false,"hidden":false,"merged":[[1,1,8,6],[12,1,12,13],[18,2,18,3],[18,4,18,5],[18,6,18,7],[18,10,18,11],[18,8,18,9]]}
["Back to Index"]
[null,"INCENTIVE REGULATION MODEL FOR 2018 FILERS"]
[]
[]
[]
[]
[]
[]
[]
[]
[]
[]
[null,"The purpose of this tab is to calculate the CBR rate riders for all current Class B customers of the distributor.\nIdentify and input the total billed consumption for former Class B customers prior to becoming Class A customers in  Column H.\n"]
[]
[null,"Account 1580"]
[null,"Variance WMS – Sub-account CBR Class A",{"$f":"'3. Continuity Schedule'!CD24","v":-2.0346500018849679E-2}]
[null,"Variance WMS – Sub-account CBR Class B",{"$f":"'3. Continuity Schedule'!CD25","v":-101185.52893499982}]
[]
[null,null,"Total Metered LESS WMP",null,"Total  Metered Class A \nConsumption/Demand in  2016  (partial \nand/or full year Class A customers)*",null,"Total Metered Consumption/Demand\nfor New Class A customer(s)\n in the period prior to becoming\n Class A (i.e. Jan 1 - Jun 30, 2016) ",null,"Total Metered Consumption for New Class B customer(s) in the period after becoming Class B (i.e. Jul 1 - Dec 31, 2016) ",null,"Metered Consumption for Current Class B Customers (metered consumption/demand LESS WMP, Class A and new Class A's former Class B, new Class B's former Class A, if applicable)",null,"% of total kWh","Total CBR $ allocated to Current Class B Customers","CBR Rate Rider\nto 4th Decimal",null,"Revenue Reconciliation","Variance",null,"CBR Rate Rider\nto 5th Decimal"]
[null,null,"kWh","kW","kWh","kW","kWh","kW","kWh","kW","kWh","kW"]
[]
[null,{"$f":"'4. Billing Det. for Def-Var'!B17","v":"RESIDENTIAL SERVICE CLASSIFICATION"},{"$f":"'4. Billing Det. for Def-Var'!D17-'4. Billing Det. for Def-Var'!H17","v":1311941173},{"$f":"'4. Billing Det. for Def-Var'!E17-'4. Billing Det. for Def-Var'!I17","v":0},{"$f":"'6. GA Calculation'!E17","v":0},null,{"$f":"'6. GA Calculation'!G17","v":0},null,null,null,{"$f":"C22-E22-G22-I22","v":1311941173},{"$f":"D22-F22-H22-J22","v":0},{"$f":"IFERROR(K22/K$34,\"\")","v":0.38093970268019417},{"$f":"IFERROR(N$34*M22,\"\")","v":-38160.407715125613},0,"kwh",{"$f":"IFERROR(IF(L22=0,ROUND(O22,5)*K22,ROUND(O22,5)*L22),\"\")","v":0},{"$f":"IFERROR(N22-Q22,\"\")","v":-38160.407715125613},null,{"$f":"IFERROR(IF($L22=0,$N22/$K22,$N22/$L22),\"\")","v":-2.9086980804074218E-5}]
[null,{"$f":"'4. Billing Det. for Def-Var'!B18","v":"GENERAL SERVICE LESS THAN 50 kW SERVICE CLASSIFICATION"},{"$f":"'4. Billing Det. for Def-Var'!D18-'4. Billing Det. for Def-Var'!H18","v":337539785},{"$f":"'4. Billing Det. for Def-Var'!E18-'4. Billing Det. for Def-Var'!I18","v":0},{"$f":"'6. GA Calculation'!E18","v":0},null,{"$f":"'6. GA Calculation'!G18","v":0},null,null,null,{"$f":"C23-E23-G23-I23","v":337539785},{"$f":"D23-F23-H23-J23","v":0},{"$f":"IFERROR(K23/K$34,\"\")","v":9.8009200402338972E-2},{"$f":"IFERROR(N$34*M23,\"\")","v":-9818.0132469063374},0,"kwh",{"$f":"IFERROR(IF(L23=0,ROUND(O23,5)*K23,ROUND(O23,5)*L23),\"\")","v":0},{"$f":"IFERROR(N23-Q23,\"\")","v":-9818.0132469063374},null,{"$f":"IFERROR(IF($L23=0,$N23/$K23,$N23/$L23),\"\")","v":-2.9086980804074214E-5}]
[null,{"$f":"'4. Billing Det. for Def-Var'!B19","v":"GENERAL SERVICE 50 to 699 KW SERVICE CLASSIFICATION"},{"$f":"'4. Billing Det. for Def-Var'!D19-'4. Billing Det. for Def-Var'!H19","v":1114340552.4100001},{"$f":"'4. Billing Det. for Def-Var'!E19-'4. Billing Det. for Def-Var'!I19","v":3131830.0000000005},{"$f":"'6. GA Calculation'!E19","v":0},null,{"$f":"'6. GA Calculation'!G19","v":0},null,null,null,1114340552.4100001,3131830.0000000005,0.32356371417847768,-32412.802257151128,0,"kW",0,-32412.802257151128,null,-1.034947690556356E-2]
[null,{"$f":"'4. Billing Det. for Def-Var'!B20","v":"GENERAL SERVICE 700 to 4,999 KW SERVICE CLASSIFICATION"},{"$f":"'4. Billing Det. for Def-Var'!D20-'4. Billing Det. for Def-Var'!H20","v":790313087.53999996},{"$f":"'4. Billing Det. for Def-Var'!E20-'4. Billing Det. for Def-Var'!I20","v":1906577.9999999998},{"$f":"'6. GA Calculation'!E20","v":158307064.70000002},320165.2,{"$f":"'6. GA Calculation'!G20","v":26385933.199999999},57079.920000000006,{"$f":"'6. GA Calculation'!H20","v":8376177},18169.919999999998,597243912.63999987,1511162.96,0.17341777450919091,-17372.022222309854,0,"kW",0,-17372.022222309854,null,-1.1495796735455886E-2]
[null,{"$f":"'4. Billing Det. for Def-Var'!B21","v":"LARGE USE SERVICE CLASSIFICATION"},{"$f":"'4. Billing Det. for Def-Var'!D21-'4. Billing Det. for Def-Var'!H21","v":363967969},{"$f":"'4. Billing Det. for Def-Var'!E21-'4. Billing Det. for Def-Var'!I21","v":666341.81491998362},{"$f":"'6. GA Calculation'!E21","v":326618948.32999998},594015.60000000009,{"$f":"'6. GA Calculation'!G21","v":0},null,null,null,37349020.670000017,72326.214919983526,1.0844788716320159E-2,-1086.3702472792615,0,"kW",0,-1086.3702472792615,null,-1.5020421689164056E-2]
[null,{"$f":"'4. Billing Det. for Def-Var'!B22","v":"STANDBY POWER SERVICE CLASSIFICATION "},{"$f":"'4. Billing Det. for Def-Var'!D22-'4. Billing Det. for Def-Var'!H22","v":0},{"$f":"'4. Billing Det. for Def-Var'!E22-'4. Billing Det. for Def-Var'!I22","v":0},{"$f":"'6. GA Calculation'!E22","v":0},null,{"$f":"'6. GA Calculation'!G22","v":0},null,null,null,0,0,0,0,0,"kW",0,0,null,""]
[null,{"$f":"'4. Billing Det. for Def-Var'!B23","v":"UNMETERED SCATTERED LOAD SERVICE CLASSIFICATION"},{"$f":"'4. Billing Det. for Def-Var'!D23-'4. Billing Det. for Def-Var'!H23","v":5837113},{"$f":"'4. Billing Det. for Def-Var'!E23-'4. Billing Det. for Def-Var'!I23","v":0},{"$f":"'6. GA Calculation'!E23","v":0},null,{"$f":"'6. GA Calculation'!G23","v":0},null,null,null,5837113,0,1.6948839906030574E-3,-169.78399378221204,0,"kWh",0,-169.78399378221204,null,-2.9086980804074211E-5]
[null,{"$f":"'4. Billing Det. for Def-Var'!B24","v":"STREET LIGHTING SERVICE CLASSIFICATION"},{"$f":"'4. Billing Det. for Def-Var'!D24-'4. Billing Det. for Def-Var'!H24","v":34274583},{"$f":"'4. Billing Det. for Def-Var'!E24-'4. Billing Det. for Def-Var'!I24","v":103149.15808304329},{"$f":"'6. GA Calculation'!E24","v":0},null,{"$f":"'6. GA Calculation'!G24","v":0},null,null,null,34274583,103149.15808304329,9.9520845341345473E-3,-996.94413778864839,0,"kW",0,-996.94413778864839,null,-9.6650729517930613E-3]
[null,{"$f":"'4. Billing Det. for Def-Var'!B25","v":"EMBEDDED DISTRIBUTOR SERVICE CLASSIFICATION"},{"$f":"'4. Billing Det. for Def-Var'!D25-'4. Billing Det. for Def-Var'!H25","v":5292579},{"$f":"'4. Billing Det. for Def-Var'!E25-'4. Billing Det. for Def-Var'!I25","v":0},{"$f":"'6. GA Calculation'!E25","v":0},null,{"$f":"'6. GA Calculation'!G25","v":0},null,null,null,5292579,0,1.5367712456657836E-3,-153.9451437770463,0,"kWh",0,-153.9451437770463,null,-2.9086980804074214E-5]
[null,{"$f":"'4. Billing Det. for Def-Var'!B26","v":"DISTRIBUTED GENERATION [DGEN] SERVICE CLASSIFICATION"},{"$f":"'4. Billing Det. for Def-Var'!D26-'4. Billing Det. for Def-Var'!H26","v":141477},{"$f":"'4. Billing Det. for Def-Var'!E26-'4. Billing Det. for Def-Var'!I26","v":0},{"$f":"'6. GA Calculation'!E26","v":0},null,{"$f":"'6. GA Calculation'!G26","v":0},null,null,null,141477,0,4.1079743074795493E-5,-4.1151387832180077,0,"kWh",0,-4.1151387832180077,null,-2.9086980804074214E-5]
[null,{"$f":"'4. Billing Det. for Def-Var'!B27","v":"ENERGY FROM WASTE SERVICE CLASSIFICATION"},{"$f":"'4. Billing Det. for Def-Var'!D27-'4. Billing Det. for Def-Var'!H27","v":0},{"$f":"'4. Billing Det. for Def-Var'!E27-'4. Billing Det. for Def-Var'!I27","v":0},{"$f":"'6. GA Calculation'!E27","v":0},null,{"$f":"'6. GA Calculation'!G27","v":0},null,null,null,0,0,0,0,{"$f":"IFERROR(IF(L32=0,N32/K32,N32/L32),\"\")","v":""},null,"","",null,{"$f":"IFERROR(IF(Q32=0,S32/P32,S32/Q32),\"\")","v":""}]
[null,{"$f":"'4. Billing Det. for Def-Var'!B28","v":0}]
[null,null,{"$f":"SUM(C22:C33)","v":3963648318.9499998},{"$f":"SUM(D22:D33)","v":5807898.973003027},484926013.02999997,914180.8,26385933.199999999,{"$f":"SUM(H22:H33)","v":57079.920000000006},{"$f":"SUM(I22:I33)","v":8376177},18169.919999999998,3443960195.7199998,4818468.3330030274,1,{"$f":"'7B. CBR Allocation_new Class B'!D28","v":-100174.40410290331},null,null,{"$f":"SUM(Q22:Q33)","v":0},{"$f":"SUM(R22:R33)","v":-100174.40410290334}]
[null,null,null,null,null,null,null,null,null,null,null,null,null,"from Sheet 7B"]
[null,null,null,null,null,null,null,null,null,null,null,null,null,null,null,null,"NOTE: if rate rider is at 5 decimal places, then the balance dispostion is in full"]
[null,"*For new Class A customers (who became Class A in 2016), add their consumption only related to July to December period."]

{"sheet":"7A. CBR  Allocation_Class A","index":11,"n_rows":44,"n_cols":15,"rows_kept":44,"cut":false,"hidden":false,"merged":[[30,1,30,3],[1,1,8,6],[11,1,11,5],[15,1,15,5],[22,1,22,3],[28,1,28,4]]}
["Back to Index"]
[null,"INCENTIVE REGULATION MODEL FOR 2018 FILERS"]
[]
[]
[]
[]
[]
[]
[]
[]
[]
[null,"This tab allocates the CBR balance to former Class B customers who contributed to the current CBR balance but are now Class A customers. The tables below calculate specific amounts for each customer who made the change. Consistent with both decisions for 2016 rates and EDDVAR, distributors are generally expected to settle the amount through 12 equal adjustments to bills. A one-time settlement is acceptable if the affected customer has expressed a clear preference for this approach. (see Filing Requirements section 3.2.5.2)"]
[]
[null,"Year of Group 1 Account Balance Last Disposed",2015]
[]
[null,"Allocation of total Non-RPP consumption (kWh) between Class B and New Class A (Former Class B) customers"]
[null,null,null,"Total",2016]
[null,"Total MeteredConsumption for Years Since Last Disposition (consumption LESS WMP and Class A)","A",{"$f":"SUM(E18:I18)","v":3478722305.9200001},{"$f":"'7. CBR Calculation'!C34-'7. CBR Calculation'!E34","v":3478722305.9200001}]
[null,"New Class A Customer(s)' Former Class B Consumption","B",{"$f":"SUM(E19:I19)","v":26385933.199999999},{"$f":"E44","v":26385933.199999999}]
[null,"Portion of Consumption of Former Class B Customers","C=B/A",{"$f":"IFERROR(+D19/D18,0)","v":7.5849495532015008E-3}]
[]
[]
[null,"Allocation of Total CBR Class B Balance $"]
[]
[null,"Total CBR-Class B Balance","D",{"$f":"'7. CBR Calculation'!C17","v":-101185.52893499982}]
[null,"New Class A Customer(s)' Former Class B Portion of CBR-Class B Balance","E=C*D",{"$f":"+D20*D25","v":-767.48713248598438}]
[null,"CBR-Class B Balance to be disposed to Current Class B Customers (if no Class A to Class  B Transition Customers)","F=D-E",{"$f":"+D25-D26","v":-100418.04180251384},null,null,null,null,null,null,null,null,null,null,"s"]
[]
[null,"Allocation of CBR Class B Balances to Former Class B Customers"]
[]
[null,"# of Former Class B customer(s)",null,null,2]
[null,"Customer",null,"Total Metered kWh Consumption for each new Class A customer for the period prior to becoming Class A","Metered kWh Consumption for each new Class A customer for the period prior to becoming Class A in 2016",null,null,null,null,"% of kWh","Customer specific CBR-Class B allocation for the period prior to becoming Class A","Monthly Equal Payments"]
[null,"Customer 1",null,{"$f":"SUM(E33:I33)","v":10101928.970000001},{"$f":"'6A. GA Allocation_Class A'!E32","v":10101928.970000001},null,null,null,null,{"$f":"IFERROR(+D33/$D$44,0)","v":0.3828528213661968},{"$f":"+J33*$D$26","v":-293.83461403451122},{"$f":"+K33/12","v":-24.486217836209267}]
[null,"Customer 2",null,8219287.5099999998,{"$f":"'6A. GA Allocation_Class A'!E33","v":8219287.5099999998},null,null,null,null,0.31150262708919463,{"$f":"+J34*$D$26","v":-239.07425802653691},{"$f":"+K34/12","v":-19.922854835544744}]
[null,"Customer 3",null,8064716.7199999997,{"$f":"'6A. GA Allocation_Class A'!E34","v":8064716.7199999997},null,null,null,null,0.30564455154460862,-234.57826042493633,-19.548188368744693]
[null,"Customer 4",null,0,{"$f":"'6A. GA Allocation_Class A'!E35","v":0},null,null,null,null,0,0,0]
[null,"Customer 5",null,0,{"$f":"'6A. GA Allocation_Class A'!E36","v":0},null,null,null,null,0,0,0]
[null,"Customer 6",null,0,{"$f":"'6A. GA Allocation_Class A'!E37","v":0},null,null,null,null,0,0,0]
[null,"Customer 7",null,0,{"$f":"'6A. GA Allocation_Class A'!E38","v":0},null,null,null,null,0,0,0]
[null,"Customer 8",null,0,{"$f":"'6A. GA Allocation_Class A'!E39","v":0},null,null,null,null,0,0,0]
[null,"Customer 9",null,0,{"$f":"'6A. GA Allocation_Class A'!E40","v":0},null,null,null,null,0,0,0]
[null,"Customer 10",null,0,{"$f":"'6A. GA Allocation_Class A'!E41","v":0},null,null,null,null,0,0,0]
[null,"Customer 11",null,0,{"$f":"'6A. GA Allocation_Class A'!E42","v":0},null,null,null,null,0,0,0]
[null,"Total",null,{"$f":"SUM(D33:D43)","v":26385933.199999999},{"$f":"SUM(E33:E43)","v":26385933.199999999},{"$f":"SUM(F33:F43)","v":0},{"$f":"SUM(G33:G39)","v":0},0,0,{"$f":"SUM(J33:J43)","v":1},{"$f":"SUM(K33:K43)","v":-767.48713248598438}]

{"sheet":"7B. CBR Allocation_new Class B","index":12,"n_rows":45,"n_cols":12,"rows_kept":45,"cut":false,"hidden":false,"merged":[[31,1,31,3],[1,1,8,6],[11,1,11,5],[15,1,15,5],[22,1,22,3],[29,1,29,4]]}
["Back to Index"]
[null,"INCENTIVE REGULATION MODEL FOR 2018 FILERS"]
[]
[]
[]
[]
[]
[]
[]
[]
[]
[null,"This tab allocates the CBR-Class B balance to former Class A customers who contributed to the current CBR-Class B balance once switched to Class B customers. The tables below calculate specific amounts for each customer who made the transition. Consistent with both decisions for 2016 rates and EDDVAR, distributors are generally expected to settle the amount through 12 equal adjustments to bills. A one-time settlement is acceptable if the affected customer has expressed a clear preference for this approach. (see Filing Requirements section 3.2.5.2)"]
[]
[null,"Year of Group 1 Account Balance Last Disposed",2015]
[]
[null,"Allocation of total Non-RPP consumption (kWh) between Class B and New Class B (Former Class A) customers"]
[null,null,null,"Total",2016,2015,2014,2013,2012]
[null,"Total Class B Consumption for Years Since Last Disposition (Non-RPP consumption LESS WMP and Class A)","A",{"$f":"SUM(E18:I18)","v":3478722305.9200001},{"$f":"'7. CBR Calculation'!C34-'7. CBR Calculation'!E34","v":3478722305.9200001}]
[null,"New Class B Customer(s)'  Consumption","B",{"$f":"SUM(E19:I19)","v":8376177},{"$f":"E45","v":8376177},{"$f":"F45","v":0},{"$f":"G45","v":0},{"$f":"H45","v":0},{"$f":"I45","v":0}]
[null,"Portion of Consumption of New Class B Customers","C=B/A",{"$f":"IFERROR(+D19/D18,0)","v":2.4078314574709336E-3}]
[]
[]
[null,"Allocation of Total CBR-Class B Balance $"]
[]
[null,"Total CBR-Calss B Balance adjusted for Class A","D",{"$f":"'7. CBR Calculation'!C17","v":-101185.52893499982}]
[null,"New Class B Customer(s)' Former Class A Portion of CBR-Class B Balance attributable to Class B","E=C*D",{"$f":"+D20*D25","v":-243.63769961052793}]
[null,"New Class A Customer(s)' Former Class B Portion of CBR-Class B Balance","F=Sheet 6A",{"$f":"'7A. CBR  Allocation_Class A'!D26","v":-767.48713248598438}]
[null,"CBR-Class B Balance to be disposed to Current Class B Customers","G=D-E-F",{"$f":"+D25-D26-D27","v":-100174.40410290331},"Input into Sheet 7. CBR Calculation"]
[]
[null,"Allocation of CBR-Class B Balances to Former Class A Customers"]
[]
[null,"# of Former Class B customer(s)",null,null,2]
[null,"Customer",null,"Total Metered kWh Consumption for each new Class B customer for the period after becoming Class B","Metered kWh Consumption for each new Class B customer for the period after becoming Class B in 2016",null,null,null,null,"% of kWh","Customer specific CBR-Class B allocation for the period after becoming Class B","Monthly Equal Payments"]
[null,"Customer 1",null,{"$f":"SUM(E34:I34)","v":8376177},{"$f":"'6B. GA Allocation_new Class B '!E33","v":8376177},null,null,null,null,{"$f":"IFERROR(+D34/$D$45,0)","v":1},{"$f":"+J34*$D$26","v":-243.63769961052793},{"$f":"+K34/12","v":-20.303141634210661}]
[null,null,null,null,null,null,null,null,null,0,{"$f":"+J35*$D$26","v":0},{"$f":"+K35/12","v":0}]
[null,null,null,null,null,null,null,null,null,0,0,0]
[null,null,null,null,null,null,null,null,null,0,0,0]
[null,null,null,null,null,null,null,null,null,0,0,0]
[null,null,null,null,null,null,null,null,null,0,0,0]
[null,null,null,null,null,null,null,null,null,0,0,0]
[null,null,null,null,null,null,null,null,null,0,0,0]
[null,null,null,null,null,null,null,null,null,0,0,0]
[null,null,null,null,null,null,null,null,null,0,0,0]
[null,null,null,null,null,null,null,null,null,0,0,0]
[null,"Total",null,{"$f":"SUM(D34:D44)","v":8376177},{"$f":"SUM(E34:E44)","v":8376177},{"$f":"SUM(F34:F44)","v":0},{"$f":"SUM(G34:G40)","v":0},0,0,{"$f":"SUM(J34:J44)","v":1},{"$f":"SUM(K34:K44)","v":-243.63769961052793}]

{"sheet":"8. Calculation of Def-Var RR","index":13,"n_rows":31,"n_cols":15,"rows_kept":31,"cut":false,"hidden":false,"merged":[[1,1,8,7],[14,10,15,10],[14,11,15,11],[15,12,15,13],[10,1,10,10],[11,1,11,2],[12,1,12,2],[14,3,15,3],[14,4,15,4],[14,5,15,5],[14,6,15,6],[14,7,15,7],[14,8,15,8],[14,9,15,9]]}
["Back to Index"]
[null,"INCENTIVE REGULATION MODEL FOR 2018 FILERS"]
[]
[]
[]
[]
[]
[]
[]
[]
[null,"Input required at cell D13 only.  This workshseet calculates rate riders related to the Deferral/Variance Account Disposition (if applicable) and rate riders for Account 1568.  Rate Riders will not be generated for the microFIT class."]
[null,"Default Rate Rider Recovery Period (in months)",null,12]
[null,"Proposed Rate Rider Recovery Period (in months)",null,12,{"$f":"IF(D13>0, \"Rate Rider Recovery to be used below\", \"If no rate rider recovery period is proposed then the default recovery period of 12 months will be used\")","v":"Rate Rider Recovery to be used below"}]
[]
[null,null,null,"Total Metered kWh","Metered kW \nor kVA","Total Metered kWh less WMP consumption ","Total Metered kW less WMP consumption ","Allocation of Group 1 Account Balances to All Classes 2","Allocation of Group 1 Account Balances to Non-WMP Classes Only \n(if Applicable) 2","Deferral/Variance Account Rate Rider 2","Deferral/Variance Account Rate Rider for Non-WMP \n(if applicable) 2","Account 1568 Rate Rider"]
[null,"Rate Class","Unit",null,null,null,null,null,null,null,null,null,"Revenue Reconciliation:",null,"Revenue\n Reconcilation 1"]
[null,{"$f":"'4. Billing Det. for Def-Var'!B17","v":"RESIDENTIAL SERVICE CLASSIFICATION"},{"$f":"'4. Billing Det. for Def-Var'!C17","v":"kWh"},{"$f":"'4. Billing Det. for Def-Var'!D17","v":1311941173},{"$f":"'4. Billing Det. for Def-Var'!E17","v":0},{"$f":"'4. Billing Det. for Def-Var'!J17","v":1311941173},{"$f":"'4. Billing Det. for Def-Var'!K17","v":0},{"$f":"SUM('5. Allocating Def-Var Balances'!G16:V16)-I17","v":-1371111.3520588279},null,{"$f":"IF(ISERROR(H17/D17),0,IF(OR(ISBLANK(D$13), OR(D$13=0, D$13=\"\")), H17/D17/(D$12/12), H17/D17/(D$13/12)))","v":-1.0451012440775252E-3},{"$f":"IF(ISERROR(I17/F17),0,IF(OR(ISBLANK(D$13), OR(D$13=0, D$13=\"\")), I17/F17/(D$12/12), I17/F17/(D$13/12)))","v":0},{"$f":"IF(ISERROR('4. Billing Det. for Def-Var'!T17/D17), 0, IF(OR(ISBLANK(D$13), OR(D$13=0, D$13=\"\")), ('4. Billing Det. for Def-Var'!T17/D17)/(D$12/12), ('4. Billing Det. for Def-Var'!T17/D17)/(D$13/12)))","v":0},{"$f":"J17*D17","v":-1371111.3520588276},{"$f":"K17*F17","v":0}]
[null,{"$f":"'4. Billing Det. for Def-Var'!B18","v":"GENERAL SERVICE LESS THAN 50 kW SERVICE CLASSIFICATION"},{"$f":"'4. Billing Det. for Def-Var'!C18","v":"kWh"},{"$f":"'4. Billing Det. for Def-Var'!D18","v":337539785},{"$f":"'4. Billing Det. for Def-Var'!E18","v":0},{"$f":"'4. Billing Det. for Def-Var'!J18","v":337539785},{"$f":"'4. Billing Det. for Def-Var'!K18","v":0},{"$f":"SUM('5. Allocating Def-Var Balances'!G17:V17)-I18","v":-344550.95752310631},null,{"$f":"IF(ISERROR(H18/D18),0,IF(OR(ISBLANK(D$13), OR(D$13=0, D$13=\"\")), H18/D18/(D$12/12), H18/D18/(D$13/12)))","v":-1.0207713959499804E-3},{"$f":"IF(ISERROR(I18/F18),0,IF(OR(ISBLANK(D$13), OR(D$13=0, D$13=\"\")), I18/F18/(D$12/12), I18/F18/(D$13/12)))","v":0},{"$f":"IF(ISERROR('4. Billing Det. for Def-Var'!T18/D18), 0, IF(OR(ISBLANK(D$13), OR(D$13=0, D$13=\"\")), ('4. Billing Det. for Def-Var'!T18/D18)/(D$12/12), ('4. Billing Det. for Def-Var'!T18/D18)/(D$13/12)))","v":0},{"$f":"J18*D18","v":-344550.95752310625},{"$f":"K18*F18","v":0}]
[null,{"$f":"'4. Billing Det. for Def-Var'!B19","v":"GENERAL SERVICE 50 to 699 KW SERVICE CLASSIFICATION"},{"$f":"'4. Billing Det. for Def-Var'!C19","v":"kW"},{"$f":"'4. Billing Det. for Def-Var'!D19","v":1118515365},{"$f":"'4. Billing Det. for Def-Var'!E19","v":3142997.7300000004},{"$f":"'4. Billing Det. for Def-Var'!J19","v":1114340552.4100001},{"$f":"'4. Billing Det. for Def-Var'!K19","v":3131830.0000000005},{"$f":"SUM('5. Allocating Def-Var Balances'!G18:V18)-I19","v":17414.92120003677},{"$f":"'5. Allocating Def-Var Balances'!I18+'5. Allocating Def-Var Balances'!N18","v":-1135749.4836226953},{"$f":"IF(ISERROR(H19/E19),0,IF(OR(ISBLANK(D$13), OR(D$13=0, D$13=\"\")), H19/E19/(D$12/12), H19/E19/(D$13/12)))","v":5.5408634355064478E-3},{"$f":"IF(ISERROR(I19/G19),0,IF(OR(ISBLANK(D$13), OR(D$13=0, D$13=\"\")), I19/G19/(D$12/12), I19/G19/(D$13/12)))","v":-0.36264723296689},{"$f":"IF(ISERROR('4. Billing Det. for Def-Var'!T19/E19), 0, IF(OR(ISBLANK(D13), OR(D13=0, D13=\"\")), ('4. Billing Det. for Def-Var'!T19/E19)/(D12/12), ('4. Billing Det. for Def-Var'!T19/E19)/(D13/12)))","v":0},{"$f":"J19*E19","v":17414.92120003677},{"$f":"K19*G19","v":-1135749.4836226953}]
[null,{"$f":"'4. Billing Det. for Def-Var'!B20","v":"GENERAL SERVICE 700 to 4,999 KW SERVICE CLASSIFICATION"},{"$f":"'4. Billing Det. for Def-Var'!C20","v":"kW"},{"$f":"'4. Billing Det. for Def-Var'!D20","v":852708466},{"$f":"'4. Billing Det. for Def-Var'!E20","v":2009962.0099999998},{"$f":"'4. Billing Det. for Def-Var'!J20","v":790313087.53999996},{"$f":"'4. Billing Det. for Def-Var'!K20","v":1906577.9999999998},{"$f":"SUM('5. Allocating Def-Var Balances'!G19:V19)-I20","v":13524.545255772886},{"$f":"'5. Allocating Def-Var Balances'!I19+'5. Allocating Def-Var Balances'!N19","v":-805496.73897496215},{"$f":"IF(ISERROR(H20/E20),0,IF(OR(ISBLANK(D$13), OR(D$13=0, D$13=\"\")), H20/E20/(D$12/12), H20/E20/(D$13/12)))","v":6.7287566573324869E-3},{"$f":"IF(ISERROR(I20/G20),0,IF(OR(ISBLANK(D$13), OR(D$13=0, D$13=\"\")), I20/G20/(D$12/12), I20/G20/(D$13/12)))","v":-0.42248297157260928},{"$f":"IF(ISERROR('4. Billing Det. for Def-Var'!T20/E20), 0, IF(OR(ISBLANK(D13), OR(D13=0, D13=\"\")), ('4. Billing Det. for Def-Var'!T20/E20)/(D12/12), ('4. Billing Det. for Def-Var'!T20/E20)/(D13/12)))","v":0},{"$f":"J20*E20","v":13524.545255772886},{"$f":"K20*G20","v":-805496.73897496215}]
[null,{"$f":"'4. Billing Det. for Def-Var'!B21","v":"LARGE USE SERVICE CLASSIFICATION"},{"$f":"'4. Billing Det. for Def-Var'!C21","v":"kW"},{"$f":"'4. Billing Det. for Def-Var'!D21","v":363967969},{"$f":"'4. Billing Det. for Def-Var'!E21","v":666341.81491998362},{"$f":"'4. Billing Det. for Def-Var'!J21","v":363967969},{"$f":"'4. Billing Det. for Def-Var'!K21","v":666341.81491998362},{"$f":"SUM('5. Allocating Def-Var Balances'!G20:V20)-I21","v":-367824.18098255369},null,{"$f":"IF(ISERROR(H21/E21),0,IF(OR(ISBLANK(D$13), OR(D$13=0, D$13=\"\")), H21/E21/(D$12/12), H21/E21/(D$13/12)))","v":-0.55200525127891475},{"$f":"IF(ISERROR(I21/G21),0,IF(OR(ISBLANK(D$13), OR(D$13=0, D$13=\"\")), I21/G21/(D$12/12), I21/G21/(D$13/12)))","v":0},{"$f":"IF(ISERROR('4. Billing Det. for Def-Var'!T21/E21), 0, IF(OR(ISBLANK(D$13), OR(D$13=0, D$13=\"\")), ('4. Billing Det. for Def-Var'!T21/E21)/(D$12/12), ('4. Billing Det. for Def-Var'!T21/E21)/(D$13/12)))","v":0},{"$f":"J21*E21","v":-367824.18098255369},{"$f":"K21*G21","v":0}]
[null,{"$f":"'4. Billing Det. for Def-Var'!B22","v":"STANDBY POWER SERVICE CLASSIFICATION "},{"$f":"'4. Billing Det. for Def-Var'!C22","v":"kW"},{"$f":"'4. Billing Det. for Def-Var'!D22","v":0},{"$f":"'4. Billing Det. for Def-Var'!E22","v":0},{"$f":"'4. Billing Det. for Def-Var'!J22","v":0},{"$f":"'4. Billing Det. for Def-Var'!K22","v":0},{"$f":"SUM('5. Allocating Def-Var Balances'!G21:V21)-I22","v":0},null,{"$f":"IF(ISERROR(H22/E22),0,IF(OR(ISBLANK(D$13), OR(D$13=0, D$13=\"\")), H22/E22/(D$12/12), H22/E22/(D$13/12)))","v":0},0,{"$f":"IF(ISERROR('4. Billing Det. for Def-Var'!T22/E22), 0, IF(OR(ISBLANK(D13), OR(D13=0, D13=\"\")), ('4. Billing Det. for Def-Var'!T22/E22)/(D12/12), ('4. Billing Det. for Def-Var'!T22/E22)/(D13/12)))","v":0},{"$f":"J22*E22","v":0},{"$f":"K22*G22","v":0}]
[null,{"$f":"'4. Billing Det. for Def-Var'!B23","v":"UNMETERED SCATTERED LOAD SERVICE CLASSIFICATION"},{"$f":"'4. Billing Det. for Def-Var'!C23","v":"kWh"},{"$f":"'4. Billing Det. for Def-Var'!D23","v":5837113},{"$f":"'4. Billing Det. for Def-Var'!E23","v":0},{"$f":"'4. Billing Det. for Def-Var'!J23","v":5837113},{"$f":"'4. Billing Det. for Def-Var'!K23","v":0},{"$f":"SUM('5. Allocating Def-Var Balances'!G22:V22)-I23","v":-5738.7829926219301},null,{"$f":"IF(ISERROR(H23/D23),0,IF(OR(ISBLANK(D$13), OR(D$13=0, D$13=\"\")), H23/D23/(D$12/12), H23/D23/(D$13/12)))","v":-9.8315434233017763E-4},{"$f":"IF(ISERROR(I23/F23),0,IF(OR(ISBLANK(D$13), OR(D$13=0, D$13=\"\")), I23/F23/(D$12/12), I23/F23/(D$13/12)))","v":0},{"$f":"IF(ISERROR('4. Billing Det. for Def-Var'!T23/D23), 0, IF(OR(ISBLANK(D13), OR(D13=0, D13=\"\")), ('4. Billing Det. for Def-Var'!T23/D23)/(D12/12), ('4. Billing Det. for Def-Var'!T23/D23)/(D13/12)))","v":0},{"$f":"J23*D23","v":-5738.7829926219301},{"$f":"K23*F23","v":0}]
[null,{"$f":"'4. Billing Det. for Def-Var'!B24","v":"STREET LIGHTING SERVICE CLASSIFICATION"},{"$f":"'4. Billing Det. for Def-Var'!C24","v":"kW"},{"$f":"'4. Billing Det. for Def-Var'!D24","v":34274583},{"$f":"'4. Billing Det. for Def-Var'!E24","v":103149.15808304329},{"$f":"'4. Billing Det. for Def-Var'!J24","v":34274583},{"$f":"'4. Billing Det. for Def-Var'!K24","v":103149.15808304329},{"$f":"SUM('5. Allocating Def-Var Balances'!G23:V23)-I24","v":-33200.604627916538},null,{"$f":"IF(ISERROR(H24/E24),0,IF(OR(ISBLANK(D$13), OR(D$13=0, D$13=\"\")), H24/E24/(D$12/12), H24/E24/(D$13/12)))","v":-0.32186985570146298},{"$f":"IF(ISERROR(I24/G24),0,IF(OR(ISBLANK(D$13), OR(D$13=0, D$13=\"\")), I24/G24/(D$12/12), I24/G24/(D$13/12)))","v":0},{"$f":"IF(ISERROR('4. Billing Det. for Def-Var'!T24/E24), 0, IF(OR(ISBLANK(D13), OR(D13=0, D13=\"\")), ('4. Billing Det. for Def-Var'!T24/E24)/(D12/12), ('4. Billing Det. for Def-Var'!T24/E24)/(D13/12)))","v":0},{"$f":"J24*E24","v":-33200.604627916538},{"$f":"K24*G24","v":0}]
[null,{"$f":"'4. Billing Det. for Def-Var'!B25","v":"EMBEDDED DISTRIBUTOR SERVICE CLASSIFICATION"},{"$f":"'4. Billing Det. for Def-Var'!C25","v":"kWh"},{"$f":"'4. Billing Det. for Def-Var'!D25","v":5292579},{"$f":"'4. Billing Det. for Def-Var'!E25","v":0},{"$f":"'4. Billing Det. for Def-Var'!J25","v":5292579},{"$f":"'4. Billing Det. for Def-Var'!K25","v":0},{"$f":"SUM('5. Allocating Def-Var Balances'!G24:V24)-I25","v":-4962.8705194713484},null,{"$f":"IF(ISERROR(H25/D25),0,IF(OR(ISBLANK(D$13), OR(D$13=0, D$13=\"\")), H25/D25/(D$12/12), H25/D25/(D$13/12)))","v":-9.3770362605288436E-4},{"$f":"IF(ISERROR(I25/G25),0,IF(OR(ISBLANK(D$13), OR(D$13=0, D$13=\"\")), I25/G25/(D$12/12), I25/G25/(D$13/12)))","v":0},{"$f":"IF(ISERROR('4. Billing Det. for Def-Var'!T25/D25), 0, IF(OR(ISBLANK(D13), OR(D13=0, D13=\"\")), ('4. Billing Det. for Def-Var'!T25/D25)/(D12/12), ('4. Billing Det. for Def-Var'!T25/D25)/(D13/12)))","v":0},{"$f":"J25*D25","v":-4962.8705194713484},{"$f":"K25*G25","v":0}]
[null,{"$f":"'4. Billing Det. for Def-Var'!B26","v":"DISTRIBUTED GENERATION [DGEN] SERVICE CLASSIFICATION"},{"$f":"'4. Billing Det. for Def-Var'!C26","v":"kWh"},{"$f":"'4. Billing Det. for Def-Var'!D26","v":141477},{"$f":"'4. Billing Det. for Def-Var'!E26","v":0},{"$f":"'4. Billing Det. for Def-Var'!J26","v":141477},{"$f":"'4. Billing Det. for Def-Var'!K26","v":0},{"$f":"SUM('5. Allocating Def-Var Balances'!G25:V25)-I26","v":-132.66349590308391},null,{"$f":"IF(ISERROR(H26/D26),0,IF(OR(ISBLANK(D$13), OR(D$13=0, D$13=\"\")), H26/D26/(D$12/12), H26/D26/(D$13/12)))","v":-9.3770362605288436E-4},0,{"$f":"IF(ISERROR('4. Billing Det. for Def-Var'!T26/D26), 0, IF(OR(ISBLANK(D13), OR(D13=0, D13=\"\")), ('4. Billing Det. for Def-Var'!T26/D26)/(D12/12), ('4. Billing Det. for Def-Var'!T26/D26)/(D13/12)))","v":0},{"$f":"J26*D26","v":-132.66349590308391},0]
[null,{"$f":"'4. Billing Det. for Def-Var'!B27","v":"ENERGY FROM WASTE SERVICE CLASSIFICATION"},{"$f":"'4. Billing Det. for Def-Var'!C27","v":"kW"},{"$f":"'4. Billing Det. for Def-Var'!D27","v":0},{"$f":"'4. Billing Det. for Def-Var'!E27","v":0},{"$f":"'4. Billing Det. for Def-Var'!J27","v":0},{"$f":"'4. Billing Det. for Def-Var'!K27","v":0},{"$f":"SUM('5. Allocating Def-Var Balances'!G26:V26)-I27","v":0},null,{"$f":"IF(ISERROR(H27/E27),0,IF(OR(ISBLANK(D$13), OR(D$13=0, D$13=\"\")), H27/E27/(D$12/12), H27/E27/(D$13/12)))","v":0},0,{"$f":"IF(ISERROR('4. Billing Det. for Def-Var'!T27/D27), 0, IF(OR(ISBLANK(D13), OR(D13=0, D13=\"\")), ('4. Billing Det. for Def-Var'!T27/D27)/(D12/12), ('4. Billing Det. for Def-Var'!T27/D27)/(D13/12)))","v":0},{"$f":"SUM(M17:M26)","v":-2096581.9457445908},{"$f":"SUM(N17:N26)","v":-1941246.2225976575},{"$f":"SUM(M27:N27)","v":-4037828.1683422485}]
[null,null,null,null,null,null,null,null,null,null,null,null,null,null,{"$f":"O27-'3. Continuity Schedule'!CD41+'3. Continuity Schedule'!CD24+'7. CBR Calculation'!N34+'7A. CBR  Allocation_Class A'!K44+'7B. CBR Allocation_new Class B'!K45","v":-0.42000000042293095}]
[]
[null,"1 When calculating the revenue reconciliation for distributors with Class A customers, the balances of sub-account 1580-CBR Class A and B will not be taken into consideration since the rate riders, if any, are calculated outside of the model."]
[null,"2 Only for rate classes with WMP customers are the Deferral/Variance Account Rate Riders for Non-WMP (column H and J) calculated separately. For all rate classes without WMP customers, balances in account 1580 and 1588 are included in column H and disposed through a combined Deferral/Variance Account and Rate Rider."]

{"sheet":"9. STS-Tax Change","index":14,"n_rows":46,"n_cols":22,"rows_kept":46,"cut":false,"hidden":false,"merged":[[14,1,14,11],[18,1,18,8],[1,1,8,14]]}
["Back to Index",null,null,null,null,null,null,null,null,null,null,null,null,null,null,null,null,null,null,null,"Tax Rates","Effective"]
[null,"INCENTIVE REGULATION MODEL FOR 2018 FILERS",null,null,null,null,null,null,null,null,null,null,null,null,null,null,null,null,null,null,"Federal & Provincial","2016-01-01"]
[null,null,null,null,null,null,null,null,null,null,null,null,null,null,null,null,null,null,null,null,"As of June 20, 2012"]
[]
[null,null,null,null,null,null,null,null,null,null,null,null,null,null,null,null,null,null,null,null,"Federal income tax",0.38]
[null,null,null,null,null,null,null,null,null,null,null,null,null,null,null,null,null,null,null,null,"General corporate rate",-0.1]
[null,null,null,null,null,null,null,null,null,null,null,null,null,null,null,null,null,null,null,null,"Federal tax abatement",{"$f":"SUM(V5:V6)","v":0.28000000000000003}]
[null,null,null,null,null,null,null,null,null,null,null,null,null,null,null,null,null,null,null,null,"  Adjusted federal rate",-0.13]
[null,null,null,null,null,null,null,null,null,null,null,null,null,null,null,null,null,null,null,null,"Rate reduction",{"$f":"V7+V8","v":0.15000000000000002}]
[null,null,null,null,null,null,null,null,null,null,null,null,null,null,null,null,null,null,null,null,"Ontario income tax ",0.115]
[]
[null,null,null,null,null,null,null,null,null,null,null,null,null,null,null,null,null,null,null,null,"Combined federal and Ontario ",{"$f":"V9+V10","v":0.26500000000000001}]
[null,"Summary - Sharing of Tax Change Forecast Amounts"]
[null,null,null,null,null,null,null,null,null,null,null,null,null,null,null,null,null,null,null,null,"Federal & Ontario Small Business"]
[null,{"$f":"\"For the \" & '1. Information Sheet'!G32 & \" year, enter any Tax Credits from the Cost of Service Tax Calculation (Positive #)\"","v":"For the 2015 year, enter any Tax Credits from the Cost of Service Tax Calculation (Positive #)"},null,null,null,null,null,null,null,null,null,null,{"$f":"'[3]8. STS - Tax Change'!$L$15","v":87800},null,null,null,null,null,null,null,"Federal small business threshold",500000]
[null,null,null,null,null,null,null,null,null,null,null,null,null,null,null,null,null,null,null,null,"Ontario Small Business Threshold",500000]
[]
[null,"1. Tax Related Amounts Forecast from Capital Tax Rate Changes ",null,null,null,null,null,null,null,null,null,null,{"$f":"'1. Information Sheet'!G32","v":2015},null,2018,null,null,null,null,null,"Federal small business rate",0.105]
[null,"Taxable Capital (if you are not claiming capital tax, please enter your OEB-Approved Rate Base)",null,null,null,null,null,null,null,null,null,null,{"$f":"'[3]8. STS - Tax Change'!$L$19","v":404618521.85627896},null,{"$f":"M19","v":404618521.85627896}]
[null,null,null,null,null,null,null,null,null,null,null,null,null,null,null,null,null,null,null,null,"Ontario small business rate",4.4999999999999998E-2]
[null,"Deduction from taxable capital up to $15,000,000",null,null,null,null,null,null,null,null,null,null,null,null,{"$f":"M21","v":0}]
[]
[null,"Net Taxable Capital ",null,null,null,null,null,null,null,null,null,null,{"$f":"M19-M21","v":404618521.85627896},null,{"$f":"O19-O21","v":404618521.85627896}]
[]
[null,"Rate",null,null,null,null,null,null,null,null,null,null,null,null,0,null,null,null,null,null,"Ontario Tax Rate (Maximum 11.5%)"]
[null,null,null,null,null,null,null,null,null,null,null,null,null,null,null,null,null,null,null,null,"Federal tax rate (Maximum 15%)"]
[null,"Ontario Capital Tax (Deductible, not grossed-up)",null,null,null,null,null,null,null,null,null,null,{"$f":"IF(M23>0, M23*M25, 0)*181/365","v":0},null,0,null,null,null,null,null,"Combined tax rate (Maximum 26.5%)"]
[]
[null,"2. Tax Related Amounts Forecast from lncome Tax Rate Changes "]
[null,"Regulatory Taxable Income",null,null,null,null,null,null,null,null,null,null,{"$f":"'[3]8. STS - Tax Change'!$L$30","v":5574756.8813183717},null,{"$f":"M30","v":5574756.8813183717}]
[]
[null,"Corporate Tax Rate",null,null,null,null,null,null,null,null,null,null,{"$f":"'[3]8. STS - Tax Change'!$L$32","v":0.26500000000000001},null,{"$f":"IF(ratebase>15000000, 26.5%, IF(ratebase<10000000, 15%, 15%+11.5%*((ratebase-10000000)/5000000)))","v":0.26500000000000001}]
[]
[null,"Tax Impact ",null,null,null,null,null,null,null,null,null,null,{"$f":"M30*M32-M15","v":1389510.5735493687},null,{"$f":"O30*O32-M15","v":1389510.5735493687}]
[]
[null,"Grossed-up Tax Amount",null,null,null,null,null,null,null,null,null,null,{"$f":"M34/(1-M32)","v":1890490.5762576445},null,{"$f":"O34/(1-O32)","v":1890490.5762576445}]
[]
[null,"Tax Related Amounts Forecast from Capital Tax Rate Changes ",null,null,null,null,null,null,null,null,null,null,{"$f":"M27","v":0},null,{"$f":"O27","v":0}]
[]
[null,"Tax Related Amounts Forecast from lncome Tax Rate Changes ",null,null,null,null,null,null,null,null,null,null,{"$f":"M36","v":1890490.5762576445},null,{"$f":"O36","v":1890490.5762576445}]
[]
[null,"Total Tax Related Amounts",null,null,null,null,null,null,null,null,null,null,{"$f":"SUM(M40,M38)","v":1890490.5762576445},null,{"$f":"SUM(O40,O38)","v":1890490.5762576445}]
[]
[null,"Incremental Tax Savings",null,null,null,null,null,null,null,null,null,null,null,null,{"$f":"O42-M42","v":0}]
[]
[null,"Sharing of Tax Amount (50%)",null,null,null,null,null,null,null,null,null,null,null,null,{"$f":"0.5*O44","v":0}]

{"sheet":"10. Shared Tax - RR","index":15,"n_rows":48,"n_cols":17,"rows_kept":48,"cut":false,"hidden":false,"merged":[[1,1,8,6],[33,8,41,11]]}
["Back to Index"]
[null,"INCENTIVE REGULATION MODEL FOR 2018 FILERS"]
[]
[]
[]
[]
[]
[]
[]
[]
[]
[null,"Calculation of Rebased Revenue Requirement and Allocation of Tax Sharing Amount.  Enter data from the last OEB-Approved Cost of Service application in columns D through I."]
[null,"As per Chapter 3 Filing Requirements, shared tax rate riders are based on a 1 year disposition."]
[]
[null,"Rate Class",null,"Re-based Billed Customers or Connections","Re-based Billed kWh","Re-based Billed kW","Re-based Service Charge","Re-based Distribution Volumetric Rate kWh","Re-based Distribution Volumetric Rate kW","Service Charge Revenue","Distribution Volumetric Rate Revenue \nkWh","Distribution Volumetric Rate Revenue \nkW","Revenue Requirement from Rates","Service Charge \n% Revenue","Distribution Volumetric Rate \n% Revenue \nkWh","Distribution Volumetric Rate \n% Revenue \nkW","Total % Revenue"]
[null,null,null,"A","B","C","D","E","F","G = A * D *12","H = B * E","I = C * F","J = G + H + I","K = G / J","L = H / J","M = I / J","N = J / R"]
[null,{"$f":"'4. Billing Det. for Def-Var'!B17","v":"RESIDENTIAL SERVICE CLASSIFICATION"},{"$f":"'4. Billing Det. for Def-Var'!C17","v":"kWh"},140979.18172386964,1308264983.2731071,0,11.07,1.55E-2,0,{"$f":"G17*D17*12","v":18727674.500198841},{"$f":"E17*H17","v":20278107.240733158},{"$f":"F17*I17","v":0},{"$f":"J17+K17+L17","v":39005781.740932003},{"$f":"IF(ISERROR(J17/M17),0,J17/M17)","v":0.48012560354729},{"$f":"IF(ISERROR(K17/M17),0,K17/M17)","v":0.51987439645270994},{"$f":"IF(ISERROR(L17/M17),0,L17/M17)","v":0},{"$f":"IF(ISERROR(M17/M$30),0,M17/M$30)","v":0.56067360753012463}]
[null,{"$f":"'4. Billing Det. for Def-Var'!B18","v":"GENERAL SERVICE LESS THAN 50 kW SERVICE CLASSIFICATION"},{"$f":"'4. Billing Det. for Def-Var'!C18","v":"kWh"},8989.460008453565,354668870.2835499,0,24.39,1.61E-2,0,2631035.1552741891,5710168.8115651533,0,8341203.9668393424,{"$f":"IF(ISERROR(J18/M18),0,J18/M18)","v":0.31542630605053334},{"$f":"IF(ISERROR(K18/M18),0,K18/M18)","v":0.68457369394946666},{"$f":"IF(ISERROR(L18/M18),0,L18/M18)","v":0},{"$f":"IF(ISERROR(M18/M$30),0,M18/M$30)","v":0.11989742829137452}]
[null,{"$f":"'4. Billing Det. for Def-Var'!B19","v":"GENERAL SERVICE 50 to 699 KW SERVICE CLASSIFICATION"},{"$f":"'4. Billing Det. for Def-Var'!C19","v":"kW"},1490.7244903381991,1064497598.5537131,2979825.6981246667,121.18,0,2.7446000000000002,2167751.9248701958,0,8178429.6110729603,10346181.535943156,0.20952193012845524,0,{"$f":"IF(ISERROR(L19/M19),0,L19/M19)","v":0.79047806987154479},0.14871720721934725]
[null,{"$f":"'4. Billing Det. for Def-Var'!B20","v":"GENERAL SERVICE 700 to 4,999 KW SERVICE CLASSIFICATION"},{"$f":"'4. Billing Det. for Def-Var'!C20","v":"kW"},114.61641141787759,806154179.88763332,1969146.4021656737,1093.3499999999999,0,3.1861000000000002,1503790.2410848374,0,6273897.3519400535,7777687.5930248909,0.1933467014583424,0,0.80665329854165757,0.1117973789113286]
[null,{"$f":"'4. Billing Det. for Def-Var'!B21","v":"LARGE USE SERVICE CLASSIFICATION"},{"$f":"'4. Billing Det. for Def-Var'!C21","v":"kW"},6,382619513.4019751,719987.09163337958,4549.67,0,2.4121999999999999,327576.24,0,1736752.8624380382,2064329.1024380382,0.15868411660385065,0,0.84131588339614938,2.9672904716553539E-2]
[null,{"$f":"'4. Billing Det. for Def-Var'!B22","v":"STANDBY POWER SERVICE CLASSIFICATION "},{"$f":"'4. Billing Det. for Def-Var'!C22","v":"kW"},1,0,54580,0,0,1.6224000000000001,0,0,88550.592000000004,88550.592000000004,0,0,1,1.2728364270537989E-3]
[null,{"$f":"'4. Billing Det. for Def-Var'!B23","v":"UNMETERED SCATTERED LOAD SERVICE CLASSIFICATION"},{"$f":"'4. Billing Det. for Def-Var'!C23","v":"kWh"},1561.7181617727067,5931732.9043365736,0,1.05,1.9199999999999998E-2,0,19677.648838336107,113889.27176326221,0,133566.92060159831,0.14732426823727068,0.85267573176272937,0,1.9199063287020919E-3]
[null,{"$f":"'4. Billing Det. for Def-Var'!B24","v":"STREET LIGHTING SERVICE CLASSIFICATION"},{"$f":"'4. Billing Det. for Def-Var'!C24","v":"kW"},22334.563518950279,33306954.548778366,100671.89144675127,2.2200000000000002,0,11.1563,594992.77214483556,0,1123125.8225473911,1718118.5946922265,0.34630483249697847,0,0.65369516750302159,2.469643492979412E-2]
[null,{"$f":"'4. Billing Det. for Def-Var'!B25","v":"EMBEDDED DISTRIBUTOR SERVICE CLASSIFICATION"},{"$f":"'4. Billing Det. for Def-Var'!C25","v":"kWh"},1,17012414,40073,4021.92,0,0,48263.040000000001,0,0,48263.040000000001,1,0,0,6.9373850591935714E-4]
[null,{"$f":"'4. Billing Det. for Def-Var'!B26","v":"DISTRIBUTED GENERATION [DGEN] SERVICE CLASSIFICATION"},{"$f":"'4. Billing Det. for Def-Var'!C26","v":"kWh"},67.583333333333371,178815.83827199429,0,55.59,0,0,{"$f":"G26*D26*12","v":45083.490000000027},{"$f":"E26*H26","v":0},{"$f":"F26*I26","v":0},{"$f":"J26+K26+L26","v":45083.490000000027},{"$f":"IF(ISERROR(J26/M26),0,J26/M26)","v":1},{"$f":"IF(ISERROR(K26/M26),0,K26/M26)","v":0},{"$f":"IF(ISERROR(L26/M26),0,L26/M26)","v":0},6.4803528733851608E-4]
[null,{"$f":"'4. Billing Det. for Def-Var'!B27","v":"ENERGY FROM WASTE SERVICE CLASSIFICATION"},{"$f":"'4. Billing Det. for Def-Var'!C27","v":"kW"},1,0,0,61,0,0,732,0,0,732,1,0,0,1.0521852463768743E-5]
[null,null,null,null,null,null,null,null,null,0,0,0,0,0,0,0,0]
[null,null,null,null,null,null,null,null,null,0,0,0,0,0,0,0,0]
[null,"Total",null,{"$f":"SUM(D17:D29)","v":175546.84764813562},{"$f":"SUM(E17:E29)","v":3972635062.6913652},5864284.0833704714,null,null,null,{"$f":"SUM(J17:J29)","v":26066577.012411233},{"$f":"SUM(K17:K29)","v":26102165.324061573},17400756.239998445,69569498.576471239,null,null,null,{"$f":"SUM(Q17:Q29)","v":1}]
[]
[]
[null,"Rate Class",null,"Total kWh\n(most recent RRR filing)","Total kW\n(most recent RRR filing)","Allocation of Tax Savings by Rate Class","Distribution Rate Rider"]
[null,{"$f":"B17","v":"RESIDENTIAL SERVICE CLASSIFICATION"},"kWh",{"$f":"'4. Billing Det. for Def-Var'!D17","v":1311941173},{"$f":"'4. Billing Det. for Def-Var'!E17","v":0},{"$f":"F$48*Q17","v":0},{"$f":"ROUND(F34/'4. Billing Det. for Def-Var'!U17,2)","v":0},"$/Customer","If the allocated tax sharing amount does not produce a rate rider in one or more rate class (except for the Standby rate class), a distributor is required to transfer the entire OEB-approved tax sharing amount into account 1595 for disposition at a later date (see Filing Requirements, Appendix B)"]
[null,"GENERAL SERVICE LESS THAN 50 kW SERVICE CLASSIFICATION","kWh",{"$f":"'4. Billing Det. for Def-Var'!D18","v":337539785},{"$f":"'4. Billing Det. for Def-Var'!E18","v":0},0,{"$f":"IFERROR(ROUND(IF(E35<>0,F35/E35,F35/D35),4),\"\")","v":0},"$/kWh"]
[null,"GENERAL SERVICE 50 to 699 KW SERVICE CLASSIFICATION","kW",{"$f":"'4. Billing Det. for Def-Var'!D19","v":1118515365},{"$f":"'4. Billing Det. for Def-Var'!E19","v":3142997.7300000004},0,{"$f":"IFERROR(ROUND(IF(E36<>0,F36/E36,F36/D36),4),\"\")","v":0},"$/kW"]
[null,"GENERAL SERVICE 700 to 4,999 KW SERVICE CLASSIFICATION","kW",{"$f":"'4. Billing Det. for Def-Var'!D20","v":852708466},{"$f":"'4. Billing Det. for Def-Var'!E20","v":2009962.0099999998},0,0,"$/kW"]
[null,"LARGE USE SERVICE CLASSIFICATION","kW",{"$f":"'4. Billing Det. for Def-Var'!D21","v":363967969},{"$f":"'4. Billing Det. for Def-Var'!E21","v":666341.81491998362},0,0,"$/kWh"]
[null,"STANDBY POWER SERVICE CLASSIFICATION ","kW",{"$f":"'4. Billing Det. for Def-Var'!D22","v":0},{"$f":"'4. Billing Det. for Def-Var'!E22","v":0},0,"","$/kWh"]
[null,"UNMETERED SCATTERED LOAD SERVICE CLASSIFICATION","kWh",{"$f":"'4. Billing Det. for Def-Var'!D23","v":5837113},{"$f":"'4. Billing Det. for Def-Var'!E23","v":0},0,0,"$/kW"]
[null,"STREET LIGHTING SERVICE CLASSIFICATION","kW",{"$f":"'4. Billing Det. for Def-Var'!D24","v":34274583},{"$f":"'4. Billing Det. for Def-Var'!E24","v":103149.15808304329},0,0,"$/kW"]
[null,"EMBEDDED DISTRIBUTOR SERVICE CLASSIFICATION","kWh",{"$f":"'4. Billing Det. for Def-Var'!D25","v":5292579},{"$f":"'4. Billing Det. for Def-Var'!E25","v":0},0,0,"$/kWh"]
[null,"DISTRIBUTED GENERATION [DGEN] SERVICE CLASSIFICATION","kWh",{"$f":"'4. Billing Det. for Def-Var'!D26","v":141477},{"$f":"'4. Billing Det. for Def-Var'!E26","v":0},{"$f":"F$48*Q30","v":0},0,"$/kWh"]
[null,"ENERGY FROM WASTE SERVICE CLASSIFICATION","kW",{"$f":"'4. Billing Det. for Def-Var'!D27","v":0},{"$f":"'4. Billing Det. for Def-Var'!E27","v":0},{"$f":"F$48*Q31","v":0},"","$/kW"]
[null,null,null,null,null,0,{"$f":"IFERROR(ROUND(IF(E45<>\"\",F45/E45,F45/D45),4),\"\")","v":""}]
[null,null,null,null,null,0]
[]
[null,null,null,{"$f":"SUM(D34:D47)","v":4030218510},{"$f":"SUM(E34:E47)","v":5922450.7130030273},{"$f":"ROUND('9. STS-Tax Change'!O46,2)","v":0}]

{"sheet":"11. RTSR - Current Rates","index":16,"n_rows":33,"n_cols":53,"rows_kept":33,"cut":false,"hidden":false,"merged":[[12,1,12,8],[1,1,8,4]]}
["Back to Index","Back to Index",null,null,null,null,null,null,null,null,null,null,null,null,null,null,null,null,null,null,null,null,null,null,null,null,null,null,null,null,null,null,null,null,null,null,null,null,null,null,null,null,null,null,null,null,null,null,null,null,null,null,1]
[null,"INCENTIVE REGULATION MODEL FOR 2018 FILERS"]
[]
[]
[]
[]
[]
[]
[]
[]
[]
[]
[null,"Columns F and G must match the data from the most recent RRR filing.  \nRates have been imported from Tab 2.  As well, the Loss Factor has been imported from \"Model Specs\" tab. \nIf the data needs to be modified, please make the necessary adjustments and note the changes in your manager's summary.  "]
[]
[null,"Rate Class","Rate Description","Unit","Rate","Non-Loss Adjusted Metered kWh","Non-Loss Adjusted Metered kW","Applicable Loss Factor","Loss Adjusted Billed kWh"]
["R_TN",{"$f":"'Model Specs'!C15","v":"RESIDENTIAL SERVICE CLASSIFICATION"},"Retail Transmission Rate – Network Service Rate","$/kWh",{"$f":"VLOOKUP(A16,RATES,4,FALSE)","v":7.4000000000000003E-3},{"$f":"'4. Billing Det. for Def-Var'!D17","v":1311941173},0,{"$f":"LLF","v":1.0341},{"$f":"F16*H16","v":1356678366.9993}]
["R_TC",{"$f":"B16","v":"RESIDENTIAL SERVICE CLASSIFICATION"},"Retail Transmission Rate – Line and Transformation Connection Service Rate","$/kWh",5.7000000000000002E-3,{"$f":"F16","v":1311941173},0,1.0341,{"$f":"F17*H17","v":1356678366.9993}]
["GSL_TN",{"$f":"'Model Specs'!C16","v":"GENERAL SERVICE LESS THAN 50 kW SERVICE CLASSIFICATION"},"Retail Transmission Rate – Network Service Rate","$/kWh",6.6E-3,{"$f":"'4. Billing Det. for Def-Var'!D18","v":337539785},0,1.0341,349049891.66850001]
["GSL_TC",{"$f":"B18","v":"GENERAL SERVICE LESS THAN 50 kW SERVICE CLASSIFICATION"},"Retail Transmission Rate – Line and Transformation Connection Service Rate","$/kWh",4.7999999999999996E-3,{"$f":"F18","v":337539785},0,1.0341,349049891.66850001]
["GS50_699_TN",{"$f":"'Model Specs'!C17","v":"GENERAL SERVICE 50 to 699 KW SERVICE CLASSIFICATION"},"Retail Transmission Rate – Network Service Rate","$/kW",2.5604,{"$f":"'4. Billing Det. for Def-Var'!D19","v":1118515365},{"$f":"'4. Billing Det. for Def-Var'!E19","v":3142997.7300000004},1.0341,1156656738.9465001]
["GS50_699_TC",{"$f":"B20","v":"GENERAL SERVICE 50 to 699 KW SERVICE CLASSIFICATION"},"Retail Transmission Rate – Line and Transformation Connection Service Rate","$/kW",1.9177,{"$f":"F20","v":1118515365},{"$f":"G20","v":3142997.7300000004},1.0341,1156656738.9465001]
["GS700_TN",{"$f":"'Model Specs'!C18","v":"GENERAL SERVICE 700 to 4,999 KW SERVICE CLASSIFICATION"},"Retail Transmission Rate – Network Service Rate","$/kW",2.8714,{"$f":"'4. Billing Det. for Def-Var'!D20","v":852708466},{"$f":"'4. Billing Det. for Def-Var'!E20","v":2009962.0099999998},1.0341,881785824.69060004]
["GS700_TC",{"$f":"B22","v":"GENERAL SERVICE 700 to 4,999 KW SERVICE CLASSIFICATION"},"Retail Transmission Rate – Line and Transformation Connection Service Rate","$/kW",2.0613999999999999,{"$f":"F22","v":852708466},{"$f":"G22","v":2009962.0099999998},1.0341,881785824.69060004]
["LU_TN",{"$f":"'Model Specs'!C19","v":"LARGE USE SERVICE CLASSIFICATION"},"Retail Transmission Rate – Network Service Rate","$/kW",3.2498999999999998,{"$f":"'4. Billing Det. for Def-Var'!D21","v":363967969},{"$f":"'4. Billing Det. for Def-Var'!E21","v":666341.81491998362},1.0341,376379276.74290001]
["LU_TC",{"$f":"B24","v":"LARGE USE SERVICE CLASSIFICATION"},"Retail Transmission Rate – Line and Transformation Connection Service Rate ","$/kW",2.3826000000000001,{"$f":"F24","v":363967969},{"$f":"G24","v":666341.81491998362},1.0341,376379276.74290001]
["USL_TN",{"$f":"'Model Specs'!C21","v":"UNMETERED SCATTERED LOAD SERVICE CLASSIFICATION"},"Retail Transmission Rate – Network Service Rate","$/kWh",6.6E-3,{"$f":"'4. Billing Det. for Def-Var'!D23","v":5837113},{"$f":"'4. Billing Det. for Def-Var'!E23","v":0},1.0341,6036158.5532999998]
["USL_TC",{"$f":"B26","v":"UNMETERED SCATTERED LOAD SERVICE CLASSIFICATION"},"Retail Transmission Rate – Line and Transformation Connection Service Rate","$/kWh",4.7999999999999996E-3,{"$f":"F26","v":5837113},{"$f":"G26","v":0},1.0341,6036158.5532999998]
["SL_TN",{"$f":"'4. Billing Det. for Def-Var'!B24","v":"STREET LIGHTING SERVICE CLASSIFICATION"},"Retail Transmission Rate – Network Service Rate","$/kW",2.1318999999999999,{"$f":"'4. Billing Det. for Def-Var'!D24","v":34274583},{"$f":"'4. Billing Det. for Def-Var'!E24","v":103149.15808304329},1.0341,35443346.280299999]
["SL_TC",{"$f":"B28","v":"STREET LIGHTING SERVICE CLASSIFICATION"},"Retail Transmission Rate – Line and Transformation Connection Service Rate","$/kW",1.5966,{"$f":"F28","v":34274583},{"$f":"G28","v":103149.15808304329},1.0341,35443346.280299999]
["EMD_TN",{"$f":"'Model Specs'!C23","v":"EMBEDDED DISTRIBUTOR SERVICE CLASSIFICATION"},"Retail Transmission Rate – Network Service Rate","$/kW",2.8714,{"$f":"'4. Billing Det. for Def-Var'!D25","v":5292579},{"$f":"'4. Billing Det. for Def-Var'!E25","v":0},1.0341,5473055.9439000003]
["EMD_TC",{"$f":"B30","v":"EMBEDDED DISTRIBUTOR SERVICE CLASSIFICATION"},"Retail Transmission Rate – Line and Transformation Connection Service Rate","$/kW",2.0613999999999999,{"$f":"F30","v":5292579},{"$f":"G30","v":0},1.0341,5473055.9439000003]
["DG_TN",{"$f":"'Model Specs'!C24","v":"DISTRIBUTED GENERATION [DGEN] SERVICE CLASSIFICATION"},"Retail Transmission Rate – Network Service Rate","$/kWh",6.6E-3,{"$f":"'4. Billing Det. for Def-Var'!D26","v":141477},{"$f":"'4. Billing Det. for Def-Var'!E26","v":0},1.0341,146301.36569999999]
["DG_TC",{"$f":"B32","v":"DISTRIBUTED GENERATION [DGEN] SERVICE CLASSIFICATION"},"Retail Transmission Rate – Line and Transformation Connection Service Rate","$/kWh",4.7999999999999996E-3,{"$f":"F32","v":141477},{"$f":"G32","v":0},1.0341,146301.36569999999]

{"sheet":"12. RTSR-UTRs & Sub-Tx","index":17,"n_rows":68,"n_cols":10,"rows_kept":68,"cut":false,"hidden":false,"merged":[[19,4,20,5],[22,4,22,5],[37,4,37,5],[41,4,41,5],[1,1,8,7],[11,4,11,5],[13,4,13,5],[15,4,15,5],[17,4,17,5],[43,4,43,5],[45,4,45,5],[49,4,49,5],[52,4,52,5],[56,4,56,5],[47,4,47,5],[67,4,67,5],[58,4,58,5],[60,4,60,5],[62,4,62,5],[64,4,64,5],[66,4,66,5]]}
["Back to Index"]
[null,"INCENTIVE REGULATION MODEL FOR 2018 FILERS"]
[]
[]
[]
[]
[]
[]
[]
[]
[]
[null,"Uniform Transmission Rates","Unit",null,2016,null,null,2017,null,2018]
[]
[null,"Rate Description",null,null,"Rate",null,null,"Rate",null,"Rate"]
[]
[null,"Network Service Rate","kW",null,3.66,null,null,3.66,null,3.61]
[]
[null,"Line Connection Service Rate","kW",null,0.87,null,null,0.87,null,0.95]
[]
[null,"Transformation Connection Service Rate","kW",null,2.02,null,null,2.02,null,2.34]
[]
[]
[null,"Hydro One Sub-Transmission Rates","Unit",null,2016,null,null,2017,null,2018]
[null,null,null,null,"2016-01-01","Feb - Dec 2016",null,"Jan - Dec 2017"]
[]
[]
[null,"Rate Description",null,null,"Rate","Rate",null,"Rate",null,"Rate"]
[]
[null,"Network Service Rate","kW",null,3.4121000000000001,3.3395999999999999,null,3.1941999999999999,null,{"$f":"H29","v":3.1941999999999999}]
[]
[null,"Line Connection Service Rate","kW",null,0.78790000000000004,0.77910000000000001,null,0.77100000000000002,null,{"$f":"H31","v":0.77100000000000002}]
[]
[null,"Transformation Connection Service Rate","kW",null,1.8018000000000001,1.7713000000000001,null,1.7493000000000001,null,{"$f":"H33","v":1.7493000000000001}]
[]
[null,"Both Line and Transformation Connection Service Rate","kW",null,{"$f":"SUM(E33,E31)","v":2.5897000000000001},2.5504000000000002,null,{"$f":"SUM(H33,H31)","v":2.5203000000000002},null,{"$f":"H35","v":2.5203000000000002}]
[]
[]
[null,"If needed, add extra host here. (I)","Unit",null,2016,null,null,2017,null,2018]
[]
[]
[]
[null,"Rate Description",null,null,"Rate",null,null,"Rate",null,"Rate"]
[]
[null,"Network Service Rate","kW"]
[]
[null,"Line Connection Service Rate","kW"]
[]
[null,"Transformation Connection Service Rate","kW"]
[]
[null,"Both Line and Transformation Connection Service Rate","kW",null,{"$f":"F48+F46","v":0},null,null,{"$f":"H48+H46","v":0},null,{"$f":"J48+J46","v":0}]
[]
[]
[null,"If needed, add extra host here. (II)","Unit",null,2016,null,null,2017,null,2018]
[]
[]
[]
[null,"Rate Description",null,null,"Rate",null,null,"Rate",null,"Rate"]
[]
[null,"Network Service Rate","kW"]
[]
[null,"Line Connection Service Rate","kW"]
[]
[null,"Transformation Connection Service Rate","kW"]
[]
[null,"Both Line and Transformation Connection Service Rate","kW",null,{"$f":"F63+F61","v":0},null,null,{"$f":"H63+H61","v":0},null,{"$f":"J63+J61","v":0}]
[]
[null,null,null,null,"Historical 2016",null,null,"Current 2017",null,"Forecast 2018"]
[null,"Low Voltage Switchgear Credit (if applicable, enter as a negative value)","$"]

{"sheet":"13. RTSR-Historic Wholesale","index":18,"n_rows":112,"n_cols":16,"rows_kept":112,"cut":false,"hidden":false,"merged":[[52,3,52,5],[52,7,52,9],[52,11,52,13],[71,3,71,5],[71,7,71,9],[71,11,71,13],[90,3,90,5],[90,7,90,9],[90,11,90,13],[91,3,91,5],[91,7,91,9],[91,11,91,13],[1,1,8,10],[15,11,15,13],[33,3,33,5],[33,7,33,9],[33,11,33,13],[12,1,12,11],[15,3,15,5],[15,7,15,9]]}
["Back to Index"]
[null,"INCENTIVE REGULATION MODEL FOR 2018 FILERS"]
[]
[]
[]
[]
[]
[]
[]
[]
[]
[]
[null,"In the green shaded cells, enter billing detail for wholesale transmission for the same reporting period as the billing determinants on Tab 10.   For Hydro One Sub-transmission Rates, if you are charged a combined Line and Transformer connection rate, please ensure that both the Line Connection and Transformation Connection columns are completed. \nIf any of the Hydro One Sub-transmission rates (column E, I and M) are highlighted in orange, please double check the billing data entered in \"Units Billed\" and \"Amount\" columns. The highlighted rates do not match the Hydro One Sub-transmission rates approved for that time period. If data has been entered correctly, please provide explanation for the discrepancy in rates.\n"]
[]
[]
[null,"IESO",null,"Network",null,null,null,"Line Connection",null,null,null,"Transformation Connection",null,null,null,"Total Line"]
[null,"Month",null,"Units Billed","Rate","Amount",null,"Units Billed","Rate","Amount",null,"Units Billed","Rate","Amount",null,"Amount"]
[]
[null,"January",null,573967,{"$f":"IF(D19<>0,F19/D19,0)","v":3.66},2100719.2200000002,null,598224,{"$f":"IF(H19<>0,J19/H19,0)","v":0.87},520454.88,null,514549,{"$f":"IF(L19<>0,N19/L19,0)","v":2.02},1039388.98,null,{"$f":"J19+N19","v":1559843.8599999999}]
[null,"February",null,574060,3.66,2101059.6,null,598164,0.87,520402.68,null,513329,2.02,1036924.58,null,1557327.26]
[null,"March",null,575035.99999999988,3.66,2104631.7599999998,null,594794,0.87,517470.78,null,514095,2.02,1038471.9,null,1555942.6800000002]
[null,"April",null,537184,3.6599999999999997,1966093.44,null,569430,0.87,495404.1,null,496177,2.02,1002277.54,null,1497681.6400000001]
[null,"May",null,637994,3.66,2335058.04,null,692774,0.87,602713.38,null,589765,2.02,1191325.3,null,1794038.6800000002]
[null,"June",null,772216,3.66,2826310.56,null,796894,0.87,693297.78,null,682616,2.02,1378884.32,null,2072182.1]
[null,"July",null,805454,3.66,2947961.64,null,824143,0.87,717004.41,null,705178,2.02,1424459.56,null,2141463.9700000002]
[null,"August",null,816095.99999999988,3.66,2986911.36,null,845022,0.87,735169.14,null,724253,2.02,1462991.06,null,2198160.2000000002]
[null,"September",null,818873,3.66,2997075.18,null,831177,0.87,723123.99,null,707586,2.02,1429323.72,null,2152447.71]
[null,"October",null,543313,3.66,1988525.58,null,568053,0.87,494206.11,null,493624,2.02,997120.48,null,1491326.5899999999]
[null,"November",null,552278,3.66,2021337.48,null,571572,0.87,497267.64,null,491207,2.02,992238.14,null,1489505.78]
[null,"December",null,577823,3.66,2114832.1800000002,null,605107,0.87,526443.09,null,520327,2.02,1051060.54,null,1577503.63]
[]
[null,"Total",null,{"$f":"SUM(D19:D30)","v":7784294},{"$f":"IF(D32<>0,F32/D32,0)","v":3.66},{"$f":"SUM(F19:F30)","v":28490516.040000003},null,{"$f":"SUM(H19:H30)","v":8095354},{"$f":"IF(H32<>0,J32/H32,0)","v":0.87},{"$f":"SUM(J19:J30)","v":7042957.9799999995},null,{"$f":"SUM(L19:L30)","v":6952706},{"$f":"IF(L32<>0,N32/L32,0)","v":2.02},{"$f":"SUM(N19:N30)","v":14044466.120000001},null,{"$f":"SUM(P19:P30)","v":21087424.100000001}]
[]
[null,"Hydro One",null,"Network",null,null,null,"Line Connection",null,null,null,"Transformation Connection",null,null,null,"Total Line"]
[]
[null,"Month",null,"Units Billed","Rate","Amount",null,"Units Billed","Rate","Amount",null,"Units Billed","Rate","Amount",null,"Amount"]
[]
[null,"January",null,12599.92,{"$f":"IF(D38<>0,F38/D38,0)","v":3.4120994419012183},42992.18,null,12599.92,{"$f":"IF(H38<>0,J38/H38,0)","v":0.78790024063644848},9927.48,null,12599.92,{"$f":"IF(L38<>0,N38/L38,0)","v":1.8017995352351444},22702.53,null,{"$f":"J38+N38","v":32630.01}]
[null,"February",null,11944.47,{"$f":"IF(D39<>0,F39/D39,0)","v":3.3396015059688708},39889.769999999997,null,12133.63,0.7790999066231622,9453.31,null,12133.63,1.771300097332785,21492.3,null,{"$f":"J39+N39","v":30945.61}]
[null,"March",null,11361.07,3.3396009354752678,37941.440000000002,null,11822.82,0.77910007933809367,9211.16,null,11822.82,1.7712990640134927,20941.75,null,30152.91]
[null,"April",null,11597.59,3.3396007273925012,38731.32,null,11844.52,0.77909953294857026,9228.06,null,11844.52,1.7712993012802543,20980.19,null,30208.25]
[null,"May",null,12061.79,3.3396005070557515,40281.56,null,12061.79,0.77909995116811015,9397.34,null,12061.79,1.771300113830534,21365.05,null,30762.39]
[null,"June",null,25781.72,3.3395999180814933,86100.63,null,25781.72,0.77910007555741045,20086.54,null,25781.72,1.771299975331359,45667.16,null,65753.700000000012]
[null,"July",null,11498.61,3.3395993080902819,38400.75,null,11498.61,0.7791002564657814,8958.57,null,11498.61,1.7713001832395394,20367.490000000002,null,29326.06]
[null,"August",null,11745.82,3.3396008111821907,39226.35,null,11745.82,0.77910013945386536,9151.17,null,11745.82,1.7712999177579769,20805.37,null,29956.54]
[null,"September",null,11650.01,3.3396014252348278,38906.39,null,11650.01,0.77910061879775216,9076.5300000000007,null,11650.01,1.7713006254930252,20635.669999999998,null,29712.199999999997]
[null,"October",null,20781.48,3.3395990083478173,69401.81,null,20781.48,0.77909994860808762,16190.85,null,20781.48,1.7712997341864007,36810.230000000003,null,53001.08]
[null,"November",null,8700.51,3.3395996326652115,29056.22,null,8700.51,0.77910030561426857,6778.57,null,8700.51,1.7712996134709342,15411.21,null,22189.78]
[null,"December",null,11883.08,3.3395988245471715,39684.720000000001,null,11883.08,0.77909935807888198,9258.1,null,11883.08,1.7712991917920271,21048.49,null,30306.590000000004]
[]
[null,"Total",null,{"$f":"SUM(D38:D49)","v":161606.06999999998},{"$f":"IF(D51<>0,F51/D51,0)","v":3.3452526876001629},{"$f":"SUM(F38:F49)","v":540613.14},null,{"$f":"SUM(H38:H49)","v":162503.90999999997},{"$f":"IF(H51<>0,J51/H51,0)","v":0.77978234492942378},{"$f":"SUM(J38:J49)","v":126717.68000000002},null,{"$f":"SUM(L38:L49)","v":162503.90999999997},{"$f":"IF(L51<>0,N51/L51,0)","v":1.7736646459768264},{"$f":"SUM(N38:N49)","v":288227.44},null,{"$f":"SUM(P38:P49)","v":414945.12000000005}]
[]
[null,"Add Extra Host Here (I)",null,"Network",null,null,null,"Line Connection",null,null,null,"Transformation Connection",null,null,null,"Total Line"]
[null,"(if needed)"]
[null,"Month",null,"Units Billed","Rate","Amount",null,"Units Billed","Rate","Amount",null,"Units Billed","Rate","Amount",null,"Amount"]
[]
[null,"January",null,null,{"$f":"IF(D57<>0,F57/D57,0)","v":0},null,null,null,{"$f":"IF(H57<>0,J57/H57,0)","v":0},null,null,null,{"$f":"IF(L57<>0,N57/L57,0)","v":0},null,null,{"$f":"J57+N57","v":0}]
[null,"February",null,null,0,null,null,null,0,null,null,null,0,null,null,0]
[null,"March",null,null,0,null,null,null,0,null,null,null,0,null,null,0]
[null,"April",null,null,0,null,null,null,0,null,null,null,0,null,null,0]
[null,"May",null,null,0,null,null,null,0,null,null,null,0,null,null,0]
[null,"June",null,null,0,null,null,null,0,null,null,null,0,null,null,0]
[null,"July",null,null,0,null,null,null,0,null,null,null,0,null,null,0]
[null,"August",null,null,0,null,null,null,0,null,null,null,0,null,null,0]
[null,"September",null,null,0,null,null,null,0,null,null,null,0,null,null,0]
[null,"October",null,null,0,null,null,null,0,null,null,null,0,null,null,0]
[null,"November",null,null,0,null,null,null,0,null,null,null,0,null,null,0]
[null,"December",null,null,0,null,null,null,0,null,null,null,0,null,null,0]
[]
[null,"Total",null,{"$f":"SUM(D57:D68)","v":0},{"$f":"IF(D70<>0,F70/D70,0)","v":0},{"$f":"SUM(F57:F68)","v":0},null,{"$f":"SUM(H57:H68)","v":0},{"$f":"IF(H70<>0,J70/H70,0)","v":0},{"$f":"SUM(J57:J68)","v":0},null,{"$f":"SUM(L57:L68)","v":0},{"$f":"IF(L70<>0,N70/L70,0)","v":0},{"$f":"SUM(N57:N68)","v":0},null,{"$f":"SUM(P57:P68)","v":0}]
[]
[null,"Add Extra Host Here (II)",null,"Network",null,null,null,"Line Connection",null,null,null,"Transformation Connection",null,null,null,"Total Line"]
[null,"(if needed)"]
[null,"Month",null,"Units Billed","Rate","Amount",null,"Units Billed","Rate","Amount",null,"Units Billed","Rate","Amount",null,"Amount"]
[]
[null,"January",null,null,{"$f":"IF(D76<>0,F76/D76,0)","v":0},null,null,null,{"$f":"IF(H76<>0,J76/H76,0)","v":0},null,null,null,{"$f":"IF(L76<>0,N76/L76,0)","v":0},null,null,{"$f":"J76+N76","v":0}]
[null,"February",null,null,0,null,null,null,0,null,null,null,0,null,null,0]
[null,"March",null,null,0,null,null,null,0,null,null,null,0,null,null,0]
[null,"April",null,null,0,null,null,null,0,null,null,null,0,null,null,0]
[null,"May",null,null,0,null,null,null,0,null,null,null,0,null,null,0]
[null,"June",null,null,0,null,null,null,0,null,null,null,0,null,null,0]
[null,"July",null,null,0,null,null,null,0,null,null,null,0,null,null,0]
[null,"August",null,null,0,null,null,null,0,null,null,null,0,null,null,0]
[null,"September",null,null,0,null,null,null,0,null,null,null,0,null,null,0]
[null,"October",null,null,0,null,null,null,0,null,null,null,0,null,null,0]
[null,"November",null,null,0,null,null,null,0,null,null,null,0,null,null,0]
[null,"December",null,null,0,null,null,null,0,null,null,null,0,null,null,0]
[]
[null,"Total",null,{"$f":"SUM(D76:D87)","v":0},{"$f":"IF(D89<>0,F89/D89,0)","v":0},{"$f":"SUM(F76:F87)","v":0},null,{"$f":"SUM(H76:H87)","v":0},{"$f":"IF(H89<>0,J89/H89,0)","v":0},{"$f":"SUM(J76:J87)","v":0},null,{"$f":"SUM(L76:L87)","v":0},{"$f":"IF(L89<>0,N89/L89,0)","v":0},{"$f":"SUM(N76:N87)","v":0},null,{"$f":"SUM(P76:P87)","v":0}]
[]
[null,"Total",null,"Network",null,null,null,"Line Connection",null,null,null,"Transformation Connection",null,null,null,"Total Line"]
[]
[null,"Month",null,"Units Billed","Rate","Amount",null,"Units Billed","Rate","Amount",null,"Units Billed","Rate","Amount",null,"Amount"]
[]
[null,"January",null,{"$f":"D19+D38+D57+D76","v":586566.92000000004},{"$f":"IF(D95<>0,F95/D95,0)","v":3.654674900521155},{"$f":"F19+F38+F57+F76","v":2143711.4000000004},null,{"$f":"H19+H38+H57+H76","v":610823.92000000004},{"$f":"IF(H95<>0,J95/H95,0)","v":0.86830646710757486},{"$f":"J19+J38+J57+J76","v":530382.36},null,{"$f":"L19+L38+L57+L76","v":527148.92000000004},{"$f":"IF(L95<>0,N95/L95,0)","v":2.0147845697948124},{"$f":"N19+N38+N57+N76","v":1062091.51},null,{"$f":"J95+N95","v":1592473.87}]
[null,"February",null,{"$f":"D20+D39+D58+D77","v":586004.47},3.6534693498157109,{"$f":"F20+F39+F58+F77","v":2140949.37},null,{"$f":"H20+H39+H58+H77","v":610297.63},0.86819277014069351,{"$f":"J20+J39+J58+J77","v":529855.99},null,{"$f":"L20+L39+L58+L77","v":525462.63},2.0142571889460528,{"$f":"N20+N39+N58+N77","v":1058416.8799999999},null,1588272.8699999999]
[null,"March",null,586397.06999999983,3.6537924720531096,2142573.1999999997,null,606616.81999999995,0.86822838179791995,526681.94000000006,null,525917.81999999995,2.0144091143365328,1059413.6499999999,null,1586095.5899999999]
[null,"April",null,548781.59,3.6532288920260609,2004824.76,null,581274.52,0.86814773852464744,504632.16,null,508021.52,2.0142015440605743,1023257.73,null,1527889.89]
[null,"May",null,650055.79,3.6540549850344384,2375339.6,null,704835.79,0.868444435830933,612110.72,null,601826.79,2.0150155661897338,1212690.3500000001,null,1824801.07]
[null,"June",null,797997.72,3.6496485102739391,2912411.19,null,822675.72,0.86715129990708861,713384.32000000007,null,708397.72,2.0109487083047077,1424551.48,null,2137935.7999999998]
[null,"July",null,816952.61,3.6554903594714023,2986362.39,null,835641.61,0.8687491997915231,725962.98,null,716676.61,2.0160097732225419,1444827.05,null,2170790.0300000003]
[null,"August",null,827841.81999999983,3.6554540213974702,3026137.71,null,856767.82,0.86875381243894068,744320.31,null,735998.82,2.0160309903757732,1483796.4300000002,null,2228116.7400000002]
[null,"September",null,830523.01,3.65550566744683,3035981.5700000003,null,842827.01,0.86874353967369888,732200.52,null,719236.01,2.0159716280056665,1449959.39,null,2182159.91]
[null,"October",null,564094.48,3.6481962915148545,2057927.3900000001,null,588834.48,0.86679190389801897,510396.95999999996,null,514405.48,2.0099527516697528,1033930.71,null,1544327.67]
[null,"November",null,560978.51,3.6550307426214954,2050393.7,null,580272.51,0.86863706502312166,504046.21,null,499907.51,2.0156715589249701,1007649.35,null,1511695.56]
[null,"December",null,589706.07999999996,3.6535436433010839,2154516.9000000004,null,616990.07999999996,0.86824927557992504,535701.18999999994,null,532210.07999999996,2.0144470581992735,1072109.03,null,1607810.22]
[]
[null,"Total",null,{"$f":"SUM(D95:D106)","v":7945900.0700000003},{"$f":"IF(D108<>0,F108/D108,0)","v":3.6535985759005398},{"$f":"SUM(F95:F106)","v":29031129.18},null,{"$f":"SUM(H95:H106)","v":8257857.9100000001},{"$f":"IF(H108<>0,J108/H108,0)","v":0.86822463381426718},{"$f":"SUM(J95:J106)","v":7169675.6600000001},null,{"$f":"SUM(L95:L106)","v":7115209.9100000001},{"$f":"IF(L108<>0,N108/L108,0)","v":2.0143739596292525},{"$f":"SUM(N95:N106)","v":14332693.559999999},null,{"$f":"SUM(P95:P106)","v":21502369.220000003}]
[]
[null,null,null,null,null,null,null,null,null,null,null,null,null,"Low Voltage Switchgear Credit (if applicable)",null,{"$f":"'12. RTSR-UTRs & Sub-Tx'!F68","v":0}]
[]
[null,null,null,null,null,null,null,null,null,null,null,null,null,"Total including deduction for Low Voltage Switchgear Credit",null,{"$f":"P108+P110","v":21502369.220000003}]

{"sheet":"14. RTSR-Current Wholesale","index":19,"n_rows":113,"n_cols":16,"rows_kept":113,"cut":false,"hidden":false,"merged":[[1,1,8,9],[92,3,92,5],[92,7,92,9],[92,11,92,13],[72,3,72,5],[72,7,72,9],[72,11,72,13],[91,3,91,5],[91,7,91,9],[91,11,91,13],[34,3,34,5],[34,7,34,9],[34,11,34,13],[53,3,53,5],[53,7,53,9],[53,11,53,13],[12,1,12,11],[15,3,15,5],[15,7,15,9],[15,11,15,13],[16,3,16,5],[16,7,16,9],[16,11,16,13]]}
["Back to Index"]
[null,"INCENTIVE REGULATION MODEL FOR 2018 FILERS"]
[]
[]
[]
[]
[]
[]
[]
[]
[]
[]
[null,"The purpose of this sheet is to calculate the expected billing when current 2017 Uniform Transmission Rates are applied against historical 2016 transmission units."]
[]
[]
[null,"IESO",null,"Network",null,null,null,"Line Connection",null,null,null,"Transformation Connection",null,null,null,"Total Line"]
[]
[null,"Month",null,"Units Billed","Rate","Amount",null,"Units Billed","Rate","Amount",null,"Units Billed","Rate","Amount",null,"Amount"]
[]
[null,"January",null,{"$f":"'13. RTSR-Historic Wholesale'!D19","v":573967},{"$f":"'12. RTSR-UTRs & Sub-Tx'!H16","v":3.66},{"$f":"D20*E20","v":2100719.2200000002},null,{"$f":"'13. RTSR-Historic Wholesale'!H19","v":598224},{"$f":"'12. RTSR-UTRs & Sub-Tx'!H18","v":0.87},{"$f":"H20*I20","v":520454.88},null,{"$f":"'13. RTSR-Historic Wholesale'!L19","v":514549},{"$f":"'12. RTSR-UTRs & Sub-Tx'!H20","v":2.02},{"$f":"L20*M20","v":1039388.98},null,{"$f":"J20+N20","v":1559843.8599999999}]
[null,"February",null,{"$f":"'13. RTSR-Historic Wholesale'!D20","v":574060},{"$f":"E20","v":3.66},{"$f":"D21*E21","v":2101059.6},null,{"$f":"'13. RTSR-Historic Wholesale'!H20","v":598164},{"$f":"I20","v":0.87},{"$f":"H21*I21","v":520402.68},null,{"$f":"'13. RTSR-Historic Wholesale'!L20","v":513329},{"$f":"M20","v":2.02},{"$f":"L21*M21","v":1036924.58},null,1557327.26]
[null,"March",null,{"$f":"'13. RTSR-Historic Wholesale'!D21","v":575035.99999999988},{"$f":"E21","v":3.66},2104631.7599999998,null,{"$f":"'13. RTSR-Historic Wholesale'!H21","v":594794},{"$f":"I21","v":0.87},517470.77999999997,null,{"$f":"'13. RTSR-Historic Wholesale'!L21","v":514095},{"$f":"M21","v":2.02},1038471.9,null,1555942.68]
[null,"April",null,{"$f":"'13. RTSR-Historic Wholesale'!D22","v":537184},3.66,1966093.4400000002,null,{"$f":"'13. RTSR-Historic Wholesale'!H22","v":569430},0.87,495404.1,null,{"$f":"'13. RTSR-Historic Wholesale'!L22","v":496177},2.02,1002277.54,null,1497681.6400000001]
[null,"May",null,{"$f":"'13. RTSR-Historic Wholesale'!D23","v":637994},3.66,2335058.04,null,{"$f":"'13. RTSR-Historic Wholesale'!H23","v":692774},0.87,602713.38,null,{"$f":"'13. RTSR-Historic Wholesale'!L23","v":589765},2.02,1191325.3,null,1794038.6800000002]
[null,"June",null,{"$f":"'13. RTSR-Historic Wholesale'!D24","v":772216},3.66,2826310.56,null,{"$f":"'13. RTSR-Historic Wholesale'!H24","v":796894},0.87,693297.78,null,{"$f":"'13. RTSR-Historic Wholesale'!L24","v":682616},2.02,1378884.32,null,2072182.1]
[null,"July",null,{"$f":"'13. RTSR-Historic Wholesale'!D25","v":805454},3.66,2947961.64,null,{"$f":"'13. RTSR-Historic Wholesale'!H25","v":824143},0.87,717004.41,null,{"$f":"'13. RTSR-Historic Wholesale'!L25","v":705178},2.02,1424459.56,null,2141463.9700000002]
[null,"August",null,{"$f":"'13. RTSR-Historic Wholesale'!D26","v":816095.99999999988},3.66,2986911.36,null,{"$f":"'13. RTSR-Historic Wholesale'!H26","v":845022},0.87,735169.14,null,{"$f":"'13. RTSR-Historic Wholesale'!L26","v":724253},2.02,1462991.06,null,2198160.2000000002]
[null,"September",null,{"$f":"'13. RTSR-Historic Wholesale'!D27","v":818873},3.66,2997075.18,null,{"$f":"'13. RTSR-Historic Wholesale'!H27","v":831177},0.87,723123.99,null,{"$f":"'13. RTSR-Historic Wholesale'!L27","v":707586},2.02,1429323.72,null,2152447.71]
[null,"October",null,{"$f":"'13. RTSR-Historic Wholesale'!D28","v":543313},3.66,1988525.58,null,{"$f":"'13. RTSR-Historic Wholesale'!H28","v":568053},0.87,494206.11,null,{"$f":"'13. RTSR-Historic Wholesale'!L28","v":493624},2.02,997120.48,null,1491326.5899999999]
[null,"November",null,{"$f":"'13. RTSR-Historic Wholesale'!D29","v":552278},3.66,2021337.48,null,{"$f":"'13. RTSR-Historic Wholesale'!H29","v":571572},0.87,497267.64,null,{"$f":"'13. RTSR-Historic Wholesale'!L29","v":491207},2.02,992238.14,null,1489505.78]
[null,"December",null,{"$f":"'13. RTSR-Historic Wholesale'!D30","v":577823},3.66,2114832.1800000002,null,{"$f":"'13. RTSR-Historic Wholesale'!H30","v":605107},0.87,526443.09,null,{"$f":"'13. RTSR-Historic Wholesale'!L30","v":520327},2.02,1051060.54,null,1577503.63]
[]
[null,"Total",null,{"$f":"SUM(D20:D31)","v":7784294},{"$f":"IF(D33<>0,F33/D33,0)","v":3.66},{"$f":"SUM(F20:F31)","v":28490516.040000003},null,{"$f":"SUM(H20:H31)","v":8095354},{"$f":"IF(H33<>0,J33/H33,0)","v":0.87},{"$f":"SUM(J20:J31)","v":7042957.9799999995},null,{"$f":"SUM(L20:L31)","v":6952706},{"$f":"IF(L33<>0,N33/L33,0)","v":2.02},{"$f":"SUM(N20:N31)","v":14044466.120000001},null,{"$f":"SUM(P20:P31)","v":21087424.100000001}]
[]
[null,"Hydro One",null,"Network",null,null,null,"Line Connection",null,null,null,"Transformation Connection",null,null,null,"Total Line"]
[]
[null,"Month",null,"Units Billed","Rate","Amount",null,"Units Billed","Rate","Amount",null,"Units Billed","Rate","Amount",null,"Amount"]
[]
[null,"January",null,{"$f":"'13. RTSR-Historic Wholesale'!D38","v":12599.92},{"$f":"'12. RTSR-UTRs & Sub-Tx'!H29","v":3.1941999999999999},{"$f":"D39*E39","v":40246.664464000001},null,{"$f":"'13. RTSR-Historic Wholesale'!H38","v":12599.92},{"$f":"'12. RTSR-UTRs & Sub-Tx'!H31","v":0.77100000000000002},{"$f":"H39*I39","v":9714.5383199999997},null,{"$f":"'13. RTSR-Historic Wholesale'!L38","v":12599.92},{"$f":"'12. RTSR-UTRs & Sub-Tx'!H33","v":1.7493000000000001},{"$f":"L39*M39","v":22041.040056000002},null,{"$f":"J39+N39","v":31755.578376000001}]
[null,"February",null,{"$f":"'13. RTSR-Historic Wholesale'!D39","v":11944.47},{"$f":"E39","v":3.1941999999999999},{"$f":"D40*E40","v":38153.026073999994},null,{"$f":"'13. RTSR-Historic Wholesale'!H39","v":12133.63},{"$f":"I39","v":0.77100000000000002},{"$f":"H40*I40","v":9355.02873},null,{"$f":"'13. RTSR-Historic Wholesale'!L39","v":12133.63},{"$f":"M39","v":1.7493000000000001},{"$f":"L40*M40","v":21225.358959000001},null,30580.387689000003]
[null,"March",null,{"$f":"'13. RTSR-Historic Wholesale'!D40","v":11361.07},{"$f":"E40","v":3.1941999999999999},36289.529794000002,null,{"$f":"'13. RTSR-Historic Wholesale'!H40","v":11822.82},{"$f":"I40","v":0.77100000000000002},9115.3942200000001,null,{"$f":"'13. RTSR-Historic Wholesale'!L40","v":11822.82},{"$f":"M40","v":1.7493000000000001},20681.659026000001,null,29797.053246000003]
[null,"April",null,{"$f":"'13. RTSR-Historic Wholesale'!D41","v":11597.59},3.1941999999999999,37045.021977999997,null,{"$f":"'13. RTSR-Historic Wholesale'!H41","v":11844.52},0.77100000000000002,9132.1249200000002,null,{"$f":"'13. RTSR-Historic Wholesale'!L41","v":11844.52},{"$f":"M41","v":1.7493000000000001},20719.618836000001,null,29851.743756000003]
[null,"May",null,{"$f":"'13. RTSR-Historic Wholesale'!D42","v":12061.79},3.1941999999999999,38527.769617999998,null,{"$f":"'13. RTSR-Historic Wholesale'!H42","v":12061.79},0.77100000000000002,9299.6400900000008,null,{"$f":"'13. RTSR-Historic Wholesale'!L42","v":12061.79},1.7493000000000001,21099.689247000002,null,30399.329337000003]
[null,"June",null,{"$f":"'13. RTSR-Historic Wholesale'!D43","v":25781.72},3.1941999999999999,82351.970023999995,null,{"$f":"'13. RTSR-Historic Wholesale'!H43","v":25781.72},0.77100000000000002,19877.706120000003,null,{"$f":"'13. RTSR-Historic Wholesale'!L43","v":25781.72},1.7493000000000001,45099.962796000007,null,64977.66891600001]
[null,"July",null,{"$f":"'13. RTSR-Historic Wholesale'!D44","v":11498.61},3.1941999999999999,36728.860062,null,{"$f":"'13. RTSR-Historic Wholesale'!H44","v":11498.61},0.77100000000000002,8865.4283100000011,null,{"$f":"'13. RTSR-Historic Wholesale'!L44","v":11498.61},1.7493000000000001,20114.518473000004,null,28979.946783000007]
[null,"August",null,{"$f":"'13. RTSR-Historic Wholesale'!D45","v":11745.82},3.1941999999999999,37518.498243999995,null,{"$f":"'13. RTSR-Historic Wholesale'!H45","v":11745.82},0.77100000000000002,9056.0272199999999,null,{"$f":"'13. RTSR-Historic Wholesale'!L45","v":11745.82},1.7493000000000001,20546.962926,null,29602.990146]
[null,"September",null,{"$f":"'13. RTSR-Historic Wholesale'!D46","v":11650.01},3.1941999999999999,37212.461942000002,null,{"$f":"'13. RTSR-Historic Wholesale'!H46","v":11650.01},0.77100000000000002,8982.1577099999995,null,{"$f":"'13. RTSR-Historic Wholesale'!L46","v":11650.01},1.7493000000000001,20379.362493000001,null,29361.520203]
[null,"October",null,{"$f":"'13. RTSR-Historic Wholesale'!D47","v":20781.48},3.1941999999999999,66380.203416000004,null,{"$f":"'13. RTSR-Historic Wholesale'!H47","v":20781.48},0.77100000000000002,16022.52108,null,{"$f":"'13. RTSR-Historic Wholesale'!L47","v":20781.48},1.7493000000000001,36353.042964,null,52375.564043999999]
[null,"November",null,{"$f":"'13. RTSR-Historic Wholesale'!D48","v":8700.51},3.1941999999999999,27791.169042000001,null,{"$f":"'13. RTSR-Historic Wholesale'!H48","v":8700.51},0.77100000000000002,6708.09321,null,{"$f":"'13. RTSR-Historic Wholesale'!L48","v":8700.51},1.7493000000000001,15219.802143000001,null,21927.895353]
[null,"December",null,{"$f":"'13. RTSR-Historic Wholesale'!D49","v":11883.08},3.1941999999999999,37956.934135999996,null,{"$f":"'13. RTSR-Historic Wholesale'!H49","v":11883.08},0.77100000000000002,9161.8546800000004,null,{"$f":"'13. RTSR-Historic Wholesale'!L49","v":11883.08},1.7493000000000001,20787.071844000002,null,29948.926524000002]
[]
[null,"Total",null,{"$f":"SUM(D39:D50)","v":161606.06999999998},{"$f":"IF(D52<>0,F52/D52,0)","v":3.1942000000000008},{"$f":"SUM(F39:F50)","v":516202.10879400006},null,{"$f":"SUM(H39:H50)","v":162503.90999999997},{"$f":"IF(H52<>0,J52/H52,0)","v":0.77100000000000024},{"$f":"SUM(J39:J50)","v":125290.51461000003},null,{"$f":"SUM(L39:L50)","v":162503.90999999997},{"$f":"IF(L52<>0,N52/L52,0)","v":1.7493000000000005},{"$f":"SUM(N39:N50)","v":284268.08976300003},null,{"$f":"SUM(P39:P50)","v":409558.6043730001}]
[]
[null,{"$f":"'[1]12. RTSR - Historical Wholesale'!B53","v":"Add Extra Host Here (I)"},null,"Network",null,null,null,"Line Connection",null,null,null,"Transformation Connection",null,null,null,"Total Line"]
[]
[null,"Month",null,"Units Billed","Rate","Amount",null,"Units Billed","Rate","Amount",null,"Units Billed","Rate","Amount",null,"Amount"]
[]
[null,"January",null,{"$f":"'13. RTSR-Historic Wholesale'!D57","v":0},{"$f":"'12. RTSR-UTRs & Sub-Tx'!H44","v":0},{"$f":"D58*E58","v":0},null,{"$f":"'13. RTSR-Historic Wholesale'!H57","v":0},{"$f":"'12. RTSR-UTRs & Sub-Tx'!H46","v":0},{"$f":"H58*I58","v":0},null,{"$f":"'13. RTSR-Historic Wholesale'!L57","v":0},{"$f":"'12. RTSR-UTRs & Sub-Tx'!H48","v":0},{"$f":"L58*M58","v":0},null,{"$f":"J58+N58","v":0}]
[null,"February",null,{"$f":"'13. RTSR-Historic Wholesale'!D58","v":0},{"$f":"E58","v":0},{"$f":"D59*E59","v":0},null,{"$f":"'13. RTSR-Historic Wholesale'!H58","v":0},{"$f":"I58","v":0},{"$f":"H59*I59","v":0},null,{"$f":"'13. RTSR-Historic Wholesale'!L58","v":0},{"$f":"M58","v":0},{"$f":"L59*M59","v":0},null,0]
[null,"March",null,{"$f":"'13. RTSR-Historic Wholesale'!D59","v":0},{"$f":"E59","v":0},0,null,{"$f":"'13. RTSR-Historic Wholesale'!H59","v":0},{"$f":"I59","v":0},0,null,{"$f":"'13. RTSR-Historic Wholesale'!L59","v":0},{"$f":"M59","v":0},0,null,0]
[null,"April",null,{"$f":"'13. RTSR-Historic Wholesale'!D60","v":0},0,0,null,{"$f":"'13. RTSR-Historic Wholesale'!H60","v":0},0,0,null,{"$f":"'13. RTSR-Historic Wholesale'!L60","v":0},0,0,null,0]
[null,"May",null,{"$f":"'13. RTSR-Historic Wholesale'!D61","v":0},0,0,null,{"$f":"'13. RTSR-Historic Wholesale'!H61","v":0},0,0,null,{"$f":"'13. RTSR-Historic Wholesale'!L61","v":0},0,0,null,0]
[null,"June",null,{"$f":"'13. RTSR-Historic Wholesale'!D62","v":0},0,0,null,{"$f":"'13. RTSR-Historic Wholesale'!H62","v":0},0,0,null,{"$f":"'13. RTSR-Historic Wholesale'!L62","v":0},0,0,null,0]
[null,"July",null,{"$f":"'13. RTSR-Historic Wholesale'!D63","v":0},0,0,null,{"$f":"'13. RTSR-Historic Wholesale'!H63","v":0},0,0,null,{"$f":"'13. RTSR-Historic Wholesale'!L63","v":0},0,0,null,0]
[null,"August",null,{"$f":"'13. RTSR-Historic Wholesale'!D64","v":0},0,0,null,{"$f":"'13. RTSR-Historic Wholesale'!H64","v":0},0,0,null,{"$f":"'13. RTSR-Historic Wholesale'!L64","v":0},0,0,null,0]
[null,"September",null,{"$f":"'13. RTSR-Historic Wholesale'!D65","v":0},0,0,null,{"$f":"'13. RTSR-Historic Wholesale'!H65","v":0},0,0,null,{"$f":"'13. RTSR-Historic Wholesale'!L65","v":0},0,0,null,0]
[null,"October",null,{"$f":"'13. RTSR-Historic Wholesale'!D66","v":0},0,0,null,{"$f":"'13. RTSR-Historic Wholesale'!H66","v":0},0,0,null,{"$f":"'13. RTSR-Historic Wholesale'!L66","v":0},0,0,null,0]
[null,"November",null,{"$f":"'13. RTSR-Historic Wholesale'!D67","v":0},0,0,null,{"$f":"'13. RTSR-Historic Wholesale'!H67","v":0},0,0,null,{"$f":"'13. RTSR-Historic Wholesale'!L67","v":0},0,0,null,0]
[null,"December",null,{"$f":"'13. RTSR-Historic Wholesale'!D68","v":0},0,0,null,{"$f":"'13. RTSR-Historic Wholesale'!H68","v":0},0,0,null,{"$f":"'13. RTSR-Historic Wholesale'!L68","v":0},0,0,null,0]
[]
[null,"Total",null,{"$f":"SUM(D58:D69)","v":0},{"$f":"IF(D71<>0,F71/D71,0)","v":0},{"$f":"SUM(F58:F69)","v":0},null,{"$f":"SUM(H58:H69)","v":0},{"$f":"IF(H71<>0,J71/H71,0)","v":0},{"$f":"SUM(J58:J69)","v":0},null,{"$f":"SUM(L58:L69)","v":0},{"$f":"IF(L71<>0,N71/L71,0)","v":0},{"$f":"SUM(N58:N69)","v":0},null,{"$f":"SUM(P58:P69)","v":0}]
[]
[null,{"$f":"'[1]12. RTSR - Historical Wholesale'!B72","v":"Add Extra Host Here (II)"},null,"Network",null,null,null,"Line Connection",null,null,null,"Transformation Connection",null,null,null,"Total Line"]
[]
[null,"Month",null,"Units Billed","Rate","Amount",null,"Units Billed","Rate","Amount",null,"Units Billed","Rate","Amount",null,"Amount"]
[]
[null,"January",null,{"$f":"'13. RTSR-Historic Wholesale'!D76","v":0},{"$f":"'12. RTSR-UTRs & Sub-Tx'!H59","v":0},{"$f":"D77*E77","v":0},null,{"$f":"'13. RTSR-Historic Wholesale'!H76","v":0},{"$f":"'12. RTSR-UTRs & Sub-Tx'!H61","v":0},{"$f":"H77*I77","v":0},null,{"$f":"'13. RTSR-Historic Wholesale'!L76","v":0},{"$f":"'12. RTSR-UTRs & Sub-Tx'!H63","v":0},{"$f":"L77*M77","v":0},null,{"$f":"J77+N77","v":0}]
[null,"February",null,{"$f":"'13. RTSR-Historic Wholesale'!D77","v":0},{"$f":"E77","v":0},{"$f":"D78*E78","v":0},null,{"$f":"'13. RTSR-Historic Wholesale'!H77","v":0},{"$f":"I77","v":0},{"$f":"H78*I78","v":0},null,{"$f":"'13. RTSR-Historic Wholesale'!L77","v":0},{"$f":"M77","v":0},{"$f":"L78*M78","v":0},null,0]
[null,"March",null,{"$f":"'13. RTSR-Historic Wholesale'!D78","v":0},{"$f":"E78","v":0},0,null,{"$f":"'13. RTSR-Historic Wholesale'!H78","v":0},{"$f":"I78","v":0},0,null,{"$f":"'13. RTSR-Historic Wholesale'!L78","v":0},{"$f":"M78","v":0},0,null,0]
[null,"April",null,{"$f":"'13. RTSR-Historic Wholesale'!D79","v":0},0,0,null,{"$f":"'13. RTSR-Historic Wholesale'!H79","v":0},0,0,null,{"$f":"'13. RTSR-Historic Wholesale'!L79","v":0},{"$f":"M79","v":0},0,null,0]
[null,"May",null,{"$f":"'13. RTSR-Historic Wholesale'!D80","v":0},0,0,null,{"$f":"'13. RTSR-Historic Wholesale'!H80","v":0},0,0,null,{"$f":"'13. RTSR-Historic Wholesale'!L80","v":0},0,0,null,0]
[null,"June",null,{"$f":"'13. RTSR-Historic Wholesale'!D81","v":0},0,0,null,{"$f":"'13. RTSR-Historic Wholesale'!H81","v":0},0,0,null,{"$f":"'13. RTSR-Historic Wholesale'!L81","v":0},0,0,null,0]
[null,"July",null,{"$f":"'13. RTSR-Historic Wholesale'!D82","v":0},0,0,null,{"$f":"'13. RTSR-Historic Wholesale'!H82","v":0},0,0,null,{"$f":"'13. RTSR-Historic Wholesale'!L82","v":0},0,0,null,0]
[null,"August",null,{"$f":"'13. RTSR-Historic Wholesale'!D83","v":0},0,0,null,{"$f":"'13. RTSR-Historic Wholesale'!H83","v":0},0,0,null,{"$f":"'13. RTSR-Historic Wholesale'!L83","v":0},0,0,null,0]
[null,"September",null,{"$f":"'13. RTSR-Historic Wholesale'!D84","v":0},0,0,null,{"$f":"'13. RTSR-Historic Wholesale'!H84","v":0},0,0,null,{"$f":"'13. RTSR-Historic Wholesale'!L84","v":0},0,0,null,0]
[null,"October",null,{"$f":"'13. RTSR-Historic Wholesale'!D85","v":0},0,0,null,{"$f":"'13. RTSR-Historic Wholesale'!H85","v":0},0,0,null,{"$f":"'13. RTSR-Historic Wholesale'!L85","v":0},0,0,null,0]
[null,"November",null,{"$f":"'13. RTSR-Historic Wholesale'!D86","v":0},0,0,null,{"$f":"'13. RTSR-Historic Wholesale'!H86","v":0},0,0,null,{"$f":"'13. RTSR-Historic Wholesale'!L86","v":0},0,0,null,0]
[null,"December",null,{"$f":"'13. RTSR-Historic Wholesale'!D87","v":0},0,0,null,{"$f":"'13. RTSR-Historic Wholesale'!H87","v":0},0,0,null,{"$f":"'13. RTSR-Historic Wholesale'!L87","v":0},0,0,null,0]
[]
[null,"Total",null,{"$f":"SUM(D77:D88)","v":0},{"$f":"IF(D90<>0,F90/D90,0)","v":0},{"$f":"SUM(F77:F88)","v":0},null,{"$f":"SUM(H77:H88)","v":0},{"$f":"IF(H90<>0,J90/H90,0)","v":0},{"$f":"SUM(J77:J88)","v":0},null,{"$f":"SUM(L77:L88)","v":0},{"$f":"IF(L90<>0,N90/L90,0)","v":0},{"$f":"SUM(N77:N88)","v":0},null,{"$f":"SUM(P77:P88)","v":0}]
[]
[null,"Total",null,"Network",null,null,null,"Line Connection",null,null,null,"Transformation Connection",null,null,null,"Total Line"]
[]
[null,"Month",null,"Units Billed","Rate","Amount",null,"Units Billed","Rate","Amount",null,"Units Billed","Rate","Amount",null,"Amount"]
[]
[null,"January",null,{"$f":"D20+D39+D58+D77","v":586566.92000000004},{"$f":"IF(D96<>0,F96/D96,0)","v":3.6499942486766903},{"$f":"F20+F39+F58+F77","v":2140965.8844640004},null,{"$f":"H20+H39+H58+H77","v":610823.92000000004},{"$f":"IF(H96<>0,J96/H96,0)","v":0.86795785325499375},{"$f":"J20+J39+J58+J77","v":530169.41832000006},null,{"$f":"L20+L39+L58+L77","v":527148.92000000004},{"$f":"IF(L96<>0,N96/L96,0)","v":2.013529725254867},{"$f":"N20+N39+N58+N77","v":1061430.020056},null,{"$f":"J96+N96","v":1591599.4383760002}]
[null,"February",null,{"$f":"D21+D40+D59+D78","v":586004.47},3.6505056455866289,{"$f":"F21+F40+F59+F78","v":2139212.6260740003},null,{"$f":"H21+H40+H59+H78","v":610297.63},0.86803173187810012,{"$f":"J21+J40+J59+J78","v":529757.70872999995},null,{"$f":"L21+L40+L59+L78","v":525462.63},2.0137491774800425,{"$f":"N21+N40+N59+N78","v":1058149.9389589999},null,1587907.6476889998]
[null,"March",null,586397.06999999983,3.6509754214733721,2140921.2897939999,null,606616.81999999995,0.86807051314534922,526586.17421999993,null,525917.81999999995,2.0139145675383281,1059153.5590260001,null,1585739.733246]
[null,"April",null,548781.59,3.6501560884686386,2003138.4619780001,null,581274.52,0.8679826958869622,504536.22491999995,null,508021.52,2.0136886304265222,1022997.158836,null,1527533.3837560001]
[null,"May",null,650055.79,3.6513570775486821,2373585.8096179999,null,704835.79,0.86830582211212626,612013.02009000001,null,601826.79,2.0145746407317628,1212424.9892470001,null,1824438.0093370001]
[null,"June",null,797997.72,3.6449509279600449,2908662.530024,null,822675.72,0.86689745276547125,713175.48612000002,null,708397.72,2.0101480320913514,1423984.2827960001,null,2137159.7689160001]
[null,"July",null,816952.61,3.6534438638515399,2984690.500062,null,835641.61,0.86863773850371095,725869.83831000002,null,716676.61,2.0156567945938688,1444574.0784730001,null,2170443.9167830003]
[null,"August",null,827841.81999999983,3.6533910043877715,3024429.858244,null,856767.82,0.86864276394041051,744225.16722000006,null,735998.82,2.0156798932449376,1483538.0229259999,null,2227763.1901460001]
[null,"September",null,830523.01,3.6534660754817616,3034287.641942,null,842827.01,0.86863156854690726,732106.14770999993,null,719236.01,2.0156152672236196,1449703.082493,null,2181809.2302029999]
[null,"October",null,564094.48,3.6428397303515543,2054905.7834160002,null,588834.48,0.86650603592371145,510228.63107999996,null,514405.48,2.0090639838518052,1033473.522964,null,1543702.154044]
[null,"November",null,560978.51,3.6527756634420809,2049128.6490420001,null,580272.51,0.86851561038106051,503975.73321000003,null,499907.51,2.0152886723846177,1007457.942143,null,1511433.6753529999]
[null,"December",null,589706.07999999996,3.6506137330922557,2152789.1141360002,null,616990.07999999996,0.86809328389850282,535604.94467999996,null,532210.07999999996,2.0139558646540481,1071847.6118439999,null,1607452.5565239999]
[]
[null,"Total",null,{"$f":"SUM(D96:D107)","v":7945900.0700000003},{"$f":"IF(D109<>0,F109/D109,0)","v":3.6505264215830993},{"$f":"SUM(F96:F107)","v":29006718.148793999},null,{"$f":"SUM(H96:H107)","v":8257857.9100000001},{"$f":"IF(H109<>0,J109/H109,0)","v":0.86805180868145981},{"$f":"SUM(J96:J107)","v":7168248.4946099995},null,{"$f":"SUM(L96:L107)","v":7115209.9100000001},{"$f":"IF(L109<>0,N109/L109,0)","v":2.0138174967438172},{"$f":"SUM(N96:N107)","v":14328734.209763},null,{"$f":"SUM(P96:P107)","v":21496982.704373002}]
[]
[null,null,null,null,null,null,null,null,null,null,null,null,null,"Low Voltage Switchgear Credit (if applicable)",null,{"$f":"'12. RTSR-UTRs & Sub-Tx'!H68","v":0}]
[]
[null,null,null,null,null,null,null,null,null,null,null,null,null,"Total including deduction for Low Voltage Switchgear Credit",null,{"$f":"P109+P111","v":21496982.704373002}]

{"sheet":"15. RTSR-Forecast Wholesale","index":20,"n_rows":113,"n_cols":16,"rows_kept":113,"cut":false,"hidden":false,"merged":[[1,1,8,9],[92,3,92,5],[92,7,92,9],[92,11,92,13],[72,3,72,5],[72,7,72,9],[72,11,72,13],[91,3,91,5],[91,7,91,9],[91,11,91,13],[34,3,34,5],[34,7,34,9],[34,11,34,13],[53,3,53,5],[53,7,53,9],[53,11,53,13],[12,1,12,12],[15,3,15,5],[15,7,15,9],[15,11,15,13],[16,3,16,5],[16,7,16,9],[16,11,16,13]]}
["Back to Index"]
[null,"INCENTIVE REGULATION MODEL FOR 2018 FILERS"]
[]
[]
[]
[]
[]
[]
[]
[]
[]
[]
[null,"The purpose of this sheet is to calculate the expected billing when forecasted 2018 Uniform Transmission Rates are applied against historical 2016 transmission units."]
[]
[]
[null,"IESO",null,"Network",null,null,null,"Line Connection",null,null,null,"Transformation Connection",null,null,null,"Total Line"]
[]
[null,"Month",null,"Units Billed","Rate","Amount",null,"Units Billed","Rate","Amount",null,"Units Billed","Rate","Amount",null,"Amount"]
[]
[null,"January",null,{"$f":"'13. RTSR-Historic Wholesale'!D19","v":573967},{"$f":"'12. RTSR-UTRs & Sub-Tx'!J16","v":3.61},{"$f":"D20*E20","v":2072020.8699999999},null,{"$f":"'13. RTSR-Historic Wholesale'!H19","v":598224},{"$f":"'12. RTSR-UTRs & Sub-Tx'!J18","v":0.95},{"$f":"H20*I20","v":568312.79999999993},null,{"$f":"'13. RTSR-Historic Wholesale'!L19","v":514549},{"$f":"'12. RTSR-UTRs & Sub-Tx'!J20","v":2.34},{"$f":"L20*M20","v":1204044.6599999999},null,{"$f":"J20+N20","v":1772357.46}]
[null,"February",null,{"$f":"'13. RTSR-Historic Wholesale'!D20","v":574060},{"$f":"E20","v":3.61},2072356.5999999999,null,{"$f":"'13. RTSR-Historic Wholesale'!H20","v":598164},{"$f":"I20","v":0.95},568255.79999999993,null,{"$f":"'13. RTSR-Historic Wholesale'!L20","v":513329},{"$f":"M20","v":2.34},1201189.8599999999,null,1769445.6599999997]
[null,"March",null,{"$f":"'13. RTSR-Historic Wholesale'!D21","v":575035.99999999988},3.61,2075879.9599999995,null,{"$f":"'13. RTSR-Historic Wholesale'!H21","v":594794},0.95,565054.29999999993,null,{"$f":"'13. RTSR-Historic Wholesale'!L21","v":514095},2.34,1202982.2999999998,null,1768036.5999999996]
[null,"April",null,{"$f":"'13. RTSR-Historic Wholesale'!D22","v":537184},3.61,1939234.24,null,{"$f":"'13. RTSR-Historic Wholesale'!H22","v":569430},0.95,540958.5,null,{"$f":"'13. RTSR-Historic Wholesale'!L22","v":496177},2.34,1161054.18,null,1702012.68]
[null,"May",null,{"$f":"'13. RTSR-Historic Wholesale'!D23","v":637994},3.61,2303158.34,null,{"$f":"'13. RTSR-Historic Wholesale'!H23","v":692774},0.95,658135.29999999993,null,{"$f":"'13. RTSR-Historic Wholesale'!L23","v":589765},2.34,1380050.0999999999,null,2038185.4]
[null,"June",null,{"$f":"'13. RTSR-Historic Wholesale'!D24","v":772216},3.61,2787699.76,null,{"$f":"'13. RTSR-Historic Wholesale'!H24","v":796894},0.95,757049.29999999993,null,{"$f":"'13. RTSR-Historic Wholesale'!L24","v":682616},2.34,1597321.44,null,2354370.7399999998]
[null,"July",null,{"$f":"'13. RTSR-Historic Wholesale'!D25","v":805454},3.61,2907688.94,null,{"$f":"'13. RTSR-Historic Wholesale'!H25","v":824143},0.95,782935.85,null,{"$f":"'13. RTSR-Historic Wholesale'!L25","v":705178},2.34,1650116.5199999998,null,2433052.3699999996]
[null,"August",null,{"$f":"'13. RTSR-Historic Wholesale'!D26","v":816095.99999999988},3.61,2946106.5599999996,null,{"$f":"'13. RTSR-Historic Wholesale'!H26","v":845022},0.95,802770.89999999991,null,{"$f":"'13. RTSR-Historic Wholesale'!L26","v":724253},2.34,1694752.0199999998,null,2497522.92]
[null,"September",null,{"$f":"'13. RTSR-Historic Wholesale'!D27","v":818873},3.61,2956131.53,null,{"$f":"'13. RTSR-Historic Wholesale'!H27","v":831177},0.95,789618.14999999991,null,{"$f":"'13. RTSR-Historic Wholesale'!L27","v":707586},2.34,1655751.24,null,2445369.3899999997]
[null,"October",null,{"$f":"'13. RTSR-Historic Wholesale'!D28","v":543313},3.61,1961359.93,null,{"$f":"'13. RTSR-Historic Wholesale'!H28","v":568053},0.95,539650.35,null,{"$f":"'13. RTSR-Historic Wholesale'!L28","v":493624},2.34,1155080.1599999999,null,1694730.5099999998]
[null,"November",null,{"$f":"'13. RTSR-Historic Wholesale'!D29","v":552278},3.61,1993723.5799999998,null,{"$f":"'13. RTSR-Historic Wholesale'!H29","v":571572},0.95,542993.4,null,{"$f":"'13. RTSR-Historic Wholesale'!L29","v":491207},2.34,1149424.3799999999,null,1692417.7799999998]
[null,"December",null,{"$f":"'13. RTSR-Historic Wholesale'!D30","v":577823},3.61,2085941.03,null,{"$f":"'13. RTSR-Historic Wholesale'!H30","v":605107},0.95,574851.65,null,{"$f":"'13. RTSR-Historic Wholesale'!L30","v":520327},2.34,1217565.18,null,1792416.83]
[]
[null,"Total",null,{"$f":"SUM(D20:D31)","v":7784294},{"$f":"IF(D33<>0,F33/D33,0)","v":3.61},{"$f":"SUM(F20:F31)","v":28101301.34},null,{"$f":"SUM(H20:H31)","v":8095354},{"$f":"IF(H33<>0,J33/H33,0)","v":0.95000000000000007},{"$f":"SUM(J20:J31)","v":7690586.3000000007},null,{"$f":"SUM(L20:L31)","v":6952706},{"$f":"IF(L33<>0,N33/L33,0)","v":2.34},{"$f":"SUM(N20:N31)","v":16269332.039999999},null,{"$f":"SUM(P20:P31)","v":23959918.339999996}]
[]
[null,"Hydro One",null,"Network",null,null,null,"Line Connection",null,null,null,"Transformation Connection",null,null,null,"Total Line"]
[]
[null,"Month",null,"Units Billed","Rate","Amount",null,"Units Billed","Rate","Amount",null,"Units Billed","Rate","Amount",null,"Amount"]
[]
[null,"January",null,{"$f":"'13. RTSR-Historic Wholesale'!D38","v":12599.92},{"$f":"'12. RTSR-UTRs & Sub-Tx'!J29","v":3.1941999999999999},{"$f":"D39*E39","v":40246.664464000001},null,{"$f":"'13. RTSR-Historic Wholesale'!H38","v":12599.92},{"$f":"'12. RTSR-UTRs & Sub-Tx'!J31","v":0.77100000000000002},{"$f":"H39*I39","v":9714.5383199999997},null,{"$f":"'13. RTSR-Historic Wholesale'!L38","v":12599.92},{"$f":"'12. RTSR-UTRs & Sub-Tx'!J33","v":1.7493000000000001},{"$f":"L39*M39","v":22041.040056000002},null,{"$f":"J39+N39","v":31755.578376000001}]
[null,"February",null,{"$f":"'13. RTSR-Historic Wholesale'!D39","v":11944.47},{"$f":"E39","v":3.1941999999999999},38153.026073999994,null,{"$f":"'13. RTSR-Historic Wholesale'!H39","v":12133.63},{"$f":"I39","v":0.77100000000000002},9355.02873,null,{"$f":"'13. RTSR-Historic Wholesale'!L39","v":12133.63},{"$f":"M39","v":1.7493000000000001},21225.358959000001,null,30580.387689000003]
[null,"March",null,{"$f":"'13. RTSR-Historic Wholesale'!D40","v":11361.07},3.1941999999999999,36289.529794000002,null,{"$f":"'13. RTSR-Historic Wholesale'!H40","v":11822.82},0.77100000000000002,9115.3942200000001,null,{"$f":"'13. RTSR-Historic Wholesale'!L40","v":11822.82},1.7493000000000001,20681.659026000001,null,29797.053246000003]
[null,"April",null,{"$f":"'13. RTSR-Historic Wholesale'!D41","v":11597.59},3.1941999999999999,37045.021977999997,null,{"$f":"'13. RTSR-Historic Wholesale'!H41","v":11844.52},0.77100000000000002,9132.1249200000002,null,{"$f":"'13. RTSR-Historic Wholesale'!L41","v":11844.52},1.7493000000000001,20719.618836000001,null,29851.743756000003]
[null,"May",null,{"$f":"'13. RTSR-Historic Wholesale'!D42","v":12061.79},3.1941999999999999,38527.769617999998,null,{"$f":"'13. RTSR-Historic Wholesale'!H42","v":12061.79},0.77100000000000002,9299.6400900000008,null,{"$f":"'13. RTSR-Historic Wholesale'!L42","v":12061.79},1.7493000000000001,21099.689247000002,null,30399.329337000003]
[null,"June",null,{"$f":"'13. RTSR-Historic Wholesale'!D43","v":25781.72},3.1941999999999999,82351.970023999995,null,{"$f":"'13. RTSR-Historic Wholesale'!H43","v":25781.72},0.77100000000000002,19877.706120000003,null,{"$f":"'13. RTSR-Historic Wholesale'!L43","v":25781.72},1.7493000000000001,45099.962796000007,null,64977.66891600001]
[null,"July",null,{"$f":"'13. RTSR-Historic Wholesale'!D44","v":11498.61},3.1941999999999999,36728.860062,null,{"$f":"'13. RTSR-Historic Wholesale'!H44","v":11498.61},0.77100000000000002,8865.4283100000011,null,{"$f":"'13. RTSR-Historic Wholesale'!L44","v":11498.61},1.7493000000000001,20114.518473000004,null,28979.946783000007]
[null,"August",null,{"$f":"'13. RTSR-Historic Wholesale'!D45","v":11745.82},3.1941999999999999,37518.498243999995,null,{"$f":"'13. RTSR-Historic Wholesale'!H45","v":11745.82},0.77100000000000002,9056.0272199999999,null,{"$f":"'13. RTSR-Historic Wholesale'!L45","v":11745.82},1.7493000000000001,20546.962926,null,29602.990146]
[null,"September",null,{"$f":"'13. RTSR-Historic Wholesale'!D46","v":11650.01},3.1941999999999999,37212.461942000002,null,{"$f":"'13. RTSR-Historic Wholesale'!H46","v":11650.01},0.77100000000000002,8982.1577099999995,null,{"$f":"'13. RTSR-Historic Wholesale'!L46","v":11650.01},1.7493000000000001,20379.362493000001,null,29361.520203]
[null,"October",null,{"$f":"'13. RTSR-Historic Wholesale'!D47","v":20781.48},3.1941999999999999,66380.203416000004,null,{"$f":"'13. RTSR-Historic Wholesale'!H47","v":20781.48},0.77100000000000002,16022.52108,null,{"$f":"'13. RTSR-Historic Wholesale'!L47","v":20781.48},1.7493000000000001,36353.042964,null,52375.564043999999]
[null,"November",null,{"$f":"'13. RTSR-Historic Wholesale'!D48","v":8700.51},3.1941999999999999,27791.169042000001,null,{"$f":"'13. RTSR-Historic Wholesale'!H48","v":8700.51},0.77100000000000002,6708.09321,null,{"$f":"'13. RTSR-Historic Wholesale'!L48","v":8700.51},1.7493000000000001,15219.802143000001,null,21927.895353]
[null,"December",null,{"$f":"'13. RTSR-Historic Wholesale'!D49","v":11883.08},3.1941999999999999,37956.934135999996,null,{"$f":"'13. RTSR-Historic Wholesale'!H49","v":11883.08},0.77100000000000002,9161.8546800000004,null,{"$f":"'13. RTSR-Historic Wholesale'!L49","v":11883.08},1.7493000000000001,20787.071844000002,null,29948.926524000002]
[]
[null,"Total",null,{"$f":"SUM(D39:D50)","v":161606.06999999998},{"$f":"IF(D52<>0,F52/D52,0)","v":3.1942000000000008},{"$f":"SUM(F39:F50)","v":516202.10879400006},null,{"$f":"SUM(H39:H50)","v":162503.90999999997},{"$f":"IF(H52<>0,J52/H52,0)","v":0.77100000000000024},{"$f":"SUM(J39:J50)","v":125290.51461000003},null,{"$f":"SUM(L39:L50)","v":162503.90999999997},{"$f":"IF(L52<>0,N52/L52,0)","v":1.7493000000000005},{"$f":"SUM(N39:N50)","v":284268.08976300003},null,{"$f":"SUM(P39:P50)","v":409558.6043730001}]
[]
[null,{"$f":"'[1]12. RTSR - Historical Wholesale'!B53","v":"Add Extra Host Here (I)"},null,"Network",null,null,null,"Line Connection",null,null,null,"Transformation Connection",null,null,null,"Total Line"]
[]
[null,"Month",null,"Units Billed","Rate","Amount",null,"Units Billed","Rate","Amount",null,"Units Billed","Rate","Amount",null,"Amount"]
[]
[null,"January",null,{"$f":"'13. RTSR-Historic Wholesale'!D57","v":0},{"$f":"'12. RTSR-UTRs & Sub-Tx'!J44","v":0},{"$f":"D58*E58","v":0},null,{"$f":"'13. RTSR-Historic Wholesale'!H57","v":0},{"$f":"'12. RTSR-UTRs & Sub-Tx'!J46","v":0},{"$f":"H58*I58","v":0},null,{"$f":"'13. RTSR-Historic Wholesale'!L57","v":0},{"$f":"'12. RTSR-UTRs & Sub-Tx'!J48","v":0},{"$f":"L58*M58","v":0},null,{"$f":"J58+N58","v":0}]
[null,"February",null,{"$f":"'13. RTSR-Historic Wholesale'!D58","v":0},{"$f":"E58","v":0},0,null,{"$f":"'13. RTSR-Historic Wholesale'!H58","v":0},{"$f":"I58","v":0},0,null,{"$f":"'13. RTSR-Historic Wholesale'!L58","v":0},{"$f":"M58","v":0},0,null,0]
[null,"March",null,{"$f":"'13. RTSR-Historic Wholesale'!D59","v":0},0,0,null,{"$f":"'13. RTSR-Historic Wholesale'!H59","v":0},0,0,null,{"$f":"'13. RTSR-Historic Wholesale'!L59","v":0},0,0,null,0]
[null,"April",null,{"$f":"'13. RTSR-Historic Wholesale'!D60","v":0},0,0,null,{"$f":"'13. RTSR-Historic Wholesale'!H60","v":0},0,0,null,{"$f":"'13. RTSR-Historic Wholesale'!L60","v":0},0,0,null,0]
[null,"May",null,{"$f":"'13. RTSR-Historic Wholesale'!D61","v":0},0,0,null,{"$f":"'13. RTSR-Historic Wholesale'!H61","v":0},0,0,null,{"$f":"'13. RTSR-Historic Wholesale'!L61","v":0},0,0,null,0]
[null,"June",null,{"$f":"'13. RTSR-Historic Wholesale'!D62","v":0},0,0,null,{"$f":"'13. RTSR-Historic Wholesale'!H62","v":0},0,0,null,{"$f":"'13. RTSR-Historic Wholesale'!L62","v":0},0,0,null,0]
[null,"July",null,{"$f":"'13. RTSR-Historic Wholesale'!D63","v":0},0,0,null,{"$f":"'13. RTSR-Historic Wholesale'!H63","v":0},0,0,null,{"$f":"'13. RTSR-Historic Wholesale'!L63","v":0},0,0,null,0]
[null,"August",null,{"$f":"'13. RTSR-Historic Wholesale'!D64","v":0},0,0,null,{"$f":"'13. RTSR-Historic Wholesale'!H64","v":0},0,0,null,{"$f":"'13. RTSR-Historic Wholesale'!L64","v":0},0,0,null,0]
[null,"September",null,{"$f":"'13. RTSR-Historic Wholesale'!D65","v":0},0,0,null,{"$f":"'13. RTSR-Historic Wholesale'!H65","v":0},0,0,null,{"$f":"'13. RTSR-Historic Wholesale'!L65","v":0},0,0,null,0]
[null,"October",null,{"$f":"'13. RTSR-Historic Wholesale'!D66","v":0},0,0,null,{"$f":"'13. RTSR-Historic Wholesale'!H66","v":0},0,0,null,{"$f":"'13. RTSR-Historic Wholesale'!L66","v":0},0,0,null,0]
[null,"November",null,{"$f":"'13. RTSR-Historic Wholesale'!D67","v":0},0,0,null,{"$f":"'13. RTSR-Historic Wholesale'!H67","v":0},0,0,null,{"$f":"'13. RTSR-Historic Wholesale'!L67","v":0},0,0,null,0]
[null,"December",null,{"$f":"'13. RTSR-Historic Wholesale'!D68","v":0},0,0,null,{"$f":"'13. RTSR-Historic Wholesale'!H68","v":0},0,0,null,{"$f":"'13. RTSR-Historic Wholesale'!L68","v":0},0,0,null,0]
[]
[null,"Total",null,{"$f":"SUM(D58:D69)","v":0},{"$f":"IF(D71<>0,F71/D71,0)","v":0},{"$f":"SUM(F58:F69)","v":0},null,{"$f":"SUM(H58:H69)","v":0},{"$f":"IF(H71<>0,J71/H71,0)","v":0},{"$f":"SUM(J58:J69)","v":0},null,{"$f":"SUM(L58:L69)","v":0},{"$f":"IF(L71<>0,N71/L71,0)","v":0},{"$f":"SUM(N58:N69)","v":0},null,{"$f":"SUM(P58:P69)","v":0}]
[]
[null,{"$f":"'[1]12. RTSR - Historical Wholesale'!B72","v":"Add Extra Host Here (II)"},null,"Network",null,null,null,"Line Connection",null,null,null,"Transformation Connection",null,null,null,"Total Line"]
[]
[null,"Month",null,"Units Billed","Rate","Amount",null,"Units Billed","Rate","Amount",null,"Units Billed","Rate","Amount",null,"Amount"]
[]
[null,"January",null,{"$f":"'13. RTSR-Historic Wholesale'!D76","v":0},{"$f":"'12. RTSR-UTRs & Sub-Tx'!J59","v":0},{"$f":"D77*E77","v":0},null,{"$f":"'13. RTSR-Historic Wholesale'!H76","v":0},{"$f":"'12. RTSR-UTRs & Sub-Tx'!J61","v":0},{"$f":"H77*I77","v":0},null,{"$f":"'13. RTSR-Historic Wholesale'!L76","v":0},{"$f":"'12. RTSR-UTRs & Sub-Tx'!J63","v":0},{"$f":"L77*M77","v":0},null,{"$f":"J77+N77","v":0}]
[null,"February",null,{"$f":"'13. RTSR-Historic Wholesale'!D77","v":0},{"$f":"E77","v":0},0,null,{"$f":"'13. RTSR-Historic Wholesale'!H77","v":0},{"$f":"I77","v":0},0,null,{"$f":"'13. RTSR-Historic Wholesale'!L77","v":0},{"$f":"M77","v":0},0,null,0]
[null,"March",null,{"$f":"'13. RTSR-Historic Wholesale'!D78","v":0},0,0,null,{"$f":"'13. RTSR-Historic Wholesale'!H78","v":0},0,0,null,{"$f":"'13. RTSR-Historic Wholesale'!L78","v":0},0,0,null,0]
[null,"April",null,{"$f":"'13. RTSR-Historic Wholesale'!D79","v":0},0,0,null,{"$f":"'13. RTSR-Historic Wholesale'!H79","v":0},0,0,null,{"$f":"'13. RTSR-Historic Wholesale'!L79","v":0},0,0,null,0]
[null,"May",null,{"$f":"'13. RTSR-Historic Wholesale'!D80","v":0},0,0,null,{"$f":"'13. RTSR-Historic Wholesale'!H80","v":0},0,0,null,{"$f":"'13. RTSR-Historic Wholesale'!L80","v":0},0,0,null,0]
[null,"June",null,{"$f":"'13. RTSR-Historic Wholesale'!D81","v":0},0,0,null,{"$f":"'13. RTSR-Historic Wholesale'!H81","v":0},0,0,null,{"$f":"'13. RTSR-Historic Wholesale'!L81","v":0},0,0,null,0]
[null,"July",null,{"$f":"'13. RTSR-Historic Wholesale'!D82","v":0},0,0,null,{"$f":"'13. RTSR-Historic Wholesale'!H82","v":0},0,0,null,{"$f":"'13. RTSR-Historic Wholesale'!L82","v":0},0,0,null,0]
[null,"August",null,{"$f":"'13. RTSR-Historic Wholesale'!D83","v":0},0,0,null,{"$f":"'13. RTSR-Historic Wholesale'!H83","v":0},0,0,null,{"$f":"'13. RTSR-Historic Wholesale'!L83","v":0},0,0,null,0]
[null,"September",null,{"$f":"'13. RTSR-Historic Wholesale'!D84","v":0},0,0,null,{"$f":"'13. RTSR-Historic Wholesale'!H84","v":0},0,0,null,{"$f":"'13. RTSR-Historic Wholesale'!L84","v":0},0,0,null,0]
[null,"October",null,{"$f":"'13. RTSR-Historic Wholesale'!D85","v":0},0,0,null,{"$f":"'13. RTSR-Historic Wholesale'!H85","v":0},0,0,null,{"$f":"'13. RTSR-Historic Wholesale'!L85","v":0},0,0,null,0]
[null,"November",null,{"$f":"'13. RTSR-Historic Wholesale'!D86","v":0},0,0,null,{"$f":"'13. RTSR-Historic Wholesale'!H86","v":0},0,0,null,{"$f":"'13. RTSR-Historic Wholesale'!L86","v":0},0,0,null,0]
[null,"December",null,{"$f":"'13. RTSR-Historic Wholesale'!D87","v":0},0,0,null,{"$f":"'13. RTSR-Historic Wholesale'!H87","v":0},0,0,null,{"$f":"'13. RTSR-Historic Wholesale'!L87","v":0},0,0,null,0]
[null,null,null,null,null,null,null,null,null,null,null,{"$f":"'13. RTSR-Historic Wholesale'!L88","v":0}]
[null,"Total",null,{"$f":"SUM(D77:D88)","v":0},{"$f":"IF(D90<>0,F90/D90,0)","v":0},{"$f":"SUM(F77:F88)","v":0},null,{"$f":"SUM(H77:H88)","v":0},{"$f":"IF(H90<>0,J90/H90,0)","v":0},{"$f":"SUM(J77:J88)","v":0},null,{"$f":"SUM(L77:L88)","v":0},{"$f":"IF(L90<>0,N90/L90,0)","v":0},{"$f":"SUM(N77:N88)","v":0},null,{"$f":"SUM(P77:P88)","v":0}]
[]
[null,"Total",null,"Network",null,null,null,"Line Connection",null,null,null,"Transformation Connection",null,null,null,"Total Line"]
[]
[null,"Month",null,"Units Billed","Rate","Amount",null,"Units Billed","Rate","Amount",null,"Units Billed","Rate","Amount",null,"Amount"]
[]
[null,"January",null,{"$f":"D20+D39+D58+D77","v":586566.92000000004},{"$f":"IF(D96<>0,F96/D96,0)","v":3.6010682881059841},{"$f":"F20+F39+F58+F77","v":2112267.5344639998},null,{"$f":"H20+H39+H58+H77","v":610823.92000000004},{"$f":"IF(H96<>0,J96/H96,0)","v":0.94630763366306925},{"$f":"J20+J39+J58+J77","v":578027.33831999998},null,{"$f":"L20+L39+L58+L77","v":527148.92000000004},{"$f":"IF(L96<>0,N96/L96,0)","v":2.3258810813005173},{"$f":"N20+N39+N58+N77","v":1226085.7000559999},null,{"$f":"J96+N96","v":1804113.0383759998}]
[null,"February",null,{"$f":"D21+D40+D59+D78","v":586004.47},3.6015247905429799,{"$f":"F21+F40+F59+F78","v":2110509.6260739998},null,{"$f":"H21+H40+H59+H78","v":610297.63},0.94644121218363564,{"$f":"J21+J40+J59+J78","v":577610.82872999995},null,{"$f":"L21+L40+L59+L78","v":525462.63},2.3263599524841565,{"$f":"N21+N40+N59+N78","v":1222415.218959},null,1800026.0476889999]
[null,"March",null,586397.06999999983,3.6019441396492655,2112169.4897939996,null,606616.81999999995,0.94651133184866187,574169.69421999995,null,525917.81999999995,2.3267208535090136,1223663.9590259998,null,1797833.6532459997]
[null,"April",null,548781.59,3.601212755657492,1976279.2619779999,null,581274.52,0.94635255114915406,550090.62491999997,null,508021.52,2.3262278315217828,1181773.798836,null,1731864.4237560001]
[null,"May",null,650055.79,3.6022848279191537,2341686.1096179998,null,704835.79,0.94693678947546056,667434.94008999993,null,601826.79,2.3281612127087259,1401149.7892469999,null,2068584.7293369998]
[null,"June",null,797997.72,3.5965663285654497,2870051.7300239997,null,822675.72,0.94439034388908416,776927.00611999992,null,708397.72,2.3185018195654274,1642421.402796,null,2419348.4089159998]
[null,"July",null,816952.61,3.6041476139748179,2944417.8000619998,null,835641.61,0.94753692113297228,791801.27830999997,null,716676.61,2.3305226027580277,1670231.0384729998,null,2462032.3167829998]
[null,"August",null,827841.81999999983,3.6041004285625489,2983625.0582439997,null,856767.82,0.94754600752862073,811826.92721999995,null,735998.82,2.3305730067963966,1715298.9829259997,null,2527125.9101459999]
[null,"September",null,830523.01,3.6041674413596314,2993343.9919419996,null,842827.01,0.94752576535248889,798600.30770999985,null,719236.01,2.330431985035065,1676130.602493,null,2474730.9102029996]
[null,"October",null,564094.48,3.594681751567574,2027740.1334159998,null,588834.48,0.94368263060953894,555672.87107999995,null,514405.48,2.3161362957564138,1191433.2029639999,null,1747106.0740439999]
[null,"November",null,560978.51,3.6035511396719988,2021514.7490419999,null,580272.51,0.947316103618281,549701.49320999999,null,499907.51,2.32971931576503,1164644.182143,null,1714345.6753529999]
[null,"December",null,589706.07999999996,3.6016212756972084,2123897.9641359998,null,616990.07999999996,0.9465525032104245,584013.50468000001,null,532210.07999999996,2.3268109687888661,1238352.2518439998,null,1822365.7565239999]
[]
[null,"Total",null,{"$f":"SUM(D96:D107)","v":7945900.0700000003},{"$f":"IF(D109<>0,F109/D109,0)","v":3.6015433363981382},{"$f":"SUM(F96:F107)","v":28617503.448794},null,{"$f":"SUM(H96:H107)","v":8257857.9100000001},{"$f":"IF(H109<>0,J109/H109,0)","v":0.94647751266647784},{"$f":"SUM(J96:J107)","v":7815876.8146099998},null,{"$f":"SUM(L96:L107)","v":7115209.9100000001},{"$f":"IF(L109<>0,N109/L109,0)","v":2.3265090333453},{"$f":"SUM(N96:N107)","v":16553600.129763},null,{"$f":"SUM(P96:P107)","v":24369476.944373}]
[]
[null,null,null,null,null,null,null,null,null,null,null,null,null,"Low Voltage Switchgear Credit (if applicable)",null,{"$f":"'12. RTSR-UTRs & Sub-Tx'!J68","v":0}]
[]
[null,null,null,null,null,null,null,null,null,null,null,null,null,"Total including deduction for Low Voltage Switchgear Credit",null,{"$f":"P109+P111","v":24369476.944373}]

{"sheet":"16. RTSR-Rates to Forecast","index":21,"n_rows":65,"n_cols":11,"rows_kept":65,"cut":false,"hidden":false,"merged":[[1,1,8,2]]}
["Back to Index","Back to Index"]
[null,"INCENTIVE REGULATION MODEL FOR 2018 FILERS"]
[]
[]
[]
[null,null,null,null,null,"to do: Adjust Emb. Distributor Rates"]
[]
[]
[]
[]
[]
[]
[null,"The purpose of this table is to re-align the current RTS Network Rates to recover current wholesale network costs."]
[]
[null,"Rate Class","Rate Description","Unit","Current RTSR-Network","Loss Adjusted Billed kWh","Billed kW","Billed Amount","Billed Amount %","Current Wholesale Billing","Adjusted RTSR Network"]
[]
[{"$f":"'11. RTSR - Current Rates'!A16","v":"R_TN"},{"$f":"'4. Billing Det. for Def-Var'!B17","v":"RESIDENTIAL SERVICE CLASSIFICATION"},{"$f":"VLOOKUP(A17,RTSR,3,FALSE)","v":"Retail Transmission Rate – Network Service Rate"},{"$f":"VLOOKUP(A17,RTSR,4,FALSE)","v":"$/kWh"},{"$f":"VLOOKUP(A17,RATES,4,FALSE)","v":7.4000000000000003E-3},{"$f":"VLOOKUP(A17,RTSR,9,FALSE)","v":1356678366.9993},{"$f":"VLOOKUP(A17,RTSR,7,FALSE)","v":0},{"$f":"IF(ISERROR(E17*F17), 0, ROUND(E17*F17, 2))","v":10039419.92},{"$f":"H17/SUM(H$17:H$26)","v":0.35117432348481575},{"$f":"I17*total_wholesale_TN","v":10186414.622417459},{"$f":"IF(ISERROR(J17/F17), 0, J17/F17)","v":7.5083489721648336E-3}]
[{"$f":"'11. RTSR - Current Rates'!A18","v":"GSL_TN"},{"$f":"'4. Billing Det. for Def-Var'!B18","v":"GENERAL SERVICE LESS THAN 50 kW SERVICE CLASSIFICATION"},"Retail Transmission Rate – Network Service Rate","$/kWh",{"$f":"VLOOKUP(A18,RATES,4,FALSE)","v":6.6E-3},{"$f":"VLOOKUP(A18,RTSR,9,FALSE)","v":349049891.66850001},{"$f":"VLOOKUP(A18,RTSR,7,FALSE)","v":0},{"$f":"IF(ISERROR(E18*F18), 0, ROUND(E18*F18, 2))","v":2303729.29},{"$f":"H18/SUM(H$17:H$26)","v":8.0583398379047474E-2},{"$f":"I18*total_wholesale_TN","v":2337459.9242530135},{"$f":"IF(ISERROR(J18/F18), 0, J18/F18)","v":6.6966355814628018E-3}]
[{"$f":"'11. RTSR - Current Rates'!A20","v":"GS50_699_TN"},{"$f":"'4. Billing Det. for Def-Var'!B19","v":"GENERAL SERVICE 50 to 699 KW SERVICE CLASSIFICATION"},"Retail Transmission Rate – Network Service Rate","$/kW",2.5604,1156656738.9465001,3142997.7300000004,{"$f":"IF(ISERROR(E19*G19), 0, ROUND(E19*G19, 2))","v":8047331.3899999997},0.28149197655449515,8165158.4250631696,{"$f":"IF(ISERROR(J19/G19), 0, J19/G19)","v":2.5978887439613798}]
[{"$f":"'11. RTSR - Current Rates'!A22","v":"GS700_TN"},{"$f":"'4. Billing Det. for Def-Var'!B20","v":"GENERAL SERVICE 700 to 4,999 KW SERVICE CLASSIFICATION"},"Retail Transmission Rate – Network Service Rate","$/kW",2.8714,881785824.69060004,2009962.0099999998,{"$f":"IF(ISERROR(E20*G20), 0, ROUND(E20*G20, 2))","v":5771404.9199999999},0.20188110812063104,5855908.4028213518,{"$f":"IF(ISERROR(J20/G20), 0, J20/G20)","v":2.9134423305947719}]
[{"$f":"'11. RTSR - Current Rates'!A24","v":"LU_TN"},{"$f":"'4. Billing Det. for Def-Var'!B21","v":"LARGE USE SERVICE CLASSIFICATION"},"Retail Transmission Rate – Network Service Rate","$/kW",3.2498999999999998,376379276.74290001,666341.81491998362,2165544.2599999998,7.5749749143068604E-2,2197251.6232348406,3.2974842251175449]
[null,{"$f":"'4. Billing Det. for Def-Var'!B22","v":"STANDBY POWER SERVICE CLASSIFICATION "}]
[{"$f":"'11. RTSR - Current Rates'!A26","v":"USL_TN"},{"$f":"'4. Billing Det. for Def-Var'!B23","v":"UNMETERED SCATTERED LOAD SERVICE CLASSIFICATION"},"Retail Transmission Rate – Network Service Rate","$/kWh",6.6E-3,6036158.5532999998,0,{"$f":"IF(ISERROR(E23*F23), 0, ROUND(E23*F23, 2))","v":39838.65},1.3935377814436867E-3,40421.957656032711,{"$f":"IF(ISERROR(J23/F23), 0, J23/F23)","v":6.6966361633979633E-3}]
["SL_TN",{"$f":"'4. Billing Det. for Def-Var'!B24","v":"STREET LIGHTING SERVICE CLASSIFICATION"},"Retail Transmission Rate – Network Service Rate","$/kW",2.1318999999999999,35443346.280299999,103149.15808304329,219903.69,7.6921306393133359E-3,223123.46541826453,2.1631147511512636]
[{"$f":"'11. RTSR - Current Rates'!A30","v":"EMD_TN"},{"$f":"'4. Billing Det. for Def-Var'!B25","v":"EMBEDDED DISTRIBUTOR SERVICE CLASSIFICATION"},"Retail Transmission Rate – Network Service Rate","$/kW",2.8714,0,0,{"$f":"IF(ISERROR(E25*F25), 0, ROUND(E25*F25, 2))","v":0},0,0,{"$f":"+K20","v":2.9134423305947719}]
[{"$f":"'11. RTSR - Current Rates'!A32","v":"DG_TN"},{"$f":"'4. Billing Det. for Def-Var'!B26","v":"DISTRIBUTED GENERATION [DGEN] SERVICE CLASSIFICATION"},"Retail Transmission Rate – Network Service Rate","$/kWh",6.6E-3,146301.36569999999,0,965.59,3.3775897184874727E-5,979.72792986430591,6.6966424077906329E-3]
[null,"The purpose of this table is to re-align the current RTS Connection Rates to recover current wholesale connection costs."]
[null,"Rate Class","Rate Description","Unit","Current RTSR-Connection","Loss Adjusted Billed kWh","Billed kW","Billed Amount","Billed Amount %","Current Wholesale Billing","Adjusted RTSR-Connection"]
[]
["R_TC",{"$f":"B17","v":"RESIDENTIAL SERVICE CLASSIFICATION"},{"$f":"VLOOKUP(A30,RTSR,3,FALSE)","v":"Retail Transmission Rate – Line and Transformation Connection Service Rate"},{"$f":"VLOOKUP(A30,RTSR,4,FALSE)","v":"$/kWh"},{"$f":"VLOOKUP(A30,RATES,4,FALSE)","v":5.7000000000000002E-3},{"$f":"F17","v":1356678366.9993},{"$f":"G17","v":0},{"$f":"IF(ISERROR(E30*F30), 0, ROUND(E30*F30, 2))","v":7733066.6900000004},{"$f":"H30/SUM(H$30:H$39)","v":0.36201532484494414},{"$f":"I30*total_wholesale_LinePlus","v":7782237.1769097382},{"$f":"IF(ISERROR(J30/F30), 0, J30/F30)","v":5.7362432881733665E-3}]
["GSL_TC",{"$f":"B18","v":"GENERAL SERVICE LESS THAN 50 kW SERVICE CLASSIFICATION"},"Retail Transmission Rate – Line and Transformation Connection Service Rate","$/kWh",4.7999999999999996E-3,{"$f":"F18","v":349049891.66850001},0,{"$f":"IF(ISERROR(E31*F31), 0, ROUND(E31*F31, 2))","v":1675439.48},{"$f":"H31/SUM(H$30:H$39)","v":7.8433924331026847E-2},1686092.7147801849,{"$f":"IF(ISERROR(J31/F31), 0, J31/F31)","v":4.8305206648839262E-3}]
["GS50_699_TC","GENERAL SERVICE 50 to 699 KW SERVICE CLASSIFICATION","Retail Transmission Rate – Line and Transformation Connection Service Rate","$/kW",1.9177,1156656738.9465001,3142997.7300000004,{"$f":"IF(ISERROR(E32*G32), 0, ROUND(E32*G32, 2))","v":6027326.75},0.2821629165786842,6065651.3375074165,{"$f":"IF(ISERROR(J32/G32), 0, J32/G32)","v":1.929893642496336}]
["GS700_TC","GENERAL SERVICE 700 to 4,999 KW SERVICE CLASSIFICATION","Retail Transmission Rate – Line and Transformation Connection Service Rate","$/kW",2.0613999999999999,881785824.69060004,2009962.0099999998,{"$f":"IF(ISERROR(E33*G33), 0, ROUND(E33*G33, 2))","v":4143335.69},0.19396587096509324,4169680.9733752548,{"$f":"IF(ISERROR(J33/G33), 0, J33/G33)","v":2.0745073551789446}]
["LU_TC","LARGE USE SERVICE CLASSIFICATION","Retail Transmission Rate – Line and Transformation Connection Service Rate ","$/kW",2.3826000000000001,376379276.74290001,666341.81491998362,1587626.01,7.4323029760710951E-2,1597720.8853026032,2.3977496977200246]
[null,"STANDBY POWER SERVICE CLASSIFICATION "]
["USL_TC","UNMETERED SCATTERED LOAD SERVICE CLASSIFICATION","Retail Transmission Rate – Line and Transformation Connection Service Rate","$/kWh",4.7999999999999996E-3,6036158.5532999998,0,{"$f":"IF(ISERROR(E36*F36), 0, ROUND(E36*F36, 2))","v":28973.56},1.3563665174229191E-3,29157.787565831135,{"$f":"IF(ISERROR(J36/F36), 0, J36/F36)","v":4.830520488877884E-3}]
["SL_TC","STREET LIGHTING SERVICE CLASSIFICATION","Retail Transmission Rate – Line and Transformation Connection Service Rate","$/kW",1.5966,35443346.280299999,103149.15808304329,164687.95000000001,7.7096919123166028E-3,165735.11369511441,1.6067519771870986]
["EMD_TC","EMBEDDED DISTRIBUTOR SERVICE CLASSIFICATION","Retail Transmission Rate – Line and Transformation Connection Service Rate","$/kW",2.0613999999999999,0,0,{"$f":"IF(ISERROR(E38*F38), 0, ROUND(E38*F38, 2))","v":0},0,0,{"$f":"+K33","v":2.0745073551789446}]
["DG_TC","DISTRIBUTED GENERATION [DGEN] SERVICE CLASSIFICATION","Retail Transmission Rate – Line and Transformation Connection Service Rate","$/kWh",4.7999999999999996E-3,146301.36569999999,0,702.25,3.2875089801192699E-5,706.71523686094872,4.8305443594430422E-3]
[null,"The purpose of this table is to update the re-aligned RTS Network Rates to recover future wholesale network costs."]
[null,"Rate Class","Rate Description","Unit","Adjusted RTSR-Network","Loss Adjusted Billed kWh","Billed kW","Billed Amount","Billed Amount %","Current Wholesale Billing","Proposed RTSR-Network"]
[]
["R_TN",{"$f":"B17","v":"RESIDENTIAL SERVICE CLASSIFICATION"},{"$f":"VLOOKUP(A43,RTSR,3,FALSE)","v":"Retail Transmission Rate – Network Service Rate"},{"$f":"VLOOKUP(A43,RTSR,4,FALSE)","v":"$/kWh"},{"$f":"K17","v":7.5083489721648336E-3},{"$f":"VLOOKUP(A43,RTSR,9,FALSE)","v":1356678366.9993},{"$f":"VLOOKUP(A43,RTSR,7,FALSE)","v":0},{"$f":"IF(ISERROR(E43*F43), 0, ROUND(E43*F43, 2))","v":10186414.619999999},{"$f":"H43/SUM(H$43:H$52)","v":0.35117432338687371},{"$f":"I43*forecast_wholesale_TN","v":10049732.410651758},{"$f":"IF(ISERROR(J43/F43), 0, J43/F43)","v":7.4076012820044794E-3}]
["GSL_TN",{"$f":"B18","v":"GENERAL SERVICE LESS THAN 50 kW SERVICE CLASSIFICATION"},"Retail Transmission Rate – Network Service Rate","$/kWh",{"$f":"K18","v":6.6966355814628018E-3},349049891.66850001,0,{"$f":"IF(ISERROR(E44*F44), 0, ROUND(E44*F44, 2))","v":2337459.92},{"$f":"H44/SUM(H$43:H$52)","v":8.0583398229075426E-2},2306095.6767361062,{"$f":"IF(ISERROR(J44/F44), 0, J44/F44)","v":6.6067795228719152E-3}]
["GS50_699_TN","GENERAL SERVICE 50 to 699 KW SERVICE CLASSIFICATION","Retail Transmission Rate – Network Service Rate","$/kW",2.5978887439613798,1156656738.9465001,3142997.7300000004,{"$f":"IF(ISERROR(E45*G45), 0, ROUND(E45*G45, 2))","v":8165158.4299999997},0.28149197671298781,8055597.6143917693,{"$f":"IF(ISERROR(J45/G45), 0, J45/G45)","v":2.563030045329294}]
["GS700_TN","GENERAL SERVICE 700 to 4,999 KW SERVICE CLASSIFICATION","Retail Transmission Rate – Network Service Rate","$/kW",2.9134423305947719,881785824.69060004,2009962.0099999998,{"$f":"IF(ISERROR(E46*G46), 0, ROUND(E46*G46, 2))","v":5855908.4000000004},0.20188110801497205,5777333.3048648164,{"$f":"IF(ISERROR(J46/G46), 0, J46/G46)","v":2.8743495031852953}]
["LU_TN","LARGE USE SERVICE CLASSIFICATION","Retail Transmission Rate – Network Service Rate","$/kW",3.2974842251175449,376379276.74290001,666341.81491998362,2197251.62,7.5749749028398802E-2,2167768.7040654826,3.2532382863077487]
[null,"STANDBY POWER SERVICE CLASSIFICATION "]
["USL_TN","UNMETERED SCATTERED LOAD SERVICE CLASSIFICATION","Retail Transmission Rate – Network Service Rate","$/kWh",6.6966361633979633E-3,6036158.5532999998,0,{"$f":"IF(ISERROR(E49*F49), 0, ROUND(E49*F49, 2))","v":40421.96},1.3935378621934863E-3,39879.574577347114,{"$f":"IF(ISERROR(J49/F49), 0, J49/F49)","v":6.6067804921301713E-3}]
["SL_TN","STREET LIGHTING SERVICE CLASSIFICATION","Retail Transmission Rate – Network Service Rate","$/kW",2.1631147511512636,35443346.280299999,103149.15808304329,223123.47,7.69213079694781E-3,220129.57961022848,2.1340899305548051]
["EMD_TN","EMBEDDED DISTRIBUTOR SERVICE CLASSIFICATION","Retail Transmission Rate – Network Service Rate","$/kW",{"$f":"K25","v":2.9134423305947719},0,{"$f":"VLOOKUP(A51,RTSR,7,FALSE)","v":0},{"$f":"IF(ISERROR(E51*F51), 0, ROUND(E51*F51, 2))","v":0},0,{"$f":"I51*forecast_wholesale_TN","v":0},{"$f":"+K46","v":2.8743495031852953}]
["DG_TN","DISTRIBUTED GENERATION [DGEN] SERVICE CLASSIFICATION","Retail Transmission Rate – Network Service Rate","$/kWh",6.6966424077906329E-3,{"$f":"VLOOKUP(A52,RTSR,9,FALSE)","v":146301.36569999999},0,979.73,3.3775968550926887E-5,966.58389649250785,6.6068002295655119E-3]
[null,"The purpose of this table is to update the re-aligned RTS Connection Rates to recover future wholesale connection costs."]
[null,"Rate Class","Rate Description","Unit","Adjusted RTSR-Connection","Loss Adjusted Billed kWh","Billed kW","Billed Amount","Billed Amount %","Current Wholesale Billing","Proposed RTSR-Connection"]
[]
["R_TC",{"$f":"B17","v":"RESIDENTIAL SERVICE CLASSIFICATION"},{"$f":"VLOOKUP(A56,RTSR,3,FALSE)","v":"Retail Transmission Rate – Line and Transformation Connection Service Rate"},{"$f":"VLOOKUP(A56,RTSR,4,FALSE)","v":"$/kWh"},{"$f":"K30","v":5.7362432881733665E-3},{"$f":"VLOOKUP(A56,RTSR,9,FALSE)","v":1356678366.9993},{"$f":"VLOOKUP(A56,RTSR,7,FALSE)","v":0},{"$f":"IF(ISERROR(E56*F56), 0, ROUND(E56*F56, 2))","v":7782237.1799999997},{"$f":"H56/SUM(H$56:H$65)","v":0.36201532489393723},{"$f":"I56*forecast_wholesale_LNPlus","v":8822124.1135125048},{"$f":"IF(ISERROR(J56/F56), 0, J56/F56)","v":6.5027381051451947E-3}]
["GSL_TC",{"$f":"B18","v":"GENERAL SERVICE LESS THAN 50 kW SERVICE CLASSIFICATION"},"Retail Transmission Rate – Line and Transformation Connection Service Rate","$/kWh",{"$f":"K31","v":4.8305206648839262E-3},349049891.66850001,0,{"$f":"IF(ISERROR(E57*F57), 0, ROUND(E57*F57, 2))","v":1686092.71},{"$f":"H57/SUM(H$56:H$65)","v":7.8433924088130796E-2},1911393.7047224056,{"$f":"IF(ISERROR(J57/F57), 0, J57/F57)","v":5.4759899668947506E-3}]
["GS50_699_TC","GENERAL SERVICE 50 to 699 KW SERVICE CLASSIFICATION","Retail Transmission Rate – Line and Transformation Connection Service Rate","$/kW",1.929893642496336,1156656738.9465001,3142997.7300000004,{"$f":"IF(ISERROR(E58*G58), 0, ROUND(E58*G58, 2))","v":6065651.3399999999},0.28216291662077636,6876162.6911470508,{"$f":"IF(ISERROR(J58/G58), 0, J58/G58)","v":2.1877720831656631}]
["GS700_TC","GENERAL SERVICE 700 to 4,999 KW SERVICE CLASSIFICATION","Retail Transmission Rate – Line and Transformation Connection Service Rate","$/kW",2.0745073551789446,881785824.69060004,2009962.0099999998,{"$f":"IF(ISERROR(E59*G59), 0, ROUND(E59*G59, 2))","v":4169680.97},0.19396587075731062,4726846.8154155146,{"$f":"IF(ISERROR(J59/G59), 0, J59/G59)","v":2.3517095307764126}]
["LU_TC","LARGE USE SERVICE CLASSIFICATION","Retail Transmission Rate – Line and Transformation Connection Service Rate ","$/kW",2.3977496977200246,376379276.74290001,666341.81491998362,1597720.89,7.4323029959770581E-2,1811213.3650405731,2.7181445385624929]
[null,"STANDBY POWER SERVICE CLASSIFICATION "]
["USL_TC","UNMETERED SCATTERED LOAD SERVICE CLASSIFICATION","Retail Transmission Rate – Line and Transformation Connection Service Rate","$/kWh",4.830520488877884E-3,6036158.5532999998,0,{"$f":"IF(ISERROR(E62*F62), 0, ROUND(E62*F62, 2))","v":29157.79},1.3563666303009277E-3,33053.945325235356,{"$f":"IF(ISERROR(J62/F62), 0, J62/F62)","v":5.475990240045068E-3}]
["SL_TC","STREET LIGHTING SERVICE CLASSIFICATION","Retail Transmission Rate – Line and Transformation Connection Service Rate","$/kW",1.6067519771870986,35443346.280299999,103149.15808304329,165735.10999999999,7.7096917384086227E-3,187881.15506737193,1.8214511738051475]
["EMD_TC","EMBEDDED DISTRIBUTOR SERVICE CLASSIFICATION","Retail Transmission Rate – Line and Transformation Connection Service Rate","$/kW",{"$f":"K38","v":2.0745073551789446},0,{"$f":"VLOOKUP(A64,RTSR,7,FALSE)","v":0},{"$f":"IF(ISERROR(E64*F64), 0, ROUND(E64*F64, 2))","v":0},0,{"$f":"I64*forecast_wholesale_LNPlus","v":0},{"$f":"+K59","v":2.3517095307764126}]
["DG_TC","DISTRIBUTED GENERATION [DGEN] SERVICE CLASSIFICATION","Retail Transmission Rate – Line and Transformation Connection Service Rate","$/kWh",4.8305443594430422E-3,{"$f":"VLOOKUP(A65,RTSR,9,FALSE)","v":146301.36569999999},0,706.72,3.2875311365033894E-5,801.15414234927709,5.4760537505308959E-3]

{"sheet":"17. Rev2Cost-GDPIPI","index":22,"n_rows":38,"n_cols":31,"rows_kept":38,"cut":false,"hidden":false,"merged":[[10,2,10,9],[1,2,8,7]]}
["Back to Index",null,"Back to Index",null,null,null,null,null,null,null,null,null,null,null,null,null,null,null,null,null,null,null,null,null,null,null,false,0,null,null,"NO"]
[null,null,"INCENTIVE REGULATION MODEL FOR 2018 FILERS",null,null,null,null,null,null,null,null,null,null,null,null,null,null,null,true]
[]
[]
[]
[]
[]
[]
[]
[]
[null,null,"If applicable, please enter any adjustments related to the revenue to cost ratio model into columns C and E.  The Price Escalator and Stretch Factor have been set at the 2016 values and will be updated by OEB staff at a later date. "]
[null,null,"Price Escalator",1.2E-2,"Productivity Factor",0,"# of Residential Customers\n(approved in the last CoS)\n",140979,"Effective Year of Residential Rate Design Transition (yyyy)",2016]
[null,null,"Choose Stretch Factor Group","III","Price Cap Index",{"$f":"D12-F12-D14","v":9.0000000000000011E-3},"Billed kWh for Residential Class\n(approved in the last CoS)",1308264983,"OEB-approved # of Transition Years",4]
[null,null,"Associated Stretch Factor Value",{"$f":"IF(D13=\"I\", 0%, IF(D13=\"II\", 0.15%, IF(D13=\"III\", 0.3%, IF(D13=\"IV\", 0.45%, 0.6%))))","v":3.0000000000000001E-3},null,null,"Rate Design Transition Years Left",2]
[null,null,"Rate Class","Current MFC","MFC Adjustment from R/C Model","Current  Volumetric Charge","DVR Adjustment from R/C Model","Price Cap Index to be Applied to MFC and DVR","Proposed MFC","Proposed Volumetric Charge"]
[]
["R_F","R_V",{"$f":"'4. Billing Det. for Def-Var'!B17","v":"RESIDENTIAL SERVICE CLASSIFICATION"},{"$f":"IFERROR(VLOOKUP(A17,RATES,4,FALSE),\"\")","v":17.64},null,{"$f":"IFERROR(VLOOKUP(B17,RATES,4,FALSE),\"\")","v":8.0000000000000002E-3},null,{"$f":"F$13","v":9.0000000000000011E-3},{"$f":"J31*(1+F13)","v":20.916569999999997},{"$f":"J32*(1+F13)","v":4.0359999999999997E-3}]
["GSL_F","GSL_V",{"$f":"'4. Billing Det. for Def-Var'!B18","v":"GENERAL SERVICE LESS THAN 50 kW SERVICE CLASSIFICATION"},25.12,null,1.67E-2,null,{"$f":"F$13","v":9.0000000000000011E-3},{"$f":"(D18+E18)*(1+F$13)","v":25.346079999999997},{"$f":"(F18+G18)*(1+F$13)","v":1.6850299999999999E-2}]
[{"$f":"'2. Current Tariff Schedule'!A138","v":"GS50_699_F"},{"$f":"'2. Current Tariff Schedule'!A139","v":"GS50_699_V"},{"$f":"'4. Billing Det. for Def-Var'!B19","v":"GENERAL SERVICE 50 to 699 KW SERVICE CLASSIFICATION"},125.33,null,2.8386999999999998,null,9.0000000000000011E-3,{"$f":"(D19+E19)*(1+F$13)","v":126.45796999999999},{"$f":"(F19+G19)*(1+F$13)","v":2.8642482999999994}]
[{"$f":"'2. Current Tariff Schedule'!A169","v":"GS700_F"},{"$f":"'2. Current Tariff Schedule'!A170","v":"GS700_V"},{"$f":"'4. Billing Det. for Def-Var'!B20","v":"GENERAL SERVICE 700 to 4,999 KW SERVICE CLASSIFICATION"},1130.8399999999999,null,3.2953000000000001,null,9.0000000000000011E-3,{"$f":"(D20+E20)*(1+F$13)","v":1141.0175599999998},3.3249576999999997]
[{"$f":"'2. Current Tariff Schedule'!A202","v":"LU_F"},{"$f":"'2. Current Tariff Schedule'!A203","v":"LU_V"},{"$f":"'4. Billing Det. for Def-Var'!B21","v":"LARGE USE SERVICE CLASSIFICATION"},4705.66,null,2.4948999999999999,null,9.0000000000000011E-3,4748.0109399999992,2.5173540999999995]
[null,{"$f":"'2. Current Tariff Schedule'!A295","v":"SB_V"},{"$f":"'4. Billing Det. for Def-Var'!B22","v":"STANDBY POWER SERVICE CLASSIFICATION "},"",null,1.6779999999999999,null,9.0000000000000011E-3,0,1.6931019999999997]
[{"$f":"'2. Current Tariff Schedule'!A233","v":"USL_F"},{"$f":"'2. Current Tariff Schedule'!A234","v":"USL_V"},{"$f":"'4. Billing Det. for Def-Var'!B23","v":"UNMETERED SCATTERED LOAD SERVICE CLASSIFICATION"},1.0900000000000001,null,1.9800000000000002E-2,null,9.0000000000000011E-3,1.09981,1.9978199999999998E-2]
[{"$f":"'2. Current Tariff Schedule'!A264","v":"SL_F"},{"$f":"'2. Current Tariff Schedule'!A265","v":"SL_V"},{"$f":"'4. Billing Det. for Def-Var'!B24","v":"STREET LIGHTING SERVICE CLASSIFICATION"},2.2999999999999998,null,11.5388,null,9.0000000000000011E-3,2.3206999999999995,11.642649199999999]
[{"$f":"'2. Current Tariff Schedule'!A311","v":"EMD_F"},null,{"$f":"'4. Billing Det. for Def-Var'!B25","v":"EMBEDDED DISTRIBUTOR SERVICE CLASSIFICATION"},4159.82,null,"",null,9.0000000000000011E-3,4197.2583799999993,0]
[{"$f":"'2. Current Tariff Schedule'!A339","v":"DG_F"},null,{"$f":"'4. Billing Det. for Def-Var'!B26","v":"DISTRIBUTED GENERATION [DGEN] SERVICE CLASSIFICATION"},103.97,null,"",null,9.0000000000000011E-3,104.90572999999999,0]
[{"$f":"'2. Current Tariff Schedule'!A368","v":"WST_F"},null,{"$f":"'4. Billing Det. for Def-Var'!B27","v":"ENERGY FROM WASTE SERVICE CLASSIFICATION"},63.09,null,"",null,9.0000000000000011E-3,63.657809999999998,0]
[null,null,"microFIT SERVICE CLASSIFICATION",{"$f":"'2. Current Tariff Schedule'!D384","v":5.4},null,"",null,9.0000000000000011E-3,{"$f":"D28","v":5.4},0]
[]
[null,null,"Rate Design Transition",null,"Revenue from Rates","Current F/V Split","Decoupling MFC Split","Incremental Fixed Charge ($/month/year)","New F/V Split","Adjusted Rates1","Revenue at New F/V Split "]
[null,null,"Current Residential Fixed Rate (inclusive of R/C adj.)",{"$f":"D17+E17","v":17.64},{"$f":"D31*COS_RES_CUSTOMERS*12","v":29842434.719999999},{"$f":"IF(ISERROR(E31/E33), 0, E31/E33)","v":0.74034990904500453},{"$f":"IF(ISERROR((1-F31)/YRS_LEFT), 0, (1-F31)/YRS_LEFT)","v":0.12982504547749774},{"$f":"IF(ISERROR(ROUND(G31*E33/COS_RES_CUSTOMERS/12, 2)), 0, ROUND(G31*E33/COS_RES_CUSTOMERS/12, 2))","v":3.09},{"$f":"G31+F31","v":0.87017495452250226},{"$f":"IF(ISERROR(ROUND(I31*E33/COS_RES_CUSTOMERS/12, 2)), 0, ROUND(I31*E33/COS_RES_CUSTOMERS/12, 2))","v":20.73},{"$f":"ROUND(J31*COS_RES_CUSTOMERS*12, 2)","v":35069936.039999999}]
[null,null,"Current Residential Variable Rate (inclusive of R/C adj.)",{"$f":"F17+G17","v":8.0000000000000002E-3},{"$f":"D32*COS_RES_KWH","v":10466119.864},{"$f":"IF(ISERROR(E32/E33), 0, E32/E33)","v":0.25965009095499547},null,null,{"$f":"1-I31","v":0.12982504547749774},{"$f":"IF(ISERROR(ROUND(I32*E33/COS_RES_KWH, 4)), 0, ROUND(I32*E33/COS_RES_KWH, 4))","v":4.0000000000000001E-3},{"$f":"ROUND(J32*COS_RES_KWH, 2)","v":5233059.93}]
[null,null,null,null,{"$f":"SUM(E31+E32)","v":40308554.583999999},null,null,null,null,null,{"$f":"SUM(K31+K32)","v":40302995.969999999}]
[]
[]
[null,null,{"$f":"IF((J31-D31)>=4, \"The Rate Design Transition has calculated a monthly fixed charge greater than or equal to $4.  Please refer to Section 3.2.3 of the Chapter 3 Filing Requirements for mitigation instructions.\", \"\")","v":""}]
[]
[null,null,"1 These are the residential rates to which the Price Cap Index will be applied to."]

{"sheet":"18. Regulatory Charges","index":23,"n_rows":29,"n_cols":6,"rows_kept":29,"cut":false,"hidden":false,"merged":[[11,2,11,4],[1,1,8,6],[21,3,21,4],[28,5,29,11]]}
["Back to Index"]
[null,"INCENTIVE REGULATION MODEL FOR 2018 FILERS"]
[]
[]
[]
[]
[]
[]
[]
[]
[]
[null,null,"Update the following rates if an OEB Decision has been issued at the time of completing this application"]
[null,null,null,null,"Proposed"]
[null,null,"Wholesale Market Service Rate (WMS) - not including CBR","$/kWh",3.2000000000000002E-3]
[null,null,"Capacity Based Recovery (CBR) - Applicable for Class B Customers ","$/kWh",4.0000000000000002E-4]
[null,null,"Rural or Remote Electricity Rate Protection Charge (RRRP)","$/kWh",2.9999999999999997E-4]
[null,null,"Standard Supply Service - Administrative Charge (if applicable)","$",0.25]
[null,null,"Ontario Electricity Support Program (OESP)","$/kWh",0]
[]
[]
[null,null,"Time-of-Use RPP Prices"]
[null,null,"As of ","2017-07-01"]
[null,null,"Off-Peak","$/kWh",6.5000000000000002E-2]
[null,null,"Mid-Peak","$/kWh",9.5000000000000001E-2]
[null,null,"On-Peak","$/kWh",0.13200000000000001]
[]
[]
[null,null,"Debt Retirement Charge (DRC)"]
[null,null,"Debt Retirement Charge (DRC)","$/kWh",7.0000000000000001E-3,"If your utility's DRC differs from the value in Cell E29, please update this value."]

{"sheet":"19. Additional Rates","index":24,"n_rows":144,"n_cols":28,"rows_kept":144,"cut":false,"hidden":false,"merged":[[10,1,10,6],[1,1,8,6]]}
["Back to Index",null,null,null,null,null,null,null,null,null,null,null,null,null,null,null,null,null,null,null,null,null,null,null,null,null,null,3]
[null,"INCENTIVE REGULATION MODEL FOR 2018 FILERS"]
[]
[]
[]
[]
[]
[]
[]
[]
[null,"In the Green Cells below, enter any proposed rate riders that are not already included in this model (e.g.:  proposed ICM rate riders).  Please note that existing SMIRR and SM Entity Charge do not need to be included below.\nIn column A, the rate rider descriptions must begin with \"Rate Rider for\". \nIn column B, choose the associated unit from the drop-down menu.\nIn column C, enter the rate. All rate riders with a \"$\" unit should be rounded to 2 decimal places and all others rounded to 4 decimal places.\nIn column E, enter the expiry date (e.g. April 30, 2018) or description of the expiry date in text (e.g. the effective date of  the next cost of service-based rate order).\nIn column G, choose the sub-total as applicable in the bill impact calculation from the drop-down menu"]
[]
[null,{"$f":"'4. Billing Det. for Def-Var'!B17","v":"RESIDENTIAL SERVICE CLASSIFICATION"}]
[null,"Rate Rider for Incremental Capital Module (ICM)","$",0.23," - effective until ","next COS",null,"A"]
[null,"Rate Rider for Recovery of 2018 Foregone Revenue","$",0.37," - effective until ","December 31, 2018",null,"A"]
[null,null,null,null," - effective until "]
[null,null,null,null," - effective until "]
[null,null,null,null," - effective until "]
[null,null,null,null," - effective until "]
[null,null,null,null," - effective until "]
[null,null,null,null," - effective until "]
[null,null,null,null," - effective until "]
[null,null,null,null," - effective until "]
[]
[]
[null,{"$f":"'4. Billing Det. for Def-Var'!B18","v":"GENERAL SERVICE LESS THAN 50 kW SERVICE CLASSIFICATION"}]
[null,"Rate Rider for Incremental Capital Module (ICM)","$",0.24," - effective until ","next COS",null,"A"]
[null,"Rate Rider for Incremental Capital Module (ICM)","$/kWh",2.0000000000000001E-4," - effective until ","next COS",null,"A"]
[null,"Rate Rider for Recovery of 2018 Foregone Revenue","$",0.42," - effective until ","December 31, 2018"]
[null,null,null,null," - effective until "]
[null,null,null,null," - effective until "]
[null,null,null,null," - effective until "]
[null,null,null,null," - effective until "]
[null,null,null,null," - effective until "]
[null,null,null,null," - effective until "]
[]
[]
[null,{"$f":"'4. Billing Det. for Def-Var'!B19","v":"GENERAL SERVICE 50 to 699 KW SERVICE CLASSIFICATION"}]
[null,"Rate Rider for Incremental Capital Module (ICM)","$",1.21," - effective until ","next COS",null,"A"]
[null,"Rate Rider for Incremental Capital Module (ICM)","$/kW",2.7300000000000001E-2," - effective until ","next COS",null,"A"]
[null,"Rate Rider for Recovery of 2018 Foregone Revenue","$",2.62," - effective until ","December 31, 2018",null,"A"]
[null,null,null,null," - effective until "]
[null,null,null,null," - effective until "]
[null,null,null,null," - effective until "]
[null,null,null,null," - effective until "]
[null,null,null,null," - effective until "]
[null,null,null,null," - effective until "]
[]
[]
[null,{"$f":"'4. Billing Det. for Def-Var'!B20","v":"GENERAL SERVICE 700 to 4,999 KW SERVICE CLASSIFICATION"}]
[null,"Rate Rider for Incremental Capital Module (ICM)","$",10.89," - effective until ","next COS",null,"A"]
[null,"Rate Rider for Incremental Capital Module (ICM)","$/kW",3.1699999999999999E-2," - effective until ","next COS",null,"A"]
[null,"Rate Rider for Recovery of 2018 Foregone Revenue","$",27.52," - effective until ","December 31, 2018",null,"A"]
[null,null,null,null," - effective until "]
[null,null,null,null," - effective until "]
[null,null,null,null," - effective until "]
[null,null,null,null," - effective until "]
[null,null,null,null," - effective until "]
[null,null,null,null," - effective until "]
[]
[]
[null,{"$f":"'4. Billing Det. for Def-Var'!B21","v":"LARGE USE SERVICE CLASSIFICATION"}]
[null,"Rate Rider for Incremental Capital Module (ICM)","$",45.33," - effective until ","next COS",null,"A"]
[null,"Rate Rider for Incremental Capital Module (ICM)","$/kW",2.4E-2," - effective until ","next COS",null,"A"]
[null,"Rate Rider for Recovery of 2018 Foregone Revenue","$",120.14," - effective until ","December 31, 2018",null,"A"]
[null,null,null,null," - effective until "]
[null,null,null,null," - effective until "]
[null,null,null,null," - effective until "]
[null,null,null,null," - effective until "]
[null,null,null,null," - effective until "]
[null,null,null,null," - effective until "]
[]
[]
[null,{"$f":"'4. Billing Det. for Def-Var'!B23","v":"UNMETERED SCATTERED LOAD SERVICE CLASSIFICATION"}]
[null,"Rate Rider for Incremental Capital Module (ICM)","$",0.01," - effective until ","next COS",null,"A"]
[null,"Rate Rider for Incremental Capital Module (ICM)","$/kWh",2.0000000000000001E-4," - effective until ","next COS",null,"A"]
[null,"Rate Rider for Recovery of 2018 Foregone Revenue","$",0.04," - effective until ","December 31, 2018",null,"A"]
[null,null,null,null," - effective until "]
[null,null,null,null," - effective until "]
[null,null,null,null," - effective until "]
[null,null,null,null," - effective until "]
[null,null,null,null," - effective until "]
[null,null,null,null," - effective until "]
[]
[]
[null,{"$f":"'4. Billing Det. for Def-Var'!B24","v":"STREET LIGHTING SERVICE CLASSIFICATION"}]
[null,"Rate Rider for Incremental Capital Module (ICM)","$",0.02," - effective until ","next COS",null,"A"]
[null,"Rate Rider for Incremental Capital Module (ICM)","$/kW",0.11119999999999999," - effective until ","next COS",null,"A"]
[null,"Rate Rider for Recovery of 2018 Foregone Revenue","$",0.03," - effective until ","December 31, 2018",null,"A"]
[null,null,null,null," - effective until "]
[null,null,null,null," - effective until "]
[null,null,null,null," - effective until "]
[null,null,null,null," - effective until "]
[null,null,null,null," - effective until "]
[null,null,null,null," - effective until "]
[]
[]
[null,{"$f":"'4. Billing Det. for Def-Var'!B25","v":"EMBEDDED DISTRIBUTOR SERVICE CLASSIFICATION"}]
[null,"Rate Rider for Incremental Capital Module (ICM)","$",40.07," - effective until ","next COS",null,"A"]
[null,"Rate Rider for Recovery of 2018 Foregone Revenue","$",18.72," - effective until ","December 31, 2018",null,"A"]
[null,null,null,null," - effective until "]
[null,null,null,null," - effective until "]
[null,null,null,null," - effective until "]
[null,null,null,null," - effective until "]
[null,null,null,null," - effective until "]
[null,null,null,null," - effective until "]
[null,null,null,null," - effective until "]
[]
[]
[null,{"$f":"'4. Billing Det. for Def-Var'!B26","v":"DISTRIBUTED GENERATION [DGEN] SERVICE CLASSIFICATION"}]
[null,"Rate Rider for Incremental Capital Module (ICM)","$",1," - effective until ","next COS",null,"A"]
[null,"Rate Rider for Recovery of 2018 Foregone Revenue","$",0.47," - effective until ","December 31, 2018",null,"A"]
[null,null,null,null," - effective until "]
[null,null,null,null," - effective until "]
[null,null,null,null," - effective until "]
[null,null,null,null," - effective until "]
[null,null,null,null," - effective until "]
[null,null,null,null," - effective until "]
[null,null,null,null," - effective until "]
[]
[]
[null,{"$f":"'4. Billing Det. for Def-Var'!B27","v":"ENERGY FROM WASTE SERVICE CLASSIFICATION"}]
[null,null,null,null," - effective until "]
[null,null,null,null," - effective until "]
[null,null,null,null," - effective until "]
[null,null,null,null," - effective until "]
[null,null,null,null," - effective until "]
[null,null,null,null," - effective until "]
[null,null,null,null," - effective until "]
[null,null,null,null," - effective until "]
[null,null,null,null," - effective until "]
[]
[]
[null,"MICROFIT SERVICE CLASSIFICATION"]
[null,null,null,null," - effective until "]
[null,null,null,null," - effective until "]
[null,null,null,null," - effective until "]
[null,null,null,null," - effective until "]
[null,null,null,null," - effective until "]
[null,null,null,null," - effective until "]
[null,null,null,null," - effective until "]
[null,null,null,null," - effective until "]
[null,null,null,null," - effective until "]
[null,null,null,null," - effective until "]

{"sheet":"20. Final Tariff Schedule","index":25,"n_rows":552,"n_cols":4,"rows_kept":552,"cut":false,"hidden":false,"merged":[[530,1,530,3],[547,1,547,3],[485,1,485,3],[522,1,522,3],[524,1,524,3],[526,1,526,3],[528,1,528,3],[465,1,465,3],[467,1,467,3],[469,1,469,3],[481,1,481,3],[483,1,483,3],[487,1,487,3],[456,1,456,3],[457,1,457,3],[459,1,459,3],[461,1,461,3],[463,1,463,3],[441,1,441,3],[443,1,443,3],[445,1,445,3],[447,1,447,3],[449,1,449,3],[451,1,451,3],[453,1,453,3],[414,1,414,3],[416,1,416,3],[418,1,418,3],[420,1,420,3],[440,1,440,3],[384,1,384,3],[407,1,407,3],[408,1,408,3],[410,1,410,3],[412,1,412,3],[374,1,374,3],[376,1,376,3],[378,1,378,3],[380,1,380,3],[382,1,382,3],[364,1,364,3],[366,1,366,3],[368,1,368,3],[371,1,371,3],[372,1,372,3],[335,1,335,3],[355,1,355,3],[358,1,358,3],[360,1,360,3],[362,1,362,3],[302,1,302,3],[322,1,322,3],[323,1,323,3],[325,1,325,3],[327,1,327,3],[329,1,329,3],[331,1,331,3],[333,1,333,3],[356,1,356,3],[292,1,292,3],[294,1,294,3],[296,1,296,3],[298,1,298,3],[300,1,300,3],[265,1,265,3],[267,1,267,3],[269,1,269,3],[289,1,289,3],[290,1,290,3],[256,1,256,3],[257,1,257,3],[259,1,259,3],[261,1,261,3],[263,1,263,3],[195,1,195,3],[197,1,197,3],[220,1,220,3],[221,1,221,3],[223,1,223,3],[225,1,225,3],[227,1,227,3],[229,1,229,3],[231,1,231,3],[233,1,233,3],[19,1,19,3],[23,1,23,3],[52,1,52,3],[185,1,185,3],[187,1,187,3],[189,1,189,3],[191,1,191,3],[193,1,193,3],[149,1,149,3],[151,1,151,3],[155,1,155,3],[159,1,159,3],[1,1,8,3],[10,1,10,2],[11,1,11,2],[12,1,12,2],[13,1,13,2],[15,1,15,2],[16,1,16,2],[184,1,184,3],[157,1,157,3],[21,1,21,3],[27,1,27,3],[29,1,29,3],[31,1,31,3],[25,1,25,3],[161,1,161,3],[148,1,148,3],[153,1,153,3],[53,1,53,3],[55,1,55,3],[57,1,57,3],[58,1,58,3],[59,1,59,3],[17,1,17,3],[18,1,18,3]]}
["Back to Index"]
[null,"INCENTIVE REGULATION MODEL FOR 2018 FILERS"]
[]
[]
[]
[]
[]
[]
[]
[]
[null,{"$f":"'Model Specs'!C4","v":"Alectra - Hydro One Brampton"}]
[null,"TARIFF OF RATES AND CHARGES"]
[null,"Effective Date January 1, 2018"]
[null,"Implementation Date May 1, 2018"]
[]
[null,"This schedule supersedes and replaces all previously "]
[null,"approved schedules of Rates, Charges and Loss Factors"]
[null,"EB-2017-0024"]
[null,"RESIDENTIAL SERVICE CLASSIFICATION"]
[null,"This classification applies to an account where the electricity is supplied exclusively to single-family dwelling units for domestic or household purposes, including seasonal occupancy. This includes, but is not limited to, detached houses, one unit of a semi-detached, duplex, triplex or quadruplex house, with a residential zoning. Separately metered dwellings within a town house complex also qualify as residential customers. Further servicing details are available in the distributor’s Conditions of Service."]
[]
[null,"APPLICATION"]
[]
[null,"The application of these rates and charges shall be in accordance with the Licence of the Distributor and any Code or Order of the Ontario Energy Board, and amendments thereto as approved by the Ontario Energy Board, which may be applicable to the administration of this schedule."]
[]
[null,"No rates and charges for the distribution of electricity and charges to meet the costs of any work or service done or furnished for the purpose of the distribution of electricity shall be made except as permitted by this schedule, unless required by the Distributor’s Licence or a Code or Order of the Ontario Energy Ontario Energy Board, and amendments thereto as approved by the Ontario Energy Board, or as specified herein."]
[]
[null,"Unless specifically noted, this schedule does not contain any charges for the electricity commodity, be it under the Regulated Price Plan, a contract with a retailer or the wholesale market price, as applicable. In addition, the charges in the MONTHLY RATES AND CHARGES - Regulatory Component of this schedule do not apply to a customer that is an embedded wholesale market participant."]
[]
[null,"It should be noted that this schedule does not list any charges, assessments, or credits that are required by law to be invoiced by a distributor and that are not subject to Ontario Energy Board approval, such as the Debt Retirement Charge, the Global Adjustment and the HST."]
[]
[null,"MONTHLY RATES AND CHARGES - Delivery Component"]
[]
["R_F",{"$f":"+RATES!C15","v":"Service Charge"},{"$f":"+RATES!G15","v":"$"},{"$f":"+RATES!I15","v":20.92}]
[null,{"$f":"+RATES!C16","v":"Distribution Volumetric Rate"},{"$f":"+RATES!G16","v":"$/kWh"},{"$f":"+RATES!I16","v":4.0000000000000001E-3}]
["R_V"]
["R_GA16",{"$f":"+RATES!C18","v":"Rate Rider for Smart Metering Entity Charge"},{"$f":"+RATES!G25","v":"$/kWh"},{"$f":"+RATES!I18","v":0.56999999999999995}]
["R_LRVA16","Rate Rider for Disposition of GA (2018) - effective until April 30, 2019 - Applicable only for Non-RPP Customers",{"$f":"RATES!G24","v":"$/kWh"},{"$f":"RATES!I24","v":-8.9999999999999998E-4}]
["R_DVA16","Rate Rider for Disposition of Deferral/Variance Accounts (2018) effective until April 30, 2019",{"$f":"RATES!G25","v":"$/kWh"},{"$f":"RATES!I25","v":-1E-3}]
["R_1576","Rate Rider for Disposition of CBR Class B (2018) - Applicable only to Class B customers",{"$f":"RATES!G26","v":"$/kWh"},{"$f":"RATES!I26","v":0}]
["R_ICMF","Rate Rider for Incremental Capital Module (ICM) - effective until the date of the next cost of service based rate order",{"$f":"RATES!G28","v":"$"},{"$f":"RATES!I28","v":0.23}]
["R_FRF","Rate Rider for Recovery of 2018 Foregone Revenue - effective until December 31, 2018",{"$f":"RATES!G29","v":"$"},{"$f":"RATES!I29","v":0.37}]
[]
["R_TN",{"$f":"+RATES!C39","v":"Retail Transmission Rate – Network Service Rate"},{"$f":"+RATES!G39","v":"$/kWh"},{"$f":"+RATES!I39","v":7.4000000000000003E-3}]
["R_TC",{"$f":"+RATES!C40","v":"Retail Transmission Rate – Line and Transformation Connection Service Rate"},{"$f":"+RATES!G40","v":"$/kWh"},{"$f":"+RATES!I40","v":6.4999999999999997E-3}]
[]
[null,"MONTHLY RATES AND CHARGES - Regulatory Component"]
[]
[null,"Wholesale Market Service Rate (WMS) - not including CBR","$/kWh",3.2000000000000002E-3]
[null,"Capacity Based Recovery (CBR) - Applicable for Class B Customers ","$/kWh",4.0000000000000002E-4]
[null,"Rural or Remote Electricity Rate Protection Charge (RRRP)","$/kWh",2.9999999999999997E-4]
[null,"Standard Supply Service - Administrative Charge (if applicable)","$",0.25]
[null,"ONTARIO ELECTRICITY SUPPORT PROGRAM RECIPIENTS"]
[null,"In addition to the charges specified on page 1 of this tariff of rates and charges, the following credits are to be applied to eligible residential customers."]
[]
[null,"APPLICATION"]
[]
[null,"The application of the charges are in accordance with the Distribution System Code (Section 9) and subsection 79.2(4) of the Ontario Energy Board Act, 1998."]
[null,"The application of these charges shall be in accordance with the Licence of the Distributor and any Code or Order of the Ontario Energy Board, and amendments thereto as approved by the Ontario Energy Board, which may be applicable to the administration of this schedule."]
[null,"In this class:\n\n“Aboriginal person” includes a person who is a First Nations person, a Métis person or an Inuit person;\n“account-holder” means a consumer who has an account with a distributor that falls within a residential-rate classification as specified in a rate order made by the Ontario Energy Board under section 78 of the Act, and who lives at the service address to which the account relates for at least six months in a year;\n“electricity-intensive medical device” means an oxygen concentrator, a mechanical ventilator, or such other device as may be specified by the Ontario Energy Board;\n“household” means the account-holder and any other people living at the accountholder’s service address for at least six months in a year, including people other than the account-holder’s spouse, children or other relatives;\n“household income” means the combined annual after-tax income of all members of a household aged 16 or over;"]
[]
[null,"The application of these credits shall be in accordance with the Licence of the Distributor and any Code or Order of the Ontario Energy Board, and amendments thereto as approved by the Ontario Energy Board, which may be applicable to the administration of this schedule."]
[]
[null,"In this class:"]
[null,"Aboriginal person includes a person who is a First Nations person, a Métis person or an Inuit person;"]
[null,"account-holder means a consumer who has an account with a distributor that falls within a residential-rate classification as specified in a rate order made by the Board under section 78 of the Act, and who lives at the service address to which the account relates for at least six months in a year;"]
[null,"electricity-intensive medical device means an oxygen concentrator, a mechanical ventilator or a kidney dialysis machine;  "]
[null,"household means the account-holder and any other people living at the accountholder's service address for at least six months in a year, including people other than the account-holder's spouse, children or other relatives; "]
[null,"household income means the combined annual after-tax income of all members of a household aged 18 or over."]
[]
[null,"MONTHLY RATES AND CHARGES"]
[]
[null,"Class A "]
[null,"(a) account-holders with a household income of $28,000 or less living in a household of one or two persons;"]
[null,"(b) account-holders with a household income of between $28,001 and $39,000 living in a household of three persons;"]
[null,"(c) account-holders with a household income of between $39,001 and $48,000 living in a household of five persons; "]
[null,"(d) account-holders with a household income of between $48,001 and $52,000 living in a household of seven or more persons;"]
[null,"but does not include account-holders in Class E."]
[null,"OESP Credit","$",-30]
[]
[null,"Class B "]
[null,"(a) account-holders with a household income of $28,000 or less living in a household of three persons;"]
[null,"(b) account-holders with a household income of between $28,001 and $39,000 living in a household of four persons;"]
[null,"(c) account-holders with a household income of between $39,001 and $48,000 living in a household of six persons; "]
[null,"but does not include account-holders in Class F."]
[null,"OESP Credit","$",-34]
[]
[null,"Class C "]
[null,"(a) account-holders with a household income of $28,000 or less living in a household of four persons;"]
[null,"(b) account-holders with a household income of between $28,001 and $39,000 living in a household of five persons;"]
[null,"(c) account-holders with a household income of between $39,001 and $48,000 living in a household of seven or more persons; "]
[null,"but does not include account-holders in Class G."]
[null,"OESP Credit","$",-38]
[]
[null,"Class D "]
[null,"(a) account-holders with a household income of $28,000 or less living in a household of five persons;"]
[null,"(b) account-holders with a household income of between $28,001 and $39,000 living in a household of six persons;"]
[null,"but does not include account-holders in Class H."]
[null,"OESP Credit","$",-42]
[]
[null,"Class E "]
[null,"Class E comprises account-holders with a household income and household size described under Class A "]
[null,"who also meet any of the following conditions:"]
[null,"(a) the dwelling to which the account relates is heated primarily by electricity; "]
[null,"(b) the account-holder or any member of the account-holder’s household is an Aboriginal person; or "]
[null,"(c) the account-holder or any member of the account-holder’s household regularly uses, for medical purposes, "]
[null,"an electricity-intensive medical device at the dwelling to which the account relates."]
[null,"OESP Credit","$",-45]
[]
[null,"Class F"]
[null,"(a) account-holders with a household income of $28,000 or less living in a household of six or more persons;"]
[null,"(b) account-holders with a household income of between $28,001 and $39,000 living in a household of seven "]
[null,"or more persons; or"]
[null,"(c) account-holders with a household income and household size described under Class B who also meet any "]
[null,"of the following conditions:"]
[null,"i. the dwelling to which the account relates is heated primarily by electricity;"]
[null,"ii. the account-holder or any member of the account-holder’s household is an Aboriginal person; or"]
[null,"iii. the account-holder or any member of the account-holder’s household regularly uses, for medical purposes, "]
[null,"an electricity-intensive medical device at the dwelling to which the account relates."]
[null,"OESP Credit"]
[null,null,"$",-50]
[null,"Class G "]
[null,"Class G comprises account-holders with a household income and household size described under Class C "]
[null,"who also meet any of the following conditions:"]
[null,"(a) the dwelling to which the account relates is heated primarily by electricity; "]
[null,"(b) the account-holder or any member of the account-holder’s household is an Aboriginal person; or "]
[null,"(c) the account-holder or any member of the account-holder’s household regularly uses, for medical purposes, "]
[null,"an electricity-intensive medical device at the dwelling to which the account relates."]
[null,"OESP Credit","$",-55]
[]
[null,"Class H "]
[null,"Class H comprises account-holders with a household income and household size described under Class D "]
[null,"who also meet any of the following conditions:"]
[null,"(a) the dwelling to which the account relates is heated primarily by electricity; "]
[null,"(b) the account-holder or any member of the account-holder’s household is an Aboriginal person; or "]
[null,"(c) the account-holder or any member of the account-holder’s household regularly uses, for medical purposes, "]
[null,"an electricity-intensive medical device at the dwelling to which the account relates."]
[null,"OESP Credit","$",-60]
[]
[null,"Class I "]
[null,"Class I comprises account-holders with a household income and household size described under "]
[null,"paragraphs (a) or (b) of Class F who also meet any of the following conditions:"]
[null,"(a) the dwelling to which the account relates is heated primarily by electricity; "]
[null,"(b) the account-holder or any member of the account-holder’s household is an Aboriginal person; or "]
[null,"(c) the account-holder or any member of the account-holder’s household regularly uses, for medical purposes, "]
[null,"an electricity-intensive medical device at the dwelling to which the account relates."]
[null,"OESP Credit","$",-75]
[]
[null,"GENERAL SERVICE LESS THAN 50 KW SERVICE CLASSIFICATION"]
[null,"This classification applies to a non residential account whose average monthly maximum demand is less than, or is forecast to be less than, 50 kW. Multi-unit residential establishments such as apartment buildings supplied through one service (bulk metered) shall normally be classified as general service. Where service is provided to combined residential and business, or residential and agricultural, whether seasonal or all-year premises, and the wiring does not provide for separate metering, the service shall normally be classed as general service. Further servicing details are available in the distributor’s Conditions of Service."]
[]
[null,"APPLICATION"]
[]
[null,"The application of these rates and charges shall be in accordance with the Licence of the Distributor and any Code or Order of the Ontario Energy Board, and amendments thereto as approved by the Ontario Energy Board, which may be applicable to the administration of this schedule."]
[]
[null,"No rates and charges for the distribution of electricity and charges to meet the costs of any work or service done or furnished for the purpose of the distribution of electricity shall be made except as permitted by this schedule, unless required by the Distributor’s Licence or a Code or Order of the Ontario Energy Board, and amendments thereto as approved by the Ontario Energy Board, or as specified herein."]
[]
[null,"Unless specifically noted, this schedule does not contain any charges for the electricity commodity, be it under the Regulated Price Plan, a contract with a retailer or the wholesale market price, as applicable. In addition, the charges in the MONTHLY RATES AND CHARGES - Regulatory Component of this schedule do not apply to a customer that is an embedded wholesale market participant."]
[]
[null,"It should be noted that this schedule does not list any charges, assessments, or credits that are required by law to be invoiced by a distributor and that are not subject to Ontario Energy Board approval, such as the Debt Retirement Charge, the Global Adjustment and the HST."]
[]
[null,"MONTHLY RATES AND CHARGES - Delivery Component"]
[]
["GSL_F",{"$f":"+RATES!C43","v":"Service Charge"},{"$f":"+RATES!G43","v":"$"},{"$f":"+RATES!I43","v":25.35}]
[null,{"$f":"+RATES!C44","v":"Distribution Volumetric Rate"},{"$f":"+RATES!G44","v":"$/kWh"},{"$f":"+RATES!I44","v":1.6899999999999998E-2}]
["GSL_V"]
["GSL_GA16",{"$f":"+RATES!C46","v":"Rate Rider for Smart Metering Entity Charge"},{"$f":"+RATES!G46","v":"$"},{"$f":"+RATES!I46","v":0.56999999999999995}]
["GSL_DVA16",{"$f":"RATES!C52","v":"Transformer Discount"},{"$f":"RATES!G52","v":"$/kWh"},{"$f":"RATES!I52","v":-3.2000000000000002E-3}]
["GSL_1576",{"$f":"RATES!C53","v":"Rate Rider for Disposition of GA (2018) - effective until April 30, 2019 - Applicable only for Non-RPP Customers"},{"$f":"RATES!G53","v":"$/kWh"},{"$f":"RATES!I53","v":-8.9999999999999998E-4}]
["GSL_CBR16",{"$f":"RATES!C54","v":"Rate Rider for Disposition of Deferral/Variance Accounts (2018) effective until April 30, 2019"},{"$f":"RATES!G54","v":"$/kWh"},{"$f":"RATES!I54","v":-1E-3}]
["GSL_TN",{"$f":"RATES!C55","v":"Rate Rider for Disposition of CBR Class B (2018) - Applicable only to Class B customers effective until April 30, 2019"},{"$f":"RATES!G55","v":"$/kWh"},{"$f":"RATES!I55","v":0}]
[{"$f":"+RATES!A57","v":"GSL_ICMF"},{"$f":"RATES!C57","v":"Rate Rider for Incremental Capital Module (ICM) - effective until the date of the next cost of service based rate order"},{"$f":"RATES!G57","v":"$"},{"$f":"RATES!I57","v":0.24}]
[{"$f":"+RATES!A58","v":"GSL_ICMV"},{"$f":"RATES!C58","v":"Rate Rider for Incremental Capital Module (ICM) - effective until the date of the next cost of service based rate order"},{"$f":"RATES!G58","v":"$/kWh"},{"$f":"RATES!I58","v":2.0000000000000001E-4}]
[{"$f":"+RATES!A60","v":"GSL_FRV"},"Rate Rider for Recovery of 2018 Foregone Revenue - effective until December 31, 2018",{"$f":"+RATES!G59","v":"$"},{"$f":"+RATES!I59","v":0.42}]
[]
["GSL_TN",{"$f":"+RATES!C69","v":"Retail Transmission Rate - Network Service Rate"},{"$f":"+RATES!G69","v":"$/kWh"},{"$f":"+RATES!I69","v":6.6E-3}]
[null,{"$f":"+RATES!C70","v":"Retail Transmission Rate - Line and Transformation Connection Service Rate"},{"$f":"+RATES!G70","v":"$/kWh"},{"$f":"+RATES!I70","v":5.4999999999999997E-3}]
[]
[null,"MONTHLY RATES AND CHARGES - Regulatory Component"]
[]
[null,"Wholesale Market Service Rate (WMS) - not including CBR","$/kWh",3.2000000000000002E-3]
[null,"Capacity Based Recovery (CBR) - Applicable for Class B Customers ","$/kWh",4.0000000000000002E-4]
[null,"Rural or Remote Electricity Rate Protection Charge (RRRP)","$/kWh",2.9999999999999997E-4]
[null,"Standard Supply Service - Administrative Charge (if applicable)","$",0.25]
[null,"GENERAL SERVICE 50 TO 699 KW SERVICE CLASSIFICATION"]
[null,"This classification applies to a non residential account whose average monthly maximum demand used for billing purposes is equal to or greater than, or is forecast to be equal to or greater than, 50 kW but less than 700 kW. Further servicing details are available in the distributor’s Conditions of Service."]
[]
[null,"APPLICATION"]
[]
[null,"The application of these rates and charges shall be in accordance with the Licence of the Distributor and any Code or Order of the Ontario Energy Board, and amendments thereto as approved by the Ontario Energy Board, which may be applicable to the administration of this schedule."]
[]
[null,"No rates and charges for the distribution of electricity and charges to meet the costs of any work or service done or furnished for the purpose of the distribution of electricity shall be made except as permitted by this schedule, unless required by the Distributor’s Licence or a Code or Order of the Ontario Energy Board, and amendments thereto as approved by the Ontario Energy Board, or as specified herein."]
[]
[null,"Unless specifically noted, this schedule does not contain any charges for the electricity commodity, be it under the Regulated Price Plan, a contract with a retailer or the wholesale market price, as applicable. In addition, the charges in the MONTHLY RATES AND CHARGES - Regulatory Component of this schedule do not apply to a customer that is an embedded wholesale market participant."]
[]
[null,"It should be noted that this schedule does not list any charges, assessments, or credits that are required by law to be invoiced by a distributor and that are not subject to Ontario Energy Board approval, such as the Debt Retirement Charge, the Global Adjustment and the HST."]
[]
[null,"MONTHLY RATES AND CHARGES - Delivery Component"]
[null,{"$f":"+RATES!C74","v":"Service Charge"},{"$f":"+RATES!G74","v":"$"},{"$f":"+RATES!I74","v":126.46}]
["GS50_699_F",{"$f":"+RATES!C75","v":"Distribution Volumetric Rate"},{"$f":"+RATES!G75","v":"$/kW"},{"$f":"+RATES!I75","v":2.8641999999999999}]
["GS50_699_V"]
["GS50_699_GA16",{"$f":"RATES!C77","v":"Transformer Discount"},{"$f":"+RATES!G77","v":"$/kW"},{"$f":"RATES!I77","v":-0.68400000000000005}]
["GS50_699_LRVA16",{"$f":"RATES!C83","v":"Rate Rider for Disposition of GA (2018) - effective until April 30, 2019 - Applicable only for Non-RPP Customers"},{"$f":"RATES!G83","v":"$/kWh"},{"$f":"RATES!I83","v":-8.9999999999999998E-4}]
["GS50_699_DVA16",{"$f":"RATES!C84","v":"Rate Rider for Disposition of Deferral/Variance Accounts (2018) effective until April 30, 2019"},{"$f":"RATES!G84","v":"$/kW"},{"$f":"RATES!I84","v":5.4999999999999997E-3}]
["GS50_699_1576",{"$f":"RATES!C85","v":"Rate Rider for Disposition of Deferral/Variance Accounts (2018) - Applicable only to non-WMP effective until April 30, 2019"},{"$f":"RATES!G85","v":"$/kW"},{"$f":"RATES!I85","v":-0.36259999999999998}]
["GS50_699_CBR16",{"$f":"RATES!C86","v":"Rate Rider for Disposition of CBR Class B (2018) - Applicable only to Class B customers effective until April 30, 2019"},{"$f":"RATES!G86","v":"$/kW"},{"$f":"RATES!I86","v":0}]
[null,{"$f":"RATES!C88","v":"Rate Rider for Incremental Capital Module (ICM) - effective until the date of the next cost of service based rate order"},{"$f":"RATES!G88","v":"$"},{"$f":"RATES!I88","v":1.21}]
[null,{"$f":"RATES!C89","v":"Rate Rider for Incremental Capital Module (ICM) - effective until the date of the next cost of service based rate order"},{"$f":"RATES!G89","v":"$/kW"},{"$f":"RATES!I89","v":2.7300000000000001E-2}]
[null,{"$f":"RATES!C90","v":"Rate Rider for Recovery of 2018 Foregone Revenue - effective until December 31, 2018"},{"$f":"RATES!G90","v":"$"},{"$f":"+RATES!I90","v":2.62}]
[]
["GS50_699_TC",{"$f":"+RATES!C98","v":"Retail Transmission Rate - Network Service Rate"},{"$f":"+RATES!G84","v":"$/kW"},{"$f":"+RATES!I98","v":2.5630000000000002}]
[null,{"$f":"+RATES!C99","v":"Retail Transmission Rate - Line and Transformation Connection Service Rate"},{"$f":"+RATES!G85","v":"$/kW"},{"$f":"+RATES!I99","v":2.1878000000000002}]
[]
[]
[null,"MONTHLY RATES AND CHARGES - Regulatory Component"]
[]
[null,"Wholesale Market Service Rate (WMS) - not including CBR","$/kWh",3.2000000000000002E-3]
[null,"Capacity Based Recovery (CBR) - Applicable for Class B Customers ","$/kWh",4.0000000000000002E-4]
[null,"Rural or Remote Electricity Rate Protection Charge (RRRP)","$/kWh",2.9999999999999997E-4]
[null,"Standard Supply Service - Administrative Charge (if applicable)","$",0.25]
[null,"GENERAL SERVICE 700 TO 4,999 KW SERVICE CLASSIFICATION"]
[null,"This classification applies to a non residential account whose average monthly maximum demand used for billing purposes is equal to or greater than, or is forecast to be equal to or greater than, 700 kW but less than 5,000 kW. Further servicing details are available in the distributor’s Conditions of Service."]
[]
[null,"APPLICATION"]
[]
[null,"The application of these rates and charges shall be in accordance with the Licence of the Distributor and any Code or Order of the Ontario Energy Board, and amendments thereto as approved by the Ontario Energy Board, which may be applicable to the administration of this schedule."]
[]
[null,"No rates and charges for the distribution of electricity and charges to meet the costs of any work or service done or furnished for the purpose of the distribution of electricity shall be made except as permitted by this schedule, unless required by the Distributor’s Licence or a Code or Order of the Ontario Energy Board, and amendments thereto as approved by the Ontario Energy Board, or as specified herein."]
[]
[null,"Unless specifically noted, this schedule does not contain any charges for the electricity commodity, be it under the Regulated Price Plan, a contract with a retailer or the wholesale market price, as applicable. In addition, the charges in the MONTHLY RATES AND CHARGES - Regulatory Component of this schedule do not apply to a customer that is an embedded wholesale market participant."]
[]
[null,"It should be noted that this schedule does not list any charges, assessments, or credits that are required by law to be invoiced by a distributor and that are not subject to Ontario Energy Board approval, such as the Debt Retirement Charge, the Global Adjustment and the HST."]
[]
[null,"MONTHLY RATES AND CHARGES - Delivery Component"]
[]
["GS700_F",{"$f":"+RATES!C101","v":"Service Charge"},{"$f":"+RATES!G101","v":"$"},{"$f":"+RATES!I101","v":1141.02}]
["GS700_V",{"$f":"+RATES!C102","v":"Distribution Volumetric Rate"},{"$f":"+RATES!G102","v":"$/kW"},{"$f":"+RATES!I102","v":3.3250000000000002}]
["GS700_GA16"]
["GS700_LRVA16",{"$f":"+RATES!C77","v":"Transformer Discount"},{"$f":"+RATES!G104","v":"$/kW"},{"$f":"RATES!I104","v":-0.85150000000000003}]
["GS700_DVA_nonWMP",{"$f":"RATES!C112","v":"Rate Rider for Disposition of GA (2018) - effective until April 30, 2019 - Applicable only for Non-RPP Customers"},{"$f":"RATES!G112","v":"$/kWh"},{"$f":"RATES!I112","v":-8.9999999999999998E-4}]
["GS700_DVA16",{"$f":"RATES!C113","v":"Rate Rider for Disposition of Deferral/Variance Accounts (2018) effective until April 30, 2019"},{"$f":"RATES!G113","v":"$/kW"},{"$f":"RATES!I113","v":6.7000000000000002E-3}]
["GS700_1576",{"$f":"RATES!C114","v":"Rate Rider for Disposition of Deferral/Variance Accounts (2018) - Applicable only to non-WMP effective until April 30, 2019"},{"$f":"RATES!G114","v":"$/kW"},{"$f":"RATES!I114","v":-0.42249999999999999}]
["GS700_CBR16",{"$f":"RATES!C115","v":"Rate Rider for Disposition of CBR Class B (2018) - Applicable only to Class B customers effective until April 30, 2019"},{"$f":"RATES!G115","v":"$/kW"},{"$f":"RATES!I115","v":0}]
[null,{"$f":"RATES!C117","v":"Rate Rider for Incremental Capital Module (ICM) - effective until the date of the next cost of service based rate order"},{"$f":"RATES!G117","v":"$"},{"$f":"RATES!I117","v":10.89}]
[null,{"$f":"RATES!C118","v":"Rate Rider for Incremental Capital Module (ICM) - effective until the date of the next cost of service based rate order"},{"$f":"RATES!G118","v":"$/kW"},{"$f":"RATES!I118","v":3.1699999999999999E-2}]
[null,{"$f":"RATES!C119","v":"Rate Rider for Recovery of 2018 Foregone Revenue - effective until December 31, 2018"},{"$f":"RATES!G119","v":"$"},{"$f":"RATES!I119","v":27.52}]
[null,{"$f":"RATES!C120","v":"Rate Rider for Recovery of 2018 Foregone Revenue - effective until December 31, 2018"},{"$f":"RATES!G119","v":"$"},{"$f":"RATES!I119","v":27.52}]
["GS700_TN",{"$f":"+RATES!C125","v":"Retail Transmission Rate - Network Service Rate"},{"$f":"+RATES!G125","v":"$/kW"},{"$f":"+RATES!I125","v":2.8742999999999999}]
["GS700_TC",{"$f":"+RATES!C126","v":"Retail Transmission Rate - Line and Transformation Connection Service Rate"},{"$f":"+RATES!G126","v":"$/kW"},{"$f":"+RATES!I126","v":2.3517000000000001}]
[]
[null,"MONTHLY RATES AND CHARGES - Regulatory Component"]
[]
[null,"Wholesale Market Service Rate (WMS) - not including CBR","$/kWh",3.2000000000000002E-3]
[null,"Capacity Based Recovery (CBR) - Applicable for Class B Customers ","$/kWh",4.0000000000000002E-4]
[null,"Rural or Remote Electricity Rate Protection Charge (RRRP)","$/kWh",2.9999999999999997E-4]
[null,"Standard Supply Service - Administrative Charge (if applicable)","$",0.25]
[null,"LARGE USE SERVICE CLASSIFICATION"]
[null,"This classification applies to an account whose average monthly maximum demand over 12 consecutive months used for billing purposes is equal to or greater than 5,000 kW, or is forecast to be equal to or greater than 5,000 kW. Further servicing details are available in the distributor’s Conditions of Service."]
[]
[null,"APPLICATION"]
[]
[null,"The application of these rates and charges shall be in accordance with the Licence of the Distributor and any Code or Order of the Ontario Energy Board, and amendments thereto as approved by the Ontario Energy Board, which may be applicable to the administration of this schedule."]
[]
[null,"No rates and charges for the distribution of electricity and charges to meet the costs of any work or service done or furnished for the purpose of the distribution of electricity shall be made except as permitted by this schedule, unless required by the Distributor’s Licence or a Code or Order of the Ontario Energy Board, and amendments thereto as approved by the Ontario Energy Board, or as specified herein."]
[]
[null,"Unless specifically noted, this schedule does not contain any charges for the electricity commodity, be it under the Regulated Price Plan, a contract with a retailer or the wholesale market price, as applicable. In addition, the charges in the MONTHLY RATES AND CHARGES - Regulatory Component of this schedule do not apply to a customer that is an embedded wholesale market participant."]
[]
[null,"It should be noted that this schedule does not list any charges, assessments, or credits that are required by law to be invoiced by a distributor and that are not subject to Ontario Energy Board approval, such as the Debt Retirement Charge, the Global Adjustment and the HST."]
[]
[null,"MONTHLY RATES AND CHARGES - Delivery Component"]
[]
["LU_F",{"$f":"+RATES!C128","v":"Service Charge"},{"$f":"+RATES!G128","v":"$"},{"$f":"+RATES!I128","v":4748.01}]
["LU_V",{"$f":"+RATES!C129","v":"Distribution Volumetric Rate"},{"$f":"+RATES!G129","v":"$/kW"},{"$f":"+RATES!I129","v":2.5173999999999999}]
["LU_GA16"]
["LU_LRVA16",{"$f":"RATES!C136","v":"Rate Rider for Disposition of GA (2018) - effective until April 30, 2019 - Applicable only for Non-RPP Customers"},{"$f":"RATES!G136","v":"$/kWh"},{"$f":"RATES!I136","v":-8.9999999999999998E-4}]
["LU_DVA16",{"$f":"RATES!C137","v":"Rate Rider for Disposition of Deferral/Variance Accounts (2018) effective until April 30, 2019"},{"$f":"RATES!G137","v":"$/kW"},{"$f":"RATES!I137","v":-0.55200000000000005}]
["LU_1576",{"$f":"RATES!C138","v":"Rate Rider for Disposition of CBR Class B (2018) - Applicable only to Class B customers effective until April 30, 2019"},{"$f":"RATES!G138","v":"$/kW"},{"$f":"RATES!I138","v":0}]
[null,{"$f":"RATES!C140","v":"Rate Rider for Incremental Capital Module (ICM) - effective until the date of the next cost of service based rate order"},{"$f":"RATES!G140","v":"$"},{"$f":"RATES!I140","v":45.33}]
[null,{"$f":"RATES!C141","v":"Rate Rider for Incremental Capital Module (ICM) - effective until the date of the next cost of service based rate order"},{"$f":"RATES!G141","v":"$/kW"},{"$f":"RATES!I141","v":2.4E-2}]
[null,{"$f":"RATES!C142","v":"Rate Rider for Recovery of 2018 Foregone Revenue - effective until December 31, 2018"},{"$f":"RATES!G142","v":"$"},{"$f":"RATES!I142","v":120.14}]
["LU_TN",{"$f":"+RATES!C151","v":"Retail Transmission Rate - Network Service Rate"},{"$f":"+RATES!G151","v":"$/kW"},{"$f":"+RATES!I151","v":3.2532000000000001}]
["LU_TC",{"$f":"+RATES!C152","v":"Retail Transmission Rate - Line and Transformation Connection Service Rate"},{"$f":"+RATES!G152","v":"$/kW"},{"$f":"+RATES!I152","v":2.7181000000000002}]
[]
[null,"MONTHLY RATES AND CHARGES - Regulatory Component"]
[]
[null,"Wholesale Market Service Rate (WMS) - not including CBR","$/kWh",3.2000000000000002E-3]
[null,"Capacity Based Recovery (CBR) - Applicable for Class B Customers ","$/kWh",4.0000000000000002E-4]
[null,"Rural or Remote Electricity Rate Protection Charge (RRRP)","$/kWh",2.9999999999999997E-4]
[null,"Standard Supply Service - Administrative Charge (if applicable)","$",0.25]
[null,"UNMETERED SCATTERED LOAD SERVICE CLASSIFICATION"]
[null,"This classification applies to an account whose average monthly maximum demand is less than, or is forecast to be less than, 50 kW and the consumption is unmetered. Such connections include cable TV power packs, bus  shelters, telephone booths, traffic lights, railway crossings, etc. The level of the consumption will be agreed to by the distributor and the customer, based on detailed manufacturer information/documentation with regard to electrical consumption of the unmetered load or periodic monitoring of actual consumption. Further servicing details are available in the distributor’s Conditions of Service."]
[]
[null,"APPLICATION"]
[]
[null,"The application of these rates and charges shall be in accordance with the Licence of the Distributor and any Code or Order of the Ontario Energy Board, and amendments thereto as approved by the Ontario Energy Board, which may be applicable to the administration of this schedule."]
[]
[null,"No rates and charges for the distribution of electricity and charges to meet the costs of any work or service done or furnished for the purpose of the distribution of electricity shall be made except as permitted by this schedule, unless required by the Distributor’s Licence or a Code or Order of the Ontario Energy Board, and amendments thereto as approved by the Ontario Energy Board, or as specified herein."]
[]
[null,"Unless specifically noted, this schedule does not contain any charges for the electricity commodity, be it under the Regulated Price Plan, a contract with a retailer or the wholesale market price, as applicable. In addition, the charges in the MONTHLY RATES AND CHARGES - Regulatory Component of this schedule do not apply to a customer that is an embedded wholesale market participant."]
[]
[null,"It should be noted that this schedule does not list any charges, assessments, or credits that are required by law to be invoiced by a distributor and that are not subject to Ontario Energy Board approval, such as the Debt Retirement Charge, the Global Adjustment and the HST."]
[]
[null,"MONTHLY RATES AND CHARGES - Delivery Component"]
[]
["USL_F",{"$f":"+RATES!C154","v":"Service Charge"},{"$f":"+RATES!G154","v":"$"},{"$f":"+RATES!I154","v":1.1000000000000001}]
["USL_V",{"$f":"+RATES!C155","v":"Distribution Volumetric Rate"},{"$f":"+RATES!G155","v":"$/kWh"},{"$f":"+RATES!I155","v":0.02}]
["USL_GA16"]
["USL_LRVA16",{"$f":"RATES!C162","v":"Rate Rider for Disposition of GA (2018) - effective until April 30, 2019 - Applicable only for Non-RPP Customers"},{"$f":"RATES!G162","v":"$/kWh"},{"$f":"RATES!I162","v":-8.9999999999999998E-4}]
["USL_DVA16",{"$f":"RATES!C163","v":"Rate Rider for Disposition of Deferral/Variance Accounts (2018) effective until April 30, 2019"},{"$f":"RATES!G163","v":"$/kWh"},{"$f":"RATES!I163","v":-1E-3}]
["USL_1576",{"$f":"RATES!C164","v":"Rate Rider for Disposition of CBR Class B (2018) - Applicable only to Class B customers effective until April 30, 2019"},{"$f":"RATES!G164","v":"$/kWh"},{"$f":"RATES!I164","v":0}]
[null,{"$f":"RATES!C166","v":"Rate Rider for Incremental Capital Module (ICM) - effective until the date of the next cost of service based rate order"},{"$f":"RATES!G166","v":"$"},{"$f":"RATES!I166","v":0.01}]
[null,{"$f":"RATES!C167","v":"Rate Rider for Incremental Capital Module (ICM) - effective until the date of the next cost of service based rate order"},{"$f":"RATES!G167","v":"$/kWh"},{"$f":"RATES!I167","v":2.0000000000000001E-4}]
[null,{"$f":"RATES!C169","v":"Rate Rider for Recovery of 2018 Foregone Revenue - effective until December 31, 2018"},{"$f":"RATES!G168","v":"$"},{"$f":"RATES!I168","v":0.04}]
["USL_TN",{"$f":"+RATES!C177","v":"Retail Transmission Rate - Network Service Rate"},{"$f":"+RATES!G177","v":"$/kWh"},{"$f":"+RATES!I177","v":6.6E-3}]
["USL_TC",{"$f":"+RATES!C178","v":"Retail Transmission Rate - Line and Transformation Connection Service Rate"},{"$f":"+RATES!G178","v":"$/kWh"},{"$f":"+RATES!I178","v":5.4999999999999997E-3}]
[]
[null,"MONTHLY RATES AND CHARGES - Regulatory Component"]
[]
[null,"Wholesale Market Service Rate (WMS) - not including CBR","$/kWh",3.2000000000000002E-3]
[null,"Capacity Based Recovery (CBR) - Applicable for Class B Customers ","$/kWh",4.0000000000000002E-4]
[null,"Rural or Remote Electricity Rate Protection Charge (RRRP)","$/kWh",2.9999999999999997E-4]
[null,"Standard Supply Service - Administrative Charge (if applicable)","$",0.25]
[null,"STREET LIGHTING SERVICE CLASSIFICATION"]
[null,"All service supplied to roadway lighting equipment owned by or operated by the City of Brampton, Regional Municipality of Peel, or the Ministry of Transportation, controlled by photo cells. The consumption for these customers will be based on the calculated connected load times the required lighting times established in the approved OEB street lighting load shape template. Further servicing details are available in the distributor’s Conditions of Service."]
[]
[null,"APPLICATION"]
[]
[null,"The application of these rates and charges shall be in accordance with the Licence of the Distributor and any Code or Order of the Ontario Energy Board, and amendments thereto as approved by the Ontario Energy Board, which may be applicable to the administration of this schedule."]
[]
[null,"No rates and charges for the distribution of electricity and charges to meet the costs of any work or service done or furnished for the purpose of the distribution of electricity shall be made except as permitted by this schedule, unless required by the Distributor’s Licence or a Code or Order of the Ontario Energy Board, and amendments thereto as approved by the Ontario Energy Board, or as specified herein."]
[]
[null,"Unless specifically noted, this schedule does not contain any charges for the electricity commodity, be it under the Regulated Price Plan, a contract with a retailer or the wholesale market price, as applicable. In addition, the charges in the MONTHLY RATES AND CHARGES - Regulatory Component of this schedule do not apply to a customer that is an embedded wholesale market participant."]
[]
[null,"It should be noted that this schedule does not list any charges, assessments, or credits that are required by law to be invoiced by a distributor and that are not subject to Ontario Energy Board approval, such as the Debt Retirement Charge, the Global Adjustment and the HST."]
[]
[null,"MONTHLY RATES AND CHARGES - Delivery Component"]
[]
["SL_F",{"$f":"+RATES!C180","v":"Service Charge (per connection)"},{"$f":"+RATES!G180","v":"$"},{"$f":"+RATES!I180","v":2.3199999999999998}]
["SL_V",{"$f":"+RATES!C181","v":"Distribution Volumetric Rate"},{"$f":"+RATES!G181","v":"$/kW"},{"$f":"+RATES!I181","v":11.6426}]
["SL_GA16"]
["SL_LRVA16",{"$f":"RATES!C188","v":"Rate Rider for Disposition of GA (2018) - effective until April 30, 2019 - Applicable only for Non-RPP Customers"},{"$f":"RATES!G188","v":"$/kWh"},{"$f":"RATES!I188","v":-8.9999999999999998E-4}]
["SL_DVA16",{"$f":"RATES!C189","v":"Rate Rider for Disposition of Deferral/Variance Accounts (2018) effective until April 30, 2019"},{"$f":"RATES!G189","v":"$/kW"},{"$f":"RATES!I189","v":-0.32190000000000002}]
["SL_1576",{"$f":"RATES!C190","v":"Rate Rider for Disposition of CBR Class B (2018) effective until April 30, 2019"},{"$f":"RATES!G190","v":"$/kW"},{"$f":"RATES!I190","v":0}]
[null,{"$f":"RATES!C192","v":"Rate Rider for Incremental Capital Module (ICM) - effective until the date of the next cost of service based rate order"},{"$f":"RATES!G192","v":"$"},{"$f":"RATES!I192","v":0.02}]
[null,{"$f":"RATES!C193","v":"Rate Rider for Incremental Capital Module (ICM) - effective until the date of the next cost of service based rate order"},{"$f":"RATES!G193","v":"$/kW"},{"$f":"RATES!I193","v":0.11119999999999999}]
[null,{"$f":"RATES!C194","v":"Rate Rider for Recovery of 2018 Foregone Revenue - effective until December 31, 2018"},{"$f":"RATES!G194","v":"$"},{"$f":"RATES!I194","v":0.03}]
["SL_TN",{"$f":"+RATES!C201","v":"Retail Transmission Rate - Network Service Rate"},{"$f":"+RATES!G201","v":"$/kW"},{"$f":"+RATES!I201","v":2.1341000000000001}]
["SL_TC",{"$f":"+RATES!C202","v":"Retail Transmission Rate - Line and Transformation Connection Service Rate"},{"$f":"+RATES!G202","v":"$/kW"},{"$f":"+RATES!I202","v":1.8214999999999999}]
[]
[null,"MONTHLY RATES AND CHARGES - Regulatory Component"]
[]
[null,"Wholesale Market Service Rate (WMS) - not including CBR","$/kWh",3.2000000000000002E-3]
[null,"Capacity Based Recovery (CBR) - Applicable for Class B Customers ","$/kWh",4.0000000000000002E-4]
[null,"Rural or Remote Electricity Rate Protection Charge (RRRP)","$/kWh",2.9999999999999997E-4]
[null,"Standard Supply Service - Administrative Charge (if applicable)","$",0.25]
[null,"STANDBY POWER SERVICE CLASSIFICATION"]
[null,"This classification refers to an account that has Load Displacement Generation and requires the distributor to provide back-up service. Further servicing details are available in the distributor’s Conditions of Service."]
[]
[null,"APPLICATION"]
[]
[null,"The application of these rates and charges shall be in accordance with the Licence of the Distributor and any Code or Order of the Ontario Energy Board, and amendments thereto as approved by the Ontario Energy Board, which may be applicable to the administration of this schedule."]
[]
[null,"No rates and charges for the distribution of electricity and charges to meet the costs of any work or service done or furnished for the purpose of the distribution of electricity shall be made except as permitted by this schedule, unless required by the Distributor’s Licence or a Code or Order of the Ontario Energy Board, and amendments thereto as approved by the Ontario Energy Board, or as specified herein."]
[]
[null,"Unless specifically noted, this schedule does not contain any charges for the electricity commodity, be it under the Regulated Price Plan, a contract with a retailer or the wholesale market price, as applicable. In addition, the charges in the MONTHLY RATES AND CHARGES - Regulatory Component of this schedule do not apply to a customer that is an embedded wholesale market participant."]
[]
[null,"It should be noted that this schedule does not list any charges, assessments, or credits that are required by law to be invoiced by a distributor and that are not subject to Ontario Energy Board approval, such as the Debt Retirement Charge, the Global Adjustment and the HST."]
[]
[null,"MONTHLY RATES AND CHARGES - Delivery Component - Approved on an Interim Basis"]
[]
["SB_V","Distribution Volumetric Rate","$/kW",{"$f":"+RATES!I205","v":1.6931}]
[null,"EMBEDDED DISTRIBUTOR SERVICE CLASSIFICATION"]
[null,"This classification applies to an electricity distributor licensed by the Ontario Energy Board, that is provided electricity by means of this distributor's facilities. Further servicing details are available in the distributor’s Conditions of Service."]
[]
[null,"APPLICATION"]
[]
[null,"The application of these rates and charges shall be in accordance with the Licence of the Distributor and any Code or Order of the Ontario Energy Board, and amendments thereto as approved by the Ontario Energy Board, which may be applicable to the administration of this schedule."]
[]
[null,"No rates and charges for the distribution of electricity and charges to meet the costs of any work or service done or furnished for the purpose of the distribution of electricity shall be made except as permitted by this schedule, unless required by the Distributor’s Licence or a Code or Order of the Ontario Energy Board, and amendments thereto as approved by the Ontario Energy Board, or as specified herein."]
[]
[null,"Unless specifically noted, this schedule does not contain any charges for the electricity commodity, be it under the Regulated Price Plan, a contract with a retailer or the wholesale market price, as applicable. In addition, the charges in the MONTHLY RATES AND CHARGES - Regulatory Component of this schedule do not apply to a customer that is an embedded wholesale market participant."]
[]
[null,"It should be noted that this schedule does not list any charges, assessments, or credits that are required by law to be invoiced by a distributor and that are not subject to Ontario Energy Board approval, such as the Debt Retirement Charge, the Global Adjustment and the HST."]
[]
[null,"MONTHLY RATES AND CHARGES - Delivery Component"]
[]
["EMD_F",{"$f":"+RATES!C232","v":"Service Charge"},{"$f":"+RATES!G211","v":"$"},{"$f":"+RATES!I211","v":4197.26}]
["EMD_GA16"]
["EMD_DVA16",{"$f":"RATES!C215","v":"Rate Rider for Disposition of GA (2018) - effective until April 30, 2019 - Applicable only for Non-RPP Customers"},{"$f":"RATES!G215","v":"$/kWh"},{"$f":"RATES!I215","v":-8.9999999999999998E-4}]
["EMD_CBR16",{"$f":"RATES!C216","v":"Rate Rider for Disposition of Deferral/Variance Accounts (2018) effective until April 30, 2019"},{"$f":"RATES!G216","v":"$/kWh"},{"$f":"RATES!I216","v":-8.9999999999999998E-4}]
["EMD_TN",{"$f":"RATES!C217","v":"Rate Rider for Disposition of CBR Class B (2018) effective until April 30, 2019"},{"$f":"RATES!G217","v":"$/kWh"},{"$f":"RATES!I217","v":0}]
[null,{"$f":"RATES!C218","v":"Rate Rider for Incremental Capital Module (ICM) - effective until the date of the next cost of service based rate order"},{"$f":"RATES!G218","v":"$"},{"$f":"RATES!I218","v":40.07}]
["EMD_FRR","Rate Rider for Recovery of 2018 Foregone Revenue - effective until December 31, 2018",{"$f":"+'19. Additional Rates'!C100","v":"$"},{"$f":"+'19. Additional Rates'!D100","v":18.72}]
[]
[]
["EMD_TC",{"$f":"+RATES!C229","v":"Retail Transmission Rate - Network Service Rate"},{"$f":"+RATES!G229","v":"$/kW"},{"$f":"+RATES!I229","v":2.8742999999999999}]
[null,{"$f":"+RATES!C230","v":"Retail Transmission Rate - Line and Transformation Connection Service Rate"},{"$f":"+RATES!G230","v":"$/kW"},{"$f":"+RATES!I230","v":2.3517000000000001}]
[null,"MONTHLY RATES AND CHARGES - Regulatory Component"]
[]
[null,"Wholesale Market Service Rate (WMS) - not including CBR","$/kWh",3.2000000000000002E-3]
[null,"Capacity Based Recovery (CBR) - Applicable for Class B Customers ","$/kWh",4.0000000000000002E-4]
[null,"Rural or Remote Electricity Rate Protection Charge (RRRP)","$/kWh",2.9999999999999997E-4]
[null,"Standard Supply Service - Administrative Charge (if applicable)","$",0.25]
[]
[]
[]
[]
[null,"DISTRIBUTED GENERATION [DGEN] SERVICE CLASSIFICATION"]
[null,"This classification applies to a distributed generator that is not a microFIT or an Energy from Waste Generator and connected to the distributor's distribution system. Further servicing details are available in the distributor’s Conditions of Service."]
[]
[null,"APPLICATION"]
[]
[null,"The application of these rates and charges shall be in accordance with the Licence of the Distributor and any Code or Order of the Ontario Energy Board, and amendments thereto as approved by the Ontario Energy Board, which may be applicable to the administration of this schedule."]
[]
[null,"No rates and charges for the distribution of electricity and charges to meet the costs of any work or service done or furnished for the purpose of the distribution of electricity shall be made except as permitted by this schedule, unless required by the Distributor’s Licence or a Code or Order of the Ontario Energy Board, and amendments thereto as approved by the Ontario Energy Board, or as specified herein."]
[]
[null,"Unless specifically noted, this schedule does not contain any charges for the electricity commodity, be it under the Regulated Price Plan, a contract with a retailer or the wholesale market price, as applicable. In addition, the charges in the MONTHLY RATES AND CHARGES - Regulatory Component of this schedule do not apply to a customer that is an embedded wholesale market participant."]
[]
[null,"It should be noted that this schedule does not list any charges, assessments, or credits that are required by law to be invoiced by a distributor and that are not subject to Ontario Energy Board approval, such as the Debt Retirement Charge, the Global Adjustment and the HST."]
[]
[null,"MONTHLY RATES AND CHARGES - Delivery Component"]
[]
["DG_F",{"$f":"+RATES!C232","v":"Service Charge"},{"$f":"+RATES!G232","v":"$"},{"$f":"+RATES!I232","v":104.91}]
["DG_GA16"]
["DG_DVA16",{"$f":"RATES!C237","v":"Rate Rider for Disposition of GA (2018) - effective until April 30, 2019 - Applicable only for Non-RPP Customers"},{"$f":"RATES!G237","v":"$/kWh"},{"$f":"RATES!I237","v":-8.9999999999999998E-4}]
["DG_1576",{"$f":"RATES!C238","v":"Rate Rider for Disposition of Deferral/Variance Accounts (2018) effective until April 30, 2019"},{"$f":"RATES!G238","v":"$/kWh"},{"$f":"RATES!I238","v":-8.9999999999999998E-4}]
[null,{"$f":"RATES!C239","v":"Rate Rider for Disposition of CBR Class B (2018) effective until April 30, 2019"},{"$f":"RATES!G239","v":"$/kWh"},{"$f":"RATES!I239","v":0}]
[null,{"$f":"RATES!C240","v":"Rate Rider for Incremental Capital Module (ICM) - effective until the date of the next cost of service based rate order"},{"$f":"RATES!G240","v":"$"},{"$f":"RATES!I240","v":1}]
["DG_FRR","Rate Rider for Recovery of 2018 Foregone Revenue - effective until December 31, 2018",{"$f":"+RATES!G241","v":"$"},{"$f":"+RATES!I241","v":0.47}]
[]
["DG_CBR16"]
["DG_TN",{"$f":"+RATES!C251","v":"Retail Transmission Rate - Network Service Rate"},{"$f":"+RATES!G251","v":"$/kWh"},{"$f":"+RATES!I251","v":6.6E-3}]
["DG_TC",{"$f":"+RATES!C252","v":"Retail Transmission Rate - Line and Transformation Connection Service Rate"},{"$f":"+RATES!G252","v":"$/kWh"},{"$f":"+RATES!I252","v":5.4999999999999997E-3}]
[]
[null,"MONTHLY RATES AND CHARGES - Regulatory Component"]
[]
[null,"Wholesale Market Service Rate (WMS) - not including CBR","$/kWh",3.2000000000000002E-3]
[null,"Capacity Based Recovery (CBR) - Applicable for Class B Customers ","$/kWh",4.0000000000000002E-4]
[null,"Rural or Remote Electricity Rate Protection Charge (RRRP)","$/kWh",2.9999999999999997E-4]
[null,"Standard Supply Service - Administrative Charge (if applicable)","$",0.25]
[null,"ENERGY FROM WASTE SERVICE CLASSIFICATION"]
[null,"This classification applies to an electricity generation facility that is not covered by a microFIT or Distributed Generation classification which produces energy from combustion of consumer waste with the capability to generate over 4,000 KW. Further servicing details are available in the distributor’s Conditions of Service."]
[]
[null,"APPLICATION"]
[]
[null,"The application of these rates and charges shall be in accordance with the Licence of the Distributor and any Code or Order of the Ontario Energy Board, and amendments thereto as approved by the Ontario Energy Board, which may be applicable to the administration of this schedule."]
[]
[null,"No rates and charges for the distribution of electricity and charges to meet the costs of any work or service done or furnished for the purpose of the distribution of electricity shall be made except as permitted by this schedule, unless required by the Distributor’s Licence or a Code or Order of the Ontario Energy Board, and amendments thereto as approved by the Ontario Energy Board, or as specified herein."]
[]
[null,"Unless specifically noted, this schedule does not contain any charges for the electricity commodity, be it under the Regulated Price Plan, a contract with a retailer or the wholesale market price, as applicable. In addition, the charges in the MONTHLY RATES AND CHARGES - Regulatory Component of this schedule do not apply to a customer that is an embedded wholesale market participant."]
[]
[null,"It should be noted that this schedule does not list any charges, assessments, or credits that are required by law to be invoiced by a distributor and that are not subject to Ontario Energy Board approval, such as the Debt Retirement Charge, the Global Adjustment and the HST."]
[]
[null,"MONTHLY RATES AND CHARGES - Delivery Component"]
[]
["WST_F","Service Charge","$",{"$f":"+RATES!I255","v":63.66}]
[null,"microFIT SERVICE CLASSIFICATION"]
[null,"This classification applies to an electricity generation facility contracted under the Independent Electricity System Operator's microFIT program and connected to the distributor's distribution system. Further servicing details are available in the distributor’s Conditions of Service."]
[]
[null,"APPLICATION"]
[]
[null,"The application of these rates and charges shall be in accordance with the Licence of the Distributor and any Code or Order of the Ontario Energy Board, and amendments thereto as approved by the Ontario Energy Board, which may be applicable to the administration of this schedule."]
[]
[null,"No rates and charges for the distribution of electricity and charges to meet the costs of any work or service done or furnished for the purpose of the distribution of electricity shall be made except as permitted by this schedule, unless required by the Distributor’s Licence or a Code or Order of the Ontario Energy Board, and amendments thereto as approved by the Ontario Energy Board, or as specified herein."]
[]
[null,"Unless specifically noted, this schedule does not contain any charges for the electricity commodity, be it under the Regulated Price Plan, a contract with a retailer or the wholesale market price, as applicable. In addition, the charges in the MONTHLY RATES AND CHARGES - Regulatory Component of this schedule do not apply to a customer that is an embedded wholesale market participant."]
[]
[null,"It should be noted that this schedule does not list any charges, assessments, or credits that are required by law to be invoiced by a distributor and that are not subject to Ontario Energy Board approval, such as the Debt Retirement Charge, the Global Adjustment and the HST."]
[]
[null,"MONTHLY RATES AND CHARGES - Delivery Component"]
[]
[null,"Service Charge","$",5.4]
[]
[null,"ALLOWANCES"]
[null,"Transformer Allowance for Ownership - per kW of billing demand/month"]
[null,"   General Service less than 50 kW Classification","$/kWh",-3.2000000000000002E-3]
[null,"   General Service 50 to 699 kW Classification","$/kW",-0.68400000000000005]
[null,"   General Service 700 to 4,999 kW Classification","$/kW",-0.85150000000000003]
[null,"Primary Metering Allowance for transformer losses - applied to measured demand and energy","%",-1]
[null,"SPECIFIC SERVICE CHARGES"]
[]
[null,"APPLICATION"]
[]
[null,"The application of these rates and charges shall be in accordance with the Licence of the Distributor and any Code or Order of the Ontario Energy Board, and amendments thereto as approved by the Ontario Energy Board, which may be applicable to the administration of this schedule."]
[]
[null,"No charges to meet the costs of any work or service done or furnished for the purpose of the distribution of electricity shall be made except as permitted by this schedule, unless required by the Distributor’s Licence or a Code or Order of the Ontario Energy Board, and amendments thereto as approved by the Ontario Energy Board, or as specified herein."]
[]
[null,"It should be noted that this schedule does not list any charges, assessments, or credits that are required by law to be invoiced by a distributor and that are not subject to Ontario Energy Board approval, such as the Debt Retirement Charge, the Global Adjustment and the HST."]
[]
[null,"Customer Administration"]
[null,"Arrears certificate","$",15]
[null,"Pulling post dated cheques","$",15]
[null,"Duplicate invoices for previous billing","$",15]
[null,"Request for other billing information","$",15]
[null,"Easement letter","$",15]
[null,"Income tax letter","$",15]
[null,"Account history","$",15]
[null,"Credit reference/credit check (plus credit agency costs)","$",15]
[null,"Returned cheque (plus bank charges)","$",15]
[null,"Legal letter charge","$",15]
[null,"Account set up charge/change of occupancy charge (plus credit agency costs if applicable)","$",30]
[null,"Special meter reads","$",30]
[null,"Special billing service (aggregation)","$",125]
[null,"Special billing service (sub-metering charge per meter)","$",25]
[]
[null,"Non-Payment of Account"]
[null,"Late payment - per month","%",1.5]
[null,"Late payment - per annum","%",19.559999999999999]
[null,"Collection of account charge - no disconnection","$",30]
[null,"Disconnect/reconnect at meter - during regular hours","$",65]
[null,"Disconnect/reconnect at meter - after regular hours","$",185]
[null,"Disconnect/reconnect at pole - during regular hours","$",185]
[null,"Disconnect/reconnect at pole - after regular hours","$",415]
[null,"Disconnect/reconnection for >300 volts - during regular hours","$",60]
[null,"Disconnect/reconnection for >300 volts - after regular hours","$",155]
[]
[null,"Other"]
[null,"Owner requested disconnection/reconnection - during regular hours","$",120]
[null,"Owner requested disconnection/reconnection - after regular hours","$",155]
[null,"Specific charge for access to the power poles - $/pole/year","$",22.35]
[null,"RETAIL SERVICE CHARGES (if applicable)"]
[]
[null,"The application of these rates and charges shall be in accordance with the Licence of the Distributor and any Code or Order of the Ontario Energy Board, and amendments thereto as approved by the Ontario Energy Board, which may be applicable to the administration of this schedule."]
[]
[null,"No rates and charges for the distribution of electricity and charges to meet the costs of any work or service done or furnished for the purpose of the distribution of electricity shall be made except as permitted by this schedule, unless required by the Distributor’s Licence or a Code or Order of the Ontario Energy Board, and amendments thereto as approved by the Ontario Energy Board, or as specified herein."]
[]
[null,"Unless specifically noted, this schedule does not contain any charges for the electricity commodity, be it under the Regulated Price Plan, a contract with a retailer or the wholesale market price, as applicable."]
[]
[null,"It should be noted that this schedule does not list any charges, assessments, or credits that are required by law to be invoiced by a distributor and that are not subject to Ontario Energy Board approval, such as the Debt Retirement Charge, the Global Adjustment and the HST."]
[]
[null,"Retail Service Charges refer to services provided by a distributor to retailers or customers related to the supply of competitive electricity."]
[null,"One-time charge, per retailer, to establish the service agreement between the distributor and the retailer","$",100]
[null,"Monthly fixed charge, per retailer","$",20]
[null,"Monthly variable charge, per customer, per retailer","$/cust.",0.5]
[null,"Distributor-consolidated billing monthly charge, per customer, per retailer","$/cust.",0.3]
[null,"Retailer-consolidated billing monthly credit, per customer, per retailer","$/cust.",-0.3]
[null,"Service Transaction Requests (STR)"]
[null,"Request fee, per request, applied to the requesting party","$",0.25]
[null,"Processing fee, per request, applied to the requesting party","$",0.5]
[null,"Request for customer information as outlined in Section 10.6.3 and Chapter 11 of the Retail"]
[null,"Settlement Code directly to retailers and customers, if not delivered electronically through the"]
[null,"Electronic Business Transaction (EBT) system, applied to the requesting party"]
[null,"Up to twice a year","$","no charge"]
[null,"More than twice a year, per request (plus incremental delivery costs)","$",2]
[]
[null,"LOSS FACTORS"]
[]
[null,"If the distributor is not capable of prorating changed loss factors jointly with distribution rates, the revised loss factors will be implemented upon the first subsequent billing for each billing cycle."]
[null,"Total Loss Factor - Secondary Metered Customer < 5,000 kW",null,1.0341]
[null,"Total Loss Factor - Secondary Metered Customer > 5,000 kW",null,1.0145]
[null,"Total Loss Factor - Primary Metered Customer < 5,000 kW",null,1.0239]
[null,"Total Loss Factor - Primary Metered Customer > 5,000 kW",null,1.0044999999999999]

{"sheet":"21. Bill Impacts","index":26,"n_rows":788,"n_cols":22,"rows_kept":788,"cut":false,"hidden":false,"merged":[[592,4,592,5],[549,12,549,13],[550,5,551,5],[550,12,551,12],[550,13,551,13],[580,4,580,5],[586,4,586,5],[526,4,526,5],[532,4,532,5],[538,4,538,5],[542,5,542,10],[543,5,543,7],[549,6,549,8],[549,9,549,11],[488,5,488,10],[489,5,489,7],[495,6,495,8],[495,9,495,11],[495,12,495,13],[496,5,497,5],[496,12,497,12],[496,13,497,13],[442,5,443,5],[442,12,443,12],[442,13,443,13],[473,4,473,5],[478,4,478,5],[484,4,484,5],[430,4,430,5],[434,5,434,10],[435,5,435,7],[441,6,441,8],[441,9,441,11],[441,12,441,13],[388,12,388,13],[389,5,390,5],[389,12,390,12],[389,13,390,13],[419,4,419,5],[424,4,424,5],[366,4,366,5],[371,4,371,5],[377,4,377,5],[381,5,381,10],[382,5,382,7],[388,6,388,8],[388,9,388,11],[327,5,327,10],[328,5,328,7],[334,6,334,8],[334,9,334,11],[334,12,334,13],[335,5,336,5],[335,12,336,12],[335,13,336,13],[281,5,282,5],[281,12,282,12],[281,13,282,13],[312,4,312,5],[317,4,317,5],[323,4,323,5],[269,4,269,5],[273,5,273,10],[274,5,274,7],[280,6,280,8],[280,9,280,11],[280,12,280,13],[227,12,227,13],[228,5,229,5],[228,12,229,12],[228,13,229,13],[258,4,258,5],[263,4,263,5],[205,4,205,5],[210,4,210,5],[216,4,216,5],[220,5,220,10],[221,5,221,7],[227,6,227,8],[227,9,227,11],[167,5,167,10],[168,5,168,7],[174,6,174,8],[174,9,174,11],[174,12,174,13],[175,5,176,5],[175,12,176,12],[175,13,176,13],[122,5,123,5],[122,12,123,12],[122,13,123,13],[153,4,153,5],[158,4,158,5],[163,4,163,5],[36,15,36,16],[36,17,36,18],[37,15,37,16],[37,17,37,18],[110,4,110,5],[114,5,114,10],[115,5,115,7],[121,6,121,8],[121,9,121,11],[121,12,121,13],[68,12,68,13],[69,5,70,5],[69,12,70,12],[69,13,70,13],[100,4,100,5],[105,4,105,5],[68,6,68,8],[68,9,68,11],[10,4,10,10],[1,4,8,10],[36,4,38,5],[61,5,61,10],[62,5,62,7],[36,6,38,6],[36,7,36,12],[36,13,36,14],[37,7,37,8],[37,9,37,10],[37,11,37,12],[37,13,37,14],[596,5,596,10],[597,5,597,7],[603,6,603,8],[603,9,603,11],[603,12,603,13],[604,5,605,5],[604,12,605,12],[604,13,605,13],[635,4,635,5],[641,4,641,5],[645,5,645,10],[646,5,646,7],[652,6,652,8],[652,9,652,11],[652,12,652,13],[653,5,654,5],[653,12,654,12],[653,13,654,13],[683,4,683,5],[689,4,689,5],[693,5,693,10],[694,5,694,7],[700,6,700,8],[700,9,700,11],[700,12,700,13],[701,5,702,5],[701,12,702,12],[701,13,702,13],[780,4,780,5],[786,4,786,5],[731,4,731,5],[737,4,737,5],[741,5,741,10],[742,5,742,7],[748,6,748,8],[748,9,748,11],[748,12,748,13],[749,5,750,5],[749,12,750,12],[749,13,750,13]]}
["Back to Index"]
[null,null,null,null,"INCENTIVE REGULATION MODEL FOR 2018 FILERS"]
[]
[]
[]
[]
[]
[]
[]
[]
[null,null,null,null,"The bill comparisons below must be provided for typical customers and consumption levels. Bill impacts must be provided for residential customers consuming 750 kWh per month and general service customers consuming 2,000 kWh per month and having a monthly demand of less than 50 kW. Include bill comparisons for Non-RPP (retailer) as well. To assess the combined effects of the shift to fixed rates and other bill impacts associated with changes in the cost of distribution service, applicants are to include a total bill impact for a residential customer at the distributor’s 10th consumption percentile (In other words, 10% of a distributor’s residential customers consume at or less than this level of consumption on a monthly basis). Refer to page 9 of the Filing Requirements For Electricity Distribution Rate Applications issued July 14, 2016.\n\nFor certain classes where one or more customers have unique consumption and demand patterns and which may be significantly impacted by the proposed rate changes, the distributor must show a typical comparison, and provide an explanation.\n\nNote:  \n1. For those classes that are not eligible for the RPP price, the weighted average price including Class B GA through end of February 2017 of $0.1058/kWh (IESO's Monthly Market Report for February 2017, page 22) has been used to represent the cost of power. For those classes on a retailer contract, applicants should enter the contract price (plus GA) for a more accurate estimate. Changes to the cost of power can be made directly on the bill impact table for the specific class.\n2. Please enter the applicable billing determinant (e.g. number of connections or devices) to be applied to the monthly service charge for unmetered rate classes in column N. If the monthly service charge is applied on a per customer basis, enter the number “1”. Distributors should provide the number of connections or devices reflective of a typical customer in each class."]
[]
[null,null,null,null,"Table 1"]
[null,null,null,null,"RATE CLASSES / CATEGORIES \n(eg: Residential TOU, Residential Retailer)",null,"Units","RPP?\nNon-RPP Retailer?\nNon-RPP\nOther?","Current \nLoss Factor ","Proposed Loss Factor","Consumption (kWh)","Demand kW\n(if applicable)","RTSR\n","Billing Determinant Applied to Fixed Charge for Unmetered Classes (e.g. # of devices/connections)."]
[null,1,1,null,{"$f":"'4. Billing Det. for Def-Var'!B17","v":"RESIDENTIAL SERVICE CLASSIFICATION"},null,{"$f":"IF(ISERROR(VLOOKUP(E15,BILLING_DETERMINANTS,2,FALSE)),\"\",(VLOOKUP(E15,BILLING_DETERMINANTS,2,FALSE)))","v":"kWh"},"RPP",{"$f":"LLF","v":1.0341},{"$f":"IF(ISBLANK(I15),\"\", I15)","v":1.0341},750,null,"N/A",null,null,null,null,null,null,{"$f":"SUM(I15:L15)","v":752.06820000000005},78,1]
[null,2,2,null,{"$f":"'4. Billing Det. for Def-Var'!B18","v":"GENERAL SERVICE LESS THAN 50 kW SERVICE CLASSIFICATION"},null,"kWh","RPP",{"$f":"LLF","v":1.0341},{"$f":"IF(ISBLANK(I16),\"\", I16)","v":1.0341},2000,null,"N/A",null,null,null,null,null,null,2002.0681999999999,{"$f":"U15+68","v":146},2]
[null,3,3,null,{"$f":"'4. Billing Det. for Def-Var'!B19","v":"GENERAL SERVICE 50 to 699 KW SERVICE CLASSIFICATION"},null,"kW","Non-RPP (Other)",{"$f":"LLF","v":1.0341},1.0341,182500,500,"DEMAND",null,null,null,null,null,null,183002.06820000001,{"$f":"U16+68","v":214},3]
[null,4,4,null,{"$f":"'4. Billing Det. for Def-Var'!B20","v":"GENERAL SERVICE 700 to 4,999 KW SERVICE CLASSIFICATION"},null,"kW","Non-RPP (Other)",{"$f":"LLF","v":1.0341},1.0341,627216,1432,"DEMAND",null,null,null,null,null,null,628650.06819999998,282,4]
[null,5,5,null,{"$f":"'4. Billing Det. for Def-Var'!B21","v":"LARGE USE SERVICE CLASSIFICATION"},null,"kW","Non-RPP (Other)",1.0145,1.0145,10220000,20000,"DEMAND",null,null,null,null,null,null,10240002.028999999,350,5]
[null,6,6,null,{"$f":"'4. Billing Det. for Def-Var'!B22","v":"STANDBY POWER SERVICE CLASSIFICATION "},null,"kW","Non-RPP (Other)",{"$f":"LLF","v":1.0341},1.0341,{"$f":"'[3]20. Bill Impacts'!$K$37","v":0},{"$f":"'[3]20. Bill Impacts'!$L$37","v":4548},"DEMAND",null,null,null,null,null,null,{"$f":"SUM(I20:L20)","v":4550.0681999999997},418,6]
[null,7,7,null,{"$f":"'4. Billing Det. for Def-Var'!B23","v":"UNMETERED SCATTERED LOAD SERVICE CLASSIFICATION"},null,"kWh","Non-RPP (Other)",{"$f":"LLF","v":1.0341},1.0341,{"$f":"'[3]20. Bill Impacts'!K35","v":21296},{"$f":"'[3]20. Bill Impacts'!L35","v":0},"N/A",186,null,null,null,null,null,21298.068200000002,486,7]
[null,8,8,null,{"$f":"'4. Billing Det. for Def-Var'!B24","v":"STREET LIGHTING SERVICE CLASSIFICATION"},null,"kW","Non-RPP (Other)",{"$f":"LLF","v":1.0341},1.0341,{"$f":"'[3]20. Bill Impacts'!K36","v":2787508},{"$f":"'[3]20. Bill Impacts'!L36","v":7922},"DEMAND",20614,null,null,null,null,null,2795432.0682000001,554,8]
[null,9,9,null,{"$f":"'4. Billing Det. for Def-Var'!B25","v":"EMBEDDED DISTRIBUTOR SERVICE CLASSIFICATION"},null,"kWh","Non-RPP (Other)",1.0246999999999999,1.0246999999999999,1417701,4000,"N/A",null,null,null,null,null,null,1421703.0493999999,622,9]
[null,10,10,null,{"$f":"'4. Billing Det. for Def-Var'!B26","v":"DISTRIBUTED GENERATION [DGEN] SERVICE CLASSIFICATION"},null,"kWh","Non-RPP (Other)",{"$f":"LLF","v":1.0341},1.0341,156,null,"N/A",null,null,null,null,null,null,158.06819999999999,690,10]
[null,11,11,null,{"$f":"'4. Billing Det. for Def-Var'!B27","v":"ENERGY FROM WASTE SERVICE CLASSIFICATION"},null,"kWh","Non-RPP (Other)",1.0341,1.0341,null,null,"N/A",null,null,null,null,null,null,2.0682,758,11]
[null,12,{"$f":"IF(ISERROR(VLOOKUP(E26, E$15:V$33, 18, FALSE)),\"\", VLOOKUP(E26, E$15:V$33, 18, FALSE))","v":1},null,{"$f":"E15","v":"RESIDENTIAL SERVICE CLASSIFICATION"},"(10th consumption percentile)","kWh","RPP",1.0341,1.0341,361.28,null,"N/A",null,null,null,null,null,null,363.34819999999996,826]
[null,13,1,null,{"$f":"E15","v":"RESIDENTIAL SERVICE CLASSIFICATION"},"(Retailer)","kWh","Non-RPP (Retailer)",1.0341,1.0341,750,null,"N/A",null,null,null,null,null,null,752.06820000000005,894]
[null,14,2,null,{"$f":"E16","v":"GENERAL SERVICE LESS THAN 50 kW SERVICE CLASSIFICATION"},"(Retailer)","kWh","Non-RPP (Retailer)",1.0341,1.0341,2000,null,"N/A",null,null,null,null,null,null,2002.0681999999999,962]
[null,15,7,null,"UNMETERED SCATTERED LOAD SERVICE CLASSIFICATION",null,"kWh","RPP",1.0341,1.0341,150,null,"N/A",1,null,null,null,null,null,152.06819999999999,1030]
[null,16,0,null,"Add additional scenarios if required",null,null,null,null,{"$f":"IF(ISBLANK(I30),\"\", I30)","v":""},null,null,null,null,null,null,null,null,null,0,1098]
[null,17,0,null,"Add additional scenarios if required",null,null,null,null,"",null,null,null,null,null,null,null,null,null,0,1166]
[null,18,0,null,"Add additional scenarios if required",null,null,null,null,"",null,null,null,null,null,null,null,null,null,0,1234]
[null,19,0,null,"Add additional scenarios if required",null,null,null,null,"",null,null,null,null,null,null,null,null,null,0,1302]
[]
[]
[null,null,null,null,"Table 2"]
[null,null,null,null,"RATE CLASSES / CATEGORIES \n(eg: Residential TOU, Residential Retailer)",null,"Units","Sub-Total",null,null,null,null,null,"Total",null,"Total (Before Tax)",null,"Total"]
[null,null,null,null,null,null,null,"A",null,"B",null,"C",null,"A + B + C",null,"A + B + C",null,"A + B + C"]
[null,null,null,null,null,null,null,"$","%","$","%","$","%","$","%","$","%","$","%"]
[null,{"$f":"H15","v":"RPP"},{"$f":"B15","v":1},null,{"$f":"IF(ISBLANK(E15), \"\", IF(E15 = \"Add additional scenarios if required\", \"\", IF(O15=\"INTERVAL\", E15 & \" - \" & H15 & \" - Interval Customers\", E15 & \" - \" &H15)))","v":"RESIDENTIAL SERVICE CLASSIFICATION - RPP"},null,{"$f":"G15","v":"kWh"},{"$f":"IF(LEN($G40)>1, (SUMPRODUCT(--($C$72:$C$1017=$B15), --($A$72:$A$1017=$E15), --($B$72:$B$1017=\"ST_A\"), $M$72:$M$1017)), \"\")","v":0.43000000000000327},{"$f":"IF(LEN($G40)>1, (SUMPRODUCT(--($C$72:$C$1017=$B15), --($A$72:$A$1017=$E15), --($B$72:$B$1017=\"ST_A\"), $N$72:$N$1017)), \"\")","v":1.7849730178497437E-2},{"$f":"IF(LEN($G40)>1, (SUMPRODUCT(--($C$72:$C$1017=$B15), --($A$72:$A$1017=$E15), --($B$72:$B$1017=\"ST_B\"), $M$72:$M$1017)), \"\")","v":2.3050000000000033},{"$f":"IF(LEN($G40)>1, (SUMPRODUCT(--($C$72:$C$1017=$B15), --($A$72:$A$1017=$E15), --($B$72:$B$1017=\"ST_B\"), $N$72:$N$1017)), \"\")","v":9.549953965493066E-2},{"$f":"IF(LEN($G40)>1, (SUMPRODUCT(--($C$72:$C$1017=$B15), --($A$72:$A$1017=$E15), --($B$72:$B$1017=\"ST_C\"), $M$72:$M$1017)), \"\")","v":2.9254600000000082},{"$f":"IF(LEN($G40)>1, (SUMPRODUCT(--($C$72:$C$1017=$B15), --($A$72:$A$1017=$E15), --($B$72:$B$1017=\"ST_C\"), $N$72:$N$1017)), \"\")","v":8.5299643843240402E-2},{"$f":"IF(LEN($G40)>1, (SUMPRODUCT(--($C$72:$C$1017=$B15), --($A$72:$A$1017=$E15), --($B$72:$B$1017=$B40&\"_TOTAL\"), $M$72:$M$1017)), \"\")","v":3.0717330000000089},{"$f":"IF(LEN($G40)>1, (SUMPRODUCT(--($C$72:$C$1017=$B15), --($A$72:$A$1017=$E15), --($B$72:$B$1017=$B40&\"_TOTAL\"), $N$72:$N$1017)), \"\")","v":2.9493194933166256E-2},{"$f":"IF(LEN($G40)>1, (SUMPRODUCT(--($C$72:$C$1017=$B15), --($A$72:$A$1017=$E15), --($B$72:$B$1017=$B40&\"_BT\"), $M$72:$M$1017)), \"\")","v":2.9254600000000011},{"$f":"IF(LEN($G40)>1, (SUMPRODUCT(--($C$72:$C$1017=$B15), --($A$72:$A$1017=$E15), --($B$72:$B$1017=$B40&\"_BT\"), $N$72:$N$1017)), \"\")","v":2.949319493316618E-2},{"$f":"IF(LEN($G40)>1, (SUMPRODUCT(--($C$72:$C$1017=$B15), --($A$72:$A$1017=$E15), --($B$72:$B$1017=$B40&\"_NET\"), $M$72:$M$1017)), \"\")","v":3.305769800000002},{"$f":"IF(LEN($G40)>1, (SUMPRODUCT(--($C$72:$C$1017=$B15), --($A$72:$A$1017=$E15), --($B$72:$B$1017=$B40&\"_NET\"), $N$72:$N$1017)), \"\")","v":2.9493194933166187E-2}]
[null,{"$f":"H16","v":"RPP"},{"$f":"B16","v":2},null,{"$f":"IF(ISBLANK(E16), \"\", IF(E16 = \"Add additional scenarios if required\", \"\", IF(O16=\"INTERVAL\", E16 & \" - \" & H16 & \" - Interval Customers\", E16 & \" - \" &H16)))","v":"GENERAL SERVICE LESS THAN 50 kW SERVICE CLASSIFICATION - RPP"},null,{"$f":"G16","v":"kWh"},-2.1099999999999994,-3.385750962772785E-2,2.8899999999999935,4.6996980744832779E-2,4.3377400000000108,5.098976861529645E-2,4.5546270000000391,1.5964784271184963E-2,4.3377399999999966,1.596478427118481E-2,4.9016461999999947,1.5964784271184806E-2]
[null,"Non-RPP (Other)",3,null,"GENERAL SERVICE 50 to 699 KW SERVICE CLASSIFICATION - Non-RPP (Other)",null,"kW",-94.839999999999918,-5.6760509432155465E-2,-708.13999999999987,-0.36476114928555969,-571.79000000000042,-0.13677779558562167,-646.1226999999999,-2.1198896414645205E-2,-571.79000000000087,-2.119889641464524E-2,-646.1227000000008,-2.1198896414645237E-2]
[null,"Non-RPP (Other)",4,null,"GENERAL SERVICE 700 to 4,999 KW SERVICE CLASSIFICATION - Non-RPP (Other)",null,"kW",-157.04520000000048,-2.5563781215136718E-2,-2342.7067999999999,-0.32678241596274804,-1922.8444,-0.1350996988585674,-2172.814171999984,-2.0773043087607249E-2,-1922.8443999999872,-2.0773043087607263E-2,-2172.8141719999858,-2.0773043087607267E-2]
[null,"Non-RPP (Other)",5,null,"LARGE USE SERVICE CLASSIFICATION - Non-RPP (Other)",null,"kW",-4944.18,-8.1471965535185736E-2,24427.82,1.2049042945378385,31203.820000000007,0.23474993090018742,35260.316600000049,2.2506473190855646E-2,31203.820000000065,2.250647319085566E-2,35260.316600000049,2.2506473190855646E-2]
[null,"Non-RPP (Other)",6,null,"STANDBY POWER SERVICE CLASSIFICATION  - Non-RPP (Other)",null,"kW",0,0,0,0,0,0,0,0,0,0,0,0]
[null,"Non-RPP (Other)",7,null,"UNMETERED SCATTERED LOAD SERVICE CLASSIFICATION - Non-RPP (Other)",null,"kWh",15.419199999999819,2.4527089364680139E-2,-56.987200000000257,-8.626529660734758E-2,-41.571664480000209,-4.5600115129895778E-2,-46.97598086240032,-1.1639803673633157E-2,-41.571664480000436,-1.1639803673633198E-2,-46.97598086240049,-1.1639803673633198E-2]
[null,"Non-RPP (Other)",8,null,"STREET LIGHTING SERVICE CLASSIFICATION - Non-RPP (Other)",null,"kW",1539.628400000016,1.0963737535893229E-2,-8134.2545999999857,-5.6081216661384076E-2,-6335.1683999999659,-3.6287769639415074E-2,-7158.7402920000022,-1.2119940190639134E-2,-6335.1683999999659,-1.2119940190639066E-2,-7158.7402919999586,-1.2119940190639061E-2]
[null,"Non-RPP (Other)",9,null,"EMBEDDED DISTRIBUTOR SERVICE CLASSIFICATION - Non-RPP (Other)",null,"kWh",96.230000000000473,2.3133212494771523E-2,-8116.4357999999993,-0.73167482182768095,-6943.6358000000037,-0.22526605587490101,-7846.3084539999836,-3.3648462678664795E-2,-6943.6357999999891,-3.3648462678664816E-2,-7846.3084539999873,-3.3648462678664816E-2]
[null,"Non-RPP (Other)",10,null,"DISTRIBUTED GENERATION [DGEN] SERVICE CLASSIFICATION - Non-RPP (Other)",null,"kWh",2.3319999999999936,2.2412732584960727E-2,1.8171999999999997,1.732850256690259E-2,1.9301237199999974,1.8088115854329293E-2,1.8985398035999879,1.3349839423078666E-2,1.6801237199999974,1.3349839423078731E-2,1.8985398035999985,1.3349839423078741E-2]
[null,"Non-RPP (Other)",11,null,"ENERGY FROM WASTE SERVICE CLASSIFICATION - Non-RPP (Other)",null,"kWh",0.56999999999999318,9.0347123157393117E-3,0.56999999999999318,9.0347123157393117E-3,0.56999999999999318,9.0347123157393117E-3,0.64409999999999457,9.034712315739343E-3,0.56999999999999318,9.0347123157393117E-3,0.64409999999999279,9.0347123157393187E-3]
[null,"RPP",12,null,"RESIDENTIAL SERVICE CLASSIFICATION - RPP",null,"kWh",2.218112000000005,0.10691237984773541,3.1213120000000032,0.14817730500717904,3.4201917184000017,0.13175428241276724,3.591201304320002,5.9638554343672476E-2,{"$f":"IF(LEN($G51)>1, (SUMPRODUCT(--($C$72:$C$1017=$B26), --($A$72:$A$1017=$E26), --($B$72:$B$1017=$B51&\"_TOTAL\"), $M$72:$M$1017)), \"\")","v":3.591201304320002},{"$f":"IF(LEN($G51)>1, (SUMPRODUCT(--($C$72:$C$1017=$B26), --($A$72:$A$1017=$E26), --($B$72:$B$1017=$B51&\"_TOTAL\"), $N$72:$N$1017)), \"\")","v":5.9638554343672476E-2},{"$f":"IF(LEN($G51)>1, (SUMPRODUCT(--($C$72:$C$1017=$B26), --($A$72:$A$1017=$E26), --($B$72:$B$1017=$B51&\"_TOTAL\"), $M$72:$M$1017)), \"\")","v":3.591201304320002},{"$f":"IF(LEN($G51)>1, (SUMPRODUCT(--($C$72:$C$1017=$B26), --($A$72:$A$1017=$E26), --($B$72:$B$1017=$B51&\"_TOTAL\"), $N$72:$N$1017)), \"\")","v":5.9638554343672476E-2}]
[null,"Non-RPP (Retailer)",13,null,"RESIDENTIAL SERVICE CLASSIFICATION - Non-RPP (Retailer)",null,"kWh",0.43000000000000327,1.7849730178497437E-2,-2.0449999999999982,-7.1689469263928732E-2,-1.4245399999999933,-3.6823292450157294E-2,-1.4957669999999723,-1.1461828245444106E-2,-1.4957669999999723,-1.1461828245444106E-2,-1.4957669999999723,-1.1461828245444106E-2]
[null,"Non-RPP (Retailer)",14,null,"GENERAL SERVICE LESS THAN 50 kW SERVICE CLASSIFICATION - Non-RPP (Retailer)",null,"kWh",-2.1099999999999994,-3.385750962772785E-2,-8.7099999999999937,-0.11899098919900618,-7.2622599999999835,-7.5041719925229483E-2,-7.6253730000000246,-2.1419924382292448E-2,-7.6253730000000246,-2.1419924382292448E-2,-7.6253730000000246,-2.1419924382292448E-2]
[null,"RPP",15,null,"UNMETERED SCATTERED LOAD SERVICE CLASSIFICATION - RPP",null,"kWh",8.999999999999897E-2,2.2004889975549866E-2,0.4499999999999984,0.11249301418381873,0.55858049999999881,9.6831888391406468E-2,0.58650952499999676,2.7932505529851388E-2,0.58650952499999676,2.7932505529851388E-2,0.58650952499999676,2.7932505529851388E-2]
[null,0,16,null,{"$f":"IF(ISBLANK(E30), \"\", IF(E30 = \"Add additional scenarios if required\", \"\", IF(O30=\"YES\", E30 & \" - \" & J30 & \" - Interval Customers\", E30 & \" - \" &J30)))","v":""},null,{"$f":"IF(ISBLANK(I30), \"\", I30)","v":""},"","","","","","","","","","","",""]
[null,0,17,null,"",null,{"$f":"IF(ISBLANK(I31), \"\", I31)","v":""},"","","","","","","","","","","",""]
[null,0,18,null,"",null,{"$f":"IF(ISBLANK(I32), \"\", I32)","v":""},"","","","","","","","","","","",""]
[null,0,19,null,"",null,{"$f":"IF(ISBLANK(I33), \"\", I33)","v":""},"","","","","","","","","","","",""]
[null,0,0,null,"",null,{"$f":"IF(ISBLANK(I34), \"\", I34)","v":""},"","","","","","","","","","","",""]
[]
[]
[null,null,null,null,"Customer Class:",{"$f":"E15","v":"RESIDENTIAL SERVICE CLASSIFICATION"},null,null,null,null,null,{"$f":"IF(O14=\"DEMAND - INTERVAL\",\"RTSR - INTERVAL METERED\",\"\")","v":""}]
[null,null,null,null,"RPP / Non-RPP:",{"$f":"H15","v":"RPP"}]
[null,null,null,null,"Consumption",{"$f":"K15","v":750},"kWh"]
[null,null,null,null,"Demand",{"$f":"L15","v":0},"kW"]
[null,null,null,null,"Current Loss Factor",{"$f":"I15","v":1.0341}]
[null,null,null,null,"Proposed/Approved Loss Factor",{"$f":"J15","v":1.0341}]
[]
[null,null,null,null,null,null,"Current OEB-Approved",null,null,"Proposed",null,null,"Impact"]
[null,null,null,null,null,null,"Rate","Volume","Charge","Rate","Volume","Charge","$ Change","% Change"]
[null,null,null,null,null,null,"($)",null,"($)","($)",null,"($)"]
[{"$f":"F62","v":"RESIDENTIAL SERVICE CLASSIFICATION"},null,null,"R_F","Monthly Service Charge",null,{"$f":"IFERROR(SUMIF(RATES!B:B,'21. Bill Impacts'!D72,RATES!H:H),\"\")","v":17.64},1,{"$f":"H72*G72","v":17.64},{"$f":"IFERROR(SUMIF(RATES!B:B,'21. Bill Impacts'!D72,RATES!I:I),\"\")","v":20.92},1,{"$f":"K72*J72","v":20.92},{"$f":"L72-I72","v":3.2800000000000011},{"$f":"IF(ISERROR(M72/I72), \"\", M72/I72)","v":0.18594104308390028}]
[{"$f":"A72","v":"RESIDENTIAL SERVICE CLASSIFICATION"},null,null,"R_V","Distribution Volumetric Rate",null,{"$f":"IFERROR(SUMIF(RATES!B:B,'21. Bill Impacts'!D73,RATES!H:H),\"\")","v":8.0000000000000002E-3},{"$f":"IF($F65>0, $F65, $F64)","v":750},{"$f":"H73*G73","v":6},{"$f":"IFERROR(SUMIF(RATES!B:B,'21. Bill Impacts'!D73,RATES!I:I),\"\")","v":4.0000000000000001E-3},{"$f":"IF($F65>0, $F65, $F64)","v":750},{"$f":"K73*J73","v":3},-3,{"$f":"IF(ISERROR(M73/I73), \"\", M73/I73)","v":-0.5}]
[{"$f":"A73","v":"RESIDENTIAL SERVICE CLASSIFICATION"},null,null,"R_FRR","Fixed Rate Riders",null,{"$f":"IFERROR(SUMIF(RATES!B:B,'21. Bill Impacts'!D74,RATES!H:H),\"\")","v":0},1,0,{"$f":"IFERROR(SUMIF(RATES!B:B,'21. Bill Impacts'!D74,RATES!I:I),\"\")","v":0.6},1,{"$f":"K74*J74","v":0.6},0.6,""]
[{"$f":"A74","v":"RESIDENTIAL SERVICE CLASSIFICATION"},null,null,"R_VRR","Volumetric Rate Riders",null,{"$f":"IFERROR(SUMIF(RATES!B:B,'21. Bill Impacts'!D75,RATES!H:H),\"\")","v":6.0000000000000006E-4},{"$f":"IF($F65>0, $F65, $F64)","v":750},0.45000000000000007,{"$f":"IFERROR(SUMIF(RATES!B:B,'21. Bill Impacts'!D75,RATES!I:I),\"\")","v":0},{"$f":"IF($F65>0, $F65, $F64)","v":750},0,-0.45000000000000007,-1]
["RESIDENTIAL SERVICE CLASSIFICATION","ST_A",{"$f":"B15","v":1},null,"Sub-Total A (excluding pass through)",null,null,null,{"$f":"SUM(I72:I75)","v":24.09},null,null,{"$f":"SUM(L72:L75)","v":24.520000000000003},0.43000000000000327,{"$f":"IF((I76)=0,\"\",(M76/I76))","v":1.7849730178497437E-2}]
["RESIDENTIAL SERVICE CLASSIFICATION",null,null,null,"Line Losses on Cost of Power",null,{"$f":"IF((F64*12>=150000), 0, IF(F63=\"RPP\",(G91*0.65+G92*0.17+G93*0.18),IF(F63=\"Non-RPP (Retailer)\",G94,G95)))","v":8.2160000000000011E-2},{"$f":"IF(G77=0, 0, $F64*F66-F64)","v":25.575000000000045},{"$f":"H77*G77","v":2.1012420000000041},{"$f":"IF((F64*12>=150000), 0, IF(F63=\"RPP\",(J91*0.65+J92*0.17+J93*0.18),IF(F63=\"Non-RPP (Retailer)\",J94,J95)))","v":8.2160000000000011E-2},{"$f":"IF(G77=0, 0, $F64*F66-F64)","v":25.575000000000045},{"$f":"K77*J77","v":2.1012420000000041},{"$f":"L77-I77","v":0},{"$f":"IF(ISERROR(M77/I77), \"\", M77/I77)","v":0}]
["RESIDENTIAL SERVICE CLASSIFICATION",null,null,"R_DVA","Total Deferral/Variance Account Rate Riders",null,{"$f":"IFERROR(SUMIF(RATES!B:B,'21. Bill Impacts'!D78,RATES!H:H),\"\")","v":-3.5000000000000001E-3},{"$f":"IF($F65>0, $F65, $F64)","v":750},-2.625,{"$f":"IFERROR(SUMIF(RATES!B:B,'21. Bill Impacts'!D78,RATES!I:I),\"\")","v":-1E-3},{"$f":"IF($F65>0, $F65, $F64)","v":750},-0.75,{"$f":"L78-I78","v":1.875},-0.7142857142857143]
["RESIDENTIAL SERVICE CLASSIFICATION",null,null,"R_GA","GA Rate Riders"]
["RESIDENTIAL SERVICE CLASSIFICATION",null,null,"R_LV","Low Voltage Service Charge",null,{"$f":"IFERROR(SUMIF(RATES!B:B,'21. Bill Impacts'!D80,RATES!H:H),\"\")","v":0},{"$f":"IF($F65>0, $F65, $F64)","v":750},0,{"$f":"IFERROR(SUMIF(RATES!B:B,'21. Bill Impacts'!D80,RATES!I:I),\"\")","v":0},{"$f":"IF($F65>0, $F65, $F64)","v":750},0,0,""]
["RESIDENTIAL SERVICE CLASSIFICATION",null,null,null,"Smart Meter Entity Charge (if applicable) and/or \nany fixed ($) Deferral/Variance Account Rate Riders",null,0.56999999999999995,1,{"$f":"H81*G81","v":0.56999999999999995},0.56999999999999995,1,{"$f":"K81*J81","v":0.56999999999999995},0,{"$f":"IF(ISERROR(M81/I81), \"\", M81/I81)","v":0}]
["RESIDENTIAL SERVICE CLASSIFICATION","ST_B",{"$f":"B15","v":1},null,"Sub-Total B - Distribution (includes Sub-Total A)",null,null,null,{"$f":"SUM(I76:I81)","v":24.136242000000003},null,null,{"$f":"SUM(L76:L81)","v":26.441242000000006},2.3050000000000033,{"$f":"IF((I82)=0,\"\",(M82/I82))","v":9.549953965493066E-2}]
["RESIDENTIAL SERVICE CLASSIFICATION",null,null,"R_TN","RTSR - Network",null,{"$f":"IFERROR(SUMIF(RATES!B:B,'21. Bill Impacts'!D83,RATES!H:H),\"\")","v":7.4000000000000003E-3},{"$f":"IF($F65>0, $F65, $F64*$F66)","v":775.57500000000005},{"$f":"H83*G83","v":5.7392550000000009},{"$f":"IFERROR(SUMIF(RATES!B:B,'21. Bill Impacts'!D83,RATES!I:I),\"\")","v":7.4000000000000003E-3},{"$f":"IF($F65>0, $F65, $F64*$F66)","v":775.57500000000005},{"$f":"K83*J83","v":5.7392550000000009},0,{"$f":"IF(ISERROR(M83/I83), \"\", M83/I83)","v":0}]
["RESIDENTIAL SERVICE CLASSIFICATION",null,null,"R_TC","RTSR - Connection and/or Line and Transformation Connection",null,{"$f":"IFERROR(SUMIF(RATES!B:B,'21. Bill Impacts'!D84,RATES!H:H),\"\")","v":5.7000000000000002E-3},{"$f":"IF($F65>0, $F65, $F64*$F66)","v":775.57500000000005},{"$f":"H84*G84","v":4.4207775000000007},{"$f":"IFERROR(SUMIF(RATES!B:B,'21. Bill Impacts'!D84,RATES!I:I),\"\")","v":6.4999999999999997E-3},{"$f":"IF($F65>0, $F65, $F64*$F66)","v":775.57500000000005},{"$f":"K84*J84","v":5.0412375000000003},0.62045999999999957,{"$f":"IF(ISERROR(M84/I84), \"\", M84/I84)","v":0.14035087719298234}]
["RESIDENTIAL SERVICE CLASSIFICATION","ST_C",{"$f":"B15","v":1},null,"Sub-Total C - Delivery (including Sub-Total B)",null,null,null,{"$f":"SUM(I82:I84)","v":34.296274500000003},null,null,{"$f":"SUM(L82:L84)","v":37.221734500000011},2.9254600000000082,{"$f":"IF((I85)=0,\"\",(M85/I85))","v":8.5299643843240402E-2}]
["RESIDENTIAL SERVICE CLASSIFICATION",null,null,null,"Wholesale Market Service Charge (WMSC)",null,3.5999999999999999E-3,{"$f":"F64*F66","v":775.57500000000005},{"$f":"H86*G86","v":2.7920700000000003},3.5999999999999999E-3,{"$f":"F64*F66","v":775.57500000000005},{"$f":"K86*J86","v":2.7920700000000003},0,{"$f":"IF(ISERROR(M86/I86), \"\", M86/I86)","v":0}]
["RESIDENTIAL SERVICE CLASSIFICATION",null,null,null,"Rural and Remote Rate Protection (RRRP)",null,2.9999999999999997E-4,{"$f":"F64*F66","v":775.57500000000005},0.2326725,2.9999999999999997E-4,{"$f":"F64*F66","v":775.57500000000005},0.2326725,0,0]
["RESIDENTIAL SERVICE CLASSIFICATION",null,null,null,"Standard Supply Service Charge",null,0.25,1,0.25,0.25,1,0.25,0,0]
["RESIDENTIAL SERVICE CLASSIFICATION",null,null,null,"Debt Retirement Charge (DRC)"]
["RESIDENTIAL SERVICE CLASSIFICATION"]
["RESIDENTIAL SERVICE CLASSIFICATION","RPP",null,null,"TOU - Off Peak",null,6.5000000000000002E-2,{"$f":"IF(AND(F64*12>=150000),0.65*F64*F66,0.65*F64)","v":487.5},31.6875,6.5000000000000002E-2,{"$f":"IF(AND(F64*12>=150000),0.65*F64*F67,0.65*F64)","v":487.5},31.6875,0,0]
["RESIDENTIAL SERVICE CLASSIFICATION","RPP",null,null,"TOU - Mid Peak",null,9.5000000000000001E-2,{"$f":"IF(AND(F64*12>=150000),0.17*F64*F66,0.17*F64)","v":127.50000000000001},12.112500000000001,9.5000000000000001E-2,{"$f":"IF(AND(F64*12>=150000),0.17*F64*F67,0.17*F64)","v":127.50000000000001},12.112500000000001,0,0]
["RESIDENTIAL SERVICE CLASSIFICATION","RPP",null,null,"TOU - On Peak",null,0.13200000000000001,{"$f":"IF(AND(F64*12>=150000),0.18*F64*F66,0.18*F64)","v":135},17.82,0.13200000000000001,{"$f":"IF(AND(F64*12>=150000),0.18*F64*F67,0.18*F64)","v":135},17.82,0,0]
["RESIDENTIAL SERVICE CLASSIFICATION","Non-RPP (Retailer)",null,null,"Non-RPP Retailer Avg. Price",null,{"$f":"0.1061","v":0.1061},{"$f":"IF(AND(F64*12>=150000),F64*F66,F64)","v":750},{"$f":"H94*G94","v":79.575000000000003},{"$f":"G94","v":0.1061},{"$f":"IF(AND(F64*12>=150000),F64*F67,F64)","v":750},{"$f":"K94*J94","v":79.575000000000003},0,0]
["RESIDENTIAL SERVICE CLASSIFICATION","Non-RPP (Other)",null,null,"Average IESO Wholesale Market Price",null,{"$f":"G94","v":0.1061},{"$f":"IF(AND(F64*12>=150000),F64*F66,F64)","v":750},{"$f":"H95*G95","v":79.575000000000003},{"$f":"G95","v":0.1061},{"$f":"IF(AND(F64*12>=150000),F64*F67,F64)","v":750},{"$f":"K95*J95","v":79.575000000000003},0,0]
["RESIDENTIAL SERVICE CLASSIFICATION"]
["RESIDENTIAL SERVICE CLASSIFICATION","RPP_BT",1,null,"Total Bill on TOU (before Taxes)",null,null,null,{"$f":"SUM(I86:I93,I85)","v":99.191017000000016},null,null,{"$f":"SUM(L86:L93,L85)","v":102.11647700000002},{"$f":"L97-I97","v":2.9254600000000011},{"$f":"IF((I97)=0,\"\",(M97/I97))","v":2.949319493316618E-2}]
["RESIDENTIAL SERVICE CLASSIFICATION","RPP",null,null,"HST",null,0.13,null,{"$f":"I97*G98","v":12.894832210000002},0.13,null,{"$f":"L97*J98","v":13.275142010000003},{"$f":"L98-I98","v":0.38030980000000092},{"$f":"IF((I98)=0,\"\",(M98/I98))","v":2.9493194933166243E-2}]
["RESIDENTIAL SERVICE CLASSIFICATION","RPP_NET",1,null,"Total Bill on TOU (before 8% Provincial Rebate)",null,null,null,{"$f":"SUM(I97:I98)","v":112.08584921000002},null,null,{"$f":"SUM(L97:L98)","v":115.39161901000003},{"$f":"SUM(M97:M98)","v":3.305769800000002},{"$f":"IF((I99)=0,\"\",(M99/I99))","v":2.9493194933166187E-2}]
[{"$f":"A98","v":"RESIDENTIAL SERVICE CLASSIFICATION"},"RPP",null,null,"8% Provincial Rebate",null,-0.08,null,{"$f":"I97*G100","v":-7.9352813600000012},{"$f":"G100","v":-0.08},null,{"$f":"L97*J100","v":-8.1693181600000013},{"$f":"L100-I100","v":-0.23403680000000016},{"$f":"IF((I100)=0,\"\",(M100/I100))","v":2.9493194933166191E-2}]
["RESIDENTIAL SERVICE CLASSIFICATION","RPP_TOTAL",{"$f":"B15","v":1},null,"Total Bill on TOU",null,null,null,{"$f":"SUM(I97,I98,I100)","v":104.15056785000002},null,null,{"$f":"L97+L98+L100","v":107.22230085000002},{"$f":"L101-I101","v":3.0717330000000089},{"$f":"IF((I101)=0,\"\",(M101/I101))","v":2.9493194933166256E-2}]
["RESIDENTIAL SERVICE CLASSIFICATION","RPP"]
["RESIDENTIAL SERVICE CLASSIFICATION","Non-RPP (Retailer)",null,null,"Total Bill on Non-RPP Avg. Price",null,null,null,{"$f":"SUM(I94,I86:I90,I85)","v":117.146017},null,null,{"$f":"SUM(L94,L86:L90,L85)","v":120.07147700000002},{"$f":"L103-I103","v":2.9254600000000153},{"$f":"IF((I103)=0,\"\",(M103/I103))","v":2.4972765399271023E-2}]
["RESIDENTIAL SERVICE CLASSIFICATION","Non-RPP (Retailer)",null,null,"HST",null,0.13,null,{"$f":"I103*G104","v":15.22898221},0.13,null,{"$f":"L103*J104","v":15.609292010000003},{"$f":"L104-I104","v":0.3803098000000027},{"$f":"IF((I104)=0,\"\",(M104/I104))","v":2.4972765399271072E-2}]
["RESIDENTIAL SERVICE CLASSIFICATION","Non-RPP (Retailer)",null,null,"Provincial Rebate",null,-0.08,null,{"$f":"I103*G105","v":-9.3716813600000002},{"$f":"G105","v":-0.08},null,{"$f":"L103*J105","v":-9.6057181600000021},{"$f":"L105-I105","v":-0.23403680000000193},{"$f":"IF((I105)=0,\"\",(M105/I105))","v":2.49727653992711E-2}]
["RESIDENTIAL SERVICE CLASSIFICATION","Non-RPP (Retailer)_TOTAL",null,null,"Total Bill on Non-RPP Avg. Price",null,null,null,{"$f":"SUM(I103,I104,I105)","v":123.00331785},null,null,{"$f":"SUM(L103,L104,L105)","v":126.07505085},{"$f":"L106-I106","v":3.0717329999999947},{"$f":"IF((I106)=0,\"\",(M106/I106))","v":2.497276539927085E-2}]
["RESIDENTIAL SERVICE CLASSIFICATION","Non-RPP (Retailer)"]
["RESIDENTIAL SERVICE CLASSIFICATION","Non-RPP (Other)",null,null,"Total Bill on Average IESO Wholesale Market Price",null,null,null,{"$f":"SUM(I95,I86:I90,I85)","v":117.146017},null,null,{"$f":"SUM(L95,L86:L90,L85)","v":120.07147700000002},{"$f":"L108-I108","v":2.9254600000000153},{"$f":"IF((I108)=0,\"\",(M108/I108))","v":2.4972765399271023E-2}]
["RESIDENTIAL SERVICE CLASSIFICATION","Non-RPP (Other)",null,null,"HST",null,0.13,null,{"$f":"I108*G109","v":15.22898221},0.13,null,{"$f":"L108*J109","v":15.609292010000003},{"$f":"L109-I109","v":0.3803098000000027},{"$f":"IF((I109)=0,\"\",(M109/I109))","v":2.4972765399271072E-2}]
["RESIDENTIAL SERVICE CLASSIFICATION","Non-RPP (Other)",null,null,"Provincial Rebate",null,-0.08,null,{"$f":"I108*G110","v":-9.3716813600000002},{"$f":"G110","v":-0.08},null,{"$f":"L108*J110","v":-9.6057181600000021},{"$f":"L110-I110","v":-0.23403680000000193},{"$f":"IF((I110)=0,\"\",(M110/I110))","v":2.49727653992711E-2}]
["RESIDENTIAL SERVICE CLASSIFICATION","Non-RPP (Other)_TOTAL",null,null,"Total Bill on Average IESO Wholesale Market Price",null,null,null,{"$f":"SUM(I108,I109,I110)","v":123.00331785},null,null,{"$f":"SUM(L108,L109,L110)","v":126.07505085},{"$f":"L111-I111","v":3.0717329999999947},{"$f":"IF((I111)=0,\"\",(M111/I111))","v":2.497276539927085E-2}]
["RESIDENTIAL SERVICE CLASSIFICATION","Non-RPP (Other)"]
[]
[]
[null,null,null,null,"Customer Class:",{"$f":"E16","v":"GENERAL SERVICE LESS THAN 50 kW SERVICE CLASSIFICATION"},null,null,null,null,null,{"$f":"IF(O66=\"DEMAND - INTERVAL\",\"RTSR - INTERVAL METERED\",\"\")","v":""}]
[null,null,null,null,"RPP / Non-RPP:",{"$f":"H16","v":"RPP"}]
[null,null,null,null,"Consumption",{"$f":"K16","v":2000},"kWh"]
[null,null,null,null,"Demand",{"$f":"L16","v":0},"kW"]
[null,null,null,null,"Current Loss Factor",{"$f":"I16","v":1.0341}]
[null,null,null,null,"Proposed/Approved Loss Factor",{"$f":"J16","v":1.0341}]
[]
[null,null,null,null,null,null,"Current OEB-Approved",null,null,"Proposed",null,null,"Impact"]
[null,null,null,null,null,null,"Rate","Volume","Charge","Rate","Volume","Charge","$ Change","% Change"]
[null,null,null,null,null,null,"($)",null,"($)","($)",null,"($)"]
[{"$f":"F115","v":"GENERAL SERVICE LESS THAN 50 kW SERVICE CLASSIFICATION"},null,null,"GSL_F","Monthly Service Charge",null,{"$f":"IFERROR(SUMIF(RATES!B:B,'21. Bill Impacts'!D125,RATES!H:H),\"\")","v":25.12},1,{"$f":"H125*G125","v":25.12},{"$f":"IFERROR(SUMIF(RATES!B:B,'21. Bill Impacts'!D125,RATES!I:I),\"\")","v":25.35},1,{"$f":"K125*J125","v":25.35},{"$f":"L125-I125","v":0.23000000000000043},{"$f":"IF(ISERROR(M125/I125), \"\", M125/I125)","v":9.1560509554140298E-3}]
[{"$f":"A125","v":"GENERAL SERVICE LESS THAN 50 kW SERVICE CLASSIFICATION"},null,null,"GSL_V","Distribution Volumetric Rate",null,{"$f":"IFERROR(SUMIF(RATES!B:B,'21. Bill Impacts'!D126,RATES!H:H),\"\")","v":1.67E-2},{"$f":"IF($F118>0, $F118, $F117)","v":2000},{"$f":"H126*G126","v":33.4},{"$f":"IFERROR(SUMIF(RATES!B:B,'21. Bill Impacts'!D126,RATES!I:I),\"\")","v":1.6899999999999998E-2},{"$f":"IF($F118>0, $F118, $F117)","v":2000},{"$f":"K126*J126","v":33.799999999999997},0.39999999999999858,{"$f":"IF(ISERROR(M126/I126), \"\", M126/I126)","v":1.1976047904191574E-2}]
[{"$f":"A126","v":"GENERAL SERVICE LESS THAN 50 kW SERVICE CLASSIFICATION"},null,null,"GSL_FRR","Fixed Rate Riders",null,{"$f":"IFERROR(SUMIF(RATES!B:B,'21. Bill Impacts'!D127,RATES!H:H),\"\")","v":0},1,0,{"$f":"IFERROR(SUMIF(RATES!B:B,'21. Bill Impacts'!D127,RATES!I:I),\"\")","v":0.65999999999999992},1,{"$f":"K127*J127","v":0.65999999999999992},0.65999999999999992,""]
["GENERAL SERVICE LESS THAN 50 kW SERVICE CLASSIFICATION",null,null,"GSL_VRR","Volumetric Rate Riders",null,{"$f":"IFERROR(SUMIF(RATES!B:B,'21. Bill Impacts'!D128,RATES!H:H),\"\")","v":1.9E-3},{"$f":"IF($F118>0, $F118, $F117)","v":2000},3.8,{"$f":"IFERROR(SUMIF(RATES!B:B,'21. Bill Impacts'!D128,RATES!I:I),\"\")","v":2.0000000000000001E-4},{"$f":"IF($F118>0, $F118, $F117)","v":2000},0.4,-3.4,-0.89473684210526316]
["GENERAL SERVICE LESS THAN 50 kW SERVICE CLASSIFICATION","ST_A",{"$f":"B16","v":2},null,"Sub-Total A (excluding pass through)",null,null,null,{"$f":"SUM(I125:I128)","v":62.319999999999993},null,null,{"$f":"SUM(L125:L128)","v":60.209999999999994},-2.1099999999999994,{"$f":"IF((I129)=0,\"\",(M129/I129))","v":-3.385750962772785E-2}]
["GENERAL SERVICE LESS THAN 50 kW SERVICE CLASSIFICATION",null,null,null,"Line Losses on Cost of Power",null,{"$f":"IF((F117*12>=150000), 0, IF(F116=\"RPP\",(G144*0.65+G145*0.17+G146*0.18),IF(F116=\"Non-RPP (Retailer)\",G147,G148)))","v":8.2160000000000011E-2},{"$f":"IF(G130=0, 0, $F117*F119-F117)","v":68.199999999999818},{"$f":"H130*G130","v":5.6033119999999856},{"$f":"IF((F117*12>=150000), 0, IF(F116=\"RPP\",(J144*0.65+J145*0.17+J146*0.18),IF(F116=\"Non-RPP (Retailer)\",J147,J148)))","v":8.2160000000000011E-2},{"$f":"IF(G130=0, 0, $F117*F119-F117)","v":68.199999999999818},{"$f":"K130*J130","v":5.6033119999999856},{"$f":"L130-I130","v":0},{"$f":"IF(ISERROR(M130/I130), \"\", M130/I130)","v":0}]
["GENERAL SERVICE LESS THAN 50 kW SERVICE CLASSIFICATION",null,null,"GSL_DVA","Total Deferral/Variance Account Rate Riders",null,{"$f":"IFERROR(SUMIF(RATES!B:B,'21. Bill Impacts'!D131,RATES!H:H),\"\")","v":-3.5000000000000001E-3},{"$f":"IF($F118>0, $F118, $F117)","v":2000},{"$f":"H131*G131","v":-7},{"$f":"IFERROR(SUMIF(RATES!B:B,'21. Bill Impacts'!D131,RATES!I:I),\"\")","v":-1E-3},{"$f":"IF($F118>0, $F118, $F117)","v":2000},{"$f":"K131*J131","v":-2},{"$f":"L131-I131","v":5},{"$f":"IF(ISERROR(M131/I131), \"\", M131/I131)","v":-0.7142857142857143}]
["GENERAL SERVICE LESS THAN 50 kW SERVICE CLASSIFICATION",null,null,"GSL_GA","GA Rate Riders"]
["GENERAL SERVICE LESS THAN 50 kW SERVICE CLASSIFICATION",null,null,"GSL_LV","Low Voltage Service Charge",null,{"$f":"IFERROR(SUMIF(RATES!B:B,'21. Bill Impacts'!D133,RATES!H:H),\"\")","v":0},{"$f":"IF($F118>0, $F118, $F117)","v":2000},0,{"$f":"IFERROR(SUMIF(RATES!B:B,'21. Bill Impacts'!D133,RATES!I:I),\"\")","v":0},{"$f":"IF($F118>0, $F118, $F117)","v":2000},0,0,""]
["GENERAL SERVICE LESS THAN 50 kW SERVICE CLASSIFICATION",null,null,null,"Smart Meter Entity Charge (if applicable) and/or \nany fixed ($) Deferral/Variance Account Rate Riders",null,0.56999999999999995,1,{"$f":"H134*G134","v":0.56999999999999995},0.56999999999999995,1,{"$f":"K134*J134","v":0.56999999999999995},0,{"$f":"IF(ISERROR(M134/I134), \"\", M134/I134)","v":0}]
["GENERAL SERVICE LESS THAN 50 kW SERVICE CLASSIFICATION","ST_B",{"$f":"C129","v":2},null,"Sub-Total B - Distribution (includes Sub-Total A)",null,null,null,{"$f":"SUM(I129:I134)","v":61.493311999999982},null,null,{"$f":"SUM(L129:L134)","v":64.383311999999975},2.8899999999999935,{"$f":"IF((I135)=0,\"\",(M135/I135))","v":4.6996980744832779E-2}]
["GENERAL SERVICE LESS THAN 50 kW SERVICE CLASSIFICATION",null,null,"GSL_TN","RTSR - Network",null,{"$f":"IFERROR(SUMIF(RATES!B:B,'21. Bill Impacts'!D136,RATES!H:H),\"\")","v":6.6E-3},{"$f":"IF($F118>0, $F118, $F117*$F119)","v":2068.1999999999998},{"$f":"H136*G136","v":13.650119999999999},{"$f":"IFERROR(SUMIF(RATES!B:B,'21. Bill Impacts'!D136,RATES!I:I),\"\")","v":6.6E-3},{"$f":"IF($F118>0, $F118, $F117*$F119)","v":2068.1999999999998},{"$f":"K136*J136","v":13.650119999999999},0,{"$f":"IF(ISERROR(M136/I136), \"\", M136/I136)","v":0}]
["GENERAL SERVICE LESS THAN 50 kW SERVICE CLASSIFICATION",null,null,"GSL_TC","RTSR - Connection and/or Line and Transformation Connection",null,{"$f":"IFERROR(SUMIF(RATES!B:B,'21. Bill Impacts'!D137,RATES!H:H),\"\")","v":4.7999999999999996E-3},{"$f":"IF($F118>0, $F118, $F117*$F119)","v":2068.1999999999998},{"$f":"H137*G137","v":9.9273599999999984},{"$f":"IFERROR(SUMIF(RATES!B:B,'21. Bill Impacts'!D137,RATES!I:I),\"\")","v":5.4999999999999997E-3},{"$f":"IF($F118>0, $F118, $F117*$F119)","v":2068.1999999999998},{"$f":"K137*J137","v":11.375099999999998},1.4477399999999996,{"$f":"IF(ISERROR(M137/I137), \"\", M137/I137)","v":0.14583333333333331}]
["GENERAL SERVICE LESS THAN 50 kW SERVICE CLASSIFICATION","ST_C",{"$f":"C129","v":2},null,"Sub-Total C - Delivery (including Sub-Total B)",null,null,null,{"$f":"SUM(I135:I137)","v":85.070791999999969},null,null,{"$f":"SUM(L135:L137)","v":89.40853199999998},4.3377400000000108,{"$f":"IF((I138)=0,\"\",(M138/I138))","v":5.098976861529645E-2}]
["GENERAL SERVICE LESS THAN 50 kW SERVICE CLASSIFICATION",null,null,null,"Wholesale Market Service Charge (WMSC)",null,3.5999999999999999E-3,{"$f":"F117*F119","v":2068.1999999999998},{"$f":"H139*G139","v":7.4455199999999992},3.5999999999999999E-3,{"$f":"F117*F119","v":2068.1999999999998},{"$f":"K139*J139","v":7.4455199999999992},0,{"$f":"IF(ISERROR(M139/I139), \"\", M139/I139)","v":0}]
["GENERAL SERVICE LESS THAN 50 kW SERVICE CLASSIFICATION",null,null,null,"Rural and Remote Rate Protection (RRRP)",null,2.9999999999999997E-4,{"$f":"F117*F119","v":2068.1999999999998},0.6204599999999999,2.9999999999999997E-4,{"$f":"F117*F119","v":2068.1999999999998},0.6204599999999999,0,0]
["GENERAL SERVICE LESS THAN 50 kW SERVICE CLASSIFICATION",null,null,null,"Standard Supply Service Charge",null,0.25,1,0.25,0.25,1,0.25,0,0]
["GENERAL SERVICE LESS THAN 50 kW SERVICE CLASSIFICATION",null,null,null,"Debt Retirement Charge (DRC)",null,7.0000000000000001E-3,{"$f":"F117","v":2000},14,7.0000000000000001E-3,{"$f":"F117","v":2000},14,0,0]
["GENERAL SERVICE LESS THAN 50 kW SERVICE CLASSIFICATION"]
["GENERAL SERVICE LESS THAN 50 kW SERVICE CLASSIFICATION","RPP",null,null,"TOU - Off Peak",null,6.5000000000000002E-2,{"$f":"IF(AND(F117*12>=150000),0.65*F117*F119,0.65*F117)","v":1300},{"$f":"H144*G144","v":84.5},6.5000000000000002E-2,{"$f":"IF(AND(F117*12>=150000),0.65*F117*F120,0.65*F117)","v":1300},{"$f":"K144*J144","v":84.5},{"$f":"L144-I144","v":0},{"$f":"IF(ISERROR(M144/I144), \"\", M144/I144)","v":0}]
["GENERAL SERVICE LESS THAN 50 kW SERVICE CLASSIFICATION","RPP",null,null,"TOU - Mid Peak",null,9.5000000000000001E-2,{"$f":"IF(AND(F117*12>=150000),0.17*F117*F119,0.17*F117)","v":340},32.299999999999997,9.5000000000000001E-2,{"$f":"IF(AND(F117*12>=150000),0.17*F117*F120,0.17*F117)","v":340},32.299999999999997,0,0]
["GENERAL SERVICE LESS THAN 50 kW SERVICE CLASSIFICATION","RPP",null,null,"TOU - On Peak",null,0.13200000000000001,{"$f":"IF(AND(F117*12>=150000),0.18*F117*F119,0.18*F117)","v":360},47.52,0.13200000000000001,{"$f":"IF(AND(F117*12>=150000),0.18*F117*F120,0.18*F117)","v":360},47.52,0,0]
["GENERAL SERVICE LESS THAN 50 kW SERVICE CLASSIFICATION","Non-RPP (Retailer)",null,null,"Non-RPP Retailer Avg. Price",null,{"$f":"0.1061","v":0.1061},{"$f":"IF(AND(F117*12>=150000),F117*F119,F117)","v":2000},{"$f":"H147*G147","v":212.2},{"$f":"G147","v":0.1061},{"$f":"IF(AND(F117*12>=150000),F117*F120,F117)","v":2000},{"$f":"K147*J147","v":212.2},0,0]
["GENERAL SERVICE LESS THAN 50 kW SERVICE CLASSIFICATION","Non-RPP (Other)",null,null,"Average IESO Wholesale Market Price",null,{"$f":"G147","v":0.1061},{"$f":"IF(AND(F117*12>=150000),F117*F119,F117)","v":2000},{"$f":"H148*G148","v":212.2},{"$f":"G148","v":0.1061},{"$f":"IF(AND(F117*12>=150000),F117*F120,F117)","v":2000},{"$f":"K148*J148","v":212.2},0,0]
["GENERAL SERVICE LESS THAN 50 kW SERVICE CLASSIFICATION"]
["GENERAL SERVICE LESS THAN 50 kW SERVICE CLASSIFICATION","RPP_BT",2,null,"Total Bill on TOU (before Taxes)",null,null,null,{"$f":"SUM(I139:I146,I138)","v":271.70677199999994},null,null,{"$f":"SUM(L139:L146,L138)","v":276.04451199999994},{"$f":"L150-I150","v":4.3377399999999966},{"$f":"IF((I150)=0,\"\",(M150/I150))","v":1.596478427118481E-2}]
["GENERAL SERVICE LESS THAN 50 kW SERVICE CLASSIFICATION","RPP",null,null,"HST",null,0.13,null,{"$f":"I150*G151","v":35.321880359999994},0.13,null,{"$f":"L150*J151","v":35.885786559999993},{"$f":"L151-I151","v":0.56390619999999814},{"$f":"IF((I151)=0,\"\",(M151/I151))","v":1.5964784271184768E-2}]
["GENERAL SERVICE LESS THAN 50 kW SERVICE CLASSIFICATION","RPP_NET",2,null,"Total Bill on TOU (before 8% Provincial Rebate)",null,null,null,{"$f":"SUM(I150:I151)","v":307.02865235999991},null,null,{"$f":"SUM(L150:L151)","v":311.93029855999993},{"$f":"SUM(M150:M151)","v":4.9016461999999947},{"$f":"IF((I152)=0,\"\",(M152/I152))","v":1.5964784271184806E-2}]
[{"$f":"A151","v":"GENERAL SERVICE LESS THAN 50 kW SERVICE CLASSIFICATION"},"RPP",null,null,"8% Provincial Rebate",null,-0.08,null,{"$f":"I150*G153","v":-21.736541759999994},{"$f":"G153","v":-0.08},null,{"$f":"L150*J153","v":-22.083560959999996},{"$f":"L153-I153","v":-0.34701920000000186},{"$f":"IF((I153)=0,\"\",(M153/I153))","v":1.5964784271184911E-2}]
["GENERAL SERVICE LESS THAN 50 kW SERVICE CLASSIFICATION","RPP_TOTAL",{"$f":"C129","v":2},null,"Total Bill on TOU",null,null,null,{"$f":"SUM(I150,I151,I153)","v":285.29211059999989},null,null,{"$f":"L150+L151+L153","v":289.84673759999993},{"$f":"L154-I154","v":4.5546270000000391},{"$f":"IF((I154)=0,\"\",(M154/I154))","v":1.5964784271184963E-2}]
["GENERAL SERVICE LESS THAN 50 kW SERVICE CLASSIFICATION","RPP"]
["GENERAL SERVICE LESS THAN 50 kW SERVICE CLASSIFICATION","Non-RPP (Retailer)",null,null,"Total Bill on Non-RPP Avg. Price",null,null,null,{"$f":"SUM(I147,I139:I143,I138)","v":319.58677199999994},null,null,{"$f":"SUM(L147,L139:L143,L138)","v":323.92451199999994},{"$f":"L156-I156","v":4.3377399999999966},{"$f":"IF((I156)=0,\"\",(M156/I156))","v":1.3572964778404525E-2}]
["GENERAL SERVICE LESS THAN 50 kW SERVICE CLASSIFICATION","Non-RPP (Retailer)",null,null,"HST",null,0.13,null,{"$f":"I156*G157","v":41.54628035999999},0.13,null,{"$f":"L156*J157","v":42.110186559999995},{"$f":"L157-I157","v":0.56390620000000524},{"$f":"IF((I157)=0,\"\",(M157/I157))","v":1.3572964778404662E-2}]
["GENERAL SERVICE LESS THAN 50 kW SERVICE CLASSIFICATION","Non-RPP (Retailer)",null,null,"Provincial Rebate",null,-0.08,null,{"$f":"I156*G158","v":-25.566941759999995},{"$f":"G158","v":-0.08},null,{"$f":"L156*J158","v":-25.913960959999997},{"$f":"L158-I158","v":-0.34701920000000186},{"$f":"IF((I158)=0,\"\",(M158/I158))","v":1.3572964778404608E-2}]
["GENERAL SERVICE LESS THAN 50 kW SERVICE CLASSIFICATION","Non-RPP (Retailer)_TOTAL",null,null,"Total Bill on Non-RPP Avg. Price",null,null,null,{"$f":"SUM(I156,I157,I158)","v":335.56611059999989},null,null,{"$f":"SUM(L156,L157,L158)","v":340.12073759999993},{"$f":"L159-I159","v":4.5546270000000391},{"$f":"IF((I159)=0,\"\",(M159/I159))","v":1.3572964778404653E-2}]
["GENERAL SERVICE LESS THAN 50 kW SERVICE CLASSIFICATION","Non-RPP (Retailer)"]
["GENERAL SERVICE LESS THAN 50 kW SERVICE CLASSIFICATION","Non-RPP (Other)",null,null,"Total Bill on Average IESO Wholesale Market Price",null,null,null,{"$f":"SUM(I148,I139:I143,I138)","v":319.58677199999994},null,null,{"$f":"SUM(L148,L139:L143,L138)","v":323.92451199999994},{"$f":"L161-I161","v":4.3377399999999966},{"$f":"IF((I161)=0,\"\",(M161/I161))","v":1.3572964778404525E-2}]
["GENERAL SERVICE LESS THAN 50 kW SERVICE CLASSIFICATION","Non-RPP (Other)",null,null,"HST",null,0.13,null,{"$f":"I161*G162","v":41.54628035999999},0.13,null,{"$f":"L161*J162","v":42.110186559999995},{"$f":"L162-I162","v":0.56390620000000524},{"$f":"IF((I162)=0,\"\",(M162/I162))","v":1.3572964778404662E-2}]
["GENERAL SERVICE LESS THAN 50 kW SERVICE CLASSIFICATION","Non-RPP (Other)",null,null,"Provincial Rebate",null,-0.08,null,{"$f":"I161*G163","v":-25.566941759999995},{"$f":"G163","v":-0.08},null,{"$f":"L161*J163","v":-25.913960959999997},{"$f":"L163-I163","v":-0.34701920000000186},{"$f":"IF((I163)=0,\"\",(M163/I163))","v":1.3572964778404608E-2}]
["GENERAL SERVICE LESS THAN 50 kW SERVICE CLASSIFICATION","Non-RPP (Other)_TOTAL",null,null,"Total Bill on Average IESO Wholesale Market Price",null,null,null,{"$f":"SUM(I161,I162,I163)","v":335.56611059999989},null,null,{"$f":"SUM(L161,L162,L163)","v":340.12073759999993},{"$f":"L164-I164","v":4.5546270000000391},{"$f":"IF((I164)=0,\"\",(M164/I164))","v":1.3572964778404653E-2}]
["GENERAL SERVICE LESS THAN 50 kW SERVICE CLASSIFICATION","Non-RPP (Other)"]
[]
[]
[null,null,null,null,"Customer Class:",{"$f":"E17","v":"GENERAL SERVICE 50 to 699 KW SERVICE CLASSIFICATION"},null,null,null,null,null,{"$f":"IF(O119=\"DEMAND - INTERVAL\",\"RTSR - INTERVAL METERED\",\"\")","v":""}]
[null,null,null,null,"RPP / Non-RPP:",{"$f":"H17","v":"Non-RPP (Other)"},null,null,"Class B"]
[null,null,null,null,"Consumption",{"$f":"K17","v":182500},"kWh"]
[null,null,null,null,"Demand",{"$f":"L17","v":500},"kW"]
[null,null,null,null,"Current Loss Factor",{"$f":"I17","v":1.0341}]
[null,null,null,null,"Proposed/Approved Loss Factor",{"$f":"J17","v":1.0341}]
[]
[null,null,null,null,null,null,"Current OEB-Approved",null,null,"Proposed",null,null,"Impact"]
[null,null,null,null,null,null,"Rate","Volume","Charge","Rate","Volume","Charge","$ Change","% Change"]
[null,null,null,null,null,null,"($)",null,"($)","($)",null,"($)"]
[{"$f":"F168","v":"GENERAL SERVICE 50 to 699 KW SERVICE CLASSIFICATION"},null,null,"GS50_699_F","Monthly Service Charge",null,{"$f":"IFERROR(SUMIF(RATES!B:B,'21. Bill Impacts'!D178,RATES!H:H),\"\")","v":125.33},1,{"$f":"H178*G178","v":125.33},{"$f":"IFERROR(SUMIF(RATES!B:B,'21. Bill Impacts'!D178,RATES!I:I),\"\")","v":126.46},1,{"$f":"K178*J178","v":126.46},{"$f":"L178-I178","v":1.1299999999999955},{"$f":"IF(ISERROR(M178/I178), \"\", M178/I178)","v":9.0161972392882421E-3}]
[{"$f":"A178","v":"GENERAL SERVICE 50 to 699 KW SERVICE CLASSIFICATION"},null,null,"GS50_699_V","Distribution Volumetric Rate",null,{"$f":"IFERROR(SUMIF(RATES!B:B,'21. Bill Impacts'!D179,RATES!H:H),\"\")","v":2.8386999999999998},{"$f":"IF($F171>0, $F171, $F170)","v":500},{"$f":"H179*G179","v":1419.35},{"$f":"IFERROR(SUMIF(RATES!B:B,'21. Bill Impacts'!D179,RATES!I:I),\"\")","v":2.8641999999999999},{"$f":"IF($F171>0, $F171, $F170)","v":500},{"$f":"K179*J179","v":1432.1},12.75,{"$f":"IF(ISERROR(M179/I179), \"\", M179/I179)","v":8.9829851692676231E-3}]
[{"$f":"A179","v":"GENERAL SERVICE 50 to 699 KW SERVICE CLASSIFICATION"},null,null,"GS50_699_FRR","Fixed Rate Riders",null,{"$f":"IFERROR(SUMIF(RATES!B:B,'21. Bill Impacts'!D180,RATES!H:H),\"\")","v":0},1,0,{"$f":"IFERROR(SUMIF(RATES!B:B,'21. Bill Impacts'!D180,RATES!I:I),\"\")","v":3.83},1,{"$f":"K180*J180","v":3.83},3.83,""]
[{"$f":"A180","v":"GENERAL SERVICE 50 to 699 KW SERVICE CLASSIFICATION"},null,null,"GS50_699_VRR","Volumetric Rate Riders",null,{"$f":"IFERROR(SUMIF(RATES!B:B,'21. Bill Impacts'!D181,RATES!H:H),\"\")","v":0.25240000000000001},{"$f":"IF($F171>0, $F171, $F170)","v":500},126.2,{"$f":"IFERROR(SUMIF(RATES!B:B,'21. Bill Impacts'!D181,RATES!I:I),\"\")","v":2.7300000000000001E-2},{"$f":"IF($F171>0, $F171, $F170)","v":500},13.65,-112.55,-0.89183835182250393]
["GENERAL SERVICE 50 to 699 KW SERVICE CLASSIFICATION","ST_A",{"$f":"B17","v":3},null,"Sub-Total A (excluding pass through)",null,null,null,{"$f":"SUM(I178:I181)","v":1670.8799999999999},null,null,{"$f":"SUM(L178:L181)","v":1576.04},-94.839999999999918,{"$f":"IF((I182)=0,\"\",(M182/I182))","v":-5.6760509432155465E-2}]
["GENERAL SERVICE 50 to 699 KW SERVICE CLASSIFICATION",null,null,null,"Line Losses on Cost of Power",null,{"$f":"IF((F170*12>=150000), 0, IF(F169=\"RPP\",(G197*0.65+G198*0.17+G199*0.18),IF(F169=\"Non-RPP (Retailer)\",G200,G201)))","v":0},{"$f":"IF(G183=0, 0, $F170*F172-F170)","v":0},{"$f":"H183*G183","v":0},{"$f":"IF((F170*12>=150000), 0, IF(F169=\"RPP\",(J197*0.65+J198*0.17+J199*0.18),IF(F169=\"Non-RPP (Retailer)\",J200,J201)))","v":0},{"$f":"IF(G183=0, 0, $F170*F172-F170)","v":0},{"$f":"K183*J183","v":0},{"$f":"L183-I183","v":0},{"$f":"IF(ISERROR(M183/I183), \"\", M183/I183)","v":""}]
["GENERAL SERVICE 50 to 699 KW SERVICE CLASSIFICATION",null,null,"GS50_699_DVA","Total Deferral/Variance Account Rate Riders",null,{"$f":"IFERROR(SUMIF(RATES!B:B,'21. Bill Impacts'!D184,RATES!H:H),\"\")","v":-1.2475000000000001},{"$f":"IF($F171>0, $F171, $F170)","v":500},{"$f":"H184*G184","v":-623.75},{"$f":"IFERROR(SUMIF(RATES!B:B,'21. Bill Impacts'!D184,RATES!I:I),\"\")","v":-0.35709999999999997},{"$f":"IF($F171>0, $F171, $F170)","v":500},{"$f":"K184*J184","v":-178.54999999999998},{"$f":"L184-I184","v":445.20000000000005},{"$f":"IF(ISERROR(M184/I184), \"\", M184/I184)","v":-0.71374749498998002}]
["GENERAL SERVICE 50 to 699 KW SERVICE CLASSIFICATION",null,null,"GS50_699_GA","GA Rate Riders",null,{"$f":"IFERROR(SUMIF(RATES!B:B,'21. Bill Impacts'!D185,RATES!H:H),\"\")","v":4.8999999999999998E-3},{"$f":"F170","v":182500},894.25,{"$f":"IFERROR(SUMIF(RATES!B:B,'21. Bill Impacts'!D185,RATES!I:I),\"\")","v":-8.9999999999999998E-4},{"$f":"K195","v":182500},-164.25,-1058.5,-1.1836734693877551]
[{"$f":"A185","v":"GENERAL SERVICE 50 to 699 KW SERVICE CLASSIFICATION"},null,null,"GS50_699_LV","Low Voltage Service Charge",null,{"$f":"IFERROR(SUMIF(RATES!B:B,'21. Bill Impacts'!D186,RATES!H:H),\"\")","v":0},{"$f":"IF($F171>0, $F171, $F170)","v":500},0,{"$f":"IFERROR(SUMIF(RATES!B:B,'21. Bill Impacts'!D186,RATES!I:I),\"\")","v":0},{"$f":"IF($F171>0, $F171, $F170)","v":500},0,0,""]
["GENERAL SERVICE 50 to 699 KW SERVICE CLASSIFICATION",null,null,null,"Smart Meter Entity Charge (if applicable) and/or \nany fixed ($) Deferral/Variance Account Rate Riders",null,0,1,{"$f":"H187*G187","v":0},0,1,{"$f":"K187*J187","v":0},0,{"$f":"IF(ISERROR(M187/I187), \"\", M187/I187)","v":""}]
["GENERAL SERVICE 50 to 699 KW SERVICE CLASSIFICATION","ST_B",{"$f":"C182","v":3},null,"Sub-Total B - Distribution (includes Sub-Total A)",null,null,null,{"$f":"SUM(I182:I187)","v":1941.3799999999999},null,null,{"$f":"SUM(L182:L187)","v":1233.24},-708.13999999999987,{"$f":"IF((I188)=0,\"\",(M188/I188))","v":-0.36476114928555969}]
["GENERAL SERVICE 50 to 699 KW SERVICE CLASSIFICATION",null,null,"GS50_699_TN","RTSR - Network",null,{"$f":"IFERROR(SUMIF(RATES!B:B,'21. Bill Impacts'!D189,RATES!H:H),\"\")","v":2.5604},{"$f":"IF($F171>0, $F171, $F170*$F172)","v":500},{"$f":"H189*G189","v":1280.2},{"$f":"IFERROR(SUMIF(RATES!B:B,'21. Bill Impacts'!D189,RATES!I:I),\"\")","v":2.5630000000000002},{"$f":"IF($F171>0, $F171, $F170*$F172)","v":500},{"$f":"K189*J189","v":1281.5},1.2999999999999545,{"$f":"IF(ISERROR(M189/I189), \"\", M189/I189)","v":1.0154663333853729E-3}]
["GENERAL SERVICE 50 to 699 KW SERVICE CLASSIFICATION",null,null,"GS50_699_TC","RTSR - Connection and/or Line and Transformation Connection",null,{"$f":"IFERROR(SUMIF(RATES!B:B,'21. Bill Impacts'!D190,RATES!H:H),\"\")","v":1.9177},{"$f":"IF($F171>0, $F171, $F170*$F172)","v":500},{"$f":"H190*G190","v":958.85},{"$f":"IFERROR(SUMIF(RATES!B:B,'21. Bill Impacts'!D190,RATES!I:I),\"\")","v":2.1878000000000002},{"$f":"IF($F171>0, $F171, $F170*$F172)","v":500},{"$f":"K190*J190","v":1093.9000000000001},135.05000000000007,{"$f":"IF(ISERROR(M190/I190), \"\", M190/I190)","v":0.14084580487041776}]
["GENERAL SERVICE 50 to 699 KW SERVICE CLASSIFICATION","ST_C",{"$f":"C182","v":3},null,"Sub-Total C - Delivery (including Sub-Total B)",null,null,null,{"$f":"SUM(I188:I190)","v":4180.43},null,null,{"$f":"SUM(L188:L190)","v":3608.64},-571.79000000000042,{"$f":"IF((I191)=0,\"\",(M191/I191))","v":-0.13677779558562167}]
["GENERAL SERVICE 50 to 699 KW SERVICE CLASSIFICATION",null,null,null,"Wholesale Market Service Charge (WMSC)",null,3.5999999999999999E-3,{"$f":"F170*F172","v":188723.25},{"$f":"H192*G192","v":679.40369999999996},3.5999999999999999E-3,{"$f":"F170*F172","v":188723.25},{"$f":"K192*J192","v":679.40369999999996},0,{"$f":"IF(ISERROR(M192/I192), \"\", M192/I192)","v":0}]
["GENERAL SERVICE 50 to 699 KW SERVICE CLASSIFICATION",null,null,null,"Rural and Remote Rate Protection (RRRP)",null,2.9999999999999997E-4,{"$f":"F170*F172","v":188723.25},56.616974999999996,2.9999999999999997E-4,{"$f":"F170*F172","v":188723.25},56.616974999999996,0,0]
["GENERAL SERVICE 50 to 699 KW SERVICE CLASSIFICATION",null,null,null,"Standard Supply Service Charge",null,0.25,1,0.25,0.25,1,0.25,0,0]
["GENERAL SERVICE 50 to 699 KW SERVICE CLASSIFICATION",null,null,null,"Debt Retirement Charge (DRC)",null,7.0000000000000001E-3,{"$f":"F170","v":182500},1277.5,7.0000000000000001E-3,{"$f":"F170","v":182500},1277.5,0,0]
["GENERAL SERVICE 50 to 699 KW SERVICE CLASSIFICATION"]
["GENERAL SERVICE 50 to 699 KW SERVICE CLASSIFICATION","RPP",null,null,"TOU - Off Peak",null,6.5000000000000002E-2,{"$f":"IF(AND(F170*12>=150000),0.65*F170*F172,0.65*F170)","v":122670.1125},{"$f":"H197*G197","v":7973.5573125000001},6.5000000000000002E-2,{"$f":"IF(AND(F170*12>=150000),0.65*F170*F173,0.65*F170)","v":122670.1125},{"$f":"K197*J197","v":7973.5573125000001},{"$f":"L197-I197","v":0},{"$f":"IF(ISERROR(M197/I197), \"\", M197/I197)","v":0}]
["GENERAL SERVICE 50 to 699 KW SERVICE CLASSIFICATION","RPP",null,null,"TOU - Mid Peak",null,9.5000000000000001E-2,{"$f":"IF(AND(F170*12>=150000),0.17*F170*F172,0.17*F170)","v":32082.952500000003},3047.8804875000005,9.5000000000000001E-2,{"$f":"IF(AND(F170*12>=150000),0.17*F170*F173,0.17*F170)","v":32082.952500000003},3047.8804875000005,0,0]
["GENERAL SERVICE 50 to 699 KW SERVICE CLASSIFICATION","RPP",null,null,"TOU - On Peak",null,0.13200000000000001,{"$f":"IF(AND(F170*12>=150000),0.18*F170*F172,0.18*F170)","v":33970.184999999998},4484.0644199999997,0.13200000000000001,{"$f":"IF(AND(F170*12>=150000),0.18*F170*F173,0.18*F170)","v":33970.184999999998},4484.0644199999997,0,0]
["GENERAL SERVICE 50 to 699 KW SERVICE CLASSIFICATION","Non-RPP (Retailer)",null,null,"Non-RPP Retailer Avg. Price",null,{"$f":"0.1061","v":0.1061},{"$f":"IF(AND(F170*12>=150000),F170*F172,F170)","v":188723.25},{"$f":"H200*G200","v":20023.536824999999},{"$f":"G200","v":0.1061},{"$f":"IF(AND(F170*12>=150000),F170*F173,F170)","v":188723.25},{"$f":"K200*J200","v":20023.536824999999},0,0]
["GENERAL SERVICE 50 to 699 KW SERVICE CLASSIFICATION","Non-RPP (Other)",null,null,"Average IESO Wholesale Market Price",null,0.1101,{"$f":"IF(AND(F170*12>=150000),F170*F172,F170)","v":188723.25},{"$f":"H201*G201","v":20778.429824999999},{"$f":"G201","v":0.1101},{"$f":"IF(AND(F170*12>=150000),F170*F173,F170)","v":188723.25},{"$f":"K201*J201","v":20778.429824999999},0,0]
["GENERAL SERVICE 50 to 699 KW SERVICE CLASSIFICATION"]
["GENERAL SERVICE 50 to 699 KW SERVICE CLASSIFICATION","RPP",null,null,"Total Bill on TOU (before Taxes)",null,null,null,{"$f":"SUM(I192:I199,I191)","v":21699.702895000002},null,null,{"$f":"SUM(L192:L199,L191)","v":21127.912895000001},{"$f":"L203-I203","v":-571.79000000000087},{"$f":"IF((I203)=0,\"\",(M203/I203))","v":-2.6350130357395422E-2}]
["GENERAL SERVICE 50 to 699 KW SERVICE CLASSIFICATION","RPP",null,null,"HST",null,0.13,null,{"$f":"I203*G204","v":2820.9613763500006},0.13,null,{"$f":"L203*J204","v":2746.6286763500002},{"$f":"L204-I204","v":-74.332700000000386},{"$f":"IF((I204)=0,\"\",(M204/I204))","v":-2.6350130357395515E-2}]
["GENERAL SERVICE 50 to 699 KW SERVICE CLASSIFICATION","RPP",null,null,"8% Provincial Rebate",null,-0.08,null,{"$f":"I203*G205","v":-1735.9762316000001},{"$f":"G205","v":-0.08},null,{"$f":"L203*J205","v":-1690.2330316000002},{"$f":"L205-I205","v":45.743199999999888},{"$f":"IF((I205)=0,\"\",(M205/I205))","v":-2.6350130357395318E-2}]
["GENERAL SERVICE 50 to 699 KW SERVICE CLASSIFICATION","RPP_TOTAL",null,null,"Total Bill on TOU",null,null,null,{"$f":"SUM(I203,I204,I205)","v":22784.688039750003},null,null,{"$f":"L203+L204+L205","v":22184.30853975},{"$f":"L206-I206","v":-600.37950000000274},{"$f":"IF((I206)=0,\"\",(M206/I206))","v":-2.6350130357395501E-2}]
["GENERAL SERVICE 50 to 699 KW SERVICE CLASSIFICATION","RPP"]
["GENERAL SERVICE 50 to 699 KW SERVICE CLASSIFICATION","Non-RPP (Retailer)",null,null,"Total Bill on Non-RPP Avg. Price",null,null,null,{"$f":"SUM(I200,I192:I196,I191)","v":26217.737499999999},null,null,{"$f":"SUM(L200,L192:L196,L191)","v":25645.947499999998},{"$f":"L208-I208","v":-571.79000000000087},{"$f":"IF((I208)=0,\"\",(M208/I208))","v":-2.180928083515982E-2}]
["GENERAL SERVICE 50 to 699 KW SERVICE CLASSIFICATION","Non-RPP (Retailer)",null,null,"HST",null,0.13,null,{"$f":"I208*G209","v":3408.305875},0.13,null,{"$f":"L208*J209","v":3333.9731750000001},{"$f":"L209-I209","v":-74.332699999999932},{"$f":"IF((I209)=0,\"\",(M209/I209))","v":-2.1809280835159765E-2}]
["GENERAL SERVICE 50 to 699 KW SERVICE CLASSIFICATION","Non-RPP (Retailer)",null,null,"8% Provincial Rebate",null,-0.08,null,{"$f":"I208*G210","v":-2097.4189999999999},{"$f":"G210","v":-0.08},null,{"$f":"L208*J210","v":-2051.6758},{"$f":"L210-I210","v":45.743199999999888},{"$f":"IF((I210)=0,\"\",(M210/I210))","v":-2.1809280835159733E-2}]
["GENERAL SERVICE 50 to 699 KW SERVICE CLASSIFICATION","Non-RPP (Retailer)_TOTAL",null,null,"Total Bill on Non-RPP Avg. Price",null,null,null,{"$f":"SUM(I208,I209,I210)","v":27528.624374999999},null,null,{"$f":"SUM(L208,L209,L210)","v":26928.244874999997},{"$f":"L211-I211","v":-600.37950000000274},{"$f":"IF((I211)=0,\"\",(M211/I211))","v":-2.1809280835159886E-2}]
["GENERAL SERVICE 50 to 699 KW SERVICE CLASSIFICATION","Non-RPP (Retailer)"]
["GENERAL SERVICE 50 to 699 KW SERVICE CLASSIFICATION","Non-RPP (Other)_BT",3,null,"Total Bill on Average IESO Wholesale Market Price",null,null,null,{"$f":"SUM(I201,I192:I196,I191)","v":26972.630499999999},null,null,{"$f":"SUM(L201,L192:L196,L191)","v":26400.840499999998},{"$f":"L213-I213","v":-571.79000000000087},{"$f":"IF((I213)=0,\"\",(M213/I213))","v":-2.119889641464524E-2}]
["GENERAL SERVICE 50 to 699 KW SERVICE CLASSIFICATION","Non-RPP (Other)",null,null,"HST",null,0.13,null,{"$f":"I213*G214","v":3506.441965},0.13,null,{"$f":"L213*J214","v":3432.1092650000001},{"$f":"L214-I214","v":-74.332699999999932},{"$f":"IF((I214)=0,\"\",(M214/I214))","v":-2.1198896414645188E-2}]
["GENERAL SERVICE 50 to 699 KW SERVICE CLASSIFICATION","Non-RPP (Other)_NET",3,null,"Total Bill on Average IESO WMP (before 8% Provincial Rebate)",null,null,null,{"$f":"SUM(I213:I214)","v":30479.072464999997},null,null,{"$f":"SUM(L213:L214)","v":29832.949764999998},{"$f":"SUM(M213:M214)","v":-646.1227000000008},{"$f":"IF((I215)=0,\"\",(M215/I215))","v":-2.1198896414645237E-2}]
[{"$f":"A214","v":"GENERAL SERVICE 50 to 699 KW SERVICE CLASSIFICATION"},"Non-RPP (Other)",null,null,"8% Provincial Rebate",null,0,null,{"$f":"I213*G216","v":0},{"$f":"G216","v":0},null,{"$f":"L213*J216","v":0},{"$f":"L216-I216","v":0},{"$f":"IF((I216)=0,\"\",(M216/I216))","v":""}]
["GENERAL SERVICE 50 to 699 KW SERVICE CLASSIFICATION","Non-RPP (Other)_TOTAL",{"$f":"C182","v":3},null,"Total Bill on Average IESO Wholesale Market Price",null,null,null,{"$f":"SUM(I213,I214,I216)","v":30479.072464999997},null,null,{"$f":"SUM(L213,L214,L216)","v":29832.949764999998},{"$f":"L217-I217","v":-646.1226999999999},{"$f":"IF((I217)=0,\"\",(M217/I217))","v":-2.1198896414645205E-2}]
["GENERAL SERVICE 50 to 699 KW SERVICE CLASSIFICATION","Non-RPP (Other)"]
[]
[]
[null,null,null,null,"Customer Class:",{"$f":"E18","v":"GENERAL SERVICE 700 to 4,999 KW SERVICE CLASSIFICATION"},null,null,null,null,null,{"$f":"IF(O172=\"DEMAND - INTERVAL\",\"RTSR - INTERVAL METERED\",\"\")","v":""}]
[null,null,null,null,"RPP / Non-RPP:",{"$f":"H18","v":"Non-RPP (Other)"},null,null,"Class B"]
[null,null,null,null,"Consumption",{"$f":"K18","v":627216},"kWh"]
[null,null,null,null,"Demand",{"$f":"L18","v":1432},"kW"]
[null,null,null,null,"Current Loss Factor",{"$f":"I18","v":1.0341}]
[null,null,null,null,"Proposed/Approved Loss Factor",{"$f":"J18","v":1.0341}]
[]
[null,null,null,null,null,null,"Current OEB-Approved",null,null,"Proposed",null,null,"Impact"]
[null,null,null,null,null,null,"Rate","Volume","Charge","Rate","Volume","Charge","$ Change","% Change"]
[null,null,null,null,null,null,"($)",null,"($)","($)",null,"($)"]
[{"$f":"F221","v":"GENERAL SERVICE 700 to 4,999 KW SERVICE CLASSIFICATION"},null,null,"GS700_F","Monthly Service Charge",null,{"$f":"IFERROR(SUMIF(RATES!B:B,'21. Bill Impacts'!D231,RATES!H:H),\"\")","v":1130.8399999999999},1,{"$f":"H231*G231","v":1130.8399999999999},{"$f":"IFERROR(SUMIF(RATES!B:B,'21. Bill Impacts'!D231,RATES!I:I),\"\")","v":1141.02},1,{"$f":"K231*J231","v":1141.02},{"$f":"L231-I231","v":10.180000000000064},{"$f":"IF(ISERROR(M231/I231), \"\", M231/I231)","v":9.0021576880903263E-3}]
[{"$f":"A231","v":"GENERAL SERVICE 700 to 4,999 KW SERVICE CLASSIFICATION"},null,null,"GS700_V","Distribution Volumetric Rate",null,{"$f":"IFERROR(SUMIF(RATES!B:B,'21. Bill Impacts'!D232,RATES!H:H),\"\")","v":3.2953000000000001},{"$f":"IF($F224>0, $F224, $F223)","v":1432},{"$f":"H232*G232","v":4718.8696},{"$f":"IFERROR(SUMIF(RATES!B:B,'21. Bill Impacts'!D232,RATES!I:I),\"\")","v":3.3250000000000002},{"$f":"IF($F224>0, $F224, $F223)","v":1432},{"$f":"K232*J232","v":4761.4000000000005},42.530400000000554,{"$f":"IF(ISERROR(M232/I232), \"\", M232/I232)","v":9.0128364640549834E-3}]
[{"$f":"A232","v":"GENERAL SERVICE 700 to 4,999 KW SERVICE CLASSIFICATION"},null,null,"GS700_FRR","Fixed Rate Riders",null,{"$f":"IFERROR(SUMIF(RATES!B:B,'21. Bill Impacts'!D233,RATES!H:H),\"\")","v":0},1,0,{"$f":"IFERROR(SUMIF(RATES!B:B,'21. Bill Impacts'!D233,RATES!I:I),\"\")","v":38.409999999999997},1,{"$f":"K233*J233","v":38.409999999999997},38.409999999999997,""]
[{"$f":"A233","v":"GENERAL SERVICE 700 to 4,999 KW SERVICE CLASSIFICATION"},null,null,"GS700_VRR","Volumetric Rate Riders",null,{"$f":"IFERROR(SUMIF(RATES!B:B,'21. Bill Impacts'!D234,RATES!H:H),\"\")","v":0.20499999999999999},{"$f":"IF($F224>0, $F224, $F223)","v":1432},293.56,{"$f":"IFERROR(SUMIF(RATES!B:B,'21. Bill Impacts'!D234,RATES!I:I),\"\")","v":3.1699999999999999E-2},{"$f":"IF($F224>0, $F224, $F223)","v":1432},45.394399999999997,-248.16560000000001,-0.84536585365853667]
["GENERAL SERVICE 700 to 4,999 KW SERVICE CLASSIFICATION","ST_A",{"$f":"B18","v":4},null,"Sub-Total A (excluding pass through)",null,null,null,{"$f":"SUM(I231:I234)","v":6143.2696000000005},null,null,{"$f":"SUM(L231:L234)","v":5986.2244000000001},-157.04520000000048,{"$f":"IF((I235)=0,\"\",(M235/I235))","v":-2.5563781215136718E-2}]
["GENERAL SERVICE 700 to 4,999 KW SERVICE CLASSIFICATION",null,null,null,"Line Losses on Cost of Power",null,{"$f":"IF((F223*12>=150000), 0, IF(F222=\"RPP\",(G250*0.65+G251*0.17+G252*0.18),IF(F222=\"Non-RPP (Retailer)\",G253,G254)))","v":0},{"$f":"IF(G236=0, 0, $F223*F225-F223)","v":0},{"$f":"H236*G236","v":0},{"$f":"IF((F223*12>=150000), 0, IF(F222=\"RPP\",(J250*0.65+J251*0.17+J252*0.18),IF(F222=\"Non-RPP (Retailer)\",J253,J254)))","v":0},{"$f":"IF(G236=0, 0, $F223*F225-F223)","v":0},{"$f":"K236*J236","v":0},{"$f":"L236-I236","v":0},{"$f":"IF(ISERROR(M236/I236), \"\", M236/I236)","v":""}]
["GENERAL SERVICE 700 to 4,999 KW SERVICE CLASSIFICATION",null,null,"GS700_DVA","Total Deferral/Variance Account Rate Riders",null,{"$f":"IFERROR(SUMIF(RATES!B:B,'21. Bill Impacts'!D237,RATES!H:H),\"\")","v":-1.4299000000000002},{"$f":"IF($F224>0, $F224, $F223)","v":1432},{"$f":"H237*G237","v":-2047.6168000000002},{"$f":"IFERROR(SUMIF(RATES!B:B,'21. Bill Impacts'!D237,RATES!I:I),\"\")","v":-0.4158},{"$f":"IF($F224>0, $F224, $F223)","v":1432},{"$f":"K237*J237","v":-595.42560000000003},{"$f":"L237-I237","v":1452.1912000000002},{"$f":"IF(ISERROR(M237/I237), \"\", M237/I237)","v":-0.70921043429610464}]
["GENERAL SERVICE 700 to 4,999 KW SERVICE CLASSIFICATION",null,null,"GS700_GA","GA Rate Riders",null,{"$f":"IFERROR(SUMIF(RATES!B:B,'21. Bill Impacts'!D238,RATES!H:H),\"\")","v":4.8999999999999998E-3},{"$f":"F223","v":627216},{"$f":"H238*G238","v":3073.3584000000001},{"$f":"IFERROR(SUMIF(RATES!B:B,'21. Bill Impacts'!D238,RATES!I:I),\"\")","v":-8.9999999999999998E-4},{"$f":"K248","v":627216},-564.49439999999993,-3637.8528000000001,-1.1836734693877551]
["GENERAL SERVICE 700 to 4,999 KW SERVICE CLASSIFICATION",null,null,"GS700_LV","Low Voltage Service Charge",null,{"$f":"IFERROR(SUMIF(RATES!B:B,'21. Bill Impacts'!D239,RATES!H:H),\"\")","v":0},{"$f":"IF($F224>0, $F224, $F223)","v":1432},0,{"$f":"IFERROR(SUMIF(RATES!B:B,'21. Bill Impacts'!D239,RATES!I:I),\"\")","v":0},{"$f":"IF($F224>0, $F224, $F223)","v":1432},0,0,""]
["GENERAL SERVICE 700 to 4,999 KW SERVICE CLASSIFICATION",null,null,null,"Smart Meter Entity Charge (if applicable) and/or \nany fixed ($) Deferral/Variance Account Rate Riders",null,0,1,{"$f":"H240*G240","v":0},0,1,{"$f":"K240*J240","v":0},0,{"$f":"IF(ISERROR(M240/I240), \"\", M240/I240)","v":""}]
["GENERAL SERVICE 700 to 4,999 KW SERVICE CLASSIFICATION","ST_B",{"$f":"C235","v":4},null,"Sub-Total B - Distribution (includes Sub-Total A)",null,null,null,{"$f":"SUM(I235:I240)","v":7169.0112000000008},null,null,{"$f":"SUM(L235:L240)","v":4826.3044000000009},-2342.7067999999999,{"$f":"IF((I241)=0,\"\",(M241/I241))","v":-0.32678241596274804}]
["GENERAL SERVICE 700 to 4,999 KW SERVICE CLASSIFICATION",null,null,"GS700_TN","RTSR - Network",null,{"$f":"IFERROR(SUMIF(RATES!B:B,'21. Bill Impacts'!D242,RATES!H:H),\"\")","v":2.8714},{"$f":"IF($F224>0, $F224, $F223*$F225)","v":1432},{"$f":"H242*G242","v":4111.8447999999999},{"$f":"IFERROR(SUMIF(RATES!B:B,'21. Bill Impacts'!D242,RATES!I:I),\"\")","v":2.8742999999999999},{"$f":"IF($F224>0, $F224, $F223*$F225)","v":1432},{"$f":"K242*J242","v":4115.9975999999997},4.1527999999998428,{"$f":"IF(ISERROR(M242/I242), \"\", M242/I242)","v":1.0099602981123808E-3}]
["GENERAL SERVICE 700 to 4,999 KW SERVICE CLASSIFICATION",null,null,"GS700_TC","RTSR - Connection and/or Line and Transformation Connection",null,{"$f":"IFERROR(SUMIF(RATES!B:B,'21. Bill Impacts'!D243,RATES!H:H),\"\")","v":2.0613999999999999},{"$f":"IF($F224>0, $F224, $F223*$F225)","v":1432},{"$f":"H243*G243","v":2951.9247999999998},{"$f":"IFERROR(SUMIF(RATES!B:B,'21. Bill Impacts'!D243,RATES!I:I),\"\")","v":2.3517000000000001},{"$f":"IF($F224>0, $F224, $F223*$F225)","v":1432},{"$f":"K243*J243","v":3367.6344000000004},415.70960000000059,{"$f":"IF(ISERROR(M243/I243), \"\", M243/I243)","v":0.14082662268361329}]
["GENERAL SERVICE 700 to 4,999 KW SERVICE CLASSIFICATION","ST_C",{"$f":"C235","v":4},null,"Sub-Total C - Delivery (including Sub-Total B)",null,null,null,{"$f":"SUM(I241:I243)","v":14232.7808},null,null,{"$f":"SUM(L241:L243)","v":12309.936400000001},-1922.8444,{"$f":"IF((I244)=0,\"\",(M244/I244))","v":-0.1350996988585674}]
["GENERAL SERVICE 700 to 4,999 KW SERVICE CLASSIFICATION",null,null,null,"Wholesale Market Service Charge (WMSC)",null,3.5999999999999999E-3,{"$f":"F223*F225","v":648604.06559999997},{"$f":"H245*G245","v":2334.97463616},3.5999999999999999E-3,{"$f":"F223*F225","v":648604.06559999997},{"$f":"K245*J245","v":2334.97463616},0,{"$f":"IF(ISERROR(M245/I245), \"\", M245/I245)","v":0}]
["GENERAL SERVICE 700 to 4,999 KW SERVICE CLASSIFICATION",null,null,null,"Rural and Remote Rate Protection (RRRP)",null,2.9999999999999997E-4,{"$f":"F223*F225","v":648604.06559999997},194.58121967999998,2.9999999999999997E-4,{"$f":"F223*F225","v":648604.06559999997},194.58121967999998,0,0]
["GENERAL SERVICE 700 to 4,999 KW SERVICE CLASSIFICATION",null,null,null,"Standard Supply Service Charge",null,0.25,1,0.25,0.25,1,0.25,0,0]
["GENERAL SERVICE 700 to 4,999 KW SERVICE CLASSIFICATION",null,null,null,"Debt Retirement Charge (DRC)",null,7.0000000000000001E-3,{"$f":"F223","v":627216},4390.5119999999997,7.0000000000000001E-3,{"$f":"F223","v":627216},4390.5119999999997,0,0]
["GENERAL SERVICE 700 to 4,999 KW SERVICE CLASSIFICATION"]
["GENERAL SERVICE 700 to 4,999 KW SERVICE CLASSIFICATION","RPP",null,null,"TOU - Off Peak",null,6.5000000000000002E-2,{"$f":"IF(AND(F223*12>=150000),0.65*F223*F225,0.65*F223)","v":421592.64264000003},{"$f":"H250*G250","v":27403.521771600004},6.5000000000000002E-2,{"$f":"IF(AND(F223*12>=150000),0.65*F223*F226,0.65*F223)","v":421592.64264000003},{"$f":"K250*J250","v":27403.521771600004},{"$f":"L250-I250","v":0},{"$f":"IF(ISERROR(M250/I250), \"\", M250/I250)","v":0}]
["GENERAL SERVICE 700 to 4,999 KW SERVICE CLASSIFICATION","RPP",null,null,"TOU - Mid Peak",null,9.5000000000000001E-2,{"$f":"IF(AND(F223*12>=150000),0.17*F223*F225,0.17*F223)","v":110262.691152},10474.95565944,9.5000000000000001E-2,{"$f":"IF(AND(F223*12>=150000),0.17*F223*F226,0.17*F223)","v":110262.691152},10474.95565944,0,0]
["GENERAL SERVICE 700 to 4,999 KW SERVICE CLASSIFICATION","RPP",null,null,"TOU - On Peak",null,0.13200000000000001,{"$f":"IF(AND(F223*12>=150000),0.18*F223*F225,0.18*F223)","v":116748.731808},15410.832598656001,0.13200000000000001,{"$f":"IF(AND(F223*12>=150000),0.18*F223*F226,0.18*F223)","v":116748.731808},15410.832598656001,0,0]
["GENERAL SERVICE 700 to 4,999 KW SERVICE CLASSIFICATION","Non-RPP (Retailer)",null,null,"Non-RPP Retailer Avg. Price",null,{"$f":"0.1061","v":0.1061},{"$f":"IF(AND(F223*12>=150000),F223*F225,F223)","v":648604.06559999997},{"$f":"H253*G253","v":68816.891360159992},{"$f":"G253","v":0.1061},{"$f":"IF(AND(F223*12>=150000),F223*F226,F223)","v":648604.06559999997},{"$f":"K253*J253","v":68816.891360159992},0,0]
["GENERAL SERVICE 700 to 4,999 KW SERVICE CLASSIFICATION","Non-RPP (Other)",null,null,"Average IESO Wholesale Market Price",null,0.1101,{"$f":"IF(AND(F223*12>=150000),F223*F225,F223)","v":648604.06559999997},{"$f":"H254*G254","v":71411.307622559994},{"$f":"G254","v":0.1101},{"$f":"IF(AND(F223*12>=150000),F223*F226,F223)","v":648604.06559999997},{"$f":"K254*J254","v":71411.307622559994},0,0]
["GENERAL SERVICE 700 to 4,999 KW SERVICE CLASSIFICATION"]
["GENERAL SERVICE 700 to 4,999 KW SERVICE CLASSIFICATION","RPP",null,null,"Total Bill on TOU (before Taxes)",null,null,null,{"$f":"SUM(I245:I252,I244)","v":74442.408685536007},null,null,{"$f":"SUM(L245:L252,L244)","v":72519.564285536006},{"$f":"L256-I256","v":-1922.8444000000018},{"$f":"IF((I256)=0,\"\",(M256/I256))","v":-2.5829959480792648E-2}]
["GENERAL SERVICE 700 to 4,999 KW SERVICE CLASSIFICATION","RPP",null,null,"HST",null,0.13,null,{"$f":"I256*G257","v":9677.5131291196813},0.13,null,{"$f":"L256*J257","v":9427.5433571196809},{"$f":"L257-I257","v":-249.96977200000038},{"$f":"IF((I257)=0,\"\",(M257/I257))","v":-2.5829959480792662E-2}]
["GENERAL SERVICE 700 to 4,999 KW SERVICE CLASSIFICATION","RPP",null,null,"8% Provincial Rebate",null,-0.08,null,{"$f":"I256*G258","v":-5955.3926948428807},{"$f":"G258","v":-0.08},null,{"$f":"L256*J258","v":-5801.565142842881},{"$f":"L258-I258","v":153.82755199999974},{"$f":"IF((I258)=0,\"\",(M258/I258))","v":-2.5829959480792579E-2}]
["GENERAL SERVICE 700 to 4,999 KW SERVICE CLASSIFICATION","RPP_TOTAL",null,null,"Total Bill on TOU",null,null,null,{"$f":"SUM(I256,I257,I258)","v":78164.529119812796},null,null,{"$f":"L256+L257+L258","v":76145.5424998128},{"$f":"L259-I259","v":-2018.986619999996},{"$f":"IF((I259)=0,\"\",(M259/I259))","v":-2.5829959480792579E-2}]
["GENERAL SERVICE 700 to 4,999 KW SERVICE CLASSIFICATION","RPP"]
["GENERAL SERVICE 700 to 4,999 KW SERVICE CLASSIFICATION","Non-RPP (Retailer)",null,null,"Total Bill on Non-RPP Avg. Price",null,null,null,{"$f":"SUM(I253,I245:I249,I244)","v":89969.990015999996},null,null,{"$f":"SUM(L253,L245:L249,L244)","v":88047.145615999994},{"$f":"L261-I261","v":-1922.8444000000018},{"$f":"IF((I261)=0,\"\",(M261/I261))","v":-2.1372064170042129E-2}]
["GENERAL SERVICE 700 to 4,999 KW SERVICE CLASSIFICATION","Non-RPP (Retailer)",null,null,"HST",null,0.13,null,{"$f":"I261*G262","v":11696.09870208},0.13,null,{"$f":"L261*J262","v":11446.12893008},{"$f":"L262-I262","v":-249.96977200000038},{"$f":"IF((I262)=0,\"\",(M262/I262))","v":-2.1372064170042143E-2}]
["GENERAL SERVICE 700 to 4,999 KW SERVICE CLASSIFICATION","Non-RPP (Retailer)",null,null,"8% Provincial Rebate",null,-0.08,null,{"$f":"I261*G263","v":-7197.5992012799998},{"$f":"G263","v":-0.08},null,{"$f":"L261*J263","v":-7043.77164928},{"$f":"L263-I263","v":153.82755199999974},{"$f":"IF((I263)=0,\"\",(M263/I263))","v":-2.1372064170042074E-2}]
["GENERAL SERVICE 700 to 4,999 KW SERVICE CLASSIFICATION","Non-RPP (Retailer)_TOTAL",null,null,"Total Bill on Non-RPP Avg. Price",null,null,null,{"$f":"SUM(I261,I262,I263)","v":94468.489516799993},null,null,{"$f":"SUM(L261,L262,L263)","v":92449.502896799997},{"$f":"L264-I264","v":-2018.986619999996},{"$f":"IF((I264)=0,\"\",(M264/I264))","v":-2.137206417004207E-2}]
["GENERAL SERVICE 700 to 4,999 KW SERVICE CLASSIFICATION","Non-RPP (Retailer)"]
["GENERAL SERVICE 700 to 4,999 KW SERVICE CLASSIFICATION","Non-RPP (Other)_BT",4,null,"Total Bill on Average IESO Wholesale Market Price",null,null,null,{"$f":"SUM(I254,I245:I249,I244)","v":92564.406278399983},null,null,{"$f":"SUM(L254,L245:L249,L244)","v":90641.561878399996},{"$f":"L266-I266","v":-1922.8443999999872},{"$f":"IF((I266)=0,\"\",(M266/I266))","v":-2.0773043087607263E-2}]
["GENERAL SERVICE 700 to 4,999 KW SERVICE CLASSIFICATION","Non-RPP (Other)",null,null,"HST",null,0.13,null,{"$f":"I266*G267","v":12033.372816191999},0.13,null,{"$f":"L266*J267","v":11783.403044192},{"$f":"L267-I267","v":-249.96977199999856},{"$f":"IF((I267)=0,\"\",(M267/I267))","v":-2.0773043087607281E-2}]
["GENERAL SERVICE 700 to 4,999 KW SERVICE CLASSIFICATION","Non-RPP (Other)_NET",4,null,"Total Bill on Average IESO WMP (before 8% Provincial Rebate)",null,null,null,{"$f":"SUM(I266:I267)","v":104597.77909459198},null,null,{"$f":"SUM(L266:L267)","v":102424.964922592},{"$f":"SUM(M266:M267)","v":-2172.8141719999858},{"$f":"IF((I268)=0,\"\",(M268/I268))","v":-2.0773043087607267E-2}]
[{"$f":"A267","v":"GENERAL SERVICE 700 to 4,999 KW SERVICE CLASSIFICATION"},"Non-RPP (Other)",null,null,"8% Provincial Rebate",null,0,null,{"$f":"I266*G269","v":0},{"$f":"G269","v":0},null,{"$f":"L266*J269","v":0},{"$f":"L269-I269","v":0},{"$f":"IF((I269)=0,\"\",(M269/I269))","v":""}]
["GENERAL SERVICE 700 to 4,999 KW SERVICE CLASSIFICATION","Non-RPP (Other)_TOTAL",{"$f":"C235","v":4},null,"Total Bill on Average IESO Wholesale Market Price",null,null,null,{"$f":"SUM(I266,I267,I269)","v":104597.77909459198},null,null,{"$f":"SUM(L266,L267,L269)","v":102424.964922592},{"$f":"L270-I270","v":-2172.814171999984},{"$f":"IF((I270)=0,\"\",(M270/I270))","v":-2.0773043087607249E-2}]
["GENERAL SERVICE 700 to 4,999 KW SERVICE CLASSIFICATION","Non-RPP (Other)"]
[]
[]
[null,null,null,null,"Customer Class:",{"$f":"E19","v":"LARGE USE SERVICE CLASSIFICATION"},null,null,null,null,null,{"$f":"IF(O225=\"DEMAND - INTERVAL\",\"RTSR - INTERVAL METERED\",\"\")","v":""}]
[null,null,null,null,"RPP / Non-RPP:",{"$f":"H19","v":"Non-RPP (Other)"},null,null,"Class A"]
[null,null,null,null,"Consumption",{"$f":"K19","v":10220000},"kWh"]
[null,null,null,null,"Demand",{"$f":"L19","v":20000},"kW"]
[null,null,null,null,"Current Loss Factor",{"$f":"I19","v":1.0145}]
[null,null,null,null,"Proposed/Approved Loss Factor",{"$f":"J19","v":1.0145}]
[]
[null,null,null,null,null,null,"Current OEB-Approved",null,null,"Proposed",null,null,"Impact"]
[null,null,null,null,null,null,"Rate","Volume","Charge","Rate","Volume","Charge","$ Change","% Change"]
[null,null,null,null,null,null,"($)",null,"($)","($)",null,"($)"]
[{"$f":"F274","v":"LARGE USE SERVICE CLASSIFICATION"},null,null,"LU_F","Monthly Service Charge",null,{"$f":"IFERROR(SUMIF(RATES!B:B,'21. Bill Impacts'!D284,RATES!H:H),\"\")","v":4705.66},1,{"$f":"H284*G284","v":4705.66},{"$f":"IFERROR(SUMIF(RATES!B:B,'21. Bill Impacts'!D284,RATES!I:I),\"\")","v":4748.01},1,{"$f":"K284*J284","v":4748.01},{"$f":"L284-I284","v":42.350000000000364},{"$f":"IF(ISERROR(M284/I284), \"\", M284/I284)","v":8.9998002405614445E-3}]
[{"$f":"A284","v":"LARGE USE SERVICE CLASSIFICATION"},null,null,"LU_V","Distribution Volumetric Rate",null,{"$f":"IFERROR(SUMIF(RATES!B:B,'21. Bill Impacts'!D285,RATES!H:H),\"\")","v":2.4948999999999999},{"$f":"IF($F277>0, $F277, $F276)","v":20000},{"$f":"H285*G285","v":49898},{"$f":"IFERROR(SUMIF(RATES!B:B,'21. Bill Impacts'!D285,RATES!I:I),\"\")","v":2.5173999999999999},{"$f":"IF($F277>0, $F277, $F276)","v":20000},{"$f":"K285*J285","v":50348},450,{"$f":"IF(ISERROR(M285/I285), \"\", M285/I285)","v":9.018397530963165E-3}]
[{"$f":"A285","v":"LARGE USE SERVICE CLASSIFICATION"},null,null,"LU_FRR","Fixed Rate Riders",null,{"$f":"IFERROR(SUMIF(RATES!B:B,'21. Bill Impacts'!D286,RATES!H:H),\"\")","v":0},1,0,{"$f":"IFERROR(SUMIF(RATES!B:B,'21. Bill Impacts'!D286,RATES!I:I),\"\")","v":165.47},1,{"$f":"K286*J286","v":165.47},165.47,""]
[{"$f":"A286","v":"LARGE USE SERVICE CLASSIFICATION"},null,null,"LU_VRR","Volumetric Rate Riders",null,{"$f":"IFERROR(SUMIF(RATES!B:B,'21. Bill Impacts'!D287,RATES!H:H),\"\")","v":0.30410000000000004},{"$f":"IF($F277>0, $F277, $F276)","v":20000},6082.0000000000009,{"$f":"IFERROR(SUMIF(RATES!B:B,'21. Bill Impacts'!D287,RATES!I:I),\"\")","v":2.4E-2},{"$f":"IF($F277>0, $F277, $F276)","v":20000},480,-5602.0000000000009,-0.9210785925682341]
["LARGE USE SERVICE CLASSIFICATION","ST_A",{"$f":"B19","v":5},null,"Sub-Total A (excluding pass through)",null,null,null,{"$f":"SUM(I284:I287)","v":60685.66},null,null,{"$f":"SUM(L284:L287)","v":55741.48},-4944.18,{"$f":"IF((I288)=0,\"\",(M288/I288))","v":-8.1471965535185736E-2}]
["LARGE USE SERVICE CLASSIFICATION",null,null,null,"Line Losses on Cost of Power",null,{"$f":"IF((F276*12>=150000), 0, IF(F275=\"RPP\",(G303*0.65+G304*0.17+G305*0.18),IF(F275=\"Non-RPP (Retailer)\",G306,G307)))","v":0},{"$f":"IF(G289=0, 0, $F276*F278-F276)","v":0},{"$f":"H289*G289","v":0},{"$f":"IF((F276*12>=150000), 0, IF(F275=\"RPP\",(J303*0.65+J304*0.17+J305*0.18),IF(F275=\"Non-RPP (Retailer)\",J306,J307)))","v":0},{"$f":"IF(G289=0, 0, $F276*F278-F276)","v":0},{"$f":"K289*J289","v":0},{"$f":"L289-I289","v":0},{"$f":"IF(ISERROR(M289/I289), \"\", M289/I289)","v":""}]
["LARGE USE SERVICE CLASSIFICATION",null,null,"LU_DVA","Total Deferral/Variance Account Rate Riders",null,{"$f":"IFERROR(SUMIF(RATES!B:B,'21. Bill Impacts'!D290,RATES!H:H),\"\")","v":-2.0206},{"$f":"IF($F277>0, $F277, $F276)","v":20000},{"$f":"H290*G290","v":-40412},{"$f":"IFERROR(SUMIF(RATES!B:B,'21. Bill Impacts'!D290,RATES!I:I),\"\")","v":-0.55200000000000005},{"$f":"IF($F277>0, $F277, $F276)","v":20000},{"$f":"K290*J290","v":-11040.000000000002},{"$f":"L290-I290","v":29372},{"$f":"IF(ISERROR(M290/I290), \"\", M290/I290)","v":-0.72681381767791742}]
["LARGE USE SERVICE CLASSIFICATION",null,null,"LU_GA","GA Rate Riders",null,{"$f":"IFERROR(SUMIF(RATES!B:B,'21. Bill Impacts'!D291,RATES!H:H),\"\")","v":0},{"$f":"F276","v":10220000},0,{"$f":"IFERROR(SUMIF(RATES!B:B,'21. Bill Impacts'!D291,RATES!I:I),\"\")","v":0},{"$f":"F276","v":10220000},0,0,""]
["LARGE USE SERVICE CLASSIFICATION",null,null,"LU_LV","Low Voltage Service Charge",null,{"$f":"IFERROR(SUMIF(RATES!B:B,'21. Bill Impacts'!D292,RATES!H:H),\"\")","v":0},{"$f":"IF($F277>0, $F277, $F276)","v":20000},0,{"$f":"IFERROR(SUMIF(RATES!B:B,'21. Bill Impacts'!D292,RATES!I:I),\"\")","v":0},{"$f":"IF($F277>0, $F277, $F276)","v":20000},0,0,""]
["LARGE USE SERVICE CLASSIFICATION",null,null,null,"Smart Meter Entity Charge (if applicable) and/or \nany fixed ($) Deferral/Variance Account Rate Riders",null,null,1,{"$f":"H293*G293","v":0},null,1,{"$f":"K293*J293","v":0},0,{"$f":"IF(ISERROR(M293/I293), \"\", M293/I293)","v":""}]
["LARGE USE SERVICE CLASSIFICATION","ST_B",{"$f":"C288","v":5},null,"Sub-Total B - Distribution (includes Sub-Total A)",null,null,null,{"$f":"SUM(I288:I293)","v":20273.660000000003},null,null,{"$f":"SUM(L288:L293)","v":44701.48},24427.82,{"$f":"IF((I294)=0,\"\",(M294/I294))","v":1.2049042945378385}]
["LARGE USE SERVICE CLASSIFICATION",null,null,"LU_TN","RTSR - Network",null,{"$f":"IFERROR(SUMIF(RATES!B:B,'21. Bill Impacts'!D295,RATES!H:H),\"\")","v":3.2498999999999998},{"$f":"IF($F277>0, $F277, $F276*$F278)","v":20000},{"$f":"H295*G295","v":64997.999999999993},{"$f":"IFERROR(SUMIF(RATES!B:B,'21. Bill Impacts'!D295,RATES!I:I),\"\")","v":3.2532000000000001},{"$f":"IF($F277>0, $F277, $F276*$F278)","v":20000},{"$f":"K295*J295","v":65064},66.000000000007276,{"$f":"IF(ISERROR(M295/I295), \"\", M295/I295)","v":1.0154158589496182E-3}]
["LARGE USE SERVICE CLASSIFICATION",null,null,"LU_TC","RTSR - Connection and/or Line and Transformation Connection",null,{"$f":"IFERROR(SUMIF(RATES!B:B,'21. Bill Impacts'!D296,RATES!H:H),\"\")","v":2.3826000000000001},{"$f":"IF($F277>0, $F277, $F276*$F278)","v":20000},{"$f":"H296*G296","v":47652},{"$f":"IFERROR(SUMIF(RATES!B:B,'21. Bill Impacts'!D296,RATES!I:I),\"\")","v":2.7181000000000002},{"$f":"IF($F277>0, $F277, $F276*$F278)","v":20000},{"$f":"K296*J296","v":54362.000000000007},6710.0000000000073,{"$f":"IF(ISERROR(M296/I296), \"\", M296/I296)","v":0.14081255771006479}]
["LARGE USE SERVICE CLASSIFICATION","ST_C",{"$f":"C288","v":5},null,"Sub-Total C - Delivery (including Sub-Total B)",null,null,null,{"$f":"SUM(I294:I296)","v":132923.66},null,null,{"$f":"SUM(L294:L296)","v":164127.48000000001},31203.820000000007,{"$f":"IF((I297)=0,\"\",(M297/I297))","v":0.23474993090018742}]
["LARGE USE SERVICE CLASSIFICATION",null,null,null,"Wholesale Market Service Charge (WMSC)",null,3.5999999999999999E-3,{"$f":"F276*F278","v":10368190},{"$f":"H298*G298","v":37325.483999999997},3.5999999999999999E-3,{"$f":"F276*F278","v":10368190},{"$f":"K298*J298","v":37325.483999999997},0,{"$f":"IF(ISERROR(M298/I298), \"\", M298/I298)","v":0}]
["LARGE USE SERVICE CLASSIFICATION",null,null,null,"Rural and Remote Rate Protection (RRRP)",null,2.9999999999999997E-4,{"$f":"F276*F278","v":10368190},3110.4569999999999,2.9999999999999997E-4,{"$f":"F276*F278","v":10368190},3110.4569999999999,0,0]
["LARGE USE SERVICE CLASSIFICATION",null,null,null,"Standard Supply Service Charge",null,0.25,1,0.25,0.25,1,0.25,0,0]
["LARGE USE SERVICE CLASSIFICATION",null,null,null,"Debt Retirement Charge (DRC)",null,7.0000000000000001E-3,{"$f":"F276","v":10220000},71540,7.0000000000000001E-3,{"$f":"F276","v":10220000},71540,0,0]
["LARGE USE SERVICE CLASSIFICATION"]
["LARGE USE SERVICE CLASSIFICATION","RPP",null,null,"TOU - Off Peak",null,6.5000000000000002E-2,{"$f":"IF(AND(F276*12>=150000),0.65*F276*F278,0.65*F276)","v":6739323.5},{"$f":"H303*G303","v":438056.02750000003},6.5000000000000002E-2,{"$f":"IF(AND(F276*12>=150000),0.65*F276*F279,0.65*F276)","v":6739323.5},{"$f":"K303*J303","v":438056.02750000003},{"$f":"L303-I303","v":0},{"$f":"IF(ISERROR(M303/I303), \"\", M303/I303)","v":0}]
["LARGE USE SERVICE CLASSIFICATION","RPP",null,null,"TOU - Mid Peak",null,9.5000000000000001E-2,{"$f":"IF(AND(F276*12>=150000),0.17*F276*F278,0.17*F276)","v":1762592.3},167446.26850000001,9.5000000000000001E-2,{"$f":"IF(AND(F276*12>=150000),0.17*F276*F279,0.17*F276)","v":1762592.3},167446.26850000001,0,0]
["LARGE USE SERVICE CLASSIFICATION","RPP",null,null,"TOU - On Peak",null,0.13200000000000001,{"$f":"IF(AND(F276*12>=150000),0.18*F276*F278,0.18*F276)","v":1866274.2},246348.19440000001,0.13200000000000001,{"$f":"IF(AND(F276*12>=150000),0.18*F276*F279,0.18*F276)","v":1866274.2},246348.19440000001,0,0]
["LARGE USE SERVICE CLASSIFICATION","Non-RPP (Retailer)",null,null,"Non-RPP Retailer Avg. Price",null,{"$f":"0.1061","v":0.1061},{"$f":"IF(AND(F276*12>=150000),F276*F278,F276)","v":10368190},{"$f":"H306*G306","v":1100064.959},{"$f":"G306","v":0.1061},{"$f":"IF(AND(F276*12>=150000),F276*F279,F276)","v":10368190},{"$f":"K306*J306","v":1100064.959},0,0]
["LARGE USE SERVICE CLASSIFICATION","Non-RPP (Other)",null,null,"Average IESO Wholesale Market Price",null,0.1101,{"$f":"IF(AND(F276*12>=150000),F276*F278,F276)","v":10368190},{"$f":"H307*G307","v":1141537.719},{"$f":"G307","v":0.1101},{"$f":"IF(AND(F276*12>=150000),F276*F279,F276)","v":10368190},{"$f":"K307*J307","v":1141537.719},0,0]
["LARGE USE SERVICE CLASSIFICATION"]
["LARGE USE SERVICE CLASSIFICATION","RPP_BT",null,null,"Total Bill on TOU (before Taxes)",null,null,null,{"$f":"SUM(I298:I305,I297)","v":1096750.3414},null,null,{"$f":"SUM(L298:L305,L297)","v":1127954.1614000001},{"$f":"L309-I309","v":31203.820000000065},{"$f":"IF((I309)=0,\"\",(M309/I309))","v":2.845116050765796E-2}]
["LARGE USE SERVICE CLASSIFICATION","RPP",null,null,"HST",null,0.13,null,{"$f":"I309*G310","v":142577.54438200002},0.13,null,{"$f":"L309*J310","v":146634.04098200001},{"$f":"L310-I310","v":4056.496599999984},{"$f":"IF((I310)=0,\"\",(M310/I310))","v":2.8451160507657784E-2}]
["LARGE USE SERVICE CLASSIFICATION","RPP_NET",null,null,"Total Bill on TOU (before 8% Provincial Rebate)",null,null,null,{"$f":"SUM(I309:I310)","v":1239327.8857820001},null,null,{"$f":"SUM(L309:L310)","v":1274588.2023820002},{"$f":"SUM(M309:M310)","v":35260.316600000049},{"$f":"IF((I311)=0,\"\",(M311/I311))","v":2.8451160507657936E-2}]
[{"$f":"A310","v":"LARGE USE SERVICE CLASSIFICATION"},"RPP",null,null,"8% Provincial Rebate",null,-0.08,null,{"$f":"I309*G312","v":-87740.027312000006},{"$f":"G312","v":-0.08},null,{"$f":"L309*J312","v":-90236.332912000013},{"$f":"L312-I312","v":-2496.305600000007},{"$f":"IF((I312)=0,\"\",(M312/I312))","v":2.8451160507657978E-2}]
["LARGE USE SERVICE CLASSIFICATION","RPP_TOTAL",null,null,"Total Bill on TOU",null,null,null,{"$f":"SUM(I309,I310,I312)","v":1151587.8584700001},null,null,{"$f":"L309+L310+L312","v":1184351.8694700003},{"$f":"L313-I313","v":32764.011000000173},{"$f":"IF((I313)=0,\"\",(M313/I313))","v":2.8451160507658047E-2}]
["LARGE USE SERVICE CLASSIFICATION","RPP"]
["LARGE USE SERVICE CLASSIFICATION","Non-RPP (Retailer)",null,null,"Total Bill on Non-RPP Avg. Price",null,null,null,{"$f":"SUM(I306,I298:I302,I297)","v":1344964.8099999998},null,null,{"$f":"SUM(L306,L298:L302,L297)","v":1376168.63},{"$f":"L315-I315","v":31203.820000000065},{"$f":"IF((I315)=0,\"\",(M315/I315))","v":2.3200473178179339E-2}]
["LARGE USE SERVICE CLASSIFICATION","Non-RPP (Retailer)",null,null,"HST",null,0.13,null,{"$f":"I315*G316","v":174845.42529999997},0.13,null,{"$f":"L315*J316","v":178901.92189999999},{"$f":"L316-I316","v":4056.4966000000131},{"$f":"IF((I316)=0,\"\",(M316/I316))","v":2.3200473178179366E-2}]
["LARGE USE SERVICE CLASSIFICATION","Non-RPP (Retailer)",null,null,"Provincial Rebate",null,-0.08,null,{"$f":"I315*G317","v":-107597.18479999999},{"$f":"G317","v":-0.08},null,{"$f":"L315*J317","v":-110093.4904},{"$f":"L317-I317","v":-2496.305600000007},{"$f":"IF((I317)=0,\"\",(M317/I317))","v":2.3200473178179352E-2}]
["LARGE USE SERVICE CLASSIFICATION","Non-RPP (Retailer)_TOTAL",null,null,"Total Bill on Non-RPP Avg. Price",null,null,null,{"$f":"SUM(I315,I316,I317)","v":1412213.0504999999},null,null,{"$f":"SUM(L315,L316,L317)","v":1444977.0614999998},{"$f":"L318-I318","v":32764.01099999994},{"$f":"IF((I318)=0,\"\",(M318/I318))","v":2.3200473178179245E-2}]
["LARGE USE SERVICE CLASSIFICATION","Non-RPP (Retailer)"]
["LARGE USE SERVICE CLASSIFICATION","Non-RPP (Other)_BT",{"$f":"C288","v":5},null,"Total Bill on Average IESO Wholesale Market Price",null,null,null,{"$f":"SUM(I307,I298:I302,I297)","v":1386437.5699999998},null,null,{"$f":"SUM(L307,L298:L302,L297)","v":1417641.39},{"$f":"L320-I320","v":31203.820000000065},{"$f":"IF((I320)=0,\"\",(M320/I320))","v":2.250647319085566E-2}]
["LARGE USE SERVICE CLASSIFICATION","Non-RPP (Other)",null,null,"HST",null,0.13,null,{"$f":"I320*G321","v":180236.8841},0.13,null,{"$f":"L320*J321","v":184293.38069999998},{"$f":"L321-I321","v":4056.496599999984},{"$f":"IF((I321)=0,\"\",(M321/I321))","v":2.2506473190855525E-2}]
["LARGE USE SERVICE CLASSIFICATION","Non-RPP (Other)_NET",{"$f":"C288","v":5},null,"Total Bill on Average IESO WMP (before 8% Provincial Rebate)",null,null,null,{"$f":"SUM(I320:I321)","v":1566674.4540999997},null,null,{"$f":"SUM(L320:L321)","v":1601934.7706999998},{"$f":"SUM(M320:M321)","v":35260.316600000049},{"$f":"IF((I322)=0,\"\",(M322/I322))","v":2.2506473190855646E-2}]
[{"$f":"A321","v":"LARGE USE SERVICE CLASSIFICATION"},"Non-RPP (Other)",null,null,"8% Provincial Rebate",null,0,null,{"$f":"I320*G323","v":0},{"$f":"G323","v":0},null,{"$f":"L320*J323","v":0},{"$f":"L323-I323","v":0},{"$f":"IF((I323)=0,\"\",(M323/I323))","v":""}]
["LARGE USE SERVICE CLASSIFICATION","Non-RPP (Other)_TOTAL",{"$f":"C288","v":5},null,"Total Bill on Average IESO Wholesale Market Price",null,null,null,{"$f":"SUM(I322:I323)","v":1566674.4540999997},null,null,{"$f":"SUM(L322:L323)","v":1601934.7706999998},{"$f":"SUM(M322:M323)","v":35260.316600000049},{"$f":"IF((I324)=0,\"\",(M324/I324))","v":2.2506473190855646E-2}]
["LARGE USE SERVICE CLASSIFICATION","Non-RPP (Other)"]
[]
[]
[null,null,null,null,"Customer Class:",{"$f":"E21","v":"UNMETERED SCATTERED LOAD SERVICE CLASSIFICATION"},null,null,null,null,null,{"$f":"IF(O278=\"DEMAND - INTERVAL\",\"RTSR - INTERVAL METERED\",\"\")","v":""}]
[null,null,null,null,"RPP / Non-RPP:",{"$f":"H21","v":"Non-RPP (Other)"},null,null,"Class  B"]
[null,null,null,null,"Consumption",{"$f":"K21","v":21296},"kWh"]
[null,null,null,null,"Demand",{"$f":"L21","v":0},"kW"]
[null,null,null,null,"Current Loss Factor",{"$f":"I21","v":1.0341}]
[null,null,null,null,"Proposed/Approved Loss Factor",{"$f":"J21","v":1.0341}]
[]
[null,null,null,null,null,null,"Current OEB-Approved",null,null,"Proposed",null,null,"Impact"]
[null,null,null,null,null,null,"Rate","Volume","Charge","Rate","Volume","Charge","$ Change","% Change"]
[null,null,null,null,null,null,"($)",null,"($)","($)",null,"($)"]
[{"$f":"F328","v":"UNMETERED SCATTERED LOAD SERVICE CLASSIFICATION"},null,null,"USL_F","Monthly Service Charge",null,{"$f":"IFERROR(SUMIF(RATES!B:B,'21. Bill Impacts'!D338,RATES!H:H),\"\")","v":1.0900000000000001},{"$f":"N21","v":186},{"$f":"H338*G338","v":202.74},{"$f":"IFERROR(SUMIF(RATES!B:B,'21. Bill Impacts'!D338,RATES!I:I),\"\")","v":1.1000000000000001},{"$f":"H338","v":186},{"$f":"K338*J338","v":204.60000000000002},{"$f":"L338-I338","v":1.8600000000000136},{"$f":"IF(ISERROR(M338/I338), \"\", M338/I338)","v":9.174311926605571E-3}]
[{"$f":"A338","v":"UNMETERED SCATTERED LOAD SERVICE CLASSIFICATION"},null,null,"USL_V","Distribution Volumetric Rate",null,{"$f":"IFERROR(SUMIF(RATES!B:B,'21. Bill Impacts'!D339,RATES!H:H),\"\")","v":1.9800000000000002E-2},{"$f":"IF($F331>0, $F331, $F330)","v":21296},{"$f":"H339*G339","v":421.66080000000005},{"$f":"IFERROR(SUMIF(RATES!B:B,'21. Bill Impacts'!D339,RATES!I:I),\"\")","v":0.02},{"$f":"IF($F331>0, $F331, $F330)","v":21296},{"$f":"K339*J339","v":425.92},4.2591999999999643,{"$f":"IF(ISERROR(M339/I339), \"\", M339/I339)","v":1.0101010101010015E-2}]
[{"$f":"A339","v":"UNMETERED SCATTERED LOAD SERVICE CLASSIFICATION"},null,null,"USL_FRR","Fixed Rate Riders",null,{"$f":"IFERROR(SUMIF(RATES!B:B,'21. Bill Impacts'!D340,RATES!H:H),\"\")","v":0},{"$f":"H338","v":186},0,{"$f":"IFERROR(SUMIF(RATES!B:B,'21. Bill Impacts'!D340,RATES!I:I),\"\")","v":0.05},{"$f":"K338","v":186},{"$f":"K340*J340","v":9.3000000000000007},9.3000000000000007,""]
[{"$f":"A340","v":"UNMETERED SCATTERED LOAD SERVICE CLASSIFICATION"},null,null,"USL_VRR","Volumetric Rate Riders",null,{"$f":"IFERROR(SUMIF(RATES!B:B,'21. Bill Impacts'!D341,RATES!H:H),\"\")","v":2.0000000000000004E-4},{"$f":"IF($F331>0, $F331, $F330)","v":21296},{"$f":"H341*G341","v":4.2592000000000008},{"$f":"IFERROR(SUMIF(RATES!B:B,'21. Bill Impacts'!D341,RATES!I:I),\"\")","v":2.0000000000000001E-4},{"$f":"IF($F331>0, $F331, $F330)","v":21296},4.2591999999999999,0,0]
["UNMETERED SCATTERED LOAD SERVICE CLASSIFICATION","ST_A",{"$f":"B21","v":7},null,"Sub-Total A (excluding pass through)",null,null,null,{"$f":"SUM(I338:I341)","v":628.66000000000008},null,null,{"$f":"SUM(L338:L341)","v":644.0791999999999},15.419199999999819,{"$f":"IF((I342)=0,\"\",(M342/I342))","v":2.4527089364680139E-2}]
["UNMETERED SCATTERED LOAD SERVICE CLASSIFICATION",null,null,null,"Line Losses on Cost of Power",null,{"$f":"IF((F330*12>=150000), 0, IF(F329=\"RPP\",(G357*0.65+G358*0.17+G359*0.18),IF(F329=\"Non-RPP (Retailer)\",G360,G361)))","v":0},{"$f":"IF(G343=0, 0, $F330*F332-F330)","v":0},{"$f":"H343*G343","v":0},{"$f":"IF((F330*12>=150000), 0, IF(F329=\"RPP\",(J357*0.65+J358*0.17+J359*0.18),IF(F329=\"Non-RPP (Retailer)\",J360,J361)))","v":0},{"$f":"IF(G343=0, 0, $F330*F332-F330)","v":0},{"$f":"K343*J343","v":0},{"$f":"L343-I343","v":0},{"$f":"IF(ISERROR(M343/I343), \"\", M343/I343)","v":""}]
["UNMETERED SCATTERED LOAD SERVICE CLASSIFICATION",null,null,"USL_DVA","Total Deferral/Variance Account Rate Riders",null,{"$f":"IFERROR(SUMIF(RATES!B:B,'21. Bill Impacts'!D344,RATES!H:H),\"\")","v":-3.4000000000000002E-3},{"$f":"IF($F331>0, $F331, $F330)","v":21296},{"$f":"H344*G344","v":-72.406400000000005},{"$f":"IFERROR(SUMIF(RATES!B:B,'21. Bill Impacts'!D344,RATES!I:I),\"\")","v":-1E-3},{"$f":"IF($F331>0, $F331, $F330)","v":21296},{"$f":"K344*J344","v":-21.295999999999999},{"$f":"L344-I344","v":51.110400000000006},{"$f":"IF(ISERROR(M344/I344), \"\", M344/I344)","v":-0.70588235294117652}]
["UNMETERED SCATTERED LOAD SERVICE CLASSIFICATION",null,null,"USL_GA","GA Rate Riders",null,{"$f":"IFERROR(SUMIF(RATES!B:B,'21. Bill Impacts'!D345,RATES!H:H),\"\")","v":4.8999999999999998E-3},{"$f":"IF($F331>0, $F331, $F330)","v":21296},104.35039999999999,{"$f":"IFERROR(SUMIF(RATES!B:B,'21. Bill Impacts'!D345,RATES!I:I),\"\")","v":-8.9999999999999998E-4},{"$f":"IF($F331>0, $F331, $F330)","v":21296},-19.166399999999999,-123.51679999999999,-1.1836734693877551]
["UNMETERED SCATTERED LOAD SERVICE CLASSIFICATION",null,null,"USL_LV","Low Voltage Service Charge",null,{"$f":"IFERROR(SUMIF(RATES!B:B,'21. Bill Impacts'!D346,RATES!H:H),\"\")","v":0},{"$f":"IF($F331>0, $F331, $F330)","v":21296},0,{"$f":"IFERROR(SUMIF(RATES!B:B,'21. Bill Impacts'!D346,RATES!I:I),\"\")","v":0},{"$f":"IF($F331>0, $F331, $F330)","v":21296},0,0,""]
["UNMETERED SCATTERED LOAD SERVICE CLASSIFICATION",null,null,null,"Smart Meter Entity Charge (if applicable) and/or \nany fixed ($) Deferral/Variance Account Rate Riders",null,0,{"$f":"H338","v":186},{"$f":"H347*G347","v":0},0,{"$f":"K338","v":186},{"$f":"K347*J347","v":0},0,{"$f":"IF(ISERROR(M347/I347), \"\", M347/I347)","v":""}]
["UNMETERED SCATTERED LOAD SERVICE CLASSIFICATION","ST_B",{"$f":"C342","v":7},null,"Sub-Total B - Distribution (includes Sub-Total A)",null,null,null,{"$f":"SUM(I342:I347)","v":660.60400000000016},null,null,{"$f":"SUM(L342:L347)","v":603.6167999999999},-56.987200000000257,{"$f":"IF((I348)=0,\"\",(M348/I348))","v":-8.626529660734758E-2}]
["UNMETERED SCATTERED LOAD SERVICE CLASSIFICATION",null,null,"USL_TN","RTSR - Network",null,{"$f":"IFERROR(SUMIF(RATES!B:B,'21. Bill Impacts'!D349,RATES!H:H),\"\")","v":6.6E-3},{"$f":"IF($F331>0, $F331, $F330*$F332)","v":22022.193599999999},{"$f":"H349*G349","v":145.34647776},{"$f":"IFERROR(SUMIF(RATES!B:B,'21. Bill Impacts'!D349,RATES!I:I),\"\")","v":6.6E-3},{"$f":"IF($F331>0, $F331, $F330*$F332)","v":22022.193599999999},{"$f":"K349*J349","v":145.34647776},0,{"$f":"IF(ISERROR(M349/I349), \"\", M349/I349)","v":0}]
["UNMETERED SCATTERED LOAD SERVICE CLASSIFICATION",null,null,"USL_TC","RTSR - Connection and/or Line and Transformation Connection",null,{"$f":"IFERROR(SUMIF(RATES!B:B,'21. Bill Impacts'!D350,RATES!H:H),\"\")","v":4.7999999999999996E-3},{"$f":"IF($F331>0, $F331, $F330*$F332)","v":22022.193599999999},{"$f":"H350*G350","v":105.70652927999998},{"$f":"IFERROR(SUMIF(RATES!B:B,'21. Bill Impacts'!D350,RATES!I:I),\"\")","v":5.4999999999999997E-3},{"$f":"IF($F331>0, $F331, $F330*$F332)","v":22022.193599999999},{"$f":"K350*J350","v":121.12206479999999},15.415535520000006,{"$f":"IF(ISERROR(M350/I350), \"\", M350/I350)","v":0.1458333333333334}]
["UNMETERED SCATTERED LOAD SERVICE CLASSIFICATION","ST_C",{"$f":"C342","v":7},null,"Sub-Total C - Delivery (including Sub-Total B)",null,null,null,{"$f":"SUM(I348:I350)","v":911.65700704000005},null,null,{"$f":"SUM(L348:L350)","v":870.08534255999984},-41.571664480000209,{"$f":"IF((I351)=0,\"\",(M351/I351))","v":-4.5600115129895778E-2}]
["UNMETERED SCATTERED LOAD SERVICE CLASSIFICATION",null,null,null,"Wholesale Market Service Charge (WMSC)",null,3.5999999999999999E-3,{"$f":"F330*F332","v":22022.193599999999},{"$f":"H352*G352","v":79.279896959999988},3.5999999999999999E-3,{"$f":"F330*F332","v":22022.193599999999},{"$f":"K352*J352","v":79.279896959999988},0,{"$f":"IF(ISERROR(M352/I352), \"\", M352/I352)","v":0}]
["UNMETERED SCATTERED LOAD SERVICE CLASSIFICATION",null,null,null,"Rural and Remote Rate Protection (RRRP)",null,2.9999999999999997E-4,{"$f":"F330*F332","v":22022.193599999999},6.606658079999999,2.9999999999999997E-4,{"$f":"F330*F332","v":22022.193599999999},6.606658079999999,0,0]
["UNMETERED SCATTERED LOAD SERVICE CLASSIFICATION",null,null,null,"Standard Supply Service Charge",null,0.25,1,0.25,0.25,1,0.25,0,0]
["UNMETERED SCATTERED LOAD SERVICE CLASSIFICATION",null,null,null,"Debt Retirement Charge (DRC)",null,7.0000000000000001E-3,{"$f":"F330","v":21296},149.072,7.0000000000000001E-3,{"$f":"F330","v":21296},149.072,0,0]
["UNMETERED SCATTERED LOAD SERVICE CLASSIFICATION"]
["UNMETERED SCATTERED LOAD SERVICE CLASSIFICATION","RPP",null,null,"TOU - Off Peak",null,6.5000000000000002E-2,{"$f":"IF(AND(F330*12>=150000),0.65*F330*F332,0.65*F330)","v":14314.42584},{"$f":"H357*G357","v":930.43767960000002},6.5000000000000002E-2,{"$f":"IF(AND(F330*12>=150000),0.65*F330*F333,0.65*F330)","v":14314.42584},{"$f":"K357*J357","v":930.43767960000002},{"$f":"L357-I357","v":0},{"$f":"IF(ISERROR(M357/I357), \"\", M357/I357)","v":0}]
["UNMETERED SCATTERED LOAD SERVICE CLASSIFICATION","RPP",null,null,"TOU - Mid Peak",null,9.5000000000000001E-2,{"$f":"IF(AND(F330*12>=150000),0.17*F330*F332,0.17*F330)","v":3743.7729120000004},355.65842664000002,9.5000000000000001E-2,{"$f":"IF(AND(F330*12>=150000),0.17*F330*F333,0.17*F330)","v":3743.7729120000004},355.65842664000002,0,0]
["UNMETERED SCATTERED LOAD SERVICE CLASSIFICATION","RPP",null,null,"TOU - On Peak",null,0.13200000000000001,{"$f":"IF(AND(F330*12>=150000),0.18*F330*F332,0.18*F330)","v":3963.9948479999998},523.24731993600005,0.13200000000000001,{"$f":"IF(AND(F330*12>=150000),0.18*F330*F333,0.18*F330)","v":3963.9948479999998},523.24731993600005,0,0]
["UNMETERED SCATTERED LOAD SERVICE CLASSIFICATION","Non-RPP (Retailer)",null,null,"Non-RPP Retailer Avg. Price",null,{"$f":"0.1061","v":0.1061},{"$f":"IF(AND(F330*12>=150000),F330*F332,F330)","v":22022.193599999999},{"$f":"H360*G360","v":2336.5547409599999},{"$f":"G360","v":0.1061},{"$f":"IF(AND(F330*12>=150000),F330*F333,F330)","v":22022.193599999999},{"$f":"K360*J360","v":2336.5547409599999},0,0]
["UNMETERED SCATTERED LOAD SERVICE CLASSIFICATION","Non-RPP (Other)",null,null,"Average IESO Wholesale Market Price",null,0.1101,{"$f":"IF(AND(F330*12>=150000),F330*F332,F330)","v":22022.193599999999},{"$f":"H361*G361","v":2424.64351536},{"$f":"G361","v":0.1101},{"$f":"IF(AND(F330*12>=150000),F330*F333,F330)","v":22022.193599999999},{"$f":"K361*J361","v":2424.64351536},0,0]
["UNMETERED SCATTERED LOAD SERVICE CLASSIFICATION"]
["UNMETERED SCATTERED LOAD SERVICE CLASSIFICATION","RPP_BT",null,null,"Total Bill on TOU (before Taxes)",null,null,null,{"$f":"SUM(I352:I359,I351)","v":2956.2089882560003},null,null,{"$f":"SUM(L352:L359,L351)","v":2914.6373237759999},{"$f":"L363-I363","v":-41.571664480000436},{"$f":"IF((I363)=0,\"\",(M363/I363))","v":-1.4062491740316849E-2}]
["UNMETERED SCATTERED LOAD SERVICE CLASSIFICATION","RPP",null,null,"HST",null,0.13,null,{"$f":"I363*G364","v":384.30716847328006},0.13,null,{"$f":"L363*J364","v":378.90285209088},{"$f":"L364-I364","v":-5.4043163824000544},{"$f":"IF((I364)=0,\"\",(M364/I364))","v":-1.4062491740316844E-2}]
["UNMETERED SCATTERED LOAD SERVICE CLASSIFICATION","RPP_NET",null,null,"Total Bill on TOU (before 8% Provincial Rebate)",null,null,null,{"$f":"SUM(I363:I364)","v":3340.5161567292803},null,null,{"$f":"SUM(L363:L364)","v":3293.54017586688},{"$f":"SUM(M363:M364)","v":-46.97598086240049},{"$f":"IF((I365)=0,\"\",(M365/I365))","v":-1.4062491740316849E-2}]
[{"$f":"A364","v":"UNMETERED SCATTERED LOAD SERVICE CLASSIFICATION"},"RPP",null,null,"8% Provincial Rebate",null,-0.08,null,{"$f":"I363*G366","v":-236.49671906048002},{"$f":"G366","v":-0.08},null,{"$f":"L363*J366","v":-233.17098590207999},{"$f":"L366-I366","v":3.3257331584000269},{"$f":"IF((I366)=0,\"\",(M366/I366))","v":-1.4062491740316816E-2}]
["UNMETERED SCATTERED LOAD SERVICE CLASSIFICATION","RPP_TOTAL",null,null,"Total Bill on TOU",null,null,null,{"$f":"SUM(I363,I364,I366)","v":3104.0194376688005},null,null,{"$f":"L363+L364+L366","v":3060.3691899648002},{"$f":"L367-I367","v":-43.650247704000321},{"$f":"IF((I367)=0,\"\",(M367/I367))","v":-1.4062491740316806E-2}]
["UNMETERED SCATTERED LOAD SERVICE CLASSIFICATION","RPP"]
["UNMETERED SCATTERED LOAD SERVICE CLASSIFICATION","Non-RPP (Retailer)",null,null,"Total Bill on Non-RPP Avg. Price",null,null,null,{"$f":"SUM(I360,I352:I356,I351)","v":3483.4203030400004},null,null,{"$f":"SUM(L360,L352:L356,L351)","v":3441.8486385599999},{"$f":"L369-I369","v":-41.571664480000436},{"$f":"IF((I369)=0,\"\",(M369/I369))","v":-1.1934151168528417E-2}]
["UNMETERED SCATTERED LOAD SERVICE CLASSIFICATION","Non-RPP (Retailer)",null,null,"HST",null,0.13,null,{"$f":"I369*G370","v":452.84463939520009},0.13,null,{"$f":"L369*J370","v":447.44032301279998},{"$f":"L370-I370","v":-5.4043163824001113},{"$f":"IF((I370)=0,\"\",(M370/I370))","v":-1.1934151168528537E-2}]
["UNMETERED SCATTERED LOAD SERVICE CLASSIFICATION","Non-RPP (Retailer)",null,null,"Provincial Rebate",null,-0.08,null,{"$f":"I369*G371","v":-278.67362424320004},{"$f":"G371","v":-0.08},null,{"$f":"L369*J371","v":-275.34789108479998},{"$f":"L371-I371","v":3.3257331584000553},{"$f":"IF((I371)=0,\"\",(M371/I371))","v":-1.193415116852849E-2}]
["UNMETERED SCATTERED LOAD SERVICE CLASSIFICATION","Non-RPP (Retailer)_TOTAL",null,null,"Total Bill on Non-RPP Avg. Price",null,null,null,{"$f":"SUM(I369,I370,I371)","v":3657.5913181920005},null,null,{"$f":"SUM(L369,L370,L371)","v":3613.9410704880002},{"$f":"L372-I372","v":-43.650247704000321},{"$f":"IF((I372)=0,\"\",(M372/I372))","v":-1.1934151168528381E-2}]
["UNMETERED SCATTERED LOAD SERVICE CLASSIFICATION","Non-RPP (Retailer)"]
["UNMETERED SCATTERED LOAD SERVICE CLASSIFICATION","Non-RPP (Other)_BT",{"$f":"C342","v":7},null,"Total Bill on Average IESO Wholesale Market Price",null,null,null,{"$f":"SUM(I361,I352:I356,I351)","v":3571.5090774400005},null,null,{"$f":"SUM(L361,L352:L356,L351)","v":3529.9374129600001},{"$f":"L374-I374","v":-41.571664480000436},{"$f":"IF((I374)=0,\"\",(M374/I374))","v":-1.1639803673633198E-2}]
["UNMETERED SCATTERED LOAD SERVICE CLASSIFICATION","Non-RPP (Other)",null,null,"HST",null,0.13,null,{"$f":"I374*G375","v":464.29618006720005},0.13,null,{"$f":"L374*J375","v":458.8918636848},{"$f":"L375-I375","v":-5.4043163824000544},{"$f":"IF((I375)=0,\"\",(M375/I375))","v":-1.1639803673633195E-2}]
["UNMETERED SCATTERED LOAD SERVICE CLASSIFICATION","Non-RPP (Other)_NET",{"$f":"C374","v":7},null,"Total Bill on Average IESO WMP (before 8% Provincial Rebate)",null,null,null,{"$f":"SUM(I374:I375)","v":4035.8052575072006},null,null,{"$f":"SUM(L374:L375)","v":3988.8292766448003},{"$f":"SUM(M374:M375)","v":-46.97598086240049},{"$f":"IF((I376)=0,\"\",(M376/I376))","v":-1.1639803673633198E-2}]
[{"$f":"A375","v":"UNMETERED SCATTERED LOAD SERVICE CLASSIFICATION"},"Non-RPP (Other)",null,null,"8% Provincial Rebate",null,0,null,{"$f":"I374*G377","v":0},{"$f":"G377","v":0},null,{"$f":"L374*J377","v":0},{"$f":"L377-I377","v":0},{"$f":"IF((I377)=0,\"\",(M377/I377))","v":""}]
["UNMETERED SCATTERED LOAD SERVICE CLASSIFICATION","Non-RPP (Other)_TOTAL",{"$f":"C374","v":7},null,"Total Bill on Average IESO Wholesale Market Price",null,null,null,{"$f":"SUM(I374,I375,I377)","v":4035.8052575072006},null,null,{"$f":"SUM(L374,L375,L377)","v":3988.8292766448003},{"$f":"L378-I378","v":-46.97598086240032},{"$f":"IF((I378)=0,\"\",(M378/I378))","v":-1.1639803673633157E-2}]
["UNMETERED SCATTERED LOAD SERVICE CLASSIFICATION","Non-RPP (Other)"]
[]
[]
[null,null,null,null,"Customer Class:",{"$f":"E22","v":"STREET LIGHTING SERVICE CLASSIFICATION"},null,null,null,null,null,{"$f":"IF(O332=\"DEMAND - INTERVAL\",\"RTSR - INTERVAL METERED\",\"\")","v":""}]
[null,null,null,null,"RPP / Non-RPP:",{"$f":"H22","v":"Non-RPP (Other)"},null,null,"Class B"]
[null,null,null,null,"Consumption",{"$f":"K22","v":2787508},"kWh"]
[null,null,null,null,"Demand",{"$f":"L22","v":7922},"kW"]
[null,null,null,null,"Current Loss Factor",{"$f":"I22","v":1.0341}]
[null,null,null,null,"Proposed/Approved Loss Factor",{"$f":"J22","v":1.0341}]
[]
[null,null,null,null,null,null,"Current OEB-Approved",null,null,"Proposed",null,null,"Impact"]
[null,null,null,null,null,null,"Rate","Volume","Charge","Rate","Volume","Charge","$ Change","% Change"]
[null,null,null,null,null,null,"($)",null,"($)","($)",null,"($)"]
[{"$f":"F382","v":"STREET LIGHTING SERVICE CLASSIFICATION"},null,null,"SL_F","Monthly Service Charge",null,{"$f":"IFERROR(SUMIF(RATES!B:B,'21. Bill Impacts'!D392,RATES!H:H),\"\")","v":2.2999999999999998},{"$f":"N22","v":20614},{"$f":"H392*G392","v":47412.2},{"$f":"IFERROR(SUMIF(RATES!B:B,'21. Bill Impacts'!D392,RATES!I:I),\"\")","v":2.3199999999999998},{"$f":"H392","v":20614},{"$f":"K392*J392","v":47824.479999999996},{"$f":"L392-I392","v":412.27999999999884},{"$f":"IF(ISERROR(M392/I392), \"\", M392/I392)","v":8.6956521739130193E-3}]
[{"$f":"A392","v":"STREET LIGHTING SERVICE CLASSIFICATION"},null,null,"SL_V","Distribution Volumetric Rate",null,{"$f":"IFERROR(SUMIF(RATES!B:B,'21. Bill Impacts'!D393,RATES!H:H),\"\")","v":11.5388},{"$f":"IF($F385>0, $F385, $F384)","v":7922},{"$f":"H393*G393","v":91410.373600000006},{"$f":"IFERROR(SUMIF(RATES!B:B,'21. Bill Impacts'!D393,RATES!I:I),\"\")","v":11.6426},{"$f":"IF($F385>0, $F385, $F384)","v":7922},{"$f":"K393*J393","v":92232.677200000006},822.30359999999928,{"$f":"IF(ISERROR(M393/I393), \"\", M393/I393)","v":8.9957361250736553E-3}]
[{"$f":"A393","v":"STREET LIGHTING SERVICE CLASSIFICATION"},null,null,"SL_FRR","Fixed Rate Riders",null,{"$f":"IFERROR(SUMIF(RATES!B:B,'21. Bill Impacts'!D394,RATES!H:H),\"\")","v":0},{"$f":"H392","v":20614},0,{"$f":"IFERROR(SUMIF(RATES!B:B,'21. Bill Impacts'!D394,RATES!I:I),\"\")","v":0.05},{"$f":"K392","v":20614},{"$f":"K394*J394","v":1030.7},1030.7,""]
[{"$f":"A394","v":"STREET LIGHTING SERVICE CLASSIFICATION"},null,null,"SL_VRR","Volumetric Rate Riders",null,{"$f":"IFERROR(SUMIF(RATES!B:B,'21. Bill Impacts'!D395,RATES!H:H),\"\")","v":0.20280000000000001},{"$f":"IF($F385>0, $F385, $F384)","v":7922},1606.5816,{"$f":"IFERROR(SUMIF(RATES!B:B,'21. Bill Impacts'!D395,RATES!I:I),\"\")","v":0.11119999999999999},{"$f":"IF($F385>0, $F385, $F384)","v":7922},880.92639999999994,-725.65520000000004,-0.45167652859960555]
["STREET LIGHTING SERVICE CLASSIFICATION","ST_A",{"$f":"B22","v":8},null,"Sub-Total A (excluding pass through)",null,null,null,{"$f":"SUM(I392:I395)","v":140429.15520000001},null,null,{"$f":"SUM(L392:L395)","v":141968.78360000002},1539.628400000016,{"$f":"IF((I396)=0,\"\",(M396/I396))","v":1.0963737535893229E-2}]
["STREET LIGHTING SERVICE CLASSIFICATION",null,null,null,"Line Losses on Cost of Power",null,{"$f":"IF((F384*12>=150000), 0, IF(F383=\"RPP\",(G411*0.65+G412*0.17+G413*0.18),IF(F383=\"Non-RPP (Retailer)\",G414,G415)))","v":0},{"$f":"IF(G397=0, 0, $F384*F386-F384)","v":0},{"$f":"H397*G397","v":0},{"$f":"IF((F384*12>=150000), 0, IF(F383=\"RPP\",(J411*0.65+J412*0.17+J413*0.18),IF(F383=\"Non-RPP (Retailer)\",J414,J415)))","v":0},{"$f":"IF(G397=0, 0, $F384*F386-F384)","v":0},{"$f":"K397*J397","v":0},{"$f":"L397-I397","v":0},{"$f":"IF(ISERROR(M397/I397), \"\", M397/I397)","v":""}]
["STREET LIGHTING SERVICE CLASSIFICATION",null,null,"SL_DVA","Total Deferral/Variance Account Rate Riders",null,{"$f":"IFERROR(SUMIF(RATES!B:B,'21. Bill Impacts'!D398,RATES!H:H),\"\")","v":-1.1415999999999999},{"$f":"IF($F385>0, $F385, $F384)","v":7922},{"$f":"H398*G398","v":-9043.7551999999996},{"$f":"IFERROR(SUMIF(RATES!B:B,'21. Bill Impacts'!D398,RATES!I:I),\"\")","v":-0.32190000000000002},{"$f":"IF($F385>0, $F385, $F384)","v":7922},{"$f":"K398*J398","v":-2550.0918000000001},{"$f":"L398-I398","v":6493.6633999999995},{"$f":"IF(ISERROR(M398/I398), \"\", M398/I398)","v":-0.7180273300630694}]
["STREET LIGHTING SERVICE CLASSIFICATION",null,null,"SL_GA","GA Rate Riders",null,{"$f":"IFERROR(SUMIF(RATES!B:B,'21. Bill Impacts'!D399,RATES!H:H),\"\")","v":4.8999999999999998E-3},{"$f":"F384","v":2787508},13658.789199999999,{"$f":"IFERROR(SUMIF(RATES!B:B,'21. Bill Impacts'!D399,RATES!I:I),\"\")","v":-8.9999999999999998E-4},{"$f":"K409","v":2787508},-2508.7572,-16167.546399999999,-1.1836734693877551]
["STREET LIGHTING SERVICE CLASSIFICATION",null,null,"SL_LV","Low Voltage Service Charge",null,{"$f":"IFERROR(SUMIF(RATES!B:B,'21. Bill Impacts'!D400,RATES!H:H),\"\")","v":0},{"$f":"IF($F385>0, $F385, $F384)","v":7922},0,{"$f":"IFERROR(SUMIF(RATES!B:B,'21. Bill Impacts'!D400,RATES!I:I),\"\")","v":0},{"$f":"IF($F385>0, $F385, $F384)","v":7922},0,0,""]
["STREET LIGHTING SERVICE CLASSIFICATION",null,null,null,"Smart Meter Entity Charge (if applicable) and/or \nany fixed ($) Deferral/Variance Account Rate Riders",null,0,{"$f":"H392","v":20614},{"$f":"H401*G401","v":0},0,{"$f":"K392","v":20614},{"$f":"K401*J401","v":0},0,{"$f":"IF(ISERROR(M401/I401), \"\", M401/I401)","v":""}]
["STREET LIGHTING SERVICE CLASSIFICATION","ST_B",{"$f":"C396","v":8},null,"Sub-Total B - Distribution (includes Sub-Total A)",null,null,null,{"$f":"SUM(I396:I401)","v":145044.18920000002},null,null,{"$f":"SUM(L396:L401)","v":136909.93460000004},-8134.2545999999857,{"$f":"IF((I402)=0,\"\",(M402/I402))","v":-5.6081216661384076E-2}]
["STREET LIGHTING SERVICE CLASSIFICATION",null,null,"SL_TN","RTSR - Network",null,{"$f":"IFERROR(SUMIF(RATES!B:B,'21. Bill Impacts'!D403,RATES!H:H),\"\")","v":2.1318999999999999},{"$f":"IF($F385>0, $F385, $F384*$F386)","v":7922},{"$f":"H403*G403","v":16888.911799999998},{"$f":"IFERROR(SUMIF(RATES!B:B,'21. Bill Impacts'!D403,RATES!I:I),\"\")","v":2.1341000000000001},{"$f":"IF($F385>0, $F385, $F384*$F386)","v":7922},{"$f":"K403*J403","v":16906.340200000002},17.428400000004331,{"$f":"IF(ISERROR(M403/I403), \"\", M403/I403)","v":1.031943336929756E-3}]
["STREET LIGHTING SERVICE CLASSIFICATION",null,null,"SL_TC","RTSR - Connection and/or Line and Transformation Connection",null,{"$f":"IFERROR(SUMIF(RATES!B:B,'21. Bill Impacts'!D404,RATES!H:H),\"\")","v":1.5966},{"$f":"IF($F385>0, $F385, $F384*$F386)","v":7922},{"$f":"H404*G404","v":12648.2652},{"$f":"IFERROR(SUMIF(RATES!B:B,'21. Bill Impacts'!D404,RATES!I:I),\"\")","v":1.8214999999999999},{"$f":"IF($F385>0, $F385, $F384*$F386)","v":7922},{"$f":"K404*J404","v":14429.922999999999},1781.657799999999,{"$f":"IF(ISERROR(M404/I404), \"\", M404/I404)","v":0.1408618313917073}]
["STREET LIGHTING SERVICE CLASSIFICATION","ST_C",{"$f":"C396","v":8},null,"Sub-Total C - Delivery (including Sub-Total B)",null,null,null,{"$f":"SUM(I402:I404)","v":174581.36620000002},null,null,{"$f":"SUM(L402:L404)","v":168246.19780000005},-6335.1683999999659,{"$f":"IF((I405)=0,\"\",(M405/I405))","v":-3.6287769639415074E-2}]
["STREET LIGHTING SERVICE CLASSIFICATION",null,null,null,"Wholesale Market Service Charge (WMSC)",null,3.5999999999999999E-3,{"$f":"F384*F386","v":2882562.0227999999},{"$f":"H406*G406","v":10377.22328208},3.5999999999999999E-3,{"$f":"F384*F386","v":2882562.0227999999},{"$f":"K406*J406","v":10377.22328208},0,{"$f":"IF(ISERROR(M406/I406), \"\", M406/I406)","v":0}]
["STREET LIGHTING SERVICE CLASSIFICATION",null,null,null,"Rural and Remote Rate Protection (RRRP)",null,2.9999999999999997E-4,{"$f":"F384*F386","v":2882562.0227999999},864.76860683999985,2.9999999999999997E-4,{"$f":"F384*F386","v":2882562.0227999999},864.76860683999985,0,0]
["STREET LIGHTING SERVICE CLASSIFICATION",null,null,null,"Standard Supply Service Charge",null,0.25,1,0.25,0.25,1,0.25,0,0]
["STREET LIGHTING SERVICE CLASSIFICATION",null,null,null,"Debt Retirement Charge (DRC)",null,7.0000000000000001E-3,{"$f":"F384","v":2787508},19512.556,7.0000000000000001E-3,{"$f":"F384","v":2787508},19512.556,0,0]
["STREET LIGHTING SERVICE CLASSIFICATION"]
["STREET LIGHTING SERVICE CLASSIFICATION","RPP",null,null,"TOU - Off Peak",null,6.5000000000000002E-2,{"$f":"IF(AND(F384*12>=150000),0.65*F384*F386,0.65*F384)","v":1873665.31482},{"$f":"H411*G411","v":121788.2454633},6.5000000000000002E-2,{"$f":"IF(AND(F384*12>=150000),0.65*F384*F387,0.65*F384)","v":1873665.31482},{"$f":"K411*J411","v":121788.2454633},{"$f":"L411-I411","v":0},{"$f":"IF(ISERROR(M411/I411), \"\", M411/I411)","v":0}]
["STREET LIGHTING SERVICE CLASSIFICATION","RPP",null,null,"TOU - Mid Peak",null,9.5000000000000001E-2,{"$f":"IF(AND(F384*12>=150000),0.17*F384*F386,0.17*F384)","v":490035.54387600004},46553.376668220008,9.5000000000000001E-2,{"$f":"IF(AND(F384*12>=150000),0.17*F384*F387,0.17*F384)","v":490035.54387600004},46553.376668220008,0,0]
["STREET LIGHTING SERVICE CLASSIFICATION","RPP",null,null,"TOU - On Peak",null,0.13200000000000001,{"$f":"IF(AND(F384*12>=150000),0.18*F384*F386,0.18*F384)","v":518861.16410400002},68489.673661728011,0.13200000000000001,{"$f":"IF(AND(F384*12>=150000),0.18*F384*F387,0.18*F384)","v":518861.16410400002},68489.673661728011,0,0]
["STREET LIGHTING SERVICE CLASSIFICATION","Non-RPP (Retailer)",null,null,"Non-RPP Retailer Avg. Price",null,{"$f":"0.1061","v":0.1061},{"$f":"IF(AND(F384*12>=150000),F384*F386,F384)","v":2882562.0227999999},{"$f":"H414*G414","v":305839.83061907999},{"$f":"G414","v":0.1061},{"$f":"IF(AND(F384*12>=150000),F384*F387,F384)","v":2882562.0227999999},{"$f":"K414*J414","v":305839.83061907999},0,0]
["STREET LIGHTING SERVICE CLASSIFICATION","Non-RPP (Other)",null,null,"Average IESO Wholesale Market Price",null,0.1101,{"$f":"IF(AND(F384*12>=150000),F384*F386,F384)","v":2882562.0227999999},{"$f":"H415*G415","v":317370.07871028001},{"$f":"G415","v":0.1101},{"$f":"IF(AND(F384*12>=150000),F384*F387,F384)","v":2882562.0227999999},{"$f":"K415*J415","v":317370.07871028001},0,0]
["STREET LIGHTING SERVICE CLASSIFICATION"]
["STREET LIGHTING SERVICE CLASSIFICATION","RPP",null,null,"Total Bill on TOU (before Taxes)",null,null,null,{"$f":"SUM(I406:I413,I405)","v":442167.4598821681},null,null,{"$f":"SUM(L406:L413,L405)","v":435832.29148216813},{"$f":"L417-I417","v":-6335.1683999999659},{"$f":"IF((I417)=0,\"\",(M417/I417))","v":-1.432753193029674E-2}]
["STREET LIGHTING SERVICE CLASSIFICATION","RPP",null,null,"HST",null,0.13,null,{"$f":"I417*G418","v":57481.769784681856},0.13,null,{"$f":"L417*J418","v":56658.197892681863},{"$f":"L418-I418","v":-823.57189199999266},{"$f":"IF((I418)=0,\"\",(M418/I418))","v":-1.4327531930296688E-2}]
["STREET LIGHTING SERVICE CLASSIFICATION","RPP",null,null,"Provincial Rebate",null,-0.08,null,{"$f":"I417*G419","v":-35373.396790573446},{"$f":"G419","v":-0.08},null,{"$f":"L417*J419","v":-34866.583318573452},{"$f":"L419-I419","v":506.81347199999436},{"$f":"IF((I419)=0,\"\",(M419/I419))","v":-1.4327531930296658E-2}]
["STREET LIGHTING SERVICE CLASSIFICATION","RPP_TOTAL",null,null,"Total Bill on TOU",null,null,null,{"$f":"SUM(I417,I418,I419)","v":464275.83287627652},null,null,{"$f":"L417+L418+L419","v":457623.90605627652},{"$f":"L420-I420","v":-6651.9268199999933},{"$f":"IF((I420)=0,\"\",(M420/I420))","v":-1.4327531930296802E-2}]
["STREET LIGHTING SERVICE CLASSIFICATION","RPP"]
["STREET LIGHTING SERVICE CLASSIFICATION","Non-RPP (Retailer)",null,null,"Total Bill on Non-RPP Avg. Price",null,null,null,{"$f":"SUM(I414,I406:I410,I405)","v":511175.99470799998},null,null,{"$f":"SUM(L414,L406:L410,L405)","v":504840.82630800002},{"$f":"L422-I422","v":-6335.1683999999659},{"$f":"IF((I422)=0,\"\",(M422/I422))","v":-1.2393321410992345E-2}]
["STREET LIGHTING SERVICE CLASSIFICATION","Non-RPP (Retailer)",null,null,"HST",null,0.13,null,{"$f":"I422*G423","v":66452.879312039993},0.13,null,{"$f":"L422*J423","v":65629.307420040001},{"$f":"L423-I423","v":-823.57189199999266},{"$f":"IF((I423)=0,\"\",(M423/I423))","v":-1.2393321410992302E-2}]
["STREET LIGHTING SERVICE CLASSIFICATION","Non-RPP (Retailer)",null,null,"Provincial Rebate",null,-0.08,null,{"$f":"I422*G424","v":-40894.079576639997},{"$f":"G424","v":-0.08},null,{"$f":"L422*J424","v":-40387.266104640003},{"$f":"L424-I424","v":506.81347199999436},{"$f":"IF((I424)=0,\"\",(M424/I424))","v":-1.2393321410992274E-2}]
["STREET LIGHTING SERVICE CLASSIFICATION","Non-RPP (Retailer)_TOTAL",null,null,"Total Bill on Non-RPP Avg. Price",null,null,null,{"$f":"SUM(I422,I423,I424)","v":536734.79444339999},null,null,{"$f":"SUM(L422,L423,L424)","v":530082.86762340006},{"$f":"L425-I425","v":-6651.9268199999351},{"$f":"IF((I425)=0,\"\",(M425/I425))","v":-1.2393321410992291E-2}]
["STREET LIGHTING SERVICE CLASSIFICATION","Non-RPP (Retailer)"]
["STREET LIGHTING SERVICE CLASSIFICATION","Non-RPP (Other)_BT",8,null,"Total Bill on Average IESO Wholesale Market Price",null,null,null,{"$f":"SUM(I415,I406:I410,I405)","v":522706.2427992},null,null,{"$f":"SUM(L415,L406:L410,L405)","v":516371.07439920004},{"$f":"L427-I427","v":-6335.1683999999659},{"$f":"IF((I427)=0,\"\",(M427/I427))","v":-1.2119940190639066E-2}]
["STREET LIGHTING SERVICE CLASSIFICATION","Non-RPP (Other)",null,null,"HST",null,0.13,null,{"$f":"I427*G428","v":67951.811563896001},0.13,null,{"$f":"L427*J428","v":67128.239671896008},{"$f":"L428-I428","v":-823.57189199999266},{"$f":"IF((I428)=0,\"\",(M428/I428))","v":-1.2119940190639023E-2}]
["STREET LIGHTING SERVICE CLASSIFICATION","Non-RPP (Other)_NET",8,null,"Total Bill on Average IESO WMP (before 8% Provincial Rebate)",null,null,null,{"$f":"SUM(I427:I428)","v":590658.05436309602},null,null,{"$f":"SUM(L427:L428)","v":583499.31407109601},{"$f":"SUM(M427:M428)","v":-7158.7402919999586},{"$f":"IF((I429)=0,\"\",(M429/I429))","v":-1.2119940190639061E-2}]
[{"$f":"A428","v":"STREET LIGHTING SERVICE CLASSIFICATION"},"Non-RPP (Other)",null,null,"8% Provincial Rebate",null,0,null,{"$f":"I427*G430","v":0},{"$f":"G430","v":0},null,{"$f":"L427*J430","v":0},{"$f":"L430-I430","v":0},{"$f":"IF((I430)=0,\"\",(M430/I430))","v":""}]
["STREET LIGHTING SERVICE CLASSIFICATION","Non-RPP (Other)_TOTAL",8,null,"Total Bill on Average IESO Wholesale Market Price",null,null,null,{"$f":"SUM(I427,I428,I430)","v":590658.05436309602},null,null,{"$f":"SUM(L427,L428,L430)","v":583499.31407109601},{"$f":"L431-I431","v":-7158.7402920000022},{"$f":"IF((I431)=0,\"\",(M431/I431))","v":-1.2119940190639134E-2}]
["STREET LIGHTING SERVICE CLASSIFICATION","Non-RPP (Other)"]
[]
[]
[null,null,null,null,"Customer Class:",{"$f":"E23","v":"EMBEDDED DISTRIBUTOR SERVICE CLASSIFICATION"},null,null,null,null,null,{"$f":"IF(O386=\"DEMAND - INTERVAL\",\"RTSR - INTERVAL METERED\",\"\")","v":""}]
[null,null,null,null,"RPP / Non-RPP:",{"$f":"H23","v":"Non-RPP (Other)"}]
[null,null,null,null,"Consumption",{"$f":"K23","v":1417701},"kWh"]
[null,null,null,null,"Demand",{"$f":"L23","v":4000},"kW"]
[null,null,null,null,"Current Loss Factor",{"$f":"I23","v":1.0246999999999999}]
[null,null,null,null,"Proposed/Approved Loss Factor",{"$f":"J23","v":1.0246999999999999}]
[]
[null,null,null,null,null,null,"Current OEB-Approved",null,null,"Proposed",null,null,"Impact"]
[null,null,null,null,null,null,"Rate","Volume","Charge","Rate","Volume","Charge","$ Change","% Change"]
[null,null,null,null,null,null,"($)",null,"($)","($)",null,"($)"]
[{"$f":"F435","v":"EMBEDDED DISTRIBUTOR SERVICE CLASSIFICATION"},null,null,"EMD_F","Monthly Service Charge",null,{"$f":"IFERROR(SUMIF(RATES!B:B,'21. Bill Impacts'!D445,RATES!H:H),\"\")","v":4159.82},1,{"$f":"H445*G445","v":4159.82},{"$f":"IFERROR(SUMIF(RATES!B:B,'21. Bill Impacts'!D445,RATES!I:I),\"\")","v":4197.26},1,{"$f":"K445*J445","v":4197.26},{"$f":"L445-I445","v":37.440000000000509},{"$f":"IF(ISERROR(M445/I445), \"\", M445/I445)","v":9.0003894399278122E-3}]
[{"$f":"A445","v":"EMBEDDED DISTRIBUTOR SERVICE CLASSIFICATION"},null,null,"EMD_V","Distribution Volumetric Rate",null,{"$f":"IFERROR(SUMIF(RATES!B:B,'21. Bill Impacts'!D446,RATES!H:H),\"\")","v":0},{"$f":"IF($F438>0, $F438, $F437)","v":4000},{"$f":"H446*G446","v":0},{"$f":"IFERROR(SUMIF(RATES!B:B,'21. Bill Impacts'!D446,RATES!I:I),\"\")","v":0},{"$f":"IF($F438>0, $F438, $F437)","v":4000},{"$f":"K446*J446","v":0},0,{"$f":"IF(ISERROR(M446/I446), \"\", M446/I446)","v":""}]
[{"$f":"A446","v":"EMBEDDED DISTRIBUTOR SERVICE CLASSIFICATION"},null,null,"EMD_FRR","Fixed Rate Riders",null,{"$f":"IFERROR(SUMIF(RATES!B:B,'21. Bill Impacts'!D447,RATES!H:H),\"\")","v":0},1,0,{"$f":"IFERROR(SUMIF(RATES!B:B,'21. Bill Impacts'!D447,RATES!I:I),\"\")","v":58.79},1,{"$f":"K447*J447","v":58.79},58.79,""]
[{"$f":"A447","v":"EMBEDDED DISTRIBUTOR SERVICE CLASSIFICATION"},null,null,"EMD_VRR","Volumetric Rate Riders",null,{"$f":"IFERROR(SUMIF(RATES!B:B,'21. Bill Impacts'!D448,RATES!H:H),\"\")","v":0},{"$f":"IF($F438>0, $F438, $F437)","v":4000},0,{"$f":"IFERROR(SUMIF(RATES!B:B,'21. Bill Impacts'!D448,RATES!I:I),\"\")","v":0},{"$f":"IF($F438>0, $F438, $F437)","v":4000},0,0,""]
["EMBEDDED DISTRIBUTOR SERVICE CLASSIFICATION","ST_A",{"$f":"B23","v":9},null,"Sub-Total A (excluding pass through)",null,null,null,{"$f":"SUM(I445:I448)","v":4159.82},null,null,{"$f":"SUM(L445:L448)","v":4256.05},96.230000000000473,{"$f":"IF((I449)=0,\"\",(M449/I449))","v":2.3133212494771523E-2}]
["EMBEDDED DISTRIBUTOR SERVICE CLASSIFICATION",null,null,null,"Line Losses on Cost of Power",null,{"$f":"IF((F437*12>=150000), 0, IF(F436=\"RPP\",(G464*0.65+G465*0.17+G466*0.18),IF(F436=\"Non-RPP (Retailer)\",G467,G468)))","v":0},{"$f":"IF(G450=0, 0, $F437*F439-F437)","v":0},{"$f":"H450*G450","v":0},{"$f":"IF((F437*12>=150000), 0, IF(F436=\"RPP\",(J464*0.65+J465*0.17+J466*0.18),IF(F436=\"Non-RPP (Retailer)\",J467,J468)))","v":0},{"$f":"IF(G450=0, 0, $F437*F439-F437)","v":0},{"$f":"K450*J450","v":0},{"$f":"L450-I450","v":0},{"$f":"IF(ISERROR(M450/I450), \"\", M450/I450)","v":""}]
["EMBEDDED DISTRIBUTOR SERVICE CLASSIFICATION",null,null,"EMD_DVA","Total Deferral/Variance Account Rate Riders",null,{"$f":"IFERROR(SUMIF(RATES!B:B,'21. Bill Impacts'!D451,RATES!H:H),\"\")","v":-3.4000000000000002E-3},{"$f":"IF($F438>0, $F438, $F437)","v":4000},{"$f":"H451*G451","v":-13.600000000000001},{"$f":"IFERROR(SUMIF(RATES!B:B,'21. Bill Impacts'!D451,RATES!I:I),\"\")","v":-8.9999999999999998E-4},{"$f":"IF($F438>0, $F438, $F437)","v":4000},{"$f":"K451*J451","v":-3.6},{"$f":"L451-I451","v":10.000000000000002},{"$f":"IF(ISERROR(M451/I451), \"\", M451/I451)","v":-0.73529411764705888}]
["EMBEDDED DISTRIBUTOR SERVICE CLASSIFICATION",null,null,"EMD_GA","GA Rate Riders",null,{"$f":"IFERROR(SUMIF(RATES!B:B,'21. Bill Impacts'!D452,RATES!H:H),\"\")","v":4.8999999999999998E-3},{"$f":"F437","v":1417701},6946.7348999999995,{"$f":"IFERROR(SUMIF(RATES!B:B,'21. Bill Impacts'!D452,RATES!I:I),\"\")","v":-8.9999999999999998E-4},{"$f":"F437","v":1417701},-1275.9309000000001,-8222.6657999999989,-1.1836734693877551]
["EMBEDDED DISTRIBUTOR SERVICE CLASSIFICATION",null,null,"EMD_LV","Low Voltage Service Charge",null,{"$f":"IFERROR(SUMIF(RATES!B:B,'21. Bill Impacts'!D453,RATES!H:H),\"\")","v":0},{"$f":"IF($F438>0, $F438, $F437)","v":4000},0,{"$f":"IFERROR(SUMIF(RATES!B:B,'21. Bill Impacts'!D453,RATES!I:I),\"\")","v":0},{"$f":"IF($F438>0, $F438, $F437)","v":4000},0,0,""]
["EMBEDDED DISTRIBUTOR SERVICE CLASSIFICATION",null,null,null,"Smart Meter Entity Charge (if applicable) and/or \nany fixed ($) Deferral/Variance Account Rate Riders",null,0.56999999999999995,null,{"$f":"H454*G454","v":0},0.56999999999999995,null,{"$f":"K454*J454","v":0},0,{"$f":"IF(ISERROR(M454/I454), \"\", M454/I454)","v":""}]
["EMBEDDED DISTRIBUTOR SERVICE CLASSIFICATION","ST_B",{"$f":"C449","v":9},null,"Sub-Total B - Distribution (includes Sub-Total A)",null,null,null,{"$f":"SUM(I449:I454)","v":11092.954899999999},null,null,{"$f":"SUM(L449:L454)","v":2976.5190999999995},-8116.4357999999993,{"$f":"IF((I455)=0,\"\",(M455/I455))","v":-0.73167482182768095}]
["EMBEDDED DISTRIBUTOR SERVICE CLASSIFICATION",null,null,"EMD_TN","RTSR - Network",null,{"$f":"IFERROR(SUMIF(RATES!B:B,'21. Bill Impacts'!D456,RATES!H:H),\"\")","v":2.8714},{"$f":"IF($F438>0, $F438, $F437*$F439)","v":4000},{"$f":"H456*G456","v":11485.6},{"$f":"IFERROR(SUMIF(RATES!B:B,'21. Bill Impacts'!D456,RATES!I:I),\"\")","v":2.8742999999999999},{"$f":"IF($F438>0, $F438, $F437*$F439)","v":4000},{"$f":"K456*J456","v":11497.199999999999},11.599999999998545,{"$f":"IF(ISERROR(M456/I456), \"\", M456/I456)","v":1.0099602981122923E-3}]
["EMBEDDED DISTRIBUTOR SERVICE CLASSIFICATION",null,null,"EMD_TC","RTSR - Connection and/or Line and Transformation Connection",null,{"$f":"IFERROR(SUMIF(RATES!B:B,'21. Bill Impacts'!D457,RATES!H:H),\"\")","v":2.0613999999999999},{"$f":"IF($F438>0, $F438, $F437*$F439)","v":4000},{"$f":"H457*G457","v":8245.6},{"$f":"IFERROR(SUMIF(RATES!B:B,'21. Bill Impacts'!D457,RATES!I:I),\"\")","v":2.3517000000000001},{"$f":"IF($F438>0, $F438, $F437*$F439)","v":4000},{"$f":"K457*J457","v":9406.8000000000011},1161.2000000000007,{"$f":"IF(ISERROR(M457/I457), \"\", M457/I457)","v":0.14082662268361315}]
["EMBEDDED DISTRIBUTOR SERVICE CLASSIFICATION","ST_C",{"$f":"C449","v":9},null,"Sub-Total C - Delivery (including Sub-Total B)",null,null,null,{"$f":"SUM(I455:I457)","v":30824.154900000001},null,null,{"$f":"SUM(L455:L457)","v":23880.519099999998},-6943.6358000000037,{"$f":"IF((I458)=0,\"\",(M458/I458))","v":-0.22526605587490101}]
["EMBEDDED DISTRIBUTOR SERVICE CLASSIFICATION",null,null,null,"Wholesale Market Service Charge (WMSC)",null,3.5999999999999999E-3,{"$f":"F437*F439","v":1452718.2146999999},{"$f":"H459*G459","v":5229.7855729199991},3.5999999999999999E-3,{"$f":"F437*F439","v":1452718.2146999999},{"$f":"K459*J459","v":5229.7855729199991},0,{"$f":"IF(ISERROR(M459/I459), \"\", M459/I459)","v":0}]
["EMBEDDED DISTRIBUTOR SERVICE CLASSIFICATION",null,null,null,"Rural and Remote Rate Protection (RRRP)",null,2.9999999999999997E-4,{"$f":"F437*F439","v":1452718.2146999999},435.81546440999995,2.9999999999999997E-4,{"$f":"F437*F439","v":1452718.2146999999},435.81546440999995,0,0]
["EMBEDDED DISTRIBUTOR SERVICE CLASSIFICATION",null,null,null,"Standard Supply Service Charge",null,0.25,1,0.25,0.25,1,0.25,0,0]
["EMBEDDED DISTRIBUTOR SERVICE CLASSIFICATION",null,null,null,"Debt Retirement Charge (DRC)",null,7.0000000000000001E-3,{"$f":"F437","v":1417701},9923.9070000000011,7.0000000000000001E-3,{"$f":"F437","v":1417701},9923.9070000000011,0,0]
["EMBEDDED DISTRIBUTOR SERVICE CLASSIFICATION"]
["EMBEDDED DISTRIBUTOR SERVICE CLASSIFICATION","RPP",null,null,"TOU - Off Peak",null,6.5000000000000002E-2,{"$f":"IF(AND(F437*12>=150000),0.65*F437*F439,0.65*F437)","v":944266.83955499995},{"$f":"H464*G464","v":61377.344571075002},6.5000000000000002E-2,{"$f":"IF(AND(F437*12>=150000),0.65*F437*F440,0.65*F437)","v":944266.83955499995},{"$f":"K464*J464","v":61377.344571075002},{"$f":"L464-I464","v":0},{"$f":"IF(ISERROR(M464/I464), \"\", M464/I464)","v":0}]
["EMBEDDED DISTRIBUTOR SERVICE CLASSIFICATION","RPP",null,null,"TOU - Mid Peak",null,9.5000000000000001E-2,{"$f":"IF(AND(F437*12>=150000),0.17*F437*F439,0.17*F437)","v":246962.09649900001},23461.399167405001,9.5000000000000001E-2,{"$f":"IF(AND(F437*12>=150000),0.17*F437*F440,0.17*F437)","v":246962.09649900001},23461.399167405001,0,0]
["EMBEDDED DISTRIBUTOR SERVICE CLASSIFICATION","RPP",null,null,"TOU - On Peak",null,0.13200000000000001,{"$f":"IF(AND(F437*12>=150000),0.18*F437*F439,0.18*F437)","v":261489.27864599999},34516.584781272002,0.13200000000000001,{"$f":"IF(AND(F437*12>=150000),0.18*F437*F440,0.18*F437)","v":261489.27864599999},34516.584781272002,0,0]
["EMBEDDED DISTRIBUTOR SERVICE CLASSIFICATION","Non-RPP (Retailer)",null,null,"Non-RPP Retailer Avg. Price",null,{"$f":"0.1061","v":0.1061},{"$f":"IF(AND(F437*12>=150000),F437*F439,F437)","v":1452718.2146999999},{"$f":"H467*G467","v":154133.40257966999},{"$f":"G467","v":0.1061},{"$f":"IF(AND(F437*12>=150000),F437*F440,F437)","v":1452718.2146999999},{"$f":"K467*J467","v":154133.40257966999},0,0]
["EMBEDDED DISTRIBUTOR SERVICE CLASSIFICATION","Non-RPP (Other)",null,null,"Average IESO Wholesale Market Price",null,0.1101,{"$f":"IF(AND(F437*12>=150000),F437*F439,F437)","v":1452718.2146999999},{"$f":"H468*G468","v":159944.27543846998},{"$f":"G468","v":0.1101},{"$f":"IF(AND(F437*12>=150000),F437*F440,F437)","v":1452718.2146999999},{"$f":"K468*J468","v":159944.27543846998},0,0]
["EMBEDDED DISTRIBUTOR SERVICE CLASSIFICATION"]
["EMBEDDED DISTRIBUTOR SERVICE CLASSIFICATION","RPP_BT",null,null,"Total Bill on TOU (before Taxes)",null,null,null,{"$f":"SUM(I459:I466,I458)","v":165769.24145708201},null,null,{"$f":"SUM(L459:L466,L458)","v":158825.60565708202},{"$f":"L470-I470","v":-6943.6357999999891},{"$f":"IF((I470)=0,\"\",(M470/I470))","v":-4.1887359433913501E-2}]
["EMBEDDED DISTRIBUTOR SERVICE CLASSIFICATION","RPP",null,null,"HST",null,0.13,null,{"$f":"I470*G471","v":21550.00138942066},0.13,null,{"$f":"L470*J471","v":20647.328735420662},{"$f":"L471-I471","v":-902.67265399999815},{"$f":"IF((I471)=0,\"\",(M471/I471))","v":-4.1887359433913481E-2}]
["EMBEDDED DISTRIBUTOR SERVICE CLASSIFICATION","RPP_NET",null,null,"Total Bill on TOU (before 8% Provincial Rebate)",null,null,null,{"$f":"SUM(I470:I471)","v":187319.24284650266},null,null,{"$f":"SUM(L470:L471)","v":179472.93439250268},{"$f":"SUM(M470:M471)","v":-7846.3084539999873},{"$f":"IF((I472)=0,\"\",(M472/I472))","v":-4.1887359433913501E-2}]
[{"$f":"A471","v":"EMBEDDED DISTRIBUTOR SERVICE CLASSIFICATION"},"RPP",null,null,"8% Provincial Rebate",null,-0.08,null,{"$f":"I470*G473","v":-13261.539316566561},{"$f":"G473","v":-0.08},null,{"$f":"L470*J473","v":-12706.048452566562},{"$f":"L473-I473","v":555.49086399999942},{"$f":"IF((I473)=0,\"\",(M473/I473))","v":-4.1887359433913522E-2}]
["EMBEDDED DISTRIBUTOR SERVICE CLASSIFICATION","RPP_TOTAL",null,null,"Total Bill on TOU",null,null,null,{"$f":"SUM(I470,I471,I473)","v":174057.70352993609},null,null,{"$f":"L470+L471+L473","v":166766.88593993612},{"$f":"L474-I474","v":-7290.8175899999624},{"$f":"IF((I474)=0,\"\",(M474/I474))","v":-4.1887359433913356E-2}]
["EMBEDDED DISTRIBUTOR SERVICE CLASSIFICATION","RPP"]
["EMBEDDED DISTRIBUTOR SERVICE CLASSIFICATION","Non-RPP (Retailer)",null,null,"Total Bill on Non-RPP Avg. Price",null,null,null,{"$f":"SUM(I467,I459:I463,I458)","v":200547.31551699998},null,null,{"$f":"SUM(L467,L459:L463,L458)","v":193603.67971699999},{"$f":"L476-I476","v":-6943.6357999999891},{"$f":"IF((I476)=0,\"\",(M476/I476))","v":-3.4623429299463208E-2}]
["EMBEDDED DISTRIBUTOR SERVICE CLASSIFICATION","Non-RPP (Retailer)",null,null,"HST",null,0.13,null,{"$f":"I476*G477","v":26071.151017209999},0.13,null,{"$f":"L476*J477","v":25168.478363210001},{"$f":"L477-I477","v":-902.67265399999815},{"$f":"IF((I477)=0,\"\",(M477/I477))","v":-3.4623429299463188E-2}]
["EMBEDDED DISTRIBUTOR SERVICE CLASSIFICATION","Non-RPP (Retailer)",null,null,"Provincial Rebate",null,-0.08,null,{"$f":"I476*G478","v":-16043.785241359999},{"$f":"G478","v":-0.08},null,{"$f":"L476*J478","v":-15488.29437736},{"$f":"L478-I478","v":555.49086399999942},{"$f":"IF((I478)=0,\"\",(M478/I478))","v":-3.4623429299463222E-2}]
["EMBEDDED DISTRIBUTOR SERVICE CLASSIFICATION","Non-RPP (Retailer)_TOTAL",null,null,"Total Bill on Non-RPP Avg. Price",null,null,null,{"$f":"SUM(I476,I477,I478)","v":210574.68129285},null,null,{"$f":"SUM(L476,L477,L478)","v":203283.86370284998},{"$f":"L479-I479","v":-7290.8175900000206},{"$f":"IF((I479)=0,\"\",(M479/I479))","v":-3.4623429299463354E-2}]
["EMBEDDED DISTRIBUTOR SERVICE CLASSIFICATION","Non-RPP (Retailer)"]
["EMBEDDED DISTRIBUTOR SERVICE CLASSIFICATION","Non-RPP (Other)_BT",{"$f":"C449","v":9},null,"Total Bill on Average IESO Wholesale Market Price",null,null,null,{"$f":"SUM(I468,I459:I463,I458)","v":206358.18837579997},null,null,{"$f":"SUM(L468,L459:L463,L458)","v":199414.55257579999},{"$f":"L481-I481","v":-6943.6357999999891},{"$f":"IF((I481)=0,\"\",(M481/I481))","v":-3.3648462678664816E-2}]
["EMBEDDED DISTRIBUTOR SERVICE CLASSIFICATION","Non-RPP (Other)",null,null,"HST",null,0.13,null,{"$f":"I481*G482","v":26826.564488853997},0.13,null,{"$f":"L481*J482","v":25923.891834853999},{"$f":"L482-I482","v":-902.67265399999815},{"$f":"IF((I482)=0,\"\",(M482/I482))","v":-3.3648462678664802E-2}]
["EMBEDDED DISTRIBUTOR SERVICE CLASSIFICATION","Non-RPP (Other)_NET",{"$f":"C481","v":9},null,"Total Bill on Average IESO WMP (before 8% Provincial Rebate)",null,null,null,{"$f":"SUM(I481:I482)","v":233184.75286465397},null,null,{"$f":"SUM(L481:L482)","v":225338.44441065399},{"$f":"SUM(M481:M482)","v":-7846.3084539999873},{"$f":"IF((I483)=0,\"\",(M483/I483))","v":-3.3648462678664816E-2}]
[{"$f":"A482","v":"EMBEDDED DISTRIBUTOR SERVICE CLASSIFICATION"},"Non-RPP (Other)",null,null,"8% Provincial Rebate",null,0,null,{"$f":"I481*G484","v":0},{"$f":"G484","v":0},null,{"$f":"L481*J484","v":0},{"$f":"L484-I484","v":0},{"$f":"IF((I484)=0,\"\",(M484/I484))","v":""}]
["EMBEDDED DISTRIBUTOR SERVICE CLASSIFICATION","Non-RPP (Other)_TOTAL",{"$f":"C481","v":9},null,"Total Bill on Average IESO Wholesale Market Price",null,null,null,{"$f":"SUM(I481,I482,I484)","v":233184.75286465397},null,null,{"$f":"SUM(L481,L482,L484)","v":225338.44441065399},{"$f":"L485-I485","v":-7846.3084539999836},{"$f":"IF((I485)=0,\"\",(M485/I485))","v":-3.3648462678664795E-2}]
["EMBEDDED DISTRIBUTOR SERVICE CLASSIFICATION","Non-RPP (Other)"]
[]
[]
[null,null,null,null,"Customer Class:",{"$f":"E24","v":"DISTRIBUTED GENERATION [DGEN] SERVICE CLASSIFICATION"},null,null,null,null,null,{"$f":"IF(O439=\"DEMAND - INTERVAL\",\"RTSR - INTERVAL METERED\",\"\")","v":""}]
[null,null,null,null,"RPP / Non-RPP:",{"$f":"H24","v":"Non-RPP (Other)"}]
[null,null,null,null,"Consumption",{"$f":"K24","v":156},"kWh"]
[null,null,null,null,"Demand",{"$f":"L24","v":0},"kW"]
[null,null,null,null,"Current Loss Factor",{"$f":"I24","v":1.0341}]
[null,null,null,null,"Proposed/Approved Loss Factor",{"$f":"J24","v":1.0341}]
[]
[null,null,null,null,null,null,"Current OEB-Approved",null,null,"Proposed",null,null,"Impact"]
[null,null,null,null,null,null,"Rate","Volume","Charge","Rate","Volume","Charge","$ Change","% Change"]
[null,null,null,null,null,null,"($)",null,"($)","($)",null,"($)"]
[{"$f":"F489","v":"DISTRIBUTED GENERATION [DGEN] SERVICE CLASSIFICATION"},null,null,"DG_F","Monthly Service Charge",null,{"$f":"IFERROR(SUMIF(RATES!B:B,'21. Bill Impacts'!D499,RATES!H:H),\"\")","v":103.97},1,{"$f":"H499*G499","v":103.97},{"$f":"IFERROR(SUMIF(RATES!B:B,'21. Bill Impacts'!D499,RATES!I:I),\"\")","v":104.91},1,{"$f":"K499*J499","v":104.91},{"$f":"L499-I499","v":0.93999999999999773},{"$f":"IF(ISERROR(M499/I499), \"\", M499/I499)","v":9.0410695392901582E-3}]
[{"$f":"A499","v":"DISTRIBUTED GENERATION [DGEN] SERVICE CLASSIFICATION"},null,null,"DG_V","Distribution Volumetric Rate",null,{"$f":"IFERROR(SUMIF(RATES!B:B,'21. Bill Impacts'!D500,RATES!H:H),\"\")","v":0},{"$f":"IF($F492>0, $F492, $F491)","v":156},{"$f":"H500*G500","v":0},{"$f":"IFERROR(SUMIF(RATES!B:B,'21. Bill Impacts'!D500,RATES!I:I),\"\")","v":0},{"$f":"IF($F492>0, $F492, $F491)","v":156},{"$f":"K500*J500","v":0},0,{"$f":"IF(ISERROR(M500/I500), \"\", M500/I500)","v":""}]
[{"$f":"A500","v":"DISTRIBUTED GENERATION [DGEN] SERVICE CLASSIFICATION"},null,null,"DG_FRR","Fixed Rate Riders",null,{"$f":"IFERROR(SUMIF(RATES!B:B,'21. Bill Impacts'!D501,RATES!H:H),\"\")","v":0},1,0,{"$f":"IFERROR(SUMIF(RATES!B:B,'21. Bill Impacts'!D501,RATES!I:I),\"\")","v":1.47},1,{"$f":"K501*J501","v":1.47},1.47,""]
[{"$f":"A501","v":"DISTRIBUTED GENERATION [DGEN] SERVICE CLASSIFICATION"},null,null,"DG_VRR","Volumetric Rate Riders",null,{"$f":"IFERROR(SUMIF(RATES!B:B,'21. Bill Impacts'!D502,RATES!H:H),\"\")","v":5.0000000000000001E-4},{"$f":"IF($F492>0, $F492, $F491)","v":156},7.8E-2,{"$f":"IFERROR(SUMIF(RATES!B:B,'21. Bill Impacts'!D502,RATES!I:I),\"\")","v":0},{"$f":"IF($F492>0, $F492, $F491)","v":156},0,-7.8E-2,-1]
["DISTRIBUTED GENERATION [DGEN] SERVICE CLASSIFICATION","ST_A",{"$f":"B24","v":10},null,"Sub-Total A (excluding pass through)",null,null,null,{"$f":"SUM(I499:I502)","v":104.048},null,null,{"$f":"SUM(L499:L502)","v":106.38},2.3319999999999936,{"$f":"IF((I503)=0,\"\",(M503/I503))","v":2.2412732584960727E-2}]
["DISTRIBUTED GENERATION [DGEN] SERVICE CLASSIFICATION",null,null,null,"Line Losses on Cost of Power",null,{"$f":"IF((F491*12>=150000), 0, IF(F490=\"RPP\",(G518*0.65+G519*0.17+G520*0.18),IF(F490=\"Non-RPP (Retailer)\",G521,G522)))","v":0.1101},{"$f":"IF(G504=0, 0, $F491*F493-F491)","v":5.3196000000000083},{"$f":"H504*G504","v":0.5856879600000009},{"$f":"IF((F491*12>=150000), 0, IF(F490=\"RPP\",(J518*0.65+J519*0.17+J520*0.18),IF(F490=\"Non-RPP (Retailer)\",J521,J522)))","v":0.1101},{"$f":"IF(G504=0, 0, $F491*F493-F491)","v":5.3196000000000083},{"$f":"K504*J504","v":0.5856879600000009},{"$f":"L504-I504","v":0},{"$f":"IF(ISERROR(M504/I504), \"\", M504/I504)","v":0}]
["DISTRIBUTED GENERATION [DGEN] SERVICE CLASSIFICATION",null,null,"DG_DVA","Total Deferral/Variance Account Rate Riders",null,{"$f":"IFERROR(SUMIF(RATES!B:B,'21. Bill Impacts'!D505,RATES!H:H),\"\")","v":-3.4000000000000002E-3},{"$f":"IF($F492>0, $F492, $F491)","v":156},{"$f":"H505*G505","v":-0.53039999999999998},{"$f":"IFERROR(SUMIF(RATES!B:B,'21. Bill Impacts'!D505,RATES!I:I),\"\")","v":-8.9999999999999998E-4},{"$f":"IF($F492>0, $F492, $F491)","v":156},{"$f":"K505*J505","v":-0.1404},{"$f":"L505-I505","v":0.39},{"$f":"IF(ISERROR(M505/I505), \"\", M505/I505)","v":-0.73529411764705888}]
["DISTRIBUTED GENERATION [DGEN] SERVICE CLASSIFICATION",null,null,"DG_GA","GA Rate Riders",null,{"$f":"IFERROR(SUMIF(RATES!B:B,'21. Bill Impacts'!D506,RATES!H:H),\"\")","v":4.8999999999999998E-3},{"$f":"IF($F492>0, $F492, $F491)","v":156},0.76439999999999997,{"$f":"IFERROR(SUMIF(RATES!B:B,'21. Bill Impacts'!D506,RATES!I:I),\"\")","v":-8.9999999999999998E-4},{"$f":"IF($F492>0, $F492, $F491)","v":156},-0.1404,-0.90479999999999994,-1.1836734693877551]
["DISTRIBUTED GENERATION [DGEN] SERVICE CLASSIFICATION",null,null,"DG_LV","Low Voltage Service Charge",null,{"$f":"IFERROR(SUMIF(RATES!B:B,'21. Bill Impacts'!D507,RATES!H:H),\"\")","v":0},{"$f":"IF($F492>0, $F492, $F491)","v":156},0,{"$f":"IFERROR(SUMIF(RATES!B:B,'21. Bill Impacts'!D507,RATES!I:I),\"\")","v":0},{"$f":"IF($F492>0, $F492, $F491)","v":156},0,0,""]
["DISTRIBUTED GENERATION [DGEN] SERVICE CLASSIFICATION",null,null,null,"Smart Meter Entity Charge (if applicable) and/or \nany fixed ($) Deferral/Variance Account Rate Riders",null,0.56999999999999995,null,{"$f":"H508*G508","v":0},0.56999999999999995,null,{"$f":"K508*J508","v":0},0,{"$f":"IF(ISERROR(M508/I508), \"\", M508/I508)","v":""}]
["DISTRIBUTED GENERATION [DGEN] SERVICE CLASSIFICATION","ST_B",{"$f":"C503","v":10},null,"Sub-Total B - Distribution (includes Sub-Total A)",null,null,null,{"$f":"SUM(I503:I508)","v":104.86768796},null,null,{"$f":"SUM(L503:L508)","v":106.68488796},1.8171999999999997,{"$f":"IF((I509)=0,\"\",(M509/I509))","v":1.732850256690259E-2}]
["DISTRIBUTED GENERATION [DGEN] SERVICE CLASSIFICATION",null,null,"DG_TN","RTSR - Network",null,{"$f":"IFERROR(SUMIF(RATES!B:B,'21. Bill Impacts'!D510,RATES!H:H),\"\")","v":6.6E-3},{"$f":"IF($F492>0, $F492, $F491*$F493)","v":161.31960000000001},{"$f":"H510*G510","v":1.0647093600000002},{"$f":"IFERROR(SUMIF(RATES!B:B,'21. Bill Impacts'!D510,RATES!I:I),\"\")","v":6.6E-3},{"$f":"IF($F492>0, $F492, $F491*$F493)","v":161.31960000000001},{"$f":"K510*J510","v":1.0647093600000002},0,{"$f":"IF(ISERROR(M510/I510), \"\", M510/I510)","v":0}]
["DISTRIBUTED GENERATION [DGEN] SERVICE CLASSIFICATION",null,null,"DG_TC","RTSR - Connection and/or Line and Transformation Connection",null,{"$f":"IFERROR(SUMIF(RATES!B:B,'21. Bill Impacts'!D511,RATES!H:H),\"\")","v":4.7999999999999996E-3},{"$f":"IF($F492>0, $F492, $F491*$F493)","v":161.31960000000001},{"$f":"H511*G511","v":0.77433407999999992},{"$f":"IFERROR(SUMIF(RATES!B:B,'21. Bill Impacts'!D511,RATES!I:I),\"\")","v":5.4999999999999997E-3},{"$f":"IF($F492>0, $F492, $F491*$F493)","v":161.31960000000001},{"$f":"K511*J511","v":0.88725779999999999},0.11292372000000006,{"$f":"IF(ISERROR(M511/I511), \"\", M511/I511)","v":0.14583333333333343}]
["DISTRIBUTED GENERATION [DGEN] SERVICE CLASSIFICATION","ST_C",{"$f":"C503","v":10},null,"Sub-Total C - Delivery (including Sub-Total B)",null,null,null,{"$f":"SUM(I509:I511)","v":106.7067314},null,null,{"$f":"SUM(L509:L511)","v":108.63685511999999},1.9301237199999974,{"$f":"IF((I512)=0,\"\",(M512/I512))","v":1.8088115854329293E-2}]
["DISTRIBUTED GENERATION [DGEN] SERVICE CLASSIFICATION",null,null,null,"Wholesale Market Service Charge (WMSC)",null,3.5999999999999999E-3,{"$f":"F491*F493","v":161.31960000000001},{"$f":"H513*G513","v":0.58075056000000003},3.5999999999999999E-3,{"$f":"F491*F493","v":161.31960000000001},{"$f":"K513*J513","v":0.58075056000000003},0,{"$f":"IF(ISERROR(M513/I513), \"\", M513/I513)","v":0}]
["DISTRIBUTED GENERATION [DGEN] SERVICE CLASSIFICATION",null,null,null,"Rural and Remote Rate Protection (RRRP)",null,2.9999999999999997E-4,{"$f":"F491*F493","v":161.31960000000001},4.8395879999999995E-2,2.9999999999999997E-4,{"$f":"F491*F493","v":161.31960000000001},4.8395879999999995E-2,0,0]
["DISTRIBUTED GENERATION [DGEN] SERVICE CLASSIFICATION",null,null,null,"Standard Supply Service Charge",null,0.25,1,0.25,0.25,null,0,-0.25,-1]
["DISTRIBUTED GENERATION [DGEN] SERVICE CLASSIFICATION",null,null,null,"Debt Retirement Charge (DRC)",null,7.0000000000000001E-3,{"$f":"F491","v":156},1.0920000000000001,7.0000000000000001E-3,{"$f":"F491","v":156},1.0920000000000001,0,0]
["DISTRIBUTED GENERATION [DGEN] SERVICE CLASSIFICATION"]
["DISTRIBUTED GENERATION [DGEN] SERVICE CLASSIFICATION","RPP",null,null,"TOU - Off Peak",null,6.5000000000000002E-2,{"$f":"IF(AND(F491*12>=150000),0.65*F491*F493,0.65*F491)","v":101.4},{"$f":"H518*G518","v":6.5910000000000002},6.5000000000000002E-2,{"$f":"IF(AND(F491*12>=150000),0.65*F491*F494,0.65*F491)","v":101.4},{"$f":"K518*J518","v":6.5910000000000002},{"$f":"L518-I518","v":0},{"$f":"IF(ISERROR(M518/I518), \"\", M518/I518)","v":0}]
["DISTRIBUTED GENERATION [DGEN] SERVICE CLASSIFICATION","RPP",null,null,"TOU - Mid Peak",null,9.5000000000000001E-2,{"$f":"IF(AND(F491*12>=150000),0.17*F491*F493,0.17*F491)","v":26.520000000000003},2.5194000000000005,9.5000000000000001E-2,{"$f":"IF(AND(F491*12>=150000),0.17*F491*F494,0.17*F491)","v":26.520000000000003},2.5194000000000005,0,0]
["DISTRIBUTED GENERATION [DGEN] SERVICE CLASSIFICATION","RPP",null,null,"TOU - On Peak",null,0.13200000000000001,{"$f":"IF(AND(F491*12>=150000),0.18*F491*F493,0.18*F491)","v":28.08},3.7065600000000001,0.13200000000000001,{"$f":"IF(AND(F491*12>=150000),0.18*F491*F494,0.18*F491)","v":28.08},3.7065600000000001,0,0]
["DISTRIBUTED GENERATION [DGEN] SERVICE CLASSIFICATION","Non-RPP (Retailer)",null,null,"Non-RPP Retailer Avg. Price",null,{"$f":"0.1061","v":0.1061},{"$f":"IF(AND(F491*12>=150000),F491*F493,F491)","v":156},{"$f":"H521*G521","v":16.551600000000001},{"$f":"G521","v":0.1061},{"$f":"IF(AND(F491*12>=150000),F491*F494,F491)","v":156},{"$f":"K521*J521","v":16.551600000000001},0,0]
["DISTRIBUTED GENERATION [DGEN] SERVICE CLASSIFICATION","Non-RPP (Other)",null,null,"Average IESO Wholesale Market Price",null,0.1101,{"$f":"IF(AND(F491*12>=150000),F491*F493,F491)","v":156},{"$f":"H522*G522","v":17.175599999999999},{"$f":"G522","v":0.1101},{"$f":"IF(AND(F491*12>=150000),F491*F494,F491)","v":156},{"$f":"K522*J522","v":17.175599999999999},0,0]
["DISTRIBUTED GENERATION [DGEN] SERVICE CLASSIFICATION"]
["DISTRIBUTED GENERATION [DGEN] SERVICE CLASSIFICATION","RPP",null,null,"Total Bill on TOU (before Taxes)",null,null,null,{"$f":"SUM(I513:I520,I512)","v":121.49483784},null,null,{"$f":"SUM(L513:L520,L512)","v":123.17496155999999},{"$f":"L524-I524","v":1.6801237199999832},{"$f":"IF((I524)=0,\"\",(M524/I524))","v":1.3828766307030969E-2}]
["DISTRIBUTED GENERATION [DGEN] SERVICE CLASSIFICATION","RPP",null,null,"HST",null,0.13,null,{"$f":"I524*G525","v":15.794328919200002},0.13,null,{"$f":"L524*J525","v":16.012745002799999},{"$f":"L525-I525","v":0.21841608359999753},{"$f":"IF((I525)=0,\"\",(M525/I525))","v":1.382876630703095E-2}]
["DISTRIBUTED GENERATION [DGEN] SERVICE CLASSIFICATION","RPP",null,null,"Provincial Rebate",null,-0.08,null,{"$f":"I524*G526","v":-9.7195870272000011},{"$f":"G526","v":-0.08},null,{"$f":"L524*J526","v":-9.8539969247999988},{"$f":"L526-I526","v":-0.13440989759999766},{"$f":"IF((I526)=0,\"\",(M526/I526))","v":1.3828766307030865E-2}]
["DISTRIBUTED GENERATION [DGEN] SERVICE CLASSIFICATION","RPP_TOTAL",null,null,"Total Bill on TOU",null,null,null,{"$f":"SUM(I524,I525,I526)","v":127.56957973200001},null,null,{"$f":"L524+L525+L526","v":129.33370963799999},{"$f":"L527-I527","v":1.7641299059999795},{"$f":"IF((I527)=0,\"\",(M527/I527))","v":1.3828766307030945E-2}]
["DISTRIBUTED GENERATION [DGEN] SERVICE CLASSIFICATION","RPP"]
["DISTRIBUTED GENERATION [DGEN] SERVICE CLASSIFICATION","Non-RPP (Retailer)_BT",null,null,"Total Bill on Non-RPP Avg. Price",null,null,null,{"$f":"SUM(I521,I513:I517,I512)","v":125.22947783999999},null,null,{"$f":"SUM(L521,L513:L517,L512)","v":126.90960156},{"$f":"L529-I529","v":1.6801237200000116},{"$f":"IF((I529)=0,\"\",(M529/I529))","v":1.3416359702039398E-2}]
["DISTRIBUTED GENERATION [DGEN] SERVICE CLASSIFICATION","Non-RPP (Retailer)",null,null,"HST",null,0.13,null,{"$f":"I529*G530","v":16.279832119199998},0.13,null,{"$f":"L529*J530","v":16.498248202799999},{"$f":"L530-I530","v":0.21841608360000109},{"$f":"IF((I530)=0,\"\",(M530/I530))","v":1.3416359702039372E-2}]
["DISTRIBUTED GENERATION [DGEN] SERVICE CLASSIFICATION","Non-RPP (Retailer)_NET",null,null,"Total Bill on Non-RPP Avg. Price (before 8% Provincial Rebate)",null,null,null,{"$f":"SUM(I529:I530)","v":141.50930995919998},null,null,{"$f":"SUM(L529:L530)","v":143.4078497628},{"$f":"SUM(M529:M530)","v":1.8985398036000127},{"$f":"IF((I531)=0,\"\",(M531/I531))","v":1.3416359702039396E-2}]
[{"$f":"A530","v":"DISTRIBUTED GENERATION [DGEN] SERVICE CLASSIFICATION"},"Non-RPP (Retailer)",null,null,"8% Provincial Rebate",null,-0.08,null,{"$f":"I529*G532","v":-10.018358227199998},{"$f":"G532","v":-0.08},null,{"$f":"L529*J532","v":-10.1527681248},{"$f":"L532-I532","v":-0.13440989760000122},{"$f":"IF((I532)=0,\"\",(M532/I532))","v":1.3416359702039428E-2}]
["DISTRIBUTED GENERATION [DGEN] SERVICE CLASSIFICATION","Non-RPP (Retailer)_TOTAL",null,null,"Total Bill on Non-RPP Avg. Price",null,null,null,{"$f":"SUM(I529,I530,I532)","v":131.49095173199998},null,null,{"$f":"SUM(L529,L530,L532)","v":133.25508163800001},{"$f":"L533-I533","v":1.7641299060000222},{"$f":"IF((I533)=0,\"\",(M533/I533))","v":1.3416359702039474E-2}]
["DISTRIBUTED GENERATION [DGEN] SERVICE CLASSIFICATION","Non-RPP (Retailer)"]
["DISTRIBUTED GENERATION [DGEN] SERVICE CLASSIFICATION","Non-RPP (Other)_BT",{"$f":"C503","v":10},null,"Total Bill on Average IESO Wholesale Market Price",null,null,null,{"$f":"SUM(I522,I513:I517,I512)","v":125.85347784},null,null,{"$f":"SUM(L522,L513:L517,L512)","v":127.53360155999999},{"$f":"L535-I535","v":1.6801237199999974},{"$f":"IF((I535)=0,\"\",(M535/I535))","v":1.3349839423078731E-2}]
["DISTRIBUTED GENERATION [DGEN] SERVICE CLASSIFICATION","Non-RPP (Other)",null,null,"HST",null,0.13,null,{"$f":"I535*G536","v":16.3609521192},0.13,null,{"$f":"L535*J536","v":16.579368202800001},{"$f":"L536-I536","v":0.21841608360000109},{"$f":"IF((I536)=0,\"\",(M536/I536))","v":1.3349839423078817E-2}]
["DISTRIBUTED GENERATION [DGEN] SERVICE CLASSIFICATION","Non-RPP (Other)_NET",{"$f":"C535","v":10},null,"Total Bill on Average IESO WMP (before 8% Provincial Rebate)",null,null,null,{"$f":"SUM(I535:I536)","v":142.2144299592},null,null,{"$f":"SUM(L535:L536)","v":144.11296976279999},{"$f":"SUM(M535:M536)","v":1.8985398035999985},{"$f":"IF((I537)=0,\"\",(M537/I537))","v":1.3349839423078741E-2}]
["DISTRIBUTED GENERATION [DGEN] SERVICE CLASSIFICATION","Non-RPP (Other)",null,null,"8% Provincial Rebate",null,0,null,{"$f":"I535*G538","v":0},{"$f":"G538","v":0},null,{"$f":"L535*J538","v":0},{"$f":"L538-I538","v":0},{"$f":"IF((I538)=0,\"\",(M538/I538))","v":""}]
["DISTRIBUTED GENERATION [DGEN] SERVICE CLASSIFICATION","Non-RPP (Other)_TOTAL",{"$f":"C535","v":10},null,"Total Bill on Average IESO Wholesale Market Price",null,null,null,{"$f":"SUM(I535,I536,I538)","v":142.2144299592},null,null,{"$f":"SUM(L535,L536,L538)","v":144.11296976279999},{"$f":"L539-I539","v":1.8985398035999879},{"$f":"IF((I539)=0,\"\",(M539/I539))","v":1.3349839423078666E-2}]
["DISTRIBUTED GENERATION [DGEN] SERVICE CLASSIFICATION","Non-RPP (Other)"]
[]
[]
[null,null,null,null,"Customer Class:",{"$f":"E25","v":"ENERGY FROM WASTE SERVICE CLASSIFICATION"},null,null,null,null,null,{"$f":"IF(O493=\"DEMAND - INTERVAL\",\"RTSR - INTERVAL METERED\",\"\")","v":""}]
[null,null,null,null,"RPP / Non-RPP:",{"$f":"H25","v":"Non-RPP (Other)"}]
[null,null,null,null,"Consumption",{"$f":"K25","v":0},"kWh"]
[null,null,null,null,"Demand",{"$f":"L25","v":0},"kW"]
[null,null,null,null,"Current Loss Factor",{"$f":"I25","v":1.0341}]
[null,null,null,null,"Proposed/Approved Loss Factor",{"$f":"J25","v":1.0341}]
[]
[null,null,null,null,null,null,"Current OEB-Approved",null,null,"Proposed",null,null,"Impact"]
[null,null,null,null,null,null,"Rate","Volume","Charge","Rate","Volume","Charge","$ Change","% Change"]
[null,null,null,null,null,null,"($)",null,"($)","($)",null,"($)"]
[{"$f":"F543","v":"ENERGY FROM WASTE SERVICE CLASSIFICATION"},null,null,"WST_F","Monthly Service Charge",null,{"$f":"IFERROR(SUMIF(RATES!B:B,'21. Bill Impacts'!D553,RATES!H:H),\"\")","v":63.09},1,{"$f":"H553*G553","v":63.09},{"$f":"IFERROR(SUMIF(RATES!B:B,'21. Bill Impacts'!D553,RATES!I:I),\"\")","v":63.66},1,{"$f":"K553*J553","v":63.66},{"$f":"L553-I553","v":0.56999999999999318},{"$f":"IF(ISERROR(M553/I553), \"\", M553/I553)","v":9.0347123157393117E-3}]
[{"$f":"A553","v":"ENERGY FROM WASTE SERVICE CLASSIFICATION"},null,null,"WST_V","Distribution Volumetric Rate",null,{"$f":"IFERROR(SUMIF(RATES!B:B,'21. Bill Impacts'!D554,RATES!H:H),\"\")","v":0},{"$f":"IF($F546>0, $F546, $F545)","v":0},{"$f":"H554*G554","v":0},{"$f":"IFERROR(SUMIF(RATES!B:B,'21. Bill Impacts'!D554,RATES!I:I),\"\")","v":0},{"$f":"IF($F546>0, $F546, $F545)","v":0},{"$f":"K554*J554","v":0},0,{"$f":"IF(ISERROR(M554/I554), \"\", M554/I554)","v":""}]
[{"$f":"A554","v":"ENERGY FROM WASTE SERVICE CLASSIFICATION"},null,null,"WST_FRR","Fixed Rate Riders",null,{"$f":"IFERROR(SUMIF(RATES!B:B,'21. Bill Impacts'!D555,RATES!H:H),\"\")","v":0},1,0,{"$f":"IFERROR(SUMIF(RATES!B:B,'21. Bill Impacts'!D555,RATES!I:I),\"\")","v":0},1,{"$f":"K555*J555","v":0},0,""]
[{"$f":"A555","v":"ENERGY FROM WASTE SERVICE CLASSIFICATION"},null,null,"WST_VRR","Volumetric Rate Riders",null,{"$f":"IFERROR(SUMIF(RATES!B:B,'21. Bill Impacts'!D556,RATES!H:H),\"\")","v":0},{"$f":"IF($F546>0, $F546, $F545)","v":0},0,{"$f":"IFERROR(SUMIF(RATES!B:B,'21. Bill Impacts'!D556,RATES!I:I),\"\")","v":0},{"$f":"IF($F546>0, $F546, $F545)","v":0},0,0,""]
["ENERGY FROM WASTE SERVICE CLASSIFICATION","ST_A",{"$f":"B25","v":11},null,"Sub-Total A (excluding pass through)",null,null,null,{"$f":"SUM(I553:I556)","v":63.09},null,null,{"$f":"SUM(L553:L556)","v":63.66},0.56999999999999318,{"$f":"IF((I557)=0,\"\",(M557/I557))","v":9.0347123157393117E-3}]
["ENERGY FROM WASTE SERVICE CLASSIFICATION",null,null,null,"Line Losses on Cost of Power",null,{"$f":"IF((F545*12>=150000), 0, IF(F544=\"RPP\",(G572*0.65+G573*0.17+G574*0.18),IF(F544=\"Non-RPP (Retailer)\",G575,G576)))","v":0.1101},{"$f":"IF(G558=0, 0, $F545*F547-F545)","v":0},{"$f":"H558*G558","v":0},{"$f":"IF((F545*12>=150000), 0, IF(F544=\"RPP\",(J572*0.65+J573*0.17+J574*0.18),IF(F544=\"Non-RPP (Retailer)\",J575,J576)))","v":0.1101},{"$f":"IF(G558=0, 0, $F545*F547-F545)","v":0},{"$f":"K558*J558","v":0},{"$f":"L558-I558","v":0},{"$f":"IF(ISERROR(M558/I558), \"\", M558/I558)","v":""}]
["ENERGY FROM WASTE SERVICE CLASSIFICATION",null,null,"WST_DVA","Total Deferral/Variance Account Rate Riders",null,{"$f":"IFERROR(SUMIF(RATES!B:B,'21. Bill Impacts'!D559,RATES!H:H),\"\")","v":0},{"$f":"IF($F546>0, $F546, $F545)","v":0},{"$f":"H559*G559","v":0},{"$f":"IFERROR(SUMIF(RATES!B:B,'21. Bill Impacts'!D559,RATES!I:I),\"\")","v":0},{"$f":"IF($F546>0, $F546, $F545)","v":0},{"$f":"K559*J559","v":0},{"$f":"L559-I559","v":0},{"$f":"IF(ISERROR(M559/I559), \"\", M559/I559)","v":""}]
["ENERGY FROM WASTE SERVICE CLASSIFICATION",null,null,"WST_GA","GA Rate Riders",null,{"$f":"IFERROR(SUMIF(RATES!B:B,'21. Bill Impacts'!D560,RATES!H:H),\"\")","v":0},{"$f":"IF($F546>0, $F546, $F545)","v":0},0,{"$f":"IFERROR(SUMIF(RATES!B:B,'21. Bill Impacts'!D560,RATES!I:I),\"\")","v":0},{"$f":"IF($F546>0, $F546, $F545)","v":0},0,0,""]
["ENERGY FROM WASTE SERVICE CLASSIFICATION",null,null,"WST_LV","Low Voltage Service Charge",null,{"$f":"IFERROR(SUMIF(RATES!B:B,'21. Bill Impacts'!D561,RATES!H:H),\"\")","v":0},{"$f":"IF($F546>0, $F546, $F545)","v":0},0,{"$f":"IFERROR(SUMIF(RATES!B:B,'21. Bill Impacts'!D561,RATES!I:I),\"\")","v":0},{"$f":"IF($F546>0, $F546, $F545)","v":0},0,0,""]
["ENERGY FROM WASTE SERVICE CLASSIFICATION",null,null,null,"Smart Meter Entity Charge (if applicable) and/or \nany fixed ($) Deferral/Variance Account Rate Riders",null,0.56999999999999995,null,{"$f":"H562*G562","v":0},0.56999999999999995,null,{"$f":"K562*J562","v":0},0,{"$f":"IF(ISERROR(M562/I562), \"\", M562/I562)","v":""}]
["ENERGY FROM WASTE SERVICE CLASSIFICATION","ST_B",{"$f":"C557","v":11},null,"Sub-Total B - Distribution (includes Sub-Total A)",null,null,null,{"$f":"SUM(I557:I562)","v":63.09},null,null,{"$f":"SUM(L557:L562)","v":63.66},0.56999999999999318,{"$f":"IF((I563)=0,\"\",(M563/I563))","v":9.0347123157393117E-3}]
["ENERGY FROM WASTE SERVICE CLASSIFICATION",null,null,"WST_TN","RTSR - Network",null,{"$f":"IFERROR(SUMIF(RATES!B:B,'21. Bill Impacts'!D564,RATES!H:H),\"\")","v":0},{"$f":"IF($F546>0, $F546, $F545*$F547)","v":0},{"$f":"H564*G564","v":0},{"$f":"IFERROR(SUMIF(RATES!B:B,'21. Bill Impacts'!D564,RATES!I:I),\"\")","v":0},{"$f":"IF($F546>0, $F546, $F545*$F547)","v":0},{"$f":"K564*J564","v":0},0,{"$f":"IF(ISERROR(M564/I564), \"\", M564/I564)","v":""}]
["ENERGY FROM WASTE SERVICE CLASSIFICATION",null,null,"WST_TC","RTSR - Connection and/or Line and Transformation Connection",null,{"$f":"IFERROR(SUMIF(RATES!B:B,'21. Bill Impacts'!D565,RATES!H:H),\"\")","v":0},{"$f":"IF($F546>0, $F546, $F545*$F547)","v":0},{"$f":"H565*G565","v":0},{"$f":"IFERROR(SUMIF(RATES!B:B,'21. Bill Impacts'!D565,RATES!I:I),\"\")","v":0},{"$f":"IF($F546>0, $F546, $F545*$F547)","v":0},{"$f":"K565*J565","v":0},0,{"$f":"IF(ISERROR(M565/I565), \"\", M565/I565)","v":""}]
["ENERGY FROM WASTE SERVICE CLASSIFICATION","ST_C",{"$f":"C557","v":11},null,"Sub-Total C - Delivery (including Sub-Total B)",null,null,null,{"$f":"SUM(I563:I565)","v":63.09},null,null,{"$f":"SUM(L563:L565)","v":63.66},0.56999999999999318,{"$f":"IF((I566)=0,\"\",(M566/I566))","v":9.0347123157393117E-3}]
["ENERGY FROM WASTE SERVICE CLASSIFICATION",null,null,null,"Wholesale Market Service Charge (WMSC)",null,3.5999999999999999E-3,{"$f":"F545*F547","v":0},{"$f":"H567*G567","v":0},3.5999999999999999E-3,{"$f":"F545*F547","v":0},{"$f":"K567*J567","v":0},0,{"$f":"IF(ISERROR(M567/I567), \"\", M567/I567)","v":""}]
["ENERGY FROM WASTE SERVICE CLASSIFICATION",null,null,null,"Rural and Remote Rate Protection (RRRP)",null,2.9999999999999997E-4,{"$f":"F545*F547","v":0},0,2.9999999999999997E-4,{"$f":"F545*F547","v":0},0,0,""]
["ENERGY FROM WASTE SERVICE CLASSIFICATION",null,null,null,"Standard Supply Service Charge"]
["ENERGY FROM WASTE SERVICE CLASSIFICATION",null,null,null,"Debt Retirement Charge (DRC)",null,7.0000000000000001E-3,{"$f":"F545","v":0},0,7.0000000000000001E-3,{"$f":"F545","v":0},0,0,""]
["ENERGY FROM WASTE SERVICE CLASSIFICATION"]
["ENERGY FROM WASTE SERVICE CLASSIFICATION","RPP",null,null,"TOU - Off Peak",null,6.5000000000000002E-2,{"$f":"IF(AND(F545*12>=150000),0.65*F545*F547,0.65*F545)","v":0},{"$f":"H572*G572","v":0},6.5000000000000002E-2,{"$f":"IF(AND(F545*12>=150000),0.65*F545*F548,0.65*F545)","v":0},{"$f":"K572*J572","v":0},{"$f":"L572-I572","v":0},{"$f":"IF(ISERROR(M572/I572), \"\", M572/I572)","v":""}]
["ENERGY FROM WASTE SERVICE CLASSIFICATION","RPP",null,null,"TOU - Mid Peak",null,9.5000000000000001E-2,{"$f":"IF(AND(F545*12>=150000),0.17*F545*F547,0.17*F545)","v":0},0,9.5000000000000001E-2,{"$f":"IF(AND(F545*12>=150000),0.17*F545*F548,0.17*F545)","v":0},0,0,""]
["ENERGY FROM WASTE SERVICE CLASSIFICATION","RPP",null,null,"TOU - On Peak",null,0.13200000000000001,{"$f":"IF(AND(F545*12>=150000),0.18*F545*F547,0.18*F545)","v":0},0,0.13200000000000001,{"$f":"IF(AND(F545*12>=150000),0.18*F545*F548,0.18*F545)","v":0},0,0,""]
["ENERGY FROM WASTE SERVICE CLASSIFICATION","Non-RPP (Retailer)",null,null,"Non-RPP Retailer Avg. Price",null,{"$f":"0.1061","v":0.1061},{"$f":"IF(AND(F545*12>=150000),F545*F547,F545)","v":0},{"$f":"H575*G575","v":0},{"$f":"G575","v":0.1061},{"$f":"IF(AND(F545*12>=150000),F545*F548,F545)","v":0},{"$f":"K575*J575","v":0},0,""]
["ENERGY FROM WASTE SERVICE CLASSIFICATION","Non-RPP (Other)",null,null,"Average IESO Wholesale Market Price",null,0.1101,{"$f":"IF(AND(F545*12>=150000),F545*F547,F545)","v":0},{"$f":"H576*G576","v":0},{"$f":"G576","v":0.1101},{"$f":"IF(AND(F545*12>=150000),F545*F548,F545)","v":0},{"$f":"K576*J576","v":0},0,""]
["ENERGY FROM WASTE SERVICE CLASSIFICATION"]
["ENERGY FROM WASTE SERVICE CLASSIFICATION","RPP",null,null,"Total Bill on TOU (before Taxes)",null,null,null,{"$f":"SUM(I567:I574,I566)","v":63.09},null,null,{"$f":"SUM(L567:L574,L566)","v":63.66},{"$f":"L578-I578","v":0.56999999999999318},{"$f":"IF((I578)=0,\"\",(M578/I578))","v":9.0347123157393117E-3}]
["ENERGY FROM WASTE SERVICE CLASSIFICATION","RPP",null,null,"HST",null,0.13,null,{"$f":"I578*G579","v":8.2017000000000007},0.13,null,{"$f":"L578*J579","v":8.2758000000000003},{"$f":"L579-I579","v":7.4099999999999611E-2},{"$f":"IF((I579)=0,\"\",(M579/I579))","v":9.0347123157393724E-3}]
["ENERGY FROM WASTE SERVICE CLASSIFICATION","RPP",null,null,"Provincial Rebate",null,-0.08,null,{"$f":"I578*G580","v":-5.0472000000000001},{"$f":"G580","v":-0.08},null,{"$f":"L578*J580","v":-5.0927999999999995},{"$f":"L580-I580","v":-4.5599999999999419E-2},{"$f":"IF((I580)=0,\"\",(M580/I580))","v":9.0347123157393048E-3}]
["ENERGY FROM WASTE SERVICE CLASSIFICATION","RPP_TOTAL",null,null,"Total Bill on TOU",null,null,null,{"$f":"SUM(I578,I579,I580)","v":66.244500000000002},null,null,{"$f":"L578+L579+L580","v":66.843000000000004},{"$f":"L581-I581","v":0.59850000000000136},{"$f":"IF((I581)=0,\"\",(M581/I581))","v":9.0347123157394401E-3}]
["ENERGY FROM WASTE SERVICE CLASSIFICATION","RPP"]
["ENERGY FROM WASTE SERVICE CLASSIFICATION","Non-RPP (Retailer)_BT",null,null,"Total Bill on Non-RPP Avg. Price",null,null,null,{"$f":"SUM(I575,I567:I571,I566)","v":63.09},null,null,{"$f":"SUM(L575,L567:L571,L566)","v":63.66},{"$f":"L583-I583","v":0.56999999999999318},{"$f":"IF((I583)=0,\"\",(M583/I583))","v":9.0347123157393117E-3}]
["ENERGY FROM WASTE SERVICE CLASSIFICATION","Non-RPP (Retailer)",null,null,"HST",null,0.13,null,{"$f":"I583*G584","v":8.2017000000000007},0.13,null,{"$f":"L583*J584","v":8.2758000000000003},{"$f":"L584-I584","v":7.4099999999999611E-2},{"$f":"IF((I584)=0,\"\",(M584/I584))","v":9.0347123157393724E-3}]
["ENERGY FROM WASTE SERVICE CLASSIFICATION","Non-RPP (Retailer)_NET",null,null,"Total Bill on Non-RPP Avg. Price (before 8% Provincial Rebate)",null,null,null,{"$f":"SUM(I583:I584)","v":71.291700000000006},null,null,{"$f":"SUM(L583:L584)","v":71.9358},{"$f":"SUM(M583:M584)","v":0.64409999999999279},{"$f":"IF((I585)=0,\"\",(M585/I585))","v":9.0347123157393187E-3}]
[{"$f":"A584","v":"ENERGY FROM WASTE SERVICE CLASSIFICATION"},"Non-RPP (Retailer)",null,null,"8% Provincial Rebate",null,-0.08,null,{"$f":"I583*G586","v":-5.0472000000000001},{"$f":"G586","v":-0.08},null,{"$f":"L583*J586","v":-5.0927999999999995},{"$f":"L586-I586","v":-4.5599999999999419E-2},{"$f":"IF((I586)=0,\"\",(M586/I586))","v":9.0347123157393048E-3}]
["ENERGY FROM WASTE SERVICE CLASSIFICATION","Non-RPP (Retailer)_TOTAL",null,null,"Total Bill on Non-RPP Avg. Price",null,null,null,{"$f":"SUM(I583,I584,I586)","v":66.244500000000002},null,null,{"$f":"SUM(L583,L584,L586)","v":66.843000000000004},{"$f":"L587-I587","v":0.59850000000000136},{"$f":"IF((I587)=0,\"\",(M587/I587))","v":9.0347123157394401E-3}]
["ENERGY FROM WASTE SERVICE CLASSIFICATION","Non-RPP (Retailer)"]
["ENERGY FROM WASTE SERVICE CLASSIFICATION","Non-RPP (Other)_BT",{"$f":"C557","v":11},null,"Total Bill on Average IESO Wholesale Market Price",null,null,null,{"$f":"SUM(I576,I567:I571,I566)","v":63.09},null,null,{"$f":"SUM(L576,L567:L571,L566)","v":63.66},{"$f":"L589-I589","v":0.56999999999999318},{"$f":"IF((I589)=0,\"\",(M589/I589))","v":9.0347123157393117E-3}]
["ENERGY FROM WASTE SERVICE CLASSIFICATION","Non-RPP (Other)",null,null,"HST",null,0.13,null,{"$f":"I589*G590","v":8.2017000000000007},0.13,null,{"$f":"L589*J590","v":8.2758000000000003},{"$f":"L590-I590","v":7.4099999999999611E-2},{"$f":"IF((I590)=0,\"\",(M590/I590))","v":9.0347123157393724E-3}]
["ENERGY FROM WASTE SERVICE CLASSIFICATION","Non-RPP (Other)_NET",{"$f":"C589","v":11},null,"Total Bill on Average IESO WMP (before 8% Provincial Rebate)",null,null,null,{"$f":"SUM(I589:I590)","v":71.291700000000006},null,null,{"$f":"SUM(L589:L590)","v":71.9358},{"$f":"SUM(M589:M590)","v":0.64409999999999279},{"$f":"IF((I591)=0,\"\",(M591/I591))","v":9.0347123157393187E-3}]
[{"$f":"A590","v":"ENERGY FROM WASTE SERVICE CLASSIFICATION"},"Non-RPP (Other)",null,null,"8% Provincial Rebate",null,0,null,{"$f":"I589*G592","v":0},{"$f":"G592","v":0},null,{"$f":"L589*J592","v":0},{"$f":"L592-I592","v":0},{"$f":"IF((I592)=0,\"\",(M592/I592))","v":""}]
["ENERGY FROM WASTE SERVICE CLASSIFICATION","Non-RPP (Other)_TOTAL",{"$f":"C589","v":11},null,"Total Bill on Average IESO Wholesale Market Price",null,null,null,{"$f":"SUM(I589,I590,I592)","v":71.291700000000006},null,null,{"$f":"SUM(L589,L590,L592)","v":71.9358},{"$f":"L593-I593","v":0.64409999999999457},{"$f":"IF((I593)=0,\"\",(M593/I593))","v":9.034712315739343E-3}]
["ENERGY FROM WASTE SERVICE CLASSIFICATION","Non-RPP (Other)"]
[]
[]
[null,null,null,null,"Customer Class:",{"$f":"E26","v":"RESIDENTIAL SERVICE CLASSIFICATION"},null,null,null,null,null,{"$f":"IF(O547=\"DEMAND - INTERVAL\",\"RTSR - INTERVAL METERED\",\"\")","v":""}]
[null,null,null,null,"RPP / Non-RPP:",{"$f":"H26","v":"RPP"},null,null,"10th Percentile"]
[null,null,null,null,"Consumption",{"$f":"K26","v":361.28},"kWh"]
[null,null,null,null,"Demand",{"$f":"L26","v":0},"kW"]
[null,null,null,null,"Current Loss Factor",{"$f":"I26","v":1.0341}]
[null,null,null,null,"Proposed/Approved Loss Factor",{"$f":"J26","v":1.0341}]
[]
[null,null,null,null,null,null,"Current OEB-Approved",null,null,"Proposed",null,null,"Impact"]
[null,null,null,null,null,null,"Rate","Volume","Charge","Rate","Volume","Charge","$ Change","% Change"]
[null,null,null,null,null,null,"($)",null,"($)","($)",null,"($)"]
[{"$f":"F597","v":"RESIDENTIAL SERVICE CLASSIFICATION"},null,null,"R_F","Monthly Service Charge",null,{"$f":"IFERROR(SUMIF(RATES!B:B,'21. Bill Impacts'!D607,RATES!H:H),\"\")","v":17.64},1,{"$f":"H607*G607","v":17.64},{"$f":"IFERROR(SUMIF(RATES!B:B,'21. Bill Impacts'!D607,RATES!I:I),\"\")","v":20.92},1,{"$f":"K607*J607","v":20.92},{"$f":"L607-I607","v":3.2800000000000011},{"$f":"IF(ISERROR(M607/I607), \"\", M607/I607)","v":0.18594104308390028}]
[{"$f":"A607","v":"RESIDENTIAL SERVICE CLASSIFICATION"},null,null,"R_V","Distribution Volumetric Rate",null,{"$f":"IFERROR(SUMIF(RATES!B:B,'21. Bill Impacts'!D608,RATES!H:H),\"\")","v":8.0000000000000002E-3},{"$f":"IF($F600>0, $F600, $F599)","v":361.28},{"$f":"H608*G608","v":2.8902399999999999},{"$f":"IFERROR(SUMIF(RATES!B:B,'21. Bill Impacts'!D608,RATES!I:I),\"\")","v":4.0000000000000001E-3},{"$f":"IF($F600>0, $F600, $F599)","v":361.28},{"$f":"K608*J608","v":1.44512},-1.44512,{"$f":"IF(ISERROR(M608/I608), \"\", M608/I608)","v":-0.5}]
[{"$f":"A608","v":"RESIDENTIAL SERVICE CLASSIFICATION"},null,null,"R_FRR","Fixed Rate Riders",null,{"$f":"IFERROR(SUMIF(RATES!B:B,'21. Bill Impacts'!D609,RATES!H:H),\"\")","v":0},1,0,{"$f":"IFERROR(SUMIF(RATES!B:B,'21. Bill Impacts'!D609,RATES!I:I),\"\")","v":0.6},1,{"$f":"K609*J609","v":0.6},0.6,""]
[{"$f":"A609","v":"RESIDENTIAL SERVICE CLASSIFICATION"},null,null,"R_VRR","Volumetric Rate Riders",null,{"$f":"IFERROR(SUMIF(RATES!B:B,'21. Bill Impacts'!D610,RATES!H:H),\"\")","v":6.0000000000000006E-4},{"$f":"IF($F600>0, $F600, $F599)","v":361.28},0.21676800000000002,{"$f":"IFERROR(SUMIF(RATES!B:B,'21. Bill Impacts'!D610,RATES!I:I),\"\")","v":0},{"$f":"IF($F600>0, $F600, $F599)","v":361.28},0,-0.21676800000000002,-1]
["RESIDENTIAL SERVICE CLASSIFICATION","ST_A",{"$f":"B26","v":12},null,"Sub-Total A (excluding pass through)",null,null,null,{"$f":"SUM(I607:I610)","v":20.747007999999997},null,null,{"$f":"SUM(L607:L610)","v":22.965120000000002},2.218112000000005,{"$f":"IF((I611)=0,\"\",(M611/I611))","v":0.10691237984773541}]
["RESIDENTIAL SERVICE CLASSIFICATION",null,null,null,"Line Losses on Cost of Power",null,{"$f":"IF((F599*12>=150000), 0, IF(F598=\"RPP\",(G626*0.65+G627*0.17+G628*0.18),IF(F598=\"Non-RPP (Retailer)\",G629,G630)))","v":8.2160000000000011E-2},{"$f":"IF(G612=0, 0, $F599*F601-F599)","v":12.319648000000029},{"$f":"H612*G612","v":1.0121822796800026},{"$f":"IF((F599*12>=150000), 0, IF(F598=\"RPP\",(J626*0.65+J627*0.17+J628*0.18),IF(F598=\"Non-RPP (Retailer)\",J629,J630)))","v":8.2160000000000011E-2},{"$f":"IF(G612=0, 0, $F599*F601-F599)","v":12.319648000000029},{"$f":"K612*J612","v":1.0121822796800026},{"$f":"L612-I612","v":0},{"$f":"IF(ISERROR(M612/I612), \"\", M612/I612)","v":0}]
["RESIDENTIAL SERVICE CLASSIFICATION",null,null,"R_DVA","Total Deferral/Variance Account Rate Riders",null,{"$f":"IFERROR(SUMIF(RATES!B:B,'21. Bill Impacts'!D613,RATES!H:H),\"\")","v":-3.5000000000000001E-3},{"$f":"IF($F600>0, $F600, $F599)","v":361.28},{"$f":"H613*G613","v":-1.2644799999999998},{"$f":"IFERROR(SUMIF(RATES!B:B,'21. Bill Impacts'!D613,RATES!I:I),\"\")","v":-1E-3},{"$f":"IF($F600>0, $F600, $F599)","v":361.28},{"$f":"K613*J613","v":-0.36127999999999999},{"$f":"L613-I613","v":0.90319999999999978},{"$f":"IF(ISERROR(M613/I613), \"\", M613/I613)","v":-0.71428571428571419}]
["RESIDENTIAL SERVICE CLASSIFICATION",null,null,"R_GA","GA Rate Riders",null,{"$f":"IFERROR(SUMIF(RATES!B:B,'21. Bill Impacts'!D614,RATES!H:H),\"\")","v":4.8999999999999998E-3},null,0,{"$f":"IFERROR(SUMIF(RATES!B:B,'21. Bill Impacts'!D614,RATES!I:I),\"\")","v":-8.9999999999999998E-4},null,0,0,""]
["RESIDENTIAL SERVICE CLASSIFICATION",null,null,"R_LV","Low Voltage Service Charge",null,{"$f":"IFERROR(SUMIF(RATES!B:B,'21. Bill Impacts'!D615,RATES!H:H),\"\")","v":0},{"$f":"IF($F600>0, $F600, $F599)","v":361.28},0,{"$f":"IFERROR(SUMIF(RATES!B:B,'21. Bill Impacts'!D615,RATES!I:I),\"\")","v":0},{"$f":"IF($F600>0, $F600, $F599)","v":361.28},0,0,""]
["RESIDENTIAL SERVICE CLASSIFICATION",null,null,null,"Smart Meter Entity Charge (if applicable) and/or \nany fixed ($) Deferral/Variance Account Rate Riders",null,0.56999999999999995,1,{"$f":"H616*G616","v":0.56999999999999995},0.56999999999999995,1,{"$f":"K616*J616","v":0.56999999999999995},0,{"$f":"IF(ISERROR(M616/I616), \"\", M616/I616)","v":0}]
["RESIDENTIAL SERVICE CLASSIFICATION","ST_B",{"$f":"C611","v":12},null,"Sub-Total B - Distribution (includes Sub-Total A)",null,null,null,{"$f":"SUM(I611:I616)","v":21.06471027968},null,null,{"$f":"SUM(L611:L616)","v":24.186022279680003},3.1213120000000032,{"$f":"IF((I617)=0,\"\",(M617/I617))","v":0.14817730500717904}]
["RESIDENTIAL SERVICE CLASSIFICATION",null,null,"R_TN","RTSR - Network",null,{"$f":"IFERROR(SUMIF(RATES!B:B,'21. Bill Impacts'!D618,RATES!H:H),\"\")","v":7.4000000000000003E-3},{"$f":"IF($F600>0, $F600, $F599*$F601)","v":373.599648},{"$f":"H618*G618","v":2.7646373952000003},{"$f":"IFERROR(SUMIF(RATES!B:B,'21. Bill Impacts'!D618,RATES!I:I),\"\")","v":7.4000000000000003E-3},{"$f":"IF($F600>0, $F600, $F599*$F601)","v":373.599648},{"$f":"K618*J618","v":2.7646373952000003},0,{"$f":"IF(ISERROR(M618/I618), \"\", M618/I618)","v":0}]
["RESIDENTIAL SERVICE CLASSIFICATION",null,null,"R_TC","RTSR - Connection and/or Line and Transformation Connection",null,{"$f":"IFERROR(SUMIF(RATES!B:B,'21. Bill Impacts'!D619,RATES!H:H),\"\")","v":5.7000000000000002E-3},{"$f":"IF($F600>0, $F600, $F599*$F601)","v":373.599648},{"$f":"H619*G619","v":2.1295179935999999},{"$f":"IFERROR(SUMIF(RATES!B:B,'21. Bill Impacts'!D619,RATES!I:I),\"\")","v":6.4999999999999997E-3},{"$f":"IF($F600>0, $F600, $F599*$F601)","v":373.599648},{"$f":"K619*J619","v":2.4283977119999998},0.29887971839999983,{"$f":"IF(ISERROR(M619/I619), \"\", M619/I619)","v":0.14035087719298239}]
["RESIDENTIAL SERVICE CLASSIFICATION","ST_C",{"$f":"C611","v":12},null,"Sub-Total C - Delivery (including Sub-Total B)",null,null,null,{"$f":"SUM(I617:I619)","v":25.958865668480001},null,null,{"$f":"SUM(L617:L619)","v":29.379057386880003},3.4201917184000017,{"$f":"IF((I620)=0,\"\",(M620/I620))","v":0.13175428241276724}]
["RESIDENTIAL SERVICE CLASSIFICATION",null,null,null,"Wholesale Market Service Charge (WMSC)",null,3.5999999999999999E-3,{"$f":"F599*F601","v":373.599648},{"$f":"H621*G621","v":1.3449587327999999},3.5999999999999999E-3,{"$f":"F599*F601","v":373.599648},{"$f":"K621*J621","v":1.3449587327999999},0,{"$f":"IF(ISERROR(M621/I621), \"\", M621/I621)","v":0}]
["RESIDENTIAL SERVICE CLASSIFICATION",null,null,null,"Rural and Remote Rate Protection (RRRP)",null,2.9999999999999997E-4,{"$f":"F599*F601","v":373.599648},0.11207989439999999,2.9999999999999997E-4,{"$f":"F599*F601","v":373.599648},0.11207989439999999,0,0]
["RESIDENTIAL SERVICE CLASSIFICATION",null,null,null,"Standard Supply Service Charge",null,0.25,1,0.25,0.25,1,{"$f":"K623*J623","v":0.25},{"$f":"L623-I623","v":0},{"$f":"IF(ISERROR(M623/I623), \"\", M623/I623)","v":0}]
["RESIDENTIAL SERVICE CLASSIFICATION",null,null,null,"Debt Retirement Charge (DRC)"]
["RESIDENTIAL SERVICE CLASSIFICATION"]
["RESIDENTIAL SERVICE CLASSIFICATION","RPP",null,null,"TOU - Off Peak",null,6.5000000000000002E-2,{"$f":"IF(AND(F599*12>=150000),0.65*F599*F601,0.65*F599)","v":234.83199999999999},{"$f":"H626*G626","v":15.26408},6.5000000000000002E-2,{"$f":"IF(AND(F599*12>=150000),0.65*F599*F602,0.65*F599)","v":234.83199999999999},{"$f":"K626*J626","v":15.26408},{"$f":"L626-I626","v":0},{"$f":"IF(ISERROR(M626/I626), \"\", M626/I626)","v":0}]
["RESIDENTIAL SERVICE CLASSIFICATION","RPP",null,null,"TOU - Mid Peak",null,9.5000000000000001E-2,{"$f":"IF(AND(F599*12>=150000),0.17*F599*F601,0.17*F599)","v":61.4176},5.8346720000000003,9.5000000000000001E-2,{"$f":"IF(AND(F599*12>=150000),0.17*F599*F602,0.17*F599)","v":61.4176},5.8346720000000003,0,0]
["RESIDENTIAL SERVICE CLASSIFICATION","RPP",null,null,"TOU - On Peak",null,0.13200000000000001,{"$f":"IF(AND(F599*12>=150000),0.18*F599*F601,0.18*F599)","v":65.030399999999986},8.5840127999999982,0.13200000000000001,{"$f":"IF(AND(F599*12>=150000),0.18*F599*F602,0.18*F599)","v":65.030399999999986},8.5840127999999982,0,0]
["RESIDENTIAL SERVICE CLASSIFICATION","Non-RPP (Retailer)",null,null,"Non-RPP Retailer Avg. Price",null,{"$f":"0.1061","v":0.1061},{"$f":"IF(AND(F599*12>=150000),F599*F601,F599)","v":361.28},{"$f":"H629*G629","v":38.331807999999995},{"$f":"G629","v":0.1061},{"$f":"IF(AND(F599*12>=150000),F599*F602,F599)","v":361.28},{"$f":"K629*J629","v":38.331807999999995},0,0]
["RESIDENTIAL SERVICE CLASSIFICATION","Non-RPP (Other)",null,null,"Average IESO Wholesale Market Price",null,{"$f":"G629","v":0.1061},{"$f":"IF(AND(F599*12>=150000),F599*F601,F599)","v":361.28},{"$f":"H630*G630","v":38.331807999999995},{"$f":"G630","v":0.1061},{"$f":"IF(AND(F599*12>=150000),F599*F602,F599)","v":361.28},{"$f":"K630*J630","v":38.331807999999995},0,0]
["RESIDENTIAL SERVICE CLASSIFICATION"]
["RESIDENTIAL SERVICE CLASSIFICATION","RPP_BT",{"$f":"C611","v":12},null,"Total Bill on TOU (before Taxes)",null,null,null,{"$f":"SUM(I621:I628,I620)","v":57.348669095680002},null,null,{"$f":"SUM(L621:L628,L620)","v":60.76886081408},{"$f":"L632-I632","v":3.4201917183999981},{"$f":"IF((I632)=0,\"\",(M632/I632))","v":5.9638554343672406E-2}]
["RESIDENTIAL SERVICE CLASSIFICATION","RPP",null,null,"HST",null,0.13,null,{"$f":"I632*G633","v":7.4553269824384003},0.13,null,{"$f":"L632*J633","v":7.8999519058304006},{"$f":"L633-I633","v":0.44462492339200033},{"$f":"IF((I633)=0,\"\",(M633/I633))","v":5.9638554343672483E-2}]
["RESIDENTIAL SERVICE CLASSIFICATION","RPP_NET",{"$f":"C632","v":12},null,"Total Bill on TOU (before 8% Provincial Rebate)",null,null,null,{"$f":"SUM(I632:I633)","v":64.803996078118402},null,null,{"$f":"SUM(L632:L633)","v":68.668812719910406},{"$f":"SUM(M632:M633)","v":3.8648166417919985},{"$f":"IF((I634)=0,\"\",(M634/I634))","v":5.9638554343672413E-2}]
[{"$f":"A633","v":"RESIDENTIAL SERVICE CLASSIFICATION"},"RPP",null,null,"8% Provincial Rebate",null,-0.08,null,{"$f":"I632*G635","v":-4.5878935276544004},{"$f":"G635","v":-0.08},null,{"$f":"L632*J635","v":-4.8615088651264005},{"$f":"L635-I635","v":-0.27361533747200006},{"$f":"IF((I635)=0,\"\",(M635/I635))","v":5.9638554343672448E-2}]
["RESIDENTIAL SERVICE CLASSIFICATION","RPP_TOTAL",{"$f":"C632","v":12},null,"Total Bill on TOU",null,null,null,{"$f":"SUM(I632,I633,I635)","v":60.216102550464001},null,null,{"$f":"L632+L633+L635","v":63.807303854784003},{"$f":"L636-I636","v":3.591201304320002},{"$f":"IF((I636)=0,\"\",(M636/I636))","v":5.9638554343672476E-2}]
["RESIDENTIAL SERVICE CLASSIFICATION","RPP"]
["RESIDENTIAL SERVICE CLASSIFICATION","Non-RPP (Retailer)_BT",null,null,"Total Bill on Non-RPP Avg. Price",null,null,null,{"$f":"SUM(I629,I621:I625,I620)","v":65.997712295680003},null,null,{"$f":"SUM(L629,L621:L625,L620)","v":69.417904014079994},{"$f":"L638-I638","v":3.420191718399991},{"$f":"IF((I638)=0,\"\",(M638/I638))","v":5.1822882936866065E-2}]
["RESIDENTIAL SERVICE CLASSIFICATION","Non-RPP (Retailer)",null,null,"HST",null,0.13,null,{"$f":"I638*G639","v":8.5797025984384003},0.13,null,{"$f":"L638*J639","v":9.0243275218303989},{"$f":"L639-I639","v":0.44462492339199855},{"$f":"IF((I639)=0,\"\",(M639/I639))","v":5.1822882936866037E-2}]
["RESIDENTIAL SERVICE CLASSIFICATION","Non-RPP (Retailer)_NET",null,null,"Total Bill on Non-RPP Avg. Price (before 8% Provincial Rebate)",null,null,null,{"$f":"SUM(I638:I639)","v":74.577414894118405},null,null,{"$f":"SUM(L638:L639)","v":78.442231535910395},{"$f":"SUM(M638:M639)","v":3.8648166417919896},{"$f":"IF((I640)=0,\"\",(M640/I640))","v":5.1822882936866065E-2}]
[{"$f":"A639","v":"RESIDENTIAL SERVICE CLASSIFICATION"},"Non-RPP (Retailer)",null,null,"8% Provincial Rebate",null,-0.08,null,{"$f":"I638*G641","v":-5.2798169836544},{"$f":"G641","v":-0.08},null,{"$f":"L638*J641","v":-5.5534323211264001},{"$f":"L641-I641","v":-0.27361533747200006},{"$f":"IF((I641)=0,\"\",(M641/I641))","v":5.1822882936866217E-2}]
["RESIDENTIAL SERVICE CLASSIFICATION","Non-RPP (Retailer)_TOTAL",null,null,"Total Bill on Non-RPP Avg. Price",null,null,null,{"$f":"SUM(I638,I639,I641)","v":69.297597910464006},null,null,{"$f":"SUM(L638,L639,L641)","v":72.888799214784001},{"$f":"L642-I642","v":3.5912013043199948},{"$f":"IF((I642)=0,\"\",(M642/I642))","v":5.1822882936866127E-2}]
["RESIDENTIAL SERVICE CLASSIFICATION","Non-RPP (Retailer)"]
[]
[]
[null,null,null,null,"Customer Class:",{"$f":"E27","v":"RESIDENTIAL SERVICE CLASSIFICATION"},null,null,null,null,null,{"$f":"IF(O596=\"DEMAND - INTERVAL\",\"RTSR - INTERVAL METERED\",\"\")","v":""}]
[null,null,null,null,"RPP / Non-RPP:",{"$f":"H27","v":"Non-RPP (Retailer)"}]
[null,null,null,null,"Consumption",{"$f":"K27","v":750},"kWh"]
[null,null,null,null,"Demand",{"$f":"L27","v":0},"kW"]
[null,null,null,null,"Current Loss Factor",{"$f":"I27","v":1.0341}]
[null,null,null,null,"Proposed/Approved Loss Factor",{"$f":"J27","v":1.0341}]
[]
[null,null,null,null,null,null,"Current OEB-Approved",null,null,"Proposed",null,null,"Impact"]
[null,null,null,null,null,null,"Rate","Volume","Charge","Rate","Volume","Charge","$ Change","% Change"]
[null,null,null,null,null,null,"($)",null,"($)","($)",null,"($)"]
[{"$f":"F646","v":"RESIDENTIAL SERVICE CLASSIFICATION"},null,null,"R_F","Monthly Service Charge",null,{"$f":"IFERROR(SUMIF(RATES!B:B,'21. Bill Impacts'!D656,RATES!H:H),\"\")","v":17.64},1,{"$f":"H656*G656","v":17.64},{"$f":"IFERROR(SUMIF(RATES!B:B,'21. Bill Impacts'!D656,RATES!I:I),\"\")","v":20.92},1,{"$f":"K656*J656","v":20.92},{"$f":"L656-I656","v":3.2800000000000011},{"$f":"IF(ISERROR(M656/I656), \"\", M656/I656)","v":0.18594104308390028}]
[{"$f":"A656","v":"RESIDENTIAL SERVICE CLASSIFICATION"},null,null,"R_V","Distribution Volumetric Rate",null,{"$f":"IFERROR(SUMIF(RATES!B:B,'21. Bill Impacts'!D657,RATES!H:H),\"\")","v":8.0000000000000002E-3},{"$f":"IF($F649>0, $F649, $F648)","v":750},{"$f":"H657*G657","v":6},{"$f":"IFERROR(SUMIF(RATES!B:B,'21. Bill Impacts'!D657,RATES!I:I),\"\")","v":4.0000000000000001E-3},{"$f":"IF($F649>0, $F649, $F648)","v":750},{"$f":"K657*J657","v":3},-3,{"$f":"IF(ISERROR(M657/I657), \"\", M657/I657)","v":-0.5}]
[{"$f":"A657","v":"RESIDENTIAL SERVICE CLASSIFICATION"},null,null,"R_FRR","Fixed Rate Riders",null,{"$f":"IFERROR(SUMIF(RATES!B:B,'21. Bill Impacts'!D658,RATES!H:H),\"\")","v":0},1,0,{"$f":"IFERROR(SUMIF(RATES!B:B,'21. Bill Impacts'!D658,RATES!I:I),\"\")","v":0.6},1,{"$f":"K658*J658","v":0.6},0.6,""]
[{"$f":"A658","v":"RESIDENTIAL SERVICE CLASSIFICATION"},null,null,"R_VRR","Volumetric Rate Riders",null,{"$f":"IFERROR(SUMIF(RATES!B:B,'21. Bill Impacts'!D659,RATES!H:H),\"\")","v":6.0000000000000006E-4},{"$f":"IF($F649>0, $F649, $F648)","v":750},0.45000000000000007,{"$f":"IFERROR(SUMIF(RATES!B:B,'21. Bill Impacts'!D659,RATES!I:I),\"\")","v":0},{"$f":"IF($F649>0, $F649, $F648)","v":750},0,-0.45000000000000007,-1]
["RESIDENTIAL SERVICE CLASSIFICATION","ST_A",{"$f":"B27","v":13},null,"Sub-Total A (excluding pass through)",null,null,null,{"$f":"SUM(I656:I659)","v":24.09},null,null,{"$f":"SUM(L656:L659)","v":24.520000000000003},0.43000000000000327,{"$f":"IF((I660)=0,\"\",(M660/I660))","v":1.7849730178497437E-2}]
["RESIDENTIAL SERVICE CLASSIFICATION",null,null,null,"Line Losses on Cost of Power",null,{"$f":"IF((F648*12>=150000), 0, IF(F647=\"RPP\",(G675*0.65+G676*0.17+G677*0.18),IF(F647=\"Non-RPP (Retailer)\",G678,G679)))","v":0.1101},{"$f":"IF(G661=0, 0, $F648*F650-F648)","v":25.575000000000045},{"$f":"H661*G661","v":2.8158075000000049},{"$f":"IF((F648*12>=150000), 0, IF(F647=\"RPP\",(J675*0.65+J676*0.17+J677*0.18),IF(F647=\"Non-RPP (Retailer)\",J678,J679)))","v":0.1101},{"$f":"IF(G661=0, 0, $F648*F650-F648)","v":25.575000000000045},{"$f":"K661*J661","v":2.8158075000000049},{"$f":"L661-I661","v":0},{"$f":"IF(ISERROR(M661/I661), \"\", M661/I661)","v":0}]
["RESIDENTIAL SERVICE CLASSIFICATION",null,null,"R_DVA","Total Deferral/Variance Account Rate Riders",null,{"$f":"IFERROR(SUMIF(RATES!B:B,'21. Bill Impacts'!D662,RATES!H:H),\"\")","v":-3.5000000000000001E-3},{"$f":"IF($F649>0, $F649, $F648)","v":750},{"$f":"H662*G662","v":-2.625},{"$f":"IFERROR(SUMIF(RATES!B:B,'21. Bill Impacts'!D662,RATES!I:I),\"\")","v":-1E-3},{"$f":"IF($F649>0, $F649, $F648)","v":750},{"$f":"K662*J662","v":-0.75},{"$f":"L662-I662","v":1.875},{"$f":"IF(ISERROR(M662/I662), \"\", M662/I662)","v":-0.7142857142857143}]
["RESIDENTIAL SERVICE CLASSIFICATION",null,null,"R_GA","GA Rate Riders",null,{"$f":"IFERROR(SUMIF(RATES!B:B,'21. Bill Impacts'!D663,RATES!H:H),\"\")","v":4.8999999999999998E-3},{"$f":"IF($F649>0, $F649, $F648)","v":750},3.6749999999999998,{"$f":"IFERROR(SUMIF(RATES!B:B,'21. Bill Impacts'!D663,RATES!I:I),\"\")","v":-8.9999999999999998E-4},{"$f":"IF($F649>0, $F649, $F648)","v":750},-0.67499999999999993,-4.3499999999999996,-1.1836734693877551]
["RESIDENTIAL SERVICE CLASSIFICATION",null,null,"R_LV","Low Voltage Service Charge",null,{"$f":"IFERROR(SUMIF(RATES!B:B,'21. Bill Impacts'!D664,RATES!H:H),\"\")","v":0},{"$f":"IF($F649>0, $F649, $F648)","v":750},0,{"$f":"IFERROR(SUMIF(RATES!B:B,'21. Bill Impacts'!D664,RATES!I:I),\"\")","v":0},{"$f":"IF($F649>0, $F649, $F648)","v":750},0,0,""]
["RESIDENTIAL SERVICE CLASSIFICATION",null,null,null,"Smart Meter Entity Charge (if applicable) and/or \nany fixed ($) Deferral/Variance Account Rate Riders",null,0.56999999999999995,1,{"$f":"H665*G665","v":0.56999999999999995},0.56999999999999995,1,{"$f":"K665*J665","v":0.56999999999999995},0,{"$f":"IF(ISERROR(M665/I665), \"\", M665/I665)","v":0}]
["RESIDENTIAL SERVICE CLASSIFICATION","ST_B",{"$f":"C660","v":13},null,"Sub-Total B - Distribution (includes Sub-Total A)",null,null,null,{"$f":"SUM(I660:I665)","v":28.525807500000006},null,null,{"$f":"SUM(L660:L665)","v":26.480807500000008},-2.0449999999999982,{"$f":"IF((I666)=0,\"\",(M666/I666))","v":-7.1689469263928732E-2}]
["RESIDENTIAL SERVICE CLASSIFICATION",null,null,"R_TN","RTSR - Network",null,{"$f":"IFERROR(SUMIF(RATES!B:B,'21. Bill Impacts'!D667,RATES!H:H),\"\")","v":7.4000000000000003E-3},{"$f":"IF($F649>0, $F649, $F648*$F650)","v":775.57500000000005},{"$f":"H667*G667","v":5.7392550000000009},{"$f":"IFERROR(SUMIF(RATES!B:B,'21. Bill Impacts'!D667,RATES!I:I),\"\")","v":7.4000000000000003E-3},{"$f":"IF($F649>0, $F649, $F648*$F650)","v":775.57500000000005},{"$f":"K667*J667","v":5.7392550000000009},0,{"$f":"IF(ISERROR(M667/I667), \"\", M667/I667)","v":0}]
["RESIDENTIAL SERVICE CLASSIFICATION",null,null,"R_TC","RTSR - Connection and/or Line and Transformation Connection",null,{"$f":"IFERROR(SUMIF(RATES!B:B,'21. Bill Impacts'!D668,RATES!H:H),\"\")","v":5.7000000000000002E-3},{"$f":"IF($F649>0, $F649, $F648*$F650)","v":775.57500000000005},{"$f":"H668*G668","v":4.4207775000000007},{"$f":"IFERROR(SUMIF(RATES!B:B,'21. Bill Impacts'!D668,RATES!I:I),\"\")","v":6.4999999999999997E-3},{"$f":"IF($F649>0, $F649, $F648*$F650)","v":775.57500000000005},{"$f":"K668*J668","v":5.0412375000000003},0.62045999999999957,{"$f":"IF(ISERROR(M668/I668), \"\", M668/I668)","v":0.14035087719298234}]
["RESIDENTIAL SERVICE CLASSIFICATION","ST_C",{"$f":"C660","v":13},null,"Sub-Total C - Delivery (including Sub-Total B)",null,null,null,{"$f":"SUM(I666:I668)","v":38.685840000000006},null,null,{"$f":"SUM(L666:L668)","v":37.261300000000013},-1.4245399999999933,{"$f":"IF((I669)=0,\"\",(M669/I669))","v":-3.6823292450157294E-2}]
["RESIDENTIAL SERVICE CLASSIFICATION",null,null,null,"Wholesale Market Service Charge (WMSC)",null,3.5999999999999999E-3,{"$f":"F648*F650","v":775.57500000000005},{"$f":"H670*G670","v":2.7920700000000003},3.5999999999999999E-3,{"$f":"F648*F650","v":775.57500000000005},{"$f":"K670*J670","v":2.7920700000000003},0,{"$f":"IF(ISERROR(M670/I670), \"\", M670/I670)","v":0}]
["RESIDENTIAL SERVICE CLASSIFICATION",null,null,null,"Rural and Remote Rate Protection (RRRP)",null,2.9999999999999997E-4,{"$f":"F648*F650","v":775.57500000000005},0.2326725,2.9999999999999997E-4,{"$f":"F648*F650","v":775.57500000000005},0.2326725,0,0]
["RESIDENTIAL SERVICE CLASSIFICATION",null,null,null,"Standard Supply Service Charge"]
["RESIDENTIAL SERVICE CLASSIFICATION",null,null,null,"Debt Retirement Charge (DRC)"]
["RESIDENTIAL SERVICE CLASSIFICATION"]
["RESIDENTIAL SERVICE CLASSIFICATION","RPP",null,null,"TOU - Off Peak",null,6.5000000000000002E-2,{"$f":"IF(AND(F648*12>=150000),0.65*F648*F650,0.65*F648)","v":487.5},{"$f":"H675*G675","v":31.6875},6.5000000000000002E-2,{"$f":"IF(AND(F648*12>=150000),0.65*F648*F651,0.65*F648)","v":487.5},{"$f":"K675*J675","v":31.6875},{"$f":"L675-I675","v":0},{"$f":"IF(ISERROR(M675/I675), \"\", M675/I675)","v":0}]
["RESIDENTIAL SERVICE CLASSIFICATION","RPP",null,null,"TOU - Mid Peak",null,9.5000000000000001E-2,{"$f":"IF(AND(F648*12>=150000),0.17*F648*F650,0.17*F648)","v":127.50000000000001},12.112500000000001,9.5000000000000001E-2,{"$f":"IF(AND(F648*12>=150000),0.17*F648*F651,0.17*F648)","v":127.50000000000001},12.112500000000001,0,0]
["RESIDENTIAL SERVICE CLASSIFICATION","RPP",null,null,"TOU - On Peak",null,0.13200000000000001,{"$f":"IF(AND(F648*12>=150000),0.18*F648*F650,0.18*F648)","v":135},17.82,0.13200000000000001,{"$f":"IF(AND(F648*12>=150000),0.18*F648*F651,0.18*F648)","v":135},17.82,0,0]
["RESIDENTIAL SERVICE CLASSIFICATION","Non-RPP (Retailer)",null,null,"Non-RPP Retailer Avg. Price",null,0.1101,{"$f":"IF(AND(F648*12>=150000),F648*F650,F648)","v":750},{"$f":"H678*G678","v":82.575000000000003},{"$f":"G678","v":0.1101},{"$f":"IF(AND(F648*12>=150000),F648*F651,F648)","v":750},{"$f":"K678*J678","v":82.575000000000003},0,0]
["RESIDENTIAL SERVICE CLASSIFICATION","Non-RPP (Other)",null,null,"Average IESO Wholesale Market Price",null,{"$f":"G678","v":0.1101},{"$f":"IF(AND(F648*12>=150000),F648*F650,F648)","v":750},{"$f":"H679*G679","v":82.575000000000003},{"$f":"G679","v":0.1101},{"$f":"IF(AND(F648*12>=150000),F648*F651,F648)","v":750},{"$f":"K679*J679","v":82.575000000000003},0,0]
["RESIDENTIAL SERVICE CLASSIFICATION"]
["RESIDENTIAL SERVICE CLASSIFICATION","RPP",null,null,"Total Bill on TOU (before Taxes)",null,null,null,{"$f":"SUM(I670:I677,I669)","v":103.33058250000002},null,null,{"$f":"SUM(L670:L677,L669)","v":101.90604250000001},{"$f":"L681-I681","v":-1.4245400000000075},{"$f":"IF((I681)=0,\"\",(M681/I681))","v":-1.3786237970738307E-2}]
["RESIDENTIAL SERVICE CLASSIFICATION","RPP",null,null,"HST",null,0.13,null,{"$f":"I681*G682","v":13.432975725000002},0.13,null,{"$f":"L681*J682","v":13.247785525000001},{"$f":"L682-I682","v":-0.18519020000000097},{"$f":"IF((I682)=0,\"\",(M682/I682))","v":-1.3786237970738307E-2}]
["RESIDENTIAL SERVICE CLASSIFICATION","RPP",null,null,"Provincial Rebate",null,-0.08,null,{"$f":"I681*G683","v":-8.2664466000000019},{"$f":"G683","v":-0.08},null,{"$f":"L681*J683","v":-8.1524834000000013},{"$f":"L683-I683","v":0.1139632000000006},{"$f":"IF((I683)=0,\"\",(M683/I683))","v":-1.3786237970738306E-2}]
["RESIDENTIAL SERVICE CLASSIFICATION","RPP_TOTAL",null,null,"Total Bill on TOU",null,null,null,{"$f":"SUM(I681,I682,I683)","v":108.49711162500003},null,null,{"$f":"L681+L682+L683","v":107.001344625},{"$f":"L684-I684","v":-1.4957670000000292},{"$f":"IF((I684)=0,\"\",(M684/I684))","v":-1.3786237970738502E-2}]
["RESIDENTIAL SERVICE CLASSIFICATION","RPP"]
["RESIDENTIAL SERVICE CLASSIFICATION","Non-RPP (Retailer)_BT",{"$f":"C660","v":13},null,"Total Bill on Non-RPP Avg. Price",null,null,null,{"$f":"SUM(I678,I670:I674,I669)","v":124.2855825},null,null,{"$f":"SUM(L678,L670:L674,L669)","v":122.86104250000002},{"$f":"L686-I686","v":-1.424539999999979},{"$f":"IF((I686)=0,\"\",(M686/I686))","v":-1.1461828245444148E-2}]
["RESIDENTIAL SERVICE CLASSIFICATION","Non-RPP (Retailer)",null,null,"HST",null,0.13,null,{"$f":"I686*G687","v":16.157125725},0.13,null,{"$f":"L686*J687","v":15.971935525000005},{"$f":"L687-I687","v":-0.18519019999999564},{"$f":"IF((I687)=0,\"\",(M687/I687))","v":-1.1461828245444047E-2}]
["RESIDENTIAL SERVICE CLASSIFICATION","Non-RPP (Retailer)_NET",{"$f":"C686","v":13},null,"Total Bill on Non-RPP Avg. Price (before 8% Provincial Rebate)",null,null,null,{"$f":"SUM(I686:I687)","v":140.44270822499999},null,null,{"$f":"SUM(L686:L687)","v":138.83297802500002},{"$f":"SUM(M686:M687)","v":-1.6097301999999747},{"$f":"IF((I688)=0,\"\",(M688/I688))","v":-1.1461828245444138E-2}]
[{"$f":"A687","v":"RESIDENTIAL SERVICE CLASSIFICATION"},"Non-RPP (Retailer)",null,null,"8% Provincial Rebate",null,-0.08,null,{"$f":"I686*G689","v":-9.9428466000000011},{"$f":"G689","v":-0.08},null,{"$f":"L686*J689","v":-9.8288834000000023},{"$f":"L689-I689","v":0.11396319999999882},{"$f":"IF((I689)=0,\"\",(M689/I689))","v":-1.1461828245444198E-2}]
["RESIDENTIAL SERVICE CLASSIFICATION","Non-RPP (Retailer)_TOTAL",{"$f":"C660","v":13},null,"Total Bill on Non-RPP Avg. Price",null,null,null,{"$f":"SUM(I686,I687,I689)","v":130.49986162499999},null,null,{"$f":"SUM(L686,L687,L689)","v":129.00409462500002},{"$f":"L690-I690","v":-1.4957669999999723},{"$f":"IF((I690)=0,\"\",(M690/I690))","v":-1.1461828245444106E-2}]
["RESIDENTIAL SERVICE CLASSIFICATION","Non-RPP (Retailer)"]
[]
[]
[null,null,null,null,"Customer Class:",{"$f":"E28","v":"GENERAL SERVICE LESS THAN 50 kW SERVICE CLASSIFICATION"},null,null,null,null,null,{"$f":"IF(O645=\"DEMAND - INTERVAL\",\"RTSR - INTERVAL METERED\",\"\")","v":""}]
[null,null,null,null,"RPP / Non-RPP:",{"$f":"H28","v":"Non-RPP (Retailer)"}]
[null,null,null,null,"Consumption",{"$f":"K28","v":2000},"kWh"]
[null,null,null,null,"Demand",{"$f":"L28","v":0},"kW"]
[null,null,null,null,"Current Loss Factor",{"$f":"I28","v":1.0341}]
[null,null,null,null,"Proposed/Approved Loss Factor",{"$f":"J28","v":1.0341}]
[]
[null,null,null,null,null,null,"Current OEB-Approved",null,null,"Proposed",null,null,"Impact"]
[null,null,null,null,null,null,"Rate","Volume","Charge","Rate","Volume","Charge","$ Change","% Change"]
[null,null,null,null,null,null,"($)",null,"($)","($)",null,"($)"]
[{"$f":"F694","v":"GENERAL SERVICE LESS THAN 50 kW SERVICE CLASSIFICATION"},null,null,"GSL_F","Monthly Service Charge",null,{"$f":"IFERROR(SUMIF(RATES!B:B,'21. Bill Impacts'!D704,RATES!H:H),\"\")","v":25.12},1,{"$f":"H704*G704","v":25.12},{"$f":"IFERROR(SUMIF(RATES!B:B,'21. Bill Impacts'!D704,RATES!I:I),\"\")","v":25.35},1,{"$f":"K704*J704","v":25.35},{"$f":"L704-I704","v":0.23000000000000043},{"$f":"IF(ISERROR(M704/I704), \"\", M704/I704)","v":9.1560509554140298E-3}]
[{"$f":"A704","v":"GENERAL SERVICE LESS THAN 50 kW SERVICE CLASSIFICATION"},null,null,"GSL_V","Distribution Volumetric Rate",null,{"$f":"IFERROR(SUMIF(RATES!B:B,'21. Bill Impacts'!D705,RATES!H:H),\"\")","v":1.67E-2},{"$f":"IF($F697>0, $F697, $F696)","v":2000},{"$f":"H705*G705","v":33.4},{"$f":"IFERROR(SUMIF(RATES!B:B,'21. Bill Impacts'!D705,RATES!I:I),\"\")","v":1.6899999999999998E-2},{"$f":"IF($F697>0, $F697, $F696)","v":2000},{"$f":"K705*J705","v":33.799999999999997},0.39999999999999858,{"$f":"IF(ISERROR(M705/I705), \"\", M705/I705)","v":1.1976047904191574E-2}]
[{"$f":"A705","v":"GENERAL SERVICE LESS THAN 50 kW SERVICE CLASSIFICATION"},null,null,"GSL_FRR","Fixed Rate Riders",null,{"$f":"IFERROR(SUMIF(RATES!B:B,'21. Bill Impacts'!D706,RATES!H:H),\"\")","v":0},1,0,{"$f":"IFERROR(SUMIF(RATES!B:B,'21. Bill Impacts'!D706,RATES!I:I),\"\")","v":0.65999999999999992},1,{"$f":"K706*J706","v":0.65999999999999992},0.65999999999999992,""]
[{"$f":"A706","v":"GENERAL SERVICE LESS THAN 50 kW SERVICE CLASSIFICATION"},null,null,"GSL_VRR","Volumetric Rate Riders",null,{"$f":"IFERROR(SUMIF(RATES!B:B,'21. Bill Impacts'!D707,RATES!H:H),\"\")","v":1.9E-3},{"$f":"IF($F697>0, $F697, $F696)","v":2000},3.8,{"$f":"IFERROR(SUMIF(RATES!B:B,'21. Bill Impacts'!D707,RATES!I:I),\"\")","v":2.0000000000000001E-4},{"$f":"IF($F697>0, $F697, $F696)","v":2000},0.4,-3.4,-0.89473684210526316]
["GENERAL SERVICE LESS THAN 50 kW SERVICE CLASSIFICATION","ST_A",{"$f":"B28","v":14},null,"Sub-Total A (excluding pass through)",null,null,null,{"$f":"SUM(I704:I707)","v":62.319999999999993},null,null,{"$f":"SUM(L704:L707)","v":60.209999999999994},-2.1099999999999994,{"$f":"IF((I708)=0,\"\",(M708/I708))","v":-3.385750962772785E-2}]
["GENERAL SERVICE LESS THAN 50 kW SERVICE CLASSIFICATION",null,null,null,"Line Losses on Cost of Power",null,{"$f":"IF((F696*12>=150000), 0, IF(F695=\"RPP\",(G723*0.65+G724*0.17+G725*0.18),IF(F695=\"Non-RPP (Retailer)\",G726,G727)))","v":0.1101},{"$f":"IF(G709=0, 0, $F696*F698-F696)","v":68.199999999999818},{"$f":"H709*G709","v":7.5088199999999805},{"$f":"IF((F696*12>=150000), 0, IF(F695=\"RPP\",(J723*0.65+J724*0.17+J725*0.18),IF(F695=\"Non-RPP (Retailer)\",J726,J727)))","v":0.1101},{"$f":"IF(G709=0, 0, $F696*F698-F696)","v":68.199999999999818},{"$f":"K709*J709","v":7.5088199999999805},{"$f":"L709-I709","v":0},{"$f":"IF(ISERROR(M709/I709), \"\", M709/I709)","v":0}]
["GENERAL SERVICE LESS THAN 50 kW SERVICE CLASSIFICATION",null,null,"GSL_DVA","Total Deferral/Variance Account Rate Riders",null,{"$f":"IFERROR(SUMIF(RATES!B:B,'21. Bill Impacts'!D710,RATES!H:H),\"\")","v":-3.5000000000000001E-3},{"$f":"IF($F697>0, $F697, $F696)","v":2000},{"$f":"H710*G710","v":-7},{"$f":"IFERROR(SUMIF(RATES!B:B,'21. Bill Impacts'!D710,RATES!I:I),\"\")","v":-1E-3},{"$f":"IF($F697>0, $F697, $F696)","v":2000},{"$f":"K710*J710","v":-2},{"$f":"L710-I710","v":5},{"$f":"IF(ISERROR(M710/I710), \"\", M710/I710)","v":-0.7142857142857143}]
["GENERAL SERVICE LESS THAN 50 kW SERVICE CLASSIFICATION",null,null,"GSL_GA","GA Rate Riders",null,{"$f":"IFERROR(SUMIF(RATES!B:B,'21. Bill Impacts'!D711,RATES!H:H),\"\")","v":4.8999999999999998E-3},{"$f":"IF($F697>0, $F697, $F696)","v":2000},9.7999999999999989,{"$f":"IFERROR(SUMIF(RATES!B:B,'21. Bill Impacts'!D711,RATES!I:I),\"\")","v":-8.9999999999999998E-4},{"$f":"IF($F697>0, $F697, $F696)","v":2000},-1.8,-11.6,-1.1836734693877551]
["GENERAL SERVICE LESS THAN 50 kW SERVICE CLASSIFICATION",null,null,"GSL_LV","Low Voltage Service Charge",null,{"$f":"IFERROR(SUMIF(RATES!B:B,'21. Bill Impacts'!D712,RATES!H:H),\"\")","v":0},{"$f":"IF($F697>0, $F697, $F696)","v":2000},0,{"$f":"IFERROR(SUMIF(RATES!B:B,'21. Bill Impacts'!D712,RATES!I:I),\"\")","v":0},{"$f":"IF($F697>0, $F697, $F696)","v":2000},0,0,""]
["GENERAL SERVICE LESS THAN 50 kW SERVICE CLASSIFICATION",null,null,null,"Smart Meter Entity Charge (if applicable) and/or \nany fixed ($) Deferral/Variance Account Rate Riders",null,0.56999999999999995,1,{"$f":"H713*G713","v":0.56999999999999995},0.56999999999999995,1,{"$f":"K713*J713","v":0.56999999999999995},0,{"$f":"IF(ISERROR(M713/I713), \"\", M713/I713)","v":0}]
["GENERAL SERVICE LESS THAN 50 kW SERVICE CLASSIFICATION","ST_B",{"$f":"C708","v":14},null,"Sub-Total B - Distribution (includes Sub-Total A)",null,null,null,{"$f":"SUM(I708:I713)","v":73.198819999999969},null,null,{"$f":"SUM(L708:L713)","v":64.488819999999976},-8.7099999999999937,{"$f":"IF((I714)=0,\"\",(M714/I714))","v":-0.11899098919900618}]
["GENERAL SERVICE LESS THAN 50 kW SERVICE CLASSIFICATION",null,null,"GSL_TN","RTSR - Network",null,{"$f":"IFERROR(SUMIF(RATES!B:B,'21. Bill Impacts'!D715,RATES!H:H),\"\")","v":6.6E-3},{"$f":"IF($F697>0, $F697, $F696*$F698)","v":2068.1999999999998},{"$f":"H715*G715","v":13.650119999999999},{"$f":"IFERROR(SUMIF(RATES!B:B,'21. Bill Impacts'!D715,RATES!I:I),\"\")","v":6.6E-3},{"$f":"IF($F697>0, $F697, $F696*$F698)","v":2068.1999999999998},{"$f":"K715*J715","v":13.650119999999999},0,{"$f":"IF(ISERROR(M715/I715), \"\", M715/I715)","v":0}]
["GENERAL SERVICE LESS THAN 50 kW SERVICE CLASSIFICATION",null,null,"GSL_TC","RTSR - Connection and/or Line and Transformation Connection",null,{"$f":"IFERROR(SUMIF(RATES!B:B,'21. Bill Impacts'!D716,RATES!H:H),\"\")","v":4.7999999999999996E-3},{"$f":"IF($F697>0, $F697, $F696*$F698)","v":2068.1999999999998},{"$f":"H716*G716","v":9.9273599999999984},{"$f":"IFERROR(SUMIF(RATES!B:B,'21. Bill Impacts'!D716,RATES!I:I),\"\")","v":5.4999999999999997E-3},{"$f":"IF($F697>0, $F697, $F696*$F698)","v":2068.1999999999998},{"$f":"K716*J716","v":11.375099999999998},1.4477399999999996,{"$f":"IF(ISERROR(M716/I716), \"\", M716/I716)","v":0.14583333333333331}]
["GENERAL SERVICE LESS THAN 50 kW SERVICE CLASSIFICATION","ST_C",{"$f":"C708","v":14},null,"Sub-Total C - Delivery (including Sub-Total B)",null,null,null,{"$f":"SUM(I714:I716)","v":96.776299999999964},null,null,{"$f":"SUM(L714:L716)","v":89.51403999999998},-7.2622599999999835,{"$f":"IF((I717)=0,\"\",(M717/I717))","v":-7.5041719925229483E-2}]
["GENERAL SERVICE LESS THAN 50 kW SERVICE CLASSIFICATION",null,null,null,"Wholesale Market Service Charge (WMSC)",null,3.5999999999999999E-3,{"$f":"F696*F698","v":2068.1999999999998},{"$f":"H718*G718","v":7.4455199999999992},3.5999999999999999E-3,{"$f":"F696*F698","v":2068.1999999999998},{"$f":"K718*J718","v":7.4455199999999992},0,{"$f":"IF(ISERROR(M718/I718), \"\", M718/I718)","v":0}]
["GENERAL SERVICE LESS THAN 50 kW SERVICE CLASSIFICATION",null,null,null,"Rural and Remote Rate Protection (RRRP)",null,2.9999999999999997E-4,{"$f":"F696*F698","v":2068.1999999999998},0.6204599999999999,2.9999999999999997E-4,{"$f":"F696*F698","v":2068.1999999999998},0.6204599999999999,0,0]
["GENERAL SERVICE LESS THAN 50 kW SERVICE CLASSIFICATION",null,null,null,"Standard Supply Service Charge"]
["GENERAL SERVICE LESS THAN 50 kW SERVICE CLASSIFICATION",null,null,null,"Debt Retirement Charge (DRC)",null,7.0000000000000001E-3,{"$f":"F696","v":2000},{"$f":"H721*G721","v":14},7.0000000000000001E-3,{"$f":"F696","v":2000},{"$f":"K721*J721","v":14},{"$f":"L721-I721","v":0},{"$f":"IF(ISERROR(M721/I721), \"\", M721/I721)","v":0}]
["GENERAL SERVICE LESS THAN 50 kW SERVICE CLASSIFICATION"]
["GENERAL SERVICE LESS THAN 50 kW SERVICE CLASSIFICATION","RPP",null,null,"TOU - Off Peak",null,6.5000000000000002E-2,{"$f":"IF(AND(F696*12>=150000),0.65*F696*F698,0.65*F696)","v":1300},84.5,6.5000000000000002E-2,{"$f":"IF(AND(F696*12>=150000),0.65*F696*F699,0.65*F696)","v":1300},{"$f":"K723*J723","v":84.5},0,0]
["GENERAL SERVICE LESS THAN 50 kW SERVICE CLASSIFICATION","RPP",null,null,"TOU - Mid Peak",null,9.5000000000000001E-2,{"$f":"IF(AND(F696*12>=150000),0.17*F696*F698,0.17*F696)","v":340},32.299999999999997,9.5000000000000001E-2,{"$f":"IF(AND(F696*12>=150000),0.17*F696*F699,0.17*F696)","v":340},32.299999999999997,0,0]
["GENERAL SERVICE LESS THAN 50 kW SERVICE CLASSIFICATION","RPP",null,null,"TOU - On Peak",null,0.13200000000000001,{"$f":"IF(AND(F696*12>=150000),0.18*F696*F698,0.18*F696)","v":360},47.52,0.13200000000000001,{"$f":"IF(AND(F696*12>=150000),0.18*F696*F699,0.18*F696)","v":360},47.52,0,0]
["GENERAL SERVICE LESS THAN 50 kW SERVICE CLASSIFICATION","Non-RPP (Retailer)",null,null,"Non-RPP Retailer Avg. Price",null,0.1101,{"$f":"IF(AND(F696*12>=150000),F696*F698,F696)","v":2000},{"$f":"H726*G726","v":220.20000000000002},{"$f":"G726","v":0.1101},{"$f":"IF(AND(F696*12>=150000),F696*F699,F696)","v":2000},{"$f":"K726*J726","v":220.20000000000002},0,0]
["GENERAL SERVICE LESS THAN 50 kW SERVICE CLASSIFICATION","Non-RPP (Other)",null,null,"Average IESO Wholesale Market Price",null,{"$f":"G726","v":0.1101},{"$f":"IF(AND(F696*12>=150000),F696*F698,F696)","v":2000},{"$f":"H727*G727","v":220.20000000000002},{"$f":"G727","v":0.1101},{"$f":"IF(AND(F696*12>=150000),F696*F699,F696)","v":2000},{"$f":"K727*J727","v":220.20000000000002},0,0]
["GENERAL SERVICE LESS THAN 50 kW SERVICE CLASSIFICATION"]
["GENERAL SERVICE LESS THAN 50 kW SERVICE CLASSIFICATION","RPP",null,null,"Total Bill on TOU (before Taxes)",null,null,null,{"$f":"SUM(I718:I725,I717)","v":283.16227999999995},null,null,{"$f":"SUM(L718:L725,L717)","v":275.90001999999998},{"$f":"L729-I729","v":-7.2622599999999693},{"$f":"IF((I729)=0,\"\",(M729/I729))","v":-2.5646989422461106E-2}]
["GENERAL SERVICE LESS THAN 50 kW SERVICE CLASSIFICATION","RPP",null,null,"HST",null,0.13,null,{"$f":"I729*G730","v":36.811096399999997},0.13,null,{"$f":"L729*J730","v":35.867002599999999},{"$f":"L730-I730","v":-0.94409379999999743},{"$f":"IF((I730)=0,\"\",(M730/I730))","v":-2.5646989422461144E-2}]
["GENERAL SERVICE LESS THAN 50 kW SERVICE CLASSIFICATION","RPP",null,null,"Provincial Rebate",null,-0.08,null,{"$f":"I729*G731","v":-22.652982399999996},{"$f":"G731","v":-0.08},null,{"$f":"L729*J731","v":-22.0720016},{"$f":"L731-I731","v":0.58098079999999541},{"$f":"IF((I731)=0,\"\",(M731/I731))","v":-2.5646989422461016E-2}]
["GENERAL SERVICE LESS THAN 50 kW SERVICE CLASSIFICATION","RPP_TOTAL",null,null,"Total Bill on TOU",null,null,null,{"$f":"SUM(I729,I730,I731)","v":297.32039399999996},null,null,{"$f":"L729+L730+L731","v":289.69502099999994},{"$f":"L732-I732","v":-7.6253730000000246},{"$f":"IF((I732)=0,\"\",(M732/I732))","v":-2.5646989422461297E-2}]
["GENERAL SERVICE LESS THAN 50 kW SERVICE CLASSIFICATION","RPP"]
["GENERAL SERVICE LESS THAN 50 kW SERVICE CLASSIFICATION","Non-RPP (Retailer)_BT",{"$f":"C708","v":14},null,"Total Bill on Non-RPP Avg. Price",null,null,null,{"$f":"SUM(I726,I718:I722,I717)","v":339.04228000000001},null,null,{"$f":"SUM(L726,L718:L722,L717)","v":331.78001999999998},{"$f":"L734-I734","v":-7.2622600000000261},{"$f":"IF((I734)=0,\"\",(M734/I734))","v":-2.1419924382292458E-2}]
["GENERAL SERVICE LESS THAN 50 kW SERVICE CLASSIFICATION","Non-RPP (Retailer)",null,null,"HST",null,0.13,null,{"$f":"I734*G735","v":44.075496399999999},0.13,null,{"$f":"L734*J735","v":43.131402600000001},{"$f":"L735-I735","v":-0.94409379999999743},{"$f":"IF((I735)=0,\"\",(M735/I735))","v":-2.1419924382292323E-2}]
["GENERAL SERVICE LESS THAN 50 kW SERVICE CLASSIFICATION","Non-RPP (Retailer)_NET",{"$f":"C734","v":14},null,"Total Bill on Non-RPP Avg. Price (before 8% Provincial Rebate)",null,null,null,{"$f":"SUM(I734:I735)","v":383.11777640000003},null,null,{"$f":"SUM(L734:L735)","v":374.91142259999998},{"$f":"SUM(M734:M735)","v":-8.2063538000000236},{"$f":"IF((I736)=0,\"\",(M736/I736))","v":-2.1419924382292441E-2}]
[{"$f":"A735","v":"GENERAL SERVICE LESS THAN 50 kW SERVICE CLASSIFICATION"},"Non-RPP (Retailer)",null,null,"8% Provincial Rebate",null,-0.08,null,{"$f":"I734*G737","v":-27.123382400000001},{"$f":"G737","v":-0.08},null,{"$f":"L734*J737","v":-26.542401599999998},{"$f":"L737-I737","v":0.58098080000000252},{"$f":"IF((I737)=0,\"\",(M737/I737))","v":-2.1419924382292472E-2}]
["GENERAL SERVICE LESS THAN 50 kW SERVICE CLASSIFICATION","Non-RPP (Retailer)_TOTAL",{"$f":"C708","v":14},null,"Total Bill on Non-RPP Avg. Price",null,null,null,{"$f":"SUM(I734,I735,I737)","v":355.994394},null,null,{"$f":"SUM(L734,L735,L737)","v":348.36902099999998},{"$f":"L738-I738","v":-7.6253730000000246},{"$f":"IF((I738)=0,\"\",(M738/I738))","v":-2.1419924382292448E-2}]
["GENERAL SERVICE LESS THAN 50 kW SERVICE CLASSIFICATION","Non-RPP (Retailer)"]
[]
[]
[null,null,null,null,"Customer Class:",{"$f":"E29","v":"UNMETERED SCATTERED LOAD SERVICE CLASSIFICATION"},null,null,null,null,null,{"$f":"IF(O693=\"DEMAND - INTERVAL\",\"RTSR - INTERVAL METERED\",\"\")","v":""}]
[null,null,null,null,"RPP / Non-RPP:",{"$f":"H29","v":"RPP"}]
[null,null,null,null,"Consumption",{"$f":"K29","v":150},"kWh"]
[null,null,null,null,"Demand",0,"kW"]
[null,null,null,null,"Current Loss Factor",{"$f":"I29","v":1.0341}]
[null,null,null,null,"Proposed/Approved Loss Factor",{"$f":"J29","v":1.0341}]
[]
[null,null,null,null,null,null,"Current OEB-Approved",null,null,"Proposed",null,null,"Impact"]
[null,null,null,null,null,null,"Rate","Volume","Charge","Rate","Volume","Charge","$ Change","% Change"]
[null,null,null,null,null,null,"($)",null,"($)","($)",null,"($)"]
[{"$f":"F742","v":"UNMETERED SCATTERED LOAD SERVICE CLASSIFICATION"},null,null,"USL_F","Monthly Service Charge",null,{"$f":"IFERROR(SUMIF(RATES!B:B,'21. Bill Impacts'!D752,RATES!H:H),\"\")","v":1.0900000000000001},1,{"$f":"H752*G752","v":1.0900000000000001},{"$f":"IFERROR(SUMIF(RATES!B:B,'21. Bill Impacts'!D752,RATES!I:I),\"\")","v":1.1000000000000001},1,{"$f":"K752*J752","v":1.1000000000000001},{"$f":"L752-I752","v":1.0000000000000009E-2},{"$f":"IF(ISERROR(M752/I752), \"\", M752/I752)","v":9.174311926605512E-3}]
[{"$f":"A752","v":"UNMETERED SCATTERED LOAD SERVICE CLASSIFICATION"},null,null,"USL_V","Distribution Volumetric Rate",null,{"$f":"IFERROR(SUMIF(RATES!B:B,'21. Bill Impacts'!D753,RATES!H:H),\"\")","v":1.9800000000000002E-2},{"$f":"F744","v":150},{"$f":"H753*G753","v":2.97},{"$f":"IFERROR(SUMIF(RATES!B:B,'21. Bill Impacts'!D753,RATES!I:I),\"\")","v":0.02},{"$f":"IF($F745>0, $F745, $F744)","v":150},{"$f":"K753*J753","v":3},2.9999999999999805E-2,{"$f":"IF(ISERROR(M753/I753), \"\", M753/I753)","v":1.0101010101010034E-2}]
[{"$f":"A753","v":"UNMETERED SCATTERED LOAD SERVICE CLASSIFICATION"},null,null,"USL_FRR","Fixed Rate Riders",null,{"$f":"IFERROR(SUMIF(RATES!B:B,'21. Bill Impacts'!D754,RATES!H:H),\"\")","v":0},1,0,{"$f":"IFERROR(SUMIF(RATES!B:B,'21. Bill Impacts'!D754,RATES!I:I),\"\")","v":0.05},1,{"$f":"K754*J754","v":0.05},0.05,""]
[{"$f":"A754","v":"UNMETERED SCATTERED LOAD SERVICE CLASSIFICATION"},null,null,"USL_VRR","Volumetric Rate Riders",null,{"$f":"IFERROR(SUMIF(RATES!B:B,'21. Bill Impacts'!D755,RATES!H:H),\"\")","v":2.0000000000000004E-4},{"$f":"F744","v":150},3.0000000000000006E-2,{"$f":"IFERROR(SUMIF(RATES!B:B,'21. Bill Impacts'!D755,RATES!I:I),\"\")","v":2.0000000000000001E-4},{"$f":"IF($F745>0, $F745, $F744)","v":150},3.0000000000000002E-2,0,0]
["UNMETERED SCATTERED LOAD SERVICE CLASSIFICATION","ST_A",{"$f":"B29","v":15},null,"Sub-Total A (excluding pass through)",null,null,null,{"$f":"SUM(I752:I755)","v":4.0900000000000007},null,null,{"$f":"SUM(L752:L755)","v":4.18},8.999999999999897E-2,{"$f":"IF((I756)=0,\"\",(M756/I756))","v":2.2004889975549866E-2}]
["UNMETERED SCATTERED LOAD SERVICE CLASSIFICATION",null,null,null,"Line Losses on Cost of Power",null,{"$f":"IF((F744*12>=150000), 0, IF(F743=\"RPP\",(G771*0.65+G772*0.17+G773*0.18),IF(F743=\"Non-RPP (Retailer)\",G774,G775)))","v":8.2160000000000011E-2},{"$f":"IF(G757=0, 0, $F744*F746-F744)","v":5.1150000000000091},{"$f":"H757*G757","v":0.4202484000000008},{"$f":"IF((F744*12>=150000), 0, IF(F743=\"RPP\",(J771*0.65+J772*0.17+J773*0.18),IF(F743=\"Non-RPP (Retailer)\",J774,J775)))","v":8.2160000000000011E-2},{"$f":"IF(G757=0, 0, $F744*F746-F744)","v":5.1150000000000091},{"$f":"K757*J757","v":0.4202484000000008},{"$f":"L757-I757","v":0},{"$f":"IF(ISERROR(M757/I757), \"\", M757/I757)","v":0}]
["UNMETERED SCATTERED LOAD SERVICE CLASSIFICATION",null,null,"USL_DVA","Total Deferral/Variance Account Rate Riders",null,{"$f":"IFERROR(SUMIF(RATES!B:B,'21. Bill Impacts'!D758,RATES!H:H),\"\")","v":-3.4000000000000002E-3},{"$f":"F744","v":150},{"$f":"H758*G758","v":-0.51},{"$f":"IFERROR(SUMIF(RATES!B:B,'21. Bill Impacts'!D758,RATES!I:I),\"\")","v":-1E-3},{"$f":"IF($F745>0, $F745, $F744)","v":150},{"$f":"K758*J758","v":-0.15},{"$f":"L758-I758","v":0.36},{"$f":"IF(ISERROR(M758/I758), \"\", M758/I758)","v":-0.70588235294117641}]
["UNMETERED SCATTERED LOAD SERVICE CLASSIFICATION",null,null,"USL_GA","GA Rate Riders",null,{"$f":"IFERROR(SUMIF(RATES!B:B,'21. Bill Impacts'!D759,RATES!H:H),\"\")","v":4.8999999999999998E-3},null,0,{"$f":"IFERROR(SUMIF(RATES!B:B,'21. Bill Impacts'!D759,RATES!I:I),\"\")","v":-8.9999999999999998E-4},null,0,0,""]
["UNMETERED SCATTERED LOAD SERVICE CLASSIFICATION",null,null,"USL_LV","Low Voltage Service Charge",null,{"$f":"IFERROR(SUMIF(RATES!B:B,'21. Bill Impacts'!D760,RATES!H:H),\"\")","v":0},{"$f":"F744","v":150},0,{"$f":"IFERROR(SUMIF(RATES!B:B,'21. Bill Impacts'!D760,RATES!I:I),\"\")","v":0},{"$f":"IF($F745>0, $F745, $F744)","v":150},0,0,""]
["UNMETERED SCATTERED LOAD SERVICE CLASSIFICATION",null,null,null,"Smart Meter Entity Charge (if applicable) and/or \nany fixed ($) Deferral/Variance Account Rate Riders",null,0.56999999999999995,null,{"$f":"H761*G761","v":0},0.56999999999999995,null,{"$f":"K761*J761","v":0},0,{"$f":"IF(ISERROR(M761/I761), \"\", M761/I761)","v":""}]
["UNMETERED SCATTERED LOAD SERVICE CLASSIFICATION","ST_B",{"$f":"C756","v":15},null,"Sub-Total B - Distribution (includes Sub-Total A)",null,null,null,{"$f":"SUM(I756:I761)","v":4.000248400000002},null,null,{"$f":"SUM(L756:L761)","v":4.4502484000000004},0.4499999999999984,{"$f":"IF((I762)=0,\"\",(M762/I762))","v":0.11249301418381873}]
["UNMETERED SCATTERED LOAD SERVICE CLASSIFICATION",null,null,"USL_TN","RTSR - Network",null,{"$f":"IFERROR(SUMIF(RATES!B:B,'21. Bill Impacts'!D763,RATES!H:H),\"\")","v":6.6E-3},{"$f":"IF($F745>0, $F745, $F744*$F746)","v":155.11500000000001},{"$f":"H763*G763","v":1.0237590000000001},{"$f":"IFERROR(SUMIF(RATES!B:B,'21. Bill Impacts'!D763,RATES!I:I),\"\")","v":6.6E-3},{"$f":"IF($F745>0, $F745, $F744*$F746)","v":155.11500000000001},{"$f":"K763*J763","v":1.0237590000000001},0,{"$f":"IF(ISERROR(M763/I763), \"\", M763/I763)","v":0}]
["UNMETERED SCATTERED LOAD SERVICE CLASSIFICATION",null,null,"USL_TC","RTSR - Connection and/or Line and Transformation Connection",null,{"$f":"IFERROR(SUMIF(RATES!B:B,'21. Bill Impacts'!D764,RATES!H:H),\"\")","v":4.7999999999999996E-3},{"$f":"H763","v":155.11500000000001},{"$f":"H764*G764","v":0.74455199999999999},{"$f":"IFERROR(SUMIF(RATES!B:B,'21. Bill Impacts'!D764,RATES!I:I),\"\")","v":5.4999999999999997E-3},{"$f":"IF($F745>0, $F745, $F744*$F746)","v":155.11500000000001},{"$f":"K764*J764","v":0.85313249999999996},0.10858049999999997,{"$f":"IF(ISERROR(M764/I764), \"\", M764/I764)","v":0.14583333333333329}]
["UNMETERED SCATTERED LOAD SERVICE CLASSIFICATION","ST_C",{"$f":"C756","v":15},null,"Sub-Total C - Delivery (including Sub-Total B)",null,null,null,{"$f":"SUM(I762:I764)","v":5.7685594000000018},null,null,{"$f":"SUM(L762:L764)","v":6.3271399000000006},0.55858049999999881,{"$f":"IF((I765)=0,\"\",(M765/I765))","v":9.6831888391406468E-2}]
["UNMETERED SCATTERED LOAD SERVICE CLASSIFICATION",null,null,null,"Wholesale Market Service Charge (WMSC)",null,3.5999999999999999E-3,{"$f":"F744*F746","v":155.11500000000001},{"$f":"H766*G766","v":0.55841399999999997},3.5999999999999999E-3,{"$f":"F744*F746","v":155.11500000000001},{"$f":"K766*J766","v":0.55841399999999997},0,{"$f":"IF(ISERROR(M766/I766), \"\", M766/I766)","v":0}]
["UNMETERED SCATTERED LOAD SERVICE CLASSIFICATION",null,null,null,"Rural and Remote Rate Protection (RRRP)",null,2.9999999999999997E-4,{"$f":"F744*F746","v":155.11500000000001},4.6534499999999999E-2,2.9999999999999997E-4,{"$f":"F744*F746","v":155.11500000000001},4.6534499999999999E-2,0,0]
["UNMETERED SCATTERED LOAD SERVICE CLASSIFICATION",null,null,null,"Standard Supply Service Charge",null,0.25,1,0.25,0.25,1,{"$f":"K768*J768","v":0.25},{"$f":"L768-I768","v":0},{"$f":"IF(ISERROR(M768/I768), \"\", M768/I768)","v":0}]
["UNMETERED SCATTERED LOAD SERVICE CLASSIFICATION",null,null,null,"Debt Retirement Charge (DRC)",null,7.0000000000000001E-3,{"$f":"F744","v":150},{"$f":"H769*G769","v":1.05},7.0000000000000001E-3,{"$f":"F744","v":150},{"$f":"K769*J769","v":1.05},{"$f":"L769-I769","v":0},{"$f":"IF(ISERROR(M769/I769), \"\", M769/I769)","v":0}]
["UNMETERED SCATTERED LOAD SERVICE CLASSIFICATION"]
["UNMETERED SCATTERED LOAD SERVICE CLASSIFICATION","RPP",null,null,"TOU - Off Peak",null,6.5000000000000002E-2,{"$f":"IF(AND(F744*12>=150000),0.65*F744*F746,0.65*F744)","v":97.5},6.3375000000000004,6.5000000000000002E-2,{"$f":"IF(AND(F744*12>=150000),0.65*F744*F747,0.65*F744)","v":97.5},{"$f":"K771*J771","v":6.3375000000000004},0,0]
["UNMETERED SCATTERED LOAD SERVICE CLASSIFICATION","RPP",null,null,"TOU - Mid Peak",null,9.5000000000000001E-2,{"$f":"IF(AND(F744*12>=150000),0.17*F744*F746,0.17*F744)","v":25.500000000000004},2.4225000000000003,9.5000000000000001E-2,{"$f":"IF(AND(F744*12>=150000),0.17*F744*F747,0.17*F744)","v":25.500000000000004},2.4225000000000003,0,0]
["UNMETERED SCATTERED LOAD SERVICE CLASSIFICATION","RPP",null,null,"TOU - On Peak",null,0.13200000000000001,{"$f":"IF(AND(F744*12>=150000),0.18*F744*F746,0.18*F744)","v":27},3.5640000000000001,0.13200000000000001,{"$f":"IF(AND(F744*12>=150000),0.18*F744*F747,0.18*F744)","v":27},3.5640000000000001,0,0]
["UNMETERED SCATTERED LOAD SERVICE CLASSIFICATION","Non-RPP (Retailer)",null,null,"Non-RPP Retailer Avg. Price",null,{"$f":"0.1061","v":0.1061},{"$f":"IF(AND(F744*12>=150000),F744*F746,F744)","v":150},{"$f":"H774*G774","v":15.914999999999999},{"$f":"G774","v":0.1061},{"$f":"IF(AND(F744*12>=150000),F744*F747,F744)","v":150},{"$f":"K774*J774","v":15.914999999999999},0,0]
["UNMETERED SCATTERED LOAD SERVICE CLASSIFICATION","Non-RPP (Other)",null,null,"Average IESO Wholesale Market Price",null,{"$f":"G774","v":0.1061},{"$f":"IF(AND(F744*12>=150000),F744*F746,F744)","v":150},{"$f":"H775*G775","v":15.914999999999999},{"$f":"G775","v":0.1061},{"$f":"IF(AND(F744*12>=150000),F744*F747,F744)","v":150},{"$f":"K775*J775","v":15.914999999999999},0,0]
["UNMETERED SCATTERED LOAD SERVICE CLASSIFICATION"]
["UNMETERED SCATTERED LOAD SERVICE CLASSIFICATION","RPP_BT",{"$f":"C756","v":15},null,"Total Bill on TOU (before Taxes)",null,null,null,{"$f":"SUM(I766:I773,I765)","v":19.997507900000002},null,null,{"$f":"SUM(L766:L773,L765)","v":20.5560884},{"$f":"L777-I777","v":0.55858049999999793},{"$f":"IF((I777)=0,\"\",(M777/I777))","v":2.793250552985144E-2}]
["UNMETERED SCATTERED LOAD SERVICE CLASSIFICATION","RPP",null,null,"HST",null,0.13,null,{"$f":"I777*G778","v":2.5996760270000006},0.13,null,{"$f":"L777*J778","v":2.6722914920000003},{"$f":"L778-I778","v":7.2615464999999713E-2},{"$f":"IF((I778)=0,\"\",(M778/I778))","v":2.793250552985143E-2}]
["UNMETERED SCATTERED LOAD SERVICE CLASSIFICATION","RPP_NET",{"$f":"C777","v":15},null,"Total Bill on TOU (before 8% Provincial Rebate)",null,null,null,{"$f":"SUM(I777:I778)","v":22.597183927000003},null,null,{"$f":"SUM(L777:L778)","v":23.228379892},{"$f":"SUM(M777:M778)","v":0.63119596499999764},{"$f":"IF((I779)=0,\"\",(M779/I779))","v":2.793250552985144E-2}]
[{"$f":"A778","v":"UNMETERED SCATTERED LOAD SERVICE CLASSIFICATION"},"RPP",null,null,"8% Provincial Rebate",null,-0.08,null,{"$f":"I777*G780","v":-1.5998006320000002},{"$f":"G780","v":-0.08},null,{"$f":"L777*J780","v":-1.644487072},{"$f":"L780-I780","v":-4.4686439999999772E-2},{"$f":"IF((I780)=0,\"\",(M780/I780))","v":2.7932505529851402E-2}]
["UNMETERED SCATTERED LOAD SERVICE CLASSIFICATION","RPP_TOTAL",{"$f":"C777","v":15},null,"Total Bill on TOU",null,null,null,{"$f":"SUM(I777,I778,I780)","v":20.997383295000002},null,null,{"$f":"L777+L778+L780","v":21.583892819999999},{"$f":"L781-I781","v":0.58650952499999676},{"$f":"IF((I781)=0,\"\",(M781/I781))","v":2.7932505529851388E-2}]
["UNMETERED SCATTERED LOAD SERVICE CLASSIFICATION","RPP"]
["UNMETERED SCATTERED LOAD SERVICE CLASSIFICATION","Non-RPP (Retailer)_BT",null,null,"Total Bill on Non-RPP Avg. Price",null,null,null,{"$f":"SUM(I774,I766:I770,I765)","v":23.5885079},null,null,{"$f":"SUM(L774,L766:L770,L765)","v":24.147088400000001},{"$f":"L783-I783","v":0.55858050000000148},{"$f":"IF((I783)=0,\"\",(M783/I783))","v":2.3680196406149177E-2}]
["UNMETERED SCATTERED LOAD SERVICE CLASSIFICATION","Non-RPP (Retailer)",null,null,"HST",null,0.13,null,{"$f":"I783*G784","v":3.066506027},0.13,null,{"$f":"L783*J784","v":3.1391214920000001},{"$f":"L784-I784","v":7.2615465000000157E-2},{"$f":"IF((I784)=0,\"\",(M784/I784))","v":2.3680196406149167E-2}]
["UNMETERED SCATTERED LOAD SERVICE CLASSIFICATION","Non-RPP (Retailer)_NET",null,null,"Total Bill on Non-RPP Avg. Price (before 8% Provincial Rebate)",null,null,null,{"$f":"SUM(I783:I784)","v":26.655013926999999},null,null,{"$f":"SUM(L783:L784)","v":27.286209892000002},{"$f":"SUM(M783:M784)","v":0.63119596500000164},{"$f":"IF((I785)=0,\"\",(M785/I785))","v":2.3680196406149177E-2}]
[{"$f":"A784","v":"UNMETERED SCATTERED LOAD SERVICE CLASSIFICATION"},"Non-RPP (Retailer)",null,null,"8% Provincial Rebate",null,-0.08,null,{"$f":"I783*G786","v":-1.887080632},{"$f":"G786","v":-0.08},null,{"$f":"L783*J786","v":-1.9317670720000002},{"$f":"L786-I786","v":-4.4686440000000216E-2},{"$f":"IF((I786)=0,\"\",(M786/I786))","v":2.3680196406149229E-2}]
["UNMETERED SCATTERED LOAD SERVICE CLASSIFICATION","Non-RPP (Retailer)_TOTAL",null,null,"Total Bill on Non-RPP Avg. Price",null,null,null,{"$f":"SUM(I783,I784,I786)","v":24.767933294999999},null,null,{"$f":"SUM(L783,L784,L786)","v":25.354442820000003},{"$f":"L787-I787","v":0.58650952500000386},{"$f":"IF((I787)=0,\"\",(M787/I787))","v":2.3680196406149271E-2}]
["UNMETERED SCATTERED LOAD SERVICE CLASSIFICATION","Non-RPP (Retailer)"]

{"sheet":"RATES","index":27,"n_rows":259,"n_cols":10,"rows_kept":259,"cut":false,"hidden":false,"merged":[[10,7,12,7],[10,8,12,8]]}
["Back to Index",null,"Back to Index"]
[]
[]
[null,null,{"$f":"'Model Specs'!C4","v":"Alectra - Hydro One Brampton"}]
[null,null,"Rates"]
[]
[]
["A",null,"MONTHLY RATES AND CHARGES  - DELIVERY COMPONENT"]
[]
[1,null,{"$f":"1+A10","v":2},null,3,4,5,6,7]
[null,null,"Description",null,null,null,null,2017,2018]
[]
[null,null,null,"Effective until","Type","Customers","Billing\nDeterminant"]
[null,null,"RESIDENTIAL"]
["R_F","R_F","Service Charge",null,"Rate",null,"$",17.64,{"$f":"ROUND('17. Rev2Cost-GDPIPI'!I17,2)","v":20.92}]
["R_V","R_V","Distribution Volumetric Rate",null,"Rate",null,"$/kWh",8.0000000000000002E-3,{"$f":"ROUND('17. Rev2Cost-GDPIPI'!J17,4)","v":4.0000000000000001E-3}]
[]
[null,null,"Rate Rider for Smart Metering Entity Charge","2020-12-31","Rate Rider",null,"$",0.79,0.56999999999999995]
["R_GA16","R_GA","Rate Rider for Disposition of Global Adjustment Account (2017) - Applicable only for Non-RPP Customers"," December 31, 2017","Rate Rider","non-RPP","$/kWh",4.8999999999999998E-3]
["R_LRVA16","R_VRR","Rate Rider for Disposition of Lost Revenue Adjustment Mechanism Variance Account (LRAMVA) (2017)","2017-12-31","Rate Rider",null,"$/kWh",1E-4]
["R_DVA16","R_DVA","Rate Rider for Disposition of Deferral/Variance Accounts (2017)","2017-12-31","Rate Rider",null,"$/kWh",-3.8E-3]
["R_1576","R_VRR","Rate Rider for Disposition of Account 1576","2017-12-31","Rate Rider",null,"$/kWh",5.0000000000000001E-4]
["R_CBR16","R_DVA","Rate Rider for Disposition of CBR Class B (2017) ","2017-12-31","Rate Rider","Class B","$/kWh",2.9999999999999997E-4]
["R_GA17","R_GA","Rate Rider for Disposition of GA (2018) - effective until April 30, 2019 - Applicable only for Non-RPP Customers","2019-04-30","Rate Rider","non-RPP","$/kWh",null,{"$f":"ROUND('6. GA Calculation'!M17,4)","v":-8.9999999999999998E-4}]
["R_DVA17","R_DVA","Rate Rider for Disposition of Deferral/Variance Accounts (2018) effective until April 30, 2019","2019-04-30","Rate Rider",null,"$/kWh",null,{"$f":"ROUND('8. Calculation of Def-Var RR'!J17,4)","v":-1E-3}]
["R_CBR17","R_DVA","Rate Rider for Disposition of CBR Class B (2018) - Applicable only to Class B customers effective until April 30, 2019","2019-04-30","Rate Rider",null,"$/kWh",null,{"$f":"ROUND('7. CBR Calculation'!O22,5)","v":0}]
["R_LRVA17","R_VRR","Rate Rider for Disposition of Lost Revenue Adjustment Mechanism Variance Account (LRAMVA) (2018) effective until April 30, 2019","2019-04-30","Rate Rider",null,"$/kWh",null,{"$f":"ROUND('8. Calculation of Def-Var RR'!L17,4)","v":0}]
["R_ICMF","R_FRR","Rate Rider for Incremental Capital Module (ICM) - effective until the date of the next cost of service based rate order","next COS","Rate Rider",null,"$",{"$f":"IFERROR(VLOOKUP(A28,RATES,4,FALSE),\"\")","v":""},{"$f":"'19. Additional Rates'!D14","v":0.23}]
["R_FRF","R_FRR","Rate Rider for Recovery of 2018 Foregone Revenue - effective until December 31, 2018","2018-12-31","Rate Rider",null,"$",null,{"$f":"'19. Additional Rates'!D15","v":0.37}]
[]
[]
[]
[]
[]
[]
[]
[]
[]
["R_TN","R_TN","Retail Transmission Rate – Network Service Rate",null,"Rate",null,"$/kWh",7.4000000000000003E-3,{"$f":"ROUND('16. RTSR-Rates to Forecast'!K43,4)","v":7.4000000000000003E-3}]
["R_TC","R_TC","Retail Transmission Rate – Line and Transformation Connection Service Rate",null,"Rate",null,"$/kWh",5.7000000000000002E-3,{"$f":"ROUND('16. RTSR-Rates to Forecast'!K56,4)","v":6.4999999999999997E-3}]
[]
[null,null,"GENERAL SERVICE LESS THAN 50 KW"]
["GSL_F","GSL_F","Service Charge",null,"Rate",null,"$",25.12,{"$f":"ROUND('17. Rev2Cost-GDPIPI'!I18,2)","v":25.35}]
["GSL_V","GSL_V","Distribution Volumetric Rate",null,"Rate",null,"$/kWh",1.67E-2,{"$f":"ROUND('17. Rev2Cost-GDPIPI'!J18,4)","v":1.6899999999999998E-2}]
[]
[null,null,"Rate Rider for Smart Metering Entity Charge","2020-12-31","Rate Rider",null,"$",0.79,0.56999999999999995]
["GSL_GA16","GSL_GA","Rate Rider for Disposition of Global Adjustment Account (2017) - Applicable only for Non-RPP Customers"," December 31, 2017","Rate Rider","non-RPP","$/kWh",4.8999999999999998E-3]
["GSL_LRVA16","GSL_VRR","Rate Rider for Disposition of Lost Revenue Adjustment Mechanism Variance Account (LRAMVA) (2017)","2017-12-31","Rate Rider",null,"$/kWh",1.4E-3]
["GSL_DVA16","GSL_DVA","Rate Rider for Disposition of Deferral/Variance Accounts (2017)","2017-12-31","Rate Rider",null,"$/kWh",-3.8E-3]
["GSL_1576","GSL_VRR","Rate Rider for Disposition of Account 1576","2017-12-31","Rate Rider",null,"$/kWh",5.0000000000000001E-4]
["GSL_CBR16","GSL_DVA","Rate Rider for Disposition of CBR Class B (2017) ","2017-12-31","Rate Rider","Class B","$/kWh",2.9999999999999997E-4]
["GSL_TFD","GSL_TFD","Transformer Discount",null,null,null,"$/kWh",-3.2000000000000002E-3,{"$f":"H52","v":-3.2000000000000002E-3}]
["GSL_GA17","GSL_GA","Rate Rider for Disposition of GA (2018) - effective until April 30, 2019 - Applicable only for Non-RPP Customers","2019-04-30","Rate Rider",null,"$/kWh",null,{"$f":"ROUND('6. GA Calculation'!M18,4)","v":-8.9999999999999998E-4}]
["GSL_DVA17","GSL_DVA","Rate Rider for Disposition of Deferral/Variance Accounts (2018) effective until April 30, 2019","2019-04-30","Rate Rider",null,"$/kWh",null,{"$f":"ROUND('8. Calculation of Def-Var RR'!J18,4)","v":-1E-3}]
["GSL_CBR17","GSL_DVA","Rate Rider for Disposition of CBR Class B (2018) - Applicable only to Class B customers effective until April 30, 2019","2019-04-30","Rate Rider","Class B","$/kWh",null,{"$f":"ROUND('7. CBR Calculation'!O23,5)","v":0}]
["GSL_LRVA17","GSL_VRR","Rate Rider for Disposition of Lost Revenue Adjustment Mechanism Variance Account (LRAMVA) (2018) effective until April 30, 2019","2019-04-30","Rate Rider",null,"$/kWh",null,{"$f":"ROUND('8. Calculation of Def-Var RR'!L18,4)","v":0}]
["GSL_ICMF","GSL_FRR","Rate Rider for Incremental Capital Module (ICM) - effective until the date of the next cost of service based rate order","next COS","Rate Rider",null,"$",{"$f":"IFERROR(VLOOKUP(A57,RATES,4,FALSE),\"\")","v":""},{"$f":"'19. Additional Rates'!D27","v":0.24}]
["GSL_ICMV","GSL_VRR","Rate Rider for Incremental Capital Module (ICM) - effective until the date of the next cost of service based rate order","next COS","Rate Rider",null,"$/kWh","",{"$f":"'19. Additional Rates'!D28","v":2.0000000000000001E-4}]
["GSL_FRF","GSL_FRR","Rate Rider for Recovery of 2018 Foregone Revenue - effective until December 31, 2018","2018-12-31","Rate Rider",null,"$",null,{"$f":"+'19. Additional Rates'!D29","v":0.42}]
["GSL_FRV","GSL_VRR","Rate Rider for Recovery of 2018 Foregone Revenue - effective until December 31, 2018","2018-12-31","Rate Rider",null,"$/kWh"]
[]
[]
[]
[]
[]
[]
[]
[]
["GSL_TN","GSL_TN","Retail Transmission Rate - Network Service Rate",null,"Rate",null,"$/kWh",6.6E-3,{"$f":"ROUND('16. RTSR-Rates to Forecast'!K44,4)","v":6.6E-3}]
["GSL_TC","GSL_TC","Retail Transmission Rate - Line and Transformation Connection Service Rate",null,"Rate",null,"$/kWh",4.7999999999999996E-3,{"$f":"ROUND('16. RTSR-Rates to Forecast'!K57,4)","v":5.4999999999999997E-3}]
[]
[]
[null,null,"GENERAL SERVICE GREATER THAN 50 KW"]
["GS50_699_F","GS50_699_F","Service Charge",null,"Rate",null,"$",125.33,{"$f":"ROUND('17. Rev2Cost-GDPIPI'!I19,2)","v":126.46}]
["GS50_699_V","GS50_699_V","Distribution Volumetric Rate",null,"Rate",null,"$/kW",2.8386999999999998,{"$f":"ROUND('17. Rev2Cost-GDPIPI'!J19,4)","v":2.8641999999999999}]
[]
["GS50_699_TFD","GS50_699_TFD","Transformer Discount",null,"Rate",null,"$/kW",-0.68400000000000005,{"$f":"H77","v":-0.68400000000000005}]
["GS50_699_GA16","GS50_699_GA","Rate Rider for Disposition of Global Adjustment Account (2017) - Applicable only for Non-RPP Customers"," December 31, 2017","Rate Rider","non-RPP","$/kWh",4.8999999999999998E-3]
["GS50_699_LRVA16","GS50_699_VRR","Rate Rider for Disposition of Lost Revenue Adjustment Mechanism Variance Account (LRAMVA) (2017)","2017-12-31","Rate Rider",null,"$/kW",7.5300000000000006E-2]
["GS50_699_DVA16","GS50_699_DVA","Rate Rider for Disposition of Deferral/Variance Accounts (2017)","2017-12-31","Rate Rider",null,"$/kW",-1.3502000000000001]
["GS50_699_1576","GS50_699_VRR","Rate Rider for Disposition of Account 1576","2017-12-31","Rate Rider",null,"$/kW",0.17710000000000001]
["GS50_699_CBR16","GS50_699_DVA","Rate Rider for Disposition of CBR Class B (2017) ","2017-12-31","Rate Rider","Class B","$/kW",0.1027]
["GS50_699_GA17","GS50_699_GA","Rate Rider for Disposition of GA (2018) - effective until April 30, 2019 - Applicable only for Non-RPP Customers","2019-04-30","Rate Rider",null,"$/kWh",null,{"$f":"ROUND('6. GA Calculation'!M19,4)","v":-8.9999999999999998E-4}]
["GS50_699_DVA17","GS50_699_DVA","Rate Rider for Disposition of Deferral/Variance Accounts (2018) effective until April 30, 2019","2019-04-30","Rate Rider",null,"$/kW",null,{"$f":"ROUND('8. Calculation of Def-Var RR'!J19,4)","v":5.4999999999999997E-3}]
["GS50_699_DVA17_nonWMP","GS50_699_DVA","Rate Rider for Disposition of Deferral/Variance Accounts (2018) - Applicable only to non-WMP effective until April 30, 2019","2019-04-30","Rate Rider",null,"$/kW",null,{"$f":"ROUND('8. Calculation of Def-Var RR'!K19,4)","v":-0.36259999999999998}]
["GS50_699_CBR17","GS50_699_DVA","Rate Rider for Disposition of CBR Class B (2018) - Applicable only to Class B customers effective until April 30, 2019","2019-04-30","Rate Rider","Class B","$/kW",null,{"$f":"ROUND('7. CBR Calculation'!O24,5)","v":0}]
["GS50_699_LRVA17","GS50_699_VRR","Rate Rider for Disposition of Lost Revenue Adjustment Mechanism Variance Account (LRAMVA) (2018) effective until April 30, 2019","2019-04-30","Rate Rider",null,"$/kW",null,{"$f":"ROUND('8. Calculation of Def-Var RR'!L19,4)","v":0}]
["GS50_699_ICMF","GS50_699_FRR","Rate Rider for Incremental Capital Module (ICM) - effective until the date of the next cost of service based rate order","next COS",{"$f":"E57","v":"Rate Rider"},null,"$",null,{"$f":"'19. Additional Rates'!D39","v":1.21}]
["GS50_699_ICMV","GS50_699_VRR","Rate Rider for Incremental Capital Module (ICM) - effective until the date of the next cost of service based rate order","next COS",{"$f":"E58","v":"Rate Rider"},null,"$/kW",null,{"$f":"'19. Additional Rates'!D40","v":2.7300000000000001E-2}]
[null,"GS50_699_FRR","Rate Rider for Recovery of 2018 Foregone Revenue - effective until December 31, 2018","2018-12-31","Rate Rider",null,"$",null,{"$f":"+'19. Additional Rates'!D41","v":2.62}]
[null,"GS50_699_VRR","Rate Rider for Recovery of 2018 Foregone Revenue - effective until December 31, 2018","2018-12-31","Rate Rider",null,"$/kW"]
[]
[]
[]
[]
[]
[]
["GS50_699_TN","GS50_699_TN","Retail Transmission Rate - Network Service Rate",null,"Rate",null,"$/kW",2.5604,{"$f":"ROUND('16. RTSR-Rates to Forecast'!K45,4)","v":2.5630000000000002}]
["GS50_699_TC","GS50_699_TC","Retail Transmission Rate - Line and Transformation Connection Service Rate",null,"Rate",null,"$/kW",1.9177,{"$f":"ROUND('16. RTSR-Rates to Forecast'!K58,4)","v":2.1878000000000002}]
[null,null,"GENERAL SERVICE GREATER THAN 700 KW"]
["GS700_F","GS700_F","Service Charge",null,"Rate",null,"$",1130.8399999999999,{"$f":"ROUND('17. Rev2Cost-GDPIPI'!I20,2)","v":1141.02}]
["GS700_V","GS700_V","Distribution Volumetric Rate",null,"Rate",null,"$/kW",3.2953000000000001,{"$f":"ROUND('17. Rev2Cost-GDPIPI'!J20,4)","v":3.3250000000000002}]
[]
["GS700_TFD","GS700_TFD","Transformer Discount",null,"Rate",null,"$/kW",-0.85150000000000003,{"$f":"H104","v":-0.85150000000000003}]
["GS700_GA16","GS700_GA","Rate Rider for Disposition of Global Adjustment Account (2017) - Applicable only for Non-RPP Customers"," December 31, 2017","Rate Rider","non-RPP","$/kWh",4.8999999999999998E-3]
["GS700_LRVA16","GS700_VRR","Rate Rider for Disposition of Lost Revenue Adjustment Mechanism Variance Account (LRAMVA) (2017)","2017-12-31","Rate Rider",null,"$/kW",2.0999999999999999E-3]
["GS700_DVA16_non","GS700_DVA","Rate Rider for Disposition of Deferral/Variance Accounts (2017) - Applicable only for Non-Wholesale Market Participants","2017-12-31","Rate Rider",null,"$/kW",-1.5808]
["GS700_DVA16","GS700_DVA","Rate Rider for Disposition of Deferral/Variance Accounts (2017) ","2017-12-31","Rate Rider",null,"$/kW",3.7199999999999997E-2]
["GS700_1576","GS700_VRR","Rate Rider for Disposition of Account 1576","2017-12-31","Rate Rider",null,"$/kW",0.2029]
["GS700_CBR16","GS700_DVA","Rate Rider for Disposition of CBR Class B (2017) - Applicable only to Class B customers","2017-12-31","Rate Rider","Class B","$/kW",0.1137]
["GS700_CBR16A","GS700_VRR_A","Rate Rider for Disposition of CBR Class B (2017) - For Class A , formerly Class B","2017-12-31","Rate Rider","Class A","$/kW",1.2999999999999999E-2,null,"not included in Bill impacts for Class  B"]
["GS700_GA17","GS700_GA","Rate Rider for Disposition of GA (2018) - effective until April 30, 2019 - Applicable only for Non-RPP Customers","2019-04-30","Rate Rider",null,"$/kWh",null,{"$f":"ROUND('6. GA Calculation'!M20,4)","v":-8.9999999999999998E-4}]
["GS700_DVA17","GS700_DVA","Rate Rider for Disposition of Deferral/Variance Accounts (2018) effective until April 30, 2019","2019-04-30","Rate Rider","non-WMP","$/kW",null,{"$f":"ROUND('8. Calculation of Def-Var RR'!J20,4)","v":6.7000000000000002E-3}]
["GS700_DVA17_nonWMP","GS700_DVA","Rate Rider for Disposition of Deferral/Variance Accounts (2018) - Applicable only to non-WMP effective until April 30, 2019","2019-04-30","Rate Rider",null,"$/kW",null,{"$f":"ROUND('8. Calculation of Def-Var RR'!K20,4)","v":-0.42249999999999999}]
["GS700_CBR17","GS700_DVA","Rate Rider for Disposition of CBR Class B (2018) - Applicable only to Class B customers effective until April 30, 2019","2019-04-30","Rate Rider","Class B","$/kW",null,{"$f":"ROUND('7. CBR Calculation'!O25,5)","v":0}]
["GS700_LRVA17","GS700_VRR","Rate Rider for Disposition of Lost Revenue Adjustment Mechanism Variance Account (LRAMVA) (2018) effective until April 30, 2019","2019-04-30","Rate Rider",null,"$/kW",null,{"$f":"ROUND('8. Calculation of Def-Var RR'!L20,4)","v":0}]
["GS700_ICMF","GS700_FRR","Rate Rider for Incremental Capital Module (ICM) - effective until the date of the next cost of service based rate order","next COS","Rate Rider",null,"$",null,{"$f":"'19. Additional Rates'!D51","v":10.89}]
["GS700_ICMV","GS700_VRR","Rate Rider for Incremental Capital Module (ICM) - effective until the date of the next cost of service based rate order","next COS","Rate Rider",null,"$/kW",null,{"$f":"'19. Additional Rates'!D52","v":3.1699999999999999E-2}]
[null,"GS700_FRR","Rate Rider for Recovery of 2018 Foregone Revenue - effective until December 31, 2018","2018-12-31","Rate Rider",null,"$",null,{"$f":"+'19. Additional Rates'!D53","v":27.52}]
[null,"GS700_VRR","Rate Rider for Recovery of 2018 Foregone Revenue - effective until December 31, 2018","2018-12-31","Rate Rider",null,"$/kW"]
[]
[]
[]
[]
["GS700_TN","GS700_TN","Retail Transmission Rate - Network Service Rate",null,"Rate",null,"$/kW",2.8714,{"$f":"ROUND('16. RTSR-Rates to Forecast'!K46,4)","v":2.8742999999999999}]
["GS700_TC","GS700_TC","Retail Transmission Rate - Line and Transformation Connection Service Rate",null,"Rate",null,"$/kW",2.0613999999999999,{"$f":"ROUND('16. RTSR-Rates to Forecast'!K59,4)","v":2.3517000000000001}]
[null,null,"LARGE USE"]
["LU_F","LU_F","Service Charge",null,"Rate",null,"$",4705.66,{"$f":"ROUND('17. Rev2Cost-GDPIPI'!I21,2)","v":4748.01}]
["LU_V","LU_V","Distribution Volumetric Rate",null,"Rate",null,"$/kW",2.4948999999999999,{"$f":"ROUND('17. Rev2Cost-GDPIPI'!J21,4)","v":2.5173999999999999}]
[]
["LU_GA16","LU_GA_B","Rate Rider for Disposition of Global Adjustment Account (2017)  - Applicable only for Non-RPP Customers","2017-12-31","Rate Rider","non-RPP","$/kWh",4.8999999999999998E-3,null,"removed - for bill impacts LU is class A only"]
["LU_LRVA16","LU_VRR","Rate Rider for Disposition of Lost Revenue Adjustment Mechanism Variance Account (LRAMVA) (2017)","2017-12-31","Rate Rider",null,"$/kW",4.07E-2]
["LU_DVA16","LU_DVA","Rate Rider for Disposition of Deferral/Variance Accounts (2017) ","2017-12-31","Rate Rider",null,"$/kW",-2.0206]
["LU_1576","LU_VRR","Rate Rider for Disposition of Account 1576","2017-12-31","Rate Rider",null,"$/kW",0.26340000000000002]
["LU_CBR16","LU_DVA_B","Rate Rider for Disposition of CBR Class B (2017) - Applicable only to Class B customers","2017-12-31","Rate Rider","Class B","$/kW",0.16020000000000001,null,"removed - for bill impacts LU is class A only"]
["LU_GA17","LU_GA_B","Rate Rider for Disposition of GA (2018) - effective until April 30, 2019 - Applicable only for Non-RPP Customers","2019-04-30","Rate Rider",null,"$/kWh",null,{"$f":"ROUND('6. GA Calculation'!M21,4)","v":-8.9999999999999998E-4}]
["LU_DVA17","LU_DVA","Rate Rider for Disposition of Deferral/Variance Accounts (2018) effective until April 30, 2019","2019-04-30","Rate Rider",null,"$/kW",null,{"$f":"ROUND('8. Calculation of Def-Var RR'!J21,4)","v":-0.55200000000000005}]
["LU_CBR17","LU_DVA_B","Rate Rider for Disposition of CBR Class B (2018) - Applicable only to Class B customers effective until April 30, 2019","2019-04-30","Rate Rider","Class B","$/kW",null,{"$f":"ROUND('7. CBR Calculation'!O26,5)","v":0},"removed - for bill impacts LU is class A only"]
["LU_LRVA17","LU_VRR","Rate Rider for Disposition of Lost Revenue Adjustment Mechanism Variance Account (LRAMVA) (2018) effective until April 30, 2019","2019-04-30","Rate Rider",null,"$/kW",null,{"$f":"ROUND('8. Calculation of Def-Var RR'!L21,4)","v":0}]
["LU_ICMF","LU_FRR","Rate Rider for Incremental Capital Module (ICM) - effective until the date of the next cost of service based rate order","next COS","Rate Rider",null,"$",null,{"$f":"'19. Additional Rates'!D63","v":45.33}]
["LU_ICMV","LU_VRR","Rate Rider for Incremental Capital Module (ICM) - effective until the date of the next cost of service based rate order","next COS","Rate Rider",null,"$/kW",null,{"$f":"'19. Additional Rates'!D64","v":2.4E-2}]
[null,"LU_FRR","Rate Rider for Recovery of 2018 Foregone Revenue - effective until December 31, 2018","2018-12-31","Rate Rider",null,"$",null,{"$f":"+'19. Additional Rates'!D65","v":120.14}]
[null,"LU_VRR","Rate Rider for Recovery of 2018 Foregone Revenue - effective until December 31, 2018","2018-12-31","Rate Rider",null,"$/kW"]
[]
[]
[]
[]
[]
[]
[]
["LU_TN","LU_TN","Retail Transmission Rate - Network Service Rate",null,"Rate",null,"$/kW",3.2498999999999998,{"$f":"ROUND('16. RTSR-Rates to Forecast'!K47,4)","v":3.2532000000000001}]
["LU_TC","LU_TC","Retail Transmission Rate - Line and Transformation Connection Service Rate",null,"Rate",null,"$/kW",2.3826000000000001,{"$f":"ROUND('16. RTSR-Rates to Forecast'!K60,4)","v":2.7181000000000002}]
[null,null,"UNMETERED SCATTERED LOAD"]
["USL_F","USL_F","Service Charge",null,"Rate",null,"$",1.0900000000000001,{"$f":"ROUND('17. Rev2Cost-GDPIPI'!I23,2)","v":1.1000000000000001}]
["USL_V","USL_V","Distribution Volumetric Rate",null,"Rate",null,"$/kWh",1.9800000000000002E-2,{"$f":"ROUND('17. Rev2Cost-GDPIPI'!J23,4)","v":0.02}]
[]
["USL_GA16","USL_GA","Rate Rider for Disposition of Global Adjustment Account (2017) - Applicable only for Non-RPP Customers","2017-12-31","Rate Rider","non-RPP","$/kWh",4.8999999999999998E-3]
["USL_LRVA16","USL_VRR","Rate Rider for Disposition of Lost Revenue Adjustment Mechanism Variance Account (LRAMVA) (2017)","2017-12-31","Rate Rider",null,"$/kWh",-2.9999999999999997E-4]
["USL_DVA16","USL_DVA","Rate Rider for Disposition of Deferral/Variance Accounts (2017)","2017-12-31","Rate Rider",null,"$/kWh",-3.7000000000000002E-3]
["USL_1576","USL_VRR","Rate Rider for Disposition of Account 1576","2017-12-31","Rate Rider",null,"$/kWh",5.0000000000000001E-4]
["USL_CBR16","USL_DVA","Rate Rider for Disposition of CBR Class B (2017) ","2017-12-31","Rate Rider","Class B","$/kWh",2.9999999999999997E-4]
["USL_GA17","USL_GA","Rate Rider for Disposition of GA (2018) - effective until April 30, 2019 - Applicable only for Non-RPP Customers","2019-04-30","Rate Rider",null,"$/kWh",null,{"$f":"ROUND('6. GA Calculation'!M23,4)","v":-8.9999999999999998E-4}]
["USL_DVA17","USL_DVA","Rate Rider for Disposition of Deferral/Variance Accounts (2018) effective until April 30, 2019","2019-04-30","Rate Rider",null,"$/kWh",null,{"$f":"ROUND('8. Calculation of Def-Var RR'!J23,4)","v":-1E-3}]
["USL_CBR17","USL_DVA","Rate Rider for Disposition of CBR Class B (2018) - Applicable only to Class B customers effective until April 30, 2019","2019-04-30","Rate Rider","Class B","$/kWh",null,{"$f":"ROUND('7. CBR Calculation'!O28,5)","v":0}]
["USL_LRVA17","USL_VRR","Rate Rider for Disposition of Lost Revenue Adjustment Mechanism Variance Account (LRAMVA) (2018) effective until April 30, 2019","2019-04-30","Rate Rider",null,"$/kWh",null,{"$f":"ROUND('8. Calculation of Def-Var RR'!L23,4)","v":0}]
["USL_ICMF","USL_FRR","Rate Rider for Incremental Capital Module (ICM) - effective until the date of the next cost of service based rate order","next COS","Rate Rider",null,"$",null,{"$f":"'19. Additional Rates'!D75","v":0.01}]
["USL_ICMV","USL_VRR","Rate Rider for Incremental Capital Module (ICM) - effective until the date of the next cost of service based rate order","next COS","Rate Rider",null,"$/kWh",null,{"$f":"'19. Additional Rates'!D76","v":2.0000000000000001E-4}]
[null,"USL_FRR","Rate Rider for Recovery of 2018 Foregone Revenue - effective until December 31, 2018","2018-12-31","Rate Rider",null,"$",null,{"$f":"+'19. Additional Rates'!D77","v":0.04}]
[null,"USL_VRR","Rate Rider for Recovery of 2018 Foregone Revenue - effective until December 31, 2018","2018-12-31","Rate Rider",null,"$/kWh"]
[]
[]
[]
[]
[]
[]
[]
["USL_TN","USL_TN","Retail Transmission Rate - Network Service Rate",null,"Rate",null,"$/kWh",6.6E-3,{"$f":"ROUND('16. RTSR-Rates to Forecast'!K49,4)","v":6.6E-3}]
["USL_TC","USL_TC","Retail Transmission Rate - Line and Transformation Connection Service Rate",null,"Rate",null,"$/kWh",4.7999999999999996E-3,{"$f":"ROUND('16. RTSR-Rates to Forecast'!K62,4)","v":5.4999999999999997E-3}]
[null,null,"STREET LIGHTING"]
["SL_F","SL_F","Service Charge (per connection)",null,"Rate",null,"$",2.2999999999999998,{"$f":"ROUND('17. Rev2Cost-GDPIPI'!I24,2)","v":2.3199999999999998}]
["SL_V","SL_V","Distribution Volumetric Rate",null,"Rate",null,"$/kW",11.5388,{"$f":"ROUND('17. Rev2Cost-GDPIPI'!J24,4)","v":11.6426}]
[]
["SL_GA16","SL_GA","Rate Rider for Disposition of Global Adjustment Account (2017) - Applicable only for Non-RPP Customers","2017-12-31","Rate Rider","non-RPP","$/kWh",4.8999999999999998E-3]
["SL_LRVA16","SL_VRR","Rate Rider for Disposition of Lost Revenue Adjustment Mechanism Variance Account (LRAMVA) (2017)","2017-12-31","Rate Rider",null,"$/kW",3.8800000000000001E-2]
["SL_DVA16","SL_DVA","Rate Rider for Disposition of Deferral/Variance Accounts (2017)","2017-12-31","Rate Rider",null,"$/kW",-1.2356]
["SL_1576","SL_VRR","Rate Rider for Disposition of Account 1576","2017-12-31","Rate Rider",null,"$/kW",0.16400000000000001]
["SL_CBR16","SL_DVA","Rate Rider for Disposition of CBR Class B (2017) ","2017-12-31","Rate Rider","Class B","$/kW",9.4E-2]
["SL_GA17","SL_GA","Rate Rider for Disposition of GA (2018) - effective until April 30, 2019 - Applicable only for Non-RPP Customers","2019-04-30","Rate Rider",null,"$/kWh",null,{"$f":"ROUND('6. GA Calculation'!M24,4)","v":-8.9999999999999998E-4}]
["SL_DVA17","SL_DVA","Rate Rider for Disposition of Deferral/Variance Accounts (2018) effective until April 30, 2019","2019-04-30","Rate Rider",null,"$/kW",null,{"$f":"ROUND('8. Calculation of Def-Var RR'!J24,4)","v":-0.32190000000000002}]
["SL_CBR17","SL_DVA","Rate Rider for Disposition of CBR Class B (2018) effective until April 30, 2019","2019-04-30","Rate Rider","Class B","$/kW",null,{"$f":"ROUND('7. CBR Calculation'!O29,5)","v":0}]
["SL_LRVA17","SL_VRR","Rate Rider for Disposition of Lost Revenue Adjustment Mechanism Variance Account (LRAMVA) (2018) effective until April 30, 2019","2019-04-30","Rate Rider",null,"$/kW",null,{"$f":"ROUND('8. Calculation of Def-Var RR'!L24,4)","v":0}]
["SL_ICMF","SL_FRR","Rate Rider for Incremental Capital Module (ICM) - effective until the date of the next cost of service based rate order","next COS","Rate Rider",null,"$",null,{"$f":"'19. Additional Rates'!D87","v":0.02}]
["SL_ICMV","SL_VRR","Rate Rider for Incremental Capital Module (ICM) - effective until the date of the next cost of service based rate order","next COS","Rate Rider",null,"$/kW",null,{"$f":"'19. Additional Rates'!D88","v":0.11119999999999999}]
[null,"SL_FRR","Rate Rider for Recovery of 2018 Foregone Revenue - effective until December 31, 2018","2018-12-31","Rate Rider",null,"$",null,{"$f":"+'19. Additional Rates'!D89","v":0.03}]
[null,"SL_VRR","Rate Rider for Recovery of 2018 Foregone Revenue - effective until December 31, 2018","2018-12-31","Rate Rider",null,"$/kW"]
[]
[]
[]
[]
[]
["SL_TN","SL_TN","Retail Transmission Rate - Network Service Rate",null,"Rate",null,"$/kW",2.1318999999999999,{"$f":"ROUND('16. RTSR-Rates to Forecast'!K50,4)","v":2.1341000000000001}]
["SL_TC","SL_TC","Retail Transmission Rate - Line and Transformation Connection Service Rate",null,"Rate",null,"$/kW",1.5966,{"$f":"ROUND('16. RTSR-Rates to Forecast'!K63,4)","v":1.8214999999999999}]
[null,null,"STANDBY POWER"]
[]
[null,null,"Distribution Volumetric Rate",null,"Rate",null,"$/kW",1.6779999999999999,{"$f":"ROUND('17. Rev2Cost-GDPIPI'!J22,4)","v":1.6931}]
[]
[]
[]
[]
[null,null,"EMBEDDED DISTRIBUTOR "]
["EMD_F","EMD_F","Service Charge",null,"Rate",null,"$",4159.82,{"$f":"ROUND('17. Rev2Cost-GDPIPI'!I25,2)","v":4197.26}]
["EMD_GA16","EMD_GA","Rate Rider for Disposition of Global Adjustment Account (2017) - Applicable only for Non-RPP Customers","2017-12-31","Rate Rider","non-RPP","$/kWh",4.8999999999999998E-3]
["EMD_DVA16","EMD_DVA","Rate Rider for Disposition of Deferral/Variance Accounts (2017)","2017-12-31","Rate Rider",null,"$/kWh",-3.7000000000000002E-3]
["EMD_CBR16","EMD_DVA","Rate Rider for Disposition of CBR Class B (2017) ","2017-12-31","Rate Rider","Class B","$/kWh",2.9999999999999997E-4]
["EMD_GA17","EMD_GA","Rate Rider for Disposition of GA (2018) - effective until April 30, 2019 - Applicable only for Non-RPP Customers","2019-04-30","Rate Rider",null,"$/kWh",null,{"$f":"ROUND('6. GA Calculation'!M25,4)","v":-8.9999999999999998E-4}]
["EMD_DVA17","EMD_DVA","Rate Rider for Disposition of Deferral/Variance Accounts (2018) effective until April 30, 2019","2019-04-30","Rate Rider",null,"$/kWh",null,{"$f":"ROUND('8. Calculation of Def-Var RR'!J25,4)","v":-8.9999999999999998E-4}]
["EMD_CBR17","EMD_DVA","Rate Rider for Disposition of CBR Class B (2018) effective until April 30, 2019","2019-04-30","Rate Rider","Class B","$/kWh",null,{"$f":"ROUND('7. CBR Calculation'!O30,5)","v":0}]
["EMD_ICMF","EMD_FRR","Rate Rider for Incremental Capital Module (ICM) - effective until the date of the next cost of service based rate order","next COS","Rate Rider",null,"$",null,{"$f":"'19. Additional Rates'!D99","v":40.07}]
[null,"EMD_FRR","Rate Rider for Recovery of 2018 Foregone Revenue - effective until December 31, 2018","2018-12-31","Rate Rider",null,"$",null,{"$f":"+'19. Additional Rates'!D100","v":18.72}]
[]
[]
[]
[]
[]
[]
[]
[]
[]
["EMD_TN","EMD_TN","Retail Transmission Rate - Network Service Rate",null,"Rate",null,"$/kW",2.8714,{"$f":"ROUND('16. RTSR-Rates to Forecast'!K51,4)","v":2.8742999999999999}]
["EMD_TC","EMD_TC","Retail Transmission Rate - Line and Transformation Connection Service Rate",null,"Rate",null,"$/kW",2.0613999999999999,{"$f":"ROUND('16. RTSR-Rates to Forecast'!K64,4)","v":2.3517000000000001}]
[null,null,"DISTRIBUTED GENERATION (DGEN)"]
["DG_F","DG_F","Service Charge",null,"Rate",null,"$",103.97,{"$f":"ROUND('17. Rev2Cost-GDPIPI'!I26,2)","v":104.91}]
["DG_GA16","DG_GA","Rate Rider for Disposition of Global Adjustment Account (2017) - Applicable only for Non-RPP Customers","2017-12-31","Rate Rider","non-RPP","$/kWh",4.8999999999999998E-3]
["DG_DVA16","DG_DVA","Rate Rider for Disposition of Deferral/Variance Accounts (2017)","2017-12-31","Rate Rider",null,"$/kWh",-3.7000000000000002E-3]
["DG_1576","DG_VRR","Rate Rider for Disposition of Account 1576","2017-12-31","Rate Rider",null,"$/kWh",5.0000000000000001E-4]
["DG_CBR16","DG_DVA","Rate Rider for Disposition of CBR Class B (2017) ","2017-12-31","Rate Rider","Class B","$/kWh",2.9999999999999997E-4]
["DG_GA17","DG_GA","Rate Rider for Disposition of GA (2018) - effective until April 30, 2019 - Applicable only for Non-RPP Customers","2019-04-30","Rate Rider",null,"$/kWh",null,{"$f":"ROUND('6. GA Calculation'!M26,4)","v":-8.9999999999999998E-4}]
["DG_DVA17","DG_DVA","Rate Rider for Disposition of Deferral/Variance Accounts (2018) effective until April 30, 2019","2019-04-30","Rate Rider",null,"$/kWh",null,{"$f":"ROUND('8. Calculation of Def-Var RR'!J26,4)","v":-8.9999999999999998E-4}]
["DG_CBR17","DG_DVA","Rate Rider for Disposition of CBR Class B (2018) effective until April 30, 2019","2019-04-30","Rate Rider","Class B","$/kWh",null,{"$f":"ROUND('7. CBR Calculation'!O31,5)","v":0}]
["DG_ICMF","DG_FRR","Rate Rider for Incremental Capital Module (ICM) - effective until the date of the next cost of service based rate order","next COS","Rate Rider",null,"$",null,{"$f":"'19. Additional Rates'!D111","v":1}]
[null,"DG_FRR","Rate Rider for Recovery of 2018 Foregone Revenue - effective until December 31, 2018","2018-12-31","Rate Rider",null,"$",null,{"$f":"+'19. Additional Rates'!D112","v":0.47}]
[]
[]
[]
[]
[]
[]
[]
[]
[]
["DG_TN","DG_TN","Retail Transmission Rate - Network Service Rate",null,"Rate",null,"$/kWh",6.6E-3,{"$f":"ROUND('16. RTSR-Rates to Forecast'!K52,4)","v":6.6E-3}]
["DG_TC","DG_TC","Retail Transmission Rate - Line and Transformation Connection Service Rate",null,"Rate",null,"$/kWh",4.7999999999999996E-3,{"$f":"ROUND('16. RTSR-Rates to Forecast'!K65,4)","v":5.4999999999999997E-3}]
[]
[null,null,"ENERGY FROM WASTE"]
["WST_F","WST_F","Service Charge",null,"Rate",null,"$",63.09,{"$f":"ROUND('17. Rev2Cost-GDPIPI'!I27,2)","v":63.66}]
[]
[]
[null,null,"MICROFIT "]
[null,null,"Service Charge",null,"Rate",null,"$",5.4,{"$f":"'17. Rev2Cost-GDPIPI'!I28","v":5.4}]

{"sheet":"BoD Reporting","index":28,"n_rows":76,"n_cols":16,"rows_kept":76,"cut":false,"hidden":false,"merged":[[1,1,1,5],[2,1,3,1],[2,2,3,2],[2,3,3,3],[2,4,2,5],[15,1,15,2],[17,1,17,5],[18,1,19,1],[18,2,19,2],[18,3,19,3],[18,4,18,5],[18,12,18,13],[18,14,18,15],[27,1,27,13],[29,1,29,5],[30,1,31,1],[30,2,31,2],[30,3,31,3],[30,4,30,5],[18,7,18,10],[63,4,63,5],[62,1,62,5],[43,1,43,2],[60,1,60,2],[63,1,64,1],[63,2,64,2],[63,3,64,3],[45,1,45,5],[46,1,47,1],[46,2,47,2],[46,3,47,3],[46,4,46,5]]}
["Back to Index"]
[null,"Distribution Bill Impacts"]
[null,"Customer Class","Billing Units","Average Monthly Volume","2018 vs. 2017"]
[null,null,null,null,"$","%"]
[{"$f":"'21. Bill Impacts'!E15","v":"RESIDENTIAL SERVICE CLASSIFICATION"},"Residential",{"$f":"'21. Bill Impacts'!G15","v":"kWh"},{"$f":"'21. Bill Impacts'!K15","v":750},{"$f":"'21. Bill Impacts'!H40","v":0.43000000000000327},{"$f":"'21. Bill Impacts'!I40","v":1.7849730178497437E-2}]
[{"$f":"'21. Bill Impacts'!E16","v":"GENERAL SERVICE LESS THAN 50 kW SERVICE CLASSIFICATION"},"GS<50",{"$f":"'21. Bill Impacts'!G16","v":"kWh"},{"$f":"'21. Bill Impacts'!K16","v":2000},{"$f":"'21. Bill Impacts'!H41","v":-2.1099999999999994},{"$f":"'21. Bill Impacts'!I41","v":-3.385750962772785E-2}]
[{"$f":"'21. Bill Impacts'!E17","v":"GENERAL SERVICE 50 to 699 KW SERVICE CLASSIFICATION"},"GS 50-699 kW",{"$f":"'21. Bill Impacts'!G17","v":"kW"},{"$f":"'21. Bill Impacts'!L17","v":500},{"$f":"'21. Bill Impacts'!H42","v":-94.839999999999918},{"$f":"'21. Bill Impacts'!I42","v":-5.6760509432155465E-2}]
[{"$f":"'21. Bill Impacts'!E18","v":"GENERAL SERVICE 700 to 4,999 KW SERVICE CLASSIFICATION"},"GS 700-4,999 kW",{"$f":"'21. Bill Impacts'!G18","v":"kW"},{"$f":"'21. Bill Impacts'!L18","v":1432},{"$f":"'21. Bill Impacts'!H43","v":-157.04520000000048},{"$f":"'21. Bill Impacts'!I43","v":-2.5563781215136718E-2}]
[{"$f":"'21. Bill Impacts'!E19","v":"LARGE USE SERVICE CLASSIFICATION"},"Large User",{"$f":"'21. Bill Impacts'!G19","v":"kW"},{"$f":"'21. Bill Impacts'!L19","v":20000},{"$f":"'21. Bill Impacts'!H44","v":-4944.18},{"$f":"'21. Bill Impacts'!I44","v":-8.1471965535185736E-2}]
[{"$f":"'21. Bill Impacts'!E20","v":"STANDBY POWER SERVICE CLASSIFICATION "},"Stanby Power",{"$f":"'21. Bill Impacts'!G20","v":"kW"},{"$f":"'21. Bill Impacts'!L21","v":0},{"$f":"'21. Bill Impacts'!H45","v":0},{"$f":"'21. Bill Impacts'!I45","v":0}]
[{"$f":"'21. Bill Impacts'!E21","v":"UNMETERED SCATTERED LOAD SERVICE CLASSIFICATION"},"Unmetered Scattered Load",{"$f":"'21. Bill Impacts'!G21","v":"kWh"},{"$f":"'21. Bill Impacts'!L22","v":7922},{"$f":"'21. Bill Impacts'!H46","v":15.419199999999819},{"$f":"'21. Bill Impacts'!I46","v":2.4527089364680139E-2}]
[{"$f":"'21. Bill Impacts'!E22","v":"STREET LIGHTING SERVICE CLASSIFICATION"},"Street Lighting",{"$f":"'21. Bill Impacts'!G22","v":"kW"},{"$f":"'21. Bill Impacts'!L23","v":4000},{"$f":"'21. Bill Impacts'!H47","v":1539.628400000016},{"$f":"'21. Bill Impacts'!I47","v":1.0963737535893229E-2}]
[{"$f":"'21. Bill Impacts'!E23","v":"EMBEDDED DISTRIBUTOR SERVICE CLASSIFICATION"},"Embedded Distributor",{"$f":"'21. Bill Impacts'!G23","v":"kWh"},{"$f":"'21. Bill Impacts'!K23","v":1417701},{"$f":"'21. Bill Impacts'!H48","v":96.230000000000473},{"$f":"'21. Bill Impacts'!I48","v":2.3133212494771523E-2}]
[{"$f":"'21. Bill Impacts'!E24","v":"DISTRIBUTED GENERATION [DGEN] SERVICE CLASSIFICATION"},"Distributed Generation",{"$f":"'21. Bill Impacts'!G24","v":"kWh"},{"$f":"'21. Bill Impacts'!K24","v":156},{"$f":"'21. Bill Impacts'!H49","v":2.3319999999999936},{"$f":"'21. Bill Impacts'!I49","v":2.2412732584960727E-2}]
[{"$f":"'21. Bill Impacts'!E25","v":"ENERGY FROM WASTE SERVICE CLASSIFICATION"},"Energy from Waste Service",{"$f":"'21. Bill Impacts'!G25","v":"kWh"},{"$f":"'21. Bill Impacts'!K25","v":0},{"$f":"'21. Bill Impacts'!H50","v":0.56999999999999318},{"$f":"'21. Bill Impacts'!I50","v":9.0347123157393117E-3}]
[null,"Table excludes the impact of HST (13%) & Provincial Rebate (8%)"]
[]
[null,"Distribution Bill and Horizon Rate Rider Bill Impacts"]
[null,"Customer Class","Billing Units","Average Monthly Volume","2017 vs. 2016",null,null,2018,null,null,null,null,2019,null,2020]
[null,null,null,null,"$","%",null,"$",null,null,"%",null,"$","%","$","%"]
[null,"Residential ","kWh",750,{"$f":"+#REF!+#REF!","v":{"$error":"#REF!"}},{"$f":"E21/SUM([4]Residential!$K$7+[4]Residential!$K$8)","v":{"$error":"#REF!"}},null,{"$f":"+#REF!+#REF!","v":{"$error":"#REF!"}},null,null,{"$f":"H21/SUM([4]Residential!$L$7+[4]Residential!$L$8)","v":{"$error":"#REF!"}},null,{"$f":"+#REF!+#REF!","v":{"$error":"#REF!"}},{"$f":"M21/SUM([4]Residential!$M$7+[4]Residential!$M$8)","v":{"$error":"#REF!"}},{"$f":"+#REF!+#REF!","v":{"$error":"#REF!"}},{"$f":"O21/SUM([4]Residential!$M$7+[4]Residential!$M$8)","v":{"$error":"#REF!"}}]
[null,"GS < 50kW ","kWh",2000,{"$f":"+#REF!+#REF!","v":{"$error":"#REF!"}},{"$f":"E22/SUM('[4]GS < 50 kW'!$K$7+'[4]GS < 50 kW'!$K$8)","v":{"$error":"#REF!"}},null,{"$f":"+#REF!+#REF!","v":{"$error":"#REF!"}},null,null,{"$f":"H22/SUM('[4]GS < 50 kW'!$L$7+'[4]GS < 50 kW'!$L$8)","v":{"$error":"#REF!"}},null,{"$f":"+#REF!+#REF!","v":{"$error":"#REF!"}},{"$f":"M22/SUM('[4]GS < 50 kW'!$M$7+'[4]GS < 50 kW'!$M$8)","v":{"$error":"#REF!"}},{"$f":"+#REF!+#REF!","v":{"$error":"#REF!"}},{"$f":"O22/SUM('[4]GS < 50 kW'!$M$7+'[4]GS < 50 kW'!$M$8)","v":{"$error":"#REF!"}}]
[null,"GS > 50kW","kW",250,{"$f":"+#REF!+#REF!","v":{"$error":"#REF!"}},{"$f":"E23/SUM('[4]GS > 50 kW 250'!$K$7+'[4]GS > 50 kW 250'!$K$8)","v":{"$error":"#REF!"}},null,{"$f":"+#REF!+#REF!","v":{"$error":"#REF!"}},null,null,{"$f":"H23/SUM('[4]GS > 50 kW 250'!$L$7+'[4]GS > 50 kW 250'!$L$8)","v":{"$error":"#REF!"}},null,{"$f":"+#REF!+#REF!","v":{"$error":"#REF!"}},{"$f":"M23/SUM('[4]GS > 50 kW 250'!$M$7+'[4]GS > 50 kW 250'!$M$8)","v":{"$error":"#REF!"}},{"$f":"+#REF!+#REF!","v":{"$error":"#REF!"}},{"$f":"O23/SUM('[4]GS > 50 kW 250'!$M$7+'[4]GS > 50 kW 250'!$M$8)","v":{"$error":"#REF!"}}]
[null,"LU (1) - Class A","kW",5000,{"$f":"+#REF!+#REF!","v":{"$error":"#REF!"}},{"$f":"E24/SUM('[4]Large User 5,000'!$K$7+'[4]Large User 5,000'!$K$8)","v":{"$error":"#REF!"}},null,{"$f":"+#REF!+#REF!","v":{"$error":"#REF!"}},null,null,{"$f":"H24/SUM('[4]Large User 5,000'!$L$7+'[4]Large User 5,000'!$L$8)","v":{"$error":"#REF!"}},null,{"$f":"+#REF!+#REF!","v":{"$error":"#REF!"}},{"$f":"M24/SUM('[4]Large User 5,000'!$M$7+'[4]Large User 5,000'!$M$8)","v":{"$error":"#REF!"}},{"$f":"+#REF!+#REF!","v":{"$error":"#REF!"}},{"$f":"O24/SUM('[4]Large User 5,000'!$M$7+'[4]Large User 5,000'!$M$8)","v":{"$error":"#REF!"}}]
[null,"LU (1) - Class A","kW",10000,{"$f":"+#REF!+#REF!","v":{"$error":"#REF!"}},{"$f":"E25/SUM('[4]Large User 10,000'!$K$7+'[4]Large User 10,000'!$K$8)","v":{"$error":"#REF!"}},null,{"$f":"+#REF!+#REF!","v":{"$error":"#REF!"}},null,null,{"$f":"H25/SUM('[4]Large User 10,000'!$L$7+'[4]Large User 10,000'!$L$8)","v":{"$error":"#REF!"}},null,{"$f":"+#REF!+#REF!","v":{"$error":"#REF!"}},{"$f":"M25/SUM('[4]Large User 10,000'!$M$7+'[4]Large User 10,000'!$M$8)","v":{"$error":"#REF!"}},{"$f":"+#REF!+#REF!","v":{"$error":"#REF!"}},{"$f":"O25/SUM('[4]Large User 10,000'!$M$7+'[4]Large User 10,000'!$M$8)","v":{"$error":"#REF!"}}]
[null,"LU (2) - Class A","kW",20000,{"$f":"+#REF!+#REF!","v":{"$error":"#REF!"}},{"$f":"E26/SUM('[4]Super User'!$K$7+'[4]Super User'!$K$8)","v":{"$error":"#REF!"}},null,{"$f":"+#REF!+#REF!","v":{"$error":"#REF!"}},null,null,{"$f":"H26/SUM('[4]Super User'!$L$7+'[4]Super User'!$L$8)","v":{"$error":"#REF!"}},null,{"$f":"+#REF!+#REF!","v":{"$error":"#REF!"}},{"$f":"M26/SUM('[4]Super User'!$M$7+'[4]Super User'!$M$8)","v":{"$error":"#REF!"}},{"$f":"+#REF!+#REF!","v":{"$error":"#REF!"}},{"$f":"O26/SUM('[4]Super User'!$M$7+'[4]Super User'!$M$8)","v":{"$error":"#REF!"}}]
[null,"Street Lighting","kW",4973,{"$f":"([4]StreetLighting!$L$7+[4]StreetLighting!$L$8)-([4]StreetLighting!$K$7+[4]StreetLighting!$K$8)","v":-6930.5675750000082},{"$f":"E27/([4]StreetLighting!$K$7+[4]StreetLighting!$K$8)","v":-6.1722264151348245E-2},null,{"$f":"([4]StreetLighting!$M$7+[4]StreetLighting!$M$8)-([4]StreetLighting!$L$7+[4]StreetLighting!$L$8)","v":-5926.391678},null,null,{"$f":"H27/([4]StreetLighting!$L$7+[4]StreetLighting!$L$8)","v":-5.6251225190498404E-2},null,{"$f":"([4]StreetLighting!$N$7+[4]StreetLighting!$N$8)-([4]StreetLighting!$M$7+[4]StreetLighting!$M$8)","v":-2891.6209729999973},{"$f":"M27/([4]StreetLighting!$M$7+[4]StreetLighting!$M$8)","v":-2.9082156052899499E-2},{"$f":"([4]StreetLighting!$N$7+[4]StreetLighting!$N$8)-([4]StreetLighting!$M$7+[4]StreetLighting!$M$8)","v":-2891.6209729999973},{"$f":"O27/([4]StreetLighting!$M$7+[4]StreetLighting!$M$8)","v":-2.9082156052899499E-2}]
[null,"Table excludes the impact of HST (13%) and OCEB (10%)"]
[]
[null,"Distribution Bill and All Rate Rider Bill Impacts"]
[null,"Customer Class","Billing Units","Average Monthly Volume",{"$f":"E3","v":"2018 vs. 2017"}]
[null,null,null,null,"$","%",null,null,"Monthly kWh","Monthly kW","DVA (2018)","DVA (non-WMP)","CBR (Class B)","GA Rate Rider"]
[null,{"$f":"B5","v":"Residential"},{"$f":"C5","v":"kWh"},{"$f":"D5","v":750},{"$f":"'21. Bill Impacts'!J40","v":2.3050000000000033},{"$f":"'21. Bill Impacts'!K40","v":9.549953965493066E-2},null,{"$f":"B33","v":"Residential"},{"$f":"'21. Bill Impacts'!H78","v":750},0,{"$f":"RATES!I25","v":-1E-3},0,{"$f":"RATES!I26","v":0},{"$f":"RATES!I24","v":-8.9999999999999998E-4}]
[null,{"$f":"B6","v":"GS<50"},"kWh",2000,{"$f":"'21. Bill Impacts'!J41","v":2.8899999999999935},{"$f":"'21. Bill Impacts'!K41","v":4.6996980744832779E-2},null,{"$f":"B34","v":"GS<50"},{"$f":"'21. Bill Impacts'!H131","v":2000},0,{"$f":"RATES!I54","v":-1E-3},0,{"$f":"RATES!I55","v":0},{"$f":"RATES!I53","v":-8.9999999999999998E-4}]
[null,{"$f":"B7","v":"GS 50-699 kW"},"kW",500,{"$f":"'21. Bill Impacts'!J42","v":-708.13999999999987},{"$f":"'21. Bill Impacts'!K42","v":-0.36476114928555969},null,"GS 50-699 kW",{"$f":"'21. Bill Impacts'!H185","v":182500},{"$f":"'21. Bill Impacts'!H184","v":500},{"$f":"RATES!I84","v":5.4999999999999997E-3},{"$f":"RATES!I85","v":-0.36259999999999998},{"$f":"RATES!I86","v":0},{"$f":"RATES!I83","v":-8.9999999999999998E-4}]
[null,{"$f":"B8","v":"GS 700-4,999 kW"},"kW",1432,{"$f":"'21. Bill Impacts'!J43","v":-2342.7067999999999},{"$f":"'21. Bill Impacts'!K43","v":-0.32678241596274804},null,"GS 700-4,999 kW",{"$f":"'21. Bill Impacts'!H238","v":627216},{"$f":"'21. Bill Impacts'!H237","v":1432},{"$f":"RATES!I113","v":6.7000000000000002E-3},{"$f":"RATES!I114","v":-0.42249999999999999},{"$f":"RATES!I115","v":0},{"$f":"RATES!I112","v":-8.9999999999999998E-4}]
[null,{"$f":"B9","v":"Large User"},"kW",20000,{"$f":"'21. Bill Impacts'!J44","v":24427.82},{"$f":"'21. Bill Impacts'!K44","v":1.2049042945378385},null,"Large User",{"$f":"'21. Bill Impacts'!H291","v":10220000},{"$f":"'21. Bill Impacts'!H290","v":20000},{"$f":"RATES!I137","v":-0.55200000000000005},0,0,{"$f":"RATES!I136","v":-8.9999999999999998E-4}]
[null,{"$f":"B10","v":"Stanby Power"},"kW",0,{"$f":"'21. Bill Impacts'!J45","v":0},{"$f":"'21. Bill Impacts'!K45","v":0},null,"Stanby Power"]
[null,{"$f":"B11","v":"Unmetered Scattered Load"},"kWh",7922,{"$f":"'21. Bill Impacts'!J46","v":-56.987200000000257},{"$f":"'21. Bill Impacts'!K46","v":-8.626529660734758E-2},null,"Unmetered Scattered Load"]
[null,{"$f":"B12","v":"Street Lighting"},"kW",4000,{"$f":"'21. Bill Impacts'!J47","v":-8134.2545999999857},{"$f":"'21. Bill Impacts'!K47","v":-5.6081216661384076E-2},null,"Street Lighting",{"$f":"'21. Bill Impacts'!H399","v":2787508},{"$f":"'21. Bill Impacts'!H398","v":7922},{"$f":"RATES!I189","v":-0.32190000000000002},0,{"$f":"RATES!I190","v":0},{"$f":"RATES!I188","v":-8.9999999999999998E-4}]
[null,{"$f":"B13","v":"Embedded Distributor"},"kWh",1417701,{"$f":"'21. Bill Impacts'!J48","v":-8116.4357999999993},{"$f":"'21. Bill Impacts'!K48","v":-0.73167482182768095}]
[null,{"$f":"B14","v":"Distributed Generation"},"kWh",156,{"$f":"'21. Bill Impacts'!J49","v":1.8171999999999997},{"$f":"'21. Bill Impacts'!K49","v":1.732850256690259E-2}]
[null,{"$f":"B15","v":"Energy from Waste Service"},"kWh",0,{"$f":"'21. Bill Impacts'!J50","v":0.56999999999999318},{"$f":"'21. Bill Impacts'!K50","v":9.0347123157393117E-3}]
[null,"Table excludes the impact of HST (13%) & Provincial Rebate (8%)"]
[]
[null,"Total Bill Impacts"]
[null,"Customer Class","Billing Units","Average Monthly Volume",{"$f":"E3","v":"2018 vs. 2017"}]
[null,null,null,null,"$","%",null,null,"Distr. Bill Impact","Current (2017) \nRate Riders Amount","DVA (2018)","DVA (non-WMP)","CBR (Class B)","GA Rate Rider","Total Rate\nRiders (2018)","Table 71"]
[null,null,null,null,null,null,null,null,"A","B","C","D","E","F","G = C+D+E+F","G - B + A"]
[null,{"$f":"B5","v":"Residential"},{"$f":"C5","v":"kWh"},750,{"$f":"'21. Bill Impacts'!P40","v":2.9254600000000011},{"$f":"'21. Bill Impacts'!Q40","v":2.949319493316618E-2},null,{"$f":"H33","v":"Residential"},{"$f":"E5","v":0.43000000000000327},{"$f":"'21. Bill Impacts'!I78","v":-2.625},{"$f":"K33*I33","v":-0.75},{"$f":"L33*J33","v":0},{"$f":"M33*I33","v":0},0,{"$f":"SUM(K50:N50)","v":-0.75},{"$f":"O50-J50+I50","v":2.3050000000000033}]
[null,{"$f":"B6","v":"GS<50"},"kWh",2000,{"$f":"'21. Bill Impacts'!P41","v":4.3377399999999966},{"$f":"'21. Bill Impacts'!Q41","v":1.596478427118481E-2},null,{"$f":"H34","v":"GS<50"},{"$f":"E6","v":-2.1099999999999994},{"$f":"'21. Bill Impacts'!I131","v":-7},{"$f":"K34*I34","v":-2},{"$f":"L34*J34","v":0},{"$f":"M34*I34","v":0},0,{"$f":"SUM(K51:N51)","v":-2},{"$f":"O51-J51+I51","v":2.8900000000000006}]
[null,{"$f":"B7","v":"GS 50-699 kW"},"kW",500,{"$f":"'21. Bill Impacts'!P42","v":-571.79000000000087},{"$f":"'21. Bill Impacts'!Q42","v":-2.119889641464524E-2},null,"GS 50-699 kW",-94.839999999999918,{"$f":"'21. Bill Impacts'!I184+'21. Bill Impacts'!I185","v":270.5},{"$f":"K35*J35","v":2.75},-181.29999999999998,{"$f":"M35*J35","v":0},{"$f":"N35*I35","v":-164.25},-342.79999999999995,-708.13999999999987]
[null,{"$f":"B8","v":"GS 700-4,999 kW"},"kW",1432,{"$f":"'21. Bill Impacts'!P43","v":-1922.8443999999872},{"$f":"'21. Bill Impacts'!Q43","v":-2.0773043087607263E-2},null,"GS 700-4,999 kW",-157.04520000000048,{"$f":"'21. Bill Impacts'!I237+'21. Bill Impacts'!I238","v":1025.7415999999998},{"$f":"K36*J36","v":9.5944000000000003},-605.02,{"$f":"M36*J36","v":0},{"$f":"N36*I36","v":-564.49439999999993},-1159.92,-2342.7068000000004]
[null,{"$f":"B9","v":"Large User"},"kW",20000,{"$f":"'21. Bill Impacts'!P44","v":31203.820000000065},{"$f":"'21. Bill Impacts'!Q44","v":2.250647319085566E-2},null,"Large User",-4944.18,{"$f":"'21. Bill Impacts'!I290","v":-40412},-11040.000000000002,0,0,0,-11040.000000000002,24427.82]
[null,{"$f":"B10","v":"Stanby Power"},"kW",0,{"$f":"'21. Bill Impacts'!P45","v":0},{"$f":"'21. Bill Impacts'!Q45","v":0},null,"Stanby Power",0,null,0,0,0,{"$f":"N38*I38","v":0},0,0]
[null,{"$f":"B11","v":"Unmetered Scattered Load"},"kWh",7922,{"$f":"'21. Bill Impacts'!P46","v":-41.571664480000436},{"$f":"'21. Bill Impacts'!Q46","v":-1.1639803673633198E-2},null,"Unmetered Scattered Load",15.419199999999819,null,0,0,0,{"$f":"N39*I39","v":0},0,15.419199999999819]
[null,{"$f":"B12","v":"Street Lighting"},"kW",4000,{"$f":"'21. Bill Impacts'!P47","v":-6335.1683999999659},{"$f":"'21. Bill Impacts'!Q47","v":-1.2119940190639066E-2},null,"Street Lighting",1539.628400000016,{"$f":"'21. Bill Impacts'!I398+'21. Bill Impacts'!I399","v":4615.0339999999997},-2550.0918000000001,0,0,{"$f":"N40*I40","v":-2508.7572},-5058.8490000000002,-8134.2545999999838]
[null,{"$f":"B13","v":"Embedded Distributor"},"kWh",1417701,{"$f":"'21. Bill Impacts'!P48","v":-6943.6357999999891},{"$f":"'21. Bill Impacts'!Q48","v":-3.3648462678664816E-2},null,null,96.230000000000473]
[null,{"$f":"B14","v":"Distributed Generation"},"kWh",156,{"$f":"'21. Bill Impacts'!P49","v":1.6801237199999974},{"$f":"'21. Bill Impacts'!Q49","v":1.3349839423078731E-2},null,null,2.3319999999999936]
[null,"Energy from Waste Service","kWh",0,{"$f":"'21. Bill Impacts'!P50","v":0.56999999999999318},{"$f":"'21. Bill Impacts'!Q50","v":9.0347123157393117E-3},null,null,0.56999999999999318]
[null,"Table excludes the impact of HST (13%) & Provincial Rebate (8%)"]
[]
[null,"Total Bill Impacts including HST"]
[null,"Customer Class","Billing Units","Average Monthly Volume","2018 vs. 2017\nafter 8% rebate"]
[null,null,null,null,"$","%"]
[null,{"$f":"B5","v":"Residential"},{"$f":"C5","v":"kWh"},{"$f":"D5","v":750},{"$f":"'21. Bill Impacts'!N40","v":3.0717330000000089},{"$f":"'21. Bill Impacts'!O40","v":2.9493194933166256E-2}]
[null,{"$f":"B6","v":"GS<50"},"kWh",2000,{"$f":"'21. Bill Impacts'!N41","v":4.5546270000000391},{"$f":"'21. Bill Impacts'!O41","v":1.5964784271184963E-2}]
[null,"GS 50-699 kW","kW",500,{"$f":"'21. Bill Impacts'!N42","v":-646.1226999999999},{"$f":"'21. Bill Impacts'!O42","v":-2.1198896414645205E-2}]
[null,"GS 700-4,999 kW","kW",1432,{"$f":"'21. Bill Impacts'!N43","v":-2172.814171999984},{"$f":"'21. Bill Impacts'!O43","v":-2.0773043087607249E-2}]
[null,"Large User","kW",20000,{"$f":"'21. Bill Impacts'!N44","v":35260.316600000049},{"$f":"'21. Bill Impacts'!O44","v":2.2506473190855646E-2}]
[null,"Stanby Power","kW",0,{"$f":"'21. Bill Impacts'!N45","v":0},{"$f":"'21. Bill Impacts'!O45","v":0}]
[null,"Unmetered Scattered Load","kWh",7922,{"$f":"'21. Bill Impacts'!N46","v":-46.97598086240032},{"$f":"'21. Bill Impacts'!O46","v":-1.1639803673633157E-2}]
[null,"Street Lighting","kW",4000,{"$f":"'21. Bill Impacts'!N47","v":-7158.7402920000022},{"$f":"'21. Bill Impacts'!O47","v":-1.2119940190639134E-2}]
[null,"Embedded Distributor","kWh",1417701,{"$f":"'21. Bill Impacts'!R48","v":-7846.3084539999873},{"$f":"'21. Bill Impacts'!S48","v":-3.3648462678664816E-2},null,{"$f":"'21. Bill Impacts'!N48","v":-7846.3084539999836},null,null,{"$f":"'21. Bill Impacts'!O48","v":-3.3648462678664795E-2}]
[null,"Distributed Generation","kWh",156,{"$f":"'21. Bill Impacts'!R49","v":1.8985398035999985},{"$f":"'21. Bill Impacts'!S49","v":1.3349839423078741E-2},null,{"$f":"'21. Bill Impacts'!N49","v":1.8985398035999879},null,null,{"$f":"'21. Bill Impacts'!O49","v":1.3349839423078666E-2}]
[null,"Energy from Waste Service","kWh",0,{"$f":"'21. Bill Impacts'!R50","v":0.64409999999999279},{"$f":"'21. Bill Impacts'!S50","v":9.0347123157393187E-3},null,{"$f":"'21. Bill Impacts'!N50","v":0.64409999999999457},null,null,{"$f":"'21. Bill Impacts'!O50","v":9.034712315739343E-3}]

{"sheet":"10th percentile","index":29,"n_rows":788,"n_cols":23,"rows_kept":788,"cut":false,"hidden":false,"merged":[[780,4,780,5],[786,4,786,5],[741,5,741,10],[742,5,742,7],[748,6,748,8],[748,9,748,11],[748,12,748,13],[749,5,750,5],[749,12,750,12],[749,13,750,13],[700,12,700,13],[701,5,702,5],[701,12,702,12],[701,13,702,13],[731,4,731,5],[737,4,737,5],[683,4,683,5],[689,4,689,5],[693,5,693,10],[694,5,694,7],[700,6,700,8],[700,9,700,11],[645,5,645,10],[646,5,646,7],[652,6,652,8],[652,9,652,11],[652,12,652,13],[653,5,654,5],[653,12,654,12],[653,13,654,13],[603,12,603,13],[604,5,605,5],[604,12,605,12],[604,13,605,13],[635,4,635,5],[641,4,641,5],[580,4,580,5],[586,4,586,5],[592,4,592,5],[596,5,596,10],[597,5,597,7],[603,6,603,8],[603,9,603,11],[542,5,542,10],[543,5,543,7],[549,6,549,8],[549,9,549,11],[549,12,549,13],[550,5,551,5],[550,12,551,12],[550,13,551,13],[496,5,497,5],[496,12,497,12],[496,13,497,13],[526,4,526,5],[532,4,532,5],[538,4,538,5],[484,4,484,5],[488,5,488,10],[489,5,489,7],[495,6,495,8],[495,9,495,11],[495,12,495,13],[441,12,441,13],[442,5,443,5],[442,12,443,12],[442,13,443,13],[473,4,473,5],[478,4,478,5],[419,4,419,5],[424,4,424,5],[430,4,430,5],[434,5,434,10],[435,5,435,7],[441,6,441,8],[441,9,441,11],[381,5,381,10],[382,5,382,7],[388,6,388,8],[388,9,388,11],[388,12,388,13],[389,5,390,5],[389,12,390,12],[389,13,390,13],[335,5,336,5],[335,12,336,12],[335,13,336,13],[366,4,366,5],[371,4,371,5],[377,4,377,5],[323,4,323,5],[327,5,327,10],[328,5,328,7],[334,6,334,8],[334,9,334,11],[334,12,334,13],[280,12,280,13],[281,5,282,5],[281,12,282,12],[281,13,282,13],[312,4,312,5],[317,4,317,5],[258,4,258,5],[263,4,263,5],[269,4,269,5],[273,5,273,10],[274,5,274,7],[280,6,280,8],[280,9,280,11],[220,5,220,10],[221,5,221,7],[227,6,227,8],[227,9,227,11],[227,12,227,13],[228,5,229,5],[228,12,229,12],[228,13,229,13],[175,5,176,5],[175,12,176,12],[175,13,176,13],[205,4,205,5],[210,4,210,5],[216,4,216,5],[163,4,163,5],[167,5,167,10],[168,5,168,7],[174,6,174,8],[174,9,174,11],[174,12,174,13],[121,12,121,13],[122,5,123,5],[122,12,123,12],[122,13,123,13],[153,4,153,5],[158,4,158,5],[105,4,105,5],[110,4,110,5],[114,5,114,10],[115,5,115,7],[121,6,121,8],[121,9,121,11],[61,5,61,10],[62,5,62,7],[68,6,68,8],[68,9,68,11],[36,15,36,16],[36,17,36,18],[37,7,37,8],[37,9,37,10],[37,11,37,12],[37,13,37,14],[37,15,37,16],[37,17,37,18],[100,4,100,5],[1,4,8,10],[10,4,10,10],[36,4,38,5],[36,6,38,6],[36,7,36,12],[36,13,36,14],[68,12,68,13],[69,5,70,5],[69,12,70,12],[69,13,70,13]]}
["Back to Index"]
[null,null,null,null,"INCENTIVE REGULATION MODEL FOR 2018 FILERS"]
[]
[]
[]
[]
[]
[]
[]
[]
[null,null,null,null,"The bill comparisons below must be provided for typical customers and consumption levels. Bill impacts must be provided for residential customers consuming 750 kWh per month and general service customers consuming 2,000 kWh per month and having a monthly demand of less than 50 kW. Include bill comparisons for Non-RPP (retailer) as well. To assess the combined effects of the shift to fixed rates and other bill impacts associated with changes in the cost of distribution service, applicants are to include a total bill impact for a residential customer at the distributor’s 10th consumption percentile (In other words, 10% of a distributor’s residential customers consume at or less than this level of consumption on a monthly basis). Refer to page 9 of the Filing Requirements For Electricity Distribution Rate Applications issued July 14, 2016.\n\nFor certain classes where one or more customers have unique consumption and demand patterns and which may be significantly impacted by the proposed rate changes, the distributor must show a typical comparison, and provide an explanation.\n\nNote:  \n1. For those classes that are not eligible for the RPP price, the weighted average price including Class B GA through end of February 2017 of $0.1058/kWh (IESO's Monthly Market Report for February 2017, page 22) has been used to represent the cost of power. For those classes on a retailer contract, applicants should enter the contract price (plus GA) for a more accurate estimate. Changes to the cost of power can be made directly on the bill impact table for the specific class.\n2. Please enter the applicable billing determinant (e.g. number of connections or devices) to be applied to the monthly service charge for unmetered rate classes in column N. If the monthly service charge is applied on a per customer basis, enter the number “1”. Distributors should provide the number of connections or devices reflective of a typical customer in each class."]
[]
[null,null,null,null,"Table 1"]
[null,null,null,null,"RATE CLASSES / CATEGORIES \n(eg: Residential TOU, Residential Retailer)",null,"Units","RPP?\nNon-RPP Retailer?\nNon-RPP\nOther?","Current \nLoss Factor ","Proposed Loss Factor","Consumption (kWh)","Demand kW\n(if applicable)","RTSR\n","Billing Determinant Applied to Fixed Charge for Unmetered Classes (e.g. # of devices/connections)."]
[null,1,1,null,{"$f":"'4. Billing Det. for Def-Var'!B17","v":"RESIDENTIAL SERVICE CLASSIFICATION"},null,{"$f":"IF(ISERROR(VLOOKUP(E15,BILLING_DETERMINANTS,2,FALSE)),\"\",(VLOOKUP(E15,BILLING_DETERMINANTS,2,FALSE)))","v":"kWh"},"RPP",{"$f":"LLF","v":1.0341},{"$f":"IF(ISBLANK(I15),\"\", I15)","v":1.0341},750,null,"N/A",null,null,null,null,null,null,{"$f":"SUM(I15:L15)","v":752.06820000000005},78,1]
[null,2,2,null,{"$f":"'4. Billing Det. for Def-Var'!B18","v":"GENERAL SERVICE LESS THAN 50 kW SERVICE CLASSIFICATION"},null,"kWh","RPP",{"$f":"LLF","v":1.0341},{"$f":"IF(ISBLANK(I16),\"\", I16)","v":1.0341},2000,null,"N/A",null,null,null,null,null,null,2002.0681999999999,{"$f":"U15+68","v":146},2]
[null,3,3,null,{"$f":"'4. Billing Det. for Def-Var'!B19","v":"GENERAL SERVICE 50 to 699 KW SERVICE CLASSIFICATION"},null,"kW","Non-RPP (Other)",{"$f":"LLF","v":1.0341},1.0341,182500,500,"DEMAND",null,null,null,null,null,null,183002.06820000001,{"$f":"U16+68","v":214},3]
[null,4,4,null,{"$f":"'4. Billing Det. for Def-Var'!B20","v":"GENERAL SERVICE 700 to 4,999 KW SERVICE CLASSIFICATION"},null,"kW","Non-RPP (Other)",{"$f":"LLF","v":1.0341},1.0341,627216,1432,"DEMAND",null,null,null,null,null,null,628650.06819999998,282,4]
[null,5,5,null,{"$f":"'4. Billing Det. for Def-Var'!B21","v":"LARGE USE SERVICE CLASSIFICATION"},null,"kW","Non-RPP (Other)",1.0145,1.0145,10220000,20000,"DEMAND",null,null,null,null,null,null,10240002.028999999,350,5]
[null,6,6,null,{"$f":"'4. Billing Det. for Def-Var'!B22","v":"STANDBY POWER SERVICE CLASSIFICATION "},null,"kW","Non-RPP (Other)",{"$f":"LLF","v":1.0341},1.0341,{"$f":"'[3]20. Bill Impacts'!$K$37","v":0},{"$f":"'[3]20. Bill Impacts'!$L$37","v":4548},"DEMAND",null,null,null,null,null,null,4550.0681999999997,418,6]
[null,7,7,null,{"$f":"'4. Billing Det. for Def-Var'!B23","v":"UNMETERED SCATTERED LOAD SERVICE CLASSIFICATION"},null,"kWh","Non-RPP (Other)",{"$f":"LLF","v":1.0341},1.0341,{"$f":"'[3]20. Bill Impacts'!K35","v":21296},{"$f":"'[3]20. Bill Impacts'!L35","v":0},"N/A",186,null,null,null,null,null,21298.068200000002,486,7]
[null,8,8,null,{"$f":"'4. Billing Det. for Def-Var'!B24","v":"STREET LIGHTING SERVICE CLASSIFICATION"},null,"kW","Non-RPP (Other)",{"$f":"LLF","v":1.0341},1.0341,{"$f":"'[3]20. Bill Impacts'!K36","v":2787508},{"$f":"'[3]20. Bill Impacts'!L36","v":7922},"DEMAND",20614,null,null,null,null,null,2795432.0682000001,554,8]
[null,9,9,null,{"$f":"'4. Billing Det. for Def-Var'!B25","v":"EMBEDDED DISTRIBUTOR SERVICE CLASSIFICATION"},null,"kWh","Non-RPP (Other)",1.0246999999999999,1.0246999999999999,1417701,4000,"N/A",null,null,null,null,null,null,1421703.0493999999,622,9]
[null,10,10,null,{"$f":"'4. Billing Det. for Def-Var'!B26","v":"DISTRIBUTED GENERATION [DGEN] SERVICE CLASSIFICATION"},null,"kWh","Non-RPP (Other)",{"$f":"LLF","v":1.0341},1.0341,156,null,"N/A",null,null,null,null,null,null,158.06819999999999,690,10]
[null,11,11,null,{"$f":"'4. Billing Det. for Def-Var'!B27","v":"ENERGY FROM WASTE SERVICE CLASSIFICATION"},null,"kWh","Non-RPP (Other)",1.0341,1.0341,null,null,"N/A",null,null,null,null,null,null,2.0682,758,11]
[null,12,{"$f":"IF(ISERROR(VLOOKUP(E26, E$15:V$33, 18, FALSE)),\"\", VLOOKUP(E26, E$15:V$33, 18, FALSE))","v":1},null,{"$f":"E15","v":"RESIDENTIAL SERVICE CLASSIFICATION"},"(10th consumption percentile)","kWh","RPP",1.0341,1.0341,361.28,null,"N/A",null,null,null,null,null,null,363.34819999999996,826]
[null,13,1,null,{"$f":"E15","v":"RESIDENTIAL SERVICE CLASSIFICATION"},"(Retailer)","kWh","Non-RPP (Retailer)",1.0341,1.0341,750,null,"N/A",null,null,null,null,null,null,752.06820000000005,894]
[null,14,2,null,{"$f":"E16","v":"GENERAL SERVICE LESS THAN 50 kW SERVICE CLASSIFICATION"},"(Retailer)","kWh","Non-RPP (Retailer)",1.0341,1.0341,2000,null,"N/A",null,null,null,null,null,null,2002.0681999999999,962]
[null,15,7,null,"UNMETERED SCATTERED LOAD SERVICE CLASSIFICATION",null,"kWh","RPP",1.0341,1.0341,150,null,"N/A",1,null,null,null,null,null,152.06819999999999,1030]
[null,16,0,null,"Add additional scenarios if required",null,null,null,null,"",null,null,null,null,null,null,null,null,null,0,1098]
[null,17,0,null,"Add additional scenarios if required",null,null,null,null,"",null,null,null,null,null,null,null,null,null,0,1166]
[null,18,0,null,"Add additional scenarios if required",null,null,null,null,"",null,null,null,null,null,null,null,null,null,0,1234]
[null,19,0,null,"Add additional scenarios if required",null,null,null,null,"",null,null,null,null,null,null,null,null,null,0,1302]
[]
[]
[null,null,null,null,"Table 2"]
[null,null,null,null,"RATE CLASSES / CATEGORIES \n(eg: Residential TOU, Residential Retailer)",null,"Units","Sub-Total",null,null,null,null,null,"Total",null,"Total (Before Tax)",null,"Total"]
[null,null,null,null,null,null,null,"A",null,"B",null,"C",null,"A + B + C",null,"A + B + C",null,"A + B + C"]
[null,null,null,null,null,null,null,"$","%","$","%","$","%","$","%","$","%","$","%"]
[null,{"$f":"H15","v":"RPP"},{"$f":"B15","v":1},null,{"$f":"IF(ISBLANK(E15), \"\", IF(E15 = \"Add additional scenarios if required\", \"\", IF(O15=\"INTERVAL\", E15 & \" - \" & H15 & \" - Interval Customers\", E15 & \" - \" &H15)))","v":"RESIDENTIAL SERVICE CLASSIFICATION - RPP"},null,{"$f":"G15","v":"kWh"},{"$f":"IF(LEN($G40)>1, (SUMPRODUCT(--($C$72:$C$1017=$B15), --($A$72:$A$1017=$E15), --($B$72:$B$1017=\"ST_A\"), $M$72:$M$1017)), \"\")","v":2.218112000000005},{"$f":"IF(LEN($G40)>1, (SUMPRODUCT(--($C$72:$C$1017=$B15), --($A$72:$A$1017=$E15), --($B$72:$B$1017=\"ST_A\"), $N$72:$N$1017)), \"\")","v":0.10691237984773541},{"$f":"IF(LEN($G40)>1, (SUMPRODUCT(--($C$72:$C$1017=$B15), --($A$72:$A$1017=$E15), --($B$72:$B$1017=\"ST_B\"), $M$72:$M$1017)), \"\")","v":3.1213120000000032},{"$f":"IF(LEN($G40)>1, (SUMPRODUCT(--($C$72:$C$1017=$B15), --($A$72:$A$1017=$E15), --($B$72:$B$1017=\"ST_B\"), $N$72:$N$1017)), \"\")","v":0.14817730500717904},{"$f":"IF(LEN($G40)>1, (SUMPRODUCT(--($C$72:$C$1017=$B15), --($A$72:$A$1017=$E15), --($B$72:$B$1017=\"ST_C\"), $M$72:$M$1017)), \"\")","v":3.4201917184000017},{"$f":"IF(LEN($G40)>1, (SUMPRODUCT(--($C$72:$C$1017=$B15), --($A$72:$A$1017=$E15), --($B$72:$B$1017=\"ST_C\"), $N$72:$N$1017)), \"\")","v":0.13175428241276724},{"$f":"IF(LEN($G40)>1, (SUMPRODUCT(--($C$72:$C$1017=$B15), --($A$72:$A$1017=$E15), --($B$72:$B$1017=$B40&\"_TOTAL\"), $M$72:$M$1017)), \"\")","v":3.591201304320002},{"$f":"IF(LEN($G40)>1, (SUMPRODUCT(--($C$72:$C$1017=$B15), --($A$72:$A$1017=$E15), --($B$72:$B$1017=$B40&\"_TOTAL\"), $N$72:$N$1017)), \"\")","v":5.9638554343672476E-2},{"$f":"IF(LEN($G40)>1, (SUMPRODUCT(--($C$72:$C$1017=$B15), --($A$72:$A$1017=$E15), --($B$72:$B$1017=$B40&\"_BT\"), $M$72:$M$1017)), \"\")","v":3.4201917183999981},{"$f":"IF(LEN($G40)>1, (SUMPRODUCT(--($C$72:$C$1017=$B15), --($A$72:$A$1017=$E15), --($B$72:$B$1017=$B40&\"_BT\"), $N$72:$N$1017)), \"\")","v":5.9638554343672406E-2},{"$f":"IF(LEN($G40)>1, (SUMPRODUCT(--($C$72:$C$1017=$B15), --($A$72:$A$1017=$E15), --($B$72:$B$1017=$B40&\"_NET\"), $M$72:$M$1017)), \"\")","v":3.8648166417919985},{"$f":"IF(LEN($G40)>1, (SUMPRODUCT(--($C$72:$C$1017=$B15), --($A$72:$A$1017=$E15), --($B$72:$B$1017=$B40&\"_NET\"), $N$72:$N$1017)), \"\")","v":5.9638554343672413E-2}]
[null,{"$f":"H16","v":"RPP"},{"$f":"B16","v":2},null,{"$f":"IF(ISBLANK(E16), \"\", IF(E16 = \"Add additional scenarios if required\", \"\", IF(O16=\"INTERVAL\", E16 & \" - \" & H16 & \" - Interval Customers\", E16 & \" - \" &H16)))","v":"GENERAL SERVICE LESS THAN 50 kW SERVICE CLASSIFICATION - RPP"},null,{"$f":"G16","v":"kWh"},-2.1099999999999994,-3.385750962772785E-2,2.8900000000000077,4.682944256824214E-2,4.337740000000025,5.0858245049477634E-2,4.5546269999999822,1.5951868100725231E-2,4.3377399999999966,1.5951868100725283E-2,4.9016461999999947,1.5951868100725276E-2]
[null,"Non-RPP (Other)",3,null,"GENERAL SERVICE 50 to 699 KW SERVICE CLASSIFICATION - Non-RPP (Other)",null,"kW",-94.839999999999918,-5.6760509432155465E-2,-708.13999999999987,-0.36476114928555969,-571.79000000000042,-0.13677779558562167,-646.1226999999999,-2.1809488800175834E-2,-571.79000000000087,-2.1809488800175872E-2,-646.12270000000126,-2.1809488800175879E-2]
[null,"Non-RPP (Other)",4,null,"GENERAL SERVICE 700 to 4,999 KW SERVICE CLASSIFICATION - Non-RPP (Other)",null,"kW",-157.04520000000048,-2.5563781215136718E-2,-2342.7067999999999,-0.32678241596274804,-1922.8444,-0.1350996988585674,-2172.8141719999985,-2.137212355685417E-2,-1922.8444000000018,-2.1372123556854201E-2,-2172.8141720000021,-2.1372123556854205E-2]
[null,"Non-RPP (Other)",5,null,"LARGE USE SERVICE CLASSIFICATION - Non-RPP (Other)",null,"kW",-4944.18,-8.1471965535185736E-2,24427.82,1.2049042945378385,31203.820000000007,0.23474993090018742,35260.316600000078,2.3200477490648581E-2,31203.820000000065,2.3200477490648578E-2,35260.316600000078,2.3200477490648581E-2]
[null,"Non-RPP (Other)",6,null,"STANDBY POWER SERVICE CLASSIFICATION  - Non-RPP (Other)",null,"kW",0,0,0,0,0,0,0,0,0,0,0,0]
[null,"Non-RPP (Other)",7,null,"UNMETERED SCATTERED LOAD SERVICE CLASSIFICATION - Non-RPP (Other)",null,"kWh",15.419199999999819,2.4527089364680139E-2,-37.820800000000304,-5.7251848308518108E-2,-22.405264480000255,-2.4576418880107611E-2,-25.317948862400499,-6.432434400478736E-3,-22.405264480000369,-6.4324344004787152E-3,-25.317948862400442,-6.4324344004787213E-3]
[null,"Non-RPP (Other)",8,null,"STREET LIGHTING SERVICE CLASSIFICATION - Non-RPP (Other)",null,"kW",1539.628400000016,1.0963737535893229E-2,-8134.2545999999857,-5.6081216661384076E-2,-6335.1683999999659,-3.6287769639415074E-2,-7158.7402919998858,-1.2393327472176426E-2,-6335.1683999999659,-1.2393327472176556E-2,-7158.7402919999731,-1.2393327472176576E-2]
[null,"Non-RPP (Other)",9,null,"EMBEDDED DISTRIBUTOR SERVICE CLASSIFICATION - Non-RPP (Other)",null,"kWh",96.230000000000473,2.3133212494771523E-2,-6840.504899999999,-0.61665308852918888,-5667.7049000000043,-0.18387219109127964,-6404.5065370000084,-2.8261220803151403E-2,-5667.7049000000115,-2.8261220803151424E-2,-6404.506537000012,-2.8261220803151417E-2]
[null,"Non-RPP (Other)",10,null,"DISTRIBUTED GENERATION [DGEN] SERVICE CLASSIFICATION - Non-RPP (Other)",null,"kWh",2.3319999999999936,2.2412732584960727E-2,1.8171999999999997,1.7332019356944013E-2,1.9301237199999974,1.8091723526730469E-2,2.1810398036000151,1.5446155023438721E-2,1.9301237200000116,1.5446155023438707E-2,2.1810398036000116,1.5446155023438695E-2]
[null,"Non-RPP (Other)",11,null,"ENERGY FROM WASTE SERVICE CLASSIFICATION - Non-RPP (Other)",null,"kWh",0.56999999999999318,9.0347123157393117E-3,0.56999999999999318,9.0347123157393117E-3,0.56999999999999318,9.0347123157393117E-3,0.64409999999999457,9.034712315739343E-3,0.56999999999999318,9.0347123157393117E-3,0.64409999999999279,9.0347123157393187E-3]
[null,"RPP",12,null,"RESIDENTIAL SERVICE CLASSIFICATION - RPP",null,"kWh",2.218112000000005,0.10691237984773541,3.1213120000000032,0.14664573578809031,3.4201917184000017,0.13064705559484943,3.5912013043200091,5.9410644229339372E-2,{"$f":"IF(LEN($G51)>1, (SUMPRODUCT(--($C$72:$C$1017=$B26), --($A$72:$A$1017=$E26), --($B$72:$B$1017=$B51&\"_TOTAL\"), $M$72:$M$1017)), \"\")","v":3.5912013043200091},{"$f":"IF(LEN($G51)>1, (SUMPRODUCT(--($C$72:$C$1017=$B26), --($A$72:$A$1017=$E26), --($B$72:$B$1017=$B51&\"_TOTAL\"), $N$72:$N$1017)), \"\")","v":5.9410644229339372E-2},{"$f":"IF(LEN($G51)>1, (SUMPRODUCT(--($C$72:$C$1017=$B26), --($A$72:$A$1017=$E26), --($B$72:$B$1017=$B51&\"_TOTAL\"), $M$72:$M$1017)), \"\")","v":3.5912013043200091},{"$f":"IF(LEN($G51)>1, (SUMPRODUCT(--($C$72:$C$1017=$B26), --($A$72:$A$1017=$E26), --($B$72:$B$1017=$B51&\"_TOTAL\"), $N$72:$N$1017)), \"\")","v":5.9410644229339372E-2}]
[null,"Non-RPP (Retailer)",13,null,"RESIDENTIAL SERVICE CLASSIFICATION - Non-RPP (Retailer)",null,"kWh",0.43000000000000327,1.7849730178497437E-2,-2.0449999999999982,-7.1394887654732855E-2,-1.4245399999999933,-3.6711598993287547E-2,-1.4957670000000007,-1.1733949615406821E-2,-1.4957670000000007,-1.1733949615406821E-2,-1.4957670000000007,-1.1733949615406821E-2]
[null,"Non-RPP (Retailer)",14,null,"GENERAL SERVICE LESS THAN 50 kW SERVICE CLASSIFICATION - Non-RPP (Retailer)",null,"kWh",-2.1099999999999994,-3.385750962772785E-2,-8.7099999999999937,-0.11907688210513705,-7.2622599999999835,-7.508268414604502E-2,-7.6253729999999678,-2.1941059879002713E-2,-7.6253729999999678,-2.1941059879002713E-2,-7.6253729999999678,-2.1941059879002713E-2]
[null,"RPP",15,null,"UNMETERED SCATTERED LOAD SERVICE CLASSIFICATION - RPP",null,"kWh",8.999999999999897E-2,2.2004889975549866E-2,0.4499999999999984,0.11249301418381873,0.55858049999999881,9.6831888391406468E-2,0.58650952499999676,2.7932505529851388E-2,0.58650952499999676,2.7932505529851388E-2,0.58650952499999676,2.7932505529851388E-2]
[null,0,16,null,{"$f":"IF(ISBLANK(E30), \"\", IF(E30 = \"Add additional scenarios if required\", \"\", IF(O30=\"YES\", E30 & \" - \" & J30 & \" - Interval Customers\", E30 & \" - \" &J30)))","v":""},null,{"$f":"IF(ISBLANK(I30), \"\", I30)","v":""},"","","","","","","","","","","",""]
[null,0,17,null,"",null,{"$f":"IF(ISBLANK(I31), \"\", I31)","v":""},"","","","","","","","","","","",""]
[null,0,18,null,"",null,{"$f":"IF(ISBLANK(I32), \"\", I32)","v":""},"","","","","","","","","","","",""]
[null,0,19,null,"",null,{"$f":"IF(ISBLANK(I33), \"\", I33)","v":""},"","","","","","","","","","","",""]
[null,0,0,null,"",null,{"$f":"IF(ISBLANK(I34), \"\", I34)","v":""},"","","","","","","","","","","",""]
[]
[]
[null,null,null,null,"Customer Class:",{"$f":"E15","v":"RESIDENTIAL SERVICE CLASSIFICATION"},null,null,null,null,null,{"$f":"IF(O14=\"DEMAND - INTERVAL\",\"RTSR - INTERVAL METERED\",\"\")","v":""}]
[null,null,null,null,"RPP / Non-RPP:",{"$f":"H15","v":"RPP"}]
[null,null,null,null,"Consumption",361.28,"kWh"]
[null,null,null,null,"Demand",{"$f":"L15","v":0},"kW"]
[null,null,null,null,"Current Loss Factor",{"$f":"I15","v":1.0341}]
[null,null,null,null,"Proposed/Approved Loss Factor",{"$f":"J15","v":1.0341}]
[]
[null,null,null,null,null,null,"Current OEB-Approved",null,null,"Proposed",null,null,"Impact"]
[null,null,null,null,null,null,"Rate","Volume","Charge","Rate","Volume","Charge","$ Change","% Change"]
[null,null,null,null,null,null,"($)",null,"($)","($)",null,"($)"]
[{"$f":"F62","v":"RESIDENTIAL SERVICE CLASSIFICATION"},null,null,"R_F","Monthly Service Charge",null,{"$f":"IFERROR(SUMIF(RATES!B:B,'10th percentile'!D72,RATES!H:H),\"\")","v":17.64},1,{"$f":"H72*G72","v":17.64},{"$f":"IFERROR(SUMIF(RATES!B:B,'10th percentile'!D72,RATES!I:I),\"\")","v":20.92},1,{"$f":"K72*J72","v":20.92},{"$f":"L72-I72","v":3.2800000000000011},{"$f":"IF(ISERROR(M72/I72), \"\", M72/I72)","v":0.18594104308390028},null,null,null,null,null,null,null,null,{"$f":"+L72-I72","v":3.2800000000000011}]
[{"$f":"A72","v":"RESIDENTIAL SERVICE CLASSIFICATION"},null,null,"R_V","Distribution Volumetric Rate",null,{"$f":"IFERROR(SUMIF(RATES!B:B,'10th percentile'!D73,RATES!H:H),\"\")","v":8.0000000000000002E-3},{"$f":"IF($F65>0, $F65, $F64)","v":361.28},{"$f":"H73*G73","v":2.8902399999999999},{"$f":"IFERROR(SUMIF(RATES!B:B,'10th percentile'!D73,RATES!I:I),\"\")","v":4.0000000000000001E-3},{"$f":"IF($F65>0, $F65, $F64)","v":361.28},{"$f":"K73*J73","v":1.44512},-1.44512,{"$f":"IF(ISERROR(M73/I73), \"\", M73/I73)","v":-0.5}]
[{"$f":"A73","v":"RESIDENTIAL SERVICE CLASSIFICATION"},null,null,"R_FRR","Fixed Rate Riders",null,{"$f":"IFERROR(SUMIF(RATES!B:B,'10th percentile'!D74,RATES!H:H),\"\")","v":0},1,0,{"$f":"IFERROR(SUMIF(RATES!B:B,'10th percentile'!D74,RATES!I:I),\"\")","v":0.6},1,{"$f":"K74*J74","v":0.6},0.6,""]
[{"$f":"A74","v":"RESIDENTIAL SERVICE CLASSIFICATION"},null,null,"R_VRR","Volumetric Rate Riders",null,{"$f":"IFERROR(SUMIF(RATES!B:B,'10th percentile'!D75,RATES!H:H),\"\")","v":6.0000000000000006E-4},{"$f":"IF($F65>0, $F65, $F64)","v":361.28},0.21676800000000002,{"$f":"IFERROR(SUMIF(RATES!B:B,'10th percentile'!D75,RATES!I:I),\"\")","v":0},{"$f":"IF($F65>0, $F65, $F64)","v":361.28},0,-0.21676800000000002,-1]
["RESIDENTIAL SERVICE CLASSIFICATION","ST_A",{"$f":"B15","v":1},null,"Sub-Total A (excluding pass through)",null,null,null,{"$f":"SUM(I72:I75)","v":20.747007999999997},null,null,{"$f":"SUM(L72:L75)","v":22.965120000000002},2.218112000000005,{"$f":"IF((I76)=0,\"\",(M76/I76))","v":0.10691237984773541}]
["RESIDENTIAL SERVICE CLASSIFICATION",null,null,null,"Line Losses on Cost of Power",null,{"$f":"IF((F64*12>=150000), 0, IF(F63=\"RPP\",(G91*0.65+G92*0.17+G93*0.18),IF(F63=\"Non-RPP (Retailer)\",G94,G95)))","v":8.2160000000000011E-2},{"$f":"IF(G77=0, 0, $F64*F66-F64)","v":12.319648000000029},{"$f":"H77*G77","v":1.0121822796800026},{"$f":"IF((F64*12>=150000), 0, IF(F63=\"RPP\",(J91*0.65+J92*0.17+J93*0.18),IF(F63=\"Non-RPP (Retailer)\",J94,J95)))","v":8.2160000000000011E-2},{"$f":"IF(G77=0, 0, $F64*F66-F64)","v":12.319648000000029},{"$f":"K77*J77","v":1.0121822796800026},{"$f":"L77-I77","v":0},{"$f":"IF(ISERROR(M77/I77), \"\", M77/I77)","v":0}]
["RESIDENTIAL SERVICE CLASSIFICATION",null,null,"R_DVA","Total Deferral/Variance Account Rate Riders",null,{"$f":"IFERROR(SUMIF(RATES!B:B,'10th percentile'!D78,RATES!H:H),\"\")","v":-3.5000000000000001E-3},{"$f":"IF($F65>0, $F65, $F64)","v":361.28},-1.2644799999999998,{"$f":"IFERROR(SUMIF(RATES!B:B,'10th percentile'!D78,RATES!I:I),\"\")","v":-1E-3},{"$f":"IF($F65>0, $F65, $F64)","v":361.28},-0.36127999999999999,0.90319999999999978,-0.71428571428571419]
["RESIDENTIAL SERVICE CLASSIFICATION",null,null,"R_GA","GA Rate Riders"]
["RESIDENTIAL SERVICE CLASSIFICATION",null,null,"R_LV","Low Voltage Service Charge",null,{"$f":"IFERROR(SUMIF(RATES!B:B,'10th percentile'!D80,RATES!H:H),\"\")","v":0},{"$f":"IF($F65>0, $F65, $F64)","v":361.28},0,{"$f":"IFERROR(SUMIF(RATES!B:B,'10th percentile'!D80,RATES!I:I),\"\")","v":0},{"$f":"IF($F65>0, $F65, $F64)","v":361.28},0,0,""]
["RESIDENTIAL SERVICE CLASSIFICATION",null,null,null,"Smart Meter Entity Charge (if applicable)",null,0.56999999999999995,1,{"$f":"H81*G81","v":0.56999999999999995},0.56999999999999995,1,{"$f":"K81*J81","v":0.56999999999999995},0,{"$f":"IF(ISERROR(M81/I81), \"\", M81/I81)","v":0}]
["RESIDENTIAL SERVICE CLASSIFICATION","ST_B",{"$f":"B15","v":1},null,"Sub-Total B - Distribution (includes Sub-Total A)",null,null,null,{"$f":"SUM(I76:I81)","v":21.06471027968},null,null,{"$f":"SUM(L76:L81)","v":24.186022279680003},3.1213120000000032,{"$f":"IF((I82)=0,\"\",(M82/I82))","v":0.14817730500717904}]
["RESIDENTIAL SERVICE CLASSIFICATION",null,null,"R_TN","RTSR - Network",null,{"$f":"IFERROR(SUMIF(RATES!B:B,'10th percentile'!D83,RATES!H:H),\"\")","v":7.4000000000000003E-3},{"$f":"IF($F65>0, $F65, $F64*$F66)","v":373.599648},{"$f":"H83*G83","v":2.7646373952000003},{"$f":"IFERROR(SUMIF(RATES!B:B,'10th percentile'!D83,RATES!I:I),\"\")","v":7.4000000000000003E-3},{"$f":"IF($F65>0, $F65, $F64*$F66)","v":373.599648},{"$f":"K83*J83","v":2.7646373952000003},0,{"$f":"IF(ISERROR(M83/I83), \"\", M83/I83)","v":0}]
["RESIDENTIAL SERVICE CLASSIFICATION",null,null,"R_TC","RTSR - Connection and/or Line and Transformation Connection",null,{"$f":"IFERROR(SUMIF(RATES!B:B,'10th percentile'!D84,RATES!H:H),\"\")","v":5.7000000000000002E-3},{"$f":"IF($F65>0, $F65, $F64*$F66)","v":373.599648},{"$f":"H84*G84","v":2.1295179935999999},{"$f":"IFERROR(SUMIF(RATES!B:B,'10th percentile'!D84,RATES!I:I),\"\")","v":6.4999999999999997E-3},{"$f":"IF($F65>0, $F65, $F64*$F66)","v":373.599648},{"$f":"K84*J84","v":2.4283977119999998},0.29887971839999983,{"$f":"IF(ISERROR(M84/I84), \"\", M84/I84)","v":0.14035087719298239}]
["RESIDENTIAL SERVICE CLASSIFICATION","ST_C",{"$f":"B15","v":1},null,"Sub-Total C - Delivery (including Sub-Total B)",null,null,null,{"$f":"SUM(I82:I84)","v":25.958865668480001},null,null,{"$f":"SUM(L82:L84)","v":29.379057386880003},3.4201917184000017,{"$f":"IF((I85)=0,\"\",(M85/I85))","v":0.13175428241276724}]
["RESIDENTIAL SERVICE CLASSIFICATION",null,null,null,"Wholesale Market Service Charge (WMSC)",null,3.5999999999999999E-3,{"$f":"F64*F66","v":373.599648},{"$f":"H86*G86","v":1.3449587327999999},3.5999999999999999E-3,{"$f":"F64*F66","v":373.599648},{"$f":"K86*J86","v":1.3449587327999999},0,{"$f":"IF(ISERROR(M86/I86), \"\", M86/I86)","v":0}]
["RESIDENTIAL SERVICE CLASSIFICATION",null,null,null,"Rural and Remote Rate Protection (RRRP)",null,2.9999999999999997E-4,{"$f":"F64*F66","v":373.599648},0.11207989439999999,2.9999999999999997E-4,{"$f":"F64*F66","v":373.599648},0.11207989439999999,0,0]
["RESIDENTIAL SERVICE CLASSIFICATION",null,null,null,"Standard Supply Service Charge",null,0.25,1,0.25,0.25,1,0.25,0,0]
["RESIDENTIAL SERVICE CLASSIFICATION",null,null,null,"Debt Retirement Charge (DRC)"]
["RESIDENTIAL SERVICE CLASSIFICATION"]
["RESIDENTIAL SERVICE CLASSIFICATION","RPP",null,null,"TOU - Off Peak",null,6.5000000000000002E-2,{"$f":"IF(AND(F64*12>=150000),0.65*F64*F66,0.65*F64)","v":234.83199999999999},15.26408,6.5000000000000002E-2,{"$f":"IF(AND(F64*12>=150000),0.65*F64*F67,0.65*F64)","v":234.83199999999999},15.26408,0,0]
["RESIDENTIAL SERVICE CLASSIFICATION","RPP",null,null,"TOU - Mid Peak",null,9.5000000000000001E-2,{"$f":"IF(AND(F64*12>=150000),0.17*F64*F66,0.17*F64)","v":61.4176},5.8346720000000003,9.5000000000000001E-2,{"$f":"IF(AND(F64*12>=150000),0.17*F64*F67,0.17*F64)","v":61.4176},5.8346720000000003,0,0]
["RESIDENTIAL SERVICE CLASSIFICATION","RPP",null,null,"TOU - On Peak",null,0.13200000000000001,{"$f":"IF(AND(F64*12>=150000),0.18*F64*F66,0.18*F64)","v":65.030399999999986},8.5840127999999982,0.13200000000000001,{"$f":"IF(AND(F64*12>=150000),0.18*F64*F67,0.18*F64)","v":65.030399999999986},8.5840127999999982,0,0]
["RESIDENTIAL SERVICE CLASSIFICATION","Non-RPP (Retailer)",null,null,"Non-RPP Retailer Avg. Price",null,{"$f":"0.1061","v":0.1061},{"$f":"IF(AND(F64*12>=150000),F64*F66,F64)","v":361.28},{"$f":"H94*G94","v":38.331807999999995},{"$f":"G94","v":0.1061},{"$f":"IF(AND(F64*12>=150000),F64*F67,F64)","v":361.28},{"$f":"K94*J94","v":38.331807999999995},0,0]
["RESIDENTIAL SERVICE CLASSIFICATION","Non-RPP (Other)",null,null,"Average IESO Wholesale Market Price",null,{"$f":"G94","v":0.1061},{"$f":"IF(AND(F64*12>=150000),F64*F66,F64)","v":361.28},{"$f":"H95*G95","v":38.331807999999995},{"$f":"G95","v":0.1061},{"$f":"IF(AND(F64*12>=150000),F64*F67,F64)","v":361.28},{"$f":"K95*J95","v":38.331807999999995},0,0]
["RESIDENTIAL SERVICE CLASSIFICATION"]
["RESIDENTIAL SERVICE CLASSIFICATION","RPP_BT",1,null,"Total Bill on TOU (before Taxes)",null,null,null,{"$f":"SUM(I86:I93,I85)","v":57.348669095680002},null,null,{"$f":"SUM(L86:L93,L85)","v":60.76886081408},{"$f":"L97-I97","v":3.4201917183999981},{"$f":"IF((I97)=0,\"\",(M97/I97))","v":5.9638554343672406E-2}]
["RESIDENTIAL SERVICE CLASSIFICATION","RPP",null,null,"HST",null,0.13,null,{"$f":"I97*G98","v":7.4553269824384003},0.13,null,{"$f":"L97*J98","v":7.8999519058304006},{"$f":"L98-I98","v":0.44462492339200033},{"$f":"IF((I98)=0,\"\",(M98/I98))","v":5.9638554343672483E-2}]
["RESIDENTIAL SERVICE CLASSIFICATION","RPP_NET",1,null,"Total Bill on TOU (before 8% Provincial Rebate)",null,null,null,{"$f":"SUM(I97:I98)","v":64.803996078118402},null,null,{"$f":"SUM(L97:L98)","v":68.668812719910406},{"$f":"SUM(M97:M98)","v":3.8648166417919985},{"$f":"IF((I99)=0,\"\",(M99/I99))","v":5.9638554343672413E-2}]
[{"$f":"A98","v":"RESIDENTIAL SERVICE CLASSIFICATION"},"RPP",null,null,"8% Provincial Rebate",null,-0.08,null,{"$f":"I97*G100","v":-4.5878935276544004},{"$f":"G100","v":-0.08},null,{"$f":"L97*J100","v":-4.8615088651264005},{"$f":"L100-I100","v":-0.27361533747200006},{"$f":"IF((I100)=0,\"\",(M100/I100))","v":5.9638554343672448E-2}]
["RESIDENTIAL SERVICE CLASSIFICATION","RPP_TOTAL",{"$f":"B15","v":1},null,"Total Bill on TOU",null,null,null,{"$f":"SUM(I97,I98,I100)","v":60.216102550464001},null,null,{"$f":"L97+L98+L100","v":63.807303854784003},{"$f":"L101-I101","v":3.591201304320002},{"$f":"IF((I101)=0,\"\",(M101/I101))","v":5.9638554343672476E-2}]
["RESIDENTIAL SERVICE CLASSIFICATION","RPP"]
["RESIDENTIAL SERVICE CLASSIFICATION","Non-RPP (Retailer)",null,null,"Total Bill on Non-RPP Avg. Price",null,null,null,{"$f":"SUM(I94,I86:I90,I85)","v":65.997712295680003},null,null,{"$f":"SUM(L94,L86:L90,L85)","v":69.417904014079994},{"$f":"L103-I103","v":3.420191718399991},{"$f":"IF((I103)=0,\"\",(M103/I103))","v":5.1822882936866065E-2}]
["RESIDENTIAL SERVICE CLASSIFICATION","Non-RPP (Retailer)",null,null,"HST",null,0.13,null,{"$f":"I103*G104","v":8.5797025984384003},0.13,null,{"$f":"L103*J104","v":9.0243275218303989},{"$f":"L104-I104","v":0.44462492339199855},{"$f":"IF((I104)=0,\"\",(M104/I104))","v":5.1822882936866037E-2}]
["RESIDENTIAL SERVICE CLASSIFICATION","Non-RPP (Retailer)",null,null,"Provincial Rebate",null,-0.08,null,{"$f":"I103*G105","v":-5.2798169836544},{"$f":"G105","v":-0.08},null,{"$f":"L103*J105","v":-5.5534323211264001},{"$f":"L105-I105","v":-0.27361533747200006},{"$f":"IF((I105)=0,\"\",(M105/I105))","v":5.1822882936866217E-2}]
["RESIDENTIAL SERVICE CLASSIFICATION","Non-RPP (Retailer)_TOTAL",null,null,"Total Bill on Non-RPP Avg. Price",null,null,null,{"$f":"SUM(I103,I104,I105)","v":69.297597910464006},null,null,{"$f":"SUM(L103,L104,L105)","v":72.888799214784001},{"$f":"L106-I106","v":3.5912013043199948},{"$f":"IF((I106)=0,\"\",(M106/I106))","v":5.1822882936866127E-2}]
["RESIDENTIAL SERVICE CLASSIFICATION","Non-RPP (Retailer)"]
["RESIDENTIAL SERVICE CLASSIFICATION","Non-RPP (Other)",null,null,"Total Bill on Average IESO Wholesale Market Price",null,null,null,{"$f":"SUM(I95,I86:I90,I85)","v":65.997712295680003},null,null,{"$f":"SUM(L95,L86:L90,L85)","v":69.417904014079994},{"$f":"L108-I108","v":3.420191718399991},{"$f":"IF((I108)=0,\"\",(M108/I108))","v":5.1822882936866065E-2}]
["RESIDENTIAL SERVICE CLASSIFICATION","Non-RPP (Other)",null,null,"HST",null,0.13,null,{"$f":"I108*G109","v":8.5797025984384003},0.13,null,{"$f":"L108*J109","v":9.0243275218303989},{"$f":"L109-I109","v":0.44462492339199855},{"$f":"IF((I109)=0,\"\",(M109/I109))","v":5.1822882936866037E-2}]
["RESIDENTIAL SERVICE CLASSIFICATION","Non-RPP (Other)",null,null,"Provincial Rebate",null,-0.08,null,{"$f":"I108*G110","v":-5.2798169836544},{"$f":"G110","v":-0.08},null,{"$f":"L108*J110","v":-5.5534323211264001},{"$f":"L110-I110","v":-0.27361533747200006},{"$f":"IF((I110)=0,\"\",(M110/I110))","v":5.1822882936866217E-2}]
["RESIDENTIAL SERVICE CLASSIFICATION","Non-RPP (Other)_TOTAL",null,null,"Total Bill on Average IESO Wholesale Market Price",null,null,null,{"$f":"SUM(I108,I109,I110)","v":69.297597910464006},null,null,{"$f":"SUM(L108,L109,L110)","v":72.888799214784001},{"$f":"L111-I111","v":3.5912013043199948},{"$f":"IF((I111)=0,\"\",(M111/I111))","v":5.1822882936866127E-2}]
["RESIDENTIAL SERVICE CLASSIFICATION","Non-RPP (Other)"]
[]
[]
[null,null,null,null,"Customer Class:",{"$f":"E16","v":"GENERAL SERVICE LESS THAN 50 kW SERVICE CLASSIFICATION"},null,null,null,null,null,{"$f":"IF(O66=\"DEMAND - INTERVAL\",\"RTSR - INTERVAL METERED\",\"\")","v":""}]
[null,null,null,null,"RPP / Non-RPP:",{"$f":"H16","v":"RPP"}]
[null,null,null,null,"Consumption",{"$f":"K16","v":2000},"kWh"]
[null,null,null,null,"Demand",{"$f":"L16","v":0},"kW"]
[null,null,null,null,"Current Loss Factor",{"$f":"I16","v":1.0341}]
[null,null,null,null,"Proposed/Approved Loss Factor",{"$f":"J16","v":1.0341}]
[]
[null,null,null,null,null,null,"Current OEB-Approved",null,null,"Proposed",null,null,"Impact"]
[null,null,null,null,null,null,"Rate","Volume","Charge","Rate","Volume","Charge","$ Change","% Change"]
[null,null,null,null,null,null,"($)",null,"($)","($)",null,"($)"]
[{"$f":"F115","v":"GENERAL SERVICE LESS THAN 50 kW SERVICE CLASSIFICATION"},null,null,"GSL_F","Monthly Service Charge",null,{"$f":"IFERROR(SUMIF(RATES!B:B,'10th percentile'!D125,RATES!H:H),\"\")","v":25.12},1,{"$f":"H125*G125","v":25.12},{"$f":"IFERROR(SUMIF(RATES!B:B,'10th percentile'!D125,RATES!I:I),\"\")","v":25.35},1,{"$f":"K125*J125","v":25.35},{"$f":"L125-I125","v":0.23000000000000043},{"$f":"IF(ISERROR(M125/I125), \"\", M125/I125)","v":9.1560509554140298E-3}]
[{"$f":"A125","v":"GENERAL SERVICE LESS THAN 50 kW SERVICE CLASSIFICATION"},null,null,"GSL_V","Distribution Volumetric Rate",null,{"$f":"IFERROR(SUMIF(RATES!B:B,'10th percentile'!D126,RATES!H:H),\"\")","v":1.67E-2},{"$f":"IF($F118>0, $F118, $F117)","v":2000},{"$f":"H126*G126","v":33.4},{"$f":"IFERROR(SUMIF(RATES!B:B,'10th percentile'!D126,RATES!I:I),\"\")","v":1.6899999999999998E-2},{"$f":"IF($F118>0, $F118, $F117)","v":2000},{"$f":"K126*J126","v":33.799999999999997},0.39999999999999858,{"$f":"IF(ISERROR(M126/I126), \"\", M126/I126)","v":1.1976047904191574E-2}]
[{"$f":"A126","v":"GENERAL SERVICE LESS THAN 50 kW SERVICE CLASSIFICATION"},null,null,"GSL_FRR","Fixed Rate Riders",null,{"$f":"IFERROR(SUMIF(RATES!B:B,'10th percentile'!D127,RATES!H:H),\"\")","v":0},1,0,{"$f":"IFERROR(SUMIF(RATES!B:B,'10th percentile'!D127,RATES!I:I),\"\")","v":0.65999999999999992},1,{"$f":"K127*J127","v":0.65999999999999992},0.65999999999999992,""]
["GENERAL SERVICE LESS THAN 50 kW SERVICE CLASSIFICATION",null,null,"GSL_VRR","Volumetric Rate Riders",null,{"$f":"IFERROR(SUMIF(RATES!B:B,'10th percentile'!D128,RATES!H:H),\"\")","v":1.9E-3},{"$f":"IF($F118>0, $F118, $F117)","v":2000},3.8,{"$f":"IFERROR(SUMIF(RATES!B:B,'10th percentile'!D128,RATES!I:I),\"\")","v":2.0000000000000001E-4},{"$f":"IF($F118>0, $F118, $F117)","v":2000},0.4,-3.4,-0.89473684210526316]
["GENERAL SERVICE LESS THAN 50 kW SERVICE CLASSIFICATION","ST_A",{"$f":"B16","v":2},null,"Sub-Total A (excluding pass through)",null,null,null,{"$f":"SUM(I125:I128)","v":62.319999999999993},null,null,{"$f":"SUM(L125:L128)","v":60.209999999999994},-2.1099999999999994,{"$f":"IF((I129)=0,\"\",(M129/I129))","v":-3.385750962772785E-2}]
["GENERAL SERVICE LESS THAN 50 kW SERVICE CLASSIFICATION",null,null,null,"Line Losses on Cost of Power",null,{"$f":"IF((F117*12>=150000), 0, IF(F116=\"RPP\",(G144*0.65+G145*0.17+G146*0.18),IF(F116=\"Non-RPP (Retailer)\",G147,G148)))","v":8.2160000000000011E-2},{"$f":"IF(G130=0, 0, $F117*F119-F117)","v":68.199999999999818},{"$f":"H130*G130","v":5.6033119999999856},{"$f":"IF((F117*12>=150000), 0, IF(F116=\"RPP\",(J144*0.65+J145*0.17+J146*0.18),IF(F116=\"Non-RPP (Retailer)\",J147,J148)))","v":8.2160000000000011E-2},{"$f":"IF(G130=0, 0, $F117*F119-F117)","v":68.199999999999818},{"$f":"K130*J130","v":5.6033119999999856},{"$f":"L130-I130","v":0},{"$f":"IF(ISERROR(M130/I130), \"\", M130/I130)","v":0}]
["GENERAL SERVICE LESS THAN 50 kW SERVICE CLASSIFICATION",null,null,"GSL_DVA","Total Deferral/Variance Account Rate Riders",null,{"$f":"IFERROR(SUMIF(RATES!B:B,'10th percentile'!D131,RATES!H:H),\"\")","v":-3.5000000000000001E-3},{"$f":"IF($F118>0, $F118, $F117)","v":2000},{"$f":"H131*G131","v":-7},{"$f":"IFERROR(SUMIF(RATES!B:B,'10th percentile'!D131,RATES!I:I),\"\")","v":-1E-3},{"$f":"IF($F118>0, $F118, $F117)","v":2000},{"$f":"K131*J131","v":-2},{"$f":"L131-I131","v":5},{"$f":"IF(ISERROR(M131/I131), \"\", M131/I131)","v":-0.7142857142857143}]
["GENERAL SERVICE LESS THAN 50 kW SERVICE CLASSIFICATION",null,null,"GSL_GA","GA Rate Riders"]
["GENERAL SERVICE LESS THAN 50 kW SERVICE CLASSIFICATION",null,null,"GSL_LV","Low Voltage Service Charge",null,{"$f":"IFERROR(SUMIF(RATES!B:B,'10th percentile'!D133,RATES!H:H),\"\")","v":0},{"$f":"IF($F118>0, $F118, $F117)","v":2000},0,{"$f":"IFERROR(SUMIF(RATES!B:B,'10th percentile'!D133,RATES!I:I),\"\")","v":0},{"$f":"IF($F118>0, $F118, $F117)","v":2000},0,0,""]
["GENERAL SERVICE LESS THAN 50 kW SERVICE CLASSIFICATION",null,null,null,"Smart Meter Entity Charge (if applicable)",null,0.79,1,{"$f":"H134*G134","v":0.79},0.79,1,{"$f":"K134*J134","v":0.79},0,{"$f":"IF(ISERROR(M134/I134), \"\", M134/I134)","v":0}]
["GENERAL SERVICE LESS THAN 50 kW SERVICE CLASSIFICATION","ST_B",{"$f":"C129","v":2},null,"Sub-Total B - Distribution (includes Sub-Total A)",null,null,null,{"$f":"SUM(I129:I134)","v":61.713311999999981},null,null,{"$f":"SUM(L129:L134)","v":64.603311999999988},2.8900000000000077,{"$f":"IF((I135)=0,\"\",(M135/I135))","v":4.682944256824214E-2}]
["GENERAL SERVICE LESS THAN 50 kW SERVICE CLASSIFICATION",null,null,"GSL_TN","RTSR - Network",null,{"$f":"IFERROR(SUMIF(RATES!B:B,'10th percentile'!D136,RATES!H:H),\"\")","v":6.6E-3},{"$f":"IF($F118>0, $F118, $F117*$F119)","v":2068.1999999999998},{"$f":"H136*G136","v":13.650119999999999},{"$f":"IFERROR(SUMIF(RATES!B:B,'10th percentile'!D136,RATES!I:I),\"\")","v":6.6E-3},{"$f":"IF($F118>0, $F118, $F117*$F119)","v":2068.1999999999998},{"$f":"K136*J136","v":13.650119999999999},0,{"$f":"IF(ISERROR(M136/I136), \"\", M136/I136)","v":0}]
["GENERAL SERVICE LESS THAN 50 kW SERVICE CLASSIFICATION",null,null,"GSL_TC","RTSR - Connection and/or Line and Transformation Connection",null,{"$f":"IFERROR(SUMIF(RATES!B:B,'10th percentile'!D137,RATES!H:H),\"\")","v":4.7999999999999996E-3},{"$f":"IF($F118>0, $F118, $F117*$F119)","v":2068.1999999999998},{"$f":"H137*G137","v":9.9273599999999984},{"$f":"IFERROR(SUMIF(RATES!B:B,'10th percentile'!D137,RATES!I:I),\"\")","v":5.4999999999999997E-3},{"$f":"IF($F118>0, $F118, $F117*$F119)","v":2068.1999999999998},{"$f":"K137*J137","v":11.375099999999998},1.4477399999999996,{"$f":"IF(ISERROR(M137/I137), \"\", M137/I137)","v":0.14583333333333331}]
["GENERAL SERVICE LESS THAN 50 kW SERVICE CLASSIFICATION","ST_C",{"$f":"C129","v":2},null,"Sub-Total C - Delivery (including Sub-Total B)",null,null,null,{"$f":"SUM(I135:I137)","v":85.290791999999968},null,null,{"$f":"SUM(L135:L137)","v":89.628531999999993},4.337740000000025,{"$f":"IF((I138)=0,\"\",(M138/I138))","v":5.0858245049477634E-2}]
["GENERAL SERVICE LESS THAN 50 kW SERVICE CLASSIFICATION",null,null,null,"Wholesale Market Service Charge (WMSC)",null,3.5999999999999999E-3,{"$f":"F117*F119","v":2068.1999999999998},{"$f":"H139*G139","v":7.4455199999999992},3.5999999999999999E-3,{"$f":"F117*F119","v":2068.1999999999998},{"$f":"K139*J139","v":7.4455199999999992},0,{"$f":"IF(ISERROR(M139/I139), \"\", M139/I139)","v":0}]
["GENERAL SERVICE LESS THAN 50 kW SERVICE CLASSIFICATION",null,null,null,"Rural and Remote Rate Protection (RRRP)",null,2.9999999999999997E-4,{"$f":"F117*F119","v":2068.1999999999998},0.6204599999999999,2.9999999999999997E-4,{"$f":"F117*F119","v":2068.1999999999998},0.6204599999999999,0,0]
["GENERAL SERVICE LESS THAN 50 kW SERVICE CLASSIFICATION",null,null,null,"Standard Supply Service Charge",null,0.25,1,0.25,0.25,1,0.25,0,0]
["GENERAL SERVICE LESS THAN 50 kW SERVICE CLASSIFICATION",null,null,null,"Debt Retirement Charge (DRC)",null,7.0000000000000001E-3,{"$f":"F117","v":2000},14,7.0000000000000001E-3,{"$f":"F117","v":2000},14,0,0]
["GENERAL SERVICE LESS THAN 50 kW SERVICE CLASSIFICATION"]
["GENERAL SERVICE LESS THAN 50 kW SERVICE CLASSIFICATION","RPP",null,null,"TOU - Off Peak",null,6.5000000000000002E-2,{"$f":"IF(AND(F117*12>=150000),0.65*F117*F119,0.65*F117)","v":1300},{"$f":"H144*G144","v":84.5},6.5000000000000002E-2,{"$f":"IF(AND(F117*12>=150000),0.65*F117*F120,0.65*F117)","v":1300},{"$f":"K144*J144","v":84.5},{"$f":"L144-I144","v":0},{"$f":"IF(ISERROR(M144/I144), \"\", M144/I144)","v":0}]
["GENERAL SERVICE LESS THAN 50 kW SERVICE CLASSIFICATION","RPP",null,null,"TOU - Mid Peak",null,9.5000000000000001E-2,{"$f":"IF(AND(F117*12>=150000),0.17*F117*F119,0.17*F117)","v":340},32.299999999999997,9.5000000000000001E-2,{"$f":"IF(AND(F117*12>=150000),0.17*F117*F120,0.17*F117)","v":340},32.299999999999997,0,0]
["GENERAL SERVICE LESS THAN 50 kW SERVICE CLASSIFICATION","RPP",null,null,"TOU - On Peak",null,0.13200000000000001,{"$f":"IF(AND(F117*12>=150000),0.18*F117*F119,0.18*F117)","v":360},47.52,0.13200000000000001,{"$f":"IF(AND(F117*12>=150000),0.18*F117*F120,0.18*F117)","v":360},47.52,0,0]
["GENERAL SERVICE LESS THAN 50 kW SERVICE CLASSIFICATION","Non-RPP (Retailer)",null,null,"Non-RPP Retailer Avg. Price",null,{"$f":"0.1061","v":0.1061},{"$f":"IF(AND(F117*12>=150000),F117*F119,F117)","v":2000},{"$f":"H147*G147","v":212.2},{"$f":"G147","v":0.1061},{"$f":"IF(AND(F117*12>=150000),F117*F120,F117)","v":2000},{"$f":"K147*J147","v":212.2},0,0]
["GENERAL SERVICE LESS THAN 50 kW SERVICE CLASSIFICATION","Non-RPP (Other)",null,null,"Average IESO Wholesale Market Price",null,{"$f":"G147","v":0.1061},{"$f":"IF(AND(F117*12>=150000),F117*F119,F117)","v":2000},{"$f":"H148*G148","v":212.2},{"$f":"G148","v":0.1061},{"$f":"IF(AND(F117*12>=150000),F117*F120,F117)","v":2000},{"$f":"K148*J148","v":212.2},0,0]
["GENERAL SERVICE LESS THAN 50 kW SERVICE CLASSIFICATION"]
["GENERAL SERVICE LESS THAN 50 kW SERVICE CLASSIFICATION","RPP_BT",2,null,"Total Bill on TOU (before Taxes)",null,null,null,{"$f":"SUM(I139:I146,I138)","v":271.92677199999997},null,null,{"$f":"SUM(L139:L146,L138)","v":276.26451199999997},{"$f":"L150-I150","v":4.3377399999999966},{"$f":"IF((I150)=0,\"\",(M150/I150))","v":1.5951868100725283E-2}]
["GENERAL SERVICE LESS THAN 50 kW SERVICE CLASSIFICATION","RPP",null,null,"HST",null,0.13,null,{"$f":"I150*G151","v":35.350480359999999},0.13,null,{"$f":"L150*J151","v":35.914386559999997},{"$f":"L151-I151","v":0.56390619999999814},{"$f":"IF((I151)=0,\"\",(M151/I151))","v":1.5951868100725242E-2}]
["GENERAL SERVICE LESS THAN 50 kW SERVICE CLASSIFICATION","RPP_NET",2,null,"Total Bill on TOU (before 8% Provincial Rebate)",null,null,null,{"$f":"SUM(I150:I151)","v":307.27725235999998},null,null,{"$f":"SUM(L150:L151)","v":312.17889855999999},{"$f":"SUM(M150:M151)","v":4.9016461999999947},{"$f":"IF((I152)=0,\"\",(M152/I152))","v":1.5951868100725276E-2}]
[{"$f":"A151","v":"GENERAL SERVICE LESS THAN 50 kW SERVICE CLASSIFICATION"},"RPP",null,null,"8% Provincial Rebate",null,-0.08,null,{"$f":"I150*G153","v":-21.75414176},{"$f":"G153","v":-0.08},null,{"$f":"L150*J153","v":-22.101160959999998},{"$f":"L153-I153","v":-0.34701919999999831},{"$f":"IF((I153)=0,\"\",(M153/I153))","v":1.5951868100725217E-2}]
["GENERAL SERVICE LESS THAN 50 kW SERVICE CLASSIFICATION","RPP_TOTAL",{"$f":"C129","v":2},null,"Total Bill on TOU",null,null,null,{"$f":"SUM(I150,I151,I153)","v":285.5231106},null,null,{"$f":"L150+L151+L153","v":290.07773759999998},{"$f":"L154-I154","v":4.5546269999999822},{"$f":"IF((I154)=0,\"\",(M154/I154))","v":1.5951868100725231E-2}]
["GENERAL SERVICE LESS THAN 50 kW SERVICE CLASSIFICATION","RPP"]
["GENERAL SERVICE LESS THAN 50 kW SERVICE CLASSIFICATION","Non-RPP (Retailer)",null,null,"Total Bill on Non-RPP Avg. Price",null,null,null,{"$f":"SUM(I147,I139:I143,I138)","v":319.80677199999997},null,null,{"$f":"SUM(L147,L139:L143,L138)","v":324.14451199999996},{"$f":"L156-I156","v":4.3377399999999966},{"$f":"IF((I156)=0,\"\",(M156/I156))","v":1.3563627727057628E-2}]
["GENERAL SERVICE LESS THAN 50 kW SERVICE CLASSIFICATION","Non-RPP (Retailer)",null,null,"HST",null,0.13,null,{"$f":"I156*G157","v":41.574880359999995},0.13,null,{"$f":"L156*J157","v":42.13878656},{"$f":"L157-I157","v":0.56390620000000524},{"$f":"IF((I157)=0,\"\",(M157/I157))","v":1.3563627727057765E-2}]
["GENERAL SERVICE LESS THAN 50 kW SERVICE CLASSIFICATION","Non-RPP (Retailer)",null,null,"Provincial Rebate",null,-0.08,null,{"$f":"I156*G158","v":-25.584541759999997},{"$f":"G158","v":-0.08},null,{"$f":"L156*J158","v":-25.931560959999999},{"$f":"L158-I158","v":-0.34701920000000186},{"$f":"IF((I158)=0,\"\",(M158/I158))","v":1.3563627727057711E-2}]
["GENERAL SERVICE LESS THAN 50 kW SERVICE CLASSIFICATION","Non-RPP (Retailer)_TOTAL",null,null,"Total Bill on Non-RPP Avg. Price",null,null,null,{"$f":"SUM(I156,I157,I158)","v":335.7971106},null,null,{"$f":"SUM(L156,L157,L158)","v":340.35173759999992},{"$f":"L159-I159","v":4.5546269999999254},{"$f":"IF((I159)=0,\"\",(M159/I159))","v":1.3563627727057414E-2}]
["GENERAL SERVICE LESS THAN 50 kW SERVICE CLASSIFICATION","Non-RPP (Retailer)"]
["GENERAL SERVICE LESS THAN 50 kW SERVICE CLASSIFICATION","Non-RPP (Other)",null,null,"Total Bill on Average IESO Wholesale Market Price",null,null,null,{"$f":"SUM(I148,I139:I143,I138)","v":319.80677199999997},null,null,{"$f":"SUM(L148,L139:L143,L138)","v":324.14451199999996},{"$f":"L161-I161","v":4.3377399999999966},{"$f":"IF((I161)=0,\"\",(M161/I161))","v":1.3563627727057628E-2}]
["GENERAL SERVICE LESS THAN 50 kW SERVICE CLASSIFICATION","Non-RPP (Other)",null,null,"HST",null,0.13,null,{"$f":"I161*G162","v":41.574880359999995},0.13,null,{"$f":"L161*J162","v":42.13878656},{"$f":"L162-I162","v":0.56390620000000524},{"$f":"IF((I162)=0,\"\",(M162/I162))","v":1.3563627727057765E-2}]
["GENERAL SERVICE LESS THAN 50 kW SERVICE CLASSIFICATION","Non-RPP (Other)",null,null,"Provincial Rebate",null,-0.08,null,{"$f":"I161*G163","v":-25.584541759999997},{"$f":"G163","v":-0.08},null,{"$f":"L161*J163","v":-25.931560959999999},{"$f":"L163-I163","v":-0.34701920000000186},{"$f":"IF((I163)=0,\"\",(M163/I163))","v":1.3563627727057711E-2}]
["GENERAL SERVICE LESS THAN 50 kW SERVICE CLASSIFICATION","Non-RPP (Other)_TOTAL",null,null,"Total Bill on Average IESO Wholesale Market Price",null,null,null,{"$f":"SUM(I161,I162,I163)","v":335.7971106},null,null,{"$f":"SUM(L161,L162,L163)","v":340.35173759999992},{"$f":"L164-I164","v":4.5546269999999254},{"$f":"IF((I164)=0,\"\",(M164/I164))","v":1.3563627727057414E-2}]
["GENERAL SERVICE LESS THAN 50 kW SERVICE CLASSIFICATION","Non-RPP (Other)"]
[]
[]
[null,null,null,null,"Customer Class:",{"$f":"E17","v":"GENERAL SERVICE 50 to 699 KW SERVICE CLASSIFICATION"},null,null,null,null,null,{"$f":"IF(O119=\"DEMAND - INTERVAL\",\"RTSR - INTERVAL METERED\",\"\")","v":""}]
[null,null,null,null,"RPP / Non-RPP:",{"$f":"H17","v":"Non-RPP (Other)"},null,null,"Class B"]
[null,null,null,null,"Consumption",{"$f":"K17","v":182500},"kWh"]
[null,null,null,null,"Demand",{"$f":"L17","v":500},"kW"]
[null,null,null,null,"Current Loss Factor",{"$f":"I17","v":1.0341}]
[null,null,null,null,"Proposed/Approved Loss Factor",{"$f":"J17","v":1.0341}]
[]
[null,null,null,null,null,null,"Current OEB-Approved",null,null,"Proposed",null,null,"Impact"]
[null,null,null,null,null,null,"Rate","Volume","Charge","Rate","Volume","Charge","$ Change","% Change"]
[null,null,null,null,null,null,"($)",null,"($)","($)",null,"($)"]
[{"$f":"F168","v":"GENERAL SERVICE 50 to 699 KW SERVICE CLASSIFICATION"},null,null,"GS50_699_F","Monthly Service Charge",null,{"$f":"IFERROR(SUMIF(RATES!B:B,'10th percentile'!D178,RATES!H:H),\"\")","v":125.33},1,{"$f":"H178*G178","v":125.33},{"$f":"IFERROR(SUMIF(RATES!B:B,'10th percentile'!D178,RATES!I:I),\"\")","v":126.46},1,{"$f":"K178*J178","v":126.46},{"$f":"L178-I178","v":1.1299999999999955},{"$f":"IF(ISERROR(M178/I178), \"\", M178/I178)","v":9.0161972392882421E-3}]
[{"$f":"A178","v":"GENERAL SERVICE 50 to 699 KW SERVICE CLASSIFICATION"},null,null,"GS50_699_V","Distribution Volumetric Rate",null,{"$f":"IFERROR(SUMIF(RATES!B:B,'10th percentile'!D179,RATES!H:H),\"\")","v":2.8386999999999998},{"$f":"IF($F171>0, $F171, $F170)","v":500},{"$f":"H179*G179","v":1419.35},{"$f":"IFERROR(SUMIF(RATES!B:B,'10th percentile'!D179,RATES!I:I),\"\")","v":2.8641999999999999},{"$f":"IF($F171>0, $F171, $F170)","v":500},{"$f":"K179*J179","v":1432.1},12.75,{"$f":"IF(ISERROR(M179/I179), \"\", M179/I179)","v":8.9829851692676231E-3}]
[{"$f":"A179","v":"GENERAL SERVICE 50 to 699 KW SERVICE CLASSIFICATION"},null,null,"GS50_699_FRR","Fixed Rate Riders",null,{"$f":"IFERROR(SUMIF(RATES!B:B,'10th percentile'!D180,RATES!H:H),\"\")","v":0},1,0,{"$f":"IFERROR(SUMIF(RATES!B:B,'10th percentile'!D180,RATES!I:I),\"\")","v":3.83},1,{"$f":"K180*J180","v":3.83},3.83,""]
[{"$f":"A180","v":"GENERAL SERVICE 50 to 699 KW SERVICE CLASSIFICATION"},null,null,"GS50_699_VRR","Volumetric Rate Riders",null,{"$f":"IFERROR(SUMIF(RATES!B:B,'10th percentile'!D181,RATES!H:H),\"\")","v":0.25240000000000001},{"$f":"IF($F171>0, $F171, $F170)","v":500},126.2,{"$f":"IFERROR(SUMIF(RATES!B:B,'10th percentile'!D181,RATES!I:I),\"\")","v":2.7300000000000001E-2},{"$f":"IF($F171>0, $F171, $F170)","v":500},13.65,-112.55,-0.89183835182250393]
["GENERAL SERVICE 50 to 699 KW SERVICE CLASSIFICATION","ST_A",{"$f":"B17","v":3},null,"Sub-Total A (excluding pass through)",null,null,null,{"$f":"SUM(I178:I181)","v":1670.8799999999999},null,null,{"$f":"SUM(L178:L181)","v":1576.04},-94.839999999999918,{"$f":"IF((I182)=0,\"\",(M182/I182))","v":-5.6760509432155465E-2}]
["GENERAL SERVICE 50 to 699 KW SERVICE CLASSIFICATION",null,null,null,"Line Losses on Cost of Power",null,{"$f":"IF((F170*12>=150000), 0, IF(F169=\"RPP\",(G197*0.65+G198*0.17+G199*0.18),IF(F169=\"Non-RPP (Retailer)\",G200,G201)))","v":0},{"$f":"IF(G183=0, 0, $F170*F172-F170)","v":0},{"$f":"H183*G183","v":0},{"$f":"IF((F170*12>=150000), 0, IF(F169=\"RPP\",(J197*0.65+J198*0.17+J199*0.18),IF(F169=\"Non-RPP (Retailer)\",J200,J201)))","v":0},{"$f":"IF(G183=0, 0, $F170*F172-F170)","v":0},{"$f":"K183*J183","v":0},{"$f":"L183-I183","v":0},{"$f":"IF(ISERROR(M183/I183), \"\", M183/I183)","v":""}]
["GENERAL SERVICE 50 to 699 KW SERVICE CLASSIFICATION",null,null,"GS50_699_DVA","Total Deferral/Variance Account Rate Riders",null,{"$f":"IFERROR(SUMIF(RATES!B:B,'10th percentile'!D184,RATES!H:H),\"\")","v":-1.2475000000000001},{"$f":"IF($F171>0, $F171, $F170)","v":500},{"$f":"H184*G184","v":-623.75},{"$f":"IFERROR(SUMIF(RATES!B:B,'10th percentile'!D184,RATES!I:I),\"\")","v":-0.35709999999999997},{"$f":"IF($F171>0, $F171, $F170)","v":500},{"$f":"K184*J184","v":-178.54999999999998},{"$f":"L184-I184","v":445.20000000000005},{"$f":"IF(ISERROR(M184/I184), \"\", M184/I184)","v":-0.71374749498998002}]
["GENERAL SERVICE 50 to 699 KW SERVICE CLASSIFICATION",null,null,"GS50_699_GA","GA Rate Riders",null,{"$f":"IFERROR(SUMIF(RATES!B:B,'10th percentile'!D185,RATES!H:H),\"\")","v":4.8999999999999998E-3},{"$f":"F170","v":182500},894.25,{"$f":"IFERROR(SUMIF(RATES!B:B,'10th percentile'!D185,RATES!I:I),\"\")","v":-8.9999999999999998E-4},{"$f":"K195","v":182500},-164.25,-1058.5,-1.1836734693877551]
[{"$f":"A185","v":"GENERAL SERVICE 50 to 699 KW SERVICE CLASSIFICATION"},null,null,"GS50_699_LV","Low Voltage Service Charge",null,{"$f":"IFERROR(SUMIF(RATES!B:B,'10th percentile'!D186,RATES!H:H),\"\")","v":0},{"$f":"IF($F171>0, $F171, $F170)","v":500},0,{"$f":"IFERROR(SUMIF(RATES!B:B,'10th percentile'!D186,RATES!I:I),\"\")","v":0},{"$f":"IF($F171>0, $F171, $F170)","v":500},0,0,""]
["GENERAL SERVICE 50 to 699 KW SERVICE CLASSIFICATION",null,null,null,"Smart Meter Entity Charge (if applicable)",null,0,1,{"$f":"H187*G187","v":0},0,1,{"$f":"K187*J187","v":0},0,{"$f":"IF(ISERROR(M187/I187), \"\", M187/I187)","v":""}]
["GENERAL SERVICE 50 to 699 KW SERVICE CLASSIFICATION","ST_B",{"$f":"C182","v":3},null,"Sub-Total B - Distribution (includes Sub-Total A)",null,null,null,{"$f":"SUM(I182:I187)","v":1941.3799999999999},null,null,{"$f":"SUM(L182:L187)","v":1233.24},-708.13999999999987,{"$f":"IF((I188)=0,\"\",(M188/I188))","v":-0.36476114928555969}]
["GENERAL SERVICE 50 to 699 KW SERVICE CLASSIFICATION",null,null,"GS50_699_TN","RTSR - Network",null,{"$f":"IFERROR(SUMIF(RATES!B:B,'10th percentile'!D189,RATES!H:H),\"\")","v":2.5604},{"$f":"IF($F171>0, $F171, $F170*$F172)","v":500},{"$f":"H189*G189","v":1280.2},{"$f":"IFERROR(SUMIF(RATES!B:B,'10th percentile'!D189,RATES!I:I),\"\")","v":2.5630000000000002},{"$f":"IF($F171>0, $F171, $F170*$F172)","v":500},{"$f":"K189*J189","v":1281.5},1.2999999999999545,{"$f":"IF(ISERROR(M189/I189), \"\", M189/I189)","v":1.0154663333853729E-3}]
["GENERAL SERVICE 50 to 699 KW SERVICE CLASSIFICATION",null,null,"GS50_699_TC","RTSR - Connection and/or Line and Transformation Connection",null,{"$f":"IFERROR(SUMIF(RATES!B:B,'10th percentile'!D190,RATES!H:H),\"\")","v":1.9177},{"$f":"IF($F171>0, $F171, $F170*$F172)","v":500},{"$f":"H190*G190","v":958.85},{"$f":"IFERROR(SUMIF(RATES!B:B,'10th percentile'!D190,RATES!I:I),\"\")","v":2.1878000000000002},{"$f":"IF($F171>0, $F171, $F170*$F172)","v":500},{"$f":"K190*J190","v":1093.9000000000001},135.05000000000007,{"$f":"IF(ISERROR(M190/I190), \"\", M190/I190)","v":0.14084580487041776}]
["GENERAL SERVICE 50 to 699 KW SERVICE CLASSIFICATION","ST_C",{"$f":"C182","v":3},null,"Sub-Total C - Delivery (including Sub-Total B)",null,null,null,{"$f":"SUM(I188:I190)","v":4180.43},null,null,{"$f":"SUM(L188:L190)","v":3608.64},-571.79000000000042,{"$f":"IF((I191)=0,\"\",(M191/I191))","v":-0.13677779558562167}]
["GENERAL SERVICE 50 to 699 KW SERVICE CLASSIFICATION",null,null,null,"Wholesale Market Service Charge (WMSC)",null,3.5999999999999999E-3,{"$f":"F170*F172","v":188723.25},{"$f":"H192*G192","v":679.40369999999996},3.5999999999999999E-3,{"$f":"F170*F172","v":188723.25},{"$f":"K192*J192","v":679.40369999999996},0,{"$f":"IF(ISERROR(M192/I192), \"\", M192/I192)","v":0}]
["GENERAL SERVICE 50 to 699 KW SERVICE CLASSIFICATION",null,null,null,"Rural and Remote Rate Protection (RRRP)",null,2.9999999999999997E-4,{"$f":"F170*F172","v":188723.25},56.616974999999996,2.9999999999999997E-4,{"$f":"F170*F172","v":188723.25},56.616974999999996,0,0]
["GENERAL SERVICE 50 to 699 KW SERVICE CLASSIFICATION",null,null,null,"Standard Supply Service Charge",null,0.25,null,0,0.25,null,0,0,""]
["GENERAL SERVICE 50 to 699 KW SERVICE CLASSIFICATION",null,null,null,"Debt Retirement Charge (DRC)",null,7.0000000000000001E-3,{"$f":"F170","v":182500},1277.5,7.0000000000000001E-3,{"$f":"F170","v":182500},1277.5,0,0]
["GENERAL SERVICE 50 to 699 KW SERVICE CLASSIFICATION"]
["GENERAL SERVICE 50 to 699 KW SERVICE CLASSIFICATION","RPP",null,null,"TOU - Off Peak",null,6.5000000000000002E-2,{"$f":"IF(AND(F170*12>=150000),0.65*F170*F172,0.65*F170)","v":122670.1125},{"$f":"H197*G197","v":7973.5573125000001},6.5000000000000002E-2,{"$f":"IF(AND(F170*12>=150000),0.65*F170*F173,0.65*F170)","v":122670.1125},{"$f":"K197*J197","v":7973.5573125000001},{"$f":"L197-I197","v":0},{"$f":"IF(ISERROR(M197/I197), \"\", M197/I197)","v":0}]
["GENERAL SERVICE 50 to 699 KW SERVICE CLASSIFICATION","RPP",null,null,"TOU - Mid Peak",null,9.5000000000000001E-2,{"$f":"IF(AND(F170*12>=150000),0.17*F170*F172,0.17*F170)","v":32082.952500000003},3047.8804875000005,9.5000000000000001E-2,{"$f":"IF(AND(F170*12>=150000),0.17*F170*F173,0.17*F170)","v":32082.952500000003},3047.8804875000005,0,0]
["GENERAL SERVICE 50 to 699 KW SERVICE CLASSIFICATION","RPP",null,null,"TOU - On Peak",null,0.13200000000000001,{"$f":"IF(AND(F170*12>=150000),0.18*F170*F172,0.18*F170)","v":33970.184999999998},4484.0644199999997,0.13200000000000001,{"$f":"IF(AND(F170*12>=150000),0.18*F170*F173,0.18*F170)","v":33970.184999999998},4484.0644199999997,0,0]
["GENERAL SERVICE 50 to 699 KW SERVICE CLASSIFICATION","Non-RPP (Retailer)",null,null,"Non-RPP Retailer Avg. Price",null,{"$f":"0.1061","v":0.1061},{"$f":"IF(AND(F170*12>=150000),F170*F172,F170)","v":188723.25},{"$f":"H200*G200","v":20023.536824999999},{"$f":"G200","v":0.1061},{"$f":"IF(AND(F170*12>=150000),F170*F173,F170)","v":188723.25},{"$f":"K200*J200","v":20023.536824999999},0,0]
["GENERAL SERVICE 50 to 699 KW SERVICE CLASSIFICATION","Non-RPP (Other)",null,null,"Average IESO Wholesale Market Price",null,{"$f":"G200","v":0.1061},{"$f":"IF(AND(F170*12>=150000),F170*F172,F170)","v":188723.25},{"$f":"H201*G201","v":20023.536824999999},{"$f":"G201","v":0.1061},{"$f":"IF(AND(F170*12>=150000),F170*F173,F170)","v":188723.25},{"$f":"K201*J201","v":20023.536824999999},0,0]
["GENERAL SERVICE 50 to 699 KW SERVICE CLASSIFICATION"]
["GENERAL SERVICE 50 to 699 KW SERVICE CLASSIFICATION","RPP",null,null,"Total Bill on TOU (before Taxes)",null,null,null,{"$f":"SUM(I192:I199,I191)","v":21699.452895000002},null,null,{"$f":"SUM(L192:L199,L191)","v":21127.662895000001},{"$f":"L203-I203","v":-571.79000000000087},{"$f":"IF((I203)=0,\"\",(M203/I203))","v":-2.6350433937979745E-2}]
["GENERAL SERVICE 50 to 699 KW SERVICE CLASSIFICATION","RPP",null,null,"HST",null,0.13,null,{"$f":"I203*G204","v":2820.9288763500003},0.13,null,{"$f":"L203*J204","v":2746.5961763500004},{"$f":"L204-I204","v":-74.332699999999932},{"$f":"IF((I204)=0,\"\",(M204/I204))","v":-2.635043393797968E-2}]
["GENERAL SERVICE 50 to 699 KW SERVICE CLASSIFICATION","RPP",null,null,"8% Provincial Rebate",null,-0.08,null,{"$f":"I203*G205","v":-1735.9562316000001},{"$f":"G205","v":-0.08},null,{"$f":"L203*J205","v":-1690.2130316000002},{"$f":"L205-I205","v":45.743199999999888},{"$f":"IF((I205)=0,\"\",(M205/I205))","v":-2.6350433937979641E-2}]
["GENERAL SERVICE 50 to 699 KW SERVICE CLASSIFICATION","RPP_TOTAL",null,null,"Total Bill on TOU",null,null,null,{"$f":"SUM(I203,I204,I205)","v":22784.425539750002},null,null,{"$f":"L203+L204+L205","v":22184.046039750003},{"$f":"L206-I206","v":-600.3794999999991},{"$f":"IF((I206)=0,\"\",(M206/I206))","v":-2.6350433937979666E-2}]
["GENERAL SERVICE 50 to 699 KW SERVICE CLASSIFICATION","RPP"]
["GENERAL SERVICE 50 to 699 KW SERVICE CLASSIFICATION","Non-RPP (Retailer)",null,null,"Total Bill on Non-RPP Avg. Price",null,null,null,{"$f":"SUM(I200,I192:I196,I191)","v":26217.487499999999},null,null,{"$f":"SUM(L200,L192:L196,L191)","v":25645.697499999998},{"$f":"L208-I208","v":-571.79000000000087},{"$f":"IF((I208)=0,\"\",(M208/I208))","v":-2.1809488800175872E-2}]
["GENERAL SERVICE 50 to 699 KW SERVICE CLASSIFICATION","Non-RPP (Retailer)",null,null,"HST",null,0.13,null,{"$f":"I208*G209","v":3408.2733750000002},0.13,null,{"$f":"L208*J209","v":3333.9406749999998},{"$f":"L209-I209","v":-74.332700000000386},{"$f":"IF((I209)=0,\"\",(M209/I209))","v":-2.1809488800175948E-2}]
["GENERAL SERVICE 50 to 699 KW SERVICE CLASSIFICATION","Non-RPP (Retailer)",null,null,"8% Provincial Rebate",null,-0.08,null,{"$f":"I208*G210","v":-2097.3989999999999},{"$f":"G210","v":-0.08},null,{"$f":"L208*J210","v":-2051.6558},{"$f":"L210-I210","v":45.743199999999888},{"$f":"IF((I210)=0,\"\",(M210/I210))","v":-2.1809488800175785E-2}]
["GENERAL SERVICE 50 to 699 KW SERVICE CLASSIFICATION","Non-RPP (Retailer)_TOTAL",null,null,"Total Bill on Non-RPP Avg. Price",null,null,null,{"$f":"SUM(I208,I209,I210)","v":27528.361874999999},null,null,{"$f":"SUM(L208,L209,L210)","v":26927.982375},{"$f":"L211-I211","v":-600.3794999999991},{"$f":"IF((I211)=0,\"\",(M211/I211))","v":-2.1809488800175806E-2}]
["GENERAL SERVICE 50 to 699 KW SERVICE CLASSIFICATION","Non-RPP (Retailer)"]
["GENERAL SERVICE 50 to 699 KW SERVICE CLASSIFICATION","Non-RPP (Other)_BT",3,null,"Total Bill on Average IESO Wholesale Market Price",null,null,null,{"$f":"SUM(I201,I192:I196,I191)","v":26217.487499999999},null,null,{"$f":"SUM(L201,L192:L196,L191)","v":25645.697499999998},{"$f":"L213-I213","v":-571.79000000000087},{"$f":"IF((I213)=0,\"\",(M213/I213))","v":-2.1809488800175872E-2}]
["GENERAL SERVICE 50 to 699 KW SERVICE CLASSIFICATION","Non-RPP (Other)",null,null,"HST",null,0.13,null,{"$f":"I213*G214","v":3408.2733750000002},0.13,null,{"$f":"L213*J214","v":3333.9406749999998},{"$f":"L214-I214","v":-74.332700000000386},{"$f":"IF((I214)=0,\"\",(M214/I214))","v":-2.1809488800175948E-2}]
["GENERAL SERVICE 50 to 699 KW SERVICE CLASSIFICATION","Non-RPP (Other)_NET",3,null,"Total Bill on Average IESO WMP (before 8% Provincial Rebate)",null,null,null,{"$f":"SUM(I213:I214)","v":29625.760875},null,null,{"$f":"SUM(L213:L214)","v":28979.638175},{"$f":"SUM(M213:M214)","v":-646.12270000000126},{"$f":"IF((I215)=0,\"\",(M215/I215))","v":-2.1809488800175879E-2}]
[{"$f":"A214","v":"GENERAL SERVICE 50 to 699 KW SERVICE CLASSIFICATION"},"Non-RPP (Other)",null,null,"8% Provincial Rebate",null,0,null,{"$f":"I213*G216","v":0},{"$f":"G216","v":0},null,{"$f":"L213*J216","v":0},{"$f":"L216-I216","v":0},{"$f":"IF((I216)=0,\"\",(M216/I216))","v":""}]
["GENERAL SERVICE 50 to 699 KW SERVICE CLASSIFICATION","Non-RPP (Other)_TOTAL",{"$f":"C182","v":3},null,"Total Bill on Average IESO Wholesale Market Price",null,null,null,{"$f":"SUM(I213,I214,I216)","v":29625.760875},null,null,{"$f":"SUM(L213,L214,L216)","v":28979.638175},{"$f":"L217-I217","v":-646.1226999999999},{"$f":"IF((I217)=0,\"\",(M217/I217))","v":-2.1809488800175834E-2}]
["GENERAL SERVICE 50 to 699 KW SERVICE CLASSIFICATION","Non-RPP (Other)"]
[]
[]
[null,null,null,null,"Customer Class:",{"$f":"E18","v":"GENERAL SERVICE 700 to 4,999 KW SERVICE CLASSIFICATION"},null,null,null,null,null,{"$f":"IF(O172=\"DEMAND - INTERVAL\",\"RTSR - INTERVAL METERED\",\"\")","v":""}]
[null,null,null,null,"RPP / Non-RPP:",{"$f":"H18","v":"Non-RPP (Other)"},null,null,"Class B"]
[null,null,null,null,"Consumption",{"$f":"K18","v":627216},"kWh"]
[null,null,null,null,"Demand",{"$f":"L18","v":1432},"kW"]
[null,null,null,null,"Current Loss Factor",{"$f":"I18","v":1.0341}]
[null,null,null,null,"Proposed/Approved Loss Factor",{"$f":"J18","v":1.0341}]
[]
[null,null,null,null,null,null,"Current OEB-Approved",null,null,"Proposed",null,null,"Impact"]
[null,null,null,null,null,null,"Rate","Volume","Charge","Rate","Volume","Charge","$ Change","% Change"]
[null,null,null,null,null,null,"($)",null,"($)","($)",null,"($)"]
[{"$f":"F221","v":"GENERAL SERVICE 700 to 4,999 KW SERVICE CLASSIFICATION"},null,null,"GS700_F","Monthly Service Charge",null,{"$f":"IFERROR(SUMIF(RATES!B:B,'10th percentile'!D231,RATES!H:H),\"\")","v":1130.8399999999999},1,{"$f":"H231*G231","v":1130.8399999999999},{"$f":"IFERROR(SUMIF(RATES!B:B,'10th percentile'!D231,RATES!I:I),\"\")","v":1141.02},1,{"$f":"K231*J231","v":1141.02},{"$f":"L231-I231","v":10.180000000000064},{"$f":"IF(ISERROR(M231/I231), \"\", M231/I231)","v":9.0021576880903263E-3}]
[{"$f":"A231","v":"GENERAL SERVICE 700 to 4,999 KW SERVICE CLASSIFICATION"},null,null,"GS700_V","Distribution Volumetric Rate",null,{"$f":"IFERROR(SUMIF(RATES!B:B,'10th percentile'!D232,RATES!H:H),\"\")","v":3.2953000000000001},{"$f":"IF($F224>0, $F224, $F223)","v":1432},{"$f":"H232*G232","v":4718.8696},{"$f":"IFERROR(SUMIF(RATES!B:B,'10th percentile'!D232,RATES!I:I),\"\")","v":3.3250000000000002},{"$f":"IF($F224>0, $F224, $F223)","v":1432},{"$f":"K232*J232","v":4761.4000000000005},42.530400000000554,{"$f":"IF(ISERROR(M232/I232), \"\", M232/I232)","v":9.0128364640549834E-3}]
[{"$f":"A232","v":"GENERAL SERVICE 700 to 4,999 KW SERVICE CLASSIFICATION"},null,null,"GS700_FRR","Fixed Rate Riders",null,{"$f":"IFERROR(SUMIF(RATES!B:B,'10th percentile'!D233,RATES!H:H),\"\")","v":0},1,0,{"$f":"IFERROR(SUMIF(RATES!B:B,'10th percentile'!D233,RATES!I:I),\"\")","v":38.409999999999997},1,{"$f":"K233*J233","v":38.409999999999997},38.409999999999997,""]
[{"$f":"A233","v":"GENERAL SERVICE 700 to 4,999 KW SERVICE CLASSIFICATION"},null,null,"GS700_VRR","Volumetric Rate Riders",null,{"$f":"IFERROR(SUMIF(RATES!B:B,'10th percentile'!D234,RATES!H:H),\"\")","v":0.20499999999999999},{"$f":"IF($F224>0, $F224, $F223)","v":1432},293.56,{"$f":"IFERROR(SUMIF(RATES!B:B,'10th percentile'!D234,RATES!I:I),\"\")","v":3.1699999999999999E-2},{"$f":"IF($F224>0, $F224, $F223)","v":1432},45.394399999999997,-248.16560000000001,-0.84536585365853667]
["GENERAL SERVICE 700 to 4,999 KW SERVICE CLASSIFICATION","ST_A",{"$f":"B18","v":4},null,"Sub-Total A (excluding pass through)",null,null,null,{"$f":"SUM(I231:I234)","v":6143.2696000000005},null,null,{"$f":"SUM(L231:L234)","v":5986.2244000000001},-157.04520000000048,{"$f":"IF((I235)=0,\"\",(M235/I235))","v":-2.5563781215136718E-2}]
["GENERAL SERVICE 700 to 4,999 KW SERVICE CLASSIFICATION",null,null,null,"Line Losses on Cost of Power",null,{"$f":"IF((F223*12>=150000), 0, IF(F222=\"RPP\",(G250*0.65+G251*0.17+G252*0.18),IF(F222=\"Non-RPP (Retailer)\",G253,G254)))","v":0},{"$f":"IF(G236=0, 0, $F223*F225-F223)","v":0},{"$f":"H236*G236","v":0},{"$f":"IF((F223*12>=150000), 0, IF(F222=\"RPP\",(J250*0.65+J251*0.17+J252*0.18),IF(F222=\"Non-RPP (Retailer)\",J253,J254)))","v":0},{"$f":"IF(G236=0, 0, $F223*F225-F223)","v":0},{"$f":"K236*J236","v":0},{"$f":"L236-I236","v":0},{"$f":"IF(ISERROR(M236/I236), \"\", M236/I236)","v":""}]
["GENERAL SERVICE 700 to 4,999 KW SERVICE CLASSIFICATION",null,null,"GS700_DVA","Total Deferral/Variance Account Rate Riders",null,{"$f":"IFERROR(SUMIF(RATES!B:B,'10th percentile'!D237,RATES!H:H),\"\")","v":-1.4299000000000002},{"$f":"IF($F224>0, $F224, $F223)","v":1432},{"$f":"H237*G237","v":-2047.6168000000002},{"$f":"IFERROR(SUMIF(RATES!B:B,'10th percentile'!D237,RATES!I:I),\"\")","v":-0.4158},{"$f":"IF($F224>0, $F224, $F223)","v":1432},{"$f":"K237*J237","v":-595.42560000000003},{"$f":"L237-I237","v":1452.1912000000002},{"$f":"IF(ISERROR(M237/I237), \"\", M237/I237)","v":-0.70921043429610464}]
["GENERAL SERVICE 700 to 4,999 KW SERVICE CLASSIFICATION",null,null,"GS700_GA","GA Rate Riders",null,{"$f":"IFERROR(SUMIF(RATES!B:B,'10th percentile'!D238,RATES!H:H),\"\")","v":4.8999999999999998E-3},{"$f":"F223","v":627216},3073.3584000000001,{"$f":"IFERROR(SUMIF(RATES!B:B,'10th percentile'!D238,RATES!I:I),\"\")","v":-8.9999999999999998E-4},{"$f":"K248","v":627216},-564.49439999999993,-3637.8528000000001,-1.1836734693877551]
["GENERAL SERVICE 700 to 4,999 KW SERVICE CLASSIFICATION",null,null,"GS700_LV","Low Voltage Service Charge",null,{"$f":"IFERROR(SUMIF(RATES!B:B,'10th percentile'!D239,RATES!H:H),\"\")","v":0},{"$f":"IF($F224>0, $F224, $F223)","v":1432},0,{"$f":"IFERROR(SUMIF(RATES!B:B,'10th percentile'!D239,RATES!I:I),\"\")","v":0},{"$f":"IF($F224>0, $F224, $F223)","v":1432},0,0,""]
["GENERAL SERVICE 700 to 4,999 KW SERVICE CLASSIFICATION",null,null,null,"Smart Meter Entity Charge (if applicable)",null,0,1,{"$f":"H240*G240","v":0},0,1,{"$f":"K240*J240","v":0},0,{"$f":"IF(ISERROR(M240/I240), \"\", M240/I240)","v":""}]
["GENERAL SERVICE 700 to 4,999 KW SERVICE CLASSIFICATION","ST_B",{"$f":"C235","v":4},null,"Sub-Total B - Distribution (includes Sub-Total A)",null,null,null,{"$f":"SUM(I235:I240)","v":7169.0112000000008},null,null,{"$f":"SUM(L235:L240)","v":4826.3044000000009},-2342.7067999999999,{"$f":"IF((I241)=0,\"\",(M241/I241))","v":-0.32678241596274804}]
["GENERAL SERVICE 700 to 4,999 KW SERVICE CLASSIFICATION",null,null,"GS700_TN","RTSR - Network",null,{"$f":"IFERROR(SUMIF(RATES!B:B,'10th percentile'!D242,RATES!H:H),\"\")","v":2.8714},{"$f":"IF($F224>0, $F224, $F223*$F225)","v":1432},{"$f":"H242*G242","v":4111.8447999999999},{"$f":"IFERROR(SUMIF(RATES!B:B,'10th percentile'!D242,RATES!I:I),\"\")","v":2.8742999999999999},{"$f":"IF($F224>0, $F224, $F223*$F225)","v":1432},{"$f":"K242*J242","v":4115.9975999999997},4.1527999999998428,{"$f":"IF(ISERROR(M242/I242), \"\", M242/I242)","v":1.0099602981123808E-3}]
["GENERAL SERVICE 700 to 4,999 KW SERVICE CLASSIFICATION",null,null,"GS700_TC","RTSR - Connection and/or Line and Transformation Connection",null,{"$f":"IFERROR(SUMIF(RATES!B:B,'10th percentile'!D243,RATES!H:H),\"\")","v":2.0613999999999999},{"$f":"IF($F224>0, $F224, $F223*$F225)","v":1432},{"$f":"H243*G243","v":2951.9247999999998},{"$f":"IFERROR(SUMIF(RATES!B:B,'10th percentile'!D243,RATES!I:I),\"\")","v":2.3517000000000001},{"$f":"IF($F224>0, $F224, $F223*$F225)","v":1432},{"$f":"K243*J243","v":3367.6344000000004},415.70960000000059,{"$f":"IF(ISERROR(M243/I243), \"\", M243/I243)","v":0.14082662268361329}]
["GENERAL SERVICE 700 to 4,999 KW SERVICE CLASSIFICATION","ST_C",{"$f":"C235","v":4},null,"Sub-Total C - Delivery (including Sub-Total B)",null,null,null,{"$f":"SUM(I241:I243)","v":14232.7808},null,null,{"$f":"SUM(L241:L243)","v":12309.936400000001},-1922.8444,{"$f":"IF((I244)=0,\"\",(M244/I244))","v":-0.1350996988585674}]
["GENERAL SERVICE 700 to 4,999 KW SERVICE CLASSIFICATION",null,null,null,"Wholesale Market Service Charge (WMSC)",null,3.5999999999999999E-3,{"$f":"F223*F225","v":648604.06559999997},{"$f":"H245*G245","v":2334.97463616},3.5999999999999999E-3,{"$f":"F223*F225","v":648604.06559999997},{"$f":"K245*J245","v":2334.97463616},0,{"$f":"IF(ISERROR(M245/I245), \"\", M245/I245)","v":0}]
["GENERAL SERVICE 700 to 4,999 KW SERVICE CLASSIFICATION",null,null,null,"Rural and Remote Rate Protection (RRRP)",null,2.9999999999999997E-4,{"$f":"F223*F225","v":648604.06559999997},194.58121967999998,2.9999999999999997E-4,{"$f":"F223*F225","v":648604.06559999997},194.58121967999998,0,0]
["GENERAL SERVICE 700 to 4,999 KW SERVICE CLASSIFICATION",null,null,null,"Standard Supply Service Charge",null,0.25,null,0,0.25,null,0,0,""]
["GENERAL SERVICE 700 to 4,999 KW SERVICE CLASSIFICATION",null,null,null,"Debt Retirement Charge (DRC)",null,7.0000000000000001E-3,{"$f":"F223","v":627216},4390.5119999999997,7.0000000000000001E-3,{"$f":"F223","v":627216},4390.5119999999997,0,0]
["GENERAL SERVICE 700 to 4,999 KW SERVICE CLASSIFICATION"]
["GENERAL SERVICE 700 to 4,999 KW SERVICE CLASSIFICATION","RPP",null,null,"TOU - Off Peak",null,6.5000000000000002E-2,{"$f":"IF(AND(F223*12>=150000),0.65*F223*F225,0.65*F223)","v":421592.64264000003},{"$f":"H250*G250","v":27403.521771600004},6.5000000000000002E-2,{"$f":"IF(AND(F223*12>=150000),0.65*F223*F226,0.65*F223)","v":421592.64264000003},{"$f":"K250*J250","v":27403.521771600004},{"$f":"L250-I250","v":0},{"$f":"IF(ISERROR(M250/I250), \"\", M250/I250)","v":0}]
["GENERAL SERVICE 700 to 4,999 KW SERVICE CLASSIFICATION","RPP",null,null,"TOU - Mid Peak",null,9.5000000000000001E-2,{"$f":"IF(AND(F223*12>=150000),0.17*F223*F225,0.17*F223)","v":110262.691152},10474.95565944,9.5000000000000001E-2,{"$f":"IF(AND(F223*12>=150000),0.17*F223*F226,0.17*F223)","v":110262.691152},10474.95565944,0,0]
["GENERAL SERVICE 700 to 4,999 KW SERVICE CLASSIFICATION","RPP",null,null,"TOU - On Peak",null,0.13200000000000001,{"$f":"IF(AND(F223*12>=150000),0.18*F223*F225,0.18*F223)","v":116748.731808},15410.832598656001,0.13200000000000001,{"$f":"IF(AND(F223*12>=150000),0.18*F223*F226,0.18*F223)","v":116748.731808},15410.832598656001,0,0]
["GENERAL SERVICE 700 to 4,999 KW SERVICE CLASSIFICATION","Non-RPP (Retailer)",null,null,"Non-RPP Retailer Avg. Price",null,{"$f":"0.1061","v":0.1061},{"$f":"IF(AND(F223*12>=150000),F223*F225,F223)","v":648604.06559999997},{"$f":"H253*G253","v":68816.891360159992},{"$f":"G253","v":0.1061},{"$f":"IF(AND(F223*12>=150000),F223*F226,F223)","v":648604.06559999997},{"$f":"K253*J253","v":68816.891360159992},0,0]
["GENERAL SERVICE 700 to 4,999 KW SERVICE CLASSIFICATION","Non-RPP (Other)",null,null,"Average IESO Wholesale Market Price",null,{"$f":"G253","v":0.1061},{"$f":"IF(AND(F223*12>=150000),F223*F225,F223)","v":648604.06559999997},{"$f":"H254*G254","v":68816.891360159992},{"$f":"G254","v":0.1061},{"$f":"IF(AND(F223*12>=150000),F223*F226,F223)","v":648604.06559999997},{"$f":"K254*J254","v":68816.891360159992},0,0]
["GENERAL SERVICE 700 to 4,999 KW SERVICE CLASSIFICATION"]
["GENERAL SERVICE 700 to 4,999 KW SERVICE CLASSIFICATION","RPP",null,null,"Total Bill on TOU (before Taxes)",null,null,null,{"$f":"SUM(I245:I252,I244)","v":74442.158685536007},null,null,{"$f":"SUM(L245:L252,L244)","v":72519.314285536006},{"$f":"L256-I256","v":-1922.8444000000018},{"$f":"IF((I256)=0,\"\",(M256/I256))","v":-2.5830046225857328E-2}]
["GENERAL SERVICE 700 to 4,999 KW SERVICE CLASSIFICATION","RPP",null,null,"HST",null,0.13,null,{"$f":"I256*G257","v":9677.4806291196819},0.13,null,{"$f":"L256*J257","v":9427.5108571196815},{"$f":"L257-I257","v":-249.96977200000038},{"$f":"IF((I257)=0,\"\",(M257/I257))","v":-2.5830046225857342E-2}]
["GENERAL SERVICE 700 to 4,999 KW SERVICE CLASSIFICATION","RPP",null,null,"8% Provincial Rebate",null,-0.08,null,{"$f":"I256*G258","v":-5955.3726948428803},{"$f":"G258","v":-0.08},null,{"$f":"L256*J258","v":-5801.5451428428805},{"$f":"L258-I258","v":153.82755199999974},{"$f":"IF((I258)=0,\"\",(M258/I258))","v":-2.5830046225857262E-2}]
["GENERAL SERVICE 700 to 4,999 KW SERVICE CLASSIFICATION","RPP_TOTAL",null,null,"Total Bill on TOU",null,null,null,{"$f":"SUM(I256,I257,I258)","v":78164.266619812814},null,null,{"$f":"L256+L257+L258","v":76145.279999812803},{"$f":"L259-I259","v":-2018.9866200000106},{"$f":"IF((I259)=0,\"\",(M259/I259))","v":-2.5830046225857439E-2}]
["GENERAL SERVICE 700 to 4,999 KW SERVICE CLASSIFICATION","RPP"]
["GENERAL SERVICE 700 to 4,999 KW SERVICE CLASSIFICATION","Non-RPP (Retailer)",null,null,"Total Bill on Non-RPP Avg. Price",null,null,null,{"$f":"SUM(I253,I245:I249,I244)","v":89969.740015999996},null,null,{"$f":"SUM(L253,L245:L249,L244)","v":88046.895615999994},{"$f":"L261-I261","v":-1922.8444000000018},{"$f":"IF((I261)=0,\"\",(M261/I261))","v":-2.1372123556854201E-2}]
["GENERAL SERVICE 700 to 4,999 KW SERVICE CLASSIFICATION","Non-RPP (Retailer)",null,null,"HST",null,0.13,null,{"$f":"I261*G262","v":11696.066202079999},0.13,null,{"$f":"L261*J262","v":11446.096430079999},{"$f":"L262-I262","v":-249.96977200000038},{"$f":"IF((I262)=0,\"\",(M262/I262))","v":-2.1372123556854215E-2}]
["GENERAL SERVICE 700 to 4,999 KW SERVICE CLASSIFICATION","Non-RPP (Retailer)",null,null,"8% Provincial Rebate",null,-0.08,null,{"$f":"I261*G263","v":-7197.5792012800002},{"$f":"G263","v":-0.08},null,{"$f":"L261*J263","v":-7043.7516492799996},{"$f":"L263-I263","v":153.82755200000065},{"$f":"IF((I263)=0,\"\",(M263/I263))","v":-2.1372123556854271E-2}]
["GENERAL SERVICE 700 to 4,999 KW SERVICE CLASSIFICATION","Non-RPP (Retailer)_TOTAL",null,null,"Total Bill on Non-RPP Avg. Price",null,null,null,{"$f":"SUM(I261,I262,I263)","v":94468.227016799996},null,null,{"$f":"SUM(L261,L262,L263)","v":92449.240396799985},{"$f":"L264-I264","v":-2018.9866200000106},{"$f":"IF((I264)=0,\"\",(M264/I264))","v":-2.1372123556854295E-2}]
["GENERAL SERVICE 700 to 4,999 KW SERVICE CLASSIFICATION","Non-RPP (Retailer)"]
["GENERAL SERVICE 700 to 4,999 KW SERVICE CLASSIFICATION","Non-RPP (Other)_BT",4,null,"Total Bill on Average IESO Wholesale Market Price",null,null,null,{"$f":"SUM(I254,I245:I249,I244)","v":89969.740015999996},null,null,{"$f":"SUM(L254,L245:L249,L244)","v":88046.895615999994},{"$f":"L266-I266","v":-1922.8444000000018},{"$f":"IF((I266)=0,\"\",(M266/I266))","v":-2.1372123556854201E-2}]
["GENERAL SERVICE 700 to 4,999 KW SERVICE CLASSIFICATION","Non-RPP (Other)",null,null,"HST",null,0.13,null,{"$f":"I266*G267","v":11696.066202079999},0.13,null,{"$f":"L266*J267","v":11446.096430079999},{"$f":"L267-I267","v":-249.96977200000038},{"$f":"IF((I267)=0,\"\",(M267/I267))","v":-2.1372123556854215E-2}]
["GENERAL SERVICE 700 to 4,999 KW SERVICE CLASSIFICATION","Non-RPP (Other)_NET",4,null,"Total Bill on Average IESO WMP (before 8% Provincial Rebate)",null,null,null,{"$f":"SUM(I266:I267)","v":101665.80621807999},null,null,{"$f":"SUM(L266:L267)","v":99492.992046079991},{"$f":"SUM(M266:M267)","v":-2172.8141720000021},{"$f":"IF((I268)=0,\"\",(M268/I268))","v":-2.1372123556854205E-2}]
[{"$f":"A267","v":"GENERAL SERVICE 700 to 4,999 KW SERVICE CLASSIFICATION"},"Non-RPP (Other)",null,null,"8% Provincial Rebate",null,0,null,{"$f":"I266*G269","v":0},{"$f":"G269","v":0},null,{"$f":"L266*J269","v":0},{"$f":"L269-I269","v":0},{"$f":"IF((I269)=0,\"\",(M269/I269))","v":""}]
["GENERAL SERVICE 700 to 4,999 KW SERVICE CLASSIFICATION","Non-RPP (Other)_TOTAL",{"$f":"C235","v":4},null,"Total Bill on Average IESO Wholesale Market Price",null,null,null,{"$f":"SUM(I266,I267,I269)","v":101665.80621807999},null,null,{"$f":"SUM(L266,L267,L269)","v":99492.992046079991},{"$f":"L270-I270","v":-2172.8141719999985},{"$f":"IF((I270)=0,\"\",(M270/I270))","v":-2.137212355685417E-2}]
["GENERAL SERVICE 700 to 4,999 KW SERVICE CLASSIFICATION","Non-RPP (Other)"]
[]
[]
[null,null,null,null,"Customer Class:",{"$f":"E19","v":"LARGE USE SERVICE CLASSIFICATION"},null,null,null,null,null,{"$f":"IF(O225=\"DEMAND - INTERVAL\",\"RTSR - INTERVAL METERED\",\"\")","v":""}]
[null,null,null,null,"RPP / Non-RPP:",{"$f":"H19","v":"Non-RPP (Other)"},null,null,"Class A"]
[null,null,null,null,"Consumption",{"$f":"K19","v":10220000},"kWh"]
[null,null,null,null,"Demand",{"$f":"L19","v":20000},"kW"]
[null,null,null,null,"Current Loss Factor",{"$f":"I19","v":1.0145}]
[null,null,null,null,"Proposed/Approved Loss Factor",{"$f":"J19","v":1.0145}]
[]
[null,null,null,null,null,null,"Current OEB-Approved",null,null,"Proposed",null,null,"Impact"]
[null,null,null,null,null,null,"Rate","Volume","Charge","Rate","Volume","Charge","$ Change","% Change"]
[null,null,null,null,null,null,"($)",null,"($)","($)",null,"($)"]
[{"$f":"F274","v":"LARGE USE SERVICE CLASSIFICATION"},null,null,"LU_F","Monthly Service Charge",null,{"$f":"IFERROR(SUMIF(RATES!B:B,'10th percentile'!D284,RATES!H:H),\"\")","v":4705.66},1,{"$f":"H284*G284","v":4705.66},{"$f":"IFERROR(SUMIF(RATES!B:B,'10th percentile'!D284,RATES!I:I),\"\")","v":4748.01},1,{"$f":"K284*J284","v":4748.01},{"$f":"L284-I284","v":42.350000000000364},{"$f":"IF(ISERROR(M284/I284), \"\", M284/I284)","v":8.9998002405614445E-3}]
[{"$f":"A284","v":"LARGE USE SERVICE CLASSIFICATION"},null,null,"LU_V","Distribution Volumetric Rate",null,{"$f":"IFERROR(SUMIF(RATES!B:B,'10th percentile'!D285,RATES!H:H),\"\")","v":2.4948999999999999},{"$f":"IF($F277>0, $F277, $F276)","v":20000},{"$f":"H285*G285","v":49898},{"$f":"IFERROR(SUMIF(RATES!B:B,'10th percentile'!D285,RATES!I:I),\"\")","v":2.5173999999999999},{"$f":"IF($F277>0, $F277, $F276)","v":20000},{"$f":"K285*J285","v":50348},450,{"$f":"IF(ISERROR(M285/I285), \"\", M285/I285)","v":9.018397530963165E-3}]
[{"$f":"A285","v":"LARGE USE SERVICE CLASSIFICATION"},null,null,"LU_FRR","Fixed Rate Riders",null,{"$f":"IFERROR(SUMIF(RATES!B:B,'10th percentile'!D286,RATES!H:H),\"\")","v":0},1,0,{"$f":"IFERROR(SUMIF(RATES!B:B,'10th percentile'!D286,RATES!I:I),\"\")","v":165.47},1,{"$f":"K286*J286","v":165.47},165.47,""]
[{"$f":"A286","v":"LARGE USE SERVICE CLASSIFICATION"},null,null,"LU_VRR","Volumetric Rate Riders",null,{"$f":"IFERROR(SUMIF(RATES!B:B,'10th percentile'!D287,RATES!H:H),\"\")","v":0.30410000000000004},{"$f":"IF($F277>0, $F277, $F276)","v":20000},6082.0000000000009,{"$f":"IFERROR(SUMIF(RATES!B:B,'10th percentile'!D287,RATES!I:I),\"\")","v":2.4E-2},{"$f":"IF($F277>0, $F277, $F276)","v":20000},480,-5602.0000000000009,-0.9210785925682341]
["LARGE USE SERVICE CLASSIFICATION","ST_A",{"$f":"B19","v":5},null,"Sub-Total A (excluding pass through)",null,null,null,{"$f":"SUM(I284:I287)","v":60685.66},null,null,{"$f":"SUM(L284:L287)","v":55741.48},-4944.18,{"$f":"IF((I288)=0,\"\",(M288/I288))","v":-8.1471965535185736E-2}]
["LARGE USE SERVICE CLASSIFICATION",null,null,null,"Line Losses on Cost of Power",null,{"$f":"IF((F276*12>=150000), 0, IF(F275=\"RPP\",(G303*0.65+G304*0.17+G305*0.18),IF(F275=\"Non-RPP (Retailer)\",G306,G307)))","v":0},{"$f":"IF(G289=0, 0, $F276*F278-F276)","v":0},{"$f":"H289*G289","v":0},{"$f":"IF((F276*12>=150000), 0, IF(F275=\"RPP\",(J303*0.65+J304*0.17+J305*0.18),IF(F275=\"Non-RPP (Retailer)\",J306,J307)))","v":0},{"$f":"IF(G289=0, 0, $F276*F278-F276)","v":0},{"$f":"K289*J289","v":0},{"$f":"L289-I289","v":0},{"$f":"IF(ISERROR(M289/I289), \"\", M289/I289)","v":""}]
["LARGE USE SERVICE CLASSIFICATION",null,null,"LU_DVA","Total Deferral/Variance Account Rate Riders",null,{"$f":"IFERROR(SUMIF(RATES!B:B,'10th percentile'!D290,RATES!H:H),\"\")","v":-2.0206},{"$f":"IF($F277>0, $F277, $F276)","v":20000},{"$f":"H290*G290","v":-40412},{"$f":"IFERROR(SUMIF(RATES!B:B,'10th percentile'!D290,RATES!I:I),\"\")","v":-0.55200000000000005},{"$f":"IF($F277>0, $F277, $F276)","v":20000},{"$f":"K290*J290","v":-11040.000000000002},{"$f":"L290-I290","v":29372},{"$f":"IF(ISERROR(M290/I290), \"\", M290/I290)","v":-0.72681381767791742}]
["LARGE USE SERVICE CLASSIFICATION",null,null,"LU_GA","GA Rate Riders",null,{"$f":"IFERROR(SUMIF(RATES!B:B,'10th percentile'!D291,RATES!H:H),\"\")","v":0},{"$f":"F276","v":10220000},0,{"$f":"IFERROR(SUMIF(RATES!B:B,'10th percentile'!D291,RATES!I:I),\"\")","v":0},{"$f":"F276","v":10220000},0,0,""]
["LARGE USE SERVICE CLASSIFICATION",null,null,"LU_LV","Low Voltage Service Charge",null,{"$f":"IFERROR(SUMIF(RATES!B:B,'10th percentile'!D292,RATES!H:H),\"\")","v":0},{"$f":"IF($F277>0, $F277, $F276)","v":20000},0,{"$f":"IFERROR(SUMIF(RATES!B:B,'10th percentile'!D292,RATES!I:I),\"\")","v":0},{"$f":"IF($F277>0, $F277, $F276)","v":20000},0,0,""]
["LARGE USE SERVICE CLASSIFICATION",null,null,null,"Smart Meter Entity Charge (if applicable)",null,null,1,{"$f":"H293*G293","v":0},null,1,{"$f":"K293*J293","v":0},0,{"$f":"IF(ISERROR(M293/I293), \"\", M293/I293)","v":""}]
["LARGE USE SERVICE CLASSIFICATION","ST_B",{"$f":"C288","v":5},null,"Sub-Total B - Distribution (includes Sub-Total A)",null,null,null,{"$f":"SUM(I288:I293)","v":20273.660000000003},null,null,{"$f":"SUM(L288:L293)","v":44701.48},24427.82,{"$f":"IF((I294)=0,\"\",(M294/I294))","v":1.2049042945378385}]
["LARGE USE SERVICE CLASSIFICATION",null,null,"LU_TN","RTSR - Network",null,{"$f":"IFERROR(SUMIF(RATES!B:B,'10th percentile'!D295,RATES!H:H),\"\")","v":3.2498999999999998},{"$f":"IF($F277>0, $F277, $F276*$F278)","v":20000},{"$f":"H295*G295","v":64997.999999999993},{"$f":"IFERROR(SUMIF(RATES!B:B,'10th percentile'!D295,RATES!I:I),\"\")","v":3.2532000000000001},{"$f":"IF($F277>0, $F277, $F276*$F278)","v":20000},{"$f":"K295*J295","v":65064},66.000000000007276,{"$f":"IF(ISERROR(M295/I295), \"\", M295/I295)","v":1.0154158589496182E-3}]
["LARGE USE SERVICE CLASSIFICATION",null,null,"LU_TC","RTSR - Connection and/or Line and Transformation Connection",null,{"$f":"IFERROR(SUMIF(RATES!B:B,'10th percentile'!D296,RATES!H:H),\"\")","v":2.3826000000000001},{"$f":"IF($F277>0, $F277, $F276*$F278)","v":20000},{"$f":"H296*G296","v":47652},{"$f":"IFERROR(SUMIF(RATES!B:B,'10th percentile'!D296,RATES!I:I),\"\")","v":2.7181000000000002},{"$f":"IF($F277>0, $F277, $F276*$F278)","v":20000},{"$f":"K296*J296","v":54362.000000000007},6710.0000000000073,{"$f":"IF(ISERROR(M296/I296), \"\", M296/I296)","v":0.14081255771006479}]
["LARGE USE SERVICE CLASSIFICATION","ST_C",{"$f":"C288","v":5},null,"Sub-Total C - Delivery (including Sub-Total B)",null,null,null,{"$f":"SUM(I294:I296)","v":132923.66},null,null,{"$f":"SUM(L294:L296)","v":164127.48000000001},31203.820000000007,{"$f":"IF((I297)=0,\"\",(M297/I297))","v":0.23474993090018742}]
["LARGE USE SERVICE CLASSIFICATION",null,null,null,"Wholesale Market Service Charge (WMSC)",null,3.5999999999999999E-3,{"$f":"F276*F278","v":10368190},{"$f":"H298*G298","v":37325.483999999997},3.5999999999999999E-3,{"$f":"F276*F278","v":10368190},{"$f":"K298*J298","v":37325.483999999997},0,{"$f":"IF(ISERROR(M298/I298), \"\", M298/I298)","v":0}]
["LARGE USE SERVICE CLASSIFICATION",null,null,null,"Rural and Remote Rate Protection (RRRP)",null,2.9999999999999997E-4,{"$f":"F276*F278","v":10368190},3110.4569999999999,2.9999999999999997E-4,{"$f":"F276*F278","v":10368190},3110.4569999999999,0,0]
["LARGE USE SERVICE CLASSIFICATION",null,null,null,"Standard Supply Service Charge",null,null,1,0,null,1,0,0,""]
["LARGE USE SERVICE CLASSIFICATION",null,null,null,"Debt Retirement Charge (DRC)",null,7.0000000000000001E-3,{"$f":"F276","v":10220000},71540,7.0000000000000001E-3,{"$f":"F276","v":10220000},71540,0,0]
["LARGE USE SERVICE CLASSIFICATION"]
["LARGE USE SERVICE CLASSIFICATION","RPP",null,null,"TOU - Off Peak",null,6.5000000000000002E-2,{"$f":"IF(AND(F276*12>=150000),0.65*F276*F278,0.65*F276)","v":6739323.5},{"$f":"H303*G303","v":438056.02750000003},6.5000000000000002E-2,{"$f":"IF(AND(F276*12>=150000),0.65*F276*F279,0.65*F276)","v":6739323.5},{"$f":"K303*J303","v":438056.02750000003},{"$f":"L303-I303","v":0},{"$f":"IF(ISERROR(M303/I303), \"\", M303/I303)","v":0}]
["LARGE USE SERVICE CLASSIFICATION","RPP",null,null,"TOU - Mid Peak",null,9.5000000000000001E-2,{"$f":"IF(AND(F276*12>=150000),0.17*F276*F278,0.17*F276)","v":1762592.3},167446.26850000001,9.5000000000000001E-2,{"$f":"IF(AND(F276*12>=150000),0.17*F276*F279,0.17*F276)","v":1762592.3},167446.26850000001,0,0]
["LARGE USE SERVICE CLASSIFICATION","RPP",null,null,"TOU - On Peak",null,0.13200000000000001,{"$f":"IF(AND(F276*12>=150000),0.18*F276*F278,0.18*F276)","v":1866274.2},246348.19440000001,0.13200000000000001,{"$f":"IF(AND(F276*12>=150000),0.18*F276*F279,0.18*F276)","v":1866274.2},246348.19440000001,0,0]
["LARGE USE SERVICE CLASSIFICATION","Non-RPP (Retailer)",null,null,"Non-RPP Retailer Avg. Price",null,{"$f":"0.1061","v":0.1061},{"$f":"IF(AND(F276*12>=150000),F276*F278,F276)","v":10368190},{"$f":"H306*G306","v":1100064.959},{"$f":"G306","v":0.1061},{"$f":"IF(AND(F276*12>=150000),F276*F279,F276)","v":10368190},{"$f":"K306*J306","v":1100064.959},0,0]
["LARGE USE SERVICE CLASSIFICATION","Non-RPP (Other)",null,null,"Average IESO Wholesale Market Price",null,{"$f":"G306","v":0.1061},{"$f":"IF(AND(F276*12>=150000),F276*F278,F276)","v":10368190},{"$f":"H307*G307","v":1100064.959},{"$f":"G307","v":0.1061},{"$f":"IF(AND(F276*12>=150000),F276*F279,F276)","v":10368190},{"$f":"K307*J307","v":1100064.959},0,0]
["LARGE USE SERVICE CLASSIFICATION"]
["LARGE USE SERVICE CLASSIFICATION","RPP_BT",null,null,"Total Bill on TOU (before Taxes)",null,null,null,{"$f":"SUM(I298:I305,I297)","v":1096750.0914},null,null,{"$f":"SUM(L298:L305,L297)","v":1127953.9114000001},{"$f":"L309-I309","v":31203.820000000065},{"$f":"IF((I309)=0,\"\",(M309/I309))","v":2.8451166992991477E-2}]
["LARGE USE SERVICE CLASSIFICATION","RPP",null,null,"HST",null,0.13,null,{"$f":"I309*G310","v":142577.51188200002},0.13,null,{"$f":"L309*J310","v":146634.008482},{"$f":"L310-I310","v":4056.496599999984},{"$f":"IF((I310)=0,\"\",(M310/I310))","v":2.84511669929913E-2}]
["LARGE USE SERVICE CLASSIFICATION","RPP_NET",null,null,"Total Bill on TOU (before 8% Provincial Rebate)",null,null,null,{"$f":"SUM(I309:I310)","v":1239327.6032819999},null,null,{"$f":"SUM(L309:L310)","v":1274587.9198820002},{"$f":"SUM(M309:M310)","v":35260.316600000049},{"$f":"IF((I311)=0,\"\",(M311/I311))","v":2.845116699299146E-2}]
[{"$f":"A310","v":"LARGE USE SERVICE CLASSIFICATION"},"RPP",null,null,"8% Provincial Rebate",null,-0.08,null,{"$f":"I309*G312","v":-87740.007312000002},{"$f":"G312","v":-0.08},null,{"$f":"L309*J312","v":-90236.312912000009},{"$f":"L312-I312","v":-2496.305600000007},{"$f":"IF((I312)=0,\"\",(M312/I312))","v":2.8451166992991495E-2}]
["LARGE USE SERVICE CLASSIFICATION","RPP_TOTAL",null,null,"Total Bill on TOU",null,null,null,{"$f":"SUM(I309,I310,I312)","v":1151587.5959699999},null,null,{"$f":"L309+L310+L312","v":1184351.6069700001},{"$f":"L313-I313","v":32764.011000000173},{"$f":"IF((I313)=0,\"\",(M313/I313))","v":2.8451166992991571E-2}]
["LARGE USE SERVICE CLASSIFICATION","RPP"]
["LARGE USE SERVICE CLASSIFICATION","Non-RPP (Retailer)",null,null,"Total Bill on Non-RPP Avg. Price",null,null,null,{"$f":"SUM(I306,I298:I302,I297)","v":1344964.5599999998},null,null,{"$f":"SUM(L306,L298:L302,L297)","v":1376168.38},{"$f":"L315-I315","v":31203.820000000065},{"$f":"IF((I315)=0,\"\",(M315/I315))","v":2.3200477490648578E-2}]
["LARGE USE SERVICE CLASSIFICATION","Non-RPP (Retailer)",null,null,"HST",null,0.13,null,{"$f":"I315*G316","v":174845.39279999997},0.13,null,{"$f":"L315*J316","v":178901.88939999999},{"$f":"L316-I316","v":4056.4966000000131},{"$f":"IF((I316)=0,\"\",(M316/I316))","v":2.3200477490648606E-2}]
["LARGE USE SERVICE CLASSIFICATION","Non-RPP (Retailer)",null,null,"Provincial Rebate",null,-0.08,null,{"$f":"I315*G317","v":-107597.16479999998},{"$f":"G317","v":-0.08},null,{"$f":"L315*J317","v":-110093.47039999999},{"$f":"L317-I317","v":-2496.305600000007},{"$f":"IF((I317)=0,\"\",(M317/I317))","v":2.3200477490648595E-2}]
["LARGE USE SERVICE CLASSIFICATION","Non-RPP (Retailer)_TOTAL",null,null,"Total Bill on Non-RPP Avg. Price",null,null,null,{"$f":"SUM(I315,I316,I317)","v":1412212.7879999999},null,null,{"$f":"SUM(L315,L316,L317)","v":1444976.7989999999},{"$f":"L318-I318","v":32764.01099999994},{"$f":"IF((I318)=0,\"\",(M318/I318))","v":2.3200477490648484E-2}]
["LARGE USE SERVICE CLASSIFICATION","Non-RPP (Retailer)"]
["LARGE USE SERVICE CLASSIFICATION","Non-RPP (Other)_BT",{"$f":"C288","v":5},null,"Total Bill on Average IESO Wholesale Market Price",null,null,null,{"$f":"SUM(I307,I298:I302,I297)","v":1344964.5599999998},null,null,{"$f":"SUM(L307,L298:L302,L297)","v":1376168.38},{"$f":"L320-I320","v":31203.820000000065},{"$f":"IF((I320)=0,\"\",(M320/I320))","v":2.3200477490648578E-2}]
["LARGE USE SERVICE CLASSIFICATION","Non-RPP (Other)",null,null,"HST",null,0.13,null,{"$f":"I320*G321","v":174845.39279999997},0.13,null,{"$f":"L320*J321","v":178901.88939999999},{"$f":"L321-I321","v":4056.4966000000131},{"$f":"IF((I321)=0,\"\",(M321/I321))","v":2.3200477490648606E-2}]
["LARGE USE SERVICE CLASSIFICATION","Non-RPP (Other)_NET",{"$f":"C288","v":5},null,"Total Bill on Average IESO WMP (before 8% Provincial Rebate)",null,null,null,{"$f":"SUM(I320:I321)","v":1519809.9527999999},null,null,{"$f":"SUM(L320:L321)","v":1555070.2693999999},{"$f":"SUM(M320:M321)","v":35260.316600000078},{"$f":"IF((I322)=0,\"\",(M322/I322))","v":2.3200477490648581E-2}]
[{"$f":"A321","v":"LARGE USE SERVICE CLASSIFICATION"},"Non-RPP (Other)",null,null,"8% Provincial Rebate",null,0,null,{"$f":"I320*G323","v":0},{"$f":"G323","v":0},null,{"$f":"L320*J323","v":0},{"$f":"L323-I323","v":0},{"$f":"IF((I323)=0,\"\",(M323/I323))","v":""}]
["LARGE USE SERVICE CLASSIFICATION","Non-RPP (Other)_TOTAL",{"$f":"C288","v":5},null,"Total Bill on Average IESO Wholesale Market Price",null,null,null,{"$f":"SUM(I322:I323)","v":1519809.9527999999},null,null,{"$f":"SUM(L322:L323)","v":1555070.2693999999},{"$f":"SUM(M322:M323)","v":35260.316600000078},{"$f":"IF((I324)=0,\"\",(M324/I324))","v":2.3200477490648581E-2}]
["LARGE USE SERVICE CLASSIFICATION","Non-RPP (Other)"]
[]
[]
[null,null,null,null,"Customer Class:",{"$f":"E21","v":"UNMETERED SCATTERED LOAD SERVICE CLASSIFICATION"},null,null,null,null,null,{"$f":"IF(O278=\"DEMAND - INTERVAL\",\"RTSR - INTERVAL METERED\",\"\")","v":""}]
[null,null,null,null,"RPP / Non-RPP:",{"$f":"H21","v":"Non-RPP (Other)"},null,null,"Class  B"]
[null,null,null,null,"Consumption",{"$f":"K21","v":21296},"kWh"]
[null,null,null,null,"Demand",{"$f":"L21","v":0},"kW"]
[null,null,null,null,"Current Loss Factor",{"$f":"I21","v":1.0341}]
[null,null,null,null,"Proposed/Approved Loss Factor",{"$f":"J21","v":1.0341}]
[]
[null,null,null,null,null,null,"Current OEB-Approved",null,null,"Proposed",null,null,"Impact"]
[null,null,null,null,null,null,"Rate","Volume","Charge","Rate","Volume","Charge","$ Change","% Change"]
[null,null,null,null,null,null,"($)",null,"($)","($)",null,"($)"]
[{"$f":"F328","v":"UNMETERED SCATTERED LOAD SERVICE CLASSIFICATION"},null,null,"USL_F","Monthly Service Charge",null,{"$f":"IFERROR(SUMIF(RATES!B:B,'10th percentile'!D338,RATES!H:H),\"\")","v":1.0900000000000001},{"$f":"N21","v":186},{"$f":"H338*G338","v":202.74},{"$f":"IFERROR(SUMIF(RATES!B:B,'10th percentile'!D338,RATES!I:I),\"\")","v":1.1000000000000001},{"$f":"H338","v":186},{"$f":"K338*J338","v":204.60000000000002},{"$f":"L338-I338","v":1.8600000000000136},{"$f":"IF(ISERROR(M338/I338), \"\", M338/I338)","v":9.174311926605571E-3}]
[{"$f":"A338","v":"UNMETERED SCATTERED LOAD SERVICE CLASSIFICATION"},null,null,"USL_V","Distribution Volumetric Rate",null,{"$f":"IFERROR(SUMIF(RATES!B:B,'10th percentile'!D339,RATES!H:H),\"\")","v":1.9800000000000002E-2},{"$f":"IF($F331>0, $F331, $F330)","v":21296},{"$f":"H339*G339","v":421.66080000000005},{"$f":"IFERROR(SUMIF(RATES!B:B,'10th percentile'!D339,RATES!I:I),\"\")","v":0.02},{"$f":"IF($F331>0, $F331, $F330)","v":21296},{"$f":"K339*J339","v":425.92},4.2591999999999643,{"$f":"IF(ISERROR(M339/I339), \"\", M339/I339)","v":1.0101010101010015E-2}]
[{"$f":"A339","v":"UNMETERED SCATTERED LOAD SERVICE CLASSIFICATION"},null,null,"USL_FRR","Fixed Rate Riders",null,{"$f":"IFERROR(SUMIF(RATES!B:B,'10th percentile'!D340,RATES!H:H),\"\")","v":0},{"$f":"H338","v":186},0,{"$f":"IFERROR(SUMIF(RATES!B:B,'10th percentile'!D340,RATES!I:I),\"\")","v":0.05},{"$f":"K338","v":186},{"$f":"K340*J340","v":9.3000000000000007},9.3000000000000007,""]
[{"$f":"A340","v":"UNMETERED SCATTERED LOAD SERVICE CLASSIFICATION"},null,null,"USL_VRR","Volumetric Rate Riders",null,{"$f":"IFERROR(SUMIF(RATES!B:B,'10th percentile'!D341,RATES!H:H),\"\")","v":2.0000000000000004E-4},{"$f":"IF($F331>0, $F331, $F330)","v":21296},{"$f":"H341*G341","v":4.2592000000000008},{"$f":"IFERROR(SUMIF(RATES!B:B,'10th percentile'!D341,RATES!I:I),\"\")","v":2.0000000000000001E-4},{"$f":"IF($F331>0, $F331, $F330)","v":21296},4.2591999999999999,0,0]
["UNMETERED SCATTERED LOAD SERVICE CLASSIFICATION","ST_A",{"$f":"B21","v":7},null,"Sub-Total A (excluding pass through)",null,null,null,{"$f":"SUM(I338:I341)","v":628.66000000000008},null,null,{"$f":"SUM(L338:L341)","v":644.0791999999999},15.419199999999819,{"$f":"IF((I342)=0,\"\",(M342/I342))","v":2.4527089364680139E-2}]
["UNMETERED SCATTERED LOAD SERVICE CLASSIFICATION",null,null,null,"Line Losses on Cost of Power",null,{"$f":"IF((F330*12>=150000), 0, IF(F329=\"RPP\",(G357*0.65+G358*0.17+G359*0.18),IF(F329=\"Non-RPP (Retailer)\",G360,G361)))","v":0},{"$f":"IF(G343=0, 0, $F330*F332-F330)","v":0},{"$f":"H343*G343","v":0},{"$f":"IF((F330*12>=150000), 0, IF(F329=\"RPP\",(J357*0.65+J358*0.17+J359*0.18),IF(F329=\"Non-RPP (Retailer)\",J360,J361)))","v":0},{"$f":"IF(G343=0, 0, $F330*F332-F330)","v":0},{"$f":"K343*J343","v":0},{"$f":"L343-I343","v":0},{"$f":"IF(ISERROR(M343/I343), \"\", M343/I343)","v":""}]
["UNMETERED SCATTERED LOAD SERVICE CLASSIFICATION",null,null,"USL_DVA","Total Deferral/Variance Account Rate Riders",null,{"$f":"IFERROR(SUMIF(RATES!B:B,'10th percentile'!D344,RATES!H:H),\"\")","v":-3.4000000000000002E-3},{"$f":"IF($F331>0, $F331, $F330)","v":21296},{"$f":"H344*G344","v":-72.406400000000005},{"$f":"IFERROR(SUMIF(RATES!B:B,'10th percentile'!D344,RATES!I:I),\"\")","v":-1E-3},{"$f":"IF($F331>0, $F331, $F330)","v":21296},{"$f":"K344*J344","v":-21.295999999999999},{"$f":"L344-I344","v":51.110400000000006},{"$f":"IF(ISERROR(M344/I344), \"\", M344/I344)","v":-0.70588235294117652}]
["UNMETERED SCATTERED LOAD SERVICE CLASSIFICATION",null,null,"USL_GA","GA Rate Riders",null,{"$f":"IFERROR(SUMIF(RATES!B:B,'10th percentile'!D345,RATES!H:H),\"\")","v":4.8999999999999998E-3},{"$f":"IF($F331>0, $F331, $F330)","v":21296},104.35039999999999,0,{"$f":"IF($F331>0, $F331, $F330)","v":21296},0,-104.35039999999999,-1]
["UNMETERED SCATTERED LOAD SERVICE CLASSIFICATION",null,null,"USL_LV","Low Voltage Service Charge",null,{"$f":"IFERROR(SUMIF(RATES!B:B,'10th percentile'!D346,RATES!H:H),\"\")","v":0},{"$f":"IF($F331>0, $F331, $F330)","v":21296},0,{"$f":"IFERROR(SUMIF(RATES!B:B,'10th percentile'!D346,RATES!I:I),\"\")","v":0},{"$f":"IF($F331>0, $F331, $F330)","v":21296},0,0,""]
["UNMETERED SCATTERED LOAD SERVICE CLASSIFICATION",null,null,null,"Smart Meter Entity Charge (if applicable)",null,0,{"$f":"H338","v":186},{"$f":"H347*G347","v":0},0,{"$f":"K338","v":186},{"$f":"K347*J347","v":0},0,{"$f":"IF(ISERROR(M347/I347), \"\", M347/I347)","v":""}]
["UNMETERED SCATTERED LOAD SERVICE CLASSIFICATION","ST_B",{"$f":"C342","v":7},null,"Sub-Total B - Distribution (includes Sub-Total A)",null,null,null,{"$f":"SUM(I342:I347)","v":660.60400000000016},null,null,{"$f":"SUM(L342:L347)","v":622.78319999999985},-37.820800000000304,{"$f":"IF((I348)=0,\"\",(M348/I348))","v":-5.7251848308518108E-2}]
["UNMETERED SCATTERED LOAD SERVICE CLASSIFICATION",null,null,"USL_TN","RTSR - Network",null,{"$f":"IFERROR(SUMIF(RATES!B:B,'10th percentile'!D349,RATES!H:H),\"\")","v":6.6E-3},{"$f":"IF($F331>0, $F331, $F330*$F332)","v":22022.193599999999},{"$f":"H349*G349","v":145.34647776},{"$f":"IFERROR(SUMIF(RATES!B:B,'10th percentile'!D349,RATES!I:I),\"\")","v":6.6E-3},{"$f":"IF($F331>0, $F331, $F330*$F332)","v":22022.193599999999},{"$f":"K349*J349","v":145.34647776},0,{"$f":"IF(ISERROR(M349/I349), \"\", M349/I349)","v":0}]
["UNMETERED SCATTERED LOAD SERVICE CLASSIFICATION",null,null,"USL_TC","RTSR - Connection and/or Line and Transformation Connection",null,{"$f":"IFERROR(SUMIF(RATES!B:B,'10th percentile'!D350,RATES!H:H),\"\")","v":4.7999999999999996E-3},{"$f":"IF($F331>0, $F331, $F330*$F332)","v":22022.193599999999},{"$f":"H350*G350","v":105.70652927999998},{"$f":"IFERROR(SUMIF(RATES!B:B,'10th percentile'!D350,RATES!I:I),\"\")","v":5.4999999999999997E-3},{"$f":"IF($F331>0, $F331, $F330*$F332)","v":22022.193599999999},{"$f":"K350*J350","v":121.12206479999999},15.415535520000006,{"$f":"IF(ISERROR(M350/I350), \"\", M350/I350)","v":0.1458333333333334}]
["UNMETERED SCATTERED LOAD SERVICE CLASSIFICATION","ST_C",{"$f":"C342","v":7},null,"Sub-Total C - Delivery (including Sub-Total B)",null,null,null,{"$f":"SUM(I348:I350)","v":911.65700704000005},null,null,{"$f":"SUM(L348:L350)","v":889.2517425599998},-22.405264480000255,{"$f":"IF((I351)=0,\"\",(M351/I351))","v":-2.4576418880107611E-2}]
["UNMETERED SCATTERED LOAD SERVICE CLASSIFICATION",null,null,null,"Wholesale Market Service Charge (WMSC)",null,3.5999999999999999E-3,{"$f":"F330*F332","v":22022.193599999999},{"$f":"H352*G352","v":79.279896959999988},3.5999999999999999E-3,{"$f":"F330*F332","v":22022.193599999999},{"$f":"K352*J352","v":79.279896959999988},0,{"$f":"IF(ISERROR(M352/I352), \"\", M352/I352)","v":0}]
["UNMETERED SCATTERED LOAD SERVICE CLASSIFICATION",null,null,null,"Rural and Remote Rate Protection (RRRP)",null,2.9999999999999997E-4,{"$f":"F330*F332","v":22022.193599999999},6.606658079999999,2.9999999999999997E-4,{"$f":"F330*F332","v":22022.193599999999},6.606658079999999,0,0]
["UNMETERED SCATTERED LOAD SERVICE CLASSIFICATION",null,null,null,"Standard Supply Service Charge",null,0.25,null,0,0.25,null,0,0,""]
["UNMETERED SCATTERED LOAD SERVICE CLASSIFICATION",null,null,null,"Debt Retirement Charge (DRC)",null,7.0000000000000001E-3,{"$f":"F330","v":21296},149.072,7.0000000000000001E-3,{"$f":"F330","v":21296},149.072,0,0]
["UNMETERED SCATTERED LOAD SERVICE CLASSIFICATION"]
["UNMETERED SCATTERED LOAD SERVICE CLASSIFICATION","RPP",null,null,"TOU - Off Peak",null,6.5000000000000002E-2,{"$f":"IF(AND(F330*12>=150000),0.65*F330*F332,0.65*F330)","v":14314.42584},{"$f":"H357*G357","v":930.43767960000002},6.5000000000000002E-2,{"$f":"IF(AND(F330*12>=150000),0.65*F330*F333,0.65*F330)","v":14314.42584},{"$f":"K357*J357","v":930.43767960000002},{"$f":"L357-I357","v":0},{"$f":"IF(ISERROR(M357/I357), \"\", M357/I357)","v":0}]
["UNMETERED SCATTERED LOAD SERVICE CLASSIFICATION","RPP",null,null,"TOU - Mid Peak",null,9.5000000000000001E-2,{"$f":"IF(AND(F330*12>=150000),0.17*F330*F332,0.17*F330)","v":3743.7729120000004},355.65842664000002,9.5000000000000001E-2,{"$f":"IF(AND(F330*12>=150000),0.17*F330*F333,0.17*F330)","v":3743.7729120000004},355.65842664000002,0,0]
["UNMETERED SCATTERED LOAD SERVICE CLASSIFICATION","RPP",null,null,"TOU - On Peak",null,0.13200000000000001,{"$f":"IF(AND(F330*12>=150000),0.18*F330*F332,0.18*F330)","v":3963.9948479999998},523.24731993600005,0.13200000000000001,{"$f":"IF(AND(F330*12>=150000),0.18*F330*F333,0.18*F330)","v":3963.9948479999998},523.24731993600005,0,0]
["UNMETERED SCATTERED LOAD SERVICE CLASSIFICATION","Non-RPP (Retailer)",null,null,"Non-RPP Retailer Avg. Price",null,{"$f":"0.1061","v":0.1061},{"$f":"IF(AND(F330*12>=150000),F330*F332,F330)","v":22022.193599999999},{"$f":"H360*G360","v":2336.5547409599999},{"$f":"G360","v":0.1061},{"$f":"IF(AND(F330*12>=150000),F330*F333,F330)","v":22022.193599999999},{"$f":"K360*J360","v":2336.5547409599999},0,0]
["UNMETERED SCATTERED LOAD SERVICE CLASSIFICATION","Non-RPP (Other)",null,null,"Average IESO Wholesale Market Price",null,{"$f":"G360","v":0.1061},{"$f":"IF(AND(F330*12>=150000),F330*F332,F330)","v":22022.193599999999},{"$f":"H361*G361","v":2336.5547409599999},{"$f":"G361","v":0.1061},{"$f":"IF(AND(F330*12>=150000),F330*F333,F330)","v":22022.193599999999},{"$f":"K361*J361","v":2336.5547409599999},0,0]
["UNMETERED SCATTERED LOAD SERVICE CLASSIFICATION"]
["UNMETERED SCATTERED LOAD SERVICE CLASSIFICATION","RPP_BT",null,null,"Total Bill on TOU (before Taxes)",null,null,null,{"$f":"SUM(I352:I359,I351)","v":2955.9589882560003},null,null,{"$f":"SUM(L352:L359,L351)","v":2933.553723776},{"$f":"L363-I363","v":-22.405264480000369},{"$f":"IF((I363)=0,\"\",(M363/I363))","v":-7.5796939568567399E-3}]
["UNMETERED SCATTERED LOAD SERVICE CLASSIFICATION","RPP",null,null,"HST",null,0.13,null,{"$f":"I363*G364","v":384.27466847328003},0.13,null,{"$f":"L363*J364","v":381.36198409088001},{"$f":"L364-I364","v":-2.9126843824000161},{"$f":"IF((I364)=0,\"\",(M364/I364))","v":-7.5796939568566575E-3}]
["UNMETERED SCATTERED LOAD SERVICE CLASSIFICATION","RPP_NET",null,null,"Total Bill on TOU (before 8% Provincial Rebate)",null,null,null,{"$f":"SUM(I363:I364)","v":3340.2336567292805},null,null,{"$f":"SUM(L363:L364)","v":3314.91570786688},{"$f":"SUM(M363:M364)","v":-25.317948862400385},{"$f":"IF((I365)=0,\"\",(M365/I365))","v":-7.5796939568567303E-3}]
[{"$f":"A364","v":"UNMETERED SCATTERED LOAD SERVICE CLASSIFICATION"},"RPP",null,null,"8% Provincial Rebate",null,-0.08,null,{"$f":"I363*G366","v":-236.47671906048004},{"$f":"G366","v":-0.08},null,{"$f":"L363*J366","v":-234.68429790208},{"$f":"L366-I366","v":1.7924211584000318},{"$f":"IF((I366)=0,\"\",(M366/I366))","v":-7.5796939568567494E-3}]
["UNMETERED SCATTERED LOAD SERVICE CLASSIFICATION","RPP_TOTAL",null,null,"Total Bill on TOU",null,null,null,{"$f":"SUM(I363,I364,I366)","v":3103.7569376688007},null,null,{"$f":"L363+L364+L366","v":3080.2314099648002},{"$f":"L367-I367","v":-23.525527704000524},{"$f":"IF((I367)=0,\"\",(M367/I367))","v":-7.5796939568567832E-3}]
["UNMETERED SCATTERED LOAD SERVICE CLASSIFICATION","RPP"]
["UNMETERED SCATTERED LOAD SERVICE CLASSIFICATION","Non-RPP (Retailer)",null,null,"Total Bill on Non-RPP Avg. Price",null,null,null,{"$f":"SUM(I360,I352:I356,I351)","v":3483.1703030400004},null,null,{"$f":"SUM(L360,L352:L356,L351)","v":3460.76503856},{"$f":"L369-I369","v":-22.405264480000369},{"$f":"IF((I369)=0,\"\",(M369/I369))","v":-6.4324344004787152E-3}]
["UNMETERED SCATTERED LOAD SERVICE CLASSIFICATION","Non-RPP (Retailer)",null,null,"HST",null,0.13,null,{"$f":"I369*G370","v":452.81213939520006},0.13,null,{"$f":"L369*J370","v":449.89945501279999},{"$f":"L370-I370","v":-2.912684382400073},{"$f":"IF((I370)=0,\"\",(M370/I370))","v":-6.4324344004787698E-3}]
["UNMETERED SCATTERED LOAD SERVICE CLASSIFICATION","Non-RPP (Retailer)",null,null,"Provincial Rebate",null,-0.08,null,{"$f":"I369*G371","v":-278.65362424320006},{"$f":"G371","v":-0.08},null,{"$f":"L369*J371","v":-276.86120308480002},{"$f":"L371-I371","v":1.7924211584000318},{"$f":"IF((I371)=0,\"\",(M371/I371))","v":-6.432434400478723E-3}]
["UNMETERED SCATTERED LOAD SERVICE CLASSIFICATION","Non-RPP (Retailer)_TOTAL",null,null,"Total Bill on Non-RPP Avg. Price",null,null,null,{"$f":"SUM(I369,I370,I371)","v":3657.3288181920007},null,null,{"$f":"SUM(L369,L370,L371)","v":3633.8032904880001},{"$f":"L372-I372","v":-23.525527704000524},{"$f":"IF((I372)=0,\"\",(M372/I372))","v":-6.4324344004787516E-3}]
["UNMETERED SCATTERED LOAD SERVICE CLASSIFICATION","Non-RPP (Retailer)"]
["UNMETERED SCATTERED LOAD SERVICE CLASSIFICATION","Non-RPP (Other)_BT",{"$f":"C342","v":7},null,"Total Bill on Average IESO Wholesale Market Price",null,null,null,{"$f":"SUM(I361,I352:I356,I351)","v":3483.1703030400004},null,null,{"$f":"SUM(L361,L352:L356,L351)","v":3460.76503856},{"$f":"L374-I374","v":-22.405264480000369},{"$f":"IF((I374)=0,\"\",(M374/I374))","v":-6.4324344004787152E-3}]
["UNMETERED SCATTERED LOAD SERVICE CLASSIFICATION","Non-RPP (Other)",null,null,"HST",null,0.13,null,{"$f":"I374*G375","v":452.81213939520006},0.13,null,{"$f":"L374*J375","v":449.89945501279999},{"$f":"L375-I375","v":-2.912684382400073},{"$f":"IF((I375)=0,\"\",(M375/I375))","v":-6.4324344004787698E-3}]
["UNMETERED SCATTERED LOAD SERVICE CLASSIFICATION","Non-RPP (Other)_NET",{"$f":"C374","v":7},null,"Total Bill on Average IESO WMP (before 8% Provincial Rebate)",null,null,null,{"$f":"SUM(I374:I375)","v":3935.9824424352005},null,null,{"$f":"SUM(L374:L375)","v":3910.6644935728},{"$f":"SUM(M374:M375)","v":-25.317948862400442},{"$f":"IF((I376)=0,\"\",(M376/I376))","v":-6.4324344004787213E-3}]
[{"$f":"A375","v":"UNMETERED SCATTERED LOAD SERVICE CLASSIFICATION"},"Non-RPP (Other)",null,null,"8% Provincial Rebate",null,0,null,{"$f":"I374*G377","v":0},{"$f":"G377","v":0},null,{"$f":"L374*J377","v":0},{"$f":"L377-I377","v":0},{"$f":"IF((I377)=0,\"\",(M377/I377))","v":""}]
["UNMETERED SCATTERED LOAD SERVICE CLASSIFICATION","Non-RPP (Other)_TOTAL",{"$f":"C374","v":7},null,"Total Bill on Average IESO Wholesale Market Price",null,null,null,{"$f":"SUM(I374,I375,I377)","v":3935.9824424352005},null,null,{"$f":"SUM(L374,L375,L377)","v":3910.6644935728},{"$f":"L378-I378","v":-25.317948862400499},{"$f":"IF((I378)=0,\"\",(M378/I378))","v":-6.432434400478736E-3}]
["UNMETERED SCATTERED LOAD SERVICE CLASSIFICATION","Non-RPP (Other)"]
[]
[]
[null,null,null,null,"Customer Class:",{"$f":"E22","v":"STREET LIGHTING SERVICE CLASSIFICATION"},null,null,null,null,null,{"$f":"IF(O332=\"DEMAND - INTERVAL\",\"RTSR - INTERVAL METERED\",\"\")","v":""}]
[null,null,null,null,"RPP / Non-RPP:",{"$f":"H22","v":"Non-RPP (Other)"},null,null,"Class B"]
[null,null,null,null,"Consumption",{"$f":"K22","v":2787508},"kWh"]
[null,null,null,null,"Demand",{"$f":"L22","v":7922},"kW"]
[null,null,null,null,"Current Loss Factor",{"$f":"I22","v":1.0341}]
[null,null,null,null,"Proposed/Approved Loss Factor",{"$f":"J22","v":1.0341}]
[]
[null,null,null,null,null,null,"Current OEB-Approved",null,null,"Proposed",null,null,"Impact"]
[null,null,null,null,null,null,"Rate","Volume","Charge","Rate","Volume","Charge","$ Change","% Change"]
[null,null,null,null,null,null,"($)",null,"($)","($)",null,"($)"]
[{"$f":"F382","v":"STREET LIGHTING SERVICE CLASSIFICATION"},null,null,"SL_F","Monthly Service Charge",null,{"$f":"IFERROR(SUMIF(RATES!B:B,'10th percentile'!D392,RATES!H:H),\"\")","v":2.2999999999999998},{"$f":"N22","v":20614},{"$f":"H392*G392","v":47412.2},{"$f":"IFERROR(SUMIF(RATES!B:B,'10th percentile'!D392,RATES!I:I),\"\")","v":2.3199999999999998},{"$f":"H392","v":20614},{"$f":"K392*J392","v":47824.479999999996},{"$f":"L392-I392","v":412.27999999999884},{"$f":"IF(ISERROR(M392/I392), \"\", M392/I392)","v":8.6956521739130193E-3}]
[{"$f":"A392","v":"STREET LIGHTING SERVICE CLASSIFICATION"},null,null,"SL_V","Distribution Volumetric Rate",null,{"$f":"IFERROR(SUMIF(RATES!B:B,'10th percentile'!D393,RATES!H:H),\"\")","v":11.5388},{"$f":"IF($F385>0, $F385, $F384)","v":7922},{"$f":"H393*G393","v":91410.373600000006},{"$f":"IFERROR(SUMIF(RATES!B:B,'10th percentile'!D393,RATES!I:I),\"\")","v":11.6426},{"$f":"IF($F385>0, $F385, $F384)","v":7922},{"$f":"K393*J393","v":92232.677200000006},822.30359999999928,{"$f":"IF(ISERROR(M393/I393), \"\", M393/I393)","v":8.9957361250736553E-3}]
[{"$f":"A393","v":"STREET LIGHTING SERVICE CLASSIFICATION"},null,null,"SL_FRR","Fixed Rate Riders",null,{"$f":"IFERROR(SUMIF(RATES!B:B,'10th percentile'!D394,RATES!H:H),\"\")","v":0},{"$f":"H392","v":20614},0,{"$f":"IFERROR(SUMIF(RATES!B:B,'10th percentile'!D394,RATES!I:I),\"\")","v":0.05},{"$f":"K392","v":20614},{"$f":"K394*J394","v":1030.7},1030.7,""]
[{"$f":"A394","v":"STREET LIGHTING SERVICE CLASSIFICATION"},null,null,"SL_VRR","Volumetric Rate Riders",null,{"$f":"IFERROR(SUMIF(RATES!B:B,'10th percentile'!D395,RATES!H:H),\"\")","v":0.20280000000000001},{"$f":"IF($F385>0, $F385, $F384)","v":7922},1606.5816,{"$f":"IFERROR(SUMIF(RATES!B:B,'10th percentile'!D395,RATES!I:I),\"\")","v":0.11119999999999999},{"$f":"IF($F385>0, $F385, $F384)","v":7922},880.92639999999994,-725.65520000000004,-0.45167652859960555]
["STREET LIGHTING SERVICE CLASSIFICATION","ST_A",{"$f":"B22","v":8},null,"Sub-Total A (excluding pass through)",null,null,null,{"$f":"SUM(I392:I395)","v":140429.15520000001},null,null,{"$f":"SUM(L392:L395)","v":141968.78360000002},1539.628400000016,{"$f":"IF((I396)=0,\"\",(M396/I396))","v":1.0963737535893229E-2}]
["STREET LIGHTING SERVICE CLASSIFICATION",null,null,null,"Line Losses on Cost of Power",null,{"$f":"IF((F384*12>=150000), 0, IF(F383=\"RPP\",(G411*0.65+G412*0.17+G413*0.18),IF(F383=\"Non-RPP (Retailer)\",G414,G415)))","v":0},{"$f":"IF(G397=0, 0, $F384*F386-F384)","v":0},{"$f":"H397*G397","v":0},{"$f":"IF((F384*12>=150000), 0, IF(F383=\"RPP\",(J411*0.65+J412*0.17+J413*0.18),IF(F383=\"Non-RPP (Retailer)\",J414,J415)))","v":0},{"$f":"IF(G397=0, 0, $F384*F386-F384)","v":0},{"$f":"K397*J397","v":0},{"$f":"L397-I397","v":0},{"$f":"IF(ISERROR(M397/I397), \"\", M397/I397)","v":""}]
["STREET LIGHTING SERVICE CLASSIFICATION",null,null,"SL_DVA","Total Deferral/Variance Account Rate Riders",null,{"$f":"IFERROR(SUMIF(RATES!B:B,'10th percentile'!D398,RATES!H:H),\"\")","v":-1.1415999999999999},{"$f":"IF($F385>0, $F385, $F384)","v":7922},{"$f":"H398*G398","v":-9043.7551999999996},{"$f":"IFERROR(SUMIF(RATES!B:B,'10th percentile'!D398,RATES!I:I),\"\")","v":-0.32190000000000002},{"$f":"IF($F385>0, $F385, $F384)","v":7922},{"$f":"K398*J398","v":-2550.0918000000001},{"$f":"L398-I398","v":6493.6633999999995},{"$f":"IF(ISERROR(M398/I398), \"\", M398/I398)","v":-0.7180273300630694}]
["STREET LIGHTING SERVICE CLASSIFICATION",null,null,"SL_GA","GA Rate Riders",null,{"$f":"IFERROR(SUMIF(RATES!B:B,'10th percentile'!D399,RATES!H:H),\"\")","v":4.8999999999999998E-3},{"$f":"F384","v":2787508},13658.789199999999,{"$f":"IFERROR(SUMIF(RATES!B:B,'10th percentile'!D399,RATES!I:I),\"\")","v":-8.9999999999999998E-4},{"$f":"K409","v":2787508},-2508.7572,-16167.546399999999,-1.1836734693877551]
["STREET LIGHTING SERVICE CLASSIFICATION",null,null,"SL_LV","Low Voltage Service Charge",null,{"$f":"IFERROR(SUMIF(RATES!B:B,'10th percentile'!D400,RATES!H:H),\"\")","v":0},{"$f":"IF($F385>0, $F385, $F384)","v":7922},0,{"$f":"IFERROR(SUMIF(RATES!B:B,'10th percentile'!D400,RATES!I:I),\"\")","v":0},{"$f":"IF($F385>0, $F385, $F384)","v":7922},0,0,""]
["STREET LIGHTING SERVICE CLASSIFICATION",null,null,null,"Smart Meter Entity Charge (if applicable)",null,0,{"$f":"H392","v":20614},{"$f":"H401*G401","v":0},0,{"$f":"K392","v":20614},{"$f":"K401*J401","v":0},0,{"$f":"IF(ISERROR(M401/I401), \"\", M401/I401)","v":""}]
["STREET LIGHTING SERVICE CLASSIFICATION","ST_B",{"$f":"C396","v":8},null,"Sub-Total B - Distribution (includes Sub-Total A)",null,null,null,{"$f":"SUM(I396:I401)","v":145044.18920000002},null,null,{"$f":"SUM(L396:L401)","v":136909.93460000004},-8134.2545999999857,{"$f":"IF((I402)=0,\"\",(M402/I402))","v":-5.6081216661384076E-2}]
["STREET LIGHTING SERVICE CLASSIFICATION",null,null,"SL_TN","RTSR - Network",null,{"$f":"IFERROR(SUMIF(RATES!B:B,'10th percentile'!D403,RATES!H:H),\"\")","v":2.1318999999999999},{"$f":"IF($F385>0, $F385, $F384*$F386)","v":7922},{"$f":"H403*G403","v":16888.911799999998},{"$f":"IFERROR(SUMIF(RATES!B:B,'10th percentile'!D403,RATES!I:I),\"\")","v":2.1341000000000001},{"$f":"IF($F385>0, $F385, $F384*$F386)","v":7922},{"$f":"K403*J403","v":16906.340200000002},17.428400000004331,{"$f":"IF(ISERROR(M403/I403), \"\", M403/I403)","v":1.031943336929756E-3}]
["STREET LIGHTING SERVICE CLASSIFICATION",null,null,"SL_TC","RTSR - Connection and/or Line and Transformation Connection",null,{"$f":"IFERROR(SUMIF(RATES!B:B,'10th percentile'!D404,RATES!H:H),\"\")","v":1.5966},{"$f":"IF($F385>0, $F385, $F384*$F386)","v":7922},{"$f":"H404*G404","v":12648.2652},{"$f":"IFERROR(SUMIF(RATES!B:B,'10th percentile'!D404,RATES!I:I),\"\")","v":1.8214999999999999},{"$f":"IF($F385>0, $F385, $F384*$F386)","v":7922},{"$f":"K404*J404","v":14429.922999999999},1781.657799999999,{"$f":"IF(ISERROR(M404/I404), \"\", M404/I404)","v":0.1408618313917073}]
["STREET LIGHTING SERVICE CLASSIFICATION","ST_C",{"$f":"C396","v":8},null,"Sub-Total C - Delivery (including Sub-Total B)",null,null,null,{"$f":"SUM(I402:I404)","v":174581.36620000002},null,null,{"$f":"SUM(L402:L404)","v":168246.19780000005},-6335.1683999999659,{"$f":"IF((I405)=0,\"\",(M405/I405))","v":-3.6287769639415074E-2}]
["STREET LIGHTING SERVICE CLASSIFICATION",null,null,null,"Wholesale Market Service Charge (WMSC)",null,3.5999999999999999E-3,{"$f":"F384*F386","v":2882562.0227999999},{"$f":"H406*G406","v":10377.22328208},3.5999999999999999E-3,{"$f":"F384*F386","v":2882562.0227999999},{"$f":"K406*J406","v":10377.22328208},0,{"$f":"IF(ISERROR(M406/I406), \"\", M406/I406)","v":0}]
["STREET LIGHTING SERVICE CLASSIFICATION",null,null,null,"Rural and Remote Rate Protection (RRRP)",null,2.9999999999999997E-4,{"$f":"F384*F386","v":2882562.0227999999},864.76860683999985,2.9999999999999997E-4,{"$f":"F384*F386","v":2882562.0227999999},864.76860683999985,0,0]
["STREET LIGHTING SERVICE CLASSIFICATION",null,null,null,"Standard Supply Service Charge",null,0.25,null,0,0.25,null,0,0,""]
["STREET LIGHTING SERVICE CLASSIFICATION",null,null,null,"Debt Retirement Charge (DRC)",null,7.0000000000000001E-3,{"$f":"F384","v":2787508},19512.556,7.0000000000000001E-3,{"$f":"F384","v":2787508},19512.556,0,0]
["STREET LIGHTING SERVICE CLASSIFICATION"]
["STREET LIGHTING SERVICE CLASSIFICATION","RPP",null,null,"TOU - Off Peak",null,6.5000000000000002E-2,{"$f":"IF(AND(F384*12>=150000),0.65*F384*F386,0.65*F384)","v":1873665.31482},{"$f":"H411*G411","v":121788.2454633},6.5000000000000002E-2,{"$f":"IF(AND(F384*12>=150000),0.65*F384*F387,0.65*F384)","v":1873665.31482},{"$f":"K411*J411","v":121788.2454633},{"$f":"L411-I411","v":0},{"$f":"IF(ISERROR(M411/I411), \"\", M411/I411)","v":0}]
["STREET LIGHTING SERVICE CLASSIFICATION","RPP",null,null,"TOU - Mid Peak",null,9.5000000000000001E-2,{"$f":"IF(AND(F384*12>=150000),0.17*F384*F386,0.17*F384)","v":490035.54387600004},46553.376668220008,9.5000000000000001E-2,{"$f":"IF(AND(F384*12>=150000),0.17*F384*F387,0.17*F384)","v":490035.54387600004},46553.376668220008,0,0]
["STREET LIGHTING SERVICE CLASSIFICATION","RPP",null,null,"TOU - On Peak",null,0.13200000000000001,{"$f":"IF(AND(F384*12>=150000),0.18*F384*F386,0.18*F384)","v":518861.16410400002},68489.673661728011,0.13200000000000001,{"$f":"IF(AND(F384*12>=150000),0.18*F384*F387,0.18*F384)","v":518861.16410400002},68489.673661728011,0,0]
["STREET LIGHTING SERVICE CLASSIFICATION","Non-RPP (Retailer)",null,null,"Non-RPP Retailer Avg. Price",null,{"$f":"0.1061","v":0.1061},{"$f":"IF(AND(F384*12>=150000),F384*F386,F384)","v":2882562.0227999999},{"$f":"H414*G414","v":305839.83061907999},{"$f":"G414","v":0.1061},{"$f":"IF(AND(F384*12>=150000),F384*F387,F384)","v":2882562.0227999999},{"$f":"K414*J414","v":305839.83061907999},0,0]
["STREET LIGHTING SERVICE CLASSIFICATION","Non-RPP (Other)",null,null,"Average IESO Wholesale Market Price",null,{"$f":"G414","v":0.1061},{"$f":"IF(AND(F384*12>=150000),F384*F386,F384)","v":2882562.0227999999},{"$f":"H415*G415","v":305839.83061907999},{"$f":"G415","v":0.1061},{"$f":"IF(AND(F384*12>=150000),F384*F387,F384)","v":2882562.0227999999},{"$f":"K415*J415","v":305839.83061907999},0,0]
["STREET LIGHTING SERVICE CLASSIFICATION"]
["STREET LIGHTING SERVICE CLASSIFICATION","RPP",null,null,"Total Bill on TOU (before Taxes)",null,null,null,{"$f":"SUM(I406:I413,I405)","v":442167.2098821681},null,null,{"$f":"SUM(L406:L413,L405)","v":435832.04148216813},{"$f":"L417-I417","v":-6335.1683999999659},{"$f":"IF((I417)=0,\"\",(M417/I417))","v":-1.4327540031039858E-2}]
["STREET LIGHTING SERVICE CLASSIFICATION","RPP",null,null,"HST",null,0.13,null,{"$f":"I417*G418","v":57481.737284681854},0.13,null,{"$f":"L417*J418","v":56658.165392681862},{"$f":"L418-I418","v":-823.57189199999266},{"$f":"IF((I418)=0,\"\",(M418/I418))","v":-1.4327540031039806E-2}]
["STREET LIGHTING SERVICE CLASSIFICATION","RPP",null,null,"Provincial Rebate",null,-0.08,null,{"$f":"I417*G419","v":-35373.376790573449},{"$f":"G419","v":-0.08},null,{"$f":"L417*J419","v":-34866.563318573448},{"$f":"L419-I419","v":506.81347200000164},{"$f":"IF((I419)=0,\"\",(M419/I419))","v":-1.4327540031039981E-2}]
["STREET LIGHTING SERVICE CLASSIFICATION","RPP_TOTAL",null,null,"Total Bill on TOU",null,null,null,{"$f":"SUM(I417,I418,I419)","v":464275.5703762765},null,null,{"$f":"L417+L418+L419","v":457623.64355627651},{"$f":"L420-I420","v":-6651.9268199999933},{"$f":"IF((I420)=0,\"\",(M420/I420))","v":-1.432754003103992E-2}]
["STREET LIGHTING SERVICE CLASSIFICATION","RPP"]
["STREET LIGHTING SERVICE CLASSIFICATION","Non-RPP (Retailer)",null,null,"Total Bill on Non-RPP Avg. Price",null,null,null,{"$f":"SUM(I414,I406:I410,I405)","v":511175.74470799998},null,null,{"$f":"SUM(L414,L406:L410,L405)","v":504840.57630800002},{"$f":"L422-I422","v":-6335.1683999999659},{"$f":"IF((I422)=0,\"\",(M422/I422))","v":-1.2393327472176556E-2}]
["STREET LIGHTING SERVICE CLASSIFICATION","Non-RPP (Retailer)",null,null,"HST",null,0.13,null,{"$f":"I422*G423","v":66452.846812040007},0.13,null,{"$f":"L422*J423","v":65629.274920039999},{"$f":"L423-I423","v":-823.57189200000721},{"$f":"IF((I423)=0,\"\",(M423/I423))","v":-1.2393327472176729E-2}]
["STREET LIGHTING SERVICE CLASSIFICATION","Non-RPP (Retailer)",null,null,"Provincial Rebate",null,-0.08,null,{"$f":"I422*G424","v":-40894.05957664},{"$f":"G424","v":-0.08},null,{"$f":"L422*J424","v":-40387.246104640006},{"$f":"L424-I424","v":506.81347199999436},{"$f":"IF((I424)=0,\"\",(M424/I424))","v":-1.2393327472176485E-2}]
["STREET LIGHTING SERVICE CLASSIFICATION","Non-RPP (Retailer)_TOTAL",null,null,"Total Bill on Non-RPP Avg. Price",null,null,null,{"$f":"SUM(I422,I423,I424)","v":536734.53194339992},null,null,{"$f":"SUM(L422,L423,L424)","v":530082.60512340011},{"$f":"L425-I425","v":-6651.9268199998187},{"$f":"IF((I425)=0,\"\",(M425/I425))","v":-1.2393327472176287E-2}]
["STREET LIGHTING SERVICE CLASSIFICATION","Non-RPP (Retailer)"]
["STREET LIGHTING SERVICE CLASSIFICATION","Non-RPP (Other)_BT",8,null,"Total Bill on Average IESO Wholesale Market Price",null,null,null,{"$f":"SUM(I415,I406:I410,I405)","v":511175.74470799998},null,null,{"$f":"SUM(L415,L406:L410,L405)","v":504840.57630800002},{"$f":"L427-I427","v":-6335.1683999999659},{"$f":"IF((I427)=0,\"\",(M427/I427))","v":-1.2393327472176556E-2}]
["STREET LIGHTING SERVICE CLASSIFICATION","Non-RPP (Other)",null,null,"HST",null,0.13,null,{"$f":"I427*G428","v":66452.846812040007},0.13,null,{"$f":"L427*J428","v":65629.274920039999},{"$f":"L428-I428","v":-823.57189200000721},{"$f":"IF((I428)=0,\"\",(M428/I428))","v":-1.2393327472176729E-2}]
["STREET LIGHTING SERVICE CLASSIFICATION","Non-RPP (Other)_NET",8,null,"Total Bill on Average IESO WMP (before 8% Provincial Rebate)",null,null,null,{"$f":"SUM(I427:I428)","v":577628.59152003995},null,null,{"$f":"SUM(L427:L428)","v":570469.85122804006},{"$f":"SUM(M427:M428)","v":-7158.7402919999731},{"$f":"IF((I429)=0,\"\",(M429/I429))","v":-1.2393327472176576E-2}]
[{"$f":"A428","v":"STREET LIGHTING SERVICE CLASSIFICATION"},"Non-RPP (Other)",null,null,"8% Provincial Rebate",null,0,null,{"$f":"I427*G430","v":0},{"$f":"G430","v":0},null,{"$f":"L427*J430","v":0},{"$f":"L430-I430","v":0},{"$f":"IF((I430)=0,\"\",(M430/I430))","v":""}]
["STREET LIGHTING SERVICE CLASSIFICATION","Non-RPP (Other)_TOTAL",8,null,"Total Bill on Average IESO Wholesale Market Price",null,null,null,{"$f":"SUM(I427,I428,I430)","v":577628.59152003995},null,null,{"$f":"SUM(L427,L428,L430)","v":570469.85122804006},{"$f":"L431-I431","v":-7158.7402919998858},{"$f":"IF((I431)=0,\"\",(M431/I431))","v":-1.2393327472176426E-2}]
["STREET LIGHTING SERVICE CLASSIFICATION","Non-RPP (Other)"]
[]
[]
[null,null,null,null,"Customer Class:",{"$f":"E23","v":"EMBEDDED DISTRIBUTOR SERVICE CLASSIFICATION"},null,null,null,null,null,{"$f":"IF(O386=\"DEMAND - INTERVAL\",\"RTSR - INTERVAL METERED\",\"\")","v":""}]
[null,null,null,null,"RPP / Non-RPP:",{"$f":"H23","v":"Non-RPP (Other)"}]
[null,null,null,null,"Consumption",{"$f":"K23","v":1417701},"kWh"]
[null,null,null,null,"Demand",{"$f":"L23","v":4000},"kW"]
[null,null,null,null,"Current Loss Factor",{"$f":"I23","v":1.0246999999999999}]
[null,null,null,null,"Proposed/Approved Loss Factor",{"$f":"J23","v":1.0246999999999999}]
[]
[null,null,null,null,null,null,"Current OEB-Approved",null,null,"Proposed",null,null,"Impact"]
[null,null,null,null,null,null,"Rate","Volume","Charge","Rate","Volume","Charge","$ Change","% Change"]
[null,null,null,null,null,null,"($)",null,"($)","($)",null,"($)"]
[{"$f":"F435","v":"EMBEDDED DISTRIBUTOR SERVICE CLASSIFICATION"},null,null,"EMD_F","Monthly Service Charge",null,{"$f":"IFERROR(SUMIF(RATES!B:B,'10th percentile'!D445,RATES!H:H),\"\")","v":4159.82},1,{"$f":"H445*G445","v":4159.82},{"$f":"IFERROR(SUMIF(RATES!B:B,'10th percentile'!D445,RATES!I:I),\"\")","v":4197.26},1,{"$f":"K445*J445","v":4197.26},{"$f":"L445-I445","v":37.440000000000509},{"$f":"IF(ISERROR(M445/I445), \"\", M445/I445)","v":9.0003894399278122E-3}]
[{"$f":"A445","v":"EMBEDDED DISTRIBUTOR SERVICE CLASSIFICATION"},null,null,"EMD_V","Distribution Volumetric Rate",null,{"$f":"IFERROR(SUMIF(RATES!B:B,'10th percentile'!D446,RATES!H:H),\"\")","v":0},{"$f":"IF($F438>0, $F438, $F437)","v":4000},{"$f":"H446*G446","v":0},{"$f":"IFERROR(SUMIF(RATES!B:B,'10th percentile'!D446,RATES!I:I),\"\")","v":0},{"$f":"IF($F438>0, $F438, $F437)","v":4000},{"$f":"K446*J446","v":0},0,{"$f":"IF(ISERROR(M446/I446), \"\", M446/I446)","v":""}]
[{"$f":"A446","v":"EMBEDDED DISTRIBUTOR SERVICE CLASSIFICATION"},null,null,"EMD_FRR","Fixed Rate Riders",null,{"$f":"IFERROR(SUMIF(RATES!B:B,'10th percentile'!D447,RATES!H:H),\"\")","v":0},1,0,{"$f":"IFERROR(SUMIF(RATES!B:B,'10th percentile'!D447,RATES!I:I),\"\")","v":58.79},1,{"$f":"K447*J447","v":58.79},58.79,""]
[{"$f":"A447","v":"EMBEDDED DISTRIBUTOR SERVICE CLASSIFICATION"},null,null,"EMD_VRR","Volumetric Rate Riders",null,{"$f":"IFERROR(SUMIF(RATES!B:B,'10th percentile'!D448,RATES!H:H),\"\")","v":0},{"$f":"IF($F438>0, $F438, $F437)","v":4000},0,{"$f":"IFERROR(SUMIF(RATES!B:B,'10th percentile'!D448,RATES!I:I),\"\")","v":0},{"$f":"IF($F438>0, $F438, $F437)","v":4000},0,0,""]
["EMBEDDED DISTRIBUTOR SERVICE CLASSIFICATION","ST_A",{"$f":"B23","v":9},null,"Sub-Total A (excluding pass through)",null,null,null,{"$f":"SUM(I445:I448)","v":4159.82},null,null,{"$f":"SUM(L445:L448)","v":4256.05},96.230000000000473,{"$f":"IF((I449)=0,\"\",(M449/I449))","v":2.3133212494771523E-2}]
["EMBEDDED DISTRIBUTOR SERVICE CLASSIFICATION",null,null,null,"Line Losses on Cost of Power",null,{"$f":"IF((F437*12>=150000), 0, IF(F436=\"RPP\",(G464*0.65+G465*0.17+G466*0.18),IF(F436=\"Non-RPP (Retailer)\",G467,G468)))","v":0},{"$f":"IF(G450=0, 0, $F437*F439-F437)","v":0},{"$f":"H450*G450","v":0},{"$f":"IF((F437*12>=150000), 0, IF(F436=\"RPP\",(J464*0.65+J465*0.17+J466*0.18),IF(F436=\"Non-RPP (Retailer)\",J467,J468)))","v":0},{"$f":"IF(G450=0, 0, $F437*F439-F437)","v":0},{"$f":"K450*J450","v":0},{"$f":"L450-I450","v":0},{"$f":"IF(ISERROR(M450/I450), \"\", M450/I450)","v":""}]
["EMBEDDED DISTRIBUTOR SERVICE CLASSIFICATION",null,null,"EMD_DVA","Total Deferral/Variance Account Rate Riders",null,{"$f":"IFERROR(SUMIF(RATES!B:B,'10th percentile'!D451,RATES!H:H),\"\")","v":-3.4000000000000002E-3},{"$f":"IF($F438>0, $F438, $F437)","v":4000},{"$f":"H451*G451","v":-13.600000000000001},{"$f":"IFERROR(SUMIF(RATES!B:B,'10th percentile'!D451,RATES!I:I),\"\")","v":-8.9999999999999998E-4},{"$f":"IF($F438>0, $F438, $F437)","v":4000},{"$f":"K451*J451","v":-3.6},{"$f":"L451-I451","v":10.000000000000002},{"$f":"IF(ISERROR(M451/I451), \"\", M451/I451)","v":-0.73529411764705888}]
["EMBEDDED DISTRIBUTOR SERVICE CLASSIFICATION",null,null,"EMD_GA","GA Rate Riders",null,{"$f":"IFERROR(SUMIF(RATES!B:B,'10th percentile'!D452,RATES!H:H),\"\")","v":4.8999999999999998E-3},{"$f":"F437","v":1417701},6946.7348999999995,0,{"$f":"F437","v":1417701},0,-6946.7348999999995,-1]
["EMBEDDED DISTRIBUTOR SERVICE CLASSIFICATION",null,null,"EMD_LV","Low Voltage Service Charge",null,{"$f":"IFERROR(SUMIF(RATES!B:B,'10th percentile'!D453,RATES!H:H),\"\")","v":0},{"$f":"IF($F438>0, $F438, $F437)","v":4000},0,{"$f":"IFERROR(SUMIF(RATES!B:B,'10th percentile'!D453,RATES!I:I),\"\")","v":0},{"$f":"IF($F438>0, $F438, $F437)","v":4000},0,0,""]
["EMBEDDED DISTRIBUTOR SERVICE CLASSIFICATION",null,null,null,"Smart Meter Entity Charge (if applicable)",null,0.79,null,{"$f":"H454*G454","v":0},0.79,null,{"$f":"K454*J454","v":0},0,{"$f":"IF(ISERROR(M454/I454), \"\", M454/I454)","v":""}]
["EMBEDDED DISTRIBUTOR SERVICE CLASSIFICATION","ST_B",{"$f":"C449","v":9},null,"Sub-Total B - Distribution (includes Sub-Total A)",null,null,null,{"$f":"SUM(I449:I454)","v":11092.954899999999},null,null,{"$f":"SUM(L449:L454)","v":4252.45},-6840.504899999999,{"$f":"IF((I455)=0,\"\",(M455/I455))","v":-0.61665308852918888}]
["EMBEDDED DISTRIBUTOR SERVICE CLASSIFICATION",null,null,"EMD_TN","RTSR - Network",null,{"$f":"IFERROR(SUMIF(RATES!B:B,'10th percentile'!D456,RATES!H:H),\"\")","v":2.8714},{"$f":"IF($F438>0, $F438, $F437*$F439)","v":4000},{"$f":"H456*G456","v":11485.6},{"$f":"IFERROR(SUMIF(RATES!B:B,'10th percentile'!D456,RATES!I:I),\"\")","v":2.8742999999999999},{"$f":"IF($F438>0, $F438, $F437*$F439)","v":4000},{"$f":"K456*J456","v":11497.199999999999},11.599999999998545,{"$f":"IF(ISERROR(M456/I456), \"\", M456/I456)","v":1.0099602981122923E-3}]
["EMBEDDED DISTRIBUTOR SERVICE CLASSIFICATION",null,null,"EMD_TC","RTSR - Connection and/or Line and Transformation Connection",null,{"$f":"IFERROR(SUMIF(RATES!B:B,'10th percentile'!D457,RATES!H:H),\"\")","v":2.0613999999999999},{"$f":"IF($F438>0, $F438, $F437*$F439)","v":4000},{"$f":"H457*G457","v":8245.6},{"$f":"IFERROR(SUMIF(RATES!B:B,'10th percentile'!D457,RATES!I:I),\"\")","v":2.3517000000000001},{"$f":"IF($F438>0, $F438, $F437*$F439)","v":4000},{"$f":"K457*J457","v":9406.8000000000011},1161.2000000000007,{"$f":"IF(ISERROR(M457/I457), \"\", M457/I457)","v":0.14082662268361315}]
["EMBEDDED DISTRIBUTOR SERVICE CLASSIFICATION","ST_C",{"$f":"C449","v":9},null,"Sub-Total C - Delivery (including Sub-Total B)",null,null,null,{"$f":"SUM(I455:I457)","v":30824.154900000001},null,null,{"$f":"SUM(L455:L457)","v":25156.449999999997},-5667.7049000000043,{"$f":"IF((I458)=0,\"\",(M458/I458))","v":-0.18387219109127964}]
["EMBEDDED DISTRIBUTOR SERVICE CLASSIFICATION",null,null,null,"Wholesale Market Service Charge (WMSC)",null,3.5999999999999999E-3,{"$f":"F437*F439","v":1452718.2146999999},{"$f":"H459*G459","v":5229.7855729199991},3.5999999999999999E-3,{"$f":"F437*F439","v":1452718.2146999999},{"$f":"K459*J459","v":5229.7855729199991},0,{"$f":"IF(ISERROR(M459/I459), \"\", M459/I459)","v":0}]
["EMBEDDED DISTRIBUTOR SERVICE CLASSIFICATION",null,null,null,"Rural and Remote Rate Protection (RRRP)",null,2.9999999999999997E-4,{"$f":"F437*F439","v":1452718.2146999999},435.81546440999995,2.9999999999999997E-4,{"$f":"F437*F439","v":1452718.2146999999},435.81546440999995,0,0]
["EMBEDDED DISTRIBUTOR SERVICE CLASSIFICATION",null,null,null,"Standard Supply Service Charge",null,0.25,null,0,0.25,null,0,0,""]
["EMBEDDED DISTRIBUTOR SERVICE CLASSIFICATION",null,null,null,"Debt Retirement Charge (DRC)",null,7.0000000000000001E-3,{"$f":"F437","v":1417701},9923.9070000000011,7.0000000000000001E-3,{"$f":"F437","v":1417701},9923.9070000000011,0,0]
["EMBEDDED DISTRIBUTOR SERVICE CLASSIFICATION"]
["EMBEDDED DISTRIBUTOR SERVICE CLASSIFICATION","RPP",null,null,"TOU - Off Peak",null,6.5000000000000002E-2,{"$f":"IF(AND(F437*12>=150000),0.65*F437*F439,0.65*F437)","v":944266.83955499995},{"$f":"H464*G464","v":61377.344571075002},6.5000000000000002E-2,{"$f":"IF(AND(F437*12>=150000),0.65*F437*F440,0.65*F437)","v":944266.83955499995},{"$f":"K464*J464","v":61377.344571075002},{"$f":"L464-I464","v":0},{"$f":"IF(ISERROR(M464/I464), \"\", M464/I464)","v":0}]
["EMBEDDED DISTRIBUTOR SERVICE CLASSIFICATION","RPP",null,null,"TOU - Mid Peak",null,9.5000000000000001E-2,{"$f":"IF(AND(F437*12>=150000),0.17*F437*F439,0.17*F437)","v":246962.09649900001},23461.399167405001,9.5000000000000001E-2,{"$f":"IF(AND(F437*12>=150000),0.17*F437*F440,0.17*F437)","v":246962.09649900001},23461.399167405001,0,0]
["EMBEDDED DISTRIBUTOR SERVICE CLASSIFICATION","RPP",null,null,"TOU - On Peak",null,0.13200000000000001,{"$f":"IF(AND(F437*12>=150000),0.18*F437*F439,0.18*F437)","v":261489.27864599999},34516.584781272002,0.13200000000000001,{"$f":"IF(AND(F437*12>=150000),0.18*F437*F440,0.18*F437)","v":261489.27864599999},34516.584781272002,0,0]
["EMBEDDED DISTRIBUTOR SERVICE CLASSIFICATION","Non-RPP (Retailer)",null,null,"Non-RPP Retailer Avg. Price",null,{"$f":"0.1061","v":0.1061},{"$f":"IF(AND(F437*12>=150000),F437*F439,F437)","v":1452718.2146999999},{"$f":"H467*G467","v":154133.40257966999},{"$f":"G467","v":0.1061},{"$f":"IF(AND(F437*12>=150000),F437*F440,F437)","v":1452718.2146999999},{"$f":"K467*J467","v":154133.40257966999},0,0]
["EMBEDDED DISTRIBUTOR SERVICE CLASSIFICATION","Non-RPP (Other)",null,null,"Average IESO Wholesale Market Price",null,{"$f":"G467","v":0.1061},{"$f":"IF(AND(F437*12>=150000),F437*F439,F437)","v":1452718.2146999999},{"$f":"H468*G468","v":154133.40257966999},{"$f":"G468","v":0.1061},{"$f":"IF(AND(F437*12>=150000),F437*F440,F437)","v":1452718.2146999999},{"$f":"K468*J468","v":154133.40257966999},0,0]
["EMBEDDED DISTRIBUTOR SERVICE CLASSIFICATION"]
["EMBEDDED DISTRIBUTOR SERVICE CLASSIFICATION","RPP_BT",null,null,"Total Bill on TOU (before Taxes)",null,null,null,{"$f":"SUM(I459:I466,I458)","v":165768.99145708201},null,null,{"$f":"SUM(L459:L466,L458)","v":160101.28655708203},{"$f":"L470-I470","v":-5667.7048999999824},{"$f":"IF((I470)=0,\"\",(M470/I470))","v":-3.4190380542113416E-2}]
["EMBEDDED DISTRIBUTOR SERVICE CLASSIFICATION","RPP",null,null,"HST",null,0.13,null,{"$f":"I470*G471","v":21549.968889420663},0.13,null,{"$f":"L470*J471","v":20813.167252420666},{"$f":"L471-I471","v":-736.80163699999684},{"$f":"IF((I471)=0,\"\",(M471/I471))","v":-3.4190380542113374E-2}]
["EMBEDDED DISTRIBUTOR SERVICE CLASSIFICATION","RPP_NET",null,null,"Total Bill on TOU (before 8% Provincial Rebate)",null,null,null,{"$f":"SUM(I470:I471)","v":187318.96034650266},null,null,{"$f":"SUM(L470:L471)","v":180914.45380950271},{"$f":"SUM(M470:M471)","v":-6404.5065369999793},{"$f":"IF((I472)=0,\"\",(M472/I472))","v":-3.4190380542113416E-2}]
[{"$f":"A471","v":"EMBEDDED DISTRIBUTOR SERVICE CLASSIFICATION"},"RPP",null,null,"8% Provincial Rebate",null,-0.08,null,{"$f":"I470*G473","v":-13261.519316566561},{"$f":"G473","v":-0.08},null,{"$f":"L470*J473","v":-12808.102924566563},{"$f":"L473-I473","v":453.41639199999736},{"$f":"IF((I473)=0,\"\",(M473/I473))","v":-3.4190380542113326E-2}]
["EMBEDDED DISTRIBUTOR SERVICE CLASSIFICATION","RPP_TOTAL",null,null,"Total Bill on TOU",null,null,null,{"$f":"SUM(I470,I471,I473)","v":174057.4410299361},null,null,{"$f":"L470+L471+L473","v":168106.35088493614},{"$f":"L474-I474","v":-5951.0901449999656},{"$f":"IF((I474)=0,\"\",(M474/I474))","v":-3.4190380542113326E-2}]
["EMBEDDED DISTRIBUTOR SERVICE CLASSIFICATION","RPP"]
["EMBEDDED DISTRIBUTOR SERVICE CLASSIFICATION","Non-RPP (Retailer)",null,null,"Total Bill on Non-RPP Avg. Price",null,null,null,{"$f":"SUM(I467,I459:I463,I458)","v":200547.06551699998},null,null,{"$f":"SUM(L467,L459:L463,L458)","v":194879.36061699997},{"$f":"L476-I476","v":-5667.7049000000115},{"$f":"IF((I476)=0,\"\",(M476/I476))","v":-2.8261220803151424E-2}]
["EMBEDDED DISTRIBUTOR SERVICE CLASSIFICATION","Non-RPP (Retailer)",null,null,"HST",null,0.13,null,{"$f":"I476*G477","v":26071.118517209998},0.13,null,{"$f":"L476*J477","v":25334.316880209997},{"$f":"L477-I477","v":-736.80163700000048},{"$f":"IF((I477)=0,\"\",(M477/I477))","v":-2.8261220803151386E-2}]
["EMBEDDED DISTRIBUTOR SERVICE CLASSIFICATION","Non-RPP (Retailer)",null,null,"Provincial Rebate",null,-0.08,null,{"$f":"I476*G478","v":-16043.765241359999},{"$f":"G478","v":-0.08},null,{"$f":"L476*J478","v":-15590.348849359998},{"$f":"L478-I478","v":453.416392000001},{"$f":"IF((I478)=0,\"\",(M478/I478))","v":-2.8261220803151427E-2}]
["EMBEDDED DISTRIBUTOR SERVICE CLASSIFICATION","Non-RPP (Retailer)_TOTAL",null,null,"Total Bill on Non-RPP Avg. Price",null,null,null,{"$f":"SUM(I476,I477,I478)","v":210574.41879284999},null,null,{"$f":"SUM(L476,L477,L478)","v":204623.32864784999},{"$f":"L479-I479","v":-5951.0901449999947},{"$f":"IF((I479)=0,\"\",(M479/I479))","v":-2.8261220803151341E-2}]
["EMBEDDED DISTRIBUTOR SERVICE CLASSIFICATION","Non-RPP (Retailer)"]
["EMBEDDED DISTRIBUTOR SERVICE CLASSIFICATION","Non-RPP (Other)_BT",{"$f":"C449","v":9},null,"Total Bill on Average IESO Wholesale Market Price",null,null,null,{"$f":"SUM(I468,I459:I463,I458)","v":200547.06551699998},null,null,{"$f":"SUM(L468,L459:L463,L458)","v":194879.36061699997},{"$f":"L481-I481","v":-5667.7049000000115},{"$f":"IF((I481)=0,\"\",(M481/I481))","v":-2.8261220803151424E-2}]
["EMBEDDED DISTRIBUTOR SERVICE CLASSIFICATION","Non-RPP (Other)",null,null,"HST",null,0.13,null,{"$f":"I481*G482","v":26071.118517209998},0.13,null,{"$f":"L481*J482","v":25334.316880209997},{"$f":"L482-I482","v":-736.80163700000048},{"$f":"IF((I482)=0,\"\",(M482/I482))","v":-2.8261220803151386E-2}]
["EMBEDDED DISTRIBUTOR SERVICE CLASSIFICATION","Non-RPP (Other)_NET",{"$f":"C481","v":9},null,"Total Bill on Average IESO WMP (before 8% Provincial Rebate)",null,null,null,{"$f":"SUM(I481:I482)","v":226618.18403420999},null,null,{"$f":"SUM(L481:L482)","v":220213.67749720998},{"$f":"SUM(M481:M482)","v":-6404.506537000012},{"$f":"IF((I483)=0,\"\",(M483/I483))","v":-2.8261220803151417E-2}]
[{"$f":"A482","v":"EMBEDDED DISTRIBUTOR SERVICE CLASSIFICATION"},"Non-RPP (Other)",null,null,"8% Provincial Rebate",null,0,null,{"$f":"I481*G484","v":0},{"$f":"G484","v":0},null,{"$f":"L481*J484","v":0},{"$f":"L484-I484","v":0},{"$f":"IF((I484)=0,\"\",(M484/I484))","v":""}]
["EMBEDDED DISTRIBUTOR SERVICE CLASSIFICATION","Non-RPP (Other)_TOTAL",{"$f":"C481","v":9},null,"Total Bill on Average IESO Wholesale Market Price",null,null,null,{"$f":"SUM(I481,I482,I484)","v":226618.18403420999},null,null,{"$f":"SUM(L481,L482,L484)","v":220213.67749720998},{"$f":"L485-I485","v":-6404.5065370000084},{"$f":"IF((I485)=0,\"\",(M485/I485))","v":-2.8261220803151403E-2}]
["EMBEDDED DISTRIBUTOR SERVICE CLASSIFICATION","Non-RPP (Other)"]
[]
[]
[null,null,null,null,"Customer Class:",{"$f":"E24","v":"DISTRIBUTED GENERATION [DGEN] SERVICE CLASSIFICATION"},null,null,null,null,null,{"$f":"IF(O439=\"DEMAND - INTERVAL\",\"RTSR - INTERVAL METERED\",\"\")","v":""}]
[null,null,null,null,"RPP / Non-RPP:",{"$f":"H24","v":"Non-RPP (Other)"}]
[null,null,null,null,"Consumption",{"$f":"K24","v":156},"kWh"]
[null,null,null,null,"Demand",{"$f":"L24","v":0},"kW"]
[null,null,null,null,"Current Loss Factor",{"$f":"I24","v":1.0341}]
[null,null,null,null,"Proposed/Approved Loss Factor",{"$f":"J24","v":1.0341}]
[]
[null,null,null,null,null,null,"Current OEB-Approved",null,null,"Proposed",null,null,"Impact"]
[null,null,null,null,null,null,"Rate","Volume","Charge","Rate","Volume","Charge","$ Change","% Change"]
[null,null,null,null,null,null,"($)",null,"($)","($)",null,"($)"]
[{"$f":"F489","v":"DISTRIBUTED GENERATION [DGEN] SERVICE CLASSIFICATION"},null,null,"DG_F","Monthly Service Charge",null,{"$f":"IFERROR(SUMIF(RATES!B:B,'10th percentile'!D499,RATES!H:H),\"\")","v":103.97},1,{"$f":"H499*G499","v":103.97},{"$f":"IFERROR(SUMIF(RATES!B:B,'10th percentile'!D499,RATES!I:I),\"\")","v":104.91},1,{"$f":"K499*J499","v":104.91},{"$f":"L499-I499","v":0.93999999999999773},{"$f":"IF(ISERROR(M499/I499), \"\", M499/I499)","v":9.0410695392901582E-3}]
[{"$f":"A499","v":"DISTRIBUTED GENERATION [DGEN] SERVICE CLASSIFICATION"},null,null,"DG_V","Distribution Volumetric Rate",null,{"$f":"IFERROR(SUMIF(RATES!B:B,'10th percentile'!D500,RATES!H:H),\"\")","v":0},{"$f":"IF($F492>0, $F492, $F491)","v":156},{"$f":"H500*G500","v":0},{"$f":"IFERROR(SUMIF(RATES!B:B,'10th percentile'!D500,RATES!I:I),\"\")","v":0},{"$f":"IF($F492>0, $F492, $F491)","v":156},{"$f":"K500*J500","v":0},0,{"$f":"IF(ISERROR(M500/I500), \"\", M500/I500)","v":""}]
[{"$f":"A500","v":"DISTRIBUTED GENERATION [DGEN] SERVICE CLASSIFICATION"},null,null,"DG_FRR","Fixed Rate Riders",null,{"$f":"IFERROR(SUMIF(RATES!B:B,'10th percentile'!D501,RATES!H:H),\"\")","v":0},1,0,{"$f":"IFERROR(SUMIF(RATES!B:B,'10th percentile'!D501,RATES!I:I),\"\")","v":1.47},1,{"$f":"K501*J501","v":1.47},1.47,""]
[{"$f":"A501","v":"DISTRIBUTED GENERATION [DGEN] SERVICE CLASSIFICATION"},null,null,"DG_VRR","Volumetric Rate Riders",null,{"$f":"IFERROR(SUMIF(RATES!B:B,'10th percentile'!D502,RATES!H:H),\"\")","v":5.0000000000000001E-4},{"$f":"IF($F492>0, $F492, $F491)","v":156},7.8E-2,{"$f":"IFERROR(SUMIF(RATES!B:B,'10th percentile'!D502,RATES!I:I),\"\")","v":0},{"$f":"IF($F492>0, $F492, $F491)","v":156},0,-7.8E-2,-1]
["DISTRIBUTED GENERATION [DGEN] SERVICE CLASSIFICATION","ST_A",{"$f":"B24","v":10},null,"Sub-Total A (excluding pass through)",null,null,null,{"$f":"SUM(I499:I502)","v":104.048},null,null,{"$f":"SUM(L499:L502)","v":106.38},2.3319999999999936,{"$f":"IF((I503)=0,\"\",(M503/I503))","v":2.2412732584960727E-2}]
["DISTRIBUTED GENERATION [DGEN] SERVICE CLASSIFICATION",null,null,null,"Line Losses on Cost of Power",null,{"$f":"IF((F491*12>=150000), 0, IF(F490=\"RPP\",(G518*0.65+G519*0.17+G520*0.18),IF(F490=\"Non-RPP (Retailer)\",G521,G522)))","v":0.1061},{"$f":"IF(G504=0, 0, $F491*F493-F491)","v":5.3196000000000083},{"$f":"H504*G504","v":0.56440956000000087},{"$f":"IF((F491*12>=150000), 0, IF(F490=\"RPP\",(J518*0.65+J519*0.17+J520*0.18),IF(F490=\"Non-RPP (Retailer)\",J521,J522)))","v":0.1061},{"$f":"IF(G504=0, 0, $F491*F493-F491)","v":5.3196000000000083},{"$f":"K504*J504","v":0.56440956000000087},{"$f":"L504-I504","v":0},{"$f":"IF(ISERROR(M504/I504), \"\", M504/I504)","v":0}]
["DISTRIBUTED GENERATION [DGEN] SERVICE CLASSIFICATION",null,null,"DG_DVA","Total Deferral/Variance Account Rate Riders",null,{"$f":"IFERROR(SUMIF(RATES!B:B,'10th percentile'!D505,RATES!H:H),\"\")","v":-3.4000000000000002E-3},{"$f":"IF($F492>0, $F492, $F491)","v":156},{"$f":"H505*G505","v":-0.53039999999999998},{"$f":"IFERROR(SUMIF(RATES!B:B,'10th percentile'!D505,RATES!I:I),\"\")","v":-8.9999999999999998E-4},{"$f":"IF($F492>0, $F492, $F491)","v":156},{"$f":"K505*J505","v":-0.1404},{"$f":"L505-I505","v":0.39},{"$f":"IF(ISERROR(M505/I505), \"\", M505/I505)","v":-0.73529411764705888}]
["DISTRIBUTED GENERATION [DGEN] SERVICE CLASSIFICATION",null,null,"DG_GA","GA Rate Riders",null,{"$f":"IFERROR(SUMIF(RATES!B:B,'10th percentile'!D506,RATES!H:H),\"\")","v":4.8999999999999998E-3},{"$f":"IF($F492>0, $F492, $F491)","v":156},0.76439999999999997,{"$f":"IFERROR(SUMIF(RATES!B:B,'10th percentile'!D506,RATES!I:I),\"\")","v":-8.9999999999999998E-4},{"$f":"IF($F492>0, $F492, $F491)","v":156},-0.1404,-0.90479999999999994,-1.1836734693877551]
["DISTRIBUTED GENERATION [DGEN] SERVICE CLASSIFICATION",null,null,"DG_LV","Low Voltage Service Charge",null,{"$f":"IFERROR(SUMIF(RATES!B:B,'10th percentile'!D507,RATES!H:H),\"\")","v":0},{"$f":"IF($F492>0, $F492, $F491)","v":156},0,{"$f":"IFERROR(SUMIF(RATES!B:B,'10th percentile'!D507,RATES!I:I),\"\")","v":0},{"$f":"IF($F492>0, $F492, $F491)","v":156},0,0,""]
["DISTRIBUTED GENERATION [DGEN] SERVICE CLASSIFICATION",null,null,null,"Smart Meter Entity Charge (if applicable)",null,0.79,null,{"$f":"H508*G508","v":0},0.79,null,{"$f":"K508*J508","v":0},0,{"$f":"IF(ISERROR(M508/I508), \"\", M508/I508)","v":""}]
["DISTRIBUTED GENERATION [DGEN] SERVICE CLASSIFICATION","ST_B",{"$f":"C503","v":10},null,"Sub-Total B - Distribution (includes Sub-Total A)",null,null,null,{"$f":"SUM(I503:I508)","v":104.84640956},null,null,{"$f":"SUM(L503:L508)","v":106.66360956},1.8171999999999997,{"$f":"IF((I509)=0,\"\",(M509/I509))","v":1.7332019356944013E-2}]
["DISTRIBUTED GENERATION [DGEN] SERVICE CLASSIFICATION",null,null,"DG_TN","RTSR - Network",null,{"$f":"IFERROR(SUMIF(RATES!B:B,'10th percentile'!D510,RATES!H:H),\"\")","v":6.6E-3},{"$f":"IF($F492>0, $F492, $F491*$F493)","v":161.31960000000001},{"$f":"H510*G510","v":1.0647093600000002},{"$f":"IFERROR(SUMIF(RATES!B:B,'10th percentile'!D510,RATES!I:I),\"\")","v":6.6E-3},{"$f":"IF($F492>0, $F492, $F491*$F493)","v":161.31960000000001},{"$f":"K510*J510","v":1.0647093600000002},0,{"$f":"IF(ISERROR(M510/I510), \"\", M510/I510)","v":0}]
["DISTRIBUTED GENERATION [DGEN] SERVICE CLASSIFICATION",null,null,"DG_TC","RTSR - Connection and/or Line and Transformation Connection",null,{"$f":"IFERROR(SUMIF(RATES!B:B,'10th percentile'!D511,RATES!H:H),\"\")","v":4.7999999999999996E-3},{"$f":"IF($F492>0, $F492, $F491*$F493)","v":161.31960000000001},{"$f":"H511*G511","v":0.77433407999999992},{"$f":"IFERROR(SUMIF(RATES!B:B,'10th percentile'!D511,RATES!I:I),\"\")","v":5.4999999999999997E-3},{"$f":"IF($F492>0, $F492, $F491*$F493)","v":161.31960000000001},{"$f":"K511*J511","v":0.88725779999999999},0.11292372000000006,{"$f":"IF(ISERROR(M511/I511), \"\", M511/I511)","v":0.14583333333333343}]
["DISTRIBUTED GENERATION [DGEN] SERVICE CLASSIFICATION","ST_C",{"$f":"C503","v":10},null,"Sub-Total C - Delivery (including Sub-Total B)",null,null,null,{"$f":"SUM(I509:I511)","v":106.685453},null,null,{"$f":"SUM(L509:L511)","v":108.61557671999999},1.9301237199999974,{"$f":"IF((I512)=0,\"\",(M512/I512))","v":1.8091723526730469E-2}]
["DISTRIBUTED GENERATION [DGEN] SERVICE CLASSIFICATION",null,null,null,"Wholesale Market Service Charge (WMSC)",null,3.5999999999999999E-3,{"$f":"F491*F493","v":161.31960000000001},{"$f":"H513*G513","v":0.58075056000000003},3.5999999999999999E-3,{"$f":"F491*F493","v":161.31960000000001},{"$f":"K513*J513","v":0.58075056000000003},0,{"$f":"IF(ISERROR(M513/I513), \"\", M513/I513)","v":0}]
["DISTRIBUTED GENERATION [DGEN] SERVICE CLASSIFICATION",null,null,null,"Rural and Remote Rate Protection (RRRP)",null,2.9999999999999997E-4,{"$f":"F491*F493","v":161.31960000000001},4.8395879999999995E-2,2.9999999999999997E-4,{"$f":"F491*F493","v":161.31960000000001},4.8395879999999995E-2,0,0]
["DISTRIBUTED GENERATION [DGEN] SERVICE CLASSIFICATION",null,null,null,"Standard Supply Service Charge",null,0.25,null,0,0.25,null,0,0,""]
["DISTRIBUTED GENERATION [DGEN] SERVICE CLASSIFICATION",null,null,null,"Debt Retirement Charge (DRC)",null,7.0000000000000001E-3,{"$f":"F491","v":156},1.0920000000000001,7.0000000000000001E-3,{"$f":"F491","v":156},1.0920000000000001,0,0]
["DISTRIBUTED GENERATION [DGEN] SERVICE CLASSIFICATION"]
["DISTRIBUTED GENERATION [DGEN] SERVICE CLASSIFICATION","RPP",null,null,"TOU - Off Peak",null,6.5000000000000002E-2,{"$f":"IF(AND(F491*12>=150000),0.65*F491*F493,0.65*F491)","v":101.4},{"$f":"H518*G518","v":6.5910000000000002},6.5000000000000002E-2,{"$f":"IF(AND(F491*12>=150000),0.65*F491*F494,0.65*F491)","v":101.4},{"$f":"K518*J518","v":6.5910000000000002},{"$f":"L518-I518","v":0},{"$f":"IF(ISERROR(M518/I518), \"\", M518/I518)","v":0}]
["DISTRIBUTED GENERATION [DGEN] SERVICE CLASSIFICATION","RPP",null,null,"TOU - Mid Peak",null,9.5000000000000001E-2,{"$f":"IF(AND(F491*12>=150000),0.17*F491*F493,0.17*F491)","v":26.520000000000003},2.5194000000000005,9.5000000000000001E-2,{"$f":"IF(AND(F491*12>=150000),0.17*F491*F494,0.17*F491)","v":26.520000000000003},2.5194000000000005,0,0]
["DISTRIBUTED GENERATION [DGEN] SERVICE CLASSIFICATION","RPP",null,null,"TOU - On Peak",null,0.13200000000000001,{"$f":"IF(AND(F491*12>=150000),0.18*F491*F493,0.18*F491)","v":28.08},3.7065600000000001,0.13200000000000001,{"$f":"IF(AND(F491*12>=150000),0.18*F491*F494,0.18*F491)","v":28.08},3.7065600000000001,0,0]
["DISTRIBUTED GENERATION [DGEN] SERVICE CLASSIFICATION","Non-RPP (Retailer)",null,null,"Non-RPP Retailer Avg. Price",null,{"$f":"0.1061","v":0.1061},{"$f":"IF(AND(F491*12>=150000),F491*F493,F491)","v":156},{"$f":"H521*G521","v":16.551600000000001},{"$f":"G521","v":0.1061},{"$f":"IF(AND(F491*12>=150000),F491*F494,F491)","v":156},{"$f":"K521*J521","v":16.551600000000001},0,0]
["DISTRIBUTED GENERATION [DGEN] SERVICE CLASSIFICATION","Non-RPP (Other)",null,null,"Average IESO Wholesale Market Price",null,{"$f":"G521","v":0.1061},{"$f":"IF(AND(F491*12>=150000),F491*F493,F491)","v":156},{"$f":"H522*G522","v":16.551600000000001},{"$f":"G522","v":0.1061},{"$f":"IF(AND(F491*12>=150000),F491*F494,F491)","v":156},{"$f":"K522*J522","v":16.551600000000001},0,0]
["DISTRIBUTED GENERATION [DGEN] SERVICE CLASSIFICATION"]
["DISTRIBUTED GENERATION [DGEN] SERVICE CLASSIFICATION","RPP",null,null,"Total Bill on TOU (before Taxes)",null,null,null,{"$f":"SUM(I513:I520,I512)","v":121.22355944},null,null,{"$f":"SUM(L513:L520,L512)","v":123.15368315999999},{"$f":"L524-I524","v":1.9301237199999832},{"$f":"IF((I524)=0,\"\",(M524/I524))","v":1.5922018202701796E-2}]
["DISTRIBUTED GENERATION [DGEN] SERVICE CLASSIFICATION","RPP",null,null,"HST",null,0.13,null,{"$f":"I524*G525","v":15.759062727200002},0.13,null,{"$f":"L524*J525","v":16.0099788108},{"$f":"L525-I525","v":0.25091608359999817},{"$f":"IF((I525)=0,\"\",(M525/I525))","v":1.5922018202701817E-2}]
["DISTRIBUTED GENERATION [DGEN] SERVICE CLASSIFICATION","RPP",null,null,"Provincial Rebate",null,-0.08,null,{"$f":"I524*G526","v":-9.6978847552000005},{"$f":"G526","v":-0.08},null,{"$f":"L524*J526","v":-9.8522946527999995},{"$f":"L526-I526","v":-0.15440989759999901},{"$f":"IF((I526)=0,\"\",(M526/I526))","v":1.5922018202701834E-2}]
["DISTRIBUTED GENERATION [DGEN] SERVICE CLASSIFICATION","RPP_TOTAL",null,null,"Total Bill on TOU",null,null,null,{"$f":"SUM(I524,I525,I526)","v":127.284737412},null,null,{"$f":"L524+L525+L526","v":129.31136731799998},{"$f":"L527-I527","v":2.0266299059999824},{"$f":"IF((I527)=0,\"\",(M527/I527))","v":1.5922018202701796E-2}]
["DISTRIBUTED GENERATION [DGEN] SERVICE CLASSIFICATION","RPP"]
["DISTRIBUTED GENERATION [DGEN] SERVICE CLASSIFICATION","Non-RPP (Retailer)_BT",null,null,"Total Bill on Non-RPP Avg. Price",null,null,null,{"$f":"SUM(I521,I513:I517,I512)","v":124.95819943999999},null,null,{"$f":"SUM(L521,L513:L517,L512)","v":126.88832316},{"$f":"L529-I529","v":1.9301237200000116},{"$f":"IF((I529)=0,\"\",(M529/I529))","v":1.5446155023438707E-2}]
["DISTRIBUTED GENERATION [DGEN] SERVICE CLASSIFICATION","Non-RPP (Retailer)",null,null,"HST",null,0.13,null,{"$f":"I529*G530","v":16.2445659272},0.13,null,{"$f":"L529*J530","v":16.4954820108},{"$f":"L530-I530","v":0.25091608359999995},{"$f":"IF((I530)=0,\"\",(M530/I530))","v":1.544615502343861E-2}]
["DISTRIBUTED GENERATION [DGEN] SERVICE CLASSIFICATION","Non-RPP (Retailer)_NET",null,null,"Total Bill on Non-RPP Avg. Price (before 8% Provincial Rebate)",null,null,null,{"$f":"SUM(I529:I530)","v":141.20276536719999},null,null,{"$f":"SUM(L529:L530)","v":143.3838051708},{"$f":"SUM(M529:M530)","v":2.1810398036000116},{"$f":"IF((I531)=0,\"\",(M531/I531))","v":1.5446155023438695E-2}]
[{"$f":"A530","v":"DISTRIBUTED GENERATION [DGEN] SERVICE CLASSIFICATION"},"Non-RPP (Retailer)",null,null,"8% Provincial Rebate",null,-0.08,null,{"$f":"I529*G532","v":-9.9966559551999996},{"$f":"G532","v":-0.08},null,{"$f":"L529*J532","v":-10.1510658528},{"$f":"L532-I532","v":-0.15440989760000079},{"$f":"IF((I532)=0,\"\",(M532/I532))","v":1.5446155023438692E-2}]
["DISTRIBUTED GENERATION [DGEN] SERVICE CLASSIFICATION","Non-RPP (Retailer)_TOTAL",null,null,"Total Bill on Non-RPP Avg. Price",null,null,null,{"$f":"SUM(I529,I530,I532)","v":131.20610941199999},null,null,{"$f":"SUM(L529,L530,L532)","v":133.232739318},{"$f":"L533-I533","v":2.0266299060000108},{"$f":"IF((I533)=0,\"\",(M533/I533))","v":1.5446155023438697E-2}]
["DISTRIBUTED GENERATION [DGEN] SERVICE CLASSIFICATION","Non-RPP (Retailer)"]
["DISTRIBUTED GENERATION [DGEN] SERVICE CLASSIFICATION","Non-RPP (Other)_BT",{"$f":"C503","v":10},null,"Total Bill on Average IESO Wholesale Market Price",null,null,null,{"$f":"SUM(I522,I513:I517,I512)","v":124.95819943999999},null,null,{"$f":"SUM(L522,L513:L517,L512)","v":126.88832316},{"$f":"L535-I535","v":1.9301237200000116},{"$f":"IF((I535)=0,\"\",(M535/I535))","v":1.5446155023438707E-2}]
["DISTRIBUTED GENERATION [DGEN] SERVICE CLASSIFICATION","Non-RPP (Other)",null,null,"HST",null,0.13,null,{"$f":"I535*G536","v":16.2445659272},0.13,null,{"$f":"L535*J536","v":16.4954820108},{"$f":"L536-I536","v":0.25091608359999995},{"$f":"IF((I536)=0,\"\",(M536/I536))","v":1.544615502343861E-2}]
["DISTRIBUTED GENERATION [DGEN] SERVICE CLASSIFICATION","Non-RPP (Other)_NET",{"$f":"C535","v":10},null,"Total Bill on Average IESO WMP (before 8% Provincial Rebate)",null,null,null,{"$f":"SUM(I535:I536)","v":141.20276536719999},null,null,{"$f":"SUM(L535:L536)","v":143.3838051708},{"$f":"SUM(M535:M536)","v":2.1810398036000116},{"$f":"IF((I537)=0,\"\",(M537/I537))","v":1.5446155023438695E-2}]
["DISTRIBUTED GENERATION [DGEN] SERVICE CLASSIFICATION","Non-RPP (Other)",null,null,"8% Provincial Rebate",null,0,null,{"$f":"I535*G538","v":0},{"$f":"G538","v":0},null,{"$f":"L535*J538","v":0},{"$f":"L538-I538","v":0},{"$f":"IF((I538)=0,\"\",(M538/I538))","v":""}]
["DISTRIBUTED GENERATION [DGEN] SERVICE CLASSIFICATION","Non-RPP (Other)_TOTAL",{"$f":"C535","v":10},null,"Total Bill on Average IESO Wholesale Market Price",null,null,null,{"$f":"SUM(I535,I536,I538)","v":141.20276536719999},null,null,{"$f":"SUM(L535,L536,L538)","v":143.3838051708},{"$f":"L539-I539","v":2.1810398036000151},{"$f":"IF((I539)=0,\"\",(M539/I539))","v":1.5446155023438721E-2}]
["DISTRIBUTED GENERATION [DGEN] SERVICE CLASSIFICATION","Non-RPP (Other)"]
[]
[]
[null,null,null,null,"Customer Class:",{"$f":"E25","v":"ENERGY FROM WASTE SERVICE CLASSIFICATION"},null,null,null,null,null,{"$f":"IF(O493=\"DEMAND - INTERVAL\",\"RTSR - INTERVAL METERED\",\"\")","v":""}]
[null,null,null,null,"RPP / Non-RPP:",{"$f":"H25","v":"Non-RPP (Other)"}]
[null,null,null,null,"Consumption",{"$f":"K25","v":0},"kWh"]
[null,null,null,null,"Demand",{"$f":"L25","v":0},"kW"]
[null,null,null,null,"Current Loss Factor",{"$f":"I25","v":1.0341}]
[null,null,null,null,"Proposed/Approved Loss Factor",{"$f":"J25","v":1.0341}]
[]
[null,null,null,null,null,null,"Current OEB-Approved",null,null,"Proposed",null,null,"Impact"]
[null,null,null,null,null,null,"Rate","Volume","Charge","Rate","Volume","Charge","$ Change","% Change"]
[null,null,null,null,null,null,"($)",null,"($)","($)",null,"($)"]
[{"$f":"F543","v":"ENERGY FROM WASTE SERVICE CLASSIFICATION"},null,null,"WST_F","Monthly Service Charge",null,{"$f":"IFERROR(SUMIF(RATES!B:B,'10th percentile'!D553,RATES!H:H),\"\")","v":63.09},1,{"$f":"H553*G553","v":63.09},{"$f":"IFERROR(SUMIF(RATES!B:B,'10th percentile'!D553,RATES!I:I),\"\")","v":63.66},1,{"$f":"K553*J553","v":63.66},{"$f":"L553-I553","v":0.56999999999999318},{"$f":"IF(ISERROR(M553/I553), \"\", M553/I553)","v":9.0347123157393117E-3}]
[{"$f":"A553","v":"ENERGY FROM WASTE SERVICE CLASSIFICATION"},null,null,"WST_V","Distribution Volumetric Rate",null,{"$f":"IFERROR(SUMIF(RATES!B:B,'10th percentile'!D554,RATES!H:H),\"\")","v":0},{"$f":"IF($F546>0, $F546, $F545)","v":0},{"$f":"H554*G554","v":0},{"$f":"IFERROR(SUMIF(RATES!B:B,'10th percentile'!D554,RATES!I:I),\"\")","v":0},{"$f":"IF($F546>0, $F546, $F545)","v":0},{"$f":"K554*J554","v":0},0,{"$f":"IF(ISERROR(M554/I554), \"\", M554/I554)","v":""}]
[{"$f":"A554","v":"ENERGY FROM WASTE SERVICE CLASSIFICATION"},null,null,"WST_FRR","Fixed Rate Riders",null,{"$f":"IFERROR(SUMIF(RATES!B:B,'10th percentile'!D555,RATES!H:H),\"\")","v":0},1,0,{"$f":"IFERROR(SUMIF(RATES!B:B,'10th percentile'!D555,RATES!I:I),\"\")","v":0},1,{"$f":"K555*J555","v":0},0,""]
[{"$f":"A555","v":"ENERGY FROM WASTE SERVICE CLASSIFICATION"},null,null,"WST_VRR","Volumetric Rate Riders",null,{"$f":"IFERROR(SUMIF(RATES!B:B,'10th percentile'!D556,RATES!H:H),\"\")","v":0},{"$f":"IF($F546>0, $F546, $F545)","v":0},0,{"$f":"IFERROR(SUMIF(RATES!B:B,'10th percentile'!D556,RATES!I:I),\"\")","v":0},{"$f":"IF($F546>0, $F546, $F545)","v":0},0,0,""]
["ENERGY FROM WASTE SERVICE CLASSIFICATION","ST_A",{"$f":"B25","v":11},null,"Sub-Total A (excluding pass through)",null,null,null,{"$f":"SUM(I553:I556)","v":63.09},null,null,{"$f":"SUM(L553:L556)","v":63.66},0.56999999999999318,{"$f":"IF((I557)=0,\"\",(M557/I557))","v":9.0347123157393117E-3}]
["ENERGY FROM WASTE SERVICE CLASSIFICATION",null,null,null,"Line Losses on Cost of Power",null,{"$f":"IF((F545*12>=150000), 0, IF(F544=\"RPP\",(G572*0.65+G573*0.17+G574*0.18),IF(F544=\"Non-RPP (Retailer)\",G575,G576)))","v":0.1061},{"$f":"IF(G558=0, 0, $F545*F547-F545)","v":0},{"$f":"H558*G558","v":0},{"$f":"IF((F545*12>=150000), 0, IF(F544=\"RPP\",(J572*0.65+J573*0.17+J574*0.18),IF(F544=\"Non-RPP (Retailer)\",J575,J576)))","v":0.1061},{"$f":"IF(G558=0, 0, $F545*F547-F545)","v":0},{"$f":"K558*J558","v":0},{"$f":"L558-I558","v":0},{"$f":"IF(ISERROR(M558/I558), \"\", M558/I558)","v":""}]
["ENERGY FROM WASTE SERVICE CLASSIFICATION",null,null,"WST_DVA","Total Deferral/Variance Account Rate Riders",null,{"$f":"IFERROR(SUMIF(RATES!B:B,'10th percentile'!D559,RATES!H:H),\"\")","v":0},{"$f":"IF($F546>0, $F546, $F545)","v":0},{"$f":"H559*G559","v":0},{"$f":"IFERROR(SUMIF(RATES!B:B,'10th percentile'!D559,RATES!I:I),\"\")","v":0},{"$f":"IF($F546>0, $F546, $F545)","v":0},{"$f":"K559*J559","v":0},{"$f":"L559-I559","v":0},{"$f":"IF(ISERROR(M559/I559), \"\", M559/I559)","v":""}]
["ENERGY FROM WASTE SERVICE CLASSIFICATION",null,null,"WST_GA","GA Rate Riders",null,{"$f":"IFERROR(SUMIF(RATES!B:B,'10th percentile'!D560,RATES!H:H),\"\")","v":0},{"$f":"IF($F546>0, $F546, $F545)","v":0},0,{"$f":"IFERROR(SUMIF(RATES!B:B,'10th percentile'!D560,RATES!I:I),\"\")","v":0},{"$f":"IF($F546>0, $F546, $F545)","v":0},0,0,""]
["ENERGY FROM WASTE SERVICE CLASSIFICATION",null,null,"WST_LV","Low Voltage Service Charge",null,{"$f":"IFERROR(SUMIF(RATES!B:B,'10th percentile'!D561,RATES!H:H),\"\")","v":0},{"$f":"IF($F546>0, $F546, $F545)","v":0},0,{"$f":"IFERROR(SUMIF(RATES!B:B,'10th percentile'!D561,RATES!I:I),\"\")","v":0},{"$f":"IF($F546>0, $F546, $F545)","v":0},0,0,""]
["ENERGY FROM WASTE SERVICE CLASSIFICATION",null,null,null,"Smart Meter Entity Charge (if applicable)",null,0.79,null,{"$f":"H562*G562","v":0},0.79,null,{"$f":"K562*J562","v":0},0,{"$f":"IF(ISERROR(M562/I562), \"\", M562/I562)","v":""}]
["ENERGY FROM WASTE SERVICE CLASSIFICATION","ST_B",{"$f":"C557","v":11},null,"Sub-Total B - Distribution (includes Sub-Total A)",null,null,null,{"$f":"SUM(I557:I562)","v":63.09},null,null,{"$f":"SUM(L557:L562)","v":63.66},0.56999999999999318,{"$f":"IF((I563)=0,\"\",(M563/I563))","v":9.0347123157393117E-3}]
["ENERGY FROM WASTE SERVICE CLASSIFICATION",null,null,"WST_TN","RTSR - Network",null,{"$f":"IFERROR(SUMIF(RATES!B:B,'10th percentile'!D564,RATES!H:H),\"\")","v":0},{"$f":"IF($F546>0, $F546, $F545*$F547)","v":0},{"$f":"H564*G564","v":0},{"$f":"IFERROR(SUMIF(RATES!B:B,'10th percentile'!D564,RATES!I:I),\"\")","v":0},{"$f":"IF($F546>0, $F546, $F545*$F547)","v":0},{"$f":"K564*J564","v":0},0,{"$f":"IF(ISERROR(M564/I564), \"\", M564/I564)","v":""}]
["ENERGY FROM WASTE SERVICE CLASSIFICATION",null,null,"WST_TC","RTSR - Connection and/or Line and Transformation Connection",null,{"$f":"IFERROR(SUMIF(RATES!B:B,'10th percentile'!D565,RATES!H:H),\"\")","v":0},{"$f":"IF($F546>0, $F546, $F545*$F547)","v":0},{"$f":"H565*G565","v":0},{"$f":"IFERROR(SUMIF(RATES!B:B,'10th percentile'!D565,RATES!I:I),\"\")","v":0},{"$f":"IF($F546>0, $F546, $F545*$F547)","v":0},{"$f":"K565*J565","v":0},0,{"$f":"IF(ISERROR(M565/I565), \"\", M565/I565)","v":""}]
["ENERGY FROM WASTE SERVICE CLASSIFICATION","ST_C",{"$f":"C557","v":11},null,"Sub-Total C - Delivery (including Sub-Total B)",null,null,null,{"$f":"SUM(I563:I565)","v":63.09},null,null,{"$f":"SUM(L563:L565)","v":63.66},0.56999999999999318,{"$f":"IF((I566)=0,\"\",(M566/I566))","v":9.0347123157393117E-3}]
["ENERGY FROM WASTE SERVICE CLASSIFICATION",null,null,null,"Wholesale Market Service Charge (WMSC)",null,3.5999999999999999E-3,{"$f":"F545*F547","v":0},{"$f":"H567*G567","v":0},3.5999999999999999E-3,{"$f":"F545*F547","v":0},{"$f":"K567*J567","v":0},0,{"$f":"IF(ISERROR(M567/I567), \"\", M567/I567)","v":""}]
["ENERGY FROM WASTE SERVICE CLASSIFICATION",null,null,null,"Rural and Remote Rate Protection (RRRP)",null,2.9999999999999997E-4,{"$f":"F545*F547","v":0},0,2.9999999999999997E-4,{"$f":"F545*F547","v":0},0,0,""]
["ENERGY FROM WASTE SERVICE CLASSIFICATION",null,null,null,"Standard Supply Service Charge"]
["ENERGY FROM WASTE SERVICE CLASSIFICATION",null,null,null,"Debt Retirement Charge (DRC)",null,7.0000000000000001E-3,{"$f":"F545","v":0},0,7.0000000000000001E-3,{"$f":"F545","v":0},0,0,""]
["ENERGY FROM WASTE SERVICE CLASSIFICATION"]
["ENERGY FROM WASTE SERVICE CLASSIFICATION","RPP",null,null,"TOU - Off Peak",null,6.5000000000000002E-2,{"$f":"IF(AND(F545*12>=150000),0.65*F545*F547,0.65*F545)","v":0},{"$f":"H572*G572","v":0},6.5000000000000002E-2,{"$f":"IF(AND(F545*12>=150000),0.65*F545*F548,0.65*F545)","v":0},{"$f":"K572*J572","v":0},{"$f":"L572-I572","v":0},{"$f":"IF(ISERROR(M572/I572), \"\", M572/I572)","v":""}]
["ENERGY FROM WASTE SERVICE CLASSIFICATION","RPP",null,null,"TOU - Mid Peak",null,9.5000000000000001E-2,{"$f":"IF(AND(F545*12>=150000),0.17*F545*F547,0.17*F545)","v":0},0,9.5000000000000001E-2,{"$f":"IF(AND(F545*12>=150000),0.17*F545*F548,0.17*F545)","v":0},0,0,""]
["ENERGY FROM WASTE SERVICE CLASSIFICATION","RPP",null,null,"TOU - On Peak",null,0.13200000000000001,{"$f":"IF(AND(F545*12>=150000),0.18*F545*F547,0.18*F545)","v":0},0,0.13200000000000001,{"$f":"IF(AND(F545*12>=150000),0.18*F545*F548,0.18*F545)","v":0},0,0,""]
["ENERGY FROM WASTE SERVICE CLASSIFICATION","Non-RPP (Retailer)",null,null,"Non-RPP Retailer Avg. Price",null,{"$f":"0.1061","v":0.1061},{"$f":"IF(AND(F545*12>=150000),F545*F547,F545)","v":0},{"$f":"H575*G575","v":0},{"$f":"G575","v":0.1061},{"$f":"IF(AND(F545*12>=150000),F545*F548,F545)","v":0},{"$f":"K575*J575","v":0},0,""]
["ENERGY FROM WASTE SERVICE CLASSIFICATION","Non-RPP (Other)",null,null,"Average IESO Wholesale Market Price",null,{"$f":"G575","v":0.1061},{"$f":"IF(AND(F545*12>=150000),F545*F547,F545)","v":0},{"$f":"H576*G576","v":0},{"$f":"G576","v":0.1061},{"$f":"IF(AND(F545*12>=150000),F545*F548,F545)","v":0},{"$f":"K576*J576","v":0},0,""]
["ENERGY FROM WASTE SERVICE CLASSIFICATION"]
["ENERGY FROM WASTE SERVICE CLASSIFICATION","RPP",null,null,"Total Bill on TOU (before Taxes)",null,null,null,{"$f":"SUM(I567:I574,I566)","v":63.09},null,null,{"$f":"SUM(L567:L574,L566)","v":63.66},{"$f":"L578-I578","v":0.56999999999999318},{"$f":"IF((I578)=0,\"\",(M578/I578))","v":9.0347123157393117E-3}]
["ENERGY FROM WASTE SERVICE CLASSIFICATION","RPP",null,null,"HST",null,0.13,null,{"$f":"I578*G579","v":8.2017000000000007},0.13,null,{"$f":"L578*J579","v":8.2758000000000003},{"$f":"L579-I579","v":7.4099999999999611E-2},{"$f":"IF((I579)=0,\"\",(M579/I579))","v":9.0347123157393724E-3}]
["ENERGY FROM WASTE SERVICE CLASSIFICATION","RPP",null,null,"Provincial Rebate",null,-0.08,null,{"$f":"I578*G580","v":-5.0472000000000001},{"$f":"G580","v":-0.08},null,{"$f":"L578*J580","v":-5.0927999999999995},{"$f":"L580-I580","v":-4.5599999999999419E-2},{"$f":"IF((I580)=0,\"\",(M580/I580))","v":9.0347123157393048E-3}]
["ENERGY FROM WASTE SERVICE CLASSIFICATION","RPP_TOTAL",null,null,"Total Bill on TOU",null,null,null,{"$f":"SUM(I578,I579,I580)","v":66.244500000000002},null,null,{"$f":"L578+L579+L580","v":66.843000000000004},{"$f":"L581-I581","v":0.59850000000000136},{"$f":"IF((I581)=0,\"\",(M581/I581))","v":9.0347123157394401E-3}]
["ENERGY FROM WASTE SERVICE CLASSIFICATION","RPP"]
["ENERGY FROM WASTE SERVICE CLASSIFICATION","Non-RPP (Retailer)_BT",null,null,"Total Bill on Non-RPP Avg. Price",null,null,null,{"$f":"SUM(I575,I567:I571,I566)","v":63.09},null,null,{"$f":"SUM(L575,L567:L571,L566)","v":63.66},{"$f":"L583-I583","v":0.56999999999999318},{"$f":"IF((I583)=0,\"\",(M583/I583))","v":9.0347123157393117E-3}]
["ENERGY FROM WASTE SERVICE CLASSIFICATION","Non-RPP (Retailer)",null,null,"HST",null,0.13,null,{"$f":"I583*G584","v":8.2017000000000007},0.13,null,{"$f":"L583*J584","v":8.2758000000000003},{"$f":"L584-I584","v":7.4099999999999611E-2},{"$f":"IF((I584)=0,\"\",(M584/I584))","v":9.0347123157393724E-3}]
["ENERGY FROM WASTE SERVICE CLASSIFICATION","Non-RPP (Retailer)_NET",null,null,"Total Bill on Non-RPP Avg. Price (before 8% Provincial Rebate)",null,null,null,{"$f":"SUM(I583:I584)","v":71.291700000000006},null,null,{"$f":"SUM(L583:L584)","v":71.9358},{"$f":"SUM(M583:M584)","v":0.64409999999999279},{"$f":"IF((I585)=0,\"\",(M585/I585))","v":9.0347123157393187E-3}]
[{"$f":"A584","v":"ENERGY FROM WASTE SERVICE CLASSIFICATION"},"Non-RPP (Retailer)",null,null,"8% Provincial Rebate",null,-0.08,null,{"$f":"I583*G586","v":-5.0472000000000001},{"$f":"G586","v":-0.08},null,{"$f":"L583*J586","v":-5.0927999999999995},{"$f":"L586-I586","v":-4.5599999999999419E-2},{"$f":"IF((I586)=0,\"\",(M586/I586))","v":9.0347123157393048E-3}]
["ENERGY FROM WASTE SERVICE CLASSIFICATION","Non-RPP (Retailer)_TOTAL",null,null,"Total Bill on Non-RPP Avg. Price",null,null,null,{"$f":"SUM(I583,I584,I586)","v":66.244500000000002},null,null,{"$f":"SUM(L583,L584,L586)","v":66.843000000000004},{"$f":"L587-I587","v":0.59850000000000136},{"$f":"IF((I587)=0,\"\",(M587/I587))","v":9.0347123157394401E-3}]
["ENERGY FROM WASTE SERVICE CLASSIFICATION","Non-RPP (Retailer)"]
["ENERGY FROM WASTE SERVICE CLASSIFICATION","Non-RPP (Other)_BT",{"$f":"C557","v":11},null,"Total Bill on Average IESO Wholesale Market Price",null,null,null,{"$f":"SUM(I576,I567:I571,I566)","v":63.09},null,null,{"$f":"SUM(L576,L567:L571,L566)","v":63.66},{"$f":"L589-I589","v":0.56999999999999318},{"$f":"IF((I589)=0,\"\",(M589/I589))","v":9.0347123157393117E-3}]
["ENERGY FROM WASTE SERVICE CLASSIFICATION","Non-RPP (Other)",null,null,"HST",null,0.13,null,{"$f":"I589*G590","v":8.2017000000000007},0.13,null,{"$f":"L589*J590","v":8.2758000000000003},{"$f":"L590-I590","v":7.4099999999999611E-2},{"$f":"IF((I590)=0,\"\",(M590/I590))","v":9.0347123157393724E-3}]
["ENERGY FROM WASTE SERVICE CLASSIFICATION","Non-RPP (Other)_NET",{"$f":"C589","v":11},null,"Total Bill on Average IESO WMP (before 8% Provincial Rebate)",null,null,null,{"$f":"SUM(I589:I590)","v":71.291700000000006},null,null,{"$f":"SUM(L589:L590)","v":71.9358},{"$f":"SUM(M589:M590)","v":0.64409999999999279},{"$f":"IF((I591)=0,\"\",(M591/I591))","v":9.0347123157393187E-3}]
[{"$f":"A590","v":"ENERGY FROM WASTE SERVICE CLASSIFICATION"},"Non-RPP (Other)",null,null,"8% Provincial Rebate",null,0,null,{"$f":"I589*G592","v":0},{"$f":"G592","v":0},null,{"$f":"L589*J592","v":0},{"$f":"L592-I592","v":0},{"$f":"IF((I592)=0,\"\",(M592/I592))","v":""}]
["ENERGY FROM WASTE SERVICE CLASSIFICATION","Non-RPP (Other)_TOTAL",{"$f":"C589","v":11},null,"Total Bill on Average IESO Wholesale Market Price",null,null,null,{"$f":"SUM(I589,I590,I592)","v":71.291700000000006},null,null,{"$f":"SUM(L589,L590,L592)","v":71.9358},{"$f":"L593-I593","v":0.64409999999999457},{"$f":"IF((I593)=0,\"\",(M593/I593))","v":9.034712315739343E-3}]
["ENERGY FROM WASTE SERVICE CLASSIFICATION","Non-RPP (Other)"]
[]
[]
[null,null,null,null,"Customer Class:",{"$f":"E26","v":"RESIDENTIAL SERVICE CLASSIFICATION"},null,null,null,null,null,{"$f":"IF(O547=\"DEMAND - INTERVAL\",\"RTSR - INTERVAL METERED\",\"\")","v":""}]
[null,null,null,null,"RPP / Non-RPP:",{"$f":"H26","v":"RPP"}]
[null,null,null,null,"Consumption",{"$f":"K26","v":361.28},"kWh"]
[null,null,null,null,"Demand",{"$f":"L26","v":0},"kW"]
[null,null,null,null,"Current Loss Factor",{"$f":"I26","v":1.0341}]
[null,null,null,null,"Proposed/Approved Loss Factor",{"$f":"J26","v":1.0341}]
[]
[null,null,null,null,null,null,"Current OEB-Approved",null,null,"Proposed",null,null,"Impact"]
[null,null,null,null,null,null,"Rate","Volume","Charge","Rate","Volume","Charge","$ Change","% Change"]
[null,null,null,null,null,null,"($)",null,"($)","($)",null,"($)"]
[{"$f":"F597","v":"RESIDENTIAL SERVICE CLASSIFICATION"},null,null,"R_F","Monthly Service Charge",null,{"$f":"IFERROR(SUMIF(RATES!B:B,'10th percentile'!D607,RATES!H:H),\"\")","v":17.64},1,{"$f":"H607*G607","v":17.64},{"$f":"IFERROR(SUMIF(RATES!B:B,'10th percentile'!D607,RATES!I:I),\"\")","v":20.92},1,{"$f":"K607*J607","v":20.92},{"$f":"L607-I607","v":3.2800000000000011},{"$f":"IF(ISERROR(M607/I607), \"\", M607/I607)","v":0.18594104308390028}]
[{"$f":"A607","v":"RESIDENTIAL SERVICE CLASSIFICATION"},null,null,"R_V","Distribution Volumetric Rate",null,{"$f":"IFERROR(SUMIF(RATES!B:B,'10th percentile'!D608,RATES!H:H),\"\")","v":8.0000000000000002E-3},{"$f":"IF($F600>0, $F600, $F599)","v":361.28},{"$f":"H608*G608","v":2.8902399999999999},{"$f":"IFERROR(SUMIF(RATES!B:B,'10th percentile'!D608,RATES!I:I),\"\")","v":4.0000000000000001E-3},{"$f":"IF($F600>0, $F600, $F599)","v":361.28},{"$f":"K608*J608","v":1.44512},-1.44512,{"$f":"IF(ISERROR(M608/I608), \"\", M608/I608)","v":-0.5}]
[{"$f":"A608","v":"RESIDENTIAL SERVICE CLASSIFICATION"},null,null,"R_FRR","Fixed Rate Riders",null,{"$f":"IFERROR(SUMIF(RATES!B:B,'10th percentile'!D609,RATES!H:H),\"\")","v":0},1,0,{"$f":"IFERROR(SUMIF(RATES!B:B,'10th percentile'!D609,RATES!I:I),\"\")","v":0.6},1,{"$f":"K609*J609","v":0.6},0.6,""]
[{"$f":"A609","v":"RESIDENTIAL SERVICE CLASSIFICATION"},null,null,"R_VRR","Volumetric Rate Riders",null,{"$f":"IFERROR(SUMIF(RATES!B:B,'10th percentile'!D610,RATES!H:H),\"\")","v":6.0000000000000006E-4},{"$f":"IF($F600>0, $F600, $F599)","v":361.28},0.21676800000000002,{"$f":"IFERROR(SUMIF(RATES!B:B,'10th percentile'!D610,RATES!I:I),\"\")","v":0},{"$f":"IF($F600>0, $F600, $F599)","v":361.28},0,-0.21676800000000002,-1]
["RESIDENTIAL SERVICE CLASSIFICATION","ST_A",{"$f":"B26","v":12},null,"Sub-Total A (excluding pass through)",null,null,null,{"$f":"SUM(I607:I610)","v":20.747007999999997},null,null,{"$f":"SUM(L607:L610)","v":22.965120000000002},2.218112000000005,{"$f":"IF((I611)=0,\"\",(M611/I611))","v":0.10691237984773541}]
["RESIDENTIAL SERVICE CLASSIFICATION",null,null,null,"Line Losses on Cost of Power",null,{"$f":"IF((F599*12>=150000), 0, IF(F598=\"RPP\",(G626*0.65+G627*0.17+G628*0.18),IF(F598=\"Non-RPP (Retailer)\",G629,G630)))","v":8.2160000000000011E-2},{"$f":"IF(G612=0, 0, $F599*F601-F599)","v":12.319648000000029},{"$f":"H612*G612","v":1.0121822796800026},{"$f":"IF((F599*12>=150000), 0, IF(F598=\"RPP\",(J626*0.65+J627*0.17+J628*0.18),IF(F598=\"Non-RPP (Retailer)\",J629,J630)))","v":8.2160000000000011E-2},{"$f":"IF(G612=0, 0, $F599*F601-F599)","v":12.319648000000029},{"$f":"K612*J612","v":1.0121822796800026},{"$f":"L612-I612","v":0},{"$f":"IF(ISERROR(M612/I612), \"\", M612/I612)","v":0}]
["RESIDENTIAL SERVICE CLASSIFICATION",null,null,"R_DVA","Total Deferral/Variance Account Rate Riders",null,{"$f":"IFERROR(SUMIF(RATES!B:B,'10th percentile'!D613,RATES!H:H),\"\")","v":-3.5000000000000001E-3},{"$f":"IF($F600>0, $F600, $F599)","v":361.28},{"$f":"H613*G613","v":-1.2644799999999998},{"$f":"IFERROR(SUMIF(RATES!B:B,'10th percentile'!D613,RATES!I:I),\"\")","v":-1E-3},{"$f":"IF($F600>0, $F600, $F599)","v":361.28},{"$f":"K613*J613","v":-0.36127999999999999},{"$f":"L613-I613","v":0.90319999999999978},{"$f":"IF(ISERROR(M613/I613), \"\", M613/I613)","v":-0.71428571428571419}]
["RESIDENTIAL SERVICE CLASSIFICATION",null,null,"R_GA","GA Rate Riders",null,{"$f":"IFERROR(SUMIF(RATES!B:B,'10th percentile'!D614,RATES!H:H),\"\")","v":4.8999999999999998E-3},null,0,{"$f":"IFERROR(SUMIF(RATES!B:B,'10th percentile'!D614,RATES!I:I),\"\")","v":-8.9999999999999998E-4},null,0,0,""]
["RESIDENTIAL SERVICE CLASSIFICATION",null,null,"R_LV","Low Voltage Service Charge",null,{"$f":"IFERROR(SUMIF(RATES!B:B,'10th percentile'!D615,RATES!H:H),\"\")","v":0},{"$f":"IF($F600>0, $F600, $F599)","v":361.28},0,{"$f":"IFERROR(SUMIF(RATES!B:B,'10th percentile'!D615,RATES!I:I),\"\")","v":0},{"$f":"IF($F600>0, $F600, $F599)","v":361.28},0,0,""]
["RESIDENTIAL SERVICE CLASSIFICATION",null,null,null,"Smart Meter Entity Charge (if applicable)",null,0.79,1,{"$f":"H616*G616","v":0.79},0.79,1,{"$f":"K616*J616","v":0.79},0,{"$f":"IF(ISERROR(M616/I616), \"\", M616/I616)","v":0}]
["RESIDENTIAL SERVICE CLASSIFICATION","ST_B",{"$f":"C611","v":12},null,"Sub-Total B - Distribution (includes Sub-Total A)",null,null,null,{"$f":"SUM(I611:I616)","v":21.284710279679999},null,null,{"$f":"SUM(L611:L616)","v":24.406022279680002},3.1213120000000032,{"$f":"IF((I617)=0,\"\",(M617/I617))","v":0.14664573578809031}]
["RESIDENTIAL SERVICE CLASSIFICATION",null,null,"R_TN","RTSR - Network",null,{"$f":"IFERROR(SUMIF(RATES!B:B,'10th percentile'!D618,RATES!H:H),\"\")","v":7.4000000000000003E-3},{"$f":"IF($F600>0, $F600, $F599*$F601)","v":373.599648},{"$f":"H618*G618","v":2.7646373952000003},{"$f":"IFERROR(SUMIF(RATES!B:B,'10th percentile'!D618,RATES!I:I),\"\")","v":7.4000000000000003E-3},{"$f":"IF($F600>0, $F600, $F599*$F601)","v":373.599648},{"$f":"K618*J618","v":2.7646373952000003},0,{"$f":"IF(ISERROR(M618/I618), \"\", M618/I618)","v":0}]
["RESIDENTIAL SERVICE CLASSIFICATION",null,null,"R_TC","RTSR - Connection and/or Line and Transformation Connection",null,{"$f":"IFERROR(SUMIF(RATES!B:B,'10th percentile'!D619,RATES!H:H),\"\")","v":5.7000000000000002E-3},{"$f":"IF($F600>0, $F600, $F599*$F601)","v":373.599648},{"$f":"H619*G619","v":2.1295179935999999},{"$f":"IFERROR(SUMIF(RATES!B:B,'10th percentile'!D619,RATES!I:I),\"\")","v":6.4999999999999997E-3},{"$f":"IF($F600>0, $F600, $F599*$F601)","v":373.599648},{"$f":"K619*J619","v":2.4283977119999998},0.29887971839999983,{"$f":"IF(ISERROR(M619/I619), \"\", M619/I619)","v":0.14035087719298239}]
["RESIDENTIAL SERVICE CLASSIFICATION","ST_C",{"$f":"C611","v":12},null,"Sub-Total C - Delivery (including Sub-Total B)",null,null,null,{"$f":"SUM(I617:I619)","v":26.17886566848},null,null,{"$f":"SUM(L617:L619)","v":29.599057386880002},3.4201917184000017,{"$f":"IF((I620)=0,\"\",(M620/I620))","v":0.13064705559484943}]
["RESIDENTIAL SERVICE CLASSIFICATION",null,null,null,"Wholesale Market Service Charge (WMSC)",null,3.5999999999999999E-3,{"$f":"F599*F601","v":373.599648},{"$f":"H621*G621","v":1.3449587327999999},3.5999999999999999E-3,{"$f":"F599*F601","v":373.599648},{"$f":"K621*J621","v":1.3449587327999999},0,{"$f":"IF(ISERROR(M621/I621), \"\", M621/I621)","v":0}]
["RESIDENTIAL SERVICE CLASSIFICATION",null,null,null,"Rural and Remote Rate Protection (RRRP)",null,2.9999999999999997E-4,{"$f":"F599*F601","v":373.599648},0.11207989439999999,2.9999999999999997E-4,{"$f":"F599*F601","v":373.599648},0.11207989439999999,0,0]
["RESIDENTIAL SERVICE CLASSIFICATION",null,null,null,"Standard Supply Service Charge",null,0.25,1,0.25,0.25,1,0.25,0,0]
["RESIDENTIAL SERVICE CLASSIFICATION",null,null,null,"Debt Retirement Charge (DRC)"]
["RESIDENTIAL SERVICE CLASSIFICATION"]
["RESIDENTIAL SERVICE CLASSIFICATION","RPP",null,null,"TOU - Off Peak",null,6.5000000000000002E-2,{"$f":"IF(AND(F599*12>=150000),0.65*F599*F601,0.65*F599)","v":234.83199999999999},{"$f":"H626*G626","v":15.26408},6.5000000000000002E-2,{"$f":"IF(AND(F599*12>=150000),0.65*F599*F602,0.65*F599)","v":234.83199999999999},{"$f":"K626*J626","v":15.26408},{"$f":"L626-I626","v":0},{"$f":"IF(ISERROR(M626/I626), \"\", M626/I626)","v":0}]
["RESIDENTIAL SERVICE CLASSIFICATION","RPP",null,null,"TOU - Mid Peak",null,9.5000000000000001E-2,{"$f":"IF(AND(F599*12>=150000),0.17*F599*F601,0.17*F599)","v":61.4176},5.8346720000000003,9.5000000000000001E-2,{"$f":"IF(AND(F599*12>=150000),0.17*F599*F602,0.17*F599)","v":61.4176},5.8346720000000003,0,0]
["RESIDENTIAL SERVICE CLASSIFICATION","RPP",null,null,"TOU - On Peak",null,0.13200000000000001,{"$f":"IF(AND(F599*12>=150000),0.18*F599*F601,0.18*F599)","v":65.030399999999986},8.5840127999999982,0.13200000000000001,{"$f":"IF(AND(F599*12>=150000),0.18*F599*F602,0.18*F599)","v":65.030399999999986},8.5840127999999982,0,0]
["RESIDENTIAL SERVICE CLASSIFICATION","Non-RPP (Retailer)",null,null,"Non-RPP Retailer Avg. Price",null,{"$f":"0.1061","v":0.1061},{"$f":"IF(AND(F599*12>=150000),F599*F601,F599)","v":361.28},{"$f":"H629*G629","v":38.331807999999995},{"$f":"G629","v":0.1061},{"$f":"IF(AND(F599*12>=150000),F599*F602,F599)","v":361.28},{"$f":"K629*J629","v":38.331807999999995},0,0]
["RESIDENTIAL SERVICE CLASSIFICATION","Non-RPP (Other)",null,null,"Average IESO Wholesale Market Price",null,{"$f":"G629","v":0.1061},{"$f":"IF(AND(F599*12>=150000),F599*F601,F599)","v":361.28},{"$f":"H630*G630","v":38.331807999999995},{"$f":"G630","v":0.1061},{"$f":"IF(AND(F599*12>=150000),F599*F602,F599)","v":361.28},{"$f":"K630*J630","v":38.331807999999995},0,0]
["RESIDENTIAL SERVICE CLASSIFICATION"]
["RESIDENTIAL SERVICE CLASSIFICATION","RPP_BT",{"$f":"C611","v":12},null,"Total Bill on TOU (before Taxes)",null,null,null,{"$f":"SUM(I621:I628,I620)","v":57.568669095680001},null,null,{"$f":"SUM(L621:L628,L620)","v":60.988860814079999},{"$f":"L632-I632","v":3.4201917183999981},{"$f":"IF((I632)=0,\"\",(M632/I632))","v":5.9410644229339185E-2}]
["RESIDENTIAL SERVICE CLASSIFICATION","RPP",null,null,"HST",null,0.13,null,{"$f":"I632*G633","v":7.4839269824384003},0.13,null,{"$f":"L632*J633","v":7.9285519058303997},{"$f":"L633-I633","v":0.44462492339199944},{"$f":"IF((I633)=0,\"\",(M633/I633))","v":5.9410644229339143E-2}]
["RESIDENTIAL SERVICE CLASSIFICATION","RPP_NET",{"$f":"C632","v":12},null,"Total Bill on TOU (before 8% Provincial Rebate)",null,null,null,{"$f":"SUM(I632:I633)","v":65.052596078118398},null,null,{"$f":"SUM(L632:L633)","v":68.917412719910402},{"$f":"SUM(M632:M633)","v":3.8648166417919976},{"$f":"IF((I634)=0,\"\",(M634/I634))","v":5.9410644229339185E-2}]
[{"$f":"A633","v":"RESIDENTIAL SERVICE CLASSIFICATION"},"RPP",null,null,"8% Provincial Rebate",null,-0.08,null,{"$f":"I632*G635","v":-4.6054935276544002},{"$f":"G635","v":-0.08},null,{"$f":"L632*J635","v":-4.8791088651264003},{"$f":"L635-I635","v":-0.27361533747200006},{"$f":"IF((I635)=0,\"\",(M635/I635))","v":5.9410644229339227E-2}]
["RESIDENTIAL SERVICE CLASSIFICATION","RPP_TOTAL",{"$f":"C632","v":12},null,"Total Bill on TOU",null,null,null,{"$f":"SUM(I632,I633,I635)","v":60.447102550463995},null,null,{"$f":"L632+L633+L635","v":64.038303854784004},{"$f":"L636-I636","v":3.5912013043200091},{"$f":"IF((I636)=0,\"\",(M636/I636))","v":5.9410644229339372E-2}]
["RESIDENTIAL SERVICE CLASSIFICATION","RPP"]
["RESIDENTIAL SERVICE CLASSIFICATION","Non-RPP (Retailer)_BT",null,null,"Total Bill on Non-RPP Avg. Price",null,null,null,{"$f":"SUM(I629,I621:I625,I620)","v":66.217712295680002},null,null,{"$f":"SUM(L629,L621:L625,L620)","v":69.637904014079993},{"$f":"L638-I638","v":3.420191718399991},{"$f":"IF((I638)=0,\"\",(M638/I638))","v":5.1650707942429507E-2}]
["RESIDENTIAL SERVICE CLASSIFICATION","Non-RPP (Retailer)",null,null,"HST",null,0.13,null,{"$f":"I638*G639","v":8.6083025984384012},0.13,null,{"$f":"L638*J639","v":9.0529275218303997},{"$f":"L639-I639","v":0.44462492339199855},{"$f":"IF((I639)=0,\"\",(M639/I639))","v":5.1650707942429465E-2}]
["RESIDENTIAL SERVICE CLASSIFICATION","Non-RPP (Retailer)_NET",null,null,"Total Bill on Non-RPP Avg. Price (before 8% Provincial Rebate)",null,null,null,{"$f":"SUM(I638:I639)","v":74.826014894118401},null,null,{"$f":"SUM(L638:L639)","v":78.690831535910391},{"$f":"SUM(M638:M639)","v":3.8648166417919896},{"$f":"IF((I640)=0,\"\",(M640/I640))","v":5.16507079424295E-2}]
[{"$f":"A639","v":"RESIDENTIAL SERVICE CLASSIFICATION"},"Non-RPP (Retailer)",null,null,"8% Provincial Rebate",null,-0.08,null,{"$f":"I638*G641","v":-5.2974169836543998},{"$f":"G641","v":-0.08},null,{"$f":"L638*J641","v":-5.5710323211263999},{"$f":"L641-I641","v":-0.27361533747200006},{"$f":"IF((I641)=0,\"\",(M641/I641))","v":5.1650707942429659E-2}]
["RESIDENTIAL SERVICE CLASSIFICATION","Non-RPP (Retailer)_TOTAL",null,null,"Total Bill on Non-RPP Avg. Price",null,null,null,{"$f":"SUM(I638,I639,I641)","v":69.528597910464001},null,null,{"$f":"SUM(L638,L639,L641)","v":73.119799214783995},{"$f":"L642-I642","v":3.5912013043199948},{"$f":"IF((I642)=0,\"\",(M642/I642))","v":5.1650707942429569E-2}]
["RESIDENTIAL SERVICE CLASSIFICATION","Non-RPP (Retailer)"]
[]
[]
[null,null,null,null,"Customer Class:",{"$f":"E27","v":"RESIDENTIAL SERVICE CLASSIFICATION"},null,null,null,null,null,{"$f":"IF(O596=\"DEMAND - INTERVAL\",\"RTSR - INTERVAL METERED\",\"\")","v":""}]
[null,null,null,null,"RPP / Non-RPP:",{"$f":"H27","v":"Non-RPP (Retailer)"}]
[null,null,null,null,"Consumption",{"$f":"K27","v":750},"kWh"]
[null,null,null,null,"Demand",{"$f":"L27","v":0},"kW"]
[null,null,null,null,"Current Loss Factor",{"$f":"I27","v":1.0341}]
[null,null,null,null,"Proposed/Approved Loss Factor",{"$f":"J27","v":1.0341}]
[]
[null,null,null,null,null,null,"Current OEB-Approved",null,null,"Proposed",null,null,"Impact"]
[null,null,null,null,null,null,"Rate","Volume","Charge","Rate","Volume","Charge","$ Change","% Change"]
[null,null,null,null,null,null,"($)",null,"($)","($)",null,"($)"]
[{"$f":"F646","v":"RESIDENTIAL SERVICE CLASSIFICATION"},null,null,"R_F","Monthly Service Charge",null,{"$f":"IFERROR(SUMIF(RATES!B:B,'10th percentile'!D656,RATES!H:H),\"\")","v":17.64},1,{"$f":"H656*G656","v":17.64},{"$f":"IFERROR(SUMIF(RATES!B:B,'10th percentile'!D656,RATES!I:I),\"\")","v":20.92},1,{"$f":"K656*J656","v":20.92},{"$f":"L656-I656","v":3.2800000000000011},{"$f":"IF(ISERROR(M656/I656), \"\", M656/I656)","v":0.18594104308390028}]
[{"$f":"A656","v":"RESIDENTIAL SERVICE CLASSIFICATION"},null,null,"R_V","Distribution Volumetric Rate",null,{"$f":"IFERROR(SUMIF(RATES!B:B,'10th percentile'!D657,RATES!H:H),\"\")","v":8.0000000000000002E-3},{"$f":"IF($F649>0, $F649, $F648)","v":750},{"$f":"H657*G657","v":6},{"$f":"IFERROR(SUMIF(RATES!B:B,'10th percentile'!D657,RATES!I:I),\"\")","v":4.0000000000000001E-3},{"$f":"IF($F649>0, $F649, $F648)","v":750},{"$f":"K657*J657","v":3},-3,{"$f":"IF(ISERROR(M657/I657), \"\", M657/I657)","v":-0.5}]
[{"$f":"A657","v":"RESIDENTIAL SERVICE CLASSIFICATION"},null,null,"R_FRR","Fixed Rate Riders",null,{"$f":"IFERROR(SUMIF(RATES!B:B,'10th percentile'!D658,RATES!H:H),\"\")","v":0},1,0,{"$f":"IFERROR(SUMIF(RATES!B:B,'10th percentile'!D658,RATES!I:I),\"\")","v":0.6},1,{"$f":"K658*J658","v":0.6},0.6,""]
[{"$f":"A658","v":"RESIDENTIAL SERVICE CLASSIFICATION"},null,null,"R_VRR","Volumetric Rate Riders",null,{"$f":"IFERROR(SUMIF(RATES!B:B,'10th percentile'!D659,RATES!H:H),\"\")","v":6.0000000000000006E-4},{"$f":"IF($F649>0, $F649, $F648)","v":750},0.45000000000000007,{"$f":"IFERROR(SUMIF(RATES!B:B,'10th percentile'!D659,RATES!I:I),\"\")","v":0},{"$f":"IF($F649>0, $F649, $F648)","v":750},0,-0.45000000000000007,-1]
["RESIDENTIAL SERVICE CLASSIFICATION","ST_A",{"$f":"B27","v":13},null,"Sub-Total A (excluding pass through)",null,null,null,{"$f":"SUM(I656:I659)","v":24.09},null,null,{"$f":"SUM(L656:L659)","v":24.520000000000003},0.43000000000000327,{"$f":"IF((I660)=0,\"\",(M660/I660))","v":1.7849730178497437E-2}]
["RESIDENTIAL SERVICE CLASSIFICATION",null,null,null,"Line Losses on Cost of Power",null,{"$f":"IF((F648*12>=150000), 0, IF(F647=\"RPP\",(G675*0.65+G676*0.17+G677*0.18),IF(F647=\"Non-RPP (Retailer)\",G678,G679)))","v":0.1061},{"$f":"IF(G661=0, 0, $F648*F650-F648)","v":25.575000000000045},{"$f":"H661*G661","v":2.7135075000000048},{"$f":"IF((F648*12>=150000), 0, IF(F647=\"RPP\",(J675*0.65+J676*0.17+J677*0.18),IF(F647=\"Non-RPP (Retailer)\",J678,J679)))","v":0.1061},{"$f":"IF(G661=0, 0, $F648*F650-F648)","v":25.575000000000045},{"$f":"K661*J661","v":2.7135075000000048},{"$f":"L661-I661","v":0},{"$f":"IF(ISERROR(M661/I661), \"\", M661/I661)","v":0}]
["RESIDENTIAL SERVICE CLASSIFICATION",null,null,"R_DVA","Total Deferral/Variance Account Rate Riders",null,{"$f":"IFERROR(SUMIF(RATES!B:B,'10th percentile'!D662,RATES!H:H),\"\")","v":-3.5000000000000001E-3},{"$f":"IF($F649>0, $F649, $F648)","v":750},{"$f":"H662*G662","v":-2.625},{"$f":"IFERROR(SUMIF(RATES!B:B,'10th percentile'!D662,RATES!I:I),\"\")","v":-1E-3},{"$f":"IF($F649>0, $F649, $F648)","v":750},{"$f":"K662*J662","v":-0.75},{"$f":"L662-I662","v":1.875},{"$f":"IF(ISERROR(M662/I662), \"\", M662/I662)","v":-0.7142857142857143}]
["RESIDENTIAL SERVICE CLASSIFICATION",null,null,"R_GA","GA Rate Riders",null,{"$f":"IFERROR(SUMIF(RATES!B:B,'10th percentile'!D663,RATES!H:H),\"\")","v":4.8999999999999998E-3},{"$f":"IF($F649>0, $F649, $F648)","v":750},3.6749999999999998,{"$f":"IFERROR(SUMIF(RATES!B:B,'10th percentile'!D663,RATES!I:I),\"\")","v":-8.9999999999999998E-4},{"$f":"IF($F649>0, $F649, $F648)","v":750},-0.67499999999999993,-4.3499999999999996,-1.1836734693877551]
["RESIDENTIAL SERVICE CLASSIFICATION",null,null,"R_LV","Low Voltage Service Charge",null,{"$f":"IFERROR(SUMIF(RATES!B:B,'10th percentile'!D664,RATES!H:H),\"\")","v":0},{"$f":"IF($F649>0, $F649, $F648)","v":750},0,{"$f":"IFERROR(SUMIF(RATES!B:B,'10th percentile'!D664,RATES!I:I),\"\")","v":0},{"$f":"IF($F649>0, $F649, $F648)","v":750},0,0,""]
["RESIDENTIAL SERVICE CLASSIFICATION",null,null,null,"Smart Meter Entity Charge (if applicable)",null,0.79,1,{"$f":"H665*G665","v":0.79},0.79,1,{"$f":"K665*J665","v":0.79},0,{"$f":"IF(ISERROR(M665/I665), \"\", M665/I665)","v":0}]
["RESIDENTIAL SERVICE CLASSIFICATION","ST_B",{"$f":"C660","v":13},null,"Sub-Total B - Distribution (includes Sub-Total A)",null,null,null,{"$f":"SUM(I660:I665)","v":28.643507500000005},null,null,{"$f":"SUM(L660:L665)","v":26.598507500000007},-2.0449999999999982,{"$f":"IF((I666)=0,\"\",(M666/I666))","v":-7.1394887654732855E-2}]
["RESIDENTIAL SERVICE CLASSIFICATION",null,null,"R_TN","RTSR - Network",null,{"$f":"IFERROR(SUMIF(RATES!B:B,'10th percentile'!D667,RATES!H:H),\"\")","v":7.4000000000000003E-3},{"$f":"IF($F649>0, $F649, $F648*$F650)","v":775.57500000000005},{"$f":"H667*G667","v":5.7392550000000009},{"$f":"IFERROR(SUMIF(RATES!B:B,'10th percentile'!D667,RATES!I:I),\"\")","v":7.4000000000000003E-3},{"$f":"IF($F649>0, $F649, $F648*$F650)","v":775.57500000000005},{"$f":"K667*J667","v":5.7392550000000009},0,{"$f":"IF(ISERROR(M667/I667), \"\", M667/I667)","v":0}]
["RESIDENTIAL SERVICE CLASSIFICATION",null,null,"R_TC","RTSR - Connection and/or Line and Transformation Connection",null,{"$f":"IFERROR(SUMIF(RATES!B:B,'10th percentile'!D668,RATES!H:H),\"\")","v":5.7000000000000002E-3},{"$f":"IF($F649>0, $F649, $F648*$F650)","v":775.57500000000005},{"$f":"H668*G668","v":4.4207775000000007},{"$f":"IFERROR(SUMIF(RATES!B:B,'10th percentile'!D668,RATES!I:I),\"\")","v":6.4999999999999997E-3},{"$f":"IF($F649>0, $F649, $F648*$F650)","v":775.57500000000005},{"$f":"K668*J668","v":5.0412375000000003},0.62045999999999957,{"$f":"IF(ISERROR(M668/I668), \"\", M668/I668)","v":0.14035087719298234}]
["RESIDENTIAL SERVICE CLASSIFICATION","ST_C",{"$f":"C660","v":13},null,"Sub-Total C - Delivery (including Sub-Total B)",null,null,null,{"$f":"SUM(I666:I668)","v":38.803540000000005},null,null,{"$f":"SUM(L666:L668)","v":37.379000000000012},-1.4245399999999933,{"$f":"IF((I669)=0,\"\",(M669/I669))","v":-3.6711598993287547E-2}]
["RESIDENTIAL SERVICE CLASSIFICATION",null,null,null,"Wholesale Market Service Charge (WMSC)",null,3.5999999999999999E-3,{"$f":"F648*F650","v":775.57500000000005},{"$f":"H670*G670","v":2.7920700000000003},3.5999999999999999E-3,{"$f":"F648*F650","v":775.57500000000005},{"$f":"K670*J670","v":2.7920700000000003},0,{"$f":"IF(ISERROR(M670/I670), \"\", M670/I670)","v":0}]
["RESIDENTIAL SERVICE CLASSIFICATION",null,null,null,"Rural and Remote Rate Protection (RRRP)",null,2.9999999999999997E-4,{"$f":"F648*F650","v":775.57500000000005},0.2326725,2.9999999999999997E-4,{"$f":"F648*F650","v":775.57500000000005},0.2326725,0,0]
["RESIDENTIAL SERVICE CLASSIFICATION",null,null,null,"Standard Supply Service Charge"]
["RESIDENTIAL SERVICE CLASSIFICATION",null,null,null,"Debt Retirement Charge (DRC)"]
["RESIDENTIAL SERVICE CLASSIFICATION"]
["RESIDENTIAL SERVICE CLASSIFICATION","RPP",null,null,"TOU - Off Peak",null,6.5000000000000002E-2,{"$f":"IF(AND(F648*12>=150000),0.65*F648*F650,0.65*F648)","v":487.5},{"$f":"H675*G675","v":31.6875},6.5000000000000002E-2,{"$f":"IF(AND(F648*12>=150000),0.65*F648*F651,0.65*F648)","v":487.5},{"$f":"K675*J675","v":31.6875},{"$f":"L675-I675","v":0},{"$f":"IF(ISERROR(M675/I675), \"\", M675/I675)","v":0}]
["RESIDENTIAL SERVICE CLASSIFICATION","RPP",null,null,"TOU - Mid Peak",null,9.5000000000000001E-2,{"$f":"IF(AND(F648*12>=150000),0.17*F648*F650,0.17*F648)","v":127.50000000000001},12.112500000000001,9.5000000000000001E-2,{"$f":"IF(AND(F648*12>=150000),0.17*F648*F651,0.17*F648)","v":127.50000000000001},12.112500000000001,0,0]
["RESIDENTIAL SERVICE CLASSIFICATION","RPP",null,null,"TOU - On Peak",null,0.13200000000000001,{"$f":"IF(AND(F648*12>=150000),0.18*F648*F650,0.18*F648)","v":135},17.82,0.13200000000000001,{"$f":"IF(AND(F648*12>=150000),0.18*F648*F651,0.18*F648)","v":135},17.82,0,0]
["RESIDENTIAL SERVICE CLASSIFICATION","Non-RPP (Retailer)",null,null,"Non-RPP Retailer Avg. Price",null,{"$f":"0.1061","v":0.1061},{"$f":"IF(AND(F648*12>=150000),F648*F650,F648)","v":750},{"$f":"H678*G678","v":79.575000000000003},{"$f":"G678","v":0.1061},{"$f":"IF(AND(F648*12>=150000),F648*F651,F648)","v":750},{"$f":"K678*J678","v":79.575000000000003},0,0]
["RESIDENTIAL SERVICE CLASSIFICATION","Non-RPP (Other)",null,null,"Average IESO Wholesale Market Price",null,{"$f":"G678","v":0.1061},{"$f":"IF(AND(F648*12>=150000),F648*F650,F648)","v":750},{"$f":"H679*G679","v":79.575000000000003},{"$f":"G679","v":0.1061},{"$f":"IF(AND(F648*12>=150000),F648*F651,F648)","v":750},{"$f":"K679*J679","v":79.575000000000003},0,0]
["RESIDENTIAL SERVICE CLASSIFICATION"]
["RESIDENTIAL SERVICE CLASSIFICATION","RPP",null,null,"Total Bill on TOU (before Taxes)",null,null,null,{"$f":"SUM(I670:I677,I669)","v":103.4482825},null,null,{"$f":"SUM(L670:L677,L669)","v":102.02374250000003},{"$f":"L681-I681","v":-1.424539999999979},{"$f":"IF((I681)=0,\"\",(M681/I681))","v":-1.3770552449722681E-2}]
["RESIDENTIAL SERVICE CLASSIFICATION","RPP",null,null,"HST",null,0.13,null,{"$f":"I681*G682","v":13.448276725000001},0.13,null,{"$f":"L681*J682","v":13.263086525000004},{"$f":"L682-I682","v":-0.18519019999999742},{"$f":"IF((I682)=0,\"\",(M682/I682))","v":-1.3770552449722692E-2}]
["RESIDENTIAL SERVICE CLASSIFICATION","RPP",null,null,"Provincial Rebate",null,-0.08,null,{"$f":"I681*G683","v":-8.2758626},{"$f":"G683","v":-0.08},null,{"$f":"L681*J683","v":-8.1618994000000029},{"$f":"L683-I683","v":0.11396319999999704},{"$f":"IF((I683)=0,\"\",(M683/I683))","v":-1.3770552449722527E-2}]
["RESIDENTIAL SERVICE CLASSIFICATION","RPP_TOTAL",null,null,"Total Bill on TOU",null,null,null,{"$f":"SUM(I681,I682,I683)","v":108.62069662500001},null,null,{"$f":"L681+L682+L683","v":107.12492962500002},{"$f":"L684-I684","v":-1.4957669999999865},{"$f":"IF((I684)=0,\"\",(M684/I684))","v":-1.3770552449722759E-2}]
["RESIDENTIAL SERVICE CLASSIFICATION","RPP"]
["RESIDENTIAL SERVICE CLASSIFICATION","Non-RPP (Retailer)_BT",{"$f":"C660","v":13},null,"Total Bill on Non-RPP Avg. Price",null,null,null,{"$f":"SUM(I678,I670:I674,I669)","v":121.40328250000002},null,null,{"$f":"SUM(L678,L670:L674,L669)","v":119.97874250000001},{"$f":"L686-I686","v":-1.4245400000000075},{"$f":"IF((I686)=0,\"\",(M686/I686))","v":-1.1733949615406875E-2}]
["RESIDENTIAL SERVICE CLASSIFICATION","Non-RPP (Retailer)",null,null,"HST",null,0.13,null,{"$f":"I686*G687","v":15.782426725000002},0.13,null,{"$f":"L686*J687","v":15.597236525000001},{"$f":"L687-I687","v":-0.18519020000000097},{"$f":"IF((I687)=0,\"\",(M687/I687))","v":-1.1733949615406875E-2}]
["RESIDENTIAL SERVICE CLASSIFICATION","Non-RPP (Retailer)_NET",{"$f":"C686","v":13},null,"Total Bill on Non-RPP Avg. Price (before 8% Provincial Rebate)",null,null,null,{"$f":"SUM(I686:I687)","v":137.18570922500001},null,null,{"$f":"SUM(L686:L687)","v":135.57597902500001},{"$f":"SUM(M686:M687)","v":-1.6097302000000084},{"$f":"IF((I688)=0,\"\",(M688/I688))","v":-1.1733949615406877E-2}]
[{"$f":"A687","v":"RESIDENTIAL SERVICE CLASSIFICATION"},"Non-RPP (Retailer)",null,null,"8% Provincial Rebate",null,-0.08,null,{"$f":"I686*G689","v":-9.7122626000000007},{"$f":"G689","v":-0.08},null,{"$f":"L686*J689","v":-9.5982994000000001},{"$f":"L689-I689","v":0.1139632000000006},{"$f":"IF((I689)=0,\"\",(M689/I689))","v":-1.1733949615406877E-2}]
["RESIDENTIAL SERVICE CLASSIFICATION","Non-RPP (Retailer)_TOTAL",{"$f":"C660","v":13},null,"Total Bill on Non-RPP Avg. Price",null,null,null,{"$f":"SUM(I686,I687,I689)","v":127.47344662500001},null,null,{"$f":"SUM(L686,L687,L689)","v":125.97767962500001},{"$f":"L690-I690","v":-1.4957670000000007},{"$f":"IF((I690)=0,\"\",(M690/I690))","v":-1.1733949615406821E-2}]
["RESIDENTIAL SERVICE CLASSIFICATION","Non-RPP (Retailer)"]
[]
[]
[null,null,null,null,"Customer Class:",{"$f":"E28","v":"GENERAL SERVICE LESS THAN 50 kW SERVICE CLASSIFICATION"},null,null,null,null,null,{"$f":"IF(O645=\"DEMAND - INTERVAL\",\"RTSR - INTERVAL METERED\",\"\")","v":""}]
[null,null,null,null,"RPP / Non-RPP:",{"$f":"H28","v":"Non-RPP (Retailer)"}]
[null,null,null,null,"Consumption",{"$f":"K28","v":2000},"kWh"]
[null,null,null,null,"Demand",{"$f":"L28","v":0},"kW"]
[null,null,null,null,"Current Loss Factor",{"$f":"I28","v":1.0341}]
[null,null,null,null,"Proposed/Approved Loss Factor",{"$f":"J28","v":1.0341}]
[]
[null,null,null,null,null,null,"Current OEB-Approved",null,null,"Proposed",null,null,"Impact"]
[null,null,null,null,null,null,"Rate","Volume","Charge","Rate","Volume","Charge","$ Change","% Change"]
[null,null,null,null,null,null,"($)",null,"($)","($)",null,"($)"]
[{"$f":"F694","v":"GENERAL SERVICE LESS THAN 50 kW SERVICE CLASSIFICATION"},null,null,"GSL_F","Monthly Service Charge",null,{"$f":"IFERROR(SUMIF(RATES!B:B,'10th percentile'!D704,RATES!H:H),\"\")","v":25.12},1,{"$f":"H704*G704","v":25.12},{"$f":"IFERROR(SUMIF(RATES!B:B,'10th percentile'!D704,RATES!I:I),\"\")","v":25.35},1,{"$f":"K704*J704","v":25.35},{"$f":"L704-I704","v":0.23000000000000043},{"$f":"IF(ISERROR(M704/I704), \"\", M704/I704)","v":9.1560509554140298E-3}]
[{"$f":"A704","v":"GENERAL SERVICE LESS THAN 50 kW SERVICE CLASSIFICATION"},null,null,"GSL_V","Distribution Volumetric Rate",null,{"$f":"IFERROR(SUMIF(RATES!B:B,'10th percentile'!D705,RATES!H:H),\"\")","v":1.67E-2},{"$f":"IF($F697>0, $F697, $F696)","v":2000},{"$f":"H705*G705","v":33.4},{"$f":"IFERROR(SUMIF(RATES!B:B,'10th percentile'!D705,RATES!I:I),\"\")","v":1.6899999999999998E-2},{"$f":"IF($F697>0, $F697, $F696)","v":2000},{"$f":"K705*J705","v":33.799999999999997},0.39999999999999858,{"$f":"IF(ISERROR(M705/I705), \"\", M705/I705)","v":1.1976047904191574E-2}]
[{"$f":"A705","v":"GENERAL SERVICE LESS THAN 50 kW SERVICE CLASSIFICATION"},null,null,"GSL_FRR","Fixed Rate Riders",null,{"$f":"IFERROR(SUMIF(RATES!B:B,'10th percentile'!D706,RATES!H:H),\"\")","v":0},1,0,{"$f":"IFERROR(SUMIF(RATES!B:B,'10th percentile'!D706,RATES!I:I),\"\")","v":0.65999999999999992},1,{"$f":"K706*J706","v":0.65999999999999992},0.65999999999999992,""]
[{"$f":"A706","v":"GENERAL SERVICE LESS THAN 50 kW SERVICE CLASSIFICATION"},null,null,"GSL_VRR","Volumetric Rate Riders",null,{"$f":"IFERROR(SUMIF(RATES!B:B,'10th percentile'!D707,RATES!H:H),\"\")","v":1.9E-3},{"$f":"IF($F697>0, $F697, $F696)","v":2000},3.8,{"$f":"IFERROR(SUMIF(RATES!B:B,'10th percentile'!D707,RATES!I:I),\"\")","v":2.0000000000000001E-4},{"$f":"IF($F697>0, $F697, $F696)","v":2000},0.4,-3.4,-0.89473684210526316]
["GENERAL SERVICE LESS THAN 50 kW SERVICE CLASSIFICATION","ST_A",{"$f":"B28","v":14},null,"Sub-Total A (excluding pass through)",null,null,null,{"$f":"SUM(I704:I707)","v":62.319999999999993},null,null,{"$f":"SUM(L704:L707)","v":60.209999999999994},-2.1099999999999994,{"$f":"IF((I708)=0,\"\",(M708/I708))","v":-3.385750962772785E-2}]
["GENERAL SERVICE LESS THAN 50 kW SERVICE CLASSIFICATION",null,null,null,"Line Losses on Cost of Power",null,{"$f":"IF((F696*12>=150000), 0, IF(F695=\"RPP\",(G723*0.65+G724*0.17+G725*0.18),IF(F695=\"Non-RPP (Retailer)\",G726,G727)))","v":0.1061},{"$f":"IF(G709=0, 0, $F696*F698-F696)","v":68.199999999999818},{"$f":"H709*G709","v":7.2360199999999804},{"$f":"IF((F696*12>=150000), 0, IF(F695=\"RPP\",(J723*0.65+J724*0.17+J725*0.18),IF(F695=\"Non-RPP (Retailer)\",J726,J727)))","v":0.1061},{"$f":"IF(G709=0, 0, $F696*F698-F696)","v":68.199999999999818},{"$f":"K709*J709","v":7.2360199999999804},{"$f":"L709-I709","v":0},{"$f":"IF(ISERROR(M709/I709), \"\", M709/I709)","v":0}]
["GENERAL SERVICE LESS THAN 50 kW SERVICE CLASSIFICATION",null,null,"GSL_DVA","Total Deferral/Variance Account Rate Riders",null,{"$f":"IFERROR(SUMIF(RATES!B:B,'10th percentile'!D710,RATES!H:H),\"\")","v":-3.5000000000000001E-3},{"$f":"IF($F697>0, $F697, $F696)","v":2000},{"$f":"H710*G710","v":-7},{"$f":"IFERROR(SUMIF(RATES!B:B,'10th percentile'!D710,RATES!I:I),\"\")","v":-1E-3},{"$f":"IF($F697>0, $F697, $F696)","v":2000},{"$f":"K710*J710","v":-2},{"$f":"L710-I710","v":5},{"$f":"IF(ISERROR(M710/I710), \"\", M710/I710)","v":-0.7142857142857143}]
["GENERAL SERVICE LESS THAN 50 kW SERVICE CLASSIFICATION",null,null,"GSL_GA","GA Rate Riders",null,{"$f":"IFERROR(SUMIF(RATES!B:B,'10th percentile'!D711,RATES!H:H),\"\")","v":4.8999999999999998E-3},{"$f":"IF($F697>0, $F697, $F696)","v":2000},9.7999999999999989,{"$f":"IFERROR(SUMIF(RATES!B:B,'10th percentile'!D711,RATES!I:I),\"\")","v":-8.9999999999999998E-4},{"$f":"IF($F697>0, $F697, $F696)","v":2000},-1.8,-11.6,-1.1836734693877551]
["GENERAL SERVICE LESS THAN 50 kW SERVICE CLASSIFICATION",null,null,"GSL_LV","Low Voltage Service Charge",null,{"$f":"IFERROR(SUMIF(RATES!B:B,'10th percentile'!D712,RATES!H:H),\"\")","v":0},{"$f":"IF($F697>0, $F697, $F696)","v":2000},0,{"$f":"IFERROR(SUMIF(RATES!B:B,'10th percentile'!D712,RATES!I:I),\"\")","v":0},{"$f":"IF($F697>0, $F697, $F696)","v":2000},0,0,""]
["GENERAL SERVICE LESS THAN 50 kW SERVICE CLASSIFICATION",null,null,null,"Smart Meter Entity Charge (if applicable)",null,0.79,1,{"$f":"H713*G713","v":0.79},0.79,1,{"$f":"K713*J713","v":0.79},0,{"$f":"IF(ISERROR(M713/I713), \"\", M713/I713)","v":0}]
["GENERAL SERVICE LESS THAN 50 kW SERVICE CLASSIFICATION","ST_B",{"$f":"C708","v":14},null,"Sub-Total B - Distribution (includes Sub-Total A)",null,null,null,{"$f":"SUM(I708:I713)","v":73.146019999999979},null,null,{"$f":"SUM(L708:L713)","v":64.436019999999985},-8.7099999999999937,{"$f":"IF((I714)=0,\"\",(M714/I714))","v":-0.11907688210513705}]
["GENERAL SERVICE LESS THAN 50 kW SERVICE CLASSIFICATION",null,null,"GSL_TN","RTSR - Network",null,{"$f":"IFERROR(SUMIF(RATES!B:B,'10th percentile'!D715,RATES!H:H),\"\")","v":6.6E-3},{"$f":"IF($F697>0, $F697, $F696*$F698)","v":2068.1999999999998},{"$f":"H715*G715","v":13.650119999999999},{"$f":"IFERROR(SUMIF(RATES!B:B,'10th percentile'!D715,RATES!I:I),\"\")","v":6.6E-3},{"$f":"IF($F697>0, $F697, $F696*$F698)","v":2068.1999999999998},{"$f":"K715*J715","v":13.650119999999999},0,{"$f":"IF(ISERROR(M715/I715), \"\", M715/I715)","v":0}]
["GENERAL SERVICE LESS THAN 50 kW SERVICE CLASSIFICATION",null,null,"GSL_TC","RTSR - Connection and/or Line and Transformation Connection",null,{"$f":"IFERROR(SUMIF(RATES!B:B,'10th percentile'!D716,RATES!H:H),\"\")","v":4.7999999999999996E-3},{"$f":"IF($F697>0, $F697, $F696*$F698)","v":2068.1999999999998},{"$f":"H716*G716","v":9.9273599999999984},{"$f":"IFERROR(SUMIF(RATES!B:B,'10th percentile'!D716,RATES!I:I),\"\")","v":5.4999999999999997E-3},{"$f":"IF($F697>0, $F697, $F696*$F698)","v":2068.1999999999998},{"$f":"K716*J716","v":11.375099999999998},1.4477399999999996,{"$f":"IF(ISERROR(M716/I716), \"\", M716/I716)","v":0.14583333333333331}]
["GENERAL SERVICE LESS THAN 50 kW SERVICE CLASSIFICATION","ST_C",{"$f":"C708","v":14},null,"Sub-Total C - Delivery (including Sub-Total B)",null,null,null,{"$f":"SUM(I714:I716)","v":96.723499999999973},null,null,{"$f":"SUM(L714:L716)","v":89.461239999999989},-7.2622599999999835,{"$f":"IF((I717)=0,\"\",(M717/I717))","v":-7.508268414604502E-2}]
["GENERAL SERVICE LESS THAN 50 kW SERVICE CLASSIFICATION",null,null,null,"Wholesale Market Service Charge (WMSC)",null,3.5999999999999999E-3,{"$f":"F696*F698","v":2068.1999999999998},{"$f":"H718*G718","v":7.4455199999999992},3.5999999999999999E-3,{"$f":"F696*F698","v":2068.1999999999998},{"$f":"K718*J718","v":7.4455199999999992},0,{"$f":"IF(ISERROR(M718/I718), \"\", M718/I718)","v":0}]
["GENERAL SERVICE LESS THAN 50 kW SERVICE CLASSIFICATION",null,null,null,"Rural and Remote Rate Protection (RRRP)",null,2.9999999999999997E-4,{"$f":"F696*F698","v":2068.1999999999998},0.6204599999999999,2.9999999999999997E-4,{"$f":"F696*F698","v":2068.1999999999998},0.6204599999999999,0,0]
["GENERAL SERVICE LESS THAN 50 kW SERVICE CLASSIFICATION",null,null,null,"Standard Supply Service Charge"]
["GENERAL SERVICE LESS THAN 50 kW SERVICE CLASSIFICATION",null,null,null,"Debt Retirement Charge (DRC)",null,7.0000000000000001E-3,{"$f":"F696","v":2000},{"$f":"H721*G721","v":14},7.0000000000000001E-3,{"$f":"F696","v":2000},{"$f":"K721*J721","v":14},{"$f":"L721-I721","v":0},{"$f":"IF(ISERROR(M721/I721), \"\", M721/I721)","v":0}]
["GENERAL SERVICE LESS THAN 50 kW SERVICE CLASSIFICATION"]
["GENERAL SERVICE LESS THAN 50 kW SERVICE CLASSIFICATION","RPP",null,null,"TOU - Off Peak",null,6.5000000000000002E-2,{"$f":"IF(AND(F696*12>=150000),0.65*F696*F698,0.65*F696)","v":1300},84.5,6.5000000000000002E-2,{"$f":"IF(AND(F696*12>=150000),0.65*F696*F699,0.65*F696)","v":1300},{"$f":"K723*J723","v":84.5},0,0]
["GENERAL SERVICE LESS THAN 50 kW SERVICE CLASSIFICATION","RPP",null,null,"TOU - Mid Peak",null,9.5000000000000001E-2,{"$f":"IF(AND(F696*12>=150000),0.17*F696*F698,0.17*F696)","v":340},32.299999999999997,9.5000000000000001E-2,{"$f":"IF(AND(F696*12>=150000),0.17*F696*F699,0.17*F696)","v":340},32.299999999999997,0,0]
["GENERAL SERVICE LESS THAN 50 kW SERVICE CLASSIFICATION","RPP",null,null,"TOU - On Peak",null,0.13200000000000001,{"$f":"IF(AND(F696*12>=150000),0.18*F696*F698,0.18*F696)","v":360},47.52,0.13200000000000001,{"$f":"IF(AND(F696*12>=150000),0.18*F696*F699,0.18*F696)","v":360},47.52,0,0]
["GENERAL SERVICE LESS THAN 50 kW SERVICE CLASSIFICATION","Non-RPP (Retailer)",null,null,"Non-RPP Retailer Avg. Price",null,{"$f":"0.1061","v":0.1061},{"$f":"IF(AND(F696*12>=150000),F696*F698,F696)","v":2000},{"$f":"H726*G726","v":212.2},{"$f":"G726","v":0.1061},{"$f":"IF(AND(F696*12>=150000),F696*F699,F696)","v":2000},{"$f":"K726*J726","v":212.2},0,0]
["GENERAL SERVICE LESS THAN 50 kW SERVICE CLASSIFICATION","Non-RPP (Other)",null,null,"Average IESO Wholesale Market Price",null,{"$f":"G726","v":0.1061},{"$f":"IF(AND(F696*12>=150000),F696*F698,F696)","v":2000},{"$f":"H727*G727","v":212.2},{"$f":"G727","v":0.1061},{"$f":"IF(AND(F696*12>=150000),F696*F699,F696)","v":2000},{"$f":"K727*J727","v":212.2},0,0]
["GENERAL SERVICE LESS THAN 50 kW SERVICE CLASSIFICATION"]
["GENERAL SERVICE LESS THAN 50 kW SERVICE CLASSIFICATION","RPP",null,null,"Total Bill on TOU (before Taxes)",null,null,null,{"$f":"SUM(I718:I725,I717)","v":283.10947999999996},null,null,{"$f":"SUM(L718:L725,L717)","v":275.84721999999999},{"$f":"L729-I729","v":-7.2622599999999693},{"$f":"IF((I729)=0,\"\",(M729/I729))","v":-2.5651772593414994E-2}]
["GENERAL SERVICE LESS THAN 50 kW SERVICE CLASSIFICATION","RPP",null,null,"HST",null,0.13,null,{"$f":"I729*G730","v":36.804232399999997},0.13,null,{"$f":"L729*J730","v":35.860138599999999},{"$f":"L730-I730","v":-0.94409379999999743},{"$f":"IF((I730)=0,\"\",(M730/I730))","v":-2.5651772593415032E-2}]
["GENERAL SERVICE LESS THAN 50 kW SERVICE CLASSIFICATION","RPP",null,null,"Provincial Rebate",null,-0.08,null,{"$f":"I729*G731","v":-22.648758399999998},{"$f":"G731","v":-0.08},null,{"$f":"L729*J731","v":-22.067777599999999},{"$f":"L731-I731","v":0.58098079999999896},{"$f":"IF((I731)=0,\"\",(M731/I731))","v":-2.5651772593415056E-2}]
["GENERAL SERVICE LESS THAN 50 kW SERVICE CLASSIFICATION","RPP_TOTAL",null,null,"Total Bill on TOU",null,null,null,{"$f":"SUM(I729,I730,I731)","v":297.26495399999993},null,null,{"$f":"L729+L730+L731","v":289.63958100000002},{"$f":"L732-I732","v":-7.6253729999999109},{"$f":"IF((I732)=0,\"\",(M732/I732))","v":-2.5651772593414803E-2}]
["GENERAL SERVICE LESS THAN 50 kW SERVICE CLASSIFICATION","RPP"]
["GENERAL SERVICE LESS THAN 50 kW SERVICE CLASSIFICATION","Non-RPP (Retailer)_BT",{"$f":"C708","v":14},null,"Total Bill on Non-RPP Avg. Price",null,null,null,{"$f":"SUM(I726,I718:I722,I717)","v":330.98947999999996},null,null,{"$f":"SUM(L726,L718:L722,L717)","v":323.72721999999999},{"$f":"L734-I734","v":-7.2622599999999693},{"$f":"IF((I734)=0,\"\",(M734/I734))","v":-2.194105987900271E-2}]
["GENERAL SERVICE LESS THAN 50 kW SERVICE CLASSIFICATION","Non-RPP (Retailer)",null,null,"HST",null,0.13,null,{"$f":"I734*G735","v":43.028632399999999},0.13,null,{"$f":"L734*J735","v":42.084538600000002},{"$f":"L735-I735","v":-0.94409379999999743},{"$f":"IF((I735)=0,\"\",(M735/I735))","v":-2.1941059879002741E-2}]
["GENERAL SERVICE LESS THAN 50 kW SERVICE CLASSIFICATION","Non-RPP (Retailer)_NET",{"$f":"C734","v":14},null,"Total Bill on Non-RPP Avg. Price (before 8% Provincial Rebate)",null,null,null,{"$f":"SUM(I734:I735)","v":374.01811239999995},null,null,{"$f":"SUM(L734:L735)","v":365.81175859999996},{"$f":"SUM(M734:M735)","v":-8.2063537999999667},{"$f":"IF((I736)=0,\"\",(M736/I736))","v":-2.1941059879002713E-2}]
[{"$f":"A735","v":"GENERAL SERVICE LESS THAN 50 kW SERVICE CLASSIFICATION"},"Non-RPP (Retailer)",null,null,"8% Provincial Rebate",null,-0.08,null,{"$f":"I734*G737","v":-26.479158399999996},{"$f":"G737","v":-0.08},null,{"$f":"L734*J737","v":-25.8981776},{"$f":"L737-I737","v":0.58098079999999541},{"$f":"IF((I737)=0,\"\",(M737/I737))","v":-2.194105987900263E-2}]
["GENERAL SERVICE LESS THAN 50 kW SERVICE CLASSIFICATION","Non-RPP (Retailer)_TOTAL",{"$f":"C708","v":14},null,"Total Bill on Non-RPP Avg. Price",null,null,null,{"$f":"SUM(I734,I735,I737)","v":347.53895399999993},null,null,{"$f":"SUM(L734,L735,L737)","v":339.91358099999997},{"$f":"L738-I738","v":-7.6253729999999678},{"$f":"IF((I738)=0,\"\",(M738/I738))","v":-2.1941059879002713E-2}]
["GENERAL SERVICE LESS THAN 50 kW SERVICE CLASSIFICATION","Non-RPP (Retailer)"]
[]
[]
[null,null,null,null,"Customer Class:",{"$f":"E29","v":"UNMETERED SCATTERED LOAD SERVICE CLASSIFICATION"},null,null,null,null,null,{"$f":"IF(O693=\"DEMAND - INTERVAL\",\"RTSR - INTERVAL METERED\",\"\")","v":""}]
[null,null,null,null,"RPP / Non-RPP:",{"$f":"H29","v":"RPP"}]
[null,null,null,null,"Consumption",{"$f":"K29","v":150},"kWh"]
[null,null,null,null,"Demand",0,"kW"]
[null,null,null,null,"Current Loss Factor",{"$f":"I29","v":1.0341}]
[null,null,null,null,"Proposed/Approved Loss Factor",{"$f":"J29","v":1.0341}]
[]
[null,null,null,null,null,null,"Current OEB-Approved",null,null,"Proposed",null,null,"Impact"]
[null,null,null,null,null,null,"Rate","Volume","Charge","Rate","Volume","Charge","$ Change","% Change"]
[null,null,null,null,null,null,"($)",null,"($)","($)",null,"($)"]
[{"$f":"F742","v":"UNMETERED SCATTERED LOAD SERVICE CLASSIFICATION"},null,null,"USL_F","Monthly Service Charge",null,{"$f":"IFERROR(SUMIF(RATES!B:B,'10th percentile'!D752,RATES!H:H),\"\")","v":1.0900000000000001},1,{"$f":"H752*G752","v":1.0900000000000001},{"$f":"IFERROR(SUMIF(RATES!B:B,'10th percentile'!D752,RATES!I:I),\"\")","v":1.1000000000000001},1,{"$f":"K752*J752","v":1.1000000000000001},{"$f":"L752-I752","v":1.0000000000000009E-2},{"$f":"IF(ISERROR(M752/I752), \"\", M752/I752)","v":9.174311926605512E-3}]
[{"$f":"A752","v":"UNMETERED SCATTERED LOAD SERVICE CLASSIFICATION"},null,null,"USL_V","Distribution Volumetric Rate",null,{"$f":"IFERROR(SUMIF(RATES!B:B,'10th percentile'!D753,RATES!H:H),\"\")","v":1.9800000000000002E-2},{"$f":"F744","v":150},{"$f":"H753*G753","v":2.97},{"$f":"IFERROR(SUMIF(RATES!B:B,'10th percentile'!D753,RATES!I:I),\"\")","v":0.02},{"$f":"IF($F745>0, $F745, $F744)","v":150},{"$f":"K753*J753","v":3},2.9999999999999805E-2,{"$f":"IF(ISERROR(M753/I753), \"\", M753/I753)","v":1.0101010101010034E-2}]
[{"$f":"A753","v":"UNMETERED SCATTERED LOAD SERVICE CLASSIFICATION"},null,null,"USL_FRR","Fixed Rate Riders",null,{"$f":"IFERROR(SUMIF(RATES!B:B,'10th percentile'!D754,RATES!H:H),\"\")","v":0},1,0,{"$f":"IFERROR(SUMIF(RATES!B:B,'10th percentile'!D754,RATES!I:I),\"\")","v":0.05},1,{"$f":"K754*J754","v":0.05},0.05,""]
[{"$f":"A754","v":"UNMETERED SCATTERED LOAD SERVICE CLASSIFICATION"},null,null,"USL_VRR","Volumetric Rate Riders",null,{"$f":"IFERROR(SUMIF(RATES!B:B,'10th percentile'!D755,RATES!H:H),\"\")","v":2.0000000000000004E-4},{"$f":"F744","v":150},3.0000000000000006E-2,{"$f":"IFERROR(SUMIF(RATES!B:B,'10th percentile'!D755,RATES!I:I),\"\")","v":2.0000000000000001E-4},{"$f":"IF($F745>0, $F745, $F744)","v":150},3.0000000000000002E-2,0,0]
["UNMETERED SCATTERED LOAD SERVICE CLASSIFICATION","ST_A",{"$f":"B29","v":15},null,"Sub-Total A (excluding pass through)",null,null,null,{"$f":"SUM(I752:I755)","v":4.0900000000000007},null,null,{"$f":"SUM(L752:L755)","v":4.18},8.999999999999897E-2,{"$f":"IF((I756)=0,\"\",(M756/I756))","v":2.2004889975549866E-2}]
["UNMETERED SCATTERED LOAD SERVICE CLASSIFICATION",null,null,null,"Line Losses on Cost of Power",null,{"$f":"IF((F744*12>=150000), 0, IF(F743=\"RPP\",(G771*0.65+G772*0.17+G773*0.18),IF(F743=\"Non-RPP (Retailer)\",G774,G775)))","v":8.2160000000000011E-2},{"$f":"IF(G757=0, 0, $F744*F746-F744)","v":5.1150000000000091},{"$f":"H757*G757","v":0.4202484000000008},{"$f":"IF((F744*12>=150000), 0, IF(F743=\"RPP\",(J771*0.65+J772*0.17+J773*0.18),IF(F743=\"Non-RPP (Retailer)\",J774,J775)))","v":8.2160000000000011E-2},{"$f":"IF(G757=0, 0, $F744*F746-F744)","v":5.1150000000000091},{"$f":"K757*J757","v":0.4202484000000008},{"$f":"L757-I757","v":0},{"$f":"IF(ISERROR(M757/I757), \"\", M757/I757)","v":0}]
["UNMETERED SCATTERED LOAD SERVICE CLASSIFICATION",null,null,"USL_DVA","Total Deferral/Variance Account Rate Riders",null,{"$f":"IFERROR(SUMIF(RATES!B:B,'10th percentile'!D758,RATES!H:H),\"\")","v":-3.4000000000000002E-3},{"$f":"F744","v":150},{"$f":"H758*G758","v":-0.51},{"$f":"IFERROR(SUMIF(RATES!B:B,'10th percentile'!D758,RATES!I:I),\"\")","v":-1E-3},{"$f":"IF($F745>0, $F745, $F744)","v":150},{"$f":"K758*J758","v":-0.15},{"$f":"L758-I758","v":0.36},{"$f":"IF(ISERROR(M758/I758), \"\", M758/I758)","v":-0.70588235294117641}]
["UNMETERED SCATTERED LOAD SERVICE CLASSIFICATION",null,null,"USL_GA","GA Rate Riders",null,{"$f":"IFERROR(SUMIF(RATES!B:B,'10th percentile'!D759,RATES!H:H),\"\")","v":4.8999999999999998E-3},null,0,{"$f":"IFERROR(SUMIF(RATES!B:B,'10th percentile'!D759,RATES!I:I),\"\")","v":-8.9999999999999998E-4},null,0,0,""]
["UNMETERED SCATTERED LOAD SERVICE CLASSIFICATION",null,null,"USL_LV","Low Voltage Service Charge",null,{"$f":"IFERROR(SUMIF(RATES!B:B,'10th percentile'!D760,RATES!H:H),\"\")","v":0},{"$f":"F744","v":150},0,{"$f":"IFERROR(SUMIF(RATES!B:B,'10th percentile'!D760,RATES!I:I),\"\")","v":0},{"$f":"IF($F745>0, $F745, $F744)","v":150},0,0,""]
["UNMETERED SCATTERED LOAD SERVICE CLASSIFICATION",null,null,null,"Smart Meter Entity Charge (if applicable)",null,0.79,null,{"$f":"H761*G761","v":0},0.79,null,{"$f":"K761*J761","v":0},0,{"$f":"IF(ISERROR(M761/I761), \"\", M761/I761)","v":""}]
["UNMETERED SCATTERED LOAD SERVICE CLASSIFICATION","ST_B",{"$f":"C756","v":15},null,"Sub-Total B - Distribution (includes Sub-Total A)",null,null,null,{"$f":"SUM(I756:I761)","v":4.000248400000002},null,null,{"$f":"SUM(L756:L761)","v":4.4502484000000004},0.4499999999999984,{"$f":"IF((I762)=0,\"\",(M762/I762))","v":0.11249301418381873}]
["UNMETERED SCATTERED LOAD SERVICE CLASSIFICATION",null,null,"USL_TN","RTSR - Network",null,{"$f":"IFERROR(SUMIF(RATES!B:B,'10th percentile'!D763,RATES!H:H),\"\")","v":6.6E-3},{"$f":"IF($F745>0, $F745, $F744*$F746)","v":155.11500000000001},{"$f":"H763*G763","v":1.0237590000000001},{"$f":"IFERROR(SUMIF(RATES!B:B,'10th percentile'!D763,RATES!I:I),\"\")","v":6.6E-3},{"$f":"IF($F745>0, $F745, $F744*$F746)","v":155.11500000000001},{"$f":"K763*J763","v":1.0237590000000001},0,{"$f":"IF(ISERROR(M763/I763), \"\", M763/I763)","v":0}]
["UNMETERED SCATTERED LOAD SERVICE CLASSIFICATION",null,null,"USL_TC","RTSR - Connection and/or Line and Transformation Connection",null,{"$f":"IFERROR(SUMIF(RATES!B:B,'10th percentile'!D764,RATES!H:H),\"\")","v":4.7999999999999996E-3},{"$f":"H763","v":155.11500000000001},{"$f":"H764*G764","v":0.74455199999999999},{"$f":"IFERROR(SUMIF(RATES!B:B,'10th percentile'!D764,RATES!I:I),\"\")","v":5.4999999999999997E-3},{"$f":"IF($F745>0, $F745, $F744*$F746)","v":155.11500000000001},{"$f":"K764*J764","v":0.85313249999999996},0.10858049999999997,{"$f":"IF(ISERROR(M764/I764), \"\", M764/I764)","v":0.14583333333333329}]
["UNMETERED SCATTERED LOAD SERVICE CLASSIFICATION","ST_C",{"$f":"C756","v":15},null,"Sub-Total C - Delivery (including Sub-Total B)",null,null,null,{"$f":"SUM(I762:I764)","v":5.7685594000000018},null,null,{"$f":"SUM(L762:L764)","v":6.3271399000000006},0.55858049999999881,{"$f":"IF((I765)=0,\"\",(M765/I765))","v":9.6831888391406468E-2}]
["UNMETERED SCATTERED LOAD SERVICE CLASSIFICATION",null,null,null,"Wholesale Market Service Charge (WMSC)",null,3.5999999999999999E-3,{"$f":"F744*F746","v":155.11500000000001},{"$f":"H766*G766","v":0.55841399999999997},3.5999999999999999E-3,{"$f":"F744*F746","v":155.11500000000001},{"$f":"K766*J766","v":0.55841399999999997},0,{"$f":"IF(ISERROR(M766/I766), \"\", M766/I766)","v":0}]
["UNMETERED SCATTERED LOAD SERVICE CLASSIFICATION",null,null,null,"Rural and Remote Rate Protection (RRRP)",null,2.9999999999999997E-4,{"$f":"F744*F746","v":155.11500000000001},4.6534499999999999E-2,2.9999999999999997E-4,{"$f":"F744*F746","v":155.11500000000001},4.6534499999999999E-2,0,0]
["UNMETERED SCATTERED LOAD SERVICE CLASSIFICATION",null,null,null,"Standard Supply Service Charge",null,0.25,1,0.25,0.25,1,0.25,0,0]
["UNMETERED SCATTERED LOAD SERVICE CLASSIFICATION",null,null,null,"Debt Retirement Charge (DRC)",null,7.0000000000000001E-3,{"$f":"F744","v":150},1.05,7.0000000000000001E-3,{"$f":"F744","v":150},1.05,0,0]
["UNMETERED SCATTERED LOAD SERVICE CLASSIFICATION"]
["UNMETERED SCATTERED LOAD SERVICE CLASSIFICATION","RPP",null,null,"TOU - Off Peak",null,6.5000000000000002E-2,{"$f":"IF(AND(F744*12>=150000),0.65*F744*F746,0.65*F744)","v":97.5},6.3375000000000004,6.5000000000000002E-2,{"$f":"IF(AND(F744*12>=150000),0.65*F744*F747,0.65*F744)","v":97.5},{"$f":"K771*J771","v":6.3375000000000004},0,0]
["UNMETERED SCATTERED LOAD SERVICE CLASSIFICATION","RPP",null,null,"TOU - Mid Peak",null,9.5000000000000001E-2,{"$f":"IF(AND(F744*12>=150000),0.17*F744*F746,0.17*F744)","v":25.500000000000004},2.4225000000000003,9.5000000000000001E-2,{"$f":"IF(AND(F744*12>=150000),0.17*F744*F747,0.17*F744)","v":25.500000000000004},2.4225000000000003,0,0]
["UNMETERED SCATTERED LOAD SERVICE CLASSIFICATION","RPP",null,null,"TOU - On Peak",null,0.13200000000000001,{"$f":"IF(AND(F744*12>=150000),0.18*F744*F746,0.18*F744)","v":27},3.5640000000000001,0.13200000000000001,{"$f":"IF(AND(F744*12>=150000),0.18*F744*F747,0.18*F744)","v":27},3.5640000000000001,0,0]
["UNMETERED SCATTERED LOAD SERVICE CLASSIFICATION","Non-RPP (Retailer)",null,null,"Non-RPP Retailer Avg. Price",null,{"$f":"0.1061","v":0.1061},{"$f":"IF(AND(F744*12>=150000),F744*F746,F744)","v":150},{"$f":"H774*G774","v":15.914999999999999},{"$f":"G774","v":0.1061},{"$f":"IF(AND(F744*12>=150000),F744*F747,F744)","v":150},{"$f":"K774*J774","v":15.914999999999999},0,0]
["UNMETERED SCATTERED LOAD SERVICE CLASSIFICATION","Non-RPP (Other)",null,null,"Average IESO Wholesale Market Price",null,{"$f":"G774","v":0.1061},{"$f":"IF(AND(F744*12>=150000),F744*F746,F744)","v":150},{"$f":"H775*G775","v":15.914999999999999},{"$f":"G775","v":0.1061},{"$f":"IF(AND(F744*12>=150000),F744*F747,F744)","v":150},{"$f":"K775*J775","v":15.914999999999999},0,0]
["UNMETERED SCATTERED LOAD SERVICE CLASSIFICATION"]
["UNMETERED SCATTERED LOAD SERVICE CLASSIFICATION","RPP_BT",{"$f":"C756","v":15},null,"Total Bill on TOU (before Taxes)",null,null,null,{"$f":"SUM(I766:I773,I765)","v":19.997507900000002},null,null,{"$f":"SUM(L766:L773,L765)","v":20.5560884},{"$f":"L777-I777","v":0.55858049999999793},{"$f":"IF((I777)=0,\"\",(M777/I777))","v":2.793250552985144E-2}]
["UNMETERED SCATTERED LOAD SERVICE CLASSIFICATION","RPP",null,null,"HST",null,0.13,null,{"$f":"I777*G778","v":2.5996760270000006},0.13,null,{"$f":"L777*J778","v":2.6722914920000003},{"$f":"L778-I778","v":7.2615464999999713E-2},{"$f":"IF((I778)=0,\"\",(M778/I778))","v":2.793250552985143E-2}]
["UNMETERED SCATTERED LOAD SERVICE CLASSIFICATION","RPP_NET",{"$f":"C777","v":15},null,"Total Bill on TOU (before 8% Provincial Rebate)",null,null,null,{"$f":"SUM(I777:I778)","v":22.597183927000003},null,null,{"$f":"SUM(L777:L778)","v":23.228379892},{"$f":"SUM(M777:M778)","v":0.63119596499999764},{"$f":"IF((I779)=0,\"\",(M779/I779))","v":2.793250552985144E-2}]
[{"$f":"A778","v":"UNMETERED SCATTERED LOAD SERVICE CLASSIFICATION"},"RPP",null,null,"8% Provincial Rebate",null,-0.08,null,{"$f":"I777*G780","v":-1.5998006320000002},{"$f":"G780","v":-0.08},null,{"$f":"L777*J780","v":-1.644487072},{"$f":"L780-I780","v":-4.4686439999999772E-2},{"$f":"IF((I780)=0,\"\",(M780/I780))","v":2.7932505529851402E-2}]
["UNMETERED SCATTERED LOAD SERVICE CLASSIFICATION","RPP_TOTAL",{"$f":"C777","v":15},null,"Total Bill on TOU",null,null,null,{"$f":"SUM(I777,I778,I780)","v":20.997383295000002},null,null,{"$f":"L777+L778+L780","v":21.583892819999999},{"$f":"L781-I781","v":0.58650952499999676},{"$f":"IF((I781)=0,\"\",(M781/I781))","v":2.7932505529851388E-2}]
["UNMETERED SCATTERED LOAD SERVICE CLASSIFICATION","RPP"]
["UNMETERED SCATTERED LOAD SERVICE CLASSIFICATION","Non-RPP (Retailer)_BT",null,null,"Total Bill on Non-RPP Avg. Price",null,null,null,{"$f":"SUM(I774,I766:I770,I765)","v":23.5885079},null,null,{"$f":"SUM(L774,L766:L770,L765)","v":24.147088400000001},{"$f":"L783-I783","v":0.55858050000000148},{"$f":"IF((I783)=0,\"\",(M783/I783))","v":2.3680196406149177E-2}]
["UNMETERED SCATTERED LOAD SERVICE CLASSIFICATION","Non-RPP (Retailer)",null,null,"HST",null,0.13,null,{"$f":"I783*G784","v":3.066506027},0.13,null,{"$f":"L783*J784","v":3.1391214920000001},{"$f":"L784-I784","v":7.2615465000000157E-2},{"$f":"IF((I784)=0,\"\",(M784/I784))","v":2.3680196406149167E-2}]
["UNMETERED SCATTERED LOAD SERVICE CLASSIFICATION","Non-RPP (Retailer)_NET",null,null,"Total Bill on Non-RPP Avg. Price (before 8% Provincial Rebate)",null,null,null,{"$f":"SUM(I783:I784)","v":26.655013926999999},null,null,{"$f":"SUM(L783:L784)","v":27.286209892000002},{"$f":"SUM(M783:M784)","v":0.63119596500000164},{"$f":"IF((I785)=0,\"\",(M785/I785))","v":2.3680196406149177E-2}]
[{"$f":"A784","v":"UNMETERED SCATTERED LOAD SERVICE CLASSIFICATION"},"Non-RPP (Retailer)",null,null,"8% Provincial Rebate",null,-0.08,null,{"$f":"I783*G786","v":-1.887080632},{"$f":"G786","v":-0.08},null,{"$f":"L783*J786","v":-1.9317670720000002},{"$f":"L786-I786","v":-4.4686440000000216E-2},{"$f":"IF((I786)=0,\"\",(M786/I786))","v":2.3680196406149229E-2}]
["UNMETERED SCATTERED LOAD SERVICE CLASSIFICATION","Non-RPP (Retailer)_TOTAL",null,null,"Total Bill on Non-RPP Avg. Price",null,null,null,{"$f":"SUM(I783,I784,I786)","v":24.767933294999999},null,null,{"$f":"SUM(L783,L784,L786)","v":25.354442820000003},{"$f":"L787-I787","v":0.58650952500000386},{"$f":"IF((I787)=0,\"\",(M787/I787))","v":2.3680196406149271E-2}]
["UNMETERED SCATTERED LOAD SERVICE CLASSIFICATION","Non-RPP (Retailer)"]