{"text_format":"1","workbook":"xlsx","n_sheets":6,"sheets":["10. RTSR - Current Rates","11. RTSR-UTRs & Sub-Tx","12. RTSR-Historic Wholesale","13. RTSR-Current Wholesale","14. RTSR-Forecast Wholesale","15. RTSR-Rates to Forecast"],"not_rendered":{"charts":0,"images":0,"macros":0,"external_links":3,"defined_names":33,"comments":0,"pivot_tables":0},"unopened":[],"bounds":{"document_bytes":16777216,"sheet_cells":100000,"rows_first":2000,"rows_last":500,"rows_between":2000,"halvings":0,"cell_chars":16384,"cell_head_chars":4096},"cells_cut":0,"cells_raw":0,"read":"whole","date_system":"1900"}

{"sheet":"10. RTSR - Current Rates","index":0,"n_rows":31,"n_cols":53,"rows_kept":31,"cut":false,"hidden":false,"merged":[[1,1,8,4],[12,1,12,8]]}
["Back to Index","Back to Index",null,null,null,null,null,null,null,null,null,null,null,null,null,null,null,null,null,null,null,null,null,null,null,null,null,null,null,null,null,null,null,null,null,null,null,null,null,null,null,null,null,null,null,null,null,null,null,null,null,null,1]
[null,"INCENTIVE REGULATION MODEL FOR 2018 FILERS"]
[]
[]
[]
[]
[]
[]
[]
[]
[]
[]
[null,"Columns F and G must match the data from the most recent RRR filing.  \nRates have been imported from Tab 2.  As well, the Loss Factor has been imported from \"Model Specs\" tab. \nIf the data needs to be modified, please make the necessary adjustments and note the changes in your manager's summary.  "]
[]
[null,"Rate Class","Rate Description","Unit","Rate","Non-Loss Adjusted Metered kWh","Non-Loss Adjusted Metered kW","Applicable Loss Factor","Loss Adjusted Billed kWh"]
["R_TN","RESIDENTIAL SERVICE CLASSIFICATION","Retail Transmission Rate – Network Service Rate","$/kWh",7.4425597040001842E-3,1537580328.6899991,0,1.0379,{"$f":"F16*H16","v":1595854623.1473501}]
["R_TC","RESIDENTIAL SERVICE CLASSIFICATION","Retail Transmission Rate – Line and Transformation Connection Service Rate","$/kWh",6.8243139315473864E-3,{"$f":"F16","v":1537580328.6899991},0,{"$f":"H16","v":1.0379},{"$f":"F17*H17","v":1595854623.1473501}]
["GSL_TN","GENERAL SERVICE LESS THAN 50 kW SERVICE CLASSIFICATION","Retail Transmission Rate – Network Service Rate","$/kWh",6.537383520847216E-3,558828431.00972259,0,{"$f":"H17","v":1.0379},580008028.54499114]
["GSL_TC","GENERAL SERVICE LESS THAN 50 kW SERVICE CLASSIFICATION","Retail Transmission Rate – Line and Transformation Connection Service Rate","$/kWh",6.1303158981366483E-3,{"$f":"F18","v":558828431.00972259},0,1.0379,580008028.54499114]
["GSG_TN","GENERAL SERVICE GREATER THAN 50 kW SERVICE CLASSIFICATION","Retail Transmission Rate – Network Service Rate","$/kW",2.5868929487130066,1751908545.0163753,4824433.3829784263]
["GSG_TC","GENERAL SERVICE GREATER THAN 50 kW SERVICE CLASSIFICATION","Retail Transmission Rate – Line and Transformation Connection Service Rate","$/kW",2.4536300225786776,{"$f":"F20","v":1751908545.0163753},{"$f":"G20","v":4824433.3829784263}]
["LU_TN","LARGE USE 1 SERVICE CLASSIFICATION","Retail Transmission Rate – Network Service Rate","$/kW",2.9550984920611532,220526376.81002384,456125.73797999992]
["LU_TC","LARGE USE 1 SERVICE CLASSIFICATION","Retail Transmission Rate – Line and Transformation Connection Service Rate","$/kW",2.81948265332663,{"$f":"F22","v":220526376.81002384},{"$f":"G22","v":456125.73797999992}]
["LUDA_TN","LARGE USE 2 SERVICE CLASSIFICATION","Retail Transmission Rate – Network Service Rate – Interval Metered","$/kW",2.9550985078335339,1050812632.4245863,1982813.5380800003]
["LUDA_TC","LARGE USE 2 SERVICE CLASSIFICATION","Retail Transmission Rate – Line and Transformation Connection Service Rate – Interval Metered ","$/kW",2.8194826506260351,{"$f":"F24","v":1050812632.4245863},{"$f":"G24","v":1982813.5380800003}]
["USL_TN","UNMETERED SCATTERED LOAD SERVICE CLASSIFICATION","Retail Transmission Rate – Network Service Rate","$/kWh",6.6379581276943449E-3,11347508.416576881,0,{"$f":"+H19","v":1.0379},11777578.985565145]
["USL_TC","UNMETERED SCATTERED LOAD SERVICE CLASSIFICATION","Retail Transmission Rate – Line and Transformation Connection Service Rate","$/kWh",6.2459821580141111E-3,{"$f":"F26","v":11347508.416576881},{"$f":"G26","v":0},1.0379,11777578.985565145]
["SEN_TN","SENTINEL LIGHTING","Retail Transmission Rate – Network Service Rate","$/kW",2.1495920504363379,439954.02282899455,946.91011767210034]
["SEN_TC","SENTINEL LIGHTING","Retail Transmission Rate – Line and Transformation Connection Service Rate","$/kW",1.9743078621429782,{"$f":"F28","v":439954.02282899455},{"$f":"G28","v":946.91011767210034}]
["SL_TN","STREET LIGHTING SERVICE CLASSIFICATION","Retail Transmission Rate – Network Service Rate","$/kW",2.036445282114038,31193672.300799686,87344.171000000002]
["SL_TC","STREET LIGHTING SERVICE CLASSIFICATION","Retail Transmission Rate – Line and Transformation Connection Service Rate","$/kW",1.9249192420558441,{"$f":"F30","v":31193672.300799686},{"$f":"G30","v":87344.171000000002}]

{"sheet":"11. RTSR-UTRs & Sub-Tx","index":1,"n_rows":68,"n_cols":9,"rows_kept":68,"cut":false,"hidden":false,"merged":[[1,1,8,6]]}
["Back to Index"]
[null,"INCENTIVE REGULATION MODEL FOR 2018 FILERS"]
[]
[]
[]
[]
[]
[]
[]
[]
[]
[null,"Uniform Transmission Rates","Unit",null,2017,null,2018,null,2019]
[]
[null,"Rate Description",null,null,"Rate",null,"Rate",null,"Rate"]
[]
[null,"Network Service Rate","kW",null,3.52,1537580328.6899991,3.61,null,3.61]
[]
[null,"Line Connection Service Rate","kW",null,0.88,558828431.00972259,0.95,0.95,0.95]
[]
[null,"Transformation Connection Service Rate","kW",null,2.13,1751908545.0163753,2.34,null,2.34]
[]
[null,null,null,null,null,220526376.81002384]
[null,"Hydro One Sub-Transmission Rates","Unit",null,2017,null,2018,null,2019]
[]
[]
[null,null,null,null,null,11347508.416576881]
[null,"Rate Description",null,null,"Rate",null,"Rate",null,"Rate"]
[null,null,null,null,null,439954.02282899455]
[null,"Network Service Rate","kW",null,3.3395999999999999,3.1941999999999999,3.1941999999999999,null,{"$f":"G29","v":3.1941999999999999}]
[null,null,null,null,null,31193672.300799686]
[null,"Line Connection Service Rate","kW",null,0.77100000000000002,null,0.77100000000000002,null,{"$f":"G31","v":0.77100000000000002}]
[]
[null,"Transformation Connection Service Rate","kW",null,1.7493000000000001,null,1.7493000000000001,null,{"$f":"G33","v":1.7493000000000001}]
[]
[null,"Both Line and Transformation Connection Service Rate","kW",null,2.5504000000000002,null,{"$f":"SUM(G33,G31)","v":2.5203000000000002},null,{"$f":"G35","v":2.5203000000000002}]
[]
[]
[null,"If needed, add extra host here. (I)","Unit",null,2016,null,2017,null,2018]
[]
[]
[]
[null,"Rate Description",null,null,"Rate",null,"Rate",null,"Rate"]
[]
[null,"Network Service Rate","kW"]
[]
[null,"Line Connection Service Rate","kW"]
[]
[null,"Transformation Connection Service Rate","kW"]
[]
[null,"Both Line and Transformation Connection Service Rate","kW",null,{"$f":"E48+E46","v":0},null,{"$f":"G48+G46","v":0},null,{"$f":"I48+I46","v":0}]
[]
[]
[null,"If needed, add extra host here. (II)","Unit",null,2016,null,2017,null,2018]
[]
[]
[]
[null,"Rate Description",null,null,"Rate",null,"Rate",null,"Rate"]
[]
[null,"Network Service Rate","kW"]
[]
[null,"Line Connection Service Rate","kW"]
[]
[null,"Transformation Connection Service Rate","kW"]
[]
[null,"Both Line and Transformation Connection Service Rate","kW",null,{"$f":"E63+E61","v":0},null,{"$f":"G63+G61","v":0},null,{"$f":"I63+I61","v":0}]
[]
[null,null,null,null,"Historical 2016",null,"Current 2017",null,"Forecast 2018"]
[null,"Low Voltage Switchgear Credit (if applicable, enter as a negative value)","$"]

{"sheet":"12. RTSR-Historic Wholesale","index":2,"n_rows":112,"n_cols":16,"rows_kept":112,"cut":false,"hidden":false,"merged":[[33,3,33,5],[33,7,33,9],[33,11,33,13],[1,1,8,10],[12,1,12,11],[15,3,15,5],[15,7,15,9],[15,11,15,13],[52,3,52,5],[52,7,52,9],[52,11,52,13],[71,3,71,5],[71,7,71,9],[71,11,71,13],[90,3,90,5],[90,7,90,9],[90,11,90,13],[91,3,91,5],[91,7,91,9],[91,11,91,13]]}
["Back to Index"]
[null,"INCENTIVE REGULATION MODEL FOR 2018 FILERS"]
[]
[]
[]
[]
[]
[]
[]
[]
[]
[]
[null,"In the green shaded cells, enter billing detail for wholesale transmission for the same reporting period as the billing determinants on Tab 10.   For Hydro One Sub-transmission Rates, if you are charged a combined Line and Transformer connection rate, please ensure that both the Line Connection and Transformation Connection columns are completed. \nIf any of the Hydro One Sub-transmission rates (column E, I and M) are highlighted in orange, please double check the billing data entered in \"Units Billed\" and \"Amount\" columns. The highlighted rates do not match the Hydro One Sub-transmission rates approved for that time period. If data has been entered correctly, please provide explanation for the discrepancy in rates.\n"]
[]
[]
[null,"IESO",null,"Network",null,null,null,"Line Connection",null,null,null,"Transformation Connection",null,null,null,"Total Line"]
[null,"Month",null,"Units Billed","Rate","Amount",null,"Units Billed","Rate","Amount",null,"Units Billed","Rate","Amount",null,"Amount"]
[null,null,null,null,null,558828431.00972259]
[null,"January",null,726321,{"$f":"IF(D19<>0,F19/D19,0)","v":3.6600000000000006},2658334.8600000003,null,720502,{"$f":"IF(H19<>0,J19/H19,0)","v":0.87},626836.74,null,776674,{"$f":"IF(L19<>0,N19/L19,0)","v":2.02},1568881.48,null,{"$f":"J19+N19","v":2195718.2199999997}]
[null,"February",null,692790,{"$f":"IF(D20<>0,F20/D20,0)","v":3.6599999999999997},2535611.4,null,679676,0.87,591318.12,null,743092,2.02,1501045.84,null,2092363.96]
[null,"March",null,687896,{"$f":"IF(D21<>0,F21/D21,0)","v":3.6600000000000006},2517699.3600000003,null,667736,0.87000000000000011,580930.32000000007,null,730455,2.02,1475519.0999999999,null,2056449.42]
[null,"April",null,630448,3.66,2307439.6800000002,null,618488,0.86999999999999988,538084.55999999994,null,670512,2.02,1354434.24,null,1892518.7999999998]
[null,"May",null,706554,3.6599999999999997,2585987.6399999997,null,676531,0.87000000000000011,588581.97000000009,null,737534,2.02,1489818.68,null,2078400.65]
[null,"June",null,826904,3.6599999999999997,3026468.6399999997,null,824900,0.87,717663,null,887029,2.02,1791798.58,null,2509461.58]
[null,"July",null,835416,3.6600000000000006,3057622.5600000005,null,837044,0.87,728228.28,null,899328,2.02,1816642.5600000001,null,2544870.84]
[null,"August",null,864110,3.6599999999999997,3162642.5999999996,null,828034,0.87,720389.58,null,889952,2.02,1797703.04,null,2518092.62]
[null,"September",null,859782,3.6599999999999997,3146802.1199999996,null,862883,0.87000000000000011,750708.21000000008,null,926445,2.02,1871418.9000000001,null,2622127.1100000003]
[null,"October",null,667485,3.66,2442995.1,null,653380,0.87000000000000011,568440.60000000009,null,705043,2.02,1424186.8599999999,null,1992627.46]
[null,"November",null,683261,3.5199999999999996,2405078.7199999997,null,669443,0.88,589109.84,null,724061,2.1300000000000003,1542249.9300000002,null,2131359.77]
[null,"December",null,711624,3.52,2504916.48,null,704315,0.87999999999999989,619797.19999999995,null,761653,2.13,1622320.89,null,2242118.09]
[]
[null,"Total",null,{"$f":"SUM(D19:D30)","v":8892591},{"$f":"IF(D32<>0,F32/D32,0)","v":3.6380397074373492},{"$f":"SUM(F19:F30)","v":32351599.160000004},null,{"$f":"SUM(H19:H30)","v":8742932},{"$f":"IF(H32<>0,J32/H32,0)","v":0.87157127837663617},{"$f":"SUM(J19:J30)","v":7620088.4200000009},null,{"$f":"SUM(L19:L30)","v":9451778},{"$f":"IF(L32<>0,N32/L32,0)","v":2.0372907721700617},{"$f":"SUM(N19:N30)","v":19256020.100000001},null,{"$f":"SUM(P19:P30)","v":26876108.52}]
[]
[null,"Hydro One",null,"Network",null,null,null,"Line Connection",null,null,null,"Transformation Connection",null,null,null,"Total Line"]
[]
[null,"Month",null,"Units Billed","Rate","Amount",null,"Units Billed","Rate","Amount",null,"Units Billed","Rate","Amount",null,"Amount"]
[]
[null,"January",null,59053.59,{"$f":"IF(D38<>0,F38/D38,0)","v":3.1941999999999999},188628.97717799997,null,61101.740000000005,{"$f":"IF(H38<>0,J38/H38,0)","v":0.77100000000000002},47109.441540000007,null,61101.740000000005,{"$f":"IF(L38<>0,N38/L38,0)","v":1.7493000000000001},106885.27378200002,null,{"$f":"J38+N38","v":153994.71532200003}]
[null,"February",null,57869.68,{"$f":"IF(D39<>0,F39/D39,0)","v":3.1941999999999999},184847.331856,null,58718.36,0.77100000000000002,45271.855560000004,null,58718.36,1.7493000000000001,102716.02714800001,null,{"$f":"J39+N39","v":147987.88270800002}]
[null,"March",null,71962.040000000008,3.1941999999999999,229861.14816800001,null,74593.079999999987,0.77100000000000002,57511.264679999993,null,74593.079999999987,1.7493000000000001,130485.67484399998,null,187996.93952399999]
[null,"April",null,52961.8,3.1941999999999995,169170.58155999999,null,54794.479999999996,0.77100000000000002,42246.54408,null,54794.479999999996,1.7493000000000001,95851.983863999994,null,138098.527944]
[null,"May",null,59749.03,3.1941999999999999,190850.35162599999,null,61496.35,0.77100000000000002,47413.685850000002,null,61496.35,1.7493000000000001,107575.565055,null,154989.25090499999]
[null,"June",null,75966.429999999993,3.1941999999999999,242651.97070599996,null,77424.87,0.77100000000000002,59694.574769999999,null,77424.87,1.7493000000000001,135439.32509100001,null,195133.89986100001]
[null,"July",null,77140.86,3.1941999999999999,246403.335012,null,77914.28,0.77100000000000002,60071.909879999999,null,77914.28,1.7493000000000003,136295.45000400001,null,196367.359884]
[null,"August",null,76718.51999999999,3.1941999999999999,245054.29658399997,null,77740.34,0.77100000000000002,59937.80214,null,77740.34,1.7492999999999999,135991.17676199999,null,195928.978902]
[null,"September",null,81290.59,3.1941999999999999,259658.40257799998,null,82774.600000000006,0.77100000000000002,63819.216600000007,null,82774.600000000006,1.7493000000000001,144797.60778000002,null,208616.82438000003]
[null,"October",null,56696.36,3.1941999999999999,181099.51311199999,null,58444.42,0.77100000000000002,45060.647819999998,null,58444.42,1.7493000000000001,102236.82390600001,null,147297.47172600002]
[null,"November",null,55884.229999999996,3.1941999999999999,178505.40746599998,null,56811.259999999995,0.77100000000000002,43801.481459999995,null,56811.259999999995,1.7493000000000003,99379.937118000002,null,143181.41857799998]
[null,"December",null,60159.209999999992,3.1941999999999999,192160.54858199996,null,60501.819999999992,0.77100000000000002,46646.903219999993,null,60501.819999999992,1.7493000000000001,105835.833726,null,152482.73694599999]
[]
[null,"Total",null,{"$f":"SUM(D38:D49)","v":785452.33999999985},{"$f":"IF(D51<>0,F51/D51,0)","v":3.1941999999999999},{"$f":"SUM(F38:F49)","v":2508891.8644279996},null,{"$f":"SUM(H38:H49)","v":802315.59999999986},{"$f":"IF(H51<>0,J51/H51,0)","v":0.77100000000000013},{"$f":"SUM(J38:J49)","v":618585.32759999996},null,{"$f":"SUM(L38:L49)","v":802315.59999999986},{"$f":"IF(L51<>0,N51/L51,0)","v":1.7493000000000005},{"$f":"SUM(N38:N49)","v":1403490.6790800001},null,{"$f":"SUM(P38:P49)","v":2022076.0066800003}]
[]
[null,"Add Extra Host Here (I)",null,"Network",null,null,null,"Line Connection",null,null,null,"Transformation Connection",null,null,null,"Total Line"]
[null,"(if needed)"]
[null,"Month",null,"Units Billed","Rate","Amount",null,"Units Billed","Rate","Amount",null,"Units Billed","Rate","Amount",null,"Amount"]
[]
[null,"January",null,null,{"$f":"IF(D57<>0,F57/D57,0)","v":0},null,null,null,{"$f":"IF(H57<>0,J57/H57,0)","v":0},null,null,null,{"$f":"IF(L57<>0,N57/L57,0)","v":0},null,null,{"$f":"J57+N57","v":0}]
[null,"February",null,null,0,null,null,null,0,null,null,null,0,null,null,0]
[null,"March",null,null,0,null,null,null,0,null,null,null,0,null,null,0]
[null,"April",null,null,0,null,null,null,0,null,null,null,0,null,null,0]
[null,"May",null,null,0,null,null,null,0,null,null,null,0,null,null,0]
[null,"June",null,null,0,null,null,null,0,null,null,null,0,null,null,0]
[null,"July",null,null,0,null,null,null,0,null,null,null,0,null,null,0]
[null,"August",null,null,0,null,null,null,0,null,null,null,0,null,null,0]
[null,"September",null,null,0,null,null,null,0,null,null,null,0,null,null,0]
[null,"October",null,null,0,null,null,null,0,null,null,null,0,null,null,0]
[null,"November",null,null,0,null,null,null,0,null,null,null,0,null,null,0]
[null,"December",null,null,0,null,null,null,0,null,null,null,0,null,null,0]
[]
[null,"Total",null,{"$f":"SUM(D57:D68)","v":0},{"$f":"IF(D70<>0,F70/D70,0)","v":0},{"$f":"SUM(F57:F68)","v":0},null,{"$f":"SUM(H57:H68)","v":0},{"$f":"IF(H70<>0,J70/H70,0)","v":0},{"$f":"SUM(J57:J68)","v":0},null,{"$f":"SUM(L57:L68)","v":0},{"$f":"IF(L70<>0,N70/L70,0)","v":0},{"$f":"SUM(N57:N68)","v":0},null,{"$f":"SUM(P57:P68)","v":0}]
[]
[null,"Add Extra Host Here (II)",null,"Network",null,null,null,"Line Connection",null,null,null,"Transformation Connection",null,null,null,"Total Line"]
[null,"(if needed)"]
[null,"Month",null,"Units Billed","Rate","Amount",null,"Units Billed","Rate","Amount",null,"Units Billed","Rate","Amount",null,"Amount"]
[]
[null,"January",null,null,{"$f":"IF(D76<>0,F76/D76,0)","v":0},null,null,null,{"$f":"IF(H76<>0,J76/H76,0)","v":0},null,null,null,{"$f":"IF(L76<>0,N76/L76,0)","v":0},null,null,{"$f":"J76+N76","v":0}]
[null,"February",null,null,0,null,null,null,0,null,null,null,0,null,null,0]
[null,"March",null,null,0,null,null,null,0,null,null,null,0,null,null,0]
[null,"April",null,null,0,null,null,null,0,null,null,null,0,null,null,0]
[null,"May",null,null,0,null,null,null,0,null,null,null,0,null,null,0]
[null,"June",null,null,0,null,null,null,0,null,null,null,0,null,null,0]
[null,"July",null,null,0,null,null,null,0,null,null,null,0,null,null,0]
[null,"August",null,null,0,null,null,null,0,null,null,null,0,null,null,0]
[null,"September",null,null,0,null,null,null,0,null,null,null,0,null,null,0]
[null,"October",null,null,0,null,null,null,0,null,null,null,0,null,null,0]
[null,"November",null,null,0,null,null,null,0,null,null,null,0,null,null,0]
[null,"December",null,null,0,null,null,null,0,null,null,null,0,null,null,0]
[]
[null,"Total",null,{"$f":"SUM(D76:D87)","v":0},{"$f":"IF(D89<>0,F89/D89,0)","v":0},{"$f":"SUM(F76:F87)","v":0},null,{"$f":"SUM(H76:H87)","v":0},{"$f":"IF(H89<>0,J89/H89,0)","v":0},{"$f":"SUM(J76:J87)","v":0},null,{"$f":"SUM(L76:L87)","v":0},{"$f":"IF(L89<>0,N89/L89,0)","v":0},{"$f":"SUM(N76:N87)","v":0},null,{"$f":"SUM(P76:P87)","v":0}]
[]
[null,"Total",null,"Network",null,null,null,"Line Connection",null,null,null,"Transformation Connection",null,null,null,"Total Line"]
[]
[null,"Month",null,"Units Billed","Rate","Amount",null,"Units Billed","Rate","Amount",null,"Units Billed","Rate","Amount",null,"Amount"]
[]
[null,"January",null,{"$f":"D19+D38+D57+D76","v":785374.59},{"$f":"IF(D95<>0,F95/D95,0)","v":3.6249757420570488},{"$f":"F19+F38+F57+F76","v":2846963.8371780002},null,{"$f":"H19+H38+H57+H76","v":781603.74},{"$f":"IF(H95<>0,J95/H95,0)","v":0.86226069176690479},{"$f":"J19+J38+J57+J76","v":673946.18154000002},null,{"$f":"L19+L38+L57+L76","v":837775.74},{"$f":"IF(L95<>0,N95/L95,0)","v":2.0002569587202417},{"$f":"N19+N38+N57+N76","v":1675766.7537819999},null,{"$f":"J95+N95","v":2349712.9353219997}]
[null,"February",null,{"$f":"D20+D39+D58+D77","v":750659.68},{"$f":"IF(D96<>0,F96/D96,0)","v":3.6240906556430463},{"$f":"F20+F39+F58+F77","v":2720458.7318559997},null,{"$f":"H20+H39+H58+H77","v":738394.36},0.86212735368130389,{"$f":"J20+J39+J58+J77","v":636589.97556000005},null,{"$f":"L20+L39+L58+L77","v":801810.36},2.0001760355752949,{"$f":"N20+N39+N58+N77","v":1603761.867148},null,2240351.842708]
[null,"March",null,759858.04,3.615886604513654,2747560.5081680003,null,742329.08,0.86005196600946865,638441.58468000009,null,805048.08,1.9949178375085372,1606004.7748439999,null,2244446.359524]
[null,"April",null,683409.8,3.6239021763515828,2476610.26156,null,673282.48,0.86194297537639775,580331.10407999996,null,725306.48,1.9995495198995052,1450286.2238640001,null,2030617.327944]
[null,"May",null,766303.03,3.6236813413435147,2776837.9916259996,null,738027.35,0.8617507953465412,635995.6558500001,null,799030.35,1.9991659203620988,1597394.2450549998,null,2233389.900905]
[null,"June",null,902870.42999999993,3.6208081493000051,3269120.6107059997,null,902324.87,0.86150520795243068,777357.57476999995,null,964453.87,1.9982686212778638,1927237.905091,null,2704595.4798610001]
[null,"July",null,912556.86,3.6206246863477642,3304025.8950120006,null,914958.28,0.86156954596880642,788300.18988000008,null,977242.28,1.9984174344196406,1952938.010004,null,2741238.1998840002]
[null,"August",null,940828.52,3.6220170032515591,3407696.8965839995,null,905774.34,0.8615030782832731,780327.38214,null,967692.34,1.9982530984610254,1933694.216762,null,2714021.5989020001]
[null,"September",null,941072.59,3.619763829884791,3406460.5225779996,null,945657.6,0.86133440539154993,814527.42660000012,null,1009219.6,1.9977976129080333,2016216.5077800001,null,2830743.9343800005]
[null,"October",null,724181.36,3.6235323885055539,2624094.6131120003,null,711824.42,0.86187159443054795,613501.24782000005,null,763487.42,1.9992781071703838,1526423.6839059999,null,2139924.9317259998]
[null,"November",null,739145.23,3.4953673819500937,2583584.1274659997,null,726254.26,0.87147347192152791,632911.32146000001,null,780872.26,2.1023027084071342,1641629.8671180001,null,2274541.1885780003]
[null,"December",null,771783.21,3.4946044350744563,2697077.0285820002,null,764816.82,0.87137741455529183,666444.10321999993,null,822154.82,2.101984543161834,1728156.7237259999,null,2394600.8269459996]
[]
[null,"Total",null,{"$f":"SUM(D95:D106)","v":9678043.3399999999},{"$f":"IF(D108<>0,F108/D108,0)","v":3.6020184865619753},{"$f":"SUM(F95:F106)","v":34860491.024428003},null,{"$f":"SUM(H95:H106)","v":9545247.5999999996},{"$f":"IF(H108<>0,J108/H108,0)","v":0.86311786690583081},{"$f":"SUM(J95:J106)","v":8238673.7476000004},null,{"$f":"SUM(L95:L106)","v":10254093.6},{"$f":"IF(L108<>0,N108/L108,0)","v":2.0147573822692633},{"$f":"SUM(N95:N106)","v":20659510.779080003},null,{"$f":"SUM(P95:P106)","v":28898184.52668}]
[]
[null,null,null,null,null,null,null,null,null,null,null,null,null,"Low Voltage Switchgear Credit (if applicable)",null,{"$f":"'11. RTSR-UTRs & Sub-Tx'!E68","v":0}]
[]
[null,null,null,null,null,null,null,null,null,null,null,null,null,"Total including deduction for Low Voltage Switchgear Credit",null,{"$f":"P108+P110","v":28898184.52668}]

{"sheet":"13. RTSR-Current Wholesale","index":3,"n_rows":113,"n_cols":16,"rows_kept":113,"cut":false,"hidden":false,"merged":[[16,3,16,5],[16,7,16,9],[16,11,16,13],[1,1,8,9],[12,1,12,11],[15,3,15,5],[15,7,15,9],[15,11,15,13],[34,3,34,5],[34,7,34,9],[34,11,34,13],[53,3,53,5],[53,7,53,9],[53,11,53,13],[92,3,92,5],[92,7,92,9],[92,11,92,13],[72,3,72,5],[72,7,72,9],[72,11,72,13],[91,3,91,5],[91,7,91,9],[91,11,91,13]]}
["Back to Index"]
[null,"INCENTIVE REGULATION MODEL FOR 2018 FILERS"]
[]
[]
[]
[]
[]
[]
[]
[]
[]
[]
[null,"The purpose of this sheet is to calculate the expected billing when current 2017 Uniform Transmission Rates are applied against historical 2016 transmission units."]
[]
[]
[null,"IESO",null,"Network",null,null,null,"Line Connection",null,null,null,"Transformation Connection",null,null,null,"Total Line"]
[]
[null,"Month",null,"Units Billed","Rate",558828431.00972259,null,"Units Billed","Rate","Amount",null,"Units Billed","Rate","Amount",null,"Amount"]
[]
[null,"January",null,{"$f":"'12. RTSR-Historic Wholesale'!D19","v":726321},{"$f":"'11. RTSR-UTRs & Sub-Tx'!G16","v":3.61},{"$f":"+E20*D20","v":2622018.81},null,{"$f":"'12. RTSR-Historic Wholesale'!H19","v":720502},{"$f":"'11. RTSR-UTRs & Sub-Tx'!G18","v":0.95},{"$f":"H20*I20","v":684476.9},null,{"$f":"'12. RTSR-Historic Wholesale'!L19","v":776674},{"$f":"'11. RTSR-UTRs & Sub-Tx'!G20","v":2.34},{"$f":"L20*M20","v":1817417.16},null,{"$f":"J20+N20","v":2501894.06}]
[null,"February",null,{"$f":"'12. RTSR-Historic Wholesale'!D20","v":692790},{"$f":"E20","v":3.61},{"$f":"+E21*D21","v":2500971.9},null,{"$f":"'12. RTSR-Historic Wholesale'!H20","v":679676},{"$f":"I20","v":0.95},{"$f":"H21*I21","v":645692.19999999995},null,{"$f":"'12. RTSR-Historic Wholesale'!L20","v":743092},{"$f":"M20","v":2.34},{"$f":"L21*M21","v":1738835.2799999998},null,2384527.4799999995]
[null,"March",null,{"$f":"'12. RTSR-Historic Wholesale'!D21","v":687896},{"$f":"E21","v":3.61},2483304.56,null,{"$f":"'12. RTSR-Historic Wholesale'!H21","v":667736},{"$f":"I21","v":0.95},634349.19999999995,null,{"$f":"'12. RTSR-Historic Wholesale'!L21","v":730455},{"$f":"M21","v":2.34},1709264.7,null,2343613.9]
[null,"April",null,{"$f":"'12. RTSR-Historic Wholesale'!D22","v":630448},3.61,2275917.2799999998,null,{"$f":"'12. RTSR-Historic Wholesale'!H22","v":618488},0.95,587563.6,null,{"$f":"'12. RTSR-Historic Wholesale'!L22","v":670512},2.34,1568998.0799999998,null,2156561.6799999997]
[null,"May",null,{"$f":"'12. RTSR-Historic Wholesale'!D23","v":706554},3.61,2550659.94,null,{"$f":"'12. RTSR-Historic Wholesale'!H23","v":676531},0.95,642704.44999999995,null,{"$f":"'12. RTSR-Historic Wholesale'!L23","v":737534},2.34,1725829.5599999998,null,2368534.0099999998]
[null,"June",null,{"$f":"'12. RTSR-Historic Wholesale'!D24","v":826904},3.61,2985123.44,null,{"$f":"'12. RTSR-Historic Wholesale'!H24","v":824900},0.95,783655,null,{"$f":"'12. RTSR-Historic Wholesale'!L24","v":887029},2.34,2075647.8599999999,null,2859302.86]
[null,"July",null,{"$f":"'12. RTSR-Historic Wholesale'!D25","v":835416},3.61,3015851.76,null,{"$f":"'12. RTSR-Historic Wholesale'!H25","v":837044},0.95,795191.79999999993,null,{"$f":"'12. RTSR-Historic Wholesale'!L25","v":899328},2.34,2104427.52,null,2899619.32]
[null,"August",null,{"$f":"'12. RTSR-Historic Wholesale'!D26","v":864110},3.61,3119437.1,null,{"$f":"'12. RTSR-Historic Wholesale'!H26","v":828034},0.95,786632.29999999993,null,{"$f":"'12. RTSR-Historic Wholesale'!L26","v":889952},2.34,2082487.68,null,2869119.98]
[null,"September",null,{"$f":"'12. RTSR-Historic Wholesale'!D27","v":859782},3.61,3103813.02,null,{"$f":"'12. RTSR-Historic Wholesale'!H27","v":862883},0.95,819738.85,null,{"$f":"'12. RTSR-Historic Wholesale'!L27","v":926445},2.34,2167881.2999999998,null,2987620.15]
[null,"October",null,{"$f":"'12. RTSR-Historic Wholesale'!D28","v":667485},3.61,2409620.85,null,{"$f":"'12. RTSR-Historic Wholesale'!H28","v":653380},0.95,620711,null,{"$f":"'12. RTSR-Historic Wholesale'!L28","v":705043},2.34,1649800.6199999999,null,2270511.62]
[null,"November",null,{"$f":"'12. RTSR-Historic Wholesale'!D29","v":683261},3.61,2466572.21,null,{"$f":"'12. RTSR-Historic Wholesale'!H29","v":669443},0.95,635970.85,null,{"$f":"'12. RTSR-Historic Wholesale'!L29","v":724061},2.34,1694302.74,null,2330273.59]
[null,"December",null,{"$f":"'12. RTSR-Historic Wholesale'!D30","v":711624},3.61,2568962.64,null,{"$f":"'12. RTSR-Historic Wholesale'!H30","v":704315},0.95,669099.25,null,{"$f":"'12. RTSR-Historic Wholesale'!L30","v":761653},2.34,1782268.0199999998,null,2451367.2699999996]
[]
[null,"Total",null,{"$f":"SUM(D20:D31)","v":8892591},{"$f":"IF(D33<>0,F33/D33,0)","v":3.6100000000000003},{"$f":"SUM(F20:F31)","v":32102253.510000002},null,{"$f":"SUM(H20:H31)","v":8742932},{"$f":"IF(H33<>0,J33/H33,0)","v":0.94999999999999984},{"$f":"SUM(J20:J31)","v":8305785.3999999985},null,{"$f":"SUM(L20:L31)","v":9451778},{"$f":"IF(L33<>0,N33/L33,0)","v":2.3399999999999994},{"$f":"SUM(N20:N31)","v":22117160.519999996},null,{"$f":"SUM(P20:P31)","v":30422945.919999998}]
[]
[null,"Hydro One",null,"Network",null,null,null,"Line Connection",null,null,null,"Transformation Connection",null,null,null,"Total Line"]
[]
[null,"Month",null,"Units Billed","Rate","Amount",null,"Units Billed","Rate","Amount",null,"Units Billed","Rate","Amount",null,"Amount"]
[]
[null,"January",null,{"$f":"'12. RTSR-Historic Wholesale'!D38","v":59053.59},{"$f":"'11. RTSR-UTRs & Sub-Tx'!G29","v":3.1941999999999999},{"$f":"D39*E39","v":188628.97717799997},null,{"$f":"'12. RTSR-Historic Wholesale'!H38","v":61101.740000000005},{"$f":"'11. RTSR-UTRs & Sub-Tx'!G31","v":0.77100000000000002},{"$f":"H39*I39","v":47109.441540000007},null,{"$f":"'12. RTSR-Historic Wholesale'!L38","v":61101.740000000005},{"$f":"'11. RTSR-UTRs & Sub-Tx'!G33","v":1.7493000000000001},{"$f":"L39*M39","v":106885.27378200002},null,{"$f":"J39+N39","v":153994.71532200003}]
[null,"February",null,{"$f":"'12. RTSR-Historic Wholesale'!D39","v":57869.68},{"$f":"E39","v":3.1941999999999999},{"$f":"D40*E40","v":184847.331856},null,{"$f":"'12. RTSR-Historic Wholesale'!H39","v":58718.36},{"$f":"I39","v":0.77100000000000002},{"$f":"H40*I40","v":45271.855560000004},null,{"$f":"'12. RTSR-Historic Wholesale'!L39","v":58718.36},{"$f":"M39","v":1.7493000000000001},{"$f":"L40*M40","v":102716.02714800001},null,147987.88270800002]
[null,"March",null,{"$f":"'12. RTSR-Historic Wholesale'!D40","v":71962.040000000008},{"$f":"E40","v":3.1941999999999999},229861.14816800001,null,{"$f":"'12. RTSR-Historic Wholesale'!H40","v":74593.079999999987},{"$f":"I40","v":0.77100000000000002},57511.264679999993,null,{"$f":"'12. RTSR-Historic Wholesale'!L40","v":74593.079999999987},{"$f":"M40","v":1.7493000000000001},130485.67484399998,null,187996.93952399999]
[null,"April",null,{"$f":"'12. RTSR-Historic Wholesale'!D41","v":52961.8},3.1941999999999999,169170.58155999999,null,{"$f":"'12. RTSR-Historic Wholesale'!H41","v":54794.479999999996},0.77100000000000002,42246.54408,null,{"$f":"'12. RTSR-Historic Wholesale'!L41","v":54794.479999999996},{"$f":"M41","v":1.7493000000000001},95851.983863999994,null,138098.527944]
[null,"May",null,{"$f":"'12. RTSR-Historic Wholesale'!D42","v":59749.03},3.1941999999999999,190850.35162599999,null,{"$f":"'12. RTSR-Historic Wholesale'!H42","v":61496.35},0.77100000000000002,47413.685850000002,null,{"$f":"'12. RTSR-Historic Wholesale'!L42","v":61496.35},1.7493000000000001,107575.565055,null,154989.25090499999]
[null,"June",null,{"$f":"'12. RTSR-Historic Wholesale'!D43","v":75966.429999999993},3.1941999999999999,242651.97070599996,null,{"$f":"'12. RTSR-Historic Wholesale'!H43","v":77424.87},0.77100000000000002,59694.574769999999,null,{"$f":"'12. RTSR-Historic Wholesale'!L43","v":77424.87},1.7493000000000001,135439.32509100001,null,195133.89986100001]
[null,"July",null,{"$f":"'12. RTSR-Historic Wholesale'!D44","v":77140.86},3.1941999999999999,246403.335012,null,{"$f":"'12. RTSR-Historic Wholesale'!H44","v":77914.28},0.77100000000000002,60071.909879999999,null,{"$f":"'12. RTSR-Historic Wholesale'!L44","v":77914.28},1.7493000000000001,136295.45000400001,null,196367.359884]
[null,"August",null,{"$f":"'12. RTSR-Historic Wholesale'!D45","v":76718.51999999999},3.1941999999999999,245054.29658399997,null,{"$f":"'12. RTSR-Historic Wholesale'!H45","v":77740.34},0.77100000000000002,59937.80214,null,{"$f":"'12. RTSR-Historic Wholesale'!L45","v":77740.34},1.7493000000000001,135991.17676199999,null,195928.978902]
[null,"September",null,{"$f":"'12. RTSR-Historic Wholesale'!D46","v":81290.59},3.1941999999999999,259658.40257799998,null,{"$f":"'12. RTSR-Historic Wholesale'!H46","v":82774.600000000006},0.77100000000000002,63819.216600000007,null,{"$f":"'12. RTSR-Historic Wholesale'!L46","v":82774.600000000006},1.7493000000000001,144797.60778000002,null,208616.82438000003]
[null,"October",null,{"$f":"'12. RTSR-Historic Wholesale'!D47","v":56696.36},3.1941999999999999,181099.51311199999,null,{"$f":"'12. RTSR-Historic Wholesale'!H47","v":58444.42},0.77100000000000002,45060.647819999998,null,{"$f":"'12. RTSR-Historic Wholesale'!L47","v":58444.42},1.7493000000000001,102236.82390600001,null,147297.47172600002]
[null,"November",null,{"$f":"'12. RTSR-Historic Wholesale'!D48","v":55884.229999999996},3.1941999999999999,178505.40746599998,null,{"$f":"'12. RTSR-Historic Wholesale'!H48","v":56811.259999999995},0.77100000000000002,43801.481459999995,null,{"$f":"'12. RTSR-Historic Wholesale'!L48","v":56811.259999999995},1.7493000000000001,99379.937118000002,null,143181.41857799998]
[null,"December",null,{"$f":"'12. RTSR-Historic Wholesale'!D49","v":60159.209999999992},3.1941999999999999,192160.54858199996,null,{"$f":"'12. RTSR-Historic Wholesale'!H49","v":60501.819999999992},0.77100000000000002,46646.903219999993,null,{"$f":"'12. RTSR-Historic Wholesale'!L49","v":60501.819999999992},1.7493000000000001,105835.833726,null,152482.73694599999]
[]
[null,"Total",null,{"$f":"SUM(D39:D50)","v":785452.33999999985},{"$f":"IF(D52<>0,F52/D52,0)","v":3.1941999999999999},{"$f":"SUM(F39:F50)","v":2508891.8644279996},null,{"$f":"SUM(H39:H50)","v":802315.59999999986},{"$f":"IF(H52<>0,J52/H52,0)","v":0.77100000000000013},{"$f":"SUM(J39:J50)","v":618585.32759999996},null,{"$f":"SUM(L39:L50)","v":802315.59999999986},{"$f":"IF(L52<>0,N52/L52,0)","v":1.7493000000000005},{"$f":"SUM(N39:N50)","v":1403490.6790800001},null,{"$f":"SUM(P39:P50)","v":2022076.0066800003}]
[]
[null,"Add Extra Host Here (I)",null,"Network",null,null,null,"Line Connection",null,null,null,"Transformation Connection",null,null,null,"Total Line"]
[]
[null,"Month",null,"Units Billed","Rate","Amount",null,"Units Billed","Rate","Amount",null,"Units Billed","Rate","Amount",null,"Amount"]
[]
[null,"January",null,{"$f":"'12. RTSR-Historic Wholesale'!D57","v":0},{"$f":"'11. RTSR-UTRs & Sub-Tx'!G44","v":0},{"$f":"D58*E58","v":0},null,{"$f":"'12. RTSR-Historic Wholesale'!H57","v":0},{"$f":"'11. RTSR-UTRs & Sub-Tx'!G46","v":0},{"$f":"H58*I58","v":0},null,{"$f":"'12. RTSR-Historic Wholesale'!L57","v":0},{"$f":"'11. RTSR-UTRs & Sub-Tx'!G48","v":0},{"$f":"L58*M58","v":0},null,{"$f":"J58+N58","v":0}]
[null,"February",null,{"$f":"'12. RTSR-Historic Wholesale'!D58","v":0},{"$f":"E58","v":0},{"$f":"D59*E59","v":0},null,{"$f":"'12. RTSR-Historic Wholesale'!H58","v":0},{"$f":"I58","v":0},{"$f":"H59*I59","v":0},null,{"$f":"'12. RTSR-Historic Wholesale'!L58","v":0},{"$f":"M58","v":0},{"$f":"L59*M59","v":0},null,0]
[null,"March",null,{"$f":"'12. RTSR-Historic Wholesale'!D59","v":0},{"$f":"E59","v":0},0,null,{"$f":"'12. RTSR-Historic Wholesale'!H59","v":0},{"$f":"I59","v":0},0,null,{"$f":"'12. RTSR-Historic Wholesale'!L59","v":0},{"$f":"M59","v":0},0,null,0]
[null,"April",null,{"$f":"'12. RTSR-Historic Wholesale'!D60","v":0},0,0,null,{"$f":"'12. RTSR-Historic Wholesale'!H60","v":0},0,0,null,{"$f":"'12. RTSR-Historic Wholesale'!L60","v":0},0,0,null,0]
[null,"May",null,{"$f":"'12. RTSR-Historic Wholesale'!D61","v":0},0,0,null,{"$f":"'12. RTSR-Historic Wholesale'!H61","v":0},0,0,null,{"$f":"'12. RTSR-Historic Wholesale'!L61","v":0},0,0,null,0]
[null,"June",null,{"$f":"'12. RTSR-Historic Wholesale'!D62","v":0},0,0,null,{"$f":"'12. RTSR-Historic Wholesale'!H62","v":0},0,0,null,{"$f":"'12. RTSR-Historic Wholesale'!L62","v":0},0,0,null,0]
[null,"July",null,{"$f":"'12. RTSR-Historic Wholesale'!D63","v":0},0,0,null,{"$f":"'12. RTSR-Historic Wholesale'!H63","v":0},0,0,null,{"$f":"'12. RTSR-Historic Wholesale'!L63","v":0},0,0,null,0]
[null,"August",null,{"$f":"'12. RTSR-Historic Wholesale'!D64","v":0},0,0,null,{"$f":"'12. RTSR-Historic Wholesale'!H64","v":0},0,0,null,{"$f":"'12. RTSR-Historic Wholesale'!L64","v":0},0,0,null,0]
[null,"September",null,{"$f":"'12. RTSR-Historic Wholesale'!D65","v":0},0,0,null,{"$f":"'12. RTSR-Historic Wholesale'!H65","v":0},0,0,null,{"$f":"'12. RTSR-Historic Wholesale'!L65","v":0},0,0,null,0]
[null,"October",null,{"$f":"'12. RTSR-Historic Wholesale'!D66","v":0},0,0,null,{"$f":"'12. RTSR-Historic Wholesale'!H66","v":0},0,0,null,{"$f":"'12. RTSR-Historic Wholesale'!L66","v":0},0,0,null,0]
[null,"November",null,{"$f":"'12. RTSR-Historic Wholesale'!D67","v":0},0,0,null,{"$f":"'12. RTSR-Historic Wholesale'!H67","v":0},0,0,null,{"$f":"'12. RTSR-Historic Wholesale'!L67","v":0},0,0,null,0]
[null,"December",null,{"$f":"'12. RTSR-Historic Wholesale'!D68","v":0},0,0,null,{"$f":"'12. RTSR-Historic Wholesale'!H68","v":0},0,0,null,{"$f":"'12. RTSR-Historic Wholesale'!L68","v":0},0,0,null,0]
[]
[null,"Total",null,{"$f":"SUM(D58:D69)","v":0},{"$f":"IF(D71<>0,F71/D71,0)","v":0},{"$f":"SUM(F58:F69)","v":0},null,{"$f":"SUM(H58:H69)","v":0},{"$f":"IF(H71<>0,J71/H71,0)","v":0},{"$f":"SUM(J58:J69)","v":0},null,{"$f":"SUM(L58:L69)","v":0},{"$f":"IF(L71<>0,N71/L71,0)","v":0},{"$f":"SUM(N58:N69)","v":0},null,{"$f":"SUM(P58:P69)","v":0}]
[]
[null,"Add Extra Host Here (II)",null,"Network",null,null,null,"Line Connection",null,null,null,"Transformation Connection",null,null,null,"Total Line"]
[]
[null,"Month",null,"Units Billed","Rate","Amount",null,"Units Billed","Rate","Amount",null,"Units Billed","Rate","Amount",null,"Amount"]
[]
[null,"January",null,{"$f":"'12. RTSR-Historic Wholesale'!D76","v":0},{"$f":"'11. RTSR-UTRs & Sub-Tx'!G59","v":0},{"$f":"D77*E77","v":0},null,{"$f":"'12. RTSR-Historic Wholesale'!H76","v":0},{"$f":"'11. RTSR-UTRs & Sub-Tx'!G61","v":0},{"$f":"H77*I77","v":0},null,{"$f":"'12. RTSR-Historic Wholesale'!L76","v":0},{"$f":"'11. RTSR-UTRs & Sub-Tx'!G63","v":0},{"$f":"L77*M77","v":0},null,{"$f":"J77+N77","v":0}]
[null,"February",null,{"$f":"'12. RTSR-Historic Wholesale'!D77","v":0},{"$f":"E77","v":0},{"$f":"D78*E78","v":0},null,{"$f":"'12. RTSR-Historic Wholesale'!H77","v":0},{"$f":"I77","v":0},{"$f":"H78*I78","v":0},null,{"$f":"'12. RTSR-Historic Wholesale'!L77","v":0},{"$f":"M77","v":0},{"$f":"L78*M78","v":0},null,0]
[null,"March",null,{"$f":"'12. RTSR-Historic Wholesale'!D78","v":0},{"$f":"E78","v":0},0,null,{"$f":"'12. RTSR-Historic Wholesale'!H78","v":0},{"$f":"I78","v":0},0,null,{"$f":"'12. RTSR-Historic Wholesale'!L78","v":0},{"$f":"M78","v":0},0,null,0]
[null,"April",null,{"$f":"'12. RTSR-Historic Wholesale'!D79","v":0},0,0,null,{"$f":"'12. RTSR-Historic Wholesale'!H79","v":0},0,0,null,{"$f":"'12. RTSR-Historic Wholesale'!L79","v":0},{"$f":"M79","v":0},0,null,0]
[null,"May",null,{"$f":"'12. RTSR-Historic Wholesale'!D80","v":0},0,0,null,{"$f":"'12. RTSR-Historic Wholesale'!H80","v":0},0,0,null,{"$f":"'12. RTSR-Historic Wholesale'!L80","v":0},0,0,null,0]
[null,"June",null,{"$f":"'12. RTSR-Historic Wholesale'!D81","v":0},0,0,null,{"$f":"'12. RTSR-Historic Wholesale'!H81","v":0},0,0,null,{"$f":"'12. RTSR-Historic Wholesale'!L81","v":0},0,0,null,0]
[null,"July",null,{"$f":"'12. RTSR-Historic Wholesale'!D82","v":0},0,0,null,{"$f":"'12. RTSR-Historic Wholesale'!H82","v":0},0,0,null,{"$f":"'12. RTSR-Historic Wholesale'!L82","v":0},0,0,null,0]
[null,"August",null,{"$f":"'12. RTSR-Historic Wholesale'!D83","v":0},0,0,null,{"$f":"'12. RTSR-Historic Wholesale'!H83","v":0},0,0,null,{"$f":"'12. RTSR-Historic Wholesale'!L83","v":0},0,0,null,0]
[null,"September",null,{"$f":"'12. RTSR-Historic Wholesale'!D84","v":0},0,0,null,{"$f":"'12. RTSR-Historic Wholesale'!H84","v":0},0,0,null,{"$f":"'12. RTSR-Historic Wholesale'!L84","v":0},0,0,null,0]
[null,"October",null,{"$f":"'12. RTSR-Historic Wholesale'!D85","v":0},0,0,null,{"$f":"'12. RTSR-Historic Wholesale'!H85","v":0},0,0,null,{"$f":"'12. RTSR-Historic Wholesale'!L85","v":0},0,0,null,0]
[null,"November",null,{"$f":"'12. RTSR-Historic Wholesale'!D86","v":0},0,0,null,{"$f":"'12. RTSR-Historic Wholesale'!H86","v":0},0,0,null,{"$f":"'12. RTSR-Historic Wholesale'!L86","v":0},0,0,null,0]
[null,"December",null,{"$f":"'12. RTSR-Historic Wholesale'!D87","v":0},0,0,null,{"$f":"'12. RTSR-Historic Wholesale'!H87","v":0},0,0,null,{"$f":"'12. RTSR-Historic Wholesale'!L87","v":0},0,0,null,0]
[]
[null,"Total",null,{"$f":"SUM(D77:D88)","v":0},{"$f":"IF(D90<>0,F90/D90,0)","v":0},{"$f":"SUM(F77:F88)","v":0},null,{"$f":"SUM(H77:H88)","v":0},{"$f":"IF(H90<>0,J90/H90,0)","v":0},{"$f":"SUM(J77:J88)","v":0},null,{"$f":"SUM(L77:L88)","v":0},{"$f":"IF(L90<>0,N90/L90,0)","v":0},{"$f":"SUM(N77:N88)","v":0},null,{"$f":"SUM(P77:P88)","v":0}]
[]
[null,"Total",null,"Network",null,null,null,"Line Connection",null,null,null,"Transformation Connection",null,null,null,"Total Line"]
[]
[null,"Month",null,"Units Billed","Rate","Amount",null,"Units Billed","Rate","Amount",null,"Units Billed","Rate","Amount",null,"Amount"]
[]
[null,"January",null,{"$f":"D20+D39+D58+D77","v":785374.59},{"$f":"IF(D96<>0,F96/D96,0)","v":3.578735323201633},{"$f":"F20+F39+F58+F77","v":2810647.787178},null,{"$f":"H20+H39+H58+H77","v":781603.74},{"$f":"IF(H96<>0,J96/H96,0)","v":0.9360067053159189},{"$f":"J20+J39+J58+J77","v":731586.34154000005},null,{"$f":"L20+L39+L58+L77","v":837775.74},{"$f":"IF(L96<>0,N96/L96,0)","v":2.2969183063023522},{"$f":"N20+N39+N58+N77","v":1924302.4337819999},null,{"$f":"J96+N96","v":2655888.775322}]
[null,"February",null,{"$f":"D21+D40+D59+D78","v":750659.68},3.5779452439166568,{"$f":"F21+F40+F59+F78","v":2685819.2318559997},null,{"$f":"H21+H40+H59+H78","v":738394.36},0.93576561928235746,{"$f":"J21+J40+J59+J78","v":690964.05556000001},null,{"$f":"L21+L40+L59+L78","v":801810.36},2.2967417222546236,{"$f":"N21+N40+N59+N78","v":1841551.3071479998},null,2532515.3627079995]
[null,"March",null,759858.04,3.5706218337414706,2713165.708168,null,742329.08,0.93201315066358448,691860.46467999998,null,805048.08,2.2852677008359552,1839750.374844,null,2531610.839524]
[null,"April",null,683409.8,3.5777769964083035,2445087.8615599996,null,673282.48,0.93543224840783024,629810.14408,null,725306.48,2.295374589599696,1664850.0638639999,null,2294660.2079440001]
[null,"May",null,766303.03,3.5775798663173752,2741510.2916259998,null,738027.35,0.93508477138414992,690118.13584999996,null,799030.35,2.294537529212751,1833405.1250549997,null,2523523.2609049994]
[null,"June",null,902870.42999999993,3.5750150890488244,3227775.4107059999,null,902324.87,0.93464072953015243,843349.57476999995,null,964453.87,2.292579514550551,2211087.1850910001,null,3054436.7598609999]
[null,"July",null,912556.86,3.5748513194147704,3262255.0950119998,null,914958.28,0.93475705786279129,855263.70987999998,null,977242.28,2.2929042427472544,2240722.9700040002,null,3095986.6798840002]
[null,"August",null,940828.52,3.576094181949331,3364491.396584,null,905774.34,0.93463687891622105,846570.10213999997,null,967692.34,2.2925456418948196,2218478.8567619999,null,3065048.958902]
[null,"September",null,941072.59,3.574082869184406,3363471.422578,null,945657.6,0.93433190469785266,883558.06660000002,null,1009219.6,2.2915517175647402,2312678.90778,null,3196236.97438]
[null,"October",null,724181.36,3.5774469024057733,2590720.3631120003,null,711824.42,0.93530318588957639,665771.64781999995,null,763487.42,2.2947823343389206,1752037.4439059999,null,2417809.091726]
[null,"November",null,739145.23,3.5785627913285727,2645077.6174659999,null,726254.26,0.93599771994452741,679772.33146000002,null,780872.26,2.2970244545734024,1793682.6771180001,null,2473455.0085780001]
[null,"December",null,771783.21,3.5775890856475105,2761123.1885820003,null,764816.82,0.93583997436144251,715746.15321999998,null,822154.82,2.2965307844646583,1888103.8537259998,null,2603850.0069459998]
[]
[null,"Total",null,{"$f":"SUM(D96:D107)","v":9678043.3399999999},{"$f":"IF(D109<>0,F109/D109,0)","v":3.57625443062213},{"$f":"SUM(F96:F107)","v":34611145.374427997},null,{"$f":"SUM(H96:H107)","v":9545247.5999999996},{"$f":"IF(H109<>0,J109/H109,0)","v":0.93495434603498406},{"$f":"SUM(J96:J107)","v":8924370.7276000008},null,{"$f":"SUM(L96:L107)","v":10254093.6},{"$f":"IF(L109<>0,N109/L109,0)","v":2.2937815975348612},{"$f":"SUM(N96:N107)","v":23520651.199079994},null,{"$f":"SUM(P96:P107)","v":32445021.926680002}]
[]
[null,null,null,null,null,null,null,null,null,null,null,null,null,"Low Voltage Switchgear Credit (if applicable)",null,{"$f":"'11. RTSR-UTRs & Sub-Tx'!G68","v":0}]
[]
[null,null,null,null,null,null,null,null,null,null,null,null,null,"Total including deduction for Low Voltage Switchgear Credit",null,{"$f":"P109+P111","v":32445021.926680002}]

{"sheet":"14. RTSR-Forecast Wholesale","index":4,"n_rows":113,"n_cols":16,"rows_kept":113,"cut":false,"hidden":false,"merged":[[16,3,16,5],[16,7,16,9],[16,11,16,13],[1,1,8,9],[12,1,12,12],[15,3,15,5],[15,7,15,9],[15,11,15,13],[34,3,34,5],[34,7,34,9],[34,11,34,13],[53,3,53,5],[53,7,53,9],[53,11,53,13],[92,3,92,5],[92,7,92,9],[92,11,92,13],[72,3,72,5],[72,7,72,9],[72,11,72,13],[91,3,91,5],[91,7,91,9],[91,11,91,13]]}
["Back to Index"]
[null,"INCENTIVE REGULATION MODEL FOR 2018 FILERS"]
[]
[]
[]
[]
[]
[]
[]
[]
[]
[]
[null,"The purpose of this sheet is to calculate the expected billing when forecasted 2018 Uniform Transmission Rates are applied against historical 2016 transmission units."]
[]
[]
[null,"IESO",null,"Network",null,null,null,"Line Connection",null,null,null,"Transformation Connection",null,null,null,"Total Line"]
[]
[null,"Month",null,"Units Billed","Rate",558828431.00972259,null,"Units Billed","Rate","Amount",null,"Units Billed","Rate","Amount",null,"Amount"]
[]
[null,"January",null,{"$f":"'12. RTSR-Historic Wholesale'!D19","v":726321},{"$f":"'11. RTSR-UTRs & Sub-Tx'!I16","v":3.61},{"$f":"+E20*D20","v":2622018.81},null,{"$f":"'12. RTSR-Historic Wholesale'!H19","v":720502},{"$f":"'11. RTSR-UTRs & Sub-Tx'!I18","v":0.95},{"$f":"H20*I20","v":684476.9},null,{"$f":"'12. RTSR-Historic Wholesale'!L19","v":776674},{"$f":"'11. RTSR-UTRs & Sub-Tx'!I20","v":2.34},{"$f":"L20*M20","v":1817417.16},null,{"$f":"J20+N20","v":2501894.06}]
[null,"February",null,{"$f":"'12. RTSR-Historic Wholesale'!D20","v":692790},{"$f":"E20","v":3.61},{"$f":"+E21*D21","v":2500971.9},null,{"$f":"'12. RTSR-Historic Wholesale'!H20","v":679676},{"$f":"I20","v":0.95},645692.19999999995,null,{"$f":"'12. RTSR-Historic Wholesale'!L20","v":743092},{"$f":"M20","v":2.34},1738835.2799999998,null,2384527.4799999995]
[null,"March",null,{"$f":"'12. RTSR-Historic Wholesale'!D21","v":687896},3.61,2483304.56,null,{"$f":"'12. RTSR-Historic Wholesale'!H21","v":667736},0.95,634349.19999999995,null,{"$f":"'12. RTSR-Historic Wholesale'!L21","v":730455},2.34,1709264.7,null,2343613.9]
[null,"April",null,{"$f":"'12. RTSR-Historic Wholesale'!D22","v":630448},3.61,2275917.2799999998,null,{"$f":"'12. RTSR-Historic Wholesale'!H22","v":618488},0.95,587563.6,null,{"$f":"'12. RTSR-Historic Wholesale'!L22","v":670512},2.34,1568998.0799999998,null,2156561.6799999997]
[null,"May",null,{"$f":"'12. RTSR-Historic Wholesale'!D23","v":706554},3.61,2550659.94,null,{"$f":"'12. RTSR-Historic Wholesale'!H23","v":676531},0.95,642704.44999999995,null,{"$f":"'12. RTSR-Historic Wholesale'!L23","v":737534},2.34,1725829.5599999998,null,2368534.0099999998]
[null,"June",null,{"$f":"'12. RTSR-Historic Wholesale'!D24","v":826904},3.61,2985123.44,null,{"$f":"'12. RTSR-Historic Wholesale'!H24","v":824900},0.95,783655,null,{"$f":"'12. RTSR-Historic Wholesale'!L24","v":887029},2.34,2075647.8599999999,null,2859302.86]
[null,"July",null,{"$f":"'12. RTSR-Historic Wholesale'!D25","v":835416},3.61,3015851.76,null,{"$f":"'12. RTSR-Historic Wholesale'!H25","v":837044},0.95,795191.79999999993,null,{"$f":"'12. RTSR-Historic Wholesale'!L25","v":899328},2.34,2104427.52,null,2899619.32]
[null,"August",null,{"$f":"'12. RTSR-Historic Wholesale'!D26","v":864110},3.61,3119437.1,null,{"$f":"'12. RTSR-Historic Wholesale'!H26","v":828034},0.95,786632.29999999993,null,{"$f":"'12. RTSR-Historic Wholesale'!L26","v":889952},2.34,2082487.68,null,2869119.98]
[null,"September",null,{"$f":"'12. RTSR-Historic Wholesale'!D27","v":859782},3.61,3103813.02,null,{"$f":"'12. RTSR-Historic Wholesale'!H27","v":862883},0.95,819738.85,null,{"$f":"'12. RTSR-Historic Wholesale'!L27","v":926445},2.34,2167881.2999999998,null,2987620.15]
[null,"October",null,{"$f":"'12. RTSR-Historic Wholesale'!D28","v":667485},3.61,2409620.85,null,{"$f":"'12. RTSR-Historic Wholesale'!H28","v":653380},0.95,620711,null,{"$f":"'12. RTSR-Historic Wholesale'!L28","v":705043},2.34,1649800.6199999999,null,2270511.62]
[null,"November",null,{"$f":"'12. RTSR-Historic Wholesale'!D29","v":683261},3.61,2466572.21,null,{"$f":"'12. RTSR-Historic Wholesale'!H29","v":669443},0.95,635970.85,null,{"$f":"'12. RTSR-Historic Wholesale'!L29","v":724061},2.34,1694302.74,null,2330273.59]
[null,"December",null,{"$f":"'12. RTSR-Historic Wholesale'!D30","v":711624},3.61,2568962.64,null,{"$f":"'12. RTSR-Historic Wholesale'!H30","v":704315},0.95,669099.25,null,{"$f":"'12. RTSR-Historic Wholesale'!L30","v":761653},2.34,1782268.0199999998,null,2451367.2699999996]
[]
[null,"Total",null,{"$f":"SUM(D20:D31)","v":8892591},{"$f":"IF(D33<>0,F33/D33,0)","v":3.6100000000000003},{"$f":"SUM(F20:F31)","v":32102253.510000002},null,{"$f":"SUM(H20:H31)","v":8742932},{"$f":"IF(H33<>0,J33/H33,0)","v":0.94999999999999984},{"$f":"SUM(J20:J31)","v":8305785.3999999985},null,{"$f":"SUM(L20:L31)","v":9451778},{"$f":"IF(L33<>0,N33/L33,0)","v":2.3399999999999994},{"$f":"SUM(N20:N31)","v":22117160.519999996},null,{"$f":"SUM(P20:P31)","v":30422945.919999998}]
[]
[null,"Hydro One",null,"Network",null,null,null,"Line Connection",null,null,null,"Transformation Connection",null,null,null,"Total Line"]
[]
[null,"Month",null,"Units Billed","Rate","Amount",null,"Units Billed","Rate","Amount",null,"Units Billed","Rate","Amount",null,"Amount"]
[]
[null,"January",null,{"$f":"'12. RTSR-Historic Wholesale'!D38","v":59053.59},{"$f":"'11. RTSR-UTRs & Sub-Tx'!I29","v":3.1941999999999999},{"$f":"D39*E39","v":188628.97717799997},null,{"$f":"'12. RTSR-Historic Wholesale'!H38","v":61101.740000000005},{"$f":"'11. RTSR-UTRs & Sub-Tx'!I31","v":0.77100000000000002},{"$f":"H39*I39","v":47109.441540000007},null,{"$f":"'12. RTSR-Historic Wholesale'!L38","v":61101.740000000005},{"$f":"'11. RTSR-UTRs & Sub-Tx'!I33","v":1.7493000000000001},{"$f":"L39*M39","v":106885.27378200002},null,{"$f":"J39+N39","v":153994.71532200003}]
[null,"February",null,{"$f":"'12. RTSR-Historic Wholesale'!D39","v":57869.68},{"$f":"E39","v":3.1941999999999999},184847.331856,null,{"$f":"'12. RTSR-Historic Wholesale'!H39","v":58718.36},{"$f":"I39","v":0.77100000000000002},45271.855560000004,null,{"$f":"'12. RTSR-Historic Wholesale'!L39","v":58718.36},{"$f":"M39","v":1.7493000000000001},102716.02714800001,null,147987.88270800002]
[null,"March",null,{"$f":"'12. RTSR-Historic Wholesale'!D40","v":71962.040000000008},3.1941999999999999,229861.14816800001,null,{"$f":"'12. RTSR-Historic Wholesale'!H40","v":74593.079999999987},0.77100000000000002,57511.264679999993,null,{"$f":"'12. RTSR-Historic Wholesale'!L40","v":74593.079999999987},1.7493000000000001,130485.67484399998,null,187996.93952399999]
[null,"April",null,{"$f":"'12. RTSR-Historic Wholesale'!D41","v":52961.8},3.1941999999999999,169170.58155999999,null,{"$f":"'12. RTSR-Historic Wholesale'!H41","v":54794.479999999996},0.77100000000000002,42246.54408,null,{"$f":"'12. RTSR-Historic Wholesale'!L41","v":54794.479999999996},1.7493000000000001,95851.983863999994,null,138098.527944]
[null,"May",null,{"$f":"'12. RTSR-Historic Wholesale'!D42","v":59749.03},3.1941999999999999,190850.35162599999,null,{"$f":"'12. RTSR-Historic Wholesale'!H42","v":61496.35},0.77100000000000002,47413.685850000002,null,{"$f":"'12. RTSR-Historic Wholesale'!L42","v":61496.35},1.7493000000000001,107575.565055,null,154989.25090499999]
[null,"June",null,{"$f":"'12. RTSR-Historic Wholesale'!D43","v":75966.429999999993},3.1941999999999999,242651.97070599996,null,{"$f":"'12. RTSR-Historic Wholesale'!H43","v":77424.87},0.77100000000000002,59694.574769999999,null,{"$f":"'12. RTSR-Historic Wholesale'!L43","v":77424.87},1.7493000000000001,135439.32509100001,null,195133.89986100001]
[null,"July",null,{"$f":"'12. RTSR-Historic Wholesale'!D44","v":77140.86},3.1941999999999999,246403.335012,null,{"$f":"'12. RTSR-Historic Wholesale'!H44","v":77914.28},0.77100000000000002,60071.909879999999,null,{"$f":"'12. RTSR-Historic Wholesale'!L44","v":77914.28},1.7493000000000001,136295.45000400001,null,196367.359884]
[null,"August",null,{"$f":"'12. RTSR-Historic Wholesale'!D45","v":76718.51999999999},3.1941999999999999,245054.29658399997,null,{"$f":"'12. RTSR-Historic Wholesale'!H45","v":77740.34},0.77100000000000002,59937.80214,null,{"$f":"'12. RTSR-Historic Wholesale'!L45","v":77740.34},1.7493000000000001,135991.17676199999,null,195928.978902]
[null,"September",null,{"$f":"'12. RTSR-Historic Wholesale'!D46","v":81290.59},3.1941999999999999,259658.40257799998,null,{"$f":"'12. RTSR-Historic Wholesale'!H46","v":82774.600000000006},0.77100000000000002,63819.216600000007,null,{"$f":"'12. RTSR-Historic Wholesale'!L46","v":82774.600000000006},1.7493000000000001,144797.60778000002,null,208616.82438000003]
[null,"October",null,{"$f":"'12. RTSR-Historic Wholesale'!D47","v":56696.36},3.1941999999999999,181099.51311199999,null,{"$f":"'12. RTSR-Historic Wholesale'!H47","v":58444.42},0.77100000000000002,45060.647819999998,null,{"$f":"'12. RTSR-Historic Wholesale'!L47","v":58444.42},1.7493000000000001,102236.82390600001,null,147297.47172600002]
[null,"November",null,{"$f":"'12. RTSR-Historic Wholesale'!D48","v":55884.229999999996},3.1941999999999999,178505.40746599998,null,{"$f":"'12. RTSR-Historic Wholesale'!H48","v":56811.259999999995},0.77100000000000002,43801.481459999995,null,{"$f":"'12. RTSR-Historic Wholesale'!L48","v":56811.259999999995},1.7493000000000001,99379.937118000002,null,143181.41857799998]
[null,"December",null,{"$f":"'12. RTSR-Historic Wholesale'!D49","v":60159.209999999992},3.1941999999999999,192160.54858199996,null,{"$f":"'12. RTSR-Historic Wholesale'!H49","v":60501.819999999992},0.77100000000000002,46646.903219999993,null,{"$f":"'12. RTSR-Historic Wholesale'!L49","v":60501.819999999992},1.7493000000000001,105835.833726,null,152482.73694599999]
[]
[null,"Total",null,{"$f":"SUM(D39:D50)","v":785452.33999999985},{"$f":"IF(D52<>0,F52/D52,0)","v":3.1941999999999999},{"$f":"SUM(F39:F50)","v":2508891.8644279996},null,{"$f":"SUM(H39:H50)","v":802315.59999999986},{"$f":"IF(H52<>0,J52/H52,0)","v":0.77100000000000013},{"$f":"SUM(J39:J50)","v":618585.32759999996},null,{"$f":"SUM(L39:L50)","v":802315.59999999986},{"$f":"IF(L52<>0,N52/L52,0)","v":1.7493000000000005},{"$f":"SUM(N39:N50)","v":1403490.6790800001},null,{"$f":"SUM(P39:P50)","v":2022076.0066800003}]
[]
[null,"Add Extra Host Here (I)",null,"Network",null,null,null,"Line Connection",null,null,null,"Transformation Connection",null,null,null,"Total Line"]
[]
[null,"Month",null,"Units Billed","Rate","Amount",null,"Units Billed","Rate","Amount",null,"Units Billed","Rate","Amount",null,"Amount"]
[]
[null,"January",null,{"$f":"'12. RTSR-Historic Wholesale'!D57","v":0},{"$f":"'11. RTSR-UTRs & Sub-Tx'!I44","v":0},{"$f":"D58*E58","v":0},null,{"$f":"'12. RTSR-Historic Wholesale'!H57","v":0},{"$f":"'11. RTSR-UTRs & Sub-Tx'!I46","v":0},{"$f":"H58*I58","v":0},null,{"$f":"'12. RTSR-Historic Wholesale'!L57","v":0},{"$f":"'11. RTSR-UTRs & Sub-Tx'!I48","v":0},{"$f":"L58*M58","v":0},null,{"$f":"J58+N58","v":0}]
[null,"February",null,{"$f":"'12. RTSR-Historic Wholesale'!D58","v":0},{"$f":"E58","v":0},0,null,{"$f":"'12. RTSR-Historic Wholesale'!H58","v":0},{"$f":"I58","v":0},0,null,{"$f":"'12. RTSR-Historic Wholesale'!L58","v":0},{"$f":"M58","v":0},0,null,0]
[null,"March",null,{"$f":"'12. RTSR-Historic Wholesale'!D59","v":0},0,0,null,{"$f":"'12. RTSR-Historic Wholesale'!H59","v":0},0,0,null,{"$f":"'12. RTSR-Historic Wholesale'!L59","v":0},0,0,null,0]
[null,"April",null,{"$f":"'12. RTSR-Historic Wholesale'!D60","v":0},0,0,null,{"$f":"'12. RTSR-Historic Wholesale'!H60","v":0},0,0,null,{"$f":"'12. RTSR-Historic Wholesale'!L60","v":0},0,0,null,0]
[null,"May",null,{"$f":"'12. RTSR-Historic Wholesale'!D61","v":0},0,0,null,{"$f":"'12. RTSR-Historic Wholesale'!H61","v":0},0,0,null,{"$f":"'12. RTSR-Historic Wholesale'!L61","v":0},0,0,null,0]
[null,"June",null,{"$f":"'12. RTSR-Historic Wholesale'!D62","v":0},0,0,null,{"$f":"'12. RTSR-Historic Wholesale'!H62","v":0},0,0,null,{"$f":"'12. RTSR-Historic Wholesale'!L62","v":0},0,0,null,0]
[null,"July",null,{"$f":"'12. RTSR-Historic Wholesale'!D63","v":0},0,0,null,{"$f":"'12. RTSR-Historic Wholesale'!H63","v":0},0,0,null,{"$f":"'12. RTSR-Historic Wholesale'!L63","v":0},0,0,null,0]
[null,"August",null,{"$f":"'12. RTSR-Historic Wholesale'!D64","v":0},0,0,null,{"$f":"'12. RTSR-Historic Wholesale'!H64","v":0},0,0,null,{"$f":"'12. RTSR-Historic Wholesale'!L64","v":0},0,0,null,0]
[null,"September",null,{"$f":"'12. RTSR-Historic Wholesale'!D65","v":0},0,0,null,{"$f":"'12. RTSR-Historic Wholesale'!H65","v":0},0,0,null,{"$f":"'12. RTSR-Historic Wholesale'!L65","v":0},0,0,null,0]
[null,"October",null,{"$f":"'12. RTSR-Historic Wholesale'!D66","v":0},0,0,null,{"$f":"'12. RTSR-Historic Wholesale'!H66","v":0},0,0,null,{"$f":"'12. RTSR-Historic Wholesale'!L66","v":0},0,0,null,0]
[null,"November",null,{"$f":"'12. RTSR-Historic Wholesale'!D67","v":0},0,0,null,{"$f":"'12. RTSR-Historic Wholesale'!H67","v":0},0,0,null,{"$f":"'12. RTSR-Historic Wholesale'!L67","v":0},0,0,null,0]
[null,"December",null,{"$f":"'12. RTSR-Historic Wholesale'!D68","v":0},0,0,null,{"$f":"'12. RTSR-Historic Wholesale'!H68","v":0},0,0,null,{"$f":"'12. RTSR-Historic Wholesale'!L68","v":0},0,0,null,0]
[]
[null,"Total",null,{"$f":"SUM(D58:D69)","v":0},{"$f":"IF(D71<>0,F71/D71,0)","v":0},{"$f":"SUM(F58:F69)","v":0},null,{"$f":"SUM(H58:H69)","v":0},{"$f":"IF(H71<>0,J71/H71,0)","v":0},{"$f":"SUM(J58:J69)","v":0},null,{"$f":"SUM(L58:L69)","v":0},{"$f":"IF(L71<>0,N71/L71,0)","v":0},{"$f":"SUM(N58:N69)","v":0},null,{"$f":"SUM(P58:P69)","v":0}]
[]
[null,"Add Extra Host Here (II)",null,"Network",null,null,null,"Line Connection",null,null,null,"Transformation Connection",null,null,null,"Total Line"]
[]
[null,"Month",null,"Units Billed","Rate","Amount",null,"Units Billed","Rate","Amount",null,"Units Billed","Rate","Amount",null,"Amount"]
[]
[null,"January",null,{"$f":"'12. RTSR-Historic Wholesale'!D76","v":0},{"$f":"'11. RTSR-UTRs & Sub-Tx'!I59","v":0},{"$f":"D77*E77","v":0},null,{"$f":"'12. RTSR-Historic Wholesale'!H76","v":0},{"$f":"'11. RTSR-UTRs & Sub-Tx'!I61","v":0},{"$f":"H77*I77","v":0},null,{"$f":"'12. RTSR-Historic Wholesale'!L76","v":0},{"$f":"'11. RTSR-UTRs & Sub-Tx'!I63","v":0},{"$f":"L77*M77","v":0},null,{"$f":"J77+N77","v":0}]
[null,"February",null,{"$f":"'12. RTSR-Historic Wholesale'!D77","v":0},{"$f":"E77","v":0},0,null,{"$f":"'12. RTSR-Historic Wholesale'!H77","v":0},{"$f":"I77","v":0},0,null,{"$f":"'12. RTSR-Historic Wholesale'!L77","v":0},{"$f":"M77","v":0},0,null,0]
[null,"March",null,{"$f":"'12. RTSR-Historic Wholesale'!D78","v":0},0,0,null,{"$f":"'12. RTSR-Historic Wholesale'!H78","v":0},0,0,null,{"$f":"'12. RTSR-Historic Wholesale'!L78","v":0},0,0,null,0]
[null,"April",null,{"$f":"'12. RTSR-Historic Wholesale'!D79","v":0},0,0,null,{"$f":"'12. RTSR-Historic Wholesale'!H79","v":0},0,0,null,{"$f":"'12. RTSR-Historic Wholesale'!L79","v":0},0,0,null,0]
[null,"May",null,{"$f":"'12. RTSR-Historic Wholesale'!D80","v":0},0,0,null,{"$f":"'12. RTSR-Historic Wholesale'!H80","v":0},0,0,null,{"$f":"'12. RTSR-Historic Wholesale'!L80","v":0},0,0,null,0]
[null,"June",null,{"$f":"'12. RTSR-Historic Wholesale'!D81","v":0},0,0,null,{"$f":"'12. RTSR-Historic Wholesale'!H81","v":0},0,0,null,{"$f":"'12. RTSR-Historic Wholesale'!L81","v":0},0,0,null,0]
[null,"July",null,{"$f":"'12. RTSR-Historic Wholesale'!D82","v":0},0,0,null,{"$f":"'12. RTSR-Historic Wholesale'!H82","v":0},0,0,null,{"$f":"'12. RTSR-Historic Wholesale'!L82","v":0},0,0,null,0]
[null,"August",null,{"$f":"'12. RTSR-Historic Wholesale'!D83","v":0},0,0,null,{"$f":"'12. RTSR-Historic Wholesale'!H83","v":0},0,0,null,{"$f":"'12. RTSR-Historic Wholesale'!L83","v":0},0,0,null,0]
[null,"September",null,{"$f":"'12. RTSR-Historic Wholesale'!D84","v":0},0,0,null,{"$f":"'12. RTSR-Historic Wholesale'!H84","v":0},0,0,null,{"$f":"'12. RTSR-Historic Wholesale'!L84","v":0},0,0,null,0]
[null,"October",null,{"$f":"'12. RTSR-Historic Wholesale'!D85","v":0},0,0,null,{"$f":"'12. RTSR-Historic Wholesale'!H85","v":0},0,0,null,{"$f":"'12. RTSR-Historic Wholesale'!L85","v":0},0,0,null,0]
[null,"November",null,{"$f":"'12. RTSR-Historic Wholesale'!D86","v":0},0,0,null,{"$f":"'12. RTSR-Historic Wholesale'!H86","v":0},0,0,null,{"$f":"'12. RTSR-Historic Wholesale'!L86","v":0},0,0,null,0]
[null,"December",null,{"$f":"'12. RTSR-Historic Wholesale'!D87","v":0},0,0,null,{"$f":"'12. RTSR-Historic Wholesale'!H87","v":0},0,0,null,{"$f":"'12. RTSR-Historic Wholesale'!L87","v":0},0,0,null,0]
[null,null,null,null,null,null,null,null,null,null,null,{"$f":"'12. RTSR-Historic Wholesale'!L88","v":0}]
[null,"Total",null,{"$f":"SUM(D77:D88)","v":0},{"$f":"IF(D90<>0,F90/D90,0)","v":0},{"$f":"SUM(F77:F88)","v":0},null,{"$f":"SUM(H77:H88)","v":0},{"$f":"IF(H90<>0,J90/H90,0)","v":0},{"$f":"SUM(J77:J88)","v":0},null,{"$f":"SUM(L77:L88)","v":0},{"$f":"IF(L90<>0,N90/L90,0)","v":0},{"$f":"SUM(N77:N88)","v":0},null,{"$f":"SUM(P77:P88)","v":0}]
[]
[null,"Total",null,"Network",null,null,null,"Line Connection",null,null,null,"Transformation Connection",null,null,null,"Total Line"]
[]
[null,"Month",null,"Units Billed","Rate","Amount",null,"Units Billed","Rate","Amount",null,"Units Billed","Rate","Amount",null,"Amount"]
[]
[null,"January",null,{"$f":"D20+D39+D58+D77","v":785374.59},{"$f":"IF(D96<>0,F96/D96,0)","v":3.578735323201633},{"$f":"F20+F39+F58+F77","v":2810647.787178},null,{"$f":"H20+H39+H58+H77","v":781603.74},{"$f":"IF(H96<>0,J96/H96,0)","v":0.9360067053159189},{"$f":"J20+J39+J58+J77","v":731586.34154000005},null,{"$f":"L20+L39+L58+L77","v":837775.74},{"$f":"IF(L96<>0,N96/L96,0)","v":2.2969183063023522},{"$f":"N20+N39+N58+N77","v":1924302.4337819999},null,{"$f":"J96+N96","v":2655888.775322}]
[null,"February",null,{"$f":"D21+D40+D59+D78","v":750659.68},3.5779452439166568,{"$f":"F21+F40+F59+F78","v":2685819.2318559997},null,{"$f":"H21+H40+H59+H78","v":738394.36},0.93576561928235746,{"$f":"J21+J40+J59+J78","v":690964.05556000001},null,{"$f":"L21+L40+L59+L78","v":801810.36},2.2967417222546236,{"$f":"N21+N40+N59+N78","v":1841551.3071479998},null,2532515.3627079995]
[null,"March",null,759858.04,3.5706218337414706,2713165.708168,null,742329.08,0.93201315066358448,691860.46467999998,null,805048.08,2.2852677008359552,1839750.374844,null,2531610.839524]
[null,"April",null,683409.8,3.5777769964083035,2445087.8615599996,null,673282.48,0.93543224840783024,629810.14408,null,725306.48,2.295374589599696,1664850.0638639999,null,2294660.2079440001]
[null,"May",null,766303.03,3.5775798663173752,2741510.2916259998,null,738027.35,0.93508477138414992,690118.13584999996,null,799030.35,2.294537529212751,1833405.1250549997,null,2523523.2609049994]
[null,"June",null,902870.42999999993,3.5750150890488244,3227775.4107059999,null,902324.87,0.93464072953015243,843349.57476999995,null,964453.87,2.292579514550551,2211087.1850910001,null,3054436.7598609999]
[null,"July",null,912556.86,3.5748513194147704,3262255.0950119998,null,914958.28,0.93475705786279129,855263.70987999998,null,977242.28,2.2929042427472544,2240722.9700040002,null,3095986.6798840002]
[null,"August",null,940828.52,3.576094181949331,3364491.396584,null,905774.34,0.93463687891622105,846570.10213999997,null,967692.34,2.2925456418948196,2218478.8567619999,null,3065048.958902]
[null,"September",null,941072.59,3.574082869184406,3363471.422578,null,945657.6,0.93433190469785266,883558.06660000002,null,1009219.6,2.2915517175647402,2312678.90778,null,3196236.97438]
[null,"October",null,724181.36,3.5774469024057733,2590720.3631120003,null,711824.42,0.93530318588957639,665771.64781999995,null,763487.42,2.2947823343389206,1752037.4439059999,null,2417809.091726]
[null,"November",null,739145.23,3.5785627913285727,2645077.6174659999,null,726254.26,0.93599771994452741,679772.33146000002,null,780872.26,2.2970244545734024,1793682.6771180001,null,2473455.0085780001]
[null,"December",null,771783.21,3.5775890856475105,2761123.1885820003,null,764816.82,0.93583997436144251,715746.15321999998,null,822154.82,2.2965307844646583,1888103.8537259998,null,2603850.0069459998]
[]
[null,"Total",null,{"$f":"SUM(D96:D107)","v":9678043.3399999999},{"$f":"IF(D109<>0,F109/D109,0)","v":3.57625443062213},{"$f":"SUM(F96:F107)","v":34611145.374427997},null,{"$f":"SUM(H96:H107)","v":9545247.5999999996},{"$f":"IF(H109<>0,J109/H109,0)","v":0.93495434603498406},{"$f":"SUM(J96:J107)","v":8924370.7276000008},null,{"$f":"SUM(L96:L107)","v":10254093.6},{"$f":"IF(L109<>0,N109/L109,0)","v":2.2937815975348612},{"$f":"SUM(N96:N107)","v":23520651.199079994},null,{"$f":"SUM(P96:P107)","v":32445021.926680002}]
[]
[null,null,null,null,null,null,null,null,null,null,null,null,null,"Low Voltage Switchgear Credit (if applicable)",null,{"$f":"'11. RTSR-UTRs & Sub-Tx'!I68","v":0}]
[]
[null,null,null,null,null,null,null,null,null,null,null,null,null,"Total including deduction for Low Voltage Switchgear Credit",null,{"$f":"P109+P111","v":32445021.926680002}]

{"sheet":"15. RTSR-Rates to Forecast","index":5,"n_rows":67,"n_cols":11,"rows_kept":67,"cut":false,"hidden":false,"merged":[[1,1,8,2]]}
["Back to Index","Back to Index"]
[null,"INCENTIVE REGULATION MODEL FOR 2018 FILERS"]
[]
[]
[]
[]
[]
[]
[]
[]
[]
[]
[null,"The purpose of this table is to re-align the current RTS Network Rates to recover current wholesale network costs."]
[]
[null,"Rate Class","Rate Description","Unit","Current RTSR-Network","Loss Adjusted Billed kWh","Billed kW","Billed Amount","Billed Amount %","Current Wholesale Billing","Adjusted RTSR Network"]
[null,null,null,null,null,1537580328.6899991]
[{"$f":"'10. RTSR - Current Rates'!A16","v":"R_TN"},{"$f":"+'10. RTSR - Current Rates'!B16","v":"RESIDENTIAL SERVICE CLASSIFICATION"},{"$f":"VLOOKUP(A17,RTSR,3,FALSE)","v":"Retail Transmission Rate – Network Service Rate"},{"$f":"VLOOKUP(A17,RTSR,4,FALSE)","v":"$/kWh"},{"$f":"+'10. RTSR - Current Rates'!E16","v":7.4425597040001842E-3},{"$f":"VLOOKUP(A17,RTSR,9,FALSE)","v":1595854623.1473501},{"$f":"VLOOKUP(A17,RTSR,7,FALSE)","v":0},{"$f":"IF(ISERROR(E17*F17), 0, ROUND(E17*F17, 2))","v":11877243.310000001},{"$f":"H17/SUM(H$17:H$27)","v":0.3222094661772249},{"$f":"I17*total_wholesale_TN","v":11152038.674876772},{"$f":"IF(ISERROR(J17/F17), 0, J17/F17)","v":6.9881294405643802E-3}]
[{"$f":"'10. RTSR - Current Rates'!A18","v":"GSL_TN"},{"$f":"+'10. RTSR - Current Rates'!B18","v":"GENERAL SERVICE LESS THAN 50 kW SERVICE CLASSIFICATION"},"Retail Transmission Rate – Network Service Rate","$/kWh",{"$f":"+'10. RTSR - Current Rates'!E18","v":6.537383520847216E-3},558828431.00972259,{"$f":"VLOOKUP(A18,RTSR,7,FALSE)","v":0},{"$f":"IF(ISERROR(E18*F18), 0, ROUND(E18*F18, 2))","v":3653275.78},9.9107175642424786E-2,{"$f":"I18*total_wholesale_TN","v":3430212.8638089336},{"$f":"IF(ISERROR(J18/F18), 0, J18/F18)","v":6.1382218109608923E-3}]
[{"$f":"'10. RTSR - Current Rates'!A20","v":"GSG_TN"},{"$f":"+'10. RTSR - Current Rates'!B20","v":"GENERAL SERVICE GREATER THAN 50 kW SERVICE CLASSIFICATION"},"Retail Transmission Rate – Network Service Rate","$/kW",{"$f":"+'10. RTSR - Current Rates'!E20","v":2.5868929487130066},{"$f":"VLOOKUP(A19,RTSR,9,FALSE)","v":0},4824433.3829784263,{"$f":"IF(ISERROR(E19*G19), 0, ROUND(E19*G19, 2))","v":12480292.699999999},0.33856917330445058,11718266.876540245,{"$f":"IF(ISERROR(J19/G19), 0, J19/G19)","v":2.4289415867746569}]
[{"$f":"'10. RTSR - Current Rates'!A22","v":"LU_TN"},{"$f":"+'10. RTSR - Current Rates'!B22","v":"LARGE USE 1 SERVICE CLASSIFICATION"},"Retail Transmission Rate – Network Service Rate","$/kW",{"$f":"+'10. RTSR - Current Rates'!E22","v":2.9550984920611532},1751908545.0163753,456125.73797999992,{"$f":"IF(ISERROR(E20*G20), 0, ROUND(E20*G20, 2))","v":1347896.48},3.6566145354393724E-2,1265596.1726433861,{"$f":"IF(ISERROR(J20/G20), 0, J20/G20)","v":2.7746651137210758}]
[{"$f":"'10. RTSR - Current Rates'!A24","v":"LUDA_TN"},{"$f":"+'10. RTSR - Current Rates'!B24","v":"LARGE USE 2 SERVICE CLASSIFICATION"},"Retail Transmission Rate – Network Service Rate – Interval Metered","$/kW",{"$f":"+'10. RTSR - Current Rates'!E24","v":2.9550985078335339},0,1982813.5380800003,5859409.3300000001,0.15895583706225774,5501643.584675692,2.774665130642112]
[null,{"$f":"+'10. RTSR - Current Rates'!B26","v":"UNMETERED SCATTERED LOAD SERVICE CLASSIFICATION"},"Retail Transmission Rate – Network Service Rate","$/kWh",{"$f":"+'10. RTSR - Current Rates'!E26","v":6.6379581276943449E-3},220526376.81002384,0,{"$f":"IF(ISERROR(E22*F22), 0, ROUND(E22*F22, 2))","v":1463844.86},3.9711628245399186E-2,{"$f":"I22*total_wholesale_TN","v":1374464.9382567522},{"$f":"IF(ISERROR(J22/F22), 0, J22/F22)","v":6.2326555133167044E-3}]
[null,"STANDBY POWER SERVICE CLASSIFICATION "]
[{"$f":"'10. RTSR - Current Rates'!A26","v":"USL_TN"},{"$f":"+'10. RTSR - Current Rates'!B28","v":"SENTINEL LIGHTING"},"Retail Transmission Rate – Network Service Rate","$/kW",{"$f":"+'10. RTSR - Current Rates'!E28","v":2.1495920504363379},1050812632.4245863,{"$f":"+'10. RTSR - Current Rates'!G28","v":946.91011767210034},{"$f":"IF(ISERROR(E24*G24), 0, ROUND(E24*G24, 2))","v":2035.47},{"$f":"H24/SUM(H$17:H$27)","v":5.5218848768347407E-5},1911.1876021298265,2.0183410932690444]
["SL_TN",{"$f":"+'10. RTSR - Current Rates'!B30","v":"STREET LIGHTING SERVICE CLASSIFICATION"},"Retail Transmission Rate – Network Service Rate","$/kW",{"$f":"+'10. RTSR - Current Rates'!E30","v":2.036445282114038},0,87344.171000000002,177871.62,{"$f":"H25/SUM(H$17:H$27)","v":4.8253553650807711E-3},167011.07602408665,1.9121032819017385]
[null,null,null,null,null,11347508.416576881]
[]
[null,"The purpose of this table is to re-align the current RTS Connection Rates to recover current wholesale connection costs.",null,null,null,439954.02282899455]
[null,"Rate Class","Rate Description","Unit","Current RTSR-Connection","Loss Adjusted Billed kWh","Billed kW","Billed Amount","Billed Amount %","Current Wholesale Billing","Adjusted RTSR-Connection"]
[null,null,null,null,null,31193672.300799686]
["R_TC",{"$f":"B17","v":"RESIDENTIAL SERVICE CLASSIFICATION"},{"$f":"VLOOKUP(A31,RTSR,3,FALSE)","v":"Retail Transmission Rate – Line and Transformation Connection Service Rate"},{"$f":"VLOOKUP(A31,RTSR,4,FALSE)","v":"$/kWh"},{"$f":"+'10. RTSR - Current Rates'!E17","v":6.8243139315473864E-3},{"$f":"F17","v":1595854623.1473501},0,{"$f":"IF(ISERROR(E31*F31), 0, ROUND(E31*F31, 2))","v":10890612.939999999},{"$f":"H31/SUM(H$31:H$41)","v":0.31496029275557103},{"$f":"I31*total_wholesale_LinePlus","v":10218893.604488054},{"$f":"IF(ISERROR(J31/F31), 0, J31/F31)","v":6.4033988160740584E-3}]
["GSL_TC","GENERAL SERVICE LESS THAN 50 kW SERVICE CLASSIFICATION","Retail Transmission Rate – Line and Transformation Connection Service Rate","$/kWh",{"$f":"+'10. RTSR - Current Rates'!E19","v":6.1303158981366483E-3},558828431.00972259,0,{"$f":"IF(ISERROR(E32*F32), 0, ROUND(E32*F32, 2))","v":3425794.81},{"$f":"H32/SUM(H$31:H$41)","v":9.9075170720199696E-2},3214496.0864064437,{"$f":"IF(ISERROR(J32/F32), 0, J32/F32)","v":5.7522057004120416E-3}]
["GS50_499_TC","GENERAL SERVICE GREATER THAN 50 kW SERVICE CLASSIFICATION",{"$error":"#N/A"},{"$error":"#N/A"},{"$f":"+'10. RTSR - Current Rates'!E21","v":2.4536300225786776},0,4824433.3829784263,{"$f":"IF(ISERROR(E33*G33), 0, ROUND(E33*G33, 2))","v":11837374.59},0.34234096711215573,11107260.18435473,{"$f":"IF(ISERROR(J33/G33), 0, J33/G33)","v":2.3022932026677752}]
["GS500_TC","LARGE USE 1 SERVICE CLASSIFICATION",{"$error":"#N/A"},{"$error":"#N/A"},{"$f":"+'10. RTSR - Current Rates'!E23","v":2.81948265332663},1751908545.0163753,456125.73797999992,{"$f":"IF(ISERROR(E34*G34), 0, ROUND(E34*G34, 2))","v":1286038.6100000001},3.7192681379104059E-2,1206717.3628570542,{"$f":"IF(ISERROR(J34/G34), 0, J34/G34)","v":2.6455805107625081}]
["LU_TC","LARGE USE 2 SERVICE CLASSIFICATION","Retail Transmission Rate – Line and Transformation Connection Service Rate","$/kW",{"$f":"+'10. RTSR - Current Rates'!E25","v":2.8194826506260351},0,1982813.5380800003,5590508.3700000001,0.16167943554402645,5245692.831319184,2.645580499918665]
[null,"UNMETERED SCATTERED LOAD SERVICE CLASSIFICATION",{"$f":"+C33","v":{"$error":"#N/A"}},"$/kWh",{"$f":"+'10. RTSR - Current Rates'!E27","v":6.2459821580141111E-3},220526376.81002384,0,{"$f":"IF(ISERROR(E36*F36), 0, ROUND(E36*F36, 2))","v":1377403.81},{"$f":"H36/SUM(H$31:H$41)","v":3.9834994561861549E-2},{"$f":"I36*total_wholesale_LinePlus","v":1292447.2720087767},{"$f":"IF(ISERROR(J36/F36), 0, J36/F36)","v":5.8607377979196431E-3}]
[null,"STANDBY POWER SERVICE CLASSIFICATION "]
["USL_TC","SENTINEL LIGHTING","Retail Transmission Rate – Line and Transformation Connection Service Rate","$/kW",{"$f":"+'10. RTSR - Current Rates'!E29","v":1.9743078621429782},{"$f":"F24","v":1050812632.4245863},{"$f":"G24","v":946.91011767210034},1869.49,5.4066297365225482E-5,1754.182203509142,{"$f":"IF(ISERROR(J38/G38), 0, J38/G38)","v":1.8525329603845113}]
["SL_TC","STREET LIGHTING SERVICE CLASSIFICATION","Retail Transmission Rate – Line and Transformation Connection Service Rate","$/kW",{"$f":"+'10. RTSR - Current Rates'!E31","v":1.9249192420558441},{"$f":"F25","v":0},{"$f":"G25","v":87344.171000000002},168130.48,4.8623916297161774E-3,157760.40304224667,1.8061926884880122]
[]
[]
[null,"The purpose of this table is to update the re-aligned RTS Network Rates to recover future wholesale network costs."]
[null,"Rate Class","Rate Description","Unit","Adjusted RTSR-Network","Loss Adjusted Billed kWh","Billed kW","Billed Amount","Billed Amount %","Current Wholesale Billing","Proposed RTSR-Network"]
[]
["R_TN",{"$f":"B17","v":"RESIDENTIAL SERVICE CLASSIFICATION"},{"$f":"VLOOKUP(A45,RTSR,3,FALSE)","v":"Retail Transmission Rate – Network Service Rate"},{"$f":"VLOOKUP(A45,RTSR,4,FALSE)","v":"$/kWh"},{"$f":"K17","v":6.9881294405643802E-3},{"$f":"VLOOKUP(A45,RTSR,9,FALSE)","v":1595854623.1473501},{"$f":"VLOOKUP(A45,RTSR,7,FALSE)","v":0},{"$f":"IF(ISERROR(E45*F45), 0, ROUND(E45*F45, 2))","v":11152038.67},{"$f":"H45/SUM(H$45:H$55)","v":0.33349307093648833},{"$f":"I45*forecast_wholesale_TN","v":11542577.159547227},{"$f":"IF(ISERROR(J45/F45), 0, J45/F45)","v":7.2328500304012127E-3}]
["GSL_TN","GENERAL SERVICE LESS THAN 50 kW SERVICE CLASSIFICATION","Retail Transmission Rate – Network Service Rate","$/kWh",6.1382218109608923E-3,580008028.54499114,0,{"$f":"IF(ISERROR(E46*F46), 0, ROUND(E46*F46, 2))","v":3560217.93},0.1064655571786004,3684894.8768780148,{"$f":"IF(ISERROR(J46/F46), 0, J46/F46)","v":6.3531790863687642E-3}]
["GSG_TN","GENERAL SERVICE GREATER THAN 50 kW SERVICE CLASSIFICATION","Retail Transmission Rate – Network Service Rate","$/kW",2.4289415867746569,0,4824433.3829784263,{"$f":"IF(ISERROR(E47*G47), 0, ROUND(E47*G47, 2))","v":11718266.880000001},0.35042568659462353,12128634.381660258,{"$f":"IF(ISERROR(J47/G47), 0, J47/G47)","v":2.5140018358326857}]
["LU_TN","LARGE USE 1 SERVICE CLASSIFICATION","Retail Transmission Rate – Network Service Rate","$/kW",2.7746651137210758,0,456125.73797999992,{"$f":"IF(ISERROR(E48*G48), 0, ROUND(E48*G48, 2))","v":1265596.17},3.7846672324958669E-2,1309916.6777774852,{"$f":"IF(ISERROR(J48/G48), 0, J48/G48)","v":2.8718324109018423}]
["LUDA_TN","LARGE USE 2 SERVICE CLASSIFICATION","Retail Transmission Rate – Network Service Rate – Interval Metered","$/kW",2.774665130642112,0,1982813.5380800003,5501643.5800000001,0.16452238617391879,5694308.2252132855,2.8718324319730049]
["USL_TN","UNMETERED SCATTERED LOAD SERVICE CLASSIFICATION",{"$f":"+C48","v":"Retail Transmission Rate – Network Service Rate"},"$/kWh",6.2326555133167044E-3,{"$f":"+'10. RTSR - Current Rates'!I26","v":11777578.985565145},0,{"$f":"IF(ISERROR(E50*F50), 0, ROUND(E50*F50, 2))","v":73405.59},2.1951372621096532E-3,{"$f":"I50*forecast_wholesale_TN","v":75976.214895701065},{"$f":"IF(ISERROR(J50/F50), 0, J50/F50)","v":6.4509195810802163E-3}]
[null,"STANDBY POWER SERVICE CLASSIFICATION "]
["SEN_TN","SENTINEL LIGHTING","Retail Transmission Rate – Network Service Rate","$/kW",{"$f":"K24","v":2.0183410932690444},0,{"$f":"+'10. RTSR - Current Rates'!G28","v":946.91011767210034},1911.19,{"$f":"H52/SUM(H$45:H$55)","v":5.7152655321908701E-5},1978.118861881158,2.0890249506935237]
["SL_TN","STREET LIGHTING SERVICE CLASSIFICATION","Retail Transmission Rate – Network Service Rate","$/kW",{"$f":"K25","v":1.9121032819017385},0,87344.171000000002,167011.07999999999,{"$f":"H53/SUM(H$45:H$55)","v":4.9943368739788921E-3},172859.7195941497,1.9790641735457046]
[]
[]
[null,"The purpose of this table is to update the re-aligned RTS Connection Rates to recover future wholesale connection costs."]
[null,"Rate Class","Rate Description","Unit","Adjusted RTSR-Connection","Loss Adjusted Billed kWh","Billed kW","Billed Amount","Billed Amount %","Current Wholesale Billing","Proposed RTSR-Connection"]
[]
["R_TC",{"$f":"B17","v":"RESIDENTIAL SERVICE CLASSIFICATION"},{"$f":"VLOOKUP(A59,RTSR,3,FALSE)","v":"Retail Transmission Rate – Line and Transformation Connection Service Rate"},{"$f":"VLOOKUP(A59,RTSR,4,FALSE)","v":"$/kWh"},{"$f":"K31","v":6.4033988160740584E-3},{"$f":"VLOOKUP(A59,RTSR,9,FALSE)","v":1595854623.1473501},{"$f":"VLOOKUP(A59,RTSR,7,FALSE)","v":0},{"$f":"IF(ISERROR(E59*F59), 0, ROUND(E59*F59, 2))","v":10218893.6},{"$f":"H59/SUM(H$59:H$69)","v":0.32602985107819094},{"$f":"I59*forecast_wholesale_LNPlus","v":10578045.66698412},{"$f":"IF(ISERROR(J59/F59), 0, J59/F59)","v":6.6284519363813115E-3}]
["GSL_TC","GENERAL SERVICE LESS THAN 50 kW SERVICE CLASSIFICATION","Retail Transmission Rate – Line and Transformation Connection Service Rate","$/kWh",5.7522057004120416E-3,580008028.54499114,0,{"$f":"IF(ISERROR(E60*F60), 0, ROUND(E60*F60, 2))","v":3336325.49},{"$f":"H60/SUM(H$59:H$69)","v":0.10644417539028612},3453583.6045052051,{"$f":"IF(ISERROR(J60/F60), 0, J60/F60)","v":5.9543720682088989E-3}]
["GSG_TC","GENERAL SERVICE GREATER THAN 50 kW SERVICE CLASSIFICATION","Retail Transmission Rate – Line and Transformation Connection Service Rate","$/kW",2.3022932026677752,0,4824433.3829784263,{"$f":"IF(ISERROR(E61*G61), 0, ROUND(E61*G61, 2))","v":11107260.18},0.35437284349179643,11497634.677311275,{"$f":"IF(ISERROR(J61/G61), 0, J61/G61)","v":2.3832093356034822}]
["LU_TC","LARGE USE 1 SERVICE CLASSIFICATION","Retail Transmission Rate – Line and Transformation Connection Service Rate","$/kW",2.6455805107625081,0,456125.73797999992,{"$f":"IF(ISERROR(E62*G62), 0, ROUND(E62*G62, 2))","v":1206717.3600000001},3.8499851018535682E-2,1249128.5104703037,{"$f":"IF(ISERROR(J62/G62), 0, J62/G62)","v":2.7385617746593267}]
["LUDA_TC","LARGE USE 2 SERVICE CLASSIFICATION","Retail Transmission Rate – Line and Transformation Connection Service Rate – Interval Metered ","$/kW",2.645580499918665,0,1982813.5380800003,5245692.83,0.16736180247212221,5430057.3508966928,2.7385617692295616]
["USL_TC","UNMETERED SCATTERED LOAD SERVICE CLASSIFICATION",{"$f":"+C61","v":"Retail Transmission Rate – Line and Transformation Connection Service Rate"},"$/kWh",5.8607377979196431E-3,{"$f":"+'10. RTSR - Current Rates'!I27","v":11777578.985565145},0,{"$f":"IF(ISERROR(E64*F64), 0, ROUND(E64*F64, 2))","v":69025.3},{"$f":"H64/SUM(H$59:H$69)","v":2.202225520738121E-3},{"$f":"I64*forecast_wholesale_LNPlus","v":71451.255307842614},{"$f":"IF(ISERROR(J64/F64), 0, J64/F64)","v":6.0667184143205341E-3}]
[null,"STANDBY POWER SERVICE CLASSIFICATION "]
["SEN_TC","SENTINEL LIGHTING","Retail Transmission Rate – Line and Transformation Connection Service Rate","$/kW",{"$f":"K38","v":1.8525329603845113},0,{"$f":"+'10. RTSR - Current Rates'!G29","v":946.91011767210034},{"$f":"IF(ISERROR(E66*G66), 0, ROUND(E66*G66, 2))","v":1754.18},{"$f":"H66/SUM(H$59:H$69)","v":5.5966434973385082E-5},{"$f":"I66*forecast_wholesale_LNPlus","v":1815.8322098695896},{"$f":"IF(ISERROR(J66/G66), 0, J66/G66)","v":1.9176394633248421}]
["SL_TC","STREET LIGHTING SERVICE CLASSIFICATION","Retail Transmission Rate – Line and Transformation Connection Service Rate","$/kW",{"$f":"K39","v":1.8061926884880122},0,87344.171000000002,157760.4,5.033284593357135E-3,163305.0289946929,1.8696728943101755]