{"text_format":"1","workbook":"xlsx","n_sheets":12,"sheets":["1. Information Sheet","3. Continuity Schedule","4. Billing Det. for Def-Var","5. Allocating Def-Var Balances","6. GA Calculation","6A. GA Allocation_Class A","6B. GA Allocation_new Class B","7. CBR Calculation","7A. CBR Allocation_Class A","7B. CBR Allocation_new Class B","8. Calculation of Def-Var RR","Sheet1"],"not_rendered":{"charts":0,"images":0,"macros":1,"external_links":3,"defined_names":63,"comments":1,"pivot_tables":0},"unopened":[],"bounds":{"document_bytes":16777216,"sheet_cells":100000,"rows_first":2000,"rows_last":500,"rows_between":2000,"halvings":0,"cell_chars":16384,"cell_head_chars":4096},"cells_cut":0,"cells_raw":0,"read":"whole","date_system":"1900"}

{"sheet":"1. Information Sheet","index":0,"n_rows":44,"n_cols":22,"rows_kept":44,"cut":false,"hidden":false,"merged":[[1,1,8,14],[23,6,23,10],[13,6,13,12],[15,6,15,10],[17,6,17,8],[19,6,19,11],[21,6,21,8],[43,1,43,7],[25,6,25,8],[27,6,27,8],[29,1,29,5],[29,6,29,8],[31,1,31,5],[31,6,31,8],[36,3,36,12],[38,3,38,14],[40,3,40,13]]}
["Back to Index",null,null,null,null,null,null,null,null,null,null,null,null,null,null,null,null,null,null,null,null,"a"]
[null,"INCENTIVE REGULATION MODEL FOR 2019 FILERS"]
[]
[]
[]
[]
[]
[]
[]
[]
[]
[null,null,null,null,null,null,null,null,null,null,null,null,null,"Version",1]
[]
[null,null,null,null,null,"Utility Name   ","Alectra Utilities - Horizon Utilites Rate Zone"]
[]
[null,null,null,null,null,"Service Territory"]
[]
[null,null,null,null,null,"Assigned EB Number","EB-2018-0016"]
[]
[null,null,null,null,null,"Name of Contact and Title","Indy J. Butany-DeSouza, Vice-President, Regulatory Affairs"]
[]
[null,null,null,null,null,"Phone Number   ","905-821-5727"]
[]
[null,null,null,null,null,"Email Address   ","indy.butany@alectrautilities.com"]
[]
[null,null,null,null,null,"We are applying for rates effective   ","2019-01-01"]
[]
[null,null,null,null,null,"Rate-Setting Method","Price Cap IR"]
[]
[null,"Please indicate in which Rate Year the Group 1 accounts were last cleared1",null,null,null,null,2017]
[]
[null,"Please indicate the last Cost of Service \nRe-Basing Year",null,null,null,null,2018]
[]
[]
[null,null,"Notes"]
[]
[null,null,null,"Pale gray cells represent input cells."]
[]
[null,null,null,"Pale blue cells represent drop-down lists.  "]
[]
[null,null,null,"White cells contain fixed values, automatically generated values or formulae. "]
[]
[]
[null,"Note:  \n1.  Rate year of application"]

{"sheet":"3. Continuity Schedule","index":1,"n_rows":58,"n_cols":99,"rows_kept":58,"cut":false,"hidden":false,"merged":[[16,70,18,70],[16,71,18,71],[16,72,18,72],[16,51,18,51],[16,52,18,52],[16,56,18,56],[16,55,18,55],[16,66,18,66],[15,74,15,83],[16,74,18,74],[16,75,18,75],[16,76,18,76],[16,77,18,77],[16,78,18,78],[16,79,18,79],[16,80,18,80],[16,81,18,81],[16,82,18,82],[16,83,18,83],[15,84,15,87],[16,84,18,84],[16,85,18,85],[16,86,18,86],[16,87,18,87],[16,89,18,89],[16,90,18,90],[16,91,18,91],[16,92,18,92],[16,93,18,93],[16,45,18,45],[16,46,18,46],[16,47,18,47],[16,48,18,48],[16,49,18,49],[16,50,18,50],[16,42,18,42],[16,43,18,43],[16,73,18,73],[16,88,18,88],[16,57,18,57],[16,58,18,58],[16,59,18,59],[16,60,18,60],[16,61,18,61],[16,62,18,62],[16,67,18,67],[16,68,18,68],[16,69,18,69],[16,53,18,53],[16,54,18,54],[16,44,18,44],[16,63,18,63],[16,38,18,38],[16,27,18,27],[16,28,18,28],[16,29,18,29],[16,30,18,30],[16,31,18,31],[16,32,18,32],[16,33,18,33],[16,34,18,34],[16,35,18,35],[16,36,18,36],[16,37,18,37],[1,2,8,16],[15,34,15,43],[16,14,18,14],[15,54,15,63],[15,88,15,91],[16,2,18,2],[16,3,18,3],[16,4,18,4],[16,5,18,5],[16,6,18,6],[16,7,18,7],[16,8,18,8],[15,44,15,53],[15,64,15,73],[16,64,18,64],[16,65,18,65],[16,39,18,39],[16,40,18,40],[16,41,18,41],[16,23,18,23],[16,9,18,9],[16,10,18,10],[16,11,18,11],[16,12,18,12],[57,2,58,3],[11,2,14,3],[15,4,15,13],[15,14,15,23],[15,24,15,33],[16,24,18,24],[16,25,18,25],[51,2,51,3],[52,2,52,3],[53,2,53,3],[54,2,54,3],[48,2,49,3],[16,26,18,26],[16,15,18,15],[16,16,18,16],[16,17,18,17],[16,13,18,13],[16,18,18,18],[16,19,18,19],[16,20,18,20],[16,21,18,21],[16,22,18,22]]}
["Back to Index","Back to Index",null,null,null,null,null,null,null,null,null,null,null,null,null,null,null,null,null,null,null,null,null,null,null,null,null,null,null,null,null,null,null,null,null,null,null,null,null,null,null,null,null,null,null,null,null,null,null,null,null,null,null,null,null,null,null,null,null,null,null,null,null,null,null,null,null,null,null,null,null,null,null,null,null,null,null,null,null,null,null,null,null,null,null,null,null,null,null,null,null,null,null,null,null,null,null,null,false]
[null,null,{"$f":"+'1. Information Sheet'!B2","v":"INCENTIVE REGULATION MODEL FOR 2019 FILERS"},null,null,null,null,null,null,null,null,null,null,null,null,null,null,null,null,null,null,null,null,null,null,null,null,null,null,null,null,null,null,null,null,null,null,null,null,null,null,null,null,null,null,null,null,null,null,null,null,null,null,null,null,null,null,null,null,null,null,null,null,null,null,null,null,null,null,null,null,null,null,null,null,null,null,null,null,null,null,null,null,null,null,null,null,null,null,null,null,null,null,null,null,null,null,null,false]
[null,null,null,null,null,null,null,null,null,null,null,null,null,null,null,null,null,null,null,null,null,null,null,null,null,null,null,null,null,null,null,null,null,null,null,null,null,null,null,null,null,null,null,null,null,null,null,null,null,null,null,null,null,null,null,null,null,null,null,null,null,null,null,null,null,null,null,null,null,null,null,null,null,null,null,null,null,null,null,null,null,null,null,null,null,null,null,null,null,null,null,null,null,null,null,null,null,null,false]
[null,null,null,null,null,null,null,null,null,null,null,null,null,null,null,null,null,null,null,null,null,null,null,null,null,null,null,null,null,null,null,null,null,null,null,null,null,null,null,null,null,null,null,null,null,null,null,null,null,null,null,null,null,null,null,null,null,null,null,null,null,null,null,null,null,null,null,null,null,null,null,null,null,null,null,null,null,null,null,null,null,null,null,null,null,null,null,null,null,null,null,null,null,null,null,null,null,null,false]
[null,null,null,null,null,null,null,null,null,null,null,null,null,null,null,null,null,null,null,null,null,null,null,null,null,null,null,null,null,null,null,null,null,null,null,null,null,null,null,null,null,null,null,null,null,null,null,null,null,null,null,null,null,null,null,null,null,null,null,null,null,null,null,null,null,null,null,null,null,null,null,null,null,null,null,null,null,null,null,null,null,null,null,null,null,null,null,null,null,null,null,null,null,null,null,null,null,null,false]
[null,null,null,null,null,null,null,null,null,null,null,null,null,null,null,null,null,null,null,null,null,null,null,null,null,null,null,null,null,null,null,null,null,null,null,null,null,null,null,null,null,null,null,null,null,null,null,null,null,null,null,null,null,null,null,null,null,null,null,null,null,null,null,null,null,null,null,null,null,null,null,null,null,null,null,null,null,null,null,null,null,null,null,null,null,null,null,null,null,null,null,null,null,null,null,null,null,null,false]
[null,null,null,null,null,null,null,null,null,null,null,null,null,null,null,null,null,null,null,null,null,null,null,null,null,null,null,null,null,null,null,null,null,null,null,null,null,null,null,null,null,null,null,null,null,null,null,null,null,null,null,null,null,null,null,null,null,null,null,null,null,null,null,null,null,null,null,null,null,null,null,null,null,null,null,null,null,null,null,null,null,null,null,null,null,null,null,null,null,null,null,null,null,null,null,null,null,null,false]
[null,null,null,null,null,null,null,null,null,null,null,null,null,null,null,null,null,null,null,null,null,null,null,null,null,null,null,null,null,null,null,null,null,null,null,null,null,null,null,null,null,null,null,null,null,null,null,null,null,null,null,null,null,null,null,null,null,null,null,null,null,null,null,null,null,null,null,null,null,null,null,null,null,null,null,null,null,null,null,null,null,null,null,null,null,null,null,null,null,null,null,null,null,null,null,null,null,null,false]
[null,null,null,null,null,null,null,null,null,null,null,null,null,null,null,null,null,null,null,null,null,null,null,null,null,null,null,null,null,null,null,null,null,null,null,null,null,null,null,null,null,null,null,null,null,null,null,null,null,null,null,null,null,null,null,null,null,null,null,null,null,null,null,null,null,null,null,null,null,null,null,null,null,null,null,null,null,null,null,null,null,null,null,null,null,null,null,null,null,null,null,null,null,null,null,null,null,null,false]
[null,null,null,null,null,null,null,null,null,null,null,null,null,null,null,null,null,null,null,null,null,null,null,null,null,null,null,null,null,null,null,null,null,null,null,null,null,null,null,null,null,null,null,null,null,null,null,null,null,null,null,null,null,null,null,null,null,null,null,null,null,null,null,null,null,null,null,null,null,null,null,null,null,null,null,null,null,null,null,null,null,null,null,null,null,null,null,null,null,null,null,null,null,null,null,null,null,null,true]
[null,null,null,null,null,null,null,null,null,null,null,null,null,null,null,null,null,null,null,null,null,null,null,null,null,null,null,null,null,null,null,null,null,null,null,null,null,null,null,null,null,null,null,null,null,null,null,null,null,null,null,null,null,null,null,null,null,null,null,null,null,null,null,null,null,null,null,null,null,null,null,null,null,null,null,null,null,null,null,null,null,null,null,null,null,null,null,null,null,null,null,null,null,null,null,null,null,null,true]
[null,null,"Please complete the following continuity schedule for the following Deferral/Variance Accounts.  Enter information into green cells only. Column CE shoudl match the latest 2.1.7 RRR filing.\n\nWhen inputting balances in the continuity schedule, Account 1580 RSVA - Wholesale Market Service Charge is to exclude any amounts relating to CBR. The CBR amounts are to be entered separately in the Class A and Class B 1580 sub-accounts. Only Class B amounts are to be disposed. Class A amounts are not to be disposed.\n\nIf you have received approval to dispose of balances from prior years, the starting point for entries in the schedule below will be the balance sheet date as per your general ledger for which you received approval.  For example, if in the 2016 EDR process (CoS or IRM) you received approval for the December 31, 2014 balances, the starting point for your entries below should be the 2013 year. This will allow for the correct starting point for the 2014 opening balance columns for both principal and interest.\n\nPlease refer to the footnotes for further instructions."]
[]
[]
[]
[null,null,null,null,2010,null,null,null,null,null,null,null,null,null,2011,null,null,null,null,null,null,null,null,null,2012,null,null,null,null,null,null,null,null,null,2013,null,null,null,null,null,null,null,null,null,2014,null,null,null,null,null,null,null,null,null,2015,null,null,null,null,null,null,null,null,null,2016,null,null,null,null,null,null,null,null,null,2017,null,null,null,null,null,null,null,null,null,2018,null,null,null,"Projected Interest on Dec-31-17 Balances",null,null,null,"2.1.7 RRR"]
[null,null,"Account Descriptions","Account Number","Opening Principal Amounts as of Jan 1, 2010","Transactions2 Debit / (Credit) during 2010","OEB-Approved Disposition during 2010","Principal Adjustments1 during 2010","Closing Principal Balance as of Dec 31, 2010","Opening Interest Amounts as of Jan 1, 2010","Interest Jan 1 to Dec 31, 2010","OEB-Approved Disposition during 2010","Interest Adjustments1 during 2010","Closing Interest Amounts as of Dec 31, 2010","Opening Principal Amounts as of Jan 1, 2011","Transactions2 Debit / (Credit) during 2011 ","OEB-Approved Disposition during 2011","Principal Adjustments1 during 2011 ","Closing Principal Balance as of Dec 31, 2011","Opening Interest Amounts as of Jan 1, 2011","Interest Jan 1 to Dec 31, 2011","OEB-Approved Disposition during 2011","Interest Adjustments1 during 2011","Closing Interest Amounts as of Dec 31, 2011","Opening Principal Amounts as of Jan 1, 2012","Transactions2 Debit / (Credit) during 2012","OEB-Approved Disposition during 2012","Principal Adjustments1 during 2012","Closing Principal Balance as of Dec 31, 2012","Opening Interest Amounts as of Jan 1, 2012","Interest Jan 1 to Dec 31, 2012","OEB-Approved Disposition during 2012","Interest Adjustments1 during 2012","Closing Interest Amounts as of Dec 31, 2012","Opening Principal Amounts as of Jan 1, 2013","Transactions2 Debit / (Credit) during 2013","OEB-Approved Disposition during 2013","Principal Adjustments1 during 2013","Closing Principal Balance as of Dec 31, 2013","Opening Interest Amounts as of Jan 1, 2013","Interest Jan 1 to Dec 31, 2013","OEB-Approved Disposition during 2013","Interest Adjustments1 during 2013","Closing Interest Amounts as of Dec 31, 2013","Opening Principal Amounts as of Jan 1, 2014","Transactions2 Debit / (Credit) during 2014","OEB-Approved Disposition during 2014","Principal Adjustments1 during 2014","Closing Principal Balance as of Dec 31, 2014","Opening Interest Amounts as of Jan 1, 2014","Interest Jan 1 to Dec 31. 2014","OEB-Approved Disposition during 2014","Interest Adjustments1 during 2014","Closing Interest Amounts as of Dec 31, 2014","Opening Principal Amounts as of Jan 1, 2015","Transactions2 Debit / (Credit) during 2015","OEB-Approved Disposition during 2015","Principal Adjustments1 during 2015 ","Closing Principal Balance as of Dec 31, 15","Opening Interest Amounts as of Jan 1, 15","Interest Jan 1 to Dec 31, 15","OEB-Approved Disposition during 2015","Interest Adjustments1 during 2015","Closing Interest Amounts as of Dec 31, 15","Opening Principal Amounts as of Jan 1, 2016","Transactions2 Debit / (Credit) during 2016","OEB-Approved Disposition during 2016","Principal Adjustments1 during 2016","Closing Principal Balance as of Dec 31, 16","Opening Interest Amounts as of Jan 1, 16","Interest Jan 1 to Dec 31, 16","OEB-Approved Disposition during 2016","Interest Adjustments1 during 2016","Closing Interest Amounts as of Dec 31, 16","Opening Principal Amounts as of Jan 1, 2017","Transactions2 Debit / (Credit) during 2017","OEB-Approved Disposition during 2017","Principal Adjustments1 during 2017","Closing Principal Balance as of Dec 31, 17","Opening Interest Amounts as of Jan 1, 17","Interest Jan 1 to Dec 31, 17","OEB-Approved Disposition during 2017","Interest Adjustments1 during 2017","Closing Interest Amounts as of Dec 31, 17","Principal Disposition during 2018 - instructed by OEB","Interest Disposition during 2018 - instructed by OEB","Closing Principal Balances as of Dec 31, 2017 Adjusted for Dispositions during 2018","Closing Interest Balances as of Dec 31, 2017 Adjusted for Disposition in 2018","Projected Interest from January 1, 2018 to January 31, 2019 on December 31, 2017 balance adjusted for disposition during 2019 3","Projected Interest from January 1, 2018 to April 30, 2018 on Dec 31 -17 balance adjusted for disposition during 2018  3","Total Interest","Total Claim","As of Dec 31-17","Variance                           RRR vs. 2017 Balance                        (Principal + Interest)"]
[]
[null,null,null,null,null,null,null,null,null,null,null,null,null,null,null,null,null,null,null,null,null,null,null,null,null,null,null,null,null,null,null,null,null,null,null,null,null,null,null,null,null,null,null,null,null,null,null,null,null,null,null,null,null,null,null,null,null,null,null,null,null,null,null,null,null,null,null,null,null,null,null,null,null,null,null,null,null,null,null,null,null,null,null,null,null,null,null,null,null,null,null,"Claim before Forecasted Transactions"]
[null,null,"Group 1 Accounts"]
[null,null,"LV Variance Account",1550,null,null,null,null,{"$f":"E21+F21-G21+H21","v":0},null,null,null,null,{"$f":"J21+K21-L21+M21","v":0},{"$f":"I21","v":0},115767.79999999999,null,null,{"$f":"O21+P21-Q21+SUM(R21:R21)","v":115767.79999999999},{"$f":"N21","v":0},1571.3600000000008,null,null,{"$f":"T21+U21-V21+W21","v":1571.3600000000008},{"$f":"S21","v":115767.79999999999},16682.929999999993,null,null,{"$f":"Y21+Z21-AA21+SUM(AB21:AB21)","v":132450.72999999998},{"$f":"X21","v":1571.3600000000008},1800.8000000000002,null,null,{"$f":"AD21+AE21-AF21+AG21","v":3372.1600000000008},{"$f":"AC21","v":132450.72999999998},288057.23,117339.16,null,{"$f":"AI21+AJ21-AK21+SUM(AL21:AL21)","v":303168.79999999993},{"$f":"AH21","v":3372.1600000000008},2247.7599999999998,1702,null,{"$f":"AN21+AO21-AP21+AQ21","v":3917.92},{"$f":"AM21","v":303168.79999999993},287709.56999999995,15111.23,null,{"$f":"AS21+AT21-AU21+SUM(AV21:AV21)","v":575767.1399999999},{"$f":"AR21","v":3917.92},6269.8600000000006,1892.3000000000002,null,{"$f":"AX21+AY21-AZ21+BA21","v":8295.48},{"$f":"AW21","v":575767.1399999999},471028.0500000001,288057.57,null,{"$f":"BC21+BD21-BE21+SUM(BF21:BF21)","v":758737.61999999988},{"$f":"BB21","v":8295.48},5408.92,6482.1999999999935,null,{"$f":"BH21+BI21-BJ21+BK21","v":7222.2000000000062},{"$f":"BG21","v":758737.61999999988},552752.01,287709.56999999989,null,{"$f":"BM21+BN21-BO21+SUM(BP21:BP21)","v":1023780.06},{"$f":"BL21","v":7222.2000000000062},8152.7710916666665,5244.2199999999993,null,{"$f":"BR21+BS21-BT21+BU21","v":10130.751091666674},{"$f":"BQ21","v":1023780.06},586395.17000000004,471028.05,null,{"$f":"BW21+BX21-BY21+SUM(BZ21:BZ21)","v":1139147.18},{"$f":"BV21","v":10130.751091666674},10283.85,7159.29,null,{"$f":"CB21+CC21-CD21+CE21","v":13255.311091666674},552752.01,9051.7332016666733,{"$f":"CA21-CG21","v":586395.16999999993},{"$f":"CF21-CH21","v":4203.5778900000005},{"$f":"CI21*((1.5%*25%)+(1.89%*50%)+2.17%/4+2.45%/12)","v":12118.833513333331},null,{"$f":"CJ21+CK21+CL21","v":16322.411403333332},{"$f":"SUM(CI21:CL21)","v":602717.58140333323},1152402.49,{"$f":"CO21-SUM(CA21,CF21)","v":-1.0916665196418762E-3}]
[null,null,"Smart Metering Entity Charge Variance Account",1551,null,null,null,null,{"$f":"E22+F22-G22+H22","v":0},null,null,null,null,{"$f":"J22+K22-L22+M22","v":0},{"$f":"I22","v":0},0,null,null,0,0,0,null,null,{"$f":"T22+U22-V22+W22","v":0},0,null,null,null,{"$f":"Y22+Z22-AA22+SUM(AB22:AB22)","v":0},{"$f":"X22","v":0},null,null,null,{"$f":"AD22+AE22-AF22+AG22","v":0},0,-17910.510000000431,null,null,-17910.510000000431,0,-71.11,null,null,{"$f":"AN22+AO22-AP22+AQ22","v":-71.11},-17910.510000000431,-18781.050000000076,0,null,-36691.560000000507,-71.11,-365.06,0,null,{"$f":"AX22+AY22-AZ22+BA22","v":-436.17},-36691.560000000507,-22681.349999999657,-17910.510000000431,null,-41462.399999999732,-436.17,-330.71999999999997,-334.39449700000631,null,{"$f":"BH22+BI22-BJ22+BK22","v":-432.49550299999368},{"$f":"BG22","v":-41462.399999999732},-23673.089999999298,-18781.050000000105,null,{"$f":"BM22+BN22-BO22+SUM(BP22:BP22)","v":-46354.439999998925},-432.49550299999368,-366.13353333332844,-325.74311624999581,null,{"$f":"BR22+BS22-BT22+BU22","v":-472.88592008332631},{"$f":"BQ22","v":-46354.439999998925},-27963.919999999998,-22681.35,null,{"$f":"BW22+BX22-BY22+SUM(BZ22:BZ22)","v":-51637.009999998925},-472.88592008332631,-432.21,-356.25,null,{"$f":"CB22+CC22-CD22+CE22","v":-548.84592008332629},-23673.089999999269,-377.03908133332328,{"$f":"CA22-CG22","v":-27963.919999999656},{"$f":"CF22-CH22","v":-171.80683875000301},{"$f":"CI22*((1.5%*25%)+(1.89%*50%)+2.17%/4+2.45%/12)","v":-577.92101333332619},null,{"$f":"CJ22+CK22+CL22","v":-749.72785208332925},{"$f":"SUM(CI22:CL22)","v":-28713.647852082984},-52185.86,{"$f":"CO22-SUM(CA22,CF22)","v":-4.0799177513690665E-3}]
[null,null,"RSVA - Wholesale Market Service Charge",1580,null,null,null,null,{"$f":"E23+F23-G23+H23","v":0},null,null,null,null,{"$f":"J23+K23-L23+M23","v":0},{"$f":"I23","v":0},-5518757.6099999947,null,null,{"$f":"O23+P23-Q23+SUM(R23:R23)","v":-5518757.6099999947},0,-58243.990000000005,null,null,{"$f":"T23+U23-V23+W23","v":-58243.990000000005},-5518757.6099999947,-6544300.1500000022,null,null,{"$f":"Y23+Z23-AA23+SUM(AB23:AB23)","v":-12063057.759999998},{"$f":"X23","v":-58243.990000000005},-125746.44,null,null,{"$f":"AD23+AE23-AF23+AG23","v":-183990.43},-12063057.759999998,-3416930.3099999949,-5577001.5999999996,16968,-9886018.4699999932,-183990.43,-134976.81,-81126,null,{"$f":"AN23+AO23-AP23+AQ23","v":-237841.24},-9886018.4699999932,-750596.12999999523,-6486055.7400000002,-428586,-4579144.8599999882,-237841.24,-28008.970000000005,-198209.45,null,{"$f":"AX23+AY23-AZ23+BA23","v":-67640.760000000009},-4579144.8599999882,-10407994.030000001,-3399962.7300000004,null,-11587176.159999989,-67640.760000000009,-49704.58,-184956.261509,null,{"$f":"BH23+BI23-BJ23+BK23","v":67610.921508999993},-11587176.159999989,-4482608.5399999889,-1179182.1299999952,null,{"$f":"BM23+BN23-BO23+SUM(BP23:BP23)","v":-14890602.569999982},67610.921508999993,-138990.09154250001,104324.321509,null,{"$f":"BR23+BS23-BT23+BU23","v":-175703.49154250004},-14890602.569999982,{"$f":"-4605646.76+173.67","v":-4605473.09},-10407994.029999999,null,{"$f":"BW23+BX23-BY23+SUM(BZ23:BZ23)","v":-9088081.6299999822},-175703.49154250004,-85982.75,-150131.01,null,{"$f":"CB23+CC23-CD23+CE23","v":-111555.23154250003},-4482608.5399999805,-74881.176991499829,-4605473.0900000017,-36674.054551000198,-95179.777193333372,null,{"$f":"CJ23+CK23+CL23","v":-131853.83174433355},{"$f":"SUM(CI23:CL23)","v":-4737326.9217443345},-9199636.8599999994,1.5424825251102448E-3]
[null,null,"Variance WMS – Sub-account CBR Class A",1580,null,null,null,null,0,null,null,null,null,0,0,0,null,null,0,0,0,null,null,0,0,null,null,null,0,0,null,null,null,0,0,null,null,null,0,0,null,null,null,0,0,null,null,null,0,0,null,null,null,0,0,124743.51999999997,null,null,{"$f":"BC24+BD24-BE24+SUM(BF24:BF24)","v":124743.51999999997},0,374.96999999999997,null,null,374.96999999999997,124743.51999999997,-124743.54000000001,null,null,{"$f":"BM24+BN24-BO24+SUM(BP24:BP24)","v":-2.0000000033178367E-2},374.96999999999997,-374.97,null,null,-5.6843418860808015E-14,-2.0000000033178367E-2,null,null,null,{"$f":"BW24+BX24-BY24+SUM(BZ24:BZ24)","v":-2.0000000033178367E-2},-5.6843418860808015E-14,null,null,null,-5.6843418860808015E-14,-2.0000000033178367E-2,-2.2000000042180545E-4,0,2.2000000036496203E-4,0,null,{"$f":"CJ24+CK24+CL24","v":2.2000000036496203E-4},2.2000000036496203E-4,0,2.000000003323521E-2]
[null,null,"Variance WMS – Sub-account CBR Class B",1580,null,null,null,null,0,null,null,null,null,0,0,0,null,null,0,0,0,null,null,0,0,null,null,null,0,0,null,null,null,0,0,null,null,null,0,0,null,null,null,0,0,null,null,null,0,0,null,null,null,0,0,1108630.1000000001,null,null,1108630.1000000001,0,3562.9900000000002,null,null,3562.9900000000002,1108630.1000000001,-185940.40999999992,null,null,{"$f":"BM25+BN25-BO25+SUM(BP25:BP25)","v":922689.69000000018},3562.9900000000002,11337.264244166667,null,null,14900.254244166666,922689.69000000018,{"$f":"-55141.27-184.99","v":-55326.259999999995},1108630.1000000001,null,{"$f":"BW25+BX25-BY25+SUM(BZ25:BZ25)","v":-241266.66999999993},14900.254244166666,-1607.39,15757.92,null,-2465.055755833333,-185940.40999999992,-2903.0102658333326,-55326.260000000009,437.95450999999957,-1143.4093733333334,null,{"$f":"CJ25+CK25+CL25","v":-705.45486333333383},-56031.714863333349,-243731.73,-4.2441667465027422E-3]
[null,null,"RSVA - Retail Transmission Network Charge",1584,null,null,null,null,0,null,null,null,null,0,{"$f":"I26","v":0},631982.58999999706,null,null,631982.58999999706,0,26118.280000000002,null,null,{"$f":"T26+U26-V26+W26","v":26118.280000000002},631982.58999999706,177337.63000000268,null,null,{"$f":"Y26+Z26-AA26+SUM(AB26:AB26)","v":809320.21999999974},26118.280000000002,12236.08,null,null,{"$f":"AD26+AE26-AF26+AG26","v":38354.36},809320.21999999974,3378169.1599999964,658101,null,3529388.3799999962,38354.36,24797.879999999997,9290,null,{"$f":"AN26+AO26-AP26+AQ26","v":53862.239999999998},3529388.3799999962,3491680.4500000104,151219.22,null,6869849.6100000069,53862.239999999998,73256.38,31287.010000000002,null,{"$f":"AX26+AY26-AZ26+BA26","v":95831.609999999986},6869849.6100000069,-1237207.2899999917,3378169.2099999995,null,2254473.1100000157,95831.609999999986,40112.399999999987,74457.239999999991,null,{"$f":"BH26+BI26-BJ26+BK26","v":61486.76999999999},2254473.1100000157,-532829.40000000596,3491680.45000001,null,{"$f":"BM26+BN26-BO26+SUM(BP26:BP26)","v":-1770036.7400000002},61486.76999999999,-12513.329999999998,63012.66,null,{"$f":"BR26+BS26-BT26+BU26","v":-14039.220000000016},-1770036.7400000002,-187534.89,-1237207.29,null,-720364.34000000032,-14039.220000000016,-7639.01,-15135.17,null,-6543.0600000000177,-532829.45000000903,-4765.1739500000931,-187534.88999999128,-1777.8860499999246,-3875.7210599998198,null,{"$f":"CJ26+CK26+CL26","v":-5653.6071099997444},-193188.497109991,-726907.37,3.0000000377185643E-2]
[null,null,"RSVA - Retail Transmission Connection Charge",1586,null,null,null,null,0,null,null,null,null,0,0,-170342.67000001055,null,null,-170342.67000001055,0,699.95000000000027,null,null,699.95000000000027,-170342.67000001055,-76744.958999998868,null,null,-247087.62900000942,699.95000000000027,-2601.08,null,null,-1901.1299999999997,-247087.62900000942,1314693.9300000034,-169642.72,null,1237249.0209999939,-1901.1299999999997,5832.1399999999994,-2504,null,6435.01,1237249.0209999939,2601535.59,-77444.91,null,3916229.5209999941,6435.01,35834.119999999995,-536.0100000000001,null,42805.14,3916229.5209999941,-230302.05000001192,1314693.9299999992,null,2371233.540999983,42805.14,32228.909999999996,25158.58,null,49875.469999999987,2371233.540999983,941983.46999999881,2601535.5900000003,null,711681.42099998146,49875.469999999987,4911.1400000000003,48669.87000000001,null,6116.7399999999761,711681.42099998146,433359.47,-230302.05,null,1375342.9409999815,6116.7399999999761,12740.23,-1327.72,null,20184.689999999977,941983.47099999338,17806.278180999911,433359.4699999881,2378.4118190000663,8956.0957133330867,null,11334.507532333153,{"$f":"SUM(CI27:CL27)","v":444693.9775323213},1395527.63,-9.9998153746128082E-4]
[null,null,"RSVA - Power",1588,null,null,null,null,0,null,null,null,null,0,0,-1031401.6699999867,null,null,-1031401.6699999867,0,-19574.559999999983,null,null,-19574.559999999983,-1031401.6699999867,-541508.42000001669,null,null,-1572910.0900000033,-19574.559999999983,-3471.5899999999997,null,null,-23046.149999999983,-1572910.0900000033,924467.16000005603,-1050976.23,-4668526.9869420975,-4265993.6869420446,-23046.149999999983,11467.690000000002,-15162,-60232.101746408574,-56648.561746408552,-4265993.6869420446,-552173.06000000238,-521933.17,-2337699.4944851007,-6633933.0714271478,-56648.561746408552,-82951.48,-15556.57,null,-124043.47174640856,-6633933.0714271478,-859776.22000002861,-3744060.5233259667,null,-3749648.7681012098,-124043.47174640856,-29325.460000000003,-103602.67174640857,null,-49766.25999999998,-3749648.7681012098,-148172.50999999046,-2889872.5544851031,819534,-188414.72361609712,-49766.25999999998,5680.2400000000007,-54902.530000000006,null,10816.510000000024,-188414.72361609712,{"$f":"-3817332.75+8484","v":-3808848.75},-859776.22,{"$f":"-BP28+587573","v":-231961},-3369448.2536160974,10816.510000000024,-2168.9499999999998,-4321.2700000000004,null,12968.830000000024,671361.49638393149,22522.756460223274,-4040809.7500000289,-9553.9264602232506,-83510.068166667261,null,-93063.994626890519,-4133873.7446269193,-3944052.49,-587573.06638390291]
[null,null,"RSVA - Global Adjustment",1589,null,null,null,null,0,null,null,null,null,0,0,1058062.9899999946,null,null,1058062.9899999946,0,69597.939999999988,null,null,69597.939999999988,1058062.9899999946,-3235246.1200000048,null,null,-2177183.1300000101,69597.939999999988,495.22,null,null,70093.159999999989,-2177183.1300000101,-1669046.0400000215,1127660.93,4668526.9869420975,-305363.11305793375,70093.159999999989,-16958.78,15553,60232.101746408574,97813.481746408565,-305363.11305793375,1473743.9699999839,-3304844.06,5344769.4944851007,9817994.4114271514,97813.481746408565,92778.54,5958.9500000000044,null,184633.07174640853,9817994.4114271514,2612620.8600000739,2999480.9533259743,null,9431134.3181012515,184633.07174640853,97517.37999999999,87365.691746408585,null,194784.75999999995,9431134.3181012515,-3004934.7699999809,6818513.4644850846,-1808419,-2200732.9163838141,194784.75999999995,28693.39,178578.15000000002,null,44899.999999999942,-2200732.9163838141,-1322742,2612620.86,{"$f":"-BP29-1842135+1005879","v":972163},-5163932.7763838135,44899.999999999942,-17300.04,{"$f":"16206.61+28738.83","v":44945.440000000002},null,-17345.480000000061,-4813353.7763838582,-52992.331540222513,-350578.9999999553,35646.851540222451,-7245.2993333324093,null,28401.552206890043,-322177.44779306522,-4345022.2699999996,836255.98638381436]
[null,null,"Disposition and Recovery/Refund of Regulatory Balances (2009)4",1595,null,null,null,null,0,null,null,null,null,0,0,-2913895.8499999996,null,null,-2913895.8499999996,0,-2492081.56,null,null,-2492081.56,-2913895.8499999996,2840650.07,null,null,-73245.779999999795,-2492081.56,-9602.92,null,null,-2501684.48,-73245.779999999795,null,null,null,-73245.779999999795,-2501684.48,-1076.7600000000002,null,null,-2502761.2399999998,-73245.779999999795,null,null,null,-73245.779999999795,-2502761.2399999998,-1076.7600000000002,null,null,-2503837.9999999995,-73245.779999999795,null,-73245.780000000261,null,4.6566128730773926E-10,-2503837.9999999995,null,-2503838,null,4.6566128730773926E-10,4.6566128730773926E-10,null,null,null,4.6566128730773926E-10,4.6566128730773926E-10,null,null,null,4.6566128730773926E-10,4.6566128730773926E-10,null,null,null,4.6566128730773926E-10,4.6566128730773926E-10,null,null,null,4.6566128730773926E-10,4.6566128730773926E-10,4.7078356146812434E-10,0,-5.1222741603850847E-12,0,null,-5.1222741603850847E-12,{"$f":"IF(CD30=0,IF(SUM(CG30:CH30)=0,SUM(CI30:CL30),0),SUM(CI30:CL30))","v":0},null,-9.3132257461547852E-10]
[null,null,"Disposition and Recovery/Refund of Regulatory Balances (2010)4",1595,null,null,null,null,0,null,null,null,null,0,0,1927441.5699999998,null,null,1927441.5699999998,0,-21555.89,null,null,-21555.89,1927441.5699999998,-2230636.5699999998,null,null,-303195,-21555.89,13368.490000000003,null,null,-8187.399999999996,-303195,null,null,null,-303195,-8187.399999999996,-4456.9199999999992,null,null,-12644.319999999996,-303195,null,null,null,-303195,-12644.319999999996,-4456.9199999999992,null,null,-17101.239999999994,-303195,null,-303195,null,0,-17101.239999999994,null,-17101.239999999998,null,3.637978807091713E-12,0,null,null,null,0,3.637978807091713E-12,null,null,null,3.637978807091713E-12,0,null,null,null,0,3.637978807091713E-12,null,null,null,3.637978807091713E-12,0,3.637978807091713E-12,0,0,0,null,0,0,null,-3.637978807091713E-12]
[null,null,"Disposition and Recovery/Refund of Regulatory Balances (2011)4",1595,null,null,null,null,0,null,null,null,null,0,0,-8695917.6799999997,null,null,{"$f":"O32+P32-Q32+SUM(R32:R32)","v":-8695917.6799999997},0,-154326.92000000001,null,null,-154326.92000000001,-8695917.6799999997,9300673.2400000002,null,null,604755.56000000052,-154326.92000000001,-65930.35000000002,null,null,-220257.27000000002,604755.56000000052,null,null,null,604755.56000000052,-220257.27000000002,8889.9600000000009,null,null,-211367.31000000003,604755.56000000052,null,null,null,604755.56000000052,-211367.31000000003,8889.9600000000009,null,null,-202477.35000000003,604755.56000000052,null,604755.56000000052,null,0,-202477.35000000003,null,-202477.35000000003,null,0,0,null,null,null,0,0,null,null,null,0,0,null,null,null,0,0,null,null,null,0,0,0,0,0,0,null,0,0,null,0]
[null,null,"Disposition and Recovery/Refund of Regulatory Balances (2012)4",1595,null,null,null,null,0,null,null,null,null,0,0,0,null,null,0,0,0,null,null,0,0,null,-2039038,-493721.79000000004,1545316.21,0,null,-1284828,2206.5,1287034.5,1545316.21,-2940696.3899999997,null,null,-1395380.1799999997,1287034.5,1788.8500000000006,null,1306.01415,1290129.36415,-1395380.1799999997,null,null,null,-1395380.1799999997,1290129.36415,-20512.079999999998,null,null,1269617.28415,-1395380.1799999997,null,-1395380.1800000002,null,4.6566128730773926E-10,1269617.28415,null,1269617.28,null,4.1499999351799488E-3,4.6566128730773926E-10,null,null,null,4.6566128730773926E-10,4.1499999351799488E-3,null,null,null,4.1499999351799488E-3,4.6566128730773926E-10,null,null,null,4.6566128730773926E-10,4.1499999351799488E-3,null,null,null,4.1499999351799488E-3,4.6566128730773926E-10,4.1499999403022229E-3,0,-5.1222741326295562E-12,0,null,-5.1222741326295562E-12,0,null,-4.1500004008412361E-3]
[null,null,"Disposition and Recovery/Refund of Regulatory Balances (2013)4",1595,null,null,null,null,0,null,null,null,null,0,0,0,null,null,0,0,0,null,null,0,0,null,null,null,0,0,null,null,null,0,0,5370488.5799999982,4894519.459999999,null,475969.11999999918,0,-30180.3035065,72247,null,-102427.3035065,475969.11999999918,null,null,null,475969.11999999918,-102427.3035065,6996.722171999998,null,null,-95430.581334500006,475969.11999999918,null,475969.12000000011,null,-9.3132257461547852E-10,-95430.581334500006,null,-95430.58,null,-1.3345000043045729E-3,-9.3132257461547852E-10,null,null,null,-9.3132257461547852E-10,-1.3345000043045729E-3,null,null,null,-1.3345000043045729E-3,-9.3132257461547852E-10,null,null,null,-9.3132257461547852E-10,-1.3345000043045729E-3,null,null,null,-1.3345000043045729E-3,-9.3132257461547852E-10,-1.3345000145491212E-3,0,1.0244548265259112E-11,0,null,1.0244548265259112E-11,0,null,1.3345009356271476E-3]
[null,null,"Disposition and Recovery/Refund of Regulatory Balances (2014)4",1595,null,null,null,null,0,null,null,null,null,0,0,0,null,null,0,0,0,null,null,0,0,null,null,null,0,0,null,null,null,0,0,null,null,null,0,0,null,null,null,0,0,10296123.939841045,10223947.43,null,72176.509841045365,0,174450.57,175163.77000000002,null,-713.20000000001164,72176.509841045365,null,null,null,72176.509841045365,-713.20000000001164,860.7018008333331,null,null,147.50180083332145,72176.509841045365,null,72176.509999999995,null,-1.5895463002379984E-4,147.50180083332145,null,147.5,null,1.8008333214538652E-3,-1.5895463002379984E-4,null,null,null,-1.5895463002379984E-4,1.8008333214538652E-3,null,null,null,1.8008333214538652E-3,-1.5895463002379984E-4,1.7990848205236033E-3,0,1.7485009302618815E-6,0,null,{"$f":"CJ35+CK35+CL35","v":1.7485009302618815E-6},0,null,-1.6418786914300654E-3]
[null,null,"Disposition and Recovery/Refund of Regulatory Balances (2015)4",1595,null,null,null,null,0,null,null,null,null,0,0,0,null,null,0,0,0,null,null,0,0,null,null,null,0,0,null,null,null,0,0,null,null,null,0,0,null,null,null,0,0,null,null,null,0,0,null,null,null,0,0,-256826.83052762854,-456725.31731672533,null,199898.48678909679,0,1587898.7337583362,1610163.3623086384,4709.509837407868,-17555.118712894371,199898.48678909679,null,null,null,199898.48678909679,-17555.118712894371,2198.883354680067,null,null,-15356.235358214304,199898.48678909679,null,{"$f":"127372+72526","v":199898},null,0.48678909678710625,-15356.235358214304,null,{"$f":"-47712+4715.9+27640","v":-15356.099999999999},null,-0.13535821430559736,0,3.3546799859323073E-3,0.48678909678710625,-0.13871289429152966,1.0060308000266862E-2,null,-0.1286525862912628,{"$f":"IF(CD36=0,IF(SUM(CG36:CH36)=0,SUM(CI36:CL36),0),SUM(CI36:CL36))","v":0.35813651049584344},null,-0.35143088248150889]
[null,null,"Disposition and Recovery/Refund of Regulatory Balances (2016)4",1595,null,null,null,null,0,null,null,null,null,0,0,0,null,null,0,0,0,null,null,0,0,null,null,null,0,0,null,null,null,0,0,null,null,null,0,0,null,null,null,0,0,null,null,null,0,0,null,null,null,0,0,null,null,null,0,0,null,null,null,0,0,-8988871.513268102,-9183779.8008410539,null,194908.28757295199,0,47944.961923766954,-343677.95373252931,null,391622.91565629625,194908.28757295199,null,null,null,194908.28757295199,391622.91565629625,{"$f":"2338.9-65.43","v":2273.4700000000003},null,null,393896.38565629622,194908.28757295199,393766.90681959869,0,129.47883669752628,0,null,129.47883669752628,{"$f":"IF(CD37=0,IF(SUM(CG37:CH37)=0,SUM(CI37:CL37),0),SUM(CI37:CL37))","v":0},588804.67000000004,-3.2292482210323215E-3]
[null,null,"Disposition and Recovery/Refund of Regulatory Balances (2017)4",1595,null,null,null,null,null,null,null,null,null,null,null,null,null,null,null,null,null,null,null,null,null,null,null,null,null,null,null,null,null,null,null,null,null,null,null,null,null,null,null,null,0,null,null,null,null,null,null,null,null,null,null,null,null,null,null,null,null,null,null,null,null,null,null,null,null,null,null,null,null,null,0,{"$f":"7897024.61-458.44","v":7896566.1699999999},8365783.4400000004,null,-469217.27000000048,0,-46776.26,118765,null,-165541.26,0,0,-469217.27000000048,-165541.26,-9697.1569133333433,null,0,0,-634758.53,{"$f":"CO38-SUM(CA38,CF38)","v":0}]
[]
[null,null,{"$f":"C29","v":"RSVA - Global Adjustment"},1589,{"$f":"E29","v":0},0,0,0,0,0,0,0,0,0,0,1058062.9899999946,0,0,1058062.9899999946,0,69597.939999999988,0,0,69597.939999999988,1058062.9899999946,-3235246.1200000048,0,0,-2177183.1300000101,69597.939999999988,495.22,0,0,70093.159999999989,-2177183.1300000101,-1669046.0400000215,1127660.93,4668526.9869420975,-305363.11305793375,70093.159999999989,-16958.78,15553,60232.101746408574,97813.481746408565,-305363.11305793375,1473743.9699999839,-3304844.06,5344769.4944851007,9817994.4114271514,97813.481746408565,92778.54,5958.9500000000044,0,184633.07174640853,9817994.4114271514,2612620.8600000739,2999480.9533259743,0,9431134.3181012515,184633.07174640853,97517.37999999999,87365.691746408585,0,194784.75999999995,9431134.3181012515,-3004934.7699999809,6818513.4644850846,-1808419,{"$f":"BQ29","v":-2200732.9163838141},194784.75999999995,28693.39,178578.15000000002,0,44899.999999999942,-2200732.9163838141,null,null,null,{"$f":"CA29","v":-5163932.7763838135},{"$f":"CB29","v":44899.999999999942},null,null,null,{"$f":"CF29","v":-17345.480000000061},-4813353.7763838582,-52992.331540222513,-350578.9999999553,35646.851540222451,{"$f":"CK29","v":-7245.2993333324093},{"$f":"CL29","v":0},{"$f":"CM29","v":28401.552206890043},{"$f":"CN29","v":-322177.44779306522},{"$f":"CO29","v":-4345022.2699999996},{"$f":"CO40-SUM(CA40,CF40)","v":836255.98638381436}]
[null,null,"Total Group 1 Balance excluding Account 1589 - Global Adjustment",null,{"$f":"SUM(E21:E37)-E29","v":0},{"$f":"SUM(F21:F37)-F29","v":0},0,0,0,0,0,0,0,0,0,-15655123.519999994,0,0,-15655123.519999994,0,-2717393.33,0,0,-2717393.33,-15655123.519999994,2942153.7709999848,-2039038,-493721.79000000004,-11167653.539000012,-2717393.33,-179947.01,-1284828,2206.5,-1610305.8399999996,-11167653.539000012,4900338.8500000592,-1127660.93,-4651558.9869420975,-9791212.7459420469,-1610305.8399999996,-115737.62350649998,-15553,-58926.087596408572,-1769416.5511029081,-9791212.7459420469,15355499.309841059,3304844.06,-2766285.4944851007,-506842.99058609083,-1769416.5511029081,168326.34217200003,-5958.9500000000044,0,-1595131.2589309085,-506842.99058609083,-11310386.100527661,-3328834.650642694,0,-8488394.4404710587,-1595131.2589309085,1591086.8655591696,-121861.83544377051,4709.509837407868,122526.95190943929,-8488394.4404710587,{"$f":"SUM(BN21:BN37)-BN29","v":-12992103.523268089},-6818513.4153261427,819534,-13842450.548413003,{"$f":"SUM(BR21:BR37)-BR29","v":122526.95190943929},-72019.264461552957,-177507.65533977933,0,228015.34278766561,{"$f":"SUM(BW21:BW38)-BW29","v":-13842450.548413003},null,null,null,{"$f":"SUM(CA21:CA38)-CA29","v":-11230616.298413005},{"$f":"SUM(CB21:CB38)-CB29","v":228015.34278766561},null,null,null,{"$f":"SUM(CF21:CF38)-CF29","v":153651.63278766561},-2864046.2452020673,360221.28212308715,{"$f":"SUM(CI21:CI38)-CI29","v":-8366570.0532109365},{"$f":"SUM(CJ21:CJ38)-CJ29","v":-206569.64933542156},{"$f":"SUM(CK21:CK38)-CK29","v":-172909.11443302603},0,{"$f":"SUM(CM21:CM38)-CM29","v":-204240.34685511424},{"$f":"SUM(CN21:CN38)-CN29","v":-8101722.6089044949},{"$f":"SUM(CO21:CO38)-CO29","v":-11664538.050000001},-587573.38437466137]
[null,null,"Total Group 1 Balance",null,{"$f":"SUM(E40,E41)","v":0},{"$f":"SUM(F40,F41)","v":0},0,0,0,0,0,0,0,0,0,{"$f":"SUM(P40,P41)","v":-14597060.529999999},{"$f":"SUM(Q40,Q41)","v":0},0,-14597060.529999999,0,-2647795.39,0,0,-2647795.39,-14597060.529999999,-293092.34900001995,-2039038,-493721.79000000004,-13344836.669000022,-2647795.39,-179451.79,-1284828,2206.5,-1540212.6799999997,-13344836.669000022,3231292.8100000378,0,16968,-10096575.858999981,-1540212.6799999997,-132696.40350649998,0,1306.0141500000027,-1671603.0693564995,-10096575.858999981,16829243.279841043,0,2578484,9311151.4208410606,-1671603.0693564995,261104.88217200001,0,0,-1410498.1871845,9311151.4208410606,-8697765.240527587,-329353.69731671968,0,942739.87763019279,-1410498.1871845,1688604.2455591694,-34496.143697361927,4709.509837407868,317311.71190943924,942739.87763019279,-15997038.29326807,4.9158941954374313E-2,-988885,-16043183.464796817,317311.71190943924,-43325.874461552958,1070.494660220691,0,272915.34278766555,{"$f":"SUM(BW40,BW41)","v":-16043183.464796817},null,null,null,{"$f":"SUM(CA40,CA41)","v":-16394549.074796818},{"$f":"SUM(CB40,CB41)","v":272915.34278766555},null,null,null,{"$f":"SUM(CF40,CF41)","v":136306.15278766555},-7677400.0215859255,307228.95058286464,-8717149.0532108918,-170922.79779519912,{"$f":"SUM(CK40,CK41)","v":-180154.41376635843},0,-175838.7946482242,{"$f":"SUM(CN40,CN41)","v":-8423900.0566975605},{"$f":"SUM(CO40,CO41)","v":-16009560.32},248682.60200915299]
[]
[29,null,"LRAM Variance Account (only input amounts if applying for disposition of this account)",1568,null,null,null,null,null,null,null,null,null,null,null,null,null,null,{"$f":"O44+P44-Q44+SUM(R44:R44)","v":0},null,null,null,null,{"$f":"T44+U44-V44+W44","v":0},{"$f":"S44","v":0},-237216,null,null,{"$f":"Y44+Z44-AA44+SUM(AB44:AB44)","v":-237216},{"$f":"X44","v":0},-278,null,null,{"$f":"AD44+AE44-AF44+AG44","v":-278},{"$f":"AC44","v":-237216},null,null,null,{"$f":"AI44+AJ44-AK44+SUM(AL44:AL44)","v":-237216},{"$f":"AH44","v":-278},-3487,null,null,{"$f":"AN44+AO44-AP44+AQ44","v":-3765},{"$f":"AM44","v":-237216},-59871,null,null,{"$f":"AS44+AT44-AU44+SUM(AV44:AV44)","v":-297087},{"$f":"AR44","v":-3765},-3487,null,null,{"$f":"AX44+AY44-AZ44+BA44","v":-7252},{"$f":"AW44","v":-297087},85881,-237216,null,{"$f":"BC44+BD44-BE44+SUM(BF44:BF44)","v":26010},{"$f":"BB44","v":-7252},-1005,-7252,null,{"$f":"BH44+BI44-BJ44+BK44","v":-1005},{"$f":"BG44","v":26010},303456,null,null,{"$f":"BM44+BN44-BO44+SUM(BP44:BP44)","v":329466},{"$f":"BL44","v":-1005},564,null,null,{"$f":"BR44+BS44-BT44+BU44","v":-441},{"$f":"BQ44","v":329466},{"$f":"2283050.55+1.5","v":2283052.0499999998},null,null,{"$f":"BW44+BX44-BY44+SUM(BZ44:BZ44)","v":2612518.0499999998},{"$f":"BV44","v":-441},67737.27,null,null,{"$f":"CB44+CC44-CD44+CE44","v":67296.27},null,null,{"$f":"CA44-CG44","v":2612518.0499999998},{"$f":"CF44-CH44","v":67296.27},{"$f":"CI44*((1.5%*25%)+(1.89%*50%)+2.17%/4+2.45%/12)","v":53992.039699999994},null,{"$f":"CJ44+CK44+CL44","v":121288.3097},{"$f":"SUM(CI44:CL44)","v":2733806.3596999999},2679814.3199999998,{"$f":"CO44-SUM(CA44,CF44)","v":0}]
[]
[null,null,"Total including Account 1568",null,{"$f":"SUM(E42,E44)","v":0},{"$f":"SUM(F42,F44)","v":0},0,0,0,0,0,0,0,0,0,-14597060.529999999,0,0,-14597060.529999999,0,-2647795.39,0,0,-2647795.39,-14597060.529999999,-530308.34900001995,-2039038,-493721.79000000004,-13582052.669000022,-2647795.39,-179729.79,-1284828,2206.5,-1540490.6799999997,-13582052.669000022,3231292.8100000378,0,16968,-10333791.858999981,-1540490.6799999997,-136183.40350649998,0,1306.0141500000027,-1675368.0693564995,-10333791.858999981,16769372.279841043,0,2578484,9014064.4208410606,-1675368.0693564995,257617.88217200001,0,0,-1417750.1871845,9014064.4208410606,-8611884.240527587,-566569.69731671968,0,968749.87763019279,-1417750.1871845,1687599.2455591694,-41748.143697361927,4709.509837407868,316306.71190943924,968749.87763019279,-15693582.29326807,4.9158941954374313E-2,-988885,-15713717.464796817,316306.71190943924,-42761.874461552958,1070.494660220691,0,272474.34278766555,{"$f":"SUM(BW42,BW44)","v":-15713717.464796817},null,null,null,{"$f":"SUM(CA42,CA44)","v":-13782031.024796817},272474.34278766555,null,null,null,{"$f":"SUM(CF42,CF44)","v":203602.42278766556},-7677400.0215859255,307228.95058286464,-6104631.003210892,-103626.52779519912,-126162.37406635843,{"$f":"SUM(CL42,CL44)","v":0},{"$f":"SUM(CM42,CM44)","v":-54550.484948224199},{"$f":"SUM(CN42,CN44)","v":-5690093.6969975606},{"$f":"SUM(CO42,CO44)","v":-13329746},{"$f":"CO46-SUM(CA46,CF46)","v":248682.60200915113}]
[]
[]
[null,null,"For all OEB-Approved dispositions, please ensure that the disposition amount has the same sign (e.g: debit balances are to have a positive figure and credit balance are to have a negative figure) as per the related OEB decision."]
[null,null,null,null,null,null,null,null,null,null,null,null,null,null,null,null,null,null,null,null,null,null,null,null,null,null,null,null,null,null,null,null,null,null,null,null,null,null,null,null,null,null,null,null,null,null,null,null,null,null,null,null,null,null,null,null,null,null,null,null,null,null,null,null,null,null,null,null,null,null,null,null,null,null,null,null,null,null,{"$f":"+CA42-BZ28-BZ29","v":-17134751.074796818},{"$f":"+CF42","v":136306.15278766555},{"$f":"+CA50+CB50","v":-16998444.922009151}]
[]
[null,1,"Please provide explanations for the nature of the adjustments.  If the adjustment relates to previously OEB-Approved disposed balances, please provide amounts for adjustments and include supporting documentations."]
[null,2,"For RSVA accounts only, report the net variance to the account during the year.  For all other accounts, record the transactions during the year."]
[null,3,"If the LDC’s rate year begins on January 1, 2017, the projected interest is recorded from January 1, 2016 to December 31, 2016 on the December 31, 2015 balances adjusted for the disposed balances approved by the OEB in the 2016 rate decision.  If the LDC’s rate year begins on May 1, 2017, the projected interest is recorded from January 1, 2016 to April 30, 2017 on the December 31, 2015 balances adjusted for the disposed interest balances approved by the OEB in the 2016 rate decision."]
[null,4,"Include Account 1595 as part of Group 1 accounts (lines 30-36) for review and disposition if the recovery (or refund) period has been completed. If the recovery (or refund) period has not been completed, do not include the respective balance in Account 1595 for disposition at this time."]
[]
[null,null,"Account 1595 - adjustments (2016):"]
[null,null,"These were required due to a comprehensive review of all the dispositions during 2015 and 2016. \nIt was determined that there were a number of reporting errors.  \nPast recovery billings were applied to the wrong year or there was transposition errors whereby billings were applied to interest rather than principal or vice versa."]

{"sheet":"4. Billing Det. for Def-Var","index":2,"n_rows":43,"n_cols":22,"rows_kept":43,"cut":false,"hidden":false,"merged":[[1,1,8,9],[14,21,15,21],[14,10,15,10],[14,11,15,11],[14,12,15,12],[14,13,15,13],[14,14,15,14],[14,15,15,15],[12,1,12,7],[13,3,13,8],[14,3,15,3],[14,4,15,4],[14,5,15,5],[14,6,15,6],[14,7,15,7],[13,11,13,19],[31,17,31,20],[32,17,32,21],[14,8,15,8],[14,9,15,9],[14,16,15,16],[14,17,15,17],[14,20,15,20],[14,19,15,19],[14,18,15,18]]}
["Back to Index",null,null,null,null,null,null,null,null,null,"Yes",null,null,null,null,null,null,null,null,null,{"$f":"IF(D18=\"YES\", \"YES\", \"NO\")","v":"NO"}]
[null,{"$f":"+'1. Information Sheet'!B2","v":"INCENTIVE REGULATION MODEL FOR 2019 FILERS"}]
[]
[]
[]
[]
[]
[]
[]
[]
[]
[]
[null,"Information from the most recent RRR (2017 for 2019 IRM)"]
[null,null,null,null,null,null,null,null,null,null,null,"Approved Recoveries (class allocation %)"]
[null,null,null,"Total Metered kWh","Total Metered kW","Metered kWh for Non-RPP Customers","Metered kW for Non-RPP Customers","Metered kWh for Wholesale Market Participants (WMP)","Metered kW for Wholesale Market Participants (WMP)","Total Metered kWh less WMP consumption\n(if applicable)","Total Metered kW less WMP consumption \n(if applicable)","1595 Recovery Proportion (2009) 1","1595 Recovery Proportion (2010) 1","1595 Recovery Proportion (2011) 1","1595 Recovery Proportion (2012) 1","1595 Recovery Proportion (2013) 1","1595 Recovery Proportion (2014) 1","1595 Recovery Proportion (2015) 1","1595 Recovery Proportion (2016) 1","1595 Recovery Proportion (2017) 1","1568 LRAM Variance Account Class Allocation                           ($ amounts)","Number of Customers for Residential and GS<50 classes3"]
[null,"Rate Class","Unit"]
[null,"RESIDENTIAL","kWh",1537580328.6899991,0,70075468,0,null,null,{"$f":"D17-H17","v":1537580328.6899991},{"$f":"E17-I17","v":0},null,null,null,null,null,null,{"$f":"+$D17/$D$29","v":0.29782845376443828},{"$f":"+$D17/$D$29","v":0.29782845376443828},0,422844.95399591216,225004]
[null,"GENERAL SERVICE LESS THAN 50 KW","kWh",558828431.00972259,0,103616724,0,null,null,{"$f":"D18-H18","v":558828431.00972259},{"$f":"E18-I18","v":0},null,null,null,null,null,null,{"$f":"+$D18/$D$29","v":0.10824475601156623},{"$f":"+$D18/$D$29","v":0.10824475601156623},0,309436.64463993744,18847]
[null,"GENERAL SERVICE 50 TO 4,999 KW","kW",1751908545.0163753,4824433.3829784254,1588736386,4041629.4929784252,null,null,{"$f":"D19-H19","v":1751908545.0163753},{"$f":"E19-I19","v":4824433.3829784254},null,null,null,null,null,null,{"$f":"+$D19/$D$29","v":0.33934370995983959},0.33934370995983959,0,29282.315612099534]
[null,"LARGE USE (1)","kW",220526376.81002384,456125.73797999998,220526376.81002384,456125.73797999998,34953648.313999996,117811.20582,185572728.49602383,338314.53215999994,null,null,null,null,null,null,4.2715836430842653E-2,4.2715836430842653E-2,0,8567.3991300621474]
[null,"LARGE USE (2)","kW",1050812632.4245863,1982813.5380800001,1050812632.4245863,1982813.5380800001,743436642.68899989,1192576.56012,307375989.7355864,790236.97796000005,null,null,null,null,null,null,0.20354182195982801,0.20354182195982801,0,11872.306215229693]
[null,"UNMETERED SCATTERED LOAD","kWh",11347508.416576881,0,427147,0,null,null,11347508.416576881,0,null,null,null,null,null,null,2.1980060636359938E-3,2.1980060636359938E-3,0]
[null,"SENTINEL LIGHTING","kW",439954.02282899455,946.91011767210034,5557,16.169999999999959,null,null,{"$f":"D23-H23","v":439954.02282899455},946.91011767210034,null,null,null,null,null,null,8.5218849319073048E-5,8.5218849319073048E-5,0]
[null,"STREET LIGHTING","kW",31193672.300799686,87344.171000000002,30966099.30725503,86709.010999999999,null,null,{"$f":"D24-H24","v":31193672.300799686},87344.171000000002,null,null,null,null,null,null,6.0421969605302132E-3,6.0421969605302132E-3,0,127901.80476113432]
[null,null,null,null,null,null,null,null,null,{"$f":"D25-H25","v":0},0,null,null,null,null,null,null,0,0,0]
[null,null,null,null,null,null,null,null,null,0,0,null,null,null,null,null,null,0,0,0]
[null,null,null,null,null,null,null,null,null,0,0,null,null,null,null,null,null,0,0,0]
[null,null,null,null,null,null,null,null,null,0,0,null,null,null,null,null,null,0,0,0]
[null,null,"Total",{"$f":"SUM(D17:D28)","v":5162637448.6909122},{"$f":"SUM(E17:E28)","v":7351663.7401560973},3065166390.5418653,6567293.9500384256,778390291.0029999,1310387.7659400001,4384247157.6879129,6041275.974216097,0,0,0,0,0,0,1.0000000000000002,{"$f":"SUM(S17:S28)","v":1.0000000000000002},0,909905.42435437522,243851]
[]
[]
[null,"Threshold Test",null,null,null,null,null,null,null,null,null,null,null,null,null,null,null,"1568 Account Balance from Continuity Schedule",null,null,null,{"$f":"'3. Continuity Schedule'!CN44","v":2733806.3596999999}]
[null,"Total Claim per Continuity (including Account 1568)",null,{"$f":"'3. Continuity Schedule'!CN46","v":-5690093.6969975606},null,null,null,null,null,null,null,null,null,null,null,null,null,{"$f":"IF(V32=U29,\"Total Balance of Account 1568 in Column R matches the amount entered on the Continuity Schedule\",\"Total Balance of Account 1568 in Column T DOES NOT MATCH the amount entered on the Continuity Schedule\")","v":"Total Balance of Account 1568 in Column T DOES NOT MATCH the amount entered on the Continuity Schedule"}]
[null,"Total Claim for Threshold Test (All Group 1 Accounts)",null,{"$f":"+'3. Continuity Schedule'!CN42","v":-8423900.0566975605}]
[null,"Threshold Test (Total claim per kWh) 2",null,{"$f":"IFERROR(D34/D29,\"\")","v":-1.6317047517705519E-3}]
[null,"Exceeds Threshold?",null,{"$f":"IF(D35=\"\",\"\",IF(OR(D35>0.001,D35<-0.001),\"Yes\",\"No\"))","v":"Yes"}]
[null,"ELECT TO DISPOSE of the Group 1 Account Balances?",null,"Yes"]
[]
[]
[null,"As per Section 3.2.5 of the 2017 Filing Requirements for Electricity Distribution Rate Applications, an applicant may elect to dispose of the Group 1 account balances below the threshold. "]
[null,"1 Residual Account balance to be allocated to rate classes in proportion to the recovery share as established when rate riders were implemented."]
[null,"2 The Threshold Test does not include the amount in 1568."]
[null,"3 The proportion of customers for the Residential and GS<50 Classes will be used to allocate Account 1551."]

{"sheet":"5. Allocating Def-Var Balances","index":3,"n_rows":32,"n_cols":23,"rows_kept":32,"cut":false,"hidden":false,"merged":[[1,1,8,7],[13,22,14,22],[13,15,14,15],[13,16,14,16],[13,17,14,17],[13,18,14,18],[13,19,14,19],[13,20,14,20],[13,14,14,14],[10,1,11,11],[13,2,14,2],[13,3,14,3],[13,4,14,4],[13,5,14,5],[13,21,14,21]]}
["Back to Index"]
[null,{"$f":"+'1. Information Sheet'!B2","v":"INCENTIVE REGULATION MODEL FOR 2019 FILERS"}]
[]
[]
[]
[]
[]
[]
[]
[]
[null,"No input required.  This workshseet allocates the deferral/variance account balances (Group 1 and 1568) to the appropriate classes as per EDDVAR dated July 31, 2009"]
[]
[null,"Allocation of Group 1 Accounts (including Account 1568)"]
[null,null,"% of  Total kWh","% of  Total non-RPP kWh","% of Customer Numbers **","% of  Total kWh adjusted for WMP",null,null,"allocated based on Total less WMP",null,null,null,null,"allocated based on Total less WMP","1595_(2009)","1595_(2010)","1595_(2011)","1595_(2012)","1595_(2013)","1595_(2014)","1595_(2015)","1595_(2017)",1568]
[null,"Rate Class",null,null,null,null,1550,1551,1580,"1580 (Class A)","1580 (Class B)",1584,1586,1588]
[null,{"$f":"'4. Billing Det. for Def-Var'!B17","v":"RESIDENTIAL"},{"$f":"IFERROR('4. Billing Det. for Def-Var'!D17/'4. Billing Det. for Def-Var'!D$29,\"\")","v":0.29782845376443828},{"$f":"IFERROR('4. Billing Det. for Def-Var'!F17/'4. Billing Det. for Def-Var'!F$29,\"\")","v":2.2861880587047655E-2},{"$f":"IFERROR('4. Billing Det. for Def-Var'!V17/'4. Billing Det. for Def-Var'!V$29,\"\")","v":0.92271099974984727},{"$f":"IFERROR('4. Billing Det. for Def-Var'!J17/'4. Billing Det. for Def-Var'!J$29,\"\")","v":0.35070566813136994},{"$f":"IFERROR(G$28*C16,\"\")","v":179506.4453259967},{"$f":"IFERROR(H$28*E16,\"\")","v":-26494.398716060547},{"$f":"IFERROR(I$28*F16,\"\")","v":-1681058.0432447644},null,null,{"$f":"IFERROR(L$28*$C16,\"\")","v":-57537.031379344277},{"$f":"IFERROR(M$28*$C16,\"\")","v":132442.51972680911},{"$f":"IFERROR(N$28*$F16,\"\")","v":-1449772.953580112},{"$f":"'4. Billing Det. for Def-Var'!$L17*O$28","v":0},{"$f":"'4. Billing Det. for Def-Var'!$L17*P$28","v":0},{"$f":"'4. Billing Det. for Def-Var'!$L17*Q$28","v":0},{"$f":"'4. Billing Det. for Def-Var'!$L17*R$28","v":0},{"$f":"'4. Billing Det. for Def-Var'!$L17*S$28","v":0},{"$f":"'4. Billing Det. for Def-Var'!$L17*T$28","v":0},0,{"$f":"+$V$28*'4. Billing Det. for Def-Var'!T17","v":0},{"$f":"'4. Billing Det. for Def-Var'!U17","v":422844.95399591216}]
[null,{"$f":"'4. Billing Det. for Def-Var'!B18","v":"GENERAL SERVICE LESS THAN 50 KW"},{"$f":"IFERROR('4. Billing Det. for Def-Var'!D18/'4. Billing Det. for Def-Var'!D$29,\"\")","v":0.10824475601156623},{"$f":"IFERROR('4. Billing Det. for Def-Var'!F18/'4. Billing Det. for Def-Var'!F$29,\"\")","v":3.3804600076435806E-2},{"$f":"IFERROR('4. Billing Det. for Def-Var'!V18/'4. Billing Det. for Def-Var'!V$29,\"\")","v":7.7289000250152756E-2},{"$f":"IFERROR('4. Billing Det. for Def-Var'!J18/'4. Billing Det. for Def-Var'!J$29,\"\")","v":0.12746280282802935},{"$f":"IFERROR(G$28*C17,\"\")","v":65241.017542885114},{"$f":"IFERROR(H$28*E17,\"\")","v":-2219.2491360224399},{"$f":"IFERROR(I$28*F17,\"\")","v":-610974.92678195471},null,null,{"$f":"IFERROR(L$28*$C17,\"\")","v":-20911.641733912144},48135.791097799032,{"$f":"IFERROR(N$28*$F17,\"\")","v":-526915.13402734837},{"$f":"'4. Billing Det. for Def-Var'!$L18*O$28","v":0},{"$f":"'4. Billing Det. for Def-Var'!$L18*P$28","v":0},{"$f":"'4. Billing Det. for Def-Var'!$L18*Q$28","v":0},{"$f":"'4. Billing Det. for Def-Var'!$L18*R$28","v":0},{"$f":"'4. Billing Det. for Def-Var'!$L18*S$28","v":0},{"$f":"'4. Billing Det. for Def-Var'!$L18*T$28","v":0},0,{"$f":"+$V$28*'4. Billing Det. for Def-Var'!T18","v":0},{"$f":"'4. Billing Det. for Def-Var'!U18","v":309436.64463993744}]
[null,{"$f":"'4. Billing Det. for Def-Var'!B19","v":"GENERAL SERVICE 50 TO 4,999 KW"},{"$f":"IFERROR('4. Billing Det. for Def-Var'!D19/'4. Billing Det. for Def-Var'!D$29,\"\")","v":0.33934370995983959},{"$f":"IFERROR('4. Billing Det. for Def-Var'!F19/'4. Billing Det. for Def-Var'!F$29,\"\")","v":0.51831978547798851},{"$f":"IFERROR('4. Billing Det. for Def-Var'!V19/'4. Billing Det. for Def-Var'!V$29,\"\")","v":0},{"$f":"IFERROR('4. Billing Det. for Def-Var'!J19/'4. Billing Det. for Def-Var'!J$29,\"\")","v":0.39959164755215715},{"$f":"IFERROR(G$28*C18,\"\")","v":204528.42013142872},0,{"$f":"IFERROR(I$28*F18,\"\")","v":-1915386.0749104195},null,null,-65557.30133087009,150904.10413261547,{"$f":"IFERROR(N$28*$F18,\"\")","v":-1651861.420388076},{"$f":"'4. Billing Det. for Def-Var'!$L19*O$28","v":0},{"$f":"'4. Billing Det. for Def-Var'!$L19*P$28","v":0},{"$f":"'4. Billing Det. for Def-Var'!$L19*Q$28","v":0},{"$f":"'4. Billing Det. for Def-Var'!$L19*R$28","v":0},{"$f":"'4. Billing Det. for Def-Var'!$L19*S$28","v":0},{"$f":"'4. Billing Det. for Def-Var'!$L19*T$28","v":0},0,{"$f":"+$V$28*'4. Billing Det. for Def-Var'!T19","v":0},{"$f":"'4. Billing Det. for Def-Var'!U19","v":29282.315612099534}]
[null,{"$f":"'4. Billing Det. for Def-Var'!B20","v":"LARGE USE (1)"},{"$f":"IFERROR('4. Billing Det. for Def-Var'!D20/'4. Billing Det. for Def-Var'!D$29,\"\")","v":4.2715836430842653E-2},{"$f":"IFERROR('4. Billing Det. for Def-Var'!F20/'4. Billing Det. for Def-Var'!F$29,\"\")","v":7.1945972489617052E-2},{"$f":"IFERROR('4. Billing Det. for Def-Var'!V20/'4. Billing Det. for Def-Var'!V$29,\"\")","v":0},{"$f":"IFERROR('4. Billing Det. for Def-Var'!J20/'4. Billing Det. for Def-Var'!J$29,\"\")","v":4.2327159446432283E-2},25745.585621217873,0,-202889.255295626,null,null,-8252.2082428706944,18995.475206051455,-174975.1331202437,{"$f":"'4. Billing Det. for Def-Var'!$L20*O$28","v":0},{"$f":"'4. Billing Det. for Def-Var'!$L20*P$28","v":0},{"$f":"'4. Billing Det. for Def-Var'!$L20*Q$28","v":0},{"$f":"'4. Billing Det. for Def-Var'!$L20*R$28","v":0},{"$f":"'4. Billing Det. for Def-Var'!$L20*S$28","v":0},{"$f":"'4. Billing Det. for Def-Var'!$L20*T$28","v":0},0,{"$f":"+$V$28*'4. Billing Det. for Def-Var'!T20","v":0},{"$f":"'4. Billing Det. for Def-Var'!U20","v":8567.3991300621474}]
[null,{"$f":"'4. Billing Det. for Def-Var'!B21","v":"LARGE USE (2)"},{"$f":"IFERROR('4. Billing Det. for Def-Var'!D21/'4. Billing Det. for Def-Var'!D$29,\"\")","v":0.20354182195982801},{"$f":"IFERROR('4. Billing Det. for Def-Var'!F21/'4. Billing Det. for Def-Var'!F$29,\"\")","v":0.34282400970696469},{"$f":"IFERROR('4. Billing Det. for Def-Var'!V21/'4. Billing Det. for Def-Var'!V$29,\"\")","v":0},{"$f":"IFERROR('4. Billing Det. for Def-Var'!J21/'4. Billing Det. for Def-Var'!J$29,\"\")","v":7.0109183784630644E-2},122678.2346460554,0,-336058.46159957355,null,null,-39321.938683448534,90513.822401491503,-289822.51410450798,{"$f":"'4. Billing Det. for Def-Var'!$L21*O$28","v":0},{"$f":"'4. Billing Det. for Def-Var'!$L21*P$28","v":0},{"$f":"'4. Billing Det. for Def-Var'!$L21*Q$28","v":0},{"$f":"'4. Billing Det. for Def-Var'!$L21*R$28","v":0},{"$f":"'4. Billing Det. for Def-Var'!$L21*S$28","v":0},{"$f":"'4. Billing Det. for Def-Var'!$L21*T$28","v":0},0,{"$f":"+$V$28*'4. Billing Det. for Def-Var'!T21","v":0},{"$f":"'4. Billing Det. for Def-Var'!U21","v":11872.306215229693}]
[null,{"$f":"'4. Billing Det. for Def-Var'!B22","v":"UNMETERED SCATTERED LOAD"},{"$f":"IFERROR('4. Billing Det. for Def-Var'!D22/'4. Billing Det. for Def-Var'!D$29,\"\")","v":2.1980060636359938E-3},{"$f":"IFERROR('4. Billing Det. for Def-Var'!F22/'4. Billing Det. for Def-Var'!F$29,\"\")","v":1.3935524065448473E-4},{"$f":"IFERROR('4. Billing Det. for Def-Var'!V22/'4. Billing Det. for Def-Var'!V$29,\"\")","v":0},{"$f":"IFERROR('4. Billing Det. for Def-Var'!J22/'4. Billing Det. for Def-Var'!J$29,\"\")","v":2.5882456003144517E-3},1324.7768985845471,0,-12406.389401929073,null,null,-424.62948807248489,977.44005907845064,-10699.48053178605,{"$f":"'4. Billing Det. for Def-Var'!$L22*O$28","v":0},{"$f":"'4. Billing Det. for Def-Var'!$L22*P$28","v":0},{"$f":"'4. Billing Det. for Def-Var'!$L22*Q$28","v":0},{"$f":"'4. Billing Det. for Def-Var'!$L22*R$28","v":0},{"$f":"'4. Billing Det. for Def-Var'!$L22*S$28","v":0},{"$f":"'4. Billing Det. for Def-Var'!$L22*T$28","v":0},0,{"$f":"+$V$28*'4. Billing Det. for Def-Var'!T22","v":0},{"$f":"'4. Billing Det. for Def-Var'!U22","v":0}]
[null,{"$f":"'4. Billing Det. for Def-Var'!B23","v":"SENTINEL LIGHTING"},{"$f":"IFERROR('4. Billing Det. for Def-Var'!D23/'4. Billing Det. for Def-Var'!D$29,\"\")","v":8.5218849319073048E-5},{"$f":"IFERROR('4. Billing Det. for Def-Var'!F23/'4. Billing Det. for Def-Var'!F$29,\"\")","v":1.812952150704492E-6},{"$f":"IFERROR('4. Billing Det. for Def-Var'!V23/'4. Billing Det. for Def-Var'!V$29,\"\")","v":0},{"$f":"IFERROR('4. Billing Det. for Def-Var'!J23/'4. Billing Det. for Def-Var'!J$29,\"\")","v":1.0034881862385919E-4},51.362898751566796,0,-481.0078764240518,null,null,-16.463301425394501,37.896309064426141,-414.82934661350032,{"$f":"'4. Billing Det. for Def-Var'!$L23*O$28","v":0},{"$f":"'4. Billing Det. for Def-Var'!$L23*P$28","v":0},{"$f":"'4. Billing Det. for Def-Var'!$L23*Q$28","v":0},{"$f":"'4. Billing Det. for Def-Var'!$L23*R$28","v":0},{"$f":"'4. Billing Det. for Def-Var'!$L23*S$28","v":0},{"$f":"'4. Billing Det. for Def-Var'!$L23*T$28","v":0},0,{"$f":"+$V$28*'4. Billing Det. for Def-Var'!T23","v":0},{"$f":"'4. Billing Det. for Def-Var'!U23","v":0}]
[null,{"$f":"'4. Billing Det. for Def-Var'!B24","v":"STREET LIGHTING"},{"$f":"IFERROR('4. Billing Det. for Def-Var'!D24/'4. Billing Det. for Def-Var'!D$29,\"\")","v":6.0421969605302132E-3},{"$f":"IFERROR('4. Billing Det. for Def-Var'!F24/'4. Billing Det. for Def-Var'!F$29,\"\")","v":1.0102583469141063E-2},{"$f":"IFERROR('4. Billing Det. for Def-Var'!V24/'4. Billing Det. for Def-Var'!V$29,\"\")","v":0},{"$f":"IFERROR('4. Billing Det. for Def-Var'!J24/'4. Billing Det. for Def-Var'!J$29,\"\")","v":7.1149438384422777E-3},3641.7383384133414,0,-34104.4774969758,null,null,-1167.2829500473874,2686.9285994118827,-29412.279528231604,{"$f":"'4. Billing Det. for Def-Var'!$L24*O$28","v":0},{"$f":"'4. Billing Det. for Def-Var'!$L24*P$28","v":0},{"$f":"'4. Billing Det. for Def-Var'!$L24*Q$28","v":0},{"$f":"'4. Billing Det. for Def-Var'!$L24*R$28","v":0},{"$f":"'4. Billing Det. for Def-Var'!$L24*S$28","v":0},{"$f":"'4. Billing Det. for Def-Var'!$L24*T$28","v":0},0,{"$f":"+$V$28*'4. Billing Det. for Def-Var'!T24","v":0},{"$f":"'4. Billing Det. for Def-Var'!U24","v":127901.80476113432}]
[null,{"$f":"'4. Billing Det. for Def-Var'!B25","v":0},null,null,null,null,null,null,null,null,null,null,null,null,{"$f":"'4. Billing Det. for Def-Var'!$L25*O$28","v":0},{"$f":"'4. Billing Det. for Def-Var'!$L25*P$28","v":0},{"$f":"'4. Billing Det. for Def-Var'!$L25*Q$28","v":0},{"$f":"'4. Billing Det. for Def-Var'!$L25*R$28","v":0},{"$f":"'4. Billing Det. for Def-Var'!$L25*S$28","v":0},{"$f":"'4. Billing Det. for Def-Var'!$L25*T$28","v":0}]
[null,{"$f":"'4. Billing Det. for Def-Var'!B26","v":0}]
[]
[]
[null,null,{"$f":"SUM(C16:C27)","v":1.0000000000000002},{"$f":"SUM(D16:D27)","v":1},{"$f":"SUM(E16:E27)","v":1},{"$f":"SUM(F16:F27)","v":0.99999999999999989},{"$f":"'3. Continuity Schedule'!CN21","v":602717.58140333323},{"$f":"'3. Continuity Schedule'!CN22","v":-28713.647852082984},{"$f":"'3. Continuity Schedule'!CN23+'3. Continuity Schedule'!CN25","v":-4793358.6366076674},null,null,{"$f":"'3. Continuity Schedule'!CN26","v":-193188.497109991},{"$f":"'3. Continuity Schedule'!CN27","v":444693.9775323213},{"$f":"'3. Continuity Schedule'!CN28","v":-4133873.7446269193},null,null,null,null,null,null,null,null,{"$f":"SUM(W16:W27)","v":909905.42435437522}]
[null,null,null,null,null,null,{"$f":"SUM(G16:G27)-G28","v":0},{"$f":"SUM(H16:H27)-H28","v":0},0,0,0,0,0,0,0,0,0,0,0,0,0,0,0]
[]
[]
[null,"** Used to allocate Account 1551 as this account records the variances arising from the Smart Metering Entity Charges to Residential and GS<50 customers."]

{"sheet":"6. GA Calculation","index":4,"n_rows":32,"n_cols":16,"rows_kept":32,"cut":false,"hidden":false,"merged":[[1,1,8,6],[11,8,11,9],[12,8,12,9]]}
["Back to Index"]
[null,{"$f":"+'1. Information Sheet'!B2","v":"INCENTIVE REGULATION MODEL FOR 2019 FILERS"}]
[]
[]
[]
[]
[]
[]
[]
[]
[]
[null,null,null,null,null,null,null,null,"Default Rate Rider Recovery Period (in months)",null,12]
[null,"The purpose of this tab is to calculate the GA rate riders for all current Class B customers of the distributor.\nIdentify the total billed consumption for former Class B customers prior to becoming Class A customers in  Column G.\nEffective January 2017, the billing determinant and all rate riders for the disposition of GA balances will be calculated on an energy basis (kWhs) regardless of the billing determinant used for distribution rates for the particular class (see Chapter 3, Filing Requirements, section 3.2.5.2)",null,null,null,null,null,null,"Proposed Rate Rider Recovery Period (in months)",null,11]
[null,null,"Total Metered Non-RPP consumption minus WMP",null,"Total  Metered Class A Consumption in 2017 (partial and/or full year Class A customers)*",null,"Total Metered Consumption for New Class A customer(s) in the period prior to becoming Class A (i.e. Jan. 1 - June 30, 2017) ","Total Metered Consumption for New Class B customer(s) in the period after becoming Class B (i.e. Jul 1 - Dec 31, 2017) ","Metered Consumption for Current Class B Customers (Non-RPP consumption LESS WMP, Class A and new Class A's former Class B consumption if applicable)",null,"% of total kWh","Total GA $ allocated to Current Class B Customers","GA Rate Rider",null,"Revenue Reconciliation","Variance"]
[null,null,"kWh","kW","kWh","kW","kWh","kWh","kWh","kW"]
[]
[null,{"$f":"'4. Billing Det. for Def-Var'!B17","v":"RESIDENTIAL"},{"$f":"'4. Billing Det. for Def-Var'!F17-'4. Billing Det. for Def-Var'!H17","v":70075468},null,null,null,null,null,{"$f":"C17-E17-G17-H17","v":70075468},null,{"$f":"IFERROR(I17/I$29,\"\")","v":5.1309802771410548E-2},{"$f":"IFERROR(L$29*K17,\"\")","v":-15059.05156977624},{"$f":"ROUND(IF(ISERROR(L17/I17),0,IF(OR(ISBLANK($K$13), OR($K$13=0, $K$13=\"\")), L17/I17/($K$12/12), L17/I17/($K$13/12))),4)","v":-2.0000000000000001E-4},"kwh",{"$f":"ROUND(M17,4)*I17","v":-14015.0936},{"$f":"L17-O17","v":-1043.9579697762401}]
[null,{"$f":"'4. Billing Det. for Def-Var'!B18","v":"GENERAL SERVICE LESS THAN 50 KW"},{"$f":"'4. Billing Det. for Def-Var'!F18-'4. Billing Det. for Def-Var'!H18","v":103616724},null,null,null,null,null,{"$f":"C18-E18-G18-H18","v":103616724},null,{"$f":"IFERROR(I18/I$29,\"\")","v":7.5868971324739229E-2},{"$f":"IFERROR(L$29*K18,\"\")","v":-22266.987788183895},{"$f":"ROUND(IF(ISERROR(L18/I18),0,IF(OR(ISBLANK($K$13), OR($K$13=0, $K$13=\"\")), L18/I18/($K$12/12), L18/I18/($K$13/12))),4)","v":-2.0000000000000001E-4},"kwh",{"$f":"ROUND(M18,4)*I18","v":-20723.344800000003},{"$f":"L18-O18","v":-1543.6429881838922}]
[null,{"$f":"'4. Billing Det. for Def-Var'!B19","v":"GENERAL SERVICE 50 TO 4,999 KW"},{"$f":"'4. Billing Det. for Def-Var'!F19-'4. Billing Det. for Def-Var'!H19","v":1588736386},null,294613747,null,127847550,5633530,{"$f":"C19-E19-G19-H19","v":1160641559},null,0.84983077787782246,{"$f":"IFERROR(L$29*K19,\"\")","v":-249419.11327665328},-2.0000000000000001E-4,"kwh",-232128.31180000002,-17290.801476653258]
[null,{"$f":"'4. Billing Det. for Def-Var'!B20","v":"LARGE USE (1)"},{"$f":"'4. Billing Det. for Def-Var'!F20-'4. Billing Det. for Def-Var'!H20","v":185572728.49602383},null,185572728.49602383,null,null,null,0,null,0,0,0,"kwh",0,0]
[null,{"$f":"'4. Billing Det. for Def-Var'!B21","v":"LARGE USE (2)"},{"$f":"'4. Billing Det. for Def-Var'!F21-'4. Billing Det. for Def-Var'!H21","v":307375989.7355864},null,307375989.7355864,null,null,null,0,null,{"$f":"IFERROR(I21/I$29,\"\")","v":0},0,{"$f":"ROUND(IF(ISERROR(L21/I21),0,IF(OR(ISBLANK($K$13), OR($K$13=0, $K$13=\"\")), L21/I21/($K$12/12), L21/I21/($K$13/12))),4)","v":0},"kwh",0,0]
[null,{"$f":"'4. Billing Det. for Def-Var'!B22","v":"UNMETERED SCATTERED LOAD"},{"$f":"'4. Billing Det. for Def-Var'!F22-'4. Billing Det. for Def-Var'!H22","v":427147},null,null,null,null,null,427147,null,3.1276035608352555E-4,-91.792875373664458,-2.0000000000000001E-4,"kwh",-85.429400000000001,-6.3634753736644569]
[null,{"$f":"'4. Billing Det. for Def-Var'!B23","v":"SENTINEL LIGHTING"},{"$f":"'4. Billing Det. for Def-Var'!F23-'4. Billing Det. for Def-Var'!H23","v":5557},null,null,null,null,null,5557,null,4.0688786266932731E-6,-1.1941860962419339,-2.0000000000000001E-4,"kwh",-1.1113999999999999,-8.2786096241934004E-2]
[null,{"$f":"'4. Billing Det. for Def-Var'!B24","v":"STREET LIGHTING"},{"$f":"'4. Billing Det. for Def-Var'!F24-'4. Billing Det. for Def-Var'!H24","v":30966099.30725503},null,null,null,null,null,30966099.30725503,null,2.2673618791317504E-2,-6654.5411638601663,-2.0000000000000001E-4,"kwh",-6193.2198614510062,-461.32130240916013]
[]
[]
[]
[]
[null,null,{"$f":"SUM(C17:C28)","v":2286776099.5388651},{"$f":"SUM(D17:D28)","v":0},787562465.2316103,0,127847550,5633530,1365732554.307255,0,0.99999999999999989,{"$f":"'6B. GA Allocation_new Class B'!D28","v":-293492.6808599435},null,null,{"$f":"SUM(O17:O28)","v":-273146.51086145104},{"$f":"SUM(P17:P28)","v":-20346.169998492456}]
[null,null,null,null,null,null,null,null,null,null,null,"from Sheet 6B"]
[null,null,null,null,null,null,null,null,null,null,null,null,null,null,"NOTE: if rate rider is at 5 decimal places, then the balance dispostion is in full"]
[null,"*For new Class A customers (who became Class A in 2017), add their consumption only related to July to December period."]

{"sheet":"6A. GA Allocation_Class A","index":5,"n_rows":69,"n_cols":16,"rows_kept":69,"cut":false,"hidden":false,"merged":[[30,1,30,3],[1,1,8,7],[28,1,28,5],[11,1,11,6],[13,3,13,10],[15,1,15,6],[22,1,22,3]]}
["Back to Index"]
[null,{"$f":"+'1. Information Sheet'!B2","v":"INCENTIVE REGULATION MODEL FOR 2019 FILERS"}]
[]
[]
[]
[]
[]
[]
[]
[]
[]
[null,"This tab allocates the GA balance to former Class B customers who contributed to the current GA balance but are now Class A customers. The tables below calculate specific amounts for each customer who made the change. Consistent with both decisions for 2016 rates and EDDVAR, distributors are generally expected to settle the amount through 12 equal adjustments to bills. A one-time settlement is acceptable if the affected customer has expressed a clear preference for this approach. (see Filing Requirements section 3.2.5.2)"]
[]
[null,"Year of Group 1 Account Balance Last Disposed",2016,"(e.g. If in the 2017 EDR process, you received approval to dispose the GA variance account balance as of December 31, 2014, please enter 2014 in cell C16.)"]
[]
[null,"Allocation of total Non-RPP consumption (kWh) between Class B and New Class A (Former Class B) customers"]
[null,null,null,"Total",2017,2016,2015,2014,2013,2012]
[null,"Total Class B Consumption for Years Since Last Disposition (Non-RPP consumption LESS WMP and Class A)","A",{"$f":"SUM(E18:J18)","v":1499213634.3072548},{"$f":"'6. GA Calculation'!C29-'6. GA Calculation'!E29","v":1499213634.3072548},null,0]
[null,"New Class A Customer(s)' Former Class B Consumption","B",{"$f":"SUM(E19:J19)","v":127847550},{"$f":"E69","v":127847550},null,0,{"$f":"H69","v":0},{"$f":"I69","v":0},{"$f":"J69","v":0}]
[null,"Portion of Consumption of Former Class B Customers","C=B/A",{"$f":"IFERROR(+D19/D18,0)","v":8.5276405626523555E-2}]
[]
[]
[null,"Allocation of Total GA Balance $"]
[]
[null,"Total GA Balance","D",{"$f":"'3. Continuity Schedule'!CN29","v":-322177.44779306522}]
[null,"New Class A Customer(s)' Former Class B Portion of GA Balance","E=C*D",{"$f":"+D20*D25","v":-27474.134721719547}]
[null,"GA Balance to be disposed to Current Class B Customers (if no Class A to Class  B Transition Customers)","F=D-E",{"$f":"+D25-D26","v":-294703.31307134568},null,null,null,null,null,null,null,null,null,null,null,"s"]
[]
[null,"Allocation of GA Balances to Former Class B Customers"]
[]
[null,"# of Former Class B customer(s)",null,null,null,2,9]
[null,"Customer",null,"Total Metered kWh Consumption for each new Class A customer for the period prior to becoming Class A",2017,"Metered kWh Consumption for each new Class A customer for the period prior to becoming Class A in 2016","Metered kWh Consumption for each new Class A customer for the period prior to becoming Class A in 2015","Metered kWh Consumption for each new Class A customer for the period prior to becoming Class A in 2014","Metered kWh Consumption for each new Class A customer for the period prior to becoming Class A in 2013","Metered kWh Consumption for each new Class A customer for the period prior to becoming Class A in 2012","% of kWh","Customer specific GA allocation for the period prior to becoming Class A","Monthly Equal Payments"]
[null,"Customer 1",null,{"$f":"SUM(E33:J33)","v":1112523},1112523,null,null,null,null,null,{"$f":"IFERROR(+D33/$D$69,0)","v":8.7019500960323452E-3},{"$f":"+K33*$D$26","v":-239.07854928007299},{"$f":"+L33/8","v":-29.884818660009124}]
[null,"Customer 2",null,{"$f":"SUM(E34:J34)","v":11119481},11119481,null,null,null,null,null,8.6974533340685833E-2,{"$f":"+K34*$D$26","v":-2389.5500463606909},{"$f":"+L34/8","v":-298.69375579508636}]
[null,"Customer 3",null,1259299,1259299,null,null,null,null,null,9.8500049472985598E-3,-270.62036293168467,-33.827545366460583]
[null,"Customer 4",null,2132444,2132444,null,null,null,null,null,1.6679584395633707E-2,-458.25714878793156,-57.282143598491444]
[null,"Customer 5",null,1331127,1331127,null,null,null,null,null,1.0411830340119933E-2,-286.05602946414206,-35.757003683017757]
[null,"Customer 6",null,2762887,2762887,null,null,null,null,null,2.1610793480203571E-2,-593.73785151837137,-74.217231439796421]
[null,"Customer 7",null,6256539,6256539,null,null,null,null,null,4.8937496260194273E-2,-1344.5153651962239,-168.06442064952799]
[null,"Customer 8",null,999971,999971,null,null,null,null,null,7.8215890722974357E-3,{"$f":"+K40*$D$26","v":-214.89139191022915},-26.861423988778643]
[null,"Customer 9",null,7013680,7013680,null,null,null,null,null,5.4859713776290592E-2,-1507.2231670847816,-188.4028958855977]
[null,"Customer 10",null,3468287,3468287,null,null,null,null,null,2.7128302419561424E-2,-745.32663544658089,-93.165829430822612]
[null,"Customer 11",null,5796244,5796244,null,null,null,null,null,4.5337153508221317E-2,-1245.5990633841525,-155.69988292301906]
[null,"Customer 12",null,7763800,7763800,null,null,null,null,null,6.0727014322918195E-2,-1668.4221727556471,-208.55277159445589]
[null,"Customer 13",null,5278662,5278662,null,null,null,null,null,4.1288722388500995E-2,-1134.3719213893544,-141.7964901736693]
[null,"Customer 14",null,3940838,3940838,null,null,null,null,null,3.0824509347265553E-2,-846.87672253767721,-105.85959031720965]
[null,"Customer 15",null,6298192,6298192,null,null,null,null,null,4.9263298358083511E-2,-1353.4664959262518,-169.18331199078148]
[null,"Customer 16",null,4930067,4930067,null,null,null,null,null,3.8562076473111918E-2,-1059.4596841715286,-132.43246052144107]
[null,"Customer 17",null,3018648,3018648,null,null,null,null,null,2.3611308937871708E-2,-648.70028271522813,-81.087535339403516]
[null,"Customer 18",null,3108153,3108153,null,null,null,null,null,2.4311400570445035E-2,-667.93469454609635,-83.491836818262044]
[null,"Customer 19",null,1506099,1506099,null,null,null,null,null,1.1780429112642363E-2,-323.65709652040334,-40.457137065050418]
[null,"Customer 20",null,2076084,2076084,null,null,null,null,null,1.6238746851230234E-2,-446.14551870259851,-55.768189837824814]
[null,"Customer 21",null,5424020,5424020,null,null,null,null,null,4.2425685904813978E-2,-1165.6090102102173,-145.70112627627717]
[null,"Customer 22",null,2583905,2583905,null,null,null,null,null,2.0210829225902255E-2,-555.27504499010536,-69.40938062376317]
[null,"Customer 23",null,2529573,2529573,null,null,null,null,null,1.9785854324154042E-2,{"$f":"+K55*$D$26","v":-543.59922728612537},-67.949903410765671]
[null,"Customer 24",null,3390659,3390659,null,null,null,null,null,2.6521110494491292E-2,-728.64456269526386,-91.080570336907982]
[null,"Customer 25",null,1161128,1161128,null,null,null,null,null,9.0821294580928618E-3,-249.52364829174104,-31.19045603646763]
[null,"Customer 26",null,2421761,2421761,null,null,null,null,null,1.8942568707808635E-2,-520.43068465376336,-65.053835581720421]
[null,"Customer 27",null,1568280,1568280,null,null,null,null,null,1.2266797447428597E-2,-337.01964567469872,-42.12745570933734]
[null,"Customer 28",null,3124881,3124881,null,null,null,null,null,2.4442243906903183E-2,-671.52950199938675,-83.941187749923344]
[null,"Customer 29",null,2706410,2706410,null,null,null,null,null,2.116904078333922E-2,-581.60107841103718,-72.700134801379647]
[null,"Customer 30",null,3613039,3613039,null,null,null,null,null,2.8260525915436003E-2,-776.43349630733542,-97.054187038416927]
[null,"Customer 31",null,3605652,3605652,null,null,null,null,null,2.8202746161346073E-2,-774.84604755928081,-96.855755944910101]
[null,"Customer 32",null,1802628,1802628,null,null,null,null,null,1.4099824361123853E-2,-387.38047405010002,-48.422559256262502]
[null,"Customer 33",null,736499,736499,null,null,null,null,null,5.7607595921861619E-3,-158.27188513516077,-19.783985641895097]
[null,"Customer 34",null,3439510,3439510,null,null,null,null,null,2.6903214023264427E-2,-739.14252652242146,-92.392815815302683]
[null,"Customer 35",null,792832,792832,null,null,null,null,null,6.2013859475601998E-3,-170.37771298464736,-21.29721412308092]
[null,"Customer 36",null,7773748,7773748,null,null,null,null,null,6.0804825747540724E-2,-1670.5599743186153,-208.81999678982692]
[null,"Total",null,{"$f":"SUM(D33:D68)","v":127847550},{"$f":"SUM(E33:E68)","v":127847550},{"$f":"SUM(F33:F43)","v":0},{"$f":"SUM(G33:G43)","v":0},{"$f":"SUM(H33:H39)","v":0},0,0,{"$f":"SUM(K33:K68)","v":1},{"$f":"SUM(L33:L68)","v":-27474.13472171954}]

{"sheet":"6B. GA Allocation_new Class B","index":6,"n_rows":42,"n_cols":16,"rows_kept":42,"cut":false,"hidden":false,"merged":[[30,1,30,3],[1,1,8,7],[11,1,11,6],[13,3,13,10],[15,1,15,6],[22,1,22,3],[29,1,29,5]]}
["Back to Index"]
[null,{"$f":"+'1. Information Sheet'!B2","v":"INCENTIVE REGULATION MODEL FOR 2019 FILERS"}]
[]
[]
[]
[]
[]
[]
[]
[]
[]
[null,"This tab allocates the GA balance to former Class A customers who contributed to the current Class B GA balance once switched to Class B customers. The tables below calculate specific amounts for each customer who made the transition. Consistent with both decisions for 2016 rates and EDDVAR, distributors are generally expected to settle the amount through 12 equal adjustments to bills. A one-time settlement is acceptable if the affected customer has expressed a clear preference for this approach. (see Filing Requirements section 3.2.5.2)"]
[]
[null,"Year of Group 1 Account Balance Last Disposed",2016,"(e.g. If in the 2017 EDR process, you received approval to dispose the GA variance account balance as of December 31, 2014, please enter 2014 in cell C16.)"]
[]
[null,"Allocation of total Non-RPP consumption (kWh) between Class B and New Class B (Former Class A) customers"]
[null,null,null,"Total",2017,2016,2015,2014,2013,2012]
[null,"Total Class B Consumption for Years Since Last Disposition (Non-RPP consumption LESS WMP and Class A)","A",{"$f":"SUM(E18:J18)","v":1499213634.3072548},{"$f":"'6. GA Calculation'!C29-'6. GA Calculation'!E29","v":1499213634.3072548}]
[null,"New Class B Customer(s)'  Consumption","B",{"$f":"SUM(E19:J19)","v":5633530},{"$f":"E42","v":5633530},null,{"$f":"G42","v":0},{"$f":"H42","v":0},{"$f":"I42","v":0},{"$f":"J42","v":0}]
[null,"Portion of Consumption of New Class B Customers","C=B/A",{"$f":"IFERROR(+D19/D18,0)","v":3.7576565948208565E-3}]
[]
[]
[null,"Allocation of Total GA Balance $"]
[]
[null,"Total GA Calss B Balance adjusted for Class A","D",{"$f":"'6A. GA Allocation_Class A'!D25","v":-322177.44779306522}]
[null,"New Class B Customer(s)' Former Class A Portion of GA Balance attributable to Class B","E=C*D",{"$f":"+D20*D25","v":-1210.6322114021636}]
[null,"New Class A Customer(s)' Former Class B Portion of GA Balance","F=Sheet 6A",{"$f":"'6A. GA Allocation_Class A'!D26","v":-27474.134721719547}]
[null,"GA Balance to be disposed to Current Class B Customers","G=D-E-F",{"$f":"+D25-D26-D27","v":-293492.6808599435},null,"Input into Sheet 6. GA Calculation",null,null,null,null,null,null,null,null,null,"s"]
[]
[null,"Allocation of GA Balances to Former Class A Customers"]
[null,"# of Former Class B customer(s)",null,null,2017]
[null,"Customer",null,"Total Metered kWh Consumption for each new Class B customer for the period after becoming Class B",null,"Metered kWh Consumption for each new Class B customer for the period after becoming Class B in 2016","Metered kWh Consumption for each new Class B customer for the period prior to becoming Class B in 2015","Metered kWh Consumption for each new Class B customer for the period prior to becoming Class B in 2014","Metered kWh Consumption for each new Class B customer for the period prior to becoming Class B in 2013","Metered kWh Consumption for each new Class B customer for the period prior to becoming Class B in 2012","% of kWh","Customer specific GA allocation for the period after becoming Class B","Monthly Equal Payments"]
[null,"Customer 1",null,{"$f":"SUM(E33:J33)","v":5633530},5633530,null,null,null,null,null,{"$f":"IFERROR(+D33/$D$42,0)","v":1},{"$f":"+K33*$D$26","v":-1210.6322114021636},{"$f":"+L33/8","v":-151.32902642527046}]
[null,null,null,null,null,null,null,null,null,null,0,{"$f":"+K34*$D$26","v":0},{"$f":"+L34/12","v":0}]
[null,null,null,null,null,null,null,null,null,null,0,0,0]
[null,null,null,null,null,null,null,null,null,null,0,0,0]
[null,null,null,null,null,null,null,null,null,null,0,0,0]
[null,null,null,null,null,null,null,null,null,null,0,0,0]
[null,null,null,null,null,null,null,null,null,null,0,0,0]
[null,null,null,null,null,null,null,null,null,null,0,0,0]
[null,null,null,null,null,null,null,null,null,null,0,0,0]
[null,"Total",null,{"$f":"SUM(D33:D41)","v":5633530},{"$f":"SUM(E33:E41)","v":5633530},{"$f":"SUM(F33:F41)","v":0},{"$f":"SUM(G33:G41)","v":0},{"$f":"SUM(H33:H37)","v":0},0,0,{"$f":"SUM(K33:K41)","v":1},{"$f":"SUM(L33:L41)","v":-1210.6322114021636}]

{"sheet":"7. CBR Calculation","index":7,"n_rows":37,"n_cols":17,"rows_kept":37,"cut":false,"hidden":false,"merged":[[36,8,47,14],[1,1,8,6],[12,1,12,13],[18,2,18,3],[18,4,18,5],[18,6,18,7],[18,10,18,11],[18,8,18,9]]}
["Back to Index"]
[null,{"$f":"+'1. Information Sheet'!B2","v":"INCENTIVE REGULATION MODEL FOR 2019 FILERS"}]
[]
[]
[]
[]
[]
[]
[]
[]
[]
[]
[null,"The purpose of this tab is to calculate the CBR rate riders for all current Class B customers of the distributor.\nIdentify and input the total billed consumption for former Class B customers prior to becoming Class A customers in  Column H.\nIdentify and input the total billed consumption for former Class A customers after becoming  Class B customers in  Column H."]
[]
[null,"Account 1580"]
[null,"Variance WMS – Sub-account CBR Class A",{"$f":"'3. Continuity Schedule'!CN24","v":2.2000000036496203E-4}]
[null,"Variance WMS – Sub-account CBR Class B",{"$f":"'3. Continuity Schedule'!CN25","v":-56031.714863333349}]
[]
[null,null,"Total Metered LESS WMP",null,"Total  Metered Class A \nConsumption/Demand in  2016  (partial \nand/or full year Class A customers)*",null,"Total Metered Consumption/Demand\nfor New Class A customer(s)\n in the period prior to becoming\n Class A (i.e. Jan 1 - Jun 30, 2016) ",null,"Total Metered Consumption for New Class B customer(s) in the period after becoming Class B (i.e. Jul 1 - Dec 31, 2016) ",null,"Metered Consumption for Current Class B Customers (metered consumption/demand LESS WMP, Class A and new Class A's former Class B, if applicable)",null,"% of total kWh","Total CBR $ allocated to Current Class B Customers","CBR Rate Rider",null,"Calculated CBR Rate Rider"]
[null,null,"kWh","kW","kWh","kW","kWh","kW","kWh","kW","kWh","kW"]
[]
["R_CBR19",{"$f":"'4. Billing Det. for Def-Var'!B17","v":"RESIDENTIAL"},{"$f":"'4. Billing Det. for Def-Var'!D17-'4. Billing Det. for Def-Var'!H17","v":1537580328.6899991},{"$f":"'4. Billing Det. for Def-Var'!E17-'4. Billing Det. for Def-Var'!I17","v":0},{"$f":"'6. GA Calculation'!E17","v":0},null,{"$f":"'6. GA Calculation'!G17","v":0},null,{"$f":"'6. GA Calculation'!H17","v":0},null,{"$f":"C22-E22-G22-I22","v":1537580328.6899991},{"$f":"D22-F22-H22-J22","v":0},{"$f":"IFERROR(K22/K$34,\"\")","v":0.44397630077529832},{"$f":"IFERROR(N$34*M22,\"\")","v":-24876.753491119041},0,"kwh",{"$f":"ROUND(IFERROR(IF(P22=\"kwh\",N22/K22,N22/L22),0),5)","v":-2.0000000000000002E-5}]
["GSL_CBR19",{"$f":"'4. Billing Det. for Def-Var'!B18","v":"GENERAL SERVICE LESS THAN 50 KW"},{"$f":"'4. Billing Det. for Def-Var'!D18-'4. Billing Det. for Def-Var'!H18","v":558828431.00972259},{"$f":"'4. Billing Det. for Def-Var'!E18-'4. Billing Det. for Def-Var'!I18","v":0},{"$f":"'6. GA Calculation'!E18","v":0},null,{"$f":"'6. GA Calculation'!G18","v":0},null,{"$f":"'6. GA Calculation'!H18","v":0},null,{"$f":"C23-E23-G23-I23","v":558828431.00972259},{"$f":"D23-F23-H23-J23","v":0},{"$f":"IFERROR(K23/K$34,\"\")","v":0.16136170249989126},{"$f":"IFERROR(N$34*M23,\"\")","v":-9041.3729043359308},0,"kwh",{"$f":"ROUND(IFERROR(IF(P23=\"kwh\",N23/K23,N23/L23),0),5)","v":-2.0000000000000002E-5}]
["GSG_CBR19",{"$f":"'4. Billing Det. for Def-Var'!B19","v":"GENERAL SERVICE 50 TO 4,999 KW"},{"$f":"'4. Billing Det. for Def-Var'!D19-'4. Billing Det. for Def-Var'!H19","v":1751908545.0163753},{"$f":"'4. Billing Det. for Def-Var'!E19-'4. Billing Det. for Def-Var'!I19","v":4824433.3829784254},{"$f":"'6. GA Calculation'!E19","v":294613747},674039.68999999983,{"$f":"'6. GA Calculation'!G19","v":127847550},337632.35,{"$f":"'6. GA Calculation'!H19","v":5633530},13722.77,1323813718.0163753,3799038.5729784253,0.38225119460344137,-21418.189942188576,0,"kW",-5.64E-3]
["LU_CBR19",{"$f":"'4. Billing Det. for Def-Var'!B20","v":"LARGE USE (1)"},{"$f":"'4. Billing Det. for Def-Var'!D20-'4. Billing Det. for Def-Var'!H20","v":185572728.49602383},{"$f":"'4. Billing Det. for Def-Var'!E20-'4. Billing Det. for Def-Var'!I20","v":338314.53215999994},{"$f":"'6. GA Calculation'!E20","v":185572728.49602383},338314.53215999994,{"$f":"'6. GA Calculation'!G20","v":0},0,{"$f":"'6. GA Calculation'!H20","v":0},0,0,0,0,0,0,"kW",0]
["LUDA_CBR19",{"$f":"'4. Billing Det. for Def-Var'!B21","v":"LARGE USE (2)"},{"$f":"'4. Billing Det. for Def-Var'!D21-'4. Billing Det. for Def-Var'!H21","v":307375989.7355864},{"$f":"'4. Billing Det. for Def-Var'!E21-'4. Billing Det. for Def-Var'!I21","v":790236.97796000005},{"$f":"'6. GA Calculation'!E21","v":307375989.7355864},790236.97796000005,{"$f":"'6. GA Calculation'!G21","v":0},null,{"$f":"'6. GA Calculation'!H21","v":0},null,0,0,0,0,0,"kW",0]
["USL_CBR19",{"$f":"'4. Billing Det. for Def-Var'!B22","v":"UNMETERED SCATTERED LOAD"},{"$f":"'4. Billing Det. for Def-Var'!D22-'4. Billing Det. for Def-Var'!H22","v":11347508.416576881},{"$f":"'4. Billing Det. for Def-Var'!E22-'4. Billing Det. for Def-Var'!I22","v":0},{"$f":"'6. GA Calculation'!E22","v":0},null,{"$f":"'6. GA Calculation'!G22","v":0},null,{"$f":"'6. GA Calculation'!H22","v":0},null,11347508.416576881,0,3.2765929140760445E-3,-183.59311988472743,0,"kWh",-2.0000000000000002E-5]
["SEN_CBR19",{"$f":"'4. Billing Det. for Def-Var'!B23","v":"SENTINEL LIGHTING"},{"$f":"'4. Billing Det. for Def-Var'!D23-'4. Billing Det. for Def-Var'!H23","v":439954.02282899455},{"$f":"'4. Billing Det. for Def-Var'!E23-'4. Billing Det. for Def-Var'!I23","v":946.91011767210034},{"$f":"'6. GA Calculation'!E23","v":0},null,{"$f":"'6. GA Calculation'!G23","v":0},null,{"$f":"'6. GA Calculation'!H23","v":0},null,439954.02282899455,946.91011767210034,{"$f":"IFERROR(K28/K$34,\"\")","v":1.2703671861700154E-4},-7.1180851947213419,0,"kW",-7.5199999999999998E-3]
["SL_CBR19",{"$f":"'4. Billing Det. for Def-Var'!B24","v":"STREET LIGHTING"},{"$f":"'4. Billing Det. for Def-Var'!D24-'4. Billing Det. for Def-Var'!H24","v":31193672.300799686},{"$f":"'4. Billing Det. for Def-Var'!E24-'4. Billing Det. for Def-Var'!I24","v":87344.171000000002},{"$f":"'6. GA Calculation'!E24","v":0},null,{"$f":"'6. GA Calculation'!G24","v":0},null,{"$f":"'6. GA Calculation'!H24","v":0},null,31193672.300799686,87344.171000000002,9.0071724886759824E-3,-504.68732061035325,0,"kW",-5.7800000000000004E-3]
[]
[]
[]
[]
[null,null,{"$f":"SUM(C22:C33)","v":4384247157.6879129},{"$f":"SUM(D22:D33)","v":6041275.974216097},787562465.2316103,1802591.2001199997,127847550,337632.35,{"$f":"SUM(I22:I33)","v":5633530},13722.77,3463203612.4563026,3887329.6540960977,1,{"$f":"'7B. CBR Allocation_new Class B'!D28","v":-56031.714863333349}]
[null,null,null,null,null,null,null,null,null,null,null,null,null,"from Sheet 7B"]
[]
[null,"*For new Class A customers (who became Class A in 2016), add their consumption only related to July to December period.",null,null,null,null,null,null,"If the allocated Account 1580 sub-account CBR Class B amount does not produce a rate rider in one or more rate class (except for the Standby rate class), a distributor is to transfer the entire OEB-approved CBR Class B amount into Account 1580 WMS control account to be disposed through the general purpose Group 1 DVA rate riders. (see Accounting Guidance, Capacity Based Recovery xxxxx, 2018)"]

{"sheet":"7A. CBR Allocation_Class A","index":8,"n_rows":69,"n_cols":16,"rows_kept":69,"cut":false,"hidden":false,"merged":[[30,1,30,3],[1,1,8,7],[11,1,11,6],[15,1,15,6],[22,1,22,3],[28,1,28,5]]}
["Back to Index"]
[null,{"$f":"+'1. Information Sheet'!B2","v":"INCENTIVE REGULATION MODEL FOR 2019 FILERS"}]
[]
[]
[]
[]
[]
[]
[]
[]
[]
[null,"This tab allocates the CBR balance to former Class B customers who contributed to the current CBR balance but are now Class A customers. The tables below calculate specific amounts for each customer who made the change. Consistent with both decisions for 2016 rates and EDDVAR, distributors are generally expected to settle the amount through 12 equal adjustments to bills. A one-time settlement is acceptable if the affected customer has expressed a clear preference for this approach. (see Filing Requirements section 3.2.5.2)"]
[]
[null,"Year of Group 1 Account Balance Last Disposed",2016]
[]
[null,"Allocation of total Non-RPP consumption (kWh) between Class B and New Class A (Former Class B) customers"]
[null,null,null,"Total",2017,2016]
[null,"Total MeteredConsumption for Years Since Last Disposition (consumption LESS WMP and Class A)","A",{"$f":"SUM(E18:J18)","v":3596684692.4563026},{"$f":"'7. CBR Calculation'!C34-'7. CBR Calculation'!E34","v":3596684692.4563026}]
[null,"New Class A Customer(s)' Former Class B Consumption","B",{"$f":"SUM(E19:J19)","v":127847550},{"$f":"E69","v":127847550}]
[null,"Portion of Consumption of Former Class B Customers","C=B/A",{"$f":"IFERROR(+D19/D18,0)","v":3.5545943259398811E-2}]
[]
[]
[null,"Allocation of Total CBR Class B Balance $"]
[]
[null,"Total CBR-Class B Balance","D",{"$f":"'7. CBR Calculation'!C17","v":-56031.714863333349}]
[null,"New Class A Customer(s)' Former Class B Portion of CBR-Class B Balance","E=C*D",0]
[null,"CBR-Class B Balance to be disposed to Current Class B Customers (if no Class A to Class  B Transition Customers)","F=D-E",{"$f":"+D25-D26","v":-56031.714863333349},null,null,null,null,null,null,null,null,null,null,null,"s"]
[]
[null,"Allocation of CBR Class B Balances to Former Class B Customers"]
[]
[null,"# of Former Class B customer(s)"]
[null,"Customer",null,"Total Metered kWh Consumption for each new Class A customer for the period prior to becoming Class A",2017,"Metered kWh Consumption for each new Class A customer for the period prior to becoming Class A in 2016",null,null,null,null,"% of kWh","Customer specific CBR-Class B allocation for the period prior to becoming Class A","Monthly Equal Payments"]
[null,"Customer 1",null,{"$f":"SUM(E33:J33)","v":1112523},{"$f":"'6A. GA Allocation_Class A'!E33","v":1112523},null,null,null,null,null,{"$f":"IFERROR(+D33/$D$69,0)","v":8.7019500960323452E-3},{"$f":"+K33*$D$26","v":0},{"$f":"+L33/8","v":0}]
[null,"Customer 2",null,{"$f":"SUM(E34:J34)","v":11119481},{"$f":"'6A. GA Allocation_Class A'!E34","v":11119481},null,null,null,null,null,8.6974533340685833E-2,{"$f":"+K34*$D$26","v":0},{"$f":"+L34/8","v":0}]
[null,"Customer 3",null,{"$f":"SUM(E35:J35)","v":1259299},{"$f":"'6A. GA Allocation_Class A'!E35","v":1259299},null,null,null,null,null,9.8500049472985598E-3,0,0]
[null,"Customer 4",null,2132444,{"$f":"'6A. GA Allocation_Class A'!E36","v":2132444},null,null,null,null,null,1.6679584395633707E-2,0,0]
[null,"Customer 5",null,1331127,{"$f":"'6A. GA Allocation_Class A'!E37","v":1331127},null,null,null,null,null,1.0411830340119933E-2,0,0]
[null,"Customer 6",null,2762887,{"$f":"'6A. GA Allocation_Class A'!E38","v":2762887},null,null,null,null,null,2.1610793480203571E-2,0,0]
[null,"Customer 7",null,6256539,{"$f":"'6A. GA Allocation_Class A'!E39","v":6256539},null,null,null,null,null,4.8937496260194273E-2,0,0]
[null,"Customer 8",null,999971,{"$f":"'6A. GA Allocation_Class A'!E40","v":999971},null,null,null,null,null,7.8215890722974357E-3,0,0]
[null,"Customer 9",null,7013680,{"$f":"'6A. GA Allocation_Class A'!E41","v":7013680},null,null,null,null,null,5.4859713776290592E-2,0,0]
[null,"Customer 10",null,3468287,{"$f":"'6A. GA Allocation_Class A'!E42","v":3468287},null,null,null,null,null,2.7128302419561424E-2,0,0]
[null,"Customer 11",null,5796244,{"$f":"'6A. GA Allocation_Class A'!E43","v":5796244},null,null,null,null,null,4.5337153508221317E-2,0,0]
[null,"Customer 12",null,7763800,{"$f":"'6A. GA Allocation_Class A'!E44","v":7763800},null,null,null,null,null,{"$f":"IFERROR(+D44/$D$69,0)","v":6.0727014322918195E-2},{"$f":"+K44*$D$26","v":0},0]
[null,"Customer 13",null,5278662,{"$f":"'6A. GA Allocation_Class A'!E45","v":5278662},null,null,null,null,null,4.1288722388500995E-2,0,0]
[null,"Customer 14",null,3940838,{"$f":"'6A. GA Allocation_Class A'!E46","v":3940838},null,null,null,null,null,3.0824509347265553E-2,0,0]
[null,"Customer 15",null,6298192,{"$f":"'6A. GA Allocation_Class A'!E47","v":6298192},null,null,null,null,null,4.9263298358083511E-2,0,0]
[null,"Customer 16",null,4930067,{"$f":"'6A. GA Allocation_Class A'!E48","v":4930067},null,null,null,null,null,3.8562076473111918E-2,0,0]
[null,"Customer 17",null,3018648,{"$f":"'6A. GA Allocation_Class A'!E49","v":3018648},null,null,null,null,null,2.3611308937871708E-2,0,0]
[null,"Customer 18",null,3108153,{"$f":"'6A. GA Allocation_Class A'!E50","v":3108153},null,null,null,null,null,2.4311400570445035E-2,0,0]
[null,"Customer 19",null,1506099,{"$f":"'6A. GA Allocation_Class A'!E51","v":1506099},null,null,null,null,null,1.1780429112642363E-2,0,0]
[null,"Customer 20",null,2076084,{"$f":"'6A. GA Allocation_Class A'!E52","v":2076084},null,null,null,null,null,1.6238746851230234E-2,0,0]
[null,"Customer 21",null,5424020,{"$f":"'6A. GA Allocation_Class A'!E53","v":5424020},null,null,null,null,null,4.2425685904813978E-2,0,0]
[null,"Customer 22",null,2583905,{"$f":"'6A. GA Allocation_Class A'!E54","v":2583905},null,null,null,null,null,2.0210829225902255E-2,0,0]
[null,"Customer 23",null,2529573,{"$f":"'6A. GA Allocation_Class A'!E55","v":2529573},null,null,null,null,null,1.9785854324154042E-2,0,0,"These two accounts (Bartek) are now combined - adjustment to be made to account 219286"]
[null,"Customer 24",null,3390659,{"$f":"'6A. GA Allocation_Class A'!E56","v":3390659},null,null,null,null,null,2.6521110494491292E-2,0,0,"Account 219454 (Bartek) now combined with above account number"]
[null,"Customer 25",null,1161128,{"$f":"'6A. GA Allocation_Class A'!E57","v":1161128},null,null,null,null,null,9.0821294580928618E-3,0,0,"This customer account shut down and left premise/ premise now occupied by Class B customer.  Should this credit be removed and allocated to the remainder of the Class A customers?"]
[null,"Customer 26",null,2421761,{"$f":"'6A. GA Allocation_Class A'!E58","v":2421761},null,null,null,null,null,1.8942568707808635E-2,0,0]
[null,"Customer 27",null,1568280,{"$f":"'6A. GA Allocation_Class A'!E59","v":1568280},null,null,null,null,null,1.2266797447428597E-2,0,0]
[null,"Customer 28",null,3124881,{"$f":"'6A. GA Allocation_Class A'!E60","v":3124881},null,null,null,null,null,2.4442243906903183E-2,0,0]
[null,"Customer 29",null,2706410,{"$f":"'6A. GA Allocation_Class A'!E61","v":2706410},null,null,null,null,null,2.116904078333922E-2,0,0]
[null,"Customer 30",null,3613039,{"$f":"'6A. GA Allocation_Class A'!E62","v":3613039},null,null,null,null,null,2.8260525915436003E-2,0,0]
[null,"Customer 31",null,3605652,{"$f":"'6A. GA Allocation_Class A'!E63","v":3605652},null,null,null,null,null,2.8202746161346073E-2,0,0]
[null,"Customer 32",null,1802628,{"$f":"'6A. GA Allocation_Class A'!E64","v":1802628},null,null,null,null,null,1.4099824361123853E-2,0,0]
[null,"Customer 33",null,736499,{"$f":"'6A. GA Allocation_Class A'!E65","v":736499},null,null,null,null,null,5.7607595921861619E-3,0,0]
[null,"Customer 34",null,3439510,{"$f":"'6A. GA Allocation_Class A'!E66","v":3439510},null,null,null,null,null,2.6903214023264427E-2,0,0]
[null,"Customer 35",null,792832,{"$f":"'6A. GA Allocation_Class A'!E67","v":792832},null,null,null,null,null,6.2013859475601998E-3,0,0]
[null,"Customer 36",null,7773748,{"$f":"'6A. GA Allocation_Class A'!E68","v":7773748},null,null,null,null,null,6.0804825747540724E-2,0,0]
[null,"Total",null,{"$f":"SUM(D33:D68)","v":127847550},{"$f":"SUM(E33:E68)","v":127847550},{"$f":"SUM(F33:F68)","v":0},{"$f":"SUM(G33:G43)","v":0},{"$f":"SUM(H33:H39)","v":0},0,0,{"$f":"SUM(K33:K68)","v":1},{"$f":"SUM(L33:L68)","v":0}]

{"sheet":"7B. CBR Allocation_new Class B","index":9,"n_rows":42,"n_cols":16,"rows_kept":42,"cut":false,"hidden":false,"merged":[[31,1,31,3],[1,1,8,7],[11,1,11,6],[15,1,15,6],[22,1,22,3],[29,1,29,5]]}
["Back to Index"]
[null,{"$f":"+'1. Information Sheet'!B2","v":"INCENTIVE REGULATION MODEL FOR 2019 FILERS"}]
[]
[]
[]
[]
[]
[]
[]
[]
[]
[null,"This tab allocates the CBR-Class B balance to former Class A customers who contributed to the current CBR-Class B balance once switched to Class B customers. The tables below calculate specific amounts for each customer who made the transition. Consistent with both decisions for 2016 rates and EDDVAR, distributors are generally expected to settle the amount through 12 equal adjustments to bills. A one-time settlement is acceptable if the affected customer has expressed a clear preference for this approach. (see Filing Requirements section 3.2.5.2)"]
[]
[null,"Year of Group 1 Account Balance Last Disposed",2016]
[]
[null,"Allocation of total Non-RPP consumption (kWh) between Class B and New Class B (Former Class A) customers"]
[null,null,null,"Total",2017,2016,2015,2014,2013,2012]
[null,"Total Class B Consumption for Years Since Last Disposition (Non-RPP consumption LESS WMP and Class A)","A",{"$f":"SUM(E18:J18)","v":3596684692.4563026},{"$f":"'7. CBR Calculation'!C34-'7. CBR Calculation'!E34","v":3596684692.4563026}]
[null,"New Class B Customer(s)'  Consumption","B",{"$f":"SUM(E19:J19)","v":5633530},{"$f":"E42","v":5633530},0,0,0,0,0]
[null,"Portion of Consumption of New Class B Customers","C=B/A",{"$f":"IFERROR(+D19/D18,0)","v":1.5663118904517216E-3}]
[]
[]
[null,"Allocation of Total CBR-Class B Balance $"]
[]
[null,"Total CBR-Class B Balance adjusted for Class A","D",{"$f":"'7. CBR Calculation'!C17","v":-56031.714863333349}]
[null,"New Class B Customer(s)' Former Class A Portion of CBR-Class B Balance attributable to Class B","E=C*D",0]
[null,"New Class A Customer(s)' Former Class B Portion of CBR-Class B Balance","F=Sheet 6A",{"$f":"'7A. CBR Allocation_Class A'!D26","v":0}]
[null,"CBR-Class B Balance to be disposed to Current Class B Customers","G=D-E-F",{"$f":"+D25-D26-D27","v":-56031.714863333349},null,"Input into Sheet 7. CBR Calculation",null,null,null,null,null,null,null,null,null,"s"]
[]
[null,"Allocation of CBR-Class B Balances to Former Class A Customers"]
[]
[null,"# of Former Class B customer(s)",null,null,2017,2]
[null,"Customer",null,"Total Metered kWh Consumption for each new Class B customer for the period after becoming Class B",null,"Metered kWh Consumption for each new Class B customer for the period after becoming Class B in 2016",null,null,null,null,"% of kWh","Customer specific CBR-Class B allocation for the period after becoming Class B","Monthly Equal Payments"]
[null,"Customer 1",null,{"$f":"SUM(E34:J34)","v":5633530},5633530,null,null,null,null,null,{"$f":"IFERROR(+D34/$D$42,0)","v":1},{"$f":"+K34*$D$26","v":0},{"$f":"+L34/8","v":0}]
[null,null,null,null,null,null,null,null,null,null,0,{"$f":"+K35*$D$26","v":0},{"$f":"+L35/12","v":0}]
[null,null,null,null,null,null,null,null,null,null,0,0,0]
[null,null,null,null,null,null,null,null,null,null,0,0,0]
[null,null,null,null,null,null,null,null,null,null,0,0,0]
[null,null,null,null,null,null,null,null,null,null,0,0,0]
[null,null,null,null,null,null,null,null,null,null,0,0,0]
[null,null,null,null,null,null,null,null,null,null,0,0,0]
[null,"Total",null,{"$f":"SUM(D34:D41)","v":5633530},{"$f":"SUM(E34:E41)","v":5633530},{"$f":"SUM(F34:F41)","v":0},{"$f":"SUM(G34:G41)","v":0},{"$f":"SUM(H34:H37)","v":0},0,0,{"$f":"SUM(K34:K41)","v":1},{"$f":"SUM(L34:L41)","v":0}]

{"sheet":"8. Calculation of Def-Var RR","index":10,"n_rows":31,"n_cols":15,"rows_kept":31,"cut":false,"hidden":false,"merged":[[1,1,8,7],[14,10,15,10],[14,11,15,11],[15,12,15,13],[10,1,10,10],[11,1,11,2],[12,1,12,2],[14,3,15,3],[14,4,15,4],[14,5,15,5],[14,6,15,6],[14,7,15,7],[14,8,15,8],[14,9,15,9]]}
["Back to Index"]
[null,{"$f":"+'1. Information Sheet'!B2","v":"INCENTIVE REGULATION MODEL FOR 2019 FILERS"}]
[]
[]
[]
[]
[]
[]
[]
[]
[null,"Input required at cell D13 only.  This workshseet calculates rate riders related to the Deferral/Variance Account Disposition (if applicable) and rate riders for Account 1568.  Rate Riders will not be generated for the microFIT class."]
[null,"Default Rate Rider Recovery Period (in months)",null,12]
[null,"Proposed Rate Rider Recovery Period (in months)",null,11,{"$f":"IF(D13>0, \"Rate Rider Recovery to be used below\", \"If no rate rider recovery period is proposed then the default recovery period of 12 months will be used\")","v":"Rate Rider Recovery to be used below"}]
[]
[null,null,null,"Total Metered kWh","Metered kW \nor kVA","Total Metered kWh less WMP consumption ","Total Metered kW less WMP consumption ","Allocation of Group 1 Account Balances to All Classes 2","Allocation of Group 1 Account Balances to Non-WMP Classes Only \n(if Applicable) 2","Deferral/Variance Account Rate Rider 2","Deferral/Variance Account Rate Rider for Non-WMP \n(if applicable) 2","Account 1568 Rate Rider"]
[null,"Rate Class","Unit",null,null,null,null,null,null,null,null,null,"Revenue Reconciliation:",null,"Revenue\n Reconcilation 1"]
[null,{"$f":"'4. Billing Det. for Def-Var'!B17","v":"RESIDENTIAL"},{"$f":"'4. Billing Det. for Def-Var'!C17","v":"kWh"},{"$f":"'4. Billing Det. for Def-Var'!D17","v":1537580328.6899991},{"$f":"'4. Billing Det. for Def-Var'!E17","v":0},{"$f":"'4. Billing Det. for Def-Var'!J17","v":1537580328.6899991},{"$f":"'4. Billing Det. for Def-Var'!K17","v":0},{"$f":"SUM('5. Allocating Def-Var Balances'!G16:V16)-I17","v":-2902913.4618674754},null,{"$f":"IF(ISERROR(H17/D17),0,IF(OR(ISBLANK(D$13), OR(D$13=0, D$13=\"\")), H17/D17/(D$12/12), H17/D17/(D$13/12)))","v":-2.0596092617624078E-3},{"$f":"IF(ISERROR(I17/F17),0,IF(OR(ISBLANK(D$13), OR(D$13=0, D$13=\"\")), I17/F17/(D$12/12), I17/F17/(D$13/12)))","v":0},{"$f":"IF(ISERROR('4. Billing Det. for Def-Var'!U17/D17), 0, IF(OR(ISBLANK(D$13), OR(D$13=0, D$13=\"\")), ('4. Billing Det. for Def-Var'!U17/D17)/(D$12/12), ('4. Billing Det. for Def-Var'!U17/D17)/(D$13/12)))","v":3.0000735295058491E-4},{"$f":"J17*D17","v":-3166814.6856736094},{"$f":"K17*G17","v":0}]
[null,{"$f":"'4. Billing Det. for Def-Var'!B18","v":"GENERAL SERVICE LESS THAN 50 KW"},{"$f":"'4. Billing Det. for Def-Var'!C18","v":"kWh"},{"$f":"'4. Billing Det. for Def-Var'!D18","v":558828431.00972259},{"$f":"'4. Billing Det. for Def-Var'!E18","v":0},{"$f":"'4. Billing Det. for Def-Var'!J18","v":558828431.00972259},{"$f":"'4. Billing Det. for Def-Var'!K18","v":0},{"$f":"SUM('5. Allocating Def-Var Balances'!G17:V17)-I18","v":-1047644.1430385537},null,{"$f":"IF(ISERROR(H18/D18),0,IF(OR(ISBLANK(D$13), OR(D$13=0, D$13=\"\")), H18/D18/(D$12/12), H18/D18/(D$13/12)))","v":-2.0451438335257824E-3},{"$f":"IF(ISERROR(I18/F18),0,IF(OR(ISBLANK(D$13), OR(D$13=0, D$13=\"\")), I18/F18/(D$12/12), I18/F18/(D$13/12)))","v":0},{"$f":"IF(ISERROR('4. Billing Det. for Def-Var'!U18/D18), 0, IF(OR(ISBLANK(D$13), OR(D$13=0, D$13=\"\")), ('4. Billing Det. for Def-Var'!U18/D18)/(D$12/12), ('4. Billing Det. for Def-Var'!U18/D18)/(D$13/12)))","v":6.0406240979575445E-4},{"$f":"J18*D18","v":-1142884.5196784222},0]
[null,{"$f":"'4. Billing Det. for Def-Var'!B19","v":"GENERAL SERVICE 50 TO 4,999 KW"},{"$f":"'4. Billing Det. for Def-Var'!C19","v":"kW"},{"$f":"'4. Billing Det. for Def-Var'!D19","v":1751908545.0163753},{"$f":"'4. Billing Det. for Def-Var'!E19","v":4824433.3829784254},{"$f":"'4. Billing Det. for Def-Var'!J19","v":1751908545.0163753},{"$f":"'4. Billing Det. for Def-Var'!K19","v":4824433.3829784254},{"$f":"SUM('5. Allocating Def-Var Balances'!G18:V18)-I19","v":-3277372.2723653214},null,{"$f":"IF(ISERROR(H19/E19),0,IF(OR(ISBLANK(D$13), OR(D$13=0, D$13=\"\")), H19/E19/(D$12/12), H19/E19/(D$13/12)))","v":-0.74108499846451359},{"$f":"IF(ISERROR(I19/G19),0,IF(OR(ISBLANK(D$13), OR(D$13=0, D$13=\"\")), I19/G19/(D$12/12), I19/G19/(D$13/12)))","v":0},{"$f":"IF(ISERROR('4. Billing Det. for Def-Var'!U19/E19), 0, IF(OR(ISBLANK(D$13), OR(D$13=0, D$13=\"\")), ('4. Billing Det. for Def-Var'!U19/E19)/(D$12/12), ('4. Billing Det. for Def-Var'!U19/E19)/(D$13/12)))","v":6.6213670639156666E-3},{"$f":"J19*E19","v":-3575315.2062167143},0]
[null,{"$f":"'4. Billing Det. for Def-Var'!B20","v":"LARGE USE (1)"},{"$f":"'4. Billing Det. for Def-Var'!C20","v":"kW"},{"$f":"'4. Billing Det. for Def-Var'!D20","v":220526376.81002384},{"$f":"'4. Billing Det. for Def-Var'!E20","v":456125.73797999998},{"$f":"'4. Billing Det. for Def-Var'!J20","v":185572728.49602383},{"$f":"'4. Billing Det. for Def-Var'!K20","v":338314.53215999994},{"$f":"SUM('5. Allocating Def-Var Balances'!G19:V19)-I20","v":36488.852584398584},{"$f":"'5. Allocating Def-Var Balances'!I19+'5. Allocating Def-Var Balances'!N19","v":-377864.38841586967},{"$f":"IF(ISERROR(H20/E20),0,IF(OR(ISBLANK(D$13), OR(D$13=0, D$13=\"\")), H20/E20/(D$12/12), H20/E20/(D$13/12)))","v":8.7269841814774984E-2},{"$f":"IF(ISERROR(I20/G20),0,IF(OR(ISBLANK(D$13), OR(D$13=0, D$13=\"\")), I20/G20/(D$12/12), I20/G20/(D$13/12)))","v":-1.2184392252435843},{"$f":"IF(ISERROR('4. Billing Det. for Def-Var'!U20/E20), 0, IF(OR(ISBLANK(D$13), OR(D$13=0, D$13=\"\")), ('4. Billing Det. for Def-Var'!U20/E20)/(D$12/12), ('4. Billing Det. for Def-Var'!U20/E20)/(D$13/12)))","v":2.0490520087338822E-2},{"$f":"J20*E20","v":39806.021001162102},-412215.69645367604]
[null,{"$f":"'4. Billing Det. for Def-Var'!B21","v":"LARGE USE (2)"},{"$f":"'4. Billing Det. for Def-Var'!C21","v":"kW"},{"$f":"'4. Billing Det. for Def-Var'!D21","v":1050812632.4245863},{"$f":"'4. Billing Det. for Def-Var'!E21","v":1982813.5380800001},{"$f":"'4. Billing Det. for Def-Var'!J21","v":307375989.7355864},{"$f":"'4. Billing Det. for Def-Var'!K21","v":790236.97796000005},{"$f":"SUM('5. Allocating Def-Var Balances'!G20:V20)-I21","v":173870.11836409842},{"$f":"'5. Allocating Def-Var Balances'!I20+'5. Allocating Def-Var Balances'!N20","v":-625880.97570408159},{"$f":"IF(ISERROR(H21/E21),0,IF(OR(ISBLANK(D$13), OR(D$13=0, D$13=\"\")), H21/E21/(D$12/12), H21/E21/(D$13/12)))","v":9.5660277236407409E-2},-0.86401834546547274,{"$f":"IF(ISERROR('4. Billing Det. for Def-Var'!U21/E21), 0, IF(OR(ISBLANK(D$13), OR(D$13=0, D$13=\"\")), ('4. Billing Det. for Def-Var'!U21/E21)/(D$12/12), ('4. Billing Det. for Def-Var'!U21/E21)/(D$13/12)))","v":6.53193380593512E-3},{"$f":"J21*E21","v":189676.49276083466},-682779.24622263445]
[null,{"$f":"'4. Billing Det. for Def-Var'!B22","v":"UNMETERED SCATTERED LOAD"},{"$f":"'4. Billing Det. for Def-Var'!C22","v":"kWh"},{"$f":"'4. Billing Det. for Def-Var'!D22","v":11347508.416576881},{"$f":"'4. Billing Det. for Def-Var'!E22","v":0},{"$f":"'4. Billing Det. for Def-Var'!J22","v":11347508.416576881},{"$f":"'4. Billing Det. for Def-Var'!K22","v":0},{"$f":"SUM('5. Allocating Def-Var Balances'!G21:V21)-I22","v":-21228.282464124612},null,{"$f":"IF(ISERROR(H22/D22),0,IF(OR(ISBLANK(D18), OR(D18=0, D18=\"\")), H22/D22/(D17/12), H22/D22/(D$13/12)))","v":-2.0408115574225339E-3},{"$f":"IF(ISERROR(I22/F22),0,IF(OR(ISBLANK(D$13), OR(D$13=0, D$13=\"\")), I22/F22/(D$12/12), I22/F22/(D$13/12)))","v":0},{"$f":"IF(ISERROR('4. Billing Det. for Def-Var'!U22/D22), 0, IF(OR(ISBLANK(D$13), OR(D$13=0, D$13=\"\")), ('4. Billing Det. for Def-Var'!U22/D22)/(D$12/12), ('4. Billing Det. for Def-Var'!U22/D22)/(D$13/12)))","v":0},{"$f":"J22*D22","v":-23158.126324499575},0]
[null,{"$f":"'4. Billing Det. for Def-Var'!B23","v":"SENTINEL LIGHTING"},{"$f":"'4. Billing Det. for Def-Var'!C23","v":"kW"},{"$f":"'4. Billing Det. for Def-Var'!D23","v":439954.02282899455},{"$f":"'4. Billing Det. for Def-Var'!E23","v":946.91011767210034},{"$f":"'4. Billing Det. for Def-Var'!J23","v":439954.02282899455},{"$f":"'4. Billing Det. for Def-Var'!K23","v":946.91011767210034},{"$f":"SUM('5. Allocating Def-Var Balances'!G22:V22)-I23","v":-823.04131664695365},null,{"$f":"IF(ISERROR(H23/E23),0,IF(OR(ISBLANK(D$13), OR(D$13=0, D$13=\"\")), H23/E23/(D$12/12), H23/E23/(D$13/12)))","v":-0.94820325368501879},0,{"$f":"IF(ISERROR('4. Billing Det. for Def-Var'!U23/E23), 0, IF(OR(ISBLANK(D$13), OR(D$13=0, D$13=\"\")), ('4. Billing Det. for Def-Var'!U23/E23)/(D$12/12), ('4. Billing Det. for Def-Var'!U23/E23)/(D$13/12)))","v":0},{"$f":"J23*E23","v":-897.86325452394954},0]
[null,{"$f":"'4. Billing Det. for Def-Var'!B24","v":"STREET LIGHTING"},{"$f":"'4. Billing Det. for Def-Var'!C24","v":"kW"},{"$f":"'4. Billing Det. for Def-Var'!D24","v":31193672.300799686},{"$f":"'4. Billing Det. for Def-Var'!E24","v":87344.171000000002},{"$f":"'4. Billing Det. for Def-Var'!J24","v":31193672.300799686},{"$f":"'4. Billing Det. for Def-Var'!K24","v":87344.171000000002},{"$f":"SUM('5. Allocating Def-Var Balances'!G23:V23)-I24","v":-58355.37303742957},null,{"$f":"IF(ISERROR(H24/E24),0,IF(OR(ISBLANK(D$13), OR(D$13=0, D$13=\"\")), H24/E24/(D$12/12), H24/E24/(D$13/12)))","v":-0.72884551105217044},0,{"$f":"IF(ISERROR('4. Billing Det. for Def-Var'!U24/E24), 0, IF(OR(ISBLANK(D$13), OR(D$13=0, D$13=\"\")), ('4. Billing Det. for Def-Var'!U24/E24)/(D$12/12), ('4. Billing Det. for Def-Var'!U24/E24)/(D$13/12)))","v":1.5974648332010741},{"$f":"J24*E24","v":-63660.406949923163},0]
[]
[]
[null,null,null,null,null,null,null,null,null,null,null,null,{"$f":"SUM(M17:M26)","v":-7743248.2943356968},{"$f":"SUM(N17:N26)","v":-1094994.9426763104},{"$f":"SUM(M27:N27)","v":-8838243.2370120063}]
[null,null,null,null,null,null,null,null,null,null,null,null,null,null,{"$f":"O27-'3. Continuity Schedule'!CN41","v":-736520.62810751144}]
[]
[null,"1 When calculating the revenue reconciliation for distributors with Class A customers, the balances of sub-account 1580-CBR Class A and B will not be taken into consideration since the rate riders, if any, are calculated outside of the model."]
[null,"2 Only for rate classes with WMP customers are the Deferral/Variance Account Rate Riders for Non-WMP (column H and J) calculated separately. For all rate classes without WMP customers, balances in account 1580 and 1588 are included in column H and disposed through a combined Deferral/Variance Account and Rate Rider."]

{"sheet":"Sheet1","index":11,"n_rows":0,"n_cols":0,"rows_kept":0,"cut":false,"hidden":false,"merged":[]}