{"text_format":"1","workbook":"xlsx","n_sheets":64,"sheets":["Data Input Instructions","Data Current Rates","Data Proposed Rates","Data Billing Quantities","Data Pass Through","Data BI List","Data BI Summary","Bill Impact Summary","BI Template_Energy","BI Template_EnergyUNM","BI Template_Demand","BI_UR_Low","BI_UR_Typical","BI_UR_Avg","BI_UR_High","BI_R1_Low","BI_R1_Typical","BI_R1_Avg","BI_R1_High","BI_R2_Low","BI_R2_Typical","BI_R2_Avg","BI_R2_High","ExcludeDRP_BI_R1_Low","ExcludeDRP_BI_R1_Typical","ExcludeDRP_BI_R1_Avg","ExcludeDRP_BI_R1_High","ExcludeDRP_BI_R2_Low","ExcludeDRP_BI_R2_Typical","ExcludeDRP_BI_R2_Avg","ExcludeDRP_BI_R2_High","BI_Seas_Low","BI_Seas_Avg","BI_Seas_High","BI_GSe_Low","BI_GSe_Typical","BI_GSe_Avg","BI_GSe_High","BI_UGe_Low","BI_UGe_Typical","BI_UGe_Avg","BI_UGe_High","BI_GSd_Low","BI_GSd_Avg","BI_GSd_High","BI_UGd_Low","BI_UGd_Avg","BI_UGd_High","BI_StLgt_Low","BI_StLgt_Avg","BI_StLgt_High","BI_SenLgt_Low","BI_SenLgt_Avg","BI_SenLgt_High","BI_USL_Low","BI_USL_Avg","BI_USL_High","BI_Dgen_Low","BI_Dgen_Avg","BI_Dgen_High","BI_ST_Avg","BI_ST_Low","BI_ST_High","BI_ST_Avg_NonWMP_exclGA"],"not_rendered":{"charts":0,"images":0,"macros":1,"external_links":3,"defined_names":4,"comments":5,"pivot_tables":0},"unopened":[],"bounds":{"document_bytes":16777216,"sheet_cells":100000,"rows_first":2000,"rows_last":500,"rows_between":2000,"halvings":0,"cell_chars":16384,"cell_head_chars":4096},"cells_cut":0,"cells_raw":0,"read":"whole","date_system":"1900"}

{"sheet":"Data Input Instructions","index":0,"n_rows":16,"n_cols":3,"rows_kept":16,"cut":false,"hidden":true,"merged":[]}
[]
[]
["Worksheet ID","Worksheet","Input Data Notes"]
[1,"Data Current Rates","R2 Service Charge should already be net of RRRP credit"]
[1,"Data Current Rates","Demand billed RTSR should already be loss adjusted"]
[2,"Data Proposed Rates","Mapped from Draft Rates file prepared for Claude"]
[2,"Data Proposed Rates","Row 5 with header name TEXT is precedent to templates; changes to TEXT need to reflected in templates"]
[2,"Data Proposed Rates","Templates are set up with 2-dimension vlookups so it will accommodate inserted/deleted rows and/or columns"]
[3,"Data Billing Quantities","Row 4 with header name TEXT is precedent to templates; changes to TEXT need to reflected in templates"]
[3,"Data Billing Quantities","Templates are set up with 2-dimension vlookups so it will accommodate inserted/deleted rows and/or columns"]
[4,"Data Pass Through","Changes to Pass Through rates can be manually input on this sheet, which is precedent to the templates"]
[4,"Data Pass Through","Links to templates from Column A TEXT; any changes in the TEXT of the charge names must be reflected in the templates"]
[5,"Data BI List","Instruction Sheet for macro to create individual bill impact worksheets"]
[5,"Data BI List","Need to MANUALLY update Test Year to appear as header on all bill impact worksheets"]
[6,"Data BI Summary","This replaces the need for cell references in summary sheet, and displays value for totals so rows can be added to templates and worksheets without having to update the summary sheet"]
[null,"Bill Impact Summary","This file has 2 hidden columns needed to link to worksheets; see Col E and F"]

{"sheet":"Data Current Rates","index":1,"n_rows":20,"n_cols":18,"rows_kept":20,"cut":false,"hidden":true,"merged":[]}
["2021 Rates"]
[]
[1,2,3,4,5,null,null,null,null,6,7,8,9,10,null,null,11,12]
["Rate Description","Fixed Charge ($/month)","Current Variable Charge ($/kWh or $/kW)","Current Foregone Revenue Riders Fixed ($/month)","Current Volumetric Foregone Revenue Rider","Fixed Charge + Fixed Foregone","Volumetric Charge + Volumetric Foregone",null,null,"Current Def/VA rate rider Fixed ($/month)","Current Def/VA rate rider Volumetric ($/kWh or $/kW)","Vol VA Rider ($/kWh or $/kW) Non WMP","Current Rate Rider for CBR (Non-WMP Class B) ($/kWh or $/kW)","Current Rate Rider for Disposition of Global Adjustment (Non WMP, Non-RPP, Non-LDC, and Class B) ($/kWh)",null,null,"Current RTSR-NW ($/kWh or $/kW)","Current RTSR-CONN ($/kWh or $/kW)"]
["Rate as shown on Bill Impact Sheet","Service Charge","Distribution Volumetric Charge","Fixed Foregone Revenue Charge","Volumetric Foregone Revenue Charge","Fixed Service Charge","Dx Volumetric Charge","Fixed Base Rate Adjustment to Recover Misallocated Tax Savings ","Volumetric Base Rate Adjustment to Recover Misallocated Tax Savings ","Fixed Deferral/Variance Account Rider (General)","Volumetric Deferral/Variance Account Rider (General)","Volumetric Deferral/Variance Account Rider (Sub-Account RSVA Wholesale Market Service Charge & RSVA Power) - ST only","Volumetric Deferral/Variance Account Rider (Sub Account CBR)","Volumetric Deferral/Variance Account Rider (Sub-Account Global Adjustment)","Fixed ESM Rider","Volumetric ESM Rider","Retail Transmission Rate – Network Service Rate","Retail Transmission Rate – Line and Transformation Connection Service Rate"]
["UR",{"$f":"VLOOKUP($A6,'[1]Data Proposed Rates'!$A:$AX,MATCH(B$5,[1]!ProposedHeader,0),FALSE)","v":35.92},{"$f":"VLOOKUP($A6,'[1]Data Proposed Rates'!$A:$AX,MATCH(C$5,[1]!ProposedHeader,0),FALSE)","v":0},{"$f":"VLOOKUP($A6,'[1]Data Proposed Rates'!$A:$AX,MATCH(D$5,[1]!ProposedHeader,0),FALSE)","v":0},{"$f":"VLOOKUP($A6,'[1]Data Proposed Rates'!$A:$AX,MATCH(E$5,[1]!ProposedHeader,0),FALSE)","v":0},{"$f":"ROUND(SUM(B6,D6),2)","v":35.92},{"$f":"ROUND(SUM(C6,E6),4)","v":0},0,0,{"$f":"VLOOKUP($A6,'[1]Data Proposed Rates'!$A:$AX,MATCH(J$5,[1]!ProposedHeader,0),FALSE)","v":-0.14000000000000001},{"$f":"VLOOKUP($A6,'[1]Data Proposed Rates'!$A:$AX,MATCH(K$5,[1]!ProposedHeader,0),FALSE)","v":-6.9999999999999999E-4},{"$f":"VLOOKUP($A6,'[1]Data Proposed Rates'!$A:$AX,MATCH(L$5,[1]!ProposedHeader,0),FALSE)","v":0},{"$f":"VLOOKUP($A6,'[1]Data Proposed Rates'!$A:$AX,MATCH(M$5,[1]!ProposedHeader,0),FALSE)","v":{"$error":"#N/A"}},{"$f":"VLOOKUP($A6,'[1]Data Proposed Rates'!$A:$AX,MATCH(N$5,[1]!ProposedHeader,0),FALSE)","v":-3.8999999999999998E-3},{"$f":"VLOOKUP($A6,'[1]Data Proposed Rates'!$A:$AX,MATCH(O$5,[1]!ProposedHeader,0),FALSE)","v":-0.5},{"$f":"VLOOKUP($A6,'[1]Data Proposed Rates'!$A:$AX,MATCH(P$5,[1]!ProposedHeader,0),FALSE)","v":0},{"$f":"VLOOKUP($A6,'[1]Data Proposed Rates'!$A:$AX,MATCH(Q$5,[1]!ProposedHeader,0),FALSE)","v":8.8999999999999999E-3},{"$f":"VLOOKUP($A6,'[1]Data Proposed Rates'!$A:$AX,MATCH(R$5,[1]!ProposedHeader,0),FALSE)","v":7.7000000000000002E-3}]
["R1",{"$f":"VLOOKUP($A7,'[1]Data Proposed Rates'!$A:$AX,MATCH(B$5,[1]!ProposedHeader,0),FALSE)","v":49.04},{"$f":"VLOOKUP($A7,'[1]Data Proposed Rates'!$A:$AX,MATCH(C$5,[1]!ProposedHeader,0),FALSE)","v":1.41E-2},{"$f":"VLOOKUP($A7,'[1]Data Proposed Rates'!$A:$AX,MATCH(D$5,[1]!ProposedHeader,0),FALSE)","v":0},{"$f":"VLOOKUP($A7,'[1]Data Proposed Rates'!$A:$AX,MATCH(E$5,[1]!ProposedHeader,0),FALSE)","v":0},{"$f":"ROUND(SUM(B7,D7),2)","v":49.04},{"$f":"ROUND(SUM(C7,E7),4)","v":1.41E-2},0,0,{"$f":"VLOOKUP($A7,'[1]Data Proposed Rates'!$A:$AX,MATCH(J$5,[1]!ProposedHeader,0),FALSE)","v":-0.14000000000000001},{"$f":"VLOOKUP($A7,'[1]Data Proposed Rates'!$A:$AX,MATCH(K$5,[1]!ProposedHeader,0),FALSE)","v":-8.0000000000000004E-4},{"$f":"VLOOKUP($A7,'[1]Data Proposed Rates'!$A:$AX,MATCH(L$5,[1]!ProposedHeader,0),FALSE)","v":0},{"$f":"VLOOKUP($A7,'[1]Data Proposed Rates'!$A:$AX,MATCH(M$5,[1]!ProposedHeader,0),FALSE)","v":{"$error":"#N/A"}},{"$f":"VLOOKUP($A7,'[1]Data Proposed Rates'!$A:$AX,MATCH(N$5,[1]!ProposedHeader,0),FALSE)","v":-3.8999999999999998E-3},{"$f":"VLOOKUP($A7,'[1]Data Proposed Rates'!$A:$AX,MATCH(O$5,[1]!ProposedHeader,0),FALSE)","v":-0.85},{"$f":"VLOOKUP($A7,'[1]Data Proposed Rates'!$A:$AX,MATCH(P$5,[1]!ProposedHeader,0),FALSE)","v":0},{"$f":"VLOOKUP($A7,'[1]Data Proposed Rates'!$A:$AX,MATCH(Q$5,[1]!ProposedHeader,0),FALSE)","v":8.2000000000000007E-3},{"$f":"VLOOKUP($A7,'[1]Data Proposed Rates'!$A:$AX,MATCH(R$5,[1]!ProposedHeader,0),FALSE)","v":7.3000000000000001E-3}]
["R2",{"$f":"VLOOKUP($A8,'[1]Data Proposed Rates'!$A:$AX,MATCH(B$5,[1]!ProposedHeader,0),FALSE)","v":53.14},{"$f":"VLOOKUP($A8,'[1]Data Proposed Rates'!$A:$AX,MATCH(C$5,[1]!ProposedHeader,0),FALSE)","v":2.2700000000000001E-2},{"$f":"VLOOKUP($A8,'[1]Data Proposed Rates'!$A:$AX,MATCH(D$5,[1]!ProposedHeader,0),FALSE)","v":0},{"$f":"VLOOKUP($A8,'[1]Data Proposed Rates'!$A:$AX,MATCH(E$5,[1]!ProposedHeader,0),FALSE)","v":0},53.14,2.2700000000000001E-2,0,0,{"$f":"VLOOKUP($A8,'[1]Data Proposed Rates'!$A:$AX,MATCH(J$5,[1]!ProposedHeader,0),FALSE)","v":-0.14000000000000001},{"$f":"VLOOKUP($A8,'[1]Data Proposed Rates'!$A:$AX,MATCH(K$5,[1]!ProposedHeader,0),FALSE)","v":-1.1000000000000001E-3},{"$f":"VLOOKUP($A8,'[1]Data Proposed Rates'!$A:$AX,MATCH(L$5,[1]!ProposedHeader,0),FALSE)","v":0},{"$f":"VLOOKUP($A8,'[1]Data Proposed Rates'!$A:$AX,MATCH(M$5,[1]!ProposedHeader,0),FALSE)","v":{"$error":"#N/A"}},{"$f":"VLOOKUP($A8,'[1]Data Proposed Rates'!$A:$AX,MATCH(N$5,[1]!ProposedHeader,0),FALSE)","v":-3.8999999999999998E-3},{"$f":"VLOOKUP($A8,'[1]Data Proposed Rates'!$A:$AX,MATCH(O$5,[1]!ProposedHeader,0),FALSE)","v":-1.92},{"$f":"VLOOKUP($A8,'[1]Data Proposed Rates'!$A:$AX,MATCH(P$5,[1]!ProposedHeader,0),FALSE)","v":0},{"$f":"VLOOKUP($A8,'[1]Data Proposed Rates'!$A:$AX,MATCH(Q$5,[1]!ProposedHeader,0),FALSE)","v":7.7000000000000002E-3},{"$f":"VLOOKUP($A8,'[1]Data Proposed Rates'!$A:$AX,MATCH(R$5,[1]!ProposedHeader,0),FALSE)","v":6.7999999999999996E-3}]
["Seasonal",{"$f":"VLOOKUP($A9,'[1]Data Proposed Rates'!$A:$AX,MATCH(B$5,[1]!ProposedHeader,0),FALSE)","v":50.72},{"$f":"VLOOKUP($A9,'[1]Data Proposed Rates'!$A:$AX,MATCH(C$5,[1]!ProposedHeader,0),FALSE)","v":4.41E-2},{"$f":"VLOOKUP($A9,'[1]Data Proposed Rates'!$A:$AX,MATCH(D$5,[1]!ProposedHeader,0),FALSE)","v":0},{"$f":"VLOOKUP($A9,'[1]Data Proposed Rates'!$A:$AX,MATCH(E$5,[1]!ProposedHeader,0),FALSE)","v":0},50.72,4.41E-2,0,0,{"$f":"VLOOKUP($A9,'[1]Data Proposed Rates'!$A:$AX,MATCH(J$5,[1]!ProposedHeader,0),FALSE)","v":-0.14000000000000001},{"$f":"VLOOKUP($A9,'[1]Data Proposed Rates'!$A:$AX,MATCH(K$5,[1]!ProposedHeader,0),FALSE)","v":-2.3E-3},{"$f":"VLOOKUP($A9,'[1]Data Proposed Rates'!$A:$AX,MATCH(L$5,[1]!ProposedHeader,0),FALSE)","v":0},{"$f":"VLOOKUP($A9,'[1]Data Proposed Rates'!$A:$AX,MATCH(M$5,[1]!ProposedHeader,0),FALSE)","v":{"$error":"#N/A"}},{"$f":"VLOOKUP($A9,'[1]Data Proposed Rates'!$A:$AX,MATCH(N$5,[1]!ProposedHeader,0),FALSE)","v":-3.8999999999999998E-3},{"$f":"VLOOKUP($A9,'[1]Data Proposed Rates'!$A:$AX,MATCH(O$5,[1]!ProposedHeader,0),FALSE)","v":-0.9},{"$f":"VLOOKUP($A9,'[1]Data Proposed Rates'!$A:$AX,MATCH(P$5,[1]!ProposedHeader,0),FALSE)","v":0},{"$f":"VLOOKUP($A9,'[1]Data Proposed Rates'!$A:$AX,MATCH(Q$5,[1]!ProposedHeader,0),FALSE)","v":6.4000000000000003E-3},{"$f":"VLOOKUP($A9,'[1]Data Proposed Rates'!$A:$AX,MATCH(R$5,[1]!ProposedHeader,0),FALSE)","v":6.1000000000000004E-3}]
["GSe",{"$f":"VLOOKUP($A10,'[1]Data Proposed Rates'!$A:$AX,MATCH(B$5,[1]!ProposedHeader,0),FALSE)","v":32.479999999999997},{"$f":"VLOOKUP($A10,'[1]Data Proposed Rates'!$A:$AX,MATCH(C$5,[1]!ProposedHeader,0),FALSE)","v":6.4199999999999993E-2},{"$f":"VLOOKUP($A10,'[1]Data Proposed Rates'!$A:$AX,MATCH(D$5,[1]!ProposedHeader,0),FALSE)","v":0},{"$f":"VLOOKUP($A10,'[1]Data Proposed Rates'!$A:$AX,MATCH(E$5,[1]!ProposedHeader,0),FALSE)","v":0},32.479999999999997,6.4199999999999993E-2,0,0,{"$f":"VLOOKUP($A10,'[1]Data Proposed Rates'!$A:$AX,MATCH(J$5,[1]!ProposedHeader,0),FALSE)","v":-0.14000000000000001},{"$f":"VLOOKUP($A10,'[1]Data Proposed Rates'!$A:$AX,MATCH(K$5,[1]!ProposedHeader,0),FALSE)","v":-6.9999999999999999E-4},{"$f":"VLOOKUP($A10,'[1]Data Proposed Rates'!$A:$AX,MATCH(L$5,[1]!ProposedHeader,0),FALSE)","v":0},{"$f":"VLOOKUP($A10,'[1]Data Proposed Rates'!$A:$AX,MATCH(M$5,[1]!ProposedHeader,0),FALSE)","v":{"$error":"#N/A"}},{"$f":"VLOOKUP($A10,'[1]Data Proposed Rates'!$A:$AX,MATCH(N$5,[1]!ProposedHeader,0),FALSE)","v":-3.8999999999999998E-3},{"$f":"VLOOKUP($A10,'[1]Data Proposed Rates'!$A:$AX,MATCH(O$5,[1]!ProposedHeader,0),FALSE)","v":-0.45},{"$f":"VLOOKUP($A10,'[1]Data Proposed Rates'!$A:$AX,MATCH(P$5,[1]!ProposedHeader,0),FALSE)","v":-8.9999999999999998E-4},{"$f":"VLOOKUP($A10,'[1]Data Proposed Rates'!$A:$AX,MATCH(Q$5,[1]!ProposedHeader,0),FALSE)","v":6.4999999999999997E-3},{"$f":"VLOOKUP($A10,'[1]Data Proposed Rates'!$A:$AX,MATCH(R$5,[1]!ProposedHeader,0),FALSE)","v":5.5999999999999999E-3}]
["UGe",{"$f":"VLOOKUP($A11,'[1]Data Proposed Rates'!$A:$AX,MATCH(B$5,[1]!ProposedHeader,0),FALSE)","v":25.59},{"$f":"VLOOKUP($A11,'[1]Data Proposed Rates'!$A:$AX,MATCH(C$5,[1]!ProposedHeader,0),FALSE)","v":3.0599999999999999E-2},{"$f":"VLOOKUP($A11,'[1]Data Proposed Rates'!$A:$AX,MATCH(D$5,[1]!ProposedHeader,0),FALSE)","v":0},{"$f":"VLOOKUP($A11,'[1]Data Proposed Rates'!$A:$AX,MATCH(E$5,[1]!ProposedHeader,0),FALSE)","v":0},25.59,3.0599999999999999E-2,0,0,{"$f":"VLOOKUP($A11,'[1]Data Proposed Rates'!$A:$AX,MATCH(J$5,[1]!ProposedHeader,0),FALSE)","v":-0.14000000000000001},{"$f":"VLOOKUP($A11,'[1]Data Proposed Rates'!$A:$AX,MATCH(K$5,[1]!ProposedHeader,0),FALSE)","v":-2.9999999999999997E-4},{"$f":"VLOOKUP($A11,'[1]Data Proposed Rates'!$A:$AX,MATCH(L$5,[1]!ProposedHeader,0),FALSE)","v":0},{"$f":"VLOOKUP($A11,'[1]Data Proposed Rates'!$A:$AX,MATCH(M$5,[1]!ProposedHeader,0),FALSE)","v":{"$error":"#N/A"}},{"$f":"VLOOKUP($A11,'[1]Data Proposed Rates'!$A:$AX,MATCH(N$5,[1]!ProposedHeader,0),FALSE)","v":-3.8999999999999998E-3},{"$f":"VLOOKUP($A11,'[1]Data Proposed Rates'!$A:$AX,MATCH(O$5,[1]!ProposedHeader,0),FALSE)","v":-0.36},{"$f":"VLOOKUP($A11,'[1]Data Proposed Rates'!$A:$AX,MATCH(P$5,[1]!ProposedHeader,0),FALSE)","v":-4.0000000000000002E-4},{"$f":"VLOOKUP($A11,'[1]Data Proposed Rates'!$A:$AX,MATCH(Q$5,[1]!ProposedHeader,0),FALSE)","v":7.0000000000000001E-3},{"$f":"VLOOKUP($A11,'[1]Data Proposed Rates'!$A:$AX,MATCH(R$5,[1]!ProposedHeader,0),FALSE)","v":5.7000000000000002E-3}]
["St Lgt",{"$f":"VLOOKUP($A12,'[1]Data Proposed Rates'!$A:$AX,MATCH(B$5,[1]!ProposedHeader,0),FALSE)","v":3.5},{"$f":"VLOOKUP($A12,'[1]Data Proposed Rates'!$A:$AX,MATCH(C$5,[1]!ProposedHeader,0),FALSE)","v":0.1071},{"$f":"VLOOKUP($A12,'[1]Data Proposed Rates'!$A:$AX,MATCH(D$5,[1]!ProposedHeader,0),FALSE)","v":0},{"$f":"VLOOKUP($A12,'[1]Data Proposed Rates'!$A:$AX,MATCH(E$5,[1]!ProposedHeader,0),FALSE)","v":0},3.5,0.1071,0,0,{"$f":"VLOOKUP($A12,'[1]Data Proposed Rates'!$A:$AX,MATCH(J$5,[1]!ProposedHeader,0),FALSE)","v":0},{"$f":"VLOOKUP($A12,'[1]Data Proposed Rates'!$A:$AX,MATCH(K$5,[1]!ProposedHeader,0),FALSE)","v":-8.9999999999999998E-4},{"$f":"VLOOKUP($A12,'[1]Data Proposed Rates'!$A:$AX,MATCH(L$5,[1]!ProposedHeader,0),FALSE)","v":0},{"$f":"VLOOKUP($A12,'[1]Data Proposed Rates'!$A:$AX,MATCH(M$5,[1]!ProposedHeader,0),FALSE)","v":{"$error":"#N/A"}},{"$f":"VLOOKUP($A12,'[1]Data Proposed Rates'!$A:$AX,MATCH(N$5,[1]!ProposedHeader,0),FALSE)","v":-3.8999999999999998E-3},{"$f":"VLOOKUP($A12,'[1]Data Proposed Rates'!$A:$AX,MATCH(O$5,[1]!ProposedHeader,0),FALSE)","v":-0.05},{"$f":"VLOOKUP($A12,'[1]Data Proposed Rates'!$A:$AX,MATCH(P$5,[1]!ProposedHeader,0),FALSE)","v":-1.5E-3},{"$f":"VLOOKUP($A12,'[1]Data Proposed Rates'!$A:$AX,MATCH(Q$5,[1]!ProposedHeader,0),FALSE)","v":5.4000000000000003E-3},{"$f":"VLOOKUP($A12,'[1]Data Proposed Rates'!$A:$AX,MATCH(R$5,[1]!ProposedHeader,0),FALSE)","v":3.5999999999999999E-3}]
["Sen Lgt",{"$f":"VLOOKUP($A13,'[1]Data Proposed Rates'!$A:$AX,MATCH(B$5,[1]!ProposedHeader,0),FALSE)","v":2.86},{"$f":"VLOOKUP($A13,'[1]Data Proposed Rates'!$A:$AX,MATCH(C$5,[1]!ProposedHeader,0),FALSE)","v":0.15559999999999999},{"$f":"VLOOKUP($A13,'[1]Data Proposed Rates'!$A:$AX,MATCH(D$5,[1]!ProposedHeader,0),FALSE)","v":0},{"$f":"VLOOKUP($A13,'[1]Data Proposed Rates'!$A:$AX,MATCH(E$5,[1]!ProposedHeader,0),FALSE)","v":0},2.86,0.15559999999999999,0,0,{"$f":"VLOOKUP($A13,'[1]Data Proposed Rates'!$A:$AX,MATCH(J$5,[1]!ProposedHeader,0),FALSE)","v":0},{"$f":"VLOOKUP($A13,'[1]Data Proposed Rates'!$A:$AX,MATCH(K$5,[1]!ProposedHeader,0),FALSE)","v":-2.0999999999999999E-3},{"$f":"VLOOKUP($A13,'[1]Data Proposed Rates'!$A:$AX,MATCH(L$5,[1]!ProposedHeader,0),FALSE)","v":0},{"$f":"VLOOKUP($A13,'[1]Data Proposed Rates'!$A:$AX,MATCH(M$5,[1]!ProposedHeader,0),FALSE)","v":{"$error":"#N/A"}},{"$f":"VLOOKUP($A13,'[1]Data Proposed Rates'!$A:$AX,MATCH(N$5,[1]!ProposedHeader,0),FALSE)","v":-3.8999999999999998E-3},{"$f":"VLOOKUP($A13,'[1]Data Proposed Rates'!$A:$AX,MATCH(O$5,[1]!ProposedHeader,0),FALSE)","v":-0.04},{"$f":"VLOOKUP($A13,'[1]Data Proposed Rates'!$A:$AX,MATCH(P$5,[1]!ProposedHeader,0),FALSE)","v":-2.2000000000000001E-3},{"$f":"VLOOKUP($A13,'[1]Data Proposed Rates'!$A:$AX,MATCH(Q$5,[1]!ProposedHeader,0),FALSE)","v":5.4000000000000003E-3},{"$f":"VLOOKUP($A13,'[1]Data Proposed Rates'!$A:$AX,MATCH(R$5,[1]!ProposedHeader,0),FALSE)","v":3.7000000000000002E-3}]
["USL",{"$f":"VLOOKUP($A14,'[1]Data Proposed Rates'!$A:$AX,MATCH(B$5,[1]!ProposedHeader,0),FALSE)","v":37.58},{"$f":"VLOOKUP($A14,'[1]Data Proposed Rates'!$A:$AX,MATCH(C$5,[1]!ProposedHeader,0),FALSE)","v":2.5100000000000001E-2},{"$f":"VLOOKUP($A14,'[1]Data Proposed Rates'!$A:$AX,MATCH(D$5,[1]!ProposedHeader,0),FALSE)","v":0},{"$f":"VLOOKUP($A14,'[1]Data Proposed Rates'!$A:$AX,MATCH(E$5,[1]!ProposedHeader,0),FALSE)","v":0},37.58,2.5100000000000001E-2,0,0,{"$f":"VLOOKUP($A14,'[1]Data Proposed Rates'!$A:$AX,MATCH(J$5,[1]!ProposedHeader,0),FALSE)","v":0},{"$f":"VLOOKUP($A14,'[1]Data Proposed Rates'!$A:$AX,MATCH(K$5,[1]!ProposedHeader,0),FALSE)","v":1E-4},{"$f":"VLOOKUP($A14,'[1]Data Proposed Rates'!$A:$AX,MATCH(L$5,[1]!ProposedHeader,0),FALSE)","v":0},{"$f":"VLOOKUP($A14,'[1]Data Proposed Rates'!$A:$AX,MATCH(M$5,[1]!ProposedHeader,0),FALSE)","v":{"$error":"#N/A"}},{"$f":"VLOOKUP($A14,'[1]Data Proposed Rates'!$A:$AX,MATCH(N$5,[1]!ProposedHeader,0),FALSE)","v":-3.8999999999999998E-3},{"$f":"VLOOKUP($A14,'[1]Data Proposed Rates'!$A:$AX,MATCH(O$5,[1]!ProposedHeader,0),FALSE)","v":-0.53},{"$f":"VLOOKUP($A14,'[1]Data Proposed Rates'!$A:$AX,MATCH(P$5,[1]!ProposedHeader,0),FALSE)","v":-4.0000000000000002E-4},{"$f":"VLOOKUP($A14,'[1]Data Proposed Rates'!$A:$AX,MATCH(Q$5,[1]!ProposedHeader,0),FALSE)","v":5.4000000000000003E-3},{"$f":"VLOOKUP($A14,'[1]Data Proposed Rates'!$A:$AX,MATCH(R$5,[1]!ProposedHeader,0),FALSE)","v":4.5999999999999999E-3}]
["GSd",{"$f":"VLOOKUP($A15,'[1]Data Proposed Rates'!$A:$AX,MATCH(B$5,[1]!ProposedHeader,0),FALSE)","v":108.28},{"$f":"VLOOKUP($A15,'[1]Data Proposed Rates'!$A:$AX,MATCH(C$5,[1]!ProposedHeader,0),FALSE)","v":18.329599999999999},{"$f":"VLOOKUP($A15,'[1]Data Proposed Rates'!$A:$AX,MATCH(D$5,[1]!ProposedHeader,0),FALSE)","v":0},{"$f":"VLOOKUP($A15,'[1]Data Proposed Rates'!$A:$AX,MATCH(E$5,[1]!ProposedHeader,0),FALSE)","v":0},108.28,18.329599999999999,0,0,{"$f":"VLOOKUP($A15,'[1]Data Proposed Rates'!$A:$AX,MATCH(J$5,[1]!ProposedHeader,0),FALSE)","v":0},{"$f":"VLOOKUP($A15,'[1]Data Proposed Rates'!$A:$AX,MATCH(K$5,[1]!ProposedHeader,0),FALSE)","v":1.17E-2},{"$f":"VLOOKUP($A15,'[1]Data Proposed Rates'!$A:$AX,MATCH(L$5,[1]!ProposedHeader,0),FALSE)","v":0},{"$f":"VLOOKUP($A15,'[1]Data Proposed Rates'!$A:$AX,MATCH(M$5,[1]!ProposedHeader,0),FALSE)","v":{"$error":"#N/A"}},{"$f":"VLOOKUP($A15,'[1]Data Proposed Rates'!$A:$AX,MATCH(N$5,[1]!ProposedHeader,0),FALSE)","v":-3.8999999999999998E-3},{"$f":"VLOOKUP($A15,'[1]Data Proposed Rates'!$A:$AX,MATCH(O$5,[1]!ProposedHeader,0),FALSE)","v":-1.52},{"$f":"VLOOKUP($A15,'[1]Data Proposed Rates'!$A:$AX,MATCH(P$5,[1]!ProposedHeader,0),FALSE)","v":-0.2555},{"$f":"VLOOKUP($A15,'[1]Data Proposed Rates'!$A:$AX,MATCH(Q$5,[1]!ProposedHeader,0),FALSE)","v":2.0421},{"$f":"VLOOKUP($A15,'[1]Data Proposed Rates'!$A:$AX,MATCH(R$5,[1]!ProposedHeader,0),FALSE)","v":1.7005999999999999}]
["UGd",{"$f":"VLOOKUP($A16,'[1]Data Proposed Rates'!$A:$AX,MATCH(B$5,[1]!ProposedHeader,0),FALSE)","v":100.19},{"$f":"VLOOKUP($A16,'[1]Data Proposed Rates'!$A:$AX,MATCH(C$5,[1]!ProposedHeader,0),FALSE)","v":10.5601},{"$f":"VLOOKUP($A16,'[1]Data Proposed Rates'!$A:$AX,MATCH(D$5,[1]!ProposedHeader,0),FALSE)","v":0},{"$f":"VLOOKUP($A16,'[1]Data Proposed Rates'!$A:$AX,MATCH(E$5,[1]!ProposedHeader,0),FALSE)","v":0},100.19,10.5601,0,0,{"$f":"VLOOKUP($A16,'[1]Data Proposed Rates'!$A:$AX,MATCH(J$5,[1]!ProposedHeader,0),FALSE)","v":0},{"$f":"VLOOKUP($A16,'[1]Data Proposed Rates'!$A:$AX,MATCH(K$5,[1]!ProposedHeader,0),FALSE)","v":0.1062},{"$f":"VLOOKUP($A16,'[1]Data Proposed Rates'!$A:$AX,MATCH(L$5,[1]!ProposedHeader,0),FALSE)","v":0},{"$f":"VLOOKUP($A16,'[1]Data Proposed Rates'!$A:$AX,MATCH(M$5,[1]!ProposedHeader,0),FALSE)","v":{"$error":"#N/A"}},{"$f":"VLOOKUP($A16,'[1]Data Proposed Rates'!$A:$AX,MATCH(N$5,[1]!ProposedHeader,0),FALSE)","v":-3.8999999999999998E-3},{"$f":"VLOOKUP($A16,'[1]Data Proposed Rates'!$A:$AX,MATCH(O$5,[1]!ProposedHeader,0),FALSE)","v":-1.4},{"$f":"VLOOKUP($A16,'[1]Data Proposed Rates'!$A:$AX,MATCH(P$5,[1]!ProposedHeader,0),FALSE)","v":-4.0000000000000002E-4},{"$f":"VLOOKUP($A16,'[1]Data Proposed Rates'!$A:$AX,MATCH(Q$5,[1]!ProposedHeader,0),FALSE)","v":2.6172},{"$f":"VLOOKUP($A16,'[1]Data Proposed Rates'!$A:$AX,MATCH(R$5,[1]!ProposedHeader,0),FALSE)","v":2.1608000000000001}]
["Dgen",{"$f":"VLOOKUP($A17,'[1]Data Proposed Rates'!$A:$AX,MATCH(B$5,[1]!ProposedHeader,0),FALSE)","v":195.54},{"$f":"VLOOKUP($A17,'[1]Data Proposed Rates'!$A:$AX,MATCH(C$5,[1]!ProposedHeader,0),FALSE)","v":9.8163},{"$f":"VLOOKUP($A17,'[1]Data Proposed Rates'!$A:$AX,MATCH(D$5,[1]!ProposedHeader,0),FALSE)","v":0},{"$f":"VLOOKUP($A17,'[1]Data Proposed Rates'!$A:$AX,MATCH(E$5,[1]!ProposedHeader,0),FALSE)","v":0},195.54,9.8163,0,0,{"$f":"VLOOKUP($A17,'[1]Data Proposed Rates'!$A:$AX,MATCH(J$5,[1]!ProposedHeader,0),FALSE)","v":0},{"$f":"VLOOKUP($A17,'[1]Data Proposed Rates'!$A:$AX,MATCH(K$5,[1]!ProposedHeader,0),FALSE)","v":-0.13589999999999999},{"$f":"VLOOKUP($A17,'[1]Data Proposed Rates'!$A:$AX,MATCH(L$5,[1]!ProposedHeader,0),FALSE)","v":0},{"$f":"VLOOKUP($A17,'[1]Data Proposed Rates'!$A:$AX,MATCH(M$5,[1]!ProposedHeader,0),FALSE)","v":{"$error":"#N/A"}},{"$f":"VLOOKUP($A17,'[1]Data Proposed Rates'!$A:$AX,MATCH(N$5,[1]!ProposedHeader,0),FALSE)","v":-3.8999999999999998E-3},{"$f":"VLOOKUP($A17,'[1]Data Proposed Rates'!$A:$AX,MATCH(O$5,[1]!ProposedHeader,0),FALSE)","v":-2.74},{"$f":"VLOOKUP($A17,'[1]Data Proposed Rates'!$A:$AX,MATCH(P$5,[1]!ProposedHeader,0),FALSE)","v":-0.13650000000000001},{"$f":"VLOOKUP($A17,'[1]Data Proposed Rates'!$A:$AX,MATCH(Q$5,[1]!ProposedHeader,0),FALSE)","v":0.99270000000000003},{"$f":"VLOOKUP($A17,'[1]Data Proposed Rates'!$A:$AX,MATCH(R$5,[1]!ProposedHeader,0),FALSE)","v":0.82840000000000003}]
["ST",{"$f":"VLOOKUP($A18,'[1]Data Proposed Rates'!$A:$AX,MATCH(B$5,[1]!ProposedHeader,0),FALSE)","v":1312.3},{"$f":"VLOOKUP($A18,'[1]Data Proposed Rates'!$A:$AX,MATCH(C$5,[1]!ProposedHeader,0),FALSE)","v":1.5335000000000001},{"$f":"VLOOKUP($A18,'[1]Data Proposed Rates'!$A:$AX,MATCH(D$5,[1]!ProposedHeader,0),FALSE)","v":0},{"$f":"VLOOKUP($A18,'[1]Data Proposed Rates'!$A:$AX,MATCH(E$5,[1]!ProposedHeader,0),FALSE)","v":0},1312.3,1.5335000000000001,0,0,{"$f":"VLOOKUP($A18,'[1]Data Proposed Rates'!$A:$AX,MATCH(J$5,[1]!ProposedHeader,0),FALSE)","v":0},{"$f":"VLOOKUP($A18,'[1]Data Proposed Rates'!$A:$AX,MATCH(K$5,[1]!ProposedHeader,0),FALSE)","v":0.94440000000000002},{"$f":"VLOOKUP($A18,'[1]Data Proposed Rates'!$A:$AX,MATCH(L$5,[1]!ProposedHeader,0),FALSE)","v":0},{"$f":"VLOOKUP($A18,'[1]Data Proposed Rates'!$A:$AX,MATCH(M$5,[1]!ProposedHeader,0),FALSE)","v":{"$error":"#N/A"}},{"$f":"VLOOKUP($A18,'[1]Data Proposed Rates'!$A:$AX,MATCH(N$5,[1]!ProposedHeader,0),FALSE)","v":0},{"$f":"VLOOKUP($A18,'[1]Data Proposed Rates'!$A:$AX,MATCH(O$5,[1]!ProposedHeader,0),FALSE)","v":-15.7},{"$f":"VLOOKUP($A18,'[1]Data Proposed Rates'!$A:$AX,MATCH(P$5,[1]!ProposedHeader,0),FALSE)","v":-2.1899999999999999E-2},{"$f":"VLOOKUP($A18,'[1]Data Proposed Rates'!$A:$AX,MATCH(Q$5,[1]!ProposedHeader,0),FALSE)","v":3.5960000000000001},{"$f":"VLOOKUP($A18,'[1]Data Proposed Rates'!$A:$AX,MATCH(R$5,[1]!ProposedHeader,0),FALSE)","v":2.9558}]
["ST (NonWMP, NonRPP, NonLDC, ClassB)",{"$f":"VLOOKUP($A19,'[1]Data Proposed Rates'!$A:$AX,MATCH(B$5,[1]!ProposedHeader,0),FALSE)","v":1312.3},{"$f":"VLOOKUP($A19,'[1]Data Proposed Rates'!$A:$AX,MATCH(C$5,[1]!ProposedHeader,0),FALSE)","v":1.5335000000000001},{"$f":"VLOOKUP($A19,'[1]Data Proposed Rates'!$A:$AX,MATCH(D$5,[1]!ProposedHeader,0),FALSE)","v":0},{"$f":"VLOOKUP($A19,'[1]Data Proposed Rates'!$A:$AX,MATCH(E$5,[1]!ProposedHeader,0),FALSE)","v":0},1312.3,1.5335000000000001,0,0,{"$f":"VLOOKUP($A19,'[1]Data Proposed Rates'!$A:$AX,MATCH(J$5,[1]!ProposedHeader,0),FALSE)","v":0},{"$f":"VLOOKUP($A19,'[1]Data Proposed Rates'!$A:$AX,MATCH(K$5,[1]!ProposedHeader,0),FALSE)","v":0.94440000000000002},{"$f":"VLOOKUP($A19,'[1]Data Proposed Rates'!$A:$AX,MATCH(L$5,[1]!ProposedHeader,0),FALSE)","v":-1.1389},{"$f":"VLOOKUP($A19,'[1]Data Proposed Rates'!$A:$AX,MATCH(M$5,[1]!ProposedHeader,0),FALSE)","v":{"$error":"#N/A"}},{"$f":"VLOOKUP($A19,'[1]Data Proposed Rates'!$A:$AX,MATCH(N$5,[1]!ProposedHeader,0),FALSE)","v":-3.8999999999999998E-3},{"$f":"VLOOKUP($A19,'[1]Data Proposed Rates'!$A:$AX,MATCH(O$5,[1]!ProposedHeader,0),FALSE)","v":-15.7},{"$f":"VLOOKUP($A19,'[1]Data Proposed Rates'!$A:$AX,MATCH(P$5,[1]!ProposedHeader,0),FALSE)","v":-2.1899999999999999E-2},{"$f":"VLOOKUP($A19,'[1]Data Proposed Rates'!$A:$AX,MATCH(Q$5,[1]!ProposedHeader,0),FALSE)","v":3.5960000000000001},{"$f":"VLOOKUP($A19,'[1]Data Proposed Rates'!$A:$AX,MATCH(R$5,[1]!ProposedHeader,0),FALSE)","v":2.9558}]
["ST (NonWMP, NonRPP, NonLDC, ClassB) Exclude GA Rider",{"$f":"VLOOKUP($A20,'[1]Data Proposed Rates'!$A:$AX,MATCH(B$5,[1]!ProposedHeader,0),FALSE)","v":1312.3},{"$f":"VLOOKUP($A20,'[1]Data Proposed Rates'!$A:$AX,MATCH(C$5,[1]!ProposedHeader,0),FALSE)","v":1.5335000000000001},{"$f":"VLOOKUP($A20,'[1]Data Proposed Rates'!$A:$AX,MATCH(D$5,[1]!ProposedHeader,0),FALSE)","v":0},{"$f":"VLOOKUP($A20,'[1]Data Proposed Rates'!$A:$AX,MATCH(E$5,[1]!ProposedHeader,0),FALSE)","v":0},1312.3,1.5335000000000001,0,0,{"$f":"VLOOKUP($A20,'[1]Data Proposed Rates'!$A:$AX,MATCH(J$5,[1]!ProposedHeader,0),FALSE)","v":0},{"$f":"VLOOKUP($A20,'[1]Data Proposed Rates'!$A:$AX,MATCH(K$5,[1]!ProposedHeader,0),FALSE)","v":0.94440000000000002},{"$f":"VLOOKUP($A20,'[1]Data Proposed Rates'!$A:$AX,MATCH(L$5,[1]!ProposedHeader,0),FALSE)","v":-1.1389},{"$f":"VLOOKUP($A20,'[1]Data Proposed Rates'!$A:$AX,MATCH(M$5,[1]!ProposedHeader,0),FALSE)","v":{"$error":"#N/A"}},{"$f":"VLOOKUP($A20,'[1]Data Proposed Rates'!$A:$AX,MATCH(N$5,[1]!ProposedHeader,0),FALSE)","v":0},{"$f":"VLOOKUP($A20,'[1]Data Proposed Rates'!$A:$AX,MATCH(O$5,[1]!ProposedHeader,0),FALSE)","v":-15.7},{"$f":"VLOOKUP($A20,'[1]Data Proposed Rates'!$A:$AX,MATCH(P$5,[1]!ProposedHeader,0),FALSE)","v":-2.1899999999999999E-2},{"$f":"VLOOKUP($A20,'[1]Data Proposed Rates'!$A:$AX,MATCH(Q$5,[1]!ProposedHeader,0),FALSE)","v":3.5960000000000001},{"$f":"VLOOKUP($A20,'[1]Data Proposed Rates'!$A:$AX,MATCH(R$5,[1]!ProposedHeader,0),FALSE)","v":2.9558}]

{"sheet":"Data Proposed Rates","index":2,"n_rows":21,"n_cols":18,"rows_kept":21,"cut":false,"hidden":true,"merged":[]}
["2021 Rates (Rounded)"]
[]
[1,2,3,4,5,null,null,null,null,6,7,8,9,10,null,null,11,12]
["Rate Class","Fixed Base Charge ($/month)","Proposed Variable Charge ($/kWh or $/kW)","Proposed Foregone Revenue Charge Fixed ($/month)","Proposed Volumetric Foregone Revenue Charge","Fixed Charge + Fixed Foregone","Volumetric Charge + Volumetric Foregone","Fixed DTA ($/month)","Vol DTA ($/kWh or $/kW)","Proposed Def/VA rate rider Fixed ($/month)","Proposed Def/VA rate rider Volumetric($/kWh or $/kW)","Vol VA Rider ($/kWh or $/kW) Non WMP","Proposed Rate Rider for CBR (Non-WMP Class B) ($/kWh or $/kW)","Proposed Rate Rider for Disposition of Global Adjustment (Non WMP, Non-RPP, Non-LDC, and Class B) ($/kWh)",null,null,"Proposed RTSR-NW ($/kWh or $/kW)","Proposed RTSR-CONN ($/kWh or $/kW)"]
["Rate as shown on Bill Impact Sheet","Service Charge","Distribution Volumetric Charge","Fixed Foregone Revenue Charge","Volumetric Foregone Revenue Charge","Fixed Service Charge","Dx Volumetric Charge","Base Rate Adjustment to Recover Past Tax Amounts FIXED","Base Rate Adjustment to Recover Past Tax Amounts VOL","Fixed Deferral/Variance Account Rider (General)","Volumetric Deferral/Variance Account Rider (General)","Volumetric Deferral/Variance Account Rider (Sub-Account RSVA Wholesale Market Service Charge & RSVA Power) - ST only","Volumetric Deferral/Variance Account Rider (Sub Account CBR-B)","Volumetric Deferral/Variance Account Rider (Sub-Account Global Adjustment)","Fixed ESM Rider","Volumetric ESM Rider","Retail Transmission Rate – Network Service Rate","Retail Transmission Rate – Line and Transformation Connection Service Rate"]
["Rounding Factor",2,4,2,4,null,null,2,4,2,4,4,4,4,2,4,4,4]
["UR",{"$f":"ROUND(VLOOKUP($A7,'[2]Proposed Rates'!$A:$AI,MATCH(B$5,'[2]Proposed Rates'!$4:$4,0),FALSE),B$6)","v":35.92},{"$f":"ROUND(VLOOKUP($A7,'[2]Proposed Rates'!$A:$AI,MATCH(C$5,'[2]Proposed Rates'!$4:$4,0),FALSE),C$6)","v":0},{"$f":"ROUND(VLOOKUP($A7,'[2]Proposed Rates'!$A:$AI,MATCH(D$5,'[2]Proposed Rates'!$4:$4,0),FALSE),D$6)","v":0},{"$f":"ROUND(VLOOKUP($A7,'[2]Proposed Rates'!$A:$AI,MATCH(E$5,'[2]Proposed Rates'!$4:$4,0),FALSE),E$6)","v":0},{"$f":"ROUND(SUM(B7,D7),2)","v":35.92},{"$f":"ROUND(SUM(C7,E7),4)","v":0},{"$f":"ROUND(VLOOKUP($A7,'[2]Proposed Rates'!$A:$AI,MATCH(H$4,'[2]Proposed Rates'!$1:$1,0),FALSE),H$6)","v":0.83},{"$f":"ROUND(VLOOKUP($A7,'[2]Proposed Rates'!$A:$AI,MATCH(I$4,'[2]Proposed Rates'!$1:$1,0),FALSE),I$6)","v":0},{"$f":"ROUND(VLOOKUP($A7,'[2]Proposed Rates'!$A:$AI,MATCH(J$5,'[2]Proposed Rates'!$4:$4,0),FALSE),J$6)","v":-0.14000000000000001},{"$f":"ROUND(VLOOKUP($A7,'[2]Proposed Rates'!$A:$AI,MATCH(K$5,'[2]Proposed Rates'!$4:$4,0),FALSE),K$6)","v":-6.9999999999999999E-4},null,{"$f":"ROUND(VLOOKUP($A7,'[2]Proposed Rates'!$A:$AI,MATCH(M$5,'[2]Proposed Rates'!$4:$4,0),FALSE),5)","v":0},{"$f":"ROUND(VLOOKUP($A7,'[2]Proposed Rates'!$A:$AI,MATCH(N$5,'[2]Proposed Rates'!$4:$4,0),FALSE),N$6)","v":-3.8999999999999998E-3},{"$f":"ROUND(VLOOKUP($A7,'[2]Proposed Rates'!$A:$AI,MATCH(O$5,'[2]Proposed Rates'!$4:$4,0),FALSE),O$6)","v":-0.5},{"$f":"ROUND(VLOOKUP($A7,'[2]Proposed Rates'!$A:$AI,MATCH(P$5,'[2]Proposed Rates'!$4:$4,0),FALSE),P$6)","v":0},{"$f":"ROUND(VLOOKUP($A7,'[2]Proposed Rates'!$A:$AI,MATCH(Q$5,'[2]Proposed Rates'!$4:$4,0),FALSE),Q$6)","v":8.8999999999999999E-3},{"$f":"ROUND(VLOOKUP($A7,'[2]Proposed Rates'!$A:$AI,MATCH(R$5,'[2]Proposed Rates'!$4:$4,0),FALSE),R$6)","v":7.7000000000000002E-3}]
["R1",{"$f":"ROUND(VLOOKUP($A8,'[2]Proposed Rates'!$A:$AI,MATCH(B$5,'[2]Proposed Rates'!$4:$4,0),FALSE),B$6)","v":49.04},{"$f":"ROUND(VLOOKUP($A8,'[2]Proposed Rates'!$A:$AI,MATCH(C$5,'[2]Proposed Rates'!$4:$4,0),FALSE),C$6)","v":1.41E-2},{"$f":"ROUND(VLOOKUP($A8,'[2]Proposed Rates'!$A:$AI,MATCH(D$5,'[2]Proposed Rates'!$4:$4,0),FALSE),D$6)","v":0},{"$f":"ROUND(VLOOKUP($A8,'[2]Proposed Rates'!$A:$AI,MATCH(E$5,'[2]Proposed Rates'!$4:$4,0),FALSE),E$6)","v":0},{"$f":"ROUND(SUM(B8,D8),2)","v":49.04},{"$f":"ROUND(SUM(C8,E8),4)","v":1.41E-2},{"$f":"ROUND(VLOOKUP($A8,'[2]Proposed Rates'!$A:$AI,MATCH(H$4,'[2]Proposed Rates'!$1:$1,0),FALSE),H$6)","v":1.56},{"$f":"ROUND(VLOOKUP($A8,'[2]Proposed Rates'!$A:$AI,MATCH(I$4,'[2]Proposed Rates'!$1:$1,0),FALSE),I$6)","v":0},{"$f":"ROUND(VLOOKUP($A8,'[2]Proposed Rates'!$A:$AI,MATCH(J$5,'[2]Proposed Rates'!$4:$4,0),FALSE),J$6)","v":-0.14000000000000001},{"$f":"ROUND(VLOOKUP($A8,'[2]Proposed Rates'!$A:$AI,MATCH(K$5,'[2]Proposed Rates'!$4:$4,0),FALSE),K$6)","v":-8.0000000000000004E-4},null,{"$f":"ROUND(VLOOKUP($A8,'[2]Proposed Rates'!$A:$AI,MATCH(M$5,'[2]Proposed Rates'!$4:$4,0),FALSE),5)","v":0},{"$f":"ROUND(VLOOKUP($A8,'[2]Proposed Rates'!$A:$AI,MATCH(N$5,'[2]Proposed Rates'!$4:$4,0),FALSE),N$6)","v":-3.8999999999999998E-3},{"$f":"ROUND(VLOOKUP($A8,'[2]Proposed Rates'!$A:$AI,MATCH(O$5,'[2]Proposed Rates'!$4:$4,0),FALSE),O$6)","v":-0.85},{"$f":"ROUND(VLOOKUP($A8,'[2]Proposed Rates'!$A:$AI,MATCH(P$5,'[2]Proposed Rates'!$4:$4,0),FALSE),P$6)","v":0},{"$f":"ROUND(VLOOKUP($A8,'[2]Proposed Rates'!$A:$AI,MATCH(Q$5,'[2]Proposed Rates'!$4:$4,0),FALSE),Q$6)","v":8.2000000000000007E-3},{"$f":"ROUND(VLOOKUP($A8,'[2]Proposed Rates'!$A:$AI,MATCH(R$5,'[2]Proposed Rates'!$4:$4,0),FALSE),R$6)","v":7.3000000000000001E-3}]
["R2",{"$f":"ROUND(VLOOKUP($A9,'[2]Proposed Rates'!$A:$AI,MATCH(B$5,'[2]Proposed Rates'!$4:$4,0),FALSE),B$6)-'Data Pass Through'!C4","v":53.14},{"$f":"ROUND(VLOOKUP($A9,'[2]Proposed Rates'!$A:$AI,MATCH(C$5,'[2]Proposed Rates'!$4:$4,0),FALSE),C$6)","v":2.2700000000000001E-2},{"$f":"ROUND(VLOOKUP($A9,'[2]Proposed Rates'!$A:$AI,MATCH(D$5,'[2]Proposed Rates'!$4:$4,0),FALSE),D$6)","v":0},{"$f":"ROUND(VLOOKUP($A9,'[2]Proposed Rates'!$A:$AI,MATCH(E$5,'[2]Proposed Rates'!$4:$4,0),FALSE),E$6)","v":0},53.14,2.2700000000000001E-2,{"$f":"ROUND(VLOOKUP($A9,'[2]Proposed Rates'!$A:$AI,MATCH(H$4,'[2]Proposed Rates'!$1:$1,0),FALSE),H$6)","v":4.42},{"$f":"ROUND(VLOOKUP($A9,'[2]Proposed Rates'!$A:$AI,MATCH(I$4,'[2]Proposed Rates'!$1:$1,0),FALSE),I$6)","v":0},{"$f":"ROUND(VLOOKUP($A9,'[2]Proposed Rates'!$A:$AI,MATCH(J$5,'[2]Proposed Rates'!$4:$4,0),FALSE),J$6)","v":-0.14000000000000001},{"$f":"ROUND(VLOOKUP($A9,'[2]Proposed Rates'!$A:$AI,MATCH(K$5,'[2]Proposed Rates'!$4:$4,0),FALSE),K$6)","v":-1.1000000000000001E-3},null,{"$f":"ROUND(VLOOKUP($A9,'[2]Proposed Rates'!$A:$AI,MATCH(M$5,'[2]Proposed Rates'!$4:$4,0),FALSE),5)","v":0},{"$f":"ROUND(VLOOKUP($A9,'[2]Proposed Rates'!$A:$AI,MATCH(N$5,'[2]Proposed Rates'!$4:$4,0),FALSE),N$6)","v":-3.8999999999999998E-3},{"$f":"ROUND(VLOOKUP($A9,'[2]Proposed Rates'!$A:$AI,MATCH(O$5,'[2]Proposed Rates'!$4:$4,0),FALSE),O$6)","v":-1.92},{"$f":"ROUND(VLOOKUP($A9,'[2]Proposed Rates'!$A:$AI,MATCH(P$5,'[2]Proposed Rates'!$4:$4,0),FALSE),P$6)","v":0},{"$f":"ROUND(VLOOKUP($A9,'[2]Proposed Rates'!$A:$AI,MATCH(Q$5,'[2]Proposed Rates'!$4:$4,0),FALSE),Q$6)","v":7.7000000000000002E-3},{"$f":"ROUND(VLOOKUP($A9,'[2]Proposed Rates'!$A:$AI,MATCH(R$5,'[2]Proposed Rates'!$4:$4,0),FALSE),R$6)","v":6.7999999999999996E-3}]
["Seasonal",{"$f":"ROUND(VLOOKUP($A10,'[2]Proposed Rates'!$A:$AI,MATCH(B$5,'[2]Proposed Rates'!$4:$4,0),FALSE),B$6)","v":50.72},{"$f":"ROUND(VLOOKUP($A10,'[2]Proposed Rates'!$A:$AI,MATCH(C$5,'[2]Proposed Rates'!$4:$4,0),FALSE),C$6)","v":4.41E-2},{"$f":"ROUND(VLOOKUP($A10,'[2]Proposed Rates'!$A:$AI,MATCH(D$5,'[2]Proposed Rates'!$4:$4,0),FALSE),D$6)","v":0},{"$f":"ROUND(VLOOKUP($A10,'[2]Proposed Rates'!$A:$AI,MATCH(E$5,'[2]Proposed Rates'!$4:$4,0),FALSE),E$6)","v":0},50.72,4.41E-2,{"$f":"ROUND(VLOOKUP($A10,'[2]Proposed Rates'!$A:$AI,MATCH(H$4,'[2]Proposed Rates'!$1:$1,0),FALSE),H$6)","v":1.79},{"$f":"ROUND(VLOOKUP($A10,'[2]Proposed Rates'!$A:$AI,MATCH(I$4,'[2]Proposed Rates'!$1:$1,0),FALSE),I$6)","v":0},{"$f":"ROUND(VLOOKUP($A10,'[2]Proposed Rates'!$A:$AI,MATCH(J$5,'[2]Proposed Rates'!$4:$4,0),FALSE),J$6)","v":-0.14000000000000001},{"$f":"ROUND(VLOOKUP($A10,'[2]Proposed Rates'!$A:$AI,MATCH(K$5,'[2]Proposed Rates'!$4:$4,0),FALSE),K$6)","v":-2.3E-3},null,{"$f":"ROUND(VLOOKUP($A10,'[2]Proposed Rates'!$A:$AI,MATCH(M$5,'[2]Proposed Rates'!$4:$4,0),FALSE),5)","v":0},{"$f":"ROUND(VLOOKUP($A10,'[2]Proposed Rates'!$A:$AI,MATCH(N$5,'[2]Proposed Rates'!$4:$4,0),FALSE),N$6)","v":-3.8999999999999998E-3},{"$f":"ROUND(VLOOKUP($A10,'[2]Proposed Rates'!$A:$AI,MATCH(O$5,'[2]Proposed Rates'!$4:$4,0),FALSE),O$6)","v":-0.9},{"$f":"ROUND(VLOOKUP($A10,'[2]Proposed Rates'!$A:$AI,MATCH(P$5,'[2]Proposed Rates'!$4:$4,0),FALSE),P$6)","v":0},{"$f":"ROUND(VLOOKUP($A10,'[2]Proposed Rates'!$A:$AI,MATCH(Q$5,'[2]Proposed Rates'!$4:$4,0),FALSE),Q$6)","v":6.4000000000000003E-3},{"$f":"ROUND(VLOOKUP($A10,'[2]Proposed Rates'!$A:$AI,MATCH(R$5,'[2]Proposed Rates'!$4:$4,0),FALSE),R$6)","v":6.1000000000000004E-3}]
["GSe",{"$f":"ROUND(VLOOKUP($A11,'[2]Proposed Rates'!$A:$AI,MATCH(B$5,'[2]Proposed Rates'!$4:$4,0),FALSE),B$6)","v":32.479999999999997},{"$f":"ROUND(VLOOKUP($A11,'[2]Proposed Rates'!$A:$AI,MATCH(C$5,'[2]Proposed Rates'!$4:$4,0),FALSE),C$6)","v":6.4199999999999993E-2},{"$f":"ROUND(VLOOKUP($A11,'[2]Proposed Rates'!$A:$AI,MATCH(D$5,'[2]Proposed Rates'!$4:$4,0),FALSE),D$6)","v":0},{"$f":"ROUND(VLOOKUP($A11,'[2]Proposed Rates'!$A:$AI,MATCH(E$5,'[2]Proposed Rates'!$4:$4,0),FALSE),E$6)","v":0},32.479999999999997,6.4199999999999993E-2,{"$f":"ROUND(VLOOKUP($A11,'[2]Proposed Rates'!$A:$AI,MATCH(H$4,'[2]Proposed Rates'!$1:$1,0),FALSE),H$6)","v":1.1100000000000001},{"$f":"ROUND(VLOOKUP($A11,'[2]Proposed Rates'!$A:$AI,MATCH(I$4,'[2]Proposed Rates'!$1:$1,0),FALSE),I$6)","v":2.2000000000000001E-3},{"$f":"ROUND(VLOOKUP($A11,'[2]Proposed Rates'!$A:$AI,MATCH(J$5,'[2]Proposed Rates'!$4:$4,0),FALSE),J$6)","v":-0.14000000000000001},{"$f":"ROUND(VLOOKUP($A11,'[2]Proposed Rates'!$A:$AI,MATCH(K$5,'[2]Proposed Rates'!$4:$4,0),FALSE),K$6)","v":-6.9999999999999999E-4},null,{"$f":"ROUND(VLOOKUP($A11,'[2]Proposed Rates'!$A:$AI,MATCH(M$5,'[2]Proposed Rates'!$4:$4,0),FALSE),5)","v":0},{"$f":"ROUND(VLOOKUP($A11,'[2]Proposed Rates'!$A:$AI,MATCH(N$5,'[2]Proposed Rates'!$4:$4,0),FALSE),N$6)","v":-3.8999999999999998E-3},{"$f":"ROUND(VLOOKUP($A11,'[2]Proposed Rates'!$A:$AI,MATCH(O$5,'[2]Proposed Rates'!$4:$4,0),FALSE),O$6)","v":-0.45},{"$f":"ROUND(VLOOKUP($A11,'[2]Proposed Rates'!$A:$AI,MATCH(P$5,'[2]Proposed Rates'!$4:$4,0),FALSE),P$6)","v":-8.9999999999999998E-4},{"$f":"ROUND(VLOOKUP($A11,'[2]Proposed Rates'!$A:$AI,MATCH(Q$5,'[2]Proposed Rates'!$4:$4,0),FALSE),Q$6)","v":6.4999999999999997E-3},{"$f":"ROUND(VLOOKUP($A11,'[2]Proposed Rates'!$A:$AI,MATCH(R$5,'[2]Proposed Rates'!$4:$4,0),FALSE),R$6)","v":5.5999999999999999E-3}]
["UGe",{"$f":"ROUND(VLOOKUP($A12,'[2]Proposed Rates'!$A:$AI,MATCH(B$5,'[2]Proposed Rates'!$4:$4,0),FALSE),B$6)","v":25.59},{"$f":"ROUND(VLOOKUP($A12,'[2]Proposed Rates'!$A:$AI,MATCH(C$5,'[2]Proposed Rates'!$4:$4,0),FALSE),C$6)","v":3.0599999999999999E-2},{"$f":"ROUND(VLOOKUP($A12,'[2]Proposed Rates'!$A:$AI,MATCH(D$5,'[2]Proposed Rates'!$4:$4,0),FALSE),D$6)","v":0},{"$f":"ROUND(VLOOKUP($A12,'[2]Proposed Rates'!$A:$AI,MATCH(E$5,'[2]Proposed Rates'!$4:$4,0),FALSE),E$6)","v":0},25.59,3.0599999999999999E-2,{"$f":"ROUND(VLOOKUP($A12,'[2]Proposed Rates'!$A:$AI,MATCH(H$4,'[2]Proposed Rates'!$1:$1,0),FALSE),H$6)","v":0.81},{"$f":"ROUND(VLOOKUP($A12,'[2]Proposed Rates'!$A:$AI,MATCH(I$4,'[2]Proposed Rates'!$1:$1,0),FALSE),I$6)","v":1E-3},{"$f":"ROUND(VLOOKUP($A12,'[2]Proposed Rates'!$A:$AI,MATCH(J$5,'[2]Proposed Rates'!$4:$4,0),FALSE),J$6)","v":-0.14000000000000001},{"$f":"ROUND(VLOOKUP($A12,'[2]Proposed Rates'!$A:$AI,MATCH(K$5,'[2]Proposed Rates'!$4:$4,0),FALSE),K$6)","v":-2.9999999999999997E-4},null,{"$f":"ROUND(VLOOKUP($A12,'[2]Proposed Rates'!$A:$AI,MATCH(M$5,'[2]Proposed Rates'!$4:$4,0),FALSE),5)","v":0},{"$f":"ROUND(VLOOKUP($A12,'[2]Proposed Rates'!$A:$AI,MATCH(N$5,'[2]Proposed Rates'!$4:$4,0),FALSE),N$6)","v":-3.8999999999999998E-3},{"$f":"ROUND(VLOOKUP($A12,'[2]Proposed Rates'!$A:$AI,MATCH(O$5,'[2]Proposed Rates'!$4:$4,0),FALSE),O$6)","v":-0.36},{"$f":"ROUND(VLOOKUP($A12,'[2]Proposed Rates'!$A:$AI,MATCH(P$5,'[2]Proposed Rates'!$4:$4,0),FALSE),P$6)","v":-4.0000000000000002E-4},{"$f":"ROUND(VLOOKUP($A12,'[2]Proposed Rates'!$A:$AI,MATCH(Q$5,'[2]Proposed Rates'!$4:$4,0),FALSE),Q$6)","v":7.0000000000000001E-3},{"$f":"ROUND(VLOOKUP($A12,'[2]Proposed Rates'!$A:$AI,MATCH(R$5,'[2]Proposed Rates'!$4:$4,0),FALSE),R$6)","v":5.7000000000000002E-3}]
["St Lgt",{"$f":"ROUND(VLOOKUP($A13,'[2]Proposed Rates'!$A:$AI,MATCH(B$5,'[2]Proposed Rates'!$4:$4,0),FALSE),B$6)","v":3.5},{"$f":"ROUND(VLOOKUP($A13,'[2]Proposed Rates'!$A:$AI,MATCH(C$5,'[2]Proposed Rates'!$4:$4,0),FALSE),C$6)","v":0.1071},{"$f":"ROUND(VLOOKUP($A13,'[2]Proposed Rates'!$A:$AI,MATCH(D$5,'[2]Proposed Rates'!$4:$4,0),FALSE),D$6)","v":0},{"$f":"ROUND(VLOOKUP($A13,'[2]Proposed Rates'!$A:$AI,MATCH(E$5,'[2]Proposed Rates'!$4:$4,0),FALSE),E$6)","v":0},3.5,0.1071,{"$f":"ROUND(VLOOKUP($A13,'[2]Proposed Rates'!$A:$AI,MATCH(H$4,'[2]Proposed Rates'!$1:$1,0),FALSE),H$6)","v":0.11},{"$f":"ROUND(VLOOKUP($A13,'[2]Proposed Rates'!$A:$AI,MATCH(I$4,'[2]Proposed Rates'!$1:$1,0),FALSE),I$6)","v":3.3999999999999998E-3},{"$f":"ROUND(VLOOKUP($A13,'[2]Proposed Rates'!$A:$AI,MATCH(J$5,'[2]Proposed Rates'!$4:$4,0),FALSE),J$6)","v":0},{"$f":"ROUND(VLOOKUP($A13,'[2]Proposed Rates'!$A:$AI,MATCH(K$5,'[2]Proposed Rates'!$4:$4,0),FALSE),K$6)","v":-8.9999999999999998E-4},null,{"$f":"ROUND(VLOOKUP($A13,'[2]Proposed Rates'!$A:$AI,MATCH(M$5,'[2]Proposed Rates'!$4:$4,0),FALSE),5)","v":0},{"$f":"ROUND(VLOOKUP($A13,'[2]Proposed Rates'!$A:$AI,MATCH(N$5,'[2]Proposed Rates'!$4:$4,0),FALSE),N$6)","v":-3.8999999999999998E-3},{"$f":"ROUND(VLOOKUP($A13,'[2]Proposed Rates'!$A:$AI,MATCH(O$5,'[2]Proposed Rates'!$4:$4,0),FALSE),O$6)","v":-0.05},{"$f":"ROUND(VLOOKUP($A13,'[2]Proposed Rates'!$A:$AI,MATCH(P$5,'[2]Proposed Rates'!$4:$4,0),FALSE),P$6)","v":-1.5E-3},{"$f":"ROUND(VLOOKUP($A13,'[2]Proposed Rates'!$A:$AI,MATCH(Q$5,'[2]Proposed Rates'!$4:$4,0),FALSE),Q$6)","v":5.4000000000000003E-3},{"$f":"ROUND(VLOOKUP($A13,'[2]Proposed Rates'!$A:$AI,MATCH(R$5,'[2]Proposed Rates'!$4:$4,0),FALSE),R$6)","v":3.5999999999999999E-3}]
["Sen Lgt",{"$f":"ROUND(VLOOKUP($A14,'[2]Proposed Rates'!$A:$AI,MATCH(B$5,'[2]Proposed Rates'!$4:$4,0),FALSE),B$6)","v":2.86},{"$f":"ROUND(VLOOKUP($A14,'[2]Proposed Rates'!$A:$AI,MATCH(C$5,'[2]Proposed Rates'!$4:$4,0),FALSE),C$6)","v":0.15559999999999999},{"$f":"ROUND(VLOOKUP($A14,'[2]Proposed Rates'!$A:$AI,MATCH(D$5,'[2]Proposed Rates'!$4:$4,0),FALSE),D$6)","v":0},{"$f":"ROUND(VLOOKUP($A14,'[2]Proposed Rates'!$A:$AI,MATCH(E$5,'[2]Proposed Rates'!$4:$4,0),FALSE),E$6)","v":0},2.86,0.15559999999999999,{"$f":"ROUND(VLOOKUP($A14,'[2]Proposed Rates'!$A:$AI,MATCH(H$4,'[2]Proposed Rates'!$1:$1,0),FALSE),H$6)","v":0.14000000000000001},{"$f":"ROUND(VLOOKUP($A14,'[2]Proposed Rates'!$A:$AI,MATCH(I$4,'[2]Proposed Rates'!$1:$1,0),FALSE),I$6)","v":7.7999999999999996E-3},{"$f":"ROUND(VLOOKUP($A14,'[2]Proposed Rates'!$A:$AI,MATCH(J$5,'[2]Proposed Rates'!$4:$4,0),FALSE),J$6)","v":0},{"$f":"ROUND(VLOOKUP($A14,'[2]Proposed Rates'!$A:$AI,MATCH(K$5,'[2]Proposed Rates'!$4:$4,0),FALSE),K$6)","v":-2.0999999999999999E-3},null,{"$f":"ROUND(VLOOKUP($A14,'[2]Proposed Rates'!$A:$AI,MATCH(M$5,'[2]Proposed Rates'!$4:$4,0),FALSE),5)","v":0},{"$f":"ROUND(VLOOKUP($A14,'[2]Proposed Rates'!$A:$AI,MATCH(N$5,'[2]Proposed Rates'!$4:$4,0),FALSE),N$6)","v":-3.8999999999999998E-3},{"$f":"ROUND(VLOOKUP($A14,'[2]Proposed Rates'!$A:$AI,MATCH(O$5,'[2]Proposed Rates'!$4:$4,0),FALSE),O$6)","v":-0.04},{"$f":"ROUND(VLOOKUP($A14,'[2]Proposed Rates'!$A:$AI,MATCH(P$5,'[2]Proposed Rates'!$4:$4,0),FALSE),P$6)","v":-2.2000000000000001E-3},{"$f":"ROUND(VLOOKUP($A14,'[2]Proposed Rates'!$A:$AI,MATCH(Q$5,'[2]Proposed Rates'!$4:$4,0),FALSE),Q$6)","v":5.4000000000000003E-3},{"$f":"ROUND(VLOOKUP($A14,'[2]Proposed Rates'!$A:$AI,MATCH(R$5,'[2]Proposed Rates'!$4:$4,0),FALSE),R$6)","v":3.7000000000000002E-3}]
["USL",{"$f":"ROUND(VLOOKUP($A15,'[2]Proposed Rates'!$A:$AI,MATCH(B$5,'[2]Proposed Rates'!$4:$4,0),FALSE),B$6)","v":37.58},{"$f":"ROUND(VLOOKUP($A15,'[2]Proposed Rates'!$A:$AI,MATCH(C$5,'[2]Proposed Rates'!$4:$4,0),FALSE),C$6)","v":2.5100000000000001E-2},{"$f":"ROUND(VLOOKUP($A15,'[2]Proposed Rates'!$A:$AI,MATCH(D$5,'[2]Proposed Rates'!$4:$4,0),FALSE),D$6)","v":0},{"$f":"ROUND(VLOOKUP($A15,'[2]Proposed Rates'!$A:$AI,MATCH(E$5,'[2]Proposed Rates'!$4:$4,0),FALSE),E$6)","v":0},37.58,2.5100000000000001E-2,{"$f":"ROUND(VLOOKUP($A15,'[2]Proposed Rates'!$A:$AI,MATCH(H$4,'[2]Proposed Rates'!$1:$1,0),FALSE),H$6)","v":0.89},{"$f":"ROUND(VLOOKUP($A15,'[2]Proposed Rates'!$A:$AI,MATCH(I$4,'[2]Proposed Rates'!$1:$1,0),FALSE),I$6)","v":5.9999999999999995E-4},{"$f":"ROUND(VLOOKUP($A15,'[2]Proposed Rates'!$A:$AI,MATCH(J$5,'[2]Proposed Rates'!$4:$4,0),FALSE),J$6)","v":0},{"$f":"ROUND(VLOOKUP($A15,'[2]Proposed Rates'!$A:$AI,MATCH(K$5,'[2]Proposed Rates'!$4:$4,0),FALSE),K$6)","v":1E-4},null,{"$f":"ROUND(VLOOKUP($A15,'[2]Proposed Rates'!$A:$AI,MATCH(M$5,'[2]Proposed Rates'!$4:$4,0),FALSE),5)","v":0},{"$f":"ROUND(VLOOKUP($A15,'[2]Proposed Rates'!$A:$AI,MATCH(N$5,'[2]Proposed Rates'!$4:$4,0),FALSE),N$6)","v":-3.8999999999999998E-3},{"$f":"ROUND(VLOOKUP($A15,'[2]Proposed Rates'!$A:$AI,MATCH(O$5,'[2]Proposed Rates'!$4:$4,0),FALSE),O$6)","v":-0.53},{"$f":"ROUND(VLOOKUP($A15,'[2]Proposed Rates'!$A:$AI,MATCH(P$5,'[2]Proposed Rates'!$4:$4,0),FALSE),P$6)","v":-4.0000000000000002E-4},{"$f":"ROUND(VLOOKUP($A15,'[2]Proposed Rates'!$A:$AI,MATCH(Q$5,'[2]Proposed Rates'!$4:$4,0),FALSE),Q$6)","v":5.4000000000000003E-3},{"$f":"ROUND(VLOOKUP($A15,'[2]Proposed Rates'!$A:$AI,MATCH(R$5,'[2]Proposed Rates'!$4:$4,0),FALSE),R$6)","v":4.5999999999999999E-3}]
["GSd",{"$f":"ROUND(VLOOKUP($A16,'[2]Proposed Rates'!$A:$AI,MATCH(B$5,'[2]Proposed Rates'!$4:$4,0),FALSE),B$6)","v":108.28},{"$f":"ROUND(VLOOKUP($A16,'[2]Proposed Rates'!$A:$AI,MATCH(C$5,'[2]Proposed Rates'!$4:$4,0),FALSE),C$6)","v":18.329599999999999},{"$f":"ROUND(VLOOKUP($A16,'[2]Proposed Rates'!$A:$AI,MATCH(D$5,'[2]Proposed Rates'!$4:$4,0),FALSE),D$6)","v":0},{"$f":"ROUND(VLOOKUP($A16,'[2]Proposed Rates'!$A:$AI,MATCH(E$5,'[2]Proposed Rates'!$4:$4,0),FALSE),E$6)","v":0},108.28,18.329599999999999,{"$f":"ROUND(VLOOKUP($A16,'[2]Proposed Rates'!$A:$AI,MATCH(H$4,'[2]Proposed Rates'!$1:$1,0),FALSE),H$6)","v":4.34},{"$f":"ROUND(VLOOKUP($A16,'[2]Proposed Rates'!$A:$AI,MATCH(I$4,'[2]Proposed Rates'!$1:$1,0),FALSE),I$6)","v":0.73380000000000001},{"$f":"ROUND(VLOOKUP($A16,'[2]Proposed Rates'!$A:$AI,MATCH(J$5,'[2]Proposed Rates'!$4:$4,0),FALSE),J$6)","v":0},{"$f":"ROUND(VLOOKUP($A16,'[2]Proposed Rates'!$A:$AI,MATCH(K$5,'[2]Proposed Rates'!$4:$4,0),FALSE),K$6)","v":1.17E-2},null,{"$f":"ROUND(VLOOKUP($A16,'[2]Proposed Rates'!$A:$AI,MATCH(M$5,'[2]Proposed Rates'!$4:$4,0),FALSE),M$6)","v":0},{"$f":"ROUND(VLOOKUP($A16,'[2]Proposed Rates'!$A:$AI,MATCH(N$5,'[2]Proposed Rates'!$4:$4,0),FALSE),N$6)","v":-3.8999999999999998E-3},{"$f":"ROUND(VLOOKUP($A16,'[2]Proposed Rates'!$A:$AI,MATCH(O$5,'[2]Proposed Rates'!$4:$4,0),FALSE),O$6)","v":-1.52},{"$f":"ROUND(VLOOKUP($A16,'[2]Proposed Rates'!$A:$AI,MATCH(P$5,'[2]Proposed Rates'!$4:$4,0),FALSE),P$6)","v":-0.2555},{"$f":"ROUND(VLOOKUP($A16,'[2]Proposed Rates'!$A:$AI,MATCH(Q$5,'[2]Proposed Rates'!$4:$4,0),FALSE)*VLOOKUP($A16,'Data Billing Quantities'!$A:$B,2,FALSE),Q$6)","v":2.0421},{"$f":"ROUND(VLOOKUP($A16,'[2]Proposed Rates'!$A:$AI,MATCH(R$5,'[2]Proposed Rates'!$4:$4,0),FALSE)*VLOOKUP($A16,'Data Billing Quantities'!$A:$B,2,FALSE),R$6)","v":1.7005999999999999}]
["UGd",{"$f":"ROUND(VLOOKUP($A17,'[2]Proposed Rates'!$A:$AI,MATCH(B$5,'[2]Proposed Rates'!$4:$4,0),FALSE),B$6)","v":100.19},{"$f":"ROUND(VLOOKUP($A17,'[2]Proposed Rates'!$A:$AI,MATCH(C$5,'[2]Proposed Rates'!$4:$4,0),FALSE),C$6)","v":10.5601},{"$f":"ROUND(VLOOKUP($A17,'[2]Proposed Rates'!$A:$AI,MATCH(D$5,'[2]Proposed Rates'!$4:$4,0),FALSE),D$6)","v":0},{"$f":"ROUND(VLOOKUP($A17,'[2]Proposed Rates'!$A:$AI,MATCH(E$5,'[2]Proposed Rates'!$4:$4,0),FALSE),E$6)","v":0},100.19,10.5601,{"$f":"ROUND(VLOOKUP($A17,'[2]Proposed Rates'!$A:$AI,MATCH(H$4,'[2]Proposed Rates'!$1:$1,0),FALSE),H$6)","v":3.92},{"$f":"ROUND(VLOOKUP($A17,'[2]Proposed Rates'!$A:$AI,MATCH(I$4,'[2]Proposed Rates'!$1:$1,0),FALSE),I$6)","v":0.41339999999999999},{"$f":"ROUND(VLOOKUP($A17,'[2]Proposed Rates'!$A:$AI,MATCH(J$5,'[2]Proposed Rates'!$4:$4,0),FALSE),J$6)","v":0},{"$f":"ROUND(VLOOKUP($A17,'[2]Proposed Rates'!$A:$AI,MATCH(K$5,'[2]Proposed Rates'!$4:$4,0),FALSE),K$6)","v":0.1062},null,{"$f":"ROUND(VLOOKUP($A17,'[2]Proposed Rates'!$A:$AI,MATCH(M$5,'[2]Proposed Rates'!$4:$4,0),FALSE),M$6)","v":0},{"$f":"ROUND(VLOOKUP($A17,'[2]Proposed Rates'!$A:$AI,MATCH(N$5,'[2]Proposed Rates'!$4:$4,0),FALSE),N$6)","v":-3.8999999999999998E-3},{"$f":"ROUND(VLOOKUP($A17,'[2]Proposed Rates'!$A:$AI,MATCH(O$5,'[2]Proposed Rates'!$4:$4,0),FALSE),O$6)","v":-1.4},{"$f":"ROUND(VLOOKUP($A17,'[2]Proposed Rates'!$A:$AI,MATCH(P$5,'[2]Proposed Rates'!$4:$4,0),FALSE),P$6)","v":-4.0000000000000002E-4},{"$f":"ROUND(VLOOKUP($A17,'[2]Proposed Rates'!$A:$AI,MATCH(Q$5,'[2]Proposed Rates'!$4:$4,0),FALSE)*VLOOKUP($A17,'Data Billing Quantities'!$A:$B,2,FALSE),Q$6)","v":2.6172},{"$f":"ROUND(VLOOKUP($A17,'[2]Proposed Rates'!$A:$AI,MATCH(R$5,'[2]Proposed Rates'!$4:$4,0),FALSE)*VLOOKUP($A17,'Data Billing Quantities'!$A:$B,2,FALSE),R$6)","v":2.1608000000000001}]
["Dgen",{"$f":"ROUND(VLOOKUP($A18,'[2]Proposed Rates'!$A:$AI,MATCH(B$5,'[2]Proposed Rates'!$4:$4,0),FALSE),B$6)","v":195.54},{"$f":"ROUND(VLOOKUP($A18,'[2]Proposed Rates'!$A:$AI,MATCH(C$5,'[2]Proposed Rates'!$4:$4,0),FALSE),C$6)","v":9.8163},{"$f":"ROUND(VLOOKUP($A18,'[2]Proposed Rates'!$A:$AI,MATCH(D$5,'[2]Proposed Rates'!$4:$4,0),FALSE),D$6)","v":0},{"$f":"ROUND(VLOOKUP($A18,'[2]Proposed Rates'!$A:$AI,MATCH(E$5,'[2]Proposed Rates'!$4:$4,0),FALSE),E$6)","v":0},195.54,9.8163,{"$f":"ROUND(VLOOKUP($A18,'[2]Proposed Rates'!$A:$AI,MATCH(H$4,'[2]Proposed Rates'!$1:$1,0),FALSE),H$6)","v":1.74},{"$f":"ROUND(VLOOKUP($A18,'[2]Proposed Rates'!$A:$AI,MATCH(I$4,'[2]Proposed Rates'!$1:$1,0),FALSE),I$6)","v":8.8300000000000003E-2},{"$f":"ROUND(VLOOKUP($A18,'[2]Proposed Rates'!$A:$AI,MATCH(J$5,'[2]Proposed Rates'!$4:$4,0),FALSE),J$6)","v":0},{"$f":"ROUND(VLOOKUP($A18,'[2]Proposed Rates'!$A:$AI,MATCH(K$5,'[2]Proposed Rates'!$4:$4,0),FALSE),K$6)","v":-0.13589999999999999},null,{"$f":"ROUND(VLOOKUP($A18,'[2]Proposed Rates'!$A:$AI,MATCH(M$5,'[2]Proposed Rates'!$4:$4,0),FALSE),M$6)","v":0},{"$f":"ROUND(VLOOKUP($A18,'[2]Proposed Rates'!$A:$AI,MATCH(N$5,'[2]Proposed Rates'!$4:$4,0),FALSE),N$6)","v":-3.8999999999999998E-3},{"$f":"ROUND(VLOOKUP($A18,'[2]Proposed Rates'!$A:$AI,MATCH(O$5,'[2]Proposed Rates'!$4:$4,0),FALSE),O$6)","v":-2.74},{"$f":"ROUND(VLOOKUP($A18,'[2]Proposed Rates'!$A:$AI,MATCH(P$5,'[2]Proposed Rates'!$4:$4,0),FALSE),P$6)","v":-0.13650000000000001},{"$f":"ROUND(VLOOKUP($A18,'[2]Proposed Rates'!$A:$AI,MATCH(Q$5,'[2]Proposed Rates'!$4:$4,0),FALSE)*VLOOKUP($A18,'Data Billing Quantities'!$A:$B,2,FALSE),Q$6)","v":0.99270000000000003},{"$f":"ROUND(VLOOKUP($A18,'[2]Proposed Rates'!$A:$AI,MATCH(R$5,'[2]Proposed Rates'!$4:$4,0),FALSE)*VLOOKUP($A18,'Data Billing Quantities'!$A:$B,2,FALSE),R$6)","v":0.82840000000000003}]
["ST",{"$f":"ROUND(SUM('[2]Proposed Rates'!$B$17:$B$19),B$6)","v":1312.3},{"$f":"ROUND(VLOOKUP(\"Common Line\",'[2]Proposed Rates'!$A:$H,8,FALSE),C$6)","v":1.5335000000000001},{"$f":"SUM('[2]Proposed Rates'!$I$17:$I$18)","v":0},{"$f":"'[2]Proposed Rates'!$J$19","v":0},1312.3,1.5335000000000001,{"$f":"ROUND(VLOOKUP($A19,'[2]Proposed Rates'!$A:$AI,MATCH(H$4,'[2]Proposed Rates'!$1:$1,0),FALSE),H$6)","v":36.18},{"$f":"ROUND(VLOOKUP($A19,'[2]Proposed Rates'!$A:$AI,MATCH(I$4,'[2]Proposed Rates'!$1:$1,0),FALSE),I$6)","v":5.3999999999999999E-2},{"$f":"ROUND(VLOOKUP($A19,'[2]Proposed Rates'!$A:$AI,MATCH(J$5,'[2]Proposed Rates'!$4:$4,0),FALSE),J$6)","v":0},{"$f":"ROUND(VLOOKUP($A19,'[2]Proposed Rates'!$A:$AI,MATCH(K$5,'[2]Proposed Rates'!$4:$4,0),FALSE),K$6)","v":0.94440000000000002},null,null,null,{"$f":"ROUND(VLOOKUP($A19,'[2]Proposed Rates'!$A:$AI,MATCH(O$5,'[2]Proposed Rates'!$4:$4,0),FALSE),O$6)","v":-15.7},{"$f":"ROUND(VLOOKUP($A19,'[2]Proposed Rates'!$A:$AI,MATCH(P$5,'[2]Proposed Rates'!$4:$4,0),FALSE),P$6)","v":-2.1899999999999999E-2},{"$f":"ROUND(VLOOKUP($A19,'[2]Proposed Rates'!$A:$AI,MATCH(Q$5,'[2]Proposed Rates'!$4:$4,0),FALSE)*VLOOKUP($A19,'Data Billing Quantities'!$A:$B,2,FALSE),Q$6)","v":3.5960000000000001},{"$f":"ROUND(VLOOKUP($A19,'[2]Proposed Rates'!$A:$AI,MATCH(R$5,'[2]Proposed Rates'!$4:$4,0),FALSE)*VLOOKUP($A19,'Data Billing Quantities'!$A:$B,2,FALSE),R$6)","v":2.9558}]
["ST (NonWMP, NonRPP, NonLDC, ClassB)",{"$f":"B$19","v":1312.3},{"$f":"C$19","v":1.5335000000000001},0,0,1312.3,1.5335000000000001,{"$f":"H19","v":36.18},{"$f":"I19","v":5.3999999999999999E-2},{"$f":"ROUND(VLOOKUP(\"ST\",'[2]Proposed Rates'!$A:$AI,MATCH(J$5,'[2]Proposed Rates'!$4:$4,0),FALSE),J$6)","v":0},{"$f":"ROUND(VLOOKUP(\"ST\",'[2]Proposed Rates'!$A:$AI,MATCH(K$5,'[2]Proposed Rates'!$4:$4,0),FALSE),K$6)","v":0.94440000000000002},{"$f":"ROUND(VLOOKUP(\"ST\",'[2]Proposed Rates'!$A:$AI,MATCH(L$5,'[2]Proposed Rates'!$4:$4,0),FALSE),L$6)","v":-1.1389},{"$f":"ROUND(VLOOKUP(\"ST\",'[2]Proposed Rates'!$A:$AI,MATCH(M$5,'[2]Proposed Rates'!$4:$4,0),FALSE),M$6)","v":0},{"$f":"ROUND(VLOOKUP(\"ST\",'[2]Proposed Rates'!$A:$AI,MATCH(N$5,'[2]Proposed Rates'!$4:$4,0),FALSE),N$6)","v":-3.8999999999999998E-3},{"$f":"ROUND(VLOOKUP(\"ST\",'[2]Proposed Rates'!$A:$AI,MATCH(O$5,'[2]Proposed Rates'!$4:$4,0),FALSE),O$6)","v":-15.7},{"$f":"ROUND(VLOOKUP(\"ST\",'[2]Proposed Rates'!$A:$AI,MATCH(P$5,'[2]Proposed Rates'!$4:$4,0),FALSE),P$6)","v":-2.1899999999999999E-2},{"$f":"ROUND(VLOOKUP(\"ST\",'[2]Proposed Rates'!$A:$AI,MATCH(Q$5,'[2]Proposed Rates'!$4:$4,0),FALSE)*VLOOKUP($A20,'Data Billing Quantities'!$A:$B,2,FALSE),Q$6)","v":3.5960000000000001},{"$f":"ROUND(VLOOKUP(\"ST\",'[2]Proposed Rates'!$A:$AI,MATCH(R$5,'[2]Proposed Rates'!$4:$4,0),FALSE)*VLOOKUP($A20,'Data Billing Quantities'!$A:$B,2,FALSE),R$6)","v":2.9558}]
["ST (NonWMP, NonRPP, NonLDC, ClassB) Exclude GA Rider",{"$f":"B$19","v":1312.3},1.5335000000000001,0,0,1312.3,1.5335000000000001,{"$f":"H19","v":36.18},{"$f":"I19","v":5.3999999999999999E-2},{"$f":"ROUND(VLOOKUP(\"ST\",'[2]Proposed Rates'!$A:$AI,MATCH(J$5,'[2]Proposed Rates'!$4:$4,0),FALSE),J$6)","v":0},{"$f":"ROUND(VLOOKUP(\"ST\",'[2]Proposed Rates'!$A:$AI,MATCH(K$5,'[2]Proposed Rates'!$4:$4,0),FALSE),K$6)","v":0.94440000000000002},{"$f":"ROUND(VLOOKUP(\"ST\",'[2]Proposed Rates'!$A:$AI,MATCH(L$5,'[2]Proposed Rates'!$4:$4,0),FALSE),L$6)","v":-1.1389},{"$f":"ROUND(VLOOKUP(\"ST\",'[2]Proposed Rates'!$A:$AI,MATCH(M$5,'[2]Proposed Rates'!$4:$4,0),FALSE),M$6)","v":0},null,{"$f":"ROUND(VLOOKUP(\"ST\",'[2]Proposed Rates'!$A:$AI,MATCH(O$5,'[2]Proposed Rates'!$4:$4,0),FALSE),O$6)","v":-15.7},{"$f":"ROUND(VLOOKUP(\"ST\",'[2]Proposed Rates'!$A:$AI,MATCH(P$5,'[2]Proposed Rates'!$4:$4,0),FALSE),P$6)","v":-2.1899999999999999E-2},{"$f":"ROUND(VLOOKUP(\"ST\",'[2]Proposed Rates'!$A:$AI,MATCH(Q$5,'[2]Proposed Rates'!$4:$4,0),FALSE)*VLOOKUP($A21,'Data Billing Quantities'!$A:$B,2,FALSE),Q$6)","v":3.5960000000000001},{"$f":"ROUND(VLOOKUP(\"ST\",'[2]Proposed Rates'!$A:$AI,MATCH(R$5,'[2]Proposed Rates'!$4:$4,0),FALSE)*VLOOKUP($A21,'Data Billing Quantities'!$A:$B,2,FALSE),R$6)","v":2.9558}]

{"sheet":"Data Billing Quantities","index":3,"n_rows":19,"n_cols":15,"rows_kept":19,"cut":false,"hidden":true,"merged":[]}
["Rate Class-Specific Billing Quantities (Applied to Current and Proposed Bill)"]
[]
[null,null,null,null,"Consumption (kWh)",null,null,null,"Peak (kW)",null,null,null,"TOU Split"]
["Rate Class","Loss Factor","Charge Determinant","Commodity Threshold","Low kWh","Typical kWh","Average kWh","High kWh","Low kW","Typical kW","Average kW","High kW","TOU-Off Peak","TOU-Mid Peak","TOU-On Peak"]
["UR",1.0569999999999999,"kWh",600,350,750,{"$f":"VLOOKUP(A5,[3]Sheet1!$A$9:$I$22,8,FALSE)","v":755},1400,null,null,null,null,0.64,0.18,0.18]
["R1",1.0760000000000001,"kWh",600,400,750,{"$f":"VLOOKUP(A6,[3]Sheet1!$A$10:$I$22,8,FALSE)","v":920},1800,null,null,null,null,0.64,0.18,0.18]
["R2",1.105,"kWh",600,450,750,{"$f":"VLOOKUP(A7,[3]Sheet1!$A$10:$I$22,8,FALSE)","v":1152},2300,null,null,null,null,0.64,0.18,0.18]
["Seasonal",1.1040000000000001,"kWh",600,50,null,{"$f":"VLOOKUP(A8,[3]Sheet1!$A$10:$I$22,8,FALSE)","v":352},1000,null,null,null,null,0.64,0.18,0.18]
["GSe",1.0960000000000001,"kWh",750,1000,2000,{"$f":"VLOOKUP(A9,[3]Sheet1!$A$10:$I$22,8,FALSE)","v":1982},15000,null,null,null,null,0.64,0.18,0.18]
["UGe",1.0669999999999999,"kWh",750,1000,2000,{"$f":"VLOOKUP(A10,[3]Sheet1!$A$10:$I$22,8,FALSE)","v":2759},15000,null,null,null,null,0.64,0.18,0.18]
["St Lgt",1.0920000000000001,"kWh",750,100,null,{"$f":"VLOOKUP(A11,[3]Sheet1!$A$10:$I$22,8,FALSE)","v":517},2000]
["Sen Lgt",1.0920000000000001,"kWh",750,20,null,{"$f":"VLOOKUP(A12,[3]Sheet1!$A$10:$I$22,8,FALSE)","v":71},200]
["USL",1.0920000000000001,"kWh",750,100,null,{"$f":"VLOOKUP(A13,[3]Sheet1!$A$10:$I$22,8,FALSE)","v":364},1000]
["GSd",1.0609999999999999,"kW",0,15000,null,{"$f":"VLOOKUP(A14,[3]Sheet1!$A$10:$I$22,8,FALSE)","v":36104},175000,60,117,{"$f":"VLOOKUP(A14,[3]Sheet1!$A$10:$I$22,9,FALSE)","v":124},500]
["UGd",1.05,"kW",0,15000,null,{"$f":"VLOOKUP(A15,[3]Sheet1!$A$10:$I$22,8,FALSE)","v":50525},175000,60,117,{"$f":"VLOOKUP(A15,[3]Sheet1!$A$10:$I$22,9,FALSE)","v":135},500]
["Dgen",1.0609999999999999,"kW",0,300,null,{"$f":"VLOOKUP(A16,[3]Sheet1!$A$10:$I$22,8,FALSE)","v":1328},5000,10,15,{"$f":"VLOOKUP(A16,[3]Sheet1!$A$10:$I$22,9,FALSE)","v":13},100]
["ST",1.034,"kW",0,200000,null,{"$f":"VLOOKUP(A17,[3]Sheet1!$A$10:$I$22,8,FALSE)","v":1601036},4000000,500,117,{"$f":"VLOOKUP(A17,[3]Sheet1!$A$10:$I$22,9,FALSE)","v":3091},10000]
["ST (NonWMP, NonRPP, NonLDC, ClassB)",{"$f":"B$17","v":1.034},{"$f":"C$17","v":"kW"},0,null,null,1601036,null,null,null,3091]
["ST (NonWMP, NonRPP, NonLDC, ClassB) Exclude GA Rider",{"$f":"B$17","v":1.034},"kW",0,null,null,1601036,null,null,null,3091]

{"sheet":"Data Pass Through","index":4,"n_rows":22,"n_cols":5,"rows_kept":22,"cut":false,"hidden":true,"merged":[]}
["3. Pass Through Charges (maintain pass through charges effective during application period for 2021 annual update august 2020)"]
[null,"Current Bill","Proposed Bill"]
["Effective Date","Feb 23 2021","Feb 23 2021","TOU %","Notes"]
["R2 Credit",60.5,60.5]
["Energy (Non-RPP)*",0.1075,0.1075,null,"Provided by BCC Meg Atkinson Feb 2021"]
["Energy First Tier",0.10100000000000001,0.10100000000000001,null,"Effective Feb 23 2021"]
["Energy Second Tier",0.11799999999999999,0.11799999999999999,null,"Effective Feb 23 2021"]
["TOU-Off Peak",8.5000000000000006E-2,8.5000000000000006E-2,0.64,"Effective Feb 23 2021"]
["TOU-Mid Peak",0.11899999999999999,0.11899999999999999,0.18,"Effective Feb 23 2021"]
["TOU-On Peak",0.17599999999999999,0.17599999999999999,0.18,"Effective Feb 23 2021"]
["Wholesale Market Service Rate (WMS) - not including CBR",3.0000000000000001E-3,3.0000000000000001E-3,null,"Effective May 1 2017, 0.0036 WMSC broken up between WMSC and CBR"]
["Capacity Based Recovery (CBR) - Applicable for Class B Customers",4.0000000000000002E-4,4.0000000000000002E-4,null,"Effective May 1 2017, 0.0036 WMSC broken up between WMSC and CBR"]
["Rural Rate Protection Charge",5.0000000000000001E-4,5.0000000000000001E-4,null,"RRRP charge reduced from $0.0021/kWh to $0.0003/kWh effective July 1, 2017; reduced to 0.0005 effective jan 1 2019"]
["Ontario Electricity Support Program Charge",0,0,null,"OESP charge removed for all rate classes effective May 1, 2017. ROW HIDDEN IN BILL IMPACT FILE"]
["Standard Supply Service – Administration Charge (if applicable)",0.25,0.25]
["Fair Hydro Plan - Distribution Rate Protection Savings*",{"$f":"IF('Bill Impact Summary'!M6=\"TOU\",0,IF('Bill Impact Summary'!M6=\"TOU (DRP applied)\",B17,\"error\"))","v":36.86},{"$f":"IF('Bill Impact Summary'!M6=\"TOU\",0,IF('Bill Impact Summary'!M6=\"TOU (DRP applied)\",C17,\"error\"))","v":36.86},null,"Highlighted cells are FORMULAS; do not overwrite with hard-entered values. Input DRP limit values in row 17 below"]
["DRP limit (applied when selected from Bill Impact Summary)",36.86,36.86,null,"Make change to FHP DRP limit here, but to apply DRP, must do in Bill Impact Summary sheet cell L6"]
["Smart Metering Entity Charge",0.56999999999999995,0.56999999999999995,null,"Change from 0.79 to 0.57 effective March 1 2018; only for metered energy-billed (UR, R1, R2, SEA, GSE, UGE)"]
["Debt Retirement Charge (DRC)",0,0,null,"DRC removed from all rate classes Apr 1 2018  ROW HIDDEN IN BILL IMPACT FILE"]
["OER",-0.21199999999999999,-0.21199999999999999,null,"Effective Jan 1 2021"]
["Customer Attributes - Assumptions"]
["ST customers are assumed to be WMP Class B; exclude NonWMP rider and Standard Supply Service"]

{"sheet":"Data BI List","index":5,"n_rows":55,"n_cols":3,"rows_kept":55,"cut":false,"hidden":true,"merged":[]}
["Template Name","Bill Impact Worksheet Name","Bill Impact Header"]
["BI Template_Energy","BI_UR_Low","2021 Bill Impacts (Low Consumption Level) - UR"]
["BI Template_Energy","BI_UR_Typical","2021 Bill Impacts (Typical Consumption Level) - UR"]
["BI Template_Energy","BI_UR_Avg","2021 Bill Impacts (Average Consumption Level) - UR"]
["BI Template_Energy","BI_UR_High","2021 Bill Impacts (High Consumption Level) - UR"]
["BI Template_Energy","BI_R1_Low","2021 Bill Impacts (Low Consumption Level) - R1"]
["BI Template_Energy","BI_R1_Typical","2021 Bill Impacts (Typical Consumption Level) - R1"]
["BI Template_Energy","BI_R1_Avg","2021 Bill Impacts (Average Consumption Level) - R1"]
["BI Template_Energy","BI_R1_High","2021 Bill Impacts (High Consumption Level) - R1"]
["BI Template_Energy","BI_R2_Low","2021 Bill Impacts (Low Consumption Level) - R2"]
["BI Template_Energy","BI_R2_Typical","2021 Bill Impacts (Typical Consumption Level) - R2"]
["BI Template_Energy","BI_R2_Avg","2021 Bill Impacts (Average Consumption Level) - R2"]
["BI Template_Energy","BI_R2_High","2021 Bill Impacts (High Consumption Level) - R2"]
["BI Template_Energy","ExcludeDRP_BI_R1_Low","2021 Bill Impacts Excluding DRP (Low Consumption Level) - R1"]
["BI Template_Energy","ExcludeDRP_BI_R1_Typical","2021 Bill Impacts Excluding DRP (Typical Consumption Level) - R1"]
["BI Template_Energy","ExcludeDRP_BI_R1_Avg","2021 Bill Impacts Excluding DRP (Average Consumption Level) - R1"]
["BI Template_Energy","ExcludeDRP_BI_R1_High","2021 Bill Impacts Excluding DRP (High Consumption Level) - R1"]
["BI Template_Energy","ExcludeDRP_BI_R2_Low","2021 Bill Impacts Excluding DRP (Low Consumption Level) - R2"]
["BI Template_Energy","ExcludeDRP_BI_R2_Typical","2021 Bill Impacts Excluding DRP (Typical Consumption Level) - R2"]
["BI Template_Energy","ExcludeDRP_BI_R2_Avg","2021 Bill Impacts Excluding DRP (Average Consumption Level) - R2"]
["BI Template_Energy","ExcludeDRP_BI_R2_High","2021 Bill Impacts Excluding DRP (High Consumption Level) - R2"]
["BI Template_Energy","BI_Seas_Low","2021 Bill Impacts (Low Consumption Level) - Seasonal"]
["BI Template_Energy","BI_Seas_Avg","2021 Bill Impacts (Average Consumption Level) - Seasonal"]
["BI Template_Energy","BI_Seas_High","2021 Bill Impacts (High Consumption Level) - Seasonal"]
["BI Template_Energy","BI_GSe_Low","2021 Bill Impacts (Low Consumption Level) - GSe"]
["BI Template_Energy","BI_GSe_Typical","2021 Bill Impacts (Typical Consumption Level) - GSe"]
["BI Template_Energy","BI_GSe_Avg","2021 Bill Impacts (Average Consumption Level) - GSe"]
["BI Template_Energy","BI_GSe_High","2021 Bill Impacts (High Consumption Level) - GSe"]
["BI Template_Energy","BI_UGe_Low","2021 Bill Impacts (Low Consumption Level) - UGe"]
["BI Template_Energy","BI_UGe_Typical","2021 Bill Impacts (Typical Consumption Level) - UGe"]
["BI Template_Energy","BI_UGe_Avg","2021 Bill Impacts (Average Consumption Level) - UGe"]
["BI Template_Energy","BI_UGe_High","2021 Bill Impacts (High Consumption Level) - UGe"]
["BI Template_Demand","BI_GSd_Low","2021 Bill Impacts (Low Consumption Level) - GSd"]
["BI Template_Demand","BI_GSd_Avg","2021 Bill Impacts (Average Consumption Level) - GSd"]
["BI Template_Demand","BI_GSd_High","2021 Bill Impacts (High Consumption Level) - GSd"]
["BI Template_Demand","BI_UGd_Low","2021 Bill Impacts (Low Consumption Level) - UGd"]
["BI Template_Demand","BI_UGd_Avg","2021 Bill Impacts (Average Consumption Level) - UGd"]
["BI Template_Demand","BI_UGd_High","2021 Bill Impacts (High Consumption Level) - UGd"]
["BI Template_EnergyUNM","BI_StLgt_Low","2021 Bill Impacts (Low Consumption Level) - St Lgt"]
["BI Template_EnergyUNM","BI_StLgt_Avg","2021 Bill Impacts (Average Consumption Level) - St Lgt"]
["BI Template_EnergyUNM","BI_StLgt_High","2021 Bill Impacts (High Consumption Level) - St Lgt"]
["BI Template_EnergyUNM","BI_SenLgt_Low","2021 Bill Impacts (Low Consumption Level) - Sen Lgt"]
["BI Template_EnergyUNM","BI_SenLgt_Avg","2021 Bill Impacts (Average Consumption Level) - Sen Lgt"]
["BI Template_EnergyUNM","BI_SenLgt_High","2021 Bill Impacts (High Consumption Level) - Sen Lgt"]
["BI Template_EnergyUNM","BI_USL_Low","2021 Bill Impacts (Low Consumption Level) - USL"]
["BI Template_EnergyUNM","BI_USL_Avg","2021 Bill Impacts (Average Consumption Level) - USL"]
["BI Template_EnergyUNM","BI_USL_High","2021 Bill Impacts (High Consumption Level) - USL"]
["BI Template_Demand","BI_Dgen_Low","2021 Bill Impacts (Low Consumption Level) - Dgen"]
["BI Template_Demand","BI_Dgen_Avg","2021 Bill Impacts (Average Consumption Level) - Dgen"]
["BI Template_Demand","BI_Dgen_High","2021 Bill Impacts (High Consumption Level) - Dgen"]
["BI Template_Demand","BI_ST_Low","2021 Bill Impacts (Low Consumption Level) - ST"]
["BI Template_Demand","BI_ST_Avg","2021 Bill Impacts (Average Consumption Level) - ST"]
["BI Template_Demand","BI_ST_High","2021 Bill Impacts (High Consumption Level) - ST"]
["BI Template_Demand","BI_ST_Avg_NonWMP","2021 Bill Impacts (Average Consumption Level) - ST (NonWMP, NonRPP, NonLDC, ClassB)"]
["BI Template_Demand","BI_ST_Avg_NonWMP_exclGA","2021 Bill Impacts (Average Consumption Level) - ST (NonWMP, NonRPP, NonLDC, ClassB) Exclude GA Rider"]

{"sheet":"Data BI Summary","index":6,"n_rows":5,"n_cols":8,"rows_kept":5,"cut":false,"hidden":true,"merged":[]}
[]
["Summary Column","Current Total Bill","Change in DX Bill ($)","Change in DX Bill (%)","Change in Total Bill ($)","Change in Total Bill (%)","Change in RTSR"]
["BI Template_Energy","Total Amount on TOU","Sub-Total:  Distribution (excluding pass through)","Sub-Total:  Distribution (excluding pass through)","Total Amount on TOU","Total Amount on TOU","Sub-Total:  Retail Transmission ","Fixed Deferral/Variance Account Rider (General)"]
["BI Template_EnergyUNM","Total Amount on Two-Tier RPP","Sub-Total:  Distribution (excluding pass through)","Sub-Total:  Distribution (excluding pass through)","Total Amount on Two-Tier RPP","Total Amount on Two-Tier RPP","Sub-Total:  Retail Transmission ","Fixed Deferral/Variance Account Rider (General)"]
["BI Template_Demand","Total Amount","Sub-Total:  Distribution","Sub-Total:  Distribution","Total Amount","Total Amount","Sub-Total:  Retail Transmission ","Fixed Deferral/Variance Account Rider (General)"]

{"sheet":"Bill Impact Summary","index":7,"n_rows":55,"n_cols":23,"rows_kept":55,"cut":false,"hidden":true,"merged":[[1,12,4,12],[28,12,31,12],[24,12,27,12],[9,12,12,12],[5,12,8,12],[21,12,23,12],[13,12,16,12],[17,12,20,12],[1,0,4,0],[5,0,8,0],[9,0,12,0],[24,0,27,0],[21,0,23,0],[13,0,16,0],[17,0,20,0],[50,0,52,0],[50,12,52,12],[47,0,49,0],[44,0,46,0],[28,0,31,0],[32,0,34,0],[35,0,37,0],[38,0,40,0],[41,0,43,0],[38,12,40,12],[35,12,37,12],[32,12,34,12],[47,12,49,12],[44,12,46,12],[41,12,43,12]]}
["Rate Class","Consumption Level","Monthly Consumption (kWh)","Monthly Peak (kW)","Monthly Consumption/Peak (kWh/kW)","BI Worksheet","Template","Current Total Bill","Change in DX Bill ($)","Change in DX Bill (%)","Change in Total Bill ($)","Change in Total Bill (%)","Commodity Price Used",null,"List for Data Validation of cell L6; do not remove","RTSR Impact","Fixed Def/VA","Vol Def/VA","RTSR Impact","Fixed Def/VA","Vol Def/VA","GA Rider","RTSR Impact Range"]
["UR","Low",{"$f":"VLOOKUP(A$2,'Data Billing Quantities'!A:P,MATCH(B2&\" kWh\",'Data Billing Quantities'!$4:$4,0),FALSE)","v":350},null,{"$f":"C2","v":350},"BI_UR_Low","BI Template_Energy",{"$f":"VLOOKUP(VLOOKUP($G2,'Data BI Summary'!$A:$F,MATCH(H$1,'Data BI Summary'!$2:$2,0),FALSE),INDIRECT(\"'\"&$F2&\"'!\"&\"$A:$K\"),4,FALSE)","v":76.385494799999989},{"$f":"VLOOKUP(VLOOKUP($G2,'Data BI Summary'!$A:$F,MATCH(I$1,'Data BI Summary'!$2:$2,0),FALSE),INDIRECT(\"'\"&$F2&\"'!\"&\"$A:$K\"),8,FALSE)","v":0.82999999999999829},{"$f":"VLOOKUP(VLOOKUP($G2,'Data BI Summary'!$A:$F,MATCH(J$1,'Data BI Summary'!$2:$2,0),FALSE),INDIRECT(\"'\"&$F2&\"'!\"&\"$A:$K\"),9,FALSE)","v":2.3690595119166498E-2},{"$f":"VLOOKUP(VLOOKUP($G2,'Data BI Summary'!$A:$F,MATCH(K$1,'Data BI Summary'!$2:$2,0),FALSE),INDIRECT(\"'\"&$F2&\"'!\"&\"$A:$K\"),8,FALSE)","v":0.76194000000000983},{"$f":"VLOOKUP(VLOOKUP($G2,'Data BI Summary'!$A:$F,MATCH(L$1,'Data BI Summary'!$2:$2,0),FALSE),INDIRECT(\"'\"&$F2&\"'!\"&\"$A:$K\"),9,FALSE)","v":9.9749304759365123E-3},"TOU",null,null,{"$f":"VLOOKUP(\"Sub-Total:  Retail Transmission \",INDIRECT(\"'\"&$F2&\"'!\"&\"$A:$K\"),8,FALSE)","v":0},{"$f":"VLOOKUP(\"Fixed Deferral/Variance Account Rider (General)\",INDIRECT(\"'\"&$F2&\"'!\"&\"$A:$K\"),8,FALSE)","v":0},{"$f":"VLOOKUP(\"Volumetric Deferral/Variance Account Rider (General)\",INDIRECT(\"'\"&$F2&\"'!\"&\"$A:$K\"),8,FALSE)","v":0},{"$f":"VLOOKUP(\"Sub-Total:  Retail Transmission \",INDIRECT(\"'\"&$F2&\"'!\"&\"$A:$K\"),9,FALSE)","v":0},{"$f":"VLOOKUP(\"Fixed Deferral/Variance Account Rider (General)\",INDIRECT(\"'\"&$F2&\"'!\"&\"$A:$K\"),9,FALSE)","v":0},{"$f":"VLOOKUP(\"Volumetric Deferral/Variance Account Rider (General)\",INDIRECT(\"'\"&$F2&\"'!\"&\"$A:$K\"),9,FALSE)","v":0},{"$f":"VLOOKUP(\"Volumetric Deferral/Variance Account Rider (Sub-Account Global Adjustment)\",INDIRECT(\"'\"&$F2&\"'!\"&\"$A:$K\"),9,FALSE)","v":{"$error":"#N/A"}},{"$f":"MIN(S:S)","v":{"$error":"#REF!"}}]
[null,"Typical",{"$f":"VLOOKUP(A$2,'Data Billing Quantities'!A:P,MATCH(B3&\" kWh\",'Data Billing Quantities'!$4:$4,0),FALSE)","v":750},null,{"$f":"C3","v":750},"BI_UR_Typical","BI Template_Energy",{"$f":"VLOOKUP(VLOOKUP($G3,'Data BI Summary'!$A:$F,MATCH(H$1,'Data BI Summary'!$2:$2,0),FALSE),INDIRECT(\"'\"&$F3&\"'!\"&\"$A:$K\"),4,FALSE)","v":125.80914599999996},{"$f":"VLOOKUP(VLOOKUP($G3,'Data BI Summary'!$A:$F,MATCH(I$1,'Data BI Summary'!$2:$2,0),FALSE),INDIRECT(\"'\"&$F3&\"'!\"&\"$A:$K\"),8,FALSE)","v":0.82999999999999829},{"$f":"VLOOKUP(VLOOKUP($G3,'Data BI Summary'!$A:$F,MATCH(J$1,'Data BI Summary'!$2:$2,0),FALSE),INDIRECT(\"'\"&$F3&\"'!\"&\"$A:$K\"),9,FALSE)","v":2.388145590562504E-2},{"$f":"VLOOKUP(VLOOKUP($G3,'Data BI Summary'!$A:$F,MATCH(K$1,'Data BI Summary'!$2:$2,0),FALSE),INDIRECT(\"'\"&$F3&\"'!\"&\"$A:$K\"),8,FALSE)","v":0.76194000000006668},{"$f":"VLOOKUP(VLOOKUP($G3,'Data BI Summary'!$A:$F,MATCH(L$1,'Data BI Summary'!$2:$2,0),FALSE),INDIRECT(\"'\"&$F3&\"'!\"&\"$A:$K\"),9,FALSE)","v":6.0563164461832283E-3},null,null,null,{"$f":"VLOOKUP(\"Sub-Total:  Retail Transmission \",INDIRECT(\"'\"&$F3&\"'!\"&\"$A:$K\"),8,FALSE)","v":0},{"$f":"VLOOKUP(\"Fixed Deferral/Variance Account Rider (General)\",INDIRECT(\"'\"&$F3&\"'!\"&\"$A:$K\"),8,FALSE)","v":0},{"$f":"VLOOKUP(\"Volumetric Deferral/Variance Account Rider (General)\",INDIRECT(\"'\"&$F3&\"'!\"&\"$A:$K\"),8,FALSE)","v":0},{"$f":"VLOOKUP(\"Sub-Total:  Retail Transmission \",INDIRECT(\"'\"&$F3&\"'!\"&\"$A:$K\"),9,FALSE)","v":0},{"$f":"VLOOKUP(\"Fixed Deferral/Variance Account Rider (General)\",INDIRECT(\"'\"&$F3&\"'!\"&\"$A:$K\"),9,FALSE)","v":0},{"$f":"VLOOKUP(\"Volumetric Deferral/Variance Account Rider (General)\",INDIRECT(\"'\"&$F3&\"'!\"&\"$A:$K\"),9,FALSE)","v":0},{"$f":"VLOOKUP(\"Volumetric Deferral/Variance Account Rider (Sub-Account Global Adjustment)\",INDIRECT(\"'\"&$F3&\"'!\"&\"$A:$K\"),9,FALSE)","v":{"$error":"#N/A"}},{"$f":"MAX(S:S)","v":{"$error":"#REF!"}}]
[null,"Average",{"$f":"VLOOKUP(A$2,'Data Billing Quantities'!A:P,MATCH(B4&\" kWh\",'Data Billing Quantities'!$4:$4,0),FALSE)","v":755},null,755,"BI_UR_Avg","BI Template_Energy",{"$f":"VLOOKUP(VLOOKUP($G4,'Data BI Summary'!$A:$F,MATCH(H$1,'Data BI Summary'!$2:$2,0),FALSE),INDIRECT(\"'\"&$F4&\"'!\"&\"$A:$K\"),4,FALSE)","v":126.42694163999997},{"$f":"VLOOKUP(VLOOKUP($G4,'Data BI Summary'!$A:$F,MATCH(I$1,'Data BI Summary'!$2:$2,0),FALSE),INDIRECT(\"'\"&$F4&\"'!\"&\"$A:$K\"),8,FALSE)","v":0.82999999999999829},{"$f":"VLOOKUP(VLOOKUP($G4,'Data BI Summary'!$A:$F,MATCH(J$1,'Data BI Summary'!$2:$2,0),FALSE),INDIRECT(\"'\"&$F4&\"'!\"&\"$A:$K\"),9,FALSE)","v":2.3883861128296571E-2},{"$f":"VLOOKUP(VLOOKUP($G4,'Data BI Summary'!$A:$F,MATCH(K$1,'Data BI Summary'!$2:$2,0),FALSE),INDIRECT(\"'\"&$F4&\"'!\"&\"$A:$K\"),8,FALSE)","v":0.76194000000000983},{"$f":"VLOOKUP(VLOOKUP($G4,'Data BI Summary'!$A:$F,MATCH(L$1,'Data BI Summary'!$2:$2,0),FALSE),INDIRECT(\"'\"&$F4&\"'!\"&\"$A:$K\"),9,FALSE)","v":6.026721758164726E-3},null,null,null,0,0,0,0,0,0,{"$error":"#N/A"},{"$f":"AVERAGE(S:S)","v":{"$error":"#REF!"}}]
[null,"High",{"$f":"VLOOKUP(A$2,'Data Billing Quantities'!A:P,MATCH(B5&\" kWh\",'Data Billing Quantities'!$4:$4,0),FALSE)","v":1400},null,1400,"BI_UR_High","BI Template_Energy",{"$f":"VLOOKUP(VLOOKUP($G5,'Data BI Summary'!$A:$F,MATCH(H$1,'Data BI Summary'!$2:$2,0),FALSE),INDIRECT(\"'\"&$F5&\"'!\"&\"$A:$K\"),4,FALSE)","v":206.12257919999999},{"$f":"VLOOKUP(VLOOKUP($G5,'Data BI Summary'!$A:$F,MATCH(I$1,'Data BI Summary'!$2:$2,0),FALSE),INDIRECT(\"'\"&$F5&\"'!\"&\"$A:$K\"),8,FALSE)","v":0.82999999999999829},{"$f":"VLOOKUP(VLOOKUP($G5,'Data BI Summary'!$A:$F,MATCH(J$1,'Data BI Summary'!$2:$2,0),FALSE),INDIRECT(\"'\"&$F5&\"'!\"&\"$A:$K\"),9,FALSE)","v":2.4198250728862922E-2},{"$f":"VLOOKUP(VLOOKUP($G5,'Data BI Summary'!$A:$F,MATCH(K$1,'Data BI Summary'!$2:$2,0),FALSE),INDIRECT(\"'\"&$F5&\"'!\"&\"$A:$K\"),8,FALSE)","v":0.76194000000000983},{"$f":"VLOOKUP(VLOOKUP($G5,'Data BI Summary'!$A:$F,MATCH(L$1,'Data BI Summary'!$2:$2,0),FALSE),INDIRECT(\"'\"&$F5&\"'!\"&\"$A:$K\"),9,FALSE)","v":3.6965382587256595E-3},null,null,null,0,0,0,0,0,0,{"$error":"#N/A"}]
["R1","Low",{"$f":"VLOOKUP(A$6,'Data Billing Quantities'!A:P,MATCH(B6&\" kWh\",'Data Billing Quantities'!$4:$4,0),FALSE)","v":400},null,400,"BI_R1_Low","BI Template_Energy",{"$f":"VLOOKUP(VLOOKUP($G6,'Data BI Summary'!$A:$F,MATCH(H$1,'Data BI Summary'!$2:$2,0),FALSE),INDIRECT(\"'\"&$F6&\"'!\"&\"$A:$K\"),4,FALSE)","v":83.526763680000002},{"$f":"VLOOKUP(VLOOKUP($G6,'Data BI Summary'!$A:$F,MATCH(I$1,'Data BI Summary'!$2:$2,0),FALSE),INDIRECT(\"'\"&$F6&\"'!\"&\"$A:$K\"),8,FALSE)","v":0},{"$f":"VLOOKUP(VLOOKUP($G6,'Data BI Summary'!$A:$F,MATCH(J$1,'Data BI Summary'!$2:$2,0),FALSE),INDIRECT(\"'\"&$F6&\"'!\"&\"$A:$K\"),9,FALSE)","v":0},{"$f":"VLOOKUP(VLOOKUP($G6,'Data BI Summary'!$A:$F,MATCH(K$1,'Data BI Summary'!$2:$2,0),FALSE),INDIRECT(\"'\"&$F6&\"'!\"&\"$A:$K\"),8,FALSE)","v":0},{"$f":"VLOOKUP(VLOOKUP($G6,'Data BI Summary'!$A:$F,MATCH(L$1,'Data BI Summary'!$2:$2,0),FALSE),INDIRECT(\"'\"&$F6&\"'!\"&\"$A:$K\"),9,FALSE)","v":0},"TOU (DRP applied)",null,"TOU",0,0,0,0,0,0,{"$error":"#N/A"}]
[null,"Typical",{"$f":"VLOOKUP(A$6,'Data Billing Quantities'!A:P,MATCH(B7&\" kWh\",'Data Billing Quantities'!$4:$4,0),FALSE)","v":750},null,750,"BI_R1_Typical","BI Template_Energy",{"$f":"VLOOKUP(VLOOKUP($G7,'Data BI Summary'!$A:$F,MATCH(H$1,'Data BI Summary'!$2:$2,0),FALSE),INDIRECT(\"'\"&$F7&\"'!\"&\"$A:$K\"),4,FALSE)","v":127.14143940000001},{"$f":"VLOOKUP(VLOOKUP($G7,'Data BI Summary'!$A:$F,MATCH(I$1,'Data BI Summary'!$2:$2,0),FALSE),INDIRECT(\"'\"&$F7&\"'!\"&\"$A:$K\"),8,FALSE)","v":0},{"$f":"VLOOKUP(VLOOKUP($G7,'Data BI Summary'!$A:$F,MATCH(J$1,'Data BI Summary'!$2:$2,0),FALSE),INDIRECT(\"'\"&$F7&\"'!\"&\"$A:$K\"),9,FALSE)","v":0},{"$f":"VLOOKUP(VLOOKUP($G7,'Data BI Summary'!$A:$F,MATCH(K$1,'Data BI Summary'!$2:$2,0),FALSE),INDIRECT(\"'\"&$F7&\"'!\"&\"$A:$K\"),8,FALSE)","v":0},{"$f":"VLOOKUP(VLOOKUP($G7,'Data BI Summary'!$A:$F,MATCH(L$1,'Data BI Summary'!$2:$2,0),FALSE),INDIRECT(\"'\"&$F7&\"'!\"&\"$A:$K\"),9,FALSE)","v":0},null,null,"TOU (DRP applied)",0,0,0,0,0,0,{"$error":"#N/A"}]
[null,"Average",{"$f":"VLOOKUP(A$6,'Data Billing Quantities'!A:P,MATCH(B8&\" kWh\",'Data Billing Quantities'!$4:$4,0),FALSE)","v":920},null,920,"BI_R1_Avg","BI Template_Energy",{"$f":"VLOOKUP(VLOOKUP($G8,'Data BI Summary'!$A:$F,MATCH(H$1,'Data BI Summary'!$2:$2,0),FALSE),INDIRECT(\"'\"&$F8&\"'!\"&\"$A:$K\"),4,FALSE)","v":148.325710464},{"$f":"VLOOKUP(VLOOKUP($G8,'Data BI Summary'!$A:$F,MATCH(I$1,'Data BI Summary'!$2:$2,0),FALSE),INDIRECT(\"'\"&$F8&\"'!\"&\"$A:$K\"),8,FALSE)","v":0},{"$f":"VLOOKUP(VLOOKUP($G8,'Data BI Summary'!$A:$F,MATCH(J$1,'Data BI Summary'!$2:$2,0),FALSE),INDIRECT(\"'\"&$F8&\"'!\"&\"$A:$K\"),9,FALSE)","v":0},{"$f":"VLOOKUP(VLOOKUP($G8,'Data BI Summary'!$A:$F,MATCH(K$1,'Data BI Summary'!$2:$2,0),FALSE),INDIRECT(\"'\"&$F8&\"'!\"&\"$A:$K\"),8,FALSE)","v":0},{"$f":"VLOOKUP(VLOOKUP($G8,'Data BI Summary'!$A:$F,MATCH(L$1,'Data BI Summary'!$2:$2,0),FALSE),INDIRECT(\"'\"&$F8&\"'!\"&\"$A:$K\"),9,FALSE)","v":0},null,null,null,0,0,0,0,0,0,{"$error":"#N/A"}]
[null,"High",{"$f":"VLOOKUP(A$6,'Data Billing Quantities'!A:P,MATCH(B9&\" kWh\",'Data Billing Quantities'!$4:$4,0),FALSE)","v":1800},null,1800,"BI_R1_High","BI Template_Energy",{"$f":"VLOOKUP(VLOOKUP($G9,'Data BI Summary'!$A:$F,MATCH(H$1,'Data BI Summary'!$2:$2,0),FALSE),INDIRECT(\"'\"&$F9&\"'!\"&\"$A:$K\"),4,FALSE)","v":257.98546656000002},{"$f":"VLOOKUP(VLOOKUP($G9,'Data BI Summary'!$A:$F,MATCH(I$1,'Data BI Summary'!$2:$2,0),FALSE),INDIRECT(\"'\"&$F9&\"'!\"&\"$A:$K\"),8,FALSE)","v":0},{"$f":"VLOOKUP(VLOOKUP($G9,'Data BI Summary'!$A:$F,MATCH(J$1,'Data BI Summary'!$2:$2,0),FALSE),INDIRECT(\"'\"&$F9&\"'!\"&\"$A:$K\"),9,FALSE)","v":0},{"$f":"VLOOKUP(VLOOKUP($G9,'Data BI Summary'!$A:$F,MATCH(K$1,'Data BI Summary'!$2:$2,0),FALSE),INDIRECT(\"'\"&$F9&\"'!\"&\"$A:$K\"),8,FALSE)","v":0},{"$f":"VLOOKUP(VLOOKUP($G9,'Data BI Summary'!$A:$F,MATCH(L$1,'Data BI Summary'!$2:$2,0),FALSE),INDIRECT(\"'\"&$F9&\"'!\"&\"$A:$K\"),9,FALSE)","v":0},null,null,null,0,0,0,0,0,0,{"$error":"#N/A"}]
["R2","Low",{"$f":"VLOOKUP(A$10,'Data Billing Quantities'!A:P,MATCH(B10&\" kWh\",'Data Billing Quantities'!$4:$4,0),FALSE)","v":450},null,450,"BI_R2_Low","BI Template_Energy",{"$f":"VLOOKUP(VLOOKUP($G10,'Data BI Summary'!$A:$F,MATCH(H$1,'Data BI Summary'!$2:$2,0),FALSE),INDIRECT(\"'\"&$F10&\"'!\"&\"$A:$K\"),4,FALSE)","v":89.715015449999996},{"$f":"VLOOKUP(VLOOKUP($G10,'Data BI Summary'!$A:$F,MATCH(I$1,'Data BI Summary'!$2:$2,0),FALSE),INDIRECT(\"'\"&$F10&\"'!\"&\"$A:$K\"),8,FALSE)","v":0},{"$f":"VLOOKUP(VLOOKUP($G10,'Data BI Summary'!$A:$F,MATCH(J$1,'Data BI Summary'!$2:$2,0),FALSE),INDIRECT(\"'\"&$F10&\"'!\"&\"$A:$K\"),9,FALSE)","v":0},{"$f":"VLOOKUP(VLOOKUP($G10,'Data BI Summary'!$A:$F,MATCH(K$1,'Data BI Summary'!$2:$2,0),FALSE),INDIRECT(\"'\"&$F10&\"'!\"&\"$A:$K\"),8,FALSE)","v":0},{"$f":"VLOOKUP(VLOOKUP($G10,'Data BI Summary'!$A:$F,MATCH(L$1,'Data BI Summary'!$2:$2,0),FALSE),INDIRECT(\"'\"&$F10&\"'!\"&\"$A:$K\"),9,FALSE)","v":0},{"$f":"M6","v":"TOU (DRP applied)"},null,null,0,0,0,0,0,0,{"$error":"#N/A"}]
[null,"Typical",{"$f":"VLOOKUP(A$10,'Data Billing Quantities'!A:P,MATCH(B11&\" kWh\",'Data Billing Quantities'!$4:$4,0),FALSE)","v":750},null,750,"BI_R2_Typical","BI Template_Energy",{"$f":"VLOOKUP(VLOOKUP($G11,'Data BI Summary'!$A:$F,MATCH(H$1,'Data BI Summary'!$2:$2,0),FALSE),INDIRECT(\"'\"&$F11&\"'!\"&\"$A:$K\"),4,FALSE)","v":127.72558574999998},{"$f":"VLOOKUP(VLOOKUP($G11,'Data BI Summary'!$A:$F,MATCH(I$1,'Data BI Summary'!$2:$2,0),FALSE),INDIRECT(\"'\"&$F11&\"'!\"&\"$A:$K\"),8,FALSE)","v":0},{"$f":"VLOOKUP(VLOOKUP($G11,'Data BI Summary'!$A:$F,MATCH(J$1,'Data BI Summary'!$2:$2,0),FALSE),INDIRECT(\"'\"&$F11&\"'!\"&\"$A:$K\"),9,FALSE)","v":0},{"$f":"VLOOKUP(VLOOKUP($G11,'Data BI Summary'!$A:$F,MATCH(K$1,'Data BI Summary'!$2:$2,0),FALSE),INDIRECT(\"'\"&$F11&\"'!\"&\"$A:$K\"),8,FALSE)","v":0},{"$f":"VLOOKUP(VLOOKUP($G11,'Data BI Summary'!$A:$F,MATCH(L$1,'Data BI Summary'!$2:$2,0),FALSE),INDIRECT(\"'\"&$F11&\"'!\"&\"$A:$K\"),9,FALSE)","v":0},null,null,null,0,0,0,0,0,0,{"$error":"#N/A"}]
[null,"Average",{"$f":"VLOOKUP(A$10,'Data Billing Quantities'!A:P,MATCH(B12&\" kWh\",'Data Billing Quantities'!$4:$4,0),FALSE)","v":1152},null,1152,"BI_R2_Avg","BI Template_Energy",{"$f":"VLOOKUP(VLOOKUP($G12,'Data BI Summary'!$A:$F,MATCH(H$1,'Data BI Summary'!$2:$2,0),FALSE),INDIRECT(\"'\"&$F12&\"'!\"&\"$A:$K\"),4,FALSE)","v":178.65974995199997},{"$f":"VLOOKUP(VLOOKUP($G12,'Data BI Summary'!$A:$F,MATCH(I$1,'Data BI Summary'!$2:$2,0),FALSE),INDIRECT(\"'\"&$F12&\"'!\"&\"$A:$K\"),8,FALSE)","v":0},{"$f":"VLOOKUP(VLOOKUP($G12,'Data BI Summary'!$A:$F,MATCH(J$1,'Data BI Summary'!$2:$2,0),FALSE),INDIRECT(\"'\"&$F12&\"'!\"&\"$A:$K\"),9,FALSE)","v":0},{"$f":"VLOOKUP(VLOOKUP($G12,'Data BI Summary'!$A:$F,MATCH(K$1,'Data BI Summary'!$2:$2,0),FALSE),INDIRECT(\"'\"&$F12&\"'!\"&\"$A:$K\"),8,FALSE)","v":0},{"$f":"VLOOKUP(VLOOKUP($G12,'Data BI Summary'!$A:$F,MATCH(L$1,'Data BI Summary'!$2:$2,0),FALSE),INDIRECT(\"'\"&$F12&\"'!\"&\"$A:$K\"),9,FALSE)","v":0},null,null,null,0,0,0,0,0,0,{"$error":"#N/A"}]
[null,"High",{"$f":"VLOOKUP(A$10,'Data Billing Quantities'!A:P,MATCH(B13&\" kWh\",'Data Billing Quantities'!$4:$4,0),FALSE)","v":2300},null,2300,"BI_R2_High","BI Template_Energy",{"$f":"VLOOKUP(VLOOKUP($G13,'Data BI Summary'!$A:$F,MATCH(H$1,'Data BI Summary'!$2:$2,0),FALSE),INDIRECT(\"'\"&$F13&\"'!\"&\"$A:$K\"),4,FALSE)","v":324.11353229999997},{"$f":"VLOOKUP(VLOOKUP($G13,'Data BI Summary'!$A:$F,MATCH(I$1,'Data BI Summary'!$2:$2,0),FALSE),INDIRECT(\"'\"&$F13&\"'!\"&\"$A:$K\"),8,FALSE)","v":0},{"$f":"VLOOKUP(VLOOKUP($G13,'Data BI Summary'!$A:$F,MATCH(J$1,'Data BI Summary'!$2:$2,0),FALSE),INDIRECT(\"'\"&$F13&\"'!\"&\"$A:$K\"),9,FALSE)","v":0},{"$f":"VLOOKUP(VLOOKUP($G13,'Data BI Summary'!$A:$F,MATCH(K$1,'Data BI Summary'!$2:$2,0),FALSE),INDIRECT(\"'\"&$F13&\"'!\"&\"$A:$K\"),8,FALSE)","v":0},{"$f":"VLOOKUP(VLOOKUP($G13,'Data BI Summary'!$A:$F,MATCH(L$1,'Data BI Summary'!$2:$2,0),FALSE),INDIRECT(\"'\"&$F13&\"'!\"&\"$A:$K\"),9,FALSE)","v":0},null,null,null,0,0,0,0,0,0,{"$error":"#N/A"}]
["R1 \n(Exclude DRP)","Low",{"$f":"VLOOKUP(\"R1\",'Data Billing Quantities'!A:P,MATCH(B14&\" kWh\",'Data Billing Quantities'!$4:$4,0),FALSE)","v":400},null,400,"ExcludeDRP_BI_R1_Low","BI Template_Energy",{"$f":"VLOOKUP(VLOOKUP($G14,'Data BI Summary'!$A:$F,MATCH(H$1,'Data BI Summary'!$2:$2,0),FALSE),INDIRECT(\"'\"&$F14&\"'!\"&\"$A:$K\"),4,FALSE)","v":99.885523680000006},{"$f":"VLOOKUP(VLOOKUP($G14,'Data BI Summary'!$A:$F,MATCH(I$1,'Data BI Summary'!$2:$2,0),FALSE),INDIRECT(\"'\"&$F14&\"'!\"&\"$A:$K\"),8,FALSE)","v":1.5600000000000023},{"$f":"VLOOKUP(VLOOKUP($G14,'Data BI Summary'!$A:$F,MATCH(J$1,'Data BI Summary'!$2:$2,0),FALSE),INDIRECT(\"'\"&$F14&\"'!\"&\"$A:$K\"),9,FALSE)","v":2.9229904440697063E-2},{"$f":"VLOOKUP(VLOOKUP($G14,'Data BI Summary'!$A:$F,MATCH(K$1,'Data BI Summary'!$2:$2,0),FALSE),INDIRECT(\"'\"&$F14&\"'!\"&\"$A:$K\"),8,FALSE)","v":1.4320799999999991},{"$f":"VLOOKUP(VLOOKUP($G14,'Data BI Summary'!$A:$F,MATCH(L$1,'Data BI Summary'!$2:$2,0),FALSE),INDIRECT(\"'\"&$F14&\"'!\"&\"$A:$K\"),9,FALSE)","v":1.4337212713504983E-2},"DRP manually excluded from Worksheet"]
[null,"Typical",{"$f":"VLOOKUP(\"R1\",'Data Billing Quantities'!A:P,MATCH(B15&\" kWh\",'Data Billing Quantities'!$4:$4,0),FALSE)","v":750},null,750,"ExcludeDRP_BI_R1_Typical","BI Template_Energy",{"$f":"VLOOKUP(VLOOKUP($G15,'Data BI Summary'!$A:$F,MATCH(H$1,'Data BI Summary'!$2:$2,0),FALSE),INDIRECT(\"'\"&$F15&\"'!\"&\"$A:$K\"),4,FALSE)","v":148.03052940000001},{"$f":"VLOOKUP(VLOOKUP($G15,'Data BI Summary'!$A:$F,MATCH(I$1,'Data BI Summary'!$2:$2,0),FALSE),INDIRECT(\"'\"&$F15&\"'!\"&\"$A:$K\"),8,FALSE)","v":1.5600000000000023},{"$f":"VLOOKUP(VLOOKUP($G15,'Data BI Summary'!$A:$F,MATCH(J$1,'Data BI Summary'!$2:$2,0),FALSE),INDIRECT(\"'\"&$F15&\"'!\"&\"$A:$K\"),9,FALSE)","v":2.6884963377854412E-2},{"$f":"VLOOKUP(VLOOKUP($G15,'Data BI Summary'!$A:$F,MATCH(K$1,'Data BI Summary'!$2:$2,0),FALSE),INDIRECT(\"'\"&$F15&\"'!\"&\"$A:$K\"),8,FALSE)","v":1.4320799999999849},{"$f":"VLOOKUP(VLOOKUP($G15,'Data BI Summary'!$A:$F,MATCH(L$1,'Data BI Summary'!$2:$2,0),FALSE),INDIRECT(\"'\"&$F15&\"'!\"&\"$A:$K\"),9,FALSE)","v":9.6742206206011511E-3}]
[null,"Average",{"$f":"VLOOKUP(\"R1\",'Data Billing Quantities'!A:P,MATCH(B16&\" kWh\",'Data Billing Quantities'!$4:$4,0),FALSE)","v":920},null,920,"ExcludeDRP_BI_R1_Avg","BI Template_Energy",{"$f":"VLOOKUP(VLOOKUP($G16,'Data BI Summary'!$A:$F,MATCH(H$1,'Data BI Summary'!$2:$2,0),FALSE),INDIRECT(\"'\"&$F16&\"'!\"&\"$A:$K\"),4,FALSE)","v":171.41524646400001},{"$f":"VLOOKUP(VLOOKUP($G16,'Data BI Summary'!$A:$F,MATCH(I$1,'Data BI Summary'!$2:$2,0),FALSE),INDIRECT(\"'\"&$F16&\"'!\"&\"$A:$K\"),8,FALSE)","v":1.5600000000000023},{"$f":"VLOOKUP(VLOOKUP($G16,'Data BI Summary'!$A:$F,MATCH(J$1,'Data BI Summary'!$2:$2,0),FALSE),INDIRECT(\"'\"&$F16&\"'!\"&\"$A:$K\"),9,FALSE)","v":2.5876654613011349E-2},{"$f":"VLOOKUP(VLOOKUP($G16,'Data BI Summary'!$A:$F,MATCH(K$1,'Data BI Summary'!$2:$2,0),FALSE),INDIRECT(\"'\"&$F16&\"'!\"&\"$A:$K\"),8,FALSE)","v":1.4320800000000133},{"$f":"VLOOKUP(VLOOKUP($G16,'Data BI Summary'!$A:$F,MATCH(L$1,'Data BI Summary'!$2:$2,0),FALSE),INDIRECT(\"'\"&$F16&\"'!\"&\"$A:$K\"),9,FALSE)","v":8.3544493826619645E-3}]
[null,"High",{"$f":"VLOOKUP(\"R1\",'Data Billing Quantities'!A:P,MATCH(B17&\" kWh\",'Data Billing Quantities'!$4:$4,0),FALSE)","v":1800},null,1800,"ExcludeDRP_BI_R1_High","BI Template_Energy",{"$f":"VLOOKUP(VLOOKUP($G17,'Data BI Summary'!$A:$F,MATCH(H$1,'Data BI Summary'!$2:$2,0),FALSE),INDIRECT(\"'\"&$F17&\"'!\"&\"$A:$K\"),4,FALSE)","v":292.46554656000001},{"$f":"VLOOKUP(VLOOKUP($G17,'Data BI Summary'!$A:$F,MATCH(I$1,'Data BI Summary'!$2:$2,0),FALSE),INDIRECT(\"'\"&$F17&\"'!\"&\"$A:$K\"),8,FALSE)","v":1.5600000000000023},{"$f":"VLOOKUP(VLOOKUP($G17,'Data BI Summary'!$A:$F,MATCH(J$1,'Data BI Summary'!$2:$2,0),FALSE),INDIRECT(\"'\"&$F17&\"'!\"&\"$A:$K\"),9,FALSE)","v":2.166967634393669E-2},{"$f":"VLOOKUP(VLOOKUP($G17,'Data BI Summary'!$A:$F,MATCH(K$1,'Data BI Summary'!$2:$2,0),FALSE),INDIRECT(\"'\"&$F17&\"'!\"&\"$A:$K\"),8,FALSE)","v":1.4320800000000418},{"$f":"VLOOKUP(VLOOKUP($G17,'Data BI Summary'!$A:$F,MATCH(L$1,'Data BI Summary'!$2:$2,0),FALSE),INDIRECT(\"'\"&$F17&\"'!\"&\"$A:$K\"),9,FALSE)","v":4.8965767655173948E-3}]
["R2\n(Exclude DRP)","Low",{"$f":"VLOOKUP(\"R2\",'Data Billing Quantities'!A:P,MATCH(B18&\" kWh\",'Data Billing Quantities'!$4:$4,0),FALSE)","v":450},null,450,"ExcludeDRP_BI_R2_Low","BI Template_Energy",{"$f":"VLOOKUP(VLOOKUP($G18,'Data BI Summary'!$A:$F,MATCH(H$1,'Data BI Summary'!$2:$2,0),FALSE),INDIRECT(\"'\"&$F18&\"'!\"&\"$A:$K\"),4,FALSE)","v":114.03742545000001},{"$f":"VLOOKUP(VLOOKUP($G18,'Data BI Summary'!$A:$F,MATCH(I$1,'Data BI Summary'!$2:$2,0),FALSE),INDIRECT(\"'\"&$F18&\"'!\"&\"$A:$K\"),8,FALSE)","v":4.4199999999999946},{"$f":"VLOOKUP(VLOOKUP($G18,'Data BI Summary'!$A:$F,MATCH(J$1,'Data BI Summary'!$2:$2,0),FALSE),INDIRECT(\"'\"&$F18&\"'!\"&\"$A:$K\"),9,FALSE)","v":7.2697368421052538E-2},{"$f":"VLOOKUP(VLOOKUP($G18,'Data BI Summary'!$A:$F,MATCH(K$1,'Data BI Summary'!$2:$2,0),FALSE),INDIRECT(\"'\"&$F18&\"'!\"&\"$A:$K\"),8,FALSE)","v":4.0575599999999952},{"$f":"VLOOKUP(VLOOKUP($G18,'Data BI Summary'!$A:$F,MATCH(L$1,'Data BI Summary'!$2:$2,0),FALSE),INDIRECT(\"'\"&$F18&\"'!\"&\"$A:$K\"),9,FALSE)","v":3.5580950586954825E-2},"DRP manually excluded from Worksheet, RRRP remains"]
[null,"Typical",{"$f":"VLOOKUP(\"R2\",'Data Billing Quantities'!A:P,MATCH(B19&\" kWh\",'Data Billing Quantities'!$4:$4,0),FALSE)","v":750},null,750,"ExcludeDRP_BI_R2_Typical","BI Template_Energy",{"$f":"VLOOKUP(VLOOKUP($G19,'Data BI Summary'!$A:$F,MATCH(H$1,'Data BI Summary'!$2:$2,0),FALSE),INDIRECT(\"'\"&$F19&\"'!\"&\"$A:$K\"),4,FALSE)","v":158.29957574999997},{"$f":"VLOOKUP(VLOOKUP($G19,'Data BI Summary'!$A:$F,MATCH(I$1,'Data BI Summary'!$2:$2,0),FALSE),INDIRECT(\"'\"&$F19&\"'!\"&\"$A:$K\"),8,FALSE)","v":4.4200000000000017},{"$f":"VLOOKUP(VLOOKUP($G19,'Data BI Summary'!$A:$F,MATCH(J$1,'Data BI Summary'!$2:$2,0),FALSE),INDIRECT(\"'\"&$F19&\"'!\"&\"$A:$K\"),9,FALSE)","v":6.5695600475624283E-2},{"$f":"VLOOKUP(VLOOKUP($G19,'Data BI Summary'!$A:$F,MATCH(K$1,'Data BI Summary'!$2:$2,0),FALSE),INDIRECT(\"'\"&$F19&\"'!\"&\"$A:$K\"),8,FALSE)","v":4.0575599999999952},{"$f":"VLOOKUP(VLOOKUP($G19,'Data BI Summary'!$A:$F,MATCH(L$1,'Data BI Summary'!$2:$2,0),FALSE),INDIRECT(\"'\"&$F19&\"'!\"&\"$A:$K\"),9,FALSE)","v":2.5632159661678661E-2}]
[null,"Average",{"$f":"VLOOKUP(\"R2\",'Data Billing Quantities'!A:P,MATCH(B20&\" kWh\",'Data Billing Quantities'!$4:$4,0),FALSE)","v":1152},null,1152,"ExcludeDRP_BI_R2_Avg","BI Template_Energy",{"$f":"VLOOKUP(VLOOKUP($G20,'Data BI Summary'!$A:$F,MATCH(H$1,'Data BI Summary'!$2:$2,0),FALSE),INDIRECT(\"'\"&$F20&\"'!\"&\"$A:$K\"),4,FALSE)","v":217.61085715199999},{"$f":"VLOOKUP(VLOOKUP($G20,'Data BI Summary'!$A:$F,MATCH(I$1,'Data BI Summary'!$2:$2,0),FALSE),INDIRECT(\"'\"&$F20&\"'!\"&\"$A:$K\"),8,FALSE)","v":4.4200000000000017},{"$f":"VLOOKUP(VLOOKUP($G20,'Data BI Summary'!$A:$F,MATCH(J$1,'Data BI Summary'!$2:$2,0),FALSE),INDIRECT(\"'\"&$F20&\"'!\"&\"$A:$K\"),9,FALSE)","v":5.818606904395815E-2},{"$f":"VLOOKUP(VLOOKUP($G20,'Data BI Summary'!$A:$F,MATCH(K$1,'Data BI Summary'!$2:$2,0),FALSE),INDIRECT(\"'\"&$F20&\"'!\"&\"$A:$K\"),8,FALSE)","v":4.0575599999999952},{"$f":"VLOOKUP(VLOOKUP($G20,'Data BI Summary'!$A:$F,MATCH(L$1,'Data BI Summary'!$2:$2,0),FALSE),INDIRECT(\"'\"&$F20&\"'!\"&\"$A:$K\"),9,FALSE)","v":1.8645944660591138E-2}]
[null,"High",{"$f":"VLOOKUP(\"R2\",'Data Billing Quantities'!A:P,MATCH(B21&\" kWh\",'Data Billing Quantities'!$4:$4,0),FALSE)","v":2300},null,2300,"ExcludeDRP_BI_R2_High","BI Template_Energy",{"$f":"VLOOKUP(VLOOKUP($G21,'Data BI Summary'!$A:$F,MATCH(H$1,'Data BI Summary'!$2:$2,0),FALSE),INDIRECT(\"'\"&$F21&\"'!\"&\"$A:$K\"),4,FALSE)","v":386.9873523},{"$f":"VLOOKUP(VLOOKUP($G21,'Data BI Summary'!$A:$F,MATCH(I$1,'Data BI Summary'!$2:$2,0),FALSE),INDIRECT(\"'\"&$F21&\"'!\"&\"$A:$K\"),8,FALSE)","v":4.4200000000000159},{"$f":"VLOOKUP(VLOOKUP($G21,'Data BI Summary'!$A:$F,MATCH(J$1,'Data BI Summary'!$2:$2,0),FALSE),INDIRECT(\"'\"&$F21&\"'!\"&\"$A:$K\"),9,FALSE)","v":4.386661373560953E-2},{"$f":"VLOOKUP(VLOOKUP($G21,'Data BI Summary'!$A:$F,MATCH(K$1,'Data BI Summary'!$2:$2,0),FALSE),INDIRECT(\"'\"&$F21&\"'!\"&\"$A:$K\"),8,FALSE)","v":4.0575600000000236},{"$f":"VLOOKUP(VLOOKUP($G21,'Data BI Summary'!$A:$F,MATCH(L$1,'Data BI Summary'!$2:$2,0),FALSE),INDIRECT(\"'\"&$F21&\"'!\"&\"$A:$K\"),9,FALSE)","v":1.048499382701925E-2}]
["Seasonal","Low",{"$f":"VLOOKUP(A$22,'Data Billing Quantities'!A:P,MATCH(B22&\" kWh\",'Data Billing Quantities'!$4:$4,0),FALSE)","v":50},null,50,"BI_Seas_Low","BI Template_Energy",{"$f":"VLOOKUP(VLOOKUP($G22,'Data BI Summary'!$A:$F,MATCH(H$1,'Data BI Summary'!$2:$2,0),FALSE),INDIRECT(\"'\"&$F22&\"'!\"&\"$A:$K\"),4,FALSE)","v":54.556079039999986},{"$f":"VLOOKUP(VLOOKUP($G22,'Data BI Summary'!$A:$F,MATCH(I$1,'Data BI Summary'!$2:$2,0),FALSE),INDIRECT(\"'\"&$F22&\"'!\"&\"$A:$K\"),8,FALSE)","v":1.7899999999999991},{"$f":"VLOOKUP(VLOOKUP($G22,'Data BI Summary'!$A:$F,MATCH(J$1,'Data BI Summary'!$2:$2,0),FALSE),INDIRECT(\"'\"&$F22&\"'!\"&\"$A:$K\"),9,FALSE)","v":3.4576009271779007E-2},{"$f":"VLOOKUP(VLOOKUP($G22,'Data BI Summary'!$A:$F,MATCH(K$1,'Data BI Summary'!$2:$2,0),FALSE),INDIRECT(\"'\"&$F22&\"'!\"&\"$A:$K\"),8,FALSE)","v":1.6432200000000066},{"$f":"VLOOKUP(VLOOKUP($G22,'Data BI Summary'!$A:$F,MATCH(L$1,'Data BI Summary'!$2:$2,0),FALSE),INDIRECT(\"'\"&$F22&\"'!\"&\"$A:$K\"),9,FALSE)","v":3.0119833186604442E-2},"TOU",null,null,0,0,0,0,0,0,{"$error":"#N/A"}]
[null,"Average",{"$f":"VLOOKUP(A$22,'Data Billing Quantities'!A:P,MATCH(B23&\" kWh\",'Data Billing Quantities'!$4:$4,0),FALSE)","v":352},null,352,"BI_Seas_Avg","BI Template_Energy",{"$f":"VLOOKUP(VLOOKUP($G23,'Data BI Summary'!$A:$F,MATCH(H$1,'Data BI Summary'!$2:$2,0),FALSE),INDIRECT(\"'\"&$F23&\"'!\"&\"$A:$K\"),4,FALSE)","v":104.0664364416},{"$f":"VLOOKUP(VLOOKUP($G23,'Data BI Summary'!$A:$F,MATCH(I$1,'Data BI Summary'!$2:$2,0),FALSE),INDIRECT(\"'\"&$F23&\"'!\"&\"$A:$K\"),8,FALSE)","v":1.7900000000000063},{"$f":"VLOOKUP(VLOOKUP($G23,'Data BI Summary'!$A:$F,MATCH(J$1,'Data BI Summary'!$2:$2,0),FALSE),INDIRECT(\"'\"&$F23&\"'!\"&\"$A:$K\"),9,FALSE)","v":2.7797793569547386E-2},{"$f":"VLOOKUP(VLOOKUP($G23,'Data BI Summary'!$A:$F,MATCH(K$1,'Data BI Summary'!$2:$2,0),FALSE),INDIRECT(\"'\"&$F23&\"'!\"&\"$A:$K\"),8,FALSE)","v":1.6432199999999852},{"$f":"VLOOKUP(VLOOKUP($G23,'Data BI Summary'!$A:$F,MATCH(L$1,'Data BI Summary'!$2:$2,0),FALSE),INDIRECT(\"'\"&$F23&\"'!\"&\"$A:$K\"),9,FALSE)","v":1.5790105399853174E-2},null,null,null,0,0,0,0,0,0,{"$error":"#N/A"}]
[null,"High",{"$f":"VLOOKUP(A$22,'Data Billing Quantities'!A:P,MATCH(B24&\" kWh\",'Data Billing Quantities'!$4:$4,0),FALSE)","v":1000},null,1000,"BI_Seas_High","BI Template_Energy",{"$f":"VLOOKUP(VLOOKUP($G24,'Data BI Summary'!$A:$F,MATCH(H$1,'Data BI Summary'!$2:$2,0),FALSE),INDIRECT(\"'\"&$F24&\"'!\"&\"$A:$K\"),4,FALSE)","v":210.30058080000003},{"$f":"VLOOKUP(VLOOKUP($G24,'Data BI Summary'!$A:$F,MATCH(I$1,'Data BI Summary'!$2:$2,0),FALSE),INDIRECT(\"'\"&$F24&\"'!\"&\"$A:$K\"),8,FALSE)","v":1.789999999999992},{"$f":"VLOOKUP(VLOOKUP($G24,'Data BI Summary'!$A:$F,MATCH(J$1,'Data BI Summary'!$2:$2,0),FALSE),INDIRECT(\"'\"&$F24&\"'!\"&\"$A:$K\"),9,FALSE)","v":1.9567118495845998E-2},{"$f":"VLOOKUP(VLOOKUP($G24,'Data BI Summary'!$A:$F,MATCH(K$1,'Data BI Summary'!$2:$2,0),FALSE),INDIRECT(\"'\"&$F24&\"'!\"&\"$A:$K\"),8,FALSE)","v":1.6432199999999852},{"$f":"VLOOKUP(VLOOKUP($G24,'Data BI Summary'!$A:$F,MATCH(L$1,'Data BI Summary'!$2:$2,0),FALSE),INDIRECT(\"'\"&$F24&\"'!\"&\"$A:$K\"),9,FALSE)","v":7.8136731422664002E-3},null,null,null,0,0,0,0,0,0,{"$error":"#N/A"}]
["GSe","Low",{"$f":"VLOOKUP(A$25,'Data Billing Quantities'!A:P,MATCH(B25&\" kWh\",'Data Billing Quantities'!$4:$4,0),FALSE)","v":1000},null,1000,"BI_GSe_Low","BI Template_Energy",{"$f":"VLOOKUP(VLOOKUP($G25,'Data BI Summary'!$A:$F,MATCH(H$1,'Data BI Summary'!$2:$2,0),FALSE),INDIRECT(\"'\"&$F25&\"'!\"&\"$A:$K\"),4,FALSE)","v":211.75138799999996},{"$f":"VLOOKUP(VLOOKUP($G25,'Data BI Summary'!$A:$F,MATCH(I$1,'Data BI Summary'!$2:$2,0),FALSE),INDIRECT(\"'\"&$F25&\"'!\"&\"$A:$K\"),8,FALSE)","v":3.3100000000000023},{"$f":"VLOOKUP(VLOOKUP($G25,'Data BI Summary'!$A:$F,MATCH(J$1,'Data BI Summary'!$2:$2,0),FALSE),INDIRECT(\"'\"&$F25&\"'!\"&\"$A:$K\"),9,FALSE)","v":3.5030161921896528E-2},{"$f":"VLOOKUP(VLOOKUP($G25,'Data BI Summary'!$A:$F,MATCH(K$1,'Data BI Summary'!$2:$2,0),FALSE),INDIRECT(\"'\"&$F25&\"'!\"&\"$A:$K\"),8,FALSE)","v":3.0385799999999676},{"$f":"VLOOKUP(VLOOKUP($G25,'Data BI Summary'!$A:$F,MATCH(L$1,'Data BI Summary'!$2:$2,0),FALSE),INDIRECT(\"'\"&$F25&\"'!\"&\"$A:$K\"),9,FALSE)","v":1.4349752455931803E-2},"TOU",null,null,0,0,0,0,0,0,{"$error":"#N/A"}]
[null,"Typical",{"$f":"VLOOKUP(A$25,'Data Billing Quantities'!A:P,MATCH(B26&\" kWh\",'Data Billing Quantities'!$4:$4,0),FALSE)","v":2000},null,2000,"BI_GSe_Typical","BI Template_Energy",{"$f":"VLOOKUP(VLOOKUP($G26,'Data BI Summary'!$A:$F,MATCH(H$1,'Data BI Summary'!$2:$2,0),FALSE),INDIRECT(\"'\"&$F26&\"'!\"&\"$A:$K\"),4,FALSE)","v":393.47499599999981},{"$f":"VLOOKUP(VLOOKUP($G26,'Data BI Summary'!$A:$F,MATCH(I$1,'Data BI Summary'!$2:$2,0),FALSE),INDIRECT(\"'\"&$F26&\"'!\"&\"$A:$K\"),8,FALSE)","v":5.5100000000000193},{"$f":"VLOOKUP(VLOOKUP($G26,'Data BI Summary'!$A:$F,MATCH(J$1,'Data BI Summary'!$2:$2,0),FALSE),INDIRECT(\"'\"&$F26&\"'!\"&\"$A:$K\"),9,FALSE)","v":3.5075434464319953E-2},{"$f":"VLOOKUP(VLOOKUP($G26,'Data BI Summary'!$A:$F,MATCH(K$1,'Data BI Summary'!$2:$2,0),FALSE),INDIRECT(\"'\"&$F26&\"'!\"&\"$A:$K\"),8,FALSE)","v":5.0581800000001635},{"$f":"VLOOKUP(VLOOKUP($G26,'Data BI Summary'!$A:$F,MATCH(L$1,'Data BI Summary'!$2:$2,0),FALSE),INDIRECT(\"'\"&$F26&\"'!\"&\"$A:$K\"),9,FALSE)","v":1.2855149758995528E-2},null,null,null,0,0,0,0,0,0,{"$error":"#N/A"}]
[null,"Average",{"$f":"VLOOKUP(A$25,'Data Billing Quantities'!A:P,MATCH(B27&\" kWh\",'Data Billing Quantities'!$4:$4,0),FALSE)","v":1982},null,1982,"BI_GSe_Avg","BI Template_Energy",{"$f":"VLOOKUP(VLOOKUP($G27,'Data BI Summary'!$A:$F,MATCH(H$1,'Data BI Summary'!$2:$2,0),FALSE),INDIRECT(\"'\"&$F27&\"'!\"&\"$A:$K\"),4,FALSE)","v":390.203971056},{"$f":"VLOOKUP(VLOOKUP($G27,'Data BI Summary'!$A:$F,MATCH(I$1,'Data BI Summary'!$2:$2,0),FALSE),INDIRECT(\"'\"&$F27&\"'!\"&\"$A:$K\"),8,FALSE)","v":5.4704000000000121},{"$f":"VLOOKUP(VLOOKUP($G27,'Data BI Summary'!$A:$F,MATCH(J$1,'Data BI Summary'!$2:$2,0),FALSE),INDIRECT(\"'\"&$F27&\"'!\"&\"$A:$K\"),9,FALSE)","v":3.5074940755255177E-2},{"$f":"VLOOKUP(VLOOKUP($G27,'Data BI Summary'!$A:$F,MATCH(K$1,'Data BI Summary'!$2:$2,0),FALSE),INDIRECT(\"'\"&$F27&\"'!\"&\"$A:$K\"),8,FALSE)","v":5.0218271999999615},{"$f":"VLOOKUP(VLOOKUP($G27,'Data BI Summary'!$A:$F,MATCH(L$1,'Data BI Summary'!$2:$2,0),FALSE),INDIRECT(\"'\"&$F27&\"'!\"&\"$A:$K\"),9,FALSE)","v":1.2869749086380404E-2},null,null,null,0,0,0,0,0,0,{"$error":"#N/A"}]
[null,"High",{"$f":"VLOOKUP(A$25,'Data Billing Quantities'!A:P,MATCH(B28&\" kWh\",'Data Billing Quantities'!$4:$4,0),FALSE)","v":15000},null,15000,"BI_GSe_High","BI Template_Energy",{"$f":"VLOOKUP(VLOOKUP($G28,'Data BI Summary'!$A:$F,MATCH(H$1,'Data BI Summary'!$2:$2,0),FALSE),INDIRECT(\"'\"&$F28&\"'!\"&\"$A:$K\"),4,FALSE)","v":2755.8819000000008},{"$f":"VLOOKUP(VLOOKUP($G28,'Data BI Summary'!$A:$F,MATCH(I$1,'Data BI Summary'!$2:$2,0),FALSE),INDIRECT(\"'\"&$F28&\"'!\"&\"$A:$K\"),8,FALSE)","v":34.110000000000127},{"$f":"VLOOKUP(VLOOKUP($G28,'Data BI Summary'!$A:$F,MATCH(J$1,'Data BI Summary'!$2:$2,0),FALSE),INDIRECT(\"'\"&$F28&\"'!\"&\"$A:$K\"),9,FALSE)","v":3.5132713283688298E-2},{"$f":"VLOOKUP(VLOOKUP($G28,'Data BI Summary'!$A:$F,MATCH(K$1,'Data BI Summary'!$2:$2,0),FALSE),INDIRECT(\"'\"&$F28&\"'!\"&\"$A:$K\"),8,FALSE)","v":31.312979999999698},{"$f":"VLOOKUP(VLOOKUP($G28,'Data BI Summary'!$A:$F,MATCH(L$1,'Data BI Summary'!$2:$2,0),FALSE),INDIRECT(\"'\"&$F28&\"'!\"&\"$A:$K\"),9,FALSE)","v":1.1362235805532772E-2},null,null,null,0,0,0,0,0,0,{"$error":"#N/A"}]
["UGe","Low",{"$f":"VLOOKUP(A$29,'Data Billing Quantities'!A:P,MATCH(B29&\" kWh\",'Data Billing Quantities'!$4:$4,0),FALSE)","v":1000},null,1000,"BI_UGe_Low","BI Template_Energy",{"$f":"VLOOKUP(VLOOKUP($G29,'Data BI Summary'!$A:$F,MATCH(H$1,'Data BI Summary'!$2:$2,0),FALSE),INDIRECT(\"'\"&$F29&\"'!\"&\"$A:$K\"),4,FALSE)","v":172.7902746},{"$f":"VLOOKUP(VLOOKUP($G29,'Data BI Summary'!$A:$F,MATCH(I$1,'Data BI Summary'!$2:$2,0),FALSE),INDIRECT(\"'\"&$F29&\"'!\"&\"$A:$K\"),8,FALSE)","v":1.8100000000000023},{"$f":"VLOOKUP(VLOOKUP($G29,'Data BI Summary'!$A:$F,MATCH(J$1,'Data BI Summary'!$2:$2,0),FALSE),INDIRECT(\"'\"&$F29&\"'!\"&\"$A:$K\"),9,FALSE)","v":3.2915075468266997E-2},{"$f":"VLOOKUP(VLOOKUP($G29,'Data BI Summary'!$A:$F,MATCH(K$1,'Data BI Summary'!$2:$2,0),FALSE),INDIRECT(\"'\"&$F29&\"'!\"&\"$A:$K\"),8,FALSE)","v":1.6615800000000149},{"$f":"VLOOKUP(VLOOKUP($G29,'Data BI Summary'!$A:$F,MATCH(L$1,'Data BI Summary'!$2:$2,0),FALSE),INDIRECT(\"'\"&$F29&\"'!\"&\"$A:$K\"),9,FALSE)","v":9.616166209854584E-3},"TOU",null,null,0,0,0,0,0,0,{"$error":"#N/A"}]
[null,"Typical",{"$f":"VLOOKUP(A$29,'Data Billing Quantities'!A:P,MATCH(B30&\" kWh\",'Data Billing Quantities'!$4:$4,0),FALSE)","v":2000},null,2000,"BI_UGe_Typical","BI Template_Energy",{"$f":"VLOOKUP(VLOOKUP($G30,'Data BI Summary'!$A:$F,MATCH(H$1,'Data BI Summary'!$2:$2,0),FALSE),INDIRECT(\"'\"&$F30&\"'!\"&\"$A:$K\"),4,FALSE)","v":321.79516920000003},{"$f":"VLOOKUP(VLOOKUP($G30,'Data BI Summary'!$A:$F,MATCH(I$1,'Data BI Summary'!$2:$2,0),FALSE),INDIRECT(\"'\"&$F30&\"'!\"&\"$A:$K\"),8,FALSE)","v":2.8100000000000023},{"$f":"VLOOKUP(VLOOKUP($G30,'Data BI Summary'!$A:$F,MATCH(J$1,'Data BI Summary'!$2:$2,0),FALSE),INDIRECT(\"'\"&$F30&\"'!\"&\"$A:$K\"),9,FALSE)","v":3.3101660973023937E-2},{"$f":"VLOOKUP(VLOOKUP($G30,'Data BI Summary'!$A:$F,MATCH(K$1,'Data BI Summary'!$2:$2,0),FALSE),INDIRECT(\"'\"&$F30&\"'!\"&\"$A:$K\"),8,FALSE)","v":2.5795799999999645},{"$f":"VLOOKUP(VLOOKUP($G30,'Data BI Summary'!$A:$F,MATCH(L$1,'Data BI Summary'!$2:$2,0),FALSE),INDIRECT(\"'\"&$F30&\"'!\"&\"$A:$K\"),9,FALSE)","v":8.0162172925496E-3},null,null,null,0,0,0,0,0,0,{"$error":"#N/A"}]
[null,"Average",{"$f":"VLOOKUP(A$29,'Data Billing Quantities'!A:P,MATCH(B31&\" kWh\",'Data Billing Quantities'!$4:$4,0),FALSE)","v":2759},null,2759,"BI_UGe_Avg","BI Template_Energy",{"$f":"VLOOKUP(VLOOKUP($G31,'Data BI Summary'!$A:$F,MATCH(H$1,'Data BI Summary'!$2:$2,0),FALSE),INDIRECT(\"'\"&$F31&\"'!\"&\"$A:$K\"),4,FALSE)","v":434.88988420139998},{"$f":"VLOOKUP(VLOOKUP($G31,'Data BI Summary'!$A:$F,MATCH(I$1,'Data BI Summary'!$2:$2,0),FALSE),INDIRECT(\"'\"&$F31&\"'!\"&\"$A:$K\"),8,FALSE)","v":3.5690000000000026},{"$f":"VLOOKUP(VLOOKUP($G31,'Data BI Summary'!$A:$F,MATCH(J$1,'Data BI Summary'!$2:$2,0),FALSE),INDIRECT(\"'\"&$F31&\"'!\"&\"$A:$K\"),9,FALSE)","v":3.3174047094319724E-2},{"$f":"VLOOKUP(VLOOKUP($G31,'Data BI Summary'!$A:$F,MATCH(K$1,'Data BI Summary'!$2:$2,0),FALSE),INDIRECT(\"'\"&$F31&\"'!\"&\"$A:$K\"),8,FALSE)","v":3.2763419999999996},{"$f":"VLOOKUP(VLOOKUP($G31,'Data BI Summary'!$A:$F,MATCH(L$1,'Data BI Summary'!$2:$2,0),FALSE),INDIRECT(\"'\"&$F31&\"'!\"&\"$A:$K\"),9,FALSE)","v":7.5337277757481867E-3},null,null,null,0,0,0,0,0,0,{"$error":"#N/A"}]
[null,"High",{"$f":"VLOOKUP(A$29,'Data Billing Quantities'!A:P,MATCH(B32&\" kWh\",'Data Billing Quantities'!$4:$4,0),FALSE)","v":15000},null,15000,"BI_UGe_High","BI Template_Energy",{"$f":"VLOOKUP(VLOOKUP($G32,'Data BI Summary'!$A:$F,MATCH(H$1,'Data BI Summary'!$2:$2,0),FALSE),INDIRECT(\"'\"&$F32&\"'!\"&\"$A:$K\"),4,FALSE)","v":2258.8587990000001},{"$f":"VLOOKUP(VLOOKUP($G32,'Data BI Summary'!$A:$F,MATCH(I$1,'Data BI Summary'!$2:$2,0),FALSE),INDIRECT(\"'\"&$F32&\"'!\"&\"$A:$K\"),8,FALSE)","v":15.810000000000002},{"$f":"VLOOKUP(VLOOKUP($G32,'Data BI Summary'!$A:$F,MATCH(J$1,'Data BI Summary'!$2:$2,0),FALSE),INDIRECT(\"'\"&$F32&\"'!\"&\"$A:$K\"),9,FALSE)","v":3.3383306235351261E-2},{"$f":"VLOOKUP(VLOOKUP($G32,'Data BI Summary'!$A:$F,MATCH(K$1,'Data BI Summary'!$2:$2,0),FALSE),INDIRECT(\"'\"&$F32&\"'!\"&\"$A:$K\"),8,FALSE)","v":14.513580000000275},{"$f":"VLOOKUP(VLOOKUP($G32,'Data BI Summary'!$A:$F,MATCH(L$1,'Data BI Summary'!$2:$2,0),FALSE),INDIRECT(\"'\"&$F32&\"'!\"&\"$A:$K\"),9,FALSE)","v":6.4251824887971995E-3},null,null,null,0,0,0,0,0,0,{"$error":"#N/A"}]
["GSd","Low",{"$f":"VLOOKUP(A$33,'Data Billing Quantities'!A:P,MATCH(B33&\" kWh\",'Data Billing Quantities'!$4:$4,0),FALSE)","v":15000},{"$f":"VLOOKUP(A$33,'Data Billing Quantities'!A:P,MATCH(B33&\" kW\",'Data Billing Quantities'!$4:$4,0),FALSE)","v":60},"15,000/60","BI_GSd_Low","BI Template_Demand",{"$f":"VLOOKUP(VLOOKUP($G33,'Data BI Summary'!$A:$F,MATCH(H$1,'Data BI Summary'!$2:$2,0),FALSE),INDIRECT(\"'\"&$F33&\"'!\"&\"$A:$K\"),4,FALSE)","v":3534.1682249999994},{"$f":"VLOOKUP(VLOOKUP($G33,'Data BI Summary'!$A:$F,MATCH(I$1,'Data BI Summary'!$2:$2,0),FALSE),INDIRECT(\"'\"&$F33&\"'!\"&\"$A:$K\"),8,FALSE)","v":48.367999999999938},{"$f":"VLOOKUP(VLOOKUP($G33,'Data BI Summary'!$A:$F,MATCH(J$1,'Data BI Summary'!$2:$2,0),FALSE),INDIRECT(\"'\"&$F33&\"'!\"&\"$A:$K\"),9,FALSE)","v":4.2809620304476825E-2},{"$f":"VLOOKUP(VLOOKUP($G33,'Data BI Summary'!$A:$F,MATCH(K$1,'Data BI Summary'!$2:$2,0),FALSE),INDIRECT(\"'\"&$F33&\"'!\"&\"$A:$K\"),8,FALSE)","v":54.655839999999898},{"$f":"VLOOKUP(VLOOKUP($G33,'Data BI Summary'!$A:$F,MATCH(L$1,'Data BI Summary'!$2:$2,0),FALSE),INDIRECT(\"'\"&$F33&\"'!\"&\"$A:$K\"),9,FALSE)","v":1.5464979740742225E-2},"Non-RPP",null,null,0,0,0,0,"N/A",0,0]
[null,"Average",{"$f":"VLOOKUP(A$33,'Data Billing Quantities'!A:P,MATCH(B34&\" kWh\",'Data Billing Quantities'!$4:$4,0),FALSE)","v":36104},{"$f":"VLOOKUP(A$33,'Data Billing Quantities'!A:P,MATCH(B34&\" kW\",'Data Billing Quantities'!$4:$4,0),FALSE)","v":124},"36,104/124","BI_GSd_Avg","BI Template_Demand",{"$f":"VLOOKUP(VLOOKUP($G34,'Data BI Summary'!$A:$F,MATCH(H$1,'Data BI Summary'!$2:$2,0),FALSE),INDIRECT(\"'\"&$F34&\"'!\"&\"$A:$K\"),4,FALSE)","v":7832.7938574},{"$f":"VLOOKUP(VLOOKUP($G34,'Data BI Summary'!$A:$F,MATCH(I$1,'Data BI Summary'!$2:$2,0),FALSE),INDIRECT(\"'\"&$F34&\"'!\"&\"$A:$K\"),8,FALSE)","v":95.331199999999626},{"$f":"VLOOKUP(VLOOKUP($G34,'Data BI Summary'!$A:$F,MATCH(J$1,'Data BI Summary'!$2:$2,0),FALSE),INDIRECT(\"'\"&$F34&\"'!\"&\"$A:$K\"),9,FALSE)","v":4.3332275821536863E-2},{"$f":"VLOOKUP(VLOOKUP($G34,'Data BI Summary'!$A:$F,MATCH(K$1,'Data BI Summary'!$2:$2,0),FALSE),INDIRECT(\"'\"&$F34&\"'!\"&\"$A:$K\"),8,FALSE)","v":107.7242559999986},{"$f":"VLOOKUP(VLOOKUP($G34,'Data BI Summary'!$A:$F,MATCH(L$1,'Data BI Summary'!$2:$2,0),FALSE),INDIRECT(\"'\"&$F34&\"'!\"&\"$A:$K\"),9,FALSE)","v":1.3752979838506353E-2},null,null,null,0,0,0,0,"N/A",0,0]
[null,"High",{"$f":"VLOOKUP(A$33,'Data Billing Quantities'!A:P,MATCH(B35&\" kWh\",'Data Billing Quantities'!$4:$4,0),FALSE)","v":175000},{"$f":"VLOOKUP(A$33,'Data Billing Quantities'!A:P,MATCH(B35&\" kW\",'Data Billing Quantities'!$4:$4,0),FALSE)","v":500},"175,000/500","BI_GSd_High","BI Template_Demand",{"$f":"VLOOKUP(VLOOKUP($G35,'Data BI Summary'!$A:$F,MATCH(H$1,'Data BI Summary'!$2:$2,0),FALSE),INDIRECT(\"'\"&$F35&\"'!\"&\"$A:$K\"),4,FALSE)","v":35008.894424999999},{"$f":"VLOOKUP(VLOOKUP($G35,'Data BI Summary'!$A:$F,MATCH(I$1,'Data BI Summary'!$2:$2,0),FALSE),INDIRECT(\"'\"&$F35&\"'!\"&\"$A:$K\"),8,FALSE)","v":371.23999999999978},{"$f":"VLOOKUP(VLOOKUP($G35,'Data BI Summary'!$A:$F,MATCH(J$1,'Data BI Summary'!$2:$2,0),FALSE),INDIRECT(\"'\"&$F35&\"'!\"&\"$A:$K\"),9,FALSE)","v":4.4061336219008221E-2},{"$f":"VLOOKUP(VLOOKUP($G35,'Data BI Summary'!$A:$F,MATCH(K$1,'Data BI Summary'!$2:$2,0),FALSE),INDIRECT(\"'\"&$F35&\"'!\"&\"$A:$K\"),8,FALSE)","v":419.50119999999879},{"$f":"VLOOKUP(VLOOKUP($G35,'Data BI Summary'!$A:$F,MATCH(L$1,'Data BI Summary'!$2:$2,0),FALSE),INDIRECT(\"'\"&$F35&\"'!\"&\"$A:$K\"),9,FALSE)","v":1.198270344979621E-2},null,null,null,0,0,0,0,"N/A",0,0]
["UGd","Low",{"$f":"VLOOKUP(A$36,'Data Billing Quantities'!A:P,MATCH(B36&\" kWh\",'Data Billing Quantities'!$4:$4,0),FALSE)","v":15000},{"$f":"VLOOKUP(A$36,'Data Billing Quantities'!A:P,MATCH(B36&\" kW\",'Data Billing Quantities'!$4:$4,0),FALSE)","v":60},"15,000/60","BI_UGd_Low","BI Template_Demand",{"$f":"VLOOKUP(VLOOKUP($G36,'Data BI Summary'!$A:$F,MATCH(H$1,'Data BI Summary'!$2:$2,0),FALSE),INDIRECT(\"'\"&$F36&\"'!\"&\"$A:$K\"),4,FALSE)","v":3072.24287},{"$f":"VLOOKUP(VLOOKUP($G36,'Data BI Summary'!$A:$F,MATCH(I$1,'Data BI Summary'!$2:$2,0),FALSE),INDIRECT(\"'\"&$F36&\"'!\"&\"$A:$K\"),8,FALSE)","v":28.724000000000046},{"$f":"VLOOKUP(VLOOKUP($G36,'Data BI Summary'!$A:$F,MATCH(J$1,'Data BI Summary'!$2:$2,0),FALSE),INDIRECT(\"'\"&$F36&\"'!\"&\"$A:$K\"),9,FALSE)","v":4.2408377736339965E-2},{"$f":"VLOOKUP(VLOOKUP($G36,'Data BI Summary'!$A:$F,MATCH(K$1,'Data BI Summary'!$2:$2,0),FALSE),INDIRECT(\"'\"&$F36&\"'!\"&\"$A:$K\"),8,FALSE)","v":32.458120000000235},{"$f":"VLOOKUP(VLOOKUP($G36,'Data BI Summary'!$A:$F,MATCH(L$1,'Data BI Summary'!$2:$2,0),FALSE),INDIRECT(\"'\"&$F36&\"'!\"&\"$A:$K\"),9,FALSE)","v":1.0564959013152575E-2},"Non-RPP",null,null,0,0,0,0,"N/A",0,0]
[null,"Average",{"$f":"VLOOKUP(A$36,'Data Billing Quantities'!A:P,MATCH(B37&\" kWh\",'Data Billing Quantities'!$4:$4,0),FALSE)","v":50525},{"$f":"VLOOKUP(A$36,'Data Billing Quantities'!A:P,MATCH(B37&\" kW\",'Data Billing Quantities'!$4:$4,0),FALSE)","v":135},"50,525/135","BI_UGd_Avg","BI Template_Demand",{"$f":"VLOOKUP(VLOOKUP($G37,'Data BI Summary'!$A:$F,MATCH(H$1,'Data BI Summary'!$2:$2,0),FALSE),INDIRECT(\"'\"&$F37&\"'!\"&\"$A:$K\"),4,FALSE)","v":8912.2827387499983},{"$f":"VLOOKUP(VLOOKUP($G37,'Data BI Summary'!$A:$F,MATCH(I$1,'Data BI Summary'!$2:$2,0),FALSE),INDIRECT(\"'\"&$F37&\"'!\"&\"$A:$K\"),8,FALSE)","v":59.729000000000042},{"$f":"VLOOKUP(VLOOKUP($G37,'Data BI Summary'!$A:$F,MATCH(J$1,'Data BI Summary'!$2:$2,0),FALSE),INDIRECT(\"'\"&$F37&\"'!\"&\"$A:$K\"),9,FALSE)","v":4.4848775981663022E-2},{"$f":"VLOOKUP(VLOOKUP($G37,'Data BI Summary'!$A:$F,MATCH(K$1,'Data BI Summary'!$2:$2,0),FALSE),INDIRECT(\"'\"&$F37&\"'!\"&\"$A:$K\"),8,FALSE)","v":67.49377000000095},{"$f":"VLOOKUP(VLOOKUP($G37,'Data BI Summary'!$A:$F,MATCH(L$1,'Data BI Summary'!$2:$2,0),FALSE),INDIRECT(\"'\"&$F37&\"'!\"&\"$A:$K\"),9,FALSE)","v":7.573118131288927E-3},null,null,null,0,0,0,0,"N/A",0,0]
[null,"High",{"$f":"VLOOKUP(A$36,'Data Billing Quantities'!A:P,MATCH(B38&\" kWh\",'Data Billing Quantities'!$4:$4,0),FALSE)","v":175000},{"$f":"VLOOKUP(A$36,'Data Billing Quantities'!A:P,MATCH(B38&\" kW\",'Data Billing Quantities'!$4:$4,0),FALSE)","v":500},"175,000/500","BI_UGd_High","BI Template_Demand",{"$f":"VLOOKUP(VLOOKUP($G38,'Data BI Summary'!$A:$F,MATCH(H$1,'Data BI Summary'!$2:$2,0),FALSE),INDIRECT(\"'\"&$F38&\"'!\"&\"$A:$K\"),4,FALSE)","v":31158.749950000001},{"$f":"VLOOKUP(VLOOKUP($G38,'Data BI Summary'!$A:$F,MATCH(I$1,'Data BI Summary'!$2:$2,0),FALSE),INDIRECT(\"'\"&$F38&\"'!\"&\"$A:$K\"),8,FALSE)","v":210.61999999999989},{"$f":"VLOOKUP(VLOOKUP($G38,'Data BI Summary'!$A:$F,MATCH(J$1,'Data BI Summary'!$2:$2,0),FALSE),INDIRECT(\"'\"&$F38&\"'!\"&\"$A:$K\"),9,FALSE)","v":4.4669111994087074E-2},{"$f":"VLOOKUP(VLOOKUP($G38,'Data BI Summary'!$A:$F,MATCH(K$1,'Data BI Summary'!$2:$2,0),FALSE),INDIRECT(\"'\"&$F38&\"'!\"&\"$A:$K\"),8,FALSE)","v":238.00059999999939},{"$f":"VLOOKUP(VLOOKUP($G38,'Data BI Summary'!$A:$F,MATCH(L$1,'Data BI Summary'!$2:$2,0),FALSE),INDIRECT(\"'\"&$F38&\"'!\"&\"$A:$K\"),9,FALSE)","v":7.6383231157191971E-3},null,null,null,0,0,0,0,"N/A",0,0]
["St Lgt","Low",{"$f":"VLOOKUP(A$39,'Data Billing Quantities'!A:P,MATCH(B39&\" kWh\",'Data Billing Quantities'!$4:$4,0),FALSE)","v":100},null,100,"BI_StLgt_Low","BI Template_EnergyUNM",{"$f":"VLOOKUP(VLOOKUP($G39,'Data BI Summary'!$A:$F,MATCH(H$1,'Data BI Summary'!$2:$2,0),FALSE),INDIRECT(\"'\"&$F39&\"'!\"&\"$A:$K\"),4,FALSE)","v":24.426033840000006},{"$f":"VLOOKUP(VLOOKUP($G39,'Data BI Summary'!$A:$F,MATCH(I$1,'Data BI Summary'!$2:$2,0),FALSE),INDIRECT(\"'\"&$F39&\"'!\"&\"$A:$K\"),8,FALSE)","v":0.45000000000000107},{"$f":"VLOOKUP(VLOOKUP($G39,'Data BI Summary'!$A:$F,MATCH(J$1,'Data BI Summary'!$2:$2,0),FALSE),INDIRECT(\"'\"&$F39&\"'!\"&\"$A:$K\"),9,FALSE)","v":3.232758620689663E-2},{"$f":"VLOOKUP(VLOOKUP($G39,'Data BI Summary'!$A:$F,MATCH(K$1,'Data BI Summary'!$2:$2,0),FALSE),INDIRECT(\"'\"&$F39&\"'!\"&\"$A:$K\"),8,FALSE)","v":0.41309999999999647},{"$f":"VLOOKUP(VLOOKUP($G39,'Data BI Summary'!$A:$F,MATCH(L$1,'Data BI Summary'!$2:$2,0),FALSE),INDIRECT(\"'\"&$F39&\"'!\"&\"$A:$K\"),9,FALSE)","v":1.6912283128155872E-2},"Two-tier RPP",null,null,0,0,0,0,"N/A",0,{"$error":"#N/A"}]
[null,"Average",{"$f":"VLOOKUP(A$39,'Data Billing Quantities'!A:P,MATCH(B40&\" kWh\",'Data Billing Quantities'!$4:$4,0),FALSE)","v":517},null,517,"BI_StLgt_Avg","BI Template_EnergyUNM",{"$f":"VLOOKUP(VLOOKUP($G40,'Data BI Summary'!$A:$F,MATCH(H$1,'Data BI Summary'!$2:$2,0),FALSE),INDIRECT(\"'\"&$F40&\"'!\"&\"$A:$K\"),4,FALSE)","v":112.11877295280001},{"$f":"VLOOKUP(VLOOKUP($G40,'Data BI Summary'!$A:$F,MATCH(I$1,'Data BI Summary'!$2:$2,0),FALSE),INDIRECT(\"'\"&$F40&\"'!\"&\"$A:$K\"),8,FALSE)","v":1.8678000000000026},{"$f":"VLOOKUP(VLOOKUP($G40,'Data BI Summary'!$A:$F,MATCH(J$1,'Data BI Summary'!$2:$2,0),FALSE),INDIRECT(\"'\"&$F40&\"'!\"&\"$A:$K\"),9,FALSE)","v":3.2438402984374802E-2},{"$f":"VLOOKUP(VLOOKUP($G40,'Data BI Summary'!$A:$F,MATCH(K$1,'Data BI Summary'!$2:$2,0),FALSE),INDIRECT(\"'\"&$F40&\"'!\"&\"$A:$K\"),8,FALSE)","v":1.7146403999999933},{"$f":"VLOOKUP(VLOOKUP($G40,'Data BI Summary'!$A:$F,MATCH(L$1,'Data BI Summary'!$2:$2,0),FALSE),INDIRECT(\"'\"&$F40&\"'!\"&\"$A:$K\"),9,FALSE)","v":1.5293071399575753E-2},null,null,null,0,0,0,0,"N/A",0,{"$error":"#N/A"}]
[null,"High",{"$f":"VLOOKUP(A$39,'Data Billing Quantities'!A:P,MATCH(B41&\" kWh\",'Data Billing Quantities'!$4:$4,0),FALSE)","v":2000},null,2000,"BI_StLgt_High","BI Template_EnergyUNM",{"$f":"VLOOKUP(VLOOKUP($G41,'Data BI Summary'!$A:$F,MATCH(H$1,'Data BI Summary'!$2:$2,0),FALSE),INDIRECT(\"'\"&$F41&\"'!\"&\"$A:$K\"),4,FALSE)","v":446.36428080000002},{"$f":"VLOOKUP(VLOOKUP($G41,'Data BI Summary'!$A:$F,MATCH(I$1,'Data BI Summary'!$2:$2,0),FALSE),INDIRECT(\"'\"&$F41&\"'!\"&\"$A:$K\"),8,FALSE)","v":6.910000000000025},{"$f":"VLOOKUP(VLOOKUP($G41,'Data BI Summary'!$A:$F,MATCH(J$1,'Data BI Summary'!$2:$2,0),FALSE),INDIRECT(\"'\"&$F41&\"'!\"&\"$A:$K\"),9,FALSE)","v":3.2464176650223282E-2},{"$f":"VLOOKUP(VLOOKUP($G41,'Data BI Summary'!$A:$F,MATCH(K$1,'Data BI Summary'!$2:$2,0),FALSE),INDIRECT(\"'\"&$F41&\"'!\"&\"$A:$K\"),8,FALSE)","v":6.3433800000000247},{"$f":"VLOOKUP(VLOOKUP($G41,'Data BI Summary'!$A:$F,MATCH(L$1,'Data BI Summary'!$2:$2,0),FALSE),INDIRECT(\"'\"&$F41&\"'!\"&\"$A:$K\"),9,FALSE)","v":1.4211217771796278E-2},null,null,null,0,0,0,0,"N/A",0,{"$error":"#N/A"}]
["Sen Lgt","Low",{"$f":"VLOOKUP(A$42,'Data Billing Quantities'!A:P,MATCH(B42&\" kWh\",'Data Billing Quantities'!$4:$4,0),FALSE)","v":20},null,20,"BI_SenLgt_Low","BI Template_EnergyUNM",{"$f":"VLOOKUP(VLOOKUP($G42,'Data BI Summary'!$A:$F,MATCH(H$1,'Data BI Summary'!$2:$2,0),FALSE),INDIRECT(\"'\"&$F42&\"'!\"&\"$A:$K\"),4,FALSE)","v":7.88172768},{"$f":"VLOOKUP(VLOOKUP($G42,'Data BI Summary'!$A:$F,MATCH(I$1,'Data BI Summary'!$2:$2,0),FALSE),INDIRECT(\"'\"&$F42&\"'!\"&\"$A:$K\"),8,FALSE)","v":0.29599999999999937},{"$f":"VLOOKUP(VLOOKUP($G42,'Data BI Summary'!$A:$F,MATCH(J$1,'Data BI Summary'!$2:$2,0),FALSE),INDIRECT(\"'\"&$F42&\"'!\"&\"$A:$K\"),9,FALSE)","v":5.0632911392404958E-2},{"$f":"VLOOKUP(VLOOKUP($G42,'Data BI Summary'!$A:$F,MATCH(K$1,'Data BI Summary'!$2:$2,0),FALSE),INDIRECT(\"'\"&$F42&\"'!\"&\"$A:$K\"),8,FALSE)","v":0.27172799999999864},{"$f":"VLOOKUP(VLOOKUP($G42,'Data BI Summary'!$A:$F,MATCH(L$1,'Data BI Summary'!$2:$2,0),FALSE),INDIRECT(\"'\"&$F42&\"'!\"&\"$A:$K\"),9,FALSE)","v":3.447568997968712E-2},"Two-tier RPP",null,null,0,0,0,0,"N/A",0,{"$error":"#N/A"}]
[null,"Average",{"$f":"VLOOKUP(A$42,'Data Billing Quantities'!A:P,MATCH(B43&\" kWh\",'Data Billing Quantities'!$4:$4,0),FALSE)","v":71},null,71,"BI_SenLgt_Avg","BI Template_EnergyUNM",{"$f":"VLOOKUP(VLOOKUP($G43,'Data BI Summary'!$A:$F,MATCH(H$1,'Data BI Summary'!$2:$2,0),FALSE),INDIRECT(\"'\"&$F43&\"'!\"&\"$A:$K\"),4,FALSE)","v":20.793570264},{"$f":"VLOOKUP(VLOOKUP($G43,'Data BI Summary'!$A:$F,MATCH(I$1,'Data BI Summary'!$2:$2,0),FALSE),INDIRECT(\"'\"&$F43&\"'!\"&\"$A:$K\"),8,FALSE)","v":0.6938000000000013},{"$f":"VLOOKUP(VLOOKUP($G43,'Data BI Summary'!$A:$F,MATCH(J$1,'Data BI Summary'!$2:$2,0),FALSE),INDIRECT(\"'\"&$F43&\"'!\"&\"$A:$K\"),9,FALSE)","v":5.1156514750448037E-2},{"$f":"VLOOKUP(VLOOKUP($G43,'Data BI Summary'!$A:$F,MATCH(K$1,'Data BI Summary'!$2:$2,0),FALSE),INDIRECT(\"'\"&$F43&\"'!\"&\"$A:$K\"),8,FALSE)","v":0.63690839999999938},{"$f":"VLOOKUP(VLOOKUP($G43,'Data BI Summary'!$A:$F,MATCH(L$1,'Data BI Summary'!$2:$2,0),FALSE),INDIRECT(\"'\"&$F43&\"'!\"&\"$A:$K\"),9,FALSE)","v":3.0630064578312542E-2},null,null,null,0,0,0,0,"N/A",0,{"$error":"#N/A"}]
[null,"High",{"$f":"VLOOKUP(A$42,'Data Billing Quantities'!A:P,MATCH(B44&\" kWh\",'Data Billing Quantities'!$4:$4,0),FALSE)","v":200},null,200,"BI_SenLgt_High","BI Template_EnergyUNM",{"$f":"VLOOKUP(VLOOKUP($G44,'Data BI Summary'!$A:$F,MATCH(H$1,'Data BI Summary'!$2:$2,0),FALSE),INDIRECT(\"'\"&$F44&\"'!\"&\"$A:$K\"),4,FALSE)","v":53.452936800000003},{"$f":"VLOOKUP(VLOOKUP($G44,'Data BI Summary'!$A:$F,MATCH(I$1,'Data BI Summary'!$2:$2,0),FALSE),INDIRECT(\"'\"&$F44&\"'!\"&\"$A:$K\"),8,FALSE)","v":1.7000000000000028},{"$f":"VLOOKUP(VLOOKUP($G44,'Data BI Summary'!$A:$F,MATCH(J$1,'Data BI Summary'!$2:$2,0),FALSE),INDIRECT(\"'\"&$F44&\"'!\"&\"$A:$K\"),9,FALSE)","v":5.1390568319226206E-2},{"$f":"VLOOKUP(VLOOKUP($G44,'Data BI Summary'!$A:$F,MATCH(K$1,'Data BI Summary'!$2:$2,0),FALSE),INDIRECT(\"'\"&$F44&\"'!\"&\"$A:$K\"),8,FALSE)","v":1.560600000000008},{"$f":"VLOOKUP(VLOOKUP($G44,'Data BI Summary'!$A:$F,MATCH(L$1,'Data BI Summary'!$2:$2,0),FALSE),INDIRECT(\"'\"&$F44&\"'!\"&\"$A:$K\"),9,FALSE)","v":2.9195776573309025E-2},null,null,null,0,0,0,0,"N/A",0,{"$error":"#N/A"}]
["USL","Low",{"$f":"VLOOKUP(A$45,'Data Billing Quantities'!A:P,MATCH(B45&\" kWh\",'Data Billing Quantities'!$4:$4,0),FALSE)","v":100},null,100,"BI_USL_Low","BI Template_EnergyUNM",{"$f":"VLOOKUP(VLOOKUP($G45,'Data BI Summary'!$A:$F,MATCH(H$1,'Data BI Summary'!$2:$2,0),FALSE),INDIRECT(\"'\"&$F45&\"'!\"&\"$A:$K\"),4,FALSE)","v":48.036259439999995},{"$f":"VLOOKUP(VLOOKUP($G45,'Data BI Summary'!$A:$F,MATCH(I$1,'Data BI Summary'!$2:$2,0),FALSE),INDIRECT(\"'\"&$F45&\"'!\"&\"$A:$K\"),8,FALSE)","v":0.95000000000000284},{"$f":"VLOOKUP(VLOOKUP($G45,'Data BI Summary'!$A:$F,MATCH(J$1,'Data BI Summary'!$2:$2,0),FALSE),INDIRECT(\"'\"&$F45&\"'!\"&\"$A:$K\"),9,FALSE)","v":2.4032380470528789E-2},{"$f":"VLOOKUP(VLOOKUP($G45,'Data BI Summary'!$A:$F,MATCH(K$1,'Data BI Summary'!$2:$2,0),FALSE),INDIRECT(\"'\"&$F45&\"'!\"&\"$A:$K\"),8,FALSE)","v":0.87210000000000321},{"$f":"VLOOKUP(VLOOKUP($G45,'Data BI Summary'!$A:$F,MATCH(L$1,'Data BI Summary'!$2:$2,0),FALSE),INDIRECT(\"'\"&$F45&\"'!\"&\"$A:$K\"),9,FALSE)","v":1.8155035595336173E-2},"Two-tier RPP",null,null,0,0,0,0,"N/A",0,{"$error":"#N/A"}]
[null,"Average",{"$f":"VLOOKUP(A$45,'Data Billing Quantities'!A:P,MATCH(B46&\" kWh\",'Data Billing Quantities'!$4:$4,0),FALSE)","v":364},null,364,"BI_USL_Avg","BI Template_EnergyUNM",{"$f":"VLOOKUP(VLOOKUP($G46,'Data BI Summary'!$A:$F,MATCH(H$1,'Data BI Summary'!$2:$2,0),FALSE),INDIRECT(\"'\"&$F46&\"'!\"&\"$A:$K\"),4,FALSE)","v":84.454688361600006},{"$f":"VLOOKUP(VLOOKUP($G46,'Data BI Summary'!$A:$F,MATCH(I$1,'Data BI Summary'!$2:$2,0),FALSE),INDIRECT(\"'\"&$F46&\"'!\"&\"$A:$K\"),8,FALSE)","v":1.1084000000000032},{"$f":"VLOOKUP(VLOOKUP($G46,'Data BI Summary'!$A:$F,MATCH(J$1,'Data BI Summary'!$2:$2,0),FALSE),INDIRECT(\"'\"&$F46&\"'!\"&\"$A:$K\"),9,FALSE)","v":2.4055281136874707E-2},{"$f":"VLOOKUP(VLOOKUP($G46,'Data BI Summary'!$A:$F,MATCH(K$1,'Data BI Summary'!$2:$2,0),FALSE),INDIRECT(\"'\"&$F46&\"'!\"&\"$A:$K\"),8,FALSE)","v":1.0175112000000013},{"$f":"VLOOKUP(VLOOKUP($G46,'Data BI Summary'!$A:$F,MATCH(L$1,'Data BI Summary'!$2:$2,0),FALSE),INDIRECT(\"'\"&$F46&\"'!\"&\"$A:$K\"),9,FALSE)","v":1.2048013197839765E-2},null,null,null,0,0,0,0,"N/A",0,{"$error":"#N/A"}]
[null,"High",{"$f":"VLOOKUP(A$45,'Data Billing Quantities'!A:P,MATCH(B47&\" kWh\",'Data Billing Quantities'!$4:$4,0),FALSE)","v":1000},null,1000,"BI_USL_High","BI Template_EnergyUNM",{"$f":"VLOOKUP(VLOOKUP($G47,'Data BI Summary'!$A:$F,MATCH(H$1,'Data BI Summary'!$2:$2,0),FALSE),INDIRECT(\"'\"&$F47&\"'!\"&\"$A:$K\"),4,FALSE)","v":177.5272464},{"$f":"VLOOKUP(VLOOKUP($G47,'Data BI Summary'!$A:$F,MATCH(I$1,'Data BI Summary'!$2:$2,0),FALSE),INDIRECT(\"'\"&$F47&\"'!\"&\"$A:$K\"),8,FALSE)","v":1.490000000000002},{"$f":"VLOOKUP(VLOOKUP($G47,'Data BI Summary'!$A:$F,MATCH(J$1,'Data BI Summary'!$2:$2,0),FALSE),INDIRECT(\"'\"&$F47&\"'!\"&\"$A:$K\"),9,FALSE)","v":2.4090541632983055E-2},{"$f":"VLOOKUP(VLOOKUP($G47,'Data BI Summary'!$A:$F,MATCH(K$1,'Data BI Summary'!$2:$2,0),FALSE),INDIRECT(\"'\"&$F47&\"'!\"&\"$A:$K\"),8,FALSE)","v":1.3678199999999947},{"$f":"VLOOKUP(VLOOKUP($G47,'Data BI Summary'!$A:$F,MATCH(L$1,'Data BI Summary'!$2:$2,0),FALSE),INDIRECT(\"'\"&$F47&\"'!\"&\"$A:$K\"),9,FALSE)","v":7.704845468723469E-3},null,null,null,0,0,0,0,"N/A",0,{"$error":"#N/A"}]
["DGen","Low",{"$f":"VLOOKUP(A$48,'Data Billing Quantities'!A:P,MATCH($B48&\" kWh\",'Data Billing Quantities'!$4:$4,0),FALSE)","v":300},{"$f":"VLOOKUP(A$48,'Data Billing Quantities'!A:P,MATCH($B48&\" kW\",'Data Billing Quantities'!$4:$4,0),FALSE)","v":10},"300/10","BI_Dgen_Low","BI Template_Demand",{"$f":"VLOOKUP(VLOOKUP($G48,'Data BI Summary'!$A:$F,MATCH(H$1,'Data BI Summary'!$2:$2,0),FALSE),INDIRECT(\"'\"&$F48&\"'!\"&\"$A:$K\"),4,FALSE)","v":385.23649249999994},{"$f":"VLOOKUP(VLOOKUP($G48,'Data BI Summary'!$A:$F,MATCH(I$1,'Data BI Summary'!$2:$2,0),FALSE),INDIRECT(\"'\"&$F48&\"'!\"&\"$A:$K\"),8,FALSE)","v":2.6229999999999905},{"$f":"VLOOKUP(VLOOKUP($G48,'Data BI Summary'!$A:$F,MATCH(J$1,'Data BI Summary'!$2:$2,0),FALSE),INDIRECT(\"'\"&$F48&\"'!\"&\"$A:$K\"),9,FALSE)","v":9.1394482943987759E-3},{"$f":"VLOOKUP(VLOOKUP($G48,'Data BI Summary'!$A:$F,MATCH(K$1,'Data BI Summary'!$2:$2,0),FALSE),INDIRECT(\"'\"&$F48&\"'!\"&\"$A:$K\"),8,FALSE)","v":2.9639900000000239},{"$f":"VLOOKUP(VLOOKUP($G48,'Data BI Summary'!$A:$F,MATCH(L$1,'Data BI Summary'!$2:$2,0),FALSE),INDIRECT(\"'\"&$F48&\"'!\"&\"$A:$K\"),9,FALSE)","v":7.6939491914827475E-3},"Non-RPP",null,null,0,0,0,0,"N/A",0,0]
[null,"Average",{"$f":"VLOOKUP(A$48,'Data Billing Quantities'!A:P,MATCH($B49&\" kWh\",'Data Billing Quantities'!$4:$4,0),FALSE)","v":1328},{"$f":"VLOOKUP(A$48,'Data Billing Quantities'!A:P,MATCH($B49&\" kW\",'Data Billing Quantities'!$4:$4,0),FALSE)","v":13},"1,328/13","BI_Dgen_Avg","BI Template_Demand",{"$f":"VLOOKUP(VLOOKUP($G49,'Data BI Summary'!$A:$F,MATCH(H$1,'Data BI Summary'!$2:$2,0),FALSE),INDIRECT(\"'\"&$F49&\"'!\"&\"$A:$K\"),4,FALSE)","v":556.25759679999999},{"$f":"VLOOKUP(VLOOKUP($G49,'Data BI Summary'!$A:$F,MATCH(I$1,'Data BI Summary'!$2:$2,0),FALSE),INDIRECT(\"'\"&$F49&\"'!\"&\"$A:$K\"),8,FALSE)","v":2.8879000000000019},{"$f":"VLOOKUP(VLOOKUP($G49,'Data BI Summary'!$A:$F,MATCH(J$1,'Data BI Summary'!$2:$2,0),FALSE),INDIRECT(\"'\"&$F49&\"'!\"&\"$A:$K\"),9,FALSE)","v":9.2746518653649811E-3},{"$f":"VLOOKUP(VLOOKUP($G49,'Data BI Summary'!$A:$F,MATCH(K$1,'Data BI Summary'!$2:$2,0),FALSE),INDIRECT(\"'\"&$F49&\"'!\"&\"$A:$K\"),8,FALSE)","v":3.2633270000000039},{"$f":"VLOOKUP(VLOOKUP($G49,'Data BI Summary'!$A:$F,MATCH(L$1,'Data BI Summary'!$2:$2,0),FALSE),INDIRECT(\"'\"&$F49&\"'!\"&\"$A:$K\"),9,FALSE)","v":5.8665751600931737E-3},null,null,null,0,0,0,0,"N/A",0,0]
[null,"High",{"$f":"VLOOKUP(A$48,'Data Billing Quantities'!A:P,MATCH($B50&\" kWh\",'Data Billing Quantities'!$4:$4,0),FALSE)","v":5000},{"$f":"VLOOKUP(A$48,'Data Billing Quantities'!A:P,MATCH($B50&\" kW\",'Data Billing Quantities'!$4:$4,0),FALSE)","v":100},"5,000/100","BI_Dgen_High","BI Template_Demand",{"$f":"VLOOKUP(VLOOKUP($G50,'Data BI Summary'!$A:$F,MATCH(H$1,'Data BI Summary'!$2:$2,0),FALSE),INDIRECT(\"'\"&$F50&\"'!\"&\"$A:$K\"),4,FALSE)","v":2146.8163750000003},{"$f":"VLOOKUP(VLOOKUP($G50,'Data BI Summary'!$A:$F,MATCH(I$1,'Data BI Summary'!$2:$2,0),FALSE),INDIRECT(\"'\"&$F50&\"'!\"&\"$A:$K\"),8,FALSE)","v":10.569999999999936},{"$f":"VLOOKUP(VLOOKUP($G50,'Data BI Summary'!$A:$F,MATCH(J$1,'Data BI Summary'!$2:$2,0),FALSE),INDIRECT(\"'\"&$F50&\"'!\"&\"$A:$K\"),9,FALSE)","v":9.3830406644292968E-3},{"$f":"VLOOKUP(VLOOKUP($G50,'Data BI Summary'!$A:$F,MATCH(K$1,'Data BI Summary'!$2:$2,0),FALSE),INDIRECT(\"'\"&$F50&\"'!\"&\"$A:$K\"),8,FALSE)","v":11.944100000000162},{"$f":"VLOOKUP(VLOOKUP($G50,'Data BI Summary'!$A:$F,MATCH(L$1,'Data BI Summary'!$2:$2,0),FALSE),INDIRECT(\"'\"&$F50&\"'!\"&\"$A:$K\"),9,FALSE)","v":5.5636337318324021E-3},null,null,null,0,0,0,0,"N/A",0,0]
["ST","Low",{"$f":"VLOOKUP(A$51,'Data Billing Quantities'!A:P,MATCH($B51&\" kWh\",'Data Billing Quantities'!$4:$4,0),FALSE)","v":200000},{"$f":"VLOOKUP(A$51,'Data Billing Quantities'!A:P,MATCH($B51&\" kW\",'Data Billing Quantities'!$4:$4,0),FALSE)","v":500},"200,000/500","BI_ST_Low","BI Template_Demand",{"$f":"VLOOKUP(VLOOKUP($G51,'Data BI Summary'!$A:$F,MATCH(H$1,'Data BI Summary'!$2:$2,0),FALSE),INDIRECT(\"'\"&$F51&\"'!\"&\"$A:$K\"),4,FALSE)","v":32587.2451},{"$f":"VLOOKUP(VLOOKUP($G51,'Data BI Summary'!$A:$F,MATCH(I$1,'Data BI Summary'!$2:$2,0),FALSE),INDIRECT(\"'\"&$F51&\"'!\"&\"$A:$K\"),8,FALSE)","v":63.179999999999836},{"$f":"VLOOKUP(VLOOKUP($G51,'Data BI Summary'!$A:$F,MATCH(J$1,'Data BI Summary'!$2:$2,0),FALSE),INDIRECT(\"'\"&$F51&\"'!\"&\"$A:$K\"),9,FALSE)","v":2.5025746652935055E-2},{"$f":"VLOOKUP(VLOOKUP($G51,'Data BI Summary'!$A:$F,MATCH(K$1,'Data BI Summary'!$2:$2,0),FALSE),INDIRECT(\"'\"&$F51&\"'!\"&\"$A:$K\"),8,FALSE)","v":71.393400000000838},{"$f":"VLOOKUP(VLOOKUP($G51,'Data BI Summary'!$A:$F,MATCH(L$1,'Data BI Summary'!$2:$2,0),FALSE),INDIRECT(\"'\"&$F51&\"'!\"&\"$A:$K\"),9,FALSE)","v":2.1908387708416887E-3},"Non-RPP",null,null,0,0,0,0,"N/A",0,"N/A"]
[null,"Average",{"$f":"VLOOKUP(A$51,'Data Billing Quantities'!A:P,MATCH($B52&\" kWh\",'Data Billing Quantities'!$4:$4,0),FALSE)","v":1601036},{"$f":"VLOOKUP(A$51,'Data Billing Quantities'!A:P,MATCH($B52&\" kW\",'Data Billing Quantities'!$4:$4,0),FALSE)","v":3091},"1,601,036/3,091","BI_ST_Avg","BI Template_Demand",{"$f":"VLOOKUP(VLOOKUP($G52,'Data BI Summary'!$A:$F,MATCH(H$1,'Data BI Summary'!$2:$2,0),FALSE),INDIRECT(\"'\"&$F52&\"'!\"&\"$A:$K\"),4,FALSE)","v":241322.18319356799},{"$f":"VLOOKUP(VLOOKUP($G52,'Data BI Summary'!$A:$F,MATCH(I$1,'Data BI Summary'!$2:$2,0),FALSE),INDIRECT(\"'\"&$F52&\"'!\"&\"$A:$K\"),8,FALSE)","v":203.09400000000096},{"$f":"VLOOKUP(VLOOKUP($G52,'Data BI Summary'!$A:$F,MATCH(J$1,'Data BI Summary'!$2:$2,0),FALSE),INDIRECT(\"'\"&$F52&\"'!\"&\"$A:$K\"),9,FALSE)","v":2.2850113230100236E-2},{"$f":"VLOOKUP(VLOOKUP($G52,'Data BI Summary'!$A:$F,MATCH(K$1,'Data BI Summary'!$2:$2,0),FALSE),INDIRECT(\"'\"&$F52&\"'!\"&\"$A:$K\"),8,FALSE)","v":229.49622000003001},{"$f":"VLOOKUP(VLOOKUP($G52,'Data BI Summary'!$A:$F,MATCH(L$1,'Data BI Summary'!$2:$2,0),FALSE),INDIRECT(\"'\"&$F52&\"'!\"&\"$A:$K\"),9,FALSE)","v":9.5099512594723956E-4},null,null,null,0,0,0,0,"N/A",0,"N/A"]
[null,"High",{"$f":"VLOOKUP(A$51,'Data Billing Quantities'!A:P,MATCH($B53&\" kWh\",'Data Billing Quantities'!$4:$4,0),FALSE)","v":4000000},{"$f":"VLOOKUP(A$51,'Data Billing Quantities'!A:P,MATCH($B53&\" kW\",'Data Billing Quantities'!$4:$4,0),FALSE)","v":10000},"4,000,000/10,000","BI_ST_High","BI Template_Demand",{"$f":"VLOOKUP(VLOOKUP($G53,'Data BI Summary'!$A:$F,MATCH(H$1,'Data BI Summary'!$2:$2,0),FALSE),INDIRECT(\"'\"&$F53&\"'!\"&\"$A:$K\"),4,FALSE)","v":623901.53249999997},{"$f":"VLOOKUP(VLOOKUP($G53,'Data BI Summary'!$A:$F,MATCH(I$1,'Data BI Summary'!$2:$2,0),FALSE),INDIRECT(\"'\"&$F53&\"'!\"&\"$A:$K\"),8,FALSE)","v":576.18000000000029},{"$f":"VLOOKUP(VLOOKUP($G53,'Data BI Summary'!$A:$F,MATCH(J$1,'Data BI Summary'!$2:$2,0),FALSE),INDIRECT(\"'\"&$F53&\"'!\"&\"$A:$K\"),9,FALSE)","v":2.2283672253892637E-2},{"$f":"VLOOKUP(VLOOKUP($G53,'Data BI Summary'!$A:$F,MATCH(K$1,'Data BI Summary'!$2:$2,0),FALSE),INDIRECT(\"'\"&$F53&\"'!\"&\"$A:$K\"),8,FALSE)","v":651.08340000011958},{"$f":"VLOOKUP(VLOOKUP($G53,'Data BI Summary'!$A:$F,MATCH(L$1,'Data BI Summary'!$2:$2,0),FALSE),INDIRECT(\"'\"&$F53&\"'!\"&\"$A:$K\"),9,FALSE)","v":1.0435675600782718E-3},null,null,null,0,0,0,0,"N/A",0,"N/A"]
["ST (NonWMP, NonRPP, NonLDC, ClassB)","Average",{"$f":"VLOOKUP(A$54,'Data Billing Quantities'!A:P,MATCH($B54&\" kWh\",'Data Billing Quantities'!$4:$4,0),FALSE)","v":1601036},{"$f":"VLOOKUP(A$54,'Data Billing Quantities'!A:P,MATCH($B54&\" kW\",'Data Billing Quantities'!$4:$4,0),FALSE)","v":3091},null,"BI_ST_Avg_NonWMP","BI Template_Demand",{"$f":"VLOOKUP(VLOOKUP($G54,'Data BI Summary'!$A:$F,MATCH(H$1,'Data BI Summary'!$2:$2,0),FALSE),INDIRECT(\"'\"&$F54&\"'!\"&\"$A:$K\"),4,FALSE)","v":{"$error":"#REF!"}},{"$f":"VLOOKUP(VLOOKUP($G54,'Data BI Summary'!$A:$F,MATCH(I$1,'Data BI Summary'!$2:$2,0),FALSE),INDIRECT(\"'\"&$F54&\"'!\"&\"$A:$K\"),8,FALSE)","v":{"$error":"#REF!"}},{"$f":"VLOOKUP(VLOOKUP($G54,'Data BI Summary'!$A:$F,MATCH(J$1,'Data BI Summary'!$2:$2,0),FALSE),INDIRECT(\"'\"&$F54&\"'!\"&\"$A:$K\"),9,FALSE)","v":{"$error":"#REF!"}},{"$f":"VLOOKUP(VLOOKUP($G54,'Data BI Summary'!$A:$F,MATCH(K$1,'Data BI Summary'!$2:$2,0),FALSE),INDIRECT(\"'\"&$F54&\"'!\"&\"$A:$K\"),8,FALSE)","v":{"$error":"#REF!"}},{"$f":"VLOOKUP(VLOOKUP($G54,'Data BI Summary'!$A:$F,MATCH(L$1,'Data BI Summary'!$2:$2,0),FALSE),INDIRECT(\"'\"&$F54&\"'!\"&\"$A:$K\"),9,FALSE)","v":{"$error":"#REF!"}},"Non-RPP",null,null,{"$error":"#REF!"},{"$error":"#REF!"},{"$error":"#REF!"},{"$error":"#REF!"},{"$error":"#REF!"},{"$error":"#REF!"},{"$error":"#REF!"}]
["ST (NonWMP, NonRPP, NonLDC, ClassB) Exclude GA Rider","Average",{"$f":"VLOOKUP(A$55,'Data Billing Quantities'!A:P,MATCH($B55&\" kWh\",'Data Billing Quantities'!$4:$4,0),FALSE)","v":1601036},{"$f":"VLOOKUP(A$55,'Data Billing Quantities'!A:P,MATCH($B55&\" kW\",'Data Billing Quantities'!$4:$4,0),FALSE)","v":3091},null,"BI_ST_Avg_NonWMP_exclGA","BI Template_Demand",{"$f":"VLOOKUP(VLOOKUP($G55,'Data BI Summary'!$A:$F,MATCH(H$1,'Data BI Summary'!$2:$2,0),FALSE),INDIRECT(\"'\"&$F55&\"'!\"&\"$A:$K\"),4,FALSE)","v":241416.41717056802},{"$f":"VLOOKUP(VLOOKUP($G55,'Data BI Summary'!$A:$F,MATCH(I$1,'Data BI Summary'!$2:$2,0),FALSE),INDIRECT(\"'\"&$F55&\"'!\"&\"$A:$K\"),8,FALSE)","v":-83.392900000000736},{"$f":"VLOOKUP(VLOOKUP($G55,'Data BI Summary'!$A:$F,MATCH(J$1,'Data BI Summary'!$2:$2,0),FALSE),INDIRECT(\"'\"&$F55&\"'!\"&\"$A:$K\"),9,FALSE)","v":-9.2953244360588494E-3},{"$f":"VLOOKUP(VLOOKUP($G55,'Data BI Summary'!$A:$F,MATCH(K$1,'Data BI Summary'!$2:$2,0),FALSE),INDIRECT(\"'\"&$F55&\"'!\"&\"$A:$K\"),8,FALSE)","v":-94.233977000025334},{"$f":"VLOOKUP(VLOOKUP($G55,'Data BI Summary'!$A:$F,MATCH(L$1,'Data BI Summary'!$2:$2,0),FALSE),INDIRECT(\"'\"&$F55&\"'!\"&\"$A:$K\"),9,FALSE)","v":-3.9033789874135265E-4},"Non-RPP",null,null,0,0,0,0,"N/A",0,"N/A"]

{"sheet":"BI Template_Energy","index":8,"n_rows":55,"n_cols":11,"rows_kept":55,"cut":false,"hidden":true,"merged":[[0,0,0,10]]}
["2021 Bill Impacts (Average Consumption Level) - R1"]
[]
["Rate Class",{"$f":"RIGHT(A1,LEN(A1)-FIND(\"- \",A1,1)-1)","v":"R1"}]
["Monthly Consumption (kWh)",{"$f":"IF(COUNTIF(A1,\"*Low*\")>0,VLOOKUP(B3,'Data Billing Quantities'!$A:$Z,MATCH(\"Low kWh\",'Data Billing Quantities'!4:4,0),FALSE),IF(COUNTIF(A1,\"*Typical*\")>0,VLOOKUP(B3,'Data Billing Quantities'!$A:$Z,MATCH(\"Typical kWh\",'Data Billing Quantities'!4:4,0),FALSE),IF(COUNTIF(A1,\"*Average*\")>0,VLOOKUP(B3,'Data Billing Quantities'!$A:$Z,MATCH(\"Average kWh\",'Data Billing Quantities'!4:4,0),FALSE),IF(COUNTIF(A1,\"*High*\")>0,VLOOKUP(B3,'Data Billing Quantities'!$A:$Z,MATCH(\"High kWh\",'Data Billing Quantities'!4:4,0),FALSE),\"error\"))))","v":920}]
["Peak (kW)",{"$f":"IF(COUNTIF(A1,\"*Low*\")>0,VLOOKUP(B3,'Data Billing Quantities'!$A:$Z,MATCH(\"Low kW\",'Data Billing Quantities'!4:4,0),FALSE),IF(COUNTIF(A1,\"*Typical*\")>0,VLOOKUP(B3,'Data Billing Quantities'!$A:$Z,MATCH(\"Typical kW\",'Data Billing Quantities'!4:4,0),FALSE),IF(COUNTIF(A1,\"*Average*\")>0,VLOOKUP(B3,'Data Billing Quantities'!$A:$Z,MATCH(\"Average kW\",'Data Billing Quantities'!4:4,0),FALSE),IF(COUNTIF(A1,\"*High*\")>0,VLOOKUP(B3,'Data Billing Quantities'!$A:$Z,MATCH(\"High kW\",'Data Billing Quantities'!4:4,0),FALSE),\"error\"))))","v":0}]
["Loss factor",{"$f":"VLOOKUP(B3,'Data Billing Quantities'!A:D,MATCH(A6,'Data Billing Quantities'!4:4,0),FALSE)","v":1.0760000000000001}]
["Commodity Threshold",{"$f":"VLOOKUP(B3,'Data Billing Quantities'!A:D,MATCH(A7,'Data Billing Quantities'!4:4,0),FALSE)","v":600}]
["Monthly Consumption (kWh) - Uplifted",{"$f":"B4*B6","v":989.92000000000007}]
["Charge determinant",{"$f":"VLOOKUP(B3,'Data Billing Quantities'!A:D,MATCH(A9,'Data Billing Quantities'!4:4,0),FALSE)","v":"kWh"}]
[]
[null,"Volume","Current Rate ($)","Current Charge ($)","Volume","Proposed Rate ($)","Proposed Charge ($)","Change ($)","Change (%)","% of Total Bill on RPP","% of Total Bill on TOU"]
["Energy First Tier",{"$f":"IF(B4>B7,B7,B4)","v":600},{"$f":"VLOOKUP($A12,'Data Pass Through'!$A:$D,2,FALSE)","v":0.10100000000000001},{"$f":"B12*C12","v":60.6},{"$f":"B12","v":600},{"$f":"VLOOKUP($A12,'Data Pass Through'!$A:$D,3,FALSE)","v":0.10100000000000001},{"$f":"E12*F12","v":60.6},{"$f":"G12-D12","v":0},{"$f":"IF(ISERROR(H12/ABS(D12)),\"N/A\",(H12/ABS(D12)))","v":0},{"$f":"G12/$G$49","v":0.40806995549743891}]
["Energy Second Tier",{"$f":"IF(B4>B7,(B4)-B7,0)","v":320},{"$f":"VLOOKUP($A13,'Data Pass Through'!$A:$D,2,FALSE)","v":0.11799999999999999},{"$f":"B13*C13","v":37.76},{"$f":"B13","v":320},{"$f":"VLOOKUP($A13,'Data Pass Through'!$A:$D,3,FALSE)","v":0.11799999999999999},{"$f":"E13*F13","v":37.76},0,0,{"$f":"G13/$G$49","v":0.25426933200632496}]
["Sub-Total:  Energy (RPP Tiered)",null,null,{"$f":"SUM(D12:D13)","v":98.36},null,null,{"$f":"SUM(G12:G13)","v":98.36},0,0,{"$f":"G14/$G$49","v":0.66233928750376381}]
["TOU-Off Peak",{"$f":"B$4*VLOOKUP($B$3,'Data Billing Quantities'!$A:$O,MATCH('BI Template_Energy'!$A15,'Data Billing Quantities'!$4:$4,0),FALSE)","v":588.80000000000007},{"$f":"VLOOKUP($A15,'Data Pass Through'!$A:$D,2,FALSE)","v":8.5000000000000006E-2},{"$f":"B15*C15","v":50.048000000000009},588.80000000000007,{"$f":"VLOOKUP($A15,'Data Pass Through'!$A:$D,3,FALSE)","v":8.5000000000000006E-2},{"$f":"E15*F15","v":50.048000000000009},0,0,null,{"$f":"G15/$G$54","v":0.3374195872275772}]
["TOU-Mid Peak",{"$f":"B$4*VLOOKUP($B$3,'Data Billing Quantities'!$A:$O,MATCH('BI Template_Energy'!$A16,'Data Billing Quantities'!$4:$4,0),FALSE)","v":165.6},{"$f":"VLOOKUP($A16,'Data Pass Through'!$A:$D,2,FALSE)","v":0.11899999999999999},{"$f":"B16*C16","v":19.706399999999999},165.6,{"$f":"VLOOKUP($A16,'Data Pass Through'!$A:$D,3,FALSE)","v":0.11899999999999999},{"$f":"E16*F16","v":19.706399999999999},0,0,null,0.13285896247085849]
["TOU-On Peak",{"$f":"B$4*VLOOKUP($B$3,'Data Billing Quantities'!$A:$O,MATCH('BI Template_Energy'!$A17,'Data Billing Quantities'!$4:$4,0),FALSE)","v":165.6},{"$f":"VLOOKUP($A17,'Data Pass Through'!$A:$D,2,FALSE)","v":0.17599999999999999},{"$f":"B17*C17","v":29.145599999999998},165.6,{"$f":"VLOOKUP($A17,'Data Pass Through'!$A:$D,3,FALSE)","v":0.17599999999999999},{"$f":"E17*F17","v":29.145599999999998},0,0,null,0.19649728903253022]
["Sub-Total:  Energy (RPP TOU)",null,null,{"$f":"SUM(D15:D17)","v":98.9},null,null,{"$f":"SUM(G15:G17)","v":98.9},0,0,{"$f":"G18/$G$49","v":0.66597555443393908},0.66677583873096591]
["Service Charge",1,{"$f":"IF(ISERROR(VLOOKUP($B$3,'Data Current Rates'!$A:$BE,MATCH('BI Template_Energy'!$A19,CurrentHeader,0),FALSE)),0,VLOOKUP($B$3,'Data Current Rates'!$A:$BE,MATCH('BI Template_Energy'!$A19,CurrentHeader,0),FALSE))","v":49.04},{"$f":"B19*C19","v":49.04},1,{"$f":"VLOOKUP($B$3,'Data Proposed Rates'!$A:$BC,MATCH('BI Template_Energy'!$A19,ProposedHeader,0),FALSE)","v":49.04},{"$f":"E19*F19","v":49.04},0,0,0.33022690788109577,0.33062373236973275]
["Base Rate Adjustment to Recover Past Tax Amounts FIXED",null,null,null,1,{"$f":"VLOOKUP($B$3,'Data Proposed Rates'!$A:$BC,MATCH('BI Template_Energy'!$A20,ProposedHeader,0),FALSE)","v":1.56},{"$f":"E20*F20","v":1.56},{"$f":"G20-D20","v":1.56},{"$f":"IF(ISERROR(H20/ABS(D20)),\"N/A\",(H20/ABS(D20)))","v":"N/A"},1.0504771131617239E-2,1.0517394422854468E-2]
["Fixed Deferral/Variance Account Rider (General)",1,{"$f":"IF(ISERROR(VLOOKUP($B$3,'Data Current Rates'!$A:$BE,MATCH('BI Template_Energy'!$A21,CurrentHeader,0),FALSE)),0,VLOOKUP($B$3,'Data Current Rates'!$A:$BE,MATCH('BI Template_Energy'!$A21,CurrentHeader,0),FALSE))","v":-0.14000000000000001},-0.14000000000000001,1,{"$f":"VLOOKUP($B$3,'Data Proposed Rates'!$A:$BC,MATCH('BI Template_Energy'!$A21,ProposedHeader,0),FALSE)","v":-0.14000000000000001},-0.14000000000000001,0,0,-9.4273587078616257E-4,-9.4386873025617015E-4]
["Fixed ESM Rider",1,{"$f":"IF(ISERROR(VLOOKUP($B$3,'Data Current Rates'!$A:$BE,MATCH('BI Template_Energy'!$A22,CurrentHeader,0),FALSE)),0,VLOOKUP($B$3,'Data Current Rates'!$A:$BE,MATCH('BI Template_Energy'!$A22,CurrentHeader,0),FALSE))","v":-0.85},{"$f":"B22*C22","v":-0.85},1,{"$f":"VLOOKUP($B$3,'Data Proposed Rates'!$A:$BC,MATCH('BI Template_Energy'!$A22,ProposedHeader,0),FALSE)","v":-0.85},{"$f":"E22*F22","v":-0.85},{"$f":"G22-D22","v":0},{"$f":"IF(ISERROR(H22/ABS(D22)),\"N/A\",(H22/ABS(D22)))","v":0},-5.7237535012017006E-3,-5.7306315765553182E-3]
["Distribution Volumetric Charge",{"$f":"IF($B$9=\"kWh\",$B$4,$B$5)","v":920},{"$f":"IF(ISERROR(VLOOKUP($B$3,'Data Current Rates'!$A:$BE,MATCH('BI Template_Energy'!$A23,CurrentHeader,0),FALSE)),0,VLOOKUP($B$3,'Data Current Rates'!$A:$BE,MATCH('BI Template_Energy'!$A23,CurrentHeader,0),FALSE))","v":1.41E-2},12.972,{"$f":"IF($B$9=\"kWh\",$B$4,$B$5)","v":920},{"$f":"VLOOKUP($B$3,'Data Proposed Rates'!$A:$BC,MATCH('BI Template_Energy'!$A23,ProposedHeader,0),FALSE)","v":1.41E-2},12.972,0,0,8.7351212255986424E-2,8.7456179777735982E-2]
["Base Rate Adjustment to Recover Past Tax Amounts VOL",null,null,null,{"$f":"IF($B$9=\"kWh\",$B$4,$B$5)","v":920},{"$f":"VLOOKUP($B$3,'Data Proposed Rates'!$A:$BC,MATCH('BI Template_Energy'!$A24,ProposedHeader,0),FALSE)","v":0},{"$f":"E24*F24","v":0},{"$f":"G24-D24","v":0},{"$f":"IF(ISERROR(H24/ABS(D24)),\"N/A\",(H24/ABS(D24)))","v":"N/A"},0,0]
["Volumetric Deferral/Variance Account Rider (General)",{"$f":"IF($B$9=\"kWh\",$B$4,$B$5)","v":920},{"$f":"IF(ISERROR(VLOOKUP($B$3,'Data Current Rates'!$A:$BE,MATCH('BI Template_Energy'!$A25,CurrentHeader,0),FALSE)),0,VLOOKUP($B$3,'Data Current Rates'!$A:$BE,MATCH('BI Template_Energy'!$A25,CurrentHeader,0),FALSE))","v":-8.0000000000000004E-4},-0.73599999999999999,{"$f":"IF($B$9=\"kWh\",$B$4,$B$5)","v":920},{"$f":"VLOOKUP($B$3,'Data Proposed Rates'!$A:$BC,MATCH('BI Template_Energy'!$A25,ProposedHeader,0),FALSE)","v":-8.0000000000000004E-4},-0.73599999999999999,0,0,-4.9560971492758257E-3,-4.9620527533467225E-3]
["Volumetric ESM Rider",920,{"$f":"IF(ISERROR(VLOOKUP($B$3,'Data Current Rates'!$A:$BE,MATCH('BI Template_Energy'!$A26,CurrentHeader,0),FALSE)),0,VLOOKUP($B$3,'Data Current Rates'!$A:$BE,MATCH('BI Template_Energy'!$A26,CurrentHeader,0),FALSE))","v":0},{"$f":"B26*C26","v":0},920,{"$f":"VLOOKUP($B$3,'Data Proposed Rates'!$A:$BC,MATCH('BI Template_Energy'!$A26,ProposedHeader,0),FALSE)","v":0},0,0,"N/A",0,0]
["Fair Hydro Plan - Distribution Rate Protection Savings*",null,null,{"$f":"IF(AND(B3<>\"R1\",B3<>\"R2\"),0,IF(VLOOKUP($A27,'Data Pass Through'!$A:$D,2,FALSE)=0,0,IF(SUM(D19:D20,D23:D24)<VLOOKUP($A27,'Data Pass Through'!$A:$D,2,FALSE),0,VLOOKUP($A27,'Data Pass Through'!$A:$D,2,FALSE)-SUM(D19:D20,D23:D24))))","v":-25.152000000000001},null,null,{"$f":"IF(AND(B3<>\"R1\",B3<>\"R2\"),0,IF(VLOOKUP($A27,'Data Pass Through'!$A:$D,2,FALSE)=0,0,IF(SUM(G19:G20,G23:G24)<VLOOKUP($A27,'Data Pass Through'!$A:$D,2,FALSE),0,VLOOKUP($A27,'Data Pass Through'!$A:$D,2,FALSE)-SUM(G19:G20,G23:G24))))","v":-26.712000000000003},-1.5600000000000023,-6.2022900763358868E-2,-0.1798740041459998,-0.18009015373287729]
["Sub-Total:  Distribution (excluding pass through)",null,null,{"$f":"SUM(INDIRECT(\"D19:D\"&ROW()-1))","v":35.134},null,null,{"$f":"SUM(INDIRECT(\"g19:g\"&ROW()-1))","v":35.134},{"$f":"G28-D28","v":0},{"$f":"IF(ISERROR(H28/ABS(D28)),\"N/A\",(H28/ABS(D28)))","v":0},0.23658630060143593,0.23687059977728772]
["Smart Metering Entity Charge",1,{"$f":"VLOOKUP($A29,'Data Pass Through'!$A:$D,2,FALSE)","v":0.56999999999999995},{"$f":"B29*C29","v":0.56999999999999995},1,{"$f":"VLOOKUP($A29,'Data Pass Through'!$A:$D,3,FALSE)","v":0.56999999999999995},{"$f":"E29*F29","v":0.56999999999999995},0,0,3.8382817596293753E-3,3.8428941160429781E-3]
["Line Losses on Cost of Power (based on two-tier RPP prices)",{"$f":"B8-B4","v":69.920000000000073},{"$f":"IF(B4>B7,C13,C12)","v":0.11799999999999999},{"$f":"B30*C30","v":8.250560000000009},69.920000000000073,{"$f":"IF(B4>B7,F13,F12)","v":0.11799999999999999},{"$f":"E30*F30","v":8.250560000000009},0,0,5.5557849043382061E-2,5.5624611365016827E-2]
["Line Losses on Cost of Power (based on TOU prices)",{"$f":"B8-B4","v":69.920000000000073},{"$f":"VLOOKUP($B$3,'Data Billing Quantities'!$A:$O,MATCH('BI Template_Energy'!$A15,'Data Billing Quantities'!$4:$4,0),FALSE)*C15+VLOOKUP($B$3,'Data Billing Quantities'!$A:$O,MATCH('BI Template_Energy'!$A16,'Data Billing Quantities'!$4:$4,0),FALSE)*C16+VLOOKUP($B$3,'Data Billing Quantities'!$A:$O,MATCH('BI Template_Energy'!$A17,'Data Billing Quantities'!$4:$4,0),FALSE)*C17","v":0.1075},{"$f":"B31*C31","v":7.516400000000008},69.920000000000073,{"$f":"VLOOKUP($B$3,'Data Billing Quantities'!$A:$O,MATCH('BI Template_Energy'!$A15,'Data Billing Quantities'!$4:$4,0),FALSE)*F15+VLOOKUP($B$3,'Data Billing Quantities'!$A:$O,MATCH('BI Template_Energy'!$A16,'Data Billing Quantities'!$4:$4,0),FALSE)*F16+VLOOKUP($B$3,'Data Billing Quantities'!$A:$O,MATCH('BI Template_Energy'!$A17,'Data Billing Quantities'!$4:$4,0),FALSE)*F17","v":0.1075},{"$f":"E31*F31","v":7.516400000000008},0,0,5.0614142136979422E-2,5.0674963743553458E-2]
["Sub-Total:  Distribution (based on two-tier RPP prices)",null,null,{"$f":"SUM(D28,D29:D30)","v":43.954560000000008},null,null,{"$f":"SUM(G28,G29:G30)","v":43.954560000000008},0,0,0.29598243140444735,0.29633810525834753]
["Sub-Total:  Distribution (based on TOU prices)",null,null,{"$f":"SUM(D28,D29,D31)","v":43.220400000000012},null,null,{"$f":"SUM(G28,G29,G31)","v":43.220400000000012},0,0,0.29103872449804474,0.2913884576368842]
["Retail Transmission Rate – Network Service Rate",{"$f":"B8","v":989.92000000000007},{"$f":"VLOOKUP($B$3,'Data Current Rates'!$A:$BE,MATCH('BI Template_Energy'!$A34,CurrentHeader,0),FALSE)","v":8.2000000000000007E-3},{"$f":"B34*C34","v":8.117344000000001},989.92000000000007,{"$f":"VLOOKUP($B$3,'Data Proposed Rates'!$A:$BC,MATCH('BI Template_Energy'!$A34,ProposedHeader,0),FALSE)","v":8.2000000000000007E-3},{"$f":"E34*F34","v":8.117344000000001},{"$f":"G34-D34","v":0},0,5.4660795459363087E-2,5.4726479816661011E-2]
["Retail Transmission Rate – Line and Transformation Connection Service Rate",{"$f":"B8","v":989.92000000000007},{"$f":"VLOOKUP($B$3,'Data Current Rates'!$A:$BE,MATCH('BI Template_Energy'!$A35,CurrentHeader,0),FALSE)","v":7.3000000000000001E-3},{"$f":"B35*C35","v":7.2264160000000004},989.92000000000007,{"$f":"VLOOKUP($B$3,'Data Proposed Rates'!$A:$BC,MATCH('BI Template_Energy'!$A35,ProposedHeader,0),FALSE)","v":7.3000000000000001E-3},{"$f":"E35*F35","v":7.2264160000000004},{"$f":"G35-D35","v":0},0,4.866143986016469E-2,4.8719914958734803E-2]
["Sub-Total:  Retail Transmission ",null,null,{"$f":"SUM(D34:D35)","v":15.343760000000001},null,null,{"$f":"SUM(G34:G35)","v":15.343760000000001},{"$f":"G36-D36","v":0},0,0.10332223531952778,0.10344639477539581]
["Sub-Total:  Delivery (based on two-tier RPP prices)",null,null,{"$f":"D32+D36","v":59.298320000000011},null,null,{"$f":"G32+G36","v":59.298320000000011},{"$f":"G37-D37","v":0},0,0.39930466672397513,0.39978450003374333]
["Sub-Total:  Delivery (based on TOU prices)",null,null,{"$f":"D33+D36","v":58.564160000000015},null,null,{"$f":"G33+G36","v":58.564160000000015},{"$f":"G38-D38","v":0},0,0.39436095981757252,0.39483485241228]
["Wholesale Market Service Rate (WMS) - not including CBR",{"$f":"B8","v":989.92000000000007},{"$f":"VLOOKUP($A39,'Data Pass Through'!$A:$D,2,FALSE)","v":3.0000000000000001E-3},{"$f":"B39*C39","v":2.9697600000000004},{"$f":"$B$8","v":989.92000000000007},{"$f":"VLOOKUP($A39,'Data Pass Through'!$A:$D,3,FALSE)","v":3.0000000000000001E-3},{"$f":"E39*F39","v":2.9697600000000004},0,0,1.9997851997327957E-2,2.002188285975403E-2]
["Capacity Based Recovery (CBR) - Applicable for Class B Customers",{"$f":"B8","v":989.92000000000007},{"$f":"VLOOKUP($A40,'Data Pass Through'!$A:$D,2,FALSE)","v":4.0000000000000002E-4},{"$f":"B40*C40","v":0.39596800000000004},{"$f":"$B$8","v":989.92000000000007},{"$f":"VLOOKUP($A40,'Data Pass Through'!$A:$D,3,FALSE)","v":4.0000000000000002E-4},{"$f":"E40*F40","v":0.39596800000000004},{"$f":"G40-D40","v":0},{"$f":"IF(ISERROR(H40/ABS(D40)),\"N/A\",(H40/ABS(D40)))","v":0},2.6663802663103942E-3,2.6695843813005372E-3]
["Rural Rate Protection Charge",{"$f":"B8","v":989.92000000000007},{"$f":"VLOOKUP($A41,'Data Pass Through'!$A:$D,2,FALSE)","v":5.0000000000000001E-4},0.49496000000000007,989.92000000000007,{"$f":"VLOOKUP($A41,'Data Pass Through'!$A:$D,3,FALSE)","v":5.0000000000000001E-4},0.49496000000000007,0,0,3.332975332887993E-3,3.3369804766256715E-3]
["Standard Supply Service – Administration Charge (if applicable)",1,{"$f":"VLOOKUP($A42,'Data Pass Through'!$A:$D,2,FALSE)","v":0.25},{"$f":"B42*C42","v":0.25},1,{"$f":"VLOOKUP($A42,'Data Pass Through'!$A:$D,3,FALSE)","v":0.25},0.25,0,0,1.6834569121181471E-3,1.6854798754574467E-3]
["Sub-Total:  Regulatory",null,null,{"$f":"SUM(D39:D42)","v":4.1106880000000006},null,null,{"$f":"SUM(G39:G42)","v":4.1106880000000006},0,0,2.7680664508644492E-2,2.7713927593137684E-2]
["Debt Retirement Charge (DRC)",{"$f":"B4","v":920},{"$f":"VLOOKUP($A44,'Data Pass Through'!$A:$D,2,FALSE)","v":0},{"$f":"B44*C44","v":0},920,{"$f":"VLOOKUP($A44,'Data Pass Through'!$A:$D,3,FALSE)","v":0},{"$f":"E44*F44","v":0},0,"N/A",0,0]
["Total  Electricty Charge on Two-Tier RPP ",null,null,{"$f":"SUM(D14,D28,D29,D30,D36,D43,D44)","v":161.76900800000001},null,null,{"$f":"SUM(G14,G28,G29,G30,G36,G43,G44)","v":161.76900800000001},0,0,1.0893246187363834]
["     HST",null,0.13,{"$f":"D45*C46","v":21.029971040000003},null,{"$f":"C46","v":0.13},{"$f":"G45*F46","v":21.029971040000003},0,0,0.14161220043572986]
["Total Electricity Charge on Two-Tier RPP (including HST)",null,null,{"$f":"SUM(D45:D46)","v":182.79897904000001},null,null,{"$f":"SUM(G45:G46)","v":182.79897904000001},0,0,1.2309368191721133]
["Ontario Electricity Rebate (OER)",null,{"$f":"'Data Pass Through'!B20","v":-0.21199999999999999},{"$f":"D45*C48","v":-34.295029696},null,{"$f":"'Data Pass Through'!C20","v":-0.21199999999999999},{"$f":"G45*F48","v":-34.295029696},0,0,-0.23093681917211328]
["Total Amount on Two-Tier RPP",null,null,{"$f":"SUM(D47:D48)","v":148.50394934400001},null,null,{"$f":"SUM(G47:G48)","v":148.50394934400001},0,0,1]
["Total Electricty Charge on TOU (before HST)",null,null,{"$f":"SUM(D18,D28,D29,D31,D36,D43,D44)","v":161.574848},null,null,{"$f":"SUM(G18,G28,G29,G31,G36,G43,G44)","v":161.574848},0,0,null,{"$f":"G50/$G$54","v":1.0893246187363834}]
["     HST",null,0.13,{"$f":"D50*C51","v":21.004730240000001},null,{"$f":"C51","v":0.13},{"$f":"G50*F51","v":21.004730240000001},0,0,null,{"$f":"G51/$G$54","v":0.14161220043572986}]
["Total Electricity Charge on TOU (including HST)",null,null,{"$f":"SUM(D50:D51)","v":182.57957823999999},null,null,{"$f":"SUM(G50:G51)","v":182.57957823999999},0,0,null,{"$f":"G52/$G$54","v":1.2309368191721133}]
["Ontario Electricity Rebate (OER)",null,{"$f":"'Data Pass Through'!B20","v":-0.21199999999999999},{"$f":"D50*C53","v":-34.253867776},null,{"$f":"'Data Pass Through'!C20","v":-0.21199999999999999},{"$f":"G50*F53","v":-34.253867776},0,0,null,{"$f":"G53/$G$54","v":-0.23093681917211328}]
["Total Amount on TOU",null,null,{"$f":"SUM(D52:D53)","v":148.325710464},null,null,{"$f":"SUM(G52:G53)","v":148.325710464},0,0,null,{"$f":"G54/$G$54","v":1}]
["* Distribution rate protection applies to R1 and R2 customers"]

{"sheet":"BI Template_EnergyUNM","index":9,"n_rows":41,"n_cols":10,"rows_kept":41,"cut":false,"hidden":true,"merged":[[0,0,0,9]]}
["2021 Bill Impacts (Average Consumption Level) - USL"]
[]
["Rate Class",{"$f":"RIGHT(A1,LEN(A1)-FIND(\"- \",A1,1)-1)","v":"USL"}]
["Monthly Consumption (kWh)",{"$f":"IF(COUNTIF(A1,\"*Low*\")>0,VLOOKUP(B3,'Data Billing Quantities'!$A:$Z,MATCH(\"Low kWh\",'Data Billing Quantities'!4:4,0),FALSE),IF(COUNTIF(A1,\"*Typical*\")>0,VLOOKUP(B3,'Data Billing Quantities'!$A:$Z,MATCH(\"Typical kWh\",'Data Billing Quantities'!4:4,0),FALSE),IF(COUNTIF(A1,\"*Average*\")>0,VLOOKUP(B3,'Data Billing Quantities'!$A:$Z,MATCH(\"Average kWh\",'Data Billing Quantities'!4:4,0),FALSE),IF(COUNTIF(A1,\"*High*\")>0,VLOOKUP(B3,'Data Billing Quantities'!$A:$Z,MATCH(\"High kWh\",'Data Billing Quantities'!4:4,0),FALSE),\"error\"))))","v":364}]
["Peak (kW)",{"$f":"IF(COUNTIF(A1,\"*Low*\")>0,VLOOKUP(B3,'Data Billing Quantities'!$A:$Z,MATCH(\"Low kW\",'Data Billing Quantities'!4:4,0),FALSE),IF(COUNTIF(A1,\"*Typical*\")>0,VLOOKUP(B3,'Data Billing Quantities'!$A:$Z,MATCH(\"Typical kW\",'Data Billing Quantities'!4:4,0),FALSE),IF(COUNTIF(A1,\"*Average*\")>0,VLOOKUP(B3,'Data Billing Quantities'!$A:$Z,MATCH(\"Average kW\",'Data Billing Quantities'!4:4,0),FALSE),IF(COUNTIF(A1,\"*High*\")>0,VLOOKUP(B3,'Data Billing Quantities'!$A:$Z,MATCH(\"High kW\",'Data Billing Quantities'!4:4,0),FALSE),\"error\"))))","v":0}]
["Loss factor",{"$f":"VLOOKUP(B3,'Data Billing Quantities'!A:D,MATCH(A6,'Data Billing Quantities'!4:4,0),FALSE)","v":1.0920000000000001}]
["Commodity Threshold",{"$f":"VLOOKUP(B3,'Data Billing Quantities'!A:D,MATCH(A7,'Data Billing Quantities'!4:4,0),FALSE)","v":750}]
["Monthly Consumption (kWh) - Uplifted",{"$f":"B4*B6","v":397.48800000000006}]
["Charge determinant",{"$f":"VLOOKUP(B3,'Data Billing Quantities'!A:D,MATCH(A9,'Data Billing Quantities'!4:4,0),FALSE)","v":"kWh"}]
[]
[null,"Volume","Current Rate ($)","Current Charge ($)","Volume","Proposed Rate ($)","Proposed Charge ($)","Change ($)","Change (%)","% of Total Bill on RPP"]
["Energy First Tier",{"$f":"IF(B4>B7,B7,B4)","v":364},{"$f":"VLOOKUP($A12,'Data Pass Through'!$A:$D,2,FALSE)","v":0.10100000000000001},{"$f":"B12*C12","v":36.764000000000003},{"$f":"B12","v":364},{"$f":"VLOOKUP($A12,'Data Pass Through'!$A:$D,3,FALSE)","v":0.10100000000000001},{"$f":"E12*F12","v":36.764000000000003},{"$f":"G12-D12","v":0},{"$f":"IF(ISERROR(H12/ABS(D12)),\"N/A\",(H12/ABS(D12)))","v":0},{"$f":"G12/$G$41","v":0.43012816083554872}]
["Energy Second Tier",{"$f":"IF(B4>B7,(B4)-B7,0)","v":0},{"$f":"VLOOKUP($A13,'Data Pass Through'!$A:$D,2,FALSE)","v":0.11799999999999999},{"$f":"B13*C13","v":0},{"$f":"B13","v":0},{"$f":"VLOOKUP($A13,'Data Pass Through'!$A:$D,3,FALSE)","v":0.11799999999999999},{"$f":"E13*F13","v":0},0,"N/A",0]
["Sub-Total:  Energy (RPP Tiered)",null,null,{"$f":"SUM(D12:D13)","v":36.764000000000003},null,null,{"$f":"SUM(G12:G13)","v":36.764000000000003},0,0,0.43012816083554872]
["Service Charge",1,{"$f":"VLOOKUP($B$3,'Data Current Rates'!$A:$BE,MATCH('BI Template_EnergyUNM'!$A15,CurrentHeader,0),FALSE)","v":37.58},{"$f":"B15*C15","v":37.58},1,{"$f":"VLOOKUP($B$3,'Data Proposed Rates'!$A:$BC,MATCH('BI Template_EnergyUNM'!$A15,ProposedHeader,0),FALSE)","v":37.58},{"$f":"E15*F15","v":37.58},0,0,0.43967512469263187]
["Base Rate Adjustment to Recover Past Tax Amounts FIXED",null,null,null,1,{"$f":"VLOOKUP($B$3,'Data Proposed Rates'!$A:$BC,MATCH('BI Template_EnergyUNM'!$A16,ProposedHeader,0),FALSE)","v":0.89},{"$f":"E16*F16","v":0.89},{"$f":"G16-D16","v":0.89},{"$f":"IF(ISERROR(H16/ABS(D16)),\"N/A\",(H16/ABS(D16)))","v":"N/A"},1.0412742442161851E-2]
["Fixed Deferral/Variance Account Rider (General)",1,{"$f":"VLOOKUP($B$3,'Data Current Rates'!$A:$BE,MATCH('BI Template_EnergyUNM'!$A17,CurrentHeader,0),FALSE)","v":0},{"$f":"B17*C17","v":0},1,{"$f":"VLOOKUP($B$3,'Data Proposed Rates'!$A:$BC,MATCH('BI Template_EnergyUNM'!$A17,ProposedHeader,0),FALSE)","v":0},0,0,"N/A",0]
["Fixed ESM Rider",1,{"$f":"VLOOKUP($B$3,'Data Current Rates'!$A:$BE,MATCH('BI Template_EnergyUNM'!$A18,CurrentHeader,0),FALSE)","v":-0.53},{"$f":"B18*C18","v":-0.53},{"$f":"B18","v":1},{"$f":"VLOOKUP($B$3,'Data Proposed Rates'!$A:$BC,MATCH('BI Template_EnergyUNM'!$A18,ProposedHeader,0),FALSE)","v":-0.53},{"$f":"E18*F18","v":-0.53},{"$f":"G18-D18","v":0},{"$f":"IF(ISERROR(H18/ABS(D18)),\"N/A\",(H18/ABS(D18)))","v":0},-6.2008466228604285E-3]
["Distribution Volumetric Charge",{"$f":"IF($B$9=\"kWh\",$B$4,$B$5)","v":364},{"$f":"VLOOKUP($B$3,'Data Current Rates'!$A:$BE,MATCH('BI Template_EnergyUNM'!$A19,CurrentHeader,0),FALSE)","v":2.5100000000000001E-2},9.1364000000000001,{"$f":"IF($B$9=\"kWh\",$B$4,$B$5)","v":364},{"$f":"VLOOKUP($B$3,'Data Proposed Rates'!$A:$BC,MATCH('BI Template_EnergyUNM'!$A19,ProposedHeader,0),FALSE)","v":2.5100000000000001E-2},9.1364000000000001,0,0,0.10689323600962645]
["Base Rate Adjustment to Recover Past Tax Amounts VOL",null,null,null,{"$f":"IF($B$9=\"kWh\",$B$4,$B$5)","v":364},{"$f":"VLOOKUP($B$3,'Data Proposed Rates'!$A:$BC,MATCH('BI Template_EnergyUNM'!$A20,ProposedHeader,0),FALSE)","v":5.9999999999999995E-4},{"$f":"E20*F20","v":0.21839999999999998},{"$f":"G20-D20","v":0.21839999999999998},{"$f":"IF(ISERROR(H20/ABS(D20)),\"N/A\",(H20/ABS(D20)))","v":"N/A"},2.555216797042863E-3]
["Volumetric Deferral/Variance Account Rider (General)",{"$f":"IF($B$9=\"kWh\",$B$4,$B$5)","v":364},{"$f":"VLOOKUP($B$3,'Data Current Rates'!$A:$BE,MATCH('BI Template_EnergyUNM'!$A21,CurrentHeader,0),FALSE)","v":1E-4},3.6400000000000002E-2,364,{"$f":"VLOOKUP($B$3,'Data Proposed Rates'!$A:$BC,MATCH('BI Template_EnergyUNM'!$A21,ProposedHeader,0),FALSE)","v":1E-4},3.6400000000000002E-2,0,0,4.258694661738106E-4]
["Volumetric ESM Rider",364,{"$f":"VLOOKUP($B$3,'Data Current Rates'!$A:$BE,MATCH('BI Template_EnergyUNM'!$A22,CurrentHeader,0),FALSE)","v":-4.0000000000000002E-4},{"$f":"B22*C22","v":-0.14560000000000001},{"$f":"IF($B$9=\"kWh\",$B$4,$B$5)","v":364},{"$f":"VLOOKUP($B$3,'Data Proposed Rates'!$A:$BC,MATCH('BI Template_EnergyUNM'!$A22,ProposedHeader,0),FALSE)","v":-4.0000000000000002E-4},-0.14560000000000001,0,0,-1.7034778646952424E-3]
["Sub-Total:  Distribution (excluding pass through)",null,null,{"$f":"SUM(INDIRECT(\"D15:D\"&ROW()-1))","v":46.077199999999998},null,null,{"$f":"SUM(INDIRECT(\"g15:g\"&ROW()-1))","v":47.185600000000001},{"$f":"G23-D23","v":1.1084000000000032},2.4055281136874707E-2,0.55205786492008124]
[]
["Line Losses on Cost of Power (based on two-tier RPP prices)",{"$f":"B8-B4","v":33.488000000000056},{"$f":"IF(B4>B7,C13,C12)","v":0.10100000000000001},{"$f":"B25*C25","v":3.3822880000000057},33.488000000000056,{"$f":"IF(B4>B7,F13,F12)","v":0.10100000000000001},{"$f":"E25*F25","v":3.3822880000000057},0,0,{"$f":"G25/$G$41","v":3.9571790796870544E-2}]
["Sub-Total:  Distribution (based on two-tier RPP prices)",null,null,{"$f":"SUM(D23,D24:D25)","v":49.459488},null,null,{"$f":"SUM(G23,G24:G25)","v":50.567888000000004},1.1084000000000032,2.2410260292221446E-2,0.5916296557169517]
["Retail Transmission Rate – Network Service Rate",{"$f":"B8","v":397.48800000000006},{"$f":"VLOOKUP($B$3,'Data Current Rates'!$A:$BE,MATCH('BI Template_EnergyUNM'!$A27,CurrentHeader,0),FALSE)","v":5.4000000000000003E-3},{"$f":"B27*C27","v":2.1464352000000004},397.48800000000006,{"$f":"VLOOKUP($B$3,'Data Proposed Rates'!$A:$BC,MATCH('BI Template_EnergyUNM'!$A27,ProposedHeader,0),FALSE)","v":5.4000000000000003E-3},{"$f":"E27*F27","v":2.1464352000000004},{"$f":"G27-D27","v":0},0,2.5112670681337265E-2]
["Retail Transmission Rate – Line and Transformation Connection Service Rate",{"$f":"B8","v":397.48800000000006},{"$f":"VLOOKUP($B$3,'Data Current Rates'!$A:$BE,MATCH('BI Template_EnergyUNM'!$A28,CurrentHeader,0),FALSE)","v":4.5999999999999999E-3},{"$f":"B28*C28","v":1.8284448000000002},397.48800000000006,{"$f":"VLOOKUP($B$3,'Data Proposed Rates'!$A:$BC,MATCH('BI Template_EnergyUNM'!$A28,ProposedHeader,0),FALSE)","v":4.5999999999999999E-3},{"$f":"E28*F28","v":1.8284448000000002},{"$f":"G28-D28","v":0},0,2.1392275024842856E-2]
["Sub-Total:  Retail Transmission ",null,null,{"$f":"SUM(D27:D28)","v":3.9748800000000006},null,null,{"$f":"SUM(G27:G28)","v":3.9748800000000006},{"$f":"G29-D29","v":0},0,4.650494570618012E-2]
["Sub-Total:  Delivery (based on two-tier RPP prices)",null,null,{"$f":"D26+D29","v":53.434367999999999},null,null,{"$f":"G26+G29","v":54.542768000000002},{"$f":"G30-D30","v":1.1084000000000032},2.0743204074201892E-2,0.63813460142313183]
["Wholesale Market Service Rate (WMS) - not including CBR",{"$f":"B8","v":397.48800000000006},{"$f":"VLOOKUP($A31,'Data Pass Through'!$A:$D,2,FALSE)","v":3.0000000000000001E-3},{"$f":"B31*C31","v":1.1924640000000002},{"$f":"$B$8","v":397.48800000000006},{"$f":"VLOOKUP($A31,'Data Pass Through'!$A:$D,3,FALSE)","v":3.0000000000000001E-3},{"$f":"E31*F31","v":1.1924640000000002},{"$f":"G31-D31","v":0},0,1.3951483711854036E-2]
["Capacity Based Recovery (CBR) - Applicable for Class B Customers",{"$f":"B8","v":397.48800000000006},{"$f":"VLOOKUP($A32,'Data Pass Through'!$A:$D,2,FALSE)","v":4.0000000000000002E-4},{"$f":"B32*C32","v":0.15899520000000003},{"$f":"$B$8","v":397.48800000000006},{"$f":"VLOOKUP($A32,'Data Pass Through'!$A:$D,3,FALSE)","v":4.0000000000000002E-4},{"$f":"E32*F32","v":0.15899520000000003},0,0,1.8601978282472048E-3]
["Rural Rate Protection Charge",{"$f":"B8","v":397.48800000000006},{"$f":"VLOOKUP($A33,'Data Pass Through'!$A:$D,2,FALSE)","v":5.0000000000000001E-4},0.19874400000000003,397.48800000000006,{"$f":"VLOOKUP($A33,'Data Pass Through'!$A:$D,3,FALSE)","v":5.0000000000000001E-4},0.19874400000000003,0,0,2.3252472853090059E-3]
["Standard Supply Service – Administration Charge (if applicable)",1,{"$f":"VLOOKUP($A34,'Data Pass Through'!$A:$D,2,FALSE)","v":0.25},{"$f":"B34*C34","v":0.25},1,{"$f":"VLOOKUP($A34,'Data Pass Through'!$A:$D,3,FALSE)","v":0.25},0.25,0,0,2.9249276522926551E-3]
["Sub-Total:  Regulatory",null,null,{"$f":"SUM(D31:D34)","v":1.8002032000000003},null,null,{"$f":"SUM(G31:G34)","v":1.8002032000000003},0,0,2.1061856477702902E-2]
["Debt Retirement Charge (DRC)",{"$f":"B4","v":364},{"$f":"VLOOKUP($A36,'Data Pass Through'!$A:$D,2,FALSE)","v":0},{"$f":"B36*C36","v":0},364,{"$f":"VLOOKUP($A36,'Data Pass Through'!$A:$D,3,FALSE)","v":0},{"$f":"E36*F36","v":0},0,"N/A",0]
["Total  Electricty Charge on Two-Tier RPP ",null,null,{"$f":"SUM(D14,D23,D24,D25,D29,D35,D36)","v":91.998571200000001},null,null,{"$f":"SUM(G14,G23,G24,G25,G29,G35,G36)","v":93.106971200000004},1.1084000000000032,1.2048013197839784E-2,1.0893246187363834]
["     HST",null,0.13,{"$f":"D37*C38","v":11.959814256000001},null,{"$f":"C38","v":0.13},{"$f":"G37*F38","v":12.103906256},0.14409199999999878,1.2048013197839647E-2,0.14161220043572983]
["Total Electricity Charge on Two-Tier RPP (including HST)",null,null,{"$f":"SUM(D37:D38)","v":103.958385456},null,null,{"$f":"SUM(G37:G38)","v":105.21087745600001},1.2524920000000037,1.2048013197839786E-2,1.2309368191721133]
["Ontario Electricity Rebate (OER)",null,{"$f":"'Data Pass Through'!B20","v":-0.21199999999999999},{"$f":"D37*C40","v":-19.5036970944},null,{"$f":"'Data Pass Through'!C20","v":-0.21199999999999999},{"$f":"G37*F40","v":-19.738677894399999},-0.23498079999999888,-1.2048013197839694E-2,-0.23093681917211326]
["Total Amount on Two-Tier RPP",null,null,{"$f":"SUM(D39:D40)","v":84.454688361600006},null,null,{"$f":"SUM(G39:G40)","v":85.472199561600007},1.0175112000000013,1.2048013197839765E-2,1]

{"sheet":"BI Template_Demand","index":10,"n_rows":37,"n_cols":10,"rows_kept":37,"cut":false,"hidden":true,"merged":[[0,0,0,9]]}
["2021 Bill Impacts (Average Consumption Level) - GSd"]
[]
["Rate Class",{"$f":"RIGHT(A1,LEN(A1)-FIND(\"- \",A1,1)-1)","v":"GSd"}]
["Monthly Consumption (kWh)",{"$f":"IF(COUNTIF(A1,\"*Low*\")>0,VLOOKUP(B3,'Data Billing Quantities'!$A:$Z,MATCH(\"Low kWh\",'Data Billing Quantities'!4:4,0),FALSE),IF(COUNTIF(A1,\"*Typical*\")>0,VLOOKUP(B3,'Data Billing Quantities'!$A:$Z,MATCH(\"Typical kWh\",'Data Billing Quantities'!4:4,0),FALSE),IF(COUNTIF(A1,\"*Average*\")>0,VLOOKUP(B3,'Data Billing Quantities'!$A:$Z,MATCH(\"Average kWh\",'Data Billing Quantities'!4:4,0),FALSE),IF(COUNTIF(A1,\"*High*\")>0,VLOOKUP(B3,'Data Billing Quantities'!$A:$Z,MATCH(\"High kWh\",'Data Billing Quantities'!4:4,0),FALSE),\"error\"))))","v":36104}]
["Peak (kW)",{"$f":"IF(COUNTIF(A1,\"*Low*\")>0,VLOOKUP(B3,'Data Billing Quantities'!$A:$Z,MATCH(\"Low kW\",'Data Billing Quantities'!4:4,0),FALSE),IF(COUNTIF(A1,\"*Typical*\")>0,VLOOKUP(B3,'Data Billing Quantities'!$A:$Z,MATCH(\"Typical kW\",'Data Billing Quantities'!4:4,0),FALSE),IF(COUNTIF(A1,\"*Average*\")>0,VLOOKUP(B3,'Data Billing Quantities'!$A:$Z,MATCH(\"Average kW\",'Data Billing Quantities'!4:4,0),FALSE),IF(COUNTIF(A1,\"*High*\")>0,VLOOKUP(B3,'Data Billing Quantities'!$A:$Z,MATCH(\"High kW\",'Data Billing Quantities'!4:4,0),FALSE),\"error\"))))","v":124}]
["Loss factor",{"$f":"VLOOKUP(B3,'Data Billing Quantities'!A:D,MATCH(A6,'Data Billing Quantities'!4:4,0),FALSE)","v":1.0609999999999999}]
["Load factor",{"$f":"B4/(B5*730)","v":0.39885108263367214}]
["Monthly Consumption (kWh) - Uplifted",{"$f":"B4*B6","v":38306.343999999997}]
["Charge determinant",{"$f":"VLOOKUP(B3,'Data Billing Quantities'!A:D,MATCH(A9,'Data Billing Quantities'!4:4,0),FALSE)","v":"kW"}]
[]
[null,"Volume","Current Rate ($)","Current Charge ($)","Volume","Proposed Rate ($)","Proposed Charge ($)","Change ($)","Change (%)","% of Total Bill "]
["Energy (Non-RPP)*",{"$f":"B8","v":38306.343999999997},{"$f":"VLOOKUP($A12,'Data Pass Through'!A:E,2,FALSE)","v":0.1075},{"$f":"B12*C12","v":4117.9319799999994},{"$f":"B8","v":38306.343999999997},{"$f":"VLOOKUP($A12,'Data Pass Through'!A:E,3,FALSE)","v":0.1075},{"$f":"E12*F12","v":4117.9319799999994},{"$f":"G12-D12","v":0},{"$f":"IF(ISERROR(H12/ABS(D12)),\"N/A\",(H12/ABS(D12)))","v":0},{"$f":"G12/$G$37","v":0.51859739140331351}]
["Service Charge",1,{"$f":"VLOOKUP($B$3,'Data Current Rates'!$A:$BE,MATCH($A13,CurrentHeader,0),FALSE)","v":108.28},{"$f":"B13*C13","v":108.28},{"$f":"B13","v":1},{"$f":"VLOOKUP($B$3,'Data Proposed Rates'!$A:$BC,MATCH($A13,ProposedHeader,0),FALSE)","v":108.28},{"$f":"E13*F13","v":108.28},0,0,1.3636389773769598E-2]
["Base Rate Adjustment to Recover Past Tax Amounts FIXED",null,null,null,1,{"$f":"VLOOKUP($B$3,'Data Proposed Rates'!$A:$BC,MATCH($A14,ProposedHeader,0),FALSE)","v":4.34},{"$f":"E14*F14","v":4.34},{"$f":"G14-D14","v":4.34},{"$f":"IF(ISERROR(H14/ABS(D14)),\"N/A\",(H14/ABS(D14)))","v":"N/A"},5.4656383097672744E-4]
["Fixed Deferral/Variance Account Rider (General)",1,{"$f":"VLOOKUP($B$3,'Data Current Rates'!$A:$BE,MATCH($A15,CurrentHeader,0),FALSE)","v":0},{"$f":"B15*C15","v":0},1,{"$f":"VLOOKUP($B$3,'Data Proposed Rates'!$A:$BC,MATCH($A15,ProposedHeader,0),FALSE)","v":0},{"$f":"E15*F15","v":0},0,"N/A",0]
["Fixed ESM Rider",1,{"$f":"VLOOKUP($B$3,'Data Current Rates'!$A:$BE,MATCH($A16,CurrentHeader,0),FALSE)","v":-1.52},{"$f":"B16*C16","v":-1.52},1,{"$f":"VLOOKUP($B$3,'Data Proposed Rates'!$A:$BC,MATCH($A16,ProposedHeader,0),FALSE)","v":-1.52},{"$f":"E16*F16","v":-1.52},{"$f":"G16-D16","v":0},{"$f":"IF(ISERROR(H16/ABS(D16)),\"N/A\",(H16/ABS(D16)))","v":0},-1.9142327720843912E-4]
["Distribution Volumetric Charge",{"$f":"IF($B$9=\"kWh\",$B$4,$B$5)","v":124},{"$f":"VLOOKUP($B$3,'Data Current Rates'!$A:$BE,MATCH($A17,CurrentHeader,0),FALSE)","v":18.329599999999999},2272.8703999999998,{"$f":"$B$5","v":124},{"$f":"VLOOKUP($B$3,'Data Proposed Rates'!$A:$BC,MATCH($A17,ProposedHeader,0),FALSE)","v":18.329599999999999},2272.8703999999998,0,{"$f":"IF(ISERROR(H17/ABS(D17)),\"N/A\",(H17/ABS(D17)))","v":0},0.28623703989345783]
["Base Rate Adjustment to Recover Past Tax Amounts VOL",null,null,null,{"$f":"$B$5","v":124},{"$f":"VLOOKUP($B$3,'Data Proposed Rates'!$A:$BC,MATCH($A18,ProposedHeader,0),FALSE)","v":0.73380000000000001},{"$f":"E18*F18","v":90.991200000000006},{"$f":"G18-D18","v":90.991200000000006},{"$f":"IF(ISERROR(H18/ABS(D18)),\"N/A\",(H18/ABS(D18)))","v":"N/A"},1.1459101119163505E-2]
["Volumetric Deferral/Variance Account Rider (General)",{"$f":"IF($B$9=\"kWh\",$B$4,$B$5)","v":124},{"$f":"VLOOKUP($B$3,'Data Current Rates'!$A:$BE,MATCH($A19,CurrentHeader,0),FALSE)","v":1.17E-2},1.4508000000000001,{"$f":"$B$5","v":124},{"$f":"VLOOKUP($B$3,'Data Proposed Rates'!$A:$BC,MATCH($A19,ProposedHeader,0),FALSE)","v":1.17E-2},1.4508000000000001,0,{"$f":"IF(ISERROR(H19/ABS(D19)),\"N/A\",(H19/ABS(D19)))","v":0},1.8270848064079177E-4]
["Volumetric Deferral/Variance Account Rider (Sub-Account Global Adjustment)",{"$f":"B8","v":38306.343999999997},{"$f":"VLOOKUP($B$3,'Data Current Rates'!$A:$BE,MATCH($A20,CurrentHeader,0),FALSE)","v":-3.8999999999999998E-3},-149.39474159999997,{"$f":"B8","v":38306.343999999997},{"$f":"VLOOKUP($B$3,'Data Proposed Rates'!$A:$BC,MATCH($A20,ProposedHeader,0),FALSE)","v":-3.8999999999999998E-3},-149.39474159999997,{"$f":"G20-D20","v":0},{"$f":"IF(ISERROR(H20/ABS(D20)),\"N/A\",(H20/ABS(D20)))","v":0},-1.8814230943934165E-2]
["Volumetric ESM Rider",{"$f":"IF($B$9=\"kWh\",$B$4,$B$5)","v":124},{"$f":"VLOOKUP($B$3,'Data Current Rates'!$A:$BE,MATCH($A21,CurrentHeader,0),FALSE)","v":-0.2555},{"$f":"B21*C21","v":-31.682000000000002},{"$f":"B5","v":124},{"$f":"VLOOKUP($B$3,'Data Proposed Rates'!$A:$BC,MATCH($A21,ProposedHeader,0),FALSE)","v":-0.2555},{"$f":"E21*F21","v":-31.682000000000002},{"$f":"G21-D21","v":0},{"$f":"IF(ISERROR(H21/ABS(D21)),\"N/A\",(H21/ABS(D21)))","v":0},-3.9899159661301109E-3]
["Sub-Total:  Distribution",null,null,{"$f":"SUM(INDIRECT(\"D13:D\"&ROW()-1))","v":2200.0044584000002},null,null,{"$f":"SUM(INDIRECT(\"g13:g\"&ROW()-1))","v":2295.3356583999998},95.331199999999626,4.3332275821536863E-2,0.28906623291073574]
["Retail Transmission Rate – Network Service Rate",{"$f":"B5","v":124},{"$f":"VLOOKUP($B$3,'Data Current Rates'!$A:$BE,MATCH($A23,CurrentHeader,0),FALSE)","v":2.0421},{"$f":"B23*C23","v":253.22040000000001},124,{"$f":"VLOOKUP($B$3,'Data Proposed Rates'!$A:$BC,MATCH($A23,ProposedHeader,0),FALSE)","v":2.0421},{"$f":"E23*F23","v":253.22040000000001},0,0,3.1889657121073577E-2]
["Retail Transmission Rate – Line and Transformation Connection Service Rate",{"$f":"B5","v":124},{"$f":"VLOOKUP($B$3,'Data Current Rates'!$A:$BE,MATCH($A24,CurrentHeader,0),FALSE)","v":1.7005999999999999},{"$f":"B24*C24","v":210.87439999999998},124,{"$f":"VLOOKUP($B$3,'Data Proposed Rates'!$A:$BC,MATCH($A24,ProposedHeader,0),FALSE)","v":1.7005999999999999},{"$f":"E24*F24","v":210.87439999999998},0,0,2.6556755741686363E-2]
["Sub-Total:  Retail Transmission ",null,null,{"$f":"SUM(D23:D24)","v":464.09479999999996},null,null,{"$f":"SUM(G23:G24)","v":464.09479999999996},0,0,5.8446412862759936E-2]
["Sub-Total:  Delivery ",null,null,{"$f":"D22+D25","v":2664.0992584000001},null,null,{"$f":"G22+G25","v":2759.4304583999997},95.331199999999626,3.578365171621025E-2,0.34751264577349567]
["Wholesale Market Service Rate (WMS) - not including CBR",{"$f":"$B$8","v":38306.343999999997},{"$f":"VLOOKUP($A27,'Data Pass Through'!$A:$D,2,FALSE)","v":3.0000000000000001E-3},{"$f":"B27*C27","v":114.919032},{"$f":"$B$8","v":38306.343999999997},{"$f":"VLOOKUP($A27,'Data Pass Through'!$A:$D,3,FALSE)","v":3.0000000000000001E-3},{"$f":"E27*F27","v":114.919032},0,0,1.4472485341487821E-2]
["Capacity Based Recovery (CBR) - Applicable for Class B Customers",{"$f":"$B$8","v":38306.343999999997},{"$f":"VLOOKUP($A28,'Data Pass Through'!$A:$D,2,FALSE)","v":4.0000000000000002E-4},{"$f":"B28*C28","v":15.3225376},{"$f":"$B$8","v":38306.343999999997},{"$f":"VLOOKUP($A28,'Data Pass Through'!$A:$D,3,FALSE)","v":4.0000000000000002E-4},{"$f":"E28*F28","v":15.3225376},{"$f":"G28-D28","v":0},0,1.929664712198376E-3]
["Rural Rate Protection Charge",{"$f":"$B$8","v":38306.343999999997},{"$f":"VLOOKUP($A29,'Data Pass Through'!$A:$D,2,FALSE)","v":5.0000000000000001E-4},{"$f":"B29*C29","v":19.153171999999998},{"$f":"$B$8","v":38306.343999999997},{"$f":"VLOOKUP($A29,'Data Pass Through'!$A:$D,3,FALSE)","v":5.0000000000000001E-4},{"$f":"E29*F29","v":19.153171999999998},{"$f":"G29-D29","v":0},0,2.4120808902479696E-3]
["Standard Supply Service – Administration Charge (if applicable)",1,{"$f":"VLOOKUP($A30,'Data Pass Through'!$A:$D,2,FALSE)","v":0.25},{"$f":"B30*C30","v":0.25},1,{"$f":"VLOOKUP($A30,'Data Pass Through'!$A:$D,3,FALSE)","v":0.25},{"$f":"E30*F30","v":0.25},0,0,3.1484091646124858E-5]
["Sub-Total:  Regulatory",null,null,{"$f":"SUM(D27:D30)","v":149.64474159999997},null,null,{"$f":"SUM(G27:G30)","v":149.64474159999997},0,0,1.8845715035580288E-2]
["Debt Retirement Charge (DRC)",{"$f":"B4","v":36104},{"$f":"VLOOKUP($A32,'Data Pass Through'!$A:$D,2,FALSE)","v":0},{"$f":"B32*C32","v":0},{"$f":"B4","v":36104},{"$f":"VLOOKUP($A32,'Data Pass Through'!$A:$D,3,FALSE)","v":0},{"$f":"E32*F32","v":0},0,"N/A",0]
["Total Electricity Charge (before HST)",null,null,{"$f":"SUM(D12,D22,D25,D31,D32)","v":6931.67598},null,null,{"$f":"SUM(G12,G22,G25,G31,G32)","v":7027.0071799999987},95.331199999998717,1.3752979838506346E-2,0.88495575221238942]
["     HST",null,0.13,{"$f":"D33*C34","v":901.1178774},null,{"$f":"C34","v":0.13},{"$f":"G33*F34","v":913.51093339999989},12.393055999999888,1.3752979838506407E-2,0.11504424778761063]
["Total Electricity Charge (including HST)",null,null,{"$f":"SUM(D33:D34)","v":7832.7938574},null,null,{"$f":"SUM(G33:G34)","v":7940.5181133999986},107.7242559999986,1.3752979838506353E-2,1]
["Ontario Electricity Rebate (OER)",null,0,{"$f":"D33*C36","v":0},null,{"$f":"C36","v":0},{"$f":"G33*F36","v":0},0,"N/A",0]
["Total Amount",null,null,{"$f":"SUM(D35:D36)","v":7832.7938574},null,null,{"$f":"SUM(G35:G36)","v":7940.5181133999986},107.7242559999986,1.3752979838506353E-2,1]

{"sheet":"BI_UR_Low","index":11,"n_rows":55,"n_cols":11,"rows_kept":55,"cut":false,"hidden":false,"merged":[[0,0,0,10]]}
["2021 Bill Impacts (Low Consumption Level) - UR"]
[]
["Rate Class",{"$f":"RIGHT(A1,LEN(A1)-FIND(\"- \",A1,1)-1)","v":"UR"}]
["Monthly Consumption (kWh)",{"$f":"IF(COUNTIF(A1,\"*Low*\")>0,VLOOKUP(B3,'Data Billing Quantities'!$A:$Z,MATCH(\"Low kWh\",'Data Billing Quantities'!4:4,0),FALSE),IF(COUNTIF(A1,\"*Typical*\")>0,VLOOKUP(B3,'Data Billing Quantities'!$A:$Z,MATCH(\"Typical kWh\",'Data Billing Quantities'!4:4,0),FALSE),IF(COUNTIF(A1,\"*Average*\")>0,VLOOKUP(B3,'Data Billing Quantities'!$A:$Z,MATCH(\"Average kWh\",'Data Billing Quantities'!4:4,0),FALSE),IF(COUNTIF(A1,\"*High*\")>0,VLOOKUP(B3,'Data Billing Quantities'!$A:$Z,MATCH(\"High kWh\",'Data Billing Quantities'!4:4,0),FALSE),\"error\"))))","v":350}]
["Peak (kW)",{"$f":"IF(COUNTIF(A1,\"*Low*\")>0,VLOOKUP(B3,'Data Billing Quantities'!$A:$Z,MATCH(\"Low kW\",'Data Billing Quantities'!4:4,0),FALSE),IF(COUNTIF(A1,\"*Typical*\")>0,VLOOKUP(B3,'Data Billing Quantities'!$A:$Z,MATCH(\"Typical kW\",'Data Billing Quantities'!4:4,0),FALSE),IF(COUNTIF(A1,\"*Average*\")>0,VLOOKUP(B3,'Data Billing Quantities'!$A:$Z,MATCH(\"Average kW\",'Data Billing Quantities'!4:4,0),FALSE),IF(COUNTIF(A1,\"*High*\")>0,VLOOKUP(B3,'Data Billing Quantities'!$A:$Z,MATCH(\"High kW\",'Data Billing Quantities'!4:4,0),FALSE),\"error\"))))","v":0}]
["Loss factor",{"$f":"VLOOKUP(B3,'Data Billing Quantities'!A:D,MATCH(A6,'Data Billing Quantities'!4:4,0),FALSE)","v":1.0569999999999999}]
["Commodity Threshold",{"$f":"VLOOKUP(B3,'Data Billing Quantities'!A:D,MATCH(A7,'Data Billing Quantities'!4:4,0),FALSE)","v":600}]
["Monthly Consumption (kWh) - Uplifted",{"$f":"B4*B6","v":369.95}]
["Charge determinant",{"$f":"VLOOKUP(B3,'Data Billing Quantities'!A:D,MATCH(A9,'Data Billing Quantities'!4:4,0),FALSE)","v":"kWh"}]
[]
[null,"Volume","Current Rate ($)","Current Charge ($)","Volume","Proposed Rate ($)","Proposed Charge ($)","Change ($)","Change (%)","% of Total Bill on RPP","% of Total Bill on TOU"]
["Energy First Tier",{"$f":"IF(B4>B7,B7,B4)","v":350},{"$f":"VLOOKUP($A12,'Data Pass Through'!$A:$D,2,FALSE)","v":0.10100000000000001},{"$f":"B12*C12","v":35.35},{"$f":"B12","v":350},{"$f":"VLOOKUP($A12,'Data Pass Through'!$A:$D,3,FALSE)","v":0.10100000000000001},{"$f":"E12*F12","v":35.35},{"$f":"G12-D12","v":0},{"$f":"IF(ISERROR(H12/ABS(D12)),\"N/A\",(H12/ABS(D12)))","v":0},{"$f":"G12/$G$49","v":0.47171105973810706}]
["Energy Second Tier",{"$f":"IF(B4>B7,(B4)-B7,0)","v":0},{"$f":"VLOOKUP($A13,'Data Pass Through'!$A:$D,2,FALSE)","v":0.11799999999999999},{"$f":"B13*C13","v":0},{"$f":"B13","v":0},{"$f":"VLOOKUP($A13,'Data Pass Through'!$A:$D,3,FALSE)","v":0.11799999999999999},{"$f":"E13*F13","v":0},0,"N/A",{"$f":"G13/$G$49","v":0}]
["Sub-Total:  Energy (RPP Tiered)",null,null,{"$f":"SUM(D12:D13)","v":35.35},null,null,{"$f":"SUM(G12:G13)","v":35.35},0,0,{"$f":"G14/$G$49","v":0.47171105973810706}]
["TOU-Off Peak",{"$f":"B$4*VLOOKUP($B$3,'Data Billing Quantities'!$A:$O,MATCH(BI_UR_Low!$A15,'Data Billing Quantities'!$4:$4,0),FALSE)","v":224},{"$f":"VLOOKUP($A15,'Data Pass Through'!$A:$D,2,FALSE)","v":8.5000000000000006E-2},{"$f":"B15*C15","v":19.040000000000003},224,{"$f":"VLOOKUP($A15,'Data Pass Through'!$A:$D,3,FALSE)","v":8.5000000000000006E-2},{"$f":"E15*F15","v":19.040000000000003},0,0,null,{"$f":"G15/$G$54","v":0.24680016969274529}]
["TOU-Mid Peak",{"$f":"B$4*VLOOKUP($B$3,'Data Billing Quantities'!$A:$O,MATCH(BI_UR_Low!$A16,'Data Billing Quantities'!$4:$4,0),FALSE)","v":63},{"$f":"VLOOKUP($A16,'Data Pass Through'!$A:$D,2,FALSE)","v":0.11899999999999999},{"$f":"B16*C16","v":7.4969999999999999},63,{"$f":"VLOOKUP($A16,'Data Pass Through'!$A:$D,3,FALSE)","v":0.11899999999999999},{"$f":"E16*F16","v":7.4969999999999999},0,0,null,9.7177566816518443E-2]
["TOU-On Peak",{"$f":"B$4*VLOOKUP($B$3,'Data Billing Quantities'!$A:$O,MATCH(BI_UR_Low!$A17,'Data Billing Quantities'!$4:$4,0),FALSE)","v":63},{"$f":"VLOOKUP($A17,'Data Pass Through'!$A:$D,2,FALSE)","v":0.17599999999999999},{"$f":"B17*C17","v":11.087999999999999},63,{"$f":"VLOOKUP($A17,'Data Pass Through'!$A:$D,3,FALSE)","v":0.17599999999999999},{"$f":"E17*F17","v":11.087999999999999},0,0,null,0.14372480470342222]
["Sub-Total:  Energy (RPP TOU)",null,null,{"$f":"SUM(D15:D17)","v":37.625},null,null,{"$f":"SUM(G15:G17)","v":37.625},0,0,{"$f":"G18/$G$49","v":0.50206870219650013},0.48770254121268591]
["Service Charge",1,{"$f":"IF(ISERROR(VLOOKUP($B$3,'Data Current Rates'!$A:$BE,MATCH(BI_UR_Low!$A19,CurrentHeader,0),FALSE)),0,VLOOKUP($B$3,'Data Current Rates'!$A:$BE,MATCH(BI_UR_Low!$A19,CurrentHeader,0),FALSE))","v":35.92},{"$f":"B19*C19","v":35.92},1,{"$f":"VLOOKUP($B$3,'Data Proposed Rates'!$A:$BC,MATCH(BI_UR_Low!$A19,ProposedHeader,0),FALSE)","v":35.92},{"$f":"E19*F19","v":35.92},0,0,0.47931715037603412,0.46560200080690178]
["Base Rate Adjustment to Recover Past Tax Amounts FIXED",null,null,null,1,{"$f":"VLOOKUP($B$3,'Data Proposed Rates'!$A:$BC,MATCH(BI_UR_Low!$A20,ProposedHeader,0),FALSE)","v":0.83},0.83,0.83,"N/A",1.1075535490314819E-2,1.0758620842698453E-2]
["Fixed Deferral/Variance Account Rider (General)",1,{"$f":"IF(ISERROR(VLOOKUP($B$3,'Data Current Rates'!$A:$BE,MATCH(BI_UR_Low!$A21,CurrentHeader,0),FALSE)),0,VLOOKUP($B$3,'Data Current Rates'!$A:$BE,MATCH(BI_UR_Low!$A21,CurrentHeader,0),FALSE))","v":-0.14000000000000001},-0.14000000000000001,1,{"$f":"VLOOKUP($B$3,'Data Proposed Rates'!$A:$BC,MATCH(BI_UR_Low!$A21,ProposedHeader,0),FALSE)","v":-0.14000000000000001},-0.14000000000000001,0,0,-1.8681626128241866E-3,-1.8147071300937154E-3]
["Fixed ESM Rider",1,{"$f":"IF(ISERROR(VLOOKUP($B$3,'Data Current Rates'!$A:$BE,MATCH(BI_UR_Low!$A22,CurrentHeader,0),FALSE)),0,VLOOKUP($B$3,'Data Current Rates'!$A:$BE,MATCH(BI_UR_Low!$A22,CurrentHeader,0),FALSE))","v":-0.5},-0.5,1,{"$f":"VLOOKUP($B$3,'Data Proposed Rates'!$A:$BC,MATCH(BI_UR_Low!$A22,ProposedHeader,0),FALSE)","v":-0.5},-0.5,0,0,-6.6720093315149514E-3,-6.4810968931918395E-3]
["Distribution Volumetric Charge",{"$f":"IF($B$9=\"kWh\",$B$4,$B$5)","v":350},{"$f":"IF(ISERROR(VLOOKUP($B$3,'Data Current Rates'!$A:$BE,MATCH(BI_UR_Low!$A23,CurrentHeader,0),FALSE)),0,VLOOKUP($B$3,'Data Current Rates'!$A:$BE,MATCH(BI_UR_Low!$A23,CurrentHeader,0),FALSE))","v":0},0,{"$f":"IF($B$9=\"kWh\",$B$4,$B$5)","v":350},{"$f":"VLOOKUP($B$3,'Data Proposed Rates'!$A:$BC,MATCH(BI_UR_Low!$A23,ProposedHeader,0),FALSE)","v":0},0,0,"N/A",0,0]
["Base Rate Adjustment to Recover Past Tax Amounts VOL"]
["Volumetric Deferral/Variance Account Rider (General)",{"$f":"IF($B$9=\"kWh\",$B$4,$B$5)","v":350},{"$f":"IF(ISERROR(VLOOKUP($B$3,'Data Current Rates'!$A:$BE,MATCH(BI_UR_Low!$A25,CurrentHeader,0),FALSE)),0,VLOOKUP($B$3,'Data Current Rates'!$A:$BE,MATCH(BI_UR_Low!$A25,CurrentHeader,0),FALSE))","v":-6.9999999999999999E-4},-0.245,{"$f":"IF($B$9=\"kWh\",$B$4,$B$5)","v":350},{"$f":"VLOOKUP($B$3,'Data Proposed Rates'!$A:$BC,MATCH(BI_UR_Low!$A25,ProposedHeader,0),FALSE)","v":-6.9999999999999999E-4},-0.245,0,0,-3.2692845724423261E-3,-3.1757374776640013E-3]
["Volumetric ESM Rider",350,{"$f":"IF(ISERROR(VLOOKUP($B$3,'Data Current Rates'!$A:$BE,MATCH(BI_UR_Low!$A26,CurrentHeader,0),FALSE)),0,VLOOKUP($B$3,'Data Current Rates'!$A:$BE,MATCH(BI_UR_Low!$A26,CurrentHeader,0),FALSE))","v":0},0,350,{"$f":"VLOOKUP($B$3,'Data Proposed Rates'!$A:$BC,MATCH(BI_UR_Low!$A26,ProposedHeader,0),FALSE)","v":0},0,0,"N/A",0,0]
["Fair Hydro Plan - Distribution Rate Protection Savings*",null,null,{"$f":"IF(AND(B3<>\"R1\",B3<>\"R2\"),0,IF(VLOOKUP($A27,'Data Pass Through'!$A:$D,2,FALSE)=0,0,IF(SUM(D19:D20,D23:D24)<VLOOKUP($A27,'Data Pass Through'!$A:$D,2,FALSE),0,VLOOKUP($A27,'Data Pass Through'!$A:$D,2,FALSE)-SUM(D19:D20,D23:D24))))","v":0},null,null,{"$f":"IF(AND(B3<>\"R1\",B3<>\"R2\"),0,IF(VLOOKUP($A27,'Data Pass Through'!$A:$D,2,FALSE)=0,0,IF(SUM(G19:G20,G23:G24)<VLOOKUP($A27,'Data Pass Through'!$A:$D,2,FALSE),0,VLOOKUP($A27,'Data Pass Through'!$A:$D,2,FALSE)-SUM(G19:G20,G23:G24))))","v":0},0,"N/A",0,0]
["Sub-Total:  Distribution (excluding pass through)",null,null,{"$f":"SUM(INDIRECT(\"D19:D\"&ROW()-1))","v":35.035000000000004},null,null,{"$f":"SUM(INDIRECT(\"g19:g\"&ROW()-1))","v":35.865000000000002},{"$f":"G28-D28","v":0.82999999999999829},2.3690595119166498E-2,0.47858322934956748,0.46488908014865066]
["Smart Metering Entity Charge",1,{"$f":"VLOOKUP($A29,'Data Pass Through'!$A:$D,2,FALSE)","v":0.56999999999999995},{"$f":"B29*C29","v":0.56999999999999995},1,{"$f":"VLOOKUP($A29,'Data Pass Through'!$A:$D,3,FALSE)","v":0.56999999999999995},{"$f":"E29*F29","v":0.56999999999999995},0,0,7.6060906379270439E-3,7.3884504582386965E-3]
["Line Losses on Cost of Power (based on two-tier RPP prices)",{"$f":"B8-B4","v":19.949999999999989},{"$f":"IF(B4>B7,C13,C12)","v":0.10100000000000001},{"$f":"B30*C30","v":2.0149499999999989},19.949999999999989,{"$f":"IF(B4>B7,F13,F12)","v":0.10100000000000001},{"$f":"E30*F30","v":2.0149499999999989},0,0,2.6887530405072087E-2,2.6118172369873779E-2]
["Line Losses on Cost of Power (based on TOU prices)",{"$f":"B8-B4","v":19.949999999999989},{"$f":"VLOOKUP($B$3,'Data Billing Quantities'!$A:$O,MATCH(BI_UR_Low!$A15,'Data Billing Quantities'!$4:$4,0),FALSE)*C15+VLOOKUP($B$3,'Data Billing Quantities'!$A:$O,MATCH(BI_UR_Low!$A16,'Data Billing Quantities'!$4:$4,0),FALSE)*C16+VLOOKUP($B$3,'Data Billing Quantities'!$A:$O,MATCH(BI_UR_Low!$A17,'Data Billing Quantities'!$4:$4,0),FALSE)*C17","v":0.1075},{"$f":"B31*C31","v":2.1446249999999987},19.949999999999989,{"$f":"VLOOKUP($B$3,'Data Billing Quantities'!$A:$O,MATCH(BI_UR_Low!$A15,'Data Billing Quantities'!$4:$4,0),FALSE)*F15+VLOOKUP($B$3,'Data Billing Quantities'!$A:$O,MATCH(BI_UR_Low!$A16,'Data Billing Quantities'!$4:$4,0),FALSE)*F16+VLOOKUP($B$3,'Data Billing Quantities'!$A:$O,MATCH(BI_UR_Low!$A17,'Data Billing Quantities'!$4:$4,0),FALSE)*F17","v":0.1075},{"$f":"E31*F31","v":2.1446249999999987},0,0,2.8617916025200488E-2,2.7799044849123079E-2]
["Sub-Total:  Distribution (based on two-tier RPP prices)",null,null,{"$f":"SUM(D28,D29:D30)","v":37.619950000000003},null,null,{"$f":"SUM(G28,G29:G30)","v":38.449950000000001},0.82999999999999829,2.2062761912230035E-2,0.51307685039256667,0.49839570297676317]
["Sub-Total:  Distribution (based on TOU prices)",null,null,{"$f":"SUM(D28,D29,D31)","v":37.749625000000002},null,null,{"$f":"SUM(G28,G29,G31)","v":38.579625},0.82999999999999829,2.1986973380530225E-2,0.51480723601269507,0.50007657545601247]
["Retail Transmission Rate – Network Service Rate",{"$f":"B8","v":369.95},{"$f":"VLOOKUP($B$3,'Data Current Rates'!$A:$BE,MATCH(BI_UR_Low!$A34,CurrentHeader,0),FALSE)","v":8.8999999999999999E-3},{"$f":"B34*C34","v":3.2925549999999997},369.95,{"$f":"VLOOKUP($B$3,'Data Proposed Rates'!$A:$BC,MATCH(BI_UR_Low!$A34,ProposedHeader,0),FALSE)","v":8.8999999999999999E-3},{"$f":"E34*F34","v":3.2925549999999997},{"$f":"G34-D34","v":0},0,4.393591536905242E-2,4.2678735962326513E-2]
["Retail Transmission Rate – Line and Transformation Connection Service Rate",{"$f":"B8","v":369.95},{"$f":"VLOOKUP($B$3,'Data Current Rates'!$A:$BE,MATCH(BI_UR_Low!$A35,CurrentHeader,0),FALSE)","v":7.7000000000000002E-3},{"$f":"B35*C35","v":2.8486150000000001},369.95,{"$f":"VLOOKUP($B$3,'Data Proposed Rates'!$A:$BC,MATCH(BI_UR_Low!$A35,ProposedHeader,0),FALSE)","v":7.7000000000000002E-3},{"$f":"E35*F35","v":2.8486150000000001},{"$f":"G35-D35","v":0},0,3.8011971723786932E-2,3.6924299652799343E-2]
["Sub-Total:  Retail Transmission ",null,null,{"$f":"SUM(D34:D35)","v":6.1411699999999998},null,null,{"$f":"SUM(G34:G35)","v":6.1411699999999998},{"$f":"G36-D36","v":0},0,8.1947887092839344E-2,7.9603035615125856E-2]
["Sub-Total:  Delivery (based on two-tier RPP prices)",null,null,{"$f":"D32+D36","v":43.761120000000005},null,null,{"$f":"G32+G36","v":44.591120000000004},{"$f":"G37-D37","v":0.82999999999999829},1.8966607801628437E-2,0.59502473748540596,0.57799873859188899]
["Sub-Total:  Delivery (based on TOU prices)",null,null,{"$f":"D33+D36","v":43.890795000000004},null,null,{"$f":"G33+G36","v":44.720795000000003},{"$f":"G38-D38","v":0.82999999999999829},1.8910571111778636E-2,0.59675512310553436,0.5796796110711383]
["Wholesale Market Service Rate (WMS) - not including CBR",{"$f":"B8","v":369.95},{"$f":"VLOOKUP($A39,'Data Pass Through'!$A:$D,2,FALSE)","v":3.0000000000000001E-3},{"$f":"B39*C39","v":1.10985},{"$f":"$B$8","v":369.95},{"$f":"VLOOKUP($A39,'Data Pass Through'!$A:$D,3,FALSE)","v":3.0000000000000001E-3},{"$f":"E39*F39","v":1.10985},0,0,1.4809859113163739E-2,1.4386090773817927E-2]
["Capacity Based Recovery (CBR) - Applicable for Class B Customers",{"$f":"B8","v":369.95},{"$f":"VLOOKUP($A40,'Data Pass Through'!$A:$D,2,FALSE)","v":4.0000000000000002E-4},{"$f":"B40*C40","v":0.14798},{"$f":"$B$8","v":369.95},{"$f":"VLOOKUP($A40,'Data Pass Through'!$A:$D,3,FALSE)","v":4.0000000000000002E-4},{"$f":"E40*F40","v":0.14798},0,0,1.9746478817551649E-3,1.9181454365090568E-3]
["Rural Rate Protection Charge",{"$f":"B8","v":369.95},{"$f":"VLOOKUP($A41,'Data Pass Through'!$A:$D,2,FALSE)","v":5.0000000000000001E-4},0.184975,369.95,{"$f":"VLOOKUP($A41,'Data Pass Through'!$A:$D,3,FALSE)","v":5.0000000000000001E-4},0.184975,0,0,2.4683098521939562E-3,2.3976817956363212E-3]
["Standard Supply Service – Administration Charge (if applicable)",1,{"$f":"VLOOKUP($A42,'Data Pass Through'!$A:$D,2,FALSE)","v":0.25},{"$f":"B42*C42","v":0.25},1,{"$f":"VLOOKUP($A42,'Data Pass Through'!$A:$D,3,FALSE)","v":0.25},0.25,0,0,3.3360046657574757E-3,3.2405484465959197E-3]
["Sub-Total:  Regulatory",null,null,{"$f":"SUM(D39:D42)","v":1.6928049999999999},null,null,{"$f":"SUM(G39:G42)","v":1.6928049999999999},0,0,2.2588821512870335E-2,2.1942466452559223E-2]
["Debt Retirement Charge (DRC)",{"$f":"B4","v":350},{"$f":"VLOOKUP($A44,'Data Pass Through'!$A:$D,2,FALSE)","v":0},{"$f":"B44*C44","v":0},350,{"$f":"VLOOKUP($A44,'Data Pass Through'!$A:$D,3,FALSE)","v":0},{"$f":"E44*F44","v":0},0,"N/A",0,0]
["Total  Electricty Charge on Two-Tier RPP ",null,null,{"$f":"SUM(D14,D28,D29,D30,D36,D43,D44)","v":80.803924999999992},null,null,{"$f":"SUM(G14,G28,G29,G30,G36,G43,G44)","v":81.633925000000005},0.83000000000001251,1.0271778258296395E-2,1.0893246187363834]
["     HST",null,0.13,{"$f":"D45*C46","v":10.504510249999999},null,{"$f":"C46","v":0.13},{"$f":"G45*F46","v":10.612410250000002},0.10790000000000255,1.0271778258296484E-2,0.14161220043572986]
["Total Electricity Charge on Two-Tier RPP (including HST)",null,null,{"$f":"SUM(D45:D46)","v":91.308435249999988},null,null,{"$f":"SUM(G45:G46)","v":92.246335250000001},0.93790000000001328,1.0271778258296387E-2,1.2309368191721133]
["Ontario Electricity Rebate (OER)",null,{"$f":"'Data Pass Through'!B20","v":-0.21199999999999999},{"$f":"D45*C48","v":-17.130432099999997},null,{"$f":"'Data Pass Through'!C20","v":-0.21199999999999999},{"$f":"G45*F48","v":-17.3063921},-0.17596000000000345,-1.0271778258296444E-2,-0.23093681917211328]
["Total Amount on Two-Tier RPP",null,null,{"$f":"SUM(D47:D48)","v":74.178003149999995},null,null,{"$f":"SUM(G47:G48)","v":74.939943150000005},0.76194000000000983,1.0271778258296373E-2,1]
["Total Electricty Charge on TOU (before HST)",null,null,{"$f":"SUM(D18,D28,D29,D31,D36,D43,D44)","v":83.20859999999999},null,null,{"$f":"SUM(G18,G28,G29,G31,G36,G43,G44)","v":84.038600000000002},0.83000000000001251,9.9749304759365331E-3,null,{"$f":"G50/$G$54","v":1.0893246187363834}]
["     HST",null,0.13,{"$f":"D50*C51","v":10.817117999999999},null,{"$f":"C51","v":0.13},{"$f":"G50*F51","v":10.925018000000001},0.10790000000000255,9.9749304759366181E-3,null,{"$f":"G51/$G$54","v":0.14161220043572986}]
["Total Electricity Charge on TOU (including HST)",null,null,{"$f":"SUM(D50:D51)","v":94.025717999999983},null,null,{"$f":"SUM(G50:G51)","v":94.963617999999997},0.93790000000001328,9.9749304759365245E-3,null,{"$f":"G52/$G$54","v":1.2309368191721133}]
["Ontario Electricity Rebate (OER)",null,{"$f":"'Data Pass Through'!B20","v":-0.21199999999999999},{"$f":"D50*C53","v":-17.640223199999998},null,{"$f":"'Data Pass Through'!C20","v":-0.21199999999999999},{"$f":"G50*F53","v":-17.816183200000001},-0.17596000000000345,-9.9749304759365783E-3,null,{"$f":"G53/$G$54","v":-0.23093681917211331}]
["Total Amount on TOU",null,null,{"$f":"SUM(D52:D53)","v":76.385494799999989},null,null,{"$f":"SUM(G52:G53)","v":77.147434799999999},0.76194000000000983,9.9749304759365123E-3,null,{"$f":"G54/$G$54","v":1}]
["* Distribution rate protection applies to R1 and R2 customers"]

{"sheet":"BI_UR_Typical","index":12,"n_rows":55,"n_cols":11,"rows_kept":55,"cut":false,"hidden":false,"merged":[[0,0,0,10]]}
["2021 Bill Impacts (Typical Consumption Level) - UR"]
[]
["Rate Class",{"$f":"RIGHT(A1,LEN(A1)-FIND(\"- \",A1,1)-1)","v":"UR"}]
["Monthly Consumption (kWh)",{"$f":"IF(COUNTIF(A1,\"*Low*\")>0,VLOOKUP(B3,'Data Billing Quantities'!$A:$Z,MATCH(\"Low kWh\",'Data Billing Quantities'!4:4,0),FALSE),IF(COUNTIF(A1,\"*Typical*\")>0,VLOOKUP(B3,'Data Billing Quantities'!$A:$Z,MATCH(\"Typical kWh\",'Data Billing Quantities'!4:4,0),FALSE),IF(COUNTIF(A1,\"*Average*\")>0,VLOOKUP(B3,'Data Billing Quantities'!$A:$Z,MATCH(\"Average kWh\",'Data Billing Quantities'!4:4,0),FALSE),IF(COUNTIF(A1,\"*High*\")>0,VLOOKUP(B3,'Data Billing Quantities'!$A:$Z,MATCH(\"High kWh\",'Data Billing Quantities'!4:4,0),FALSE),\"error\"))))","v":750}]
["Peak (kW)",{"$f":"IF(COUNTIF(A1,\"*Low*\")>0,VLOOKUP(B3,'Data Billing Quantities'!$A:$Z,MATCH(\"Low kW\",'Data Billing Quantities'!4:4,0),FALSE),IF(COUNTIF(A1,\"*Typical*\")>0,VLOOKUP(B3,'Data Billing Quantities'!$A:$Z,MATCH(\"Typical kW\",'Data Billing Quantities'!4:4,0),FALSE),IF(COUNTIF(A1,\"*Average*\")>0,VLOOKUP(B3,'Data Billing Quantities'!$A:$Z,MATCH(\"Average kW\",'Data Billing Quantities'!4:4,0),FALSE),IF(COUNTIF(A1,\"*High*\")>0,VLOOKUP(B3,'Data Billing Quantities'!$A:$Z,MATCH(\"High kW\",'Data Billing Quantities'!4:4,0),FALSE),\"error\"))))","v":0}]
["Loss factor",{"$f":"VLOOKUP(B3,'Data Billing Quantities'!A:D,MATCH(A6,'Data Billing Quantities'!4:4,0),FALSE)","v":1.0569999999999999}]
["Commodity Threshold",{"$f":"VLOOKUP(B3,'Data Billing Quantities'!A:D,MATCH(A7,'Data Billing Quantities'!4:4,0),FALSE)","v":600}]
["Monthly Consumption (kWh) - Uplifted",{"$f":"B4*B6","v":792.75}]
["Charge determinant",{"$f":"VLOOKUP(B3,'Data Billing Quantities'!A:D,MATCH(A9,'Data Billing Quantities'!4:4,0),FALSE)","v":"kWh"}]
[]
[null,"Volume","Current Rate ($)","Current Charge ($)","Volume","Proposed Rate ($)","Proposed Charge ($)","Change ($)","Change (%)","% of Total Bill on RPP","% of Total Bill on TOU"]
["Energy First Tier",{"$f":"IF(B4>B7,B7,B4)","v":600},{"$f":"VLOOKUP($A12,'Data Pass Through'!$A:$D,2,FALSE)","v":0.10100000000000001},{"$f":"B12*C12","v":60.6},{"$f":"B12","v":600},{"$f":"VLOOKUP($A12,'Data Pass Through'!$A:$D,3,FALSE)","v":0.10100000000000001},{"$f":"E12*F12","v":60.6},{"$f":"G12-D12","v":0},{"$f":"IF(ISERROR(H12/ABS(D12)),\"N/A\",(H12/ABS(D12)))","v":0},{"$f":"G12/$G$49","v":0.48538711163016302}]
["Energy Second Tier",{"$f":"IF(B4>B7,(B4)-B7,0)","v":150},{"$f":"VLOOKUP($A13,'Data Pass Through'!$A:$D,2,FALSE)","v":0.11799999999999999},{"$f":"B13*C13","v":17.7},{"$f":"B13","v":150},{"$f":"VLOOKUP($A13,'Data Pass Through'!$A:$D,3,FALSE)","v":0.11799999999999999},{"$f":"E13*F13","v":17.7},0,0,{"$f":"G13/$G$49","v":0.14177148309989909}]
["Sub-Total:  Energy (RPP Tiered)",null,null,{"$f":"SUM(D12:D13)","v":78.3},null,null,{"$f":"SUM(G12:G13)","v":78.3},0,0,{"$f":"G14/$G$49","v":0.62715859473006208}]
["TOU-Off Peak",{"$f":"B$4*VLOOKUP($B$3,'Data Billing Quantities'!$A:$O,MATCH(BI_UR_Typical!$A15,'Data Billing Quantities'!$4:$4,0),FALSE)","v":480},{"$f":"VLOOKUP($A15,'Data Pass Through'!$A:$D,2,FALSE)","v":8.5000000000000006E-2},{"$f":"B15*C15","v":40.800000000000004},480,{"$f":"VLOOKUP($A15,'Data Pass Through'!$A:$D,3,FALSE)","v":8.5000000000000006E-2},{"$f":"E15*F15","v":40.800000000000004},0,0,null,{"$f":"G15/$G$54","v":0.32234850224797784}]
["TOU-Mid Peak",{"$f":"B$4*VLOOKUP($B$3,'Data Billing Quantities'!$A:$O,MATCH(BI_UR_Typical!$A16,'Data Billing Quantities'!$4:$4,0),FALSE)","v":135},{"$f":"VLOOKUP($A16,'Data Pass Through'!$A:$D,2,FALSE)","v":0.11899999999999999},{"$f":"B16*C16","v":16.064999999999998},135,{"$f":"VLOOKUP($A16,'Data Pass Through'!$A:$D,3,FALSE)","v":0.11899999999999999},{"$f":"E16*F16","v":16.064999999999998},0,0,null,0.12692472276014125]
["TOU-On Peak",{"$f":"B$4*VLOOKUP($B$3,'Data Billing Quantities'!$A:$O,MATCH(BI_UR_Typical!$A17,'Data Billing Quantities'!$4:$4,0),FALSE)","v":135},{"$f":"VLOOKUP($A17,'Data Pass Through'!$A:$D,2,FALSE)","v":0.17599999999999999},{"$f":"B17*C17","v":23.759999999999998},135,{"$f":"VLOOKUP($A17,'Data Pass Through'!$A:$D,3,FALSE)","v":0.17599999999999999},{"$f":"E17*F17","v":23.759999999999998},0,0,null,0.18772059836794]
["Sub-Total:  Energy (RPP TOU)",null,null,{"$f":"SUM(D15:D17)","v":80.625},null,null,{"$f":"SUM(G15:G17)","v":80.625},0,0,{"$f":"G18/$G$49","v":0.64578112005250643},0.63699382337605914]
["Service Charge",1,{"$f":"IF(ISERROR(VLOOKUP($B$3,'Data Current Rates'!$A:$BE,MATCH(BI_UR_Typical!$A19,CurrentHeader,0),FALSE)),0,VLOOKUP($B$3,'Data Current Rates'!$A:$BE,MATCH(BI_UR_Typical!$A19,CurrentHeader,0),FALSE))","v":35.92},{"$f":"B19*C19","v":35.92},1,{"$f":"VLOOKUP($B$3,'Data Proposed Rates'!$A:$BC,MATCH(BI_UR_Typical!$A19,ProposedHeader,0),FALSE)","v":35.92},{"$f":"E19*F19","v":35.92},0,0,0.28770800412137715,0.28379309315557266]
["Base Rate Adjustment to Recover Past Tax Amounts FIXED",null,null,null,1,{"$f":"VLOOKUP($B$3,'Data Proposed Rates'!$A:$BC,MATCH(BI_UR_Typical!$A20,ProposedHeader,0),FALSE)","v":0.83},0.83,0.83,"N/A",6.6480412979048721E-3,6.557579825142686E-3]
["Fixed Deferral/Variance Account Rider (General)",1,{"$f":"IF(ISERROR(VLOOKUP($B$3,'Data Current Rates'!$A:$BE,MATCH(BI_UR_Typical!$A21,CurrentHeader,0),FALSE)),0,VLOOKUP($B$3,'Data Current Rates'!$A:$BE,MATCH(BI_UR_Typical!$A21,CurrentHeader,0),FALSE))","v":-0.14000000000000001},-0.14000000000000001,1,{"$f":"VLOOKUP($B$3,'Data Proposed Rates'!$A:$BC,MATCH(BI_UR_Typical!$A21,ProposedHeader,0),FALSE)","v":-0.14000000000000001},-0.14000000000000001,0,0,-1.1213563635020269E-3,-1.1060978018312966E-3]
["Fixed ESM Rider",1,{"$f":"IF(ISERROR(VLOOKUP($B$3,'Data Current Rates'!$A:$BE,MATCH(BI_UR_Typical!$A22,CurrentHeader,0),FALSE)),0,VLOOKUP($B$3,'Data Current Rates'!$A:$BE,MATCH(BI_UR_Typical!$A22,CurrentHeader,0),FALSE))","v":-0.5},-0.5,1,{"$f":"VLOOKUP($B$3,'Data Proposed Rates'!$A:$BC,MATCH(BI_UR_Typical!$A22,ProposedHeader,0),FALSE)","v":-0.5},-0.5,0,0,-4.0048441553643807E-3,-3.9503492922546299E-3]
["Distribution Volumetric Charge",{"$f":"IF($B$9=\"kWh\",$B$4,$B$5)","v":750},{"$f":"IF(ISERROR(VLOOKUP($B$3,'Data Current Rates'!$A:$BE,MATCH(BI_UR_Typical!$A23,CurrentHeader,0),FALSE)),0,VLOOKUP($B$3,'Data Current Rates'!$A:$BE,MATCH(BI_UR_Typical!$A23,CurrentHeader,0),FALSE))","v":0},0,{"$f":"IF($B$9=\"kWh\",$B$4,$B$5)","v":750},{"$f":"VLOOKUP($B$3,'Data Proposed Rates'!$A:$BC,MATCH(BI_UR_Typical!$A23,ProposedHeader,0),FALSE)","v":0},0,0,"N/A",0,0]
["Base Rate Adjustment to Recover Past Tax Amounts VOL"]
["Volumetric Deferral/Variance Account Rider (General)",{"$f":"IF($B$9=\"kWh\",$B$4,$B$5)","v":750},{"$f":"IF(ISERROR(VLOOKUP($B$3,'Data Current Rates'!$A:$BE,MATCH(BI_UR_Typical!$A25,CurrentHeader,0),FALSE)),0,VLOOKUP($B$3,'Data Current Rates'!$A:$BE,MATCH(BI_UR_Typical!$A25,CurrentHeader,0),FALSE))","v":-6.9999999999999999E-4},-0.52500000000000002,{"$f":"IF($B$9=\"kWh\",$B$4,$B$5)","v":750},{"$f":"VLOOKUP($B$3,'Data Proposed Rates'!$A:$BC,MATCH(BI_UR_Typical!$A25,ProposedHeader,0),FALSE)","v":-6.9999999999999999E-4},-0.52500000000000002,0,0,-4.2050863631326006E-3,-4.1478667568673614E-3]
["Volumetric ESM Rider",750,{"$f":"IF(ISERROR(VLOOKUP($B$3,'Data Current Rates'!$A:$BE,MATCH(BI_UR_Typical!$A26,CurrentHeader,0),FALSE)),0,VLOOKUP($B$3,'Data Current Rates'!$A:$BE,MATCH(BI_UR_Typical!$A26,CurrentHeader,0),FALSE))","v":0},0,750,{"$f":"VLOOKUP($B$3,'Data Proposed Rates'!$A:$BC,MATCH(BI_UR_Typical!$A26,ProposedHeader,0),FALSE)","v":0},0,0,"N/A",0,0]
["Fair Hydro Plan - Distribution Rate Protection Savings*",null,null,{"$f":"IF(AND(B3<>\"R1\",B3<>\"R2\"),0,IF(VLOOKUP($A27,'Data Pass Through'!$A:$D,2,FALSE)=0,0,IF(SUM(D19:D20,D23:D24)<VLOOKUP($A27,'Data Pass Through'!$A:$D,2,FALSE),0,VLOOKUP($A27,'Data Pass Through'!$A:$D,2,FALSE)-SUM(D19:D20,D23:D24))))","v":0},null,null,{"$f":"IF(AND(B3<>\"R1\",B3<>\"R2\"),0,IF(VLOOKUP($A27,'Data Pass Through'!$A:$D,2,FALSE)=0,0,IF(SUM(G19:G20,G23:G24)<VLOOKUP($A27,'Data Pass Through'!$A:$D,2,FALSE),0,VLOOKUP($A27,'Data Pass Through'!$A:$D,2,FALSE)-SUM(G19:G20,G23:G24))))","v":0},0,"N/A",0,0]
["Sub-Total:  Distribution (excluding pass through)",null,null,{"$f":"SUM(INDIRECT(\"D19:D\"&ROW()-1))","v":34.755000000000003},null,null,{"$f":"SUM(INDIRECT(\"g19:g\"&ROW()-1))","v":35.585000000000001},{"$f":"G28-D28","v":0.82999999999999829},2.388145590562504E-2,0.28502475853728299,0.28114635912976205]
["Smart Metering Entity Charge",1,{"$f":"VLOOKUP($A29,'Data Pass Through'!$A:$D,2,FALSE)","v":0.56999999999999995},{"$f":"B29*C29","v":0.56999999999999995},1,{"$f":"VLOOKUP($A29,'Data Pass Through'!$A:$D,3,FALSE)","v":0.56999999999999995},{"$f":"E29*F29","v":0.56999999999999995},0,0,4.5655223371153944E-3,4.503398193170278E-3]
["Line Losses on Cost of Power (based on two-tier RPP prices)",{"$f":"B8-B4","v":42.75},{"$f":"IF(B4>B7,C13,C12)","v":0.11799999999999999},{"$f":"B30*C30","v":5.0444999999999993},42.75,{"$f":"IF(B4>B7,F13,F12)","v":0.11799999999999999},{"$f":"E30*F30","v":5.0444999999999993},0,0,4.0404872683471232E-2,3.9855074009556957E-2]
["Line Losses on Cost of Power (based on TOU prices)",{"$f":"B8-B4","v":42.75},{"$f":"VLOOKUP($B$3,'Data Billing Quantities'!$A:$O,MATCH(BI_UR_Typical!$A15,'Data Billing Quantities'!$4:$4,0),FALSE)*C15+VLOOKUP($B$3,'Data Billing Quantities'!$A:$O,MATCH(BI_UR_Typical!$A16,'Data Billing Quantities'!$4:$4,0),FALSE)*C16+VLOOKUP($B$3,'Data Billing Quantities'!$A:$O,MATCH(BI_UR_Typical!$A17,'Data Billing Quantities'!$4:$4,0),FALSE)*C17","v":0.1075},{"$f":"B31*C31","v":4.5956250000000001},42.75,{"$f":"VLOOKUP($B$3,'Data Billing Quantities'!$A:$O,MATCH(BI_UR_Typical!$A15,'Data Billing Quantities'!$4:$4,0),FALSE)*F15+VLOOKUP($B$3,'Data Billing Quantities'!$A:$O,MATCH(BI_UR_Typical!$A16,'Data Billing Quantities'!$4:$4,0),FALSE)*F16+VLOOKUP($B$3,'Data Billing Quantities'!$A:$O,MATCH(BI_UR_Typical!$A17,'Data Billing Quantities'!$4:$4,0),FALSE)*F17","v":0.1075},{"$f":"E31*F31","v":4.5956250000000001},0,0,3.6809523842992867E-2,3.6308647932435371E-2]
["Sub-Total:  Distribution (based on two-tier RPP prices)",null,null,{"$f":"SUM(D28,D29:D30)","v":40.369500000000002},null,null,{"$f":"SUM(G28,G29:G30)","v":41.1995},0.82999999999999829,2.0560076295222836E-2,0.32999515355786962,0.32550483133248925]
["Sub-Total:  Distribution (based on TOU prices)",null,null,{"$f":"SUM(D28,D29,D31)","v":39.920625000000001},null,null,{"$f":"SUM(G28,G29,G31)","v":40.750624999999999},0.82999999999999829,2.0791257651902952E-2,0.32639980471739127,0.32195840525536767]
["Retail Transmission Rate – Network Service Rate",{"$f":"B8","v":792.75},{"$f":"VLOOKUP($B$3,'Data Current Rates'!$A:$BE,MATCH(BI_UR_Typical!$A34,CurrentHeader,0),FALSE)","v":8.8999999999999999E-3},{"$f":"B34*C34","v":7.0554749999999995},792.75,{"$f":"VLOOKUP($B$3,'Data Proposed Rates'!$A:$BC,MATCH(BI_UR_Typical!$A34,ProposedHeader,0),FALSE)","v":8.8999999999999999E-3},{"$f":"E34*F34","v":7.0554749999999995},{"$f":"G34-D34","v":0},0,5.6512155634139007E-2,5.5743181345540467E-2]
["Retail Transmission Rate – Line and Transformation Connection Service Rate",{"$f":"B8","v":792.75},{"$f":"VLOOKUP($B$3,'Data Current Rates'!$A:$BE,MATCH(BI_UR_Typical!$A35,CurrentHeader,0),FALSE)","v":7.7000000000000002E-3},{"$f":"B35*C35","v":6.1041750000000006},792.75,{"$f":"VLOOKUP($B$3,'Data Proposed Rates'!$A:$BC,MATCH(BI_UR_Typical!$A35,ProposedHeader,0),FALSE)","v":7.7000000000000002E-3},{"$f":"E35*F35","v":6.1041750000000006},{"$f":"G35-D35","v":0},0,4.8892539144142745E-2,4.8227246782096819E-2]
["Sub-Total:  Retail Transmission ",null,null,{"$f":"SUM(D34:D35)","v":13.159649999999999},null,null,{"$f":"SUM(G34:G35)","v":13.159649999999999},{"$f":"G36-D36","v":0},0,0.10540469477828175,0.10397042812763728]
["Sub-Total:  Delivery (based on two-tier RPP prices)",null,null,{"$f":"D32+D36","v":53.529150000000001},null,null,{"$f":"G32+G36","v":54.35915},{"$f":"G37-D37","v":0.82999999999999829},1.5505570329437293E-2,0.43539984833615136,0.42947525946012655]
["Sub-Total:  Delivery (based on TOU prices)",null,null,{"$f":"D33+D36","v":53.080275},null,null,{"$f":"G33+G36","v":53.910274999999999},{"$f":"G38-D38","v":0.82999999999999829},1.5636693668222297E-2,0.43180449949567301,0.42592883338300491]
["Wholesale Market Service Rate (WMS) - not including CBR",{"$f":"B8","v":792.75},{"$f":"VLOOKUP($A39,'Data Pass Through'!$A:$D,2,FALSE)","v":3.0000000000000001E-3},{"$f":"B39*C39","v":2.37825},{"$f":"$B$8","v":792.75},{"$f":"VLOOKUP($A39,'Data Pass Through'!$A:$D,3,FALSE)","v":3.0000000000000001E-3},{"$f":"E39*F39","v":2.37825},0,0,1.9049041224990678E-2,1.8789836408609147E-2]
["Capacity Based Recovery (CBR) - Applicable for Class B Customers",{"$f":"B8","v":792.75},{"$f":"VLOOKUP($A40,'Data Pass Through'!$A:$D,2,FALSE)","v":4.0000000000000002E-4},{"$f":"B40*C40","v":0.31709999999999999},{"$f":"$B$8","v":792.75},{"$f":"VLOOKUP($A40,'Data Pass Through'!$A:$D,3,FALSE)","v":4.0000000000000002E-4},{"$f":"E40*F40","v":0.31709999999999999},0,0,2.5398721633320904E-3,2.5053115211478862E-3]
["Rural Rate Protection Charge",{"$f":"B8","v":792.75},{"$f":"VLOOKUP($A41,'Data Pass Through'!$A:$D,2,FALSE)","v":5.0000000000000001E-4},0.39637500000000003,792.75,{"$f":"VLOOKUP($A41,'Data Pass Through'!$A:$D,3,FALSE)","v":5.0000000000000001E-4},0.39637500000000003,0,0,3.1748402041651132E-3,3.1316394014348583E-3]
["Standard Supply Service – Administration Charge (if applicable)",1,{"$f":"VLOOKUP($A42,'Data Pass Through'!$A:$D,2,FALSE)","v":0.25},{"$f":"B42*C42","v":0.25},1,{"$f":"VLOOKUP($A42,'Data Pass Through'!$A:$D,3,FALSE)","v":0.25},0.25,0,0,2.0024220776821903E-3,1.975174646127315E-3]
["Sub-Total:  Regulatory",null,null,{"$f":"SUM(D39:D42)","v":3.3417249999999998},null,null,{"$f":"SUM(G39:G42)","v":3.3417249999999998},0,0,2.6766175670170072E-2,2.6401961977319206E-2]
["Debt Retirement Charge (DRC)",{"$f":"B4","v":750},{"$f":"VLOOKUP($A44,'Data Pass Through'!$A:$D,2,FALSE)","v":0},{"$f":"B44*C44","v":0},750,{"$f":"VLOOKUP($A44,'Data Pass Through'!$A:$D,3,FALSE)","v":0},{"$f":"E44*F44","v":0},0,"N/A",0,0]
["Total  Electricty Charge on Two-Tier RPP ",null,null,{"$f":"SUM(D14,D28,D29,D30,D36,D43,D44)","v":135.170875},null,null,{"$f":"SUM(G14,G28,G29,G30,G36,G43,G44)","v":136.00087499999998},0.82999999999998408,6.1403760240509213E-3,1.0893246187363834]
["     HST",null,0.13,{"$f":"D45*C46","v":17.57221375},null,{"$f":"C46","v":0.13},{"$f":"G45*F46","v":17.680113749999997},0.10789999999999722,6.1403760240508814E-3,0.14161220043572983]
["Total Electricity Charge on Two-Tier RPP (including HST)",null,null,{"$f":"SUM(D45:D46)","v":152.74308875},null,null,{"$f":"SUM(G45:G46)","v":153.68098874999998},0.93789999999998486,6.1403760240509404E-3,1.2309368191721133]
["Ontario Electricity Rebate (OER)",null,{"$f":"'Data Pass Through'!B20","v":-0.21199999999999999},{"$f":"D45*C48","v":-28.656225499999998},null,{"$f":"'Data Pass Through'!C20","v":-0.21199999999999999},{"$f":"G45*F48","v":-28.832185499999994},-0.17595999999999634,-6.1403760240509118E-3,-0.23093681917211326]
["Total Amount on Two-Tier RPP",null,null,{"$f":"SUM(D47:D48)","v":124.08686324999999},null,null,{"$f":"SUM(G47:G48)","v":124.84880324999999},0.76193999999999562,6.1403760240510037E-3,1]
["Total Electricty Charge on TOU (before HST)",null,null,{"$f":"SUM(D18,D28,D29,D31,D36,D43,D44)","v":137.04699999999997},null,null,{"$f":"SUM(G18,G28,G29,G31,G36,G43,G44)","v":137.87700000000001},0.83000000000004093,6.0563164461829968E-3,null,{"$f":"G50/$G$54","v":1.0893246187363834}]
["     HST",null,0.13,{"$f":"D50*C51","v":17.816109999999995},null,{"$f":"C51","v":0.13},{"$f":"G50*F51","v":17.924010000000003},0.10790000000000788,6.0563164461831407E-3,null,{"$f":"G51/$G$54","v":0.14161220043572983}]
["Total Electricity Charge on TOU (including HST)",null,null,{"$f":"SUM(D50:D51)","v":154.86310999999995},null,null,{"$f":"SUM(G50:G51)","v":155.80101000000002},0.93790000000007012,6.0563164461831511E-3,null,{"$f":"G52/$G$54","v":1.2309368191721133}]
["Ontario Electricity Rebate (OER)",null,{"$f":"'Data Pass Through'!B20","v":-0.21199999999999999},{"$f":"D50*C53","v":-29.053963999999993},null,{"$f":"'Data Pass Through'!C20","v":-0.21199999999999999},{"$f":"G50*F53","v":-29.229924},-0.175960000000007,-6.0563164461829386E-3,null,{"$f":"G53/$G$54","v":-0.23093681917211326}]
["Total Amount on TOU",null,null,{"$f":"SUM(D52:D53)","v":125.80914599999996},null,null,{"$f":"SUM(G52:G53)","v":126.57108600000002},0.76194000000006668,6.0563164461832283E-3,null,{"$f":"G54/$G$54","v":1}]
["* Distribution rate protection applies to R1 and R2 customers"]

{"sheet":"BI_UR_Avg","index":13,"n_rows":55,"n_cols":11,"rows_kept":55,"cut":false,"hidden":false,"merged":[[0,0,0,10]]}
["2021 Bill Impacts (Average Consumption Level) - UR"]
[]
["Rate Class",{"$f":"RIGHT(A1,LEN(A1)-FIND(\"- \",A1,1)-1)","v":"UR"}]
["Monthly Consumption (kWh)",{"$f":"IF(COUNTIF(A1,\"*Low*\")>0,VLOOKUP(B3,'Data Billing Quantities'!$A:$Z,MATCH(\"Low kWh\",'Data Billing Quantities'!4:4,0),FALSE),IF(COUNTIF(A1,\"*Typical*\")>0,VLOOKUP(B3,'Data Billing Quantities'!$A:$Z,MATCH(\"Typical kWh\",'Data Billing Quantities'!4:4,0),FALSE),IF(COUNTIF(A1,\"*Average*\")>0,VLOOKUP(B3,'Data Billing Quantities'!$A:$Z,MATCH(\"Average kWh\",'Data Billing Quantities'!4:4,0),FALSE),IF(COUNTIF(A1,\"*High*\")>0,VLOOKUP(B3,'Data Billing Quantities'!$A:$Z,MATCH(\"High kWh\",'Data Billing Quantities'!4:4,0),FALSE),\"error\"))))","v":755}]
["Peak (kW)",{"$f":"IF(COUNTIF(A1,\"*Low*\")>0,VLOOKUP(B3,'Data Billing Quantities'!$A:$Z,MATCH(\"Low kW\",'Data Billing Quantities'!4:4,0),FALSE),IF(COUNTIF(A1,\"*Typical*\")>0,VLOOKUP(B3,'Data Billing Quantities'!$A:$Z,MATCH(\"Typical kW\",'Data Billing Quantities'!4:4,0),FALSE),IF(COUNTIF(A1,\"*Average*\")>0,VLOOKUP(B3,'Data Billing Quantities'!$A:$Z,MATCH(\"Average kW\",'Data Billing Quantities'!4:4,0),FALSE),IF(COUNTIF(A1,\"*High*\")>0,VLOOKUP(B3,'Data Billing Quantities'!$A:$Z,MATCH(\"High kW\",'Data Billing Quantities'!4:4,0),FALSE),\"error\"))))","v":0}]
["Loss factor",{"$f":"VLOOKUP(B3,'Data Billing Quantities'!A:D,MATCH(A6,'Data Billing Quantities'!4:4,0),FALSE)","v":1.0569999999999999}]
["Commodity Threshold",{"$f":"VLOOKUP(B3,'Data Billing Quantities'!A:D,MATCH(A7,'Data Billing Quantities'!4:4,0),FALSE)","v":600}]
["Monthly Consumption (kWh) - Uplifted",{"$f":"B4*B6","v":798.03499999999997}]
["Charge determinant",{"$f":"VLOOKUP(B3,'Data Billing Quantities'!A:D,MATCH(A9,'Data Billing Quantities'!4:4,0),FALSE)","v":"kWh"}]
[]
[null,"Volume","Current Rate ($)","Current Charge ($)","Volume","Proposed Rate ($)","Proposed Charge ($)","Change ($)","Change (%)","% of Total Bill on RPP","% of Total Bill on TOU"]
["Energy First Tier",{"$f":"IF(B4>B7,B7,B4)","v":600},{"$f":"VLOOKUP($A12,'Data Pass Through'!$A:$D,2,FALSE)","v":0.10100000000000001},{"$f":"B12*C12","v":60.6},{"$f":"B12","v":600},{"$f":"VLOOKUP($A12,'Data Pass Through'!$A:$D,3,FALSE)","v":0.10100000000000001},{"$f":"E12*F12","v":60.6},{"$f":"G12-D12","v":0},{"$f":"IF(ISERROR(H12/ABS(D12)),\"N/A\",(H12/ABS(D12)))","v":0},{"$f":"G12/$G$49","v":0.4828010452944263}]
["Energy Second Tier",{"$f":"IF(B4>B7,(B4)-B7,0)","v":155},{"$f":"VLOOKUP($A13,'Data Pass Through'!$A:$D,2,FALSE)","v":0.11799999999999999},{"$f":"B13*C13","v":18.29},{"$f":"B13","v":155},{"$f":"VLOOKUP($A13,'Data Pass Through'!$A:$D,3,FALSE)","v":0.11799999999999999},{"$f":"E13*F13","v":18.29},0,0,{"$f":"G13/$G$49","v":0.1457166851226907}]
["Sub-Total:  Energy (RPP Tiered)",null,null,{"$f":"SUM(D12:D13)","v":78.89},null,null,{"$f":"SUM(G12:G13)","v":78.89},0,0,{"$f":"G14/$G$49","v":0.628517730417117}]
["TOU-Off Peak",{"$f":"B$4*VLOOKUP($B$3,'Data Billing Quantities'!$A:$O,MATCH(BI_UR_Avg!$A15,'Data Billing Quantities'!$4:$4,0),FALSE)","v":483.2},{"$f":"VLOOKUP($A15,'Data Pass Through'!$A:$D,2,FALSE)","v":8.5000000000000006E-2},{"$f":"B15*C15","v":41.072000000000003},483.2,{"$f":"VLOOKUP($A15,'Data Pass Through'!$A:$D,3,FALSE)","v":8.5000000000000006E-2},{"$f":"E15*F15","v":41.072000000000003},0,0,null,{"$f":"G15/$G$54","v":0.32292130782509498}]
["TOU-Mid Peak",{"$f":"B$4*VLOOKUP($B$3,'Data Billing Quantities'!$A:$O,MATCH(BI_UR_Avg!$A16,'Data Billing Quantities'!$4:$4,0),FALSE)","v":135.9},{"$f":"VLOOKUP($A16,'Data Pass Through'!$A:$D,2,FALSE)","v":0.11899999999999999},{"$f":"B16*C16","v":16.1721},135.9,{"$f":"VLOOKUP($A16,'Data Pass Through'!$A:$D,3,FALSE)","v":0.11899999999999999},{"$f":"E16*F16","v":16.1721},0,0,null,0.12715026495613113]
["TOU-On Peak",{"$f":"B$4*VLOOKUP($B$3,'Data Billing Quantities'!$A:$O,MATCH(BI_UR_Avg!$A17,'Data Billing Quantities'!$4:$4,0),FALSE)","v":135.9},{"$f":"VLOOKUP($A17,'Data Pass Through'!$A:$D,2,FALSE)","v":0.17599999999999999},{"$f":"B17*C17","v":23.918399999999998},135.9,{"$f":"VLOOKUP($A17,'Data Pass Through'!$A:$D,3,FALSE)","v":0.17599999999999999},{"$f":"E17*F17","v":23.918399999999998},0,0,null,0.18805417338049646]
["Sub-Total:  Energy (RPP TOU)",null,null,{"$f":"SUM(D15:D17)","v":81.162499999999994},null,null,{"$f":"SUM(G15:G17)","v":81.162499999999994},0,0,{"$f":"G18/$G$49","v":0.6466227696156579},0.63812574616172246]
["Service Charge",1,{"$f":"IF(ISERROR(VLOOKUP($B$3,'Data Current Rates'!$A:$BE,MATCH(BI_UR_Avg!$A19,CurrentHeader,0),FALSE)),0,VLOOKUP($B$3,'Data Current Rates'!$A:$BE,MATCH(BI_UR_Avg!$A19,CurrentHeader,0),FALSE))","v":35.92},{"$f":"B19*C19","v":35.92},1,{"$f":"VLOOKUP($B$3,'Data Proposed Rates'!$A:$BC,MATCH(BI_UR_Avg!$A19,ProposedHeader,0),FALSE)","v":35.92},{"$f":"E19*F19","v":35.92},0,0,0.28617514103920449,0.28241462254278854]
["Base Rate Adjustment to Recover Past Tax Amounts FIXED",null,null,null,1,{"$f":"VLOOKUP($B$3,'Data Proposed Rates'!$A:$BC,MATCH(BI_UR_Avg!$A20,ProposedHeader,0),FALSE)","v":0.83},0.83,0.83,"N/A",6.6126215774649144E-3,6.525727636706973E-3]
["Fixed Deferral/Variance Account Rider (General)",1,{"$f":"IF(ISERROR(VLOOKUP($B$3,'Data Current Rates'!$A:$BE,MATCH(BI_UR_Avg!$A21,CurrentHeader,0),FALSE)),0,VLOOKUP($B$3,'Data Current Rates'!$A:$BE,MATCH(BI_UR_Avg!$A21,CurrentHeader,0),FALSE))","v":-0.14000000000000001},-0.14000000000000001,1,{"$f":"VLOOKUP($B$3,'Data Proposed Rates'!$A:$BC,MATCH(BI_UR_Avg!$A21,ProposedHeader,0),FALSE)","v":-0.14000000000000001},-0.14000000000000001,0,0,-1.1153819528254075E-3,-1.1007251435409353E-3]
["Fixed ESM Rider",1,{"$f":"IF(ISERROR(VLOOKUP($B$3,'Data Current Rates'!$A:$BE,MATCH(BI_UR_Avg!$A22,CurrentHeader,0),FALSE)),0,VLOOKUP($B$3,'Data Current Rates'!$A:$BE,MATCH(BI_UR_Avg!$A22,CurrentHeader,0),FALSE))","v":-0.5},-0.5,1,{"$f":"VLOOKUP($B$3,'Data Proposed Rates'!$A:$BC,MATCH(BI_UR_Avg!$A22,ProposedHeader,0),FALSE)","v":-0.5},-0.5,0,0,-3.9835069743764549E-3,-3.9311612269319115E-3]
["Distribution Volumetric Charge",{"$f":"IF($B$9=\"kWh\",$B$4,$B$5)","v":755},{"$f":"IF(ISERROR(VLOOKUP($B$3,'Data Current Rates'!$A:$BE,MATCH(BI_UR_Avg!$A23,CurrentHeader,0),FALSE)),0,VLOOKUP($B$3,'Data Current Rates'!$A:$BE,MATCH(BI_UR_Avg!$A23,CurrentHeader,0),FALSE))","v":0},0,{"$f":"IF($B$9=\"kWh\",$B$4,$B$5)","v":755},{"$f":"VLOOKUP($B$3,'Data Proposed Rates'!$A:$BC,MATCH(BI_UR_Avg!$A23,ProposedHeader,0),FALSE)","v":0},0,0,"N/A",0,0]
["Base Rate Adjustment to Recover Past Tax Amounts VOL"]
["Volumetric Deferral/Variance Account Rider (General)",{"$f":"IF($B$9=\"kWh\",$B$4,$B$5)","v":755},{"$f":"IF(ISERROR(VLOOKUP($B$3,'Data Current Rates'!$A:$BE,MATCH(BI_UR_Avg!$A25,CurrentHeader,0),FALSE)),0,VLOOKUP($B$3,'Data Current Rates'!$A:$BE,MATCH(BI_UR_Avg!$A25,CurrentHeader,0),FALSE))","v":-6.9999999999999999E-4},-0.52849999999999997,{"$f":"IF($B$9=\"kWh\",$B$4,$B$5)","v":755},{"$f":"VLOOKUP($B$3,'Data Proposed Rates'!$A:$BC,MATCH(BI_UR_Avg!$A25,ProposedHeader,0),FALSE)","v":-6.9999999999999999E-4},-0.52849999999999997,0,0,-4.2105668719159125E-3,-4.1552374168670305E-3]
["Volumetric ESM Rider",755,{"$f":"IF(ISERROR(VLOOKUP($B$3,'Data Current Rates'!$A:$BE,MATCH(BI_UR_Avg!$A26,CurrentHeader,0),FALSE)),0,VLOOKUP($B$3,'Data Current Rates'!$A:$BE,MATCH(BI_UR_Avg!$A26,CurrentHeader,0),FALSE))","v":0},0,755,{"$f":"VLOOKUP($B$3,'Data Proposed Rates'!$A:$BC,MATCH(BI_UR_Avg!$A26,ProposedHeader,0),FALSE)","v":0},0,0,"N/A",0,0]
["Fair Hydro Plan - Distribution Rate Protection Savings*",null,null,{"$f":"IF(AND(B3<>\"R1\",B3<>\"R2\"),0,IF(VLOOKUP($A27,'Data Pass Through'!$A:$D,2,FALSE)=0,0,IF(SUM(D19:D20,D23:D24)<VLOOKUP($A27,'Data Pass Through'!$A:$D,2,FALSE),0,VLOOKUP($A27,'Data Pass Through'!$A:$D,2,FALSE)-SUM(D19:D20,D23:D24))))","v":0},null,null,{"$f":"IF(AND(B3<>\"R1\",B3<>\"R2\"),0,IF(VLOOKUP($A27,'Data Pass Through'!$A:$D,2,FALSE)=0,0,IF(SUM(G19:G20,G23:G24)<VLOOKUP($A27,'Data Pass Through'!$A:$D,2,FALSE),0,VLOOKUP($A27,'Data Pass Through'!$A:$D,2,FALSE)-SUM(G19:G20,G23:G24))))","v":0},0,"N/A",0,0]
["Sub-Total:  Distribution (excluding pass through)",null,null,{"$f":"SUM(INDIRECT(\"D19:D\"&ROW()-1))","v":34.7515},null,null,{"$f":"SUM(INDIRECT(\"g19:g\"&ROW()-1))","v":35.581499999999998},{"$f":"G28-D28","v":0.82999999999999829},2.3883861128296571E-2,0.28347830681755165,0.27975322639215561]
["Smart Metering Entity Charge",1,{"$f":"VLOOKUP($A29,'Data Pass Through'!$A:$D,2,FALSE)","v":0.56999999999999995},{"$f":"B29*C29","v":0.56999999999999995},1,{"$f":"VLOOKUP($A29,'Data Pass Through'!$A:$D,3,FALSE)","v":0.56999999999999995},{"$f":"E29*F29","v":0.56999999999999995},0,0,4.5411979507891578E-3,4.4815237987023788E-3]
["Line Losses on Cost of Power (based on two-tier RPP prices)",{"$f":"B8-B4","v":43.034999999999968},{"$f":"IF(B4>B7,C13,C12)","v":0.11799999999999999},{"$f":"B30*C30","v":5.0781299999999963},43.034999999999968,{"$f":"IF(B4>B7,F13,F12)","v":0.11799999999999999},{"$f":"E30*F30","v":5.0781299999999963},0,0,4.0457532543580581E-2,3.9925895522639469E-2]
["Line Losses on Cost of Power (based on TOU prices)",{"$f":"B8-B4","v":43.034999999999968},{"$f":"VLOOKUP($B$3,'Data Billing Quantities'!$A:$O,MATCH(BI_UR_Avg!$A15,'Data Billing Quantities'!$4:$4,0),FALSE)*C15+VLOOKUP($B$3,'Data Billing Quantities'!$A:$O,MATCH(BI_UR_Avg!$A16,'Data Billing Quantities'!$4:$4,0),FALSE)*C16+VLOOKUP($B$3,'Data Billing Quantities'!$A:$O,MATCH(BI_UR_Avg!$A17,'Data Billing Quantities'!$4:$4,0),FALSE)*C17","v":0.1075},{"$f":"B31*C31","v":4.6262624999999966},43.034999999999968,{"$f":"VLOOKUP($B$3,'Data Billing Quantities'!$A:$O,MATCH(BI_UR_Avg!$A15,'Data Billing Quantities'!$4:$4,0),FALSE)*F15+VLOOKUP($B$3,'Data Billing Quantities'!$A:$O,MATCH(BI_UR_Avg!$A16,'Data Billing Quantities'!$4:$4,0),FALSE)*F16+VLOOKUP($B$3,'Data Billing Quantities'!$A:$O,MATCH(BI_UR_Avg!$A17,'Data Billing Quantities'!$4:$4,0),FALSE)*F17","v":0.1075},{"$f":"E31*F31","v":4.6262624999999966},0,0,3.6857497868092476E-2,3.6373167531218158E-2]
["Sub-Total:  Distribution (based on two-tier RPP prices)",null,null,{"$f":"SUM(D28,D29:D30)","v":40.399629999999995},null,null,{"$f":"SUM(G28,G29:G30)","v":41.229629999999993},0.82999999999999829,2.0544742612741709E-2,0.32847703731192135,0.32416064571349745]
["Sub-Total:  Distribution (based on TOU prices)",null,null,{"$f":"SUM(D28,D29,D31)","v":39.947762499999996},null,null,{"$f":"SUM(G28,G29,G31)","v":40.777762499999994},0.82999999999999829,2.0777133637960282E-2,0.32487700263643327,0.32060791772207614]
["Retail Transmission Rate – Network Service Rate",{"$f":"B8","v":798.03499999999997},{"$f":"VLOOKUP($B$3,'Data Current Rates'!$A:$BE,MATCH(BI_UR_Avg!$A34,CurrentHeader,0),FALSE)","v":8.8999999999999999E-3},{"$f":"B34*C34","v":7.1025114999999994},798.03499999999997,{"$f":"VLOOKUP($B$3,'Data Proposed Rates'!$A:$BC,MATCH(BI_UR_Avg!$A34,ProposedHeader,0),FALSE)","v":8.8999999999999999E-3},{"$f":"E34*F34","v":7.1025114999999994},{"$f":"G34-D34","v":0},0,5.6585808191677946E-2,5.5842235645276017E-2]
["Retail Transmission Rate – Line and Transformation Connection Service Rate",{"$f":"B8","v":798.03499999999997},{"$f":"VLOOKUP($B$3,'Data Current Rates'!$A:$BE,MATCH(BI_UR_Avg!$A35,CurrentHeader,0),FALSE)","v":7.7000000000000002E-3},{"$f":"B35*C35","v":6.1448694999999995},798.03499999999997,{"$f":"VLOOKUP($B$3,'Data Proposed Rates'!$A:$BC,MATCH(BI_UR_Avg!$A35,ProposedHeader,0),FALSE)","v":7.7000000000000002E-3},{"$f":"E35*F35","v":6.1448694999999995},{"$f":"G35-D35","v":0},0,4.8956261019766308E-2,4.8312945445912962E-2]
["Sub-Total:  Retail Transmission ",null,null,{"$f":"SUM(D34:D35)","v":13.247380999999999},null,null,{"$f":"SUM(G34:G35)","v":13.247380999999999},{"$f":"G36-D36","v":0},0,0.10554206921144425,0.10415518109118899]
["Sub-Total:  Delivery (based on two-tier RPP prices)",null,null,{"$f":"D32+D36","v":53.647010999999992},null,null,{"$f":"G32+G36","v":54.47701099999999},{"$f":"G37-D37","v":0.82999999999999829},1.5471505020102581E-2,0.43401910652336562,0.42831582680468644]
["Sub-Total:  Delivery (based on TOU prices)",null,null,{"$f":"D33+D36","v":53.195143499999993},null,null,{"$f":"G33+G36","v":54.025143499999992},{"$f":"G38-D38","v":0.82999999999999829},1.5602928113165037E-2,0.43041907184787748,0.42476309881326513]
["Wholesale Market Service Rate (WMS) - not including CBR",{"$f":"B8","v":798.03499999999997},{"$f":"VLOOKUP($A39,'Data Pass Through'!$A:$D,2,FALSE)","v":3.0000000000000001E-3},{"$f":"B39*C39","v":2.3941050000000001},{"$f":"$B$8","v":798.03499999999997},{"$f":"VLOOKUP($A39,'Data Pass Through'!$A:$D,3,FALSE)","v":3.0000000000000001E-3},{"$f":"E39*F39","v":2.3941050000000001},0,0,1.9073867929779085E-2,1.8823225498407651E-2]
["Capacity Based Recovery (CBR) - Applicable for Class B Customers",{"$f":"B8","v":798.03499999999997},{"$f":"VLOOKUP($A40,'Data Pass Through'!$A:$D,2,FALSE)","v":4.0000000000000002E-4},{"$f":"B40*C40","v":0.319214},{"$f":"$B$8","v":798.03499999999997},{"$f":"VLOOKUP($A40,'Data Pass Through'!$A:$D,3,FALSE)","v":4.0000000000000002E-4},{"$f":"E40*F40","v":0.319214},0,0,2.5431823906372111E-3,2.5097633997876864E-3]
["Rural Rate Protection Charge",{"$f":"B8","v":798.03499999999997},{"$f":"VLOOKUP($A41,'Data Pass Through'!$A:$D,2,FALSE)","v":5.0000000000000001E-4},0.39901749999999997,798.03499999999997,{"$f":"VLOOKUP($A41,'Data Pass Through'!$A:$D,3,FALSE)","v":5.0000000000000001E-4},0.39901749999999997,0,0,3.1789779882965136E-3,3.1372042497346078E-3]
["Standard Supply Service – Administration Charge (if applicable)",1,{"$f":"VLOOKUP($A42,'Data Pass Through'!$A:$D,2,FALSE)","v":0.25},{"$f":"B42*C42","v":0.25},1,{"$f":"VLOOKUP($A42,'Data Pass Through'!$A:$D,3,FALSE)","v":0.25},0.25,0,0,1.9917534871882274E-3,1.9655806134659557E-3]
["Sub-Total:  Regulatory",null,null,{"$f":"SUM(D39:D42)","v":3.3623365000000001},null,null,{"$f":"SUM(G39:G42)","v":3.3623365000000001},0,0,2.6787781795901036E-2,2.64357737613959E-2]
["Debt Retirement Charge (DRC)",{"$f":"B4","v":755},{"$f":"VLOOKUP($A44,'Data Pass Through'!$A:$D,2,FALSE)","v":0},{"$f":"B44*C44","v":0},755,{"$f":"VLOOKUP($A44,'Data Pass Through'!$A:$D,3,FALSE)","v":0},{"$f":"E44*F44","v":0},0,"N/A",0,0]
["Total  Electricty Charge on Two-Tier RPP ",null,null,{"$f":"SUM(D14,D28,D29,D30,D36,D43,D44)","v":135.8993475},null,null,{"$f":"SUM(G14,G28,G29,G30,G36,G43,G44)","v":136.72934749999999},0.82999999999998408,6.1074612591497839E-3,1.0893246187363836]
["     HST",null,0.13,{"$f":"D45*C46","v":17.666915175},null,{"$f":"C46","v":0.13},{"$f":"G45*F46","v":17.774815175000001},0.10790000000000077,6.1074612591499452E-3,0.14161220043572989]
["Total Electricity Charge on Two-Tier RPP (including HST)",null,null,{"$f":"SUM(D45:D46)","v":153.56626267500002},null,null,{"$f":"SUM(G45:G46)","v":154.50416267499998},0.93789999999995644,6.1074612591496174E-3,1.2309368191721133]
["Ontario Electricity Rebate (OER)",null,{"$f":"'Data Pass Through'!B20","v":-0.21199999999999999},{"$f":"D45*C48","v":-28.810661670000002},null,{"$f":"'Data Pass Through'!C20","v":-0.21199999999999999},{"$f":"G45*F48","v":-28.986621669999998},-0.17595999999999634,-6.1074612591497743E-3,-0.23093681917211334]
["Total Amount on Two-Tier RPP",null,null,{"$f":"SUM(D47:D48)","v":124.75560100500002},null,null,{"$f":"SUM(G47:G48)","v":125.51754100499997},0.76193999999995299,6.1074612591495237E-3,1]
["Total Electricty Charge on TOU (before HST)",null,null,{"$f":"SUM(D18,D28,D29,D31,D36,D43,D44)","v":137.71997999999996},null,null,{"$f":"SUM(G18,G28,G29,G31,G36,G43,G44)","v":138.54997999999998},0.83000000000001251,6.026721758164739E-3,null,{"$f":"G50/$G$54","v":1.0893246187363834}]
["     HST",null,0.13,{"$f":"D50*C51","v":17.903597399999995},null,{"$f":"C51","v":0.13},{"$f":"G50*F51","v":18.011497399999996},0.10790000000000077,6.0267217581646913E-3,null,{"$f":"G51/$G$54","v":0.14161220043572983}]
["Total Electricity Charge on TOU (including HST)",null,null,{"$f":"SUM(D50:D51)","v":155.62357739999996},null,null,{"$f":"SUM(G50:G51)","v":156.56147739999997},0.93790000000001328,6.0267217581647338E-3,null,{"$f":"G52/$G$54","v":1.2309368191721133}]
["Ontario Electricity Rebate (OER)",null,{"$f":"'Data Pass Through'!B20","v":-0.21199999999999999},{"$f":"D50*C53","v":-29.196635759999992},null,{"$f":"'Data Pass Through'!C20","v":-0.21199999999999999},{"$f":"G50*F53","v":-29.372595759999996},-0.17596000000000345,-6.0267217581647667E-3,null,{"$f":"G53/$G$54","v":-0.23093681917211331}]
["Total Amount on TOU",null,null,{"$f":"SUM(D52:D53)","v":126.42694163999997},null,null,{"$f":"SUM(G52:G53)","v":127.18888163999998},0.76194000000000983,6.026721758164726E-3,null,{"$f":"G54/$G$54","v":1}]
["* Distribution rate protection applies to R1 and R2 customers"]

{"sheet":"BI_UR_High","index":14,"n_rows":55,"n_cols":11,"rows_kept":55,"cut":false,"hidden":false,"merged":[[0,0,0,10]]}
["2021 Bill Impacts (High Consumption Level) - UR"]
[]
["Rate Class",{"$f":"RIGHT(A1,LEN(A1)-FIND(\"- \",A1,1)-1)","v":"UR"}]
["Monthly Consumption (kWh)",{"$f":"IF(COUNTIF(A1,\"*Low*\")>0,VLOOKUP(B3,'Data Billing Quantities'!$A:$Z,MATCH(\"Low kWh\",'Data Billing Quantities'!4:4,0),FALSE),IF(COUNTIF(A1,\"*Typical*\")>0,VLOOKUP(B3,'Data Billing Quantities'!$A:$Z,MATCH(\"Typical kWh\",'Data Billing Quantities'!4:4,0),FALSE),IF(COUNTIF(A1,\"*Average*\")>0,VLOOKUP(B3,'Data Billing Quantities'!$A:$Z,MATCH(\"Average kWh\",'Data Billing Quantities'!4:4,0),FALSE),IF(COUNTIF(A1,\"*High*\")>0,VLOOKUP(B3,'Data Billing Quantities'!$A:$Z,MATCH(\"High kWh\",'Data Billing Quantities'!4:4,0),FALSE),\"error\"))))","v":1400}]
["Peak (kW)",{"$f":"IF(COUNTIF(A1,\"*Low*\")>0,VLOOKUP(B3,'Data Billing Quantities'!$A:$Z,MATCH(\"Low kW\",'Data Billing Quantities'!4:4,0),FALSE),IF(COUNTIF(A1,\"*Typical*\")>0,VLOOKUP(B3,'Data Billing Quantities'!$A:$Z,MATCH(\"Typical kW\",'Data Billing Quantities'!4:4,0),FALSE),IF(COUNTIF(A1,\"*Average*\")>0,VLOOKUP(B3,'Data Billing Quantities'!$A:$Z,MATCH(\"Average kW\",'Data Billing Quantities'!4:4,0),FALSE),IF(COUNTIF(A1,\"*High*\")>0,VLOOKUP(B3,'Data Billing Quantities'!$A:$Z,MATCH(\"High kW\",'Data Billing Quantities'!4:4,0),FALSE),\"error\"))))","v":0}]
["Loss factor",{"$f":"VLOOKUP(B3,'Data Billing Quantities'!A:D,MATCH(A6,'Data Billing Quantities'!4:4,0),FALSE)","v":1.0569999999999999}]
["Commodity Threshold",{"$f":"VLOOKUP(B3,'Data Billing Quantities'!A:D,MATCH(A7,'Data Billing Quantities'!4:4,0),FALSE)","v":600}]
["Monthly Consumption (kWh) - Uplifted",{"$f":"B4*B6","v":1479.8}]
["Charge determinant",{"$f":"VLOOKUP(B3,'Data Billing Quantities'!A:D,MATCH(A9,'Data Billing Quantities'!4:4,0),FALSE)","v":"kWh"}]
[]
[null,"Volume","Current Rate ($)","Current Charge ($)","Volume","Proposed Rate ($)","Proposed Charge ($)","Change ($)","Change (%)","% of Total Bill on RPP","% of Total Bill on TOU"]
["Energy First Tier",{"$f":"IF(B4>B7,B7,B4)","v":600},{"$f":"VLOOKUP($A12,'Data Pass Through'!$A:$D,2,FALSE)","v":0.10100000000000001},{"$f":"B12*C12","v":60.6},{"$f":"B12","v":600},{"$f":"VLOOKUP($A12,'Data Pass Through'!$A:$D,3,FALSE)","v":0.10100000000000001},{"$f":"E12*F12","v":60.6},{"$f":"G12-D12","v":0},{"$f":"IF(ISERROR(H12/ABS(D12)),\"N/A\",(H12/ABS(D12)))","v":0},{"$f":"G12/$G$49","v":0.28613963491228672}]
["Energy Second Tier",{"$f":"IF(B4>B7,(B4)-B7,0)","v":800},{"$f":"VLOOKUP($A13,'Data Pass Through'!$A:$D,2,FALSE)","v":0.11799999999999999},{"$f":"B13*C13","v":94.399999999999991},{"$f":"B13","v":800},{"$f":"VLOOKUP($A13,'Data Pass Through'!$A:$D,3,FALSE)","v":0.11799999999999999},{"$f":"E13*F13","v":94.399999999999991},0,0,{"$f":"G13/$G$49","v":0.44573566890626842}]
["Sub-Total:  Energy (RPP Tiered)",null,null,{"$f":"SUM(D12:D13)","v":155},null,null,{"$f":"SUM(G12:G13)","v":155},0,0,{"$f":"G14/$G$49","v":0.73187530381855515}]
["TOU-Off Peak",{"$f":"B$4*VLOOKUP($B$3,'Data Billing Quantities'!$A:$O,MATCH(BI_UR_High!$A15,'Data Billing Quantities'!$4:$4,0),FALSE)","v":896},{"$f":"VLOOKUP($A15,'Data Pass Through'!$A:$D,2,FALSE)","v":8.5000000000000006E-2},{"$f":"B15*C15","v":76.160000000000011},896,{"$f":"VLOOKUP($A15,'Data Pass Through'!$A:$D,3,FALSE)","v":8.5000000000000006E-2},{"$f":"E15*F15","v":76.160000000000011},0,0,null,{"$f":"G15/$G$54","v":0.36812807596480623}]
["TOU-Mid Peak",{"$f":"B$4*VLOOKUP($B$3,'Data Billing Quantities'!$A:$O,MATCH(BI_UR_High!$A16,'Data Billing Quantities'!$4:$4,0),FALSE)","v":252},{"$f":"VLOOKUP($A16,'Data Pass Through'!$A:$D,2,FALSE)","v":0.11899999999999999},{"$f":"B16*C16","v":29.988},252,{"$f":"VLOOKUP($A16,'Data Pass Through'!$A:$D,3,FALSE)","v":0.11899999999999999},{"$f":"E16*F16","v":29.988},0,0,null,0.14495042991114243]
["TOU-On Peak",{"$f":"B$4*VLOOKUP($B$3,'Data Billing Quantities'!$A:$O,MATCH(BI_UR_High!$A17,'Data Billing Quantities'!$4:$4,0),FALSE)","v":252},{"$f":"VLOOKUP($A17,'Data Pass Through'!$A:$D,2,FALSE)","v":0.17599999999999999},{"$f":"B17*C17","v":44.351999999999997},252,{"$f":"VLOOKUP($A17,'Data Pass Through'!$A:$D,3,FALSE)","v":0.17599999999999999},{"$f":"E17*F17","v":44.351999999999997},0,0,null,0.21438046776774006]
["Sub-Total:  Energy (RPP TOU)",null,null,{"$f":"SUM(D15:D17)","v":150.5},null,null,{"$f":"SUM(G15:G17)","v":150.5},0,0,{"$f":"G18/$G$49","v":0.71062731112704869},0.72745897364368861]
["Service Charge",1,{"$f":"IF(ISERROR(VLOOKUP($B$3,'Data Current Rates'!$A:$BE,MATCH(BI_UR_High!$A19,CurrentHeader,0),FALSE)),0,VLOOKUP($B$3,'Data Current Rates'!$A:$BE,MATCH(BI_UR_High!$A19,CurrentHeader,0),FALSE))","v":35.92},{"$f":"B19*C19","v":35.92},1,{"$f":"VLOOKUP($B$3,'Data Proposed Rates'!$A:$BC,MATCH(BI_UR_High!$A19,ProposedHeader,0),FALSE)","v":35.92},{"$f":"E19*F19","v":35.92},0,0,0.16960619943975808,0.17362343078592224]
["Base Rate Adjustment to Recover Past Tax Amounts FIXED",null,null,null,1,{"$f":"VLOOKUP($B$3,'Data Proposed Rates'!$A:$BC,MATCH(BI_UR_High!$A20,ProposedHeader,0),FALSE)","v":0.83},0.83,0.83,"N/A",3.9190742075445213E-3,4.0118999875366212E-3]
["Fixed Deferral/Variance Account Rider (General)",1,{"$f":"IF(ISERROR(VLOOKUP($B$3,'Data Current Rates'!$A:$BE,MATCH(BI_UR_High!$A21,CurrentHeader,0),FALSE)),0,VLOOKUP($B$3,'Data Current Rates'!$A:$BE,MATCH(BI_UR_High!$A21,CurrentHeader,0),FALSE))","v":-0.14000000000000001},-0.14000000000000001,1,{"$f":"VLOOKUP($B$3,'Data Proposed Rates'!$A:$BC,MATCH(BI_UR_High!$A21,ProposedHeader,0),FALSE)","v":-0.14000000000000001},-0.14000000000000001,0,0,-6.6104866151353375E-4,-6.7670602199412907E-4]
["Fixed ESM Rider",1,{"$f":"IF(ISERROR(VLOOKUP($B$3,'Data Current Rates'!$A:$BE,MATCH(BI_UR_High!$A22,CurrentHeader,0),FALSE)),0,VLOOKUP($B$3,'Data Current Rates'!$A:$BE,MATCH(BI_UR_High!$A22,CurrentHeader,0),FALSE))","v":-0.5},-0.5,1,{"$f":"VLOOKUP($B$3,'Data Proposed Rates'!$A:$BC,MATCH(BI_UR_High!$A22,ProposedHeader,0),FALSE)","v":-0.5},-0.5,0,0,-2.3608880768340489E-3,-2.4168072214076036E-3]
["Distribution Volumetric Charge",{"$f":"IF($B$9=\"kWh\",$B$4,$B$5)","v":1400},{"$f":"IF(ISERROR(VLOOKUP($B$3,'Data Current Rates'!$A:$BE,MATCH(BI_UR_High!$A23,CurrentHeader,0),FALSE)),0,VLOOKUP($B$3,'Data Current Rates'!$A:$BE,MATCH(BI_UR_High!$A23,CurrentHeader,0),FALSE))","v":0},0,{"$f":"IF($B$9=\"kWh\",$B$4,$B$5)","v":1400},{"$f":"VLOOKUP($B$3,'Data Proposed Rates'!$A:$BC,MATCH(BI_UR_High!$A23,ProposedHeader,0),FALSE)","v":0},0,0,"N/A",0,0]
["Base Rate Adjustment to Recover Past Tax Amounts VOL"]
["Volumetric Deferral/Variance Account Rider (General)",{"$f":"IF($B$9=\"kWh\",$B$4,$B$5)","v":1400},{"$f":"IF(ISERROR(VLOOKUP($B$3,'Data Current Rates'!$A:$BE,MATCH(BI_UR_High!$A25,CurrentHeader,0),FALSE)),0,VLOOKUP($B$3,'Data Current Rates'!$A:$BE,MATCH(BI_UR_High!$A25,CurrentHeader,0),FALSE))","v":-6.9999999999999999E-4},-0.98,{"$f":"IF($B$9=\"kWh\",$B$4,$B$5)","v":1400},{"$f":"VLOOKUP($B$3,'Data Proposed Rates'!$A:$BC,MATCH(BI_UR_High!$A25,ProposedHeader,0),FALSE)","v":-6.9999999999999999E-4},-0.98,0,0,-4.6273406305947359E-3,-4.736942153958903E-3]
["Volumetric ESM Rider",1400,{"$f":"IF(ISERROR(VLOOKUP($B$3,'Data Current Rates'!$A:$BE,MATCH(BI_UR_High!$A26,CurrentHeader,0),FALSE)),0,VLOOKUP($B$3,'Data Current Rates'!$A:$BE,MATCH(BI_UR_High!$A26,CurrentHeader,0),FALSE))","v":0},0,1400,{"$f":"VLOOKUP($B$3,'Data Proposed Rates'!$A:$BC,MATCH(BI_UR_High!$A26,ProposedHeader,0),FALSE)","v":0},0,0,"N/A",0,0]
["Fair Hydro Plan - Distribution Rate Protection Savings*",null,null,{"$f":"IF(AND(B3<>\"R1\",B3<>\"R2\"),0,IF(VLOOKUP($A27,'Data Pass Through'!$A:$D,2,FALSE)=0,0,IF(SUM(D19:D20,D23:D24)<VLOOKUP($A27,'Data Pass Through'!$A:$D,2,FALSE),0,VLOOKUP($A27,'Data Pass Through'!$A:$D,2,FALSE)-SUM(D19:D20,D23:D24))))","v":0},null,null,{"$f":"IF(AND(B3<>\"R1\",B3<>\"R2\"),0,IF(VLOOKUP($A27,'Data Pass Through'!$A:$D,2,FALSE)=0,0,IF(SUM(G19:G20,G23:G24)<VLOOKUP($A27,'Data Pass Through'!$A:$D,2,FALSE),0,VLOOKUP($A27,'Data Pass Through'!$A:$D,2,FALSE)-SUM(G19:G20,G23:G24))))","v":0},0,"N/A",0,0]
["Sub-Total:  Distribution (excluding pass through)",null,null,{"$f":"SUM(INDIRECT(\"D19:D\"&ROW()-1))","v":34.300000000000004},null,null,{"$f":"SUM(INDIRECT(\"g19:g\"&ROW()-1))","v":35.130000000000003},{"$f":"G28-D28","v":0.82999999999999829},2.4198250728862922E-2,0.1658759962783603,0.16980487537609823]
["Smart Metering Entity Charge",1,{"$f":"VLOOKUP($A29,'Data Pass Through'!$A:$D,2,FALSE)","v":0.56999999999999995},{"$f":"B29*C29","v":0.56999999999999995},1,{"$f":"VLOOKUP($A29,'Data Pass Through'!$A:$D,3,FALSE)","v":0.56999999999999995},{"$f":"E29*F29","v":0.56999999999999995},0,0,2.6914124075908155E-3,2.755160232404668E-3]
["Line Losses on Cost of Power (based on two-tier RPP prices)",{"$f":"B8-B4","v":79.799999999999955},{"$f":"IF(B4>B7,C13,C12)","v":0.11799999999999999},{"$f":"B30*C30","v":9.4163999999999941},79.799999999999955,{"$f":"IF(B4>B7,F13,F12)","v":0.11799999999999999},{"$f":"E30*F30","v":9.4163999999999941},0,0,4.4462132973400251E-2,4.5515247039325087E-2]
["Line Losses on Cost of Power (based on TOU prices)",{"$f":"B8-B4","v":79.799999999999955},{"$f":"VLOOKUP($B$3,'Data Billing Quantities'!$A:$O,MATCH(BI_UR_High!$A15,'Data Billing Quantities'!$4:$4,0),FALSE)*C15+VLOOKUP($B$3,'Data Billing Quantities'!$A:$O,MATCH(BI_UR_High!$A16,'Data Billing Quantities'!$4:$4,0),FALSE)*C16+VLOOKUP($B$3,'Data Billing Quantities'!$A:$O,MATCH(BI_UR_High!$A17,'Data Billing Quantities'!$4:$4,0),FALSE)*C17","v":0.1075},{"$f":"B31*C31","v":8.5784999999999947},79.799999999999955,{"$f":"VLOOKUP($B$3,'Data Billing Quantities'!$A:$O,MATCH(BI_UR_High!$A15,'Data Billing Quantities'!$4:$4,0),FALSE)*F15+VLOOKUP($B$3,'Data Billing Quantities'!$A:$O,MATCH(BI_UR_High!$A16,'Data Billing Quantities'!$4:$4,0),FALSE)*F16+VLOOKUP($B$3,'Data Billing Quantities'!$A:$O,MATCH(BI_UR_High!$A17,'Data Billing Quantities'!$4:$4,0),FALSE)*F17","v":0.1075},{"$f":"E31*F31","v":8.5784999999999947},0,0,4.0505756734241755E-2,4.146516149769023E-2]
["Sub-Total:  Distribution (based on two-tier RPP prices)",null,null,{"$f":"SUM(D28,D29:D30)","v":44.2864},null,null,{"$f":"SUM(G28,G29:G30)","v":45.116399999999999},0.82999999999999829,1.8741645290653527E-2,0.21302954165935137,0.21807528264782799]
["Sub-Total:  Distribution (based on TOU prices)",null,null,{"$f":"SUM(D28,D29,D31)","v":43.448499999999996},null,null,{"$f":"SUM(G28,G29,G31)","v":44.278499999999994},0.82999999999999829,1.9103076055559994E-2,0.20907316542019286,0.21402519710619311]
["Retail Transmission Rate – Network Service Rate",{"$f":"B8","v":1479.8},{"$f":"VLOOKUP($B$3,'Data Current Rates'!$A:$BE,MATCH(BI_UR_High!$A34,CurrentHeader,0),FALSE)","v":8.8999999999999999E-3},{"$f":"B34*C34","v":13.170219999999999},1479.8,{"$f":"VLOOKUP($B$3,'Data Proposed Rates'!$A:$BC,MATCH(BI_UR_High!$A34,ProposedHeader,0),FALSE)","v":8.8999999999999999E-3},{"$f":"E34*F34","v":13.170219999999999},{"$f":"G34-D34","v":0},0,6.2186830734562652E-2,6.3659765607053692E-2]
["Retail Transmission Rate – Line and Transformation Connection Service Rate",{"$f":"B8","v":1479.8},{"$f":"VLOOKUP($B$3,'Data Current Rates'!$A:$BE,MATCH(BI_UR_High!$A35,CurrentHeader,0),FALSE)","v":7.7000000000000002E-3},{"$f":"B35*C35","v":11.39446},1479.8,{"$f":"VLOOKUP($B$3,'Data Proposed Rates'!$A:$BC,MATCH(BI_UR_High!$A35,ProposedHeader,0),FALSE)","v":7.7000000000000002E-3},{"$f":"E35*F35","v":11.39446},{"$f":"G35-D35","v":0},0,5.3802089511925E-2,5.5076426424080165E-2]
["Sub-Total:  Retail Transmission ",null,null,{"$f":"SUM(D34:D35)","v":24.564679999999999},null,null,{"$f":"SUM(G34:G35)","v":24.564679999999999},{"$f":"G36-D36","v":0},0,0.11598892024648765,0.11873619203113385]
["Sub-Total:  Delivery (based on two-tier RPP prices)",null,null,{"$f":"D32+D36","v":68.851079999999996},null,null,{"$f":"G32+G36","v":69.681079999999994},{"$f":"G37-D37","v":0.82999999999999829},1.2055003349257533E-2,0.329018461905839,0.33681147467896183]
["Sub-Total:  Delivery (based on TOU prices)",null,null,{"$f":"D33+D36","v":68.013179999999991},null,null,{"$f":"G33+G36","v":68.84317999999999},{"$f":"G38-D38","v":0.82999999999999829},1.2203517024200286E-2,0.32506208566668049,0.33276138913732695]
["Wholesale Market Service Rate (WMS) - not including CBR",{"$f":"B8","v":1479.8},{"$f":"VLOOKUP($A39,'Data Pass Through'!$A:$D,2,FALSE)","v":3.0000000000000001E-3},{"$f":"B39*C39","v":4.4394},{"$f":"$B$8","v":1479.8},{"$f":"VLOOKUP($A39,'Data Pass Through'!$A:$D,3,FALSE)","v":3.0000000000000001E-3},{"$f":"E39*F39","v":4.4394},0,0,2.0961853056594155E-2,2.1458347957433829E-2]
["Capacity Based Recovery (CBR) - Applicable for Class B Customers",{"$f":"B8","v":1479.8},{"$f":"VLOOKUP($A40,'Data Pass Through'!$A:$D,2,FALSE)","v":4.0000000000000002E-4},{"$f":"B40*C40","v":0.59192},{"$f":"$B$8","v":1479.8},{"$f":"VLOOKUP($A40,'Data Pass Through'!$A:$D,3,FALSE)","v":4.0000000000000002E-4},{"$f":"E40*F40","v":0.59192},0,0,2.7949137408792204E-3,2.8611130609911772E-3]
["Rural Rate Protection Charge",{"$f":"B8","v":1479.8},{"$f":"VLOOKUP($A41,'Data Pass Through'!$A:$D,2,FALSE)","v":5.0000000000000001E-4},0.7399,1479.8,{"$f":"VLOOKUP($A41,'Data Pass Through'!$A:$D,3,FALSE)","v":5.0000000000000001E-4},0.7399,0,0,3.4936421760990255E-3,3.5763913262389715E-3]
["Standard Supply Service – Administration Charge (if applicable)",1,{"$f":"VLOOKUP($A42,'Data Pass Through'!$A:$D,2,FALSE)","v":0.25},{"$f":"B42*C42","v":0.25},1,{"$f":"VLOOKUP($A42,'Data Pass Through'!$A:$D,3,FALSE)","v":0.25},0.25,0,0,1.1804440384170244E-3,1.2084036107038018E-3]
["Sub-Total:  Regulatory",null,null,{"$f":"SUM(D39:D42)","v":6.0212199999999996},null,null,{"$f":"SUM(G39:G42)","v":6.0212199999999996},0,0,2.8430853011989422E-2,2.910425595536778E-2]
["Debt Retirement Charge (DRC)",{"$f":"B4","v":1400},{"$f":"VLOOKUP($A44,'Data Pass Through'!$A:$D,2,FALSE)","v":0},{"$f":"B44*C44","v":0},1400,{"$f":"VLOOKUP($A44,'Data Pass Through'!$A:$D,3,FALSE)","v":0},{"$f":"E44*F44","v":0},0,"N/A",0,0]
["Total  Electricty Charge on Two-Tier RPP ",null,null,{"$f":"SUM(D14,D28,D29,D30,D36,D43,D44)","v":229.8723},null,null,{"$f":"SUM(G14,G28,G29,G30,G36,G43,G44)","v":230.70229999999998},0.82999999999998408,3.6107003758172867E-3,1.0893246187363836]
["     HST",null,0.13,{"$f":"D45*C46","v":29.883399000000001},null,{"$f":"C46","v":0.13},{"$f":"G45*F46","v":29.991298999999998},0.10789999999999722,3.6107003758172628E-3,0.14161220043572986]
["Total Electricity Charge on Two-Tier RPP (including HST)",null,null,{"$f":"SUM(D45:D46)","v":259.75569899999999},null,null,{"$f":"SUM(G45:G46)","v":260.69359899999995},0.93789999999995644,3.6107003758171882E-3,1.2309368191721133]
["Ontario Electricity Rebate (OER)",null,{"$f":"'Data Pass Through'!B20","v":-0.21199999999999999},{"$f":"D45*C48","v":-48.732927599999996},null,{"$f":"'Data Pass Through'!C20","v":-0.21199999999999999},{"$f":"G45*F48","v":-48.908887599999993},-0.17595999999999634,-3.610700375817281E-3,-0.23093681917211328]
["Total Amount on Two-Tier RPP",null,null,{"$f":"SUM(D47:D48)","v":211.02277140000001},null,null,{"$f":"SUM(G47:G48)","v":211.78471139999996},0.76193999999995299,3.6107003758171332E-3,1]
["Total Electricty Charge on TOU (before HST)",null,null,{"$f":"SUM(D18,D28,D29,D31,D36,D43,D44)","v":224.53440000000001},null,null,{"$f":"SUM(G18,G28,G29,G31,G36,G43,G44)","v":225.36439999999999},0.82999999999998408,3.6965382587255406E-3,null,{"$f":"G50/$G$54","v":1.0893246187363834}]
["     HST",null,0.13,{"$f":"D50*C51","v":29.189472000000002},null,{"$f":"C51","v":0.13},{"$f":"G50*F51","v":29.297371999999999},0.10789999999999722,3.6965382587255164E-3,null,{"$f":"G51/$G$54","v":0.14161220043572983}]
["Total Electricity Charge on TOU (including HST)",null,null,{"$f":"SUM(D50:D51)","v":253.723872},null,null,{"$f":"SUM(G50:G51)","v":254.66177199999998},0.93789999999998486,3.6965382587255519E-3,null,{"$f":"G52/$G$54","v":1.2309368191721133}]
["Ontario Electricity Rebate (OER)",null,{"$f":"'Data Pass Through'!B20","v":-0.21199999999999999},{"$f":"D50*C53","v":-47.601292800000003},null,{"$f":"'Data Pass Through'!C20","v":-0.21199999999999999},{"$f":"G50*F53","v":-47.777252799999999},-0.17595999999999634,-3.6965382587255346E-3,null,{"$f":"G53/$G$54","v":-0.23093681917211328}]
["Total Amount on TOU",null,null,{"$f":"SUM(D52:D53)","v":206.12257919999999},null,null,{"$f":"SUM(G52:G53)","v":206.8845192},0.76194000000000983,3.6965382587256595E-3,null,{"$f":"G54/$G$54","v":1}]
["* Distribution rate protection applies to R1 and R2 customers"]

{"sheet":"BI_R1_Low","index":15,"n_rows":55,"n_cols":11,"rows_kept":55,"cut":false,"hidden":false,"merged":[[0,0,0,10]]}
["2021 Bill Impacts (Low Consumption Level) - R1"]
[]
["Rate Class",{"$f":"RIGHT(A1,LEN(A1)-FIND(\"- \",A1,1)-1)","v":"R1"}]
["Monthly Consumption (kWh)",{"$f":"IF(COUNTIF(A1,\"*Low*\")>0,VLOOKUP(B3,'Data Billing Quantities'!$A:$Z,MATCH(\"Low kWh\",'Data Billing Quantities'!4:4,0),FALSE),IF(COUNTIF(A1,\"*Typical*\")>0,VLOOKUP(B3,'Data Billing Quantities'!$A:$Z,MATCH(\"Typical kWh\",'Data Billing Quantities'!4:4,0),FALSE),IF(COUNTIF(A1,\"*Average*\")>0,VLOOKUP(B3,'Data Billing Quantities'!$A:$Z,MATCH(\"Average kWh\",'Data Billing Quantities'!4:4,0),FALSE),IF(COUNTIF(A1,\"*High*\")>0,VLOOKUP(B3,'Data Billing Quantities'!$A:$Z,MATCH(\"High kWh\",'Data Billing Quantities'!4:4,0),FALSE),\"error\"))))","v":400}]
["Peak (kW)",{"$f":"IF(COUNTIF(A1,\"*Low*\")>0,VLOOKUP(B3,'Data Billing Quantities'!$A:$Z,MATCH(\"Low kW\",'Data Billing Quantities'!4:4,0),FALSE),IF(COUNTIF(A1,\"*Typical*\")>0,VLOOKUP(B3,'Data Billing Quantities'!$A:$Z,MATCH(\"Typical kW\",'Data Billing Quantities'!4:4,0),FALSE),IF(COUNTIF(A1,\"*Average*\")>0,VLOOKUP(B3,'Data Billing Quantities'!$A:$Z,MATCH(\"Average kW\",'Data Billing Quantities'!4:4,0),FALSE),IF(COUNTIF(A1,\"*High*\")>0,VLOOKUP(B3,'Data Billing Quantities'!$A:$Z,MATCH(\"High kW\",'Data Billing Quantities'!4:4,0),FALSE),\"error\"))))","v":0}]
["Loss factor",{"$f":"VLOOKUP(B3,'Data Billing Quantities'!A:D,MATCH(A6,'Data Billing Quantities'!4:4,0),FALSE)","v":1.0760000000000001}]
["Commodity Threshold",{"$f":"VLOOKUP(B3,'Data Billing Quantities'!A:D,MATCH(A7,'Data Billing Quantities'!4:4,0),FALSE)","v":600}]
["Monthly Consumption (kWh) - Uplifted",{"$f":"B4*B6","v":430.40000000000003}]
["Charge determinant",{"$f":"VLOOKUP(B3,'Data Billing Quantities'!A:D,MATCH(A9,'Data Billing Quantities'!4:4,0),FALSE)","v":"kWh"}]
[]
[null,"Volume","Current Rate ($)","Current Charge ($)","Volume","Proposed Rate ($)","Proposed Charge ($)","Change ($)","Change (%)","% of Total Bill on RPP","% of Total Bill on TOU"]
["Energy First Tier",{"$f":"IF(B4>B7,B7,B4)","v":400},{"$f":"VLOOKUP($A12,'Data Pass Through'!$A:$D,2,FALSE)","v":0.10100000000000001},{"$f":"B12*C12","v":40.400000000000006},{"$f":"B12","v":400},{"$f":"VLOOKUP($A12,'Data Pass Through'!$A:$D,3,FALSE)","v":0.10100000000000001},{"$f":"E12*F12","v":40.400000000000006},{"$f":"G12-D12","v":0},{"$f":"IF(ISERROR(H12/ABS(D12)),\"N/A\",(H12/ABS(D12)))","v":0},{"$f":"G12/$G$49","v":0.49902069116270903}]
["Energy Second Tier",{"$f":"IF(B4>B7,(B4)-B7,0)","v":0},{"$f":"VLOOKUP($A13,'Data Pass Through'!$A:$D,2,FALSE)","v":0.11799999999999999},{"$f":"B13*C13","v":0},{"$f":"B13","v":0},{"$f":"VLOOKUP($A13,'Data Pass Through'!$A:$D,3,FALSE)","v":0.11799999999999999},{"$f":"E13*F13","v":0},0,"N/A",{"$f":"G13/$G$49","v":0}]
["Sub-Total:  Energy (RPP Tiered)",null,null,{"$f":"SUM(D12:D13)","v":40.400000000000006},null,null,{"$f":"SUM(G12:G13)","v":40.400000000000006},0,0,{"$f":"G14/$G$49","v":0.49902069116270903}]
["TOU-Off Peak",{"$f":"B$4*VLOOKUP($B$3,'Data Billing Quantities'!$A:$O,MATCH(BI_R1_Low!$A15,'Data Billing Quantities'!$4:$4,0),FALSE)","v":256},{"$f":"VLOOKUP($A15,'Data Pass Through'!$A:$D,2,FALSE)","v":8.5000000000000006E-2},{"$f":"B15*C15","v":21.76},256,{"$f":"VLOOKUP($A15,'Data Pass Through'!$A:$D,3,FALSE)","v":8.5000000000000006E-2},{"$f":"E15*F15","v":21.76},0,0,null,{"$f":"G15/$G$54","v":0.26051530121967731}]
["TOU-Mid Peak",{"$f":"B$4*VLOOKUP($B$3,'Data Billing Quantities'!$A:$O,MATCH(BI_R1_Low!$A16,'Data Billing Quantities'!$4:$4,0),FALSE)","v":72},{"$f":"VLOOKUP($A16,'Data Pass Through'!$A:$D,2,FALSE)","v":0.11899999999999999},{"$f":"B16*C16","v":8.5679999999999996},72,{"$f":"VLOOKUP($A16,'Data Pass Through'!$A:$D,3,FALSE)","v":0.11899999999999999},{"$f":"E16*F16","v":8.5679999999999996},0,0,null,0.10257789985524793]
["TOU-On Peak",{"$f":"B$4*VLOOKUP($B$3,'Data Billing Quantities'!$A:$O,MATCH(BI_R1_Low!$A17,'Data Billing Quantities'!$4:$4,0),FALSE)","v":72},{"$f":"VLOOKUP($A17,'Data Pass Through'!$A:$D,2,FALSE)","v":0.17599999999999999},{"$f":"B17*C17","v":12.671999999999999},72,{"$f":"VLOOKUP($A17,'Data Pass Through'!$A:$D,3,FALSE)","v":0.17599999999999999},{"$f":"E17*F17","v":12.671999999999999},0,0,null,0.15171185188675324]
["Sub-Total:  Energy (RPP TOU)",null,null,{"$f":"SUM(D15:D17)","v":43},null,null,{"$f":"SUM(G15:G17)","v":43},0,0,{"$f":"G18/$G$49","v":0.5311358841583288},0.51480505296167844]
["Service Charge",1,{"$f":"IF(ISERROR(VLOOKUP($B$3,'Data Current Rates'!$A:$BE,MATCH(BI_R1_Low!$A19,CurrentHeader,0),FALSE)),0,VLOOKUP($B$3,'Data Current Rates'!$A:$BE,MATCH(BI_R1_Low!$A19,CurrentHeader,0),FALSE))","v":49.04},{"$f":"B19*C19","v":49.04},1,{"$f":"VLOOKUP($B$3,'Data Proposed Rates'!$A:$BC,MATCH(BI_R1_Low!$A19,ProposedHeader,0),FALSE)","v":49.04},{"$f":"E19*F19","v":49.04},0,0,0.60574194788661495,0.58711720458699324]
["Base Rate Adjustment to Recover Past Tax Amounts FIXED",null,null,null,1,{"$f":"VLOOKUP($B$3,'Data Proposed Rates'!$A:$BC,MATCH(BI_R1_Low!$A20,ProposedHeader,0),FALSE)","v":1.56},1.56,1.56,"N/A",1.9269115797371929E-2,1.8676648433028336E-2]
["Fixed Deferral/Variance Account Rider (General)",1,{"$f":"IF(ISERROR(VLOOKUP($B$3,'Data Current Rates'!$A:$BE,MATCH(BI_R1_Low!$A21,CurrentHeader,0),FALSE)),0,VLOOKUP($B$3,'Data Current Rates'!$A:$BE,MATCH(BI_R1_Low!$A21,CurrentHeader,0),FALSE))","v":-0.14000000000000001},-0.14000000000000001,1,{"$f":"VLOOKUP($B$3,'Data Proposed Rates'!$A:$BC,MATCH(BI_R1_Low!$A21,ProposedHeader,0),FALSE)","v":-0.14000000000000001},-0.14000000000000001,0,0,-1.7292796228410708E-3,-1.6761094747589531E-3]
["Fixed ESM Rider",1,{"$f":"IF(ISERROR(VLOOKUP($B$3,'Data Current Rates'!$A:$BE,MATCH(BI_R1_Low!$A22,CurrentHeader,0),FALSE)),0,VLOOKUP($B$3,'Data Current Rates'!$A:$BE,MATCH(BI_R1_Low!$A22,CurrentHeader,0),FALSE))","v":-0.85},-0.85,1,{"$f":"VLOOKUP($B$3,'Data Proposed Rates'!$A:$BC,MATCH(BI_R1_Low!$A22,ProposedHeader,0),FALSE)","v":-0.85},-0.85,0,0,-1.04991977101065E-2,-1.0176378953893643E-2]
["Distribution Volumetric Charge",{"$f":"IF($B$9=\"kWh\",$B$4,$B$5)","v":400},{"$f":"IF(ISERROR(VLOOKUP($B$3,'Data Current Rates'!$A:$BE,MATCH(BI_R1_Low!$A23,CurrentHeader,0),FALSE)),0,VLOOKUP($B$3,'Data Current Rates'!$A:$BE,MATCH(BI_R1_Low!$A23,CurrentHeader,0),FALSE))","v":1.41E-2},5.64,{"$f":"IF($B$9=\"kWh\",$B$4,$B$5)","v":400},{"$f":"VLOOKUP($B$3,'Data Proposed Rates'!$A:$BC,MATCH(BI_R1_Low!$A23,ProposedHeader,0),FALSE)","v":1.41E-2},5.64,0,0,6.9665264805883129E-2,6.7523267411717824E-2]
["Base Rate Adjustment to Recover Past Tax Amounts VOL"]
["Volumetric Deferral/Variance Account Rider (General)",{"$f":"IF($B$9=\"kWh\",$B$4,$B$5)","v":400},{"$f":"IF(ISERROR(VLOOKUP($B$3,'Data Current Rates'!$A:$BE,MATCH(BI_R1_Low!$A25,CurrentHeader,0),FALSE)),0,VLOOKUP($B$3,'Data Current Rates'!$A:$BE,MATCH(BI_R1_Low!$A25,CurrentHeader,0),FALSE))","v":-8.0000000000000004E-4},-0.32,{"$f":"IF($B$9=\"kWh\",$B$4,$B$5)","v":400},{"$f":"VLOOKUP($B$3,'Data Proposed Rates'!$A:$BC,MATCH(BI_R1_Low!$A25,ProposedHeader,0),FALSE)","v":-8.0000000000000004E-4},-0.32,0,0,-3.9526391379224469E-3,-3.8311073708776071E-3]
["Volumetric ESM Rider",400,{"$f":"IF(ISERROR(VLOOKUP($B$3,'Data Current Rates'!$A:$BE,MATCH(BI_R1_Low!$A26,CurrentHeader,0),FALSE)),0,VLOOKUP($B$3,'Data Current Rates'!$A:$BE,MATCH(BI_R1_Low!$A26,CurrentHeader,0),FALSE))","v":0},0,400,{"$f":"VLOOKUP($B$3,'Data Proposed Rates'!$A:$BC,MATCH(BI_R1_Low!$A26,ProposedHeader,0),FALSE)","v":0},0,0,"N/A",0,0]
["Fair Hydro Plan - Distribution Rate Protection Savings*",null,null,{"$f":"IF(AND(B3<>\"R1\",B3<>\"R2\"),0,IF(VLOOKUP($A27,'Data Pass Through'!$A:$D,2,FALSE)=0,0,IF(SUM(D19:D20,D23:D24)<VLOOKUP($A27,'Data Pass Through'!$A:$D,2,FALSE),0,VLOOKUP($A27,'Data Pass Through'!$A:$D,2,FALSE)-SUM(D19:D20,D23:D24))))","v":-17.82},null,null,{"$f":"IF(AND(B3<>\"R1\",B3<>\"R2\"),0,IF(VLOOKUP($A27,'Data Pass Through'!$A:$D,2,FALSE)=0,0,IF(SUM(G19:G20,G23:G24)<VLOOKUP($A27,'Data Pass Through'!$A:$D,2,FALSE),0,VLOOKUP($A27,'Data Pass Through'!$A:$D,2,FALSE)-SUM(G19:G20,G23:G24))))","v":-19.380000000000003},-1.5600000000000023,-8.7542087542087671E-2,-0.23938170779042822,-0.2320214401487751]
["Sub-Total:  Distribution (excluding pass through)",null,null,{"$f":"SUM(INDIRECT(\"D19:D\"&ROW()-1))","v":35.549999999999997},null,null,{"$f":"SUM(INDIRECT(\"g19:g\"&ROW()-1))","v":35.549999999999997},{"$f":"G28-D28","v":0},0,0.43911350422857182,0.42561208448343413]
["Smart Metering Entity Charge",1,{"$f":"VLOOKUP($A29,'Data Pass Through'!$A:$D,2,FALSE)","v":0.56999999999999995},{"$f":"B29*C29","v":0.56999999999999995},1,{"$f":"VLOOKUP($A29,'Data Pass Through'!$A:$D,3,FALSE)","v":0.56999999999999995},{"$f":"E29*F29","v":0.56999999999999995},0,0,7.0406384644243585E-3,6.8241600043757369E-3]
["Line Losses on Cost of Power (based on two-tier RPP prices)",{"$f":"B8-B4","v":30.400000000000034},{"$f":"IF(B4>B7,C13,C12)","v":0.10100000000000001},{"$f":"B30*C30","v":3.0704000000000038},30.400000000000034,{"$f":"IF(B4>B7,F13,F12)","v":0.10100000000000001},{"$f":"E30*F30","v":3.0704000000000038},0,0,3.7925572528365925E-2,3.6759475223570683E-2]
["Line Losses on Cost of Power (based on TOU prices)",{"$f":"B8-B4","v":30.400000000000034},{"$f":"VLOOKUP($B$3,'Data Billing Quantities'!$A:$O,MATCH(BI_R1_Low!$A15,'Data Billing Quantities'!$4:$4,0),FALSE)*C15+VLOOKUP($B$3,'Data Billing Quantities'!$A:$O,MATCH(BI_R1_Low!$A16,'Data Billing Quantities'!$4:$4,0),FALSE)*C16+VLOOKUP($B$3,'Data Billing Quantities'!$A:$O,MATCH(BI_R1_Low!$A17,'Data Billing Quantities'!$4:$4,0),FALSE)*C17","v":0.1075},{"$f":"B31*C31","v":3.2680000000000038},30.400000000000034,{"$f":"VLOOKUP($B$3,'Data Billing Quantities'!$A:$O,MATCH(BI_R1_Low!$A15,'Data Billing Quantities'!$4:$4,0),FALSE)*F15+VLOOKUP($B$3,'Data Billing Quantities'!$A:$O,MATCH(BI_R1_Low!$A16,'Data Billing Quantities'!$4:$4,0),FALSE)*F16+VLOOKUP($B$3,'Data Billing Quantities'!$A:$O,MATCH(BI_R1_Low!$A17,'Data Billing Quantities'!$4:$4,0),FALSE)*F17","v":0.1075},{"$f":"E31*F31","v":3.2680000000000038},0,0,4.0366327196033037E-2,3.9125184025087606E-2]
["Sub-Total:  Distribution (based on two-tier RPP prices)",null,null,{"$f":"SUM(D28,D29:D30)","v":39.190400000000004},null,null,{"$f":"SUM(G28,G29:G30)","v":39.190400000000004},0,0,0.48407971522136212,0.46919571971138058]
["Sub-Total:  Distribution (based on TOU prices)",null,null,{"$f":"SUM(D28,D29,D31)","v":39.387999999999998},null,null,{"$f":"SUM(G28,G29,G31)","v":39.387999999999998},0,0,0.48652046988902919,0.47156142851289745]
["Retail Transmission Rate – Network Service Rate",{"$f":"B8","v":430.40000000000003},{"$f":"VLOOKUP($B$3,'Data Current Rates'!$A:$BE,MATCH(BI_R1_Low!$A34,CurrentHeader,0),FALSE)","v":8.2000000000000007E-3},{"$f":"B34*C34","v":3.5292800000000004},430.40000000000003,{"$f":"VLOOKUP($B$3,'Data Proposed Rates'!$A:$BC,MATCH(BI_R1_Low!$A34,ProposedHeader,0),FALSE)","v":8.2000000000000007E-3},{"$f":"E34*F34","v":3.5292800000000004},{"$f":"G34-D34","v":0},0,4.3593657052146677E-2,4.2253283193409132E-2]
["Retail Transmission Rate – Line and Transformation Connection Service Rate",{"$f":"B8","v":430.40000000000003},{"$f":"VLOOKUP($B$3,'Data Current Rates'!$A:$BE,MATCH(BI_R1_Low!$A35,CurrentHeader,0),FALSE)","v":7.3000000000000001E-3},{"$f":"B35*C35","v":3.1419200000000003},430.40000000000003,{"$f":"VLOOKUP($B$3,'Data Proposed Rates'!$A:$BC,MATCH(BI_R1_Low!$A35,ProposedHeader,0),FALSE)","v":7.3000000000000001E-3},{"$f":"E35*F35","v":3.1419200000000003},{"$f":"G35-D35","v":0},0,3.880898737569155E-2,3.7615727720961785E-2]
["Sub-Total:  Retail Transmission ",null,null,{"$f":"SUM(D34:D35)","v":6.6712000000000007},null,null,{"$f":"SUM(G34:G35)","v":6.6712000000000007},{"$f":"G36-D36","v":0},0,8.240264442783822E-2,7.9869010914370916E-2]
["Sub-Total:  Delivery (based on two-tier RPP prices)",null,null,{"$f":"D32+D36","v":45.861600000000003},null,null,{"$f":"G32+G36","v":45.861600000000003},{"$f":"G37-D37","v":0},0,0.56648235964920035,0.54906473062575145]
["Sub-Total:  Delivery (based on TOU prices)",null,null,{"$f":"D33+D36","v":46.059199999999997},null,null,{"$f":"G33+G36","v":46.059199999999997},{"$f":"G38-D38","v":0},0,0.56892311431686737,0.55143043942726833]
["Wholesale Market Service Rate (WMS) - not including CBR",{"$f":"B8","v":430.40000000000003},{"$f":"VLOOKUP($A39,'Data Pass Through'!$A:$D,2,FALSE)","v":3.0000000000000001E-3},{"$f":"B39*C39","v":1.2912000000000001},{"$f":"$B$8","v":430.40000000000003},{"$f":"VLOOKUP($A39,'Data Pass Through'!$A:$D,3,FALSE)","v":3.0000000000000001E-3},{"$f":"E39*F39","v":1.2912000000000001},0,0,1.5948898921517074E-2,1.5458518241491146E-2]
["Capacity Based Recovery (CBR) - Applicable for Class B Customers",{"$f":"B8","v":430.40000000000003},{"$f":"VLOOKUP($A40,'Data Pass Through'!$A:$D,2,FALSE)","v":4.0000000000000002E-4},{"$f":"B40*C40","v":0.17216000000000004},{"$f":"$B$8","v":430.40000000000003},{"$f":"VLOOKUP($A40,'Data Pass Through'!$A:$D,3,FALSE)","v":4.0000000000000002E-4},{"$f":"E40*F40","v":0.17216000000000004},0,0,2.1265198562022769E-3,2.0611357655321528E-3]
["Rural Rate Protection Charge",{"$f":"B8","v":430.40000000000003},{"$f":"VLOOKUP($A41,'Data Pass Through'!$A:$D,2,FALSE)","v":5.0000000000000001E-4},0.21520000000000003,430.40000000000003,{"$f":"VLOOKUP($A41,'Data Pass Through'!$A:$D,3,FALSE)","v":5.0000000000000001E-4},0.21520000000000003,0,0,2.658149820252846E-3,2.5764197069151912E-3]
["Standard Supply Service – Administration Charge (if applicable)",1,{"$f":"VLOOKUP($A42,'Data Pass Through'!$A:$D,2,FALSE)","v":0.25},{"$f":"B42*C42","v":0.25},1,{"$f":"VLOOKUP($A42,'Data Pass Through'!$A:$D,3,FALSE)","v":0.25},0.25,0,0,3.0879993265019116E-3,2.9930526334981306E-3]
["Sub-Total:  Regulatory",null,null,{"$f":"SUM(D39:D42)","v":1.9285600000000003},null,null,{"$f":"SUM(G39:G42)","v":1.9285600000000003},0,0,2.382156792447411E-2,2.3089126347436623E-2]
["Debt Retirement Charge (DRC)",{"$f":"B4","v":400},{"$f":"VLOOKUP($A44,'Data Pass Through'!$A:$D,2,FALSE)","v":0},{"$f":"B44*C44","v":0},400,{"$f":"VLOOKUP($A44,'Data Pass Through'!$A:$D,3,FALSE)","v":0},{"$f":"E44*F44","v":0},0,"N/A",0,0]
["Total  Electricty Charge on Two-Tier RPP ",null,null,{"$f":"SUM(D14,D28,D29,D30,D36,D43,D44)","v":88.190160000000006},null,null,{"$f":"SUM(G14,G28,G29,G30,G36,G43,G44)","v":88.190160000000006},0,0,1.0893246187363834]
["     HST",null,0.13,{"$f":"D45*C46","v":11.464720800000002},null,{"$f":"C46","v":0.13},{"$f":"G45*F46","v":11.464720800000002},0,0,0.14161220043572986]
["Total Electricity Charge on Two-Tier RPP (including HST)",null,null,{"$f":"SUM(D45:D46)","v":99.654880800000001},null,null,{"$f":"SUM(G45:G46)","v":99.654880800000001},0,0,1.2309368191721133]
["Ontario Electricity Rebate (OER)",null,{"$f":"'Data Pass Through'!B20","v":-0.21199999999999999},{"$f":"D45*C48","v":-18.696313920000001},null,{"$f":"'Data Pass Through'!C20","v":-0.21199999999999999},{"$f":"G45*F48","v":-18.696313920000001},0,0,-0.23093681917211328]
["Total Amount on Two-Tier RPP",null,null,{"$f":"SUM(D47:D48)","v":80.958566880000006},null,null,{"$f":"SUM(G47:G48)","v":80.958566880000006},0,0,1]
["Total Electricty Charge on TOU (before HST)",null,null,{"$f":"SUM(D18,D28,D29,D31,D36,D43,D44)","v":90.987759999999994},null,null,{"$f":"SUM(G18,G28,G29,G31,G36,G43,G44)","v":90.987759999999994},0,0,null,{"$f":"G50/$G$54","v":1.0893246187363834}]
["     HST",null,0.13,{"$f":"D50*C51","v":11.8284088},null,{"$f":"C51","v":0.13},{"$f":"G50*F51","v":11.8284088},0,0,null,{"$f":"G51/$G$54","v":0.14161220043572983}]
["Total Electricity Charge on TOU (including HST)",null,null,{"$f":"SUM(D50:D51)","v":102.8161688},null,null,{"$f":"SUM(G50:G51)","v":102.8161688},0,0,null,{"$f":"G52/$G$54","v":1.2309368191721133}]
["Ontario Electricity Rebate (OER)",null,{"$f":"'Data Pass Through'!B20","v":-0.21199999999999999},{"$f":"D50*C53","v":-19.289405119999998},null,{"$f":"'Data Pass Through'!C20","v":-0.21199999999999999},{"$f":"G50*F53","v":-19.289405119999998},0,0,null,{"$f":"G53/$G$54","v":-0.23093681917211326}]
["Total Amount on TOU",null,null,{"$f":"SUM(D52:D53)","v":83.526763680000002},null,null,{"$f":"SUM(G52:G53)","v":83.526763680000002},0,0,null,{"$f":"G54/$G$54","v":1}]
["* Distribution rate protection applies to R1 and R2 customers"]

{"sheet":"BI_R1_Typical","index":16,"n_rows":55,"n_cols":11,"rows_kept":55,"cut":false,"hidden":false,"merged":[[0,0,0,10]]}
["2021 Bill Impacts (Typical Consumption Level) - R1"]
[]
["Rate Class",{"$f":"RIGHT(A1,LEN(A1)-FIND(\"- \",A1,1)-1)","v":"R1"}]
["Monthly Consumption (kWh)",{"$f":"IF(COUNTIF(A1,\"*Low*\")>0,VLOOKUP(B3,'Data Billing Quantities'!$A:$Z,MATCH(\"Low kWh\",'Data Billing Quantities'!4:4,0),FALSE),IF(COUNTIF(A1,\"*Typical*\")>0,VLOOKUP(B3,'Data Billing Quantities'!$A:$Z,MATCH(\"Typical kWh\",'Data Billing Quantities'!4:4,0),FALSE),IF(COUNTIF(A1,\"*Average*\")>0,VLOOKUP(B3,'Data Billing Quantities'!$A:$Z,MATCH(\"Average kWh\",'Data Billing Quantities'!4:4,0),FALSE),IF(COUNTIF(A1,\"*High*\")>0,VLOOKUP(B3,'Data Billing Quantities'!$A:$Z,MATCH(\"High kWh\",'Data Billing Quantities'!4:4,0),FALSE),\"error\"))))","v":750}]
["Peak (kW)",{"$f":"IF(COUNTIF(A1,\"*Low*\")>0,VLOOKUP(B3,'Data Billing Quantities'!$A:$Z,MATCH(\"Low kW\",'Data Billing Quantities'!4:4,0),FALSE),IF(COUNTIF(A1,\"*Typical*\")>0,VLOOKUP(B3,'Data Billing Quantities'!$A:$Z,MATCH(\"Typical kW\",'Data Billing Quantities'!4:4,0),FALSE),IF(COUNTIF(A1,\"*Average*\")>0,VLOOKUP(B3,'Data Billing Quantities'!$A:$Z,MATCH(\"Average kW\",'Data Billing Quantities'!4:4,0),FALSE),IF(COUNTIF(A1,\"*High*\")>0,VLOOKUP(B3,'Data Billing Quantities'!$A:$Z,MATCH(\"High kW\",'Data Billing Quantities'!4:4,0),FALSE),\"error\"))))","v":0}]
["Loss factor",{"$f":"VLOOKUP(B3,'Data Billing Quantities'!A:D,MATCH(A6,'Data Billing Quantities'!4:4,0),FALSE)","v":1.0760000000000001}]
["Commodity Threshold",{"$f":"VLOOKUP(B3,'Data Billing Quantities'!A:D,MATCH(A7,'Data Billing Quantities'!4:4,0),FALSE)","v":600}]
["Monthly Consumption (kWh) - Uplifted",{"$f":"B4*B6","v":807}]
["Charge determinant",{"$f":"VLOOKUP(B3,'Data Billing Quantities'!A:D,MATCH(A9,'Data Billing Quantities'!4:4,0),FALSE)","v":"kWh"}]
[]
[null,"Volume","Current Rate ($)","Current Charge ($)","Volume","Proposed Rate ($)","Proposed Charge ($)","Change ($)","Change (%)","% of Total Bill on RPP","% of Total Bill on TOU"]
["Energy First Tier",{"$f":"IF(B4>B7,B7,B4)","v":600},{"$f":"VLOOKUP($A12,'Data Pass Through'!$A:$D,2,FALSE)","v":0.10100000000000001},{"$f":"B12*C12","v":60.6},{"$f":"B12","v":600},{"$f":"VLOOKUP($A12,'Data Pass Through'!$A:$D,3,FALSE)","v":0.10100000000000001},{"$f":"E12*F12","v":60.6},{"$f":"G12-D12","v":0},{"$f":"IF(ISERROR(H12/ABS(D12)),\"N/A\",(H12/ABS(D12)))","v":0},{"$f":"G12/$G$49","v":0.48265118902745185}]
["Energy Second Tier",{"$f":"IF(B4>B7,(B4)-B7,0)","v":150},{"$f":"VLOOKUP($A13,'Data Pass Through'!$A:$D,2,FALSE)","v":0.11799999999999999},{"$f":"B13*C13","v":17.7},{"$f":"B13","v":150},{"$f":"VLOOKUP($A13,'Data Pass Through'!$A:$D,3,FALSE)","v":0.11799999999999999},{"$f":"E13*F13","v":17.7},0,0,{"$f":"G13/$G$49","v":0.14097237699316661}]
["Sub-Total:  Energy (RPP Tiered)",null,null,{"$f":"SUM(D12:D13)","v":78.3},null,null,{"$f":"SUM(G12:G13)","v":78.3},0,0,{"$f":"G14/$G$49","v":0.62362356602061841}]
["TOU-Off Peak",{"$f":"B$4*VLOOKUP($B$3,'Data Billing Quantities'!$A:$O,MATCH(BI_R1_Typical!$A15,'Data Billing Quantities'!$4:$4,0),FALSE)","v":480},{"$f":"VLOOKUP($A15,'Data Pass Through'!$A:$D,2,FALSE)","v":8.5000000000000006E-2},{"$f":"B15*C15","v":40.800000000000004},480,{"$f":"VLOOKUP($A15,'Data Pass Through'!$A:$D,3,FALSE)","v":8.5000000000000006E-2},{"$f":"E15*F15","v":40.800000000000004},0,0,null,{"$f":"G15/$G$54","v":0.32090245471925971}]
["TOU-Mid Peak",{"$f":"B$4*VLOOKUP($B$3,'Data Billing Quantities'!$A:$O,MATCH(BI_R1_Typical!$A16,'Data Billing Quantities'!$4:$4,0),FALSE)","v":135},{"$f":"VLOOKUP($A16,'Data Pass Through'!$A:$D,2,FALSE)","v":0.11899999999999999},{"$f":"B16*C16","v":16.064999999999998},135,{"$f":"VLOOKUP($A16,'Data Pass Through'!$A:$D,3,FALSE)","v":0.11899999999999999},{"$f":"E16*F16","v":16.064999999999998},0,0,null,0.12635534154570849]
["TOU-On Peak",{"$f":"B$4*VLOOKUP($B$3,'Data Billing Quantities'!$A:$O,MATCH(BI_R1_Typical!$A17,'Data Billing Quantities'!$4:$4,0),FALSE)","v":135},{"$f":"VLOOKUP($A17,'Data Pass Through'!$A:$D,2,FALSE)","v":0.17599999999999999},{"$f":"B17*C17","v":23.759999999999998},135,{"$f":"VLOOKUP($A17,'Data Pass Through'!$A:$D,3,FALSE)","v":0.17599999999999999},{"$f":"E17*F17","v":23.759999999999998},0,0,null,0.18687848833651002]
["Sub-Total:  Energy (RPP TOU)",null,null,{"$f":"SUM(D15:D17)","v":80.625},null,null,{"$f":"SUM(G15:G17)","v":80.625},0,0,{"$f":"G18/$G$49","v":0.64214112401548351},0.6341362846014782]
["Service Charge",1,{"$f":"IF(ISERROR(VLOOKUP($B$3,'Data Current Rates'!$A:$BE,MATCH(BI_R1_Typical!$A19,CurrentHeader,0),FALSE)),0,VLOOKUP($B$3,'Data Current Rates'!$A:$BE,MATCH(BI_R1_Typical!$A19,CurrentHeader,0),FALSE))","v":49.04},{"$f":"B19*C19","v":49.04},1,{"$f":"VLOOKUP($B$3,'Data Proposed Rates'!$A:$BC,MATCH(BI_R1_Typical!$A19,ProposedHeader,0),FALSE)","v":49.04},{"$f":"E19*F19","v":49.04},0,0,0.39058109422287518,0.3857121661625611]
["Base Rate Adjustment to Recover Past Tax Amounts FIXED",null,null,null,1,{"$f":"VLOOKUP($B$3,'Data Proposed Rates'!$A:$BC,MATCH(BI_R1_Typical!$A20,ProposedHeader,0),FALSE)","v":1.56},1.56,1.56,"N/A",1.2424684073974008E-2,1.2269799739265811E-2]
["Fixed Deferral/Variance Account Rider (General)",1,{"$f":"IF(ISERROR(VLOOKUP($B$3,'Data Current Rates'!$A:$BE,MATCH(BI_R1_Typical!$A21,CurrentHeader,0),FALSE)),0,VLOOKUP($B$3,'Data Current Rates'!$A:$BE,MATCH(BI_R1_Typical!$A21,CurrentHeader,0),FALSE))","v":-0.14000000000000001},-0.14000000000000001,1,{"$f":"VLOOKUP($B$3,'Data Proposed Rates'!$A:$BC,MATCH(BI_R1_Typical!$A21,ProposedHeader,0),FALSE)","v":-0.14000000000000001},-0.14000000000000001,0,0,-1.1150357502284366E-3,-1.1011358740366753E-3]
["Fixed ESM Rider",1,{"$f":"IF(ISERROR(VLOOKUP($B$3,'Data Current Rates'!$A:$BE,MATCH(BI_R1_Typical!$A22,CurrentHeader,0),FALSE)),0,VLOOKUP($B$3,'Data Current Rates'!$A:$BE,MATCH(BI_R1_Typical!$A22,CurrentHeader,0),FALSE))","v":-0.85},-0.85,1,{"$f":"VLOOKUP($B$3,'Data Proposed Rates'!$A:$BC,MATCH(BI_R1_Typical!$A22,ProposedHeader,0),FALSE)","v":-0.85},-0.85,0,0,-6.7698599121012214E-3,-6.6854678066512428E-3]
["Distribution Volumetric Charge",{"$f":"IF($B$9=\"kWh\",$B$4,$B$5)","v":750},{"$f":"IF(ISERROR(VLOOKUP($B$3,'Data Current Rates'!$A:$BE,MATCH(BI_R1_Typical!$A23,CurrentHeader,0),FALSE)),0,VLOOKUP($B$3,'Data Current Rates'!$A:$BE,MATCH(BI_R1_Typical!$A23,CurrentHeader,0),FALSE))","v":1.41E-2},10.574999999999999,{"$f":"IF($B$9=\"kWh\",$B$4,$B$5)","v":750},{"$f":"VLOOKUP($B$3,'Data Proposed Rates'!$A:$BC,MATCH(BI_R1_Typical!$A23,ProposedHeader,0),FALSE)","v":1.41E-2},10.574999999999999,0,0,8.4225021847612255E-2,8.3175084770984578E-2]
["Base Rate Adjustment to Recover Past Tax Amounts VOL"]
["Volumetric Deferral/Variance Account Rider (General)",{"$f":"IF($B$9=\"kWh\",$B$4,$B$5)","v":750},{"$f":"IF(ISERROR(VLOOKUP($B$3,'Data Current Rates'!$A:$BE,MATCH(BI_R1_Typical!$A25,CurrentHeader,0),FALSE)),0,VLOOKUP($B$3,'Data Current Rates'!$A:$BE,MATCH(BI_R1_Typical!$A25,CurrentHeader,0),FALSE))","v":-8.0000000000000004E-4},-0.6,{"$f":"IF($B$9=\"kWh\",$B$4,$B$5)","v":750},{"$f":"VLOOKUP($B$3,'Data Proposed Rates'!$A:$BC,MATCH(BI_R1_Typical!$A25,ProposedHeader,0),FALSE)","v":-8.0000000000000004E-4},-0.6,0,0,-4.7787246438361561E-3,-4.7191537458714655E-3]
["Volumetric ESM Rider",750,{"$f":"IF(ISERROR(VLOOKUP($B$3,'Data Current Rates'!$A:$BE,MATCH(BI_R1_Typical!$A26,CurrentHeader,0),FALSE)),0,VLOOKUP($B$3,'Data Current Rates'!$A:$BE,MATCH(BI_R1_Typical!$A26,CurrentHeader,0),FALSE))","v":0},0,750,{"$f":"VLOOKUP($B$3,'Data Proposed Rates'!$A:$BC,MATCH(BI_R1_Typical!$A26,ProposedHeader,0),FALSE)","v":0},0,0,"N/A",0,0]
["Fair Hydro Plan - Distribution Rate Protection Savings*",null,null,{"$f":"IF(AND(B3<>\"R1\",B3<>\"R2\"),0,IF(VLOOKUP($A27,'Data Pass Through'!$A:$D,2,FALSE)=0,0,IF(SUM(D19:D20,D23:D24)<VLOOKUP($A27,'Data Pass Through'!$A:$D,2,FALSE),0,VLOOKUP($A27,'Data Pass Through'!$A:$D,2,FALSE)-SUM(D19:D20,D23:D24))))","v":-22.754999999999995},null,null,{"$f":"IF(AND(B3<>\"R1\",B3<>\"R2\"),0,IF(VLOOKUP($A27,'Data Pass Through'!$A:$D,2,FALSE)=0,0,IF(SUM(G19:G20,G23:G24)<VLOOKUP($A27,'Data Pass Through'!$A:$D,2,FALSE),0,VLOOKUP($A27,'Data Pass Through'!$A:$D,2,FALSE)-SUM(G19:G20,G23:G24))))","v":-24.314999999999998},-1.5600000000000023,-6.8556361239288183E-2,-0.19365781619146022,-0.19124370555144113]
["Sub-Total:  Distribution (excluding pass through)",null,null,{"$f":"SUM(INDIRECT(\"D19:D\"&ROW()-1))","v":35.270000000000003},null,null,{"$f":"SUM(INDIRECT(\"g19:g\"&ROW()-1))","v":35.270000000000003},{"$f":"G28-D28","v":0},0,0.28090936364683544,0.277407587694811]
["Smart Metering Entity Charge",1,{"$f":"VLOOKUP($A29,'Data Pass Through'!$A:$D,2,FALSE)","v":0.56999999999999995},{"$f":"B29*C29","v":0.56999999999999995},1,{"$f":"VLOOKUP($A29,'Data Pass Through'!$A:$D,3,FALSE)","v":0.56999999999999995},{"$f":"E29*F29","v":0.56999999999999995},0,0,4.5397884116443483E-3,4.4831960585778917E-3]
["Line Losses on Cost of Power (based on two-tier RPP prices)",{"$f":"B8-B4","v":57},{"$f":"IF(B4>B7,C13,C12)","v":0.11799999999999999},{"$f":"B30*C30","v":6.726},57,{"$f":"IF(B4>B7,F13,F12)","v":0.11799999999999999},{"$f":"E30*F30","v":6.726},0,0,5.3569503257403318E-2,5.2901713491219131E-2]
["Line Losses on Cost of Power (based on TOU prices)",{"$f":"B8-B4","v":57},{"$f":"VLOOKUP($B$3,'Data Billing Quantities'!$A:$O,MATCH(BI_R1_Typical!$A15,'Data Billing Quantities'!$4:$4,0),FALSE)*C15+VLOOKUP($B$3,'Data Billing Quantities'!$A:$O,MATCH(BI_R1_Typical!$A16,'Data Billing Quantities'!$4:$4,0),FALSE)*C16+VLOOKUP($B$3,'Data Billing Quantities'!$A:$O,MATCH(BI_R1_Typical!$A17,'Data Billing Quantities'!$4:$4,0),FALSE)*C17","v":0.1075},{"$f":"B31*C31","v":6.1274999999999995},57,{"$f":"VLOOKUP($B$3,'Data Billing Quantities'!$A:$O,MATCH(BI_R1_Typical!$A15,'Data Billing Quantities'!$4:$4,0),FALSE)*F15+VLOOKUP($B$3,'Data Billing Quantities'!$A:$O,MATCH(BI_R1_Typical!$A16,'Data Billing Quantities'!$4:$4,0),FALSE)*F16+VLOOKUP($B$3,'Data Billing Quantities'!$A:$O,MATCH(BI_R1_Typical!$A17,'Data Billing Quantities'!$4:$4,0),FALSE)*F17","v":0.1075},{"$f":"E31*F31","v":6.1274999999999995},0,0,4.8802725425176746E-2,4.8194357629712338E-2]
["Sub-Total:  Distribution (based on two-tier RPP prices)",null,null,{"$f":"SUM(D28,D29:D30)","v":42.566000000000003},null,null,{"$f":"SUM(G28,G29:G30)","v":42.566000000000003},0,0,0.3390186553158831,0.33479249724460802]
["Sub-Total:  Distribution (based on TOU prices)",null,null,{"$f":"SUM(D28,D29,D31)","v":41.967500000000001},null,null,{"$f":"SUM(G28,G29,G31)","v":41.967500000000001},0,0,0.33425187748365653,0.33008514138310124]
["Retail Transmission Rate – Network Service Rate",{"$f":"B8","v":807},{"$f":"VLOOKUP($B$3,'Data Current Rates'!$A:$BE,MATCH(BI_R1_Typical!$A34,CurrentHeader,0),FALSE)","v":8.2000000000000007E-3},{"$f":"B34*C34","v":6.6174000000000008},807,{"$f":"VLOOKUP($B$3,'Data Proposed Rates'!$A:$BC,MATCH(BI_R1_Typical!$A34,ProposedHeader,0),FALSE)","v":8.2000000000000007E-3},{"$f":"E34*F34","v":6.6174000000000008},{"$f":"G34-D34","v":0},0,5.2704554096868979E-2,5.2047546663216399E-2]
["Retail Transmission Rate – Line and Transformation Connection Service Rate",{"$f":"B8","v":807},{"$f":"VLOOKUP($B$3,'Data Current Rates'!$A:$BE,MATCH(BI_R1_Typical!$A35,CurrentHeader,0),FALSE)","v":7.3000000000000001E-3},{"$f":"B35*C35","v":5.8910999999999998},807,{"$f":"VLOOKUP($B$3,'Data Proposed Rates'!$A:$BC,MATCH(BI_R1_Typical!$A35,ProposedHeader,0),FALSE)","v":7.3000000000000001E-3},{"$f":"E35*F35","v":5.8910999999999998},{"$f":"G35-D35","v":0},0,4.69199079155053E-2,4.6335011053838984E-2]
["Sub-Total:  Retail Transmission ",null,null,{"$f":"SUM(D34:D35)","v":12.508500000000002},null,null,{"$f":"SUM(G34:G35)","v":12.508500000000002},{"$f":"G36-D36","v":0},0,9.9624462012374293E-2,9.8382557717055397E-2]
["Sub-Total:  Delivery (based on two-tier RPP prices)",null,null,{"$f":"D32+D36","v":55.0745},null,null,{"$f":"G32+G36","v":55.0745},{"$f":"G37-D37","v":0},0,0.43864311732825734,0.43317505496166342]
["Sub-Total:  Delivery (based on TOU prices)",null,null,{"$f":"D33+D36","v":54.475999999999999},null,null,{"$f":"G33+G36","v":54.475999999999999},{"$f":"G38-D38","v":0},0,0.43387633949603077,0.42846769910015658]
["Wholesale Market Service Rate (WMS) - not including CBR",{"$f":"B8","v":807},{"$f":"VLOOKUP($A39,'Data Pass Through'!$A:$D,2,FALSE)","v":3.0000000000000001E-3},{"$f":"B39*C39","v":2.4210000000000003},{"$f":"$B$8","v":807},{"$f":"VLOOKUP($A39,'Data Pass Through'!$A:$D,3,FALSE)","v":3.0000000000000001E-3},{"$f":"E39*F39","v":2.4210000000000003},0,0,1.9282153937878896E-2,1.9041785364591366E-2]
["Capacity Based Recovery (CBR) - Applicable for Class B Customers",{"$f":"B8","v":807},{"$f":"VLOOKUP($A40,'Data Pass Through'!$A:$D,2,FALSE)","v":4.0000000000000002E-4},{"$f":"B40*C40","v":0.32280000000000003},{"$f":"$B$8","v":807},{"$f":"VLOOKUP($A40,'Data Pass Through'!$A:$D,3,FALSE)","v":4.0000000000000002E-4},{"$f":"E40*F40","v":0.32280000000000003},0,0,2.5709538583838527E-3,2.538904715278849E-3]
["Rural Rate Protection Charge",{"$f":"B8","v":807},{"$f":"VLOOKUP($A41,'Data Pass Through'!$A:$D,2,FALSE)","v":5.0000000000000001E-4},0.40350000000000003,807,{"$f":"VLOOKUP($A41,'Data Pass Through'!$A:$D,3,FALSE)","v":5.0000000000000001E-4},0.40350000000000003,0,0,3.2136923229798154E-3,3.173630894098561E-3]
["Standard Supply Service – Administration Charge (if applicable)",1,{"$f":"VLOOKUP($A42,'Data Pass Through'!$A:$D,2,FALSE)","v":0.25},{"$f":"B42*C42","v":0.25},1,{"$f":"VLOOKUP($A42,'Data Pass Through'!$A:$D,3,FALSE)","v":0.25},0.25,0,0,1.9911352682650653E-3,1.9663140607797773E-3]
["Sub-Total:  Regulatory",null,null,{"$f":"SUM(D39:D42)","v":3.3973000000000004},null,null,{"$f":"SUM(G39:G42)","v":3.3973000000000004},0,0,2.7057935387507628E-2,2.6720635034748554E-2]
["Debt Retirement Charge (DRC)",{"$f":"B4","v":750},{"$f":"VLOOKUP($A44,'Data Pass Through'!$A:$D,2,FALSE)","v":0},{"$f":"B44*C44","v":0},750,{"$f":"VLOOKUP($A44,'Data Pass Through'!$A:$D,3,FALSE)","v":0},{"$f":"E44*F44","v":0},0,"N/A",0,0]
["Total  Electricty Charge on Two-Tier RPP ",null,null,{"$f":"SUM(D14,D28,D29,D30,D36,D43,D44)","v":136.77179999999998},null,null,{"$f":"SUM(G14,G28,G29,G30,G36,G43,G44)","v":136.77179999999998},0,0,1.0893246187363832]
["     HST",null,0.13,{"$f":"D45*C46","v":17.780334},null,{"$f":"C46","v":0.13},{"$f":"G45*F46","v":17.780334},0,0,0.14161220043572983]
["Total Electricity Charge on Two-Tier RPP (including HST)",null,null,{"$f":"SUM(D45:D46)","v":154.552134},null,null,{"$f":"SUM(G45:G46)","v":154.552134},0,0,1.2309368191721133]
["Ontario Electricity Rebate (OER)",null,{"$f":"'Data Pass Through'!B20","v":-0.21199999999999999},{"$f":"D45*C48","v":-28.995621599999996},null,{"$f":"'Data Pass Through'!C20","v":-0.21199999999999999},{"$f":"G45*F48","v":-28.995621599999996},0,0,-0.23093681917211326]
["Total Amount on Two-Tier RPP",null,null,{"$f":"SUM(D47:D48)","v":125.5565124},null,null,{"$f":"SUM(G47:G48)","v":125.5565124},0,0,1]
["Total Electricty Charge on TOU (before HST)",null,null,{"$f":"SUM(D18,D28,D29,D31,D36,D43,D44)","v":138.4983},null,null,{"$f":"SUM(G18,G28,G29,G31,G36,G43,G44)","v":138.4983},0,0,null,{"$f":"G50/$G$54","v":1.0893246187363834}]
["     HST",null,0.13,{"$f":"D50*C51","v":18.004778999999999},null,{"$f":"C51","v":0.13},{"$f":"G50*F51","v":18.004778999999999},0,0,null,{"$f":"G51/$G$54","v":0.14161220043572983}]
["Total Electricity Charge on TOU (including HST)",null,null,{"$f":"SUM(D50:D51)","v":156.50307900000001},null,null,{"$f":"SUM(G50:G51)","v":156.50307900000001},0,0,null,{"$f":"G52/$G$54","v":1.2309368191721133}]
["Ontario Electricity Rebate (OER)",null,{"$f":"'Data Pass Through'!B20","v":-0.21199999999999999},{"$f":"D50*C53","v":-29.3616396},null,{"$f":"'Data Pass Through'!C20","v":-0.21199999999999999},{"$f":"G50*F53","v":-29.3616396},0,0,null,{"$f":"G53/$G$54","v":-0.23093681917211328}]
["Total Amount on TOU",null,null,{"$f":"SUM(D52:D53)","v":127.14143940000001},null,null,{"$f":"SUM(G52:G53)","v":127.14143940000001},0,0,null,{"$f":"G54/$G$54","v":1}]
["* Distribution rate protection applies to R1 and R2 customers"]

{"sheet":"BI_R1_Avg","index":17,"n_rows":55,"n_cols":11,"rows_kept":55,"cut":false,"hidden":false,"merged":[[0,0,0,10]]}
["2021 Bill Impacts (Average Consumption Level) - R1"]
[]
["Rate Class",{"$f":"RIGHT(A1,LEN(A1)-FIND(\"- \",A1,1)-1)","v":"R1"}]
["Monthly Consumption (kWh)",{"$f":"IF(COUNTIF(A1,\"*Low*\")>0,VLOOKUP(B3,'Data Billing Quantities'!$A:$Z,MATCH(\"Low kWh\",'Data Billing Quantities'!4:4,0),FALSE),IF(COUNTIF(A1,\"*Typical*\")>0,VLOOKUP(B3,'Data Billing Quantities'!$A:$Z,MATCH(\"Typical kWh\",'Data Billing Quantities'!4:4,0),FALSE),IF(COUNTIF(A1,\"*Average*\")>0,VLOOKUP(B3,'Data Billing Quantities'!$A:$Z,MATCH(\"Average kWh\",'Data Billing Quantities'!4:4,0),FALSE),IF(COUNTIF(A1,\"*High*\")>0,VLOOKUP(B3,'Data Billing Quantities'!$A:$Z,MATCH(\"High kWh\",'Data Billing Quantities'!4:4,0),FALSE),\"error\"))))","v":920}]
["Peak (kW)",{"$f":"IF(COUNTIF(A1,\"*Low*\")>0,VLOOKUP(B3,'Data Billing Quantities'!$A:$Z,MATCH(\"Low kW\",'Data Billing Quantities'!4:4,0),FALSE),IF(COUNTIF(A1,\"*Typical*\")>0,VLOOKUP(B3,'Data Billing Quantities'!$A:$Z,MATCH(\"Typical kW\",'Data Billing Quantities'!4:4,0),FALSE),IF(COUNTIF(A1,\"*Average*\")>0,VLOOKUP(B3,'Data Billing Quantities'!$A:$Z,MATCH(\"Average kW\",'Data Billing Quantities'!4:4,0),FALSE),IF(COUNTIF(A1,\"*High*\")>0,VLOOKUP(B3,'Data Billing Quantities'!$A:$Z,MATCH(\"High kW\",'Data Billing Quantities'!4:4,0),FALSE),\"error\"))))","v":0}]
["Loss factor",{"$f":"VLOOKUP(B3,'Data Billing Quantities'!A:D,MATCH(A6,'Data Billing Quantities'!4:4,0),FALSE)","v":1.0760000000000001}]
["Commodity Threshold",{"$f":"VLOOKUP(B3,'Data Billing Quantities'!A:D,MATCH(A7,'Data Billing Quantities'!4:4,0),FALSE)","v":600}]
["Monthly Consumption (kWh) - Uplifted",{"$f":"B4*B6","v":989.92000000000007}]
["Charge determinant",{"$f":"VLOOKUP(B3,'Data Billing Quantities'!A:D,MATCH(A9,'Data Billing Quantities'!4:4,0),FALSE)","v":"kWh"}]
[]
[null,"Volume","Current Rate ($)","Current Charge ($)","Volume","Proposed Rate ($)","Proposed Charge ($)","Change ($)","Change (%)","% of Total Bill on RPP","% of Total Bill on TOU"]
["Energy First Tier",{"$f":"IF(B4>B7,B7,B4)","v":600},{"$f":"VLOOKUP($A12,'Data Pass Through'!$A:$D,2,FALSE)","v":0.10100000000000001},{"$f":"B12*C12","v":60.6},{"$f":"B12","v":600},{"$f":"VLOOKUP($A12,'Data Pass Through'!$A:$D,3,FALSE)","v":0.10100000000000001},{"$f":"E12*F12","v":60.6},{"$f":"G12-D12","v":0},{"$f":"IF(ISERROR(H12/ABS(D12)),\"N/A\",(H12/ABS(D12)))","v":0},{"$f":"G12/$G$49","v":0.40806995549743891}]
["Energy Second Tier",{"$f":"IF(B4>B7,(B4)-B7,0)","v":320},{"$f":"VLOOKUP($A13,'Data Pass Through'!$A:$D,2,FALSE)","v":0.11799999999999999},{"$f":"B13*C13","v":37.76},{"$f":"B13","v":320},{"$f":"VLOOKUP($A13,'Data Pass Through'!$A:$D,3,FALSE)","v":0.11799999999999999},{"$f":"E13*F13","v":37.76},0,0,{"$f":"G13/$G$49","v":0.25426933200632496}]
["Sub-Total:  Energy (RPP Tiered)",null,null,{"$f":"SUM(D12:D13)","v":98.36},null,null,{"$f":"SUM(G12:G13)","v":98.36},0,0,{"$f":"G14/$G$49","v":0.66233928750376381}]
["TOU-Off Peak",{"$f":"B$4*VLOOKUP($B$3,'Data Billing Quantities'!$A:$O,MATCH(BI_R1_Avg!$A15,'Data Billing Quantities'!$4:$4,0),FALSE)","v":588.80000000000007},{"$f":"VLOOKUP($A15,'Data Pass Through'!$A:$D,2,FALSE)","v":8.5000000000000006E-2},{"$f":"B15*C15","v":50.048000000000009},588.80000000000007,{"$f":"VLOOKUP($A15,'Data Pass Through'!$A:$D,3,FALSE)","v":8.5000000000000006E-2},{"$f":"E15*F15","v":50.048000000000009},0,0,null,{"$f":"G15/$G$54","v":0.3374195872275772}]
["TOU-Mid Peak",{"$f":"B$4*VLOOKUP($B$3,'Data Billing Quantities'!$A:$O,MATCH(BI_R1_Avg!$A16,'Data Billing Quantities'!$4:$4,0),FALSE)","v":165.6},{"$f":"VLOOKUP($A16,'Data Pass Through'!$A:$D,2,FALSE)","v":0.11899999999999999},{"$f":"B16*C16","v":19.706399999999999},165.6,{"$f":"VLOOKUP($A16,'Data Pass Through'!$A:$D,3,FALSE)","v":0.11899999999999999},{"$f":"E16*F16","v":19.706399999999999},0,0,null,0.13285896247085849]
["TOU-On Peak",{"$f":"B$4*VLOOKUP($B$3,'Data Billing Quantities'!$A:$O,MATCH(BI_R1_Avg!$A17,'Data Billing Quantities'!$4:$4,0),FALSE)","v":165.6},{"$f":"VLOOKUP($A17,'Data Pass Through'!$A:$D,2,FALSE)","v":0.17599999999999999},{"$f":"B17*C17","v":29.145599999999998},165.6,{"$f":"VLOOKUP($A17,'Data Pass Through'!$A:$D,3,FALSE)","v":0.17599999999999999},{"$f":"E17*F17","v":29.145599999999998},0,0,null,0.19649728903253022]
["Sub-Total:  Energy (RPP TOU)",null,null,{"$f":"SUM(D15:D17)","v":98.9},null,null,{"$f":"SUM(G15:G17)","v":98.9},0,0,{"$f":"G18/$G$49","v":0.66597555443393908},0.66677583873096591]
["Service Charge",1,{"$f":"IF(ISERROR(VLOOKUP($B$3,'Data Current Rates'!$A:$BE,MATCH(BI_R1_Avg!$A19,CurrentHeader,0),FALSE)),0,VLOOKUP($B$3,'Data Current Rates'!$A:$BE,MATCH(BI_R1_Avg!$A19,CurrentHeader,0),FALSE))","v":49.04},{"$f":"B19*C19","v":49.04},1,{"$f":"VLOOKUP($B$3,'Data Proposed Rates'!$A:$BC,MATCH(BI_R1_Avg!$A19,ProposedHeader,0),FALSE)","v":49.04},{"$f":"E19*F19","v":49.04},0,0,0.33022690788109577,0.33062373236973275]
["Base Rate Adjustment to Recover Past Tax Amounts FIXED",null,null,null,1,{"$f":"VLOOKUP($B$3,'Data Proposed Rates'!$A:$BC,MATCH(BI_R1_Avg!$A20,ProposedHeader,0),FALSE)","v":1.56},1.56,1.56,"N/A",1.0504771131617239E-2,1.0517394422854468E-2]
["Fixed Deferral/Variance Account Rider (General)",1,{"$f":"IF(ISERROR(VLOOKUP($B$3,'Data Current Rates'!$A:$BE,MATCH(BI_R1_Avg!$A21,CurrentHeader,0),FALSE)),0,VLOOKUP($B$3,'Data Current Rates'!$A:$BE,MATCH(BI_R1_Avg!$A21,CurrentHeader,0),FALSE))","v":-0.14000000000000001},-0.14000000000000001,1,{"$f":"VLOOKUP($B$3,'Data Proposed Rates'!$A:$BC,MATCH(BI_R1_Avg!$A21,ProposedHeader,0),FALSE)","v":-0.14000000000000001},-0.14000000000000001,0,0,-9.4273587078616257E-4,-9.4386873025617015E-4]
["Fixed ESM Rider",1,{"$f":"IF(ISERROR(VLOOKUP($B$3,'Data Current Rates'!$A:$BE,MATCH(BI_R1_Avg!$A22,CurrentHeader,0),FALSE)),0,VLOOKUP($B$3,'Data Current Rates'!$A:$BE,MATCH(BI_R1_Avg!$A22,CurrentHeader,0),FALSE))","v":-0.85},-0.85,1,{"$f":"VLOOKUP($B$3,'Data Proposed Rates'!$A:$BC,MATCH(BI_R1_Avg!$A22,ProposedHeader,0),FALSE)","v":-0.85},-0.85,0,0,-5.7237535012017006E-3,-5.7306315765553182E-3]
["Distribution Volumetric Charge",{"$f":"IF($B$9=\"kWh\",$B$4,$B$5)","v":920},{"$f":"IF(ISERROR(VLOOKUP($B$3,'Data Current Rates'!$A:$BE,MATCH(BI_R1_Avg!$A23,CurrentHeader,0),FALSE)),0,VLOOKUP($B$3,'Data Current Rates'!$A:$BE,MATCH(BI_R1_Avg!$A23,CurrentHeader,0),FALSE))","v":1.41E-2},12.972,{"$f":"IF($B$9=\"kWh\",$B$4,$B$5)","v":920},{"$f":"VLOOKUP($B$3,'Data Proposed Rates'!$A:$BC,MATCH(BI_R1_Avg!$A23,ProposedHeader,0),FALSE)","v":1.41E-2},12.972,0,0,8.7351212255986424E-2,8.7456179777735982E-2]
["Base Rate Adjustment to Recover Past Tax Amounts VOL"]
["Volumetric Deferral/Variance Account Rider (General)",{"$f":"IF($B$9=\"kWh\",$B$4,$B$5)","v":920},{"$f":"IF(ISERROR(VLOOKUP($B$3,'Data Current Rates'!$A:$BE,MATCH(BI_R1_Avg!$A25,CurrentHeader,0),FALSE)),0,VLOOKUP($B$3,'Data Current Rates'!$A:$BE,MATCH(BI_R1_Avg!$A25,CurrentHeader,0),FALSE))","v":-8.0000000000000004E-4},-0.73599999999999999,{"$f":"IF($B$9=\"kWh\",$B$4,$B$5)","v":920},{"$f":"VLOOKUP($B$3,'Data Proposed Rates'!$A:$BC,MATCH(BI_R1_Avg!$A25,ProposedHeader,0),FALSE)","v":-8.0000000000000004E-4},-0.73599999999999999,0,0,-4.9560971492758257E-3,-4.9620527533467225E-3]
["Volumetric ESM Rider",920,{"$f":"IF(ISERROR(VLOOKUP($B$3,'Data Current Rates'!$A:$BE,MATCH(BI_R1_Avg!$A26,CurrentHeader,0),FALSE)),0,VLOOKUP($B$3,'Data Current Rates'!$A:$BE,MATCH(BI_R1_Avg!$A26,CurrentHeader,0),FALSE))","v":0},0,920,{"$f":"VLOOKUP($B$3,'Data Proposed Rates'!$A:$BC,MATCH(BI_R1_Avg!$A26,ProposedHeader,0),FALSE)","v":0},0,0,"N/A",0,0]
["Fair Hydro Plan - Distribution Rate Protection Savings*",null,null,{"$f":"IF(AND(B3<>\"R1\",B3<>\"R2\"),0,IF(VLOOKUP($A27,'Data Pass Through'!$A:$D,2,FALSE)=0,0,IF(SUM(D19:D20,D23:D24)<VLOOKUP($A27,'Data Pass Through'!$A:$D,2,FALSE),0,VLOOKUP($A27,'Data Pass Through'!$A:$D,2,FALSE)-SUM(D19:D20,D23:D24))))","v":-25.152000000000001},null,null,{"$f":"IF(AND(B3<>\"R1\",B3<>\"R2\"),0,IF(VLOOKUP($A27,'Data Pass Through'!$A:$D,2,FALSE)=0,0,IF(SUM(G19:G20,G23:G24)<VLOOKUP($A27,'Data Pass Through'!$A:$D,2,FALSE),0,VLOOKUP($A27,'Data Pass Through'!$A:$D,2,FALSE)-SUM(G19:G20,G23:G24))))","v":-26.712000000000003},-1.5600000000000023,-6.2022900763358868E-2,-0.1798740041459998,-0.18009015373287729]
["Sub-Total:  Distribution (excluding pass through)",null,null,{"$f":"SUM(INDIRECT(\"D19:D\"&ROW()-1))","v":35.134},null,null,{"$f":"SUM(INDIRECT(\"g19:g\"&ROW()-1))","v":35.134},{"$f":"G28-D28","v":0},0,0.23658630060143593,0.23687059977728772]
["Smart Metering Entity Charge",1,{"$f":"VLOOKUP($A29,'Data Pass Through'!$A:$D,2,FALSE)","v":0.56999999999999995},{"$f":"B29*C29","v":0.56999999999999995},1,{"$f":"VLOOKUP($A29,'Data Pass Through'!$A:$D,3,FALSE)","v":0.56999999999999995},{"$f":"E29*F29","v":0.56999999999999995},0,0,3.8382817596293753E-3,3.8428941160429781E-3]
["Line Losses on Cost of Power (based on two-tier RPP prices)",{"$f":"B8-B4","v":69.920000000000073},{"$f":"IF(B4>B7,C13,C12)","v":0.11799999999999999},{"$f":"B30*C30","v":8.250560000000009},69.920000000000073,{"$f":"IF(B4>B7,F13,F12)","v":0.11799999999999999},{"$f":"E30*F30","v":8.250560000000009},0,0,5.5557849043382061E-2,5.5624611365016827E-2]
["Line Losses on Cost of Power (based on TOU prices)",{"$f":"B8-B4","v":69.920000000000073},{"$f":"VLOOKUP($B$3,'Data Billing Quantities'!$A:$O,MATCH(BI_R1_Avg!$A15,'Data Billing Quantities'!$4:$4,0),FALSE)*C15+VLOOKUP($B$3,'Data Billing Quantities'!$A:$O,MATCH(BI_R1_Avg!$A16,'Data Billing Quantities'!$4:$4,0),FALSE)*C16+VLOOKUP($B$3,'Data Billing Quantities'!$A:$O,MATCH(BI_R1_Avg!$A17,'Data Billing Quantities'!$4:$4,0),FALSE)*C17","v":0.1075},{"$f":"B31*C31","v":7.516400000000008},69.920000000000073,{"$f":"VLOOKUP($B$3,'Data Billing Quantities'!$A:$O,MATCH(BI_R1_Avg!$A15,'Data Billing Quantities'!$4:$4,0),FALSE)*F15+VLOOKUP($B$3,'Data Billing Quantities'!$A:$O,MATCH(BI_R1_Avg!$A16,'Data Billing Quantities'!$4:$4,0),FALSE)*F16+VLOOKUP($B$3,'Data Billing Quantities'!$A:$O,MATCH(BI_R1_Avg!$A17,'Data Billing Quantities'!$4:$4,0),FALSE)*F17","v":0.1075},{"$f":"E31*F31","v":7.516400000000008},0,0,5.0614142136979422E-2,5.0674963743553458E-2]
["Sub-Total:  Distribution (based on two-tier RPP prices)",null,null,{"$f":"SUM(D28,D29:D30)","v":43.954560000000008},null,null,{"$f":"SUM(G28,G29:G30)","v":43.954560000000008},0,0,0.29598243140444735,0.29633810525834753]
["Sub-Total:  Distribution (based on TOU prices)",null,null,{"$f":"SUM(D28,D29,D31)","v":43.220400000000012},null,null,{"$f":"SUM(G28,G29,G31)","v":43.220400000000012},0,0,0.29103872449804474,0.2913884576368842]
["Retail Transmission Rate – Network Service Rate",{"$f":"B8","v":989.92000000000007},{"$f":"VLOOKUP($B$3,'Data Current Rates'!$A:$BE,MATCH(BI_R1_Avg!$A34,CurrentHeader,0),FALSE)","v":8.2000000000000007E-3},{"$f":"B34*C34","v":8.117344000000001},989.92000000000007,{"$f":"VLOOKUP($B$3,'Data Proposed Rates'!$A:$BC,MATCH(BI_R1_Avg!$A34,ProposedHeader,0),FALSE)","v":8.2000000000000007E-3},{"$f":"E34*F34","v":8.117344000000001},{"$f":"G34-D34","v":0},0,5.4660795459363087E-2,5.4726479816661011E-2]
["Retail Transmission Rate – Line and Transformation Connection Service Rate",{"$f":"B8","v":989.92000000000007},{"$f":"VLOOKUP($B$3,'Data Current Rates'!$A:$BE,MATCH(BI_R1_Avg!$A35,CurrentHeader,0),FALSE)","v":7.3000000000000001E-3},{"$f":"B35*C35","v":7.2264160000000004},989.92000000000007,{"$f":"VLOOKUP($B$3,'Data Proposed Rates'!$A:$BC,MATCH(BI_R1_Avg!$A35,ProposedHeader,0),FALSE)","v":7.3000000000000001E-3},{"$f":"E35*F35","v":7.2264160000000004},{"$f":"G35-D35","v":0},0,4.866143986016469E-2,4.8719914958734803E-2]
["Sub-Total:  Retail Transmission ",null,null,{"$f":"SUM(D34:D35)","v":15.343760000000001},null,null,{"$f":"SUM(G34:G35)","v":15.343760000000001},{"$f":"G36-D36","v":0},0,0.10332223531952778,0.10344639477539581]
["Sub-Total:  Delivery (based on two-tier RPP prices)",null,null,{"$f":"D32+D36","v":59.298320000000011},null,null,{"$f":"G32+G36","v":59.298320000000011},{"$f":"G37-D37","v":0},0,0.39930466672397513,0.39978450003374333]
["Sub-Total:  Delivery (based on TOU prices)",null,null,{"$f":"D33+D36","v":58.564160000000015},null,null,{"$f":"G33+G36","v":58.564160000000015},{"$f":"G38-D38","v":0},0,0.39436095981757252,0.39483485241228]
["Wholesale Market Service Rate (WMS) - not including CBR",{"$f":"B8","v":989.92000000000007},{"$f":"VLOOKUP($A39,'Data Pass Through'!$A:$D,2,FALSE)","v":3.0000000000000001E-3},{"$f":"B39*C39","v":2.9697600000000004},{"$f":"$B$8","v":989.92000000000007},{"$f":"VLOOKUP($A39,'Data Pass Through'!$A:$D,3,FALSE)","v":3.0000000000000001E-3},{"$f":"E39*F39","v":2.9697600000000004},0,0,1.9997851997327957E-2,2.002188285975403E-2]
["Capacity Based Recovery (CBR) - Applicable for Class B Customers",{"$f":"B8","v":989.92000000000007},{"$f":"VLOOKUP($A40,'Data Pass Through'!$A:$D,2,FALSE)","v":4.0000000000000002E-4},{"$f":"B40*C40","v":0.39596800000000004},{"$f":"$B$8","v":989.92000000000007},{"$f":"VLOOKUP($A40,'Data Pass Through'!$A:$D,3,FALSE)","v":4.0000000000000002E-4},{"$f":"E40*F40","v":0.39596800000000004},0,0,2.6663802663103942E-3,2.6695843813005372E-3]
["Rural Rate Protection Charge",{"$f":"B8","v":989.92000000000007},{"$f":"VLOOKUP($A41,'Data Pass Through'!$A:$D,2,FALSE)","v":5.0000000000000001E-4},0.49496000000000007,989.92000000000007,{"$f":"VLOOKUP($A41,'Data Pass Through'!$A:$D,3,FALSE)","v":5.0000000000000001E-4},0.49496000000000007,0,0,3.332975332887993E-3,3.3369804766256715E-3]
["Standard Supply Service – Administration Charge (if applicable)",1,{"$f":"VLOOKUP($A42,'Data Pass Through'!$A:$D,2,FALSE)","v":0.25},{"$f":"B42*C42","v":0.25},1,{"$f":"VLOOKUP($A42,'Data Pass Through'!$A:$D,3,FALSE)","v":0.25},0.25,0,0,1.6834569121181471E-3,1.6854798754574467E-3]
["Sub-Total:  Regulatory",null,null,{"$f":"SUM(D39:D42)","v":4.1106880000000006},null,null,{"$f":"SUM(G39:G42)","v":4.1106880000000006},0,0,2.7680664508644492E-2,2.7713927593137684E-2]
["Debt Retirement Charge (DRC)",{"$f":"B4","v":920},{"$f":"VLOOKUP($A44,'Data Pass Through'!$A:$D,2,FALSE)","v":0},{"$f":"B44*C44","v":0},920,{"$f":"VLOOKUP($A44,'Data Pass Through'!$A:$D,3,FALSE)","v":0},{"$f":"E44*F44","v":0},0,"N/A",0,0]
["Total  Electricty Charge on Two-Tier RPP ",null,null,{"$f":"SUM(D14,D28,D29,D30,D36,D43,D44)","v":161.76900800000001},null,null,{"$f":"SUM(G14,G28,G29,G30,G36,G43,G44)","v":161.76900800000001},0,0,1.0893246187363834]
["     HST",null,0.13,{"$f":"D45*C46","v":21.029971040000003},null,{"$f":"C46","v":0.13},{"$f":"G45*F46","v":21.029971040000003},0,0,0.14161220043572986]
["Total Electricity Charge on Two-Tier RPP (including HST)",null,null,{"$f":"SUM(D45:D46)","v":182.79897904000001},null,null,{"$f":"SUM(G45:G46)","v":182.79897904000001},0,0,1.2309368191721133]
["Ontario Electricity Rebate (OER)",null,{"$f":"'Data Pass Through'!B20","v":-0.21199999999999999},{"$f":"D45*C48","v":-34.295029696},null,{"$f":"'Data Pass Through'!C20","v":-0.21199999999999999},{"$f":"G45*F48","v":-34.295029696},0,0,-0.23093681917211328]
["Total Amount on Two-Tier RPP",null,null,{"$f":"SUM(D47:D48)","v":148.50394934400001},null,null,{"$f":"SUM(G47:G48)","v":148.50394934400001},0,0,1]
["Total Electricty Charge on TOU (before HST)",null,null,{"$f":"SUM(D18,D28,D29,D31,D36,D43,D44)","v":161.574848},null,null,{"$f":"SUM(G18,G28,G29,G31,G36,G43,G44)","v":161.574848},0,0,null,{"$f":"G50/$G$54","v":1.0893246187363834}]
["     HST",null,0.13,{"$f":"D50*C51","v":21.004730240000001},null,{"$f":"C51","v":0.13},{"$f":"G50*F51","v":21.004730240000001},0,0,null,{"$f":"G51/$G$54","v":0.14161220043572986}]
["Total Electricity Charge on TOU (including HST)",null,null,{"$f":"SUM(D50:D51)","v":182.57957823999999},null,null,{"$f":"SUM(G50:G51)","v":182.57957823999999},0,0,null,{"$f":"G52/$G$54","v":1.2309368191721133}]
["Ontario Electricity Rebate (OER)",null,{"$f":"'Data Pass Through'!B20","v":-0.21199999999999999},{"$f":"D50*C53","v":-34.253867776},null,{"$f":"'Data Pass Through'!C20","v":-0.21199999999999999},{"$f":"G50*F53","v":-34.253867776},0,0,null,{"$f":"G53/$G$54","v":-0.23093681917211328}]
["Total Amount on TOU",null,null,{"$f":"SUM(D52:D53)","v":148.325710464},null,null,{"$f":"SUM(G52:G53)","v":148.325710464},0,0,null,{"$f":"G54/$G$54","v":1}]
["* Distribution rate protection applies to R1 and R2 customers"]

{"sheet":"BI_R1_High","index":18,"n_rows":55,"n_cols":11,"rows_kept":55,"cut":false,"hidden":false,"merged":[[0,0,0,10]]}
["2021 Bill Impacts (High Consumption Level) - R1"]
[]
["Rate Class",{"$f":"RIGHT(A1,LEN(A1)-FIND(\"- \",A1,1)-1)","v":"R1"}]
["Monthly Consumption (kWh)",{"$f":"IF(COUNTIF(A1,\"*Low*\")>0,VLOOKUP(B3,'Data Billing Quantities'!$A:$Z,MATCH(\"Low kWh\",'Data Billing Quantities'!4:4,0),FALSE),IF(COUNTIF(A1,\"*Typical*\")>0,VLOOKUP(B3,'Data Billing Quantities'!$A:$Z,MATCH(\"Typical kWh\",'Data Billing Quantities'!4:4,0),FALSE),IF(COUNTIF(A1,\"*Average*\")>0,VLOOKUP(B3,'Data Billing Quantities'!$A:$Z,MATCH(\"Average kWh\",'Data Billing Quantities'!4:4,0),FALSE),IF(COUNTIF(A1,\"*High*\")>0,VLOOKUP(B3,'Data Billing Quantities'!$A:$Z,MATCH(\"High kWh\",'Data Billing Quantities'!4:4,0),FALSE),\"error\"))))","v":1800}]
["Peak (kW)",{"$f":"IF(COUNTIF(A1,\"*Low*\")>0,VLOOKUP(B3,'Data Billing Quantities'!$A:$Z,MATCH(\"Low kW\",'Data Billing Quantities'!4:4,0),FALSE),IF(COUNTIF(A1,\"*Typical*\")>0,VLOOKUP(B3,'Data Billing Quantities'!$A:$Z,MATCH(\"Typical kW\",'Data Billing Quantities'!4:4,0),FALSE),IF(COUNTIF(A1,\"*Average*\")>0,VLOOKUP(B3,'Data Billing Quantities'!$A:$Z,MATCH(\"Average kW\",'Data Billing Quantities'!4:4,0),FALSE),IF(COUNTIF(A1,\"*High*\")>0,VLOOKUP(B3,'Data Billing Quantities'!$A:$Z,MATCH(\"High kW\",'Data Billing Quantities'!4:4,0),FALSE),\"error\"))))","v":0}]
["Loss factor",{"$f":"VLOOKUP(B3,'Data Billing Quantities'!A:D,MATCH(A6,'Data Billing Quantities'!4:4,0),FALSE)","v":1.0760000000000001}]
["Commodity Threshold",{"$f":"VLOOKUP(B3,'Data Billing Quantities'!A:D,MATCH(A7,'Data Billing Quantities'!4:4,0),FALSE)","v":600}]
["Monthly Consumption (kWh) - Uplifted",{"$f":"B4*B6","v":1936.8000000000002}]
["Charge determinant",{"$f":"VLOOKUP(B3,'Data Billing Quantities'!A:D,MATCH(A9,'Data Billing Quantities'!4:4,0),FALSE)","v":"kWh"}]
[]
[null,"Volume","Current Rate ($)","Current Charge ($)","Volume","Proposed Rate ($)","Proposed Charge ($)","Change ($)","Change (%)","% of Total Bill on RPP","% of Total Bill on TOU"]
["Energy First Tier",{"$f":"IF(B4>B7,B7,B4)","v":600},{"$f":"VLOOKUP($A12,'Data Pass Through'!$A:$D,2,FALSE)","v":0.10100000000000001},{"$f":"B12*C12","v":60.6},{"$f":"B12","v":600},{"$f":"VLOOKUP($A12,'Data Pass Through'!$A:$D,3,FALSE)","v":0.10100000000000001},{"$f":"E12*F12","v":60.6},{"$f":"G12-D12","v":0},{"$f":"IF(ISERROR(H12/ABS(D12)),\"N/A\",(H12/ABS(D12)))","v":0},{"$f":"G12/$G$49","v":0.22671946362280102}]
["Energy Second Tier",{"$f":"IF(B4>B7,(B4)-B7,0)","v":1200},{"$f":"VLOOKUP($A13,'Data Pass Through'!$A:$D,2,FALSE)","v":0.11799999999999999},{"$f":"B13*C13","v":141.6},{"$f":"B13","v":1200},{"$f":"VLOOKUP($A13,'Data Pass Through'!$A:$D,3,FALSE)","v":0.11799999999999999},{"$f":"E13*F13","v":141.6},0,0,{"$f":"G13/$G$49","v":0.5297603308413964}]
["Sub-Total:  Energy (RPP Tiered)",null,null,{"$f":"SUM(D12:D13)","v":202.2},null,null,{"$f":"SUM(G12:G13)","v":202.2},0,0,{"$f":"G14/$G$49","v":0.75647979446419744}]
["TOU-Off Peak",{"$f":"B$4*VLOOKUP($B$3,'Data Billing Quantities'!$A:$O,MATCH(BI_R1_High!$A15,'Data Billing Quantities'!$4:$4,0),FALSE)","v":1152},{"$f":"VLOOKUP($A15,'Data Pass Through'!$A:$D,2,FALSE)","v":8.5000000000000006E-2},{"$f":"B15*C15","v":97.92},1152,{"$f":"VLOOKUP($A15,'Data Pass Through'!$A:$D,3,FALSE)","v":8.5000000000000006E-2},{"$f":"E15*F15","v":97.92},0,0,null,{"$f":"G15/$G$54","v":0.37955626456665775}]
["TOU-Mid Peak",{"$f":"B$4*VLOOKUP($B$3,'Data Billing Quantities'!$A:$O,MATCH(BI_R1_High!$A16,'Data Billing Quantities'!$4:$4,0),FALSE)","v":324},{"$f":"VLOOKUP($A16,'Data Pass Through'!$A:$D,2,FALSE)","v":0.11899999999999999},{"$f":"B16*C16","v":38.555999999999997},324,{"$f":"VLOOKUP($A16,'Data Pass Through'!$A:$D,3,FALSE)","v":0.11899999999999999},{"$f":"E16*F16","v":38.555999999999997},0,0,null,0.14945027917312148]
["TOU-On Peak",{"$f":"B$4*VLOOKUP($B$3,'Data Billing Quantities'!$A:$O,MATCH(BI_R1_High!$A17,'Data Billing Quantities'!$4:$4,0),FALSE)","v":324},{"$f":"VLOOKUP($A17,'Data Pass Through'!$A:$D,2,FALSE)","v":0.17599999999999999},{"$f":"B17*C17","v":57.023999999999994},324,{"$f":"VLOOKUP($A17,'Data Pass Through'!$A:$D,3,FALSE)","v":0.17599999999999999},{"$f":"E17*F17","v":57.023999999999994},0,0,null,0.2210357070123477]
["Sub-Total:  Energy (RPP TOU)",null,null,{"$f":"SUM(D15:D17)","v":193.5},null,null,{"$f":"SUM(G15:G17)","v":193.5},0,0,{"$f":"G18/$G$49","v":0.72393096057775574},0.75004225075212694]
["Service Charge",1,{"$f":"IF(ISERROR(VLOOKUP($B$3,'Data Current Rates'!$A:$BE,MATCH(BI_R1_High!$A19,CurrentHeader,0),FALSE)),0,VLOOKUP($B$3,'Data Current Rates'!$A:$BE,MATCH(BI_R1_High!$A19,CurrentHeader,0),FALSE))","v":49.04},{"$f":"B19*C19","v":49.04},1,{"$f":"VLOOKUP($B$3,'Data Proposed Rates'!$A:$BC,MATCH(BI_R1_High!$A19,ProposedHeader,0),FALSE)","v":49.04},{"$f":"E19*F19","v":49.04},0,0,0.18347066825185085,0.19008822727071992]
["Base Rate Adjustment to Recover Past Tax Amounts FIXED",null,null,null,1,{"$f":"VLOOKUP($B$3,'Data Proposed Rates'!$A:$BC,MATCH(BI_R1_High!$A20,ProposedHeader,0),FALSE)","v":1.56},1.56,1.56,"N/A",5.8363426279136894E-3,6.0468522541256746E-3]
["Fixed Deferral/Variance Account Rider (General)",1,{"$f":"IF(ISERROR(VLOOKUP($B$3,'Data Current Rates'!$A:$BE,MATCH(BI_R1_High!$A21,CurrentHeader,0),FALSE)),0,VLOOKUP($B$3,'Data Current Rates'!$A:$BE,MATCH(BI_R1_High!$A21,CurrentHeader,0),FALSE))","v":-0.14000000000000001},-0.14000000000000001,1,{"$f":"VLOOKUP($B$3,'Data Proposed Rates'!$A:$BC,MATCH(BI_R1_High!$A21,ProposedHeader,0),FALSE)","v":-0.14000000000000001},-0.14000000000000001,0,0,-5.2377433840251062E-4,-5.4266622793435544E-4]
["Fixed ESM Rider",1,{"$f":"IF(ISERROR(VLOOKUP($B$3,'Data Current Rates'!$A:$BE,MATCH(BI_R1_High!$A22,CurrentHeader,0),FALSE)),0,VLOOKUP($B$3,'Data Current Rates'!$A:$BE,MATCH(BI_R1_High!$A22,CurrentHeader,0),FALSE))","v":-0.85},-0.85,1,{"$f":"VLOOKUP($B$3,'Data Proposed Rates'!$A:$BC,MATCH(BI_R1_High!$A22,ProposedHeader,0),FALSE)","v":-0.85},-0.85,0,0,-3.1800584831580998E-3,-3.2947592410300149E-3]
["Distribution Volumetric Charge",{"$f":"IF($B$9=\"kWh\",$B$4,$B$5)","v":1800},{"$f":"IF(ISERROR(VLOOKUP($B$3,'Data Current Rates'!$A:$BE,MATCH(BI_R1_High!$A23,CurrentHeader,0),FALSE)),0,VLOOKUP($B$3,'Data Current Rates'!$A:$BE,MATCH(BI_R1_High!$A23,CurrentHeader,0),FALSE))","v":1.41E-2},25.38,{"$f":"IF($B$9=\"kWh\",$B$4,$B$5)","v":1800},{"$f":"VLOOKUP($B$3,'Data Proposed Rates'!$A:$BC,MATCH(BI_R1_High!$A23,ProposedHeader,0),FALSE)","v":1.41E-2},25.38,0,0,9.4952805061826559E-2,9.8377634749813855E-2]
["Base Rate Adjustment to Recover Past Tax Amounts VOL"]
["Volumetric Deferral/Variance Account Rider (General)",{"$f":"IF($B$9=\"kWh\",$B$4,$B$5)","v":1800},{"$f":"IF(ISERROR(VLOOKUP($B$3,'Data Current Rates'!$A:$BE,MATCH(BI_R1_High!$A25,CurrentHeader,0),FALSE)),0,VLOOKUP($B$3,'Data Current Rates'!$A:$BE,MATCH(BI_R1_High!$A25,CurrentHeader,0),FALSE))","v":-8.0000000000000004E-4},-1.4400000000000002,{"$f":"IF($B$9=\"kWh\",$B$4,$B$5)","v":1800},{"$f":"VLOOKUP($B$3,'Data Proposed Rates'!$A:$BC,MATCH(BI_R1_High!$A25,ProposedHeader,0),FALSE)","v":-8.0000000000000004E-4},-1.4400000000000002,0,0,-5.3873931949972526E-3,-5.5817097730390848E-3]
["Volumetric ESM Rider",1800,{"$f":"IF(ISERROR(VLOOKUP($B$3,'Data Current Rates'!$A:$BE,MATCH(BI_R1_High!$A26,CurrentHeader,0),FALSE)),0,VLOOKUP($B$3,'Data Current Rates'!$A:$BE,MATCH(BI_R1_High!$A26,CurrentHeader,0),FALSE))","v":0},0,1800,{"$f":"VLOOKUP($B$3,'Data Proposed Rates'!$A:$BC,MATCH(BI_R1_High!$A26,ProposedHeader,0),FALSE)","v":0},0,0,"N/A",0,0]
["Fair Hydro Plan - Distribution Rate Protection Savings*",null,null,{"$f":"IF(AND(B3<>\"R1\",B3<>\"R2\"),0,IF(VLOOKUP($A27,'Data Pass Through'!$A:$D,2,FALSE)=0,0,IF(SUM(D19:D20,D23:D24)<VLOOKUP($A27,'Data Pass Through'!$A:$D,2,FALSE),0,VLOOKUP($A27,'Data Pass Through'!$A:$D,2,FALSE)-SUM(D19:D20,D23:D24))))","v":-37.56},null,null,{"$f":"IF(AND(B3<>\"R1\",B3<>\"R2\"),0,IF(VLOOKUP($A27,'Data Pass Through'!$A:$D,2,FALSE)=0,0,IF(SUM(G19:G20,G23:G24)<VLOOKUP($A27,'Data Pass Through'!$A:$D,2,FALSE),0,VLOOKUP($A27,'Data Pass Through'!$A:$D,2,FALSE)-SUM(G19:G20,G23:G24))))","v":-39.120000000000005},-1.5600000000000023,-4.1533546325878655E-2,-0.1463575151307587,-0.15163644883422847]
["Sub-Total:  Distribution (excluding pass through)",null,null,{"$f":"SUM(INDIRECT(\"D19:D\"&ROW()-1))","v":34.429999999999993},null,null,{"$f":"SUM(INDIRECT(\"g19:g\"&ROW()-1))","v":34.429999999999993},{"$f":"G28-D28","v":0},0,0.12881107479427453,0.13345713019842753]
["Smart Metering Entity Charge",1,{"$f":"VLOOKUP($A29,'Data Pass Through'!$A:$D,2,FALSE)","v":0.56999999999999995},{"$f":"B29*C29","v":0.56999999999999995},1,{"$f":"VLOOKUP($A29,'Data Pass Through'!$A:$D,3,FALSE)","v":0.56999999999999995},{"$f":"E29*F29","v":0.56999999999999995},0,0,2.1325098063530788E-3,2.209426785161304E-3]
["Line Losses on Cost of Power (based on two-tier RPP prices)",{"$f":"B8-B4","v":136.80000000000018},{"$f":"IF(B4>B7,C13,C12)","v":0.11799999999999999},{"$f":"B30*C30","v":16.14240000000002},136.80000000000018,{"$f":"IF(B4>B7,F13,F12)","v":0.11799999999999999},{"$f":"E30*F30","v":16.14240000000002},0,0,6.0392677715919267E-2,6.2570966555768215E-2]
["Line Losses on Cost of Power (based on TOU prices)",{"$f":"B8-B4","v":136.80000000000018},{"$f":"VLOOKUP($B$3,'Data Billing Quantities'!$A:$O,MATCH(BI_R1_High!$A15,'Data Billing Quantities'!$4:$4,0),FALSE)*C15+VLOOKUP($B$3,'Data Billing Quantities'!$A:$O,MATCH(BI_R1_High!$A16,'Data Billing Quantities'!$4:$4,0),FALSE)*C16+VLOOKUP($B$3,'Data Billing Quantities'!$A:$O,MATCH(BI_R1_High!$A17,'Data Billing Quantities'!$4:$4,0),FALSE)*C17","v":0.1075},{"$f":"B31*C31","v":14.706000000000019},136.80000000000018,{"$f":"VLOOKUP($B$3,'Data Billing Quantities'!$A:$O,MATCH(BI_R1_High!$A15,'Data Billing Quantities'!$4:$4,0),FALSE)*F15+VLOOKUP($B$3,'Data Billing Quantities'!$A:$O,MATCH(BI_R1_High!$A16,'Data Billing Quantities'!$4:$4,0),FALSE)*F16+VLOOKUP($B$3,'Data Billing Quantities'!$A:$O,MATCH(BI_R1_High!$A17,'Data Billing Quantities'!$4:$4,0),FALSE)*F17","v":0.1075},{"$f":"E31*F31","v":14.706000000000019},0,0,5.5018753003909508E-2,5.7003211057161725E-2]
["Sub-Total:  Distribution (based on two-tier RPP prices)",null,null,{"$f":"SUM(D28,D29:D30)","v":51.142400000000009},null,null,{"$f":"SUM(G28,G29:G30)","v":51.142400000000009},0,0,0.19133626231654688,0.19823752353935703]
["Sub-Total:  Distribution (based on TOU prices)",null,null,{"$f":"SUM(D28,D29,D31)","v":49.70600000000001},null,null,{"$f":"SUM(G28,G29,G31)","v":49.70600000000001},0,0,0.18596233760453712,0.19266976804075053]
["Retail Transmission Rate – Network Service Rate",{"$f":"B8","v":1936.8000000000002},{"$f":"VLOOKUP($B$3,'Data Current Rates'!$A:$BE,MATCH(BI_R1_High!$A34,CurrentHeader,0),FALSE)","v":8.2000000000000007E-3},{"$f":"B34*C34","v":15.881760000000003},1936.8000000000002,{"$f":"VLOOKUP($B$3,'Data Proposed Rates'!$A:$BC,MATCH(BI_R1_High!$A34,ProposedHeader,0),FALSE)","v":8.2000000000000007E-3},{"$f":"E34*F34","v":15.881760000000003},{"$f":"G34-D34","v":0},0,5.9417559547624704E-2,6.1560677086848072E-2]
["Retail Transmission Rate – Line and Transformation Connection Service Rate",{"$f":"B8","v":1936.8000000000002},{"$f":"VLOOKUP($B$3,'Data Current Rates'!$A:$BE,MATCH(BI_R1_High!$A35,CurrentHeader,0),FALSE)","v":7.3000000000000001E-3},{"$f":"B35*C35","v":14.138640000000002},1936.8000000000002,{"$f":"VLOOKUP($B$3,'Data Proposed Rates'!$A:$BC,MATCH(BI_R1_High!$A35,ProposedHeader,0),FALSE)","v":7.3000000000000001E-3},{"$f":"E35*F35","v":14.138640000000002},{"$f":"G35-D35","v":0},0,5.2896120085080524E-2,5.4804017406584256E-2]
["Sub-Total:  Retail Transmission ",null,null,{"$f":"SUM(D34:D35)","v":30.020400000000006},null,null,{"$f":"SUM(G34:G35)","v":30.020400000000006},{"$f":"G36-D36","v":0},0,0.11231367963270524,0.11636469449343233]
["Sub-Total:  Delivery (based on two-tier RPP prices)",null,null,{"$f":"D32+D36","v":81.162800000000018},null,null,{"$f":"G32+G36","v":81.162800000000018},{"$f":"G37-D37","v":0},0,0.3036499419492521,0.31460221803278937]
["Sub-Total:  Delivery (based on TOU prices)",null,null,{"$f":"D33+D36","v":79.726400000000012},null,null,{"$f":"G33+G36","v":79.726400000000012},{"$f":"G38-D38","v":0},0,0.29827601723724234,0.30903446253418287]
["Wholesale Market Service Rate (WMS) - not including CBR",{"$f":"B8","v":1936.8000000000002},{"$f":"VLOOKUP($A39,'Data Pass Through'!$A:$D,2,FALSE)","v":3.0000000000000001E-3},{"$f":"B39*C39","v":5.8104000000000005},{"$f":"$B$8","v":1936.8000000000002},{"$f":"VLOOKUP($A39,'Data Pass Through'!$A:$D,3,FALSE)","v":3.0000000000000001E-3},{"$f":"E39*F39","v":5.8104000000000005},0,0,2.1738131541813914E-2,2.2522198934212707E-2]
["Capacity Based Recovery (CBR) - Applicable for Class B Customers",{"$f":"B8","v":1936.8000000000002},{"$f":"VLOOKUP($A40,'Data Pass Through'!$A:$D,2,FALSE)","v":4.0000000000000002E-4},{"$f":"B40*C40","v":0.77472000000000008},{"$f":"$B$8","v":1936.8000000000002},{"$f":"VLOOKUP($A40,'Data Pass Through'!$A:$D,3,FALSE)","v":4.0000000000000002E-4},{"$f":"E40*F40","v":0.77472000000000008},0,0,2.8984175389085219E-3,3.0029598578950275E-3]
["Rural Rate Protection Charge",{"$f":"B8","v":1936.8000000000002},{"$f":"VLOOKUP($A41,'Data Pass Through'!$A:$D,2,FALSE)","v":5.0000000000000001E-4},0.96840000000000015,1936.8000000000002,{"$f":"VLOOKUP($A41,'Data Pass Through'!$A:$D,3,FALSE)","v":5.0000000000000001E-4},0.96840000000000015,0,0,3.6230219236356525E-3,3.7536998223687847E-3]
["Standard Supply Service – Administration Charge (if applicable)",1,{"$f":"VLOOKUP($A42,'Data Pass Through'!$A:$D,2,FALSE)","v":0.25},{"$f":"B42*C42","v":0.25},1,{"$f":"VLOOKUP($A42,'Data Pass Through'!$A:$D,3,FALSE)","v":0.25},0.25,0,0,9.3531131857591183E-4,9.6904683559706321E-4]
["Sub-Total:  Regulatory",null,null,{"$f":"SUM(D39:D42)","v":7.8035200000000007},null,null,{"$f":"SUM(G39:G42)","v":7.8035200000000007},0,0,2.9194882322934001E-2,3.0247905450073585E-2]
["Debt Retirement Charge (DRC)",{"$f":"B4","v":1800},{"$f":"VLOOKUP($A44,'Data Pass Through'!$A:$D,2,FALSE)","v":0},{"$f":"B44*C44","v":0},1800,{"$f":"VLOOKUP($A44,'Data Pass Through'!$A:$D,3,FALSE)","v":0},{"$f":"E44*F44","v":0},0,"N/A",0,0]
["Total  Electricty Charge on Two-Tier RPP ",null,null,{"$f":"SUM(D14,D28,D29,D30,D36,D43,D44)","v":291.16631999999998},null,null,{"$f":"SUM(G14,G28,G29,G30,G36,G43,G44)","v":291.16631999999998},0,0,1.0893246187363834]
["     HST",null,0.13,{"$f":"D45*C46","v":37.851621600000001},null,{"$f":"C46","v":0.13},{"$f":"G45*F46","v":37.851621600000001},0,0,0.14161220043572986]
["Total Electricity Charge on Two-Tier RPP (including HST)",null,null,{"$f":"SUM(D45:D46)","v":329.01794159999997},null,null,{"$f":"SUM(G45:G46)","v":329.01794159999997},0,0,1.2309368191721133]
["Ontario Electricity Rebate (OER)",null,{"$f":"'Data Pass Through'!B20","v":-0.21199999999999999},{"$f":"D45*C48","v":-61.727259839999995},null,{"$f":"'Data Pass Through'!C20","v":-0.21199999999999999},{"$f":"G45*F48","v":-61.727259839999995},0,0,-0.23093681917211328]
["Total Amount on Two-Tier RPP",null,null,{"$f":"SUM(D47:D48)","v":267.29068175999998},null,null,{"$f":"SUM(G47:G48)","v":267.29068175999998},0,0,1]
["Total Electricty Charge on TOU (before HST)",null,null,{"$f":"SUM(D18,D28,D29,D31,D36,D43,D44)","v":281.02992},null,null,{"$f":"SUM(G18,G28,G29,G31,G36,G43,G44)","v":281.02992},0,0,null,{"$f":"G50/$G$54","v":1.0893246187363834}]
["     HST",null,0.13,{"$f":"D50*C51","v":36.533889600000002},null,{"$f":"C51","v":0.13},{"$f":"G50*F51","v":36.533889600000002},0,0,null,{"$f":"G51/$G$54","v":0.14161220043572983}]
["Total Electricity Charge on TOU (including HST)",null,null,{"$f":"SUM(D50:D51)","v":317.56380960000001},null,null,{"$f":"SUM(G50:G51)","v":317.56380960000001},0,0,null,{"$f":"G52/$G$54","v":1.2309368191721133}]
["Ontario Electricity Rebate (OER)",null,{"$f":"'Data Pass Through'!B20","v":-0.21199999999999999},{"$f":"D50*C53","v":-59.57834304},null,{"$f":"'Data Pass Through'!C20","v":-0.21199999999999999},{"$f":"G50*F53","v":-59.57834304},0,0,null,{"$f":"G53/$G$54","v":-0.23093681917211328}]
["Total Amount on TOU",null,null,{"$f":"SUM(D52:D53)","v":257.98546656000002},null,null,{"$f":"SUM(G52:G53)","v":257.98546656000002},0,0,null,{"$f":"G54/$G$54","v":1}]
["* Distribution rate protection applies to R1 and R2 customers"]

{"sheet":"BI_R2_Low","index":19,"n_rows":55,"n_cols":11,"rows_kept":55,"cut":false,"hidden":false,"merged":[[0,0,0,10]]}
["2021 Bill Impacts (Low Consumption Level) - R2"]
[]
["Rate Class",{"$f":"RIGHT(A1,LEN(A1)-FIND(\"- \",A1,1)-1)","v":"R2"}]
["Monthly Consumption (kWh)",{"$f":"IF(COUNTIF(A1,\"*Low*\")>0,VLOOKUP(B3,'Data Billing Quantities'!$A:$Z,MATCH(\"Low kWh\",'Data Billing Quantities'!4:4,0),FALSE),IF(COUNTIF(A1,\"*Typical*\")>0,VLOOKUP(B3,'Data Billing Quantities'!$A:$Z,MATCH(\"Typical kWh\",'Data Billing Quantities'!4:4,0),FALSE),IF(COUNTIF(A1,\"*Average*\")>0,VLOOKUP(B3,'Data Billing Quantities'!$A:$Z,MATCH(\"Average kWh\",'Data Billing Quantities'!4:4,0),FALSE),IF(COUNTIF(A1,\"*High*\")>0,VLOOKUP(B3,'Data Billing Quantities'!$A:$Z,MATCH(\"High kWh\",'Data Billing Quantities'!4:4,0),FALSE),\"error\"))))","v":450}]
["Peak (kW)",{"$f":"IF(COUNTIF(A1,\"*Low*\")>0,VLOOKUP(B3,'Data Billing Quantities'!$A:$Z,MATCH(\"Low kW\",'Data Billing Quantities'!4:4,0),FALSE),IF(COUNTIF(A1,\"*Typical*\")>0,VLOOKUP(B3,'Data Billing Quantities'!$A:$Z,MATCH(\"Typical kW\",'Data Billing Quantities'!4:4,0),FALSE),IF(COUNTIF(A1,\"*Average*\")>0,VLOOKUP(B3,'Data Billing Quantities'!$A:$Z,MATCH(\"Average kW\",'Data Billing Quantities'!4:4,0),FALSE),IF(COUNTIF(A1,\"*High*\")>0,VLOOKUP(B3,'Data Billing Quantities'!$A:$Z,MATCH(\"High kW\",'Data Billing Quantities'!4:4,0),FALSE),\"error\"))))","v":0}]
["Loss factor",{"$f":"VLOOKUP(B3,'Data Billing Quantities'!A:D,MATCH(A6,'Data Billing Quantities'!4:4,0),FALSE)","v":1.105}]
["Commodity Threshold",{"$f":"VLOOKUP(B3,'Data Billing Quantities'!A:D,MATCH(A7,'Data Billing Quantities'!4:4,0),FALSE)","v":600}]
["Monthly Consumption (kWh) - Uplifted",{"$f":"B4*B6","v":497.25}]
["Charge determinant",{"$f":"VLOOKUP(B3,'Data Billing Quantities'!A:D,MATCH(A9,'Data Billing Quantities'!4:4,0),FALSE)","v":"kWh"}]
[]
[null,"Volume","Current Rate ($)","Current Charge ($)","Volume","Proposed Rate ($)","Proposed Charge ($)","Change ($)","Change (%)","% of Total Bill on RPP","% of Total Bill on TOU"]
["Energy First Tier",{"$f":"IF(B4>B7,B7,B4)","v":450},{"$f":"VLOOKUP($A12,'Data Pass Through'!$A:$D,2,FALSE)","v":0.10100000000000001},{"$f":"B12*C12","v":45.45},{"$f":"B12","v":450},{"$f":"VLOOKUP($A12,'Data Pass Through'!$A:$D,3,FALSE)","v":0.10100000000000001},{"$f":"E12*F12","v":45.45},{"$f":"G12-D12","v":0},{"$f":"IF(ISERROR(H12/ABS(D12)),\"N/A\",(H12/ABS(D12)))","v":0},{"$f":"G12/$G$49","v":0.52393184225650991}]
["Energy Second Tier",{"$f":"IF(B4>B7,(B4)-B7,0)","v":0},{"$f":"VLOOKUP($A13,'Data Pass Through'!$A:$D,2,FALSE)","v":0.11799999999999999},{"$f":"B13*C13","v":0},{"$f":"B13","v":0},{"$f":"VLOOKUP($A13,'Data Pass Through'!$A:$D,3,FALSE)","v":0.11799999999999999},{"$f":"E13*F13","v":0},0,"N/A",{"$f":"G13/$G$49","v":0}]
["Sub-Total:  Energy (RPP Tiered)",null,null,{"$f":"SUM(D12:D13)","v":45.45},null,null,{"$f":"SUM(G12:G13)","v":45.45},0,0,{"$f":"G14/$G$49","v":0.52393184225650991}]
["TOU-Off Peak",{"$f":"B$4*VLOOKUP($B$3,'Data Billing Quantities'!$A:$O,MATCH(BI_R2_Low!$A15,'Data Billing Quantities'!$4:$4,0),FALSE)","v":288},{"$f":"VLOOKUP($A15,'Data Pass Through'!$A:$D,2,FALSE)","v":8.5000000000000006E-2},{"$f":"B15*C15","v":24.48},288,{"$f":"VLOOKUP($A15,'Data Pass Through'!$A:$D,3,FALSE)","v":8.5000000000000006E-2},{"$f":"E15*F15","v":24.48},0,0,null,{"$f":"G15/$G$54","v":0.27286402256312609}]
["TOU-Mid Peak",{"$f":"B$4*VLOOKUP($B$3,'Data Billing Quantities'!$A:$O,MATCH(BI_R2_Low!$A16,'Data Billing Quantities'!$4:$4,0),FALSE)","v":81},{"$f":"VLOOKUP($A16,'Data Pass Through'!$A:$D,2,FALSE)","v":0.11899999999999999},{"$f":"B16*C16","v":9.6389999999999993},81,{"$f":"VLOOKUP($A16,'Data Pass Through'!$A:$D,3,FALSE)","v":0.11899999999999999},{"$f":"E16*F16","v":9.6389999999999993},0,0,null,0.10744020888423089]
["TOU-On Peak",{"$f":"B$4*VLOOKUP($B$3,'Data Billing Quantities'!$A:$O,MATCH(BI_R2_Low!$A17,'Data Billing Quantities'!$4:$4,0),FALSE)","v":81},{"$f":"VLOOKUP($A17,'Data Pass Through'!$A:$D,2,FALSE)","v":0.17599999999999999},{"$f":"B17*C17","v":14.255999999999998},81,{"$f":"VLOOKUP($A17,'Data Pass Through'!$A:$D,3,FALSE)","v":0.17599999999999999},{"$f":"E17*F17","v":14.255999999999998},0,0,null,0.15890316608087929]
["Sub-Total:  Energy (RPP TOU)",null,null,{"$f":"SUM(D15:D17)","v":48.375},null,null,{"$f":"SUM(G15:G17)","v":48.375},0,0,{"$f":"G18/$G$49","v":0.55765022814430509},0.53920739752823632]
["Service Charge",1,{"$f":"IF(ISERROR(VLOOKUP($B$3,'Data Current Rates'!$A:$BE,MATCH(BI_R2_Low!$A19,CurrentHeader,0),FALSE)),0,VLOOKUP($B$3,'Data Current Rates'!$A:$BE,MATCH(BI_R2_Low!$A19,CurrentHeader,0),FALSE))","v":53.14},{"$f":"B19*C19","v":53.14},1,{"$f":"VLOOKUP($B$3,'Data Proposed Rates'!$A:$BC,MATCH(BI_R2_Low!$A19,ProposedHeader,0),FALSE)","v":53.14},{"$f":"E19*F19","v":53.14},0,0,0.61257949609485007,0.59232002283515195]
["Base Rate Adjustment to Recover Past Tax Amounts FIXED",null,null,null,1,{"$f":"VLOOKUP($B$3,'Data Proposed Rates'!$A:$BC,MATCH(BI_R2_Low!$A20,ProposedHeader,0),FALSE)","v":4.42},4.42,4.42,"N/A",5.0952227563779401E-2,4.9267115185008876E-2]
["Fixed Deferral/Variance Account Rider (General)",1,{"$f":"IF(ISERROR(VLOOKUP($B$3,'Data Current Rates'!$A:$BE,MATCH(BI_R2_Low!$A21,CurrentHeader,0),FALSE)),0,VLOOKUP($B$3,'Data Current Rates'!$A:$BE,MATCH(BI_R2_Low!$A21,CurrentHeader,0),FALSE))","v":-0.14000000000000001},-0.14000000000000001,1,{"$f":"VLOOKUP($B$3,'Data Proposed Rates'!$A:$BC,MATCH(BI_R2_Low!$A21,ProposedHeader,0),FALSE)","v":-0.14000000000000001},-0.14000000000000001,0,0,-1.6138714612961803E-3,-1.5604968610636297E-3]
["Fixed ESM Rider",1,{"$f":"IF(ISERROR(VLOOKUP($B$3,'Data Current Rates'!$A:$BE,MATCH(BI_R2_Low!$A22,CurrentHeader,0),FALSE)),0,VLOOKUP($B$3,'Data Current Rates'!$A:$BE,MATCH(BI_R2_Low!$A22,CurrentHeader,0),FALSE))","v":-1.92},-1.92,1,{"$f":"VLOOKUP($B$3,'Data Proposed Rates'!$A:$BC,MATCH(BI_R2_Low!$A22,ProposedHeader,0),FALSE)","v":-1.92},-1.92,0,0,-2.2133094326347615E-2,-2.1401099808872632E-2]
["Distribution Volumetric Charge",{"$f":"IF($B$9=\"kWh\",$B$4,$B$5)","v":450},{"$f":"IF(ISERROR(VLOOKUP($B$3,'Data Current Rates'!$A:$BE,MATCH(BI_R2_Low!$A23,CurrentHeader,0),FALSE)),0,VLOOKUP($B$3,'Data Current Rates'!$A:$BE,MATCH(BI_R2_Low!$A23,CurrentHeader,0),FALSE))","v":2.2700000000000001E-2},10.215,{"$f":"IF($B$9=\"kWh\",$B$4,$B$5)","v":450},{"$f":"VLOOKUP($B$3,'Data Proposed Rates'!$A:$BC,MATCH(BI_R2_Low!$A23,ProposedHeader,0),FALSE)","v":2.2700000000000001E-2},10.215,0,0,0.11775497840814629,0.11386053882689268]
["Base Rate Adjustment to Recover Past Tax Amounts VOL"]
["Volumetric Deferral/Variance Account Rider (General)",{"$f":"IF($B$9=\"kWh\",$B$4,$B$5)","v":450},{"$f":"IF(ISERROR(VLOOKUP($B$3,'Data Current Rates'!$A:$BE,MATCH(BI_R2_Low!$A25,CurrentHeader,0),FALSE)),0,VLOOKUP($B$3,'Data Current Rates'!$A:$BE,MATCH(BI_R2_Low!$A25,CurrentHeader,0),FALSE))","v":-1.1000000000000001E-3},-0.49500000000000005,{"$f":"IF($B$9=\"kWh\",$B$4,$B$5)","v":450},{"$f":"VLOOKUP($B$3,'Data Proposed Rates'!$A:$BC,MATCH(BI_R2_Low!$A25,ProposedHeader,0),FALSE)","v":-1.1000000000000001E-3},-0.49500000000000005,0,0,-5.706188381011495E-3,-5.5174710444749761E-3]
["Volumetric ESM Rider",450,{"$f":"IF(ISERROR(VLOOKUP($B$3,'Data Current Rates'!$A:$BE,MATCH(BI_R2_Low!$A26,CurrentHeader,0),FALSE)),0,VLOOKUP($B$3,'Data Current Rates'!$A:$BE,MATCH(BI_R2_Low!$A26,CurrentHeader,0),FALSE))","v":0},0,450,{"$f":"VLOOKUP($B$3,'Data Proposed Rates'!$A:$BC,MATCH(BI_R2_Low!$A26,ProposedHeader,0),FALSE)","v":0},0,0,"N/A",0,0]
["Fair Hydro Plan - Distribution Rate Protection Savings*",null,null,{"$f":"IF(AND(B3<>\"R1\",B3<>\"R2\"),0,IF(VLOOKUP($A27,'Data Pass Through'!$A:$D,2,FALSE)=0,0,IF(SUM(D19:D20,D23:D24)<VLOOKUP($A27,'Data Pass Through'!$A:$D,2,FALSE),0,VLOOKUP($A27,'Data Pass Through'!$A:$D,2,FALSE)-SUM(D19:D20,D23:D24))))","v":-26.495000000000005},null,null,{"$f":"IF(AND(B3<>\"R1\",B3<>\"R2\"),0,IF(VLOOKUP($A27,'Data Pass Through'!$A:$D,2,FALSE)=0,0,IF(SUM(G19:G20,G23:G24)<VLOOKUP($A27,'Data Pass Through'!$A:$D,2,FALSE),0,VLOOKUP($A27,'Data Pass Through'!$A:$D,2,FALSE)-SUM(G19:G20,G23:G24))))","v":-30.915000000000006},-4.4200000000000017,-0.16682392904321575,-0.35637740161408155,-0.34459114614130082]
["Sub-Total:  Distribution (excluding pass through)",null,null,{"$f":"SUM(INDIRECT(\"D19:D\"&ROW()-1))","v":34.305},null,null,{"$f":"SUM(INDIRECT(\"g19:g\"&ROW()-1))","v":34.304999999999993},{"$f":"G28-D28","v":0},0,0.39545614628403891,0.38237746299134145]
["Smart Metering Entity Charge",1,{"$f":"VLOOKUP($A29,'Data Pass Through'!$A:$D,2,FALSE)","v":0.56999999999999995},{"$f":"B29*C29","v":0.56999999999999995},1,{"$f":"VLOOKUP($A29,'Data Pass Through'!$A:$D,3,FALSE)","v":0.56999999999999995},{"$f":"E29*F29","v":0.56999999999999995},0,0,6.5707623781344473E-3,6.3534515057590626E-3]
["Line Losses on Cost of Power (based on two-tier RPP prices)",{"$f":"B8-B4","v":47.25},{"$f":"IF(B4>B7,C13,C12)","v":0.10100000000000001},{"$f":"B30*C30","v":4.7722500000000005},47.25,{"$f":"IF(B4>B7,F13,F12)","v":0.10100000000000001},{"$f":"E30*F30","v":4.7722500000000005},0,0,5.5012843436933551E-2,5.3193436751506479E-2]
["Line Losses on Cost of Power (based on TOU prices)",{"$f":"B8-B4","v":47.25},{"$f":"VLOOKUP($B$3,'Data Billing Quantities'!$A:$O,MATCH(BI_R2_Low!$A15,'Data Billing Quantities'!$4:$4,0),FALSE)*C15+VLOOKUP($B$3,'Data Billing Quantities'!$A:$O,MATCH(BI_R2_Low!$A16,'Data Billing Quantities'!$4:$4,0),FALSE)*C16+VLOOKUP($B$3,'Data Billing Quantities'!$A:$O,MATCH(BI_R2_Low!$A17,'Data Billing Quantities'!$4:$4,0),FALSE)*C17","v":0.1075},{"$f":"B31*C31","v":5.0793749999999998},47.25,{"$f":"VLOOKUP($B$3,'Data Billing Quantities'!$A:$O,MATCH(BI_R2_Low!$A15,'Data Billing Quantities'!$4:$4,0),FALSE)*F15+VLOOKUP($B$3,'Data Billing Quantities'!$A:$O,MATCH(BI_R2_Low!$A16,'Data Billing Quantities'!$4:$4,0),FALSE)*F16+VLOOKUP($B$3,'Data Billing Quantities'!$A:$O,MATCH(BI_R2_Low!$A17,'Data Billing Quantities'!$4:$4,0),FALSE)*F17","v":0.1075},{"$f":"E31*F31","v":5.0793749999999998},0,0,5.8553273955152037E-2,5.6616776740464808E-2]
["Sub-Total:  Distribution (based on two-tier RPP prices)",null,null,{"$f":"SUM(D28,D29:D30)","v":39.64725},null,null,{"$f":"SUM(G28,G29:G30)","v":39.647249999999993},0,0,0.45703975209910691,0.44192435124860696]
["Sub-Total:  Distribution (based on TOU prices)",null,null,{"$f":"SUM(D28,D29,D31)","v":39.954374999999999},null,null,{"$f":"SUM(G28,G29,G31)","v":39.954374999999992},0,0,0.46058018261732542,0.44534769123756529]
["Retail Transmission Rate – Network Service Rate",{"$f":"B8","v":497.25},{"$f":"VLOOKUP($B$3,'Data Current Rates'!$A:$BE,MATCH(BI_R2_Low!$A34,CurrentHeader,0),FALSE)","v":7.7000000000000002E-3},{"$f":"B34*C34","v":3.8288250000000001},497.25,{"$f":"VLOOKUP($B$3,'Data Proposed Rates'!$A:$BC,MATCH(BI_R2_Low!$A34,ProposedHeader,0),FALSE)","v":7.7000000000000002E-3},{"$f":"E34*F34","v":3.8288250000000001},{"$f":"G34-D34","v":0},0,4.4137367127123912E-2,4.2677638529013941E-2]
["Retail Transmission Rate – Line and Transformation Connection Service Rate",{"$f":"B8","v":497.25},{"$f":"VLOOKUP($B$3,'Data Current Rates'!$A:$BE,MATCH(BI_R2_Low!$A35,CurrentHeader,0),FALSE)","v":6.7999999999999996E-3},{"$f":"B35*C35","v":3.3813},497.25,{"$f":"VLOOKUP($B$3,'Data Proposed Rates'!$A:$BC,MATCH(BI_R2_Low!$A35,ProposedHeader,0),FALSE)","v":6.7999999999999996E-3},{"$f":"E35*F35","v":3.3813},{"$f":"G35-D35","v":0},0,3.8978454086291241E-2,3.7689343116531791E-2]
["Sub-Total:  Retail Transmission ",null,null,{"$f":"SUM(D34:D35)","v":7.2101249999999997},null,null,{"$f":"SUM(G34:G35)","v":7.2101249999999997},{"$f":"G36-D36","v":0},0,8.3115821213415153E-2,8.0366981645545732E-2]
["Sub-Total:  Delivery (based on two-tier RPP prices)",null,null,{"$f":"D32+D36","v":46.857374999999998},null,null,{"$f":"G32+G36","v":46.85737499999999},{"$f":"G37-D37","v":0},0,0.54015557331252206,0.52229133289415264]
["Sub-Total:  Delivery (based on TOU prices)",null,null,{"$f":"D33+D36","v":47.164499999999997},null,null,{"$f":"G33+G36","v":47.16449999999999},{"$f":"G38-D38","v":0},0,0.54369600383074057,0.52571467288311102]
["Wholesale Market Service Rate (WMS) - not including CBR",{"$f":"B8","v":497.25},{"$f":"VLOOKUP($A39,'Data Pass Through'!$A:$D,2,FALSE)","v":3.0000000000000001E-3},{"$f":"B39*C39","v":1.4917500000000001},{"$f":"$B$8","v":497.25},{"$f":"VLOOKUP($A39,'Data Pass Through'!$A:$D,3,FALSE)","v":3.0000000000000001E-3},{"$f":"E39*F39","v":1.4917500000000001},0,0,1.719637680277555E-2,1.6627651374940496E-2]
["Capacity Based Recovery (CBR) - Applicable for Class B Customers",{"$f":"B8","v":497.25},{"$f":"VLOOKUP($A40,'Data Pass Through'!$A:$D,2,FALSE)","v":4.0000000000000002E-4},{"$f":"B40*C40","v":0.19890000000000002},{"$f":"$B$8","v":497.25},{"$f":"VLOOKUP($A40,'Data Pass Through'!$A:$D,3,FALSE)","v":4.0000000000000002E-4},{"$f":"E40*F40","v":0.19890000000000002},0,0,2.2928502403700732E-3,2.2170201833253997E-3]
["Rural Rate Protection Charge",{"$f":"B8","v":497.25},{"$f":"VLOOKUP($A41,'Data Pass Through'!$A:$D,2,FALSE)","v":5.0000000000000001E-4},0.24862500000000001,497.25,{"$f":"VLOOKUP($A41,'Data Pass Through'!$A:$D,3,FALSE)","v":5.0000000000000001E-4},0.24862500000000001,0,0,2.8660628004625916E-3,2.7712752291567493E-3]
["Standard Supply Service – Administration Charge (if applicable)",1,{"$f":"VLOOKUP($A42,'Data Pass Through'!$A:$D,2,FALSE)","v":0.25},{"$f":"B42*C42","v":0.25},1,{"$f":"VLOOKUP($A42,'Data Pass Through'!$A:$D,3,FALSE)","v":0.25},0.25,0,0,2.8819133237431788E-3,2.7866015376136243E-3]
["Sub-Total:  Regulatory",null,null,{"$f":"SUM(D39:D42)","v":2.1892750000000003},null,null,{"$f":"SUM(G39:G42)","v":2.1892750000000003},0,0,2.5237203167351396E-2,2.4402548325036272E-2]
["Debt Retirement Charge (DRC)",{"$f":"B4","v":450},{"$f":"VLOOKUP($A44,'Data Pass Through'!$A:$D,2,FALSE)","v":0},{"$f":"B44*C44","v":0},450,{"$f":"VLOOKUP($A44,'Data Pass Through'!$A:$D,3,FALSE)","v":0},{"$f":"E44*F44","v":0},0,"N/A",0,0]
["Total  Electricty Charge on Two-Tier RPP ",null,null,{"$f":"SUM(D14,D28,D29,D30,D36,D43,D44)","v":94.496649999999988},null,null,{"$f":"SUM(G14,G28,G29,G30,G36,G43,G44)","v":94.496649999999988},0,0,1.0893246187363834]
["     HST",null,0.13,{"$f":"D45*C46","v":12.284564499999998},null,{"$f":"C46","v":0.13},{"$f":"G45*F46","v":12.284564499999998},0,0,0.14161220043572983]
["Total Electricity Charge on Two-Tier RPP (including HST)",null,null,{"$f":"SUM(D45:D46)","v":106.78121449999999},null,null,{"$f":"SUM(G45:G46)","v":106.78121449999999},0,0,1.2309368191721133]
["Ontario Electricity Rebate (OER)",null,{"$f":"'Data Pass Through'!B20","v":-0.21199999999999999},{"$f":"D45*C48","v":-20.033289799999999},null,{"$f":"'Data Pass Through'!C20","v":-0.21199999999999999},{"$f":"G45*F48","v":-20.033289799999999},0,0,-0.23093681917211328]
["Total Amount on Two-Tier RPP",null,null,{"$f":"SUM(D47:D48)","v":86.747924699999999},null,null,{"$f":"SUM(G47:G48)","v":86.747924699999999},0,0,1]
["Total Electricty Charge on TOU (before HST)",null,null,{"$f":"SUM(D18,D28,D29,D31,D36,D43,D44)","v":97.728774999999999},null,null,{"$f":"SUM(G18,G28,G29,G31,G36,G43,G44)","v":97.728774999999985},0,0,null,{"$f":"G50/$G$54","v":1.0893246187363834}]
["     HST",null,0.13,{"$f":"D50*C51","v":12.704740750000001},null,{"$f":"C51","v":0.13},{"$f":"G50*F51","v":12.704740749999999},0,0,null,{"$f":"G51/$G$54","v":0.14161220043572986}]
["Total Electricity Charge on TOU (including HST)",null,null,{"$f":"SUM(D50:D51)","v":110.43351575},null,null,{"$f":"SUM(G50:G51)","v":110.43351574999998},0,0,null,{"$f":"G52/$G$54","v":1.2309368191721133}]
["Ontario Electricity Rebate (OER)",null,{"$f":"'Data Pass Through'!B20","v":-0.21199999999999999},{"$f":"D50*C53","v":-20.718500299999999},null,{"$f":"'Data Pass Through'!C20","v":-0.21199999999999999},{"$f":"G50*F53","v":-20.718500299999995},0,0,null,{"$f":"G53/$G$54","v":-0.23093681917211328}]
["Total Amount on TOU",null,null,{"$f":"SUM(D52:D53)","v":89.715015449999996},null,null,{"$f":"SUM(G52:G53)","v":89.715015449999981},0,0,null,{"$f":"G54/$G$54","v":1}]
["* Distribution rate protection applies to R1 and R2 customers"]

{"sheet":"BI_R2_Typical","index":20,"n_rows":55,"n_cols":11,"rows_kept":55,"cut":false,"hidden":false,"merged":[[0,0,0,10]]}
["2021 Bill Impacts (Typical Consumption Level) - R2"]
[]
["Rate Class",{"$f":"RIGHT(A1,LEN(A1)-FIND(\"- \",A1,1)-1)","v":"R2"}]
["Monthly Consumption (kWh)",{"$f":"IF(COUNTIF(A1,\"*Low*\")>0,VLOOKUP(B3,'Data Billing Quantities'!$A:$Z,MATCH(\"Low kWh\",'Data Billing Quantities'!4:4,0),FALSE),IF(COUNTIF(A1,\"*Typical*\")>0,VLOOKUP(B3,'Data Billing Quantities'!$A:$Z,MATCH(\"Typical kWh\",'Data Billing Quantities'!4:4,0),FALSE),IF(COUNTIF(A1,\"*Average*\")>0,VLOOKUP(B3,'Data Billing Quantities'!$A:$Z,MATCH(\"Average kWh\",'Data Billing Quantities'!4:4,0),FALSE),IF(COUNTIF(A1,\"*High*\")>0,VLOOKUP(B3,'Data Billing Quantities'!$A:$Z,MATCH(\"High kWh\",'Data Billing Quantities'!4:4,0),FALSE),\"error\"))))","v":750}]
["Peak (kW)",{"$f":"IF(COUNTIF(A1,\"*Low*\")>0,VLOOKUP(B3,'Data Billing Quantities'!$A:$Z,MATCH(\"Low kW\",'Data Billing Quantities'!4:4,0),FALSE),IF(COUNTIF(A1,\"*Typical*\")>0,VLOOKUP(B3,'Data Billing Quantities'!$A:$Z,MATCH(\"Typical kW\",'Data Billing Quantities'!4:4,0),FALSE),IF(COUNTIF(A1,\"*Average*\")>0,VLOOKUP(B3,'Data Billing Quantities'!$A:$Z,MATCH(\"Average kW\",'Data Billing Quantities'!4:4,0),FALSE),IF(COUNTIF(A1,\"*High*\")>0,VLOOKUP(B3,'Data Billing Quantities'!$A:$Z,MATCH(\"High kW\",'Data Billing Quantities'!4:4,0),FALSE),\"error\"))))","v":0}]
["Loss factor",{"$f":"VLOOKUP(B3,'Data Billing Quantities'!A:D,MATCH(A6,'Data Billing Quantities'!4:4,0),FALSE)","v":1.105}]
["Commodity Threshold",{"$f":"VLOOKUP(B3,'Data Billing Quantities'!A:D,MATCH(A7,'Data Billing Quantities'!4:4,0),FALSE)","v":600}]
["Monthly Consumption (kWh) - Uplifted",{"$f":"B4*B6","v":828.75}]
["Charge determinant",{"$f":"VLOOKUP(B3,'Data Billing Quantities'!A:D,MATCH(A9,'Data Billing Quantities'!4:4,0),FALSE)","v":"kWh"}]
[]
[null,"Volume","Current Rate ($)","Current Charge ($)","Volume","Proposed Rate ($)","Proposed Charge ($)","Change ($)","Change (%)","% of Total Bill on RPP","% of Total Bill on TOU"]
["Energy First Tier",{"$f":"IF(B4>B7,B7,B4)","v":600},{"$f":"VLOOKUP($A12,'Data Pass Through'!$A:$D,2,FALSE)","v":0.10100000000000001},{"$f":"B12*C12","v":60.6},{"$f":"B12","v":600},{"$f":"VLOOKUP($A12,'Data Pass Through'!$A:$D,3,FALSE)","v":0.10100000000000001},{"$f":"E12*F12","v":60.6},{"$f":"G12-D12","v":0},{"$f":"IF(ISERROR(H12/ABS(D12)),\"N/A\",(H12/ABS(D12)))","v":0},{"$f":"G12/$G$49","v":0.47961893753055945}]
["Energy Second Tier",{"$f":"IF(B4>B7,(B4)-B7,0)","v":150},{"$f":"VLOOKUP($A13,'Data Pass Through'!$A:$D,2,FALSE)","v":0.11799999999999999},{"$f":"B13*C13","v":17.7},{"$f":"B13","v":150},{"$f":"VLOOKUP($A13,'Data Pass Through'!$A:$D,3,FALSE)","v":0.11799999999999999},{"$f":"E13*F13","v":17.7},0,0,{"$f":"G13/$G$49","v":0.14008671937773765}]
["Sub-Total:  Energy (RPP Tiered)",null,null,{"$f":"SUM(D12:D13)","v":78.3},null,null,{"$f":"SUM(G12:G13)","v":78.3},0,0,{"$f":"G14/$G$49","v":0.61970565690829704}]
["TOU-Off Peak",{"$f":"B$4*VLOOKUP($B$3,'Data Billing Quantities'!$A:$O,MATCH(BI_R2_Typical!$A15,'Data Billing Quantities'!$4:$4,0),FALSE)","v":480},{"$f":"VLOOKUP($A15,'Data Pass Through'!$A:$D,2,FALSE)","v":8.5000000000000006E-2},{"$f":"B15*C15","v":40.800000000000004},480,{"$f":"VLOOKUP($A15,'Data Pass Through'!$A:$D,3,FALSE)","v":8.5000000000000006E-2},{"$f":"E15*F15","v":40.800000000000004},0,0,null,{"$f":"G15/$G$54","v":0.31943482396595713}]
["TOU-Mid Peak",{"$f":"B$4*VLOOKUP($B$3,'Data Billing Quantities'!$A:$O,MATCH(BI_R2_Typical!$A16,'Data Billing Quantities'!$4:$4,0),FALSE)","v":135},{"$f":"VLOOKUP($A16,'Data Pass Through'!$A:$D,2,FALSE)","v":0.11899999999999999},{"$f":"B16*C16","v":16.064999999999998},135,{"$f":"VLOOKUP($A16,'Data Pass Through'!$A:$D,3,FALSE)","v":0.11899999999999999},{"$f":"E16*F16","v":16.064999999999998},0,0,null,0.12577746193659559]
["TOU-On Peak",{"$f":"B$4*VLOOKUP($B$3,'Data Billing Quantities'!$A:$O,MATCH(BI_R2_Typical!$A17,'Data Billing Quantities'!$4:$4,0),FALSE)","v":135},{"$f":"VLOOKUP($A17,'Data Pass Through'!$A:$D,2,FALSE)","v":0.17599999999999999},{"$f":"B17*C17","v":23.759999999999998},135,{"$f":"VLOOKUP($A17,'Data Pass Through'!$A:$D,3,FALSE)","v":0.17599999999999999},{"$f":"E17*F17","v":23.759999999999998},0,0,null,0.18602380925076323]
["Sub-Total:  Energy (RPP TOU)",null,null,{"$f":"SUM(D15:D17)","v":80.625},null,null,{"$f":"SUM(G15:G17)","v":80.625},0,0,{"$f":"G18/$G$49","v":0.63810687852147452},0.63123609515331591]
["Service Charge",1,{"$f":"IF(ISERROR(VLOOKUP($B$3,'Data Current Rates'!$A:$BE,MATCH(BI_R2_Typical!$A19,CurrentHeader,0),FALSE)),0,VLOOKUP($B$3,'Data Current Rates'!$A:$BE,MATCH(BI_R2_Typical!$A19,CurrentHeader,0),FALSE))","v":53.14},{"$f":"B19*C19","v":53.14},1,{"$f":"VLOOKUP($B$3,'Data Proposed Rates'!$A:$BC,MATCH(BI_R2_Typical!$A19,ProposedHeader,0),FALSE)","v":53.14},{"$f":"E19*F19","v":53.14},0,0,0.42057673828999881,0.41604819964585688]
["Base Rate Adjustment to Recover Past Tax Amounts FIXED",null,null,null,1,{"$f":"VLOOKUP($B$3,'Data Proposed Rates'!$A:$BC,MATCH(BI_R2_Typical!$A20,ProposedHeader,0),FALSE)","v":4.42},4.42,4.42,"N/A",3.4982107324836184E-2,3.4605439262978682E-2]
["Fixed Deferral/Variance Account Rider (General)",1,{"$f":"IF(ISERROR(VLOOKUP($B$3,'Data Current Rates'!$A:$BE,MATCH(BI_R2_Typical!$A21,CurrentHeader,0),FALSE)),0,VLOOKUP($B$3,'Data Current Rates'!$A:$BE,MATCH(BI_R2_Typical!$A21,CurrentHeader,0),FALSE))","v":-0.14000000000000001},-0.14000000000000001,1,{"$f":"VLOOKUP($B$3,'Data Proposed Rates'!$A:$BC,MATCH(BI_R2_Typical!$A21,ProposedHeader,0),FALSE)","v":-0.14000000000000001},-0.14000000000000001,0,0,-1.1080305487504675E-3,-1.096099886157696E-3]
["Fixed ESM Rider",1,{"$f":"IF(ISERROR(VLOOKUP($B$3,'Data Current Rates'!$A:$BE,MATCH(BI_R2_Typical!$A22,CurrentHeader,0),FALSE)),0,VLOOKUP($B$3,'Data Current Rates'!$A:$BE,MATCH(BI_R2_Typical!$A22,CurrentHeader,0),FALSE))","v":-1.92},-1.92,1,{"$f":"VLOOKUP($B$3,'Data Proposed Rates'!$A:$BC,MATCH(BI_R2_Typical!$A22,ProposedHeader,0),FALSE)","v":-1.92},-1.92,0,0,-1.5195847525720695E-2,-1.5032227010162685E-2]
["Distribution Volumetric Charge",{"$f":"IF($B$9=\"kWh\",$B$4,$B$5)","v":750},{"$f":"IF(ISERROR(VLOOKUP($B$3,'Data Current Rates'!$A:$BE,MATCH(BI_R2_Typical!$A23,CurrentHeader,0),FALSE)),0,VLOOKUP($B$3,'Data Current Rates'!$A:$BE,MATCH(BI_R2_Typical!$A23,CurrentHeader,0),FALSE))","v":2.2700000000000001E-2},17.025000000000002,{"$f":"IF($B$9=\"kWh\",$B$4,$B$5)","v":750},{"$f":"VLOOKUP($B$3,'Data Proposed Rates'!$A:$BC,MATCH(BI_R2_Typical!$A23,ProposedHeader,0),FALSE)","v":2.2700000000000001E-2},17.025000000000002,0,0,0.13474442923197649,0.13329357544167697]
["Base Rate Adjustment to Recover Past Tax Amounts VOL"]
["Volumetric Deferral/Variance Account Rider (General)",{"$f":"IF($B$9=\"kWh\",$B$4,$B$5)","v":750},{"$f":"IF(ISERROR(VLOOKUP($B$3,'Data Current Rates'!$A:$BE,MATCH(BI_R2_Typical!$A25,CurrentHeader,0),FALSE)),0,VLOOKUP($B$3,'Data Current Rates'!$A:$BE,MATCH(BI_R2_Typical!$A25,CurrentHeader,0),FALSE))","v":-1.1000000000000001E-3},-0.82500000000000007,{"$f":"IF($B$9=\"kWh\",$B$4,$B$5)","v":750},{"$f":"VLOOKUP($B$3,'Data Proposed Rates'!$A:$BC,MATCH(BI_R2_Typical!$A25,ProposedHeader,0),FALSE)","v":-1.1000000000000001E-3},-0.82500000000000007,0,0,-6.5294657337081115E-3,-6.4591600434292795E-3]
["Volumetric ESM Rider",750,{"$f":"IF(ISERROR(VLOOKUP($B$3,'Data Current Rates'!$A:$BE,MATCH(BI_R2_Typical!$A26,CurrentHeader,0),FALSE)),0,VLOOKUP($B$3,'Data Current Rates'!$A:$BE,MATCH(BI_R2_Typical!$A26,CurrentHeader,0),FALSE))","v":0},0,750,{"$f":"VLOOKUP($B$3,'Data Proposed Rates'!$A:$BC,MATCH(BI_R2_Typical!$A26,ProposedHeader,0),FALSE)","v":0},0,0,"N/A",0,0]
["Fair Hydro Plan - Distribution Rate Protection Savings*",null,null,{"$f":"IF(AND(B3<>\"R1\",B3<>\"R2\"),0,IF(VLOOKUP($A27,'Data Pass Through'!$A:$D,2,FALSE)=0,0,IF(SUM(D19:D20,D23:D24)<VLOOKUP($A27,'Data Pass Through'!$A:$D,2,FALSE),0,VLOOKUP($A27,'Data Pass Through'!$A:$D,2,FALSE)-SUM(D19:D20,D23:D24))))","v":-33.305000000000007},null,null,{"$f":"IF(AND(B3<>\"R1\",B3<>\"R2\"),0,IF(VLOOKUP($A27,'Data Pass Through'!$A:$D,2,FALSE)=0,0,IF(SUM(G19:G20,G23:G24)<VLOOKUP($A27,'Data Pass Through'!$A:$D,2,FALSE),0,VLOOKUP($A27,'Data Pass Through'!$A:$D,2,FALSE)-SUM(G19:G20,G23:G24))))","v":-37.725000000000009},-4.4200000000000017,-0.13271280588500228,-0.29857466036865277,-0.29535977289499349]
["Sub-Total:  Distribution (excluding pass through)",null,null,{"$f":"SUM(INDIRECT(\"D19:D\"&ROW()-1))","v":33.974999999999994},null,null,{"$f":"SUM(INDIRECT(\"g19:g\"&ROW()-1))","v":33.974999999999994},{"$f":"G28-D28","v":0},0,0.26889527066997942,0.26599995451576935]
["Smart Metering Entity Charge",1,{"$f":"VLOOKUP($A29,'Data Pass Through'!$A:$D,2,FALSE)","v":0.56999999999999995},{"$f":"B29*C29","v":0.56999999999999995},1,{"$f":"VLOOKUP($A29,'Data Pass Through'!$A:$D,3,FALSE)","v":0.56999999999999995},{"$f":"E29*F29","v":0.56999999999999995},0,0,4.5112672341983311E-3,4.4626923936420468E-3]
["Line Losses on Cost of Power (based on two-tier RPP prices)",{"$f":"B8-B4","v":78.75},{"$f":"IF(B4>B7,C13,C12)","v":0.11799999999999999},{"$f":"B30*C30","v":9.2924999999999986},78.75,{"$f":"IF(B4>B7,F13,F12)","v":0.11799999999999999},{"$f":"E30*F30","v":9.2924999999999986},0,0,7.3545527673312253E-2,7.2753629943717049E-2]
["Line Losses on Cost of Power (based on TOU prices)",{"$f":"B8-B4","v":78.75},{"$f":"VLOOKUP($B$3,'Data Billing Quantities'!$A:$O,MATCH(BI_R2_Typical!$A15,'Data Billing Quantities'!$4:$4,0),FALSE)*C15+VLOOKUP($B$3,'Data Billing Quantities'!$A:$O,MATCH(BI_R2_Typical!$A16,'Data Billing Quantities'!$4:$4,0),FALSE)*C16+VLOOKUP($B$3,'Data Billing Quantities'!$A:$O,MATCH(BI_R2_Typical!$A17,'Data Billing Quantities'!$4:$4,0),FALSE)*C17","v":0.1075},{"$f":"B31*C31","v":8.4656249999999993},78.75,{"$f":"VLOOKUP($B$3,'Data Billing Quantities'!$A:$O,MATCH(BI_R2_Typical!$A15,'Data Billing Quantities'!$4:$4,0),FALSE)*F15+VLOOKUP($B$3,'Data Billing Quantities'!$A:$O,MATCH(BI_R2_Typical!$A16,'Data Billing Quantities'!$4:$4,0),FALSE)*F16+VLOOKUP($B$3,'Data Billing Quantities'!$A:$O,MATCH(BI_R2_Typical!$A17,'Data Billing Quantities'!$4:$4,0),FALSE)*F17","v":0.1075},{"$f":"E31*F31","v":8.4656249999999993},0,0,6.7001222244754813E-2,6.6279789991098167E-2]
["Sub-Total:  Distribution (based on two-tier RPP prices)",null,null,{"$f":"SUM(D28,D29:D30)","v":43.837499999999991},null,null,{"$f":"SUM(G28,G29:G30)","v":43.837499999999991},0,0,0.34695206557749003,0.34321627685312844]
["Sub-Total:  Distribution (based on TOU prices)",null,null,{"$f":"SUM(D28,D29,D31)","v":43.01062499999999},null,null,{"$f":"SUM(G28,G29,G31)","v":43.01062499999999},0,0,0.34040776014893254,0.33674243690050953]
["Retail Transmission Rate – Network Service Rate",{"$f":"B8","v":828.75},{"$f":"VLOOKUP($B$3,'Data Current Rates'!$A:$BE,MATCH(BI_R2_Typical!$A34,CurrentHeader,0),FALSE)","v":7.7000000000000002E-3},{"$f":"B34*C34","v":6.3813750000000002},828.75,{"$f":"VLOOKUP($B$3,'Data Proposed Rates'!$A:$BC,MATCH(BI_R2_Typical!$A34,ProposedHeader,0),FALSE)","v":7.7000000000000002E-3},{"$f":"E34*F34","v":6.3813750000000002},{"$f":"G34-D34","v":0},0,5.0505417450232244E-2,4.9961602935925477E-2]
["Retail Transmission Rate – Line and Transformation Connection Service Rate",{"$f":"B8","v":828.75},{"$f":"VLOOKUP($B$3,'Data Current Rates'!$A:$BE,MATCH(BI_R2_Typical!$A35,CurrentHeader,0),FALSE)","v":6.7999999999999996E-3},{"$f":"B35*C35","v":5.6354999999999995},828.75,{"$f":"VLOOKUP($B$3,'Data Proposed Rates'!$A:$BC,MATCH(BI_R2_Typical!$A35,ProposedHeader,0),FALSE)","v":6.7999999999999996E-3},{"$f":"E35*F35","v":5.6354999999999995},{"$f":"G35-D35","v":0},0,4.4602186839166127E-2,4.4121935060297816E-2]
["Sub-Total:  Retail Transmission ",null,null,{"$f":"SUM(D34:D35)","v":12.016874999999999},null,null,{"$f":"SUM(G34:G35)","v":12.016874999999999},{"$f":"G36-D36","v":0},0,9.5107604289398365E-2,9.4083537996223293E-2]
["Sub-Total:  Delivery (based on two-tier RPP prices)",null,null,{"$f":"D32+D36","v":55.85437499999999},null,null,{"$f":"G32+G36","v":55.85437499999999},{"$f":"G37-D37","v":0},0,0.44205966986688838,0.43729981484935176]
["Sub-Total:  Delivery (based on TOU prices)",null,null,{"$f":"D33+D36","v":55.027499999999989},null,null,{"$f":"G33+G36","v":55.027499999999989},{"$f":"G38-D38","v":0},0,0.43551536443833094,0.43082597489673286]
["Wholesale Market Service Rate (WMS) - not including CBR",{"$f":"B8","v":828.75},{"$f":"VLOOKUP($A39,'Data Pass Through'!$A:$D,2,FALSE)","v":3.0000000000000001E-3},{"$f":"B39*C39","v":2.4862500000000001},{"$f":"$B$8","v":828.75},{"$f":"VLOOKUP($A39,'Data Pass Through'!$A:$D,3,FALSE)","v":3.0000000000000001E-3},{"$f":"E39*F39","v":2.4862500000000001},0,0,1.9677435370220354E-2,1.946555958542551E-2]
["Capacity Based Recovery (CBR) - Applicable for Class B Customers",{"$f":"B8","v":828.75},{"$f":"VLOOKUP($A40,'Data Pass Through'!$A:$D,2,FALSE)","v":4.0000000000000002E-4},{"$f":"B40*C40","v":0.33150000000000002},{"$f":"$B$8","v":828.75},{"$f":"VLOOKUP($A40,'Data Pass Through'!$A:$D,3,FALSE)","v":4.0000000000000002E-4},{"$f":"E40*F40","v":0.33150000000000002},0,0,2.6236580493627141E-3,2.5954079447234016E-3]
["Rural Rate Protection Charge",{"$f":"B8","v":828.75},{"$f":"VLOOKUP($A41,'Data Pass Through'!$A:$D,2,FALSE)","v":5.0000000000000001E-4},0.41437499999999999,828.75,{"$f":"VLOOKUP($A41,'Data Pass Through'!$A:$D,3,FALSE)","v":5.0000000000000001E-4},0.41437499999999999,0,0,3.2795725617033923E-3,3.2442599309042515E-3]
["Standard Supply Service – Administration Charge (if applicable)",1,{"$f":"VLOOKUP($A42,'Data Pass Through'!$A:$D,2,FALSE)","v":0.25},{"$f":"B42*C42","v":0.25},1,{"$f":"VLOOKUP($A42,'Data Pass Through'!$A:$D,3,FALSE)","v":0.25},0.25,0,0,1.978625979911549E-3,1.9573212252815999E-3]
["Sub-Total:  Regulatory",null,null,{"$f":"SUM(D39:D42)","v":3.4821250000000004},null,null,{"$f":"SUM(G39:G42)","v":3.4821250000000004},0,0,2.755929196119801E-2,2.7262548686334764E-2]
["Debt Retirement Charge (DRC)",{"$f":"B4","v":750},{"$f":"VLOOKUP($A44,'Data Pass Through'!$A:$D,2,FALSE)","v":0},{"$f":"B44*C44","v":0},750,{"$f":"VLOOKUP($A44,'Data Pass Through'!$A:$D,3,FALSE)","v":0},{"$f":"E44*F44","v":0},0,"N/A",0,0]
["Total  Electricty Charge on Two-Tier RPP ",null,null,{"$f":"SUM(D14,D28,D29,D30,D36,D43,D44)","v":137.63649999999998},null,null,{"$f":"SUM(G14,G28,G29,G30,G36,G43,G44)","v":137.63649999999998},0,0,1.0893246187363834]
["     HST",null,0.13,{"$f":"D45*C46","v":17.892744999999998},null,{"$f":"C46","v":0.13},{"$f":"G45*F46","v":17.892744999999998},0,0,0.14161220043572983]
["Total Electricity Charge on Two-Tier RPP (including HST)",null,null,{"$f":"SUM(D45:D46)","v":155.52924499999997},null,null,{"$f":"SUM(G45:G46)","v":155.52924499999997},0,0,1.2309368191721133]
["Ontario Electricity Rebate (OER)",null,{"$f":"'Data Pass Through'!B20","v":-0.21199999999999999},{"$f":"D45*C48","v":-29.178937999999995},null,{"$f":"'Data Pass Through'!C20","v":-0.21199999999999999},{"$f":"G45*F48","v":-29.178937999999995},0,0,-0.23093681917211328]
["Total Amount on Two-Tier RPP",null,null,{"$f":"SUM(D47:D48)","v":126.35030699999999},null,null,{"$f":"SUM(G47:G48)","v":126.35030699999999},0,0,1]
["Total Electricty Charge on TOU (before HST)",null,null,{"$f":"SUM(D18,D28,D29,D31,D36,D43,D44)","v":139.13462499999997},null,null,{"$f":"SUM(G18,G28,G29,G31,G36,G43,G44)","v":139.13462499999997},0,0,null,{"$f":"G50/$G$54","v":1.0893246187363834}]
["     HST",null,0.13,{"$f":"D50*C51","v":18.087501249999995},null,{"$f":"C51","v":0.13},{"$f":"G50*F51","v":18.087501249999995},0,0,null,{"$f":"G51/$G$54","v":0.14161220043572983}]
["Total Electricity Charge on TOU (including HST)",null,null,{"$f":"SUM(D50:D51)","v":157.22212624999997},null,null,{"$f":"SUM(G50:G51)","v":157.22212624999997},0,0,null,{"$f":"G52/$G$54","v":1.2309368191721133}]
["Ontario Electricity Rebate (OER)",null,{"$f":"'Data Pass Through'!B20","v":-0.21199999999999999},{"$f":"D50*C53","v":-29.496540499999995},null,{"$f":"'Data Pass Through'!C20","v":-0.21199999999999999},{"$f":"G50*F53","v":-29.496540499999995},0,0,null,{"$f":"G53/$G$54","v":-0.23093681917211328}]
["Total Amount on TOU",null,null,{"$f":"SUM(D52:D53)","v":127.72558574999998},null,null,{"$f":"SUM(G52:G53)","v":127.72558574999998},0,0,null,{"$f":"G54/$G$54","v":1}]
["* Distribution rate protection applies to R1 and R2 customers"]

{"sheet":"BI_R2_Avg","index":21,"n_rows":55,"n_cols":11,"rows_kept":55,"cut":false,"hidden":false,"merged":[[0,0,0,10]]}
["2021 Bill Impacts (Average Consumption Level) - R2"]
[]
["Rate Class",{"$f":"RIGHT(A1,LEN(A1)-FIND(\"- \",A1,1)-1)","v":"R2"}]
["Monthly Consumption (kWh)",{"$f":"IF(COUNTIF(A1,\"*Low*\")>0,VLOOKUP(B3,'Data Billing Quantities'!$A:$Z,MATCH(\"Low kWh\",'Data Billing Quantities'!4:4,0),FALSE),IF(COUNTIF(A1,\"*Typical*\")>0,VLOOKUP(B3,'Data Billing Quantities'!$A:$Z,MATCH(\"Typical kWh\",'Data Billing Quantities'!4:4,0),FALSE),IF(COUNTIF(A1,\"*Average*\")>0,VLOOKUP(B3,'Data Billing Quantities'!$A:$Z,MATCH(\"Average kWh\",'Data Billing Quantities'!4:4,0),FALSE),IF(COUNTIF(A1,\"*High*\")>0,VLOOKUP(B3,'Data Billing Quantities'!$A:$Z,MATCH(\"High kWh\",'Data Billing Quantities'!4:4,0),FALSE),\"error\"))))","v":1152}]
["Peak (kW)",{"$f":"IF(COUNTIF(A1,\"*Low*\")>0,VLOOKUP(B3,'Data Billing Quantities'!$A:$Z,MATCH(\"Low kW\",'Data Billing Quantities'!4:4,0),FALSE),IF(COUNTIF(A1,\"*Typical*\")>0,VLOOKUP(B3,'Data Billing Quantities'!$A:$Z,MATCH(\"Typical kW\",'Data Billing Quantities'!4:4,0),FALSE),IF(COUNTIF(A1,\"*Average*\")>0,VLOOKUP(B3,'Data Billing Quantities'!$A:$Z,MATCH(\"Average kW\",'Data Billing Quantities'!4:4,0),FALSE),IF(COUNTIF(A1,\"*High*\")>0,VLOOKUP(B3,'Data Billing Quantities'!$A:$Z,MATCH(\"High kW\",'Data Billing Quantities'!4:4,0),FALSE),\"error\"))))","v":0}]
["Loss factor",{"$f":"VLOOKUP(B3,'Data Billing Quantities'!A:D,MATCH(A6,'Data Billing Quantities'!4:4,0),FALSE)","v":1.105}]
["Commodity Threshold",{"$f":"VLOOKUP(B3,'Data Billing Quantities'!A:D,MATCH(A7,'Data Billing Quantities'!4:4,0),FALSE)","v":600}]
["Monthly Consumption (kWh) - Uplifted",{"$f":"B4*B6","v":1272.96}]
["Charge determinant",{"$f":"VLOOKUP(B3,'Data Billing Quantities'!A:D,MATCH(A9,'Data Billing Quantities'!4:4,0),FALSE)","v":"kWh"}]
[]
[null,"Volume","Current Rate ($)","Current Charge ($)","Volume","Proposed Rate ($)","Proposed Charge ($)","Change ($)","Change (%)","% of Total Bill on RPP","% of Total Bill on TOU"]
["Energy First Tier",{"$f":"IF(B4>B7,B7,B4)","v":600},{"$f":"VLOOKUP($A12,'Data Pass Through'!$A:$D,2,FALSE)","v":0.10100000000000001},{"$f":"B12*C12","v":60.6},{"$f":"B12","v":600},{"$f":"VLOOKUP($A12,'Data Pass Through'!$A:$D,3,FALSE)","v":0.10100000000000001},{"$f":"E12*F12","v":60.6},{"$f":"G12-D12","v":0},{"$f":"IF(ISERROR(H12/ABS(D12)),\"N/A\",(H12/ABS(D12)))","v":0},{"$f":"G12/$G$49","v":0.33376254059278182}]
["Energy Second Tier",{"$f":"IF(B4>B7,(B4)-B7,0)","v":552},{"$f":"VLOOKUP($A13,'Data Pass Through'!$A:$D,2,FALSE)","v":0.11799999999999999},{"$f":"B13*C13","v":65.135999999999996},{"$f":"B13","v":552},{"$f":"VLOOKUP($A13,'Data Pass Through'!$A:$D,3,FALSE)","v":0.11799999999999999},{"$f":"E13*F13","v":65.135999999999996},0,0,{"$f":"G13/$G$49","v":0.35874516244309301}]
["Sub-Total:  Energy (RPP Tiered)",null,null,{"$f":"SUM(D12:D13)","v":125.73599999999999},null,null,{"$f":"SUM(G12:G13)","v":125.73599999999999},0,0,{"$f":"G14/$G$49","v":0.69250770303587483}]
["TOU-Off Peak",{"$f":"B$4*VLOOKUP($B$3,'Data Billing Quantities'!$A:$O,MATCH(BI_R2_Avg!$A15,'Data Billing Quantities'!$4:$4,0),FALSE)","v":737.28},{"$f":"VLOOKUP($A15,'Data Pass Through'!$A:$D,2,FALSE)","v":8.5000000000000006E-2},{"$f":"B15*C15","v":62.668800000000005},737.28,{"$f":"VLOOKUP($A15,'Data Pass Through'!$A:$D,3,FALSE)","v":8.5000000000000006E-2},{"$f":"E15*F15","v":62.668800000000005},0,0,null,{"$f":"G15/$G$54","v":0.35077178836776085}]
["TOU-Mid Peak",{"$f":"B$4*VLOOKUP($B$3,'Data Billing Quantities'!$A:$O,MATCH(BI_R2_Avg!$A16,'Data Billing Quantities'!$4:$4,0),FALSE)","v":207.35999999999999},{"$f":"VLOOKUP($A16,'Data Pass Through'!$A:$D,2,FALSE)","v":0.11899999999999999},{"$f":"B16*C16","v":24.675839999999997},207.35999999999999,{"$f":"VLOOKUP($A16,'Data Pass Through'!$A:$D,3,FALSE)","v":0.11899999999999999},{"$f":"E16*F16","v":24.675839999999997},0,0,null,0.1381163916698058]
["TOU-On Peak",{"$f":"B$4*VLOOKUP($B$3,'Data Billing Quantities'!$A:$O,MATCH(BI_R2_Avg!$A17,'Data Billing Quantities'!$4:$4,0),FALSE)","v":207.35999999999999},{"$f":"VLOOKUP($A17,'Data Pass Through'!$A:$D,2,FALSE)","v":0.17599999999999999},{"$f":"B17*C17","v":36.495359999999998},207.35999999999999,{"$f":"VLOOKUP($A17,'Data Pass Through'!$A:$D,3,FALSE)","v":0.17599999999999999},{"$f":"E17*F17","v":36.495359999999998},0,0,null,0.204272982637696]
["Sub-Total:  Energy (RPP TOU)",null,null,{"$f":"SUM(D15:D17)","v":123.84},null,null,{"$f":"SUM(G15:G17)","v":123.84},0,0,{"$f":"G18/$G$49","v":0.68206523146881359},0.69316116267526262]
["Service Charge",1,{"$f":"IF(ISERROR(VLOOKUP($B$3,'Data Current Rates'!$A:$BE,MATCH(BI_R2_Avg!$A19,CurrentHeader,0),FALSE)),0,VLOOKUP($B$3,'Data Current Rates'!$A:$BE,MATCH(BI_R2_Avg!$A19,CurrentHeader,0),FALSE))","v":53.14},{"$f":"B19*C19","v":53.14},1,{"$f":"VLOOKUP($B$3,'Data Proposed Rates'!$A:$BC,MATCH(BI_R2_Avg!$A19,ProposedHeader,0),FALSE)","v":53.14},{"$f":"E19*F19","v":53.14},0,0,0.29267560077723476,0.29743688779524757]
["Base Rate Adjustment to Recover Past Tax Amounts FIXED",null,null,null,1,{"$f":"VLOOKUP($B$3,'Data Proposed Rates'!$A:$BC,MATCH(BI_R2_Avg!$A20,ProposedHeader,0),FALSE)","v":4.42},4.42,4.42,"N/A",2.4343736459077486E-2,2.473976371951438E-2]
["Fixed Deferral/Variance Account Rider (General)",1,{"$f":"IF(ISERROR(VLOOKUP($B$3,'Data Current Rates'!$A:$BE,MATCH(BI_R2_Avg!$A21,CurrentHeader,0),FALSE)),0,VLOOKUP($B$3,'Data Current Rates'!$A:$BE,MATCH(BI_R2_Avg!$A21,CurrentHeader,0),FALSE))","v":-0.14000000000000001},-0.14000000000000001,1,{"$f":"VLOOKUP($B$3,'Data Proposed Rates'!$A:$BC,MATCH(BI_R2_Avg!$A21,ProposedHeader,0),FALSE)","v":-0.14000000000000001},-0.14000000000000001,0,0,-7.7106857562688879E-4,-7.8361242550498047E-4]
["Fixed ESM Rider",1,{"$f":"IF(ISERROR(VLOOKUP($B$3,'Data Current Rates'!$A:$BE,MATCH(BI_R2_Avg!$A22,CurrentHeader,0),FALSE)),0,VLOOKUP($B$3,'Data Current Rates'!$A:$BE,MATCH(BI_R2_Avg!$A22,CurrentHeader,0),FALSE))","v":-1.92},-1.92,1,{"$f":"VLOOKUP($B$3,'Data Proposed Rates'!$A:$BC,MATCH(BI_R2_Avg!$A22,ProposedHeader,0),FALSE)","v":-1.92},-1.92,0,0,-1.0574654751454473E-2,-1.0746684692639731E-2]
["Distribution Volumetric Charge",{"$f":"IF($B$9=\"kWh\",$B$4,$B$5)","v":1152},{"$f":"IF(ISERROR(VLOOKUP($B$3,'Data Current Rates'!$A:$BE,MATCH(BI_R2_Avg!$A23,CurrentHeader,0),FALSE)),0,VLOOKUP($B$3,'Data Current Rates'!$A:$BE,MATCH(BI_R2_Avg!$A23,CurrentHeader,0),FALSE))","v":2.2700000000000001E-2},26.150400000000001,{"$f":"IF($B$9=\"kWh\",$B$4,$B$5)","v":1152},{"$f":"VLOOKUP($B$3,'Data Proposed Rates'!$A:$BC,MATCH(BI_R2_Avg!$A23,ProposedHeader,0),FALSE)","v":2.2700000000000001E-2},26.150400000000001,0,0,0.14402679771480995,0.14636984551375315]
["Base Rate Adjustment to Recover Past Tax Amounts VOL"]
["Volumetric Deferral/Variance Account Rider (General)",{"$f":"IF($B$9=\"kWh\",$B$4,$B$5)","v":1152},{"$f":"IF(ISERROR(VLOOKUP($B$3,'Data Current Rates'!$A:$BE,MATCH(BI_R2_Avg!$A25,CurrentHeader,0),FALSE)),0,VLOOKUP($B$3,'Data Current Rates'!$A:$BE,MATCH(BI_R2_Avg!$A25,CurrentHeader,0),FALSE))","v":-1.1000000000000001E-3},-1.2672000000000001,{"$f":"IF($B$9=\"kWh\",$B$4,$B$5)","v":1152},{"$f":"VLOOKUP($B$3,'Data Proposed Rates'!$A:$BC,MATCH(BI_R2_Avg!$A25,ProposedHeader,0),FALSE)","v":-1.1000000000000001E-3},-1.2672000000000001,0,0,-6.9792721359599533E-3,-7.0928118971422234E-3]
["Volumetric ESM Rider",1152,{"$f":"IF(ISERROR(VLOOKUP($B$3,'Data Current Rates'!$A:$BE,MATCH(BI_R2_Avg!$A26,CurrentHeader,0),FALSE)),0,VLOOKUP($B$3,'Data Current Rates'!$A:$BE,MATCH(BI_R2_Avg!$A26,CurrentHeader,0),FALSE))","v":0},0,1152,{"$f":"VLOOKUP($B$3,'Data Proposed Rates'!$A:$BC,MATCH(BI_R2_Avg!$A26,ProposedHeader,0),FALSE)","v":0},0,0,"N/A",0,0]
["Fair Hydro Plan - Distribution Rate Protection Savings*",null,null,{"$f":"IF(AND(B3<>\"R1\",B3<>\"R2\"),0,IF(VLOOKUP($A27,'Data Pass Through'!$A:$D,2,FALSE)=0,0,IF(SUM(D19:D20,D23:D24)<VLOOKUP($A27,'Data Pass Through'!$A:$D,2,FALSE),0,VLOOKUP($A27,'Data Pass Through'!$A:$D,2,FALSE)-SUM(D19:D20,D23:D24))))","v":-42.430400000000006},null,null,{"$f":"IF(AND(B3<>\"R1\",B3<>\"R2\"),0,IF(VLOOKUP($A27,'Data Pass Through'!$A:$D,2,FALSE)=0,0,IF(SUM(G19:G20,G23:G24)<VLOOKUP($A27,'Data Pass Through'!$A:$D,2,FALSE),0,VLOOKUP($A27,'Data Pass Through'!$A:$D,2,FALSE)-SUM(G19:G20,G23:G24))))","v":-46.850400000000008},-4.4200000000000017,-0.10417059466797393,-0.2580347942539285,-0.26223253985627526]
["Sub-Total:  Distribution (excluding pass through)",null,null,{"$f":"SUM(INDIRECT(\"D19:D\"&ROW()-1))","v":33.532799999999995},null,null,{"$f":"SUM(INDIRECT(\"g19:g\"&ROW()-1))","v":33.532799999999995},{"$f":"G28-D28","v":0},0,0.18468634523415234,0.18769084815695286]
["Smart Metering Entity Charge",1,{"$f":"VLOOKUP($A29,'Data Pass Through'!$A:$D,2,FALSE)","v":0.56999999999999995},{"$f":"B29*C29","v":0.56999999999999995},1,{"$f":"VLOOKUP($A29,'Data Pass Through'!$A:$D,3,FALSE)","v":0.56999999999999995},{"$f":"E29*F29","v":0.56999999999999995},0,0,3.1393506293380465E-3,3.1904220181274198E-3]
["Line Losses on Cost of Power (based on two-tier RPP prices)",{"$f":"B8-B4","v":120.96000000000004},{"$f":"IF(B4>B7,C13,C12)","v":0.11799999999999999},{"$f":"B30*C30","v":14.273280000000003},120.96000000000004,{"$f":"IF(B4>B7,F13,F12)","v":0.11799999999999999},{"$f":"E30*F30","v":14.273280000000003},0,0,7.861198342231257E-2,7.9890854005083778E-2]
["Line Losses on Cost of Power (based on TOU prices)",{"$f":"B8-B4","v":120.96000000000004},{"$f":"VLOOKUP($B$3,'Data Billing Quantities'!$A:$O,MATCH(BI_R2_Avg!$A15,'Data Billing Quantities'!$4:$4,0),FALSE)*C15+VLOOKUP($B$3,'Data Billing Quantities'!$A:$O,MATCH(BI_R2_Avg!$A16,'Data Billing Quantities'!$4:$4,0),FALSE)*C16+VLOOKUP($B$3,'Data Billing Quantities'!$A:$O,MATCH(BI_R2_Avg!$A17,'Data Billing Quantities'!$4:$4,0),FALSE)*C17","v":0.1075},{"$f":"B31*C31","v":13.003200000000003},120.96000000000004,{"$f":"VLOOKUP($B$3,'Data Billing Quantities'!$A:$O,MATCH(BI_R2_Avg!$A15,'Data Billing Quantities'!$4:$4,0),FALSE)*F15+VLOOKUP($B$3,'Data Billing Quantities'!$A:$O,MATCH(BI_R2_Avg!$A16,'Data Billing Quantities'!$4:$4,0),FALSE)*F16+VLOOKUP($B$3,'Data Billing Quantities'!$A:$O,MATCH(BI_R2_Avg!$A17,'Data Billing Quantities'!$4:$4,0),FALSE)*F17","v":0.1075},{"$f":"E31*F31","v":13.003200000000003},0,0,7.1616849304225433E-2,7.2781922080902603E-2]
["Sub-Total:  Distribution (based on two-tier RPP prices)",null,null,{"$f":"SUM(D28,D29:D30)","v":48.376080000000002},null,null,{"$f":"SUM(G28,G29:G30)","v":48.376080000000002},0,0,0.26643767928580298,0.27077212418016411]
["Sub-Total:  Distribution (based on TOU prices)",null,null,{"$f":"SUM(D28,D29,D31)","v":47.105999999999995},null,null,{"$f":"SUM(G28,G29,G31)","v":47.105999999999995},0,0,0.25944254516771581,0.26366319225598289]
["Retail Transmission Rate – Network Service Rate",{"$f":"B8","v":1272.96},{"$f":"VLOOKUP($B$3,'Data Current Rates'!$A:$BE,MATCH(BI_R2_Avg!$A34,CurrentHeader,0),FALSE)","v":7.7000000000000002E-3},{"$f":"B34*C34","v":9.8017920000000007},1272.96,{"$f":"VLOOKUP($B$3,'Data Proposed Rates'!$A:$BC,MATCH(BI_R2_Avg!$A34,ProposedHeader,0),FALSE)","v":7.7000000000000002E-3},{"$f":"E34*F34","v":9.8017920000000007},{"$f":"G34-D34","v":0},0,5.3984669971650238E-2,5.4862900024395096E-2]
["Retail Transmission Rate – Line and Transformation Connection Service Rate",{"$f":"B8","v":1272.96},{"$f":"VLOOKUP($B$3,'Data Current Rates'!$A:$BE,MATCH(BI_R2_Avg!$A35,CurrentHeader,0),FALSE)","v":6.7999999999999996E-3},{"$f":"B35*C35","v":8.6561279999999989},1272.96,{"$f":"VLOOKUP($B$3,'Data Proposed Rates'!$A:$BC,MATCH(BI_R2_Avg!$A35,ProposedHeader,0),FALSE)","v":6.7999999999999996E-3},{"$f":"E35*F35","v":8.6561279999999989},{"$f":"G35-D35","v":0},0,4.7674773481457343E-2,4.8450353268296956E-2]
["Sub-Total:  Retail Transmission ",null,null,{"$f":"SUM(D34:D35)","v":18.457920000000001},null,null,{"$f":"SUM(G34:G35)","v":18.457920000000001},{"$f":"G36-D36","v":0},0,0.1016594434531076,0.10331325329269206]
["Sub-Total:  Delivery (based on two-tier RPP prices)",null,null,{"$f":"D32+D36","v":66.834000000000003},null,null,{"$f":"G32+G36","v":66.834000000000003},{"$f":"G37-D37","v":0},0,0.3680971227389106,0.37408537747285614]
["Sub-Total:  Delivery (based on TOU prices)",null,null,{"$f":"D33+D36","v":65.563919999999996},null,null,{"$f":"G33+G36","v":65.563919999999996},{"$f":"G38-D38","v":0},0,0.36110198862082343,0.36697644554867492]
["Wholesale Market Service Rate (WMS) - not including CBR",{"$f":"B8","v":1272.96},{"$f":"VLOOKUP($A39,'Data Pass Through'!$A:$D,2,FALSE)","v":3.0000000000000001E-3},{"$f":"B39*C39","v":3.8188800000000001},{"$f":"$B$8","v":1272.96},{"$f":"VLOOKUP($A39,'Data Pass Through'!$A:$D,3,FALSE)","v":3.0000000000000001E-3},{"$f":"E39*F39","v":3.8188800000000001},0,0,2.1032988300642947E-2,2.1375155853660427E-2]
["Capacity Based Recovery (CBR) - Applicable for Class B Customers",{"$f":"B8","v":1272.96},{"$f":"VLOOKUP($A40,'Data Pass Through'!$A:$D,2,FALSE)","v":4.0000000000000002E-4},{"$f":"B40*C40","v":0.50918400000000008},{"$f":"$B$8","v":1272.96},{"$f":"VLOOKUP($A40,'Data Pass Through'!$A:$D,3,FALSE)","v":4.0000000000000002E-4},{"$f":"E40*F40","v":0.50918400000000008},0,0,2.804398440085727E-3,2.850020780488057E-3]
["Rural Rate Protection Charge",{"$f":"B8","v":1272.96},{"$f":"VLOOKUP($A41,'Data Pass Through'!$A:$D,2,FALSE)","v":5.0000000000000001E-4},0.63648000000000005,1272.96,{"$f":"VLOOKUP($A41,'Data Pass Through'!$A:$D,3,FALSE)","v":5.0000000000000001E-4},0.63648000000000005,0,0,3.5054980501071581E-3,3.562525975610071E-3]
["Standard Supply Service – Administration Charge (if applicable)",1,{"$f":"VLOOKUP($A42,'Data Pass Through'!$A:$D,2,FALSE)","v":0.25},{"$f":"B42*C42","v":0.25},1,{"$f":"VLOOKUP($A42,'Data Pass Through'!$A:$D,3,FALSE)","v":0.25},0.25,0,0,1.3769081707623013E-3,1.3993079026874649E-3]
["Sub-Total:  Regulatory",null,null,{"$f":"SUM(D39:D42)","v":5.2145440000000001},null,null,{"$f":"SUM(G39:G42)","v":5.2145440000000001},0,0,2.8719792961598135E-2,2.9187010512446019E-2]
["Debt Retirement Charge (DRC)",{"$f":"B4","v":1152},{"$f":"VLOOKUP($A44,'Data Pass Through'!$A:$D,2,FALSE)","v":0},{"$f":"B44*C44","v":0},1152,{"$f":"VLOOKUP($A44,'Data Pass Through'!$A:$D,3,FALSE)","v":0},{"$f":"E44*F44","v":0},0,"N/A",0,0]
["Total  Electricty Charge on Two-Tier RPP ",null,null,{"$f":"SUM(D14,D28,D29,D30,D36,D43,D44)","v":197.78454399999998},null,null,{"$f":"SUM(G14,G28,G29,G30,G36,G43,G44)","v":197.78454399999998},0,0,1.0893246187363834]
["     HST",null,0.13,{"$f":"D45*C46","v":25.711990719999999},null,{"$f":"C46","v":0.13},{"$f":"G45*F46","v":25.711990719999999},0,0,0.14161220043572986]
["Total Electricity Charge on Two-Tier RPP (including HST)",null,null,{"$f":"SUM(D45:D46)","v":223.49653471999997},null,null,{"$f":"SUM(G45:G46)","v":223.49653471999997},0,0,1.2309368191721133]
["Ontario Electricity Rebate (OER)",null,{"$f":"'Data Pass Through'!B20","v":-0.21199999999999999},{"$f":"D45*C48","v":-41.930323327999993},null,{"$f":"'Data Pass Through'!C20","v":-0.21199999999999999},{"$f":"G45*F48","v":-41.930323327999993},0,0,-0.23093681917211326]
["Total Amount on Two-Tier RPP",null,null,{"$f":"SUM(D47:D48)","v":181.56621139199999},null,null,{"$f":"SUM(G47:G48)","v":181.56621139199999},0,0,1]
["Total Electricty Charge on TOU (before HST)",null,null,{"$f":"SUM(D18,D28,D29,D31,D36,D43,D44)","v":194.61846399999996},null,null,{"$f":"SUM(G18,G28,G29,G31,G36,G43,G44)","v":194.61846399999996},0,0,null,{"$f":"G50/$G$54","v":1.0893246187363834}]
["     HST",null,0.13,{"$f":"D50*C51","v":25.300400319999994},null,{"$f":"C51","v":0.13},{"$f":"G50*F51","v":25.300400319999994},0,0,null,{"$f":"G51/$G$54","v":0.14161220043572983}]
["Total Electricity Charge on TOU (including HST)",null,null,{"$f":"SUM(D50:D51)","v":219.91886431999995},null,null,{"$f":"SUM(G50:G51)","v":219.91886431999995},0,0,null,{"$f":"G52/$G$54","v":1.2309368191721133}]
["Ontario Electricity Rebate (OER)",null,{"$f":"'Data Pass Through'!B20","v":-0.21199999999999999},{"$f":"D50*C53","v":-41.259114367999992},null,{"$f":"'Data Pass Through'!C20","v":-0.21199999999999999},{"$f":"G50*F53","v":-41.259114367999992},0,0,null,{"$f":"G53/$G$54","v":-0.23093681917211328}]
["Total Amount on TOU",null,null,{"$f":"SUM(D52:D53)","v":178.65974995199997},null,null,{"$f":"SUM(G52:G53)","v":178.65974995199997},0,0,null,{"$f":"G54/$G$54","v":1}]
["* Distribution rate protection applies to R1 and R2 customers"]

{"sheet":"BI_R2_High","index":22,"n_rows":55,"n_cols":11,"rows_kept":55,"cut":false,"hidden":false,"merged":[[0,0,0,10]]}
["2021 Bill Impacts (High Consumption Level) - R2"]
[]
["Rate Class",{"$f":"RIGHT(A1,LEN(A1)-FIND(\"- \",A1,1)-1)","v":"R2"}]
["Monthly Consumption (kWh)",{"$f":"IF(COUNTIF(A1,\"*Low*\")>0,VLOOKUP(B3,'Data Billing Quantities'!$A:$Z,MATCH(\"Low kWh\",'Data Billing Quantities'!4:4,0),FALSE),IF(COUNTIF(A1,\"*Typical*\")>0,VLOOKUP(B3,'Data Billing Quantities'!$A:$Z,MATCH(\"Typical kWh\",'Data Billing Quantities'!4:4,0),FALSE),IF(COUNTIF(A1,\"*Average*\")>0,VLOOKUP(B3,'Data Billing Quantities'!$A:$Z,MATCH(\"Average kWh\",'Data Billing Quantities'!4:4,0),FALSE),IF(COUNTIF(A1,\"*High*\")>0,VLOOKUP(B3,'Data Billing Quantities'!$A:$Z,MATCH(\"High kWh\",'Data Billing Quantities'!4:4,0),FALSE),\"error\"))))","v":2300}]
["Peak (kW)",{"$f":"IF(COUNTIF(A1,\"*Low*\")>0,VLOOKUP(B3,'Data Billing Quantities'!$A:$Z,MATCH(\"Low kW\",'Data Billing Quantities'!4:4,0),FALSE),IF(COUNTIF(A1,\"*Typical*\")>0,VLOOKUP(B3,'Data Billing Quantities'!$A:$Z,MATCH(\"Typical kW\",'Data Billing Quantities'!4:4,0),FALSE),IF(COUNTIF(A1,\"*Average*\")>0,VLOOKUP(B3,'Data Billing Quantities'!$A:$Z,MATCH(\"Average kW\",'Data Billing Quantities'!4:4,0),FALSE),IF(COUNTIF(A1,\"*High*\")>0,VLOOKUP(B3,'Data Billing Quantities'!$A:$Z,MATCH(\"High kW\",'Data Billing Quantities'!4:4,0),FALSE),\"error\"))))","v":0}]
["Loss factor",{"$f":"VLOOKUP(B3,'Data Billing Quantities'!A:D,MATCH(A6,'Data Billing Quantities'!4:4,0),FALSE)","v":1.105}]
["Commodity Threshold",{"$f":"VLOOKUP(B3,'Data Billing Quantities'!A:D,MATCH(A7,'Data Billing Quantities'!4:4,0),FALSE)","v":600}]
["Monthly Consumption (kWh) - Uplifted",{"$f":"B4*B6","v":2541.5}]
["Charge determinant",{"$f":"VLOOKUP(B3,'Data Billing Quantities'!A:D,MATCH(A9,'Data Billing Quantities'!4:4,0),FALSE)","v":"kWh"}]
[]
[null,"Volume","Current Rate ($)","Current Charge ($)","Volume","Proposed Rate ($)","Proposed Charge ($)","Change ($)","Change (%)","% of Total Bill on RPP","% of Total Bill on TOU"]
["Energy First Tier",{"$f":"IF(B4>B7,B7,B4)","v":600},{"$f":"VLOOKUP($A12,'Data Pass Through'!$A:$D,2,FALSE)","v":0.10100000000000001},{"$f":"B12*C12","v":60.6},{"$f":"B12","v":600},{"$f":"VLOOKUP($A12,'Data Pass Through'!$A:$D,3,FALSE)","v":0.10100000000000001},{"$f":"E12*F12","v":60.6},{"$f":"G12-D12","v":0},{"$f":"IF(ISERROR(H12/ABS(D12)),\"N/A\",(H12/ABS(D12)))","v":0},{"$f":"G12/$G$49","v":0.17863067167371621}]
["Energy Second Tier",{"$f":"IF(B4>B7,(B4)-B7,0)","v":1700},{"$f":"VLOOKUP($A13,'Data Pass Through'!$A:$D,2,FALSE)","v":0.11799999999999999},{"$f":"B13*C13","v":200.6},{"$f":"B13","v":1700},{"$f":"VLOOKUP($A13,'Data Pass Through'!$A:$D,3,FALSE)","v":0.11799999999999999},{"$f":"E13*F13","v":200.6},0,0,{"$f":"G13/$G$49","v":0.59130879105193845}]
["Sub-Total:  Energy (RPP Tiered)",null,null,{"$f":"SUM(D12:D13)","v":261.2},null,null,{"$f":"SUM(G12:G13)","v":261.2},0,0,{"$f":"G14/$G$49","v":0.76993946272565472}]
["TOU-Off Peak",{"$f":"B$4*VLOOKUP($B$3,'Data Billing Quantities'!$A:$O,MATCH(BI_R2_High!$A15,'Data Billing Quantities'!$4:$4,0),FALSE)","v":1472},{"$f":"VLOOKUP($A15,'Data Pass Through'!$A:$D,2,FALSE)","v":8.5000000000000006E-2},{"$f":"B15*C15","v":125.12},1472,{"$f":"VLOOKUP($A15,'Data Pass Through'!$A:$D,3,FALSE)","v":8.5000000000000006E-2},{"$f":"E15*F15","v":125.12},0,0,null,{"$f":"G15/$G$54","v":0.38603756872511186}]
["TOU-Mid Peak",{"$f":"B$4*VLOOKUP($B$3,'Data Billing Quantities'!$A:$O,MATCH(BI_R2_High!$A16,'Data Billing Quantities'!$4:$4,0),FALSE)","v":414},{"$f":"VLOOKUP($A16,'Data Pass Through'!$A:$D,2,FALSE)","v":0.11899999999999999},{"$f":"B16*C16","v":49.265999999999998},414,{"$f":"VLOOKUP($A16,'Data Pass Through'!$A:$D,3,FALSE)","v":0.11899999999999999},{"$f":"E16*F16","v":49.265999999999998},0,0,null,0.1520022926855128]
["TOU-On Peak",{"$f":"B$4*VLOOKUP($B$3,'Data Billing Quantities'!$A:$O,MATCH(BI_R2_High!$A17,'Data Billing Quantities'!$4:$4,0),FALSE)","v":414},{"$f":"VLOOKUP($A17,'Data Pass Through'!$A:$D,2,FALSE)","v":0.17599999999999999},{"$f":"B17*C17","v":72.86399999999999},414,{"$f":"VLOOKUP($A17,'Data Pass Through'!$A:$D,3,FALSE)","v":0.17599999999999999},{"$f":"E17*F17","v":72.86399999999999},0,0,null,0.22481011355168276]
["Sub-Total:  Energy (RPP TOU)",null,null,{"$f":"SUM(D15:D17)","v":247.25},null,null,{"$f":"SUM(G15:G17)","v":247.25},0,0,{"$f":"G18/$G$49","v":0.72881903583046759},0.76284997496230744]
["Service Charge",1,{"$f":"IF(ISERROR(VLOOKUP($B$3,'Data Current Rates'!$A:$BE,MATCH(BI_R2_High!$A19,CurrentHeader,0),FALSE)),0,VLOOKUP($B$3,'Data Current Rates'!$A:$BE,MATCH(BI_R2_High!$A19,CurrentHeader,0),FALSE))","v":53.14},{"$f":"B19*C19","v":53.14},1,{"$f":"VLOOKUP($B$3,'Data Proposed Rates'!$A:$BC,MATCH(BI_R2_High!$A19,ProposedHeader,0),FALSE)","v":53.14},{"$f":"E19*F19","v":53.14},0,0,0.15664082331256238,0.16395489451768258]
["Base Rate Adjustment to Recover Past Tax Amounts FIXED",null,null,null,1,{"$f":"VLOOKUP($B$3,'Data Proposed Rates'!$A:$BC,MATCH(BI_R2_High!$A20,ProposedHeader,0),FALSE)","v":4.42},4.42,4.42,"N/A",1.3028837768941018E-2,1.3637196721267538E-2]
["Fixed Deferral/Variance Account Rider (General)",1,{"$f":"IF(ISERROR(VLOOKUP($B$3,'Data Current Rates'!$A:$BE,MATCH(BI_R2_High!$A21,CurrentHeader,0),FALSE)),0,VLOOKUP($B$3,'Data Current Rates'!$A:$BE,MATCH(BI_R2_High!$A21,CurrentHeader,0),FALSE))","v":-0.14000000000000001},-0.14000000000000001,1,{"$f":"VLOOKUP($B$3,'Data Proposed Rates'!$A:$BC,MATCH(BI_R2_High!$A21,ProposedHeader,0),FALSE)","v":-0.14000000000000001},-0.14000000000000001,0,0,-4.126781193782223E-4,-4.3194740746096277E-4]
["Fixed ESM Rider",1,{"$f":"IF(ISERROR(VLOOKUP($B$3,'Data Current Rates'!$A:$BE,MATCH(BI_R2_High!$A22,CurrentHeader,0),FALSE)),0,VLOOKUP($B$3,'Data Current Rates'!$A:$BE,MATCH(BI_R2_High!$A22,CurrentHeader,0),FALSE))","v":-1.92},-1.92,1,{"$f":"VLOOKUP($B$3,'Data Proposed Rates'!$A:$BC,MATCH(BI_R2_High!$A22,ProposedHeader,0),FALSE)","v":-1.92},-1.92,0,0,-5.6595856371870479E-3,-5.9238501594646321E-3]
["Distribution Volumetric Charge",{"$f":"IF($B$9=\"kWh\",$B$4,$B$5)","v":2300},{"$f":"IF(ISERROR(VLOOKUP($B$3,'Data Current Rates'!$A:$BE,MATCH(BI_R2_High!$A23,CurrentHeader,0),FALSE)),0,VLOOKUP($B$3,'Data Current Rates'!$A:$BE,MATCH(BI_R2_High!$A23,CurrentHeader,0),FALSE))","v":2.2700000000000001E-2},52.21,{"$f":"IF($B$9=\"kWh\",$B$4,$B$5)","v":2300},{"$f":"VLOOKUP($B$3,'Data Proposed Rates'!$A:$BC,MATCH(BI_R2_High!$A23,ProposedHeader,0),FALSE)","v":2.2700000000000001E-2},52.21,0,0,0.15389946151954989,0.1610855295966919]
["Base Rate Adjustment to Recover Past Tax Amounts VOL"]
["Volumetric Deferral/Variance Account Rider (General)",{"$f":"IF($B$9=\"kWh\",$B$4,$B$5)","v":2300},{"$f":"IF(ISERROR(VLOOKUP($B$3,'Data Current Rates'!$A:$BE,MATCH(BI_R2_High!$A25,CurrentHeader,0),FALSE)),0,VLOOKUP($B$3,'Data Current Rates'!$A:$BE,MATCH(BI_R2_High!$A25,CurrentHeader,0),FALSE))","v":-1.1000000000000001E-3},-2.5300000000000002,{"$f":"IF($B$9=\"kWh\",$B$4,$B$5)","v":2300},{"$f":"VLOOKUP($B$3,'Data Proposed Rates'!$A:$BC,MATCH(BI_R2_High!$A25,ProposedHeader,0),FALSE)","v":-1.1000000000000001E-3},-2.5300000000000002,0,0,-7.457683157335018E-3,-7.805906720544542E-3]
["Volumetric ESM Rider",2300,{"$f":"IF(ISERROR(VLOOKUP($B$3,'Data Current Rates'!$A:$BE,MATCH(BI_R2_High!$A26,CurrentHeader,0),FALSE)),0,VLOOKUP($B$3,'Data Current Rates'!$A:$BE,MATCH(BI_R2_High!$A26,CurrentHeader,0),FALSE))","v":0},0,2300,{"$f":"VLOOKUP($B$3,'Data Proposed Rates'!$A:$BC,MATCH(BI_R2_High!$A26,ProposedHeader,0),FALSE)","v":0},0,0,"N/A",0,0]
["Fair Hydro Plan - Distribution Rate Protection Savings*",null,null,{"$f":"IF(AND(B3<>\"R1\",B3<>\"R2\"),0,IF(VLOOKUP($A27,'Data Pass Through'!$A:$D,2,FALSE)=0,0,IF(SUM(D19:D20,D23:D24)<VLOOKUP($A27,'Data Pass Through'!$A:$D,2,FALSE),0,VLOOKUP($A27,'Data Pass Through'!$A:$D,2,FALSE)-SUM(D19:D20,D23:D24))))","v":-68.489999999999995},null,null,{"$f":"IF(AND(B3<>\"R1\",B3<>\"R2\"),0,IF(VLOOKUP($A27,'Data Pass Through'!$A:$D,2,FALSE)=0,0,IF(SUM(G19:G20,G23:G24)<VLOOKUP($A27,'Data Pass Through'!$A:$D,2,FALSE),0,VLOOKUP($A27,'Data Pass Through'!$A:$D,2,FALSE)-SUM(G19:G20,G23:G24))))","v":-72.910000000000011},-4.4200000000000159,-6.4534968608556231E-2,-0.21491686917047279,-0.22495203912841999]
["Sub-Total:  Distribution (excluding pass through)",null,null,{"$f":"SUM(INDIRECT(\"D19:D\"&ROW()-1))","v":32.269999999999996},null,null,{"$f":"SUM(INDIRECT(\"g19:g\"&ROW()-1))","v":32.269999999999996},{"$f":"G28-D28","v":0},0,9.512230651668023E-2,9.9563877419751895E-2]
["Smart Metering Entity Charge",1,{"$f":"VLOOKUP($A29,'Data Pass Through'!$A:$D,2,FALSE)","v":0.56999999999999995},{"$f":"B29*C29","v":0.56999999999999995},1,{"$f":"VLOOKUP($A29,'Data Pass Through'!$A:$D,3,FALSE)","v":0.56999999999999995},{"$f":"E29*F29","v":0.56999999999999995},0,0,1.6801894860399048E-3,1.7586430160910626E-3]
["Line Losses on Cost of Power (based on two-tier RPP prices)",{"$f":"B8-B4","v":241.5},{"$f":"IF(B4>B7,C13,C12)","v":0.11799999999999999},{"$f":"B30*C30","v":28.497},241.5,{"$f":"IF(B4>B7,F13,F12)","v":0.11799999999999999},{"$f":"E30*F30","v":28.497},0,0,8.400063119943714E-2,8.7922894788678971E-2]
["Line Losses on Cost of Power (based on TOU prices)",{"$f":"B8-B4","v":241.5},{"$f":"VLOOKUP($B$3,'Data Billing Quantities'!$A:$O,MATCH(BI_R2_High!$A15,'Data Billing Quantities'!$4:$4,0),FALSE)*C15+VLOOKUP($B$3,'Data Billing Quantities'!$A:$O,MATCH(BI_R2_High!$A16,'Data Billing Quantities'!$4:$4,0),FALSE)*C16+VLOOKUP($B$3,'Data Billing Quantities'!$A:$O,MATCH(BI_R2_High!$A17,'Data Billing Quantities'!$4:$4,0),FALSE)*C17","v":0.1075},{"$f":"B31*C31","v":25.96125},241.5,{"$f":"VLOOKUP($B$3,'Data Billing Quantities'!$A:$O,MATCH(BI_R2_High!$A15,'Data Billing Quantities'!$4:$4,0),FALSE)*F15+VLOOKUP($B$3,'Data Billing Quantities'!$A:$O,MATCH(BI_R2_High!$A16,'Data Billing Quantities'!$4:$4,0),FALSE)*F16+VLOOKUP($B$3,'Data Billing Quantities'!$A:$O,MATCH(BI_R2_High!$A17,'Data Billing Quantities'!$4:$4,0),FALSE)*F17","v":0.1075},{"$f":"E31*F31","v":25.96125},0,0,7.6525998762199093E-2,8.0099247371042279E-2]
["Sub-Total:  Distribution (based on two-tier RPP prices)",null,null,{"$f":"SUM(D28,D29:D30)","v":61.336999999999996},null,null,{"$f":"SUM(G28,G29:G30)","v":61.336999999999996},0,0,0.18080312720215727,0.18924541522452193]
["Sub-Total:  Distribution (based on TOU prices)",null,null,{"$f":"SUM(D28,D29,D31)","v":58.801249999999996},null,null,{"$f":"SUM(G28,G29,G31)","v":58.801249999999996},0,0,0.17332849476491921,0.18142176780688524]
["Retail Transmission Rate – Network Service Rate",{"$f":"B8","v":2541.5},{"$f":"VLOOKUP($B$3,'Data Current Rates'!$A:$BE,MATCH(BI_R2_High!$A34,CurrentHeader,0),FALSE)","v":7.7000000000000002E-3},{"$f":"B34*C34","v":19.56955},2541.5,{"$f":"VLOOKUP($B$3,'Data Proposed Rates'!$A:$BC,MATCH(BI_R2_High!$A34,ProposedHeader,0),FALSE)","v":7.7000000000000002E-3},{"$f":"E34*F34","v":19.56955},{"$f":"G34-D34","v":0},0,5.7685179221986356E-2,6.0378688483412025E-2]
["Retail Transmission Rate – Line and Transformation Connection Service Rate",{"$f":"B8","v":2541.5},{"$f":"VLOOKUP($B$3,'Data Current Rates'!$A:$BE,MATCH(BI_R2_High!$A35,CurrentHeader,0),FALSE)","v":6.7999999999999996E-3},{"$f":"B35*C35","v":17.2822},2541.5,{"$f":"VLOOKUP($B$3,'Data Proposed Rates'!$A:$BC,MATCH(BI_R2_High!$A35,ProposedHeader,0),FALSE)","v":6.7999999999999996E-3},{"$f":"E35*F35","v":17.2822},{"$f":"G35-D35","v":0},0,5.0942755676559377E-2,5.3321439180156076E-2]
["Sub-Total:  Retail Transmission ",null,null,{"$f":"SUM(D34:D35)","v":36.851749999999996},null,null,{"$f":"SUM(G34:G35)","v":36.851749999999996},{"$f":"G36-D36","v":0},0,0.10862793489854572,0.11370012766356809]
["Sub-Total:  Delivery (based on two-tier RPP prices)",null,null,{"$f":"D32+D36","v":98.188749999999999},null,null,{"$f":"G32+G36","v":98.188749999999999},{"$f":"G37-D37","v":0},0,0.28943106210070302,0.30294554288809006]
["Sub-Total:  Delivery (based on TOU prices)",null,null,{"$f":"D33+D36","v":95.652999999999992},null,null,{"$f":"G33+G36","v":95.652999999999992},{"$f":"G38-D38","v":0},0,0.28195642966346496,0.29512189547045331]
["Wholesale Market Service Rate (WMS) - not including CBR",{"$f":"B8","v":2541.5},{"$f":"VLOOKUP($A39,'Data Pass Through'!$A:$D,2,FALSE)","v":3.0000000000000001E-3},{"$f":"B39*C39","v":7.6245000000000003},{"$f":"$B$8","v":2541.5},{"$f":"VLOOKUP($A39,'Data Pass Through'!$A:$D,3,FALSE)","v":3.0000000000000001E-3},{"$f":"E39*F39","v":7.6245000000000003},0,0,2.2474745151423257E-2,2.3524164344186506E-2]
["Capacity Based Recovery (CBR) - Applicable for Class B Customers",{"$f":"B8","v":2541.5},{"$f":"VLOOKUP($A40,'Data Pass Through'!$A:$D,2,FALSE)","v":4.0000000000000002E-4},{"$f":"B40*C40","v":1.0165999999999999},{"$f":"$B$8","v":2541.5},{"$f":"VLOOKUP($A40,'Data Pass Through'!$A:$D,3,FALSE)","v":4.0000000000000002E-4},{"$f":"E40*F40","v":1.0165999999999999},0,0,2.9966326868564341E-3,3.1365552458915338E-3]
["Rural Rate Protection Charge",{"$f":"B8","v":2541.5},{"$f":"VLOOKUP($A41,'Data Pass Through'!$A:$D,2,FALSE)","v":5.0000000000000001E-4},1.27075,2541.5,{"$f":"VLOOKUP($A41,'Data Pass Through'!$A:$D,3,FALSE)","v":5.0000000000000001E-4},1.27075,0,0,3.7457908585705429E-3,3.9206940573644176E-3]
["Standard Supply Service – Administration Charge (if applicable)",1,{"$f":"VLOOKUP($A42,'Data Pass Through'!$A:$D,2,FALSE)","v":0.25},{"$f":"B42*C42","v":0.25},1,{"$f":"VLOOKUP($A42,'Data Pass Through'!$A:$D,3,FALSE)","v":0.25},0.25,0,0,7.3692521317539697E-4,7.7133465618029059E-4]
["Sub-Total:  Regulatory",null,null,{"$f":"SUM(D39:D42)","v":10.161849999999999},null,null,{"$f":"SUM(G39:G42)","v":10.161849999999999},0,0,2.9954093910025629E-2,3.1352748303622745E-2]
["Debt Retirement Charge (DRC)",{"$f":"B4","v":2300},{"$f":"VLOOKUP($A44,'Data Pass Through'!$A:$D,2,FALSE)","v":0},{"$f":"B44*C44","v":0},2300,{"$f":"VLOOKUP($A44,'Data Pass Through'!$A:$D,3,FALSE)","v":0},{"$f":"E44*F44","v":0},0,"N/A",0,0]
["Total  Electricty Charge on Two-Tier RPP ",null,null,{"$f":"SUM(D14,D28,D29,D30,D36,D43,D44)","v":369.55059999999997},null,null,{"$f":"SUM(G14,G28,G29,G30,G36,G43,G44)","v":369.55059999999997},0,0,1.0893246187363832]
["     HST",null,0.13,{"$f":"D45*C46","v":48.041578000000001},null,{"$f":"C46","v":0.13},{"$f":"G45*F46","v":48.041578000000001},0,0,0.14161220043572983]
["Total Electricity Charge on Two-Tier RPP (including HST)",null,null,{"$f":"SUM(D45:D46)","v":417.59217799999999},null,null,{"$f":"SUM(G45:G46)","v":417.59217799999999},0,0,1.2309368191721131]
["Ontario Electricity Rebate (OER)",null,{"$f":"'Data Pass Through'!B20","v":-0.21199999999999999},{"$f":"D45*C48","v":-78.344727199999994},null,{"$f":"'Data Pass Through'!C20","v":-0.21199999999999999},{"$f":"G45*F48","v":-78.344727199999994},0,0,-0.23093681917211326]
["Total Amount on Two-Tier RPP",null,null,{"$f":"SUM(D47:D48)","v":339.24745080000002},null,null,{"$f":"SUM(G47:G48)","v":339.24745080000002},0,0,1]
["Total Electricty Charge on TOU (before HST)",null,null,{"$f":"SUM(D18,D28,D29,D31,D36,D43,D44)","v":353.06484999999998},null,null,{"$f":"SUM(G18,G28,G29,G31,G36,G43,G44)","v":353.06484999999998},0,0,null,{"$f":"G50/$G$54","v":1.0893246187363834}]
["     HST",null,0.13,{"$f":"D50*C51","v":45.898430499999996},null,{"$f":"C51","v":0.13},{"$f":"G50*F51","v":45.898430499999996},0,0,null,{"$f":"G51/$G$54","v":0.14161220043572983}]
["Total Electricity Charge on TOU (including HST)",null,null,{"$f":"SUM(D50:D51)","v":398.9632805},null,null,{"$f":"SUM(G50:G51)","v":398.9632805},0,0,null,{"$f":"G52/$G$54","v":1.2309368191721133}]
["Ontario Electricity Rebate (OER)",null,{"$f":"'Data Pass Through'!B20","v":-0.21199999999999999},{"$f":"D50*C53","v":-74.849748199999993},null,{"$f":"'Data Pass Through'!C20","v":-0.21199999999999999},{"$f":"G50*F53","v":-74.849748199999993},0,0,null,{"$f":"G53/$G$54","v":-0.23093681917211328}]
["Total Amount on TOU",null,null,{"$f":"SUM(D52:D53)","v":324.11353229999997},null,null,{"$f":"SUM(G52:G53)","v":324.11353229999997},0,0,null,{"$f":"G54/$G$54","v":1}]
["* Distribution rate protection applies to R1 and R2 customers"]

{"sheet":"ExcludeDRP_BI_R1_Low","index":23,"n_rows":55,"n_cols":11,"rows_kept":55,"cut":false,"hidden":false,"merged":[[0,0,0,10]]}
["2021 Bill Impacts Excluding DRP (Low Consumption Level) - R1"]
[]
["Rate Class",{"$f":"RIGHT(A1,LEN(A1)-FIND(\"- \",A1,1)-1)","v":"R1"}]
["Monthly Consumption (kWh)",{"$f":"IF(COUNTIF(A1,\"*Low*\")>0,VLOOKUP(B3,'Data Billing Quantities'!$A:$Z,MATCH(\"Low kWh\",'Data Billing Quantities'!4:4,0),FALSE),IF(COUNTIF(A1,\"*Typical*\")>0,VLOOKUP(B3,'Data Billing Quantities'!$A:$Z,MATCH(\"Typical kWh\",'Data Billing Quantities'!4:4,0),FALSE),IF(COUNTIF(A1,\"*Average*\")>0,VLOOKUP(B3,'Data Billing Quantities'!$A:$Z,MATCH(\"Average kWh\",'Data Billing Quantities'!4:4,0),FALSE),IF(COUNTIF(A1,\"*High*\")>0,VLOOKUP(B3,'Data Billing Quantities'!$A:$Z,MATCH(\"High kWh\",'Data Billing Quantities'!4:4,0),FALSE),\"error\"))))","v":400}]
["Peak (kW)",{"$f":"IF(COUNTIF(A1,\"*Low*\")>0,VLOOKUP(B3,'Data Billing Quantities'!$A:$Z,MATCH(\"Low kW\",'Data Billing Quantities'!4:4,0),FALSE),IF(COUNTIF(A1,\"*Typical*\")>0,VLOOKUP(B3,'Data Billing Quantities'!$A:$Z,MATCH(\"Typical kW\",'Data Billing Quantities'!4:4,0),FALSE),IF(COUNTIF(A1,\"*Average*\")>0,VLOOKUP(B3,'Data Billing Quantities'!$A:$Z,MATCH(\"Average kW\",'Data Billing Quantities'!4:4,0),FALSE),IF(COUNTIF(A1,\"*High*\")>0,VLOOKUP(B3,'Data Billing Quantities'!$A:$Z,MATCH(\"High kW\",'Data Billing Quantities'!4:4,0),FALSE),\"error\"))))","v":0}]
["Loss factor",{"$f":"VLOOKUP(B3,'Data Billing Quantities'!A:D,MATCH(A6,'Data Billing Quantities'!4:4,0),FALSE)","v":1.0760000000000001}]
["Commodity Threshold",{"$f":"VLOOKUP(B3,'Data Billing Quantities'!A:D,MATCH(A7,'Data Billing Quantities'!4:4,0),FALSE)","v":600}]
["Monthly Consumption (kWh) - Uplifted",{"$f":"B4*B6","v":430.40000000000003}]
["Charge determinant",{"$f":"VLOOKUP(B3,'Data Billing Quantities'!A:D,MATCH(A9,'Data Billing Quantities'!4:4,0),FALSE)","v":"kWh"}]
[]
[null,"Volume","Current Rate ($)","Current Charge ($)","Volume","Proposed Rate ($)","Proposed Charge ($)","Change ($)","Change (%)","% of Total Bill on RPP","% of Total Bill on TOU"]
["Energy First Tier",{"$f":"IF(B4>B7,B7,B4)","v":400},{"$f":"VLOOKUP($A12,'Data Pass Through'!$A:$D,2,FALSE)","v":0.10100000000000001},{"$f":"B12*C12","v":40.400000000000006},{"$f":"B12","v":400},{"$f":"VLOOKUP($A12,'Data Pass Through'!$A:$D,3,FALSE)","v":0.10100000000000001},{"$f":"E12*F12","v":40.400000000000006},{"$f":"G12-D12","v":0},{"$f":"IF(ISERROR(H12/ABS(D12)),\"N/A\",(H12/ABS(D12)))","v":0},{"$f":"G12/$G$49","v":0.40911638131755029}]
["Energy Second Tier",{"$f":"IF(B4>B7,(B4)-B7,0)","v":0},{"$f":"VLOOKUP($A13,'Data Pass Through'!$A:$D,2,FALSE)","v":0.11799999999999999},{"$f":"B13*C13","v":0},{"$f":"B13","v":0},{"$f":"VLOOKUP($A13,'Data Pass Through'!$A:$D,3,FALSE)","v":0.11799999999999999},{"$f":"E13*F13","v":0},0,"N/A",{"$f":"G13/$G$49","v":0}]
["Sub-Total:  Energy (RPP Tiered)",null,null,{"$f":"SUM(D12:D13)","v":40.400000000000006},null,null,{"$f":"SUM(G12:G13)","v":40.400000000000006},0,0,{"$f":"G14/$G$49","v":0.40911638131755029}]
["TOU-Off Peak",{"$f":"B$4*VLOOKUP($B$3,'Data Billing Quantities'!$A:$O,MATCH(ExcludeDRP_BI_R1_Low!$A15,'Data Billing Quantities'!$4:$4,0),FALSE)","v":256},{"$f":"VLOOKUP($A15,'Data Pass Through'!$A:$D,2,FALSE)","v":8.5000000000000006E-2},{"$f":"B15*C15","v":21.76},256,{"$f":"VLOOKUP($A15,'Data Pass Through'!$A:$D,3,FALSE)","v":8.5000000000000006E-2},{"$f":"E15*F15","v":21.76},0,0,null,{"$f":"G15/$G$54","v":0.2147701802021143}]
["TOU-Mid Peak",{"$f":"B$4*VLOOKUP($B$3,'Data Billing Quantities'!$A:$O,MATCH(ExcludeDRP_BI_R1_Low!$A16,'Data Billing Quantities'!$4:$4,0),FALSE)","v":72},{"$f":"VLOOKUP($A16,'Data Pass Through'!$A:$D,2,FALSE)","v":0.11899999999999999},{"$f":"B16*C16","v":8.5679999999999996},72,{"$f":"VLOOKUP($A16,'Data Pass Through'!$A:$D,3,FALSE)","v":0.11899999999999999},{"$f":"E16*F16","v":8.5679999999999996},0,0,null,8.4565758454582501E-2]
["TOU-On Peak",{"$f":"B$4*VLOOKUP($B$3,'Data Billing Quantities'!$A:$O,MATCH(ExcludeDRP_BI_R1_Low!$A17,'Data Billing Quantities'!$4:$4,0),FALSE)","v":72},{"$f":"VLOOKUP($A17,'Data Pass Through'!$A:$D,2,FALSE)","v":0.17599999999999999},{"$f":"B17*C17","v":12.671999999999999},72,{"$f":"VLOOKUP($A17,'Data Pass Through'!$A:$D,3,FALSE)","v":0.17599999999999999},{"$f":"E17*F17","v":12.671999999999999},0,0,null,0.12507204611770184]
["Sub-Total:  Energy (RPP TOU)",null,null,{"$f":"SUM(D15:D17)","v":43},null,null,{"$f":"SUM(G15:G17)","v":43},0,0,{"$f":"G18/$G$49","v":0.43544565338254104},0.42440798477439867]
["Service Charge",1,{"$f":"IF(ISERROR(VLOOKUP($B$3,'Data Current Rates'!$A:$BE,MATCH(ExcludeDRP_BI_R1_Low!$A19,CurrentHeader,0),FALSE)),0,VLOOKUP($B$3,'Data Current Rates'!$A:$BE,MATCH(ExcludeDRP_BI_R1_Low!$A19,CurrentHeader,0),FALSE))","v":49.04},{"$f":"B19*C19","v":49.04},1,{"$f":"VLOOKUP($B$3,'Data Proposed Rates'!$A:$BC,MATCH(ExcludeDRP_BI_R1_Low!$A19,ProposedHeader,0),FALSE)","v":49.04},{"$f":"E19*F19","v":49.04},0,0,0.49661057771813522,0.48402250170550021]
["Base Rate Adjustment to Recover Past Tax Amounts FIXED",null,null,null,1,{"$f":"VLOOKUP($B$3,'Data Proposed Rates'!$A:$BC,MATCH(ExcludeDRP_BI_R1_Low!$A20,ProposedHeader,0),FALSE)","v":1.56},1.56,1.56,"N/A",1.5797563238994512E-2,1.5397126889489812E-2]
["Fixed Deferral/Variance Account Rider (General)",1,{"$f":"IF(ISERROR(VLOOKUP($B$3,'Data Current Rates'!$A:$BE,MATCH(ExcludeDRP_BI_R1_Low!$A21,CurrentHeader,0),FALSE)),0,VLOOKUP($B$3,'Data Current Rates'!$A:$BE,MATCH(ExcludeDRP_BI_R1_Low!$A21,CurrentHeader,0),FALSE))","v":-0.14000000000000001},-0.14000000000000001,1,{"$f":"VLOOKUP($B$3,'Data Proposed Rates'!$A:$BC,MATCH(ExcludeDRP_BI_R1_Low!$A21,ProposedHeader,0),FALSE)","v":-0.14000000000000001},-0.14000000000000001,0,0,-1.4177300342687385E-3,-1.3817934388003679E-3]
["Fixed ESM Rider",1,{"$f":"IF(ISERROR(VLOOKUP($B$3,'Data Current Rates'!$A:$BE,MATCH(ExcludeDRP_BI_R1_Low!$A22,CurrentHeader,0),FALSE)),0,VLOOKUP($B$3,'Data Current Rates'!$A:$BE,MATCH(ExcludeDRP_BI_R1_Low!$A22,CurrentHeader,0),FALSE))","v":-0.85},-0.85,1,{"$f":"VLOOKUP($B$3,'Data Proposed Rates'!$A:$BC,MATCH(ExcludeDRP_BI_R1_Low!$A22,ProposedHeader,0),FALSE)","v":-0.85},-0.85,0,0,-8.6076466366316259E-3,-8.3894601641450895E-3]
["Distribution Volumetric Charge",{"$f":"IF($B$9=\"kWh\",$B$4,$B$5)","v":400},{"$f":"IF(ISERROR(VLOOKUP($B$3,'Data Current Rates'!$A:$BE,MATCH(ExcludeDRP_BI_R1_Low!$A23,CurrentHeader,0),FALSE)),0,VLOOKUP($B$3,'Data Current Rates'!$A:$BE,MATCH(ExcludeDRP_BI_R1_Low!$A23,CurrentHeader,0),FALSE))","v":1.41E-2},5.64,{"$f":"IF($B$9=\"kWh\",$B$4,$B$5)","v":400},{"$f":"VLOOKUP($B$3,'Data Proposed Rates'!$A:$BC,MATCH(ExcludeDRP_BI_R1_Low!$A23,ProposedHeader,0),FALSE)","v":1.41E-2},5.64,0,0,5.711426709482631E-2,5.566653567738624E-2]
["Base Rate Adjustment to Recover Past Tax Amounts VOL"]
["Volumetric Deferral/Variance Account Rider (General)",{"$f":"IF($B$9=\"kWh\",$B$4,$B$5)","v":400},{"$f":"IF(ISERROR(VLOOKUP($B$3,'Data Current Rates'!$A:$BE,MATCH(ExcludeDRP_BI_R1_Low!$A25,CurrentHeader,0),FALSE)),0,VLOOKUP($B$3,'Data Current Rates'!$A:$BE,MATCH(ExcludeDRP_BI_R1_Low!$A25,CurrentHeader,0),FALSE))","v":-8.0000000000000004E-4},-0.32,{"$f":"IF($B$9=\"kWh\",$B$4,$B$5)","v":400},{"$f":"VLOOKUP($B$3,'Data Proposed Rates'!$A:$BC,MATCH(ExcludeDRP_BI_R1_Low!$A25,ProposedHeader,0),FALSE)","v":-8.0000000000000004E-4},-0.32,0,0,-3.2405257926142591E-3,-3.1583850029722692E-3]
["Volumetric ESM Rider",400,{"$f":"IF(ISERROR(VLOOKUP($B$3,'Data Current Rates'!$A:$BE,MATCH(ExcludeDRP_BI_R1_Low!$A26,CurrentHeader,0),FALSE)),0,VLOOKUP($B$3,'Data Current Rates'!$A:$BE,MATCH(ExcludeDRP_BI_R1_Low!$A26,CurrentHeader,0),FALSE))","v":0},0,400,{"$f":"VLOOKUP($B$3,'Data Proposed Rates'!$A:$BC,MATCH(ExcludeDRP_BI_R1_Low!$A26,ProposedHeader,0),FALSE)","v":0},0,0,"N/A",0,0]
["Fair Hydro Plan - Distribution Rate Protection Savings* Excluded",null,null,0,null,null,0,0,"N/A",0,0]
["Sub-Total:  Distribution (excluding pass through)",null,null,{"$f":"SUM(INDIRECT(\"D19:D\"&ROW()-1))","v":53.37},null,null,{"$f":"SUM(INDIRECT(\"g19:g\"&ROW()-1))","v":54.93},{"$f":"G28-D28","v":1.5600000000000023},2.9229904440697063E-2,0.55625650558844142,0.54215652566645856]
["Smart Metering Entity Charge",1,{"$f":"VLOOKUP($A29,'Data Pass Through'!$A:$D,2,FALSE)","v":0.56999999999999995},{"$f":"B29*C29","v":0.56999999999999995},1,{"$f":"VLOOKUP($A29,'Data Pass Through'!$A:$D,3,FALSE)","v":0.56999999999999995},{"$f":"E29*F29","v":0.56999999999999995},0,0,5.7721865680941484E-3,5.6258732865443542E-3]
["Line Losses on Cost of Power (based on two-tier RPP prices)",{"$f":"B8-B4","v":30.400000000000034},{"$f":"IF(B4>B7,C13,C12)","v":0.10100000000000001},{"$f":"B30*C30","v":3.0704000000000038},30.400000000000034,{"$f":"IF(B4>B7,F13,F12)","v":0.10100000000000001},{"$f":"E30*F30","v":3.0704000000000038},0,0,3.1092844980133854E-2,3.0304704103518959E-2]
["Line Losses on Cost of Power (based on TOU prices)",{"$f":"B8-B4","v":30.400000000000034},{"$f":"VLOOKUP($B$3,'Data Billing Quantities'!$A:$O,MATCH(ExcludeDRP_BI_R1_Low!$A15,'Data Billing Quantities'!$4:$4,0),FALSE)*C15+VLOOKUP($B$3,'Data Billing Quantities'!$A:$O,MATCH(ExcludeDRP_BI_R1_Low!$A16,'Data Billing Quantities'!$4:$4,0),FALSE)*C16+VLOOKUP($B$3,'Data Billing Quantities'!$A:$O,MATCH(ExcludeDRP_BI_R1_Low!$A17,'Data Billing Quantities'!$4:$4,0),FALSE)*C17","v":0.1075},{"$f":"B31*C31","v":3.2680000000000038},30.400000000000034,{"$f":"VLOOKUP($B$3,'Data Billing Quantities'!$A:$O,MATCH(ExcludeDRP_BI_R1_Low!$A15,'Data Billing Quantities'!$4:$4,0),FALSE)*F15+VLOOKUP($B$3,'Data Billing Quantities'!$A:$O,MATCH(ExcludeDRP_BI_R1_Low!$A16,'Data Billing Quantities'!$4:$4,0),FALSE)*F16+VLOOKUP($B$3,'Data Billing Quantities'!$A:$O,MATCH(ExcludeDRP_BI_R1_Low!$A17,'Data Billing Quantities'!$4:$4,0),FALSE)*F17","v":0.1075},{"$f":"E31*F31","v":3.2680000000000038},0,0,3.3093869657073158E-2,3.2255006842854338E-2]
["Sub-Total:  Distribution (based on two-tier RPP prices)",null,null,{"$f":"SUM(D28,D29:D30)","v":57.010400000000004},null,null,{"$f":"SUM(G28,G29:G30)","v":58.570400000000006},1.5600000000000023,2.7363428427094043E-2,0.59312153713666949,0.57808710305652189]
["Sub-Total:  Distribution (based on TOU prices)",null,null,{"$f":"SUM(D28,D29,D31)","v":57.207999999999998},null,null,{"$f":"SUM(G28,G29,G31)","v":58.768000000000001},1.5600000000000023,2.7268913438679945E-2,0.59512256181360867,0.58003740579585727]
["Retail Transmission Rate – Network Service Rate",{"$f":"B8","v":430.40000000000003},{"$f":"VLOOKUP($B$3,'Data Current Rates'!$A:$BE,MATCH(ExcludeDRP_BI_R1_Low!$A34,CurrentHeader,0),FALSE)","v":8.2000000000000007E-3},{"$f":"B34*C34","v":3.5292800000000004},430.40000000000003,{"$f":"VLOOKUP($B$3,'Data Proposed Rates'!$A:$BC,MATCH(ExcludeDRP_BI_R1_Low!$A34,ProposedHeader,0),FALSE)","v":8.2000000000000007E-3},{"$f":"E34*F34","v":3.5292800000000004},{"$f":"G34-D34","v":0},0,3.5739758966742669E-2,3.4833828197781164E-2]
["Retail Transmission Rate – Line and Transformation Connection Service Rate",{"$f":"B8","v":430.40000000000003},{"$f":"VLOOKUP($B$3,'Data Current Rates'!$A:$BE,MATCH(ExcludeDRP_BI_R1_Low!$A35,CurrentHeader,0),FALSE)","v":7.3000000000000001E-3},{"$f":"B35*C35","v":3.1419200000000003},430.40000000000003,{"$f":"VLOOKUP($B$3,'Data Proposed Rates'!$A:$BC,MATCH(ExcludeDRP_BI_R1_Low!$A35,ProposedHeader,0),FALSE)","v":7.3000000000000001E-3},{"$f":"E35*F35","v":3.1419200000000003},{"$f":"G35-D35","v":0},0,3.1817102494783103E-2,3.1010603151683226E-2]
["Sub-Total:  Retail Transmission ",null,null,{"$f":"SUM(D34:D35)","v":6.6712000000000007},null,null,{"$f":"SUM(G34:G35)","v":6.6712000000000007},{"$f":"G36-D36","v":0},0,6.7556861461525772E-2,6.5844431349464383E-2]
["Sub-Total:  Delivery (based on two-tier RPP prices)",null,null,{"$f":"D32+D36","v":63.681600000000003},null,null,{"$f":"G32+G36","v":65.241600000000005},{"$f":"G37-D37","v":1.5600000000000023},2.4496871937891043E-2,0.66067839859819522,0.64393153440598627]
["Sub-Total:  Delivery (based on TOU prices)",null,null,{"$f":"D33+D36","v":63.879199999999997},null,null,{"$f":"G33+G36","v":65.4392},{"$f":"G38-D38","v":1.5600000000000023},2.4421094816466118E-2,0.6626794232751344,0.64588183714532155]
["Wholesale Market Service Rate (WMS) - not including CBR",{"$f":"B8","v":430.40000000000003},{"$f":"VLOOKUP($A39,'Data Pass Through'!$A:$D,2,FALSE)","v":3.0000000000000001E-3},{"$f":"B39*C39","v":1.2912000000000001},{"$f":"$B$8","v":430.40000000000003},{"$f":"VLOOKUP($A39,'Data Pass Through'!$A:$D,3,FALSE)","v":3.0000000000000001E-3},{"$f":"E39*F39","v":1.2912000000000001},0,0,1.3075521573198537E-2,1.2744083486993107E-2]
["Capacity Based Recovery (CBR) - Applicable for Class B Customers",{"$f":"B8","v":430.40000000000003},{"$f":"VLOOKUP($A40,'Data Pass Through'!$A:$D,2,FALSE)","v":4.0000000000000002E-4},{"$f":"B40*C40","v":0.17216000000000004},{"$f":"$B$8","v":430.40000000000003},{"$f":"VLOOKUP($A40,'Data Pass Through'!$A:$D,3,FALSE)","v":4.0000000000000002E-4},{"$f":"E40*F40","v":0.17216000000000004},0,0,1.7434028764264718E-3,1.6992111315990812E-3]
["Rural Rate Protection Charge",{"$f":"B8","v":430.40000000000003},{"$f":"VLOOKUP($A41,'Data Pass Through'!$A:$D,2,FALSE)","v":5.0000000000000001E-4},0.21520000000000003,430.40000000000003,{"$f":"VLOOKUP($A41,'Data Pass Through'!$A:$D,3,FALSE)","v":5.0000000000000001E-4},0.21520000000000003,0,0,2.1792535955330893E-3,2.1240139144988513E-3]
["Standard Supply Service – Administration Charge (if applicable)",1,{"$f":"VLOOKUP($A42,'Data Pass Through'!$A:$D,2,FALSE)","v":0.25},{"$f":"B42*C42","v":0.25},1,{"$f":"VLOOKUP($A42,'Data Pass Through'!$A:$D,3,FALSE)","v":0.25},0.25,0,0,2.5316607754798898E-3,2.4674882835720854E-3]
["Sub-Total:  Regulatory",null,null,{"$f":"SUM(D39:D42)","v":1.9285600000000003},null,null,{"$f":"SUM(G39:G42)","v":1.9285600000000003},0,0,1.9529838820637989E-2,1.9034796816663126E-2]
["Debt Retirement Charge (DRC)",{"$f":"B4","v":400},{"$f":"VLOOKUP($A44,'Data Pass Through'!$A:$D,2,FALSE)","v":0},{"$f":"B44*C44","v":0},400,{"$f":"VLOOKUP($A44,'Data Pass Through'!$A:$D,3,FALSE)","v":0},{"$f":"E44*F44","v":0},0,"N/A",0,0]
["Total  Electricty Charge on Two-Tier RPP ",null,null,{"$f":"SUM(D14,D28,D29,D30,D36,D43,D44)","v":106.01016000000001},null,null,{"$f":"SUM(G14,G28,G29,G30,G36,G43,G44)","v":107.57016000000002},1.5600000000000023,1.4715570658510486E-2,1.0893246187363834]
["     HST",null,0.13,{"$f":"D45*C46","v":13.781320800000001},null,{"$f":"C46","v":0.13},{"$f":"G45*F46","v":13.984120800000003},0.20280000000000165,1.4715570658510585E-2,0.14161220043572986]
["Total Electricity Charge on Two-Tier RPP (including HST)",null,null,{"$f":"SUM(D45:D46)","v":119.79148080000002},null,null,{"$f":"SUM(G45:G46)","v":121.55428080000002},1.7627999999999986,1.4715570658510453E-2,1.2309368191721133]
["Ontario Electricity Rebate (OER)",null,{"$f":"'Data Pass Through'!B20","v":-0.21199999999999999},{"$f":"D45*C48","v":-22.474153920000003},null,{"$f":"'Data Pass Through'!C20","v":-0.21199999999999999},{"$f":"G45*F48","v":-22.804873920000002},-0.33071999999999946,-1.4715570658510441E-2,-0.23093681917211328]
["Total Amount on Two-Tier RPP",null,null,{"$f":"SUM(D47:D48)","v":97.31732688000001},null,null,{"$f":"SUM(G47:G48)","v":98.749406880000009},1.4320799999999991,1.4715570658510457E-2,1]
["Total Electricty Charge on TOU (before HST)",null,null,{"$f":"SUM(D18,D28,D29,D31,D36,D43,D44)","v":108.80776},null,null,{"$f":"SUM(G18,G28,G29,G31,G36,G43,G44)","v":110.36776},1.5600000000000023,1.4337212713505014E-2,null,{"$f":"G50/$G$54","v":1.0893246187363834}]
["     HST",null,0.13,{"$f":"D50*C51","v":14.145008800000001},null,{"$f":"C51","v":0.13},{"$f":"G50*F51","v":14.347808800000001},0.20279999999999987,1.4337212713504983E-2,null,{"$f":"G51/$G$54","v":0.14161220043572986}]
["Total Electricity Charge on TOU (including HST)",null,null,{"$f":"SUM(D50:D51)","v":122.9527688},null,null,{"$f":"SUM(G50:G51)","v":124.7155688},1.7627999999999986,1.4337212713504981E-2,null,{"$f":"G52/$G$54","v":1.2309368191721133}]
["Ontario Electricity Rebate (OER)",null,{"$f":"'Data Pass Through'!B20","v":-0.21199999999999999},{"$f":"D50*C53","v":-23.067245119999999},null,{"$f":"'Data Pass Through'!C20","v":-0.21199999999999999},{"$f":"G50*F53","v":-23.397965119999999},-0.33071999999999946,-1.4337212713504971E-2,null,{"$f":"G53/$G$54","v":-0.23093681917211326}]
["Total Amount on TOU",null,null,{"$f":"SUM(D52:D53)","v":99.885523680000006},null,null,{"$f":"SUM(G52:G53)","v":101.31760368},1.4320799999999991,1.4337212713504983E-2,null,{"$f":"G54/$G$54","v":1}]
["* Distribution rate protection applies to R1 and R2 customers"]

{"sheet":"ExcludeDRP_BI_R1_Typical","index":24,"n_rows":55,"n_cols":11,"rows_kept":55,"cut":false,"hidden":false,"merged":[[0,0,0,10]]}
["2021 Bill Impacts Excluding DRP (Typical Consumption Level) - R1"]
[]
["Rate Class",{"$f":"RIGHT(A1,LEN(A1)-FIND(\"- \",A1,1)-1)","v":"R1"}]
["Monthly Consumption (kWh)",{"$f":"IF(COUNTIF(A1,\"*Low*\")>0,VLOOKUP(B3,'Data Billing Quantities'!$A:$Z,MATCH(\"Low kWh\",'Data Billing Quantities'!4:4,0),FALSE),IF(COUNTIF(A1,\"*Typical*\")>0,VLOOKUP(B3,'Data Billing Quantities'!$A:$Z,MATCH(\"Typical kWh\",'Data Billing Quantities'!4:4,0),FALSE),IF(COUNTIF(A1,\"*Average*\")>0,VLOOKUP(B3,'Data Billing Quantities'!$A:$Z,MATCH(\"Average kWh\",'Data Billing Quantities'!4:4,0),FALSE),IF(COUNTIF(A1,\"*High*\")>0,VLOOKUP(B3,'Data Billing Quantities'!$A:$Z,MATCH(\"High kWh\",'Data Billing Quantities'!4:4,0),FALSE),\"error\"))))","v":750}]
["Peak (kW)",{"$f":"IF(COUNTIF(A1,\"*Low*\")>0,VLOOKUP(B3,'Data Billing Quantities'!$A:$Z,MATCH(\"Low kW\",'Data Billing Quantities'!4:4,0),FALSE),IF(COUNTIF(A1,\"*Typical*\")>0,VLOOKUP(B3,'Data Billing Quantities'!$A:$Z,MATCH(\"Typical kW\",'Data Billing Quantities'!4:4,0),FALSE),IF(COUNTIF(A1,\"*Average*\")>0,VLOOKUP(B3,'Data Billing Quantities'!$A:$Z,MATCH(\"Average kW\",'Data Billing Quantities'!4:4,0),FALSE),IF(COUNTIF(A1,\"*High*\")>0,VLOOKUP(B3,'Data Billing Quantities'!$A:$Z,MATCH(\"High kW\",'Data Billing Quantities'!4:4,0),FALSE),\"error\"))))","v":0}]
["Loss factor",{"$f":"VLOOKUP(B3,'Data Billing Quantities'!A:D,MATCH(A6,'Data Billing Quantities'!4:4,0),FALSE)","v":1.0760000000000001}]
["Commodity Threshold",{"$f":"VLOOKUP(B3,'Data Billing Quantities'!A:D,MATCH(A7,'Data Billing Quantities'!4:4,0),FALSE)","v":600}]
["Monthly Consumption (kWh) - Uplifted",{"$f":"B4*B6","v":807}]
["Charge determinant",{"$f":"VLOOKUP(B3,'Data Billing Quantities'!A:D,MATCH(A9,'Data Billing Quantities'!4:4,0),FALSE)","v":"kWh"}]
[]
[null,"Volume","Current Rate ($)","Current Charge ($)","Volume","Proposed Rate ($)","Proposed Charge ($)","Change ($)","Change (%)","% of Total Bill on RPP","% of Total Bill on TOU"]
["Energy First Tier",{"$f":"IF(B4>B7,B7,B4)","v":600},{"$f":"VLOOKUP($A12,'Data Pass Through'!$A:$D,2,FALSE)","v":0.10100000000000001},{"$f":"B12*C12","v":60.6},{"$f":"B12","v":600},{"$f":"VLOOKUP($A12,'Data Pass Through'!$A:$D,3,FALSE)","v":0.10100000000000001},{"$f":"E12*F12","v":60.6},{"$f":"G12-D12","v":0},{"$f":"IF(ISERROR(H12/ABS(D12)),\"N/A\",(H12/ABS(D12)))","v":0},{"$f":"G12/$G$49","v":0.40979814544348048}]
["Energy Second Tier",{"$f":"IF(B4>B7,(B4)-B7,0)","v":150},{"$f":"VLOOKUP($A13,'Data Pass Through'!$A:$D,2,FALSE)","v":0.11799999999999999},{"$f":"B13*C13","v":17.7},{"$f":"B13","v":150},{"$f":"VLOOKUP($A13,'Data Pass Through'!$A:$D,3,FALSE)","v":0.11799999999999999},{"$f":"E13*F13","v":17.7},0,0,{"$f":"G13/$G$49","v":0.11969351772854132}]
["Sub-Total:  Energy (RPP Tiered)",null,null,{"$f":"SUM(D12:D13)","v":78.3},null,null,{"$f":"SUM(G12:G13)","v":78.3},0,0,{"$f":"G14/$G$49","v":0.52949166317202179}]
["TOU-Off Peak",{"$f":"B$4*VLOOKUP($B$3,'Data Billing Quantities'!$A:$O,MATCH(ExcludeDRP_BI_R1_Typical!$A15,'Data Billing Quantities'!$4:$4,0),FALSE)","v":480},{"$f":"VLOOKUP($A15,'Data Pass Through'!$A:$D,2,FALSE)","v":8.5000000000000006E-2},{"$f":"B15*C15","v":40.800000000000004},480,{"$f":"VLOOKUP($A15,'Data Pass Through'!$A:$D,3,FALSE)","v":8.5000000000000006E-2},{"$f":"E15*F15","v":40.800000000000004},0,0,null,{"$f":"G15/$G$54","v":0.27297797197430707}]
["TOU-Mid Peak",{"$f":"B$4*VLOOKUP($B$3,'Data Billing Quantities'!$A:$O,MATCH(ExcludeDRP_BI_R1_Typical!$A16,'Data Billing Quantities'!$4:$4,0),FALSE)","v":135},{"$f":"VLOOKUP($A16,'Data Pass Through'!$A:$D,2,FALSE)","v":0.11899999999999999},{"$f":"B16*C16","v":16.064999999999998},135,{"$f":"VLOOKUP($A16,'Data Pass Through'!$A:$D,3,FALSE)","v":0.11899999999999999},{"$f":"E16*F16","v":16.064999999999998},0,0,null,0.10748507646488339]
["TOU-On Peak",{"$f":"B$4*VLOOKUP($B$3,'Data Billing Quantities'!$A:$O,MATCH(ExcludeDRP_BI_R1_Typical!$A17,'Data Billing Quantities'!$4:$4,0),FALSE)","v":135},{"$f":"VLOOKUP($A17,'Data Pass Through'!$A:$D,2,FALSE)","v":0.17599999999999999},{"$f":"B17*C17","v":23.759999999999998},135,{"$f":"VLOOKUP($A17,'Data Pass Through'!$A:$D,3,FALSE)","v":0.17599999999999999},{"$f":"E17*F17","v":23.759999999999998},0,0,null,0.15896952485562585]
["Sub-Total:  Energy (RPP TOU)",null,null,{"$f":"SUM(D15:D17)","v":80.625},null,null,{"$f":"SUM(G15:G17)","v":80.625},0,0,{"$f":"G18/$G$49","v":0.5452141167719573},0.53943257329481631]
["Service Charge",1,{"$f":"IF(ISERROR(VLOOKUP($B$3,'Data Current Rates'!$A:$BE,MATCH(ExcludeDRP_BI_R1_Typical!$A19,CurrentHeader,0),FALSE)),0,VLOOKUP($B$3,'Data Current Rates'!$A:$BE,MATCH(ExcludeDRP_BI_R1_Typical!$A19,CurrentHeader,0),FALSE))","v":49.04},{"$f":"B19*C19","v":49.04},1,{"$f":"VLOOKUP($B$3,'Data Proposed Rates'!$A:$BC,MATCH(ExcludeDRP_BI_R1_Typical!$A19,ProposedHeader,0),FALSE)","v":49.04},{"$f":"E19*F19","v":49.04},0,0,0.33162542991003768,0.32810881729460828]
["Base Rate Adjustment to Recover Past Tax Amounts FIXED",null,null,null,1,{"$f":"VLOOKUP($B$3,'Data Proposed Rates'!$A:$BC,MATCH(ExcludeDRP_BI_R1_Typical!$A20,ProposedHeader,0),FALSE)","v":1.56},1.56,1.56,"N/A",1.054925918963415E-2,1.0437393046076446E-2]
["Fixed Deferral/Variance Account Rider (General)",1,{"$f":"IF(ISERROR(VLOOKUP($B$3,'Data Current Rates'!$A:$BE,MATCH(ExcludeDRP_BI_R1_Typical!$A21,CurrentHeader,0),FALSE)),0,VLOOKUP($B$3,'Data Current Rates'!$A:$BE,MATCH(ExcludeDRP_BI_R1_Typical!$A21,CurrentHeader,0),FALSE))","v":-0.14000000000000001},-0.14000000000000001,1,{"$f":"VLOOKUP($B$3,'Data Proposed Rates'!$A:$BC,MATCH(ExcludeDRP_BI_R1_Typical!$A21,ProposedHeader,0),FALSE)","v":-0.14000000000000001},-0.14000000000000001,0,0,-9.4672838881332136E-4,-9.3668911951968114E-4]
["Fixed ESM Rider",1,{"$f":"IF(ISERROR(VLOOKUP($B$3,'Data Current Rates'!$A:$BE,MATCH(ExcludeDRP_BI_R1_Typical!$A22,CurrentHeader,0),FALSE)),0,VLOOKUP($B$3,'Data Current Rates'!$A:$BE,MATCH(ExcludeDRP_BI_R1_Typical!$A22,CurrentHeader,0),FALSE))","v":-0.85},-0.85,1,{"$f":"VLOOKUP($B$3,'Data Proposed Rates'!$A:$BC,MATCH(ExcludeDRP_BI_R1_Typical!$A22,ProposedHeader,0),FALSE)","v":-0.85},-0.85,0,0,-5.7479937892237357E-3,-5.6870410827980639E-3]
["Distribution Volumetric Charge",{"$f":"IF($B$9=\"kWh\",$B$4,$B$5)","v":750},{"$f":"IF(ISERROR(VLOOKUP($B$3,'Data Current Rates'!$A:$BE,MATCH(ExcludeDRP_BI_R1_Typical!$A23,CurrentHeader,0),FALSE)),0,VLOOKUP($B$3,'Data Current Rates'!$A:$BE,MATCH(ExcludeDRP_BI_R1_Typical!$A23,CurrentHeader,0),FALSE))","v":1.41E-2},10.574999999999999,{"$f":"IF($B$9=\"kWh\",$B$4,$B$5)","v":750},{"$f":"VLOOKUP($B$3,'Data Proposed Rates'!$A:$BC,MATCH(ExcludeDRP_BI_R1_Typical!$A23,ProposedHeader,0),FALSE)","v":1.41E-2},10.574999999999999,0,0,7.1511805083577656E-2,7.0753481706575902E-2]
["Base Rate Adjustment to Recover Past Tax Amounts VOL"]
["Volumetric Deferral/Variance Account Rider (General)",{"$f":"IF($B$9=\"kWh\",$B$4,$B$5)","v":750},{"$f":"IF(ISERROR(VLOOKUP($B$3,'Data Current Rates'!$A:$BE,MATCH(ExcludeDRP_BI_R1_Typical!$A25,CurrentHeader,0),FALSE)),0,VLOOKUP($B$3,'Data Current Rates'!$A:$BE,MATCH(ExcludeDRP_BI_R1_Typical!$A25,CurrentHeader,0),FALSE))","v":-8.0000000000000004E-4},-0.6,{"$f":"IF($B$9=\"kWh\",$B$4,$B$5)","v":750},{"$f":"VLOOKUP($B$3,'Data Proposed Rates'!$A:$BC,MATCH(ExcludeDRP_BI_R1_Typical!$A25,ProposedHeader,0),FALSE)","v":-8.0000000000000004E-4},-0.6,0,0,-4.057407380628519E-3,-4.0143819407986335E-3]
["Volumetric ESM Rider",750,{"$f":"IF(ISERROR(VLOOKUP($B$3,'Data Current Rates'!$A:$BE,MATCH(ExcludeDRP_BI_R1_Typical!$A26,CurrentHeader,0),FALSE)),0,VLOOKUP($B$3,'Data Current Rates'!$A:$BE,MATCH(ExcludeDRP_BI_R1_Typical!$A26,CurrentHeader,0),FALSE))","v":0},0,750,{"$f":"VLOOKUP($B$3,'Data Proposed Rates'!$A:$BC,MATCH(ExcludeDRP_BI_R1_Typical!$A26,ProposedHeader,0),FALSE)","v":0},0,0,"N/A",0,0]
["Fair Hydro Plan - Distribution Rate Protection Savings* Excluded",null,null,0,null,null,0,0,"N/A",0,0]
["Sub-Total:  Distribution (excluding pass through)",null,null,{"$f":"SUM(INDIRECT(\"D19:D\"&ROW()-1))","v":58.024999999999999},null,null,{"$f":"SUM(INDIRECT(\"g19:g\"&ROW()-1))","v":59.585000000000001},{"$f":"G28-D28","v":1.5600000000000023},2.6884963377854412E-2,0.40293436462458387,0.39866157990414425]
["Smart Metering Entity Charge",1,{"$f":"VLOOKUP($A29,'Data Pass Through'!$A:$D,2,FALSE)","v":0.56999999999999995},{"$f":"B29*C29","v":0.56999999999999995},1,{"$f":"VLOOKUP($A29,'Data Pass Through'!$A:$D,3,FALSE)","v":0.56999999999999995},{"$f":"E29*F29","v":0.56999999999999995},0,0,3.8545370115970934E-3,3.8136628437587011E-3]
["Line Losses on Cost of Power (based on two-tier RPP prices)",{"$f":"B8-B4","v":57},{"$f":"IF(B4>B7,C13,C12)","v":0.11799999999999999},{"$f":"B30*C30","v":6.726},57,{"$f":"IF(B4>B7,F13,F12)","v":0.11799999999999999},{"$f":"E30*F30","v":6.726},0,0,4.5483536736845701E-2,4.500122155635268E-2]
["Line Losses on Cost of Power (based on TOU prices)",{"$f":"B8-B4","v":57},{"$f":"VLOOKUP($B$3,'Data Billing Quantities'!$A:$O,MATCH(ExcludeDRP_BI_R1_Typical!$A15,'Data Billing Quantities'!$4:$4,0),FALSE)*C15+VLOOKUP($B$3,'Data Billing Quantities'!$A:$O,MATCH(ExcludeDRP_BI_R1_Typical!$A16,'Data Billing Quantities'!$4:$4,0),FALSE)*C16+VLOOKUP($B$3,'Data Billing Quantities'!$A:$O,MATCH(ExcludeDRP_BI_R1_Typical!$A17,'Data Billing Quantities'!$4:$4,0),FALSE)*C17","v":0.1075},{"$f":"B31*C31","v":6.1274999999999995},57,{"$f":"VLOOKUP($B$3,'Data Billing Quantities'!$A:$O,MATCH(ExcludeDRP_BI_R1_Typical!$A15,'Data Billing Quantities'!$4:$4,0),FALSE)*F15+VLOOKUP($B$3,'Data Billing Quantities'!$A:$O,MATCH(ExcludeDRP_BI_R1_Typical!$A16,'Data Billing Quantities'!$4:$4,0),FALSE)*F16+VLOOKUP($B$3,'Data Billing Quantities'!$A:$O,MATCH(ExcludeDRP_BI_R1_Typical!$A17,'Data Billing Quantities'!$4:$4,0),FALSE)*F17","v":0.1075},{"$f":"E31*F31","v":6.1274999999999995},0,0,4.143627287466875E-2,4.0996875570406037E-2]
["Sub-Total:  Distribution (based on two-tier RPP prices)",null,null,{"$f":"SUM(D28,D29:D30)","v":65.320999999999998},null,null,{"$f":"SUM(G28,G29:G30)","v":66.881},1.5600000000000023,2.3882059368350184E-2,0.45227243837302672,0.44747646430425564]
["Sub-Total:  Distribution (based on TOU prices)",null,null,{"$f":"SUM(D28,D29,D31)","v":64.722499999999997},null,null,{"$f":"SUM(G28,G29,G31)","v":66.282499999999999},1.5600000000000023,2.4102900845919154E-2,0.44822517451084976,0.44347211831830902]
["Retail Transmission Rate – Network Service Rate",{"$f":"B8","v":807},{"$f":"VLOOKUP($B$3,'Data Current Rates'!$A:$BE,MATCH(ExcludeDRP_BI_R1_Typical!$A34,CurrentHeader,0),FALSE)","v":8.2000000000000007E-3},{"$f":"B34*C34","v":6.6174000000000008},807,{"$f":"VLOOKUP($B$3,'Data Proposed Rates'!$A:$BC,MATCH(ExcludeDRP_BI_R1_Typical!$A34,ProposedHeader,0),FALSE)","v":8.2000000000000007E-3},{"$f":"E34*F34","v":6.6174000000000008},{"$f":"G34-D34","v":0},0,4.474914600095195E-2,4.4274618425068128E-2]
["Retail Transmission Rate – Line and Transformation Connection Service Rate",{"$f":"B8","v":807},{"$f":"VLOOKUP($B$3,'Data Current Rates'!$A:$BE,MATCH(ExcludeDRP_BI_R1_Typical!$A35,CurrentHeader,0),FALSE)","v":7.3000000000000001E-3},{"$f":"B35*C35","v":5.8910999999999998},807,{"$f":"VLOOKUP($B$3,'Data Proposed Rates'!$A:$BC,MATCH(ExcludeDRP_BI_R1_Typical!$A35,ProposedHeader,0),FALSE)","v":7.3000000000000001E-3},{"$f":"E35*F35","v":5.8910999999999998},{"$f":"G35-D35","v":0},0,3.9837654366701121E-2,3.941520908573138E-2]
["Sub-Total:  Retail Transmission ",null,null,{"$f":"SUM(D34:D35)","v":12.508500000000002},null,null,{"$f":"SUM(G34:G35)","v":12.508500000000002},{"$f":"G36-D36","v":0},0,8.4586800367653064E-2,8.3689827510799522E-2]
["Sub-Total:  Delivery (based on two-tier RPP prices)",null,null,{"$f":"D32+D36","v":77.829499999999996},null,null,{"$f":"G32+G36","v":79.389499999999998},{"$f":"G37-D37","v":1.5600000000000023},2.0043813721018409E-2,0.53685923874067976,0.53116629181505515]
["Sub-Total:  Delivery (based on TOU prices)",null,null,{"$f":"D33+D36","v":77.230999999999995},null,null,{"$f":"G33+G36","v":78.790999999999997},{"$f":"G38-D38","v":1.5600000000000023},2.0199142831246551E-2,0.53281197487850274,0.52716194582910847]
["Wholesale Market Service Rate (WMS) - not including CBR",{"$f":"B8","v":807},{"$f":"VLOOKUP($A39,'Data Pass Through'!$A:$D,2,FALSE)","v":3.0000000000000001E-3},{"$f":"B39*C39","v":2.4210000000000003},{"$f":"$B$8","v":807},{"$f":"VLOOKUP($A39,'Data Pass Through'!$A:$D,3,FALSE)","v":3.0000000000000001E-3},{"$f":"E39*F39","v":2.4210000000000003},0,0,1.6371638780836077E-2,1.6198031131122486E-2]
["Capacity Based Recovery (CBR) - Applicable for Class B Customers",{"$f":"B8","v":807},{"$f":"VLOOKUP($A40,'Data Pass Through'!$A:$D,2,FALSE)","v":4.0000000000000002E-4},{"$f":"B40*C40","v":0.32280000000000003},{"$f":"$B$8","v":807},{"$f":"VLOOKUP($A40,'Data Pass Through'!$A:$D,3,FALSE)","v":4.0000000000000002E-4},{"$f":"E40*F40","v":0.32280000000000003},0,0,2.1828851707781437E-3,2.1597374841496649E-3]
["Rural Rate Protection Charge",{"$f":"B8","v":807},{"$f":"VLOOKUP($A41,'Data Pass Through'!$A:$D,2,FALSE)","v":5.0000000000000001E-4},0.40350000000000003,807,{"$f":"VLOOKUP($A41,'Data Pass Through'!$A:$D,3,FALSE)","v":5.0000000000000001E-4},0.40350000000000003,0,0,2.7286064634726797E-3,2.6996718551870811E-3]
["Standard Supply Service – Administration Charge (if applicable)",1,{"$f":"VLOOKUP($A42,'Data Pass Through'!$A:$D,2,FALSE)","v":0.25},{"$f":"B42*C42","v":0.25},1,{"$f":"VLOOKUP($A42,'Data Pass Through'!$A:$D,3,FALSE)","v":0.25},0.25,0,0,1.6905864085952165E-3,1.6726591419994304E-3]
["Sub-Total:  Regulatory",null,null,{"$f":"SUM(D39:D42)","v":3.3973000000000004},null,null,{"$f":"SUM(G39:G42)","v":3.3973000000000004},0,0,2.2973716823682117E-2,2.2730099612458664E-2]
["Debt Retirement Charge (DRC)",{"$f":"B4","v":750},{"$f":"VLOOKUP($A44,'Data Pass Through'!$A:$D,2,FALSE)","v":0},{"$f":"B44*C44","v":0},750,{"$f":"VLOOKUP($A44,'Data Pass Through'!$A:$D,3,FALSE)","v":0},{"$f":"E44*F44","v":0},0,"N/A",0,0]
["Total  Electricty Charge on Two-Tier RPP ",null,null,{"$f":"SUM(D14,D28,D29,D30,D36,D43,D44)","v":159.52679999999998},null,null,{"$f":"SUM(G14,G28,G29,G30,G36,G43,G44)","v":161.08679999999998},1.5600000000000023,9.7789211593287302E-3,1.0893246187363836]
["     HST",null,0.13,{"$f":"D45*C46","v":20.738484},null,{"$f":"C46","v":0.13},{"$f":"G45*F46","v":20.941284},0.20279999999999987,9.7789211593287077E-3,0.14161220043572986]
["Total Electricity Charge on Two-Tier RPP (including HST)",null,null,{"$f":"SUM(D45:D46)","v":180.26528399999998},null,null,{"$f":"SUM(G45:G46)","v":182.02808399999998},1.7627999999999986,9.7789211593287077E-3,1.2309368191721135]
["Ontario Electricity Rebate (OER)",null,{"$f":"'Data Pass Through'!B20","v":-0.21199999999999999},{"$f":"D45*C48","v":-33.819681599999996},null,{"$f":"'Data Pass Through'!C20","v":-0.21199999999999999},{"$f":"G45*F48","v":-34.150401599999995},-0.33071999999999946,-9.7789211593287007E-3,-0.23093681917211331]
["Total Amount on Two-Tier RPP",null,null,{"$f":"SUM(D47:D48)","v":146.44560239999998},null,null,{"$f":"SUM(G47:G48)","v":147.87768239999997},1.4320799999999849,9.7789211593286123E-3,1]
["Total Electricty Charge on TOU (before HST)",null,null,{"$f":"SUM(D18,D28,D29,D31,D36,D43,D44)","v":161.2533},null,null,{"$f":"SUM(G18,G28,G29,G31,G36,G43,G44)","v":162.8133},1.5600000000000023,9.6742206206012673E-3,null,{"$f":"G50/$G$54","v":1.0893246187363834}]
["     HST",null,0.13,{"$f":"D50*C51","v":20.962928999999999},null,{"$f":"C51","v":0.13},{"$f":"G50*F51","v":21.165728999999999},0.20279999999999987,9.6742206206012465E-3,null,{"$f":"G51/$G$54","v":0.14161220043572986}]
["Total Electricity Charge on TOU (including HST)",null,null,{"$f":"SUM(D50:D51)","v":182.216229},null,null,{"$f":"SUM(G50:G51)","v":183.979029},1.7627999999999986,9.6742206206012447E-3,null,{"$f":"G52/$G$54","v":1.2309368191721133}]
["Ontario Electricity Rebate (OER)",null,{"$f":"'Data Pass Through'!B20","v":-0.21199999999999999},{"$f":"D50*C53","v":-34.1856996},null,{"$f":"'Data Pass Through'!C20","v":-0.21199999999999999},{"$f":"G50*F53","v":-34.516419599999999},-0.33071999999999946,-9.6742206206012378E-3,null,{"$f":"G53/$G$54","v":-0.23093681917211328}]
["Total Amount on TOU",null,null,{"$f":"SUM(D52:D53)","v":148.03052940000001},null,null,{"$f":"SUM(G52:G53)","v":149.46260939999999},1.4320799999999849,9.6742206206011511E-3,null,{"$f":"G54/$G$54","v":1}]
["* Distribution rate protection applies to R1 and R2 customers"]

{"sheet":"ExcludeDRP_BI_R1_Avg","index":25,"n_rows":55,"n_cols":11,"rows_kept":55,"cut":false,"hidden":false,"merged":[[0,0,0,10]]}
["2021 Bill Impacts Excluding DRP (Average Consumption Level) - R1"]
[]
["Rate Class",{"$f":"RIGHT(A1,LEN(A1)-FIND(\"- \",A1,1)-1)","v":"R1"}]
["Monthly Consumption (kWh)",{"$f":"IF(COUNTIF(A1,\"*Low*\")>0,VLOOKUP(B3,'Data Billing Quantities'!$A:$Z,MATCH(\"Low kWh\",'Data Billing Quantities'!4:4,0),FALSE),IF(COUNTIF(A1,\"*Typical*\")>0,VLOOKUP(B3,'Data Billing Quantities'!$A:$Z,MATCH(\"Typical kWh\",'Data Billing Quantities'!4:4,0),FALSE),IF(COUNTIF(A1,\"*Average*\")>0,VLOOKUP(B3,'Data Billing Quantities'!$A:$Z,MATCH(\"Average kWh\",'Data Billing Quantities'!4:4,0),FALSE),IF(COUNTIF(A1,\"*High*\")>0,VLOOKUP(B3,'Data Billing Quantities'!$A:$Z,MATCH(\"High kWh\",'Data Billing Quantities'!4:4,0),FALSE),\"error\"))))","v":920}]
["Peak (kW)",{"$f":"IF(COUNTIF(A1,\"*Low*\")>0,VLOOKUP(B3,'Data Billing Quantities'!$A:$Z,MATCH(\"Low kW\",'Data Billing Quantities'!4:4,0),FALSE),IF(COUNTIF(A1,\"*Typical*\")>0,VLOOKUP(B3,'Data Billing Quantities'!$A:$Z,MATCH(\"Typical kW\",'Data Billing Quantities'!4:4,0),FALSE),IF(COUNTIF(A1,\"*Average*\")>0,VLOOKUP(B3,'Data Billing Quantities'!$A:$Z,MATCH(\"Average kW\",'Data Billing Quantities'!4:4,0),FALSE),IF(COUNTIF(A1,\"*High*\")>0,VLOOKUP(B3,'Data Billing Quantities'!$A:$Z,MATCH(\"High kW\",'Data Billing Quantities'!4:4,0),FALSE),\"error\"))))","v":0}]
["Loss factor",{"$f":"VLOOKUP(B3,'Data Billing Quantities'!A:D,MATCH(A6,'Data Billing Quantities'!4:4,0),FALSE)","v":1.0760000000000001}]
["Commodity Threshold",{"$f":"VLOOKUP(B3,'Data Billing Quantities'!A:D,MATCH(A7,'Data Billing Quantities'!4:4,0),FALSE)","v":600}]
["Monthly Consumption (kWh) - Uplifted",{"$f":"B4*B6","v":989.92000000000007}]
["Charge determinant",{"$f":"VLOOKUP(B3,'Data Billing Quantities'!A:D,MATCH(A9,'Data Billing Quantities'!4:4,0),FALSE)","v":"kWh"}]
[]
[null,"Volume","Current Rate ($)","Current Charge ($)","Volume","Proposed Rate ($)","Proposed Charge ($)","Change ($)","Change (%)","% of Total Bill on RPP","% of Total Bill on TOU"]
["Energy First Tier",{"$f":"IF(B4>B7,B7,B4)","v":600},{"$f":"VLOOKUP($A12,'Data Pass Through'!$A:$D,2,FALSE)","v":0.10100000000000001},{"$f":"B12*C12","v":60.6},{"$f":"B12","v":600},{"$f":"VLOOKUP($A12,'Data Pass Through'!$A:$D,3,FALSE)","v":0.10100000000000001},{"$f":"E12*F12","v":60.6},{"$f":"G12-D12","v":0},{"$f":"IF(ISERROR(H12/ABS(D12)),\"N/A\",(H12/ABS(D12)))","v":0},{"$f":"G12/$G$49","v":0.35023726048528364}]
["Energy Second Tier",{"$f":"IF(B4>B7,(B4)-B7,0)","v":320},{"$f":"VLOOKUP($A13,'Data Pass Through'!$A:$D,2,FALSE)","v":0.11799999999999999},{"$f":"B13*C13","v":37.76},{"$f":"B13","v":320},{"$f":"VLOOKUP($A13,'Data Pass Through'!$A:$D,3,FALSE)","v":0.11799999999999999},{"$f":"E13*F13","v":37.76},0,0,{"$f":"G13/$G$49","v":0.21823364613736482}]
["Sub-Total:  Energy (RPP Tiered)",null,null,{"$f":"SUM(D12:D13)","v":98.36},null,null,{"$f":"SUM(G12:G13)","v":98.36},0,0,{"$f":"G14/$G$49","v":0.56847090662264843}]
["TOU-Off Peak",{"$f":"B$4*VLOOKUP($B$3,'Data Billing Quantities'!$A:$O,MATCH(ExcludeDRP_BI_R1_Avg!$A15,'Data Billing Quantities'!$4:$4,0),FALSE)","v":588.80000000000007},{"$f":"VLOOKUP($A15,'Data Pass Through'!$A:$D,2,FALSE)","v":8.5000000000000006E-2},{"$f":"B15*C15","v":50.048000000000009},588.80000000000007,{"$f":"VLOOKUP($A15,'Data Pass Through'!$A:$D,3,FALSE)","v":8.5000000000000006E-2},{"$f":"E15*F15","v":50.048000000000009},0,0,null,{"$f":"G15/$G$54","v":0.28955032758591043}]
["TOU-Mid Peak",{"$f":"B$4*VLOOKUP($B$3,'Data Billing Quantities'!$A:$O,MATCH(ExcludeDRP_BI_R1_Avg!$A16,'Data Billing Quantities'!$4:$4,0),FALSE)","v":165.6},{"$f":"VLOOKUP($A16,'Data Pass Through'!$A:$D,2,FALSE)","v":0.11899999999999999},{"$f":"B16*C16","v":19.706399999999999},165.6,{"$f":"VLOOKUP($A16,'Data Pass Through'!$A:$D,3,FALSE)","v":0.11899999999999999},{"$f":"E16*F16","v":19.706399999999999},0,0,null,0.1140104414869522]
["TOU-On Peak",{"$f":"B$4*VLOOKUP($B$3,'Data Billing Quantities'!$A:$O,MATCH(ExcludeDRP_BI_R1_Avg!$A17,'Data Billing Quantities'!$4:$4,0),FALSE)","v":165.6},{"$f":"VLOOKUP($A17,'Data Pass Through'!$A:$D,2,FALSE)","v":0.17599999999999999},{"$f":"B17*C17","v":29.145599999999998},165.6,{"$f":"VLOOKUP($A17,'Data Pass Through'!$A:$D,3,FALSE)","v":0.17599999999999999},{"$f":"E17*F17","v":29.145599999999998},0,0,null,0.16862048488826545]
["Sub-Total:  Energy (RPP TOU)",null,null,{"$f":"SUM(D15:D17)","v":98.9},null,null,{"$f":"SUM(G15:G17)","v":98.9},0,0,{"$f":"G18/$G$49","v":0.57159183270618075},0.57218125396112807]
["Service Charge",1,{"$f":"IF(ISERROR(VLOOKUP($B$3,'Data Current Rates'!$A:$BE,MATCH(ExcludeDRP_BI_R1_Avg!$A19,CurrentHeader,0),FALSE)),0,VLOOKUP($B$3,'Data Current Rates'!$A:$BE,MATCH(ExcludeDRP_BI_R1_Avg!$A19,CurrentHeader,0),FALSE))","v":49.04},{"$f":"B19*C19","v":49.04},1,{"$f":"VLOOKUP($B$3,'Data Proposed Rates'!$A:$BC,MATCH(ExcludeDRP_BI_R1_Avg!$A19,ProposedHeader,0),FALSE)","v":49.04},{"$f":"E19*F19","v":49.04},0,0,0.28342632432670478,0.28371859144847034]
["Base Rate Adjustment to Recover Past Tax Amounts FIXED",null,null,null,1,{"$f":"VLOOKUP($B$3,'Data Proposed Rates'!$A:$BC,MATCH(ExcludeDRP_BI_R1_Avg!$A20,ProposedHeader,0),FALSE)","v":1.56},1.56,1.56,"N/A",9.0160086857597761E-3,9.0253059269904921E-3]
["Fixed Deferral/Variance Account Rider (General)",1,{"$f":"IF(ISERROR(VLOOKUP($B$3,'Data Current Rates'!$A:$BE,MATCH(ExcludeDRP_BI_R1_Avg!$A21,CurrentHeader,0),FALSE)),0,VLOOKUP($B$3,'Data Current Rates'!$A:$BE,MATCH(ExcludeDRP_BI_R1_Avg!$A21,CurrentHeader,0),FALSE))","v":-0.14000000000000001},-0.14000000000000001,1,{"$f":"VLOOKUP($B$3,'Data Proposed Rates'!$A:$BC,MATCH(ExcludeDRP_BI_R1_Avg!$A21,ProposedHeader,0),FALSE)","v":-0.14000000000000001},-0.14000000000000001,0,0,-8.0912898461946723E-4,-8.0996335242222381E-4]
["Fixed ESM Rider",1,{"$f":"IF(ISERROR(VLOOKUP($B$3,'Data Current Rates'!$A:$BE,MATCH(ExcludeDRP_BI_R1_Avg!$A22,CurrentHeader,0),FALSE)),0,VLOOKUP($B$3,'Data Current Rates'!$A:$BE,MATCH(ExcludeDRP_BI_R1_Avg!$A22,CurrentHeader,0),FALSE))","v":-0.85},-0.85,1,{"$f":"VLOOKUP($B$3,'Data Proposed Rates'!$A:$BC,MATCH(ExcludeDRP_BI_R1_Avg!$A22,ProposedHeader,0),FALSE)","v":-0.85},-0.85,0,0,-4.9125688351896214E-3,-4.9176346397063579E-3]
["Distribution Volumetric Charge",{"$f":"IF($B$9=\"kWh\",$B$4,$B$5)","v":920},{"$f":"IF(ISERROR(VLOOKUP($B$3,'Data Current Rates'!$A:$BE,MATCH(ExcludeDRP_BI_R1_Avg!$A23,CurrentHeader,0),FALSE)),0,VLOOKUP($B$3,'Data Current Rates'!$A:$BE,MATCH(ExcludeDRP_BI_R1_Avg!$A23,CurrentHeader,0),FALSE))","v":1.41E-2},12.972,{"$f":"IF($B$9=\"kWh\",$B$4,$B$5)","v":920},{"$f":"VLOOKUP($B$3,'Data Proposed Rates'!$A:$BC,MATCH(ExcludeDRP_BI_R1_Avg!$A23,ProposedHeader,0),FALSE)","v":1.41E-2},12.972,0,0,7.4971579917740908E-2,7.5048890054436324E-2]
["Base Rate Adjustment to Recover Past Tax Amounts VOL"]
["Volumetric Deferral/Variance Account Rider (General)",{"$f":"IF($B$9=\"kWh\",$B$4,$B$5)","v":920},{"$f":"IF(ISERROR(VLOOKUP($B$3,'Data Current Rates'!$A:$BE,MATCH(ExcludeDRP_BI_R1_Avg!$A25,CurrentHeader,0),FALSE)),0,VLOOKUP($B$3,'Data Current Rates'!$A:$BE,MATCH(ExcludeDRP_BI_R1_Avg!$A25,CurrentHeader,0),FALSE))","v":-8.0000000000000004E-4},-0.73599999999999999,{"$f":"IF($B$9=\"kWh\",$B$4,$B$5)","v":920},{"$f":"VLOOKUP($B$3,'Data Proposed Rates'!$A:$BC,MATCH(ExcludeDRP_BI_R1_Avg!$A25,ProposedHeader,0),FALSE)","v":-8.0000000000000004E-4},-0.73599999999999999,0,0,-4.2537066619994842E-3,-4.2580930527339762E-3]
["Volumetric ESM Rider",920,{"$f":"IF(ISERROR(VLOOKUP($B$3,'Data Current Rates'!$A:$BE,MATCH(ExcludeDRP_BI_R1_Avg!$A26,CurrentHeader,0),FALSE)),0,VLOOKUP($B$3,'Data Current Rates'!$A:$BE,MATCH(ExcludeDRP_BI_R1_Avg!$A26,CurrentHeader,0),FALSE))","v":0},0,920,{"$f":"VLOOKUP($B$3,'Data Proposed Rates'!$A:$BC,MATCH(ExcludeDRP_BI_R1_Avg!$A26,ProposedHeader,0),FALSE)","v":0},0,0,"N/A",0,0]
["Fair Hydro Plan - Distribution Rate Protection Savings* Excluded",null,null,0,null,null,0,0,"N/A",0,0]
["Sub-Total:  Distribution (excluding pass through)",null,null,{"$f":"SUM(INDIRECT(\"D19:D\"&ROW()-1))","v":60.286000000000001},null,null,{"$f":"SUM(INDIRECT(\"g19:g\"&ROW()-1))","v":61.846000000000004},{"$f":"G28-D28","v":1.5600000000000023},2.5876654613011349E-2,0.35743850844839692,0.35780709638503466]
["Smart Metering Entity Charge",1,{"$f":"VLOOKUP($A29,'Data Pass Through'!$A:$D,2,FALSE)","v":0.56999999999999995},{"$f":"B29*C29","v":0.56999999999999995},1,{"$f":"VLOOKUP($A29,'Data Pass Through'!$A:$D,3,FALSE)","v":0.56999999999999995},{"$f":"E29*F29","v":0.56999999999999995},0,0,3.2943108659506874E-3,3.2977079348619105E-3]
["Line Losses on Cost of Power (based on two-tier RPP prices)",{"$f":"B8-B4","v":69.920000000000073},{"$f":"IF(B4>B7,C13,C12)","v":0.11799999999999999},{"$f":"B30*C30","v":8.250560000000009},69.920000000000073,{"$f":"IF(B4>B7,F13,F12)","v":0.11799999999999999},{"$f":"E30*F30","v":8.250560000000009},0,0,4.7684051681014271E-2,4.7733223121147923E-2]
["Line Losses on Cost of Power (based on TOU prices)",{"$f":"B8-B4","v":69.920000000000073},{"$f":"VLOOKUP($B$3,'Data Billing Quantities'!$A:$O,MATCH(ExcludeDRP_BI_R1_Avg!$A15,'Data Billing Quantities'!$4:$4,0),FALSE)*C15+VLOOKUP($B$3,'Data Billing Quantities'!$A:$O,MATCH(ExcludeDRP_BI_R1_Avg!$A16,'Data Billing Quantities'!$4:$4,0),FALSE)*C16+VLOOKUP($B$3,'Data Billing Quantities'!$A:$O,MATCH(ExcludeDRP_BI_R1_Avg!$A17,'Data Billing Quantities'!$4:$4,0),FALSE)*C17","v":0.1075},{"$f":"B31*C31","v":7.516400000000008},69.920000000000073,{"$f":"VLOOKUP($B$3,'Data Billing Quantities'!$A:$O,MATCH(ExcludeDRP_BI_R1_Avg!$A15,'Data Billing Quantities'!$4:$4,0),FALSE)*F15+VLOOKUP($B$3,'Data Billing Quantities'!$A:$O,MATCH(ExcludeDRP_BI_R1_Avg!$A16,'Data Billing Quantities'!$4:$4,0),FALSE)*F16+VLOOKUP($B$3,'Data Billing Quantities'!$A:$O,MATCH(ExcludeDRP_BI_R1_Avg!$A17,'Data Billing Quantities'!$4:$4,0),FALSE)*F17","v":0.1075},{"$f":"E31*F31","v":7.516400000000008},0,0,4.3440979285669777E-2,4.3485775301045776E-2]
["Sub-Total:  Distribution (based on two-tier RPP prices)",null,null,{"$f":"SUM(D28,D29:D30)","v":69.106560000000016},null,null,{"$f":"SUM(G28,G29:G30)","v":70.666560000000018},1.5600000000000023,2.2573833801016893E-2,0.40841687099536189,0.40883802744104453]
["Sub-Total:  Distribution (based on TOU prices)",null,null,{"$f":"SUM(D28,D29,D31)","v":68.372400000000013},null,null,{"$f":"SUM(G28,G29,G31)","v":69.932400000000015},1.5600000000000023,2.2816224090422482E-2,0.4041737986000174,0.40459057962094236]
["Retail Transmission Rate – Network Service Rate",{"$f":"B8","v":989.92000000000007},{"$f":"VLOOKUP($B$3,'Data Current Rates'!$A:$BE,MATCH(ExcludeDRP_BI_R1_Avg!$A34,CurrentHeader,0),FALSE)","v":8.2000000000000007E-3},{"$f":"B34*C34","v":8.117344000000001},989.92000000000007,{"$f":"VLOOKUP($B$3,'Data Proposed Rates'!$A:$BC,MATCH(ExcludeDRP_BI_R1_Avg!$A34,ProposedHeader,0),FALSE)","v":8.2000000000000007E-3},{"$f":"E34*F34","v":8.117344000000001},{"$f":"G34-D34","v":0},0,4.6914130775192318E-2,4.696250827860303E-2]
["Retail Transmission Rate – Line and Transformation Connection Service Rate",{"$f":"B8","v":989.92000000000007},{"$f":"VLOOKUP($B$3,'Data Current Rates'!$A:$BE,MATCH(ExcludeDRP_BI_R1_Avg!$A35,CurrentHeader,0),FALSE)","v":7.3000000000000001E-3},{"$f":"B35*C35","v":7.2264160000000004},989.92000000000007,{"$f":"VLOOKUP($B$3,'Data Proposed Rates'!$A:$BC,MATCH(ExcludeDRP_BI_R1_Avg!$A35,ProposedHeader,0),FALSE)","v":7.3000000000000001E-3},{"$f":"E35*F35","v":7.2264160000000004},{"$f":"G35-D35","v":0},0,4.176501886084194E-2,4.1808086638268543E-2]
["Sub-Total:  Retail Transmission ",null,null,{"$f":"SUM(D34:D35)","v":15.343760000000001},null,null,{"$f":"SUM(G34:G35)","v":15.343760000000001},{"$f":"G36-D36","v":0},0,8.8679149636034252E-2,8.8770594916871573E-2]
["Sub-Total:  Delivery (based on two-tier RPP prices)",null,null,{"$f":"D32+D36","v":84.450320000000019},null,null,{"$f":"G32+G36","v":86.010320000000021},{"$f":"G37-D37","v":1.5600000000000023},1.8472398920454085E-2,0.49709602063139613,0.49760862235791609]
["Sub-Total:  Delivery (based on TOU prices)",null,null,{"$f":"D33+D36","v":83.716160000000016},null,null,{"$f":"G33+G36","v":85.276160000000019},{"$f":"G38-D38","v":1.5600000000000023},1.8634395079755235E-2,0.49285294823605164,0.49336117453781392]
["Wholesale Market Service Rate (WMS) - not including CBR",{"$f":"B8","v":989.92000000000007},{"$f":"VLOOKUP($A39,'Data Pass Through'!$A:$D,2,FALSE)","v":3.0000000000000001E-3},{"$f":"B39*C39","v":2.9697600000000004},{"$f":"$B$8","v":989.92000000000007},{"$f":"VLOOKUP($A39,'Data Pass Through'!$A:$D,3,FALSE)","v":3.0000000000000001E-3},{"$f":"E39*F39","v":2.9697600000000004},0,0,1.7163706381167921E-2,1.7181405467781595E-2]
["Capacity Based Recovery (CBR) - Applicable for Class B Customers",{"$f":"B8","v":989.92000000000007},{"$f":"VLOOKUP($A40,'Data Pass Through'!$A:$D,2,FALSE)","v":4.0000000000000002E-4},{"$f":"B40*C40","v":0.39596800000000004},{"$f":"$B$8","v":989.92000000000007},{"$f":"VLOOKUP($A40,'Data Pass Through'!$A:$D,3,FALSE)","v":4.0000000000000002E-4},{"$f":"E40*F40","v":0.39596800000000004},0,0,2.2884941841557226E-3,2.2908540623708794E-3]
["Rural Rate Protection Charge",{"$f":"B8","v":989.92000000000007},{"$f":"VLOOKUP($A41,'Data Pass Through'!$A:$D,2,FALSE)","v":5.0000000000000001E-4},0.49496000000000007,989.92000000000007,{"$f":"VLOOKUP($A41,'Data Pass Through'!$A:$D,3,FALSE)","v":5.0000000000000001E-4},0.49496000000000007,0,0,2.8606177301946536E-3,2.8635675779635993E-3]
["Standard Supply Service – Administration Charge (if applicable)",1,{"$f":"VLOOKUP($A42,'Data Pass Through'!$A:$D,2,FALSE)","v":0.25},{"$f":"B42*C42","v":0.25},1,{"$f":"VLOOKUP($A42,'Data Pass Through'!$A:$D,3,FALSE)","v":0.25},0.25,0,0,1.444873186820477E-3,1.4463631293253996E-3]
["Sub-Total:  Regulatory",null,null,{"$f":"SUM(D39:D42)","v":4.1106880000000006},null,null,{"$f":"SUM(G39:G42)","v":4.1106880000000006},0,0,2.3757691482338774E-2,2.3782190237441474E-2]
["Debt Retirement Charge (DRC)",{"$f":"B4","v":920},{"$f":"VLOOKUP($A44,'Data Pass Through'!$A:$D,2,FALSE)","v":0},{"$f":"B44*C44","v":0},920,{"$f":"VLOOKUP($A44,'Data Pass Through'!$A:$D,3,FALSE)","v":0},{"$f":"E44*F44","v":0},0,"N/A",0,0]
["Total  Electricty Charge on Two-Tier RPP ",null,null,{"$f":"SUM(D14,D28,D29,D30,D36,D43,D44)","v":186.92100800000003},null,null,{"$f":"SUM(G14,G28,G29,G30,G36,G43,G44)","v":188.48100800000003},1.5600000000000023,8.3457713859535904E-3,1.0893246187363834]
["     HST",null,0.13,{"$f":"D45*C46","v":24.299731040000005},null,{"$f":"C46","v":0.13},{"$f":"G45*F46","v":24.502531040000004},0.20279999999999987,8.3457713859535713E-3,0.14161220043572986]
["Total Electricity Charge on Two-Tier RPP (including HST)",null,null,{"$f":"SUM(D45:D46)","v":211.22073904000004},null,null,{"$f":"SUM(G45:G46)","v":212.98353904000004},1.7627999999999986,8.3457713859535713E-3,1.2309368191721133]
["Ontario Electricity Rebate (OER)",null,{"$f":"'Data Pass Through'!B20","v":-0.21199999999999999},{"$f":"D45*C48","v":-39.627253696000004},null,{"$f":"'Data Pass Through'!C20","v":-0.21199999999999999},{"$f":"G45*F48","v":-39.957973696000003},-0.33071999999999946,-8.3457713859535643E-3,-0.23093681917211328]
["Total Amount on Two-Tier RPP",null,null,{"$f":"SUM(D47:D48)","v":171.59348534400004},null,null,{"$f":"SUM(G47:G48)","v":173.02556534400003},1.4320799999999849,8.345771385953488E-3,1]
["Total Electricty Charge on TOU (before HST)",null,null,{"$f":"SUM(D18,D28,D29,D31,D36,D43,D44)","v":186.72684800000002},null,null,{"$f":"SUM(G18,G28,G29,G31,G36,G43,G44)","v":188.28684800000002},1.5600000000000023,8.3544493826618986E-3,null,{"$f":"G50/$G$54","v":1.0893246187363834}]
["     HST",null,0.13,{"$f":"D50*C51","v":24.274490240000002},null,{"$f":"C51","v":0.13},{"$f":"G50*F51","v":24.477290240000002},0.20279999999999987,8.3544493826618813E-3,null,{"$f":"G51/$G$54","v":0.14161220043572983}]
["Total Electricity Charge on TOU (including HST)",null,null,{"$f":"SUM(D50:D51)","v":211.00133824000002},null,null,{"$f":"SUM(G50:G51)","v":212.76413824000002},1.7627999999999986,8.3544493826618795E-3,null,{"$f":"G52/$G$54","v":1.2309368191721133}]
["Ontario Electricity Rebate (OER)",null,{"$f":"'Data Pass Through'!B20","v":-0.21199999999999999},{"$f":"D50*C53","v":-39.586091776000004},null,{"$f":"'Data Pass Through'!C20","v":-0.21199999999999999},{"$f":"G50*F53","v":-39.916811776000003},-0.33071999999999946,-8.3544493826618726E-3,null,{"$f":"G53/$G$54","v":-0.23093681917211328}]
["Total Amount on TOU",null,null,{"$f":"SUM(D52:D53)","v":171.41524646400001},null,null,{"$f":"SUM(G52:G53)","v":172.84732646400002},1.4320800000000133,8.3544493826619645E-3,null,{"$f":"G54/$G$54","v":1}]
["* Distribution rate protection applies to R1 and R2 customers"]

{"sheet":"ExcludeDRP_BI_R1_High","index":26,"n_rows":55,"n_cols":11,"rows_kept":55,"cut":false,"hidden":false,"merged":[[0,0,0,10]]}
["2021 Bill Impacts Excluding DRP (High Consumption Level) - R1"]
[]
["Rate Class",{"$f":"RIGHT(A1,LEN(A1)-FIND(\"- \",A1,1)-1)","v":"R1"}]
["Monthly Consumption (kWh)",{"$f":"IF(COUNTIF(A1,\"*Low*\")>0,VLOOKUP(B3,'Data Billing Quantities'!$A:$Z,MATCH(\"Low kWh\",'Data Billing Quantities'!4:4,0),FALSE),IF(COUNTIF(A1,\"*Typical*\")>0,VLOOKUP(B3,'Data Billing Quantities'!$A:$Z,MATCH(\"Typical kWh\",'Data Billing Quantities'!4:4,0),FALSE),IF(COUNTIF(A1,\"*Average*\")>0,VLOOKUP(B3,'Data Billing Quantities'!$A:$Z,MATCH(\"Average kWh\",'Data Billing Quantities'!4:4,0),FALSE),IF(COUNTIF(A1,\"*High*\")>0,VLOOKUP(B3,'Data Billing Quantities'!$A:$Z,MATCH(\"High kWh\",'Data Billing Quantities'!4:4,0),FALSE),\"error\"))))","v":1800}]
["Peak (kW)",{"$f":"IF(COUNTIF(A1,\"*Low*\")>0,VLOOKUP(B3,'Data Billing Quantities'!$A:$Z,MATCH(\"Low kW\",'Data Billing Quantities'!4:4,0),FALSE),IF(COUNTIF(A1,\"*Typical*\")>0,VLOOKUP(B3,'Data Billing Quantities'!$A:$Z,MATCH(\"Typical kW\",'Data Billing Quantities'!4:4,0),FALSE),IF(COUNTIF(A1,\"*Average*\")>0,VLOOKUP(B3,'Data Billing Quantities'!$A:$Z,MATCH(\"Average kW\",'Data Billing Quantities'!4:4,0),FALSE),IF(COUNTIF(A1,\"*High*\")>0,VLOOKUP(B3,'Data Billing Quantities'!$A:$Z,MATCH(\"High kW\",'Data Billing Quantities'!4:4,0),FALSE),\"error\"))))","v":0}]
["Loss factor",{"$f":"VLOOKUP(B3,'Data Billing Quantities'!A:D,MATCH(A6,'Data Billing Quantities'!4:4,0),FALSE)","v":1.0760000000000001}]
["Commodity Threshold",{"$f":"VLOOKUP(B3,'Data Billing Quantities'!A:D,MATCH(A7,'Data Billing Quantities'!4:4,0),FALSE)","v":600}]
["Monthly Consumption (kWh) - Uplifted",{"$f":"B4*B6","v":1936.8000000000002}]
["Charge determinant",{"$f":"VLOOKUP(B3,'Data Billing Quantities'!A:D,MATCH(A9,'Data Billing Quantities'!4:4,0),FALSE)","v":"kWh"}]
[]
[null,"Volume","Current Rate ($)","Current Charge ($)","Volume","Proposed Rate ($)","Proposed Charge ($)","Change ($)","Change (%)","% of Total Bill on RPP","% of Total Bill on TOU"]
["Energy First Tier",{"$f":"IF(B4>B7,B7,B4)","v":600},{"$f":"VLOOKUP($A12,'Data Pass Through'!$A:$D,2,FALSE)","v":0.10100000000000001},{"$f":"B12*C12","v":60.6},{"$f":"B12","v":600},{"$f":"VLOOKUP($A12,'Data Pass Through'!$A:$D,3,FALSE)","v":0.10100000000000001},{"$f":"E12*F12","v":60.6},{"$f":"G12-D12","v":0},{"$f":"IF(ISERROR(H12/ABS(D12)),\"N/A\",(H12/ABS(D12)))","v":0},{"$f":"G12/$G$49","v":0.19986620062079727}]
["Energy Second Tier",{"$f":"IF(B4>B7,(B4)-B7,0)","v":1200},{"$f":"VLOOKUP($A13,'Data Pass Through'!$A:$D,2,FALSE)","v":0.11799999999999999},{"$f":"B13*C13","v":141.6},{"$f":"B13","v":1200},{"$f":"VLOOKUP($A13,'Data Pass Through'!$A:$D,3,FALSE)","v":0.11799999999999999},{"$f":"E13*F13","v":141.6},0,0,{"$f":"G13/$G$49","v":0.46701409253968468}]
["Sub-Total:  Energy (RPP Tiered)",null,null,{"$f":"SUM(D12:D13)","v":202.2},null,null,{"$f":"SUM(G12:G13)","v":202.2},0,0,{"$f":"G14/$G$49","v":0.66688029316048192}]
["TOU-Off Peak",{"$f":"B$4*VLOOKUP($B$3,'Data Billing Quantities'!$A:$O,MATCH(ExcludeDRP_BI_R1_High!$A15,'Data Billing Quantities'!$4:$4,0),FALSE)","v":1152},{"$f":"VLOOKUP($A15,'Data Pass Through'!$A:$D,2,FALSE)","v":8.5000000000000006E-2},{"$f":"B15*C15","v":97.92},1152,{"$f":"VLOOKUP($A15,'Data Pass Through'!$A:$D,3,FALSE)","v":8.5000000000000006E-2},{"$f":"E15*F15","v":97.92},0,0,null,{"$f":"G15/$G$54","v":0.33317723979648861}]
["TOU-Mid Peak",{"$f":"B$4*VLOOKUP($B$3,'Data Billing Quantities'!$A:$O,MATCH(ExcludeDRP_BI_R1_High!$A16,'Data Billing Quantities'!$4:$4,0),FALSE)","v":324},{"$f":"VLOOKUP($A16,'Data Pass Through'!$A:$D,2,FALSE)","v":0.11899999999999999},{"$f":"B16*C16","v":38.555999999999997},324,{"$f":"VLOOKUP($A16,'Data Pass Through'!$A:$D,3,FALSE)","v":0.11899999999999999},{"$f":"E16*F16","v":38.555999999999997},0,0,null,0.13118853816986739]
["TOU-On Peak",{"$f":"B$4*VLOOKUP($B$3,'Data Billing Quantities'!$A:$O,MATCH(ExcludeDRP_BI_R1_High!$A17,'Data Billing Quantities'!$4:$4,0),FALSE)","v":324},{"$f":"VLOOKUP($A17,'Data Pass Through'!$A:$D,2,FALSE)","v":0.17599999999999999},{"$f":"B17*C17","v":57.023999999999994},324,{"$f":"VLOOKUP($A17,'Data Pass Through'!$A:$D,3,FALSE)","v":0.17599999999999999},{"$f":"E17*F17","v":57.023999999999994},0,0,null,0.19402674552854335]
["Sub-Total:  Energy (RPP TOU)",null,null,{"$f":"SUM(D15:D17)","v":193.5},null,null,{"$f":"SUM(G15:G17)","v":193.5},0,0,{"$f":"G18/$G$49","v":0.63818663069512005},0.65839252349489941]
["Service Charge",1,{"$f":"IF(ISERROR(VLOOKUP($B$3,'Data Current Rates'!$A:$BE,MATCH(ExcludeDRP_BI_R1_High!$A19,CurrentHeader,0),FALSE)),0,VLOOKUP($B$3,'Data Current Rates'!$A:$BE,MATCH(ExcludeDRP_BI_R1_High!$A19,CurrentHeader,0),FALSE))","v":49.04},{"$f":"B19*C19","v":49.04},1,{"$f":"VLOOKUP($B$3,'Data Proposed Rates'!$A:$BC,MATCH(ExcludeDRP_BI_R1_High!$A19,ProposedHeader,0),FALSE)","v":49.04},{"$f":"E19*F19","v":49.04},0,0,0.16173990888521284,0.16686082352552903]
["Base Rate Adjustment to Recover Past Tax Amounts FIXED",null,null,null,1,{"$f":"VLOOKUP($B$3,'Data Proposed Rates'!$A:$BC,MATCH(ExcludeDRP_BI_R1_High!$A20,ProposedHeader,0),FALSE)","v":1.56},1.56,1.56,"N/A",5.1450705110304253E-3,5.3079707320519021E-3]
["Fixed Deferral/Variance Account Rider (General)",1,{"$f":"IF(ISERROR(VLOOKUP($B$3,'Data Current Rates'!$A:$BE,MATCH(ExcludeDRP_BI_R1_High!$A21,CurrentHeader,0),FALSE)),0,VLOOKUP($B$3,'Data Current Rates'!$A:$BE,MATCH(ExcludeDRP_BI_R1_High!$A21,CurrentHeader,0),FALSE))","v":-0.14000000000000001},-0.14000000000000001,1,{"$f":"VLOOKUP($B$3,'Data Proposed Rates'!$A:$BC,MATCH(ExcludeDRP_BI_R1_High!$A21,ProposedHeader,0),FALSE)","v":-0.14000000000000001},-0.14000000000000001,0,0,-4.6173709714375613E-4,-4.7635634774824767E-4]
["Fixed ESM Rider",1,{"$f":"IF(ISERROR(VLOOKUP($B$3,'Data Current Rates'!$A:$BE,MATCH(ExcludeDRP_BI_R1_High!$A22,CurrentHeader,0),FALSE)),0,VLOOKUP($B$3,'Data Current Rates'!$A:$BE,MATCH(ExcludeDRP_BI_R1_High!$A22,CurrentHeader,0),FALSE))","v":-0.85},-0.85,1,{"$f":"VLOOKUP($B$3,'Data Proposed Rates'!$A:$BC,MATCH(ExcludeDRP_BI_R1_High!$A22,ProposedHeader,0),FALSE)","v":-0.85},-0.85,0,0,-2.8034038040870902E-3,-2.8921635399000748E-3]
["Distribution Volumetric Charge",{"$f":"IF($B$9=\"kWh\",$B$4,$B$5)","v":1800},{"$f":"IF(ISERROR(VLOOKUP($B$3,'Data Current Rates'!$A:$BE,MATCH(ExcludeDRP_BI_R1_High!$A23,CurrentHeader,0),FALSE)),0,VLOOKUP($B$3,'Data Current Rates'!$A:$BE,MATCH(ExcludeDRP_BI_R1_High!$A23,CurrentHeader,0),FALSE))","v":1.41E-2},25.38,{"$f":"IF($B$9=\"kWh\",$B$4,$B$5)","v":1800},{"$f":"VLOOKUP($B$3,'Data Proposed Rates'!$A:$BC,MATCH(ExcludeDRP_BI_R1_High!$A23,ProposedHeader,0),FALSE)","v":1.41E-2},25.38,0,0,8.3706339467918056E-2,8.6356600756075166E-2]
["Base Rate Adjustment to Recover Past Tax Amounts VOL"]
["Volumetric Deferral/Variance Account Rider (General)",{"$f":"IF($B$9=\"kWh\",$B$4,$B$5)","v":1800},{"$f":"IF(ISERROR(VLOOKUP($B$3,'Data Current Rates'!$A:$BE,MATCH(ExcludeDRP_BI_R1_High!$A25,CurrentHeader,0),FALSE)),0,VLOOKUP($B$3,'Data Current Rates'!$A:$BE,MATCH(ExcludeDRP_BI_R1_High!$A25,CurrentHeader,0),FALSE))","v":-8.0000000000000004E-4},-1.4400000000000002,{"$f":"IF($B$9=\"kWh\",$B$4,$B$5)","v":1800},{"$f":"VLOOKUP($B$3,'Data Proposed Rates'!$A:$BC,MATCH(ExcludeDRP_BI_R1_High!$A25,ProposedHeader,0),FALSE)","v":-8.0000000000000004E-4},-1.4400000000000002,0,0,-4.7492958563357772E-3,-4.8996652911248335E-3]
["Volumetric ESM Rider",1800,{"$f":"IF(ISERROR(VLOOKUP($B$3,'Data Current Rates'!$A:$BE,MATCH(ExcludeDRP_BI_R1_High!$A26,CurrentHeader,0),FALSE)),0,VLOOKUP($B$3,'Data Current Rates'!$A:$BE,MATCH(ExcludeDRP_BI_R1_High!$A26,CurrentHeader,0),FALSE))","v":0},0,1800,{"$f":"VLOOKUP($B$3,'Data Proposed Rates'!$A:$BC,MATCH(ExcludeDRP_BI_R1_High!$A26,ProposedHeader,0),FALSE)","v":0},0,0,"N/A",0,0]
["Fair Hydro Plan - Distribution Rate Protection Savings* Excluded",null,null,0,null,null,0,0,"N/A",0,0]
["Sub-Total:  Distribution (excluding pass through)",null,null,{"$f":"SUM(INDIRECT(\"D19:D\"&ROW()-1))","v":71.989999999999995},null,null,{"$f":"SUM(INDIRECT(\"g19:g\"&ROW()-1))","v":73.55},{"$f":"G28-D28","v":1.5600000000000023},2.166967634393669E-2,0.2425768821065947,0.25025720983488292]
["Smart Metering Entity Charge",1,{"$f":"VLOOKUP($A29,'Data Pass Through'!$A:$D,2,FALSE)","v":0.56999999999999995},{"$f":"B29*C29","v":0.56999999999999995},1,{"$f":"VLOOKUP($A29,'Data Pass Through'!$A:$D,3,FALSE)","v":0.56999999999999995},{"$f":"E29*F29","v":0.56999999999999995},0,0,1.879929609799578E-3,1.9394508444035795E-3]
["Line Losses on Cost of Power (based on two-tier RPP prices)",{"$f":"B8-B4","v":136.80000000000018},{"$f":"IF(B4>B7,C13,C12)","v":0.11799999999999999},{"$f":"B30*C30","v":16.14240000000002},136.80000000000018,{"$f":"IF(B4>B7,F13,F12)","v":0.11799999999999999},{"$f":"E30*F30","v":16.14240000000002},0,0,5.3239606549524122E-2,5.4925247913509445E-2]
["Line Losses on Cost of Power (based on TOU prices)",{"$f":"B8-B4","v":136.80000000000018},{"$f":"VLOOKUP($B$3,'Data Billing Quantities'!$A:$O,MATCH(ExcludeDRP_BI_R1_High!$A15,'Data Billing Quantities'!$4:$4,0),FALSE)*C15+VLOOKUP($B$3,'Data Billing Quantities'!$A:$O,MATCH(ExcludeDRP_BI_R1_High!$A16,'Data Billing Quantities'!$4:$4,0),FALSE)*C16+VLOOKUP($B$3,'Data Billing Quantities'!$A:$O,MATCH(ExcludeDRP_BI_R1_High!$A17,'Data Billing Quantities'!$4:$4,0),FALSE)*C17","v":0.1075},{"$f":"B31*C31","v":14.706000000000019},136.80000000000018,{"$f":"VLOOKUP($B$3,'Data Billing Quantities'!$A:$O,MATCH(ExcludeDRP_BI_R1_High!$A15,'Data Billing Quantities'!$4:$4,0),FALSE)*F15+VLOOKUP($B$3,'Data Billing Quantities'!$A:$O,MATCH(ExcludeDRP_BI_R1_High!$A16,'Data Billing Quantities'!$4:$4,0),FALSE)*F16+VLOOKUP($B$3,'Data Billing Quantities'!$A:$O,MATCH(ExcludeDRP_BI_R1_High!$A17,'Data Billing Quantities'!$4:$4,0),FALSE)*F17","v":0.1075},{"$f":"E31*F31","v":14.706000000000019},0,0,4.8502183932829186E-2,5.003783178561242E-2]
["Sub-Total:  Distribution (based on two-tier RPP prices)",null,null,{"$f":"SUM(D28,D29:D30)","v":88.702400000000011},null,null,{"$f":"SUM(G28,G29:G30)","v":90.262400000000014},1.5600000000000023,1.7586897310557573E-2,0.29769641826591842,0.30712190859279592]
["Sub-Total:  Distribution (based on TOU prices)",null,null,{"$f":"SUM(D28,D29,D31)","v":87.266000000000005},null,null,{"$f":"SUM(G28,G29,G31)","v":88.826000000000008},1.5600000000000023,1.7876377970801941E-2,0.29295899564922345,0.30223449246489892]
["Retail Transmission Rate – Network Service Rate",{"$f":"B8","v":1936.8000000000002},{"$f":"VLOOKUP($B$3,'Data Current Rates'!$A:$BE,MATCH(ExcludeDRP_BI_R1_High!$A34,CurrentHeader,0),FALSE)","v":8.2000000000000007E-3},{"$f":"B34*C34","v":15.881760000000003},1936.8000000000002,{"$f":"VLOOKUP($B$3,'Data Proposed Rates'!$A:$BC,MATCH(ExcludeDRP_BI_R1_High!$A34,ProposedHeader,0),FALSE)","v":8.2000000000000007E-3},{"$f":"E34*F34","v":15.881760000000003},{"$f":"G34-D34","v":0},0,5.2379983999527292E-2,5.4038408495815794E-2]
["Retail Transmission Rate – Line and Transformation Connection Service Rate",{"$f":"B8","v":1936.8000000000002},{"$f":"VLOOKUP($B$3,'Data Current Rates'!$A:$BE,MATCH(ExcludeDRP_BI_R1_High!$A35,CurrentHeader,0),FALSE)","v":7.3000000000000001E-3},{"$f":"B35*C35","v":14.138640000000002},1936.8000000000002,{"$f":"VLOOKUP($B$3,'Data Proposed Rates'!$A:$BC,MATCH(ExcludeDRP_BI_R1_High!$A35,ProposedHeader,0),FALSE)","v":7.3000000000000001E-3},{"$f":"E35*F35","v":14.138640000000002},{"$f":"G35-D35","v":0},0,4.6630961365432828E-2,4.8107363660909175E-2]
["Sub-Total:  Retail Transmission ",null,null,{"$f":"SUM(D34:D35)","v":30.020400000000006},null,null,{"$f":"SUM(G34:G35)","v":30.020400000000006},{"$f":"G36-D36","v":0},0,9.9010945364960121E-2,0.10214577215672498]
["Sub-Total:  Delivery (based on two-tier RPP prices)",null,null,{"$f":"D32+D36","v":118.72280000000002},null,null,{"$f":"G32+G36","v":120.28280000000002},{"$f":"G37-D37","v":1.5600000000000023},1.3139851822901769E-2,0.39670736363087855,0.40926768074952091]
["Sub-Total:  Delivery (based on TOU prices)",null,null,{"$f":"D33+D36","v":117.28640000000001},null,null,{"$f":"G33+G36","v":118.84640000000002},{"$f":"G38-D38","v":1.5600000000000023},1.3300774855396722E-2,0.39196994101418359,0.40438026462162391]
["Wholesale Market Service Rate (WMS) - not including CBR",{"$f":"B8","v":1936.8000000000002},{"$f":"VLOOKUP($A39,'Data Pass Through'!$A:$D,2,FALSE)","v":3.0000000000000001E-3},{"$f":"B39*C39","v":5.8104000000000005},{"$f":"$B$8","v":1936.8000000000002},{"$f":"VLOOKUP($A39,'Data Pass Through'!$A:$D,3,FALSE)","v":3.0000000000000001E-3},{"$f":"E39*F39","v":5.8104000000000005},0,0,1.9163408780314861E-2,1.97701494496887E-2]
["Capacity Based Recovery (CBR) - Applicable for Class B Customers",{"$f":"B8","v":1936.8000000000002},{"$f":"VLOOKUP($A40,'Data Pass Through'!$A:$D,2,FALSE)","v":4.0000000000000002E-4},{"$f":"B40*C40","v":0.77472000000000008},{"$f":"$B$8","v":1936.8000000000002},{"$f":"VLOOKUP($A40,'Data Pass Through'!$A:$D,3,FALSE)","v":4.0000000000000002E-4},{"$f":"E40*F40","v":0.77472000000000008},0,0,2.5551211707086482E-3,2.6360199266251601E-3]
["Rural Rate Protection Charge",{"$f":"B8","v":1936.8000000000002},{"$f":"VLOOKUP($A41,'Data Pass Through'!$A:$D,2,FALSE)","v":5.0000000000000001E-4},0.96840000000000015,1936.8000000000002,{"$f":"VLOOKUP($A41,'Data Pass Through'!$A:$D,3,FALSE)","v":5.0000000000000001E-4},0.96840000000000015,0,0,3.1939014633858105E-3,3.2950249082814506E-3]
["Standard Supply Service – Administration Charge (if applicable)",1,{"$f":"VLOOKUP($A42,'Data Pass Through'!$A:$D,2,FALSE)","v":0.25},{"$f":"B42*C42","v":0.25},1,{"$f":"VLOOKUP($A42,'Data Pass Through'!$A:$D,3,FALSE)","v":0.25},0.25,0,0,8.2453053061385014E-4,8.5063633526472786E-4]
["Sub-Total:  Regulatory",null,null,{"$f":"SUM(D39:D42)","v":7.8035200000000007},null,null,{"$f":"SUM(G39:G42)","v":7.8035200000000007},0,0,2.573696194502317E-2,2.655183061986004E-2]
["Debt Retirement Charge (DRC)",{"$f":"B4","v":1800},{"$f":"VLOOKUP($A44,'Data Pass Through'!$A:$D,2,FALSE)","v":0},{"$f":"B44*C44","v":0},1800,{"$f":"VLOOKUP($A44,'Data Pass Through'!$A:$D,3,FALSE)","v":0},{"$f":"E44*F44","v":0},0,"N/A",0,0]
["Total  Electricty Charge on Two-Tier RPP ",null,null,{"$f":"SUM(D14,D28,D29,D30,D36,D43,D44)","v":328.72631999999999},null,null,{"$f":"SUM(G14,G28,G29,G30,G36,G43,G44)","v":330.28631999999999},1.5600000000000023,4.7455889750476999E-3,1.0893246187363836]
["     HST",null,0.13,{"$f":"D45*C46","v":42.734421599999997},null,{"$f":"C46","v":0.13},{"$f":"G45*F46","v":42.937221600000001},0.20280000000000342,4.7455889750477737E-3,0.14161220043572986]
["Total Electricity Charge on Two-Tier RPP (including HST)",null,null,{"$f":"SUM(D45:D46)","v":371.46074160000001},null,null,{"$f":"SUM(G45:G46)","v":373.22354159999998},1.7627999999999702,4.7455889750476132E-3,1.2309368191721133]
["Ontario Electricity Rebate (OER)",null,{"$f":"'Data Pass Through'!B20","v":-0.21199999999999999},{"$f":"D45*C48","v":-69.689979839999992},null,{"$f":"'Data Pass Through'!C20","v":-0.21199999999999999},{"$f":"G45*F48","v":-70.020699839999992},-0.33071999999999946,-4.7455889750476861E-3,-0.23093681917211328]
["Total Amount on Two-Tier RPP",null,null,{"$f":"SUM(D47:D48)","v":301.77076176000003},null,null,{"$f":"SUM(G47:G48)","v":303.20284175999996},1.4320799999999281,4.7455889750474545E-3,1]
["Total Electricty Charge on TOU (before HST)",null,null,{"$f":"SUM(D18,D28,D29,D31,D36,D43,D44)","v":318.58992000000001},null,null,{"$f":"SUM(G18,G28,G29,G31,G36,G43,G44)","v":320.14992000000001},1.5600000000000023,4.8965767655172587E-3,null,{"$f":"G50/$G$54","v":1.0893246187363832}]
["     HST",null,0.13,{"$f":"D50*C51","v":41.416689600000005},null,{"$f":"C51","v":0.13},{"$f":"G50*F51","v":41.619489600000001},0.20279999999999632,4.8965767655171624E-3,null,{"$f":"G51/$G$54","v":0.14161220043572983}]
["Total Electricity Charge on TOU (including HST)",null,null,{"$f":"SUM(D50:D51)","v":360.00660959999999},null,null,{"$f":"SUM(G50:G51)","v":361.76940960000002},1.762800000000027,4.8965767655173272E-3,null,{"$f":"G52/$G$54","v":1.2309368191721131}]
["Ontario Electricity Rebate (OER)",null,{"$f":"'Data Pass Through'!B20","v":-0.21199999999999999},{"$f":"D50*C53","v":-67.541063039999997},null,{"$f":"'Data Pass Through'!C20","v":-0.21199999999999999},{"$f":"G50*F53","v":-67.871783039999997},-0.33071999999999946,-4.8965767655172439E-3,null,{"$f":"G53/$G$54","v":-0.23093681917211323}]
["Total Amount on TOU",null,null,{"$f":"SUM(D52:D53)","v":292.46554656000001},null,null,{"$f":"SUM(G52:G53)","v":293.89762656000005},1.4320800000000418,4.8965767655173948E-3,null,{"$f":"G54/$G$54","v":1}]
["* Distribution rate protection applies to R1 and R2 customers"]

{"sheet":"ExcludeDRP_BI_R2_Low","index":27,"n_rows":55,"n_cols":11,"rows_kept":55,"cut":false,"hidden":false,"merged":[[0,0,0,10]]}
["2021 Bill Impacts Excluding DRP (Low Consumption Level) - R2"]
[]
["Rate Class",{"$f":"RIGHT(A1,LEN(A1)-FIND(\"- \",A1,1)-1)","v":"R2"}]
["Monthly Consumption (kWh)",{"$f":"IF(COUNTIF(A1,\"*Low*\")>0,VLOOKUP(B3,'Data Billing Quantities'!$A:$Z,MATCH(\"Low kWh\",'Data Billing Quantities'!4:4,0),FALSE),IF(COUNTIF(A1,\"*Typical*\")>0,VLOOKUP(B3,'Data Billing Quantities'!$A:$Z,MATCH(\"Typical kWh\",'Data Billing Quantities'!4:4,0),FALSE),IF(COUNTIF(A1,\"*Average*\")>0,VLOOKUP(B3,'Data Billing Quantities'!$A:$Z,MATCH(\"Average kWh\",'Data Billing Quantities'!4:4,0),FALSE),IF(COUNTIF(A1,\"*High*\")>0,VLOOKUP(B3,'Data Billing Quantities'!$A:$Z,MATCH(\"High kWh\",'Data Billing Quantities'!4:4,0),FALSE),\"error\"))))","v":450}]
["Peak (kW)",{"$f":"IF(COUNTIF(A1,\"*Low*\")>0,VLOOKUP(B3,'Data Billing Quantities'!$A:$Z,MATCH(\"Low kW\",'Data Billing Quantities'!4:4,0),FALSE),IF(COUNTIF(A1,\"*Typical*\")>0,VLOOKUP(B3,'Data Billing Quantities'!$A:$Z,MATCH(\"Typical kW\",'Data Billing Quantities'!4:4,0),FALSE),IF(COUNTIF(A1,\"*Average*\")>0,VLOOKUP(B3,'Data Billing Quantities'!$A:$Z,MATCH(\"Average kW\",'Data Billing Quantities'!4:4,0),FALSE),IF(COUNTIF(A1,\"*High*\")>0,VLOOKUP(B3,'Data Billing Quantities'!$A:$Z,MATCH(\"High kW\",'Data Billing Quantities'!4:4,0),FALSE),\"error\"))))","v":0}]
["Loss factor",{"$f":"VLOOKUP(B3,'Data Billing Quantities'!A:D,MATCH(A6,'Data Billing Quantities'!4:4,0),FALSE)","v":1.105}]
["Commodity Threshold",{"$f":"VLOOKUP(B3,'Data Billing Quantities'!A:D,MATCH(A7,'Data Billing Quantities'!4:4,0),FALSE)","v":600}]
["Monthly Consumption (kWh) - Uplifted",{"$f":"B4*B6","v":497.25}]
["Charge determinant",{"$f":"VLOOKUP(B3,'Data Billing Quantities'!A:D,MATCH(A9,'Data Billing Quantities'!4:4,0),FALSE)","v":"kWh"}]
[]
[null,"Volume","Current Rate ($)","Current Charge ($)","Volume","Proposed Rate ($)","Proposed Charge ($)","Change ($)","Change (%)","% of Total Bill on RPP","% of Total Bill on TOU"]
["Energy First Tier",{"$f":"IF(B4>B7,B7,B4)","v":450},{"$f":"VLOOKUP($A12,'Data Pass Through'!$A:$D,2,FALSE)","v":0.10100000000000001},{"$f":"B12*C12","v":45.45},{"$f":"B12","v":450},{"$f":"VLOOKUP($A12,'Data Pass Through'!$A:$D,3,FALSE)","v":0.10100000000000001},{"$f":"E12*F12","v":45.45},{"$f":"G12-D12","v":0},{"$f":"IF(ISERROR(H12/ABS(D12)),\"N/A\",(H12/ABS(D12)))","v":0},{"$f":"G12/$G$49","v":0.39477834731915767}]
["Energy Second Tier",{"$f":"IF(B4>B7,(B4)-B7,0)","v":0},{"$f":"VLOOKUP($A13,'Data Pass Through'!$A:$D,2,FALSE)","v":0.11799999999999999},{"$f":"B13*C13","v":0},{"$f":"B13","v":0},{"$f":"VLOOKUP($A13,'Data Pass Through'!$A:$D,3,FALSE)","v":0.11799999999999999},{"$f":"E13*F13","v":0},0,"N/A",{"$f":"G13/$G$49","v":0}]
["Sub-Total:  Energy (RPP Tiered)",null,null,{"$f":"SUM(D12:D13)","v":45.45},null,null,{"$f":"SUM(G12:G13)","v":45.45},0,0,{"$f":"G14/$G$49","v":0.39477834731915767}]
["TOU-Off Peak",{"$f":"B$4*VLOOKUP($B$3,'Data Billing Quantities'!$A:$O,MATCH(ExcludeDRP_BI_R2_Low!$A15,'Data Billing Quantities'!$4:$4,0),FALSE)","v":288},{"$f":"VLOOKUP($A15,'Data Pass Through'!$A:$D,2,FALSE)","v":8.5000000000000006E-2},{"$f":"B15*C15","v":24.48},288,{"$f":"VLOOKUP($A15,'Data Pass Through'!$A:$D,3,FALSE)","v":8.5000000000000006E-2},{"$f":"E15*F15","v":24.48},0,0,null,{"$f":"G15/$G$54","v":0.20729076604496927}]
["TOU-Mid Peak",{"$f":"B$4*VLOOKUP($B$3,'Data Billing Quantities'!$A:$O,MATCH(ExcludeDRP_BI_R2_Low!$A16,'Data Billing Quantities'!$4:$4,0),FALSE)","v":81},{"$f":"VLOOKUP($A16,'Data Pass Through'!$A:$D,2,FALSE)","v":0.11899999999999999},{"$f":"B16*C16","v":9.6389999999999993},81,{"$f":"VLOOKUP($A16,'Data Pass Through'!$A:$D,3,FALSE)","v":0.11899999999999999},{"$f":"E16*F16","v":9.6389999999999993},0,0,null,8.1620739130206635E-2]
["TOU-On Peak",{"$f":"B$4*VLOOKUP($B$3,'Data Billing Quantities'!$A:$O,MATCH(ExcludeDRP_BI_R2_Low!$A17,'Data Billing Quantities'!$4:$4,0),FALSE)","v":81},{"$f":"VLOOKUP($A17,'Data Pass Through'!$A:$D,2,FALSE)","v":0.17599999999999999},{"$f":"B17*C17","v":14.255999999999998},81,{"$f":"VLOOKUP($A17,'Data Pass Through'!$A:$D,3,FALSE)","v":0.17599999999999999},{"$f":"E17*F17","v":14.255999999999998},0,0,null,0.12071638728501149]
["Sub-Total:  Energy (RPP TOU)",null,null,{"$f":"SUM(D15:D17)","v":48.375},null,null,{"$f":"SUM(G15:G17)","v":48.375},0,0,{"$f":"G18/$G$49","v":0.4201848746218757},0.40962789246018738]
["Service Charge",1,{"$f":"IF(ISERROR(VLOOKUP($B$3,'Data Current Rates'!$A:$BE,MATCH(ExcludeDRP_BI_R2_Low!$A19,CurrentHeader,0),FALSE)),0,VLOOKUP($B$3,'Data Current Rates'!$A:$BE,MATCH(ExcludeDRP_BI_R2_Low!$A19,CurrentHeader,0),FALSE))","v":53.14},{"$f":"B19*C19","v":53.14},1,{"$f":"VLOOKUP($B$3,'Data Proposed Rates'!$A:$BC,MATCH(ExcludeDRP_BI_R2_Low!$A19,ProposedHeader,0),FALSE)","v":53.14},{"$f":"E19*F19","v":53.14},0,0,0.46157362764664545,0.44997676910251905]
["Base Rate Adjustment to Recover Past Tax Amounts FIXED",null,null,null,1,{"$f":"VLOOKUP($B$3,'Data Proposed Rates'!$A:$BC,MATCH(ExcludeDRP_BI_R2_Low!$A20,ProposedHeader,0),FALSE)","v":4.42},4.42,4.42,"N/A",3.8392085701885077E-2,3.7427499424786112E-2]
["Fixed Deferral/Variance Account Rider (General)",1,{"$f":"IF(ISERROR(VLOOKUP($B$3,'Data Current Rates'!$A:$BE,MATCH(ExcludeDRP_BI_R2_Low!$A21,CurrentHeader,0),FALSE)),0,VLOOKUP($B$3,'Data Current Rates'!$A:$BE,MATCH(ExcludeDRP_BI_R2_Low!$A21,CurrentHeader,0),FALSE))","v":-0.14000000000000001},-0.14000000000000001,1,{"$f":"VLOOKUP($B$3,'Data Proposed Rates'!$A:$BC,MATCH(ExcludeDRP_BI_R2_Low!$A21,ProposedHeader,0),FALSE)","v":-0.14000000000000001},-0.14000000000000001,0,0,-1.2160389136343691E-3,-1.1854864071199223E-3]
["Fixed ESM Rider",1,{"$f":"IF(ISERROR(VLOOKUP($B$3,'Data Current Rates'!$A:$BE,MATCH(ExcludeDRP_BI_R2_Low!$A22,CurrentHeader,0),FALSE)),0,VLOOKUP($B$3,'Data Current Rates'!$A:$BE,MATCH(ExcludeDRP_BI_R2_Low!$A22,CurrentHeader,0),FALSE))","v":-1.92},-1.92,1,{"$f":"VLOOKUP($B$3,'Data Proposed Rates'!$A:$BC,MATCH(ExcludeDRP_BI_R2_Low!$A22,ProposedHeader,0),FALSE)","v":-1.92},-1.92,0,0,-1.6677105101271343E-2,-1.6258099297644647E-2]
["Distribution Volumetric Charge",{"$f":"IF($B$9=\"kWh\",$B$4,$B$5)","v":450},{"$f":"IF(ISERROR(VLOOKUP($B$3,'Data Current Rates'!$A:$BE,MATCH(ExcludeDRP_BI_R2_Low!$A23,CurrentHeader,0),FALSE)),0,VLOOKUP($B$3,'Data Current Rates'!$A:$BE,MATCH(ExcludeDRP_BI_R2_Low!$A23,CurrentHeader,0),FALSE))","v":2.2700000000000001E-2},10.215,{"$f":"IF($B$9=\"kWh\",$B$4,$B$5)","v":450},{"$f":"VLOOKUP($B$3,'Data Proposed Rates'!$A:$BC,MATCH(ExcludeDRP_BI_R2_Low!$A23,ProposedHeader,0),FALSE)","v":2.2700000000000001E-2},10.215,0,0,8.8727410734107698E-2,8.6498168919500032E-2]
["Base Rate Adjustment to Recover Past Tax Amounts VOL"]
["Volumetric Deferral/Variance Account Rider (General)",{"$f":"IF($B$9=\"kWh\",$B$4,$B$5)","v":450},{"$f":"IF(ISERROR(VLOOKUP($B$3,'Data Current Rates'!$A:$BE,MATCH(ExcludeDRP_BI_R2_Low!$A25,CurrentHeader,0),FALSE)),0,VLOOKUP($B$3,'Data Current Rates'!$A:$BE,MATCH(ExcludeDRP_BI_R2_Low!$A25,CurrentHeader,0),FALSE))","v":-1.1000000000000001E-3},-0.49500000000000005,{"$f":"IF($B$9=\"kWh\",$B$4,$B$5)","v":450},{"$f":"VLOOKUP($B$3,'Data Proposed Rates'!$A:$BC,MATCH(ExcludeDRP_BI_R2_Low!$A25,ProposedHeader,0),FALSE)","v":-1.1000000000000001E-3},-0.49500000000000005,0,0,-4.2995661589215195E-3,-4.1915412251740114E-3]
["Volumetric ESM Rider",450,{"$f":"IF(ISERROR(VLOOKUP($B$3,'Data Current Rates'!$A:$BE,MATCH(ExcludeDRP_BI_R2_Low!$A26,CurrentHeader,0),FALSE)),0,VLOOKUP($B$3,'Data Current Rates'!$A:$BE,MATCH(ExcludeDRP_BI_R2_Low!$A26,CurrentHeader,0),FALSE))","v":0},0,450,{"$f":"VLOOKUP($B$3,'Data Proposed Rates'!$A:$BC,MATCH(ExcludeDRP_BI_R2_Low!$A26,ProposedHeader,0),FALSE)","v":0},0,0,"N/A",0,0]
["Fair Hydro Plan - Distribution Rate Protection Savings* Excluded",null,null,0,null,null,0,0,"N/A",0,0]
["Sub-Total:  Distribution (excluding pass through)",null,null,{"$f":"SUM(INDIRECT(\"D19:D\"&ROW()-1))","v":60.800000000000004},null,null,{"$f":"SUM(INDIRECT(\"g19:g\"&ROW()-1))","v":65.22},{"$f":"G28-D28","v":4.4199999999999946},7.2697368421052538E-2,0.56650041390881101,0.55226731051686662]
["Smart Metering Entity Charge",1,{"$f":"VLOOKUP($A29,'Data Pass Through'!$A:$D,2,FALSE)","v":0.56999999999999995},{"$f":"B29*C29","v":0.56999999999999995},1,{"$f":"VLOOKUP($A29,'Data Pass Through'!$A:$D,3,FALSE)","v":0.56999999999999995},{"$f":"E29*F29","v":0.56999999999999995},0,0,4.9510155769399303E-3,4.8266232289882541E-3]
["Line Losses on Cost of Power (based on two-tier RPP prices)",{"$f":"B8-B4","v":47.25},{"$f":"IF(B4>B7,C13,C12)","v":0.10100000000000001},{"$f":"B30*C30","v":4.7722500000000005},47.25,{"$f":"IF(B4>B7,F13,F12)","v":0.10100000000000001},{"$f":"E30*F30","v":4.7722500000000005},0,0,4.1451726468511557E-2,4.0410267902700352E-2]
["Line Losses on Cost of Power (based on TOU prices)",{"$f":"B8-B4","v":47.25},{"$f":"VLOOKUP($B$3,'Data Billing Quantities'!$A:$O,MATCH(ExcludeDRP_BI_R2_Low!$A15,'Data Billing Quantities'!$4:$4,0),FALSE)*C15+VLOOKUP($B$3,'Data Billing Quantities'!$A:$O,MATCH(ExcludeDRP_BI_R2_Low!$A16,'Data Billing Quantities'!$4:$4,0),FALSE)*C16+VLOOKUP($B$3,'Data Billing Quantities'!$A:$O,MATCH(ExcludeDRP_BI_R2_Low!$A17,'Data Billing Quantities'!$4:$4,0),FALSE)*C17","v":0.1075},{"$f":"B31*C31","v":5.0793749999999998},47.25,{"$f":"VLOOKUP($B$3,'Data Billing Quantities'!$A:$O,MATCH(ExcludeDRP_BI_R2_Low!$A15,'Data Billing Quantities'!$4:$4,0),FALSE)*F15+VLOOKUP($B$3,'Data Billing Quantities'!$A:$O,MATCH(ExcludeDRP_BI_R2_Low!$A16,'Data Billing Quantities'!$4:$4,0),FALSE)*F16+VLOOKUP($B$3,'Data Billing Quantities'!$A:$O,MATCH(ExcludeDRP_BI_R2_Low!$A17,'Data Billing Quantities'!$4:$4,0),FALSE)*F17","v":0.1075},{"$f":"E31*F31","v":5.0793749999999998},0,0,4.4119411835296947E-2,4.3010928708319678E-2]
["Sub-Total:  Distribution (based on two-tier RPP prices)",null,null,{"$f":"SUM(D28,D29:D30)","v":66.142250000000004},null,null,{"$f":"SUM(G28,G29:G30)","v":70.562249999999992},4.4199999999999875,6.6825667406234093E-2,0.61290315595426237,0.59750420164855511]
["Sub-Total:  Distribution (based on TOU prices)",null,null,{"$f":"SUM(D28,D29,D31)","v":66.449375000000003},null,null,{"$f":"SUM(G28,G29,G31)","v":70.869374999999991},4.4199999999999875,6.6516803205447561E-2,0.61557084132104778,0.60010486245417449]
["Retail Transmission Rate – Network Service Rate",{"$f":"B8","v":497.25},{"$f":"VLOOKUP($B$3,'Data Current Rates'!$A:$BE,MATCH(ExcludeDRP_BI_R2_Low!$A34,CurrentHeader,0),FALSE)","v":7.7000000000000002E-3},{"$f":"B34*C34","v":3.8288250000000001},497.25,{"$f":"VLOOKUP($B$3,'Data Proposed Rates'!$A:$BC,MATCH(ExcludeDRP_BI_R2_Low!$A34,ProposedHeader,0),FALSE)","v":7.7000000000000002E-3},{"$f":"E34*F34","v":3.8288250000000001},{"$f":"G34-D34","v":0},0,3.3257144239257949E-2,3.242157137672097E-2]
["Retail Transmission Rate – Line and Transformation Connection Service Rate",{"$f":"B8","v":497.25},{"$f":"VLOOKUP($B$3,'Data Current Rates'!$A:$BE,MATCH(ExcludeDRP_BI_R2_Low!$A35,CurrentHeader,0),FALSE)","v":6.7999999999999996E-3},{"$f":"B35*C35","v":3.3813},497.25,{"$f":"VLOOKUP($B$3,'Data Proposed Rates'!$A:$BC,MATCH(ExcludeDRP_BI_R2_Low!$A35,ProposedHeader,0),FALSE)","v":6.7999999999999996E-3},{"$f":"E35*F35","v":3.3813},{"$f":"G35-D35","v":0},0,2.9369945561942081E-2,2.8632037059961379E-2]
["Sub-Total:  Retail Transmission ",null,null,{"$f":"SUM(D34:D35)","v":7.2101249999999997},null,null,{"$f":"SUM(G34:G35)","v":7.2101249999999997},{"$f":"G36-D36","v":0},0,6.2627089801200034E-2,6.1053608436682345E-2]
["Sub-Total:  Delivery (based on two-tier RPP prices)",null,null,{"$f":"D32+D36","v":73.352375000000009},null,null,{"$f":"G32+G36","v":77.772374999999997},{"$f":"G37-D37","v":4.4199999999999875},6.0257080973860587E-2,0.6755302457554625,0.6585578100852375]
["Sub-Total:  Delivery (based on TOU prices)",null,null,{"$f":"D33+D36","v":73.659500000000008},null,null,{"$f":"G33+G36","v":78.079499999999996},{"$f":"G38-D38","v":4.4199999999999875},6.0005837671990539E-2,0.67819793112224791,0.66115847089085689]
["Wholesale Market Service Rate (WMS) - not including CBR",{"$f":"B8","v":497.25},{"$f":"VLOOKUP($A39,'Data Pass Through'!$A:$D,2,FALSE)","v":3.0000000000000001E-3},{"$f":"B39*C39","v":1.4917500000000001},{"$f":"$B$8","v":497.25},{"$f":"VLOOKUP($A39,'Data Pass Through'!$A:$D,3,FALSE)","v":3.0000000000000001E-3},{"$f":"E39*F39","v":1.4917500000000001},0,0,1.2957328924386214E-2,1.2631781055865316E-2]
["Capacity Based Recovery (CBR) - Applicable for Class B Customers",{"$f":"B8","v":497.25},{"$f":"VLOOKUP($A40,'Data Pass Through'!$A:$D,2,FALSE)","v":4.0000000000000002E-4},{"$f":"B40*C40","v":0.19890000000000002},{"$f":"$B$8","v":497.25},{"$f":"VLOOKUP($A40,'Data Pass Through'!$A:$D,3,FALSE)","v":4.0000000000000002E-4},{"$f":"E40*F40","v":0.19890000000000002},0,0,1.7276438565848285E-3,1.6842374741153753E-3]
["Rural Rate Protection Charge",{"$f":"B8","v":497.25},{"$f":"VLOOKUP($A41,'Data Pass Through'!$A:$D,2,FALSE)","v":5.0000000000000001E-4},0.24862500000000001,497.25,{"$f":"VLOOKUP($A41,'Data Pass Through'!$A:$D,3,FALSE)","v":5.0000000000000001E-4},0.24862500000000001,0,0,2.1595548207310358E-3,2.1052968426442191E-3]
["Standard Supply Service – Administration Charge (if applicable)",1,{"$f":"VLOOKUP($A42,'Data Pass Through'!$A:$D,2,FALSE)","v":0.25},{"$f":"B42*C42","v":0.25},1,{"$f":"VLOOKUP($A42,'Data Pass Through'!$A:$D,3,FALSE)","v":0.25},0.25,0,0,2.171498060061373E-3,2.1169400127141469E-3]
["Sub-Total:  Regulatory",null,null,{"$f":"SUM(D39:D42)","v":2.1892750000000003},null,null,{"$f":"SUM(G39:G42)","v":2.1892750000000003},0,0,1.9016025661763452E-2,1.8538255385339056E-2]
["Debt Retirement Charge (DRC)",{"$f":"B4","v":450},{"$f":"VLOOKUP($A44,'Data Pass Through'!$A:$D,2,FALSE)","v":0},{"$f":"B44*C44","v":0},450,{"$f":"VLOOKUP($A44,'Data Pass Through'!$A:$D,3,FALSE)","v":0},{"$f":"E44*F44","v":0},0,"N/A",0,0]
["Total  Electricty Charge on Two-Tier RPP ",null,null,{"$f":"SUM(D14,D28,D29,D30,D36,D43,D44)","v":120.99164999999999},null,null,{"$f":"SUM(G14,G28,G29,G30,G36,G43,G44)","v":125.41164999999999},4.4200000000000017,3.6531446591562329E-2,1.0893246187363836]
["     HST",null,0.13,{"$f":"D45*C46","v":15.7289145},null,{"$f":"C46","v":0.13},{"$f":"G45*F46","v":16.303514499999999},0.57459999999999845,3.6531446591562211E-2,0.14161220043572986]
["Total Electricity Charge on Two-Tier RPP (including HST)",null,null,{"$f":"SUM(D45:D46)","v":136.72056449999999},null,null,{"$f":"SUM(G45:G46)","v":141.71516449999999},4.9945999999999913,3.6531446591562246E-2,1.2309368191721133]
["Ontario Electricity Rebate (OER)",null,{"$f":"'Data Pass Through'!B20","v":-0.21199999999999999},{"$f":"D45*C48","v":-25.650229799999998},null,{"$f":"'Data Pass Through'!C20","v":-0.21199999999999999},{"$f":"G45*F48","v":-26.587269799999998},-0.93703999999999965,-3.6531446591562301E-2,-0.23093681917211331]
["Total Amount on Two-Tier RPP",null,null,{"$f":"SUM(D47:D48)","v":111.07033469999999},null,null,{"$f":"SUM(G47:G48)","v":115.12789469999998},4.0575599999999952,3.6531446591562274E-2,1]
["Total Electricty Charge on TOU (before HST)",null,null,{"$f":"SUM(D18,D28,D29,D31,D36,D43,D44)","v":124.223775},null,null,{"$f":"SUM(G18,G28,G29,G31,G36,G43,G44)","v":128.64377500000001},4.4200000000000017,3.5580950586954888E-2,null,{"$f":"G50/$G$54","v":1.0893246187363834}]
["     HST",null,0.13,{"$f":"D50*C51","v":16.149090750000003},null,{"$f":"C51","v":0.13},{"$f":"G50*F51","v":16.723690750000003},0.57460000000000022,3.5580950586954881E-2,null,{"$f":"G51/$G$54","v":0.14161220043572986}]
["Total Electricity Charge on TOU (including HST)",null,null,{"$f":"SUM(D50:D51)","v":140.37286575000002},null,null,{"$f":"SUM(G50:G51)","v":145.36746575000001},4.9945999999999913,3.5580950586954804E-2,null,{"$f":"G52/$G$54","v":1.2309368191721133}]
["Ontario Electricity Rebate (OER)",null,{"$f":"'Data Pass Through'!B20","v":-0.21199999999999999},{"$f":"D50*C53","v":-26.335440299999998},null,{"$f":"'Data Pass Through'!C20","v":-0.21199999999999999},{"$f":"G50*F53","v":-27.272480300000002},-0.9370400000000032,-3.5580950586954999E-2,null,{"$f":"G53/$G$54","v":-0.23093681917211328}]
["Total Amount on TOU",null,null,{"$f":"SUM(D52:D53)","v":114.03742545000001},null,null,{"$f":"SUM(G52:G53)","v":118.09498545000001},4.0575599999999952,3.5580950586954825E-2,null,{"$f":"G54/$G$54","v":1}]
["* Distribution rate protection applies to R1 and R2 customers"]

{"sheet":"ExcludeDRP_BI_R2_Typical","index":28,"n_rows":55,"n_cols":11,"rows_kept":55,"cut":false,"hidden":false,"merged":[[0,0,0,10]]}
["2021 Bill Impacts Excluding DRP (Typical Consumption Level) - R2"]
[]
["Rate Class",{"$f":"RIGHT(A1,LEN(A1)-FIND(\"- \",A1,1)-1)","v":"R2"}]
["Monthly Consumption (kWh)",{"$f":"IF(COUNTIF(A1,\"*Low*\")>0,VLOOKUP(B3,'Data Billing Quantities'!$A:$Z,MATCH(\"Low kWh\",'Data Billing Quantities'!4:4,0),FALSE),IF(COUNTIF(A1,\"*Typical*\")>0,VLOOKUP(B3,'Data Billing Quantities'!$A:$Z,MATCH(\"Typical kWh\",'Data Billing Quantities'!4:4,0),FALSE),IF(COUNTIF(A1,\"*Average*\")>0,VLOOKUP(B3,'Data Billing Quantities'!$A:$Z,MATCH(\"Average kWh\",'Data Billing Quantities'!4:4,0),FALSE),IF(COUNTIF(A1,\"*High*\")>0,VLOOKUP(B3,'Data Billing Quantities'!$A:$Z,MATCH(\"High kWh\",'Data Billing Quantities'!4:4,0),FALSE),\"error\"))))","v":750}]
["Peak (kW)",{"$f":"IF(COUNTIF(A1,\"*Low*\")>0,VLOOKUP(B3,'Data Billing Quantities'!$A:$Z,MATCH(\"Low kW\",'Data Billing Quantities'!4:4,0),FALSE),IF(COUNTIF(A1,\"*Typical*\")>0,VLOOKUP(B3,'Data Billing Quantities'!$A:$Z,MATCH(\"Typical kW\",'Data Billing Quantities'!4:4,0),FALSE),IF(COUNTIF(A1,\"*Average*\")>0,VLOOKUP(B3,'Data Billing Quantities'!$A:$Z,MATCH(\"Average kW\",'Data Billing Quantities'!4:4,0),FALSE),IF(COUNTIF(A1,\"*High*\")>0,VLOOKUP(B3,'Data Billing Quantities'!$A:$Z,MATCH(\"High kW\",'Data Billing Quantities'!4:4,0),FALSE),\"error\"))))","v":0}]
["Loss factor",{"$f":"VLOOKUP(B3,'Data Billing Quantities'!A:D,MATCH(A6,'Data Billing Quantities'!4:4,0),FALSE)","v":1.105}]
["Commodity Threshold",{"$f":"VLOOKUP(B3,'Data Billing Quantities'!A:D,MATCH(A7,'Data Billing Quantities'!4:4,0),FALSE)","v":600}]
["Monthly Consumption (kWh) - Uplifted",{"$f":"B4*B6","v":828.75}]
["Charge determinant",{"$f":"VLOOKUP(B3,'Data Billing Quantities'!A:D,MATCH(A9,'Data Billing Quantities'!4:4,0),FALSE)","v":"kWh"}]
[]
[null,"Volume","Current Rate ($)","Current Charge ($)","Volume","Proposed Rate ($)","Proposed Charge ($)","Change ($)","Change (%)","% of Total Bill on RPP","% of Total Bill on TOU"]
["Energy First Tier",{"$f":"IF(B4>B7,B7,B4)","v":600},{"$f":"VLOOKUP($A12,'Data Pass Through'!$A:$D,2,FALSE)","v":0.10100000000000001},{"$f":"B12*C12","v":60.6},{"$f":"B12","v":600},{"$f":"VLOOKUP($A12,'Data Pass Through'!$A:$D,3,FALSE)","v":0.10100000000000001},{"$f":"E12*F12","v":60.6},{"$f":"G12-D12","v":0},{"$f":"IF(ISERROR(H12/ABS(D12)),\"N/A\",(H12/ABS(D12)))","v":0},{"$f":"G12/$G$49","v":0.37643993633394357}]
["Energy Second Tier",{"$f":"IF(B4>B7,(B4)-B7,0)","v":150},{"$f":"VLOOKUP($A13,'Data Pass Through'!$A:$D,2,FALSE)","v":0.11799999999999999},{"$f":"B13*C13","v":17.7},{"$f":"B13","v":150},{"$f":"VLOOKUP($A13,'Data Pass Through'!$A:$D,3,FALSE)","v":0.11799999999999999},{"$f":"E13*F13","v":17.7},0,0,{"$f":"G13/$G$49","v":0.10995027843417163}]
["Sub-Total:  Energy (RPP Tiered)",null,null,{"$f":"SUM(D12:D13)","v":78.3},null,null,{"$f":"SUM(G12:G13)","v":78.3},0,0,{"$f":"G14/$G$49","v":0.48639021476811517}]
["TOU-Off Peak",{"$f":"B$4*VLOOKUP($B$3,'Data Billing Quantities'!$A:$O,MATCH(ExcludeDRP_BI_R2_Typical!$A15,'Data Billing Quantities'!$4:$4,0),FALSE)","v":480},{"$f":"VLOOKUP($A15,'Data Pass Through'!$A:$D,2,FALSE)","v":8.5000000000000006E-2},{"$f":"B15*C15","v":40.800000000000004},480,{"$f":"VLOOKUP($A15,'Data Pass Through'!$A:$D,3,FALSE)","v":8.5000000000000006E-2},{"$f":"E15*F15","v":40.800000000000004},0,0,null,{"$f":"G15/$G$54","v":0.25129785525918907}]
["TOU-Mid Peak",{"$f":"B$4*VLOOKUP($B$3,'Data Billing Quantities'!$A:$O,MATCH(ExcludeDRP_BI_R2_Typical!$A16,'Data Billing Quantities'!$4:$4,0),FALSE)","v":135},{"$f":"VLOOKUP($A16,'Data Pass Through'!$A:$D,2,FALSE)","v":0.11899999999999999},{"$f":"B16*C16","v":16.064999999999998},135,{"$f":"VLOOKUP($A16,'Data Pass Through'!$A:$D,3,FALSE)","v":0.11899999999999999},{"$f":"E16*F16","v":16.064999999999998},0,0,null,9.8948530508305668E-2]
["TOU-On Peak",{"$f":"B$4*VLOOKUP($B$3,'Data Billing Quantities'!$A:$O,MATCH(ExcludeDRP_BI_R2_Typical!$A17,'Data Billing Quantities'!$4:$4,0),FALSE)","v":135},{"$f":"VLOOKUP($A17,'Data Pass Through'!$A:$D,2,FALSE)","v":0.17599999999999999},{"$f":"B17*C17","v":23.759999999999998},135,{"$f":"VLOOKUP($A17,'Data Pass Through'!$A:$D,3,FALSE)","v":0.17599999999999999},{"$f":"E17*F17","v":23.759999999999998},0,0,null,0.14634404512152774]
["Sub-Total:  Energy (RPP TOU)",null,null,{"$f":"SUM(D15:D17)","v":80.625},null,null,{"$f":"SUM(G15:G17)","v":80.625},0,0,{"$f":"G18/$G$49","v":0.500832836087858},0.49659043088902249]
["Service Charge",1,{"$f":"IF(ISERROR(VLOOKUP($B$3,'Data Current Rates'!$A:$BE,MATCH(ExcludeDRP_BI_R2_Typical!$A19,CurrentHeader,0),FALSE)),0,VLOOKUP($B$3,'Data Current Rates'!$A:$BE,MATCH(ExcludeDRP_BI_R2_Typical!$A19,CurrentHeader,0),FALSE))","v":53.14},{"$f":"B19*C19","v":53.14},1,{"$f":"VLOOKUP($B$3,'Data Proposed Rates'!$A:$BC,MATCH(ExcludeDRP_BI_R2_Typical!$A19,ProposedHeader,0),FALSE)","v":53.14},{"$f":"E19*F19","v":53.14},0,0,0.33009931050801583,0.3273031379527771]
["Base Rate Adjustment to Recover Past Tax Amounts FIXED",null,null,null,1,{"$f":"VLOOKUP($B$3,'Data Proposed Rates'!$A:$BC,MATCH(ExcludeDRP_BI_R2_Typical!$A20,ProposedHeader,0),FALSE)","v":4.42},4.42,4.42,"N/A",2.7456510207855288E-2,2.7223934319745478E-2]
["Fixed Deferral/Variance Account Rider (General)",1,{"$f":"IF(ISERROR(VLOOKUP($B$3,'Data Current Rates'!$A:$BE,MATCH(ExcludeDRP_BI_R2_Typical!$A21,CurrentHeader,0),FALSE)),0,VLOOKUP($B$3,'Data Current Rates'!$A:$BE,MATCH(ExcludeDRP_BI_R2_Typical!$A21,CurrentHeader,0),FALSE))","v":-0.14000000000000001},-0.14000000000000001,1,{"$f":"VLOOKUP($B$3,'Data Proposed Rates'!$A:$BC,MATCH(ExcludeDRP_BI_R2_Typical!$A21,ProposedHeader,0),FALSE)","v":-0.14000000000000001},-0.14000000000000001,0,0,-8.6966321925333501E-4,-8.6229656216388405E-4]
["Fixed ESM Rider",1,{"$f":"IF(ISERROR(VLOOKUP($B$3,'Data Current Rates'!$A:$BE,MATCH(ExcludeDRP_BI_R2_Typical!$A22,CurrentHeader,0),FALSE)),0,VLOOKUP($B$3,'Data Current Rates'!$A:$BE,MATCH(ExcludeDRP_BI_R2_Typical!$A22,CurrentHeader,0),FALSE))","v":-1.92},-1.92,1,{"$f":"VLOOKUP($B$3,'Data Proposed Rates'!$A:$BC,MATCH(ExcludeDRP_BI_R2_Typical!$A22,ProposedHeader,0),FALSE)","v":-1.92},-1.92,0,0,-1.1926809864045736E-2,-1.1825781423961837E-2]
["Distribution Volumetric Charge",{"$f":"IF($B$9=\"kWh\",$B$4,$B$5)","v":750},{"$f":"IF(ISERROR(VLOOKUP($B$3,'Data Current Rates'!$A:$BE,MATCH(ExcludeDRP_BI_R2_Typical!$A23,CurrentHeader,0),FALSE)),0,VLOOKUP($B$3,'Data Current Rates'!$A:$BE,MATCH(ExcludeDRP_BI_R2_Typical!$A23,CurrentHeader,0),FALSE))","v":2.2700000000000001E-2},17.025000000000002,{"$f":"IF($B$9=\"kWh\",$B$4,$B$5)","v":750},{"$f":"VLOOKUP($B$3,'Data Proposed Rates'!$A:$BC,MATCH(ExcludeDRP_BI_R2_Typical!$A23,ProposedHeader,0),FALSE)","v":2.2700000000000001E-2},17.025000000000002,0,0,0.10575725934134306,0.10486142122028662]
["Base Rate Adjustment to Recover Past Tax Amounts VOL"]
["Volumetric Deferral/Variance Account Rider (General)",{"$f":"IF($B$9=\"kWh\",$B$4,$B$5)","v":750},{"$f":"IF(ISERROR(VLOOKUP($B$3,'Data Current Rates'!$A:$BE,MATCH(ExcludeDRP_BI_R2_Typical!$A25,CurrentHeader,0),FALSE)),0,VLOOKUP($B$3,'Data Current Rates'!$A:$BE,MATCH(ExcludeDRP_BI_R2_Typical!$A25,CurrentHeader,0),FALSE))","v":-1.1000000000000001E-3},-0.82500000000000007,{"$f":"IF($B$9=\"kWh\",$B$4,$B$5)","v":750},{"$f":"VLOOKUP($B$3,'Data Proposed Rates'!$A:$BC,MATCH(ExcludeDRP_BI_R2_Typical!$A25,ProposedHeader,0),FALSE)","v":-1.1000000000000001E-3},-0.82500000000000007,0,0,-5.1248011134571525E-3,-5.0813904556086028E-3]
["Volumetric ESM Rider",750,{"$f":"IF(ISERROR(VLOOKUP($B$3,'Data Current Rates'!$A:$BE,MATCH(ExcludeDRP_BI_R2_Typical!$A26,CurrentHeader,0),FALSE)),0,VLOOKUP($B$3,'Data Current Rates'!$A:$BE,MATCH(ExcludeDRP_BI_R2_Typical!$A26,CurrentHeader,0),FALSE))","v":0},0,750,{"$f":"VLOOKUP($B$3,'Data Proposed Rates'!$A:$BC,MATCH(ExcludeDRP_BI_R2_Typical!$A26,ProposedHeader,0),FALSE)","v":0},0,0,"N/A",0,0]
["Fair Hydro Plan - Distribution Rate Protection Savings* Excluded",null,null,0,null,null,0,0,"N/A",0,0]
["Sub-Total:  Distribution (excluding pass through)",null,null,{"$f":"SUM(INDIRECT(\"D19:D\"&ROW()-1))","v":67.28},null,null,{"$f":"SUM(INDIRECT(\"g19:g\"&ROW()-1))","v":71.7},{"$f":"G28-D28","v":4.4200000000000017},6.5695600475624283E-2,0.44539180586045796,0.44161902505107486]
["Smart Metering Entity Charge",1,{"$f":"VLOOKUP($A29,'Data Pass Through'!$A:$D,2,FALSE)","v":0.56999999999999995},{"$f":"B29*C29","v":0.56999999999999995},1,{"$f":"VLOOKUP($A29,'Data Pass Through'!$A:$D,3,FALSE)","v":0.56999999999999995},{"$f":"E29*F29","v":0.56999999999999995},0,0,3.5407716783885774E-3,3.5107788602386702E-3]
["Line Losses on Cost of Power (based on two-tier RPP prices)",{"$f":"B8-B4","v":78.75},{"$f":"IF(B4>B7,C13,C12)","v":0.11799999999999999},{"$f":"B30*C30","v":9.2924999999999986},78.75,{"$f":"IF(B4>B7,F13,F12)","v":0.11799999999999999},{"$f":"E30*F30","v":9.2924999999999986},0,0,5.7723896177940097E-2,5.7234934313627792E-2]
["Line Losses on Cost of Power (based on TOU prices)",{"$f":"B8-B4","v":78.75},{"$f":"VLOOKUP($B$3,'Data Billing Quantities'!$A:$O,MATCH(ExcludeDRP_BI_R2_Typical!$A15,'Data Billing Quantities'!$4:$4,0),FALSE)*C15+VLOOKUP($B$3,'Data Billing Quantities'!$A:$O,MATCH(ExcludeDRP_BI_R2_Typical!$A16,'Data Billing Quantities'!$4:$4,0),FALSE)*C16+VLOOKUP($B$3,'Data Billing Quantities'!$A:$O,MATCH(ExcludeDRP_BI_R2_Typical!$A17,'Data Billing Quantities'!$4:$4,0),FALSE)*C17","v":0.1075},{"$f":"B31*C31","v":8.4656249999999993},78.75,{"$f":"VLOOKUP($B$3,'Data Billing Quantities'!$A:$O,MATCH(ExcludeDRP_BI_R2_Typical!$A15,'Data Billing Quantities'!$4:$4,0),FALSE)*F15+VLOOKUP($B$3,'Data Billing Quantities'!$A:$O,MATCH(ExcludeDRP_BI_R2_Typical!$A16,'Data Billing Quantities'!$4:$4,0),FALSE)*F16+VLOOKUP($B$3,'Data Billing Quantities'!$A:$O,MATCH(ExcludeDRP_BI_R2_Typical!$A17,'Data Billing Quantities'!$4:$4,0),FALSE)*F17","v":0.1075},{"$f":"E31*F31","v":8.4656249999999993},0,0,5.258744778922509E-2,5.2141995243347353E-2]
["Sub-Total:  Distribution (based on two-tier RPP prices)",null,null,{"$f":"SUM(D28,D29:D30)","v":77.142499999999998},null,null,{"$f":"SUM(G28,G29:G30)","v":81.5625},4.4200000000000017,5.7296561558155386E-2,0.50665647371678668,0.50236473822494132]
["Sub-Total:  Distribution (based on TOU prices)",null,null,{"$f":"SUM(D28,D29,D31)","v":76.315624999999997},null,null,{"$f":"SUM(G28,G29,G31)","v":80.735624999999999},4.4200000000000017,5.7917366201220288E-2,0.50152002532807161,0.49727179915466091]
["Retail Transmission Rate – Network Service Rate",{"$f":"B8","v":828.75},{"$f":"VLOOKUP($B$3,'Data Current Rates'!$A:$BE,MATCH(ExcludeDRP_BI_R2_Typical!$A34,CurrentHeader,0),FALSE)","v":7.7000000000000002E-3},{"$f":"B34*C34","v":6.3813750000000002},828.75,{"$f":"VLOOKUP($B$3,'Data Proposed Rates'!$A:$BC,MATCH(ExcludeDRP_BI_R2_Typical!$A34,ProposedHeader,0),FALSE)","v":7.7000000000000002E-3},{"$f":"E34*F34","v":6.3813750000000002},{"$f":"G34-D34","v":0},0,3.9640336612591073E-2,3.930455517413254E-2]
["Retail Transmission Rate – Line and Transformation Connection Service Rate",{"$f":"B8","v":828.75},{"$f":"VLOOKUP($B$3,'Data Current Rates'!$A:$BE,MATCH(ExcludeDRP_BI_R2_Typical!$A35,CurrentHeader,0),FALSE)","v":6.7999999999999996E-3},{"$f":"B35*C35","v":5.6354999999999995},828.75,{"$f":"VLOOKUP($B$3,'Data Proposed Rates'!$A:$BC,MATCH(ExcludeDRP_BI_R2_Typical!$A35,ProposedHeader,0),FALSE)","v":6.7999999999999996E-3},{"$f":"E35*F35","v":5.6354999999999995},{"$f":"G35-D35","v":0},0,3.5007050515015486E-2,3.4710516257675482E-2]
["Sub-Total:  Retail Transmission ",null,null,{"$f":"SUM(D34:D35)","v":12.016874999999999},null,null,{"$f":"SUM(G34:G35)","v":12.016874999999999},{"$f":"G36-D36","v":0},0,7.464738712760656E-2,7.4015071431808022E-2]
["Sub-Total:  Delivery (based on two-tier RPP prices)",null,null,{"$f":"D32+D36","v":89.159374999999997},null,null,{"$f":"G32+G36","v":93.579374999999999},{"$f":"G37-D37","v":4.4200000000000017},4.9574147418597336E-2,0.58130386084439323,0.5763798096567494]
["Sub-Total:  Delivery (based on TOU prices)",null,null,{"$f":"D33+D36","v":88.332499999999996},null,null,{"$f":"G33+G36","v":92.752499999999998},{"$f":"G38-D38","v":4.4200000000000017},5.0038207907621791E-2,0.57616741245567815,0.57128687058646888]
["Wholesale Market Service Rate (WMS) - not including CBR",{"$f":"B8","v":828.75},{"$f":"VLOOKUP($A39,'Data Pass Through'!$A:$D,2,FALSE)","v":3.0000000000000001E-3},{"$f":"B39*C39","v":2.4862500000000001},{"$f":"$B$8","v":828.75},{"$f":"VLOOKUP($A39,'Data Pass Through'!$A:$D,3,FALSE)","v":3.0000000000000001E-3},{"$f":"E39*F39","v":2.4862500000000001},0,0,1.5444286991918599E-2,1.5313463054856834E-2]
["Capacity Based Recovery (CBR) - Applicable for Class B Customers",{"$f":"B8","v":828.75},{"$f":"VLOOKUP($A40,'Data Pass Through'!$A:$D,2,FALSE)","v":4.0000000000000002E-4},{"$f":"B40*C40","v":0.33150000000000002},{"$f":"$B$8","v":828.75},{"$f":"VLOOKUP($A40,'Data Pass Through'!$A:$D,3,FALSE)","v":4.0000000000000002E-4},{"$f":"E40*F40","v":0.33150000000000002},0,0,2.0592382655891467E-3,2.0417950739809111E-3]
["Rural Rate Protection Charge",{"$f":"B8","v":828.75},{"$f":"VLOOKUP($A41,'Data Pass Through'!$A:$D,2,FALSE)","v":5.0000000000000001E-4},0.41437499999999999,828.75,{"$f":"VLOOKUP($A41,'Data Pass Through'!$A:$D,3,FALSE)","v":5.0000000000000001E-4},0.41437499999999999,0,0,2.5740478319864332E-3,2.5522438424761388E-3]
["Standard Supply Service – Administration Charge (if applicable)",1,{"$f":"VLOOKUP($A42,'Data Pass Through'!$A:$D,2,FALSE)","v":0.25},{"$f":"B42*C42","v":0.25},1,{"$f":"VLOOKUP($A42,'Data Pass Through'!$A:$D,3,FALSE)","v":0.25},0.25,0,0,1.5529700343809552E-3,1.5398152895783643E-3]
["Sub-Total:  Regulatory",null,null,{"$f":"SUM(D39:D42)","v":3.4821250000000004},null,null,{"$f":"SUM(G39:G42)","v":3.4821250000000004},0,0,2.1630543123875138E-2,2.1447317260892249E-2]
["Debt Retirement Charge (DRC)",{"$f":"B4","v":750},{"$f":"VLOOKUP($A44,'Data Pass Through'!$A:$D,2,FALSE)","v":0},{"$f":"B44*C44","v":0},750,{"$f":"VLOOKUP($A44,'Data Pass Through'!$A:$D,3,FALSE)","v":0},{"$f":"E44*F44","v":0},0,"N/A",0,0]
["Total  Electricty Charge on Two-Tier RPP ",null,null,{"$f":"SUM(D14,D28,D29,D30,D36,D43,D44)","v":170.94149999999996},null,null,{"$f":"SUM(G14,G28,G29,G30,G36,G43,G44)","v":175.36149999999998},4.4200000000000159,2.5856798963388158E-2,1.0893246187363834]
["     HST",null,0.13,{"$f":"D45*C46","v":22.222394999999995},null,{"$f":"C46","v":0.13},{"$f":"G45*F46","v":22.796994999999999},0.57460000000000377,2.5856798963388234E-2,0.14161220043572986]
["Total Electricity Charge on Two-Tier RPP (including HST)",null,null,{"$f":"SUM(D45:D46)","v":193.16389499999997},null,null,{"$f":"SUM(G45:G46)","v":198.15849499999999},4.9946000000000197,2.5856798963388165E-2,1.2309368191721133]
["Ontario Electricity Rebate (OER)",null,{"$f":"'Data Pass Through'!B20","v":-0.21199999999999999},{"$f":"D45*C48","v":-36.239597999999994},null,{"$f":"'Data Pass Through'!C20","v":-0.21199999999999999},{"$f":"G45*F48","v":-37.176637999999997},-0.9370400000000032,-2.5856798963388151E-2,-0.23093681917211328]
["Total Amount on Two-Tier RPP",null,null,{"$f":"SUM(D47:D48)","v":156.92429699999997},null,null,{"$f":"SUM(G47:G48)","v":160.98185699999999},4.0575600000000236,2.5856798963388217E-2,1]
["Total Electricty Charge on TOU (before HST)",null,null,{"$f":"SUM(D18,D28,D29,D31,D36,D43,D44)","v":172.43962499999998},null,null,{"$f":"SUM(G18,G28,G29,G31,G36,G43,G44)","v":176.85962499999997},4.4199999999999875,2.563215966167862E-2,null,{"$f":"G50/$G$54","v":1.0893246187363834}]
["     HST",null,0.13,{"$f":"D50*C51","v":22.417151249999996},null,{"$f":"C51","v":0.13},{"$f":"G50*F51","v":22.991751249999997},0.57460000000000022,2.5632159661678703E-2,null,{"$f":"G51/$G$54","v":0.14161220043572986}]
["Total Electricity Charge on TOU (including HST)",null,null,{"$f":"SUM(D50:D51)","v":194.85677624999997},null,null,{"$f":"SUM(G50:G51)","v":199.85137624999996},4.9945999999999913,2.5632159661678647E-2,null,{"$f":"G52/$G$54","v":1.2309368191721133}]
["Ontario Electricity Rebate (OER)",null,{"$f":"'Data Pass Through'!B20","v":-0.21199999999999999},{"$f":"D50*C53","v":-36.557200499999993},null,{"$f":"'Data Pass Through'!C20","v":-0.21199999999999999},{"$f":"G50*F53","v":-37.494240499999989},-0.9370399999999961,-2.5632159661678589E-2,null,{"$f":"G53/$G$54","v":-0.23093681917211326}]
["Total Amount on TOU",null,null,{"$f":"SUM(D52:D53)","v":158.29957574999997},null,null,{"$f":"SUM(G52:G53)","v":162.35713574999997},4.0575599999999952,2.5632159661678661E-2,null,{"$f":"G54/$G$54","v":1}]
["* Distribution rate protection applies to R1 and R2 customers"]

{"sheet":"ExcludeDRP_BI_R2_Avg","index":29,"n_rows":55,"n_cols":11,"rows_kept":55,"cut":false,"hidden":false,"merged":[[0,0,0,10]]}
["2021 Bill Impacts Excluding DRP (Average Consumption Level) - R2"]
[]
["Rate Class",{"$f":"RIGHT(A1,LEN(A1)-FIND(\"- \",A1,1)-1)","v":"R2"}]
["Monthly Consumption (kWh)",{"$f":"IF(COUNTIF(A1,\"*Low*\")>0,VLOOKUP(B3,'Data Billing Quantities'!$A:$Z,MATCH(\"Low kWh\",'Data Billing Quantities'!4:4,0),FALSE),IF(COUNTIF(A1,\"*Typical*\")>0,VLOOKUP(B3,'Data Billing Quantities'!$A:$Z,MATCH(\"Typical kWh\",'Data Billing Quantities'!4:4,0),FALSE),IF(COUNTIF(A1,\"*Average*\")>0,VLOOKUP(B3,'Data Billing Quantities'!$A:$Z,MATCH(\"Average kWh\",'Data Billing Quantities'!4:4,0),FALSE),IF(COUNTIF(A1,\"*High*\")>0,VLOOKUP(B3,'Data Billing Quantities'!$A:$Z,MATCH(\"High kWh\",'Data Billing Quantities'!4:4,0),FALSE),\"error\"))))","v":1152}]
["Peak (kW)",{"$f":"IF(COUNTIF(A1,\"*Low*\")>0,VLOOKUP(B3,'Data Billing Quantities'!$A:$Z,MATCH(\"Low kW\",'Data Billing Quantities'!4:4,0),FALSE),IF(COUNTIF(A1,\"*Typical*\")>0,VLOOKUP(B3,'Data Billing Quantities'!$A:$Z,MATCH(\"Typical kW\",'Data Billing Quantities'!4:4,0),FALSE),IF(COUNTIF(A1,\"*Average*\")>0,VLOOKUP(B3,'Data Billing Quantities'!$A:$Z,MATCH(\"Average kW\",'Data Billing Quantities'!4:4,0),FALSE),IF(COUNTIF(A1,\"*High*\")>0,VLOOKUP(B3,'Data Billing Quantities'!$A:$Z,MATCH(\"High kW\",'Data Billing Quantities'!4:4,0),FALSE),\"error\"))))","v":0}]
["Loss factor",{"$f":"VLOOKUP(B3,'Data Billing Quantities'!A:D,MATCH(A6,'Data Billing Quantities'!4:4,0),FALSE)","v":1.105}]
["Commodity Threshold",{"$f":"VLOOKUP(B3,'Data Billing Quantities'!A:D,MATCH(A7,'Data Billing Quantities'!4:4,0),FALSE)","v":600}]
["Monthly Consumption (kWh) - Uplifted",{"$f":"B4*B6","v":1272.96}]
["Charge determinant",{"$f":"VLOOKUP(B3,'Data Billing Quantities'!A:D,MATCH(A9,'Data Billing Quantities'!4:4,0),FALSE)","v":"kWh"}]
[]
[null,"Volume","Current Rate ($)","Current Charge ($)","Volume","Proposed Rate ($)","Proposed Charge ($)","Change ($)","Change (%)","% of Total Bill on RPP","% of Total Bill on TOU"]
["Energy First Tier",{"$f":"IF(B4>B7,B7,B4)","v":600},{"$f":"VLOOKUP($A12,'Data Pass Through'!$A:$D,2,FALSE)","v":0.10100000000000001},{"$f":"B12*C12","v":60.6},{"$f":"B12","v":600},{"$f":"VLOOKUP($A12,'Data Pass Through'!$A:$D,3,FALSE)","v":0.10100000000000001},{"$f":"E12*F12","v":60.6},{"$f":"G12-D12","v":0},{"$f":"IF(ISERROR(H12/ABS(D12)),\"N/A\",(H12/ABS(D12)))","v":0},{"$f":"G12/$G$49","v":0.2698431827279133}]
["Energy Second Tier",{"$f":"IF(B4>B7,(B4)-B7,0)","v":552},{"$f":"VLOOKUP($A13,'Data Pass Through'!$A:$D,2,FALSE)","v":0.11799999999999999},{"$f":"B13*C13","v":65.135999999999996},{"$f":"B13","v":552},{"$f":"VLOOKUP($A13,'Data Pass Through'!$A:$D,3,FALSE)","v":0.11799999999999999},{"$f":"E13*F13","v":65.135999999999996},0,0,{"$f":"G13/$G$49","v":0.29004134571229967}]
["Sub-Total:  Energy (RPP Tiered)",null,null,{"$f":"SUM(D12:D13)","v":125.73599999999999},null,null,{"$f":"SUM(G12:G13)","v":125.73599999999999},0,0,{"$f":"G14/$G$49","v":0.55988452844021297}]
["TOU-Off Peak",{"$f":"B$4*VLOOKUP($B$3,'Data Billing Quantities'!$A:$O,MATCH(ExcludeDRP_BI_R2_Avg!$A15,'Data Billing Quantities'!$4:$4,0),FALSE)","v":737.28},{"$f":"VLOOKUP($A15,'Data Pass Through'!$A:$D,2,FALSE)","v":8.5000000000000006E-2},{"$f":"B15*C15","v":62.668800000000005},737.28,{"$f":"VLOOKUP($A15,'Data Pass Through'!$A:$D,3,FALSE)","v":8.5000000000000006E-2},{"$f":"E15*F15","v":62.668800000000005},0,0,null,{"$f":"G15/$G$54","v":0.28271415840456632}]
["TOU-Mid Peak",{"$f":"B$4*VLOOKUP($B$3,'Data Billing Quantities'!$A:$O,MATCH(ExcludeDRP_BI_R2_Avg!$A16,'Data Billing Quantities'!$4:$4,0),FALSE)","v":207.35999999999999},{"$f":"VLOOKUP($A16,'Data Pass Through'!$A:$D,2,FALSE)","v":0.11899999999999999},{"$f":"B16*C16","v":24.675839999999997},207.35999999999999,{"$f":"VLOOKUP($A16,'Data Pass Through'!$A:$D,3,FALSE)","v":0.11899999999999999},{"$f":"E16*F16","v":24.675839999999997},0,0,null,0.11131869987179796]
["TOU-On Peak",{"$f":"B$4*VLOOKUP($B$3,'Data Billing Quantities'!$A:$O,MATCH(ExcludeDRP_BI_R2_Avg!$A17,'Data Billing Quantities'!$4:$4,0),FALSE)","v":207.35999999999999},{"$f":"VLOOKUP($A17,'Data Pass Through'!$A:$D,2,FALSE)","v":0.17599999999999999},{"$f":"B17*C17","v":36.495359999999998},207.35999999999999,{"$f":"VLOOKUP($A17,'Data Pass Through'!$A:$D,3,FALSE)","v":0.17599999999999999},{"$f":"E17*F17","v":36.495359999999998},0,0,null,0.16463942165912976]
["Sub-Total:  Energy (RPP TOU)",null,null,{"$f":"SUM(D15:D17)","v":123.84},null,null,{"$f":"SUM(G15:G17)","v":123.84},0,0,{"$f":"G18/$G$49","v":0.55144191004991394},0.55867227993549406]
["Service Charge",1,{"$f":"IF(ISERROR(VLOOKUP($B$3,'Data Current Rates'!$A:$BE,MATCH(ExcludeDRP_BI_R2_Avg!$A19,CurrentHeader,0),FALSE)),0,VLOOKUP($B$3,'Data Current Rates'!$A:$BE,MATCH(ExcludeDRP_BI_R2_Avg!$A19,CurrentHeader,0),FALSE))","v":53.14},{"$f":"B19*C19","v":53.14},1,{"$f":"VLOOKUP($B$3,'Data Proposed Rates'!$A:$BC,MATCH(ExcludeDRP_BI_R2_Avg!$A19,ProposedHeader,0),FALSE)","v":53.14},{"$f":"E19*F19","v":53.14},0,0,0.23662486353401505,0.23972743019841855]
["Base Rate Adjustment to Recover Past Tax Amounts FIXED",null,null,null,1,{"$f":"VLOOKUP($B$3,'Data Proposed Rates'!$A:$BC,MATCH(ExcludeDRP_BI_R2_Avg!$A20,ProposedHeader,0),FALSE)","v":4.42},4.42,4.42,"N/A",1.9681631479494664E-2,1.993969216178039E-2]
["Fixed Deferral/Variance Account Rider (General)",1,{"$f":"IF(ISERROR(VLOOKUP($B$3,'Data Current Rates'!$A:$BE,MATCH(ExcludeDRP_BI_R2_Avg!$A21,CurrentHeader,0),FALSE)),0,VLOOKUP($B$3,'Data Current Rates'!$A:$BE,MATCH(ExcludeDRP_BI_R2_Avg!$A21,CurrentHeader,0),FALSE))","v":-0.14000000000000001},-0.14000000000000001,1,{"$f":"VLOOKUP($B$3,'Data Proposed Rates'!$A:$BC,MATCH(ExcludeDRP_BI_R2_Avg!$A21,ProposedHeader,0),FALSE)","v":-0.14000000000000001},-0.14000000000000001,0,0,-6.2340009211069079E-4,-6.3157395987539701E-4]
["Fixed ESM Rider",1,{"$f":"IF(ISERROR(VLOOKUP($B$3,'Data Current Rates'!$A:$BE,MATCH(ExcludeDRP_BI_R2_Avg!$A22,CurrentHeader,0),FALSE)),0,VLOOKUP($B$3,'Data Current Rates'!$A:$BE,MATCH(ExcludeDRP_BI_R2_Avg!$A22,CurrentHeader,0),FALSE))","v":-1.92},-1.92,1,{"$f":"VLOOKUP($B$3,'Data Proposed Rates'!$A:$BC,MATCH(ExcludeDRP_BI_R2_Avg!$A22,ProposedHeader,0),FALSE)","v":-1.92},-1.92,0,0,-8.5494869775180442E-3,-8.6615857354340152E-3]
["Distribution Volumetric Charge",{"$f":"IF($B$9=\"kWh\",$B$4,$B$5)","v":1152},{"$f":"IF(ISERROR(VLOOKUP($B$3,'Data Current Rates'!$A:$BE,MATCH(ExcludeDRP_BI_R2_Avg!$A23,CurrentHeader,0),FALSE)),0,VLOOKUP($B$3,'Data Current Rates'!$A:$BE,MATCH(ExcludeDRP_BI_R2_Avg!$A23,CurrentHeader,0),FALSE))","v":2.2700000000000001E-2},26.150400000000001,{"$f":"IF($B$9=\"kWh\",$B$4,$B$5)","v":1152},{"$f":"VLOOKUP($B$3,'Data Proposed Rates'!$A:$BC,MATCH(ExcludeDRP_BI_R2_Avg!$A23,ProposedHeader,0),FALSE)","v":2.2700000000000001E-2},26.150400000000001,0,0,0.11644401263379578,0.1179707977166113]
["Base Rate Adjustment to Recover Past Tax Amounts VOL"]
["Volumetric Deferral/Variance Account Rider (General)",{"$f":"IF($B$9=\"kWh\",$B$4,$B$5)","v":1152},{"$f":"IF(ISERROR(VLOOKUP($B$3,'Data Current Rates'!$A:$BE,MATCH(ExcludeDRP_BI_R2_Avg!$A25,CurrentHeader,0),FALSE)),0,VLOOKUP($B$3,'Data Current Rates'!$A:$BE,MATCH(ExcludeDRP_BI_R2_Avg!$A25,CurrentHeader,0),FALSE))","v":-1.1000000000000001E-3},-1.2672000000000001,{"$f":"IF($B$9=\"kWh\",$B$4,$B$5)","v":1152},{"$f":"VLOOKUP($B$3,'Data Proposed Rates'!$A:$BC,MATCH(ExcludeDRP_BI_R2_Avg!$A25,ProposedHeader,0),FALSE)","v":-1.1000000000000001E-3},-1.2672000000000001,0,0,-5.6426614051619103E-3,-5.7166465853864508E-3]
["Volumetric ESM Rider",1152,{"$f":"IF(ISERROR(VLOOKUP($B$3,'Data Current Rates'!$A:$BE,MATCH(ExcludeDRP_BI_R2_Avg!$A26,CurrentHeader,0),FALSE)),0,VLOOKUP($B$3,'Data Current Rates'!$A:$BE,MATCH(ExcludeDRP_BI_R2_Avg!$A26,CurrentHeader,0),FALSE))","v":0},0,1152,{"$f":"VLOOKUP($B$3,'Data Proposed Rates'!$A:$BC,MATCH(ExcludeDRP_BI_R2_Avg!$A26,ProposedHeader,0),FALSE)","v":0},0,0,"N/A",0,0]
["Fair Hydro Plan - Distribution Rate Protection Savings* Excluded",null,null,0,null,null,0,0,"N/A",0,0]
["Sub-Total:  Distribution (excluding pass through)",null,null,{"$f":"SUM(INDIRECT(\"D19:D\"&ROW()-1))","v":75.963200000000001},null,null,{"$f":"SUM(INDIRECT(\"g19:g\"&ROW()-1))","v":80.383200000000002},{"$f":"G28-D28","v":4.4200000000000017},5.818606904395815E-2,0.35793495917251483,0.36262811379611437]
["Smart Metering Entity Charge",1,{"$f":"VLOOKUP($A29,'Data Pass Through'!$A:$D,2,FALSE)","v":0.56999999999999995},{"$f":"B29*C29","v":0.56999999999999995},1,{"$f":"VLOOKUP($A29,'Data Pass Through'!$A:$D,3,FALSE)","v":0.56999999999999995},{"$f":"E29*F29","v":0.56999999999999995},0,0,2.5381289464506693E-3,2.571408265206973E-3]
["Line Losses on Cost of Power (based on two-tier RPP prices)",{"$f":"B8-B4","v":120.96000000000004},{"$f":"IF(B4>B7,C13,C12)","v":0.11799999999999999},{"$f":"B30*C30","v":14.273280000000003},120.96000000000004,{"$f":"IF(B4>B7,F13,F12)","v":0.11799999999999999},{"$f":"E30*F30","v":14.273280000000003},0,0,6.3556886190869161E-2,6.4390228357216486E-2]
["Line Losses on Cost of Power (based on TOU prices)",{"$f":"B8-B4","v":120.96000000000004},{"$f":"VLOOKUP($B$3,'Data Billing Quantities'!$A:$O,MATCH(ExcludeDRP_BI_R2_Avg!$A15,'Data Billing Quantities'!$4:$4,0),FALSE)*C15+VLOOKUP($B$3,'Data Billing Quantities'!$A:$O,MATCH(ExcludeDRP_BI_R2_Avg!$A16,'Data Billing Quantities'!$4:$4,0),FALSE)*C16+VLOOKUP($B$3,'Data Billing Quantities'!$A:$O,MATCH(ExcludeDRP_BI_R2_Avg!$A17,'Data Billing Quantities'!$4:$4,0),FALSE)*C17","v":0.1075},{"$f":"B31*C31","v":13.003200000000003},120.96000000000004,{"$f":"VLOOKUP($B$3,'Data Billing Quantities'!$A:$O,MATCH(ExcludeDRP_BI_R2_Avg!$A15,'Data Billing Quantities'!$4:$4,0),FALSE)*F15+VLOOKUP($B$3,'Data Billing Quantities'!$A:$O,MATCH(ExcludeDRP_BI_R2_Avg!$A16,'Data Billing Quantities'!$4:$4,0),FALSE)*F16+VLOOKUP($B$3,'Data Billing Quantities'!$A:$O,MATCH(ExcludeDRP_BI_R2_Avg!$A17,'Data Billing Quantities'!$4:$4,0),FALSE)*F17","v":0.1075},{"$f":"E31*F31","v":13.003200000000003},0,0,5.790140055524097E-2,5.8660589393226888E-2]
["Sub-Total:  Distribution (based on two-tier RPP prices)",null,null,{"$f":"SUM(D28,D29:D30)","v":90.806479999999993},null,null,{"$f":"SUM(G28,G29:G30)","v":95.226479999999995},4.4200000000000017,4.8674940378704276E-2,0.42402997430983463,0.42958975041853781]
["Sub-Total:  Distribution (based on TOU prices)",null,null,{"$f":"SUM(D28,D29,D31)","v":89.5364},null,null,{"$f":"SUM(G28,G29,G31)","v":93.956400000000002},4.4200000000000017,4.9365397760017173E-2,0.41837448867420646,0.42386011145454822]
["Retail Transmission Rate – Network Service Rate",{"$f":"B8","v":1272.96},{"$f":"VLOOKUP($B$3,'Data Current Rates'!$A:$BE,MATCH(ExcludeDRP_BI_R2_Avg!$A34,CurrentHeader,0),FALSE)","v":7.7000000000000002E-3},{"$f":"B34*C34","v":9.8017920000000007},1272.96,{"$f":"VLOOKUP($B$3,'Data Proposed Rates'!$A:$BC,MATCH(ExcludeDRP_BI_R2_Avg!$A34,ProposedHeader,0),FALSE)","v":7.7000000000000002E-3},{"$f":"E34*F34","v":9.8017920000000007},{"$f":"G34-D34","v":0},0,4.3645985968927374E-2,4.42182613379642E-2]
["Retail Transmission Rate – Line and Transformation Connection Service Rate",{"$f":"B8","v":1272.96},{"$f":"VLOOKUP($B$3,'Data Current Rates'!$A:$BE,MATCH(ExcludeDRP_BI_R2_Avg!$A35,CurrentHeader,0),FALSE)","v":6.7999999999999996E-3},{"$f":"B35*C35","v":8.6561279999999989},1272.96,{"$f":"VLOOKUP($B$3,'Data Proposed Rates'!$A:$BC,MATCH(ExcludeDRP_BI_R2_Avg!$A35,ProposedHeader,0),FALSE)","v":6.7999999999999996E-3},{"$f":"E35*F35","v":8.6561279999999989},{"$f":"G35-D35","v":0},0,3.8544507089442348E-2,3.9049893129630711E-2]
["Sub-Total:  Retail Transmission ",null,null,{"$f":"SUM(D34:D35)","v":18.457920000000001},null,null,{"$f":"SUM(G34:G35)","v":18.457920000000001},{"$f":"G36-D36","v":0},0,8.2190493058369729E-2,8.3268154467594918E-2]
["Sub-Total:  Delivery (based on two-tier RPP prices)",null,null,{"$f":"D32+D36","v":109.26439999999999},null,null,{"$f":"G32+G36","v":113.6844},{"$f":"G37-D37","v":4.4200000000000017},4.0452333971540612E-2,0.50622046736820436,0.5128579048861327]
["Sub-Total:  Delivery (based on TOU prices)",null,null,{"$f":"D33+D36","v":107.99432},null,null,{"$f":"G33+G36","v":112.41432},{"$f":"G38-D38","v":4.4200000000000017},4.0928078439680916E-2,0.50056498173257624,0.50712826592214311]
["Wholesale Market Service Rate (WMS) - not including CBR",{"$f":"B8","v":1272.96},{"$f":"VLOOKUP($A39,'Data Pass Through'!$A:$D,2,FALSE)","v":3.0000000000000001E-3},{"$f":"B39*C39","v":3.8188800000000001},{"$f":"$B$8","v":1272.96},{"$f":"VLOOKUP($A39,'Data Pass Through'!$A:$D,3,FALSE)","v":3.0000000000000001E-3},{"$f":"E39*F39","v":3.8188800000000001},0,0,1.700492959828339E-2,1.7227894027778256E-2]
["Capacity Based Recovery (CBR) - Applicable for Class B Customers",{"$f":"B8","v":1272.96},{"$f":"VLOOKUP($A40,'Data Pass Through'!$A:$D,2,FALSE)","v":4.0000000000000002E-4},{"$f":"B40*C40","v":0.50918400000000008},{"$f":"$B$8","v":1272.96},{"$f":"VLOOKUP($A40,'Data Pass Through'!$A:$D,3,FALSE)","v":4.0000000000000002E-4},{"$f":"E40*F40","v":0.50918400000000008},0,0,2.2673239464377857E-3,2.2970525370371014E-3]
["Rural Rate Protection Charge",{"$f":"B8","v":1272.96},{"$f":"VLOOKUP($A41,'Data Pass Through'!$A:$D,2,FALSE)","v":5.0000000000000001E-4},0.63648000000000005,1272.96,{"$f":"VLOOKUP($A41,'Data Pass Through'!$A:$D,3,FALSE)","v":5.0000000000000001E-4},0.63648000000000005,0,0,2.8341549330472321E-3,2.8713156712963763E-3]
["Standard Supply Service – Administration Charge (if applicable)",1,{"$f":"VLOOKUP($A42,'Data Pass Through'!$A:$D,2,FALSE)","v":0.25},{"$f":"B42*C42","v":0.25},1,{"$f":"VLOOKUP($A42,'Data Pass Through'!$A:$D,3,FALSE)","v":0.25},0.25,0,0,1.1132144501976621E-3,1.1278106426346375E-3]
["Sub-Total:  Regulatory",null,null,{"$f":"SUM(D39:D42)","v":5.2145440000000001},null,null,{"$f":"SUM(G39:G42)","v":5.2145440000000001},0,0,2.3219622927966071E-2,2.3524072878746371E-2]
["Debt Retirement Charge (DRC)",{"$f":"B4","v":1152},{"$f":"VLOOKUP($A44,'Data Pass Through'!$A:$D,2,FALSE)","v":0},{"$f":"B44*C44","v":0},1152,{"$f":"VLOOKUP($A44,'Data Pass Through'!$A:$D,3,FALSE)","v":0},{"$f":"E44*F44","v":0},0,"N/A",0,0]
["Total  Electricty Charge on Two-Tier RPP ",null,null,{"$f":"SUM(D14,D28,D29,D30,D36,D43,D44)","v":240.21494399999997},null,null,{"$f":"SUM(G14,G28,G29,G30,G36,G43,G44)","v":244.63494399999996},4.4199999999999875,1.8400187458778534E-2,1.0893246187363832]
["     HST",null,0.13,{"$f":"D45*C46","v":31.227942719999998},null,{"$f":"C46","v":0.13},{"$f":"G45*F46","v":31.802542719999995},0.57459999999999667,1.8400187458778479E-2,0.14161220043572981]
["Total Electricity Charge on Two-Tier RPP (including HST)",null,null,{"$f":"SUM(D45:D46)","v":271.44288671999999},null,null,{"$f":"SUM(G45:G46)","v":276.43748671999998},4.9945999999999913,1.8400187458778552E-2,1.2309368191721133]
["Ontario Electricity Rebate (OER)",null,{"$f":"'Data Pass Through'!B20","v":-0.21199999999999999},{"$f":"D45*C48","v":-50.925568127999995},null,{"$f":"'Data Pass Through'!C20","v":-0.21199999999999999},{"$f":"G45*F48","v":-51.862608127999991},-0.9370399999999961,-1.840018745877851E-2,-0.23093681917211326]
["Total Amount on Two-Tier RPP",null,null,{"$f":"SUM(D47:D48)","v":220.51731859199998},null,null,{"$f":"SUM(G47:G48)","v":224.574878592},4.0575600000000236,1.8400187458778694E-2,1]
["Total Electricty Charge on TOU (before HST)",null,null,{"$f":"SUM(D18,D28,D29,D31,D36,D43,D44)","v":237.04886399999998},null,null,{"$f":"SUM(G18,G28,G29,G31,G36,G43,G44)","v":241.468864},4.4200000000000159,1.8645944660591229E-2,null,{"$f":"G50/$G$54","v":1.0893246187363834}]
["     HST",null,0.13,{"$f":"D50*C51","v":30.81635232},null,{"$f":"C51","v":0.13},{"$f":"G50*F51","v":31.39095232},0.57460000000000022,1.8645944660591166E-2,null,{"$f":"G51/$G$54","v":0.14161220043572986}]
["Total Electricity Charge on TOU (including HST)",null,null,{"$f":"SUM(D50:D51)","v":267.86521632},null,null,{"$f":"SUM(G50:G51)","v":272.85981631999999},4.9945999999999913,1.8645944660591128E-2,null,{"$f":"G52/$G$54","v":1.2309368191721133}]
["Ontario Electricity Rebate (OER)",null,{"$f":"'Data Pass Through'!B20","v":-0.21199999999999999},{"$f":"D50*C53","v":-50.254359167999993},null,{"$f":"'Data Pass Through'!C20","v":-0.21199999999999999},{"$f":"G50*F53","v":-51.191399167999997},-0.9370400000000032,-1.8645944660591225E-2,null,{"$f":"G53/$G$54","v":-0.23093681917211328}]
["Total Amount on TOU",null,null,{"$f":"SUM(D52:D53)","v":217.61085715199999},null,null,{"$f":"SUM(G52:G53)","v":221.66841715199999},4.0575599999999952,1.8645944660591138E-2,null,{"$f":"G54/$G$54","v":1}]
["* Distribution rate protection applies to R1 and R2 customers"]

{"sheet":"ExcludeDRP_BI_R2_High","index":30,"n_rows":55,"n_cols":11,"rows_kept":55,"cut":false,"hidden":false,"merged":[[0,0,0,10]]}
["2021 Bill Impacts Excluding DRP (High Consumption Level) - R2"]
[]
["Rate Class",{"$f":"RIGHT(A1,LEN(A1)-FIND(\"- \",A1,1)-1)","v":"R2"}]
["Monthly Consumption (kWh)",{"$f":"IF(COUNTIF(A1,\"*Low*\")>0,VLOOKUP(B3,'Data Billing Quantities'!$A:$Z,MATCH(\"Low kWh\",'Data Billing Quantities'!4:4,0),FALSE),IF(COUNTIF(A1,\"*Typical*\")>0,VLOOKUP(B3,'Data Billing Quantities'!$A:$Z,MATCH(\"Typical kWh\",'Data Billing Quantities'!4:4,0),FALSE),IF(COUNTIF(A1,\"*Average*\")>0,VLOOKUP(B3,'Data Billing Quantities'!$A:$Z,MATCH(\"Average kWh\",'Data Billing Quantities'!4:4,0),FALSE),IF(COUNTIF(A1,\"*High*\")>0,VLOOKUP(B3,'Data Billing Quantities'!$A:$Z,MATCH(\"High kWh\",'Data Billing Quantities'!4:4,0),FALSE),\"error\"))))","v":2300}]
["Peak (kW)",{"$f":"IF(COUNTIF(A1,\"*Low*\")>0,VLOOKUP(B3,'Data Billing Quantities'!$A:$Z,MATCH(\"Low kW\",'Data Billing Quantities'!4:4,0),FALSE),IF(COUNTIF(A1,\"*Typical*\")>0,VLOOKUP(B3,'Data Billing Quantities'!$A:$Z,MATCH(\"Typical kW\",'Data Billing Quantities'!4:4,0),FALSE),IF(COUNTIF(A1,\"*Average*\")>0,VLOOKUP(B3,'Data Billing Quantities'!$A:$Z,MATCH(\"Average kW\",'Data Billing Quantities'!4:4,0),FALSE),IF(COUNTIF(A1,\"*High*\")>0,VLOOKUP(B3,'Data Billing Quantities'!$A:$Z,MATCH(\"High kW\",'Data Billing Quantities'!4:4,0),FALSE),\"error\"))))","v":0}]
["Loss factor",{"$f":"VLOOKUP(B3,'Data Billing Quantities'!A:D,MATCH(A6,'Data Billing Quantities'!4:4,0),FALSE)","v":1.105}]
["Commodity Threshold",{"$f":"VLOOKUP(B3,'Data Billing Quantities'!A:D,MATCH(A7,'Data Billing Quantities'!4:4,0),FALSE)","v":600}]
["Monthly Consumption (kWh) - Uplifted",{"$f":"B4*B6","v":2541.5}]
["Charge determinant",{"$f":"VLOOKUP(B3,'Data Billing Quantities'!A:D,MATCH(A9,'Data Billing Quantities'!4:4,0),FALSE)","v":"kWh"}]
[]
[null,"Volume","Current Rate ($)","Current Charge ($)","Volume","Proposed Rate ($)","Proposed Charge ($)","Change ($)","Change (%)","% of Total Bill on RPP","% of Total Bill on TOU"]
["Energy First Tier",{"$f":"IF(B4>B7,B7,B4)","v":600},{"$f":"VLOOKUP($A12,'Data Pass Through'!$A:$D,2,FALSE)","v":0.10100000000000001},{"$f":"B12*C12","v":60.6},{"$f":"B12","v":600},{"$f":"VLOOKUP($A12,'Data Pass Through'!$A:$D,3,FALSE)","v":0.10100000000000001},{"$f":"E12*F12","v":60.6},{"$f":"G12-D12","v":0},{"$f":"IF(ISERROR(H12/ABS(D12)),\"N/A\",(H12/ABS(D12)))","v":0},{"$f":"G12/$G$49","v":0.14919536766759534}]
["Energy Second Tier",{"$f":"IF(B4>B7,(B4)-B7,0)","v":1700},{"$f":"VLOOKUP($A13,'Data Pass Through'!$A:$D,2,FALSE)","v":0.11799999999999999},{"$f":"B13*C13","v":200.6},{"$f":"B13","v":1700},{"$f":"VLOOKUP($A13,'Data Pass Through'!$A:$D,3,FALSE)","v":0.11799999999999999},{"$f":"E13*F13","v":200.6},0,0,{"$f":"G13/$G$49","v":0.49387113455642945}]
["Sub-Total:  Energy (RPP Tiered)",null,null,{"$f":"SUM(D12:D13)","v":261.2},null,null,{"$f":"SUM(G12:G13)","v":261.2},0,0,{"$f":"G14/$G$49","v":0.64306650222402473}]
["TOU-Off Peak",{"$f":"B$4*VLOOKUP($B$3,'Data Billing Quantities'!$A:$O,MATCH(ExcludeDRP_BI_R2_High!$A15,'Data Billing Quantities'!$4:$4,0),FALSE)","v":1472},{"$f":"VLOOKUP($A15,'Data Pass Through'!$A:$D,2,FALSE)","v":8.5000000000000006E-2},{"$f":"B15*C15","v":125.12},1472,{"$f":"VLOOKUP($A15,'Data Pass Through'!$A:$D,3,FALSE)","v":8.5000000000000006E-2},{"$f":"E15*F15","v":125.12},0,0,null,{"$f":"G15/$G$54","v":0.31996324735203568}]
["TOU-Mid Peak",{"$f":"B$4*VLOOKUP($B$3,'Data Billing Quantities'!$A:$O,MATCH(ExcludeDRP_BI_R2_High!$A16,'Data Billing Quantities'!$4:$4,0),FALSE)","v":414},{"$f":"VLOOKUP($A16,'Data Pass Through'!$A:$D,2,FALSE)","v":0.11899999999999999},{"$f":"B16*C16","v":49.265999999999998},414,{"$f":"VLOOKUP($A16,'Data Pass Through'!$A:$D,3,FALSE)","v":0.11899999999999999},{"$f":"E16*F16","v":49.265999999999998},0,0,null,0.12598552864486404]
["TOU-On Peak",{"$f":"B$4*VLOOKUP($B$3,'Data Billing Quantities'!$A:$O,MATCH(ExcludeDRP_BI_R2_High!$A17,'Data Billing Quantities'!$4:$4,0),FALSE)","v":414},{"$f":"VLOOKUP($A17,'Data Pass Through'!$A:$D,2,FALSE)","v":0.17599999999999999},{"$f":"B17*C17","v":72.86399999999999},414,{"$f":"VLOOKUP($A17,'Data Pass Through'!$A:$D,3,FALSE)","v":0.17599999999999999},{"$f":"E17*F17","v":72.86399999999999},0,0,null,0.18633153816383252]
["Sub-Total:  Energy (RPP TOU)",null,null,{"$f":"SUM(D15:D17)","v":247.25},null,null,{"$f":"SUM(G15:G17)","v":247.25},0,0,{"$f":"G18/$G$49","v":0.60872202402331599},0.63228031416073227]
["Service Charge",1,{"$f":"IF(ISERROR(VLOOKUP($B$3,'Data Current Rates'!$A:$BE,MATCH(ExcludeDRP_BI_R2_High!$A19,CurrentHeader,0),FALSE)),0,VLOOKUP($B$3,'Data Current Rates'!$A:$BE,MATCH(ExcludeDRP_BI_R2_High!$A19,CurrentHeader,0),FALSE))","v":53.14},{"$f":"B19*C19","v":53.14},1,{"$f":"VLOOKUP($B$3,'Data Proposed Rates'!$A:$BC,MATCH(ExcludeDRP_BI_R2_High!$A19,ProposedHeader,0),FALSE)","v":53.14},{"$f":"E19*F19","v":53.14},0,0,0.13082907323194748,0.13589231908797295]
["Base Rate Adjustment to Recover Past Tax Amounts FIXED",null,null,null,1,{"$f":"VLOOKUP($B$3,'Data Proposed Rates'!$A:$BC,MATCH(ExcludeDRP_BI_R2_High!$A20,ProposedHeader,0),FALSE)","v":4.42},4.42,4.42,"N/A",1.0881906354633191E-2,1.1303049498849086E-2]
["Fixed Deferral/Variance Account Rider (General)",1,{"$f":"IF(ISERROR(VLOOKUP($B$3,'Data Current Rates'!$A:$BE,MATCH(ExcludeDRP_BI_R2_High!$A21,CurrentHeader,0),FALSE)),0,VLOOKUP($B$3,'Data Current Rates'!$A:$BE,MATCH(ExcludeDRP_BI_R2_High!$A21,CurrentHeader,0),FALSE))","v":-0.14000000000000001},-0.14000000000000001,1,{"$f":"VLOOKUP($B$3,'Data Proposed Rates'!$A:$BC,MATCH(ExcludeDRP_BI_R2_High!$A21,ProposedHeader,0),FALSE)","v":-0.14000000000000001},-0.14000000000000001,0,0,-3.4467576688883414E-4,-3.5801514249748239E-4]
["Fixed ESM Rider",1,{"$f":"IF(ISERROR(VLOOKUP($B$3,'Data Current Rates'!$A:$BE,MATCH(ExcludeDRP_BI_R2_High!$A22,CurrentHeader,0),FALSE)),0,VLOOKUP($B$3,'Data Current Rates'!$A:$BE,MATCH(ExcludeDRP_BI_R2_High!$A22,CurrentHeader,0),FALSE))","v":-1.92},-1.92,1,{"$f":"VLOOKUP($B$3,'Data Proposed Rates'!$A:$BC,MATCH(ExcludeDRP_BI_R2_High!$A22,ProposedHeader,0),FALSE)","v":-1.92},-1.92,0,0,-4.7269819459040104E-3,-4.9099219542511861E-3]
["Distribution Volumetric Charge",{"$f":"IF($B$9=\"kWh\",$B$4,$B$5)","v":2300},{"$f":"IF(ISERROR(VLOOKUP($B$3,'Data Current Rates'!$A:$BE,MATCH(ExcludeDRP_BI_R2_High!$A23,CurrentHeader,0),FALSE)),0,VLOOKUP($B$3,'Data Current Rates'!$A:$BE,MATCH(ExcludeDRP_BI_R2_High!$A23,CurrentHeader,0),FALSE))","v":2.2700000000000001E-2},52.21,{"$f":"IF($B$9=\"kWh\",$B$4,$B$5)","v":2300},{"$f":"VLOOKUP($B$3,'Data Proposed Rates'!$A:$BC,MATCH(ExcludeDRP_BI_R2_High!$A23,ProposedHeader,0),FALSE)","v":2.2700000000000001E-2},52.21,0,0,0.12853944135190021,0.13351407564138254]
["Base Rate Adjustment to Recover Past Tax Amounts VOL"]
["Volumetric Deferral/Variance Account Rider (General)",{"$f":"IF($B$9=\"kWh\",$B$4,$B$5)","v":2300},{"$f":"IF(ISERROR(VLOOKUP($B$3,'Data Current Rates'!$A:$BE,MATCH(ExcludeDRP_BI_R2_High!$A25,CurrentHeader,0),FALSE)),0,VLOOKUP($B$3,'Data Current Rates'!$A:$BE,MATCH(ExcludeDRP_BI_R2_High!$A25,CurrentHeader,0),FALSE))","v":-1.1000000000000001E-3},-2.5300000000000002,{"$f":"IF($B$9=\"kWh\",$B$4,$B$5)","v":2300},{"$f":"VLOOKUP($B$3,'Data Proposed Rates'!$A:$BC,MATCH(ExcludeDRP_BI_R2_High!$A25,ProposedHeader,0),FALSE)","v":-1.1000000000000001E-3},-2.5300000000000002,0,0,-6.2287835016339313E-3,-6.4698450751330744E-3]
["Volumetric ESM Rider",2300,{"$f":"IF(ISERROR(VLOOKUP($B$3,'Data Current Rates'!$A:$BE,MATCH(ExcludeDRP_BI_R2_High!$A26,CurrentHeader,0),FALSE)),0,VLOOKUP($B$3,'Data Current Rates'!$A:$BE,MATCH(ExcludeDRP_BI_R2_High!$A26,CurrentHeader,0),FALSE))","v":0},0,2300,{"$f":"VLOOKUP($B$3,'Data Proposed Rates'!$A:$BC,MATCH(ExcludeDRP_BI_R2_High!$A26,ProposedHeader,0),FALSE)","v":0},0,0,"N/A",0,0]
["Fair Hydro Plan - Distribution Rate Protection Savings* Excluded",null,null,0,null,null,0,0,"N/A",0,0]
["Sub-Total:  Distribution (excluding pass through)",null,null,{"$f":"SUM(INDIRECT(\"D19:D\"&ROW()-1))","v":100.75999999999999},null,null,{"$f":"SUM(INDIRECT(\"g19:g\"&ROW()-1))","v":105.18},{"$f":"G28-D28","v":4.4200000000000159},4.386661373560953E-2,0.25894997972405409,0.26897166205632284]
["Smart Metering Entity Charge",1,{"$f":"VLOOKUP($A29,'Data Pass Through'!$A:$D,2,FALSE)","v":0.56999999999999995},{"$f":"B29*C29","v":0.56999999999999995},1,{"$f":"VLOOKUP($A29,'Data Pass Through'!$A:$D,3,FALSE)","v":0.56999999999999995},{"$f":"E29*F29","v":0.56999999999999995},0,0,1.403322765190253E-3,1.4576330801683208E-3]
["Line Losses on Cost of Power (based on two-tier RPP prices)",{"$f":"B8-B4","v":241.5},{"$f":"IF(B4>B7,C13,C12)","v":0.11799999999999999},{"$f":"B30*C30","v":28.497},241.5,{"$f":"IF(B4>B7,F13,F12)","v":0.11799999999999999},{"$f":"E30*F30","v":28.497},0,0,7.0158752350222189E-2,7.287398225536254E-2]
["Line Losses on Cost of Power (based on TOU prices)",{"$f":"B8-B4","v":241.5},{"$f":"VLOOKUP($B$3,'Data Billing Quantities'!$A:$O,MATCH(ExcludeDRP_BI_R2_High!$A15,'Data Billing Quantities'!$4:$4,0),FALSE)*C15+VLOOKUP($B$3,'Data Billing Quantities'!$A:$O,MATCH(ExcludeDRP_BI_R2_High!$A16,'Data Billing Quantities'!$4:$4,0),FALSE)*C16+VLOOKUP($B$3,'Data Billing Quantities'!$A:$O,MATCH(ExcludeDRP_BI_R2_High!$A17,'Data Billing Quantities'!$4:$4,0),FALSE)*C17","v":0.1075},{"$f":"B31*C31","v":25.96125},241.5,{"$f":"VLOOKUP($B$3,'Data Billing Quantities'!$A:$O,MATCH(ExcludeDRP_BI_R2_High!$A15,'Data Billing Quantities'!$4:$4,0),FALSE)*F15+VLOOKUP($B$3,'Data Billing Quantities'!$A:$O,MATCH(ExcludeDRP_BI_R2_High!$A16,'Data Billing Quantities'!$4:$4,0),FALSE)*F16+VLOOKUP($B$3,'Data Billing Quantities'!$A:$O,MATCH(ExcludeDRP_BI_R2_High!$A17,'Data Billing Quantities'!$4:$4,0),FALSE)*F17","v":0.1075},{"$f":"E31*F31","v":25.96125},0,0,6.391581252244817E-2,6.6389432986876884E-2]
["Sub-Total:  Distribution (based on two-tier RPP prices)",null,null,{"$f":"SUM(D28,D29:D30)","v":129.827},null,null,{"$f":"SUM(G28,G29:G30)","v":134.24700000000001},4.4200000000000159,3.4045306446270927E-2,0.33051205483946655,0.34330327739185373]
["Sub-Total:  Distribution (based on TOU prices)",null,null,{"$f":"SUM(D28,D29,D31)","v":127.29124999999999},null,null,{"$f":"SUM(G28,G29,G31)","v":131.71125000000001},4.4200000000000159,3.472351791658905E-2,0.32426911501169253,0.33681872812336805]
["Retail Transmission Rate – Network Service Rate",{"$f":"B8","v":2541.5},{"$f":"VLOOKUP($B$3,'Data Current Rates'!$A:$BE,MATCH(ExcludeDRP_BI_R2_High!$A34,CurrentHeader,0),FALSE)","v":7.7000000000000002E-3},{"$f":"B34*C34","v":19.56955},2541.5,{"$f":"VLOOKUP($B$3,'Data Proposed Rates'!$A:$BC,MATCH(ExcludeDRP_BI_R2_High!$A34,ProposedHeader,0),FALSE)","v":7.7000000000000002E-3},{"$f":"E34*F34","v":19.56955},{"$f":"G34-D34","v":0},0,4.8179640385138452E-2,5.004425165615433E-2]
["Retail Transmission Rate – Line and Transformation Connection Service Rate",{"$f":"B8","v":2541.5},{"$f":"VLOOKUP($B$3,'Data Current Rates'!$A:$BE,MATCH(ExcludeDRP_BI_R2_High!$A35,CurrentHeader,0),FALSE)","v":6.7999999999999996E-3},{"$f":"B35*C35","v":17.2822},2541.5,{"$f":"VLOOKUP($B$3,'Data Proposed Rates'!$A:$BC,MATCH(ExcludeDRP_BI_R2_High!$A35,ProposedHeader,0),FALSE)","v":6.7999999999999996E-3},{"$f":"E35*F35","v":17.2822},{"$f":"G35-D35","v":0},0,4.2548253846615779E-2,4.4194923540499927E-2]
["Sub-Total:  Retail Transmission ",null,null,{"$f":"SUM(D34:D35)","v":36.851749999999996},null,null,{"$f":"SUM(G34:G35)","v":36.851749999999996},{"$f":"G36-D36","v":0},0,9.0727894231754216E-2,9.4239175196654243E-2]
["Sub-Total:  Delivery (based on two-tier RPP prices)",null,null,{"$f":"D32+D36","v":166.67874999999998},null,null,{"$f":"G32+G36","v":171.09875},{"$f":"G37-D37","v":4.4200000000000159},2.6518077439385744E-2,0.42123994907122075,0.43754245258850794]
["Sub-Total:  Delivery (based on TOU prices)",null,null,{"$f":"D33+D36","v":164.14299999999997},null,null,{"$f":"G33+G36","v":168.56299999999999},{"$f":"G38-D38","v":4.4200000000000159},2.6927739836605988E-2,0.41499700924344674,0.43105790332002225]
["Wholesale Market Service Rate (WMS) - not including CBR",{"$f":"B8","v":2541.5},{"$f":"VLOOKUP($A39,'Data Pass Through'!$A:$D,2,FALSE)","v":3.0000000000000001E-3},{"$f":"B39*C39","v":7.6245000000000003},{"$f":"$B$8","v":2541.5},{"$f":"VLOOKUP($A39,'Data Pass Through'!$A:$D,3,FALSE)","v":3.0000000000000001E-3},{"$f":"E39*F39","v":7.6245000000000003},0,0,1.8771288461742256E-2,1.9497760385514675E-2]
["Capacity Based Recovery (CBR) - Applicable for Class B Customers",{"$f":"B8","v":2541.5},{"$f":"VLOOKUP($A40,'Data Pass Through'!$A:$D,2,FALSE)","v":4.0000000000000002E-4},{"$f":"B40*C40","v":1.0165999999999999},{"$f":"$B$8","v":2541.5},{"$f":"VLOOKUP($A40,'Data Pass Through'!$A:$D,3,FALSE)","v":4.0000000000000002E-4},{"$f":"E40*F40","v":1.0165999999999999},0,0,2.5028384615656341E-3,2.5997013847352895E-3]
["Rural Rate Protection Charge",{"$f":"B8","v":2541.5},{"$f":"VLOOKUP($A41,'Data Pass Through'!$A:$D,2,FALSE)","v":5.0000000000000001E-4},1.27075,2541.5,{"$f":"VLOOKUP($A41,'Data Pass Through'!$A:$D,3,FALSE)","v":5.0000000000000001E-4},1.27075,0,0,3.1285480769570428E-3,3.2496267309191124E-3]
["Standard Supply Service – Administration Charge (if applicable)",1,{"$f":"VLOOKUP($A42,'Data Pass Through'!$A:$D,2,FALSE)","v":0.25},{"$f":"B42*C42","v":0.25},1,{"$f":"VLOOKUP($A42,'Data Pass Through'!$A:$D,3,FALSE)","v":0.25},0.25,0,0,6.1549244087291807E-4,6.3931275445978995E-4]
["Sub-Total:  Regulatory",null,null,{"$f":"SUM(D39:D42)","v":10.161849999999999},null,null,{"$f":"SUM(G39:G42)","v":10.161849999999999},0,0,2.5018167441137849E-2,2.5986401255628865E-2]
["Debt Retirement Charge (DRC)",{"$f":"B4","v":2300},{"$f":"VLOOKUP($A44,'Data Pass Through'!$A:$D,2,FALSE)","v":0},{"$f":"B44*C44","v":0},2300,{"$f":"VLOOKUP($A44,'Data Pass Through'!$A:$D,3,FALSE)","v":0},{"$f":"E44*F44","v":0},0,"N/A",0,0]
["Total  Electricty Charge on Two-Tier RPP ",null,null,{"$f":"SUM(D14,D28,D29,D30,D36,D43,D44)","v":438.04059999999998},null,null,{"$f":"SUM(G14,G28,G29,G30,G36,G43,G44)","v":442.4606},4.4200000000000159,1.0090388881761225E-2,1.0893246187363834]
["     HST",null,0.13,{"$f":"D45*C46","v":56.945278000000002},null,{"$f":"C46","v":0.13},{"$f":"G45*F46","v":57.519877999999999},0.57459999999999667,1.009038888176113E-2,0.14161220043572983]
["Total Electricity Charge on Two-Tier RPP (including HST)",null,null,{"$f":"SUM(D45:D46)","v":494.98587799999996},null,null,{"$f":"SUM(G45:G46)","v":499.98047800000001},4.9946000000000481,1.0090388881761286E-2,1.2309368191721133]
["Ontario Electricity Rebate (OER)",null,{"$f":"'Data Pass Through'!B20","v":-0.21199999999999999},{"$f":"D45*C48","v":-92.864607199999995},null,{"$f":"'Data Pass Through'!C20","v":-0.21199999999999999},{"$f":"G45*F48","v":-93.801647199999991},-0.9370399999999961,-1.0090388881761147E-2,-0.23093681917211326]
["Total Amount on Two-Tier RPP",null,null,{"$f":"SUM(D47:D48)","v":402.12127079999993},null,null,{"$f":"SUM(G47:G48)","v":406.17883080000001},4.0575600000000804,1.009038888176139E-2,1]
["Total Electricty Charge on TOU (before HST)",null,null,{"$f":"SUM(D18,D28,D29,D31,D36,D43,D44)","v":421.55484999999999},null,null,{"$f":"SUM(G18,G28,G29,G31,G36,G43,G44)","v":425.97485},4.4200000000000159,1.0484993827019227E-2,null,{"$f":"G50/$G$54","v":1.0893246187363834}]
["     HST",null,0.13,{"$f":"D50*C51","v":54.802130499999997},null,{"$f":"C51","v":0.13},{"$f":"G50*F51","v":55.376730500000001},0.57460000000000377,1.0484993827019258E-2,null,{"$f":"G51/$G$54","v":0.14161220043572983}]
["Total Electricity Charge on TOU (including HST)",null,null,{"$f":"SUM(D50:D51)","v":476.35698049999996},null,null,{"$f":"SUM(G50:G51)","v":481.35158050000001},4.9946000000000481,1.048499382701929E-2,null,{"$f":"G52/$G$54","v":1.2309368191721133}]
["Ontario Electricity Rebate (OER)",null,{"$f":"'Data Pass Through'!B20","v":-0.21199999999999999},{"$f":"D50*C53","v":-89.369628199999994},null,{"$f":"'Data Pass Through'!C20","v":-0.21199999999999999},{"$f":"G50*F53","v":-90.306668200000004},-0.93704000000001031,-1.0484993827019305E-2,null,{"$f":"G53/$G$54","v":-0.23093681917211328}]
["Total Amount on TOU",null,null,{"$f":"SUM(D52:D53)","v":386.9873523},null,null,{"$f":"SUM(G52:G53)","v":391.04491230000002},4.0575600000000236,1.048499382701925E-2,null,{"$f":"G54/$G$54","v":1}]
["* Distribution rate protection applies to R1 and R2 customers"]

{"sheet":"BI_Seas_Low","index":31,"n_rows":55,"n_cols":11,"rows_kept":55,"cut":false,"hidden":false,"merged":[[0,0,0,10]]}
["2021 Bill Impacts (Low Consumption Level) - Seasonal"]
[]
["Rate Class",{"$f":"RIGHT(A1,LEN(A1)-FIND(\"- \",A1,1)-1)","v":"Seasonal"}]
["Monthly Consumption (kWh)",{"$f":"IF(COUNTIF(A1,\"*Low*\")>0,VLOOKUP(B3,'Data Billing Quantities'!$A:$Z,MATCH(\"Low kWh\",'Data Billing Quantities'!4:4,0),FALSE),IF(COUNTIF(A1,\"*Typical*\")>0,VLOOKUP(B3,'Data Billing Quantities'!$A:$Z,MATCH(\"Typical kWh\",'Data Billing Quantities'!4:4,0),FALSE),IF(COUNTIF(A1,\"*Average*\")>0,VLOOKUP(B3,'Data Billing Quantities'!$A:$Z,MATCH(\"Average kWh\",'Data Billing Quantities'!4:4,0),FALSE),IF(COUNTIF(A1,\"*High*\")>0,VLOOKUP(B3,'Data Billing Quantities'!$A:$Z,MATCH(\"High kWh\",'Data Billing Quantities'!4:4,0),FALSE),\"error\"))))","v":50}]
["Peak (kW)",{"$f":"IF(COUNTIF(A1,\"*Low*\")>0,VLOOKUP(B3,'Data Billing Quantities'!$A:$Z,MATCH(\"Low kW\",'Data Billing Quantities'!4:4,0),FALSE),IF(COUNTIF(A1,\"*Typical*\")>0,VLOOKUP(B3,'Data Billing Quantities'!$A:$Z,MATCH(\"Typical kW\",'Data Billing Quantities'!4:4,0),FALSE),IF(COUNTIF(A1,\"*Average*\")>0,VLOOKUP(B3,'Data Billing Quantities'!$A:$Z,MATCH(\"Average kW\",'Data Billing Quantities'!4:4,0),FALSE),IF(COUNTIF(A1,\"*High*\")>0,VLOOKUP(B3,'Data Billing Quantities'!$A:$Z,MATCH(\"High kW\",'Data Billing Quantities'!4:4,0),FALSE),\"error\"))))","v":0}]
["Loss factor",{"$f":"VLOOKUP(B3,'Data Billing Quantities'!A:D,MATCH(A6,'Data Billing Quantities'!4:4,0),FALSE)","v":1.1040000000000001}]
["Commodity Threshold",{"$f":"VLOOKUP(B3,'Data Billing Quantities'!A:D,MATCH(A7,'Data Billing Quantities'!4:4,0),FALSE)","v":600}]
["Monthly Consumption (kWh) - Uplifted",{"$f":"B4*B6","v":55.2}]
["Charge determinant",{"$f":"VLOOKUP(B3,'Data Billing Quantities'!A:D,MATCH(A9,'Data Billing Quantities'!4:4,0),FALSE)","v":"kWh"}]
[]
[null,"Volume","Current Rate ($)","Current Charge ($)","Volume","Proposed Rate ($)","Proposed Charge ($)","Change ($)","Change (%)","% of Total Bill on RPP","% of Total Bill on TOU"]
["Energy First Tier",{"$f":"IF(B4>B7,B7,B4)","v":50},{"$f":"VLOOKUP($A12,'Data Pass Through'!$A:$D,2,FALSE)","v":0.10100000000000001},{"$f":"B12*C12","v":5.0500000000000007},{"$f":"B12","v":50},{"$f":"VLOOKUP($A12,'Data Pass Through'!$A:$D,3,FALSE)","v":0.10100000000000001},{"$f":"E12*F12","v":5.0500000000000007},{"$f":"G12-D12","v":0},{"$f":"IF(ISERROR(H12/ABS(D12)),\"N/A\",(H12/ABS(D12)))","v":0},{"$f":"G12/$G$49","v":9.0388530038191237E-2}]
["Energy Second Tier",{"$f":"IF(B4>B7,(B4)-B7,0)","v":0},{"$f":"VLOOKUP($A13,'Data Pass Through'!$A:$D,2,FALSE)","v":0.11799999999999999},{"$f":"B13*C13","v":0},{"$f":"B13","v":0},{"$f":"VLOOKUP($A13,'Data Pass Through'!$A:$D,3,FALSE)","v":0.11799999999999999},{"$f":"E13*F13","v":0},0,"N/A",{"$f":"G13/$G$49","v":0}]
["Sub-Total:  Energy (RPP Tiered)",null,null,{"$f":"SUM(D12:D13)","v":5.0500000000000007},null,null,{"$f":"SUM(G12:G13)","v":5.0500000000000007},0,0,{"$f":"G14/$G$49","v":9.0388530038191237E-2}]
["TOU-Off Peak",{"$f":"B$4*VLOOKUP($B$3,'Data Billing Quantities'!$A:$O,MATCH(BI_Seas_Low!$A15,'Data Billing Quantities'!$4:$4,0),FALSE)","v":32},{"$f":"VLOOKUP($A15,'Data Pass Through'!$A:$D,2,FALSE)","v":8.5000000000000006E-2},{"$f":"B15*C15","v":2.72},32,{"$f":"VLOOKUP($A15,'Data Pass Through'!$A:$D,3,FALSE)","v":8.5000000000000006E-2},{"$f":"E15*F15","v":2.72},0,0,null,{"$f":"G15/$G$54","v":4.8399180175966845E-2}]
["TOU-Mid Peak",{"$f":"B$4*VLOOKUP($B$3,'Data Billing Quantities'!$A:$O,MATCH(BI_Seas_Low!$A16,'Data Billing Quantities'!$4:$4,0),FALSE)","v":9},{"$f":"VLOOKUP($A16,'Data Pass Through'!$A:$D,2,FALSE)","v":0.11899999999999999},{"$f":"B16*C16","v":1.071},9,{"$f":"VLOOKUP($A16,'Data Pass Through'!$A:$D,3,FALSE)","v":0.11899999999999999},{"$f":"E16*F16","v":1.071},0,0,null,1.9057177194286942E-2]
["TOU-On Peak",{"$f":"B$4*VLOOKUP($B$3,'Data Billing Quantities'!$A:$O,MATCH(BI_Seas_Low!$A17,'Data Billing Quantities'!$4:$4,0),FALSE)","v":9},{"$f":"VLOOKUP($A17,'Data Pass Through'!$A:$D,2,FALSE)","v":0.17599999999999999},{"$f":"B17*C17","v":1.5839999999999999},9,{"$f":"VLOOKUP($A17,'Data Pass Through'!$A:$D,3,FALSE)","v":0.17599999999999999},{"$f":"E17*F17","v":1.5839999999999999},0,0,null,2.8185404926004218E-2]
["Sub-Total:  Energy (RPP TOU)",null,null,{"$f":"SUM(D15:D17)","v":5.375},null,null,{"$f":"SUM(G15:G17)","v":5.375},0,0,{"$f":"G18/$G$49","v":9.6205613654510455E-2},9.5641762296258009E-2]
["Service Charge",1,{"$f":"IF(ISERROR(VLOOKUP($B$3,'Data Current Rates'!$A:$BE,MATCH(BI_Seas_Low!$A19,CurrentHeader,0),FALSE)),0,VLOOKUP($B$3,'Data Current Rates'!$A:$BE,MATCH(BI_Seas_Low!$A19,CurrentHeader,0),FALSE))","v":50.72},{"$f":"B19*C19","v":50.72},1,{"$f":"VLOOKUP($B$3,'Data Proposed Rates'!$A:$BC,MATCH(BI_Seas_Low!$A19,ProposedHeader,0),FALSE)","v":50.72},{"$f":"E19*F19","v":50.72},0,0,0.90782301852218983,0.90250235975185222]
["Base Rate Adjustment to Recover Past Tax Amounts FIXED",null,null,null,1,{"$f":"VLOOKUP($B$3,'Data Proposed Rates'!$A:$BC,MATCH(BI_Seas_Low!$A20,ProposedHeader,0),FALSE)","v":1.79},1.79,1.79,"N/A",3.2038706686804412E-2,3.185093107168406E-2]
["Fixed Deferral/Variance Account Rider (General)",1,{"$f":"IF(ISERROR(VLOOKUP($B$3,'Data Current Rates'!$A:$BE,MATCH(BI_Seas_Low!$A21,CurrentHeader,0),FALSE)),0,VLOOKUP($B$3,'Data Current Rates'!$A:$BE,MATCH(BI_Seas_Low!$A21,CurrentHeader,0),FALSE))","v":-0.14000000000000001},-0.14000000000000001,1,{"$f":"VLOOKUP($B$3,'Data Proposed Rates'!$A:$BC,MATCH(BI_Seas_Low!$A21,ProposedHeader,0),FALSE)","v":-0.14000000000000001},-0.14000000000000001,0,0,-2.5058206347221331E-3,-2.4911342737629996E-3]
["Fixed ESM Rider",1,{"$f":"IF(ISERROR(VLOOKUP($B$3,'Data Current Rates'!$A:$BE,MATCH(BI_Seas_Low!$A22,CurrentHeader,0),FALSE)),0,VLOOKUP($B$3,'Data Current Rates'!$A:$BE,MATCH(BI_Seas_Low!$A22,CurrentHeader,0),FALSE))","v":-0.9},-0.9,1,{"$f":"VLOOKUP($B$3,'Data Proposed Rates'!$A:$BC,MATCH(BI_Seas_Low!$A22,ProposedHeader,0),FALSE)","v":-0.9},-0.9,0,0,-1.6108846937499425E-2,-1.6014434617047851E-2]
["Distribution Volumetric Charge",{"$f":"IF($B$9=\"kWh\",$B$4,$B$5)","v":50},{"$f":"IF(ISERROR(VLOOKUP($B$3,'Data Current Rates'!$A:$BE,MATCH(BI_Seas_Low!$A23,CurrentHeader,0),FALSE)),0,VLOOKUP($B$3,'Data Current Rates'!$A:$BE,MATCH(BI_Seas_Low!$A23,CurrentHeader,0),FALSE))","v":4.41E-2},2.2050000000000001,{"$f":"IF($B$9=\"kWh\",$B$4,$B$5)","v":50},{"$f":"VLOOKUP($B$3,'Data Proposed Rates'!$A:$BC,MATCH(BI_Seas_Low!$A23,ProposedHeader,0),FALSE)","v":4.41E-2},2.2050000000000001,0,0,3.9466674996873591E-2,3.9235364811767239E-2]
["Base Rate Adjustment to Recover Past Tax Amounts VOL"]
["Volumetric Deferral/Variance Account Rider (General)",{"$f":"IF($B$9=\"kWh\",$B$4,$B$5)","v":50},{"$f":"IF(ISERROR(VLOOKUP($B$3,'Data Current Rates'!$A:$BE,MATCH(BI_Seas_Low!$A25,CurrentHeader,0),FALSE)),0,VLOOKUP($B$3,'Data Current Rates'!$A:$BE,MATCH(BI_Seas_Low!$A25,CurrentHeader,0),FALSE))","v":-2.3E-3},-0.11499999999999999,{"$f":"IF($B$9=\"kWh\",$B$4,$B$5)","v":50},{"$f":"VLOOKUP($B$3,'Data Proposed Rates'!$A:$BC,MATCH(BI_Seas_Low!$A25,ProposedHeader,0),FALSE)","v":-2.3E-3},-0.11499999999999999,0,0,-2.0583526642360375E-3,-2.046288867733892E-3]
["Volumetric ESM Rider",50,{"$f":"IF(ISERROR(VLOOKUP($B$3,'Data Current Rates'!$A:$BE,MATCH(BI_Seas_Low!$A26,CurrentHeader,0),FALSE)),0,VLOOKUP($B$3,'Data Current Rates'!$A:$BE,MATCH(BI_Seas_Low!$A26,CurrentHeader,0),FALSE))","v":0},0,50,{"$f":"VLOOKUP($B$3,'Data Proposed Rates'!$A:$BC,MATCH(BI_Seas_Low!$A26,ProposedHeader,0),FALSE)","v":0},0,0,"N/A",0,0]
["Fair Hydro Plan - Distribution Rate Protection Savings*",null,null,{"$f":"IF(AND(B3<>\"R1\",B3<>\"R2\"),0,IF(VLOOKUP($A27,'Data Pass Through'!$A:$D,2,FALSE)=0,0,IF(SUM(D19:D20,D23:D24)<VLOOKUP($A27,'Data Pass Through'!$A:$D,2,FALSE),0,VLOOKUP($A27,'Data Pass Through'!$A:$D,2,FALSE)-SUM(D19:D20,D23:D24))))","v":0},null,null,{"$f":"IF(AND(B3<>\"R1\",B3<>\"R2\"),0,IF(VLOOKUP($A27,'Data Pass Through'!$A:$D,2,FALSE)=0,0,IF(SUM(G19:G20,G23:G24)<VLOOKUP($A27,'Data Pass Through'!$A:$D,2,FALSE),0,VLOOKUP($A27,'Data Pass Through'!$A:$D,2,FALSE)-SUM(G19:G20,G23:G24))))","v":0},0,"N/A",0,0]
["Sub-Total:  Distribution (excluding pass through)",null,null,{"$f":"SUM(INDIRECT(\"D19:D\"&ROW()-1))","v":51.769999999999996},null,null,{"$f":"SUM(INDIRECT(\"g19:g\"&ROW()-1))","v":53.559999999999995},{"$f":"G28-D28","v":1.7899999999999991},3.4576009271779007E-2,0.95865537996941019,0.95303679787675877]
["Smart Metering Entity Charge",1,{"$f":"VLOOKUP($A29,'Data Pass Through'!$A:$D,2,FALSE)","v":0.56999999999999995},{"$f":"B29*C29","v":0.56999999999999995},1,{"$f":"VLOOKUP($A29,'Data Pass Through'!$A:$D,3,FALSE)","v":0.56999999999999995},{"$f":"E29*F29","v":0.56999999999999995},0,0,1.0202269727082968E-2,1.0142475257463639E-2]
["Line Losses on Cost of Power (based on two-tier RPP prices)",{"$f":"B8-B4","v":5.2000000000000028},{"$f":"IF(B4>B7,C13,C12)","v":0.10100000000000001},{"$f":"B30*C30","v":0.52520000000000033},5.2000000000000028,{"$f":"IF(B4>B7,F13,F12)","v":0.10100000000000001},{"$f":"E30*F30","v":0.52520000000000033},0,0,9.400407123971893E-3,9.3453122898594851E-3]
["Line Losses on Cost of Power (based on TOU prices)",{"$f":"B8-B4","v":5.2000000000000028},{"$f":"VLOOKUP($B$3,'Data Billing Quantities'!$A:$O,MATCH(BI_Seas_Low!$A15,'Data Billing Quantities'!$4:$4,0),FALSE)*C15+VLOOKUP($B$3,'Data Billing Quantities'!$A:$O,MATCH(BI_Seas_Low!$A16,'Data Billing Quantities'!$4:$4,0),FALSE)*C16+VLOOKUP($B$3,'Data Billing Quantities'!$A:$O,MATCH(BI_Seas_Low!$A17,'Data Billing Quantities'!$4:$4,0),FALSE)*C17","v":0.1075},{"$f":"B31*C31","v":0.55900000000000027},5.2000000000000028,{"$f":"VLOOKUP($B$3,'Data Billing Quantities'!$A:$O,MATCH(BI_Seas_Low!$A15,'Data Billing Quantities'!$4:$4,0),FALSE)*F15+VLOOKUP($B$3,'Data Billing Quantities'!$A:$O,MATCH(BI_Seas_Low!$A16,'Data Billing Quantities'!$4:$4,0),FALSE)*F16+VLOOKUP($B$3,'Data Billing Quantities'!$A:$O,MATCH(BI_Seas_Low!$A17,'Data Billing Quantities'!$4:$4,0),FALSE)*F17","v":0.1075},{"$f":"E31*F31","v":0.55900000000000027},0,0,1.0005383820069092E-2,9.9467432788108382E-3]
["Sub-Total:  Distribution (based on two-tier RPP prices)",null,null,{"$f":"SUM(D28,D29:D30)","v":52.865199999999994},null,null,{"$f":"SUM(G28,G29:G30)","v":54.655199999999994},1.7899999999999991,3.3859703547891605E-2,0.97825805682046496,0.97252458542408182]
["Sub-Total:  Distribution (based on TOU prices)",null,null,{"$f":"SUM(D28,D29,D31)","v":52.898999999999994},null,null,{"$f":"SUM(G28,G29,G31)","v":54.688999999999993},1.7899999999999991,3.3838068772566579E-2,0.97886303351656223,0.9731260164130332]
["Retail Transmission Rate – Network Service Rate",{"$f":"B8","v":55.2},{"$f":"VLOOKUP($B$3,'Data Current Rates'!$A:$BE,MATCH(BI_Seas_Low!$A34,CurrentHeader,0),FALSE)","v":6.4000000000000003E-3},{"$f":"B34*C34","v":0.35328000000000004},55.2,{"$f":"VLOOKUP($B$3,'Data Proposed Rates'!$A:$BC,MATCH(BI_Seas_Low!$A34,ProposedHeader,0),FALSE)","v":6.4000000000000003E-3},{"$f":"E34*F34","v":0.35328000000000004},{"$f":"G34-D34","v":0},0,6.3232593845331088E-3,6.2861994016785178E-3]
["Retail Transmission Rate – Line and Transformation Connection Service Rate",{"$f":"B8","v":55.2},{"$f":"VLOOKUP($B$3,'Data Current Rates'!$A:$BE,MATCH(BI_Seas_Low!$A35,CurrentHeader,0),FALSE)","v":6.1000000000000004E-3},{"$f":"B35*C35","v":0.33672000000000002},55.2,{"$f":"VLOOKUP($B$3,'Data Proposed Rates'!$A:$BC,MATCH(BI_Seas_Low!$A35,ProposedHeader,0),FALSE)","v":6.1000000000000004E-3},{"$f":"E35*F35","v":0.33672000000000002},{"$f":"G35-D35","v":0},0,6.026856600883119E-3,5.9915338047248365E-3]
["Sub-Total:  Retail Transmission ",null,null,{"$f":"SUM(D34:D35)","v":0.69000000000000006},null,null,{"$f":"SUM(G34:G35)","v":0.69000000000000006},{"$f":"G36-D36","v":0},0,1.2350115985416228E-2,1.2277733206403353E-2]
["Sub-Total:  Delivery (based on two-tier RPP prices)",null,null,{"$f":"D32+D36","v":53.555199999999992},null,null,{"$f":"G32+G36","v":55.345199999999991},{"$f":"G37-D37","v":1.7899999999999991},3.34234584130019E-2,0.9906081728058812,0.98480231863048517]
["Sub-Total:  Delivery (based on TOU prices)",null,null,{"$f":"D33+D36","v":53.588999999999992},null,null,{"$f":"G33+G36","v":55.378999999999991},{"$f":"G38-D38","v":1.7899999999999991},3.3402377353561358E-2,0.99121314950197836,0.98540374961943655]
["Wholesale Market Service Rate (WMS) - not including CBR",{"$f":"B8","v":55.2},{"$f":"VLOOKUP($A39,'Data Pass Through'!$A:$D,2,FALSE)","v":3.0000000000000001E-3},{"$f":"B39*C39","v":0.16560000000000002},{"$f":"$B$8","v":55.2},{"$f":"VLOOKUP($A39,'Data Pass Through'!$A:$D,3,FALSE)","v":3.0000000000000001E-3},{"$f":"E39*F39","v":0.16560000000000002},0,0,2.9640278364998947E-3,2.9466559695368053E-3]
["Capacity Based Recovery (CBR) - Applicable for Class B Customers",{"$f":"B8","v":55.2},{"$f":"VLOOKUP($A40,'Data Pass Through'!$A:$D,2,FALSE)","v":4.0000000000000002E-4},{"$f":"B40*C40","v":2.2080000000000002E-2},{"$f":"$B$8","v":55.2},{"$f":"VLOOKUP($A40,'Data Pass Through'!$A:$D,3,FALSE)","v":4.0000000000000002E-4},{"$f":"E40*F40","v":2.2080000000000002E-2},0,0,3.952037115333193E-4,3.9288746260490736E-4]
["Rural Rate Protection Charge",{"$f":"B8","v":55.2},{"$f":"VLOOKUP($A41,'Data Pass Through'!$A:$D,2,FALSE)","v":5.0000000000000001E-4},2.7600000000000003E-2,55.2,{"$f":"VLOOKUP($A41,'Data Pass Through'!$A:$D,3,FALSE)","v":5.0000000000000001E-4},2.7600000000000003E-2,0,0,4.9400463941664911E-4,4.9110932825613418E-4]
["Standard Supply Service – Administration Charge (if applicable)",1,{"$f":"VLOOKUP($A42,'Data Pass Through'!$A:$D,2,FALSE)","v":0.25},{"$f":"B42*C42","v":0.25},1,{"$f":"VLOOKUP($A42,'Data Pass Through'!$A:$D,3,FALSE)","v":0.25},0.25,0,0,4.4746797048609514E-3,4.44845406029107E-3]
["Sub-Total:  Regulatory",null,null,{"$f":"SUM(D39:D42)","v":0.46528000000000003},null,null,{"$f":"SUM(G39:G42)","v":0.46528000000000003},0,0,8.3279158923108138E-3,8.2791068206889175E-3]
["Debt Retirement Charge (DRC)",{"$f":"B4","v":50},{"$f":"VLOOKUP($A44,'Data Pass Through'!$A:$D,2,FALSE)","v":0},{"$f":"B44*C44","v":0},50,{"$f":"VLOOKUP($A44,'Data Pass Through'!$A:$D,3,FALSE)","v":0},{"$f":"E44*F44","v":0},0,"N/A",0,0]
["Total  Electricty Charge on Two-Tier RPP ",null,null,{"$f":"SUM(D14,D28,D29,D30,D36,D43,D44)","v":59.070479999999989},null,null,{"$f":"SUM(G14,G28,G29,G30,G36,G43,G44)","v":60.860479999999995},1.7900000000000063,3.0302784064053765E-2,1.0893246187363832]
["     HST",null,0.13,{"$f":"D45*C46","v":7.6791623999999992},null,{"$f":"C46","v":0.13},{"$f":"G45*F46","v":7.9118623999999995},0.23270000000000035,3.0302784064053703E-2,0.14161220043572983]
["Total Electricity Charge on Two-Tier RPP (including HST)",null,null,{"$f":"SUM(D45:D46)","v":66.749642399999985},null,null,{"$f":"SUM(G45:G46)","v":68.772342399999999},2.0227000000000146,3.030278406405388E-2,1.2309368191721133]
["Ontario Electricity Rebate (OER)",null,{"$f":"'Data Pass Through'!B20","v":-0.21199999999999999},{"$f":"D45*C48","v":-12.522941759999997},null,{"$f":"'Data Pass Through'!C20","v":-0.21199999999999999},{"$f":"G45*F48","v":-12.902421759999999},-0.3794800000000027,-3.0302784064053876E-2,-0.23093681917211326]
["Total Amount on Two-Tier RPP",null,null,{"$f":"SUM(D47:D48)","v":54.22670063999999},null,null,{"$f":"SUM(G47:G48)","v":55.869920640000004},1.6432200000000137,3.0302784064053911E-2,1]
["Total Electricty Charge on TOU (before HST)",null,null,{"$f":"SUM(D18,D28,D29,D31,D36,D43,D44)","v":59.429279999999991},null,null,{"$f":"SUM(G18,G28,G29,G31,G36,G43,G44)","v":61.219279999999991},1.7899999999999991,3.0119833186604304E-2,null,{"$f":"G50/$G$54","v":1.0893246187363834}]
["     HST",null,0.13,{"$f":"D50*C51","v":7.7258063999999989},null,{"$f":"C51","v":0.13},{"$f":"G50*F51","v":7.9585063999999992},0.23270000000000035,3.0119833186604363E-2,null,{"$f":"G51/$G$54","v":0.14161220043572986}]
["Total Electricity Charge on TOU (including HST)",null,null,{"$f":"SUM(D50:D51)","v":67.155086399999988},null,null,{"$f":"SUM(G50:G51)","v":69.177786399999988},2.0227000000000004,3.0119833186604324E-2,null,{"$f":"G52/$G$54","v":1.2309368191721133}]
["Ontario Electricity Rebate (OER)",null,{"$f":"'Data Pass Through'!B20","v":-0.21199999999999999},{"$f":"D50*C53","v":-12.599007359999998},null,{"$f":"'Data Pass Through'!C20","v":-0.21199999999999999},{"$f":"G50*F53","v":-12.978487359999997},-0.37947999999999915,-3.0119833186604252E-2,null,{"$f":"G53/$G$54","v":-0.23093681917211328}]
["Total Amount on TOU",null,null,{"$f":"SUM(D52:D53)","v":54.556079039999986},null,null,{"$f":"SUM(G52:G53)","v":56.199299039999993},1.6432200000000066,3.0119833186604442E-2,null,{"$f":"G54/$G$54","v":1}]
["* Distribution rate protection applies to R1 and R2 customers"]

{"sheet":"BI_Seas_Avg","index":32,"n_rows":55,"n_cols":11,"rows_kept":55,"cut":false,"hidden":false,"merged":[[0,0,0,10]]}
["2021 Bill Impacts (Average Consumption Level) - Seasonal"]
[]
["Rate Class",{"$f":"RIGHT(A1,LEN(A1)-FIND(\"- \",A1,1)-1)","v":"Seasonal"}]
["Monthly Consumption (kWh)",{"$f":"IF(COUNTIF(A1,\"*Low*\")>0,VLOOKUP(B3,'Data Billing Quantities'!$A:$Z,MATCH(\"Low kWh\",'Data Billing Quantities'!4:4,0),FALSE),IF(COUNTIF(A1,\"*Typical*\")>0,VLOOKUP(B3,'Data Billing Quantities'!$A:$Z,MATCH(\"Typical kWh\",'Data Billing Quantities'!4:4,0),FALSE),IF(COUNTIF(A1,\"*Average*\")>0,VLOOKUP(B3,'Data Billing Quantities'!$A:$Z,MATCH(\"Average kWh\",'Data Billing Quantities'!4:4,0),FALSE),IF(COUNTIF(A1,\"*High*\")>0,VLOOKUP(B3,'Data Billing Quantities'!$A:$Z,MATCH(\"High kWh\",'Data Billing Quantities'!4:4,0),FALSE),\"error\"))))","v":352}]
["Peak (kW)",{"$f":"IF(COUNTIF(A1,\"*Low*\")>0,VLOOKUP(B3,'Data Billing Quantities'!$A:$Z,MATCH(\"Low kW\",'Data Billing Quantities'!4:4,0),FALSE),IF(COUNTIF(A1,\"*Typical*\")>0,VLOOKUP(B3,'Data Billing Quantities'!$A:$Z,MATCH(\"Typical kW\",'Data Billing Quantities'!4:4,0),FALSE),IF(COUNTIF(A1,\"*Average*\")>0,VLOOKUP(B3,'Data Billing Quantities'!$A:$Z,MATCH(\"Average kW\",'Data Billing Quantities'!4:4,0),FALSE),IF(COUNTIF(A1,\"*High*\")>0,VLOOKUP(B3,'Data Billing Quantities'!$A:$Z,MATCH(\"High kW\",'Data Billing Quantities'!4:4,0),FALSE),\"error\"))))","v":0}]
["Loss factor",{"$f":"VLOOKUP(B3,'Data Billing Quantities'!A:D,MATCH(A6,'Data Billing Quantities'!4:4,0),FALSE)","v":1.1040000000000001}]
["Commodity Threshold",{"$f":"VLOOKUP(B3,'Data Billing Quantities'!A:D,MATCH(A7,'Data Billing Quantities'!4:4,0),FALSE)","v":600}]
["Monthly Consumption (kWh) - Uplifted",{"$f":"B4*B6","v":388.60800000000006}]
["Charge determinant",{"$f":"VLOOKUP(B3,'Data Billing Quantities'!A:D,MATCH(A9,'Data Billing Quantities'!4:4,0),FALSE)","v":"kWh"}]
[]
[null,"Volume","Current Rate ($)","Current Charge ($)","Volume","Proposed Rate ($)","Proposed Charge ($)","Change ($)","Change (%)","% of Total Bill on RPP","% of Total Bill on TOU"]
["Energy First Tier",{"$f":"IF(B4>B7,B7,B4)","v":352},{"$f":"VLOOKUP($A12,'Data Pass Through'!$A:$D,2,FALSE)","v":0.10100000000000001},{"$f":"B12*C12","v":35.552},{"$f":"B12","v":352},{"$f":"VLOOKUP($A12,'Data Pass Through'!$A:$D,3,FALSE)","v":0.10100000000000001},{"$f":"E12*F12","v":35.552},{"$f":"G12-D12","v":0},{"$f":"IF(ISERROR(H12/ABS(D12)),\"N/A\",(H12/ABS(D12)))","v":0},{"$f":"G12/$G$49","v":0.34386027405354702}]
["Energy Second Tier",{"$f":"IF(B4>B7,(B4)-B7,0)","v":0},{"$f":"VLOOKUP($A13,'Data Pass Through'!$A:$D,2,FALSE)","v":0.11799999999999999},{"$f":"B13*C13","v":0},{"$f":"B13","v":0},{"$f":"VLOOKUP($A13,'Data Pass Through'!$A:$D,3,FALSE)","v":0.11799999999999999},{"$f":"E13*F13","v":0},0,"N/A",{"$f":"G13/$G$49","v":0}]
["Sub-Total:  Energy (RPP Tiered)",null,null,{"$f":"SUM(D12:D13)","v":35.552},null,null,{"$f":"SUM(G12:G13)","v":35.552},0,0,{"$f":"G14/$G$49","v":0.34386027405354702}]
["TOU-Off Peak",{"$f":"B$4*VLOOKUP($B$3,'Data Billing Quantities'!$A:$O,MATCH(BI_Seas_Avg!$A15,'Data Billing Quantities'!$4:$4,0),FALSE)","v":225.28},{"$f":"VLOOKUP($A15,'Data Pass Through'!$A:$D,2,FALSE)","v":8.5000000000000006E-2},{"$f":"B15*C15","v":19.148800000000001},225.28,{"$f":"VLOOKUP($A15,'Data Pass Through'!$A:$D,3,FALSE)","v":8.5000000000000006E-2},{"$f":"E15*F15","v":19.148800000000001},0,0,null,{"$f":"G15/$G$54","v":0.1811452297224983}]
["TOU-Mid Peak",{"$f":"B$4*VLOOKUP($B$3,'Data Billing Quantities'!$A:$O,MATCH(BI_Seas_Avg!$A16,'Data Billing Quantities'!$4:$4,0),FALSE)","v":63.36},{"$f":"VLOOKUP($A16,'Data Pass Through'!$A:$D,2,FALSE)","v":0.11899999999999999},{"$f":"B16*C16","v":7.5398399999999999},63.36,{"$f":"VLOOKUP($A16,'Data Pass Through'!$A:$D,3,FALSE)","v":0.11899999999999999},{"$f":"E16*F16","v":7.5398399999999999},0,0,null,7.1325934203233701E-2]
["TOU-On Peak",{"$f":"B$4*VLOOKUP($B$3,'Data Billing Quantities'!$A:$O,MATCH(BI_Seas_Avg!$A17,'Data Billing Quantities'!$4:$4,0),FALSE)","v":63.36},{"$f":"VLOOKUP($A17,'Data Pass Through'!$A:$D,2,FALSE)","v":0.17599999999999999},{"$f":"B17*C17","v":11.151359999999999},63.36,{"$f":"VLOOKUP($A17,'Data Pass Through'!$A:$D,3,FALSE)","v":0.17599999999999999},{"$f":"E17*F17","v":11.151359999999999},0,0,null,0.10549045730898428]
["Sub-Total:  Energy (RPP TOU)",null,null,{"$f":"SUM(D15:D17)","v":37.839999999999996},null,null,{"$f":"SUM(G15:G17)","v":37.839999999999996},0,0,{"$f":"G18/$G$49","v":0.3659898956510525},0.35796162123471625]
["Service Charge",1,{"$f":"IF(ISERROR(VLOOKUP($B$3,'Data Current Rates'!$A:$BE,MATCH(BI_Seas_Avg!$A19,CurrentHeader,0),FALSE)),0,VLOOKUP($B$3,'Data Current Rates'!$A:$BE,MATCH(BI_Seas_Avg!$A19,CurrentHeader,0),FALSE))","v":50.72},{"$f":"B19*C19","v":50.72},1,{"$f":"VLOOKUP($B$3,'Data Proposed Rates'!$A:$BC,MATCH(BI_Seas_Avg!$A19,ProposedHeader,0),FALSE)","v":50.72},{"$f":"E19*F19","v":50.72},0,0,0.49056573751113591,0.47980479463596215]
["Base Rate Adjustment to Recover Past Tax Amounts FIXED",null,null,null,1,{"$f":"VLOOKUP($B$3,'Data Proposed Rates'!$A:$BC,MATCH(BI_Seas_Avg!$A20,ProposedHeader,0),FALSE)","v":1.79},1.79,1.79,"N/A",1.7312946966579916E-2,1.6933173943185574E-2]
["Fixed Deferral/Variance Account Rider (General)",1,{"$f":"IF(ISERROR(VLOOKUP($B$3,'Data Current Rates'!$A:$BE,MATCH(BI_Seas_Avg!$A21,CurrentHeader,0),FALSE)),0,VLOOKUP($B$3,'Data Current Rates'!$A:$BE,MATCH(BI_Seas_Avg!$A21,CurrentHeader,0),FALSE))","v":-0.14000000000000001},-0.14000000000000001,1,{"$f":"VLOOKUP($B$3,'Data Proposed Rates'!$A:$BC,MATCH(BI_Seas_Avg!$A21,ProposedHeader,0),FALSE)","v":-0.14000000000000001},-0.14000000000000001,0,0,-1.3540852376096024E-3,-1.3243823195787602E-3]
["Fixed ESM Rider",1,{"$f":"IF(ISERROR(VLOOKUP($B$3,'Data Current Rates'!$A:$BE,MATCH(BI_Seas_Avg!$A22,CurrentHeader,0),FALSE)),0,VLOOKUP($B$3,'Data Current Rates'!$A:$BE,MATCH(BI_Seas_Avg!$A22,CurrentHeader,0),FALSE))","v":-0.9},-0.9,1,{"$f":"VLOOKUP($B$3,'Data Proposed Rates'!$A:$BC,MATCH(BI_Seas_Avg!$A22,ProposedHeader,0),FALSE)","v":-0.9},-0.9,0,0,-8.7048336703474446E-3,-8.513886340149171E-3]
["Distribution Volumetric Charge",{"$f":"IF($B$9=\"kWh\",$B$4,$B$5)","v":352},{"$f":"IF(ISERROR(VLOOKUP($B$3,'Data Current Rates'!$A:$BE,MATCH(BI_Seas_Avg!$A23,CurrentHeader,0),FALSE)),0,VLOOKUP($B$3,'Data Current Rates'!$A:$BE,MATCH(BI_Seas_Avg!$A23,CurrentHeader,0),FALSE))","v":4.41E-2},15.523199999999999,{"$f":"IF($B$9=\"kWh\",$B$4,$B$5)","v":352},{"$f":"VLOOKUP($B$3,'Data Proposed Rates'!$A:$BC,MATCH(BI_Seas_Avg!$A23,ProposedHeader,0),FALSE)","v":4.41E-2},15.523199999999999,0,0,0.15014097114615271,0.1468475115948929]
["Base Rate Adjustment to Recover Past Tax Amounts VOL"]
["Volumetric Deferral/Variance Account Rider (General)",{"$f":"IF($B$9=\"kWh\",$B$4,$B$5)","v":352},{"$f":"IF(ISERROR(VLOOKUP($B$3,'Data Current Rates'!$A:$BE,MATCH(BI_Seas_Avg!$A25,CurrentHeader,0),FALSE)),0,VLOOKUP($B$3,'Data Current Rates'!$A:$BE,MATCH(BI_Seas_Avg!$A25,CurrentHeader,0),FALSE))","v":-2.3E-3},-0.80959999999999999,{"$f":"IF($B$9=\"kWh\",$B$4,$B$5)","v":352},{"$f":"VLOOKUP($B$3,'Data Proposed Rates'!$A:$BC,MATCH(BI_Seas_Avg!$A25,ProposedHeader,0),FALSE)","v":-2.3E-3},-0.80959999999999999,0,0,-7.8304814883481001E-3,-7.658713756649743E-3]
["Volumetric ESM Rider",352,{"$f":"IF(ISERROR(VLOOKUP($B$3,'Data Current Rates'!$A:$BE,MATCH(BI_Seas_Avg!$A26,CurrentHeader,0),FALSE)),0,VLOOKUP($B$3,'Data Current Rates'!$A:$BE,MATCH(BI_Seas_Avg!$A26,CurrentHeader,0),FALSE))","v":0},0,352,{"$f":"VLOOKUP($B$3,'Data Proposed Rates'!$A:$BC,MATCH(BI_Seas_Avg!$A26,ProposedHeader,0),FALSE)","v":0},0,0,"N/A",0,0]
["Fair Hydro Plan - Distribution Rate Protection Savings*",null,null,{"$f":"IF(AND(B3<>\"R1\",B3<>\"R2\"),0,IF(VLOOKUP($A27,'Data Pass Through'!$A:$D,2,FALSE)=0,0,IF(SUM(D19:D20,D23:D24)<VLOOKUP($A27,'Data Pass Through'!$A:$D,2,FALSE),0,VLOOKUP($A27,'Data Pass Through'!$A:$D,2,FALSE)-SUM(D19:D20,D23:D24))))","v":0},null,null,{"$f":"IF(AND(B3<>\"R1\",B3<>\"R2\"),0,IF(VLOOKUP($A27,'Data Pass Through'!$A:$D,2,FALSE)=0,0,IF(SUM(G19:G20,G23:G24)<VLOOKUP($A27,'Data Pass Through'!$A:$D,2,FALSE),0,VLOOKUP($A27,'Data Pass Through'!$A:$D,2,FALSE)-SUM(G19:G20,G23:G24))))","v":0},0,"N/A",0,0]
["Sub-Total:  Distribution (excluding pass through)",null,null,{"$f":"SUM(INDIRECT(\"D19:D\"&ROW()-1))","v":64.393599999999992},null,null,{"$f":"SUM(INDIRECT(\"g19:g\"&ROW()-1))","v":66.183599999999998},{"$f":"G28-D28","v":1.7900000000000063},2.7797793569547386E-2,0.64013025522756339,0.62608849775766295]
["Smart Metering Entity Charge",1,{"$f":"VLOOKUP($A29,'Data Pass Through'!$A:$D,2,FALSE)","v":0.56999999999999995},{"$f":"B29*C29","v":0.56999999999999995},1,{"$f":"VLOOKUP($A29,'Data Pass Through'!$A:$D,3,FALSE)","v":0.56999999999999995},{"$f":"E29*F29","v":0.56999999999999995},0,0,5.5130613245533804E-3,5.3921280154278078E-3]
["Line Losses on Cost of Power (based on two-tier RPP prices)",{"$f":"B8-B4","v":36.608000000000061},{"$f":"IF(B4>B7,C13,C12)","v":0.10100000000000001},{"$f":"B30*C30","v":3.6974080000000065},36.608000000000061,{"$f":"IF(B4>B7,F13,F12)","v":0.10100000000000001},{"$f":"E30*F30","v":3.6974080000000065},0,0,3.5761468501568951E-2,3.4977012739064804E-2]
["Line Losses on Cost of Power (based on TOU prices)",{"$f":"B8-B4","v":36.608000000000061},{"$f":"VLOOKUP($B$3,'Data Billing Quantities'!$A:$O,MATCH(BI_Seas_Avg!$A15,'Data Billing Quantities'!$4:$4,0),FALSE)*C15+VLOOKUP($B$3,'Data Billing Quantities'!$A:$O,MATCH(BI_Seas_Avg!$A16,'Data Billing Quantities'!$4:$4,0),FALSE)*C16+VLOOKUP($B$3,'Data Billing Quantities'!$A:$O,MATCH(BI_Seas_Avg!$A17,'Data Billing Quantities'!$4:$4,0),FALSE)*C17","v":0.1075},{"$f":"B31*C31","v":3.9353600000000064},36.608000000000061,{"$f":"VLOOKUP($B$3,'Data Billing Quantities'!$A:$O,MATCH(BI_Seas_Avg!$A15,'Data Billing Quantities'!$4:$4,0),FALSE)*F15+VLOOKUP($B$3,'Data Billing Quantities'!$A:$O,MATCH(BI_Seas_Avg!$A16,'Data Billing Quantities'!$4:$4,0),FALSE)*F16+VLOOKUP($B$3,'Data Billing Quantities'!$A:$O,MATCH(BI_Seas_Avg!$A17,'Data Billing Quantities'!$4:$4,0),FALSE)*F17","v":0.1075},{"$f":"E31*F31","v":3.9353600000000064},0,0,3.8062949147709524E-2,3.7228008608410551E-2]
["Sub-Total:  Distribution (based on two-tier RPP prices)",null,null,{"$f":"SUM(D28,D29:D30)","v":68.661007999999995},null,null,{"$f":"SUM(G28,G29:G30)","v":70.451008000000002},1.7900000000000063,2.6070109544561397E-2,0.68140478505368574,0.66645763851215556]
["Sub-Total:  Distribution (based on TOU prices)",null,null,{"$f":"SUM(D28,D29,D31)","v":68.898959999999988},null,null,{"$f":"SUM(G28,G29,G31)","v":70.688959999999994},1.7900000000000063,2.5980072848704922E-2,0.68370626569982618,0.66870863438150119]
["Retail Transmission Rate – Network Service Rate",{"$f":"B8","v":388.60800000000006},{"$f":"VLOOKUP($B$3,'Data Current Rates'!$A:$BE,MATCH(BI_Seas_Avg!$A34,CurrentHeader,0),FALSE)","v":6.4000000000000003E-3},{"$f":"B34*C34","v":2.4870912000000005},388.60800000000006,{"$f":"VLOOKUP($B$3,'Data Proposed Rates'!$A:$BC,MATCH(BI_Seas_Avg!$A34,ProposedHeader,0),FALSE)","v":6.4000000000000003E-3},{"$f":"E34*F34","v":2.4870912000000005},{"$f":"G34-D34","v":0},0,2.4055239132205371E-2,2.3527568660428017E-2]
["Retail Transmission Rate – Line and Transformation Connection Service Rate",{"$f":"B8","v":388.60800000000006},{"$f":"VLOOKUP($B$3,'Data Current Rates'!$A:$BE,MATCH(BI_Seas_Avg!$A35,CurrentHeader,0),FALSE)","v":6.1000000000000004E-3},{"$f":"B35*C35","v":2.3705088000000005},388.60800000000006,{"$f":"VLOOKUP($B$3,'Data Proposed Rates'!$A:$BC,MATCH(BI_Seas_Avg!$A35,ProposedHeader,0),FALSE)","v":6.1000000000000004E-3},{"$f":"E35*F35","v":2.3705088000000005},{"$f":"G35-D35","v":0},0,2.2927649797883243E-2,2.2424713879470454E-2]
["Sub-Total:  Retail Transmission ",null,null,{"$f":"SUM(D34:D35)","v":4.8576000000000015},null,null,{"$f":"SUM(G34:G35)","v":4.8576000000000015},{"$f":"G36-D36","v":0},0,4.6982888930088618E-2,4.5952282539898477E-2]
["Sub-Total:  Delivery (based on two-tier RPP prices)",null,null,{"$f":"D32+D36","v":73.518608},null,null,{"$f":"G32+G36","v":75.308608000000007},{"$f":"G37-D37","v":1.7900000000000063},2.4347577418767318E-2,0.72838767398377435,0.71240992105205403]
["Sub-Total:  Delivery (based on TOU prices)",null,null,{"$f":"D33+D36","v":73.756559999999993},null,null,{"$f":"G33+G36","v":75.546559999999999},{"$f":"G38-D38","v":1.7900000000000063},2.4269027731228333E-2,0.73068915462991491,0.71466091692139977]
["Wholesale Market Service Rate (WMS) - not including CBR",{"$f":"B8","v":388.60800000000006},{"$f":"VLOOKUP($A39,'Data Pass Through'!$A:$D,2,FALSE)","v":3.0000000000000001E-3},{"$f":"B39*C39","v":1.1658240000000002},{"$f":"$B$8","v":388.60800000000006},{"$f":"VLOOKUP($A39,'Data Pass Through'!$A:$D,3,FALSE)","v":3.0000000000000001E-3},{"$f":"E39*F39","v":1.1658240000000002},0,0,1.1275893343221266E-2,1.1028547809575632E-2]
["Capacity Based Recovery (CBR) - Applicable for Class B Customers",{"$f":"B8","v":388.60800000000006},{"$f":"VLOOKUP($A40,'Data Pass Through'!$A:$D,2,FALSE)","v":4.0000000000000002E-4},{"$f":"B40*C40","v":0.15544320000000003},{"$f":"$B$8","v":388.60800000000006},{"$f":"VLOOKUP($A40,'Data Pass Through'!$A:$D,3,FALSE)","v":4.0000000000000002E-4},{"$f":"E40*F40","v":0.15544320000000003},0,0,1.5034524457628357E-3,1.470473041276751E-3]
["Rural Rate Protection Charge",{"$f":"B8","v":388.60800000000006},{"$f":"VLOOKUP($A41,'Data Pass Through'!$A:$D,2,FALSE)","v":5.0000000000000001E-4},0.19430400000000003,388.60800000000006,{"$f":"VLOOKUP($A41,'Data Pass Through'!$A:$D,3,FALSE)","v":5.0000000000000001E-4},0.19430400000000003,0,0,1.8793155572035445E-3,1.8380913015959388E-3]
["Standard Supply Service – Administration Charge (if applicable)",1,{"$f":"VLOOKUP($A42,'Data Pass Through'!$A:$D,2,FALSE)","v":0.25},{"$f":"B42*C42","v":0.25},1,{"$f":"VLOOKUP($A42,'Data Pass Through'!$A:$D,3,FALSE)","v":0.25},0.25,0,0,2.4180093528742902E-3,2.3649684278192144E-3]
["Sub-Total:  Regulatory",null,null,{"$f":"SUM(D39:D42)","v":1.7655712000000003},null,null,{"$f":"SUM(G39:G42)","v":1.7655712000000003},0,0,1.7076670699061939E-2,1.6702080580267537E-2]
["Debt Retirement Charge (DRC)",{"$f":"B4","v":352},{"$f":"VLOOKUP($A44,'Data Pass Through'!$A:$D,2,FALSE)","v":0},{"$f":"B44*C44","v":0},352,{"$f":"VLOOKUP($A44,'Data Pass Through'!$A:$D,3,FALSE)","v":0},{"$f":"E44*F44","v":0},0,"N/A",0,0]
["Total  Electricty Charge on Two-Tier RPP ",null,null,{"$f":"SUM(D14,D28,D29,D30,D36,D43,D44)","v":110.83617919999999},null,null,{"$f":"SUM(G14,G28,G29,G30,G36,G43,G44)","v":112.62617920000001},1.7900000000000205,1.614996125741603E-2,1.0893246187363834]
["     HST",null,0.13,{"$f":"D45*C46","v":14.408703295999999},null,{"$f":"C46","v":0.13},{"$f":"G45*F46","v":14.641403296000002},0.23270000000000302,1.6149961257416055E-2,0.14161220043572983]
["Total Electricity Charge on Two-Tier RPP (including HST)",null,null,{"$f":"SUM(D45:D46)","v":125.24488249599999},null,null,{"$f":"SUM(G45:G46)","v":127.26758249600002},2.0227000000000288,1.6149961257416079E-2,1.2309368191721133]
["Ontario Electricity Rebate (OER)",null,{"$f":"'Data Pass Through'!B20","v":-0.21199999999999999},{"$f":"D45*C48","v":-23.497269990399996},null,{"$f":"'Data Pass Through'!C20","v":-0.21199999999999999},{"$f":"G45*F48","v":-23.8767499904},-0.37948000000000448,-1.6149961257416041E-2,-0.23093681917211326]
["Total Amount on Two-Tier RPP",null,null,{"$f":"SUM(D47:D48)","v":101.74761250559999},null,null,{"$f":"SUM(G47:G48)","v":103.39083250560002},1.6432200000000279,1.6149961257416121E-2,1]
["Total Electricty Charge on TOU (before HST)",null,null,{"$f":"SUM(D18,D28,D29,D31,D36,D43,D44)","v":113.36213119999999},null,null,{"$f":"SUM(G18,G28,G29,G31,G36,G43,G44)","v":115.15213119999999},1.789999999999992,1.5790105399853246E-2,null,{"$f":"G50/$G$54","v":1.0893246187363834}]
["     HST",null,0.13,{"$f":"D50*C51","v":14.737077056},null,{"$f":"C51","v":0.13},{"$f":"G50*F51","v":14.969777055999998},0.23269999999999769,1.5790105399853156E-2,null,{"$f":"G51/$G$54","v":0.14161220043572983}]
["Total Electricity Charge on TOU (including HST)",null,null,{"$f":"SUM(D50:D51)","v":128.099208256},null,null,{"$f":"SUM(G50:G51)","v":130.12190825599998},2.0226999999999862,1.5790105399853208E-2,null,{"$f":"G52/$G$54","v":1.2309368191721133}]
["Ontario Electricity Rebate (OER)",null,{"$f":"'Data Pass Through'!B20","v":-0.21199999999999999},{"$f":"D50*C53","v":-24.032771814399997},null,{"$f":"'Data Pass Through'!C20","v":-0.21199999999999999},{"$f":"G50*F53","v":-24.412251814399998},-0.37948000000000093,-1.5790105399853357E-2,null,{"$f":"G53/$G$54","v":-0.23093681917211328}]
["Total Amount on TOU",null,null,{"$f":"SUM(D52:D53)","v":104.0664364416},null,null,{"$f":"SUM(G52:G53)","v":105.70965644159999},1.6432199999999852,1.5790105399853174E-2,null,{"$f":"G54/$G$54","v":1}]
["* Distribution rate protection applies to R1 and R2 customers"]

{"sheet":"BI_Seas_High","index":33,"n_rows":55,"n_cols":11,"rows_kept":55,"cut":false,"hidden":false,"merged":[[0,0,0,10]]}
["2021 Bill Impacts (High Consumption Level) - Seasonal"]
[]
["Rate Class",{"$f":"RIGHT(A1,LEN(A1)-FIND(\"- \",A1,1)-1)","v":"Seasonal"}]
["Monthly Consumption (kWh)",{"$f":"IF(COUNTIF(A1,\"*Low*\")>0,VLOOKUP(B3,'Data Billing Quantities'!$A:$Z,MATCH(\"Low kWh\",'Data Billing Quantities'!4:4,0),FALSE),IF(COUNTIF(A1,\"*Typical*\")>0,VLOOKUP(B3,'Data Billing Quantities'!$A:$Z,MATCH(\"Typical kWh\",'Data Billing Quantities'!4:4,0),FALSE),IF(COUNTIF(A1,\"*Average*\")>0,VLOOKUP(B3,'Data Billing Quantities'!$A:$Z,MATCH(\"Average kWh\",'Data Billing Quantities'!4:4,0),FALSE),IF(COUNTIF(A1,\"*High*\")>0,VLOOKUP(B3,'Data Billing Quantities'!$A:$Z,MATCH(\"High kWh\",'Data Billing Quantities'!4:4,0),FALSE),\"error\"))))","v":1000}]
["Peak (kW)",{"$f":"IF(COUNTIF(A1,\"*Low*\")>0,VLOOKUP(B3,'Data Billing Quantities'!$A:$Z,MATCH(\"Low kW\",'Data Billing Quantities'!4:4,0),FALSE),IF(COUNTIF(A1,\"*Typical*\")>0,VLOOKUP(B3,'Data Billing Quantities'!$A:$Z,MATCH(\"Typical kW\",'Data Billing Quantities'!4:4,0),FALSE),IF(COUNTIF(A1,\"*Average*\")>0,VLOOKUP(B3,'Data Billing Quantities'!$A:$Z,MATCH(\"Average kW\",'Data Billing Quantities'!4:4,0),FALSE),IF(COUNTIF(A1,\"*High*\")>0,VLOOKUP(B3,'Data Billing Quantities'!$A:$Z,MATCH(\"High kW\",'Data Billing Quantities'!4:4,0),FALSE),\"error\"))))","v":0}]
["Loss factor",{"$f":"VLOOKUP(B3,'Data Billing Quantities'!A:D,MATCH(A6,'Data Billing Quantities'!4:4,0),FALSE)","v":1.1040000000000001}]
["Commodity Threshold",{"$f":"VLOOKUP(B3,'Data Billing Quantities'!A:D,MATCH(A7,'Data Billing Quantities'!4:4,0),FALSE)","v":600}]
["Monthly Consumption (kWh) - Uplifted",{"$f":"B4*B6","v":1104}]
["Charge determinant",{"$f":"VLOOKUP(B3,'Data Billing Quantities'!A:D,MATCH(A9,'Data Billing Quantities'!4:4,0),FALSE)","v":"kWh"}]
[]
[null,"Volume","Current Rate ($)","Current Charge ($)","Volume","Proposed Rate ($)","Proposed Charge ($)","Change ($)","Change (%)","% of Total Bill on RPP","% of Total Bill on TOU"]
["Energy First Tier",{"$f":"IF(B4>B7,B7,B4)","v":600},{"$f":"VLOOKUP($A12,'Data Pass Through'!$A:$D,2,FALSE)","v":0.10100000000000001},{"$f":"B12*C12","v":60.6},{"$f":"B12","v":600},{"$f":"VLOOKUP($A12,'Data Pass Through'!$A:$D,3,FALSE)","v":0.10100000000000001},{"$f":"E12*F12","v":60.6},{"$f":"G12-D12","v":0},{"$f":"IF(ISERROR(H12/ABS(D12)),\"N/A\",(H12/ABS(D12)))","v":0},{"$f":"G12/$G$49","v":0.28421127998663975}]
["Energy Second Tier",{"$f":"IF(B4>B7,(B4)-B7,0)","v":400},{"$f":"VLOOKUP($A13,'Data Pass Through'!$A:$D,2,FALSE)","v":0.11799999999999999},{"$f":"B13*C13","v":47.199999999999996},{"$f":"B13","v":400},{"$f":"VLOOKUP($A13,'Data Pass Through'!$A:$D,3,FALSE)","v":0.11799999999999999},{"$f":"E13*F13","v":47.199999999999996},0,0,{"$f":"G13/$G$49","v":0.22136588144173919}]
["Sub-Total:  Energy (RPP Tiered)",null,null,{"$f":"SUM(D12:D13)","v":107.8},null,null,{"$f":"SUM(G12:G13)","v":107.8},0,0,{"$f":"G14/$G$49","v":0.50557716142837894}]
["TOU-Off Peak",{"$f":"B$4*VLOOKUP($B$3,'Data Billing Quantities'!$A:$O,MATCH(BI_Seas_High!$A15,'Data Billing Quantities'!$4:$4,0),FALSE)","v":640},{"$f":"VLOOKUP($A15,'Data Pass Through'!$A:$D,2,FALSE)","v":8.5000000000000006E-2},{"$f":"B15*C15","v":54.400000000000006},640,{"$f":"VLOOKUP($A15,'Data Pass Through'!$A:$D,3,FALSE)","v":8.5000000000000006E-2},{"$f":"E15*F15","v":54.400000000000006},0,0,null,{"$f":"G15/$G$54","v":0.25667181486159324}]
["TOU-Mid Peak",{"$f":"B$4*VLOOKUP($B$3,'Data Billing Quantities'!$A:$O,MATCH(BI_Seas_High!$A16,'Data Billing Quantities'!$4:$4,0),FALSE)","v":180},{"$f":"VLOOKUP($A16,'Data Pass Through'!$A:$D,2,FALSE)","v":0.11899999999999999},{"$f":"B16*C16","v":21.419999999999998},180,{"$f":"VLOOKUP($A16,'Data Pass Through'!$A:$D,3,FALSE)","v":0.11899999999999999},{"$f":"E16*F16","v":21.419999999999998},0,0,null,0.10106452710175233]
["TOU-On Peak",{"$f":"B$4*VLOOKUP($B$3,'Data Billing Quantities'!$A:$O,MATCH(BI_Seas_High!$A17,'Data Billing Quantities'!$4:$4,0),FALSE)","v":180},{"$f":"VLOOKUP($A17,'Data Pass Through'!$A:$D,2,FALSE)","v":0.17599999999999999},{"$f":"B17*C17","v":31.68},180,{"$f":"VLOOKUP($A17,'Data Pass Through'!$A:$D,3,FALSE)","v":0.17599999999999999},{"$f":"E17*F17","v":31.68},0,0,null,0.14947358630175134]
["Sub-Total:  Energy (RPP TOU)",null,null,{"$f":"SUM(D15:D17)","v":107.5},null,null,{"$f":"SUM(G15:G17)","v":107.5},0,0,{"$f":"G18/$G$49","v":0.50417017489379157},0.50720992826509692]
["Service Charge",1,{"$f":"IF(ISERROR(VLOOKUP($B$3,'Data Current Rates'!$A:$BE,MATCH(BI_Seas_High!$A19,CurrentHeader,0),FALSE)),0,VLOOKUP($B$3,'Data Current Rates'!$A:$BE,MATCH(BI_Seas_High!$A19,CurrentHeader,0),FALSE))","v":50.72},{"$f":"B19*C19","v":50.72},1,{"$f":"VLOOKUP($B$3,'Data Proposed Rates'!$A:$BC,MATCH(BI_Seas_High!$A19,ProposedHeader,0),FALSE)","v":50.72},{"$f":"E19*F19","v":50.72},0,0,0.23787452344756382,0.23930872150330898]
["Base Rate Adjustment to Recover Past Tax Amounts FIXED",null,null,null,1,{"$f":"VLOOKUP($B$3,'Data Proposed Rates'!$A:$BC,MATCH(BI_Seas_High!$A20,ProposedHeader,0),FALSE)","v":1.79},1.79,1.79,"N/A",8.3950196563710427E-3,8.4456350846002191E-3]
["Fixed Deferral/Variance Account Rider (General)",1,{"$f":"IF(ISERROR(VLOOKUP($B$3,'Data Current Rates'!$A:$BE,MATCH(BI_Seas_High!$A21,CurrentHeader,0),FALSE)),0,VLOOKUP($B$3,'Data Current Rates'!$A:$BE,MATCH(BI_Seas_High!$A21,CurrentHeader,0),FALSE))","v":-0.14000000000000001},-0.14000000000000001,1,{"$f":"VLOOKUP($B$3,'Data Proposed Rates'!$A:$BC,MATCH(BI_Seas_High!$A21,ProposedHeader,0),FALSE)","v":-0.14000000000000001},-0.14000000000000001,0,0,-6.5659371614075197E-4,-6.6055246471733559E-4]
["Fixed ESM Rider",1,{"$f":"IF(ISERROR(VLOOKUP($B$3,'Data Current Rates'!$A:$BE,MATCH(BI_Seas_High!$A22,CurrentHeader,0),FALSE)),0,VLOOKUP($B$3,'Data Current Rates'!$A:$BE,MATCH(BI_Seas_High!$A22,CurrentHeader,0),FALSE))","v":-0.9},-0.9,1,{"$f":"VLOOKUP($B$3,'Data Proposed Rates'!$A:$BC,MATCH(BI_Seas_High!$A22,ProposedHeader,0),FALSE)","v":-0.9},-0.9,0,0,-4.220959603761976E-3,-4.2464087017542998E-3]
["Distribution Volumetric Charge",{"$f":"IF($B$9=\"kWh\",$B$4,$B$5)","v":1000},{"$f":"IF(ISERROR(VLOOKUP($B$3,'Data Current Rates'!$A:$BE,MATCH(BI_Seas_High!$A23,CurrentHeader,0),FALSE)),0,VLOOKUP($B$3,'Data Current Rates'!$A:$BE,MATCH(BI_Seas_High!$A23,CurrentHeader,0),FALSE))","v":4.41E-2},44.1,{"$f":"IF($B$9=\"kWh\",$B$4,$B$5)","v":1000},{"$f":"VLOOKUP($B$3,'Data Proposed Rates'!$A:$BC,MATCH(BI_Seas_High!$A23,ProposedHeader,0),FALSE)","v":4.41E-2},44.1,0,0,0.20682702058433686,0.2080740263859607]
["Base Rate Adjustment to Recover Past Tax Amounts VOL"]
["Volumetric Deferral/Variance Account Rider (General)",{"$f":"IF($B$9=\"kWh\",$B$4,$B$5)","v":1000},{"$f":"IF(ISERROR(VLOOKUP($B$3,'Data Current Rates'!$A:$BE,MATCH(BI_Seas_High!$A25,CurrentHeader,0),FALSE)),0,VLOOKUP($B$3,'Data Current Rates'!$A:$BE,MATCH(BI_Seas_High!$A25,CurrentHeader,0),FALSE))","v":-2.3E-3},-2.2999999999999998,{"$f":"IF($B$9=\"kWh\",$B$4,$B$5)","v":1000},{"$f":"VLOOKUP($B$3,'Data Proposed Rates'!$A:$BC,MATCH(BI_Seas_High!$A25,ProposedHeader,0),FALSE)","v":-2.3E-3},-2.2999999999999998,0,0,-1.0786896765169494E-2,-1.0851933348927654E-2]
["Volumetric ESM Rider",1000,{"$f":"IF(ISERROR(VLOOKUP($B$3,'Data Current Rates'!$A:$BE,MATCH(BI_Seas_High!$A26,CurrentHeader,0),FALSE)),0,VLOOKUP($B$3,'Data Current Rates'!$A:$BE,MATCH(BI_Seas_High!$A26,CurrentHeader,0),FALSE))","v":0},0,1000,{"$f":"VLOOKUP($B$3,'Data Proposed Rates'!$A:$BC,MATCH(BI_Seas_High!$A26,ProposedHeader,0),FALSE)","v":0},0,0,"N/A",0,0]
["Fair Hydro Plan - Distribution Rate Protection Savings*",null,null,{"$f":"IF(AND(B3<>\"R1\",B3<>\"R2\"),0,IF(VLOOKUP($A27,'Data Pass Through'!$A:$D,2,FALSE)=0,0,IF(SUM(D19:D20,D23:D24)<VLOOKUP($A27,'Data Pass Through'!$A:$D,2,FALSE),0,VLOOKUP($A27,'Data Pass Through'!$A:$D,2,FALSE)-SUM(D19:D20,D23:D24))))","v":0},null,null,{"$f":"IF(AND(B3<>\"R1\",B3<>\"R2\"),0,IF(VLOOKUP($A27,'Data Pass Through'!$A:$D,2,FALSE)=0,0,IF(SUM(G19:G20,G23:G24)<VLOOKUP($A27,'Data Pass Through'!$A:$D,2,FALSE),0,VLOOKUP($A27,'Data Pass Through'!$A:$D,2,FALSE)-SUM(G19:G20,G23:G24))))","v":0},0,"N/A",0,0]
["Sub-Total:  Distribution (excluding pass through)",null,null,{"$f":"SUM(INDIRECT(\"D19:D\"&ROW()-1))","v":91.48},null,null,{"$f":"SUM(INDIRECT(\"g19:g\"&ROW()-1))","v":93.27},{"$f":"G28-D28","v":1.789999999999992},1.9567118495845998E-2,0.43743211360319945,0.4400694884584706]
["Smart Metering Entity Charge",1,{"$f":"VLOOKUP($A29,'Data Pass Through'!$A:$D,2,FALSE)","v":0.56999999999999995},{"$f":"B29*C29","v":0.56999999999999995},1,{"$f":"VLOOKUP($A29,'Data Pass Through'!$A:$D,3,FALSE)","v":0.56999999999999995},{"$f":"E29*F29","v":0.56999999999999995},0,0,2.6732744157159181E-3,2.6893921777777227E-3]
["Line Losses on Cost of Power (based on two-tier RPP prices)",{"$f":"B8-B4","v":104},{"$f":"IF(B4>B7,C13,C12)","v":0.11799999999999999},{"$f":"B30*C30","v":12.271999999999998},104,{"$f":"IF(B4>B7,F13,F12)","v":0.11799999999999999},{"$f":"E30*F30","v":12.271999999999998},0,0,5.7555129174852185E-2,5.7902141764365291E-2]
["Line Losses on Cost of Power (based on TOU prices)",{"$f":"B8-B4","v":104},{"$f":"VLOOKUP($B$3,'Data Billing Quantities'!$A:$O,MATCH(BI_Seas_High!$A15,'Data Billing Quantities'!$4:$4,0),FALSE)*C15+VLOOKUP($B$3,'Data Billing Quantities'!$A:$O,MATCH(BI_Seas_High!$A16,'Data Billing Quantities'!$4:$4,0),FALSE)*C16+VLOOKUP($B$3,'Data Billing Quantities'!$A:$O,MATCH(BI_Seas_High!$A17,'Data Billing Quantities'!$4:$4,0),FALSE)*C17","v":0.1075},{"$f":"B31*C31","v":11.18},104,{"$f":"VLOOKUP($B$3,'Data Billing Quantities'!$A:$O,MATCH(BI_Seas_High!$A15,'Data Billing Quantities'!$4:$4,0),FALSE)*F15+VLOOKUP($B$3,'Data Billing Quantities'!$A:$O,MATCH(BI_Seas_High!$A16,'Data Billing Quantities'!$4:$4,0),FALSE)*F16+VLOOKUP($B$3,'Data Billing Quantities'!$A:$O,MATCH(BI_Seas_High!$A17,'Data Billing Quantities'!$4:$4,0),FALSE)*F17","v":0.1075},{"$f":"E31*F31","v":11.18},0,0,5.2433698188954325E-2,5.274983253957008E-2]
["Sub-Total:  Distribution (based on two-tier RPP prices)",null,null,{"$f":"SUM(D28,D29:D30)","v":104.322},null,null,{"$f":"SUM(G28,G29:G30)","v":106.11199999999999},1.789999999999992,1.7158413373976649E-2,0.49766051719376758,0.50066102240061361]
["Sub-Total:  Distribution (based on TOU prices)",null,null,{"$f":"SUM(D28,D29,D31)","v":103.22999999999999},null,null,{"$f":"SUM(G28,G29,G31)","v":105.01999999999998},1.789999999999992,1.7339920565726943E-2,0.49253908620786963,0.49550871317581829]
["Retail Transmission Rate – Network Service Rate",{"$f":"B8","v":1104},{"$f":"VLOOKUP($B$3,'Data Current Rates'!$A:$BE,MATCH(BI_Seas_High!$A34,CurrentHeader,0),FALSE)","v":6.4000000000000003E-3},{"$f":"B34*C34","v":7.0656000000000008},1104,{"$f":"VLOOKUP($B$3,'Data Proposed Rates'!$A:$BC,MATCH(BI_Seas_High!$A34,ProposedHeader,0),FALSE)","v":6.4000000000000003E-3},{"$f":"E34*F34","v":7.0656000000000008},{"$f":"G34-D34","v":0},0,3.313734686260069E-2,3.333713924790576E-2]
["Retail Transmission Rate – Line and Transformation Connection Service Rate",{"$f":"B8","v":1104},{"$f":"VLOOKUP($B$3,'Data Current Rates'!$A:$BE,MATCH(BI_Seas_High!$A35,CurrentHeader,0),FALSE)","v":6.1000000000000004E-3},{"$f":"B35*C35","v":6.7344000000000008},1104,{"$f":"VLOOKUP($B$3,'Data Proposed Rates'!$A:$BC,MATCH(BI_Seas_High!$A35,ProposedHeader,0),FALSE)","v":6.1000000000000004E-3},{"$f":"E35*F35","v":6.7344000000000008},{"$f":"G35-D35","v":0},0,3.1584033728416283E-2,3.1774460845660178E-2]
["Sub-Total:  Retail Transmission ",null,null,{"$f":"SUM(D34:D35)","v":13.8},null,null,{"$f":"SUM(G34:G35)","v":13.8},{"$f":"G36-D36","v":0},0,6.4721380591016966E-2,6.5111600093565938E-2]
["Sub-Total:  Delivery (based on two-tier RPP prices)",null,null,{"$f":"D32+D36","v":118.122},null,null,{"$f":"G32+G36","v":119.91199999999999},{"$f":"G37-D37","v":1.789999999999992},1.5153824012461625E-2,0.56238189778478453,0.56577262249417948]
["Sub-Total:  Delivery (based on TOU prices)",null,null,{"$f":"D33+D36","v":117.02999999999999},null,null,{"$f":"G33+G36","v":118.81999999999998},{"$f":"G38-D38","v":1.789999999999992},1.5295223446979341E-2,0.55726046679888663,0.56062031326938422]
["Wholesale Market Service Rate (WMS) - not including CBR",{"$f":"B8","v":1104},{"$f":"VLOOKUP($A39,'Data Pass Through'!$A:$D,2,FALSE)","v":3.0000000000000001E-3},{"$f":"B39*C39","v":3.3120000000000003},{"$f":"$B$8","v":1104},{"$f":"VLOOKUP($A39,'Data Pass Through'!$A:$D,3,FALSE)","v":3.0000000000000001E-3},{"$f":"E39*F39","v":3.3120000000000003},0,0,1.5533131341844074E-2,1.5626784022455823E-2]
["Capacity Based Recovery (CBR) - Applicable for Class B Customers",{"$f":"B8","v":1104},{"$f":"VLOOKUP($A40,'Data Pass Through'!$A:$D,2,FALSE)","v":4.0000000000000002E-4},{"$f":"B40*C40","v":0.44160000000000005},{"$f":"$B$8","v":1104},{"$f":"VLOOKUP($A40,'Data Pass Through'!$A:$D,3,FALSE)","v":4.0000000000000002E-4},{"$f":"E40*F40","v":0.44160000000000005},0,0,2.0710841789125431E-3,2.08357120299411E-3]
["Rural Rate Protection Charge",{"$f":"B8","v":1104},{"$f":"VLOOKUP($A41,'Data Pass Through'!$A:$D,2,FALSE)","v":5.0000000000000001E-4},0.55200000000000005,1104,{"$f":"VLOOKUP($A41,'Data Pass Through'!$A:$D,3,FALSE)","v":5.0000000000000001E-4},0.55200000000000005,0,0,2.588855223640679E-3,2.6044640037426372E-3]
["Standard Supply Service – Administration Charge (if applicable)",1,{"$f":"VLOOKUP($A42,'Data Pass Through'!$A:$D,2,FALSE)","v":0.25},{"$f":"B42*C42","v":0.25},1,{"$f":"VLOOKUP($A42,'Data Pass Through'!$A:$D,3,FALSE)","v":0.25},0.25,0,0,1.1724887788227712E-3,1.1795579727095276E-3]
["Sub-Total:  Regulatory",null,null,{"$f":"SUM(D39:D42)","v":4.5556000000000001},null,null,{"$f":"SUM(G39:G42)","v":4.5556000000000001},0,0,2.1365559523220067E-2,2.1494377201902098E-2]
["Debt Retirement Charge (DRC)",{"$f":"B4","v":1000},{"$f":"VLOOKUP($A44,'Data Pass Through'!$A:$D,2,FALSE)","v":0},{"$f":"B44*C44","v":0},1000,{"$f":"VLOOKUP($A44,'Data Pass Through'!$A:$D,3,FALSE)","v":0},{"$f":"E44*F44","v":0},0,"N/A",0,0]
["Total  Electricty Charge on Two-Tier RPP ",null,null,{"$f":"SUM(D14,D28,D29,D30,D36,D43,D44)","v":230.4776},null,null,{"$f":"SUM(G14,G28,G29,G30,G36,G43,G44)","v":232.26759999999999},1.789999999999992,7.7664814281300744E-3,1.0893246187363834]
["     HST",null,0.13,{"$f":"D45*C46","v":29.962088000000001},null,{"$f":"C46","v":0.13},{"$f":"G45*F46","v":30.194787999999999},0.23269999999999769,7.766481428130031E-3,0.14161220043572986]
["Total Electricity Charge on Two-Tier RPP (including HST)",null,null,{"$f":"SUM(D45:D46)","v":260.43968799999999},null,null,{"$f":"SUM(G45:G46)","v":262.46238799999998},2.0226999999999862,7.7664814281300561E-3,1.2309368191721133]
["Ontario Electricity Rebate (OER)",null,{"$f":"'Data Pass Through'!B20","v":-0.21199999999999999},{"$f":"D45*C48","v":-48.861251199999998},null,{"$f":"'Data Pass Through'!C20","v":-0.21199999999999999},{"$f":"G45*F48","v":-49.240731199999999},-0.37948000000000093,-7.7664814281301281E-3,-0.23093681917211331]
["Total Amount on Two-Tier RPP",null,null,{"$f":"SUM(D47:D48)","v":211.57843679999999},null,null,{"$f":"SUM(G47:G48)","v":213.22165679999998},1.6432199999999852,7.7664814281300397E-3,1]
["Total Electricty Charge on TOU (before HST)",null,null,{"$f":"SUM(D18,D28,D29,D31,D36,D43,D44)","v":229.08560000000003},null,null,{"$f":"SUM(G18,G28,G29,G31,G36,G43,G44)","v":230.87559999999999},1.7899999999999636,7.8136731422663117E-3,null,{"$f":"G50/$G$54","v":1.0893246187363832}]
["     HST",null,0.13,{"$f":"D50*C51","v":29.781128000000006},null,{"$f":"C51","v":0.13},{"$f":"G50*F51","v":30.013828},0.23269999999999413,7.8136731422662736E-3,null,{"$f":"G51/$G$54","v":0.14161220043572983}]
["Total Electricity Charge on TOU (including HST)",null,null,{"$f":"SUM(D50:D51)","v":258.86672800000002},null,null,{"$f":"SUM(G50:G51)","v":260.88942800000001},2.0226999999999862,7.8136731422664175E-3,null,{"$f":"G52/$G$54","v":1.2309368191721133}]
["Ontario Electricity Rebate (OER)",null,{"$f":"'Data Pass Through'!B20","v":-0.21199999999999999},{"$f":"D50*C53","v":-48.566147200000003},null,{"$f":"'Data Pass Through'!C20","v":-0.21199999999999999},{"$f":"G50*F53","v":-48.945627199999997},-0.37947999999999382,-7.8136731422663447E-3,null,{"$f":"G53/$G$54","v":-0.23093681917211326}]
["Total Amount on TOU",null,null,{"$f":"SUM(D52:D53)","v":210.30058080000003},null,null,{"$f":"SUM(G52:G53)","v":211.94380080000002},1.6432199999999852,7.8136731422664002E-3,null,{"$f":"G54/$G$54","v":1}]
["* Distribution rate protection applies to R1 and R2 customers"]

{"sheet":"BI_GSe_Low","index":34,"n_rows":55,"n_cols":11,"rows_kept":55,"cut":false,"hidden":false,"merged":[[0,0,0,10]]}
["2021 Bill Impacts (Low Consumption Level) - GSe"]
[]
["Rate Class",{"$f":"RIGHT(A1,LEN(A1)-FIND(\"- \",A1,1)-1)","v":"GSe"}]
["Monthly Consumption (kWh)",{"$f":"IF(COUNTIF(A1,\"*Low*\")>0,VLOOKUP(B3,'Data Billing Quantities'!$A:$Z,MATCH(\"Low kWh\",'Data Billing Quantities'!4:4,0),FALSE),IF(COUNTIF(A1,\"*Typical*\")>0,VLOOKUP(B3,'Data Billing Quantities'!$A:$Z,MATCH(\"Typical kWh\",'Data Billing Quantities'!4:4,0),FALSE),IF(COUNTIF(A1,\"*Average*\")>0,VLOOKUP(B3,'Data Billing Quantities'!$A:$Z,MATCH(\"Average kWh\",'Data Billing Quantities'!4:4,0),FALSE),IF(COUNTIF(A1,\"*High*\")>0,VLOOKUP(B3,'Data Billing Quantities'!$A:$Z,MATCH(\"High kWh\",'Data Billing Quantities'!4:4,0),FALSE),\"error\"))))","v":1000}]
["Peak (kW)",{"$f":"IF(COUNTIF(A1,\"*Low*\")>0,VLOOKUP(B3,'Data Billing Quantities'!$A:$Z,MATCH(\"Low kW\",'Data Billing Quantities'!4:4,0),FALSE),IF(COUNTIF(A1,\"*Typical*\")>0,VLOOKUP(B3,'Data Billing Quantities'!$A:$Z,MATCH(\"Typical kW\",'Data Billing Quantities'!4:4,0),FALSE),IF(COUNTIF(A1,\"*Average*\")>0,VLOOKUP(B3,'Data Billing Quantities'!$A:$Z,MATCH(\"Average kW\",'Data Billing Quantities'!4:4,0),FALSE),IF(COUNTIF(A1,\"*High*\")>0,VLOOKUP(B3,'Data Billing Quantities'!$A:$Z,MATCH(\"High kW\",'Data Billing Quantities'!4:4,0),FALSE),\"error\"))))","v":0}]
["Loss factor",{"$f":"VLOOKUP(B3,'Data Billing Quantities'!A:D,MATCH(A6,'Data Billing Quantities'!4:4,0),FALSE)","v":1.0960000000000001}]
["Commodity Threshold",{"$f":"VLOOKUP(B3,'Data Billing Quantities'!A:D,MATCH(A7,'Data Billing Quantities'!4:4,0),FALSE)","v":750}]
["Monthly Consumption (kWh) - Uplifted",{"$f":"B4*B6","v":1096}]
["Charge determinant",{"$f":"VLOOKUP(B3,'Data Billing Quantities'!A:D,MATCH(A9,'Data Billing Quantities'!4:4,0),FALSE)","v":"kWh"}]
[]
[null,"Volume","Current Rate ($)","Current Charge ($)","Volume","Proposed Rate ($)","Proposed Charge ($)","Change ($)","Change (%)","% of Total Bill on RPP","% of Total Bill on TOU"]
["Energy First Tier",{"$f":"IF(B4>B7,B7,B4)","v":750},{"$f":"VLOOKUP($A12,'Data Pass Through'!$A:$D,2,FALSE)","v":0.10100000000000001},{"$f":"B12*C12","v":75.75},{"$f":"B12","v":750},{"$f":"VLOOKUP($A12,'Data Pass Through'!$A:$D,3,FALSE)","v":0.10100000000000001},{"$f":"E12*F12","v":75.75},{"$f":"G12-D12","v":0},{"$f":"IF(ISERROR(H12/ABS(D12)),\"N/A\",(H12/ABS(D12)))","v":0},{"$f":"G12/$G$49","v":0.35455214910275701}]
["Energy Second Tier",{"$f":"IF(B4>B7,(B4)-B7,0)","v":250},{"$f":"VLOOKUP($A13,'Data Pass Through'!$A:$D,2,FALSE)","v":0.11799999999999999},{"$f":"B13*C13","v":29.5},{"$f":"B13","v":250},{"$f":"VLOOKUP($A13,'Data Pass Through'!$A:$D,3,FALSE)","v":0.11799999999999999},{"$f":"E13*F13","v":29.5},0,0,{"$f":"G13/$G$49","v":0.13807641450206379}]
["Sub-Total:  Energy (RPP Tiered)",null,null,{"$f":"SUM(D12:D13)","v":105.25},null,null,{"$f":"SUM(G12:G13)","v":105.25},0,0,{"$f":"G14/$G$49","v":0.49262856360482077}]
["TOU-Off Peak",{"$f":"B$4*VLOOKUP($B$3,'Data Billing Quantities'!$A:$O,MATCH(BI_GSe_Low!$A15,'Data Billing Quantities'!$4:$4,0),FALSE)","v":640},{"$f":"VLOOKUP($A15,'Data Pass Through'!$A:$D,2,FALSE)","v":8.5000000000000006E-2},{"$f":"B15*C15","v":54.400000000000006},640,{"$f":"VLOOKUP($A15,'Data Pass Through'!$A:$D,3,FALSE)","v":8.5000000000000006E-2},{"$f":"E15*F15","v":54.400000000000006},0,0,null,{"$f":"G15/$G$54","v":0.25327067416854415}]
["TOU-Mid Peak",{"$f":"B$4*VLOOKUP($B$3,'Data Billing Quantities'!$A:$O,MATCH(BI_GSe_Low!$A16,'Data Billing Quantities'!$4:$4,0),FALSE)","v":180},{"$f":"VLOOKUP($A16,'Data Pass Through'!$A:$D,2,FALSE)","v":0.11899999999999999},{"$f":"B16*C16","v":21.419999999999998},180,{"$f":"VLOOKUP($A16,'Data Pass Through'!$A:$D,3,FALSE)","v":0.11899999999999999},{"$f":"E16*F16","v":21.419999999999998},0,0,null,9.972532795386424E-2]
["TOU-On Peak",{"$f":"B$4*VLOOKUP($B$3,'Data Billing Quantities'!$A:$O,MATCH(BI_GSe_Low!$A17,'Data Billing Quantities'!$4:$4,0),FALSE)","v":180},{"$f":"VLOOKUP($A17,'Data Pass Through'!$A:$D,2,FALSE)","v":0.17599999999999999},{"$f":"B17*C17","v":31.68},180,{"$f":"VLOOKUP($A17,'Data Pass Through'!$A:$D,3,FALSE)","v":0.17599999999999999},{"$f":"E17*F17","v":31.68},0,0,null,0.14749292201579922]
["Sub-Total:  Energy (RPP TOU)",null,null,{"$f":"SUM(D15:D17)","v":107.5},null,null,{"$f":"SUM(G15:G17)","v":107.5},0,0,{"$f":"G18/$G$49","v":0.50315981555836797},0.50048892413820756]
["Service Charge",1,{"$f":"IF(ISERROR(VLOOKUP($B$3,'Data Current Rates'!$A:$BE,MATCH(BI_GSe_Low!$A19,CurrentHeader,0),FALSE)),0,VLOOKUP($B$3,'Data Current Rates'!$A:$BE,MATCH(BI_GSe_Low!$A19,CurrentHeader,0),FALSE))","v":32.479999999999997},{"$f":"B19*C19","v":32.479999999999997},1,{"$f":"VLOOKUP($B$3,'Data Proposed Rates'!$A:$BC,MATCH(BI_GSe_Low!$A19,ProposedHeader,0),FALSE)","v":32.479999999999997},{"$f":"E19*F19","v":32.479999999999997},0,0,0.15202447264498412,0.15121749075357191]
["Base Rate Adjustment to Recover Past Tax Amounts FIXED",null,null,null,1,{"$f":"VLOOKUP($B$3,'Data Proposed Rates'!$A:$BC,MATCH(BI_GSe_Low!$A20,ProposedHeader,0),FALSE)","v":1.1100000000000001},1.1100000000000001,1.1100000000000001,"N/A",5.1954176304166372E-3,5.1678391236596325E-3]
["Fixed Deferral/Variance Account Rider (General)",1,{"$f":"IF(ISERROR(VLOOKUP($B$3,'Data Current Rates'!$A:$BE,MATCH(BI_GSe_Low!$A21,CurrentHeader,0),FALSE)),0,VLOOKUP($B$3,'Data Current Rates'!$A:$BE,MATCH(BI_GSe_Low!$A21,CurrentHeader,0),FALSE))","v":-0.14000000000000001},-0.14000000000000001,1,{"$f":"VLOOKUP($B$3,'Data Proposed Rates'!$A:$BC,MATCH(BI_GSe_Low!$A21,ProposedHeader,0),FALSE)","v":-0.14000000000000001},-0.14000000000000001,0,0,-6.552778993318282E-4,-6.5179952911022384E-4]
["Fixed ESM Rider",1,{"$f":"IF(ISERROR(VLOOKUP($B$3,'Data Current Rates'!$A:$BE,MATCH(BI_GSe_Low!$A22,CurrentHeader,0),FALSE)),0,VLOOKUP($B$3,'Data Current Rates'!$A:$BE,MATCH(BI_GSe_Low!$A22,CurrentHeader,0),FALSE))","v":-0.45},-0.45,1,{"$f":"VLOOKUP($B$3,'Data Proposed Rates'!$A:$BC,MATCH(BI_GSe_Low!$A22,ProposedHeader,0),FALSE)","v":-0.45},-0.45,0,0,-2.1062503907094475E-3,-2.0950699149971481E-3]
["Distribution Volumetric Charge",{"$f":"IF($B$9=\"kWh\",$B$4,$B$5)","v":1000},{"$f":"IF(ISERROR(VLOOKUP($B$3,'Data Current Rates'!$A:$BE,MATCH(BI_GSe_Low!$A23,CurrentHeader,0),FALSE)),0,VLOOKUP($B$3,'Data Current Rates'!$A:$BE,MATCH(BI_GSe_Low!$A23,CurrentHeader,0),FALSE))","v":6.4199999999999993E-2},64.199999999999989,{"$f":"IF($B$9=\"kWh\",$B$4,$B$5)","v":1000},{"$f":"VLOOKUP($B$3,'Data Proposed Rates'!$A:$BC,MATCH(BI_GSe_Low!$A23,ProposedHeader,0),FALSE)","v":6.4199999999999993E-2},64.199999999999989,0,0,0.30049172240788113,0.29889664120625975]
["Base Rate Adjustment to Recover Past Tax Amounts VOL",null,null,null,{"$f":"IF($B$9=\"kWh\",$B$4,$B$5)","v":1000},{"$f":"VLOOKUP($B$3,'Data Proposed Rates'!$A:$BC,MATCH(BI_GSe_Low!$A24,ProposedHeader,0),FALSE)","v":2.2000000000000001E-3},2.2000000000000002,2.2000000000000002,"N/A",1.0297224132357299E-2,1.0242564028874947E-2]
["Volumetric Deferral/Variance Account Rider (General)",{"$f":"IF($B$9=\"kWh\",$B$4,$B$5)","v":1000},{"$f":"IF(ISERROR(VLOOKUP($B$3,'Data Current Rates'!$A:$BE,MATCH(BI_GSe_Low!$A25,CurrentHeader,0),FALSE)),0,VLOOKUP($B$3,'Data Current Rates'!$A:$BE,MATCH(BI_GSe_Low!$A25,CurrentHeader,0),FALSE))","v":-6.9999999999999999E-4},-0.7,{"$f":"IF($B$9=\"kWh\",$B$4,$B$5)","v":1000},{"$f":"VLOOKUP($B$3,'Data Proposed Rates'!$A:$BC,MATCH(BI_GSe_Low!$A25,ProposedHeader,0),FALSE)","v":-6.9999999999999999E-4},-0.7,0,0,-3.2763894966591402E-3,-3.2589976455511191E-3]
["Volumetric ESM Rider",1000,{"$f":"IF(ISERROR(VLOOKUP($B$3,'Data Current Rates'!$A:$BE,MATCH(BI_GSe_Low!$A26,CurrentHeader,0),FALSE)),0,VLOOKUP($B$3,'Data Current Rates'!$A:$BE,MATCH(BI_GSe_Low!$A26,CurrentHeader,0),FALSE))","v":-8.9999999999999998E-4},-0.9,1000,{"$f":"VLOOKUP($B$3,'Data Proposed Rates'!$A:$BC,MATCH(BI_GSe_Low!$A26,ProposedHeader,0),FALSE)","v":-8.9999999999999998E-4},-0.9,0,0,-4.212500781418895E-3,-4.1901398299942962E-3]
["Fair Hydro Plan - Distribution Rate Protection Savings*",null,null,{"$f":"IF(AND(B3<>\"R1\",B3<>\"R2\"),0,IF(VLOOKUP($A27,'Data Pass Through'!$A:$D,2,FALSE)=0,0,IF(SUM(D19:D20,D23:D24)<VLOOKUP($A27,'Data Pass Through'!$A:$D,2,FALSE),0,VLOOKUP($A27,'Data Pass Through'!$A:$D,2,FALSE)-SUM(D19:D20,D23:D24))))","v":0},null,null,{"$f":"IF(AND(B3<>\"R1\",B3<>\"R2\"),0,IF(VLOOKUP($A27,'Data Pass Through'!$A:$D,2,FALSE)=0,0,IF(SUM(G19:G20,G23:G24)<VLOOKUP($A27,'Data Pass Through'!$A:$D,2,FALSE),0,VLOOKUP($A27,'Data Pass Through'!$A:$D,2,FALSE)-SUM(G19:G20,G23:G24))))","v":0},0,"N/A",0,0]
["Sub-Total:  Distribution (excluding pass through)",null,null,{"$f":"SUM(INDIRECT(\"D19:D\"&ROW()-1))","v":94.489999999999981},null,null,{"$f":"SUM(INDIRECT(\"g19:g\"&ROW()-1))","v":97.799999999999983},{"$f":"G28-D28","v":3.3100000000000023},3.5030161921896528E-2,0.45775841824751984,0.45532852819271341]
["Smart Metering Entity Charge",1,{"$f":"VLOOKUP($A29,'Data Pass Through'!$A:$D,2,FALSE)","v":0.56999999999999995},{"$f":"B29*C29","v":0.56999999999999995},1,{"$f":"VLOOKUP($A29,'Data Pass Through'!$A:$D,3,FALSE)","v":0.56999999999999995},{"$f":"E29*F29","v":0.56999999999999995},0,0,2.6679171615652999E-3,2.653755225663054E-3]
["Line Losses on Cost of Power (based on two-tier RPP prices)",{"$f":"B8-B4","v":96},{"$f":"IF(B4>B7,C13,C12)","v":0.11799999999999999},{"$f":"B30*C30","v":11.327999999999999},96,{"$f":"IF(B4>B7,F13,F12)","v":0.11799999999999999},{"$f":"E30*F30","v":11.327999999999999},0,0,5.3021343168792492E-2,5.2739893326861534E-2]
["Line Losses on Cost of Power (based on TOU prices)",{"$f":"B8-B4","v":96},{"$f":"VLOOKUP($B$3,'Data Billing Quantities'!$A:$O,MATCH(BI_GSe_Low!$A15,'Data Billing Quantities'!$4:$4,0),FALSE)*C15+VLOOKUP($B$3,'Data Billing Quantities'!$A:$O,MATCH(BI_GSe_Low!$A16,'Data Billing Quantities'!$4:$4,0),FALSE)*C16+VLOOKUP($B$3,'Data Billing Quantities'!$A:$O,MATCH(BI_GSe_Low!$A17,'Data Billing Quantities'!$4:$4,0),FALSE)*C17","v":0.1075},{"$f":"B31*C31","v":10.32},96,{"$f":"VLOOKUP($B$3,'Data Billing Quantities'!$A:$O,MATCH(BI_GSe_Low!$A15,'Data Billing Quantities'!$4:$4,0),FALSE)*F15+VLOOKUP($B$3,'Data Billing Quantities'!$A:$O,MATCH(BI_GSe_Low!$A16,'Data Billing Quantities'!$4:$4,0),FALSE)*F16+VLOOKUP($B$3,'Data Billing Quantities'!$A:$O,MATCH(BI_GSe_Low!$A17,'Data Billing Quantities'!$4:$4,0),FALSE)*F17","v":0.1075},{"$f":"E31*F31","v":10.32},0,0,4.8303342293603328E-2,4.8046936717267931E-2]
["Sub-Total:  Distribution (based on two-tier RPP prices)",null,null,{"$f":"SUM(D28,D29:D30)","v":106.38799999999998},null,null,{"$f":"SUM(G28,G29:G30)","v":109.69799999999998},3.3100000000000023,3.111253148851377E-2,0.51344767857787765,0.51072217674523801]
["Sub-Total:  Distribution (based on TOU prices)",null,null,{"$f":"SUM(D28,D29,D31)","v":105.37999999999997},null,null,{"$f":"SUM(G28,G29,G31)","v":108.68999999999997},3.3100000000000023,3.141013475042706E-2,0.5087296777026884,0.50602922013564433]
["Retail Transmission Rate – Network Service Rate",{"$f":"B8","v":1096},{"$f":"VLOOKUP($B$3,'Data Current Rates'!$A:$BE,MATCH(BI_GSe_Low!$A34,CurrentHeader,0),FALSE)","v":6.4999999999999997E-3},{"$f":"B34*C34","v":7.1239999999999997},1096,{"$f":"VLOOKUP($B$3,'Data Proposed Rates'!$A:$BC,MATCH(BI_GSe_Low!$A34,ProposedHeader,0),FALSE)","v":6.4999999999999997E-3},{"$f":"E34*F34","v":7.1239999999999997},{"$f":"G34-D34","v":0},0,3.334428396314245E-2,3.3167284609865962E-2]
["Retail Transmission Rate – Line and Transformation Connection Service Rate",{"$f":"B8","v":1096},{"$f":"VLOOKUP($B$3,'Data Current Rates'!$A:$BE,MATCH(BI_GSe_Low!$A35,CurrentHeader,0),FALSE)","v":5.5999999999999999E-3},{"$f":"B35*C35","v":6.1375999999999999},1096,{"$f":"VLOOKUP($B$3,'Data Proposed Rates'!$A:$BC,MATCH(BI_GSe_Low!$A35,ProposedHeader,0),FALSE)","v":5.5999999999999999E-3},{"$f":"E35*F35","v":6.1375999999999999},{"$f":"G35-D35","v":0},0,2.8727383106707343E-2,2.8574891356192213E-2]
["Sub-Total:  Retail Transmission ",null,null,{"$f":"SUM(D34:D35)","v":13.2616},null,null,{"$f":"SUM(G34:G35)","v":13.2616},{"$f":"G36-D36","v":0},0,6.2071667069849797E-2,6.1742175966058174E-2]
["Sub-Total:  Delivery (based on two-tier RPP prices)",null,null,{"$f":"D32+D36","v":119.64959999999998},null,null,{"$f":"G32+G36","v":122.95959999999998},{"$f":"G37-D37","v":3.3100000000000023},2.7664112541955867E-2,0.57551934564772744,0.57246435271129614]
["Sub-Total:  Delivery (based on TOU prices)",null,null,{"$f":"D33+D36","v":118.64159999999997},null,null,{"$f":"G33+G36","v":121.95159999999997},{"$f":"G38-D38","v":3.3100000000000023},2.7899151730927458E-2,0.57080134477253819,0.56777139610170257]
["Wholesale Market Service Rate (WMS) - not including CBR",{"$f":"B8","v":1096},{"$f":"VLOOKUP($A39,'Data Pass Through'!$A:$D,2,FALSE)","v":3.0000000000000001E-3},{"$f":"B39*C39","v":3.2880000000000003},{"$f":"$B$8","v":1096},{"$f":"VLOOKUP($A39,'Data Pass Through'!$A:$D,3,FALSE)","v":3.0000000000000001E-3},{"$f":"E39*F39","v":3.2880000000000003},0,0,1.5389669521450364E-2,1.5307977512245829E-2]
["Capacity Based Recovery (CBR) - Applicable for Class B Customers",{"$f":"B8","v":1096},{"$f":"VLOOKUP($A40,'Data Pass Through'!$A:$D,2,FALSE)","v":4.0000000000000002E-4},{"$f":"B40*C40","v":0.43840000000000001},{"$f":"$B$8","v":1096},{"$f":"VLOOKUP($A40,'Data Pass Through'!$A:$D,3,FALSE)","v":4.0000000000000002E-4},{"$f":"E40*F40","v":0.43840000000000001},0,0,2.0519559361933818E-3,2.0410636682994436E-3]
["Rural Rate Protection Charge",{"$f":"B8","v":1096},{"$f":"VLOOKUP($A41,'Data Pass Through'!$A:$D,2,FALSE)","v":5.0000000000000001E-4},0.54800000000000004,1096,{"$f":"VLOOKUP($A41,'Data Pass Through'!$A:$D,3,FALSE)","v":5.0000000000000001E-4},0.54800000000000004,0,0,2.5649449202417274E-3,2.5513295853743048E-3]
["Standard Supply Service – Administration Charge (if applicable)",1,{"$f":"VLOOKUP($A42,'Data Pass Through'!$A:$D,2,FALSE)","v":0.25},{"$f":"B42*C42","v":0.25},1,{"$f":"VLOOKUP($A42,'Data Pass Through'!$A:$D,3,FALSE)","v":0.25},0.25,0,0,1.170139105949693E-3,1.1639277305539712E-3]
["Sub-Total:  Regulatory",null,null,{"$f":"SUM(D39:D42)","v":4.5244},null,null,{"$f":"SUM(G39:G42)","v":4.5244},0,0,2.1176709483835165E-2,2.1064298496473548E-2]
["Debt Retirement Charge (DRC)",{"$f":"B4","v":1000},{"$f":"VLOOKUP($A44,'Data Pass Through'!$A:$D,2,FALSE)","v":0},{"$f":"B44*C44","v":0},1000,{"$f":"VLOOKUP($A44,'Data Pass Through'!$A:$D,3,FALSE)","v":0},{"$f":"E44*F44","v":0},0,"N/A",0,0]
["Total  Electricty Charge on Two-Tier RPP ",null,null,{"$f":"SUM(D14,D28,D29,D30,D36,D43,D44)","v":229.42399999999998},null,null,{"$f":"SUM(G14,G28,G29,G30,G36,G43,G44)","v":232.73399999999998},3.3100000000000023,1.4427435664969674E-2,1.0893246187363834]
["     HST",null,0.13,{"$f":"D45*C46","v":29.825119999999998},null,{"$f":"C46","v":0.13},{"$f":"G45*F46","v":30.255419999999997},0.43029999999999902,1.442743566496963E-2,0.14161220043572983]
["Total Electricity Charge on Two-Tier RPP (including HST)",null,null,{"$f":"SUM(D45:D46)","v":259.24911999999995},null,null,{"$f":"SUM(G45:G46)","v":262.98942},3.7403000000000475,1.4427435664969849E-2,1.2309368191721133]
["Ontario Electricity Rebate (OER)",null,{"$f":"'Data Pass Through'!B20","v":-0.21199999999999999},{"$f":"D45*C48","v":-48.637887999999997},null,{"$f":"'Data Pass Through'!C20","v":-0.21199999999999999},{"$f":"G45*F48","v":-49.339607999999991},-0.70171999999999457,-1.4427435664969552E-2,-0.23093681917211326]
["Total Amount on Two-Tier RPP",null,null,{"$f":"SUM(D47:D48)","v":210.61123199999994},null,null,{"$f":"SUM(G47:G48)","v":213.649812},3.0385800000000529,1.4427435664969918E-2,1]
["Total Electricty Charge on TOU (before HST)",null,null,{"$f":"SUM(D18,D28,D29,D31,D36,D43,D44)","v":230.66599999999994},null,null,{"$f":"SUM(G18,G28,G29,G31,G36,G43,G44)","v":233.97599999999994},3.3100000000000023,1.4349752455931968E-2,null,{"$f":"G50/$G$54","v":1.0893246187363834}]
["     HST",null,0.13,{"$f":"D50*C51","v":29.986579999999993},null,{"$f":"C51","v":0.13},{"$f":"G50*F51","v":30.416879999999992},0.43029999999999902,1.4349752455931924E-2,null,{"$f":"G51/$G$54","v":0.14161220043572986}]
["Total Electricity Charge on TOU (including HST)",null,null,{"$f":"SUM(D50:D51)","v":260.65257999999994},null,null,{"$f":"SUM(G50:G51)","v":264.39287999999993},3.7402999999999906,1.4349752455931921E-2,null,{"$f":"G52/$G$54","v":1.2309368191721133}]
["Ontario Electricity Rebate (OER)",null,{"$f":"'Data Pass Through'!B20","v":-0.21199999999999999},{"$f":"D50*C53","v":-48.901191999999988},null,{"$f":"'Data Pass Through'!C20","v":-0.21199999999999999},{"$f":"G50*F53","v":-49.602911999999989},-0.70172000000000168,-1.4349752455931992E-2,null,{"$f":"G53/$G$54","v":-0.23093681917211331}]
["Total Amount on TOU",null,null,{"$f":"SUM(D52:D53)","v":211.75138799999996},null,null,{"$f":"SUM(G52:G53)","v":214.78996799999993},3.0385799999999676,1.4349752455931803E-2,null,{"$f":"G54/$G$54","v":1}]
["* Distribution rate protection applies to R1 and R2 customers"]

{"sheet":"BI_GSe_Typical","index":35,"n_rows":55,"n_cols":11,"rows_kept":55,"cut":false,"hidden":false,"merged":[[0,0,0,10]]}
["2021 Bill Impacts (Typical Consumption Level) - GSe"]
[]
["Rate Class",{"$f":"RIGHT(A1,LEN(A1)-FIND(\"- \",A1,1)-1)","v":"GSe"}]
["Monthly Consumption (kWh)",{"$f":"IF(COUNTIF(A1,\"*Low*\")>0,VLOOKUP(B3,'Data Billing Quantities'!$A:$Z,MATCH(\"Low kWh\",'Data Billing Quantities'!4:4,0),FALSE),IF(COUNTIF(A1,\"*Typical*\")>0,VLOOKUP(B3,'Data Billing Quantities'!$A:$Z,MATCH(\"Typical kWh\",'Data Billing Quantities'!4:4,0),FALSE),IF(COUNTIF(A1,\"*Average*\")>0,VLOOKUP(B3,'Data Billing Quantities'!$A:$Z,MATCH(\"Average kWh\",'Data Billing Quantities'!4:4,0),FALSE),IF(COUNTIF(A1,\"*High*\")>0,VLOOKUP(B3,'Data Billing Quantities'!$A:$Z,MATCH(\"High kWh\",'Data Billing Quantities'!4:4,0),FALSE),\"error\"))))","v":2000}]
["Peak (kW)",{"$f":"IF(COUNTIF(A1,\"*Low*\")>0,VLOOKUP(B3,'Data Billing Quantities'!$A:$Z,MATCH(\"Low kW\",'Data Billing Quantities'!4:4,0),FALSE),IF(COUNTIF(A1,\"*Typical*\")>0,VLOOKUP(B3,'Data Billing Quantities'!$A:$Z,MATCH(\"Typical kW\",'Data Billing Quantities'!4:4,0),FALSE),IF(COUNTIF(A1,\"*Average*\")>0,VLOOKUP(B3,'Data Billing Quantities'!$A:$Z,MATCH(\"Average kW\",'Data Billing Quantities'!4:4,0),FALSE),IF(COUNTIF(A1,\"*High*\")>0,VLOOKUP(B3,'Data Billing Quantities'!$A:$Z,MATCH(\"High kW\",'Data Billing Quantities'!4:4,0),FALSE),\"error\"))))","v":0}]
["Loss factor",{"$f":"VLOOKUP(B3,'Data Billing Quantities'!A:D,MATCH(A6,'Data Billing Quantities'!4:4,0),FALSE)","v":1.0960000000000001}]
["Commodity Threshold",{"$f":"VLOOKUP(B3,'Data Billing Quantities'!A:D,MATCH(A7,'Data Billing Quantities'!4:4,0),FALSE)","v":750}]
["Monthly Consumption (kWh) - Uplifted",{"$f":"B4*B6","v":2192}]
["Charge determinant",{"$f":"VLOOKUP(B3,'Data Billing Quantities'!A:D,MATCH(A9,'Data Billing Quantities'!4:4,0),FALSE)","v":"kWh"}]
[]
[null,"Volume","Current Rate ($)","Current Charge ($)","Volume","Proposed Rate ($)","Proposed Charge ($)","Change ($)","Change (%)","% of Total Bill on RPP","% of Total Bill on TOU"]
["Energy First Tier",{"$f":"IF(B4>B7,B7,B4)","v":750},{"$f":"VLOOKUP($A12,'Data Pass Through'!$A:$D,2,FALSE)","v":0.10100000000000001},{"$f":"B12*C12","v":75.75},{"$f":"B12","v":750},{"$f":"VLOOKUP($A12,'Data Pass Through'!$A:$D,3,FALSE)","v":0.10100000000000001},{"$f":"E12*F12","v":75.75},{"$f":"G12-D12","v":0},{"$f":"IF(ISERROR(H12/ABS(D12)),\"N/A\",(H12/ABS(D12)))","v":0},{"$f":"G12/$G$49","v":0.18568116838797896}]
["Energy Second Tier",{"$f":"IF(B4>B7,(B4)-B7,0)","v":1250},{"$f":"VLOOKUP($A13,'Data Pass Through'!$A:$D,2,FALSE)","v":0.11799999999999999},{"$f":"B13*C13","v":147.5},{"$f":"B13","v":1250},{"$f":"VLOOKUP($A13,'Data Pass Through'!$A:$D,3,FALSE)","v":0.11799999999999999},{"$f":"E13*F13","v":147.5},0,0,{"$f":"G13/$G$49","v":0.36155739059045405}]
["Sub-Total:  Energy (RPP Tiered)",null,null,{"$f":"SUM(D12:D13)","v":223.25},null,null,{"$f":"SUM(G12:G13)","v":223.25},0,0,{"$f":"G14/$G$49","v":0.54723855897843299}]
["TOU-Off Peak",{"$f":"B$4*VLOOKUP($B$3,'Data Billing Quantities'!$A:$O,MATCH(BI_GSe_Typical!$A15,'Data Billing Quantities'!$4:$4,0),FALSE)","v":1280},{"$f":"VLOOKUP($A15,'Data Pass Through'!$A:$D,2,FALSE)","v":8.5000000000000006E-2},{"$f":"B15*C15","v":108.80000000000001},1280,{"$f":"VLOOKUP($A15,'Data Pass Through'!$A:$D,3,FALSE)","v":8.5000000000000006E-2},{"$f":"E15*F15","v":108.80000000000001},0,0,null,{"$f":"G15/$G$54","v":0.27300111145577505}]
["TOU-Mid Peak",{"$f":"B$4*VLOOKUP($B$3,'Data Billing Quantities'!$A:$O,MATCH(BI_GSe_Typical!$A16,'Data Billing Quantities'!$4:$4,0),FALSE)","v":360},{"$f":"VLOOKUP($A16,'Data Pass Through'!$A:$D,2,FALSE)","v":0.11899999999999999},{"$f":"B16*C16","v":42.839999999999996},360,{"$f":"VLOOKUP($A16,'Data Pass Through'!$A:$D,3,FALSE)","v":0.11899999999999999},{"$f":"E16*F16","v":42.839999999999996},0,0,null,0.10749418763571141]
["TOU-On Peak",{"$f":"B$4*VLOOKUP($B$3,'Data Billing Quantities'!$A:$O,MATCH(BI_GSe_Typical!$A17,'Data Billing Quantities'!$4:$4,0),FALSE)","v":360},{"$f":"VLOOKUP($A17,'Data Pass Through'!$A:$D,2,FALSE)","v":0.17599999999999999},{"$f":"B17*C17","v":63.36},360,{"$f":"VLOOKUP($A17,'Data Pass Through'!$A:$D,3,FALSE)","v":0.17599999999999999},{"$f":"E17*F17","v":63.36},0,0,null,0.15898300020071604]
["Sub-Total:  Energy (RPP TOU)",null,null,{"$f":"SUM(D15:D17)","v":215},null,null,{"$f":"SUM(G15:G17)","v":215},0,0,{"$f":"G18/$G$49","v":0.52701585747083135},0.53947829929220248]
["Service Charge",1,{"$f":"IF(ISERROR(VLOOKUP($B$3,'Data Current Rates'!$A:$BE,MATCH(BI_GSe_Typical!$A19,CurrentHeader,0),FALSE)),0,VLOOKUP($B$3,'Data Current Rates'!$A:$BE,MATCH(BI_GSe_Typical!$A19,CurrentHeader,0),FALSE))","v":32.479999999999997},{"$f":"B19*C19","v":32.479999999999997},1,{"$f":"VLOOKUP($B$3,'Data Proposed Rates'!$A:$BC,MATCH(BI_GSe_Typical!$A19,ProposedHeader,0),FALSE)","v":32.479999999999997},{"$f":"E19*F19","v":32.479999999999997},0,0,7.9616163026291167E-2,8.1498861214003418E-2]
["Base Rate Adjustment to Recover Past Tax Amounts FIXED",null,null,null,1,{"$f":"VLOOKUP($B$3,'Data Proposed Rates'!$A:$BC,MATCH(BI_GSe_Typical!$A20,ProposedHeader,0),FALSE)","v":1.1100000000000001},1.1100000000000001,1.1100000000000001,"N/A",2.7208725664773156E-3,2.7852135451829994E-3]
["Fixed Deferral/Variance Account Rider (General)",1,{"$f":"IF(ISERROR(VLOOKUP($B$3,'Data Current Rates'!$A:$BE,MATCH(BI_GSe_Typical!$A21,CurrentHeader,0),FALSE)),0,VLOOKUP($B$3,'Data Current Rates'!$A:$BE,MATCH(BI_GSe_Typical!$A21,CurrentHeader,0),FALSE))","v":-0.14000000000000001},-0.14000000000000001,1,{"$f":"VLOOKUP($B$3,'Data Proposed Rates'!$A:$BC,MATCH(BI_GSe_Typical!$A21,ProposedHeader,0),FALSE)","v":-0.14000000000000001},-0.14000000000000001,0,0,-3.4317311649263439E-4,-3.5128819488794584E-4]
["Fixed ESM Rider",1,{"$f":"IF(ISERROR(VLOOKUP($B$3,'Data Current Rates'!$A:$BE,MATCH(BI_GSe_Typical!$A22,CurrentHeader,0),FALSE)),0,VLOOKUP($B$3,'Data Current Rates'!$A:$BE,MATCH(BI_GSe_Typical!$A22,CurrentHeader,0),FALSE))","v":-0.45},-0.45,1,{"$f":"VLOOKUP($B$3,'Data Proposed Rates'!$A:$BC,MATCH(BI_GSe_Typical!$A22,ProposedHeader,0),FALSE)","v":-0.45},-0.45,0,0,-1.1030564458691819E-3,-1.1291406264255402E-3]
["Distribution Volumetric Charge",{"$f":"IF($B$9=\"kWh\",$B$4,$B$5)","v":2000},{"$f":"IF(ISERROR(VLOOKUP($B$3,'Data Current Rates'!$A:$BE,MATCH(BI_GSe_Typical!$A23,CurrentHeader,0),FALSE)),0,VLOOKUP($B$3,'Data Current Rates'!$A:$BE,MATCH(BI_GSe_Typical!$A23,CurrentHeader,0),FALSE))","v":6.4199999999999993E-2},128.39999999999998,{"$f":"IF($B$9=\"kWh\",$B$4,$B$5)","v":2000},{"$f":"VLOOKUP($B$3,'Data Proposed Rates'!$A:$BC,MATCH(BI_GSe_Typical!$A23,ProposedHeader,0),FALSE)","v":6.4199999999999993E-2},128.39999999999998,0,0,0.3147387725546732,0.32218145874008741]
["Base Rate Adjustment to Recover Past Tax Amounts VOL",null,null,null,{"$f":"IF($B$9=\"kWh\",$B$4,$B$5)","v":2000},{"$f":"VLOOKUP($B$3,'Data Proposed Rates'!$A:$BC,MATCH(BI_GSe_Typical!$A24,ProposedHeader,0),FALSE)","v":2.2000000000000001E-3},4.4000000000000004,4.4000000000000004,"N/A",1.0785440804054225E-2,1.1040486125049726E-2]
["Volumetric Deferral/Variance Account Rider (General)",{"$f":"IF($B$9=\"kWh\",$B$4,$B$5)","v":2000},{"$f":"IF(ISERROR(VLOOKUP($B$3,'Data Current Rates'!$A:$BE,MATCH(BI_GSe_Typical!$A25,CurrentHeader,0),FALSE)),0,VLOOKUP($B$3,'Data Current Rates'!$A:$BE,MATCH(BI_GSe_Typical!$A25,CurrentHeader,0),FALSE))","v":-6.9999999999999999E-4},-1.4,{"$f":"IF($B$9=\"kWh\",$B$4,$B$5)","v":2000},{"$f":"VLOOKUP($B$3,'Data Proposed Rates'!$A:$BC,MATCH(BI_GSe_Typical!$A25,ProposedHeader,0),FALSE)","v":-6.9999999999999999E-4},-1.4,0,0,-3.4317311649263433E-3,-3.5128819488794579E-3]
["Volumetric ESM Rider",2000,{"$f":"IF(ISERROR(VLOOKUP($B$3,'Data Current Rates'!$A:$BE,MATCH(BI_GSe_Typical!$A26,CurrentHeader,0),FALSE)),0,VLOOKUP($B$3,'Data Current Rates'!$A:$BE,MATCH(BI_GSe_Typical!$A26,CurrentHeader,0),FALSE))","v":-8.9999999999999998E-4},-1.8,2000,{"$f":"VLOOKUP($B$3,'Data Proposed Rates'!$A:$BC,MATCH(BI_GSe_Typical!$A26,ProposedHeader,0),FALSE)","v":-8.9999999999999998E-4},-1.8,0,0,-4.4122257834767276E-3,-4.5165625057021607E-3]
["Fair Hydro Plan - Distribution Rate Protection Savings*",null,null,{"$f":"IF(AND(B3<>\"R1\",B3<>\"R2\"),0,IF(VLOOKUP($A27,'Data Pass Through'!$A:$D,2,FALSE)=0,0,IF(SUM(D19:D20,D23:D24)<VLOOKUP($A27,'Data Pass Through'!$A:$D,2,FALSE),0,VLOOKUP($A27,'Data Pass Through'!$A:$D,2,FALSE)-SUM(D19:D20,D23:D24))))","v":0},null,null,{"$f":"IF(AND(B3<>\"R1\",B3<>\"R2\"),0,IF(VLOOKUP($A27,'Data Pass Through'!$A:$D,2,FALSE)=0,0,IF(SUM(G19:G20,G23:G24)<VLOOKUP($A27,'Data Pass Through'!$A:$D,2,FALSE),0,VLOOKUP($A27,'Data Pass Through'!$A:$D,2,FALSE)-SUM(G19:G20,G23:G24))))","v":0},0,"N/A",0,0]
["Sub-Total:  Distribution (excluding pass through)",null,null,{"$f":"SUM(INDIRECT(\"D19:D\"&ROW()-1))","v":157.08999999999995},null,null,{"$f":"SUM(INDIRECT(\"g19:g\"&ROW()-1))","v":162.59999999999997},{"$f":"G28-D28","v":5.5100000000000193},3.5075434464319953E-2,0.39857106244073098,0.4079961463484284]
["Smart Metering Entity Charge",1,{"$f":"VLOOKUP($A29,'Data Pass Through'!$A:$D,2,FALSE)","v":0.56999999999999995},{"$f":"B29*C29","v":0.56999999999999995},1,{"$f":"VLOOKUP($A29,'Data Pass Through'!$A:$D,3,FALSE)","v":0.56999999999999995},{"$f":"E29*F29","v":0.56999999999999995},0,0,1.397204831434297E-3,1.4302447934723508E-3]
["Line Losses on Cost of Power (based on two-tier RPP prices)",{"$f":"B8-B4","v":192},{"$f":"IF(B4>B7,C13,C12)","v":0.11799999999999999},{"$f":"B30*C30","v":22.655999999999999},192,{"$f":"IF(B4>B7,F13,F12)","v":0.11799999999999999},{"$f":"E30*F30","v":22.655999999999999},0,0,5.5535215194693739E-2,5.684846673843786E-2]
["Line Losses on Cost of Power (based on TOU prices)",{"$f":"B8-B4","v":192},{"$f":"VLOOKUP($B$3,'Data Billing Quantities'!$A:$O,MATCH(BI_GSe_Typical!$A15,'Data Billing Quantities'!$4:$4,0),FALSE)*C15+VLOOKUP($B$3,'Data Billing Quantities'!$A:$O,MATCH(BI_GSe_Typical!$A16,'Data Billing Quantities'!$4:$4,0),FALSE)*C16+VLOOKUP($B$3,'Data Billing Quantities'!$A:$O,MATCH(BI_GSe_Typical!$A17,'Data Billing Quantities'!$4:$4,0),FALSE)*C17","v":0.1075},{"$f":"B31*C31","v":20.64},192,{"$f":"VLOOKUP($B$3,'Data Billing Quantities'!$A:$O,MATCH(BI_GSe_Typical!$A15,'Data Billing Quantities'!$4:$4,0),FALSE)*F15+VLOOKUP($B$3,'Data Billing Quantities'!$A:$O,MATCH(BI_GSe_Typical!$A16,'Data Billing Quantities'!$4:$4,0),FALSE)*F16+VLOOKUP($B$3,'Data Billing Quantities'!$A:$O,MATCH(BI_GSe_Typical!$A17,'Data Billing Quantities'!$4:$4,0),FALSE)*F17","v":0.1075},{"$f":"E31*F31","v":20.64},0,0,5.059352231719981E-2,5.1789916732051439E-2]
["Sub-Total:  Distribution (based on two-tier RPP prices)",null,null,{"$f":"SUM(D28,D29:D30)","v":180.31599999999995},null,null,{"$f":"SUM(G28,G29:G30)","v":185.82599999999996},5.5100000000000193,3.0557465782293423E-2,0.45550348246685901,0.46627485788033862]
["Sub-Total:  Distribution (based on TOU prices)",null,null,{"$f":"SUM(D28,D29,D31)","v":178.29999999999995},null,null,{"$f":"SUM(G28,G29,G31)","v":183.80999999999995},5.5099999999999909,3.0902972518227663E-2,0.45056178958936505,0.46121630787395218]
["Retail Transmission Rate – Network Service Rate",{"$f":"B8","v":2192},{"$f":"VLOOKUP($B$3,'Data Current Rates'!$A:$BE,MATCH(BI_GSe_Typical!$A34,CurrentHeader,0),FALSE)","v":6.4999999999999997E-3},{"$f":"B34*C34","v":14.247999999999999},2192,{"$f":"VLOOKUP($B$3,'Data Proposed Rates'!$A:$BC,MATCH(BI_GSe_Typical!$A34,ProposedHeader,0),FALSE)","v":6.4999999999999997E-3},{"$f":"E34*F34","v":14.247999999999999},{"$f":"G34-D34","v":0},0,3.4925218312764676E-2,3.5751101434024657E-2]
["Retail Transmission Rate – Line and Transformation Connection Service Rate",{"$f":"B8","v":2192},{"$f":"VLOOKUP($B$3,'Data Current Rates'!$A:$BE,MATCH(BI_GSe_Typical!$A35,CurrentHeader,0),FALSE)","v":5.5999999999999999E-3},{"$f":"B35*C35","v":12.2752},2192,{"$f":"VLOOKUP($B$3,'Data Proposed Rates'!$A:$BC,MATCH(BI_GSe_Typical!$A35,ProposedHeader,0),FALSE)","v":5.5999999999999999E-3},{"$f":"E35*F35","v":12.2752},{"$f":"G35-D35","v":0},0,3.0089418854074183E-2,3.0800948927775088E-2]
["Sub-Total:  Retail Transmission ",null,null,{"$f":"SUM(D34:D35)","v":26.523199999999999},null,null,{"$f":"SUM(G34:G35)","v":26.523199999999999},{"$f":"G36-D36","v":0},0,6.5014637166838862E-2,6.6552050361799744E-2]
["Sub-Total:  Delivery (based on two-tier RPP prices)",null,null,{"$f":"D32+D36","v":206.83919999999995},null,null,{"$f":"G32+G36","v":212.34919999999997},{"$f":"G37-D37","v":5.5100000000000193},2.6639051011607184E-2,0.52051811963369787,0.53282690824213841]
["Sub-Total:  Delivery (based on TOU prices)",null,null,{"$f":"D33+D36","v":204.82319999999996},null,null,{"$f":"G33+G36","v":210.33319999999995},{"$f":"G38-D38","v":5.5099999999999909},2.6901249467833684E-2,0.51557642675620385,0.52776835823575186]
["Wholesale Market Service Rate (WMS) - not including CBR",{"$f":"B8","v":2192},{"$f":"VLOOKUP($A39,'Data Pass Through'!$A:$D,2,FALSE)","v":3.0000000000000001E-3},{"$f":"B39*C39","v":6.5760000000000005},{"$f":"$B$8","v":2192},{"$f":"VLOOKUP($A39,'Data Pass Through'!$A:$D,3,FALSE)","v":3.0000000000000001E-3},{"$f":"E39*F39","v":6.5760000000000005},0,0,1.6119331528968314E-2,1.6500508354165229E-2]
["Capacity Based Recovery (CBR) - Applicable for Class B Customers",{"$f":"B8","v":2192},{"$f":"VLOOKUP($A40,'Data Pass Through'!$A:$D,2,FALSE)","v":4.0000000000000002E-4},{"$f":"B40*C40","v":0.87680000000000002},{"$f":"$B$8","v":2192},{"$f":"VLOOKUP($A40,'Data Pass Through'!$A:$D,3,FALSE)","v":4.0000000000000002E-4},{"$f":"E40*F40","v":0.87680000000000002},0,0,2.1492442038624415E-3,2.2000677805553634E-3]
["Rural Rate Protection Charge",{"$f":"B8","v":2192},{"$f":"VLOOKUP($A41,'Data Pass Through'!$A:$D,2,FALSE)","v":5.0000000000000001E-4},1.0960000000000001,2192,{"$f":"VLOOKUP($A41,'Data Pass Through'!$A:$D,3,FALSE)","v":5.0000000000000001E-4},1.0960000000000001,0,0,2.6865552548280521E-3,2.7500847256942047E-3]
["Standard Supply Service – Administration Charge (if applicable)",1,{"$f":"VLOOKUP($A42,'Data Pass Through'!$A:$D,2,FALSE)","v":0.25},{"$f":"B42*C42","v":0.25},1,{"$f":"VLOOKUP($A42,'Data Pass Through'!$A:$D,3,FALSE)","v":0.25},0.25,0,0,6.1280913659398999E-4,6.2730034801418899E-4]
["Sub-Total:  Regulatory",null,null,{"$f":"SUM(D39:D42)","v":8.7988},null,null,{"$f":"SUM(G39:G42)","v":8.7988},0,0,2.1567940124252796E-2,2.2077961208428983E-2]
["Debt Retirement Charge (DRC)",{"$f":"B4","v":2000},{"$f":"VLOOKUP($A44,'Data Pass Through'!$A:$D,2,FALSE)","v":0},{"$f":"B44*C44","v":0},2000,{"$f":"VLOOKUP($A44,'Data Pass Through'!$A:$D,3,FALSE)","v":0},{"$f":"E44*F44","v":0},0,"N/A",0,0]
["Total  Electricty Charge on Two-Tier RPP ",null,null,{"$f":"SUM(D14,D28,D29,D30,D36,D43,D44)","v":438.88799999999992},null,null,{"$f":"SUM(G14,G28,G29,G30,G36,G43,G44)","v":444.39799999999991},5.5099999999999909,1.2554455806492754E-2,1.0893246187363836]
["     HST",null,0.13,{"$f":"D45*C46","v":57.05543999999999},null,{"$f":"C46","v":0.13},{"$f":"G45*F46","v":57.771739999999987},0.71629999999999683,1.2554455806492719E-2,0.14161220043572986]
["Total Electricity Charge on Two-Tier RPP (including HST)",null,null,{"$f":"SUM(D45:D46)","v":495.9434399999999},null,null,{"$f":"SUM(G45:G46)","v":502.16973999999988},6.2262999999999806,1.2554455806492736E-2,1.2309368191721133]
["Ontario Electricity Rebate (OER)",null,{"$f":"'Data Pass Through'!B20","v":-0.21199999999999999},{"$f":"D45*C48","v":-93.044255999999976},null,{"$f":"'Data Pass Through'!C20","v":-0.21199999999999999},{"$f":"G45*F48","v":-94.212375999999978},-1.1681200000000018,-1.2554455806492795E-2,-0.23093681917211331]
["Total Amount on Two-Tier RPP",null,null,{"$f":"SUM(D47:D48)","v":402.89918399999993},null,null,{"$f":"SUM(G47:G48)","v":407.95736399999987},5.0581799999999362,1.2554455806492617E-2,1]
["Total Electricty Charge on TOU (before HST)",null,null,{"$f":"SUM(D18,D28,D29,D31,D36,D43,D44)","v":428.62199999999984},null,null,{"$f":"SUM(G18,G28,G29,G31,G36,G43,G44)","v":434.13199999999995},5.5100000000001046,1.2855149758995354E-2,null,{"$f":"G50/$G$54","v":1.0893246187363834}]
["     HST",null,0.13,{"$f":"D50*C51","v":55.720859999999981},null,{"$f":"C51","v":0.13},{"$f":"G50*F51","v":56.437159999999999},0.71630000000001814,1.2855149758995436E-2,null,{"$f":"G51/$G$54","v":0.14161220043572986}]
["Total Electricity Charge on TOU (including HST)",null,null,{"$f":"SUM(D50:D51)","v":484.3428599999998},null,null,{"$f":"SUM(G50:G51)","v":490.56915999999995},6.2263000000001512,1.2855149758995422E-2,null,{"$f":"G52/$G$54","v":1.2309368191721133}]
["Ontario Electricity Rebate (OER)",null,{"$f":"'Data Pass Through'!B20","v":-0.21199999999999999},{"$f":"D50*C53","v":-90.867863999999969},null,{"$f":"'Data Pass Through'!C20","v":-0.21199999999999999},{"$f":"G50*F53","v":-92.035983999999985},-1.168120000000016,-1.2855149758995287E-2,null,{"$f":"G53/$G$54","v":-0.23093681917211328}]
["Total Amount on TOU",null,null,{"$f":"SUM(D52:D53)","v":393.47499599999981},null,null,{"$f":"SUM(G52:G53)","v":398.53317599999997},5.0581800000001635,1.2855149758995528E-2,null,{"$f":"G54/$G$54","v":1}]
["* Distribution rate protection applies to R1 and R2 customers"]

{"sheet":"BI_GSe_Avg","index":36,"n_rows":55,"n_cols":11,"rows_kept":55,"cut":false,"hidden":false,"merged":[[0,0,0,10]]}
["2021 Bill Impacts (Average Consumption Level) - GSe"]
[]
["Rate Class",{"$f":"RIGHT(A1,LEN(A1)-FIND(\"- \",A1,1)-1)","v":"GSe"}]
["Monthly Consumption (kWh)",{"$f":"IF(COUNTIF(A1,\"*Low*\")>0,VLOOKUP(B3,'Data Billing Quantities'!$A:$Z,MATCH(\"Low kWh\",'Data Billing Quantities'!4:4,0),FALSE),IF(COUNTIF(A1,\"*Typical*\")>0,VLOOKUP(B3,'Data Billing Quantities'!$A:$Z,MATCH(\"Typical kWh\",'Data Billing Quantities'!4:4,0),FALSE),IF(COUNTIF(A1,\"*Average*\")>0,VLOOKUP(B3,'Data Billing Quantities'!$A:$Z,MATCH(\"Average kWh\",'Data Billing Quantities'!4:4,0),FALSE),IF(COUNTIF(A1,\"*High*\")>0,VLOOKUP(B3,'Data Billing Quantities'!$A:$Z,MATCH(\"High kWh\",'Data Billing Quantities'!4:4,0),FALSE),\"error\"))))","v":1982}]
["Peak (kW)",{"$f":"IF(COUNTIF(A1,\"*Low*\")>0,VLOOKUP(B3,'Data Billing Quantities'!$A:$Z,MATCH(\"Low kW\",'Data Billing Quantities'!4:4,0),FALSE),IF(COUNTIF(A1,\"*Typical*\")>0,VLOOKUP(B3,'Data Billing Quantities'!$A:$Z,MATCH(\"Typical kW\",'Data Billing Quantities'!4:4,0),FALSE),IF(COUNTIF(A1,\"*Average*\")>0,VLOOKUP(B3,'Data Billing Quantities'!$A:$Z,MATCH(\"Average kW\",'Data Billing Quantities'!4:4,0),FALSE),IF(COUNTIF(A1,\"*High*\")>0,VLOOKUP(B3,'Data Billing Quantities'!$A:$Z,MATCH(\"High kW\",'Data Billing Quantities'!4:4,0),FALSE),\"error\"))))","v":0}]
["Loss factor",{"$f":"VLOOKUP(B3,'Data Billing Quantities'!A:D,MATCH(A6,'Data Billing Quantities'!4:4,0),FALSE)","v":1.0960000000000001}]
["Commodity Threshold",{"$f":"VLOOKUP(B3,'Data Billing Quantities'!A:D,MATCH(A7,'Data Billing Quantities'!4:4,0),FALSE)","v":750}]
["Monthly Consumption (kWh) - Uplifted",{"$f":"B4*B6","v":2172.2720000000004}]
["Charge determinant",{"$f":"VLOOKUP(B3,'Data Billing Quantities'!A:D,MATCH(A9,'Data Billing Quantities'!4:4,0),FALSE)","v":"kWh"}]
[]
[null,"Volume","Current Rate ($)","Current Charge ($)","Volume","Proposed Rate ($)","Proposed Charge ($)","Change ($)","Change (%)","% of Total Bill on RPP","% of Total Bill on TOU"]
["Energy First Tier",{"$f":"IF(B4>B7,B7,B4)","v":750},{"$f":"VLOOKUP($A12,'Data Pass Through'!$A:$D,2,FALSE)","v":0.10100000000000001},{"$f":"B12*C12","v":75.75},{"$f":"B12","v":750},{"$f":"VLOOKUP($A12,'Data Pass Through'!$A:$D,3,FALSE)","v":0.10100000000000001},{"$f":"E12*F12","v":75.75},{"$f":"G12-D12","v":0},{"$f":"IF(ISERROR(H12/ABS(D12)),\"N/A\",(H12/ABS(D12)))","v":0},{"$f":"G12/$G$49","v":0.18728683232297089}]
["Energy Second Tier",{"$f":"IF(B4>B7,(B4)-B7,0)","v":1232},{"$f":"VLOOKUP($A13,'Data Pass Through'!$A:$D,2,FALSE)","v":0.11799999999999999},{"$f":"B13*C13","v":145.376},{"$f":"B13","v":1232},{"$f":"VLOOKUP($A13,'Data Pass Through'!$A:$D,3,FALSE)","v":0.11799999999999999},{"$f":"E13*F13","v":145.376},0,0,{"$f":"G13/$G$49","v":0.35943248232058372}]
["Sub-Total:  Energy (RPP Tiered)",null,null,{"$f":"SUM(D12:D13)","v":221.126},null,null,{"$f":"SUM(G12:G13)","v":221.126},0,0,{"$f":"G14/$G$49","v":0.54671931464355461}]
["TOU-Off Peak",{"$f":"B$4*VLOOKUP($B$3,'Data Billing Quantities'!$A:$O,MATCH(BI_GSe_Avg!$A15,'Data Billing Quantities'!$4:$4,0),FALSE)","v":1268.48},{"$f":"VLOOKUP($A15,'Data Pass Through'!$A:$D,2,FALSE)","v":8.5000000000000006E-2},{"$f":"B15*C15","v":107.82080000000001},1268.48,{"$f":"VLOOKUP($A15,'Data Pass Through'!$A:$D,3,FALSE)","v":8.5000000000000006E-2},{"$f":"E15*F15","v":107.82080000000001},0,0,null,{"$f":"G15/$G$54","v":0.27280810229437791}]
["TOU-Mid Peak",{"$f":"B$4*VLOOKUP($B$3,'Data Billing Quantities'!$A:$O,MATCH(BI_GSe_Avg!$A16,'Data Billing Quantities'!$4:$4,0),FALSE)","v":356.76},{"$f":"VLOOKUP($A16,'Data Pass Through'!$A:$D,2,FALSE)","v":0.11899999999999999},{"$f":"B16*C16","v":42.454439999999998},356.76,{"$f":"VLOOKUP($A16,'Data Pass Through'!$A:$D,3,FALSE)","v":0.11899999999999999},{"$f":"E16*F16","v":42.454439999999998},0,0,null,0.10741819027841129]
["TOU-On Peak",{"$f":"B$4*VLOOKUP($B$3,'Data Billing Quantities'!$A:$O,MATCH(BI_GSe_Avg!$A17,'Data Billing Quantities'!$4:$4,0),FALSE)","v":356.76},{"$f":"VLOOKUP($A17,'Data Pass Through'!$A:$D,2,FALSE)","v":0.17599999999999999},{"$f":"B17*C17","v":62.789759999999994},356.76,{"$f":"VLOOKUP($A17,'Data Pass Through'!$A:$D,3,FALSE)","v":0.17599999999999999},{"$f":"E17*F17","v":62.789759999999994},0,0,null,0.15887060074790241]
["Sub-Total:  Energy (RPP TOU)",null,null,{"$f":"SUM(D15:D17)","v":213.065},null,null,{"$f":"SUM(G15:G17)","v":213.065},0,0,{"$f":"G18/$G$49","v":0.52678902876427447},0.53909689332069166]
["Service Charge",1,{"$f":"IF(ISERROR(VLOOKUP($B$3,'Data Current Rates'!$A:$BE,MATCH(BI_GSe_Avg!$A19,CurrentHeader,0),FALSE)),0,VLOOKUP($B$3,'Data Current Rates'!$A:$BE,MATCH(BI_GSe_Avg!$A19,CurrentHeader,0),FALSE))","v":32.479999999999997},{"$f":"B19*C19","v":32.479999999999997},1,{"$f":"VLOOKUP($B$3,'Data Proposed Rates'!$A:$BC,MATCH(BI_GSe_Avg!$A19,ProposedHeader,0),FALSE)","v":32.479999999999997},{"$f":"E19*F19","v":32.479999999999997},0,0,8.0304637806601908E-2,8.2180870133790454E-2]
["Base Rate Adjustment to Recover Past Tax Amounts FIXED",null,null,null,1,{"$f":"VLOOKUP($B$3,'Data Proposed Rates'!$A:$BC,MATCH(BI_GSe_Avg!$A20,ProposedHeader,0),FALSE)","v":1.1100000000000001},1.1100000000000001,1.1100000000000001,"N/A",2.7444011073069004E-3,2.8085211160254748E-3]
["Fixed Deferral/Variance Account Rider (General)",1,{"$f":"IF(ISERROR(VLOOKUP($B$3,'Data Current Rates'!$A:$BE,MATCH(BI_GSe_Avg!$A21,CurrentHeader,0),FALSE)),0,VLOOKUP($B$3,'Data Current Rates'!$A:$BE,MATCH(BI_GSe_Avg!$A21,CurrentHeader,0),FALSE))","v":-0.14000000000000001},-0.14000000000000001,1,{"$f":"VLOOKUP($B$3,'Data Proposed Rates'!$A:$BC,MATCH(BI_GSe_Avg!$A21,ProposedHeader,0),FALSE)","v":-0.14000000000000001},-0.14000000000000001,0,0,-3.4614068020087034E-4,-3.5422788850771752E-4]
["Fixed ESM Rider",1,{"$f":"IF(ISERROR(VLOOKUP($B$3,'Data Current Rates'!$A:$BE,MATCH(BI_GSe_Avg!$A22,CurrentHeader,0),FALSE)),0,VLOOKUP($B$3,'Data Current Rates'!$A:$BE,MATCH(BI_GSe_Avg!$A22,CurrentHeader,0),FALSE))","v":-0.45},-0.45,1,{"$f":"VLOOKUP($B$3,'Data Proposed Rates'!$A:$BC,MATCH(BI_GSe_Avg!$A22,ProposedHeader,0),FALSE)","v":-0.45},-0.45,0,0,-1.1125950435027974E-3,-1.1385896416319491E-3]
["Distribution Volumetric Charge",{"$f":"IF($B$9=\"kWh\",$B$4,$B$5)","v":1982},{"$f":"IF(ISERROR(VLOOKUP($B$3,'Data Current Rates'!$A:$BE,MATCH(BI_GSe_Avg!$A23,CurrentHeader,0),FALSE)),0,VLOOKUP($B$3,'Data Current Rates'!$A:$BE,MATCH(BI_GSe_Avg!$A23,CurrentHeader,0),FALSE))","v":6.4199999999999993E-2},127.24439999999998,{"$f":"IF($B$9=\"kWh\",$B$4,$B$5)","v":1982},{"$f":"VLOOKUP($B$3,'Data Proposed Rates'!$A:$BC,MATCH(BI_GSe_Avg!$A23,ProposedHeader,0),FALSE)","v":6.4199999999999993E-2},127.24439999999998,0,0,0.31460330834108297,0.32195367954593856]
["Base Rate Adjustment to Recover Past Tax Amounts VOL",null,null,null,{"$f":"IF($B$9=\"kWh\",$B$4,$B$5)","v":1982},{"$f":"VLOOKUP($B$3,'Data Proposed Rates'!$A:$BC,MATCH(BI_GSe_Avg!$A24,ProposedHeader,0),FALSE)","v":2.2000000000000001E-3},4.3604000000000003,4.3604000000000003,"N/A",1.0780798728199106E-2,1.1032680607493225E-2]
["Volumetric Deferral/Variance Account Rider (General)",{"$f":"IF($B$9=\"kWh\",$B$4,$B$5)","v":1982},{"$f":"IF(ISERROR(VLOOKUP($B$3,'Data Current Rates'!$A:$BE,MATCH(BI_GSe_Avg!$A25,CurrentHeader,0),FALSE)),0,VLOOKUP($B$3,'Data Current Rates'!$A:$BE,MATCH(BI_GSe_Avg!$A25,CurrentHeader,0),FALSE))","v":-6.9999999999999999E-4},-1.3874,{"$f":"IF($B$9=\"kWh\",$B$4,$B$5)","v":1982},{"$f":"VLOOKUP($B$3,'Data Proposed Rates'!$A:$BC,MATCH(BI_GSe_Avg!$A25,ProposedHeader,0),FALSE)","v":-6.9999999999999999E-4},-1.3874,0,0,-3.4302541407906246E-3,-3.5103983751114801E-3]
["Volumetric ESM Rider",1982,{"$f":"IF(ISERROR(VLOOKUP($B$3,'Data Current Rates'!$A:$BE,MATCH(BI_GSe_Avg!$A26,CurrentHeader,0),FALSE)),0,VLOOKUP($B$3,'Data Current Rates'!$A:$BE,MATCH(BI_GSe_Avg!$A26,CurrentHeader,0),FALSE))","v":-8.9999999999999998E-4},-1.7838000000000001,1982,{"$f":"VLOOKUP($B$3,'Data Proposed Rates'!$A:$BC,MATCH(BI_GSe_Avg!$A26,ProposedHeader,0),FALSE)","v":-8.9999999999999998E-4},-1.7838000000000001,0,0,-4.4103267524450889E-3,-4.5133693394290462E-3]
["Fair Hydro Plan - Distribution Rate Protection Savings*",null,null,{"$f":"IF(AND(B3<>\"R1\",B3<>\"R2\"),0,IF(VLOOKUP($A27,'Data Pass Through'!$A:$D,2,FALSE)=0,0,IF(SUM(D19:D20,D23:D24)<VLOOKUP($A27,'Data Pass Through'!$A:$D,2,FALSE),0,VLOOKUP($A27,'Data Pass Through'!$A:$D,2,FALSE)-SUM(D19:D20,D23:D24))))","v":0},null,null,{"$f":"IF(AND(B3<>\"R1\",B3<>\"R2\"),0,IF(VLOOKUP($A27,'Data Pass Through'!$A:$D,2,FALSE)=0,0,IF(SUM(G19:G20,G23:G24)<VLOOKUP($A27,'Data Pass Through'!$A:$D,2,FALSE),0,VLOOKUP($A27,'Data Pass Through'!$A:$D,2,FALSE)-SUM(G19:G20,G23:G24))))","v":0},0,"N/A",0,0]
["Sub-Total:  Distribution (excluding pass through)",null,null,{"$f":"SUM(INDIRECT(\"D19:D\"&ROW()-1))","v":155.96319999999994},null,null,{"$f":"SUM(INDIRECT(\"g19:g\"&ROW()-1))","v":161.43359999999996},{"$f":"G28-D28","v":5.4704000000000121},3.5074940755255177E-2,0.39913382936625141,0.40845916615856748]
["Smart Metering Entity Charge",1,{"$f":"VLOOKUP($A29,'Data Pass Through'!$A:$D,2,FALSE)","v":0.56999999999999995},{"$f":"B29*C29","v":0.56999999999999995},1,{"$f":"VLOOKUP($A29,'Data Pass Through'!$A:$D,3,FALSE)","v":0.56999999999999995},{"$f":"E29*F29","v":0.56999999999999995},0,0,1.4092870551035432E-3,1.4422135460671354E-3]
["Line Losses on Cost of Power (based on two-tier RPP prices)",{"$f":"B8-B4","v":190.27200000000039},{"$f":"IF(B4>B7,C13,C12)","v":0.11799999999999999},{"$f":"B30*C30","v":22.452096000000044},190.27200000000039,{"$f":"IF(B4>B7,F13,F12)","v":0.11799999999999999},{"$f":"E30*F30","v":22.452096000000044},0,0,5.551131272410896E-2,5.6808275418947035E-2]
["Line Losses on Cost of Power (based on TOU prices)",{"$f":"B8-B4","v":190.27200000000039},{"$f":"VLOOKUP($B$3,'Data Billing Quantities'!$A:$O,MATCH(BI_GSe_Avg!$A15,'Data Billing Quantities'!$4:$4,0),FALSE)*C15+VLOOKUP($B$3,'Data Billing Quantities'!$A:$O,MATCH(BI_GSe_Avg!$A16,'Data Billing Quantities'!$4:$4,0),FALSE)*C16+VLOOKUP($B$3,'Data Billing Quantities'!$A:$O,MATCH(BI_GSe_Avg!$A17,'Data Billing Quantities'!$4:$4,0),FALSE)*C17","v":0.1075},{"$f":"B31*C31","v":20.454240000000041},190.27200000000039,{"$f":"VLOOKUP($B$3,'Data Billing Quantities'!$A:$O,MATCH(BI_GSe_Avg!$A15,'Data Billing Quantities'!$4:$4,0),FALSE)*F15+VLOOKUP($B$3,'Data Billing Quantities'!$A:$O,MATCH(BI_GSe_Avg!$A16,'Data Billing Quantities'!$4:$4,0),FALSE)*F16+VLOOKUP($B$3,'Data Billing Quantities'!$A:$O,MATCH(BI_GSe_Avg!$A17,'Data Billing Quantities'!$4:$4,0),FALSE)*F17","v":0.1075},{"$f":"E31*F31","v":20.454240000000041},0,0,5.0571746761370454E-2,5.17533017587865E-2]
["Sub-Total:  Distribution (based on two-tier RPP prices)",null,null,{"$f":"SUM(D28,D29:D30)","v":178.98529599999998},null,null,{"$f":"SUM(G28,G29:G30)","v":184.45569599999999},5.4704000000000121,3.0563404493294314E-2,0.4560544291454639,0.46670965512358165]
["Sub-Total:  Distribution (based on TOU prices)",null,null,{"$f":"SUM(D28,D29,D31)","v":176.98743999999999},null,null,{"$f":"SUM(G28,G29,G31)","v":182.45783999999998},5.4703999999999837,3.0908407963864463E-2,0.45111486318272537,0.46165468146342103]
["Retail Transmission Rate – Network Service Rate",{"$f":"B8","v":2172.2720000000004},{"$f":"VLOOKUP($B$3,'Data Current Rates'!$A:$BE,MATCH(BI_GSe_Avg!$A34,CurrentHeader,0),FALSE)","v":6.4999999999999997E-3},{"$f":"B34*C34","v":14.119768000000002},2172.2720000000004,{"$f":"VLOOKUP($B$3,'Data Proposed Rates'!$A:$BC,MATCH(BI_GSe_Avg!$A34,ProposedHeader,0),FALSE)","v":6.4999999999999997E-3},{"$f":"E34*F34","v":14.119768000000002},{"$f":"G34-D34","v":0},0,3.491018642713202E-2,3.5725825748991698E-2]
["Retail Transmission Rate – Line and Transformation Connection Service Rate",{"$f":"B8","v":2172.2720000000004},{"$f":"VLOOKUP($B$3,'Data Current Rates'!$A:$BE,MATCH(BI_GSe_Avg!$A35,CurrentHeader,0),FALSE)","v":5.5999999999999999E-3},{"$f":"B35*C35","v":12.164723200000003},2172.2720000000004,{"$f":"VLOOKUP($B$3,'Data Proposed Rates'!$A:$BC,MATCH(BI_GSe_Avg!$A35,ProposedHeader,0),FALSE)","v":5.5999999999999999E-3},{"$f":"E35*F35","v":12.164723200000003},{"$f":"G35-D35","v":0},0,3.0076468306452206E-2,3.0779172952977465E-2]
["Sub-Total:  Retail Transmission ",null,null,{"$f":"SUM(D34:D35)","v":26.284491200000005},null,null,{"$f":"SUM(G34:G35)","v":26.284491200000005},{"$f":"G36-D36","v":0},0,6.4986654733584226E-2,6.6504998701969173E-2]
["Sub-Total:  Delivery (based on two-tier RPP prices)",null,null,{"$f":"D32+D36","v":205.2697872},null,null,{"$f":"G32+G36","v":210.74018719999998},{"$f":"G37-D37","v":5.4703999999999837},2.6649805968133159E-2,0.52104108387904813,0.53321465382555078]
["Sub-Total:  Delivery (based on TOU prices)",null,null,{"$f":"D33+D36","v":203.27193119999998},null,null,{"$f":"G33+G36","v":208.74233119999997},{"$f":"G38-D38","v":5.4703999999999837},2.6911733300834524E-2,0.51610151791630954,0.52815968016539017]
["Wholesale Market Service Rate (WMS) - not including CBR",{"$f":"B8","v":2172.2720000000004},{"$f":"VLOOKUP($A39,'Data Pass Through'!$A:$D,2,FALSE)","v":3.0000000000000001E-3},{"$f":"B39*C39","v":6.5168160000000013},{"$f":"$B$8","v":2172.2720000000004},{"$f":"VLOOKUP($A39,'Data Pass Through'!$A:$D,3,FALSE)","v":3.0000000000000001E-3},{"$f":"E39*F39","v":6.5168160000000013},0,0,1.6112393735599393E-2,1.6488842653380784E-2]
["Capacity Based Recovery (CBR) - Applicable for Class B Customers",{"$f":"B8","v":2172.2720000000004},{"$f":"VLOOKUP($A40,'Data Pass Through'!$A:$D,2,FALSE)","v":4.0000000000000002E-4},{"$f":"B40*C40","v":0.86890880000000015},{"$f":"$B$8","v":2172.2720000000004},{"$f":"VLOOKUP($A40,'Data Pass Through'!$A:$D,3,FALSE)","v":4.0000000000000002E-4},{"$f":"E40*F40","v":0.86890880000000015},0,0,2.1483191647465858E-3,2.1985123537841046E-3]
["Rural Rate Protection Charge",{"$f":"B8","v":2172.2720000000004},{"$f":"VLOOKUP($A41,'Data Pass Through'!$A:$D,2,FALSE)","v":5.0000000000000001E-4},1.0861360000000002,2172.2720000000004,{"$f":"VLOOKUP($A41,'Data Pass Through'!$A:$D,3,FALSE)","v":5.0000000000000001E-4},1.0861360000000002,0,0,2.6853989559332326E-3,2.748140442230131E-3]
["Standard Supply Service – Administration Charge (if applicable)",1,{"$f":"VLOOKUP($A42,'Data Pass Through'!$A:$D,2,FALSE)","v":0.25},{"$f":"B42*C42","v":0.25},1,{"$f":"VLOOKUP($A42,'Data Pass Through'!$A:$D,3,FALSE)","v":0.25},0.25,0,0,6.181083575015541E-4,6.3254980090663836E-4]
["Sub-Total:  Regulatory",null,null,{"$f":"SUM(D39:D42)","v":8.7218608000000017},null,null,{"$f":"SUM(G39:G42)","v":8.7218608000000017},0,0,2.1564220213780766E-2,2.2068045250301659E-2]
["Debt Retirement Charge (DRC)",{"$f":"B4","v":1982},{"$f":"VLOOKUP($A44,'Data Pass Through'!$A:$D,2,FALSE)","v":0},{"$f":"B44*C44","v":0},1982,{"$f":"VLOOKUP($A44,'Data Pass Through'!$A:$D,3,FALSE)","v":0},{"$f":"E44*F44","v":0},0,"N/A",0,0]
["Total  Electricty Charge on Two-Tier RPP ",null,null,{"$f":"SUM(D14,D28,D29,D30,D36,D43,D44)","v":435.11764799999997},null,null,{"$f":"SUM(G14,G28,G29,G30,G36,G43,G44)","v":440.58804799999996},5.4703999999999837,1.257223195874598E-2,1.0893246187363834]
["     HST",null,0.13,{"$f":"D45*C46","v":56.56529424},null,{"$f":"C46","v":0.13},{"$f":"G45*F46","v":57.276446239999999},0.71115199999999845,1.257223195874599E-2,0.14161220043572986]
["Total Electricity Charge on Two-Tier RPP (including HST)",null,null,{"$f":"SUM(D45:D46)","v":491.68294223999999},null,null,{"$f":"SUM(G45:G46)","v":497.86449423999994},6.1815519999999538,1.2572231958745923E-2,1.2309368191721133]
["Ontario Electricity Rebate (OER)",null,{"$f":"'Data Pass Through'!B20","v":-0.21199999999999999},{"$f":"D45*C48","v":-92.244941375999986},null,{"$f":"'Data Pass Through'!C20","v":-0.21199999999999999},{"$f":"G45*F48","v":-93.404666175999992},-1.1597248000000064,-1.2572231958746089E-2,-0.23093681917211328]
["Total Amount on Two-Tier RPP",null,null,{"$f":"SUM(D47:D48)","v":399.438000864},null,null,{"$f":"SUM(G47:G48)","v":404.45982806399996},5.0218271999999615,1.2572231958745921E-2,1]
["Total Electricty Charge on TOU (before HST)",null,null,{"$f":"SUM(D18,D28,D29,D31,D36,D43,D44)","v":425.05879199999998},null,null,{"$f":"SUM(G18,G28,G29,G31,G36,G43,G44)","v":430.52919199999997},5.4703999999999837,1.2869749086380465E-2,null,{"$f":"G50/$G$54","v":1.0893246187363834}]
["     HST",null,0.13,{"$f":"D50*C51","v":55.257642959999998},null,{"$f":"C51","v":0.13},{"$f":"G50*F51","v":55.968794959999997},0.71115199999999845,1.2869749086380475E-2,null,{"$f":"G51/$G$54","v":0.14161220043572986}]
["Total Electricity Charge on TOU (including HST)",null,null,{"$f":"SUM(D50:D51)","v":480.31643495999998},null,null,{"$f":"SUM(G50:G51)","v":486.49798695999993},6.1815519999999538,1.2869749086380406E-2,null,{"$f":"G52/$G$54","v":1.2309368191721133}]
["Ontario Electricity Rebate (OER)",null,{"$f":"'Data Pass Through'!B20","v":-0.21199999999999999},{"$f":"D50*C53","v":-90.112463903999995},null,{"$f":"'Data Pass Through'!C20","v":-0.21199999999999999},{"$f":"G50*F53","v":-91.272188703999987},-1.1597247999999922,-1.2869749086380416E-2,null,{"$f":"G53/$G$54","v":-0.23093681917211328}]
["Total Amount on TOU",null,null,{"$f":"SUM(D52:D53)","v":390.203971056},null,null,{"$f":"SUM(G52:G53)","v":395.22579825599996},5.0218271999999615,1.2869749086380404E-2,null,{"$f":"G54/$G$54","v":1}]
["* Distribution rate protection applies to R1 and R2 customers"]

{"sheet":"BI_GSe_High","index":37,"n_rows":55,"n_cols":11,"rows_kept":55,"cut":false,"hidden":false,"merged":[[0,0,0,10]]}
["2021 Bill Impacts (High Consumption Level) - GSe"]
[]
["Rate Class",{"$f":"RIGHT(A1,LEN(A1)-FIND(\"- \",A1,1)-1)","v":"GSe"}]
["Monthly Consumption (kWh)",{"$f":"IF(COUNTIF(A1,\"*Low*\")>0,VLOOKUP(B3,'Data Billing Quantities'!$A:$Z,MATCH(\"Low kWh\",'Data Billing Quantities'!4:4,0),FALSE),IF(COUNTIF(A1,\"*Typical*\")>0,VLOOKUP(B3,'Data Billing Quantities'!$A:$Z,MATCH(\"Typical kWh\",'Data Billing Quantities'!4:4,0),FALSE),IF(COUNTIF(A1,\"*Average*\")>0,VLOOKUP(B3,'Data Billing Quantities'!$A:$Z,MATCH(\"Average kWh\",'Data Billing Quantities'!4:4,0),FALSE),IF(COUNTIF(A1,\"*High*\")>0,VLOOKUP(B3,'Data Billing Quantities'!$A:$Z,MATCH(\"High kWh\",'Data Billing Quantities'!4:4,0),FALSE),\"error\"))))","v":15000}]
["Peak (kW)",{"$f":"IF(COUNTIF(A1,\"*Low*\")>0,VLOOKUP(B3,'Data Billing Quantities'!$A:$Z,MATCH(\"Low kW\",'Data Billing Quantities'!4:4,0),FALSE),IF(COUNTIF(A1,\"*Typical*\")>0,VLOOKUP(B3,'Data Billing Quantities'!$A:$Z,MATCH(\"Typical kW\",'Data Billing Quantities'!4:4,0),FALSE),IF(COUNTIF(A1,\"*Average*\")>0,VLOOKUP(B3,'Data Billing Quantities'!$A:$Z,MATCH(\"Average kW\",'Data Billing Quantities'!4:4,0),FALSE),IF(COUNTIF(A1,\"*High*\")>0,VLOOKUP(B3,'Data Billing Quantities'!$A:$Z,MATCH(\"High kW\",'Data Billing Quantities'!4:4,0),FALSE),\"error\"))))","v":0}]
["Loss factor",{"$f":"VLOOKUP(B3,'Data Billing Quantities'!A:D,MATCH(A6,'Data Billing Quantities'!4:4,0),FALSE)","v":1.0960000000000001}]
["Commodity Threshold",{"$f":"VLOOKUP(B3,'Data Billing Quantities'!A:D,MATCH(A7,'Data Billing Quantities'!4:4,0),FALSE)","v":750}]
["Monthly Consumption (kWh) - Uplifted",{"$f":"B4*B6","v":16440}]
["Charge determinant",{"$f":"VLOOKUP(B3,'Data Billing Quantities'!A:D,MATCH(A9,'Data Billing Quantities'!4:4,0),FALSE)","v":"kWh"}]
[]
[null,"Volume","Current Rate ($)","Current Charge ($)","Volume","Proposed Rate ($)","Proposed Charge ($)","Change ($)","Change (%)","% of Total Bill on RPP","% of Total Bill on TOU"]
["Energy First Tier",{"$f":"IF(B4>B7,B7,B4)","v":750},{"$f":"VLOOKUP($A12,'Data Pass Through'!$A:$D,2,FALSE)","v":0.10100000000000001},{"$f":"B12*C12","v":75.75},{"$f":"B12","v":750},{"$f":"VLOOKUP($A12,'Data Pass Through'!$A:$D,3,FALSE)","v":0.10100000000000001},{"$f":"E12*F12","v":75.75},{"$f":"G12-D12","v":0},{"$f":"IF(ISERROR(H12/ABS(D12)),\"N/A\",(H12/ABS(D12)))","v":0},{"$f":"G12/$G$49","v":2.5818387145702962E-2}]
["Energy Second Tier",{"$f":"IF(B4>B7,(B4)-B7,0)","v":14250},{"$f":"VLOOKUP($A13,'Data Pass Through'!$A:$D,2,FALSE)","v":0.11799999999999999},{"$f":"B13*C13","v":1681.5},{"$f":"B13","v":14250},{"$f":"VLOOKUP($A13,'Data Pass Through'!$A:$D,3,FALSE)","v":0.11799999999999999},{"$f":"E13*F13","v":1681.5},0,0,{"$f":"G13/$G$49","v":0.57311706911550531}]
["Sub-Total:  Energy (RPP Tiered)",null,null,{"$f":"SUM(D12:D13)","v":1757.25},null,null,{"$f":"SUM(G12:G13)","v":1757.25},0,0,{"$f":"G14/$G$49","v":0.59893545626120825}]
["TOU-Off Peak",{"$f":"B$4*VLOOKUP($B$3,'Data Billing Quantities'!$A:$O,MATCH(BI_GSe_High!$A15,'Data Billing Quantities'!$4:$4,0),FALSE)","v":9600},{"$f":"VLOOKUP($A15,'Data Pass Through'!$A:$D,2,FALSE)","v":8.5000000000000006E-2},{"$f":"B15*C15","v":816.00000000000011},9600,{"$f":"VLOOKUP($A15,'Data Pass Through'!$A:$D,3,FALSE)","v":8.5000000000000006E-2},{"$f":"E15*F15","v":816.00000000000011},0,0,null,{"$f":"G15/$G$54","v":0.29276747236275058}]
["TOU-Mid Peak",{"$f":"B$4*VLOOKUP($B$3,'Data Billing Quantities'!$A:$O,MATCH(BI_GSe_High!$A16,'Data Billing Quantities'!$4:$4,0),FALSE)","v":2700},{"$f":"VLOOKUP($A16,'Data Pass Through'!$A:$D,2,FALSE)","v":0.11899999999999999},{"$f":"B16*C16","v":321.3},2700,{"$f":"VLOOKUP($A16,'Data Pass Through'!$A:$D,3,FALSE)","v":0.11899999999999999},{"$f":"E16*F16","v":321.3},0,0,null,0.11527719224283303]
["TOU-On Peak",{"$f":"B$4*VLOOKUP($B$3,'Data Billing Quantities'!$A:$O,MATCH(BI_GSe_High!$A17,'Data Billing Quantities'!$4:$4,0),FALSE)","v":2700},{"$f":"VLOOKUP($A17,'Data Pass Through'!$A:$D,2,FALSE)","v":0.17599999999999999},{"$f":"B17*C17","v":475.2},2700,{"$f":"VLOOKUP($A17,'Data Pass Through'!$A:$D,3,FALSE)","v":0.17599999999999999},{"$f":"E17*F17","v":475.2},0,0,null,0.17049399861124886]
["Sub-Total:  Energy (RPP TOU)",null,null,{"$f":"SUM(D15:D17)","v":1612.5000000000002},null,null,{"$f":"SUM(G15:G17)","v":1612.5000000000002},0,0,{"$f":"G18/$G$49","v":0.54959933032932051},0.57853866321683256]
["Service Charge",1,{"$f":"IF(ISERROR(VLOOKUP($B$3,'Data Current Rates'!$A:$BE,MATCH(BI_GSe_High!$A19,CurrentHeader,0),FALSE)),0,VLOOKUP($B$3,'Data Current Rates'!$A:$BE,MATCH(BI_GSe_High!$A19,CurrentHeader,0),FALSE))","v":32.479999999999997},{"$f":"B19*C19","v":32.479999999999997},1,{"$f":"VLOOKUP($B$3,'Data Proposed Rates'!$A:$BC,MATCH(BI_GSe_High!$A19,ProposedHeader,0),FALSE)","v":32.479999999999997},{"$f":"E19*F19","v":32.479999999999997},0,0,1.1070379069207024E-2,1.1653293507772227E-2]
["Base Rate Adjustment to Recover Past Tax Amounts FIXED",null,null,null,1,{"$f":"VLOOKUP($B$3,'Data Proposed Rates'!$A:$BC,MATCH(BI_GSe_High!$A20,ProposedHeader,0),FALSE)","v":1.1100000000000001},1.1100000000000001,1.1100000000000001,"N/A",3.7832884134297412E-4,3.9824987049344749E-4]
["Fixed Deferral/Variance Account Rider (General)",1,{"$f":"IF(ISERROR(VLOOKUP($B$3,'Data Current Rates'!$A:$BE,MATCH(BI_GSe_High!$A21,CurrentHeader,0),FALSE)),0,VLOOKUP($B$3,'Data Current Rates'!$A:$BE,MATCH(BI_GSe_High!$A21,CurrentHeader,0),FALSE))","v":-0.14000000000000001},-0.14000000000000001,1,{"$f":"VLOOKUP($B$3,'Data Proposed Rates'!$A:$BC,MATCH(BI_GSe_High!$A21,ProposedHeader,0),FALSE)","v":-0.14000000000000001},-0.14000000000000001,0,0,-4.7717151160375115E-5,-5.0229713395569957E-5]
["Fixed ESM Rider",1,{"$f":"IF(ISERROR(VLOOKUP($B$3,'Data Current Rates'!$A:$BE,MATCH(BI_GSe_High!$A22,CurrentHeader,0),FALSE)),0,VLOOKUP($B$3,'Data Current Rates'!$A:$BE,MATCH(BI_GSe_High!$A22,CurrentHeader,0),FALSE))","v":-0.45},-0.45,1,{"$f":"VLOOKUP($B$3,'Data Proposed Rates'!$A:$BC,MATCH(BI_GSe_High!$A22,ProposedHeader,0),FALSE)","v":-0.45},-0.45,0,0,-1.5337655730120572E-4,-1.6145265020004628E-4]
["Distribution Volumetric Charge",{"$f":"IF($B$9=\"kWh\",$B$4,$B$5)","v":15000},{"$f":"IF(ISERROR(VLOOKUP($B$3,'Data Current Rates'!$A:$BE,MATCH(BI_GSe_High!$A23,CurrentHeader,0),FALSE)),0,VLOOKUP($B$3,'Data Current Rates'!$A:$BE,MATCH(BI_GSe_High!$A23,CurrentHeader,0),FALSE))","v":6.4199999999999993E-2},962.99999999999989,{"$f":"IF($B$9=\"kWh\",$B$4,$B$5)","v":15000},{"$f":"VLOOKUP($B$3,'Data Proposed Rates'!$A:$BC,MATCH(BI_GSe_High!$A23,ProposedHeader,0),FALSE)","v":6.4199999999999993E-2},962.99999999999989,0,0,0.32822583262458016,0.34550867142809899]
["Base Rate Adjustment to Recover Past Tax Amounts VOL",null,null,null,{"$f":"IF($B$9=\"kWh\",$B$4,$B$5)","v":15000},{"$f":"VLOOKUP($B$3,'Data Proposed Rates'!$A:$BC,MATCH(BI_GSe_High!$A24,ProposedHeader,0),FALSE)","v":2.2000000000000001E-3},33,33,"N/A",1.1247614202088418E-2,1.1839861014670059E-2]
["Volumetric Deferral/Variance Account Rider (General)",{"$f":"IF($B$9=\"kWh\",$B$4,$B$5)","v":15000},{"$f":"IF(ISERROR(VLOOKUP($B$3,'Data Current Rates'!$A:$BE,MATCH(BI_GSe_High!$A25,CurrentHeader,0),FALSE)),0,VLOOKUP($B$3,'Data Current Rates'!$A:$BE,MATCH(BI_GSe_High!$A25,CurrentHeader,0),FALSE))","v":-6.9999999999999999E-4},-10.5,{"$f":"IF($B$9=\"kWh\",$B$4,$B$5)","v":15000},{"$f":"VLOOKUP($B$3,'Data Proposed Rates'!$A:$BC,MATCH(BI_GSe_High!$A25,ProposedHeader,0),FALSE)","v":-6.9999999999999999E-4},-10.5,0,0,-3.5787863370281333E-3,-3.767228504667746E-3]
["Volumetric ESM Rider",15000,{"$f":"IF(ISERROR(VLOOKUP($B$3,'Data Current Rates'!$A:$BE,MATCH(BI_GSe_High!$A26,CurrentHeader,0),FALSE)),0,VLOOKUP($B$3,'Data Current Rates'!$A:$BE,MATCH(BI_GSe_High!$A26,CurrentHeader,0),FALSE))","v":-8.9999999999999998E-4},-13.5,15000,{"$f":"VLOOKUP($B$3,'Data Proposed Rates'!$A:$BC,MATCH(BI_GSe_High!$A26,ProposedHeader,0),FALSE)","v":-8.9999999999999998E-4},-13.5,0,0,-4.6012967190361713E-3,-4.8435795060013881E-3]
["Fair Hydro Plan - Distribution Rate Protection Savings*",null,null,{"$f":"IF(AND(B3<>\"R1\",B3<>\"R2\"),0,IF(VLOOKUP($A27,'Data Pass Through'!$A:$D,2,FALSE)=0,0,IF(SUM(D19:D20,D23:D24)<VLOOKUP($A27,'Data Pass Through'!$A:$D,2,FALSE),0,VLOOKUP($A27,'Data Pass Through'!$A:$D,2,FALSE)-SUM(D19:D20,D23:D24))))","v":0},null,null,{"$f":"IF(AND(B3<>\"R1\",B3<>\"R2\"),0,IF(VLOOKUP($A27,'Data Pass Through'!$A:$D,2,FALSE)=0,0,IF(SUM(G19:G20,G23:G24)<VLOOKUP($A27,'Data Pass Through'!$A:$D,2,FALSE),0,VLOOKUP($A27,'Data Pass Through'!$A:$D,2,FALSE)-SUM(G19:G20,G23:G24))))","v":0},0,"N/A",0,0]
["Sub-Total:  Distribution (excluding pass through)",null,null,{"$f":"SUM(INDIRECT(\"D19:D\"&ROW()-1))","v":970.88999999999987},null,null,{"$f":"SUM(INDIRECT(\"g19:g\"&ROW()-1))","v":1005},{"$f":"G28-D28","v":34.110000000000127},3.5132713283688298E-2,0.34254097797269273,0.36057758544676999]
["Smart Metering Entity Charge",1,{"$f":"VLOOKUP($A29,'Data Pass Through'!$A:$D,2,FALSE)","v":0.56999999999999995},{"$f":"B29*C29","v":0.56999999999999995},1,{"$f":"VLOOKUP($A29,'Data Pass Through'!$A:$D,3,FALSE)","v":0.56999999999999995},{"$f":"E29*F29","v":0.56999999999999995},0,0,1.942769725815272E-4,2.0450669025339193E-4]
["Line Losses on Cost of Power (based on two-tier RPP prices)",{"$f":"B8-B4","v":1440},{"$f":"IF(B4>B7,C13,C12)","v":0.11799999999999999},{"$f":"B30*C30","v":169.92},1440,{"$f":"IF(B4>B7,F13,F12)","v":0.11799999999999999},{"$f":"E30*F30","v":169.92},0,0,5.7914988036935275E-2,6.0964520715537464E-2]
["Line Losses on Cost of Power (based on TOU prices)",{"$f":"B8-B4","v":1440},{"$f":"VLOOKUP($B$3,'Data Billing Quantities'!$A:$O,MATCH(BI_GSe_High!$A15,'Data Billing Quantities'!$4:$4,0),FALSE)*C15+VLOOKUP($B$3,'Data Billing Quantities'!$A:$O,MATCH(BI_GSe_High!$A16,'Data Billing Quantities'!$4:$4,0),FALSE)*C16+VLOOKUP($B$3,'Data Billing Quantities'!$A:$O,MATCH(BI_GSe_High!$A17,'Data Billing Quantities'!$4:$4,0),FALSE)*C17","v":0.1075},{"$f":"B31*C31","v":154.80000000000001},1440,{"$f":"VLOOKUP($B$3,'Data Billing Quantities'!$A:$O,MATCH(BI_GSe_High!$A15,'Data Billing Quantities'!$4:$4,0),FALSE)*F15+VLOOKUP($B$3,'Data Billing Quantities'!$A:$O,MATCH(BI_GSe_High!$A16,'Data Billing Quantities'!$4:$4,0),FALSE)*F16+VLOOKUP($B$3,'Data Billing Quantities'!$A:$O,MATCH(BI_GSe_High!$A17,'Data Billing Quantities'!$4:$4,0),FALSE)*F17","v":0.1075},{"$f":"E31*F31","v":154.80000000000001},0,0,5.2761535711614765E-2,5.5539711668815918E-2]
["Sub-Total:  Distribution (based on two-tier RPP prices)",null,null,{"$f":"SUM(D28,D29:D30)","v":1141.3799999999999},null,null,{"$f":"SUM(G28,G29:G30)","v":1175.49},34.110000000000127,2.9884876202491834E-2,0.40065024298220958,0.42174661285256088]
["Sub-Total:  Distribution (based on TOU prices)",null,null,{"$f":"SUM(D28,D29,D31)","v":1126.26},null,null,{"$f":"SUM(G28,G29,G31)","v":1160.3700000000001},34.110000000000127,3.0286079590858352E-2,0.39549679065688909,0.41632180380583933]
["Retail Transmission Rate – Network Service Rate",{"$f":"B8","v":16440},{"$f":"VLOOKUP($B$3,'Data Current Rates'!$A:$BE,MATCH(BI_GSe_High!$A34,CurrentHeader,0),FALSE)","v":6.4999999999999997E-3},{"$f":"B34*C34","v":106.86},16440,{"$f":"VLOOKUP($B$3,'Data Proposed Rates'!$A:$BC,MATCH(BI_GSe_High!$A34,ProposedHeader,0),FALSE)","v":6.4999999999999997E-3},{"$f":"E34*F34","v":106.86},{"$f":"G34-D34","v":0},0,3.6421819807126318E-2,3.8339622667504319E-2]
["Retail Transmission Rate – Line and Transformation Connection Service Rate",{"$f":"B8","v":16440},{"$f":"VLOOKUP($B$3,'Data Current Rates'!$A:$BE,MATCH(BI_GSe_High!$A35,CurrentHeader,0),FALSE)","v":5.5999999999999999E-3},{"$f":"B35*C35","v":92.063999999999993},16440,{"$f":"VLOOKUP($B$3,'Data Proposed Rates'!$A:$BC,MATCH(BI_GSe_High!$A35,ProposedHeader,0),FALSE)","v":5.5999999999999999E-3},{"$f":"E35*F35","v":92.063999999999993},{"$f":"G35-D35","v":0},0,3.1378798603062669E-2,3.3031059528926793E-2]
["Sub-Total:  Retail Transmission ",null,null,{"$f":"SUM(D34:D35)","v":198.92399999999998},null,null,{"$f":"SUM(G34:G35)","v":198.92399999999998},{"$f":"G36-D36","v":0},0,6.7800618410188987E-2,7.1370682196431112E-2]
["Sub-Total:  Delivery (based on two-tier RPP prices)",null,null,{"$f":"D32+D36","v":1340.3039999999999},null,null,{"$f":"G32+G36","v":1374.414},{"$f":"G37-D37","v":34.110000000000127},2.5449450273967795E-2,0.46845086139239855,0.49311729504899199]
["Sub-Total:  Delivery (based on TOU prices)",null,null,{"$f":"D33+D36","v":1325.184},null,null,{"$f":"G33+G36","v":1359.2940000000001},{"$f":"G38-D38","v":34.110000000000127},2.5739821790785378E-2,0.46329740906707806,0.48769248600227044]
["Wholesale Market Service Rate (WMS) - not including CBR",{"$f":"B8","v":16440},{"$f":"VLOOKUP($A39,'Data Pass Through'!$A:$D,2,FALSE)","v":3.0000000000000001E-3},{"$f":"B39*C39","v":49.32},{"$f":"$B$8","v":16440},{"$f":"VLOOKUP($A39,'Data Pass Through'!$A:$D,3,FALSE)","v":3.0000000000000001E-3},{"$f":"E39*F39","v":49.32},0,0,1.6810070680212147E-2,1.7695210461925071E-2]
["Capacity Based Recovery (CBR) - Applicable for Class B Customers",{"$f":"B8","v":16440},{"$f":"VLOOKUP($A40,'Data Pass Through'!$A:$D,2,FALSE)","v":4.0000000000000002E-4},{"$f":"B40*C40","v":6.5760000000000005},{"$f":"$B$8","v":16440},{"$f":"VLOOKUP($A40,'Data Pass Through'!$A:$D,3,FALSE)","v":4.0000000000000002E-4},{"$f":"E40*F40","v":6.5760000000000005},0,0,2.2413427573616195E-3,2.3593613949233431E-3]
["Rural Rate Protection Charge",{"$f":"B8","v":16440},{"$f":"VLOOKUP($A41,'Data Pass Through'!$A:$D,2,FALSE)","v":5.0000000000000001E-4},8.2200000000000006,16440,{"$f":"VLOOKUP($A41,'Data Pass Through'!$A:$D,3,FALSE)","v":5.0000000000000001E-4},8.2200000000000006,0,0,2.8016784467020245E-3,2.9492017436541789E-3]
["Standard Supply Service – Administration Charge (if applicable)",1,{"$f":"VLOOKUP($A42,'Data Pass Through'!$A:$D,2,FALSE)","v":0.25},{"$f":"B42*C42","v":0.25},1,{"$f":"VLOOKUP($A42,'Data Pass Through'!$A:$D,3,FALSE)","v":0.25},0.25,0,0,8.5209198500669844E-5,8.9695916777803481E-5]
["Sub-Total:  Regulatory",null,null,{"$f":"SUM(D39:D42)","v":64.366},null,null,{"$f":"SUM(G39:G42)","v":64.366},0,0,2.193830108277646E-2,2.3093469517280394E-2]
["Debt Retirement Charge (DRC)",{"$f":"B4","v":15000},{"$f":"VLOOKUP($A44,'Data Pass Through'!$A:$D,2,FALSE)","v":0},{"$f":"B44*C44","v":0},15000,{"$f":"VLOOKUP($A44,'Data Pass Through'!$A:$D,3,FALSE)","v":0},{"$f":"E44*F44","v":0},0,"N/A",0,0]
["Total  Electricty Charge on Two-Tier RPP ",null,null,{"$f":"SUM(D14,D28,D29,D30,D36,D43,D44)","v":3161.92},null,null,{"$f":"SUM(G14,G28,G29,G30,G36,G43,G44)","v":3196.03},34.110000000000127,1.078774921566647E-2,1.0893246187363834]
["     HST",null,0.13,{"$f":"D45*C46","v":411.0496},null,{"$f":"C46","v":0.13},{"$f":"G45*F46","v":415.48390000000006},4.4343000000000643,1.0787749215666586E-2,0.14161220043572986]
["Total Electricity Charge on Two-Tier RPP (including HST)",null,null,{"$f":"SUM(D45:D46)","v":3572.9695999999999},null,null,{"$f":"SUM(G45:G46)","v":3611.5139000000004},38.544300000000476,1.0787749215666564E-2,1.2309368191721133]
["Ontario Electricity Rebate (OER)",null,{"$f":"'Data Pass Through'!B20","v":-0.21199999999999999},{"$f":"D45*C48","v":-670.32704000000001},null,{"$f":"'Data Pass Through'!C20","v":-0.21199999999999999},{"$f":"G45*F48","v":-677.55835999999999},-7.2313199999999824,-1.0787749215666404E-2,-0.23093681917211326]
["Total Amount on Two-Tier RPP",null,null,{"$f":"SUM(D47:D48)","v":2902.6425599999998},null,null,{"$f":"SUM(G47:G48)","v":2933.9555400000004},31.312980000000607,1.078774921566664E-2,1]
["Total Electricty Charge on TOU (before HST)",null,null,{"$f":"SUM(D18,D28,D29,D31,D36,D43,D44)","v":3002.0500000000006},null,null,{"$f":"SUM(G18,G28,G29,G31,G36,G43,G44)","v":3036.1600000000003},34.109999999999673,1.1362235805532774E-2,null,{"$f":"G50/$G$54","v":1.0893246187363834}]
["     HST",null,0.13,{"$f":"D50*C51","v":390.26650000000012},null,{"$f":"C51","v":0.13},{"$f":"G50*F51","v":394.70080000000007},4.4342999999999506,1.1362235805532755E-2,null,{"$f":"G51/$G$54","v":0.14161220043572986}]
["Total Electricity Charge on TOU (including HST)",null,null,{"$f":"SUM(D50:D51)","v":3392.3165000000008},null,null,{"$f":"SUM(G50:G51)","v":3430.8608000000004},38.544299999999566,1.1362235805532755E-2,null,{"$f":"G52/$G$54","v":1.2309368191721133}]
["Ontario Electricity Rebate (OER)",null,{"$f":"'Data Pass Through'!B20","v":-0.21199999999999999},{"$f":"D50*C53","v":-636.43460000000016},null,{"$f":"'Data Pass Through'!C20","v":-0.21199999999999999},{"$f":"G50*F53","v":-643.66592000000003},-7.2313199999998687,-1.1362235805532677E-2,null,{"$f":"G53/$G$54","v":-0.23093681917211326}]
["Total Amount on TOU",null,null,{"$f":"SUM(D52:D53)","v":2755.8819000000008},null,null,{"$f":"SUM(G52:G53)","v":2787.1948800000005},31.312979999999698,1.1362235805532772E-2,null,{"$f":"G54/$G$54","v":1}]
["* Distribution rate protection applies to R1 and R2 customers"]

{"sheet":"BI_UGe_Low","index":38,"n_rows":55,"n_cols":11,"rows_kept":55,"cut":false,"hidden":false,"merged":[[0,0,0,10]]}
["2021 Bill Impacts (Low Consumption Level) - UGe"]
[]
["Rate Class",{"$f":"RIGHT(A1,LEN(A1)-FIND(\"- \",A1,1)-1)","v":"UGe"}]
["Monthly Consumption (kWh)",{"$f":"IF(COUNTIF(A1,\"*Low*\")>0,VLOOKUP(B3,'Data Billing Quantities'!$A:$Z,MATCH(\"Low kWh\",'Data Billing Quantities'!4:4,0),FALSE),IF(COUNTIF(A1,\"*Typical*\")>0,VLOOKUP(B3,'Data Billing Quantities'!$A:$Z,MATCH(\"Typical kWh\",'Data Billing Quantities'!4:4,0),FALSE),IF(COUNTIF(A1,\"*Average*\")>0,VLOOKUP(B3,'Data Billing Quantities'!$A:$Z,MATCH(\"Average kWh\",'Data Billing Quantities'!4:4,0),FALSE),IF(COUNTIF(A1,\"*High*\")>0,VLOOKUP(B3,'Data Billing Quantities'!$A:$Z,MATCH(\"High kWh\",'Data Billing Quantities'!4:4,0),FALSE),\"error\"))))","v":1000}]
["Peak (kW)",{"$f":"IF(COUNTIF(A1,\"*Low*\")>0,VLOOKUP(B3,'Data Billing Quantities'!$A:$Z,MATCH(\"Low kW\",'Data Billing Quantities'!4:4,0),FALSE),IF(COUNTIF(A1,\"*Typical*\")>0,VLOOKUP(B3,'Data Billing Quantities'!$A:$Z,MATCH(\"Typical kW\",'Data Billing Quantities'!4:4,0),FALSE),IF(COUNTIF(A1,\"*Average*\")>0,VLOOKUP(B3,'Data Billing Quantities'!$A:$Z,MATCH(\"Average kW\",'Data Billing Quantities'!4:4,0),FALSE),IF(COUNTIF(A1,\"*High*\")>0,VLOOKUP(B3,'Data Billing Quantities'!$A:$Z,MATCH(\"High kW\",'Data Billing Quantities'!4:4,0),FALSE),\"error\"))))","v":0}]
["Loss factor",{"$f":"VLOOKUP(B3,'Data Billing Quantities'!A:D,MATCH(A6,'Data Billing Quantities'!4:4,0),FALSE)","v":1.0669999999999999}]
["Commodity Threshold",{"$f":"VLOOKUP(B3,'Data Billing Quantities'!A:D,MATCH(A7,'Data Billing Quantities'!4:4,0),FALSE)","v":750}]
["Monthly Consumption (kWh) - Uplifted",{"$f":"B4*B6","v":1067}]
["Charge determinant",{"$f":"VLOOKUP(B3,'Data Billing Quantities'!A:D,MATCH(A9,'Data Billing Quantities'!4:4,0),FALSE)","v":"kWh"}]
[]
[null,"Volume","Current Rate ($)","Current Charge ($)","Volume","Proposed Rate ($)","Proposed Charge ($)","Change ($)","Change (%)","% of Total Bill on RPP","% of Total Bill on TOU"]
["Energy First Tier",{"$f":"IF(B4>B7,B7,B4)","v":750},{"$f":"VLOOKUP($A12,'Data Pass Through'!$A:$D,2,FALSE)","v":0.10100000000000001},{"$f":"B12*C12","v":75.75},{"$f":"B12","v":750},{"$f":"VLOOKUP($A12,'Data Pass Through'!$A:$D,3,FALSE)","v":0.10100000000000001},{"$f":"E12*F12","v":75.75},{"$f":"G12-D12","v":0},{"$f":"IF(ISERROR(H12/ABS(D12)),\"N/A\",(H12/ABS(D12)))","v":0},{"$f":"G12/$G$49","v":0.4377798709377087}]
["Energy Second Tier",{"$f":"IF(B4>B7,(B4)-B7,0)","v":250},{"$f":"VLOOKUP($A13,'Data Pass Through'!$A:$D,2,FALSE)","v":0.11799999999999999},{"$f":"B13*C13","v":29.5},{"$f":"B13","v":250},{"$f":"VLOOKUP($A13,'Data Pass Through'!$A:$D,3,FALSE)","v":0.11799999999999999},{"$f":"E13*F13","v":29.5},0,0,{"$f":"G13/$G$49","v":0.17048853059620339}]
["Sub-Total:  Energy (RPP Tiered)",null,null,{"$f":"SUM(D12:D13)","v":105.25},null,null,{"$f":"SUM(G12:G13)","v":105.25},0,0,{"$f":"G14/$G$49","v":0.60826840153391215}]
["TOU-Off Peak",{"$f":"B$4*VLOOKUP($B$3,'Data Billing Quantities'!$A:$O,MATCH(BI_UGe_Low!$A15,'Data Billing Quantities'!$4:$4,0),FALSE)","v":640},{"$f":"VLOOKUP($A15,'Data Pass Through'!$A:$D,2,FALSE)","v":8.5000000000000006E-2},{"$f":"B15*C15","v":54.400000000000006},640,{"$f":"VLOOKUP($A15,'Data Pass Through'!$A:$D,3,FALSE)","v":8.5000000000000006E-2},{"$f":"E15*F15","v":54.400000000000006},0,0,null,{"$f":"G15/$G$54","v":0.31183388749138585}]
["TOU-Mid Peak",{"$f":"B$4*VLOOKUP($B$3,'Data Billing Quantities'!$A:$O,MATCH(BI_UGe_Low!$A16,'Data Billing Quantities'!$4:$4,0),FALSE)","v":180},{"$f":"VLOOKUP($A16,'Data Pass Through'!$A:$D,2,FALSE)","v":0.11899999999999999},{"$f":"B16*C16","v":21.419999999999998},180,{"$f":"VLOOKUP($A16,'Data Pass Through'!$A:$D,3,FALSE)","v":0.11899999999999999},{"$f":"E16*F16","v":21.419999999999998},0,0,null,0.12278459319973314]
["TOU-On Peak",{"$f":"B$4*VLOOKUP($B$3,'Data Billing Quantities'!$A:$O,MATCH(BI_UGe_Low!$A17,'Data Billing Quantities'!$4:$4,0),FALSE)","v":180},{"$f":"VLOOKUP($A17,'Data Pass Through'!$A:$D,2,FALSE)","v":0.17599999999999999},{"$f":"B17*C17","v":31.68},180,{"$f":"VLOOKUP($A17,'Data Pass Through'!$A:$D,3,FALSE)","v":0.17599999999999999},{"$f":"E17*F17","v":31.68},0,0,null,0.18159738153910113]
["Sub-Total:  Energy (RPP TOU)",null,null,{"$f":"SUM(D15:D17)","v":107.5},null,null,{"$f":"SUM(G15:G17)","v":107.5},0,0,{"$f":"G18/$G$49","v":0.62127176403701234},0.61621586223022007]
["Service Charge",1,{"$f":"IF(ISERROR(VLOOKUP($B$3,'Data Current Rates'!$A:$BE,MATCH(BI_UGe_Low!$A19,CurrentHeader,0),FALSE)),0,VLOOKUP($B$3,'Data Current Rates'!$A:$BE,MATCH(BI_UGe_Low!$A19,CurrentHeader,0),FALSE))","v":25.59},{"$f":"B19*C19","v":25.59},1,{"$f":"VLOOKUP($B$3,'Data Proposed Rates'!$A:$BC,MATCH(BI_UGe_Low!$A19,ProposedHeader,0),FALSE)","v":25.59},{"$f":"E19*F19","v":25.59},0,0,0.14789157620192694,0.1466880364136868]
["Base Rate Adjustment to Recover Past Tax Amounts FIXED",null,null,null,1,{"$f":"VLOOKUP($B$3,'Data Proposed Rates'!$A:$BC,MATCH(BI_UGe_Low!$A20,ProposedHeader,0),FALSE)","v":0.81},0.81,0.81,"N/A",4.6812105011160938E-3,4.6431148688974725E-3]
["Fixed Deferral/Variance Account Rider (General)",1,{"$f":"IF(ISERROR(VLOOKUP($B$3,'Data Current Rates'!$A:$BE,MATCH(BI_UGe_Low!$A21,CurrentHeader,0),FALSE)),0,VLOOKUP($B$3,'Data Current Rates'!$A:$BE,MATCH(BI_UGe_Low!$A21,CurrentHeader,0),FALSE))","v":-0.14000000000000001},-0.14000000000000001,1,{"$f":"VLOOKUP($B$3,'Data Proposed Rates'!$A:$BC,MATCH(BI_UGe_Low!$A21,ProposedHeader,0),FALSE)","v":-0.14000000000000001},-0.14000000000000001,0,0,-8.090981113040162E-4,-8.0251368104400768E-4]
["Fixed ESM Rider",1,{"$f":"IF(ISERROR(VLOOKUP($B$3,'Data Current Rates'!$A:$BE,MATCH(BI_UGe_Low!$A22,CurrentHeader,0),FALSE)),0,VLOOKUP($B$3,'Data Current Rates'!$A:$BE,MATCH(BI_UGe_Low!$A22,CurrentHeader,0),FALSE))","v":-0.36},-0.36,1,{"$f":"VLOOKUP($B$3,'Data Proposed Rates'!$A:$BC,MATCH(BI_UGe_Low!$A22,ProposedHeader,0),FALSE)","v":-0.36},-0.36,0,0,-2.0805380004960414E-3,-2.0636066083988764E-3]
["Distribution Volumetric Charge",{"$f":"IF($B$9=\"kWh\",$B$4,$B$5)","v":1000},{"$f":"IF(ISERROR(VLOOKUP($B$3,'Data Current Rates'!$A:$BE,MATCH(BI_UGe_Low!$A23,CurrentHeader,0),FALSE)),0,VLOOKUP($B$3,'Data Current Rates'!$A:$BE,MATCH(BI_UGe_Low!$A23,CurrentHeader,0),FALSE))","v":3.0599999999999999E-2},30.599999999999998,{"$f":"IF($B$9=\"kWh\",$B$4,$B$5)","v":1000},{"$f":"VLOOKUP($B$3,'Data Proposed Rates'!$A:$BC,MATCH(BI_UGe_Low!$A23,ProposedHeader,0),FALSE)","v":3.0599999999999999E-2},30.599999999999998,0,0,0.1768457300421635,0.17540656171390451]
["Base Rate Adjustment to Recover Past Tax Amounts VOL",null,null,null,{"$f":"IF($B$9=\"kWh\",$B$4,$B$5)","v":1000},{"$f":"VLOOKUP($B$3,'Data Proposed Rates'!$A:$BC,MATCH(BI_UGe_Low!$A24,ProposedHeader,0),FALSE)","v":1E-3},1,1,"N/A",5.7792722236001152E-3,5.7322405788857687E-3]
["Volumetric Deferral/Variance Account Rider (General)",{"$f":"IF($B$9=\"kWh\",$B$4,$B$5)","v":1000},{"$f":"IF(ISERROR(VLOOKUP($B$3,'Data Current Rates'!$A:$BE,MATCH(BI_UGe_Low!$A25,CurrentHeader,0),FALSE)),0,VLOOKUP($B$3,'Data Current Rates'!$A:$BE,MATCH(BI_UGe_Low!$A25,CurrentHeader,0),FALSE))","v":-2.9999999999999997E-4},-0.3,{"$f":"IF($B$9=\"kWh\",$B$4,$B$5)","v":1000},{"$f":"VLOOKUP($B$3,'Data Proposed Rates'!$A:$BC,MATCH(BI_UGe_Low!$A25,ProposedHeader,0),FALSE)","v":-2.9999999999999997E-4},-0.3,0,0,-1.7337816670800344E-3,-1.7196721736657304E-3]
["Volumetric ESM Rider",1000,{"$f":"IF(ISERROR(VLOOKUP($B$3,'Data Current Rates'!$A:$BE,MATCH(BI_UGe_Low!$A26,CurrentHeader,0),FALSE)),0,VLOOKUP($B$3,'Data Current Rates'!$A:$BE,MATCH(BI_UGe_Low!$A26,CurrentHeader,0),FALSE))","v":-4.0000000000000002E-4},-0.4,1000,{"$f":"VLOOKUP($B$3,'Data Proposed Rates'!$A:$BC,MATCH(BI_UGe_Low!$A26,ProposedHeader,0),FALSE)","v":-4.0000000000000002E-4},-0.4,0,0,-2.3117088894400463E-3,-2.2928962315543074E-3]
["Fair Hydro Plan - Distribution Rate Protection Savings*",null,null,{"$f":"IF(AND(B3<>\"R1\",B3<>\"R2\"),0,IF(VLOOKUP($A27,'Data Pass Through'!$A:$D,2,FALSE)=0,0,IF(SUM(D19:D20,D23:D24)<VLOOKUP($A27,'Data Pass Through'!$A:$D,2,FALSE),0,VLOOKUP($A27,'Data Pass Through'!$A:$D,2,FALSE)-SUM(D19:D20,D23:D24))))","v":0},null,null,{"$f":"IF(AND(B3<>\"R1\",B3<>\"R2\"),0,IF(VLOOKUP($A27,'Data Pass Through'!$A:$D,2,FALSE)=0,0,IF(SUM(G19:G20,G23:G24)<VLOOKUP($A27,'Data Pass Through'!$A:$D,2,FALSE),0,VLOOKUP($A27,'Data Pass Through'!$A:$D,2,FALSE)-SUM(G19:G20,G23:G24))))","v":0},0,"N/A",0,0]
["Sub-Total:  Distribution (excluding pass through)",null,null,{"$f":"SUM(INDIRECT(\"D19:D\"&ROW()-1))","v":54.99},null,null,{"$f":"SUM(INDIRECT(\"g19:g\"&ROW()-1))","v":56.800000000000004},{"$f":"G28-D28","v":1.8100000000000023},3.2915075468266997E-2,0.32826266230048656,0.32559126488071166]
["Smart Metering Entity Charge",1,{"$f":"VLOOKUP($A29,'Data Pass Through'!$A:$D,2,FALSE)","v":0.56999999999999995},{"$f":"B29*C29","v":0.56999999999999995},1,{"$f":"VLOOKUP($A29,'Data Pass Through'!$A:$D,3,FALSE)","v":0.56999999999999995},{"$f":"E29*F29","v":0.56999999999999995},0,0,3.2941851674520655E-3,3.2673771299648875E-3]
["Line Losses on Cost of Power (based on two-tier RPP prices)",{"$f":"B8-B4","v":67},{"$f":"IF(B4>B7,C13,C12)","v":0.11799999999999999},{"$f":"B30*C30","v":7.9059999999999997},67,{"$f":"IF(B4>B7,F13,F12)","v":0.11799999999999999},{"$f":"E30*F30","v":7.9059999999999997},0,0,4.569092619978251E-2,4.5319094016670884E-2]
["Line Losses on Cost of Power (based on TOU prices)",{"$f":"B8-B4","v":67},{"$f":"VLOOKUP($B$3,'Data Billing Quantities'!$A:$O,MATCH(BI_UGe_Low!$A15,'Data Billing Quantities'!$4:$4,0),FALSE)*C15+VLOOKUP($B$3,'Data Billing Quantities'!$A:$O,MATCH(BI_UGe_Low!$A16,'Data Billing Quantities'!$4:$4,0),FALSE)*C16+VLOOKUP($B$3,'Data Billing Quantities'!$A:$O,MATCH(BI_UGe_Low!$A17,'Data Billing Quantities'!$4:$4,0),FALSE)*C17","v":0.1075},{"$f":"B31*C31","v":7.2024999999999997},67,{"$f":"VLOOKUP($B$3,'Data Billing Quantities'!$A:$O,MATCH(BI_UGe_Low!$A15,'Data Billing Quantities'!$4:$4,0),FALSE)*F15+VLOOKUP($B$3,'Data Billing Quantities'!$A:$O,MATCH(BI_UGe_Low!$A16,'Data Billing Quantities'!$4:$4,0),FALSE)*F16+VLOOKUP($B$3,'Data Billing Quantities'!$A:$O,MATCH(BI_UGe_Low!$A17,'Data Billing Quantities'!$4:$4,0),FALSE)*F17","v":0.1075},{"$f":"E31*F31","v":7.2024999999999997},0,0,4.162520819047983E-2,4.1286462769424742E-2]
["Sub-Total:  Distribution (based on two-tier RPP prices)",null,null,{"$f":"SUM(D28,D29:D30)","v":63.466000000000001},null,null,{"$f":"SUM(G28,G29:G30)","v":65.27600000000001},1.8100000000000094,2.8519207134528872E-2,0.37724777366772116,0.3741777360273475]
["Sub-Total:  Distribution (based on TOU prices)",null,null,{"$f":"SUM(D28,D29,D31)","v":62.762500000000003},null,null,{"$f":"SUM(G28,G29,G31)","v":64.572500000000005},1.8100000000000023,2.8838876717785338E-2,0.37318205565841844,0.37014510478010132]
["Retail Transmission Rate – Network Service Rate",{"$f":"B8","v":1067},{"$f":"VLOOKUP($B$3,'Data Current Rates'!$A:$BE,MATCH(BI_UGe_Low!$A34,CurrentHeader,0),FALSE)","v":7.0000000000000001E-3},{"$f":"B34*C34","v":7.4690000000000003},1067,{"$f":"VLOOKUP($B$3,'Data Proposed Rates'!$A:$BC,MATCH(BI_UGe_Low!$A34,ProposedHeader,0),FALSE)","v":7.0000000000000001E-3},{"$f":"E34*F34","v":7.4690000000000003},{"$f":"G34-D34","v":0},0,4.316538423806926E-2,4.2814104883697808E-2]
["Retail Transmission Rate – Line and Transformation Connection Service Rate",{"$f":"B8","v":1067},{"$f":"VLOOKUP($B$3,'Data Current Rates'!$A:$BE,MATCH(BI_UGe_Low!$A35,CurrentHeader,0),FALSE)","v":5.7000000000000002E-3},{"$f":"B35*C35","v":6.0819000000000001},1067,{"$f":"VLOOKUP($B$3,'Data Proposed Rates'!$A:$BC,MATCH(BI_UGe_Low!$A35,ProposedHeader,0),FALSE)","v":5.7000000000000002E-3},{"$f":"E35*F35","v":6.0819000000000001},{"$f":"G35-D35","v":0},0,3.514895573671354E-2,3.4862913976725356E-2]
["Sub-Total:  Retail Transmission ",null,null,{"$f":"SUM(D34:D35)","v":13.5509},null,null,{"$f":"SUM(G34:G35)","v":13.5509},{"$f":"G36-D36","v":0},0,7.8314339974782807E-2,7.7677018860423164E-2]
["Sub-Total:  Delivery (based on two-tier RPP prices)",null,null,{"$f":"D32+D36","v":77.016900000000007},null,null,{"$f":"G32+G36","v":78.826900000000009},{"$f":"G37-D37","v":1.8100000000000023},2.3501335421186806E-2,0.45556211364250399,0.4518547548877706]
["Sub-Total:  Delivery (based on TOU prices)",null,null,{"$f":"D33+D36","v":76.313400000000001},null,null,{"$f":"G33+G36","v":78.123400000000004},{"$f":"G38-D38","v":1.8100000000000023},2.3717983997567953E-2,0.45149639563320126,0.44782212364052448]
["Wholesale Market Service Rate (WMS) - not including CBR",{"$f":"B8","v":1067},{"$f":"VLOOKUP($A39,'Data Pass Through'!$A:$D,2,FALSE)","v":3.0000000000000001E-3},{"$f":"B39*C39","v":3.2010000000000001},{"$f":"$B$8","v":1067},{"$f":"VLOOKUP($A39,'Data Pass Through'!$A:$D,3,FALSE)","v":3.0000000000000001E-3},{"$f":"E39*F39","v":3.2010000000000001},0,0,1.8499450387743969E-2,1.8348902093013344E-2]
["Capacity Based Recovery (CBR) - Applicable for Class B Customers",{"$f":"B8","v":1067},{"$f":"VLOOKUP($A40,'Data Pass Through'!$A:$D,2,FALSE)","v":4.0000000000000002E-4},{"$f":"B40*C40","v":0.42680000000000001},{"$f":"$B$8","v":1067},{"$f":"VLOOKUP($A40,'Data Pass Through'!$A:$D,3,FALSE)","v":4.0000000000000002E-4},{"$f":"E40*F40","v":0.42680000000000001},0,0,2.4665933850325293E-3,2.4465202790684461E-3]
["Rural Rate Protection Charge",{"$f":"B8","v":1067},{"$f":"VLOOKUP($A41,'Data Pass Through'!$A:$D,2,FALSE)","v":5.0000000000000001E-4},0.53349999999999997,1067,{"$f":"VLOOKUP($A41,'Data Pass Through'!$A:$D,3,FALSE)","v":5.0000000000000001E-4},0.53349999999999997,0,0,3.0832417312906613E-3,3.0581503488355572E-3]
["Standard Supply Service – Administration Charge (if applicable)",1,{"$f":"VLOOKUP($A42,'Data Pass Through'!$A:$D,2,FALSE)","v":0.25},{"$f":"B42*C42","v":0.25},1,{"$f":"VLOOKUP($A42,'Data Pass Through'!$A:$D,3,FALSE)","v":0.25},0.25,0,0,1.4448180559000288E-3,1.4330601447214422E-3]
["Sub-Total:  Regulatory",null,null,{"$f":"SUM(D39:D42)","v":4.4112999999999998},null,null,{"$f":"SUM(G39:G42)","v":4.4112999999999998},0,0,2.5494103559967188E-2,2.528663286563879E-2]
["Debt Retirement Charge (DRC)",{"$f":"B4","v":1000},{"$f":"VLOOKUP($A44,'Data Pass Through'!$A:$D,2,FALSE)","v":0},{"$f":"B44*C44","v":0},1000,{"$f":"VLOOKUP($A44,'Data Pass Through'!$A:$D,3,FALSE)","v":0},{"$f":"E44*F44","v":0},0,"N/A",0,0]
["Total  Electricty Charge on Two-Tier RPP ",null,null,{"$f":"SUM(D14,D28,D29,D30,D36,D43,D44)","v":186.67820000000003},null,null,{"$f":"SUM(G14,G28,G29,G30,G36,G43,G44)","v":188.48820000000003},1.8100000000000023,9.6958295076768584E-3,1.0893246187363834]
["     HST",null,0.13,{"$f":"D45*C46","v":24.268166000000004},null,{"$f":"C46","v":0.13},{"$f":"G45*F46","v":24.503466000000007},0.23530000000000229,9.69582950767694E-3,0.14161220043572986]
["Total Electricity Charge on Two-Tier RPP (including HST)",null,null,{"$f":"SUM(D45:D46)","v":210.94636600000004},null,null,{"$f":"SUM(G45:G46)","v":212.99166600000004},2.0452999999999975,9.6958295076768324E-3,1.2309368191721133]
["Ontario Electricity Rebate (OER)",null,{"$f":"'Data Pass Through'!B20","v":-0.21199999999999999},{"$f":"D45*C48","v":-39.575778400000004},null,{"$f":"'Data Pass Through'!C20","v":-0.21199999999999999},{"$f":"G45*F48","v":-39.959498400000008},-0.38372000000000384,-9.6958295076769434E-3,-0.23093681917211328]
["Total Amount on Two-Tier RPP",null,null,{"$f":"SUM(D47:D48)","v":171.37058760000002},null,null,{"$f":"SUM(G47:G48)","v":173.03216760000004},1.6615800000000149,9.695829507676933E-3,1]
["Total Electricty Charge on TOU (before HST)",null,null,{"$f":"SUM(D18,D28,D29,D31,D36,D43,D44)","v":188.22470000000001},null,null,{"$f":"SUM(G18,G28,G29,G31,G36,G43,G44)","v":190.03470000000002},1.8100000000000023,9.6161662098545094E-3,null,{"$f":"G50/$G$54","v":1.0893246187363834}]
["     HST",null,0.13,{"$f":"D50*C51","v":24.469211000000001},null,{"$f":"C51","v":0.13},{"$f":"G50*F51","v":24.704511000000004},0.23530000000000229,9.6161662098545909E-3,null,{"$f":"G51/$G$54","v":0.14161220043572986}]
["Total Electricity Charge on TOU (including HST)",null,null,{"$f":"SUM(D50:D51)","v":212.69391100000001},null,null,{"$f":"SUM(G50:G51)","v":214.73921100000001},2.0452999999999975,9.6161662098544851E-3,null,{"$f":"G52/$G$54","v":1.2309368191721133}]
["Ontario Electricity Rebate (OER)",null,{"$f":"'Data Pass Through'!B20","v":-0.21199999999999999},{"$f":"D50*C53","v":-39.903636400000003},null,{"$f":"'Data Pass Through'!C20","v":-0.21199999999999999},{"$f":"G50*F53","v":-40.2873564},-0.38371999999999673,-9.6161662098544157E-3,null,{"$f":"G53/$G$54","v":-0.23093681917211326}]
["Total Amount on TOU",null,null,{"$f":"SUM(D52:D53)","v":172.7902746},null,null,{"$f":"SUM(G52:G53)","v":174.45185460000002},1.6615800000000149,9.616166209854584E-3,null,{"$f":"G54/$G$54","v":1}]
["* Distribution rate protection applies to R1 and R2 customers"]

{"sheet":"BI_UGe_Typical","index":39,"n_rows":55,"n_cols":11,"rows_kept":55,"cut":false,"hidden":false,"merged":[[0,0,0,10]]}
["2021 Bill Impacts (Typical Consumption Level) - UGe"]
[]
["Rate Class",{"$f":"RIGHT(A1,LEN(A1)-FIND(\"- \",A1,1)-1)","v":"UGe"}]
["Monthly Consumption (kWh)",{"$f":"IF(COUNTIF(A1,\"*Low*\")>0,VLOOKUP(B3,'Data Billing Quantities'!$A:$Z,MATCH(\"Low kWh\",'Data Billing Quantities'!4:4,0),FALSE),IF(COUNTIF(A1,\"*Typical*\")>0,VLOOKUP(B3,'Data Billing Quantities'!$A:$Z,MATCH(\"Typical kWh\",'Data Billing Quantities'!4:4,0),FALSE),IF(COUNTIF(A1,\"*Average*\")>0,VLOOKUP(B3,'Data Billing Quantities'!$A:$Z,MATCH(\"Average kWh\",'Data Billing Quantities'!4:4,0),FALSE),IF(COUNTIF(A1,\"*High*\")>0,VLOOKUP(B3,'Data Billing Quantities'!$A:$Z,MATCH(\"High kWh\",'Data Billing Quantities'!4:4,0),FALSE),\"error\"))))","v":2000}]
["Peak (kW)",{"$f":"IF(COUNTIF(A1,\"*Low*\")>0,VLOOKUP(B3,'Data Billing Quantities'!$A:$Z,MATCH(\"Low kW\",'Data Billing Quantities'!4:4,0),FALSE),IF(COUNTIF(A1,\"*Typical*\")>0,VLOOKUP(B3,'Data Billing Quantities'!$A:$Z,MATCH(\"Typical kW\",'Data Billing Quantities'!4:4,0),FALSE),IF(COUNTIF(A1,\"*Average*\")>0,VLOOKUP(B3,'Data Billing Quantities'!$A:$Z,MATCH(\"Average kW\",'Data Billing Quantities'!4:4,0),FALSE),IF(COUNTIF(A1,\"*High*\")>0,VLOOKUP(B3,'Data Billing Quantities'!$A:$Z,MATCH(\"High kW\",'Data Billing Quantities'!4:4,0),FALSE),\"error\"))))","v":0}]
["Loss factor",{"$f":"VLOOKUP(B3,'Data Billing Quantities'!A:D,MATCH(A6,'Data Billing Quantities'!4:4,0),FALSE)","v":1.0669999999999999}]
["Commodity Threshold",{"$f":"VLOOKUP(B3,'Data Billing Quantities'!A:D,MATCH(A7,'Data Billing Quantities'!4:4,0),FALSE)","v":750}]
["Monthly Consumption (kWh) - Uplifted",{"$f":"B4*B6","v":2134}]
["Charge determinant",{"$f":"VLOOKUP(B3,'Data Billing Quantities'!A:D,MATCH(A9,'Data Billing Quantities'!4:4,0),FALSE)","v":"kWh"}]
[]
[null,"Volume","Current Rate ($)","Current Charge ($)","Volume","Proposed Rate ($)","Proposed Charge ($)","Change ($)","Change (%)","% of Total Bill on RPP","% of Total Bill on TOU"]
["Energy First Tier",{"$f":"IF(B4>B7,B7,B4)","v":750},{"$f":"VLOOKUP($A12,'Data Pass Through'!$A:$D,2,FALSE)","v":0.10100000000000001},{"$f":"B12*C12","v":75.75},{"$f":"B12","v":750},{"$f":"VLOOKUP($A12,'Data Pass Through'!$A:$D,3,FALSE)","v":0.10100000000000001},{"$f":"E12*F12","v":75.75},{"$f":"G12-D12","v":0},{"$f":"IF(ISERROR(H12/ABS(D12)),\"N/A\",(H12/ABS(D12)))","v":0},{"$f":"G12/$G$49","v":0.22731373295148802}]
["Energy Second Tier",{"$f":"IF(B4>B7,(B4)-B7,0)","v":1250},{"$f":"VLOOKUP($A13,'Data Pass Through'!$A:$D,2,FALSE)","v":0.11799999999999999},{"$f":"B13*C13","v":147.5},{"$f":"B13","v":1250},{"$f":"VLOOKUP($A13,'Data Pass Through'!$A:$D,3,FALSE)","v":0.11799999999999999},{"$f":"E13*F13","v":147.5},0,0,{"$f":"G13/$G$49","v":0.44262410046659384}]
["Sub-Total:  Energy (RPP Tiered)",null,null,{"$f":"SUM(D12:D13)","v":223.25},null,null,{"$f":"SUM(G12:G13)","v":223.25},0,0,{"$f":"G14/$G$49","v":0.66993783341808189}]
["TOU-Off Peak",{"$f":"B$4*VLOOKUP($B$3,'Data Billing Quantities'!$A:$O,MATCH(BI_UGe_Typical!$A15,'Data Billing Quantities'!$4:$4,0),FALSE)","v":1280},{"$f":"VLOOKUP($A15,'Data Pass Through'!$A:$D,2,FALSE)","v":8.5000000000000006E-2},{"$f":"B15*C15","v":108.80000000000001},1280,{"$f":"VLOOKUP($A15,'Data Pass Through'!$A:$D,3,FALSE)","v":8.5000000000000006E-2},{"$f":"E15*F15","v":108.80000000000001},0,0,null,{"$f":"G15/$G$54","v":0.33541451752434992}]
["TOU-Mid Peak",{"$f":"B$4*VLOOKUP($B$3,'Data Billing Quantities'!$A:$O,MATCH(BI_UGe_Typical!$A16,'Data Billing Quantities'!$4:$4,0),FALSE)","v":360},{"$f":"VLOOKUP($A16,'Data Pass Through'!$A:$D,2,FALSE)","v":0.11899999999999999},{"$f":"B16*C16","v":42.839999999999996},360,{"$f":"VLOOKUP($A16,'Data Pass Through'!$A:$D,3,FALSE)","v":0.11899999999999999},{"$f":"E16*F16","v":42.839999999999996},0,0,null,0.13206946627521277]
["TOU-On Peak",{"$f":"B$4*VLOOKUP($B$3,'Data Billing Quantities'!$A:$O,MATCH(BI_UGe_Typical!$A17,'Data Billing Quantities'!$4:$4,0),FALSE)","v":360},{"$f":"VLOOKUP($A17,'Data Pass Through'!$A:$D,2,FALSE)","v":0.17599999999999999},{"$f":"B17*C17","v":63.36},360,{"$f":"VLOOKUP($A17,'Data Pass Through'!$A:$D,3,FALSE)","v":0.17599999999999999},{"$f":"E17*F17","v":63.36},0,0,null,0.195329630793592]
["Sub-Total:  Energy (RPP TOU)",null,null,{"$f":"SUM(D15:D17)","v":215},null,null,{"$f":"SUM(G15:G17)","v":215},0,0,{"$f":"G18/$G$49","v":0.64518089220554353},0.66281361459315469]
["Service Charge",1,{"$f":"IF(ISERROR(VLOOKUP($B$3,'Data Current Rates'!$A:$BE,MATCH(BI_UGe_Typical!$A19,CurrentHeader,0),FALSE)),0,VLOOKUP($B$3,'Data Current Rates'!$A:$BE,MATCH(BI_UGe_Typical!$A19,CurrentHeader,0),FALSE))","v":25.59},{"$f":"B19*C19","v":25.59},1,{"$f":"VLOOKUP($B$3,'Data Proposed Rates'!$A:$BC,MATCH(BI_UGe_Typical!$A19,ProposedHeader,0),FALSE)","v":25.59},{"$f":"E19*F19","v":25.59},0,0,7.6791530379255152E-2,7.8890234406692225E-2]
["Base Rate Adjustment to Recover Past Tax Amounts FIXED",null,null,null,1,{"$f":"VLOOKUP($B$3,'Data Proposed Rates'!$A:$BC,MATCH(BI_UGe_Typical!$A20,ProposedHeader,0),FALSE)","v":0.81},0.81,0.81,"N/A",2.4306815008673967E-3,2.4971117573044433E-3]
["Fixed Deferral/Variance Account Rider (General)",1,{"$f":"IF(ISERROR(VLOOKUP($B$3,'Data Current Rates'!$A:$BE,MATCH(BI_UGe_Typical!$A21,CurrentHeader,0),FALSE)),0,VLOOKUP($B$3,'Data Current Rates'!$A:$BE,MATCH(BI_UGe_Typical!$A21,CurrentHeader,0),FALSE))","v":-0.14000000000000001},-0.14000000000000001,1,{"$f":"VLOOKUP($B$3,'Data Proposed Rates'!$A:$BC,MATCH(BI_UGe_Typical!$A21,ProposedHeader,0),FALSE)","v":-0.14000000000000001},-0.14000000000000001,0,0,-4.2011779027337724E-4,-4.3159956299089144E-4]
["Fixed ESM Rider",1,{"$f":"IF(ISERROR(VLOOKUP($B$3,'Data Current Rates'!$A:$BE,MATCH(BI_UGe_Typical!$A22,CurrentHeader,0),FALSE)),0,VLOOKUP($B$3,'Data Current Rates'!$A:$BE,MATCH(BI_UGe_Typical!$A22,CurrentHeader,0),FALSE))","v":-0.36},-0.36,1,{"$f":"VLOOKUP($B$3,'Data Proposed Rates'!$A:$BC,MATCH(BI_UGe_Typical!$A22,ProposedHeader,0),FALSE)","v":-0.36},-0.36,0,0,-1.0803028892743985E-3,-1.1098274476908636E-3]
["Distribution Volumetric Charge",{"$f":"IF($B$9=\"kWh\",$B$4,$B$5)","v":2000},{"$f":"IF(ISERROR(VLOOKUP($B$3,'Data Current Rates'!$A:$BE,MATCH(BI_UGe_Typical!$A23,CurrentHeader,0),FALSE)),0,VLOOKUP($B$3,'Data Current Rates'!$A:$BE,MATCH(BI_UGe_Typical!$A23,CurrentHeader,0),FALSE))","v":3.0599999999999999E-2},61.199999999999996,{"$f":"IF($B$9=\"kWh\",$B$4,$B$5)","v":2000},{"$f":"VLOOKUP($B$3,'Data Proposed Rates'!$A:$BC,MATCH(BI_UGe_Typical!$A23,ProposedHeader,0),FALSE)","v":3.0599999999999999E-2},61.199999999999996,0,0,0.18365149117664772,0.18867066610744679]
["Base Rate Adjustment to Recover Past Tax Amounts VOL",null,null,null,{"$f":"IF($B$9=\"kWh\",$B$4,$B$5)","v":2000},{"$f":"VLOOKUP($B$3,'Data Proposed Rates'!$A:$BC,MATCH(BI_UGe_Typical!$A24,ProposedHeader,0),FALSE)","v":1E-3},2,2,"N/A",6.0016827181911024E-3,6.1657080427270205E-3]
["Volumetric Deferral/Variance Account Rider (General)",{"$f":"IF($B$9=\"kWh\",$B$4,$B$5)","v":2000},{"$f":"IF(ISERROR(VLOOKUP($B$3,'Data Current Rates'!$A:$BE,MATCH(BI_UGe_Typical!$A25,CurrentHeader,0),FALSE)),0,VLOOKUP($B$3,'Data Current Rates'!$A:$BE,MATCH(BI_UGe_Typical!$A25,CurrentHeader,0),FALSE))","v":-2.9999999999999997E-4},-0.6,{"$f":"IF($B$9=\"kWh\",$B$4,$B$5)","v":2000},{"$f":"VLOOKUP($B$3,'Data Proposed Rates'!$A:$BC,MATCH(BI_UGe_Typical!$A25,ProposedHeader,0),FALSE)","v":-2.9999999999999997E-4},-0.6,0,0,-1.8005048154573306E-3,-1.849712412818106E-3]
["Volumetric ESM Rider",2000,{"$f":"IF(ISERROR(VLOOKUP($B$3,'Data Current Rates'!$A:$BE,MATCH(BI_UGe_Typical!$A26,CurrentHeader,0),FALSE)),0,VLOOKUP($B$3,'Data Current Rates'!$A:$BE,MATCH(BI_UGe_Typical!$A26,CurrentHeader,0),FALSE))","v":-4.0000000000000002E-4},-0.8,2000,{"$f":"VLOOKUP($B$3,'Data Proposed Rates'!$A:$BC,MATCH(BI_UGe_Typical!$A26,ProposedHeader,0),FALSE)","v":-4.0000000000000002E-4},-0.8,0,0,-2.4006730872764412E-3,-2.4662832170908081E-3]
["Fair Hydro Plan - Distribution Rate Protection Savings*",null,null,{"$f":"IF(AND(B3<>\"R1\",B3<>\"R2\"),0,IF(VLOOKUP($A27,'Data Pass Through'!$A:$D,2,FALSE)=0,0,IF(SUM(D19:D20,D23:D24)<VLOOKUP($A27,'Data Pass Through'!$A:$D,2,FALSE),0,VLOOKUP($A27,'Data Pass Through'!$A:$D,2,FALSE)-SUM(D19:D20,D23:D24))))","v":0},null,null,{"$f":"IF(AND(B3<>\"R1\",B3<>\"R2\"),0,IF(VLOOKUP($A27,'Data Pass Through'!$A:$D,2,FALSE)=0,0,IF(SUM(G19:G20,G23:G24)<VLOOKUP($A27,'Data Pass Through'!$A:$D,2,FALSE),0,VLOOKUP($A27,'Data Pass Through'!$A:$D,2,FALSE)-SUM(G19:G20,G23:G24))))","v":0},0,"N/A",0,0]
["Sub-Total:  Distribution (excluding pass through)",null,null,{"$f":"SUM(INDIRECT(\"D19:D\"&ROW()-1))","v":84.89},null,null,{"$f":"SUM(INDIRECT(\"g19:g\"&ROW()-1))","v":87.7},{"$f":"G28-D28","v":2.8100000000000023},3.3101660973023937E-2,0.26317378719267986,0.27036629767357984]
["Smart Metering Entity Charge",1,{"$f":"VLOOKUP($A29,'Data Pass Through'!$A:$D,2,FALSE)","v":0.56999999999999995},{"$f":"B29*C29","v":0.56999999999999995},1,{"$f":"VLOOKUP($A29,'Data Pass Through'!$A:$D,3,FALSE)","v":0.56999999999999995},{"$f":"E29*F29","v":0.56999999999999995},0,0,1.7104795746844641E-3,1.7572267921772005E-3]
["Line Losses on Cost of Power (based on two-tier RPP prices)",{"$f":"B8-B4","v":134},{"$f":"IF(B4>B7,C13,C12)","v":0.11799999999999999},{"$f":"B30*C30","v":15.811999999999999},134,{"$f":"IF(B4>B7,F13,F12)","v":0.11799999999999999},{"$f":"E30*F30","v":15.811999999999999},0,0,4.7449303570018857E-2,4.8746087785799821E-2]
["Line Losses on Cost of Power (based on TOU prices)",{"$f":"B8-B4","v":134},{"$f":"VLOOKUP($B$3,'Data Billing Quantities'!$A:$O,MATCH(BI_UGe_Typical!$A15,'Data Billing Quantities'!$4:$4,0),FALSE)*C15+VLOOKUP($B$3,'Data Billing Quantities'!$A:$O,MATCH(BI_UGe_Typical!$A16,'Data Billing Quantities'!$4:$4,0),FALSE)*C16+VLOOKUP($B$3,'Data Billing Quantities'!$A:$O,MATCH(BI_UGe_Typical!$A17,'Data Billing Quantities'!$4:$4,0),FALSE)*C17","v":0.1075},{"$f":"B31*C31","v":14.404999999999999},134,{"$f":"VLOOKUP($B$3,'Data Billing Quantities'!$A:$O,MATCH(BI_UGe_Typical!$A15,'Data Billing Quantities'!$4:$4,0),FALSE)*F15+VLOOKUP($B$3,'Data Billing Quantities'!$A:$O,MATCH(BI_UGe_Typical!$A16,'Data Billing Quantities'!$4:$4,0),FALSE)*F16+VLOOKUP($B$3,'Data Billing Quantities'!$A:$O,MATCH(BI_UGe_Typical!$A17,'Data Billing Quantities'!$4:$4,0),FALSE)*F17","v":0.1075},{"$f":"E31*F31","v":14.404999999999999},0,0,4.3227119777771418E-2,4.4408512177741361E-2]
["Sub-Total:  Distribution (based on two-tier RPP prices)",null,null,{"$f":"SUM(D28,D29:D30)","v":101.27199999999999},null,null,{"$f":"SUM(G28,G29:G30)","v":104.08199999999999},2.8100000000000023,2.7747057429496826E-2,0.31233357033738318,0.32086961225155686]
["Sub-Total:  Distribution (based on TOU prices)",null,null,{"$f":"SUM(D28,D29,D31)","v":99.864999999999995},null,null,{"$f":"SUM(G28,G29,G31)","v":102.675},2.8100000000000023,2.8137986281480024E-2,0.3081113865451357,0.31653203664349838]
["Retail Transmission Rate – Network Service Rate",{"$f":"B8","v":2134},{"$f":"VLOOKUP($B$3,'Data Current Rates'!$A:$BE,MATCH(BI_UGe_Typical!$A34,CurrentHeader,0),FALSE)","v":7.0000000000000001E-3},{"$f":"B34*C34","v":14.938000000000001},2134,{"$f":"VLOOKUP($B$3,'Data Proposed Rates'!$A:$BC,MATCH(BI_UGe_Typical!$A34,ProposedHeader,0),FALSE)","v":7.0000000000000001E-3},{"$f":"E34*F34","v":14.938000000000001},{"$f":"G34-D34","v":0},0,4.482656822216935E-2,4.6051673371128116E-2]
["Retail Transmission Rate – Line and Transformation Connection Service Rate",{"$f":"B8","v":2134},{"$f":"VLOOKUP($B$3,'Data Current Rates'!$A:$BE,MATCH(BI_UGe_Typical!$A35,CurrentHeader,0),FALSE)","v":5.7000000000000002E-3},{"$f":"B35*C35","v":12.1638},2134,{"$f":"VLOOKUP($B$3,'Data Proposed Rates'!$A:$BC,MATCH(BI_UGe_Typical!$A35,ProposedHeader,0),FALSE)","v":5.7000000000000002E-3},{"$f":"E35*F35","v":12.1638},{"$f":"G35-D35","v":0},0,3.6501634123766467E-2,3.7499219745061464E-2]
["Sub-Total:  Retail Transmission ",null,null,{"$f":"SUM(D34:D35)","v":27.101800000000001},null,null,{"$f":"SUM(G34:G35)","v":27.101800000000001},{"$f":"G36-D36","v":0},0,8.132820234593581E-2,8.3550893116189573E-2]
["Sub-Total:  Delivery (based on two-tier RPP prices)",null,null,{"$f":"D32+D36","v":128.37379999999999},null,null,{"$f":"G32+G36","v":131.18379999999999},{"$f":"G37-D37","v":2.8100000000000023},2.1889201690687685E-2,0.39366177268331898,0.40442050536774637]
["Sub-Total:  Delivery (based on TOU prices)",null,null,{"$f":"D33+D36","v":126.96679999999999},null,null,{"$f":"G33+G36","v":129.77680000000001},{"$f":"G38-D38","v":2.8100000000000165},2.2131769880000256E-2,0.38943958889107155,0.40008292975968801]
["Wholesale Market Service Rate (WMS) - not including CBR",{"$f":"B8","v":2134},{"$f":"VLOOKUP($A39,'Data Pass Through'!$A:$D,2,FALSE)","v":3.0000000000000001E-3},{"$f":"B39*C39","v":6.4020000000000001},{"$f":"$B$8","v":2134},{"$f":"VLOOKUP($A39,'Data Pass Through'!$A:$D,3,FALSE)","v":3.0000000000000001E-3},{"$f":"E39*F39","v":6.4020000000000001},0,0,1.9211386380929719E-2,1.9736431444769192E-2]
["Capacity Based Recovery (CBR) - Applicable for Class B Customers",{"$f":"B8","v":2134},{"$f":"VLOOKUP($A40,'Data Pass Through'!$A:$D,2,FALSE)","v":4.0000000000000002E-4},{"$f":"B40*C40","v":0.85360000000000003},{"$f":"$B$8","v":2134},{"$f":"VLOOKUP($A40,'Data Pass Through'!$A:$D,3,FALSE)","v":4.0000000000000002E-4},{"$f":"E40*F40","v":0.85360000000000003},0,0,2.5615181841239626E-3,2.6315241926358921E-3]
["Rural Rate Protection Charge",{"$f":"B8","v":2134},{"$f":"VLOOKUP($A41,'Data Pass Through'!$A:$D,2,FALSE)","v":5.0000000000000001E-4},1.0669999999999999,2134,{"$f":"VLOOKUP($A41,'Data Pass Through'!$A:$D,3,FALSE)","v":5.0000000000000001E-4},1.0669999999999999,0,0,3.201897730154953E-3,3.289405240794865E-3]
["Standard Supply Service – Administration Charge (if applicable)",1,{"$f":"VLOOKUP($A42,'Data Pass Through'!$A:$D,2,FALSE)","v":0.25},{"$f":"B42*C42","v":0.25},1,{"$f":"VLOOKUP($A42,'Data Pass Through'!$A:$D,3,FALSE)","v":0.25},0.25,0,0,7.5021033977388781E-4,7.7071350534087756E-4]
["Sub-Total:  Regulatory",null,null,{"$f":"SUM(D39:D42)","v":8.5725999999999996},null,null,{"$f":"SUM(G39:G42)","v":8.5725999999999996},0,0,2.5725012634982523E-2,2.6428074383540823E-2]
["Debt Retirement Charge (DRC)",{"$f":"B4","v":2000},{"$f":"VLOOKUP($A44,'Data Pass Through'!$A:$D,2,FALSE)","v":0},{"$f":"B44*C44","v":0},2000,{"$f":"VLOOKUP($A44,'Data Pass Through'!$A:$D,3,FALSE)","v":0},{"$f":"E44*F44","v":0},0,"N/A",0,0]
["Total  Electricty Charge on Two-Tier RPP ",null,null,{"$f":"SUM(D14,D28,D29,D30,D36,D43,D44)","v":360.19640000000004},null,null,{"$f":"SUM(G14,G28,G29,G30,G36,G43,G44)","v":363.00640000000004},2.8100000000000023,7.8012995132655458E-3,1.0893246187363834]
["     HST",null,0.13,{"$f":"D45*C46","v":46.82553200000001},null,{"$f":"C46","v":0.13},{"$f":"G45*F46","v":47.190832000000007},0.36529999999999774,7.8012995132654911E-3,0.14161220043572986]
["Total Electricity Charge on Two-Tier RPP (including HST)",null,null,{"$f":"SUM(D45:D46)","v":407.02193200000005},null,null,{"$f":"SUM(G45:G46)","v":410.19723200000004},3.1752999999999929,7.8012995132655224E-3,1.2309368191721133]
["Ontario Electricity Rebate (OER)",null,{"$f":"'Data Pass Through'!B20","v":-0.21199999999999999},{"$f":"D45*C48","v":-76.361636799999999},null,{"$f":"'Data Pass Through'!C20","v":-0.21199999999999999},{"$f":"G45*F48","v":-76.957356800000014},-0.59572000000001424,-7.801299513265727E-3,-0.23093681917211331]
["Total Amount on Two-Tier RPP",null,null,{"$f":"SUM(D47:D48)","v":330.66029520000006},null,null,{"$f":"SUM(G47:G48)","v":333.23987520000003},2.5795799999999645,7.8012995132654313E-3,1]
["Total Electricty Charge on TOU (before HST)",null,null,{"$f":"SUM(D18,D28,D29,D31,D36,D43,D44)","v":350.5394},null,null,{"$f":"SUM(G18,G28,G29,G31,G36,G43,G44)","v":353.3494},2.8100000000000023,8.0162172925497162E-3,null,{"$f":"G50/$G$54","v":1.0893246187363834}]
["     HST",null,0.13,{"$f":"D50*C51","v":45.570122000000005},null,{"$f":"C51","v":0.13},{"$f":"G50*F51","v":45.935422000000003},0.36529999999999774,8.0162172925496607E-3,null,{"$f":"G51/$G$54","v":0.14161220043572986}]
["Total Electricity Charge on TOU (including HST)",null,null,{"$f":"SUM(D50:D51)","v":396.10952200000003},null,null,{"$f":"SUM(G50:G51)","v":399.28482200000002},3.1752999999999929,8.0162172925496919E-3,null,{"$f":"G52/$G$54","v":1.2309368191721133}]
["Ontario Electricity Rebate (OER)",null,{"$f":"'Data Pass Through'!B20","v":-0.21199999999999999},{"$f":"D50*C53","v":-74.314352799999995},null,{"$f":"'Data Pass Through'!C20","v":-0.21199999999999999},{"$f":"G50*F53","v":-74.910072799999995},-0.59572000000000003,-8.016217292549711E-3,null,{"$f":"G53/$G$54","v":-0.23093681917211328}]
["Total Amount on TOU",null,null,{"$f":"SUM(D52:D53)","v":321.79516920000003},null,null,{"$f":"SUM(G52:G53)","v":324.3747492},2.5795799999999645,8.0162172925496E-3,null,{"$f":"G54/$G$54","v":1}]
["* Distribution rate protection applies to R1 and R2 customers"]

{"sheet":"BI_UGe_Avg","index":40,"n_rows":55,"n_cols":11,"rows_kept":55,"cut":false,"hidden":false,"merged":[[0,0,0,10]]}
["2021 Bill Impacts (Average Consumption Level) - UGe"]
[]
["Rate Class",{"$f":"RIGHT(A1,LEN(A1)-FIND(\"- \",A1,1)-1)","v":"UGe"}]
["Monthly Consumption (kWh)",{"$f":"IF(COUNTIF(A1,\"*Low*\")>0,VLOOKUP(B3,'Data Billing Quantities'!$A:$Z,MATCH(\"Low kWh\",'Data Billing Quantities'!4:4,0),FALSE),IF(COUNTIF(A1,\"*Typical*\")>0,VLOOKUP(B3,'Data Billing Quantities'!$A:$Z,MATCH(\"Typical kWh\",'Data Billing Quantities'!4:4,0),FALSE),IF(COUNTIF(A1,\"*Average*\")>0,VLOOKUP(B3,'Data Billing Quantities'!$A:$Z,MATCH(\"Average kWh\",'Data Billing Quantities'!4:4,0),FALSE),IF(COUNTIF(A1,\"*High*\")>0,VLOOKUP(B3,'Data Billing Quantities'!$A:$Z,MATCH(\"High kWh\",'Data Billing Quantities'!4:4,0),FALSE),\"error\"))))","v":2759}]
["Peak (kW)",{"$f":"IF(COUNTIF(A1,\"*Low*\")>0,VLOOKUP(B3,'Data Billing Quantities'!$A:$Z,MATCH(\"Low kW\",'Data Billing Quantities'!4:4,0),FALSE),IF(COUNTIF(A1,\"*Typical*\")>0,VLOOKUP(B3,'Data Billing Quantities'!$A:$Z,MATCH(\"Typical kW\",'Data Billing Quantities'!4:4,0),FALSE),IF(COUNTIF(A1,\"*Average*\")>0,VLOOKUP(B3,'Data Billing Quantities'!$A:$Z,MATCH(\"Average kW\",'Data Billing Quantities'!4:4,0),FALSE),IF(COUNTIF(A1,\"*High*\")>0,VLOOKUP(B3,'Data Billing Quantities'!$A:$Z,MATCH(\"High kW\",'Data Billing Quantities'!4:4,0),FALSE),\"error\"))))","v":0}]
["Loss factor",{"$f":"VLOOKUP(B3,'Data Billing Quantities'!A:D,MATCH(A6,'Data Billing Quantities'!4:4,0),FALSE)","v":1.0669999999999999}]
["Commodity Threshold",{"$f":"VLOOKUP(B3,'Data Billing Quantities'!A:D,MATCH(A7,'Data Billing Quantities'!4:4,0),FALSE)","v":750}]
["Monthly Consumption (kWh) - Uplifted",{"$f":"B4*B6","v":2943.8530000000001}]
["Charge determinant",{"$f":"VLOOKUP(B3,'Data Billing Quantities'!A:D,MATCH(A9,'Data Billing Quantities'!4:4,0),FALSE)","v":"kWh"}]
[]
[null,"Volume","Current Rate ($)","Current Charge ($)","Volume","Proposed Rate ($)","Proposed Charge ($)","Change ($)","Change (%)","% of Total Bill on RPP","% of Total Bill on TOU"]
["Energy First Tier",{"$f":"IF(B4>B7,B7,B4)","v":750},{"$f":"VLOOKUP($A12,'Data Pass Through'!$A:$D,2,FALSE)","v":0.10100000000000001},{"$f":"B12*C12","v":75.75},{"$f":"B12","v":750},{"$f":"VLOOKUP($A12,'Data Pass Through'!$A:$D,3,FALSE)","v":0.10100000000000001},{"$f":"E12*F12","v":75.75},{"$f":"G12-D12","v":0},{"$f":"IF(ISERROR(H12/ABS(D12)),\"N/A\",(H12/ABS(D12)))","v":0},{"$f":"G12/$G$49","v":0.1665429868727297}]
["Energy Second Tier",{"$f":"IF(B4>B7,(B4)-B7,0)","v":2009},{"$f":"VLOOKUP($A13,'Data Pass Through'!$A:$D,2,FALSE)","v":0.11799999999999999},{"$f":"B13*C13","v":237.06199999999998},{"$f":"B13","v":2009},{"$f":"VLOOKUP($A13,'Data Pass Through'!$A:$D,3,FALSE)","v":0.11799999999999999},{"$f":"E13*F13","v":237.06199999999998},0,0,{"$f":"G13/$G$49","v":0.5212014990630105}]
["Sub-Total:  Energy (RPP Tiered)",null,null,{"$f":"SUM(D12:D13)","v":312.81200000000001},null,null,{"$f":"SUM(G12:G13)","v":312.81200000000001},0,0,{"$f":"G14/$G$49","v":0.68774448593574022}]
["TOU-Off Peak",{"$f":"B$4*VLOOKUP($B$3,'Data Billing Quantities'!$A:$O,MATCH(BI_UGe_Avg!$A15,'Data Billing Quantities'!$4:$4,0),FALSE)","v":1765.76},{"$f":"VLOOKUP($A15,'Data Pass Through'!$A:$D,2,FALSE)","v":8.5000000000000006E-2},{"$f":"B15*C15","v":150.08960000000002},1765.76,{"$f":"VLOOKUP($A15,'Data Pass Through'!$A:$D,3,FALSE)","v":8.5000000000000006E-2},{"$f":"E15*F15","v":150.08960000000002},0,0,null,{"$f":"G15/$G$54","v":0.34254032151490471}]
["TOU-Mid Peak",{"$f":"B$4*VLOOKUP($B$3,'Data Billing Quantities'!$A:$O,MATCH(BI_UGe_Avg!$A16,'Data Billing Quantities'!$4:$4,0),FALSE)","v":496.62},{"$f":"VLOOKUP($A16,'Data Pass Through'!$A:$D,2,FALSE)","v":0.11899999999999999},{"$f":"B16*C16","v":59.09778},496.62,{"$f":"VLOOKUP($A16,'Data Pass Through'!$A:$D,3,FALSE)","v":0.11899999999999999},{"$f":"E16*F16","v":59.09778},0,0,null,0.13487525159649372]
["TOU-On Peak",{"$f":"B$4*VLOOKUP($B$3,'Data Billing Quantities'!$A:$O,MATCH(BI_UGe_Avg!$A17,'Data Billing Quantities'!$4:$4,0),FALSE)","v":496.62},{"$f":"VLOOKUP($A17,'Data Pass Through'!$A:$D,2,FALSE)","v":0.17599999999999999},{"$f":"B17*C17","v":87.405119999999997},496.62,{"$f":"VLOOKUP($A17,'Data Pass Through'!$A:$D,3,FALSE)","v":0.17599999999999999},{"$f":"E17*F17","v":87.405119999999997},0,0,null,0.1994793637057386]
["Sub-Total:  Energy (RPP TOU)",null,null,{"$f":"SUM(D15:D17)","v":296.59250000000003},null,null,{"$f":"SUM(G15:G17)","v":296.59250000000003},0,0,{"$f":"G18/$G$49","v":0.65208449945940705},0.67689493681713708]
["Service Charge",1,{"$f":"IF(ISERROR(VLOOKUP($B$3,'Data Current Rates'!$A:$BE,MATCH(BI_UGe_Avg!$A19,CurrentHeader,0),FALSE)),0,VLOOKUP($B$3,'Data Current Rates'!$A:$BE,MATCH(BI_UGe_Avg!$A19,CurrentHeader,0),FALSE))","v":25.59},{"$f":"B19*C19","v":25.59},1,{"$f":"VLOOKUP($B$3,'Data Proposed Rates'!$A:$BC,MATCH(BI_UGe_Avg!$A19,ProposedHeader,0),FALSE)","v":25.59},{"$f":"E19*F19","v":25.59},0,0,5.6261848634629082E-2,5.8402493094567583E-2]
["Base Rate Adjustment to Recover Past Tax Amounts FIXED",null,null,null,1,{"$f":"VLOOKUP($B$3,'Data Proposed Rates'!$A:$BC,MATCH(BI_UGe_Avg!$A20,ProposedHeader,0),FALSE)","v":0.81},0.81,0.81,"N/A",1.7808557012133474E-3,1.8486134977178485E-3]
["Fixed Deferral/Variance Account Rider (General)",1,{"$f":"IF(ISERROR(VLOOKUP($B$3,'Data Current Rates'!$A:$BE,MATCH(BI_UGe_Avg!$A21,CurrentHeader,0),FALSE)),0,VLOOKUP($B$3,'Data Current Rates'!$A:$BE,MATCH(BI_UGe_Avg!$A21,CurrentHeader,0),FALSE))","v":-0.14000000000000001},-0.14000000000000001,1,{"$f":"VLOOKUP($B$3,'Data Proposed Rates'!$A:$BC,MATCH(BI_UGe_Avg!$A21,ProposedHeader,0),FALSE)","v":-0.14000000000000001},-0.14000000000000001,0,0,-3.0780221996280077E-4,-3.1951344404999854E-4]
["Fixed ESM Rider",1,{"$f":"IF(ISERROR(VLOOKUP($B$3,'Data Current Rates'!$A:$BE,MATCH(BI_UGe_Avg!$A22,CurrentHeader,0),FALSE)),0,VLOOKUP($B$3,'Data Current Rates'!$A:$BE,MATCH(BI_UGe_Avg!$A22,CurrentHeader,0),FALSE))","v":-0.36},-0.36,1,{"$f":"VLOOKUP($B$3,'Data Proposed Rates'!$A:$BC,MATCH(BI_UGe_Avg!$A22,ProposedHeader,0),FALSE)","v":-0.36},-0.36,0,0,-7.9149142276148767E-4,-8.2160599898571044E-4]
["Distribution Volumetric Charge",{"$f":"IF($B$9=\"kWh\",$B$4,$B$5)","v":2759},{"$f":"IF(ISERROR(VLOOKUP($B$3,'Data Current Rates'!$A:$BE,MATCH(BI_UGe_Avg!$A23,CurrentHeader,0),FALSE)),0,VLOOKUP($B$3,'Data Current Rates'!$A:$BE,MATCH(BI_UGe_Avg!$A23,CurrentHeader,0),FALSE))","v":3.0599999999999999E-2},84.425399999999996,{"$f":"IF($B$9=\"kWh\",$B$4,$B$5)","v":2759},{"$f":"VLOOKUP($B$3,'Data Proposed Rates'!$A:$BC,MATCH(BI_UGe_Avg!$A23,ProposedHeader,0),FALSE)","v":3.0599999999999999E-2},84.425399999999996,0,0,0.18561661100891028,0.19267893085213386]
["Base Rate Adjustment to Recover Past Tax Amounts VOL",null,null,null,{"$f":"IF($B$9=\"kWh\",$B$4,$B$5)","v":2759},{"$f":"VLOOKUP($B$3,'Data Proposed Rates'!$A:$BC,MATCH(BI_UGe_Avg!$A24,ProposedHeader,0),FALSE)","v":1E-3},2.7589999999999999,2.7589999999999999,"N/A",6.0659023205526233E-3,6.2966970866710414E-3]
["Volumetric Deferral/Variance Account Rider (General)",{"$f":"IF($B$9=\"kWh\",$B$4,$B$5)","v":2759},{"$f":"IF(ISERROR(VLOOKUP($B$3,'Data Current Rates'!$A:$BE,MATCH(BI_UGe_Avg!$A25,CurrentHeader,0),FALSE)),0,VLOOKUP($B$3,'Data Current Rates'!$A:$BE,MATCH(BI_UGe_Avg!$A25,CurrentHeader,0),FALSE))","v":-2.9999999999999997E-4},-0.82769999999999988,{"$f":"IF($B$9=\"kWh\",$B$4,$B$5)","v":2759},{"$f":"VLOOKUP($B$3,'Data Proposed Rates'!$A:$BC,MATCH(BI_UGe_Avg!$A25,ProposedHeader,0),FALSE)","v":-2.9999999999999997E-4},-0.82769999999999988,0,0,-1.8197706961657868E-3,-1.8890091260013123E-3]
["Volumetric ESM Rider",2759,{"$f":"IF(ISERROR(VLOOKUP($B$3,'Data Current Rates'!$A:$BE,MATCH(BI_UGe_Avg!$A26,CurrentHeader,0),FALSE)),0,VLOOKUP($B$3,'Data Current Rates'!$A:$BE,MATCH(BI_UGe_Avg!$A26,CurrentHeader,0),FALSE))","v":-4.0000000000000002E-4},-1.1036000000000001,2759,{"$f":"VLOOKUP($B$3,'Data Proposed Rates'!$A:$BC,MATCH(BI_UGe_Avg!$A26,ProposedHeader,0),FALSE)","v":-4.0000000000000002E-4},-1.1036000000000001,0,0,-2.4263609282210497E-3,-2.5186788346684172E-3]
["Fair Hydro Plan - Distribution Rate Protection Savings*",null,null,{"$f":"IF(AND(B3<>\"R1\",B3<>\"R2\"),0,IF(VLOOKUP($A27,'Data Pass Through'!$A:$D,2,FALSE)=0,0,IF(SUM(D19:D20,D23:D24)<VLOOKUP($A27,'Data Pass Through'!$A:$D,2,FALSE),0,VLOOKUP($A27,'Data Pass Through'!$A:$D,2,FALSE)-SUM(D19:D20,D23:D24))))","v":0},null,null,{"$f":"IF(AND(B3<>\"R1\",B3<>\"R2\"),0,IF(VLOOKUP($A27,'Data Pass Through'!$A:$D,2,FALSE)=0,0,IF(SUM(G19:G20,G23:G24)<VLOOKUP($A27,'Data Pass Through'!$A:$D,2,FALSE),0,VLOOKUP($A27,'Data Pass Through'!$A:$D,2,FALSE)-SUM(G19:G20,G23:G24))))","v":0},0,"N/A",0,0]
["Sub-Total:  Distribution (excluding pass through)",null,null,{"$f":"SUM(INDIRECT(\"D19:D\"&ROW()-1))","v":107.58410000000001},null,null,{"$f":"SUM(INDIRECT(\"g19:g\"&ROW()-1))","v":111.15310000000001},{"$f":"G28-D28","v":3.5690000000000026},3.3174047094319724E-2,0.24437979239819421,0.25367792712738496]
["Smart Metering Entity Charge",1,{"$f":"VLOOKUP($A29,'Data Pass Through'!$A:$D,2,FALSE)","v":0.56999999999999995},{"$f":"B29*C29","v":0.56999999999999995},1,{"$f":"VLOOKUP($A29,'Data Pass Through'!$A:$D,3,FALSE)","v":0.56999999999999995},{"$f":"E29*F29","v":0.56999999999999995},0,0,1.2531947527056886E-3,1.300876165060708E-3]
["Line Losses on Cost of Power (based on two-tier RPP prices)",{"$f":"B8-B4","v":184.85300000000007},{"$f":"IF(B4>B7,C13,C12)","v":0.11799999999999999},{"$f":"B30*C30","v":21.812654000000006},184.85300000000007,{"$f":"IF(B4>B7,F13,F12)","v":0.11799999999999999},{"$f":"E30*F30","v":21.812654000000006},0,0,4.7957023746289053E-2,4.978168716722127E-2]
["Line Losses on Cost of Power (based on TOU prices)",{"$f":"B8-B4","v":184.85300000000007},{"$f":"VLOOKUP($B$3,'Data Billing Quantities'!$A:$O,MATCH(BI_UGe_Avg!$A15,'Data Billing Quantities'!$4:$4,0),FALSE)*C15+VLOOKUP($B$3,'Data Billing Quantities'!$A:$O,MATCH(BI_UGe_Avg!$A16,'Data Billing Quantities'!$4:$4,0),FALSE)*C16+VLOOKUP($B$3,'Data Billing Quantities'!$A:$O,MATCH(BI_UGe_Avg!$A17,'Data Billing Quantities'!$4:$4,0),FALSE)*C17","v":0.1075},{"$f":"B31*C31","v":19.871697500000007},184.85300000000007,{"$f":"VLOOKUP($B$3,'Data Billing Quantities'!$A:$O,MATCH(BI_UGe_Avg!$A15,'Data Billing Quantities'!$4:$4,0),FALSE)*F15+VLOOKUP($B$3,'Data Billing Quantities'!$A:$O,MATCH(BI_UGe_Avg!$A16,'Data Billing Quantities'!$4:$4,0),FALSE)*F16+VLOOKUP($B$3,'Data Billing Quantities'!$A:$O,MATCH(BI_UGe_Avg!$A17,'Data Billing Quantities'!$4:$4,0),FALSE)*F17","v":0.1075},{"$f":"E31*F31","v":19.871697500000007},0,0,4.3689661463780283E-2,4.5351960766748196E-2]
["Sub-Total:  Distribution (based on two-tier RPP prices)",null,null,{"$f":"SUM(D28,D29:D30)","v":129.96675400000001},null,null,{"$f":"SUM(G28,G29:G30)","v":133.535754},3.5689999999999884,2.7460868954224924E-2,0.29359001089718895,0.30476049045966686]
["Sub-Total:  Distribution (based on TOU prices)",null,null,{"$f":"SUM(D28,D29,D31)","v":128.02579750000001},null,null,{"$f":"SUM(G28,G29,G31)","v":131.5947975},3.5689999999999884,2.7877194047551145E-2,0.28932264861468016,0.30033076405919379]
["Retail Transmission Rate – Network Service Rate",{"$f":"B8","v":2943.8530000000001},{"$f":"VLOOKUP($B$3,'Data Current Rates'!$A:$BE,MATCH(BI_UGe_Avg!$A34,CurrentHeader,0),FALSE)","v":7.0000000000000001E-3},{"$f":"B34*C34","v":20.606971000000001},2943.8530000000001,{"$f":"VLOOKUP($B$3,'Data Proposed Rates'!$A:$BC,MATCH(BI_UGe_Avg!$A34,ProposedHeader,0),FALSE)","v":7.0000000000000001E-3},{"$f":"E34*F34","v":20.606971000000001},{"$f":"G34-D34","v":0},0,4.5306224432207547E-2,4.7030030540346018E-2]
["Retail Transmission Rate – Line and Transformation Connection Service Rate",{"$f":"B8","v":2943.8530000000001},{"$f":"VLOOKUP($B$3,'Data Current Rates'!$A:$BE,MATCH(BI_UGe_Avg!$A35,CurrentHeader,0),FALSE)","v":5.7000000000000002E-3},{"$f":"B35*C35","v":16.779962100000002},2943.8530000000001,{"$f":"VLOOKUP($B$3,'Data Proposed Rates'!$A:$BC,MATCH(BI_UGe_Avg!$A35,ProposedHeader,0),FALSE)","v":5.7000000000000002E-3},{"$f":"E35*F35","v":16.779962100000002},{"$f":"G35-D35","v":0},0,3.6892211323369006E-2,3.8295882011424615E-2]
["Sub-Total:  Retail Transmission ",null,null,{"$f":"SUM(D34:D35)","v":37.386933100000007},null,null,{"$f":"SUM(G34:G35)","v":37.386933100000007},{"$f":"G36-D36","v":0},0,8.219843575557656E-2,8.5325912551770633E-2]
["Sub-Total:  Delivery (based on two-tier RPP prices)",null,null,{"$f":"D32+D36","v":167.3536871},null,null,{"$f":"G32+G36","v":170.92268710000002},{"$f":"G37-D37","v":3.5690000000000168},2.1326091237340996E-2,0.37578844665276551,0.39008640301143754]
["Sub-Total:  Delivery (based on TOU prices)",null,null,{"$f":"D33+D36","v":165.41273060000003},null,null,{"$f":"G33+G36","v":168.98173059999999},{"$f":"G38-D38","v":3.56899999999996},2.1576332045630104E-2,0.37152108437025672,0.38565667661096442]
["Wholesale Market Service Rate (WMS) - not including CBR",{"$f":"B8","v":2943.8530000000001},{"$f":"VLOOKUP($A39,'Data Pass Through'!$A:$D,2,FALSE)","v":3.0000000000000001E-3},{"$f":"B39*C39","v":8.8315590000000004},{"$f":"$B$8","v":2943.8530000000001},{"$f":"VLOOKUP($A39,'Data Pass Through'!$A:$D,3,FALSE)","v":3.0000000000000001E-3},{"$f":"E39*F39","v":8.8315590000000004},0,0,1.9416953328088949E-2,2.0155727374434006E-2]
["Capacity Based Recovery (CBR) - Applicable for Class B Customers",{"$f":"B8","v":2943.8530000000001},{"$f":"VLOOKUP($A40,'Data Pass Through'!$A:$D,2,FALSE)","v":4.0000000000000002E-4},{"$f":"B40*C40","v":1.1775412000000001},{"$f":"$B$8","v":2943.8530000000001},{"$f":"VLOOKUP($A40,'Data Pass Through'!$A:$D,3,FALSE)","v":4.0000000000000002E-4},{"$f":"E40*F40","v":1.1775412000000001},0,0,2.5889271104118598E-3,2.6874303165912009E-3]
["Rural Rate Protection Charge",{"$f":"B8","v":2943.8530000000001},{"$f":"VLOOKUP($A41,'Data Pass Through'!$A:$D,2,FALSE)","v":5.0000000000000001E-4},1.4719265000000001,2943.8530000000001,{"$f":"VLOOKUP($A41,'Data Pass Through'!$A:$D,3,FALSE)","v":5.0000000000000001E-4},1.4719265000000001,0,0,3.2361588880148251E-3,3.3592878957390011E-3]
["Standard Supply Service – Administration Charge (if applicable)",1,{"$f":"VLOOKUP($A42,'Data Pass Through'!$A:$D,2,FALSE)","v":0.25},{"$f":"B42*C42","v":0.25},1,{"$f":"VLOOKUP($A42,'Data Pass Through'!$A:$D,3,FALSE)","v":0.25},0.25,0,0,5.4964682136214419E-4,5.7055972151785447E-4]
["Sub-Total:  Regulatory",null,null,{"$f":"SUM(D39:D42)","v":11.731026700000001},null,null,{"$f":"SUM(G39:G42)","v":11.731026700000001},0,0,2.5791686147877777E-2,2.6773005308282062E-2]
["Debt Retirement Charge (DRC)",{"$f":"B4","v":2759},{"$f":"VLOOKUP($A44,'Data Pass Through'!$A:$D,2,FALSE)","v":0},{"$f":"B44*C44","v":0},2759,{"$f":"VLOOKUP($A44,'Data Pass Through'!$A:$D,3,FALSE)","v":0},{"$f":"E44*F44","v":0},0,"N/A",0,0]
["Total  Electricty Charge on Two-Tier RPP ",null,null,{"$f":"SUM(D14,D28,D29,D30,D36,D43,D44)","v":491.89671380000004},null,null,{"$f":"SUM(G14,G28,G29,G30,G36,G43,G44)","v":495.4657138},3.56899999999996,7.2555882157226146E-3,1.0893246187363834]
["     HST",null,0.13,{"$f":"D45*C46","v":63.946572794000005},null,{"$f":"C46","v":0.13},{"$f":"G45*F46","v":64.410542794000008},0.46397000000000332,7.2555882157227481E-3,0.14161220043572986]
["Total Electricity Charge on Two-Tier RPP (including HST)",null,null,{"$f":"SUM(D45:D46)","v":555.84328659400001},null,null,{"$f":"SUM(G45:G46)","v":559.87625659399998},4.0329699999999775,7.2555882157226562E-3,1.2309368191721133]
["Ontario Electricity Rebate (OER)",null,{"$f":"'Data Pass Through'!B20","v":-0.21199999999999999},{"$f":"D45*C48","v":-104.2821033256},null,{"$f":"'Data Pass Through'!C20","v":-0.21199999999999999},{"$f":"G45*F48","v":-105.0387313256},-0.75662799999999208,-7.2555882157226206E-3,-0.23093681917211328]
["Total Amount on Two-Tier RPP",null,null,{"$f":"SUM(D47:D48)","v":451.56118326839999},null,null,{"$f":"SUM(G47:G48)","v":454.83752526839999},3.2763419999999996,7.2555882157226961E-3,1]
["Total Electricty Charge on TOU (before HST)",null,null,{"$f":"SUM(D18,D28,D29,D31,D36,D43,D44)","v":473.73625730000003},null,null,{"$f":"SUM(G18,G28,G29,G31,G36,G43,G44)","v":477.30525729999999},3.56899999999996,7.5337277757481025E-3,null,{"$f":"G50/$G$54","v":1.0893246187363834}]
["     HST",null,0.13,{"$f":"D50*C51","v":61.585713449000004},null,{"$f":"C51","v":0.13},{"$f":"G50*F51","v":62.049683449},0.46396999999999622,7.5337277757481259E-3,null,{"$f":"G51/$G$54","v":0.14161220043572986}]
["Total Electricity Charge on TOU (including HST)",null,null,{"$f":"SUM(D50:D51)","v":535.321970749},null,null,{"$f":"SUM(G50:G51)","v":539.35494074899998},4.0329699999999775,7.533727775748145E-3,null,{"$f":"G52/$G$54","v":1.2309368191721133}]
["Ontario Electricity Rebate (OER)",null,{"$f":"'Data Pass Through'!B20","v":-0.21199999999999999},{"$f":"D50*C53","v":-100.43208654760001},null,{"$f":"'Data Pass Through'!C20","v":-0.21199999999999999},{"$f":"G50*F53","v":-101.1887145476},-0.75662799999999208,-7.5337277757481077E-3,null,{"$f":"G53/$G$54","v":-0.23093681917211331}]
["Total Amount on TOU",null,null,{"$f":"SUM(D52:D53)","v":434.88988420139998},null,null,{"$f":"SUM(G52:G53)","v":438.16622620139998},3.2763419999999996,7.5337277757481867E-3,null,{"$f":"G54/$G$54","v":1}]
["* Distribution rate protection applies to R1 and R2 customers"]

{"sheet":"BI_UGe_High","index":41,"n_rows":55,"n_cols":11,"rows_kept":55,"cut":false,"hidden":false,"merged":[[0,0,0,10]]}
["2021 Bill Impacts (High Consumption Level) - UGe"]
[]
["Rate Class",{"$f":"RIGHT(A1,LEN(A1)-FIND(\"- \",A1,1)-1)","v":"UGe"}]
["Monthly Consumption (kWh)",{"$f":"IF(COUNTIF(A1,\"*Low*\")>0,VLOOKUP(B3,'Data Billing Quantities'!$A:$Z,MATCH(\"Low kWh\",'Data Billing Quantities'!4:4,0),FALSE),IF(COUNTIF(A1,\"*Typical*\")>0,VLOOKUP(B3,'Data Billing Quantities'!$A:$Z,MATCH(\"Typical kWh\",'Data Billing Quantities'!4:4,0),FALSE),IF(COUNTIF(A1,\"*Average*\")>0,VLOOKUP(B3,'Data Billing Quantities'!$A:$Z,MATCH(\"Average kWh\",'Data Billing Quantities'!4:4,0),FALSE),IF(COUNTIF(A1,\"*High*\")>0,VLOOKUP(B3,'Data Billing Quantities'!$A:$Z,MATCH(\"High kWh\",'Data Billing Quantities'!4:4,0),FALSE),\"error\"))))","v":15000}]
["Peak (kW)",{"$f":"IF(COUNTIF(A1,\"*Low*\")>0,VLOOKUP(B3,'Data Billing Quantities'!$A:$Z,MATCH(\"Low kW\",'Data Billing Quantities'!4:4,0),FALSE),IF(COUNTIF(A1,\"*Typical*\")>0,VLOOKUP(B3,'Data Billing Quantities'!$A:$Z,MATCH(\"Typical kW\",'Data Billing Quantities'!4:4,0),FALSE),IF(COUNTIF(A1,\"*Average*\")>0,VLOOKUP(B3,'Data Billing Quantities'!$A:$Z,MATCH(\"Average kW\",'Data Billing Quantities'!4:4,0),FALSE),IF(COUNTIF(A1,\"*High*\")>0,VLOOKUP(B3,'Data Billing Quantities'!$A:$Z,MATCH(\"High kW\",'Data Billing Quantities'!4:4,0),FALSE),\"error\"))))","v":0}]
["Loss factor",{"$f":"VLOOKUP(B3,'Data Billing Quantities'!A:D,MATCH(A6,'Data Billing Quantities'!4:4,0),FALSE)","v":1.0669999999999999}]
["Commodity Threshold",{"$f":"VLOOKUP(B3,'Data Billing Quantities'!A:D,MATCH(A7,'Data Billing Quantities'!4:4,0),FALSE)","v":750}]
["Monthly Consumption (kWh) - Uplifted",{"$f":"B4*B6","v":16005}]
["Charge determinant",{"$f":"VLOOKUP(B3,'Data Billing Quantities'!A:D,MATCH(A9,'Data Billing Quantities'!4:4,0),FALSE)","v":"kWh"}]
[]
[null,"Volume","Current Rate ($)","Current Charge ($)","Volume","Proposed Rate ($)","Proposed Charge ($)","Change ($)","Change (%)","% of Total Bill on RPP","% of Total Bill on TOU"]
["Energy First Tier",{"$f":"IF(B4>B7,B7,B4)","v":750},{"$f":"VLOOKUP($A12,'Data Pass Through'!$A:$D,2,FALSE)","v":0.10100000000000001},{"$f":"B12*C12","v":75.75},{"$f":"B12","v":750},{"$f":"VLOOKUP($A12,'Data Pass Through'!$A:$D,3,FALSE)","v":0.10100000000000001},{"$f":"E12*F12","v":75.75},{"$f":"G12-D12","v":0},{"$f":"IF(ISERROR(H12/ABS(D12)),\"N/A\",(H12/ABS(D12)))","v":0},{"$f":"G12/$G$49","v":3.1354254526099641E-2}]
["Energy Second Tier",{"$f":"IF(B4>B7,(B4)-B7,0)","v":14250},{"$f":"VLOOKUP($A13,'Data Pass Through'!$A:$D,2,FALSE)","v":0.11799999999999999},{"$f":"B13*C13","v":1681.5},{"$f":"B13","v":14250},{"$f":"VLOOKUP($A13,'Data Pass Through'!$A:$D,3,FALSE)","v":0.11799999999999999},{"$f":"E13*F13","v":1681.5},0,0,{"$f":"G13/$G$49","v":0.69600236284668704}]
["Sub-Total:  Energy (RPP Tiered)",null,null,{"$f":"SUM(D12:D13)","v":1757.25},null,null,{"$f":"SUM(G12:G13)","v":1757.25},0,0,{"$f":"G14/$G$49","v":0.72735661737278667}]
["TOU-Off Peak",{"$f":"B$4*VLOOKUP($B$3,'Data Billing Quantities'!$A:$O,MATCH(BI_UGe_High!$A15,'Data Billing Quantities'!$4:$4,0),FALSE)","v":9600},{"$f":"VLOOKUP($A15,'Data Pass Through'!$A:$D,2,FALSE)","v":8.5000000000000006E-2},{"$f":"B15*C15","v":816.00000000000011},9600,{"$f":"VLOOKUP($A15,'Data Pass Through'!$A:$D,3,FALSE)","v":8.5000000000000006E-2},{"$f":"E15*F15","v":816.00000000000011},0,0,null,{"$f":"G15/$G$54","v":0.35893811657856867}]
["TOU-Mid Peak",{"$f":"B$4*VLOOKUP($B$3,'Data Billing Quantities'!$A:$O,MATCH(BI_UGe_High!$A16,'Data Billing Quantities'!$4:$4,0),FALSE)","v":2700},{"$f":"VLOOKUP($A16,'Data Pass Through'!$A:$D,2,FALSE)","v":0.11899999999999999},{"$f":"B16*C16","v":321.3},2700,{"$f":"VLOOKUP($A16,'Data Pass Through'!$A:$D,3,FALSE)","v":0.11899999999999999},{"$f":"E16*F16","v":321.3},0,0,null,0.14133188340281139]
["TOU-On Peak",{"$f":"B$4*VLOOKUP($B$3,'Data Billing Quantities'!$A:$O,MATCH(BI_UGe_High!$A17,'Data Billing Quantities'!$4:$4,0),FALSE)","v":2700},{"$f":"VLOOKUP($A17,'Data Pass Through'!$A:$D,2,FALSE)","v":0.17599999999999999},{"$f":"B17*C17","v":475.2},2700,{"$f":"VLOOKUP($A17,'Data Pass Through'!$A:$D,3,FALSE)","v":0.17599999999999999},{"$f":"E17*F17","v":475.2},0,0,null,0.20902866788987232]
["Sub-Total:  Energy (RPP TOU)",null,null,{"$f":"SUM(D15:D17)","v":1612.5000000000002},null,null,{"$f":"SUM(G15:G17)","v":1612.5000000000002},0,0,{"$f":"G18/$G$49","v":0.66744205179321026},0.7092986678712524]
["Service Charge",1,{"$f":"IF(ISERROR(VLOOKUP($B$3,'Data Current Rates'!$A:$BE,MATCH(BI_UGe_High!$A19,CurrentHeader,0),FALSE)),0,VLOOKUP($B$3,'Data Current Rates'!$A:$BE,MATCH(BI_UGe_High!$A19,CurrentHeader,0),FALSE))","v":25.59},{"$f":"B19*C19","v":25.59},1,{"$f":"VLOOKUP($B$3,'Data Proposed Rates'!$A:$BC,MATCH(BI_UGe_High!$A19,ProposedHeader,0),FALSE)","v":25.59},{"$f":"E19*F19","v":25.59},0,0,1.0592150142876433E-2,1.1256404905938199E-2]
["Base Rate Adjustment to Recover Past Tax Amounts FIXED",null,null,null,1,{"$f":"VLOOKUP($B$3,'Data Proposed Rates'!$A:$BC,MATCH(BI_UGe_High!$A20,ProposedHeader,0),FALSE)","v":0.81},0.81,0.81,"N/A",3.3527321671472882E-4,3.5629886572137329E-4]
["Fixed Deferral/Variance Account Rider (General)",1,{"$f":"IF(ISERROR(VLOOKUP($B$3,'Data Current Rates'!$A:$BE,MATCH(BI_UGe_High!$A21,CurrentHeader,0),FALSE)),0,VLOOKUP($B$3,'Data Current Rates'!$A:$BE,MATCH(BI_UGe_High!$A21,CurrentHeader,0),FALSE))","v":-0.14000000000000001},-0.14000000000000001,1,{"$f":"VLOOKUP($B$3,'Data Proposed Rates'!$A:$BC,MATCH(BI_UGe_High!$A21,ProposedHeader,0),FALSE)","v":-0.14000000000000001},-0.14000000000000001,0,0,-5.7948457209953133E-5,-6.1582520001225016E-5]
["Fixed ESM Rider",1,{"$f":"IF(ISERROR(VLOOKUP($B$3,'Data Current Rates'!$A:$BE,MATCH(BI_UGe_High!$A22,CurrentHeader,0),FALSE)),0,VLOOKUP($B$3,'Data Current Rates'!$A:$BE,MATCH(BI_UGe_High!$A22,CurrentHeader,0),FALSE))","v":-0.36},-0.36,1,{"$f":"VLOOKUP($B$3,'Data Proposed Rates'!$A:$BC,MATCH(BI_UGe_High!$A22,ProposedHeader,0),FALSE)","v":-0.36},-0.36,0,0,-1.4901031853987946E-4,-1.5835505143172143E-4]
["Distribution Volumetric Charge",{"$f":"IF($B$9=\"kWh\",$B$4,$B$5)","v":15000},{"$f":"IF(ISERROR(VLOOKUP($B$3,'Data Current Rates'!$A:$BE,MATCH(BI_UGe_High!$A23,CurrentHeader,0),FALSE)),0,VLOOKUP($B$3,'Data Current Rates'!$A:$BE,MATCH(BI_UGe_High!$A23,CurrentHeader,0),FALSE))","v":3.0599999999999999E-2},459,{"$f":"IF($B$9=\"kWh\",$B$4,$B$5)","v":15000},{"$f":"VLOOKUP($B$3,'Data Proposed Rates'!$A:$BC,MATCH(BI_UGe_High!$A23,ProposedHeader,0),FALSE)","v":3.0599999999999999E-2},459,0,0,0.18998815613834633,0.20190269057544485]
["Base Rate Adjustment to Recover Past Tax Amounts VOL",null,null,null,{"$f":"IF($B$9=\"kWh\",$B$4,$B$5)","v":15000},{"$f":"VLOOKUP($B$3,'Data Proposed Rates'!$A:$BC,MATCH(BI_UGe_High!$A24,ProposedHeader,0),FALSE)","v":1E-3},15,15,"N/A",6.2087632724949779E-3,6.5981271429883933E-3]
["Volumetric Deferral/Variance Account Rider (General)",{"$f":"IF($B$9=\"kWh\",$B$4,$B$5)","v":15000},{"$f":"IF(ISERROR(VLOOKUP($B$3,'Data Current Rates'!$A:$BE,MATCH(BI_UGe_High!$A25,CurrentHeader,0),FALSE)),0,VLOOKUP($B$3,'Data Current Rates'!$A:$BE,MATCH(BI_UGe_High!$A25,CurrentHeader,0),FALSE))","v":-2.9999999999999997E-4},-4.5,{"$f":"IF($B$9=\"kWh\",$B$4,$B$5)","v":15000},{"$f":"VLOOKUP($B$3,'Data Proposed Rates'!$A:$BC,MATCH(BI_UGe_High!$A25,ProposedHeader,0),FALSE)","v":-2.9999999999999997E-4},-4.5,0,0,-1.8626289817484933E-3,-1.979438142896518E-3]
["Volumetric ESM Rider",15000,{"$f":"IF(ISERROR(VLOOKUP($B$3,'Data Current Rates'!$A:$BE,MATCH(BI_UGe_High!$A26,CurrentHeader,0),FALSE)),0,VLOOKUP($B$3,'Data Current Rates'!$A:$BE,MATCH(BI_UGe_High!$A26,CurrentHeader,0),FALSE))","v":-4.0000000000000002E-4},-6,15000,{"$f":"VLOOKUP($B$3,'Data Proposed Rates'!$A:$BC,MATCH(BI_UGe_High!$A26,ProposedHeader,0),FALSE)","v":-4.0000000000000002E-4},-6,0,0,-2.4835053089979913E-3,-2.6392508571953573E-3]
["Fair Hydro Plan - Distribution Rate Protection Savings*",null,null,{"$f":"IF(AND(B3<>\"R1\",B3<>\"R2\"),0,IF(VLOOKUP($A27,'Data Pass Through'!$A:$D,2,FALSE)=0,0,IF(SUM(D19:D20,D23:D24)<VLOOKUP($A27,'Data Pass Through'!$A:$D,2,FALSE),0,VLOOKUP($A27,'Data Pass Through'!$A:$D,2,FALSE)-SUM(D19:D20,D23:D24))))","v":0},null,null,{"$f":"IF(AND(B3<>\"R1\",B3<>\"R2\"),0,IF(VLOOKUP($A27,'Data Pass Through'!$A:$D,2,FALSE)=0,0,IF(SUM(G19:G20,G23:G24)<VLOOKUP($A27,'Data Pass Through'!$A:$D,2,FALSE),0,VLOOKUP($A27,'Data Pass Through'!$A:$D,2,FALSE)-SUM(G19:G20,G23:G24))))","v":0},0,"N/A",0,0]
["Sub-Total:  Distribution (excluding pass through)",null,null,{"$f":"SUM(INDIRECT(\"D19:D\"&ROW()-1))","v":473.59},null,null,{"$f":"SUM(INDIRECT(\"g19:g\"&ROW()-1))","v":489.4},{"$f":"G28-D28","v":15.810000000000002},3.3383306235351261E-2,0.20257124970393614,0.21527489491856797]
["Smart Metering Entity Charge",1,{"$f":"VLOOKUP($A29,'Data Pass Through'!$A:$D,2,FALSE)","v":0.56999999999999995},{"$f":"B29*C29","v":0.56999999999999995},1,{"$f":"VLOOKUP($A29,'Data Pass Through'!$A:$D,3,FALSE)","v":0.56999999999999995},{"$f":"E29*F29","v":0.56999999999999995},0,0,2.3593300435480915E-4,2.5072883143355891E-4]
["Line Losses on Cost of Power (based on two-tier RPP prices)",{"$f":"B8-B4","v":1005},{"$f":"IF(B4>B7,C13,C12)","v":0.11799999999999999},{"$f":"B30*C30","v":118.58999999999999},1005,{"$f":"IF(B4>B7,F13,F12)","v":0.11799999999999999},{"$f":"E30*F30","v":118.58999999999999},0,0,4.9086482432345292E-2,5.2164793192466238E-2]
["Line Losses on Cost of Power (based on TOU prices)",{"$f":"B8-B4","v":1005},{"$f":"VLOOKUP($B$3,'Data Billing Quantities'!$A:$O,MATCH(BI_UGe_High!$A15,'Data Billing Quantities'!$4:$4,0),FALSE)*C15+VLOOKUP($B$3,'Data Billing Quantities'!$A:$O,MATCH(BI_UGe_High!$A16,'Data Billing Quantities'!$4:$4,0),FALSE)*C16+VLOOKUP($B$3,'Data Billing Quantities'!$A:$O,MATCH(BI_UGe_High!$A17,'Data Billing Quantities'!$4:$4,0),FALSE)*C17","v":0.1075},{"$f":"B31*C31","v":108.03749999999999},1005,{"$f":"VLOOKUP($B$3,'Data Billing Quantities'!$A:$O,MATCH(BI_UGe_High!$A15,'Data Billing Quantities'!$4:$4,0),FALSE)*F15+VLOOKUP($B$3,'Data Billing Quantities'!$A:$O,MATCH(BI_UGe_High!$A16,'Data Billing Quantities'!$4:$4,0),FALSE)*F16+VLOOKUP($B$3,'Data Billing Quantities'!$A:$O,MATCH(BI_UGe_High!$A17,'Data Billing Quantities'!$4:$4,0),FALSE)*F17","v":0.1075},{"$f":"E31*F31","v":108.03749999999999},0,0,4.4718617470145078E-2,4.7523010747373903E-2]
["Sub-Total:  Distribution (based on two-tier RPP prices)",null,null,{"$f":"SUM(D28,D29:D30)","v":592.75},null,null,{"$f":"SUM(G28,G29:G30)","v":608.55999999999995},15.809999999999945,2.6672290172922726E-2,0.25189366514063621,0.26769041694246776]
["Sub-Total:  Distribution (based on TOU prices)",null,null,{"$f":"SUM(D28,D29,D31)","v":582.19749999999999},null,null,{"$f":"SUM(G28,G29,G31)","v":598.00749999999994},15.809999999999945,2.7155733234855775E-2,0.24752580017843601,0.26304863449737542]
["Retail Transmission Rate – Network Service Rate",{"$f":"B8","v":16005},{"$f":"VLOOKUP($B$3,'Data Current Rates'!$A:$BE,MATCH(BI_UGe_High!$A34,CurrentHeader,0),FALSE)","v":7.0000000000000001E-3},{"$f":"B34*C34","v":112.035},16005,{"$f":"VLOOKUP($B$3,'Data Proposed Rates'!$A:$BC,MATCH(BI_UGe_High!$A34,ProposedHeader,0),FALSE)","v":7.0000000000000001E-3},{"$f":"E34*F34","v":112.035},{"$f":"G34-D34","v":0},0,4.6373252882264987E-2,4.9281411630980314E-2]
["Retail Transmission Rate – Line and Transformation Connection Service Rate",{"$f":"B8","v":16005},{"$f":"VLOOKUP($B$3,'Data Current Rates'!$A:$BE,MATCH(BI_UGe_High!$A35,CurrentHeader,0),FALSE)","v":5.7000000000000002E-3},{"$f":"B35*C35","v":91.228499999999997},16005,{"$f":"VLOOKUP($B$3,'Data Proposed Rates'!$A:$BC,MATCH(BI_UGe_High!$A35,ProposedHeader,0),FALSE)","v":5.7000000000000002E-3},{"$f":"E35*F35","v":91.228499999999997},{"$f":"G35-D35","v":0},0,3.7761077346987207E-2,4.0129149470941108E-2]
["Sub-Total:  Retail Transmission ",null,null,{"$f":"SUM(D34:D35)","v":203.26349999999999},null,null,{"$f":"SUM(G34:G35)","v":203.26349999999999},{"$f":"G36-D36","v":0},0,8.4134330229252194E-2,8.9410561101921415E-2]
["Sub-Total:  Delivery (based on two-tier RPP prices)",null,null,{"$f":"D32+D36","v":796.01350000000002},null,null,{"$f":"G32+G36","v":811.82349999999997},{"$f":"G37-D37","v":15.809999999999945},1.9861472198649827E-2,0.33602799536988842,0.35710097804438917]
["Sub-Total:  Delivery (based on TOU prices)",null,null,{"$f":"D33+D36","v":785.46100000000001},null,null,{"$f":"G33+G36","v":801.27099999999996},{"$f":"G38-D38","v":15.809999999999945},2.0128306815997161E-2,0.33166013040768821,0.35245919559929684]
["Wholesale Market Service Rate (WMS) - not including CBR",{"$f":"B8","v":16005},{"$f":"VLOOKUP($A39,'Data Pass Through'!$A:$D,2,FALSE)","v":3.0000000000000001E-3},{"$f":"B39*C39","v":48.015000000000001},{"$f":"$B$8","v":16005},{"$f":"VLOOKUP($A39,'Data Pass Through'!$A:$D,3,FALSE)","v":3.0000000000000001E-3},{"$f":"E39*F39","v":48.015000000000001},0,0,1.9874251235256424E-2,2.1120604984705849E-2]
["Capacity Based Recovery (CBR) - Applicable for Class B Customers",{"$f":"B8","v":16005},{"$f":"VLOOKUP($A40,'Data Pass Through'!$A:$D,2,FALSE)","v":4.0000000000000002E-4},{"$f":"B40*C40","v":6.4020000000000001},{"$f":"$B$8","v":16005},{"$f":"VLOOKUP($A40,'Data Pass Through'!$A:$D,3,FALSE)","v":4.0000000000000002E-4},{"$f":"E40*F40","v":6.4020000000000001},0,0,2.6499001647008569E-3,2.8160806646274463E-3]
["Rural Rate Protection Charge",{"$f":"B8","v":16005},{"$f":"VLOOKUP($A41,'Data Pass Through'!$A:$D,2,FALSE)","v":5.0000000000000001E-4},8.0024999999999995,16005,{"$f":"VLOOKUP($A41,'Data Pass Through'!$A:$D,3,FALSE)","v":5.0000000000000001E-4},8.0024999999999995,0,0,3.3123752058760707E-3,3.5201008307843076E-3]
["Standard Supply Service – Administration Charge (if applicable)",1,{"$f":"VLOOKUP($A42,'Data Pass Through'!$A:$D,2,FALSE)","v":0.25},{"$f":"B42*C42","v":0.25},1,{"$f":"VLOOKUP($A42,'Data Pass Through'!$A:$D,3,FALSE)","v":0.25},0.25,0,0,1.034793878749163E-4,1.0996878571647322E-4]
["Sub-Total:  Regulatory",null,null,{"$f":"SUM(D39:D42)","v":62.669499999999999},null,null,{"$f":"SUM(G39:G42)","v":62.669499999999999},0,0,2.5940005993708267E-2,2.7566755265834075E-2]
["Debt Retirement Charge (DRC)",{"$f":"B4","v":15000},{"$f":"VLOOKUP($A44,'Data Pass Through'!$A:$D,2,FALSE)","v":0},{"$f":"B44*C44","v":0},15000,{"$f":"VLOOKUP($A44,'Data Pass Through'!$A:$D,3,FALSE)","v":0},{"$f":"E44*F44","v":0},0,"N/A",0,0]
["Total  Electricty Charge on Two-Tier RPP ",null,null,{"$f":"SUM(D14,D28,D29,D30,D36,D43,D44)","v":2615.9330000000004},null,null,{"$f":"SUM(G14,G28,G29,G30,G36,G43,G44)","v":2631.7430000000004},15.809999999999945,6.0437327714432838E-3,1.0893246187363836]
["     HST",null,0.13,{"$f":"D45*C46","v":340.07129000000009},null,{"$f":"C46","v":0.13},{"$f":"G45*F46","v":342.12659000000008},2.0552999999999884,6.0437327714432691E-3,0.14161220043572986]
["Total Electricity Charge on Two-Tier RPP (including HST)",null,null,{"$f":"SUM(D45:D46)","v":2956.0042900000008},null,null,{"$f":"SUM(G45:G46)","v":2973.8695900000002},17.865299999999479,6.0437327714431277E-3,1.2309368191721133]
["Ontario Electricity Rebate (OER)",null,{"$f":"'Data Pass Through'!B20","v":-0.21199999999999999},{"$f":"D45*C48","v":-554.57779600000003},null,{"$f":"'Data Pass Through'!C20","v":-0.21199999999999999},{"$f":"G45*F48","v":-557.92951600000004},-3.3517200000000003,-6.0437327714433055E-3,-0.23093681917211328]
["Total Amount on Two-Tier RPP",null,null,{"$f":"SUM(D47:D48)","v":2401.4264940000007},null,null,{"$f":"SUM(G47:G48)","v":2415.9400740000001},14.513579999999365,6.0437327714430392E-3,1]
["Total Electricty Charge on TOU (before HST)",null,null,{"$f":"SUM(D18,D28,D29,D31,D36,D43,D44)","v":2460.6305000000002},null,null,{"$f":"SUM(G18,G28,G29,G31,G36,G43,G44)","v":2476.4405000000002},15.809999999999945,6.4251824887970556E-3,null,{"$f":"G50/$G$54","v":1.0893246187363834}]
["     HST",null,0.13,{"$f":"D50*C51","v":319.88196500000004},null,{"$f":"C51","v":0.13},{"$f":"G50*F51","v":321.93726500000002},2.0552999999999884,6.4251824887970417E-3,null,{"$f":"G51/$G$54","v":0.14161220043572983}]
["Total Electricity Charge on TOU (including HST)",null,null,{"$f":"SUM(D50:D51)","v":2780.5124650000002},null,null,{"$f":"SUM(G50:G51)","v":2798.3777650000002},17.865299999999934,6.4251824887970547E-3,null,{"$f":"G52/$G$54","v":1.2309368191721131}]
["Ontario Electricity Rebate (OER)",null,{"$f":"'Data Pass Through'!B20","v":-0.21199999999999999},{"$f":"D50*C53","v":-521.65366600000004},null,{"$f":"'Data Pass Through'!C20","v":-0.21199999999999999},{"$f":"G50*F53","v":-525.00538600000004},-3.3517200000000003,-6.425182488797079E-3,null,{"$f":"G53/$G$54","v":-0.23093681917211328}]
["Total Amount on TOU",null,null,{"$f":"SUM(D52:D53)","v":2258.8587990000001},null,null,{"$f":"SUM(G52:G53)","v":2273.3723790000004},14.513580000000275,6.4251824887971995E-3,null,{"$f":"G54/$G$54","v":1}]
["* Distribution rate protection applies to R1 and R2 customers"]

{"sheet":"BI_GSd_Low","index":42,"n_rows":37,"n_cols":10,"rows_kept":37,"cut":false,"hidden":false,"merged":[[0,0,0,9]]}
["2021 Bill Impacts (Low Consumption Level) - GSd"]
[]
["Rate Class",{"$f":"RIGHT(A1,LEN(A1)-FIND(\"- \",A1,1)-1)","v":"GSd"}]
["Monthly Consumption (kWh)",{"$f":"IF(COUNTIF(A1,\"*Low*\")>0,VLOOKUP(B3,'Data Billing Quantities'!$A:$Z,MATCH(\"Low kWh\",'Data Billing Quantities'!4:4,0),FALSE),IF(COUNTIF(A1,\"*Typical*\")>0,VLOOKUP(B3,'Data Billing Quantities'!$A:$Z,MATCH(\"Typical kWh\",'Data Billing Quantities'!4:4,0),FALSE),IF(COUNTIF(A1,\"*Average*\")>0,VLOOKUP(B3,'Data Billing Quantities'!$A:$Z,MATCH(\"Average kWh\",'Data Billing Quantities'!4:4,0),FALSE),IF(COUNTIF(A1,\"*High*\")>0,VLOOKUP(B3,'Data Billing Quantities'!$A:$Z,MATCH(\"High kWh\",'Data Billing Quantities'!4:4,0),FALSE),\"error\"))))","v":15000}]
["Peak (kW)",{"$f":"IF(COUNTIF(A1,\"*Low*\")>0,VLOOKUP(B3,'Data Billing Quantities'!$A:$Z,MATCH(\"Low kW\",'Data Billing Quantities'!4:4,0),FALSE),IF(COUNTIF(A1,\"*Typical*\")>0,VLOOKUP(B3,'Data Billing Quantities'!$A:$Z,MATCH(\"Typical kW\",'Data Billing Quantities'!4:4,0),FALSE),IF(COUNTIF(A1,\"*Average*\")>0,VLOOKUP(B3,'Data Billing Quantities'!$A:$Z,MATCH(\"Average kW\",'Data Billing Quantities'!4:4,0),FALSE),IF(COUNTIF(A1,\"*High*\")>0,VLOOKUP(B3,'Data Billing Quantities'!$A:$Z,MATCH(\"High kW\",'Data Billing Quantities'!4:4,0),FALSE),\"error\"))))","v":60}]
["Loss factor",{"$f":"VLOOKUP(B3,'Data Billing Quantities'!A:D,MATCH(A6,'Data Billing Quantities'!4:4,0),FALSE)","v":1.0609999999999999}]
["Load factor",{"$f":"B4/(B5*730)","v":0.34246575342465752}]
["Monthly Consumption (kWh) - Uplifted",{"$f":"B4*B6","v":15915}]
["Charge determinant",{"$f":"VLOOKUP(B3,'Data Billing Quantities'!A:D,MATCH(A9,'Data Billing Quantities'!4:4,0),FALSE)","v":"kW"}]
[]
[null,"Volume","Current Rate ($)","Current Charge ($)","Volume","Proposed Rate ($)","Proposed Charge ($)","Change ($)","Change (%)","% of Total Bill "]
["Energy (Non-RPP)*",{"$f":"B8","v":15915},{"$f":"VLOOKUP($A12,'Data Pass Through'!A:E,2,FALSE)","v":0.1075},{"$f":"B12*C12","v":1710.8625},{"$f":"B8","v":15915},{"$f":"VLOOKUP($A12,'Data Pass Through'!A:E,3,FALSE)","v":0.1075},{"$f":"E12*F12","v":1710.8625},{"$f":"G12-D12","v":0},{"$f":"IF(ISERROR(H12/ABS(D12)),\"N/A\",(H12/ABS(D12)))","v":0},{"$f":"G12/$G$37","v":0.47671952400374917}]
["Service Charge",1,{"$f":"VLOOKUP($B$3,'Data Current Rates'!$A:$BE,MATCH($A13,CurrentHeader,0),FALSE)","v":108.28},{"$f":"B13*C13","v":108.28},{"$f":"B13","v":1},{"$f":"VLOOKUP($B$3,'Data Proposed Rates'!$A:$BC,MATCH($A13,ProposedHeader,0),FALSE)","v":108.28},{"$f":"E13*F13","v":108.28},0,0,3.0171442801000061E-2]
["Base Rate Adjustment to Recover Past Tax Amounts FIXED",null,null,null,1,{"$f":"VLOOKUP($B$3,'Data Proposed Rates'!$A:$BC,MATCH($A14,ProposedHeader,0),FALSE)","v":4.34},{"$f":"E14*F14","v":4.34},4.34,"N/A",1.2093097687138922E-3]
["Fixed Deferral/Variance Account Rider (General)",1,{"$f":"VLOOKUP($B$3,'Data Current Rates'!$A:$BE,MATCH($A15,CurrentHeader,0),FALSE)","v":0},{"$f":"B15*C15","v":0},1,{"$f":"VLOOKUP($B$3,'Data Proposed Rates'!$A:$BC,MATCH($A15,ProposedHeader,0),FALSE)","v":0},{"$f":"E15*F15","v":0},0,"N/A",0]
["Fixed ESM Rider",1,{"$f":"VLOOKUP($B$3,'Data Current Rates'!$A:$BE,MATCH($A16,CurrentHeader,0),FALSE)","v":-1.52},-1.52,1,{"$f":"VLOOKUP($B$3,'Data Proposed Rates'!$A:$BC,MATCH($A16,ProposedHeader,0),FALSE)","v":-1.52},-1.52,0,0,-4.2353706185371343E-4]
["Distribution Volumetric Charge",{"$f":"IF($B$9=\"kWh\",$B$4,$B$5)","v":60},{"$f":"VLOOKUP($B$3,'Data Current Rates'!$A:$BE,MATCH($A17,CurrentHeader,0),FALSE)","v":18.329599999999999},1099.7759999999998,{"$f":"$B$5","v":60},{"$f":"VLOOKUP($B$3,'Data Proposed Rates'!$A:$BC,MATCH($A17,ProposedHeader,0),FALSE)","v":18.329599999999999},1099.7759999999998,0,{"$f":"IF(ISERROR(H17/ABS(D17)),\"N/A\",(H17/ABS(D17)))","v":0},0.30644466824817729]
["Base Rate Adjustment to Recover Past Tax Amounts VOL",null,null,null,{"$f":"$B$5","v":60},{"$f":"VLOOKUP($B$3,'Data Proposed Rates'!$A:$BC,MATCH($A18,ProposedHeader,0),FALSE)","v":0.73380000000000001},44.027999999999999,44.027999999999999,{"$f":"IF(ISERROR(H18/ABS(D18)),\"N/A\",(H18/ABS(D18)))","v":"N/A"},1.226808536795743E-2]
["Volumetric Deferral/Variance Account Rider (General)",{"$f":"IF($B$9=\"kWh\",$B$4,$B$5)","v":60},{"$f":"VLOOKUP($B$3,'Data Current Rates'!$A:$BE,MATCH($A19,CurrentHeader,0),FALSE)","v":1.17E-2},0.70200000000000007,{"$f":"$B$5","v":60},{"$f":"VLOOKUP($B$3,'Data Proposed Rates'!$A:$BC,MATCH($A19,ProposedHeader,0),FALSE)","v":1.17E-2},0.70200000000000007,0,{"$f":"IF(ISERROR(H19/ABS(D19)),\"N/A\",(H19/ABS(D19)))","v":0},1.9560724830349136E-4]
["Volumetric Deferral/Variance Account Rider (Sub-Account Global Adjustment)",{"$f":"B8","v":15915},{"$f":"VLOOKUP($B$3,'Data Current Rates'!$A:$BE,MATCH($A20,CurrentHeader,0),FALSE)","v":-3.8999999999999998E-3},-62.0685,{"$f":"B8","v":15915},{"$f":"VLOOKUP($B$3,'Data Proposed Rates'!$A:$BC,MATCH($A20,ProposedHeader,0),FALSE)","v":-3.8999999999999998E-3},-62.0685,0,0,-1.7294940870833692E-2]
["Volumetric ESM Rider",{"$f":"IF($B$9=\"kWh\",$B$4,$B$5)","v":60},{"$f":"VLOOKUP($B$3,'Data Current Rates'!$A:$BE,MATCH($A21,CurrentHeader,0),FALSE)","v":-0.2555},-15.33,{"$f":"B5","v":60},{"$f":"VLOOKUP($B$3,'Data Proposed Rates'!$A:$BC,MATCH($A21,ProposedHeader,0),FALSE)","v":-0.2555},-15.33,0,0,-4.2715941830377812E-3]
["Sub-Total:  Distribution",null,null,{"$f":"SUM(INDIRECT(\"D13:D\"&ROW()-1))","v":1129.8394999999998},null,null,{"$f":"SUM(INDIRECT(\"g13:g\"&ROW()-1))","v":1178.2074999999998},48.367999999999938,4.2809620304476825E-2,0.32829904131842697]
["Retail Transmission Rate – Network Service Rate",{"$f":"B5","v":60},{"$f":"VLOOKUP($B$3,'Data Current Rates'!$A:$BE,MATCH($A23,CurrentHeader,0),FALSE)","v":2.0421},{"$f":"B23*C23","v":122.526},60,{"$f":"VLOOKUP($B$3,'Data Proposed Rates'!$A:$BC,MATCH($A23,ProposedHeader,0),FALSE)","v":2.0421},{"$f":"E23*F23","v":122.526},0,0,3.4140988184663219E-2]
["Retail Transmission Rate – Line and Transformation Connection Service Rate",{"$f":"B5","v":60},{"$f":"VLOOKUP($B$3,'Data Current Rates'!$A:$BE,MATCH($A24,CurrentHeader,0),FALSE)","v":1.7005999999999999},{"$f":"B24*C24","v":102.03599999999999},60,{"$f":"VLOOKUP($B$3,'Data Proposed Rates'!$A:$BC,MATCH($A24,ProposedHeader,0),FALSE)","v":1.7005999999999999},{"$f":"E24*F24","v":102.03599999999999},0,0,2.8431597133753619E-2]
["Sub-Total:  Retail Transmission ",null,null,{"$f":"SUM(D23:D24)","v":224.56199999999998},null,null,{"$f":"SUM(G23:G24)","v":224.56199999999998},0,0,6.2572585318416835E-2]
["Sub-Total:  Delivery ",null,null,{"$f":"D22+D25","v":1354.4014999999997},null,null,{"$f":"G22+G25","v":1402.7694999999997},48.367999999999938,3.5711714731562205E-2,0.39087162663684377]
["Wholesale Market Service Rate (WMS) - not including CBR",{"$f":"$B$8","v":15915},{"$f":"VLOOKUP($A27,'Data Pass Through'!$A:$D,2,FALSE)","v":3.0000000000000001E-3},{"$f":"B27*C27","v":47.745000000000005},{"$f":"$B$8","v":15915},{"$f":"VLOOKUP($A27,'Data Pass Through'!$A:$D,3,FALSE)","v":3.0000000000000001E-3},{"$f":"E27*F27","v":47.745000000000005},0,0,1.3303800669872072E-2]
["Capacity Based Recovery (CBR) - Applicable for Class B Customers",{"$f":"$B$8","v":15915},{"$f":"VLOOKUP($A28,'Data Pass Through'!$A:$D,2,FALSE)","v":4.0000000000000002E-4},{"$f":"B28*C28","v":6.3660000000000005},{"$f":"$B$8","v":15915},{"$f":"VLOOKUP($A28,'Data Pass Through'!$A:$D,3,FALSE)","v":4.0000000000000002E-4},{"$f":"E28*F28","v":6.3660000000000005},{"$f":"G28-D28","v":0},0,1.7738400893162762E-3]
["Rural Rate Protection Charge",{"$f":"$B$8","v":15915},{"$f":"VLOOKUP($A29,'Data Pass Through'!$A:$D,2,FALSE)","v":5.0000000000000001E-4},{"$f":"B29*C29","v":7.9575000000000005},{"$f":"$B$8","v":15915},{"$f":"VLOOKUP($A29,'Data Pass Through'!$A:$D,3,FALSE)","v":5.0000000000000001E-4},{"$f":"E29*F29","v":7.9575000000000005},{"$f":"G29-D29","v":0},0,2.2173001116453455E-3]
["Standard Supply Service – Administration Charge (if applicable)",1,{"$f":"VLOOKUP($A30,'Data Pass Through'!$A:$D,2,FALSE)","v":0.25},{"$f":"B30*C30","v":0.25},1,{"$f":"VLOOKUP($A30,'Data Pass Through'!$A:$D,3,FALSE)","v":0.25},{"$f":"E30*F30","v":0.25},0,0,6.9660700962781818E-5]
["Sub-Total:  Regulatory",null,null,{"$f":"SUM(D27:D30)","v":62.318500000000007},null,null,{"$f":"SUM(G27:G30)","v":62.318500000000007},0,0,1.7364601571796475E-2]
["Debt Retirement Charge (DRC)",{"$f":"B4","v":15000},{"$f":"VLOOKUP($A32,'Data Pass Through'!$A:$D,2,FALSE)","v":0},{"$f":"B32*C32","v":0},{"$f":"B4","v":15000},{"$f":"VLOOKUP($A32,'Data Pass Through'!$A:$D,3,FALSE)","v":0},{"$f":"E32*F32","v":0},0,"N/A",0]
["Total Electricity Charge (before HST)",null,null,{"$f":"SUM(D12,D22,D25,D31,D32)","v":3127.5824999999995},null,null,{"$f":"SUM(G12,G22,G25,G31,G32)","v":3175.9504999999995},48.367999999999938,1.5464979740742233E-2,0.88495575221238942]
["     HST",null,0.13,{"$f":"D33*C34","v":406.58572499999997},null,{"$f":"C34","v":0.13},{"$f":"G33*F34","v":412.87356499999993},6.2878399999999601,1.5464979740742154E-2,0.11504424778761062]
["Total Electricity Charge (including HST)",null,null,{"$f":"SUM(D33:D34)","v":3534.1682249999994},null,null,{"$f":"SUM(G33:G34)","v":3588.8240649999993},54.655839999999898,1.5464979740742225E-2,1]
["Ontario Electricity Rebate (OER)",null,0,{"$f":"D33*C36","v":0},null,{"$f":"C36","v":0},{"$f":"G33*F36","v":0},0,"N/A",0]
["Total Amount",null,null,{"$f":"SUM(D35:D36)","v":3534.1682249999994},null,null,{"$f":"SUM(G35:G36)","v":3588.8240649999993},54.655839999999898,1.5464979740742225E-2,1]

{"sheet":"BI_GSd_Avg","index":43,"n_rows":37,"n_cols":10,"rows_kept":37,"cut":false,"hidden":false,"merged":[[0,0,0,9]]}
["2021 Bill Impacts (Average Consumption Level) - GSd"]
[]
["Rate Class",{"$f":"RIGHT(A1,LEN(A1)-FIND(\"- \",A1,1)-1)","v":"GSd"}]
["Monthly Consumption (kWh)",{"$f":"IF(COUNTIF(A1,\"*Low*\")>0,VLOOKUP(B3,'Data Billing Quantities'!$A:$Z,MATCH(\"Low kWh\",'Data Billing Quantities'!4:4,0),FALSE),IF(COUNTIF(A1,\"*Typical*\")>0,VLOOKUP(B3,'Data Billing Quantities'!$A:$Z,MATCH(\"Typical kWh\",'Data Billing Quantities'!4:4,0),FALSE),IF(COUNTIF(A1,\"*Average*\")>0,VLOOKUP(B3,'Data Billing Quantities'!$A:$Z,MATCH(\"Average kWh\",'Data Billing Quantities'!4:4,0),FALSE),IF(COUNTIF(A1,\"*High*\")>0,VLOOKUP(B3,'Data Billing Quantities'!$A:$Z,MATCH(\"High kWh\",'Data Billing Quantities'!4:4,0),FALSE),\"error\"))))","v":36104}]
["Peak (kW)",{"$f":"IF(COUNTIF(A1,\"*Low*\")>0,VLOOKUP(B3,'Data Billing Quantities'!$A:$Z,MATCH(\"Low kW\",'Data Billing Quantities'!4:4,0),FALSE),IF(COUNTIF(A1,\"*Typical*\")>0,VLOOKUP(B3,'Data Billing Quantities'!$A:$Z,MATCH(\"Typical kW\",'Data Billing Quantities'!4:4,0),FALSE),IF(COUNTIF(A1,\"*Average*\")>0,VLOOKUP(B3,'Data Billing Quantities'!$A:$Z,MATCH(\"Average kW\",'Data Billing Quantities'!4:4,0),FALSE),IF(COUNTIF(A1,\"*High*\")>0,VLOOKUP(B3,'Data Billing Quantities'!$A:$Z,MATCH(\"High kW\",'Data Billing Quantities'!4:4,0),FALSE),\"error\"))))","v":124}]
["Loss factor",{"$f":"VLOOKUP(B3,'Data Billing Quantities'!A:D,MATCH(A6,'Data Billing Quantities'!4:4,0),FALSE)","v":1.0609999999999999}]
["Load factor",{"$f":"B4/(B5*730)","v":0.39885108263367214}]
["Monthly Consumption (kWh) - Uplifted",{"$f":"B4*B6","v":38306.343999999997}]
["Charge determinant",{"$f":"VLOOKUP(B3,'Data Billing Quantities'!A:D,MATCH(A9,'Data Billing Quantities'!4:4,0),FALSE)","v":"kW"}]
[]
[null,"Volume","Current Rate ($)","Current Charge ($)","Volume","Proposed Rate ($)","Proposed Charge ($)","Change ($)","Change (%)","% of Total Bill "]
["Energy (Non-RPP)*",{"$f":"B8","v":38306.343999999997},{"$f":"VLOOKUP($A12,'Data Pass Through'!A:E,2,FALSE)","v":0.1075},{"$f":"B12*C12","v":4117.9319799999994},{"$f":"B8","v":38306.343999999997},{"$f":"VLOOKUP($A12,'Data Pass Through'!A:E,3,FALSE)","v":0.1075},{"$f":"E12*F12","v":4117.9319799999994},{"$f":"G12-D12","v":0},{"$f":"IF(ISERROR(H12/ABS(D12)),\"N/A\",(H12/ABS(D12)))","v":0},{"$f":"G12/$G$37","v":0.51859739140331351}]
["Service Charge",1,{"$f":"VLOOKUP($B$3,'Data Current Rates'!$A:$BE,MATCH($A13,CurrentHeader,0),FALSE)","v":108.28},{"$f":"B13*C13","v":108.28},{"$f":"B13","v":1},{"$f":"VLOOKUP($B$3,'Data Proposed Rates'!$A:$BC,MATCH($A13,ProposedHeader,0),FALSE)","v":108.28},{"$f":"E13*F13","v":108.28},0,0,1.3636389773769598E-2]
["Base Rate Adjustment to Recover Past Tax Amounts FIXED",null,null,null,1,{"$f":"VLOOKUP($B$3,'Data Proposed Rates'!$A:$BC,MATCH($A14,ProposedHeader,0),FALSE)","v":4.34},{"$f":"E14*F14","v":4.34},4.34,"N/A",5.4656383097672744E-4]
["Fixed Deferral/Variance Account Rider (General)",1,{"$f":"VLOOKUP($B$3,'Data Current Rates'!$A:$BE,MATCH($A15,CurrentHeader,0),FALSE)","v":0},{"$f":"B15*C15","v":0},1,{"$f":"VLOOKUP($B$3,'Data Proposed Rates'!$A:$BC,MATCH($A15,ProposedHeader,0),FALSE)","v":0},{"$f":"E15*F15","v":0},0,"N/A",0]
["Fixed ESM Rider",1,{"$f":"VLOOKUP($B$3,'Data Current Rates'!$A:$BE,MATCH($A16,CurrentHeader,0),FALSE)","v":-1.52},-1.52,1,{"$f":"VLOOKUP($B$3,'Data Proposed Rates'!$A:$BC,MATCH($A16,ProposedHeader,0),FALSE)","v":-1.52},-1.52,0,0,-1.9142327720843912E-4]
["Distribution Volumetric Charge",{"$f":"IF($B$9=\"kWh\",$B$4,$B$5)","v":124},{"$f":"VLOOKUP($B$3,'Data Current Rates'!$A:$BE,MATCH($A17,CurrentHeader,0),FALSE)","v":18.329599999999999},2272.8703999999998,{"$f":"$B$5","v":124},{"$f":"VLOOKUP($B$3,'Data Proposed Rates'!$A:$BC,MATCH($A17,ProposedHeader,0),FALSE)","v":18.329599999999999},2272.8703999999998,0,{"$f":"IF(ISERROR(H17/ABS(D17)),\"N/A\",(H17/ABS(D17)))","v":0},0.28623703989345783]
["Base Rate Adjustment to Recover Past Tax Amounts VOL",null,null,null,{"$f":"$B$5","v":124},{"$f":"VLOOKUP($B$3,'Data Proposed Rates'!$A:$BC,MATCH($A18,ProposedHeader,0),FALSE)","v":0.73380000000000001},90.991200000000006,90.991200000000006,{"$f":"IF(ISERROR(H18/ABS(D18)),\"N/A\",(H18/ABS(D18)))","v":"N/A"},1.1459101119163505E-2]
["Volumetric Deferral/Variance Account Rider (General)",{"$f":"IF($B$9=\"kWh\",$B$4,$B$5)","v":124},{"$f":"VLOOKUP($B$3,'Data Current Rates'!$A:$BE,MATCH($A19,CurrentHeader,0),FALSE)","v":1.17E-2},1.4508000000000001,{"$f":"$B$5","v":124},{"$f":"VLOOKUP($B$3,'Data Proposed Rates'!$A:$BC,MATCH($A19,ProposedHeader,0),FALSE)","v":1.17E-2},1.4508000000000001,0,{"$f":"IF(ISERROR(H19/ABS(D19)),\"N/A\",(H19/ABS(D19)))","v":0},1.8270848064079177E-4]
["Volumetric Deferral/Variance Account Rider (Sub-Account Global Adjustment)",{"$f":"B8","v":38306.343999999997},{"$f":"VLOOKUP($B$3,'Data Current Rates'!$A:$BE,MATCH($A20,CurrentHeader,0),FALSE)","v":-3.8999999999999998E-3},-149.39474159999997,{"$f":"B8","v":38306.343999999997},{"$f":"VLOOKUP($B$3,'Data Proposed Rates'!$A:$BC,MATCH($A20,ProposedHeader,0),FALSE)","v":-3.8999999999999998E-3},-149.39474159999997,0,0,-1.8814230943934165E-2]
["Volumetric ESM Rider",{"$f":"IF($B$9=\"kWh\",$B$4,$B$5)","v":124},{"$f":"VLOOKUP($B$3,'Data Current Rates'!$A:$BE,MATCH($A21,CurrentHeader,0),FALSE)","v":-0.2555},-31.682000000000002,{"$f":"B5","v":124},{"$f":"VLOOKUP($B$3,'Data Proposed Rates'!$A:$BC,MATCH($A21,ProposedHeader,0),FALSE)","v":-0.2555},-31.682000000000002,0,0,-3.9899159661301109E-3]
["Sub-Total:  Distribution",null,null,{"$f":"SUM(INDIRECT(\"D13:D\"&ROW()-1))","v":2200.0044584000002},null,null,{"$f":"SUM(INDIRECT(\"g13:g\"&ROW()-1))","v":2295.3356583999998},95.331199999999626,4.3332275821536863E-2,0.28906623291073574]
["Retail Transmission Rate – Network Service Rate",{"$f":"B5","v":124},{"$f":"VLOOKUP($B$3,'Data Current Rates'!$A:$BE,MATCH($A23,CurrentHeader,0),FALSE)","v":2.0421},{"$f":"B23*C23","v":253.22040000000001},124,{"$f":"VLOOKUP($B$3,'Data Proposed Rates'!$A:$BC,MATCH($A23,ProposedHeader,0),FALSE)","v":2.0421},{"$f":"E23*F23","v":253.22040000000001},0,0,3.1889657121073577E-2]
["Retail Transmission Rate – Line and Transformation Connection Service Rate",{"$f":"B5","v":124},{"$f":"VLOOKUP($B$3,'Data Current Rates'!$A:$BE,MATCH($A24,CurrentHeader,0),FALSE)","v":1.7005999999999999},{"$f":"B24*C24","v":210.87439999999998},124,{"$f":"VLOOKUP($B$3,'Data Proposed Rates'!$A:$BC,MATCH($A24,ProposedHeader,0),FALSE)","v":1.7005999999999999},{"$f":"E24*F24","v":210.87439999999998},0,0,2.6556755741686363E-2]
["Sub-Total:  Retail Transmission ",null,null,{"$f":"SUM(D23:D24)","v":464.09479999999996},null,null,{"$f":"SUM(G23:G24)","v":464.09479999999996},0,0,5.8446412862759936E-2]
["Sub-Total:  Delivery ",null,null,{"$f":"D22+D25","v":2664.0992584000001},null,null,{"$f":"G22+G25","v":2759.4304583999997},95.331199999999626,3.578365171621025E-2,0.34751264577349567]
["Wholesale Market Service Rate (WMS) - not including CBR",{"$f":"$B$8","v":38306.343999999997},{"$f":"VLOOKUP($A27,'Data Pass Through'!$A:$D,2,FALSE)","v":3.0000000000000001E-3},{"$f":"B27*C27","v":114.919032},{"$f":"$B$8","v":38306.343999999997},{"$f":"VLOOKUP($A27,'Data Pass Through'!$A:$D,3,FALSE)","v":3.0000000000000001E-3},{"$f":"E27*F27","v":114.919032},0,0,1.4472485341487821E-2]
["Capacity Based Recovery (CBR) - Applicable for Class B Customers",{"$f":"$B$8","v":38306.343999999997},{"$f":"VLOOKUP($A28,'Data Pass Through'!$A:$D,2,FALSE)","v":4.0000000000000002E-4},{"$f":"B28*C28","v":15.3225376},{"$f":"$B$8","v":38306.343999999997},{"$f":"VLOOKUP($A28,'Data Pass Through'!$A:$D,3,FALSE)","v":4.0000000000000002E-4},{"$f":"E28*F28","v":15.3225376},{"$f":"G28-D28","v":0},0,1.929664712198376E-3]
["Rural Rate Protection Charge",{"$f":"$B$8","v":38306.343999999997},{"$f":"VLOOKUP($A29,'Data Pass Through'!$A:$D,2,FALSE)","v":5.0000000000000001E-4},{"$f":"B29*C29","v":19.153171999999998},{"$f":"$B$8","v":38306.343999999997},{"$f":"VLOOKUP($A29,'Data Pass Through'!$A:$D,3,FALSE)","v":5.0000000000000001E-4},{"$f":"E29*F29","v":19.153171999999998},{"$f":"G29-D29","v":0},0,2.4120808902479696E-3]
["Standard Supply Service – Administration Charge (if applicable)",1,{"$f":"VLOOKUP($A30,'Data Pass Through'!$A:$D,2,FALSE)","v":0.25},{"$f":"B30*C30","v":0.25},1,{"$f":"VLOOKUP($A30,'Data Pass Through'!$A:$D,3,FALSE)","v":0.25},{"$f":"E30*F30","v":0.25},0,0,3.1484091646124858E-5]
["Sub-Total:  Regulatory",null,null,{"$f":"SUM(D27:D30)","v":149.64474159999997},null,null,{"$f":"SUM(G27:G30)","v":149.64474159999997},0,0,1.8845715035580288E-2]
["Debt Retirement Charge (DRC)",{"$f":"B4","v":36104},{"$f":"VLOOKUP($A32,'Data Pass Through'!$A:$D,2,FALSE)","v":0},{"$f":"B32*C32","v":0},{"$f":"B4","v":36104},{"$f":"VLOOKUP($A32,'Data Pass Through'!$A:$D,3,FALSE)","v":0},{"$f":"E32*F32","v":0},0,"N/A",0]
["Total Electricity Charge (before HST)",null,null,{"$f":"SUM(D12,D22,D25,D31,D32)","v":6931.67598},null,null,{"$f":"SUM(G12,G22,G25,G31,G32)","v":7027.0071799999987},95.331199999998717,1.3752979838506346E-2,0.88495575221238942]
["     HST",null,0.13,{"$f":"D33*C34","v":901.1178774},null,{"$f":"C34","v":0.13},{"$f":"G33*F34","v":913.51093339999989},12.393055999999888,1.3752979838506407E-2,0.11504424778761063]
["Total Electricity Charge (including HST)",null,null,{"$f":"SUM(D33:D34)","v":7832.7938574},null,null,{"$f":"SUM(G33:G34)","v":7940.5181133999986},107.7242559999986,1.3752979838506353E-2,1]
["Ontario Electricity Rebate (OER)",null,0,{"$f":"D33*C36","v":0},null,{"$f":"C36","v":0},{"$f":"G33*F36","v":0},0,"N/A",0]
["Total Amount",null,null,{"$f":"SUM(D35:D36)","v":7832.7938574},null,null,{"$f":"SUM(G35:G36)","v":7940.5181133999986},107.7242559999986,1.3752979838506353E-2,1]

{"sheet":"BI_GSd_High","index":44,"n_rows":37,"n_cols":10,"rows_kept":37,"cut":false,"hidden":false,"merged":[[0,0,0,9]]}
["2021 Bill Impacts (High Consumption Level) - GSd"]
[]
["Rate Class",{"$f":"RIGHT(A1,LEN(A1)-FIND(\"- \",A1,1)-1)","v":"GSd"}]
["Monthly Consumption (kWh)",{"$f":"IF(COUNTIF(A1,\"*Low*\")>0,VLOOKUP(B3,'Data Billing Quantities'!$A:$Z,MATCH(\"Low kWh\",'Data Billing Quantities'!4:4,0),FALSE),IF(COUNTIF(A1,\"*Typical*\")>0,VLOOKUP(B3,'Data Billing Quantities'!$A:$Z,MATCH(\"Typical kWh\",'Data Billing Quantities'!4:4,0),FALSE),IF(COUNTIF(A1,\"*Average*\")>0,VLOOKUP(B3,'Data Billing Quantities'!$A:$Z,MATCH(\"Average kWh\",'Data Billing Quantities'!4:4,0),FALSE),IF(COUNTIF(A1,\"*High*\")>0,VLOOKUP(B3,'Data Billing Quantities'!$A:$Z,MATCH(\"High kWh\",'Data Billing Quantities'!4:4,0),FALSE),\"error\"))))","v":175000}]
["Peak (kW)",{"$f":"IF(COUNTIF(A1,\"*Low*\")>0,VLOOKUP(B3,'Data Billing Quantities'!$A:$Z,MATCH(\"Low kW\",'Data Billing Quantities'!4:4,0),FALSE),IF(COUNTIF(A1,\"*Typical*\")>0,VLOOKUP(B3,'Data Billing Quantities'!$A:$Z,MATCH(\"Typical kW\",'Data Billing Quantities'!4:4,0),FALSE),IF(COUNTIF(A1,\"*Average*\")>0,VLOOKUP(B3,'Data Billing Quantities'!$A:$Z,MATCH(\"Average kW\",'Data Billing Quantities'!4:4,0),FALSE),IF(COUNTIF(A1,\"*High*\")>0,VLOOKUP(B3,'Data Billing Quantities'!$A:$Z,MATCH(\"High kW\",'Data Billing Quantities'!4:4,0),FALSE),\"error\"))))","v":500}]
["Loss factor",{"$f":"VLOOKUP(B3,'Data Billing Quantities'!A:D,MATCH(A6,'Data Billing Quantities'!4:4,0),FALSE)","v":1.0609999999999999}]
["Load factor",{"$f":"B4/(B5*730)","v":0.47945205479452052}]
["Monthly Consumption (kWh) - Uplifted",{"$f":"B4*B6","v":185675}]
["Charge determinant",{"$f":"VLOOKUP(B3,'Data Billing Quantities'!A:D,MATCH(A9,'Data Billing Quantities'!4:4,0),FALSE)","v":"kW"}]
[]
[null,"Volume","Current Rate ($)","Current Charge ($)","Volume","Proposed Rate ($)","Proposed Charge ($)","Change ($)","Change (%)","% of Total Bill "]
["Energy (Non-RPP)*",{"$f":"B8","v":185675},{"$f":"VLOOKUP($A12,'Data Pass Through'!A:E,2,FALSE)","v":0.1075},{"$f":"B12*C12","v":19960.0625},{"$f":"B8","v":185675},{"$f":"VLOOKUP($A12,'Data Pass Through'!A:E,3,FALSE)","v":0.1075},{"$f":"E12*F12","v":19960.0625},{"$f":"G12-D12","v":0},{"$f":"IF(ISERROR(H12/ABS(D12)),\"N/A\",(H12/ABS(D12)))","v":0},{"$f":"G12/$G$37","v":0.56339165654781187}]
["Service Charge",1,{"$f":"VLOOKUP($B$3,'Data Current Rates'!$A:$BE,MATCH($A13,CurrentHeader,0),FALSE)","v":108.28},{"$f":"B13*C13","v":108.28},{"$f":"B13","v":1},{"$f":"VLOOKUP($B$3,'Data Proposed Rates'!$A:$BC,MATCH($A13,ProposedHeader,0),FALSE)","v":108.28},{"$f":"E13*F13","v":108.28},0,0,3.0563054885723467E-3]
["Base Rate Adjustment to Recover Past Tax Amounts FIXED",null,null,null,1,{"$f":"VLOOKUP($B$3,'Data Proposed Rates'!$A:$BC,MATCH($A14,ProposedHeader,0),FALSE)","v":4.34},{"$f":"E14*F14","v":4.34},4.34,"N/A",1.2250060787222E-4]
["Fixed Deferral/Variance Account Rider (General)",1,{"$f":"VLOOKUP($B$3,'Data Current Rates'!$A:$BE,MATCH($A15,CurrentHeader,0),FALSE)","v":0},{"$f":"B15*C15","v":0},1,{"$f":"VLOOKUP($B$3,'Data Proposed Rates'!$A:$BC,MATCH($A15,ProposedHeader,0),FALSE)","v":0},{"$f":"E15*F15","v":0},0,"N/A",0]
["Fixed ESM Rider",1,{"$f":"VLOOKUP($B$3,'Data Current Rates'!$A:$BE,MATCH($A16,CurrentHeader,0),FALSE)","v":-1.52},-1.52,1,{"$f":"VLOOKUP($B$3,'Data Proposed Rates'!$A:$BC,MATCH($A16,ProposedHeader,0),FALSE)","v":-1.52},-1.52,0,0,-4.2903438701791344E-5]
["Distribution Volumetric Charge",{"$f":"IF($B$9=\"kWh\",$B$4,$B$5)","v":500},{"$f":"VLOOKUP($B$3,'Data Current Rates'!$A:$BE,MATCH($A17,CurrentHeader,0),FALSE)","v":18.329599999999999},9164.7999999999993,{"$f":"$B$5","v":500},{"$f":"VLOOKUP($B$3,'Data Proposed Rates'!$A:$BC,MATCH($A17,ProposedHeader,0),FALSE)","v":18.329599999999999},9164.7999999999993,0,{"$f":"IF(ISERROR(H17/ABS(D17)),\"N/A\",(H17/ABS(D17)))","v":0},0.2586851546145903]
["Base Rate Adjustment to Recover Past Tax Amounts VOL",null,null,null,{"$f":"$B$5","v":500},{"$f":"VLOOKUP($B$3,'Data Proposed Rates'!$A:$BC,MATCH($A18,ProposedHeader,0),FALSE)","v":0.73380000000000001},366.9,366.9,{"$f":"IF(ISERROR(H18/ABS(D18)),\"N/A\",(H18/ABS(D18)))","v":"N/A"},1.0356099776110027E-2]
["Volumetric Deferral/Variance Account Rider (General)",{"$f":"IF($B$9=\"kWh\",$B$4,$B$5)","v":500},{"$f":"VLOOKUP($B$3,'Data Current Rates'!$A:$BE,MATCH($A19,CurrentHeader,0),FALSE)","v":1.17E-2},5.8500000000000005,{"$f":"$B$5","v":500},{"$f":"VLOOKUP($B$3,'Data Proposed Rates'!$A:$BC,MATCH($A19,ProposedHeader,0),FALSE)","v":1.17E-2},5.8500000000000005,0,{"$f":"IF(ISERROR(H19/ABS(D19)),\"N/A\",(H19/ABS(D19)))","v":0},1.6512178710886803E-4]
["Volumetric Deferral/Variance Account Rider (Sub-Account Global Adjustment)",{"$f":"B8","v":185675},{"$f":"VLOOKUP($B$3,'Data Current Rates'!$A:$BE,MATCH($A20,CurrentHeader,0),FALSE)","v":-3.8999999999999998E-3},-724.13249999999994,{"$f":"B8","v":185675},{"$f":"VLOOKUP($B$3,'Data Proposed Rates'!$A:$BC,MATCH($A20,ProposedHeader,0),FALSE)","v":-3.8999999999999998E-3},-724.13249999999994,0,0,-2.043932521429271E-2]
["Volumetric ESM Rider",{"$f":"IF($B$9=\"kWh\",$B$4,$B$5)","v":500},{"$f":"VLOOKUP($B$3,'Data Current Rates'!$A:$BE,MATCH($A21,CurrentHeader,0),FALSE)","v":-0.2555},-127.75,{"$f":"B5","v":500},{"$f":"VLOOKUP($B$3,'Data Proposed Rates'!$A:$BC,MATCH($A21,ProposedHeader,0),FALSE)","v":-0.2555},-127.75,0,0,-3.6058646672064766E-3]
["Sub-Total:  Distribution",null,null,{"$f":"SUM(INDIRECT(\"D13:D\"&ROW()-1))","v":8425.5275000000001},null,null,{"$f":"SUM(INDIRECT(\"g13:g\"&ROW()-1))","v":8796.7674999999999},371.23999999999978,4.4061336219008221E-2,0.24829708895405281]
["Retail Transmission Rate – Network Service Rate",{"$f":"B5","v":500},{"$f":"VLOOKUP($B$3,'Data Current Rates'!$A:$BE,MATCH($A23,CurrentHeader,0),FALSE)","v":2.0421},{"$f":"B23*C23","v":1021.0500000000001},500,{"$f":"VLOOKUP($B$3,'Data Proposed Rates'!$A:$BC,MATCH($A23,ProposedHeader,0),FALSE)","v":2.0421},{"$f":"E23*F23","v":1021.0500000000001},0,0,2.8820102688463193E-2]
["Retail Transmission Rate – Line and Transformation Connection Service Rate",{"$f":"B5","v":500},{"$f":"VLOOKUP($B$3,'Data Current Rates'!$A:$BE,MATCH($A24,CurrentHeader,0),FALSE)","v":1.7005999999999999},{"$f":"B24*C24","v":850.3},500,{"$f":"VLOOKUP($B$3,'Data Proposed Rates'!$A:$BC,MATCH($A24,ProposedHeader,0),FALSE)","v":1.7005999999999999},{"$f":"E24*F24","v":850.3},0,0,2.400052232114025E-2]
["Sub-Total:  Retail Transmission ",null,null,{"$f":"SUM(D23:D24)","v":1871.35},null,null,{"$f":"SUM(G23:G24)","v":1871.35},0,0,5.2820625009603439E-2]
["Sub-Total:  Delivery ",null,null,{"$f":"D22+D25","v":10296.877500000001},null,null,{"$f":"G22+G25","v":10668.1175},371.23999999999978,3.6053648302604331E-2,0.30111771396365627]
["Wholesale Market Service Rate (WMS) - not including CBR",{"$f":"$B$8","v":185675},{"$f":"VLOOKUP($A27,'Data Pass Through'!$A:$D,2,FALSE)","v":3.0000000000000001E-3},{"$f":"B27*C27","v":557.02499999999998},{"$f":"$B$8","v":185675},{"$f":"VLOOKUP($A27,'Data Pass Through'!$A:$D,3,FALSE)","v":3.0000000000000001E-3},{"$f":"E27*F27","v":557.02499999999998},0,0,1.5722557857148239E-2]
["Capacity Based Recovery (CBR) - Applicable for Class B Customers",{"$f":"$B$8","v":185675},{"$f":"VLOOKUP($A28,'Data Pass Through'!$A:$D,2,FALSE)","v":4.0000000000000002E-4},{"$f":"B28*C28","v":74.27000000000001},{"$f":"$B$8","v":185675},{"$f":"VLOOKUP($A28,'Data Pass Through'!$A:$D,3,FALSE)","v":4.0000000000000002E-4},{"$f":"E28*F28","v":74.27000000000001},{"$f":"G28-D28","v":0},0,2.0963410476197656E-3]
["Rural Rate Protection Charge",{"$f":"$B$8","v":185675},{"$f":"VLOOKUP($A29,'Data Pass Through'!$A:$D,2,FALSE)","v":5.0000000000000001E-4},{"$f":"B29*C29","v":92.837500000000006},{"$f":"$B$8","v":185675},{"$f":"VLOOKUP($A29,'Data Pass Through'!$A:$D,3,FALSE)","v":5.0000000000000001E-4},{"$f":"E29*F29","v":92.837500000000006},{"$f":"G29-D29","v":0},0,2.6204263095247066E-3]
["Standard Supply Service – Administration Charge (if applicable)",1,{"$f":"VLOOKUP($A30,'Data Pass Through'!$A:$D,2,FALSE)","v":0.25},{"$f":"B30*C30","v":0.25},1,{"$f":"VLOOKUP($A30,'Data Pass Through'!$A:$D,3,FALSE)","v":0.25},{"$f":"E30*F30","v":0.25},0,0,7.0564866285841024E-6]
["Sub-Total:  Regulatory",null,null,{"$f":"SUM(D27:D30)","v":724.38249999999994},null,null,{"$f":"SUM(G27:G30)","v":724.38249999999994},0,0,2.0446381700921293E-2]
["Debt Retirement Charge (DRC)",{"$f":"B4","v":175000},{"$f":"VLOOKUP($A32,'Data Pass Through'!$A:$D,2,FALSE)","v":0},{"$f":"B32*C32","v":0},{"$f":"B4","v":175000},{"$f":"VLOOKUP($A32,'Data Pass Through'!$A:$D,3,FALSE)","v":0},{"$f":"E32*F32","v":0},0,"N/A",0]
["Total Electricity Charge (before HST)",null,null,{"$f":"SUM(D12,D22,D25,D31,D32)","v":30981.322499999998},null,null,{"$f":"SUM(G12,G22,G25,G31,G32)","v":31352.5625},371.2400000000016,1.1982703449796296E-2,0.88495575221238942]
["     HST",null,0.13,{"$f":"D33*C34","v":4027.5719249999997},null,{"$f":"C34","v":0.13},{"$f":"G33*F34","v":4075.8331250000001},48.261200000000372,1.1982703449796338E-2,0.11504424778761063]
["Total Electricity Charge (including HST)",null,null,{"$f":"SUM(D33:D34)","v":35008.894424999999},null,null,{"$f":"SUM(G33:G34)","v":35428.395624999997},419.50119999999879,1.198270344979621E-2,1]
["Ontario Electricity Rebate (OER)",null,0,{"$f":"D33*C36","v":0},null,{"$f":"C36","v":0},{"$f":"G33*F36","v":0},0,"N/A",0]
["Total Amount",null,null,{"$f":"SUM(D35:D36)","v":35008.894424999999},null,null,{"$f":"SUM(G35:G36)","v":35428.395624999997},419.50119999999879,1.198270344979621E-2,1]

{"sheet":"BI_UGd_Low","index":45,"n_rows":37,"n_cols":10,"rows_kept":37,"cut":false,"hidden":false,"merged":[[0,0,0,9]]}
["2021 Bill Impacts (Low Consumption Level) - UGd"]
[]
["Rate Class",{"$f":"RIGHT(A1,LEN(A1)-FIND(\"- \",A1,1)-1)","v":"UGd"}]
["Monthly Consumption (kWh)",{"$f":"IF(COUNTIF(A1,\"*Low*\")>0,VLOOKUP(B3,'Data Billing Quantities'!$A:$Z,MATCH(\"Low kWh\",'Data Billing Quantities'!4:4,0),FALSE),IF(COUNTIF(A1,\"*Typical*\")>0,VLOOKUP(B3,'Data Billing Quantities'!$A:$Z,MATCH(\"Typical kWh\",'Data Billing Quantities'!4:4,0),FALSE),IF(COUNTIF(A1,\"*Average*\")>0,VLOOKUP(B3,'Data Billing Quantities'!$A:$Z,MATCH(\"Average kWh\",'Data Billing Quantities'!4:4,0),FALSE),IF(COUNTIF(A1,\"*High*\")>0,VLOOKUP(B3,'Data Billing Quantities'!$A:$Z,MATCH(\"High kWh\",'Data Billing Quantities'!4:4,0),FALSE),\"error\"))))","v":15000}]
["Peak (kW)",{"$f":"IF(COUNTIF(A1,\"*Low*\")>0,VLOOKUP(B3,'Data Billing Quantities'!$A:$Z,MATCH(\"Low kW\",'Data Billing Quantities'!4:4,0),FALSE),IF(COUNTIF(A1,\"*Typical*\")>0,VLOOKUP(B3,'Data Billing Quantities'!$A:$Z,MATCH(\"Typical kW\",'Data Billing Quantities'!4:4,0),FALSE),IF(COUNTIF(A1,\"*Average*\")>0,VLOOKUP(B3,'Data Billing Quantities'!$A:$Z,MATCH(\"Average kW\",'Data Billing Quantities'!4:4,0),FALSE),IF(COUNTIF(A1,\"*High*\")>0,VLOOKUP(B3,'Data Billing Quantities'!$A:$Z,MATCH(\"High kW\",'Data Billing Quantities'!4:4,0),FALSE),\"error\"))))","v":60}]
["Loss factor",{"$f":"VLOOKUP(B3,'Data Billing Quantities'!A:D,MATCH(A6,'Data Billing Quantities'!4:4,0),FALSE)","v":1.05}]
["Load factor",{"$f":"B4/(B5*730)","v":0.34246575342465752}]
["Monthly Consumption (kWh) - Uplifted",{"$f":"B4*B6","v":15750}]
["Charge determinant",{"$f":"VLOOKUP(B3,'Data Billing Quantities'!A:D,MATCH(A9,'Data Billing Quantities'!4:4,0),FALSE)","v":"kW"}]
[]
[null,"Volume","Current Rate ($)","Current Charge ($)","Volume","Proposed Rate ($)","Proposed Charge ($)","Change ($)","Change (%)","% of Total Bill "]
["Energy (Non-RPP)*",{"$f":"B8","v":15750},{"$f":"VLOOKUP($A12,'Data Pass Through'!A:E,2,FALSE)","v":0.1075},{"$f":"B12*C12","v":1693.125},{"$f":"B8","v":15750},{"$f":"VLOOKUP($A12,'Data Pass Through'!A:E,3,FALSE)","v":0.1075},{"$f":"E12*F12","v":1693.125},{"$f":"G12-D12","v":0},{"$f":"IF(ISERROR(H12/ABS(D12)),\"N/A\",(H12/ABS(D12)))","v":0},{"$f":"G12/$G$37","v":0.54534237127936747}]
["Service Charge",1,{"$f":"VLOOKUP($B$3,'Data Current Rates'!$A:$BE,MATCH($A13,CurrentHeader,0),FALSE)","v":100.19},{"$f":"B13*C13","v":100.19},{"$f":"B13","v":1},{"$f":"VLOOKUP($B$3,'Data Proposed Rates'!$A:$BC,MATCH($A13,ProposedHeader,0),FALSE)","v":100.19},{"$f":"E13*F13","v":100.19},0,0,3.2270418414753685E-2]
["Base Rate Adjustment to Recover Past Tax Amounts FIXED",null,null,null,1,{"$f":"VLOOKUP($B$3,'Data Proposed Rates'!$A:$BC,MATCH($A14,ProposedHeader,0),FALSE)","v":3.92},{"$f":"E14*F14","v":3.92},3.92,"N/A",1.2626014590860809E-3]
["Fixed Deferral/Variance Account Rider (General)",1,{"$f":"VLOOKUP($B$3,'Data Current Rates'!$A:$BE,MATCH($A15,CurrentHeader,0),FALSE)","v":0},{"$f":"B15*C15","v":0},1,{"$f":"VLOOKUP($B$3,'Data Proposed Rates'!$A:$BC,MATCH($A15,ProposedHeader,0),FALSE)","v":0},{"$f":"E15*F15","v":0},0,"N/A",0]
["Fixed ESM Rider",1,{"$f":"VLOOKUP($B$3,'Data Current Rates'!$A:$BE,MATCH($A16,CurrentHeader,0),FALSE)","v":-1.4},-1.4,1,{"$f":"VLOOKUP($B$3,'Data Proposed Rates'!$A:$BC,MATCH($A16,ProposedHeader,0),FALSE)","v":-1.4},-1.4,0,0,-4.5092909253074314E-4]
["Distribution Volumetric Charge",{"$f":"IF($B$9=\"kWh\",$B$4,$B$5)","v":60},{"$f":"VLOOKUP($B$3,'Data Current Rates'!$A:$BE,MATCH($A17,CurrentHeader,0),FALSE)","v":10.5601},633.60599999999999,{"$f":"$B$5","v":60},{"$f":"VLOOKUP($B$3,'Data Proposed Rates'!$A:$BC,MATCH($A17,ProposedHeader,0),FALSE)","v":10.5601},633.60599999999999,0,{"$f":"IF(ISERROR(H17/ABS(D17)),\"N/A\",(H17/ABS(D17)))","v":0},0.20407955614431003]
["Base Rate Adjustment to Recover Past Tax Amounts VOL",null,null,null,{"$f":"$B$5","v":60},{"$f":"VLOOKUP($B$3,'Data Proposed Rates'!$A:$BC,MATCH($A18,ProposedHeader,0),FALSE)","v":0.41339999999999999},24.803999999999998,24.803999999999998,{"$f":"IF(ISERROR(H18/ABS(D18)),\"N/A\",(H18/ABS(D18)))","v":"N/A"},7.9891751508089654E-3]
["Volumetric Deferral/Variance Account Rider (General)",{"$f":"IF($B$9=\"kWh\",$B$4,$B$5)","v":60},{"$f":"VLOOKUP($B$3,'Data Current Rates'!$A:$BE,MATCH($A19,CurrentHeader,0),FALSE)","v":0.1062},6.3719999999999999,{"$f":"$B$5","v":60},{"$f":"VLOOKUP($B$3,'Data Proposed Rates'!$A:$BC,MATCH($A19,ProposedHeader,0),FALSE)","v":0.1062},6.3719999999999999,0,{"$f":"IF(ISERROR(H19/ABS(D19)),\"N/A\",(H19/ABS(D19)))","v":0},2.0523715554327825E-3]
["Volumetric Deferral/Variance Account Rider (Sub-Account Global Adjustment)",{"$f":"B8","v":15750},{"$f":"VLOOKUP($B$3,'Data Current Rates'!$A:$BE,MATCH($A20,CurrentHeader,0),FALSE)","v":-3.8999999999999998E-3},-61.424999999999997,{"$f":"B8","v":15750},{"$f":"VLOOKUP($B$3,'Data Proposed Rates'!$A:$BC,MATCH($A20,ProposedHeader,0),FALSE)","v":-3.8999999999999998E-3},-61.424999999999997,0,0,-1.9784513934786356E-2]
["Volumetric ESM Rider",{"$f":"IF($B$9=\"kWh\",$B$4,$B$5)","v":60},{"$f":"VLOOKUP($B$3,'Data Current Rates'!$A:$BE,MATCH($A21,CurrentHeader,0),FALSE)","v":-4.0000000000000002E-4},-2.4E-2,{"$f":"B5","v":60},{"$f":"VLOOKUP($B$3,'Data Proposed Rates'!$A:$BC,MATCH($A21,ProposedHeader,0),FALSE)","v":-4.0000000000000002E-4},-2.4E-2,0,0,-7.7302130148127392E-6]
["Sub-Total:  Distribution",null,null,{"$f":"SUM(INDIRECT(\"D13:D\"&ROW()-1))","v":677.31899999999996},null,null,{"$f":"SUM(INDIRECT(\"g13:g\"&ROW()-1))","v":706.04300000000001},28.724000000000046,4.2408377736339965E-2,0.22741094948405963]
["Retail Transmission Rate – Network Service Rate",{"$f":"B5","v":60},{"$f":"VLOOKUP($B$3,'Data Current Rates'!$A:$BE,MATCH($A23,CurrentHeader,0),FALSE)","v":2.6172},{"$f":"B23*C23","v":157.03200000000001},60,{"$f":"VLOOKUP($B$3,'Data Proposed Rates'!$A:$BC,MATCH($A23,ProposedHeader,0),FALSE)","v":2.6172},{"$f":"E23*F23","v":157.03200000000001},0,0,5.057878375591976E-2]
["Retail Transmission Rate – Line and Transformation Connection Service Rate",{"$f":"B5","v":60},{"$f":"VLOOKUP($B$3,'Data Current Rates'!$A:$BE,MATCH($A24,CurrentHeader,0),FALSE)","v":2.1608000000000001},{"$f":"B24*C24","v":129.648},60,{"$f":"VLOOKUP($B$3,'Data Proposed Rates'!$A:$BC,MATCH($A24,ProposedHeader,0),FALSE)","v":2.1608000000000001},{"$f":"E24*F24","v":129.648},0,0,4.1758610706018419E-2]
["Sub-Total:  Retail Transmission ",null,null,{"$f":"SUM(D23:D24)","v":286.68},null,null,{"$f":"SUM(G23:G24)","v":286.68},0,0,9.2337394461938185E-2]
["Sub-Total:  Delivery ",null,null,{"$f":"D22+D25","v":963.99900000000002},null,null,{"$f":"G22+G25","v":992.72299999999996},28.723999999999933,2.9796711407376907E-2,0.31974834394599777]
["Wholesale Market Service Rate (WMS) - not including CBR",{"$f":"$B$8","v":15750},{"$f":"VLOOKUP($A27,'Data Pass Through'!$A:$D,2,FALSE)","v":3.0000000000000001E-3},{"$f":"B27*C27","v":47.25},{"$f":"$B$8","v":15750},{"$f":"VLOOKUP($A27,'Data Pass Through'!$A:$D,3,FALSE)","v":3.0000000000000001E-3},{"$f":"E27*F27","v":47.25},0,0,1.5218856872912582E-2]
["Capacity Based Recovery (CBR) - Applicable for Class B Customers",{"$f":"$B$8","v":15750},{"$f":"VLOOKUP($A28,'Data Pass Through'!$A:$D,2,FALSE)","v":4.0000000000000002E-4},{"$f":"B28*C28","v":6.3000000000000007},{"$f":"$B$8","v":15750},{"$f":"VLOOKUP($A28,'Data Pass Through'!$A:$D,3,FALSE)","v":4.0000000000000002E-4},{"$f":"E28*F28","v":6.3000000000000007},{"$f":"G28-D28","v":0},0,2.0291809163883443E-3]
["Rural Rate Protection Charge",{"$f":"$B$8","v":15750},{"$f":"VLOOKUP($A29,'Data Pass Through'!$A:$D,2,FALSE)","v":5.0000000000000001E-4},{"$f":"B29*C29","v":7.875},{"$f":"$B$8","v":15750},{"$f":"VLOOKUP($A29,'Data Pass Through'!$A:$D,3,FALSE)","v":5.0000000000000001E-4},{"$f":"E29*F29","v":7.875},{"$f":"G29-D29","v":0},0,2.5364761454854303E-3]
["Standard Supply Service – Administration Charge (if applicable)",1,{"$f":"VLOOKUP($A30,'Data Pass Through'!$A:$D,2,FALSE)","v":0.25},{"$f":"B30*C30","v":0.25},1,{"$f":"VLOOKUP($A30,'Data Pass Through'!$A:$D,3,FALSE)","v":0.25},{"$f":"E30*F30","v":0.25},0,0,8.0523052237632705E-5]
["Sub-Total:  Regulatory",null,null,{"$f":"SUM(D27:D30)","v":61.674999999999997},null,null,{"$f":"SUM(G27:G30)","v":61.674999999999997},0,0,1.9865036987023986E-2]
["Debt Retirement Charge (DRC)",{"$f":"B4","v":15000},{"$f":"VLOOKUP($A32,'Data Pass Through'!$A:$D,2,FALSE)","v":0},{"$f":"B32*C32","v":0},{"$f":"B4","v":15000},{"$f":"VLOOKUP($A32,'Data Pass Through'!$A:$D,3,FALSE)","v":0},{"$f":"E32*F32","v":0},0,"N/A",0]
["Total Electricity Charge (before HST)",null,null,{"$f":"SUM(D12,D22,D25,D31,D32)","v":2718.799},null,null,{"$f":"SUM(G12,G22,G25,G31,G32)","v":2747.5230000000001},28.72400000000016,1.0564959013152558E-2,0.88495575221238931]
["     HST",null,0.13,{"$f":"D33*C34","v":353.44387},null,{"$f":"C34","v":0.13},{"$f":"G33*F34","v":357.17799000000002},3.7341200000000185,1.0564959013152551E-2,0.11504424778761062]
["Total Electricity Charge (including HST)",null,null,{"$f":"SUM(D33:D34)","v":3072.24287},null,null,{"$f":"SUM(G33:G34)","v":3104.7009900000003},32.458120000000235,1.0564959013152575E-2,1]
["Ontario Electricity Rebate (OER)",null,0,{"$f":"D33*C36","v":0},null,{"$f":"C36","v":0},{"$f":"G33*F36","v":0},0,"N/A",0]
["Total Amount",null,null,{"$f":"SUM(D35:D36)","v":3072.24287},null,null,{"$f":"SUM(G35:G36)","v":3104.7009900000003},32.458120000000235,1.0564959013152575E-2,1]

{"sheet":"BI_UGd_Avg","index":46,"n_rows":37,"n_cols":10,"rows_kept":37,"cut":false,"hidden":false,"merged":[[0,0,0,9]]}
["2021 Bill Impacts (Average Consumption Level) - UGd"]
[]
["Rate Class",{"$f":"RIGHT(A1,LEN(A1)-FIND(\"- \",A1,1)-1)","v":"UGd"}]
["Monthly Consumption (kWh)",{"$f":"IF(COUNTIF(A1,\"*Low*\")>0,VLOOKUP(B3,'Data Billing Quantities'!$A:$Z,MATCH(\"Low kWh\",'Data Billing Quantities'!4:4,0),FALSE),IF(COUNTIF(A1,\"*Typical*\")>0,VLOOKUP(B3,'Data Billing Quantities'!$A:$Z,MATCH(\"Typical kWh\",'Data Billing Quantities'!4:4,0),FALSE),IF(COUNTIF(A1,\"*Average*\")>0,VLOOKUP(B3,'Data Billing Quantities'!$A:$Z,MATCH(\"Average kWh\",'Data Billing Quantities'!4:4,0),FALSE),IF(COUNTIF(A1,\"*High*\")>0,VLOOKUP(B3,'Data Billing Quantities'!$A:$Z,MATCH(\"High kWh\",'Data Billing Quantities'!4:4,0),FALSE),\"error\"))))","v":50525}]
["Peak (kW)",{"$f":"IF(COUNTIF(A1,\"*Low*\")>0,VLOOKUP(B3,'Data Billing Quantities'!$A:$Z,MATCH(\"Low kW\",'Data Billing Quantities'!4:4,0),FALSE),IF(COUNTIF(A1,\"*Typical*\")>0,VLOOKUP(B3,'Data Billing Quantities'!$A:$Z,MATCH(\"Typical kW\",'Data Billing Quantities'!4:4,0),FALSE),IF(COUNTIF(A1,\"*Average*\")>0,VLOOKUP(B3,'Data Billing Quantities'!$A:$Z,MATCH(\"Average kW\",'Data Billing Quantities'!4:4,0),FALSE),IF(COUNTIF(A1,\"*High*\")>0,VLOOKUP(B3,'Data Billing Quantities'!$A:$Z,MATCH(\"High kW\",'Data Billing Quantities'!4:4,0),FALSE),\"error\"))))","v":135}]
["Loss factor",{"$f":"VLOOKUP(B3,'Data Billing Quantities'!A:D,MATCH(A6,'Data Billing Quantities'!4:4,0),FALSE)","v":1.05}]
["Load factor",{"$f":"B4/(B5*730)","v":0.51268391679350589}]
["Monthly Consumption (kWh) - Uplifted",{"$f":"B4*B6","v":53051.25}]
["Charge determinant",{"$f":"VLOOKUP(B3,'Data Billing Quantities'!A:D,MATCH(A9,'Data Billing Quantities'!4:4,0),FALSE)","v":"kW"}]
[]
[null,"Volume","Current Rate ($)","Current Charge ($)","Volume","Proposed Rate ($)","Proposed Charge ($)","Change ($)","Change (%)","% of Total Bill "]
["Energy (Non-RPP)*",{"$f":"B8","v":53051.25},{"$f":"VLOOKUP($A12,'Data Pass Through'!A:E,2,FALSE)","v":0.1075},{"$f":"B12*C12","v":5703.0093749999996},{"$f":"B8","v":53051.25},{"$f":"VLOOKUP($A12,'Data Pass Through'!A:E,3,FALSE)","v":0.1075},{"$f":"E12*F12","v":5703.0093749999996},{"$f":"G12-D12","v":0},{"$f":"IF(ISERROR(H12/ABS(D12)),\"N/A\",(H12/ABS(D12)))","v":0},{"$f":"G12/$G$37","v":0.63509480101680937}]
["Service Charge",1,{"$f":"VLOOKUP($B$3,'Data Current Rates'!$A:$BE,MATCH($A13,CurrentHeader,0),FALSE)","v":100.19},{"$f":"B13*C13","v":100.19},{"$f":"B13","v":1},{"$f":"VLOOKUP($B$3,'Data Proposed Rates'!$A:$BC,MATCH($A13,ProposedHeader,0),FALSE)","v":100.19},{"$f":"E13*F13","v":100.19},0,0,1.1157293269200374E-2]
["Base Rate Adjustment to Recover Past Tax Amounts FIXED",null,null,null,1,{"$f":"VLOOKUP($B$3,'Data Proposed Rates'!$A:$BC,MATCH($A14,ProposedHeader,0),FALSE)","v":3.92},{"$f":"E14*F14","v":3.92},3.92,"N/A",4.36536476846646E-4]
["Fixed Deferral/Variance Account Rider (General)",1,{"$f":"VLOOKUP($B$3,'Data Current Rates'!$A:$BE,MATCH($A15,CurrentHeader,0),FALSE)","v":0},{"$f":"B15*C15","v":0},1,{"$f":"VLOOKUP($B$3,'Data Proposed Rates'!$A:$BC,MATCH($A15,ProposedHeader,0),FALSE)","v":0},{"$f":"E15*F15","v":0},0,"N/A",0]
["Fixed ESM Rider",1,{"$f":"VLOOKUP($B$3,'Data Current Rates'!$A:$BE,MATCH($A16,CurrentHeader,0),FALSE)","v":-1.4},-1.4,1,{"$f":"VLOOKUP($B$3,'Data Proposed Rates'!$A:$BC,MATCH($A16,ProposedHeader,0),FALSE)","v":-1.4},-1.4,0,0,-1.5590588458808786E-4]
["Distribution Volumetric Charge",{"$f":"IF($B$9=\"kWh\",$B$4,$B$5)","v":135},{"$f":"VLOOKUP($B$3,'Data Current Rates'!$A:$BE,MATCH($A17,CurrentHeader,0),FALSE)","v":10.5601},1425.6134999999999,{"$f":"$B$5","v":135},{"$f":"VLOOKUP($B$3,'Data Proposed Rates'!$A:$BC,MATCH($A17,ProposedHeader,0),FALSE)","v":10.5601},1425.6134999999999,0,{"$f":"IF(ISERROR(H17/ABS(D17)),\"N/A\",(H17/ABS(D17)))","v":0},0.1587582384273]
["Base Rate Adjustment to Recover Past Tax Amounts VOL",null,null,null,{"$f":"$B$5","v":135},{"$f":"VLOOKUP($B$3,'Data Proposed Rates'!$A:$BC,MATCH($A18,ProposedHeader,0),FALSE)","v":0.41339999999999999},55.808999999999997,55.808999999999997,{"$f":"IF(ISERROR(H18/ABS(D18)),\"N/A\",(H18/ABS(D18)))","v":"N/A"},6.2149653664118542E-3]
["Volumetric Deferral/Variance Account Rider (General)",{"$f":"IF($B$9=\"kWh\",$B$4,$B$5)","v":135},{"$f":"VLOOKUP($B$3,'Data Current Rates'!$A:$BE,MATCH($A19,CurrentHeader,0),FALSE)","v":0.1062},14.337,{"$f":"$B$5","v":135},{"$f":"VLOOKUP($B$3,'Data Proposed Rates'!$A:$BC,MATCH($A19,ProposedHeader,0),FALSE)","v":0.1062},14.337,0,{"$f":"IF(ISERROR(H19/ABS(D19)),\"N/A\",(H19/ABS(D19)))","v":0},1.596587619528154E-3]
["Volumetric Deferral/Variance Account Rider (Sub-Account Global Adjustment)",{"$f":"B8","v":53051.25},{"$f":"VLOOKUP($B$3,'Data Current Rates'!$A:$BE,MATCH($A20,CurrentHeader,0),FALSE)","v":-3.8999999999999998E-3},-206.89987499999998,{"$f":"B8","v":53051.25},{"$f":"VLOOKUP($B$3,'Data Proposed Rates'!$A:$BC,MATCH($A20,ProposedHeader,0),FALSE)","v":-3.8999999999999998E-3},-206.89987499999998,0,0,-2.304064859502843E-2]
["Volumetric ESM Rider",{"$f":"IF($B$9=\"kWh\",$B$4,$B$5)","v":135},{"$f":"VLOOKUP($B$3,'Data Current Rates'!$A:$BE,MATCH($A21,CurrentHeader,0),FALSE)","v":-4.0000000000000002E-4},-5.3999999999999999E-2,{"$f":"B5","v":135},{"$f":"VLOOKUP($B$3,'Data Proposed Rates'!$A:$BC,MATCH($A21,ProposedHeader,0),FALSE)","v":-4.0000000000000002E-4},-5.3999999999999999E-2,0,0,-6.0135126912548177E-6]
["Sub-Total:  Distribution",null,null,{"$f":"SUM(INDIRECT(\"D13:D\"&ROW()-1))","v":1331.7866249999997},null,null,{"$f":"SUM(INDIRECT(\"g13:g\"&ROW()-1))","v":1391.5156249999998},59.729000000000042,4.4848775981663022E-2,0.15496105316697922]
["Retail Transmission Rate – Network Service Rate",{"$f":"B5","v":135},{"$f":"VLOOKUP($B$3,'Data Current Rates'!$A:$BE,MATCH($A23,CurrentHeader,0),FALSE)","v":2.6172},{"$f":"B23*C23","v":353.322},135,{"$f":"VLOOKUP($B$3,'Data Proposed Rates'!$A:$BC,MATCH($A23,ProposedHeader,0),FALSE)","v":2.6172},{"$f":"E23*F23","v":353.322},0,0,3.934641353888027E-2]
["Retail Transmission Rate – Line and Transformation Connection Service Rate",{"$f":"B5","v":135},{"$f":"VLOOKUP($B$3,'Data Current Rates'!$A:$BE,MATCH($A24,CurrentHeader,0),FALSE)","v":2.1608000000000001},{"$f":"B24*C24","v":291.70800000000003},135,{"$f":"VLOOKUP($B$3,'Data Proposed Rates'!$A:$BC,MATCH($A24,ProposedHeader,0),FALSE)","v":2.1608000000000001},{"$f":"E24*F24","v":291.70800000000003},0,0,3.2484995558158529E-2]
["Sub-Total:  Retail Transmission ",null,null,{"$f":"SUM(D23:D24)","v":645.03},null,null,{"$f":"SUM(G23:G24)","v":645.03},0,0,7.1831409097038793E-2]
["Sub-Total:  Delivery ",null,null,{"$f":"D22+D25","v":1976.8166249999997},null,null,{"$f":"G22+G25","v":2036.5456249999997},59.729000000000042,3.0214739821909406E-2,0.22679246226401803]
["Wholesale Market Service Rate (WMS) - not including CBR",{"$f":"$B$8","v":53051.25},{"$f":"VLOOKUP($A27,'Data Pass Through'!$A:$D,2,FALSE)","v":3.0000000000000001E-3},{"$f":"B27*C27","v":159.15375},{"$f":"$B$8","v":53051.25},{"$f":"VLOOKUP($A27,'Data Pass Through'!$A:$D,3,FALSE)","v":3.0000000000000001E-3},{"$f":"E27*F27","v":159.15375},0,0,1.7723575842329566E-2]
["Capacity Based Recovery (CBR) - Applicable for Class B Customers",{"$f":"$B$8","v":53051.25},{"$f":"VLOOKUP($A28,'Data Pass Through'!$A:$D,2,FALSE)","v":4.0000000000000002E-4},{"$f":"B28*C28","v":21.220500000000001},{"$f":"$B$8","v":53051.25},{"$f":"VLOOKUP($A28,'Data Pass Through'!$A:$D,3,FALSE)","v":4.0000000000000002E-4},{"$f":"E28*F28","v":21.220500000000001},{"$f":"G28-D28","v":0},0,2.3631434456439422E-3]
["Rural Rate Protection Charge",{"$f":"$B$8","v":53051.25},{"$f":"VLOOKUP($A29,'Data Pass Through'!$A:$D,2,FALSE)","v":5.0000000000000001E-4},{"$f":"B29*C29","v":26.525625000000002},{"$f":"$B$8","v":53051.25},{"$f":"VLOOKUP($A29,'Data Pass Through'!$A:$D,3,FALSE)","v":5.0000000000000001E-4},{"$f":"E29*F29","v":26.525625000000002},{"$f":"G29-D29","v":0},0,2.9539293070549276E-3]
["Standard Supply Service – Administration Charge (if applicable)",1,{"$f":"VLOOKUP($A30,'Data Pass Through'!$A:$D,2,FALSE)","v":0.25},{"$f":"B30*C30","v":0.25},1,{"$f":"VLOOKUP($A30,'Data Pass Through'!$A:$D,3,FALSE)","v":0.25},{"$f":"E30*F30","v":0.25},0,0,2.7840336533587118E-5]
["Sub-Total:  Regulatory",null,null,{"$f":"SUM(D27:D30)","v":207.14987500000001},null,null,{"$f":"SUM(G27:G30)","v":207.14987500000001},0,0,2.306848893156202E-2]
["Debt Retirement Charge (DRC)",{"$f":"B4","v":50525},{"$f":"VLOOKUP($A32,'Data Pass Through'!$A:$D,2,FALSE)","v":0},{"$f":"B32*C32","v":0},{"$f":"B4","v":50525},{"$f":"VLOOKUP($A32,'Data Pass Through'!$A:$D,3,FALSE)","v":0},{"$f":"E32*F32","v":0},0,"N/A",0]
["Total Electricity Charge (before HST)",null,null,{"$f":"SUM(D12,D22,D25,D31,D32)","v":7886.9758749999992},null,null,{"$f":"SUM(G12,G22,G25,G31,G32)","v":7946.7048749999994},59.729000000000269,7.5731181312888541E-3,0.88495575221238942]
["     HST",null,0.13,{"$f":"D33*C34","v":1025.3068637499998},null,{"$f":"C34","v":0.13},{"$f":"G33*F34","v":1033.07163375},7.764770000000226,7.5731181312890406E-3,0.11504424778761063]
["Total Electricity Charge (including HST)",null,null,{"$f":"SUM(D33:D34)","v":8912.2827387499983},null,null,{"$f":"SUM(G33:G34)","v":8979.7765087499993},67.49377000000095,7.573118131288927E-3,1]
["Ontario Electricity Rebate (OER)",null,0,{"$f":"D33*C36","v":0},null,{"$f":"C36","v":0},{"$f":"G33*F36","v":0},0,"N/A",0]
["Total Amount",null,null,{"$f":"SUM(D35:D36)","v":8912.2827387499983},null,null,{"$f":"SUM(G35:G36)","v":8979.7765087499993},67.49377000000095,7.573118131288927E-3,1]

{"sheet":"BI_UGd_High","index":47,"n_rows":37,"n_cols":10,"rows_kept":37,"cut":false,"hidden":false,"merged":[[0,0,0,9]]}
["2021 Bill Impacts (High Consumption Level) - UGd"]
[]
["Rate Class",{"$f":"RIGHT(A1,LEN(A1)-FIND(\"- \",A1,1)-1)","v":"UGd"}]
["Monthly Consumption (kWh)",{"$f":"IF(COUNTIF(A1,\"*Low*\")>0,VLOOKUP(B3,'Data Billing Quantities'!$A:$Z,MATCH(\"Low kWh\",'Data Billing Quantities'!4:4,0),FALSE),IF(COUNTIF(A1,\"*Typical*\")>0,VLOOKUP(B3,'Data Billing Quantities'!$A:$Z,MATCH(\"Typical kWh\",'Data Billing Quantities'!4:4,0),FALSE),IF(COUNTIF(A1,\"*Average*\")>0,VLOOKUP(B3,'Data Billing Quantities'!$A:$Z,MATCH(\"Average kWh\",'Data Billing Quantities'!4:4,0),FALSE),IF(COUNTIF(A1,\"*High*\")>0,VLOOKUP(B3,'Data Billing Quantities'!$A:$Z,MATCH(\"High kWh\",'Data Billing Quantities'!4:4,0),FALSE),\"error\"))))","v":175000}]
["Peak (kW)",{"$f":"IF(COUNTIF(A1,\"*Low*\")>0,VLOOKUP(B3,'Data Billing Quantities'!$A:$Z,MATCH(\"Low kW\",'Data Billing Quantities'!4:4,0),FALSE),IF(COUNTIF(A1,\"*Typical*\")>0,VLOOKUP(B3,'Data Billing Quantities'!$A:$Z,MATCH(\"Typical kW\",'Data Billing Quantities'!4:4,0),FALSE),IF(COUNTIF(A1,\"*Average*\")>0,VLOOKUP(B3,'Data Billing Quantities'!$A:$Z,MATCH(\"Average kW\",'Data Billing Quantities'!4:4,0),FALSE),IF(COUNTIF(A1,\"*High*\")>0,VLOOKUP(B3,'Data Billing Quantities'!$A:$Z,MATCH(\"High kW\",'Data Billing Quantities'!4:4,0),FALSE),\"error\"))))","v":500}]
["Loss factor",{"$f":"VLOOKUP(B3,'Data Billing Quantities'!A:D,MATCH(A6,'Data Billing Quantities'!4:4,0),FALSE)","v":1.05}]
["Load factor",{"$f":"B4/(B5*730)","v":0.47945205479452052}]
["Monthly Consumption (kWh) - Uplifted",{"$f":"B4*B6","v":183750}]
["Charge determinant",{"$f":"VLOOKUP(B3,'Data Billing Quantities'!A:D,MATCH(A9,'Data Billing Quantities'!4:4,0),FALSE)","v":"kW"}]
[]
[null,"Volume","Current Rate ($)","Current Charge ($)","Volume","Proposed Rate ($)","Proposed Charge ($)","Change ($)","Change (%)","% of Total Bill "]
["Energy (Non-RPP)*",{"$f":"B8","v":183750},{"$f":"VLOOKUP($A12,'Data Pass Through'!A:E,2,FALSE)","v":0.1075},{"$f":"B12*C12","v":19753.125},{"$f":"B8","v":183750},{"$f":"VLOOKUP($A12,'Data Pass Through'!A:E,3,FALSE)","v":0.1075},{"$f":"E12*F12","v":19753.125},{"$f":"G12-D12","v":0},{"$f":"IF(ISERROR(H12/ABS(D12)),\"N/A\",(H12/ABS(D12)))","v":0},{"$f":"G12/$G$37","v":0.62914552155780334}]
["Service Charge",1,{"$f":"VLOOKUP($B$3,'Data Current Rates'!$A:$BE,MATCH($A13,CurrentHeader,0),FALSE)","v":100.19},{"$f":"B13*C13","v":100.19},{"$f":"B13","v":1},{"$f":"VLOOKUP($B$3,'Data Proposed Rates'!$A:$BC,MATCH($A13,ProposedHeader,0),FALSE)","v":100.19},{"$f":"E13*F13","v":100.19},0,0,3.1910945637652938E-3]
["Base Rate Adjustment to Recover Past Tax Amounts FIXED",null,null,null,1,{"$f":"VLOOKUP($B$3,'Data Proposed Rates'!$A:$BC,MATCH($A14,ProposedHeader,0),FALSE)","v":3.92},{"$f":"E14*F14","v":3.92},3.92,"N/A",1.2485368489829275E-4]
["Fixed Deferral/Variance Account Rider (General)",1,{"$f":"VLOOKUP($B$3,'Data Current Rates'!$A:$BE,MATCH($A15,CurrentHeader,0),FALSE)","v":0},{"$f":"B15*C15","v":0},1,{"$f":"VLOOKUP($B$3,'Data Proposed Rates'!$A:$BC,MATCH($A15,ProposedHeader,0),FALSE)","v":0},{"$f":"E15*F15","v":0},0,"N/A",0]
["Fixed ESM Rider",1,{"$f":"VLOOKUP($B$3,'Data Current Rates'!$A:$BE,MATCH($A16,CurrentHeader,0),FALSE)","v":-1.4},-1.4,1,{"$f":"VLOOKUP($B$3,'Data Proposed Rates'!$A:$BC,MATCH($A16,ProposedHeader,0),FALSE)","v":-1.4},-1.4,0,0,-4.4590601749390271E-5]
["Distribution Volumetric Charge",{"$f":"IF($B$9=\"kWh\",$B$4,$B$5)","v":500},{"$f":"VLOOKUP($B$3,'Data Current Rates'!$A:$BE,MATCH($A17,CurrentHeader,0),FALSE)","v":10.5601},5280.05,{"$f":"$B$5","v":500},{"$f":"VLOOKUP($B$3,'Data Proposed Rates'!$A:$BC,MATCH($A17,ProposedHeader,0),FALSE)","v":10.5601},5280.05,0,{"$f":"IF(ISERROR(H17/ABS(D17)),\"N/A\",(H17/ABS(D17)))","v":0},0.16817186197633435]
["Base Rate Adjustment to Recover Past Tax Amounts VOL",null,null,null,{"$f":"$B$5","v":500},{"$f":"VLOOKUP($B$3,'Data Proposed Rates'!$A:$BC,MATCH($A18,ProposedHeader,0),FALSE)","v":0.41339999999999999},206.7,206.7,{"$f":"IF(ISERROR(H18/ABS(D18)),\"N/A\",(H18/ABS(D18)))","v":"N/A"},6.5834838439992631E-3]
["Volumetric Deferral/Variance Account Rider (General)",{"$f":"IF($B$9=\"kWh\",$B$4,$B$5)","v":500},{"$f":"VLOOKUP($B$3,'Data Current Rates'!$A:$BE,MATCH($A19,CurrentHeader,0),FALSE)","v":0.1062},53.1,{"$f":"$B$5","v":500},{"$f":"VLOOKUP($B$3,'Data Proposed Rates'!$A:$BC,MATCH($A19,ProposedHeader,0),FALSE)","v":0.1062},53.1,0,{"$f":"IF(ISERROR(H19/ABS(D19)),\"N/A\",(H19/ABS(D19)))","v":0},1.691257823494731E-3]
["Volumetric Deferral/Variance Account Rider (Sub-Account Global Adjustment)",{"$f":"B8","v":183750},{"$f":"VLOOKUP($B$3,'Data Current Rates'!$A:$BE,MATCH($A20,CurrentHeader,0),FALSE)","v":-3.8999999999999998E-3},-716.625,{"$f":"B8","v":183750},{"$f":"VLOOKUP($B$3,'Data Proposed Rates'!$A:$BC,MATCH($A20,ProposedHeader,0),FALSE)","v":-3.8999999999999998E-3},-716.625,0,0,-2.2824814270469146E-2]
["Volumetric ESM Rider",{"$f":"IF($B$9=\"kWh\",$B$4,$B$5)","v":500},{"$f":"VLOOKUP($B$3,'Data Current Rates'!$A:$BE,MATCH($A21,CurrentHeader,0),FALSE)","v":-4.0000000000000002E-4},-0.2,{"$f":"B5","v":500},{"$f":"VLOOKUP($B$3,'Data Proposed Rates'!$A:$BC,MATCH($A21,ProposedHeader,0),FALSE)","v":-4.0000000000000002E-4},-0.2,0,0,-6.3700859641986103E-6]
["Sub-Total:  Distribution",null,null,{"$f":"SUM(INDIRECT(\"D13:D\"&ROW()-1))","v":4715.1150000000007},null,null,{"$f":"SUM(INDIRECT(\"g13:g\"&ROW()-1))","v":4925.7350000000006},210.61999999999989,4.4669111994087074E-2,0.15688677693430922]
["Retail Transmission Rate – Network Service Rate",{"$f":"B5","v":500},{"$f":"VLOOKUP($B$3,'Data Current Rates'!$A:$BE,MATCH($A23,CurrentHeader,0),FALSE)","v":2.6172},{"$f":"B23*C23","v":1308.5999999999999},500,{"$f":"VLOOKUP($B$3,'Data Proposed Rates'!$A:$BC,MATCH($A23,ProposedHeader,0),FALSE)","v":2.6172},{"$f":"E23*F23","v":1308.5999999999999},0,0,4.1679472463751505E-2]
["Retail Transmission Rate – Line and Transformation Connection Service Rate",{"$f":"B5","v":500},{"$f":"VLOOKUP($B$3,'Data Current Rates'!$A:$BE,MATCH($A24,CurrentHeader,0),FALSE)","v":2.1608000000000001},{"$f":"B24*C24","v":1080.4000000000001},500,{"$f":"VLOOKUP($B$3,'Data Proposed Rates'!$A:$BC,MATCH($A24,ProposedHeader,0),FALSE)","v":2.1608000000000001},{"$f":"E24*F24","v":1080.4000000000001},0,0,3.4411204378600894E-2]
["Sub-Total:  Retail Transmission ",null,null,{"$f":"SUM(D23:D24)","v":2389},null,null,{"$f":"SUM(G23:G24)","v":2389},0,0,7.6090676842352406E-2]
["Sub-Total:  Delivery ",null,null,{"$f":"D22+D25","v":7104.1150000000007},null,null,{"$f":"G22+G25","v":7314.7350000000006},210.61999999999989,2.9647605648275663E-2,0.23297745377666162]
["Wholesale Market Service Rate (WMS) - not including CBR",{"$f":"$B$8","v":183750},{"$f":"VLOOKUP($A27,'Data Pass Through'!$A:$D,2,FALSE)","v":3.0000000000000001E-3},{"$f":"B27*C27","v":551.25},{"$f":"$B$8","v":183750},{"$f":"VLOOKUP($A27,'Data Pass Through'!$A:$D,3,FALSE)","v":3.0000000000000001E-3},{"$f":"E27*F27","v":551.25},0,0,1.7557549438822418E-2]
["Capacity Based Recovery (CBR) - Applicable for Class B Customers",{"$f":"$B$8","v":183750},{"$f":"VLOOKUP($A28,'Data Pass Through'!$A:$D,2,FALSE)","v":4.0000000000000002E-4},{"$f":"B28*C28","v":73.5},{"$f":"$B$8","v":183750},{"$f":"VLOOKUP($A28,'Data Pass Through'!$A:$D,3,FALSE)","v":4.0000000000000002E-4},{"$f":"E28*F28","v":73.5},{"$f":"G28-D28","v":0},0,2.3410065918429892E-3]
["Rural Rate Protection Charge",{"$f":"$B$8","v":183750},{"$f":"VLOOKUP($A29,'Data Pass Through'!$A:$D,2,FALSE)","v":5.0000000000000001E-4},{"$f":"B29*C29","v":91.875},{"$f":"$B$8","v":183750},{"$f":"VLOOKUP($A29,'Data Pass Through'!$A:$D,3,FALSE)","v":5.0000000000000001E-4},{"$f":"E29*F29","v":91.875},{"$f":"G29-D29","v":0},0,2.9262582398037365E-3]
["Standard Supply Service – Administration Charge (if applicable)",1,{"$f":"VLOOKUP($A30,'Data Pass Through'!$A:$D,2,FALSE)","v":0.25},{"$f":"B30*C30","v":0.25},1,{"$f":"VLOOKUP($A30,'Data Pass Through'!$A:$D,3,FALSE)","v":0.25},{"$f":"E30*F30","v":0.25},0,0,7.9626074552482622E-6]
["Sub-Total:  Regulatory",null,null,{"$f":"SUM(D27:D30)","v":716.875},null,null,{"$f":"SUM(G27:G30)","v":716.875},0,0,2.2832776877924392E-2]
["Debt Retirement Charge (DRC)",{"$f":"B4","v":175000},{"$f":"VLOOKUP($A32,'Data Pass Through'!$A:$D,2,FALSE)","v":0},{"$f":"B32*C32","v":0},{"$f":"B4","v":175000},{"$f":"VLOOKUP($A32,'Data Pass Through'!$A:$D,3,FALSE)","v":0},{"$f":"E32*F32","v":0},0,"N/A",0]
["Total Electricity Charge (before HST)",null,null,{"$f":"SUM(D12,D22,D25,D31,D32)","v":27574.115000000002},null,null,{"$f":"SUM(G12,G22,G25,G31,G32)","v":27784.735000000001},210.61999999999898,7.6383231157191797E-3,0.88495575221238942]
["     HST",null,0.13,{"$f":"D33*C34","v":3584.6349500000001},null,{"$f":"C34","v":0.13},{"$f":"G33*F34","v":3612.0155500000001},27.380599999999959,7.6383231157192049E-3,0.11504424778761062]
["Total Electricity Charge (including HST)",null,null,{"$f":"SUM(D33:D34)","v":31158.749950000001},null,null,{"$f":"SUM(G33:G34)","v":31396.750550000001},238.00059999999939,7.6383231157191971E-3,1]
["Ontario Electricity Rebate (OER)",null,0,{"$f":"D33*C36","v":0},null,{"$f":"C36","v":0},{"$f":"G33*F36","v":0},0,"N/A",0]
["Total Amount",null,null,{"$f":"SUM(D35:D36)","v":31158.749950000001},null,null,{"$f":"SUM(G35:G36)","v":31396.750550000001},238.00059999999939,7.6383231157191971E-3,1]

{"sheet":"BI_StLgt_Low","index":48,"n_rows":41,"n_cols":10,"rows_kept":41,"cut":false,"hidden":false,"merged":[[0,0,0,9]]}
["2021 Bill Impacts (Low Consumption Level) - St Lgt"]
[]
["Rate Class",{"$f":"RIGHT(A1,LEN(A1)-FIND(\"- \",A1,1)-1)","v":"St Lgt"}]
["Monthly Consumption (kWh)",{"$f":"IF(COUNTIF(A1,\"*Low*\")>0,VLOOKUP(B3,'Data Billing Quantities'!$A:$Z,MATCH(\"Low kWh\",'Data Billing Quantities'!4:4,0),FALSE),IF(COUNTIF(A1,\"*Typical*\")>0,VLOOKUP(B3,'Data Billing Quantities'!$A:$Z,MATCH(\"Typical kWh\",'Data Billing Quantities'!4:4,0),FALSE),IF(COUNTIF(A1,\"*Average*\")>0,VLOOKUP(B3,'Data Billing Quantities'!$A:$Z,MATCH(\"Average kWh\",'Data Billing Quantities'!4:4,0),FALSE),IF(COUNTIF(A1,\"*High*\")>0,VLOOKUP(B3,'Data Billing Quantities'!$A:$Z,MATCH(\"High kWh\",'Data Billing Quantities'!4:4,0),FALSE),\"error\"))))","v":100}]
["Peak (kW)",{"$f":"IF(COUNTIF(A1,\"*Low*\")>0,VLOOKUP(B3,'Data Billing Quantities'!$A:$Z,MATCH(\"Low kW\",'Data Billing Quantities'!4:4,0),FALSE),IF(COUNTIF(A1,\"*Typical*\")>0,VLOOKUP(B3,'Data Billing Quantities'!$A:$Z,MATCH(\"Typical kW\",'Data Billing Quantities'!4:4,0),FALSE),IF(COUNTIF(A1,\"*Average*\")>0,VLOOKUP(B3,'Data Billing Quantities'!$A:$Z,MATCH(\"Average kW\",'Data Billing Quantities'!4:4,0),FALSE),IF(COUNTIF(A1,\"*High*\")>0,VLOOKUP(B3,'Data Billing Quantities'!$A:$Z,MATCH(\"High kW\",'Data Billing Quantities'!4:4,0),FALSE),\"error\"))))","v":0}]
["Loss factor",{"$f":"VLOOKUP(B3,'Data Billing Quantities'!A:D,MATCH(A6,'Data Billing Quantities'!4:4,0),FALSE)","v":1.0920000000000001}]
["Commodity Threshold",{"$f":"VLOOKUP(B3,'Data Billing Quantities'!A:D,MATCH(A7,'Data Billing Quantities'!4:4,0),FALSE)","v":750}]
["Monthly Consumption (kWh) - Uplifted",{"$f":"B4*B6","v":109.2}]
["Charge determinant",{"$f":"VLOOKUP(B3,'Data Billing Quantities'!A:D,MATCH(A9,'Data Billing Quantities'!4:4,0),FALSE)","v":"kWh"}]
[]
[null,"Volume","Current Rate ($)","Current Charge ($)","Volume","Proposed Rate ($)","Proposed Charge ($)","Change ($)","Change (%)","% of Total Bill on RPP"]
["Energy First Tier",{"$f":"IF(B4>B7,B7,B4)","v":100},{"$f":"VLOOKUP($A12,'Data Pass Through'!$A:$D,2,FALSE)","v":0.10100000000000001},{"$f":"B12*C12","v":10.100000000000001},{"$f":"B12","v":100},{"$f":"VLOOKUP($A12,'Data Pass Through'!$A:$D,3,FALSE)","v":0.10100000000000001},{"$f":"E12*F12","v":10.100000000000001},{"$f":"G12-D12","v":0},{"$f":"IF(ISERROR(H12/ABS(D12)),\"N/A\",(H12/ABS(D12)))","v":0},{"$f":"G12/$G$41","v":0.40661643296656919}]
["Energy Second Tier",{"$f":"IF(B4>B7,(B4)-B7,0)","v":0},{"$f":"VLOOKUP($A13,'Data Pass Through'!$A:$D,2,FALSE)","v":0.11799999999999999},{"$f":"B13*C13","v":0},{"$f":"B13","v":0},{"$f":"VLOOKUP($A13,'Data Pass Through'!$A:$D,3,FALSE)","v":0.11799999999999999},{"$f":"E13*F13","v":0},0,"N/A",0]
["Sub-Total:  Energy (RPP Tiered)",null,null,{"$f":"SUM(D12:D13)","v":10.100000000000001},null,null,{"$f":"SUM(G12:G13)","v":10.100000000000001},0,0,0.40661643296656919]
["Service Charge",1,{"$f":"VLOOKUP($B$3,'Data Current Rates'!$A:$BE,MATCH(BI_StLgt_Low!$A15,CurrentHeader,0),FALSE)","v":3.5},{"$f":"B15*C15","v":3.5},1,{"$f":"VLOOKUP($B$3,'Data Proposed Rates'!$A:$BC,MATCH(BI_StLgt_Low!$A15,ProposedHeader,0),FALSE)","v":3.5},{"$f":"E15*F15","v":3.5},0,0,0.14090668469138534]
["Base Rate Adjustment to Recover Past Tax Amounts FIXED",null,null,null,1,{"$f":"VLOOKUP($B$3,'Data Proposed Rates'!$A:$BC,MATCH(BI_StLgt_Low!$A16,ProposedHeader,0),FALSE)","v":0.11},0.11,0.11,"N/A",4.4284958045863968E-3]
["Fixed Deferral/Variance Account Rider (General)",1,{"$f":"VLOOKUP($B$3,'Data Current Rates'!$A:$BE,MATCH(BI_StLgt_Low!$A17,CurrentHeader,0),FALSE)","v":0},{"$f":"B17*C17","v":0},1,{"$f":"VLOOKUP($B$3,'Data Proposed Rates'!$A:$BC,MATCH(BI_StLgt_Low!$A17,ProposedHeader,0),FALSE)","v":0},0,0,"N/A",0]
["Fixed ESM Rider",1,{"$f":"VLOOKUP($B$3,'Data Current Rates'!$A:$BE,MATCH(BI_StLgt_Low!$A18,CurrentHeader,0),FALSE)","v":-0.05},-0.05,1,{"$f":"VLOOKUP($B$3,'Data Proposed Rates'!$A:$BC,MATCH(BI_StLgt_Low!$A18,ProposedHeader,0),FALSE)","v":-0.05},-0.05,0,0,-2.012952638448362E-3]
["Distribution Volumetric Charge",{"$f":"IF($B$9=\"kWh\",$B$4,$B$5)","v":100},{"$f":"VLOOKUP($B$3,'Data Current Rates'!$A:$BE,MATCH(BI_StLgt_Low!$A19,CurrentHeader,0),FALSE)","v":0.1071},10.71,{"$f":"IF($B$9=\"kWh\",$B$4,$B$5)","v":100},{"$f":"VLOOKUP($B$3,'Data Proposed Rates'!$A:$BC,MATCH(BI_StLgt_Low!$A19,ProposedHeader,0),FALSE)","v":0.1071},10.71,0,0,0.43117445515563918]
["Base Rate Adjustment to Recover Past Tax Amounts VOL",null,null,null,{"$f":"IF($B$9=\"kWh\",$B$4,$B$5)","v":100},{"$f":"VLOOKUP($B$3,'Data Proposed Rates'!$A:$BC,MATCH(BI_StLgt_Low!$A20,ProposedHeader,0),FALSE)","v":3.3999999999999998E-3},0.33999999999999997,0.33999999999999997,"N/A",1.3688077941448861E-2]
["Volumetric Deferral/Variance Account Rider (General)",{"$f":"IF($B$9=\"kWh\",$B$4,$B$5)","v":100},{"$f":"VLOOKUP($B$3,'Data Current Rates'!$A:$BE,MATCH(BI_StLgt_Low!$A21,CurrentHeader,0),FALSE)","v":-8.9999999999999998E-4},-0.09,100,{"$f":"VLOOKUP($B$3,'Data Proposed Rates'!$A:$BC,MATCH(BI_StLgt_Low!$A21,ProposedHeader,0),FALSE)","v":-8.9999999999999998E-4},-0.09,0,0,-3.6233147492070517E-3]
["Volumetric ESM Rider",100,{"$f":"VLOOKUP($B$3,'Data Current Rates'!$A:$BE,MATCH(BI_StLgt_Low!$A22,CurrentHeader,0),FALSE)","v":-1.5E-3},-0.15,100,{"$f":"VLOOKUP($B$3,'Data Proposed Rates'!$A:$BC,MATCH(BI_StLgt_Low!$A22,ProposedHeader,0),FALSE)","v":-1.5E-3},-0.15,0,0,-6.0388579153450861E-3]
["Sub-Total:  Distribution (excluding pass through)",null,null,{"$f":"SUM(INDIRECT(\"D15:D\"&ROW()-1))","v":13.92},null,null,{"$f":"SUM(INDIRECT(\"g15:g\"&ROW()-1))","v":14.370000000000001},{"$f":"G23-D23","v":0.45000000000000107},3.232758620689663E-2,0.57852258829005931]
[]
["Line Losses on Cost of Power (based on two-tier RPP prices)",{"$f":"B8-B4","v":9.2000000000000028},{"$f":"IF(B4>B7,C13,C12)","v":0.10100000000000001},{"$f":"B25*C25","v":0.92920000000000036},9.2000000000000028,{"$f":"IF(B4>B7,F13,F12)","v":0.10100000000000001},{"$f":"E25*F25","v":0.92920000000000036},0,0,{"$f":"G25/$G$41","v":3.7408711832924373E-2}]
["Sub-Total:  Distribution (based on two-tier RPP prices)",null,null,{"$f":"SUM(D23,D24:D25)","v":14.8492},null,null,{"$f":"SUM(G23,G24:G25)","v":15.299200000000001},0.45000000000000107,3.0304662877461485E-2,0.61593130012298369]
["Retail Transmission Rate – Network Service Rate",{"$f":"B8","v":109.2},{"$f":"VLOOKUP($B$3,'Data Current Rates'!$A:$BE,MATCH(BI_StLgt_Low!$A27,CurrentHeader,0),FALSE)","v":5.4000000000000003E-3},{"$f":"B27*C27","v":0.58968000000000009},109.2,{"$f":"VLOOKUP($B$3,'Data Proposed Rates'!$A:$BC,MATCH(BI_StLgt_Low!$A27,ProposedHeader,0),FALSE)","v":5.4000000000000003E-3},{"$f":"E27*F27","v":0.58968000000000009},{"$f":"G27-D27","v":0},0,2.3739958236804606E-2]
["Retail Transmission Rate – Line and Transformation Connection Service Rate",{"$f":"B8","v":109.2},{"$f":"VLOOKUP($B$3,'Data Current Rates'!$A:$BE,MATCH(BI_StLgt_Low!$A28,CurrentHeader,0),FALSE)","v":3.5999999999999999E-3},{"$f":"B28*C28","v":0.39312000000000002},109.2,{"$f":"VLOOKUP($B$3,'Data Proposed Rates'!$A:$BC,MATCH(BI_StLgt_Low!$A28,ProposedHeader,0),FALSE)","v":3.5999999999999999E-3},{"$f":"E28*F28","v":0.39312000000000002},{"$f":"G28-D28","v":0},0,1.5826638824536401E-2]
["Sub-Total:  Retail Transmission ",null,null,{"$f":"SUM(D27:D28)","v":0.98280000000000012},null,null,{"$f":"SUM(G27:G28)","v":0.98280000000000012},{"$f":"G29-D29","v":0},0,3.9566597061341011E-2]
["Sub-Total:  Delivery (based on two-tier RPP prices)",null,null,{"$f":"D26+D29","v":15.832000000000001},null,null,{"$f":"G26+G29","v":16.282},{"$f":"G30-D30","v":0.44999999999999929},2.8423446184941845E-2,0.65549789718432461]
["Wholesale Market Service Rate (WMS) - not including CBR",{"$f":"B8","v":109.2},{"$f":"VLOOKUP($A31,'Data Pass Through'!$A:$D,2,FALSE)","v":3.0000000000000001E-3},{"$f":"B31*C31","v":0.3276},{"$f":"$B$8","v":109.2},{"$f":"VLOOKUP($A31,'Data Pass Through'!$A:$D,3,FALSE)","v":3.0000000000000001E-3},{"$f":"E31*F31","v":0.3276},{"$f":"G31-D31","v":0},0,1.3188865687113669E-2]
["Capacity Based Recovery (CBR) - Applicable for Class B Customers",{"$f":"B8","v":109.2},{"$f":"VLOOKUP($A32,'Data Pass Through'!$A:$D,2,FALSE)","v":4.0000000000000002E-4},{"$f":"B32*C32","v":4.3680000000000004E-2},{"$f":"$B$8","v":109.2},{"$f":"VLOOKUP($A32,'Data Pass Through'!$A:$D,3,FALSE)","v":4.0000000000000002E-4},{"$f":"E32*F32","v":4.3680000000000004E-2},0,0,1.7585154249484891E-3]
["Rural Rate Protection Charge",{"$f":"B8","v":109.2},{"$f":"VLOOKUP($A33,'Data Pass Through'!$A:$D,2,FALSE)","v":5.0000000000000001E-4},5.4600000000000003E-2,109.2,{"$f":"VLOOKUP($A33,'Data Pass Through'!$A:$D,3,FALSE)","v":5.0000000000000001E-4},5.4600000000000003E-2,0,0,2.1981442811856117E-3]
["Standard Supply Service – Administration Charge (if applicable)",1,{"$f":"VLOOKUP($A34,'Data Pass Through'!$A:$D,2,FALSE)","v":0.25},{"$f":"B34*C34","v":0.25},1,{"$f":"VLOOKUP($A34,'Data Pass Through'!$A:$D,3,FALSE)","v":0.25},0.25,0,0,1.006476319224181E-2]
["Sub-Total:  Regulatory",null,null,{"$f":"SUM(D31:D34)","v":0.67588000000000004},null,null,{"$f":"SUM(G31:G34)","v":0.67588000000000004},0,0,2.721028858548958E-2]
["Debt Retirement Charge (DRC)",{"$f":"B4","v":100},{"$f":"VLOOKUP($A36,'Data Pass Through'!$A:$D,2,FALSE)","v":0},{"$f":"B36*C36","v":0},100,{"$f":"VLOOKUP($A36,'Data Pass Through'!$A:$D,3,FALSE)","v":0},{"$f":"E36*F36","v":0},0,"N/A",0]
["Total  Electricty Charge on Two-Tier RPP ",null,null,{"$f":"SUM(D14,D23,D24,D25,D29,D35,D36)","v":26.607880000000005},null,null,{"$f":"SUM(G14,G23,G24,G25,G29,G35,G36)","v":27.057880000000004},0.44999999999999929,1.6912283128155989E-2,1.0893246187363834]
["     HST",null,0.13,{"$f":"D37*C38","v":3.459024400000001},null,{"$f":"C38","v":0.13},{"$f":"G37*F38","v":3.5175244000000006},5.8499999999999552E-2,1.6912283128155885E-2,0.14161220043572986]
["Total Electricity Charge on Two-Tier RPP (including HST)",null,null,{"$f":"SUM(D37:D38)","v":30.066904400000006},null,null,{"$f":"SUM(G37:G38)","v":30.575404400000004},0.50849999999999795,1.6912283128155948E-2,1.2309368191721133]
["Ontario Electricity Rebate (OER)",null,{"$f":"'Data Pass Through'!B20","v":-0.21199999999999999},{"$f":"D37*C40","v":-5.6408705600000006},null,{"$f":"'Data Pass Through'!C20","v":-0.21199999999999999},{"$f":"G37*F40","v":-5.7362705600000004},-9.5399999999999707E-2,-1.6912283128155965E-2,-0.23093681917211328]
["Total Amount on Two-Tier RPP",null,null,{"$f":"SUM(D39:D40)","v":24.426033840000006},null,null,{"$f":"SUM(G39:G40)","v":24.839133840000002},0.41309999999999647,1.6912283128155872E-2,1]

{"sheet":"BI_StLgt_Avg","index":49,"n_rows":41,"n_cols":10,"rows_kept":41,"cut":false,"hidden":false,"merged":[[0,0,0,9]]}
["2021 Bill Impacts (Average Consumption Level) - St Lgt"]
[]
["Rate Class",{"$f":"RIGHT(A1,LEN(A1)-FIND(\"- \",A1,1)-1)","v":"St Lgt"}]
["Monthly Consumption (kWh)",{"$f":"IF(COUNTIF(A1,\"*Low*\")>0,VLOOKUP(B3,'Data Billing Quantities'!$A:$Z,MATCH(\"Low kWh\",'Data Billing Quantities'!4:4,0),FALSE),IF(COUNTIF(A1,\"*Typical*\")>0,VLOOKUP(B3,'Data Billing Quantities'!$A:$Z,MATCH(\"Typical kWh\",'Data Billing Quantities'!4:4,0),FALSE),IF(COUNTIF(A1,\"*Average*\")>0,VLOOKUP(B3,'Data Billing Quantities'!$A:$Z,MATCH(\"Average kWh\",'Data Billing Quantities'!4:4,0),FALSE),IF(COUNTIF(A1,\"*High*\")>0,VLOOKUP(B3,'Data Billing Quantities'!$A:$Z,MATCH(\"High kWh\",'Data Billing Quantities'!4:4,0),FALSE),\"error\"))))","v":517}]
["Peak (kW)",{"$f":"IF(COUNTIF(A1,\"*Low*\")>0,VLOOKUP(B3,'Data Billing Quantities'!$A:$Z,MATCH(\"Low kW\",'Data Billing Quantities'!4:4,0),FALSE),IF(COUNTIF(A1,\"*Typical*\")>0,VLOOKUP(B3,'Data Billing Quantities'!$A:$Z,MATCH(\"Typical kW\",'Data Billing Quantities'!4:4,0),FALSE),IF(COUNTIF(A1,\"*Average*\")>0,VLOOKUP(B3,'Data Billing Quantities'!$A:$Z,MATCH(\"Average kW\",'Data Billing Quantities'!4:4,0),FALSE),IF(COUNTIF(A1,\"*High*\")>0,VLOOKUP(B3,'Data Billing Quantities'!$A:$Z,MATCH(\"High kW\",'Data Billing Quantities'!4:4,0),FALSE),\"error\"))))","v":0}]
["Loss factor",{"$f":"VLOOKUP(B3,'Data Billing Quantities'!A:D,MATCH(A6,'Data Billing Quantities'!4:4,0),FALSE)","v":1.0920000000000001}]
["Commodity Threshold",{"$f":"VLOOKUP(B3,'Data Billing Quantities'!A:D,MATCH(A7,'Data Billing Quantities'!4:4,0),FALSE)","v":750}]
["Monthly Consumption (kWh) - Uplifted",{"$f":"B4*B6","v":564.56400000000008}]
["Charge determinant",{"$f":"VLOOKUP(B3,'Data Billing Quantities'!A:D,MATCH(A9,'Data Billing Quantities'!4:4,0),FALSE)","v":"kWh"}]
[]
[null,"Volume","Current Rate ($)","Current Charge ($)","Volume","Proposed Rate ($)","Proposed Charge ($)","Change ($)","Change (%)","% of Total Bill on RPP"]
["Energy First Tier",{"$f":"IF(B4>B7,B7,B4)","v":517},{"$f":"VLOOKUP($A12,'Data Pass Through'!$A:$D,2,FALSE)","v":0.10100000000000001},{"$f":"B12*C12","v":52.217000000000006},{"$f":"B12","v":517},{"$f":"VLOOKUP($A12,'Data Pass Through'!$A:$D,3,FALSE)","v":0.10100000000000001},{"$f":"E12*F12","v":52.217000000000006},{"$f":"G12-D12","v":0},{"$f":"IF(ISERROR(H12/ABS(D12)),\"N/A\",(H12/ABS(D12)))","v":0},{"$f":"G12/$G$41","v":0.4587141724211119}]
["Energy Second Tier",{"$f":"IF(B4>B7,(B4)-B7,0)","v":0},{"$f":"VLOOKUP($A13,'Data Pass Through'!$A:$D,2,FALSE)","v":0.11799999999999999},{"$f":"B13*C13","v":0},{"$f":"B13","v":0},{"$f":"VLOOKUP($A13,'Data Pass Through'!$A:$D,3,FALSE)","v":0.11799999999999999},{"$f":"E13*F13","v":0},0,"N/A",0]
["Sub-Total:  Energy (RPP Tiered)",null,null,{"$f":"SUM(D12:D13)","v":52.217000000000006},null,null,{"$f":"SUM(G12:G13)","v":52.217000000000006},0,0,0.4587141724211119]
["Service Charge",1,{"$f":"VLOOKUP($B$3,'Data Current Rates'!$A:$BE,MATCH(BI_StLgt_Avg!$A15,CurrentHeader,0),FALSE)","v":3.5},{"$f":"B15*C15","v":3.5},1,{"$f":"VLOOKUP($B$3,'Data Proposed Rates'!$A:$BC,MATCH(BI_StLgt_Avg!$A15,ProposedHeader,0),FALSE)","v":3.5},{"$f":"E15*F15","v":3.5},0,0,3.0746684096633118E-2]
["Base Rate Adjustment to Recover Past Tax Amounts FIXED",null,null,null,1,{"$f":"VLOOKUP($B$3,'Data Proposed Rates'!$A:$BC,MATCH(BI_StLgt_Avg!$A16,ProposedHeader,0),FALSE)","v":0.11},0.11,0.11,"N/A",9.6632435732275511E-4]
["Fixed Deferral/Variance Account Rider (General)",1,{"$f":"VLOOKUP($B$3,'Data Current Rates'!$A:$BE,MATCH(BI_StLgt_Avg!$A17,CurrentHeader,0),FALSE)","v":0},{"$f":"B17*C17","v":0},1,{"$f":"VLOOKUP($B$3,'Data Proposed Rates'!$A:$BC,MATCH(BI_StLgt_Avg!$A17,ProposedHeader,0),FALSE)","v":0},0,0,"N/A",0]
["Fixed ESM Rider",1,{"$f":"VLOOKUP($B$3,'Data Current Rates'!$A:$BE,MATCH(BI_StLgt_Avg!$A18,CurrentHeader,0),FALSE)","v":-0.05},-0.05,1,{"$f":"VLOOKUP($B$3,'Data Proposed Rates'!$A:$BC,MATCH(BI_StLgt_Avg!$A18,ProposedHeader,0),FALSE)","v":-0.05},-0.05,0,0,-4.39238344237616E-4]
["Distribution Volumetric Charge",{"$f":"IF($B$9=\"kWh\",$B$4,$B$5)","v":517},{"$f":"VLOOKUP($B$3,'Data Current Rates'!$A:$BE,MATCH(BI_StLgt_Avg!$A19,CurrentHeader,0),FALSE)","v":0.1071},55.370699999999999,{"$f":"IF($B$9=\"kWh\",$B$4,$B$5)","v":517},{"$f":"VLOOKUP($B$3,'Data Proposed Rates'!$A:$BC,MATCH(BI_StLgt_Avg!$A19,ProposedHeader,0),FALSE)","v":0.1071},55.370699999999999,0,0,0.48641869174555524]
["Base Rate Adjustment to Recover Past Tax Amounts VOL",null,null,null,{"$f":"IF($B$9=\"kWh\",$B$4,$B$5)","v":517},{"$f":"VLOOKUP($B$3,'Data Proposed Rates'!$A:$BC,MATCH(BI_StLgt_Avg!$A20,ProposedHeader,0),FALSE)","v":3.3999999999999998E-3},1.7577999999999998,1.7577999999999998,"N/A",1.5441863230017625E-2]
["Volumetric Deferral/Variance Account Rider (General)",{"$f":"IF($B$9=\"kWh\",$B$4,$B$5)","v":517},{"$f":"VLOOKUP($B$3,'Data Current Rates'!$A:$BE,MATCH(BI_StLgt_Avg!$A21,CurrentHeader,0),FALSE)","v":-8.9999999999999998E-4},-0.46529999999999999,517,{"$f":"VLOOKUP($B$3,'Data Proposed Rates'!$A:$BC,MATCH(BI_StLgt_Avg!$A21,ProposedHeader,0),FALSE)","v":-8.9999999999999998E-4},-0.46529999999999999,0,0,-4.0875520314752542E-3]
["Volumetric ESM Rider",517,{"$f":"VLOOKUP($B$3,'Data Current Rates'!$A:$BE,MATCH(BI_StLgt_Avg!$A22,CurrentHeader,0),FALSE)","v":-1.5E-3},-0.77549999999999997,517,{"$f":"VLOOKUP($B$3,'Data Proposed Rates'!$A:$BC,MATCH(BI_StLgt_Avg!$A22,ProposedHeader,0),FALSE)","v":-1.5E-3},-0.77549999999999997,0,0,-6.8125867191254231E-3]
["Sub-Total:  Distribution (excluding pass through)",null,null,{"$f":"SUM(INDIRECT(\"D15:D\"&ROW()-1))","v":57.579900000000002},null,null,{"$f":"SUM(INDIRECT(\"g15:g\"&ROW()-1))","v":59.447700000000005},{"$f":"G23-D23","v":1.8678000000000026},3.2438402984374802E-2,0.52223418633469054]
[]
["Line Losses on Cost of Power (based on two-tier RPP prices)",{"$f":"B8-B4","v":47.564000000000078},{"$f":"IF(B4>B7,C13,C12)","v":0.10100000000000001},{"$f":"B25*C25","v":4.8039640000000086},47.564000000000078,{"$f":"IF(B4>B7,F13,F12)","v":0.10100000000000001},{"$f":"E25*F25","v":4.8039640000000086},0,0,{"$f":"G25/$G$41","v":4.2201703862742364E-2}]
["Sub-Total:  Distribution (based on two-tier RPP prices)",null,null,{"$f":"SUM(D23,D24:D25)","v":62.38386400000001},null,null,{"$f":"SUM(G23,G24:G25)","v":64.251664000000019},1.8678000000000097,2.9940434596997863E-2,0.5644358901974329]
["Retail Transmission Rate – Network Service Rate",{"$f":"B8","v":564.56400000000008},{"$f":"VLOOKUP($B$3,'Data Current Rates'!$A:$BE,MATCH(BI_StLgt_Avg!$A27,CurrentHeader,0),FALSE)","v":5.4000000000000003E-3},{"$f":"B27*C27","v":3.0486456000000004},564.56400000000008,{"$f":"VLOOKUP($B$3,'Data Proposed Rates'!$A:$BC,MATCH(BI_StLgt_Avg!$A27,ProposedHeader,0),FALSE)","v":5.4000000000000003E-3},{"$f":"E27*F27","v":3.0486456000000004},{"$f":"G27-D27","v":0},0,2.6781640910225869E-2]
["Retail Transmission Rate – Line and Transformation Connection Service Rate",{"$f":"B8","v":564.56400000000008},{"$f":"VLOOKUP($B$3,'Data Current Rates'!$A:$BE,MATCH(BI_StLgt_Avg!$A28,CurrentHeader,0),FALSE)","v":3.5999999999999999E-3},{"$f":"B28*C28","v":2.0324304000000004},564.56400000000008,{"$f":"VLOOKUP($B$3,'Data Proposed Rates'!$A:$BC,MATCH(BI_StLgt_Avg!$A28,ProposedHeader,0),FALSE)","v":3.5999999999999999E-3},{"$f":"E28*F28","v":2.0324304000000004},{"$f":"G28-D28","v":0},0,1.7854427273483915E-2]
["Sub-Total:  Retail Transmission ",null,null,{"$f":"SUM(D27:D28)","v":5.0810760000000013},null,null,{"$f":"SUM(G27:G28)","v":5.0810760000000013},{"$f":"G29-D29","v":0},0,4.4636068183709784E-2]
["Sub-Total:  Delivery (based on two-tier RPP prices)",null,null,{"$f":"D26+D29","v":67.464940000000013},null,null,{"$f":"G26+G29","v":69.332740000000015},{"$f":"G30-D30","v":1.8678000000000026},2.7685491160297514E-2,0.6090719583811427]
["Wholesale Market Service Rate (WMS) - not including CBR",{"$f":"B8","v":564.56400000000008},{"$f":"VLOOKUP($A31,'Data Pass Through'!$A:$D,2,FALSE)","v":3.0000000000000001E-3},{"$f":"B31*C31","v":1.6936920000000002},{"$f":"$B$8","v":564.56400000000008},{"$f":"VLOOKUP($A31,'Data Pass Through'!$A:$D,3,FALSE)","v":3.0000000000000001E-3},{"$f":"E31*F31","v":1.6936920000000002},{"$f":"G31-D31","v":0},0,1.4878689394569928E-2]
["Capacity Based Recovery (CBR) - Applicable for Class B Customers",{"$f":"B8","v":564.56400000000008},{"$f":"VLOOKUP($A32,'Data Pass Through'!$A:$D,2,FALSE)","v":4.0000000000000002E-4},{"$f":"B32*C32","v":0.22582560000000004},{"$f":"$B$8","v":564.56400000000008},{"$f":"VLOOKUP($A32,'Data Pass Through'!$A:$D,3,FALSE)","v":4.0000000000000002E-4},{"$f":"E32*F32","v":0.22582560000000004},0,0,1.9838252526093239E-3]
["Rural Rate Protection Charge",{"$f":"B8","v":564.56400000000008},{"$f":"VLOOKUP($A33,'Data Pass Through'!$A:$D,2,FALSE)","v":5.0000000000000001E-4},0.28228200000000003,564.56400000000008,{"$f":"VLOOKUP($A33,'Data Pass Through'!$A:$D,3,FALSE)","v":5.0000000000000001E-4},0.28228200000000003,0,0,2.4797815657616545E-3]
["Standard Supply Service – Administration Charge (if applicable)",1,{"$f":"VLOOKUP($A34,'Data Pass Through'!$A:$D,2,FALSE)","v":0.25},{"$f":"B34*C34","v":0.25},1,{"$f":"VLOOKUP($A34,'Data Pass Through'!$A:$D,3,FALSE)","v":0.25},0.25,0,0,2.1961917211880799E-3]
["Sub-Total:  Regulatory",null,null,{"$f":"SUM(D31:D34)","v":2.4517996000000002},null,null,{"$f":"SUM(G31:G34)","v":2.4517996000000002},0,0,2.1538487934128984E-2]
["Debt Retirement Charge (DRC)",{"$f":"B4","v":517},{"$f":"VLOOKUP($A36,'Data Pass Through'!$A:$D,2,FALSE)","v":0},{"$f":"B36*C36","v":0},517,{"$f":"VLOOKUP($A36,'Data Pass Through'!$A:$D,3,FALSE)","v":0},{"$f":"E36*F36","v":0},0,"N/A",0]
["Total  Electricty Charge on Two-Tier RPP ",null,null,{"$f":"SUM(D14,D23,D24,D25,D29,D35,D36)","v":122.13373960000001},null,null,{"$f":"SUM(G14,G23,G24,G25,G29,G35,G36)","v":124.00153960000002},1.8678000000000026,1.5293071399575833E-2,1.0893246187363834]
["     HST",null,0.13,{"$f":"D37*C38","v":15.877386148000003},null,{"$f":"C38","v":0.13},{"$f":"G37*F38","v":16.120200148000002},0.2428139999999992,1.529307139957576E-2,0.14161220043572986]
["Total Electricity Charge on Two-Tier RPP (including HST)",null,null,{"$f":"SUM(D37:D38)","v":138.01112574800001},null,null,{"$f":"SUM(G37:G38)","v":140.12173974800001},2.1106139999999982,1.52930713995758E-2,1.2309368191721133]
["Ontario Electricity Rebate (OER)",null,{"$f":"'Data Pass Through'!B20","v":-0.21199999999999999},{"$f":"D37*C40","v":-25.892352795200001},null,{"$f":"'Data Pass Through'!C20","v":-0.21199999999999999},{"$f":"G37*F40","v":-26.288326395200002},-0.39597360000000137,-1.5293071399575866E-2,-0.23093681917211328]
["Total Amount on Two-Tier RPP",null,null,{"$f":"SUM(D39:D40)","v":112.11877295280001},null,null,{"$f":"SUM(G39:G40)","v":113.83341335280001},1.7146403999999933,1.5293071399575753E-2,1]

{"sheet":"BI_StLgt_High","index":50,"n_rows":41,"n_cols":10,"rows_kept":41,"cut":false,"hidden":false,"merged":[[0,0,0,9]]}
["2021 Bill Impacts (High Consumption Level) - St Lgt"]
[]
["Rate Class",{"$f":"RIGHT(A1,LEN(A1)-FIND(\"- \",A1,1)-1)","v":"St Lgt"}]
["Monthly Consumption (kWh)",{"$f":"IF(COUNTIF(A1,\"*Low*\")>0,VLOOKUP(B3,'Data Billing Quantities'!$A:$Z,MATCH(\"Low kWh\",'Data Billing Quantities'!4:4,0),FALSE),IF(COUNTIF(A1,\"*Typical*\")>0,VLOOKUP(B3,'Data Billing Quantities'!$A:$Z,MATCH(\"Typical kWh\",'Data Billing Quantities'!4:4,0),FALSE),IF(COUNTIF(A1,\"*Average*\")>0,VLOOKUP(B3,'Data Billing Quantities'!$A:$Z,MATCH(\"Average kWh\",'Data Billing Quantities'!4:4,0),FALSE),IF(COUNTIF(A1,\"*High*\")>0,VLOOKUP(B3,'Data Billing Quantities'!$A:$Z,MATCH(\"High kWh\",'Data Billing Quantities'!4:4,0),FALSE),\"error\"))))","v":2000}]
["Peak (kW)",{"$f":"IF(COUNTIF(A1,\"*Low*\")>0,VLOOKUP(B3,'Data Billing Quantities'!$A:$Z,MATCH(\"Low kW\",'Data Billing Quantities'!4:4,0),FALSE),IF(COUNTIF(A1,\"*Typical*\")>0,VLOOKUP(B3,'Data Billing Quantities'!$A:$Z,MATCH(\"Typical kW\",'Data Billing Quantities'!4:4,0),FALSE),IF(COUNTIF(A1,\"*Average*\")>0,VLOOKUP(B3,'Data Billing Quantities'!$A:$Z,MATCH(\"Average kW\",'Data Billing Quantities'!4:4,0),FALSE),IF(COUNTIF(A1,\"*High*\")>0,VLOOKUP(B3,'Data Billing Quantities'!$A:$Z,MATCH(\"High kW\",'Data Billing Quantities'!4:4,0),FALSE),\"error\"))))","v":0}]
["Loss factor",{"$f":"VLOOKUP(B3,'Data Billing Quantities'!A:D,MATCH(A6,'Data Billing Quantities'!4:4,0),FALSE)","v":1.0920000000000001}]
["Commodity Threshold",{"$f":"VLOOKUP(B3,'Data Billing Quantities'!A:D,MATCH(A7,'Data Billing Quantities'!4:4,0),FALSE)","v":750}]
["Monthly Consumption (kWh) - Uplifted",{"$f":"B4*B6","v":2184}]
["Charge determinant",{"$f":"VLOOKUP(B3,'Data Billing Quantities'!A:D,MATCH(A9,'Data Billing Quantities'!4:4,0),FALSE)","v":"kWh"}]
[]
[null,"Volume","Current Rate ($)","Current Charge ($)","Volume","Proposed Rate ($)","Proposed Charge ($)","Change ($)","Change (%)","% of Total Bill on RPP"]
["Energy First Tier",{"$f":"IF(B4>B7,B7,B4)","v":750},{"$f":"VLOOKUP($A12,'Data Pass Through'!$A:$D,2,FALSE)","v":0.10100000000000001},{"$f":"B12*C12","v":75.75},{"$f":"B12","v":750},{"$f":"VLOOKUP($A12,'Data Pass Through'!$A:$D,3,FALSE)","v":0.10100000000000001},{"$f":"E12*F12","v":75.75},{"$f":"G12-D12","v":0},{"$f":"IF(ISERROR(H12/ABS(D12)),\"N/A\",(H12/ABS(D12)))","v":0},{"$f":"G12/$G$41","v":0.16732652561288397}]
["Energy Second Tier",{"$f":"IF(B4>B7,(B4)-B7,0)","v":1250},{"$f":"VLOOKUP($A13,'Data Pass Through'!$A:$D,2,FALSE)","v":0.11799999999999999},{"$f":"B13*C13","v":147.5},{"$f":"B13","v":1250},{"$f":"VLOOKUP($A13,'Data Pass Through'!$A:$D,3,FALSE)","v":0.11799999999999999},{"$f":"E13*F13","v":147.5},0,0,0.3258173271009952]
["Sub-Total:  Energy (RPP Tiered)",null,null,{"$f":"SUM(D12:D13)","v":223.25},null,null,{"$f":"SUM(G12:G13)","v":223.25},0,0,0.49314385271387917]
["Service Charge",1,{"$f":"VLOOKUP($B$3,'Data Current Rates'!$A:$BE,MATCH(BI_StLgt_High!$A15,CurrentHeader,0),FALSE)","v":3.5},{"$f":"B15*C15","v":3.5},1,{"$f":"VLOOKUP($B$3,'Data Proposed Rates'!$A:$BC,MATCH(BI_StLgt_High!$A15,ProposedHeader,0),FALSE)","v":3.5},{"$f":"E15*F15","v":3.5},0,0,7.7312586091761578E-3]
["Base Rate Adjustment to Recover Past Tax Amounts FIXED",null,null,null,1,{"$f":"VLOOKUP($B$3,'Data Proposed Rates'!$A:$BC,MATCH(BI_StLgt_High!$A16,ProposedHeader,0),FALSE)","v":0.11},0.11,0.11,"N/A",2.4298241343125067E-4]
["Fixed Deferral/Variance Account Rider (General)",1,{"$f":"VLOOKUP($B$3,'Data Current Rates'!$A:$BE,MATCH(BI_StLgt_High!$A17,CurrentHeader,0),FALSE)","v":0},{"$f":"B17*C17","v":0},1,{"$f":"VLOOKUP($B$3,'Data Proposed Rates'!$A:$BC,MATCH(BI_StLgt_High!$A17,ProposedHeader,0),FALSE)","v":0},0,0,"N/A",0]
["Fixed ESM Rider",1,{"$f":"VLOOKUP($B$3,'Data Current Rates'!$A:$BE,MATCH(BI_StLgt_High!$A18,CurrentHeader,0),FALSE)","v":-0.05},-0.05,1,{"$f":"VLOOKUP($B$3,'Data Proposed Rates'!$A:$BC,MATCH(BI_StLgt_High!$A18,ProposedHeader,0),FALSE)","v":-0.05},-0.05,0,0,-1.104465515596594E-4]
["Distribution Volumetric Charge",{"$f":"IF($B$9=\"kWh\",$B$4,$B$5)","v":2000},{"$f":"VLOOKUP($B$3,'Data Current Rates'!$A:$BE,MATCH(BI_StLgt_High!$A19,CurrentHeader,0),FALSE)","v":0.1071},214.2,{"$f":"IF($B$9=\"kWh\",$B$4,$B$5)","v":2000},{"$f":"VLOOKUP($B$3,'Data Proposed Rates'!$A:$BC,MATCH(BI_StLgt_High!$A19,ProposedHeader,0),FALSE)","v":0.1071},214.2,0,0,0.47315302688158084]
["Base Rate Adjustment to Recover Past Tax Amounts VOL",null,null,null,{"$f":"IF($B$9=\"kWh\",$B$4,$B$5)","v":2000},{"$f":"VLOOKUP($B$3,'Data Proposed Rates'!$A:$BC,MATCH(BI_StLgt_High!$A20,ProposedHeader,0),FALSE)","v":3.3999999999999998E-3},6.8,6.8,"N/A",1.5020731012113677E-2]
["Volumetric Deferral/Variance Account Rider (General)",{"$f":"IF($B$9=\"kWh\",$B$4,$B$5)","v":2000},{"$f":"VLOOKUP($B$3,'Data Current Rates'!$A:$BE,MATCH(BI_StLgt_High!$A21,CurrentHeader,0),FALSE)","v":-8.9999999999999998E-4},-1.8,2000,{"$f":"VLOOKUP($B$3,'Data Proposed Rates'!$A:$BC,MATCH(BI_StLgt_High!$A21,ProposedHeader,0),FALSE)","v":-8.9999999999999998E-4},-1.8,0,0,-3.9760758561477386E-3]
["Volumetric ESM Rider",2000,{"$f":"VLOOKUP($B$3,'Data Current Rates'!$A:$BE,MATCH(BI_StLgt_High!$A22,CurrentHeader,0),FALSE)","v":-1.5E-3},-3,2000,{"$f":"VLOOKUP($B$3,'Data Proposed Rates'!$A:$BC,MATCH(BI_StLgt_High!$A22,ProposedHeader,0),FALSE)","v":-1.5E-3},-3,0,0,-6.626793093579564E-3]
["Sub-Total:  Distribution (excluding pass through)",null,null,{"$f":"SUM(INDIRECT(\"D15:D\"&ROW()-1))","v":212.84999999999997},null,null,{"$f":"SUM(INDIRECT(\"g15:g\"&ROW()-1))","v":219.76},{"$f":"G23-D23","v":6.910000000000025},3.2464176650223282E-2,0.48543468341501494]
[]
["Line Losses on Cost of Power (based on two-tier RPP prices)",{"$f":"B8-B4","v":184},{"$f":"IF(B4>B7,C13,C12)","v":0.11799999999999999},{"$f":"B25*C25","v":21.712},184,{"$f":"IF(B4>B7,F13,F12)","v":0.11799999999999999},{"$f":"E25*F25","v":21.712},0,0,{"$f":"G25/$G$41","v":4.7960310549266492E-2}]
["Sub-Total:  Distribution (based on two-tier RPP prices)",null,null,{"$f":"SUM(D23,D24:D25)","v":234.56199999999995},null,null,{"$f":"SUM(G23,G24:G25)","v":241.47199999999998},6.910000000000025,2.945916218313293E-2,0.53339499396428136]
["Retail Transmission Rate – Network Service Rate",{"$f":"B8","v":2184},{"$f":"VLOOKUP($B$3,'Data Current Rates'!$A:$BE,MATCH(BI_StLgt_High!$A27,CurrentHeader,0),FALSE)","v":5.4000000000000003E-3},{"$f":"B27*C27","v":11.793600000000001},2184,{"$f":"VLOOKUP($B$3,'Data Proposed Rates'!$A:$BC,MATCH(BI_StLgt_High!$A27,ProposedHeader,0),FALSE)","v":5.4000000000000003E-3},{"$f":"E27*F27","v":11.793600000000001},{"$f":"G27-D27","v":0},0,2.6051249009479985E-2]
["Retail Transmission Rate – Line and Transformation Connection Service Rate",{"$f":"B8","v":2184},{"$f":"VLOOKUP($B$3,'Data Current Rates'!$A:$BE,MATCH(BI_StLgt_High!$A28,CurrentHeader,0),FALSE)","v":3.5999999999999999E-3},{"$f":"B28*C28","v":7.8624000000000001},2184,{"$f":"VLOOKUP($B$3,'Data Proposed Rates'!$A:$BC,MATCH(BI_StLgt_High!$A28,ProposedHeader,0),FALSE)","v":3.5999999999999999E-3},{"$f":"E28*F28","v":7.8624000000000001},{"$f":"G28-D28","v":0},0,1.7367499339653321E-2]
["Sub-Total:  Retail Transmission ",null,null,{"$f":"SUM(D27:D28)","v":19.656000000000002},null,null,{"$f":"SUM(G27:G28)","v":19.656000000000002},{"$f":"G29-D29","v":0},0,4.3418748349133306E-2]
["Sub-Total:  Delivery (based on two-tier RPP prices)",null,null,{"$f":"D26+D29","v":254.21799999999996},null,null,{"$f":"G26+G29","v":261.12799999999999},{"$f":"G30-D30","v":6.910000000000025},2.7181395495205006E-2,0.57681374231341476]
["Wholesale Market Service Rate (WMS) - not including CBR",{"$f":"B8","v":2184},{"$f":"VLOOKUP($A31,'Data Pass Through'!$A:$D,2,FALSE)","v":3.0000000000000001E-3},{"$f":"B31*C31","v":6.5520000000000005},{"$f":"$B$8","v":2184},{"$f":"VLOOKUP($A31,'Data Pass Through'!$A:$D,3,FALSE)","v":3.0000000000000001E-3},{"$f":"E31*F31","v":6.5520000000000005},{"$f":"G31-D31","v":0},0,1.4472916116377767E-2]
["Capacity Based Recovery (CBR) - Applicable for Class B Customers",{"$f":"B8","v":2184},{"$f":"VLOOKUP($A32,'Data Pass Through'!$A:$D,2,FALSE)","v":4.0000000000000002E-4},{"$f":"B32*C32","v":0.87360000000000004},{"$f":"$B$8","v":2184},{"$f":"VLOOKUP($A32,'Data Pass Through'!$A:$D,3,FALSE)","v":4.0000000000000002E-4},{"$f":"E32*F32","v":0.87360000000000004},0,0,1.9297221488503689E-3]
["Rural Rate Protection Charge",{"$f":"B8","v":2184},{"$f":"VLOOKUP($A33,'Data Pass Through'!$A:$D,2,FALSE)","v":5.0000000000000001E-4},1.0920000000000001,2184,{"$f":"VLOOKUP($A33,'Data Pass Through'!$A:$D,3,FALSE)","v":5.0000000000000001E-4},1.0920000000000001,0,0,2.4121526860629615E-3]
["Standard Supply Service – Administration Charge (if applicable)",1,{"$f":"VLOOKUP($A34,'Data Pass Through'!$A:$D,2,FALSE)","v":0.25},{"$f":"B34*C34","v":0.25},1,{"$f":"VLOOKUP($A34,'Data Pass Through'!$A:$D,3,FALSE)","v":0.25},0.25,0,0,5.5223275779829693E-4]
["Sub-Total:  Regulatory",null,null,{"$f":"SUM(D31:D34)","v":8.7675999999999998},null,null,{"$f":"SUM(G31:G34)","v":8.7675999999999998},0,0,1.9367023709089392E-2]
["Debt Retirement Charge (DRC)",{"$f":"B4","v":2000},{"$f":"VLOOKUP($A36,'Data Pass Through'!$A:$D,2,FALSE)","v":0},{"$f":"B36*C36","v":0},2000,{"$f":"VLOOKUP($A36,'Data Pass Through'!$A:$D,3,FALSE)","v":0},{"$f":"E36*F36","v":0},0,"N/A",0]
["Total  Electricty Charge on Two-Tier RPP ",null,null,{"$f":"SUM(D14,D23,D24,D25,D29,D35,D36)","v":486.23559999999998},null,null,{"$f":"SUM(G14,G23,G24,G25,G29,G35,G36)","v":493.1456},6.910000000000025,1.4211217771796276E-2,1.0893246187363834]
["     HST",null,0.13,{"$f":"D37*C38","v":63.210628},null,{"$f":"C38","v":0.13},{"$f":"G37*F38","v":64.108928000000006},0.89830000000000609,1.421121777179632E-2,0.14161220043572983]
["Total Electricity Charge on Two-Tier RPP (including HST)",null,null,{"$f":"SUM(D37:D38)","v":549.44622800000002},null,null,{"$f":"SUM(G37:G38)","v":557.25452800000005},7.8083000000000311,1.421121777179628E-2,1.2309368191721133]
["Ontario Electricity Rebate (OER)",null,{"$f":"'Data Pass Through'!B20","v":-0.21199999999999999},{"$f":"D37*C40","v":-103.08194719999999},null,{"$f":"'Data Pass Through'!C20","v":-0.21199999999999999},{"$f":"G37*F40","v":-104.54686719999999},-1.4649200000000064,-1.4211217771796288E-2,-0.23093681917211326]
["Total Amount on Two-Tier RPP",null,null,{"$f":"SUM(D39:D40)","v":446.36428080000002},null,null,{"$f":"SUM(G39:G40)","v":452.70766080000004},6.3433800000000247,1.4211217771796278E-2,1]

{"sheet":"BI_SenLgt_Low","index":51,"n_rows":41,"n_cols":10,"rows_kept":41,"cut":false,"hidden":false,"merged":[[0,0,0,9]]}
["2021 Bill Impacts (Low Consumption Level) - Sen Lgt"]
[]
["Rate Class",{"$f":"RIGHT(A1,LEN(A1)-FIND(\"- \",A1,1)-1)","v":"Sen Lgt"}]
["Monthly Consumption (kWh)",{"$f":"IF(COUNTIF(A1,\"*Low*\")>0,VLOOKUP(B3,'Data Billing Quantities'!$A:$Z,MATCH(\"Low kWh\",'Data Billing Quantities'!4:4,0),FALSE),IF(COUNTIF(A1,\"*Typical*\")>0,VLOOKUP(B3,'Data Billing Quantities'!$A:$Z,MATCH(\"Typical kWh\",'Data Billing Quantities'!4:4,0),FALSE),IF(COUNTIF(A1,\"*Average*\")>0,VLOOKUP(B3,'Data Billing Quantities'!$A:$Z,MATCH(\"Average kWh\",'Data Billing Quantities'!4:4,0),FALSE),IF(COUNTIF(A1,\"*High*\")>0,VLOOKUP(B3,'Data Billing Quantities'!$A:$Z,MATCH(\"High kWh\",'Data Billing Quantities'!4:4,0),FALSE),\"error\"))))","v":20}]
["Peak (kW)",{"$f":"IF(COUNTIF(A1,\"*Low*\")>0,VLOOKUP(B3,'Data Billing Quantities'!$A:$Z,MATCH(\"Low kW\",'Data Billing Quantities'!4:4,0),FALSE),IF(COUNTIF(A1,\"*Typical*\")>0,VLOOKUP(B3,'Data Billing Quantities'!$A:$Z,MATCH(\"Typical kW\",'Data Billing Quantities'!4:4,0),FALSE),IF(COUNTIF(A1,\"*Average*\")>0,VLOOKUP(B3,'Data Billing Quantities'!$A:$Z,MATCH(\"Average kW\",'Data Billing Quantities'!4:4,0),FALSE),IF(COUNTIF(A1,\"*High*\")>0,VLOOKUP(B3,'Data Billing Quantities'!$A:$Z,MATCH(\"High kW\",'Data Billing Quantities'!4:4,0),FALSE),\"error\"))))","v":0}]
["Loss factor",{"$f":"VLOOKUP(B3,'Data Billing Quantities'!A:D,MATCH(A6,'Data Billing Quantities'!4:4,0),FALSE)","v":1.0920000000000001}]
["Commodity Threshold",{"$f":"VLOOKUP(B3,'Data Billing Quantities'!A:D,MATCH(A7,'Data Billing Quantities'!4:4,0),FALSE)","v":750}]
["Monthly Consumption (kWh) - Uplifted",{"$f":"B4*B6","v":21.840000000000003}]
["Charge determinant",{"$f":"VLOOKUP(B3,'Data Billing Quantities'!A:D,MATCH(A9,'Data Billing Quantities'!4:4,0),FALSE)","v":"kWh"}]
[]
[null,"Volume","Current Rate ($)","Current Charge ($)","Volume","Proposed Rate ($)","Proposed Charge ($)","Change ($)","Change (%)","% of Total Bill on RPP"]
["Energy First Tier",{"$f":"IF(B4>B7,B7,B4)","v":20},{"$f":"VLOOKUP($A12,'Data Pass Through'!$A:$D,2,FALSE)","v":0.10100000000000001},{"$f":"B12*C12","v":2.02},{"$f":"B12","v":20},{"$f":"VLOOKUP($A12,'Data Pass Through'!$A:$D,3,FALSE)","v":0.10100000000000001},{"$f":"E12*F12","v":2.02},{"$f":"G12-D12","v":0},{"$f":"IF(ISERROR(H12/ABS(D12)),\"N/A\",(H12/ABS(D12)))","v":0},{"$f":"G12/$G$41","v":0.24774771327388884}]
["Energy Second Tier",{"$f":"IF(B4>B7,(B4)-B7,0)","v":0},{"$f":"VLOOKUP($A13,'Data Pass Through'!$A:$D,2,FALSE)","v":0.11799999999999999},{"$f":"B13*C13","v":0},{"$f":"B13","v":0},{"$f":"VLOOKUP($A13,'Data Pass Through'!$A:$D,3,FALSE)","v":0.11799999999999999},{"$f":"E13*F13","v":0},0,"N/A",0]
["Sub-Total:  Energy (RPP Tiered)",null,null,{"$f":"SUM(D12:D13)","v":2.02},null,null,{"$f":"SUM(G12:G13)","v":2.02},0,0,0.24774771327388884]
["Service Charge",1,{"$f":"VLOOKUP($B$3,'Data Current Rates'!$A:$BE,MATCH(BI_SenLgt_Low!$A15,CurrentHeader,0),FALSE)","v":2.86},{"$f":"B15*C15","v":2.86},1,{"$f":"VLOOKUP($B$3,'Data Proposed Rates'!$A:$BC,MATCH(BI_SenLgt_Low!$A15,ProposedHeader,0),FALSE)","v":2.86},{"$f":"E15*F15","v":2.86},0,0,0.35077151483332775]
["Base Rate Adjustment to Recover Past Tax Amounts FIXED",null,null,null,1,{"$f":"VLOOKUP($B$3,'Data Proposed Rates'!$A:$BC,MATCH(BI_SenLgt_Low!$A16,ProposedHeader,0),FALSE)","v":0.14000000000000001},0.14000000000000001,0.14000000000000001,"N/A",1.7170633593239823E-2]
["Fixed Deferral/Variance Account Rider (General)",1,{"$f":"VLOOKUP($B$3,'Data Current Rates'!$A:$BE,MATCH(BI_SenLgt_Low!$A17,CurrentHeader,0),FALSE)","v":0},{"$f":"B17*C17","v":0},1,{"$f":"VLOOKUP($B$3,'Data Proposed Rates'!$A:$BC,MATCH(BI_SenLgt_Low!$A17,ProposedHeader,0),FALSE)","v":0},0,0,"N/A",0]
["Fixed ESM Rider",1,{"$f":"VLOOKUP($B$3,'Data Current Rates'!$A:$BE,MATCH(BI_SenLgt_Low!$A18,CurrentHeader,0),FALSE)","v":-0.04},-0.04,1,{"$f":"VLOOKUP($B$3,'Data Proposed Rates'!$A:$BC,MATCH(BI_SenLgt_Low!$A18,ProposedHeader,0),FALSE)","v":-0.04},-0.04,0,0,-4.9058953123542349E-3]
["Distribution Volumetric Charge",{"$f":"IF($B$9=\"kWh\",$B$4,$B$5)","v":20},{"$f":"VLOOKUP($B$3,'Data Current Rates'!$A:$BE,MATCH(BI_SenLgt_Low!$A19,CurrentHeader,0),FALSE)","v":0.15559999999999999},3.1119999999999997,{"$f":"IF($B$9=\"kWh\",$B$4,$B$5)","v":20},{"$f":"VLOOKUP($B$3,'Data Proposed Rates'!$A:$BC,MATCH(BI_SenLgt_Low!$A19,ProposedHeader,0),FALSE)","v":0.15559999999999999},3.1119999999999997,0,0,0.38167865530115941]
["Base Rate Adjustment to Recover Past Tax Amounts VOL",null,null,null,{"$f":"IF($B$9=\"kWh\",$B$4,$B$5)","v":20},{"$f":"VLOOKUP($B$3,'Data Proposed Rates'!$A:$BC,MATCH(BI_SenLgt_Low!$A20,ProposedHeader,0),FALSE)","v":7.7999999999999996E-3},0.156,0.156,"N/A",1.9132991718181513E-2]
["Volumetric Deferral/Variance Account Rider (General)",{"$f":"IF($B$9=\"kWh\",$B$4,$B$5)","v":20},{"$f":"VLOOKUP($B$3,'Data Current Rates'!$A:$BE,MATCH(BI_SenLgt_Low!$A21,CurrentHeader,0),FALSE)","v":-2.0999999999999999E-3},-4.1999999999999996E-2,20,{"$f":"VLOOKUP($B$3,'Data Proposed Rates'!$A:$BC,MATCH(BI_SenLgt_Low!$A21,ProposedHeader,0),FALSE)","v":-2.0999999999999999E-3},-4.1999999999999996E-2,0,0,-5.1511900779719457E-3]
["Volumetric ESM Rider",20,{"$f":"VLOOKUP($B$3,'Data Current Rates'!$A:$BE,MATCH(BI_SenLgt_Low!$A22,CurrentHeader,0),FALSE)","v":-2.2000000000000001E-3},-4.4000000000000004E-2,20,{"$f":"VLOOKUP($B$3,'Data Proposed Rates'!$A:$BC,MATCH(BI_SenLgt_Low!$A22,ProposedHeader,0),FALSE)","v":-2.2000000000000001E-3},-4.4000000000000004E-2,0,0,-5.3964848435896582E-3]
["Sub-Total:  Distribution (excluding pass through)",null,null,{"$f":"SUM(INDIRECT(\"D15:D\"&ROW()-1))","v":5.8460000000000001},null,null,{"$f":"SUM(INDIRECT(\"g15:g\"&ROW()-1))","v":6.1419999999999995},{"$f":"G23-D23","v":0.29599999999999937},5.0632911392404958E-2,0.75330022521199258]
[]
["Line Losses on Cost of Power (based on two-tier RPP prices)",{"$f":"B8-B4","v":1.8400000000000034},{"$f":"IF(B4>B7,C13,C12)","v":0.10100000000000001},{"$f":"B25*C25","v":0.18584000000000037},1.8400000000000034,{"$f":"IF(B4>B7,F13,F12)","v":0.10100000000000001},{"$f":"E25*F25","v":0.18584000000000037},0,0,{"$f":"G25/$G$41","v":2.2792789621197816E-2}]
["Sub-Total:  Distribution (based on two-tier RPP prices)",null,null,{"$f":"SUM(D23,D24:D25)","v":6.0318400000000008},null,null,{"$f":"SUM(G23,G24:G25)","v":6.3278400000000001},0.29599999999999937,4.9072919706092892E-2,0.77609301483319049]
["Retail Transmission Rate – Network Service Rate",{"$f":"B8","v":21.840000000000003},{"$f":"VLOOKUP($B$3,'Data Current Rates'!$A:$BE,MATCH(BI_SenLgt_Low!$A27,CurrentHeader,0),FALSE)","v":5.4000000000000003E-3},{"$f":"B27*C27","v":0.11793600000000003},21.840000000000003,{"$f":"VLOOKUP($B$3,'Data Proposed Rates'!$A:$BC,MATCH(BI_SenLgt_Low!$A27,ProposedHeader,0),FALSE)","v":5.4000000000000003E-3},{"$f":"E27*F27","v":0.11793600000000003},{"$f":"G27-D27","v":0},0,1.4464541738945229E-2]
["Retail Transmission Rate – Line and Transformation Connection Service Rate",{"$f":"B8","v":21.840000000000003},{"$f":"VLOOKUP($B$3,'Data Current Rates'!$A:$BE,MATCH(BI_SenLgt_Low!$A28,CurrentHeader,0),FALSE)","v":3.7000000000000002E-3},{"$f":"B28*C28","v":8.0808000000000019E-2},21.840000000000003,{"$f":"VLOOKUP($B$3,'Data Proposed Rates'!$A:$BC,MATCH(BI_SenLgt_Low!$A28,ProposedHeader,0),FALSE)","v":3.7000000000000002E-3},{"$f":"E28*F28","v":8.0808000000000019E-2},{"$f":"G28-D28","v":0},0,9.9108897100180261E-3]
["Sub-Total:  Retail Transmission ",null,null,{"$f":"SUM(D27:D28)","v":0.19874400000000003},null,null,{"$f":"SUM(G27:G28)","v":0.19874400000000003},{"$f":"G29-D29","v":0},0,2.4375431448963251E-2]
["Sub-Total:  Delivery (based on two-tier RPP prices)",null,null,{"$f":"D26+D29","v":6.2305840000000003},null,null,{"$f":"G26+G29","v":6.5265839999999997},{"$f":"G30-D30","v":0.29599999999999937},4.7507585163766249E-2,0.80046844628215363]
["Wholesale Market Service Rate (WMS) - not including CBR",{"$f":"B8","v":21.840000000000003},{"$f":"VLOOKUP($A31,'Data Pass Through'!$A:$D,2,FALSE)","v":3.0000000000000001E-3},{"$f":"B31*C31","v":6.5520000000000009E-2},{"$f":"$B$8","v":21.840000000000003},{"$f":"VLOOKUP($A31,'Data Pass Through'!$A:$D,3,FALSE)","v":3.0000000000000001E-3},{"$f":"E31*F31","v":6.5520000000000009E-2},{"$f":"G31-D31","v":0},0,8.0358565216362369E-3]
["Capacity Based Recovery (CBR) - Applicable for Class B Customers",{"$f":"B8","v":21.840000000000003},{"$f":"VLOOKUP($A32,'Data Pass Through'!$A:$D,2,FALSE)","v":4.0000000000000002E-4},{"$f":"B32*C32","v":8.7360000000000024E-3},{"$f":"$B$8","v":21.840000000000003},{"$f":"VLOOKUP($A32,'Data Pass Through'!$A:$D,3,FALSE)","v":4.0000000000000002E-4},{"$f":"E32*F32","v":8.7360000000000024E-3},0,0,1.071447536218165E-3]
["Rural Rate Protection Charge",{"$f":"B8","v":21.840000000000003},{"$f":"VLOOKUP($A33,'Data Pass Through'!$A:$D,2,FALSE)","v":5.0000000000000001E-4},1.0920000000000003E-2,21.840000000000003,{"$f":"VLOOKUP($A33,'Data Pass Through'!$A:$D,3,FALSE)","v":5.0000000000000001E-4},1.0920000000000003E-2,0,0,1.3393094202727063E-3]
["Standard Supply Service – Administration Charge (if applicable)",1,{"$f":"VLOOKUP($A34,'Data Pass Through'!$A:$D,2,FALSE)","v":0.25},{"$f":"B34*C34","v":0.25},1,{"$f":"VLOOKUP($A34,'Data Pass Through'!$A:$D,3,FALSE)","v":0.25},0.25,0,0,3.0661845702213964E-2]
["Sub-Total:  Regulatory",null,null,{"$f":"SUM(D31:D34)","v":0.33517600000000003},null,null,{"$f":"SUM(G31:G34)","v":0.33517600000000003},0,0,4.1108459180341075E-2]
["Debt Retirement Charge (DRC)",{"$f":"B4","v":20},{"$f":"VLOOKUP($A36,'Data Pass Through'!$A:$D,2,FALSE)","v":0},{"$f":"B36*C36","v":0},20,{"$f":"VLOOKUP($A36,'Data Pass Through'!$A:$D,3,FALSE)","v":0},{"$f":"E36*F36","v":0},0,"N/A",0]
["Total  Electricty Charge on Two-Tier RPP ",null,null,{"$f":"SUM(D14,D23,D24,D25,D29,D35,D36)","v":8.5857600000000005},null,null,{"$f":"SUM(G14,G23,G24,G25,G29,G35,G36)","v":8.8817599999999999},0.29599999999999937,3.4475689979687224E-2,1.0893246187363836]
["     HST",null,0.13,{"$f":"D37*C38","v":1.1161488000000002},null,{"$f":"C38","v":0.13},{"$f":"G37*F38","v":1.1546288},3.8479999999999848E-2,3.4475689979687155E-2,0.14161220043572986]
["Total Electricity Charge on Two-Tier RPP (including HST)",null,null,{"$f":"SUM(D37:D38)","v":9.7019088},null,null,{"$f":"SUM(G37:G38)","v":10.036388799999999},0.33447999999999922,3.4475689979687217E-2,1.2309368191721135]
["Ontario Electricity Rebate (OER)",null,{"$f":"'Data Pass Through'!B20","v":-0.21199999999999999},{"$f":"D37*C40","v":-1.82018112},null,{"$f":"'Data Pass Through'!C20","v":-0.21199999999999999},{"$f":"G37*F40","v":-1.8829331199999999},-6.2751999999999919E-2,-3.4475689979687252E-2,-0.23093681917211331]
["Total Amount on Two-Tier RPP",null,null,{"$f":"SUM(D39:D40)","v":7.88172768},null,null,{"$f":"SUM(G39:G40)","v":8.1534556799999987},0.27172799999999864,3.447568997968712E-2,1]

{"sheet":"BI_SenLgt_Avg","index":52,"n_rows":41,"n_cols":10,"rows_kept":41,"cut":false,"hidden":false,"merged":[[0,0,0,9]]}
["2021 Bill Impacts (Average Consumption Level) - Sen Lgt"]
[]
["Rate Class",{"$f":"RIGHT(A1,LEN(A1)-FIND(\"- \",A1,1)-1)","v":"Sen Lgt"}]
["Monthly Consumption (kWh)",{"$f":"IF(COUNTIF(A1,\"*Low*\")>0,VLOOKUP(B3,'Data Billing Quantities'!$A:$Z,MATCH(\"Low kWh\",'Data Billing Quantities'!4:4,0),FALSE),IF(COUNTIF(A1,\"*Typical*\")>0,VLOOKUP(B3,'Data Billing Quantities'!$A:$Z,MATCH(\"Typical kWh\",'Data Billing Quantities'!4:4,0),FALSE),IF(COUNTIF(A1,\"*Average*\")>0,VLOOKUP(B3,'Data Billing Quantities'!$A:$Z,MATCH(\"Average kWh\",'Data Billing Quantities'!4:4,0),FALSE),IF(COUNTIF(A1,\"*High*\")>0,VLOOKUP(B3,'Data Billing Quantities'!$A:$Z,MATCH(\"High kWh\",'Data Billing Quantities'!4:4,0),FALSE),\"error\"))))","v":71}]
["Peak (kW)",{"$f":"IF(COUNTIF(A1,\"*Low*\")>0,VLOOKUP(B3,'Data Billing Quantities'!$A:$Z,MATCH(\"Low kW\",'Data Billing Quantities'!4:4,0),FALSE),IF(COUNTIF(A1,\"*Typical*\")>0,VLOOKUP(B3,'Data Billing Quantities'!$A:$Z,MATCH(\"Typical kW\",'Data Billing Quantities'!4:4,0),FALSE),IF(COUNTIF(A1,\"*Average*\")>0,VLOOKUP(B3,'Data Billing Quantities'!$A:$Z,MATCH(\"Average kW\",'Data Billing Quantities'!4:4,0),FALSE),IF(COUNTIF(A1,\"*High*\")>0,VLOOKUP(B3,'Data Billing Quantities'!$A:$Z,MATCH(\"High kW\",'Data Billing Quantities'!4:4,0),FALSE),\"error\"))))","v":0}]
["Loss factor",{"$f":"VLOOKUP(B3,'Data Billing Quantities'!A:D,MATCH(A6,'Data Billing Quantities'!4:4,0),FALSE)","v":1.0920000000000001}]
["Commodity Threshold",{"$f":"VLOOKUP(B3,'Data Billing Quantities'!A:D,MATCH(A7,'Data Billing Quantities'!4:4,0),FALSE)","v":750}]
["Monthly Consumption (kWh) - Uplifted",{"$f":"B4*B6","v":77.532000000000011}]
["Charge determinant",{"$f":"VLOOKUP(B3,'Data Billing Quantities'!A:D,MATCH(A9,'Data Billing Quantities'!4:4,0),FALSE)","v":"kWh"}]
[]
[null,"Volume","Current Rate ($)","Current Charge ($)","Volume","Proposed Rate ($)","Proposed Charge ($)","Change ($)","Change (%)","% of Total Bill on RPP"]
["Energy First Tier",{"$f":"IF(B4>B7,B7,B4)","v":71},{"$f":"VLOOKUP($A12,'Data Pass Through'!$A:$D,2,FALSE)","v":0.10100000000000001},{"$f":"B12*C12","v":7.1710000000000003},{"$f":"B12","v":71},{"$f":"VLOOKUP($A12,'Data Pass Through'!$A:$D,3,FALSE)","v":0.10100000000000001},{"$f":"E12*F12","v":7.1710000000000003},{"$f":"G12-D12","v":0},{"$f":"IF(ISERROR(H12/ABS(D12)),\"N/A\",(H12/ABS(D12)))","v":0},{"$f":"G12/$G$41","v":0.33461688431841741}]
["Energy Second Tier",{"$f":"IF(B4>B7,(B4)-B7,0)","v":0},{"$f":"VLOOKUP($A13,'Data Pass Through'!$A:$D,2,FALSE)","v":0.11799999999999999},{"$f":"B13*C13","v":0},{"$f":"B13","v":0},{"$f":"VLOOKUP($A13,'Data Pass Through'!$A:$D,3,FALSE)","v":0.11799999999999999},{"$f":"E13*F13","v":0},0,"N/A",0]
["Sub-Total:  Energy (RPP Tiered)",null,null,{"$f":"SUM(D12:D13)","v":7.1710000000000003},null,null,{"$f":"SUM(G12:G13)","v":7.1710000000000003},0,0,0.33461688431841741]
["Service Charge",1,{"$f":"VLOOKUP($B$3,'Data Current Rates'!$A:$BE,MATCH(BI_SenLgt_Avg!$A15,CurrentHeader,0),FALSE)","v":2.86},{"$f":"B15*C15","v":2.86},1,{"$f":"VLOOKUP($B$3,'Data Proposed Rates'!$A:$BC,MATCH(BI_SenLgt_Avg!$A15,ProposedHeader,0),FALSE)","v":2.86},{"$f":"E15*F15","v":2.86},0,0,0.13345478861395535]
["Base Rate Adjustment to Recover Past Tax Amounts FIXED",null,null,null,1,{"$f":"VLOOKUP($B$3,'Data Proposed Rates'!$A:$BC,MATCH(BI_SenLgt_Avg!$A16,ProposedHeader,0),FALSE)","v":0.14000000000000001},0.14000000000000001,0.14000000000000001,"N/A",6.5327518901936192E-3]
["Fixed Deferral/Variance Account Rider (General)",1,{"$f":"VLOOKUP($B$3,'Data Current Rates'!$A:$BE,MATCH(BI_SenLgt_Avg!$A17,CurrentHeader,0),FALSE)","v":0},{"$f":"B17*C17","v":0},1,{"$f":"VLOOKUP($B$3,'Data Proposed Rates'!$A:$BC,MATCH(BI_SenLgt_Avg!$A17,ProposedHeader,0),FALSE)","v":0},0,0,"N/A",0]
["Fixed ESM Rider",1,{"$f":"VLOOKUP($B$3,'Data Current Rates'!$A:$BE,MATCH(BI_SenLgt_Avg!$A18,CurrentHeader,0),FALSE)","v":-0.04},-0.04,1,{"$f":"VLOOKUP($B$3,'Data Proposed Rates'!$A:$BC,MATCH(BI_SenLgt_Avg!$A18,ProposedHeader,0),FALSE)","v":-0.04},-0.04,0,0,-1.8665005400553196E-3]
["Distribution Volumetric Charge",{"$f":"IF($B$9=\"kWh\",$B$4,$B$5)","v":71},{"$f":"VLOOKUP($B$3,'Data Current Rates'!$A:$BE,MATCH(BI_SenLgt_Avg!$A19,CurrentHeader,0),FALSE)","v":0.15559999999999999},11.047599999999999,{"$f":"IF($B$9=\"kWh\",$B$4,$B$5)","v":71},{"$f":"VLOOKUP($B$3,'Data Proposed Rates'!$A:$BC,MATCH(BI_SenLgt_Avg!$A19,ProposedHeader,0),FALSE)","v":0.15559999999999999},11.047599999999999,0,0,0.51550878415787871]
["Base Rate Adjustment to Recover Past Tax Amounts VOL",null,null,null,{"$f":"IF($B$9=\"kWh\",$B$4,$B$5)","v":71},{"$f":"VLOOKUP($B$3,'Data Proposed Rates'!$A:$BC,MATCH(BI_SenLgt_Avg!$A20,ProposedHeader,0),FALSE)","v":7.7999999999999996E-3},0.55379999999999996,0.55379999999999996,"N/A",2.5841699977065896E-2]
["Volumetric Deferral/Variance Account Rider (General)",{"$f":"IF($B$9=\"kWh\",$B$4,$B$5)","v":71},{"$f":"VLOOKUP($B$3,'Data Current Rates'!$A:$BE,MATCH(BI_SenLgt_Avg!$A21,CurrentHeader,0),FALSE)","v":-2.0999999999999999E-3},-0.14909999999999998,71,{"$f":"VLOOKUP($B$3,'Data Proposed Rates'!$A:$BC,MATCH(BI_SenLgt_Avg!$A21,ProposedHeader,0),FALSE)","v":-2.0999999999999999E-3},-0.14909999999999998,0,0,-6.9573807630562024E-3]
["Volumetric ESM Rider",71,{"$f":"VLOOKUP($B$3,'Data Current Rates'!$A:$BE,MATCH(BI_SenLgt_Avg!$A22,CurrentHeader,0),FALSE)","v":-2.2000000000000001E-3},-0.15620000000000001,71,{"$f":"VLOOKUP($B$3,'Data Proposed Rates'!$A:$BC,MATCH(BI_SenLgt_Avg!$A22,ProposedHeader,0),FALSE)","v":-2.2000000000000001E-3},-0.15620000000000001,0,0,-7.2886846089160228E-3]
["Sub-Total:  Distribution (excluding pass through)",null,null,{"$f":"SUM(INDIRECT(\"D15:D\"&ROW()-1))","v":13.562299999999999},null,null,{"$f":"SUM(INDIRECT(\"g15:g\"&ROW()-1))","v":14.2561},{"$f":"G23-D23","v":0.6938000000000013},5.1156514750448037E-2,0.66522545872706595]
[]
["Line Losses on Cost of Power (based on two-tier RPP prices)",{"$f":"B8-B4","v":6.5320000000000107},{"$f":"IF(B4>B7,C13,C12)","v":0.10100000000000001},{"$f":"B25*C25","v":0.6597320000000011},6.5320000000000107,{"$f":"IF(B4>B7,F13,F12)","v":0.10100000000000001},{"$f":"E25*F25","v":0.6597320000000011},0,0,{"$f":"G25/$G$41","v":3.0784753357294452E-2}]
["Sub-Total:  Distribution (based on two-tier RPP prices)",null,null,{"$f":"SUM(D23,D24:D25)","v":14.222032},null,null,{"$f":"SUM(G23,G24:G25)","v":14.915832000000002},0.6938000000000013,4.8783464978844185E-2,0.69601021208436054]
["Retail Transmission Rate – Network Service Rate",{"$f":"B8","v":77.532000000000011},{"$f":"VLOOKUP($B$3,'Data Current Rates'!$A:$BE,MATCH(BI_SenLgt_Avg!$A27,CurrentHeader,0),FALSE)","v":5.4000000000000003E-3},{"$f":"B27*C27","v":0.41867280000000007},77.532000000000011,{"$f":"VLOOKUP($B$3,'Data Proposed Rates'!$A:$BC,MATCH(BI_SenLgt_Avg!$A27,ProposedHeader,0),FALSE)","v":5.4000000000000003E-3},{"$f":"E27*F27","v":0.41867280000000007},{"$f":"G27-D27","v":0},0,1.9536325182661823E-2]
["Retail Transmission Rate – Line and Transformation Connection Service Rate",{"$f":"B8","v":77.532000000000011},{"$f":"VLOOKUP($B$3,'Data Current Rates'!$A:$BE,MATCH(BI_SenLgt_Avg!$A28,CurrentHeader,0),FALSE)","v":3.7000000000000002E-3},{"$f":"B28*C28","v":0.28686840000000008},77.532000000000011,{"$f":"VLOOKUP($B$3,'Data Proposed Rates'!$A:$BC,MATCH(BI_SenLgt_Avg!$A28,ProposedHeader,0),FALSE)","v":3.7000000000000002E-3},{"$f":"E28*F28","v":0.28686840000000008},{"$f":"G28-D28","v":0},0,1.338600058812014E-2]
["Sub-Total:  Retail Transmission ",null,null,{"$f":"SUM(D27:D28)","v":0.70554120000000009},null,null,{"$f":"SUM(G27:G28)","v":0.70554120000000009},{"$f":"G29-D29","v":0},0,3.2922325770781961E-2]
["Sub-Total:  Delivery (based on two-tier RPP prices)",null,null,{"$f":"D26+D29","v":14.927573200000001},null,null,{"$f":"G26+G29","v":15.621373200000003},{"$f":"G30-D30","v":0.6938000000000013},4.6477748975299028E-2,0.72893253785514245]
["Wholesale Market Service Rate (WMS) - not including CBR",{"$f":"B8","v":77.532000000000011},{"$f":"VLOOKUP($A31,'Data Pass Through'!$A:$D,2,FALSE)","v":3.0000000000000001E-3},{"$f":"B31*C31","v":0.23259600000000002},{"$f":"$B$8","v":77.532000000000011},{"$f":"VLOOKUP($A31,'Data Pass Through'!$A:$D,3,FALSE)","v":3.0000000000000001E-3},{"$f":"E31*F31","v":0.23259600000000002},{"$f":"G31-D31","v":0},0,1.0853513990367679E-2]
["Capacity Based Recovery (CBR) - Applicable for Class B Customers",{"$f":"B8","v":77.532000000000011},{"$f":"VLOOKUP($A32,'Data Pass Through'!$A:$D,2,FALSE)","v":4.0000000000000002E-4},{"$f":"B32*C32","v":3.1012800000000007E-2},{"$f":"$B$8","v":77.532000000000011},{"$f":"VLOOKUP($A32,'Data Pass Through'!$A:$D,3,FALSE)","v":4.0000000000000002E-4},{"$f":"E32*F32","v":3.1012800000000007E-2},0,0,1.4471351987156906E-3]
["Rural Rate Protection Charge",{"$f":"B8","v":77.532000000000011},{"$f":"VLOOKUP($A33,'Data Pass Through'!$A:$D,2,FALSE)","v":5.0000000000000001E-4},3.8766000000000009E-2,77.532000000000011,{"$f":"VLOOKUP($A33,'Data Pass Through'!$A:$D,3,FALSE)","v":5.0000000000000001E-4},3.8766000000000009E-2,0,0,1.8089189983946134E-3]
["Standard Supply Service – Administration Charge (if applicable)",1,{"$f":"VLOOKUP($A34,'Data Pass Through'!$A:$D,2,FALSE)","v":0.25},{"$f":"B34*C34","v":0.25},1,{"$f":"VLOOKUP($A34,'Data Pass Through'!$A:$D,3,FALSE)","v":0.25},0.25,0,0,1.1665628375345747E-2]
["Sub-Total:  Regulatory",null,null,{"$f":"SUM(D31:D34)","v":0.55237480000000005},null,null,{"$f":"SUM(G31:G34)","v":0.55237480000000005},0,0,2.5775196562823729E-2]
["Debt Retirement Charge (DRC)",{"$f":"B4","v":71},{"$f":"VLOOKUP($A36,'Data Pass Through'!$A:$D,2,FALSE)","v":0},{"$f":"B36*C36","v":0},71,{"$f":"VLOOKUP($A36,'Data Pass Through'!$A:$D,3,FALSE)","v":0},{"$f":"E36*F36","v":0},0,"N/A",0]
["Total  Electricty Charge on Two-Tier RPP ",null,null,{"$f":"SUM(D14,D23,D24,D25,D29,D35,D36)","v":22.650948},null,null,{"$f":"SUM(G14,G23,G24,G25,G29,G35,G36)","v":23.344747999999999},0.69379999999999953,3.0630064578312553E-2,1.0893246187363834]
["     HST",null,0.13,{"$f":"D37*C38","v":2.9446232399999999},null,{"$f":"C38","v":0.13},{"$f":"G37*F38","v":3.0348172400000002},9.0194000000000329E-2,3.0630064578312684E-2,0.14161220043572986]
["Total Electricity Charge on Two-Tier RPP (including HST)",null,null,{"$f":"SUM(D37:D38)","v":25.595571239999998},null,null,{"$f":"SUM(G37:G38)","v":26.379565239999998},0.78399399999999986,3.063006457831257E-2,1.2309368191721133]
["Ontario Electricity Rebate (OER)",null,{"$f":"'Data Pass Through'!B20","v":-0.21199999999999999},{"$f":"D37*C40","v":-4.8020009759999995},null,{"$f":"'Data Pass Through'!C20","v":-0.21199999999999999},{"$f":"G37*F40","v":-4.949086576},-0.14708560000000048,-3.0630064578312674E-2,-0.23093681917211331]
["Total Amount on Two-Tier RPP",null,null,{"$f":"SUM(D39:D40)","v":20.793570264},null,null,{"$f":"SUM(G39:G40)","v":21.430478663999999},0.63690839999999938,3.0630064578312542E-2,1]

{"sheet":"BI_SenLgt_High","index":53,"n_rows":41,"n_cols":10,"rows_kept":41,"cut":false,"hidden":false,"merged":[[0,0,0,9]]}
["2021 Bill Impacts (High Consumption Level) - Sen Lgt"]
[]
["Rate Class",{"$f":"RIGHT(A1,LEN(A1)-FIND(\"- \",A1,1)-1)","v":"Sen Lgt"}]
["Monthly Consumption (kWh)",{"$f":"IF(COUNTIF(A1,\"*Low*\")>0,VLOOKUP(B3,'Data Billing Quantities'!$A:$Z,MATCH(\"Low kWh\",'Data Billing Quantities'!4:4,0),FALSE),IF(COUNTIF(A1,\"*Typical*\")>0,VLOOKUP(B3,'Data Billing Quantities'!$A:$Z,MATCH(\"Typical kWh\",'Data Billing Quantities'!4:4,0),FALSE),IF(COUNTIF(A1,\"*Average*\")>0,VLOOKUP(B3,'Data Billing Quantities'!$A:$Z,MATCH(\"Average kWh\",'Data Billing Quantities'!4:4,0),FALSE),IF(COUNTIF(A1,\"*High*\")>0,VLOOKUP(B3,'Data Billing Quantities'!$A:$Z,MATCH(\"High kWh\",'Data Billing Quantities'!4:4,0),FALSE),\"error\"))))","v":200}]
["Peak (kW)",{"$f":"IF(COUNTIF(A1,\"*Low*\")>0,VLOOKUP(B3,'Data Billing Quantities'!$A:$Z,MATCH(\"Low kW\",'Data Billing Quantities'!4:4,0),FALSE),IF(COUNTIF(A1,\"*Typical*\")>0,VLOOKUP(B3,'Data Billing Quantities'!$A:$Z,MATCH(\"Typical kW\",'Data Billing Quantities'!4:4,0),FALSE),IF(COUNTIF(A1,\"*Average*\")>0,VLOOKUP(B3,'Data Billing Quantities'!$A:$Z,MATCH(\"Average kW\",'Data Billing Quantities'!4:4,0),FALSE),IF(COUNTIF(A1,\"*High*\")>0,VLOOKUP(B3,'Data Billing Quantities'!$A:$Z,MATCH(\"High kW\",'Data Billing Quantities'!4:4,0),FALSE),\"error\"))))","v":0}]
["Loss factor",{"$f":"VLOOKUP(B3,'Data Billing Quantities'!A:D,MATCH(A6,'Data Billing Quantities'!4:4,0),FALSE)","v":1.0920000000000001}]
["Commodity Threshold",{"$f":"VLOOKUP(B3,'Data Billing Quantities'!A:D,MATCH(A7,'Data Billing Quantities'!4:4,0),FALSE)","v":750}]
["Monthly Consumption (kWh) - Uplifted",{"$f":"B4*B6","v":218.4}]
["Charge determinant",{"$f":"VLOOKUP(B3,'Data Billing Quantities'!A:D,MATCH(A9,'Data Billing Quantities'!4:4,0),FALSE)","v":"kWh"}]
[]
[null,"Volume","Current Rate ($)","Current Charge ($)","Volume","Proposed Rate ($)","Proposed Charge ($)","Change ($)","Change (%)","% of Total Bill on RPP"]
["Energy First Tier",{"$f":"IF(B4>B7,B7,B4)","v":200},{"$f":"VLOOKUP($A12,'Data Pass Through'!$A:$D,2,FALSE)","v":0.10100000000000001},{"$f":"B12*C12","v":20.200000000000003},{"$f":"B12","v":200},{"$f":"VLOOKUP($A12,'Data Pass Through'!$A:$D,3,FALSE)","v":0.10100000000000001},{"$f":"E12*F12","v":20.200000000000003},{"$f":"G12-D12","v":0},{"$f":"IF(ISERROR(H12/ABS(D12)),\"N/A\",(H12/ABS(D12)))","v":0},{"$f":"G12/$G$41","v":0.36718235501630209}]
["Energy Second Tier",{"$f":"IF(B4>B7,(B4)-B7,0)","v":0},{"$f":"VLOOKUP($A13,'Data Pass Through'!$A:$D,2,FALSE)","v":0.11799999999999999},{"$f":"B13*C13","v":0},{"$f":"B13","v":0},{"$f":"VLOOKUP($A13,'Data Pass Through'!$A:$D,3,FALSE)","v":0.11799999999999999},{"$f":"E13*F13","v":0},0,"N/A",0]
["Sub-Total:  Energy (RPP Tiered)",null,null,{"$f":"SUM(D12:D13)","v":20.200000000000003},null,null,{"$f":"SUM(G12:G13)","v":20.200000000000003},0,0,0.36718235501630209]
["Service Charge",1,{"$f":"VLOOKUP($B$3,'Data Current Rates'!$A:$BE,MATCH(BI_SenLgt_High!$A15,CurrentHeader,0),FALSE)","v":2.86},{"$f":"B15*C15","v":2.86},1,{"$f":"VLOOKUP($B$3,'Data Proposed Rates'!$A:$BC,MATCH(BI_SenLgt_High!$A15,ProposedHeader,0),FALSE)","v":2.86},{"$f":"E15*F15","v":2.86},0,0,5.1987204720129888E-2]
["Base Rate Adjustment to Recover Past Tax Amounts FIXED",null,null,null,1,{"$f":"VLOOKUP($B$3,'Data Proposed Rates'!$A:$BC,MATCH(BI_SenLgt_High!$A16,ProposedHeader,0),FALSE)","v":0.14000000000000001},0.14000000000000001,0.14000000000000001,"N/A",2.5448282030832814E-3]
["Fixed Deferral/Variance Account Rider (General)",1,{"$f":"VLOOKUP($B$3,'Data Current Rates'!$A:$BE,MATCH(BI_SenLgt_High!$A17,CurrentHeader,0),FALSE)","v":0},{"$f":"B17*C17","v":0},1,{"$f":"VLOOKUP($B$3,'Data Proposed Rates'!$A:$BC,MATCH(BI_SenLgt_High!$A17,ProposedHeader,0),FALSE)","v":0},0,0,"N/A",0]
["Fixed ESM Rider",1,{"$f":"VLOOKUP($B$3,'Data Current Rates'!$A:$BE,MATCH(BI_SenLgt_High!$A18,CurrentHeader,0),FALSE)","v":-0.04},-0.04,1,{"$f":"VLOOKUP($B$3,'Data Proposed Rates'!$A:$BC,MATCH(BI_SenLgt_High!$A18,ProposedHeader,0),FALSE)","v":-0.04},-0.04,0,0,-7.2709377230950893E-4]
["Distribution Volumetric Charge",{"$f":"IF($B$9=\"kWh\",$B$4,$B$5)","v":200},{"$f":"VLOOKUP($B$3,'Data Current Rates'!$A:$BE,MATCH(BI_SenLgt_High!$A19,CurrentHeader,0),FALSE)","v":0.15559999999999999},31.119999999999997,{"$f":"IF($B$9=\"kWh\",$B$4,$B$5)","v":200},{"$f":"VLOOKUP($B$3,'Data Proposed Rates'!$A:$BC,MATCH(BI_SenLgt_High!$A19,ProposedHeader,0),FALSE)","v":0.15559999999999999},31.119999999999997,0,0,0.56567895485679787]
["Base Rate Adjustment to Recover Past Tax Amounts VOL",null,null,null,{"$f":"IF($B$9=\"kWh\",$B$4,$B$5)","v":200},{"$f":"VLOOKUP($B$3,'Data Proposed Rates'!$A:$BC,MATCH(BI_SenLgt_High!$A20,ProposedHeader,0),FALSE)","v":7.7999999999999996E-3},1.5599999999999998,1.5599999999999998,"N/A",2.8356657120070846E-2]
["Volumetric Deferral/Variance Account Rider (General)",{"$f":"IF($B$9=\"kWh\",$B$4,$B$5)","v":200},{"$f":"VLOOKUP($B$3,'Data Current Rates'!$A:$BE,MATCH(BI_SenLgt_High!$A21,CurrentHeader,0),FALSE)","v":-2.0999999999999999E-3},-0.42,200,{"$f":"VLOOKUP($B$3,'Data Proposed Rates'!$A:$BC,MATCH(BI_SenLgt_High!$A21,ProposedHeader,0),FALSE)","v":-2.0999999999999999E-3},-0.42,0,0,-7.6344846092498437E-3]
["Volumetric ESM Rider",200,{"$f":"VLOOKUP($B$3,'Data Current Rates'!$A:$BE,MATCH(BI_SenLgt_High!$A22,CurrentHeader,0),FALSE)","v":-2.2000000000000001E-3},-0.44,200,{"$f":"VLOOKUP($B$3,'Data Proposed Rates'!$A:$BC,MATCH(BI_SenLgt_High!$A22,ProposedHeader,0),FALSE)","v":-2.2000000000000001E-3},-0.44,0,0,-7.9980314954045985E-3]
["Sub-Total:  Distribution (excluding pass through)",null,null,{"$f":"SUM(INDIRECT(\"D15:D\"&ROW()-1))","v":33.08},null,null,{"$f":"SUM(INDIRECT(\"g15:g\"&ROW()-1))","v":34.78},{"$f":"G23-D23","v":1.7000000000000028},5.1390568319226206E-2,0.63220803502311806]
[]
["Line Losses on Cost of Power (based on two-tier RPP prices)",{"$f":"B8-B4","v":18.400000000000006},{"$f":"IF(B4>B7,C13,C12)","v":0.10100000000000001},{"$f":"B25*C25","v":1.8584000000000007},18.400000000000006,{"$f":"IF(B4>B7,F13,F12)","v":0.10100000000000001},{"$f":"E25*F25","v":1.8584000000000007},0,0,{"$f":"G25/$G$41","v":3.3780776661499798E-2}]
["Sub-Total:  Distribution (based on two-tier RPP prices)",null,null,{"$f":"SUM(D23,D24:D25)","v":34.938400000000001},null,null,{"$f":"SUM(G23,G24:G25)","v":36.638400000000004},1.7000000000000028,4.8657065005838926E-2,0.66598881168461788]
["Retail Transmission Rate – Network Service Rate",{"$f":"B8","v":218.4},{"$f":"VLOOKUP($B$3,'Data Current Rates'!$A:$BE,MATCH(BI_SenLgt_High!$A27,CurrentHeader,0),FALSE)","v":5.4000000000000003E-3},{"$f":"B27*C27","v":1.1793600000000002},218.4,{"$f":"VLOOKUP($B$3,'Data Proposed Rates'!$A:$BC,MATCH(BI_SenLgt_High!$A27,ProposedHeader,0),FALSE)","v":5.4000000000000003E-3},{"$f":"E27*F27","v":1.1793600000000002},{"$f":"G27-D27","v":0},0,2.1437632782773566E-2]
["Retail Transmission Rate – Line and Transformation Connection Service Rate",{"$f":"B8","v":218.4},{"$f":"VLOOKUP($B$3,'Data Current Rates'!$A:$BE,MATCH(BI_SenLgt_High!$A28,CurrentHeader,0),FALSE)","v":3.7000000000000002E-3},{"$f":"B28*C28","v":0.80808000000000002},218.4,{"$f":"VLOOKUP($B$3,'Data Proposed Rates'!$A:$BC,MATCH(BI_SenLgt_High!$A28,ProposedHeader,0),FALSE)","v":3.7000000000000002E-3},{"$f":"E28*F28","v":0.80808000000000002},{"$f":"G28-D28","v":0},0,1.46887483881967E-2]
["Sub-Total:  Retail Transmission ",null,null,{"$f":"SUM(D27:D28)","v":1.9874400000000003},null,null,{"$f":"SUM(G27:G28)","v":1.9874400000000003},{"$f":"G29-D29","v":0},0,3.6126381170970265E-2]
["Sub-Total:  Delivery (based on two-tier RPP prices)",null,null,{"$f":"D26+D29","v":36.925840000000001},null,null,{"$f":"G26+G29","v":38.625840000000004},{"$f":"G30-D30","v":1.7000000000000028},4.6038221473093173E-2,0.7021151928555881]
["Wholesale Market Service Rate (WMS) - not including CBR",{"$f":"B8","v":218.4},{"$f":"VLOOKUP($A31,'Data Pass Through'!$A:$D,2,FALSE)","v":3.0000000000000001E-3},{"$f":"B31*C31","v":0.6552},{"$f":"$B$8","v":218.4},{"$f":"VLOOKUP($A31,'Data Pass Through'!$A:$D,3,FALSE)","v":3.0000000000000001E-3},{"$f":"E31*F31","v":0.6552},{"$f":"G31-D31","v":0},0,1.1909795990429756E-2]
["Capacity Based Recovery (CBR) - Applicable for Class B Customers",{"$f":"B8","v":218.4},{"$f":"VLOOKUP($A32,'Data Pass Through'!$A:$D,2,FALSE)","v":4.0000000000000002E-4},{"$f":"B32*C32","v":8.7360000000000007E-2},{"$f":"$B$8","v":218.4},{"$f":"VLOOKUP($A32,'Data Pass Through'!$A:$D,3,FALSE)","v":4.0000000000000002E-4},{"$f":"E32*F32","v":8.7360000000000007E-2},0,0,1.5879727987239676E-3]
["Rural Rate Protection Charge",{"$f":"B8","v":218.4},{"$f":"VLOOKUP($A33,'Data Pass Through'!$A:$D,2,FALSE)","v":5.0000000000000001E-4},0.10920000000000001,218.4,{"$f":"VLOOKUP($A33,'Data Pass Through'!$A:$D,3,FALSE)","v":5.0000000000000001E-4},0.10920000000000001,0,0,1.9849659984049594E-3]
["Standard Supply Service – Administration Charge (if applicable)",1,{"$f":"VLOOKUP($A34,'Data Pass Through'!$A:$D,2,FALSE)","v":0.25},{"$f":"B34*C34","v":0.25},1,{"$f":"VLOOKUP($A34,'Data Pass Through'!$A:$D,3,FALSE)","v":0.25},0.25,0,0,4.5443360769344306E-3]
["Sub-Total:  Regulatory",null,null,{"$f":"SUM(D31:D34)","v":1.1017600000000001},null,null,{"$f":"SUM(G31:G34)","v":1.1017600000000001},0,0,2.0027070864493117E-2]
["Debt Retirement Charge (DRC)",{"$f":"B4","v":200},{"$f":"VLOOKUP($A36,'Data Pass Through'!$A:$D,2,FALSE)","v":0},{"$f":"B36*C36","v":0},200,{"$f":"VLOOKUP($A36,'Data Pass Through'!$A:$D,3,FALSE)","v":0},{"$f":"E36*F36","v":0},0,"N/A",0]
["Total  Electricty Charge on Two-Tier RPP ",null,null,{"$f":"SUM(D14,D23,D24,D25,D29,D35,D36)","v":58.227600000000002},null,null,{"$f":"SUM(G14,G23,G24,G25,G29,G35,G36)","v":59.927600000000005},1.7000000000000028,2.9195776573308924E-2,1.0893246187363834]
["     HST",null,0.13,{"$f":"D37*C38","v":7.5695880000000004},null,{"$f":"C38","v":0.13},{"$f":"G37*F38","v":7.7905880000000005},0.22100000000000009,2.9195776573308886E-2,0.14161220043572983]
["Total Electricity Charge on Two-Tier RPP (including HST)",null,null,{"$f":"SUM(D37:D38)","v":65.797188000000006},null,null,{"$f":"SUM(G37:G38)","v":67.718188000000012},1.9210000000000065,2.9195776573308973E-2,1.2309368191721133]
["Ontario Electricity Rebate (OER)",null,{"$f":"'Data Pass Through'!B20","v":-0.21199999999999999},{"$f":"D37*C40","v":-12.3442512},null,{"$f":"'Data Pass Through'!C20","v":-0.21199999999999999},{"$f":"G37*F40","v":-12.704651200000001},-0.36040000000000028,-2.91957765733089E-2,-0.23093681917211326]
["Total Amount on Two-Tier RPP",null,null,{"$f":"SUM(D39:D40)","v":53.452936800000003},null,null,{"$f":"SUM(G39:G40)","v":55.013536800000011},1.560600000000008,2.9195776573309025E-2,1]

{"sheet":"BI_USL_Low","index":54,"n_rows":41,"n_cols":10,"rows_kept":41,"cut":false,"hidden":false,"merged":[[0,0,0,9]]}
["2021 Bill Impacts (Low Consumption Level) - USL"]
[]
["Rate Class",{"$f":"RIGHT(A1,LEN(A1)-FIND(\"- \",A1,1)-1)","v":"USL"}]
["Monthly Consumption (kWh)",{"$f":"IF(COUNTIF(A1,\"*Low*\")>0,VLOOKUP(B3,'Data Billing Quantities'!$A:$Z,MATCH(\"Low kWh\",'Data Billing Quantities'!4:4,0),FALSE),IF(COUNTIF(A1,\"*Typical*\")>0,VLOOKUP(B3,'Data Billing Quantities'!$A:$Z,MATCH(\"Typical kWh\",'Data Billing Quantities'!4:4,0),FALSE),IF(COUNTIF(A1,\"*Average*\")>0,VLOOKUP(B3,'Data Billing Quantities'!$A:$Z,MATCH(\"Average kWh\",'Data Billing Quantities'!4:4,0),FALSE),IF(COUNTIF(A1,\"*High*\")>0,VLOOKUP(B3,'Data Billing Quantities'!$A:$Z,MATCH(\"High kWh\",'Data Billing Quantities'!4:4,0),FALSE),\"error\"))))","v":100}]
["Peak (kW)",{"$f":"IF(COUNTIF(A1,\"*Low*\")>0,VLOOKUP(B3,'Data Billing Quantities'!$A:$Z,MATCH(\"Low kW\",'Data Billing Quantities'!4:4,0),FALSE),IF(COUNTIF(A1,\"*Typical*\")>0,VLOOKUP(B3,'Data Billing Quantities'!$A:$Z,MATCH(\"Typical kW\",'Data Billing Quantities'!4:4,0),FALSE),IF(COUNTIF(A1,\"*Average*\")>0,VLOOKUP(B3,'Data Billing Quantities'!$A:$Z,MATCH(\"Average kW\",'Data Billing Quantities'!4:4,0),FALSE),IF(COUNTIF(A1,\"*High*\")>0,VLOOKUP(B3,'Data Billing Quantities'!$A:$Z,MATCH(\"High kW\",'Data Billing Quantities'!4:4,0),FALSE),\"error\"))))","v":0}]
["Loss factor",{"$f":"VLOOKUP(B3,'Data Billing Quantities'!A:D,MATCH(A6,'Data Billing Quantities'!4:4,0),FALSE)","v":1.0920000000000001}]
["Commodity Threshold",{"$f":"VLOOKUP(B3,'Data Billing Quantities'!A:D,MATCH(A7,'Data Billing Quantities'!4:4,0),FALSE)","v":750}]
["Monthly Consumption (kWh) - Uplifted",{"$f":"B4*B6","v":109.2}]
["Charge determinant",{"$f":"VLOOKUP(B3,'Data Billing Quantities'!A:D,MATCH(A9,'Data Billing Quantities'!4:4,0),FALSE)","v":"kWh"}]
[]
[null,"Volume","Current Rate ($)","Current Charge ($)","Volume","Proposed Rate ($)","Proposed Charge ($)","Change ($)","Change (%)","% of Total Bill on RPP"]
["Energy First Tier",{"$f":"IF(B4>B7,B7,B4)","v":100},{"$f":"VLOOKUP($A12,'Data Pass Through'!$A:$D,2,FALSE)","v":0.10100000000000001},{"$f":"B12*C12","v":10.100000000000001},{"$f":"B12","v":100},{"$f":"VLOOKUP($A12,'Data Pass Through'!$A:$D,3,FALSE)","v":0.10100000000000001},{"$f":"E12*F12","v":10.100000000000001},{"$f":"G12-D12","v":0},{"$f":"IF(ISERROR(H12/ABS(D12)),\"N/A\",(H12/ABS(D12)))","v":0},{"$f":"G12/$G$41","v":0.20650866468728157}]
["Energy Second Tier",{"$f":"IF(B4>B7,(B4)-B7,0)","v":0},{"$f":"VLOOKUP($A13,'Data Pass Through'!$A:$D,2,FALSE)","v":0.11799999999999999},{"$f":"B13*C13","v":0},{"$f":"B13","v":0},{"$f":"VLOOKUP($A13,'Data Pass Through'!$A:$D,3,FALSE)","v":0.11799999999999999},{"$f":"E13*F13","v":0},0,"N/A",0]
["Sub-Total:  Energy (RPP Tiered)",null,null,{"$f":"SUM(D12:D13)","v":10.100000000000001},null,null,{"$f":"SUM(G12:G13)","v":10.100000000000001},0,0,0.20650866468728157]
["Service Charge",1,{"$f":"VLOOKUP($B$3,'Data Current Rates'!$A:$BE,MATCH(BI_USL_Low!$A15,CurrentHeader,0),FALSE)","v":37.58},{"$f":"B15*C15","v":37.58},1,{"$f":"VLOOKUP($B$3,'Data Proposed Rates'!$A:$BC,MATCH(BI_USL_Low!$A15,ProposedHeader,0),FALSE)","v":37.58},{"$f":"E15*F15","v":37.58},0,0,0.7683758038562416]
["Base Rate Adjustment to Recover Past Tax Amounts FIXED",null,null,null,1,{"$f":"VLOOKUP($B$3,'Data Proposed Rates'!$A:$BC,MATCH(BI_USL_Low!$A16,ProposedHeader,0),FALSE)","v":0.89},0.89,0.89,"N/A",1.8197298175413917E-2]
["Fixed Deferral/Variance Account Rider (General)",1,{"$f":"VLOOKUP($B$3,'Data Current Rates'!$A:$BE,MATCH(BI_USL_Low!$A17,CurrentHeader,0),FALSE)","v":0},{"$f":"B17*C17","v":0},1,{"$f":"VLOOKUP($B$3,'Data Proposed Rates'!$A:$BC,MATCH(BI_USL_Low!$A17,ProposedHeader,0),FALSE)","v":0},0,0,"N/A",0]
["Fixed ESM Rider",1,{"$f":"VLOOKUP($B$3,'Data Current Rates'!$A:$BE,MATCH(BI_USL_Low!$A18,CurrentHeader,0),FALSE)","v":-0.53},-0.53,1,{"$f":"VLOOKUP($B$3,'Data Proposed Rates'!$A:$BC,MATCH(BI_USL_Low!$A18,ProposedHeader,0),FALSE)","v":-0.53},-0.53,0,0,-1.083659329547121E-2]
["Distribution Volumetric Charge",{"$f":"IF($B$9=\"kWh\",$B$4,$B$5)","v":100},{"$f":"VLOOKUP($B$3,'Data Current Rates'!$A:$BE,MATCH(BI_USL_Low!$A19,CurrentHeader,0),FALSE)","v":2.5100000000000001E-2},2.5100000000000002,{"$f":"IF($B$9=\"kWh\",$B$4,$B$5)","v":100},{"$f":"VLOOKUP($B$3,'Data Proposed Rates'!$A:$BC,MATCH(BI_USL_Low!$A19,ProposedHeader,0),FALSE)","v":2.5100000000000001E-2},2.5100000000000002,0,0,5.1320470135156109E-2]
["Base Rate Adjustment to Recover Past Tax Amounts VOL",null,null,null,{"$f":"IF($B$9=\"kWh\",$B$4,$B$5)","v":100},{"$f":"VLOOKUP($B$3,'Data Proposed Rates'!$A:$BC,MATCH(BI_USL_Low!$A20,ProposedHeader,0),FALSE)","v":5.9999999999999995E-4},0.06,0.06,"N/A",1.226784146657118E-3]
["Volumetric Deferral/Variance Account Rider (General)",{"$f":"IF($B$9=\"kWh\",$B$4,$B$5)","v":100},{"$f":"VLOOKUP($B$3,'Data Current Rates'!$A:$BE,MATCH(BI_USL_Low!$A21,CurrentHeader,0),FALSE)","v":1E-4},0.01,100,{"$f":"VLOOKUP($B$3,'Data Proposed Rates'!$A:$BC,MATCH(BI_USL_Low!$A21,ProposedHeader,0),FALSE)","v":1E-4},0.01,0,0,2.04464024442853E-4]
["Volumetric ESM Rider",100,{"$f":"VLOOKUP($B$3,'Data Current Rates'!$A:$BE,MATCH(BI_USL_Low!$A22,CurrentHeader,0),FALSE)","v":-4.0000000000000002E-4},-0.04,100,{"$f":"VLOOKUP($B$3,'Data Proposed Rates'!$A:$BC,MATCH(BI_USL_Low!$A22,ProposedHeader,0),FALSE)","v":-4.0000000000000002E-4},-0.04,0,0,-8.17856097771412E-4]
["Sub-Total:  Distribution (excluding pass through)",null,null,{"$f":"SUM(INDIRECT(\"D15:D\"&ROW()-1))","v":39.529999999999994},null,null,{"$f":"SUM(INDIRECT(\"g15:g\"&ROW()-1))","v":40.479999999999997},{"$f":"G23-D23","v":0.95000000000000284},2.4032380470528789E-2,0.82767037094466889]
[]
["Line Losses on Cost of Power (based on two-tier RPP prices)",{"$f":"B8-B4","v":9.2000000000000028},{"$f":"IF(B4>B7,C13,C12)","v":0.10100000000000001},{"$f":"B25*C25","v":0.92920000000000036},9.2000000000000028,{"$f":"IF(B4>B7,F13,F12)","v":0.10100000000000001},{"$f":"E25*F25","v":0.92920000000000036},0,0,{"$f":"G25/$G$41","v":1.8998797151229908E-2}]
["Sub-Total:  Distribution (based on two-tier RPP prices)",null,null,{"$f":"SUM(D23,D24:D25)","v":40.459199999999996},null,null,{"$f":"SUM(G23,G24:G25)","v":41.409199999999998},0.95000000000000284,2.3480444497172532E-2,0.84666916809589887]
["Retail Transmission Rate – Network Service Rate",{"$f":"B8","v":109.2},{"$f":"VLOOKUP($B$3,'Data Current Rates'!$A:$BE,MATCH(BI_USL_Low!$A27,CurrentHeader,0),FALSE)","v":5.4000000000000003E-3},{"$f":"B27*C27","v":0.58968000000000009},109.2,{"$f":"VLOOKUP($B$3,'Data Proposed Rates'!$A:$BC,MATCH(BI_USL_Low!$A27,ProposedHeader,0),FALSE)","v":5.4000000000000003E-3},{"$f":"E27*F27","v":0.58968000000000009},{"$f":"G27-D27","v":0},0,1.2056834593346158E-2]
["Retail Transmission Rate – Line and Transformation Connection Service Rate",{"$f":"B8","v":109.2},{"$f":"VLOOKUP($B$3,'Data Current Rates'!$A:$BE,MATCH(BI_USL_Low!$A28,CurrentHeader,0),FALSE)","v":4.5999999999999999E-3},{"$f":"B28*C28","v":0.50231999999999999},109.2,{"$f":"VLOOKUP($B$3,'Data Proposed Rates'!$A:$BC,MATCH(BI_USL_Low!$A28,ProposedHeader,0),FALSE)","v":4.5999999999999999E-3},{"$f":"E28*F28","v":0.50231999999999999},{"$f":"G28-D28","v":0},0,1.0270636875813392E-2]
["Sub-Total:  Retail Transmission ",null,null,{"$f":"SUM(D27:D28)","v":1.0920000000000001},null,null,{"$f":"SUM(G27:G28)","v":1.0920000000000001},{"$f":"G29-D29","v":0},0,2.232747146915955E-2]
["Sub-Total:  Delivery (based on two-tier RPP prices)",null,null,{"$f":"D26+D29","v":41.551199999999994},null,null,{"$f":"G26+G29","v":42.501199999999997},{"$f":"G30-D30","v":0.95000000000000284},2.2863358940295418E-2,0.86899663956505835]
["Wholesale Market Service Rate (WMS) - not including CBR",{"$f":"B8","v":109.2},{"$f":"VLOOKUP($A31,'Data Pass Through'!$A:$D,2,FALSE)","v":3.0000000000000001E-3},{"$f":"B31*C31","v":0.3276},{"$f":"$B$8","v":109.2},{"$f":"VLOOKUP($A31,'Data Pass Through'!$A:$D,3,FALSE)","v":3.0000000000000001E-3},{"$f":"E31*F31","v":0.3276},{"$f":"G31-D31","v":0},0,6.6982414407478642E-3]
["Capacity Based Recovery (CBR) - Applicable for Class B Customers",{"$f":"B8","v":109.2},{"$f":"VLOOKUP($A32,'Data Pass Through'!$A:$D,2,FALSE)","v":4.0000000000000002E-4},{"$f":"B32*C32","v":4.3680000000000004E-2},{"$f":"$B$8","v":109.2},{"$f":"VLOOKUP($A32,'Data Pass Through'!$A:$D,3,FALSE)","v":4.0000000000000002E-4},{"$f":"E32*F32","v":4.3680000000000004E-2},0,0,8.9309885876638195E-4]
["Rural Rate Protection Charge",{"$f":"B8","v":109.2},{"$f":"VLOOKUP($A33,'Data Pass Through'!$A:$D,2,FALSE)","v":5.0000000000000001E-4},5.4600000000000003E-2,109.2,{"$f":"VLOOKUP($A33,'Data Pass Through'!$A:$D,3,FALSE)","v":5.0000000000000001E-4},5.4600000000000003E-2,0,0,1.1163735734579774E-3]
["Standard Supply Service – Administration Charge (if applicable)",1,{"$f":"VLOOKUP($A34,'Data Pass Through'!$A:$D,2,FALSE)","v":0.25},{"$f":"B34*C34","v":0.25},1,{"$f":"VLOOKUP($A34,'Data Pass Through'!$A:$D,3,FALSE)","v":0.25},0.25,0,0,5.1116006110713255E-3]
["Sub-Total:  Regulatory",null,null,{"$f":"SUM(D31:D34)","v":0.67588000000000004},null,null,{"$f":"SUM(G31:G34)","v":0.67588000000000004},0,0,1.3819314484043549E-2]
["Debt Retirement Charge (DRC)",{"$f":"B4","v":100},{"$f":"VLOOKUP($A36,'Data Pass Through'!$A:$D,2,FALSE)","v":0},{"$f":"B36*C36","v":0},100,{"$f":"VLOOKUP($A36,'Data Pass Through'!$A:$D,3,FALSE)","v":0},{"$f":"E36*F36","v":0},0,"N/A",0]
["Total  Electricty Charge on Two-Tier RPP ",null,null,{"$f":"SUM(D14,D23,D24,D25,D29,D35,D36)","v":52.327079999999995},null,null,{"$f":"SUM(G14,G23,G24,G25,G29,G35,G36)","v":53.277079999999998},0.95000000000000284,1.8155035595336162E-2,1.0893246187363834]
["     HST",null,0.13,{"$f":"D37*C38","v":6.8025203999999997},null,{"$f":"C38","v":0.13},{"$f":"G37*F38","v":6.9260203999999996},0.12349999999999994,1.8155035595336096E-2,0.14161220043572983]
["Total Electricity Charge on Two-Tier RPP (including HST)",null,null,{"$f":"SUM(D37:D38)","v":59.129600399999994},null,null,{"$f":"SUM(G37:G38)","v":60.203100399999997},1.0735000000000028,1.8155035595336155E-2,1.2309368191721133]
["Ontario Electricity Rebate (OER)",null,{"$f":"'Data Pass Through'!B20","v":-0.21199999999999999},{"$f":"D37*C40","v":-11.093340959999999},null,{"$f":"'Data Pass Through'!C20","v":-0.21199999999999999},{"$f":"G37*F40","v":-11.294740959999999},-0.20139999999999958,-1.8155035595336069E-2,-0.23093681917211328]
["Total Amount on Two-Tier RPP",null,null,{"$f":"SUM(D39:D40)","v":48.036259439999995},null,null,{"$f":"SUM(G39:G40)","v":48.908359439999998},0.87210000000000321,1.8155035595336173E-2,1]

{"sheet":"BI_USL_Avg","index":55,"n_rows":41,"n_cols":10,"rows_kept":41,"cut":false,"hidden":false,"merged":[[0,0,0,9]]}
["2021 Bill Impacts (Average Consumption Level) - USL"]
[]
["Rate Class",{"$f":"RIGHT(A1,LEN(A1)-FIND(\"- \",A1,1)-1)","v":"USL"}]
["Monthly Consumption (kWh)",{"$f":"IF(COUNTIF(A1,\"*Low*\")>0,VLOOKUP(B3,'Data Billing Quantities'!$A:$Z,MATCH(\"Low kWh\",'Data Billing Quantities'!4:4,0),FALSE),IF(COUNTIF(A1,\"*Typical*\")>0,VLOOKUP(B3,'Data Billing Quantities'!$A:$Z,MATCH(\"Typical kWh\",'Data Billing Quantities'!4:4,0),FALSE),IF(COUNTIF(A1,\"*Average*\")>0,VLOOKUP(B3,'Data Billing Quantities'!$A:$Z,MATCH(\"Average kWh\",'Data Billing Quantities'!4:4,0),FALSE),IF(COUNTIF(A1,\"*High*\")>0,VLOOKUP(B3,'Data Billing Quantities'!$A:$Z,MATCH(\"High kWh\",'Data Billing Quantities'!4:4,0),FALSE),\"error\"))))","v":364}]
["Peak (kW)",{"$f":"IF(COUNTIF(A1,\"*Low*\")>0,VLOOKUP(B3,'Data Billing Quantities'!$A:$Z,MATCH(\"Low kW\",'Data Billing Quantities'!4:4,0),FALSE),IF(COUNTIF(A1,\"*Typical*\")>0,VLOOKUP(B3,'Data Billing Quantities'!$A:$Z,MATCH(\"Typical kW\",'Data Billing Quantities'!4:4,0),FALSE),IF(COUNTIF(A1,\"*Average*\")>0,VLOOKUP(B3,'Data Billing Quantities'!$A:$Z,MATCH(\"Average kW\",'Data Billing Quantities'!4:4,0),FALSE),IF(COUNTIF(A1,\"*High*\")>0,VLOOKUP(B3,'Data Billing Quantities'!$A:$Z,MATCH(\"High kW\",'Data Billing Quantities'!4:4,0),FALSE),\"error\"))))","v":0}]
["Loss factor",{"$f":"VLOOKUP(B3,'Data Billing Quantities'!A:D,MATCH(A6,'Data Billing Quantities'!4:4,0),FALSE)","v":1.0920000000000001}]
["Commodity Threshold",{"$f":"VLOOKUP(B3,'Data Billing Quantities'!A:D,MATCH(A7,'Data Billing Quantities'!4:4,0),FALSE)","v":750}]
["Monthly Consumption (kWh) - Uplifted",{"$f":"B4*B6","v":397.48800000000006}]
["Charge determinant",{"$f":"VLOOKUP(B3,'Data Billing Quantities'!A:D,MATCH(A9,'Data Billing Quantities'!4:4,0),FALSE)","v":"kWh"}]
[]
[null,"Volume","Current Rate ($)","Current Charge ($)","Volume","Proposed Rate ($)","Proposed Charge ($)","Change ($)","Change (%)","% of Total Bill on RPP"]
["Energy First Tier",{"$f":"IF(B4>B7,B7,B4)","v":364},{"$f":"VLOOKUP($A12,'Data Pass Through'!$A:$D,2,FALSE)","v":0.10100000000000001},{"$f":"B12*C12","v":36.764000000000003},{"$f":"B12","v":364},{"$f":"VLOOKUP($A12,'Data Pass Through'!$A:$D,3,FALSE)","v":0.10100000000000001},{"$f":"E12*F12","v":36.764000000000003},{"$f":"G12-D12","v":0},{"$f":"IF(ISERROR(H12/ABS(D12)),\"N/A\",(H12/ABS(D12)))","v":0},{"$f":"G12/$G$41","v":0.43012816083554872}]
["Energy Second Tier",{"$f":"IF(B4>B7,(B4)-B7,0)","v":0},{"$f":"VLOOKUP($A13,'Data Pass Through'!$A:$D,2,FALSE)","v":0.11799999999999999},{"$f":"B13*C13","v":0},{"$f":"B13","v":0},{"$f":"VLOOKUP($A13,'Data Pass Through'!$A:$D,3,FALSE)","v":0.11799999999999999},{"$f":"E13*F13","v":0},0,"N/A",0]
["Sub-Total:  Energy (RPP Tiered)",null,null,{"$f":"SUM(D12:D13)","v":36.764000000000003},null,null,{"$f":"SUM(G12:G13)","v":36.764000000000003},0,0,0.43012816083554872]
["Service Charge",1,{"$f":"VLOOKUP($B$3,'Data Current Rates'!$A:$BE,MATCH(BI_USL_Avg!$A15,CurrentHeader,0),FALSE)","v":37.58},{"$f":"B15*C15","v":37.58},1,{"$f":"VLOOKUP($B$3,'Data Proposed Rates'!$A:$BC,MATCH(BI_USL_Avg!$A15,ProposedHeader,0),FALSE)","v":37.58},{"$f":"E15*F15","v":37.58},0,0,0.43967512469263187]
["Base Rate Adjustment to Recover Past Tax Amounts FIXED",null,null,null,1,{"$f":"VLOOKUP($B$3,'Data Proposed Rates'!$A:$BC,MATCH(BI_USL_Avg!$A16,ProposedHeader,0),FALSE)","v":0.89},0.89,0.89,"N/A",1.0412742442161851E-2]
["Fixed Deferral/Variance Account Rider (General)",1,{"$f":"VLOOKUP($B$3,'Data Current Rates'!$A:$BE,MATCH(BI_USL_Avg!$A17,CurrentHeader,0),FALSE)","v":0},{"$f":"B17*C17","v":0},1,{"$f":"VLOOKUP($B$3,'Data Proposed Rates'!$A:$BC,MATCH(BI_USL_Avg!$A17,ProposedHeader,0),FALSE)","v":0},0,0,"N/A",0]
["Fixed ESM Rider",1,{"$f":"VLOOKUP($B$3,'Data Current Rates'!$A:$BE,MATCH(BI_USL_Avg!$A18,CurrentHeader,0),FALSE)","v":-0.53},-0.53,1,{"$f":"VLOOKUP($B$3,'Data Proposed Rates'!$A:$BC,MATCH(BI_USL_Avg!$A18,ProposedHeader,0),FALSE)","v":-0.53},-0.53,0,0,-6.2008466228604285E-3]
["Distribution Volumetric Charge",{"$f":"IF($B$9=\"kWh\",$B$4,$B$5)","v":364},{"$f":"VLOOKUP($B$3,'Data Current Rates'!$A:$BE,MATCH(BI_USL_Avg!$A19,CurrentHeader,0),FALSE)","v":2.5100000000000001E-2},9.1364000000000001,{"$f":"IF($B$9=\"kWh\",$B$4,$B$5)","v":364},{"$f":"VLOOKUP($B$3,'Data Proposed Rates'!$A:$BC,MATCH(BI_USL_Avg!$A19,ProposedHeader,0),FALSE)","v":2.5100000000000001E-2},9.1364000000000001,0,0,0.10689323600962645]
["Base Rate Adjustment to Recover Past Tax Amounts VOL",null,null,null,{"$f":"IF($B$9=\"kWh\",$B$4,$B$5)","v":364},{"$f":"VLOOKUP($B$3,'Data Proposed Rates'!$A:$BC,MATCH(BI_USL_Avg!$A20,ProposedHeader,0),FALSE)","v":5.9999999999999995E-4},0.21839999999999998,0.21839999999999998,"N/A",2.555216797042863E-3]
["Volumetric Deferral/Variance Account Rider (General)",{"$f":"IF($B$9=\"kWh\",$B$4,$B$5)","v":364},{"$f":"VLOOKUP($B$3,'Data Current Rates'!$A:$BE,MATCH(BI_USL_Avg!$A21,CurrentHeader,0),FALSE)","v":1E-4},3.6400000000000002E-2,364,{"$f":"VLOOKUP($B$3,'Data Proposed Rates'!$A:$BC,MATCH(BI_USL_Avg!$A21,ProposedHeader,0),FALSE)","v":1E-4},3.6400000000000002E-2,0,0,4.258694661738106E-4]
["Volumetric ESM Rider",364,{"$f":"VLOOKUP($B$3,'Data Current Rates'!$A:$BE,MATCH(BI_USL_Avg!$A22,CurrentHeader,0),FALSE)","v":-4.0000000000000002E-4},-0.14560000000000001,364,{"$f":"VLOOKUP($B$3,'Data Proposed Rates'!$A:$BC,MATCH(BI_USL_Avg!$A22,ProposedHeader,0),FALSE)","v":-4.0000000000000002E-4},-0.14560000000000001,0,0,-1.7034778646952424E-3]
["Sub-Total:  Distribution (excluding pass through)",null,null,{"$f":"SUM(INDIRECT(\"D15:D\"&ROW()-1))","v":46.077199999999998},null,null,{"$f":"SUM(INDIRECT(\"g15:g\"&ROW()-1))","v":47.185600000000001},{"$f":"G23-D23","v":1.1084000000000032},2.4055281136874707E-2,0.55205786492008124]
[]
["Line Losses on Cost of Power (based on two-tier RPP prices)",{"$f":"B8-B4","v":33.488000000000056},{"$f":"IF(B4>B7,C13,C12)","v":0.10100000000000001},{"$f":"B25*C25","v":3.3822880000000057},33.488000000000056,{"$f":"IF(B4>B7,F13,F12)","v":0.10100000000000001},{"$f":"E25*F25","v":3.3822880000000057},0,0,{"$f":"G25/$G$41","v":3.9571790796870544E-2}]
["Sub-Total:  Distribution (based on two-tier RPP prices)",null,null,{"$f":"SUM(D23,D24:D25)","v":49.459488},null,null,{"$f":"SUM(G23,G24:G25)","v":50.567888000000004},1.1084000000000032,2.2410260292221446E-2,0.5916296557169517]
["Retail Transmission Rate – Network Service Rate",{"$f":"B8","v":397.48800000000006},{"$f":"VLOOKUP($B$3,'Data Current Rates'!$A:$BE,MATCH(BI_USL_Avg!$A27,CurrentHeader,0),FALSE)","v":5.4000000000000003E-3},{"$f":"B27*C27","v":2.1464352000000004},397.48800000000006,{"$f":"VLOOKUP($B$3,'Data Proposed Rates'!$A:$BC,MATCH(BI_USL_Avg!$A27,ProposedHeader,0),FALSE)","v":5.4000000000000003E-3},{"$f":"E27*F27","v":2.1464352000000004},{"$f":"G27-D27","v":0},0,2.5112670681337265E-2]
["Retail Transmission Rate – Line and Transformation Connection Service Rate",{"$f":"B8","v":397.48800000000006},{"$f":"VLOOKUP($B$3,'Data Current Rates'!$A:$BE,MATCH(BI_USL_Avg!$A28,CurrentHeader,0),FALSE)","v":4.5999999999999999E-3},{"$f":"B28*C28","v":1.8284448000000002},397.48800000000006,{"$f":"VLOOKUP($B$3,'Data Proposed Rates'!$A:$BC,MATCH(BI_USL_Avg!$A28,ProposedHeader,0),FALSE)","v":4.5999999999999999E-3},{"$f":"E28*F28","v":1.8284448000000002},{"$f":"G28-D28","v":0},0,2.1392275024842856E-2]
["Sub-Total:  Retail Transmission ",null,null,{"$f":"SUM(D27:D28)","v":3.9748800000000006},null,null,{"$f":"SUM(G27:G28)","v":3.9748800000000006},{"$f":"G29-D29","v":0},0,4.650494570618012E-2]
["Sub-Total:  Delivery (based on two-tier RPP prices)",null,null,{"$f":"D26+D29","v":53.434367999999999},null,null,{"$f":"G26+G29","v":54.542768000000002},{"$f":"G30-D30","v":1.1084000000000032},2.0743204074201892E-2,0.63813460142313183]
["Wholesale Market Service Rate (WMS) - not including CBR",{"$f":"B8","v":397.48800000000006},{"$f":"VLOOKUP($A31,'Data Pass Through'!$A:$D,2,FALSE)","v":3.0000000000000001E-3},{"$f":"B31*C31","v":1.1924640000000002},{"$f":"$B$8","v":397.48800000000006},{"$f":"VLOOKUP($A31,'Data Pass Through'!$A:$D,3,FALSE)","v":3.0000000000000001E-3},{"$f":"E31*F31","v":1.1924640000000002},{"$f":"G31-D31","v":0},0,1.3951483711854036E-2]
["Capacity Based Recovery (CBR) - Applicable for Class B Customers",{"$f":"B8","v":397.48800000000006},{"$f":"VLOOKUP($A32,'Data Pass Through'!$A:$D,2,FALSE)","v":4.0000000000000002E-4},{"$f":"B32*C32","v":0.15899520000000003},{"$f":"$B$8","v":397.48800000000006},{"$f":"VLOOKUP($A32,'Data Pass Through'!$A:$D,3,FALSE)","v":4.0000000000000002E-4},{"$f":"E32*F32","v":0.15899520000000003},0,0,1.8601978282472048E-3]
["Rural Rate Protection Charge",{"$f":"B8","v":397.48800000000006},{"$f":"VLOOKUP($A33,'Data Pass Through'!$A:$D,2,FALSE)","v":5.0000000000000001E-4},0.19874400000000003,397.48800000000006,{"$f":"VLOOKUP($A33,'Data Pass Through'!$A:$D,3,FALSE)","v":5.0000000000000001E-4},0.19874400000000003,0,0,2.3252472853090059E-3]
["Standard Supply Service – Administration Charge (if applicable)",1,{"$f":"VLOOKUP($A34,'Data Pass Through'!$A:$D,2,FALSE)","v":0.25},{"$f":"B34*C34","v":0.25},1,{"$f":"VLOOKUP($A34,'Data Pass Through'!$A:$D,3,FALSE)","v":0.25},0.25,0,0,2.9249276522926551E-3]
["Sub-Total:  Regulatory",null,null,{"$f":"SUM(D31:D34)","v":1.8002032000000003},null,null,{"$f":"SUM(G31:G34)","v":1.8002032000000003},0,0,2.1061856477702902E-2]
["Debt Retirement Charge (DRC)",{"$f":"B4","v":364},{"$f":"VLOOKUP($A36,'Data Pass Through'!$A:$D,2,FALSE)","v":0},{"$f":"B36*C36","v":0},364,{"$f":"VLOOKUP($A36,'Data Pass Through'!$A:$D,3,FALSE)","v":0},{"$f":"E36*F36","v":0},0,"N/A",0]
["Total  Electricty Charge on Two-Tier RPP ",null,null,{"$f":"SUM(D14,D23,D24,D25,D29,D35,D36)","v":91.998571200000001},null,null,{"$f":"SUM(G14,G23,G24,G25,G29,G35,G36)","v":93.106971200000004},1.1084000000000032,1.2048013197839784E-2,1.0893246187363834]
["     HST",null,0.13,{"$f":"D37*C38","v":11.959814256000001},null,{"$f":"C38","v":0.13},{"$f":"G37*F38","v":12.103906256},0.14409199999999878,1.2048013197839647E-2,0.14161220043572983]
["Total Electricity Charge on Two-Tier RPP (including HST)",null,null,{"$f":"SUM(D37:D38)","v":103.958385456},null,null,{"$f":"SUM(G37:G38)","v":105.21087745600001},1.2524920000000037,1.2048013197839786E-2,1.2309368191721133]
["Ontario Electricity Rebate (OER)",null,{"$f":"'Data Pass Through'!B20","v":-0.21199999999999999},{"$f":"D37*C40","v":-19.5036970944},null,{"$f":"'Data Pass Through'!C20","v":-0.21199999999999999},{"$f":"G37*F40","v":-19.738677894399999},-0.23498079999999888,-1.2048013197839694E-2,-0.23093681917211326]
["Total Amount on Two-Tier RPP",null,null,{"$f":"SUM(D39:D40)","v":84.454688361600006},null,null,{"$f":"SUM(G39:G40)","v":85.472199561600007},1.0175112000000013,1.2048013197839765E-2,1]

{"sheet":"BI_USL_High","index":56,"n_rows":41,"n_cols":10,"rows_kept":41,"cut":false,"hidden":false,"merged":[[0,0,0,9]]}
["2021 Bill Impacts (High Consumption Level) - USL"]
[]
["Rate Class",{"$f":"RIGHT(A1,LEN(A1)-FIND(\"- \",A1,1)-1)","v":"USL"}]
["Monthly Consumption (kWh)",{"$f":"IF(COUNTIF(A1,\"*Low*\")>0,VLOOKUP(B3,'Data Billing Quantities'!$A:$Z,MATCH(\"Low kWh\",'Data Billing Quantities'!4:4,0),FALSE),IF(COUNTIF(A1,\"*Typical*\")>0,VLOOKUP(B3,'Data Billing Quantities'!$A:$Z,MATCH(\"Typical kWh\",'Data Billing Quantities'!4:4,0),FALSE),IF(COUNTIF(A1,\"*Average*\")>0,VLOOKUP(B3,'Data Billing Quantities'!$A:$Z,MATCH(\"Average kWh\",'Data Billing Quantities'!4:4,0),FALSE),IF(COUNTIF(A1,\"*High*\")>0,VLOOKUP(B3,'Data Billing Quantities'!$A:$Z,MATCH(\"High kWh\",'Data Billing Quantities'!4:4,0),FALSE),\"error\"))))","v":1000}]
["Peak (kW)",{"$f":"IF(COUNTIF(A1,\"*Low*\")>0,VLOOKUP(B3,'Data Billing Quantities'!$A:$Z,MATCH(\"Low kW\",'Data Billing Quantities'!4:4,0),FALSE),IF(COUNTIF(A1,\"*Typical*\")>0,VLOOKUP(B3,'Data Billing Quantities'!$A:$Z,MATCH(\"Typical kW\",'Data Billing Quantities'!4:4,0),FALSE),IF(COUNTIF(A1,\"*Average*\")>0,VLOOKUP(B3,'Data Billing Quantities'!$A:$Z,MATCH(\"Average kW\",'Data Billing Quantities'!4:4,0),FALSE),IF(COUNTIF(A1,\"*High*\")>0,VLOOKUP(B3,'Data Billing Quantities'!$A:$Z,MATCH(\"High kW\",'Data Billing Quantities'!4:4,0),FALSE),\"error\"))))","v":0}]
["Loss factor",{"$f":"VLOOKUP(B3,'Data Billing Quantities'!A:D,MATCH(A6,'Data Billing Quantities'!4:4,0),FALSE)","v":1.0920000000000001}]
["Commodity Threshold",{"$f":"VLOOKUP(B3,'Data Billing Quantities'!A:D,MATCH(A7,'Data Billing Quantities'!4:4,0),FALSE)","v":750}]
["Monthly Consumption (kWh) - Uplifted",{"$f":"B4*B6","v":1092}]
["Charge determinant",{"$f":"VLOOKUP(B3,'Data Billing Quantities'!A:D,MATCH(A9,'Data Billing Quantities'!4:4,0),FALSE)","v":"kWh"}]
[]
[null,"Volume","Current Rate ($)","Current Charge ($)","Volume","Proposed Rate ($)","Proposed Charge ($)","Change ($)","Change (%)","% of Total Bill on RPP"]
["Energy First Tier",{"$f":"IF(B4>B7,B7,B4)","v":750},{"$f":"VLOOKUP($A12,'Data Pass Through'!$A:$D,2,FALSE)","v":0.10100000000000001},{"$f":"B12*C12","v":75.75},{"$f":"B12","v":750},{"$f":"VLOOKUP($A12,'Data Pass Through'!$A:$D,3,FALSE)","v":0.10100000000000001},{"$f":"E12*F12","v":75.75},{"$f":"G12-D12","v":0},{"$f":"IF(ISERROR(H12/ABS(D12)),\"N/A\",(H12/ABS(D12)))","v":0},{"$f":"G12/$G$41","v":0.42343258271095624}]
["Energy Second Tier",{"$f":"IF(B4>B7,(B4)-B7,0)","v":250},{"$f":"VLOOKUP($A13,'Data Pass Through'!$A:$D,2,FALSE)","v":0.11799999999999999},{"$f":"B13*C13","v":29.5},{"$f":"B13","v":250},{"$f":"VLOOKUP($A13,'Data Pass Through'!$A:$D,3,FALSE)","v":0.11799999999999999},{"$f":"E13*F13","v":29.5},0,0,0.16490113782142848]
["Sub-Total:  Energy (RPP Tiered)",null,null,{"$f":"SUM(D12:D13)","v":105.25},null,null,{"$f":"SUM(G12:G13)","v":105.25},0,0,0.58833372053238475]
["Service Charge",1,{"$f":"VLOOKUP($B$3,'Data Current Rates'!$A:$BE,MATCH(BI_USL_High!$A15,CurrentHeader,0),FALSE)","v":37.58},{"$f":"B15*C15","v":37.58},1,{"$f":"VLOOKUP($B$3,'Data Proposed Rates'!$A:$BC,MATCH(BI_USL_High!$A15,ProposedHeader,0),FALSE)","v":37.58},{"$f":"E15*F15","v":37.58},0,0,0.21006727997726382]
["Base Rate Adjustment to Recover Past Tax Amounts FIXED",null,null,null,1,{"$f":"VLOOKUP($B$3,'Data Proposed Rates'!$A:$BC,MATCH(BI_USL_High!$A16,ProposedHeader,0),FALSE)","v":0.89},0.89,0.89,"N/A",4.9749834800363176E-3]
["Fixed Deferral/Variance Account Rider (General)",1,{"$f":"VLOOKUP($B$3,'Data Current Rates'!$A:$BE,MATCH(BI_USL_High!$A17,CurrentHeader,0),FALSE)","v":0},{"$f":"B17*C17","v":0},1,{"$f":"VLOOKUP($B$3,'Data Proposed Rates'!$A:$BC,MATCH(BI_USL_High!$A17,ProposedHeader,0),FALSE)","v":0},0,0,"N/A",0]
["Fixed ESM Rider",1,{"$f":"VLOOKUP($B$3,'Data Current Rates'!$A:$BE,MATCH(BI_USL_High!$A18,CurrentHeader,0),FALSE)","v":-0.53},-0.53,1,{"$f":"VLOOKUP($B$3,'Data Proposed Rates'!$A:$BC,MATCH(BI_USL_High!$A18,ProposedHeader,0),FALSE)","v":-0.53},-0.53,0,0,-2.9626306117070205E-3]
["Distribution Volumetric Charge",{"$f":"IF($B$9=\"kWh\",$B$4,$B$5)","v":1000},{"$f":"VLOOKUP($B$3,'Data Current Rates'!$A:$BE,MATCH(BI_USL_High!$A19,CurrentHeader,0),FALSE)","v":2.5100000000000001E-2},25.1,{"$f":"IF($B$9=\"kWh\",$B$4,$B$5)","v":1000},{"$f":"VLOOKUP($B$3,'Data Proposed Rates'!$A:$BC,MATCH(BI_USL_High!$A19,ProposedHeader,0),FALSE)","v":2.5100000000000001E-2},25.1,0,0,0.14030571387518154]
["Base Rate Adjustment to Recover Past Tax Amounts VOL",null,null,null,{"$f":"IF($B$9=\"kWh\",$B$4,$B$5)","v":1000},{"$f":"VLOOKUP($B$3,'Data Proposed Rates'!$A:$BC,MATCH(BI_USL_High!$A20,ProposedHeader,0),FALSE)","v":5.9999999999999995E-4},0.6,0.6,"N/A",3.3539214472154948E-3]
["Volumetric Deferral/Variance Account Rider (General)",{"$f":"IF($B$9=\"kWh\",$B$4,$B$5)","v":1000},{"$f":"VLOOKUP($B$3,'Data Current Rates'!$A:$BE,MATCH(BI_USL_High!$A21,CurrentHeader,0),FALSE)","v":1E-4},0.1,1000,{"$f":"VLOOKUP($B$3,'Data Proposed Rates'!$A:$BC,MATCH(BI_USL_High!$A21,ProposedHeader,0),FALSE)","v":1E-4},0.1,0,0,5.5898690786924921E-4]
["Volumetric ESM Rider",1000,{"$f":"VLOOKUP($B$3,'Data Current Rates'!$A:$BE,MATCH(BI_USL_High!$A22,CurrentHeader,0),FALSE)","v":-4.0000000000000002E-4},-0.4,1000,{"$f":"VLOOKUP($B$3,'Data Proposed Rates'!$A:$BC,MATCH(BI_USL_High!$A22,ProposedHeader,0),FALSE)","v":-4.0000000000000002E-4},-0.4,0,0,-2.2359476314769968E-3]
["Sub-Total:  Distribution (excluding pass through)",null,null,{"$f":"SUM(INDIRECT(\"D15:D\"&ROW()-1))","v":61.85},null,null,{"$f":"SUM(INDIRECT(\"g15:g\"&ROW()-1))","v":63.34},{"$f":"G23-D23","v":1.490000000000002},2.4090541632983055E-2,0.35406230744438244]
[]
["Line Losses on Cost of Power (based on two-tier RPP prices)",{"$f":"B8-B4","v":92},{"$f":"IF(B4>B7,C13,C12)","v":0.11799999999999999},{"$f":"B25*C25","v":10.856},92,{"$f":"IF(B4>B7,F13,F12)","v":0.11799999999999999},{"$f":"E25*F25","v":10.856},0,0,{"$f":"G25/$G$41","v":6.0683618718285683E-2}]
["Sub-Total:  Distribution (based on two-tier RPP prices)",null,null,{"$f":"SUM(D23,D24:D25)","v":72.706000000000003},null,null,{"$f":"SUM(G23,G24:G25)","v":74.195999999999998},1.4899999999999949,2.0493494347096453E-2,0.41474592616266809]
["Retail Transmission Rate – Network Service Rate",{"$f":"B8","v":1092},{"$f":"VLOOKUP($B$3,'Data Current Rates'!$A:$BE,MATCH(BI_USL_High!$A27,CurrentHeader,0),FALSE)","v":5.4000000000000003E-3},{"$f":"B27*C27","v":5.8968000000000007},1092,{"$f":"VLOOKUP($B$3,'Data Proposed Rates'!$A:$BC,MATCH(BI_USL_High!$A27,ProposedHeader,0),FALSE)","v":5.4000000000000003E-3},{"$f":"E27*F27","v":5.8968000000000007},{"$f":"G27-D27","v":0},0,3.2962339983233883E-2]
["Retail Transmission Rate – Line and Transformation Connection Service Rate",{"$f":"B8","v":1092},{"$f":"VLOOKUP($B$3,'Data Current Rates'!$A:$BE,MATCH(BI_USL_High!$A28,CurrentHeader,0),FALSE)","v":4.5999999999999999E-3},{"$f":"B28*C28","v":5.0232000000000001},1092,{"$f":"VLOOKUP($B$3,'Data Proposed Rates'!$A:$BC,MATCH(BI_USL_High!$A28,ProposedHeader,0),FALSE)","v":4.5999999999999999E-3},{"$f":"E28*F28","v":5.0232000000000001},{"$f":"G28-D28","v":0},0,2.8079030356088122E-2]
["Sub-Total:  Retail Transmission ",null,null,{"$f":"SUM(D27:D28)","v":10.920000000000002},null,null,{"$f":"SUM(G27:G28)","v":10.920000000000002},{"$f":"G29-D29","v":0},0,6.1041370339322013E-2]
["Sub-Total:  Delivery (based on two-tier RPP prices)",null,null,{"$f":"D26+D29","v":83.626000000000005},null,null,{"$f":"G26+G29","v":85.116},{"$f":"G30-D30","v":1.4899999999999949},1.7817425202688097E-2,0.47578729650199009]
["Wholesale Market Service Rate (WMS) - not including CBR",{"$f":"B8","v":1092},{"$f":"VLOOKUP($A31,'Data Pass Through'!$A:$D,2,FALSE)","v":3.0000000000000001E-3},{"$f":"B31*C31","v":3.2760000000000002},{"$f":"$B$8","v":1092},{"$f":"VLOOKUP($A31,'Data Pass Through'!$A:$D,3,FALSE)","v":3.0000000000000001E-3},{"$f":"E31*F31","v":3.2760000000000002},{"$f":"G31-D31","v":0},0,1.8312411101796603E-2]
["Capacity Based Recovery (CBR) - Applicable for Class B Customers",{"$f":"B8","v":1092},{"$f":"VLOOKUP($A32,'Data Pass Through'!$A:$D,2,FALSE)","v":4.0000000000000002E-4},{"$f":"B32*C32","v":0.43680000000000002},{"$f":"$B$8","v":1092},{"$f":"VLOOKUP($A32,'Data Pass Through'!$A:$D,3,FALSE)","v":4.0000000000000002E-4},{"$f":"E32*F32","v":0.43680000000000002},0,0,2.4416548135728802E-3]
["Rural Rate Protection Charge",{"$f":"B8","v":1092},{"$f":"VLOOKUP($A33,'Data Pass Through'!$A:$D,2,FALSE)","v":5.0000000000000001E-4},0.54600000000000004,1092,{"$f":"VLOOKUP($A33,'Data Pass Through'!$A:$D,3,FALSE)","v":5.0000000000000001E-4},0.54600000000000004,0,0,3.0520685169661004E-3]
["Standard Supply Service – Administration Charge (if applicable)",1,{"$f":"VLOOKUP($A34,'Data Pass Through'!$A:$D,2,FALSE)","v":0.25},{"$f":"B34*C34","v":0.25},1,{"$f":"VLOOKUP($A34,'Data Pass Through'!$A:$D,3,FALSE)","v":0.25},0.25,0,0,1.3974672696731229E-3]
["Sub-Total:  Regulatory",null,null,{"$f":"SUM(D31:D34)","v":4.5087999999999999},null,null,{"$f":"SUM(G31:G34)","v":4.5087999999999999},0,0,2.5203601702008704E-2]
["Debt Retirement Charge (DRC)",{"$f":"B4","v":1000},{"$f":"VLOOKUP($A36,'Data Pass Through'!$A:$D,2,FALSE)","v":0},{"$f":"B36*C36","v":0},1000,{"$f":"VLOOKUP($A36,'Data Pass Through'!$A:$D,3,FALSE)","v":0},{"$f":"E36*F36","v":0},0,"N/A",0]
["Total  Electricty Charge on Two-Tier RPP ",null,null,{"$f":"SUM(D14,D23,D24,D25,D29,D35,D36)","v":193.38479999999998},null,null,{"$f":"SUM(G14,G23,G24,G25,G29,G35,G36)","v":194.87479999999999},1.4900000000000091,7.7048454687235462E-3,1.0893246187363834]
["     HST",null,0.13,{"$f":"D37*C38","v":25.140024},null,{"$f":"C38","v":0.13},{"$f":"G37*F38","v":25.333724},0.19369999999999976,7.7048454687234889E-3,0.14161220043572986]
["Total Electricity Charge on Two-Tier RPP (including HST)",null,null,{"$f":"SUM(D37:D38)","v":218.524824},null,null,{"$f":"SUM(G37:G38)","v":220.20852399999998},1.6836999999999875,7.7048454687234412E-3,1.2309368191721133]
["Ontario Electricity Rebate (OER)",null,{"$f":"'Data Pass Through'!B20","v":-0.21199999999999999},{"$f":"D37*C40","v":-40.997577599999993},null,{"$f":"'Data Pass Through'!C20","v":-0.21199999999999999},{"$f":"G37*F40","v":-41.3134576},-0.31588000000000704,-7.704845468723672E-3,-0.23093681917211331]
["Total Amount on Two-Tier RPP",null,null,{"$f":"SUM(D39:D40)","v":177.5272464},null,null,{"$f":"SUM(G39:G40)","v":178.89506639999999},1.3678199999999947,7.704845468723469E-3,1]

{"sheet":"BI_Dgen_Low","index":57,"n_rows":37,"n_cols":10,"rows_kept":37,"cut":false,"hidden":false,"merged":[[0,0,0,9]]}
["2021 Bill Impacts (Low Consumption Level) - Dgen"]
[]
["Rate Class",{"$f":"RIGHT(A1,LEN(A1)-FIND(\"- \",A1,1)-1)","v":"Dgen"}]
["Monthly Consumption (kWh)",{"$f":"IF(COUNTIF(A1,\"*Low*\")>0,VLOOKUP(B3,'Data Billing Quantities'!$A:$Z,MATCH(\"Low kWh\",'Data Billing Quantities'!4:4,0),FALSE),IF(COUNTIF(A1,\"*Typical*\")>0,VLOOKUP(B3,'Data Billing Quantities'!$A:$Z,MATCH(\"Typical kWh\",'Data Billing Quantities'!4:4,0),FALSE),IF(COUNTIF(A1,\"*Average*\")>0,VLOOKUP(B3,'Data Billing Quantities'!$A:$Z,MATCH(\"Average kWh\",'Data Billing Quantities'!4:4,0),FALSE),IF(COUNTIF(A1,\"*High*\")>0,VLOOKUP(B3,'Data Billing Quantities'!$A:$Z,MATCH(\"High kWh\",'Data Billing Quantities'!4:4,0),FALSE),\"error\"))))","v":300}]
["Peak (kW)",{"$f":"IF(COUNTIF(A1,\"*Low*\")>0,VLOOKUP(B3,'Data Billing Quantities'!$A:$Z,MATCH(\"Low kW\",'Data Billing Quantities'!4:4,0),FALSE),IF(COUNTIF(A1,\"*Typical*\")>0,VLOOKUP(B3,'Data Billing Quantities'!$A:$Z,MATCH(\"Typical kW\",'Data Billing Quantities'!4:4,0),FALSE),IF(COUNTIF(A1,\"*Average*\")>0,VLOOKUP(B3,'Data Billing Quantities'!$A:$Z,MATCH(\"Average kW\",'Data Billing Quantities'!4:4,0),FALSE),IF(COUNTIF(A1,\"*High*\")>0,VLOOKUP(B3,'Data Billing Quantities'!$A:$Z,MATCH(\"High kW\",'Data Billing Quantities'!4:4,0),FALSE),\"error\"))))","v":10}]
["Loss factor",{"$f":"VLOOKUP(B3,'Data Billing Quantities'!A:D,MATCH(A6,'Data Billing Quantities'!4:4,0),FALSE)","v":1.0609999999999999}]
["Load factor",{"$f":"B4/(B5*730)","v":4.1095890410958902E-2}]
["Monthly Consumption (kWh) - Uplifted",{"$f":"B4*B6","v":318.29999999999995}]
["Charge determinant",{"$f":"VLOOKUP(B3,'Data Billing Quantities'!A:D,MATCH(A9,'Data Billing Quantities'!4:4,0),FALSE)","v":"kW"}]
[]
[null,"Volume","Current Rate ($)","Current Charge ($)","Volume","Proposed Rate ($)","Proposed Charge ($)","Change ($)","Change (%)","% of Total Bill "]
["Energy (Non-RPP)*",{"$f":"B8","v":318.29999999999995},{"$f":"VLOOKUP($A12,'Data Pass Through'!A:E,2,FALSE)","v":0.1075},{"$f":"B12*C12","v":34.217249999999993},{"$f":"B8","v":318.29999999999995},{"$f":"VLOOKUP($A12,'Data Pass Through'!A:E,3,FALSE)","v":0.1075},{"$f":"E12*F12","v":34.217249999999993},{"$f":"G12-D12","v":0},{"$f":"IF(ISERROR(H12/ABS(D12)),\"N/A\",(H12/ABS(D12)))","v":0},{"$f":"G12/$G$37","v":8.8143244386616637E-2}]
["Service Charge",1,{"$f":"VLOOKUP($B$3,'Data Current Rates'!$A:$BE,MATCH($A13,CurrentHeader,0),FALSE)","v":195.54},{"$f":"B13*C13","v":195.54},{"$f":"B13","v":1},{"$f":"VLOOKUP($B$3,'Data Proposed Rates'!$A:$BC,MATCH($A13,ProposedHeader,0),FALSE)","v":195.54},{"$f":"E13*F13","v":195.54},0,0,0.50370880206208912]
["Base Rate Adjustment to Recover Past Tax Amounts FIXED",null,null,null,1,{"$f":"VLOOKUP($B$3,'Data Proposed Rates'!$A:$BC,MATCH($A14,ProposedHeader,0),FALSE)","v":1.74},{"$f":"E14*F14","v":1.74},1.74,"N/A",4.4822200858547368E-3]
["Fixed Deferral/Variance Account Rider (General)",1,{"$f":"VLOOKUP($B$3,'Data Current Rates'!$A:$BE,MATCH($A15,CurrentHeader,0),FALSE)","v":0},{"$f":"B15*C15","v":0},1,{"$f":"VLOOKUP($B$3,'Data Proposed Rates'!$A:$BC,MATCH($A15,ProposedHeader,0),FALSE)","v":0},{"$f":"E15*F15","v":0},0,"N/A",0]
["Fixed ESM Rider",1,{"$f":"VLOOKUP($B$3,'Data Current Rates'!$A:$BE,MATCH($A16,CurrentHeader,0),FALSE)","v":-2.74},-2.74,1,{"$f":"VLOOKUP($B$3,'Data Proposed Rates'!$A:$BC,MATCH($A16,ProposedHeader,0),FALSE)","v":-2.74},-2.74,0,0,-7.058208640943666E-3]
["Distribution Volumetric Charge",{"$f":"IF($B$9=\"kWh\",$B$4,$B$5)","v":10},{"$f":"VLOOKUP($B$3,'Data Current Rates'!$A:$BE,MATCH($A17,CurrentHeader,0),FALSE)","v":9.8163},98.162999999999997,{"$f":"$B$5","v":10},{"$f":"VLOOKUP($B$3,'Data Proposed Rates'!$A:$BC,MATCH($A17,ProposedHeader,0),FALSE)","v":9.8163},98.162999999999997,0,{"$f":"IF(ISERROR(H17/ABS(D17)),\"N/A\",(H17/ABS(D17)))","v":0},0.25286676453319451]
["Base Rate Adjustment to Recover Past Tax Amounts VOL",null,null,null,{"$f":"$B$5","v":10},{"$f":"VLOOKUP($B$3,'Data Proposed Rates'!$A:$BC,MATCH($A18,ProposedHeader,0),FALSE)","v":8.8300000000000003E-2},0.88300000000000001,0.88300000000000001,{"$f":"IF(ISERROR(H18/ABS(D18)),\"N/A\",(H18/ABS(D18)))","v":"N/A"},2.2745978941435246E-3]
["Volumetric Deferral/Variance Account Rider (General)",{"$f":"IF($B$9=\"kWh\",$B$4,$B$5)","v":10},{"$f":"VLOOKUP($B$3,'Data Current Rates'!$A:$BE,MATCH($A19,CurrentHeader,0),FALSE)","v":-0.13589999999999999},-1.359,{"$f":"$B$5","v":10},{"$f":"VLOOKUP($B$3,'Data Proposed Rates'!$A:$BC,MATCH($A19,ProposedHeader,0),FALSE)","v":-0.13589999999999999},-1.359,0,{"$f":"IF(ISERROR(H19/ABS(D19)),\"N/A\",(H19/ABS(D19)))","v":0},-3.5007684463658545E-3]
["Volumetric Deferral/Variance Account Rider (Sub-Account Global Adjustment)",{"$f":"B8","v":318.29999999999995},{"$f":"VLOOKUP($B$3,'Data Current Rates'!$A:$BE,MATCH($A20,CurrentHeader,0),FALSE)","v":-3.8999999999999998E-3},-1.2413699999999999,{"$f":"B8","v":318.29999999999995},{"$f":"VLOOKUP($B$3,'Data Proposed Rates'!$A:$BC,MATCH($A20,ProposedHeader,0),FALSE)","v":-3.8999999999999998E-3},-1.2413699999999999,0,0,-3.1977549126307437E-3]
["Volumetric ESM Rider",{"$f":"IF($B$9=\"kWh\",$B$4,$B$5)","v":10},{"$f":"VLOOKUP($B$3,'Data Current Rates'!$A:$BE,MATCH($A21,CurrentHeader,0),FALSE)","v":-0.13650000000000001},-1.3650000000000002,{"$f":"B5","v":10},{"$f":"VLOOKUP($B$3,'Data Proposed Rates'!$A:$BC,MATCH($A21,ProposedHeader,0),FALSE)","v":-0.13650000000000001},-1.3650000000000002,0,0,-3.5162243776963886E-3]
["Sub-Total:  Distribution",null,null,{"$f":"SUM(INDIRECT(\"D13:D\"&ROW()-1))","v":286.99762999999996},null,null,{"$f":"SUM(INDIRECT(\"g13:g\"&ROW()-1))","v":289.62062999999995},2.6229999999999905,9.1394482943987759E-3,0.74605942819764526]
["Retail Transmission Rate – Network Service Rate",{"$f":"B5","v":10},{"$f":"VLOOKUP($B$3,'Data Current Rates'!$A:$BE,MATCH($A23,CurrentHeader,0),FALSE)","v":0.99270000000000003},{"$f":"B23*C23","v":9.9269999999999996},10,{"$f":"VLOOKUP($B$3,'Data Proposed Rates'!$A:$BC,MATCH($A23,ProposedHeader,0),FALSE)","v":0.99270000000000003},{"$f":"E23*F23","v":9.9269999999999996},0,0,2.5571838386367798E-2]
["Retail Transmission Rate – Line and Transformation Connection Service Rate",{"$f":"B5","v":10},{"$f":"VLOOKUP($B$3,'Data Current Rates'!$A:$BE,MATCH($A24,CurrentHeader,0),FALSE)","v":0.82840000000000003},{"$f":"B24*C24","v":8.2840000000000007},10,{"$f":"VLOOKUP($B$3,'Data Proposed Rates'!$A:$BC,MATCH($A24,ProposedHeader,0),FALSE)","v":0.82840000000000003},{"$f":"E24*F24","v":8.2840000000000007},0,0,2.1339489190356688E-2]
["Sub-Total:  Retail Transmission ",null,null,{"$f":"SUM(D23:D24)","v":18.210999999999999},null,null,{"$f":"SUM(G23:G24)","v":18.210999999999999},0,0,4.6911327576724483E-2]
["Sub-Total:  Delivery ",null,null,{"$f":"D22+D25","v":305.20862999999997},null,null,{"$f":"G22+G25","v":307.83162999999996},2.6229999999999905,8.5941213392294671E-3,0.79297075577436971]
["Wholesale Market Service Rate (WMS) - not including CBR",{"$f":"$B$8","v":318.29999999999995},{"$f":"VLOOKUP($A27,'Data Pass Through'!$A:$D,2,FALSE)","v":3.0000000000000001E-3},{"$f":"B27*C27","v":0.95489999999999986},{"$f":"$B$8","v":318.29999999999995},{"$f":"VLOOKUP($A27,'Data Pass Through'!$A:$D,3,FALSE)","v":3.0000000000000001E-3},{"$f":"E27*F27","v":0.95489999999999986},0,0,2.459811471254418E-3]
["Capacity Based Recovery (CBR) - Applicable for Class B Customers",{"$f":"$B$8","v":318.29999999999995},{"$f":"VLOOKUP($A28,'Data Pass Through'!$A:$D,2,FALSE)","v":4.0000000000000002E-4},{"$f":"B28*C28","v":0.12731999999999999},{"$f":"$B$8","v":318.29999999999995},{"$f":"VLOOKUP($A28,'Data Pass Through'!$A:$D,3,FALSE)","v":4.0000000000000002E-4},{"$f":"E28*F28","v":0.12731999999999999},{"$f":"G28-D28","v":0},0,3.2797486283392239E-4]
["Rural Rate Protection Charge",{"$f":"$B$8","v":318.29999999999995},{"$f":"VLOOKUP($A29,'Data Pass Through'!$A:$D,2,FALSE)","v":5.0000000000000001E-4},{"$f":"B29*C29","v":0.15914999999999999},{"$f":"$B$8","v":318.29999999999995},{"$f":"VLOOKUP($A29,'Data Pass Through'!$A:$D,3,FALSE)","v":5.0000000000000001E-4},{"$f":"E29*F29","v":0.15914999999999999},{"$f":"G29-D29","v":0},0,4.0996857854240303E-4]
["Standard Supply Service – Administration Charge (if applicable)",1,{"$f":"VLOOKUP($A30,'Data Pass Through'!$A:$D,2,FALSE)","v":0.25},{"$f":"B30*C30","v":0.25},1,{"$f":"VLOOKUP($A30,'Data Pass Through'!$A:$D,3,FALSE)","v":0.25},{"$f":"E30*F30","v":0.25},0,0,6.4399713877223231E-4]
["Sub-Total:  Regulatory",null,null,{"$f":"SUM(D27:D30)","v":1.4913699999999999},null,null,{"$f":"SUM(G27:G30)","v":1.4913699999999999},0,0,3.841752051402976E-3]
["Debt Retirement Charge (DRC)",{"$f":"B4","v":300},{"$f":"VLOOKUP($A32,'Data Pass Through'!$A:$D,2,FALSE)","v":0},{"$f":"B32*C32","v":0},{"$f":"B4","v":300},{"$f":"VLOOKUP($A32,'Data Pass Through'!$A:$D,3,FALSE)","v":0},{"$f":"E32*F32","v":0},0,"N/A",0]
["Total Electricity Charge (before HST)",null,null,{"$f":"SUM(D12,D22,D25,D31,D32)","v":340.91724999999997},null,null,{"$f":"SUM(G12,G22,G25,G31,G32)","v":343.54024999999996},2.6229999999999905,7.6939491914826564E-3,0.88495575221238931]
["     HST",null,0.13,{"$f":"D33*C34","v":44.319242499999994},null,{"$f":"C34","v":0.13},{"$f":"G33*F34","v":44.660232499999999},0.34099000000000501,7.6939491914827978E-3,0.11504424778761063]
["Total Electricity Charge (including HST)",null,null,{"$f":"SUM(D33:D34)","v":385.23649249999994},null,null,{"$f":"SUM(G33:G34)","v":388.20048249999996},2.9639900000000239,7.6939491914827475E-3,1]
["Ontario Electricity Rebate (OER)",null,0,{"$f":"D33*C36","v":0},null,{"$f":"C36","v":0},{"$f":"G33*F36","v":0},0,"N/A",0]
["Total Amount",null,null,{"$f":"SUM(D35:D36)","v":385.23649249999994},null,null,{"$f":"SUM(G35:G36)","v":388.20048249999996},2.9639900000000239,7.6939491914827475E-3,1]

{"sheet":"BI_Dgen_Avg","index":58,"n_rows":37,"n_cols":10,"rows_kept":37,"cut":false,"hidden":false,"merged":[[0,0,0,9]]}
["2021 Bill Impacts (Average Consumption Level) - Dgen"]
[]
["Rate Class",{"$f":"RIGHT(A1,LEN(A1)-FIND(\"- \",A1,1)-1)","v":"Dgen"}]
["Monthly Consumption (kWh)",{"$f":"IF(COUNTIF(A1,\"*Low*\")>0,VLOOKUP(B3,'Data Billing Quantities'!$A:$Z,MATCH(\"Low kWh\",'Data Billing Quantities'!4:4,0),FALSE),IF(COUNTIF(A1,\"*Typical*\")>0,VLOOKUP(B3,'Data Billing Quantities'!$A:$Z,MATCH(\"Typical kWh\",'Data Billing Quantities'!4:4,0),FALSE),IF(COUNTIF(A1,\"*Average*\")>0,VLOOKUP(B3,'Data Billing Quantities'!$A:$Z,MATCH(\"Average kWh\",'Data Billing Quantities'!4:4,0),FALSE),IF(COUNTIF(A1,\"*High*\")>0,VLOOKUP(B3,'Data Billing Quantities'!$A:$Z,MATCH(\"High kWh\",'Data Billing Quantities'!4:4,0),FALSE),\"error\"))))","v":1328}]
["Peak (kW)",{"$f":"IF(COUNTIF(A1,\"*Low*\")>0,VLOOKUP(B3,'Data Billing Quantities'!$A:$Z,MATCH(\"Low kW\",'Data Billing Quantities'!4:4,0),FALSE),IF(COUNTIF(A1,\"*Typical*\")>0,VLOOKUP(B3,'Data Billing Quantities'!$A:$Z,MATCH(\"Typical kW\",'Data Billing Quantities'!4:4,0),FALSE),IF(COUNTIF(A1,\"*Average*\")>0,VLOOKUP(B3,'Data Billing Quantities'!$A:$Z,MATCH(\"Average kW\",'Data Billing Quantities'!4:4,0),FALSE),IF(COUNTIF(A1,\"*High*\")>0,VLOOKUP(B3,'Data Billing Quantities'!$A:$Z,MATCH(\"High kW\",'Data Billing Quantities'!4:4,0),FALSE),\"error\"))))","v":13}]
["Loss factor",{"$f":"VLOOKUP(B3,'Data Billing Quantities'!A:D,MATCH(A6,'Data Billing Quantities'!4:4,0),FALSE)","v":1.0609999999999999}]
["Load factor",{"$f":"B4/(B5*730)","v":0.1399367755532139}]
["Monthly Consumption (kWh) - Uplifted",{"$f":"B4*B6","v":1409.0079999999998}]
["Charge determinant",{"$f":"VLOOKUP(B3,'Data Billing Quantities'!A:D,MATCH(A9,'Data Billing Quantities'!4:4,0),FALSE)","v":"kW"}]
[]
[null,"Volume","Current Rate ($)","Current Charge ($)","Volume","Proposed Rate ($)","Proposed Charge ($)","Change ($)","Change (%)","% of Total Bill "]
["Energy (Non-RPP)*",{"$f":"B8","v":1409.0079999999998},{"$f":"VLOOKUP($A12,'Data Pass Through'!A:E,2,FALSE)","v":0.1075},{"$f":"B12*C12","v":151.46835999999999},{"$f":"B8","v":1409.0079999999998},{"$f":"VLOOKUP($A12,'Data Pass Through'!A:E,3,FALSE)","v":0.1075},{"$f":"E12*F12","v":151.46835999999999},{"$f":"G12-D12","v":0},{"$f":"IF(ISERROR(H12/ABS(D12)),\"N/A\",(H12/ABS(D12)))","v":0},{"$f":"G12/$G$37","v":0.27071080554289001}]
["Service Charge",1,{"$f":"VLOOKUP($B$3,'Data Current Rates'!$A:$BE,MATCH($A13,CurrentHeader,0),FALSE)","v":195.54},{"$f":"B13*C13","v":195.54},{"$f":"B13","v":1},{"$f":"VLOOKUP($B$3,'Data Proposed Rates'!$A:$BC,MATCH($A13,ProposedHeader,0),FALSE)","v":195.54},{"$f":"E13*F13","v":195.54},0,0,0.34947754709865952]
["Base Rate Adjustment to Recover Past Tax Amounts FIXED",null,null,null,1,{"$f":"VLOOKUP($B$3,'Data Proposed Rates'!$A:$BC,MATCH($A14,ProposedHeader,0),FALSE)","v":1.74},{"$f":"E14*F14","v":1.74},1.74,"N/A",3.10980327274045E-3]
["Fixed Deferral/Variance Account Rider (General)",1,{"$f":"VLOOKUP($B$3,'Data Current Rates'!$A:$BE,MATCH($A15,CurrentHeader,0),FALSE)","v":0},{"$f":"B15*C15","v":0},1,{"$f":"VLOOKUP($B$3,'Data Proposed Rates'!$A:$BC,MATCH($A15,ProposedHeader,0),FALSE)","v":0},{"$f":"E15*F15","v":0},0,"N/A",0]
["Fixed ESM Rider",1,{"$f":"VLOOKUP($B$3,'Data Current Rates'!$A:$BE,MATCH($A16,CurrentHeader,0),FALSE)","v":-2.74},-2.74,1,{"$f":"VLOOKUP($B$3,'Data Proposed Rates'!$A:$BC,MATCH($A16,ProposedHeader,0),FALSE)","v":-2.74},-2.74,0,0,-4.8970465329361114E-3]
["Distribution Volumetric Charge",{"$f":"IF($B$9=\"kWh\",$B$4,$B$5)","v":13},{"$f":"VLOOKUP($B$3,'Data Current Rates'!$A:$BE,MATCH($A17,CurrentHeader,0),FALSE)","v":9.8163},127.61190000000001,{"$f":"$B$5","v":13},{"$f":"VLOOKUP($B$3,'Data Proposed Rates'!$A:$BC,MATCH($A17,ProposedHeader,0),FALSE)","v":9.8163},127.61190000000001,0,{"$f":"IF(ISERROR(H17/ABS(D17)),\"N/A\",(H17/ABS(D17)))","v":0},0.22807350819576269]
["Base Rate Adjustment to Recover Past Tax Amounts VOL",null,null,null,{"$f":"$B$5","v":13},{"$f":"VLOOKUP($B$3,'Data Proposed Rates'!$A:$BC,MATCH($A18,ProposedHeader,0),FALSE)","v":8.8300000000000003E-2},1.1479000000000001,1.1479000000000001,{"$f":"IF(ISERROR(H18/ABS(D18)),\"N/A\",(H18/ABS(D18)))","v":"N/A"},2.0515765383785993E-3]
["Volumetric Deferral/Variance Account Rider (General)",{"$f":"IF($B$9=\"kWh\",$B$4,$B$5)","v":13},{"$f":"VLOOKUP($B$3,'Data Current Rates'!$A:$BE,MATCH($A19,CurrentHeader,0),FALSE)","v":-0.13589999999999999},-1.7666999999999999,{"$f":"$B$5","v":13},{"$f":"VLOOKUP($B$3,'Data Proposed Rates'!$A:$BC,MATCH($A19,ProposedHeader,0),FALSE)","v":-0.13589999999999999},-1.7666999999999999,0,{"$f":"IF(ISERROR(H19/ABS(D19)),\"N/A\",(H19/ABS(D19)))","v":0},-3.1575226677876744E-3]
["Volumetric Deferral/Variance Account Rider (Sub-Account Global Adjustment)",{"$f":"B8","v":1409.0079999999998},{"$f":"VLOOKUP($B$3,'Data Current Rates'!$A:$BE,MATCH($A20,CurrentHeader,0),FALSE)","v":-3.8999999999999998E-3},-5.4951311999999994,{"$f":"B8","v":1409.0079999999998},{"$f":"VLOOKUP($B$3,'Data Proposed Rates'!$A:$BC,MATCH($A20,ProposedHeader,0),FALSE)","v":-3.8999999999999998E-3},-5.4951311999999994,0,0,-9.8211362010908933E-3]
["Volumetric ESM Rider",{"$f":"IF($B$9=\"kWh\",$B$4,$B$5)","v":13},{"$f":"VLOOKUP($B$3,'Data Current Rates'!$A:$BE,MATCH($A21,CurrentHeader,0),FALSE)","v":-0.13650000000000001},-1.7745000000000002,{"$f":"B5","v":13},{"$f":"VLOOKUP($B$3,'Data Proposed Rates'!$A:$BC,MATCH($A21,ProposedHeader,0),FALSE)","v":-0.13650000000000001},-1.7745000000000002,0,0,-3.1714631652172008E-3]
["Sub-Total:  Distribution",null,null,{"$f":"SUM(INDIRECT(\"D13:D\"&ROW()-1))","v":311.3755688},null,null,{"$f":"SUM(INDIRECT(\"g13:g\"&ROW()-1))","v":314.2634688},2.8879000000000019,9.2746518653649811E-3,0.56166526653850934]
["Retail Transmission Rate – Network Service Rate",{"$f":"B5","v":13},{"$f":"VLOOKUP($B$3,'Data Current Rates'!$A:$BE,MATCH($A23,CurrentHeader,0),FALSE)","v":0.99270000000000003},{"$f":"B23*C23","v":12.905100000000001},13,{"$f":"VLOOKUP($B$3,'Data Proposed Rates'!$A:$BC,MATCH($A23,ProposedHeader,0),FALSE)","v":0.99270000000000003},{"$f":"E23*F23","v":12.905100000000001},0,0,2.3064552997151027E-2]
["Retail Transmission Rate – Line and Transformation Connection Service Rate",{"$f":"B5","v":13},{"$f":"VLOOKUP($B$3,'Data Current Rates'!$A:$BE,MATCH($A24,CurrentHeader,0),FALSE)","v":0.82840000000000003},{"$f":"B24*C24","v":10.7692},13,{"$f":"VLOOKUP($B$3,'Data Proposed Rates'!$A:$BC,MATCH($A24,ProposedHeader,0),FALSE)","v":0.82840000000000003},{"$f":"E24*F24","v":10.7692},0,0,1.9247180117699113E-2]
["Sub-Total:  Retail Transmission ",null,null,{"$f":"SUM(D23:D24)","v":23.674300000000002},null,null,{"$f":"SUM(G23:G24)","v":23.674300000000002},0,0,4.231173311485014E-2]
["Sub-Total:  Delivery ",null,null,{"$f":"D22+D25","v":335.04986880000001},null,null,{"$f":"G22+G25","v":337.93776880000001},2.8879000000000019,8.6193139258438703E-3,0.6039769996533596]
["Wholesale Market Service Rate (WMS) - not including CBR",{"$f":"$B$8","v":1409.0079999999998},{"$f":"VLOOKUP($A27,'Data Pass Through'!$A:$D,2,FALSE)","v":3.0000000000000001E-3},{"$f":"B27*C27","v":4.2270239999999992},{"$f":"$B$8","v":1409.0079999999998},{"$f":"VLOOKUP($A27,'Data Pass Through'!$A:$D,3,FALSE)","v":3.0000000000000001E-3},{"$f":"E27*F27","v":4.2270239999999992},0,0,7.5547201546853028E-3]
["Capacity Based Recovery (CBR) - Applicable for Class B Customers",{"$f":"$B$8","v":1409.0079999999998},{"$f":"VLOOKUP($A28,'Data Pass Through'!$A:$D,2,FALSE)","v":4.0000000000000002E-4},{"$f":"B28*C28","v":0.56360319999999997},{"$f":"$B$8","v":1409.0079999999998},{"$f":"VLOOKUP($A28,'Data Pass Through'!$A:$D,3,FALSE)","v":4.0000000000000002E-4},{"$f":"E28*F28","v":0.56360319999999997},{"$f":"G28-D28","v":0},0,1.0072960206247072E-3]
["Rural Rate Protection Charge",{"$f":"$B$8","v":1409.0079999999998},{"$f":"VLOOKUP($A29,'Data Pass Through'!$A:$D,2,FALSE)","v":5.0000000000000001E-4},{"$f":"B29*C29","v":0.70450399999999991},{"$f":"$B$8","v":1409.0079999999998},{"$f":"VLOOKUP($A29,'Data Pass Through'!$A:$D,3,FALSE)","v":5.0000000000000001E-4},{"$f":"E29*F29","v":0.70450399999999991},{"$f":"G29-D29","v":0},0,1.2591200257808838E-3]
["Standard Supply Service – Administration Charge (if applicable)",1,{"$f":"VLOOKUP($A30,'Data Pass Through'!$A:$D,2,FALSE)","v":0.25},{"$f":"B30*C30","v":0.25},1,{"$f":"VLOOKUP($A30,'Data Pass Through'!$A:$D,3,FALSE)","v":0.25},{"$f":"E30*F30","v":0.25},0,0,4.4681081504891525E-4]
["Sub-Total:  Regulatory",null,null,{"$f":"SUM(D27:D30)","v":5.7451311999999994},null,null,{"$f":"SUM(G27:G30)","v":5.7451311999999994},0,0,1.0267947016139809E-2]
["Debt Retirement Charge (DRC)",{"$f":"B4","v":1328},{"$f":"VLOOKUP($A32,'Data Pass Through'!$A:$D,2,FALSE)","v":0},{"$f":"B32*C32","v":0},{"$f":"B4","v":1328},{"$f":"VLOOKUP($A32,'Data Pass Through'!$A:$D,3,FALSE)","v":0},{"$f":"E32*F32","v":0},0,"N/A",0]
["Total Electricity Charge (before HST)",null,null,{"$f":"SUM(D12,D22,D25,D31,D32)","v":492.26335999999998},null,null,{"$f":"SUM(G12,G22,G25,G31,G32)","v":495.15126000000004},2.8879000000000588,5.8665751600932856E-3,0.88495575221238942]
["     HST",null,0.13,{"$f":"D33*C34","v":63.994236799999996},null,{"$f":"C34","v":0.13},{"$f":"G33*F34","v":64.369663800000012},0.37542700000001616,5.8665751600934192E-3,0.11504424778761065]
["Total Electricity Charge (including HST)",null,null,{"$f":"SUM(D33:D34)","v":556.25759679999999},null,null,{"$f":"SUM(G33:G34)","v":559.52092379999999},3.2633270000000039,5.8665751600931737E-3,1]
["Ontario Electricity Rebate (OER)",null,0,{"$f":"D33*C36","v":0},null,{"$f":"C36","v":0},{"$f":"G33*F36","v":0},0,"N/A",0]
["Total Amount",null,null,{"$f":"SUM(D35:D36)","v":556.25759679999999},null,null,{"$f":"SUM(G35:G36)","v":559.52092379999999},3.2633270000000039,5.8665751600931737E-3,1]

{"sheet":"BI_Dgen_High","index":59,"n_rows":37,"n_cols":10,"rows_kept":37,"cut":false,"hidden":false,"merged":[[0,0,0,9]]}
["2021 Bill Impacts (High Consumption Level) - Dgen"]
[]
["Rate Class",{"$f":"RIGHT(A1,LEN(A1)-FIND(\"- \",A1,1)-1)","v":"Dgen"}]
["Monthly Consumption (kWh)",{"$f":"IF(COUNTIF(A1,\"*Low*\")>0,VLOOKUP(B3,'Data Billing Quantities'!$A:$Z,MATCH(\"Low kWh\",'Data Billing Quantities'!4:4,0),FALSE),IF(COUNTIF(A1,\"*Typical*\")>0,VLOOKUP(B3,'Data Billing Quantities'!$A:$Z,MATCH(\"Typical kWh\",'Data Billing Quantities'!4:4,0),FALSE),IF(COUNTIF(A1,\"*Average*\")>0,VLOOKUP(B3,'Data Billing Quantities'!$A:$Z,MATCH(\"Average kWh\",'Data Billing Quantities'!4:4,0),FALSE),IF(COUNTIF(A1,\"*High*\")>0,VLOOKUP(B3,'Data Billing Quantities'!$A:$Z,MATCH(\"High kWh\",'Data Billing Quantities'!4:4,0),FALSE),\"error\"))))","v":5000}]
["Peak (kW)",{"$f":"IF(COUNTIF(A1,\"*Low*\")>0,VLOOKUP(B3,'Data Billing Quantities'!$A:$Z,MATCH(\"Low kW\",'Data Billing Quantities'!4:4,0),FALSE),IF(COUNTIF(A1,\"*Typical*\")>0,VLOOKUP(B3,'Data Billing Quantities'!$A:$Z,MATCH(\"Typical kW\",'Data Billing Quantities'!4:4,0),FALSE),IF(COUNTIF(A1,\"*Average*\")>0,VLOOKUP(B3,'Data Billing Quantities'!$A:$Z,MATCH(\"Average kW\",'Data Billing Quantities'!4:4,0),FALSE),IF(COUNTIF(A1,\"*High*\")>0,VLOOKUP(B3,'Data Billing Quantities'!$A:$Z,MATCH(\"High kW\",'Data Billing Quantities'!4:4,0),FALSE),\"error\"))))","v":100}]
["Loss factor",{"$f":"VLOOKUP(B3,'Data Billing Quantities'!A:D,MATCH(A6,'Data Billing Quantities'!4:4,0),FALSE)","v":1.0609999999999999}]
["Load factor",{"$f":"B4/(B5*730)","v":6.8493150684931503E-2}]
["Monthly Consumption (kWh) - Uplifted",{"$f":"B4*B6","v":5305}]
["Charge determinant",{"$f":"VLOOKUP(B3,'Data Billing Quantities'!A:D,MATCH(A9,'Data Billing Quantities'!4:4,0),FALSE)","v":"kW"}]
[]
[null,"Volume","Current Rate ($)","Current Charge ($)","Volume","Proposed Rate ($)","Proposed Charge ($)","Change ($)","Change (%)","% of Total Bill "]
["Energy (Non-RPP)*",{"$f":"B8","v":5305},{"$f":"VLOOKUP($A12,'Data Pass Through'!A:E,2,FALSE)","v":0.1075},{"$f":"B12*C12","v":570.28750000000002},{"$f":"B8","v":5305},{"$f":"VLOOKUP($A12,'Data Pass Through'!A:E,3,FALSE)","v":0.1075},{"$f":"E12*F12","v":570.28750000000002},{"$f":"G12-D12","v":0},{"$f":"IF(ISERROR(H12/ABS(D12)),\"N/A\",(H12/ABS(D12)))","v":0},{"$f":"G12/$G$37","v":0.26417358785485451}]
["Service Charge",1,{"$f":"VLOOKUP($B$3,'Data Current Rates'!$A:$BE,MATCH($A13,CurrentHeader,0),FALSE)","v":195.54},{"$f":"B13*C13","v":195.54},{"$f":"B13","v":1},{"$f":"VLOOKUP($B$3,'Data Proposed Rates'!$A:$BC,MATCH($A13,ProposedHeader,0),FALSE)","v":195.54},{"$f":"E13*F13","v":195.54},0,0,9.0579757348948103E-2]
["Base Rate Adjustment to Recover Past Tax Amounts FIXED",null,null,null,1,{"$f":"VLOOKUP($B$3,'Data Proposed Rates'!$A:$BC,MATCH($A14,ProposedHeader,0),FALSE)","v":1.74},{"$f":"E14*F14","v":1.74},1.74,"N/A",8.0601809239628564E-4]
["Fixed Deferral/Variance Account Rider (General)",1,{"$f":"VLOOKUP($B$3,'Data Current Rates'!$A:$BE,MATCH($A15,CurrentHeader,0),FALSE)","v":0},{"$f":"B15*C15","v":0},1,{"$f":"VLOOKUP($B$3,'Data Proposed Rates'!$A:$BC,MATCH($A15,ProposedHeader,0),FALSE)","v":0},{"$f":"E15*F15","v":0},0,"N/A",0]
["Fixed ESM Rider",1,{"$f":"VLOOKUP($B$3,'Data Current Rates'!$A:$BE,MATCH($A16,CurrentHeader,0),FALSE)","v":-2.74},-2.74,1,{"$f":"VLOOKUP($B$3,'Data Proposed Rates'!$A:$BC,MATCH($A16,ProposedHeader,0),FALSE)","v":-2.74},-2.74,0,0,-1.2692468811297834E-3]
["Distribution Volumetric Charge",{"$f":"IF($B$9=\"kWh\",$B$4,$B$5)","v":100},{"$f":"VLOOKUP($B$3,'Data Current Rates'!$A:$BE,MATCH($A17,CurrentHeader,0),FALSE)","v":9.8163},981.63,{"$f":"$B$5","v":100},{"$f":"VLOOKUP($B$3,'Data Proposed Rates'!$A:$BC,MATCH($A17,ProposedHeader,0),FALSE)","v":9.8163},981.63,0,{"$f":"IF(ISERROR(H17/ABS(D17)),\"N/A\",(H17/ABS(D17)))","v":0},0.45471927588446315]
["Base Rate Adjustment to Recover Past Tax Amounts VOL",null,null,null,{"$f":"$B$5","v":100},{"$f":"VLOOKUP($B$3,'Data Proposed Rates'!$A:$BC,MATCH($A18,ProposedHeader,0),FALSE)","v":8.8300000000000003E-2},8.83,8.83,{"$f":"IF(ISERROR(H18/ABS(D18)),\"N/A\",(H18/ABS(D18)))","v":"N/A"},4.0903102045167835E-3]
["Volumetric Deferral/Variance Account Rider (General)",{"$f":"IF($B$9=\"kWh\",$B$4,$B$5)","v":100},{"$f":"VLOOKUP($B$3,'Data Current Rates'!$A:$BE,MATCH($A19,CurrentHeader,0),FALSE)","v":-0.13589999999999999},-13.59,{"$f":"$B$5","v":100},{"$f":"VLOOKUP($B$3,'Data Proposed Rates'!$A:$BC,MATCH($A19,ProposedHeader,0),FALSE)","v":-0.13589999999999999},-13.59,0,{"$f":"IF(ISERROR(H19/ABS(D19)),\"N/A\",(H19/ABS(D19)))","v":0},-6.2952792388882312E-3]
["Volumetric Deferral/Variance Account Rider (Sub-Account Global Adjustment)",{"$f":"B8","v":5305},{"$f":"VLOOKUP($B$3,'Data Current Rates'!$A:$BE,MATCH($A20,CurrentHeader,0),FALSE)","v":-3.8999999999999998E-3},-20.689499999999999,{"$f":"B8","v":5305},{"$f":"VLOOKUP($B$3,'Data Proposed Rates'!$A:$BC,MATCH($A20,ProposedHeader,0),FALSE)","v":-3.8999999999999998E-3},-20.689499999999999,0,0,-9.5839720245016972E-3]
["Volumetric ESM Rider",{"$f":"IF($B$9=\"kWh\",$B$4,$B$5)","v":100},{"$f":"VLOOKUP($B$3,'Data Current Rates'!$A:$BE,MATCH($A21,CurrentHeader,0),FALSE)","v":-0.13650000000000001},-13.65,{"$f":"B5","v":100},{"$f":"VLOOKUP($B$3,'Data Proposed Rates'!$A:$BC,MATCH($A21,ProposedHeader,0),FALSE)","v":-0.13650000000000001},-13.65,0,0,-6.3230729662122412E-3]
["Sub-Total:  Distribution",null,null,{"$f":"SUM(INDIRECT(\"D13:D\"&ROW()-1))","v":1126.5005000000001},null,null,{"$f":"SUM(INDIRECT(\"g13:g\"&ROW()-1))","v":1137.0705},10.569999999999936,9.3830406644292968E-3,0.52672379041959239]
["Retail Transmission Rate – Network Service Rate",{"$f":"B5","v":100},{"$f":"VLOOKUP($B$3,'Data Current Rates'!$A:$BE,MATCH($A23,CurrentHeader,0),FALSE)","v":0.99270000000000003},{"$f":"B23*C23","v":99.27},100,{"$f":"VLOOKUP($B$3,'Data Proposed Rates'!$A:$BC,MATCH($A23,ProposedHeader,0),FALSE)","v":0.99270000000000003},{"$f":"E23*F23","v":99.27},0,0,4.5984721857574296E-2]
["Retail Transmission Rate – Line and Transformation Connection Service Rate",{"$f":"B5","v":100},{"$f":"VLOOKUP($B$3,'Data Current Rates'!$A:$BE,MATCH($A24,CurrentHeader,0),FALSE)","v":0.82840000000000003},{"$f":"B24*C24","v":82.84},100,{"$f":"VLOOKUP($B$3,'Data Proposed Rates'!$A:$BC,MATCH($A24,ProposedHeader,0),FALSE)","v":0.82840000000000003},{"$f":"E24*F24","v":82.84},0,0,3.8373872858682934E-2]
["Sub-Total:  Retail Transmission ",null,null,{"$f":"SUM(D23:D24)","v":182.11},null,null,{"$f":"SUM(G23:G24)","v":182.11},0,0,8.4358594716257243E-2]
["Sub-Total:  Delivery ",null,null,{"$f":"D22+D25","v":1308.6105000000002},null,null,{"$f":"G22+G25","v":1319.1804999999999},10.569999999999709,8.077269745275395E-3,0.61108238513584956]
["Wholesale Market Service Rate (WMS) - not including CBR",{"$f":"$B$8","v":5305},{"$f":"VLOOKUP($A27,'Data Pass Through'!$A:$D,2,FALSE)","v":3.0000000000000001E-3},{"$f":"B27*C27","v":15.915000000000001},{"$f":"$B$8","v":5305},{"$f":"VLOOKUP($A27,'Data Pass Through'!$A:$D,3,FALSE)","v":3.0000000000000001E-3},{"$f":"E27*F27","v":15.915000000000001},0,0,7.3722861726936133E-3]
["Capacity Based Recovery (CBR) - Applicable for Class B Customers",{"$f":"$B$8","v":5305},{"$f":"VLOOKUP($A28,'Data Pass Through'!$A:$D,2,FALSE)","v":4.0000000000000002E-4},{"$f":"B28*C28","v":2.1219999999999999},{"$f":"$B$8","v":5305},{"$f":"VLOOKUP($A28,'Data Pass Through'!$A:$D,3,FALSE)","v":4.0000000000000002E-4},{"$f":"E28*F28","v":2.1219999999999999},{"$f":"G28-D28","v":0},0,9.8297148969248168E-4]
["Rural Rate Protection Charge",{"$f":"$B$8","v":5305},{"$f":"VLOOKUP($A29,'Data Pass Through'!$A:$D,2,FALSE)","v":5.0000000000000001E-4},{"$f":"B29*C29","v":2.6524999999999999},{"$f":"$B$8","v":5305},{"$f":"VLOOKUP($A29,'Data Pass Through'!$A:$D,3,FALSE)","v":5.0000000000000001E-4},{"$f":"E29*F29","v":2.6524999999999999},{"$f":"G29-D29","v":0},0,1.2287143621156022E-3]
["Standard Supply Service – Administration Charge (if applicable)",1,{"$f":"VLOOKUP($A30,'Data Pass Through'!$A:$D,2,FALSE)","v":0.25},{"$f":"B30*C30","v":0.25},1,{"$f":"VLOOKUP($A30,'Data Pass Through'!$A:$D,3,FALSE)","v":0.25},{"$f":"E30*F30","v":0.25},0,0,1.1580719718337438E-4]
["Sub-Total:  Regulatory",null,null,{"$f":"SUM(D27:D30)","v":20.939499999999999},null,null,{"$f":"SUM(G27:G30)","v":20.939499999999999},0,0,9.6997792216850717E-3]
["Debt Retirement Charge (DRC)",{"$f":"B4","v":5000},{"$f":"VLOOKUP($A32,'Data Pass Through'!$A:$D,2,FALSE)","v":0},{"$f":"B32*C32","v":0},{"$f":"B4","v":5000},{"$f":"VLOOKUP($A32,'Data Pass Through'!$A:$D,3,FALSE)","v":0},{"$f":"E32*F32","v":0},0,"N/A",0]
["Total Electricity Charge (before HST)",null,null,{"$f":"SUM(D12,D22,D25,D31,D32)","v":1899.8375000000001},null,null,{"$f":"SUM(G12,G22,G25,G31,G32)","v":1910.4075000000003},10.570000000000164,5.5636337318324134E-3,0.88495575221238931]
["     HST",null,0.13,{"$f":"D33*C34","v":246.97887500000002},null,{"$f":"C34","v":0.13},{"$f":"G33*F34","v":248.35297500000004},1.374100000000027,5.5636337318324368E-3,0.11504424778761062]
["Total Electricity Charge (including HST)",null,null,{"$f":"SUM(D33:D34)","v":2146.8163750000003},null,null,{"$f":"SUM(G33:G34)","v":2158.7604750000005},11.944100000000162,5.5636337318324021E-3,1]
["Ontario Electricity Rebate (OER)",null,0,{"$f":"D33*C36","v":0},null,{"$f":"C36","v":0},{"$f":"G33*F36","v":0},0,"N/A",0]
["Total Amount",null,null,{"$f":"SUM(D35:D36)","v":2146.8163750000003},null,null,{"$f":"SUM(G35:G36)","v":2158.7604750000005},11.944100000000162,5.5636337318324021E-3,1]

{"sheet":"BI_ST_Avg","index":60,"n_rows":37,"n_cols":10,"rows_kept":37,"cut":false,"hidden":false,"merged":[[0,0,0,9]]}
["2021 Bill Impacts (Average Consumption Level) - ST"]
[]
["Rate Class",{"$f":"RIGHT(A1,LEN(A1)-FIND(\"- \",A1,1)-1)","v":"ST"}]
["Monthly Consumption (kWh)",{"$f":"IF(COUNTIF(A1,\"*Low*\")>0,VLOOKUP(B3,'Data Billing Quantities'!$A:$Z,MATCH(\"Low kWh\",'Data Billing Quantities'!4:4,0),FALSE),IF(COUNTIF(A1,\"*Typical*\")>0,VLOOKUP(B3,'Data Billing Quantities'!$A:$Z,MATCH(\"Typical kWh\",'Data Billing Quantities'!4:4,0),FALSE),IF(COUNTIF(A1,\"*Average*\")>0,VLOOKUP(B3,'Data Billing Quantities'!$A:$Z,MATCH(\"Average kWh\",'Data Billing Quantities'!4:4,0),FALSE),IF(COUNTIF(A1,\"*High*\")>0,VLOOKUP(B3,'Data Billing Quantities'!$A:$Z,MATCH(\"High kWh\",'Data Billing Quantities'!4:4,0),FALSE),\"error\"))))","v":1601036}]
["Peak (kW)",{"$f":"IF(COUNTIF(A1,\"*Low*\")>0,VLOOKUP(B3,'Data Billing Quantities'!$A:$Z,MATCH(\"Low kW\",'Data Billing Quantities'!4:4,0),FALSE),IF(COUNTIF(A1,\"*Typical*\")>0,VLOOKUP(B3,'Data Billing Quantities'!$A:$Z,MATCH(\"Typical kW\",'Data Billing Quantities'!4:4,0),FALSE),IF(COUNTIF(A1,\"*Average*\")>0,VLOOKUP(B3,'Data Billing Quantities'!$A:$Z,MATCH(\"Average kW\",'Data Billing Quantities'!4:4,0),FALSE),IF(COUNTIF(A1,\"*High*\")>0,VLOOKUP(B3,'Data Billing Quantities'!$A:$Z,MATCH(\"High kW\",'Data Billing Quantities'!4:4,0),FALSE),\"error\"))))","v":3091}]
["Loss factor",{"$f":"VLOOKUP(B3,'Data Billing Quantities'!A:D,MATCH(A6,'Data Billing Quantities'!4:4,0),FALSE)","v":1.034}]
["Load factor",{"$f":"B4/(B5*730)","v":0.70954383694597223}]
["Monthly Consumption (kWh) - Uplifted",{"$f":"B4*B6","v":1655471.2240000002}]
["Charge determinant",{"$f":"VLOOKUP(B3,'Data Billing Quantities'!A:D,MATCH(A9,'Data Billing Quantities'!4:4,0),FALSE)","v":"kW"}]
[]
[null,"Volume","Current Rate ($)","Current Charge ($)","Volume","Proposed Rate ($)","Proposed Charge ($)","Change ($)","Change (%)","% of Total Bill "]
["Energy (Non-RPP)*",{"$f":"B8","v":1655471.2240000002},{"$f":"VLOOKUP($A12,'Data Pass Through'!A:E,2,FALSE)","v":0.1075},{"$f":"B12*C12","v":177963.15658000001},{"$f":"B8","v":1655471.2240000002},{"$f":"VLOOKUP($A12,'Data Pass Through'!A:E,3,FALSE)","v":0.1075},{"$f":"E12*F12","v":177963.15658000001},{"$f":"G12-D12","v":0},{"$f":"IF(ISERROR(H12/ABS(D12)),\"N/A\",(H12/ABS(D12)))","v":0},{"$f":"G12/$G$37","v":0.73674982104058917}]
["Service Charge",1,{"$f":"VLOOKUP($B$3,'Data Current Rates'!$A:$BE,MATCH($A13,CurrentHeader,0),FALSE)","v":1312.3},{"$f":"B13*C13","v":1312.3},{"$f":"B13","v":1},{"$f":"VLOOKUP($B$3,'Data Proposed Rates'!$A:$BC,MATCH($A13,ProposedHeader,0),FALSE)","v":1312.3},{"$f":"E13*F13","v":1312.3},0,0,5.4327918695740917E-3]
["Base Rate Adjustment to Recover Past Tax Amounts FIXED",null,null,null,1,{"$f":"VLOOKUP($B$3,'Data Proposed Rates'!$A:$BC,MATCH($A14,ProposedHeader,0),FALSE)","v":36.18},{"$f":"E14*F14","v":36.18},36.18,"N/A",1.4978161231516473E-4]
["Fixed Deferral/Variance Account Rider (General)",1,{"$f":"VLOOKUP($B$3,'Data Current Rates'!$A:$BE,MATCH($A15,CurrentHeader,0),FALSE)","v":0},{"$f":"B15*C15","v":0},1,{"$f":"VLOOKUP($B$3,'Data Proposed Rates'!$A:$BC,MATCH($A15,ProposedHeader,0),FALSE)","v":0},{"$f":"E15*F15","v":0},0,"N/A",0]
["Fixed ESM Rider",1,{"$f":"VLOOKUP($B$3,'Data Current Rates'!$A:$BE,MATCH($A16,CurrentHeader,0),FALSE)","v":-15.7},-15.7,1,{"$f":"VLOOKUP($B$3,'Data Proposed Rates'!$A:$BC,MATCH($A16,ProposedHeader,0),FALSE)","v":-15.7},-15.7,0,0,-6.4996443155005136E-5]
["Distribution Volumetric Charge",{"$f":"IF($B$9=\"kWh\",$B$4,$B$5)","v":3091},{"$f":"VLOOKUP($B$3,'Data Current Rates'!$A:$BE,MATCH($A17,CurrentHeader,0),FALSE)","v":1.5335000000000001},4740.0484999999999,{"$f":"$B$5","v":3091},{"$f":"VLOOKUP($B$3,'Data Proposed Rates'!$A:$BC,MATCH($A17,ProposedHeader,0),FALSE)","v":1.5335000000000001},4740.0484999999999,0,{"$f":"IF(ISERROR(H17/ABS(D17)),\"N/A\",(H17/ABS(D17)))","v":0},1.9623330756829132E-2]
["Base Rate Adjustment to Recover Past Tax Amounts VOL",null,null,null,{"$f":"$B$5","v":3091},{"$f":"VLOOKUP($B$3,'Data Proposed Rates'!$A:$BC,MATCH($A18,ProposedHeader,0),FALSE)","v":5.3999999999999999E-2},166.91399999999999,166.91399999999999,{"$f":"IF(ISERROR(H18/ABS(D18)),\"N/A\",(H18/ABS(D18)))","v":"N/A"},6.9100740845697624E-4]
["Volumetric Deferral/Variance Account Rider (General)",{"$f":"IF($B$9=\"kWh\",$B$4,$B$5)","v":3091},{"$f":"VLOOKUP($B$3,'Data Current Rates'!$A:$BE,MATCH($A19,CurrentHeader,0),FALSE)","v":0.94440000000000002},2919.1404000000002,{"$f":"$B$5","v":3091},{"$f":"VLOOKUP($B$3,'Data Proposed Rates'!$A:$BC,MATCH($A19,ProposedHeader,0),FALSE)","v":0.94440000000000002},2919.1404000000002,0,{"$f":"IF(ISERROR(H19/ABS(D19)),\"N/A\",(H19/ABS(D19)))","v":0},1.208495178790312E-2]
["Volumetric Deferral/Variance Account Rider (Sub-Account Global Adjustment)",{"$f":"B8","v":1655471.2240000002},{"$f":"VLOOKUP($B$3,'Data Current Rates'!$A:$BE,MATCH($A20,CurrentHeader,0),FALSE)","v":0},0,{"$f":"B8","v":1655471.2240000002},{"$f":"VLOOKUP($B$3,'Data Proposed Rates'!$A:$BC,MATCH($A20,ProposedHeader,0),FALSE)","v":0},0,0,"N/A",0]
["Volumetric ESM Rider",{"$f":"IF($B$9=\"kWh\",$B$4,$B$5)","v":3091},{"$f":"VLOOKUP($B$3,'Data Current Rates'!$A:$BE,MATCH($A21,CurrentHeader,0),FALSE)","v":-2.1899999999999999E-2},-67.692899999999995,{"$f":"B5","v":3091},{"$f":"VLOOKUP($B$3,'Data Proposed Rates'!$A:$BC,MATCH($A21,ProposedHeader,0),FALSE)","v":-2.1899999999999999E-2},-67.692899999999995,0,0,-2.8024189342977371E-4]
["Sub-Total:  Distribution",null,null,{"$f":"SUM(INDIRECT(\"D13:D\"&ROW()-1))","v":8888.0959999999995},null,null,{"$f":"SUM(INDIRECT(\"g13:g\"&ROW()-1))","v":9091.19},203.09400000000096,2.2850113230100236E-2,3.7636625098493706E-2]
["Retail Transmission Rate – Network Service Rate",{"$f":"B5","v":3091},{"$f":"VLOOKUP($B$3,'Data Current Rates'!$A:$BE,MATCH($A23,CurrentHeader,0),FALSE)","v":3.5960000000000001},{"$f":"B23*C23","v":11115.236000000001},3091,{"$f":"VLOOKUP($B$3,'Data Proposed Rates'!$A:$BC,MATCH($A23,ProposedHeader,0),FALSE)","v":3.5960000000000001},{"$f":"E23*F23","v":11115.236000000001},0,0,4.601597482983865E-2]
["Retail Transmission Rate – Line and Transformation Connection Service Rate",{"$f":"B5","v":3091},{"$f":"VLOOKUP($B$3,'Data Current Rates'!$A:$BE,MATCH($A24,CurrentHeader,0),FALSE)","v":2.9558},{"$f":"B24*C24","v":9136.3778000000002},3091,{"$f":"VLOOKUP($B$3,'Data Proposed Rates'!$A:$BC,MATCH($A24,ProposedHeader,0),FALSE)","v":2.9558},{"$f":"E24*F24","v":9136.3778000000002},0,0,3.7823698109576497E-2]
["Sub-Total:  Retail Transmission ",null,null,{"$f":"SUM(D23:D24)","v":20251.613799999999},null,null,{"$f":"SUM(G23:G24)","v":20251.613799999999},0,0,8.3839672939415133E-2]
["Sub-Total:  Delivery ",null,null,{"$f":"D22+D25","v":29139.709799999997},null,null,{"$f":"G22+G25","v":29342.803800000002},203.0940000000046,6.969664467969568E-3,0.12147629803790885]
["Wholesale Market Service Rate (WMS) - not including CBR",{"$f":"$B$8","v":1655471.2240000002},{"$f":"VLOOKUP($A27,'Data Pass Through'!$A:$D,2,FALSE)","v":3.0000000000000001E-3},{"$f":"B27*C27","v":4966.4136720000006},{"$f":"$B$8","v":1655471.2240000002},{"$f":"VLOOKUP($A27,'Data Pass Through'!$A:$D,3,FALSE)","v":3.0000000000000001E-3},{"$f":"E27*F27","v":4966.4136720000006},0,0,2.0560460122062956E-2]
["Capacity Based Recovery (CBR) - Applicable for Class B Customers",{"$f":"$B$8","v":1655471.2240000002},{"$f":"VLOOKUP($A28,'Data Pass Through'!$A:$D,2,FALSE)","v":4.0000000000000002E-4},{"$f":"B28*C28","v":662.18848960000014},{"$f":"$B$8","v":1655471.2240000002},{"$f":"VLOOKUP($A28,'Data Pass Through'!$A:$D,3,FALSE)","v":4.0000000000000002E-4},{"$f":"E28*F28","v":662.18848960000014},{"$f":"G28-D28","v":0},0,2.7413946829417278E-3]
["Rural Rate Protection Charge",{"$f":"$B$8","v":1655471.2240000002},{"$f":"VLOOKUP($A29,'Data Pass Through'!$A:$D,2,FALSE)","v":5.0000000000000001E-4},{"$f":"B29*C29","v":827.73561200000006},{"$f":"$B$8","v":1655471.2240000002},{"$f":"VLOOKUP($A29,'Data Pass Through'!$A:$D,3,FALSE)","v":5.0000000000000001E-4},{"$f":"E29*F29","v":827.73561200000006},{"$f":"G29-D29","v":0},0,3.4267433536771591E-3]
["Standard Supply Service – Administration Charge (if applicable)",1,{"$f":"VLOOKUP($A30,'Data Pass Through'!$A:$D,2,FALSE)","v":0.25},{"$f":"B30*C30","v":0.25},1,{"$f":"VLOOKUP($A30,'Data Pass Through'!$A:$D,3,FALSE)","v":0.25},{"$f":"E30*F30","v":0.25},0,0,1.0349752094746042E-6]
["Sub-Total:  Regulatory",null,null,{"$f":"SUM(D27:D30)","v":6456.5877736000011},null,null,{"$f":"SUM(G27:G30)","v":6456.5877736000011},0,0,2.6729633133891317E-2]
["Debt Retirement Charge (DRC)",{"$f":"B4","v":1601036},{"$f":"VLOOKUP($A32,'Data Pass Through'!$A:$D,2,FALSE)","v":0},{"$f":"B32*C32","v":0},{"$f":"B4","v":1601036},{"$f":"VLOOKUP($A32,'Data Pass Through'!$A:$D,3,FALSE)","v":0},{"$f":"E32*F32","v":0},0,"N/A",0]
["Total Electricity Charge (before HST)",null,null,{"$f":"SUM(D12,D22,D25,D31,D32)","v":213559.4541536},null,null,{"$f":"SUM(G12,G22,G25,G31,G32)","v":213762.54815360002},203.09400000001187,9.5099512594717071E-4,0.88495575221238931]
["     HST",null,0.13,{"$f":"D33*C34","v":27762.729039968002},null,{"$f":"C34","v":0.13},{"$f":"G33*F34","v":27789.131259968002},26.402219999999943,9.5099512594711303E-4,0.11504424778761062]
["Total Electricity Charge (including HST)",null,null,{"$f":"SUM(D33:D34)","v":241322.18319356799},null,null,{"$f":"SUM(G33:G34)","v":241551.67941356802},229.49622000003001,9.5099512594723956E-4,1]
["Ontario Electricity Rebate (OER)",null,0,{"$f":"D33*C36","v":0},null,{"$f":"C36","v":0},{"$f":"G33*F36","v":0},0,"N/A",0]
["Total Amount",null,null,{"$f":"SUM(D35:D36)","v":241322.18319356799},null,null,{"$f":"SUM(G35:G36)","v":241551.67941356802},229.49622000003001,9.5099512594723956E-4,1]

{"sheet":"BI_ST_Low","index":61,"n_rows":37,"n_cols":10,"rows_kept":37,"cut":false,"hidden":false,"merged":[[0,0,0,9]]}
["2021 Bill Impacts (Low Consumption Level) - ST"]
[]
["Rate Class",{"$f":"RIGHT(A1,LEN(A1)-FIND(\"- \",A1,1)-1)","v":"ST"}]
["Monthly Consumption (kWh)",{"$f":"IF(COUNTIF(A1,\"*Low*\")>0,VLOOKUP(B3,'Data Billing Quantities'!$A:$Z,MATCH(\"Low kWh\",'Data Billing Quantities'!4:4,0),FALSE),IF(COUNTIF(A1,\"*Typical*\")>0,VLOOKUP(B3,'Data Billing Quantities'!$A:$Z,MATCH(\"Typical kWh\",'Data Billing Quantities'!4:4,0),FALSE),IF(COUNTIF(A1,\"*Average*\")>0,VLOOKUP(B3,'Data Billing Quantities'!$A:$Z,MATCH(\"Average kWh\",'Data Billing Quantities'!4:4,0),FALSE),IF(COUNTIF(A1,\"*High*\")>0,VLOOKUP(B3,'Data Billing Quantities'!$A:$Z,MATCH(\"High kWh\",'Data Billing Quantities'!4:4,0),FALSE),\"error\"))))","v":200000}]
["Peak (kW)",{"$f":"IF(COUNTIF(A1,\"*Low*\")>0,VLOOKUP(B3,'Data Billing Quantities'!$A:$Z,MATCH(\"Low kW\",'Data Billing Quantities'!4:4,0),FALSE),IF(COUNTIF(A1,\"*Typical*\")>0,VLOOKUP(B3,'Data Billing Quantities'!$A:$Z,MATCH(\"Typical kW\",'Data Billing Quantities'!4:4,0),FALSE),IF(COUNTIF(A1,\"*Average*\")>0,VLOOKUP(B3,'Data Billing Quantities'!$A:$Z,MATCH(\"Average kW\",'Data Billing Quantities'!4:4,0),FALSE),IF(COUNTIF(A1,\"*High*\")>0,VLOOKUP(B3,'Data Billing Quantities'!$A:$Z,MATCH(\"High kW\",'Data Billing Quantities'!4:4,0),FALSE),\"error\"))))","v":500}]
["Loss factor",{"$f":"VLOOKUP(B3,'Data Billing Quantities'!A:D,MATCH(A6,'Data Billing Quantities'!4:4,0),FALSE)","v":1.034}]
["Load factor",{"$f":"B4/(B5*730)","v":0.54794520547945202}]
["Monthly Consumption (kWh) - Uplifted",{"$f":"B4*B6","v":206800}]
["Charge determinant",{"$f":"VLOOKUP(B3,'Data Billing Quantities'!A:D,MATCH(A9,'Data Billing Quantities'!4:4,0),FALSE)","v":"kW"}]
[]
[null,"Volume","Current Rate ($)","Current Charge ($)","Volume","Proposed Rate ($)","Proposed Charge ($)","Change ($)","Change (%)","% of Total Bill "]
["Energy (Non-RPP)*",{"$f":"B8","v":206800},{"$f":"VLOOKUP($A12,'Data Pass Through'!A:E,2,FALSE)","v":0.1075},{"$f":"B12*C12","v":22231},{"$f":"B8","v":206800},{"$f":"VLOOKUP($A12,'Data Pass Through'!A:E,3,FALSE)","v":0.1075},{"$f":"E12*F12","v":22231},{"$f":"G12-D12","v":0},{"$f":"IF(ISERROR(H12/ABS(D12)),\"N/A\",(H12/ABS(D12)))","v":0},{"$f":"G12/$G$37","v":0.68070810728989817}]
["Service Charge",1,{"$f":"VLOOKUP($B$3,'Data Current Rates'!$A:$BE,MATCH($A13,CurrentHeader,0),FALSE)","v":1312.3},{"$f":"B13*C13","v":1312.3},{"$f":"B13","v":1},{"$f":"VLOOKUP($B$3,'Data Proposed Rates'!$A:$BC,MATCH($A13,ProposedHeader,0),FALSE)","v":1312.3},{"$f":"E13*F13","v":1312.3},0,0,4.0182324195786663E-2]
["Base Rate Adjustment to Recover Past Tax Amounts FIXED",null,null,null,1,{"$f":"VLOOKUP($B$3,'Data Proposed Rates'!$A:$BC,MATCH($A14,ProposedHeader,0),FALSE)","v":36.18},{"$f":"E14*F14","v":36.18},36.18,"N/A",1.1078232792833664E-3]
["Fixed Deferral/Variance Account Rider (General)",1,{"$f":"VLOOKUP($B$3,'Data Current Rates'!$A:$BE,MATCH($A15,CurrentHeader,0),FALSE)","v":0},{"$f":"B15*C15","v":0},1,{"$f":"VLOOKUP($B$3,'Data Proposed Rates'!$A:$BC,MATCH($A15,ProposedHeader,0),FALSE)","v":0},{"$f":"E15*F15","v":0},0,"N/A",0]
["Fixed ESM Rider",1,{"$f":"VLOOKUP($B$3,'Data Current Rates'!$A:$BE,MATCH($A16,CurrentHeader,0),FALSE)","v":-15.7},-15.7,1,{"$f":"VLOOKUP($B$3,'Data Proposed Rates'!$A:$BC,MATCH($A16,ProposedHeader,0),FALSE)","v":-15.7},-15.7,0,0,-4.8073038929654093E-4]
["Distribution Volumetric Charge",{"$f":"IF($B$9=\"kWh\",$B$4,$B$5)","v":500},{"$f":"VLOOKUP($B$3,'Data Current Rates'!$A:$BE,MATCH($A17,CurrentHeader,0),FALSE)","v":1.5335000000000001},766.75,{"$f":"$B$5","v":500},{"$f":"VLOOKUP($B$3,'Data Proposed Rates'!$A:$BC,MATCH($A17,ProposedHeader,0),FALSE)","v":1.5335000000000001},766.75,0,{"$f":"IF(ISERROR(H17/ABS(D17)),\"N/A\",(H17/ABS(D17)))","v":0},2.347770866198234E-2]
["Base Rate Adjustment to Recover Past Tax Amounts VOL",null,null,null,{"$f":"$B$5","v":500},{"$f":"VLOOKUP($B$3,'Data Proposed Rates'!$A:$BC,MATCH($A18,ProposedHeader,0),FALSE)","v":5.3999999999999999E-2},27,27,{"$f":"IF(ISERROR(H18/ABS(D18)),\"N/A\",(H18/ABS(D18)))","v":"N/A"},8.2673379050997482E-4]
["Volumetric Deferral/Variance Account Rider (General)",{"$f":"IF($B$9=\"kWh\",$B$4,$B$5)","v":500},{"$f":"VLOOKUP($B$3,'Data Current Rates'!$A:$BE,MATCH($A19,CurrentHeader,0),FALSE)","v":0.94440000000000002},472.2,{"$f":"$B$5","v":500},{"$f":"VLOOKUP($B$3,'Data Proposed Rates'!$A:$BC,MATCH($A19,ProposedHeader,0),FALSE)","v":0.94440000000000002},472.2,0,{"$f":"IF(ISERROR(H19/ABS(D19)),\"N/A\",(H19/ABS(D19)))","v":0},1.4458655402918894E-2]
["Volumetric Deferral/Variance Account Rider (Sub-Account Global Adjustment)",{"$f":"B8","v":206800},{"$f":"VLOOKUP($B$3,'Data Current Rates'!$A:$BE,MATCH($A20,CurrentHeader,0),FALSE)","v":0},0,{"$f":"B8","v":206800},{"$f":"VLOOKUP($B$3,'Data Proposed Rates'!$A:$BC,MATCH($A20,ProposedHeader,0),FALSE)","v":0},0,0,"N/A",0]
["Volumetric ESM Rider",{"$f":"IF($B$9=\"kWh\",$B$4,$B$5)","v":500},{"$f":"VLOOKUP($B$3,'Data Current Rates'!$A:$BE,MATCH($A21,CurrentHeader,0),FALSE)","v":-2.1899999999999999E-2},-10.95,{"$f":"B5","v":500},{"$f":"VLOOKUP($B$3,'Data Proposed Rates'!$A:$BC,MATCH($A21,ProposedHeader,0),FALSE)","v":-2.1899999999999999E-2},-10.95,0,0,-3.352864817068231E-4]
["Sub-Total:  Distribution",null,null,{"$f":"SUM(INDIRECT(\"D13:D\"&ROW()-1))","v":2524.6},null,null,{"$f":"SUM(INDIRECT(\"g13:g\"&ROW()-1))","v":2587.7799999999997},63.179999999999836,2.5025746652935055E-2,7.9237228459477865E-2]
["Retail Transmission Rate – Network Service Rate",{"$f":"B5","v":500},{"$f":"VLOOKUP($B$3,'Data Current Rates'!$A:$BE,MATCH($A23,CurrentHeader,0),FALSE)","v":3.5960000000000001},{"$f":"B23*C23","v":1798},500,{"$f":"VLOOKUP($B$3,'Data Proposed Rates'!$A:$BC,MATCH($A23,ProposedHeader,0),FALSE)","v":3.5960000000000001},{"$f":"E23*F23","v":1798},0,0,5.505434649396055E-2]
["Retail Transmission Rate – Line and Transformation Connection Service Rate",{"$f":"B5","v":500},{"$f":"VLOOKUP($B$3,'Data Current Rates'!$A:$BE,MATCH($A24,CurrentHeader,0),FALSE)","v":2.9558},{"$f":"B24*C24","v":1477.9},500,{"$f":"VLOOKUP($B$3,'Data Proposed Rates'!$A:$BC,MATCH($A24,ProposedHeader,0),FALSE)","v":2.9558},{"$f":"E24*F24","v":1477.9},0,0,4.5252958110914517E-2]
["Sub-Total:  Retail Transmission ",null,null,{"$f":"SUM(D23:D24)","v":3275.9},null,null,{"$f":"SUM(G23:G24)","v":3275.9},0,0,0.10030730460487507]
["Sub-Total:  Delivery ",null,null,{"$f":"D22+D25","v":5800.5},null,null,{"$f":"G22+G25","v":5863.68},63.180000000000291,1.0892164468580346E-2,0.17954453306435295]
["Wholesale Market Service Rate (WMS) - not including CBR",{"$f":"$B$8","v":206800},{"$f":"VLOOKUP($A27,'Data Pass Through'!$A:$D,2,FALSE)","v":3.0000000000000001E-3},{"$f":"B27*C27","v":620.4},{"$f":"$B$8","v":206800},{"$f":"VLOOKUP($A27,'Data Pass Through'!$A:$D,3,FALSE)","v":3.0000000000000001E-3},{"$f":"E27*F27","v":620.4},0,0,1.8996505319718089E-2]
["Capacity Based Recovery (CBR) - Applicable for Class B Customers",{"$f":"$B$8","v":206800},{"$f":"VLOOKUP($A28,'Data Pass Through'!$A:$D,2,FALSE)","v":4.0000000000000002E-4},{"$f":"B28*C28","v":82.72},{"$f":"$B$8","v":206800},{"$f":"VLOOKUP($A28,'Data Pass Through'!$A:$D,3,FALSE)","v":4.0000000000000002E-4},{"$f":"E28*F28","v":82.72},{"$f":"G28-D28","v":0},0,2.5328673759624117E-3]
["Rural Rate Protection Charge",{"$f":"$B$8","v":206800},{"$f":"VLOOKUP($A29,'Data Pass Through'!$A:$D,2,FALSE)","v":5.0000000000000001E-4},{"$f":"B29*C29","v":103.4},{"$f":"$B$8","v":206800},{"$f":"VLOOKUP($A29,'Data Pass Through'!$A:$D,3,FALSE)","v":5.0000000000000001E-4},{"$f":"E29*F29","v":103.4},{"$f":"G29-D29","v":0},0,3.166084219953015E-3]
["Standard Supply Service – Administration Charge (if applicable)",1,{"$f":"VLOOKUP($A30,'Data Pass Through'!$A:$D,2,FALSE)","v":0.25},{"$f":"B30*C30","v":0.25},1,{"$f":"VLOOKUP($A30,'Data Pass Through'!$A:$D,3,FALSE)","v":0.25},{"$f":"E30*F30","v":0.25},0,0,7.6549425047219899E-6]
["Sub-Total:  Regulatory",null,null,{"$f":"SUM(D27:D30)","v":806.77},null,null,{"$f":"SUM(G27:G30)","v":806.77},0,0,2.4703111858138237E-2]
["Debt Retirement Charge (DRC)",{"$f":"B4","v":200000},{"$f":"VLOOKUP($A32,'Data Pass Through'!$A:$D,2,FALSE)","v":0},{"$f":"B32*C32","v":0},{"$f":"B4","v":200000},{"$f":"VLOOKUP($A32,'Data Pass Through'!$A:$D,3,FALSE)","v":0},{"$f":"E32*F32","v":0},0,"N/A",0]
["Total Electricity Charge (before HST)",null,null,{"$f":"SUM(D12,D22,D25,D31,D32)","v":28838.27},null,null,{"$f":"SUM(G12,G22,G25,G31,G32)","v":28901.45},63.180000000000291,2.1908387708416727E-3,0.88495575221238942]
["     HST",null,0.13,{"$f":"D33*C34","v":3748.9751000000001},null,{"$f":"C34","v":0.13},{"$f":"G33*F34","v":3757.1885000000002},8.2134000000000924,2.1908387708416874E-3,0.11504424778761062]
["Total Electricity Charge (including HST)",null,null,{"$f":"SUM(D33:D34)","v":32587.2451},null,null,{"$f":"SUM(G33:G34)","v":32658.638500000001},71.393400000000838,2.1908387708416887E-3,1]
["Ontario Electricity Rebate (OER)",null,0,{"$f":"D33*C36","v":0},null,{"$f":"C36","v":0},{"$f":"G33*F36","v":0},0,"N/A",0]
["Total Amount",null,null,{"$f":"SUM(D35:D36)","v":32587.2451},null,null,{"$f":"SUM(G35:G36)","v":32658.638500000001},71.393400000000838,2.1908387708416887E-3,1]

{"sheet":"BI_ST_High","index":62,"n_rows":37,"n_cols":10,"rows_kept":37,"cut":false,"hidden":false,"merged":[[0,0,0,9]]}
["2021 Bill Impacts (High Consumption Level) - ST"]
[]
["Rate Class",{"$f":"RIGHT(A1,LEN(A1)-FIND(\"- \",A1,1)-1)","v":"ST"}]
["Monthly Consumption (kWh)",{"$f":"IF(COUNTIF(A1,\"*Low*\")>0,VLOOKUP(B3,'Data Billing Quantities'!$A:$Z,MATCH(\"Low kWh\",'Data Billing Quantities'!4:4,0),FALSE),IF(COUNTIF(A1,\"*Typical*\")>0,VLOOKUP(B3,'Data Billing Quantities'!$A:$Z,MATCH(\"Typical kWh\",'Data Billing Quantities'!4:4,0),FALSE),IF(COUNTIF(A1,\"*Average*\")>0,VLOOKUP(B3,'Data Billing Quantities'!$A:$Z,MATCH(\"Average kWh\",'Data Billing Quantities'!4:4,0),FALSE),IF(COUNTIF(A1,\"*High*\")>0,VLOOKUP(B3,'Data Billing Quantities'!$A:$Z,MATCH(\"High kWh\",'Data Billing Quantities'!4:4,0),FALSE),\"error\"))))","v":4000000}]
["Peak (kW)",{"$f":"IF(COUNTIF(A1,\"*Low*\")>0,VLOOKUP(B3,'Data Billing Quantities'!$A:$Z,MATCH(\"Low kW\",'Data Billing Quantities'!4:4,0),FALSE),IF(COUNTIF(A1,\"*Typical*\")>0,VLOOKUP(B3,'Data Billing Quantities'!$A:$Z,MATCH(\"Typical kW\",'Data Billing Quantities'!4:4,0),FALSE),IF(COUNTIF(A1,\"*Average*\")>0,VLOOKUP(B3,'Data Billing Quantities'!$A:$Z,MATCH(\"Average kW\",'Data Billing Quantities'!4:4,0),FALSE),IF(COUNTIF(A1,\"*High*\")>0,VLOOKUP(B3,'Data Billing Quantities'!$A:$Z,MATCH(\"High kW\",'Data Billing Quantities'!4:4,0),FALSE),\"error\"))))","v":10000}]
["Loss factor",{"$f":"VLOOKUP(B3,'Data Billing Quantities'!A:D,MATCH(A6,'Data Billing Quantities'!4:4,0),FALSE)","v":1.034}]
["Load factor",{"$f":"B4/(B5*730)","v":0.54794520547945202}]
["Monthly Consumption (kWh) - Uplifted",{"$f":"B4*B6","v":4136000}]
["Charge determinant",{"$f":"VLOOKUP(B3,'Data Billing Quantities'!A:D,MATCH(A9,'Data Billing Quantities'!4:4,0),FALSE)","v":"kW"}]
[]
[null,"Volume","Current Rate ($)","Current Charge ($)","Volume","Proposed Rate ($)","Proposed Charge ($)","Change ($)","Change (%)","% of Total Bill "]
["Energy (Non-RPP)*",{"$f":"B8","v":4136000},{"$f":"VLOOKUP($A12,'Data Pass Through'!A:E,2,FALSE)","v":0.1075},{"$f":"B12*C12","v":444620},{"$f":"B8","v":4136000},{"$f":"VLOOKUP($A12,'Data Pass Through'!A:E,3,FALSE)","v":0.1075},{"$f":"E12*F12","v":444620},{"$f":"G12-D12","v":0},{"$f":"IF(ISERROR(H12/ABS(D12)),\"N/A\",(H12/ABS(D12)))","v":0},{"$f":"G12/$G$37","v":0.7119015895230677}]
["Service Charge",1,{"$f":"VLOOKUP($B$3,'Data Current Rates'!$A:$BE,MATCH($A13,CurrentHeader,0),FALSE)","v":1312.3},{"$f":"B13*C13","v":1312.3},{"$f":"B13","v":1},{"$f":"VLOOKUP($B$3,'Data Proposed Rates'!$A:$BC,MATCH($A13,ProposedHeader,0),FALSE)","v":1312.3},{"$f":"E13*F13","v":1312.3},0,0,2.1011840581420574E-3]
["Base Rate Adjustment to Recover Past Tax Amounts FIXED",null,null,null,1,{"$f":"VLOOKUP($B$3,'Data Proposed Rates'!$A:$BC,MATCH($A14,ProposedHeader,0),FALSE)","v":36.18},{"$f":"E14*F14","v":36.18},36.18,"N/A",5.7929466755756801E-5]
["Fixed Deferral/Variance Account Rider (General)",1,{"$f":"VLOOKUP($B$3,'Data Current Rates'!$A:$BE,MATCH($A15,CurrentHeader,0),FALSE)","v":0},{"$f":"B15*C15","v":0},1,{"$f":"VLOOKUP($B$3,'Data Proposed Rates'!$A:$BC,MATCH($A15,ProposedHeader,0),FALSE)","v":0},{"$f":"E15*F15","v":0},0,"N/A",0]
["Fixed ESM Rider",1,{"$f":"VLOOKUP($B$3,'Data Current Rates'!$A:$BE,MATCH($A16,CurrentHeader,0),FALSE)","v":-15.7},-15.7,1,{"$f":"VLOOKUP($B$3,'Data Proposed Rates'!$A:$BC,MATCH($A16,ProposedHeader,0),FALSE)","v":-15.7},-15.7,0,0,-2.5137994142216187E-5]
["Distribution Volumetric Charge",{"$f":"IF($B$9=\"kWh\",$B$4,$B$5)","v":10000},{"$f":"VLOOKUP($B$3,'Data Current Rates'!$A:$BE,MATCH($A17,CurrentHeader,0),FALSE)","v":1.5335000000000001},15335,{"$f":"$B$5","v":10000},{"$f":"VLOOKUP($B$3,'Data Proposed Rates'!$A:$BC,MATCH($A17,ProposedHeader,0),FALSE)","v":1.5335000000000001},15335,0,{"$f":"IF(ISERROR(H17/ABS(D17)),\"N/A\",(H17/ABS(D17)))","v":0},2.4553575807062755E-2]
["Base Rate Adjustment to Recover Past Tax Amounts VOL",null,null,null,{"$f":"$B$5","v":10000},{"$f":"VLOOKUP($B$3,'Data Proposed Rates'!$A:$BC,MATCH($A18,ProposedHeader,0),FALSE)","v":5.3999999999999999E-2},540,540,{"$f":"IF(ISERROR(H18/ABS(D18)),\"N/A\",(H18/ABS(D18)))","v":"N/A"},8.646189068023403E-4]
["Volumetric Deferral/Variance Account Rider (General)",{"$f":"IF($B$9=\"kWh\",$B$4,$B$5)","v":10000},{"$f":"VLOOKUP($B$3,'Data Current Rates'!$A:$BE,MATCH($A19,CurrentHeader,0),FALSE)","v":0.94440000000000002},9444,{"$f":"$B$5","v":10000},{"$f":"VLOOKUP($B$3,'Data Proposed Rates'!$A:$BC,MATCH($A19,ProposedHeader,0),FALSE)","v":0.94440000000000002},9444,0,{"$f":"IF(ISERROR(H19/ABS(D19)),\"N/A\",(H19/ABS(D19)))","v":0},1.5121223992298706E-2]
["Volumetric Deferral/Variance Account Rider (Sub-Account Global Adjustment)",{"$f":"B8","v":4136000},{"$f":"VLOOKUP($B$3,'Data Current Rates'!$A:$BE,MATCH($A20,CurrentHeader,0),FALSE)","v":0},0,{"$f":"B8","v":4136000},{"$f":"VLOOKUP($B$3,'Data Proposed Rates'!$A:$BC,MATCH($A20,ProposedHeader,0),FALSE)","v":0},0,0,"N/A",0]
["Volumetric ESM Rider",{"$f":"IF($B$9=\"kWh\",$B$4,$B$5)","v":10000},{"$f":"VLOOKUP($B$3,'Data Current Rates'!$A:$BE,MATCH($A21,CurrentHeader,0),FALSE)","v":-2.1899999999999999E-2},-219,{"$f":"B5","v":10000},{"$f":"VLOOKUP($B$3,'Data Proposed Rates'!$A:$BC,MATCH($A21,ProposedHeader,0),FALSE)","v":-2.1899999999999999E-2},-219,0,0,-3.506510010920602E-4]
["Sub-Total:  Distribution",null,null,{"$f":"SUM(INDIRECT(\"D13:D\"&ROW()-1))","v":25856.6},null,null,{"$f":"SUM(INDIRECT(\"g13:g\"&ROW()-1))","v":26432.78},576.18000000000029,2.2283672253892637E-2,4.232274323582734E-2]
["Retail Transmission Rate – Network Service Rate",{"$f":"B5","v":10000},{"$f":"VLOOKUP($B$3,'Data Current Rates'!$A:$BE,MATCH($A23,CurrentHeader,0),FALSE)","v":3.5960000000000001},{"$f":"B23*C23","v":35960},10000,{"$f":"VLOOKUP($B$3,'Data Proposed Rates'!$A:$BC,MATCH($A23,ProposedHeader,0),FALSE)","v":3.5960000000000001},{"$f":"E23*F23","v":35960},0,0,5.7577214608541032E-2]
["Retail Transmission Rate – Line and Transformation Connection Service Rate",{"$f":"B5","v":10000},{"$f":"VLOOKUP($B$3,'Data Current Rates'!$A:$BE,MATCH($A24,CurrentHeader,0),FALSE)","v":2.9558},{"$f":"B24*C24","v":29558},10000,{"$f":"VLOOKUP($B$3,'Data Proposed Rates'!$A:$BC,MATCH($A24,ProposedHeader,0),FALSE)","v":2.9558},{"$f":"E24*F24","v":29558},0,0,4.7326677124562171E-2]
["Sub-Total:  Retail Transmission ",null,null,{"$f":"SUM(D23:D24)","v":65518},null,null,{"$f":"SUM(G23:G24)","v":65518},0,0,0.1049038917331032]
["Sub-Total:  Delivery ",null,null,{"$f":"D22+D25","v":91374.6},null,null,{"$f":"G22+G25","v":91950.78},576.17999999999302,6.3056910782645611E-3,0.14722663496893054]
["Wholesale Market Service Rate (WMS) - not including CBR",{"$f":"$B$8","v":4136000},{"$f":"VLOOKUP($A27,'Data Pass Through'!$A:$D,2,FALSE)","v":3.0000000000000001E-3},{"$f":"B27*C27","v":12408},{"$f":"$B$8","v":4136000},{"$f":"VLOOKUP($A27,'Data Pass Through'!$A:$D,3,FALSE)","v":3.0000000000000001E-3},{"$f":"E27*F27","v":12408},0,0,1.986702110296933E-2]
["Capacity Based Recovery (CBR) - Applicable for Class B Customers",{"$f":"$B$8","v":4136000},{"$f":"VLOOKUP($A28,'Data Pass Through'!$A:$D,2,FALSE)","v":4.0000000000000002E-4},{"$f":"B28*C28","v":1654.4},{"$f":"$B$8","v":4136000},{"$f":"VLOOKUP($A28,'Data Pass Through'!$A:$D,3,FALSE)","v":4.0000000000000002E-4},{"$f":"E28*F28","v":1654.4},{"$f":"G28-D28","v":0},0,2.6489361470625776E-3]
["Rural Rate Protection Charge",{"$f":"$B$8","v":4136000},{"$f":"VLOOKUP($A29,'Data Pass Through'!$A:$D,2,FALSE)","v":5.0000000000000001E-4},{"$f":"B29*C29","v":2068},{"$f":"$B$8","v":4136000},{"$f":"VLOOKUP($A29,'Data Pass Through'!$A:$D,3,FALSE)","v":5.0000000000000001E-4},{"$f":"E29*F29","v":2068},{"$f":"G29-D29","v":0},0,3.3111701838282217E-3]
["Standard Supply Service – Administration Charge (if applicable)",1,{"$f":"VLOOKUP($A30,'Data Pass Through'!$A:$D,2,FALSE)","v":0.25},{"$f":"B30*C30","v":0.25},1,{"$f":"VLOOKUP($A30,'Data Pass Through'!$A:$D,3,FALSE)","v":0.25},{"$f":"E30*F30","v":0.25},0,0,4.0028653092700938E-7]
["Sub-Total:  Regulatory",null,null,{"$f":"SUM(D27:D30)","v":16130.65},null,null,{"$f":"SUM(G27:G30)","v":16130.65},0,0,2.5827527720391055E-2]
["Debt Retirement Charge (DRC)",{"$f":"B4","v":4000000},{"$f":"VLOOKUP($A32,'Data Pass Through'!$A:$D,2,FALSE)","v":0},{"$f":"B32*C32","v":0},{"$f":"B4","v":4000000},{"$f":"VLOOKUP($A32,'Data Pass Through'!$A:$D,3,FALSE)","v":0},{"$f":"E32*F32","v":0},0,"N/A",0]
["Total Electricity Charge (before HST)",null,null,{"$f":"SUM(D12,D22,D25,D31,D32)","v":552125.25},null,null,{"$f":"SUM(G12,G22,G25,G31,G32)","v":552701.43000000005},576.18000000005122,1.0435675600781729E-3,0.88495575221238931]
["     HST",null,0.13,{"$f":"D33*C34","v":71776.282500000001},null,{"$f":"C34","v":0.13},{"$f":"G33*F34","v":71851.185900000011},74.903400000010151,1.0435675600782215E-3,0.11504424778761062]
["Total Electricity Charge (including HST)",null,null,{"$f":"SUM(D33:D34)","v":623901.53249999997},null,null,{"$f":"SUM(G33:G34)","v":624552.61590000009},651.08340000011958,1.0435675600782718E-3,1]
["Ontario Electricity Rebate (OER)",null,0,{"$f":"D33*C36","v":0},null,{"$f":"C36","v":0},{"$f":"G33*F36","v":0},0,"N/A",0]
["Total Amount",null,null,{"$f":"SUM(D35:D36)","v":623901.53249999997},null,null,{"$f":"SUM(G35:G36)","v":624552.61590000009},651.08340000011958,1.0435675600782718E-3,1]

{"sheet":"BI_ST_Avg_NonWMP_exclGA","index":63,"n_rows":38,"n_cols":10,"rows_kept":38,"cut":false,"hidden":true,"merged":[[0,0,0,9]]}
["2021 Bill Impacts (Average Consumption Level) - ST (NonWMP, NonRPP, NonLDC, ClassB) Exclude GA Rider"]
[]
["Rate Class",{"$f":"RIGHT(A1,LEN(A1)-FIND(\"- \",A1,1)-1)","v":"ST (NonWMP, NonRPP, NonLDC, ClassB) Exclude GA Rider"}]
["Monthly Consumption (kWh)",{"$f":"IF(COUNTIF(A1,\"*Low*\")>0,VLOOKUP(B3,'Data Billing Quantities'!$A:$Z,MATCH(\"Low kWh\",'Data Billing Quantities'!4:4,0),FALSE),IF(COUNTIF(A1,\"*Typical*\")>0,VLOOKUP(B3,'Data Billing Quantities'!$A:$Z,MATCH(\"Typical kWh\",'Data Billing Quantities'!4:4,0),FALSE),IF(COUNTIF(A1,\"*Average*\")>0,VLOOKUP(B3,'Data Billing Quantities'!$A:$Z,MATCH(\"Average kWh\",'Data Billing Quantities'!4:4,0),FALSE),IF(COUNTIF(A1,\"*High*\")>0,VLOOKUP(B3,'Data Billing Quantities'!$A:$Z,MATCH(\"High kWh\",'Data Billing Quantities'!4:4,0),FALSE),\"error\"))))","v":1601036}]
["Peak (kW)",{"$f":"IF(COUNTIF(A1,\"*Low*\")>0,VLOOKUP(B3,'Data Billing Quantities'!$A:$Z,MATCH(\"Low kW\",'Data Billing Quantities'!4:4,0),FALSE),IF(COUNTIF(A1,\"*Typical*\")>0,VLOOKUP(B3,'Data Billing Quantities'!$A:$Z,MATCH(\"Typical kW\",'Data Billing Quantities'!4:4,0),FALSE),IF(COUNTIF(A1,\"*Average*\")>0,VLOOKUP(B3,'Data Billing Quantities'!$A:$Z,MATCH(\"Average kW\",'Data Billing Quantities'!4:4,0),FALSE),IF(COUNTIF(A1,\"*High*\")>0,VLOOKUP(B3,'Data Billing Quantities'!$A:$Z,MATCH(\"High kW\",'Data Billing Quantities'!4:4,0),FALSE),\"error\"))))","v":3091}]
["Loss factor",{"$f":"VLOOKUP(B3,'Data Billing Quantities'!A:D,MATCH(A6,'Data Billing Quantities'!4:4,0),FALSE)","v":1.034}]
["Load factor",{"$f":"B4/(B5*730)","v":0.70954383694597223}]
["Monthly Consumption (kWh) - Uplifted",{"$f":"B4*B6","v":1655471.2240000002}]
["Charge determinant",{"$f":"VLOOKUP(B3,'Data Billing Quantities'!A:D,MATCH(A9,'Data Billing Quantities'!4:4,0),FALSE)","v":"kW"}]
[]
[null,"Volume","Current Rate ($)","Current Charge ($)","Volume","Proposed Rate ($)","Proposed Charge ($)","Change ($)","Change (%)","% of Total Bill "]
["Energy (Non-RPP)*",{"$f":"B8","v":1655471.2240000002},{"$f":"VLOOKUP($A12,'Data Pass Through'!A:E,2,FALSE)","v":0.1075},{"$f":"B12*C12","v":177963.15658000001},{"$f":"B8","v":1655471.2240000002},{"$f":"VLOOKUP($A12,'Data Pass Through'!A:E,3,FALSE)","v":0.1075},{"$f":"E12*F12","v":177963.15658000001},{"$f":"G12-D12","v":0},{"$f":"IF(ISERROR(H12/ABS(D12)),\"N/A\",(H12/ABS(D12)))","v":0},{"$f":"G12/$G$37","v":0.73745046652944124}]
["Service Charge",1,{"$f":"VLOOKUP($B$3,'Data Current Rates'!$A:$BE,MATCH($A13,CurrentHeader,0),FALSE)","v":1312.3},{"$f":"B13*C13","v":1312.3},{"$f":"B13","v":1},{"$f":"VLOOKUP($B$3,'Data Proposed Rates'!$A:$BC,MATCH($A13,ProposedHeader,0),FALSE)","v":1312.3},{"$f":"E13*F13","v":1312.3},0,0,5.4379584281623429E-3]
["Fixed Foregone Revenue Charge",1,{"$f":"VLOOKUP($B$3,'Data Current Rates'!$A:$BE,MATCH($A14,CurrentHeader,0),FALSE)","v":0},{"$f":"B14*C14","v":0},null,null,null,0,"N/A",0]
["Fixed Deferral/Variance Account Rider (General)",1,{"$f":"VLOOKUP($B$3,'Data Current Rates'!$A:$BE,MATCH($A15,CurrentHeader,0),FALSE)","v":0},{"$f":"B15*C15","v":0},1,{"$f":"VLOOKUP($B$3,'Data Proposed Rates'!$A:$BC,MATCH($A15,ProposedHeader,0),FALSE)","v":0},{"$f":"E15*F15","v":0},0,"N/A",0]
["Fixed ESM Rider",null,null,null,1,{"$f":"VLOOKUP($B$3,'Data Proposed Rates'!$A:$BC,MATCH($A16,ProposedHeader,0),FALSE)","v":-15.7},-15.7,-15.7,"N/A",-6.5058254455649462E-5]
["Distribution Volumetric Charge",{"$f":"IF($B$9=\"kWh\",$B$4,$B$5)","v":3091},{"$f":"VLOOKUP($B$3,'Data Current Rates'!$A:$BE,MATCH($A17,CurrentHeader,0),FALSE)","v":1.5335000000000001},4740.0484999999999,{"$f":"$B$5","v":3091},{"$f":"VLOOKUP($B$3,'Data Proposed Rates'!$A:$BC,MATCH($A17,ProposedHeader,0),FALSE)","v":1.5335000000000001},4740.0484999999999,0,{"$f":"IF(ISERROR(H17/ABS(D17)),\"N/A\",(H17/ABS(D17)))","v":0},1.9641992448733728E-2]
["Volumetric Foregone Revenue Charge",{"$f":"IF($B$9=\"kWh\",$B$4,$B$5)","v":3091},{"$f":"VLOOKUP($B$3,'Data Current Rates'!$A:$BE,MATCH($A18,CurrentHeader,0),FALSE)","v":0},0,null,null,null,0,{"$f":"IF(ISERROR(H18/ABS(D18)),\"N/A\",(H18/ABS(D18)))","v":"N/A"},0]
["Volumetric Deferral/Variance Account Rider (General)",{"$f":"IF($B$9=\"kWh\",$B$4,$B$5)","v":3091},{"$f":"VLOOKUP($B$3,'Data Current Rates'!$A:$BE,MATCH($A19,CurrentHeader,0),FALSE)","v":0.94440000000000002},2919.1404000000002,{"$f":"$B$5","v":3091},{"$f":"VLOOKUP($B$3,'Data Proposed Rates'!$A:$BC,MATCH($A19,ProposedHeader,0),FALSE)","v":0.94440000000000002},2919.1404000000002,0,{"$f":"IF(ISERROR(H19/ABS(D19)),\"N/A\",(H19/ABS(D19)))","v":0},1.2096444518150723E-2]
["Volumetric Deferral/Variance Account Rider (Sub-Account Global Adjustment)",{"$f":"B8","v":1655471.2240000002},{"$f":"VLOOKUP($B$3,'Data Current Rates'!$A:$BE,MATCH($A20,CurrentHeader,0),FALSE)","v":0},0,{"$f":"B8","v":1655471.2240000002},{"$f":"VLOOKUP($B$3,'Data Proposed Rates'!$A:$BC,MATCH($A20,ProposedHeader,0),FALSE)","v":0},0,0,"N/A",0]
["Volumetric ESM Rider",null,null,null,{"$f":"B5","v":3091},{"$f":"VLOOKUP($B$3,'Data Proposed Rates'!$A:$BC,MATCH($A21,ProposedHeader,0),FALSE)","v":-2.1899999999999999E-2},-67.692899999999995,-67.692899999999995,"N/A",-2.8050840210451164E-4]
["Sub-Total:  Distribution",null,null,{"$f":"SUM(INDIRECT(\"D13:D\"&ROW()-1))","v":8971.4889000000003},null,null,{"$f":"SUM(INDIRECT(\"g13:g\"&ROW()-1))","v":8888.0959999999995},-83.392900000000736,-9.2953244360588494E-3,3.6830828738486629E-2]
["Retail Transmission Rate – Network Service Rate",{"$f":"B5","v":3091},{"$f":"VLOOKUP($B$3,'Data Current Rates'!$A:$BE,MATCH($A23,CurrentHeader,0),FALSE)","v":3.5960000000000001},{"$f":"B23*C23","v":11115.236000000001},3091,{"$f":"VLOOKUP($B$3,'Data Proposed Rates'!$A:$BC,MATCH($A23,ProposedHeader,0),FALSE)","v":3.5960000000000001},{"$f":"E23*F23","v":11115.236000000001},0,0,4.6059735797617539E-2]
["Retail Transmission Rate – Line and Transformation Connection Service Rate",{"$f":"B5","v":3091},{"$f":"VLOOKUP($B$3,'Data Current Rates'!$A:$BE,MATCH($A24,CurrentHeader,0),FALSE)","v":2.9558},{"$f":"B24*C24","v":9136.3778000000002},3091,{"$f":"VLOOKUP($B$3,'Data Proposed Rates'!$A:$BC,MATCH($A24,ProposedHeader,0),FALSE)","v":2.9558},{"$f":"E24*F24","v":9136.3778000000002},0,0,3.7859668262124002E-2]
["Sub-Total:  Retail Transmission ",null,null,{"$f":"SUM(D23:D24)","v":20251.613799999999},null,null,{"$f":"SUM(G23:G24)","v":20251.613799999999},0,0,8.3919404059741534E-2]
["Sub-Total:  Delivery ",null,null,{"$f":"D22+D25","v":29223.102699999999},null,null,{"$f":"G22+G25","v":29139.709799999997},-83.392900000002555,-2.8536634475846592E-3,0.12075023279822815]
["Wholesale Market Service Rate (WMS) - not including CBR",{"$f":"$B$8","v":1655471.2240000002},{"$f":"VLOOKUP($A27,'Data Pass Through'!$A:$D,2,FALSE)","v":3.0000000000000001E-3},{"$f":"B27*C27","v":4966.4136720000006},{"$f":"$B$8","v":1655471.2240000002},{"$f":"VLOOKUP($A27,'Data Pass Through'!$A:$D,3,FALSE)","v":3.0000000000000001E-3},{"$f":"E27*F27","v":4966.4136720000006},0,0,2.0580013019426271E-2]
["Capacity Based Recovery (CBR) - Applicable for Class B Customers",{"$f":"$B$8","v":1655471.2240000002},{"$f":"VLOOKUP($A28,'Data Pass Through'!$A:$D,2,FALSE)","v":4.0000000000000002E-4},{"$f":"B28*C28","v":662.18848960000014},{"$f":"$B$8","v":1655471.2240000002},{"$f":"VLOOKUP($A28,'Data Pass Through'!$A:$D,3,FALSE)","v":4.0000000000000002E-4},{"$f":"E28*F28","v":662.18848960000014},{"$f":"G28-D28","v":0},0,2.7440017359235029E-3]
["Rural Rate Protection Charge",{"$f":"$B$8","v":1655471.2240000002},{"$f":"VLOOKUP($A29,'Data Pass Through'!$A:$D,2,FALSE)","v":5.0000000000000001E-4},{"$f":"B29*C29","v":827.73561200000006},{"$f":"$B$8","v":1655471.2240000002},{"$f":"VLOOKUP($A29,'Data Pass Through'!$A:$D,3,FALSE)","v":5.0000000000000001E-4},{"$f":"E29*F29","v":827.73561200000006},{"$f":"G29-D29","v":0},0,3.430002169904378E-3]
["Standard Supply Service – Administration Charge (if applicable)",1,{"$f":"VLOOKUP($A30,'Data Pass Through'!$A:$D,2,FALSE)","v":0.25},{"$f":"B30*C30","v":0.25},1,{"$f":"VLOOKUP($A30,'Data Pass Through'!$A:$D,3,FALSE)","v":0.25},{"$f":"E30*F30","v":0.25},0,0,1.0359594658542907E-6]
["Sub-Total:  Regulatory",null,null,{"$f":"SUM(D27:D30)","v":6456.5877736000011},null,null,{"$f":"SUM(G27:G30)","v":6456.5877736000011},0,0,2.6755052884720007E-2]
["Debt Retirement Charge (DRC)",{"$f":"B4","v":1601036},{"$f":"VLOOKUP($A32,'Data Pass Through'!$A:$D,2,FALSE)","v":0},{"$f":"B32*C32","v":0},{"$f":"B4","v":1601036},{"$f":"VLOOKUP($A32,'Data Pass Through'!$A:$D,3,FALSE)","v":0},{"$f":"E32*F32","v":0},0,"N/A",0]
["Total Electricity Charge (before HST)",null,null,{"$f":"SUM(D12,D22,D25,D31,D32)","v":213642.84705360001},null,null,{"$f":"SUM(G12,G22,G25,G31,G32)","v":213559.4541536},-83.392900000006193,-3.9033789874127675E-4,0.88495575221238942]
["     HST",null,0.13,{"$f":"D33*C34","v":27773.570116968003},null,{"$f":"C34","v":0.13},{"$f":"G33*F34","v":27762.729039968002},-10.841077000000951,-3.9033789874128196E-4,0.11504424778761063]
["Total Electricity Charge (including HST)",null,null,{"$f":"SUM(D33:D34)","v":241416.41717056802},null,null,{"$f":"SUM(G33:G34)","v":241322.18319356799},-94.233977000025334,-3.9033789874135265E-4,1]
["Ontario Rebate for Electricity Consumers (OREC)",null,0,{"$f":"D33*C36","v":0},null,{"$f":"C36","v":0},{"$f":"G33*F36","v":0},0,"N/A",0]
["Total Amount",null,null,{"$f":"SUM(D35:D36)","v":241416.41717056802},null,null,{"$f":"SUM(G35:G36)","v":241322.18319356799},-94.233977000025334,-3.9033789874135265E-4,1]
[{"$f":"VLOOKUP($A12,'Data Pass Through'!A:E,5,FALSE)","v":"Provided by BCC Meg Atkinson Feb 2021"}]