{"text_format":"1","workbook":"xlsx","n_sheets":62,"sheets":["LDC Info","Index","COS Flowchart","List of Key References","App.2-A_Requested_Approvals","App.2-AA_Capital Projects","App.2-AB_Capital Expenditures","Hidden_CAPEX","App.2-AC_Customer Engagement","App.2-B_Acctg Instructions","App.2-BA_Fixed Asset Cont","Appendix 2-BB Service Life  ","App.2-C_DepExp","App.2-D_Overhead","App.2-EA_Account 1575 (2015)","App.2-EB_Account 1576 (2012)","App.2-EC_Account 1576 (2013)","Hidden_REG Invest.","Hidden_REG Improvement","Hidden_REG Expansion","App.2-FA Proposed REG Invest.","App.2-FB Calc of REG Improvemnt","App.2-FC Calc of REG Expansion","App.2-G SQI","2.1.4_ServiceQuality","2016 Adjusted SAIDI and SAIFI","2017 Adjusted SAIDI and SAIFI","2018 Adjusted SAIDI and SAIFI","2019 Adjusted SAIDI and SAIFI","2020","App.2-H_Other_Oper_Rev","Hidden_Other Revenue","Several_Accounts","App_2-I LF_CDM","lists","App.2-IA_Load_Forecast_Instrct","App.2-IB_Load_Forecast_Analysis","App.2-JA_OM&A_Summary_Analys","Hidden_OM&A Summary","OM&A_Expenses","App.2-JB_OM&A_Cost _Drivers","App.2-JC_OMA Programs","App.2-K_Employee Costs","Hidden_Employee Costs","FTE","App.2-L_OM&A_per_Cust_FTE","App.2-L_OM&A_per_Cust_FTEE_exp","App.2-M_Regulatory_Costs","Hidden_RegulatoryCosts1","Hidden_RegulatoryCosts2","App.2-N_Corp_Cost_Allocation","App.2-OA Capital Structure","App.2-OB_Debt Instruments","App.2-Q_Cost of Serv. Emb. Dx","App.2-R_Loss Factors","App.2-ZA_Com. Exp. Forecast","App.2-ZB_Cost of Power","App.2-S_Stranded Meters","App.2-Y_MIFRS Summary Impacts","Sheet19","App.2-YA_IFRS Transition Costs","Sheet1"],"not_rendered":{"charts":0,"images":4,"macros":1,"external_links":23,"defined_names":903,"comments":1,"pivot_tables":0},"unopened":[],"bounds":{"document_bytes":16777216,"sheet_cells":100000,"rows_first":2000,"rows_last":500,"rows_between":2000,"halvings":0,"cell_chars":16384,"cell_head_chars":4096},"cells_cut":0,"cells_raw":0,"read":"whole","date_system":"1900"}

{"sheet":"LDC Info","index":0,"n_rows":77,"n_cols":27,"rows_kept":77,"cut":false,"hidden":false,"merged":[[17,4,17,10],[13,4,13,10],[15,4,15,8],[19,4,19,8],[25,4,25,6],[23,4,23,6],[21,4,21,8],[35,0,36,3],[32,8,33,9],[36,4,36,6],[48,0,48,3],[27,4,27,6],[30,4,30,6],[29,0,30,3],[45,0,46,3],[41,0,42,3],[42,4,42,6],[32,0,33,3],[33,4,33,6],[38,0,39,3]]}
[]
[]
[null,null,null,null,null,null,null,null,null,null,null,null,null,null,null,null,null,null,null,null,null,null,null,null,null,1,"Alectra Utilities Corporation-Brampton Rate Zone"]
[null,null,null,null,null,null,null,null,null,null,null,null,null,null,null,null,null,null,null,null,null,null,null,null,null,2,"Alectra Utilities Corporation-Enersource Rate Zone"]
[null,null,null,null,null,null,null,null,null,null,null,null,null,null,null,null,null,null,null,null,null,null,null,null,null,3,"Alectra Utilities Corporation-Horizon Utilities Rate Zone"]
[null,null,null,null,null,null,null,null,null,null,null,null,null,null,null,null,null,null,null,null,null,null,null,null,null,4,"Alectra Utilities Corporation-PowerStream Rate Zone"]
[null,null,null,null,null,null,null,null,null,null,null,null,null,null,null,null,null,null,null,null,null,null,null,null,null,5,"Alectra Utilities Corporation-Guelph Rate Zone"]
[null,null,null,null,null,null,null,null,null,null,null,null,null,null,null,null,null,null,null,null,null,null,null,null,null,6,"Algoma Power Inc."]
[null,null,null,null,null,null,null,null,null,null,null,null,null,null,null,null,null,null,null,null,null,null,null,null,null,7,"Atikokan Hydro Inc."]
[null,null,null,null,null,null,null,null,null,null,null,null,null,null,null,null,null,null,null,null,null,null,null,null,null,8,"Bluewater Power Distribution Corporation"]
[null,null,null,null,null,null,null,null,null,null,null,null,null,null,null,null,null,null,null,null,null,null,null,null,null,9,"Brantford Power Inc."]
[null,null,null,null,null,null,null,null,null,null,null,null,null,null,null,null,null,null,null,null,null,null,null,null,null,10,"Burlington Hydro Inc."]
[null,null,null,null,null,null,null,null,null,null,null,null,null,null,null,null,null,null,null,null,null,null,null,null,null,11,"Canadian Niagara Power Inc."]
[null,null,null,"Utility Name   ","Ottawa River Power Corporation",null,null,null,null,null,null,null,null,null,null,null,null,null,null,null,null,null,null,null,null,12,"Centre Wellington Hydro Ltd."]
[null,null,null,null,null,null,null,null,null,null,null,null,null,null,null,null,null,null,null,null,null,null,null,null,null,13,"Chapleau Public Utilities Corporation"]
[null,null,null,"Assigned EB Number","EB-2021-0052",null,null,null,null,null,null,null,null,null,null,null,null,null,null,null,null,null,null,null,null,14,"Cooperative Hydro Embrun Inc."]
[null,null,null,null,null,null,null,null,null,null,null,null,null,null,null,null,null,null,null,null,null,null,null,null,null,15,"E.L.K. Energy Inc."]
[null,null,null,"Name of Contact and Title","Jeffrey Roy, Chief Financial Officer",null,null,null,null,null,null,null,null,null,null,null,null,null,null,null,null,null,null,null,null,16,"Elexicon Energy Inc.-Whitby Rate Zone"]
[null,null,null,null,null,null,null,null,null,null,null,null,null,null,null,null,null,null,null,null,null,null,null,null,null,17,"Elexicon Energy Inc.-Veridian Rate Zone"]
[null,null,null,"Phone Number   ","(613)732-3687x227",null,null,null,null,null,null,null,null,null,null,null,null,null,null,null,null,null,null,null,null,18,"Energy+ Inc."]
[null,null,null,null,null,null,null,null,null,null,null,null,null,null,null,null,null,null,null,null,null,null,null,null,null,19,"Entegrus Powerlines Inc.-For Entegrus-Main Rate Zone"]
[null,null,null,"Email Address   ","jroy@orpowercorp.com",null,null,null,null,null,null,null,null,null,null,null,null,null,null,null,null,null,null,null,null,20,"Entegrus Powerlines Inc.-For Former St. Thomas Energy Rate Zone"]
[null,null,null,null,null,null,null,null,null,null,null,null,null,null,null,null,null,null,null,null,null,null,null,null,null,21,"ENWIN Utilities Ltd."]
[null,null,null,"Test Year",2022,null,null,null,null,null,null,null,null,null,null,null,null,null,null,null,null,null,null,null,null,22,"EPCOR Electricity Distribution Ontario Inc."]
[null,null,null,null,null,null,null,null,null,null,null,null,null,null,null,null,null,null,null,null,null,null,null,null,null,23,"ERTH Power Corporation - ERTH Power Main Rate Zone"]
[null,null,null,"Bridge Year",{"$f":"IF(ISBLANK(E24), \"\", E24-1)","v":2021},null,null,null,null,null,null,null,null,null,null,null,null,null,null,null,null,null,null,null,null,24,"ERTH POWER CORPORATION – GODERICH RATE ZONE"]
[null,null,null,null,null,null,null,null,null,null,null,null,null,null,null,null,null,null,null,null,null,null,null,null,null,25,"Essex Powerlines Corporation"]
[null,null,null,"Last Rebasing Year",2016,null,null,null,null,null,null,null,null,null,null,null,null,null,null,null,null,null,null,null,null,26,"Festival Hydro Inc."]
[null,null,null,null,null,null,null,null,null,null,null,null,null,null,null,null,null,null,null,null,null,null,null,null,null,27,"Fort Frances Power Corporation"]
["Identify the accounting standard used for the test year",null,null,null,null,null,null,null,null,null,null,null,null,null,null,null,null,null,null,null,null,null,null,null,null,28,"Greater Sudbury Hydro Inc."]
[null,null,null,null,"MIFRS",null,null,null,null,null,null,null,null,null,null,null,null,null,null,null,null,null,null,null,null,29,"Grimsby Power Incorporated"]
[null,null,null,null,null,null,null,null,null,null,null,null,null,null,null,null,null,null,null,null,null,null,null,null,null,30,"Halton Hills Hydro Inc."]
[{"$f":"\"Did \"& E14 &\" update its depreciation and capitalization policies?\"","v":"Did Ottawa River Power Corporation update its depreciation and capitalization policies?"},null,null,null,null,null,null,null,null,null,null,null,null,null,null,null,null,null,null,null,null,null,null,null,null,31,"Hearst Power Distribution Co. Ltd."]
[null,null,null,null,"Yes",null,null,null,null,null,null,null,null,null,null,null,null,null,null,null,null,null,null,null,null,32,"Hydro 2000 Inc."]
[null,null,null,null,null,null,null,null,null,null,null,null,null,null,null,null,null,null,null,null,null,null,null,null,null,33,"Hydro Hawkesbury Inc."]
["If \"yes\" to cell E34, were the changes in policies reflected in a prior rebasing application?",null,null,null,null,null,null,null,null,null,null,null,null,null,null,null,null,null,null,null,null,null,null,null,null,34,"Hydro One Networks Inc."]
[null,null,null,null,"Yes",null,null,null,null,null,null,null,null,null,null,null,null,null,null,null,null,null,null,null,null,35,"Hydro One Networks Inc.-Former Haldimand County Hydro Inc. Service Area"]
[null,null,null,null,null,null,null,null,null,null,null,null,null,null,null,null,null,null,null,null,null,null,null,null,null,36,"Hydro One Networks Inc.-Former Norfolk Power Distribution Inc. Service Area"]
[{"$f":"\"When did \"&E14&\" update its actual depreciation and capitalization policies?\"","v":"When did Ottawa River Power Corporation update its actual depreciation and capitalization policies?"},null,null,null,null,null,null,null,null,null,null,null,null,null,null,null,null,null,null,null,null,null,null,null,null,37,"Hydro One Networks Inc.-Former Woodstock Hydro Services Inc. Service Area"]
[null,null,null,null,"2001-01-01",2013,null,null,null,null,null,null,null,null,null,null,null,null,null,null,null,null,null,null,null,38,"Hydro One Remote Communites Inc."]
[null,null,null,null,null,null,null,null,null,null,null,null,null,null,null,null,null,null,null,null,null,null,null,null,null,39,"Hydro Ottawa Limited"]
["Identify the year the applicant adopted IFRS for financial reporting purposes",null,null,null,null,null,null,null,null,null,null,null,null,null,null,null,null,null,null,null,null,null,null,null,null,40,"InnPower Corporation"]
[null,null,null,null,2013,null,null,null,null,null,null,null,null,null,null,null,null,null,null,null,null,null,null,null,null,41,"Kingston Hydro Corporation"]
[null,null,null,null,null,null,null,null,null,null,null,null,null,null,null,null,null,null,null,null,null,null,null,null,null,42,"Kitchener-Wilmot Hydro Inc."]
[null,null,null,null,null,null,null,null,null,null,null,null,null,null,null,null,null,null,null,null,null,null,null,null,null,43,"Lakefront Utilities Inc."]
[{"$f":"\"Is \" & E14 & \" applying for cost recovery for the test and/or future year(s) for Green Energy initiatives?\"","v":"Is Ottawa River Power Corporation applying for cost recovery for the test and/or future year(s) for Green Energy initiatives?"},null,null,null,null,null,null,null,null,null,null,null,null,null,null,null,null,null,null,null,null,null,null,null,null,44,"Lakeland Power Distribution Ltd."]
[null,null,null,null,"No",null,null,null,null,null,null,null,null,null,null,null,null,null,null,null,null,null,null,null,null,45,"Lakeland Power Distribution Ltd.-Parry Sound Service Area"]
[null,null,null,null,null,null,null,null,null,null,null,null,null,null,null,null,null,null,null,null,null,null,null,null,null,46,"London Hydro Inc."]
[{"$f":"\"Is \" & E14 & \" an embedded distributor?\"","v":"Is Ottawa River Power Corporation an embedded distributor?"},null,null,null,"Yes",null,null,null,null,null,null,null,null,null,null,null,null,null,null,null,null,null,null,null,null,47,"Milton Hydro Distribution Inc."]
[null,null,null,null,null,null,null,null,null,null,null,null,null,null,null,null,null,null,null,null,null,null,null,null,null,48,"Newmarket-Tay Power Distribution Ltd.-For Former Midland Power Utility Rate Zone"]
[null,null,null,null,null,null,null,null,null,null,null,null,null,null,null,null,null,null,null,null,null,null,null,null,null,49,"Newmarket-Tay Power Distribution Ltd.-For Newmarket-Tay Power Main Rate Zone"]
[null,"Notes",null,null,null,null,null,null,null,null,null,null,null,null,null,null,null,null,null,null,null,null,null,null,null,50,"Niagara Peninsula Energy Inc."]
[null,null,null,null,null,null,null,null,null,null,null,null,null,null,null,null,null,null,null,null,null,null,null,null,null,51,"Niagara-on-the-Lake Hydro Inc."]
[null,null,"Pale green cells represent input cells.",null,null,null,null,null,null,null,null,null,null,null,null,null,null,null,null,null,null,null,null,null,null,52,"North Bay Hydro Distribution Limited - Espanola service territory"]
[null,null,null,null,null,null,null,null,null,null,null,null,null,null,null,null,null,null,null,null,null,null,null,null,null,53,"North Bay Hydro Distribution Limited - North Bay service territory"]
[null,null,"Pale blue cells represent drop-down lists.  The applicant should select the appropriate item from the drop-down list.",null,null,null,null,null,null,null,null,null,null,null,null,null,null,null,null,null,null,null,null,null,null,54,"Northern Ontario Wires Inc."]
[null,null,null,null,null,null,null,null,null,null,null,null,null,null,null,null,null,null,null,null,null,null,null,null,null,55,"Oakville Hydro Electricity Distribution Inc."]
[null,null,"White cells contain fixed values, automatically generated values or formulae. ",null,null,null,null,null,null,null,null,null,null,{"$f":"IF(LEN($G58)>1, (SUMPRODUCT(--($C$81:$C$1003=$C58),--($A$81:$A$1003=$D58), --($B$81:$B$1003=$B58&\"_TOTAL\"), $L$1:$L$889)), \"\")","v":""},{"$f":"IF(LEN($G58)>1, (SUMPRODUCT(--($C$81:$C$1003=$C58),--($A$81:$A$1003=$D58), --($B$81:$B$1003=$B58&\"_TOTAL\"), $M$1:$M$889)), \"\")","v":""},null,null,null,null,null,null,null,null,null,null,56,"Orangeville Hydro Limited"]
[null,null,null,null,null,null,null,null,null,null,null,null,null,"","",null,null,null,null,null,null,null,null,null,null,57,"Orillia Power Distribution Corporation"]
[null,null,null,null,null,null,null,null,null,null,null,null,null,"","",null,null,null,null,null,null,null,null,null,null,58,"Oshawa PUC Networks Inc."]
[null,null,null,null,null,null,null,null,null,null,null,null,null,"","",null,null,null,null,null,null,null,null,null,null,59,"Ottawa River Power Corporation"]
[null,null,null,null,null,null,null,null,null,null,null,null,null,"","",null,null,null,null,null,null,null,null,null,null,60,"Peterborough Distribution Incorporated"]
[null,null,null,null,null,null,null,null,null,null,null,null,null,"","",null,null,null,null,null,null,null,null,null,null,61,"PUC Distribution Inc."]
[null,null,null,null,null,null,null,null,null,null,null,null,null,"","",null,null,null,null,null,null,null,null,null,null,62,"Renfrew Hydro Inc."]
[null,null,null,null,null,null,null,null,null,null,null,null,null,"","",null,null,null,null,null,null,null,null,null,null,63,"Rideau St. Lawrence Distribution Inc."]
[null,null,null,null,null,null,null,null,null,null,null,null,null,"","",null,null,null,null,null,null,null,null,null,null,64,"Sioux Lookout Hydro Inc."]
[null,null,null,null,null,null,null,null,null,null,null,null,null,"","",null,null,null,null,null,null,null,null,null,null,65,"Synergy North Corporation-Kenora Rate Zone"]
[null,null,null,null,null,null,null,null,null,null,null,null,null,"","",null,null,null,null,null,null,null,null,null,null,66,"Synergy North Corporation-Thunder Bay Rate Zone "]
[null,null,null,null,null,null,null,null,null,null,null,null,null,"","",null,null,null,null,null,null,null,null,null,null,67,"Tillsonburg Hydro Inc."]
[null,null,null,null,null,null,null,null,null,null,null,null,null,"","",null,null,null,null,null,null,null,null,null,null,68,"Toronto Hydro-Electric System Limited"]
[null,null,null,null,null,null,null,null,null,null,null,null,null,"","",null,null,null,null,null,null,null,null,null,null,69,"Wasaga Distribution Inc."]
[null,null,null,null,null,null,null,null,null,null,null,null,null,"","",null,null,null,null,null,null,null,null,null,null,70,"Waterloo North Hydro Inc."]
[null,null,null,null,null,null,null,null,null,null,null,null,null,"","",null,null,null,null,null,null,null,null,null,null,71,"Welland Hydro-Electric System Corp."]
[null,null,null,null,null,null,null,null,null,null,null,null,null,"","",null,null,null,null,null,null,null,null,null,null,72,"Wellington North Power Inc."]
[null,null,null,null,null,null,null,null,null,null,null,null,null,"","",null,null,null,null,null,null,null,null,null,null,73,"Westario Power Inc."]
[null,null,null,null,null,null,null,null,null,null,null,null,null,"",""]
[null,null,null,null,null,null,null,null,null,null,null,null,null,"",""]

{"sheet":"Index","index":1,"n_rows":42,"n_cols":6,"rows_kept":42,"cut":false,"hidden":false,"merged":[[41,1,41,5]]}
[]
[]
[]
[]
[]
[]
[]
[]
[]
[]
[]
[]
[]
[]
[1,"LDC Information Sheet",null,null,20,"App.2-G: Service Reliability Indicators"]
[2,"Index",null,null,21,"App.2-H: Other Operating Revenue (TO BE UPDATED AT THE DRAFT RATE ORDER STAGE)"]
[3,"Cost of Service Application Flowchart",null,null,22,"App.2-I: Load Forecast CDM Adjustment Workform"]
[4,"List of Key References",null,null,23,"App.2-IA: Load Forecast Data Instructions"]
[5,"App.2-A: List of Requested Approvals",null,null,24,"App.2-IB:  Actual and Forecast Load and Customer Data"]
[6,"App.2-AA: Capital Projects Table",null,null,25,"App.2-JA: OM&A Summary Analysis (TO BE UPDATED AT THE DRAFT RATE ORDER STAGE) "]
[7,"App.2-AB: Capital Expenditures (TO BE UPDATED AT THE DRAFT RATE ORDER STAGE)",null,null,26,"App.2-JB: Recoverable OM&A Cost Driver Table"]
[8,"App. 2-AC: Customer Engagement Worksheet",null,null,27,"App.2-JC: OM&A Programs Table"]
[9,"App.2-B: General Accounting Instructions Relating to MIFRS Transition - CONTACT OEB STAFF IF TAB REQUIRED",null,null,28,"App.2-K: Employee Costs (TO BE UPDATED AT THE DRAFT RATE ORDER STAGE)"]
[10,"App.2-BA: Fixed Asset Continuity Schedule",null,null,29,"App.2-L: Recoverable OM&A Cost per Customer and per FTE"]
[11,"Appendix 2-BB: Service Life Comparison",null,null,30,"App.2-M: Regulatory Costs Schedule (TO BE UPDATED AT THE DRAFT RATE ORDER STAGE)"]
[12,"App.2-C_DepExp: Depreciation and Amortization Expense",null,null,31,"App.2-N: Shared Services and Corporate Cost Allocation"]
[13,"App.2-D: Overhead Expenses",null,null,32,"App.2-OA: Capital Structure and Cost of Capital"]
[14,"App.2-EA: Account 1575 PP&E Deferral Account (2015 IFRS Adopters) - CONTACT OEB STAFF IF TAB REQUIRED",null,null,33,"App.2-OB: Debt Instruments"]
[15,"App.2-EB: Account 1576 - Accounting Changes Under CGAAP (2012 Changes) - CONTACT OEB STAFF IF TAB REQUIRED",null,null,34,"App.2-Q: Cost of Serving Embedded Distributor(s)"]
[16,"App.2-EC: Account 1576 - Accounting Changes Under CGAAP (2013 Changes) - CONTACT OEB STAFF IF TAB REQUIRED",null,null,35,"App.2-R: Loss Factors"]
[17,"App.2-FA: Renewable Generation Connection Investment Summary (TO BE UPDATED AT THE DRAFT RATE ORDER STAGE)",null,null,36,"App.2-S: Stranded Meter Treatment- CONTACT OEB STAFF IF TAB REQUIRED"]
[18,"App.2-FB: Calculation of Renewable Generation Connection Direct Benefits/Provincial Amount: Renewable Enabling Improvement Investments (TO BE UPDATED AT THE DRAFT RATE ORDER STAGE)",null,null,37,"App.2-Y: Transition to MIFRS Summary Impact - CONTACT OEB STAFF IF TAB REQUIRED"]
[19,"App.2-FC: Calculation of Renewable Generation Connection Direct Benefits/Provincial Amount: Renewable Expansion Investments (TO BE UPDATED AT THE DRAFT RATE ORDER STAGE)",null,null,38,"App.2-YA: One-Time Incremental IFRS Transition Costs - CONTACT OEB STAFF IF TAB REQUIRED"]
[null,null,null,null,39,"App.2-ZA: Commodity Expense"]
[null,null,null,null,40,"App.2-ZB: Cost of Power"]
[]
[]
[]
[]
[]
[]
["Note:","Appendices for the Tariff of Rates and Charges at Current and Proposed Rates, and for the Bill Impacts are now in a separate spreadsheet model. These appendices were formerly 2-Z and 2-W."]

{"sheet":"COS Flowchart","index":2,"n_rows":6,"n_cols":2,"rows_kept":6,"cut":false,"hidden":false,"merged":[[5,1,5,6],[2,1,2,6],[3,1,3,6]]}
[]
[]
[]
[null,"Cost of Service Rate Application Schematic"]
[]
[null,"The Cost of Service Rate Application Schematic is a flowchart that is included as a guide for the components of an application. The schematic demonstrates how demand and costs interrelate to derive the revenue requirement and how the revenue requirement is allocated between classes and through fixed/variable splits to derive rates that will be compensatory for the annual revenue requirement, based on the the forecasted demand.  There is no form to be filled out; therefore, this Schedule is not required to be filed."]

{"sheet":"List of Key References","index":3,"n_rows":0,"n_cols":0,"rows_kept":0,"cut":false,"hidden":false,"merged":[]}

{"sheet":"App.2-A_Requested_Approvals","index":4,"n_rows":58,"n_cols":8,"rows_kept":58,"cut":false,"hidden":false,"merged":[[41,5,41,7],[11,1,11,7],[29,5,29,7],[23,5,23,7],[25,5,25,7],[27,5,27,7],[31,5,31,7],[21,5,21,7],[13,1,13,7],[15,1,15,7],[17,1,17,7],[19,5,19,7],[8,1,8,7],[33,5,33,7],[35,5,35,7],[37,5,37,7],[39,5,39,7],[9,1,9,7],[53,5,53,7],[55,5,55,7],[57,5,57,7],[43,5,43,7],[47,5,47,7],[49,5,49,7],[51,5,51,7]]}
[" ",null,null,null,null,null,"File Number:",{"$f":"EBNUMBER","v":"EB-2021-0052"}]
[null,null,null,null,null,null,"Exhibit:"]
[null,null,null,null,null,null,"Tab:"]
[null,null,null,null,null,null,"Schedule:"]
[null,null,null,null,null,null,"Page:"]
[]
[null,null,null,null,null,null,"Date:"]
[]
[null,"Appendix 2-A"]
[null,"List of Requested Approvals"]
[]
[null,"The distributor must fill out the following sheet with the complete list of specific approvals requested and relevant section(s) of the legislation must be provided. All approvals, including accounting orders (deferral and variance accounts) new rate classes, revised specific service charges or retail service charges which the applicant is seeking, must be separately identified, as well being clearly documented in the appropriate sections of the application."]
[]
[null,"Additional requests may be added by copying and pasting blank input rows, as needed."]
[]
[null,"If additional requests arise, or requested approvals are removed, during the processing of the application, the distributor should update this list."]
[]
[null,{"$f":"CONCATENATE('LDC Info'!E14,\" is seeking the following approvals in this application:\")","v":"Ottawa River Power Corporation is seeking the following approvals in this application:"}]
[]
[null,1,null,null,null,"Approval to charge distribution rates effective May 1, 2022 to recover a Base Revenue requirement and revenue deficiency, as detailed in the Revenue Requirement Workform and discussed in Exhibit 6, through applying the proposed rates as set out in the Tariff Schedule & Bill Impact model and Exhibit 8."]
[]
[null,2,null,null,null,"Approval of the Applicant’s Distribution System Plan as included in Exhibit 2 and filed as a stand-alone document with this Application."]
[]
[null,3,null,null,null,"Approval of revised Low Voltage Rates as proposed and described in Exhibit 8"]
[]
[null,4,null,null,null,"Approval for an adjustment to the Retail Transmission Service Rates approved in the Applicant’s 2021 IRM application as detailed in Exhibit 8."]
[]
[null,5,null,null,null,"Approval to continue to charge Wholesale Market Services, Capacity -Based Recovery and Rural Rate Protection charges as approved by the OEB and detailed in Exhibit 8."]
[]
[null,6,null,null,null,"Approval to continue the specific Service Charges (with the exception of the MicroFIT Monthly Service charge) and Transformer Allowance as previously approved by the OEB and as detailed in Exhibit 8."]
[]
[null,7,null,null,null,"Approval to continue applying the MicroFIT monthly service charge of $4.55 as approved in the Applicant's 2016 Cost of Service (EB-2014-0105), updated in its 2020 IRM application (EB-2019-0062) and detailed in Exhibit 3, to recover operating costs in calculating and validating generation data to enable monthly settlement with the IESO."]
[]
[null,8,null,null,null,"Approval of the proposed Loss Factor as detailed in Exhibit 8 and calculated in Chapter 2 Filing Requirements Appendix worksheet App2-R Loss Factors."]
[]
[null,9,null,null,null,"Approval of the Rate Riders for a one year disposition of the Group 1 Deferral and Variance account balances as at December 31, 2020 along with the projected carrying charges in accordance with the Report of the Board on Electricity Distributors’ Deferral and Variance Account Review Initiative (EDDVAR – July 31, 2009) as detailed in Exhibit 9."]
[]
[null,10,null,null,null,"Approval of the Rate Riders for a one year disposition of the Group 2 Deferral and Variance account balances as at December 31, 2020 along with the projected carrying charges in accordance with the Report of the Board on Electricity Distributors’ Deferral and Variance Account Review Initiative (EDDVAR – July 31, 2009) as detailed in Exhibit 9."]
[]
[null,11,null,null,null,"Approval of the Rate Riders for a one year disposition for the Loss Revenue Adjustment Mechanism variance account (“LRAMVA”) for lost revenue resulting from the Conservation First Framework programs as detailed in Exhibit 4. Account disposition requested as a final balance. "]
[]
[null,12,null,null,null,"Approval to include assets relating to a new substation (built and energized in 2020) into the Applicant’s 2022 Rate Base as detailed in Exhibit 2"]
[]
[null,13,null,null,null,"Disposal of the balance in the wireline pole attachment variance account as at December 31st 2020 as recorded in account 1508."]
[]
[null,14]
[]
[null,15]
[]
[null,16]
[]
[null,17]
[]
[null,18]
[]
[null,19]
[]
[null,20]

{"sheet":"App.2-AA_Capital Projects","index":5,"n_rows":230,"n_cols":8,"rows_kept":230,"cut":false,"hidden":false,"merged":[]}
[]
[]
[]
[]
[]
[]
[]
[]
["Appendix 2-AA"]
["Capital Projects Table"]
[]
[]
[" ",2016,2017,2018,2019,2020,2021,2022]
["Account","Total","Total","Total","Total","Total","Total","Total"]
[]
["System Access",null,null,null,null," "]
["New Services and Service Upgrades",-3918.0099999999948]
["Orchard View by the Mississippi Almonte",79811.580000000016]
["New Services and Service Upgrades",null,176517.86000000002]
["Martin Street Pole Upgrades",null,30728.86]
["Riverfront Phase 4",null,86543.5]
["Upper Valley Drive Upgrades",null,44899.17]
["Boundary Road - SRB Technologies",null,24950.799999999999]
["Contributions",null,-263532.76]
["New Services and Service Upgrades",null,null,239569.38]
["Firehall",null,null,39434.080000000002]
["Tie Line - Horace Street",null,null,43910.700000000004]
["Pembroke Place Condo",null,null,57115.72]
["Orchardview",null,null,38617.339999999997]
["Riverfront Phase 4 and Phase 5",null,null,57466.939999999995]
["Patricia Street Townhomes",null,null,17385.59]
["Contributions",null,null,-136450]
["New Services and Service Upgrades",null,null,null,414367.27000000008]
["Orchardview",null,null,null,2605.79]
["Riverfront Phase 5",null,null,null,172940.3]
["Petro Canada",null,null,null,12156.88]
["Install and Connect Pad Mount Transformer",null,null,null,38230.21]
["Blakely Crescent",null,null,null,10865.48]
["Contributions",null,null,null,-183075.03]
["New Services and Service Upgrades",null,null,null,null,70361.989999999991]
["UG Primary - Town Homes on Blakely Crescent",null,null,null,null,100]
["Bennett Street - Cell Tower",null,null,null,null,19962.840000000004]
["Food Basics - 1500 kVa Padmounted Transformer",null,null,null,null,39829.150000000009]
["Victoria Street Reconstruction - Pole Removals, Cable U/G",null,null,null,null,14853.95]
["Patricia Street - Robert Morre 10 Unit Building",null,null,null,null,1665.22]
["Guy Bourgon - Offer to Connect",null,null,null,null,-23050]
["New Services and Service Upgrades",null,null,null,null,null,93686.329999999987]
["4 Semi-detached Single\n Storey Homes ",null,null,null,null,null,4315.09]
["Roger Telecom Tower",null,null,null,null,null,3215.8500000000004]
["Pembroke Street West Upgrade (Phase 2)",null,null,null,null,null,23276.429999999993]
["Pembroke Street West Upgrade (Phase 1 - Strut Guy)",null,null,null,null,null,501.61999999999989]
["4-Plex at 759 Mary Street",null,null,null,null,null,7423.7300000000014]
["Golfview Subdivision",null,null,null,null,null,43655.289999999994]
["143 Marshall Street",null,null,null,null,null,4078.4300000000003]
["Mississippi Mills Industrial Park Phase 3",null,null,null,null,null,6502.0400000000009]
["New Services and Service Upgrades",null,null,null,null,null,null,61605.91]
["44 kV O/H Line Relocation",null,null,null,null,null,null,93599.96]
["4 Semi-Detached Single Storey Homes",null,null,null,null,null,null,2196.4899999999998]
["3 Commercial Buildings",null,null,null,null,null,null,-3576.9099999999889]
["Car Wash",null,null,null,null,null,null,-3391.3799999999901]
["Orchard View Suites (Phase 2)",null,null,null,null,null,null,64502.109999999986]
["42 Unit Apartment Building",null,null,null,null,null,null,33263.440000000002]
["Burcom Development - 48 Houses",null,null,null,null,null,null,42500]
["Highway 148 Upgrade",null,null,null,null,null,null,100000]
["9 Houston Drive Service Upgrade",null,null,null,null,null,null,7000]
["9 Townhomes at 627 Nelson Street Pembroke",null,null,null,null,null,null,12000]
[]
["Sub-Total",{"$f":"SUM(B17:B67)","v":75893.570000000022},100107.43,357049.75,468090.9,123723.15,186654.80999999997,409699.62]
["System Renewal"]
["Minor Capital Betterments",293696.4800000001]
["Martin Street and Paul Street",124628.18000000001]
["Sub 4 Cable Replacement",13799.81]
["Paul Martin Drive Pole Conflicts Road Rebuild",107281.77]
["Paul Martin Drive Install New 60' 44kV Pole",12994.66]
["Boundary Road East Pole Upgrade",15938.28]
["Alfred and Cecelia Upgrade Secondary Conductors",12444.4]
["Minor Capital Betterments",null,320674.97000000003]
["Almonte Martin Street and St Paul Street Renewal",null,34853.009999999995]
["Angus Campbell Drive Damage",null,18227.439999999999]
["Boundary Road - Pole Replacements",null,86692]
["Beachburg Road Pole and Secondary Replacement",null,46057.18]
["Replace 1000kVa Transformer",null,33903.119999999995]
["Pembroke MS#4 Feeder#1 Rebuild",null,12316.2]
["Pembroke MS#4 Pole Upgrades",null,31075.3]
["Boundary Road - 44KV Upgrade",null,22167.33]
["Minor Capital Betterments",null,null,216311.97000000003]
["Replace U/G Riser",null,null,11450.939999999999]
["Pole Upgrade - Pembroke Street East",null,null,18487.539999999997]
["Shepherd Street",null,null,39211.100000000006]
["Euphemia Street",null,null,42785.01]
["Beachburg Road",null,null,19759.949999999997]
["O'Brien Street",null,null,36418.75]
["Industrial Drive 44kV Pole Installation",null,null,12427.669999999998]
["Pembroke Voltage Conversion MS#1 and MS#3",null,null,371389.06000000006]
["Almonte MS#2 and 3 Station Insulator Upgrades",null,null,10324.31]
["Almonte MS#3 Station Upgrades",null,null,64812.59]
["Pembroke MS#6 Copper",null,null,17277.939999999999]
["Minor Capital Betterments",null,null,null,88885.309999999983]
["Voltage Conversion - Feeder 1 - 1",null,null,null,4419.2700000000004]
["Voltage Conversion - Feeder 1 - 2",null,null,null,55662.68]
["Voltage Conversion - Feeder 1 - 3",null,null,null,35885.630000000005]
["Voltage Conversion - Feeder 1 - 4",null,null,null,35703.06]
["Voltage Conversion - Feeder 3 - 1",null,null,null,27114.67]
["Voltage Conversion - Feeder 3 - 2",null,null,null,254.47]
["Almonte MS#3 Station Upgrades",null,null,null,9320.32]
["Beachburg Road Pole Replacement",null,null,null,55479.74]
["Victoria Street Underground Conversion",null,null,null,16023.36000000003]
["Minor Capital Betterments",null,null,null,null,111442.16]
["Voltage Conversion - Feeder 1 - 1",null,null,null,null,254.47]
["Voltage Conversion - Feeder 1 - 2",null,null,null,null,1259.29]
["PCB Transformer - T550 1283 Pembroke Street West",null,null,null,null,2911.74]
["PCB Transformer - 183 Cecil Street",null,null,null,null,966.47]
["PCB Transformer - 201 Cecil Street",null,null,null,null,1451.54]
["Esther Street - OH Secondary Service Replacement",null,null,null,null,4536.26]
["PCB Transformer - T438 Boundary and McGee",null,null,null,null,3704.82]
["32 Pembroke Street West - Replace Pole",null,null,null,null,6836.3600000000006]
["Upgrade Riser Disconnects at L557 and T1011",null,null,null,null,1687.77]
["672 & 708 Gordon Street Pole Replacements",null,null,null,null,8947.08]
["174 Albert Street - Replace pole and transformers",null,null,null,null,16353.11]
["Garden Street - Replace Leaking Padmount Transformer",null,null,null,null,3032.37]
["O'Brien Street North - Install Underground Road Crossings",null,null,null,null,12232.07]
["John Street Killaloe - Re-insulate 2 poles",null,null,null,null,2481.12]
["277 Cecelia Street - Replace wood pole",null,null,null,null,6107.21]
["5 Smith Street - Replace wood pole and install new anchor",null,null,null,null,7301.34]
["Beachburg Road - Replace 3 wood poles",null,null,null,null,17038.52]
["119 Arnolds Lane - Replace wood pole",null,null,null,null,3947.83]
["473 Christink Lane - Replace wood pole",null,null,null,null,3692.1099999999997]
["281 Maple Avenue - Replace wood pole",null,null,null,null,5212.0599999999995]
["Minor Capital Betterments",null,null,null,null,null,134030.57999999999]
["Gemmell Park Project",null,null,null,null,null,31925.59]
["Re-Insulate and Adjust Sage on Feeder 6-2",null,null,null,null,null,6144.88]
["Install New Tie Switches 4-4 TS 4-5 Coolidge Street",null,null,null,null,null,4863.79]
["Pole Replacement due to Fire on Pembroke SW at Blakely",null,null,null,null,null,11683.130000000001]
["Pole Replacement due to Fire on Sussex at John",null,null,null,null,null,10937.31]
["Replace 45' Pole at481 Isabella Street",null,null,null,null,null,6009.7099999999991]
["Replace 2 40' Wood Poles with New 45'/3 Wood Poles",null,null,null,null,null,8721.880000000001]
["Set Pole for Bell Canada",null,null,null,null,null,10285.969999999999]
["Install 44kV Pole on Front Street at Alongquin Trail",null,null,null,null,null,10151.720000000001]
["Pole and Transformer Upgrade at Beachburg Arena",null,null,null,null,null,19305]
["Stub Pole Relocation",null,null,null,null,null,5611.81]
["44kV OHL Relocation",null,null,null,null,null,106390.64000000001]
["Replace 6 45' and 1 50' Pole on Mill Street Killaloe",null,null,null,null,null,48746.66]
["PCB Transformer Replacements",null,null,null,null,null,30000]
["Pembroke Voltage Conversion",null,null,null,null,null,29840.05]
["Minor Capital Betterments",null,null,null,null,null,null,32080.85]
["Esther Street Pembroke",null,null,null,null,null,null,51590.810000000005]
["Replace 4 pole due to rot at ground level. Feeder 6M1 and 6M2.",null,null,null,null,null,null,45414.83]
["John Street Pembroke",null,null,null,null,null,null,43349.01]
["McKenzie Street Pembroke",null,null,null,null,null,null,24993.239999999998]
["Third Avenue Pembroke",null,null,null,null,null,null,61320.639999999999]
["Thompson Street Pembroke",null,null,null,null,null,null,26105.329999999998]
["Larose Street Almonte",null,null,null,null,null,null,80958.960000000006]
["Naismith Drive Almonte",null,null,null,null,null,null,37491.440000000002]
["Evelyn Street Almonte",null,null,null,null,null,null,50591.79]
["Florence Street Almonte",null,null,null,null,null,null,43882.69]
["Pembroke MS6 - Transformer Replacement",null,null,null,null,null,null,750000]
[]
["Sub-Total",{"$f":"SUM(B70:B157)","v":580783.58000000019},605966.54999999993,860656.83000000007,328748.51000000007,221395.6999999999,474648.72000000003,1247779.5900000001]
["System Service"]
["Sub 2 Rebuild",61445.479999999996]
["Sub 3 and 7 Ground Grid & Fence",34011.340000000004]
["Sub 6 Ground Grid",72422.209999999992]
["Almonte MS#1 Scada Upgrade",null,58745.440000000002]
["Almonte MS#1 Land",null,39130]
["Almonte MS#2 Upgrades",null,58599.3]
["Minor Capital Betterments",null,null,4718.16]
["Almonte MS#1 Scada Upgrades",null,null,12648.09]
["Almonte MS#2 Upgrades",null,null,56942.81]
["Almonte MS#4 Construction",null,null,147575.24]
["Almonte Feeder Relocation",null,null,null,64349.53]
["Almonte MS#4 Line Extension",null,null,null,42126.47]
["Almonte MS#4 Construction",null,null,null,-58854.18]
["Almonte Feeder Relocation",null,null,null,null,-16438.060000000001]
["1F3 Switch Upgrade",null,null,null,null,4840.1400000000003]
["Pembroke MS#6 Insulation Upgrades",null,null,null,null,12161.77]
["Almonte MS#3 Upgrades",null,null,null,null,15684.12]
["Almonte MS#4 Line Extension",null,null,null,null,27983.239999999998]
["Battery",null,null,null,null,null,1134]
["Assessment, Scout and Configuration",null,null,null,null,null,null,45000]
["Pembroke MS4 - Replace RTU and Relay",null,null,null,null,null,null,60000]
[]
["Sub-Total",{"$f":"SUM(B160:B181)","v":167879.03},156474.74,221884.3,47621.82,44231.21,1134,105000]
["General Plant"]
["Office Equipment",27072.09,4397.75,4.58,null,5574.39]
["Computer Equipment - Hardware",1668.77,6396.67,5446.05,13428.49,32756.85]
["Computer Software",21070,33880.61,11474.01,11265.5,5473.34]
["Transportation Equipment - Misc",3040,2508.2399999999998]
["Transportation Equipment - Truck Purchase (Cab & Chassis)",113525,319920]
["Small Tools",14006.95,3354.45,368.11,1834,4971.3599999999997]
["Measurement and Testing Equipment",0,999,3180.25]
["Leasehold Improvement",54222.450000000004,3278.2699999999995,null,4189.1899999999996]
["Transportation Equipment - Truck #8 Exhaust",null,null,16465.63]
["Transportation Equipment - Truck #31 Exhaust",null,null,14531.6]
["Computer Software - Cyber Security",null,null,null,5394.66]
["Transportation Equipment - Trailer",null,null,null,26500]
["Transportation Equipment - New Truck",null,null,null,364485]
["Transportation Equipment",null,null,null,null,53553.9]
["Stores Equipment",null,null,null,null,3472.21]
["Miscellaneous Equipment",null,null,null,null,2499]
["System Supervisory Equipment",null,null,null,null,3247]
["Leasehold Improvements - Pembroke Office Glass Barrier",null,null,null,null,10264.580000000002]
["Leasehold Improvements - Air Conditioner Repair",null,null,null,null,8775.9699999999993]
["Leasehold Improvements - Paving",null,null,null,null,16500]
["Leasehold Improvements - Wall",null,null,null,null,1167.79]
["Leasehold Improvements - Almonte Pole Barn",null,null,null,null,2941.54]
["Leasehold Improvements - Almonte New Office",null,null,null,null,10542.01]
["Server",null,null,null,null,null,106585.32]
["Switches, Hard Drives, Networking, Laptops, Printers",null,null,null,null,null,35267.94]
["Garage Fixtures, Paint and Blinds",null,null,null,null,null,10343.36]
["Patch Management Platform",null,null,null,null,null,3316.95]
["Elster Connexo Upgrade",null,null,null,null,null,76153]
["Engine Control Unit",null,null,null,null,null,3602.08]
["Tools, Shop and Garage Equipment",null,null,null,null,null,2000]
["Truck 8 and 31 Painting",null,null,null,null,null,10000]
["Credit Control Automation Platform",null,null,null,null,null,14950]
["Customer Information System Version Upgrade",null,null,null,null,null,100000]
["Postage Machine",null,null,null,null,null,16833.96]
["Folding Machine",null,null,null,null,null,19726.740000000002]
["E-Billing System",null,null,null,null,null,null,45000]
["Customer Information System Automation",null,null,null,null,null,null,10000]
["Furniture",null,null,null,null,null,null,5000]
["Almonte Lunchroom Repairs",null,null,null,null,null,null,15000]
["Pembroke Eavestrough",null,null,null,null,null,null,27000]
["Latops, Printers and Other Hardware",null,null,null,null,null,null,11000]
["Infrared Camera",null,null,null,null,null,null,19210]
["Transporation Equipment",null,null,null,null,null,null,5000]
["Tools, Shop and Garage Equipment",null,null,null,null,null,null,2000]
[]
["Sub-Total",{"$f":"SUM(B184:B228)","v":234605.26},374734.99000000005,51470.23,427096.83999999997,161739.94000000003,398779.35000000003,139210]
["Total",{"$f":"B68+B158+B182+B229","v":1059161.4400000004},{"$f":"C68+C158+C182+C229","v":1237283.71},{"$f":"D68+D158+D182+D229","v":1491061.11},{"$f":"E68+E158+E182+E229","v":1271558.07},{"$f":"F68+F158+F182+F229","v":551089.99999999988},1061216.97,1901689.21]

{"sheet":"App.2-AB_Capital Expenditures","index":6,"n_rows":37,"n_cols":33,"rows_kept":37,"cut":false,"hidden":false,"merged":[[27,0,27,32],[25,0,25,32],[13,7,13,9],[15,7,15,8],[13,4,13,6],[15,4,15,5],[15,28,15,32],[13,32,14,32],[15,10,15,11],[15,1,15,2],[26,0,26,32],[15,13,15,14],[15,16,15,17],[15,19,15,20],[15,22,15,23],[15,25,15,26],[8,0,8,32],[9,0,9,32],[13,19,13,21],[13,22,13,24],[13,25,13,27],[13,28,14,28],[13,29,14,29],[12,1,12,27],[13,10,13,12],[13,1,13,3],[12,0,15,0],[12,28,12,32],[13,13,13,15],[13,16,13,18],[13,30,14,30],[13,31,14,31],[34,0,35,32],[37,0,38,32],[36,0,36,32],[29,0,29,32],[30,0,30,32],[31,0,32,32],[33,0,33,32]]}
[null,null,null,null,null,null,null,null,null,null,null,null,null,null,null,null,null,null,null,null,null,null,null,null,null,null,null,null,null,null,"File Number:",null,{"$f":"EBNUMBER","v":"EB-2021-0052"}]
[null,null,null,null,null,null,null,null,null,null,null,null,null,null,null,null,null,null,null,null,null,null,null,null,null,null,null,null,null,null,"Exhibit:"]
[null,null,null,null,null,null,null,null,null,null,null,null,null,null,null,null,null,null,null,null,null,null,null,null,null,null,null,null,null,null,"Tab:"]
[null,null,null,null,null,null,null,null,null,null,null,null,null,null,null,null,null,null,null,null,null,null,null,null,null,null,null,null,null,null,"Schedule:"]
["TO BE UPDATED AT THE DRAFT RATE ORDER STAGE",null,null,null,null,null,null,null,null,null,null,null,null,null,null,null,null,null,null,null,null,null,null,null,null,null,null,null,null,null,"Page:"]
[]
[null,null,null,null,null,null,null,null,null,null,null,null,null,null,null,null,null,null,null,null,null,null,null,null,null,null,null,null,null,null,"Date:"]
[]
["Appendix 2-AB"]
["Table 2 - Capital Expenditure Summary from Chapter 5 Consolidated\nDistribution System Plan Filing Requirements"]
["First year of Forecast Period:"]
[{"$f":"TestYear","v":2022}]
["CATEGORY","Historical Period (previous plan1 & actual)",null,null,null,null,null,null,null,null,null,null,null,null,null,null,null,null,null,null,null,null,null,null,null,null,null,null,"Forecast Period (planned)"]
[null,{"$f":"E14-1","v":2013},null,null,{"$f":"H14-1","v":2014},null,null,{"$f":"K14-1","v":2015},null,null,{"$f":"N14-1","v":2016},null,null,{"$f":"Q14-1","v":2017},null,null,{"$f":"T14-1","v":2018},null,null,{"$f":"W14-1","v":2019},null,null,{"$f":"Z14-1","v":2020},null,null,{"$f":"AC14-1","v":2021},null,null,{"$f":"A12","v":2022},{"$f":"AC14+1","v":2023},{"$f":"AD14+1","v":2024},{"$f":"AE14+1","v":2025},{"$f":"AF14+1","v":2026}]
[null,"Plan","Actual","Var","Plan","Actual","Var","Plan","Actual","Var","Plan","Actual","Var","Plan","Actual","Var","Plan","Actual","Var","Plan","Actual","Var","Plan","Actual","Var","Plan","Actual2","Var"]
[null,"$ '000",null,"%","$ '000",null,"%","$ '000",null,"%","$ '000",null,"%","$ '000",null,"%","$ '000",null,"%","$ '000",null,"%","$ '000",null,"%","$ '000",null,"%","$ '000"]
["System Access",null,null,{"$f":"IF(ISERROR((C17-B17)/B17),\"--\",(C17-B17)/B17)","v":"--"},null,null,{"$f":"IF(ISERROR((F17-E17)/E17),\"--\",(F17-E17)/E17)","v":"--"},null,null,{"$f":"IF(ISERROR((I17-H17)/H17),\"--\",(I17-H17)/H17)","v":"--"},500850,172793,{"$f":"IF(ISERROR((L17-K17)/K17),\"--\",(L17-K17)/K17)","v":-0.65500049915144254},452200,{"$f":"100107.43+263533","v":363640.43},{"$f":"IF(ISERROR((O17-N17)/N17),\"--\",(O17-N17)/N17)","v":-0.19584159663865547},392700,{"$f":"357049.75+136450","v":493499.75},{"$f":"IF(ISERROR((R17-Q17)/Q17),\"--\",(R17-Q17)/Q17)","v":0.25668385536032595},392700,{"$f":"468090.9+183075","v":651165.9},{"$f":"IF(ISERROR((U17-T17)/T17),\"--\",(U17-T17)/T17)","v":0.65817647058823536},392700,{"$f":"123723.15+69352","v":193075.15},{"$f":"IF(ISERROR((X17-W17)/W17),\"--\",(X17-W17)/W17)","v":-0.5083393175451999},{"$f":"186654.9+194750","v":381404.9},null,{"$f":"IF(ISERROR((AA17-Z17)/Z17),\"--\",(AA17-Z17)/Z17)","v":-1},{"$f":"409699.62+423652","v":833351.62},546770,661500,542300,526430]
["System Renewal",null,null,{"$f":"IF(ISERROR((C18-B18)/B18),\"--\",(C18-B18)/B18)","v":"--"},null,null,{"$f":"IF(ISERROR((F18-E18)/E18),\"--\",(F18-E18)/E18)","v":"--"},null,null,{"$f":"IF(ISERROR((I18-H18)/H18),\"--\",(I18-H18)/H18)","v":"--"},194100,580783.58000000019,{"$f":"IF(ISERROR((L18-K18)/K18),\"--\",(L18-K18)/K18)","v":1.9921874291602277},248750,605966.54999999993,{"$f":"IF(ISERROR((O18-N18)/N18),\"--\",(O18-N18)/N18)","v":1.4360464321608037},193200,860656.83000000007,{"$f":"IF(ISERROR((R18-Q18)/Q18),\"--\",(R18-Q18)/Q18)","v":3.4547454968944105},193200,{"$f":"328748.51+129225","v":457973.51},{"$f":"IF(ISERROR((U18-T18)/T18),\"--\",(U18-T18)/T18)","v":1.3704633022774328},193200,221395.6999999999,{"$f":"IF(ISERROR((X18-W18)/W18),\"--\",(X18-W18)/W18)","v":0.14594047619047565},474649,null,{"$f":"IF(ISERROR((AA18-Z18)/Z18),\"--\",(AA18-Z18)/Z18)","v":-1},1247780,738610,770790,861310,793060]
["System Service",null,null,"--",null,null,"--",null,null,"--",474800,167879.03,-0.64642158803706817,345849,156474.74,-0.54756341640426898,573650,{"$f":"221884.3","v":221884.3},-0.61320613614573349,293200,{"$f":"106476-58854","v":47622},-0.83757844474761256,293200,{"$f":"44231.2099999999+31941","v":76172.209999999905},-0.74020392223738096,1134,null,-1,105000,161910,62300,70080,75270]
["General Plant",null,null,"--",null,null,"--",null,null,"--",376200,234605.26,-0.37638155236576287,255200,374734.99000000005,0.46839729623824472,116200,51470.23,-0.55705481927710843,134200,427096.84,2.1825397913561848,134200,161739.94000000006,0.20521564828614053,398779,null,-1,139210,19400,29900,7400,428400]
["TOTAL EXPENDITURE",{"$f":"SUM(B17:B20)","v":0},{"$f":"SUM(C17:C20)","v":0},"--",{"$f":"SUM(E17:E20)","v":0},{"$f":"SUM(F17:F20)","v":0},"--",{"$f":"SUM(H17:H20)","v":0},{"$f":"SUM(I17:I20)","v":0},"--",{"$f":"SUM(K17:K20)","v":1545950},{"$f":"SUM(L17:L20)","v":1156060.8700000001},-0.25220034929978324,{"$f":"SUM(N17:N20)","v":1301999},{"$f":"SUM(O17:O20)","v":1500816.71},0.1527018914761071,1275750,1627511.11,0.27572887321183626,1013300,1583858.2500000002,0.56306942662587611,1013300,652382.99999999977,-0.35617980854633396,1255966.8999999999,0,-1,2325341.62,1466690,1524490,1481090,{"$f":"SUM(AG17:AG20)","v":1823160}]
["Capital Contributions",null,null,"--",null,null,"--",null,null,"--",-300000,-96899,-0.67700333333333329,null,-263533,"--",null,-136450,"--",null,-312300,"--",null,-101293,"--",-194750,null,-1,-423652,-334230,-426150,-336500,-347010]
["Net Capital Expenditures",null,null,"--",null,null,"--",null,null,"--",{"$f":"K21+K22","v":1245950},{"$f":"L21+L22","v":1059161.8700000001},-0.14991623259360318,{"$f":"N21+N22","v":1301999},{"$f":"O21+O22","v":1237283.71},-4.9704561985070679E-2,{"$f":"Q21+Q22","v":1275750},{"$f":"R21+R22","v":1491061.11},0.16877218106995892,{"$f":"T21+T22","v":1013300},{"$f":"U21+U22","v":1271558.2500000002},0.25486849896378194,{"$f":"W21+W22","v":1013300},{"$f":"X21+X22","v":551089.99999999977},-0.45614329418730903,{"$f":"Z21+Z22","v":1061216.8999999999},{"$f":"AA21+AA22","v":0},-1,{"$f":"AC21+AC22","v":1901689.62},{"$f":"AD21+AD22","v":1132460},{"$f":"AE21+AE22","v":1098340},{"$f":"AF21+AF22","v":1144590},{"$f":"AG21+AG22","v":1476150}]
["System O&M",null,null,"--",null,null,"--",null,null,"--",1300590,1243810,-4.3657109465704023E-2,null,1257805,"--",null,984636,"--",null,1158895,"--",null,1286976,"--",1378298,null,-1,1477837,1507400,1537540,1568300,1599660]
[]
["Notes to the Table:"]
["1. Historical “previous plan” data is not required unless a plan has previously been filed. However, use the last OEB-approved, at least on a Total (Capital) Expenditure basis for the last cost of service rebasing year, and the applicant should include their planned budget in each subsequent historical year up to and including the Bridge Year."]
["2. Indicate the number of months of 'actual' data included in the last year of the Historical Period (normally a 'bridge' year):"]
[]
["Explanatory Notes on Variances (complete only if applicable)"]
["Notes on shifts in forecast vs. historical budgets by category"]
[]
[]
["Notes on year over year Plan vs. Actual variances for Total Expenditures"]
[]
[]
["Notes on Plan vs. Actual variance trends for individual expenditure categories"]

{"sheet":"Hidden_CAPEX","index":7,"n_rows":113,"n_cols":9,"rows_kept":113,"cut":false,"hidden":true,"merged":[]}
["Utility Name","EB Number","Test Year","Bridge Year","Last Rebasing Year","Category","Year","Plan","Actual"]
[{"$f":"'LDC Info'!$E$14","v":"Ottawa River Power Corporation"},{"$f":"EBNUMBER","v":"EB-2021-0052"},{"$f":"TestYear","v":2022},{"$f":"BridgeYear","v":2021},{"$f":"RebaseYear","v":2016},"System Access",{"$f":"'App.2-AB_Capital Expenditures'!B14","v":2013},{"$f":"'App.2-AB_Capital Expenditures'!B17","v":0},{"$f":"'App.2-AB_Capital Expenditures'!C17","v":0}]
[{"$f":"'LDC Info'!$E$14","v":"Ottawa River Power Corporation"},"EB-2021-0052",2022,2021,2016,"System Renewal",{"$f":"'App.2-AB_Capital Expenditures'!B14","v":2013},{"$f":"'App.2-AB_Capital Expenditures'!B18","v":0},{"$f":"'App.2-AB_Capital Expenditures'!C18","v":0}]
[{"$f":"'LDC Info'!$E$14","v":"Ottawa River Power Corporation"},"EB-2021-0052",2022,2021,2016,"System Service",{"$f":"'App.2-AB_Capital Expenditures'!B14","v":2013},{"$f":"'App.2-AB_Capital Expenditures'!B19","v":0},{"$f":"'App.2-AB_Capital Expenditures'!C19","v":0}]
[{"$f":"'LDC Info'!$E$14","v":"Ottawa River Power Corporation"},"EB-2021-0052",2022,2021,2016,"General Plant",{"$f":"'App.2-AB_Capital Expenditures'!B14","v":2013},{"$f":"'App.2-AB_Capital Expenditures'!B20","v":0},{"$f":"'App.2-AB_Capital Expenditures'!C20","v":0}]
[{"$f":"'LDC Info'!$E$14","v":"Ottawa River Power Corporation"},"EB-2021-0052",2022,2021,2016,"Total Expenditure",{"$f":"'App.2-AB_Capital Expenditures'!B14","v":2013},{"$f":"'App.2-AB_Capital Expenditures'!B21","v":0},{"$f":"'App.2-AB_Capital Expenditures'!C21","v":0}]
[{"$f":"'LDC Info'!$E$14","v":"Ottawa River Power Corporation"},"EB-2021-0052",2022,2021,2016,"Capital Contributions",{"$f":"'App.2-AB_Capital Expenditures'!B14","v":2013},{"$f":"'App.2-AB_Capital Expenditures'!B22","v":0},{"$f":"'App.2-AB_Capital Expenditures'!C22","v":0}]
[{"$f":"'LDC Info'!$E$14","v":"Ottawa River Power Corporation"},"EB-2021-0052",2022,2021,2016,"Net Capital Expenditures ",{"$f":"'App.2-AB_Capital Expenditures'!B14","v":2013},{"$f":"'App.2-AB_Capital Expenditures'!B23","v":0},{"$f":"'App.2-AB_Capital Expenditures'!C23","v":0}]
[{"$f":"'LDC Info'!$E$14","v":"Ottawa River Power Corporation"},"EB-2021-0052",2022,2021,2016,"System O&M",{"$f":"'App.2-AB_Capital Expenditures'!B14","v":2013},{"$f":"'App.2-AB_Capital Expenditures'!B24","v":0},{"$f":"'App.2-AB_Capital Expenditures'!C24","v":0}]
[{"$f":"'LDC Info'!$E$14","v":"Ottawa River Power Corporation"},"EB-2021-0052",2022,2021,2016,"System Access",{"$f":"'App.2-AB_Capital Expenditures'!E14","v":2014},{"$f":"'App.2-AB_Capital Expenditures'!E17","v":0},{"$f":"'App.2-AB_Capital Expenditures'!F17","v":0}]
[{"$f":"'LDC Info'!$E$14","v":"Ottawa River Power Corporation"},"EB-2021-0052",2022,2021,2016,"System Renewal",{"$f":"'App.2-AB_Capital Expenditures'!E14","v":2014},{"$f":"'App.2-AB_Capital Expenditures'!E18","v":0},{"$f":"'App.2-AB_Capital Expenditures'!F18","v":0}]
[{"$f":"'LDC Info'!$E$14","v":"Ottawa River Power Corporation"},"EB-2021-0052",2022,2021,2016,"System Service",{"$f":"'App.2-AB_Capital Expenditures'!E14","v":2014},{"$f":"'App.2-AB_Capital Expenditures'!E19","v":0},{"$f":"'App.2-AB_Capital Expenditures'!F19","v":0}]
[{"$f":"'LDC Info'!$E$14","v":"Ottawa River Power Corporation"},"EB-2021-0052",2022,2021,2016,"General Plant",{"$f":"'App.2-AB_Capital Expenditures'!E14","v":2014},{"$f":"'App.2-AB_Capital Expenditures'!E20","v":0},{"$f":"'App.2-AB_Capital Expenditures'!F20","v":0}]
[{"$f":"'LDC Info'!$E$14","v":"Ottawa River Power Corporation"},"EB-2021-0052",2022,2021,2016,"Total Expenditure",{"$f":"'App.2-AB_Capital Expenditures'!E14","v":2014},{"$f":"'App.2-AB_Capital Expenditures'!E21","v":0},{"$f":"'App.2-AB_Capital Expenditures'!F21","v":0}]
[{"$f":"'LDC Info'!$E$14","v":"Ottawa River Power Corporation"},"EB-2021-0052",2022,2021,2016,"Capital Contributions",{"$f":"'App.2-AB_Capital Expenditures'!E14","v":2014},{"$f":"'App.2-AB_Capital Expenditures'!E22","v":0},{"$f":"'App.2-AB_Capital Expenditures'!F22","v":0}]
[{"$f":"'LDC Info'!$E$14","v":"Ottawa River Power Corporation"},"EB-2021-0052",2022,2021,2016,"Net Capital Expenditures ",{"$f":"'App.2-AB_Capital Expenditures'!E14","v":2014},{"$f":"'App.2-AB_Capital Expenditures'!E23","v":0},{"$f":"'App.2-AB_Capital Expenditures'!F23","v":0}]
[{"$f":"'LDC Info'!$E$14","v":"Ottawa River Power Corporation"},"EB-2021-0052",2022,2021,2016,"System O&M",{"$f":"'App.2-AB_Capital Expenditures'!E14","v":2014},{"$f":"'App.2-AB_Capital Expenditures'!E24","v":0},{"$f":"'App.2-AB_Capital Expenditures'!F24","v":0}]
[{"$f":"'LDC Info'!$E$14","v":"Ottawa River Power Corporation"},"EB-2021-0052",2022,2021,2016,"System Access",{"$f":"'App.2-AB_Capital Expenditures'!H14","v":2015},{"$f":"'App.2-AB_Capital Expenditures'!H17","v":0},{"$f":"'App.2-AB_Capital Expenditures'!I17","v":0}]
[{"$f":"'LDC Info'!$E$14","v":"Ottawa River Power Corporation"},"EB-2021-0052",2022,2021,2016,"System Renewal",{"$f":"'App.2-AB_Capital Expenditures'!H14","v":2015},{"$f":"'App.2-AB_Capital Expenditures'!H18","v":0},{"$f":"'App.2-AB_Capital Expenditures'!I18","v":0}]
[{"$f":"'LDC Info'!$E$14","v":"Ottawa River Power Corporation"},"EB-2021-0052",2022,2021,2016,"System Service",{"$f":"'App.2-AB_Capital Expenditures'!H14","v":2015},{"$f":"'App.2-AB_Capital Expenditures'!H19","v":0},{"$f":"'App.2-AB_Capital Expenditures'!I19","v":0}]
[{"$f":"'LDC Info'!$E$14","v":"Ottawa River Power Corporation"},"EB-2021-0052",2022,2021,2016,"General Plant",{"$f":"'App.2-AB_Capital Expenditures'!H14","v":2015},{"$f":"'App.2-AB_Capital Expenditures'!H20","v":0},{"$f":"'App.2-AB_Capital Expenditures'!I20","v":0}]
[{"$f":"'LDC Info'!$E$14","v":"Ottawa River Power Corporation"},"EB-2021-0052",2022,2021,2016,"Total Expenditure",{"$f":"'App.2-AB_Capital Expenditures'!H14","v":2015},{"$f":"'App.2-AB_Capital Expenditures'!H21","v":0},{"$f":"'App.2-AB_Capital Expenditures'!I21","v":0}]
[{"$f":"'LDC Info'!$E$14","v":"Ottawa River Power Corporation"},"EB-2021-0052",2022,2021,2016,"Capital Contributions",{"$f":"'App.2-AB_Capital Expenditures'!H14","v":2015},{"$f":"'App.2-AB_Capital Expenditures'!H22","v":0},{"$f":"'App.2-AB_Capital Expenditures'!I22","v":0}]
[{"$f":"'LDC Info'!$E$14","v":"Ottawa River Power Corporation"},"EB-2021-0052",2022,2021,2016,"Net Capital Expenditures ",{"$f":"'App.2-AB_Capital Expenditures'!H14","v":2015},{"$f":"'App.2-AB_Capital Expenditures'!H23","v":0},{"$f":"'App.2-AB_Capital Expenditures'!I23","v":0}]
[{"$f":"'LDC Info'!$E$14","v":"Ottawa River Power Corporation"},"EB-2021-0052",2022,2021,2016,"System O&M",{"$f":"'App.2-AB_Capital Expenditures'!H14","v":2015},{"$f":"'App.2-AB_Capital Expenditures'!H24","v":0},{"$f":"'App.2-AB_Capital Expenditures'!I24","v":0}]
[{"$f":"'LDC Info'!$E$14","v":"Ottawa River Power Corporation"},"EB-2021-0052",2022,2021,2016,"System Access",{"$f":"'App.2-AB_Capital Expenditures'!K14","v":2016},{"$f":"'App.2-AB_Capital Expenditures'!K17","v":500850},{"$f":"'App.2-AB_Capital Expenditures'!L17","v":172793}]
[{"$f":"'LDC Info'!$E$14","v":"Ottawa River Power Corporation"},"EB-2021-0052",2022,2021,2016,"System Renewal",{"$f":"'App.2-AB_Capital Expenditures'!K14","v":2016},{"$f":"'App.2-AB_Capital Expenditures'!K18","v":194100},{"$f":"'App.2-AB_Capital Expenditures'!L18","v":580783.58000000019}]
[{"$f":"'LDC Info'!$E$14","v":"Ottawa River Power Corporation"},"EB-2021-0052",2022,2021,2016,"System Service",{"$f":"'App.2-AB_Capital Expenditures'!K14","v":2016},{"$f":"'App.2-AB_Capital Expenditures'!K19","v":474800},{"$f":"'App.2-AB_Capital Expenditures'!L19","v":167879.03}]
[{"$f":"'LDC Info'!$E$14","v":"Ottawa River Power Corporation"},"EB-2021-0052",2022,2021,2016,"General Plant",{"$f":"'App.2-AB_Capital Expenditures'!K14","v":2016},{"$f":"'App.2-AB_Capital Expenditures'!K20","v":376200},{"$f":"'App.2-AB_Capital Expenditures'!L20","v":234605.26}]
[{"$f":"'LDC Info'!$E$14","v":"Ottawa River Power Corporation"},"EB-2021-0052",2022,2021,2016,"Total Expenditure",{"$f":"'App.2-AB_Capital Expenditures'!K14","v":2016},{"$f":"'App.2-AB_Capital Expenditures'!K21","v":1545950},{"$f":"'App.2-AB_Capital Expenditures'!L21","v":1156060.8700000001}]
[{"$f":"'LDC Info'!$E$14","v":"Ottawa River Power Corporation"},"EB-2021-0052",2022,2021,2016,"Capital Contributions",{"$f":"'App.2-AB_Capital Expenditures'!K14","v":2016},{"$f":"'App.2-AB_Capital Expenditures'!K22","v":-300000},{"$f":"'App.2-AB_Capital Expenditures'!L22","v":-96899}]
[{"$f":"'LDC Info'!$E$14","v":"Ottawa River Power Corporation"},"EB-2021-0052",2022,2021,2016,"Net Capital Expenditures ",{"$f":"'App.2-AB_Capital Expenditures'!K14","v":2016},{"$f":"'App.2-AB_Capital Expenditures'!K23","v":1245950},{"$f":"'App.2-AB_Capital Expenditures'!L23","v":1059161.8700000001}]
[{"$f":"'LDC Info'!$E$14","v":"Ottawa River Power Corporation"},"EB-2021-0052",2022,2021,2016,"System O&M",{"$f":"'App.2-AB_Capital Expenditures'!K14","v":2016},{"$f":"'App.2-AB_Capital Expenditures'!K24","v":1300590},{"$f":"'App.2-AB_Capital Expenditures'!L24","v":1243810}]
[{"$f":"'LDC Info'!$E$14","v":"Ottawa River Power Corporation"},{"$f":"EBNUMBER","v":"EB-2021-0052"},{"$f":"TestYear","v":2022},{"$f":"BridgeYear","v":2021},{"$f":"RebaseYear","v":2016},"System Access",{"$f":"'App.2-AB_Capital Expenditures'!N14","v":2017},{"$f":"'App.2-AB_Capital Expenditures'!N17","v":452200},{"$f":"'App.2-AB_Capital Expenditures'!O17","v":363640.43}]
[{"$f":"'LDC Info'!$E$14","v":"Ottawa River Power Corporation"},"EB-2021-0052",2022,2021,2016,"System Renewal",{"$f":"'App.2-AB_Capital Expenditures'!N14","v":2017},{"$f":"'App.2-AB_Capital Expenditures'!N18","v":248750},{"$f":"'App.2-AB_Capital Expenditures'!O18","v":605966.54999999993}]
[{"$f":"'LDC Info'!$E$14","v":"Ottawa River Power Corporation"},"EB-2021-0052",2022,2021,2016,"System Service",{"$f":"'App.2-AB_Capital Expenditures'!N14","v":2017},{"$f":"'App.2-AB_Capital Expenditures'!N19","v":345849},{"$f":"'App.2-AB_Capital Expenditures'!O19","v":156474.74}]
[{"$f":"'LDC Info'!$E$14","v":"Ottawa River Power Corporation"},"EB-2021-0052",2022,2021,2016,"General Plant",{"$f":"'App.2-AB_Capital Expenditures'!N14","v":2017},{"$f":"'App.2-AB_Capital Expenditures'!N20","v":255200},{"$f":"'App.2-AB_Capital Expenditures'!O20","v":374734.99000000005}]
[{"$f":"'LDC Info'!$E$14","v":"Ottawa River Power Corporation"},"EB-2021-0052",2022,2021,2016,"Total Expenditure",{"$f":"'App.2-AB_Capital Expenditures'!N14","v":2017},{"$f":"'App.2-AB_Capital Expenditures'!N21","v":1301999},{"$f":"'App.2-AB_Capital Expenditures'!O21","v":1500816.71}]
[{"$f":"'LDC Info'!$E$14","v":"Ottawa River Power Corporation"},"EB-2021-0052",2022,2021,2016,"Capital Contributions",{"$f":"'App.2-AB_Capital Expenditures'!N14","v":2017},{"$f":"'App.2-AB_Capital Expenditures'!N22","v":0},{"$f":"'App.2-AB_Capital Expenditures'!O22","v":-263533}]
[{"$f":"'LDC Info'!$E$14","v":"Ottawa River Power Corporation"},"EB-2021-0052",2022,2021,2016,"Net Capital Expenditures ",{"$f":"'App.2-AB_Capital Expenditures'!N14","v":2017},{"$f":"'App.2-AB_Capital Expenditures'!N23","v":1301999},{"$f":"'App.2-AB_Capital Expenditures'!O23","v":1237283.71}]
[{"$f":"'LDC Info'!$E$14","v":"Ottawa River Power Corporation"},"EB-2021-0052",2022,2021,2016,"System O&M",{"$f":"'App.2-AB_Capital Expenditures'!N14","v":2017},{"$f":"'App.2-AB_Capital Expenditures'!N24","v":0},{"$f":"'App.2-AB_Capital Expenditures'!O24","v":1257805}]
[{"$f":"'LDC Info'!$E$14","v":"Ottawa River Power Corporation"},"EB-2021-0052",2022,2021,2016,"System Access",{"$f":"'App.2-AB_Capital Expenditures'!Q14","v":2018},{"$f":"'App.2-AB_Capital Expenditures'!Q17","v":392700},{"$f":"'App.2-AB_Capital Expenditures'!R17","v":493499.75}]
[{"$f":"'LDC Info'!$E$14","v":"Ottawa River Power Corporation"},"EB-2021-0052",2022,2021,2016,"System Renewal",{"$f":"'App.2-AB_Capital Expenditures'!Q14","v":2018},{"$f":"'App.2-AB_Capital Expenditures'!Q18","v":193200},{"$f":"'App.2-AB_Capital Expenditures'!R18","v":860656.83000000007}]
[{"$f":"'LDC Info'!$E$14","v":"Ottawa River Power Corporation"},"EB-2021-0052",2022,2021,2016,"System Service",{"$f":"'App.2-AB_Capital Expenditures'!Q14","v":2018},{"$f":"'App.2-AB_Capital Expenditures'!Q19","v":573650},{"$f":"'App.2-AB_Capital Expenditures'!R19","v":221884.3}]
[{"$f":"'LDC Info'!$E$14","v":"Ottawa River Power Corporation"},"EB-2021-0052",2022,2021,2016,"General Plant",{"$f":"'App.2-AB_Capital Expenditures'!Q14","v":2018},{"$f":"'App.2-AB_Capital Expenditures'!Q20","v":116200},{"$f":"'App.2-AB_Capital Expenditures'!R20","v":51470.23}]
[{"$f":"'LDC Info'!$E$14","v":"Ottawa River Power Corporation"},"EB-2021-0052",2022,2021,2016,"Total Expenditure",{"$f":"'App.2-AB_Capital Expenditures'!Q14","v":2018},{"$f":"'App.2-AB_Capital Expenditures'!Q21","v":1275750},{"$f":"'App.2-AB_Capital Expenditures'!R21","v":1627511.11}]
[{"$f":"'LDC Info'!$E$14","v":"Ottawa River Power Corporation"},"EB-2021-0052",2022,2021,2016,"Capital Contributions",{"$f":"'App.2-AB_Capital Expenditures'!Q14","v":2018},{"$f":"'App.2-AB_Capital Expenditures'!Q22","v":0},{"$f":"'App.2-AB_Capital Expenditures'!R22","v":-136450}]
[{"$f":"'LDC Info'!$E$14","v":"Ottawa River Power Corporation"},"EB-2021-0052",2022,2021,2016,"Net Capital Expenditures ",{"$f":"'App.2-AB_Capital Expenditures'!Q14","v":2018},{"$f":"'App.2-AB_Capital Expenditures'!Q23","v":1275750},{"$f":"'App.2-AB_Capital Expenditures'!R23","v":1491061.11}]
[{"$f":"'LDC Info'!$E$14","v":"Ottawa River Power Corporation"},"EB-2021-0052",2022,2021,2016,"System O&M",{"$f":"'App.2-AB_Capital Expenditures'!Q14","v":2018},{"$f":"'App.2-AB_Capital Expenditures'!Q24","v":0},{"$f":"'App.2-AB_Capital Expenditures'!R24","v":984636}]
[{"$f":"'LDC Info'!$E$14","v":"Ottawa River Power Corporation"},"EB-2021-0052",2022,2021,2016,"System Access",{"$f":"'App.2-AB_Capital Expenditures'!T14","v":2019},{"$f":"'App.2-AB_Capital Expenditures'!T17","v":392700},{"$f":"'App.2-AB_Capital Expenditures'!U17","v":651165.9}]
[{"$f":"'LDC Info'!$E$14","v":"Ottawa River Power Corporation"},"EB-2021-0052",2022,2021,2016,"System Renewal",{"$f":"'App.2-AB_Capital Expenditures'!T14","v":2019},{"$f":"'App.2-AB_Capital Expenditures'!T18","v":193200},{"$f":"'App.2-AB_Capital Expenditures'!U18","v":457973.51}]
[{"$f":"'LDC Info'!$E$14","v":"Ottawa River Power Corporation"},"EB-2021-0052",2022,2021,2016,"System Service",{"$f":"'App.2-AB_Capital Expenditures'!T14","v":2019},{"$f":"'App.2-AB_Capital Expenditures'!T19","v":293200},{"$f":"'App.2-AB_Capital Expenditures'!U19","v":47622}]
[{"$f":"'LDC Info'!$E$14","v":"Ottawa River Power Corporation"},"EB-2021-0052",2022,2021,2016,"General Plant",{"$f":"'App.2-AB_Capital Expenditures'!T14","v":2019},{"$f":"'App.2-AB_Capital Expenditures'!T20","v":134200},{"$f":"'App.2-AB_Capital Expenditures'!U20","v":427096.84}]
[{"$f":"'LDC Info'!$E$14","v":"Ottawa River Power Corporation"},"EB-2021-0052",2022,2021,2016,"Total Expenditure",{"$f":"'App.2-AB_Capital Expenditures'!T14","v":2019},{"$f":"'App.2-AB_Capital Expenditures'!T21","v":1013300},{"$f":"'App.2-AB_Capital Expenditures'!U21","v":1583858.2500000002}]
[{"$f":"'LDC Info'!$E$14","v":"Ottawa River Power Corporation"},"EB-2021-0052",2022,2021,2016,"Capital Contributions",{"$f":"'App.2-AB_Capital Expenditures'!T14","v":2019},{"$f":"'App.2-AB_Capital Expenditures'!T22","v":0},{"$f":"'App.2-AB_Capital Expenditures'!U22","v":-312300}]
[{"$f":"'LDC Info'!$E$14","v":"Ottawa River Power Corporation"},"EB-2021-0052",2022,2021,2016,"Net Capital Expenditures ",{"$f":"'App.2-AB_Capital Expenditures'!T14","v":2019},{"$f":"'App.2-AB_Capital Expenditures'!T23","v":1013300},{"$f":"'App.2-AB_Capital Expenditures'!U23","v":1271558.2500000002}]
[{"$f":"'LDC Info'!$E$14","v":"Ottawa River Power Corporation"},"EB-2021-0052",2022,2021,2016,"System O&M",{"$f":"'App.2-AB_Capital Expenditures'!T14","v":2019},{"$f":"'App.2-AB_Capital Expenditures'!T24","v":0},{"$f":"'App.2-AB_Capital Expenditures'!U24","v":1158895}]
[{"$f":"'LDC Info'!$E$14","v":"Ottawa River Power Corporation"},"EB-2021-0052",2022,2021,2016,"System Access",{"$f":"'App.2-AB_Capital Expenditures'!W14","v":2020},{"$f":"'App.2-AB_Capital Expenditures'!W17","v":392700},{"$f":"'App.2-AB_Capital Expenditures'!X17","v":193075.15}]
[{"$f":"'LDC Info'!$E$14","v":"Ottawa River Power Corporation"},"EB-2021-0052",2022,2021,2016,"System Renewal",{"$f":"'App.2-AB_Capital Expenditures'!W14","v":2020},{"$f":"'App.2-AB_Capital Expenditures'!W18","v":193200},{"$f":"'App.2-AB_Capital Expenditures'!X18","v":221395.6999999999}]
[{"$f":"'LDC Info'!$E$14","v":"Ottawa River Power Corporation"},"EB-2021-0052",2022,2021,2016,"System Service",{"$f":"'App.2-AB_Capital Expenditures'!W14","v":2020},{"$f":"'App.2-AB_Capital Expenditures'!W19","v":293200},{"$f":"'App.2-AB_Capital Expenditures'!X19","v":76172.209999999905}]
[{"$f":"'LDC Info'!$E$14","v":"Ottawa River Power Corporation"},"EB-2021-0052",2022,2021,2016,"General Plant",{"$f":"'App.2-AB_Capital Expenditures'!W14","v":2020},{"$f":"'App.2-AB_Capital Expenditures'!W20","v":134200},{"$f":"'App.2-AB_Capital Expenditures'!X20","v":161739.94000000006}]
[{"$f":"'LDC Info'!$E$14","v":"Ottawa River Power Corporation"},"EB-2021-0052",2022,2021,2016,"Total Expenditure",{"$f":"'App.2-AB_Capital Expenditures'!W14","v":2020},{"$f":"'App.2-AB_Capital Expenditures'!W21","v":1013300},{"$f":"'App.2-AB_Capital Expenditures'!X21","v":652382.99999999977}]
[{"$f":"'LDC Info'!$E$14","v":"Ottawa River Power Corporation"},"EB-2021-0052",2022,2021,2016,"Capital Contributions",{"$f":"'App.2-AB_Capital Expenditures'!W14","v":2020},{"$f":"'App.2-AB_Capital Expenditures'!W22","v":0},{"$f":"'App.2-AB_Capital Expenditures'!X22","v":-101293}]
[{"$f":"'LDC Info'!$E$14","v":"Ottawa River Power Corporation"},"EB-2021-0052",2022,2021,2016,"Net Capital Expenditures ",{"$f":"'App.2-AB_Capital Expenditures'!W14","v":2020},{"$f":"'App.2-AB_Capital Expenditures'!W23","v":1013300},{"$f":"'App.2-AB_Capital Expenditures'!X23","v":551089.99999999977}]
[{"$f":"'LDC Info'!$E$14","v":"Ottawa River Power Corporation"},"EB-2021-0052",2022,2021,2016,"System O&M",{"$f":"'App.2-AB_Capital Expenditures'!W14","v":2020},{"$f":"'App.2-AB_Capital Expenditures'!W24","v":0},{"$f":"'App.2-AB_Capital Expenditures'!X24","v":1286976}]
[{"$f":"'LDC Info'!$E$14","v":"Ottawa River Power Corporation"},{"$f":"EBNUMBER","v":"EB-2021-0052"},{"$f":"TestYear","v":2022},{"$f":"BridgeYear","v":2021},{"$f":"RebaseYear","v":2016},"System Access",{"$f":"'App.2-AB_Capital Expenditures'!Z14","v":2021},{"$f":"'App.2-AB_Capital Expenditures'!Z17","v":381404.9},{"$f":"'App.2-AB_Capital Expenditures'!AA17","v":0}]
[{"$f":"'LDC Info'!$E$14","v":"Ottawa River Power Corporation"},"EB-2021-0052",2022,2021,2016,"System Renewal",{"$f":"'App.2-AB_Capital Expenditures'!Z14","v":2021},{"$f":"'App.2-AB_Capital Expenditures'!Z18","v":474649},{"$f":"'App.2-AB_Capital Expenditures'!AA18","v":0}]
[{"$f":"'LDC Info'!$E$14","v":"Ottawa River Power Corporation"},"EB-2021-0052",2022,2021,2016,"System Service",{"$f":"'App.2-AB_Capital Expenditures'!Z14","v":2021},{"$f":"'App.2-AB_Capital Expenditures'!Z19","v":1134},{"$f":"'App.2-AB_Capital Expenditures'!AA19","v":0}]
[{"$f":"'LDC Info'!$E$14","v":"Ottawa River Power Corporation"},"EB-2021-0052",2022,2021,2016,"General Plant",{"$f":"'App.2-AB_Capital Expenditures'!Z14","v":2021},{"$f":"'App.2-AB_Capital Expenditures'!Z20","v":398779},{"$f":"'App.2-AB_Capital Expenditures'!AA20","v":0}]
[{"$f":"'LDC Info'!$E$14","v":"Ottawa River Power Corporation"},"EB-2021-0052",2022,2021,2016,"Total Expenditure",{"$f":"'App.2-AB_Capital Expenditures'!Z14","v":2021},{"$f":"'App.2-AB_Capital Expenditures'!Z21","v":1255966.8999999999},{"$f":"'App.2-AB_Capital Expenditures'!AA21","v":0}]
[{"$f":"'LDC Info'!$E$14","v":"Ottawa River Power Corporation"},"EB-2021-0052",2022,2021,2016,"Capital Contributions",{"$f":"'App.2-AB_Capital Expenditures'!Z14","v":2021},{"$f":"'App.2-AB_Capital Expenditures'!Z22","v":-194750},{"$f":"'App.2-AB_Capital Expenditures'!AA22","v":0}]
[{"$f":"'LDC Info'!$E$14","v":"Ottawa River Power Corporation"},"EB-2021-0052",2022,2021,2016,"Net Capital Expenditures ",{"$f":"'App.2-AB_Capital Expenditures'!Z14","v":2021},{"$f":"'App.2-AB_Capital Expenditures'!Z23","v":1061216.8999999999},{"$f":"'App.2-AB_Capital Expenditures'!AA23","v":0}]
[{"$f":"'LDC Info'!$E$14","v":"Ottawa River Power Corporation"},"EB-2021-0052",2022,2021,2016,"System O&M",{"$f":"'App.2-AB_Capital Expenditures'!Z14","v":2021},{"$f":"'App.2-AB_Capital Expenditures'!Z24","v":1378298},{"$f":"'App.2-AB_Capital Expenditures'!AA24","v":0}]
[{"$f":"'LDC Info'!$E$14","v":"Ottawa River Power Corporation"},"EB-2021-0052",2022,2021,2016,"System Access",{"$f":"'App.2-AB_Capital Expenditures'!AC14","v":2022},{"$f":"'App.2-AB_Capital Expenditures'!AC17","v":833351.62}]
[{"$f":"'LDC Info'!$E$14","v":"Ottawa River Power Corporation"},"EB-2021-0052",2022,2021,2016,"System Renewal",{"$f":"'App.2-AB_Capital Expenditures'!AC14","v":2022},{"$f":"'App.2-AB_Capital Expenditures'!AC18","v":1247780}]
[{"$f":"'LDC Info'!$E$14","v":"Ottawa River Power Corporation"},"EB-2021-0052",2022,2021,2016,"System Service",{"$f":"'App.2-AB_Capital Expenditures'!AC14","v":2022},{"$f":"'App.2-AB_Capital Expenditures'!AC19","v":105000}]
[{"$f":"'LDC Info'!$E$14","v":"Ottawa River Power Corporation"},"EB-2021-0052",2022,2021,2016,"General Plant",{"$f":"'App.2-AB_Capital Expenditures'!AC14","v":2022},{"$f":"'App.2-AB_Capital Expenditures'!AC20","v":139210}]
[{"$f":"'LDC Info'!$E$14","v":"Ottawa River Power Corporation"},"EB-2021-0052",2022,2021,2016,"Total Expenditure",{"$f":"'App.2-AB_Capital Expenditures'!AC14","v":2022},{"$f":"'App.2-AB_Capital Expenditures'!AC21","v":2325341.62}]
[{"$f":"'LDC Info'!$E$14","v":"Ottawa River Power Corporation"},"EB-2021-0052",2022,2021,2016,"Capital Contributions",{"$f":"'App.2-AB_Capital Expenditures'!AC14","v":2022},{"$f":"'App.2-AB_Capital Expenditures'!AC22","v":-423652}]
[{"$f":"'LDC Info'!$E$14","v":"Ottawa River Power Corporation"},"EB-2021-0052",2022,2021,2016,"Net Capital Expenditures ",{"$f":"'App.2-AB_Capital Expenditures'!AC14","v":2022},{"$f":"'App.2-AB_Capital Expenditures'!AC23","v":1901689.62}]
[{"$f":"'LDC Info'!$E$14","v":"Ottawa River Power Corporation"},"EB-2021-0052",2022,2021,2016,"System O&M",{"$f":"'App.2-AB_Capital Expenditures'!AC14","v":2022},{"$f":"'App.2-AB_Capital Expenditures'!AC24","v":1477837}]
[{"$f":"'LDC Info'!$E$14","v":"Ottawa River Power Corporation"},"EB-2021-0052",2022,2021,2016,"System Access",{"$f":"'App.2-AB_Capital Expenditures'!AD14","v":2023},{"$f":"'App.2-AB_Capital Expenditures'!AD17","v":546770}]
[{"$f":"'LDC Info'!$E$14","v":"Ottawa River Power Corporation"},"EB-2021-0052",2022,2021,2016,"System Renewal",{"$f":"'App.2-AB_Capital Expenditures'!AD14","v":2023},{"$f":"'App.2-AB_Capital Expenditures'!AD18","v":738610}]
[{"$f":"'LDC Info'!$E$14","v":"Ottawa River Power Corporation"},"EB-2021-0052",2022,2021,2016,"System Service",{"$f":"'App.2-AB_Capital Expenditures'!AD14","v":2023},{"$f":"'App.2-AB_Capital Expenditures'!AD19","v":161910}]
[{"$f":"'LDC Info'!$E$14","v":"Ottawa River Power Corporation"},"EB-2021-0052",2022,2021,2016,"General Plant",{"$f":"'App.2-AB_Capital Expenditures'!AD14","v":2023},{"$f":"'App.2-AB_Capital Expenditures'!AD20","v":19400}]
[{"$f":"'LDC Info'!$E$14","v":"Ottawa River Power Corporation"},"EB-2021-0052",2022,2021,2016,"Total Expenditure",{"$f":"'App.2-AB_Capital Expenditures'!AD14","v":2023},{"$f":"'App.2-AB_Capital Expenditures'!AD21","v":1466690}]
[{"$f":"'LDC Info'!$E$14","v":"Ottawa River Power Corporation"},"EB-2021-0052",2022,2021,2016,"Capital Contributions",{"$f":"'App.2-AB_Capital Expenditures'!AD14","v":2023},{"$f":"'App.2-AB_Capital Expenditures'!AD22","v":-334230}]
[{"$f":"'LDC Info'!$E$14","v":"Ottawa River Power Corporation"},"EB-2021-0052",2022,2021,2016,"Net Capital Expenditures ",{"$f":"'App.2-AB_Capital Expenditures'!AD14","v":2023},{"$f":"'App.2-AB_Capital Expenditures'!AD23","v":1132460}]
[{"$f":"'LDC Info'!$E$14","v":"Ottawa River Power Corporation"},"EB-2021-0052",2022,2021,2016,"System O&M",{"$f":"'App.2-AB_Capital Expenditures'!AD14","v":2023},{"$f":"'App.2-AB_Capital Expenditures'!AD24","v":1507400}]
[{"$f":"'LDC Info'!$E$14","v":"Ottawa River Power Corporation"},"EB-2021-0052",2022,2021,2016,"System Access",{"$f":"'App.2-AB_Capital Expenditures'!AE14","v":2024},{"$f":"'App.2-AB_Capital Expenditures'!AE17","v":661500}]
[{"$f":"'LDC Info'!$E$14","v":"Ottawa River Power Corporation"},"EB-2021-0052",2022,2021,2016,"System Renewal",{"$f":"'App.2-AB_Capital Expenditures'!AE14","v":2024},{"$f":"'App.2-AB_Capital Expenditures'!AE18","v":770790}]
[{"$f":"'LDC Info'!$E$14","v":"Ottawa River Power Corporation"},"EB-2021-0052",2022,2021,2016,"System Service",{"$f":"'App.2-AB_Capital Expenditures'!AE14","v":2024},{"$f":"'App.2-AB_Capital Expenditures'!AE19","v":62300}]
[{"$f":"'LDC Info'!$E$14","v":"Ottawa River Power Corporation"},"EB-2021-0052",2022,2021,2016,"General Plant",{"$f":"'App.2-AB_Capital Expenditures'!AE14","v":2024},{"$f":"'App.2-AB_Capital Expenditures'!AE20","v":29900}]
[{"$f":"'LDC Info'!$E$14","v":"Ottawa River Power Corporation"},"EB-2021-0052",2022,2021,2016,"Total Expenditure",{"$f":"'App.2-AB_Capital Expenditures'!AE14","v":2024},{"$f":"'App.2-AB_Capital Expenditures'!AE21","v":1524490}]
[{"$f":"'LDC Info'!$E$14","v":"Ottawa River Power Corporation"},"EB-2021-0052",2022,2021,2016,"Capital Contributions",{"$f":"'App.2-AB_Capital Expenditures'!AE14","v":2024},{"$f":"'App.2-AB_Capital Expenditures'!AE22","v":-426150}]
[{"$f":"'LDC Info'!$E$14","v":"Ottawa River Power Corporation"},"EB-2021-0052",2022,2021,2016,"Net Capital Expenditures ",{"$f":"'App.2-AB_Capital Expenditures'!AE14","v":2024},{"$f":"'App.2-AB_Capital Expenditures'!AE23","v":1098340}]
[{"$f":"'LDC Info'!$E$14","v":"Ottawa River Power Corporation"},"EB-2021-0052",2022,2021,2016,"System O&M",{"$f":"'App.2-AB_Capital Expenditures'!AE14","v":2024},{"$f":"'App.2-AB_Capital Expenditures'!AE24","v":1537540}]
[{"$f":"'LDC Info'!$E$14","v":"Ottawa River Power Corporation"},{"$f":"EBNUMBER","v":"EB-2021-0052"},{"$f":"TestYear","v":2022},{"$f":"BridgeYear","v":2021},{"$f":"RebaseYear","v":2016},"System Access",{"$f":"'App.2-AB_Capital Expenditures'!AF14","v":2025},{"$f":"'App.2-AB_Capital Expenditures'!AF17","v":542300}]
[{"$f":"'LDC Info'!$E$14","v":"Ottawa River Power Corporation"},"EB-2021-0052",2022,2021,2016,"System Renewal",{"$f":"'App.2-AB_Capital Expenditures'!AF14","v":2025},{"$f":"'App.2-AB_Capital Expenditures'!AF18","v":861310}]
[{"$f":"'LDC Info'!$E$14","v":"Ottawa River Power Corporation"},"EB-2021-0052",2022,2021,2016,"System Service",{"$f":"'App.2-AB_Capital Expenditures'!AF14","v":2025},{"$f":"'App.2-AB_Capital Expenditures'!AF19","v":70080}]
[{"$f":"'LDC Info'!$E$14","v":"Ottawa River Power Corporation"},"EB-2021-0052",2022,2021,2016,"General Plant",{"$f":"'App.2-AB_Capital Expenditures'!AF14","v":2025},{"$f":"'App.2-AB_Capital Expenditures'!AF20","v":7400}]
[{"$f":"'LDC Info'!$E$14","v":"Ottawa River Power Corporation"},"EB-2021-0052",2022,2021,2016,"Total Expenditure",{"$f":"'App.2-AB_Capital Expenditures'!AF14","v":2025},{"$f":"'App.2-AB_Capital Expenditures'!AF21","v":1481090}]
[{"$f":"'LDC Info'!$E$14","v":"Ottawa River Power Corporation"},"EB-2021-0052",2022,2021,2016,"Capital Contributions",{"$f":"'App.2-AB_Capital Expenditures'!AF14","v":2025},{"$f":"'App.2-AB_Capital Expenditures'!AF22","v":-336500}]
[{"$f":"'LDC Info'!$E$14","v":"Ottawa River Power Corporation"},"EB-2021-0052",2022,2021,2016,"Net Capital Expenditures ",{"$f":"'App.2-AB_Capital Expenditures'!AF14","v":2025},{"$f":"'App.2-AB_Capital Expenditures'!AF23","v":1144590}]
[{"$f":"'LDC Info'!$E$14","v":"Ottawa River Power Corporation"},"EB-2021-0052",2022,2021,2016,"System O&M",{"$f":"'App.2-AB_Capital Expenditures'!AF14","v":2025},{"$f":"'App.2-AB_Capital Expenditures'!AF24","v":1568300}]
[{"$f":"'LDC Info'!$E$14","v":"Ottawa River Power Corporation"},"EB-2021-0052",2022,2021,2016,"System Access",{"$f":"'App.2-AB_Capital Expenditures'!AG14","v":2026},{"$f":"'App.2-AB_Capital Expenditures'!AG17","v":526430}]
[{"$f":"'LDC Info'!$E$14","v":"Ottawa River Power Corporation"},"EB-2021-0052",2022,2021,2016,"System Renewal",{"$f":"'App.2-AB_Capital Expenditures'!AG14","v":2026},{"$f":"'App.2-AB_Capital Expenditures'!AG18","v":793060}]
[{"$f":"'LDC Info'!$E$14","v":"Ottawa River Power Corporation"},"EB-2021-0052",2022,2021,2016,"System Service",{"$f":"'App.2-AB_Capital Expenditures'!AG14","v":2026},{"$f":"'App.2-AB_Capital Expenditures'!AG19","v":75270}]
[{"$f":"'LDC Info'!$E$14","v":"Ottawa River Power Corporation"},"EB-2021-0052",2022,2021,2016,"General Plant",{"$f":"'App.2-AB_Capital Expenditures'!AG14","v":2026},{"$f":"'App.2-AB_Capital Expenditures'!AG20","v":428400}]
[{"$f":"'LDC Info'!$E$14","v":"Ottawa River Power Corporation"},"EB-2021-0052",2022,2021,2016,"Total Expenditure",{"$f":"'App.2-AB_Capital Expenditures'!AG14","v":2026},{"$f":"'App.2-AB_Capital Expenditures'!AG21","v":1823160}]
[{"$f":"'LDC Info'!$E$14","v":"Ottawa River Power Corporation"},"EB-2021-0052",2022,2021,2016,"Capital Contributions",{"$f":"'App.2-AB_Capital Expenditures'!AG14","v":2026},{"$f":"'App.2-AB_Capital Expenditures'!AG22","v":-347010}]
[{"$f":"'LDC Info'!$E$14","v":"Ottawa River Power Corporation"},"EB-2021-0052",2022,2021,2016,"Net Capital Expenditures ",{"$f":"'App.2-AB_Capital Expenditures'!AG14","v":2026},{"$f":"'App.2-AB_Capital Expenditures'!AG23","v":1476150}]
[{"$f":"'LDC Info'!$E$14","v":"Ottawa River Power Corporation"},"EB-2021-0052",2022,2021,2016,"System O&M",{"$f":"'App.2-AB_Capital Expenditures'!AG14","v":2026},{"$f":"'App.2-AB_Capital Expenditures'!AG24","v":1599660}]

{"sheet":"App.2-AC_Customer Engagement","index":8,"n_rows":45,"n_cols":3,"rows_kept":45,"cut":false,"hidden":false,"merged":[[9,0,9,2],[8,0,8,2]]}
[null,"File Number:",{"$f":"EBNUMBER","v":"EB-2021-0052"}]
[null,"Exhibit:"]
[null,"Tab:"]
[null,"Schedule:"]
[null,"Page:"]
[]
[null,"Date:"]
[]
["Appendix 2-AC"]
["Customer Engagement Activities Summary"]
[]
["Provide a list of customer engagement activities","Provide a list of customer needs and preferences identified through each engagement activity","Actions taken to respond to identified needs and preferences.  If no action was taken, explain why."]
["While preparing for the Cost of Service, ORPC conducted Customer Surveys inviting Residential, Small Business and Industrial & Commercial customers to provide feedback. This was completed in Q3 and Q4 2020.","Day-to-day reliability\nReasonable distribution rates\nLength of power outages\nCustomer service\nNew types of electrical services\nPreparing the network for new uses such as electric vehicles and renewable generation\nSustainability - reducing the environmental impact of ORPC's operations\nHelping customers reduce and manage their electricity consumption","Customer needs and preferences will be addressed through actionalable items within the DSP."]
["Social Media/Website","Customers have shown a preference for more frequent and responsive communication during power outages (location, ETR, cause etc.). They have also demonstrated positive reactions to news, tips, or other important information that is shared through ORPC's online platforms (social media and website).","ORPC is utilizing a mix of social media and website outage maps to provide near real-time updates of outages. These platforms are also utilized to  promote safety, conservation and events that related to the distribution of electricity."]
["In office engagment\n\n","- Customers are often brining in examples of scams related to fraudlent companies trying to determine if the information is trustworthy\n- Customers will come in with comments or suggestions related to areas of the distribution system that may require attention (tree trimming, BELL wire hanging, easement questions etc.)\n-Customers will come in and ask questions about usage or bills","Customers are greeted by staff in office every attempt is made to achieve a first encounter resolution. Occasionally another department or service call may be required, further information is gathered and actions are taken to answer questions or resolve an issue. Customer follow up is performed to determine if issue is resolved."]
["Written correspondence/mailers","Some customers to not utilize technology to access information provided by the utility, they would prefer mail correspondence.","ORPC includes information for customers via mail in their utility bills. This includes information on regulatory changes, assistance programs and various other important items of interest."]
["Regional Planning Engagements","ORPC engages with both the IESO (the regional planning) and HONI to ensure customer needs are met.","ORPC advocates on behalf of it's customers regarding reliability, supply and future planning considerations."]
["Customer Surveys  (OEB Mandated) - 2017 & 2019","Customer have shown a preference for reasonable rates, reliability and, effective communication.","ORPC has made great effort to address reliability and rates in the Cost of Service and DSP. Communication efforts are  reviewed and improved on an going basis."]
["Financial Assistance Programs\na] Low-Income Emergency Assistance Program (LEAP)\nb] Ontario Electricity Support Program\nd] COVID-19 Emergency Assistance Program (CEAP)\ne] COVID-19 Emergency Assistance Program - Small Business (CEAP-SB)",null,"ORPC provides Low-income Energy Assistance (LEAP) support with assistance and cooperation from agency partners at the provincial level.  LEAP is an emergency financial assistance program that is designed to assist low-income customers who encounter difficulty when paying their electricity bill payments. \n\nORPC also promotes the Ontario Electricity Support Program (OESP). ORPC proactively engages with it's customers in-person, on the phone and online to notify them of the availability of OESP. Customers are kept informed on their applicaiton status (approved/rejected) in the event of an issue. \n\nWhen CEAP and CEAP-SB were introduced, ORPC proactively engaged it's customers to enroll them in the program. ORPC also spoke about the program on the radio and promoted it heavily online."]
["E-billing, web presentment and on-line payment services","ORPC provides both e-billing and web presentment which is accessible through the LDC's website. This helps customers identify usage trends and bring forward any concerns they might observe. Typically customer might notice a period of high usage, they will then engage with the LDC to seek assistance in determining the issue.","ORPC will walk customers through their usage/bills when an inquiry is received. ORPC will also dispatch a service person to their home to help narrow down root causes of high electricity usage (faulty sump pumps, old appliances, electric heaters with fault thermostats etc.)."]
[]
[]
[]
[]
[]
[]
[]
[]
[]
[]
[]
[]
[]
[]
[]
[]
[]
[]
[]
[]
[]
[]
[]
[]
["Note:  Use \"ALT-ENTER\" to go to the next line within a cell"]

{"sheet":"App.2-B_Acctg Instructions","index":9,"n_rows":56,"n_cols":8,"rows_kept":56,"cut":false,"hidden":true,"merged":[[109,0,109,10],[109,11,109,18],[110,0,110,10],[110,11,110,18],[111,0,111,10],[111,11,111,18],[106,0,106,10],[106,11,106,18],[107,0,107,10],[107,11,107,18],[108,0,108,10],[108,11,108,18],[103,0,103,10],[103,11,103,18],[104,0,104,10],[104,11,104,18],[105,0,105,10],[105,11,105,18],[100,0,100,10],[100,11,100,18],[101,0,101,10],[101,11,101,18],[102,0,102,10],[102,11,102,18],[97,0,97,10],[97,11,97,18],[98,0,98,10],[98,11,98,18],[99,0,99,10],[99,11,99,18],[94,0,94,10],[94,11,94,18],[95,0,95,10],[95,11,95,18],[96,0,96,10],[96,11,96,18],[91,0,91,10],[91,11,91,18],[92,0,92,10],[92,11,92,18],[93,0,93,10],[93,11,93,18],[88,0,88,10],[88,11,88,18],[89,0,89,10],[89,11,89,18],[90,0,90,10],[90,11,90,18],[85,0,85,10],[85,11,85,18],[86,0,86,10],[86,11,86,18],[87,0,87,10],[87,11,87,18],[82,0,82,10],[82,11,82,18],[83,0,83,10],[83,11,83,18],[84,0,84,10],[84,11,84,18],[78,11,78,18],[79,0,79,10],[79,11,79,18],[80,0,80,10],[80,11,80,18],[81,0,81,10],[81,11,81,18],[75,0,75,10],[75,11,75,18],[76,0,76,10],[76,11,76,18],[77,0,77,10],[77,11,77,18],[72,0,72,10],[72,11,72,18],[73,0,73,10],[73,11,73,18],[74,0,74,10],[74,11,74,18],[69,0,69,10],[69,11,69,18],[70,0,70,10],[70,11,70,18],[71,0,71,10],[71,11,71,18],[66,0,66,10],[66,11,66,18],[67,0,67,10],[67,11,67,18],[68,0,68,10],[68,11,68,18],[63,0,63,10],[63,11,63,18],[64,0,64,10],[64,11,64,18],[65,0,65,10],[65,11,65,18],[59,0,59,10],[59,11,59,18],[60,0,60,10],[60,11,60,18],[61,11,61,18],[62,0,62,10],[62,11,62,18],[44,1,44,12],[45,1,45,12],[48,1,48,11],[49,0,50,12],[55,0,55,12],[58,0,58,10],[58,11,58,18],[21,0,21,8],[22,0,22,8],[28,0,30,10],[32,0,32,9],[38,0,38,10],[39,0,39,11],[0,0,0,10],[1,0,1,10],[5,0,5,10],[8,4,8,5],[20,0,20,9],[11,0,18,0]]}
["General Instructions to MIFRS Appendices"]
["Types of Schedules to File"]
[]
["The purpose of this tab is to provide general instructions. The specific instructions to each appendix are listed in footnotes of each appendix."]
[]
["The typical applicant is expected to have made capitalization and depreciation policy changes under CGAAP as permitted by the OEB on January 1, 2012 or mandated by the OEB by January 1, 2013, and adopted IFRS for reporting purposes on January 1, 2015 (transition date January 1, 2014).  Most distributors filing for 2021 rates have rebased with these accounting changes reflected in a prior rebasing application.  If that is the case, information relating to pre-accounting policy changes is not generally required.  Most distributors may have rebased under MIFRS. If that is the case, information related to the accounting standard used prior to IFRS is not generally required. The information to be provided by applicants will depend on when the accounting policy changes were made and when they last rebased.  In general, applicants should provide the following information in the appendices: "]
[]
[]
[null,null,null,null,"Reflecting Accounting Policy Changes in Current Application",null,"Reflected Accounting Policy Changes in Prior Application3","Rebased under MIFRS in Prior Application3"]
[null,null,null,null,"Accounting Policy Changes in 2012 and Adopted IFRS in 2015","Accounting Policy Changes in 2013 and Adopted IFRS in 2015","Adopted IFRS in 2015","IFRS Since 2015"]
[null,2021,"Test",null,"MIFRS","MIFRS","MIFRS","MIFRS"]
["Information to be filed in 2019 CoS Application",2020,"Bridge",null,"MIFRS","MIFRS","MIFRS","MIFRS"]
[null,2019,"Bridge",null,"MIFRS","MIFRS","MIFRS","MIFRS"]
[null,2018,"Bridge",null,"MIFRS","MIFRS","MIFRS","MIFRS"]
[null,2017,"Historical",null,"MIFRS","MIFRS","MIFRS","MIFRS"]
[null,2016,"Historical",null,"MIFRS","MIFRS","MIFRS","MIFRS"]
[null,2015,"Historical",null," MIFRS and Revised CGAAP1"," MIFRS and Revised CGAAP1"," MIFRS and Revised CGAAP1","N/A"]
[null,2014,"Historical",null,"Revised CGAAP","CGAAP and Revised CGAAP2","N/A","N/A"]
[null,2013,"Historical",null,"CGAAP and Revised CGAAP2","N/A","N/A","N/A"]
[]
["1) For the transition year (2014), the applicant may file two appendices, one under Revised CGAAP and one under MIFRS, depending on the materiality of impacts. See the specific instructions under each appendix below for further details."]
["2) For applicants that are reflecting accounting policy changes for the first time in a rebasing application, the applicant must file two appendices in the year that the applicant implemented changes to its capitalization and depreciation policies (2012 or 2013), one before and one after the policy changes."]
["3) Applicants should provide CGAAP and Revised CGAAP schedules (i.e. as indicated in the first two columns of the above table) to support balances in Account 1576 if the account has yet to be disposed of."]
[]
[]
["Appendix 2-BA - Fixed Asset Schedule "]
[]
["Applicants are to provide Appendix 2-BA in accordance with the years and corresponding accounting standards noted in the above table to provide a year over year continuity in fixed assets."]
["If this is the first application where the applicant is rebasing under MIFRS, the applicant should file two appendices, one under Revised CGAAP and one under MIFRS for the transition year (2014), if the change between Revised CGAAP and MIFRS is material.  If the change from the accounting standards is not material, the applicant may choose to only provide one appendix under MIFRS.  However, the applicant must also indicate the fixed asset net book value balance under Revised CGAAP, the total dollar value of the change and explain why it is not material."]
[]
[]
[]
["The applicant must establish the continuity of historical cost for gross assets and accumulated depreciation by asset class by ensuring that the opening balance in the year agrees to the closing balance in the prior year."]
[]
[]
["Appendix 2-Cx - Depreciation and Amortization "]
[]
["Applicants are to provide Appendix 2-C in accordance with the years and corresponding accounting standards listed in the above table. "]
["Appendix 2-C is to be used under all of the scenarios presented in the table above. In the appendix, the applicant will need to indicate which scenario applies. The appendix is to be duplicated for each year and for each accounting standard required as per the above table."]
["Depreciation accounting policy changes were mandated by the OEB by January 1, 2013. In general, no further changes to an applicant's depreciation policy (i.e.  assets' service lives) are expected after the OEB mandated changes by January 1, 2013, unless a change is determined to be necessary in accordance with the depreciation review required under IFRS. If the applicant has made any changes to its depreciation policy subsequent to the OEB mandated changes, for the year of the change, applicants must quantify the change in depreciation. If there are significant changes to multiple asset classes, the applicant must complete Appendix 2-C before and after the change. Applicants must also  explain the nature of the change, the reason for the change, quantify the impact of the change."]
[]
["Appendix 2-E - Account 1575, IFRS-CGAAP Transitional PP&E Amounts (2-EA), Account 1576, Accounting Changes Under CGAAP (2-EB, 2-EC) CONTACT OEB STAFF IF TAB REQUIRED"]
[]
["1) For an applicant that has a balance in Account 1576 to dispose:"]
["·       ","If an applicant changed capitalization and depreciation policies effective January 1, 2012, the applicant must complete Appendix 2-EB "]
["·       ","If an applicant changed capitalization and depreciation policies effective January 1, 2013, the applicant must complete Appendix 2-EC"]
[]
["2) For an applicant that has a balance in Account 1575 to dispose:"]
["·       ","The applicant must complete 2-EA"]
[" If the applicant did not make any further PP&E accounting policy changes beyond the capitalization and depreciation policy changes as mandated by the OEB by January 1, 2013 (i.e. no further changes made on transition to IFRS), the applicant must indicate this and does not need to complete Appendix 2-EA."]
[]
[]
[]
["Appendix 2-Y - Summary of Impacts to Revenue Requirement from Transition to MIFRS CONTACT OEB STAFF IF TAB REQUIRED"]
[]
["Applicants must complete Appendix 2-Y if this is the first rebasing application under MIFRS. An applicant must provide a summary of the dollar impacts of MIFRS to each component of the revenue requirement (e.g. rate base, operating costs, etc.), including the overall impact on the proposed revenue requirement.  Accordingly,  the applicant must identify financial differences and resulting revenue requirement impacts arising from the adoption of MIFRS as compared to CGAAP.  If the applicant is reflecting the changes in capitalization and depreciation policies for the first time in a rebasing application as well, then a comparison between MIFRS and CGAAP before the change in accounting policies should be completed.  If the applicant changed capitalization and depreciation policies and reflected these changes in a prior rebasing application, then a comparison between MIFRS and CGAAP after the change in accounting policies should be completed.  "]

{"sheet":"App.2-BA_Fixed Asset Cont","index":10,"n_rows":391,"n_cols":17,"rows_kept":391,"cut":false,"hidden":false,"merged":[[60,3,60,6],[8,0,8,12],[9,0,9,12],[14,3,14,6],[47,2,47,8],[48,2,48,8],[93,2,93,8],[94,2,94,8],[106,3,106,6],[139,2,139,8],[140,2,140,8],[153,3,153,6],[186,2,186,8],[187,2,187,8],[199,3,199,6],[212,3,212,6],[246,2,246,8],[247,2,247,8],[259,3,259,6],[273,3,273,6],[306,2,306,8],[368,2,368,8],[369,2,369,8],[381,3,381,6],[307,2,307,8],[308,2,308,8],[320,3,320,6],[334,3,334,6],[367,2,367,8]]}
[null,null,null,null,null,null,null,null,null,null,null,"File Number:",{"$f":"EBNUMBER","v":"EB-2021-0052"}]
[null,null,null,null,null,null,null,null,null,null,null,"Exhibit:"]
[null,null,null,null,null,null,null,null,null,null,null,"Tab:"]
[null,null,null,null,null,null,null,null,null,null,null,"Schedule:"]
[null,null,null,null,null,null,null,null,null,null,null,"Page:"]
[]
[null,null,null,null,null,null,null,null,null,null,null,"Date:"]
[]
["Appendix 2-BA"]
["Fixed Asset Continuity Schedule 1 "]
[]
[null,null,null,null,"Accounting Standard","CGAAP"]
[null,null,null,null,"Year ",2016,"IFRS"]
[]
[null,null,null,"Gross Assets",null,null,null,null,null,"Accumulated Depreciation"]
["CCA Class","OEB","Description","Opening Balance","Additions","Disposals","Closing Balance",null,"Opening Balance","Additions (Depr Exp must match 2.9)","Disposals","Closing Balance","Net Book Value",null,"AVG Gross Bal","AVG AccDep"]
[12,1611,"Computer Software (Formally known as Account 1925)",202932.06,21070,null,{"$f":"D17+E17+F17","v":224002.06},null,159123.70000000001,31159.24,null,{"$f":"I17+J17+K17","v":190282.94},{"$f":"G17-L17","v":33719.119999999995},null,{"$f":"AVERAGE(G17,D17)","v":213467.06},{"$f":"AVERAGE(L17,I17)","v":174703.32}]
["CEC",1612,"Land Rights (Formally known as Account 1906 and 1806)",2747.84,null,null,{"$f":"D18+E18+F18","v":2747.84},null,670,335,null,{"$f":"I18+J18+K18","v":1005},{"$f":"G18-L18","v":1742.8400000000001},null,2747.84,837.5]
["N/A",1805,"Land",130499.26,null,null,{"$f":"D19+E19+F19","v":130499.26},null,null,null,null,{"$f":"I19+J19+K19","v":0},130499.26,null,130499.26,0]
[47,1808,"Buildings",169065.84,null,null,{"$f":"D20+E20+F20","v":169065.84},null,6915.88,3457.94,null,{"$f":"I20+J20+K20","v":10373.82},158692.01999999999,null,169065.84,8644.85]
[13,1810,"Leasehold Improvements",229612.33,54222.45,null,283834.77999999997,null,24810.38,14391.56,null,39201.94,244632.83999999997,null,256723.55499999999,32006.160000000003]
[47,1820,"Distribution Station Equipment <50 kV",{"$f":"1201701.51+630","v":1202331.51},215585.51,null,1417917.02,null,127886.8,69125,null,197011.8,1220905.22,null,1310124.2650000001,162449.29999999999]
[47,1830,"Poles, Towers & Fixtures",2013138.26,269378.28999999998,null,2282516.5499999998,null,339533.12,158181.73000000001,null,497714.85,1784801.6999999997,null,2147827.4049999998,418623.98499999999]
[47,1835,"Overhead Conductors & Devices",2751043.94,189649.63,null,2940693.57,null,238488.52,124892.05,null,363380.57,2577313,null,2845868.7549999999,300934.54499999998]
[47,1840,"Underground Conduit",684876.53,10252.68,null,695129.21000000008,null,175622.43,77925.600000000006,null,253548.03,441581.18000000005,null,690002.87000000011,214585.22999999998]
[47,1845,"Underground Conductors & Devices",794240.16,25027.79,null,819267.95000000007,null,50007.02,29495.5,null,79502.51999999999,739765.43,null,806754.05500000005,64754.76999999999]
[47,1850,"Line Transformers",{"$f":"1500350.86","v":1500350.86},{"$f":"127653.03","v":127653.03},null,1628003.8900000001,null,187096.89,89143.72,null,276240.61,1351763.2800000003,null,1564177.375,231668.75]
[null,1850,"Transformer Inventory",268760,-16389,null,252371,null,null,null,null,0,252371,null,260565.5,0]
[47,1855,"Services (Overhead & Underground)",1121323.67,93631.49,null,1214955.1599999999,null,94884.32,50923.17,null,145807.49,1069147.67,null,1168139.415,120345.905]
[47,"1860-15","Meters",1645231,{"$f":"36172.07","v":36172.07},null,1681403.07,null,654368,{"$f":"109682+1205.74","v":110887.74},null,765255.74,916147.33000000007,null,1663317.0350000001,709811.87]
[47,"1860-25","Meters >50",97695.47,3098.85,null,100794.32,null,8495.49,{"$f":"4315.69+272.46","v":4588.1499999999996},null,13083.64,87710.680000000008,null,99244.895000000004,10789.564999999999]
[null,1860,"Meter Inventory",87293.119999999995,-32605.99,null,54687.12999999999,null,0,0,null,0,54687.12999999999,null,70990.125,0]
[8,1915,"Office Furniture & Equipment (10 years)",13903.3,27072.09,null,40975.39,null,2643.99,3021.1,null,5665.09,35310.300000000003,null,27439.345000000001,4154.54]
[10,"1920-2","Computer Equipment - Hardware",84929.41,1668.77,null,86598.180000000008,null,56242.34,{"$f":"15617.25+890","v":16507.25},null,72749.59,13848.590000000011,null,85763.795000000013,64495.964999999997]
[10,"1930-8","Transportation Equipment",{"$f":"821675.21+50078.2","v":871753.40999999992},116565,null,988318.40999999992,null,{"$f":"270511.2+50078.2","v":320589.40000000002},136043.79,null,456633.19000000006,531685.21999999986,null,930035.90999999992,388611.29500000004]
[8,1940,"Tools, Shop & Garage Equipment",74405.91,14006.95,null,88412.86,null,16322.63,8284.34,null,24606.97,63805.89,null,81409.385000000009,20464.8]
[8,1945,"Measurement & Testing Equipment",23637.8,null,null,23637.8,null,3940.62,2454.23,null,6394.85,17242.949999999997,null,23637.8,5167.7350000000006]
[8,1955,"Communications Equipment",26170.959999999999,null,null,26170.959999999999,null,5093.83,4989.17,null,10083,16087.96,null,26170.959999999999,7588.415]
[8,1960,"Miscellaneous Equipment ",11498.8,null,null,{"$f":"D39+E39+F39","v":11498.8},null,2420.8000000000002,1210.4000000000001,null,3631.2000000000003,7867.5999999999985,null,11498.8,3026]
[47,1980,"System Supervisor Equipment",3088.72,null,null,{"$f":"D40+E40+F40","v":3088.72},null,2699.19,287.64999999999998,null,2986.84,101.87999999999965,null,3088.72,2843.0150000000003]
[47,1995,"Contributions & Grants",-1526788.8,null,null,{"$f":"D41+E41+F41","v":-1526788.8},null,-142363.35,-71181.67,null,-213545.02000000002,-1313243.78,null,-1526788.8,-177954.185]
[47,2440,"Deferred Revenues",-328404.65999999997,-96899.3,null,{"$f":"D42+E42+F42","v":-425303.95999999996},null,-12216.53,-19904.689999999999,null,-32121.22,-393182.74,null,-376854.30999999994,-22168.875]
[null,null,null,null,null,null,{"$f":"D43+E43+F43","v":0},null,null,null,null,0,0,null,0,0]
[null,null,"Sub-Total",{"$f":"SUM(D17:D43)","v":12155336.700000003},{"$f":"SUM(E17:E43)","v":1059160.31},{"$f":"SUM(F17:F43)","v":0},{"$f":"SUM(G17:G43)","v":13214497.010000005},null,{"$f":"SUM(I17:I43)","v":2323275.4700000002},{"$f":"SUM(J17:J43)","v":846217.97000000009},{"$f":"SUM(K17:K43)","v":0},{"$f":"SUM(L17:L43)","v":3169493.44},{"$f":"SUM(M17:M43)","v":10045003.570000004},null,{"$f":"SUM(O17:O43)","v":12684916.855000002},{"$f":"SUM(P17:P43)","v":2746384.4549999996}]
[null,null,"Less Socialized Renewable Energy Generation Investments (input as negative)Less Socialized Renewable Energy Generation Investments (input as negative)",null,null,null,{"$f":"D45+E45+F45","v":0},null,null,null,null,{"$f":"I45+J45+K45","v":0},{"$f":"G45+L45","v":0}]
[null,null,"Less Other Non Rate-Regulated Utility Assets (input as negative)Less Other Non Rate-Regulated Utility Assets (input as negative)",null,null,null,0,null,null,null,null,{"$f":"I46+J46+K46","v":0},{"$f":"G46+L46","v":0}]
[null,null,"Total PP&E",{"$f":"SUM(D44:D46)","v":12155336.700000003},{"$f":"SUM(E44:E46)","v":1059160.31},{"$f":"SUM(F44:F46)","v":0},{"$f":"SUM(G44:G46)","v":13214497.010000005},null,{"$f":"SUM(I44:I46)","v":2323275.4700000002},{"$f":"SUM(J44:J46)","v":846217.97000000009},{"$f":"SUM(K44:K46)","v":0},{"$f":"SUM(L44:L46)","v":3169493.44},{"$f":"SUM(M44:M46)","v":10045003.570000004}]
[null,null,"Depreciation Expense adj. from gain or loss on the retirement of assets (pool of like assets)"]
[null,null,"Total",null,null,null,null,null,null,{"$f":"J47+J48","v":846217.97000000009}]
[null,null,null,null,null,null," ",null,null,null,null,null," "]
[null,null,null,null,null,null,"Less: Fully Allocated Depreciation"]
[10,null,"Transportation",null,null,null,"Transportation"]
[8,null,"Stores Equipment",null,null,null,"Stores Equipment"]
[8,null,"Tools, Shop",null,null,null,"Tools, Shop"]
[8,null,"Meas/Testing",null,null,null,"Meas/Testing"]
[8,null,"Communication",null,null,null,"Communication"]
[null,null,null,null,null,null,"Net Depreciation",null,null,{"$f":"J49+J52+J56+J53+J54+J55","v":846217.97000000009}]
[]
[null,null,null,null,"Year ",2017,"IFRS"]
[]
[null,null,null,"Gross Assets",null,null,null,null,null,"Accumulated Depreciation"]
["CCA Class","OEB","Description","Opening Balance","Additions","Disposals","Closing Balance",null,"Opening Balance","Additions (Depr Exp must match 2.9)","Disposals","Closing Balance","Net Book Value",null,"AVG Gross Bal","AVG AccDep"]
[12,1611,"Computer Software (Formally known as Account 1925)",{"$f":"G17","v":224002.06},33880.61,null,{"$f":"D63+E63+F63","v":257882.66999999998},null,{"$f":"L17","v":190282.94},{"$f":"10308.88+15411.01","v":25719.89},null,{"$f":"I63+J63+K63","v":216002.83000000002},{"$f":"G63-L63","v":41879.839999999967},null,{"$f":"AVERAGE(G63,D63)","v":240942.36499999999},{"$f":"AVERAGE(L63,I63)","v":203142.88500000001}]
["CEC",1612,"Land Rights (Formally known as Account 1906 and 1806)",2747.84,null,null,{"$f":"D64+E64+F64","v":2747.84},null,1005,335,null,{"$f":"I64+J64+K64","v":1340},{"$f":"G64-L64","v":1407.8400000000001},null,2747.84,1172.5]
["N/A",1805,"Land",130499.26,39130,null,{"$f":"D65+E65+F65","v":169629.26},null,0,null,null,{"$f":"I65+J65+K65","v":0},169629.26,null,150064.26,0]
[47,1808,"Buildings",169065.84,731.25,null,{"$f":"D66+E66+F66","v":169797.09},null,10373.82,3466.07,null,{"$f":"I66+J66+K66","v":13839.89},155957.20000000001,null,169431.465,12106.855]
[13,1810,"Leasehold Improvements",283834.77999999997,{"$f":"2894.74+383.53","v":3278.2699999999995},null,287113.05,null,39201.94,15541.58,null,54743.520000000004,232369.52999999997,null,285473.91499999998,46972.73]
[47,1820,"Distribution Station Equipment <50 kV",1417917.02,{"$f":"23511.13+4145.38+12316.2+8487","v":48459.710000000006},null,1466376.73,null,197011.8,{"$f":"70457.45+1223.09","v":71680.539999999994},null,268692.33999999997,1197684.3900000001,null,1442146.875,232852.06999999998]
[47,1830,"Poles, Towers & Fixtures",2282516.5499999998,{"$f":"130011.21+32867.86","v":162879.07},null,2445395.6199999996,null,497714.85,{"$f":"21608.78+106124.54+20766.57+5188.7","v":153688.59},null,651403.43999999994,1793992.1799999997,null,2363956.085,574559.14500000002]
[47,1835,"Overhead Conductors & Devices",2940693.57,{"$f":"248719.53+43086.73","v":291806.26},null,3232499.83,null,363380.57,{"$f":"10589.04+102777.57+10655.23+2899.82+2113.4","v":129035.06000000001},null,492415.63,2740084.2,null,3086596.7,427898.1]
[47,1840,"Underground Conduit",695129.21000000008,{"$f":"31940.21","v":31940.21},null,727069.42,null,253548.03,{"$f":"51752.58+16310.46","v":68063.040000000008},null,321611.07,405458.35000000003,null,711099.31500000006,287579.55]
[47,1845,"Underground Conductors & Devices",819267.95000000007,{"$f":"140969.86","v":140969.85999999999},null,960237.81,null,79502.51999999999,{"$f":"29915.07+1655.4","v":31570.47},null,111072.98999999999,849164.82000000007,null,889752.88000000012,95287.75499999999]
[47,1850,"Line Transformers",1628003.8900000001,{"$f":"46986.49+93866.84","v":140853.32999999999},null,1768857.2200000002,null,276240.61,{"$f":"51981.84+24075.63+13178.29","v":89235.760000000009},null,365476.37,1403380.85,null,1698430.5550000002,320858.49]
[null,1850,"Transformer Inventory",252371,68215,null,320586,null,0,null,null,0,320586,null,286478.5,0]
[47,1855,"Services (Overhead & Underground)",1214955.1599999999,{"$f":"47364.34+79089.27","v":126453.61},null,1341408.77,null,145807.49,{"$f":"2492.22+3515.4+19616.72+27683.5","v":53307.839999999997},null,199115.33,1142293.44,null,1278181.9649999999,172461.40999999997]
[47,"1860-15","Meters",1681403.07,35397.199999999997,null,1716800.27,null,765255.74,{"$f":"109682+2411.48+1179.91","v":113273.39},null,878529.13,838271.14,null,1699101.67,821892.43500000006]
[47,"1860-25","Meters >50",100794.32,null,null,100794.32,null,13083.64,{"$f":"4292.26+252.27","v":4544.5300000000007},null,17628.169999999998,83166.150000000009,null,100794.32,15355.904999999999]
[null,1860,"Meter Inventory",54687.12999999999,4011.67,null,58698.799999999988,null,0,null,null,0,58698.799999999988,null,56692.964999999989,0]
[8,1915,"Office Furniture & Equipment (10 years)",40975.39,{"$f":"4397.75","v":4397.75},null,45373.14,null,5665.09,{"$f":"4594.6","v":4594.6000000000004},null,10259.69,35113.449999999997,null,43174.264999999999,7962.39]
[10,"1920-2","Computer Equipment - Hardware",86598.180000000008,{"$f":"6396.67","v":6396.67},null,92994.85,null,72749.59,{"$f":"10514.15+0.8","v":10514.949999999999},null,83264.539999999994,9730.3100000000122,null,89796.515000000014,78007.065000000002]
[10,"1930-8","Transportation Equipment",988318.40999999992,{"$f":"322428.24","v":322428.24},null,1310746.6499999999,null,456633.19000000006,158892.07999999999,null,615525.27,695221.37999999989,null,1149532.5299999998,536079.23]
[8,1940,"Tools, Shop & Garage Equipment",88412.86,{"$f":"3354.45","v":3354.45},null,91767.31,null,24606.97,{"$f":"8943.02","v":8943.02},null,33549.990000000005,58217.319999999992,null,90090.084999999992,29078.480000000003]
[8,1945,"Measurement & Testing Equipment",23637.8,{"$f":"999","v":999},null,24636.799999999999,null,6394.85,{"$f":"2504.18","v":2504.1799999999998},null,8899.0300000000007,15737.769999999999,null,24137.3,7646.9400000000005]
[8,1955,"Communications Equipment",26170.959999999999,null,null,26170.959999999999,null,10083,{"$f":"4831.72","v":4831.72},null,14914.720000000001,11256.239999999998,null,26170.959999999999,12498.86]
[8,1960,"Miscellaneous Equipment ",11498.8,null,null,11498.8,null,3631.2000000000003,{"$f":"1210.4","v":1210.4000000000001},null,4841.6000000000004,6657.1999999999989,null,11498.8,4236.4000000000005]
[47,1980,"System Supervisor Equipment",3088.72,{"$f":"35234.31","v":35234.31},null,38323.03,null,2986.84,{"$f":"5974.28","v":5974.28},null,8961.119999999999,29361.91,null,20705.875,5973.98]
[47,1995,"Contributions & Grants",-1526788.8,null,null,-1526788.8,null,-213545.02000000002,-71181.67,null,-284726.69,-1242062.1100000001,null,-1526788.8,-249135.85500000001]
[47,2440,"Deferred Revenues",-425303.95999999996,-263532.76,null,-688836.72,null,-32121.22,-24410.09,null,-56531.31,-632305.40999999992,null,-557070.34,-44326.264999999999]
[null,null,null,null,null,null,{"$f":"D89+E89+F89","v":0},null,null,null,null,0,0,null,0,0]
[null,null,"Sub-Total",{"$f":"SUM(D63:D89)","v":13214497.010000005},{"$f":"SUM(E63:E89)","v":1237283.7099999997},{"$f":"SUM(F63:F89)","v":0},{"$f":"SUM(G63:G89)","v":14451780.720000003},null,{"$f":"SUM(I63:I89)","v":3169493.44},{"$f":"SUM(J63:J89)","v":861335.23},{"$f":"SUM(K63:K89)","v":0},{"$f":"SUM(L63:L89)","v":4030828.67},{"$f":"SUM(M63:M89)","v":10420952.049999999},null,{"$f":"SUM(O63:O89)","v":13833138.865000004},{"$f":"SUM(P63:P89)","v":3600161.0549999997}]
[null,null,"Less Socialized Renewable Energy Generation Investments (input as negative)Less Socialized Renewable Energy Generation Investments (input as negative)",null,null,null,{"$f":"D91+E91+F91","v":0},null,null,null,null,{"$f":"I91+J91+K91","v":0},{"$f":"G91+L91","v":0}]
[null,null,"Less Other Non Rate-Regulated Utility Assets (input as negative)Less Other Non Rate-Regulated Utility Assets (input as negative)",null,null,null,{"$f":"D92+E92+F92","v":0},null,null,null,null,{"$f":"I92+J92+K92","v":0},{"$f":"G92+L92","v":0}]
[null,null,"Total PP&E",{"$f":"SUM(D90:D92)","v":13214497.010000005},{"$f":"SUM(E90:E92)","v":1237283.7099999997},{"$f":"SUM(F90:F92)","v":0},{"$f":"SUM(G90:G92)","v":14451780.720000003},null,{"$f":"SUM(I90:I92)","v":3169493.44},{"$f":"SUM(J90:J92)","v":861335.23},{"$f":"SUM(K90:K92)","v":0},{"$f":"SUM(L90:L92)","v":4030828.67},{"$f":"SUM(M90:M92)","v":10420952.049999999}]
[null,null,"Depreciation Expense adj. from gain or loss on the retirement of assets (pool of like assets)"]
[null,null,"Total",null,null,null,null,null,null,{"$f":"J93+J94","v":861335.23}]
[]
[null,null,null,null,null,null,"Less: Fully Allocated Depreciation"]
[10,null,"Transportation",null,null,null,"Transportation"]
[8,null,"Stores Equipment",null,null,null,"Stores Equipment"]
[8,null,"Tools, Shop",null,null,null,"Tools, Shop"]
[8,null,"Meas/Testing",null,null,null,"Meas/Testing"]
[8,null,"Communication",null,null,null,"Communication"]
[null,null,null,null,null,null,"Net Depreciation",null,null,{"$f":"J95+J98+J102+J99+J100+J101","v":861335.23}]
[]
[null,null,null,null,"Year ",2018,"IFRS"]
[]
[null,null,null,"Gross Assets",null,null,null,null,null,"Accumulated Depreciation"]
["CCA Class","OEB","Description","Opening Balance","Additions","Disposals","Closing Balance",null,"Opening Balance","Additions (Depr Exp must match 2.9)","Disposals","Closing Balance","Net Book Value",null,"AVG Gross Bal","AVG AccDep"]
[12,1611,"Computer Software (Formally known as Account 1925)",{"$f":"G63","v":257882.66999999998},{"$f":"1764+9710.01","v":11474.01},null,{"$f":"D109+E109+F109","v":269356.68},null,{"$f":"L63","v":216002.83000000002},{"$f":"8005.09+15335.13","v":23340.22},null,{"$f":"I109+J109+K109","v":239343.05000000002},{"$f":"G109-L109","v":30013.629999999976},null,{"$f":"AVERAGE(G109,D109)","v":263619.67499999999},{"$f":"AVERAGE(L109,I109)","v":227672.94}]
["CEC",1612,"Land Rights (Formally known as Account 1906 and 1806)",2747.84,null,null,{"$f":"D110+E110+F110","v":2747.84},null,1340,335,null,{"$f":"I110+J110+K110","v":1675},{"$f":"G110-L110","v":1072.8400000000001},null,2747.84,1507.5]
["N/A",1805,"Land",169629.26,88721.06,null,{"$f":"D111+E111+F111","v":258350.32},null,0,null,null,{"$f":"I111+J111+K111","v":0},258350.32,null,213989.79,0]
[47,1808,"Buildings",169797.09,{"$f":"1572.78","v":1572.78},null,{"$f":"D112+E112+F112","v":171369.87},null,13839.89,{"$f":"3474.19","v":3474.19},null,{"$f":"I112+J112+K112","v":17314.079999999998},154055.79,null,170583.47999999998,15576.984999999999]
[13,1810,"Leasehold Improvements",287113.05,null,null,287113.05,null,54743.520000000004,{"$f":"15638.6","v":15638.6},null,70382.12000000001,216730.93,null,287113.05,62562.820000000007]
[47,1820,"Distribution Station Equipment <50 kV",1466376.73,{"$f":"17277.94+18489.74+58851.18","v":94618.86},null,1560995.59,null,268692.33999999997,72301.850000000006,null,340994.18999999994,1220001.4000000001,null,1513686.1600000001,304843.26499999996]
[47,1830,"Poles, Towers & Fixtures",2445395.6199999996,{"$f":"153561.82+16056.86","v":169618.68},null,2615014.2999999998,null,651403.43999999994,147860.54999999999,null,799263.99,1815750.3099999998,null,2530204.96,725333.71499999997]
[47,1835,"Overhead Conductors & Devices",3232499.83,{"$f":"303051.09+7658.29","v":310709.38},null,3543209.21,null,492415.63,134223.98000000001,null,626639.61,2916569.6,null,3387854.52,559527.62]
[47,1840,"Underground Conduit",727069.42,{"$f":"42831.57","v":42831.57},null,769900.99,null,321611.07,62016.41,null,383627.48,386273.51,null,748485.20500000007,352619.27500000002]
[47,1845,"Underground Conductors & Devices",960237.81,{"$f":"115159.44","v":115159.44},null,1075397.25,null,111072.98999999999,34772.089999999997,null,145845.07999999999,929552.17,null,1017817.53,128459.03499999999]
[47,1850,"Line Transformers",1768857.2200000002,{"$f":"392881.17+128518.5","v":521399.67},null,2290256.89,null,365476.37,52467.37,null,417943.74,1872313.1500000001,null,2029557.0550000002,391710.05499999999]
[null,1850,"Transformer Inventory",320586,45552,null,366138,null,0,null,null,0,366138,null,343362,0]
[47,1855,"Services (Overhead & Underground)",1341408.77,{"$f":"16508.75+49426.35","v":65935.100000000006},null,1407343.87,null,199115.33,55446.559999999998,null,254561.88999999998,1152781.9800000002,null,1374376.32,226838.61]
[47,"1860-15","Meters",1716800.27,107964.17,null,1824764.44,null,878529.13,{"$f":"109682+2411.48+2359.81+3598.81","v":118052.09999999999},null,996581.23,828183.21,null,1770782.355,937555.17999999993]
[47,"1860-25","Meters >50",100794.32,null,null,100794.32,null,17628.169999999998,{"$f":"4269.38+228.5","v":4497.88},null,22126.05,78668.27,null,100794.32,19877.11]
[null,1860,"Meter Inventory",58698.799999999988,-692.59,null,58006.209999999992,null,0,null,null,0,58006.209999999992,null,58352.50499999999,0]
[8,1915,"Office Furniture & Equipment (10 years)",45373.14,{"$f":"4.57","v":4.57},null,45377.71,null,10259.69,4814.72,null,15074.41,30303.3,null,45375.425000000003,12667.05]
[10,"1920-2","Computer Equipment - Hardware",92994.85,{"$f":"5446.05","v":5446.05},null,98440.900000000009,null,83264.539999999994,7162.32,null,90426.859999999986,8014.0400000000227,null,95717.875,86845.699999999983]
[10,"1930-8","Transportation Equipment",1310746.6499999999,{"$f":"30997.23","v":30997.23},null,1341743.8799999999,null,615525.27,161599.46,null,777124.73,564619.14999999991,null,1326245.2649999999,696325]
[8,1940,"Tools, Shop & Garage Equipment",91767.31,{"$f":"368.11","v":368.11},null,92135.42,null,33549.990000000005,9129.17,null,42679.16,49456.259999999995,null,91951.364999999991,38114.575000000004]
[8,1945,"Measurement & Testing Equipment",24636.799999999999,{"$f":"3180.25","v":3180.25},null,27817.05,null,8899.0300000000007,2713.14,null,11612.17,16204.88,null,26226.924999999999,10255.6]
[8,1955,"Communications Equipment",26170.959999999999,null,null,26170.959999999999,null,14914.720000000001,4674.3,null,19589.02,6581.9399999999987,null,26170.959999999999,17251.870000000003]
[8,1960,"Miscellaneous Equipment ",11498.8,null,null,{"$f":"D131+E131+F131","v":11498.8},null,4841.6000000000004,1210.4000000000001,null,6052,5446.7999999999993,null,11498.8,5446.8]
[47,1980,"System Supervisor Equipment",38323.03,{"$f":"12648.09","v":12648.09},null,{"$f":"D132+E132+F132","v":50971.119999999995},null,8961.119999999999,13852.79,null,22813.91,28157.209999999995,null,44647.074999999997,15887.514999999999]
[47,1995,"Contributions & Grants",-1526788.8,null,null,{"$f":"D133+E133+F133","v":-1526788.8},null,-284726.69,-71181.67,null,-355908.36,-1170880.44,null,-1526788.8,-320317.52500000002]
[47,2440,"Deferred Revenues",-688836.72,-136450,null,{"$f":"D134+E134+F134","v":-825286.72},null,-56531.31,-23743.22,null,-80274.53,-745012.19,null,-757061.72,-68402.92]
[null,null,null,null,null,null,{"$f":"D135+E135+F135","v":0},null,null,null,null,0,{"$f":"G135+L135","v":0},null,0,0]
[null,null,"Sub-Total",{"$f":"SUM(D109:D135)","v":14451780.720000003},{"$f":"SUM(E109:E135)","v":1491058.4300000002},{"$f":"SUM(F109:F135)","v":0},{"$f":"SUM(G109:G135)","v":15942839.150000004},null,{"$f":"SUM(I109:I135)","v":4030828.67},{"$f":"SUM(J109:J135)","v":834658.21000000008},{"$f":"SUM(K109:K135)","v":0},{"$f":"SUM(L109:L135)","v":4865486.879999999},{"$f":"SUM(M109:M135)","v":11077352.270000003},null,{"$f":"SUM(O109:O135)","v":15197309.935000001},{"$f":"SUM(P109:P135)","v":4448157.7749999985}]
[null,null,"Less Socialized Renewable Energy Generation Investments (input as negative)Less Socialized Renewable Energy Generation Investments (input as negative)",null,null,null,{"$f":"D137+E137+F137","v":0},null,null,0,0,{"$f":"I137+J137+K137","v":0},{"$f":"G137+L137","v":0}]
[null,null,"Less Other Non Rate-Regulated Utility Assets (input as negative)Less Other Non Rate-Regulated Utility Assets (input as negative)",null,null,null,{"$f":"D138+E138+F138","v":0},null,null,null,null,{"$f":"I138+J138+K138","v":0},{"$f":"G138+L138","v":0}]
[null,null,"Total PP&E",{"$f":"SUM(D136:D138)","v":14451780.720000003},{"$f":"SUM(E136:E138)","v":1491058.4300000002},{"$f":"SUM(F136:F138)","v":0},{"$f":"SUM(G136:G138)","v":15942839.150000004},null,{"$f":"SUM(I136:I138)","v":4030828.67},{"$f":"SUM(J136:J138)","v":834658.21000000008},{"$f":"SUM(K136:K138)","v":0},{"$f":"SUM(L136:L138)","v":4865486.879999999},{"$f":"SUM(M136:M138)","v":11077352.270000003}]
[null,null,"Depreciation Expense adj. from gain or loss on the retirement of assets (pool of like assets)"]
[null,null,"Total",null,null,null,null,null,null,{"$f":"J139+J140","v":834658.21000000008}]
[]
[null,null,null,null,null,null,"Less: Fully Allocated Depreciation"]
[10,null,"Transportation",null,null,null,"Transportation"]
[8,null,"Stores Equipment",null,null,null,"Stores Equipment"]
[8,null,"Tools, Shop",null,null,null,"Tools, Shop"]
[8,null,"Meas/Testing",null,null,null,"Meas/Testing"]
[8,null,"Communication",null,null,null,"Communication"]
[null,null,null,null,null,null,"Net Depreciation",null,null,{"$f":"J141+J144+J148+J145+J146+J147","v":834658.21000000008}]
[]
[]
[null,null,null,null,"Year ",2019,"IFRS"]
[]
[null,null,null,"Gross Assets",null,null,null,null,null,"Accumulated Depreciation"]
["CCA Class","OEB","Description","Opening Balance","Additions","Disposals","Closing Balance",null,"Opening Balance","Additions (Depr Exp must match 2.9)","Disposals","Closing Balance","Net Book Value",null,"AVG Gross Bal","AVG AccDep"]
[12,1611,"Computer Software (Formally known as Account 1925)",{"$f":"G109","v":269356.68},{"$f":"11265.5+5394.66","v":16660.16},null,{"$f":"D156+E156+F156","v":286016.83999999997},null,{"$f":"L109","v":239343.05000000002},{"$f":"6689.09+13818.37+899.11","v":21406.57},null,{"$f":"I156+J156+K156","v":260749.62000000002},{"$f":"G156-L156","v":25267.219999999943},null,{"$f":"AVERAGE(G156,D156)","v":277686.76},{"$f":"AVERAGE(L156,I156)","v":250046.33500000002}]
["CEC",1612,"Land Rights (Formally known as Account 1906 and 1806)",2747.84,null,null,{"$f":"D157+E157+F157","v":2747.84},null,1675,335,null,{"$f":"I157+J157+K157","v":2010},{"$f":"G157-L157","v":737.84000000000015},null,2747.84,1842.5]
["N/A",1805,"Land",258350.32,null,null,{"$f":"D158+E158+F158","v":258350.32},null,0,null,null,{"$f":"I158+J158+K158","v":0},258350.32,null,258350.32,0]
[47,1808,"Buildings",171369.87,null,null,{"$f":"D159+E159+F159","v":171369.87},null,17314.079999999998,3474.19,null,{"$f":"I159+J159+K159","v":20788.269999999997},150581.6,null,171369.87,19051.174999999996]
[13,1810,"Leasehold Improvements",287113.05,{"$f":"4189.19","v":4189.1899999999996},null,291302.24,null,70382.12000000001,15753.83,null,86135.950000000012,205166.28999999998,null,289207.64500000002,78259.035000000003]
[47,1820,"Distribution Station Equipment <50 kV",1560995.59,{"$f":"-58854.18","v":-58854.18},null,1502141.4100000001,null,340994.18999999994,{"$f":"71202.1+1685.33","v":72887.430000000008},null,413881.61999999994,1088259.7900000003,null,1531568.5,377437.90499999991]
[47,1830,"Poles, Towers & Fixtures",2615014.2999999998,{"$f":"146335.97+909","v":147244.97},null,2762259.27,null,799263.99,{"$f":"99452.33+18211.11+17308.89+5188.7","v":140161.03000000003},null,939425.02,1822834.25,null,2688636.7850000001,869344.505]
[47,1835,"Overhead Conductors & Devices",3543209.21,{"$f":"219090.76","v":219090.76},null,3762299.9699999997,null,626639.61,{"$f":"112040.09+2899.82+11150.04+10589.04+2113.4","v":138792.39000000001},null,765432,2996867.9699999997,null,3652754.59,696035.80499999993]
[47,1840,"Underground Conduit",769900.99,{"$f":"22971.79","v":22971.79},null,792872.78,null,383627.48,{"$f":"45920.76+10824.03","v":56744.79},null,440372.26999999996,352500.51000000007,null,781386.88500000001,411999.875]
[47,1845,"Underground Conductors & Devices",1075397.25,{"$f":"131837.42","v":131837.42000000001},null,1207234.67,null,145845.07999999999,{"$f":"36204.18+1655.4","v":37859.58},null,183704.65999999997,1023530.01,null,1141315.96,164774.87]
[47,1850,"Line Transformers",2290256.89,{"$f":"156008.57+148774.7","v":304783.27},-151106.64000000001,2443933.52,null,417943.74,{"$f":"100013.88+11281.27+29992.48","v":141287.63},null,559231.37,1884702.15,null,2367095.2050000001,488587.55499999999]
[null,1850,"Transformer Inventory",366138,120624,null,486762,null,0,null,null,0,486762,null,426450,0]
[47,1855,"Services (Overhead)",1407343.87,{"$f":"27802.63+139843.98","v":167646.61000000002},null,1574990.4800000002,null,254561.88999999998,{"$f":"20518.3+31655.8+2492.22+3515.4","v":58181.72},null,312743.61,1262246.8700000001,null,1491167.1750000003,283652.75]
[47,"1860-15","Meters",1824764.44,66700.649999999994,null,1891465.0899999999,null,996581.23,{"$f":"109682+2411.48+2359.81+7197.61+2223.36","v":123874.26},null,1120455.49,771009.59999999986,null,1858114.7649999999,1058518.3599999999]
[47,"1860-25","Meters >50",100794.32,null,null,100794.32,null,22126.05,{"$f":"171.05+4241.59","v":4412.6400000000003},null,26538.69,74255.63,null,100794.32,24332.37]
[null,1860,"Meter Inventory",58006.209999999992,34715.660000000003,null,92721.87,null,0,null,null,0,92721.87,null,75364.039999999994,0]
[8,1915,"Office Furniture & Equipment (10 years)",45377.71,null,null,45377.71,null,15074.41,4814.95,null,19889.36,25488.35,null,45377.71,17481.885000000002]
[10,"1920-2","Computer Equipment - Hardware",98440.900000000009,{"$f":"13428.49","v":13428.49},null,111869.39000000001,null,90426.859999999986,7162.33,null,97589.189999999988,14280.200000000026,null,105155.14500000002,94008.024999999994]
[10,"1930-8","Transportation Equipment",1341743.8799999999,390985,-277694.84000000003,1455034.0399999998,null,777124.73,161268.15,-277694.84000000003,660698.04,794335.99999999977,null,1398388.96,718911.38500000001]
[8,1940,"Tools, Shop & Garage Equipment",92135.42,{"$f":"1834","v":1834},null,93969.42,null,42679.16,9239.26,null,51918.420000000006,42050.999999999993,null,93052.42,47298.790000000008]
[8,1945,"Measurement & Testing Equipment",27817.05,null,null,27817.05,null,11612.17,2872.16,null,14484.33,13332.72,null,27817.05,13048.25]
[8,1955,"Communications Equipment",26170.959999999999,null,null,26170.959999999999,null,19589.02,4459.54,null,24048.560000000001,2122.3999999999978,null,26170.959999999999,21818.79]
[8,1960,"Miscellaneous Equipment ",11498.8,null,null,11498.8,null,6052,1210.4000000000001,null,7262.4,4236.3999999999996,null,11498.8,6657.2]
[47,1980,"System Supervisor Equipment",50971.119999999995,null,null,50971.119999999995,null,22813.91,15960.8,null,38774.71,12196.409999999996,null,50971.119999999995,30794.309999999998]
[47,1995,"Contributions & Grants",-1526788.8,null,null,-1526788.8,null,-355908.36,-71181.67,null,-427090.02999999997,-1099698.77,null,-1526788.8,-391499.19499999995]
[47,2440,"Deferred Revenues",-825286.72,-312299.71999999997,null,-1137586.44,null,-80274.53,-23685.919999999998,null,-103960.45,-1033625.99,null,-981436.58,-92117.489999999991]
[null,null,null,null,null,null,{"$f":"D182+E182+F182","v":0},null,null,null,null,0,0,null,0,0]
[null,null,"Sub-Total",{"$f":"SUM(D156:D182)","v":15942839.150000004},{"$f":"SUM(E156:E182)","v":1271558.0699999998},{"$f":"SUM(F156:F182)","v":-428801.48000000004},{"$f":"SUM(G156:G182)","v":16785595.740000002},null,{"$f":"SUM(I156:I182)","v":4865486.879999999},{"$f":"SUM(J156:J182)","v":927291.06},{"$f":"SUM(K156:K182)","v":-277694.84000000003},{"$f":"SUM(L156:L182)","v":5515083.1000000006},{"$f":"SUM(M156:M182)","v":11270512.640000001},null,{"$f":"SUM(O156:O182)","v":16364217.445000006},{"$f":"SUM(P156:P182)","v":5190284.9899999993}]
[null,null,"Less Socialized Renewable Energy Generation Investments (input as negative)Less Socialized Renewable Energy Generation Investments (input as negative)",null,null,null,{"$f":"D184+E184+F184","v":0},null,null,null,null,{"$f":"I184+J184+K184","v":0},{"$f":"G184+L184","v":0}]
[null,null,"Less Other Non Rate-Regulated Utility Assets (input as negative)Less Other Non Rate-Regulated Utility Assets (input as negative)",null,null,null,{"$f":"D185+E185+F185","v":0},null,null,null,null,{"$f":"I185+J185+K185","v":0},{"$f":"G185+L185","v":0}]
[null,null,"Total PP&E",{"$f":"SUM(D183:D185)","v":15942839.150000004},{"$f":"SUM(E183:E185)","v":1271558.0699999998},{"$f":"SUM(F183:F185)","v":-428801.48000000004},{"$f":"SUM(G183:G185)","v":16785595.740000002},null,{"$f":"SUM(I183:I185)","v":4865486.879999999},{"$f":"SUM(J183:J185)","v":927291.06},{"$f":"SUM(K183:K185)","v":-277694.84000000003},{"$f":"SUM(L183:L185)","v":5515083.1000000006},{"$f":"SUM(M183:M185)","v":11270512.640000001}]
[null,null,"Depreciation Expense adj. from gain or loss on the retirement of assets (pool of like assets)"]
[null,null,"Total",null,null,null,null,null,null,{"$f":"J186+J187","v":927291.06}]
[]
[null,null,null,null,null,null,"Less: Fully Allocated Depreciation"]
[10,null,"Transportation",null,null,null,"Transportation"]
[8,null,"Stores Equipment",null,null,null,"Stores Equipment"]
[8,null,"Tools, Shop",null,null,null,"Tools, Shop"]
[8,null,"Meas/Testing",null,null,null,"Meas/Testing"]
[8,null,"Communication",null,null,null,"Communication"]
[null,null,null,null,null,null,"Net Depreciation",null,null,{"$f":"J188+J191+J195+J192+J193+J194","v":927291.06}]
[]
["Incremental Capital Module - Almonte MS#4",null,null,null,"Year ",2019,"IFRS"]
[]
[null,null,null,"Gross Assets",null,null,null,null,null,"Accumulated Depreciation"]
["CCA Class","OEB","Description","Opening Balance","Additions","Disposals","Closing Balance",null,"Opening Balance","Additions (Depr Exp must match 2.9)","Disposals","Closing Balance","Net Book Value",null,"AVG Gross Bal","AVG AccDep"]
[47,"1508-1820","Distribution Station Equipment <50 kV",0,{"$f":"1337463.65","v":1337463.6499999999},null,{"$f":"D202+E202+F202","v":1337463.6499999999},null,0,null,null,{"$f":"I202+J202+K202","v":0},{"$f":"G202-L202","v":1337463.6499999999},null,{"$f":"AVERAGE(G202,D202)","v":668731.82499999995},{"$f":"AVERAGE(L202,I202)","v":0}]
[47,"1508-1830","Poles, Towers & Fixtures",0,{"$f":"674.62+17087.03","v":17761.649999999998},null,17761.649999999998,null,0,null,null,0,{"$f":"G203-L203","v":17761.649999999998},null,8880.8249999999989,0]
[47,"1508-1835","Overhead Conductors & Devices",0,{"$f":"7521.64+151.96","v":7673.6},null,7673.6,null,0,null,null,0,7673.6,null,3836.8,0]
[47,"1508-1840","Underground Conduit",0,{"$f":"494.66","v":494.66},null,494.66,null,0,null,null,0,494.66,null,247.33,0]
[47,"1508-1845","Underground Conductors & Devices",0,{"$f":"485.14","v":485.14},null,485.14,null,0,null,null,0,485.14,null,242.57,0]
[47,"1508-1850","Line Transformers",0,null,null,0,null,0,null,null,0,0,null,0,0]
[47,"1508-1980","System Supervisory Equipment",0,null,null,0,null,0,null,null,0,0,null,0,0]
[null,null,"Sub-Total",{"$f":"SUM(D202:D208)","v":0},{"$f":"SUM(E202:E208)","v":1363878.6999999997},{"$f":"SUM(F202:F208)","v":0},{"$f":"SUM(G202:G208)","v":1363878.6999999997},null,{"$f":"SUM(I202:I208)","v":0},{"$f":"SUM(J202:J208)","v":0},{"$f":"SUM(K202:K208)","v":0},{"$f":"SUM(L202:L208)","v":0},{"$f":"SUM(M202:M208)","v":1363878.6999999997},null,{"$f":"SUM(O202:O208)","v":681939.34999999986},{"$f":"SUM(P202:P208)","v":0}]
[]
[null,null,null,null,"Year ",2020,"IFRS"]
[]
[null,null,null,"Gross Assets",null,null,null,null,null,"Accumulated Depreciation"]
["CCA Class","OEB","Description","Opening Balance","Additions","Disposals","Closing Balance",null,"Opening Balance","Additions (Depr Exp must match 2.9)","Disposals","Closing Balance","Net Book Value",null,"AVG Gross Bal","AVG AccDep"]
[12,1611,"Computer Software (Formally known as Account 1925)",{"$f":"G156","v":286016.83999999997},5473.34,-103007.47,{"$f":"D215+E215+F215","v":188482.71},null,{"$f":"L156","v":260749.62000000002},15937.04,-103007.47,{"$f":"I215+J215+K215","v":173679.19000000003},{"$f":"G215-L215","v":14803.51999999996},null,{"$f":"AVERAGE(G215,D215)","v":237249.77499999997},{"$f":"AVERAGE(L215,I215)","v":217214.40500000003}]
["CEC",1612,"Land Rights (Formally known as Account 1906 and 1806)",2747.84,0,0,{"$f":"D216+E216+F216","v":2747.84},null,2010,335,0,{"$f":"I216+J216+K216","v":2345},{"$f":"G216-L216","v":402.84000000000015},null,2747.84,2177.5]
["N/A",1805,"Land",258350.32,0,0,{"$f":"D217+E217+F217","v":258350.32},null,0,0,0,{"$f":"I217+J217+K217","v":0},258350.32,null,258350.32,0]
[47,1808,"Buildings",171369.87,0,0,{"$f":"D218+E218+F218","v":171369.87},null,20788.269999999997,13559.55,0,{"$f":"I218+J218+K218","v":34347.819999999992},137022.04999999999,null,171369.87,27568.044999999995]
[13,1810,"Leasehold Improvements",291302.24,50191.89,0,341494.13,null,86135.950000000012,14396.47,0,100532.42000000001,240961.71,null,316398.185,93334.185000000012]
[47,1820,"Distribution Station Equipment <50 kV",1502141.4100000001,15684.12,0,1517825.5300000003,null,413881.61999999994,65021.78,0,478903.39999999991,1038922.1300000004,null,1509983.4700000002,446392.50999999989]
[47,1830,"Poles, Towers & Fixtures",2762259.27,59280.98,0,2821540.25,null,939425.02,134271.85999999999,0,1073696.8799999999,1747843.37,null,2791899.76,1006560.95]
[47,1835,"Overhead Conductors & Devices",3762299.9699999997,128129.85,0,3890429.82,null,765432,141785.31,0,907217.31,2983212.51,null,3826364.8949999996,836324.65500000003]
[47,1840,"Underground Conduit",792872.78,15277.66,-8025.01,800125.43,null,440372.26999999996,35863.129999999997,-8025.01,468210.38999999996,331915.0400000001,null,796499.10499999998,454291.32999999996]
[47,1845,"Underground Conductors & Devices",1207234.67,23419.1,0,1230653.77,null,183704.65999999997,39800.269999999997,0,223504.92999999996,1007148.8400000001,null,1218944.22,203604.79499999998]
[47,1850,"Line Transformers",2443933.52,{"$f":"206692.18","v":206692.18},-4669.71,2645955.9900000002,null,559231.37,100769.36,-4669.71,655331.02,1990624.9700000002,null,2544944.7549999999,607281.19500000007]
[null,1850,"Transformer Inventory",486762,-81413,0,405349,null,0,0,0,0,405349,null,446055.5,0]
[47,1855,"Services (Overhead)",1574990.4800000002,70151.67,0,1645142.1500000001,null,312743.61,60950.16,0,373693.77,1271448.3800000001,null,1610066.3150000002,343218.69]
[47,"1860-15","Meters",1891465.0899999999,89486.12,0,1980951.21,null,1120455.49,{"$f":"109682+19398.48","v":129080.48},0,1249535.97,731415.24,null,1936208.15,1184995.73]
[47,"1860-25","Meters >50",100794.32,0,0,100794.32,null,26538.69,{"$f":"4210.22+143.66","v":4353.88},0,30892.57,69901.75,null,100794.32,28715.629999999997]
[null,1860,"Meter Inventory",92721.87,-36065.910000000003,0,56655.959999999992,null,0,0,0,0,56655.959999999992,null,74688.914999999994,0]
[8,1915,"Office Furniture & Equipment (10 years)",45377.71,5574.39,0,50952.1,null,19889.36,4799.4799999999996,0,24688.84,26263.26,null,48164.904999999999,22289.1]
[10,"1920-2","Computer Equipment - Hardware",111869.39000000001,32756.85,-25493.22,119133.02000000002,null,97589.189999999988,12817.11,-25493.22,84913.079999999987,34219.940000000031,null,115501.20500000002,91251.13499999998]
[10,"1930-8","Transportation Equipment",1455034.0399999998,53553.9,0,1508587.9399999997,null,660698.04,177821.31,0,838519.35000000009,670068.58999999962,null,1481810.9899999998,749608.69500000007]
[8,1935,"Stores Equipment",0,3472.21,0,3472.21,null,0,173.64,0,173.64,3298.57,null,1736.105,86.82]
[8,1940,"Tools, Shop & Garage Equipment",{"$f":"G175","v":93969.42},0,-1888.94,92080.48,null,{"$f":"L175","v":51918.420000000006},9214.2199999999993,-1888.94,59243.700000000004,32836.779999999992,null,93024.95,55581.060000000005]
[8,1945,"Measurement & Testing Equipment",27817.05,4971.3599999999997,0,32788.409999999996,null,14484.33,3120.73,0,17605.060000000001,15183.349999999995,null,30302.729999999996,16044.695]
[8,1955,"Communications Equipment",26170.959999999999,0,0,26170.959999999999,null,24048.560000000001,2122.39,0,26170.95,9.9999999983992893E-3,null,26170.959999999999,25109.755000000001]
[8,1960,"Miscellaneous Equipment ",11498.8,2499,0,{"$f":"D238+E238+F238","v":13997.8},null,7262.4,1335.35,0,8597.75,5400.0499999999993,null,12748.3,7930.0749999999998]
[47,1980,"System Supervisor Equipment",50971.119999999995,3247,0,{"$f":"D239+E239+F239","v":54218.119999999995},null,38774.71,10629.58,0,49404.29,4813.8299999999945,null,52594.619999999995,44089.5]
[47,1995,"Contributions & Grants",-1526788.8,0,0,{"$f":"D240+E240+F240","v":-1526788.8},null,-427090.02999999997,-71181.67,0,-498271.69999999995,-1028517.1000000001,null,-1526788.8,-462680.86499999999]
[47,2440,"Deferred Revenues",-1137586.44,-101292.73,0,{"$f":"D241+E241+F241","v":-1238879.17},null,-103960.45,-28855.82,0,-132816.26999999999,-1106062.8999999999,null,-1188232.8049999999,-118388.35999999999]
[null,null,null,null,null,null,{"$f":"D242+E242+F242","v":0},null,null,null,null,0,0,null,0,0]
[null,null,"Sub-Total",{"$f":"SUM(D215:D242)","v":16785595.740000002},{"$f":"SUM(E215:E242)","v":551089.97999999986},{"$f":"SUM(F215:F242)","v":-143084.35},{"$f":"SUM(G215:G242)","v":17193601.370000005},null,{"$f":"SUM(I215:I242)","v":5515083.1000000006},{"$f":"SUM(J215:J242)","v":878120.60999999987},{"$f":"SUM(K215:K242)","v":-143084.35},{"$f":"SUM(L215:L242)","v":6250119.3600000013},{"$f":"SUM(M215:M242)","v":10943482.010000002},null,{"$f":"SUM(O215:O242)","v":16989598.555},{"$f":"SUM(P215:P242)","v":5882601.2299999995}]
[null,null,"Less Socialized Renewable Energy Generation Investments (input as negative)Less Socialized Renewable Energy Generation Investments (input as negative)",null,null,null,{"$f":"D244+E244+F244","v":0},null,null,null,null,{"$f":"I244+J244+K244","v":0},{"$f":"G244+L244","v":0}]
[null,null,"Less Other Non Rate-Regulated Utility Assets (input as negative)Less Other Non Rate-Regulated Utility Assets (input as negative)",null,null,null,{"$f":"D245+E245+F245","v":0},null,null,null,null,{"$f":"I245+J245+K245","v":0},{"$f":"G245+L245","v":0}]
[null,null,"Total PP&E",{"$f":"SUM(D243:D245)","v":16785595.740000002},{"$f":"SUM(E243:E245)","v":551089.97999999986},{"$f":"SUM(F243:F245)","v":-143084.35},{"$f":"SUM(G243:G245)","v":17193601.370000005},null,{"$f":"SUM(I243:I245)","v":5515083.1000000006},{"$f":"SUM(J243:J245)","v":878120.60999999987},{"$f":"SUM(K243:K245)","v":-143084.35},{"$f":"SUM(L243:L245)","v":6250119.3600000013},{"$f":"SUM(M243:M245)","v":10943482.010000002}]
[null,null,"Depreciation Expense adj. from gain or loss on the retirement of assets (pool of like assets)"]
[null,null,"Total",null,null,null,null,null,null,{"$f":"J246+J247","v":878120.60999999987}]
[]
[null,null,null,null,null,null,"Less: Fully Allocated Depreciation - enter as negative"]
[10,null,"Transportation",null,null,null,"Transportation"]
[8,null,"Stores Equipment",null,null,null,"Stores Equipment"]
[8,null,"Tools, Shop",null,null,null,"Tools, Shop"]
[8,null,"Meas/Testing",null,null,null,"Meas/Testing"]
[8,null,"Communication",null,null,null,"Communication"]
[null,null,null,null,null,null,"Net Depreciation",null,null,{"$f":"J248+J251+J255+J252+J253+J254","v":878120.60999999987}]
[]
["Incremental Capital Module - Almonte MS#4",null,null,null,"Year ",2020,"IFRS"]
[]
[null,null,null,"Gross Assets",null,null,null,null,null,"Accumulated Depreciation"]
["CCA Class","OEB","Description","Opening Balance","Additions","Disposals","Closing Balance",null,"Opening Balance","Additions (Depr Exp must match 2.9)","Disposals","Closing Balance","Net Book Value",null,"AVG Gross Bal","AVG AccDep"]
[47,"1508-1820","Distribution Station Equipment <50 kV",{"$f":"G202","v":1337463.6499999999},{"$f":"1918546.72-1337463.65","v":581083.07000000007},null,{"$f":"D262+E262+F262","v":1918546.72},null,{"$f":"L202","v":0},23981.83,null,{"$f":"I262+J262+K262","v":23981.83},{"$f":"G262-L262","v":1894564.89},null,{"$f":"AVERAGE(G262,D262)","v":1628005.1850000001},{"$f":"AVERAGE(L262,I262)","v":11990.915000000001}]
[47,"1508-1830","Poles, Towers & Fixtures",17761.649999999998,{"$f":"12619.35+34959.29-17087.03-674.62","v":29816.99},null,47578.64,null,0,{"$f":"140.22+349.59","v":489.80999999999995},null,489.80999999999995,{"$f":"G263-L263","v":47088.83},null,32670.144999999997,244.90499999999997]
[47,"1508-1835","Overhead Conductors & Devices",7673.6,{"$f":"46454.03+15468.65-151.96-7521.64","v":54249.08},null,61922.68,null,0,531.72,null,531.72,61390.96,null,34798.14,265.86]
[47,"1508-1840","Underground Conduit",494.66,{"$f":"10308.64-494.66","v":9813.98},null,10308.64,null,0,103.09,null,103.09,10205.549999999999,null,5401.65,51.545000000000002]
[47,"1508-1845","Underground Conductors & Devices",485.14,{"$f":"760.14-485.14","v":275},null,760.14,null,0,9.5,null,9.5,750.64,null,622.64,4.75]
[47,"1508-1850","Line Transformers",0,9429,null,9429,null,0,{"$f":"117.86","v":117.86},null,117.86,9311.14,null,4714.5,58.93]
[47,"1508-1980","System Supervisory Equipment",0,11207.73,null,11207.73,null,0,{"$f":"560.39","v":560.39},null,560.39,10647.34,null,5603.8649999999998,280.19499999999999]
[null,null,"Sub-Total",{"$f":"SUM(D262:D268)","v":1363878.6999999997},{"$f":"SUM(E262:E268)","v":695874.85},{"$f":"SUM(F262:F268)","v":0},{"$f":"SUM(G262:G268)","v":2059753.5499999996},null,{"$f":"SUM(I262:I268)","v":0},{"$f":"SUM(J262:J268)","v":25794.200000000004},{"$f":"SUM(K262:K268)","v":0},{"$f":"SUM(L262:L268)","v":25794.200000000004},{"$f":"SUM(M262:M268)","v":2033959.3499999999},null,{"$f":"SUM(O262:O268)","v":1711816.1249999998},{"$f":"SUM(P262:P268)","v":12897.100000000002}]
[]
[]
[null,null,null,null,"Year ",2021,"IFRS"]
[]
[null,null,null,"Gross Assets",null,null,null,null,null,"Accumulated Depreciation"]
["CCA Class","OEB","Description","Opening Balance","Additions","Disposals","Closing Balance",null,"Opening Balance","Additions (Depr Exp must match 2.9)","Disposals","Closing Balance","Net Book Value",null,"AVG Gross Bal","AVG AccDep"]
[12,1611,"Computer Software (Formally known as Account 1925)",{"$f":"G215","v":188482.71},194419.95,null,{"$f":"D276+E276+F276","v":382902.66000000003},null,{"$f":"L215","v":173679.19000000003},{"$f":"21105.11+18790.16+1798.22","v":41693.490000000005},null,{"$f":"I276+J276+K276","v":215372.68000000005},{"$f":"G276-L276","v":167529.97999999998},null,{"$f":"AVERAGE(G276,D276)","v":285692.685},{"$f":"AVERAGE(L276,I276)","v":194525.93500000006}]
["CEC",1612,"Land Rights (Formally known as Account 1906 and 1806)",2747.84,null,null,{"$f":"D277+E277+F277","v":2747.84},null,2345,335,null,{"$f":"I277+J277+K277","v":2680},{"$f":"G277-L277","v":67.840000000000146},null,{"$f":"AVERAGE(G277,D277)","v":2747.84},{"$f":"AVERAGE(L277,I277)","v":2512.5}]
["N/A",1805,"Land",258350.32,null,null,{"$f":"D278+E278+F278","v":258350.32},null,0,null,null,{"$f":"I278+J278+K278","v":0},258350.32,null,258350.32,0]
[47,1808,"Buildings",171369.87,null,null,{"$f":"D279+E279+F279","v":171369.87},null,34347.819999999992,5612.11,null,{"$f":"I279+J279+K279","v":39959.929999999993},131409.94,null,171369.87,{"$f":"AVERAGE(L279,I279)+5","v":37158.874999999993}]
[13,1810,"Leasehold Improvements",341494.13,10343.36,null,351837.49,null,100532.42000000001,15278.05,null,115810.47000000002,236027.01999999996,null,346665.81,108171.44500000001]
[47,1820,"Distribution Station Equipment <50 kV",1517825.5300000003,1134,null,1518959.5300000003,null,478903.39999999991,53728.92,null,532632.31999999995,986327.21000000031,null,1518392.5300000003,505767.85999999993]
[47,1830,"Poles, Towers & Fixtures",2821540.25,228352.03,null,3049892.28,null,1073696.8799999999,127614.46,null,1201311.3399999999,1848580.94,null,2935716.2649999997,1137504.1099999999]
[47,1835,"Overhead Conductors & Devices",3890429.82,179105.87,null,4069535.69,null,907217.31,{"$f":"144433.41","v":144433.41},null,1051650.72,3017884.9699999997,null,3979982.7549999999,979434.01500000001]
[47,1840,"Underground Conduit",800125.43,5973.83,null,806099.26,null,468210.38999999996,32195.07,null,500405.45999999996,305693.80000000005,null,803112.34499999997,484307.92499999993]
[47,1845,"Underground Conductors & Devices",1230653.77,55439.44,null,1286093.21,null,223504.92999999996,40786,null,264290.92999999993,1021802.28,null,1258373.49,243897.92999999993]
[47,1850,"Line Transformers",2645955.9900000002,192990.27,null,2838946.2600000002,null,655331.02,102837.93,null,758168.95,2080777.3100000003,null,2742451.125,706749.98499999999]
[null,1850,"Transformer Inventory",405349,null,null,405349,null,0,null,null,0,405349,null,405349,0]
[47,1855,"Services (Overhead)",1645142.1500000001,78455.81,null,1723597.9600000002,null,373693.77,62392.68,null,436086.45,1287511.5100000002,null,1684370.0550000002,404890.11]
[47,"1860-15","Meters",1980951.21,115736.5,null,2096687.71,null,1249535.97,{"$f":"109681.98+26239.23","v":135921.21},null,1385457.18,711230.53,null,2038819.46,1317496.575]
[47,"1860-25","Meters >50",100794.32,null,null,100794.32,null,30892.57,{"$f":"126.76+4193.17","v":4319.93},null,35212.5,65581.820000000007,null,100794.32,33052.535000000003]
[null,1860,"Meter Inventory",56655.959999999992,null,null,56655.959999999992,null,0,null,null,0,56655.959999999992,null,56655.959999999992,0]
[8,1915,"Office Furniture & Equipment (10 years)",50952.1,36560.699999999997,null,87512.799999999988,null,24688.84,6483.48,null,31172.32,56340.479999999989,null,69232.45,27930.58]
[10,"1920-2","Computer Equipment - Hardware",119133.02000000002,141853.26,null,260986.28000000003,null,84913.079999999987,{"$f":"39944.99","v":39944.99},null,124858.06999999998,136128.21000000005,null,190059.65000000002,104885.57499999998]
[10,"1930-8","Transportation Equipment",1508587.9399999997,13602,null,1522189.9399999997,null,838519.35000000009,{"$f":"145477.16","v":145477.16},null,983996.51000000013,538193.42999999959,null,1515388.9399999997,911257.93000000017]
[8,1935,"Stores Equipment",3472.21,null,null,3472.21,null,173.64,347.27,null,520.91,2951.3,null,3472.21,347.27499999999998]
[8,1940,"Tools, Shop & Garage Equipment",92080.48,2000,null,94080.48,null,59243.700000000004,{"$f":"8941.81","v":8941.81},null,68185.510000000009,25894.969999999987,null,93080.48,63714.60500000001]
[8,1945,"Measurement & Testing Equipment",32788.409999999996,null,null,32788.409999999996,null,17605.060000000001,{"$f":"3369.3","v":3369.3},null,20974.36,11814.049999999996,null,32788.409999999996,19289.71]
[8,1955,"Communications Equipment",26170.959999999999,null,null,26170.959999999999,null,26170.95,null,null,26170.95,9.9999999983992893E-3,null,26170.959999999999,26170.95]
[8,1960,"Miscellaneous Equipment ",13997.8,null,null,13997.8,null,8597.75,1460.3,null,10058.049999999999,3939.75,null,13997.8,9327.9]
[47,1980,"System Supervisor Equipment",54218.119999999995,null,null,54218.119999999995,null,49404.29,3190.34,null,52594.630000000005,1623.4899999999907,null,54218.119999999995,50999.460000000006]
[47,1995,"Contributions & Grants",-1526788.8,null,null,-1526788.8,null,-498271.69999999995,-71181.67,null,-569453.37,-957335.43,null,-1526788.8,-533862.53499999992]
[47,2440,"Deferred Revenues",-1238879.17,-194750,null,-1433629.17,null,-132816.26999999999,-32556.36,null,-165372.63,-1268256.54,null,-1336254.17,-149094.45000000001]
[null,null,null,null,null,null,{"$f":"D303+E303+F303","v":0},null,null,null,null,0,0,null,0,0]
[null,null,"Sub-Total",{"$f":"SUM(D276:D303)","v":17193601.370000005},{"$f":"SUM(E276:E303)","v":1061217.02},{"$f":"SUM(F276:F303)","v":0},{"$f":"SUM(G276:G303)","v":18254818.390000008},null,{"$f":"SUM(I276:I303)","v":6250119.3600000013},{"$f":"SUM(J276:J303)","v":872624.88000000024},{"$f":"SUM(K276:K303)","v":0},{"$f":"SUM(L276:L303)","v":7122744.2400000002},{"$f":"SUM(M276:M303)","v":11132074.150000006},null,{"$f":"SUM(O276:O303)","v":17724209.880000003},{"$f":"SUM(P276:P303)","v":6686436.8000000026}]
[null,null,"Less Socialized Renewable Energy Generation Investments (input as negative)Less Socialized Renewable Energy Generation Investments (input as negative)",null,null,null,{"$f":"D305+E305+F305","v":0},null,null,null,null,{"$f":"I305+J305+K305","v":0},{"$f":"G305+L305","v":0}]
[null,null,"Less Other Non Rate-Regulated Utility Assets (input as negative)Less Other Non Rate-Regulated Utility Assets (input as negative)",null,null,null,{"$f":"D306+E306+F306","v":0},null,null,null,null,{"$f":"I306+J306+K306","v":0},{"$f":"G306+L306","v":0}]
[null,null,"Total PP&E",{"$f":"SUM(D304:D306)","v":17193601.370000005},{"$f":"SUM(E304:E306)","v":1061217.02},{"$f":"SUM(F304:F306)","v":0},{"$f":"SUM(G304:G306)","v":18254818.390000008},null,{"$f":"SUM(I304:I306)","v":6250119.3600000013},{"$f":"SUM(J304:J306)","v":872624.88000000024},{"$f":"SUM(K304:K306)","v":0},{"$f":"SUM(L304:L306)","v":7122744.2400000002},{"$f":"SUM(M304:M306)","v":11132074.150000006}]
[null,null,"Depreciation Expense adj. from gain or loss on the retirement of assets (pool of like assets)"]
[null,null,"Total",null,null,null,null,null,null,{"$f":"J307+J308","v":872624.88000000024}]
[]
[null,null,null,null,null,null,"Less: Fully Allocated Depreciation"]
[10,null,"Transportation",null,null,null,"Transportation"]
[8,null,"Stores Equipment",null,null,null,"Stores Equipment"]
[8,null,"Tools, Shop",null,null,null,"Tools, Shop"]
[8,null,"Meas/Testing",null,null,null,"Meas/Testing"]
[8,null,"Communication",null,null,null,"Communication"]
[null,null,null,null,null,null,"Net Depreciation",null,null,{"$f":"J309+J312+J316+J313+J314+J315","v":872624.88000000024}]
[]
["Incremental Capital Module - Almonte MS#4",null,null,null,"Year ",2021,"IFRS"]
[]
[null,null,null,"Gross Assets",null,null,null,null,null,"Accumulated Depreciation"]
["CCA Class","OEB","Description","Opening Balance","Additions","Disposals","Closing Balance",null,"Opening Balance","Additions (Depr Exp must match 2.9)","Disposals","Closing Balance","Net Book Value",null,"AVG Gross Bal","AVG AccDep"]
[47,"1508-1820","Distribution Station Equipment <50 kV",{"$f":"G262","v":1918546.72},null,null,{"$f":"D323+E323+F323","v":1918546.72},null,{"$f":"L262","v":23981.83},{"$f":"47963.67","v":47963.67},null,{"$f":"I323+J323+K323","v":71945.5},{"$f":"G323-L323","v":1846601.22},null,{"$f":"AVERAGE(G323,D323)","v":1918546.72},{"$f":"AVERAGE(L323,I323)","v":47963.665000000001}]
[47,"1508-1830","Poles, Towers & Fixtures",47578.64,null,null,47578.64,null,489.80999999999995,{"$f":"280.43+699.19","v":979.62000000000012},null,1469.43,{"$f":"G324-L324","v":46109.21},null,47578.64,979.62]
[47,"1508-1835","Overhead Conductors & Devices",61922.68,null,null,61922.68,null,531.72,{"$f":"696.81+92.91+11.61+17.19+244.92","v":1063.44},null,1595.16,60327.519999999997,null,61922.68,1063.44]
[47,"1508-1840","Underground Conduit",10308.64,null,null,10308.64,null,103.09,{"$f":"206.17","v":206.17},null,309.26,9999.3799999999992,null,10308.64,206.17500000000001]
[47,"1508-1845","Underground Conductors & Devices",760.14,null,null,760.14,null,9.5,{"$f":"19","v":19},null,28.5,731.64,null,760.14,19]
[47,"1508-1850","Line Transformers",9429,null,null,9429,null,117.86,235.73,null,353.59,9075.41,null,9429,235.72499999999999]
[47,"1508-1980","System Supervisory Equipment",11207.73,null,null,11207.73,null,560.39,1120.77,null,1681.1599999999999,9526.57,null,11207.73,1120.7749999999999]
[null,null,"Sub-Total",{"$f":"SUM(D323:D329)","v":2059753.5499999996},{"$f":"SUM(E323:E329)","v":0},{"$f":"SUM(F323:F329)","v":0},{"$f":"SUM(G323:G329)","v":2059753.5499999996},null,{"$f":"SUM(I323:I329)","v":25794.200000000004},{"$f":"SUM(J323:J329)","v":51588.4},{"$f":"SUM(K323:K329)","v":0},{"$f":"SUM(L323:L329)","v":77382.599999999991},{"$f":"SUM(M323:M329)","v":1982370.9499999997},null,{"$f":"SUM(O323:O329)","v":2059753.5499999996},{"$f":"SUM(P323:P329)","v":51588.400000000009}]
[]
[]
[null,"ICM Closing Balance from 2021 added to 2022 Opening Balances",null,null,"Year ",2022,"IFRS"]
[]
[null,null,null,"Gross Assets",null,null,null,null,null,"Accumulated Depreciation"]
["CCA Class","OEB","Description","Opening Balance","Additions","Disposals","Closing Balance",null,"Opening Balance","Additions (Depr Exp must match 2.9)","Disposals","Closing Balance","Net Book Value",null,"AVG Gross Bal","AVG AccDep"]
[12,1611,"Computer Software (Formally known as Account 1925)",{"$f":"G276","v":382902.66000000003},55000,null,{"$f":"D337+E337+F337","v":437902.66000000003},null,{"$f":"L276","v":215372.68000000005},78574.460000000006,null,{"$f":"I337+J337+K337","v":293947.14000000007},{"$f":"G337-L337","v":143955.51999999996},null,{"$f":"AVERAGE(G337,D337)","v":410402.66000000003},{"$f":"AVERAGE(L337,I337)","v":254659.91000000006}]
["CEC",1612,"Land Rights (Formally known as Account 1906 and 1806)",{"$f":"G277","v":2747.84},null,null,{"$f":"D338+E338+F338","v":2747.84},null,{"$f":"L277","v":2680},67.84,null,{"$f":"I338+J338+K338","v":2747.84},{"$f":"G338-L338","v":0},null,{"$f":"AVERAGE(G338,D338)","v":2747.84},{"$f":"AVERAGE(L338,I338)","v":2713.92}]
["N/A",1805,"Land",{"$f":"G278","v":258350.32},null,null,{"$f":"D339+E339+F339","v":258350.32},null,{"$f":"L278","v":0},null,null,{"$f":"I339+J339+K339","v":0},258350.32,null,258350.32,{"$f":"AVERAGE(L339,I339)","v":0}]
[47,1808,"Buildings",{"$f":"G279","v":171369.87},null,null,{"$f":"D340+E340+F340","v":171369.87},null,{"$f":"L279","v":39959.929999999993},5612.11,null,{"$f":"I340+J340+K340","v":45572.039999999994},125797.83,null,171369.87,{"$f":"AVERAGE(L340,I340)+5","v":42770.984999999993}]
[13,1810,"Leasehold Improvements",{"$f":"G280","v":351837.49},42000,null,393837.49,null,{"$f":"L280","v":115810.47000000002},16306.6,null,132117.07,261720.41999999998,null,372837.49,{"$f":"AVERAGE(L341,I341)","v":123963.77000000002}]
[47,1820,"Distribution Station Equipment <50 kV",{"$f":"G281+G384","v":1518959.5300000003},810000,null,2328959.5300000003,null,{"$f":"L281+L323","v":604577.81999999995},103570.2,null,708148.0199999999,1620811.5100000002,null,1923959.5300000003,656362.91999999993]
[47,1830,"Poles, Towers & Fixtures",3049892.28,370975.75,null,3420868.03,null,1202780.7699999998,120447.99,null,1323228.7599999998,2097639.27,null,3235380.1549999998,1263004.7649999997]
[47,1835,"Overhead Conductors & Devices",4069535.69,239691.5,null,4309227.1899999995,null,1053245.8799999999,149108.98000000001,null,1202354.8599999999,3106872.3299999996,null,4189381.4399999995,1127800.3699999999]
[47,1840,"Underground Conduit",806099.26,59970.29,null,866069.55,null,500714.72,29748.78,null,530463.5,335606.05000000005,null,836084.40500000003,515589.11]
[47,1845,"Underground Conductors & Devices",1286093.21,154432.64000000001,null,1440525.85,null,264319.42999999993,43409.41,null,307728.83999999997,1132797.0100000002,null,1363309.53,286024.13499999995]
[47,1850,"Line Transformers",2838946.2600000002,311611.99,null,3150558.25,null,758522.53999999992,104893,null,863415.53999999992,2287142.71,null,2994752.2549999999,810969.03999999992]
[null,1850,"Transformer Inventory",{"$f":"G287","v":405349},null,null,405349,null,{"$f":"L287","v":0},null,null,0,405349,null,405349,0]
[47,1855,"Services (Overhead)",1723597.9600000002,80918.149999999994,null,1804516.11,null,436086.45,63720.800000000003,null,499807.25,1304708.8600000001,null,1764057.0350000001,467946.85]
[47,"1860-15","Meters",2096687.71,113530.89,null,2210218.6,null,1385457.18,139820.35,null,1525277.53,684941.07000000007,null,2153453.1550000003,1455367.355]
[47,"1860-25","Meters >50",100794.32,null,null,100794.32,null,35212.5,4264.33,null,39476.83,61317.490000000005,null,100794.32,37344.665000000001]
[null,1860,"Meter Inventory",56655.959999999992,null,null,56655.959999999992,null,0,null,null,0,56655.959999999992,null,56655.959999999992,0]
[8,1915,"Office Furniture & Equipment (10 years)",87512.799999999988,5000,null,92512.799999999988,null,31172.32,8432.9,null,39605.22,52907.579999999987,null,90012.799999999988,35388.770000000004]
[10,"1920-2","Computer Equipment - Hardware",260986.28000000003,11000,null,271986.28000000003,null,124858.06999999998,62274.79,null,187132.86,84853.420000000042,null,266486.28000000003,155995.46499999997]
[10,"1930-8","Transportation Equipment",1522189.9399999997,5000,null,1527189.9399999997,null,983996.51000000013,119641.57,null,1103638.08,423551.85999999964,null,1524689.9399999997,1043817.2950000002]
[8,1935,"Stores Equipment",3472.21,null,null,3472.21,null,520.91,347.27,null,868.18,2604.0300000000002,null,3472.21,694.54499999999996]
[8,1940,"Tools, Shop & Garage Equipment",94080.48,2000,null,96080.48,null,68185.510000000009,8266.2000000000007,null,76451.710000000006,19628.76999999999,null,95080.48,72318.610000000015]
[8,1945,"Measurement & Testing Equipment",32788.409999999996,19210,null,51998.409999999996,null,20974.36,4329.8,null,25304.16,26694.249999999996,null,42393.409999999996,23139.260000000002]
[8,1955,"Communications Equipment",26170.959999999999,null,null,26170.959999999999,null,26170.95,null,null,26170.95,9.9999999983992893E-3,null,26170.959999999999,26170.95]
[8,1960,"Miscellaneous Equipment ",13997.8,null,null,13997.8,null,10058.049999999999,1460.3,null,11518.349999999999,2479.4500000000007,null,13997.8,10788.199999999999]
[47,1980,"System Supervisor Equipment",{"$f":"G300+G390","v":54218.119999999995},45000,null,99218.12,null,{"$f":"L300+L329","v":54275.790000000008},4453.1000000000004,null,58728.890000000007,40489.229999999989,null,76718.12,56502.340000000011]
[47,1995,"Contributions & Grants",{"$f":"G301","v":-1526788.8},null,null,-1526788.8,null,{"$f":"L301","v":-569453.37},-71181.67,null,-640635.04,-886153.76,null,-1526788.8,-605044.20500000007]
[47,2440,"Deferred Revenues",{"$f":"G302","v":-1433629.17},-423652,null,-1857281.17,null,{"$f":"L302","v":-165372.63},-40286.379999999997,null,-205659.01,-1651622.16,null,-1645455.17,-185515.82]
[null,null,null,null,null,null,{"$f":"D364+E364+F364","v":0},null,null,null,null,0,0,null,0,0]
[null,null,"Sub-Total",{"$f":"SUM(D337:D364)","v":18254818.390000008},{"$f":"SUM(E337:E364)","v":1901689.2100000004},{"$f":"SUM(F337:F364)","v":0},{"$f":"SUM(G337:G364)","v":20156507.600000009},null,{"$f":"SUM(I337:I364)","v":7200126.8399999999},{"$f":"SUM(J337:J364)","v":957282.73000000021},{"$f":"SUM(K337:K364)","v":0},{"$f":"SUM(L337:L364)","v":8157409.5699999994},{"$f":"SUM(M337:M364)","v":11999098.029999997},null,{"$f":"SUM(O337:O364)","v":19205662.995000005},{"$f":"SUM(P337:P364)","v":7678773.2049999963},{"$f":"SUM(O365:P365)","v":26884436.200000003}]
[null,null,"Less Socialized Renewable Energy Generation Investments (input as negative)Less Socialized Renewable Energy Generation Investments (input as negative)",null,null,null,{"$f":"D366+E366+F366","v":0},null,null,null,null,{"$f":"I366+J366+K366","v":0},{"$f":"G366+L366","v":0}]
[null,null,"Less Other Non Rate-Regulated Utility Assets (input as negative)Less Other Non Rate-Regulated Utility Assets (input as negative)",null,null,null,{"$f":"D367+E367+F367","v":0},null,null,null,null,{"$f":"I367+J367+K367","v":0},{"$f":"G367+L367","v":0}]
[null,null,"Total PP&E",{"$f":"SUM(D365:D367)","v":18254818.390000008},{"$f":"SUM(E365:E367)","v":1901689.2100000004},{"$f":"SUM(F365:F367)","v":0},{"$f":"SUM(G365:G367)","v":20156507.600000009},null,{"$f":"SUM(I365:I367)","v":7200126.8399999999},{"$f":"SUM(J365:J367)","v":957282.73000000021},{"$f":"SUM(K365:K367)","v":0},{"$f":"SUM(L365:L367)","v":8157409.5699999994},{"$f":"SUM(M365:M367)","v":11999098.029999997}]
[null,null,"Depreciation Expense adj. from gain or loss on the retirement of assets (pool of like assets)"]
[null,null,"Total",null,null,null,null,null,null,{"$f":"J368+J369","v":957282.73000000021}]
[]
[null,null,null,null,null,null,"Less: Fully Allocated Depreciation"]
[10,null,"Transportation",null,null,null,"Transportation"]
[8,null,"Stores Equipment",null,null,null,"Stores Equipment"]
[8,null,"Tools, Shop",null,null,null,"Tools, Shop"]
[8,null,"Meas/Testing",null,null,null,"Meas/Testing"]
[8,null,"Communication",null,null,null,"Communication"]
[null,null,null,null,null,null,"Net Depreciation",null,null,{"$f":"J370+J373+J377+J374+J375+J376","v":957282.73000000021}]
[]
["Incremental Capital Module - Almonte MS#4",null,null,null,"Year ",2022,"IFRS"]
[]
[null,null,null,"Gross Assets",null,null,null,null,null,"Accumulated Depreciation"]
["CCA Class","OEB","Description","Opening Balance","Additions","Disposals","Closing Balance",null,"Opening Balance","Additions (Depr Exp must match 2.9)","Disposals","Closing Balance","Net Book Value",null,"AVG Gross Bal","AVG AccDep"]
[47,"1508-1820","Distribution Station Equipment <50 kV",{"$f":"G323","v":1918546.72},null,-1918546.72,{"$f":"D384+E384+F384","v":0},null,{"$f":"L323","v":71945.5},null,-71945.5,{"$f":"I384+J384+K384","v":0},{"$f":"G384-L384","v":0},null,{"$f":"AVERAGE(G384,D384)","v":959273.36},{"$f":"AVERAGE(L384,I384)","v":35972.75}]
[47,"1508-1830","Poles, Towers & Fixtures",47578.64,null,-47578.64,0,null,1469.43,null,-1469.43,0,{"$f":"G385-L385","v":0},null,23789.32,734.71500000000003]
[47,"1508-1835","Overhead Conductors & Devices",61922.68,null,-61922.68,0,null,1595.16,null,-1595.16,0,0,null,30961.34,797.58]
[47,"1508-1840","Underground Conduit",10308.64,null,-10308.64,0,null,309.26,null,-309.26,0,0,null,5154.32,154.63]
[47,"1508-1845","Underground Conductors & Devices",760.14,null,-760.14,0,null,28.5,null,-28.5,0,0,null,380.07,14.25]
[47,"1508-1850","Line Transformers",9429,null,-9429,0,null,353.59,null,-353.59,0,0,null,4714.5,176.79499999999999]
[47,"1508-1980","System Supervisory Equipment",11207.73,null,-11207.73,0,null,1681.1599999999999,null,-1681.16,0,0,null,5603.8649999999998,840.57999999999993]
[null,null,"Sub-Total",{"$f":"SUM(D384:D390)","v":2059753.5499999996},{"$f":"SUM(E384:E390)","v":0},{"$f":"SUM(F384:F390)","v":-2059753.5499999996},{"$f":"SUM(G384:G390)","v":0},null,{"$f":"SUM(I384:I390)","v":77382.599999999991},{"$f":"SUM(J384:J390)","v":0},{"$f":"SUM(K384:K390)","v":-77382.599999999991},{"$f":"SUM(L384:L390)","v":0},{"$f":"SUM(M384:M390)","v":0},null,{"$f":"SUM(O384:O390)","v":1029876.7749999998},{"$f":"SUM(P384:P390)","v":38691.299999999996}]

{"sheet":"Appendix 2-BB Service Life  ","index":11,"n_rows":107,"n_cols":17,"rows_kept":107,"cut":false,"hidden":false,"merged":[[106,1,106,2],[0,15,0,16],[1,15,1,16],[2,15,2,16],[3,15,3,16],[4,15,4,16],[6,15,6,16],[14,11,14,12],[14,13,14,14],[31,2,31,4],[14,2,14,4],[14,5,14,7],[14,9,15,9],[14,10,15,10],[8,0,8,16],[9,0,9,16],[10,0,10,16],[14,15,14,16],[15,2,15,4],[35,3,35,4],[36,2,36,4],[37,2,37,4],[16,0,32,0],[16,1,18,1],[16,2,18,2],[16,3,16,4],[17,3,18,3],[25,2,25,4],[26,2,26,4],[27,2,27,4],[28,2,28,4],[29,2,29,4],[30,2,30,4],[19,1,21,1],[19,2,21,2],[19,3,19,4],[20,3,21,3],[22,1,24,1],[22,2,24,2],[22,3,22,4],[23,3,24,3],[32,2,32,4],[48,2,48,4],[56,2,56,4],[57,1,58,1],[57,2,58,2],[57,3,57,4],[58,3,58,4],[38,1,40,1],[38,2,40,2],[38,3,38,4],[39,3,39,4],[40,3,40,4],[41,1,42,1],[41,3,41,4],[42,3,42,4],[59,2,59,4],[49,2,49,4],[50,0,68,0],[50,2,50,4],[51,2,51,4],[52,2,52,4],[53,2,53,4],[54,2,54,4],[55,2,55,4],[64,2,64,4],[65,2,65,4],[66,2,66,4],[67,2,67,4],[68,2,68,4],[33,0,49,0],[33,1,35,1],[33,2,35,2],[33,3,33,4],[34,3,34,4],[43,2,43,4],[44,2,44,4],[45,2,45,4],[46,2,46,4],[47,2,47,4],[72,0,72,7],[74,2,74,4],[74,5,75,7],[74,9,75,9],[78,6,78,7],[79,3,79,4],[79,6,79,7],[69,2,69,4],[60,2,60,4],[61,2,61,4],[62,1,63,1],[62,2,63,2],[62,3,62,4],[63,3,63,4],[77,1,79,1],[77,2,79,2],[77,3,77,4],[80,2,80,4],[80,6,80,7],[81,2,81,4],[81,5,81,7],[74,13,74,14],[74,15,74,16],[75,2,75,4],[76,2,76,4],[76,6,76,7],[74,10,75,10],[74,11,74,12],[77,6,77,7],[78,3,78,4],[86,1,87,1],[86,2,87,2],[86,3,86,4],[86,6,86,7],[87,3,87,4],[87,6,87,7],[82,1,85,1],[82,2,85,2],[82,3,82,4],[82,6,82,7],[83,3,83,4],[83,6,83,7],[84,3,84,4],[84,6,84,7],[85,3,85,4],[85,6,85,7],[88,1,91,1],[88,2,91,2],[88,3,88,4],[88,6,88,7],[89,3,89,4],[89,6,89,7],[90,3,90,4],[90,6,90,7],[91,3,91,4],[91,6,91,7],[94,2,94,4],[94,6,94,7],[95,2,95,4],[95,6,95,7],[96,2,96,4],[96,6,96,7],[92,1,93,1],[92,2,93,2],[92,3,92,4],[92,6,92,7],[93,3,93,4],[93,6,93,7],[100,2,100,4],[100,6,100,7],[103,0,103,7],[97,2,97,4],[97,6,97,7],[98,2,98,4],[98,6,98,7],[99,2,99,4],[99,6,99,7]]}
[null,null,null,null,null,null,null,null,null,null,null,null,null,"File Number:",null,{"$f":"'LDC Info'!E16","v":"EB-2021-0052"}]
[null,null,null,null,null,null,null,null,null,null,null,null,null,"Exhibit:"]
[null,null,null,null,null,null,null,null,null,null,null,null,null,"Tab:"]
[null,null,null,null,null,null,null,null,null,null,null,null,null,"Schedule:"]
[null,null,null,null,null,null,null,null,null,null,null,null,null,"Page:"]
[]
[null,null,null,null,null,null,null,null,null,null,null,null,null,"Date:"]
[]
["Appendix 2-BB"]
["Service Life Comparison"]
["Table F-1 from Kinetrics Report1"]
[]
[]
[]
[null,null,"Asset Details",null,null,"Useful Life",null,null,null,"USoA Account Number","USoA Account Description","Current",null,"Proposed",null,"Outside Range of Min, Max TUL?"]
["Parent*","#","Category| Component | Type",null,null,"MIN UL","TUL","MAX UL",null,null,null,"Years","Rate","Years","Rate","Below Min TUL","Above Max TUL"]
["OH",1,"Fully Dressed Wood Poles","Overall",null,35,45,75,null,1830,"Poles, Towers and Fixtures",45,{"$f":"IF(ISERROR(1/L17), \"\", 1/L17)","v":2.2222222222222223E-2},45,{"$f":"IF(ISERROR(1/N17), \"\", 1/N17)","v":2.2222222222222223E-2},{"$f":"IF(ISBLANK(N17),\"\",IF(N17<F17,\"Yes\",\"No\"))","v":"No"},{"$f":"IF(ISBLANK(N17),\"\",IF(N17>H17,\"Yes\",\"No\"))","v":"No"}]
[null,null,null,"Cross Arm","Wood",20,40,55,null,1830,"Poles, Towers and Fixtures",45,{"$f":"IF(ISERROR(1/L18), \"\", 1/L18)","v":2.2222222222222223E-2},45,{"$f":"IF(ISERROR(1/N18), \"\", 1/N18)","v":2.2222222222222223E-2},{"$f":"IF(ISBLANK(N18),\"\",IF(N18<F18,\"Yes\",\"No\"))","v":"No"},{"$f":"IF(ISBLANK(N18),\"\",IF(N18>H18,\"Yes\",\"No\"))","v":"No"}]
[null,null,null,null,"Steel",30,70,95,null,1830,"Poles, Towers and Fixtures",45,2.2222222222222223E-2,45,2.2222222222222223E-2,"No","No"]
[null,2,"Fully Dressed Concrete Poles","Overall",null,50,60,80,null,1830,"Poles, Towers and Fixtures",60,1.6666666666666666E-2,60,1.6666666666666666E-2,"No","No"]
[null,null,null,"Cross Arm","Wood",20,40,55,null,1830,"Poles, Towers and Fixtures",40,2.5000000000000001E-2,40,2.5000000000000001E-2,"No","No"]
[null,null,null,null,"Steel",30,70,95,null,1830,"Poles, Towers and Fixtures",60,1.6666666666666666E-2,60,1.6666666666666666E-2,"No","No"]
[null,3,"Fully Dressed Steel Poles","Overall",null,60,60,80,null,1830,"Poles, Towers and Fixtures",60,1.6666666666666666E-2,60,1.6666666666666666E-2,"No","No"]
[null,null,null,"Cross Arm","Wood",20,40,55,null,1830,"Poles, Towers and Fixtures",40,2.5000000000000001E-2,40,2.5000000000000001E-2,"No","No"]
[null,null,null,null,"Steel",30,70,95,null,1830,"Poles, Towers and Fixtures",60,1.6666666666666666E-2,60,1.6666666666666666E-2,"No","No"]
[null,4,"OH Line Switch",null,null,30,45,55,null,1835,"Overhead Conductors & Fixtures",45,2.2222222222222223E-2,45,2.2222222222222223E-2,"No","No"]
[null,5,"OH Line Switch Motor",null,null,15,25,25,null,1835,"Overhead Conductors & Fixtures",25,0.04,25,0.04,"No","No"]
[null,6,"OH Line Switch RTU",null,null,15,20,20,null,1835,"Overhead Conductors & Fixtures",20,0.05,20,0.05,"No","No"]
[null,7,"OH Integral Switches",null,null,35,45,60,null,1835,"Overhead Conductors & Fixtures",45,2.2222222222222223E-2,45,2.2222222222222223E-2,"No","No"]
[null,8,"OH Conductors",null,null,50,60,75,null,1835,"Overhead Conductors & Fixtures",60,1.6666666666666666E-2,60,1.6666666666666666E-2,"No","No"]
[null,9,"OH Transformers & Voltage Regulators",null,null,30,40,60,null,1850,"Line Transformers ",40,2.5000000000000001E-2,40,2.5000000000000001E-2,"No","No"]
[null,10,"OH Shunt Capacitor Banks",null,null,25,30,40,null,"N/A",null,null,"",null,"","",""]
[null,11,"Reclosers",null,null,25,40,55,null,"N/A",null,null,"",null,"","",""]
["TS & MS",12,"Power Transformers","Overall",null,30,45,60,null,1850," Line Transformers",40,2.5000000000000001E-2,40,2.5000000000000001E-2,"No","No"]
[null,null,null,"Bushing",null,10,20,30,null,null,null,null,"",null,"","",""]
[null,null,null,"Tap Changer",null,20,30,60,null,null,null,null,"",null,"","",""]
[null,13,"Station Service Transformer",null,null,30,45,55,null,null,null,null,"",null,"","",""]
[null,14,"Station Grounding Transformer",null,null,30,40,40,null,1820,"Distribution Station Equipment ",40,2.5000000000000001E-2,40,2.5000000000000001E-2,"No","No"]
[null,15,"Station DC System","Overall",null,10,20,30,null,1820,"Distribution Station Equipment ",20,0.05,20,0.05,"No","No"]
[null,null,null,"Battery Bank",null,10,15,15,null,1820,"Distribution Station Equipment ",15,6.6666666666666666E-2,15,6.6666666666666666E-2,"No","No"]
[null,null,null,"Charger",null,20,20,30,null,1820,"Distribution Station Equipment ",20,0.05,20,0.05,"No","No"]
[null,16,"Station Metal Clad Switchgear","Overall",null,30,40,60,null,1820,"Distribution Station Equipment ",40,2.5000000000000001E-2,40,2.5000000000000001E-2,"No","No"]
[null,null,null,"Removable Breaker",null,25,40,60,null,null,null,null,"",null,"","",""]
[null,17,"Station Independent Breakers",null,null,35,45,65,null,1820,"Distribution Station Equipment ",45,2.2222222222222223E-2,45,2.2222222222222223E-2,"No","No"]
[null,18,"Station Switch",null,null,30,50,60,null,1820,"Distribution Station Equipment ",50,0.02,50,0.02,"No","No"]
[null,19,"Electromechanical Relays",null,null,25,35,50,null,1820,"Distribution Station Equipment ",35,2.8571428571428571E-2,35,2.8571428571428571E-2,"No","No"]
[null,20,"Solid State Relays",null,null,10,30,45,null,1820,"Distribution Station Equipment ",30,3.3333333333333333E-2,30,3.3333333333333333E-2,"No","No"]
[null,21,"Digital & Numeric Relays",null,null,15,20,20,null,1820,"Distribution Station Equipment ",20,0.05,20,0.05,"No","No"]
[null,22,"Rigid Busbars",null,null,30,55,60,null,1820,"Distribution Station Equipment ",55,1.8181818181818181E-2,55,1.8181818181818181E-2,"No","No"]
[null,23,"Steel Structure",null,null,35,50,90,null,1820,"Distribution Station Equipment ",50,0.02,50,0.02,"No","No"]
["UG",24,"Primary Paper Insulated Lead Covered (PILC) Cables",null,null,60,65,75,null,"N/A",null,null,"",null,"","",""]
[null,25,"Primary Ethylene-Propylene Rubber (EPR) Cables",null,null,20,25,25,null,1845,"Underground Conductors & Devices ",25,0.04,25,0.04,"No","No"]
[null,26,"Primary Non-Tree Retardant (TR) Cross Linked \nPolyethylene (XLPE) Cables Direct Buried",null,null,20,25,30,null,1845,"Underground Conductors & Devices ",25,0.04,25,0.04,"No","No"]
[null,27,"Primary Non-TR XLPE Cables in Duct",null,null,20,25,30,null,1845,"Underground Conductors & Devices ",25,0.04,25,0.04,"No","No"]
[null,30,"Secondary PILC Cables",null,null,70,75,80,null,null,null,null,"",null,"","",""]
[null,31,"Secondary Cables Direct Buried",null,null,25,35,40,null,1855,"Services ",35,2.8571428571428571E-2,35,2.8571428571428571E-2,"No","No"]
[null,32,"Secondary Cables in Duct",null,null,35,40,60,null,1855,"Services ",40,2.5000000000000001E-2,40,2.5000000000000001E-2,"No","No"]
[null,33,"Network Tranformers","Overall",null,20,35,50,null,null,null,null,"",null,"","",""]
[null,null,null,"Protector",null,20,35,40,null,null,null,null,"",null,"","",""]
[null,34,"Pad-Mounted Transformers",null,null,25,40,45,null,1850,"Line Transformers ",40,2.5000000000000001E-2,40,2.5000000000000001E-2,"No","No"]
[null,35,"Submersible/Vault Transformers",null,null,25,35,45,null,1850,"Line Transformers ",35,2.8571428571428571E-2,35,2.8571428571428571E-2,"No","No"]
[null,36,"UG Foundation",null,null,35,55,70,null,1840,"Underground Conduit ",55,1.8181818181818181E-2,55,1.8181818181818181E-2,"No","No"]
[null,37,"UG Vaults","Overall",null,40,60,80,null,null,null,null,"",null,"","",""]
[null,null,null,"Roof",null,20,30,45,null,null,null,null,"",null,"","",""]
[null,38,"UG Vault Switches",null,null,20,35,50,null,1845,"Underground Conductors & Devices ",35,2.8571428571428571E-2,35,2.8571428571428571E-2,"No","No"]
[null,39,"Pad-Mounted Switchgear",null,null,20,30,45,null,1845,"Underground Conductors & Devices ",30,3.3333333333333333E-2,30,3.3333333333333333E-2,"No","No"]
[null,40,"Ducts",null,null,30,50,85,null,1840,"Underground Conduit",50,0.02,50,0.02,"No","No"]
[null,41,"Concrete Encased Duct Banks",null,null,35,55,80,null,1840,"Underground Conduit",55,1.8181818181818181E-2,55,1.8181818181818181E-2,"No","No"]
[null,42,"Cable Chambers",null,null,50,60,80,null,1840,"Underground Conduit",60,1.6666666666666666E-2,60,1.6666666666666666E-2,"No","No"]
["S",43,"Remote SCADA",null,null,15,20,30,null,null,null,null,"",null,"","",""]
[]
[]
["Table F-2 from Kinetrics Report1"]
[]
[null,null,"Asset Details",null,null,"Useful Life Range",null,null,null,"USoA Account Number","USoA Account Description","Current",null,"Proposed",null,"Outside Range of Min, Max TUL?"]
[null,"#","Category| Component | Type",null,null,null,null,null,null,null,null,"Years","Rate","Years","Rate","Below Min Range","Above Max Range"]
[null,1,"Office Equipment",null,null,5,15,null,null,1915,"Office Furiniture & Equipment ",8,{"$f":"IF(ISERROR(1/L77), \"\", 1/L77)","v":0.125},8,{"$f":"IF(ISERROR(1/N77), \"\", 1/N77)","v":0.125},{"$f":"IF(ISBLANK(N77),\"\",IF(N77<F77,\"Yes\",\"No\"))","v":"No"},{"$f":"IF(ISBLANK(N77),\"\",IF(N77>G77,\"Yes\",\"No\"))","v":"No"}]
[null,2,"Vehicles","Trucks & Buckets",null,5,15,null,null,1930,"Transportation Equipment ",12,{"$f":"IF(ISERROR(1/L78), \"\", 1/L78)","v":8.3333333333333329E-2},12,{"$f":"IF(ISERROR(1/N78), \"\", 1/N78)","v":8.3333333333333329E-2},{"$f":"IF(ISBLANK(N78),\"\",IF(N78<F78,\"Yes\",\"No\"))","v":"No"},{"$f":"IF(ISBLANK(N78),\"\",IF(N78>G78,\"Yes\",\"No\"))","v":"No"}]
[null,null,null,"Trailers",null,5,20,null,null,1930,"Transportation Equipment ",10,0.1,10,0.1,"No","No"]
[null,null,null,"Vans",null,5,10,null,null,1930,"Transportation Equipment ",5,0.2,5,0.2,"No","No"]
[null,3,"Administrative Buildings",null,null,50,75,null,null,"200/201","Building & Fixtures ",60,1.6666666666666666E-2,60,1.6666666666666666E-2,"No","No"]
[null,4,"Leasehold Improvements",null,null,"Lease dependent",null,null,null,null,null,null,"",null,"",{"$f":"IF(ISBLANK(N82),\"\",IF(N82<F82,\"Yes\",\"No\"))","v":""},{"$f":"IF(ISBLANK(N82),\"\",IF(N82>G82,\"Yes\",\"No\"))","v":""}]
[null,5,"Station Buildings","Station Buildings",null,50,75,null,null,1808,"Building & Fixtures",60,1.6666666666666666E-2,60,1.6666666666666666E-2,"No","No"]
[null,null,null,"Parking",null,25,30,null,null,1808,"Building & Fixtures",25,0.04,25,0.04,"No","No"]
[null,null,null,"Fence",null,25,60,null,null,1808,"Building & Fixtures",25,0.04,25,0.04,"No","No"]
[null,null,null,"Roof",null,20,30,null,null,1808,"Building & Fixtures",25,0.04,25,0.04,"No","No"]
[null,6,"Computer Equipment","Hardware",null,3,5,null,null,1920,"Computer Equipment - Hardware",5,0.2,5,0.2,"No","No"]
[null,null,null,"Software",null,2,5,null,null,1925,"Computer Equipment - Software",5,0.2,5,0.2,"No","No"]
[null,7,"Equipment","Power Operated",null,5,10,null,null,null,null,null,"",null,"","",""]
[null,null,null,"Stores",null,5,10,null,null,1935,"Stores, Equipment ",8,0.125,8,0.125,"No","No"]
[null,null,null,"Tools, Shop, Garage Equipment",null,5,10,null,null,1940,"Tools, Shops Garage Equipment ",8,0.125,8,0.125,"No","No"]
[null,null,null,"Measurement & Testing Equipment",null,5,10,null,null,1945,"Measurement and Testing Equipment ",8,0.125,8,0.125,"No","No"]
[null,8,"Communication","Towers",null,60,70,null,null,null,null,null,"",null,"","",""]
[null,null,null,"Wireless",null,2,10,null,null,1955,"Communication Equipment",10,0.1,10,0.1,"No","No"]
[null,9,"Residential Energy Meters",null,null,25,35,null,null,1860,"Meters - Mechanical",25,0.04,25,0.04,"No","No"]
[null,10,"Industrial/Commercial Energy Meters",null,null,25,35,null,null,1860,"Industrial/Commercial Energy Meters",25,0.04,25,0.04,"No","No"]
[null,11,"Wholesale Energy Meters",null,null,15,30,null,null,1860,"Wholesale Energy Meters",15,6.6666666666666666E-2,15,6.6666666666666666E-2,"No","No"]
[null,12,"Current & Potential Transformer (CT & PT)",null,null,35,50,null,null,1860,"Current & Potential Transformer (CT & PT)",40,2.5000000000000001E-2,40,2.5000000000000001E-2,"No","No"]
[null,13,"Smart Meters",null,null,5,15,null,null,1860,"Smart Meters",15,6.6666666666666666E-2,15,6.6666666666666666E-2,"No","No"]
[null,14,"Repeaters - Smart Metering",null,null,10,15,null,null,1860,"Repeaters - Smart Metering ",15,6.6666666666666666E-2,15,6.6666666666666666E-2,"No","No"]
[null,15,"Data Collectors - Smart Metering",null,null,15,20,null,null,1860,"Data Collectors - Smart Metering ",15,6.6666666666666666E-2,15,6.6666666666666666E-2,"No","No"]
[]
[]
["* TS & MS = Transformer and Municipal Stations UG = Underground Systems S = Monitoring and Control Systems"]
[]
["Note 1:","Tables F-1 and F-2 above are to be used as a reference in order to complete columns J, K, L and N."]
[null,"See pages 17-19 of Kinetrics Report"]

{"sheet":"App.2-C_DepExp","index":12,"n_rows":442,"n_cols":25,"rows_kept":442,"cut":false,"hidden":false,"merged":[[322,1,323,1],[8,0,8,18],[9,0,9,18],[10,0,10,18],[384,0,385,0],[384,1,385,1],[15,0,16,0],[15,1,16,1],[76,0,77,0],[76,1,77,1],[137,0,138,0],[137,1,138,1],[199,0,200,0],[199,1,200,1],[260,0,261,0],[260,1,261,1],[322,0,323,0]]}
[]
[]
[]
[]
[]
[]
[]
[]
["Appendix 2-C",null,null,null,null,null,null,null,null,null,null,null,null,null,null,null,null,null,null,null,null,null,null,null,"CGAAP"]
["Depreciation and Amortization Expense",null,null,null,null,null,null,null,null,null,null,null,null,null,null,null,null,null,null,null,null,null,null,null,"Revised CGAAP"]
[null,null,null,null,null,null,null,null,null,null,null,null,null,null,null,null,null,null,null,null,null,null,null,null,"MIFRS"]
["This appendix is to be completed in conjunction with the accounting instructions in Appendix 2-B"]
[]
[null,null,"Year",2016,"CGAAP - with changes to policies"]
[]
["Account","Description","Opening Regulatory Gross PP&E as at Jan 1, 2016","Less Fully Depreciated","Net for Depreciation","Additions","Total for Depreciation","Years","Depreciation Rate","2016 Depreciation Expense","2016 Depreciation Expense per Appendix 2-B Fixed Assets, Column K\n (l)","Variance 2"]
[null,null,"(a)","(b)","(c)","(d)","(e) = (c) + ½ x (d) 1","(f)","(g) = 1 / (f)","(h) = (e) / (f)",null,"(m) = (h) - (l)"]
[1611,"Computer Software (Formally known as Account 1925)",202931.53,96678.819999999992,{"$f":"C18-D18","v":106252.71},21070,{"$f":"E18+0.5*F18","v":116787.71},3,{"$f":"IF(H18=0,\"\",1/H18)","v":0.33333333333333331},{"$f":"IF(H18=0,0,G18/H18)","v":38929.236666666671},31159.24,{"$f":"IF(ISERROR(+J18-K18), \"\", +J18-K18)","v":7769.9966666666696}]
[1612,"Land Rights (Formally known as Account 1906)",2747.84,null,2747.84,null,2747.84,8,0.125,343.48,335,{"$f":"IF(ISERROR(+J19-K19), \"\", +J19-K19)","v":8.4800000000000182}]
[1805,"Land",130499.26,null,130499.26,null,130499.26,0,"",0,0,0]
[1808,"Buildings ",-11864.690000000002,-11864.690000000002,0,null,0,25,0.04,0,0]
[1808,"Buildings ",7846,null,7846,null,7846,30,3.3333333333333333E-2,261.53333333333336,245,16.53333333333336]
[1808,"Buildings ",91038.35,null,91038.35,null,91038.35,50,0.02,1820.7670000000001,1820.94,-0.17300000000000182]
[1808,"Buildings ",83618.959999999992,null,83618.959999999992,null,83618.959999999992,60,1.6666666666666666E-2,1393.6493333333333,1392,1.6493333333332885]
[1810,"Leasehold Improvements",228040,-104655.61,332695.61,54222.45,359806.83499999996,25,0.04,14392.273399999998,14391.555400000001,0.71799999999711872]
[1820,"Distribution Station Equipment <50 kV",31185,null,31185,null,31185,15,6.6666666666666666E-2,2079,2078.9900000000002,9.9999999997635314E-3]
[1820,"Distribution Station Equipment <50 kV",922753.51,-763675.16,1686428.67,null,1686428.67,30,3.3333333333333333E-2,56214.288999999997,56205.380000000005,8.9089999999923748]
[1820,"Distribution Station Equipment <50 kV",-65477.279999999984,-94553.199999999983,29075.919999999998,null,29075.919999999998,34,2.9411764705882353E-2,855.17411764705878,855,0.17411764705877886]
[1820,"Distribution Station Equipment <50 kV",123386.88999999998,null,123386.88999999998,121525.29,184149.53499999997,40,2.5000000000000001E-2,4603.738374999999,4603.7361249999994,2.2499999995488906E-3]
[1820,"Distribution Station Equipment <50 kV",163045.5,null,163045.5,94060.22,210075.61,45,2.2222222222222223E-2,4668.3468888888883,4833.148666666666,-164.80177777777772]
[1820,"Distribution Station Equipment <50 kV",27437.89,null,27437.89,null,27437.89,50,0.02,548.75779999999997,548.76,-2.200000000016189E-3]
[1830,"Poles, Towers & Fixtures",1503377.4800000004,-2341214.0200000005,3844591.5000000009,null,3844591.5000000009,25,0.04,153783.66000000003,143860.9,9922.7600000000384]
[1830,"Poles, Towers & Fixtures",509760.78,null,509760.78,269378.28999999998,644449.92500000005,45,2.2222222222222223E-2,14321.109444444446,14321.095666666668,1.3777777778159361E-2]
[1835,"Overhead Conductors & Devices",1624906.73,-972605.63,2597512.36,null,2597512.36,25,0.04,103900.4944,103900.70759999999,-0.21319999999832362]
[1835,"Overhead Conductors & Devices",9059.0500000000011,null,9059.0500000000011,1702.17,9910.135000000002,40,2.5000000000000001E-2,247.75337500000006,247.75462500000003,-1.2499999999704414E-3]
[1835,"Overhead Conductors & Devices",92543.06,null,92543.06,16291.18,100688.65,45,2.2222222222222223E-2,2237.5255555555555,2237.536444444444,-1.0888888888530346E-2]
[1835,"Overhead Conductors & Devices",1024535.09,null,1024535.09,171656.28,1110363.23,60,1.6666666666666666E-2,18506.053833333332,18506.053666666667,1.6666666488163173E-4]
[1840,"Underground Conduit",1694521.9800000002,227255.55,1467266.4300000002,null,1467266.4300000002,25,0.04,58690.657200000009,61218.38,-2527.7227999999886]
[1840,"Underground Conduit",-1174814.9500000002,-1630734.4000000001,{"$f":"C39-D39","v":455919.44999999995},null,{"$f":"E39+0.5*F39","v":455919.44999999995},35,{"$f":"IF(H39=0,\"\",1/H39)","v":2.8571428571428571E-2},{"$f":"IF(H39=0,0,G39/H39)","v":13026.269999999999},13031.19,{"$f":"IF(ISERROR(+J39-K39), \"\", +J39-K39)","v":-4.9200000000018917}]
[1840,"Underground Conduit",54124.86,0,{"$f":"C40-D40","v":54124.86},null,{"$f":"E40+0.5*F40","v":54124.86},40,{"$f":"IF(H40=0,\"\",1/H40)","v":2.5000000000000001E-2},{"$f":"IF(H40=0,0,G40/H40)","v":1353.1215},1353,{"$f":"IF(ISERROR(+J40-K40), \"\", +J40-K40)","v":0.12149999999996908}]
[1840,"Underground Conduit",111044.64,null,{"$f":"C41-D41","v":111044.64},10252.68,{"$f":"E41+0.5*F41","v":116170.98},50,{"$f":"IF(H41=0,\"\",1/H41)","v":0.02},{"$f":"IF(H41=0,0,G41/H41)","v":2323.4195999999997},2323.4268000000002,{"$f":"IF(ISERROR(+J41-K41), \"\", +J41-K41)","v":-7.2000000004663889E-3}]
[1845,"Underground Conductors & Devices",276675.21000000002,-129412.36,406087.57,null,406087.57,25,0.04,16243.5028,16243.529999999997,-2.719999999681022E-2]
[1845,"Underground Conductors & Devices",517564.95000000007,null,{"$f":"C43-D43","v":517564.95000000007},25027.79,{"$f":"E43+0.5*F43","v":530078.84500000009},40,{"$f":"IF(H43=0,\"\",1/H43)","v":2.5000000000000001E-2},{"$f":"IF(H43=0,0,G43/H43)","v":13251.971125000002},13251.976500000001,{"$f":"IF(ISERROR(+J43-K43), \"\", +J43-K43)","v":-5.3749999988212949E-3}]
[1850,"Line Transformers",866182.04999999981,-743946.35,{"$f":"C44-D44","v":1610128.4},null,{"$f":"E44+0.5*F44","v":1610128.4},25,{"$f":"IF(H44=0,\"\",1/H44)","v":0.04},{"$f":"IF(H44=0,0,G44/H44)","v":64405.135999999999},71693.841199999995,{"$f":"IF(ISERROR(+J44-K44), \"\", +J44-K44)","v":-7288.7051999999967}]
[1850,"Line Transformers",634168.81000000006,null,{"$f":"C45-D45","v":634168.81000000006},127653.03,{"$f":"E45+0.5*F45","v":697995.32500000007},40,{"$f":"IF(H45=0,\"\",1/H45)","v":2.5000000000000001E-2},{"$f":"IF(H45=0,0,G45/H45)","v":17449.883125},17449.883125,{"$f":"IF(ISERROR(+J45-K45), \"\", +J45-K45)","v":0}]
[1855,"Services (Overhead & Underground)",657447.41,-324028.17,981475.58000000007,null,981475.58000000007,25,0.04,39259.023200000003,39259.020800000006,2.3999999975785613E-3]
[1855,"Services (Overhead & Underground)",351785.49,null,351785.49,53057.99,378314.48499999999,40,2.5000000000000001E-2,9457.8621249999997,9457.8607499999998,1.374999999825377E-3]
[1855,"Services (Overhead & Underground)",112090.77,null,112090.77,40573.5,132377.52000000002,60,1.6666666666666666E-2,2206.2920000000004,2206.2908333333335,1.1666666669043479E-3]
[1860,"Meters",98768.36,-5814.43,104582.79000000001,0,104582.79000000001,25,0.04,4183.3116,4315.6947428114845,-132.3831428114845]
[1860,"Meters",2025.9599999999998,-1453.93,3479.89,36172.07,21565.924999999999,15,6.6666666666666666E-2,1437.7283333333332,1478.2,-40.471666666666806]
[1860,"Meters (Smart Meters)",1645231,null,1645231,null,1645231,15,6.6666666666666666E-2,109682.06666666667,109681.99999999999,6.6666666680248454E-2]
[1915,"Office Furniture & Equipment (10 years)",13903.300000000001,-2771.6399999999826,16674.939999999984,27072.09,30210.984999999986,10,0.1,3021.0984999999987,3021.1045000000004,-6.0000000016771082E-3]
[1920,"Computer Equipment - Hardware",84929.63,52975.820000000029,31953.809999999976,1668.77,32788.194999999978,3,0.33333333333333331,10929.398333333325,16507.248333333333,-5577.8500000000076]
[1930,"Transportation Equipment - automobiles",77377.31,49141.31,28236,0,28236,4,0.25,7059,7059,0]
[1930,"Transportation Equipment - under 3 Tons",129889.70999999999,22318.6,107571.10999999999,0,107571.10999999999,5,0.2,21514.221999999998,18705.419999999998,2808.8019999999997]
[1930,"Transportation Equipment - 3 Tons & Over",664486.39,-216228.42,880714.81,116565,938997.31,8,{"$f":"IF(H56=0,\"\",1/H56)","v":0.125},117374.66375000001,110279.37,7095.2937500000116]
[1940,"Tools, Shop & Garage Equipment",74405.909999999974,-1434.0300000000248,75839.94,14006.95,82843.415000000008,10,{"$f":"IF(H57=0,\"\",1/H57)","v":0.1},8284.3415000000005,8284.3325000000004,9.0000000000145519E-3]
[1945,"Measurement & Testing Equipment",23637.8,-904.5,24542.3,null,24542.3,10,0.1,2454.23,2454.23,0]
[1955,"Communication Equipment 5 yrs",26170.959999999999,1225.1169999999995,24945.843000000001,null,24945.843000000001,5,0.2,4989.1686,4989.1720000000005,-3.4000000005107722E-3]
[1955,"Communication Equipment 10 yrs",null,null,{"$f":"C60-D60","v":0},null,{"$f":"E60+0.5*F60","v":0},null,{"$f":"IF(H60=0,\"\",1/H60)","v":""},{"$f":"IF(H60=0,0,G60/H60)","v":0},0,{"$f":"IF(ISERROR(+J60-K60), \"\", +J60-K60)","v":0}]
[1960,"Miscellaneous Equipment ",11498.8,-605.20000000000005,12104,null,12104,10,0.1,1210.4000000000001,1210.4000000000001,0]
[1980,"System Supervisor Equipment",74735.460000000006,73620.86,1114.6000000000058,null,1114.6000000000058,3,0.33333333333333331,371.53333333333529,287.64999999999998,83.883333333335315]
[1980,"System Supervisor Equipment",8100,8100,{"$f":"C63-D63","v":0},null,{"$f":"E63+0.5*F63","v":0},5,{"$f":"IF(H63=0,\"\",1/H63)","v":0.2},0,0,{"$f":"IF(ISERROR(+J63-K63), \"\", +J63-K63)","v":0}]
[1980,"System Supervisor Equipment",50708.160000000003,50708.160000000003,{"$f":"C64-D64","v":0},null,{"$f":"E64+0.5*F64","v":0},10,{"$f":"IF(H64=0,\"\",1/H64)","v":0.1},0,0,{"$f":"IF(ISERROR(+J64-K64), \"\", +J64-K64)","v":0}]
[1980,"System Supervisor Equipment",-130454.90000000004,-130454.90000000004,{"$f":"C65-D65","v":0},null,{"$f":"E65+0.5*F65","v":0},15,{"$f":"IF(H65=0,\"\",1/H65)","v":6.6666666666666666E-2},0,0,{"$f":"IF(ISERROR(+J65-K65), \"\", +J65-K65)","v":0}]
[1995,"Contributions & Grants",-892619.01,489090.42,-1381709.43,null,-1381709.43,25,0.04,-55268.377199999995,-55268.36,-1.7199999994772952E-2]
[1995,"Contributions & Grants",-634169.79,null,-634169.79,null,-634169.79,40,2.5000000000000001E-2,-15854.244750000002,-15913.309999999998,59.065249999996013]
[2040,"Contributions & Grants",-34000,null,-34000,null,-34000,3,0.33333333333333331,-11333.333333333334,-11333.33,-3.3333333340124227E-3]
[2040,"Contributions & Grants",-294404.65999999997,null,-294404.65999999997,-96899.3,-342854.31,40,2.5000000000000001E-2,-8571.3577499999992,-8571.3599999999988,2.2499999995488906E-3]
[null,null,null,null,0,null,0,null,"",0,null,0]
[null,"Total",{"$f":"SUM(C18:C70)","v":11802382.560000006},{"$f":"SUM(D18:D70)","v":-6405241.9830000009},{"$f":"SUM(E18:E70)","v":18207624.543000001},{"$f":"SUM(F18:F70)","v":1105056.4500000002},{"$f":"SUM(G18:G70)","v":18760152.767999999},null,null,{"$f":"SUM(J18:J70)","v":858257.83078153606},{"$f":"SUM(K18:K70)","v":846218.66027892288},{"$f":"SUM(L18:L70)","v":12039.170502613413}]
[]
[]
[]
[null,null,"Year",2017,"IFRS"]
[]
["Account","Description","Opening Regulatory Gross PP&E as at Jan 1, 2017","Less Fully Depreciated","Net for Depreciation","Additions","Total for Depreciation","Years","Depreciation Rate","2017 Depreciation Expense","2017 Depreciation Expense per Appendix 2-B Fixed Assets, Column K\n (l)","Variance 2"]
[null,null,"(a)","(b)","(c)","(d)","(e) = (c) + ½ x (d) 1","(f)","(g) = 1 / (f)","(h) = (e) / (f)",null,"(m) = (h) - (l)"]
[1611,"Computer Software (Formally known as Account 1925)",224001.53,143298.82000000004,{"$f":"C79-D79","v":80702.709999999963},33880.61,{"$f":"E79+0.5*F79","v":97643.014999999956},3,{"$f":"IF(H79=0,\"\",1/H79)","v":0.33333333333333331},{"$f":"IF(H79=0,0,G79/H79)","v":32547.671666666651},25719.89,{"$f":"IF(ISERROR(+J79-K79), \"\", +J79-K79)","v":6827.7816666666513}]
[1612,"Land Rights (Formally known as Account 1906)",2747.84,0,{"$f":"C80-D80","v":2747.84},0,{"$f":"E80+0.5*F80","v":2747.84},8,0.125,343.48,335,{"$f":"IF(ISERROR(+J80-K80), \"\", +J80-K80)","v":8.4800000000000182}]
[1805,"Land",130499.26,0,130499.26,39130,150064.26,0,"",0,0,0]
[1808,"Buildings",-11864.690000000002,-11864.690000000002,0,0,0,25,0.04,0,0,0]
[1808,"Buildings ",7846,null,7846,0,7846,30,3.3333333333333333E-2,261.53333333333336,245,16.53333333333336]
[1808,"Buildings",0,0,0,731.25,{"$f":"E84+0.5*F84","v":365.625},45,2.2222222222222223E-2,8.125,8.1300000000000008,-5.0000000000007816E-3]
[1808,"Buildings ",91038.35,0,91038.35,0,{"$f":"E85+0.5*F85","v":91038.35},50,0.02,1820.7670000000001,1820.94,-0.17300000000000182]
[1808,"Buildings",83618.959999999992,0,83618.959999999992,0,{"$f":"E86+0.5*F86","v":83618.959999999992},60,1.6666666666666666E-2,1393.6493333333333,1392,1.6493333333332885]
[1810,"Leasehold Improvements",282262.45,-104655.61,386918.06,3278.27,388557.19500000001,25,0.04,15542.2878,15541.578,0.70980000000054133]
[1820,"Distribution Station Equipment <50 kV",31185,0,31185,0,31185,15,6.6666666666666666E-2,2079,2078.9900000000002,9.9999999997635314E-3]
[1820,"Distribution Station Equipment <50 kV",922753.51,-750348.01,1673101.52,8487,1677345.02,30,3.3333333333333333E-2,55911.500666666667,55899.68,11.820666666666511]
[1820,"Distribution Station Equipment <50 kV",-65477.279999999984,-94553.199999999983,29075.919999999998,0,{"$f":"E90+0.5*F90","v":29075.919999999998},34,2.9411764705882353E-2,855.17411764705878,871.07999999999993,-15.905882352941148]
[1820,"Distribution Station Equipment <50 kV",244912.18000000005,0,244912.18000000005,12316.2,251070.28000000006,40,2.5000000000000001E-2,6276.7570000000014,6276.7422499999993,1.4750000002095476E-2]
[1820,"Distribution Station Equipment <50 kV",257105.72,696.27,256409.45,27656.510000000002,270237.70500000002,45,2.2222222222222223E-2,6005.2823333333336,6005.2871111111117,-4.7777777781448094E-3]
[1820,"Distribution Station Equipment <50 kV",27437.89,0,27437.89,0,27437.89,50,0.02,548.75779999999997,548.76,-2.200000000016189E-3]
[1830,"Poles, Towers & Fixtures",1503377.4800000004,-2149743.5299999998,3653121.0100000002,0,3653121.0100000002,25,0.04,146124.84040000002,134564.64000000001,11560.200400000002]
[1830,"Poles, Towers & Fixtures",779139.07000000007,0,779139.07000000007,162879.07,860578.6050000001,45,2.2222222222222223E-2,19123.969000000001,19123.954222222223,1.4777777778363088E-2]
[1835,"Overhead Conductors & Devices",1624906.73,-972605.63,2597512.36,0,2597512.36,25,0.04,103900.4944,103900.70760000001,-0.21320000001287553]
[1835,"Overhead Conductors & Devices",10761.220000000001,0,10761.220000000001,2487.1999999999998,12004.820000000002,40,2.5000000000000001E-2,300.12050000000005,300.12425000000002,-3.7499999999681677E-3]
[1835,"Overhead Conductors & Devices",108834.23999999999,0,108834.23999999999,24539.1,121103.79,45,2.2222222222222223E-2,2691.1953333333331,2691.2046666666661,-9.3333333329610468E-3]
[1835,"Overhead Conductors & Devices",1196191.3699999999,0,1196191.3699999999,264779.96999999997,1328581.355,60,1.6666666666666666E-2,22143.022583333332,22143.019666666667,2.9166666645323858E-3]
[1840,"Underground Conduit",1694521.9800000002,336655.27999999997,1357866.7000000002,0,1357866.7000000002,25,0.04,54314.668000000005,53852.11,462.55800000000454]
[1840,"Underground Conduit",-1174814.9500000002,-1528249.2100000002,353434.26,0,353434.26,35,2.8571428571428571E-2,10098.121714285715,10112.58,-14.458285714285012]
[1840,"Underground Conduit",54124.86,0,54124.86,0,54124.86,40,2.5000000000000001E-2,1353.1215,1353,0.12149999999996908]
[1840,"Underground Conduit",121297.32,0,121297.32,31940.21,137267.42500000002,50,0.02,2745.3485000000005,2745.3536000000004,-5.0999999998566636E-3]
[1845,"Underground Conductors & Devices",276675.21000000002,-129412.36,406087.57,0,406087.57,25,0.04,16243.5028,16243.529999999997,-2.719999999681022E-2]
[1845,"Underground Conductors & Devices",542592.74000000011,0,542592.74000000011,140969.85999999999,613077.67000000016,40,2.5000000000000001E-2,15326.941750000004,15326.944750000002,-2.999999998792191E-3]
[1850,"Line Transformers",866182.04999999993,-743946.35,1610128.4,0,1610128.4,25,0.04,64405.135999999999,68429.541200000007,-4024.4052000000083]
[1850,"Line Transformers",761821.84000000008,0,761821.84000000008,140853.32999999999,832248.50500000012,40,2.5000000000000001E-2,20806.212625000004,20806.215749999999,-3.1249999956344254E-3]
[1855,"Services (Overhead & Underground)",657447.4099999998,-324028.17,981475.57999999984,0,981475.57999999984,25,0.04,39259.023199999996,39259.020799999998,2.3999999975785613E-3]
[1855,"Services (Overhead & Underground)",404843.48,0,404843.48,79089.27,444388.11499999999,40,2.5000000000000001E-2,11109.702874999999,11109.709750000002,-6.8750000027648639E-3]
[1855,"Services (Overhead & Underground)",152664.27000000002,0,152664.27000000002,47364.34,176346.44,60,1.6666666666666666E-2,2939.1073333333334,2939.1049999999996,2.3333333338086959E-3]
[1860,"Meters",98768.36,-5814.43,{"$f":"C111-D111","v":104582.79000000001},0,{"$f":"E111+0.5*F111","v":104582.79000000001},25,{"$f":"IF(H111=0,\"\",1/H111)","v":0.04},{"$f":"IF(H111=0,0,G111/H111)","v":4183.3116},4292.256038984704,{"$f":"IF(ISERROR(+J111-K111), \"\", +J111-K111)","v":-108.94443898470399}]
[1860,"Meters",38198.03,-1453.93,{"$f":"C112-D112","v":39651.96},35397.199999999997,{"$f":"E112+0.5*F112","v":57350.559999999998},15,{"$f":"IF(H112=0,\"\",1/H112)","v":6.6666666666666666E-2},{"$f":"IF(H112=0,0,G112/H112)","v":3823.3706666666667},3843.6600000000003,{"$f":"IF(ISERROR(+J112-K112), \"\", +J112-K112)","v":-20.289333333333616}]
[1860,"Meters (Smart Meters)",1645231,0,1645231,0,1645231,15,6.6666666666666666E-2,109682.06666666667,109681.99999999999,6.6666666680248454E-2]
[1915,"Office Furniture & Equipment (10 years)",40975.39,-2771.6399999999976,43747.03,4397.75,45945.904999999999,10,0.1,4594.5905000000002,4594.5990000000002,-8.4999999999126885E-3]
[1920,"Computer Equipment - Hardware",86598.399999999994,52975.840000000004,33622.55999999999,6396.67,36820.89499999999,3,0.33333333333333331,12273.631666666663,10514.153333333334,1759.4783333333289]
[1930,"Transportation Equipment - Automobiles",77377.31,49141.31,28236,0,28236,4,0.25,7059,7059,0]
[1930,"Transportation Equipment - under 3 Tons",129889.70999999999,50406.61,79483.099999999991,0,79483.099999999991,5,0.2,15896.619999999999,15896.62,-1.8189894035458565E-12]
[1930,"Transportation Equipment - 3 Tons & Over",781051.39000000013,-201988.77999999985,{"$f":"C118-D118","v":983040.16999999993},322428.24,{"$f":"E118+0.5*F118","v":1144254.29},8,{"$f":"IF(H118=0,\"\",1/H118)","v":0.125},{"$f":"IF(H118=0,0,G118/H118)","v":143031.78625},135936.46,{"$f":"IF(ISERROR(+J118-K118), \"\", +J118-K118)","v":7095.3262500000128}]
[1940,"Tools, Shop & Garage Equipment",88412.859999999971,659.85999999997512,87753,3354.45,89430.225000000006,10,0.1,8943.0225000000009,8943.0199999999986,2.5000000023283064E-3]
[1945,"Measurement & Testing Equipment",23637.8,-904.5,24542.3,999,25041.8,10,0.1,2504.1799999999998,2504.1799999999998,0]
[1955,"Communications Equipment",26170.959999999999,1225.1199999999999,24945.84,0,24945.84,5,0.2,4989.1679999999997,4831.7219999999998,157.44599999999991]
[1960,"Miscellaneous Equipment ",11498.8,-605.20000000000005,12104,0,12104,10,0.1,1210.4000000000001,1210.4000000000001,0]
[1980,"System Supervisor Equipment",74735.460000000006,74124.13,611.33000000000175,35234.31,18228.485000000001,3,0.33333333333333331,6076.1616666666669,5974.2783333333336,101.88333333333321]
[1980,"System Supervisor Equipment",8100,8100,0,0,0,5,0.2,0,0,0]
[1980,"System Supervisor Equipment",50708.160000000003,50708.160000000003,0,0,0,10,0.1,0,0,0]
[1980,"System Supervisor Equipment",-130454.90000000004,-130454.90000000004,0,0,0,15,6.6666666666666666E-2,0,0,0]
[1995,"Contributions & Grants",-892619.01,489090.42,-1381709.43,null,-1381709.43,25,0.04,{"$f":"IF(H127=0,0,G127/H127)","v":-55268.377199999995},-55268.36,-1.7199999994772952E-2]
[1995,"Contributions & Grants",-634169.79,null,-634169.79,null,-634169.79,40,2.5000000000000001E-2,{"$f":"IF(H128=0,0,G128/H128)","v":-15854.244750000002},-15913.309999999998,59.065249999996013]
[2040,"Contributions & Grants",-34000,null,-34000,null,-34000,3,0.33333333333333331,{"$f":"IF(H129=0,0,G129/H129)","v":-11333.333333333334},-11333.33,-3.3333333340124227E-3]
[2040,"Contributions & Grants",-391303.95999999996,null,-391303.95999999996,-263532.76,-523070.33999999997,40,2.5000000000000001E-2,{"$f":"IF(H130=0,0,G130/H130)","v":-13076.7585},-13076.76,1.5000000003055902E-3]
[null,null,null,null,0,null,0,null,"",0,null,0]
[null,"Total",{"$f":"SUM(C79:C131)","v":12907439.010000005},{"$f":"SUM(D79:D131)","v":-5896318.3199999994},{"$f":"SUM(E79:E131)","v":18803757.329999998},{"$f":"SUM(F79:F131)","v":1165057.0499999998},{"$f":"SUM(G79:G131)","v":19386285.855},null,null,{"$f":"SUM(J79:J131)","v":885213.11029859947},{"$f":"SUM(K79:K131)","v":861334.4273223182},{"$f":"SUM(L79:L131)","v":23878.682976281409}]
[]
[]
[]
[null,null,"Year",2018,"IFRS"]
[]
["Account","Description","Opening Regulatory Gross PP&E as at Jan 1, 2018","Less Fully Depreciated","Net for Depreciation","Additions","Total for Depreciation","Years","Depreciation Rate","2018 Depreciation Expense","2018 Depreciation Expense per Appendix 2-B Fixed Assets, Column K\n (l)","Variance 2"]
[null,null,"(a)","(b)","(c)","(d)","(e) = (c) + ½ x (d) 1","(f)","(g) = 1 / (f)","(h) = (e) / (f)",null,"(m) = (h) - (l)"]
[1611,"Computer Software (Formally known as Account 1925)",257882.14,184265.53000000003,{"$f":"C140-D140","v":73616.609999999986},11474.01,{"$f":"E140+0.5*F140","v":79353.614999999991},3,{"$f":"IF(H140=0,\"\",1/H140)","v":0.33333333333333331},{"$f":"IF(H140=0,0,G140/H140)","v":26451.204999999998},23340.22,{"$f":"IF(ISERROR(+J140-K140), \"\", +J140-K140)","v":3110.9849999999969}]
[1612,"Land Rights (Formally known as Account 1906)",2747.84,0,{"$f":"C141-D141","v":2747.84},0,{"$f":"E141+0.5*F141","v":2747.84},8,0.125,343.48,335,{"$f":"IF(ISERROR(+J141-K141), \"\", +J141-K141)","v":8.4800000000000182}]
[1805,"Land",169629.26,0,169629.26,88721.06,213989.79,0,"",0,0,0]
[1808,"Buildings",-11864.690000000002,-11864.690000000002,0,0,0,25,0.04,0,0,0]
[1808,"Buildings",7846,0,7846,0,7846,30,3.3333333333333333E-2,261.53333333333336,245,16.53333333333336]
[1808,"Buildings",731.25,null,731.25,0,731.25,45,2.2222222222222223E-2,16.25,16.25,0]
[1808,"Buildings",91038.35,0,91038.35,0,91038.35,50,0.02,1820.7670000000001,1820.94,-0.17300000000000182]
[1808,"Buildings",83618.959999999992,0,83618.959999999992,0,83618.959999999992,60,1.6666666666666666E-2,1393.6493333333333,1392,1.6493333333332885]
[1810,"Leasehold Improvements",285540.72000000003,-104655.61,390196.33,1572.78,390982.72000000003,25,0.04,15639.308800000001,15638.6,0.7088000000003376]
[1820,"Distribution Station Equipment <50 kV",31185,0,31185,0,31185,15,6.6666666666666666E-2,2079,2078.9900000000002,9.9999999997635314E-3]
[1820,"Distribution Station Equipment <50 kV",931240.51,-750348.01000000013,1681588.52,0,1681588.52,30,3.3333333333333333E-2,56052.950666666664,56030.37,22.580666666661273]
[1820,"Distribution Station Equipment <50 kV",-65477.279999999984,-80937.119999999995,15459.840000000011,0,15459.840000000011,34,2.9411764705882353E-2,454.70117647058856,453.35,1.3511764705885412]
[1820,"Distribution Station Equipment <50 kV",257228.38,0,257228.38,35767.68,275112.22000000003,40,2.5000000000000001E-2,6877.8055000000004,6877.79,1.5500000000429281E-2]
[1820,"Distribution Station Equipment <50 kV",284762.23000000004,696.27,284065.96000000002,0,284065.96000000002,45,2.2222222222222223E-2,6312.5768888888897,6312.5899999999992,-1.3111111109537887E-2]
[1820,"Distribution Station Equipment <50 kV",27437.89,0,27437.89,0,27437.89,50,0.02,548.75779999999997,548.76,-2.200000000016189E-3]
[1825,"Storage Battery Equipment",0,0,0,0,0,null,"",0,0,0]
[1830,"Poles, Towers & Fixtures",1503377.4800000004,-1929603.2799999998,3432980.7600000002,0,3432980.7600000002,25,0.04,137319.2304,125042.18000000001,12277.050399999993]
[1830,"Poles, Towers & Fixtures",942018.14,0,942018.14,169618.68,1026827.48,45,2.2222222222222223E-2,22818.388444444445,22818.370000000003,1.8444444442138774E-2]
[1835,"Overhead Conductors & Devices",1624906.73,-972605.63,2597512.36,0,2597512.36,25,0.04,103900.4944,103900.70759999999,-0.21319999999832362]
[1835,"Overhead Conductors & Devices",13248.420000000002,0,13248.420000000002,3030.51,14763.675000000003,40,2.5000000000000001E-2,369.09187500000007,369.09000000000003,1.8750000000409273E-3]
[1835,"Overhead Conductors & Devices",133373.34,0,133373.34,27657.51,147202.095,45,2.2222222222222223E-2,3271.1576666666665,3271.15,7.6666666664095828E-3]
[1835,"Overhead Conductors & Devices",1460971.3399999999,0,1460971.3399999999,280021.36,1600982.0199999998,60,1.6666666666666666E-2,26683.033666666663,26683.030000000002,3.6666666601377074E-3]
[1840,"Underground Conduit",1694521.9800000002,393689.62999999995,1300832.3500000003,0,1300832.3500000003,25,0.04,52033.294000000016,48680.270000000004,3353.0240000000122]
[1840,"Underground Conduit",-1174814.9500000002,-1471954.6300000001,297139.67999999993,0,297139.67999999993,35,2.8571428571428571E-2,8489.7051428571413,8490.07,-0.36485714285845461]
[1840,"Underground Conduit",54124.86,0,54124.86,0,54124.86,40,2.5000000000000001E-2,1353.1215,1353,0.12149999999996908]
[1840,"Underground Conduit",153237.53,0,153237.53,42831.57,174653.315,50,0.02,3493.0663,3493.07,-3.7000000002080924E-3]
[1845,"Underground Conductors & Devices",276675.21000000002,-129412.36,406087.57,0,406087.57,25,0.04,16243.5028,16243.529999999997,-2.719999999681022E-2]
[1845,"Underground Conductors & Devices",683562.60000000009,0,683562.60000000009,115159.44,741142.32000000007,40,2.5000000000000001E-2,18528.558000000001,18528.560000000001,-2.0000000004074536E-3]
[1850,"Line Transformers",866182.04999999981,-743946.35,1610128.4,0,1610128.4,25,0.04,64405.135999999999,23382.921200000012,41022.214799999987]
[1850,"Line Transformers",902675.17,0,902675.17,521399.67,1163375.0050000001,40,2.5000000000000001E-2,29084.375125000002,29084.449999999997,-7.4874999994790414E-2]
[1855,"Services (Overhead & Underground)",657447.41,-324028.17,981475.58000000007,0,981475.58000000007,25,0.04,39259.023200000003,39259.020800000006,2.3999999975785613E-3]
[1855,"Services (Overhead & Underground)",483932.75,0,483932.75,49426.35,508645.92499999999,40,2.5000000000000001E-2,12716.148125,12716.150000000001,-1.8750000017462298E-3]
[1855,"Services (Overhead & Underground)",200028.61000000002,0,200028.61000000002,16508.75,208282.98500000002,60,1.6666666666666666E-2,3471.3830833333336,3471.39,-6.9166666662567877E-3]
[1860,"Meters",98768.36,-5814.43,{"$f":"C173-D173","v":104582.79000000001},0,{"$f":"E173+0.5*F173","v":104582.79000000001},25,{"$f":"IF(H173=0,\"\",1/H173)","v":0.04},{"$f":"IF(H173=0,0,G173/H173)","v":4183.3116},4269.3773001075042,{"$f":"IF(ISERROR(+J173-K173), \"\", +J173-K173)","v":-86.065700107504199}]
[1860,"Meters",73595.23,-1453.93,{"$f":"C174-D174","v":75049.159999999989},107964.17,{"$f":"E174+0.5*F174","v":129031.245},15,{"$f":"IF(H174=0,\"\",1/H174)","v":6.6666666666666666E-2},{"$f":"IF(H174=0,0,G174/H174)","v":8602.0830000000005},8598.61,{"$f":"IF(ISERROR(+J174-K174), \"\", +J174-K174)","v":3.4729999999999563}]
[1860,"Meters (Smart Meters)",1645231,0,1645231,0,1645231,15,6.6666666666666666E-2,109682.06666666667,109681.99999999999,6.6666666680248454E-2]
[1915,"Office Furniture & Equipment (10 years)",45373.14,-2771.6399999999976,48144.78,4.58,48147.07,10,0.1,4814.7070000000003,4814.72,-1.2999999999919964E-2]
[1920,"Computer Equipment - Hardware ",92995.07,63532.700000000004,29462.370000000003,5446.05,32185.395000000004,3,0.33333333333333331,10728.465000000002,7162.3150000000005,3566.1500000000015]
[1930,"Transportation Equipment",77377.31,49141.31,28236,0,28236,4,0.25,7059,3529.5,3529.5]
[1930,"Transportation Equipment",129889.70999999999,50406.61,79483.099999999991,0,79483.099999999991,5,0.2,15896.619999999999,10305.01,5591.6099999999988]
[1930,"Transportation Equipment",1103479.6300000001,-201988.77999999985,1305468.4099999999,30997.230000000003,1320967.0249999999,8,0.125,165120.87812499999,147764.98000000001,17355.898124999978]
[1940,"Tools, Shop & Garage Equipment",91767.309999999969,659.85999999997512,91107.45,368.11,91291.50499999999,10,0.1,9129.1504999999997,9129.18,-2.9500000000552973E-2]
[1945,"Measurement & Testing Equipment",24636.799999999999,-904.5,25541.3,3180.25,27131.424999999999,10,0.1,2713.1424999999999,2713.14,2.5000000000545697E-3]
[1955,"Communications Equipment",26170.959999999999,2799.45,23371.51,0,23371.51,5,0.2,4674.3019999999997,4674.3019999999997,0]
[1960,"Miscellaneous Equipment ",11498.8,-605.20000000000005,12104,0,12104,10,0.1,1210.4000000000001,1210.4000000000001,0]
[1980,"System Supervisor Equipment",109969.77,74735.460000000006,35234.31,12648.09,41558.354999999996,3,0.33333333333333331,13852.784999999998,13852.79,-5.0000000028376235E-3]
[1980,"System Supervisor Equipment",8100,8100,0,0,0,5,0.2,0,0,0]
[1980,"System Supervisor Equipment",50708.160000000003,50708.160000000003,0,0,0,10,0.1,0,0,0]
[1980,"System Supervisor Equipment",-130454.90000000004,-130454.90000000004,0,0,0,15,6.6666666666666666E-2,0,0,0]
[1995,"Contributions & Grants",-892619.01,489090.42,-1381709.43,null,-1381709.43,25,0.04,{"$f":"IF(H189=0,0,G189/H189)","v":-55268.377199999995},-55268.36,-1.7199999994772952E-2]
[1995,"Contributions & Grants",-634169.79,null,-634169.79,null,-634169.79,40,2.5000000000000001E-2,{"$f":"IF(H190=0,0,G190/H190)","v":-15854.244750000002},-15913.309999999998,59.065249999996013]
[2040,"Contributions & Grants",-34000,null,-34000,null,-34000,3,0.33333333333333331,{"$f":"IF(H191=0,0,G191/H191)","v":-11333.333333333334},-5666.67,-5666.6633333333339]
[2040,"Contributions & Grants",-654836.72,null,-654836.72,-136450,-723061.72,40,2.5000000000000001E-2,{"$f":"IF(H192=0,0,G192/H192)","v":-18076.542999999998},-18076.55,7.0000000014260877E-3]
[null,null,null,null,0,null,0,null,"",{"$f":"IF(H193=0,0,G193/H193)","v":0},0,0]
[null,"Total",{"$f":"SUM(C140:C193)","v":14072496.060000004},{"$f":"SUM(D140:D193)","v":-5495523.8299999991},{"$f":"SUM(E140:E193)","v":19568019.890000004},{"$f":"SUM(F140:F193)","v":1387347.85},{"$f":"SUM(G140:G193)","v":20261693.815000001},null,null,{"$f":"SUM(J140:J193)","v":918825.10833599453},{"$f":"SUM(K140:K193)","v":834658.25390010758},{"$f":"SUM(L140:L193)","v":84166.854435886868}]
[]
[]
[]
[null,null,"Year",2019,"IFRS"]
[]
["Account","Description","Opening Regulatory Gross PP&E as at Jan 1, 2019","Less Fully Depreciated","Net for Depreciation","Additions","Total for Depreciation","Years","Depreciation Rate","2019 Depreciation Expense","2019 Depreciation Expense per Appendix 2-B Fixed Assets, Column K\n (l)","Variance 2"]
[null,null,"(a)","(b)","(c)","(d)","(e) = (c) + ½ x (d) 1","(f)","(g) = 1 / (f)","(h) = (e) / (f)",null,"(m) = (h) - (l)"]
[1611,"Computer Software (Formally known as Account 1925)",269356.15000000002,202931.51833333331,{"$f":"C202-D202","v":66424.631666666712},16660.16,{"$f":"E202+0.5*F202","v":74754.711666666713},3,{"$f":"IF(H202=0,\"\",1/H202)","v":0.33333333333333331},{"$f":"IF(H202=0,0,G202/H202)","v":24918.237222222237},21406.57,{"$f":"IF(ISERROR(+J202-K202),\"\",+J202-K202)","v":3511.6672222222369}]
[1612,"Land Rights (Formally known as Account 1906)",2747.84,0,{"$f":"C203-D203","v":2747.84},0,{"$f":"E203+0.5*F203","v":2747.84},8,{"$f":"IF(H203=0,\"\",1/H203)","v":0.125},{"$f":"IF(H203=0,0,G203/H203)","v":343.48},335,{"$f":"IF(ISERROR(+J203-K203),\"\",+J203-K203)","v":8.4800000000000182}]
[1805,"Land",258350.32,0,258350.32,0,258350.32,0,"",{"$f":"IF(H204=0,0,G204/H204)","v":0},0,0]
[1808,"Buildings",-11864.690000000002,-11864.690000000002,0,0,0,25,0.04,0,0,0]
[1808,"Buildings",7846,0,7846,0,7846,30,3.3333333333333333E-2,261.53333333333336,245,16.53333333333336]
[1808,"Buildings",731.25,0,731.25,0,731.25,45,2.2222222222222223E-2,16.25,16.25,0]
[1808,"Buildings",91038.35,0,91038.35,0,91038.35,50,0.02,1820.7670000000001,1820.94,-0.17300000000000182]
[1808,"Buildings",83618.959999999992,null,83618.959999999992,0,83618.959999999992,60,1.6666666666666666E-2,1393.6493333333333,1392,1.6493333333332885]
[1810,"Leasehold Improvements",287113.5,-104655.61,391769.11,4189.1899999999996,393863.70499999996,25,0.04,15754.548199999997,15753.83,0.71819999999752326]
[1820,"Distribution Station Equipment <50 kV",31185,0,31185,0,31185,15,6.6666666666666666E-2,2079,2078.9900000000002,9.9999999997635314E-3]
[1820,"Distribution Station Equipment <50 kV",931240.51,-745828.77,1677069.28,0,1677069.28,30,3.3333333333333333E-2,55902.309333333331,56226.710000000006,-324.40066666667553]
[1820,"Distribution Station Equipment <50 kV",-65477.279999999984,-79204.76999999999,13727.490000000005,0,13727.490000000005,34,2.9411764705882353E-2,403.74970588235311,395.49,8.2597058823531029]
[1820,"Distribution Station Equipment <50 kV",292996.06000000006,0,292996.06000000006,0,292996.06000000006,40,2.5000000000000001E-2,7324.9015000000018,7324.8899999999994,1.1500000002342858E-2]
[1820,"Distribution Station Equipment <50 kV",284762.23000000004,696.27,284065.96000000002,0,284065.96000000002,45,2.2222222222222223E-2,6312.5768888888897,6312.5899999999992,-1.3111111109537887E-2]
[1820,"Distribution Station Equipment <50 kV",27437.89,0,27437.89,0,27437.89,50,0.02,548.75779999999997,548.76,-2.200000000016189E-3]
[1830,"Poles, Towers & Fixtures",1503377.4800000004,-1718053.0600000005,3221430.540000001,0,3221430.540000001,25,0.04,128857.22160000003,113821.95,15035.271600000036]
[1830,"Poles, Towers & Fixtures",1111636.8199999998,0,1111636.8199999998,147244.97,1185259.3049999999,45,2.2222222222222223E-2,26339.095666666664,26339.08,1.5666666662582429E-2]
[1835,"Overhead Conductors & Devices",1624906.73,-972605.63,2597512.36,0,2597512.36,25,0.04,103900.4944,103900.70759999999,-0.21319999999832362]
[1835,"Overhead Conductors & Devices",16278.930000000002,0,16278.930000000002,2190.91,17374.385000000002,40,2.5000000000000001E-2,434.35962500000005,434.35999999999996,-3.749999999058673E-4]
[1835,"Overhead Conductors & Devices",161030.85000000003,0,161030.85000000003,19718.169999999998,170889.93500000003,45,2.2222222222222223E-2,3797.5541111111115,3797.5499999999997,4.1111111117970722E-3]
[1835,"Overhead Conductors & Devices",1740992.6999999995,0,1740992.6999999995,197181.68,1839583.5399999996,60,1.6666666666666666E-2,30659.725666666658,30659.73,-4.3333333414921071E-3]
[1840,"Underground Conduit",1686496.9700000002,438089.64999999997,1248407.3200000003,0,1248407.3200000003,25,0.04,49936.29280000001,43941.08,5995.2128000000084]
[1840,"Underground Conduit",-1166789.9400000002,-1422629.55,255839.60999999987,0,255839.60999999987,35,2.8571428571428571E-2,7309.703142857139,7299.61,10.093142857139355]
[1840,"Underground Conduit",54124.86,null,54124.86,0,54124.86,40,2.5000000000000001E-2,1353.1215,1353,0.12149999999996908]
[1840,"Underground Conduit",196069.1,0,196069.1,22971.79,207554.995,50,0.02,4151.0999000000002,4151.1000000000004,-1.0000000020227162E-4]
[1845,"Underground Conductors & Devices",276675.21000000002,-129412.36,406087.57,0,406087.57,25,0.04,16243.5028,16243.529999999997,-2.719999999681022E-2]
[1845,"Underground Conductors & Devices",798722.04,0,798722.04,131837.42000000001,864640.75,40,2.5000000000000001E-2,21616.018749999999,21616.03,-1.1249999999563443E-2]
[1850,"Line Transformers",866182.04999999981,-743946.35,1610128.4,0,1610128.4,25,0.04,64405.135999999999,103764.7212,-39359.585200000001]
[1850,"Line Transformers",1424074.84,0,{"$f":"C230-D230","v":1424074.84},153676.63,{"$f":"E230+0.5*F230","v":1500913.155},40,{"$f":"IF(H230=0,\"\",1/H230)","v":2.5000000000000001E-2},{"$f":"IF(H230=0,0,G230/H230)","v":37522.828874999999},37522.910000000003,{"$f":"IF(ISERROR(+J230-K230),\"\",+J230-K230)","v":-8.1125000004249159E-2}]
[1855,"Services (Overhead & Underground)",657447.41,-324028.17,981475.58000000007,0,981475.58000000007,25,0.04,39259.023200000003,39259.030800000008,-7.6000000044587068E-3]
[1855,"Services (Overhead & Underground)",533359.1,0,533359.1,139843.97999999998,603281.09,40,2.5000000000000001E-2,15082.027249999999,15082.03,-2.7500000014697434E-3]
[1855,"Services (Overhead & Underground)",216537.36000000002,0,216537.36000000002,27802.63,230438.67500000002,60,1.6666666666666666E-2,3840.6445833333337,3840.66,-1.5416666666169476E-2]
[1860,"Meters",98768.36,-5814.43,{"$f":"C234-D234","v":104582.79000000001},0,{"$f":"E234+0.5*F234","v":104582.79000000001},25,{"$f":"IF(H234=0,\"\",1/H234)","v":0.04},{"$f":"IF(H234=0,0,G234/H234)","v":4183.3116},4241.5939574721142,{"$f":"IF(ISERROR(+J234-K234),\"\",+J234-K234)","v":-58.282357472114199}]
[1860,"Meters",181559.40000000002,-1453.93,{"$f":"C235-D235","v":183013.33000000002},66700.649999999994,{"$f":"E235+0.5*F235","v":216363.65500000003},15,{"$f":"IF(H235=0,\"\",1/H235)","v":6.6666666666666666E-2},{"$f":"IF(H235=0,0,G235/H235)","v":14424.243666666669},14363.310000000001,{"$f":"IF(ISERROR(+J235-K235),\"\",+J235-K235)","v":60.933666666667705}]
[1860,"Meters (Smart Meters)",1645231,0,1645231,0,1645231,15,6.6666666666666666E-2,109682.06666666667,109681.99999999999,6.6666666680248454E-2]
[1915,"Office Furniture & Equipment (10 years)",45377.72,-2771.6399999999826,48149.359999999986,0,48149.359999999986,10,0.1,4814.9359999999988,4814.95,-1.4000000001033186E-2]
[1920,"Computer Equipment - Hardware",98441.12000000001,84929.616666666698,13511.503333333312,13428.49,20225.748333333311,3,0.33333333333333331,6741.9161111111034,7162.33,-420.41388888889651]
[1930,"Transportation Equipment",77377.31,77377.31,0,0,0,4,0.25,0,0,0]
[1930,"Transportation Equipment",129889.70999999999,106322.70999999999,23567,0,23567,5,0.2,4713.3999999999996,4713.3999999999996,0]
[1930,"Transportation Equipment",1134476.8600000001,75706.060000000172,{"$f":"C241-D241","v":1058770.7999999998},390985,{"$f":"E241+0.5*F241","v":1254263.2999999998},8,{"$f":"IF(H241=0,\"\",1/H241)","v":0.125},{"$f":"IF(H241=0,0,G241/H241)","v":156782.91249999998},156554.75,{"$f":"IF(ISERROR(+J241-K241),\"\",+J241-K241)","v":228.16249999997672}]
[1940,"Tools, Shop & Garage Equipment",92135.419999999969,659.85899999997991,91475.560999999987,1834,92392.560999999987,10,0.1,9239.2560999999987,9239.255000000001,1.0999999976775143E-3]
[1945,"Measurement & Testing Equipment",27817.05,-904.5,28721.55,0,28721.55,10,0.1,2872.1549999999997,2872.16,-5.0000000001091394E-3]
[1955,"Communications Equipment",26170.959999999999,4947.0429999999997,21223.917000000001,0,21223.917000000001,5,0.2,4244.7834000000003,4459.5420000000004,-214.75860000000011]
[1960,"Miscellaneous Equipment ",11498.8,-605.20000000000005,12104,0,12104,10,0.1,1210.4000000000001,1210.4000000000001,0]
[1980,"System Supervisor Equipment",122617.86,74735.458333333328,47882.401666666672,0,47882.401666666672,3,0.33333333333333331,15960.800555555557,15960.8,5.5555555809405632E-4]
[1980,"System Supervisor Equipment",8100,8100,0,0,0,5,0.2,0,0,0]
[1980,"System Supervisor Equipment",50708.160000000003,50708.160000000003,0,0,0,10,0.1,0,0,0]
[1980,"System Supervisor Equipment",-130454.90000000004,-130454.90000000004,0,0,0,15,6.6666666666666666E-2,0,0,0]
[1995,"Contributions & Grants",-892619.01,489090.42,-1381709.43,null,-1381709.43,25,0.04,{"$f":"IF(H250=0,0,G250/H250)","v":-55268.377199999995},-55268.36,{"$f":"IF(ISERROR(+J250-K250), \"\", +J250-K250)","v":-1.7199999994772952E-2}]
[1995,"Contributions & Grants",-634169.79,null,-634169.79,null,-634169.79,40,2.5000000000000001E-2,{"$f":"IF(H251=0,0,G251/H251)","v":-15854.244750000002},-15913.309999999998,{"$f":"IF(ISERROR(+J251-K251), \"\", +J251-K251)","v":59.065249999996013}]
[2040,"Contributions & Grants",-34000,-34000,0,null,0,3,0.33333333333333331,{"$f":"IF(H252=0,0,G252/H252)","v":0},0,{"$f":"IF(ISERROR(+J252-K252), \"\", +J252-K252)","v":0}]
[2040,"Contributions & Grants",-791286.72,null,-791286.72,-312299.71999999997,-947436.58,40,2.5000000000000001E-2,{"$f":"IF(H253=0,0,G253/H253)","v":-23685.914499999999},-23685.919999999998,{"$f":"IF(ISERROR(+J253-K253), \"\", +J253-K253)","v":5.4999999993015081E-3}]
[null,null,null,null,0,null,0,null,null,0,null,0]
[null,"Total",{"$f":"SUM(C202:C254)","v":15459843.910000006},{"$f":"SUM(D202:D254)","v":-4813939.4846666669},{"$f":"SUM(E202:E254)","v":20273783.394666672},{"$f":"SUM(F202:F254)","v":1023965.95},{"$f":"SUM(G202:G254)","v":20785766.36966667},null,null,{"$f":"SUM(J202:J254)","v":911849.25533762842},{"$f":"SUM(K202:K254)","v":927291.00055747211},{"$f":"SUM(L202:L254)","v":-15441.74521984372}]
[]
[]
[]
[null,null,"Year",2020,"IFRS"]
[]
["Account","Description","Opening Regulatory Gross PP&E as at Jan 1, 2020","Less Fully Depreciated","Net for Depreciation","Additions","Total for Depreciation","Years","Depreciation Rate","2020 Depreciation Expense","2020 Depreciation Expense per Appendix 2-B Fixed Assets, Column K\n (l)","Variance 2"]
[null,null,"(a)","(b)","(c)","(d)","(e) = (c) + ½ x (d) 1","(f)","(g) = 1 / (f)","(h) = (e) / (f)",null,"(m) = (h) - (l)"]
[1611,"Computer Software (Formally known as Account 1925)",286016.31,{"$f":"103007.47+77820.01+43174.05","v":224001.52999999997},{"$f":"C263-D263","v":62014.780000000028},5473.34,{"$f":"E263+0.5*F263","v":64751.450000000026},3,{"$f":"IF(H263=0,\"\",1/H263)","v":0.33333333333333331},{"$f":"IF(H263=0,0,G263/H263)","v":21583.816666666677},15937.04,{"$f":"IF(ISERROR(+J263-K263),\"\",+J263-K263)","v":5646.7766666666757}]
[1612,"Land Rights (Formally known as Account 1906)",2747.84,0,{"$f":"C264-D264","v":2747.84},0,{"$f":"E264+0.5*F264","v":2747.84},8,{"$f":"IF(H264=0,\"\",1/H264)","v":0.125},{"$f":"IF(H264=0,0,G264/H264)","v":343.48},335,{"$f":"IF(ISERROR(+J264-K264),\"\",+J264-K264)","v":8.4800000000000182}]
[1805,"Land",258350.32,0,258350.32,0,258350.32,0,"",{"$f":"IF(H265=0,0,G265/H265)","v":0},0,0]
[1808,"Buildings",{"$f":"53448.01+50589-120508.21","v":-16471.199999999997},{"$f":"50589-120508.21","v":-69919.210000000006},53448.010000000009,0,53448.010000000009,25,0.04,2137.9204000000004,{"$f":"2137.92","v":2137.92},4.0000000035433914E-4]
[1808,"Buildings",{"$f":"1899.41","v":1899.41},-5946.59,7846,0,7846,30,3.3333333333333333E-2,261.53333333333336,245,16.53333333333336]
[1808,"Buildings",{"$f":"731.25","v":731.25},null,731.25,0,731.25,45,2.2222222222222223E-2,16.25,{"$f":"16.25","v":16.25},0]
[1808,"Buildings",{"$f":"11333.1+90258.35","v":101591.45000000001},10553.1,91038.35,0,91038.35,50,0.02,1820.7670000000001,{"$f":"16+1804.94+7947.44","v":9768.3799999999992},-7947.6129999999994]
[1808,"Buildings",83618.960000000006,null,83618.960000000006,0,83618.960000000006,60,1.6666666666666666E-2,1393.6493333333335,1392,1.6493333333335158]
[1810,"Leasehold Improvements",{"$f":"287113.5+4189.19","v":291302.69},{"$f":"35148.36-78408.41","v":-43260.05},334562.74,50191.89,359658.685,25,0.04,14386.347400000001,14396.47,-10.122599999998783]
[1820,"Distribution Station Equipment <50 kV",{"$f":"10467.5+20717.5","v":31185},null,31185,0,31185,15,6.6666666666666666E-2,2079,{"$f":"697.83+1381.16","v":2078.9900000000002},9.9999999997635314E-3]
[1820,"Distribution Station Equipment <50 kV",{"$f":"77826.39-5795.7+1275+146.28-5711.18+241.41+9712.3+78102.84+10605.66+235266.37+10917.16+146334.71+512761.29","v":1071682.53},{"$f":"-68927.86+12803.49-5795.7-5711.18+7860.24-39805+36210+523.66+214988.98-442492+1946.27-96711.4","v":-385110.5},1456793.03,0,1456793.03,30,3.3333333333333333E-2,48559.767666666667,{"$f":"4462.86+48+8+313.3+455.9+679.87+364.22+19571.29+20315.76+2341.3","v":48560.5},-0.73233333333337214]
[1820,"Distribution Station Equipment <50 kV",{"$f":"790.61-20236.93-180996.22-5476.76","v":-205919.30000000002},{"$f":"790.61-20236.93-180996.22-5476.76","v":-205919.30000000002},0,0,0,34,2.9411764705882353E-2,0,0,0]
[1820,"Distribution Station Equipment <50 kV",{"$f":"4218.58+19080+18489.74+696.27+95296.79+1069.39+12316.2+97814.03+42508.1+2203.23","v":293692.33},696.27,292996.06,{"$f":"15684.12","v":15684.12},300838.12,40,2.5000000000000001E-2,7520.9529999999995,{"$f":"1881.38-640.63+2382.42+26.73+307.91+2445.35+1062.7+55.08","v":7520.94},1.2999999999919964E-2]
[1820,"Distribution Station Equipment <50 kV",{"$f":"28828.35+60405.69+23511.13+137314.38+34006.41","v":284065.96000000002},null,284065.96000000002,0,284065.96000000002,45,2.2222222222222223E-2,6312.5768888888897,{"$f":"640.63+1342.35+522.47+3051.44+755.7","v":6312.5899999999992},-1.3111111109537887E-2]
[1820,"Distribution Station Equipment <50 kV",{"$f":"27437.89","v":27437.89},null,27437.89,0,27437.89,50,0.02,548.75779999999997,{"$f":"548.76","v":548.76},-2.200000000016189E-3]
[1830,"Poles, Towers & Fixtures",{"$f":"972749.27+201820.68+247528.63+81278.9","v":1503377.48},{"$f":"-789994.76-103606.32-560917.14-48438.6","v":-1502956.8200000003},3006334.3000000003,0,3006334.3000000003,25,0.04,120253.37200000002,{"$f":"70509.78+12210.76+17729.01+5188.7","v":105638.24999999999},14615.122000000032]
[1830,"Poles, Towers & Fixtures",{"$f":"1081633.69+177248.1","v":1258881.79},null,1258881.79,{"$f":"59280.98","v":59280.98},1288522.28,45,2.2222222222222223E-2,28633.828444444443,{"$f":"24694.97+3938.84","v":28633.81},1.8444444442138774E-2]
[1835,"Overhead Conductors & Devices",{"$f":"1297611.39+37572.03+156729.68+34112.4+98881.23","v":1624906.7299999997},{"$f":"-754119.99-34918.3-107996.36-18722.5-56848.48","v":-972605.63},2597512.36,0,2597512.36,25,0.04,103900.4944,{"$f":"82069.26+2899.82+10589.04+2113.4+6229.19","v":103900.70999999999},-0.21559999999590218]
[1835,"Overhead Conductors & Devices",{"$f":"18469.84","v":18469.84},null,18469.84,{"$f":"1162.96","v":1162.96},19051.32,40,2.5000000000000001E-2,476.28300000000002,{"$f":"476.28","v":476.28},3.0000000000427463E-3]
[1835,"Overhead Conductors & Devices",{"$f":"166228.52+14520.5","v":180749.02},null,180749.02,{"$f":"10466.68+591.67","v":11058.35},186278.19499999998,45,2.2222222222222223E-2,4139.5154444444443,{"$f":"3810.26+329.25","v":4139.51},5.4444444440377993E-3]
[1835,"Overhead Conductors & Devices",{"$f":"1662285.05+275889.33","v":1938174.3800000001},null,1938174.3800000001,{"$f":"104666.79+11241.75","v":115908.54},1996128.6500000001,60,1.6666666666666666E-2,33268.810833333337,{"$f":"28576.96+4691.85","v":33268.81},8.3333333896007389E-4]
[1840,"Underground Conduit",{"$f":"1532580.72+153916.25+1561.7+6463.31","v":1694521.98},{"$f":"985695.36-265563.58+1561.7+6463.31","v":728156.79},966365.19,0,966365.19,25,0.04,38654.607599999996,{"$f":"21881.38+9448.15","v":31329.53},7325.0775999999969]
[1840,"Underground Conduit",{"$f":"775617.65-1950432.6","v":-1174814.9500000002},{"$f":"775617.65-1950432.6","v":-1174814.9500000002},0,0,0,35,2.8571428571428571E-2,0,0,0]
[1840,"Underground Conduit",{"$f":"54124.86","v":54124.86},54124.86,0,0,0,40,2.5000000000000001E-2,0,0,0]
[1840,"Underground Conduit",219040.89,null,219040.89,15277.66,226679.72,50,0.02,4533.5944,4533.6000000000004,-5.6000000004132744E-3]
[1845,"Underground Conductors & Devices",276675.21000000002,-129412.36,406087.57,0,406087.57,25,0.04,16243.5028,{"$f":"1655.4+14588.13","v":16243.529999999999},-2.719999999862921E-2]
[1845,"Underground Conductors & Devices",{"$f":"798722.04+131837.42","v":930559.46000000008},0,930559.46000000008,23419.1,942269.01000000013,40,2.5000000000000001E-2,23556.725250000003,23556.74,-1.4749999998457497E-2]
[1850,"Line Transformers",{"$f":"605462.22-113426.66+131710.72+237766.07+4669.71","v":866182.05999999982},{"$f":"-378579.44-224877.26-125564.63+4669.71","v":-724351.62},1590533.6799999997,0,1590533.6799999997,25,0.04,63621.347199999989,{"$f":"39352.64-4537.07+9393.03+14533.24","v":58741.84},4879.5071999999927]
[1850,"Line Transformers",{"$f":"898181.27+679570.2","v":1577751.47},0,1577751.47,{"$f":"195786.4+10905.78","v":206692.18},1681097.56,40,2.5000000000000001E-2,42027.438999999998,{"$f":"24901.86+17125.66","v":42027.520000000004},-8.1000000005587935E-2]
[1855,"Services (Overhead & Underground)",{"$f":"281037.9+284844.17+38084.58+53480.76","v":657447.41},{"$f":"-132096.11-133306.62-24221.01-34404.43","v":-324028.17},981475.58000000007,0,981475.58000000007,25,0.04,39259.023200000003,{"$f":"16677.61+16573.79+2492.22+3515.4","v":39259.020000000004},3.1999999991967343E-3]
[1855,"Services (Overhead & Underground)",{"$f":"533359.1+139843.98","v":673203.08},0,673203.08,48988.23,697697.19499999995,40,2.5000000000000001E-2,17442.429874999998,17442.43,-1.2500000229920261E-4]
[1855,"Services (Overhead & Underground)",{"$f":"216537.36+27802.63","v":244339.99},0,244339.99,21163.439999999999,254921.71,60,1.6666666666666666E-2,4248.6951666666664,{"$f":"4248.71","v":4248.71},-1.4833333333626797E-2]
[1860,"Meters",{"$f":"98768.36+2025.96","v":100794.32},{"$f":"-5814.43-1453.93","v":-7268.3600000000006},108062.68000000001,0,108062.68000000001,25,0.04,4322.5072,{"$f":"4210.22+143.66","v":4353.88},-31.372800000000097]
[1860,"Meters",246234.09,0,246234.09,89486.12,290977.15000000002,15,6.6666666666666666E-2,19398.476666666669,{"$f":"19398.48","v":19398.48},-3.3333333303744439E-3]
[1860,"Meters (Smart Meters)",1645231,0,1645231,0,1645231,15,6.6666666666666666E-2,109682.06666666667,109682,6.6666666665696539E-2]
[1915,"Office Furniture & Equipment (10 years)",45377.72,-2771.6399999999826,48149.359999999986,5574.39,50936.554999999986,10,0.1,5093.6554999999989,4799.4799999999996,294.17549999999937]
[1920,"Computer Equipment - Hardware",111869.61,{"$f":"59436.41+1668.77+25493.22","v":86598.399999999994},25271.210000000006,32756.85,41649.635000000009,3,0.33333333333333331,13883.21166666667,12817.11,1066.1016666666692]
[1930,"Transportation Equipment",77377.31,77377.31,0,0,0,4,0.25,0,0,0]
[1930,"Transportation Equipment",129889.70999999999,106322.70999999999,23567,0,23567,5,0.2,4713.3999999999996,2356.6999999999998,2356.6999999999998]
[1930,"Transportation Equipment",{"$f":"1134476.86+390985","v":1525461.86},75706.060000000172,{"$f":"C302-D302","v":1449755.7999999998},{"$f":"6560+46993.9","v":53553.9},{"$f":"E302+0.5*F302","v":1476532.7499999998},8,{"$f":"IF(H302=0,\"\",1/H302)","v":0.125},{"$f":"IF(H302=0,0,G302/H302)","v":184566.59374999997},{"$f":"177821.31-2356.7","v":175464.61},{"$f":"IF(ISERROR(+J302-K302),\"\",+J302-K302)","v":9101.9837499999849}]
[1935,"Stores Equipment",0,0,{"$f":"C303-D303","v":0},3472.21,{"$f":"E303+0.5*F303","v":1736.105},10,{"$f":"IF(H303=0,\"\",1/H303)","v":0.1},{"$f":"IF(H303=0,0,G303/H303)","v":173.6105},173.64,{"$f":"IF(ISERROR(+J303-K303),\"\",+J303-K303)","v":-2.9499999999984539E-2}]
[1940,"Tools, Shop & Garage Equipment",{"$f":"92080.48+1888.94","v":93969.42},{"$f":"-1229.08+1888.94","v":659.86000000000013},{"$f":"C304-D304","v":93309.56},0,{"$f":"E304+0.5*F304","v":93309.56},10,{"$f":"IF(H304=0,\"\",1/H304)","v":0.1},{"$f":"IF(H304=0,0,G304/H304)","v":9330.9560000000001},9214.2199999999993,{"$f":"IF(ISERROR(+J304-K304),\"\",+J304-K304)","v":116.73600000000079}]
[1945,"Measurement & Testing Equipment",27817.05,-904.5,28721.55,4971.3599999999997,31207.23,10,0.1,3120.723,3120.73,{"$f":"IF(ISERROR(+J305-K305), \"\", +J305-K305)","v":-7.0000000000618456E-3}]
[1955,"Communications Equipment",26170.959999999999,4947.0429999999997,21223.917000000001,0,21223.917000000001,5,0.2,4244.7834000000003,2122.39,{"$f":"IF(ISERROR(+J306-K306), \"\", +J306-K306)","v":2122.3934000000004}]
[1960,"Miscellaneous Equipment ",11498.8,-605.20000000000005,12104,2499,13353.5,10,0.1,1335.35,1335.35,0]
[1980,"System Supervisor Equipment",122617.86,74735.458333333328,47882.401666666672,3247,49505.901666666672,3,0.33333333333333331,16501.967222222225,10629.58,5872.3872222222253]
[1980,"System Supervisor Equipment",8100,8100,0,0,0,5,0.2,0,0,0]
[1980,"System Supervisor Equipment",50708.160000000003,50708.160000000003,0,0,0,10,0.1,0,0,0]
[1980,"System Supervisor Equipment",-130454.9,-130454.9,0,0,0,15,6.6666666666666666E-2,0,0,0]
[1995,"Contributions & Grants",{"$f":"-1381709.43+489090.42","v":-892619.01},489090.42,-1381709.43,null,-1381709.43,25,0.04,{"$f":"IF(H312=0,0,G312/H312)","v":-55268.377199999995},-55268.36,-1.7199999994772952E-2]
[1995,"Contributions & Grants",-634169.79,null,-634169.79,null,-634169.79,40,2.5000000000000001E-2,{"$f":"IF(H313=0,0,G313/H313)","v":-15854.244750000002},{"$f":"-71181.67+55268.36","v":-15913.309999999998},59.065249999996013]
[2040,"Contributions & Grants",-34000,-34000,0,null,0,3,0.33333333333333331,{"$f":"IF(H314=0,0,G314/H314)","v":0},0,0]
[2040,"Contributions & Grants",{"$f":"-114792.2-179612.46-96899.3-263532.76-136450-312299.72","v":-1103586.44},null,-1103586.44,-101292.73,-1154232.8049999999,40,2.5000000000000001E-2,{"$f":"IF(H315=0,0,G315/H315)","v":-28855.820124999998},{"$f":"-2869.81-4490.31-2422.48-6588.32-3411.25-7807.49-1266.16","v":-28855.819999999996},-1.2500000229920261E-4]
[null,null,null,null,0,null,0,null,"",0,null,0]
[null,"Total",{"$f":"SUM(C263:C316)","v":16483809.870000007},{"$f":"SUM(D263:D316)","v":-3722551.828666667},{"$f":"SUM(E263:E316)","v":20206361.698666662},{"$f":"SUM(F263:F316)","v":668568.8899999999},{"$f":"SUM(G263:G316)","v":20540646.14366667},null,null,{"$f":"SUM(J263:J316)","v":923613.3476000001},{"$f":"SUM(K263:K316)","v":878120.80999999994},{"$f":"SUM(L263:L316)","v":45492.537600000025}]
[]
[]
[]
[null,null,"Year",2021,"IFRS"]
[]
["Account","Description","Opening Regulatory Gross PP&E as at Jan 1, 2021","Less Fully Depreciated","Net for Depreciation","Additions","Total for Depreciation","Years","Depreciation Rate","2021 Depreciation Expense","2021 Depreciation Expense per Appendix 2-B Fixed Assets, Column K\n (l)","Variance 2"]
[null,null,"(a)","(b)","(c)","(d)","(e) = (c) + ½ x (d) 1","(f)","(g) = 1 / (f)","(h) = (e) / (f)",null,"(m) = (h) - (l)"]
[1611,"Computer Software (Formally known as Account 1925)",{"$f":"98515.6+84571.92+5394.66","v":188482.18000000002},{"$f":"91793.26+63081.41","v":154874.66999999998},{"$f":"C325-D325","v":33607.510000000038},{"$f":"114950+79469.95","v":194419.95},{"$f":"E325+0.5*F325","v":130817.48500000004},3,{"$f":"IF(H325=0,\"\",1/H325)","v":0.33333333333333331},{"$f":"IF(H325=0,0,G325/H325)","v":43605.828333333346},{"$f":"21105.11+18790.16+1798.22","v":41693.490000000005},{"$f":"IF(ISERROR(+J325-K325),\"\",+J325-K325)","v":1912.3383333333404}]
[1612,"Land Rights (Formally known as Account 1906)",2747.84,0,{"$f":"C326-D326","v":2747.84},0,{"$f":"E326+0.5*F326","v":2747.84},8,{"$f":"IF(H326=0,\"\",1/H326)","v":0.125},{"$f":"IF(H326=0,0,G326/H326)","v":343.48},335,{"$f":"IF(ISERROR(+J326-K326),\"\",+J326-K326)","v":8.4800000000000182}]
[1805,"Land",0,0,0,0,0,0,"",{"$f":"IF(H327=0,0,G327/H327)","v":0},0,0]
[1808,"Buildings",{"$f":"53448.01+50589-120508.21","v":-16471.199999999997},{"$f":"50589-120508.21","v":-69919.210000000006},53448.010000000009,0,53448.010000000009,25,0.04,2137.9204000000004,{"$f":"2137.92","v":2137.92},4.0000000035433914E-4]
[1808,"Buildings",{"$f":"1899.41","v":1899.41},-5946.59,7846,0,7846,30,3.3333333333333333E-2,261.53333333333336,245,16.53333333333336]
[1808,"Buildings",{"$f":"731.25","v":731.25},null,731.25,0,731.25,45,2.2222222222222223E-2,16.25,{"$f":"16.25","v":16.25},0]
[1808,"Buildings",{"$f":"11333.1+90258.35","v":101591.45000000001},10553.1,91038.35,0,91038.35,50,0.02,1820.7670000000001,{"$f":"16+1804.94","v":1820.94},-0.17300000000000182]
[1808,"Buildings",83618.960000000006,null,83618.960000000006,0,83618.960000000006,60,1.6666666666666666E-2,1393.6493333333335,1392,1.6493333333335158]
[1810,"Leasehold Improvements",{"$f":"341494.58","v":341494.58},{"$f":"43309.19-78408.41","v":-35099.22},376593.80000000005,10343.36,381765.48000000004,25,0.04,15270.619200000001,{"$f":"15278.05","v":15278.05},-7.4307999999982712]
[1820,"Distribution Station Equipment <50 kV",{"$f":"10467.5+20717.5","v":31185},null,31185,0,31185,15,6.6666666666666666E-2,2079,{"$f":"697.83+683.33+697.83","v":2078.9900000000002},9.9999999997635314E-3]
[1820,"Distribution Station Equipment <50 kV",{"$f":"77826.39-5795.7+1275+146.28-5711.18+241.41+9712.3+78102.84+10605.66+235266.37+10917.16+146334.71+512761.29","v":1071682.53},{"$f":"-68927.86+12803.49-5795.7-5711.18+7860.24-39805+36210+523.66+214988.98-442492+1946.27-96711.4+2404.08+342489.29","v":-40217.130000000005},1111899.6600000001,0,1111899.6600000001,30,3.3333333333333333E-2,37063.322000000007,{"$f":"4462.06+48+321.3+2341.3+173+282.9+595.79+364.22+8153.08+20315.76","v":37057.410000000003},5.9120000000038999]
[1820,"Distribution Station Equipment <50 kV",{"$f":"790.61-20236.93-180996.22-5476.76","v":-205919.30000000002},{"$f":"790.61-20236.93-180996.22-5476.76","v":-205919.30000000002},0,0,0,34,2.9411764705882353E-2,0,0,0]
[1820,"Distribution Station Equipment <50 kV",{"$f":"4218.58+19080+18489.74+696.27+95296.79+1069.39+12316.2+97814.03+42508.1+2203.23+15684.12","v":309376.45},696.27,308680.18,1134,309247.18,40,2.5000000000000001E-2,7731.1795000000002,{"$f":"2077.43-640.63+2396.6+26.73+307.91+2445.35+1062.7+55.08","v":7731.1699999999992},9.50000000102591E-3]
[1820,"Distribution Station Equipment <50 kV",{"$f":"28828.35+60405.69+23511.13+137314.38+34006.41","v":284065.96000000002},null,284065.96000000002,0,284065.96000000002,45,2.2222222222222223E-2,6312.5768888888897,{"$f":"640.63+1864.82+3051.44+755.7","v":6312.5899999999992},-1.3111111109537887E-2]
[1820,"Distribution Station Equipment <50 kV",{"$f":"27437.89","v":27437.89},null,27437.89,0,27437.89,50,0.02,548.75779999999997,{"$f":"548.76","v":548.76},-2.200000000016189E-3]
[1830,"Poles, Towers & Fixtures",{"$f":"81278.9+247528.63+201820.68+972749.27","v":1503377.48},{"$f":"-48438.6-560917.14-81336.77-599868.09","v":-1290560.6000000001},2793938.08,0,2793938.08,25,0.04,111757.5232,{"$f":"62912.3+11329.21+16354.52+5188.7","v":95784.73000000001},15972.793199999986]
[1830,"Poles, Towers & Fixtures",{"$f":"177248.1+1140914.67","v":1318162.77},0,1318162.77,228352.03,1432338.7849999999,45,2.2222222222222223E-2,31829.750777777776,{"$f":"27890.89+3938.84","v":31829.73},2.077777777594747E-2]
[1835,"Overhead Conductors & Devices",{"$f":"1297611.39+37572.03+98881.23+156729.68+34112.4","v":1624906.7299999997},{"$f":"-754119.99-34918.3-56848.48-107996.36-18722.5","v":-972605.63},2597512.36,0,2597512.36,25,0.04,103900.4944,{"$f":"82069.26+2899.82+6229.19+10589.04+2113.4","v":103900.70999999999},-0.21559999999590218]
[1835,"Overhead Conductors & Devices",{"$f":"19632.8","v":19632.8},0,19632.8,1791.06,20528.329999999998,40,2.5000000000000001E-2,513.20824999999991,{"$f":"513.2","v":513.20000000000005},8.2499999998617568E-3]
[1835,"Overhead Conductors & Devices",{"$f":"176695.2+15112.17","v":191807.37000000002},0,191807.37000000002,16119.53,199867.13500000004,45,2.2222222222222223E-2,4441.4918888888897,{"$f":"4105.66+335.83","v":4441.49},1.888888889880036E-3]
[1835,"Overhead Conductors & Devices",{"$f":"1766951.84+287131.08","v":2054082.9200000002},0,2054082.9200000002,161195.28,2134680.56,60,1.6666666666666666E-2,35578.009333333335,{"$f":"30792.48+4785.53","v":35578.01},-6.6666666680248454E-4]
[1840,"Underground Conduit",{"$f":"1532580.72+153916.25","v":1686496.97},{"$f":"1071404.44-265563.58","v":805840.85999999987},880656.1100000001,0,880656.1100000001,25,0.04,35226.244400000003,{"$f":"18455.74+8993.22","v":27448.959999999999},7777.2844000000041]
[1840,"Underground Conduit",{"$f":"775617.65-1950432.6","v":-1174814.9500000002},{"$f":"775617.65-1950432.6","v":-1174814.9500000002},0,0,0,35,2.8571428571428571E-2,0,0,0]
[1840,"Underground Conduit",{"$f":"54124.86","v":54124.86},{"$f":"54124.86","v":54124.86},0,0,0,40,2.5000000000000001E-2,0,0,0]
[1840,"Underground Conduit",{"$f":"234318.55","v":234318.55},0,234318.55,5973.83,237305.465,50,0.02,4746.1093000000001,{"$f":"4746.11","v":4746.1099999999997},-6.9999999959691195E-4]
[1845,"Underground Conductors & Devices",{"$f":"250188.89+26486.32","v":276675.21000000002},{"$f":"-114513.76-14898.6","v":-129412.36},406087.57,0,406087.57,25,0.04,16243.5028,{"$f":"14588.13+1655.4","v":16243.529999999999},-2.719999999862921E-2]
[1845,"Underground Conductors & Devices",{"$f":"953978.56","v":953978.56},0,953978.56,{"$f":"55439.44","v":55439.44},981698.28,40,2.5000000000000001E-2,24542.457000000002,{"$f":"24542.47","v":24542.47},-1.299999999901047E-2]
[1850,"Line Transformers",{"$f":"492035.56+131710.72+237766.06","v":861512.34000000008},{"$f":"-336862.82-224877.26-125564.63","v":-687304.71000000008},1548817.0500000003,0,1548817.0500000003,25,0.04,61952.682000000008,{"$f":"33155.31+8125.83+14533.24","v":55814.38},6138.3020000000106]
[1850,"Line Transformers",{"$f":"1093967.67+690475.98","v":1784443.65},0,1784443.65,{"$f":"192990.27","v":192990.27},1880938.7849999999,40,2.5000000000000001E-2,47023.469624999998,{"$f":"29761.57+17261.98","v":47023.55},-8.0375000005005859E-2]
[1855,"Services (Overhead & Underground)",{"$f":"284844.17+281037.9+38084.58+53480.76","v":657447.41},{"$f":"-132096.11-133306.62-24221.01-34404.43","v":-324028.17},981475.58000000007,0,981475.58000000007,25,0.04,39259.023200000003,{"$f":"16677.61+16573.79+2492.22+3515.4","v":39259.020000000004},3.1999999991967343E-3]
[1855,"Services (Overhead & Underground)",{"$f":"722191.31","v":722191.31},0,722191.31,0,722191.31,40,2.5000000000000001E-2,18054.782750000002,{"$f":"18054.79","v":18054.79},-7.2499999987485353E-3]
[1855,"Services (Overhead & Underground)",{"$f":"265503.43","v":265503.43},0,265503.43,78455.81,304731.33499999996,60,1.6666666666666666E-2,5078.855583333333,{"$f":"5078.87","v":5078.87},-1.4416666666875244E-2]
[1860,"Meters",{"$f":"98768.36+2025.96","v":100794.32},{"$f":"-5814.43-1453.93","v":-7268.3600000000006},108062.68000000001,0,108062.68000000001,25,0.04,4322.5072,{"$f":"4193.17+126.76","v":4319.93},2.5771999999997206]
[1860,"Meters",{"$f":"335720.21","v":335720.21},0,335720.21,{"$f":"115736.5","v":115736.5},393588.46,15,6.6666666666666666E-2,26239.230666666666,{"$f":"26239.23","v":26239.23},6.6666666680248454E-4]
[1860,"Meters (Smart Meters)",{"$f":"1645231","v":1645231},0,1645231,0,1645231,15,6.6666666666666666E-2,109682.06666666667,{"$f":"109681.98","v":109681.98},8.6666666669771075E-2]
[1915,"Office Furniture & Equipment (10 years)",{"$f":"50952.11","v":50952.11},3111.74,47840.37,36560.699999999997,66120.72,10,0.1,6612.0720000000001,6483.48,128.59200000000055]
[1920,"Computer Equipment - Hardware",{"$f":"260986.5-141853.26","v":119133.23999999999},67501.850000000006,51631.389999999985,141853.26,122558.01999999999,3,0.33333333333333331,40852.673333333332,{"$f":"39944.99","v":39944.99},907.6833333333343]
[1930,"Transportation Equipment",{"$f":"77377.71","v":77377.710000000006},77377.710000000006,0,0,0,4,0.25,0,0,0]
[1930,"Transportation Equipment",129889.70999999999,{"$f":"106322.71+23567","v":129889.71},0,0,0,5,0.2,0,0,0]
[1930,"Transportation Equipment",{"$f":"1522190.02-129889.71-77377.71-13602.08","v":1301320.52},-56357.53,1357678.05,13602.08,1364479.09,8,0.125,170559.88625000001,{"$f":"145477.16","v":145477.16},25082.726250000007]
[1935,"Stores Equipment",3472.71,0,3472.71,0,3472.71,10,0.1,347.27100000000002,347.27,1.0000000000331966E-3]
[1940,"Tools, Shop & Garage Equipment",{"$f":"92080.48","v":92080.48},1105.82,90974.659999999989,2000,91974.659999999989,10,0.1,9197.4659999999985,{"$f":"8941.81","v":8941.81},255.65599999999904]
[1945,"Measurement & Testing Equipment",{"$f":"32788.41","v":32788.410000000003},-904.5,33692.910000000003,0,33692.910000000003,10,0.1,3369.2910000000002,{"$f":"3369.3","v":3369.3},-9.0000000000145519E-3]
[1955,"Communications Equipment",26170.959999999999,26170.959999999999,0,0,0,5,0.2,0,0,0]
[1960,"Miscellaneous Equipment ",13997.8,-605.20000000000005,14603,0,14603,10,0.1,1460.3,1460.3,0]
[1980,"System Supervisor Equipment",{"$f":"125864.86","v":125864.86},109969.77,15895.089999999997,0,15895.089999999997,3,0.33333333333333331,5298.3633333333319,3190.34,2108.0233333333317]
[1980,"System Supervisor Equipment",8100,8100,0,0,0,5,0.2,0,0,0]
[1980,"System Supervisor Equipment",50708.160000000003,50708.160000000003,0,0,0,10,0.1,0,0,0]
[1980,"System Supervisor Equipment",-130454.9,-130454.9,0,0,0,15,6.6666666666666666E-2,0,0,0]
[1995,"Contributions & Grants",{"$f":"-1381709.43+489090.42","v":-892619.01},489090.42,-1381709.43,null,-1381709.43,25,0.04,{"$f":"IF(H374=0,0,G374/H374)","v":-55268.377199999995},-55268.36,{"$f":"IF(ISERROR(+J374-K374), \"\", +J374-K374)","v":-1.7199999994772952E-2}]
[1995,"Contributions & Grants",-634169.79,null,-634169.79,null,-634169.79,40,2.5000000000000001E-2,{"$f":"IF(H375=0,0,G375/H375)","v":-15854.244750000002},{"$f":"-71181.67+55268.36","v":-15913.309999999998},{"$f":"IF(ISERROR(+J375-K375), \"\", +J375-K375)","v":59.065249999996013}]
[2040,"Contributions & Grants",-34000,-34000,0,null,0,3,0.33333333333333331,{"$f":"IF(H376=0,0,G376/H376)","v":0},0,{"$f":"IF(ISERROR(+J376-K376), \"\", +J376-K376)","v":0}]
[2040,"Contributions & Grants",{"$f":"-114792.2-179612.46-96899.3-263532.76-136450-312299.72-101292.73","v":-1204879.17},null,-1204879.17,-194750,-1302254.17,40,2.5000000000000001E-2,{"$f":"IF(H377=0,0,G377/H377)","v":-32556.354249999997},{"$f":"-2869.81-4490.31-2422.48-6588.32-3411.25-7807.49-2532.32-2434.38","v":-32556.359999999997},{"$f":"IF(ISERROR(+J377-K377), \"\", +J377-K377)","v":5.7500000002619345E-3}]
[null,null,null,null,{"$f":"C378-D378","v":0},0,{"$f":"E378+0.5*F378","v":0},null,{"$f":"IF(H378=0,\"\",1/H378)","v":""},{"$f":"IF(H378=0,0,G378/H378)","v":0},0,{"$f":"IF(ISERROR(+J378-K378),\"\",+J378-K378)","v":0}]
[null,"Total",{"$f":"SUM(C325:C378)","v":16473249.740000008},{"$f":"SUM(D325:D378)","v":-3176302.46},{"$f":"SUM(E325:E378)","v":19649552.200000003},{"$f":"SUM(F325:F378)","v":1061217.1000000001},{"$f":"SUM(G325:G378)","v":20180160.75},null,null,{"$f":"SUM(J325:J378)","v":932994.63954722241},{"$f":"SUM(K325:K378)","v":872624.88000000024},{"$f":"SUM(L325:L378)","v":60369.759547222231}]
[]
[]
[]
[null,null,"Year",2022,"IFRS"]
[]
["Account","Description","Opening Regulatory Gross PP&E as at Jan 1, 2021","Less Fully Depreciated","Net for Depreciation","Additions","Total for Depreciation","Years","Depreciation Rate","2022 Depreciation Expense","2022 Depreciation Expense per Appendix 2-B Fixed Assets, Column K\n (l)","Variance 2"]
[null,null,"(a)","(b)","(c)","(d)","(e) = (c) + ½ x (d) 1","(f)","(g) = 1 / (f)","(h) = (e) / (f)",null,"(m) = (h) - (l)"]
[1611,"Computer Software (Formally known as Account 1925)",382902.13,166348.68,{"$f":"C387-D387","v":216553.45},55000,{"$f":"E387+0.5*F387","v":244053.45},3,{"$f":"IF(H387=0,\"\",1/H387)","v":0.33333333333333331},{"$f":"IF(H387=0,0,G387/H387)","v":81351.150000000009},78574.460000000006,{"$f":"IF(ISERROR(+J387-K387),\"\",+J387-K387)","v":2776.6900000000023}]
[1612,"Land Rights (Formally known as Account 1906)",2747.84,0,{"$f":"C388-D388","v":2747.84},null,{"$f":"E388+0.5*F388","v":2747.84},8,{"$f":"IF(H388=0,\"\",1/H388)","v":0.125},{"$f":"IF(H388=0,0,G388/H388)","v":343.48},67.84,{"$f":"IF(ISERROR(+J388-K388),\"\",+J388-K388)","v":275.64}]
[1805,"Land",0,0,0,null,0,0,"",{"$f":"IF(H389=0,0,G389/H389)","v":0},0,0]
[1808,"Buildings",-16471.199999999997,-69919.210000000006,53448.010000000009,null,53448.010000000009,25,0.04,2137.9204000000004,2137.92,4.0000000035433914E-4]
[1808,"Buildings",1899.41,-5946.59,7846,null,7846,30,3.3333333333333333E-2,261.53333333333336,245,16.53333333333336]
[1808,"Buildings",731.25,null,731.25,null,731.25,45,2.2222222222222223E-2,16.25,16.25,0]
[1808,"Buildings",101591.45000000001,10553.1,91038.35,null,91038.35,50,0.02,1820.7670000000001,1820.94,-0.17300000000000182]
[1808,"Buildings",83618.960000000006,null,83618.960000000006,null,83618.960000000006,60,1.6666666666666666E-2,1393.6493333333335,1392,1.6493333333335158]
[1810,"Leasehold Improvements",351837.94,-35099.22,386937.16000000003,42000,407937.16000000003,25,0.04,16317.486400000002,16306.6,10.886400000001231]
[1820,"Distribution Station Equipment <50 kV",31185,null,31185,null,31185,15,6.6666666666666666E-2,2079,2078.9900000000002,9.9999999997635314E-3]
[1820,"Distribution Station Equipment <50 kV",1071682.53,207709.15,863973.38,null,863973.38,30,3.3333333333333333E-2,28799.112666666668,28795.85,3.2626666666692472]
[1820,"Distribution Station Equipment <50 kV",-205919.30000000002,-205919.30000000002,0,null,0,34,2.9411764705882353E-2,0,0,0]
[1820,"Distribution Station Equipment <50 kV",2229057.17,696.27,2228360.9,810000,2633360.9,40,2.5000000000000001E-2,65834.022499999992,65834.010000000009,1.2499999982537702E-2]
[1820,"Distribution Station Equipment <50 kV",284065.96000000002,null,284065.96000000002,null,284065.96000000002,45,2.2222222222222223E-2,6312.5768888888897,6312.5900000000011,-1.3111111111356877E-2]
[1820,"Distribution Station Equipment <50 kV",27437.89,null,27437.89,null,27437.89,50,0.02,548.75779999999997,548.76,-2.200000000016189E-3]
[1830,"Poles, Towers & Fixtures",1503377.48,-965722.21000000008,2469099.69,null,2469099.69,25,0.04,98763.987599999993,80979.44,17784.547599999991]
[1830,"Poles, Towers & Fixtures",1559134.1500000001,0,1559134.1500000001,370975.75,1744622.0250000001,45,2.2222222222222223E-2,38769.378333333334,38769.360000000001,1.8333333333430346E-2]
[1830,"Poles, Towers & Fixtures",34959.29,0,34959.29,null,34959.29,50,0.02,699.18579999999997,699.19,-4.2000000000825821E-3]
[1835,"Overhead Conductors & Devices",1624906.7299999997,-972605.63,2597512.36,null,2597512.36,25,0.04,103900.4944,103900.70999999999,-0.21559999999590218]
[1835,"Overhead Conductors & Devices",21888.400000000001,0,21888.400000000001,2396.92,23086.86,40,2.5000000000000001E-2,577.17150000000004,577.16,1.1500000000069122E-2]
[1835,"Overhead Conductors & Devices",212881.18999999997,0,212881.18999999997,21572.240000000002,223667.30999999997,45,2.2222222222222223E-2,4970.3846666666659,4970.3799999999992,4.6666666667078971E-3]
[1835,"Overhead Conductors & Devices",2271782.0500000003,0,2271782.0500000003,215722.35,2379643.2250000001,60,1.6666666666666666E-2,39660.720416666671,39660.729999999996,-9.5833333252812736E-3]
[1840,"Underground Conduit",1686496.97,877152.29999999981,809344.67000000016,null,809344.67000000016,25,0.04,32373.786800000005,24137.06,8236.726800000004]
[1840,"Underground Conduit",-1174814.9500000002,-1174814.9500000002,0,null,0,35,2.8571428571428571E-2,0,0,0]
[1840,"Underground Conduit",54124.86,54124.86,0,null,0,40,2.5000000000000001E-2,0,0,0]
[1840,"Underground Conduit",250601.02000000002,0,250601.02000000002,59970.29,280586.16500000004,50,0.02,5611.7233000000006,5611.72,3.3000000003085006E-3]
[1845,"Underground Conductors & Devices",276675.21000000002,-129412.36,406087.57,null,406087.57,25,0.04,16243.5028,16243.529999999999,-2.719999999862921E-2]
[1845,"Underground Conductors & Devices",1010178.14,0,1010178.14,154432.64000000001,1087394.46,40,2.5000000000000001E-2,27184.861499999999,27165.88,18.98149999999805]
[1850,"Line Transformers",861512.34000000008,-603854.35000000009,1465366.6900000002,null,1465366.6900000002,25,0.04,58614.667600000008,51326.189999999995,7288.4776000000129]
[1850,"Line Transformers",1986862.92,0,1986862.92,311611.99,2142668.915,40,2.5000000000000001E-2,53566.722874999999,53566.810000000005,-8.712500000547152E-2]
[1855,"Services (Overhead & Underground)",657447.41,-324028.17,981475.58000000007,null,981475.58000000007,25,0.04,39259.023200000003,39259.020000000004,3.1999999991967343E-3]
[1855,"Services (Overhead & Underground)",722191.31,0,722191.31,null,722191.31,40,2.5000000000000001E-2,18054.782750000002,18054.79,-7.2499999987485353E-3]
[1855,"Services (Overhead & Underground)",343959.24,0,343959.24,80918.149999999994,384418.315,60,1.6666666666666666E-2,6406.9719166666664,6406.99,-1.8083333333379414E-2]
[1860,"Meters",100794.32,-7268.3600000000006,108062.68000000001,null,108062.68000000001,25,0.04,4322.5072,4264.33,58.177200000000084]
[1860,"Meters",451456.71,0,451456.71,113530.89,508222.15500000003,15,6.6666666666666666E-2,33881.476999999999,33881.480000000003,-3.0000000042491592E-3]
[1860,"Meters (Smart Meters)",1645231,56147.839999999997,1589083.16,null,1589083.16,15,6.6666666666666666E-2,105938.87733333332,105938.87,7.3333333275513723E-3]
[1915,"Office Furniture & Equipment (10 years)",87512.81,5683.94,81828.87,5000,84328.87,10,0.1,8432.8869999999988,8432.9,-1.3000000000829459E-2]
[1920,"Computer Equipment - Hardware",260986.5,72947.900000000009,188038.59999999998,11000,193538.59999999998,3,0.33333333333333331,64512.866666666661,62274.79,2238.0766666666605]
[1930,"Transportation Equipment",77377.710000000006,77377.710000000006,0,null,0,4,0.25,0,0,0]
[1930,"Transportation Equipment",129889.70999999999,129889.71,0,null,0,5,0.2,0,0,0]
[1930,"Transportation Equipment",1314922.6000000001,344968.66000000003,969953.94000000006,5000,972453.94000000006,8,0.125,121556.74250000001,119641.57,1915.1725000000006]
[1935,"Stores Equipment",3472.71,0,3472.71,null,3472.71,10,0.1,347.27100000000002,347.27,1.0000000000331966E-3]
[1940,"Tools, Shop & Garage Equipment",94080.48,6219.4299999999994,87861.05,2000,88861.05,10,0.1,8886.1049999999996,8266.2000000000007,619.90499999999884]
[1945,"Measurement & Testing Equipment",32788.410000000003,-904.5,33692.910000000003,19210,43297.91,10,0.1,4329.7910000000002,4329.8,-9.0000000000145519E-3]
[1955,"Communications Equipment",26170.959999999999,26170.959999999999,0,null,0,5,0.2,0,0,0]
[1960,"Miscellaneous Equipment ",13997.8,-605.20000000000005,14603,null,14603,10,0.1,1460.3,1460.3,0]
[1980,"System Supervisor Equipment",125864.86,122617.86,3247,null,3247,3,0.33333333333333331,1082.3333333333333,1082.33,3.3333333333303017E-3]
[1980,"System Supervisor Equipment",8100,8100,0,null,0,5,0.2,0,0,0]
[1980,"System Supervisor Equipment",61915.89,50708.160000000003,11207.729999999996,45000,33707.729999999996,10,0.1,3370.7729999999997,3370.77,2.9999999997016857E-3]
[1980,"System Supervisor Equipment",-130454.9,-130454.9,0,null,0,15,6.6666666666666666E-2,0,0,0]
[1995,"Contributions & Grants",-892619.01,489090.42,-1381709.43,null,-1381709.43,25,0.04,{"$f":"IF(H437=0,0,G437/H437)","v":-55268.377199999995},-55268.36,{"$f":"IF(ISERROR(+J437-K437), \"\", +J437-K437)","v":-1.7199999994772952E-2}]
[1995,"Contributions & Grants",-634169.79,null,-634169.79,null,-634169.79,40,2.5000000000000001E-2,{"$f":"IF(H438=0,0,G438/H438)","v":-15854.244750000002},-15913.31,{"$f":"IF(ISERROR(+J438-K438), \"\", +J438-K438)","v":59.065249999997832}]
[2040,"Contributions & Grants",-34000,-34000,0,null,0,3,0.33333333333333331,{"$f":"IF(H439=0,0,G439/H439)","v":0},0,{"$f":"IF(ISERROR(+J439-K439), \"\", +J439-K439)","v":0}]
[2040,"Contributions & Grants",-1399629.17,null,-1399629.17,-423652,-1611455.17,40,2.5000000000000001E-2,{"$f":"IF(H440=0,0,G440/H440)","v":-40286.379249999998},-40286.379999999997,{"$f":"IF(ISERROR(+J440-K440), \"\", +J440-K440)","v":7.4999999924330041E-4}]
[null,null,null,null,{"$f":"C441-D441","v":0},null,{"$f":"E441+0.5*F441","v":0},null,{"$f":"IF(H441=0,\"\",1/H441)","v":""},{"$f":"IF(H441=0,0,G441/H441)","v":0},null,{"$f":"IF(ISERROR(+J441-K441),\"\",+J441-K441)","v":0}]
[null,"Total",{"$f":"SUM(C387:C441)","v":19594220.390000001},{"$f":"SUM(D387:D441)","v":-1954048.0000000005},{"$f":"SUM(E387:E441)","v":21548268.390000001},{"$f":"SUM(F387:F441)","v":1901689.2200000002},{"$f":"SUM(G387:G441)","v":22499113.000000007},null,null,{"$f":"SUM(J387:J441)","v":998586.00161388901},{"$f":"SUM(K387:K441)","v":957282.73000000021},{"$f":"SUM(L387:L441)","v":41303.271613888872}]

{"sheet":"App.2-D_Overhead","index":13,"n_rows":49,"n_cols":8,"rows_kept":49,"cut":false,"hidden":false,"merged":[[63,0,64,0],[49,0,50,0],[49,1,50,1],[52,0,53,0],[55,0,56,0],[58,0,61,0],[8,0,8,7],[9,0,9,7],[13,0,15,0],[30,0,32,0],[30,7,32,7],[11,0,11,5],[28,0,28,5]]}
[null,null,null,null,null,null,"File Number:",{"$f":"EBNUMBER","v":"EB-2021-0052"}]
[null,null,null,null,null,null,"Exhibit:"]
[null,null,null,null,null,null,"Tab:"]
[null,null,null,null,null,null,"Schedule:"]
[null,null,null,null,null,null,"Page:"]
[]
[null,null,null,null,null,null,"Date:"]
[]
["Appendix 2-D"]
["Overhead Expense"]
[]
["Applicants are to provide a breakdown of OM&A before capitalization in the below table.  OM&A before capitalization may be broken down by cost center, program, drivers or another format best suited to focus on capitalized vs. uncapitalized OM&A."]
[]
[" OM&A Before Capitalization"]
[null,{"$f":"F15-4","v":2018},{"$f":"F15-3","v":2019},{"$f":"F15-2","v":2020},{"$f":"F15-1","v":2021},{"$f":"TestYear","v":2022}]
[null,"Historical Year","Historical Year","Historical Year","Bridge Year","Test Year"]
["Operations",484252.12000000005,513327.29000000004,785740.6100000001,815322.4546500002,901090.53]
["Maintenance",500383.53,645567.21,501235.75999999995,562975.4800000001,576746.93999999994]
["Billing and Collecting",668040.85999999987,748224.19,837379.92999999982,951322.46,962860.32000000007]
["Community Relations",71838.16,64146.95,30337.83,41361.550000000003,42318.43]
["Administrative and General",{"$f":"1076915.34+B34","v":1255891.27},{"$f":"1235809.86+C34","v":1341688.01},{"$f":"1203797.37+D34","v":1278551.75},{"$f":"1158155.46+E34","v":1270067.27},{"$f":"1225378.1142+F34","v":1340251.3942}]
[]
[]
[]
[]
[]
["Total OM&A Before Capitalization (B)",{"$f":"SUM(B17:B26)","v":2980405.94},{"$f":"SUM(C17:C26)","v":3312953.65},{"$f":"SUM(D17:D26)","v":3433245.88},{"$f":"SUM(E17:E26)","v":3641049.21465},{"$f":"SUM(F17:F26)","v":3823267.6142000002}]
[]
["Applicants are to provide a breakdown of capitalized OM&A in the below table. Capitalized OM&A may be broken down using the categories listed in the table below if possible. Otherwise, applicants are to provide its own break down of capitalized OM&A."]
[]
["Capitalized OM&A",null,null,null,null,null,"Directly","Explanation for Change in Overhead Capitalized"]
[null,{"$f":"F32-4","v":2018},{"$f":"F32-3","v":2019},{"$f":"F32-2","v":2020},{"$f":"F32-1","v":2021},{"$f":"TestYear","v":2022},"Attributable?"]
[null,"Historical Year","Historical Year","Historical Year","Bridge Year","Test Year","(Yes/No)"]
["employee benefits",178975.93,105878.15,74754.38,{"$f":"4070.65+107841.16","v":111911.81},{"$f":"4178.36+110694.92","v":114873.28},"Yes"]
["costs of site preparation",0,0,0,0,0]
["initial delivery and handling costs",0,0,0,0,0]
["costs of testing whether the asset is functioning properly",0,0,0,0,0]
["professional fees",0,0,0,0,0]
[]
["costs of opening a new facility",0,0,0,0,0]
["costs of introducing a new product or service (including costs of advertising and promotional activities)",0,0,0,0,0]
["costs of conducting business in a new location or with a new class of customer (including costs of staff training)",0,0,0,0,0]
["administration and other general overhead costs",0,0,0,0,0]
[]
[]
[]
["Total Capitalized OM&A (A)",{"$f":"SUM(B34:B46)","v":178975.93},{"$f":"SUM(C34:C46)","v":105878.15},{"$f":"SUM(D34:D46)","v":74754.38},{"$f":"SUM(E34:E46)","v":111911.81},{"$f":"SUM(F34:F46)","v":114873.28}]
[]
["% of Capitalized OM&A (=A/B)",{"$f":"IF(ISERROR(B47/B27),\"0%\",B47/B27)","v":6.0050856696386802E-2},{"$f":"IF(ISERROR(C47/C27),\"0%\",C47/C27)","v":3.195883830128441E-2},{"$f":"IF(ISERROR(D47/D27),\"0%\",D47/D27)","v":2.1773675004016901E-2},{"$f":"IF(ISERROR(E47/E27),\"0%\",E47/E27)","v":3.0736143183595403E-2},{"$f":"IF(ISERROR(F47/F27),\"0%\",F47/F27)","v":3.0045838165591414E-2}]

{"sheet":"App.2-EA_Account 1575 (2015)","index":14,"n_rows":47,"n_cols":9,"rows_kept":47,"cut":false,"hidden":true,"merged":[[47,0,47,9],[52,0,53,8],[25,1,26,5],[31,1,31,5],[37,6,38,7],[37,8,38,8],[20,1,20,5],[8,0,8,8],[9,0,9,8],[10,0,10,8],[12,0,12,8],[14,0,14,8]]}
[null,null,null,null,null,null,null,"File Number:",{"$f":"EBNUMBER","v":"EB-2021-0052"}]
[null,null,null,null,null,null,null,"Exhibit:"]
[null,null,null,null,null,null,null,"Tab:"]
[null,null,null,null,null,null,null,"Schedule:"]
[null,null,null,null,null,null,null,"Page:"]
[]
[null,null,null,null,null,null,null,"Date:"]
[]
["Appendix 2-EA"]
["Account 1575 - IFRS-CGAAP Transitional PP&E Amounts"]
["2015 Adopters of IFRS for Financial Reporting Purposes"]
[]
["For applicants that adopted IFRS on January 1, 2015 for financial reporting purposes"]
[]
[]
[]
[null,2014,{"$f":"TestYear-3","v":2019},{"$f":"TestYear-2","v":2020},{"$f":"CONCATENATE(TestYear-1,\" Bridge Year\")","v":"2021 Bridge Year"},{"$f":"CONCATENATE(TestYear,\" Rebasing Year\")","v":"2022 Rebasing Year"}]
["Reporting Basis","CGAAP","CGAAP","CGAAP","MIFRS","MIFRS"]
[null,"Actual","Actual","Actual","Forecast","Forecast"]
[null,null,null,"$","$"]
["PP&E Values under CGAAP"]
["            Opening net PP&E - Note 1",null,{"$f":"+B25","v":0},{"$f":"+C25","v":0},{"$f":"+D25","v":0}]
["            Net Additions - Note 4"]
["            Net Depreciation (amounts should be negative) - Note 4"]
["            Closing net PP&E (1)",{"$f":"SUM(B22:B24)","v":0},{"$f":"SUM(C22:C24)","v":0},{"$f":"SUM(D22:D24)","v":0},{"$f":"SUM(E22:E24)","v":0}]
[]
["PP&E Values under MIFRS (Starts from 2014, the transition year)"]
["            Opening net PP&E  - Note 1",null,{"$f":"+B31","v":0},{"$f":"+C31","v":0},{"$f":"+D31","v":0}]
["            Net Additions - Note 4"]
["            Net Depreciation (amounts should be negative) - Note 4"]
["            Closing net PP&E (2)",{"$f":"SUM(B28:B30)","v":0},{"$f":"SUM(C28:C30)","v":0},{"$f":"SUM(D28:D30)","v":0},{"$f":"SUM(E28:E30)","v":0}]
[]
["Difference in Closing net PP&E, former CGAAP vs. revised CGAAP ",{"$f":"B25-B31","v":0},{"$f":"C25-C31","v":0},{"$f":"D25-D31","v":0},{"$f":"E25-E31","v":0}]
[]
[]
["Effect on Deferral and Variance Account Rate Riders"]
["Closing balance in Account 1575",null,null,null,null,{"$f":"IF(ISERROR(E33), 0, E33)","v":0},null,"WACC"]
["Return on Rate Base Associated with Account 1575 balance at WACC  - Note 2",null,null,null,null,{"$f":"E33*I37*I38","v":0},"# of years of rate rider disposition period"]
["     Amount included in Deferral and Variance Account Rate Rider Calculation",null,null,null,null,{"$f":"F37+F38","v":0}]
[]
["Notes:"]
["1  For an applicant that adopted IFRS on January 1, 2015, the PP&E values as of January 1, 2014 under both CGAAP and MIFRS should be the same. "]
["2 Return on rate base associated with deferred balance is calculated as:"]
["     the deferral account closing balance as of 2017 x WACC X # of years of rate rider disposition period"]
["     * Please note that the calculation should be adjusted once WACC is updated and finalized in the rate application."]
["3  The  PP&E deferral account is cleared by including the total balance in the deferral and variance account rate rider calculation."]
["4  Net additions are additions net of disposals; Net depreciation is additions to depreciation net of disposals."]

{"sheet":"App.2-EB_Account 1576 (2012)","index":15,"n_rows":48,"n_cols":12,"rows_kept":48,"cut":false,"hidden":true,"merged":[[41,0,41,12],[45,0,45,10],[8,0,8,11],[9,0,9,11],[10,0,10,11],[12,0,13,11],[14,0,14,11],[20,1,20,8],[25,1,26,8],[31,1,31,8],[37,9,38,10],[37,11,38,11]]}
[null,null,null,null,null,null,null,null,null,null,"File Number:",{"$f":"EBNUMBER","v":"EB-2021-0052"}]
[null,null,null,null,null,null,null,null,null,null,"Exhibit:"]
[null,null,null,null,null,null,null,null,null,null,"Tab:"]
[null,null,null,null,null,null,null,null,null,null,"Schedule:"]
[null,null,null,null,null,null,null,null,null,null,"Page:"]
[]
[null,null,null,null,null,null,null,null,null,null,"Date:"]
[]
["Appendix 2-EB"]
["Account 1576 - Accounting Changes under CGAAP"]
["2012 Changes in Accounting Policies under CGAAP"]
[]
["For applicants with a balance in Account 1576 and made capitalization and depreciation expense accounting policy changes under CGAAP effective January 1, 2012.  This is the first time the applicant is rebasing with changes in these accounting policies."]
[]
[]
[]
[null,"Prior Years Rebasing",2012,2013,2014,2015,2016,2017,"2018 Rebasing Year"]
["Reporting Basis","CGAAP","CGAAP","CGAAP","CGAAP","MIFRS - Note 5","MIFRS","MIFRS","MIFRS"]
[null,"Forecast","Actual","Actual","Actual","Actual","Actual","Forecast","Forecast"]
[null,null,"$","$","$","$","$","$"]
["PP&E Values under former CGAAP"]
["            Opening net PP&E - Note 1",null,null,{"$f":"+C25","v":0},{"$f":"+D25","v":0},{"$f":"+E25","v":0},{"$f":"+F25","v":0},{"$f":"+G25","v":0}]
["            Net Additions - Note 4"]
["            Net Depreciation (amounts should be negative) - Note 4"]
["            Closing net PP&E (1)",null,{"$f":"C22+C23+C24","v":0},0,0,0,0,0]
[]
["PP&E Values under revised CGAAP (Starts from 2012)"]
["            Opening net PP&E  - Note 1",null,null,{"$f":"+C31","v":0},{"$f":"+D31","v":0},{"$f":"+E31","v":0},{"$f":"+F31","v":0},{"$f":"+G31","v":0}]
["            Net Additions - Note 4"]
["            Net Depreciation (amounts should be negative) - Note 4"]
["            Closing net PP&E (2)",null,{"$f":"SUM(C28:C30)","v":0},0,0,0,0,0]
[]
["Difference in Closing net PP&E, former CGAAP vs. revised CGAAP ",null,{"$f":"C25-C31","v":0},0,0,0,0,0]
[]
[]
["Effect on Deferral and Variance Account Rate Riders"]
["Closing balance in Account 1576",null,null,null,null,null,null,null,{"$f":"IF(ISERROR(H33), 0, H33)","v":0},null,"WACC"]
["Return on Rate Base Associated with Account 1576 balance at WACC  - Note 2",null,null,null,null,null,null,null,{"$f":"H33*L37*L38","v":0},"# of years of rate rider disposition period"]
["     Amount included in Deferral and Variance Account Rate Rider Calculation",null,null,null,null,null,null,null,{"$f":"I37+I38","v":0}]
[]
["Notes:"]
["1  For an applicant that made the capitalization and depreciation expense accounting policy changes on January 1, 2012, the PP&E values as of January 1, 2012 under both former CGAAP and revised CGAAP should be the same. "]
["2 Return on rate base associated with Account 1576 balance is calculated as:"]
["     the variance account ending balance as of 2017 x WACC X # of years of rate rider disposition period"]
["     * Please note that the calculation should be adjusted once WACC is updated and finalized in the rate application."]
["3  Account 1576 is cleared by including the total balance in the deferral and variance account rate rider calculation."]
["4  Net additions are additions net of disposals; Net depreciation is additions to depreciation net of disposals."]
["5 Differences due to the adoption of MIFRS are to be shown separately in Account 1575 in Appendix 2-EA as Accounts 1575 and 1576 cannot be used interchangably."]

{"sheet":"App.2-EC_Account 1576 (2013)","index":16,"n_rows":48,"n_cols":11,"rows_kept":48,"cut":false,"hidden":true,"merged":[[45,0,45,9],[8,0,8,10],[9,0,9,10],[10,0,10,10],[12,0,12,10],[14,0,14,10],[37,10,38,10],[20,1,20,7],[25,1,26,7],[31,1,31,7],[37,8,38,9],[41,0,41,11]]}
[null,null,null,null,null,null,null,null,null,"File Number:",{"$f":"EBNUMBER","v":"EB-2021-0052"}]
[null,null,null,null,null,null,null,null,null,"Exhibit:"]
[null,null,null,null,null,null,null,null,null,"Tab:"]
[null,null,null,null,null,null,null,null,null,"Schedule:"]
[null,null,null,null,null,null,null,null,null,"Page:"]
[]
[null,null,null,null,null,null,null,null,null,"Date:"]
[]
["Appendix 2-EC"]
["Account 1576 - Accounting Changes under CGAAP"]
["2013 Changes in Accounting Policies under CGAAP"]
[]
["For applicants with a balance in Account 1576 and made capitalization and depreciation expense accounting policy changes under CGAAP effective January 1, 2013.  This is the first time the applicant is rebasing with changes in these accounting policies."]
[]
[]
[]
[null,"Prior Years Rebasing",2013,2014,2015,2016,2017,"2018 Rebasing Year"]
["Reporting Basis","CGAAP","CGAAP","CGAAP","MIFRS - Note 5","MIFRS","MIFRS","MIFRS"]
[null,"Actual","Actual","Actual","Actual","Actual","Forecast","Forecast"]
[null,null,"$","$",null,"$"]
["PP&E Values under former CGAAP"]
["            Opening net PP&E - Note 1",null,null,{"$f":"+C25","v":0},{"$f":"+D25","v":0},{"$f":"+E25","v":0},{"$f":"+F25","v":0}]
["            Net Additions - Note 4"]
["            Net Depreciation (amounts should be negative) - Note 4"]
["            Closing net PP&E (1)",null,{"$f":"C22+C23+C24","v":0},{"$f":"D22+D23+D24","v":0},{"$f":"E22+E23+E24","v":0},{"$f":"F22+F23+F24","v":0},{"$f":"G22+G23+G24","v":0}]
[]
["PP&E Values under revised CGAAP (Starts from 2012)"]
["            Opening net PP&E  - Note 1",null,null,{"$f":"+C31","v":0},{"$f":"+D31","v":0},{"$f":"+E31","v":0},{"$f":"+F31","v":0}]
["            Net Additions - Note 4"]
["            Net Depreciation (amounts should be negative) - Note 4"]
["            Closing net PP&E (2)",null,{"$f":"SUM(C28:C30)","v":0},{"$f":"SUM(D28:D30)","v":0},{"$f":"SUM(E28:E30)","v":0},{"$f":"SUM(F28:F30)","v":0},{"$f":"SUM(G28:G30)","v":0}]
[]
["Difference in Closing net PP&E, former CGAAP vs. revised CGAAP ",null,{"$f":"C25-C31","v":0},{"$f":"D25-D31","v":0},{"$f":"E25-E31","v":0},{"$f":"F25-F31","v":0},{"$f":"G25-G31","v":0}]
[]
[]
["Effect on Deferral and Variance Account Rate Riders"]
["Closing balance in Account 1576",null,null,null,null,null,null,{"$f":"IF(ISERROR(G33), 0, G33)","v":0},null,"WACC"]
["Return on Rate Base Associated with Account 1576 balance at WACC  - Note 2",null,null,null,null,null,null,{"$f":"G33*K37*K38","v":0},"# of years of rate rider disposition period"]
["     Amount included in Deferral and Variance Account Rate Rider Calculation",null,null,null,null,null,null,{"$f":"H37+H38","v":0}]
[]
["Notes:"]
["1  For an applicant that made the capitalization and depreciation expense accounting policy changes on January 1, 2013, the PP&E values as of January 1, 2013 under both former CGAAP and revised CGAAP should be the same. "]
["2 Return on rate base associated with Account 1576 balance is calculated as:"]
["     the variance account ending balance as of 2017 x WACC X # of years of rate rider disposition period"]
["     * Please note that the calculation should be adjusted once WACC is updated and finalized in the rate application."]
["3  Account 1576 is cleared by including the total balance in the deferral and variance account rate rider calculation."]
["4  Net additions are additions net of disposals; Net depreciation is additions to depreciation net of disposals."]
["5 Differences due to the adoption of MIFRS are to be shown separately in Account 1575 in Appendix 2-EA as Accounts 1575 and 1576 cannot be used interchangably."]

{"sheet":"Hidden_REG Invest.","index":17,"n_rows":61,"n_cols":8,"rows_kept":61,"cut":false,"hidden":true,"merged":[]}
["Utility Name","EB Number","Test Year","Bridge Year","Last Rebasing Year","Renewable Generation Connection Investment Summary","Year","Amount"]
[{"$f":"'LDC Info'!$E$14","v":"Ottawa River Power Corporation"},{"$f":"EBNUMBER","v":"EB-2021-0052"},{"$f":"TestYear","v":2022},{"$f":"BridgeYear","v":2021},{"$f":"RebaseYear","v":2016},"REI Investments_A_Total Capital Costs",{"$f":"'App.2-FA Proposed REG Invest.'!$C$31","v":2017},{"$f":"'App.2-FA Proposed REG Invest.'!C62","v":0}]
[{"$f":"'LDC Info'!$E$14","v":"Ottawa River Power Corporation"},"EB-2021-0052",2022,2021,2016,"REI Investments_A_Total OM&A Start-Up",{"$f":"'App.2-FA Proposed REG Invest.'!$C$31","v":2017},{"$f":"'App.2-FA Proposed REG Invest.'!$C63","v":0}]
[{"$f":"'LDC Info'!$E$14","v":"Ottawa River Power Corporation"},"EB-2021-0052",2022,2021,2016,"REI Investments_A_Total OM&A Ongoing",{"$f":"'App.2-FA Proposed REG Invest.'!$C$31","v":2017},{"$f":"'App.2-FA Proposed REG Invest.'!$C64","v":0}]
[{"$f":"'LDC Info'!$E$14","v":"Ottawa River Power Corporation"},"EB-2021-0052",2022,2021,2016,"REI Investments_A_Total Capital Costs",{"$f":"'App.2-FA Proposed REG Invest.'!$D$31","v":2018},{"$f":"'App.2-FA Proposed REG Invest.'!D62","v":0}]
[{"$f":"'LDC Info'!$E$14","v":"Ottawa River Power Corporation"},"EB-2021-0052",2022,2021,2016,"REI Investments_A_Total OM&A Start-Up",{"$f":"'App.2-FA Proposed REG Invest.'!$D$31","v":2018},{"$f":"'App.2-FA Proposed REG Invest.'!D63","v":0}]
[{"$f":"'LDC Info'!$E$14","v":"Ottawa River Power Corporation"},"EB-2021-0052",2022,2021,2016,"REI Investments_A_Total OM&A Ongoing",{"$f":"'App.2-FA Proposed REG Invest.'!$D$31","v":2018},{"$f":"'App.2-FA Proposed REG Invest.'!D64","v":0}]
[{"$f":"'LDC Info'!$E$14","v":"Ottawa River Power Corporation"},"EB-2021-0052",2022,2021,2016,"REI Investments_A_Total Capital Costs",{"$f":"'App.2-FA Proposed REG Invest.'!$E$31","v":2019},{"$f":"'App.2-FA Proposed REG Invest.'!E62","v":0}]
[{"$f":"'LDC Info'!$E$14","v":"Ottawa River Power Corporation"},"EB-2021-0052",2022,2021,2016,"REI Investments_A_Total OM&A Start-Up",{"$f":"'App.2-FA Proposed REG Invest.'!$E$31","v":2019},{"$f":"'App.2-FA Proposed REG Invest.'!E63","v":0}]
[{"$f":"'LDC Info'!$E$14","v":"Ottawa River Power Corporation"},"EB-2021-0052",2022,2021,2016,"REI Investments_A_Total OM&A Ongoing",{"$f":"'App.2-FA Proposed REG Invest.'!$E$31","v":2019},{"$f":"'App.2-FA Proposed REG Invest.'!E64","v":0}]
[{"$f":"'LDC Info'!$E$14","v":"Ottawa River Power Corporation"},"EB-2021-0052",2022,2021,2016,"REI Investments_A_Total Capital Costs",{"$f":"'App.2-FA Proposed REG Invest.'!$F$31","v":2020},{"$f":"'App.2-FA Proposed REG Invest.'!F62","v":0}]
[{"$f":"'LDC Info'!$E$14","v":"Ottawa River Power Corporation"},"EB-2021-0052",2022,2021,2016,"REI Investments_A_Total OM&A Start-Up",{"$f":"'App.2-FA Proposed REG Invest.'!$F$31","v":2020},{"$f":"'App.2-FA Proposed REG Invest.'!F63","v":0}]
[{"$f":"'LDC Info'!$E$14","v":"Ottawa River Power Corporation"},"EB-2021-0052",2022,2021,2016,"REI Investments_A_Total OM&A Ongoing",{"$f":"'App.2-FA Proposed REG Invest.'!$F$31","v":2020},{"$f":"'App.2-FA Proposed REG Invest.'!F64","v":0}]
[{"$f":"'LDC Info'!$E$14","v":"Ottawa River Power Corporation"},"EB-2021-0052",2022,2021,2016,"REI Investments_A_Total Capital Costs",{"$f":"'App.2-FA Proposed REG Invest.'!$G$31","v":2021},{"$f":"'App.2-FA Proposed REG Invest.'!G62","v":0}]
[{"$f":"'LDC Info'!$E$14","v":"Ottawa River Power Corporation"},"EB-2021-0052",2022,2021,2016,"REI Investments_A_Total OM&A Start-Up",{"$f":"'App.2-FA Proposed REG Invest.'!$G$31","v":2021},{"$f":"'App.2-FA Proposed REG Invest.'!G63","v":0}]
[{"$f":"'LDC Info'!$E$14","v":"Ottawa River Power Corporation"},"EB-2021-0052",2022,2021,2016,"REI Investments_A_Total OM&A Ongoing",{"$f":"'App.2-FA Proposed REG Invest.'!$G$31","v":2021},{"$f":"'App.2-FA Proposed REG Invest.'!G64","v":0}]
[{"$f":"'LDC Info'!$E$14","v":"Ottawa River Power Corporation"},"EB-2021-0052",2022,2021,2016,"REI Investments_A_Total Capital Costs",{"$f":"'App.2-FA Proposed REG Invest.'!$H$31","v":2022},{"$f":"'App.2-FA Proposed REG Invest.'!H62","v":0}]
[{"$f":"'LDC Info'!$E$14","v":"Ottawa River Power Corporation"},"EB-2021-0052",2022,2021,2016,"REI Investments_A_Total OM&A Start-Up",{"$f":"'App.2-FA Proposed REG Invest.'!$H$31","v":2022},{"$f":"'App.2-FA Proposed REG Invest.'!H63","v":0}]
[{"$f":"'LDC Info'!$E$14","v":"Ottawa River Power Corporation"},"EB-2021-0052",2022,2021,2016,"REI Investments_A_Total OM&A Ongoing",{"$f":"'App.2-FA Proposed REG Invest.'!$H$31","v":2022},{"$f":"'App.2-FA Proposed REG Invest.'!H64","v":0}]
[{"$f":"'LDC Info'!$E$14","v":"Ottawa River Power Corporation"},"EB-2021-0052",2022,2021,2016,"REI Investments_A_Total Capital Costs",{"$f":"'App.2-FA Proposed REG Invest.'!$I$31","v":2023},{"$f":"'App.2-FA Proposed REG Invest.'!I62","v":0}]
[{"$f":"'LDC Info'!$E$14","v":"Ottawa River Power Corporation"},"EB-2021-0052",2022,2021,2016,"REI Investments_A_Total OM&A Start-Up",{"$f":"'App.2-FA Proposed REG Invest.'!$I$31","v":2023},{"$f":"'App.2-FA Proposed REG Invest.'!I63","v":0}]
[{"$f":"'LDC Info'!$E$14","v":"Ottawa River Power Corporation"},"EB-2021-0052",2022,2021,2016,"REI Investments_A_Total OM&A Ongoing",{"$f":"'App.2-FA Proposed REG Invest.'!$I$31","v":2023},{"$f":"'App.2-FA Proposed REG Invest.'!I64","v":0}]
[{"$f":"'LDC Info'!$E$14","v":"Ottawa River Power Corporation"},"EB-2021-0052",2022,2021,2016,"REI Investments_A_Total Capital Costs",{"$f":"'App.2-FA Proposed REG Invest.'!$J$31","v":2024},{"$f":"'App.2-FA Proposed REG Invest.'!J62","v":0}]
[{"$f":"'LDC Info'!$E$14","v":"Ottawa River Power Corporation"},"EB-2021-0052",2022,2021,2016,"REI Investments_A_Total OM&A Start-Up",{"$f":"'App.2-FA Proposed REG Invest.'!$J$31","v":2024},{"$f":"'App.2-FA Proposed REG Invest.'!J63","v":0}]
[{"$f":"'LDC Info'!$E$14","v":"Ottawa River Power Corporation"},"EB-2021-0052",2022,2021,2016,"REI Investments_A_Total OM&A Ongoing",{"$f":"'App.2-FA Proposed REG Invest.'!$J$31","v":2024},{"$f":"'App.2-FA Proposed REG Invest.'!J64","v":0}]
[{"$f":"'LDC Info'!$E$14","v":"Ottawa River Power Corporation"},"EB-2021-0052",2022,2021,2016,"REI Investments_A_Total Capital Costs",{"$f":"'App.2-FA Proposed REG Invest.'!$K$31","v":2025},{"$f":"'App.2-FA Proposed REG Invest.'!K62","v":0}]
[{"$f":"'LDC Info'!$E$14","v":"Ottawa River Power Corporation"},"EB-2021-0052",2022,2021,2016,"REI Investments_A_Total OM&A Start-Up",{"$f":"'App.2-FA Proposed REG Invest.'!$K$31","v":2025},{"$f":"'App.2-FA Proposed REG Invest.'!K63","v":0}]
[{"$f":"'LDC Info'!$E$14","v":"Ottawa River Power Corporation"},"EB-2021-0052",2022,2021,2016,"REI Investments_A_Total OM&A Ongoing",{"$f":"'App.2-FA Proposed REG Invest.'!$K$31","v":2025},{"$f":"'App.2-FA Proposed REG Invest.'!K64","v":0}]
[{"$f":"'LDC Info'!$E$14","v":"Ottawa River Power Corporation"},"EB-2021-0052",2022,2021,2016,"REI Investments_A_Total Capital Costs",{"$f":"'App.2-FA Proposed REG Invest.'!$L$31","v":2026},{"$f":"'App.2-FA Proposed REG Invest.'!L62","v":0}]
[{"$f":"'LDC Info'!$E$14","v":"Ottawa River Power Corporation"},"EB-2021-0052",2022,2021,2016,"REI Investments_A_Total OM&A Start-Up",{"$f":"'App.2-FA Proposed REG Invest.'!$L$31","v":2026},{"$f":"'App.2-FA Proposed REG Invest.'!L63","v":0}]
[{"$f":"'LDC Info'!$E$14","v":"Ottawa River Power Corporation"},"EB-2021-0052",2022,2021,2016,"REI Investments_A_Total OM&A Ongoing",{"$f":"'App.2-FA Proposed REG Invest.'!$L$31","v":2026},{"$f":"'App.2-FA Proposed REG Invest.'!L64","v":0}]
[{"$f":"'LDC Info'!$E$14","v":"Ottawa River Power Corporation"},"EB-2021-0052",2022,2021,2016,"Expansion Investments_B_Total Capital Costs",{"$f":"'App.2-FA Proposed REG Invest.'!$C$31","v":2017},{"$f":"'App.2-FA Proposed REG Invest.'!C99","v":0}]
[{"$f":"'LDC Info'!$E$14","v":"Ottawa River Power Corporation"},"EB-2021-0052",2022,2021,2016,"Expansion Investments_B_Total OM&A Start-Up",{"$f":"'App.2-FA Proposed REG Invest.'!$C$31","v":2017},{"$f":"'App.2-FA Proposed REG Invest.'!C100","v":0}]
[{"$f":"'LDC Info'!$E$14","v":"Ottawa River Power Corporation"},"EB-2021-0052",2022,2021,2016,"Expansion Investments_B_Total OM&A Ongoing",{"$f":"'App.2-FA Proposed REG Invest.'!$C$31","v":2017},{"$f":"'App.2-FA Proposed REG Invest.'!C101","v":0}]
[{"$f":"'LDC Info'!$E$14","v":"Ottawa River Power Corporation"},"EB-2021-0052",2022,2021,2016,"Expansion Investments_B_Total Capital Costs",{"$f":"'App.2-FA Proposed REG Invest.'!$D$31","v":2018},{"$f":"'App.2-FA Proposed REG Invest.'!D99","v":0}]
[{"$f":"'LDC Info'!$E$14","v":"Ottawa River Power Corporation"},"EB-2021-0052",2022,2021,2016,"Expansion Investments_B_Total OM&A Start-Up",{"$f":"'App.2-FA Proposed REG Invest.'!$D$31","v":2018},{"$f":"'App.2-FA Proposed REG Invest.'!D100","v":0}]
[{"$f":"'LDC Info'!$E$14","v":"Ottawa River Power Corporation"},"EB-2021-0052",2022,2021,2016,"Expansion Investments_B_Total OM&A Ongoing",{"$f":"'App.2-FA Proposed REG Invest.'!$D$31","v":2018},{"$f":"'App.2-FA Proposed REG Invest.'!D101","v":0}]
[{"$f":"'LDC Info'!$E$14","v":"Ottawa River Power Corporation"},"EB-2021-0052",2022,2021,2016,"Expansion Investments_B_Total Capital Costs",{"$f":"'App.2-FA Proposed REG Invest.'!$E$31","v":2019},{"$f":"'App.2-FA Proposed REG Invest.'!E99","v":0}]
[{"$f":"'LDC Info'!$E$14","v":"Ottawa River Power Corporation"},"EB-2021-0052",2022,2021,2016,"Expansion Investments_B_Total OM&A Start-Up",{"$f":"'App.2-FA Proposed REG Invest.'!$E$31","v":2019},{"$f":"'App.2-FA Proposed REG Invest.'!E100","v":0}]
[{"$f":"'LDC Info'!$E$14","v":"Ottawa River Power Corporation"},"EB-2021-0052",2022,2021,2016,"Expansion Investments_B_Total OM&A Ongoing",{"$f":"'App.2-FA Proposed REG Invest.'!$E$31","v":2019},{"$f":"'App.2-FA Proposed REG Invest.'!E101","v":0}]
[{"$f":"'LDC Info'!$E$14","v":"Ottawa River Power Corporation"},"EB-2021-0052",2022,2021,2016,"Expansion Investments_B_Total Capital Costs",{"$f":"'App.2-FA Proposed REG Invest.'!$F$31","v":2020},{"$f":"'App.2-FA Proposed REG Invest.'!F99","v":0}]
[{"$f":"'LDC Info'!$E$14","v":"Ottawa River Power Corporation"},"EB-2021-0052",2022,2021,2016,"Expansion Investments_B_Total OM&A Start-Up",{"$f":"'App.2-FA Proposed REG Invest.'!$F$31","v":2020},{"$f":"'App.2-FA Proposed REG Invest.'!F100","v":0}]
[{"$f":"'LDC Info'!$E$14","v":"Ottawa River Power Corporation"},"EB-2021-0052",2022,2021,2016,"Expansion Investments_B_Total OM&A Ongoing",{"$f":"'App.2-FA Proposed REG Invest.'!$F$31","v":2020},{"$f":"'App.2-FA Proposed REG Invest.'!F101","v":0}]
[{"$f":"'LDC Info'!$E$14","v":"Ottawa River Power Corporation"},"EB-2021-0052",2022,2021,2016,"Expansion Investments_B_Total Capital Costs",{"$f":"'App.2-FA Proposed REG Invest.'!$G$31","v":2021},{"$f":"'App.2-FA Proposed REG Invest.'!G99","v":0}]
[{"$f":"'LDC Info'!$E$14","v":"Ottawa River Power Corporation"},"EB-2021-0052",2022,2021,2016,"Expansion Investments_B_Total OM&A Start-Up",{"$f":"'App.2-FA Proposed REG Invest.'!$G$31","v":2021},{"$f":"'App.2-FA Proposed REG Invest.'!G100","v":0}]
[{"$f":"'LDC Info'!$E$14","v":"Ottawa River Power Corporation"},"EB-2021-0052",2022,2021,2016,"Expansion Investments_B_Total OM&A Ongoing",{"$f":"'App.2-FA Proposed REG Invest.'!$G$31","v":2021},{"$f":"'App.2-FA Proposed REG Invest.'!G101","v":0}]
[{"$f":"'LDC Info'!$E$14","v":"Ottawa River Power Corporation"},"EB-2021-0052",2022,2021,2016,"Expansion Investments_B_Total Capital Costs",{"$f":"'App.2-FA Proposed REG Invest.'!$H$31","v":2022},{"$f":"'App.2-FA Proposed REG Invest.'!H99","v":0}]
[{"$f":"'LDC Info'!$E$14","v":"Ottawa River Power Corporation"},"EB-2021-0052",2022,2021,2016,"Expansion Investments_B_Total OM&A Start-Up",{"$f":"'App.2-FA Proposed REG Invest.'!$H$31","v":2022},{"$f":"'App.2-FA Proposed REG Invest.'!H100","v":0}]
[{"$f":"'LDC Info'!$E$14","v":"Ottawa River Power Corporation"},"EB-2021-0052",2022,2021,2016,"Expansion Investments_B_Total OM&A Ongoing",{"$f":"'App.2-FA Proposed REG Invest.'!$H$31","v":2022},{"$f":"'App.2-FA Proposed REG Invest.'!H101","v":0}]
[{"$f":"'LDC Info'!$E$14","v":"Ottawa River Power Corporation"},"EB-2021-0052",2022,2021,2016,"Expansion Investments_B_Total Capital Costs",{"$f":"'App.2-FA Proposed REG Invest.'!$I$31","v":2023},{"$f":"'App.2-FA Proposed REG Invest.'!I99","v":0}]
[{"$f":"'LDC Info'!$E$14","v":"Ottawa River Power Corporation"},"EB-2021-0052",2022,2021,2016,"Expansion Investments_B_Total OM&A Start-Up",{"$f":"'App.2-FA Proposed REG Invest.'!$I$31","v":2023},{"$f":"'App.2-FA Proposed REG Invest.'!I100","v":0}]
[{"$f":"'LDC Info'!$E$14","v":"Ottawa River Power Corporation"},"EB-2021-0052",2022,2021,2016,"Expansion Investments_B_Total OM&A Ongoing",{"$f":"'App.2-FA Proposed REG Invest.'!$I$31","v":2023},{"$f":"'App.2-FA Proposed REG Invest.'!I101","v":0}]
[{"$f":"'LDC Info'!$E$14","v":"Ottawa River Power Corporation"},"EB-2021-0052",2022,2021,2016,"Expansion Investments_B_Total Capital Costs",{"$f":"'App.2-FA Proposed REG Invest.'!$J$31","v":2024},{"$f":"'App.2-FA Proposed REG Invest.'!J99","v":0}]
[{"$f":"'LDC Info'!$E$14","v":"Ottawa River Power Corporation"},"EB-2021-0052",2022,2021,2016,"Expansion Investments_B_Total OM&A Start-Up",{"$f":"'App.2-FA Proposed REG Invest.'!$J$31","v":2024},{"$f":"'App.2-FA Proposed REG Invest.'!J100","v":0}]
[{"$f":"'LDC Info'!$E$14","v":"Ottawa River Power Corporation"},"EB-2021-0052",2022,2021,2016,"Expansion Investments_B_Total OM&A Ongoing",{"$f":"'App.2-FA Proposed REG Invest.'!$J$31","v":2024},{"$f":"'App.2-FA Proposed REG Invest.'!J101","v":0}]
[{"$f":"'LDC Info'!$E$14","v":"Ottawa River Power Corporation"},"EB-2021-0052",2022,2021,2016,"Expansion Investments_B_Total Capital Costs",{"$f":"'App.2-FA Proposed REG Invest.'!$K$31","v":2025},{"$f":"'App.2-FA Proposed REG Invest.'!K99","v":0}]
[{"$f":"'LDC Info'!$E$14","v":"Ottawa River Power Corporation"},"EB-2021-0052",2022,2021,2016,"Expansion Investments_B_Total OM&A Start-Up",{"$f":"'App.2-FA Proposed REG Invest.'!$K$31","v":2025},{"$f":"'App.2-FA Proposed REG Invest.'!K100","v":0}]
[{"$f":"'LDC Info'!$E$14","v":"Ottawa River Power Corporation"},"EB-2021-0052",2022,2021,2016,"Expansion Investments_B_Total OM&A Ongoing",{"$f":"'App.2-FA Proposed REG Invest.'!$K$31","v":2025},{"$f":"'App.2-FA Proposed REG Invest.'!K101","v":0}]
[{"$f":"'LDC Info'!$E$14","v":"Ottawa River Power Corporation"},"EB-2021-0052",2022,2021,2016,"Expansion Investments_B_Total Capital Costs",{"$f":"'App.2-FA Proposed REG Invest.'!$L$31","v":2026},{"$f":"'App.2-FA Proposed REG Invest.'!L99","v":0}]
[{"$f":"'LDC Info'!$E$14","v":"Ottawa River Power Corporation"},"EB-2021-0052",2022,2021,2016,"Expansion Investments_B_Total OM&A Start-Up",{"$f":"'App.2-FA Proposed REG Invest.'!$L$31","v":2026},{"$f":"'App.2-FA Proposed REG Invest.'!L100","v":0}]
[{"$f":"'LDC Info'!$E$14","v":"Ottawa River Power Corporation"},"EB-2021-0052",2022,2021,2016,"Expansion Investments_B_Total OM&A Ongoing",{"$f":"'App.2-FA Proposed REG Invest.'!$L$31","v":2026},{"$f":"'App.2-FA Proposed REG Invest.'!L101","v":0}]

{"sheet":"Hidden_REG Improvement","index":18,"n_rows":11,"n_cols":8,"rows_kept":11,"cut":false,"hidden":true,"merged":[]}
["Utility Name","EB Number","Test Year","Bridge Year","Last Rebasing Year","Renewable Generation Connection Direct Benefits/Provincial Amount Renewable Enabling Improvement Investments","Year","Amount"]
[{"$f":"'LDC Info'!$E$14","v":"Ottawa River Power Corporation"},{"$f":"EBNUMBER","v":"EB-2021-0052"},{"$f":"TestYear","v":2022},{"$f":"BridgeYear","v":2021},{"$f":"RebaseYear","v":2016},"Provincial Rate Protection",{"$f":"'App.2-FB Calc of REG Improvemnt'!D17","v":2017},{"$f":"'App.2-FB Calc of REG Improvemnt'!F$44","v":0}]
[{"$f":"'LDC Info'!$E$14","v":"Ottawa River Power Corporation"},"EB-2021-0052",2022,2021,2016,"Provincial Rate Protection",{"$f":"'App.2-FB Calc of REG Improvemnt'!G17","v":2018},{"$f":"'App.2-FB Calc of REG Improvemnt'!I$44","v":0}]
[{"$f":"'LDC Info'!$E$14","v":"Ottawa River Power Corporation"},"EB-2021-0052",2022,2021,2016,"Provincial Rate Protection",{"$f":"'App.2-FB Calc of REG Improvemnt'!J17","v":2019},{"$f":"'App.2-FB Calc of REG Improvemnt'!L$44","v":0}]
[{"$f":"'LDC Info'!$E$14","v":"Ottawa River Power Corporation"},"EB-2021-0052",2022,2021,2016,"Provincial Rate Protection",{"$f":"'App.2-FB Calc of REG Improvemnt'!M17","v":2020},{"$f":"'App.2-FB Calc of REG Improvemnt'!O$44","v":0}]
[{"$f":"'LDC Info'!$E$14","v":"Ottawa River Power Corporation"},"EB-2021-0052",2022,2021,2016,"Provincial Rate Protection",{"$f":"'App.2-FB Calc of REG Improvemnt'!P17","v":2021},{"$f":"'App.2-FB Calc of REG Improvemnt'!R$44","v":0}]
[{"$f":"'LDC Info'!$E$14","v":"Ottawa River Power Corporation"},"EB-2021-0052",2022,2021,2016,"Provincial Rate Protection",{"$f":"'App.2-FB Calc of REG Improvemnt'!S17","v":2022},{"$f":"'App.2-FB Calc of REG Improvemnt'!U$44","v":0}]
[{"$f":"'LDC Info'!$E$14","v":"Ottawa River Power Corporation"},"EB-2021-0052",2022,2021,2016,"Provincial Rate Protection",{"$f":"'App.2-FB Calc of REG Improvemnt'!V17","v":2023},{"$f":"'App.2-FB Calc of REG Improvemnt'!X$44","v":0}]
[{"$f":"'LDC Info'!$E$14","v":"Ottawa River Power Corporation"},"EB-2021-0052",2022,2021,2016,"Provincial Rate Protection",{"$f":"'App.2-FB Calc of REG Improvemnt'!Y17","v":2024},{"$f":"'App.2-FB Calc of REG Improvemnt'!AA$44","v":0}]
[{"$f":"'LDC Info'!$E$14","v":"Ottawa River Power Corporation"},"EB-2021-0052",2022,2021,2016,"Provincial Rate Protection",{"$f":"'App.2-FB Calc of REG Improvemnt'!AB17","v":2025},{"$f":"'App.2-FB Calc of REG Improvemnt'!AD$44","v":0}]
[{"$f":"'LDC Info'!$E$14","v":"Ottawa River Power Corporation"},"EB-2021-0052",2022,2021,2016,"Provincial Rate Protection",{"$f":"'App.2-FB Calc of REG Improvemnt'!AE17","v":2026},{"$f":"'App.2-FB Calc of REG Improvemnt'!AG$44","v":0}]

{"sheet":"Hidden_REG Expansion","index":19,"n_rows":11,"n_cols":8,"rows_kept":11,"cut":false,"hidden":true,"merged":[]}
["Utility Name","EB Number","Test Year","Bridge Year","Last Rebasing Year","Calculation of Renewable Generation Connection Direct Benefits/Provincial Amount Renewable Expansion Investments","Year","Amount"]
[{"$f":"'LDC Info'!$E$14","v":"Ottawa River Power Corporation"},{"$f":"EBNUMBER","v":"EB-2021-0052"},{"$f":"TestYear","v":2022},{"$f":"BridgeYear","v":2021},{"$f":"RebaseYear","v":2016},"Provincial Rate Protection",{"$f":"'App.2-FC Calc of REG Expansion'!D$17","v":2017},{"$f":"'App.2-FC Calc of REG Expansion'!F$44","v":0}]
[{"$f":"'LDC Info'!$E$14","v":"Ottawa River Power Corporation"},"EB-2021-0052",2022,2021,2016,"Provincial Rate Protection",{"$f":"'App.2-FC Calc of REG Expansion'!G$17","v":2018},{"$f":"'App.2-FC Calc of REG Expansion'!I$44","v":0}]
[{"$f":"'LDC Info'!$E$14","v":"Ottawa River Power Corporation"},"EB-2021-0052",2022,2021,2016,"Provincial Rate Protection",{"$f":"'App.2-FC Calc of REG Expansion'!J$17","v":2019},{"$f":"'App.2-FC Calc of REG Expansion'!L$44","v":0}]
[{"$f":"'LDC Info'!$E$14","v":"Ottawa River Power Corporation"},"EB-2021-0052",2022,2021,2016,"Provincial Rate Protection",{"$f":"'App.2-FC Calc of REG Expansion'!M$17","v":2020},{"$f":"'App.2-FC Calc of REG Expansion'!O$44","v":0}]
[{"$f":"'LDC Info'!$E$14","v":"Ottawa River Power Corporation"},"EB-2021-0052",2022,2021,2016,"Provincial Rate Protection",{"$f":"'App.2-FC Calc of REG Expansion'!P$17","v":2021},{"$f":"'App.2-FC Calc of REG Expansion'!R$44","v":0}]
[{"$f":"'LDC Info'!$E$14","v":"Ottawa River Power Corporation"},"EB-2021-0052",2022,2021,2016,"Provincial Rate Protection",{"$f":"'App.2-FC Calc of REG Expansion'!S$17","v":2022},{"$f":"'App.2-FC Calc of REG Expansion'!U$44","v":0}]
[{"$f":"'LDC Info'!$E$14","v":"Ottawa River Power Corporation"},"EB-2021-0052",2022,2021,2016,"Provincial Rate Protection",{"$f":"'App.2-FC Calc of REG Expansion'!V$17","v":2023},{"$f":"'App.2-FC Calc of REG Expansion'!X$44","v":0}]
[{"$f":"'LDC Info'!$E$14","v":"Ottawa River Power Corporation"},"EB-2021-0052",2022,2021,2016,"Provincial Rate Protection",{"$f":"'App.2-FC Calc of REG Expansion'!Y$17","v":2024},{"$f":"'App.2-FC Calc of REG Expansion'!AA$44","v":0}]
[{"$f":"'LDC Info'!$E$14","v":"Ottawa River Power Corporation"},"EB-2021-0052",2022,2021,2016,"Provincial Rate Protection",{"$f":"'App.2-FC Calc of REG Expansion'!AB$17","v":2025},{"$f":"'App.2-FC Calc of REG Expansion'!AD$44","v":0}]
[{"$f":"'LDC Info'!$E$14","v":"Ottawa River Power Corporation"},"EB-2021-0052",2022,2021,2016,"Provincial Rate Protection",{"$f":"'App.2-FC Calc of REG Expansion'!AE$17","v":2026},{"$f":"'App.2-FC Calc of REG Expansion'!AG$44","v":0}]

{"sheet":"App.2-FA Proposed REG Invest.","index":20,"n_rows":101,"n_cols":12,"rows_kept":101,"cut":false,"hidden":false,"merged":[[16,0,16,10],[17,0,17,9],[18,0,18,8],[8,0,8,11],[9,0,9,11],[11,0,11,7],[12,0,12,7],[13,0,13,6],[14,0,14,6]]}
[null,null,null,null,null,null,null,null,null,null,"File Number:",0]
[null,null,null,null,null,null,null,null,null,null,"Exhibit:"]
[null,null,null,null,null,null,null,null,null,null,"Tab:"]
["TO BE UPDATED AT DRAFT RATE ORDER STAGE",null,null,null,null,null,null,null,null,null,"Schedule:"]
[null,null,null,null,null,null,null,null,null,null,"Page:"]
[]
[null,null,null,null,null,null,null,null,null,null,"Date:"]
[]
["Appendix 2-FA"]
["Renewable Generation Connection Investment Summary (past investments or over the future rate setting period)"]
[]
["Enter the details of the Renewable Generation Connection projects as described in the appropriate section of the Filing Requirements."]
["All costs entered on this page will be transferred to the appropriate cells in the appendices that follow."]
["For Part A, Renewable Enabling Improvements (REI), these amounts will be transferred to Appendix 2 - FB"]
["For Part B, Expansions, these amounts will be transferred to Appendix 2 - FC"]
[]
["If there are more than five projects proposed to be in-service in a certain year, please amend the tables below and ensure that the formulae for the Total Amounts in any given rate year are updated."]
["Based on the current methodology and allocation, amounts allocated represent 6% for REI Connection Investments and 17% for Expansion Investments. (EB-2009-0349, 6-10-2010, p. 15, note 9)"]
["Ensure that OM&A costs below are not included in Recoverable OM&A (App. 2-JA)"]
["There are two scenarios described below.  Separate sets of spreadsheets (2-FA, 2-FB, 2-FC) should be submited for each scenario as required."]
["Scenario 1:  ","Past Investments with No Recovery.  The distributor has made investments in the past (during the IRM Years), but has not received approval for these projects and therefore did not receive"]
[null,"revenue from the IESO under Regulation 330/09 and did not receive ratepayer revenue for the direct benefit portion of the investment."]
[null,"The WCA percentage, debt percentages, interest rates, kWh, tax rates, amortization period, CCA Class and percentage should correspond to the distributor's last Cost of Service approval. "]
[null,"The Direct Benefit portion of the calculated Revenue Requirement for each year should be summed and can be applied for recovery from the distributor's ratepayers through a rate rider."]
[null,"The Provincial Recovery portion of the calculated Revenue Requirement for each year should be summed and can be applied for recovery from the IESO through a separate order."]
[]
["Scenario 2:","Investments in the Test Year and Beyond.  Distributor plans to make investments in 2022 and/or beyond.  These investments should be added to 2-FA in the appropriate year."]
[null,"The WCA percentage, debt percentages, interest rates, kWh, tax rates, amortization period, CCA Class and percentage should correspond to the distributor's current application. "]
[]
["Part A",null,"","","","","","Test Year","","","",""]
["REI Investments (Direct Benefit at 6%)",null,{"$f":"D31-1","v":2017},{"$f":"E31-1","v":2018},{"$f":"F31-1","v":2019},{"$f":"G31-1","v":2020},{"$f":"H31-1","v":2021},{"$f":"'LDC Info'!$E$24","v":2022},{"$f":"H31+1","v":2023},{"$f":"I31+1","v":2024},{"$f":"J31+1","v":2025},{"$f":"K31+1","v":2026}]
["Project 1"]
["Name: REI Connection Project"]
["Capital Costs",null,0,0,0,0,0,0,0,0,0,0]
["Incremental OM&A (Start-Up)",null,0,0,0,0,0,0,0,0,0,0]
["Incremental OM&A (Ongoing)",null,0,0,0,0,0,0,0,0,0,0]
[]
["Project 2"]
["Name: REI Connection Project"]
["Capital Costs",null,0,0,0,0,0,0,0,0,0,0]
["Incremental OM&A (Start-Up)",null,0,0,0,0,0,0,0,0,0,0]
["Incremental OM&A (Ongoing)",null,0,0,0,0,0,0,0,0,0,0]
[]
["Project 3"]
["Name: REI Connection Project"]
["Capital Costs",null,0,0,0,0,0,0,0,0,0,0]
["Incremental OM&A (Start-Up)",null,0,0,0,0,0,0,0,0,0,0]
["Incremental OM&A (Ongoing)",null,0,0,0,0,0,0,0,0,0,0]
[]
["Project 4"]
["Name: REI Connection Project"]
["Capital Costs",null,0,0,0,0,0,0,0,0,0,0]
["Incremental OM&A (Start-Up)",null,0,0,0,0,0,0,0,0,0,0]
["Incremental OM&A (Ongoing)",null,0,0,0,0,0,0,0,0,0,0]
[]
["Project 5"]
["Name: REI Connection Project"]
["Capital Costs",null,0,0,0,0,0,0,0,0,0,0]
["Incremental OM&A (Start-Up)",null,0,0,0,0,0,0,0,0,0,0]
["Incremental OM&A (Ongoing)",null,0,0,0,0,0,0,0,0,0,0]
[]
["Total Capital Costs",null,{"$f":"SUM(C58,C52,C46,C40,C34)","v":0},0,0,0,0,0,0,0,0,0]
["Total Incremental OM&A (Start-Up)",null,0,0,0,0,0,0,0,0,0,0]
["Total Incremental OM&A (Ongoing)",null,0,0,0,0,0,0,0,0,0,0]
[]
[]
["Part B",null,"","","","","","Test Year","","","",""]
["Expansion Investments (Direct Benefit at 17%)",null,{"$f":"D68-1","v":2017},{"$f":"E68-1","v":2018},{"$f":"F68-1","v":2019},{"$f":"G68-1","v":2020},{"$f":"H68-1","v":2021},{"$f":"H31","v":2022},{"$f":"H68+1","v":2023},{"$f":"I68+1","v":2024},{"$f":"J68+1","v":2025},{"$f":"K68+1","v":2026}]
["Project 1"]
["Name: Expansion Connection Project"]
["Capital Costs",null,0,0,0,0,0,0,0,0,0,0]
["Incremental OM&A (Start-Up)",null,0,0,0,0,0,0,0,0,0,0]
["Incremental OM&A (Ongoing)",null,0,0,0,0,0,0,0,0,0,0]
[]
["Project 2"]
["Name: Expansion Connection Project"]
["Capital Costs",null,0,0,0,0,0,0,0,0,0,0]
["Incremental OM&A (Start-Up)",null,0,0,0,0,0,0,0,0,0,0]
["Incremental OM&A (Ongoing)",null,0,0,0,0,0,0,0,0,0,0]
[]
["Project 3"]
["Name: Expansion Connection Project"]
["Capital Costs",null,0,0,0,0,0,0,0,0,0,0]
["Incremental OM&A (Start-Up)",null,0,0,0,0,0,0,0,0,0,0]
["Incremental OM&A (Ongoing)",null,0,0,0,0,0,0,0,0,0,0]
[]
["Project 4"]
["Name: Expansion Connection Project"]
["Capital Costs",null,0,0,0,0,0,0,0,0,0,0]
["Incremental OM&A (Start-Up)",null,0,0,0,0,0,0,0,0,0,0]
["Incremental OM&A (Ongoing)",null,0,0,0,0,0,0,0,0,0,0]
[]
["Project 5"]
["Name: Expansion Connection Project"]
["Capital Costs",null,0,0,0,0,0,0,0,0,0,0]
["Incremental OM&A (Start-Up)",null,0,0,0,0,0,0,0,0,0,0]
["Incremental OM&A (Ongoing)",null,0,0,0,0,0,0,0,0,0,0]
[]
["Total Capital Costs",null,{"$f":"SUM(C95,C89,C83,C77,C71)","v":0},0,0,0,0,0,0,0,0,0]
["Total Incremental OM&A (Start-Up)",null,0,0,0,0,0,0,0,0,0,0]
["Total Incremental OM&A (Ongoing)",null,0,0,0,0,0,0,0,0,0,0]

{"sheet":"App.2-FB Calc of REG Improvemnt","index":21,"n_rows":96,"n_cols":36,"rows_kept":96,"cut":false,"hidden":false,"merged":[[16,33,16,35],[52,34,52,35],[52,31,52,32],[52,16,52,17],[50,0,50,1],[52,4,52,5],[52,7,52,8],[52,10,52,11],[52,13,52,14],[51,16,51,17],[16,27,16,29],[52,19,52,20],[52,22,52,23],[52,25,52,26],[52,28,52,29],[51,19,51,20],[15,18,15,20],[16,30,16,32],[47,0,48,15],[8,0,8,21],[9,0,9,21],[11,0,11,21],[12,0,12,21],[14,0,14,21],[16,3,16,5],[16,6,16,8],[16,9,16,11],[16,12,16,14],[16,15,16,17],[16,18,16,20],[16,21,16,23],[16,24,16,26]]}
[null,null,null,null,null,null,null,null,null,null,null,null,null,null,null,null,null,"File Number:",0]
[null,null,null,null,null,null,null,null,null,null,null,null,null,null,null,null,null,"Exhibit:"]
[null,null,null,null,null,null,null,null,null,null,null,null,null,null,null,null,null,"Tab:"]
["TO BE UPDATED AT DRAFT RATE ORDER STAGE",null,null,null,null,null,null,null,null,null,null,null,null,null,null,null,null,"Schedule:"]
[null,null,null,null,null,null,null,null,null,null,null,null,null,null,null,null,null,"Page:"]
[]
[null,null,null,null,null,null,null,null,null,null,null,null,null,null,null,null,null,"Date:"]
[]
["Appendix 2-FB"]
["Calculation of Renewable Generation Connection Direct Benefits/Provincial Amount: Renewable Enabling Improvement Investments"]
[]
["This table will calculate the distributor/provincial shares of the investments entered in Part A of Appendix 2-FA."]
["Enter values in green shaded cells: WCA percentage, debt percentages, interest rates, kWh, tax rates, amortization period, CCA Class and percentage."]
["For historical investments, enter these variables that were approved in your last cost of service test year.  For 2021 and beyond, enter variables as in the application."]
["Rate Riders related to the direct benefit portion of the renewable investments are not calculated for the Test Year as these assets and costs are already in the distributor's rate base/revenue requirement."]
[null,null,null,null,null,null,null,null,null,null,null,null,null,null,null,null,null,null,"Test Year"]
[null,null,null,{"$f":"G17-1","v":2017},null,null,{"$f":"J17-1","v":2018},null,null,{"$f":"M17-1","v":2019},null,null,{"$f":"P17-1","v":2020},null,null,{"$f":"S17-1","v":2021},null,null,{"$f":"'LDC Info'!$E$24","v":2022},null,null,{"$f":"S17+1","v":2023},null,null,{"$f":"V17+1","v":2024},2016,null,{"$f":"Y17+1","v":2025},null,null,{"$f":"AB17+1","v":2026},null,null,{"$f":"AE17+1","v":2027}]
[null,null,null,null,"Direct Benefit","Provincial",null,"Direct Benefit","Provincial",null,"Direct Benefit","Provincial",null,"Direct Benefit","Provincial",null,"Direct Benefit","Provincial",null,"Direct Benefit","Provincial",null,"Direct Benefit","Provincial",null,"Direct Benefit","Provincial",null,"Direct Benefit","Provincial",null,"Direct Benefit","Provincial",null,"Direct Benefit","Provincial"]
[null,null,null,"Total",0.06,0.94,"Total",0.06,0.94,"Total",0.06,0.94,"Total",0.06,0.94,"Total",0.06,0.94,"Total",0.06,0.94,"Total",0.06,0.94,"Total",0.06,0.94,"Total",0.06,0.94,"Total",0.06,0.94,"Total",0.06,0.94]
["Net Fixed Assets (average)",null,null,{"$f":"E83","v":0},{"$f":"D20*E19","v":0},{"$f":"D20*F19","v":0},{"$f":"F83","v":0},{"$f":"G20*H19","v":0},{"$f":"G20*I19","v":0},{"$f":"G83","v":0},{"$f":"J20*K19","v":0},{"$f":"J20*L19","v":0},{"$f":"H83","v":0},{"$f":"M20*N19","v":0},{"$f":"M20*O19","v":0},{"$f":"I83","v":0},{"$f":"P20*Q19","v":0},{"$f":"P20*R19","v":0},{"$f":"J83","v":0},{"$f":"S20*T19","v":0},{"$f":"S20*U19","v":0},{"$f":"K83","v":0},{"$f":"V20*W19","v":0},{"$f":"V20*X19","v":0},{"$f":"L83","v":0},{"$f":"Y20*Z19","v":0},{"$f":"Y20*AA19","v":0},{"$f":"M83","v":0},{"$f":"AB20*AC19","v":0},{"$f":"AB20*AD19","v":0},{"$f":"N83","v":0},{"$f":"AE20*AF19","v":0},{"$f":"AE20*AG19","v":0},{"$f":"O83","v":0},{"$f":"AH20*AI19","v":0},{"$f":"AH20*AJ19","v":0}]
["Incremental OM&A (on-going, N/A for Provincial Recovery)",null,null,0,{"$f":"D21*E19","v":0},{"$f":"D21*F19","v":0},0,{"$f":"G21*H19","v":0},{"$f":"G21*I19","v":0},0,{"$f":"J21*K19","v":0},{"$f":"J21*L19","v":0},0,{"$f":"M21*N19","v":0},{"$f":"M21*O19","v":0},0,{"$f":"P21*Q19","v":0},{"$f":"P21*R19","v":0},0,{"$f":"S21*T19","v":0},{"$f":"S21*U19","v":0},0,{"$f":"V21*W19","v":0},{"$f":"V21*X19","v":0},0,{"$f":"Y21*Z19","v":0},{"$f":"Y21*AA19","v":0},0,{"$f":"AB21*AC19","v":0},{"$f":"AB21*AD19","v":0},0,{"$f":"AE21*AF19","v":0},{"$f":"AE21*AG19","v":0},0,{"$f":"AH21*AI19","v":0},{"$f":"AH21*AJ19","v":0}]
["Incremental OM&A (start-up, applicable for Provincial Recovery)",null,null,0,{"$f":"D22*E19","v":0},{"$f":"D22*F19","v":0},0,{"$f":"G22*H19","v":0},{"$f":"G22*I19","v":0},0,{"$f":"J22*K19","v":0},{"$f":"J22*L19","v":0},0,{"$f":"M22*N19","v":0},{"$f":"M22*O19","v":0},0,{"$f":"P22*Q19","v":0},{"$f":"P22*R19","v":0},0,{"$f":"S22*T19","v":0},{"$f":"S22*U19","v":0},0,{"$f":"V22*W19","v":0},{"$f":"V22*X19","v":0},0,{"$f":"Y22*Z19","v":0},{"$f":"Y22*AA19","v":0},0,{"$f":"AB22*AC19","v":0},{"$f":"AB22*AD19","v":0},0,{"$f":"AE22*AF19","v":0},{"$f":"AE22*AG19","v":0},0,{"$f":"AH22*AI19","v":0},{"$f":"AH22*AJ19","v":0}]
["Rebasing Year vs. Test Year",{"$f":"'LDC Info'!E28","v":2016},{"$f":"'LDC Info'!E24","v":2022}]
["Allowance for Working Capital (enter rate)",null,null,null,{"$f":"IF(AND(D$17>=$B$23, D$17<$C$23),(E21+E22)*$B$24,(E21+E22)*$C$24)","v":0},{"$f":"IF(AND(D$17>=$B$23, D$17<$C$23),(F22)*$B$24,(F22)*$C$24)","v":0},null,{"$f":"IF(AND(G$17>=$B$23, G$17<$C$23),(H21+H22)*$B$24,(H21+H22)*$C$24)","v":0},{"$f":"IF(AND(G$17>=$B$23, G$17<$C$23),(I22)*$B$24,(I22)*$C$24)","v":0},null,{"$f":"IF(AND(J$17>=$B$23, J$17<$C$23),(K21+K22)*$B$24,(K21+K22)*$C$24)","v":0},{"$f":"IF(AND(J$17>=$B$23, J$17<$C$23),(L22)*$B$24,(L22)*$C$24)","v":0},null,{"$f":"IF(AND(M$17>=$B$23, M$17<$C$23),(N21+N22)*$B$24,(N21+N22)*$C$24)","v":0},{"$f":"IF(AND(M$17>=$B$23, M$17<$C$23),(O22)*$B$24,(O22)*$C$24)","v":0},null,{"$f":"IF(AND(P$17>=$B$23, P$17<$C$23),(Q21+Q22)*$B$24,(Q21+Q22)*$C$24)","v":0},{"$f":"IF(AND(P$17>=$B$23, P$17<$C$23),(R22)*$B$24,(R22)*$C$24)","v":0},null,{"$f":"IF(AND(S$17>=$B$23, S$17<$C$23),(T21+T22)*$B$24,(T21+T22)*$C$24)","v":0},{"$f":"IF(AND(S$17>=$B$23, S$17<$C$23),(U22)*$B$24,(U22)*$C$24)","v":0},null,{"$f":"IF(AND(V$17>=$B$23, V$17<$C$23),(W21+W22)*$B$24,(W21+W22)*$C$24)","v":0},{"$f":"IF(AND(V$17>=$B$23, V$17<$C$23),(X22)*$B$24,(X22)*$C$24)","v":0},null,{"$f":"IF(AND(Y$17>=$B$23, Y$17<$C$23),(Z21+Z22)*$B$24,(Z21+Z22)*$C$24)","v":0},{"$f":"IF(AND(Y$17>=$B$23, Y$17<$C$23),(AA22)*$B$24,(AA22)*$C$24)","v":0},null,{"$f":"IF(AND(AB$17>=$B$23, AB$17<$C$23),(AC21+AC22)*$B$24,(AC21+AC22)*$C$24)","v":0},{"$f":"IF(AND(AB$17>=$B$23, AB$17<$C$23),(AD22)*$B$24,(AD22)*$C$24)","v":0},null,{"$f":"IF(AND(AE$17>=$B$23, AE$17<$C$23),(AF21+AF22)*$B$24,(AF21+AF22)*$C$24)","v":0},{"$f":"IF(AND(AE$17>=$B$23, AE$17<$C$23),(AG22)*$B$24,(AG22)*$C$24)","v":0},null,{"$f":"IF(AND(AH$17>=$B$23, AH$17<$C$23),(AI21+AI22)*$B$24,(AI21+AI22)*$C$24)","v":0},{"$f":"IF(AND(AH$17>=$B$23, AH$17<$C$23),(AJ22)*$B$24,(AJ22)*$C$24)","v":0}]
["Rate Base",null,null,null,{"$f":"SUM(E20+E24)","v":0},{"$f":"SUM(F20+F24)","v":0},null,{"$f":"SUM(H20+H24)","v":0},{"$f":"SUM(I20+I24)","v":0},null,{"$f":"SUM(K20+K24)","v":0},{"$f":"SUM(L20+L24)","v":0},null,{"$f":"SUM(N20+N24)","v":0},{"$f":"SUM(O20+O24)","v":0},null,{"$f":"SUM(Q20+Q24)","v":0},{"$f":"SUM(R20+R24)","v":0},null,{"$f":"SUM(T20+T24)","v":0},{"$f":"SUM(U20+U24)","v":0},null,{"$f":"SUM(W20+W24)","v":0},{"$f":"SUM(X20+X24)","v":0},null,{"$f":"SUM(Z20+Z24)","v":0},{"$f":"SUM(AA20+AA24)","v":0},null,{"$f":"SUM(AC20+AC24)","v":0},{"$f":"SUM(AD20+AD24)","v":0},null,{"$f":"SUM(AF20+AF24)","v":0},{"$f":"SUM(AG20+AG24)","v":0},null,{"$f":"SUM(AI20+AI24)","v":0},{"$f":"SUM(AJ20+AJ24)","v":0}]
[]
["Rebasing Year vs. Test Year",{"$f":"B23","v":2016},{"$f":"C23","v":2022}]
["Deemed ST Debt ",0.04,0.04,null,{"$f":"E25*$B$28","v":0},{"$f":"F25*$B$28","v":0},null,{"$f":"H25*$B$28","v":0},{"$f":"I25*$B$28","v":0},null,{"$f":"K25*$B$28","v":0},{"$f":"L25*$B$28","v":0},null,{"$f":"N25*$B$28","v":0},{"$f":"O25*$B$28","v":0},null,{"$f":"Q25*$B$28","v":0},{"$f":"R25*$B$28","v":0},null,{"$f":"T25*$C$28","v":0},{"$f":"U25*$C$28","v":0},null,{"$f":"W25*$C$28","v":0},{"$f":"X25*$C$28","v":0},null,{"$f":"Z25*$C$28","v":0},{"$f":"AA25*$C$28","v":0},null,{"$f":"AC25*$C$28","v":0},{"$f":"AD25*$C$28","v":0},null,{"$f":"AF25*$C$28","v":0},{"$f":"AG25*$C$28","v":0},null,{"$f":"AI25*$C$28","v":0},{"$f":"AJ25*$C$28","v":0}]
["Deemed LT Debt ",0.56000000000000005,0.56000000000000005,null,{"$f":"E25*$B$29","v":0},{"$f":"F25*$B$29","v":0},null,{"$f":"H25*$B$29","v":0},{"$f":"I25*$B$29","v":0},null,{"$f":"K25*$B$29","v":0},{"$f":"L25*$B$29","v":0},null,{"$f":"N25*$B$29","v":0},{"$f":"O25*$B$29","v":0},null,{"$f":"Q25*$B$29","v":0},{"$f":"R25*$B$29","v":0},null,{"$f":"T25*$C$29","v":0},{"$f":"U25*$C$29","v":0},null,{"$f":"W25*$C$29","v":0},{"$f":"X25*$C$29","v":0},null,{"$f":"Z25*$C$29","v":0},{"$f":"AA25*$C$29","v":0},null,{"$f":"AC25*$C$29","v":0},{"$f":"AD25*$C$29","v":0},null,{"$f":"AF25*$C$29","v":0},{"$f":"AG25*$C$29","v":0},null,{"$f":"AI25*$C$29","v":0},{"$f":"AJ25*$C$29","v":0}]
["Deemed Equity ",0.4,0.4,null,{"$f":"E25*$B$30","v":0},{"$f":"F25*$B$30","v":0},null,{"$f":"H25*$B$30","v":0},{"$f":"I25*$B$30","v":0},null,{"$f":"K25*$B$30","v":0},{"$f":"L25*$B$30","v":0},null,{"$f":"N25*$B$30","v":0},{"$f":"O25*$B$30","v":0},null,{"$f":"Q25*$B$30","v":0},{"$f":"R25*$B$30","v":0},null,{"$f":"T25*$C$30","v":0},{"$f":"U25*$C$30","v":0},null,{"$f":"W25*$C$30","v":0},{"$f":"X25*$C$30","v":0},null,{"$f":"Z25*$C$30","v":0},{"$f":"AA25*$C$30","v":0},null,{"$f":"AC25*$C$30","v":0},{"$f":"AD25*$C$30","v":0},null,{"$f":"AF25*$C$30","v":0},{"$f":"AG25*$C$30","v":0},null,{"$f":"AI25*$C$30","v":0},{"$f":"AJ25*$C$30","v":0}]
[]
["ST Interest (enter rate)",null,null,null,{"$f":"E28*$B32","v":0},0,null,0,0,null,0,0,null,0,0,null,0,0,null,{"$f":"T28*$C32","v":0},0,null,{"$f":"W28*$C32","v":0},0,null,{"$f":"Z28*$C32","v":0},0,null,{"$f":"AC28*$C32","v":0},0,null,{"$f":"AF28*$C32","v":0},0,null,{"$f":"AI28*$C32","v":0},0]
["LT Interest (enter rate)",null,null,null,0,0,null,0,0,null,0,0,null,0,0,null,0,0,null,0,0,null,0,0,null,0,0,null,0,0,null,0,0,null,{"$f":"AI29*$C33","v":0},0]
["Return on Equity (enter rate)",null,null,null,0,0,null,0,0,null,0,0,null,0,0,null,0,0,null,0,0,null,0,0,null,0,0,null,0,0,null,0,0,null,{"$f":"AI30*$C34","v":0},0]
["Cost of Capital Total",null,null,null,{"$f":"SUM(E32:E34)","v":0},{"$f":"SUM(F32:F34)","v":0},null,{"$f":"SUM(H32:H34)","v":0},{"$f":"SUM(I32:I34)","v":0},null,{"$f":"SUM(K32:K34)","v":0},{"$f":"SUM(L32:L34)","v":0},null,{"$f":"SUM(N32:N34)","v":0},{"$f":"SUM(O32:O34)","v":0},null,{"$f":"SUM(Q32:Q34)","v":0},{"$f":"SUM(R32:R34)","v":0},null,{"$f":"SUM(T32:T34)","v":0},{"$f":"SUM(U32:U34)","v":0},null,{"$f":"SUM(W32:W34)","v":0},{"$f":"SUM(X32:X34)","v":0},null,{"$f":"SUM(Z32:Z34)","v":0},{"$f":"SUM(AA32:AA34)","v":0},null,{"$f":"SUM(AC32:AC34)","v":0},{"$f":"SUM(AD32:AD34)","v":0},null,{"$f":"SUM(AF32:AF34)","v":0},{"$f":"SUM(AG32:AG34)","v":0},null,{"$f":"SUM(AI32:AI34)","v":0},{"$f":"SUM(AJ32:AJ34)","v":0}]
[]
["OM&A",null,null,null,{"$f":"E21+E22","v":0},{"$f":"F22","v":0},null,{"$f":"H21+H22","v":0},{"$f":"I22","v":0},null,{"$f":"K21+K22","v":0},{"$f":"L22","v":0},null,{"$f":"N21+N22","v":0},{"$f":"O22","v":0},null,{"$f":"Q21+Q22","v":0},{"$f":"R22","v":0},null,{"$f":"T21+T22","v":0},{"$f":"U22","v":0},null,{"$f":"W21+W22","v":0},{"$f":"X22","v":0},null,{"$f":"Z21+Z22","v":0},{"$f":"AA22","v":0},null,{"$f":"AC21+AC22","v":0},{"$f":"AD22","v":0},null,{"$f":"AF21+AF22","v":0},{"$f":"AG22","v":0},null,{"$f":"AI21+AI22","v":0},{"$f":"AJ22","v":0}]
["Amortization",null,null,{"$f":"+E77+E78","v":0},{"$f":"D38*E$19","v":0},{"$f":"D38*F$19","v":0},{"$f":"+F77+F78","v":0},{"$f":"G38*H$19","v":0},{"$f":"G38*I$19","v":0},{"$f":"+G77+G78","v":0},{"$f":"J38*K$19","v":0},{"$f":"J38*L$19","v":0},{"$f":"+H77+H78","v":0},{"$f":"M38*N$19","v":0},{"$f":"M38*O$19","v":0},{"$f":"+I77+I78","v":0},{"$f":"P38*Q$19","v":0},{"$f":"P38*R$19","v":0},{"$f":"+J77+J78","v":0},{"$f":"S38*T$19","v":0},{"$f":"S38*U$19","v":0},{"$f":"+K77+K78","v":0},{"$f":"V38*W$19","v":0},{"$f":"V38*X$19","v":0},{"$f":"+L77+L78","v":0},{"$f":"Y38*Z$19","v":0},{"$f":"Y38*AA$19","v":0},{"$f":"+M77+M78","v":0},{"$f":"AB38*AC$19","v":0},{"$f":"AB38*AD$19","v":0},{"$f":"+N77+N78","v":0},{"$f":"AE38*AF$19","v":0},{"$f":"AE38*AG$19","v":0},{"$f":"+O77+O78","v":0},{"$f":"AH38*AI$19","v":0},{"$f":"AH38*AJ$19","v":0}]
["Grossed-up PILs",null,null,null,{"$f":"+E66","v":0},{"$f":"+F66","v":0},null,{"$f":"+H66","v":0},{"$f":"+I66","v":0},null,{"$f":"+K66","v":0},{"$f":"+L66","v":0},null,{"$f":"+N66","v":0},{"$f":"+O66","v":0},null,{"$f":"+Q66","v":0},{"$f":"+R66","v":0},null,{"$f":"+T66","v":0},{"$f":"+U66","v":0},null,{"$f":"+W66","v":0},{"$f":"+X66","v":0},null,{"$f":"+Z66","v":0},{"$f":"+AA66","v":0},null,{"$f":"+AC66","v":0},{"$f":"+AD66","v":0},null,{"$f":"+AF66","v":0},{"$f":"+AG66","v":0},null,{"$f":"+AI66","v":0},{"$f":"+AJ66","v":0}]
[]
["Revenue Requirement",null,null,null,{"$f":"SUM(E35:E39)","v":0},{"$f":"SUM(F35:F39)","v":0},null,{"$f":"SUM(H35:H39)","v":0},0,null,{"$f":"SUM(K35:K39)","v":0},0,null,{"$f":"SUM(N35:N39)","v":0},0,null,{"$f":"SUM(Q35:Q39)","v":0},0,null,{"$f":"SUM(T35:T39)","v":0},0,null,{"$f":"SUM(W35:W39)","v":0},0,null,{"$f":"SUM(Z35:Z39)","v":0},0,null,{"$f":"SUM(AC35:AC39)","v":0},0,null,{"$f":"SUM(AF35:AF39)","v":0},0,null,{"$f":"SUM(AI35:AI39)","v":0},0]
[]
[]
["Provincial Rate Protection",null,null,null,null,{"$f":"F41","v":0},null,null,{"$f":"I41","v":0},null,null,{"$f":"L41","v":0},null,null,{"$f":"O41","v":0},null,null,{"$f":"R41","v":0},null,null,{"$f":"U41","v":0},null,null,{"$f":"X41","v":0},null,null,{"$f":"AA41","v":0},null,null,{"$f":"AD41","v":0},null,null,{"$f":"AG41","v":0},null,null,{"$f":"AJ41","v":0}]
[]
["Monthly Amount Paid by IESO",null,null,null,null,{"$f":"F44/12","v":0},null,null,{"$f":"I44/12","v":0},null,null,{"$f":"L44/12","v":0},null,null,{"$f":"O44/12","v":0},null,null,{"$f":"R44/12","v":0},null,null,{"$f":"U44/12","v":0},null,null,{"$f":"X44/12","v":0},null,null,{"$f":"AA44/12","v":0},null,null,{"$f":"AD44/12","v":0},null,null,{"$f":"AG44/12","v":0},null,null,{"$f":"AJ44/12","v":0}]
[]
["Note 1: The distributor should follow the regulatory accounting set out in the Accounting Procedure Handbook Guidance FAQs issued in March 2015. Q10 of the APH FAQs states that: “For approved eligible investments as defined under O.Reg. 330/09 under the OEB Act, a variance account will continue to be used for the purpose of recording variances between the revenue requirement based on actual costs of approved eligible investments and the revenue received from the IESO.” The answer for Q10 provides the accounting guidance for this variance account: “Distributors that have included eligible investments to connect qualifying facilities in their DS plans are to establish the variance Account 1533 Renewable Generation Connection Funding Adder Deferral Account, Sub-account Provincial Rate Protection Payment Variances following OEB approval for investments forecast to enter service beyond the test year for purposes of implementing rate protection pursuant to O.Reg. 330/09. The purpose of this variance account is to track the variance between the distributor’s revenue requirement associated with the portion of the actual capital and/or operating costs that are eligible for rate protection, as incurred by the distributor for eligible renewable enabling and expansion investments, and the rate protection payments collected from the IESO.” The answer further provides the journal entries to record the variances. Distributors should follow the instructions in the answer for recording the journal entries in the variance account 1533."]
[]
["Note 2: For the Test Year, Costs and Revenues of the Direct Benefit are to be included in the test year applicant Rate Base and Revenues."]
[]
["PILs Calculation",null,null,null,null,null,null,null,null,null,null,null,null,null,null,null,null,null,null,"Test Year"]
[null,null,null,null,{"$f":"G17-1","v":2017},null,null,{"$f":"G17","v":2018},null,null,{"$f":"J17","v":2019},null,null,{"$f":"M17","v":2020},null,null,{"$f":"P17","v":2021},null,null,{"$f":"S17","v":2022},null,null,{"$f":"V17","v":2023},null,null,{"$f":"Y17","v":2024},null,null,{"$f":"AB17","v":2025},null,null,{"$f":"AE17","v":2026},null,null,{"$f":"AH17","v":2027}]
["Income Tax",null,null,null,"Direct Benefit","Provincial",null,"Direct Benefit","Provincial",null,"Direct Benefit","Provincial",null,"Direct Benefit","Provincial",null,"Direct Benefit","Provincial",null,"Direct Benefit","Provincial",null,"Direct Benefit","Provincial",null,"Direct Benefit","Provincial",null,"Direct Benefit","Provincial",null,"Direct Benefit","Provincial",null,"Direct Benefit","Provincial"]
[null,null,null,null,null,null,null,null,null,null,null,null,null,null,null,null,null,null,null,null,null,null,null,null,null,null,null,"Total",null,null,"Total",null,null,"Total"]
["Net Income - ROE on Rate Base",null,null,null,{"$f":"E34","v":0},{"$f":"F34","v":0},null,{"$f":"H34","v":0},{"$f":"I34","v":0},null,{"$f":"K34","v":0},{"$f":"L34","v":0},null,{"$f":"N34","v":0},{"$f":"O34","v":0},null,{"$f":"Q34","v":0},{"$f":"R34","v":0},null,{"$f":"T34","v":0},{"$f":"U34","v":0},null,{"$f":"W34","v":0},{"$f":"X34","v":0},null,{"$f":"Z34","v":0},{"$f":"AA34","v":0},null,{"$f":"AC34","v":0},{"$f":"AD34","v":0},null,{"$f":"AF34","v":0},{"$f":"AG34","v":0},null,{"$f":"AI34","v":0},{"$f":"AJ34","v":0}]
["Amortization (6% DB and 94% P)",null,null,null,{"$f":"E38","v":0},{"$f":"F38","v":0},null,{"$f":"H38","v":0},{"$f":"I38","v":0},null,{"$f":"K38","v":0},{"$f":"L38","v":0},null,{"$f":"N38","v":0},{"$f":"O38","v":0},null,{"$f":"Q38","v":0},{"$f":"R38","v":0},null,{"$f":"T38","v":0},{"$f":"U38","v":0},null,{"$f":"W38","v":0},{"$f":"X38","v":0},null,{"$f":"Z38","v":0},{"$f":"AA38","v":0},null,{"$f":"AC38","v":0},{"$f":"AD38","v":0},null,{"$f":"AF38","v":0},{"$f":"AG38","v":0},null,{"$f":"AI38","v":0},{"$f":"AJ38","v":0}]
["CCA (6% DB and 94% P)",null,null,null,{"$f":"-E95*$E$19","v":0},{"$f":"-E95*$F$19","v":0},null,{"$f":"-F95*$E$19","v":0},{"$f":"-F95*$F$19","v":0},null,{"$f":"-G95*$E$19","v":0},{"$f":"-G95*$F$19","v":0},null,{"$f":"-H95*$E$19","v":0},{"$f":"-H95*$F$19","v":0},null,{"$f":"-I95*$E$19","v":0},{"$f":"-I95*$F$19","v":0},null,{"$f":"-J95*$E$19","v":0},{"$f":"-J95*$F$19","v":0},null,{"$f":"-K95*$E$19","v":0},{"$f":"-K95*$F$19","v":0},null,{"$f":"-L95*$E$19","v":0},{"$f":"-L95*$F$19","v":0},null,{"$f":"-M95*$E$19","v":0},{"$f":"-M95*$F$19","v":0},null,{"$f":"-N95*$E$19","v":0},{"$f":"-N95*$F$19","v":0},null,{"$f":"-Q95*$E$19","v":0},{"$f":"-Q95*$F$19","v":0}]
["Taxable income",null,null,null,{"$f":"SUM(E56:E58)","v":0},{"$f":"SUM(F56:F58)","v":0},null,{"$f":"SUM(H56:H58)","v":0},0,null,{"$f":"SUM(K56:K58)","v":0},0,null,{"$f":"SUM(N56:N58)","v":0},0,null,{"$f":"SUM(Q56:Q58)","v":0},0,null,{"$f":"SUM(T56:T58)","v":0},0,null,{"$f":"SUM(W56:W58)","v":0},0,null,{"$f":"SUM(Z56:Z58)","v":0},{"$f":"SUM(AA56:AA58)","v":0},null,{"$f":"SUM(AC56:AC58)","v":0},{"$f":"SUM(AD56:AD58)","v":0},null,{"$f":"SUM(AF56:AF58)","v":0},{"$f":"SUM(AG56:AG58)","v":0},null,{"$f":"SUM(AI56:AI58)","v":0},{"$f":"SUM(AJ56:AJ58)","v":0}]
[null,{"$f":"B27","v":2016},{"$f":"C27","v":2022}]
["Tax Rate  (to be entered)",null,null,null,{"$f":"IF(AND(E$53>=$B$60, E$53<$C$60),$B$61,$C$61)","v":0},{"$f":"IF(AND(E$53>=$B$60, E$53<$C$60),$B$61,$C$61)","v":0},null,{"$f":"IF(AND(H$53>=$B$60, H$53<$C$60),$B$61,$C$61)","v":0},{"$f":"IF(AND(H$53>=$B$60, H$53<$C$60),$B$61,$C$61)","v":0},null,{"$f":"IF(AND(K$53>=$B$60, K$53<$C$60),$B$61,$C$61)","v":0},{"$f":"IF(AND(K$53>=$B$60, K$53<$C$60),$B$61,$C$61)","v":0},null,{"$f":"IF(AND(N$53>=$B$60, N$53<$C$60),$B$61,$C$61)","v":0},{"$f":"IF(AND(N$53>=$B$60, N$53<$C$60),$B$61,$C$61)","v":0},null,{"$f":"IF(AND(Q$53>=$B$60, Q$53<$C$60),$B$61,$C$61)","v":0},{"$f":"IF(AND(Q$53>=$B$60, Q$53<$C$60),$B$61,$C$61)","v":0},null,{"$f":"IF(AND(T$53>=$B$60, T$53<$C$60),$B$61,$C$61)","v":0},{"$f":"IF(AND(T$53>=$B$60, T$53<$C$60),$B$61,$C$61)","v":0},null,{"$f":"IF(AND(W$53>=$B$60, W$53<$C$60),$B$61,$C$61)","v":0},{"$f":"IF(AND(W$53>=$B$60, W$53<$C$60),$B$61,$C$61)","v":0},null,{"$f":"IF(AND(Z$53>=$B$60, Z$53<$C$60),$B$61,$C$61)","v":0},{"$f":"IF(AND(Z$53>=$B$60, Z$53<$C$60),$B$61,$C$61)","v":0},null,{"$f":"IF(AND(AC$53>=$B$60, AC$53<$C$60),$B$61,$C$61)","v":0},{"$f":"IF(AND(AC$53>=$B$60, AC$53<$C$60),$B$61,$C$61)","v":0},null,{"$f":"IF(AND(AF$53>=$B$60, AF$53<$C$60),$B$61,$C$61)","v":0},{"$f":"IF(AND(AF$53>=$B$60, AF$53<$C$60),$B$61,$C$61)","v":0},null,{"$f":"IF(AND(AI$53>=$B$60, AI$53<$C$60),$B$61,$C$61)","v":0},{"$f":"IF(AND(AI$53>=$B$60, AI$53<$C$60),$B$61,$C$61)","v":0}]
[]
["Income Taxes Payable",null,null,null,{"$f":"E59*E61","v":0},{"$f":"F59*F61","v":0},null,{"$f":"H59*H61","v":0},{"$f":"I59*I61","v":0},null,{"$f":"K59*K61","v":0},{"$f":"L59*L61","v":0},null,{"$f":"N59*N61","v":0},{"$f":"O59*O61","v":0},null,{"$f":"Q59*Q61","v":0},{"$f":"R59*R61","v":0},null,{"$f":"T59*T61","v":0},{"$f":"U59*U61","v":0},null,{"$f":"W59*W61","v":0},{"$f":"X59*X61","v":0},null,{"$f":"Z59*Z61","v":0},{"$f":"AA59*AA61","v":0},null,{"$f":"AC59*AC61","v":0},{"$f":"AD59*AD61","v":0},null,{"$f":"AF59*AF61","v":0},{"$f":"AG59*AG61","v":0},null,{"$f":"AI59*AI61","v":0},{"$f":"AJ59*AJ61","v":0}]
["Gross Up"]
["Income Taxes Payable",null,null,null,{"$f":"E63/(1-E61)","v":0},{"$f":"F63/(1-F61)","v":0},null,{"$f":"H63/(1-H61)","v":0},{"$f":"I63/(1-I61)","v":0},null,{"$f":"K63/(1-K61)","v":0},{"$f":"L63/(1-L61)","v":0},null,{"$f":"N63/(1-N61)","v":0},{"$f":"O63/(1-O61)","v":0},null,{"$f":"Q63/(1-Q61)","v":0},{"$f":"R63/(1-R61)","v":0},null,{"$f":"T63/(1-T61)","v":0},{"$f":"U63/(1-U61)","v":0},null,{"$f":"W63/(1-W61)","v":0},{"$f":"X63/(1-X61)","v":0},null,{"$f":"Z63/(1-Z61)","v":0},{"$f":"AA63/(1-AA61)","v":0},null,{"$f":"AC63/(1-AC61)","v":0},{"$f":"AD63/(1-AD61)","v":0},null,{"$f":"AF63/(1-AF61)","v":0},{"$f":"AG63/(1-AG61)","v":0},null,{"$f":"AI63/(1-AI61)","v":0},{"$f":"AJ63/(1-AJ61)","v":0}]
["Grossed Up PILs",null,null,null,{"$f":"+E65","v":0},{"$f":"+F65","v":0},null,{"$f":"+H65","v":0},{"$f":"+I65","v":0},null,{"$f":"+K65","v":0},0,null,{"$f":"+N65","v":0},0,null,{"$f":"+Q65","v":0},0,null,{"$f":"+T65","v":0},0,null,{"$f":"+W65","v":0},0,null,{"$f":"+Z65","v":0},0,null,{"$f":"+AC65","v":0},0,null,{"$f":"+AF65","v":0},0,null,{"$f":"+AI65","v":0},0]
[]
[null,null,null,null,null,null,null,null,null,"Test Year"]
[null,null,null,null,{"$f":"F69-1","v":2017},{"$f":"G69-1","v":2018},{"$f":"H69-1","v":2019},{"$f":"I69-1","v":2020},{"$f":"J69-1","v":2021},{"$f":"'LDC Info'!E24","v":2022},{"$f":"J69+1","v":2023},{"$f":"K69+1","v":2024},{"$f":"L69+1","v":2025},{"$f":"M69+1","v":2026},{"$f":"N69+1","v":2027}]
["Net Fixed Assets"]
["Enter applicable amortization in years:",40]
["Opening Gross Fixed Assets",null,null,null,null,{"$f":"E74","v":0},0,0,0,0,0,0,0,0,0]
["Capital Additions",null,null,null,{"$f":"'App.2-FA Proposed REG Invest.'!C62","v":0},{"$f":"'App.2-FA Proposed REG Invest.'!D62","v":0},{"$f":"'App.2-FA Proposed REG Invest.'!E62","v":0},{"$f":"'App.2-FA Proposed REG Invest.'!F62","v":0},{"$f":"'App.2-FA Proposed REG Invest.'!G62","v":0},{"$f":"'App.2-FA Proposed REG Invest.'!H62","v":0},{"$f":"'App.2-FA Proposed REG Invest.'!I62","v":0},{"$f":"'App.2-FA Proposed REG Invest.'!J62","v":0},{"$f":"'App.2-FA Proposed REG Invest.'!K62","v":0},{"$f":"'App.2-FA Proposed REG Invest.'!L62","v":0},{"$f":"'App.2-FA Proposed REG Invest.'!M62","v":0}]
["Closing Gross Fixed Assets",null,null,null,{"$f":"SUM(E72:E73)","v":0},0,0,0,0,0,0,0,0,0,{"$f":"SUM(O72:O73)","v":0}]
[]
["Opening Accumulated Amortization",null,null,null,null,{"$f":"+E79","v":0},{"$f":"+F79","v":0},0,0,0,0,0,0,0,0]
["Current Year Amortization (before additions)",null,null,null,{"$f":"IF(ISERROR(E72/$B$71), 0, E72/$B$71)","v":0},{"$f":"IF(ISERROR(F72/$B$71), 0, F72/$B$71)","v":0},0,0,0,0,0,0,0,0,{"$f":"IF(ISERROR(O72/$B$71), 0, O72/$B$71)","v":0}]
["Capital Additions Amortization (half year)",null,null,null,{"$f":"E73/$B$71/2","v":0},{"$f":"F73/$B$71/2","v":0},0,0,0,0,0,0,0,0,{"$f":"O73/$B$71/2","v":0}]
["Closing Accumulated Amortization",null,null,null,{"$f":"SUM(E76+E77+E78)","v":0},0,0,0,0,0,0,0,0,0,{"$f":"SUM(O76+O77+O78)","v":0}]
[]
["Opening Net Fixed Assets",null,null,null,{"$f":"E72-E76","v":0},0,0,0,0,0,0,0,0,0,{"$f":"O72-O76","v":0}]
["Closing Net Fixed Assets",null,null,null,{"$f":"E74-E79","v":0},0,0,0,0,0,0,0,0,0,{"$f":"O74-O79","v":0}]
["Average Net Fixed Assets",null,null,null,{"$f":"SUM(E81:E82)/2","v":0},0,0,0,0,0,0,0,0,0,{"$f":"SUM(O81:O82)/2","v":0}]
[]
["UCC for PILs Calculation",null,null,null,null,null,null,null,null,"Test Year"]
[null,null,null,null,{"$f":"E69","v":2017},{"$f":"F69","v":2018},{"$f":"G69","v":2019},2020,2021,2022,2023,2024,2025,2026,{"$f":"O69","v":2027}]
[]
["Opening UCC",null,null,null,{"$f":"E72","v":0},{"$f":"E96","v":0},0,0,0,0,0,0,0,0,0]
["Capital Additions",null,null,null,{"$f":"E73","v":0},0,0,0,0,0,0,0,0,0,{"$f":"O73","v":0}]
["UCC Before Half Year Rule",null,null,null,{"$f":"SUM(E88:E89)","v":0},0,0,0,0,0,0,0,0,0,{"$f":"SUM(O88:O89)","v":0}]
["Capital Additions (half year)",null,null,null,{"$f":"E89/2","v":0},0,0,0,0,0,0,0,0,0,{"$f":"O89/2","v":0}]
["Reduced UCC",null,null,null,{"$f":"E90-E91","v":0},0,0,0,0,0,0,0,0,0,{"$f":"O90-O91","v":0}]
["CCA Rate Class (to be entered)"]
["CCA Rate  (to be entered)"]
["CCA",null,null,null,{"$f":"E92*$B$94","v":0},{"$f":"F92*$B$94","v":0},0,0,0,0,0,0,0,0,{"$f":"O92*$B$94","v":0}]
["Closing UCC",null,null,null,{"$f":"E90-E95","v":0},0,0,0,0,0,0,0,0,0,{"$f":"O90-O95","v":0}]

{"sheet":"App.2-FC Calc of REG Expansion","index":22,"n_rows":96,"n_cols":36,"rows_kept":96,"cut":false,"hidden":false,"merged":[[16,33,16,35],[52,34,52,35],[52,31,52,32],[52,16,52,17],[50,0,50,1],[52,4,52,5],[52,7,52,8],[52,10,52,11],[52,13,52,14],[16,24,16,26],[16,27,16,29],[52,19,52,20],[52,22,52,23],[52,25,52,26],[52,28,52,29],[15,18,15,20],[51,19,51,20],[16,30,16,32],[47,0,48,15],[8,0,8,21],[9,0,9,21],[11,0,11,21],[12,0,12,21],[14,0,14,21],[16,3,16,5],[16,6,16,8],[16,9,16,11],[16,12,16,14],[16,15,16,17],[16,18,16,20],[16,21,16,23]]}
[null,null,null,null,null,null,null,null,null,null,null,null,null,null,null,null,null,"File Number:",0]
[null,null,null,null,null,null,null,null,null,null,null,null,null,null,null,null,null,"Exhibit:"]
[null,null,null,null,null,null,null,null,null,null,null,null,null,null,null,null,null,"Tab:"]
["TO BE UPDATED AT DRAFT RATE ORDER STAGE",null,null,null,null,null,null,null,null,null,null,null,null,null,null,null,null,"Schedule:"]
[null,null,null,null,null,null,null,null,null,null,null,null,null,null,null,null,null,"Page:"]
[]
[null,null,null,null,null,null,null,null,null,null,null,null,null,null,null,null,null,"Date:"]
[]
["Appendix 2-FC"]
["Calculation of Renewable Generation Connection Direct Benefits/Provincial Amount: Renewable Expansion Investments"]
[]
["This table will calculate the distributor/provincial shares of the investments entered in Part B of Appendix 2-FA."]
["Enter values in green shaded cells: WCA percentage, debt percentages, interest rates, kWh, tax rates, amortization period, CCA Class and percentage."]
["For historical investments, enter these variables that were approved in your last cost of service test year.  For 2021 and beyond, enter variables as in the application."]
["Rate Riders related to the direct benefit portion of the renewable investments are not calculated for the Test Year as these assets and costs are already in the distributor's rate base/revenue requirement."]
[null,null,null,null,null,null,null,null,null,null,null,null,null,null,null,null,null,null,"Test Year"]
[null,null,null,{"$f":"G17-1","v":2017},null,null,{"$f":"J17-1","v":2018},null,null,{"$f":"M17-1","v":2019},null,null,{"$f":"P17-1","v":2020},null,null,{"$f":"S17-1","v":2021},null,null,{"$f":"'LDC Info'!$E$24","v":2022},null,null,{"$f":"S17+1","v":2023},null,null,{"$f":"V17+1","v":2024},2016,null,{"$f":"Y17+1","v":2025},null,null,{"$f":"AB17+1","v":2026},null,null,{"$f":"AE17+1","v":2027}]
[null,null,null,null,"Direct Benefit","Provincial",null,"Direct Benefit","Provincial",null,"Direct Benefit","Provincial",null,"Direct Benefit","Provincial",null,"Direct Benefit","Provincial",null,"Direct Benefit","Provincial",null,"Direct Benefit","Provincial",null,"Direct Benefit","Provincial",null,"Direct Benefit","Provincial",null,"Direct Benefit","Provincial",null,"Direct Benefit","Provincial"]
[null,null,null,"Total",0.17,0.83,"Total",0.17,0.83,"Total",0.17,0.83,"Total",0.17,0.83,"Total",0.17,0.83,"Total",0.17,0.83,"Total",0.17,0.83,"Total",0.17,0.83,"Total",0.17,0.83,"Total",0.17,0.83,"Total",0.17,0.83]
["Net Fixed Assets (average)",null,null,{"$f":"E83","v":0},{"$f":"D20*E19","v":0},{"$f":"D20*F19","v":0},{"$f":"F83","v":0},{"$f":"G20*H19","v":0},{"$f":"G20*I19","v":0},{"$f":"G83","v":0},{"$f":"J20*K19","v":0},{"$f":"J20*L19","v":0},{"$f":"H83","v":0},{"$f":"M20*N19","v":0},{"$f":"M20*O19","v":0},{"$f":"I83","v":0},{"$f":"P20*Q19","v":0},{"$f":"P20*R19","v":0},{"$f":"J83","v":0},{"$f":"S20*T19","v":0},{"$f":"S20*U19","v":0},{"$f":"K83","v":0},{"$f":"V20*W19","v":0},{"$f":"V20*X19","v":0},{"$f":"L83","v":0},{"$f":"Y20*Z19","v":0},{"$f":"Y20*AA19","v":0},{"$f":"M83","v":0},{"$f":"AB20*AC19","v":0},{"$f":"AB20*AD19","v":0},{"$f":"N83","v":0},{"$f":"AE20*AF19","v":0},{"$f":"AE20*AG19","v":0},{"$f":"O83","v":0},{"$f":"AH20*AI19","v":0},{"$f":"AH20*AJ19","v":0}]
["Incremental OM&A (on-going, N/A for Provincial Recovery)",null,null,0,{"$f":"D21*E19","v":0},{"$f":"D21*F19","v":0},0,{"$f":"G21*H19","v":0},{"$f":"G21*I19","v":0},0,{"$f":"J21*K19","v":0},{"$f":"J21*L19","v":0},0,{"$f":"M21*N19","v":0},{"$f":"M21*O19","v":0},0,{"$f":"P21*Q19","v":0},{"$f":"P21*R19","v":0},0,{"$f":"S21*T19","v":0},{"$f":"S21*U19","v":0},0,{"$f":"V21*W19","v":0},{"$f":"V21*X19","v":0},0,{"$f":"Y21*Z19","v":0},{"$f":"Y21*AA19","v":0},0,{"$f":"AB21*AC19","v":0},{"$f":"AB21*AD19","v":0},0,{"$f":"AE21*AF19","v":0},{"$f":"AE21*AG19","v":0},0,{"$f":"AH21*AI19","v":0},{"$f":"AH21*AJ19","v":0}]
["Incremental OM&A (start-up, applicable for Provincial Recovery)",null,null,0,{"$f":"D22*E19","v":0},{"$f":"D22*F19","v":0},0,{"$f":"G22*H19","v":0},{"$f":"G22*I19","v":0},0,{"$f":"J22*K19","v":0},{"$f":"J22*L19","v":0},0,{"$f":"M22*N19","v":0},{"$f":"M22*O19","v":0},0,{"$f":"P22*Q19","v":0},{"$f":"P22*R19","v":0},0,{"$f":"S22*T19","v":0},{"$f":"S22*U19","v":0},0,{"$f":"V22*W19","v":0},{"$f":"V22*X19","v":0},0,{"$f":"Y22*Z19","v":0},{"$f":"Y22*AA19","v":0},0,{"$f":"AB22*AC19","v":0},{"$f":"AB22*AD19","v":0},0,{"$f":"AE22*AF19","v":0},{"$f":"AE22*AG19","v":0},0,{"$f":"AH22*AI19","v":0},{"$f":"AH22*AJ19","v":0}]
["Rebasing Year vs. Test Year",{"$f":"'LDC Info'!E28","v":2016},{"$f":"'LDC Info'!E24","v":2022}]
["Allowance for Working Capital (enter rate)",null,null,null,{"$f":"IF(AND(D$17>=$B$23, D$17<$C$23),(E21+E22)*$B$24,(E21+E22)*$C$24)","v":0},{"$f":"IF(AND(D$17>=$B$23, D$17<$C$23),(F22)*$B$24,(F22)*$C$24)","v":0},null,{"$f":"IF(AND(G$17>=$B$23, G$17<$C$23),(H21+H22)*$B$24,(H21+H22)*$C$24)","v":0},{"$f":"IF(AND(G$17>=$B$23, G$17<$C$23),(I22)*$B$24,(I22)*$C$24)","v":0},null,{"$f":"IF(AND(J$17>=$B$23, J$17<$C$23),(K21+K22)*$B$24,(K21+K22)*$C$24)","v":0},{"$f":"IF(AND(J$17>=$B$23, J$17<$C$23),(L22)*$B$24,(L22)*$C$24)","v":0},null,{"$f":"IF(AND(M$17>=$B$23, M$17<$C$23),(N21+N22)*$B$24,(N21+N22)*$C$24)","v":0},{"$f":"IF(AND(M$17>=$B$23, M$17<$C$23),(O22)*$B$24,(O22)*$C$24)","v":0},null,{"$f":"IF(AND(P$17>=$B$23, P$17<$C$23),(Q21+Q22)*$B$24,(Q21+Q22)*$C$24)","v":0},{"$f":"IF(AND(P$17>=$B$23, P$17<$C$23),(R22)*$B$24,(R22)*$C$24)","v":0},null,{"$f":"IF(AND(S$17>=$B$23, S$17<$C$23),(T21+T22)*$B$24,(T21+T22)*$C$24)","v":0},{"$f":"IF(AND(S$17>=$B$23, S$17<$C$23),(U22)*$B$24,(U22)*$C$24)","v":0},null,{"$f":"IF(AND(V$17>=$B$23, V$17<$C$23),(W21+W22)*$B$24,(W21+W22)*$C$24)","v":0},{"$f":"IF(AND(V$17>=$B$23, V$17<$C$23),(X22)*$B$24,(X22)*$C$24)","v":0},null,{"$f":"IF(AND(Y$17>=$B$23, Y$17<$C$23),(Z21+Z22)*$B$24,(Z21+Z22)*$C$24)","v":0},{"$f":"IF(AND(Y$17>=$B$23, Y$17<$C$23),(AA22)*$B$24,(AA22)*$C$24)","v":0},null,{"$f":"IF(AND(AB$17>=$B$23, AB$17<$C$23),(AC21+AC22)*$B$24,(AC21+AC22)*$C$24)","v":0},{"$f":"IF(AND(AB$17>=$B$23, AB$17<$C$23),(AD22)*$B$24,(AD22)*$C$24)","v":0},null,{"$f":"IF(AND(AE$17>=$B$23, AE$17<$C$23),(AF21+AF22)*$B$24,(AF21+AF22)*$C$24)","v":0},{"$f":"IF(AND(AE$17>=$B$23, AE$17<$C$23),(AG22)*$B$24,(AG22)*$C$24)","v":0},null,{"$f":"IF(AND(AH$17>=$B$23, AH$17<$C$23),(AI21+AI22)*$B$24,(AI21+AI22)*$C$24)","v":0},{"$f":"IF(AND(AH$17>=$B$23, AH$17<$C$23),(AJ22)*$B$24,(AJ22)*$C$24)","v":0}]
["Rate Base",null,null,null,{"$f":"SUM(E20+E24)","v":0},{"$f":"SUM(F20+F24)","v":0},null,{"$f":"SUM(H20+H24)","v":0},{"$f":"SUM(I20+I24)","v":0},null,{"$f":"SUM(K20+K24)","v":0},{"$f":"SUM(L20+L24)","v":0},null,{"$f":"SUM(N20+N24)","v":0},{"$f":"SUM(O20+O24)","v":0},null,{"$f":"SUM(Q20+Q24)","v":0},{"$f":"SUM(R20+R24)","v":0},null,{"$f":"SUM(T20+T24)","v":0},{"$f":"SUM(U20+U24)","v":0},null,{"$f":"SUM(W20+W24)","v":0},{"$f":"SUM(X20+X24)","v":0},null,{"$f":"SUM(Z20+Z24)","v":0},{"$f":"SUM(AA20+AA24)","v":0},null,{"$f":"SUM(AC20+AC24)","v":0},{"$f":"SUM(AD20+AD24)","v":0},null,{"$f":"SUM(AF20+AF24)","v":0},{"$f":"SUM(AG20+AG24)","v":0},null,{"$f":"SUM(AI20+AI24)","v":0},{"$f":"SUM(AJ20+AJ24)","v":0}]
[]
[null,{"$f":"B23","v":2016},{"$f":"C23","v":2022}]
["Deemed ST Debt ",0.04,0.04,null,{"$f":"E25*$B$28","v":0},{"$f":"F25*$B$28","v":0},null,{"$f":"H25*$B$28","v":0},{"$f":"I25*$B$28","v":0},null,{"$f":"K25*$B$28","v":0},{"$f":"L25*$B$28","v":0},null,{"$f":"N25*$B$28","v":0},{"$f":"O25*$B$28","v":0},null,{"$f":"Q25*$B$28","v":0},{"$f":"R25*$B$28","v":0},null,{"$f":"T25*$C$28","v":0},{"$f":"U25*$C$28","v":0},null,{"$f":"W25*$C$28","v":0},{"$f":"X25*$C$28","v":0},null,{"$f":"Z25*$C$28","v":0},{"$f":"AA25*$C$28","v":0},null,{"$f":"AC25*$C$28","v":0},{"$f":"AD25*$C$28","v":0},null,{"$f":"AF25*$C$28","v":0},{"$f":"AG25*$C$28","v":0},null,{"$f":"AI25*$C$28","v":0},{"$f":"AJ25*$C$28","v":0}]
["Deemed LT Debt ",0.56000000000000005,0.56000000000000005,null,{"$f":"E25*$B$29","v":0},{"$f":"F25*$B$29","v":0},null,{"$f":"H25*$B$29","v":0},{"$f":"I25*$B$29","v":0},null,{"$f":"K25*$B$29","v":0},{"$f":"L25*$B$29","v":0},null,{"$f":"N25*$B$29","v":0},{"$f":"O25*$B$29","v":0},null,{"$f":"Q25*$B$29","v":0},{"$f":"R25*$B$29","v":0},null,{"$f":"T25*$C$29","v":0},{"$f":"U25*$C$29","v":0},null,{"$f":"W25*$C$29","v":0},{"$f":"X25*$C$29","v":0},null,{"$f":"Z25*$C$29","v":0},{"$f":"AA25*$C$29","v":0},null,{"$f":"AC25*$C$29","v":0},{"$f":"AD25*$C$29","v":0},null,{"$f":"AF25*$C$29","v":0},{"$f":"AG25*$C$29","v":0},null,{"$f":"AI25*$C$29","v":0},{"$f":"AJ25*$C$29","v":0}]
["Deemed Equity ",0.4,0.4,null,{"$f":"E25*$B$30","v":0},{"$f":"F25*$B$30","v":0},null,{"$f":"H25*$B$30","v":0},{"$f":"I25*$B$30","v":0},null,{"$f":"K25*$B$30","v":0},{"$f":"L25*$B$30","v":0},null,{"$f":"N25*$B$30","v":0},{"$f":"O25*$B$30","v":0},null,{"$f":"Q25*$B$30","v":0},{"$f":"R25*$B$30","v":0},null,{"$f":"T25*$C$30","v":0},{"$f":"U25*$C$30","v":0},null,{"$f":"W25*$C$30","v":0},{"$f":"X25*$C$30","v":0},null,{"$f":"Z25*$C$30","v":0},{"$f":"AA25*$C$30","v":0},null,{"$f":"AC25*$C$30","v":0},{"$f":"AD25*$C$30","v":0},null,{"$f":"AF25*$C$30","v":0},{"$f":"AG25*$C$30","v":0},null,{"$f":"AI25*$C$30","v":0},{"$f":"AJ25*$C$30","v":0}]
[]
["ST Interest (enter rate)",null,null,null,{"$f":"E28*$B32","v":0},0,null,0,0,null,0,0,null,0,0,null,0,0,null,{"$f":"T28*$C32","v":0},0,null,{"$f":"W28*$C32","v":0},0,null,{"$f":"Z28*$C32","v":0},0,null,{"$f":"AC28*$C32","v":0},0,null,{"$f":"AF28*$C32","v":0},0,null,{"$f":"AI28*$C32","v":0},0]
["LT Interest (enter rate)",null,null,null,0,0,null,0,0,null,0,0,null,0,0,null,0,0,null,0,0,null,0,0,null,0,0,null,0,0,null,0,0,null,{"$f":"AI29*$C33","v":0},0]
["Return on Equity (enter rate)",null,null,null,0,0,null,0,0,null,0,0,null,0,0,null,0,0,null,0,0,null,0,0,null,0,0,null,0,0,null,0,0,null,{"$f":"AI30*$C34","v":0},0]
["Cost of Capital Total",null,null,null,{"$f":"SUM(E32:E34)","v":0},{"$f":"SUM(F32:F34)","v":0},null,{"$f":"SUM(H32:H34)","v":0},{"$f":"SUM(I32:I34)","v":0},null,{"$f":"SUM(K32:K34)","v":0},{"$f":"SUM(L32:L34)","v":0},null,{"$f":"SUM(N32:N34)","v":0},{"$f":"SUM(O32:O34)","v":0},null,{"$f":"SUM(Q32:Q34)","v":0},{"$f":"SUM(R32:R34)","v":0},null,{"$f":"SUM(T32:T34)","v":0},{"$f":"SUM(U32:U34)","v":0},null,{"$f":"SUM(W32:W34)","v":0},{"$f":"SUM(X32:X34)","v":0},null,{"$f":"SUM(Z32:Z34)","v":0},{"$f":"SUM(AA32:AA34)","v":0},null,{"$f":"SUM(AC32:AC34)","v":0},{"$f":"SUM(AD32:AD34)","v":0},null,{"$f":"SUM(AF32:AF34)","v":0},{"$f":"SUM(AG32:AG34)","v":0},null,{"$f":"SUM(AI32:AI34)","v":0},{"$f":"SUM(AJ32:AJ34)","v":0}]
[]
["OM&A",null,null,null,{"$f":"E21+E22","v":0},{"$f":"F22","v":0},null,{"$f":"H21+H22","v":0},{"$f":"I22","v":0},null,{"$f":"K21+K22","v":0},{"$f":"L22","v":0},null,{"$f":"N21+N22","v":0},{"$f":"O22","v":0},null,{"$f":"Q21+Q22","v":0},{"$f":"R22","v":0},null,{"$f":"T21+T22","v":0},{"$f":"U22","v":0},null,{"$f":"W21+W22","v":0},{"$f":"X22","v":0},null,{"$f":"Z21+Z22","v":0},{"$f":"AA22","v":0},null,{"$f":"AC21+AC22","v":0},{"$f":"AD22","v":0},null,{"$f":"AF21+AF22","v":0},{"$f":"AG22","v":0},null,{"$f":"AI21+AI22","v":0},{"$f":"AJ22","v":0}]
["Amortization",null,null,{"$f":"+E77+E78","v":0},{"$f":"D38*E$19","v":0},{"$f":"D38*F$19","v":0},{"$f":"+F77+F78","v":0},{"$f":"G38*H$19","v":0},{"$f":"G38*I$19","v":0},{"$f":"+G77+G78","v":0},{"$f":"J38*K$19","v":0},{"$f":"J38*L$19","v":0},{"$f":"+H77+H78","v":0},{"$f":"M38*N$19","v":0},{"$f":"M38*O$19","v":0},{"$f":"+I77+I78","v":0},{"$f":"P38*Q$19","v":0},{"$f":"P38*R$19","v":0},{"$f":"+J77+J78","v":0},{"$f":"S38*T$19","v":0},{"$f":"S38*U$19","v":0},{"$f":"+K77+K78","v":0},{"$f":"V38*W$19","v":0},{"$f":"V38*X$19","v":0},{"$f":"+L77+L78","v":0},{"$f":"Y38*Z$19","v":0},{"$f":"Y38*AA$19","v":0},{"$f":"+M77+M78","v":0},{"$f":"AB38*AC$19","v":0},{"$f":"AB38*AD$19","v":0},{"$f":"+N77+N78","v":0},{"$f":"AE38*AF$19","v":0},{"$f":"AE38*AG$19","v":0},{"$f":"+O77+O78","v":0},{"$f":"AH38*AI$19","v":0},{"$f":"AH38*AJ$19","v":0}]
["Grossed-up PILs",null,null,null,{"$f":"+E66","v":0},{"$f":"+F66","v":0},null,{"$f":"+H66","v":0},{"$f":"+I66","v":0},null,{"$f":"+K66","v":0},{"$f":"+L66","v":0},null,{"$f":"+N66","v":0},{"$f":"+O66","v":0},null,{"$f":"+Q66","v":0},{"$f":"+R66","v":0},null,{"$f":"+T66","v":0},{"$f":"+U66","v":0},null,{"$f":"+W66","v":0},{"$f":"+X66","v":0},null,{"$f":"+Z66","v":0},{"$f":"+AA66","v":0},null,{"$f":"+AC66","v":0},{"$f":"+AD66","v":0},null,{"$f":"+AF66","v":0},{"$f":"+AG66","v":0},null,{"$f":"+AI66","v":0},{"$f":"+AJ66","v":0}]
[]
["Revenue Requirement",null,null,null,{"$f":"SUM(E35:E39)","v":0},{"$f":"SUM(F35:F39)","v":0},null,{"$f":"SUM(H35:H39)","v":0},0,null,{"$f":"SUM(K35:K39)","v":0},0,null,{"$f":"SUM(N35:N39)","v":0},0,null,{"$f":"SUM(Q35:Q39)","v":0},0,null,{"$f":"SUM(T35:T39)","v":0},0,null,{"$f":"SUM(W35:W39)","v":0},0,null,{"$f":"SUM(Z35:Z39)","v":0},0,null,{"$f":"SUM(AC35:AC39)","v":0},0,null,{"$f":"SUM(AF35:AF39)","v":0},0,null,{"$f":"SUM(AI35:AI39)","v":0},0]
[]
[]
["Provincial Rate Protection",null,null,null,null,{"$f":"F41","v":0},null,null,{"$f":"I41","v":0},null,null,{"$f":"L41","v":0},null,null,{"$f":"O41","v":0},null,null,{"$f":"R41","v":0},null,null,{"$f":"U41","v":0},null,null,{"$f":"X41","v":0},null,null,{"$f":"AA41","v":0},null,null,{"$f":"AD41","v":0},null,null,{"$f":"AG41","v":0},null,null,{"$f":"AJ41","v":0}]
[]
["Monthly Amount Paid by IESO",null,null,null,null,{"$f":"F44/12","v":0},null,null,{"$f":"I44/12","v":0},null,null,{"$f":"L44/12","v":0},null,null,{"$f":"O44/12","v":0},null,null,{"$f":"R44/12","v":0},null,null,{"$f":"U44/12","v":0},null,null,{"$f":"X44/12","v":0},null,null,{"$f":"AA44/12","v":0},null,null,{"$f":"AD44/12","v":0},null,null,{"$f":"AG44/12","v":0},null,null,{"$f":"AJ44/12","v":0}]
[]
["Note 1: The distributor should follow the regulatory accounting set out in the Accounting Procedure Handbook Guidance FAQs issued in March 2015. Q10 of the APH FAQs states that: “For approved eligible investments as defined under O.Reg. 330/09 under the OEB Act, a variance account will continue to be used for the purpose of recording variances between the revenue requirement based on actual costs of approved eligible investments and the revenue received from the IESO.” The answer for Q10 provides the accounting guidance for this variance account: “Distributors that have included eligible investments to connect qualifying facilities in their DS plans are to establish the variance Account 1533 Renewable Generation Connection Funding Adder Deferral Account, Sub-account Provincial Rate Protection Payment Variances following OEB approval for investments forecast to enter service beyond the test year for purposes of implementing rate protection pursuant to O.Reg. 330/09. The purpose of this variance account is to track the variance between the distributor’s revenue requirement associated with the portion of the actual capital and/or operating costs that are eligible for rate protection, as incurred by the distributor for eligible renewable enabling and expansion investments, and the rate protection payments collected from the IESO.” The answer further provides the journal entries to record the variances. Distributors should follow the instructions in the answer for recording the journal entries in the variance account 1533."]
[]
["Note 2: For the Test Year, Costs and Revenues of the Direct Benefit are to be included in the test year applicant Rate Base and Revenues."]
[]
["PILs Calculation",null,null,null,null,null,null,null,null,null,null,null,null,null,null,null,null,null,null,"Test Year"]
[null,null,null,null,{"$f":"G17-1","v":2017},null,null,{"$f":"G17","v":2018},null,null,{"$f":"J17","v":2019},null,null,{"$f":"M17","v":2020},null,null,{"$f":"P17","v":2021},null,null,{"$f":"S17","v":2022},null,null,{"$f":"V17","v":2023},null,null,{"$f":"Y17","v":2024},null,null,{"$f":"AB17","v":2025},null,null,{"$f":"AE17","v":2026},null,null,{"$f":"AH17","v":2027}]
["Income Tax",null,null,null,"Direct Benefit","Provincial",null,"Direct Benefit","Provincial",null,"Direct Benefit","Provincial",null,"Direct Benefit","Provincial",null,"Direct Benefit","Provincial",null,"Direct Benefit","Provincial",null,"Direct Benefit","Provincial",null,"Direct Benefit","Provincial",null,"Direct Benefit","Provincial",null,"Direct Benefit","Provincial",null,"Direct Benefit","Provincial"]
[null,null,null,null,null,null,null,null,null,null,null,null,null,null,null,null,null,null,null,null,null,null,null,null,null,null,null,"Total",null,null,"Total",null,null,"Total"]
["Net Income - ROE on Rate Base",null,null,null,{"$f":"E34","v":0},{"$f":"F34","v":0},null,{"$f":"H34","v":0},{"$f":"I34","v":0},null,{"$f":"K34","v":0},{"$f":"L34","v":0},null,{"$f":"N34","v":0},{"$f":"O34","v":0},null,{"$f":"Q34","v":0},{"$f":"R34","v":0},null,{"$f":"T34","v":0},{"$f":"U34","v":0},null,{"$f":"W34","v":0},{"$f":"X34","v":0},null,{"$f":"Z34","v":0},{"$f":"AA34","v":0},null,{"$f":"AC34","v":0},{"$f":"AD34","v":0},null,{"$f":"AF34","v":0},{"$f":"AG34","v":0},null,{"$f":"AI34","v":0},{"$f":"AJ34","v":0}]
["Amortization (6% DB and 94% P)",null,null,null,{"$f":"E38","v":0},{"$f":"F38","v":0},null,{"$f":"H38","v":0},{"$f":"I38","v":0},null,{"$f":"K38","v":0},{"$f":"L38","v":0},null,{"$f":"N38","v":0},{"$f":"O38","v":0},null,{"$f":"Q38","v":0},{"$f":"R38","v":0},null,{"$f":"T38","v":0},{"$f":"U38","v":0},null,{"$f":"W38","v":0},{"$f":"X38","v":0},null,{"$f":"Z38","v":0},{"$f":"AA38","v":0},null,{"$f":"AC38","v":0},{"$f":"AD38","v":0},null,{"$f":"AF38","v":0},{"$f":"AG38","v":0},null,{"$f":"AI38","v":0},{"$f":"AJ38","v":0}]
["CCA (6% DB and 94% P)",null,null,null,{"$f":"-E95*$E$19","v":0},{"$f":"-E95*$F$19","v":0},null,{"$f":"-F95*$E$19","v":0},{"$f":"-F95*$F$19","v":0},null,{"$f":"-G95*$E$19","v":0},{"$f":"-G95*$F$19","v":0},null,{"$f":"-H95*$E$19","v":0},{"$f":"-H95*$F$19","v":0},null,{"$f":"-I95*$E$19","v":0},{"$f":"-I95*$F$19","v":0},null,{"$f":"-J95*$E$19","v":0},{"$f":"-J95*$F$19","v":0},null,{"$f":"-K95*$E$19","v":0},{"$f":"-K95*$F$19","v":0},null,{"$f":"-L95*$E$19","v":0},{"$f":"-L95*$F$19","v":0},null,{"$f":"-M95*$E$19","v":0},{"$f":"-M95*$F$19","v":0},null,{"$f":"-N95*$E$19","v":0},{"$f":"-N95*$F$19","v":0},null,{"$f":"-Q95*$E$19","v":0},{"$f":"-Q95*$F$19","v":0}]
["Taxable income",null,null,null,{"$f":"SUM(E56:E58)","v":0},{"$f":"SUM(F56:F58)","v":0},null,{"$f":"SUM(H56:H58)","v":0},0,null,{"$f":"SUM(K56:K58)","v":0},0,null,{"$f":"SUM(N56:N58)","v":0},0,null,{"$f":"SUM(Q56:Q58)","v":0},0,null,{"$f":"SUM(T56:T58)","v":0},0,null,{"$f":"SUM(W56:W58)","v":0},0,null,{"$f":"SUM(Z56:Z58)","v":0},{"$f":"SUM(AA56:AA58)","v":0},null,{"$f":"SUM(AC56:AC58)","v":0},{"$f":"SUM(AD56:AD58)","v":0},null,{"$f":"SUM(AF56:AF58)","v":0},{"$f":"SUM(AG56:AG58)","v":0},null,{"$f":"SUM(AI56:AI58)","v":0},{"$f":"SUM(AJ56:AJ58)","v":0}]
[null,{"$f":"B27","v":2016},{"$f":"C27","v":2022}]
["Tax Rate  (to be entered)",null,null,null,{"$f":"IF(AND(E$53>=$B$60, E$53<$C$60),$B$61,$C$61)","v":0},{"$f":"IF(AND(E$53>=$B$60, E$53<$C$60),$B$61,$C$61)","v":0},null,{"$f":"IF(AND(H$53>=$B$60, H$53<$C$60),$B$61,$C$61)","v":0},{"$f":"IF(AND(H$53>=$B$60, H$53<$C$60),$B$61,$C$61)","v":0},null,{"$f":"IF(AND(K$53>=$B$60, K$53<$C$60),$B$61,$C$61)","v":0},{"$f":"IF(AND(K$53>=$B$60, K$53<$C$60),$B$61,$C$61)","v":0},null,{"$f":"IF(AND(N$53>=$B$60, N$53<$C$60),$B$61,$C$61)","v":0},{"$f":"IF(AND(N$53>=$B$60, N$53<$C$60),$B$61,$C$61)","v":0},null,{"$f":"IF(AND(Q$53>=$B$60, Q$53<$C$60),$B$61,$C$61)","v":0},{"$f":"IF(AND(Q$53>=$B$60, Q$53<$C$60),$B$61,$C$61)","v":0},null,{"$f":"IF(AND(T$53>=$B$60, T$53<$C$60),$B$61,$C$61)","v":0},{"$f":"IF(AND(T$53>=$B$60, T$53<$C$60),$B$61,$C$61)","v":0},null,{"$f":"IF(AND(W$53>=$B$60, W$53<$C$60),$B$61,$C$61)","v":0},{"$f":"IF(AND(W$53>=$B$60, W$53<$C$60),$B$61,$C$61)","v":0},null,{"$f":"IF(AND(Z$53>=$B$60, Z$53<$C$60),$B$61,$C$61)","v":0},{"$f":"IF(AND(Z$53>=$B$60, Z$53<$C$60),$B$61,$C$61)","v":0},null,{"$f":"IF(AND(AC$53>=$B$60, AC$53<$C$60),$B$61,$C$61)","v":0},{"$f":"IF(AND(AC$53>=$B$60, AC$53<$C$60),$B$61,$C$61)","v":0},null,{"$f":"IF(AND(AF$53>=$B$60, AF$53<$C$60),$B$61,$C$61)","v":0},{"$f":"IF(AND(AF$53>=$B$60, AF$53<$C$60),$B$61,$C$61)","v":0},null,{"$f":"IF(AND(AI$53>=$B$60, AI$53<$C$60),$B$61,$C$61)","v":0},{"$f":"IF(AND(AI$53>=$B$60, AI$53<$C$60),$B$61,$C$61)","v":0}]
[]
["Income Taxes Payable",null,null,null,{"$f":"E59*E61","v":0},{"$f":"F59*F61","v":0},null,{"$f":"H59*H61","v":0},{"$f":"I59*I61","v":0},null,{"$f":"K59*K61","v":0},{"$f":"L59*L61","v":0},null,{"$f":"N59*N61","v":0},{"$f":"O59*O61","v":0},null,{"$f":"Q59*Q61","v":0},{"$f":"R59*R61","v":0},null,{"$f":"T59*T61","v":0},{"$f":"U59*U61","v":0},null,{"$f":"W59*W61","v":0},{"$f":"X59*X61","v":0},null,{"$f":"Z59*Z61","v":0},{"$f":"AA59*AA61","v":0},null,{"$f":"AC59*AC61","v":0},{"$f":"AD59*AD61","v":0},null,{"$f":"AF59*AF61","v":0},{"$f":"AG59*AG61","v":0},null,{"$f":"AI59*AI61","v":0},{"$f":"AJ59*AJ61","v":0}]
["Gross Up"]
["Income Taxes Payable",null,null,null,{"$f":"E63/(1-E61)","v":0},{"$f":"F63/(1-F61)","v":0},null,{"$f":"H63/(1-H61)","v":0},{"$f":"I63/(1-I61)","v":0},null,{"$f":"K63/(1-K61)","v":0},{"$f":"L63/(1-L61)","v":0},null,{"$f":"N63/(1-N61)","v":0},{"$f":"O63/(1-O61)","v":0},null,{"$f":"Q63/(1-Q61)","v":0},{"$f":"R63/(1-R61)","v":0},null,{"$f":"T63/(1-T61)","v":0},{"$f":"U63/(1-U61)","v":0},null,{"$f":"W63/(1-W61)","v":0},{"$f":"X63/(1-X61)","v":0},null,{"$f":"Z63/(1-Z61)","v":0},{"$f":"AA63/(1-AA61)","v":0},null,{"$f":"AC63/(1-AC61)","v":0},{"$f":"AD63/(1-AD61)","v":0},null,{"$f":"AF63/(1-AF61)","v":0},{"$f":"AG63/(1-AG61)","v":0},null,{"$f":"AI63/(1-AI61)","v":0},{"$f":"AJ63/(1-AJ61)","v":0}]
["Grossed Up PILs",null,null,null,{"$f":"+E65","v":0},{"$f":"+F65","v":0},null,{"$f":"+H65","v":0},{"$f":"+I65","v":0},null,{"$f":"+K65","v":0},0,null,{"$f":"+N65","v":0},0,null,{"$f":"+Q65","v":0},0,null,{"$f":"+T65","v":0},0,null,{"$f":"+W65","v":0},0,null,{"$f":"+Z65","v":0},0,null,{"$f":"+AC65","v":0},0,null,{"$f":"+AF65","v":0},0,null,{"$f":"+AI65","v":0},0]
[]
[null,null,null,null,null,null,null,null,null,"Test Year"]
[null,null,null,null,{"$f":"F69-1","v":2017},{"$f":"G69-1","v":2018},{"$f":"H69-1","v":2019},{"$f":"I69-1","v":2020},{"$f":"J69-1","v":2021},{"$f":"'LDC Info'!E24","v":2022},{"$f":"J69+1","v":2023},{"$f":"K69+1","v":2024},{"$f":"L69+1","v":2025},{"$f":"M69+1","v":2026},{"$f":"N69+1","v":2027}]
["Net Fixed Assets"]
["Enter applicable amortization in years:",40]
["Opening Gross Fixed Assets",null,null,null,null,{"$f":"E74","v":0},0,0,0,0,0,0,0,0,0]
["Capital Additions",null,null,null,{"$f":"'App.2-FA Proposed REG Invest.'!C99","v":0},{"$f":"'App.2-FA Proposed REG Invest.'!D99","v":0},{"$f":"'App.2-FA Proposed REG Invest.'!E99","v":0},{"$f":"'App.2-FA Proposed REG Invest.'!F99","v":0},{"$f":"'App.2-FA Proposed REG Invest.'!G99","v":0},{"$f":"'App.2-FA Proposed REG Invest.'!H99","v":0},{"$f":"'App.2-FA Proposed REG Invest.'!I99","v":0},{"$f":"'App.2-FA Proposed REG Invest.'!J99","v":0},{"$f":"'App.2-FA Proposed REG Invest.'!K99","v":0},{"$f":"'App.2-FA Proposed REG Invest.'!L99","v":0},{"$f":"'App.2-FA Proposed REG Invest.'!M99","v":0}]
["Closing Gross Fixed Assets",null,null,null,{"$f":"SUM(E72:E73)","v":0},0,0,0,0,0,0,0,0,0,{"$f":"SUM(O72:O73)","v":0}]
[]
["Opening Accumulated Amortization",null,null,null,0,{"$f":"+E79","v":0},{"$f":"+F79","v":0},0,0,0,0,0,0,0,0]
["Current Year Amortization (before additions)",null,null,null,{"$f":"IF(ISERROR(E72/$B$71), 0, E72/$B$71)","v":0},{"$f":"IF(ISERROR(F72/$B$71), 0, F72/$B$71)","v":0},0,0,0,0,0,0,0,0,{"$f":"IF(ISERROR(O72/$B$71), 0, O72/$B$71)","v":0}]
["Capital Additions Amortization (half year)",null,null,null,{"$f":"E73/$B$71/2","v":0},{"$f":"F73/$B$71/2","v":0},0,0,0,0,0,0,0,0,{"$f":"O73/$B$71/2","v":0}]
["Closing Accumulated Amortization",null,null,null,{"$f":"SUM(E76+E77+E78)","v":0},0,0,0,0,0,0,0,0,0,{"$f":"SUM(O76+O77+O78)","v":0}]
[]
["Opening Net Fixed Assets",null,null,null,{"$f":"E72-E76","v":0},0,0,0,0,0,0,0,0,0,{"$f":"O72-O76","v":0}]
["Closing Net Fixed Assets",null,null,null,{"$f":"E74-E79","v":0},0,0,0,0,0,0,0,0,0,{"$f":"O74-O79","v":0}]
["Average Net Fixed Assets",null,null,null,{"$f":"SUM(E81:E82)/2","v":0},0,0,0,0,0,0,0,0,0,{"$f":"SUM(O81:O82)/2","v":0}]
[]
["UCC for PILs Calculation",null,null,null,null,null,null,null,null,{"$f":"J68","v":"Test Year"}]
[null,null,null,null,{"$f":"E69","v":2017},{"$f":"F69","v":2018},{"$f":"G69","v":2019},2020,2021,2022,2023,2024,2025,2026,{"$f":"O69","v":2027}]
[]
["Opening UCC",null,null,null,{"$f":"E72","v":0},{"$f":"E96","v":0},0,0,0,0,0,0,0,0,0]
["Capital Additions",null,null,null,{"$f":"E73","v":0},0,0,0,0,0,0,0,0,0,{"$f":"O73","v":0}]
["UCC Before Half Year Rule",null,null,null,{"$f":"SUM(E88:E89)","v":0},0,0,0,0,0,0,0,0,0,{"$f":"SUM(O88:O89)","v":0}]
["Capital Additions (half year)",null,null,null,{"$f":"E89/2","v":0},0,0,0,0,0,0,0,0,0,{"$f":"O89/2","v":0}]
["Reduced UCC",null,null,null,{"$f":"E90-E91","v":0},0,0,0,0,0,0,0,0,0,{"$f":"O90-O91","v":0}]
["CCA Rate Class (to be entered)"]
["CCA Rate  (to be entered)"]
["CCA",null,null,null,{"$f":"E92*$B$94","v":0},{"$f":"F92*$B$94","v":0},0,0,0,0,0,0,0,0,{"$f":"O92*$B$94","v":0}]
["Closing UCC",null,null,null,{"$f":"E90-E95","v":0},0,0,0,0,0,0,0,0,0,{"$f":"O90-O95","v":0}]

{"sheet":"App.2-G SQI","index":23,"n_rows":40,"n_cols":21,"rows_kept":40,"cut":false,"hidden":false,"merged":[[20,16,20,19],[21,16,21,19],[13,1,14,5],[13,0,15,0],[13,16,14,20],[13,11,14,15],[13,6,14,10],[37,4,37,5],[38,4,38,5],[39,4,39,5],[29,0,29,3],[30,0,30,3],[31,0,31,3],[32,0,32,3],[33,0,33,3],[34,0,34,3],[35,0,35,3],[36,0,36,3],[37,0,37,3],[38,0,38,3],[39,0,39,3],[32,4,32,5],[33,4,33,5],[34,4,34,5],[35,4,35,5],[36,4,36,5],[28,4,28,5],[29,4,29,5],[30,4,30,5],[31,4,31,5],[28,0,28,3],[6,14,6,15],[20,11,20,14],[21,11,21,14],[19,0,19,15],[8,0,8,15],[9,0,9,15],[10,0,10,15],[11,0,11,15],[20,1,20,4],[20,6,20,9],[23,0,23,10],[24,0,24,10],[26,0,26,10],[21,1,21,4],[21,6,21,9],[0,14,0,15],[1,14,1,15],[2,14,2,15],[3,14,3,15],[4,14,4,15]]}
[null,null,null,null,null,null,null,null,null,null,null,null,"File Number:",null,{"$f":"EBNUMBER","v":"EB-2021-0052"}]
[null,null,null,null,null,null,null,null,null,null,null,null,"Exhibit:"]
[null,null,null,null,null,null,null,null,null,null,null,null,"Tab:"]
[null,null,null,null,null,null,null,null,null,null,null,null,"Schedule:"]
[null,null,null,null,null,null,null,null,null,null,null,null,"Page:"]
[]
[null,null,null,null,null,null,null,null,null,null,null,null,"Date:"]
[]
["Appendix 2-G"]
["Service Reliability and Quality Indicators"]
[]
["Service Reliability"]
[]
["Index","Excluding Loss of Supply and Major Event Days",null,null,null,null,"Including Major Event Days, Excluding Loss of Supply",null,null,null,null,"Including Los of Supply, Excluding Major Event Days",null,null,null,null,"Including Loss of Supply and Major Event Days"]
[]
[null,{"$f":"TestYear-6","v":2016},{"$f":"TestYear-5","v":2017},{"$f":"TestYear-4","v":2018},{"$f":"TestYear-3","v":2019},{"$f":"TestYear-2","v":2020},{"$f":"B16","v":2016},2017,2018,2019,2020,2016,2017,2018,2019,2020,{"$f":"L16","v":2016},{"$f":"M16","v":2017},{"$f":"N16","v":2018},{"$f":"O16","v":2019},{"$f":"P16","v":2020}]
["SAIDI ",{"$f":"VLOOKUP('LDC Info'!$E$14,'2016 Adjusted SAIDI and SAIFI'!$A:$Q,6,FALSE)","v":1.5486845147550909},{"$f":"VLOOKUP('LDC Info'!$E$14,'2017 Adjusted SAIDI and SAIFI'!$A:$Q,6,FALSE)","v":0.94632482493788095},{"$f":"VLOOKUP('LDC Info'!$E$14,'2018 Adjusted SAIDI and SAIFI'!$A:$Q,6,FALSE)","v":0.52952084214274631},{"$f":"VLOOKUP('LDC Info'!$E$14,'2019 Adjusted SAIDI and SAIFI'!$A:$Q,6,FALSE)","v":7.5306653753879331},{"$f":"VLOOKUP('LDC Info'!$E$14,'2020'!$A:$P,6,FALSE)","v":0.56483743756024862},{"$f":"VLOOKUP('LDC Info'!$E$14,'2016 Adjusted SAIDI and SAIFI'!$A:$Q,7,FALSE)","v":3.31135929418922},{"$f":"VLOOKUP('LDC Info'!$E$14,'2017 Adjusted SAIDI and SAIFI'!$A:$Q,7,FALSE)","v":0.94632482493788095},{"$f":"VLOOKUP('LDC Info'!$E$14,'2018 Adjusted SAIDI and SAIFI'!$A:$Q,7,FALSE)","v":0.52952084214274631},{"$f":"VLOOKUP('LDC Info'!$E$14,'2019 Adjusted SAIDI and SAIFI'!$A:$Q,7,FALSE)","v":7.5306653753879331},{"$f":"VLOOKUP('LDC Info'!$E$14,'2020'!$A:$P,7,FALSE)","v":0.56483743756024862},{"$f":"VLOOKUP('LDC Info'!$E$14,'2016 Adjusted SAIDI and SAIFI'!$A:$Q,8,FALSE)","v":1.5939829631883125},{"$f":"VLOOKUP('LDC Info'!$E$14,'2017 Adjusted SAIDI and SAIFI'!$A:$Q,8,FALSE)","v":4.3540121978766662},{"$f":"VLOOKUP('LDC Info'!$E$14,'2018 Adjusted SAIDI and SAIFI'!$A:$Q,8,FALSE)","v":1.7290321144815619},{"$f":"VLOOKUP('LDC Info'!$E$14,'2019 Adjusted SAIDI and SAIFI'!$A:$Q,8,FALSE)","v":21.593984108467414},{"$f":"VLOOKUP('LDC Info'!$E$14,'2020'!$A:$P,8,FALSE)","v":2.6336657611077028},{"$f":"VLOOKUP('LDC Info'!$E$14,'2016 Adjusted SAIDI and SAIFI'!$A:$Q,9,FALSE)","v":3.3566577426224415},{"$f":"VLOOKUP('LDC Info'!$E$14,'2017 Adjusted SAIDI and SAIFI'!$A:$Q,9,FALSE)","v":4.3540121978766662},{"$f":"VLOOKUP('LDC Info'!$E$14,'2018 Adjusted SAIDI and SAIFI'!$A:$Q,9,FALSE)","v":1.7290321144815619},{"$f":"VLOOKUP('LDC Info'!$E$14,'2019 Adjusted SAIDI and SAIFI'!$A:$Q,9,FALSE)","v":21.593984108467414},{"$f":"VLOOKUP('LDC Info'!$E$14,'2020'!$A:$Q,9,FALSE)","v":2.6336657611077028}]
["SAIFI",{"$f":"VLOOKUP('LDC Info'!$E$14,'2016 Adjusted SAIDI and SAIFI'!$A:$Q,14,FALSE)","v":0.83565561302098923},{"$f":"VLOOKUP('LDC Info'!$E$14,'2017 Adjusted SAIDI and SAIFI'!$A:$Q,14,FALSE)","v":0.61567653038174841},{"$f":"VLOOKUP('LDC Info'!$E$14,'2018 Adjusted SAIDI and SAIFI'!$A:$Q,14,FALSE)","v":0.2427614448178399},{"$f":"VLOOKUP('LDC Info'!$E$14,'2019 Adjusted SAIDI and SAIFI'!$A:$Q,14,FALSE)","v":1.3465102458565359},{"$f":"VLOOKUP('LDC Info'!$E$14,'2020'!$A:$P,14,FALSE)","v":0.53290684427306989},{"$f":"VLOOKUP('LDC Info'!$E$14,'2016 Adjusted SAIDI and SAIFI'!$A:$Q,15,FALSE)","v":1.1486157590508026},{"$f":"VLOOKUP('LDC Info'!$E$14,'2017 Adjusted SAIDI and SAIFI'!$A:$Q,15,FALSE)","v":0.61567653038174841},{"$f":"VLOOKUP('LDC Info'!$E$14,'2018 Adjusted SAIDI and SAIFI'!$A:$Q,15,FALSE)","v":0.2427614448178399},{"$f":"VLOOKUP('LDC Info'!$E$14,'2019 Adjusted SAIDI and SAIFI'!$A:$Q,15,FALSE)","v":1.3465102458565359},{"$f":"VLOOKUP('LDC Info'!$E$14,'2020'!$A:$P,15,FALSE)","v":0.53290684427306989},{"$f":"VLOOKUP('LDC Info'!$E$14,'2016 Adjusted SAIDI and SAIFI'!$A:$Q,16,FALSE)","v":0.86997261940979342},{"$f":"VLOOKUP('LDC Info'!$E$14,'2017 Adjusted SAIDI and SAIFI'!$A:$Q,16,FALSE)","v":2.5459227467811161},{"$f":"VLOOKUP('LDC Info'!$E$14,'2018 Adjusted SAIDI and SAIFI'!$A:$Q,16,FALSE)","v":1.288763269757194},{"$f":"VLOOKUP('LDC Info'!$E$14,'2019 Adjusted SAIDI and SAIFI'!$A:$Q,16,FALSE)","v":3.3283296282437878},{"$f":"VLOOKUP('LDC Info'!$E$14,'2020'!$A:$P,16,FALSE)","v":6.0804486898606607},{"$f":"VLOOKUP('LDC Info'!$E$14,'2016 Adjusted SAIDI and SAIFI'!$A:$Q,17,FALSE)","v":1.1829327654396069},{"$f":"VLOOKUP('LDC Info'!$E$14,'2017 Adjusted SAIDI and SAIFI'!$A:$Q,17,FALSE)","v":2.5459227467811161},{"$f":"VLOOKUP('LDC Info'!$E$14,'2018 Adjusted SAIDI and SAIFI'!$A:$Q,17,FALSE)","v":1.288763269757194},{"$f":"VLOOKUP('LDC Info'!$E$14,'2019 Adjusted SAIDI and SAIFI'!$A:$Q,17,FALSE)","v":3.3283296282437878},{"$f":"VLOOKUP('LDC Info'!$E$14,'2020'!$A:$Q,17,FALSE)","v":6.0804486898606607}]
[]
["5 Year Historical Average"]
["SAIDI ",null,null,null,null,{"$f":"IF(ISERROR(AVERAGE(B17:F17)), \"\", AVERAGE(B17:F17))","v":2.2240065989567799},null,null,null,null,{"$f":"IF(ISERROR(AVERAGE(G17:K17)), \"\", AVERAGE(G17:K17))","v":2.5765415548436055},null,null,null,null,{"$f":"IF(ISERROR(AVERAGE(L17:P17)), \"\", AVERAGE(L17:P17))","v":6.3809354290243316},null,null,null,null,{"$f":"IF(ISERROR(AVERAGE(Q17:U17)), \"\", AVERAGE(Q17:U17))","v":6.7334703849111559}]
["SAIFI",null,null,null,null,{"$f":"IF(ISERROR(AVERAGE(B18:F18)), \"\", AVERAGE(B18:F18))","v":0.7147021356700366},null,null,null,null,{"$f":"IF(ISERROR(AVERAGE(G18:K18)), \"\", AVERAGE(G18:K18))","v":0.77729416487599934},null,null,null,null,{"$f":"IF(ISERROR(AVERAGE(L18:P18)), \"\", AVERAGE(L18:P18))","v":2.8226873908105103},null,null,null,null,{"$f":"IF(ISERROR(AVERAGE(Q18:U18)), \"\", AVERAGE(Q18:U18))","v":2.8852794200164729}]
[]
["SAIDI = System Average Interruption Duration Index"]
["SAIFI = System Average Interruption Frequency Index "]
[]
["Service Quality"]
[]
["Indicator",null,null,null,"OEB Minimum Standard",null,{"$f":"B16","v":2016},{"$f":"C16","v":2017},{"$f":"D16","v":2018},{"$f":"E16","v":2019},{"$f":"F16","v":2020}]
["Low Voltage Connections",null,null,null,0.9,null,{"$f":"IFERROR(VLOOKUP('LDC Info'!$E$14,'2.1.4_ServiceQuality'!$A:$FY,4,FALSE),\"\")","v":1},{"$f":"IFERROR(VLOOKUP('LDC Info'!$E$14,'2.1.4_ServiceQuality'!$A:$FY,40,FALSE),\"\")","v":0.98570000000000002},{"$f":"IFERROR(VLOOKUP('LDC Info'!$E$14,'2.1.4_ServiceQuality'!$A:$FY,76,FALSE),\"\")","v":1},{"$f":"IFERROR(VLOOKUP('LDC Info'!$E$14,'2.1.4_ServiceQuality'!$A:$FY,112,FALSE),\"\")","v":1},{"$f":"IFERROR(VLOOKUP('LDC Info'!$E$14,'2.1.4_ServiceQuality'!$A:$FY,148,FALSE),\"\")","v":1}]
["High Voltage Connections",null,null,null,0.9,null,{"$f":"IFERROR(VLOOKUP('LDC Info'!$E$14,'2.1.4_ServiceQuality'!$A:$FY,7,FALSE),\"\")","v":"N/A"},{"$f":"IFERROR(VLOOKUP('LDC Info'!$E$14,'2.1.4_ServiceQuality'!$A:$FY,43,FALSE),\"\")","v":1},{"$f":"IFERROR(VLOOKUP('LDC Info'!$E$14,'2.1.4_ServiceQuality'!$A:$FY,79,FALSE),\"\")","v":1},{"$f":"IFERROR(VLOOKUP('LDC Info'!$E$14,'2.1.4_ServiceQuality'!$A:$FY,115,FALSE),\"\")","v":"N/A"},{"$f":"IFERROR(VLOOKUP('LDC Info'!$E$14,'2.1.4_ServiceQuality'!$A:$FY,151,FALSE),\"\")","v":"N/A"}]
["Telephone Accessibility",null,null,null,0.65,null,{"$f":"IFERROR(VLOOKUP('LDC Info'!$E$14,'2.1.4_ServiceQuality'!$A:$FY,19,FALSE),\"\")","v":0.999},{"$f":"IFERROR(VLOOKUP('LDC Info'!$E$14,'2.1.4_ServiceQuality'!$A:$FY,55,FALSE),\"\")","v":0.99870000000000003},{"$f":"IFERROR(VLOOKUP('LDC Info'!$E$14,'2.1.4_ServiceQuality'!$A:$FY,91,FALSE),\"\")","v":0.99919999999999998},{"$f":"IFERROR(VLOOKUP('LDC Info'!$E$14,'2.1.4_ServiceQuality'!$A:$FY,127,FALSE),\"\")","v":0.99950000000000006},{"$f":"IFERROR(VLOOKUP('LDC Info'!$E$14,'2.1.4_ServiceQuality'!$A:$FY,163,FALSE),\"\")","v":0.97629999999999995}]
["Appointments Met",null,null,null,0.9,null,{"$f":"IFERROR(VLOOKUP('LDC Info'!$E$14,'2.1.4_ServiceQuality'!$A:$FY,13,FALSE),\"\")","v":1},{"$f":"IFERROR(VLOOKUP('LDC Info'!$E$14,'2.1.4_ServiceQuality'!$A:$FY,49,FALSE),\"\")","v":0.99139999999999995},{"$f":"IFERROR(VLOOKUP('LDC Info'!$E$14,'2.1.4_ServiceQuality'!$A:$FY,85,FALSE),\"\")","v":0.98640000000000005},{"$f":"IFERROR(VLOOKUP('LDC Info'!$E$14,'2.1.4_ServiceQuality'!$A:$FY,121,FALSE),\"\")","v":0.98150000000000004},{"$f":"IFERROR(VLOOKUP('LDC Info'!$E$14,'2.1.4_ServiceQuality'!$A:$FY,157,FALSE),\"\")","v":0.9829}]
["Written Response to Enquires",null,null,null,0.8,null,{"$f":"IFERROR(VLOOKUP('LDC Info'!$E$14,'2.1.4_ServiceQuality'!$A:$FY,25,FALSE),\"\")","v":1},{"$f":"IFERROR(VLOOKUP('LDC Info'!$E$14,'2.1.4_ServiceQuality'!$A:$FY,61,FALSE),\"\")","v":1},{"$f":"IFERROR(VLOOKUP('LDC Info'!$E$14,'2.1.4_ServiceQuality'!$A:$FY,97,FALSE),\"\")","v":1},{"$f":"IFERROR(VLOOKUP('LDC Info'!$E$14,'2.1.4_ServiceQuality'!$A:$FY,133,FALSE),\"\")","v":1},{"$f":"IFERROR(VLOOKUP('LDC Info'!$E$14,'2.1.4_ServiceQuality'!$A:$FY,169,FALSE),\"\")","v":0.98629999999999995}]
["Emergency Urban Response",null,null,null,0.8,null,{"$f":"IFERROR(VLOOKUP('LDC Info'!$E$14,'2.1.4_ServiceQuality'!$A:$FY,28,FALSE),\"\")","v":1},{"$f":"IFERROR(VLOOKUP('LDC Info'!$E$14,'2.1.4_ServiceQuality'!$A:$FY,64,FALSE),\"\")","v":1},{"$f":"IFERROR(VLOOKUP('LDC Info'!$E$14,'2.1.4_ServiceQuality'!$A:$FY,100,FALSE),\"\")","v":1},{"$f":"IFERROR(VLOOKUP('LDC Info'!$E$14,'2.1.4_ServiceQuality'!$A:$FY,136,FALSE),\"\")","v":1},{"$f":"IFERROR(VLOOKUP('LDC Info'!$E$14,'2.1.4_ServiceQuality'!$A:$FY,172,FALSE),\"\")","v":1}]
["Emergency Rural Response",null,null,null,0.8,null,{"$f":"IFERROR(VLOOKUP('LDC Info'!$E$14,'2.1.4_ServiceQuality'!$A:$FY,31,FALSE),\"\")","v":1},{"$f":"IFERROR(VLOOKUP('LDC Info'!$E$14,'2.1.4_ServiceQuality'!$A:$FY,67,FALSE),\"\")","v":1},{"$f":"IFERROR(VLOOKUP('LDC Info'!$E$14,'2.1.4_ServiceQuality'!$A:$FY,103,FALSE),\"\")","v":1},{"$f":"IFERROR(VLOOKUP('LDC Info'!$E$14,'2.1.4_ServiceQuality'!$A:$FY,139,FALSE),\"\")","v":"N/A"},{"$f":"IFERROR(VLOOKUP('LDC Info'!$E$14,'2.1.4_ServiceQuality'!$A:$FY,175,FALSE),\"\")","v":"N/A"}]
["Telephone Call Abandon Rate",null,null,null,0.1,null,{"$f":"IFERROR(VLOOKUP('LDC Info'!$E$14,'2.1.4_ServiceQuality'!$A:$FY,22,FALSE),\"\")","v":0},{"$f":"IFERROR(VLOOKUP('LDC Info'!$E$14,'2.1.4_ServiceQuality'!$A:$FY,58,FALSE),\"\")","v":0},{"$f":"IFERROR(VLOOKUP('LDC Info'!$E$14,'2.1.4_ServiceQuality'!$A:$FY,94,FALSE),\"\")","v":0},{"$f":"IFERROR(VLOOKUP('LDC Info'!$E$14,'2.1.4_ServiceQuality'!$A:$FY,130,FALSE),\"\")","v":5.0000000000000001E-4},{"$f":"IFERROR(VLOOKUP('LDC Info'!$E$14,'2.1.4_ServiceQuality'!$A:$FY,166,FALSE),\"\")","v":2.3699999999999999E-2}]
["Appointment Scheduling",null,null,null,0.9,null,{"$f":"IFERROR(VLOOKUP('LDC Info'!$E$14,'2.1.4_ServiceQuality'!$A:$FY,10,FALSE),\"\")","v":0.99644380807876598},{"$f":"IFERROR(VLOOKUP('LDC Info'!$E$14,'2.1.4_ServiceQuality'!$A:$FY,46,FALSE),\"\")","v":0.99852204322814897},{"$f":"IFERROR(VLOOKUP('LDC Info'!$E$14,'2.1.4_ServiceQuality'!$A:$FY,82,FALSE),\"\")","v":0.99809473752975497},{"$f":"IFERROR(VLOOKUP('LDC Info'!$E$14,'2.1.4_ServiceQuality'!$A:$FY,118,FALSE),\"\")","v":0.97944313287734996},{"$f":"IFERROR(VLOOKUP('LDC Info'!$E$14,'2.1.4_ServiceQuality'!$A:$FY,154,FALSE),\"\")","v":0.98042756319045998}]
["Rescheduling a Missed Appointment",null,null,null,1,null,{"$f":"IFERROR(VLOOKUP('LDC Info'!$E$14,'2.1.4_ServiceQuality'!$A:$FY,16,FALSE),\"\")","v":"N/A"},{"$f":"IFERROR(VLOOKUP('LDC Info'!$E$14,'2.1.4_ServiceQuality'!$A:$FY,52,FALSE),\"\")","v":1},{"$f":"IFERROR(VLOOKUP('LDC Info'!$E$14,'2.1.4_ServiceQuality'!$A:$FY,88,FALSE),\"\")","v":1},{"$f":"IFERROR(VLOOKUP('LDC Info'!$E$14,'2.1.4_ServiceQuality'!$A:$FY,124,FALSE),\"\")","v":1},{"$f":"IFERROR(VLOOKUP('LDC Info'!$E$14,'2.1.4_ServiceQuality'!$A:$FY,160,FALSE),\"\")","v":1}]
["Reconnection Performance Standard",null,null,null,0.85,null,{"$f":"IFERROR(VLOOKUP('LDC Info'!$E$14,'2.1.4_ServiceQuality'!$A:$FY,34,FALSE),\"\")","v":1},{"$f":"IFERROR(VLOOKUP('LDC Info'!$E$14,'2.1.4_ServiceQuality'!$A:$FY,70,FALSE),\"\")","v":1},{"$f":"IFERROR(VLOOKUP('LDC Info'!$E$14,'2.1.4_ServiceQuality'!$A:$FY,106,FALSE),\"\")","v":1},{"$f":"IFERROR(VLOOKUP('LDC Info'!$E$14,'2.1.4_ServiceQuality'!$A:$FY,142,FALSE),\"\")","v":1},{"$f":"IFERROR(VLOOKUP('LDC Info'!$E$14,'2.1.4_ServiceQuality'!$A:$FY,178,FALSE),\"\")","v":1}]

{"sheet":"2.1.4_ServiceQuality","index":24,"n_rows":81,"n_cols":181,"rows_kept":81,"cut":false,"hidden":true,"merged":[[3,1,3,36],[3,37,3,72],[3,73,3,108],[3,109,3,144],[3,145,3,180],[4,1,4,36],[4,37,4,72],[4,73,4,108],[4,109,4,144],[4,145,4,180]]}
["Low Voltage Services"]
["Time run: 5/31/2021 2:22:17 PM"]
[""]
[null,2017,null,null,null,null,null,null,null,null,null,null,null,null,null,null,null,null,null,null,null,null,null,null,null,null,null,null,null,null,null,null,null,null,null,null,null,2018,null,null,null,null,null,null,null,null,null,null,null,null,null,null,null,null,null,null,null,null,null,null,null,null,null,null,null,null,null,null,null,null,null,null,null,2019,null,null,null,null,null,null,null,null,null,null,null,null,null,null,null,null,null,null,null,null,null,null,null,null,null,null,null,null,null,null,null,null,null,null,null,2020,null,null,null,null,null,null,null,null,null,null,null,null,null,null,null,null,null,null,null,null,null,null,null,null,null,null,null,null,null,null,null,null,null,null,null,2021]
[null,"January 1, 2016 - December 31, 2016",null,null,null,null,null,null,null,null,null,null,null,null,null,null,null,null,null,null,null,null,null,null,null,null,null,null,null,null,null,null,null,null,null,null,null,"January 1, 2017 - December 31, 2017",null,null,null,null,null,null,null,null,null,null,null,null,null,null,null,null,null,null,null,null,null,null,null,null,null,null,null,null,null,null,null,null,null,null,null,"January 1, 2018 - December 31, 2018",null,null,null,null,null,null,null,null,null,null,null,null,null,null,null,null,null,null,null,null,null,null,null,null,null,null,null,null,null,null,null,null,null,null,null,"January 1, 2019 - December 31, 2019",null,null,null,null,null,null,null,null,null,null,null,null,null,null,null,null,null,null,null,null,null,null,null,null,null,null,null,null,null,null,null,null,null,null,null,"January 1, 2020 - December 31, 2020"]
["Company Name","LV services connected within 5 days","New LV services requested","Low Voltage Connections (OEB Min. Standard: 90%)","HV services connected within 10 days","New HV services requested","High Voltage Connections (OEB Min. Standard: 90%)","Number of appointments scheduled","Number of appointments requested","Appointments Scheduling (OEB Min. Standard: 90%)","Number of appointments completed","Number of appointments scheduled with customer / rep","Appointments met (OEB Min Standard: 90%)","Number of appointments rescheduled as required","Number of missed appointments","Rescheduled a Missed Appointment (OEB Standard: 100%)","Qualified incoming calls answered within 30 sec","Qualified incoming calls","Telephone Accessibility (OEB Min. Standard: 65%)","Qualified incoming calls in each month that were abandoned after 30 sec","Number of qualified incoming calls","Telephone Call Abandon Rate (OEB Standard: not exceed 10%)","Written responses provided within 10 days","Number of qualified enquiries received","Written Responses to Enquiries (OEB Min. Standard: 80%)","Number of emergency urban calls responded within 60 min","Number of emergency urban calls received","Emergency Urban Response (OEB Min. Standard: 80%)","Number of emergency rural calls responded within 120 min","Number of emergency rural calls received","Emergency Rural Response (OEB Min. Standard: 80%)","Number of reconnections completed in 2 days","Number of reconnections for customers disconnected for non payment","Reconnection Performance Standards (OEB Min. Standard: 85%)","Micro-embedded generation facilities connected within 5 days","Number of new micro-embedded generation facilities connected","New Micro-embedded Generation Facilities Connected (OEB Min. Standard: 90%)","LV services connected within 5 days","New LV services requested","Low Voltage Connections (OEB Min. Standard: 90%)","HV services connected within 10 days","New HV services requested","High Voltage Connections (OEB Min. Standard: 90%)","Number of appointments scheduled","Number of appointments requested","Appointments Scheduling (OEB Min. Standard: 90%)","Number of appointments completed","Number of appointments scheduled with customer / rep","Appointments met (OEB Min Standard: 90%)","Number of appointments rescheduled as required","Number of missed appointments","Rescheduled a Missed Appointment (OEB Standard: 100%)","Qualified incoming calls answered within 30 sec","Qualified incoming calls","Telephone Accessibility (OEB Min. Standard: 65%)","Qualified incoming calls in each month that were abandoned after 30 sec","Number of qualified incoming calls","Telephone Call Abandon Rate (OEB Standard: not exceed 10%)","Written responses provided within 10 days","Number of qualified enquiries received","Written Responses to Enquiries (OEB Min. Standard: 80%)","Number of emergency urban calls responded within 60 min","Number of emergency urban calls received","Emergency Urban Response (OEB Min. Standard: 80%)","Number of emergency rural calls responded within 120 min","Number of emergency rural calls received","Emergency Rural Response (OEB Min. Standard: 80%)","Number of reconnections completed in 2 days","Number of reconnections for customers disconnected for non payment","Reconnection Performance Standards (OEB Min. Standard: 85%)","Micro-embedded generation facilities connected within 5 days","Number of new micro-embedded generation facilities connected","New Micro-embedded Generation Facilities Connected (OEB Min. Standard: 90%)","LV services connected within 5 days","New LV services requested","Low Voltage Connections (OEB Min. Standard: 90%)","HV services connected within 10 days","New HV services requested","High Voltage Connections (OEB Min. Standard: 90%)","Number of appointments scheduled","Number of appointments requested","Appointments Scheduling (OEB Min. Standard: 90%)","Number of appointments completed","Number of appointments scheduled with customer / rep","Appointments met (OEB Min Standard: 90%)","Number of appointments rescheduled as required","Number of missed appointments","Rescheduled a Missed Appointment (OEB Standard: 100%)","Qualified incoming calls answered within 30 sec","Qualified incoming calls","Telephone Accessibility (OEB Min. Standard: 65%)","Qualified incoming calls in each month that were abandoned after 30 sec","Number of qualified incoming calls","Telephone Call Abandon Rate (OEB Standard: not exceed 10%)","Written responses provided within 10 days","Number of qualified enquiries received","Written Responses to Enquiries (OEB Min. Standard: 80%)","Number of emergency urban calls responded within 60 min","Number of emergency urban calls received","Emergency Urban Response (OEB Min. Standard: 80%)","Number of emergency rural calls responded within 120 min","Number of emergency rural calls received","Emergency Rural Response (OEB Min. Standard: 80%)","Number of reconnections completed in 2 days","Number of reconnections for customers disconnected for non payment","Reconnection Performance Standards (OEB Min. Standard: 85%)","Micro-embedded generation facilities connected within 5 days","Number of new micro-embedded generation facilities connected","New Micro-embedded Generation Facilities Connected (OEB Min. Standard: 90%)","LV services connected within 5 days","New LV services requested","Low Voltage Connections (OEB Min. Standard: 90%)","HV services connected within 10 days","New HV services requested","High Voltage Connections (OEB Min. Standard: 90%)","Number of appointments scheduled","Number of appointments requested","Appointments Scheduling (OEB Min. Standard: 90%)","Number of appointments completed","Number of appointments scheduled with customer / rep","Appointments met (OEB Min Standard: 90%)","Number of appointments rescheduled as required","Number of missed appointments","Rescheduled a Missed Appointment (OEB Standard: 100%)","Qualified incoming calls answered within 30 sec","Qualified incoming calls","Telephone Accessibility (OEB Min. Standard: 65%)","Qualified incoming calls in each month that were abandoned after 30 sec","Number of qualified incoming calls","Telephone Call Abandon Rate (OEB Standard: not exceed 10%)","Written responses provided within 10 days","Number of qualified enquiries received","Written Responses to Enquiries (OEB Min. Standard: 80%)","Number of emergency urban calls responded within 60 min","Number of emergency urban calls received","Emergency Urban Response (OEB Min. Standard: 80%)","Number of emergency rural calls responded within 120 min","Number of emergency rural calls received","Emergency Rural Response (OEB Min. Standard: 80%)","Number of reconnections completed in 2 days","Number of reconnections for customers disconnected for non payment","Reconnection Performance Standards (OEB Min. Standard: 85%)","Micro-embedded generation facilities connected within 5 days","Number of new micro-embedded generation facilities connected","New Micro-embedded Generation Facilities Connected (OEB Min. Standard: 90%)","LV services connected within 5 days","New LV services requested","Low Voltage Connections (OEB Min. Standard: 90%)","HV services connected within 10 days","New HV services requested","High Voltage Connections (OEB Min. Standard: 90%)","Number of appointments scheduled","Number of appointments requested","Appointments Scheduling (OEB Min. Standard: 90%)","Number of appointments completed","Number of appointments scheduled with customer / rep","Appointments met (OEB Min Standard: 90%)","Number of appointments rescheduled as required","Number of missed appointments","Rescheduled a Missed Appointment (OEB Standard: 100%)","Qualified incoming calls answered within 30 sec","Qualified incoming calls","Telephone Accessibility (OEB Min. Standard: 65%)","Qualified incoming calls in each month that were abandoned after 30 sec","Number of qualified incoming calls","Telephone Call Abandon Rate (OEB Standard: not exceed 10%)","Written responses provided within 10 days","Number of qualified enquiries received","Written Responses to Enquiries (OEB Min. Standard: 80%)","Number of emergency urban calls responded within 60 min","Number of emergency urban calls received","Emergency Urban Response (OEB Min. Standard: 80%)","Number of emergency rural calls responded within 120 min","Number of emergency rural calls received","Emergency Rural Response (OEB Min. Standard: 80%)","Number of reconnections completed in 2 days","Number of reconnections for customers disconnected for non payment","Reconnection Performance Standards (OEB Min. Standard: 85%)","Micro-embedded generation facilities connected within 5 days","Number of new micro-embedded generation facilities connected","New Micro-embedded Generation Facilities Connected (OEB Min. Standard: 90%)"]
["1937680 Ontario Inc.",324,334,0.97,4,4,1,5913,6315,0.93634206056594804,1404,1410,0.996,402,402,1,57774,68322,0.84599999999999997,900,68322,1.2999999999999999E-2,960,960,1,13,13,1,0,0,"N/A",1007,1007,1,20,17,0.85,393,403,0.97519999999999996,2,2,1,5046,5601,0.90091055631637595,975,976,0.999,555,555,1,51109,56521,0.9042,424,56521,7.4999999999999997E-3,1126,1126,1,11,11,1,0,0,"N/A",627,627,1,21,20,0.95240000000000002,245,247,0.9919,3,3,1,5272,6017,0.87618416547775302,1120,1121,0.99909999999999999,609,745,0.81740000000000002,45830,52394,0.87470000000000003,623,52394,1.1900000000000001E-2,970,970,1,36,36,1,0,0,"N/A",564,564,1,37,37,1,228,234,0.97440000000000004,4,4,1,6218,6957,0.89377605915069602,765,765,1,739,739,1,48838,64604,0.75600000000000001,1875,64604,2.9000000000000001E-2,1191,1191,1,29,31,0.9355,0,0,"N/A",569,569,1,0,0,"N/A",232,236,0.98309999999999997,13,13,1,5682,6114,0.92934250831604004,558,559,0.99819999999999998,432,432,1,46164,54947,0.84019999999999995,925,54947,1.6799999999999999E-2,2731,2731,1,26,26,1,0,0,"N/A",0,0,"N/A",1,1,1]
["Alectra Utilities Corporation",null,null,"N/A",null,null,"N/A",null,null,"N/A",null,null,"N/A",null,null,"N/A",null,null,"N/A",null,null,"N/A",null,null,"N/A",null,null,"N/A",null,null,"N/A",null,null,"N/A",null,null,"N/A",15779,16263,0.97019999999999995,11,11,1,174399,182193,0.95722121000289895,22869,23036,0.99280000000000002,81,81,1,610848,771885,0.79139999999999999,11663,771885,1.5100000000000001E-2,72704,73496,0.98919999999999997,810,859,0.94299999999999995,0,0,"N/A",4764,4793,0.99390000000000001,901,886,0.98340000000000005,11779,12438,0.94699999999999995,9,9,1,158185,175278,0.90248060226440396,19729,19805,0.99619999999999997,14393,14416,0.99839999999999995,567239,727400,0.77980000000000005,11310,727400,1.55E-2,115387,118999,0.96960000000000002,942,989,0.95250000000000001,0,0,"N/A",5183,5243,0.98860000000000003,737,713,0.96740000000000004,7448,8044,0.92589999999999995,4,4,1,164856,186943,0.88185167312622104,10391,10523,0.98750000000000004,20716,20749,0.99839999999999995,583422,769870,0.75780000000000003,16047,769870,2.0799999999999999E-2,104527,120888,0.86470000000000002,864,894,0.96640000000000004,0,0,"N/A",4915,4934,0.99609999999999999,23,18,0.78259999999999996,6329,7006,0.90339999999999998,1,1,1,172361,176198,0.97822338342666604,10534,10701,0.98440000000000005,3401,3401,1,409953,612466,0.66930000000000001,26252,612466,4.2900000000000001E-2,135616,146999,0.92259999999999998,815,896,0.90959999999999996,0,0,"N/A",628,631,0.99519999999999997,62,61,0.9839]
["Algoma Power Inc.",161,162,0.99399999999999999,0,0,"N/A",1289,1313,0.98172122240066495,364,364,1,0,0,"N/A",13092,15125,0.86599999999999999,570,15125,3.7999999999999999E-2,276,276,1,0,0,"N/A",13,13,1,139,139,1,2,2,1,131,132,0.99239999999999995,0,0,"N/A",1410,1452,0.97107440233230602,342,342,1,0,0,"N/A",14613,18253,0.80059999999999998,1349,18253,7.3899999999999993E-2,324,389,0.83289999999999997,0,0,"N/A",17,17,1,59,59,1,1,1,1,144,146,0.98629999999999995,0,0,"N/A",1109,1120,0.99017858505249001,220,220,1,0,0,"N/A",12263,14250,0.86060000000000003,1188,14250,8.3400000000000002E-2,539,664,0.81169999999999998,0,0,"N/A",22,23,0.95650000000000002,52,52,1,1,1,1,134,138,0.97099999999999997,0,0,"N/A",1233,1236,0.99757283926010099,112,112,1,0,0,"N/A",12376,15164,0.81610000000000005,1020,15164,6.7299999999999999E-2,308,308,1,0,0,"N/A",14,15,0.93330000000000002,73,73,1,0,0,"N/A",205,205,1,0,0,"N/A",1464,1466,0.99863576889038097,170,170,1,0,0,"N/A",9355,11026,0.84840000000000004,224,11026,2.0299999999999999E-2,1121,1121,1,0,0,"N/A",17,18,0.94440000000000002,27,27,1,0,0,"N/A"]
["Atikokan Hydro Inc.",1,1,1,0,0,"N/A",220,220,1,0,0,"N/A",0,0,"N/A",1715,1715,1,0,1715,0,21,21,1,3,3,1,0,0,"N/A",4,4,1,0,0,"N/A",4,4,1,0,0,"N/A",263,263,1,0,null,"N/A",0,0,"N/A",1500,1500,1,0,1500,0,15,15,1,0,0,"N/A",0,0,"N/A",1,1,1,0,0,"N/A",3,3,1,0,0,"N/A",161,161,1,0,0,"N/A",0,0,"N/A",996,996,1,0,0,"N/A",22,22,1,0,0,"N/A",0,0,"N/A",0,0,"N/A",0,0,"N/A",2,2,1,0,0,"N/A",186,186,1,0,0,"N/A",0,0,"N/A",1275,1275,1,0,1275,0,19,19,1,0,0,"N/A",1,1,1,1,1,1,0,0,"N/A",4,4,1,0,0,"N/A",162,162,1,0,0,"N/A",0,0,"N/A",1854,1854,1,0,1854,0,39,39,1,0,0,"N/A",1,1,1,0,0,"N/A",0,0,"N/A"]
["Bluewater Power Distribution Corporation",474,482,0.98299999999999998,0,0,"N/A",7206,7235,0.99599170684814498,475,477,0.996,2,2,1,33399,48319,0.69099999999999995,2332,48319,4.8000000000000001E-2,6225,6225,1,25,25,1,1,1,1,159,159,1,28,27,0.96430000000000005,406,409,0.99270000000000003,0,0,"N/A",8801,8804,0.99965924024581898,567,568,0.99819999999999998,4,4,1,33491,42933,0.78010000000000002,1554,42933,3.6200000000000003E-2,7070,7071,0.99990000000000001,26,26,1,3,3,1,162,163,0.99390000000000001,22,22,1,218,225,0.96889999999999998,0,0,"N/A",8467,8476,0.99893820285797097,719,721,0.99719999999999998,9,9,1,29035,35274,0.82310000000000005,1049,35274,2.9700000000000001E-2,6842,6854,0.99819999999999998,14,14,1,0,0,"N/A",136,136,1,5,5,1,443,444,0.99770000000000003,0,0,"N/A",8035,8100,0.99197530746460005,278,278,1,65,65,1,28607,32730,0.874,934,32730,2.8500000000000001E-2,8163,8197,0.99590000000000001,11,11,1,0,0,"N/A",155,155,1,0,0,"N/A",158,158,1,0,0,"N/A",8867,8972,0.98829692602157604,402,402,1,105,105,1,24356,29462,0.82669999999999999,782,29462,2.6499999999999999E-2,11103,11121,0.99839999999999995,6,6,1,2,2,1,120,120,1,0,0,"N/A"]
["Brantford Power Inc.",286,287,0.997,1,1,1,14962,14965,0.99979954957962003,1086,1088,0.998,2,2,1,25316,37736,0.67100000000000004,1929,37736,5.0999999999999997E-2,3976,4005,0.99299999999999999,35,35,1,0,0,"N/A",292,292,1,11,11,1,243,244,0.99590000000000001,0,0,"N/A",14392,14394,0.99986106157302901,765,765,1,0,0,"N/A",27676,37819,0.73180000000000001,1444,37819,3.8199999999999998E-2,5131,5142,0.99790000000000001,29,29,1,0,0,"N/A",232,232,1,25,25,1,206,207,0.99519999999999997,0,0,"N/A",14169,14169,1,672,672,1,0,0,"N/A",30227,35459,0.85240000000000005,650,35459,1.83E-2,4703,4723,0.99580000000000002,51,52,0.98080000000000001,0,0,"N/A",107,107,1,5,5,1,406,406,1,0,0,"N/A",6945,6951,0.99913680553436302,568,569,0.99819999999999998,1,1,1,27053,37814,0.71540000000000004,1545,37814,4.0899999999999999E-2,4432,4432,1,51,51,1,0,0,"N/A",27,27,1,0,0,"N/A",515,515,1,0,0,"N/A",4608,4608,1,803,804,0.99880000000000002,1,1,1,27903,34404,0.81100000000000005,716,34404,2.0799999999999999E-2,5567,5577,0.99819999999999998,23,23,1,0,0,"N/A",85,85,1,0,0,"N/A"]
["Burlington Hydro Inc.",235,243,0.96709999999999996,0,0,"N/A",672,672,1,81,81,1,0,0,"N/A",38312,51304,0.74680000000000002,3274,51304,6.3799999999999996E-2,9434,9434,1,802,836,0.95930000000000004,802,836,0.95930000000000004,219,219,1,12,12,1,257,263,0.97719999999999996,0,0,"N/A",734,734,1,142,142,1,0,0,"N/A",37620,46951,0.80130000000000001,2346,46951,0.05,9740,9740,1,1118,1165,0.9597,1118,1165,0.9597,316,316,1,47,46,0.97870000000000001,872,887,0.98309999999999997,0,0,"N/A",13648,15073,0.90546011924743697,1608,1611,0.99809999999999999,1142,1145,0.99739999999999995,35423,42533,0.83279999999999998,2498,42533,5.8700000000000002E-2,11507,11622,0.99009999999999998,72,78,0.92310000000000003,0,0,"N/A",446,446,1,38,37,0.97370000000000001,400,400,1,3,3,1,6356,13856,0.45871824026107799,1121,1121,1,7458,7458,1,35279,43324,0.81430000000000002,2300,43324,5.3100000000000001E-2,10519,10643,0.98829999999999996,42,45,0.93330000000000002,0,0,"N/A",198,198,1,4,4,1,605,605,1,0,0,"N/A",13454,13548,0.99306172132492099,904,904,1,88,88,1,33079,53223,0.62150000000000005,4341,53223,8.1600000000000006E-2,16385,16420,0.99790000000000001,58,60,0.9667,0,0,"N/A",95,95,1,4,4,1]
["Canadian Niagara Power Inc.",247,271,0.91100000000000003,0,0,"N/A",7411,7413,0.99973022937774703,37,37,1,0,0,"N/A",33678,44492,0.75700000000000001,2369,44492,5.2999999999999999E-2,541,541,1,25,25,1,2,2,1,277,277,1,18,18,1,326,359,0.90810000000000002,0,0,"N/A",6518,7188,0.90678906440734897,57,57,1,0,0,"N/A",36135,46729,0.77329999999999999,3087,46729,6.6100000000000006E-2,539,558,0.96589999999999998,20,20,1,3,3,1,186,186,1,10,10,1,292,323,0.90400000000000003,0,0,"N/A",7032,7986,0.88054096698760997,63,63,1,0,0,"N/A",29020,35837,0.80979999999999996,1804,35837,5.0299999999999997E-2,721,864,0.83450000000000002,33,33,1,13,13,1,190,190,1,35,35,1,277,297,0.93269999999999997,0,0,"N/A",6908,8246,0.83773952722549405,56,56,1,0,0,"N/A",27026,33897,0.79730000000000001,2251,33897,6.6400000000000001E-2,1054,1271,0.82930000000000004,23,23,1,10,11,0.90910000000000002,236,236,1,0,0,"N/A",317,334,0.94910000000000005,0,0,"N/A",8640,8668,0.99676972627639804,38,38,1,0,0,"N/A",21464,26900,0.79790000000000005,433,26900,1.61E-2,846,1037,0.81579999999999997,41,42,0.97619999999999996,7,7,1,120,120,1,0,0,"N/A"]
["Centre Wellington Hydro Ltd.",150,151,0.99299999999999999,0,0,"N/A",3332,3356,0.99284863471984897,280,283,0.98899999999999999,3,3,1,6891,6938,0.99299999999999999,0,2495,0,637,637,1,6,6,1,0,0,"N/A",39,40,0.97499999999999998,4,4,1,219,219,1,0,0,"N/A",3201,3256,0.98310810327529896,149,149,1,4,4,1,5471,5537,0.98809999999999998,1,5537,2.0000000000000001E-4,394,394,1,2,2,1,0,0,"N/A",26,26,1,1,1,1,213,214,0.99529999999999996,0,0,"N/A",1849,2286,0.80883640050888095,202,203,0.99509999999999998,1,1,1,5503,5622,0.9788,0,5622,0,486,486,1,1,1,1,0,0,"N/A",18,18,1,1,1,1,209,209,1,1,1,1,1500,1844,0.81344902515411399,329,329,1,8,8,1,5665,5771,0.98160000000000003,5,5771,8.9999999999999998E-4,343,343,1,1,1,1,0,0,"N/A",29,29,1,0,0,"N/A",218,218,1,0,0,"N/A",1888,1892,0.99788582324981701,319,320,0.99690000000000001,0,0,"N/A",3455,4943,0.69899999999999995,4,4943,8.0000000000000004E-4,442,442,1,2,2,1,0,0,"N/A",11,11,1,0,0,"N/A"]
["Chapleau Public Utilities Corporation",11,11,1,0,0,"N/A",48,48,1,11,11,1,0,0,"N/A",765,765,1,0,0,"N/A",8,8,1,0,0,"N/A",0,0,"N/A",3,3,1,0,0,"N/A",10,10,1,0,0,"N/A",47,47,1,10,10,1,0,0,"N/A",620,622,0.99680000000000002,0,622,0,36,36,1,0,0,"N/A",0,0,"N/A",11,11,1,0,0,"N/A",8,8,1,0,0,"N/A",51,51,1,8,8,1,0,0,"N/A",333,345,0.96519999999999995,0,345,0,39,39,1,0,0,"N/A",0,0,"N/A",4,4,1,0,0,"N/A",11,11,1,0,0,"N/A",17,17,1,11,11,1,0,0,"N/A",326,333,0.97899999999999998,0,333,0,35,35,1,1,1,1,0,0,"N/A",9,9,1,0,0,"N/A",6,6,1,0,0,"N/A",78,78,1,6,6,1,0,0,"N/A",482,494,0.97570000000000001,0,494,0,41,41,1,1,1,1,0,0,"N/A",0,0,"N/A",0,0,"N/A"]
["Cooperative Hydro Embrun Inc.",92,92,1,0,0,"N/A",11,11,1,11,11,1,0,0,"N/A",1361,1429,0.95199999999999996,68,1429,4.8000000000000001E-2,249,249,1,2,2,1,2,2,1,2,2,1,1,1,1,112,112,1,0,0,"N/A",4,4,1,4,4,1,0,0,"N/A",1448,1550,0.93420000000000003,102,1550,6.5799999999999997E-2,368,368,1,5,5,1,0,0,"N/A",3,3,1,1,1,1,112,112,1,0,0,"N/A",4,4,1,4,4,1,0,0,"N/A",1479,1569,0.94259999999999999,90,1569,5.74E-2,364,364,1,7,7,1,0,0,"N/A",5,5,1,0,0,"N/A",27,27,1,0,0,"N/A",4,4,1,4,4,1,0,0,"N/A",1491,1547,0.96379999999999999,56,1547,3.6200000000000003E-2,419,419,1,7,7,1,0,0,"N/A",3,3,1,0,0,"N/A",49,49,1,0,0,"N/A",7,7,1,8,8,1,0,0,"N/A",1346,1410,0.9546,64,1410,4.5400000000000003E-2,463,463,1,5,6,0.83330000000000004,0,0,"N/A",0,0,"N/A",0,0,"N/A"]
["Cornwall Street Railway Light and Power Company Limited",186,188,0.98899999999999999,0,0,"N/A",5451,5506,0.99001091718673695,246,246,1,0,0,"N/A",30745,34641,0.88800000000000001,1139,34641,3.3000000000000002E-2,223,223,1,42,44,0.95499999999999996,7,7,1,463,463,1,0,0,"N/A",154,161,0.95650000000000002,0,0,"N/A",5681,5740,0.989721238613129,168,168,1,0,0,"N/A",31234,34819,0.89700000000000002,488,34819,1.4E-2,559,566,0.98760000000000003,35,35,1,6,6,1,330,330,1,0,0,"N/A",207,219,0.94520000000000004,0,0,"N/A",5378,5431,0.99024122953414895,215,215,1,0,0,"N/A",30256,33591,0.90069999999999995,465,33591,1.38E-2,731,758,0.96440000000000003,23,23,1,6,6,1,484,484,1,0,0,"N/A",205,213,0.96240000000000003,0,0,"N/A",5370,5409,0.99278980493545499,195,195,1,0,0,"N/A",32080,36801,0.87170000000000003,734,36801,1.9900000000000001E-2,834,863,0.96640000000000004,27,27,1,3,3,1,358,358,1,0,0,"N/A",218,229,0.95199999999999996,0,0,"N/A",5405,5431,0.99521267414092995,213,213,1,0,0,"N/A",22196,26592,0.8347,316,26592,1.1900000000000001E-2,566,608,0.93089999999999995,21,21,1,4,4,1,272,272,1,0,0,"N/A"]
["E.L.K. Energy Inc.",93,99,0.93899999999999995,0,0,"N/A",103,107,0.96261680126190197,93,94,0.98899999999999999,1,1,1,12274,12629,0.97199999999999998,15,12629,1E-3,1040,1062,0.97899999999999998,26,26,1,0,0,"N/A",156,156,1,4,4,1,136,144,0.94440000000000002,1,1,1,75,76,0.98684209585189797,72,73,0.98629999999999995,1,1,1,10216,10576,0.96599999999999997,9,10576,8.9999999999999998E-4,1079,1091,0.98899999999999999,8,9,0.88890000000000002,1,1,1,103,103,1,9,9,1,207,209,0.99039999999999995,1,1,1,77,78,0.98717945814132702,78,78,1,1,1,1,6678,6938,0.96250000000000002,11,6938,1.6000000000000001E-3,900,907,0.99229999999999996,14,14,1,1,1,1,93,99,0.93940000000000001,2,2,1,150,151,0.99339999999999995,0,0,"N/A",94,95,0.98947370052337602,95,95,1,0,0,"N/A",8934,9145,0.97689999999999999,31,9145,3.3999999999999998E-3,1224,1249,0.98,17,17,1,1,1,1,93,93,1,0,0,"N/A",200,201,0.995,0,0,"N/A",107,108,0.99074071645736705,107,108,0.99070000000000003,0,0,"N/A",9483,9974,0.95079999999999998,29,9974,2.8999999999999998E-3,1328,1346,0.98660000000000003,13,13,1,0,0,"N/A",12,12,1,0,0,"N/A"]
["ENWIN Utilities Ltd.",821,821,1,0,0,"N/A",23398,23398,1,3919,3919,1,0,0,"N/A",90394,127896,0.70699999999999996,4890,127896,3.7999999999999999E-2,12957,12958,1,301,301,1,0,0,"N/A",1961,1961,1,133,133,1,698,698,1,0,0,"N/A",26047,26435,0.98532247543335005,3339,3347,0.99760000000000004,388,388,1,88276,112872,0.78210000000000002,4379,112872,3.8800000000000001E-2,9795,9796,0.99990000000000001,287,287,1,0,0,"N/A",710,710,1,93,93,1,701,701,1,0,0,"N/A",25173,26542,0.94842135906219505,3112,3121,0.99709999999999999,1369,1370,0.99929999999999997,79570,103429,0.76929999999999998,2960,103429,2.86E-2,9450,9452,0.99980000000000002,279,279,1,0,0,"N/A",531,531,1,105,105,1,674,674,1,0,0,"N/A",14864,15827,0.93915462493896495,3101,3103,0.99939999999999996,963,963,1,79277,102703,0.77190000000000003,2322,102703,2.2599999999999999E-2,10408,10408,1,288,293,0.9829,0,0,"N/A",623,623,1,4,4,1,680,680,1,0,0,"N/A",15388,15745,0.97732615470886197,2872,2872,1,357,357,1,64616,99808,0.64739999999999998,4705,99808,4.7100000000000003E-2,13842,13845,0.99980000000000002,274,287,0.95469999999999999,0,0,"N/A",381,381,1,7,7,1]
["EPCOR Electricity Distribution Ontario Inc.",136,136,1,2,2,1,4002,4002,1,183,183,1,0,0,"N/A",16461,23897,0.68899999999999995,65,23897,3.0000000000000001E-3,3125,3280,0.95299999999999996,0,0,"N/A",0,0,"N/A",358,365,0.98099999999999998,8,8,1,274,274,1,0,0,"N/A",3529,3529,1,197,197,1,0,0,"N/A",13002,15872,0.81920000000000004,216,15872,1.3599999999999999E-2,3150,3309,0.95189999999999997,0,0,"N/A",0,0,"N/A",329,338,0.97340000000000004,6,6,1,306,319,0.95920000000000005,0,0,"N/A",4010,4079,0.98308408260345503,186,186,1,0,0,"N/A",12376,15290,0.80940000000000001,288,15290,1.8800000000000001E-2,3019,3180,0.94940000000000002,0,0,"N/A",0,0,"N/A",225,226,0.99560000000000004,11,11,1,452,484,0.93389999999999995,0,0,"N/A",4267,4440,0.96103602647781405,165,166,0.99399999999999999,1,1,1,10460,13675,0.76490000000000002,226,13675,1.6500000000000001E-2,3713,3886,0.95550000000000002,0,0,"N/A",0,0,"N/A",239,244,0.97950000000000004,0,0,"N/A",354,386,0.91710000000000003,2,2,1,3472,3514,0.98804783821106001,202,203,0.99509999999999998,1,1,1,13563,17921,0.75680000000000003,327,17921,1.8200000000000001E-2,4261,4448,0.95799999999999996,0,0,"N/A",0,0,"N/A",47,48,0.97919999999999996,2,2,1]
["ERTH Power Corporation",229,230,0.996,0,0,"N/A",4379,4413,0.99229550361633301,268,268,1,0,0,"N/A",29630,30125,0.98399999999999999,495,30125,1.6E-2,2475,2475,1,11,11,1,0,0,"N/A",249,249,1,5,5,1,342,346,0.98839999999999995,0,0,"N/A",4670,4836,0.96567410230636597,216,217,0.99539999999999995,1,1,1,25298,26288,0.96230000000000004,438,26288,1.67E-2,2991,2991,1,12,12,1,0,0,"N/A",117,117,1,5,5,1,290,300,0.9667,1,1,1,3207,4434,0.72327470779418901,214,214,1,0,0,"N/A",22258,23679,0.94,917,23679,3.8699999999999998E-2,2840,2840,1,27,27,1,0,0,"N/A",115,115,1,4,4,1,285,292,0.97599999999999998,2,2,1,4017,5446,0.73760557174682595,254,254,1,0,0,"N/A",25316,26230,0.96519999999999995,914,26230,3.4799999999999998E-2,3163,3163,1,8,9,0.88890000000000002,0,0,"N/A",116,116,1,0,0,"N/A",280,284,0.9859,0,0,"N/A",5127,5431,0.94402503967285201,261,261,1,0,0,"N/A",18933,19738,0.95920000000000005,912,19738,4.6199999999999998E-2,5164,5164,1,11,13,0.84619999999999995,0,0,"N/A",71,71,1,0,0,"N/A"]
["Elexicon Energy Inc.",null,null,"N/A",null,null,"N/A",null,null,"N/A",null,null,"N/A",null,null,"N/A",null,null,"N/A",null,null,"N/A",null,null,"N/A",null,null,"N/A",null,null,"N/A",null,null,"N/A",null,null,"N/A",null,null,"N/A",null,null,"N/A",null,null,"N/A",null,null,"N/A",null,null,"N/A",null,null,"N/A",null,null,"N/A",null,null,"N/A",null,null,"N/A",null,null,"N/A",null,null,"N/A",null,null,"N/A",null,null,"N/A",null,null,"N/A",null,null,"N/A",null,null,"N/A",null,null,"N/A",null,null,"N/A",null,null,"N/A",null,null,"N/A",null,null,"N/A",null,null,"N/A",null,null,"N/A",null,null,"N/A",3187,3306,0.96399999999999997,3,3,1,35664,37911,0.94072961807250999,2299,2305,0.99739999999999995,2085,2152,0.96889999999999998,92993,122338,0.7601,2189,122338,1.7899999999999999E-2,18921,18964,0.99770000000000003,108,109,0.99080000000000001,16,16,1,1780,1780,1,5,5,1,2140,2283,0.93740000000000001,1,1,1,25196,27667,0.91068780422210704,2214,2241,0.98799999999999999,2468,2471,0.99880000000000002,71241,115108,0.61890000000000001,5582,115108,4.8500000000000001E-2,20664,21230,0.97330000000000005,101,101,1,7,7,1,39,39,1,4,4,1]
["Energy Plus Inc.",609,609,1,0,0,"N/A",13311,13725,0.96983605623245195,1038,1038,1,0,0,"N/A",54901,76740,0.71499999999999997,3864,76740,0.05,7094,7112,0.997,69,69,1,24,24,1,434,434,1,30,30,1,471,471,1,0,0,"N/A",14056,14420,0.97475725412368797,1261,1275,0.98899999999999999,15,15,1,50910,63539,0.80120000000000002,2131,63539,3.3500000000000002E-2,13891,13910,0.99860000000000004,63,63,1,18,18,1,617,617,1,47,47,1,771,778,0.99099999999999999,0,0,"N/A",12879,13203,0.97546011209487904,1678,1679,0.99939999999999996,2,2,1,47310,53226,0.88890000000000002,1053,53226,1.9800000000000002E-2,14899,14900,0.99990000000000001,74,74,1,21,21,1,614,614,1,160,160,1,1071,1102,0.97189999999999999,0,0,"N/A",12859,13318,0.96553534269332897,1590,1591,0.99939999999999996,1,1,1,41481,48862,0.84889999999999999,1331,48862,2.7199999999999998E-2,13412,13434,0.99839999999999995,62,62,1,19,19,1,622,622,1,3,3,1,686,715,0.95940000000000003,0,0,"N/A",9039,15294,0.59101611375808705,1739,1740,0.99939999999999996,1,1,1,39988,45904,0.87109999999999999,1470,45904,3.2000000000000001E-2,14711,14736,0.99829999999999997,69,69,1,24,24,1,89,89,1,0,0,"N/A"]
["Enersource Hydro Mississauga Inc.",1685,1695,0.99399999999999999,0,0,"N/A",39883,40771,0.97821980714797996,1869,1871,0.999,2,2,1,127711,153116,0.83399999999999996,2719,153116,1.7999999999999999E-2,19228,19337,0.99399999999999999,154,156,0.98699999999999999,0,0,"N/A",1747,1758,0.99399999999999999,121,120,0.99170000000000003,null,null,"N/A",null,null,"N/A",null,null,"N/A",null,null,"N/A",null,null,"N/A",null,null,"N/A",null,null,"N/A",null,null,"N/A",null,null,"N/A",null,null,"N/A",null,null,"N/A",null,null,"N/A",null,null,"N/A",null,null,"N/A",null,null,"N/A",null,null,"N/A",null,null,"N/A",null,null,"N/A",null,null,"N/A",null,null,"N/A",null,null,"N/A",null,null,"N/A",null,null,"N/A",null,null,"N/A",null,null,"N/A",null,null,"N/A",null,null,"N/A",null,null,"N/A",null,null,"N/A",null,null,"N/A",null,null,"N/A",null,null,"N/A",null,null,"N/A",null,null,"N/A",null,null,"N/A",null,null,"N/A",null,null,"N/A",null,null,"N/A",null,null,"N/A",null,null,"N/A",null,null,"N/A",null,null,"N/A",null,null,"N/A",null,null,"N/A",null,null,"N/A",null,null,"N/A",null,null,"N/A",null,null,"N/A"]
["Entegrus Powerlines Inc.",336,340,0.98799999999999999,1,1,1,935,935,1,586,599,0.97799999999999998,13,13,1,40981,59667,0.68700000000000006,1202,59667,0.02,258,259,0.996,75,80,0.93799999999999994,0,0,"N/A",1958,1958,1,24,24,1,777,789,0.98480000000000001,0,0,"N/A",3109,3146,0.98823904991149902,2550,2566,0.99380000000000002,16,16,1,40149,53108,0.75600000000000001,500,53108,9.4000000000000004E-3,295,295,1,89,101,0.88119999999999998,0,0,"N/A",1424,1424,1,15,15,1,1097,1120,0.97950000000000004,1,1,1,5948,6426,0.925614714622498,2548,2555,0.99729999999999996,14,14,1,53023,74666,0.71009999999999995,1968,74666,2.64E-2,1143,1143,1,127,145,0.87590000000000001,0,0,"N/A",1217,1217,1,19,19,1,1348,1375,0.98040000000000005,0,0,"N/A",14230,16388,0.86831825971603405,2349,2360,0.99529999999999996,14,14,1,48854,74458,0.65610000000000002,2260,74458,3.04E-2,1190,1190,1,102,122,0.83609999999999995,0,0,"N/A",1050,1050,1,2,2,1,1413,1458,0.96909999999999996,1,1,1,14398,15406,0.93457096815109297,1730,1733,0.99829999999999997,22,22,1,46990,59401,0.79110000000000003,1584,59401,2.6700000000000002E-2,3262,3479,0.93759999999999999,99,105,0.94289999999999996,0,0,"N/A",424,424,1,2,2,1]
["Espanola Regional Hydro Distribution Corporation",14,14,1,0,0,"N/A",1003,1033,0.970958352088928,37,37,1,1,1,1,3226,4235,0.76200000000000001,171,4235,0.04,100,102,0.98,0,0,"N/A",0,0,"N/A",39,39,1,1,1,1,21,21,1,2,2,1,1000,1021,0.97943192720413197,54,55,0.98180000000000001,1,1,1,2872,3955,0.72619999999999996,185,3955,4.6800000000000001E-2,104,115,0.90429999999999999,3,3,1,0,0,"N/A",33,33,1,1,1,1,11,11,1,4,4,1,776,776,1,66,66,1,0,0,"N/A",2380,3368,0.70669999999999999,241,3368,7.1599999999999997E-2,130,134,0.97009999999999996,1,1,1,0,0,"N/A",38,38,1,0,0,"N/A",12,12,1,1,1,1,719,721,0.99722605943679798,68,69,0.98550000000000004,1,1,1,2280,3617,0.63039999999999996,302,3617,8.3500000000000005E-2,75,75,1,0,0,"N/A",0,0,"N/A",30,30,1,0,0,"N/A",null,null,"N/A",null,null,"N/A",null,null,"N/A",null,null,"N/A",null,null,"N/A",null,null,"N/A",null,null,"N/A",null,null,"N/A",null,null,"N/A",null,null,"N/A",null,null,"N/A",null,null,"N/A"]
["Essex Powerlines Corporation",313,346,0.90500000000000003,0,0,"N/A",8129,8229,0.98784786462783802,1142,1258,0.90800000000000003,116,116,1,24847,33765,0.73599999999999999,260,33765,8.0000000000000002E-3,1812,1882,0.96299999999999997,42,43,0.97699999999999998,0,0,"N/A",159,163,0.97499999999999998,19,18,0.94740000000000002,337,373,0.90349999999999997,0,0,"N/A",8169,8746,0.93402695655822798,839,901,0.93120000000000003,613,613,1,21443,26984,0.79469999999999996,193,26984,7.1999999999999998E-3,2014,2039,0.98770000000000002,24,30,0.8,0,0,"N/A",173,178,0.97189999999999999,20,20,1,186,204,0.91180000000000005,0,0,"N/A",6004,7922,0.75788944959640503,600,633,0.94789999999999996,1936,1936,1,20021,22837,0.87670000000000003,136,22837,6.0000000000000001E-3,2163,2207,0.98009999999999997,12,12,1,0,0,"N/A",138,141,0.97870000000000001,21,21,1,218,230,0.94779999999999998,0,0,"N/A",8930,9591,0.93108123540878296,598,642,0.93149999999999999,673,673,1,22027,26662,0.82620000000000005,250,26662,9.4000000000000004E-3,2031,2080,0.97640000000000005,23,23,1,0,0,"N/A",115,118,0.97460000000000002,1,1,1,208,223,0.93269999999999997,1,1,1,10242,10412,0.98367267847061202,512,542,0.9446,185,185,1,17079,26206,0.65169999999999995,1038,26206,3.9600000000000003E-2,4006,4090,0.97950000000000004,16,16,1,0,0,"N/A",121,126,0.96030000000000004,0,0,"N/A"]
["Festival Hydro Inc.",294,295,0.997,0,0,"N/A",5069,5093,0.99528765678405795,594,594,1,24,24,1,19251,22136,0.87,182,22136,8.0000000000000002E-3,1606,1606,1,14,14,1,0,0,"N/A",373,374,0.997,8,8,1,295,299,0.98660000000000003,2,2,1,4930,5091,0.968375563621521,518,521,0.99419999999999997,161,161,1,17734,20936,0.84709999999999996,229,20936,1.09E-2,1861,1861,1,9,9,1,0,0,"N/A",225,225,1,8,8,1,264,266,0.99250000000000005,1,1,1,5679,5851,0.970603287220001,650,657,0.98929999999999996,82,82,1,16840,19226,0.87590000000000001,208,19226,1.0800000000000001E-2,2370,2370,1,19,21,0.90480000000000005,0,0,"N/A",177,177,1,28,28,1,258,266,0.96989999999999998,1,1,1,7424,7582,0.97916114330291704,722,733,0.98499999999999999,166,166,1,17108,19342,0.88449999999999995,177,19342,9.1999999999999998E-3,4501,4501,1,7,7,1,0,0,"N/A",186,186,1,0,0,"N/A",244,256,0.95309999999999995,0,0,"N/A",7360,7554,0.97431826591491699,633,648,0.97689999999999999,194,194,1,19062,19282,0.98860000000000003,330,19282,1.7100000000000001E-2,5892,5894,0.99970000000000003,7,7,1,4,4,1,92,92,1,0,0,"N/A"]
["Fort Frances Power Corporation",29,29,1,0,0,"N/A",621,621,1,91,92,0.98899999999999999,1,1,1,1219,1248,0.97699999999999998,19,1248,1.4999999999999999E-2,42,42,1,5,5,1,0,0,"N/A",43,43,1,0,0,"N/A",26,26,1,0,0,"N/A",782,782,1,72,72,1,0,0,"N/A",2438,2516,0.96899999999999997,57,2516,2.2700000000000001E-2,18,19,0.94740000000000002,6,6,1,0,0,"N/A",27,27,1,0,0,"N/A",32,32,1,0,0,"N/A",723,724,0.99861878156661998,85,85,1,0,0,"N/A",2543,2640,0.96330000000000005,97,2640,3.6700000000000003E-2,21,21,1,10,10,1,0,0,"N/A",27,27,1,1,1,1,39,39,1,0,0,"N/A",629,629,1,85,85,1,0,0,"N/A",2458,2518,0.97619999999999996,58,2518,2.3E-2,37,37,1,16,16,1,0,0,"N/A",28,28,1,0,0,"N/A",24,24,1,0,0,"N/A",617,617,1,63,63,1,0,0,"N/A",3220,3331,0.9667,56,3331,1.6799999999999999E-2,46,47,0.97870000000000001,9,9,1,0,0,"N/A",0,0,"N/A",0,0,"N/A"]
["Greater Sudbury Hydro Inc.",519,522,0.99399999999999999,0,0,"N/A",11798,11945,0.98769360780715898,976,976,1,0,0,"N/A",41113,61427,0.66900000000000004,1629,61427,2.7E-2,642,648,0.99099999999999999,41,41,1,0,0,"N/A",714,714,1,5,5,1,484,490,0.98780000000000001,0,0,"N/A",11028,11541,0.955549776554108,805,805,1,0,0,"N/A",40179,59828,0.67159999999999997,900,59828,1.4999999999999999E-2,896,923,0.97070000000000001,55,58,0.94830000000000003,0,0,"N/A",428,428,1,8,8,1,497,501,0.99199999999999999,0,0,"N/A",11452,11808,0.96985095739364602,880,881,0.99890000000000001,1,1,1,36307,50958,0.71250000000000002,633,50958,1.24E-2,1163,1166,0.99739999999999995,57,61,0.93440000000000001,0,0,"N/A",213,213,1,8,8,1,484,487,0.99380000000000002,0,0,"N/A",10245,10383,0.98670905828475997,895,897,0.99780000000000002,0,0,"N/A",34825,48873,0.71260000000000001,643,48873,1.32E-2,1331,1342,0.99180000000000001,55,60,0.91669999999999996,0,0,"N/A",315,315,1,2,2,1,541,543,0.99629999999999996,0,0,"N/A",10008,10166,0.98445796966552701,830,830,1,0,0,"N/A",30155,44755,0.67379999999999995,726,44755,1.6199999999999999E-2,1427,1431,0.99719999999999998,42,43,0.97670000000000001,0,0,"N/A",223,223,1,1,1,1]
["Grimsby Power Incorporated",72,73,0.98599999999999999,0,0,"N/A",2628,2628,1,124,124,1,0,0,"N/A",5523,7893,0.7,329,7893,4.2000000000000003E-2,1460,1460,1,10,10,1,10,10,1,23,23,1,3,3,1,198,202,0.98019999999999996,0,0,"N/A",2382,2821,0.84438145160675004,129,129,1,439,439,1,5342,7088,0.75370000000000004,102,7088,1.44E-2,1468,1468,1,10,10,1,2,2,1,16,16,1,3,3,1,235,243,0.96709999999999996,0,0,"N/A",2201,2413,0.91214257478714,210,211,0.99529999999999996,212,212,1,6383,7209,0.88539999999999996,64,7209,8.8999999999999999E-3,1556,1556,1,7,7,1,0,0,"N/A",7,7,1,2,2,1,108,108,1,0,0,"N/A",2166,2412,0.89800995588302601,95,95,1,252,252,1,7136,7908,0.90239999999999998,40,7908,5.1000000000000004E-3,1591,1593,0.99870000000000003,6,6,1,1,1,1,10,10,1,1,1,1,52,52,1,0,0,"N/A",2589,2589,1,46,46,1,6,6,1,6296,7044,0.89380000000000004,127,7044,1.7999999999999999E-2,1613,1622,0.99450000000000005,4,4,1,1,1,1,12,12,1,0,0,"N/A"]
["Guelph Hydro Electric Systems Inc.",1582,1590,0.995,1,1,1,8472,8566,0.98902636766433705,1824,1830,0.997,6,6,1,29429,33958,0.86699999999999999,1711,33958,0.05,6969,6969,1,80,90,0.88900000000000001,0,0,"N/A",141,141,1,46,46,1,1217,1255,0.96970000000000001,0,0,"N/A",11640,11737,0.99173551797866799,3257,3271,0.99570000000000003,15,15,1,32239,36856,0.87470000000000003,1819,36856,4.9399999999999999E-2,8902,8902,1,61,63,0.96830000000000005,0,0,"N/A",109,109,1,36,36,1,656,711,0.92259999999999998,2,2,1,12586,13943,0.90267515182495095,2306,2382,0.96809999999999996,22,22,1,26964,37599,0.71709999999999996,2751,37599,7.3200000000000001E-2,6348,6348,1,83,92,0.9022,0,0,"N/A",112,112,1,29,29,1,null,null,"N/A",null,null,"N/A",null,null,"N/A",null,null,"N/A",null,null,"N/A",null,null,"N/A",null,null,"N/A",null,null,"N/A",null,null,"N/A",null,null,"N/A",null,null,"N/A",null,null,"N/A",null,null,"N/A",null,null,"N/A",null,null,"N/A",null,null,"N/A",null,null,"N/A",null,null,"N/A",null,null,"N/A",null,null,"N/A",null,null,"N/A",null,null,"N/A",null,null,"N/A",null,null,"N/A"]
["Haldimand County Hydro Inc.",8,8,1,0,0,"N/A",3866,3917,0.98697984218597401,249,249,1,52,52,1,19126,22625,0.84499999999999997,847,22625,3.6999999999999998E-2,1242,1243,0.999,15,15,1,22,22,1,191,191,1,0,0,"N/A",null,null,"N/A",null,null,"N/A",null,null,"N/A",null,null,"N/A",null,null,"N/A",null,null,"N/A",null,null,"N/A",null,null,"N/A",null,null,"N/A",null,null,"N/A",null,null,"N/A",null,null,"N/A",null,null,"N/A",null,null,"N/A",null,null,"N/A",null,null,"N/A",null,null,"N/A",null,null,"N/A",null,null,"N/A",null,null,"N/A",null,null,"N/A",null,null,"N/A",null,null,"N/A",null,null,"N/A",null,null,"N/A",null,null,"N/A",null,null,"N/A",null,null,"N/A",null,null,"N/A",null,null,"N/A",null,null,"N/A",null,null,"N/A",null,null,"N/A",null,null,"N/A",null,null,"N/A",null,null,"N/A",null,null,"N/A",null,null,"N/A",null,null,"N/A",null,null,"N/A",null,null,"N/A",null,null,"N/A",null,null,"N/A",null,null,"N/A",null,null,"N/A",null,null,"N/A",null,null,"N/A",null,null,"N/A"]
["Halton Hills Hydro Inc.",589,589,1,0,0,"N/A",5684,5684,1,5668,5668,1,15,15,1,23603,25007,0.94399999999999995,340,25007,1.4E-2,2383,2383,1,4,4,1,9,9,1,102,102,1,19,19,1,541,541,1,0,0,"N/A",5803,5803,1,5787,5787,1,11,11,1,19534,20379,0.95850000000000002,224,20379,1.0999999999999999E-2,2052,2060,0.99609999999999999,19,19,1,16,16,1,45,45,1,18,18,1,678,678,1,0,0,"N/A",5645,5645,1,5624,5625,0.99980000000000002,17,17,1,17165,17764,0.96630000000000005,145,17764,8.2000000000000007E-3,1925,1928,0.99839999999999995,16,17,0.94120000000000004,17,17,1,36,36,1,34,34,1,414,414,1,0,0,"N/A",5755,5755,1,751,769,0.97660000000000002,18,18,1,18332,19010,0.96430000000000005,667,19010,3.5099999999999999E-2,2180,2183,0.99860000000000004,11,11,1,12,12,1,35,35,1,0,0,"N/A",432,432,1,0,0,"N/A",933,974,0.95790553092956499,719,719,1,21,21,1,17927,18692,0.95909999999999995,938,18692,5.0200000000000002E-2,3804,3804,1,13,13,1,19,19,1,25,25,1,0,0,"N/A"]
["Hearst Power Distribution Company Limited",7,7,1,1,1,1,259,259,1,4,4,1,0,0,"N/A",992,1136,0.873,0,0,"N/A",72,72,1,3,3,1,0,0,"N/A",17,17,1,0,0,"N/A",6,6,1,0,0,"N/A",439,439,1,151,151,1,0,0,"N/A",818,937,0.873,0,937,0,60,60,1,0,0,"N/A",0,0,"N/A",5,5,1,0,0,"N/A",15,15,1,0,0,"N/A",640,640,1,211,211,1,0,0,"N/A",820,931,0.88080000000000003,0,931,0,64,64,1,0,0,"N/A",0,0,"N/A",3,3,1,0,0,"N/A",9,9,1,0,0,"N/A",493,493,1,210,210,1,0,0,"N/A",844,916,0.9214,0,916,0,288,289,0.99650000000000005,0,0,"N/A",0,0,"N/A",14,14,1,0,0,"N/A",11,11,1,0,0,"N/A",384,384,1,195,195,1,0,0,"N/A",858,905,0.94810000000000005,0,905,0,193,193,1,0,0,"N/A",0,0,"N/A",3,3,1,0,0,"N/A"]
["Horizon Utilities Corporation",2908,2918,0.997,3,3,1,54151,56045,0.96620571613311801,15626,15731,0.99299999999999999,1894,1894,1,275421,335078,0.82199999999999995,4246,335078,1.2999999999999999E-2,28552,28686,0.995,176,189,0.93100000000000005,0,0,"N/A",3059,3059,1,101,101,1,null,null,"N/A",null,null,"N/A",null,null,"N/A",null,null,"N/A",null,null,"N/A",null,null,"N/A",null,null,"N/A",null,null,"N/A",null,null,"N/A",null,null,"N/A",null,null,"N/A",null,null,"N/A",null,null,"N/A",null,null,"N/A",null,null,"N/A",null,null,"N/A",null,null,"N/A",null,null,"N/A",null,null,"N/A",null,null,"N/A",null,null,"N/A",null,null,"N/A",null,null,"N/A",null,null,"N/A",null,null,"N/A",null,null,"N/A",null,null,"N/A",null,null,"N/A",null,null,"N/A",null,null,"N/A",null,null,"N/A",null,null,"N/A",null,null,"N/A",null,null,"N/A",null,null,"N/A",null,null,"N/A",null,null,"N/A",null,null,"N/A",null,null,"N/A",null,null,"N/A",null,null,"N/A",null,null,"N/A",null,null,"N/A",null,null,"N/A",null,null,"N/A",null,null,"N/A",null,null,"N/A",null,null,"N/A"]
["Hydro 2000 Inc.",1,1,1,1,1,1,164,164,1,160,162,0.98799999999999999,1,1,1,4171,4184,0.997,0,0,"N/A",38,38,1,6,6,1,0,0,"N/A",0,0,"N/A",0,0,"N/A",6,6,1,0,0,"N/A",112,112,1,112,112,1,0,0,"N/A",2777,2777,1,0,0,"N/A",49,49,1,0,0,"N/A",0,0,"N/A",2,2,1,0,0,"N/A",8,8,1,0,0,"N/A",56,56,1,56,56,1,0,0,"N/A",2208,2209,0.99950000000000006,1,2209,5.0000000000000001E-4,9,9,1,0,0,"N/A",8,8,1,13,13,1,0,0,"N/A",5,5,1,0,0,"N/A",42,42,1,42,42,1,0,0,"N/A",2306,2312,0.99739999999999995,6,2312,2.5999999999999999E-3,275,275,1,17,17,1,0,0,"N/A",10,10,1,0,0,"N/A",16,16,1,0,0,"N/A",0,0,"N/A",0,0,"N/A",0,0,"N/A",2896,2896,1,0,2896,0,182,182,1,3,3,1,0,0,"N/A",12,12,1,0,0,"N/A"]
["Hydro Hawkesbury Inc.",20,20,1,0,0,"N/A",59,60,0.98333334922790505,40,42,0.95199999999999996,2,2,1,7084,7085,1,1,7085,0,239,240,0.996,3,3,1,0,0,"N/A",39,39,1,0,0,"N/A",13,13,1,0,0,"N/A",119,122,0.97540986537933405,81,83,0.97589999999999999,3,3,1,6745,6746,0.99990000000000001,0,6746,0,410,412,0.99509999999999998,2,2,1,0,0,"N/A",34,37,0.91890000000000005,0,0,"N/A",17,18,0.94440000000000002,0,0,"N/A",115,118,0.97457629442214999,57,59,0.96609999999999996,2,2,1,7233,7234,0.99990000000000001,0,7234,0,326,327,0.99690000000000001,2,2,1,0,0,"N/A",36,36,1,0,0,"N/A",21,23,0.91300000000000003,1,1,1,165,169,0.97633135318756104,87,88,0.98860000000000003,5,5,1,6338,6340,0.99970000000000003,0,6340,0,487,488,0.998,7,7,1,0,0,"N/A",31,31,1,0,0,"N/A",21,21,1,1,1,1,339,343,0.98833817243576105,103,105,0.98099999999999998,2,2,1,7337,7340,0.99960000000000004,0,7340,0,795,798,0.99619999999999997,5,5,1,0,0,"N/A",21,21,1,0,0,"N/A"]
["Hydro One Brampton Networks Inc.",4533,4541,0.998,6,6,1,30667,31562,0.97164309024810802,3784,3788,0.999,4,4,1,130405,158415,0.82299999999999995,2404,158415,1.4999999999999999E-2,7349,7349,1,122,122,1,0,0,"N/A",1578,1578,1,308,308,1,null,null,"N/A",null,null,"N/A",null,null,"N/A",null,null,"N/A",null,null,"N/A",null,null,"N/A",null,null,"N/A",null,null,"N/A",null,null,"N/A",null,null,"N/A",null,null,"N/A",null,null,"N/A",null,null,"N/A",null,null,"N/A",null,null,"N/A",null,null,"N/A",null,null,"N/A",null,null,"N/A",null,null,"N/A",null,null,"N/A",null,null,"N/A",null,null,"N/A",null,null,"N/A",null,null,"N/A",null,null,"N/A",null,null,"N/A",null,null,"N/A",null,null,"N/A",null,null,"N/A",null,null,"N/A",null,null,"N/A",null,null,"N/A",null,null,"N/A",null,null,"N/A",null,null,"N/A",null,null,"N/A",null,null,"N/A",null,null,"N/A",null,null,"N/A",null,null,"N/A",null,null,"N/A",null,null,"N/A",null,null,"N/A",null,null,"N/A",null,null,"N/A",null,null,"N/A",null,null,"N/A",null,null,"N/A"]
["Hydro One Networks Inc.",16203,16439,0.98599999999999999,0,0,"N/A",30634,30780,0.99525666236877397,26656,26778,0.995,533,541,0.98499999999999999,1154373,1555350,0.74199999999999999,41339,1555350,2.7E-2,360735,360735,1,0,0,"N/A",3487,4632,0.753,11541,11719,0.98499999999999999,637,632,0.99219999999999997,18691,19061,0.98060000000000003,0,0,"N/A",29637,29949,0.989582300186157,26374,26656,0.98939999999999995,851,854,0.99650000000000005,1100363,1344362,0.81850000000000001,28763,1344362,2.1399999999999999E-2,279974,279974,1,0,0,"N/A",3286,4252,0.77280000000000004,4980,5072,0.9819,881,879,0.99770000000000003,17658,17779,0.99319999999999997,0,0,"N/A",32247,32262,0.99953508377075195,27572,27585,0.99950000000000006,433,445,0.97299999999999998,907569,1162816,0.78049999999999997,35388,1162816,3.04E-2,240861,240861,1,0,0,"N/A",3837,5855,0.65529999999999999,800,814,0.98280000000000001,724,720,0.99450000000000005,14104,14131,0.99809999999999999,0,0,"N/A",31563,31564,0.99996829032897905,27068,27069,1,217,217,1,715370,931048,0.76829999999999998,18749,931048,2.01E-2,175382,175384,1,0,0,"N/A",3792,4383,0.86519999999999997,3027,3034,0.99770000000000003,168,162,0.96430000000000005,14123,14154,0.99780000000000002,0,0,"N/A",29548,29552,0.99986463785171498,25811,25815,0.99980000000000002,263,263,1,670704,955720,0.70179999999999998,37496,955720,3.9199999999999999E-2,156007,157054,0.99329999999999996,0,0,"N/A",3721,4867,0.76449999999999996,135,137,0.98540000000000005,138,134,0.97099999999999997]
["Hydro One Remote Communities Inc.",36,36,1,0,0,"N/A",0,0,"N/A",0,0,"N/A",0,0,"N/A",6666,6666,1,0,0,"N/A",702,703,0.999,0,0,"N/A",284,286,0.99299999999999999,56,59,0.94899999999999995,5,5,1,77,85,0.90590000000000004,0,0,"N/A",0,0,"N/A",0,null,"N/A",0,0,"N/A",6092,6092,1,0,0,"N/A",701,701,1,0,0,"N/A",254,257,0.98829999999999996,51,55,0.92730000000000001,0,0,"N/A",102,107,0.95330000000000004,0,0,"N/A",0,0,"N/A",0,0,"N/A",0,0,"N/A",6071,6071,1,0,6071,0,732,732,1,0,0,"N/A",252,256,0.98440000000000005,28,30,0.93330000000000002,0,0,"N/A",96,96,1,0,0,"N/A",0,0,"N/A",0,0,"N/A",0,0,"N/A",6255,6255,1,0,6255,0,862,862,1,0,0,"N/A",282,285,0.98950000000000005,20,21,0.95240000000000002,0,0,"N/A",69,69,1,0,0,"N/A",0,0,"N/A",0,0,"N/A",0,0,"N/A",4190,4190,1,0,6255,0,580,580,1,0,0,"N/A",451,453,0.99560000000000004,0,0,"N/A",0,0,"N/A"]
["Hydro Ottawa Limited",3408,3408,1,68,68,1,81943,81943,1,2363,2373,0.996,3446,3446,1,244332,291644,0.83799999999999997,5312,291644,1.7999999999999999E-2,23092,23097,1,182,186,0.97799999999999998,0,0,"N/A",5763,5763,1,16,16,1,4310,4310,1,46,46,1,5097,5097,1,5068,5097,0.99429999999999996,29,29,1,208293,244858,0.85070000000000001,4251,244858,1.7399999999999999E-2,14321,14337,0.99890000000000001,210,211,0.99529999999999996,0,0,"N/A",3385,3385,1,57,57,1,4860,4860,1,38,38,1,6020,6020,1,5999,6020,0.99650000000000005,21,21,1,199255,224545,0.88739999999999997,1012,224545,4.4999999999999997E-3,28162,28179,0.99939999999999996,201,208,0.96630000000000005,0,0,"N/A",2916,2916,1,133,133,1,4835,4835,1,53,53,1,6883,6883,1,6855,6883,0.99590000000000001,28,28,1,181014,210116,0.86150000000000004,1683,210116,8.0000000000000002E-3,25860,25877,0.99929999999999997,206,211,0.97629999999999995,0,0,"N/A",2962,2962,1,30,30,1,5301,5301,1,44,44,1,8359,8359,1,8322,8359,0.99560000000000004,37,37,1,141256,189358,0.746,6977,189358,3.6799999999999999E-2,18781,18804,0.99880000000000002,193,197,0.97970000000000002,0,0,"N/A",1186,1186,1,17,17,1]
["Innpower Corporation",345,364,0.94799999999999995,0,0,"N/A",4581,4827,0.94903665781021096,323,338,0.95599999999999996,15,15,1,19057,23798,0.80100000000000005,2439,26237,9.2999999999999999E-2,437,441,0.99099999999999999,0,0,"N/A",30,30,1,360,362,0.99399999999999999,13,13,1,666,714,0.93279999999999996,0,0,"N/A",4731,4836,0.97828781604766801,331,354,0.93500000000000005,23,23,1,18633,23225,0.80230000000000001,1288,23225,5.5500000000000001E-2,556,559,0.99460000000000004,0,0,"N/A",22,23,0.95650000000000002,193,196,0.98470000000000002,21,21,1,664,723,0.91839999999999999,0,0,"N/A",5317,5582,0.95252597332000699,334,383,0.87209999999999999,52,52,1,19537,23300,0.83850000000000002,927,23300,3.9800000000000002E-2,1609,1614,0.99690000000000001,0,0,"N/A",45,47,0.95740000000000003,179,181,0.98899999999999999,25,25,1,452,454,0.99560000000000004,0,0,"N/A",5115,5335,0.95876288414001498,369,375,0.98399999999999999,6,6,1,20692,22889,0.90400000000000003,506,22889,2.2100000000000002E-2,1051,1052,0.999,0,0,"N/A",141,144,0.97919999999999996,158,158,1,0,0,"N/A",419,419,1,0,0,"N/A",5286,5288,0.99962180852890004,407,409,0.99509999999999998,2,2,1,21902,23670,0.92530000000000001,593,23670,2.5100000000000001E-2,1847,1857,0.99460000000000004,0,0,"N/A",48,48,1,50,50,1,0,0,"N/A"]
["Kenora Hydro Electric Corporation Ltd.",6,6,1,0,0,"N/A",983,987,0.99594730138778698,536,541,0.99099999999999999,5,5,1,4264,4306,0.99,3,4306,1E-3,16,16,1,0,0,"N/A",0,0,"N/A",60,60,1,1,1,1,19,19,1,0,0,"N/A",1083,1086,0.99723756313323997,576,579,0.99480000000000002,3,3,1,4127,4128,0.99980000000000002,1,4128,2.0000000000000001E-4,17,17,1,1,1,1,0,0,"N/A",49,49,1,0,0,"N/A",5,5,1,0,0,"N/A",1384,1384,1,406,406,1,3,3,1,3559,3669,0.97,110,3669,0.03,8,8,1,5,5,1,0,0,"N/A",79,79,1,1,1,1,null,null,"N/A",null,null,"N/A",null,null,"N/A",null,null,"N/A",null,null,"N/A",null,null,"N/A",null,null,"N/A",null,null,"N/A",null,null,"N/A",null,null,"N/A",null,null,"N/A",null,null,"N/A",null,null,"N/A",null,null,"N/A",null,null,"N/A",null,null,"N/A",null,null,"N/A",null,null,"N/A",null,null,"N/A",null,null,"N/A",null,null,"N/A",null,null,"N/A",null,null,"N/A",null,null,"N/A"]
["Kingston Hydro Corporation",153,153,1,2,2,1,7160,7486,0.95645207166671797,549,561,0.97899999999999998,12,12,1,44397,67244,0.66,2435,67244,3.5999999999999997E-2,4469,4469,1,28,28,1,0,0,"N/A",646,648,0.997,7,7,1,107,107,1,0,0,"N/A",7370,7492,0.98371595144271895,610,610,1,21,21,1,44315,64449,0.68759999999999999,1965,64449,3.0499999999999999E-2,4364,4364,1,17,17,1,0,0,"N/A",576,578,0.99650000000000005,21,21,1,220,220,1,4,4,1,8153,8317,0.98028135299682595,449,455,0.98680000000000001,6,6,1,38016,62551,0.60780000000000001,3552,62551,5.6800000000000003E-2,4522,4522,1,20,21,0.95240000000000002,0,0,"N/A",447,449,0.99550000000000005,5,5,1,172,172,1,0,0,"N/A",8224,8497,0.96787101030349698,373,374,0.99729999999999996,11,11,1,39305,60820,0.64629999999999999,2580,60820,4.24E-2,5567,5567,1,24,26,0.92310000000000003,0,0,"N/A",257,257,1,1,1,1,215,215,1,4,4,1,7578,7658,0.98955339193344105,209,210,0.99519999999999997,1,1,1,33288,51490,0.64649999999999996,2354,51490,4.5699999999999998E-2,7610,7610,1,24,24,1,0,0,"N/A",128,128,1,1,1,1]
["Kitchener-Wilmot Hydro Inc.",1723,1863,0.92500000000000004,3,3,1,27169,28172,0.96439725160598799,2927,3001,0.97499999999999998,49,49,1,70095,89427,0.78400000000000003,3746,89427,4.2000000000000003E-2,15362,15371,0.999,21,26,0.80800000000000005,18,19,0.94699999999999995,1550,1550,1,67,67,1,1943,1964,0.98929999999999996,7,7,1,26067,27176,0.95919191837310802,3174,3241,0.97929999999999995,71,71,1,66020,71139,0.92800000000000005,481,71139,6.7999999999999996E-3,16633,16635,0.99990000000000001,18,19,0.94740000000000002,9,9,1,904,904,1,132,132,1,1383,1395,0.99139999999999995,1,1,1,20431,22440,0.910472393035889,2422,2442,0.99180000000000001,14,14,1,58729,63908,0.91900000000000004,935,63908,1.46E-2,17196,17205,0.99950000000000006,15,17,0.88239999999999996,4,4,1,871,871,1,133,133,1,1003,1018,0.98529999999999995,0,0,"N/A",23323,24128,0.96663630008697499,2103,2116,0.99390000000000001,7,7,1,56536,62720,0.90139999999999998,1172,62720,1.8700000000000001E-2,17511,17743,0.9869,21,23,0.91300000000000003,4,4,1,712,712,1,0,0,"N/A",1445,1462,0.98839999999999995,0,0,"N/A",22045,23300,0.94613736867904696,1639,1662,0.98619999999999997,23,23,1,63582,72280,0.87970000000000004,2359,72280,3.2599999999999997E-2,23215,23232,0.99929999999999997,12,14,0.85709999999999997,11,11,1,217,217,1,0,0,"N/A"]
["Lakefront Utilities Inc.",200,203,0.98499999999999999,1,1,1,656,682,0.96187680959701505,203,205,0.99,2,2,1,10927,11979,0.91200000000000003,69,11979,6.0000000000000001E-3,477,543,0.878,4,4,1,0,0,"N/A",111,116,0.95699999999999996,3,3,1,179,180,0.99439999999999995,0,0,"N/A",837,866,0.96651268005371105,96,96,1,0,0,"N/A",4399,4784,0.91949999999999998,12,4784,2.5000000000000001E-3,361,361,1,1,1,1,0,0,"N/A",92,92,1,3,3,1,196,198,0.9899,0,0,"N/A",949,962,0.98648649454116799,109,110,0.9909,0,0,"N/A",4086,4280,0.95469999999999999,168,4280,3.9300000000000002E-2,313,313,1,2,2,1,0,0,"N/A",106,106,1,6,6,1,201,206,0.97570000000000001,0,0,"N/A",909,937,0.97011739015579201,142,142,1,0,0,"N/A",3492,3711,0.94099999999999995,39,3711,1.0500000000000001E-2,289,292,0.98970000000000002,0,0,"N/A",0,0,"N/A",109,109,1,0,0,"N/A",258,283,0.91169999999999995,0,0,"N/A",715,784,0.91198980808258101,103,103,1,0,0,"N/A",5340,6491,0.82269999999999999,40,6491,6.1999999999999998E-3,342,342,1,0,0,"N/A",0,0,"N/A",51,51,1,0,0,"N/A"]
["Lakeland Power Distribution Ltd.",118,119,0.99199999999999999,1,1,1,2341,2346,0.99786871671676602,584,592,0.98599999999999999,8,8,1,14864,16408,0.90600000000000003,323,16408,0.02,71,74,0.95899999999999996,5,5,1,5,5,1,399,399,1,3,3,1,134,134,1,0,0,"N/A",2622,2622,1,599,599,1,0,0,"N/A",13104,14857,0.88200000000000001,251,14857,1.6899999999999998E-2,57,59,0.96609999999999996,3,3,1,6,6,1,193,193,1,1,1,1,251,251,1,0,0,"N/A",2529,2686,0.94154876470565796,501,501,1,0,0,"N/A",11419,12278,0.93,155,12278,1.26E-2,11,11,1,8,8,1,2,2,1,156,156,1,2,2,1,166,166,1,0,0,"N/A",2169,2678,0.80993276834487904,447,447,1,0,0,"N/A",11330,12644,0.89610000000000001,133,12644,1.0500000000000001E-2,27,28,0.96430000000000005,14,14,1,8,8,1,149,149,1,0,0,"N/A",205,205,1,0,0,"N/A",2223,2591,0.85796988010406505,605,605,1,0,0,"N/A",12071,13427,0.89900000000000002,145,13427,1.0800000000000001E-2,15,16,0.9375,3,3,1,2,2,1,99,99,1,0,0,"N/A"]
["London Hydro Inc.",1870,1936,0.96599999999999997,1,1,1,26134,26454,0.98790353536605802,1010,1011,0.999,1,1,1,121718,181789,0.67,5604,181789,3.1E-2,21566,21566,1,107,110,0.97299999999999998,0,0,"N/A",4388,4422,0.99199999999999999,35,32,0.9143,1796,1841,0.97560000000000002,2,2,1,26560,27896,0.95210784673690796,744,745,0.99870000000000003,1,1,1,118834,173303,0.68569999999999998,5112,173303,2.9499999999999998E-2,22470,22470,1,109,113,0.96460000000000001,0,0,"N/A",2440,2442,0.99919999999999998,36,36,1,2300,2312,0.99480000000000002,1,1,1,23068,27877,0.82749217748642001,348,348,1,0,0,"N/A",102529,145788,0.70330000000000004,4403,145788,3.0200000000000001E-2,22055,22056,1,131,135,0.97040000000000004,0,0,"N/A",2031,2032,0.99950000000000006,18,18,1,2328,2344,0.99319999999999997,3,3,1,1594,1594,1,270,270,1,0,0,"N/A",97195,126567,0.76790000000000003,3608,126567,2.8500000000000001E-2,24500,24500,1,172,175,0.9829,0,0,"N/A",2298,2304,0.99739999999999995,5,5,1,2340,2367,0.98860000000000003,1,1,1,1612,1612,1,303,303,1,0,0,"N/A",78982,107594,0.73409999999999997,4113,107594,3.8199999999999998E-2,29627,29627,1,136,146,0.93149999999999999,0,0,"N/A",796,796,1,14,14,1]
["Midland Power Utility Corporation",155,155,1,0,0,"N/A",932,987,0.94427555799484297,170,171,0.99399999999999999,1,1,1,10867,10873,0.999,0,0,"N/A",100,100,1,8,8,1,0,0,"N/A",92,93,0.98899999999999999,0,0,"N/A",63,63,1,0,0,"N/A",1406,1436,0.97910863161087003,216,216,1,0,0,"N/A",9437,9437,1,0,0,"N/A",196,197,0.99490000000000001,2,2,1,0,0,"N/A",55,55,1,2,2,1,null,null,"N/A",null,null,"N/A",null,null,"N/A",null,null,"N/A",null,null,"N/A",null,null,"N/A",null,null,"N/A",null,null,"N/A",null,null,"N/A",null,null,"N/A",null,null,"N/A",null,null,"N/A",null,null,"N/A",null,null,"N/A",null,null,"N/A",null,null,"N/A",null,null,"N/A",null,null,"N/A",null,null,"N/A",null,null,"N/A",null,null,"N/A",null,null,"N/A",null,null,"N/A",null,null,"N/A",null,null,"N/A",null,null,"N/A",null,null,"N/A",null,null,"N/A",null,null,"N/A",null,null,"N/A",null,null,"N/A",null,null,"N/A",null,null,"N/A",null,null,"N/A",null,null,"N/A",null,null,"N/A"]
["Milton Hydro Distribution Inc.",994,998,0.996,0,0,"N/A",498,498,1,498,498,1,0,0,"N/A",27971,28931,0.96699999999999997,457,28931,1.6E-2,2014,2014,1,3,3,1,8,8,1,197,197,1,27,27,1,1017,1051,0.96760000000000002,0,0,"N/A",379,379,1,379,379,1,0,0,"N/A",25577,26498,0.96519999999999995,434,26498,1.6400000000000001E-2,1738,1738,1,10,10,1,8,8,1,122,122,1,16,16,1,1782,1789,0.99609999999999999,0,0,"N/A",396,396,1,396,396,1,0,0,"N/A",20204,21523,0.93869999999999998,255,21523,1.18E-2,1353,1353,1,13,13,1,9,9,1,47,47,1,10,10,1,861,862,0.99880000000000002,0,0,"N/A",351,351,1,351,351,1,0,0,"N/A",24097,28539,0.84440000000000004,195,28539,6.7999999999999996E-3,928,928,1,7,7,1,6,6,1,146,147,0.99319999999999997,0,0,"N/A",855,855,1,0,0,"N/A",375,375,1,375,375,1,0,0,"N/A",25076,34270,0.73170000000000002,359,34270,1.0500000000000001E-2,753,753,1,6,6,1,13,13,1,29,29,1,0,0,"N/A"]
["Newmarket-Tay Power Distribution Ltd.",525,525,1,0,0,"N/A",6722,6724,0.99970257282257102,1332,1335,0.998,3,3,1,30442,37214,0.81799999999999995,546,37214,1.4999999999999999E-2,1361,1361,1,27,28,0.96399999999999997,0,0,"N/A",383,383,1,20,20,1,428,429,0.99770000000000003,1,1,1,7361,7382,0.99715524911880504,1066,1067,0.99909999999999999,1,1,1,30020,39168,0.76639999999999997,339,39168,8.6999999999999994E-3,1094,1094,1,19,20,0.95,0,0,"N/A",37,37,1,27,27,1,625,625,1,0,0,"N/A",8053,8104,0.99370682239532504,7190,7191,0.99990000000000001,1,1,1,24088,33993,0.70860000000000001,391,33993,1.15E-2,2203,2204,0.99950000000000006,31,33,0.93940000000000001,0,0,"N/A",296,296,1,10,10,1,495,495,1,2,2,1,8188,8283,0.98853075504303001,990,991,0.999,1,1,1,20601,30039,0.68579999999999997,1495,30039,4.9799999999999997E-2,2065,2066,0.99950000000000006,20,20,1,0,0,"N/A",181,181,1,0,0,"N/A",313,319,0.98119999999999996,3,4,0.75,6330,6603,0.95865517854690596,615,622,0.98870000000000002,10,10,1,21484,29173,0.73640000000000005,966,29173,3.3099999999999997E-2,2238,2239,0.99960000000000004,34,35,0.97140000000000004,0,0,"N/A",63,63,1,1,1,1]
["Niagara Peninsula Energy Inc.",872,941,0.92700000000000005,43,43,1,913,913,1,911,913,0.998,2,2,1,47395,57097,0.83,532,57097,8.9999999999999993E-3,10065,10065,1,67,69,0.97099999999999997,43,46,0.93500000000000005,450,450,1,24,24,1,848,927,0.91479999999999995,57,57,1,241,241,1,237,241,0.98340000000000005,4,4,1,42599,48412,0.87990000000000002,452,48412,9.2999999999999992E-3,9228,9916,0.93059999999999998,66,68,0.97060000000000002,69,69,1,144,144,1,30,30,1,434,465,0.93330000000000002,49,54,0.90739999999999998,898,898,1,888,898,0.9889,10,10,1,36531,42540,0.85870000000000002,539,42540,1.2699999999999999E-2,7610,8822,0.86260000000000003,63,63,1,46,46,1,136,136,1,23,23,1,786,840,0.93569999999999998,1,1,1,595,595,1,592,595,0.995,3,3,1,38085,44979,0.84670000000000001,425,44979,9.4000000000000004E-3,9818,11047,0.88870000000000005,83,85,0.97650000000000003,50,53,0.94340000000000002,485,485,1,11,11,1,911,1060,0.85940000000000005,1,1,1,346,346,1,346,346,1,0,0,"N/A",38782,46817,0.82840000000000003,580,46817,1.24E-2,18767,18896,0.99319999999999997,49,50,0.98,33,34,0.97060000000000002,416,416,1,4,4,1]
["Niagara-on-the-Lake Hydro Inc.",274,277,0.98899999999999999,5,5,1,8721,8721,1,202,203,0.995,1,1,1,8023,9308,0.86199999999999999,35,9308,4.0000000000000001E-3,3767,3767,1,2,2,1,5,5,1,30,30,1,8,8,1,187,189,0.98939999999999995,6,6,1,8044,8044,1,367,367,1,0,0,"N/A",6637,7606,0.87260000000000004,37,7606,4.8999999999999998E-3,3555,3555,1,5,5,1,10,10,1,37,37,1,2,2,1,172,173,0.99419999999999997,10,10,1,6058,6058,1,260,260,1,0,0,"N/A",5871,6525,0.89980000000000004,17,6525,2.5999999999999999E-3,4016,4016,1,3,3,1,6,6,1,31,31,1,16,16,1,144,144,1,9,9,1,5465,5465,1,160,160,1,0,0,"N/A",6276,7230,0.86799999999999999,43,7230,5.8999999999999999E-3,3751,3751,1,6,6,1,4,4,1,31,31,1,1,1,1,126,127,0.99209999999999998,11,11,1,7389,7389,1,7389,7389,1,0,0,"N/A",8024,8392,0.95609999999999995,37,8392,4.4000000000000003E-3,7067,7067,1,1,1,1,9,9,1,22,22,1,1,1,1]
["North Bay Hydro Distribution Limited",37,37,1,4,4,1,3748,3749,0.99973326921463002,729,730,0.999,1,1,1,23949,28642,0.83599999999999997,1740,28642,6.0999999999999999E-2,3642,3642,1,27,27,1,3,3,1,589,589,1,3,3,1,43,43,1,0,0,"N/A",3768,3768,1,688,688,1,0,0,"N/A",20401,23569,0.86560000000000004,1147,23569,4.87E-2,4271,4271,1,33,33,1,0,0,"N/A",500,500,1,4,4,1,44,44,1,3,3,1,3621,3621,1,535,535,1,0,0,"N/A",19335,21218,0.9113,1193,21218,5.62E-2,2667,2667,1,46,46,1,4,4,1,396,396,1,1,1,1,57,57,1,2,2,1,4010,4010,1,534,534,1,0,0,"N/A",18452,19292,0.95650000000000002,304,19292,1.5800000000000002E-2,3114,3114,1,17,17,1,0,0,"N/A",360,360,1,0,0,"N/A",90,90,1,0,0,"N/A",4012,4012,1,389,389,1,0,0,"N/A",16279,19796,0.82230000000000003,862,19796,4.3499999999999997E-2,4028,4028,1,15,15,1,0,0,"N/A",112,112,1,0,0,"N/A"]
["Northern Ontario Wires Inc.",14,14,1,1,1,1,683,683,1,683,683,1,0,0,"N/A",5680,5680,1,0,0,"N/A",247,247,1,2,2,1,0,0,"N/A",111,113,0.98199999999999998,0,0,"N/A",14,14,1,0,0,"N/A",713,713,1,23,23,1,0,0,"N/A",6154,6154,1,0,0,"N/A",255,255,1,0,0,"N/A",0,0,"N/A",94,94,1,0,0,"N/A",5,5,1,0,0,"N/A",717,717,1,25,25,1,0,0,"N/A",4931,4931,1,0,0,"N/A",224,224,1,5,5,1,0,0,"N/A",75,75,1,0,0,"N/A",1,1,1,0,0,"N/A",600,600,1,23,23,1,0,0,"N/A",5332,5332,1,0,5332,0,257,257,1,5,5,1,0,0,"N/A",127,127,1,0,0,"N/A",0,0,"N/A",0,0,"N/A",660,660,1,29,29,1,0,0,"N/A",4809,4809,1,0,0,"N/A",408,408,1,0,0,"N/A",0,0,"N/A",62,63,0.98409999999999997,0,0,"N/A"]
["Oakville Hydro Electricity Distribution Inc.",1296,1597,0.81200000000000006,0,0,"N/A",19132,19132,1,1407,1407,1,0,0,"N/A",52091,71525,0.72799999999999998,1938,71525,2.7E-2,2054,2385,0.86099999999999999,0,0,"N/A",0,0,"N/A",391,395,0.99,5,5,1,1762,1816,0.97030000000000005,0,0,"N/A",1220,1220,1,1220,1220,1,0,0,"N/A",46962,58249,0.80620000000000003,1232,58249,2.12E-2,2850,2974,0.95830000000000004,0,0,"N/A",0,0,"N/A",201,205,0.98050000000000004,24,24,1,1514,1591,0.9516,0,0,"N/A",18657,18657,1,746,746,1,0,0,"N/A",43698,51290,0.85199999999999998,656,51290,1.2800000000000001E-2,4069,4152,0.98,0,0,"N/A",0,0,"N/A",177,178,0.99439999999999995,24,24,1,897,947,0.94720000000000004,0,0,"N/A",18762,18762,1,722,722,1,0,0,"N/A",39333,45789,0.85899999999999999,426,45789,9.2999999999999992E-3,3567,3569,0.99939999999999996,0,0,"N/A",0,0,"N/A",179,179,1,0,0,"N/A",944,1136,0.83099999999999996,0,0,"N/A",19388,19388,1,259,259,1,0,0,"N/A",37323,47039,0.79339999999999999,1469,47039,3.1199999999999999E-2,4895,4897,0.99960000000000004,0,0,"N/A",0,0,"N/A",85,86,0.98839999999999995,12,12,1]
["Orangeville Hydro Limited",273,273,1,0,0,"N/A",2855,2856,0.99964988231658902,435,436,0.998,1,1,1,23427,23539,0.995,91,23539,4.0000000000000001E-3,2060,2061,1,5,5,1,0,0,"N/A",215,215,1,4,4,1,355,355,1,0,0,"N/A",2608,2608,1,594,595,0.99829999999999997,39,39,1,22477,22480,0.99990000000000001,3,22480,1E-4,1857,1857,1,5,5,1,0,0,"N/A",114,114,1,2,2,1,326,326,1,6,6,1,2354,2357,0.99872720241546598,410,411,0.99760000000000004,3,4,0.75,21443,21455,0.99939999999999996,8,21455,4.0000000000000002E-4,1593,1622,0.98209999999999997,3,3,1,0,0,"N/A",79,81,0.97529999999999994,9,9,1,106,106,1,0,0,"N/A",2333,2333,1,272,272,1,0,0,"N/A",22747,22769,0.999,13,22769,5.9999999999999995E-4,3346,3360,0.99580000000000002,0,0,"N/A",0,0,"N/A",93,97,0.95879999999999999,0,0,"N/A",214,214,1,1,1,1,2457,2472,0.99393206834793102,320,320,1,0,0,"N/A",17971,18133,0.99109999999999998,0,0,"N/A",3693,3710,0.99539999999999995,0,0,"N/A",0,0,"N/A",41,42,0.97619999999999996,0,0,"N/A"]
["Orillia Power Distribution Corporation",242,242,1,1,1,1,2575,2654,0.97023361921310403,308,308,1,0,0,"N/A",11484,11892,0.96599999999999997,8,11892,1E-3,12,12,1,19,19,1,0,0,"N/A",179,179,1,3,3,1,357,357,1,1,1,1,2448,2505,0.97724550962448098,394,394,1,0,0,"N/A",9489,9739,0.97430000000000005,3,9739,2.9999999999999997E-4,20,20,1,5,5,1,0,0,"N/A",158,158,1,7,7,1,415,415,1,2,2,1,2738,2777,0.98595607280731201,456,457,0.99780000000000002,1,1,1,10821,11161,0.96950000000000003,1,11161,1E-4,19,19,1,6,6,1,0,0,"N/A",135,135,1,17,17,1,400,400,1,11,11,1,2589,2651,0.97661262750625599,456,456,1,0,0,"N/A",13203,13359,0.98829999999999996,0,13359,0,15,15,1,5,5,1,0,0,"N/A",91,91,1,0,0,"N/A",351,351,1,0,0,"N/A",2302,2370,0.971307992935181,383,383,1,0,0,"N/A",12234,12403,0.98640000000000005,0,12403,0,14,14,1,4,4,1,0,0,"N/A",3,3,1,0,0,"N/A"]
["Oshawa PUC Networks Inc.",957,1033,0.92600000000000005,0,0,"N/A",7914,7914,1,774,774,1,0,0,"N/A",46713,63383,0.73699999999999999,821,63383,1.2999999999999999E-2,2083,2094,0.995,35,35,1,4,4,1,772,772,1,45,45,1,939,944,0.99470000000000003,0,0,"N/A",7251,7815,0.92783111333847001,7862,7979,0.98529999999999995,117,117,1,51705,57117,0.9052,238,57117,4.1999999999999997E-3,2251,2253,0.99909999999999999,37,37,1,7,7,1,557,558,0.99819999999999998,55,55,1,1375,1378,0.99780000000000002,0,0,"N/A",9877,10130,0.97502470016479503,969,969,1,253,253,1,52552,58328,0.90100000000000002,252,58328,4.3E-3,8015,8017,0.99980000000000002,75,75,1,3,3,1,801,801,1,56,56,1,509,509,1,0,0,"N/A",9235,9983,0.92507261037826505,884,884,1,748,748,1,45863,48721,0.94130000000000003,111,48721,2.3E-3,21050,21050,1,68,69,0.98550000000000004,4,4,1,1284,1284,1,0,0,"N/A",411,411,1,0,0,"N/A",10175,11535,0.88209795951843295,981,981,1,1360,1360,1,33208,36084,0.92030000000000001,186,36084,5.1999999999999998E-3,20638,20638,1,58,58,1,3,3,1,3,3,1,0,0,"N/A"]
["Ottawa River Power Corporation",139,139,1,0,0,"N/A",2802,2812,0.99644380807876598,2812,2812,1,0,0,"N/A",22200,22224,0.999,0,22224,0,468,468,1,54,54,1,11,11,1,155,155,1,0,0,"N/A",69,70,0.98570000000000002,6,6,1,3378,3383,0.99852204322814897,579,584,0.99139999999999995,5,5,1,17637,17660,0.99870000000000003,0,17660,0,1075,1075,1,47,47,1,3,3,1,140,140,1,0,0,"N/A",130,130,1,1,1,1,3667,3674,0.99809473752975497,290,294,0.98640000000000005,4,4,1,17837,17852,0.99919999999999998,0,17852,0,250,250,1,70,70,1,1,1,1,97,97,1,0,0,"N/A",93,93,1,0,0,"N/A",3764,3843,0.97944313287734996,319,325,0.98150000000000004,6,6,1,17032,17041,0.99950000000000006,9,17041,5.0000000000000001E-4,634,634,1,45,45,1,0,0,"N/A",136,136,1,0,0,"N/A",81,81,1,0,0,"N/A",3256,3321,0.98042756319045998,172,175,0.9829,3,3,1,15186,15555,0.97629999999999995,369,15555,2.3699999999999999E-2,72,73,0.98629999999999995,10,10,1,0,0,"N/A",61,61,1,0,0,"N/A"]
["PUC Distribution Inc.",345,349,0.98899999999999999,19,19,1,11442,11615,0.98510545492172197,1443,1468,0.98299999999999998,1,1,1,33153,40787,0.81299999999999994,607,40787,1.4999999999999999E-2,868,875,0.99199999999999999,44,49,0.89800000000000002,0,0,"N/A",369,369,1,0,0,"N/A",232,240,0.9667,39,39,1,10123,11116,0.91066932678222701,1229,1259,0.97619999999999996,1,1,1,37396,46817,0.79879999999999995,1435,46817,3.0700000000000002E-2,1110,1118,0.99280000000000002,71,82,0.8659,0,0,"N/A",354,355,0.99719999999999998,0,0,"N/A",113,114,0.99119999999999997,65,65,1,10394,10976,0.94697523117065396,1102,1119,0.98480000000000001,1,1,1,35218,45328,0.77700000000000002,1659,45328,3.6600000000000001E-2,1194,1213,0.98429999999999995,47,51,0.92159999999999997,0,0,"N/A",385,385,1,0,0,"N/A",176,176,1,61,61,1,9223,11757,0.78446882963180498,1020,1034,0.98650000000000004,10,10,1,39905,55098,0.72430000000000005,2560,55098,4.65E-2,780,780,1,62,62,1,0,0,"N/A",213,213,1,0,0,"N/A",null,null,"N/A",null,null,"N/A",null,null,"N/A",null,null,"N/A",null,null,"N/A",null,null,"N/A",null,null,"N/A",null,null,"N/A",null,null,"N/A",null,null,"N/A",null,null,"N/A",null,null,"N/A"]
["PowerStream Inc.",8470,8513,0.995,4,4,1,45348,45348,1,2110,2127,0.99199999999999999,17,17,1,229574,302552,0.75900000000000001,3805,302552,1.2999999999999999E-2,45904,46078,0.996,368,383,0.96099999999999997,0,0,"N/A",2281,2281,1,323,298,0.92259999999999998,null,null,"N/A",null,null,"N/A",null,null,"N/A",null,null,"N/A",null,null,"N/A",null,null,"N/A",null,null,"N/A",null,null,"N/A",null,null,"N/A",null,null,"N/A",null,null,"N/A",null,null,"N/A",null,null,"N/A",null,null,"N/A",null,null,"N/A",null,null,"N/A",null,null,"N/A",null,null,"N/A",null,null,"N/A",null,null,"N/A",null,null,"N/A",null,null,"N/A",null,null,"N/A",null,null,"N/A",null,null,"N/A",null,null,"N/A",null,null,"N/A",null,null,"N/A",null,null,"N/A",null,null,"N/A",null,null,"N/A",null,null,"N/A",null,null,"N/A",null,null,"N/A",null,null,"N/A",null,null,"N/A",null,null,"N/A",null,null,"N/A",null,null,"N/A",null,null,"N/A",null,null,"N/A",null,null,"N/A",null,null,"N/A",null,null,"N/A",null,null,"N/A",null,null,"N/A",null,null,"N/A",null,null,"N/A"]
["Renfrew Hydro Inc.",70,70,1,0,0,"N/A",739,751,0.98402130603790305,111,116,0.95699999999999996,5,5,1,7259,7902,0.91900000000000004,2,7902,0,169,170,0.99399999999999999,7,7,1,0,0,"N/A",14,14,1,0,0,"N/A",81,81,1,0,0,"N/A",872,887,0.98308908939361594,193,198,0.97470000000000001,3,3,1,6972,7066,0.98670000000000002,5,7066,6.9999999999999999E-4,416,421,0.98809999999999998,3,3,1,0,0,"N/A",25,25,1,1,1,1,54,54,1,0,0,"N/A",767,773,0.99223804473876998,153,160,0.95630000000000004,13,13,1,6501,6594,0.9859,4,6594,5.9999999999999995E-4,456,480,0.95,1,1,1,0,0,"N/A",25,25,1,1,1,1,67,67,1,0,0,"N/A",808,814,0.99262899160385099,170,170,1,6,6,1,5726,5797,0.98780000000000001,4,5797,6.9999999999999999E-4,327,329,0.99390000000000001,2,2,1,0,0,"N/A",37,37,1,0,0,"N/A",77,77,1,0,0,"N/A",799,802,0.99625933170318604,190,191,0.99480000000000002,1,1,1,6317,6429,0.98260000000000003,6,6429,8.9999999999999998E-4,643,643,1,3,3,1,0,0,"N/A",13,13,1,0,0,"N/A"]
["Rideau St. Lawrence Distribution Inc.",89,89,1,0,0,"N/A",878,886,0.99097067117690996,69,73,0.94499999999999995,4,4,1,6505,8764,0.74199999999999999,202,8764,2.3E-2,208,208,1,2,2,1,0,0,"N/A",81,81,1,0,0,"N/A",88,90,0.9778,0,0,"N/A",897,900,0.99666666984558105,68,71,0.9577,3,3,1,6383,8760,0.72870000000000001,140,8760,1.6E-2,63,73,0.86299999999999999,5,5,1,0,0,"N/A",60,60,1,0,0,"N/A",77,77,1,0,0,"N/A",737,739,0.99729365110397294,197,197,1,2,2,1,6321,8235,0.76759999999999995,54,8235,6.6E-3,160,188,0.85109999999999997,4,4,1,0,0,"N/A",51,52,0.98080000000000001,0,0,"N/A",62,62,1,0,0,"N/A",723,723,1,190,190,1,0,0,"N/A",5766,7175,0.80359999999999998,23,7175,3.2000000000000002E-3,304,362,0.83979999999999999,4,4,1,0,0,"N/A",32,32,1,0,0,"N/A",115,115,1,0,0,"N/A",772,772,1,173,173,1,0,0,"N/A",5785,7435,0.77810000000000001,31,7435,4.1999999999999997E-3,608,746,0.81499999999999995,3,3,1,0,0,"N/A",8,8,1,0,0,"N/A"]
["Sioux Lookout Hydro Inc.",17,17,1,0,0,"N/A",126,135,0.93333333730697599,100,109,0.91739999999999999,9,9,1,3769,4009,0.94010000000000005,112,4009,2.7900000000000001E-2,110,110,1,39,39,1,54,54,1,17,17,1,0,0,"N/A",18,18,1,0,0,"N/A",183,186,0.98387098312377896,38,38,1,3,3,1,3968,4242,0.93540000000000001,131,4242,3.09E-2,97,97,1,1,1,1,2,2,1,23,23,1,0,0,"N/A",23,23,1,0,0,"N/A",218,221,0.986425340175629,54,54,1,3,3,1,3425,3676,0.93169999999999997,128,3676,3.4799999999999998E-2,103,103,1,1,1,1,6,6,1,12,12,1,0,0,"N/A",29,29,1,0,0,"N/A",143,144,0.99305558204650901,81,81,1,1,1,1,2366,2506,0.94410000000000005,0,2506,0,109,110,0.9909,1,1,1,0,0,"N/A",12,12,1,1,1,1,40,40,1,0,0,"N/A",241,241,1,32,32,1,0,0,"N/A",2772,3029,0.91520000000000001,0,3029,0,84,84,1,0,0,"N/A",4,4,1,11,11,1,0,0,"N/A"]
["St. Thomas Energy Inc.",188,191,0.98399999999999999,0,0,"N/A",3333,3536,0.94259047508239702,482,482,1,0,0,"N/A",19289,25438,0.75800000000000001,523,25438,2.1000000000000001E-2,1137,1137,1,13,13,1,0,0,"N/A",581,581,1,4,4,1,291,304,0.95720000000000005,0,0,"N/A",3660,3990,0.91729325056076105,620,620,1,0,0,"N/A",18238,23607,0.77259999999999995,482,23607,2.0400000000000001E-2,953,953,1,23,23,1,0,0,"N/A",327,327,1,13,13,1,null,null,"N/A",null,null,"N/A",null,null,"N/A",null,null,"N/A",null,null,"N/A",null,null,"N/A",null,null,"N/A",null,null,"N/A",null,null,"N/A",null,null,"N/A",null,null,"N/A",null,null,"N/A",null,null,"N/A",null,null,"N/A",null,null,"N/A",null,null,"N/A",null,null,"N/A",null,null,"N/A",null,null,"N/A",null,null,"N/A",null,null,"N/A",null,null,"N/A",null,null,"N/A",null,null,"N/A",null,null,"N/A",null,null,"N/A",null,null,"N/A",null,null,"N/A",null,null,"N/A",null,null,"N/A",null,null,"N/A",null,null,"N/A",null,null,"N/A",null,null,"N/A",null,null,"N/A",null,null,"N/A"]
["Synergy North Corporation",null,null,"N/A",null,null,"N/A",null,null,"N/A",null,null,"N/A",null,null,"N/A",null,null,"N/A",null,null,"N/A",null,null,"N/A",null,null,"N/A",null,null,"N/A",null,null,"N/A",null,null,"N/A",null,null,"N/A",null,null,"N/A",null,null,"N/A",null,null,"N/A",null,null,"N/A",null,null,"N/A",null,null,"N/A",null,null,"N/A",null,null,"N/A",null,null,"N/A",null,null,"N/A",null,null,"N/A",null,null,"N/A",null,null,"N/A",null,null,"N/A",null,null,"N/A",null,null,"N/A",null,null,"N/A",null,null,"N/A",null,null,"N/A",null,null,"N/A",null,null,"N/A",null,null,"N/A",null,null,"N/A",302,303,0.99670000000000003,20,20,1,9978,10057,0.99214476346969604,886,886,1,3,3,1,46353,51014,0.90859999999999996,212,51014,4.1999999999999997E-3,714,724,0.98619999999999997,92,92,1,34,34,1,522,522,1,1,1,1,235,238,0.98740000000000006,17,18,0.94440000000000002,9162,10351,0.885131895542145,415,415,1,2,2,1,42031,48032,0.87509999999999999,231,48032,4.7999999999999996E-3,589,605,0.97360000000000002,85,86,0.98839999999999995,26,26,1,40,41,0.97560000000000002,0,0,"N/A"]
["Thunder Bay Hydro Electricity Distribution Inc.",774,774,1,19,19,1,7875,7940,0.99181360006332397,1094,1094,1,0,0,"N/A",49395,52950,0.93300000000000005,140,52950,3.0000000000000001E-3,167,167,1,66,69,0.95699999999999996,39,39,1,808,808,1,3,3,1,818,818,1,22,22,1,8610,8954,0.96158140897750899,1086,1086,1,0,0,"N/A",44306,46733,0.94810000000000005,110,46733,2.3999999999999998E-3,268,268,1,56,60,0.93330000000000002,24,25,0.96,716,716,1,1,1,1,461,465,0.99139999999999995,24,24,1,8678,9293,0.933821141719818,858,858,1,4,4,1,40606,42837,0.94789999999999996,103,42837,2.3999999999999998E-3,425,441,0.9637,80,88,0.90910000000000002,38,42,0.90480000000000005,455,455,1,0,0,"N/A",null,null,"N/A",null,null,"N/A",null,null,"N/A",null,null,"N/A",null,null,"N/A",null,null,"N/A",null,null,"N/A",null,null,"N/A",null,null,"N/A",null,null,"N/A",null,null,"N/A",null,null,"N/A",null,null,"N/A",null,null,"N/A",null,null,"N/A",null,null,"N/A",null,null,"N/A",null,null,"N/A",null,null,"N/A",null,null,"N/A",null,null,"N/A",null,null,"N/A",null,null,"N/A",null,null,"N/A"]
["Tillsonburg Hydro Inc.",160,164,0.97599999999999998,0,0,"N/A",265,268,0.98880594968795799,230,234,0.98299999999999998,4,4,1,4271,6678,0.64,547,6678,8.2000000000000003E-2,62,62,1,5,5,1,0,0,"N/A",107,107,1,0,0,"N/A",188,189,0.99470000000000003,0,0,"N/A",438,442,0.990950226783752,238,238,1,0,0,"N/A",5503,6507,0.84570000000000001,167,6507,2.5700000000000001E-2,49,49,1,10,10,1,0,0,"N/A",121,121,1,0,0,"N/A",192,196,0.97960000000000003,0,0,"N/A",305,309,0.987055003643036,138,138,1,0,0,"N/A",4932,5593,0.88180000000000003,137,5593,2.4500000000000001E-2,20,20,1,10,10,1,0,0,"N/A",76,76,1,0,0,"N/A",227,228,0.99560000000000004,0,0,"N/A",233,240,0.97083336114883401,126,128,0.98440000000000005,2,2,1,3738,4419,0.84589999999999999,126,4419,2.8500000000000001E-2,9,9,1,8,8,1,0,0,"N/A",35,35,1,1,1,1,284,284,1,0,0,"N/A",327,331,0.98791539669036899,156,157,0.99360000000000004,1,1,1,0,0,"N/A",0,0,"N/A",12,13,0.92310000000000003,9,9,1,0,0,"N/A",29,33,0.87880000000000003,0,0,"N/A"]
["Toronto Hydro-Electric System Limited",2973,3044,0.97699999999999998,69,69,1,81894,113715,0.72016882896423295,11029,11086,0.995,4167,4167,1,371345,573631,0.64700000000000002,17637,573631,3.1E-2,40007,42967,0.93100000000000005,1090,1187,0.91800000000000004,0,0,"N/A",7647,7670,0.997,124,124,1,2577,2621,0.98319999999999996,62,63,0.98409999999999997,143448,175348,0.81807607412338301,14473,14565,0.99370000000000003,93,93,1,379426,486943,0.7792,9204,486943,1.89E-2,47302,47800,0.98960000000000004,1141,1219,0.93600000000000005,0,0,"N/A",6115,6153,0.99380000000000002,158,146,0.92410000000000003,5564,5575,0.998,117,117,1,153334,188033,0.81546324491500899,19680,19747,0.99660000000000004,77,77,1,346131,431878,0.80149999999999999,6009,431878,1.3899999999999999E-2,53678,54565,0.98370000000000002,1089,1257,0.86629999999999996,0,0,"N/A",5167,5185,0.99650000000000005,269,269,1,5811,5826,0.99739999999999995,138,139,0.99280000000000002,172379,187762,0.91807180643081698,17995,18170,0.99039999999999995,175,175,1,331870,443881,0.74770000000000003,15487,443881,3.49E-2,58162,58542,0.99350000000000005,1011,1094,0.92410000000000003,0,0,"N/A",5159,5162,0.99939999999999996,22,22,1,7022,7041,0.99729999999999996,87,87,1,160185,170184,0.94124597311019897,16435,16459,0.99850000000000005,24,24,1,286336,409721,0.69889999999999997,10964,409721,2.6800000000000001E-2,64726,67243,0.96260000000000001,1020,1155,0.8831,0,0,"N/A",193,194,0.99480000000000002,27,27,1]
["Veridian Connections Inc.",1285,1310,0.98099999999999998,12,12,1,18829,20155,0.93420988321304299,1285,1285,1,0,0,"N/A",108877,142867,0.76200000000000001,3399,142867,2.4E-2,16381,16410,0.998,26,27,0.96299999999999997,4,4,1,3572,3573,1,38,37,0.97370000000000001,1286,1304,0.98619999999999997,18,18,1,22627,24299,0.93119060993194602,1577,1584,0.99560000000000004,7,7,1,87364,108080,0.80830000000000002,1977,108080,1.83E-2,18586,18596,0.99950000000000006,34,34,1,4,4,1,1594,1594,1,19,19,1,1603,1675,0.95699999999999996,4,4,1,25376,26143,0.97066134214401201,1249,1261,0.99050000000000005,10,10,1,74417,92019,0.80869999999999997,2320,92019,2.52E-2,12708,12732,0.99809999999999999,108,121,0.89259999999999995,2,2,1,1823,1823,1,50,50,1,null,null,"N/A",null,null,"N/A",null,null,"N/A",null,null,"N/A",null,null,"N/A",null,null,"N/A",null,null,"N/A",null,null,"N/A",null,null,"N/A",null,null,"N/A",null,null,"N/A",null,null,"N/A",null,null,"N/A",null,null,"N/A",null,null,"N/A",null,null,"N/A",null,null,"N/A",null,null,"N/A",null,null,"N/A",null,null,"N/A",null,null,"N/A",null,null,"N/A",null,null,"N/A",null,null,"N/A"]
["Wasaga Distribution Inc.",209,209,1,0,0,"N/A",4166,4166,1,26,26,1,0,0,"N/A",22781,22785,1,0,0,"N/A",179,184,0.97299999999999998,14,14,1,0,0,"N/A",172,172,1,2,2,1,290,290,1,0,0,"N/A",3902,4200,0.92904764413833596,17,17,1,0,0,"N/A",20534,20536,0.99990000000000001,0,0,"N/A",145,146,0.99319999999999997,12,12,1,1,1,1,92,92,1,5,5,1,241,241,1,0,0,"N/A",3546,3554,0.99774903059005704,4,4,1,0,0,"N/A",15547,15548,0.99990000000000001,0,0,"N/A",96,96,1,17,17,1,0,0,"N/A",93,93,1,6,6,1,262,262,1,0,0,"N/A",3619,3626,0.99806952476501498,28,28,1,0,0,"N/A",17612,17615,0.99980000000000002,0,17615,0,134,134,1,7,7,1,0,0,"N/A",64,64,1,4,4,1,250,250,1,0,0,"N/A",2214,2237,0.989718377590179,41,41,1,0,0,"N/A",20929,20935,0.99970000000000003,0,0,"N/A",518,520,0.99619999999999997,10,10,1,0,0,"N/A",21,21,1,0,0,"N/A"]
["Waterloo North Hydro Inc.",845,845,1,43,43,1,13105,13123,0.99862837791442904,577,588,0.98099999999999998,11,11,1,42625,49192,0.86699999999999999,2261,49192,4.5999999999999999E-2,6959,6959,1,52,52,1,36,36,1,263,263,1,30,30,1,700,700,1,8,8,1,13263,13313,0.99624425172805797,616,639,0.96399999999999997,50,50,1,30625,42087,0.72770000000000001,1559,42087,3.6999999999999998E-2,7159,7159,1,56,58,0.96550000000000002,31,31,1,173,173,1,76,76,1,635,635,1,9,9,1,12945,12966,0.99838036298751798,1043,1050,0.99329999999999996,21,21,1,29462,31774,0.92720000000000002,325,31774,1.0200000000000001E-2,8133,8133,1,56,59,0.94920000000000004,44,44,1,145,145,1,73,73,1,499,499,1,12,12,1,11811,13994,0.84400457143783603,418,424,0.98580000000000001,2183,2183,1,23619,26032,0.9073,149,26032,5.7000000000000002E-3,8526,8526,1,70,76,0.92110000000000003,43,43,1,128,128,1,8,8,1,600,600,1,12,12,1,11954,12871,0.92875456809997603,316,317,0.99680000000000002,917,917,1,22098,25520,0.8659,193,25520,7.6E-3,8460,8482,0.99739999999999995,38,39,0.97440000000000004,38,40,0.95,53,53,1,1,1,1]
["Welland Hydro-Electric System Corp.",211,211,1,0,0,"N/A",7260,7285,0.996568262577057,1615,1639,0.98499999999999999,2,2,1,34068,34561,0.98599999999999999,340,34561,0.01,3454,3454,1,27,27,1,0,0,"N/A",654,655,0.998,13,13,1,226,226,1,0,0,"N/A",1546,1557,0.99293512105941795,798,809,0.98640000000000005,1110,1110,1,15637,16257,0.96189999999999998,151,16257,9.2999999999999992E-3,3656,3657,0.99970000000000003,16,16,1,0,0,"N/A",232,232,1,23,23,1,310,310,1,0,0,"N/A",2067,2096,0.98616409301757801,856,902,0.94899999999999995,4,4,1,12167,12506,0.97289999999999999,97,12506,7.7999999999999996E-3,4684,4684,1,23,23,1,0,0,"N/A",280,280,1,3,3,1,366,386,0.94820000000000004,0,0,"N/A",1673,1728,0.96817129850387595,1048,1125,0.93159999999999998,22,22,1,10872,12229,0.88900000000000001,402,12229,3.2899999999999999E-2,7500,7500,1,14,14,1,0,0,"N/A",241,241,1,0,0,"N/A",414,438,0.94520000000000004,0,0,"N/A",2093,2102,0.99571835994720503,685,697,0.98280000000000001,9,9,1,11019,12790,0.86150000000000004,473,12790,3.6999999999999998E-2,10953,10953,1,23,23,1,0,0,"N/A",99,99,1,0,0,"N/A"]
["Wellington North Power Inc.",22,22,1,0,0,"N/A",949,952,0.99684876203536998,194,196,0.99,2,2,1,5241,5245,0.999,0,5245,0,416,416,1,4,4,1,0,0,"N/A",37,37,1,1,1,1,35,35,1,0,0,"N/A",994,994,1,170,171,0.99419999999999997,1,1,1,4970,4984,0.99719999999999998,0,4984,0,405,405,1,8,8,1,0,0,"N/A",29,29,1,0,0,"N/A",49,49,1,0,0,"N/A",1067,1072,0.99533581733703602,218,220,0.9909,2,2,1,4830,4879,0.99,0,4879,0,350,361,0.96950000000000003,11,11,1,0,0,"N/A",36,36,1,2,2,1,42,42,1,0,0,"N/A",1096,1103,0.99365365505218495,260,265,0.98109999999999997,5,5,1,4872,4921,0.99,2,4921,4.0000000000000002E-4,368,378,0.97350000000000003,10,10,1,0,0,"N/A",58,58,1,0,0,"N/A",31,32,0.96879999999999999,1,1,1,1334,1338,0.99701046943664595,197,198,0.99490000000000001,1,1,1,5047,5846,0.86329999999999996,15,5846,2.5999999999999999E-3,522,522,1,7,7,1,0,0,"N/A",21,21,1,0,0,"N/A"]
["West Coast Huron Energy Inc.",67,67,1,2,2,1,1099,1155,0.95151513814926103,169,173,0.97699999999999998,4,4,1,3833,3893,0.98499999999999999,46,3893,1.2E-2,548,548,1,2,2,1,0,0,"N/A",34,34,1,1,1,1,71,71,1,0,0,"N/A",1765,1780,0.99157303571701105,192,195,0.98460000000000003,3,3,1,3260,3310,0.9849,38,3310,1.15E-2,408,408,1,1,1,1,0,0,"N/A",27,27,1,0,0,"N/A",75,75,1,0,0,"N/A",1654,1688,0.97985780239105202,164,164,1,8,8,1,3056,3092,0.98839999999999995,35,3092,1.1299999999999999E-2,559,559,1,1,1,1,0,0,"N/A",38,38,1,0,0,"N/A",null,null,"N/A",null,null,"N/A",null,null,"N/A",null,null,"N/A",null,null,"N/A",null,null,"N/A",null,null,"N/A",null,null,"N/A",null,null,"N/A",null,null,"N/A",null,null,"N/A",null,null,"N/A",null,null,"N/A",null,null,"N/A",null,null,"N/A",null,null,"N/A",null,null,"N/A",null,null,"N/A",null,null,"N/A",null,null,"N/A",null,null,"N/A",null,null,"N/A",null,null,"N/A",null,null,"N/A"]
["Westario Power Inc.",117,127,0.92100000000000004,0,0,"N/A",4598,4614,0.99653232097625699,314,314,1,0,0,"N/A",18820,22701,0.82899999999999996,374,22701,1.6E-2,1520,1577,0.96399999999999997,4,7,0.57099999999999995,0,0,"N/A",194,194,1,0,0,"N/A",131,142,0.92249999999999999,0,0,"N/A",4597,4614,0.99631553888320901,203,214,0.9486,18,18,1,17269,20985,0.82289999999999996,628,20985,2.9899999999999999E-2,1766,1811,0.97519999999999996,5,10,0.5,0,0,"N/A",134,134,1,4,4,1,164,181,0.90610000000000002,0,0,"N/A",3017,3962,0.76148408651351895,402,417,0.96399999999999997,952,952,1,17560,20202,0.86919999999999997,265,20202,1.3100000000000001E-2,1790,1816,0.98570000000000002,0,0,"N/A",16,16,1,145,145,1,4,4,1,191,208,0.91830000000000001,0,0,"N/A",2205,3822,0.57692307233810403,420,442,0.95020000000000004,1539,1539,1,16243,18917,0.85860000000000003,331,18917,1.7500000000000002E-2,2559,2619,0.97709999999999997,0,0,"N/A",7,7,1,159,159,1,4,4,1,209,219,0.95430000000000004,0,0,"N/A",2883,3946,0.73061329126357999,620,637,0.97330000000000005,1085,1085,1,14135,16298,0.86729999999999996,245,16298,1.4999999999999999E-2,2857,2867,0.99650000000000005,0,0,"N/A",30,34,0.88239999999999996,90,90,1,7,7,1]
["Whitby Hydro Electric Corporation",522,549,0.95099999999999996,4,4,1,6628,6857,0.96660345792770397,777,780,0.996,0,3,0,28541,35397,0.80600000000000005,378,35397,1.0999999999999999E-2,2600,2600,1,25,25,1,3,3,1,210,211,0.995,38,30,0.78949999999999998,413,432,0.95599999999999996,4,4,1,4253,6383,0.66630113124847401,1111,1117,0.99460000000000004,3,6,0.5,28654,32587,0.87929999999999997,296,32587,9.1000000000000004E-3,3795,3795,1,38,38,1,3,3,1,216,216,1,37,34,0.91890000000000005,499,505,0.98809999999999998,4,4,1,6970,7259,0.96018737554550204,739,741,0.99729999999999996,289,291,0.99309999999999998,26882,30770,0.87360000000000004,314,30770,1.0200000000000001E-2,4480,4480,1,37,37,1,9,9,1,255,256,0.99609999999999999,33,33,1,null,null,"N/A",null,null,"N/A",null,null,"N/A",null,null,"N/A",null,null,"N/A",null,null,"N/A",null,null,"N/A",null,null,"N/A",null,null,"N/A",null,null,"N/A",null,null,"N/A",null,null,"N/A",null,null,"N/A",null,null,"N/A",null,null,"N/A",null,null,"N/A",null,null,"N/A",null,null,"N/A",null,null,"N/A",null,null,"N/A",null,null,"N/A",null,null,"N/A",null,null,"N/A",null,null,"N/A"]
["Woodstock Hydro Services Inc.",149,149,1,0,0,"N/A",2277,2401,0.94835484027862504,376,376,1,0,0,"N/A",9687,13338,0.72599999999999998,678,13338,5.0999999999999997E-2,57,57,1,3,3,1,0,0,"N/A",282,282,1,9,9,1,null,null,"N/A",null,null,"N/A",null,null,"N/A",null,null,"N/A",null,null,"N/A",null,null,"N/A",null,null,"N/A",null,null,"N/A",null,null,"N/A",null,null,"N/A",null,null,"N/A",null,null,"N/A",null,null,"N/A",null,null,"N/A",null,null,"N/A",null,null,"N/A",null,null,"N/A",null,null,"N/A",null,null,"N/A",null,null,"N/A",null,null,"N/A",null,null,"N/A",null,null,"N/A",null,null,"N/A",null,null,"N/A",null,null,"N/A",null,null,"N/A",null,null,"N/A",null,null,"N/A",null,null,"N/A",null,null,"N/A",null,null,"N/A",null,null,"N/A",null,null,"N/A",null,null,"N/A",null,null,"N/A",null,null,"N/A",null,null,"N/A",null,null,"N/A",null,null,"N/A",null,null,"N/A",null,null,"N/A",null,null,"N/A",null,null,"N/A",null,null,"N/A",null,null,"N/A",null,null,"N/A",null,null,"N/A"]

{"sheet":"2016 Adjusted SAIDI and SAIFI","index":25,"n_rows":60,"n_cols":17,"rows_kept":60,"cut":false,"hidden":true,"merged":[[0,13,0,15]]}
[]
[null,null,null,null,null,"SAIDI","SAIDI","SAIDI","SAIDI",null,null,null,null,"SAIFI","SAIFI","SAIFI","SAIFI"]
[2016,"Total Events Sub Total","Non-Major Events Sub Total","Loss of Supply Non-Major Events","Average Number of Customers","Excluding loss of supply (LOS) and major event days (MED)","Including MED, excluding LOS","Including LOS, excluding MED","Including LOS and MED","Total Events Sub Total","Non-Major Events Sub Total","Loss of Supply Non-Major Events","Average Number of Customers","Excluding loss of supply (LOS) and major event days (MED)","Including MED, excluding LOS","Including LOS, excluding MED","Including LOS and MED"]
["Alectra Utilities Corporation",1626271.94,909287.78,123071,1024463.41666667,{"$f":"(C4-D4)/E4","v":0.76744251401200758},{"$f":"(B4-D4)/E4","v":1.4673056309721764},{"$f":"(C4)/E4","v":0.88757467100053145},{"$f":"B4/E4","v":1.5874377879607005},1460921,1270178,156104,1024463.41666667,{"$f":"(K4-L4)/M4","v":1.087470749931607},{"$f":"(J4-L4)/M4","v":1.2736589504050086},{"$f":"(K4)/M4","v":1.2398471036992413},{"$f":"J4/M4","v":1.4260353041726432}]
["Algoma Power Inc.",72720.03,72720.03,8827.369999999999,11692.916666666701,{"$f":"(C5-D5)/E5","v":5.4642192210383627},{"$f":"(B5-D5)/E5","v":5.4642192210383627},{"$f":"(C5)/E5","v":6.2191523358158252},{"$f":"B5/E5","v":6.2191523358158252},45043,45043,14968,11692.916666666701,{"$f":"(K5-L5)/M5","v":2.5720699853900078},{"$f":"(J5-L5)/M5","v":2.5720699853900078},{"$f":"(K5)/M5","v":3.8521612087089649},{"$f":"J5/M5","v":3.8521612087089649}]
["Atikokan Hydro Inc.",11561.5,1661.5,0,1650,1.0069696969696971,7.0069696969696968,1.0069696969696971,7.0069696969696968,2008,358,0,1650,0.21696969696969698,1.216969696969697,0.21696969696969698,1.216969696969697]
["Bluewater Power Distribution Corporation",63583.350000000006,63583.350000000006,13420.031999999999,36275.333333333299,1.3828492639626575,1.3828492639626575,1.7527985040339642,1.7527985040339642,97067,97067,47055,36275.333333333299,1.378677889474943,1.378677889474943,2.6758403322735402,2.6758403322735402]
["Brantford Power Inc.",25419.260000000002,19572.68,2048.58,39253.5,0.44643407594227263,0.59537824652578752,0.49862254321270716,0.64756671379622199,75757,65758,17173,39253.5,1.2377240246092704,1.4924529022889679,1.6752136752136753,1.9299425528933725]
["Burlington Hydro Inc.",84037,84037,18471,66783.833333333299,0.98176454880547492,0.98176454880547492,1.2583434613666487,1.2583434613666487,48667,48667,8758,66783.833333333299,0.59758474481099499,0.59758474481099499,0.72872426710057114,0.72872426710057114]
["Canadian Niagara Power Inc.",164796.58999999997,164796.58999999997,64791.56,28854,3.4658983156581398,3.4658983156581398,5.7113949539058702,5.7113949539058702,116172,116172,50042,28854,2.2918832744160254,2.2918832744160254,4.0262008733624457,4.0262008733624457]
["Centre Wellington Hydro Ltd.",26134.84,686.34,0,6830.75,0.10047798557991436,3.8260571679537385,0.10047798557991436,3.8260571679537385,11538,781,0,6830.75,0.114335907477217,1.6891263770449805,0.114335907477217,1.6891263770449805]
["Chapleau Public Utilities Corporation",20599,20599,18321,1250,1.8224,1.8224,16.479199999999999,16.479199999999999,3602,3602,2811,1250,0.63280000000000003,0.63280000000000003,2.8816000000000002,2.8816000000000002]
["Cooperative Hydro Embrun Inc.",53158,53158,53070,2117.3333333333298,4.1561712846347673E-2,4.1561712846347673E-2,25.106108312342609,25.106108312342609,11107,11107,10622,2117.3333333333298,0.22906171284634799,0.22906171284634799,5.2457493702770863,5.2457493702770863]
["E.L.K. Energy Inc.",4917.5200000000004,4917.5200000000004,2000,11655.416666666701,0.25031451757051371,0.25031451757051371,0.42190855467772376,0.42190855467772376,2018,2018,1000,11655.416666666701,8.7341364887569897E-2,8.7341364887569897E-2,0.17313838344117491,0.17313838344117491]
["Elexicon Energy Inc.",277759,277759,87574,87826,2.1654749163117981,2.1654749163117981,3.1626056065402044,3.1626056065402044,287623,287623,80732,87826,2.3556919363286499,2.3556919363286499,3.2749185890283061,3.2749185890283061]
["Energy Plus Inc.",122628.8,45182.399999999994,5280.7000000000007,16791.166666666701,2.3763506605655702,6.9886805562448373,2.6908433998034624,7.3031732954827291,128838,83883,3057,16791.166666666701,4.8136023901456024,7.4909029549266828,4.9956624018581097,7.6729629666391892]
["Entegrus Powerlines Inc.",58634.080000000002,58634.080000000002,20119.86,23002.666666666701,1.674337178298166,1.674337178298166,2.549012288430323,2.549012288430323,57547,57547,15338,23002.666666666701,1.8349611639230208,1.8349611639230208,2.5017534198933422,2.5017534198933422]
["EnWin Utilities Ltd.",85037.24,70436.02,14416.830000000004,161956,0.34589141495220926,0.43604688927856949,0.43490837017461537,0.52506384450097565,186063,165256,36414,161956,0.79553705944824515,0.92401022499938257,1.0203759045666725,1.1488490701178098]
["EPCOR Electricity Distribution Ontario Inc.",99992.219999999987,34976.389999999985,9105.41,63653.166666666701,0.40643665279810598,1.4278442811171992,0.54948389579989421,1.5708915241189876,34626,20813,6718,63653.166666666701,0.22143438791995149,0.438438517067755,0.3269750915770096,0.54397922072481308]
["ERTH Power Corporation",109152.70000000001,90752.700000000012,62139.3,57665.333333333299,0.49619759994450785,0.81528012208374823,1.5737826308122742,1.8928651529515146,29541,22041,17284,57665.333333333299,8.2493236837846012E-2,0.21255404749242771,0.38222271035168465,0.5122835210062664]
["Espanola Regional Hydro Distribution Corporation",34264.799999999996,27410.3,25587,3285.5,0.55495358392938643,2.6412418201187022,8.3428093136508892,10.429097549840206,15181,9302,5686,3285.5,1.1005935169684979,2.8899710850707656,2.8312281235732764,4.6206056916755438]
["Essex Powerlines Corporation",73838.000000000015,73838.000000000015,55502.2,29095,0.63020450249183768,0.63020450249183768,2.5378243684481876,2.5378243684481876,93238,93238,78593,29095,0.50335109125279254,0.50335109125279254,3.2046056023371712,3.2046056023371712]
["Festival Hydro Inc.",81787.5,33650.86,6293.0500000000029,20782.5,1.3163868639480332,3.6325971370143146,1.6191921087453387,3.9354023818116204,35897,21814,2554,20782.5,0.92674124864669793,1.6043786839889329,1.0496331047756526,1.7272705401178876]
["Fort Frances Power Corporation",23447.64,23447.64,22201.93,3742.5833333333298,0.33284763198325584,0.33284763198325584,6.2650949655986343,6.2650949655986343,12600,12600,11291,3742.5833333333298,0.34975841107969124,0.34975841107969124,3.3666585023713598,3.3666585023713598]
["Greater Sudbury Hydro Inc.",61581.8,61581.8,4682.62,47774.75,1.1909885452043183,1.1909885452043183,1.2890030821720679,1.2890030821720679,43395,43395,1881,47774.75,0.86895274177258908,0.86895274177258908,0.90832500431713403,0.90832500431713403]
["Grimsby Power Incorporated",13318.639999999998,13318.639999999998,7197,11228.666666666701,0.54517959983375697,0.54517959983375697,1.1861283619307685,1.1861283619307685,15790,15790,8010,11228.666666666701,0.69286944131092831,0.69286944131092831,1.4062221694472439,1.4062221694472439]
["Halton Hills Hydro Inc.",78206.799999999988,39411.799999999996,8406.73,22460.666666666701,1.380416283280399,3.1076579798759263,1.7547030364192189,3.4819447330147457,72302,47085,10054,22460.666666666701,1.648704401769016,2.7714226351251035,2.0963313644593482,3.2190495978154354]
["Hearst Power Distribution Company Limited",9070,9070,2998.59,2768,2.1934284682080922,2.1934284682080922,3.276734104046243,3.276734104046243,4790,4790,1271,2768,1.2713150289017341,1.2713150289017341,1.7304913294797688,1.7304913294797688]
["Hydro 2000 Inc.",18,18,18,1222,0,0,1.4729950900163666E-2,1.4729950900163666E-2,195,195,195,1222,0,0,0.15957446808510639,0.15957446808510639]
["Hydro Hawkesbury Inc.",42366.23,42366.23,34654.730000000003,5534.9166666666697,1.3932459085502635,1.3932459085502635,7.6543573375088414,7.6543573375088414,10092,10092,6751,5534.9166666666697,0.60362245742934972,0.60362245742934972,1.8233336846384307,1.8233336846384307]
["Hydro One Networks Inc. 2020",17776522.040000003,11177025.269999998,589075.25,1416529.4166666635,7.4745712269888891,12.133490902324507,7.8904293398307637,12.549349015166381,4687189,4037739,619378,1416529.4166666635,2.4131945018438019,2.8716742145547931,2.8504448636876827,3.3089245763986739]
["Hydro Ottawa Limited",394088,352297,26002,325886.83333333302,1.0012524797718645,1.1294902473813773,1.0810409134868402,1.2092786810963532,311092,298795,58466,325886.83333333302,0.73746152166319567,0.77519547941233258,0.91686735835190325,0.95460131610104004]
["Innpower Corporation",266231.40000000002,18349.200000000012,0,16330.416666666701,1.1236210547801888,16.302792845661184,1.1236210547801888,16.302792845661184,58353,22071,0,16330.416666666701,1.3515270584032835,3.5732707371214172,1.3515270584032835,3.5732707371214172]
["Kingston Hydro Corporation",51599,51599,15433,27403.583333333299,1.3197544116797393,1.3197544116797393,1.882928935692719,1.882928935692719,26454,26454,10388,27403.583333333299,0.58627369291728948,0.58627369291728948,0.96534820567869895,0.96534820567869895]
["Kitchener-Wilmot Hydro Inc.",253123,105215,800,93804.833333333299,1.1131089549401332,2.6898720570546302,1.1216373001391191,2.6984004022536161,169540,112168,8000,93804.833333333299,1.1104758283599463,1.7220861043052158,1.1957592803498047,1.8073695562950742]
["Lakefront Utilities Inc.",6915.4699999999993,6915.4699999999993,1.25,10270.666666666701,0.67320070102557217,0.67320070102557217,0.67332240685446998,0.67332240685446998,3810,3810,1,10270.666666666701,0.37086200181747248,0.37086200181747248,0.37095936648059075,0.37095936648059075]
["Lakeland Power Distribution Ltd.",96839.83600000001,96839.83600000001,69875.59,13424.416666666701,2.0085972202392366,2.0085972202392366,7.2137090500518157,7.2137090500518157,35683,35683,25907,13424.416666666701,0.7282253108452863,0.7282253108452863,2.6580670792647658,2.6580670792647658]
["London Hydro Inc.",152760.95999999999,152760.95999999999,3083.75,154722.5,0.96739136195446684,0.96739136195446684,0.98732220588472908,0.98732220588472908,192051,192051,33231,154722.5,1.026482896799108,1.026482896799108,1.2412609672154986,1.2412609672154986]
["Milton Hydro Distribution Inc.",30007,30007,2604,36920.916666666701,0.74220800765600281,0.74220800765600281,0.81273713409968529,0.81273713409968529,26755,26755,4803,36920.916666666701,0.59456811969728041,0.59456811969728041,0.72465698079904961,0.72465698079904961]
["Newmarket-Tay Power Distribution Ltd.",87357.489999999991,42535.839999999997,22995.420000000002,42267,0.46230913005417923,1.5227498994487423,1.0063605176615324,2.0668012870560957,50111,29863,4803,42267,0.59289753235384579,1.0719473821184375,0.70653228286843162,1.1855821326330234]
["Niagara Peninsula Energy Inc.",90448,90448,8885.58,53670.833333333299,1.5196786584892488,1.5196786584892488,1.6852356183526134,1.6852356183526134,75931,75931,1923,53670.833333333299,1.3789239965841169,1.3789239965841169,1.414753512926016,1.414753512926016]
["Niagara-on-the-Lake Hydro Inc.",3083.6000000000004,3083.6000000000004,6.3,9138.0833333333303,0.33675551948348043,0.33675551948348043,0.33744494195537006,0.33744494195537006,9377,9377,5,9138.0833333333303,1.0255980010396057,1.0255980010396057,1.0261451617315815,1.0261451617315815]
["North Bay Hydro Distribution Limited",57234.516999999993,57234.516999999993,1703.45,24199.583333333299,2.2947116995816073,2.2947116995816073,2.3651034074278168,2.3651034074278168,48623,48623,651,24199.583333333299,1.9823481809259829,1.9823481809259829,2.0092494705487383,2.0092494705487383]
["Northern Ontario Wires Inc.",27202.25,27202.25,6272.75,6047,3.4611377542583099,3.4611377542583099,4.4984703158591035,4.4984703158591035,16051,16051,4562,6047,1.8999503886224574,1.8999503886224574,2.6543740697866709,2.6543740697866709]
["Oakville Hydro Electricity Distribution Inc.",34595.729999999996,34595.729999999996,0,68795.666666666701,0.50287658621909292,0.50287658621909292,0.50287658621909292,0.50287658621909292,61741,61741,0,68795.666666666701,0.89745478155116309,0.89745478155116309,0.89745478155116309,0.89745478155116309]
["Orangeville Hydro Limited",18857.820000000003,18857.820000000003,10626.67,12005.833333333299,0.68559589088637685,0.68559589088637685,1.5707214548483424,1.5707214548483424,15890,15890,2400,12005.833333333299,1.1236204622752861,1.1236204622752861,1.323523287290904,1.323523287290904]
["Oshawa PUC Networks Inc.",149128,149128,22,57078.5,2.6122970996084338,2.6122970996084338,2.6126825337035835,2.6126825337035835,118940,118940,1176,57078.5,2.0631936718729471,2.0631936718729471,2.0837968762318559,2.0837968762318559]
["Ottawa River Power Corporation",36777.78,17464.739999999998,496.32,10956.666666666701,1.5486845147550909,3.31135929418922,1.5939829631883125,3.3566577426224415,12961,9532,376,10956.666666666701,0.83565561302098923,1.1486157590508026,0.86997261940979342,1.1829327654396069]
["PUC Distribution Inc.",84823.849999999991,52519.850000000006,2486.75,33519.5,1.4926565133728129,2.4563940392905619,1.566844672504065,2.530582198421814,73927,50287,3045,33519.5,1.4093885648652278,2.1146496815286624,1.5002312086994138,2.2054923253628487]
["Renfrew Hydro Inc.",1434.75,1434.75,0,4276.0833333333303,0.33552900824352527,0.33552900824352527,0.33552900824352527,0.33552900824352527,1183,1183,0,4276.0833333333303,0.27665503868415431,0.27665503868415431,0.27665503868415431,0.27665503868415431]
["Rideau St. Lawrence Distribution Inc.",14429.67,14429.67,8522.67,5858,1.0083646295664048,1.0083646295664048,2.4632417207237967,2.4632417207237967,6136,6136,3886,5858,0.38409013315124618,0.38409013315124618,1.0474564697849096,1.0474564697849096]
["Sioux Lookout Hydro Inc.",70507.149999999994,52112.479999999989,50237.569999999992,2794.1666666666702,0.67100864897106849,7.2542487324783691,18.65045511482252,25.233695198329819,14442,9972,8384,2794.1666666666702,0.56832687145839478,2.1680882791529945,3.5688637041455369,5.1686251118401367]
["Synergy North Corporation",109872.03,109872.03,21162.23,56188.583333333299,1.5787869125252323,1.5787869125252323,1.9554155574308554,1.9554155574308554,162900,162900,23627,56188.583333333299,2.4786707857319783,2.4786707857319783,2.8991654591754275,2.8991654591754275]
["Tillsonburg Hydro Inc.",45657,45657,30761,7122.8333333333303,2.0913026183400811,2.0913026183400811,6.4099492243255289,6.4099492243255289,22150,22150,14231,7122.8333333333303,1.1117766806280278,1.1117766806280278,3.1097175749350692,3.1097175749350692]
["Toronto Hydro-Electric System Limited",722807.79999999993,722807.79999999993,35866,758624.41666666698,0.90550974224948555,0.90550974224948555,0.95278741907089903,0.95278741907089903,1059187,1059187,91577,758624.41666666698,1.2754796428140269,1.2754796428140269,1.3961941861217442,1.3961941861217442]
["Wasaga Distribution Inc.",38013.646000000001,16843.175999999999,2061.4499999999998,13270,1.113920572720422,2.7092837980406936,1.2692672192916352,2.8646304446119064,34126,18306,366,13270,1.3519216277317256,2.5440844009042953,1.3795026375282593,2.5716654107008288]
["Waterloo North Hydro Inc.",159521.15,40934.180000000008,1582.8099999999995,55703.583333333299,0.70644234437341769,2.8353353689095422,0.73485721295607909,2.8637502374922037,166453,68714,4802,55703.583333333299,1.147358862311372,2.901985659211034,1.2335651656162163,2.9881919625158782]
["Welland Hydro-Electric System Corp.",18775.770000000004,18775.770000000004,4497.42,22744.666666666701,0.62776694902834285,0.62776694902834285,0.8255020957294007,0.8255020957294007,28861,28861,12505,22744.666666666701,0.71911363836210584,0.71911363836210584,1.2689128586921457,1.2689128586921457]
["Wellington North Power Inc.",18915.57,17594.57,16330.52,3748.3333333333298,0.33722987994664305,0.68965317919075186,4.6939715429079634,5.0463948421520719,11270,10986,10230,3748.3333333333298,0.20168963983992905,0.27745664739884418,2.9309026233881754,3.0066696309470906]
["Westario Power Inc.",138474,138474,82623.75,23200.5,2.4072864808948085,2.4072864808948085,5.9685782633994959,5.9685782633994959,38853,38853,24345,23200.5,0.6253313506174436,0.6253313506174436,1.6746621840046552,1.6746621840046552]

{"sheet":"2017 Adjusted SAIDI and SAIFI","index":26,"n_rows":59,"n_cols":17,"rows_kept":59,"cut":false,"hidden":true,"merged":[]}
[null,null,null,null,null,"SAIDI","SAIDI","SAIDI","SAIDI",null,null,null,null,"SAIFI","SAIFI","SAIFI","SAIFI"]
[2017,"Total Events Sub Total","Non-Major Events Sub Total","Loss of Supply Non-Major Events","Average Number of Customers","Excluding loss of supply (LOS) and major event days (MED)","Including MED, excluding LOS","Including LOS, excluding MED","Including LOS and MED","Total Events Sub Total","Non-Major Events Sub Total","Loss of Supply Non-Major Events","Average Number of Customers","Excluding loss of supply (LOS) and major event days (MED)","Including MED, excluding LOS","Including LOS, excluding MED","Including LOS and MED"]
["Alectra Utilities Corporation",1138848,903052.59000000008,71417,1034326.25,{"$f":"(C3-D3)/E3","v":0.80403604762037129},{"$f":"(B3-D3)/E3","v":1.032006100589635},{"$f":"(C3)/E3","v":0.87308292717119007},{"$f":"B3/E3","v":1.1010529801404538},1382350,1267750,116138,1034326.25,{"$f":"(K3-L3)/M3","v":1.1133933804735208},{"$f":"(J3-L3)/M3","v":1.2241901431003999},{"$f":"(K3)/M3","v":1.2256771013981325},{"$f":"J3/M3","v":1.3364738640250116}]
["Algoma Power Inc.",186319.81,142926.07,52956.87,11719.833333333299,{"$f":"(C4-D4)/E4","v":7.6766620685732398},{"$f":"(B4-D4)/E4","v":11.379252264679565},{"$f":"(C4)/E4","v":12.195230592016419},{"$f":"B4/E4","v":15.897820788122743},70002,60368,14055,11719.833333333299,{"$f":"(K4-L4)/M4","v":3.9516773560488745},{"$f":"(J4-L4)/M4","v":4.7737026977061818},{"$f":"(K4)/M4","v":5.1509264921287423},{"$f":"J4/M4","v":5.9729518337860492}]
["Atikokan Hydro Inc.",4314.32,4314.32,20.5,1567.5,2.7392791068580542,2.7392791068580542,2.7523572567783092,2.7523572567783092,3786,3786,41,1567.5,2.3891547049441786,2.3891547049441786,2.4153110047846891,2.4153110047846891]
["Bluewater Power Distribution Corporation",114413.36000000002,87512.44,39844.759999999995,36502,1.3058922798750756,2.0428634047449461,2.3974697276861541,3.1344408525560246,80137,68062,32883,36502,0.96375541066242942,1.2945592022354939,1.8646101583474879,2.1954139499205523]
["Brantford Power Inc.",23955,23955,12348,39469.083333333299,0.2940782764568895,0.2940782764568895,0.60693074114971901,0.60693074114971901,62685,62685,20609,39469.083333333299,1.0660495873352358,1.0660495873352358,1.5882051141294149,1.5882051141294149]
["Burlington Hydro Inc.",101496,70807,1110,66984.75,1.0404905594183751,1.4986396157334319,1.0570614953403574,1.5152105516554142,64578,46693,3574,66984.75,0.64371368109905613,0.91071475223838261,0.69706910901361874,0.96407018015294521]
["Canadian Niagara Power Inc.",280125.30999999994,259159.48999999996,168833.12,29036.666666666701,3.1107692572609298,3.8328156354035063,8.9252493399150374,9.6472957180576149,153195,144959,85614,29036.666666666701,2.0437952014694041,2.3274365744461001,4.9922741361496898,5.2759155091263858]
["Centre Wellington Hydro Ltd.",883.15299999999991,883.15299999999991,0,6886.1666666666697,0.12825030858968456,0.12825030858968456,0.12825030858968456,0.12825030858968456,565,565,0,6886.1666666666697,8.2048551443715631E-2,8.2048551443715631E-2,8.2048551443715631E-2,8.2048551443715631E-2]
["Chapleau Public Utilities Corporation",20875,20875,19705,1246.9166666666699,0.9383145091224997,0.9383145091224997,16.74129519481383,16.74129519481383,4001,4001,3140,1246.9166666666699,0.69050324132860874,0.69050324132860874,3.2087148299137791,3.2087148299137791]
["Cooperative Hydro Embrun Inc.",206.3,206.3,2.2999999999999998,2185.4166666666702,9.3346043851286795E-2,9.3346043851286795E-2,9.439847473784542E-2,9.439847473784542E-2,2190,2190,2175,2185.4166666666702,6.863679694947558E-3,6.863679694947558E-3,1.0020972354623434,1.0020972354623434]
["E.L.K. Energy Inc.",7396.68,7396.68,0,11743.5,0.62985311023119173,0.62985311023119173,0.62985311023119173,0.62985311023119173,2409,2409,0,11743.5,0.20513475539660236,0.20513475539660236,0.20513475539660236,0.20513475539660236]
["Elexicon Energy Inc.",308401,281995,122637,88292.083333333299,1.8048956824177336,2.1039711940953567,3.1938877117144338,3.4929632233920569,328455,266118,84022,88292.083333333299,2.0624272655626927,2.7684588557864296,3.0140641148460849,3.7200957050698218]
["Energy Plus Inc.",101426,101426,2882,17022.083333333299,5.7891856167233859,5.7891856167233859,5.9584950921597066,5.9584950921597066,156979,156979,16414,17022.083333333299,8.2578023645754453,8.2578023645754453,9.2220791618730757,9.2220791618730757]
["Entegrus Powerlines Inc.",160559.08999999997,160559.08999999997,82677.939999999988,23283.583333333299,3.3448953661914906,3.3448953661914906,6.8958067021470866,6.8958067021470866,116727,116727,63518,23283.583333333299,2.2852582112575774,2.2852582112575774,5.0132747321968703,5.0132747321968703]
["EnWin Utilities Ltd.",64468.239999999991,64468.239999999991,514.12,163321.75,0.39158360720479657,0.39158360720479657,0.39473150391787981,0.39473150391787981,154589,154589,4746,163321.75,0.91747118800772098,0.91747118800772098,0.94653039169614583,0.94653039169614583]
["EPCOR Electricity Distribution Ontario Inc.",76995.820000000007,76995.820000000007,51349.560000000005,64602.833333333299,0.39698351723479647,0.39698351723479647,1.1918334851154626,1.1918334851154626,36463,36463,22243,64602.833333333299,0.22011418487837231,0.22011418487837231,0.56441796928411325,0.56441796928411325]
["ERTH Power Corporation",77647.299999999988,77647.299999999988,59270.7,57890.25,0.31743860149161546,0.31743860149161546,1.341284585919045,1.341284585919045,22870,22870,14170,57890.25,0.15028437431173644,0.15028437431173644,0.39505788971372552,0.39505788971372552]
["Espanola Regional Hydro Distribution Corporation",31146.74,17964.59,16821,3286,0.34801886792452835,4.3596287279367019,5.4670085209981742,9.4786183810103477,15744,5881,5541,3286,0.10346926354230067,3.1049908703590994,1.7897139379184419,4.7912355447352404]
["Essex Powerlines Corporation",97660.67,97660.67,73066.569999999992,29669.916666666701,0.8289237976738496,0.8289237976738496,3.2915721030561222,3.2915721030561222,39186,39186,22416,29669.916666666701,0.56521897881973537,0.56521897881973537,1.3207317175927342,1.3207317175927342]
["Festival Hydro Inc.",58197.899999999994,44924.97,9257.89,21077.25,1.6922074748840574,2.3219352619530533,2.1314436181190621,2.7611714051880578,53210,48659,8147,21077.25,1.9220723766145964,2.1379923851546097,2.3086028775101117,2.524522886050125]
["Fort Frances Power Corporation",437.09000000000003,437.09000000000003,0,3750.6666666666702,0.11653661571276208,0.11653661571276208,0.11653661571276208,0.11653661571276208,685,685,0,3750.6666666666702,0.18263419836473499,0.18263419836473499,0.18263419836473499,0.18263419836473499]
["Greater Sudbury Hydro Inc.",120808.12,120808.12,42058.340000000004,47791.416666666701,1.6477808253574113,1.6477808253574113,2.5278204419552308,2.5278204419552308,94629,94629,30610,47791.416666666701,1.3395501632964069,1.3395501632964069,1.9800417438975255,1.9800417438975255]
["Grimsby Power Incorporated",13594.78,13594.78,0,11321.75,1.2007666659306204,1.2007666659306204,1.2007666659306204,1.2007666659306204,11259,11259,0,11321.75,0.99445757060525097,0.99445757060525097,0.99445757060525097,0.99445757060525097]
["Halton Hills Hydro Inc.",38000.61,38000.61,766.38,22618.25,1.6462029555779074,1.6462029555779074,1.6800862135664785,1.6800862135664785,36483,36483,10846,22618.25,1.1334652327213643,1.1334652327213643,1.6129895106827452,1.6129895106827452]
["Hearst Power Distribution Company Limited",36997.130000000005,36997.130000000005,25047.1,2763,4.3250199058993868,4.3250199058993868,13.390202678248283,13.390202678248283,13437,13437,8550,2763,1.768729641693811,1.768729641693811,4.8631921824104234,4.8631921824104234]
["Hydro 2000 Inc.",0,0,0,0,"N/A","N/A","N/A","N/A",0,0,0,0,"n/a","n/a","n/a","n/a"]
["Hydro Hawkesbury Inc.",23298.159999999996,23298.159999999996,341.08,5553.6666666666697,4.1336798511493873,4.1336798511493873,4.1950951323449948,4.1950951323449948,12601,12601,4093,5553.6666666666697,1.5319608666946753,1.5319608666946753,2.2689514434907858,2.2689514434907858]
["Hydro One Networks Inc. 2020",18153825.549999997,11916996.913999999,840738.14000000013,1430504.7500000035,7.7429024783035301,12.102782189293642,8.3306237983480802,12.690503509338193,4932857,3998186,701075,1430504.7500000035,2.3048584774010656,2.9582439345272986,2.7949477273668544,3.4483331844930873]
["Hydro Ottawa Limited",520304,388183,21772,329901.08333333302,1.110669283949508,1.5111559954966314,1.1766648235215971,1.5771515350687204,338614,308093,65781,329901.08333333302,0.7344989520848807,0.8270145621932643,0.9338950842083229,1.0264106943167064]
["Innpower Corporation",26040.449999999997,26040.449999999997,0,16935.083333333299,1.5376629383774343,1.5376629383774343,1.5376629383774343,1.5376629383774343,17825,17825,0,16935.083333333299,1.052548703135997,1.052548703135997,1.052548703135997,1.052548703135997]
["Kingston Hydro Corporation",38973,38973,355,27499.666666666701,1.4043079310052227,1.4043079310052227,1.4172171783900394,1.4172171783900394,53217,53217,23738,27499.666666666701,1.0719766300197564,1.0719766300197564,1.9351870931768846,1.9351870931768846]
["Kitchener-Wilmot Hydro Inc.",87578,87578,0,95504.916666666701,0.91699991012679072,0.91699991012679072,0.91699991012679072,0.91699991012679072,97935,97935,0,95504.916666666701,1.0254445888038919,1.0254445888038919,1.0254445888038919,1.0254445888038919]
["Lakefront Utilities Inc.",4672.6400000000003,4672.6400000000003,1348.5,10381.333333333299,0.32020357051117498,0.32020357051117498,0.45010017980991673,0.45010017980991673,1887,1887,78,10381.333333333299,0.1742550732083232,0.1742550732083232,0.18176855895196567,0.18176855895196567]
["Lakeland Power Distribution Ltd.",311171.83,142340.09,122669.44,13510.083333333299,1.4559976807446322,13.952718525052312,10.535841007642466,23.032561851950145,74826,56283,45102,13510.083333333299,0.82760407350065901,2.2001344674656638,4.1659994695320268,5.5385298634970317]
["London Hydro Inc.",221774.98300000001,146475.04300000001,1694.33,156313,0.92622311004203117,1.4079484943670713,0.93706245161950708,1.4187878359445472,236386,179693,23370,156313,1.0000639742056003,1.3627529380153922,1.149571692693506,1.5122606565032979]
["Milton Hydro Distribution Inc.",40303,40303,17228,37829.083333333299,0.6099804163022724,0.6099804163022724,1.0653972142245063,1.0653972142245063,29470,29470,11074,37829.083333333299,0.48629251303560578,0.48629251303560578,0.77903024348550243,0.77903024348550243]
["Newmarket-Tay Power Distribution Ltd.",44989.57,18592.27,2475.25,42832.833333333299,0.37627723280816538,0.99256380424674295,0.43406584512659718,1.0503524165651748,38979,21667,1494,42832.833333333299,0.47097047825461036,0.87514640248718922,0.50585026284353551,0.91002618707611449]
["Niagara Peninsula Energy Inc.",82960.320000000007,82960.320000000007,7628.5,55012.666666666701,1.3693540881493951,1.3693540881493951,1.508022152473975,1.508022152473975,92866,92866,7866,55012.666666666701,1.5450987045407716,1.5450987045407716,1.6880839564221564,1.6880839564221564]
["Niagara-on-the-Lake Hydro Inc.",4688.2000000000007,4688.2000000000007,0,9326.0833333333303,0.50269763119566113,0.50269763119566113,0.50269763119566113,0.50269763119566113,8166,8166,0,9326.0833333333303,0.87560873178272436,0.87560873178272436,0.87560873178272436,0.87560873178272436]
["North Bay Hydro Distribution Limited",32130.79,32130.79,5355.23,24223.416666666701,1.1053585201647151,1.1053585201647151,1.3264350955170769,1.3264350955170769,27124,27124,4368,24223.416666666701,0.93942156522097975,0.93942156522097975,1.1197429484555219,1.1197429484555219]
["Northern Ontario Wires Inc.",59704.85,59704.85,39075.35,6021,3.4262580966616842,3.4262580966616842,9.9161019764158773,9.9161019764158773,27134,27134,17748,6021,1.5588772629131373,1.5588772629131373,4.5065603720312239,4.5065603720312239]
["Oakville Hydro Electricity Distribution Inc.",43853.86,36031.289999999994,1111.33,70157.75,0.49773489030078633,0.60923461770082421,0.51357533558302526,0.62507506298306315,87131,58165,2476,70157.75,0.79376832922948637,1.2066378981652062,0.82906022499296228,1.2419297939286822]
["Orangeville Hydro Limited",11961.54,9381.5,5491.3,12266.5,0.31714017853503446,0.52747238413565412,0.76480658704601967,0.97513879264663927,16182,11941,6479,12266.5,0.44527778910039539,0.79101618228508541,0.973464313373823,1.319202706558513]
["Oshawa PUC Networks Inc.",42791,42791,1122,57345,0.72663702153631526,0.72663702153631526,0.74620280756822743,0.74620280756822743,67507,67507,11218,57345,0.9815851425582004,0.9815851425582004,1.1772081262533787,1.1772081262533787]
["Ottawa River Power Corporation",48188.03,48188.03,37714.58,11067.5,0.94632482493788095,0.94632482493788095,4.3540121978766662,4.3540121978766662,28177,28177,21363,11067.5,0.61567653038174841,0.61567653038174841,2.5459227467811161,2.5459227467811161]
["PUC Distribution Inc.",65951.840000000011,48109.49,0,33644.166666666701,1.4299504124043281,1.9602756297525556,1.4299504124043281,1.9602756297525556,54002,40866,0,33644.166666666701,1.2146533574418534,1.6050925123225903,1.2146533574418534,1.6050925123225903]
["Renfrew Hydro Inc.",11271.13,11271.13,9371.9,4285.9166666666697,0.44313274095389898,0.44313274095389898,2.6298061480430071,2.6298061480430071,17974,17974,17172,4285.9166666666697,0.18712449689875743,0.18712449689875743,4.1937352958332497,4.1937352958332497]
["Rideau St. Lawrence Distribution Inc.",22542.1,22542.1,19890.599999999999,5888,0.4503226902173913,0.4503226902173913,3.8284816576086955,3.8284816576086955,9877,9877,8163,5888,0.29110054347826086,0.29110054347826086,1.6774796195652173,1.6774796195652173]
["Sioux Lookout Hydro Inc.",46618.839999999989,27067.260000000002,22934.94,2829.0833333333298,1.4606568676544258,8.3715809007629165,9.5675018409968011,16.478425874105291,9740,6618,2842,2829.0833333333298,1.3347079442693468,2.43824560369967,2.3392736163068162,3.4428112757371392]
["Synergy North Corporation",198675.18,119717.08,15678.26,56311.25,1.8475672267974872,3.2497399720304556,2.1259886789939841,3.5281614242269526,252571,202391,37087,56311.25,2.9355412994739063,3.8266598592643568,3.5941485937534683,4.4852671535439192]
["Tillsonburg Hydro Inc.",21539.822999999997,8748.7429999999986,549.31299999999999,7190.75,1.1402746584153249,2.9190988422626289,1.2166662726419357,2.9954904564892391,16397,13169,5230,7190.75,1.1040572958314501,1.5529673538921531,1.8313805931231095,2.2802906511838126]
["Toronto Hydro-Electric System Limited",860306.8899999999,752460.49666999991,59009.17,762333.41666666698,0.90964309252261721,1.0511118920953326,0.98704907881404857,1.128517878386764,1134017,1090842,191909,762333.41666666698,1.1791861413220217,1.2358214652578192,1.4309250731389289,1.4875603970747264]
["Wasaga Distribution Inc.",35237.550000000003,13956.25,7916,13490.833333333299,0.44772994008277339,2.0251936500092707,1.034498733708076,2.6119624436345736,32456,18664,12499,13490.833333333299,0.45697695966397051,1.4793007597751597,1.3834579035147356,2.4057817036259248]
["Waterloo North Hydro Inc.",48814.93,43243.79,185.60000000000002,56578.083333333299,0.76104009650379978,0.85950826070754782,0.76432051869319295,0.86278868289694088,91158,86370,1711,56578.083333333299,1.4963214554516848,1.5809478640875378,1.5265628475101529,1.6111892561460057]
["Welland Hydro-Electric System Corp.",44656,44656,2746,22929.666666666701,1.8277631598075246,1.8277631598075246,1.9475206791783541,1.9475206791783541,52182,52182,16477,22929.666666666701,1.5571530331884436,1.5571530331884436,2.2757417610373718,2.2757417610373718]
["Wellington North Power Inc.",14403,14403,14029,3796.3333333333298,9.8516112037931425E-2,9.8516112037931425E-2,3.7939239617174501,3.7939239617174501,15345,15345,14745,3796.3333333333298,0.15804723856352634,0.15804723856352634,4.0420581262621864,4.0420581262621864]
["Westario Power Inc.",49089,49089,20880,23421.666666666701,1.2043976375151195,1.2043976375151195,2.0958798832989367,2.0958798832989367,16668,16668,10645,23421.666666666701,0.25715505585995835,0.25715505585995835,0.71164875827225405,0.71164875827225405]

{"sheet":"2018 Adjusted SAIDI and SAIFI","index":27,"n_rows":59,"n_cols":17,"rows_kept":59,"cut":false,"hidden":true,"merged":[]}
[null,null,null,null,null,"SAIDI","SAIDI","SAIDI","SAIDI",null,null,null,null,"SAIFI","SAIFI","SAIFI","SAIFI"]
[2018,"Total Events Sub Total","Non-Major Events Sub Total","Loss of Supply Non-Major Events","Average Number of Customers","Excluding loss of supply (LOS) and major event days (MED)","Including MED, excluding LOS","Including LOS, excluding MED","Including LOS and MED","Total Events Sub Total","Non-Major Events Sub Total","Loss of Supply Non-Major Events","Average Number of Customers","Excluding loss of supply (LOS) and major event days (MED)","Including MED, excluding LOS","Including LOS, excluding MED","Including LOS and MED"]
["Alectra Utilities Corporation",1959068.79,1190589.7799999998,102122.68000000001,1046296.16666667,{"$f":"(C3-D3)/E3","v":1.0403049678253908},{"$f":"(B3-D3)/E3","v":1.7747805728046673},{"$f":"(C3)/E3","v":1.1379089572630527},{"$f":"B3/E3","v":1.8723845622423292},1880490,1596544,203288,1046296.16666667,{"$f":"(K3-L3)/M3","v":1.3316076694027159},{"$f":"(J3-L3)/M3","v":1.6029897207243851},{"$f":"(K3)/M3","v":1.5259006492266243},{"$f":"J3/M3","v":1.7972827005482934}]
["Algoma Power Inc.",162206.64000000001,110061.85000000003,21905.55,11732.166666666701,{"$f":"(C4-D4)/E4","v":7.5140681601863628},{"$f":"(B4-D4)/E4","v":11.958668333499038},{"$f":"(C4)/E4","v":9.3812040969982569},{"$f":"B4/E4","v":13.825804270310929},49921,38848,13070,11732.166666666701,{"$f":"(K4-L4)/M4","v":2.1972071086613663},{"$f":"(J4-L4)/M4","v":3.1410225448553031},{"$f":"(K4)/M4","v":3.3112383333570001},{"$f":"J4/M4","v":4.2550537695509369}]
["Atikokan Hydro Inc.",1906.75,1906.75,0,1636.0833333333301,1.1654357459379638,1.1654357459379638,1.1654357459379638,1.1654357459379638,989,989,0,1636.0833333333301,0.604492436204351,0.604492436204351,0.604492436204351,0.604492436204351]
["Bluewater Power Distribution Corporation",135856.75999999995,100321.07999999999,41529.33,36815.166666666701,1.5969437414833543,2.5621894056344496,2.7249932319560299,3.6902388961071249,138037,122298,60678,36815.166666666701,1.6737666994128311,2.1012807221661345,3.3219461182212009,3.7494601409745045]
["Brantford Power Inc.",53676,53676,26482,39760.5,0.68394512141446917,0.68394512141446917,1.349983023352322,1.349983023352322,61956,61956,26447,39760.5,0.8930722702179299,0.8930722702179299,1.5582299015354435,1.5582299015354435]
["Burlington Hydro Inc.",249253.2,100311.3,3294.3999999999996,67501.666666666701,1.4372519197056857,3.6437441050838237,1.4860566405767752,3.6925488259549129,110334,72469,15048,67501.666666666701,0.85066047751907314,1.4116095898866687,1.0735883064615683,1.6345374188291639]
["Canadian Niagara Power Inc.",342312.73,304515.52999999997,232912.37,29253.75,2.4476574798102799,3.7397037986582911,10.409452805195913,11.701499124043925,190933,173705,111074,29253.75,2.1409562876554289,2.7298722386018888,5.9378712130923388,6.5267871640387982]
["Centre Wellington Hydro Ltd.",8835.4600000000009,2153.46,0,7011.3333333333303,0.30713986878387389,1.2601682989445666,0.30713986878387389,1.2601682989445666,11570,4888,0,7011.3333333333303,0.69715698393077907,1.6501854140914716,0.69715698393077907,1.6501854140914716]
["Chapleau Public Utilities Corporation",28236.25,28236.25,12890,1226.25,12.514780835881753,12.514780835881753,23.026503567787973,23.026503567787973,9185,9185,3680,1226.25,4.4892966360856272,4.4892966360856272,7.4903160040774717,7.4903160040774717]
["Cooperative Hydro Embrun Inc.",65022.25,65022.25,63651,2286.1666666666702,0.59980316395713262,0.59980316395713262,28.441605307282892,28.441605307282892,6958,6958,6830,2286.1666666666702,5.598891885980891E-2,5.598891885980891E-2,3.043522636144925,3.043522636144925]
["E.L.K. Energy Inc.",35253.9,35253.9,15803.279999999999,11952.583333333299,1.6273151550222804,1.6273151550222804,2.9494795406850765,2.9494795406850765,13507,13507,7751,11952.583333333299,0.48156953517719459,0.48156953517719459,1.1300485947947128,1.1300485947947128]
["Elexicon Energy Inc.",873265,325790.63,107242,90677.166666666701,2.4101837103423676,8.447804757904871,3.5928629221248261,9.6304839696873312,424779,313263,122709,90677.166666666701,2.1014551623617108,3.3312686214647922,3.45470653214793,4.6845199912510118]
["Energy Plus Inc.",107876,41550,11217,17223.333333333299,1.7611573446874429,5.6120959938068626,2.4124250048384024,6.2633636539578212,156587,120799,42374,17223.333333333299,4.5534159086510639,6.6312947551770982,7.0136829881943239,9.0915618347203591]
["Entegrus Powerlines Inc.",246150.06999999998,205371.56999999998,95646.26999999999,23656.333333333299,4.6383054573123541,6.3620933083459059,8.6814624695289613,10.405250320562514,136448,120258,50138,23656.333333333299,2.9641110907579407,3.6484944130535921,5.0835435190012612,5.7679268412969122]
["EnWin Utilities Ltd.",120107.87999999999,104795.28000000001,4346.49,164964.25,0.60891247649111857,0.70173622466685959,0.63526054887649908,0.72808429705224009,269263,221709,20027,164964.25,1.2225800438579875,1.5108485626431181,1.3439821052137053,1.6322506239988361]
["EPCOR Electricity Distribution Ontario Inc.",33259.227999999996,33259.227999999996,24627.07,65819.583333333299,0.13114877917539738,0.13114877917539738,0.50530900251318334,0.50530900251318334,18524,18524,15095,65819.583333333299,5.2096956959364955E-2,5.2096956959364955E-2,0.28143599612577325,0.28143599612577325]
["ERTH Power Corporation",62239.35,62239.35,39803.1,58173.75,0.38567652936247021,0.38567652936247021,1.0698871913878683,1.0698871913878683,19900,19900,11728,58173.75,0.14047573003287564,0.14047573003287564,0.34207868669288122,0.34207868669288122]
["Espanola Regional Hydro Distribution Corporation",920.75,920.75,377,3297,0.16492265696087352,0.16492265696087352,0.27926903245374585,0.27926903245374585,221,221,13,3297,6.3087655444343346E-2,6.3087655444343346E-2,6.7030633909614806E-2,6.7030633909614806E-2]
["Essex Powerlines Corporation",243696.53,243696.53,188982.67,30051.5,1.8206698500906773,1.8206698500906773,8.1092967073191016,8.1092967073191016,173225,173225,134448,30051.5,1.2903515631499261,1.2903515631499261,5.7642713342096066,5.7642713342096066]
["Festival Hydro Inc.",99634.44,35710.200000000004,16105.630000000005,21258,0.92222081098880415,3.9292882679461849,1.6798475867908553,4.6869150437482361,66354,32881,17295,21258,0.73318280176874584,2.3077900084674003,1.5467588672499766,3.1213660739486313]
["Fort Frances Power Corporation",20260.37,20260.37,19608.75,3744.3333333333298,0.17402830944538403,0.17402830944538403,5.4109418677112124,5.4109418677112124,4291,4291,3735,3744.3333333333298,0.1484910531469778,0.1484910531469778,1.1459983975785641,1.1459983975785641]
["Greater Sudbury Hydro Inc.",127678.42,69187.62,2475.92,47908.333333333299,1.3924863454513838,2.6133762393459752,1.4441667072534363,2.6650566011480277,75982,69210,1835,47908.333333333299,1.4063315359192914,1.5476848147503925,1.4446338493651081,1.5859871281962092]
["Grimsby Power Incorporated",23170.62,23170.62,3253,11543.416666666701,1.7254527472368759,1.7254527472368759,2.0072583940341118,2.0072583940341118,15790,15790,2271,11543.416666666701,1.1711437255001012,1.1711437255001012,1.3678792385270062,1.3678792385270062]
["Halton Hills Hydro Inc.",35039.089999999997,35039.089999999997,1378.04,22814.833333333299,1.4754019680178851,1.4754019680178851,1.5358030228871589,1.5358030228871589,39507,39507,2982,22814.833333333299,1.6009321421005365,1.6009321421005365,1.7316365814638164,1.7316365814638164]
["Hearst Power Distribution Company Limited",12667.188799999998,12667.188799999998,5263.7404000000006,2768,2.6746562138728316,2.6746562138728316,4.5762965317919067,4.5762965317919067,11728,11728,5930,2768,2.0946531791907512,2.0946531791907512,4.2369942196531793,4.2369942196531793]
["Hydro 2000 Inc.",50,50,3,1260.25,3.7294187661178341E-2,3.7294187661178341E-2,3.9674667724657803E-2,3.9674667724657803E-2,2287,2287,1267,1260.25,0.80936322158301921,0.80936322158301921,1.8147193017258481,1.8147193017258481]
["Hydro Hawkesbury Inc.",62435.757999999994,62435.757999999994,46176.95,5560,2.9242460431654673,2.9242460431654673,11.22945287769784,11.22945287769784,31030,31030,20359,5560,1.9192446043165468,1.9192446043165468,5.5809352517985609,5.5809352517985609]
["Hydro One Networks Inc. 2020",31802101.560000006,10653138.060000002,1161443.6299999997,1428716.58333333,6.6435110649132305,21.446281430087748,7.4564390056600525,22.259209370834569,6066921,4072629,935755,1428716.58333333,2.1955887098905076,3.5914512786213399,2.8505506602983317,4.2464132290291641]
["Hydro Ottawa Limited",7615767,304803,21123,333610.66666666698,0.85033252334057985,22.764991527049474,0.9136488441616567,22.828307847870551,677019,342048,80678,333610.66666666698,0.78345816280854252,1.7875357702391594,1.0252909579230072,2.0293685653536238]
["Innpower Corporation",92313.241361100008,54397.241361099994,6929.62,17874.333333333299,2.6556303094437133,4.7768842489845875,3.0433158175279318,5.1645697570688052,24013,17275,1501,17874.333333333299,0.88249445200753573,1.2594595602633223,0.96646961192025993,1.3434347201760464]
["Kingston Hydro Corporation",49182,49182,7810,27560.583333333299,1.5011293302330944,1.5011293302330944,1.7845050449464384,1.7845050449464384,42083,42083,14400,27560.583333333299,1.0044417298859798,1.0044417298859798,1.5269270425456665,1.5269270425456665]
["Kitchener-Wilmot Hydro Inc.",165072.08000000002,68660.640000000014,1105.18,97119.583333333299,0.69559050483295981,1.6882990471369068,0.7069700841316765,1.6996786264356236,143504,100931,6545,97119.583333333299,0.97185342811911468,1.4102099216172508,1.0392445739144616,1.4776010674125974]
["Lakefront Utilities Inc.",5573.02,5573.02,2164.67,10508.5,0.32434219917209883,0.32434219917209883,0.53033449112623121,0.53033449112623121,2879,2879,1585,10508.5,0.12313841176190703,0.12313841176190703,0.27396869201122903,0.27396869201122903]
["Lakeland Power Distribution Ltd.",127783.07800000001,101939.24800000002,63458.290000000008,13644,2.820357519788919,4.7145109938434473,7.4713608912342435,9.3655143652887727,57074,54448,33966,13644,1.501172676634418,1.6936382292582821,3.9906185869246555,4.1830841395485194]
["London Hydro Inc.",226899.56,142088.24,11823.439999999999,158106.58333333299,0.82390497127728879,1.3603236213545848,0.8986864240841772,1.4351050741614733,348412,283494,62633,158106.58333333299,1.3969121041238561,1.8075085424969166,1.7930562663688405,2.2036527047419008]
["Milton Hydro Distribution Inc.",118001,34424,5221,39319.75,0.74270563775202025,2.868278664030163,0.87548878108329786,3.0010618073614403,71993,38279,5587,39319.75,0.83143967090329918,1.6888713687141959,0.97353111349894139,1.830962811309838]
["Newmarket-Tay Power Distribution Ltd.",61497.84,42132.57,13542.899999999998,43261,0.6608647511615543,1.1085028085342457,0.97391576708813943,1.4215538244608308,62360,41139,7225,43261,0.78393934490649775,1.2744735443008715,0.95094889161138207,1.4414830910057557]
["Niagara Peninsula Energy Inc.",131271.247,131271.247,20672.05,55810.833333333299,1.9816797276514428,1.9816797276514428,2.3520746629238665,2.3520746629238665,110389,110389,18202,55810.833333333299,1.6517760888716357,1.6517760888716357,1.9779134875248245,1.9779134875248245]
["Niagara-on-the-Lake Hydro Inc.",11698.699999999999,11698.699999999999,4510,9422.1666666666697,0.76295614950559809,0.76295614950559809,1.2416146321617456,1.2416146321617456,6807,6807,2255,9422.1666666666697,0.48311605610882125,0.48311605610882125,0.72244529743689501,0.72244529743689501]
["North Bay Hydro Distribution Limited",53302.85,53302.85,5914.33,24262,1.9531992416123978,1.9531992416123978,2.1969685104278294,2.1969685104278294,38030,38030,3966,24262,1.4040062649410601,1.4040062649410601,1.5674717665485121,1.5674717665485121]
["Northern Ontario Wires Inc.",72398.350000000006,72398.350000000006,44221.5,5961.5,4.7264698481925702,4.7264698481925702,12.144317705275519,12.144317705275519,15355,15355,6586,5961.5,1.4709385221840141,1.4709385221840141,2.5756940367357211,2.5756940367357211]
["Oakville Hydro Electricity Distribution Inc.",55499.31,47274.86,2269.1800000000003,72059,0.62456709085610407,0.73870203583174898,0.65605767496079603,0.77019261993644095,102335,72830,14985,72059,0.80274497286945423,1.2122011129768662,1.0106995656337168,1.4201557057411287]
["Orangeville Hydro Limited",4924.8,4924.8,1215.7,12602.333333333299,0.29431851244478618,0.29431851244478618,0.39078477530616129,0.39078477530616129,4409,4409,2353,12602.333333333299,0.163144391250298,0.163144391250298,0.34985584680085791,0.34985584680085791]
["Oshawa PUC Networks Inc.",114547,78874,716,58325.75,1.3400256319035759,1.9516422849256116,1.352301513482467,1.9639181665045027,99919,79339,4297,58325.75,1.2866015439149947,1.6394474138780899,1.3602739784743445,1.7131198484374397]
["Ottawa River Power Corporation",19422.650000000005,19422.650000000005,13474.41,11233.25,0.52952084214274631,0.52952084214274631,1.7290321144815619,1.7290321144815619,14477,14477,11750,11233.25,0.2427614448178399,0.2427614448178399,1.288763269757194,1.288763269757194]
["PUC Distribution Inc.",78698.84,42903.040000000008,0,33653.916666666701,1.2748305174979624,2.3384749174811228,1.2748305174979624,2.3384749174811228,58920,43221,0,33653.916666666701,1.2842784519880042,1.7507620460223781,1.2842784519880042,1.7507620460223781]
["Renfrew Hydro Inc.",14016.4,14016.4,6374.06,4307.0833333333303,1.7743654832156341,1.7743654832156341,3.2542671955112725,3.2542671955112725,16433,16433,12918,4307.0833333333303,0.81609751378543161,0.81609751378543161,3.8153429428267418,3.8153429428267418]
["Rideau St. Lawrence Distribution Inc.",19686,19686,16963,5996.75,0.4540792929503481,0.4540792929503481,3.2827781715095679,3.2827781715095679,10577,10577,9007,5996.75,0.26180847959311293,0.26180847959311293,1.7637887188893984,1.7637887188893984]
["Sioux Lookout Hydro Inc.",3999.03,3999.03,0,2843.9166666666702,1.4061698948046983,1.4061698948046983,1.4061698948046983,1.4061698948046983,2205,2205,0,2843.9166666666702,0.7753391742608482,0.7753391742608482,0.7753391742608482,0.7753391742608482]
["Synergy North Corporation",145367.21,145367.21,25747.75,56420.75,2.1201323980982174,2.1201323980982174,2.5764848925262425,2.5764848925262425,185834,185834,38748,56420.75,2.6069486846594558,2.6069486846594558,3.2937172937261558,3.2937172937261558]
["Tillsonburg Hydro Inc.",14939.606,14939.606,1651.05,7280.8333333333303,1.8251421769486103,1.8251421769486103,2.0519088016481639,2.0519088016481639,31305,31305,14676,7280.8333333333303,2.2839418564724743,2.2839418564724743,4.299645187135174,4.299645187135174]
["Toronto Hydro-Electric System Limited",2117233.1733299997,751700.35659999982,131948.78330000001,764126.41666666698,0.8110589554062656,2.5981098764918573,0.98373821425926733,2.770789135344859,1560818,1133057,263344,764126.41666666698,1.1381794700855012,1.6979834379498935,1.4828135440503567,2.0426175119147487]
["Wasaga Distribution Inc.",52954.2,10735.2,0,13729.166666666701,0.781926555386948,3.8570585735963485,0.781926555386948,3.8570585735963485,35795,8489,0,13729.166666666701,0.61831866464339758,2.607223065250373,0.61831866464339758,2.607223065250373]
["Waterloo North Hydro Inc.",119365.89,52970.14,367.56000000000131,57196.916666666701,0.91967509903651512,2.0805025329162543,0.92610131956413677,2.0869287534438761,106624,81290,5812,57196.916666666701,1.3196165877239878,1.7625425612977379,1.4212304567699592,1.864156430343709]
["Welland Hydro-Electric System Corp.",33947.47,33947.47,0,23191.666666666701,1.4637787998562681,1.4637787998562681,1.4637787998562681,1.4637787998562681,39537,39537,0,23191.666666666701,1.7047933884297495,1.7047933884297495,1.7047933884297495,1.7047933884297495]
["Wellington North Power Inc.",38394.210000000006,16518.580000000005,15919.380000000005,3826.75,0.15658195596785804,5.8730855164303915,4.3166080878029671,10.033111648265502,17241,11824,10554,3826.75,0.33187430587312994,1.7474358136800157,3.0898281831841641,4.5053896909910502]
["Westario Power Inc.",35819.58,35819.58,22188,23536.666666666701,0.57916357456450851,0.57916357456450851,1.5218629089364091,1.5218629089364091,11660,11660,6709,23536.666666666701,0.21035264126894176,0.21035264126894176,0.49539725251380751,0.49539725251380751]

{"sheet":"2019 Adjusted SAIDI and SAIFI","index":28,"n_rows":59,"n_cols":17,"rows_kept":59,"cut":false,"hidden":true,"merged":[]}
[null,null,null,null,null,"SAIDI","SAIDI","SAIDI","SAIDI",null,null,null,null,"SAIFI","SAIFI","SAIFI","SAIFI"]
[2019,"Total Events Sub Total","Non-Major Events Sub Total","Loss of Supply Non-Major Events","Average Number of Customers","Excluding loss of supply (LOS) and major event days (MED)","Including MED, excluding LOS","Including LOS, excluding MED","Including LOS and MED","Total Events Sub Total","Non-Major Events Sub Total","Loss of Supply Non-Major Events","Average Number of Customers","Excluding loss of supply (LOS) and major event days (MED)","Including MED, excluding LOS","Including LOS, excluding MED","Including LOS and MED"]
["Alectra Utilities Corporation",1475040,1210854.3299999998,77603,1056131.83333333,{"$f":"(C3-D3)/E3","v":1.0730207103248348},{"$f":"(B3-D3)/E3","v":1.3231653055939554},{"$f":"(C3)/E3","v":1.1464992265012404},{"$f":"B3/E3","v":1.3966438217703609},1626406,1587227,254378,1056131.83333333,{"$f":"(K3-L3)/M3","v":1.2620100615595535},{"$f":"(J3-L3)/M3","v":1.2991067560852214},{"$f":"(K3)/M3","v":1.5028682498760066},{"$f":"J3/M3","v":1.5399649444016743}]
["Algoma Power Inc.",190657.25999999998,116580.95000000001,30521.919999999998,11744,{"$f":"(C4-D4)/E4","v":7.3279146798365131},{"$f":"(B4-D4)/E4","v":13.635502384196183},{"$f":"(C4)/E4","v":9.9268520095367858},{"$f":"B4/E4","v":16.234439713896457},57770,47552,7708,11744,{"$f":"(K4-L4)/M4","v":3.3927111716621252},{"$f":"(J4-L4)/M4","v":4.2627724795640329},{"$f":"(K4)/M4","v":4.0490463215258856},{"$f":"J4/M4","v":4.9191076294277929}]
["Atikokan Hydro Inc.",1017.4967,1017.4967,330,1632.6666666666699,0.42108821968150184,0.42108821968150184,0.62321153532053775,0.62321153532053775,1954,1954,1650,1632.6666666666699,0.18619844834626342,0.18619844834626342,1.196815026541443,1.196815026541443]
["Bluewater Power Distribution Corporation",123487.83,123487.83,54253.02,36874.75,1.8775668987586356,1.8775668987586356,3.3488452125099153,3.3488452125099153,107941,107941,38989,36874.75,1.8698974230333765,1.8698974230333765,2.9272334049722373,2.9272334049722373]
["Brantford Power Inc.",43907,43907,18999,39993,0.62280899157352532,0.62280899157352532,1.0978671267471807,1.0978671267471807,54653,54653,10655,39993,1.1001425249418648,1.1001425249418648,1.3665641487260272,1.3665641487260272]
["Burlington Hydro Inc.",142592.10000000003,72145.400000000009,451.1,68111.916666666701,1.0525955443430721,2.0868741764473415,1.0592184676445502,2.0934970997488196,96540,51381,134,68111.916666666701,0.75239403775403924,1.4154057721177027,0.75436138805862374,1.4173731224222872]
["Canadian Niagara Power Inc.",334811.64999999997,122511.04000000001,34034.240000000005,29431,3.0062451156943362,10.219748224661071,4.1626529849478446,11.376156093914579,102466,70577,11680,29431,2.0011892222486494,3.084706601882369,2.3980496755122149,3.4815670551459346]
["Centre Wellington Hydro Ltd.",3168.52,3168.52,0,7113.3333333333303,0.44543392689784461,0.44543392689784461,0.44543392689784461,0.44543392689784461,3415,3415,0,7113.3333333333303,0.48008434864104987,0.48008434864104987,0.48008434864104987,0.48008434864104987]
["Chapleau Public Utilities Corporation",47472.5,47472.5,38942,1233.6666666666699,6.9147527695217326,6.9147527695217326,38.480815995676743,38.480815995676743,6243,6243,3082,1233.6666666666699,2.5622804647392527,2.5622804647392527,5.0605241826533236,5.0605241826533236]
["Cooperative Hydro Embrun Inc.",62.5,62.5,0,2335.4166666666702,2.6761819803746614E-2,2.6761819803746614E-2,2.6761819803746614E-2,2.6761819803746614E-2,204,204,0,2335.4166666666702,8.7350579839428955E-2,8.7350579839428955E-2,8.7350579839428955E-2,8.7350579839428955E-2]
["E.L.K. Energy Inc.",32152.466999999997,32152.466999999997,9784.07,12105.583333333299,1.8477752276842003,1.8477752276842003,2.6560031115119127,2.6560031115119127,15895,15895,7154,12105.583333333299,0.72206351063903218,0.72206351063903218,1.3130304886863537,1.3130304886863537]
["Elexicon Energy Inc.",273498.3,273498.3,49447.5,91263.583333333299,2.4549857875037788,2.4549857875037788,2.9967955455032733,2.9967955455032733,213415,213415,37442,91263.583333333299,1.9281842063692809,1.9281842063692809,2.3384464230438766,2.3384464230438766]
["Energy Plus Inc.",74913.110000000015,74913.110000000015,13319.999999999998,17670.416666666701,3.485662571623942,3.485662571623942,4.2394648305784077,4.2394648305784077,129928,129928,28020,17670.416666666701,5.7671531986134905,5.7671531986134905,7.3528543469546417,7.3528543469546417]
["Entegrus Powerlines Inc.",200185.74000000002,200185.74000000002,97182.200000000012,23925.75,4.305133172418838,4.305133172418838,8.3669577756183209,8.3669577756183209,118419,118419,57545,23925.75,2.5442880578456264,2.5442880578456264,4.9494373217140533,4.9494373217140533]
["EnWin Utilities Ltd.",88240.639999999999,88240.639999999999,8333.5,167322,0.47756505420685863,0.47756505420685863,0.52737022029380476,0.52737022029380476,230034,230034,26577,167322,1.2159608419693764,1.2159608419693764,1.3747982931114857,1.3747982931114857]
["EPCOR Electricity Distribution Ontario Inc.",62952.88,62952.88,33792.1,66749.583333333299,0.43686834499591154,0.43686834499591154,0.94312019425839155,0.94312019425839155,29945,29945,15502,66749.583333333299,0.21637588249614553,0.21637588249614553,0.44861703256574659,0.44861703256574659]
["ERTH Power Corporation",65078.200000000012,65078.200000000012,42636.200000000004,59441.083333333299,0.37755031943394962,0.37755031943394962,1.0948353621863673,1.0948353621863673,29218,29218,15830,59441.083333333299,0.22523142663673987,0.22523142663673987,0.49154555000539779,0.49154555000539779]
["Espanola Regional Hydro Distribution Corporation",1793.4,1793.4,635.20000000000005,3292,0.35182260024301337,0.35182260024301337,0.54477521263669504,0.54477521263669504,866,866,320,3292,0.16585662211421628,0.16585662211421628,0.26306196840826246,0.26306196840826246]
["Essex Powerlines Corporation",94893.23000000001,94893.23000000001,56317.75,30364.583333333299,1.2704103190394529,1.2704103190394529,3.1251286723842235,3.1251286723842235,70912,70912,45323,30364.583333333299,0.84272521440823422,0.84272521440823422,2.335352315608922,2.335352315608922]
["Festival Hydro Inc.",47684.549000000006,47684.549000000006,9236.3170000000009,21515.5,1.7870015570170343,1.7870015570170343,2.2162882108247546,2.2162882108247546,58778,58778,20431,21515.5,1.7822964839301898,1.7822964839301898,2.7318909623294836,2.7318909623294836]
["Fort Frances Power Corporation",2036.8666663920001,2036.8666663920001,0,3756.3333333333298,0.54224864665684669,0.54224864665684669,0.54224864665684669,0.54224864665684669,5232,5232,0,3756.3333333333298,1.3928476351051571,1.3928476351051571,1.3928476351051571,1.3928476351051571]
["Greater Sudbury Hydro Inc.",115271.58000000002,115271.58000000002,24622.97,48072.333333333299,1.8856711067349914,1.8856711067349914,2.3978777813988663,2.3978777813988663,54976,54976,5515,48072.333333333299,1.0288870244145982,1.0288870244145982,1.1436099766324366,1.1436099766324366]
["Grimsby Power Incorporated",64665.369999999995,64665.369999999995,6257.58,11679.25,5.0009880771453643,5.0009880771453643,5.5367741935483865,5.5367741935483865,46371,46371,6155,11679.25,3.4433717918530728,3.4433717918530728,3.9703748100263287,3.9703748100263287]
["Halton Hills Hydro Inc.",37140.950000000004,37140.950000000004,200.2,23046.083333333299,1.6029079416965311,1.6029079416965311,1.6115948841632552,1.6115948841632552,42148,42148,3003,23046.083333333299,1.6985532610385738,1.6985532610385738,1.8288573980394383,1.8288573980394383]
["Hearst Power Distribution Company Limited",30366.613899999997,30366.613899999997,23508.137999999999,2760,2.4849550362318831,2.4849550362318831,11.002396340579709,11.002396340579709,11904,11904,8656,2760,1.1768115942028985,1.1768115942028985,4.3130434782608695,4.3130434782608695]
["Hydro 2000 Inc.",29.274999999999999,29.274999999999999,4,1228.9166666666699,2.0566894961687066E-2,2.0566894961687066E-2,2.3821794263239916E-2,2.3821794263239916E-2,2079,2079,725,1228.9166666666699,1.1017834135756397,1.1017834135756397,1.6917339119820936,1.6917339119820936]
["Hydro Hawkesbury Inc.",21803.63,21803.63,16169.5,5578.1666666666697,1.0100325674504762,1.0100325674504762,3.9087448086288785,3.9087448086288785,6447,6447,2658,5578.1666666666697,0.67925543039827863,0.67925543039827863,1.1557560727837695,1.1557560727837695]
["Hydro One Networks Inc. 2020",13922803.419,11211993.698999999,1375845.4667,1440289.91666667,6.8292835480402818,8.711411367329438,7.7845394661572289,9.6666672854463851,4920855,4473506,935434,1440289.91666667,2.4564998748226503,2.7670963698917266,3.1059760595653154,3.4165725546343917]
["Hydro Ottawa Limited",438470,301361,42548,337403.25,0.76707322765859542,1.1734386079565031,0.89317752570551712,1.2995429060034247,365026,296730,44089,337403.25,0.74878057635781514,0.95119712095245079,0.8794521096047534,1.0818686541993889]
["Innpower Corporation",29280.240000000005,29280.240000000005,784.7,18705,1.5234183373429566,1.5234183373429566,1.5653696872493987,1.5653696872493987,11845,11845,413,18705,0.61117348302592889,0.61117348302592889,0.6332531408714247,0.6332531408714247]
["Kingston Hydro Corporation",59971,24201,0,27657,0.87504067686300036,2.1683841342155694,0.87504067686300036,2.1683841342155694,26832,20057,0,27657,0.72520519217557944,0.97017030046642805,0.72520519217557944,0.97017030046642805]
["Kitchener-Wilmot Hydro Inc.",114778.88999999998,99692.56,47.55,98095.833333333299,1.0157924818417368,1.1695842331053818,1.0162772119101222,1.1700689631737673,112838,104093,1214,98095.833333333299,1.0487601410185621,1.1379076583273164,1.0611357940789199,1.150283311387674]
["Lakefront Utilities Inc.",35942.58,35942.58,27885.82,10596.75,0.76030481043716258,0.76030481043716258,3.3918493877839904,3.3918493877839904,15975,15975,8732,10596.75,0.68351145398353264,0.68351145398353264,1.5075376884422111,1.5075376884422111]
["Lakeland Power Distribution Ltd.",105695.43700000001,105695.43700000001,87915.81700000001,13783.333333333299,1.2899361547763026,1.2899361547763026,7.6683509310761986,7.6683509310761986,51209,51209,42095,13783.333333333299,0.66123337363966306,0.66123337363966306,3.7152841596130686,3.7152841596130686]
["London Hydro Inc.",218878.1,142280.70000000001,15037.349999999999,159806.25,0.79623512847588884,1.2755492979780203,0.89033251202628194,1.3696466815284134,334525,274059,91800,159806.25,1.1404998240056319,1.5188705072548789,1.7149454417458641,2.0933161249951113]
["Milton Hydro Distribution Inc.",15199,15199,1828,40562.166666666701,0.32964215422417414,0.32964215422417414,0.37470878034950433,0.37470878034950433,33725,33725,10218,40562.166666666701,0.57953018617512986,0.57953018617512986,0.83143980638772519,0.83143980638772519]
["Newmarket-Tay Power Distribution Ltd.",66628.87,61300.92,26958.14,43892.5,0.78242934442102863,0.90381568605114759,1.396614911431338,1.5180012530614568,51556,46923,16028,43892.5,0.70387879478270776,0.8094321353306374,1.0690436862789769,1.1745970268269066]
["Niagara Peninsula Energy Inc.",136032.21000000002,136032.21000000002,22408.83,56024.833333333299,2.0280895674239714,2.0280895674239714,2.4280698737762143,2.4280698737762143,102548,102548,11432,56024.833333333299,1.6263502196942436,1.6263502196942436,1.8304025893279479,1.8304025893279479]
["Niagara-on-the-Lake Hydro Inc.",4798.8999999999996,4798.8999999999996,0,9537.25,0.50317439513486584,0.50317439513486584,0.50317439513486584,0.50317439513486584,3653,3653,0,9537.25,0.38302445673543212,0.38302445673543212,0.38302445673543212,0.38302445673543212]
["North Bay Hydro Distribution Limited",42626.98,42626.98,14488.57,24325.416666666701,1.1567493533855178,1.1567493533855178,1.7523638169952529,1.7523638169952529,93620,93620,60864,24325.416666666701,1.3465750843596356,1.3465750843596356,3.8486493893561207,3.8486493893561207]
["Northern Ontario Wires Inc.",27273.5,27273.5,10182,5961.25,2.8671000209687567,2.8671000209687567,4.5751310547284545,4.5751310547284545,16521,16521,6787,5961.25,1.6328790102746906,1.6328790102746906,2.7713986160620676,2.7713986160620676]
["Oakville Hydro Electricity Distribution Inc.",58015.840000000004,58015.840000000004,3708.6,73316.916666666701,0.74071909279690995,0.74071909279690995,0.79130223470481431,0.79130223470481431,98884,98884,11364,73316.916666666701,1.1937217763522057,1.1937217763522057,1.3487201112067126,1.3487201112067126]
["Orangeville Hydro Limited",13307.390000000001,13307.390000000001,9147.35,12697.666666666701,0.32762239781587088,0.32762239781587088,1.0480185335888457,1.0480185335888457,13582,13674,8779,12697.666666666701,0.38550389835402726,0.37825847268526924,1.0768907673325778,1.0696453416638199]
["Oshawa PUC Networks Inc.",58245,58245,0,59316.25,0.98194002486671017,0.98194002486671017,0.98194002486671017,0.98194002486671017,64505,64505,0,59316.25,1.0874760289128189,1.0874760289128189,1.0874760289128189,1.0874760289128189]
["Ottawa River Power Corporation",245269.87,245269.87,159734.69,11358.25,7.5306653753879331,7.5306653753879331,21.593984108467414,21.593984108467414,37804,37804,22510,11358.25,1.3465102458565359,1.3465102458565359,3.3283296282437878,3.3283296282437878]
["PUC Distribution Inc.",437843.98,41591.089999999989,2868.56,33587.333333333299,1.1528908715587234,12.950579186598135,1.2382968777912318,13.035985192830644,115191,44429,4465,33587.333333333299,1.1898533177189825,3.2966594549532595,1.3227903376272814,3.4295964748615586]
["Renfrew Hydro Inc.",2357.5500000000002,2357.5500000000002,360.02,4317.5,0.46265894614939207,0.46265894614939207,0.54604516502605682,0.54604516502605682,5314,5314,4322,4317.5,0.22976259409380428,0.22976259409380428,1.2308048639258831,1.2308048639258831]
["Rideau St. Lawrence Distribution Inc.",25100.5,25100.5,16650,5917,1.4281730606726382,1.4281730606726382,4.2420990366739906,4.2420990366739906,10654,10654,6395,5917,0.71979043434172718,0.71979043434172718,1.8005746155146189,1.8005746155146189]
["Sioux Lookout Hydro Inc.",8912.3610000000008,8912.3610000000008,6498.4,2847.1666666666702,0.84784674822923312,0.84784674822923312,3.1302561610958226,3.1302561610958226,5679,5679,4344,2847.1666666666702,0.46888719779898086,0.46888719779898086,1.9946145290639794,1.9946145290639794]
["Synergy North Corporation",109602.62,109602.62,30181.33,56520.083333333299,1.4051870647749112,1.4051870647749112,1.939180084955054,1.939180084955054,157964,157964,30973,56520.083333333299,2.2468296667408798,2.2468296667408798,2.7948295664815328,2.7948295664815328]
["Tillsonburg Hydro Inc.",61632.273000000001,61632.273000000001,54547.32,7412.25,0.95584377213396765,0.95584377213396765,8.3149209754123241,8.3149209754123241,19046,19046,14860,7412.25,0.56474080070154131,0.56474080070154131,2.5695301696515904,2.5695301696515904]
["Toronto Hydro-Electric System Limited",628362.14633332845,628362.14633332845,68436.046666666254,769119.83333333302,0.72800892058649169,0.72800892058649169,0.81698861360788644,0.81698861360788644,999099,999099,162433,769119.83333333302,1.0878226821611461,1.0878226821611461,1.2990160397632018,1.2990160397632018]
["Wasaga Distribution Inc.",66330.600000000006,30098.6,10720,13940.25,1.3901185416330408,3.9892110973619559,2.1591147934936603,4.7582073492225749,30213,17251,8692,13940.25,0.61397751116371657,1.5438030164451857,1.2374957407507039,2.1673212460321731]
["Waterloo North Hydro Inc.",64851.67,51538.35,2597.85,57584.333333333299,0.84989262125693965,1.081089532453851,0.89500645430180714,1.1262033654987185,105869,94871,20767,57584.333333333299,1.2868777966229248,1.4778672439841865,1.64751408079744,1.8385035281587017]
["Welland Hydro-Electric System Corp.",42141.079999999994,42141.079999999994,1822.83,23531.166666666701,1.7133978340782055,1.7133978340782055,1.7908623315177714,1.7908623315177714,58424,58424,1645,23531.166666666701,2.4129275358212832,2.4129275358212832,2.4828348219028626,2.4828348219028626]
["Wellington North Power Inc.",3217.52,3217.52,2288.58,3834,0.24229003651538863,0.24229003651538863,0.83920709441836205,0.83920709441836205,7867,7867,7115,3834,0.1961398017736046,0.1961398017736046,2.0519040166927489,2.0519040166927489]
["Westario Power Inc.",108507.91,108507.91,82068,23658.5,1.1175649343787646,1.1175649343787646,4.5864239068410928,4.5864239068410928,28966,28966,19902,23658.5,0.38311811822389413,0.38311811822389413,1.224337975780375,1.224337975780375]

{"sheet":"2020","index":29,"n_rows":7,"n_cols":17,"rows_kept":7,"cut":false,"hidden":true,"merged":[[0,0,1,0],[0,1,0,8],[0,9,0,15]]}
["Distributor","SAIDI",null,null,null,null,null,null,null,"SAIFI"]
[null,"Total Events Sub Total","Non-Major Events Sub Total","Loss of Supply Non-Major Events","Average Number of Customers","Excluding loss of supply (LOS) and major event days (MED)","Including MED, excluding LOS","Including LOS, excluding MED","Including LOS and MED","Total Events Sub Total","Non-Major Events Sub Total","Loss of Supply Non-Major Events","Average Number of Customers","Excluding loss of supply (LOS) and major event days (MED)","Including MED, excluding LOS","Including LOS, excluding MED","Including LOS and MED"]
["E.L.K. Energy Inc.",71744.41,71744.41,27719.83,13169.1,{"$f":"(C3-D3)/E3","v":3.343021163177438},{"$f":"(B3-D3)/E3","v":3.343021163177438},{"$f":"(C3)/E3","v":5.4479356979596174},{"$f":"B3/E3","v":5.4479356979596174},28595,28595,13503,13169.1,{"$f":"(K3-L3)/M3","v":1.1460160527294956},{"$f":"(J3-L3)/M3","v":1.1460160527294956},{"$f":"(K3)/M3","v":2.1713708605751343},{"$f":"J3/M3","v":2.1713708605751343}]
["Grimsby Power Incorporated",7520.63,7520.63,0,11774,{"$f":"(C4-D4)/E4","v":0.63874893833871238},{"$f":"(B4-D4)/E4","v":0.63874893833871238},{"$f":"(C4)/E4","v":0.63874893833871238},{"$f":"B4/E4","v":0.63874893833871238},10887,10887,0,11774,{"$f":"(K4-L4)/M4","v":0.92466451503312386},{"$f":"(J4-L4)/M4","v":0.92466451503312386},{"$f":"(K4)/M4","v":0.92466451503312386},{"$f":"J4/M4","v":0.92466451503312386}]
["London Hydro Inc.",153227.57,153227.57,14930.11,161352,0.85711649065397411,0.85711649065397411,0.94964778868560662,0.94964778868560662,238675,238675,69357,161352,1.0493703207893301,1.0493703207893301,1.4792193465218901,1.4792193465218901]
["Ottawa River Power Corporation",30052.76,30052.76,23607.4,11411,0.56483743756024862,0.56483743756024862,2.6336657611077028,2.6336657611077028,69384,69384,63303,11411,0.53290684427306989,0.53290684427306989,6.0804486898606607,6.0804486898606607]
["Rideau St. Lawrence Distribution Inc.",12394.25,12394.25,11693.75,5912,0.11848782138024357,0.11848782138024357,2.096456359945873,2.096456359945873,8146,8146,7666,5912,8.1190798376184037E-2,8.1190798376184037E-2,1.3778755074424898,1.3778755074424898]

{"sheet":"App.2-H_Other_Oper_Rev","index":30,"n_rows":579,"n_cols":21,"rows_kept":579,"cut":false,"hidden":false,"merged":[[559,0,559,1],[560,0,560,1],[561,0,561,1],[562,0,562,1],[563,0,563,1],[550,0,550,1],[555,0,555,1],[556,0,556,1],[557,0,557,1],[558,0,558,1],[552,0,552,2],[578,0,578,1],[573,0,573,1],[574,0,574,1],[575,0,575,1],[576,0,576,1],[577,0,577,1],[564,0,564,1],[569,0,569,1],[570,0,570,1],[571,0,571,1],[572,0,572,1],[566,0,566,2],[547,0,547,1],[548,0,548,1],[549,0,549,1],[536,0,536,1],[541,0,541,1],[542,0,542,1],[543,0,543,1],[544,0,544,1],[531,0,531,1],[532,0,532,1],[533,0,533,1],[534,0,534,1],[535,0,535,1],[538,0,538,2],[545,0,545,1],[546,0,546,1],[522,0,522,1],[527,0,527,1],[528,0,528,1],[529,0,529,1],[530,0,530,1],[517,0,517,1],[518,0,518,1],[519,0,519,1],[520,0,520,1],[521,0,521,1],[524,0,524,2],[508,0,508,1],[513,0,513,1],[514,0,514,1],[515,0,515,1],[516,0,516,1],[503,0,503,1],[504,0,504,1],[505,0,505,1],[506,0,506,1],[507,0,507,1],[510,0,510,2],[494,0,494,1],[499,0,499,1],[500,0,500,1],[501,0,501,1],[502,0,502,1],[489,0,489,1],[490,0,490,1],[491,0,491,1],[492,0,492,1],[493,0,493,1],[496,0,496,2],[480,0,480,1],[485,0,485,1],[486,0,486,1],[487,0,487,1],[488,0,488,1],[475,0,475,1],[476,0,476,1],[477,0,477,1],[478,0,478,1],[479,0,479,1],[482,0,482,2],[466,0,466,1],[471,0,471,1],[472,0,472,1],[473,0,473,1],[474,0,474,1],[461,0,461,1],[462,0,462,1],[463,0,463,1],[464,0,464,1],[465,0,465,1],[468,0,468,2],[452,0,452,1],[457,0,457,1],[458,0,458,1],[459,0,459,1],[460,0,460,1],[447,0,447,1],[448,0,448,1],[449,0,449,1],[450,0,450,1],[451,0,451,1],[454,0,454,2],[438,0,438,1],[443,0,443,1],[444,0,444,1],[445,0,445,1],[446,0,446,1],[433,0,433,1],[434,0,434,1],[435,0,435,1],[436,0,436,1],[437,0,437,1],[440,0,440,2],[424,0,424,1],[429,0,429,1],[430,0,430,1],[431,0,431,1],[432,0,432,1],[419,0,419,1],[420,0,420,1],[421,0,421,1],[422,0,422,1],[423,0,423,1],[426,0,426,2],[410,0,410,1],[415,0,415,1],[416,0,416,1],[417,0,417,1],[418,0,418,1],[405,0,405,1],[406,0,406,1],[407,0,407,1],[408,0,408,1],[409,0,409,1],[412,0,412,2],[396,0,396,1],[401,0,401,1],[402,0,402,1],[403,0,403,1],[404,0,404,1],[391,0,391,1],[392,0,392,1],[393,0,393,1],[394,0,394,1],[395,0,395,1],[398,0,398,2],[382,0,382,1],[387,0,387,1],[388,0,388,1],[389,0,389,1],[390,0,390,1],[377,0,377,1],[378,0,378,1],[379,0,379,1],[380,0,380,1],[381,0,381,1],[384,0,384,2],[368,0,368,1],[373,0,373,1],[374,0,374,1],[375,0,375,1],[376,0,376,1],[363,0,363,1],[364,0,364,1],[365,0,365,1],[366,0,366,1],[367,0,367,1],[370,0,370,2],[354,0,354,1],[359,0,359,1],[360,0,360,1],[361,0,361,1],[362,0,362,1],[349,0,349,1],[350,0,350,1],[351,0,351,1],[352,0,352,1],[353,0,353,1],[356,0,356,2],[340,0,340,1],[345,0,345,1],[346,0,346,1],[347,0,347,1],[348,0,348,1],[335,0,335,1],[336,0,336,1],[337,0,337,1],[338,0,338,1],[339,0,339,1],[342,0,342,2],[326,0,326,1],[331,0,331,1],[332,0,332,1],[333,0,333,1],[334,0,334,1],[321,0,321,1],[322,0,322,1],[323,0,323,1],[324,0,324,1],[325,0,325,1],[328,0,328,2],[312,0,312,1],[317,0,317,1],[318,0,318,1],[319,0,319,1],[320,0,320,1],[307,0,307,1],[308,0,308,1],[309,0,309,1],[310,0,310,1],[311,0,311,1],[314,0,314,2],[298,0,298,1],[303,0,303,1],[304,0,304,1],[305,0,305,1],[306,0,306,1],[293,0,293,1],[294,0,294,1],[295,0,295,1],[296,0,296,1],[297,0,297,1],[300,0,300,2],[284,0,284,1],[289,0,289,1],[290,0,290,1],[291,0,291,1],[292,0,292,1],[279,0,279,1],[280,0,280,1],[281,0,281,1],[282,0,282,1],[283,0,283,1],[286,0,286,2],[270,0,270,1],[275,0,275,1],[276,0,276,1],[277,0,277,1],[278,0,278,1],[265,0,265,1],[266,0,266,1],[267,0,267,1],[268,0,268,1],[269,0,269,1],[272,0,272,2],[256,0,256,1],[261,0,261,1],[262,0,262,1],[263,0,263,1],[264,0,264,1],[251,0,251,1],[252,0,252,1],[253,0,253,1],[254,0,254,1],[255,0,255,1],[258,0,258,2],[242,0,242,1],[247,0,247,1],[248,0,248,1],[249,0,249,1],[250,0,250,1],[237,0,237,1],[238,0,238,1],[239,0,239,1],[240,0,240,1],[241,0,241,1],[244,0,244,2],[228,0,228,1],[233,0,233,1],[234,0,234,1],[235,0,235,1],[236,0,236,1],[223,0,223,1],[224,0,224,1],[225,0,225,1],[226,0,226,1],[227,0,227,1],[230,0,230,2],[214,0,214,1],[219,0,219,1],[220,0,220,1],[221,0,221,1],[222,0,222,1],[209,0,209,1],[210,0,210,1],[211,0,211,1],[212,0,212,1],[213,0,213,1],[216,0,216,2],[200,0,200,1],[205,0,205,1],[206,0,206,1],[207,0,207,1],[208,0,208,1],[195,0,195,1],[196,0,196,1],[197,0,197,1],[198,0,198,1],[199,0,199,1],[202,0,202,2],[186,0,186,1],[191,0,191,1],[192,0,192,1],[193,0,193,1],[194,0,194,1],[181,0,181,1],[182,0,182,1],[183,0,183,1],[184,0,184,1],[185,0,185,1],[188,0,188,2],[172,0,172,1],[177,0,177,1],[178,0,178,1],[179,0,179,1],[180,0,180,1],[167,0,167,1],[168,0,168,1],[169,0,169,1],[170,0,170,1],[171,0,171,1],[174,0,174,2],[158,0,158,1],[163,0,163,1],[164,0,164,1],[165,0,165,1],[166,0,166,1],[153,0,153,1],[154,0,154,1],[155,0,155,1],[156,0,156,1],[157,0,157,1],[160,0,160,2],[144,0,144,1],[149,0,149,1],[150,0,150,1],[151,0,151,1],[152,0,152,1],[129,0,129,1],[130,0,130,1],[136,0,136,1],[142,0,142,1],[143,0,143,1],[140,0,140,1],[141,0,141,1],[137,0,137,1],[138,0,138,1],[139,0,139,1],[135,0,135,1],[132,0,132,2],[146,0,146,2],[124,0,124,1],[125,0,125,1],[126,0,126,1],[127,0,127,1],[128,0,128,1],[78,0,78,11],[115,0,115,1],[107,0,107,1],[108,0,108,1],[109,0,109,1],[112,0,112,1],[113,0,113,1],[114,0,114,1],[110,0,110,1],[111,0,111,1],[116,0,116,1],[121,0,121,1],[122,0,122,1],[123,0,123,1],[92,0,92,1],[104,0,104,2],[118,0,118,2],[8,0,8,11],[9,0,9,11],[63,0,63,11],[64,0,64,1],[103,1,103,11],[88,0,88,1],[81,0,82,11],[87,0,87,1],[94,0,94,1],[89,0,89,1],[90,0,90,1],[91,0,91,1],[93,0,93,1],[99,1,99,11],[67,0,67,1],[68,0,68,1],[74,0,74,11],[65,0,65,1],[66,0,66,1],[73,0,73,11],[72,0,72,11],[71,0,71,11],[70,0,70,11],[100,2,100,9]]}
[null,null,null,null,null,null,null,null,null,null,"File Number:",{"$f":"EBNUMBER","v":"EB-2021-0052"}]
[null,null,null,null,null,null,null,null,null,null,"Exhibit:"]
[null,null,null,null,null,null,null,null,null,null,"Tab:"]
["TO BE UPDATED AT THE DRAFT RATE ORDER STAGE",null,null,null,null,null,null,null,null,null,"Schedule:"]
[null,null,null,null,null,null,null,null,null,null,"Page:"]
[]
[null,null,null,null,null,null,null,null,null,null,"Date:"]
[]
["Appendix 2-H"]
["Other Operating Revenue"]
[]
["USoA #","USoA Description",{"$f":"D13 - 1 &\" Actual\"&CHAR(178)","v":"2013 Actual²"},"2014 Actual²","2015 Actual²","2016 Actual²",{"$f":"H13 - 1 &\" Actual\"&CHAR(178)","v":"2017 Actual²"},{"$f":"I13 - 1 &\" Actual\"&CHAR(178)","v":"2018 Actual²"},{"$f":"I13 & \" Actual\" & CHAR(178)","v":"2019 Actual²"},{"$f":"J13& \" Actual\"","v":"2020 Actual"},"Bridge Year","Test Year",null,"CGAAP"]
[null,null,{"$f":"D13-1","v":2013},{"$f":"E13-1","v":2014},{"$f":"F13-1","v":2015},{"$f":"G13-1","v":2016},{"$f":"H13-1","v":2017},{"$f":"I13-1","v":2018},{"$f":"J13-1","v":2019},2020,{"$f":"BridgeYear","v":2021},{"$f":"TestYear","v":2022},null,"Enter Transition Year"]
[null,"Reporting Basis"]
[4082,"Retail Services Revenues",null,null,null,{"$f":"IFERROR(VLOOKUP($U15,Several_Accounts!$A:$I,5,FALSE),0)","v":-8024.3},{"$f":"IFERROR(VLOOKUP($U15,Several_Accounts!$A:$I,6,FALSE),0)","v":-8138.5},{"$f":"IFERROR(VLOOKUP($U15,Several_Accounts!$A:$I,7,FALSE),0)","v":-5933.5},{"$f":"IFERROR(VLOOKUP($U15,Several_Accounts!$A:$I,8,FALSE),0)","v":-11640.1},{"$f":"IFERROR(VLOOKUP($U15,Several_Accounts!$A:$I,9,FALSE),0)","v":-12251},-14635.02,-14635.02,null,null,null,null,null,null,null,null,{"$f":"'LDC Info'!$E$14 & \" \" &'App.2-H_Other_Oper_Rev'!A15","v":"Ottawa River Power Corporation 4082"}]
[4084,"Service Transaction Requests (STR) Revenues",null,null,null,{"$f":"IFERROR(VLOOKUP($U16,Several_Accounts!$A:$I,5,FALSE),0)","v":-17.75},{"$f":"IFERROR(VLOOKUP($U16,Several_Accounts!$A:$I,6,FALSE),0)","v":-14.75},{"$f":"IFERROR(VLOOKUP($U16,Several_Accounts!$A:$I,7,FALSE),0)","v":-7},{"$f":"IFERROR(VLOOKUP($U16,Several_Accounts!$A:$I,8,FALSE),0)","v":-30.25},{"$f":"IFERROR(VLOOKUP($U16,Several_Accounts!$A:$I,9,FALSE),0)","v":-24.89},-18.559999999999999,-18.559999999999999,null,null,null,null,null,null,null,null,{"$f":"'LDC Info'!$E$14 & \" \" &'App.2-H_Other_Oper_Rev'!A16","v":"Ottawa River Power Corporation 4084"}]
["4086","SSS Administration Revenue",null,null,null,{"$f":"IFERROR(VLOOKUP($U17,Several_Accounts!$A:$I,5,FALSE),0)","v":-31503.81},{"$f":"IFERROR(VLOOKUP($U17,Several_Accounts!$A:$I,6,FALSE),0)","v":-31843.07},{"$f":"IFERROR(VLOOKUP($U17,Several_Accounts!$A:$I,7,FALSE),0)","v":-32852.71},{"$f":"IFERROR(VLOOKUP($U17,Several_Accounts!$A:$I,8,FALSE),0)","v":-32916.44},{"$f":"IFERROR(VLOOKUP($U17,Several_Accounts!$A:$I,9,FALSE),0)","v":-33163.65},-33468.76,-33776.67,null,null,null,null,null,null,null,null,{"$f":"'LDC Info'!$E$14 & \" \" &'App.2-H_Other_Oper_Rev'!A17","v":"Ottawa River Power Corporation 4086"}]
[4090,"Electric Services Incidental to Energy Sales",null,null,null,{"$f":"IFERROR(VLOOKUP($U18,Several_Accounts!$A:$I,5,FALSE),0)","v":0},{"$f":"IFERROR(VLOOKUP($U18,Several_Accounts!$A:$I,6,FALSE),0)","v":0},{"$f":"IFERROR(VLOOKUP($U18,Several_Accounts!$A:$I,7,FALSE),0)","v":0},{"$f":"IFERROR(VLOOKUP($U18,Several_Accounts!$A:$I,8,FALSE),0)","v":0},{"$f":"IFERROR(VLOOKUP($U18,Several_Accounts!$A:$I,9,FALSE),0)","v":0},null,null,null,null,null,null,null,null,null,null,{"$f":"'LDC Info'!$E$14 & \" \" &'App.2-H_Other_Oper_Rev'!A18","v":"Ottawa River Power Corporation 4090"}]
[4205,"Interdepartmental Rents",null,null,null,{"$f":"IFERROR(VLOOKUP($U19,Several_Accounts!$A:$I,5,FALSE),0)","v":0},{"$f":"IFERROR(VLOOKUP($U19,Several_Accounts!$A:$I,6,FALSE),0)","v":0},{"$f":"IFERROR(VLOOKUP($U19,Several_Accounts!$A:$I,7,FALSE),0)","v":0},{"$f":"IFERROR(VLOOKUP($U19,Several_Accounts!$A:$I,8,FALSE),0)","v":0},{"$f":"IFERROR(VLOOKUP($U19,Several_Accounts!$A:$I,9,FALSE),0)","v":0},null,null,null,null,null,null,null,null,null,null,{"$f":"'LDC Info'!$E$14 & \" \" &'App.2-H_Other_Oper_Rev'!A19","v":"Ottawa River Power Corporation 4205"}]
[4210,"Rent from Electric Property",null,null,null,{"$f":"IFERROR(VLOOKUP($U20,Several_Accounts!$A:$I,5,FALSE),0)","v":-57774.83},{"$f":"IFERROR(VLOOKUP($U20,Several_Accounts!$A:$I,6,FALSE),0)","v":-57774.83},{"$f":"IFERROR(VLOOKUP($U20,Several_Accounts!$A:$I,7,FALSE),0)","v":-36428.15},{"$f":"IFERROR(VLOOKUP($U20,Several_Accounts!$A:$I,8,FALSE),0)","v":-44436.01},{"$f":"IFERROR(VLOOKUP($U20,Several_Accounts!$A:$I,9,FALSE),0)","v":-83946.6},-63295.199999999997,-124364.04,null,null,null,null,null,null,null,null,{"$f":"'LDC Info'!$E$14 & \" \" &'App.2-H_Other_Oper_Rev'!A20","v":"Ottawa River Power Corporation 4210"}]
[4215,"Other Utility Operating Income",null,null,null,{"$f":"IFERROR(VLOOKUP($U21,Several_Accounts!$A:$I,5,FALSE),0)","v":0},{"$f":"IFERROR(VLOOKUP($U21,Several_Accounts!$A:$I,6,FALSE),0)","v":0},{"$f":"IFERROR(VLOOKUP($U21,Several_Accounts!$A:$I,7,FALSE),0)","v":0},{"$f":"IFERROR(VLOOKUP($U21,Several_Accounts!$A:$I,8,FALSE),0)","v":0},{"$f":"IFERROR(VLOOKUP($U21,Several_Accounts!$A:$I,9,FALSE),0)","v":0},null,null,null,null,null,null,null,null,null,null,{"$f":"'LDC Info'!$E$14 & \" \" &'App.2-H_Other_Oper_Rev'!A21","v":"Ottawa River Power Corporation 4215"}]
[4220,"Other Electric Revenues",null,null,null,{"$f":"IFERROR(VLOOKUP($U22,Several_Accounts!$A:$I,5,FALSE),0)","v":0},{"$f":"IFERROR(VLOOKUP($U22,Several_Accounts!$A:$I,6,FALSE),0)","v":0},{"$f":"IFERROR(VLOOKUP($U22,Several_Accounts!$A:$I,7,FALSE),0)","v":0},{"$f":"IFERROR(VLOOKUP($U22,Several_Accounts!$A:$I,8,FALSE),0)","v":0},{"$f":"IFERROR(VLOOKUP($U22,Several_Accounts!$A:$I,9,FALSE),0)","v":0},null,null,null,null,null,null,null,null,null,null,{"$f":"'LDC Info'!$E$14 & \" \" &'App.2-H_Other_Oper_Rev'!A22","v":"Ottawa River Power Corporation 4220"}]
[4225,"Late Payment Charges",null,null,null,{"$f":"IFERROR(VLOOKUP($U23,Several_Accounts!$A:$I,5,FALSE),0)","v":-57075.93},{"$f":"IFERROR(VLOOKUP($U23,Several_Accounts!$A:$I,6,FALSE),0)","v":-55610.62},{"$f":"IFERROR(VLOOKUP($U23,Several_Accounts!$A:$I,7,FALSE),0)","v":-86747.77},{"$f":"IFERROR(VLOOKUP($U23,Several_Accounts!$A:$I,8,FALSE),0)","v":-47920.46},{"$f":"IFERROR(VLOOKUP($U23,Several_Accounts!$A:$I,9,FALSE),0)","v":-29687.91},-66986.58,-66986.58,null,null,null,null,null,null,null,null,{"$f":"'LDC Info'!$E$14 & \" \" &'App.2-H_Other_Oper_Rev'!A23","v":"Ottawa River Power Corporation 4225"}]
[4230,"Sales of Water and Water Power",null,null,null,{"$f":"IFERROR(VLOOKUP($U24,Several_Accounts!$A:$I,5,FALSE),0)","v":0},{"$f":"IFERROR(VLOOKUP($U24,Several_Accounts!$A:$I,6,FALSE),0)","v":0},{"$f":"IFERROR(VLOOKUP($U24,Several_Accounts!$A:$I,7,FALSE),0)","v":0},{"$f":"IFERROR(VLOOKUP($U24,Several_Accounts!$A:$I,8,FALSE),0)","v":0},{"$f":"IFERROR(VLOOKUP($U24,Several_Accounts!$A:$I,9,FALSE),0)","v":0},null,null,null,null,null,null,null,null,null,null,{"$f":"'LDC Info'!$E$14 & \" \" &'App.2-H_Other_Oper_Rev'!A24","v":"Ottawa River Power Corporation 4230"}]
[4235,"Miscellaneous Service Revenues",null,null,null,{"$f":"IFERROR(VLOOKUP($U25,Several_Accounts!$A:$I,5,FALSE),0)","v":-74072.759999999995},{"$f":"IFERROR(VLOOKUP($U25,Several_Accounts!$A:$I,6,FALSE),0)","v":-64248.07},{"$f":"IFERROR(VLOOKUP($U25,Several_Accounts!$A:$I,7,FALSE),0)","v":-61507.85},{"$f":"IFERROR(VLOOKUP($U25,Several_Accounts!$A:$I,8,FALSE),0)","v":-51647.33},{"$f":"IFERROR(VLOOKUP($U25,Several_Accounts!$A:$I,9,FALSE),0)","v":-49101.760000000002},-49000,-49000,null,null,null,null,null,null,null,null,{"$f":"'LDC Info'!$E$14 & \" \" &'App.2-H_Other_Oper_Rev'!A25","v":"Ottawa River Power Corporation 4235"}]
[4240,"Provision for Rate Refunds",null,null,null,{"$f":"IFERROR(VLOOKUP($U26,Several_Accounts!$A:$I,5,FALSE),0)","v":0},{"$f":"IFERROR(VLOOKUP($U26,Several_Accounts!$A:$I,6,FALSE),0)","v":0},{"$f":"IFERROR(VLOOKUP($U26,Several_Accounts!$A:$I,7,FALSE),0)","v":0},{"$f":"IFERROR(VLOOKUP($U26,Several_Accounts!$A:$I,8,FALSE),0)","v":0},{"$f":"IFERROR(VLOOKUP($U26,Several_Accounts!$A:$I,9,FALSE),0)","v":0},null,null,null,null,null,null,null,null,null,null,{"$f":"'LDC Info'!$E$14 & \" \" &'App.2-H_Other_Oper_Rev'!A26","v":"Ottawa River Power Corporation 4240"}]
[4245,"Government and Other Assistance Directly Credited to Income",null,null,null,{"$f":"IFERROR(VLOOKUP($U27,Several_Accounts!$A:$I,5,FALSE),0)","v":0},{"$f":"IFERROR(VLOOKUP($U27,Several_Accounts!$A:$I,6,FALSE),0)","v":0},{"$f":"IFERROR(VLOOKUP($U27,Several_Accounts!$A:$I,7,FALSE),0)","v":0},{"$f":"IFERROR(VLOOKUP($U27,Several_Accounts!$A:$I,8,FALSE),0)","v":0},{"$f":"IFERROR(VLOOKUP($U27,Several_Accounts!$A:$I,9,FALSE),0)","v":0},null,null,null,null,null,null,null,null,null,null,{"$f":"'LDC Info'!$E$14 & \" \" &'App.2-H_Other_Oper_Rev'!A27","v":"Ottawa River Power Corporation 4245"}]
[4305,"Regulatory Debits",null,null,null,{"$f":"IFERROR(VLOOKUP($U28,Several_Accounts!$A:$I,5,FALSE),0)","v":0},{"$f":"IFERROR(VLOOKUP($U28,Several_Accounts!$A:$I,6,FALSE),0)","v":0},{"$f":"IFERROR(VLOOKUP($U28,Several_Accounts!$A:$I,7,FALSE),0)","v":0},{"$f":"IFERROR(VLOOKUP($U28,Several_Accounts!$A:$I,8,FALSE),0)","v":0},{"$f":"IFERROR(VLOOKUP($U28,Several_Accounts!$A:$I,9,FALSE),0)","v":0},null,null,null,null,null,null,null,null,null,null,{"$f":"'LDC Info'!$E$14 & \" \" &'App.2-H_Other_Oper_Rev'!A28","v":"Ottawa River Power Corporation 4305"}]
[4310,"Regulatory Credits",null,null,null,{"$f":"IFERROR(VLOOKUP($U29,Several_Accounts!$A:$I,5,FALSE),0)","v":0},{"$f":"IFERROR(VLOOKUP($U29,Several_Accounts!$A:$I,6,FALSE),0)","v":0},{"$f":"IFERROR(VLOOKUP($U29,Several_Accounts!$A:$I,7,FALSE),0)","v":0},{"$f":"IFERROR(VLOOKUP($U29,Several_Accounts!$A:$I,8,FALSE),0)","v":0},{"$f":"IFERROR(VLOOKUP($U29,Several_Accounts!$A:$I,9,FALSE),0)","v":0},null,null,null,null,null,null,null,null,null,null,{"$f":"'LDC Info'!$E$14 & \" \" &'App.2-H_Other_Oper_Rev'!A29","v":"Ottawa River Power Corporation 4310"}]
[4315,"Revenues from Electric Plant Leased to Others",null,null,null,{"$f":"IFERROR(VLOOKUP($U30,Several_Accounts!$A:$I,5,FALSE),0)","v":0},{"$f":"IFERROR(VLOOKUP($U30,Several_Accounts!$A:$I,6,FALSE),0)","v":0},{"$f":"IFERROR(VLOOKUP($U30,Several_Accounts!$A:$I,7,FALSE),0)","v":0},{"$f":"IFERROR(VLOOKUP($U30,Several_Accounts!$A:$I,8,FALSE),0)","v":0},{"$f":"IFERROR(VLOOKUP($U30,Several_Accounts!$A:$I,9,FALSE),0)","v":0},null,null,null,null,null,null,null,null,null,null,{"$f":"'LDC Info'!$E$14 & \" \" &'App.2-H_Other_Oper_Rev'!A30","v":"Ottawa River Power Corporation 4315"}]
[4320,"Expenses of Electric Plant Leased to Others",null,null,null,{"$f":"IFERROR(VLOOKUP($U31,Several_Accounts!$A:$I,5,FALSE),0)","v":0},{"$f":"IFERROR(VLOOKUP($U31,Several_Accounts!$A:$I,6,FALSE),0)","v":0},{"$f":"IFERROR(VLOOKUP($U31,Several_Accounts!$A:$I,7,FALSE),0)","v":0},{"$f":"IFERROR(VLOOKUP($U31,Several_Accounts!$A:$I,8,FALSE),0)","v":0},{"$f":"IFERROR(VLOOKUP($U31,Several_Accounts!$A:$I,9,FALSE),0)","v":0},null,null,null,null,null,null,null,null,null,null,{"$f":"'LDC Info'!$E$14 & \" \" &'App.2-H_Other_Oper_Rev'!A31","v":"Ottawa River Power Corporation 4320"}]
[4325,"Revenues from Merchandise",null,null,null,{"$f":"IFERROR(VLOOKUP($U32,Several_Accounts!$A:$I,5,FALSE),0)","v":-53948.23},{"$f":"IFERROR(VLOOKUP($U32,Several_Accounts!$A:$I,6,FALSE),0)","v":-75818.44},{"$f":"IFERROR(VLOOKUP($U32,Several_Accounts!$A:$I,7,FALSE),0)","v":-405067.35},{"$f":"IFERROR(VLOOKUP($U32,Several_Accounts!$A:$I,8,FALSE),0)","v":0},{"$f":"IFERROR(VLOOKUP($U32,Several_Accounts!$A:$I,9,FALSE),0)","v":0},null,null,null,null,null,null,null,null,null,null,{"$f":"'LDC Info'!$E$14 & \" \" &'App.2-H_Other_Oper_Rev'!A32","v":"Ottawa River Power Corporation 4325"}]
[4330,"Costs and Expenses of Merchandising",null,null,null,{"$f":"IFERROR(VLOOKUP($U33,Several_Accounts!$A:$I,5,FALSE),0)","v":0},{"$f":"IFERROR(VLOOKUP($U33,Several_Accounts!$A:$I,6,FALSE),0)","v":0},{"$f":"IFERROR(VLOOKUP($U33,Several_Accounts!$A:$I,7,FALSE),0)","v":325881.59999999998},{"$f":"IFERROR(VLOOKUP($U33,Several_Accounts!$A:$I,8,FALSE),0)","v":0},{"$f":"IFERROR(VLOOKUP($U33,Several_Accounts!$A:$I,9,FALSE),0)","v":0},null,null,null,null,null,null,null,null,null,null,{"$f":"'LDC Info'!$E$14 & \" \" &'App.2-H_Other_Oper_Rev'!A33","v":"Ottawa River Power Corporation 4330"}]
[4335,"Profits and Losses from Financial Instrument Hedges",null,null,null,{"$f":"IFERROR(VLOOKUP($U34,Several_Accounts!$A:$I,5,FALSE),0)","v":0},{"$f":"IFERROR(VLOOKUP($U34,Several_Accounts!$A:$I,6,FALSE),0)","v":0},{"$f":"IFERROR(VLOOKUP($U34,Several_Accounts!$A:$I,7,FALSE),0)","v":0},{"$f":"IFERROR(VLOOKUP($U34,Several_Accounts!$A:$I,8,FALSE),0)","v":0},{"$f":"IFERROR(VLOOKUP($U34,Several_Accounts!$A:$I,9,FALSE),0)","v":0},null,null,null,null,null,null,null,null,null,null,{"$f":"'LDC Info'!$E$14 & \" \" &'App.2-H_Other_Oper_Rev'!A34","v":"Ottawa River Power Corporation 4335"}]
[4340,"Profits and Losses from Financial Instrument Investments",null,null,null,{"$f":"IFERROR(VLOOKUP($U35,Several_Accounts!$A:$I,5,FALSE),0)","v":0},{"$f":"IFERROR(VLOOKUP($U35,Several_Accounts!$A:$I,6,FALSE),0)","v":0},{"$f":"IFERROR(VLOOKUP($U35,Several_Accounts!$A:$I,7,FALSE),0)","v":0},{"$f":"IFERROR(VLOOKUP($U35,Several_Accounts!$A:$I,8,FALSE),0)","v":0},{"$f":"IFERROR(VLOOKUP($U35,Several_Accounts!$A:$I,9,FALSE),0)","v":0},null,null,null,null,null,null,null,null,null,null,{"$f":"'LDC Info'!$E$14 & \" \" &'App.2-H_Other_Oper_Rev'!A35","v":"Ottawa River Power Corporation 4340"}]
[4345,"Gains from Disposition of Future Use Utility Plant",null,null,null,{"$f":"IFERROR(VLOOKUP($U36,Several_Accounts!$A:$I,5,FALSE),0)","v":0},{"$f":"IFERROR(VLOOKUP($U36,Several_Accounts!$A:$I,6,FALSE),0)","v":0},{"$f":"IFERROR(VLOOKUP($U36,Several_Accounts!$A:$I,7,FALSE),0)","v":0},{"$f":"IFERROR(VLOOKUP($U36,Several_Accounts!$A:$I,8,FALSE),0)","v":0},{"$f":"IFERROR(VLOOKUP($U36,Several_Accounts!$A:$I,9,FALSE),0)","v":0},null,null,null,null,null,null,null,null,null,null,{"$f":"'LDC Info'!$E$14 & \" \" &'App.2-H_Other_Oper_Rev'!A36","v":"Ottawa River Power Corporation 4345"}]
[4350,"Losses from Disposition of Future Use Utility Plant",null,null,null,{"$f":"IFERROR(VLOOKUP($U37,Several_Accounts!$A:$I,5,FALSE),0)","v":0},{"$f":"IFERROR(VLOOKUP($U37,Several_Accounts!$A:$I,6,FALSE),0)","v":0},{"$f":"IFERROR(VLOOKUP($U37,Several_Accounts!$A:$I,7,FALSE),0)","v":0},{"$f":"IFERROR(VLOOKUP($U37,Several_Accounts!$A:$I,8,FALSE),0)","v":0},{"$f":"IFERROR(VLOOKUP($U37,Several_Accounts!$A:$I,9,FALSE),0)","v":0},null,null,null,null,null,null,null,null,null,null,{"$f":"'LDC Info'!$E$14 & \" \" &'App.2-H_Other_Oper_Rev'!A37","v":"Ottawa River Power Corporation 4350"}]
[4355,"Gain on Disposition of Utility and Other Property",null,null,null,{"$f":"IFERROR(VLOOKUP($U38,Several_Accounts!$A:$I,5,FALSE),0)","v":0},{"$f":"IFERROR(VLOOKUP($U38,Several_Accounts!$A:$I,6,FALSE),0)","v":-25000},{"$f":"IFERROR(VLOOKUP($U38,Several_Accounts!$A:$I,7,FALSE),0)","v":-3404.59},{"$f":"IFERROR(VLOOKUP($U38,Several_Accounts!$A:$I,8,FALSE),0)","v":-43872},{"$f":"IFERROR(VLOOKUP($U38,Several_Accounts!$A:$I,9,FALSE),0)","v":0},null,null,null,null,null,null,null,null,null,null,{"$f":"'LDC Info'!$E$14 & \" \" &'App.2-H_Other_Oper_Rev'!A38","v":"Ottawa River Power Corporation 4355"}]
[4357,"Gain from Retirement of Utility and Other Property",null,null,null,{"$f":"IFERROR(VLOOKUP($U39,Several_Accounts!$A:$I,5,FALSE),0)","v":0},{"$f":"IFERROR(VLOOKUP($U39,Several_Accounts!$A:$I,6,FALSE),0)","v":0},{"$f":"IFERROR(VLOOKUP($U39,Several_Accounts!$A:$I,7,FALSE),0)","v":0},{"$f":"IFERROR(VLOOKUP($U39,Several_Accounts!$A:$I,8,FALSE),0)","v":0},{"$f":"IFERROR(VLOOKUP($U39,Several_Accounts!$A:$I,9,FALSE),0)","v":0},null,null,null,null,null,null,null,null,null,null,{"$f":"'LDC Info'!$E$14 & \" \" &'App.2-H_Other_Oper_Rev'!A39","v":"Ottawa River Power Corporation 4357"}]
[4360,"Loss on Disposition of Utility and Other Property",null,null,null,{"$f":"IFERROR(VLOOKUP($U40,Several_Accounts!$A:$I,5,FALSE),0)","v":0},{"$f":"IFERROR(VLOOKUP($U40,Several_Accounts!$A:$I,6,FALSE),0)","v":0},{"$f":"IFERROR(VLOOKUP($U40,Several_Accounts!$A:$I,7,FALSE),0)","v":0},{"$f":"IFERROR(VLOOKUP($U40,Several_Accounts!$A:$I,8,FALSE),0)","v":0},{"$f":"IFERROR(VLOOKUP($U40,Several_Accounts!$A:$I,9,FALSE),0)","v":0},null,null,null,null,null,null,null,null,null,null,{"$f":"'LDC Info'!$E$14 & \" \" &'App.2-H_Other_Oper_Rev'!A40","v":"Ottawa River Power Corporation 4360"}]
[4362,"Loss from Retirement of Utility and Other Property",null,null,null,{"$f":"IFERROR(VLOOKUP($U41,Several_Accounts!$A:$I,5,FALSE),0)","v":0},{"$f":"IFERROR(VLOOKUP($U41,Several_Accounts!$A:$I,6,FALSE),0)","v":0},{"$f":"IFERROR(VLOOKUP($U41,Several_Accounts!$A:$I,7,FALSE),0)","v":0},{"$f":"IFERROR(VLOOKUP($U41,Several_Accounts!$A:$I,8,FALSE),0)","v":0},{"$f":"IFERROR(VLOOKUP($U41,Several_Accounts!$A:$I,9,FALSE),0)","v":0},null,null,null,null,null,null,null,null,null,null,{"$f":"'LDC Info'!$E$14 & \" \" &'App.2-H_Other_Oper_Rev'!A41","v":"Ottawa River Power Corporation 4362"}]
[4365,"Gains from Disposition of Allowances for Emission",null,null,null,{"$f":"IFERROR(VLOOKUP($U42,Several_Accounts!$A:$I,5,FALSE),0)","v":0},{"$f":"IFERROR(VLOOKUP($U42,Several_Accounts!$A:$I,6,FALSE),0)","v":0},{"$f":"IFERROR(VLOOKUP($U42,Several_Accounts!$A:$I,7,FALSE),0)","v":0},{"$f":"IFERROR(VLOOKUP($U42,Several_Accounts!$A:$I,8,FALSE),0)","v":0},{"$f":"IFERROR(VLOOKUP($U42,Several_Accounts!$A:$I,9,FALSE),0)","v":0},null,null,null,null,null,null,null,null,null,null,{"$f":"'LDC Info'!$E$14 & \" \" &'App.2-H_Other_Oper_Rev'!A42","v":"Ottawa River Power Corporation 4365"}]
[4370,"Losses from Disposition of Allowances for Emission",null,null,null,{"$f":"IFERROR(VLOOKUP($U43,Several_Accounts!$A:$I,5,FALSE),0)","v":0},{"$f":"IFERROR(VLOOKUP($U43,Several_Accounts!$A:$I,6,FALSE),0)","v":0},{"$f":"IFERROR(VLOOKUP($U43,Several_Accounts!$A:$I,7,FALSE),0)","v":0},{"$f":"IFERROR(VLOOKUP($U43,Several_Accounts!$A:$I,8,FALSE),0)","v":0},{"$f":"IFERROR(VLOOKUP($U43,Several_Accounts!$A:$I,9,FALSE),0)","v":0},null,null,null,null,null,null,null,null,null,null,{"$f":"'LDC Info'!$E$14 & \" \" &'App.2-H_Other_Oper_Rev'!A43","v":"Ottawa River Power Corporation 4370"}]
[4375,"Revenues from Non Rate-Regulated Utility Operations",null,null,null,{"$f":"IFERROR(VLOOKUP($U44,Several_Accounts!$A:$I,5,FALSE),0)","v":-1191.32},{"$f":"IFERROR(VLOOKUP($U44,Several_Accounts!$A:$I,6,FALSE),0)","v":-1372.37},{"$f":"IFERROR(VLOOKUP($U44,Several_Accounts!$A:$I,7,FALSE),0)","v":-147118.99},{"$f":"IFERROR(VLOOKUP($U44,Several_Accounts!$A:$I,8,FALSE),0)","v":-769422.36},{"$f":"IFERROR(VLOOKUP($U44,Several_Accounts!$A:$I,9,FALSE),0)","v":-481912.58},-400000,-400000,null,null,null,null,null,null,null,null,{"$f":"'LDC Info'!$E$14 & \" \" &'App.2-H_Other_Oper_Rev'!A44","v":"Ottawa River Power Corporation 4375"}]
[4380,"Expenses of Non Rate-Regulated Utility Operations",null,null,null,{"$f":"IFERROR(VLOOKUP($U45,Several_Accounts!$A:$I,5,FALSE),0)","v":0},{"$f":"IFERROR(VLOOKUP($U45,Several_Accounts!$A:$I,6,FALSE),0)","v":0},{"$f":"IFERROR(VLOOKUP($U45,Several_Accounts!$A:$I,7,FALSE),0)","v":38142.11},{"$f":"IFERROR(VLOOKUP($U45,Several_Accounts!$A:$I,8,FALSE),0)","v":682198.15},{"$f":"IFERROR(VLOOKUP($U45,Several_Accounts!$A:$I,9,FALSE),0)","v":436181.77},340000,340000,null,null,null,null,null,null,null,null,{"$f":"'LDC Info'!$E$14 & \" \" &'App.2-H_Other_Oper_Rev'!A45","v":"Ottawa River Power Corporation 4380"}]
[4385,"Non Rate-Regulated Utility Rental Income",null,null,null,{"$f":"IFERROR(VLOOKUP($U46,Several_Accounts!$A:$I,5,FALSE),0)","v":0},{"$f":"IFERROR(VLOOKUP($U46,Several_Accounts!$A:$I,6,FALSE),0)","v":0},{"$f":"IFERROR(VLOOKUP($U46,Several_Accounts!$A:$I,7,FALSE),0)","v":0},{"$f":"IFERROR(VLOOKUP($U46,Several_Accounts!$A:$I,8,FALSE),0)","v":0},{"$f":"IFERROR(VLOOKUP($U46,Several_Accounts!$A:$I,9,FALSE),0)","v":0},null,null,null,null,null,null,null,null,null,null,{"$f":"'LDC Info'!$E$14 & \" \" &'App.2-H_Other_Oper_Rev'!A46","v":"Ottawa River Power Corporation 4385"}]
[4390,"Miscellaneous Non-Operating Income",null,null,null,{"$f":"IFERROR(VLOOKUP($U47,Several_Accounts!$A:$I,5,FALSE),0)","v":-4646.83},{"$f":"IFERROR(VLOOKUP($U47,Several_Accounts!$A:$I,6,FALSE),0)","v":-19821.13},{"$f":"IFERROR(VLOOKUP($U47,Several_Accounts!$A:$I,7,FALSE),0)","v":-5663.23},{"$f":"IFERROR(VLOOKUP($U47,Several_Accounts!$A:$I,8,FALSE),0)","v":-1284.47},{"$f":"IFERROR(VLOOKUP($U47,Several_Accounts!$A:$I,9,FALSE),0)","v":-20728.68},-1900,-1900,null,null,null,null,null,null,null,null,{"$f":"'LDC Info'!$E$14 & \" \" &'App.2-H_Other_Oper_Rev'!A47","v":"Ottawa River Power Corporation 4390"}]
[4395,"Rate-Payer Benefit Including Interest",null,null,null,{"$f":"IFERROR(VLOOKUP($U48,Several_Accounts!$A:$I,5,FALSE),0)","v":0},{"$f":"IFERROR(VLOOKUP($U48,Several_Accounts!$A:$I,6,FALSE),0)","v":0},{"$f":"IFERROR(VLOOKUP($U48,Several_Accounts!$A:$I,7,FALSE),0)","v":0},{"$f":"IFERROR(VLOOKUP($U48,Several_Accounts!$A:$I,8,FALSE),0)","v":0},{"$f":"IFERROR(VLOOKUP($U48,Several_Accounts!$A:$I,9,FALSE),0)","v":0},null,null,null,null,null,null,null,null,null,null,{"$f":"'LDC Info'!$E$14 & \" \" &'App.2-H_Other_Oper_Rev'!A48","v":"Ottawa River Power Corporation 4395"}]
[4398,"Foreign Exchange Gains and Losses, Including Amortization",null,null,null,{"$f":"IFERROR(VLOOKUP($U49,Several_Accounts!$A:$I,5,FALSE),0)","v":0},{"$f":"IFERROR(VLOOKUP($U49,Several_Accounts!$A:$I,6,FALSE),0)","v":0},{"$f":"IFERROR(VLOOKUP($U49,Several_Accounts!$A:$I,7,FALSE),0)","v":0},{"$f":"IFERROR(VLOOKUP($U49,Several_Accounts!$A:$I,8,FALSE),0)","v":0},{"$f":"IFERROR(VLOOKUP($U49,Several_Accounts!$A:$I,9,FALSE),0)","v":0},null,null,null,null,null,null,null,null,null,null,{"$f":"'LDC Info'!$E$14 & \" \" &'App.2-H_Other_Oper_Rev'!A49","v":"Ottawa River Power Corporation 4398"}]
[4405,"Interest and Dividend Income",null,null,null,{"$f":"IFERROR(VLOOKUP($U50,Several_Accounts!$A:$I,5,FALSE),0)","v":-40862.300000000003},{"$f":"IFERROR(VLOOKUP($U50,Several_Accounts!$A:$I,6,FALSE),0)","v":-44341.41},{"$f":"IFERROR(VLOOKUP($U50,Several_Accounts!$A:$I,7,FALSE),0)","v":-75878.39},{"$f":"IFERROR(VLOOKUP($U50,Several_Accounts!$A:$I,8,FALSE),0)","v":-53014.49},{"$f":"IFERROR(VLOOKUP($U50,Several_Accounts!$A:$I,9,FALSE),0)","v":-21611.7},-7000,-15000,null,null,null,null,null,null,null,null,{"$f":"'LDC Info'!$E$14 & \" \" &'App.2-H_Other_Oper_Rev'!A50","v":"Ottawa River Power Corporation 4405"}]
[4410,"Lessor's Net Investment in Finance Lease",null,null,null,{"$f":"IFERROR(VLOOKUP($U51,Several_Accounts!$A:$I,5,FALSE),0)","v":0},{"$f":"IFERROR(VLOOKUP($U51,Several_Accounts!$A:$I,6,FALSE),0)","v":0},{"$f":"IFERROR(VLOOKUP($U51,Several_Accounts!$A:$I,7,FALSE),0)","v":0},{"$f":"IFERROR(VLOOKUP($U51,Several_Accounts!$A:$I,8,FALSE),0)","v":0},{"$f":"IFERROR(VLOOKUP($U51,Several_Accounts!$A:$I,9,FALSE),0)","v":0},null,null,null,null,null,null,null,null,null,null,{"$f":"'LDC Info'!$E$14 & \" \" &'App.2-H_Other_Oper_Rev'!A51","v":"Ottawa River Power Corporation 4410"}]
[4415,"Equity in Earnings of Subsidiary Companies",null,null,null,{"$f":"IFERROR(VLOOKUP($U52,Several_Accounts!$A:$I,5,FALSE),0)","v":0},{"$f":"IFERROR(VLOOKUP($U52,Several_Accounts!$A:$I,6,FALSE),0)","v":0},{"$f":"IFERROR(VLOOKUP($U52,Several_Accounts!$A:$I,7,FALSE),0)","v":0},{"$f":"IFERROR(VLOOKUP($U52,Several_Accounts!$A:$I,8,FALSE),0)","v":0},{"$f":"IFERROR(VLOOKUP($U52,Several_Accounts!$A:$I,9,FALSE),0)","v":0},null,null,null,null,null,null,null,null,null,null,{"$f":"'LDC Info'!$E$14 & \" \" &'App.2-H_Other_Oper_Rev'!A52","v":"Ottawa River Power Corporation 4415"}]
[4420,"Share of Profit or Loss of Joint Venture",null,null,null,{"$f":"IFERROR(VLOOKUP($U53,Several_Accounts!$A:$I,5,FALSE),0)","v":0},{"$f":"IFERROR(VLOOKUP($U53,Several_Accounts!$A:$I,6,FALSE),0)","v":0},{"$f":"IFERROR(VLOOKUP($U53,Several_Accounts!$A:$I,7,FALSE),0)","v":0},{"$f":"IFERROR(VLOOKUP($U53,Several_Accounts!$A:$I,8,FALSE),0)","v":0},{"$f":"IFERROR(VLOOKUP($U53,Several_Accounts!$A:$I,9,FALSE),0)","v":0},null,null,null,null,null,null,null,null,null,null,{"$f":"'LDC Info'!$E$14 & \" \" &'App.2-H_Other_Oper_Rev'!A53","v":"Ottawa River Power Corporation 4420"}]
[]
[]
[]
[]
[]
[]
[]
[]
[]
[]
[]
["Miscellaneous Service Revenues",null,{"$f":"C15","v":0},0,0,{"$f":"F25","v":-74072.759999999995},{"$f":"G25","v":-64248.07},-61507.85,-51647.33,-49101.760000000002,-49000,-49000,null,{"$f":"N25","v":0}]
["Late Payment Charges",null,{"$f":"#REF!","v":{"$error":"#REF!"}},{"$f":"#REF!","v":{"$error":"#REF!"}},{"$f":"#REF!","v":{"$error":"#REF!"}},{"$f":"F23","v":-57075.93},{"$f":"G23","v":-55610.62},-86747.77,-47920.46,-29687.91,-66986.58,-66986.58,null,{"$f":"N23","v":0}]
["Other Operating Revenues",null,null,null,null,-97320.69,-97771.15,-75221.36,-89022.8,-129386.14000000001,-111417.54000000001,-172794.28999999998,null,{"$f":"SUM(N15:N24,N26,N27)","v":0}]
["Other Income or Deductions",null,null,null,null,-100648.68000000001,-166353.35,-273108.83999999997,-185395.16999999995,-88071.189999999988,-68900,-76900,null,{"$f":"SUM(N28:N53)","v":0}]
["Total",null,{"$f":"SUM(C65:C68)","v":{"$error":"#REF!"}},{"$f":"SUM(D65:D68)","v":{"$error":"#REF!"}},{"$f":"SUM(E65:E68)","v":{"$error":"#REF!"}},{"$f":"SUM(F65:F68)","v":-329118.06},{"$f":"SUM(G65:G68)","v":-383983.19},-496585.81999999995,-373985.76,-296247,-296304.12,-365680.87,null,{"$f":"SUM(N65:N68)","v":0}]
[]
["Description                          Account(s)"]
["Specific Service Charges:       4235"]
["Late Payment Charges:          4225"]
["Other Distribution Revenues:   4082, 4084, 4086, 4090, 4205, 4210, 4215, 4220, 4230, 4240, 4245"]
["Other Income and Expenses:  4305, 4310, 4315, 4320, 4325, 4330, 4335, 4340, 4345, 4350, 4355, 4357, 4360, 4362, 4365, 4370, 4375, 4380, 4385, 4390, 4395, 4398, 4405, 4410, 4415, 4420"]
[]
[]
["Note: Add all applicable accounts listed above to the table and include all relevant information."]
[]
["Account Breakdown Details"]
[]
["For each \"Other Operating Revenue\" and \"Other Income or Deductions\" Account, a detailed breakdown of the account components is required.  See the example below for Account 4405, Interest and Dividend Income.  Tables for the detailed breakdowns will be generated after cell B101 is filled in."]
[]
[]
["Example: Account 4405 - Interest and Dividend Income"]
[null,null,{"$f":"C12","v":"2013 Actual²"},"2014 Actual²","2015 Actual²","2016 Actual²","2017 Actual²","2018 Actual²","2019 Actual²","2020 Actual","Bridge Year","Test Year",null,{"$f":"N12","v":"CGAAP"}]
[null,null,{"$f":"C13","v":2013},2014,2015,2016,2017,2018,2019,2020,2021,2022,null,{"$f":"N13","v":"Enter Transition Year"}]
["Reporting Basis",null,{"$f":"IF(C14=0, \"\", C14)","v":""},"","",{"$f":"IF($F$14=0, \"\", $F$14)","v":""},{"$f":"IF($G$14=0, \"\", $G$14)","v":""},{"$f":"IF($H$14=0, \"\", $H$14)","v":""},{"$f":"IF($I$14=0, \"\", $I$14)","v":""},{"$f":"IF($J$14=0, \"\", $J$14)","v":""},{"$f":"IF($K$14=0, \"\", $K$14)","v":""},{"$f":"IF($L$14=0, \"\", $L$14)","v":""},null,{"$f":"IF($N$14=0, \"\", $N$14)","v":""}]
["Short-term Investment Interest"]
["Bank Deposit Interest"]
["Miscellaneous Interest Revenue"]
["etc.1"]
[]
[]
["Total",null,{"$f":"SUM(C89:C94)","v":0},0,0,0,0,0,0,0,0,0,null,{"$f":"SUM(N89:N94)","v":0}]
[]
[]
["Notes:"]
[1,"List and specify any other interest revenue."]
[2,"For applicants rebasing under IFRS for the first time, in the transition year (2014) to IFRS, the applicant is to present information in both MIFRS and CGAAP. In column N, present CGAAP transition year information."]
[null,null,"Enter the number of \"Other Operating Revenue\" and \"Other Income or Deductions\" Accounts that require a detailed breakdown of the account components."]
[]
[]
[]
[]
[null,null,{"$f":"C$12","v":"2013 Actual²"},"2014 Actual²","2015 Actual²","2016 Actual²","2017 Actual²","2018 Actual²","2019 Actual²","2020 Actual","Bridge Year","Test Year",null,{"$f":"N$12","v":"CGAAP"}]
[null,null,{"$f":"C$13","v":2013},2014,2015,2016,2017,2018,2019,2020,2021,2022,null,{"$f":"N$13","v":"Enter Transition Year"}]
["Reporting Basis",null,{"$f":"IF(C32=0, \"\", C32)","v":""},"","",{"$f":"IF($F$14=0, \"\", $F$14)","v":""},{"$f":"IF($G$14=0, \"\", $G$14)","v":""},{"$f":"IF($H$14=0, \"\", $H$14)","v":""},{"$f":"IF($I$14=0, \"\", $I$14)","v":""},{"$f":"IF($J$14=0, \"\", $J$14)","v":""},{"$f":"IF($K$14=0, \"\", $K$14)","v":""},{"$f":"IF($L$14=0, \"\", $L$14)","v":""},null,{"$f":"IF($N$14=0, \"\", $N$14)","v":""}]
[]
[]
[]
[]
[]
[]
[]
[]
["Total",null,{"$f":"SUM(C109:C116)","v":0},0,0,0,0,0,0,0,0,0,null,{"$f":"SUM(N109:N116)","v":0}]
[]
[]
[null,null,{"$f":"C$12","v":"2013 Actual²"},"2014 Actual²","2015 Actual²","2016 Actual²","2017 Actual²","2018 Actual²","2019 Actual²","2020 Actual","Bridge Year","Test Year",null,{"$f":"N$12","v":"CGAAP"}]
[null,null,{"$f":"C$13","v":2013},2014,2015,2016,2017,2018,2019,2020,2021,2022,null,{"$f":"N$13","v":"Enter Transition Year"}]
["Reporting Basis",null,{"$f":"IF(C46=0, \"\", C46)","v":""},"","",{"$f":"IF($F$14=0, \"\", $F$14)","v":""},{"$f":"IF($G$14=0, \"\", $G$14)","v":""},{"$f":"IF($H$14=0, \"\", $H$14)","v":""},{"$f":"IF($I$14=0, \"\", $I$14)","v":""},{"$f":"IF($J$14=0, \"\", $J$14)","v":""},{"$f":"IF($K$14=0, \"\", $K$14)","v":""},{"$f":"IF($L$14=0, \"\", $L$14)","v":""},null,{"$f":"IF($N$14=0, \"\", $N$14)","v":""}]
[]
[]
[]
[]
[]
[]
[]
[]
["Total",null,{"$f":"SUM(C123:C130)","v":0},{"$f":"SUM(D123:D130)","v":0},{"$f":"SUM(E123:E130)","v":0},{"$f":"SUM(F123:F130)","v":0},{"$f":"SUM(G123:G130)","v":0},{"$f":"SUM(H123:H130)","v":0},{"$f":"SUM(I123:I130)","v":0},{"$f":"SUM(J123:J130)","v":0},{"$f":"SUM(K123:K130)","v":0},{"$f":"SUM(L123:L130)","v":0},null,{"$f":"SUM(N123:N130)","v":0}]
[]
[]
[null,null,{"$f":"C$12","v":"2013 Actual²"},"2014 Actual²","2015 Actual²","2016 Actual²","2017 Actual²","2018 Actual²","2019 Actual²","2020 Actual","Bridge Year","Test Year",null,{"$f":"N$12","v":"CGAAP"}]
[null,null,{"$f":"C$13","v":2013},2014,2015,2016,2017,2018,2019,2020,2021,2022,null,{"$f":"N$13","v":"Enter Transition Year"}]
["Reporting Basis",null,{"$f":"IF(C74=0, \"\", C74)","v":""},"","",{"$f":"IF($F$14=0, \"\", $F$14)","v":""},{"$f":"IF($G$14=0, \"\", $G$14)","v":""},{"$f":"IF($H$14=0, \"\", $H$14)","v":""},{"$f":"IF($I$14=0, \"\", $I$14)","v":""},{"$f":"IF($J$14=0, \"\", $J$14)","v":""},{"$f":"IF($K$14=0, \"\", $K$14)","v":""},{"$f":"IF($L$14=0, \"\", $L$14)","v":""},null,{"$f":"IF($N$14=0, \"\", $N$14)","v":""}]
[]
[]
[]
[]
[]
[]
[]
[]
["Total",null,{"$f":"SUM(C137:C144)","v":0},{"$f":"SUM(D137:D144)","v":0},{"$f":"SUM(E137:E144)","v":0},{"$f":"SUM(F137:F144)","v":0},{"$f":"SUM(G137:G144)","v":0},{"$f":"SUM(H137:H144)","v":0},{"$f":"SUM(I137:I144)","v":0},{"$f":"SUM(J137:J144)","v":0},{"$f":"SUM(K137:K144)","v":0},{"$f":"SUM(L137:L144)","v":0},null,{"$f":"SUM(N137:N144)","v":0}]
[]
[]
[null,null,{"$f":"C$12","v":"2013 Actual²"},"2014 Actual²","2015 Actual²","2016 Actual²","2017 Actual²","2018 Actual²","2019 Actual²","2020 Actual","Bridge Year","Test Year",null,{"$f":"N$12","v":"CGAAP"}]
[null,null,{"$f":"C$13","v":2013},2014,2015,2016,2017,2018,2019,2020,2021,2022,null,{"$f":"N$13","v":"Enter Transition Year"}]
["Reporting Basis",null,{"$f":"IF(C88=0, \"\", C88)","v":""},"","",{"$f":"IF($F$14=0, \"\", $F$14)","v":""},{"$f":"IF($G$14=0, \"\", $G$14)","v":""},{"$f":"IF($H$14=0, \"\", $H$14)","v":""},{"$f":"IF($I$14=0, \"\", $I$14)","v":""},{"$f":"IF($J$14=0, \"\", $J$14)","v":""},{"$f":"IF($K$14=0, \"\", $K$14)","v":""},{"$f":"IF($L$14=0, \"\", $L$14)","v":""},null,{"$f":"IF($N$14=0, \"\", $N$14)","v":""}]
[]
[]
[]
[]
[]
[]
[]
[]
["Total",null,{"$f":"SUM(C151:C158)","v":0},{"$f":"SUM(D151:D158)","v":0},{"$f":"SUM(E151:E158)","v":0},{"$f":"SUM(F151:F158)","v":0},{"$f":"SUM(G151:G158)","v":0},{"$f":"SUM(H151:H158)","v":0},{"$f":"SUM(I151:I158)","v":0},{"$f":"SUM(J151:J158)","v":0},{"$f":"SUM(K151:K158)","v":0},{"$f":"SUM(L151:L158)","v":0},null,{"$f":"SUM(N151:N158)","v":0}]
[]
[]
[null,null,{"$f":"C$12","v":"2013 Actual²"},"2014 Actual²","2015 Actual²","2016 Actual²","2017 Actual²","2018 Actual²","2019 Actual²","2020 Actual","Bridge Year","Test Year",null,{"$f":"N$12","v":"CGAAP"}]
[null,null,{"$f":"C$13","v":2013},2014,2015,2016,2017,2018,2019,2020,2021,2022,null,{"$f":"N$13","v":"Enter Transition Year"}]
["Reporting Basis",null,{"$f":"IF(C102=0, \"\", C102)","v":""},"","",{"$f":"IF($F$14=0, \"\", $F$14)","v":""},{"$f":"IF($G$14=0, \"\", $G$14)","v":""},{"$f":"IF($H$14=0, \"\", $H$14)","v":""},{"$f":"IF($I$14=0, \"\", $I$14)","v":""},{"$f":"IF($J$14=0, \"\", $J$14)","v":""},{"$f":"IF($K$14=0, \"\", $K$14)","v":""},{"$f":"IF($L$14=0, \"\", $L$14)","v":""},null,{"$f":"IF($N$14=0, \"\", $N$14)","v":""}]
[]
[]
[]
[]
[]
[]
[]
[]
["Total",null,{"$f":"SUM(C165:C172)","v":0},{"$f":"SUM(D165:D172)","v":0},{"$f":"SUM(E165:E172)","v":0},{"$f":"SUM(F165:F172)","v":0},{"$f":"SUM(G165:G172)","v":0},{"$f":"SUM(H165:H172)","v":0},{"$f":"SUM(I165:I172)","v":0},{"$f":"SUM(J165:J172)","v":0},{"$f":"SUM(K165:K172)","v":0},{"$f":"SUM(L165:L172)","v":0},null,{"$f":"SUM(N165:N172)","v":0}]
[]
[]
[null,null,{"$f":"C$12","v":"2013 Actual²"},"2014 Actual²","2015 Actual²","2016 Actual²","2017 Actual²","2018 Actual²","2019 Actual²","2020 Actual","Bridge Year","Test Year",null,{"$f":"N$12","v":"CGAAP"}]
[null,null,{"$f":"C$13","v":2013},2014,2015,2016,2017,2018,2019,2020,2021,2022,null,{"$f":"N$13","v":"Enter Transition Year"}]
["Reporting Basis",null,{"$f":"IF(C116=0, \"\", C116)","v":""},"","",{"$f":"IF($F$14=0, \"\", $F$14)","v":""},{"$f":"IF($G$14=0, \"\", $G$14)","v":""},{"$f":"IF($H$14=0, \"\", $H$14)","v":""},{"$f":"IF($I$14=0, \"\", $I$14)","v":""},{"$f":"IF($J$14=0, \"\", $J$14)","v":""},{"$f":"IF($K$14=0, \"\", $K$14)","v":""},{"$f":"IF($L$14=0, \"\", $L$14)","v":""},null,{"$f":"IF($N$14=0, \"\", $N$14)","v":""}]
[]
[]
[]
[]
[]
[]
[]
[]
["Total",null,{"$f":"SUM(C179:C186)","v":0},{"$f":"SUM(D179:D186)","v":0},{"$f":"SUM(E179:E186)","v":0},{"$f":"SUM(F179:F186)","v":0},{"$f":"SUM(G179:G186)","v":0},{"$f":"SUM(H179:H186)","v":0},{"$f":"SUM(I179:I186)","v":0},{"$f":"SUM(J179:J186)","v":0},{"$f":"SUM(K179:K186)","v":0},{"$f":"SUM(L179:L186)","v":0},null,{"$f":"SUM(N179:N186)","v":0}]
[]
[]
[null,null,{"$f":"C$12","v":"2013 Actual²"},"2014 Actual²","2015 Actual²","2016 Actual²","2017 Actual²","2018 Actual²","2019 Actual²","2020 Actual","Bridge Year","Test Year",null,{"$f":"N$12","v":"CGAAP"}]
[null,null,{"$f":"C$13","v":2013},2014,2015,2016,2017,2018,2019,2020,2021,2022,null,{"$f":"N$13","v":"Enter Transition Year"}]
["Reporting Basis",null,{"$f":"IF(C130=0, \"\", C130)","v":""},"","",{"$f":"IF($F$14=0, \"\", $F$14)","v":""},{"$f":"IF($G$14=0, \"\", $G$14)","v":""},{"$f":"IF($H$14=0, \"\", $H$14)","v":""},{"$f":"IF($I$14=0, \"\", $I$14)","v":""},{"$f":"IF($J$14=0, \"\", $J$14)","v":""},{"$f":"IF($K$14=0, \"\", $K$14)","v":""},{"$f":"IF($L$14=0, \"\", $L$14)","v":""},null,{"$f":"IF($N$14=0, \"\", $N$14)","v":""}]
[]
[]
[]
[]
[]
[]
[]
[]
["Total",null,{"$f":"SUM(C193:C200)","v":0},{"$f":"SUM(D193:D200)","v":0},{"$f":"SUM(E193:E200)","v":0},{"$f":"SUM(F193:F200)","v":0},{"$f":"SUM(G193:G200)","v":0},{"$f":"SUM(H193:H200)","v":0},{"$f":"SUM(I193:I200)","v":0},{"$f":"SUM(J193:J200)","v":0},{"$f":"SUM(K193:K200)","v":0},{"$f":"SUM(L193:L200)","v":0},null,{"$f":"SUM(N193:N200)","v":0}]
[]
[]
[null,null,{"$f":"C$12","v":"2013 Actual²"},"2014 Actual²","2015 Actual²","2016 Actual²","2017 Actual²","2018 Actual²","2019 Actual²","2020 Actual","Bridge Year","Test Year",null,{"$f":"N$12","v":"CGAAP"}]
[null,null,{"$f":"C$13","v":2013},2014,2015,2016,2017,2018,2019,2020,2021,2022,null,{"$f":"N$13","v":"Enter Transition Year"}]
["Reporting Basis",null,{"$f":"IF(C144=0, \"\", C144)","v":""},"","",{"$f":"IF($F$14=0, \"\", $F$14)","v":""},{"$f":"IF($G$14=0, \"\", $G$14)","v":""},{"$f":"IF($H$14=0, \"\", $H$14)","v":""},{"$f":"IF($I$14=0, \"\", $I$14)","v":""},{"$f":"IF($J$14=0, \"\", $J$14)","v":""},{"$f":"IF($K$14=0, \"\", $K$14)","v":""},{"$f":"IF($L$14=0, \"\", $L$14)","v":""},null,{"$f":"IF($N$14=0, \"\", $N$14)","v":""}]
[]
[]
[]
[]
[]
[]
[]
[]
["Total",null,{"$f":"SUM(C207:C214)","v":0},{"$f":"SUM(D207:D214)","v":0},{"$f":"SUM(E207:E214)","v":0},{"$f":"SUM(F207:F214)","v":0},{"$f":"SUM(G207:G214)","v":0},{"$f":"SUM(H207:H214)","v":0},{"$f":"SUM(I207:I214)","v":0},{"$f":"SUM(J207:J214)","v":0},{"$f":"SUM(K207:K214)","v":0},{"$f":"SUM(L207:L214)","v":0},null,{"$f":"SUM(N207:N214)","v":0}]
[]
[]
[null,null,{"$f":"C$12","v":"2013 Actual²"},"2014 Actual²","2015 Actual²","2016 Actual²","2017 Actual²","2018 Actual²","2019 Actual²","2020 Actual","Bridge Year","Test Year",null,{"$f":"N$12","v":"CGAAP"}]
[null,null,{"$f":"C$13","v":2013},2014,2015,2016,2017,2018,2019,2020,2021,2022,null,{"$f":"N$13","v":"Enter Transition Year"}]
["Reporting Basis",null,{"$f":"IF(C158=0, \"\", C158)","v":""},"","",{"$f":"IF($F$14=0, \"\", $F$14)","v":""},{"$f":"IF($G$14=0, \"\", $G$14)","v":""},{"$f":"IF($H$14=0, \"\", $H$14)","v":""},{"$f":"IF($I$14=0, \"\", $I$14)","v":""},{"$f":"IF($J$14=0, \"\", $J$14)","v":""},{"$f":"IF($K$14=0, \"\", $K$14)","v":""},{"$f":"IF($L$14=0, \"\", $L$14)","v":""},null,{"$f":"IF($N$14=0, \"\", $N$14)","v":""}]
[]
[]
[]
[]
[]
[]
[]
[]
["Total",null,{"$f":"SUM(C221:C228)","v":0},{"$f":"SUM(D221:D228)","v":0},{"$f":"SUM(E221:E228)","v":0},{"$f":"SUM(F221:F228)","v":0},{"$f":"SUM(G221:G228)","v":0},{"$f":"SUM(H221:H228)","v":0},{"$f":"SUM(I221:I228)","v":0},{"$f":"SUM(J221:J228)","v":0},{"$f":"SUM(K221:K228)","v":0},{"$f":"SUM(L221:L228)","v":0},null,{"$f":"SUM(N221:N228)","v":0}]
[]
[]
[null,null,{"$f":"C$12","v":"2013 Actual²"},"2014 Actual²","2015 Actual²","2016 Actual²","2017 Actual²","2018 Actual²","2019 Actual²","2020 Actual","Bridge Year","Test Year",null,{"$f":"N$12","v":"CGAAP"}]
[null,null,{"$f":"C$13","v":2013},2014,2015,2016,2017,2018,2019,2020,2021,2022,null,{"$f":"N$13","v":"Enter Transition Year"}]
["Reporting Basis",null,{"$f":"IF(C172=0, \"\", C172)","v":""},"","",{"$f":"IF($F$14=0, \"\", $F$14)","v":""},{"$f":"IF($G$14=0, \"\", $G$14)","v":""},{"$f":"IF($H$14=0, \"\", $H$14)","v":""},{"$f":"IF($I$14=0, \"\", $I$14)","v":""},{"$f":"IF($J$14=0, \"\", $J$14)","v":""},{"$f":"IF($K$14=0, \"\", $K$14)","v":""},{"$f":"IF($L$14=0, \"\", $L$14)","v":""},null,{"$f":"IF($N$14=0, \"\", $N$14)","v":""}]
[]
[]
[]
[]
[]
[]
[]
[]
["Total",null,{"$f":"SUM(C235:C242)","v":0},{"$f":"SUM(D235:D242)","v":0},{"$f":"SUM(E235:E242)","v":0},{"$f":"SUM(F235:F242)","v":0},{"$f":"SUM(G235:G242)","v":0},{"$f":"SUM(H235:H242)","v":0},{"$f":"SUM(I235:I242)","v":0},{"$f":"SUM(J235:J242)","v":0},{"$f":"SUM(K235:K242)","v":0},{"$f":"SUM(L235:L242)","v":0},null,{"$f":"SUM(N235:N242)","v":0}]
[]
[]
[null,null,{"$f":"C$12","v":"2013 Actual²"},"2014 Actual²","2015 Actual²","2016 Actual²","2017 Actual²","2018 Actual²","2019 Actual²","2020 Actual","Bridge Year","Test Year",null,{"$f":"N$12","v":"CGAAP"}]
[null,null,{"$f":"C$13","v":2013},2014,2015,2016,2017,2018,2019,2020,2021,2022,null,{"$f":"N$13","v":"Enter Transition Year"}]
["Reporting Basis",null,{"$f":"IF(C186=0, \"\", C186)","v":""},"","",{"$f":"IF($F$14=0, \"\", $F$14)","v":""},{"$f":"IF($G$14=0, \"\", $G$14)","v":""},{"$f":"IF($H$14=0, \"\", $H$14)","v":""},{"$f":"IF($I$14=0, \"\", $I$14)","v":""},{"$f":"IF($J$14=0, \"\", $J$14)","v":""},{"$f":"IF($K$14=0, \"\", $K$14)","v":""},{"$f":"IF($L$14=0, \"\", $L$14)","v":""},null,{"$f":"IF($N$14=0, \"\", $N$14)","v":""}]
[]
[]
[]
[]
[]
[]
[]
[]
["Total",null,{"$f":"SUM(C249:C256)","v":0},{"$f":"SUM(D249:D256)","v":0},{"$f":"SUM(E249:E256)","v":0},{"$f":"SUM(F249:F256)","v":0},{"$f":"SUM(G249:G256)","v":0},{"$f":"SUM(H249:H256)","v":0},{"$f":"SUM(I249:I256)","v":0},{"$f":"SUM(J249:J256)","v":0},{"$f":"SUM(K249:K256)","v":0},{"$f":"SUM(L249:L256)","v":0},null,{"$f":"SUM(N249:N256)","v":0}]
[]
[]
[null,null,{"$f":"C$12","v":"2013 Actual²"},"2014 Actual²","2015 Actual²","2016 Actual²","2017 Actual²","2018 Actual²","2019 Actual²","2020 Actual","Bridge Year","Test Year",null,{"$f":"N$12","v":"CGAAP"}]
[null,null,{"$f":"C$13","v":2013},2014,2015,2016,2017,2018,2019,2020,2021,2022,null,{"$f":"N$13","v":"Enter Transition Year"}]
["Reporting Basis",null,{"$f":"IF(C200=0, \"\", C200)","v":""},"","",{"$f":"IF($F$14=0, \"\", $F$14)","v":""},{"$f":"IF($G$14=0, \"\", $G$14)","v":""},{"$f":"IF($H$14=0, \"\", $H$14)","v":""},{"$f":"IF($I$14=0, \"\", $I$14)","v":""},{"$f":"IF($J$14=0, \"\", $J$14)","v":""},{"$f":"IF($K$14=0, \"\", $K$14)","v":""},{"$f":"IF($L$14=0, \"\", $L$14)","v":""},null,{"$f":"IF($N$14=0, \"\", $N$14)","v":""}]
[]
[]
[]
[]
[]
[]
[]
[]
["Total",null,{"$f":"SUM(C263:C270)","v":0},{"$f":"SUM(D263:D270)","v":0},{"$f":"SUM(E263:E270)","v":0},{"$f":"SUM(F263:F270)","v":0},{"$f":"SUM(G263:G270)","v":0},{"$f":"SUM(H263:H270)","v":0},{"$f":"SUM(I263:I270)","v":0},{"$f":"SUM(J263:J270)","v":0},{"$f":"SUM(K263:K270)","v":0},{"$f":"SUM(L263:L270)","v":0},null,{"$f":"SUM(N263:N270)","v":0}]
[]
[]
[null,null,{"$f":"C$12","v":"2013 Actual²"},"2014 Actual²","2015 Actual²","2016 Actual²","2017 Actual²","2018 Actual²","2019 Actual²","2020 Actual","Bridge Year","Test Year",null,{"$f":"N$12","v":"CGAAP"}]
[null,null,{"$f":"C$13","v":2013},2014,2015,2016,2017,2018,2019,2020,2021,2022,null,{"$f":"N$13","v":"Enter Transition Year"}]
["Reporting Basis",null,{"$f":"IF(C214=0, \"\", C214)","v":""},"","",{"$f":"IF($F$14=0, \"\", $F$14)","v":""},{"$f":"IF($G$14=0, \"\", $G$14)","v":""},{"$f":"IF($H$14=0, \"\", $H$14)","v":""},{"$f":"IF($I$14=0, \"\", $I$14)","v":""},{"$f":"IF($J$14=0, \"\", $J$14)","v":""},{"$f":"IF($K$14=0, \"\", $K$14)","v":""},{"$f":"IF($L$14=0, \"\", $L$14)","v":""},null,{"$f":"IF($N$14=0, \"\", $N$14)","v":""}]
[]
[]
[]
[]
[]
[]
[]
[]
["Total",null,{"$f":"SUM(C277:C284)","v":0},{"$f":"SUM(D277:D284)","v":0},{"$f":"SUM(E277:E284)","v":0},{"$f":"SUM(F277:F284)","v":0},{"$f":"SUM(G277:G284)","v":0},{"$f":"SUM(H277:H284)","v":0},{"$f":"SUM(I277:I284)","v":0},{"$f":"SUM(J277:J284)","v":0},{"$f":"SUM(K277:K284)","v":0},{"$f":"SUM(L277:L284)","v":0},null,{"$f":"SUM(N277:N284)","v":0}]
[]
[]
[null,null,{"$f":"C$12","v":"2013 Actual²"},"2014 Actual²","2015 Actual²","2016 Actual²","2017 Actual²","2018 Actual²","2019 Actual²","2020 Actual","Bridge Year","Test Year",null,{"$f":"N$12","v":"CGAAP"}]
[null,null,{"$f":"C$13","v":2013},2014,2015,2016,2017,2018,2019,2020,2021,2022,null,{"$f":"N$13","v":"Enter Transition Year"}]
["Reporting Basis",null,{"$f":"IF(C228=0, \"\", C228)","v":""},"","",{"$f":"IF($F$14=0, \"\", $F$14)","v":""},{"$f":"IF($G$14=0, \"\", $G$14)","v":""},{"$f":"IF($H$14=0, \"\", $H$14)","v":""},{"$f":"IF($I$14=0, \"\", $I$14)","v":""},{"$f":"IF($J$14=0, \"\", $J$14)","v":""},{"$f":"IF($K$14=0, \"\", $K$14)","v":""},{"$f":"IF($L$14=0, \"\", $L$14)","v":""},null,{"$f":"IF($N$14=0, \"\", $N$14)","v":""}]
[]
[]
[]
[]
[]
[]
[]
[]
["Total",null,{"$f":"SUM(C291:C298)","v":0},{"$f":"SUM(D291:D298)","v":0},{"$f":"SUM(E291:E298)","v":0},{"$f":"SUM(F291:F298)","v":0},{"$f":"SUM(G291:G298)","v":0},{"$f":"SUM(H291:H298)","v":0},{"$f":"SUM(I291:I298)","v":0},{"$f":"SUM(J291:J298)","v":0},{"$f":"SUM(K291:K298)","v":0},{"$f":"SUM(L291:L298)","v":0},null,{"$f":"SUM(N291:N298)","v":0}]
[]
[]
[null,null,{"$f":"C$12","v":"2013 Actual²"},"2014 Actual²","2015 Actual²","2016 Actual²","2017 Actual²","2018 Actual²","2019 Actual²","2020 Actual","Bridge Year","Test Year",null,{"$f":"N$12","v":"CGAAP"}]
[null,null,{"$f":"C$13","v":2013},2014,2015,2016,2017,2018,2019,2020,2021,2022,null,{"$f":"N$13","v":"Enter Transition Year"}]
["Reporting Basis",null,{"$f":"IF(C242=0, \"\", C242)","v":""},"","",{"$f":"IF($F$14=0, \"\", $F$14)","v":""},{"$f":"IF($G$14=0, \"\", $G$14)","v":""},{"$f":"IF($H$14=0, \"\", $H$14)","v":""},{"$f":"IF($I$14=0, \"\", $I$14)","v":""},{"$f":"IF($J$14=0, \"\", $J$14)","v":""},{"$f":"IF($K$14=0, \"\", $K$14)","v":""},{"$f":"IF($L$14=0, \"\", $L$14)","v":""},null,{"$f":"IF($N$14=0, \"\", $N$14)","v":""}]
[]
[]
[]
[]
[]
[]
[]
[]
["Total",null,{"$f":"SUM(C305:C312)","v":0},{"$f":"SUM(D305:D312)","v":0},{"$f":"SUM(E305:E312)","v":0},{"$f":"SUM(F305:F312)","v":0},{"$f":"SUM(G305:G312)","v":0},{"$f":"SUM(H305:H312)","v":0},{"$f":"SUM(I305:I312)","v":0},{"$f":"SUM(J305:J312)","v":0},{"$f":"SUM(K305:K312)","v":0},{"$f":"SUM(L305:L312)","v":0},null,{"$f":"SUM(N305:N312)","v":0}]
[]
[]
[null,null,{"$f":"C$12","v":"2013 Actual²"},"2014 Actual²","2015 Actual²","2016 Actual²","2017 Actual²","2018 Actual²","2019 Actual²","2020 Actual","Bridge Year","Test Year",null,{"$f":"N$12","v":"CGAAP"}]
[null,null,{"$f":"C$13","v":2013},2014,2015,2016,2017,2018,2019,2020,2021,2022,null,{"$f":"N$13","v":"Enter Transition Year"}]
["Reporting Basis",null,{"$f":"IF(C256=0, \"\", C256)","v":""},"","",{"$f":"IF($F$14=0, \"\", $F$14)","v":""},{"$f":"IF($G$14=0, \"\", $G$14)","v":""},{"$f":"IF($H$14=0, \"\", $H$14)","v":""},{"$f":"IF($I$14=0, \"\", $I$14)","v":""},{"$f":"IF($J$14=0, \"\", $J$14)","v":""},{"$f":"IF($K$14=0, \"\", $K$14)","v":""},{"$f":"IF($L$14=0, \"\", $L$14)","v":""},null,{"$f":"IF($N$14=0, \"\", $N$14)","v":""}]
[]
[]
[]
[]
[]
[]
[]
[]
["Total",null,{"$f":"SUM(C319:C326)","v":0},{"$f":"SUM(D319:D326)","v":0},{"$f":"SUM(E319:E326)","v":0},{"$f":"SUM(F319:F326)","v":0},{"$f":"SUM(G319:G326)","v":0},{"$f":"SUM(H319:H326)","v":0},{"$f":"SUM(I319:I326)","v":0},{"$f":"SUM(J319:J326)","v":0},{"$f":"SUM(K319:K326)","v":0},{"$f":"SUM(L319:L326)","v":0},null,{"$f":"SUM(N319:N326)","v":0}]
[]
[]
[null,null,{"$f":"C$12","v":"2013 Actual²"},"2014 Actual²","2015 Actual²","2016 Actual²","2017 Actual²","2018 Actual²","2019 Actual²","2020 Actual","Bridge Year","Test Year",null,{"$f":"N$12","v":"CGAAP"}]
[null,null,{"$f":"C$13","v":2013},2014,2015,2016,2017,2018,2019,2020,2021,2022,null,{"$f":"N$13","v":"Enter Transition Year"}]
["Reporting Basis",null,{"$f":"IF(C270=0, \"\", C270)","v":""},"","",{"$f":"IF($F$14=0, \"\", $F$14)","v":""},{"$f":"IF($G$14=0, \"\", $G$14)","v":""},{"$f":"IF($H$14=0, \"\", $H$14)","v":""},{"$f":"IF($I$14=0, \"\", $I$14)","v":""},{"$f":"IF($J$14=0, \"\", $J$14)","v":""},{"$f":"IF($K$14=0, \"\", $K$14)","v":""},{"$f":"IF($L$14=0, \"\", $L$14)","v":""},null,{"$f":"IF($N$14=0, \"\", $N$14)","v":""}]
[]
[]
[]
[]
[]
[]
[]
[]
["Total",null,{"$f":"SUM(C333:C340)","v":0},{"$f":"SUM(D333:D340)","v":0},{"$f":"SUM(E333:E340)","v":0},{"$f":"SUM(F333:F340)","v":0},{"$f":"SUM(G333:G340)","v":0},{"$f":"SUM(H333:H340)","v":0},{"$f":"SUM(I333:I340)","v":0},{"$f":"SUM(J333:J340)","v":0},{"$f":"SUM(K333:K340)","v":0},{"$f":"SUM(L333:L340)","v":0},null,{"$f":"SUM(N333:N340)","v":0}]
[]
[]
[null,null,{"$f":"C$12","v":"2013 Actual²"},"2014 Actual²","2015 Actual²","2016 Actual²","2017 Actual²","2018 Actual²","2019 Actual²","2020 Actual","Bridge Year","Test Year",null,{"$f":"N$12","v":"CGAAP"}]
[null,null,{"$f":"C$13","v":2013},2014,2015,2016,2017,2018,2019,2020,2021,2022,null,{"$f":"N$13","v":"Enter Transition Year"}]
["Reporting Basis",null,{"$f":"IF(C284=0, \"\", C284)","v":""},"","",{"$f":"IF($F$14=0, \"\", $F$14)","v":""},{"$f":"IF($G$14=0, \"\", $G$14)","v":""},{"$f":"IF($H$14=0, \"\", $H$14)","v":""},{"$f":"IF($I$14=0, \"\", $I$14)","v":""},{"$f":"IF($J$14=0, \"\", $J$14)","v":""},{"$f":"IF($K$14=0, \"\", $K$14)","v":""},{"$f":"IF($L$14=0, \"\", $L$14)","v":""},null,{"$f":"IF($N$14=0, \"\", $N$14)","v":""}]
[]
[]
[]
[]
[]
[]
[]
[]
["Total",null,{"$f":"SUM(C347:C354)","v":0},{"$f":"SUM(D347:D354)","v":0},{"$f":"SUM(E347:E354)","v":0},{"$f":"SUM(F347:F354)","v":0},{"$f":"SUM(G347:G354)","v":0},{"$f":"SUM(H347:H354)","v":0},{"$f":"SUM(I347:I354)","v":0},{"$f":"SUM(J347:J354)","v":0},{"$f":"SUM(K347:K354)","v":0},{"$f":"SUM(L347:L354)","v":0},null,{"$f":"SUM(N347:N354)","v":0}]
[]
[]
[null,null,{"$f":"C$12","v":"2013 Actual²"},"2014 Actual²","2015 Actual²","2016 Actual²","2017 Actual²","2018 Actual²","2019 Actual²","2020 Actual","Bridge Year","Test Year",null,{"$f":"N$12","v":"CGAAP"}]
[null,null,{"$f":"C$13","v":2013},2014,2015,2016,2017,2018,2019,2020,2021,2022,null,{"$f":"N$13","v":"Enter Transition Year"}]
["Reporting Basis",null,{"$f":"IF(C298=0, \"\", C298)","v":""},"","",{"$f":"IF($F$14=0, \"\", $F$14)","v":""},{"$f":"IF($G$14=0, \"\", $G$14)","v":""},{"$f":"IF($H$14=0, \"\", $H$14)","v":""},{"$f":"IF($I$14=0, \"\", $I$14)","v":""},{"$f":"IF($J$14=0, \"\", $J$14)","v":""},{"$f":"IF($K$14=0, \"\", $K$14)","v":""},{"$f":"IF($L$14=0, \"\", $L$14)","v":""},null,{"$f":"IF($N$14=0, \"\", $N$14)","v":""}]
[]
[]
[]
[]
[]
[]
[]
[]
["Total",null,{"$f":"SUM(C361:C368)","v":0},{"$f":"SUM(D361:D368)","v":0},{"$f":"SUM(E361:E368)","v":0},{"$f":"SUM(F361:F368)","v":0},{"$f":"SUM(G361:G368)","v":0},{"$f":"SUM(H361:H368)","v":0},{"$f":"SUM(I361:I368)","v":0},{"$f":"SUM(J361:J368)","v":0},{"$f":"SUM(K361:K368)","v":0},{"$f":"SUM(L361:L368)","v":0},null,{"$f":"SUM(N361:N368)","v":0}]
[]
[]
[null,null,{"$f":"C$12","v":"2013 Actual²"},"2014 Actual²","2015 Actual²","2016 Actual²","2017 Actual²","2018 Actual²","2019 Actual²","2020 Actual","Bridge Year","Test Year",null,{"$f":"N$12","v":"CGAAP"}]
[null,null,{"$f":"C$13","v":2013},2014,2015,2016,2017,2018,2019,2020,2021,2022,null,{"$f":"N$13","v":"Enter Transition Year"}]
["Reporting Basis",null,{"$f":"IF(C312=0, \"\", C312)","v":""},"","",{"$f":"IF($F$14=0, \"\", $F$14)","v":""},{"$f":"IF($G$14=0, \"\", $G$14)","v":""},{"$f":"IF($H$14=0, \"\", $H$14)","v":""},{"$f":"IF($I$14=0, \"\", $I$14)","v":""},{"$f":"IF($J$14=0, \"\", $J$14)","v":""},{"$f":"IF($K$14=0, \"\", $K$14)","v":""},{"$f":"IF($L$14=0, \"\", $L$14)","v":""},null,{"$f":"IF($N$14=0, \"\", $N$14)","v":""}]
[]
[]
[]
[]
[]
[]
[]
[]
["Total",null,{"$f":"SUM(C375:C382)","v":0},{"$f":"SUM(D375:D382)","v":0},{"$f":"SUM(E375:E382)","v":0},{"$f":"SUM(F375:F382)","v":0},{"$f":"SUM(G375:G382)","v":0},{"$f":"SUM(H375:H382)","v":0},{"$f":"SUM(I375:I382)","v":0},{"$f":"SUM(J375:J382)","v":0},{"$f":"SUM(K375:K382)","v":0},{"$f":"SUM(L375:L382)","v":0},null,{"$f":"SUM(N375:N382)","v":0}]
[]
[]
[null,null,{"$f":"C$12","v":"2013 Actual²"},"2014 Actual²","2015 Actual²","2016 Actual²","2017 Actual²","2018 Actual²","2019 Actual²","2020 Actual","Bridge Year","Test Year",null,{"$f":"N$12","v":"CGAAP"}]
[null,null,{"$f":"C$13","v":2013},2014,2015,2016,2017,2018,2019,2020,2021,2022,null,{"$f":"N$13","v":"Enter Transition Year"}]
["Reporting Basis",null,{"$f":"IF(C326=0, \"\", C326)","v":""},"","",{"$f":"IF($F$14=0, \"\", $F$14)","v":""},{"$f":"IF($G$14=0, \"\", $G$14)","v":""},{"$f":"IF($H$14=0, \"\", $H$14)","v":""},{"$f":"IF($I$14=0, \"\", $I$14)","v":""},{"$f":"IF($J$14=0, \"\", $J$14)","v":""},{"$f":"IF($K$14=0, \"\", $K$14)","v":""},{"$f":"IF($L$14=0, \"\", $L$14)","v":""},null,{"$f":"IF($N$14=0, \"\", $N$14)","v":""}]
[]
[]
[]
[]
[]
[]
[]
[]
["Total",null,{"$f":"SUM(C389:C396)","v":0},{"$f":"SUM(D389:D396)","v":0},{"$f":"SUM(E389:E396)","v":0},{"$f":"SUM(F389:F396)","v":0},{"$f":"SUM(G389:G396)","v":0},{"$f":"SUM(H389:H396)","v":0},{"$f":"SUM(I389:I396)","v":0},{"$f":"SUM(J389:J396)","v":0},{"$f":"SUM(K389:K396)","v":0},{"$f":"SUM(L389:L396)","v":0},null,{"$f":"SUM(N389:N396)","v":0}]
[]
[]
[null,null,{"$f":"C$12","v":"2013 Actual²"},"2014 Actual²","2015 Actual²","2016 Actual²","2017 Actual²","2018 Actual²","2019 Actual²","2020 Actual","Bridge Year","Test Year",null,{"$f":"N$12","v":"CGAAP"}]
[null,null,{"$f":"C$13","v":2013},2014,2015,2016,2017,2018,2019,2020,2021,2022,null,{"$f":"N$13","v":"Enter Transition Year"}]
["Reporting Basis",null,{"$f":"IF(C340=0, \"\", C340)","v":""},"","",{"$f":"IF($F$14=0, \"\", $F$14)","v":""},{"$f":"IF($G$14=0, \"\", $G$14)","v":""},{"$f":"IF($H$14=0, \"\", $H$14)","v":""},{"$f":"IF($I$14=0, \"\", $I$14)","v":""},{"$f":"IF($J$14=0, \"\", $J$14)","v":""},{"$f":"IF($K$14=0, \"\", $K$14)","v":""},{"$f":"IF($L$14=0, \"\", $L$14)","v":""},null,{"$f":"IF($N$14=0, \"\", $N$14)","v":""}]
[]
[]
[]
[]
[]
[]
[]
[]
["Total",null,{"$f":"SUM(C403:C410)","v":0},{"$f":"SUM(D403:D410)","v":0},{"$f":"SUM(E403:E410)","v":0},{"$f":"SUM(F403:F410)","v":0},{"$f":"SUM(G403:G410)","v":0},{"$f":"SUM(H403:H410)","v":0},{"$f":"SUM(I403:I410)","v":0},{"$f":"SUM(J403:J410)","v":0},{"$f":"SUM(K403:K410)","v":0},{"$f":"SUM(L403:L410)","v":0},null,{"$f":"SUM(N403:N410)","v":0}]
[]
[]
[null,null,{"$f":"C$12","v":"2013 Actual²"},"2014 Actual²","2015 Actual²","2016 Actual²","2017 Actual²","2018 Actual²","2019 Actual²","2020 Actual","Bridge Year","Test Year",null,{"$f":"N$12","v":"CGAAP"}]
[null,null,{"$f":"C$13","v":2013},2014,2015,2016,2017,2018,2019,2020,2021,2022,null,{"$f":"N$13","v":"Enter Transition Year"}]
["Reporting Basis",null,{"$f":"IF(C354=0, \"\", C354)","v":""},"","",{"$f":"IF($F$14=0, \"\", $F$14)","v":""},{"$f":"IF($G$14=0, \"\", $G$14)","v":""},{"$f":"IF($H$14=0, \"\", $H$14)","v":""},{"$f":"IF($I$14=0, \"\", $I$14)","v":""},{"$f":"IF($J$14=0, \"\", $J$14)","v":""},{"$f":"IF($K$14=0, \"\", $K$14)","v":""},{"$f":"IF($L$14=0, \"\", $L$14)","v":""},null,{"$f":"IF($N$14=0, \"\", $N$14)","v":""}]
[]
[]
[]
[]
[]
[]
[]
[]
["Total",null,{"$f":"SUM(C417:C424)","v":0},{"$f":"SUM(D417:D424)","v":0},{"$f":"SUM(E417:E424)","v":0},{"$f":"SUM(F417:F424)","v":0},{"$f":"SUM(G417:G424)","v":0},{"$f":"SUM(H417:H424)","v":0},{"$f":"SUM(I417:I424)","v":0},{"$f":"SUM(J417:J424)","v":0},{"$f":"SUM(K417:K424)","v":0},{"$f":"SUM(L417:L424)","v":0},null,{"$f":"SUM(N417:N424)","v":0}]
[]
[]
[null,null,{"$f":"C$12","v":"2013 Actual²"},"2014 Actual²","2015 Actual²","2016 Actual²","2017 Actual²","2018 Actual²","2019 Actual²","2020 Actual","Bridge Year","Test Year",null,{"$f":"N$12","v":"CGAAP"}]
[null,null,{"$f":"C$13","v":2013},2014,2015,2016,2017,2018,2019,2020,2021,2022,null,{"$f":"N$13","v":"Enter Transition Year"}]
["Reporting Basis",null,{"$f":"IF(C368=0, \"\", C368)","v":""},"","",{"$f":"IF($F$14=0, \"\", $F$14)","v":""},{"$f":"IF($G$14=0, \"\", $G$14)","v":""},{"$f":"IF($H$14=0, \"\", $H$14)","v":""},{"$f":"IF($I$14=0, \"\", $I$14)","v":""},{"$f":"IF($J$14=0, \"\", $J$14)","v":""},{"$f":"IF($K$14=0, \"\", $K$14)","v":""},{"$f":"IF($L$14=0, \"\", $L$14)","v":""},null,{"$f":"IF($N$14=0, \"\", $N$14)","v":""}]
[]
[]
[]
[]
[]
[]
[]
[]
["Total",null,{"$f":"SUM(C431:C438)","v":0},{"$f":"SUM(D431:D438)","v":0},{"$f":"SUM(E431:E438)","v":0},{"$f":"SUM(F431:F438)","v":0},{"$f":"SUM(G431:G438)","v":0},{"$f":"SUM(H431:H438)","v":0},{"$f":"SUM(I431:I438)","v":0},{"$f":"SUM(J431:J438)","v":0},{"$f":"SUM(K431:K438)","v":0},{"$f":"SUM(L431:L438)","v":0},null,{"$f":"SUM(N431:N438)","v":0}]
[]
[]
[null,null,{"$f":"C$12","v":"2013 Actual²"},"2014 Actual²","2015 Actual²","2016 Actual²","2017 Actual²","2018 Actual²","2019 Actual²","2020 Actual","Bridge Year","Test Year",null,{"$f":"N$12","v":"CGAAP"}]
[null,null,{"$f":"C$13","v":2013},2014,2015,2016,2017,2018,2019,2020,2021,2022,null,{"$f":"N$13","v":"Enter Transition Year"}]
["Reporting Basis",null,{"$f":"IF(C382=0, \"\", C382)","v":""},"","",{"$f":"IF($F$14=0, \"\", $F$14)","v":""},{"$f":"IF($G$14=0, \"\", $G$14)","v":""},{"$f":"IF($H$14=0, \"\", $H$14)","v":""},{"$f":"IF($I$14=0, \"\", $I$14)","v":""},{"$f":"IF($J$14=0, \"\", $J$14)","v":""},{"$f":"IF($K$14=0, \"\", $K$14)","v":""},{"$f":"IF($L$14=0, \"\", $L$14)","v":""},null,{"$f":"IF($N$14=0, \"\", $N$14)","v":""}]
[]
[]
[]
[]
[]
[]
[]
[]
["Total",null,{"$f":"SUM(C445:C452)","v":0},{"$f":"SUM(D445:D452)","v":0},{"$f":"SUM(E445:E452)","v":0},{"$f":"SUM(F445:F452)","v":0},{"$f":"SUM(G445:G452)","v":0},{"$f":"SUM(H445:H452)","v":0},{"$f":"SUM(I445:I452)","v":0},{"$f":"SUM(J445:J452)","v":0},{"$f":"SUM(K445:K452)","v":0},{"$f":"SUM(L445:L452)","v":0},null,{"$f":"SUM(N445:N452)","v":0}]
[]
[]
[null,null,{"$f":"C$12","v":"2013 Actual²"},"2014 Actual²","2015 Actual²","2016 Actual²","2017 Actual²","2018 Actual²","2019 Actual²","2020 Actual","Bridge Year","Test Year",null,{"$f":"N$12","v":"CGAAP"}]
[null,null,{"$f":"C$13","v":2013},2014,2015,2016,2017,2018,2019,2020,2021,2022,null,{"$f":"N$13","v":"Enter Transition Year"}]
["Reporting Basis",null,{"$f":"IF(C396=0, \"\", C396)","v":""},"","",{"$f":"IF($F$14=0, \"\", $F$14)","v":""},{"$f":"IF($G$14=0, \"\", $G$14)","v":""},{"$f":"IF($H$14=0, \"\", $H$14)","v":""},{"$f":"IF($I$14=0, \"\", $I$14)","v":""},{"$f":"IF($J$14=0, \"\", $J$14)","v":""},{"$f":"IF($K$14=0, \"\", $K$14)","v":""},{"$f":"IF($L$14=0, \"\", $L$14)","v":""},null,{"$f":"IF($N$14=0, \"\", $N$14)","v":""}]
[]
[]
[]
[]
[]
[]
[]
[]
["Total",null,{"$f":"SUM(C459:C466)","v":0},{"$f":"SUM(D459:D466)","v":0},{"$f":"SUM(E459:E466)","v":0},{"$f":"SUM(F459:F466)","v":0},{"$f":"SUM(G459:G466)","v":0},{"$f":"SUM(H459:H466)","v":0},{"$f":"SUM(I459:I466)","v":0},{"$f":"SUM(J459:J466)","v":0},{"$f":"SUM(K459:K466)","v":0},{"$f":"SUM(L459:L466)","v":0},null,{"$f":"SUM(N459:N466)","v":0}]
[]
[]
[null,null,{"$f":"C$12","v":"2013 Actual²"},"2014 Actual²","2015 Actual²","2016 Actual²","2017 Actual²","2018 Actual²","2019 Actual²","2020 Actual","Bridge Year","Test Year",null,{"$f":"N$12","v":"CGAAP"}]
[null,null,{"$f":"C$13","v":2013},2014,2015,2016,2017,2018,2019,2020,2021,2022,null,{"$f":"N$13","v":"Enter Transition Year"}]
["Reporting Basis",null,{"$f":"IF(C410=0, \"\", C410)","v":""},"","",{"$f":"IF($F$14=0, \"\", $F$14)","v":""},{"$f":"IF($G$14=0, \"\", $G$14)","v":""},{"$f":"IF($H$14=0, \"\", $H$14)","v":""},{"$f":"IF($I$14=0, \"\", $I$14)","v":""},{"$f":"IF($J$14=0, \"\", $J$14)","v":""},{"$f":"IF($K$14=0, \"\", $K$14)","v":""},{"$f":"IF($L$14=0, \"\", $L$14)","v":""},null,{"$f":"IF($N$14=0, \"\", $N$14)","v":""}]
[]
[]
[]
[]
[]
[]
[]
[]
["Total",null,{"$f":"SUM(C473:C480)","v":0},{"$f":"SUM(D473:D480)","v":0},{"$f":"SUM(E473:E480)","v":0},{"$f":"SUM(F473:F480)","v":0},{"$f":"SUM(G473:G480)","v":0},{"$f":"SUM(H473:H480)","v":0},{"$f":"SUM(I473:I480)","v":0},{"$f":"SUM(J473:J480)","v":0},{"$f":"SUM(K473:K480)","v":0},{"$f":"SUM(L473:L480)","v":0},null,{"$f":"SUM(N473:N480)","v":0}]
[]
[]
[null,null,{"$f":"C$12","v":"2013 Actual²"},"2014 Actual²","2015 Actual²","2016 Actual²","2017 Actual²","2018 Actual²","2019 Actual²","2020 Actual","Bridge Year","Test Year",null,{"$f":"N$12","v":"CGAAP"}]
[null,null,{"$f":"C$13","v":2013},2014,2015,2016,2017,2018,2019,2020,2021,2022,null,{"$f":"N$13","v":"Enter Transition Year"}]
["Reporting Basis",null,{"$f":"IF(C424=0, \"\", C424)","v":""},"","",{"$f":"IF($F$14=0, \"\", $F$14)","v":""},{"$f":"IF($G$14=0, \"\", $G$14)","v":""},{"$f":"IF($H$14=0, \"\", $H$14)","v":""},{"$f":"IF($I$14=0, \"\", $I$14)","v":""},{"$f":"IF($J$14=0, \"\", $J$14)","v":""},{"$f":"IF($K$14=0, \"\", $K$14)","v":""},{"$f":"IF($L$14=0, \"\", $L$14)","v":""},null,{"$f":"IF($N$14=0, \"\", $N$14)","v":""}]
[]
[]
[]
[]
[]
[]
[]
[]
["Total",null,{"$f":"SUM(C487:C494)","v":0},{"$f":"SUM(D487:D494)","v":0},{"$f":"SUM(E487:E494)","v":0},{"$f":"SUM(F487:F494)","v":0},{"$f":"SUM(G487:G494)","v":0},{"$f":"SUM(H487:H494)","v":0},{"$f":"SUM(I487:I494)","v":0},{"$f":"SUM(J487:J494)","v":0},{"$f":"SUM(K487:K494)","v":0},{"$f":"SUM(L487:L494)","v":0},null,{"$f":"SUM(N487:N494)","v":0}]
[]
[]
[null,null,{"$f":"C$12","v":"2013 Actual²"},"2014 Actual²","2015 Actual²","2016 Actual²","2017 Actual²","2018 Actual²","2019 Actual²","2020 Actual","Bridge Year","Test Year",null,{"$f":"N$12","v":"CGAAP"}]
[null,null,{"$f":"C$13","v":2013},2014,2015,2016,2017,2018,2019,2020,2021,2022,null,{"$f":"N$13","v":"Enter Transition Year"}]
["Reporting Basis",null,{"$f":"IF(C438=0, \"\", C438)","v":""},"","",{"$f":"IF($F$14=0, \"\", $F$14)","v":""},{"$f":"IF($G$14=0, \"\", $G$14)","v":""},{"$f":"IF($H$14=0, \"\", $H$14)","v":""},{"$f":"IF($I$14=0, \"\", $I$14)","v":""},{"$f":"IF($J$14=0, \"\", $J$14)","v":""},{"$f":"IF($K$14=0, \"\", $K$14)","v":""},{"$f":"IF($L$14=0, \"\", $L$14)","v":""},null,{"$f":"IF($N$14=0, \"\", $N$14)","v":""}]
[]
[]
[]
[]
[]
[]
[]
[]
["Total",null,{"$f":"SUM(C501:C508)","v":0},{"$f":"SUM(D501:D508)","v":0},{"$f":"SUM(E501:E508)","v":0},{"$f":"SUM(F501:F508)","v":0},{"$f":"SUM(G501:G508)","v":0},{"$f":"SUM(H501:H508)","v":0},{"$f":"SUM(I501:I508)","v":0},{"$f":"SUM(J501:J508)","v":0},{"$f":"SUM(K501:K508)","v":0},{"$f":"SUM(L501:L508)","v":0},null,{"$f":"SUM(N501:N508)","v":0}]
[]
[]
[null,null,{"$f":"C$12","v":"2013 Actual²"},"2014 Actual²","2015 Actual²","2016 Actual²","2017 Actual²","2018 Actual²","2019 Actual²","2020 Actual","Bridge Year","Test Year",null,{"$f":"N$12","v":"CGAAP"}]
[null,null,{"$f":"C$13","v":2013},2014,2015,2016,2017,2018,2019,2020,2021,2022,null,{"$f":"N$13","v":"Enter Transition Year"}]
["Reporting Basis",null,{"$f":"IF(C452=0, \"\", C452)","v":""},"","",{"$f":"IF($F$14=0, \"\", $F$14)","v":""},{"$f":"IF($G$14=0, \"\", $G$14)","v":""},{"$f":"IF($H$14=0, \"\", $H$14)","v":""},{"$f":"IF($I$14=0, \"\", $I$14)","v":""},{"$f":"IF($J$14=0, \"\", $J$14)","v":""},{"$f":"IF($K$14=0, \"\", $K$14)","v":""},{"$f":"IF($L$14=0, \"\", $L$14)","v":""},null,{"$f":"IF($N$14=0, \"\", $N$14)","v":""}]
[]
[]
[]
[]
[]
[]
[]
[]
["Total",null,{"$f":"SUM(C515:C522)","v":0},{"$f":"SUM(D515:D522)","v":0},{"$f":"SUM(E515:E522)","v":0},{"$f":"SUM(F515:F522)","v":0},{"$f":"SUM(G515:G522)","v":0},{"$f":"SUM(H515:H522)","v":0},{"$f":"SUM(I515:I522)","v":0},{"$f":"SUM(J515:J522)","v":0},{"$f":"SUM(K515:K522)","v":0},{"$f":"SUM(L515:L522)","v":0},null,{"$f":"SUM(N515:N522)","v":0}]
[]
[]
[null,null,{"$f":"C$12","v":"2013 Actual²"},"2014 Actual²","2015 Actual²","2016 Actual²","2017 Actual²","2018 Actual²","2019 Actual²","2020 Actual","Bridge Year","Test Year",null,{"$f":"N$12","v":"CGAAP"}]
[null,null,{"$f":"C$13","v":2013},2014,2015,2016,2017,2018,2019,2020,2021,2022,null,{"$f":"N$13","v":"Enter Transition Year"}]
["Reporting Basis",null,{"$f":"IF(C466=0, \"\", C466)","v":""},"","",{"$f":"IF($F$14=0, \"\", $F$14)","v":""},{"$f":"IF($G$14=0, \"\", $G$14)","v":""},{"$f":"IF($H$14=0, \"\", $H$14)","v":""},{"$f":"IF($I$14=0, \"\", $I$14)","v":""},{"$f":"IF($J$14=0, \"\", $J$14)","v":""},{"$f":"IF($K$14=0, \"\", $K$14)","v":""},{"$f":"IF($L$14=0, \"\", $L$14)","v":""},null,{"$f":"IF($N$14=0, \"\", $N$14)","v":""}]
[]
[]
[]
[]
[]
[]
[]
[]
["Total",null,{"$f":"SUM(C529:C536)","v":0},{"$f":"SUM(D529:D536)","v":0},{"$f":"SUM(E529:E536)","v":0},{"$f":"SUM(F529:F536)","v":0},{"$f":"SUM(G529:G536)","v":0},{"$f":"SUM(H529:H536)","v":0},{"$f":"SUM(I529:I536)","v":0},{"$f":"SUM(J529:J536)","v":0},{"$f":"SUM(K529:K536)","v":0},{"$f":"SUM(L529:L536)","v":0},null,{"$f":"SUM(N529:N536)","v":0}]
[]
[]
[null,null,{"$f":"C$12","v":"2013 Actual²"},"2014 Actual²","2015 Actual²","2016 Actual²","2017 Actual²","2018 Actual²","2019 Actual²","2020 Actual","Bridge Year","Test Year",null,{"$f":"N$12","v":"CGAAP"}]
[null,null,{"$f":"C$13","v":2013},2014,2015,2016,2017,2018,2019,2020,2021,2022,null,{"$f":"N$13","v":"Enter Transition Year"}]
["Reporting Basis",null,{"$f":"IF(C480=0, \"\", C480)","v":""},"","",{"$f":"IF($F$14=0, \"\", $F$14)","v":""},{"$f":"IF($G$14=0, \"\", $G$14)","v":""},{"$f":"IF($H$14=0, \"\", $H$14)","v":""},{"$f":"IF($I$14=0, \"\", $I$14)","v":""},{"$f":"IF($J$14=0, \"\", $J$14)","v":""},{"$f":"IF($K$14=0, \"\", $K$14)","v":""},{"$f":"IF($L$14=0, \"\", $L$14)","v":""},null,{"$f":"IF($N$14=0, \"\", $N$14)","v":""}]
[]
[]
[]
[]
[]
[]
[]
[]
["Total",null,{"$f":"SUM(C543:C550)","v":0},{"$f":"SUM(D543:D550)","v":0},{"$f":"SUM(E543:E550)","v":0},{"$f":"SUM(F543:F550)","v":0},{"$f":"SUM(G543:G550)","v":0},{"$f":"SUM(H543:H550)","v":0},{"$f":"SUM(I543:I550)","v":0},{"$f":"SUM(J543:J550)","v":0},{"$f":"SUM(K543:K550)","v":0},{"$f":"SUM(L543:L550)","v":0},null,{"$f":"SUM(N543:N550)","v":0}]
[]
[]
[null,null,{"$f":"C$12","v":"2013 Actual²"},"2014 Actual²","2015 Actual²","2016 Actual²","2017 Actual²","2018 Actual²","2019 Actual²","2020 Actual","Bridge Year","Test Year",null,{"$f":"N$12","v":"CGAAP"}]
[null,null,{"$f":"C$13","v":2013},2014,2015,2016,2017,2018,2019,2020,2021,2022,null,{"$f":"N$13","v":"Enter Transition Year"}]
["Reporting Basis",null,{"$f":"IF(C494=0, \"\", C494)","v":""},"","",{"$f":"IF($F$14=0, \"\", $F$14)","v":""},{"$f":"IF($G$14=0, \"\", $G$14)","v":""},{"$f":"IF($H$14=0, \"\", $H$14)","v":""},{"$f":"IF($I$14=0, \"\", $I$14)","v":""},{"$f":"IF($J$14=0, \"\", $J$14)","v":""},{"$f":"IF($K$14=0, \"\", $K$14)","v":""},{"$f":"IF($L$14=0, \"\", $L$14)","v":""},null,{"$f":"IF($N$14=0, \"\", $N$14)","v":""}]
[]
[]
[]
[]
[]
[]
[]
[]
["Total",null,{"$f":"SUM(C557:C564)","v":0},{"$f":"SUM(D557:D564)","v":0},{"$f":"SUM(E557:E564)","v":0},{"$f":"SUM(F557:F564)","v":0},{"$f":"SUM(G557:G564)","v":0},{"$f":"SUM(H557:H564)","v":0},{"$f":"SUM(I557:I564)","v":0},{"$f":"SUM(J557:J564)","v":0},{"$f":"SUM(K557:K564)","v":0},{"$f":"SUM(L557:L564)","v":0},null,{"$f":"SUM(N557:N564)","v":0}]
[]
[]
[null,null,{"$f":"C$12","v":"2013 Actual²"},"2014 Actual²","2015 Actual²","2016 Actual²","2017 Actual²","2018 Actual²","2019 Actual²","2020 Actual","Bridge Year","Test Year",null,{"$f":"N$12","v":"CGAAP"}]
[null,null,{"$f":"C$13","v":2013},2014,2015,2016,2017,2018,2019,2020,2021,2022,null,{"$f":"N$13","v":"Enter Transition Year"}]
["Reporting Basis",null,{"$f":"IF(C508=0, \"\", C508)","v":""},"","",{"$f":"IF($F$14=0, \"\", $F$14)","v":""},{"$f":"IF($G$14=0, \"\", $G$14)","v":""},{"$f":"IF($H$14=0, \"\", $H$14)","v":""},{"$f":"IF($I$14=0, \"\", $I$14)","v":""},{"$f":"IF($J$14=0, \"\", $J$14)","v":""},{"$f":"IF($K$14=0, \"\", $K$14)","v":""},{"$f":"IF($L$14=0, \"\", $L$14)","v":""},null,{"$f":"IF($N$14=0, \"\", $N$14)","v":""}]
[]
[]
[]
[]
[]
[]
[]
[]
["Total",null,{"$f":"SUM(C571:C578)","v":0},{"$f":"SUM(D571:D578)","v":0},{"$f":"SUM(E571:E578)","v":0},{"$f":"SUM(F571:F578)","v":0},{"$f":"SUM(G571:G578)","v":0},{"$f":"SUM(H571:H578)","v":0},{"$f":"SUM(I571:I578)","v":0},{"$f":"SUM(J571:J578)","v":0},{"$f":"SUM(K571:K578)","v":0},{"$f":"SUM(L571:L578)","v":0},null,{"$f":"SUM(N571:N578)","v":0}]

{"sheet":"Hidden_Other Revenue","index":31,"n_rows":41,"n_cols":8,"rows_kept":41,"cut":false,"hidden":true,"merged":[]}
["Utility Name","EB Number","Test Year","Bridge Year","Last Rebasing Year","Heading ","Year","Amount "]
[{"$f":"'LDC Info'!$E$14","v":"Ottawa River Power Corporation"},{"$f":"EBNUMBER","v":"EB-2021-0052"},{"$f":"TestYear","v":2022},{"$f":"BridgeYear","v":2021},{"$f":"RebaseYear","v":2016},"Specific Service Charges",{"$f":"'App.2-H_Other_Oper_Rev'!C13","v":2013},{"$f":"'App.2-H_Other_Oper_Rev'!C65","v":0}]
[{"$f":"'LDC Info'!$E$14","v":"Ottawa River Power Corporation"},"EB-2021-0052",2022,2021,2016,"Late Payment Charges",{"$f":"'App.2-H_Other_Oper_Rev'!C13","v":2013},{"$f":"'App.2-H_Other_Oper_Rev'!C66","v":{"$error":"#REF!"}}]
[{"$f":"'LDC Info'!$E$14","v":"Ottawa River Power Corporation"},"EB-2021-0052",2022,2021,2016,"Other Operating Revenues",{"$f":"'App.2-H_Other_Oper_Rev'!C13","v":2013},{"$f":"'App.2-H_Other_Oper_Rev'!C67","v":0}]
[{"$f":"'LDC Info'!$E$14","v":"Ottawa River Power Corporation"},"EB-2021-0052",2022,2021,2016,"Other Income or Deductions",{"$f":"'App.2-H_Other_Oper_Rev'!C13","v":2013},{"$f":"'App.2-H_Other_Oper_Rev'!C68","v":0}]
[{"$f":"'LDC Info'!$E$14","v":"Ottawa River Power Corporation"},"EB-2021-0052",2022,2021,2016,"Specific Service Charges",{"$f":"'App.2-H_Other_Oper_Rev'!D13","v":2014},{"$f":"'App.2-H_Other_Oper_Rev'!D65","v":0}]
[{"$f":"'LDC Info'!$E$14","v":"Ottawa River Power Corporation"},"EB-2021-0052",2022,2021,2016,"Late Payment Charges",{"$f":"'App.2-H_Other_Oper_Rev'!D13","v":2014},{"$f":"'App.2-H_Other_Oper_Rev'!D66","v":{"$error":"#REF!"}}]
[{"$f":"'LDC Info'!$E$14","v":"Ottawa River Power Corporation"},"EB-2021-0052",2022,2021,2016,"Other Operating Revenues",{"$f":"'App.2-H_Other_Oper_Rev'!D13","v":2014},{"$f":"'App.2-H_Other_Oper_Rev'!D67","v":0}]
[{"$f":"'LDC Info'!$E$14","v":"Ottawa River Power Corporation"},"EB-2021-0052",2022,2021,2016,"Other Income or Deductions",{"$f":"'App.2-H_Other_Oper_Rev'!D13","v":2014},{"$f":"'App.2-H_Other_Oper_Rev'!D68","v":0}]
[{"$f":"'LDC Info'!$E$14","v":"Ottawa River Power Corporation"},"EB-2021-0052",2022,2021,2016,"Specific Service Charges",{"$f":"'App.2-H_Other_Oper_Rev'!E13","v":2015},{"$f":"'App.2-H_Other_Oper_Rev'!E65","v":0}]
[{"$f":"'LDC Info'!$E$14","v":"Ottawa River Power Corporation"},"EB-2021-0052",2022,2021,2016,"Late Payment Charges",{"$f":"'App.2-H_Other_Oper_Rev'!E13","v":2015},{"$f":"'App.2-H_Other_Oper_Rev'!E66","v":{"$error":"#REF!"}}]
[{"$f":"'LDC Info'!$E$14","v":"Ottawa River Power Corporation"},"EB-2021-0052",2022,2021,2016,"Other Operating Revenues",{"$f":"'App.2-H_Other_Oper_Rev'!E13","v":2015},{"$f":"'App.2-H_Other_Oper_Rev'!E67","v":0}]
[{"$f":"'LDC Info'!$E$14","v":"Ottawa River Power Corporation"},"EB-2021-0052",2022,2021,2016,"Other Income or Deductions",{"$f":"'App.2-H_Other_Oper_Rev'!E13","v":2015},{"$f":"'App.2-H_Other_Oper_Rev'!E68","v":0}]
[{"$f":"'LDC Info'!$E$14","v":"Ottawa River Power Corporation"},"EB-2021-0052",2022,2021,2016,"Specific Service Charges",{"$f":"'App.2-H_Other_Oper_Rev'!F13","v":2016},{"$f":"'App.2-H_Other_Oper_Rev'!F65","v":-74072.759999999995}]
[{"$f":"'LDC Info'!$E$14","v":"Ottawa River Power Corporation"},"EB-2021-0052",2022,2021,2016,"Late Payment Charges",{"$f":"'App.2-H_Other_Oper_Rev'!F13","v":2016},{"$f":"'App.2-H_Other_Oper_Rev'!F66","v":-57075.93}]
[{"$f":"'LDC Info'!$E$14","v":"Ottawa River Power Corporation"},"EB-2021-0052",2022,2021,2016,"Other Operating Revenues",{"$f":"'App.2-H_Other_Oper_Rev'!F13","v":2016},{"$f":"'App.2-H_Other_Oper_Rev'!F67","v":-97320.69}]
[{"$f":"'LDC Info'!$E$14","v":"Ottawa River Power Corporation"},"EB-2021-0052",2022,2021,2016,"Other Income or Deductions",{"$f":"'App.2-H_Other_Oper_Rev'!F13","v":2016},{"$f":"'App.2-H_Other_Oper_Rev'!F68","v":-100648.68000000001}]
[{"$f":"'LDC Info'!$E$14","v":"Ottawa River Power Corporation"},"EB-2021-0052",2022,2021,2016,"Specific Service Charges",{"$f":"'App.2-H_Other_Oper_Rev'!G13","v":2017},{"$f":"'App.2-H_Other_Oper_Rev'!G65","v":-64248.07}]
[{"$f":"'LDC Info'!$E$14","v":"Ottawa River Power Corporation"},"EB-2021-0052",2022,2021,2016,"Late Payment Charges",{"$f":"'App.2-H_Other_Oper_Rev'!G13","v":2017},{"$f":"'App.2-H_Other_Oper_Rev'!G66","v":-55610.62}]
[{"$f":"'LDC Info'!$E$14","v":"Ottawa River Power Corporation"},"EB-2021-0052",2022,2021,2016,"Other Operating Revenues",{"$f":"'App.2-H_Other_Oper_Rev'!G13","v":2017},{"$f":"'App.2-H_Other_Oper_Rev'!G67","v":-97771.15}]
[{"$f":"'LDC Info'!$E$14","v":"Ottawa River Power Corporation"},"EB-2021-0052",2022,2021,2016,"Other Income or Deductions",{"$f":"'App.2-H_Other_Oper_Rev'!G13","v":2017},{"$f":"'App.2-H_Other_Oper_Rev'!G68","v":-166353.35}]
[{"$f":"'LDC Info'!$E$14","v":"Ottawa River Power Corporation"},"EB-2021-0052",2022,2021,2016,"Specific Service Charges",{"$f":"'App.2-H_Other_Oper_Rev'!H13","v":2018},{"$f":"'App.2-H_Other_Oper_Rev'!H65","v":-61507.85}]
[{"$f":"'LDC Info'!$E$14","v":"Ottawa River Power Corporation"},"EB-2021-0052",2022,2021,2016,"Late Payment Charges",{"$f":"'App.2-H_Other_Oper_Rev'!H13","v":2018},{"$f":"'App.2-H_Other_Oper_Rev'!H66","v":-86747.77}]
[{"$f":"'LDC Info'!$E$14","v":"Ottawa River Power Corporation"},"EB-2021-0052",2022,2021,2016,"Other Operating Revenues",{"$f":"'App.2-H_Other_Oper_Rev'!H13","v":2018},{"$f":"'App.2-H_Other_Oper_Rev'!H67","v":-75221.36}]
[{"$f":"'LDC Info'!$E$14","v":"Ottawa River Power Corporation"},"EB-2021-0052",2022,2021,2016,"Other Income or Deductions",{"$f":"'App.2-H_Other_Oper_Rev'!H13","v":2018},{"$f":"'App.2-H_Other_Oper_Rev'!H68","v":-273108.83999999997}]
[{"$f":"'LDC Info'!$E$14","v":"Ottawa River Power Corporation"},"EB-2021-0052",2022,2021,2016,"Specific Service Charges",{"$f":"'App.2-H_Other_Oper_Rev'!I13","v":2019},{"$f":"'App.2-H_Other_Oper_Rev'!I65","v":-51647.33}]
[{"$f":"'LDC Info'!$E$14","v":"Ottawa River Power Corporation"},"EB-2021-0052",2022,2021,2016,"Late Payment Charges",{"$f":"'App.2-H_Other_Oper_Rev'!I13","v":2019},{"$f":"'App.2-H_Other_Oper_Rev'!I66","v":-47920.46}]
[{"$f":"'LDC Info'!$E$14","v":"Ottawa River Power Corporation"},"EB-2021-0052",2022,2021,2016,"Other Operating Revenues",{"$f":"'App.2-H_Other_Oper_Rev'!I13","v":2019},{"$f":"'App.2-H_Other_Oper_Rev'!I67","v":-89022.8}]
[{"$f":"'LDC Info'!$E$14","v":"Ottawa River Power Corporation"},"EB-2021-0052",2022,2021,2016,"Other Income or Deductions",{"$f":"'App.2-H_Other_Oper_Rev'!I13","v":2019},{"$f":"'App.2-H_Other_Oper_Rev'!I68","v":-185395.16999999995}]
[{"$f":"'LDC Info'!$E$14","v":"Ottawa River Power Corporation"},"EB-2021-0052",2022,2021,2016,"Specific Service Charges",{"$f":"'App.2-H_Other_Oper_Rev'!J13","v":2020},{"$f":"'App.2-H_Other_Oper_Rev'!J65","v":-49101.760000000002}]
[{"$f":"'LDC Info'!$E$14","v":"Ottawa River Power Corporation"},"EB-2021-0052",2022,2021,2016,"Late Payment Charges",{"$f":"'App.2-H_Other_Oper_Rev'!J13","v":2020},{"$f":"'App.2-H_Other_Oper_Rev'!J66","v":-29687.91}]
[{"$f":"'LDC Info'!$E$14","v":"Ottawa River Power Corporation"},"EB-2021-0052",2022,2021,2016,"Other Operating Revenues",{"$f":"'App.2-H_Other_Oper_Rev'!J13","v":2020},{"$f":"'App.2-H_Other_Oper_Rev'!J67","v":-129386.14000000001}]
[{"$f":"'LDC Info'!$E$14","v":"Ottawa River Power Corporation"},"EB-2021-0052",2022,2021,2016,"Other Income or Deductions",{"$f":"'App.2-H_Other_Oper_Rev'!J13","v":2020},{"$f":"'App.2-H_Other_Oper_Rev'!J68","v":-88071.189999999988}]
[{"$f":"'LDC Info'!$E$14","v":"Ottawa River Power Corporation"},"EB-2021-0052",2022,2021,2016,"Specific Service Charges",{"$f":"'App.2-H_Other_Oper_Rev'!K13","v":2021},{"$f":"'App.2-H_Other_Oper_Rev'!K65","v":-49000}]
[{"$f":"'LDC Info'!$E$14","v":"Ottawa River Power Corporation"},"EB-2021-0052",2022,2021,2016,"Late Payment Charges",{"$f":"'App.2-H_Other_Oper_Rev'!K13","v":2021},{"$f":"'App.2-H_Other_Oper_Rev'!K66","v":-66986.58}]
[{"$f":"'LDC Info'!$E$14","v":"Ottawa River Power Corporation"},"EB-2021-0052",2022,2021,2016,"Other Operating Revenues",{"$f":"'App.2-H_Other_Oper_Rev'!K13","v":2021},{"$f":"'App.2-H_Other_Oper_Rev'!K67","v":-111417.54000000001}]
[{"$f":"'LDC Info'!$E$14","v":"Ottawa River Power Corporation"},"EB-2021-0052",2022,2021,2016,"Other Income or Deductions",{"$f":"'App.2-H_Other_Oper_Rev'!K13","v":2021},{"$f":"'App.2-H_Other_Oper_Rev'!K68","v":-68900}]
[{"$f":"'LDC Info'!$E$14","v":"Ottawa River Power Corporation"},"EB-2021-0052",2022,2021,2016,"Specific Service Charges",{"$f":"'App.2-H_Other_Oper_Rev'!L13","v":2022},{"$f":"'App.2-H_Other_Oper_Rev'!L65","v":-49000}]
[{"$f":"'LDC Info'!$E$14","v":"Ottawa River Power Corporation"},"EB-2021-0052",2022,2021,2016,"Late Payment Charges",{"$f":"'App.2-H_Other_Oper_Rev'!L13","v":2022},{"$f":"'App.2-H_Other_Oper_Rev'!L66","v":-66986.58}]
[{"$f":"'LDC Info'!$E$14","v":"Ottawa River Power Corporation"},"EB-2021-0052",2022,2021,2016,"Other Operating Revenues",{"$f":"'App.2-H_Other_Oper_Rev'!L13","v":2022},{"$f":"'App.2-H_Other_Oper_Rev'!L67","v":-172794.28999999998}]
[{"$f":"'LDC Info'!$E$14","v":"Ottawa River Power Corporation"},"EB-2021-0052",2022,2021,2016,"Other Income or Deductions",{"$f":"'App.2-H_Other_Oper_Rev'!L13","v":2022},{"$f":"'App.2-H_Other_Oper_Rev'!L68","v":-76900}]

{"sheet":"Several_Accounts","index":32,"n_rows":3089,"n_cols":11,"rows_kept":3089,"cut":false,"hidden":true,"merged":[[1996,1,1996,3],[2668,1,2668,3],[1828,1,1828,3],[1870,1,1870,3],[1912,1,1912,3],[1954,1,1954,3],[2038,1,2038,3],[2080,1,2080,3],[2122,1,2122,3],[2164,1,2164,3],[2206,1,2206,3],[2248,1,2248,3],[2290,1,2290,3],[2332,1,2332,3],[2374,1,2374,3],[2416,1,2416,3],[46,1,46,3],[84,1,84,3],[126,1,126,3],[168,1,168,3],[622,1,622,3],[210,1,210,3],[252,1,252,3],[290,1,290,3],[332,1,332,3],[374,1,374,3],[416,1,416,3],[454,1,454,3],[496,1,496,3],[538,1,538,3],[580,1,580,3],[832,1,832,3],[664,1,664,3],[706,1,706,3],[748,1,748,3],[790,1,790,3],[874,1,874,3],[916,1,916,3],[958,1,958,3],[1000,1,1000,3],[1084,1,1084,3],[1042,1,1042,3],[1122,1,1122,3],[1164,1,1164,3],[1206,1,1206,3],[1248,1,1248,3],[1290,1,1290,3],[1332,1,1332,3],[1374,1,1374,3],[1412,1,1412,3],[1454,1,1454,3],[1786,1,1786,3],[1702,1,1702,3],[1496,1,1496,3],[1534,1,1534,3],[1576,1,1576,3],[1618,1,1618,3],[1660,1,1660,3],[1744,1,1744,3],[2458,1,2458,3],[2500,1,2500,3],[2542,1,2542,3],[2584,1,2584,3],[2626,1,2626,3],[2962,1,2962,3],[3004,1,3004,3],[2710,1,2710,3],[3046,1,3046,3],[3088,1,3088,3],[2752,1,2752,3],[2794,1,2794,3],[2836,1,2836,3],[2878,1,2878,3],[2920,1,2920,3]]}
[null,"Several Accounts - Rates Group"]
[null,"Time run: 6/8/2021 12:36:20 PM"]
[null,""]
[null,null,null,null,2017,2018,2019,2020,2021]
["A+B","Company Name","Account Number","Account Description","January 1, 2016 - December 31, 2016","January 1, 2017 - December 31, 2017","January 1, 2018 - December 31, 2018","January 1, 2019 - December 31, 2019","January 1, 2020 - December 31, 2020"]
["Alectra Utilities Corporation 4082","Alectra Utilities Corporation","4082","Retail Services Revenues",null,-758572.38,-663750.22,-470501.08,-352727.91,null,{"$f":"B6 & \" \" &C6","v":"Alectra Utilities Corporation 4082"}]
["Alectra Utilities Corporation 4084","Alectra Utilities Corporation","4084","Service Transaction Requests (STR) Revenues",null,-24656.63,-43131.8,-8823.75,-13983.09,null,"Alectra Utilities Corporation 4084"]
["Alectra Utilities Corporation 4086","Alectra Utilities Corporation","4086","SSS Administration Revenue",null,-540507.44999999995,-597648.29,-3204121.15,-3131232.89,null,"Alectra Utilities Corporation 4086"]
["Alectra Utilities Corporation 4090","Alectra Utilities Corporation","4090","Electric Services Incidental to Energy Sales",null,1.55,0,0,0,null,"Alectra Utilities Corporation 4090"]
["Alectra Utilities Corporation 4205","Alectra Utilities Corporation","4205","Interdepartmental Rents",null,0,0,0,0,null,"Alectra Utilities Corporation 4205"]
["Alectra Utilities Corporation 4210","Alectra Utilities Corporation","4210","Rent from Electric Property",null,-2937904.95,-3075116.2,-3917802.29,-3553620.07,null,"Alectra Utilities Corporation 4210"]
["Alectra Utilities Corporation 4215","Alectra Utilities Corporation","4215","Other Utility Operating Income",null,0,0,0,0,null,"Alectra Utilities Corporation 4215"]
["Alectra Utilities Corporation 4220","Alectra Utilities Corporation","4220","Other Electric Revenues",null,-15400,-16800,0,0,null,"Alectra Utilities Corporation 4220"]
["Alectra Utilities Corporation 4225","Alectra Utilities Corporation","4225","Late Payment Charges",null,-5063281.0599999996,-5777388.0099999998,-6914200.6500000004,-6011376.5800000001,null,"Alectra Utilities Corporation 4225"]
["Alectra Utilities Corporation 4230","Alectra Utilities Corporation","4230","Sales of Water and Water Power",null,0,0,0,0,null,"Alectra Utilities Corporation 4230"]
["Alectra Utilities Corporation 4235","Alectra Utilities Corporation","4235","Miscellaneous Service Revenues",null,-9257004.4600000009,-15745220.789999999,-10881927.07,-8768811.7200000007,null,"Alectra Utilities Corporation 4235"]
["Alectra Utilities Corporation 4240","Alectra Utilities Corporation","4240","Provision for Rate Refunds",null,0,0,0,0,null,"Alectra Utilities Corporation 4240"]
["Alectra Utilities Corporation 4245","Alectra Utilities Corporation","4245","Government and Other Assistance Directly Credited to Income",null,-5873983.6100000003,-8713799.5700000003,-10305195.550000001,0,null,"Alectra Utilities Corporation 4245"]
["Alectra Utilities Corporation 4305","Alectra Utilities Corporation","4305","Regulatory Debits",null,0,0,1664748.06,7676245.71,null,"Alectra Utilities Corporation 4305"]
["Alectra Utilities Corporation 4310","Alectra Utilities Corporation","4310","Regulatory Credits",null,0,0,-2193284.9700000002,-2090468.73,null,"Alectra Utilities Corporation 4310"]
["Alectra Utilities Corporation 4315","Alectra Utilities Corporation","4315","Revenues from Electric Plant Leased to Others",null,0,0,0,0,null,"Alectra Utilities Corporation 4315"]
["Alectra Utilities Corporation 4320","Alectra Utilities Corporation","4320","Expenses of Electric Plant Leased to Others",null,0,0,0,0,null,"Alectra Utilities Corporation 4320"]
["Alectra Utilities Corporation 4325","Alectra Utilities Corporation","4325","Revenues from Merchandise",null,-333361.65000000002,-99211.94,-296272.67,0,null,"Alectra Utilities Corporation 4325"]
["Alectra Utilities Corporation 4330","Alectra Utilities Corporation","4330","Costs and Expenses of Merchandising",null,0,0,0,0,null,"Alectra Utilities Corporation 4330"]
["Alectra Utilities Corporation 4335","Alectra Utilities Corporation","4335","Profits and Losses from Financial Instrument Hedges",null,0,0,0,0,null,"Alectra Utilities Corporation 4335"]
["Alectra Utilities Corporation 4340","Alectra Utilities Corporation","4340","Profits and Losses from Financial Instrument Investments",null,0,0,0,0,null,"Alectra Utilities Corporation 4340"]
["Alectra Utilities Corporation 4345","Alectra Utilities Corporation","4345","Gains from Disposition of Future Use Utility Plant",null,0,0,0,0,null,"Alectra Utilities Corporation 4345"]
["Alectra Utilities Corporation 4350","Alectra Utilities Corporation","4350","Losses from Disposition of Future Use Utility Plant",null,0,0,0,0,null,"Alectra Utilities Corporation 4350"]
["Alectra Utilities Corporation 4355","Alectra Utilities Corporation","4355","Gain on Disposition of Utility and Other Property",null,1043202.39,-305471.56,-73154.899999999994,-9354.76,null,"Alectra Utilities Corporation 4355"]
["Alectra Utilities Corporation 4357","Alectra Utilities Corporation","4357","Gain from Retirement of Utility and Other Property",null,0,0,0,0,null,"Alectra Utilities Corporation 4357"]
["Alectra Utilities Corporation 4360","Alectra Utilities Corporation","4360","Loss on Disposition of Utility and Other Property",null,2835.31,21320.98,-1973535.76,-524896.13,null,"Alectra Utilities Corporation 4360"]
["Alectra Utilities Corporation 4362","Alectra Utilities Corporation","4362","Loss from Retirement of Utility and Other Property",null,2143536.2200000002,4748776,0,0,null,"Alectra Utilities Corporation 4362"]
["Alectra Utilities Corporation 4365","Alectra Utilities Corporation","4365","Gains from Disposition of Allowances for Emission",null,0,0,0,0,null,"Alectra Utilities Corporation 4365"]
["Alectra Utilities Corporation 4370","Alectra Utilities Corporation","4370","Losses from Disposition of Allowances for Emission",null,0,0,0,0,null,"Alectra Utilities Corporation 4370"]
["Alectra Utilities Corporation 4375","Alectra Utilities Corporation","4375","Revenues from Non Rate-Regulated Utility Operations",null,-59919126.780000001,-85264691.129999995,-65916424.990000002,-34976061.43,null,"Alectra Utilities Corporation 4375"]
["Alectra Utilities Corporation 4375","Alectra Utilities Corporation","4375","Sub-account Generation Facility Revenues",null,0,0,0,0,null,"Alectra Utilities Corporation 4375"]
["Alectra Utilities Corporation 4380","Alectra Utilities Corporation","4380","Expenses of Non Rate-Regulated Utility Operations",null,71438170.340000004,71558824.159999996,60922046.859999999,27389981.699999999,null,"Alectra Utilities Corporation 4380"]
["Alectra Utilities Corporation 4380","Alectra Utilities Corporation","4380","Sub-account Generation Facility Expenses",null,0,0,0,0,null,"Alectra Utilities Corporation 4380"]
["Alectra Utilities Corporation 4385","Alectra Utilities Corporation","4385","Non Rate-Regulated Utility Rental Income",null,0,0,-143733.23000000001,-203650.19,null,"Alectra Utilities Corporation 4385"]
["Alectra Utilities Corporation 4390","Alectra Utilities Corporation","4390","Miscellaneous Non-Operating Income",null,-5401988.6900000004,-4840053.3600000003,-8650763.7400000002,-5240980.4800000004,null,"Alectra Utilities Corporation 4390"]
["Alectra Utilities Corporation 4395","Alectra Utilities Corporation","4395","Rate-Payer Benefit Including Interest",null,0,0,0,0,null,"Alectra Utilities Corporation 4395"]
["Alectra Utilities Corporation 4398","Alectra Utilities Corporation","4398","Foreign Exchange Gains and Losses, Including Amortization",null,0,0,0,0,null,"Alectra Utilities Corporation 4398"]
["Alectra Utilities Corporation 4405","Alectra Utilities Corporation","4405","Interest and Dividend Income",null,-2422889.58,-1994082.72,-2576284.37,-1784566.84,null,"Alectra Utilities Corporation 4405"]
["Alectra Utilities Corporation 4410","Alectra Utilities Corporation","4410","Lessor's Net Investment in Finance Lease",null,0,0,0,0,null,"Alectra Utilities Corporation 4410"]
["Alectra Utilities Corporation 4415","Alectra Utilities Corporation","4415","Equity in Earnings of Subsidiary Companies",null,0,0,0,0,null,"Alectra Utilities Corporation 4415"]
["Alectra Utilities Corporation 4420","Alectra Utilities Corporation","4420","Share of Profit or Loss of Joint Venture",null,-559101.18000000005,0,0,0,null,"Alectra Utilities Corporation 4420"]
["Alectra Utilities Corporation Total ","Alectra Utilities Corporation Total",null,null,null,-18480032.609999999,-50807444.450000003,-54939231.25,-31595503.41,null,"Alectra Utilities Corporation Total "]
["Algoma Power Inc. 4082","Algoma Power Inc.","4082","Retail Services Revenues",-5060.8,-4710,-4598.8999999999996,-4621.3999999999996,-8762.65,null,"Algoma Power Inc. 4082"]
["Algoma Power Inc. 4084","Algoma Power Inc.","4084","Service Transaction Requests (STR) Revenues",-56.25,-19.25,-33.75,-25.5,-102.96,null,"Algoma Power Inc. 4084"]
["Algoma Power Inc. 4086","Algoma Power Inc.","4086","SSS Administration Revenue",-34805.56,-34958.19,-35033,-35094.25,-36277.75,null,"Algoma Power Inc. 4086"]
["Algoma Power Inc. 4090","Algoma Power Inc.","4090","Electric Services Incidental to Energy Sales",0,0,0,0,0,null,"Algoma Power Inc. 4090"]
["Algoma Power Inc. 4205","Algoma Power Inc.","4205","Interdepartmental Rents",0,0,0,0,0,null,"Algoma Power Inc. 4205"]
["Algoma Power Inc. 4210","Algoma Power Inc.","4210","Rent from Electric Property",-238620.21,-238620.21,-239514.21,-239034.2,-475949.75,null,"Algoma Power Inc. 4210"]
["Algoma Power Inc. 4215","Algoma Power Inc.","4215","Other Utility Operating Income",0,0,0,0,0,null,"Algoma Power Inc. 4215"]
["Algoma Power Inc. 4220","Algoma Power Inc.","4220","Other Electric Revenues",-13298.71,-5719.77,-77845.59,-1969.53,-7743.76,null,"Algoma Power Inc. 4220"]
["Algoma Power Inc. 4225","Algoma Power Inc.","4225","Late Payment Charges",-105293.31,-57095.19,-42165.09,-47638.62,-22104.44,null,"Algoma Power Inc. 4225"]
["Algoma Power Inc. 4230","Algoma Power Inc.","4230","Sales of Water and Water Power",0,0,0,0,0,null,"Algoma Power Inc. 4230"]
["Algoma Power Inc. 4235","Algoma Power Inc.","4235","Miscellaneous Service Revenues",-87798.36,-73789.67,-63492.24,-73538.100000000006,-86849.27,null,"Algoma Power Inc. 4235"]
["Algoma Power Inc. 4240","Algoma Power Inc.","4240","Provision for Rate Refunds",0,0,0,0,0,null,"Algoma Power Inc. 4240"]
["Algoma Power Inc. 4245","Algoma Power Inc.","4245","Government Assistance Directly Credited to Income",0,0,0,0,0,null,"Algoma Power Inc. 4245"]
["Algoma Power Inc. 4305","Algoma Power Inc.","4305","Regulatory Debits",92978.64,92978.64,92978.64,362920.44,123552,null,"Algoma Power Inc. 4305"]
["Algoma Power Inc. 4310","Algoma Power Inc.","4310","Regulatory Credits",0,0,0,0,0,null,"Algoma Power Inc. 4310"]
["Algoma Power Inc. 4315","Algoma Power Inc.","4315","Revenues from Electric Plant Leased to Others",0,0,0,0,0,null,"Algoma Power Inc. 4315"]
["Algoma Power Inc. 4320","Algoma Power Inc.","4320","Expenses of Electric Plant Leased to Others",0,0,0,0,0,null,"Algoma Power Inc. 4320"]
["Algoma Power Inc. 4325","Algoma Power Inc.","4325","Revenues from Merchandise Jobbing, Etc.",-35533.550000000003,-55106.63,-104784.31,-43377.34,-36994.11,null,"Algoma Power Inc. 4325"]
["Algoma Power Inc. 4330","Algoma Power Inc.","4330","Costs and Expenses of Merchandising Jobbing, Etc.",71693.5,72271.539999999994,99063.15,41468.75,36269.19,null,"Algoma Power Inc. 4330"]
["Algoma Power Inc. 4335","Algoma Power Inc.","4335","Profits and Losses from Financial Instrument Hedges",0,0,0,0,0,null,"Algoma Power Inc. 4335"]
["Algoma Power Inc. 4340","Algoma Power Inc.","4340","Profits and Losses from Financial Instrument Investments",0,0,0,0,0,null,"Algoma Power Inc. 4340"]
["Algoma Power Inc. 4345","Algoma Power Inc.","4345","Gains from Disposition of Future Use Utility Plant",0,0,0,0,0,null,"Algoma Power Inc. 4345"]
["Algoma Power Inc. 4350","Algoma Power Inc.","4350","Losses from Disposition of Future Use Utility Plant",0,0,0,0,0,null,{"$f":"B70 & \" \" &C70","v":"Algoma Power Inc. 4350"}]
["Algoma Power Inc. 4355","Algoma Power Inc.","4355","Gain on Disposition of Utility and Other Property",0,0,0,0,0,null,"Algoma Power Inc. 4355"]
["Algoma Power Inc. 4360","Algoma Power Inc.","4360","Loss on Disposition of Utility and Other Property",-59563.3,200066.77,22190.22,166290.26,94774.27,null,"Algoma Power Inc. 4360"]
["Algoma Power Inc. 4365","Algoma Power Inc.","4365","Gains from Disposition of Allowances for Emission",0,0,0,0,0,null,"Algoma Power Inc. 4365"]
["Algoma Power Inc. 4370","Algoma Power Inc.","4370","Losses from Disposition of Allowances for Emission",0,0,0,0,0,null,"Algoma Power Inc. 4370"]
["Algoma Power Inc. 4375","Algoma Power Inc.","4375","Revenues from Non-Utility Operations",0,0,0,0,0,null,"Algoma Power Inc. 4375"]
["Algoma Power Inc. 4375","Algoma Power Inc.","4375","Sub-account Generation Facility Revenues",0,0,0,0,0,null,"Algoma Power Inc. 4375"]
["Algoma Power Inc. 4380","Algoma Power Inc.","4380","Expenses of Non-Utility Operations",584953.80000000005,571402.07999999996,572282.04,546529.31999999995,0,null,"Algoma Power Inc. 4380"]
["Algoma Power Inc. 4380","Algoma Power Inc.","4380","Sub-account Generation Facility Expenses",0,0,0,0,0,null,"Algoma Power Inc. 4380"]
["Algoma Power Inc. 4385","Algoma Power Inc.","4385","Non-Utility Rental Income",0,0,0,0,0,null,"Algoma Power Inc. 4385"]
["Algoma Power Inc. 4390","Algoma Power Inc.","4390","Miscellaneous Non-Operating Income",0,0,0,0,0,null,"Algoma Power Inc. 4390"]
["Algoma Power Inc. 4395","Algoma Power Inc.","4395","Rate-Payer Benefit Including Interest",0,0,0,0,0,null,"Algoma Power Inc. 4395"]
["Algoma Power Inc. 4398","Algoma Power Inc.","4398","Foreign Exchange Gains and Losses, Including Amortization",-93.72,-365.59,-463.07,247.96,551.91999999999996,null,"Algoma Power Inc. 4398"]
["Algoma Power Inc. 4405","Algoma Power Inc.","4405","Interest and Dividend Income",-24662.3,-31953.8,-54424.75,-114633.46,-24403.5,null,"Algoma Power Inc. 4405"]
["Algoma Power Inc. 4415","Algoma Power Inc.","4415","Equity in Earnings of Subsidiary Companies",0,0,0,0,0,null,"Algoma Power Inc. 4415"]
["Algoma Power Inc. Total ","Algoma Power Inc. Total",null,null,144839.87,434380.73,164159.14000000001,557524.32999999996,-444040.81,null,"Algoma Power Inc. Total "]
["Atikokan Hydro Inc. 4082","Atikokan Hydro Inc.","4082","Retail Services Revenues",-1732.93,-1844.88,-1844.88,-1844.88,-2072.38,null,"Atikokan Hydro Inc. 4082"]
["Atikokan Hydro Inc. 4084","Atikokan Hydro Inc.","4084","Service Transaction Requests (STR) Revenues",-1200,-1200,-1200,-1197,-1099.96,null,"Atikokan Hydro Inc. 4084"]
["Atikokan Hydro Inc. 4086","Atikokan Hydro Inc.","4086","SSS Administration Revenue",-4877,-4877.74,-4871,-4870.01,-4869.75,null,"Atikokan Hydro Inc. 4086"]
["Atikokan Hydro Inc. 4090","Atikokan Hydro Inc.","4090","Electric Services Incidental to Energy Sales",0,0,0,0,0,null,"Atikokan Hydro Inc. 4090"]
["Atikokan Hydro Inc. 4205","Atikokan Hydro Inc.","4205","Interdepartmental Rents",0,0,0,0,0,null,"Atikokan Hydro Inc. 4205"]
["Atikokan Hydro Inc. 4210","Atikokan Hydro Inc.","4210","Rent from Electric Property",-32608.65,-32608.65,-32608.65,-32608.69,-32608.959999999999,null,"Atikokan Hydro Inc. 4210"]
["Atikokan Hydro Inc. 4215","Atikokan Hydro Inc.","4215","Other Utility Operating Income",0,0,0,0,0,null,"Atikokan Hydro Inc. 4215"]
["Atikokan Hydro Inc. 4220","Atikokan Hydro Inc.","4220","Other Electric Revenues",0,0,0,0,0,null,"Atikokan Hydro Inc. 4220"]
["Atikokan Hydro Inc. 4225","Atikokan Hydro Inc.","4225","Late Payment Charges",-10898.42,-9252.91,-7947.93,-7072.88,-10781.98,null,"Atikokan Hydro Inc. 4225"]
["Atikokan Hydro Inc. 4230","Atikokan Hydro Inc.","4230","Sales of Water and Water Power",0,0,0,0,0,null,"Atikokan Hydro Inc. 4230"]
["Atikokan Hydro Inc. 4235","Atikokan Hydro Inc.","4235","Miscellaneous Service Revenues",-8029.4,-6252.4,-5434.58,-4446.3999999999996,-3935,null,"Atikokan Hydro Inc. 4235"]
["Atikokan Hydro Inc. 4240","Atikokan Hydro Inc.","4240","Provision for Rate Refunds",0,0,0,0,0,null,"Atikokan Hydro Inc. 4240"]
["Atikokan Hydro Inc. 4245","Atikokan Hydro Inc.","4245","Government and Other Assistance Directly Credited to Income",0,0,0,0,0,null,"Atikokan Hydro Inc. 4245"]
["Atikokan Hydro Inc. 4305","Atikokan Hydro Inc.","4305","Regulatory Debits",0,0,0,0,0,null,"Atikokan Hydro Inc. 4305"]
["Atikokan Hydro Inc. 4310","Atikokan Hydro Inc.","4310","Regulatory Credits",0,0,0,0,0,null,"Atikokan Hydro Inc. 4310"]
["Atikokan Hydro Inc. 4315","Atikokan Hydro Inc.","4315","Revenues from Electric Plant Leased to Others",0,0,0,0,0,null,"Atikokan Hydro Inc. 4315"]
["Atikokan Hydro Inc. 4320","Atikokan Hydro Inc.","4320","Expenses of Electric Plant Leased to Others",0,0,0,0,0,null,"Atikokan Hydro Inc. 4320"]
["Atikokan Hydro Inc. 4325","Atikokan Hydro Inc.","4325","Revenues from Merchandise",-73862.58,-110840.12,-54406.43,-58722.66,-53609.73,null,"Atikokan Hydro Inc. 4325"]
["Atikokan Hydro Inc. 4330","Atikokan Hydro Inc.","4330","Costs and Expenses of Merchandising",21716.25,7125.31,21301.06,27586.47,12875.17,null,"Atikokan Hydro Inc. 4330"]
["Atikokan Hydro Inc. 4335","Atikokan Hydro Inc.","4335","Profits and Losses from Financial Instrument Hedges",0,0,0,0,0,null,"Atikokan Hydro Inc. 4335"]
["Atikokan Hydro Inc. 4340","Atikokan Hydro Inc.","4340","Profits and Losses from Financial Instrument Investments",0,0,0,0,0,null,"Atikokan Hydro Inc. 4340"]
["Atikokan Hydro Inc. 4345","Atikokan Hydro Inc.","4345","Gains from Disposition of Future Use Utility Plant",0,0,0,0,0,null,"Atikokan Hydro Inc. 4345"]
["Atikokan Hydro Inc. 4350","Atikokan Hydro Inc.","4350","Losses from Disposition of Future Use Utility Plant",0,0,0,0,0,null,"Atikokan Hydro Inc. 4350"]
["Atikokan Hydro Inc. 4355","Atikokan Hydro Inc.","4355","Gain on Disposition of Utility and Other Property",0,0,0,0,0,null,"Atikokan Hydro Inc. 4355"]
["Atikokan Hydro Inc. 4357","Atikokan Hydro Inc.","4357","Gain from Retirement of Utility and Other Property",0,0,0,0,0,null,"Atikokan Hydro Inc. 4357"]
["Atikokan Hydro Inc. 4360","Atikokan Hydro Inc.","4360","Loss on Disposition of Utility and Other Property",22431.95,7064.86,6755.52,12876.49,23146.33,null,"Atikokan Hydro Inc. 4360"]
["Atikokan Hydro Inc. 4362","Atikokan Hydro Inc.","4362","Loss from Retirement of Utility and Other Property",0,0,0,0,0,null,"Atikokan Hydro Inc. 4362"]
["Atikokan Hydro Inc. 4365","Atikokan Hydro Inc.","4365","Gains from Disposition of Allowances for Emission",0,0,0,0,0,null,"Atikokan Hydro Inc. 4365"]
["Atikokan Hydro Inc. 4370","Atikokan Hydro Inc.","4370","Losses from Disposition of Allowances for Emission",0,0,0,0,0,null,"Atikokan Hydro Inc. 4370"]
["Atikokan Hydro Inc. 4375","Atikokan Hydro Inc.","4375","Revenues from Non Rate-Regulated Utility Operations",-30603.06,-50771.47,-29637.27,-4426.71,0,null,"Atikokan Hydro Inc. 4375"]
["Atikokan Hydro Inc. 4375","Atikokan Hydro Inc.","4375","Sub-account Generation Facility Revenues",0,0,0,0,0,null,"Atikokan Hydro Inc. 4375"]
["Atikokan Hydro Inc. 4380","Atikokan Hydro Inc.","4380","Expenses of Non Rate-Regulated Utility Operations",30603.06,50771.47,29637.27,4426.71,0,null,"Atikokan Hydro Inc. 4380"]
["Atikokan Hydro Inc. 4380","Atikokan Hydro Inc.","4380","Sub-account Generation Facility Expenses",0,0,0,0,0,null,"Atikokan Hydro Inc. 4380"]
["Atikokan Hydro Inc. 4385","Atikokan Hydro Inc.","4385","Non Rate-Regulated Utility Rental Income",0,0,0,0,0,null,"Atikokan Hydro Inc. 4385"]
["Atikokan Hydro Inc. 4390","Atikokan Hydro Inc.","4390","Miscellaneous Non-Operating Income",-2675.52,-5469.65,-17467.560000000001,-6070.58,-1813.29,null,"Atikokan Hydro Inc. 4390"]
["Atikokan Hydro Inc. 4395","Atikokan Hydro Inc.","4395","Rate-Payer Benefit Including Interest",0,0,0,0,0,null,"Atikokan Hydro Inc. 4395"]
["Atikokan Hydro Inc. 4398","Atikokan Hydro Inc.","4398","Foreign Exchange Gains and Losses, Including Amortization",0,0,0,0,0,null,"Atikokan Hydro Inc. 4398"]
["Atikokan Hydro Inc. 4405","Atikokan Hydro Inc.","4405","Interest and Dividend Income",-8395.7999999999993,-7634.27,-13438.24,-10615.99,-6272.2,null,"Atikokan Hydro Inc. 4405"]
["Atikokan Hydro Inc. 4410","Atikokan Hydro Inc.","4410","Lessor's Net Investment in Finance Lease",0,0,0,0,0,null,"Atikokan Hydro Inc. 4410"]
["Atikokan Hydro Inc. 4415","Atikokan Hydro Inc.","4415","Equity in Earnings of Subsidiary Companies",0,0,0,0,0,null,"Atikokan Hydro Inc. 4415"]
["Atikokan Hydro Inc. 4420","Atikokan Hydro Inc.","4420","Share of Profit or Loss of Joint Venture",0,0,0,0,0,null,"Atikokan Hydro Inc. 4420"]
["Atikokan Hydro Inc. Total ","Atikokan Hydro Inc. Total",null,null,-100132.1,-165790.45000000001,-111162.69,-86986.13,-81041.75,null,"Atikokan Hydro Inc. Total "]
["Bluewater Power Distribution Corporation 4082","Bluewater Power Distribution Corporation","4082","Retail Services Revenues",-23046.400000000001,-20102.400000000001,-18406,-17422,-15095,null,"Bluewater Power Distribution Corporation 4082"]
["Bluewater Power Distribution Corporation 4084","Bluewater Power Distribution Corporation","4084","Service Transaction Requests (STR) Revenues",-1298.4100000000001,15.84,-70,-344,-484,null,"Bluewater Power Distribution Corporation 4084"]
["Bluewater Power Distribution Corporation 4086","Bluewater Power Distribution Corporation","4086","SSS Administration Revenue",-104266.14,-109147.93,-105909,-107433,-107878,null,"Bluewater Power Distribution Corporation 4086"]
["Bluewater Power Distribution Corporation 4090","Bluewater Power Distribution Corporation","4090","Electric Services Incidental to Energy Sales",0,0,0,0,0,null,"Bluewater Power Distribution Corporation 4090"]
["Bluewater Power Distribution Corporation 4205","Bluewater Power Distribution Corporation","4205","Interdepartmental Rents",0,0,0,0,0,null,"Bluewater Power Distribution Corporation 4205"]
["Bluewater Power Distribution Corporation 4210","Bluewater Power Distribution Corporation","4210","Rent from Electric Property",-400732.83,-354614.73,-381949,-415964,-361066,null,"Bluewater Power Distribution Corporation 4210"]
["Bluewater Power Distribution Corporation 4215","Bluewater Power Distribution Corporation","4215","Other Utility Operating Income",0,0,0,0,0,null,{"$f":"B134 & \" \" &C134","v":"Bluewater Power Distribution Corporation 4215"}]
["Bluewater Power Distribution Corporation 4220","Bluewater Power Distribution Corporation","4220","Other Electric Revenues",-88148.17,-74154.850000000006,-79656,-33643,-76239,null,"Bluewater Power Distribution Corporation 4220"]
["Bluewater Power Distribution Corporation 4225","Bluewater Power Distribution Corporation","4225","Late Payment Charges",-449993.72,-319593.3,-240000,-247289,-241882,null,"Bluewater Power Distribution Corporation 4225"]
["Bluewater Power Distribution Corporation 4230","Bluewater Power Distribution Corporation","4230","Sales of Water and Water Power",0,0,0,0,0,null,"Bluewater Power Distribution Corporation 4230"]
["Bluewater Power Distribution Corporation 4235","Bluewater Power Distribution Corporation","4235","Miscellaneous Service Revenues",-287412.62,-205310.04,-162145,-209010,-188586,null,"Bluewater Power Distribution Corporation 4235"]
["Bluewater Power Distribution Corporation 4240","Bluewater Power Distribution Corporation","4240","Provision for Rate Refunds",0,0,0,0,0,null,"Bluewater Power Distribution Corporation 4240"]
["Bluewater Power Distribution Corporation 4245","Bluewater Power Distribution Corporation","4245","Government and Other Assistance Directly Credited to Income",-34172,-42338.5,-56911,-70146,-89411,null,"Bluewater Power Distribution Corporation 4245"]
["Bluewater Power Distribution Corporation 4305","Bluewater Power Distribution Corporation","4305","Regulatory Debits",0,0,0,0,0,null,"Bluewater Power Distribution Corporation 4305"]
["Bluewater Power Distribution Corporation 4310","Bluewater Power Distribution Corporation","4310","Regulatory Credits",0,0,0,0,0,null,"Bluewater Power Distribution Corporation 4310"]
["Bluewater Power Distribution Corporation 4315","Bluewater Power Distribution Corporation","4315","Revenues from Electric Plant Leased to Others",0,0,0,0,0,null,"Bluewater Power Distribution Corporation 4315"]
["Bluewater Power Distribution Corporation 4320","Bluewater Power Distribution Corporation","4320","Expenses of Electric Plant Leased to Others",0,0,0,0,0,null,"Bluewater Power Distribution Corporation 4320"]
["Bluewater Power Distribution Corporation 4325","Bluewater Power Distribution Corporation","4325","Revenues from Merchandise",-765615,-719440.02,-902636,-1249589,-3155980,null,"Bluewater Power Distribution Corporation 4325"]
["Bluewater Power Distribution Corporation 4330","Bluewater Power Distribution Corporation","4330","Costs and Expenses of Merchandising",467099.75,607346.32999999996,678867,1037440,2678982,null,"Bluewater Power Distribution Corporation 4330"]
["Bluewater Power Distribution Corporation 4335","Bluewater Power Distribution Corporation","4335","Profits and Losses from Financial Instrument Hedges",0,0,0,0,0,null,"Bluewater Power Distribution Corporation 4335"]
["Bluewater Power Distribution Corporation 4340","Bluewater Power Distribution Corporation","4340","Profits and Losses from Financial Instrument Investments",0,0,0,0,0,null,"Bluewater Power Distribution Corporation 4340"]
["Bluewater Power Distribution Corporation 4345","Bluewater Power Distribution Corporation","4345","Gains from Disposition of Future Use Utility Plant",0,0,0,0,0,null,"Bluewater Power Distribution Corporation 4345"]
["Bluewater Power Distribution Corporation 4350","Bluewater Power Distribution Corporation","4350","Losses from Disposition of Future Use Utility Plant",0,0,0,0,0,null,"Bluewater Power Distribution Corporation 4350"]
["Bluewater Power Distribution Corporation 4355","Bluewater Power Distribution Corporation","4355","Gain on Disposition of Utility and Other Property",-5685.27,-22522.54,-5030,0,-58232,null,"Bluewater Power Distribution Corporation 4355"]
["Bluewater Power Distribution Corporation 4357","Bluewater Power Distribution Corporation","4357","Gain from Retirement of Utility and Other Property",0,0,0,0,0,null,"Bluewater Power Distribution Corporation 4357"]
["Bluewater Power Distribution Corporation 4360","Bluewater Power Distribution Corporation","4360","Loss on Disposition of Utility and Other Property",0,0,0,0,0,null,"Bluewater Power Distribution Corporation 4360"]
["Bluewater Power Distribution Corporation 4362","Bluewater Power Distribution Corporation","4362","Loss from Retirement of Utility and Other Property",0,0,0,0,0,null,"Bluewater Power Distribution Corporation 4362"]
["Bluewater Power Distribution Corporation 4365","Bluewater Power Distribution Corporation","4365","Gains from Disposition of Allowances for Emission",0,0,0,0,0,null,"Bluewater Power Distribution Corporation 4365"]
["Bluewater Power Distribution Corporation 4370","Bluewater Power Distribution Corporation","4370","Losses from Disposition of Allowances for Emission",0,0,0,0,0,null,"Bluewater Power Distribution Corporation 4370"]
["Bluewater Power Distribution Corporation 4375","Bluewater Power Distribution Corporation","4375","Revenues from Non Rate-Regulated Utility Operations",-910581.39,-857531.27,-780295,-879554,-513305,null,"Bluewater Power Distribution Corporation 4375"]
["Bluewater Power Distribution Corporation 4375","Bluewater Power Distribution Corporation","4375","Sub-account Generation Facility Revenues",0,0,0,0,0,null,"Bluewater Power Distribution Corporation 4375"]
["Bluewater Power Distribution Corporation 4380","Bluewater Power Distribution Corporation","4380","Expenses of Non Rate-Regulated Utility Operations",968896.98,828438.93,774475,873911,511493,null,"Bluewater Power Distribution Corporation 4380"]
["Bluewater Power Distribution Corporation 4380","Bluewater Power Distribution Corporation","4380","Sub-account Generation Facility Expenses",0,0,0,0,0,null,"Bluewater Power Distribution Corporation 4380"]
["Bluewater Power Distribution Corporation 4385","Bluewater Power Distribution Corporation","4385","Non Rate-Regulated Utility Rental Income",0,0,0,0,0,null,"Bluewater Power Distribution Corporation 4385"]
["Bluewater Power Distribution Corporation 4390","Bluewater Power Distribution Corporation","4390","Miscellaneous Non-Operating Income",-33889.870000000003,-29759.73,-43214,-22946,-445072,null,"Bluewater Power Distribution Corporation 4390"]
["Bluewater Power Distribution Corporation 4395","Bluewater Power Distribution Corporation","4395","Rate-Payer Benefit Including Interest",0,0,0,0,0,null,"Bluewater Power Distribution Corporation 4395"]
["Bluewater Power Distribution Corporation 4398","Bluewater Power Distribution Corporation","4398","Foreign Exchange Gains and Losses, Including Amortization",0,0,0,0,0,null,"Bluewater Power Distribution Corporation 4398"]
["Bluewater Power Distribution Corporation 4405","Bluewater Power Distribution Corporation","4405","Interest and Dividend Income",-62498.6,-94473.29,-149773,-104379,-74276,null,"Bluewater Power Distribution Corporation 4405"]
["Bluewater Power Distribution Corporation 4410","Bluewater Power Distribution Corporation","4410","Lessor's Net Investment in Finance Lease",0,0,0,0,0,null,"Bluewater Power Distribution Corporation 4410"]
["Bluewater Power Distribution Corporation 4415","Bluewater Power Distribution Corporation","4415","Equity in Earnings of Subsidiary Companies",0,0,0,0,0,null,"Bluewater Power Distribution Corporation 4415"]
["Bluewater Power Distribution Corporation 4420","Bluewater Power Distribution Corporation","4420","Share of Profit or Loss of Joint Venture",0,0,0,0,0,null,"Bluewater Power Distribution Corporation 4420"]
["Bluewater Power Distribution Corporation Total ","Bluewater Power Distribution Corporation Total",null,null,-1731343.69,-1413187.5,-1472652,-1446368,-2137031,null,"Bluewater Power Distribution Corporation Total "]
["Brantford Power Inc. 4082","Brantford Power Inc.","4082","Retail Services Revenues",-61036.02,-16290.1,-11858.67,-10828.29,-8789.2900000000009,null,"Brantford Power Inc. 4082"]
["Brantford Power Inc. 4084","Brantford Power Inc.","4084","Service Transaction Requests (STR) Revenues",-14641.95,-7072.04,-5124.78,-5624.31,-6056.78,null,"Brantford Power Inc. 4084"]
["Brantford Power Inc. 4086","Brantford Power Inc.","4086","SSS Administration Revenue",0,-115298.98,-117153.51,-117890.76,-121152.68,null,"Brantford Power Inc. 4086"]
["Brantford Power Inc. 4090","Brantford Power Inc.","4090","Electric Services Incidental to Energy Sales",0,0,0,0,0,null,"Brantford Power Inc. 4090"]
["Brantford Power Inc. 4205","Brantford Power Inc.","4205","Interdepartmental Rents",0,0,0,0,0,null,"Brantford Power Inc. 4205"]
["Brantford Power Inc. 4210","Brantford Power Inc.","4210","Rent from Electric Property",-110160.8,-113252.63,-123555.98,-147805.73000000001,-259429.33,null,"Brantford Power Inc. 4210"]
["Brantford Power Inc. 4215","Brantford Power Inc.","4215","Other Utility Operating Income",0,0,0,0,0,null,"Brantford Power Inc. 4215"]
["Brantford Power Inc. 4220","Brantford Power Inc.","4220","Other Electric Revenues",-35,-90,180,-34269.769999999997,-14733,null,"Brantford Power Inc. 4220"]
["Brantford Power Inc. 4225","Brantford Power Inc.","4225","Late Payment Charges",-280225.88,-281545.71999999997,-235597.58,-326283.18,-359302.38,null,"Brantford Power Inc. 4225"]
["Brantford Power Inc. 4230","Brantford Power Inc.","4230","Sales of Water and Water Power",0,0,0,0,0,null,"Brantford Power Inc. 4230"]
["Brantford Power Inc. 4235","Brantford Power Inc.","4235","Miscellaneous Service Revenues",-554230.86,-356654.95,-335683.38,-603135.87,-640437.1,null,"Brantford Power Inc. 4235"]
["Brantford Power Inc. 4240","Brantford Power Inc.","4240","Provision for Rate Refunds",0,0,0,0,0,null,"Brantford Power Inc. 4240"]
["Brantford Power Inc. 4245","Brantford Power Inc.","4245","Government and Other Assistance Directly Credited to Income",0,0,0,0,0,null,"Brantford Power Inc. 4245"]
["Brantford Power Inc. 4305","Brantford Power Inc.","4305","Regulatory Debits",0,0,0,0,0,null,"Brantford Power Inc. 4305"]
["Brantford Power Inc. 4310","Brantford Power Inc.","4310","Regulatory Credits",0,0,0,0,0,null,"Brantford Power Inc. 4310"]
["Brantford Power Inc. 4315","Brantford Power Inc.","4315","Revenues from Electric Plant Leased to Others",0,0,0,0,0,null,"Brantford Power Inc. 4315"]
["Brantford Power Inc. 4320","Brantford Power Inc.","4320","Expenses of Electric Plant Leased to Others",0,0,0,0,0,null,"Brantford Power Inc. 4320"]
["Brantford Power Inc. 4325","Brantford Power Inc.","4325","Revenues from Merchandise",0,0,0,0,0,null,"Brantford Power Inc. 4325"]
["Brantford Power Inc. 4330","Brantford Power Inc.","4330","Costs and Expenses of Merchandising",0,0,0,0,0,null,"Brantford Power Inc. 4330"]
["Brantford Power Inc. 4335","Brantford Power Inc.","4335","Profits and Losses from Financial Instrument Hedges",0,0,0,0,0,null,"Brantford Power Inc. 4335"]
["Brantford Power Inc. 4340","Brantford Power Inc.","4340","Profits and Losses from Financial Instrument Investments",0,0,0,0,0,null,"Brantford Power Inc. 4340"]
["Brantford Power Inc. 4345","Brantford Power Inc.","4345","Gains from Disposition of Future Use Utility Plant",0,0,0,0,0,null,"Brantford Power Inc. 4345"]
["Brantford Power Inc. 4350","Brantford Power Inc.","4350","Losses from Disposition of Future Use Utility Plant",0,0,0,0,0,null,"Brantford Power Inc. 4350"]
["Brantford Power Inc. 4355","Brantford Power Inc.","4355","Gain on Disposition of Utility and Other Property",-1551.45,60527.43,213960.79,110194.72,289330.58,null,"Brantford Power Inc. 4355"]
["Brantford Power Inc. 4357","Brantford Power Inc.","4357","Gain from Retirement of Utility and Other Property",0,0,0,0,0,null,"Brantford Power Inc. 4357"]
["Brantford Power Inc. 4360","Brantford Power Inc.","4360","Loss on Disposition of Utility and Other Property",0,0,0,0,0,null,"Brantford Power Inc. 4360"]
["Brantford Power Inc. 4362","Brantford Power Inc.","4362","Loss from Retirement of Utility and Other Property",0,0,0,0,0,null,"Brantford Power Inc. 4362"]
["Brantford Power Inc. 4365","Brantford Power Inc.","4365","Gains from Disposition of Allowances for Emission",0,0,0,0,0,null,"Brantford Power Inc. 4365"]
["Brantford Power Inc. 4370","Brantford Power Inc.","4370","Losses from Disposition of Allowances for Emission",0,0,0,0,0,null,{"$f":"B198 & \" \" &C198","v":"Brantford Power Inc. 4370"}]
["Brantford Power Inc. 4375","Brantford Power Inc.","4375","Revenues from Non Rate-Regulated Utility Operations",-2445283.3199999998,-1631477.04,-1929362.64,-1864025.71,-1152865.19,null,"Brantford Power Inc. 4375"]
["Brantford Power Inc. 4375","Brantford Power Inc.","4375","Sub-account Generation Facility Revenues",0,0,0,0,0,null,"Brantford Power Inc. 4375"]
["Brantford Power Inc. 4380","Brantford Power Inc.","4380","Expenses of Non Rate-Regulated Utility Operations",2298911.9300000002,1673836.99,1912722.11,2243844.61,1165528.1000000001,null,"Brantford Power Inc. 4380"]
["Brantford Power Inc. 4380","Brantford Power Inc.","4380","Sub-account Generation Facility Expenses",0,0,0,0,0,null,"Brantford Power Inc. 4380"]
["Brantford Power Inc. 4385","Brantford Power Inc.","4385","Non Rate-Regulated Utility Rental Income",0,0,0,0,0,null,"Brantford Power Inc. 4385"]
["Brantford Power Inc. 4390","Brantford Power Inc.","4390","Miscellaneous Non-Operating Income",-105988.42,-130030.29,-45904.89,-28356.86,-34795.06,null,"Brantford Power Inc. 4390"]
["Brantford Power Inc. 4395","Brantford Power Inc.","4395","Rate-Payer Benefit Including Interest",0,0,0,0,0,null,"Brantford Power Inc. 4395"]
["Brantford Power Inc. 4398","Brantford Power Inc.","4398","Foreign Exchange Gains and Losses, Including Amortization",0,0,0,0,0,null,"Brantford Power Inc. 4398"]
["Brantford Power Inc. 4405","Brantford Power Inc.","4405","Interest and Dividend Income",-181760.46,-210204.99,-349446.41,-371017.38,-212680.01,null,"Brantford Power Inc. 4405"]
["Brantford Power Inc. 4410","Brantford Power Inc.","4410","Lessor's Net Investment in Finance Lease",0,0,0,0,0,null,"Brantford Power Inc. 4410"]
["Brantford Power Inc. 4415","Brantford Power Inc.","4415","Equity in Earnings of Subsidiary Companies",0,0,0,0,0,null,"Brantford Power Inc. 4415"]
["Brantford Power Inc. 4420","Brantford Power Inc.","4420","Share of Profit or Loss of Joint Venture",0,0,0,0,0,null,"Brantford Power Inc. 4420"]
["Brantford Power Inc. Total ","Brantford Power Inc. Total",null,null,-1456002.23,-1127552.32,-1026824.94,-1155198.53,-1355382.14,null,"Brantford Power Inc. Total "]
["Burlington Hydro Inc. 4082","Burlington Hydro Inc.","4082","Retail Services Revenues",-26345,-22661.1,-19868.900000000001,-22890.21,-23173.19,null,"Burlington Hydro Inc. 4082"]
["Burlington Hydro Inc. 4084","Burlington Hydro Inc.","4084","Service Transaction Requests (STR) Revenues",-589.5,-443.5,-401,-476.75,-511.02,null,"Burlington Hydro Inc. 4084"]
["Burlington Hydro Inc. 4086","Burlington Hydro Inc.","4086","SSS Administration Revenue",0,0,0,0,0,null,"Burlington Hydro Inc. 4086"]
["Burlington Hydro Inc. 4090","Burlington Hydro Inc.","4090","Electric Services Incidental to Energy Sales",0,0,0,0,0,null,"Burlington Hydro Inc. 4090"]
["Burlington Hydro Inc. 4205","Burlington Hydro Inc.","4205","Interdepartmental Rents",0,0,0,0,0,null,"Burlington Hydro Inc. 4205"]
["Burlington Hydro Inc. 4210","Burlington Hydro Inc.","4210","Rent from Electric Property",-329782.13,-329782.13,-329782.14,-329782.13,-329782.13,null,"Burlington Hydro Inc. 4210"]
["Burlington Hydro Inc. 4215","Burlington Hydro Inc.","4215","Other Utility Operating Income",0,0,0,0,0,null,"Burlington Hydro Inc. 4215"]
["Burlington Hydro Inc. 4220","Burlington Hydro Inc.","4220","Other Electric Revenues",-150106.26999999999,-11077.62,-22527.18,-9952.7199999999993,1574.35,null,"Burlington Hydro Inc. 4220"]
["Burlington Hydro Inc. 4225","Burlington Hydro Inc.","4225","Late Payment Charges",-278227.17,-271656.45,-304816.42,-263964.77,-344989.71,null,"Burlington Hydro Inc. 4225"]
["Burlington Hydro Inc. 4230","Burlington Hydro Inc.","4230","Sales of Water and Water Power",0,0,0,0,0,null,"Burlington Hydro Inc. 4230"]
["Burlington Hydro Inc. 4235","Burlington Hydro Inc.","4235","Miscellaneous Service Revenues",-918255.81,-784543.73,-797598.17,-727126.54,-820384.78,null,"Burlington Hydro Inc. 4235"]
["Burlington Hydro Inc. 4240","Burlington Hydro Inc.","4240","Provision for Rate Refunds",0,0,0,0,0,null,"Burlington Hydro Inc. 4240"]
["Burlington Hydro Inc. 4245","Burlington Hydro Inc.","4245","Government and Other Assistance Directly Credited to Income",-188415.52,-289166.86,-375497.3,-477935.69,-614938.21,null,"Burlington Hydro Inc. 4245"]
["Burlington Hydro Inc. 4305","Burlington Hydro Inc.","4305","Regulatory Debits",0,0,0,0,0,null,"Burlington Hydro Inc. 4305"]
["Burlington Hydro Inc. 4310","Burlington Hydro Inc.","4310","Regulatory Credits",-33020.870000000003,-21400.12,-332135.15999999997,-70261.98,-144424,null,"Burlington Hydro Inc. 4310"]
["Burlington Hydro Inc. 4315","Burlington Hydro Inc.","4315","Revenues from Electric Plant Leased to Others",0,0,0,0,0,null,"Burlington Hydro Inc. 4315"]
["Burlington Hydro Inc. 4320","Burlington Hydro Inc.","4320","Expenses of Electric Plant Leased to Others",0,0,0,0,0,null,"Burlington Hydro Inc. 4320"]
["Burlington Hydro Inc. 4325","Burlington Hydro Inc.","4325","Revenues from Merchandise",0,0,0,0,0,null,"Burlington Hydro Inc. 4325"]
["Burlington Hydro Inc. 4330","Burlington Hydro Inc.","4330","Costs and Expenses of Merchandising",0,0,0,0,0,null,"Burlington Hydro Inc. 4330"]
["Burlington Hydro Inc. 4335","Burlington Hydro Inc.","4335","Profits and Losses from Financial Instrument Hedges",0,0,0,0,0,null,"Burlington Hydro Inc. 4335"]
["Burlington Hydro Inc. 4340","Burlington Hydro Inc.","4340","Profits and Losses from Financial Instrument Investments",0,0,0,0,0,null,"Burlington Hydro Inc. 4340"]
["Burlington Hydro Inc. 4345","Burlington Hydro Inc.","4345","Gains from Disposition of Future Use Utility Plant",0,0,0,0,0,null,"Burlington Hydro Inc. 4345"]
["Burlington Hydro Inc. 4350","Burlington Hydro Inc.","4350","Losses from Disposition of Future Use Utility Plant",0,0,0,0,0,null,"Burlington Hydro Inc. 4350"]
["Burlington Hydro Inc. 4355","Burlington Hydro Inc.","4355","Gain on Disposition of Utility and Other Property",-24500,-9181.07,-35975.69,0,0,null,"Burlington Hydro Inc. 4355"]
["Burlington Hydro Inc. 4357","Burlington Hydro Inc.","4357","Gain from Retirement of Utility and Other Property",0,0,0,0,0,null,"Burlington Hydro Inc. 4357"]
["Burlington Hydro Inc. 4360","Burlington Hydro Inc.","4360","Loss on Disposition of Utility and Other Property",0,0,0,12278.12,45953.23,null,"Burlington Hydro Inc. 4360"]
["Burlington Hydro Inc. 4362","Burlington Hydro Inc.","4362","Loss from Retirement of Utility and Other Property",0,0,0,0,0,null,"Burlington Hydro Inc. 4362"]
["Burlington Hydro Inc. 4365","Burlington Hydro Inc.","4365","Gains from Disposition of Allowances for Emission",0,0,0,0,0,null,"Burlington Hydro Inc. 4365"]
["Burlington Hydro Inc. 4370","Burlington Hydro Inc.","4370","Losses from Disposition of Allowances for Emission",0,0,0,0,0,null,"Burlington Hydro Inc. 4370"]
["Burlington Hydro Inc. 4375","Burlington Hydro Inc.","4375","Revenues from Non Rate-Regulated Utility Operations",-491154.64,-470881.72,-1588314.94,-600835.12,-626809.77,null,"Burlington Hydro Inc. 4375"]
["Burlington Hydro Inc. 4375","Burlington Hydro Inc.","4375","Sub-account Generation Facility Revenues",0,0,0,0,0,null,"Burlington Hydro Inc. 4375"]
["Burlington Hydro Inc. 4380","Burlington Hydro Inc.","4380","Expenses of Non Rate-Regulated Utility Operations",541508.71,556359.31000000006,757751.07,883510.73,652643.34,null,"Burlington Hydro Inc. 4380"]
["Burlington Hydro Inc. 4380","Burlington Hydro Inc.","4380","Sub-account Generation Facility Expenses",0,0,0,0,0,null,"Burlington Hydro Inc. 4380"]
["Burlington Hydro Inc. 4385","Burlington Hydro Inc.","4385","Non Rate-Regulated Utility Rental Income",0,0,0,0,0,null,"Burlington Hydro Inc. 4385"]
["Burlington Hydro Inc. 4390","Burlington Hydro Inc.","4390","Miscellaneous Non-Operating Income",-191673.87,-114773.74,-169556.36,-1003988.79,-340921.43,null,"Burlington Hydro Inc. 4390"]
["Burlington Hydro Inc. 4395","Burlington Hydro Inc.","4395","Rate-Payer Benefit Including Interest",0,0,0,0,0,null,"Burlington Hydro Inc. 4395"]
["Burlington Hydro Inc. 4398","Burlington Hydro Inc.","4398","Foreign Exchange Gains and Losses, Including Amortization",0,0,0,0,0,null,"Burlington Hydro Inc. 4398"]
["Burlington Hydro Inc. 4405","Burlington Hydro Inc.","4405","Interest and Dividend Income",-197760.5,-192876.58,-389823.17,-508015.6,-303095.78999999998,null,"Burlington Hydro Inc. 4405"]
["Burlington Hydro Inc. 4410","Burlington Hydro Inc.","4410","Lessor's Net Investment in Finance Lease",0,0,0,0,0,null,"Burlington Hydro Inc. 4410"]
["Burlington Hydro Inc. 4415","Burlington Hydro Inc.","4415","Equity in Earnings of Subsidiary Companies",0,0,0,0,0,null,"Burlington Hydro Inc. 4415"]
["Burlington Hydro Inc. 4420","Burlington Hydro Inc.","4420","Share of Profit or Loss of Joint Venture",0,0,0,0,0,null,"Burlington Hydro Inc. 4420"]
["Burlington Hydro Inc. Total ","Burlington Hydro Inc. Total",null,null,-2288322.5699999998,-1962085.31,-3608545.36,-3119441.45,-2848859.11,null,"Burlington Hydro Inc. Total "]
["Canadian Niagara Power Inc. 4082","Canadian Niagara Power Inc.","4082","Retail Services Revenues",-18616.5,-16040.21,-13670.7,-12078.2,-10397.540000000001,null,"Canadian Niagara Power Inc. 4082"]
["Canadian Niagara Power Inc. 4084","Canadian Niagara Power Inc.","4084","Service Transaction Requests (STR) Revenues",-499.5,-312.5,-213.25,-197.25,-173,null,"Canadian Niagara Power Inc. 4084"]
["Canadian Niagara Power Inc. 4086","Canadian Niagara Power Inc.","4086","SSS Administration Revenue",-82715.350000000006,-84355.07,-85295.5,-86451.5,-87559,null,"Canadian Niagara Power Inc. 4086"]
["Canadian Niagara Power Inc. 4090","Canadian Niagara Power Inc.","4090","Electric Services Incidental to Energy Sales",0,0,0,0,0,null,"Canadian Niagara Power Inc. 4090"]
["Canadian Niagara Power Inc. 4205","Canadian Niagara Power Inc.","4205","Interdepartmental Rents",0,0,0,0,0,null,"Canadian Niagara Power Inc. 4205"]
["Canadian Niagara Power Inc. 4210","Canadian Niagara Power Inc.","4210","Rent from Electric Property",-321042.12,-320187.23,-320298.96999999997,-322568.28999999998,-319890.62,null,"Canadian Niagara Power Inc. 4210"]
["Canadian Niagara Power Inc. 4215","Canadian Niagara Power Inc.","4215","Other Utility Operating Income",0,0,0,0,0,null,"Canadian Niagara Power Inc. 4215"]
["Canadian Niagara Power Inc. 4220","Canadian Niagara Power Inc.","4220","Other Electric Revenues",7557.25,-43594.14,-372289.67,-12745.04,-12320.45,null,"Canadian Niagara Power Inc. 4220"]
["Canadian Niagara Power Inc. 4225","Canadian Niagara Power Inc.","4225","Late Payment Charges",-422165.41,-213486.76,-170637.99,-161060.60999999999,-76808.479999999996,null,{"$f":"B262 & \" \" &C262","v":"Canadian Niagara Power Inc. 4225"}]
["Canadian Niagara Power Inc. 4230","Canadian Niagara Power Inc.","4230","Sales of Water and Water Power",0,0,0,0,0,null,"Canadian Niagara Power Inc. 4230"]
["Canadian Niagara Power Inc. 4235","Canadian Niagara Power Inc.","4235","Miscellaneous Service Revenues",-164355.07999999999,-142910.54,-131952.32999999999,-129838.61,-129160.98,null,"Canadian Niagara Power Inc. 4235"]
["Canadian Niagara Power Inc. 4240","Canadian Niagara Power Inc.","4240","Provision for Rate Refunds",0,0,0,0,0,null,"Canadian Niagara Power Inc. 4240"]
["Canadian Niagara Power Inc. 4245","Canadian Niagara Power Inc.","4245","Government Assistance Directly Credited to Income",0,0,0,0,0,null,"Canadian Niagara Power Inc. 4245"]
["Canadian Niagara Power Inc. 4305","Canadian Niagara Power Inc.","4305","Regulatory Debits",0,0,0,534514,417273.52,null,"Canadian Niagara Power Inc. 4305"]
["Canadian Niagara Power Inc. 4310","Canadian Niagara Power Inc.","4310","Regulatory Credits",0,0,0,0,0,null,"Canadian Niagara Power Inc. 4310"]
["Canadian Niagara Power Inc. 4315","Canadian Niagara Power Inc.","4315","Revenues from Electric Plant Leased to Others",0,0,0,0,0,null,"Canadian Niagara Power Inc. 4315"]
["Canadian Niagara Power Inc. 4320","Canadian Niagara Power Inc.","4320","Expenses of Electric Plant Leased to Others",0,0,0,0,0,null,"Canadian Niagara Power Inc. 4320"]
["Canadian Niagara Power Inc. 4325","Canadian Niagara Power Inc.","4325","Revenues from Merchandise Jobbing, Etc.",-561880.99,-476738.18,-449523.97,-489247.82,-559750.81000000006,null,"Canadian Niagara Power Inc. 4325"]
["Canadian Niagara Power Inc. 4330","Canadian Niagara Power Inc.","4330","Costs and Expenses of Merchandising Jobbing, Etc.",91748.800000000003,63974.33,133329.1,191243.13,292055.03999999998,null,"Canadian Niagara Power Inc. 4330"]
["Canadian Niagara Power Inc. 4335","Canadian Niagara Power Inc.","4335","Profits and Losses from Financial Instrument Hedges",0,0,0,0,0,null,"Canadian Niagara Power Inc. 4335"]
["Canadian Niagara Power Inc. 4340","Canadian Niagara Power Inc.","4340","Profits and Losses from Financial Instrument Investments",0,0,0,0,0,null,"Canadian Niagara Power Inc. 4340"]
["Canadian Niagara Power Inc. 4345","Canadian Niagara Power Inc.","4345","Gains from Disposition of Future Use Utility Plant",0,0,0,0,0,null,"Canadian Niagara Power Inc. 4345"]
["Canadian Niagara Power Inc. 4350","Canadian Niagara Power Inc.","4350","Losses from Disposition of Future Use Utility Plant",0,0,0,0,0,null,"Canadian Niagara Power Inc. 4350"]
["Canadian Niagara Power Inc. 4355","Canadian Niagara Power Inc.","4355","Gain on Disposition of Utility and Other Property",0,0,0,0,0,null,"Canadian Niagara Power Inc. 4355"]
["Canadian Niagara Power Inc. 4360","Canadian Niagara Power Inc.","4360","Loss on Disposition of Utility and Other Property",-56838.69,-42942.28,30405.21,169862.39999999999,694.48,null,"Canadian Niagara Power Inc. 4360"]
["Canadian Niagara Power Inc. 4365","Canadian Niagara Power Inc.","4365","Gains from Disposition of Allowances for Emission",0,0,0,0,0,null,"Canadian Niagara Power Inc. 4365"]
["Canadian Niagara Power Inc. 4370","Canadian Niagara Power Inc.","4370","Losses from Disposition of Allowances for Emission",0,0,0,0,0,null,"Canadian Niagara Power Inc. 4370"]
["Canadian Niagara Power Inc. 4375","Canadian Niagara Power Inc.","4375","Revenues from Non-Utility Operations",-1419965.88,-1314416.26,-1253511.3600000001,-1193792.52,0,null,"Canadian Niagara Power Inc. 4375"]
["Canadian Niagara Power Inc. 4375","Canadian Niagara Power Inc.","4375","Sub-account Generation Facility Revenues",0,0,0,0,0,null,"Canadian Niagara Power Inc. 4375"]
["Canadian Niagara Power Inc. 4380","Canadian Niagara Power Inc.","4380","Expenses of Non-Utility Operations",132249.72,122633.04,122214,116586.96,0,null,"Canadian Niagara Power Inc. 4380"]
["Canadian Niagara Power Inc. 4380","Canadian Niagara Power Inc.","4380","Sub-account Generation Facility Expenses",0,0,0,0,0,null,"Canadian Niagara Power Inc. 4380"]
["Canadian Niagara Power Inc. 4385","Canadian Niagara Power Inc.","4385","Non-Utility Rental Income",0,0,0,0,0,null,"Canadian Niagara Power Inc. 4385"]
["Canadian Niagara Power Inc. 4390","Canadian Niagara Power Inc.","4390","Miscellaneous Non-Operating Income",0,0,0,-50000,0,null,"Canadian Niagara Power Inc. 4390"]
["Canadian Niagara Power Inc. 4395","Canadian Niagara Power Inc.","4395","Rate-Payer Benefit Including Interest",0,0,0,0,0,null,"Canadian Niagara Power Inc. 4395"]
["Canadian Niagara Power Inc. 4398","Canadian Niagara Power Inc.","4398","Foreign Exchange Gains and Losses, Including Amortization",-52510.9,807.97,2859.66,-1337.33,556.76,null,"Canadian Niagara Power Inc. 4398"]
["Canadian Niagara Power Inc. 4405","Canadian Niagara Power Inc.","4405","Interest and Dividend Income",-72244.41,-83680.11,-135984,-144026.26999999999,-74989.02,null,"Canadian Niagara Power Inc. 4405"]
["Canadian Niagara Power Inc. 4415","Canadian Niagara Power Inc.","4415","Equity in Earnings of Subsidiary Companies",0,0,0,0,0,null,"Canadian Niagara Power Inc. 4415"]
["Canadian Niagara Power Inc. Total ","Canadian Niagara Power Inc. Total",null,null,-2941279.06,-2551247.94,-2644569.77,-1591136.95,-560470.1,null,"Canadian Niagara Power Inc. Total "]
["Centre Wellington Hydro Ltd. 4082","Centre Wellington Hydro Ltd.","4082","Retail Services Revenues",-7172.09,-6776.6,-6508.2,-9821.4,-10847.41,null,"Centre Wellington Hydro Ltd. 4082"]
["Centre Wellington Hydro Ltd. 4084","Centre Wellington Hydro Ltd.","4084","Service Transaction Requests (STR) Revenues",-60.23,-46.75,-46.75,-93.5,-67.41,null,"Centre Wellington Hydro Ltd. 4084"]
["Centre Wellington Hydro Ltd. 4086","Centre Wellington Hydro Ltd.","4086","SSS Administration Revenue",-19327.240000000002,-19687.259999999998,-20177.759999999998,-20554.740000000002,-21030,null,"Centre Wellington Hydro Ltd. 4086"]
["Centre Wellington Hydro Ltd. 4090","Centre Wellington Hydro Ltd.","4090","Electric Services Incidental to Energy Sales",0,0,0,0,0,null,"Centre Wellington Hydro Ltd. 4090"]
["Centre Wellington Hydro Ltd. 4205","Centre Wellington Hydro Ltd.","4205","Interdepartmental Rents",0,0,0,0,0,null,"Centre Wellington Hydro Ltd. 4205"]
["Centre Wellington Hydro Ltd. 4210","Centre Wellington Hydro Ltd.","4210","Rent from Electric Property",-79841.88,-79805.100000000006,-79642.41,-79609.08,-79902.94,null,"Centre Wellington Hydro Ltd. 4210"]
["Centre Wellington Hydro Ltd. 4215","Centre Wellington Hydro Ltd.","4215","Other Utility Operating Income",0,-11684.66,0,0,0,null,"Centre Wellington Hydro Ltd. 4215"]
["Centre Wellington Hydro Ltd. 4220","Centre Wellington Hydro Ltd.","4220","Other Electric Revenues",0,0,0,0,0,null,"Centre Wellington Hydro Ltd. 4220"]
["Centre Wellington Hydro Ltd. 4225","Centre Wellington Hydro Ltd.","4225","Late Payment Charges",-12908.31,0,-10834.45,-8700.5300000000007,-6790.34,null,"Centre Wellington Hydro Ltd. 4225"]
["Centre Wellington Hydro Ltd. 4230","Centre Wellington Hydro Ltd.","4230","Sales of Water and Water Power",0,0,0,0,0,null,"Centre Wellington Hydro Ltd. 4230"]
["Centre Wellington Hydro Ltd. 4235","Centre Wellington Hydro Ltd.","4235","Miscellaneous Service Revenues",-150907.35,-130095.78,-126029.8,-105907.78,-97032,null,"Centre Wellington Hydro Ltd. 4235"]
["Centre Wellington Hydro Ltd. 4240","Centre Wellington Hydro Ltd.","4240","Provision for Rate Refunds",0,0,0,0,0,null,"Centre Wellington Hydro Ltd. 4240"]
["Centre Wellington Hydro Ltd. 4245","Centre Wellington Hydro Ltd.","4245","Government and Other Assistance Directly Credited to Income",0,-5092.59,-11095.55,-20674.04,-21300.83,null,"Centre Wellington Hydro Ltd. 4245"]
["Centre Wellington Hydro Ltd. 4305","Centre Wellington Hydro Ltd.","4305","Regulatory Debits",0,0,0,0,0,null,"Centre Wellington Hydro Ltd. 4305"]
["Centre Wellington Hydro Ltd. 4310","Centre Wellington Hydro Ltd.","4310","Regulatory Credits",0,0,0,0,0,null,"Centre Wellington Hydro Ltd. 4310"]
["Centre Wellington Hydro Ltd. 4315","Centre Wellington Hydro Ltd.","4315","Revenues from Electric Plant Leased to Others",0,0,0,0,0,null,"Centre Wellington Hydro Ltd. 4315"]
["Centre Wellington Hydro Ltd. 4320","Centre Wellington Hydro Ltd.","4320","Expenses of Electric Plant Leased to Others",0,0,0,0,0,null,"Centre Wellington Hydro Ltd. 4320"]
["Centre Wellington Hydro Ltd. 4325","Centre Wellington Hydro Ltd.","4325","Revenues from Merchandise",0,-207.48,0,0,-317.85000000000002,null,"Centre Wellington Hydro Ltd. 4325"]
["Centre Wellington Hydro Ltd. 4330","Centre Wellington Hydro Ltd.","4330","Costs and Expenses of Merchandising",0,172.9,0,0,0,null,"Centre Wellington Hydro Ltd. 4330"]
["Centre Wellington Hydro Ltd. 4335","Centre Wellington Hydro Ltd.","4335","Profits and Losses from Financial Instrument Hedges",0,0,0,0,0,null,"Centre Wellington Hydro Ltd. 4335"]
["Centre Wellington Hydro Ltd. 4340","Centre Wellington Hydro Ltd.","4340","Profits and Losses from Financial Instrument Investments",0,0,0,0,0,null,"Centre Wellington Hydro Ltd. 4340"]
["Centre Wellington Hydro Ltd. 4345","Centre Wellington Hydro Ltd.","4345","Gains from Disposition of Future Use Utility Plant",0,0,0,0,0,null,"Centre Wellington Hydro Ltd. 4345"]
["Centre Wellington Hydro Ltd. 4350","Centre Wellington Hydro Ltd.","4350","Losses from Disposition of Future Use Utility Plant",0,0,0,0,0,null,"Centre Wellington Hydro Ltd. 4350"]
["Centre Wellington Hydro Ltd. 4355","Centre Wellington Hydro Ltd.","4355","Gain on Disposition of Utility and Other Property",0,0,-29031.21,-24000,-36500,null,"Centre Wellington Hydro Ltd. 4355"]
["Centre Wellington Hydro Ltd. 4357","Centre Wellington Hydro Ltd.","4357","Gain from Retirement of Utility and Other Property",0,0,0,0,0,null,"Centre Wellington Hydro Ltd. 4357"]
["Centre Wellington Hydro Ltd. 4360","Centre Wellington Hydro Ltd.","4360","Loss on Disposition of Utility and Other Property",47701.06,39527.06,30579.09,40311.85,26304.1,null,"Centre Wellington Hydro Ltd. 4360"]
["Centre Wellington Hydro Ltd. 4362","Centre Wellington Hydro Ltd.","4362","Loss from Retirement of Utility and Other Property",0,0,0,0,0,null,"Centre Wellington Hydro Ltd. 4362"]
["Centre Wellington Hydro Ltd. 4365","Centre Wellington Hydro Ltd.","4365","Gains from Disposition of Allowances for Emission",0,0,0,0,0,null,"Centre Wellington Hydro Ltd. 4365"]
["Centre Wellington Hydro Ltd. 4370","Centre Wellington Hydro Ltd.","4370","Losses from Disposition of Allowances for Emission",0,0,0,0,0,null,"Centre Wellington Hydro Ltd. 4370"]
["Centre Wellington Hydro Ltd. 4375","Centre Wellington Hydro Ltd.","4375","Revenues from Non Rate-Regulated Utility Operations",-625842.22,-359957.39,-445139.24,-335359.8,-226233.49,null,"Centre Wellington Hydro Ltd. 4375"]
["Centre Wellington Hydro Ltd. 4375","Centre Wellington Hydro Ltd.","4375","Sub-account Generation Facility Revenues",0,0,0,0,0,null,"Centre Wellington Hydro Ltd. 4375"]
["Centre Wellington Hydro Ltd. 4380","Centre Wellington Hydro Ltd.","4380","Expenses of Non Rate-Regulated Utility Operations",595618.91,324742.15999999997,334518.76,317130.57,220988.9,null,"Centre Wellington Hydro Ltd. 4380"]
["Centre Wellington Hydro Ltd. 4380","Centre Wellington Hydro Ltd.","4380","Sub-account Generation Facility Expenses",0,0,0,0,0,null,"Centre Wellington Hydro Ltd. 4380"]
["Centre Wellington Hydro Ltd. 4385","Centre Wellington Hydro Ltd.","4385","Non Rate-Regulated Utility Rental Income",0,0,0,0,0,null,"Centre Wellington Hydro Ltd. 4385"]
["Centre Wellington Hydro Ltd. 4390","Centre Wellington Hydro Ltd.","4390","Miscellaneous Non-Operating Income",-12050.32,-5380.16,-6057.96,-7341.7,-5349.8,null,{"$f":"B326 & \" \" &C326","v":"Centre Wellington Hydro Ltd. 4390"}]
["Centre Wellington Hydro Ltd. 4395","Centre Wellington Hydro Ltd.","4395","Rate-Payer Benefit Including Interest",0,0,0,0,0,null,"Centre Wellington Hydro Ltd. 4395"]
["Centre Wellington Hydro Ltd. 4398","Centre Wellington Hydro Ltd.","4398","Foreign Exchange Gains and Losses, Including Amortization",0,0,0,0,0,null,"Centre Wellington Hydro Ltd. 4398"]
["Centre Wellington Hydro Ltd. 4405","Centre Wellington Hydro Ltd.","4405","Interest and Dividend Income",-35355.89,-31978.82,-53463.46,-43784.47,-21541.64,null,"Centre Wellington Hydro Ltd. 4405"]
["Centre Wellington Hydro Ltd. 4410","Centre Wellington Hydro Ltd.","4410","Lessor's Net Investment in Finance Lease",0,0,0,0,0,null,"Centre Wellington Hydro Ltd. 4410"]
["Centre Wellington Hydro Ltd. 4415","Centre Wellington Hydro Ltd.","4415","Equity in Earnings of Subsidiary Companies",0,0,0,0,0,null,"Centre Wellington Hydro Ltd. 4415"]
["Centre Wellington Hydro Ltd. 4420","Centre Wellington Hydro Ltd.","4420","Share of Profit or Loss of Joint Venture",0,0,0,0,0,null,"Centre Wellington Hydro Ltd. 4420"]
["Centre Wellington Hydro Ltd. Total ","Centre Wellington Hydro Ltd. Total",null,null,-300145.56,-286270.46999999997,-422928.94,-298404.62,-279620.71000000002,null,"Centre Wellington Hydro Ltd. Total "]
["Chapleau Public Utilities Corporation 4082","Chapleau Public Utilities Corporation","4082","Retail Services Revenues",-3089.58,-2748.98,-2723.28,-4524.8,-5630.64,null,"Chapleau Public Utilities Corporation 4082"]
["Chapleau Public Utilities Corporation 4084","Chapleau Public Utilities Corporation","4084","Service Transaction Requests (STR) Revenues",0,0,0,0,0,null,"Chapleau Public Utilities Corporation 4084"]
["Chapleau Public Utilities Corporation 4086","Chapleau Public Utilities Corporation","4086","SSS Administration Revenue",0,0,-4642.74,-4681.91,-4667.5600000000004,null,"Chapleau Public Utilities Corporation 4086"]
["Chapleau Public Utilities Corporation 4090","Chapleau Public Utilities Corporation","4090","Electric Services Incidental to Energy Sales",0,0,0,0,0,null,"Chapleau Public Utilities Corporation 4090"]
["Chapleau Public Utilities Corporation 4205","Chapleau Public Utilities Corporation","4205","Interdepartmental Rents",0,0,0,0,0,null,"Chapleau Public Utilities Corporation 4205"]
["Chapleau Public Utilities Corporation 4210","Chapleau Public Utilities Corporation","4210","Rent from Electric Property",-13519.11,-13608.51,-17944.39,-3926.13,-26308.89,null,"Chapleau Public Utilities Corporation 4210"]
["Chapleau Public Utilities Corporation 4215","Chapleau Public Utilities Corporation","4215","Other Utility Operating Income",0,0,0,-23811.17,-9769.19,null,"Chapleau Public Utilities Corporation 4215"]
["Chapleau Public Utilities Corporation 4220","Chapleau Public Utilities Corporation","4220","Other Electric Revenues",0,0,0,0,0,null,"Chapleau Public Utilities Corporation 4220"]
["Chapleau Public Utilities Corporation 4225","Chapleau Public Utilities Corporation","4225","Late Payment Charges",-5781.98,-5682.43,-5114.87,-5173.45,-2860.4,null,"Chapleau Public Utilities Corporation 4225"]
["Chapleau Public Utilities Corporation 4230","Chapleau Public Utilities Corporation","4230","Sales of Water and Water Power",0,0,0,0,0,null,"Chapleau Public Utilities Corporation 4230"]
["Chapleau Public Utilities Corporation 4235","Chapleau Public Utilities Corporation","4235","Miscellaneous Service Revenues",-5580,-9731,-10324.07,-5895,-12169.35,null,"Chapleau Public Utilities Corporation 4235"]
["Chapleau Public Utilities Corporation 4240","Chapleau Public Utilities Corporation","4240","Provision for Rate Refunds",0,0,0,0,0,null,"Chapleau Public Utilities Corporation 4240"]
["Chapleau Public Utilities Corporation 4245","Chapleau Public Utilities Corporation","4245","Government and Other Assistance Directly Credited to Income",0,0,0,0,0,null,"Chapleau Public Utilities Corporation 4245"]
["Chapleau Public Utilities Corporation 4305","Chapleau Public Utilities Corporation","4305","Regulatory Debits",0,0,12435,0,0,null,"Chapleau Public Utilities Corporation 4305"]
["Chapleau Public Utilities Corporation 4310","Chapleau Public Utilities Corporation","4310","Regulatory Credits",0,0,0,0,0,null,"Chapleau Public Utilities Corporation 4310"]
["Chapleau Public Utilities Corporation 4315","Chapleau Public Utilities Corporation","4315","Revenues from Electric Plant Leased to Others",0,0,0,0,0,null,"Chapleau Public Utilities Corporation 4315"]
["Chapleau Public Utilities Corporation 4320","Chapleau Public Utilities Corporation","4320","Expenses of Electric Plant Leased to Others",0,0,0,0,0,null,"Chapleau Public Utilities Corporation 4320"]
["Chapleau Public Utilities Corporation 4325","Chapleau Public Utilities Corporation","4325","Revenues from Merchandise",-418.84,-14.98,-0.02,0,0,null,"Chapleau Public Utilities Corporation 4325"]
["Chapleau Public Utilities Corporation 4330","Chapleau Public Utilities Corporation","4330","Costs and Expenses of Merchandising",-1496.24,0,0,0,0,null,"Chapleau Public Utilities Corporation 4330"]
["Chapleau Public Utilities Corporation 4335","Chapleau Public Utilities Corporation","4335","Profits and Losses from Financial Instrument Hedges",0,0,0,0,0,null,"Chapleau Public Utilities Corporation 4335"]
["Chapleau Public Utilities Corporation 4340","Chapleau Public Utilities Corporation","4340","Profits and Losses from Financial Instrument Investments",0,0,0,0,-3259.3,null,"Chapleau Public Utilities Corporation 4340"]
["Chapleau Public Utilities Corporation 4345","Chapleau Public Utilities Corporation","4345","Gains from Disposition of Future Use Utility Plant",0,0,0,0,0,null,"Chapleau Public Utilities Corporation 4345"]
["Chapleau Public Utilities Corporation 4350","Chapleau Public Utilities Corporation","4350","Losses from Disposition of Future Use Utility Plant",0,0,0,0,0,null,"Chapleau Public Utilities Corporation 4350"]
["Chapleau Public Utilities Corporation 4355","Chapleau Public Utilities Corporation","4355","Gain on Disposition of Utility and Other Property",0,0,-50000,0,0,null,"Chapleau Public Utilities Corporation 4355"]
["Chapleau Public Utilities Corporation 4357","Chapleau Public Utilities Corporation","4357","Gain from Retirement of Utility and Other Property",0,0,0,0,0,null,"Chapleau Public Utilities Corporation 4357"]
["Chapleau Public Utilities Corporation 4360","Chapleau Public Utilities Corporation","4360","Loss on Disposition of Utility and Other Property",0,0,0,0,0,null,"Chapleau Public Utilities Corporation 4360"]
["Chapleau Public Utilities Corporation 4362","Chapleau Public Utilities Corporation","4362","Loss from Retirement of Utility and Other Property",0,0,0,0,0,null,"Chapleau Public Utilities Corporation 4362"]
["Chapleau Public Utilities Corporation 4365","Chapleau Public Utilities Corporation","4365","Gains from Disposition of Allowances for Emission",0,0,0,0,0,null,"Chapleau Public Utilities Corporation 4365"]
["Chapleau Public Utilities Corporation 4370","Chapleau Public Utilities Corporation","4370","Losses from Disposition of Allowances for Emission",0,0,0,0,0,null,"Chapleau Public Utilities Corporation 4370"]
["Chapleau Public Utilities Corporation 4375","Chapleau Public Utilities Corporation","4375","Revenues from Non Rate-Regulated Utility Operations",-53710.68,-16951.900000000001,-150106.84,-251751.37,-184985.32,null,"Chapleau Public Utilities Corporation 4375"]
["Chapleau Public Utilities Corporation 4375","Chapleau Public Utilities Corporation","4375","Sub-account Generation Facility Revenues",0,0,0,0,0,null,"Chapleau Public Utilities Corporation 4375"]
["Chapleau Public Utilities Corporation 4380","Chapleau Public Utilities Corporation","4380","Expenses of Non Rate-Regulated Utility Operations",36723.1,18360.12,127249.89,175587.33,202881.77,null,"Chapleau Public Utilities Corporation 4380"]
["Chapleau Public Utilities Corporation 4380","Chapleau Public Utilities Corporation","4380","Sub-account Generation Facility Expenses",0,0,0,0,0,null,"Chapleau Public Utilities Corporation 4380"]
["Chapleau Public Utilities Corporation 4385","Chapleau Public Utilities Corporation","4385","Non Rate-Regulated Utility Rental Income",0,0,0,0,0,null,"Chapleau Public Utilities Corporation 4385"]
["Chapleau Public Utilities Corporation 4390","Chapleau Public Utilities Corporation","4390","Miscellaneous Non-Operating Income",0,0,0,0,0,null,"Chapleau Public Utilities Corporation 4390"]
["Chapleau Public Utilities Corporation 4395","Chapleau Public Utilities Corporation","4395","Rate-Payer Benefit Including Interest",0,0,0,0,0,null,"Chapleau Public Utilities Corporation 4395"]
["Chapleau Public Utilities Corporation 4398","Chapleau Public Utilities Corporation","4398","Foreign Exchange Gains and Losses, Including Amortization",0,0,0,0,0,null,"Chapleau Public Utilities Corporation 4398"]
["Chapleau Public Utilities Corporation 4405","Chapleau Public Utilities Corporation","4405","Interest and Dividend Income",-3649.56,-9313.2999999999993,-3021.43,-17973.43,-11099.13,null,"Chapleau Public Utilities Corporation 4405"]
["Chapleau Public Utilities Corporation 4410","Chapleau Public Utilities Corporation","4410","Lessor's Net Investment in Finance Lease",0,0,0,0,0,null,"Chapleau Public Utilities Corporation 4410"]
["Chapleau Public Utilities Corporation 4415","Chapleau Public Utilities Corporation","4415","Equity in Earnings of Subsidiary Companies",0,0,0,0,0,null,"Chapleau Public Utilities Corporation 4415"]
["Chapleau Public Utilities Corporation 4420","Chapleau Public Utilities Corporation","4420","Share of Profit or Loss of Joint Venture",0,0,0,0,0,null,"Chapleau Public Utilities Corporation 4420"]
["Chapleau Public Utilities Corporation Total ","Chapleau Public Utilities Corporation Total",null,null,-50522.89,-39690.980000000003,-104192.75,-142149.93,-57868.01,null,"Chapleau Public Utilities Corporation Total "]
["Cooperative Hydro Embrun Inc. 4082","Cooperative Hydro Embrun Inc.","4082","Retail Services Revenues",-3151.2,-2784,-2238.4,-2740.3,-2452.11,null,"Cooperative Hydro Embrun Inc. 4082"]
["Cooperative Hydro Embrun Inc. 4084","Cooperative Hydro Embrun Inc.","4084","Service Transaction Requests (STR) Revenues",-7.75,-2.5,-0.25,-9,-2.54,null,"Cooperative Hydro Embrun Inc. 4084"]
["Cooperative Hydro Embrun Inc. 4086","Cooperative Hydro Embrun Inc.","4086","SSS Administration Revenue",0,0,0,-6911.3,-7040.74,null,"Cooperative Hydro Embrun Inc. 4086"]
["Cooperative Hydro Embrun Inc. 4090","Cooperative Hydro Embrun Inc.","4090","Electric Services Incidental to Energy Sales",0,0,0,0,0,null,"Cooperative Hydro Embrun Inc. 4090"]
["Cooperative Hydro Embrun Inc. 4205","Cooperative Hydro Embrun Inc.","4205","Interdepartmental Rents",0,0,0,0,0,null,"Cooperative Hydro Embrun Inc. 4205"]
["Cooperative Hydro Embrun Inc. 4210","Cooperative Hydro Embrun Inc.","4210","Rent from Electric Property",-6451.64,-6448.88,-6988.91,-6665.02,-6934.75,null,"Cooperative Hydro Embrun Inc. 4210"]
["Cooperative Hydro Embrun Inc. 4215","Cooperative Hydro Embrun Inc.","4215","Other Utility Operating Income",0,0,0,0,0,null,"Cooperative Hydro Embrun Inc. 4215"]
["Cooperative Hydro Embrun Inc. 4220","Cooperative Hydro Embrun Inc.","4220","Other Electric Revenues",0,0,0,0,0,null,"Cooperative Hydro Embrun Inc. 4220"]
["Cooperative Hydro Embrun Inc. 4225","Cooperative Hydro Embrun Inc.","4225","Late Payment Charges",-11282.8,-12084.01,-12495.49,-12599.66,-11634.27,null,"Cooperative Hydro Embrun Inc. 4225"]
["Cooperative Hydro Embrun Inc. 4230","Cooperative Hydro Embrun Inc.","4230","Sales of Water and Water Power",0,0,0,0,0,null,"Cooperative Hydro Embrun Inc. 4230"]
["Cooperative Hydro Embrun Inc. 4235","Cooperative Hydro Embrun Inc.","4235","Miscellaneous Service Revenues",-18595,-13079.04,-13655,-8800,-6810,null,"Cooperative Hydro Embrun Inc. 4235"]
["Cooperative Hydro Embrun Inc. 4240","Cooperative Hydro Embrun Inc.","4240","Provision for Rate Refunds",20000,0,35000,45000,50000,null,"Cooperative Hydro Embrun Inc. 4240"]
["Cooperative Hydro Embrun Inc. 4245","Cooperative Hydro Embrun Inc.","4245","Government and Other Assistance Directly Credited to Income",0,0,0,0,-10000,null,"Cooperative Hydro Embrun Inc. 4245"]
["Cooperative Hydro Embrun Inc. 4305","Cooperative Hydro Embrun Inc.","4305","Regulatory Debits",0,0,0,0,0,null,"Cooperative Hydro Embrun Inc. 4305"]
["Cooperative Hydro Embrun Inc. 4310","Cooperative Hydro Embrun Inc.","4310","Regulatory Credits",0,0,0,0,0,null,{"$f":"B390 & \" \" &C390","v":"Cooperative Hydro Embrun Inc. 4310"}]
["Cooperative Hydro Embrun Inc. 4315","Cooperative Hydro Embrun Inc.","4315","Revenues from Electric Plant Leased to Others",0,0,0,0,0,null,"Cooperative Hydro Embrun Inc. 4315"]
["Cooperative Hydro Embrun Inc. 4320","Cooperative Hydro Embrun Inc.","4320","Expenses of Electric Plant Leased to Others",0,0,0,0,0,null,"Cooperative Hydro Embrun Inc. 4320"]
["Cooperative Hydro Embrun Inc. 4325","Cooperative Hydro Embrun Inc.","4325","Revenues from Merchandise",0,0,0,0,0,null,"Cooperative Hydro Embrun Inc. 4325"]
["Cooperative Hydro Embrun Inc. 4330","Cooperative Hydro Embrun Inc.","4330","Costs and Expenses of Merchandising",0,0,0,0,0,null,"Cooperative Hydro Embrun Inc. 4330"]
["Cooperative Hydro Embrun Inc. 4335","Cooperative Hydro Embrun Inc.","4335","Profits and Losses from Financial Instrument Hedges",0,0,0,0,0,null,"Cooperative Hydro Embrun Inc. 4335"]
["Cooperative Hydro Embrun Inc. 4340","Cooperative Hydro Embrun Inc.","4340","Profits and Losses from Financial Instrument Investments",0,0,0,0,0,null,"Cooperative Hydro Embrun Inc. 4340"]
["Cooperative Hydro Embrun Inc. 4345","Cooperative Hydro Embrun Inc.","4345","Gains from Disposition of Future Use Utility Plant",0,0,0,0,0,null,"Cooperative Hydro Embrun Inc. 4345"]
["Cooperative Hydro Embrun Inc. 4350","Cooperative Hydro Embrun Inc.","4350","Losses from Disposition of Future Use Utility Plant",0,0,0,0,0,null,"Cooperative Hydro Embrun Inc. 4350"]
["Cooperative Hydro Embrun Inc. 4355","Cooperative Hydro Embrun Inc.","4355","Gain on Disposition of Utility and Other Property",0,0,0,0,0,null,"Cooperative Hydro Embrun Inc. 4355"]
["Cooperative Hydro Embrun Inc. 4357","Cooperative Hydro Embrun Inc.","4357","Gain from Retirement of Utility and Other Property",0,0,0,0,0,null,"Cooperative Hydro Embrun Inc. 4357"]
["Cooperative Hydro Embrun Inc. 4360","Cooperative Hydro Embrun Inc.","4360","Loss on Disposition of Utility and Other Property",11858,0,10481.36,6065.9,-28405,null,"Cooperative Hydro Embrun Inc. 4360"]
["Cooperative Hydro Embrun Inc. 4362","Cooperative Hydro Embrun Inc.","4362","Loss from Retirement of Utility and Other Property",0,0,0,0,0,null,"Cooperative Hydro Embrun Inc. 4362"]
["Cooperative Hydro Embrun Inc. 4365","Cooperative Hydro Embrun Inc.","4365","Gains from Disposition of Allowances for Emission",0,0,0,0,0,null,"Cooperative Hydro Embrun Inc. 4365"]
["Cooperative Hydro Embrun Inc. 4370","Cooperative Hydro Embrun Inc.","4370","Losses from Disposition of Allowances for Emission",0,0,0,0,0,null,"Cooperative Hydro Embrun Inc. 4370"]
["Cooperative Hydro Embrun Inc. 4375","Cooperative Hydro Embrun Inc.","4375","Revenues from Non Rate-Regulated Utility Operations",-3214.85,-13354.35,-22814.83,-16065.07,-1160,null,"Cooperative Hydro Embrun Inc. 4375"]
["Cooperative Hydro Embrun Inc. 4375","Cooperative Hydro Embrun Inc.","4375","Sub-account Generation Facility Revenues",0,0,0,0,0,null,"Cooperative Hydro Embrun Inc. 4375"]
["Cooperative Hydro Embrun Inc. 4380","Cooperative Hydro Embrun Inc.","4380","Expenses of Non Rate-Regulated Utility Operations",3214.85,0,22814.83,16065.07,1160,null,"Cooperative Hydro Embrun Inc. 4380"]
["Cooperative Hydro Embrun Inc. 4380","Cooperative Hydro Embrun Inc.","4380","Sub-account Generation Facility Expenses",0,0,0,0,0,null,"Cooperative Hydro Embrun Inc. 4380"]
["Cooperative Hydro Embrun Inc. 4385","Cooperative Hydro Embrun Inc.","4385","Non Rate-Regulated Utility Rental Income",0,0,0,0,0,null,"Cooperative Hydro Embrun Inc. 4385"]
["Cooperative Hydro Embrun Inc. 4390","Cooperative Hydro Embrun Inc.","4390","Miscellaneous Non-Operating Income",-12330.66,-5723.59,-24977.89,-3974.29,-1417.21,null,"Cooperative Hydro Embrun Inc. 4390"]
["Cooperative Hydro Embrun Inc. 4395","Cooperative Hydro Embrun Inc.","4395","Rate-Payer Benefit Including Interest",0,0,0,0,0,null,"Cooperative Hydro Embrun Inc. 4395"]
["Cooperative Hydro Embrun Inc. 4398","Cooperative Hydro Embrun Inc.","4398","Foreign Exchange Gains and Losses, Including Amortization",0,0,0,0,0,null,"Cooperative Hydro Embrun Inc. 4398"]
["Cooperative Hydro Embrun Inc. 4405","Cooperative Hydro Embrun Inc.","4405","Interest and Dividend Income",-22160.59,-13394.79,-13755.76,-18819.91,-7954.18,null,"Cooperative Hydro Embrun Inc. 4405"]
["Cooperative Hydro Embrun Inc. 4410","Cooperative Hydro Embrun Inc.","4410","Lessor's Net Investment in Finance Lease",0,0,0,0,0,null,"Cooperative Hydro Embrun Inc. 4410"]
["Cooperative Hydro Embrun Inc. 4415","Cooperative Hydro Embrun Inc.","4415","Equity in Earnings of Subsidiary Companies",0,0,0,0,0,null,"Cooperative Hydro Embrun Inc. 4415"]
["Cooperative Hydro Embrun Inc. 4420","Cooperative Hydro Embrun Inc.","4420","Share of Profit or Loss of Joint Venture",0,0,0,0,0,null,"Cooperative Hydro Embrun Inc. 4420"]
["Cooperative Hydro Embrun Inc. Total ","Cooperative Hydro Embrun Inc. Total",null,null,-42121.64,-66871.16,-28630.34,-9453.58,-32650.799999999999,null,"Cooperative Hydro Embrun Inc. Total "]
["Cornwall Street Railway Light and Power Company Limited 4082","Cornwall Street Railway Light and Power Company Limited","4082","Retail Services Revenues",null,null,null,null,0,null,"Cornwall Street Railway Light and Power Company Limited 4082"]
["Cornwall Street Railway Light and Power Company Limited 4084","Cornwall Street Railway Light and Power Company Limited","4084","Service Transaction Requests (STR) Revenues",null,null,null,null,0,null,"Cornwall Street Railway Light and Power Company Limited 4084"]
["Cornwall Street Railway Light and Power Company Limited 4086","Cornwall Street Railway Light and Power Company Limited","4086","SSS Administration Revenue",null,null,null,null,0,null,"Cornwall Street Railway Light and Power Company Limited 4086"]
["Cornwall Street Railway Light and Power Company Limited 4090","Cornwall Street Railway Light and Power Company Limited","4090","Electric Services Incidental to Energy Sales",null,null,null,null,0,null,"Cornwall Street Railway Light and Power Company Limited 4090"]
["Cornwall Street Railway Light and Power Company Limited 4205","Cornwall Street Railway Light and Power Company Limited","4205","Interdepartmental Rents",null,null,null,null,0,null,"Cornwall Street Railway Light and Power Company Limited 4205"]
["Cornwall Street Railway Light and Power Company Limited 4210","Cornwall Street Railway Light and Power Company Limited","4210","Rent from Electric Property",null,null,null,null,0,null,"Cornwall Street Railway Light and Power Company Limited 4210"]
["Cornwall Street Railway Light and Power Company Limited 4215","Cornwall Street Railway Light and Power Company Limited","4215","Other Utility Operating Income",null,null,null,null,0,null,"Cornwall Street Railway Light and Power Company Limited 4215"]
["Cornwall Street Railway Light and Power Company Limited 4220","Cornwall Street Railway Light and Power Company Limited","4220","Other Electric Revenues",null,null,null,null,0,null,"Cornwall Street Railway Light and Power Company Limited 4220"]
["Cornwall Street Railway Light and Power Company Limited 4225","Cornwall Street Railway Light and Power Company Limited","4225","Late Payment Charges",null,null,null,null,0,null,"Cornwall Street Railway Light and Power Company Limited 4225"]
["Cornwall Street Railway Light and Power Company Limited 4230","Cornwall Street Railway Light and Power Company Limited","4230","Sales of Water and Water Power",null,null,null,null,0,null,"Cornwall Street Railway Light and Power Company Limited 4230"]
["Cornwall Street Railway Light and Power Company Limited 4235","Cornwall Street Railway Light and Power Company Limited","4235","Miscellaneous Service Revenues",null,null,null,null,0,null,"Cornwall Street Railway Light and Power Company Limited 4235"]
["Cornwall Street Railway Light and Power Company Limited 4240","Cornwall Street Railway Light and Power Company Limited","4240","Provision for Rate Refunds",null,null,null,null,0,null,"Cornwall Street Railway Light and Power Company Limited 4240"]
["Cornwall Street Railway Light and Power Company Limited 4245","Cornwall Street Railway Light and Power Company Limited","4245","Government Assistance Directly Credited to Income",null,null,null,null,0,null,"Cornwall Street Railway Light and Power Company Limited 4245"]
["Cornwall Street Railway Light and Power Company Limited 4305","Cornwall Street Railway Light and Power Company Limited","4305","Regulatory Debits",null,null,null,null,0,null,"Cornwall Street Railway Light and Power Company Limited 4305"]
["Cornwall Street Railway Light and Power Company Limited 4310","Cornwall Street Railway Light and Power Company Limited","4310","Regulatory Credits",null,null,null,null,0,null,"Cornwall Street Railway Light and Power Company Limited 4310"]
["Cornwall Street Railway Light and Power Company Limited 4315","Cornwall Street Railway Light and Power Company Limited","4315","Revenues from Electric Plant Leased to Others",null,null,null,null,0,null,"Cornwall Street Railway Light and Power Company Limited 4315"]
["Cornwall Street Railway Light and Power Company Limited 4320","Cornwall Street Railway Light and Power Company Limited","4320","Expenses of Electric Plant Leased to Others",null,null,null,null,0,null,"Cornwall Street Railway Light and Power Company Limited 4320"]
["Cornwall Street Railway Light and Power Company Limited 4325","Cornwall Street Railway Light and Power Company Limited","4325","Revenues from Merchandise Jobbing, Etc.",null,null,null,null,0,null,"Cornwall Street Railway Light and Power Company Limited 4325"]
["Cornwall Street Railway Light and Power Company Limited 4330","Cornwall Street Railway Light and Power Company Limited","4330","Costs and Expenses of Merchandising Jobbing, Etc.",null,null,null,null,0,null,"Cornwall Street Railway Light and Power Company Limited 4330"]
["Cornwall Street Railway Light and Power Company Limited 4335","Cornwall Street Railway Light and Power Company Limited","4335","Profits and Losses from Financial Instrument Hedges",null,null,null,null,0,null,"Cornwall Street Railway Light and Power Company Limited 4335"]
["Cornwall Street Railway Light and Power Company Limited 4340","Cornwall Street Railway Light and Power Company Limited","4340","Profits and Losses from Financial Instrument Investments",null,null,null,null,0,null,"Cornwall Street Railway Light and Power Company Limited 4340"]
["Cornwall Street Railway Light and Power Company Limited 4345","Cornwall Street Railway Light and Power Company Limited","4345","Gains from Disposition of Future Use Utility Plant",null,null,null,null,0,null,"Cornwall Street Railway Light and Power Company Limited 4345"]
["Cornwall Street Railway Light and Power Company Limited 4350","Cornwall Street Railway Light and Power Company Limited","4350","Losses from Disposition of Future Use Utility Plant",null,null,null,null,0,null,"Cornwall Street Railway Light and Power Company Limited 4350"]
["Cornwall Street Railway Light and Power Company Limited 4355","Cornwall Street Railway Light and Power Company Limited","4355","Gain on Disposition of Utility and Other Property",null,null,null,null,0,null,"Cornwall Street Railway Light and Power Company Limited 4355"]
["Cornwall Street Railway Light and Power Company Limited 4360","Cornwall Street Railway Light and Power Company Limited","4360","Loss on Disposition of Utility and Other Property",null,null,null,null,0,null,"Cornwall Street Railway Light and Power Company Limited 4360"]
["Cornwall Street Railway Light and Power Company Limited 4365","Cornwall Street Railway Light and Power Company Limited","4365","Gains from Disposition of Allowances for Emission",null,null,null,null,0,null,"Cornwall Street Railway Light and Power Company Limited 4365"]
["Cornwall Street Railway Light and Power Company Limited 4370","Cornwall Street Railway Light and Power Company Limited","4370","Losses from Disposition of Allowances for Emission",null,null,null,null,0,null,"Cornwall Street Railway Light and Power Company Limited 4370"]
["Cornwall Street Railway Light and Power Company Limited 4375","Cornwall Street Railway Light and Power Company Limited","4375","Revenues from Non-Utility Operations",null,null,null,null,0,null,"Cornwall Street Railway Light and Power Company Limited 4375"]
["Cornwall Street Railway Light and Power Company Limited 4375","Cornwall Street Railway Light and Power Company Limited","4375","Sub-account Generation Facility Revenues",null,null,null,null,0,null,"Cornwall Street Railway Light and Power Company Limited 4375"]
["Cornwall Street Railway Light and Power Company Limited 4380","Cornwall Street Railway Light and Power Company Limited","4380","Expenses of Non-Utility Operations",null,null,null,null,0,null,"Cornwall Street Railway Light and Power Company Limited 4380"]
["Cornwall Street Railway Light and Power Company Limited 4380","Cornwall Street Railway Light and Power Company Limited","4380","Sub-account Generation Facility Expenses",null,null,null,null,0,null,"Cornwall Street Railway Light and Power Company Limited 4380"]
["Cornwall Street Railway Light and Power Company Limited 4385","Cornwall Street Railway Light and Power Company Limited","4385","Non-Utility Rental Income",null,null,null,null,0,null,"Cornwall Street Railway Light and Power Company Limited 4385"]
["Cornwall Street Railway Light and Power Company Limited 4390","Cornwall Street Railway Light and Power Company Limited","4390","Miscellaneous Non-Operating Income",null,null,null,null,0,null,"Cornwall Street Railway Light and Power Company Limited 4390"]
["Cornwall Street Railway Light and Power Company Limited 4395","Cornwall Street Railway Light and Power Company Limited","4395","Rate-Payer Benefit Including Interest",null,null,null,null,0,null,"Cornwall Street Railway Light and Power Company Limited 4395"]
["Cornwall Street Railway Light and Power Company Limited 4398","Cornwall Street Railway Light and Power Company Limited","4398","Foreign Exchange Gains and Losses, Including Amortization",null,null,null,null,0,null,"Cornwall Street Railway Light and Power Company Limited 4398"]
["Cornwall Street Railway Light and Power Company Limited 4405","Cornwall Street Railway Light and Power Company Limited","4405","Interest and Dividend Income",null,null,null,null,0,null,"Cornwall Street Railway Light and Power Company Limited 4405"]
["Cornwall Street Railway Light and Power Company Limited 4415","Cornwall Street Railway Light and Power Company Limited","4415","Equity in Earnings of Subsidiary Companies",null,null,null,null,0,null,{"$f":"B454 & \" \" &C454","v":"Cornwall Street Railway Light and Power Company Limited 4415"}]
["Cornwall Street Railway Light and Power Company Limited Total ","Cornwall Street Railway Light and Power Company Limited Total",null,null,null,null,null,null,0,null,"Cornwall Street Railway Light and Power Company Limited Total "]
["E.L.K. Energy Inc. 4082","E.L.K. Energy Inc.","4082","Retail Services Revenues",0,0,0,0,0,null,"E.L.K. Energy Inc. 4082"]
["E.L.K. Energy Inc. 4084","E.L.K. Energy Inc.","4084","Service Transaction Requests (STR) Revenues",0,0,0,0,0,null,"E.L.K. Energy Inc. 4084"]
["E.L.K. Energy Inc. 4086","E.L.K. Energy Inc.","4086","SSS Administration Revenue",0,0,0,0,0,null,"E.L.K. Energy Inc. 4086"]
["E.L.K. Energy Inc. 4090","E.L.K. Energy Inc.","4090","Electric Services Incidental to Energy Sales",0,0,0,0,0,null,"E.L.K. Energy Inc. 4090"]
["E.L.K. Energy Inc. 4205","E.L.K. Energy Inc.","4205","Interdepartmental Rents",0,0,0,0,0,null,"E.L.K. Energy Inc. 4205"]
["E.L.K. Energy Inc. 4210","E.L.K. Energy Inc.","4210","Rent from Electric Property",-46278.77,-46329.18,-49745.29,0,0,null,"E.L.K. Energy Inc. 4210"]
["E.L.K. Energy Inc. 4215","E.L.K. Energy Inc.","4215","Other Utility Operating Income",-10444.969999999999,5126.3500000000004,0,-2314,-6928,null,"E.L.K. Energy Inc. 4215"]
["E.L.K. Energy Inc. 4220","E.L.K. Energy Inc.","4220","Other Electric Revenues",17998.310000000001,0,0,0,-9740.7099999999991,null,"E.L.K. Energy Inc. 4220"]
["E.L.K. Energy Inc. 4225","E.L.K. Energy Inc.","4225","Late Payment Charges",-122162.82,-42629.55,-97310.01,-93142.78,-86402.91,null,"E.L.K. Energy Inc. 4225"]
["E.L.K. Energy Inc. 4230","E.L.K. Energy Inc.","4230","Sales of Water and Water Power",0,0,0,0,0,null,"E.L.K. Energy Inc. 4230"]
["E.L.K. Energy Inc. 4235","E.L.K. Energy Inc.","4235","Miscellaneous Service Revenues",-65796.02,0,-117559.9,-108675.66,-163732.79999999999,null,"E.L.K. Energy Inc. 4235"]
["E.L.K. Energy Inc. 4240","E.L.K. Energy Inc.","4240","Provision for Rate Refunds",0,0,0,0,0,null,"E.L.K. Energy Inc. 4240"]
["E.L.K. Energy Inc. 4245","E.L.K. Energy Inc.","4245","Government and Other Assistance Directly Credited to Income",0,0,0,0,0,null,"E.L.K. Energy Inc. 4245"]
["E.L.K. Energy Inc. 4305","E.L.K. Energy Inc.","4305","Regulatory Debits",163488.69,0,0,0,0,null,"E.L.K. Energy Inc. 4305"]
["E.L.K. Energy Inc. 4310","E.L.K. Energy Inc.","4310","Regulatory Credits",0,0,0,0,0,null,"E.L.K. Energy Inc. 4310"]
["E.L.K. Energy Inc. 4315","E.L.K. Energy Inc.","4315","Revenues from Electric Plant Leased to Others",0,0,0,0,0,null,"E.L.K. Energy Inc. 4315"]
["E.L.K. Energy Inc. 4320","E.L.K. Energy Inc.","4320","Expenses of Electric Plant Leased to Others",12.41,0,0,0,0,null,"E.L.K. Energy Inc. 4320"]
["E.L.K. Energy Inc. 4325","E.L.K. Energy Inc.","4325","Revenues from Merchandise",0,-108780.72,0,0,0,null,"E.L.K. Energy Inc. 4325"]
["E.L.K. Energy Inc. 4330","E.L.K. Energy Inc.","4330","Costs and Expenses of Merchandising",0,0,0,0,0,null,"E.L.K. Energy Inc. 4330"]
["E.L.K. Energy Inc. 4335","E.L.K. Energy Inc.","4335","Profits and Losses from Financial Instrument Hedges",0,0,0,0,0,null,"E.L.K. Energy Inc. 4335"]
["E.L.K. Energy Inc. 4340","E.L.K. Energy Inc.","4340","Profits and Losses from Financial Instrument Investments",0,0,0,0,0,null,"E.L.K. Energy Inc. 4340"]
["E.L.K. Energy Inc. 4345","E.L.K. Energy Inc.","4345","Gains from Disposition of Future Use Utility Plant",0,0,0,0,0,null,"E.L.K. Energy Inc. 4345"]
["E.L.K. Energy Inc. 4350","E.L.K. Energy Inc.","4350","Losses from Disposition of Future Use Utility Plant",0,0,0,0,0,null,"E.L.K. Energy Inc. 4350"]
["E.L.K. Energy Inc. 4355","E.L.K. Energy Inc.","4355","Gain on Disposition of Utility and Other Property",-50384.75,0,0,0,0,null,"E.L.K. Energy Inc. 4355"]
["E.L.K. Energy Inc. 4357","E.L.K. Energy Inc.","4357","Gain from Retirement of Utility and Other Property",0,0,0,0,0,null,"E.L.K. Energy Inc. 4357"]
["E.L.K. Energy Inc. 4360","E.L.K. Energy Inc.","4360","Loss on Disposition of Utility and Other Property",0,0,0,0,0,null,"E.L.K. Energy Inc. 4360"]
["E.L.K. Energy Inc. 4362","E.L.K. Energy Inc.","4362","Loss from Retirement of Utility and Other Property",0,0,0,0,0,null,"E.L.K. Energy Inc. 4362"]
["E.L.K. Energy Inc. 4365","E.L.K. Energy Inc.","4365","Gains from Disposition of Allowances for Emission",0,0,0,0,0,null,"E.L.K. Energy Inc. 4365"]
["E.L.K. Energy Inc. 4370","E.L.K. Energy Inc.","4370","Losses from Disposition of Allowances for Emission",0,0,0,0,0,null,"E.L.K. Energy Inc. 4370"]
["E.L.K. Energy Inc. 4375","E.L.K. Energy Inc.","4375","Revenues from Non Rate-Regulated Utility Operations",-917618.47,-721597.88,-816571.96,-711014.07,-651522.32999999996,null,"E.L.K. Energy Inc. 4375"]
["E.L.K. Energy Inc. 4375","E.L.K. Energy Inc.","4375","Sub-account Generation Facility Revenues",0,0,0,0,0,null,"E.L.K. Energy Inc. 4375"]
["E.L.K. Energy Inc. 4380","E.L.K. Energy Inc.","4380","Expenses of Non Rate-Regulated Utility Operations",470223.39,257651.05,418032.07,342822.40000000002,225374.96,null,"E.L.K. Energy Inc. 4380"]
["E.L.K. Energy Inc. 4380","E.L.K. Energy Inc.","4380","Sub-account Generation Facility Expenses",0,0,0,0,0,null,"E.L.K. Energy Inc. 4380"]
["E.L.K. Energy Inc. 4385","E.L.K. Energy Inc.","4385","Non Rate-Regulated Utility Rental Income",0,0,0,-65905.11,-66362.73,null,"E.L.K. Energy Inc. 4385"]
["E.L.K. Energy Inc. 4390","E.L.K. Energy Inc.","4390","Miscellaneous Non-Operating Income",0,0,0,0,0,null,"E.L.K. Energy Inc. 4390"]
["E.L.K. Energy Inc. 4395","E.L.K. Energy Inc.","4395","Rate-Payer Benefit Including Interest",0,0,0,0,0,null,"E.L.K. Energy Inc. 4395"]
["E.L.K. Energy Inc. 4398","E.L.K. Energy Inc.","4398","Foreign Exchange Gains and Losses, Including Amortization",0,0,0,0,0,null,"E.L.K. Energy Inc. 4398"]
["E.L.K. Energy Inc. 4405","E.L.K. Energy Inc.","4405","Interest and Dividend Income",-56444.14,-77374.03,-128219.96,-196292.76,-141845.97,null,"E.L.K. Energy Inc. 4405"]
["E.L.K. Energy Inc. 4410","E.L.K. Energy Inc.","4410","Lessor's Net Investment in Finance Lease",0,0,0,0,0,null,"E.L.K. Energy Inc. 4410"]
["E.L.K. Energy Inc. 4415","E.L.K. Energy Inc.","4415","Equity in Earnings of Subsidiary Companies",0,0,0,0,0,null,"E.L.K. Energy Inc. 4415"]
["E.L.K. Energy Inc. 4420","E.L.K. Energy Inc.","4420","Share of Profit or Loss of Joint Venture",0,0,0,0,0,null,"E.L.K. Energy Inc. 4420"]
["E.L.K. Energy Inc. Total ","E.L.K. Energy Inc. Total",null,null,-617407.14,-733933.96,-791375.05,-834521.98,-901160.49,null,"E.L.K. Energy Inc. Total "]
["ENWIN Utilities Ltd. 4082","ENWIN Utilities Ltd.","4082","Retail Services Revenues",0,0,0,0,0,null,"ENWIN Utilities Ltd. 4082"]
["ENWIN Utilities Ltd. 4084","ENWIN Utilities Ltd.","4084","Service Transaction Requests (STR) Revenues",0,0,0,0,0,null,"ENWIN Utilities Ltd. 4084"]
["ENWIN Utilities Ltd. 4086","ENWIN Utilities Ltd.","4086","SSS Administration Revenue",-250519.9,-254636.48,-258321.98,-259961.38,-262749.65999999997,null,"ENWIN Utilities Ltd. 4086"]
["ENWIN Utilities Ltd. 4090","ENWIN Utilities Ltd.","4090","Electric Services Incidental to Energy Sales",0,0,0,0,0,null,"ENWIN Utilities Ltd. 4090"]
["ENWIN Utilities Ltd. 4205","ENWIN Utilities Ltd.","4205","Interdepartmental Rents",0,0,0,0,0,null,"ENWIN Utilities Ltd. 4205"]
["ENWIN Utilities Ltd. 4210","ENWIN Utilities Ltd.","4210","Rent from Electric Property",-599025.19999999995,-628275.04,-732128.84,-853894.75,-1591990.69,null,"ENWIN Utilities Ltd. 4210"]
["ENWIN Utilities Ltd. 4215","ENWIN Utilities Ltd.","4215","Other Utility Operating Income",-2369.1999999999998,-1459.28,-2779.79,-1547.64,-1076.44,null,"ENWIN Utilities Ltd. 4215"]
["ENWIN Utilities Ltd. 4220","ENWIN Utilities Ltd.","4220","Other Electric Revenues",0,0,0,0,0,null,"ENWIN Utilities Ltd. 4220"]
["ENWIN Utilities Ltd. 4225","ENWIN Utilities Ltd.","4225","Late Payment Charges",-404244.82,-365696.31,-378243.38,-377758.95,-452399.72,null,"ENWIN Utilities Ltd. 4225"]
["ENWIN Utilities Ltd. 4230","ENWIN Utilities Ltd.","4230","Sales of Water and Water Power",0,0,0,0,0,null,"ENWIN Utilities Ltd. 4230"]
["ENWIN Utilities Ltd. 4235","ENWIN Utilities Ltd.","4235","Miscellaneous Service Revenues",-1152888.08,-903510.82,-768761.77,-945550.38,-881614.75,null,"ENWIN Utilities Ltd. 4235"]
["ENWIN Utilities Ltd. 4240","ENWIN Utilities Ltd.","4240","Provision for Rate Refunds",0,0,0,0,0,null,"ENWIN Utilities Ltd. 4240"]
["ENWIN Utilities Ltd. 4245","ENWIN Utilities Ltd.","4245","Government and Other Assistance Directly Credited to Income",-269948.81,-316767.84000000003,-353872.1,-417047.97,-492349.39,null,"ENWIN Utilities Ltd. 4245"]
["ENWIN Utilities Ltd. 4305","ENWIN Utilities Ltd.","4305","Regulatory Debits",0,0,0,0,0,null,"ENWIN Utilities Ltd. 4305"]
["ENWIN Utilities Ltd. 4310","ENWIN Utilities Ltd.","4310","Regulatory Credits",2371364.09,2280327.7200000002,2373768.48,2061977.59,4322672.12,null,"ENWIN Utilities Ltd. 4310"]
["ENWIN Utilities Ltd. 4315","ENWIN Utilities Ltd.","4315","Revenues from Electric Plant Leased to Others",0,0,0,0,0,null,"ENWIN Utilities Ltd. 4315"]
["ENWIN Utilities Ltd. 4320","ENWIN Utilities Ltd.","4320","Expenses of Electric Plant Leased to Others",0,0,0,0,0,null,"ENWIN Utilities Ltd. 4320"]
["ENWIN Utilities Ltd. 4325","ENWIN Utilities Ltd.","4325","Revenues from Merchandise",0,0,0,0,0,null,"ENWIN Utilities Ltd. 4325"]
["ENWIN Utilities Ltd. 4330","ENWIN Utilities Ltd.","4330","Costs and Expenses of Merchandising",0,0,0,0,0,null,"ENWIN Utilities Ltd. 4330"]
["ENWIN Utilities Ltd. 4335","ENWIN Utilities Ltd.","4335","Profits and Losses from Financial Instrument Hedges",0,0,0,0,0,null,"ENWIN Utilities Ltd. 4335"]
["ENWIN Utilities Ltd. 4340","ENWIN Utilities Ltd.","4340","Profits and Losses from Financial Instrument Investments",0,0,0,0,0,null,{"$f":"B518 & \" \" &C518","v":"ENWIN Utilities Ltd. 4340"}]
["ENWIN Utilities Ltd. 4345","ENWIN Utilities Ltd.","4345","Gains from Disposition of Future Use Utility Plant",0,0,0,0,0,null,"ENWIN Utilities Ltd. 4345"]
["ENWIN Utilities Ltd. 4350","ENWIN Utilities Ltd.","4350","Losses from Disposition of Future Use Utility Plant",0,0,0,0,0,null,"ENWIN Utilities Ltd. 4350"]
["ENWIN Utilities Ltd. 4355","ENWIN Utilities Ltd.","4355","Gain on Disposition of Utility and Other Property",-614523.05000000005,-522381.71,-346960.63,-59368.15,-631613.43999999994,null,"ENWIN Utilities Ltd. 4355"]
["ENWIN Utilities Ltd. 4357","ENWIN Utilities Ltd.","4357","Gain from Retirement of Utility and Other Property",0,0,0,0,0,null,"ENWIN Utilities Ltd. 4357"]
["ENWIN Utilities Ltd. 4360","ENWIN Utilities Ltd.","4360","Loss on Disposition of Utility and Other Property",477104.53,458577.04,509809.02,436205.89,547781.34,null,"ENWIN Utilities Ltd. 4360"]
["ENWIN Utilities Ltd. 4362","ENWIN Utilities Ltd.","4362","Loss from Retirement of Utility and Other Property",0,0,0,0,0,null,"ENWIN Utilities Ltd. 4362"]
["ENWIN Utilities Ltd. 4365","ENWIN Utilities Ltd.","4365","Gains from Disposition of Allowances for Emission",0,0,0,0,0,null,"ENWIN Utilities Ltd. 4365"]
["ENWIN Utilities Ltd. 4370","ENWIN Utilities Ltd.","4370","Losses from Disposition of Allowances for Emission",0,0,0,0,0,null,"ENWIN Utilities Ltd. 4370"]
["ENWIN Utilities Ltd. 4375","ENWIN Utilities Ltd.","4375","Revenues from Non Rate-Regulated Utility Operations",-24617951.010000002,-23066217.079999998,-23529194.539999999,-22850123.93,-22557081.350000001,null,"ENWIN Utilities Ltd. 4375"]
["ENWIN Utilities Ltd. 4375","ENWIN Utilities Ltd.","4375","Sub-account Generation Facility Revenues",0,0,0,0,0,null,"ENWIN Utilities Ltd. 4375"]
["ENWIN Utilities Ltd. 4380","ENWIN Utilities Ltd.","4380","Expenses of Non Rate-Regulated Utility Operations",23528544.780825801,22038804.190000001,22773953.059999999,22277244.690000001,21173634.489999998,null,"ENWIN Utilities Ltd. 4380"]
["ENWIN Utilities Ltd. 4380","ENWIN Utilities Ltd.","4380","Sub-account Generation Facility Expenses",0,0,0,0,0,null,"ENWIN Utilities Ltd. 4380"]
["ENWIN Utilities Ltd. 4385","ENWIN Utilities Ltd.","4385","Non Rate-Regulated Utility Rental Income",0,0,0,0,0,null,"ENWIN Utilities Ltd. 4385"]
["ENWIN Utilities Ltd. 4390","ENWIN Utilities Ltd.","4390","Miscellaneous Non-Operating Income",-131893.32999999999,-85943.67,-123539.06,-96481.74,-76688,null,"ENWIN Utilities Ltd. 4390"]
["ENWIN Utilities Ltd. 4395","ENWIN Utilities Ltd.","4395","Rate-Payer Benefit Including Interest",0,0,0,0,0,null,"ENWIN Utilities Ltd. 4395"]
["ENWIN Utilities Ltd. 4398","ENWIN Utilities Ltd.","4398","Foreign Exchange Gains and Losses, Including Amortization",14237.93,-2754.28,471.22,1438.94,9601.65,null,"ENWIN Utilities Ltd. 4398"]
["ENWIN Utilities Ltd. 4405","ENWIN Utilities Ltd.","4405","Interest and Dividend Income",-568506.72,-641052.36,-973931.26,-1249348.7,-528685.38,null,"ENWIN Utilities Ltd. 4405"]
["ENWIN Utilities Ltd. 4410","ENWIN Utilities Ltd.","4410","Lessor's Net Investment in Finance Lease",0,0,0,0,0,null,"ENWIN Utilities Ltd. 4410"]
["ENWIN Utilities Ltd. 4415","ENWIN Utilities Ltd.","4415","Equity in Earnings of Subsidiary Companies",0,0,0,0,0,null,"ENWIN Utilities Ltd. 4415"]
["ENWIN Utilities Ltd. 4420","ENWIN Utilities Ltd.","4420","Share of Profit or Loss of Joint Venture",0,0,0,0,0,null,"ENWIN Utilities Ltd. 4420"]
["ENWIN Utilities Ltd. Total ","ENWIN Utilities Ltd. Total",null,null,-2220618.7891741898,-2010985.92,-1809731.57,-2334216.4799999902,-1422559.22000001,null,"ENWIN Utilities Ltd. Total "]
["EPCOR Electricity Distribution Ontario Inc. 4082","EPCOR Electricity Distribution Ontario Inc.","4082","Retail Services Revenues",-13803,-11066.3,-9736.5,-9982.1,-8034.81,null,"EPCOR Electricity Distribution Ontario Inc. 4082"]
["EPCOR Electricity Distribution Ontario Inc. 4084","EPCOR Electricity Distribution Ontario Inc.","4084","Service Transaction Requests (STR) Revenues",-187,-169.5,-142.5,-110.5,-110.88,null,"EPCOR Electricity Distribution Ontario Inc. 4084"]
["EPCOR Electricity Distribution Ontario Inc. 4086","EPCOR Electricity Distribution Ontario Inc.","4086","SSS Administration Revenue",-47488.800000000003,-48632.65,-49907.73,-51726.25,-53964.23,null,"EPCOR Electricity Distribution Ontario Inc. 4086"]
["EPCOR Electricity Distribution Ontario Inc. 4090","EPCOR Electricity Distribution Ontario Inc.","4090","Electric Services Incidental to Energy Sales",0,0,0,0,0,null,"EPCOR Electricity Distribution Ontario Inc. 4090"]
["EPCOR Electricity Distribution Ontario Inc. 4205","EPCOR Electricity Distribution Ontario Inc.","4205","Interdepartmental Rents",0,0,0,0,0,null,"EPCOR Electricity Distribution Ontario Inc. 4205"]
["EPCOR Electricity Distribution Ontario Inc. 4210","EPCOR Electricity Distribution Ontario Inc.","4210","Rent from Electric Property",-149575.09,-141528.49,-144665.51999999999,-142732.56,-136505.32,null,"EPCOR Electricity Distribution Ontario Inc. 4210"]
["EPCOR Electricity Distribution Ontario Inc. 4215","EPCOR Electricity Distribution Ontario Inc.","4215","Other Utility Operating Income",0,0,0,0,0,null,"EPCOR Electricity Distribution Ontario Inc. 4215"]
["EPCOR Electricity Distribution Ontario Inc. 4220","EPCOR Electricity Distribution Ontario Inc.","4220","Other Electric Revenues",0,0,0,0,0,null,"EPCOR Electricity Distribution Ontario Inc. 4220"]
["EPCOR Electricity Distribution Ontario Inc. 4225","EPCOR Electricity Distribution Ontario Inc.","4225","Late Payment Charges",-56927.02,-53070.37,-50125.9,-57434.720000000001,-76022.45,null,"EPCOR Electricity Distribution Ontario Inc. 4225"]
["EPCOR Electricity Distribution Ontario Inc. 4230","EPCOR Electricity Distribution Ontario Inc.","4230","Sales of Water and Water Power",-71259.350000000006,0,0,0,0,null,"EPCOR Electricity Distribution Ontario Inc. 4230"]
["EPCOR Electricity Distribution Ontario Inc. 4235","EPCOR Electricity Distribution Ontario Inc.","4235","Miscellaneous Service Revenues",-215076.58,-168175.39,-105550.88,-85413.59,-79835.37,null,"EPCOR Electricity Distribution Ontario Inc. 4235"]
["EPCOR Electricity Distribution Ontario Inc. 4240","EPCOR Electricity Distribution Ontario Inc.","4240","Provision for Rate Refunds",0,0,0,0,0,null,"EPCOR Electricity Distribution Ontario Inc. 4240"]
["EPCOR Electricity Distribution Ontario Inc. 4245","EPCOR Electricity Distribution Ontario Inc.","4245","Government and Other Assistance Directly Credited to Income",-45635.35,-72284.960000000006,-84825.86,-102381.57,-121960.09,null,"EPCOR Electricity Distribution Ontario Inc. 4245"]
["EPCOR Electricity Distribution Ontario Inc. 4305","EPCOR Electricity Distribution Ontario Inc.","4305","Regulatory Debits",0,0,0,0,0,null,"EPCOR Electricity Distribution Ontario Inc. 4305"]
["EPCOR Electricity Distribution Ontario Inc. 4310","EPCOR Electricity Distribution Ontario Inc.","4310","Regulatory Credits",0,0,0,0,0,null,"EPCOR Electricity Distribution Ontario Inc. 4310"]
["EPCOR Electricity Distribution Ontario Inc. 4315","EPCOR Electricity Distribution Ontario Inc.","4315","Revenues from Electric Plant Leased to Others",0,0,0,0,0,null,"EPCOR Electricity Distribution Ontario Inc. 4315"]
["EPCOR Electricity Distribution Ontario Inc. 4320","EPCOR Electricity Distribution Ontario Inc.","4320","Expenses of Electric Plant Leased to Others",0,0,0,0,0,null,"EPCOR Electricity Distribution Ontario Inc. 4320"]
["EPCOR Electricity Distribution Ontario Inc. 4325","EPCOR Electricity Distribution Ontario Inc.","4325","Revenues from Merchandise",0,0,0,0,0,null,"EPCOR Electricity Distribution Ontario Inc. 4325"]
["EPCOR Electricity Distribution Ontario Inc. 4330","EPCOR Electricity Distribution Ontario Inc.","4330","Costs and Expenses of Merchandising",0,0,0,0,0,null,"EPCOR Electricity Distribution Ontario Inc. 4330"]
["EPCOR Electricity Distribution Ontario Inc. 4335","EPCOR Electricity Distribution Ontario Inc.","4335","Profits and Losses from Financial Instrument Hedges",0,0,0,0,0,null,"EPCOR Electricity Distribution Ontario Inc. 4335"]
["EPCOR Electricity Distribution Ontario Inc. 4340","EPCOR Electricity Distribution Ontario Inc.","4340","Profits and Losses from Financial Instrument Investments",0,0,0,0,0,null,"EPCOR Electricity Distribution Ontario Inc. 4340"]
["EPCOR Electricity Distribution Ontario Inc. 4345","EPCOR Electricity Distribution Ontario Inc.","4345","Gains from Disposition of Future Use Utility Plant",0,0,0,0,0,null,"EPCOR Electricity Distribution Ontario Inc. 4345"]
["EPCOR Electricity Distribution Ontario Inc. 4350","EPCOR Electricity Distribution Ontario Inc.","4350","Losses from Disposition of Future Use Utility Plant",0,0,0,0,0,null,"EPCOR Electricity Distribution Ontario Inc. 4350"]
["EPCOR Electricity Distribution Ontario Inc. 4355","EPCOR Electricity Distribution Ontario Inc.","4355","Gain on Disposition of Utility and Other Property",-23506.07,-10000,-9194.64,-106781.16,-11935.81,null,"EPCOR Electricity Distribution Ontario Inc. 4355"]
["EPCOR Electricity Distribution Ontario Inc. 4357","EPCOR Electricity Distribution Ontario Inc.","4357","Gain from Retirement of Utility and Other Property",0,0,0,0,0,null,"EPCOR Electricity Distribution Ontario Inc. 4357"]
["EPCOR Electricity Distribution Ontario Inc. 4360","EPCOR Electricity Distribution Ontario Inc.","4360","Loss on Disposition of Utility and Other Property",62919.45,25935.19,58949.53,7755.16,75154.179999999993,null,"EPCOR Electricity Distribution Ontario Inc. 4360"]
["EPCOR Electricity Distribution Ontario Inc. 4362","EPCOR Electricity Distribution Ontario Inc.","4362","Loss from Retirement of Utility and Other Property",0,0,0,0,0,null,"EPCOR Electricity Distribution Ontario Inc. 4362"]
["EPCOR Electricity Distribution Ontario Inc. 4365","EPCOR Electricity Distribution Ontario Inc.","4365","Gains from Disposition of Allowances for Emission",0,0,0,0,0,null,"EPCOR Electricity Distribution Ontario Inc. 4365"]
["EPCOR Electricity Distribution Ontario Inc. 4370","EPCOR Electricity Distribution Ontario Inc.","4370","Losses from Disposition of Allowances for Emission",0,0,0,0,0,null,"EPCOR Electricity Distribution Ontario Inc. 4370"]
["EPCOR Electricity Distribution Ontario Inc. 4375","EPCOR Electricity Distribution Ontario Inc.","4375","Revenues from Non Rate-Regulated Utility Operations",-95225.4,-658540.42000000004,-908252.82,-679304.6,-861383.19,null,"EPCOR Electricity Distribution Ontario Inc. 4375"]
["EPCOR Electricity Distribution Ontario Inc. 4375","EPCOR Electricity Distribution Ontario Inc.","4375","Sub-account Generation Facility Revenues",0,0,0,0,0,null,"EPCOR Electricity Distribution Ontario Inc. 4375"]
["EPCOR Electricity Distribution Ontario Inc. 4380","EPCOR Electricity Distribution Ontario Inc.","4380","Expenses of Non Rate-Regulated Utility Operations",61322.44,614545.75,709034.74,631253.66,825080.95,null,"EPCOR Electricity Distribution Ontario Inc. 4380"]
["EPCOR Electricity Distribution Ontario Inc. 4380","EPCOR Electricity Distribution Ontario Inc.","4380","Sub-account Generation Facility Expenses",0,0,0,0,0,null,"EPCOR Electricity Distribution Ontario Inc. 4380"]
["EPCOR Electricity Distribution Ontario Inc. 4385","EPCOR Electricity Distribution Ontario Inc.","4385","Non Rate-Regulated Utility Rental Income",0,0,0,0,-2580,null,"EPCOR Electricity Distribution Ontario Inc. 4385"]
["EPCOR Electricity Distribution Ontario Inc. 4390","EPCOR Electricity Distribution Ontario Inc.","4390","Miscellaneous Non-Operating Income",0,0,0,0,0,null,"EPCOR Electricity Distribution Ontario Inc. 4390"]
["EPCOR Electricity Distribution Ontario Inc. 4395","EPCOR Electricity Distribution Ontario Inc.","4395","Rate-Payer Benefit Including Interest",0,0,0,0,0,null,"EPCOR Electricity Distribution Ontario Inc. 4395"]
["EPCOR Electricity Distribution Ontario Inc. 4398","EPCOR Electricity Distribution Ontario Inc.","4398","Foreign Exchange Gains and Losses, Including Amortization",0,0,0,0,0,null,"EPCOR Electricity Distribution Ontario Inc. 4398"]
["EPCOR Electricity Distribution Ontario Inc. 4405","EPCOR Electricity Distribution Ontario Inc.","4405","Interest and Dividend Income",-38619.71,-96200.88,-179897.11,-158465.1,-69517.2,null,"EPCOR Electricity Distribution Ontario Inc. 4405"]
["EPCOR Electricity Distribution Ontario Inc. 4410","EPCOR Electricity Distribution Ontario Inc.","4410","Lessor's Net Investment in Finance Lease",0,0,0,0,0,null,"EPCOR Electricity Distribution Ontario Inc. 4410"]
["EPCOR Electricity Distribution Ontario Inc. 4415","EPCOR Electricity Distribution Ontario Inc.","4415","Equity in Earnings of Subsidiary Companies",0,0,0,0,0,null,"EPCOR Electricity Distribution Ontario Inc. 4415"]
["EPCOR Electricity Distribution Ontario Inc. 4420","EPCOR Electricity Distribution Ontario Inc.","4420","Share of Profit or Loss of Joint Venture",0,0,0,0,0,null,"EPCOR Electricity Distribution Ontario Inc. 4420"]
["EPCOR Electricity Distribution Ontario Inc. Total ","EPCOR Electricity Distribution Ontario Inc. Total",null,null,-633061.48,-619188.02,-774315.19,-755323.33,-521614.22,null,"EPCOR Electricity Distribution Ontario Inc. Total "]
["ERTH Power Corporation 4082","ERTH Power Corporation","4082","Retail Services Revenues",-14779,-12567,-12185.5,-20457.5,-21170,null,{"$f":"B582 & \" \" &C582","v":"ERTH Power Corporation 4082"}]
["ERTH Power Corporation 4084","ERTH Power Corporation","4084","Service Transaction Requests (STR) Revenues",-6461.05,-5229.8500000000004,-4829.2,-8012.45,-8202,null,"ERTH Power Corporation 4084"]
["ERTH Power Corporation 4086","ERTH Power Corporation","4086","SSS Administration Revenue",-66018.63,-69313.64,-71052.66,-82987.520000000004,-83801,null,"ERTH Power Corporation 4086"]
["ERTH Power Corporation 4090","ERTH Power Corporation","4090","Electric Services Incidental to Energy Sales",0,0,0,0,0,null,"ERTH Power Corporation 4090"]
["ERTH Power Corporation 4205","ERTH Power Corporation","4205","Interdepartmental Rents",0,0,0,0,0,null,"ERTH Power Corporation 4205"]
["ERTH Power Corporation 4210","ERTH Power Corporation","4210","Rent from Electric Property",-103987.32,-104817.27,-114495.9,-254741.41,-239702,null,"ERTH Power Corporation 4210"]
["ERTH Power Corporation 4215","ERTH Power Corporation","4215","Other Utility Operating Income",0,-40060.480000000003,-62321.87,-88243.28,-62561,null,"ERTH Power Corporation 4215"]
["ERTH Power Corporation 4220","ERTH Power Corporation","4220","Other Electric Revenues",4862.55,-17697.12,-159.63,-1078.6600000000001,-323,null,"ERTH Power Corporation 4220"]
["ERTH Power Corporation 4225","ERTH Power Corporation","4225","Late Payment Charges",-134656.29,-113049.86,-107449.51,-100604.2,-87496,null,"ERTH Power Corporation 4225"]
["ERTH Power Corporation 4230","ERTH Power Corporation","4230","Sales of Water and Water Power",0,0,0,0,0,null,"ERTH Power Corporation 4230"]
["ERTH Power Corporation 4235","ERTH Power Corporation","4235","Miscellaneous Service Revenues",-105040,-97745,-90750,-99720,-94025,null,"ERTH Power Corporation 4235"]
["ERTH Power Corporation 4240","ERTH Power Corporation","4240","Provision for Rate Refunds",0,0,0,0,0,null,"ERTH Power Corporation 4240"]
["ERTH Power Corporation 4245","ERTH Power Corporation","4245","Government and Other Assistance Directly Credited to Income",0,0,0,0,-120897,null,"ERTH Power Corporation 4245"]
["ERTH Power Corporation 4305","ERTH Power Corporation","4305","Regulatory Debits",-33088.18,0,0,0,0,null,"ERTH Power Corporation 4305"]
["ERTH Power Corporation 4310","ERTH Power Corporation","4310","Regulatory Credits",0,-38153.56,-198017.09,-802235.93,0,null,"ERTH Power Corporation 4310"]
["ERTH Power Corporation 4315","ERTH Power Corporation","4315","Revenues from Electric Plant Leased to Others",0,0,0,0,0,null,"ERTH Power Corporation 4315"]
["ERTH Power Corporation 4320","ERTH Power Corporation","4320","Expenses of Electric Plant Leased to Others",0,0,0,0,0,null,"ERTH Power Corporation 4320"]
["ERTH Power Corporation 4325","ERTH Power Corporation","4325","Revenues from Merchandise",0,0,0,0,0,null,"ERTH Power Corporation 4325"]
["ERTH Power Corporation 4330","ERTH Power Corporation","4330","Costs and Expenses of Merchandising",0,0,0,0,0,null,"ERTH Power Corporation 4330"]
["ERTH Power Corporation 4335","ERTH Power Corporation","4335","Profits and Losses from Financial Instrument Hedges",0,0,0,0,0,null,"ERTH Power Corporation 4335"]
["ERTH Power Corporation 4340","ERTH Power Corporation","4340","Profits and Losses from Financial Instrument Investments",0,0,0,0,0,null,"ERTH Power Corporation 4340"]
["ERTH Power Corporation 4345","ERTH Power Corporation","4345","Gains from Disposition of Future Use Utility Plant",0,0,0,0,0,null,"ERTH Power Corporation 4345"]
["ERTH Power Corporation 4350","ERTH Power Corporation","4350","Losses from Disposition of Future Use Utility Plant",0,0,0,0,0,null,"ERTH Power Corporation 4350"]
["ERTH Power Corporation 4355","ERTH Power Corporation","4355","Gain on Disposition of Utility and Other Property",-61533.56,0,-4908.1000000000004,-14943.95,-38836,null,"ERTH Power Corporation 4355"]
["ERTH Power Corporation 4357","ERTH Power Corporation","4357","Gain from Retirement of Utility and Other Property",0,0,0,0,0,null,"ERTH Power Corporation 4357"]
["ERTH Power Corporation 4360","ERTH Power Corporation","4360","Loss on Disposition of Utility and Other Property",0,28957.77,0,0,0,null,"ERTH Power Corporation 4360"]
["ERTH Power Corporation 4362","ERTH Power Corporation","4362","Loss from Retirement of Utility and Other Property",0,0,0,0,0,null,"ERTH Power Corporation 4362"]
["ERTH Power Corporation 4365","ERTH Power Corporation","4365","Gains from Disposition of Allowances for Emission",0,0,0,0,0,null,"ERTH Power Corporation 4365"]
["ERTH Power Corporation 4370","ERTH Power Corporation","4370","Losses from Disposition of Allowances for Emission",0,0,0,0,0,null,"ERTH Power Corporation 4370"]
["ERTH Power Corporation 4375","ERTH Power Corporation","4375","Revenues from Non Rate-Regulated Utility Operations",-45230.95,-183947.74,-795812.19,-784078.97,-753844.03,null,"ERTH Power Corporation 4375"]
["ERTH Power Corporation 4375","ERTH Power Corporation","4375","Sub-account Generation Facility Revenues",0,0,0,0,0,null,"ERTH Power Corporation 4375"]
["ERTH Power Corporation 4380","ERTH Power Corporation","4380","Expenses of Non Rate-Regulated Utility Operations",267250,428780.1,648603.31999999995,677045.84,685817.26,null,"ERTH Power Corporation 4380"]
["ERTH Power Corporation 4380","ERTH Power Corporation","4380","Sub-account Generation Facility Expenses",0,0,0,0,0,null,"ERTH Power Corporation 4380"]
["ERTH Power Corporation 4385","ERTH Power Corporation","4385","Non Rate-Regulated Utility Rental Income",0,0,0,0,0,null,"ERTH Power Corporation 4385"]
["ERTH Power Corporation 4390","ERTH Power Corporation","4390","Miscellaneous Non-Operating Income",-27347.360000000001,-7897.1,-8414.74,-24996.48,-8134.02,null,"ERTH Power Corporation 4390"]
["ERTH Power Corporation 4395","ERTH Power Corporation","4395","Rate-Payer Benefit Including Interest",0,0,0,0,0,null,"ERTH Power Corporation 4395"]
["ERTH Power Corporation 4398","ERTH Power Corporation","4398","Foreign Exchange Gains and Losses, Including Amortization",0,0,0,0,0,null,"ERTH Power Corporation 4398"]
["ERTH Power Corporation 4405","ERTH Power Corporation","4405","Interest and Dividend Income",-66707.12,-58550.75,-110900.94,-12909.15,-86456,null,"ERTH Power Corporation 4405"]
["ERTH Power Corporation 4410","ERTH Power Corporation","4410","Lessor's Net Investment in Finance Lease",0,0,0,0,0,null,"ERTH Power Corporation 4410"]
["ERTH Power Corporation 4415","ERTH Power Corporation","4415","Equity in Earnings of Subsidiary Companies",0,0,0,0,0,null,"ERTH Power Corporation 4415"]
["ERTH Power Corporation 4420","ERTH Power Corporation","4420","Share of Profit or Loss of Joint Venture",0,0,0,0,0,null,"ERTH Power Corporation 4420"]
["ERTH Power Corporation Total ","ERTH Power Corporation Total",null,null,-392736.91,-291291.5,-932694.01,-1617963.66,-919629.79,null,"ERTH Power Corporation Total "]
["Elexicon Energy Inc. 4082","Elexicon Energy Inc.","4082","Retail Services Revenues",null,null,null,-31121.43,-33194.28,null,"Elexicon Energy Inc. 4082"]
["Elexicon Energy Inc. 4084","Elexicon Energy Inc.","4084","Service Transaction Requests (STR) Revenues",null,null,null,-1601.75,-1969.95,null,"Elexicon Energy Inc. 4084"]
["Elexicon Energy Inc. 4086","Elexicon Energy Inc.","4086","SSS Administration Revenue",null,null,null,-445933.11,-641969.61,null,"Elexicon Energy Inc. 4086"]
["Elexicon Energy Inc. 4090","Elexicon Energy Inc.","4090","Electric Services Incidental to Energy Sales",null,null,null,0,0,null,"Elexicon Energy Inc. 4090"]
["Elexicon Energy Inc. 4205","Elexicon Energy Inc.","4205","Interdepartmental Rents",null,null,null,0,0,null,"Elexicon Energy Inc. 4205"]
["Elexicon Energy Inc. 4210","Elexicon Energy Inc.","4210","Rent from Electric Property",null,null,null,-488885.57,-682436.48,null,"Elexicon Energy Inc. 4210"]
["Elexicon Energy Inc. 4215","Elexicon Energy Inc.","4215","Other Utility Operating Income",null,null,null,0,0,null,"Elexicon Energy Inc. 4215"]
["Elexicon Energy Inc. 4220","Elexicon Energy Inc.","4220","Other Electric Revenues",null,null,null,0,0,null,"Elexicon Energy Inc. 4220"]
["Elexicon Energy Inc. 4225","Elexicon Energy Inc.","4225","Late Payment Charges",null,null,null,-497453.79,-1175795.95,null,"Elexicon Energy Inc. 4225"]
["Elexicon Energy Inc. 4230","Elexicon Energy Inc.","4230","Sales of Water and Water Power",null,null,null,0,0,null,"Elexicon Energy Inc. 4230"]
["Elexicon Energy Inc. 4235","Elexicon Energy Inc.","4235","Miscellaneous Service Revenues",null,null,null,-955195.15,-1325339.17,null,"Elexicon Energy Inc. 4235"]
["Elexicon Energy Inc. 4240","Elexicon Energy Inc.","4240","Provision for Rate Refunds",null,null,null,0,0,null,"Elexicon Energy Inc. 4240"]
["Elexicon Energy Inc. 4245","Elexicon Energy Inc.","4245","Government and Other Assistance Directly Credited to Income",null,null,null,-1043816.05,-1767067.76,null,"Elexicon Energy Inc. 4245"]
["Elexicon Energy Inc. 4305","Elexicon Energy Inc.","4305","Regulatory Debits",null,null,null,665342.07999999996,153849.57,null,"Elexicon Energy Inc. 4305"]
["Elexicon Energy Inc. 4310","Elexicon Energy Inc.","4310","Regulatory Credits",null,null,null,-1362430.05,-364183.99,null,"Elexicon Energy Inc. 4310"]
["Elexicon Energy Inc. 4315","Elexicon Energy Inc.","4315","Revenues from Electric Plant Leased to Others",null,null,null,0,0,null,"Elexicon Energy Inc. 4315"]
["Elexicon Energy Inc. 4320","Elexicon Energy Inc.","4320","Expenses of Electric Plant Leased to Others",null,null,null,0,0,null,"Elexicon Energy Inc. 4320"]
["Elexicon Energy Inc. 4325","Elexicon Energy Inc.","4325","Revenues from Merchandise",null,null,null,-1046872.39,-1222721.49,null,"Elexicon Energy Inc. 4325"]
["Elexicon Energy Inc. 4330","Elexicon Energy Inc.","4330","Costs and Expenses of Merchandising",null,null,null,443211.99,889377.49,null,"Elexicon Energy Inc. 4330"]
["Elexicon Energy Inc. 4335","Elexicon Energy Inc.","4335","Profits and Losses from Financial Instrument Hedges",null,null,null,82435.67,3465540.53,null,"Elexicon Energy Inc. 4335"]
["Elexicon Energy Inc. 4340","Elexicon Energy Inc.","4340","Profits and Losses from Financial Instrument Investments",null,null,null,0,0,null,"Elexicon Energy Inc. 4340"]
["Elexicon Energy Inc. 4345","Elexicon Energy Inc.","4345","Gains from Disposition of Future Use Utility Plant",null,null,null,0,0,null,"Elexicon Energy Inc. 4345"]
["Elexicon Energy Inc. 4350","Elexicon Energy Inc.","4350","Losses from Disposition of Future Use Utility Plant",null,null,null,0,0,null,{"$f":"B646 & \" \" &C646","v":"Elexicon Energy Inc. 4350"}]
["Elexicon Energy Inc. 4355","Elexicon Energy Inc.","4355","Gain on Disposition of Utility and Other Property",null,null,null,-99066,-23167.45,null,"Elexicon Energy Inc. 4355"]
["Elexicon Energy Inc. 4357","Elexicon Energy Inc.","4357","Gain from Retirement of Utility and Other Property",null,null,null,0,0,null,"Elexicon Energy Inc. 4357"]
["Elexicon Energy Inc. 4360","Elexicon Energy Inc.","4360","Loss on Disposition of Utility and Other Property",null,null,null,259055.23,0,null,"Elexicon Energy Inc. 4360"]
["Elexicon Energy Inc. 4362","Elexicon Energy Inc.","4362","Loss from Retirement of Utility and Other Property",null,null,null,1091477.3600000001,861890.02,null,"Elexicon Energy Inc. 4362"]
["Elexicon Energy Inc. 4365","Elexicon Energy Inc.","4365","Gains from Disposition of Allowances for Emission",null,null,null,0,0,null,"Elexicon Energy Inc. 4365"]
["Elexicon Energy Inc. 4370","Elexicon Energy Inc.","4370","Losses from Disposition of Allowances for Emission",null,null,null,0,0,null,"Elexicon Energy Inc. 4370"]
["Elexicon Energy Inc. 4375","Elexicon Energy Inc.","4375","Revenues from Non Rate-Regulated Utility Operations",null,null,null,-2442466.86,-7891218.9699999997,null,"Elexicon Energy Inc. 4375"]
["Elexicon Energy Inc. 4375","Elexicon Energy Inc.","4375","Sub-account Generation Facility Revenues",null,null,null,0,0,null,"Elexicon Energy Inc. 4375"]
["Elexicon Energy Inc. 4380","Elexicon Energy Inc.","4380","Expenses of Non Rate-Regulated Utility Operations",null,null,null,5957598.3799999999,7766903.1299999999,null,"Elexicon Energy Inc. 4380"]
["Elexicon Energy Inc. 4380","Elexicon Energy Inc.","4380","Sub-account Generation Facility Expenses",null,null,null,0,0,null,"Elexicon Energy Inc. 4380"]
["Elexicon Energy Inc. 4385","Elexicon Energy Inc.","4385","Non Rate-Regulated Utility Rental Income",null,null,null,0,0,null,"Elexicon Energy Inc. 4385"]
["Elexicon Energy Inc. 4390","Elexicon Energy Inc.","4390","Miscellaneous Non-Operating Income",null,null,null,-259164.72,-589005.42000000004,null,"Elexicon Energy Inc. 4390"]
["Elexicon Energy Inc. 4395","Elexicon Energy Inc.","4395","Rate-Payer Benefit Including Interest",null,null,null,0,0,null,"Elexicon Energy Inc. 4395"]
["Elexicon Energy Inc. 4398","Elexicon Energy Inc.","4398","Foreign Exchange Gains and Losses, Including Amortization",null,null,null,7385.69,-4610.05,null,"Elexicon Energy Inc. 4398"]
["Elexicon Energy Inc. 4405","Elexicon Energy Inc.","4405","Interest and Dividend Income",null,null,null,-305349.46999999997,-257052.12,null,"Elexicon Energy Inc. 4405"]
["Elexicon Energy Inc. 4410","Elexicon Energy Inc.","4410","Lessor's Net Investment in Finance Lease",null,null,null,0,0,null,"Elexicon Energy Inc. 4410"]
["Elexicon Energy Inc. 4415","Elexicon Energy Inc.","4415","Equity in Earnings of Subsidiary Companies",null,null,null,0,0,null,"Elexicon Energy Inc. 4415"]
["Elexicon Energy Inc. 4420","Elexicon Energy Inc.","4420","Share of Profit or Loss of Joint Venture",null,null,null,0,0,null,"Elexicon Energy Inc. 4420"]
["Elexicon Energy Inc. Total ","Elexicon Energy Inc. Total",null,null,null,null,null,-472849.93999999802,-2842171.95,null,"Elexicon Energy Inc. Total "]
["Energy Plus Inc. 4082","Energy Plus Inc.","4082","Retail Services Revenues",-32123.200000000001,-27596.7,-23595.1,-35561,-39693.39,null,"Energy Plus Inc. 4082"]
["Energy Plus Inc. 4084","Energy Plus Inc.","4084","Service Transaction Requests (STR) Revenues",-731.25,-370,-265.25,-545.5,-585.48,null,"Energy Plus Inc. 4084"]
["Energy Plus Inc. 4086","Energy Plus Inc.","4086","SSS Administration Revenue",-185010.56,-187328.8,-189668.28,-192169.23,-195349.85,null,"Energy Plus Inc. 4086"]
["Energy Plus Inc. 4090","Energy Plus Inc.","4090","Electric Services Incidental to Energy Sales",0,0,0,0,0,null,"Energy Plus Inc. 4090"]
["Energy Plus Inc. 4205","Energy Plus Inc.","4205","Interdepartmental Rents",0,0,0,0,0,null,"Energy Plus Inc. 4205"]
["Energy Plus Inc. 4210","Energy Plus Inc.","4210","Rent from Electric Property",-270750.64,-275747.55,-286563.93,-531673.94999999995,-543317.55000000005,null,"Energy Plus Inc. 4210"]
["Energy Plus Inc. 4215","Energy Plus Inc.","4215","Other Utility Operating Income",0,0,0,0,0,null,"Energy Plus Inc. 4215"]
["Energy Plus Inc. 4220","Energy Plus Inc.","4220","Other Electric Revenues",0,0,0,0,0,null,"Energy Plus Inc. 4220"]
["Energy Plus Inc. 4225","Energy Plus Inc.","4225","Late Payment Charges",-225148,-170943.98,-160420.46,-156525.28,-120906.82,null,"Energy Plus Inc. 4225"]
["Energy Plus Inc. 4230","Energy Plus Inc.","4230","Sales of Water and Water Power",0,0,0,0,0,null,"Energy Plus Inc. 4230"]
["Energy Plus Inc. 4235","Energy Plus Inc.","4235","Miscellaneous Service Revenues",-809687.6,-799990.8,-701527.3,-713058.12,-674902.97,null,"Energy Plus Inc. 4235"]
["Energy Plus Inc. 4240","Energy Plus Inc.","4240","Provision for Rate Refunds",0,0,0,0,0,null,"Energy Plus Inc. 4240"]
["Energy Plus Inc. 4245","Energy Plus Inc.","4245","Government and Other Assistance Directly Credited to Income",-146348.74,0,0,0,0,null,"Energy Plus Inc. 4245"]
["Energy Plus Inc. 4305","Energy Plus Inc.","4305","Regulatory Debits",0,876810,979288.23,110491.39,0,null,"Energy Plus Inc. 4305"]
["Energy Plus Inc. 4310","Energy Plus Inc.","4310","Regulatory Credits",-133063.65,-465923.87,-468068.53,0,0,null,"Energy Plus Inc. 4310"]
["Energy Plus Inc. 4315","Energy Plus Inc.","4315","Revenues from Electric Plant Leased to Others",0,0,0,0,0,null,"Energy Plus Inc. 4315"]
["Energy Plus Inc. 4320","Energy Plus Inc.","4320","Expenses of Electric Plant Leased to Others",0,0,0,0,0,null,"Energy Plus Inc. 4320"]
["Energy Plus Inc. 4325","Energy Plus Inc.","4325","Revenues from Merchandise",-23904.65,-26265.59,-27219.52,-26484.43,-34464.9,null,"Energy Plus Inc. 4325"]
["Energy Plus Inc. 4330","Energy Plus Inc.","4330","Costs and Expenses of Merchandising",0,0,0,0,0,null,"Energy Plus Inc. 4330"]
["Energy Plus Inc. 4335","Energy Plus Inc.","4335","Profits and Losses from Financial Instrument Hedges",0,0,0,0,0,null,"Energy Plus Inc. 4335"]
["Energy Plus Inc. 4340","Energy Plus Inc.","4340","Profits and Losses from Financial Instrument Investments",0,0,0,0,0,null,"Energy Plus Inc. 4340"]
["Energy Plus Inc. 4345","Energy Plus Inc.","4345","Gains from Disposition of Future Use Utility Plant",0,0,0,0,0,null,"Energy Plus Inc. 4345"]
["Energy Plus Inc. 4350","Energy Plus Inc.","4350","Losses from Disposition of Future Use Utility Plant",0,0,0,0,0,null,"Energy Plus Inc. 4350"]
["Energy Plus Inc. 4355","Energy Plus Inc.","4355","Gain on Disposition of Utility and Other Property",-6012.39,-45767.360000000001,-200465.56,0,0,null,"Energy Plus Inc. 4355"]
["Energy Plus Inc. 4357","Energy Plus Inc.","4357","Gain from Retirement of Utility and Other Property",0,0,0,0,0,null,"Energy Plus Inc. 4357"]
["Energy Plus Inc. 4360","Energy Plus Inc.","4360","Loss on Disposition of Utility and Other Property",275018.40000000002,465924,490678.14,465248.26,459485.73,null,"Energy Plus Inc. 4360"]
["Energy Plus Inc. 4362","Energy Plus Inc.","4362","Loss from Retirement of Utility and Other Property",0,0,0,0,0,null,"Energy Plus Inc. 4362"]
["Energy Plus Inc. 4365","Energy Plus Inc.","4365","Gains from Disposition of Allowances for Emission",0,0,0,0,0,null,"Energy Plus Inc. 4365"]
["Energy Plus Inc. 4370","Energy Plus Inc.","4370","Losses from Disposition of Allowances for Emission",0,0,0,0,0,null,"Energy Plus Inc. 4370"]
["Energy Plus Inc. 4375","Energy Plus Inc.","4375","Revenues from Non Rate-Regulated Utility Operations",-698392.83,-564799.76,-511563.04,-611266.16,-860397.01,null,"Energy Plus Inc. 4375"]
["Energy Plus Inc. 4375","Energy Plus Inc.","4375","Sub-account Generation Facility Revenues",0,0,0,0,0,null,"Energy Plus Inc. 4375"]
["Energy Plus Inc. 4380","Energy Plus Inc.","4380","Expenses of Non Rate-Regulated Utility Operations",550032.80000000005,302095.88,219202.47,248521.92,346140.79,null,"Energy Plus Inc. 4380"]
["Energy Plus Inc. 4380","Energy Plus Inc.","4380","Sub-account Generation Facility Expenses",0,0,0,0,0,null,"Energy Plus Inc. 4380"]
["Energy Plus Inc. 4385","Energy Plus Inc.","4385","Non Rate-Regulated Utility Rental Income",0,0,0,0,0,null,"Energy Plus Inc. 4385"]
["Energy Plus Inc. 4390","Energy Plus Inc.","4390","Miscellaneous Non-Operating Income",-77718.259999999995,-90942.11,-106656.02,-78803.45,-84582.3,null,"Energy Plus Inc. 4390"]
["Energy Plus Inc. 4395","Energy Plus Inc.","4395","Rate-Payer Benefit Including Interest",0,0,0,0,0,null,"Energy Plus Inc. 4395"]
["Energy Plus Inc. 4398","Energy Plus Inc.","4398","Foreign Exchange Gains and Losses, Including Amortization",-17160.61,5579.45,-1928.76,4736.3599999999997,50.49,null,"Energy Plus Inc. 4398"]
["Energy Plus Inc. 4405","Energy Plus Inc.","4405","Interest and Dividend Income",-226616.31,-221990.08,-129707.16,-154334.71,-133041.94,null,"Energy Plus Inc. 4405"]
["Energy Plus Inc. 4410","Energy Plus Inc.","4410","Lessor's Net Investment in Finance Lease",0,0,0,0,0,null,"Energy Plus Inc. 4410"]
["Energy Plus Inc. 4415","Energy Plus Inc.","4415","Equity in Earnings of Subsidiary Companies",0,0,0,0,0,null,"Energy Plus Inc. 4415"]
["Energy Plus Inc. 4420","Energy Plus Inc.","4420","Share of Profit or Loss of Joint Venture",0,0,0,0,0,null,"Energy Plus Inc. 4420"]
["Energy Plus Inc. Total ","Energy Plus Inc. Total",null,null,-2027617.49,-1227257.27,-1118480.07,-1671423.9,-1881565.2,null,"Energy Plus Inc. Total "]
["Enersource Hydro Mississauga Inc. 4082","Enersource Hydro Mississauga Inc.","4082","Retail Services Revenues",-110823.7,null,null,null,null,null,"Enersource Hydro Mississauga Inc. 4082"]
["Enersource Hydro Mississauga Inc. 4084","Enersource Hydro Mississauga Inc.","4084","Service Transaction Requests (STR) Revenues",-2961.25,null,null,null,null,null,"Enersource Hydro Mississauga Inc. 4084"]
["Enersource Hydro Mississauga Inc. 4086","Enersource Hydro Mississauga Inc.","4086","SSS Administration Revenue",-593798.6,null,null,null,null,null,{"$f":"B710 & \" \" &C710","v":"Enersource Hydro Mississauga Inc. 4086"}]
["Enersource Hydro Mississauga Inc. 4090","Enersource Hydro Mississauga Inc.","4090","Electric Services Incidental to Energy Sales",0,null,null,null,null,null,"Enersource Hydro Mississauga Inc. 4090"]
["Enersource Hydro Mississauga Inc. 4205","Enersource Hydro Mississauga Inc.","4205","Interdepartmental Rents",0,null,null,null,null,null,"Enersource Hydro Mississauga Inc. 4205"]
["Enersource Hydro Mississauga Inc. 4210","Enersource Hydro Mississauga Inc.","4210","Rent from Electric Property",-527966.4,null,null,null,null,null,"Enersource Hydro Mississauga Inc. 4210"]
["Enersource Hydro Mississauga Inc. 4215","Enersource Hydro Mississauga Inc.","4215","Other Utility Operating Income",0,null,null,null,null,null,"Enersource Hydro Mississauga Inc. 4215"]
["Enersource Hydro Mississauga Inc. 4220","Enersource Hydro Mississauga Inc.","4220","Other Electric Revenues",0,null,null,null,null,null,"Enersource Hydro Mississauga Inc. 4220"]
["Enersource Hydro Mississauga Inc. 4225","Enersource Hydro Mississauga Inc.","4225","Late Payment Charges",-1489787.54,null,null,null,null,null,"Enersource Hydro Mississauga Inc. 4225"]
["Enersource Hydro Mississauga Inc. 4230","Enersource Hydro Mississauga Inc.","4230","Sales of Water and Water Power",0,null,null,null,null,null,"Enersource Hydro Mississauga Inc. 4230"]
["Enersource Hydro Mississauga Inc. 4235","Enersource Hydro Mississauga Inc.","4235","Miscellaneous Service Revenues",-1363726.68,null,null,null,null,null,"Enersource Hydro Mississauga Inc. 4235"]
["Enersource Hydro Mississauga Inc. 4240","Enersource Hydro Mississauga Inc.","4240","Provision for Rate Refunds",0,null,null,null,null,null,"Enersource Hydro Mississauga Inc. 4240"]
["Enersource Hydro Mississauga Inc. 4245","Enersource Hydro Mississauga Inc.","4245","Government and Other Assistance Directly Credited to Income",-574785.78,null,null,null,null,null,"Enersource Hydro Mississauga Inc. 4245"]
["Enersource Hydro Mississauga Inc. 4305","Enersource Hydro Mississauga Inc.","4305","Regulatory Debits",0,null,null,null,null,null,"Enersource Hydro Mississauga Inc. 4305"]
["Enersource Hydro Mississauga Inc. 4310","Enersource Hydro Mississauga Inc.","4310","Regulatory Credits",0,null,null,null,null,null,"Enersource Hydro Mississauga Inc. 4310"]
["Enersource Hydro Mississauga Inc. 4315","Enersource Hydro Mississauga Inc.","4315","Revenues from Electric Plant Leased to Others",0,null,null,null,null,null,"Enersource Hydro Mississauga Inc. 4315"]
["Enersource Hydro Mississauga Inc. 4320","Enersource Hydro Mississauga Inc.","4320","Expenses of Electric Plant Leased to Others",0,null,null,null,null,null,"Enersource Hydro Mississauga Inc. 4320"]
["Enersource Hydro Mississauga Inc. 4325","Enersource Hydro Mississauga Inc.","4325","Revenues from Merchandise",44910.71,null,null,null,null,null,"Enersource Hydro Mississauga Inc. 4325"]
["Enersource Hydro Mississauga Inc. 4330","Enersource Hydro Mississauga Inc.","4330","Costs and Expenses of Merchandising",0,null,null,null,null,null,"Enersource Hydro Mississauga Inc. 4330"]
["Enersource Hydro Mississauga Inc. 4335","Enersource Hydro Mississauga Inc.","4335","Profits and Losses from Financial Instrument Hedges",0,null,null,null,null,null,"Enersource Hydro Mississauga Inc. 4335"]
["Enersource Hydro Mississauga Inc. 4340","Enersource Hydro Mississauga Inc.","4340","Profits and Losses from Financial Instrument Investments",0,null,null,null,null,null,"Enersource Hydro Mississauga Inc. 4340"]
["Enersource Hydro Mississauga Inc. 4345","Enersource Hydro Mississauga Inc.","4345","Gains from Disposition of Future Use Utility Plant",0,null,null,null,null,null,"Enersource Hydro Mississauga Inc. 4345"]
["Enersource Hydro Mississauga Inc. 4350","Enersource Hydro Mississauga Inc.","4350","Losses from Disposition of Future Use Utility Plant",0,null,null,null,null,null,"Enersource Hydro Mississauga Inc. 4350"]
["Enersource Hydro Mississauga Inc. 4355","Enersource Hydro Mississauga Inc.","4355","Gain on Disposition of Utility and Other Property",-104285.5,null,null,null,null,null,"Enersource Hydro Mississauga Inc. 4355"]
["Enersource Hydro Mississauga Inc. 4357","Enersource Hydro Mississauga Inc.","4357","Gain from Retirement of Utility and Other Property",0,null,null,null,null,null,"Enersource Hydro Mississauga Inc. 4357"]
["Enersource Hydro Mississauga Inc. 4360","Enersource Hydro Mississauga Inc.","4360","Loss on Disposition of Utility and Other Property",0,null,null,null,null,null,"Enersource Hydro Mississauga Inc. 4360"]
["Enersource Hydro Mississauga Inc. 4362","Enersource Hydro Mississauga Inc.","4362","Loss from Retirement of Utility and Other Property",0,null,null,null,null,null,"Enersource Hydro Mississauga Inc. 4362"]
["Enersource Hydro Mississauga Inc. 4365","Enersource Hydro Mississauga Inc.","4365","Gains from Disposition of Allowances for Emission",0,null,null,null,null,null,"Enersource Hydro Mississauga Inc. 4365"]
["Enersource Hydro Mississauga Inc. 4370","Enersource Hydro Mississauga Inc.","4370","Losses from Disposition of Allowances for Emission",0,null,null,null,null,null,"Enersource Hydro Mississauga Inc. 4370"]
["Enersource Hydro Mississauga Inc. 4375","Enersource Hydro Mississauga Inc.","4375","Revenues from Non Rate-Regulated Utility Operations",-17790175.420000002,null,null,null,null,null,"Enersource Hydro Mississauga Inc. 4375"]
["Enersource Hydro Mississauga Inc. 4375","Enersource Hydro Mississauga Inc.","4375","Sub-account Generation Facility Revenues",0,null,null,null,null,null,"Enersource Hydro Mississauga Inc. 4375"]
["Enersource Hydro Mississauga Inc. 4380","Enersource Hydro Mississauga Inc.","4380","Expenses of Non Rate-Regulated Utility Operations",16466770.279999999,null,null,null,null,null,"Enersource Hydro Mississauga Inc. 4380"]
["Enersource Hydro Mississauga Inc. 4380","Enersource Hydro Mississauga Inc.","4380","Sub-account Generation Facility Expenses",0,null,null,null,null,null,"Enersource Hydro Mississauga Inc. 4380"]
["Enersource Hydro Mississauga Inc. 4385","Enersource Hydro Mississauga Inc.","4385","Non Rate-Regulated Utility Rental Income",0,null,null,null,null,null,"Enersource Hydro Mississauga Inc. 4385"]
["Enersource Hydro Mississauga Inc. 4390","Enersource Hydro Mississauga Inc.","4390","Miscellaneous Non-Operating Income",-1776907.04,null,null,null,null,null,"Enersource Hydro Mississauga Inc. 4390"]
["Enersource Hydro Mississauga Inc. 4395","Enersource Hydro Mississauga Inc.","4395","Rate-Payer Benefit Including Interest",0,null,null,null,null,null,"Enersource Hydro Mississauga Inc. 4395"]
["Enersource Hydro Mississauga Inc. 4398","Enersource Hydro Mississauga Inc.","4398","Foreign Exchange Gains and Losses, Including Amortization",0,null,null,null,null,null,"Enersource Hydro Mississauga Inc. 4398"]
["Enersource Hydro Mississauga Inc. 4405","Enersource Hydro Mississauga Inc.","4405","Interest and Dividend Income",-413833.11,null,null,null,null,null,"Enersource Hydro Mississauga Inc. 4405"]
["Enersource Hydro Mississauga Inc. 4410","Enersource Hydro Mississauga Inc.","4410","Lessor's Net Investment in Finance Lease",0,null,null,null,null,null,"Enersource Hydro Mississauga Inc. 4410"]
["Enersource Hydro Mississauga Inc. 4415","Enersource Hydro Mississauga Inc.","4415","Equity in Earnings of Subsidiary Companies",0,null,null,null,null,null,"Enersource Hydro Mississauga Inc. 4415"]
["Enersource Hydro Mississauga Inc. 4420","Enersource Hydro Mississauga Inc.","4420","Share of Profit or Loss of Joint Venture",0,null,null,null,null,null,"Enersource Hydro Mississauga Inc. 4420"]
["Enersource Hydro Mississauga Inc. Total ","Enersource Hydro Mississauga Inc. Total",null,null,-8237370.0300000003,null,null,null,null,null,"Enersource Hydro Mississauga Inc. Total "]
["Entegrus Powerlines Inc. 4082","Entegrus Powerlines Inc.","4082","Retail Services Revenues",-31490.3,-27576,-39426,-57457.1,-58613.4,null,"Entegrus Powerlines Inc. 4082"]
["Entegrus Powerlines Inc. 4084","Entegrus Powerlines Inc.","4084","Service Transaction Requests (STR) Revenues",-723.75,-455,-643.75,-785.75,-858.5,null,"Entegrus Powerlines Inc. 4084"]
["Entegrus Powerlines Inc. 4086","Entegrus Powerlines Inc.","4086","SSS Administration Revenue",-153718.56,-156414.79999999999,-207672.17,-210034.68,-213433.75,null,"Entegrus Powerlines Inc. 4086"]
["Entegrus Powerlines Inc. 4090","Entegrus Powerlines Inc.","4090","Electric Services Incidental to Energy Sales",0,0,0,0,0,null,"Entegrus Powerlines Inc. 4090"]
["Entegrus Powerlines Inc. 4205","Entegrus Powerlines Inc.","4205","Interdepartmental Rents",-66701.759999999995,-69269.009999999995,-70330.080000000002,-67847.53,-56604.72,null,"Entegrus Powerlines Inc. 4205"]
["Entegrus Powerlines Inc. 4210","Entegrus Powerlines Inc.","4210","Rent from Electric Property",-178671.01,-176851.47,-203796.88,-233895.12,-424619.97,null,"Entegrus Powerlines Inc. 4210"]
["Entegrus Powerlines Inc. 4215","Entegrus Powerlines Inc.","4215","Other Utility Operating Income",0,0,0,0,0,null,"Entegrus Powerlines Inc. 4215"]
["Entegrus Powerlines Inc. 4220","Entegrus Powerlines Inc.","4220","Other Electric Revenues",-8659.42,-8909.1200000000008,-5318.8,-18826.63,-11723.46,null,"Entegrus Powerlines Inc. 4220"]
["Entegrus Powerlines Inc. 4225","Entegrus Powerlines Inc.","4225","Late Payment Charges",-323062.03000000003,-283586.84999999998,-365706.87,-290261.43,-234732.51,null,"Entegrus Powerlines Inc. 4225"]
["Entegrus Powerlines Inc. 4230","Entegrus Powerlines Inc.","4230","Sales of Water and Water Power",0,0,0,0,0,null,"Entegrus Powerlines Inc. 4230"]
["Entegrus Powerlines Inc. 4235","Entegrus Powerlines Inc.","4235","Miscellaneous Service Revenues",-368865.83,-469566.36,-712358.5,-547283.80000000005,-492108.85,null,"Entegrus Powerlines Inc. 4235"]
["Entegrus Powerlines Inc. 4240","Entegrus Powerlines Inc.","4240","Provision for Rate Refunds",0,0,0,0,0,null,"Entegrus Powerlines Inc. 4240"]
["Entegrus Powerlines Inc. 4245","Entegrus Powerlines Inc.","4245","Government and Other Assistance Directly Credited to Income",-47023.01,-74642.149999999994,-115260.04,-177374.96,-253916.18,null,"Entegrus Powerlines Inc. 4245"]
["Entegrus Powerlines Inc. 4305","Entegrus Powerlines Inc.","4305","Regulatory Debits",0,0,0,0,0,null,"Entegrus Powerlines Inc. 4305"]
["Entegrus Powerlines Inc. 4310","Entegrus Powerlines Inc.","4310","Regulatory Credits",0,0,0,0,0,null,"Entegrus Powerlines Inc. 4310"]
["Entegrus Powerlines Inc. 4315","Entegrus Powerlines Inc.","4315","Revenues from Electric Plant Leased to Others",0,0,0,0,0,null,"Entegrus Powerlines Inc. 4315"]
["Entegrus Powerlines Inc. 4320","Entegrus Powerlines Inc.","4320","Expenses of Electric Plant Leased to Others",0,0,0,0,0,null,"Entegrus Powerlines Inc. 4320"]
["Entegrus Powerlines Inc. 4325","Entegrus Powerlines Inc.","4325","Revenues from Merchandise",-8496.9500000000007,-8141.91,-7863.79,-7817.8,-7980.74,null,"Entegrus Powerlines Inc. 4325"]
["Entegrus Powerlines Inc. 4330","Entegrus Powerlines Inc.","4330","Costs and Expenses of Merchandising",0,0,0,0,0,null,"Entegrus Powerlines Inc. 4330"]
["Entegrus Powerlines Inc. 4335","Entegrus Powerlines Inc.","4335","Profits and Losses from Financial Instrument Hedges",0,0,0,0,0,null,"Entegrus Powerlines Inc. 4335"]
["Entegrus Powerlines Inc. 4340","Entegrus Powerlines Inc.","4340","Profits and Losses from Financial Instrument Investments",0,0,0,0,0,null,"Entegrus Powerlines Inc. 4340"]
["Entegrus Powerlines Inc. 4345","Entegrus Powerlines Inc.","4345","Gains from Disposition of Future Use Utility Plant",0,0,0,0,0,null,"Entegrus Powerlines Inc. 4345"]
["Entegrus Powerlines Inc. 4350","Entegrus Powerlines Inc.","4350","Losses from Disposition of Future Use Utility Plant",0,0,0,0,0,null,"Entegrus Powerlines Inc. 4350"]
["Entegrus Powerlines Inc. 4355","Entegrus Powerlines Inc.","4355","Gain on Disposition of Utility and Other Property",-24666.799999999999,-36800.31,-8459.66,-43318.19,-7805.32,null,"Entegrus Powerlines Inc. 4355"]
["Entegrus Powerlines Inc. 4357","Entegrus Powerlines Inc.","4357","Gain from Retirement of Utility and Other Property",0,0,0,0,0,null,{"$f":"B774 & \" \" &C774","v":"Entegrus Powerlines Inc. 4357"}]
["Entegrus Powerlines Inc. 4360","Entegrus Powerlines Inc.","4360","Loss on Disposition of Utility and Other Property",1257.27,0,5357.89,17150.669999999998,8977.4699999999993,null,"Entegrus Powerlines Inc. 4360"]
["Entegrus Powerlines Inc. 4362","Entegrus Powerlines Inc.","4362","Loss from Retirement of Utility and Other Property",0,0,0,0,0,null,"Entegrus Powerlines Inc. 4362"]
["Entegrus Powerlines Inc. 4365","Entegrus Powerlines Inc.","4365","Gains from Disposition of Allowances for Emission",0,0,0,0,0,null,"Entegrus Powerlines Inc. 4365"]
["Entegrus Powerlines Inc. 4370","Entegrus Powerlines Inc.","4370","Losses from Disposition of Allowances for Emission",0,0,0,0,0,null,"Entegrus Powerlines Inc. 4370"]
["Entegrus Powerlines Inc. 4375","Entegrus Powerlines Inc.","4375","Revenues from Non Rate-Regulated Utility Operations",-734206.17,-674827.66,-857524.45,-503526.53,-521412.56,null,"Entegrus Powerlines Inc. 4375"]
["Entegrus Powerlines Inc. 4375","Entegrus Powerlines Inc.","4375","Sub-account Generation Facility Revenues",0,0,0,0,0,null,"Entegrus Powerlines Inc. 4375"]
["Entegrus Powerlines Inc. 4380","Entegrus Powerlines Inc.","4380","Expenses of Non Rate-Regulated Utility Operations",67462.429999999993,44523.51,466621.8,447939.81,387788.03,null,"Entegrus Powerlines Inc. 4380"]
["Entegrus Powerlines Inc. 4380","Entegrus Powerlines Inc.","4380","Sub-account Generation Facility Expenses",0,0,0,0,0,null,"Entegrus Powerlines Inc. 4380"]
["Entegrus Powerlines Inc. 4385","Entegrus Powerlines Inc.","4385","Non Rate-Regulated Utility Rental Income",0,0,0,0,0,null,"Entegrus Powerlines Inc. 4385"]
["Entegrus Powerlines Inc. 4390","Entegrus Powerlines Inc.","4390","Miscellaneous Non-Operating Income",-33808.589999999997,-41901.629999999997,-71301.240000000005,-85449.73,-74312.62,null,"Entegrus Powerlines Inc. 4390"]
["Entegrus Powerlines Inc. 4395","Entegrus Powerlines Inc.","4395","Rate-Payer Benefit Including Interest",0,0,0,0,0,null,"Entegrus Powerlines Inc. 4395"]
["Entegrus Powerlines Inc. 4398","Entegrus Powerlines Inc.","4398","Foreign Exchange Gains and Losses, Including Amortization",0,0,0,0,0,null,"Entegrus Powerlines Inc. 4398"]
["Entegrus Powerlines Inc. 4405","Entegrus Powerlines Inc.","4405","Interest and Dividend Income",-103511.33,-55569.919999999998,-156510.29999999999,-166024.95000000001,-93512.09,null,"Entegrus Powerlines Inc. 4405"]
["Entegrus Powerlines Inc. 4410","Entegrus Powerlines Inc.","4410","Lessor's Net Investment in Finance Lease",0,0,0,0,0,null,"Entegrus Powerlines Inc. 4410"]
["Entegrus Powerlines Inc. 4415","Entegrus Powerlines Inc.","4415","Equity in Earnings of Subsidiary Companies",0,0,0,0,0,null,"Entegrus Powerlines Inc. 4415"]
["Entegrus Powerlines Inc. 4420","Entegrus Powerlines Inc.","4420","Share of Profit or Loss of Joint Venture",0,0,0,0,0,null,"Entegrus Powerlines Inc. 4420"]
["Entegrus Powerlines Inc. Total ","Entegrus Powerlines Inc. Total",null,null,-2014885.81,-2039988.68,-2350192.84,-1944813.72,-2054869.17,null,"Entegrus Powerlines Inc. Total "]
["Espanola Regional Hydro Distribution Corporation 4082","Espanola Regional Hydro Distribution Corporation","4082","Retail Services Revenues",-5348,-5356.8,-4621.6000000000004,-8188,-9451.43,null,"Espanola Regional Hydro Distribution Corporation 4082"]
["Espanola Regional Hydro Distribution Corporation 4084","Espanola Regional Hydro Distribution Corporation","4084","Service Transaction Requests (STR) Revenues",-23.75,-12.5,-7.75,-9.25,-9.18,null,"Espanola Regional Hydro Distribution Corporation 4084"]
["Espanola Regional Hydro Distribution Corporation 4086","Espanola Regional Hydro Distribution Corporation","4086","SSS Administration Revenue",0,0,0,0,-10658,null,"Espanola Regional Hydro Distribution Corporation 4086"]
["Espanola Regional Hydro Distribution Corporation 4090","Espanola Regional Hydro Distribution Corporation","4090","Electric Services Incidental to Energy Sales",0,0,0,0,0,null,"Espanola Regional Hydro Distribution Corporation 4090"]
["Espanola Regional Hydro Distribution Corporation 4205","Espanola Regional Hydro Distribution Corporation","4205","Interdepartmental Rents",0,0,0,0,0,null,"Espanola Regional Hydro Distribution Corporation 4205"]
["Espanola Regional Hydro Distribution Corporation 4210","Espanola Regional Hydro Distribution Corporation","4210","Rent from Electric Property",-38682.29,-38440.75,-39674.49,-39327.97,-36846.080000000002,null,"Espanola Regional Hydro Distribution Corporation 4210"]
["Espanola Regional Hydro Distribution Corporation 4215","Espanola Regional Hydro Distribution Corporation","4215","Other Utility Operating Income",0,0,0,0,0,null,"Espanola Regional Hydro Distribution Corporation 4215"]
["Espanola Regional Hydro Distribution Corporation 4220","Espanola Regional Hydro Distribution Corporation","4220","Other Electric Revenues",0,0,0,0,0,null,"Espanola Regional Hydro Distribution Corporation 4220"]
["Espanola Regional Hydro Distribution Corporation 4225","Espanola Regional Hydro Distribution Corporation","4225","Late Payment Charges",-16757.54,-15606.89,-14549.46,-16295.88,-30530.38,null,"Espanola Regional Hydro Distribution Corporation 4225"]
["Espanola Regional Hydro Distribution Corporation 4230","Espanola Regional Hydro Distribution Corporation","4230","Sales of Water and Water Power",0,0,0,0,0,null,"Espanola Regional Hydro Distribution Corporation 4230"]
["Espanola Regional Hydro Distribution Corporation 4235","Espanola Regional Hydro Distribution Corporation","4235","Miscellaneous Service Revenues",-39349.64,-37567.699999999997,-33631.199999999997,-35872.49,-13687.36,null,"Espanola Regional Hydro Distribution Corporation 4235"]
["Espanola Regional Hydro Distribution Corporation 4240","Espanola Regional Hydro Distribution Corporation","4240","Provision for Rate Refunds",0,0,0,0,0,null,"Espanola Regional Hydro Distribution Corporation 4240"]
["Espanola Regional Hydro Distribution Corporation 4245","Espanola Regional Hydro Distribution Corporation","4245","Government and Other Assistance Directly Credited to Income",-1256.76,-1430.07,0,0,0,null,"Espanola Regional Hydro Distribution Corporation 4245"]
["Espanola Regional Hydro Distribution Corporation 4305","Espanola Regional Hydro Distribution Corporation","4305","Regulatory Debits",0,0,0,0,0,null,"Espanola Regional Hydro Distribution Corporation 4305"]
["Espanola Regional Hydro Distribution Corporation 4310","Espanola Regional Hydro Distribution Corporation","4310","Regulatory Credits",0,0,0,0,0,null,"Espanola Regional Hydro Distribution Corporation 4310"]
["Espanola Regional Hydro Distribution Corporation 4315","Espanola Regional Hydro Distribution Corporation","4315","Revenues from Electric Plant Leased to Others",0,0,0,0,0,null,"Espanola Regional Hydro Distribution Corporation 4315"]
["Espanola Regional Hydro Distribution Corporation 4320","Espanola Regional Hydro Distribution Corporation","4320","Expenses of Electric Plant Leased to Others",0,0,0,0,0,null,"Espanola Regional Hydro Distribution Corporation 4320"]
["Espanola Regional Hydro Distribution Corporation 4325","Espanola Regional Hydro Distribution Corporation","4325","Revenues from Merchandise",-1721.71,-2213.65,-5944.5,-1970.06,-23291.29,null,"Espanola Regional Hydro Distribution Corporation 4325"]
["Espanola Regional Hydro Distribution Corporation 4330","Espanola Regional Hydro Distribution Corporation","4330","Costs and Expenses of Merchandising",0,0,0,0,0,null,"Espanola Regional Hydro Distribution Corporation 4330"]
["Espanola Regional Hydro Distribution Corporation 4335","Espanola Regional Hydro Distribution Corporation","4335","Profits and Losses from Financial Instrument Hedges",0,0,0,0,759473,null,"Espanola Regional Hydro Distribution Corporation 4335"]
["Espanola Regional Hydro Distribution Corporation 4340","Espanola Regional Hydro Distribution Corporation","4340","Profits and Losses from Financial Instrument Investments",0,0,0,0,0,null,"Espanola Regional Hydro Distribution Corporation 4340"]
["Espanola Regional Hydro Distribution Corporation 4345","Espanola Regional Hydro Distribution Corporation","4345","Gains from Disposition of Future Use Utility Plant",0,0,0,0,0,null,"Espanola Regional Hydro Distribution Corporation 4345"]
["Espanola Regional Hydro Distribution Corporation 4350","Espanola Regional Hydro Distribution Corporation","4350","Losses from Disposition of Future Use Utility Plant",0,0,0,0,0,null,"Espanola Regional Hydro Distribution Corporation 4350"]
["Espanola Regional Hydro Distribution Corporation 4355","Espanola Regional Hydro Distribution Corporation","4355","Gain on Disposition of Utility and Other Property",0,0,0,0,0,null,"Espanola Regional Hydro Distribution Corporation 4355"]
["Espanola Regional Hydro Distribution Corporation 4357","Espanola Regional Hydro Distribution Corporation","4357","Gain from Retirement of Utility and Other Property",0,0,0,0,0,null,"Espanola Regional Hydro Distribution Corporation 4357"]
["Espanola Regional Hydro Distribution Corporation 4360","Espanola Regional Hydro Distribution Corporation","4360","Loss on Disposition of Utility and Other Property",0,0,0,0,0,null,"Espanola Regional Hydro Distribution Corporation 4360"]
["Espanola Regional Hydro Distribution Corporation 4362","Espanola Regional Hydro Distribution Corporation","4362","Loss from Retirement of Utility and Other Property",0,0,0,0,0,null,"Espanola Regional Hydro Distribution Corporation 4362"]
["Espanola Regional Hydro Distribution Corporation 4365","Espanola Regional Hydro Distribution Corporation","4365","Gains from Disposition of Allowances for Emission",0,0,0,0,0,null,"Espanola Regional Hydro Distribution Corporation 4365"]
["Espanola Regional Hydro Distribution Corporation 4370","Espanola Regional Hydro Distribution Corporation","4370","Losses from Disposition of Allowances for Emission",0,0,0,0,0,null,"Espanola Regional Hydro Distribution Corporation 4370"]
["Espanola Regional Hydro Distribution Corporation 4375","Espanola Regional Hydro Distribution Corporation","4375","Revenues from Non Rate-Regulated Utility Operations",-15554.02,-13553.25,-174825.5,-225890.11,-389484.74,null,"Espanola Regional Hydro Distribution Corporation 4375"]
["Espanola Regional Hydro Distribution Corporation 4375","Espanola Regional Hydro Distribution Corporation","4375","Sub-account Generation Facility Revenues",0,0,0,0,0,null,"Espanola Regional Hydro Distribution Corporation 4375"]
["Espanola Regional Hydro Distribution Corporation 4380","Espanola Regional Hydro Distribution Corporation","4380","Expenses of Non Rate-Regulated Utility Operations",14457.57,12952.05,174392.41,201611.4,385805.76,null,"Espanola Regional Hydro Distribution Corporation 4380"]
["Espanola Regional Hydro Distribution Corporation 4380","Espanola Regional Hydro Distribution Corporation","4380","Sub-account Generation Facility Expenses",0,0,0,0,0,null,"Espanola Regional Hydro Distribution Corporation 4380"]
["Espanola Regional Hydro Distribution Corporation 4385","Espanola Regional Hydro Distribution Corporation","4385","Non Rate-Regulated Utility Rental Income",0,0,0,0,0,null,"Espanola Regional Hydro Distribution Corporation 4385"]
["Espanola Regional Hydro Distribution Corporation 4390","Espanola Regional Hydro Distribution Corporation","4390","Miscellaneous Non-Operating Income",0,-1327.43,0,-98.31,0,null,"Espanola Regional Hydro Distribution Corporation 4390"]
["Espanola Regional Hydro Distribution Corporation 4395","Espanola Regional Hydro Distribution Corporation","4395","Rate-Payer Benefit Including Interest",0,0,0,0,0,null,"Espanola Regional Hydro Distribution Corporation 4395"]
["Espanola Regional Hydro Distribution Corporation 4398","Espanola Regional Hydro Distribution Corporation","4398","Foreign Exchange Gains and Losses, Including Amortization",-263.52999999999997,0,0,0,0,null,"Espanola Regional Hydro Distribution Corporation 4398"]
["Espanola Regional Hydro Distribution Corporation 4405","Espanola Regional Hydro Distribution Corporation","4405","Interest and Dividend Income",-30926.15,-35378.160000000003,-61217.41,-97825.95,-69325.89,null,"Espanola Regional Hydro Distribution Corporation 4405"]
["Espanola Regional Hydro Distribution Corporation 4410","Espanola Regional Hydro Distribution Corporation","4410","Lessor's Net Investment in Finance Lease",0,0,0,0,0,null,"Espanola Regional Hydro Distribution Corporation 4410"]
["Espanola Regional Hydro Distribution Corporation 4415","Espanola Regional Hydro Distribution Corporation","4415","Equity in Earnings of Subsidiary Companies",0,0,0,0,0,null,"Espanola Regional Hydro Distribution Corporation 4415"]
["Espanola Regional Hydro Distribution Corporation 4420","Espanola Regional Hydro Distribution Corporation","4420","Share of Profit or Loss of Joint Venture",0,0,0,0,0,null,"Espanola Regional Hydro Distribution Corporation 4420"]
["Espanola Regional Hydro Distribution Corporation Total ","Espanola Regional Hydro Distribution Corporation Total",null,null,-135425.82,-137935.15,-160079.5,-223866.62,561994.41,null,"Espanola Regional Hydro Distribution Corporation Total "]
["Essex Powerlines Corporation 4082","Essex Powerlines Corporation","4082","Retail Services Revenues",0,0,-16352.8,-24834.400000000001,-27615.13,null,"Essex Powerlines Corporation 4082"]
["Essex Powerlines Corporation 4084","Essex Powerlines Corporation","4084","Service Transaction Requests (STR) Revenues",0,0,-107.75,-155.25,-209.1,null,"Essex Powerlines Corporation 4084"]
["Essex Powerlines Corporation 4086","Essex Powerlines Corporation","4086","SSS Administration Revenue",0,0,0,0,0,null,"Essex Powerlines Corporation 4086"]
["Essex Powerlines Corporation 4090","Essex Powerlines Corporation","4090","Electric Services Incidental to Energy Sales",0,0,0,0,0,null,"Essex Powerlines Corporation 4090"]
["Essex Powerlines Corporation 4205","Essex Powerlines Corporation","4205","Interdepartmental Rents",0,0,0,0,0,null,{"$f":"B838 & \" \" &C838","v":"Essex Powerlines Corporation 4205"}]
["Essex Powerlines Corporation 4210","Essex Powerlines Corporation","4210","Rent from Electric Property",-117192.79,-115363.93,-117775.75,-141660.87,-149853.5,null,"Essex Powerlines Corporation 4210"]
["Essex Powerlines Corporation 4215","Essex Powerlines Corporation","4215","Other Utility Operating Income",0,0,0,0,0,null,"Essex Powerlines Corporation 4215"]
["Essex Powerlines Corporation 4220","Essex Powerlines Corporation","4220","Other Electric Revenues",0,0,0,0,0,null,"Essex Powerlines Corporation 4220"]
["Essex Powerlines Corporation 4225","Essex Powerlines Corporation","4225","Late Payment Charges",-239495.17,-181231.82,-185473.97,-207040,-172925.42,null,"Essex Powerlines Corporation 4225"]
["Essex Powerlines Corporation 4230","Essex Powerlines Corporation","4230","Sales of Water and Water Power",0,0,0,0,0,null,"Essex Powerlines Corporation 4230"]
["Essex Powerlines Corporation 4235","Essex Powerlines Corporation","4235","Miscellaneous Service Revenues",-177950.18,-122448.85,-151048.53,-134907.85999999999,-144212.82999999999,null,"Essex Powerlines Corporation 4235"]
["Essex Powerlines Corporation 4240","Essex Powerlines Corporation","4240","Provision for Rate Refunds",0,0,0,0,0,null,"Essex Powerlines Corporation 4240"]
["Essex Powerlines Corporation 4245","Essex Powerlines Corporation","4245","Government and Other Assistance Directly Credited to Income",0,0,-118980.69,-143665.57,-161913.06,null,"Essex Powerlines Corporation 4245"]
["Essex Powerlines Corporation 4305","Essex Powerlines Corporation","4305","Regulatory Debits",781899.77,325846.59999999998,455490.78,1821963.12,607321.04,null,"Essex Powerlines Corporation 4305"]
["Essex Powerlines Corporation 4310","Essex Powerlines Corporation","4310","Regulatory Credits",0,0,0,0,0,null,"Essex Powerlines Corporation 4310"]
["Essex Powerlines Corporation 4315","Essex Powerlines Corporation","4315","Revenues from Electric Plant Leased to Others",0,0,0,0,0,null,"Essex Powerlines Corporation 4315"]
["Essex Powerlines Corporation 4320","Essex Powerlines Corporation","4320","Expenses of Electric Plant Leased to Others",0,0,0,0,0,null,"Essex Powerlines Corporation 4320"]
["Essex Powerlines Corporation 4325","Essex Powerlines Corporation","4325","Revenues from Merchandise",0,0,0,0,0,null,"Essex Powerlines Corporation 4325"]
["Essex Powerlines Corporation 4330","Essex Powerlines Corporation","4330","Costs and Expenses of Merchandising",0,0,0,0,0,null,"Essex Powerlines Corporation 4330"]
["Essex Powerlines Corporation 4335","Essex Powerlines Corporation","4335","Profits and Losses from Financial Instrument Hedges",0,0,0,0,0,null,"Essex Powerlines Corporation 4335"]
["Essex Powerlines Corporation 4340","Essex Powerlines Corporation","4340","Profits and Losses from Financial Instrument Investments",0,0,0,0,0,null,"Essex Powerlines Corporation 4340"]
["Essex Powerlines Corporation 4345","Essex Powerlines Corporation","4345","Gains from Disposition of Future Use Utility Plant",0,0,0,0,0,null,"Essex Powerlines Corporation 4345"]
["Essex Powerlines Corporation 4350","Essex Powerlines Corporation","4350","Losses from Disposition of Future Use Utility Plant",0,0,0,0,0,null,"Essex Powerlines Corporation 4350"]
["Essex Powerlines Corporation 4355","Essex Powerlines Corporation","4355","Gain on Disposition of Utility and Other Property",-122721.27,-36897.519999999997,-28147.33,0,-7500,null,"Essex Powerlines Corporation 4355"]
["Essex Powerlines Corporation 4357","Essex Powerlines Corporation","4357","Gain from Retirement of Utility and Other Property",0,-11180.29,-33181.480000000003,-22550.9,-12154.14,null,"Essex Powerlines Corporation 4357"]
["Essex Powerlines Corporation 4360","Essex Powerlines Corporation","4360","Loss on Disposition of Utility and Other Property",85458.05,0,0,0,0,null,"Essex Powerlines Corporation 4360"]
["Essex Powerlines Corporation 4362","Essex Powerlines Corporation","4362","Loss from Retirement of Utility and Other Property",0,39104.800000000003,57311.11,25846.959999999999,32233.99,null,"Essex Powerlines Corporation 4362"]
["Essex Powerlines Corporation 4365","Essex Powerlines Corporation","4365","Gains from Disposition of Allowances for Emission",0,0,0,0,0,null,"Essex Powerlines Corporation 4365"]
["Essex Powerlines Corporation 4370","Essex Powerlines Corporation","4370","Losses from Disposition of Allowances for Emission",0,0,0,0,0,null,"Essex Powerlines Corporation 4370"]
["Essex Powerlines Corporation 4375","Essex Powerlines Corporation","4375","Revenues from Non Rate-Regulated Utility Operations",-3256956.94,-2583019.38,-3232132.48,-2064343.54,-1828726.78,null,"Essex Powerlines Corporation 4375"]
["Essex Powerlines Corporation 4375","Essex Powerlines Corporation","4375","Sub-account Generation Facility Revenues",0,0,0,0,0,null,"Essex Powerlines Corporation 4375"]
["Essex Powerlines Corporation 4380","Essex Powerlines Corporation","4380","Expenses of Non Rate-Regulated Utility Operations",3315821.02,2453874.04,2510650.39,1806870.67,1584172.36,null,"Essex Powerlines Corporation 4380"]
["Essex Powerlines Corporation 4380","Essex Powerlines Corporation","4380","Sub-account Generation Facility Expenses",0,0,0,0,0,null,"Essex Powerlines Corporation 4380"]
["Essex Powerlines Corporation 4385","Essex Powerlines Corporation","4385","Non Rate-Regulated Utility Rental Income",0,0,0,0,0,null,"Essex Powerlines Corporation 4385"]
["Essex Powerlines Corporation 4390","Essex Powerlines Corporation","4390","Miscellaneous Non-Operating Income",-12175.55,-22160.57,-35139.949999999997,-37723.879999999997,-32188.81,null,"Essex Powerlines Corporation 4390"]
["Essex Powerlines Corporation 4395","Essex Powerlines Corporation","4395","Rate-Payer Benefit Including Interest",0,0,0,0,0,null,"Essex Powerlines Corporation 4395"]
["Essex Powerlines Corporation 4398","Essex Powerlines Corporation","4398","Foreign Exchange Gains and Losses, Including Amortization",7335.18,10428.27,-10928.11,5757.07,1786.75,null,"Essex Powerlines Corporation 4398"]
["Essex Powerlines Corporation 4405","Essex Powerlines Corporation","4405","Interest and Dividend Income",-141379.56,-141560.04999999999,-246168.34,-292990.21999999997,-202749.05,null,"Essex Powerlines Corporation 4405"]
["Essex Powerlines Corporation 4410","Essex Powerlines Corporation","4410","Lessor's Net Investment in Finance Lease",0,0,0,0,0,null,"Essex Powerlines Corporation 4410"]
["Essex Powerlines Corporation 4415","Essex Powerlines Corporation","4415","Equity in Earnings of Subsidiary Companies",0,0,0,0,0,null,"Essex Powerlines Corporation 4415"]
["Essex Powerlines Corporation 4420","Essex Powerlines Corporation","4420","Share of Profit or Loss of Joint Venture",0,0,0,0,0,null,"Essex Powerlines Corporation 4420"]
["Essex Powerlines Corporation Total ","Essex Powerlines Corporation Total",null,null,122642.56,-384608.7,-1151984.8999999999,590565.32999999996,-514533.68,null,"Essex Powerlines Corporation Total "]
["Festival Hydro Inc. 4082","Festival Hydro Inc.","4082","Retail Services Revenues",-17808.28,-20457.52,-25986.77,-26184.61,-26820.22,null,"Festival Hydro Inc. 4082"]
["Festival Hydro Inc. 4084","Festival Hydro Inc.","4084","Service Transaction Requests (STR) Revenues",0,10.5,0.75,0,0,null,"Festival Hydro Inc. 4084"]
["Festival Hydro Inc. 4086","Festival Hydro Inc.","4086","SSS Administration Revenue",-57407.16,-63499.4,-61327.64,-61137.85,-62603.91,null,"Festival Hydro Inc. 4086"]
["Festival Hydro Inc. 4090","Festival Hydro Inc.","4090","Electric Services Incidental to Energy Sales",0,0,0,0,0,null,"Festival Hydro Inc. 4090"]
["Festival Hydro Inc. 4205","Festival Hydro Inc.","4205","Interdepartmental Rents",0,0,0,0,0,null,"Festival Hydro Inc. 4205"]
["Festival Hydro Inc. 4210","Festival Hydro Inc.","4210","Rent from Electric Property",-188906.98,-187133.49,-176242.53,-179766.44,-155582.39999999999,null,"Festival Hydro Inc. 4210"]
["Festival Hydro Inc. 4215","Festival Hydro Inc.","4215","Other Utility Operating Income",0,0,0,0,0,null,"Festival Hydro Inc. 4215"]
["Festival Hydro Inc. 4220","Festival Hydro Inc.","4220","Other Electric Revenues",-33848.03,-54510.43,-228425.13,-208055.61,-142452.63,null,"Festival Hydro Inc. 4220"]
["Festival Hydro Inc. 4225","Festival Hydro Inc.","4225","Late Payment Charges",-145303.81,-139278.51999999999,-121053.84,-112696.76,-97899.74,null,"Festival Hydro Inc. 4225"]
["Festival Hydro Inc. 4230","Festival Hydro Inc.","4230","Sales of Water and Water Power",0,0,0,0,0,null,"Festival Hydro Inc. 4230"]
["Festival Hydro Inc. 4235","Festival Hydro Inc.","4235","Miscellaneous Service Revenues",-126348.84,-118047.49,-110824.72,-103104.46,-83265.11,null,"Festival Hydro Inc. 4235"]
["Festival Hydro Inc. 4240","Festival Hydro Inc.","4240","Provision for Rate Refunds",0,0,0,0,0,null,"Festival Hydro Inc. 4240"]
["Festival Hydro Inc. 4245","Festival Hydro Inc.","4245","Government and Other Assistance Directly Credited to Income",-10791.19,-12238.56,-47984.67,-45912.05,-57126.720000000001,null,"Festival Hydro Inc. 4245"]
["Festival Hydro Inc. 4305","Festival Hydro Inc.","4305","Regulatory Debits",0,0,0,0,0,null,"Festival Hydro Inc. 4305"]
["Festival Hydro Inc. 4310","Festival Hydro Inc.","4310","Regulatory Credits",0,0,0,0,0,null,"Festival Hydro Inc. 4310"]
["Festival Hydro Inc. 4315","Festival Hydro Inc.","4315","Revenues from Electric Plant Leased to Others",0,0,-48174.02,-60386.01,-60870.22,null,"Festival Hydro Inc. 4315"]
["Festival Hydro Inc. 4320","Festival Hydro Inc.","4320","Expenses of Electric Plant Leased to Others",0,0,0,0,0,null,"Festival Hydro Inc. 4320"]
["Festival Hydro Inc. 4325","Festival Hydro Inc.","4325","Revenues from Merchandise",0,0,0,0,0,null,"Festival Hydro Inc. 4325"]
["Festival Hydro Inc. 4330","Festival Hydro Inc.","4330","Costs and Expenses of Merchandising",0,0,0,0,0,null,"Festival Hydro Inc. 4330"]
["Festival Hydro Inc. 4335","Festival Hydro Inc.","4335","Profits and Losses from Financial Instrument Hedges",0,0,0,0,0,null,"Festival Hydro Inc. 4335"]
["Festival Hydro Inc. 4340","Festival Hydro Inc.","4340","Profits and Losses from Financial Instrument Investments",0,0,0,0,0,null,"Festival Hydro Inc. 4340"]
["Festival Hydro Inc. 4345","Festival Hydro Inc.","4345","Gains from Disposition of Future Use Utility Plant",0,0,0,0,0,null,"Festival Hydro Inc. 4345"]
["Festival Hydro Inc. 4350","Festival Hydro Inc.","4350","Losses from Disposition of Future Use Utility Plant",0,0,0,0,0,null,"Festival Hydro Inc. 4350"]
["Festival Hydro Inc. 4355","Festival Hydro Inc.","4355","Gain on Disposition of Utility and Other Property",0,-29519,-8040,0,-2654.87,null,"Festival Hydro Inc. 4355"]
["Festival Hydro Inc. 4357","Festival Hydro Inc.","4357","Gain from Retirement of Utility and Other Property",0,0,0,0,0,null,"Festival Hydro Inc. 4357"]
["Festival Hydro Inc. 4360","Festival Hydro Inc.","4360","Loss on Disposition of Utility and Other Property",20779.97,1608.09,0,0,0,null,"Festival Hydro Inc. 4360"]
["Festival Hydro Inc. 4362","Festival Hydro Inc.","4362","Loss from Retirement of Utility and Other Property",0,0,0,0,0,null,{"$f":"B902 & \" \" &C902","v":"Festival Hydro Inc. 4362"}]
["Festival Hydro Inc. 4365","Festival Hydro Inc.","4365","Gains from Disposition of Allowances for Emission",0,0,0,0,0,null,"Festival Hydro Inc. 4365"]
["Festival Hydro Inc. 4370","Festival Hydro Inc.","4370","Losses from Disposition of Allowances for Emission",0,0,0,0,0,null,"Festival Hydro Inc. 4370"]
["Festival Hydro Inc. 4375","Festival Hydro Inc.","4375","Revenues from Non Rate-Regulated Utility Operations",-770087.87,-815446.18,-1282505.95,-898612.89,-841732.18,null,"Festival Hydro Inc. 4375"]
["Festival Hydro Inc. 4375","Festival Hydro Inc.","4375","Sub-account Generation Facility Revenues",0,0,0,0,0,null,"Festival Hydro Inc. 4375"]
["Festival Hydro Inc. 4380","Festival Hydro Inc.","4380","Expenses of Non Rate-Regulated Utility Operations",555314.25,533084.25,517400.65,553523.73,519594.31,null,"Festival Hydro Inc. 4380"]
["Festival Hydro Inc. 4380","Festival Hydro Inc.","4380","Sub-account Generation Facility Expenses",0,0,0,0,0,null,"Festival Hydro Inc. 4380"]
["Festival Hydro Inc. 4385","Festival Hydro Inc.","4385","Non Rate-Regulated Utility Rental Income",0,0,0,0,0,null,"Festival Hydro Inc. 4385"]
["Festival Hydro Inc. 4390","Festival Hydro Inc.","4390","Miscellaneous Non-Operating Income",-38683,-44560.58,-21132.59,-15994.84,-14955.67,null,"Festival Hydro Inc. 4390"]
["Festival Hydro Inc. 4395","Festival Hydro Inc.","4395","Rate-Payer Benefit Including Interest",0,0,0,0,0,null,"Festival Hydro Inc. 4395"]
["Festival Hydro Inc. 4398","Festival Hydro Inc.","4398","Foreign Exchange Gains and Losses, Including Amortization",0,0,0,0,0,null,"Festival Hydro Inc. 4398"]
["Festival Hydro Inc. 4405","Festival Hydro Inc.","4405","Interest and Dividend Income",-28414.44,-27023.73,-45357.52,-53530.69,-43770.67,null,"Festival Hydro Inc. 4405"]
["Festival Hydro Inc. 4410","Festival Hydro Inc.","4410","Lessor's Net Investment in Finance Lease",0,0,0,0,0,null,"Festival Hydro Inc. 4410"]
["Festival Hydro Inc. 4415","Festival Hydro Inc.","4415","Equity in Earnings of Subsidiary Companies",0,0,0,0,0,null,"Festival Hydro Inc. 4415"]
["Festival Hydro Inc. 4420","Festival Hydro Inc.","4420","Share of Profit or Loss of Joint Venture",0,0,0,0,0,null,"Festival Hydro Inc. 4420"]
["Festival Hydro Inc. Total ","Festival Hydro Inc. Total",null,null,-841505.38,-977012.06,-1659653.98,-1211858.48,-1070140.03,null,"Festival Hydro Inc. Total "]
["Fort Frances Power Corporation 4082","Fort Frances Power Corporation","4082","Retail Services Revenues",-1333.14,-1362.56,-1030.8,-1576.3,-1695.29,null,"Fort Frances Power Corporation 4082"]
["Fort Frances Power Corporation 4084","Fort Frances Power Corporation","4084","Service Transaction Requests (STR) Revenues",-204,-175,-121.75,-164.25,-197.28,null,"Fort Frances Power Corporation 4084"]
["Fort Frances Power Corporation 4086","Fort Frances Power Corporation","4086","SSS Administration Revenue",-11122.99,-11257.25,-11249.25,-11292,-11306.26,null,"Fort Frances Power Corporation 4086"]
["Fort Frances Power Corporation 4090","Fort Frances Power Corporation","4090","Electric Services Incidental to Energy Sales",0,0,0,0,0,null,"Fort Frances Power Corporation 4090"]
["Fort Frances Power Corporation 4205","Fort Frances Power Corporation","4205","Interdepartmental Rents",0,0,0,0,0,null,"Fort Frances Power Corporation 4205"]
["Fort Frances Power Corporation 4210","Fort Frances Power Corporation","4210","Rent from Electric Property",-47420.29,-74805.509999999995,-101303.22,-96914.41,-95934.62,null,"Fort Frances Power Corporation 4210"]
["Fort Frances Power Corporation 4215","Fort Frances Power Corporation","4215","Other Utility Operating Income",0,0,0,0,0,null,"Fort Frances Power Corporation 4215"]
["Fort Frances Power Corporation 4220","Fort Frances Power Corporation","4220","Other Electric Revenues",0,0,0,0,0,null,"Fort Frances Power Corporation 4220"]
["Fort Frances Power Corporation 4225","Fort Frances Power Corporation","4225","Late Payment Charges",-25737.97,-22609.599999999999,-23417.82,-20869.48,-28604.19,null,"Fort Frances Power Corporation 4225"]
["Fort Frances Power Corporation 4230","Fort Frances Power Corporation","4230","Sales of Water and Water Power",-5989.48,-5182.2,-5255.2,-3131.31,-3101.39,null,"Fort Frances Power Corporation 4230"]
["Fort Frances Power Corporation 4235","Fort Frances Power Corporation","4235","Miscellaneous Service Revenues",-23362.89,-19397.8,-23914.959999999999,-19680.830000000002,-11885.06,null,"Fort Frances Power Corporation 4235"]
["Fort Frances Power Corporation 4240","Fort Frances Power Corporation","4240","Provision for Rate Refunds",0,0,0,0,0,null,"Fort Frances Power Corporation 4240"]
["Fort Frances Power Corporation 4245","Fort Frances Power Corporation","4245","Government and Other Assistance Directly Credited to Income",-1606,-1616,-1616,-1616,-1616,null,"Fort Frances Power Corporation 4245"]
["Fort Frances Power Corporation 4305","Fort Frances Power Corporation","4305","Regulatory Debits",0,0,0,0,0,null,"Fort Frances Power Corporation 4305"]
["Fort Frances Power Corporation 4310","Fort Frances Power Corporation","4310","Regulatory Credits",0,0,0,0,0,null,"Fort Frances Power Corporation 4310"]
["Fort Frances Power Corporation 4315","Fort Frances Power Corporation","4315","Revenues from Electric Plant Leased to Others",0,0,0,0,0,null,"Fort Frances Power Corporation 4315"]
["Fort Frances Power Corporation 4320","Fort Frances Power Corporation","4320","Expenses of Electric Plant Leased to Others",0,0,0,0,0,null,"Fort Frances Power Corporation 4320"]
["Fort Frances Power Corporation 4325","Fort Frances Power Corporation","4325","Revenues from Merchandise",-44102.67,-42770.39,-68379.67,-115411.28,-143817.04999999999,null,"Fort Frances Power Corporation 4325"]
["Fort Frances Power Corporation 4330","Fort Frances Power Corporation","4330","Costs and Expenses of Merchandising",44400.800000000003,7521.58,12666.76,13870.51,4492.1899999999996,null,"Fort Frances Power Corporation 4330"]
["Fort Frances Power Corporation 4335","Fort Frances Power Corporation","4335","Profits and Losses from Financial Instrument Hedges",0,0,0,0,0,null,"Fort Frances Power Corporation 4335"]
["Fort Frances Power Corporation 4340","Fort Frances Power Corporation","4340","Profits and Losses from Financial Instrument Investments",0,0,0,0,0,null,"Fort Frances Power Corporation 4340"]
["Fort Frances Power Corporation 4345","Fort Frances Power Corporation","4345","Gains from Disposition of Future Use Utility Plant",0,0,0,0,0,null,"Fort Frances Power Corporation 4345"]
["Fort Frances Power Corporation 4350","Fort Frances Power Corporation","4350","Losses from Disposition of Future Use Utility Plant",0,0,0,0,0,null,"Fort Frances Power Corporation 4350"]
["Fort Frances Power Corporation 4355","Fort Frances Power Corporation","4355","Gain on Disposition of Utility and Other Property",0,0,0,0,-8772.99,null,"Fort Frances Power Corporation 4355"]
["Fort Frances Power Corporation 4357","Fort Frances Power Corporation","4357","Gain from Retirement of Utility and Other Property",0,0,0,0,0,null,"Fort Frances Power Corporation 4357"]
["Fort Frances Power Corporation 4360","Fort Frances Power Corporation","4360","Loss on Disposition of Utility and Other Property",14643.3,8090.5,13871.3,6881.39,0,null,"Fort Frances Power Corporation 4360"]
["Fort Frances Power Corporation 4362","Fort Frances Power Corporation","4362","Loss from Retirement of Utility and Other Property",0,0,0,0,0,null,"Fort Frances Power Corporation 4362"]
["Fort Frances Power Corporation 4365","Fort Frances Power Corporation","4365","Gains from Disposition of Allowances for Emission",0,0,0,0,0,null,"Fort Frances Power Corporation 4365"]
["Fort Frances Power Corporation 4370","Fort Frances Power Corporation","4370","Losses from Disposition of Allowances for Emission",0,0,0,0,0,null,"Fort Frances Power Corporation 4370"]
["Fort Frances Power Corporation 4375","Fort Frances Power Corporation","4375","Revenues from Non Rate-Regulated Utility Operations",-97950.15,-149520.85999999999,-76306.66,-57274.67,-3837,null,"Fort Frances Power Corporation 4375"]
["Fort Frances Power Corporation 4375","Fort Frances Power Corporation","4375","Sub-account Generation Facility Revenues",0,0,0,0,0,null,"Fort Frances Power Corporation 4375"]
["Fort Frances Power Corporation 4380","Fort Frances Power Corporation","4380","Expenses of Non Rate-Regulated Utility Operations",66713,168853.77,109294.78,94875.38,34162.17,null,"Fort Frances Power Corporation 4380"]
["Fort Frances Power Corporation 4380","Fort Frances Power Corporation","4380","Sub-account Generation Facility Expenses",0,0,0,0,0,null,"Fort Frances Power Corporation 4380"]
["Fort Frances Power Corporation 4385","Fort Frances Power Corporation","4385","Non Rate-Regulated Utility Rental Income",0,0,0,0,0,null,"Fort Frances Power Corporation 4385"]
["Fort Frances Power Corporation 4390","Fort Frances Power Corporation","4390","Miscellaneous Non-Operating Income",-19083.05,-19075.18,-2185.5700000000002,10327.549999999999,-15594.39,null,"Fort Frances Power Corporation 4390"]
["Fort Frances Power Corporation 4395","Fort Frances Power Corporation","4395","Rate-Payer Benefit Including Interest",0,0,0,0,0,null,"Fort Frances Power Corporation 4395"]
["Fort Frances Power Corporation 4398","Fort Frances Power Corporation","4398","Foreign Exchange Gains and Losses, Including Amortization",0,0,0,0,0,null,"Fort Frances Power Corporation 4398"]
["Fort Frances Power Corporation 4405","Fort Frances Power Corporation","4405","Interest and Dividend Income",-27024.880000000001,-23392.11,-58370.38,-79464.210000000006,-51625.23,null,"Fort Frances Power Corporation 4405"]
["Fort Frances Power Corporation 4410","Fort Frances Power Corporation","4410","Lessor's Net Investment in Finance Lease",0,0,0,0,0,null,"Fort Frances Power Corporation 4410"]
["Fort Frances Power Corporation 4415","Fort Frances Power Corporation","4415","Equity in Earnings of Subsidiary Companies",0,0,0,0,0,null,"Fort Frances Power Corporation 4415"]
["Fort Frances Power Corporation 4420","Fort Frances Power Corporation","4420","Share of Profit or Loss of Joint Venture",0,0,0,0,0,null,"Fort Frances Power Corporation 4420"]
["Fort Frances Power Corporation Total ","Fort Frances Power Corporation Total",null,null,-179180.41,-186698.61,-237318.44,-281439.90999999997,-339332.39,null,"Fort Frances Power Corporation Total "]
["Greater Sudbury Hydro Inc. 4082","Greater Sudbury Hydro Inc.","4082","Retail Services Revenues",-30665.8,-21848,-20810.099999999999,-30028.5,-34335.1,null,"Greater Sudbury Hydro Inc. 4082"]
["Greater Sudbury Hydro Inc. 4084","Greater Sudbury Hydro Inc.","4084","Service Transaction Requests (STR) Revenues",-642.5,-305.75,-301.75,-496,-474.87,null,"Greater Sudbury Hydro Inc. 4084"]
["Greater Sudbury Hydro Inc. 4086","Greater Sudbury Hydro Inc.","4086","SSS Administration Revenue",-157978.57999999999,-139356.18,-140733.35,-141749.87,-141075.87,null,"Greater Sudbury Hydro Inc. 4086"]
["Greater Sudbury Hydro Inc. 4090","Greater Sudbury Hydro Inc.","4090","Electric Services Incidental to Energy Sales",0,0,0,0,0,null,"Greater Sudbury Hydro Inc. 4090"]
["Greater Sudbury Hydro Inc. 4205","Greater Sudbury Hydro Inc.","4205","Interdepartmental Rents",0,0,0,0,0,null,"Greater Sudbury Hydro Inc. 4205"]
["Greater Sudbury Hydro Inc. 4210","Greater Sudbury Hydro Inc.","4210","Rent from Electric Property",-61233.9,-59806.92,-59806.92,-1095852.56,-1160456.3600000001,null,"Greater Sudbury Hydro Inc. 4210"]
["Greater Sudbury Hydro Inc. 4215","Greater Sudbury Hydro Inc.","4215","Other Utility Operating Income",0,0,0,0,0,null,{"$f":"B966 & \" \" &C966","v":"Greater Sudbury Hydro Inc. 4215"}]
["Greater Sudbury Hydro Inc. 4220","Greater Sudbury Hydro Inc.","4220","Other Electric Revenues",-1268.3599999999999,-121902.54,0,0,0,null,"Greater Sudbury Hydro Inc. 4220"]
["Greater Sudbury Hydro Inc. 4225","Greater Sudbury Hydro Inc.","4225","Late Payment Charges",-195236.33,-166760.54,-148898.01,-155234.51999999999,-197952.47,null,"Greater Sudbury Hydro Inc. 4225"]
["Greater Sudbury Hydro Inc. 4230","Greater Sudbury Hydro Inc.","4230","Sales of Water and Water Power",0,0,0,0,0,null,"Greater Sudbury Hydro Inc. 4230"]
["Greater Sudbury Hydro Inc. 4235","Greater Sudbury Hydro Inc.","4235","Miscellaneous Service Revenues",-1042953.5,-958828.42,-879807.1,-279819.7,-100145.36,null,"Greater Sudbury Hydro Inc. 4235"]
["Greater Sudbury Hydro Inc. 4240","Greater Sudbury Hydro Inc.","4240","Provision for Rate Refunds",0,0,0,0,0,null,"Greater Sudbury Hydro Inc. 4240"]
["Greater Sudbury Hydro Inc. 4245","Greater Sudbury Hydro Inc.","4245","Government and Other Assistance Directly Credited to Income",0,0,0,-147734.85,-241984.63,null,"Greater Sudbury Hydro Inc. 4245"]
["Greater Sudbury Hydro Inc. 4305","Greater Sudbury Hydro Inc.","4305","Regulatory Debits",0,0,0,507988.99,174698.87,null,"Greater Sudbury Hydro Inc. 4305"]
["Greater Sudbury Hydro Inc. 4310","Greater Sudbury Hydro Inc.","4310","Regulatory Credits",-987000.26,-6998.28,38524.97,-515798.59,-516769.65,null,"Greater Sudbury Hydro Inc. 4310"]
["Greater Sudbury Hydro Inc. 4315","Greater Sudbury Hydro Inc.","4315","Revenues from Electric Plant Leased to Others",0,0,0,0,0,null,"Greater Sudbury Hydro Inc. 4315"]
["Greater Sudbury Hydro Inc. 4320","Greater Sudbury Hydro Inc.","4320","Expenses of Electric Plant Leased to Others",0,0,0,0,0,null,"Greater Sudbury Hydro Inc. 4320"]
["Greater Sudbury Hydro Inc. 4325","Greater Sudbury Hydro Inc.","4325","Revenues from Merchandise",0,0,0,0,0,null,"Greater Sudbury Hydro Inc. 4325"]
["Greater Sudbury Hydro Inc. 4330","Greater Sudbury Hydro Inc.","4330","Costs and Expenses of Merchandising",0,0,0,0,0,null,"Greater Sudbury Hydro Inc. 4330"]
["Greater Sudbury Hydro Inc. 4335","Greater Sudbury Hydro Inc.","4335","Profits and Losses from Financial Instrument Hedges",0,0,0,0,0,null,"Greater Sudbury Hydro Inc. 4335"]
["Greater Sudbury Hydro Inc. 4340","Greater Sudbury Hydro Inc.","4340","Profits and Losses from Financial Instrument Investments",0,0,0,0,0,null,"Greater Sudbury Hydro Inc. 4340"]
["Greater Sudbury Hydro Inc. 4345","Greater Sudbury Hydro Inc.","4345","Gains from Disposition of Future Use Utility Plant",0,0,0,0,0,null,"Greater Sudbury Hydro Inc. 4345"]
["Greater Sudbury Hydro Inc. 4350","Greater Sudbury Hydro Inc.","4350","Losses from Disposition of Future Use Utility Plant",0,0,0,0,0,null,"Greater Sudbury Hydro Inc. 4350"]
["Greater Sudbury Hydro Inc. 4355","Greater Sudbury Hydro Inc.","4355","Gain on Disposition of Utility and Other Property",0,0,0,-2696,0,null,"Greater Sudbury Hydro Inc. 4355"]
["Greater Sudbury Hydro Inc. 4357","Greater Sudbury Hydro Inc.","4357","Gain from Retirement of Utility and Other Property",0,0,0,0,0,null,"Greater Sudbury Hydro Inc. 4357"]
["Greater Sudbury Hydro Inc. 4360","Greater Sudbury Hydro Inc.","4360","Loss on Disposition of Utility and Other Property",0,0,0,515798.59,566699.86,null,"Greater Sudbury Hydro Inc. 4360"]
["Greater Sudbury Hydro Inc. 4362","Greater Sudbury Hydro Inc.","4362","Loss from Retirement of Utility and Other Property",0,0,0,0,0,null,"Greater Sudbury Hydro Inc. 4362"]
["Greater Sudbury Hydro Inc. 4365","Greater Sudbury Hydro Inc.","4365","Gains from Disposition of Allowances for Emission",0,0,0,0,0,null,"Greater Sudbury Hydro Inc. 4365"]
["Greater Sudbury Hydro Inc. 4370","Greater Sudbury Hydro Inc.","4370","Losses from Disposition of Allowances for Emission",0,0,0,0,0,null,"Greater Sudbury Hydro Inc. 4370"]
["Greater Sudbury Hydro Inc. 4375","Greater Sudbury Hydro Inc.","4375","Revenues from Non Rate-Regulated Utility Operations",-1383431.7,-2033251.98,-3188325.93,-3162744.17,-1443874.86,null,"Greater Sudbury Hydro Inc. 4375"]
["Greater Sudbury Hydro Inc. 4375","Greater Sudbury Hydro Inc.","4375","Sub-account Generation Facility Revenues",0,0,0,0,0,null,"Greater Sudbury Hydro Inc. 4375"]
["Greater Sudbury Hydro Inc. 4380","Greater Sudbury Hydro Inc.","4380","Expenses of Non Rate-Regulated Utility Operations",1383431.7,2033251.98,2725752.47,3162744.19,1443874.86,null,"Greater Sudbury Hydro Inc. 4380"]
["Greater Sudbury Hydro Inc. 4380","Greater Sudbury Hydro Inc.","4380","Sub-account Generation Facility Expenses",0,0,0,0,0,null,"Greater Sudbury Hydro Inc. 4380"]
["Greater Sudbury Hydro Inc. 4385","Greater Sudbury Hydro Inc.","4385","Non Rate-Regulated Utility Rental Income",-19259.86,-18247.04,-16984.63,-39082.589999999997,-39445.07,null,"Greater Sudbury Hydro Inc. 4385"]
["Greater Sudbury Hydro Inc. 4390","Greater Sudbury Hydro Inc.","4390","Miscellaneous Non-Operating Income",-202201.38,-130581.07,-147480.03,-117097.83,-54711.81,null,"Greater Sudbury Hydro Inc. 4390"]
["Greater Sudbury Hydro Inc. 4395","Greater Sudbury Hydro Inc.","4395","Rate-Payer Benefit Including Interest",0,0,0,0,0,null,"Greater Sudbury Hydro Inc. 4395"]
["Greater Sudbury Hydro Inc. 4398","Greater Sudbury Hydro Inc.","4398","Foreign Exchange Gains and Losses, Including Amortization",0,0,0,0,0,null,"Greater Sudbury Hydro Inc. 4398"]
["Greater Sudbury Hydro Inc. 4405","Greater Sudbury Hydro Inc.","4405","Interest and Dividend Income",-196989.04,-290797.59999999998,-233287.24,-123120.53,-73012.960000000006,null,"Greater Sudbury Hydro Inc. 4405"]
["Greater Sudbury Hydro Inc. 4410","Greater Sudbury Hydro Inc.","4410","Lessor's Net Investment in Finance Lease",0,0,0,0,0,null,"Greater Sudbury Hydro Inc. 4410"]
["Greater Sudbury Hydro Inc. 4415","Greater Sudbury Hydro Inc.","4415","Equity in Earnings of Subsidiary Companies",0,0,0,0,0,null,"Greater Sudbury Hydro Inc. 4415"]
["Greater Sudbury Hydro Inc. 4420","Greater Sudbury Hydro Inc.","4420","Share of Profit or Loss of Joint Venture",0,0,0,0,0,null,"Greater Sudbury Hydro Inc. 4420"]
["Greater Sudbury Hydro Inc. Total ","Greater Sudbury Hydro Inc. Total",null,null,-2895429.51,-1915432.34,-2072157.62,-1624923.94,-1818965.42,null,"Greater Sudbury Hydro Inc. Total "]
["Grimsby Power Incorporated 4082","Grimsby Power Incorporated","4082","Retail Services Revenues",-8903.6,-8046.3,-7561.7,-11537.6,-13400.2,null,"Grimsby Power Incorporated 4082"]
["Grimsby Power Incorporated 4084","Grimsby Power Incorporated","4084","Service Transaction Requests (STR) Revenues",-131.75,-81.5,-55.25,-116,-84.5,null,"Grimsby Power Incorporated 4084"]
["Grimsby Power Incorporated 4086","Grimsby Power Incorporated","4086","SSS Administration Revenue",-32383.75,-32894.75,-33605,-34109,-34495.75,null,"Grimsby Power Incorporated 4086"]
["Grimsby Power Incorporated 4090","Grimsby Power Incorporated","4090","Electric Services Incidental to Energy Sales",0,0,0,0,0,null,"Grimsby Power Incorporated 4090"]
["Grimsby Power Incorporated 4205","Grimsby Power Incorporated","4205","Interdepartmental Rents",0,0,0,0,0,null,"Grimsby Power Incorporated 4205"]
["Grimsby Power Incorporated 4210","Grimsby Power Incorporated","4210","Rent from Electric Property",-80316.11,-82830.45,-81467.16,-81556,-82449.710000000006,null,"Grimsby Power Incorporated 4210"]
["Grimsby Power Incorporated 4215","Grimsby Power Incorporated","4215","Other Utility Operating Income",0,0,0,0,0,null,"Grimsby Power Incorporated 4215"]
["Grimsby Power Incorporated 4220","Grimsby Power Incorporated","4220","Other Electric Revenues",11263.05,-2233.85,6187.41,-7269.02,12254.58,null,"Grimsby Power Incorporated 4220"]
["Grimsby Power Incorporated 4225","Grimsby Power Incorporated","4225","Late Payment Charges",-63560.69,-47476.14,-44219.91,-38435.64,-21617.78,null,"Grimsby Power Incorporated 4225"]
["Grimsby Power Incorporated 4230","Grimsby Power Incorporated","4230","Sales of Water and Water Power",0,0,0,0,0,null,"Grimsby Power Incorporated 4230"]
["Grimsby Power Incorporated 4235","Grimsby Power Incorporated","4235","Miscellaneous Service Revenues",-67402.78,-77513.25,-83475.58,-77977.179999999993,-75349.63,null,"Grimsby Power Incorporated 4235"]
["Grimsby Power Incorporated 4240","Grimsby Power Incorporated","4240","Provision for Rate Refunds",0,0,0,0,0,null,"Grimsby Power Incorporated 4240"]
["Grimsby Power Incorporated 4245","Grimsby Power Incorporated","4245","Government and Other Assistance Directly Credited to Income",-107794.7,-121588.1,-136816.29,-145597.93,-154859.29,null,"Grimsby Power Incorporated 4245"]
["Grimsby Power Incorporated 4305","Grimsby Power Incorporated","4305","Regulatory Debits",0,0,0,0,0,null,"Grimsby Power Incorporated 4305"]
["Grimsby Power Incorporated 4310","Grimsby Power Incorporated","4310","Regulatory Credits",0,0,0,0,0,null,"Grimsby Power Incorporated 4310"]
["Grimsby Power Incorporated 4315","Grimsby Power Incorporated","4315","Revenues from Electric Plant Leased to Others",0,0,0,0,0,null,"Grimsby Power Incorporated 4315"]
["Grimsby Power Incorporated 4320","Grimsby Power Incorporated","4320","Expenses of Electric Plant Leased to Others",0,0,0,0,0,null,"Grimsby Power Incorporated 4320"]
["Grimsby Power Incorporated 4325","Grimsby Power Incorporated","4325","Revenues from Merchandise",-5728.89,-4866.78,-2936.79,0,0,null,"Grimsby Power Incorporated 4325"]
["Grimsby Power Incorporated 4330","Grimsby Power Incorporated","4330","Costs and Expenses of Merchandising",0,0,0,0,0,null,"Grimsby Power Incorporated 4330"]
["Grimsby Power Incorporated 4335","Grimsby Power Incorporated","4335","Profits and Losses from Financial Instrument Hedges",0,0,0,0,0,null,"Grimsby Power Incorporated 4335"]
["Grimsby Power Incorporated 4340","Grimsby Power Incorporated","4340","Profits and Losses from Financial Instrument Investments",0,0,0,0,0,null,"Grimsby Power Incorporated 4340"]
["Grimsby Power Incorporated 4345","Grimsby Power Incorporated","4345","Gains from Disposition of Future Use Utility Plant",0,0,0,0,0,null,"Grimsby Power Incorporated 4345"]
["Grimsby Power Incorporated 4350","Grimsby Power Incorporated","4350","Losses from Disposition of Future Use Utility Plant",0,0,0,0,0,null,"Grimsby Power Incorporated 4350"]
["Grimsby Power Incorporated 4355","Grimsby Power Incorporated","4355","Gain on Disposition of Utility and Other Property",0,-5278.23,-5000,-1716.36,0,null,"Grimsby Power Incorporated 4355"]
["Grimsby Power Incorporated 4357","Grimsby Power Incorporated","4357","Gain from Retirement of Utility and Other Property",0,0,0,0,0,null,"Grimsby Power Incorporated 4357"]
["Grimsby Power Incorporated 4360","Grimsby Power Incorporated","4360","Loss on Disposition of Utility and Other Property",4947.6099999999997,220,0,0,18732.61,null,"Grimsby Power Incorporated 4360"]
["Grimsby Power Incorporated 4362","Grimsby Power Incorporated","4362","Loss from Retirement of Utility and Other Property",830.32,0,1244.51,0,0,null,"Grimsby Power Incorporated 4362"]
["Grimsby Power Incorporated 4365","Grimsby Power Incorporated","4365","Gains from Disposition of Allowances for Emission",0,0,0,0,0,null,"Grimsby Power Incorporated 4365"]
["Grimsby Power Incorporated 4370","Grimsby Power Incorporated","4370","Losses from Disposition of Allowances for Emission",0,0,0,0,0,null,{"$f":"B1030 & \" \" &C1030","v":"Grimsby Power Incorporated 4370"}]
["Grimsby Power Incorporated 4375","Grimsby Power Incorporated","4375","Revenues from Non Rate-Regulated Utility Operations",-472077.35,-302036.53000000003,-419180.51,-119010.36,-4847.3900000000003,null,"Grimsby Power Incorporated 4375"]
["Grimsby Power Incorporated 4375","Grimsby Power Incorporated","4375","Sub-account Generation Facility Revenues",0,0,0,0,0,null,"Grimsby Power Incorporated 4375"]
["Grimsby Power Incorporated 4380","Grimsby Power Incorporated","4380","Expenses of Non Rate-Regulated Utility Operations",427461.35,297836.53000000003,294125.81,117810.36,6469.5,null,"Grimsby Power Incorporated 4380"]
["Grimsby Power Incorporated 4380","Grimsby Power Incorporated","4380","Sub-account Generation Facility Expenses",0,0,0,0,0,null,"Grimsby Power Incorporated 4380"]
["Grimsby Power Incorporated 4385","Grimsby Power Incorporated","4385","Non Rate-Regulated Utility Rental Income",0,0,0,0,0,null,"Grimsby Power Incorporated 4385"]
["Grimsby Power Incorporated 4390","Grimsby Power Incorporated","4390","Miscellaneous Non-Operating Income",-5399.61,-6281.5,-5129.99,-5528.92,-6365.78,null,"Grimsby Power Incorporated 4390"]
["Grimsby Power Incorporated 4395","Grimsby Power Incorporated","4395","Rate-Payer Benefit Including Interest",0,0,0,0,0,null,"Grimsby Power Incorporated 4395"]
["Grimsby Power Incorporated 4398","Grimsby Power Incorporated","4398","Foreign Exchange Gains and Losses, Including Amortization",2388.86,5255.73,-272.95,1863.73,18761.599999999999,null,"Grimsby Power Incorporated 4398"]
["Grimsby Power Incorporated 4405","Grimsby Power Incorporated","4405","Interest and Dividend Income",-16441.400000000001,-19341.73,-28767.86,-35142.239999999998,-21758.97,null,"Grimsby Power Incorporated 4405"]
["Grimsby Power Incorporated 4410","Grimsby Power Incorporated","4410","Lessor's Net Investment in Finance Lease",0,0,0,0,0,null,"Grimsby Power Incorporated 4410"]
["Grimsby Power Incorporated 4415","Grimsby Power Incorporated","4415","Equity in Earnings of Subsidiary Companies",0,0,0,0,0,null,"Grimsby Power Incorporated 4415"]
["Grimsby Power Incorporated 4420","Grimsby Power Incorporated","4420","Share of Profit or Loss of Joint Venture",0,0,0,0,0,null,"Grimsby Power Incorporated 4420"]
["Grimsby Power Incorporated Total ","Grimsby Power Incorporated Total",null,null,-413249.44,-407156.85,-546931.26,-438322.16,-359010.71,null,"Grimsby Power Incorporated Total "]
["Guelph Hydro Electric Systems Inc. 4082","Guelph Hydro Electric Systems Inc.","4082","Retail Services Revenues",-44577.02,-48460.01,-49009.97,null,null,null,"Guelph Hydro Electric Systems Inc. 4082"]
["Guelph Hydro Electric Systems Inc. 4084","Guelph Hydro Electric Systems Inc.","4084","Service Transaction Requests (STR) Revenues",-39214.370000000003,-42630.239999999998,-43114.04,null,null,null,"Guelph Hydro Electric Systems Inc. 4084"]
["Guelph Hydro Electric Systems Inc. 4086","Guelph Hydro Electric Systems Inc.","4086","SSS Administration Revenue",-156612.04,-160684.35999999999,-163555.38,null,null,null,"Guelph Hydro Electric Systems Inc. 4086"]
["Guelph Hydro Electric Systems Inc. 4090","Guelph Hydro Electric Systems Inc.","4090","Electric Services Incidental to Energy Sales",0,0,0,null,null,null,"Guelph Hydro Electric Systems Inc. 4090"]
["Guelph Hydro Electric Systems Inc. 4205","Guelph Hydro Electric Systems Inc.","4205","Interdepartmental Rents",0,0,0,null,null,null,"Guelph Hydro Electric Systems Inc. 4205"]
["Guelph Hydro Electric Systems Inc. 4210","Guelph Hydro Electric Systems Inc.","4210","Rent from Electric Property",-326702.43,-341967.12,-339859.15,null,null,null,"Guelph Hydro Electric Systems Inc. 4210"]
["Guelph Hydro Electric Systems Inc. 4215","Guelph Hydro Electric Systems Inc.","4215","Other Utility Operating Income",0,0,0,null,null,null,"Guelph Hydro Electric Systems Inc. 4215"]
["Guelph Hydro Electric Systems Inc. 4220","Guelph Hydro Electric Systems Inc.","4220","Other Electric Revenues",0,0,0,null,null,null,"Guelph Hydro Electric Systems Inc. 4220"]
["Guelph Hydro Electric Systems Inc. 4225","Guelph Hydro Electric Systems Inc.","4225","Late Payment Charges",-163280.39000000001,-166574.53,-133115.31,null,null,null,"Guelph Hydro Electric Systems Inc. 4225"]
["Guelph Hydro Electric Systems Inc. 4230","Guelph Hydro Electric Systems Inc.","4230","Sales of Water and Water Power",0,0,0,null,null,null,"Guelph Hydro Electric Systems Inc. 4230"]
["Guelph Hydro Electric Systems Inc. 4235","Guelph Hydro Electric Systems Inc.","4235","Miscellaneous Service Revenues",-524217.47,-496661.13,-444987.26,null,null,null,"Guelph Hydro Electric Systems Inc. 4235"]
["Guelph Hydro Electric Systems Inc. 4240","Guelph Hydro Electric Systems Inc.","4240","Provision for Rate Refunds",0,0,0,null,null,null,"Guelph Hydro Electric Systems Inc. 4240"]
["Guelph Hydro Electric Systems Inc. 4245","Guelph Hydro Electric Systems Inc.","4245","Government and Other Assistance Directly Credited to Income",0,0,0,null,null,null,"Guelph Hydro Electric Systems Inc. 4245"]
["Guelph Hydro Electric Systems Inc. 4305","Guelph Hydro Electric Systems Inc.","4305","Regulatory Debits",0,0,0,null,null,null,"Guelph Hydro Electric Systems Inc. 4305"]
["Guelph Hydro Electric Systems Inc. 4310","Guelph Hydro Electric Systems Inc.","4310","Regulatory Credits",0,0,0,null,null,null,"Guelph Hydro Electric Systems Inc. 4310"]
["Guelph Hydro Electric Systems Inc. 4315","Guelph Hydro Electric Systems Inc.","4315","Revenues from Electric Plant Leased to Others",0,0,0,null,null,null,"Guelph Hydro Electric Systems Inc. 4315"]
["Guelph Hydro Electric Systems Inc. 4320","Guelph Hydro Electric Systems Inc.","4320","Expenses of Electric Plant Leased to Others",0,0,0,null,null,null,"Guelph Hydro Electric Systems Inc. 4320"]
["Guelph Hydro Electric Systems Inc. 4325","Guelph Hydro Electric Systems Inc.","4325","Revenues from Merchandise",0,0,0,null,null,null,"Guelph Hydro Electric Systems Inc. 4325"]
["Guelph Hydro Electric Systems Inc. 4330","Guelph Hydro Electric Systems Inc.","4330","Costs and Expenses of Merchandising",0,0,0,null,null,null,"Guelph Hydro Electric Systems Inc. 4330"]
["Guelph Hydro Electric Systems Inc. 4335","Guelph Hydro Electric Systems Inc.","4335","Profits and Losses from Financial Instrument Hedges",0,0,0,null,null,null,"Guelph Hydro Electric Systems Inc. 4335"]
["Guelph Hydro Electric Systems Inc. 4340","Guelph Hydro Electric Systems Inc.","4340","Profits and Losses from Financial Instrument Investments",0,0,0,null,null,null,"Guelph Hydro Electric Systems Inc. 4340"]
["Guelph Hydro Electric Systems Inc. 4345","Guelph Hydro Electric Systems Inc.","4345","Gains from Disposition of Future Use Utility Plant",0,0,0,null,null,null,"Guelph Hydro Electric Systems Inc. 4345"]
["Guelph Hydro Electric Systems Inc. 4350","Guelph Hydro Electric Systems Inc.","4350","Losses from Disposition of Future Use Utility Plant",0,0,0,null,null,null,"Guelph Hydro Electric Systems Inc. 4350"]
["Guelph Hydro Electric Systems Inc. 4355","Guelph Hydro Electric Systems Inc.","4355","Gain on Disposition of Utility and Other Property",-47775,-16995,-22305,null,null,null,"Guelph Hydro Electric Systems Inc. 4355"]
["Guelph Hydro Electric Systems Inc. 4357","Guelph Hydro Electric Systems Inc.","4357","Gain from Retirement of Utility and Other Property",0,0,0,null,null,null,"Guelph Hydro Electric Systems Inc. 4357"]
["Guelph Hydro Electric Systems Inc. 4360","Guelph Hydro Electric Systems Inc.","4360","Loss on Disposition of Utility and Other Property",0,0,0,null,null,null,"Guelph Hydro Electric Systems Inc. 4360"]
["Guelph Hydro Electric Systems Inc. 4362","Guelph Hydro Electric Systems Inc.","4362","Loss from Retirement of Utility and Other Property",0,0,0,null,null,null,"Guelph Hydro Electric Systems Inc. 4362"]
["Guelph Hydro Electric Systems Inc. 4365","Guelph Hydro Electric Systems Inc.","4365","Gains from Disposition of Allowances for Emission",0,0,0,null,null,null,"Guelph Hydro Electric Systems Inc. 4365"]
["Guelph Hydro Electric Systems Inc. 4370","Guelph Hydro Electric Systems Inc.","4370","Losses from Disposition of Allowances for Emission",0,0,0,null,null,null,"Guelph Hydro Electric Systems Inc. 4370"]
["Guelph Hydro Electric Systems Inc. 4375","Guelph Hydro Electric Systems Inc.","4375","Revenues from Non Rate-Regulated Utility Operations",-16952022.350000001,-5871829.9400000004,-7482994.6100000003,null,null,null,"Guelph Hydro Electric Systems Inc. 4375"]
["Guelph Hydro Electric Systems Inc. 4375","Guelph Hydro Electric Systems Inc.","4375","Sub-account Generation Facility Revenues",0,0,0,null,null,null,"Guelph Hydro Electric Systems Inc. 4375"]
["Guelph Hydro Electric Systems Inc. 4380","Guelph Hydro Electric Systems Inc.","4380","Expenses of Non Rate-Regulated Utility Operations",15619319.32,4377585.37,5148682.08,null,null,null,"Guelph Hydro Electric Systems Inc. 4380"]
["Guelph Hydro Electric Systems Inc. 4380","Guelph Hydro Electric Systems Inc.","4380","Sub-account Generation Facility Expenses",0,0,0,null,null,null,"Guelph Hydro Electric Systems Inc. 4380"]
["Guelph Hydro Electric Systems Inc. 4385","Guelph Hydro Electric Systems Inc.","4385","Non Rate-Regulated Utility Rental Income",0,0,0,null,null,null,"Guelph Hydro Electric Systems Inc. 4385"]
["Guelph Hydro Electric Systems Inc. 4390","Guelph Hydro Electric Systems Inc.","4390","Miscellaneous Non-Operating Income",0,0,0,null,null,null,"Guelph Hydro Electric Systems Inc. 4390"]
["Guelph Hydro Electric Systems Inc. 4395","Guelph Hydro Electric Systems Inc.","4395","Rate-Payer Benefit Including Interest",0,0,0,null,null,null,"Guelph Hydro Electric Systems Inc. 4395"]
["Guelph Hydro Electric Systems Inc. 4398","Guelph Hydro Electric Systems Inc.","4398","Foreign Exchange Gains and Losses, Including Amortization",0,0,0,null,null,null,"Guelph Hydro Electric Systems Inc. 4398"]
["Guelph Hydro Electric Systems Inc. 4405","Guelph Hydro Electric Systems Inc.","4405","Interest and Dividend Income",-289162.12,-340861.69,-580579.35,null,null,null,"Guelph Hydro Electric Systems Inc. 4405"]
["Guelph Hydro Electric Systems Inc. 4410","Guelph Hydro Electric Systems Inc.","4410","Lessor's Net Investment in Finance Lease",0,0,0,null,null,null,"Guelph Hydro Electric Systems Inc. 4410"]
["Guelph Hydro Electric Systems Inc. 4415","Guelph Hydro Electric Systems Inc.","4415","Equity in Earnings of Subsidiary Companies",0,0,0,null,null,null,"Guelph Hydro Electric Systems Inc. 4415"]
["Guelph Hydro Electric Systems Inc. 4420","Guelph Hydro Electric Systems Inc.","4420","Share of Profit or Loss of Joint Venture",0,0,0,null,null,null,"Guelph Hydro Electric Systems Inc. 4420"]
["Guelph Hydro Electric Systems Inc. Total ","Guelph Hydro Electric Systems Inc. Total",null,null,-2924243.87,-3109078.65,-4110837.99,null,null,null,"Guelph Hydro Electric Systems Inc. Total "]
["Haldimand County Hydro Inc. 4082","Haldimand County Hydro Inc.","4082","Retail Services Revenues",-12154.6,null,null,null,null,null,"Haldimand County Hydro Inc. 4082"]
["Haldimand County Hydro Inc. 4084","Haldimand County Hydro Inc.","4084","Service Transaction Requests (STR) Revenues",-184.25,null,null,null,null,null,"Haldimand County Hydro Inc. 4084"]
["Haldimand County Hydro Inc. 4086","Haldimand County Hydro Inc.","4086","SSS Administration Revenue",-41087,null,null,null,null,null,"Haldimand County Hydro Inc. 4086"]
["Haldimand County Hydro Inc. 4090","Haldimand County Hydro Inc.","4090","Electric Services Incidental to Energy Sales",0,null,null,null,null,null,"Haldimand County Hydro Inc. 4090"]
["Haldimand County Hydro Inc. 4205","Haldimand County Hydro Inc.","4205","Interdepartmental Rents",0,null,null,null,null,null,"Haldimand County Hydro Inc. 4205"]
["Haldimand County Hydro Inc. 4210","Haldimand County Hydro Inc.","4210","Rent from Electric Property",-26177.29,null,null,null,null,null,"Haldimand County Hydro Inc. 4210"]
["Haldimand County Hydro Inc. 4215","Haldimand County Hydro Inc.","4215","Other Utility Operating Income",0,null,null,null,null,null,"Haldimand County Hydro Inc. 4215"]
["Haldimand County Hydro Inc. 4220","Haldimand County Hydro Inc.","4220","Other Electric Revenues",0,null,null,null,null,null,"Haldimand County Hydro Inc. 4220"]
["Haldimand County Hydro Inc. 4225","Haldimand County Hydro Inc.","4225","Late Payment Charges",-171485.68,null,null,null,null,null,{"$f":"B1094 & \" \" &C1094","v":"Haldimand County Hydro Inc. 4225"}]
["Haldimand County Hydro Inc. 4230","Haldimand County Hydro Inc.","4230","Sales of Water and Water Power",0,null,null,null,null,null,"Haldimand County Hydro Inc. 4230"]
["Haldimand County Hydro Inc. 4235","Haldimand County Hydro Inc.","4235","Miscellaneous Service Revenues",-73532,null,null,null,null,null,"Haldimand County Hydro Inc. 4235"]
["Haldimand County Hydro Inc. 4240","Haldimand County Hydro Inc.","4240","Provision for Rate Refunds",0,null,null,null,null,null,"Haldimand County Hydro Inc. 4240"]
["Haldimand County Hydro Inc. 4245","Haldimand County Hydro Inc.","4245","Government Assistance Directly Credited to Income",0,null,null,null,null,null,"Haldimand County Hydro Inc. 4245"]
["Haldimand County Hydro Inc. 4305","Haldimand County Hydro Inc.","4305","Regulatory Debits",48865.79,null,null,null,null,null,"Haldimand County Hydro Inc. 4305"]
["Haldimand County Hydro Inc. 4310","Haldimand County Hydro Inc.","4310","Regulatory Credits",0,null,null,null,null,null,"Haldimand County Hydro Inc. 4310"]
["Haldimand County Hydro Inc. 4315","Haldimand County Hydro Inc.","4315","Revenues from Electric Plant Leased to Others",0,null,null,null,null,null,"Haldimand County Hydro Inc. 4315"]
["Haldimand County Hydro Inc. 4320","Haldimand County Hydro Inc.","4320","Expenses of Electric Plant Leased to Others",0,null,null,null,null,null,"Haldimand County Hydro Inc. 4320"]
["Haldimand County Hydro Inc. 4325","Haldimand County Hydro Inc.","4325","Revenues from Merchandise Jobbing, Etc.",-18391.34,null,null,null,null,null,"Haldimand County Hydro Inc. 4325"]
["Haldimand County Hydro Inc. 4330","Haldimand County Hydro Inc.","4330","Costs and Expenses of Merchandising Jobbing, Etc.",0,null,null,null,null,null,"Haldimand County Hydro Inc. 4330"]
["Haldimand County Hydro Inc. 4335","Haldimand County Hydro Inc.","4335","Profits and Losses from Financial Instrument Hedges",0,null,null,null,null,null,"Haldimand County Hydro Inc. 4335"]
["Haldimand County Hydro Inc. 4340","Haldimand County Hydro Inc.","4340","Profits and Losses from Financial Instrument Investments",0,null,null,null,null,null,"Haldimand County Hydro Inc. 4340"]
["Haldimand County Hydro Inc. 4345","Haldimand County Hydro Inc.","4345","Gains from Disposition of Future Use Utility Plant",0,null,null,null,null,null,"Haldimand County Hydro Inc. 4345"]
["Haldimand County Hydro Inc. 4350","Haldimand County Hydro Inc.","4350","Losses from Disposition of Future Use Utility Plant",0,null,null,null,null,null,"Haldimand County Hydro Inc. 4350"]
["Haldimand County Hydro Inc. 4355","Haldimand County Hydro Inc.","4355","Gain on Disposition of Utility and Other Property",-49,null,null,null,null,null,"Haldimand County Hydro Inc. 4355"]
["Haldimand County Hydro Inc. 4360","Haldimand County Hydro Inc.","4360","Loss on Disposition of Utility and Other Property",4308.17,null,null,null,null,null,"Haldimand County Hydro Inc. 4360"]
["Haldimand County Hydro Inc. 4365","Haldimand County Hydro Inc.","4365","Gains from Disposition of Allowances for Emission",0,null,null,null,null,null,"Haldimand County Hydro Inc. 4365"]
["Haldimand County Hydro Inc. 4370","Haldimand County Hydro Inc.","4370","Losses from Disposition of Allowances for Emission",0,null,null,null,null,null,"Haldimand County Hydro Inc. 4370"]
["Haldimand County Hydro Inc. 4375","Haldimand County Hydro Inc.","4375","Revenues from Non-Utility Operations",-84501.85,null,null,null,null,null,"Haldimand County Hydro Inc. 4375"]
["Haldimand County Hydro Inc. 4375","Haldimand County Hydro Inc.","4375","Sub-account Generation Facility Revenues",0,null,null,null,null,null,"Haldimand County Hydro Inc. 4375"]
["Haldimand County Hydro Inc. 4380","Haldimand County Hydro Inc.","4380","Expenses of Non-Utility Operations",7900.1,null,null,null,null,null,"Haldimand County Hydro Inc. 4380"]
["Haldimand County Hydro Inc. 4380","Haldimand County Hydro Inc.","4380","Sub-account Generation Facility Expenses",0,null,null,null,null,null,"Haldimand County Hydro Inc. 4380"]
["Haldimand County Hydro Inc. 4385","Haldimand County Hydro Inc.","4385","Non-Utility Rental Income",0,null,null,null,null,null,"Haldimand County Hydro Inc. 4385"]
["Haldimand County Hydro Inc. 4390","Haldimand County Hydro Inc.","4390","Miscellaneous Non-Operating Income",-73633.740000000005,null,null,null,null,null,"Haldimand County Hydro Inc. 4390"]
["Haldimand County Hydro Inc. 4395","Haldimand County Hydro Inc.","4395","Rate-Payer Benefit Including Interest",0,null,null,null,null,null,"Haldimand County Hydro Inc. 4395"]
["Haldimand County Hydro Inc. 4398","Haldimand County Hydro Inc.","4398","Foreign Exchange Gains and Losses, Including Amortization",0,null,null,null,null,null,"Haldimand County Hydro Inc. 4398"]
["Haldimand County Hydro Inc. 4405","Haldimand County Hydro Inc.","4405","Interest and Dividend Income",-41631.449999999997,null,null,null,null,null,"Haldimand County Hydro Inc. 4405"]
["Haldimand County Hydro Inc. 4415","Haldimand County Hydro Inc.","4415","Equity in Earnings of Subsidiary Companies",0,null,null,null,null,null,"Haldimand County Hydro Inc. 4415"]
["Haldimand County Hydro Inc. Total ","Haldimand County Hydro Inc. Total",null,null,-481754.14,null,null,null,null,null,"Haldimand County Hydro Inc. Total "]
["Halton Hills Hydro Inc. 4082","Halton Hills Hydro Inc.","4082","Retail Services Revenues",-12989.4,-12521.4,-10060.799999999999,-14509.6,-16559,null,"Halton Hills Hydro Inc. 4082"]
["Halton Hills Hydro Inc. 4084","Halton Hills Hydro Inc.","4084","Service Transaction Requests (STR) Revenues",-220,-185.5,-95.5,-139.25,-167,null,"Halton Hills Hydro Inc. 4084"]
["Halton Hills Hydro Inc. 4086","Halton Hills Hydro Inc.","4086","SSS Administration Revenue",-67497.149999999994,-65794.22,-67383.7,-68310.460000000006,-68140.72,null,"Halton Hills Hydro Inc. 4086"]
["Halton Hills Hydro Inc. 4090","Halton Hills Hydro Inc.","4090","Electric Services Incidental to Energy Sales",0,0,0,0,0,null,"Halton Hills Hydro Inc. 4090"]
["Halton Hills Hydro Inc. 4205","Halton Hills Hydro Inc.","4205","Interdepartmental Rents",0,0,0,0,0,null,"Halton Hills Hydro Inc. 4205"]
["Halton Hills Hydro Inc. 4210","Halton Hills Hydro Inc.","4210","Rent from Electric Property",-191536.4,-167839.59,-193924.4,-195051.03,-196674.33,null,"Halton Hills Hydro Inc. 4210"]
["Halton Hills Hydro Inc. 4215","Halton Hills Hydro Inc.","4215","Other Utility Operating Income",0,0,0,0,0,null,"Halton Hills Hydro Inc. 4215"]
["Halton Hills Hydro Inc. 4220","Halton Hills Hydro Inc.","4220","Other Electric Revenues",0,0,0,0,0,null,"Halton Hills Hydro Inc. 4220"]
["Halton Hills Hydro Inc. 4225","Halton Hills Hydro Inc.","4225","Late Payment Charges",-233309.69,-192146.31,-159358.74,-162093.66,-162753.32999999999,null,"Halton Hills Hydro Inc. 4225"]
["Halton Hills Hydro Inc. 4230","Halton Hills Hydro Inc.","4230","Sales of Water and Water Power",0,0,0,0,0,null,"Halton Hills Hydro Inc. 4230"]
["Halton Hills Hydro Inc. 4235","Halton Hills Hydro Inc.","4235","Miscellaneous Service Revenues",-301128.93,-260396.9,-306110.65000000002,-224049.46,-325045.96999999997,null,"Halton Hills Hydro Inc. 4235"]
["Halton Hills Hydro Inc. 4240","Halton Hills Hydro Inc.","4240","Provision for Rate Refunds",0,0,0,0,0,null,"Halton Hills Hydro Inc. 4240"]
["Halton Hills Hydro Inc. 4245","Halton Hills Hydro Inc.","4245","Government and Other Assistance Directly Credited to Income",0,0,0,-329196.08,-350838.23,null,"Halton Hills Hydro Inc. 4245"]
["Halton Hills Hydro Inc. 4305","Halton Hills Hydro Inc.","4305","Regulatory Debits",0,0,0,0,0,null,"Halton Hills Hydro Inc. 4305"]
["Halton Hills Hydro Inc. 4310","Halton Hills Hydro Inc.","4310","Regulatory Credits",0,0,0,0,0,null,"Halton Hills Hydro Inc. 4310"]
["Halton Hills Hydro Inc. 4315","Halton Hills Hydro Inc.","4315","Revenues from Electric Plant Leased to Others",0,0,0,0,0,null,"Halton Hills Hydro Inc. 4315"]
["Halton Hills Hydro Inc. 4320","Halton Hills Hydro Inc.","4320","Expenses of Electric Plant Leased to Others",0,0,0,0,0,null,"Halton Hills Hydro Inc. 4320"]
["Halton Hills Hydro Inc. 4325","Halton Hills Hydro Inc.","4325","Revenues from Merchandise",0,0,0,0,0,null,"Halton Hills Hydro Inc. 4325"]
["Halton Hills Hydro Inc. 4330","Halton Hills Hydro Inc.","4330","Costs and Expenses of Merchandising",0,0,0,0,0,null,"Halton Hills Hydro Inc. 4330"]
["Halton Hills Hydro Inc. 4335","Halton Hills Hydro Inc.","4335","Profits and Losses from Financial Instrument Hedges",0,0,0,0,0,null,"Halton Hills Hydro Inc. 4335"]
["Halton Hills Hydro Inc. 4340","Halton Hills Hydro Inc.","4340","Profits and Losses from Financial Instrument Investments",0,0,0,0,0,null,"Halton Hills Hydro Inc. 4340"]
["Halton Hills Hydro Inc. 4345","Halton Hills Hydro Inc.","4345","Gains from Disposition of Future Use Utility Plant",0,0,0,0,0,null,"Halton Hills Hydro Inc. 4345"]
["Halton Hills Hydro Inc. 4350","Halton Hills Hydro Inc.","4350","Losses from Disposition of Future Use Utility Plant",0,0,0,0,0,null,"Halton Hills Hydro Inc. 4350"]
["Halton Hills Hydro Inc. 4355","Halton Hills Hydro Inc.","4355","Gain on Disposition of Utility and Other Property",-13898.28,-45296.44,-15486.72,-1000,0,null,"Halton Hills Hydro Inc. 4355"]
["Halton Hills Hydro Inc. 4357","Halton Hills Hydro Inc.","4357","Gain from Retirement of Utility and Other Property",0,0,0,0,0,null,"Halton Hills Hydro Inc. 4357"]
["Halton Hills Hydro Inc. 4360","Halton Hills Hydro Inc.","4360","Loss on Disposition of Utility and Other Property",0,0,0,0,0,null,"Halton Hills Hydro Inc. 4360"]
["Halton Hills Hydro Inc. 4362","Halton Hills Hydro Inc.","4362","Loss from Retirement of Utility and Other Property",0,0,0,0,0,null,"Halton Hills Hydro Inc. 4362"]
["Halton Hills Hydro Inc. 4365","Halton Hills Hydro Inc.","4365","Gains from Disposition of Allowances for Emission",0,0,0,0,0,null,"Halton Hills Hydro Inc. 4365"]
["Halton Hills Hydro Inc. 4370","Halton Hills Hydro Inc.","4370","Losses from Disposition of Allowances for Emission",0,0,0,0,0,null,"Halton Hills Hydro Inc. 4370"]
["Halton Hills Hydro Inc. 4375","Halton Hills Hydro Inc.","4375","Revenues from Non Rate-Regulated Utility Operations",-659407.32999999996,-1738744.89,-1219755.1499999999,-1096492.1299999999,-915789.57,null,"Halton Hills Hydro Inc. 4375"]
["Halton Hills Hydro Inc. 4375","Halton Hills Hydro Inc.","4375","Sub-account Generation Facility Revenues",0,0,0,0,0,null,"Halton Hills Hydro Inc. 4375"]
["Halton Hills Hydro Inc. 4380","Halton Hills Hydro Inc.","4380","Expenses of Non Rate-Regulated Utility Operations",631821.43000000005,1488660.14,1129275.72,1042320.75,891136,null,"Halton Hills Hydro Inc. 4380"]
["Halton Hills Hydro Inc. 4380","Halton Hills Hydro Inc.","4380","Sub-account Generation Facility Expenses",0,0,0,0,0,null,"Halton Hills Hydro Inc. 4380"]
["Halton Hills Hydro Inc. 4385","Halton Hills Hydro Inc.","4385","Non Rate-Regulated Utility Rental Income",-56118.61,-35874.26,-38791.43,-39174.959999999999,-37795,null,"Halton Hills Hydro Inc. 4385"]
["Halton Hills Hydro Inc. 4390","Halton Hills Hydro Inc.","4390","Miscellaneous Non-Operating Income",-27941.61,-99157.83,-39227.379999999997,-45401.59,-13912.88,null,{"$f":"B1158 & \" \" &C1158","v":"Halton Hills Hydro Inc. 4390"}]
["Halton Hills Hydro Inc. 4395","Halton Hills Hydro Inc.","4395","Rate-Payer Benefit Including Interest",0,0,0,0,0,null,"Halton Hills Hydro Inc. 4395"]
["Halton Hills Hydro Inc. 4398","Halton Hills Hydro Inc.","4398","Foreign Exchange Gains and Losses, Including Amortization",402.14,-3825.72,-2034.93,812.12,-2173.81,null,"Halton Hills Hydro Inc. 4398"]
["Halton Hills Hydro Inc. 4405","Halton Hills Hydro Inc.","4405","Interest and Dividend Income",-29494.080000000002,-28473.38,-80372.98,-24698.639999999999,-30310.16,null,"Halton Hills Hydro Inc. 4405"]
["Halton Hills Hydro Inc. 4410","Halton Hills Hydro Inc.","4410","Lessor's Net Investment in Finance Lease",0,0,0,0,0,null,"Halton Hills Hydro Inc. 4410"]
["Halton Hills Hydro Inc. 4415","Halton Hills Hydro Inc.","4415","Equity in Earnings of Subsidiary Companies",0,0,0,0,0,null,"Halton Hills Hydro Inc. 4415"]
["Halton Hills Hydro Inc. 4420","Halton Hills Hydro Inc.","4420","Share of Profit or Loss of Joint Venture",0,0,0,0,0,null,"Halton Hills Hydro Inc. 4420"]
["Halton Hills Hydro Inc. Total ","Halton Hills Hydro Inc. Total",null,null,-961317.91,-1161596.3,-1003326.66,-1156983.99,-1229024,null,"Halton Hills Hydro Inc. Total "]
["Hearst Power Distribution Company Limited 4082","Hearst Power Distribution Company Limited","4082","Retail Services Revenues",-4156.8,-4146.1899999999996,-3334.42,-5624.64,-6783.71,null,"Hearst Power Distribution Company Limited 4082"]
["Hearst Power Distribution Company Limited 4084","Hearst Power Distribution Company Limited","4084","Service Transaction Requests (STR) Revenues",-12.75,-6,-14.25,-3.25,-18.3,null,"Hearst Power Distribution Company Limited 4084"]
["Hearst Power Distribution Company Limited 4086","Hearst Power Distribution Company Limited","4086","SSS Administration Revenue",-8056.75,-8077.71,-8207.49,-7581.75,-8950.25,null,"Hearst Power Distribution Company Limited 4086"]
["Hearst Power Distribution Company Limited 4090","Hearst Power Distribution Company Limited","4090","Electric Services Incidental to Energy Sales",0,0,0,0,0,null,"Hearst Power Distribution Company Limited 4090"]
["Hearst Power Distribution Company Limited 4205","Hearst Power Distribution Company Limited","4205","Interdepartmental Rents",0,0,0,0,0,null,"Hearst Power Distribution Company Limited 4205"]
["Hearst Power Distribution Company Limited 4210","Hearst Power Distribution Company Limited","4210","Rent from Electric Property",-29006.73,-29006.73,-37045.480000000003,-40214.46,-33882.6,null,"Hearst Power Distribution Company Limited 4210"]
["Hearst Power Distribution Company Limited 4215","Hearst Power Distribution Company Limited","4215","Other Utility Operating Income",0,0,0,0,0,null,"Hearst Power Distribution Company Limited 4215"]
["Hearst Power Distribution Company Limited 4220","Hearst Power Distribution Company Limited","4220","Other Electric Revenues",0,0,0,0,0,null,"Hearst Power Distribution Company Limited 4220"]
["Hearst Power Distribution Company Limited 4225","Hearst Power Distribution Company Limited","4225","Late Payment Charges",-12427.19,-11678.5,-12107.8,-12807.26,-13234.33,null,"Hearst Power Distribution Company Limited 4225"]
["Hearst Power Distribution Company Limited 4230","Hearst Power Distribution Company Limited","4230","Sales of Water and Water Power",0,0,0,0,0,null,"Hearst Power Distribution Company Limited 4230"]
["Hearst Power Distribution Company Limited 4235","Hearst Power Distribution Company Limited","4235","Miscellaneous Service Revenues",-16365,-14085,-14355,-9110,-8060,null,"Hearst Power Distribution Company Limited 4235"]
["Hearst Power Distribution Company Limited 4240","Hearst Power Distribution Company Limited","4240","Provision for Rate Refunds",0,0,0,0,0,null,"Hearst Power Distribution Company Limited 4240"]
["Hearst Power Distribution Company Limited 4245","Hearst Power Distribution Company Limited","4245","Government and Other Assistance Directly Credited to Income",-958.78,-1474.12,-2045.93,-2681.69,-2919.66,null,"Hearst Power Distribution Company Limited 4245"]
["Hearst Power Distribution Company Limited 4305","Hearst Power Distribution Company Limited","4305","Regulatory Debits",37088,37087.99,0,0,0,null,"Hearst Power Distribution Company Limited 4305"]
["Hearst Power Distribution Company Limited 4310","Hearst Power Distribution Company Limited","4310","Regulatory Credits",0,0,0,0,0,null,"Hearst Power Distribution Company Limited 4310"]
["Hearst Power Distribution Company Limited 4315","Hearst Power Distribution Company Limited","4315","Revenues from Electric Plant Leased to Others",0,0,0,0,0,null,"Hearst Power Distribution Company Limited 4315"]
["Hearst Power Distribution Company Limited 4320","Hearst Power Distribution Company Limited","4320","Expenses of Electric Plant Leased to Others",0,0,0,0,0,null,"Hearst Power Distribution Company Limited 4320"]
["Hearst Power Distribution Company Limited 4325","Hearst Power Distribution Company Limited","4325","Revenues from Merchandise",-126941.58,-124494.67,-137241.24,-93937.35,-87763.37,null,"Hearst Power Distribution Company Limited 4325"]
["Hearst Power Distribution Company Limited 4330","Hearst Power Distribution Company Limited","4330","Costs and Expenses of Merchandising",66176.17,77211.48,82330.27,48070.13,50555.199999999997,null,"Hearst Power Distribution Company Limited 4330"]
["Hearst Power Distribution Company Limited 4335","Hearst Power Distribution Company Limited","4335","Profits and Losses from Financial Instrument Hedges",0,0,0,0,0,null,"Hearst Power Distribution Company Limited 4335"]
["Hearst Power Distribution Company Limited 4340","Hearst Power Distribution Company Limited","4340","Profits and Losses from Financial Instrument Investments",2286.7600000000002,13219.8,56168.65,-4546.08,-8055.09,null,"Hearst Power Distribution Company Limited 4340"]
["Hearst Power Distribution Company Limited 4345","Hearst Power Distribution Company Limited","4345","Gains from Disposition of Future Use Utility Plant",0,0,0,0,0,null,"Hearst Power Distribution Company Limited 4345"]
["Hearst Power Distribution Company Limited 4350","Hearst Power Distribution Company Limited","4350","Losses from Disposition of Future Use Utility Plant",0,0,0,0,0,null,"Hearst Power Distribution Company Limited 4350"]
["Hearst Power Distribution Company Limited 4355","Hearst Power Distribution Company Limited","4355","Gain on Disposition of Utility and Other Property",0,-17101,-34739.61,0,0,null,"Hearst Power Distribution Company Limited 4355"]
["Hearst Power Distribution Company Limited 4357","Hearst Power Distribution Company Limited","4357","Gain from Retirement of Utility and Other Property",0,0,0,0,0,null,"Hearst Power Distribution Company Limited 4357"]
["Hearst Power Distribution Company Limited 4360","Hearst Power Distribution Company Limited","4360","Loss on Disposition of Utility and Other Property",832.41,4495.5,333.04,736.8,805.37,null,"Hearst Power Distribution Company Limited 4360"]
["Hearst Power Distribution Company Limited 4362","Hearst Power Distribution Company Limited","4362","Loss from Retirement of Utility and Other Property",0,0,0,0,0,null,"Hearst Power Distribution Company Limited 4362"]
["Hearst Power Distribution Company Limited 4365","Hearst Power Distribution Company Limited","4365","Gains from Disposition of Allowances for Emission",0,0,0,0,0,null,"Hearst Power Distribution Company Limited 4365"]
["Hearst Power Distribution Company Limited 4370","Hearst Power Distribution Company Limited","4370","Losses from Disposition of Allowances for Emission",0,0,0,0,0,null,"Hearst Power Distribution Company Limited 4370"]
["Hearst Power Distribution Company Limited 4375","Hearst Power Distribution Company Limited","4375","Revenues from Non Rate-Regulated Utility Operations",-104479.29,-97121.64,-489411.3,-832845.79,-931553.56,null,"Hearst Power Distribution Company Limited 4375"]
["Hearst Power Distribution Company Limited 4375","Hearst Power Distribution Company Limited","4375","Sub-account Generation Facility Revenues",0,0,0,0,0,null,"Hearst Power Distribution Company Limited 4375"]
["Hearst Power Distribution Company Limited 4380","Hearst Power Distribution Company Limited","4380","Expenses of Non Rate-Regulated Utility Operations",95940.63,91079.79,380889.72,741367.15,859840.63,null,"Hearst Power Distribution Company Limited 4380"]
["Hearst Power Distribution Company Limited 4380","Hearst Power Distribution Company Limited","4380","Sub-account Generation Facility Expenses",0,0,0,0,0,null,"Hearst Power Distribution Company Limited 4380"]
["Hearst Power Distribution Company Limited 4385","Hearst Power Distribution Company Limited","4385","Non Rate-Regulated Utility Rental Income",0,0,0,0,0,null,"Hearst Power Distribution Company Limited 4385"]
["Hearst Power Distribution Company Limited 4390","Hearst Power Distribution Company Limited","4390","Miscellaneous Non-Operating Income",0,0,0,0,-223.23,null,"Hearst Power Distribution Company Limited 4390"]
["Hearst Power Distribution Company Limited 4395","Hearst Power Distribution Company Limited","4395","Rate-Payer Benefit Including Interest",0,0,0,0,0,null,"Hearst Power Distribution Company Limited 4395"]
["Hearst Power Distribution Company Limited 4398","Hearst Power Distribution Company Limited","4398","Foreign Exchange Gains and Losses, Including Amortization",0,0,0,0,0,null,"Hearst Power Distribution Company Limited 4398"]
["Hearst Power Distribution Company Limited 4405","Hearst Power Distribution Company Limited","4405","Interest and Dividend Income",-82977.929999999993,-83465.14,-70363.33,-80552.06,-63024.91,null,"Hearst Power Distribution Company Limited 4405"]
["Hearst Power Distribution Company Limited 4410","Hearst Power Distribution Company Limited","4410","Lessor's Net Investment in Finance Lease",0,0,0,0,0,null,"Hearst Power Distribution Company Limited 4410"]
["Hearst Power Distribution Company Limited 4415","Hearst Power Distribution Company Limited","4415","Equity in Earnings of Subsidiary Companies",0,0,0,0,0,null,"Hearst Power Distribution Company Limited 4415"]
["Hearst Power Distribution Company Limited 4420","Hearst Power Distribution Company Limited","4420","Share of Profit or Loss of Joint Venture",0,0,0,0,0,null,"Hearst Power Distribution Company Limited 4420"]
["Hearst Power Distribution Company Limited Total ","Hearst Power Distribution Company Limited Total",null,null,-183058.83,-167562.14000000001,-289144.17,-299730.25,-253267.81,null,"Hearst Power Distribution Company Limited Total "]
["Horizon Utilities Corporation 4082","Horizon Utilities Corporation","4082","Retail Services Revenues",-151392.79999999999,null,null,null,null,null,"Horizon Utilities Corporation 4082"]
["Horizon Utilities Corporation 4084","Horizon Utilities Corporation","4084","Service Transaction Requests (STR) Revenues",0,null,null,null,null,null,"Horizon Utilities Corporation 4084"]
["Horizon Utilities Corporation 4086","Horizon Utilities Corporation","4086","SSS Administration Revenue",0,null,null,null,null,null,"Horizon Utilities Corporation 4086"]
["Horizon Utilities Corporation 4090","Horizon Utilities Corporation","4090","Electric Services Incidental to Energy Sales",0,null,null,null,null,null,"Horizon Utilities Corporation 4090"]
["Horizon Utilities Corporation 4205","Horizon Utilities Corporation","4205","Interdepartmental Rents",0,null,null,null,null,null,"Horizon Utilities Corporation 4205"]
["Horizon Utilities Corporation 4210","Horizon Utilities Corporation","4210","Rent from Electric Property",-1528998.53,null,null,null,null,null,"Horizon Utilities Corporation 4210"]
["Horizon Utilities Corporation 4215","Horizon Utilities Corporation","4215","Other Utility Operating Income",0,null,null,null,null,null,"Horizon Utilities Corporation 4215"]
["Horizon Utilities Corporation 4220","Horizon Utilities Corporation","4220","Other Electric Revenues",-16800,null,null,null,null,null,"Horizon Utilities Corporation 4220"]
["Horizon Utilities Corporation 4225","Horizon Utilities Corporation","4225","Late Payment Charges",-967718.11,null,null,null,null,null,"Horizon Utilities Corporation 4225"]
["Horizon Utilities Corporation 4230","Horizon Utilities Corporation","4230","Sales of Water and Water Power",0,null,null,null,null,null,"Horizon Utilities Corporation 4230"]
["Horizon Utilities Corporation 4235","Horizon Utilities Corporation","4235","Miscellaneous Service Revenues",-1429380.03,null,null,null,null,null,"Horizon Utilities Corporation 4235"]
["Horizon Utilities Corporation 4240","Horizon Utilities Corporation","4240","Provision for Rate Refunds",0,null,null,null,null,null,"Horizon Utilities Corporation 4240"]
["Horizon Utilities Corporation 4245","Horizon Utilities Corporation","4245","Government and Other Assistance Directly Credited to Income",-933365.86,null,null,null,null,null,"Horizon Utilities Corporation 4245"]
["Horizon Utilities Corporation 4305","Horizon Utilities Corporation","4305","Regulatory Debits",0,null,null,null,null,null,"Horizon Utilities Corporation 4305"]
["Horizon Utilities Corporation 4310","Horizon Utilities Corporation","4310","Regulatory Credits",-83658.25,null,null,null,null,null,{"$f":"B1222 & \" \" &C1222","v":"Horizon Utilities Corporation 4310"}]
["Horizon Utilities Corporation 4315","Horizon Utilities Corporation","4315","Revenues from Electric Plant Leased to Others",0,null,null,null,null,null,"Horizon Utilities Corporation 4315"]
["Horizon Utilities Corporation 4320","Horizon Utilities Corporation","4320","Expenses of Electric Plant Leased to Others",0,null,null,null,null,null,"Horizon Utilities Corporation 4320"]
["Horizon Utilities Corporation 4325","Horizon Utilities Corporation","4325","Revenues from Merchandise",-400502.59,null,null,null,null,null,"Horizon Utilities Corporation 4325"]
["Horizon Utilities Corporation 4330","Horizon Utilities Corporation","4330","Costs and Expenses of Merchandising",0,null,null,null,null,null,"Horizon Utilities Corporation 4330"]
["Horizon Utilities Corporation 4335","Horizon Utilities Corporation","4335","Profits and Losses from Financial Instrument Hedges",0,null,null,null,null,null,"Horizon Utilities Corporation 4335"]
["Horizon Utilities Corporation 4340","Horizon Utilities Corporation","4340","Profits and Losses from Financial Instrument Investments",0,null,null,null,null,null,"Horizon Utilities Corporation 4340"]
["Horizon Utilities Corporation 4345","Horizon Utilities Corporation","4345","Gains from Disposition of Future Use Utility Plant",0,null,null,null,null,null,"Horizon Utilities Corporation 4345"]
["Horizon Utilities Corporation 4350","Horizon Utilities Corporation","4350","Losses from Disposition of Future Use Utility Plant",0,null,null,null,null,null,"Horizon Utilities Corporation 4350"]
["Horizon Utilities Corporation 4355","Horizon Utilities Corporation","4355","Gain on Disposition of Utility and Other Property",-280768.84999999998,null,null,null,null,null,"Horizon Utilities Corporation 4355"]
["Horizon Utilities Corporation 4357","Horizon Utilities Corporation","4357","Gain from Retirement of Utility and Other Property",0,null,null,null,null,null,"Horizon Utilities Corporation 4357"]
["Horizon Utilities Corporation 4360","Horizon Utilities Corporation","4360","Loss on Disposition of Utility and Other Property",0,null,null,null,null,null,"Horizon Utilities Corporation 4360"]
["Horizon Utilities Corporation 4362","Horizon Utilities Corporation","4362","Loss from Retirement of Utility and Other Property",2395714.15,null,null,null,null,null,"Horizon Utilities Corporation 4362"]
["Horizon Utilities Corporation 4365","Horizon Utilities Corporation","4365","Gains from Disposition of Allowances for Emission",0,null,null,null,null,null,"Horizon Utilities Corporation 4365"]
["Horizon Utilities Corporation 4370","Horizon Utilities Corporation","4370","Losses from Disposition of Allowances for Emission",0,null,null,null,null,null,"Horizon Utilities Corporation 4370"]
["Horizon Utilities Corporation 4375","Horizon Utilities Corporation","4375","Revenues from Non Rate-Regulated Utility Operations",-440900.64,null,null,null,null,null,"Horizon Utilities Corporation 4375"]
["Horizon Utilities Corporation 4375","Horizon Utilities Corporation","4375","Sub-account Generation Facility Revenues",0,null,null,null,null,null,"Horizon Utilities Corporation 4375"]
["Horizon Utilities Corporation 4380","Horizon Utilities Corporation","4380","Expenses of Non Rate-Regulated Utility Operations",0,null,null,null,null,null,"Horizon Utilities Corporation 4380"]
["Horizon Utilities Corporation 4380","Horizon Utilities Corporation","4380","Sub-account Generation Facility Expenses",0,null,null,null,null,null,"Horizon Utilities Corporation 4380"]
["Horizon Utilities Corporation 4385","Horizon Utilities Corporation","4385","Non Rate-Regulated Utility Rental Income",0,null,null,null,null,null,"Horizon Utilities Corporation 4385"]
["Horizon Utilities Corporation 4390","Horizon Utilities Corporation","4390","Miscellaneous Non-Operating Income",-639918.82999999996,null,null,null,null,null,"Horizon Utilities Corporation 4390"]
["Horizon Utilities Corporation 4395","Horizon Utilities Corporation","4395","Rate-Payer Benefit Including Interest",0,null,null,null,null,null,"Horizon Utilities Corporation 4395"]
["Horizon Utilities Corporation 4398","Horizon Utilities Corporation","4398","Foreign Exchange Gains and Losses, Including Amortization",0,null,null,null,null,null,"Horizon Utilities Corporation 4398"]
["Horizon Utilities Corporation 4405","Horizon Utilities Corporation","4405","Interest and Dividend Income",-281411.34000000003,null,null,null,null,null,"Horizon Utilities Corporation 4405"]
["Horizon Utilities Corporation 4410","Horizon Utilities Corporation","4410","Lessor's Net Investment in Finance Lease",0,null,null,null,null,null,"Horizon Utilities Corporation 4410"]
["Horizon Utilities Corporation 4415","Horizon Utilities Corporation","4415","Equity in Earnings of Subsidiary Companies",0,null,null,null,null,null,"Horizon Utilities Corporation 4415"]
["Horizon Utilities Corporation 4420","Horizon Utilities Corporation","4420","Share of Profit or Loss of Joint Venture",0,null,null,null,null,null,"Horizon Utilities Corporation 4420"]
["Horizon Utilities Corporation Total ","Horizon Utilities Corporation Total",null,null,-4759101.68,null,null,null,null,null,"Horizon Utilities Corporation Total "]
["Hydro 2000 Inc. 4082","Hydro 2000 Inc.","4082","Retail Services Revenues",-2080,-5760.93,-5758.06,-3563.2,-3345.78,null,"Hydro 2000 Inc. 4082"]
["Hydro 2000 Inc. 4084","Hydro 2000 Inc.","4084","Service Transaction Requests (STR) Revenues",-1.5,-0.25,0,-1,-0.51,null,"Hydro 2000 Inc. 4084"]
["Hydro 2000 Inc. 4086","Hydro 2000 Inc.","4086","SSS Administration Revenue",-3631.16,0,0,-3680.96,-3741.8,null,"Hydro 2000 Inc. 4086"]
["Hydro 2000 Inc. 4090","Hydro 2000 Inc.","4090","Electric Services Incidental to Energy Sales",0,0,0,0,0,null,"Hydro 2000 Inc. 4090"]
["Hydro 2000 Inc. 4205","Hydro 2000 Inc.","4205","Interdepartmental Rents",0,0,0,0,0,null,"Hydro 2000 Inc. 4205"]
["Hydro 2000 Inc. 4210","Hydro 2000 Inc.","4210","Rent from Electric Property",-4872.3,-5209.95,-18984.91,-15856.92,-15076.14,null,"Hydro 2000 Inc. 4210"]
["Hydro 2000 Inc. 4215","Hydro 2000 Inc.","4215","Other Utility Operating Income",0,0,0,0,0,null,"Hydro 2000 Inc. 4215"]
["Hydro 2000 Inc. 4220","Hydro 2000 Inc.","4220","Other Electric Revenues",0,0,0,-19365.05,0,null,"Hydro 2000 Inc. 4220"]
["Hydro 2000 Inc. 4225","Hydro 2000 Inc.","4225","Late Payment Charges",-10384.85,-10604.1,-7952.79,-5452.84,-6178.69,null,"Hydro 2000 Inc. 4225"]
["Hydro 2000 Inc. 4230","Hydro 2000 Inc.","4230","Sales of Water and Water Power",0,0,0,0,0,null,"Hydro 2000 Inc. 4230"]
["Hydro 2000 Inc. 4235","Hydro 2000 Inc.","4235","Miscellaneous Service Revenues",-15136.86,-7243.1,-19683.22,-5306.66,-3637.2,null,"Hydro 2000 Inc. 4235"]
["Hydro 2000 Inc. 4240","Hydro 2000 Inc.","4240","Provision for Rate Refunds",0,0,0,0,0,null,"Hydro 2000 Inc. 4240"]
["Hydro 2000 Inc. 4245","Hydro 2000 Inc.","4245","Government and Other Assistance Directly Credited to Income",0,0,0,0,0,null,"Hydro 2000 Inc. 4245"]
["Hydro 2000 Inc. 4305","Hydro 2000 Inc.","4305","Regulatory Debits",0,0,0,0,0,null,"Hydro 2000 Inc. 4305"]
["Hydro 2000 Inc. 4310","Hydro 2000 Inc.","4310","Regulatory Credits",0,0,0,0,0,null,"Hydro 2000 Inc. 4310"]
["Hydro 2000 Inc. 4315","Hydro 2000 Inc.","4315","Revenues from Electric Plant Leased to Others",0,0,0,0,0,null,"Hydro 2000 Inc. 4315"]
["Hydro 2000 Inc. 4320","Hydro 2000 Inc.","4320","Expenses of Electric Plant Leased to Others",0,0,0,0,0,null,"Hydro 2000 Inc. 4320"]
["Hydro 2000 Inc. 4325","Hydro 2000 Inc.","4325","Revenues from Merchandise",-2400,0,0,-7299.26,-15729.75,null,"Hydro 2000 Inc. 4325"]
["Hydro 2000 Inc. 4330","Hydro 2000 Inc.","4330","Costs and Expenses of Merchandising",2750,0,0,7299.25,15729.75,null,"Hydro 2000 Inc. 4330"]
["Hydro 2000 Inc. 4335","Hydro 2000 Inc.","4335","Profits and Losses from Financial Instrument Hedges",0,0,0,0,0,null,"Hydro 2000 Inc. 4335"]
["Hydro 2000 Inc. 4340","Hydro 2000 Inc.","4340","Profits and Losses from Financial Instrument Investments",0,0,0,0,0,null,"Hydro 2000 Inc. 4340"]
["Hydro 2000 Inc. 4345","Hydro 2000 Inc.","4345","Gains from Disposition of Future Use Utility Plant",0,0,0,0,0,null,"Hydro 2000 Inc. 4345"]
["Hydro 2000 Inc. 4350","Hydro 2000 Inc.","4350","Losses from Disposition of Future Use Utility Plant",0,0,0,0,0,null,"Hydro 2000 Inc. 4350"]
["Hydro 2000 Inc. 4355","Hydro 2000 Inc.","4355","Gain on Disposition of Utility and Other Property",0,0,0,0,0,null,"Hydro 2000 Inc. 4355"]
["Hydro 2000 Inc. 4357","Hydro 2000 Inc.","4357","Gain from Retirement of Utility and Other Property",0,0,0,0,0,null,"Hydro 2000 Inc. 4357"]
["Hydro 2000 Inc. 4360","Hydro 2000 Inc.","4360","Loss on Disposition of Utility and Other Property",6441.51,1778.7,5517.07,8081.02,1992.1,null,"Hydro 2000 Inc. 4360"]
["Hydro 2000 Inc. 4362","Hydro 2000 Inc.","4362","Loss from Retirement of Utility and Other Property",0,0,0,0,0,null,"Hydro 2000 Inc. 4362"]
["Hydro 2000 Inc. 4365","Hydro 2000 Inc.","4365","Gains from Disposition of Allowances for Emission",0,0,0,0,0,null,"Hydro 2000 Inc. 4365"]
["Hydro 2000 Inc. 4370","Hydro 2000 Inc.","4370","Losses from Disposition of Allowances for Emission",0,0,0,0,0,null,"Hydro 2000 Inc. 4370"]
["Hydro 2000 Inc. 4375","Hydro 2000 Inc.","4375","Revenues from Non Rate-Regulated Utility Operations",-41393.620000000003,-19744.88,-29687.49,-28135.61,-3584.5,null,"Hydro 2000 Inc. 4375"]
["Hydro 2000 Inc. 4375","Hydro 2000 Inc.","4375","Sub-account Generation Facility Revenues",0,0,0,0,0,null,"Hydro 2000 Inc. 4375"]
["Hydro 2000 Inc. 4380","Hydro 2000 Inc.","4380","Expenses of Non Rate-Regulated Utility Operations",31456.01,18531.87,29844.93,28135.61,3584.5,null,"Hydro 2000 Inc. 4380"]
["Hydro 2000 Inc. 4380","Hydro 2000 Inc.","4380","Sub-account Generation Facility Expenses",0,0,0,0,0,null,"Hydro 2000 Inc. 4380"]
["Hydro 2000 Inc. 4385","Hydro 2000 Inc.","4385","Non Rate-Regulated Utility Rental Income",-6538.5,-5874.02,1460.98,-2000,0,null,"Hydro 2000 Inc. 4385"]
["Hydro 2000 Inc. 4390","Hydro 2000 Inc.","4390","Miscellaneous Non-Operating Income",-2135.42,0,-597.5,-1856.66,-13853.46,null,"Hydro 2000 Inc. 4390"]
["Hydro 2000 Inc. 4395","Hydro 2000 Inc.","4395","Rate-Payer Benefit Including Interest",0,0,0,0,0,null,"Hydro 2000 Inc. 4395"]
["Hydro 2000 Inc. 4398","Hydro 2000 Inc.","4398","Foreign Exchange Gains and Losses, Including Amortization",0,0,0,0,0,null,{"$f":"B1286 & \" \" &C1286","v":"Hydro 2000 Inc. 4398"}]
["Hydro 2000 Inc. 4405","Hydro 2000 Inc.","4405","Interest and Dividend Income",-6584.16,-7993.42,-13059.33,-17107.36,-7434.84,null,"Hydro 2000 Inc. 4405"]
["Hydro 2000 Inc. 4410","Hydro 2000 Inc.","4410","Lessor's Net Investment in Finance Lease",0,0,0,0,0,null,"Hydro 2000 Inc. 4410"]
["Hydro 2000 Inc. 4415","Hydro 2000 Inc.","4415","Equity in Earnings of Subsidiary Companies",0,0,0,0,0,null,"Hydro 2000 Inc. 4415"]
["Hydro 2000 Inc. 4420","Hydro 2000 Inc.","4420","Share of Profit or Loss of Joint Venture",0,0,0,0,0,null,"Hydro 2000 Inc. 4420"]
["Hydro 2000 Inc. Total ","Hydro 2000 Inc. Total",null,null,-54510.85,-42120.08,-58900.32,-66109.64,-51276.32,null,"Hydro 2000 Inc. Total "]
["Hydro Hawkesbury Inc. 4082","Hydro Hawkesbury Inc.","4082","Retail Services Revenues",0,0,0,0,0,null,"Hydro Hawkesbury Inc. 4082"]
["Hydro Hawkesbury Inc. 4084","Hydro Hawkesbury Inc.","4084","Service Transaction Requests (STR) Revenues",0,0,0,0,0,null,"Hydro Hawkesbury Inc. 4084"]
["Hydro Hawkesbury Inc. 4086","Hydro Hawkesbury Inc.","4086","SSS Administration Revenue",0,0,0,0,0,null,"Hydro Hawkesbury Inc. 4086"]
["Hydro Hawkesbury Inc. 4090","Hydro Hawkesbury Inc.","4090","Electric Services Incidental to Energy Sales",0,0,0,0,0,null,"Hydro Hawkesbury Inc. 4090"]
["Hydro Hawkesbury Inc. 4205","Hydro Hawkesbury Inc.","4205","Interdepartmental Rents",0,0,0,0,0,null,"Hydro Hawkesbury Inc. 4205"]
["Hydro Hawkesbury Inc. 4210","Hydro Hawkesbury Inc.","4210","Rent from Electric Property",-26790.7,-35114.99,-44902.74,-17387.849999999999,-14179.74,null,"Hydro Hawkesbury Inc. 4210"]
["Hydro Hawkesbury Inc. 4215","Hydro Hawkesbury Inc.","4215","Other Utility Operating Income",0,0,0,0,0,null,"Hydro Hawkesbury Inc. 4215"]
["Hydro Hawkesbury Inc. 4220","Hydro Hawkesbury Inc.","4220","Other Electric Revenues",0,0,0,0,0,null,"Hydro Hawkesbury Inc. 4220"]
["Hydro Hawkesbury Inc. 4225","Hydro Hawkesbury Inc.","4225","Late Payment Charges",-29444.89,-28240.78,-22900.959999999999,-26691.61,-30972.240000000002,null,"Hydro Hawkesbury Inc. 4225"]
["Hydro Hawkesbury Inc. 4230","Hydro Hawkesbury Inc.","4230","Sales of Water and Water Power",0,0,0,0,0,null,"Hydro Hawkesbury Inc. 4230"]
["Hydro Hawkesbury Inc. 4235","Hydro Hawkesbury Inc.","4235","Miscellaneous Service Revenues",-64302.879999999997,-57912.54,-80771.09,-49033.95,-63277.42,null,"Hydro Hawkesbury Inc. 4235"]
["Hydro Hawkesbury Inc. 4240","Hydro Hawkesbury Inc.","4240","Provision for Rate Refunds",0,0,0,0,0,null,"Hydro Hawkesbury Inc. 4240"]
["Hydro Hawkesbury Inc. 4245","Hydro Hawkesbury Inc.","4245","Government and Other Assistance Directly Credited to Income",0,0,0,0,0,null,"Hydro Hawkesbury Inc. 4245"]
["Hydro Hawkesbury Inc. 4305","Hydro Hawkesbury Inc.","4305","Regulatory Debits",0,0,0,0,0,null,"Hydro Hawkesbury Inc. 4305"]
["Hydro Hawkesbury Inc. 4310","Hydro Hawkesbury Inc.","4310","Regulatory Credits",0,0,0,0,0,null,"Hydro Hawkesbury Inc. 4310"]
["Hydro Hawkesbury Inc. 4315","Hydro Hawkesbury Inc.","4315","Revenues from Electric Plant Leased to Others",0,0,0,0,0,null,"Hydro Hawkesbury Inc. 4315"]
["Hydro Hawkesbury Inc. 4320","Hydro Hawkesbury Inc.","4320","Expenses of Electric Plant Leased to Others",0,0,0,0,0,null,"Hydro Hawkesbury Inc. 4320"]
["Hydro Hawkesbury Inc. 4325","Hydro Hawkesbury Inc.","4325","Revenues from Merchandise",-33006.730000000003,-48680.21,-58353.73,-43643.96,-200685.77,null,"Hydro Hawkesbury Inc. 4325"]
["Hydro Hawkesbury Inc. 4330","Hydro Hawkesbury Inc.","4330","Costs and Expenses of Merchandising",26809.86,37870.47,36236.92,35458.75,171728.69,null,"Hydro Hawkesbury Inc. 4330"]
["Hydro Hawkesbury Inc. 4335","Hydro Hawkesbury Inc.","4335","Profits and Losses from Financial Instrument Hedges",0,0,0,0,0,null,"Hydro Hawkesbury Inc. 4335"]
["Hydro Hawkesbury Inc. 4340","Hydro Hawkesbury Inc.","4340","Profits and Losses from Financial Instrument Investments",0,0,0,0,0,null,"Hydro Hawkesbury Inc. 4340"]
["Hydro Hawkesbury Inc. 4345","Hydro Hawkesbury Inc.","4345","Gains from Disposition of Future Use Utility Plant",0,0,0,0,0,null,"Hydro Hawkesbury Inc. 4345"]
["Hydro Hawkesbury Inc. 4350","Hydro Hawkesbury Inc.","4350","Losses from Disposition of Future Use Utility Plant",0,0,0,0,0,null,"Hydro Hawkesbury Inc. 4350"]
["Hydro Hawkesbury Inc. 4355","Hydro Hawkesbury Inc.","4355","Gain on Disposition of Utility and Other Property",0,0,-46234,0,0,null,"Hydro Hawkesbury Inc. 4355"]
["Hydro Hawkesbury Inc. 4357","Hydro Hawkesbury Inc.","4357","Gain from Retirement of Utility and Other Property",0,0,0,0,0,null,"Hydro Hawkesbury Inc. 4357"]
["Hydro Hawkesbury Inc. 4360","Hydro Hawkesbury Inc.","4360","Loss on Disposition of Utility and Other Property",6186.81,0,-0.02,3982.91,486.72,null,"Hydro Hawkesbury Inc. 4360"]
["Hydro Hawkesbury Inc. 4362","Hydro Hawkesbury Inc.","4362","Loss from Retirement of Utility and Other Property",0,0,0,0,0,null,"Hydro Hawkesbury Inc. 4362"]
["Hydro Hawkesbury Inc. 4365","Hydro Hawkesbury Inc.","4365","Gains from Disposition of Allowances for Emission",0,0,0,0,0,null,"Hydro Hawkesbury Inc. 4365"]
["Hydro Hawkesbury Inc. 4370","Hydro Hawkesbury Inc.","4370","Losses from Disposition of Allowances for Emission",0,0,0,0,0,null,"Hydro Hawkesbury Inc. 4370"]
["Hydro Hawkesbury Inc. 4375","Hydro Hawkesbury Inc.","4375","Revenues from Non Rate-Regulated Utility Operations",-307341.57,-144477.79,-223374.54,-103553.27,-2412.9499999999998,null,"Hydro Hawkesbury Inc. 4375"]
["Hydro Hawkesbury Inc. 4375","Hydro Hawkesbury Inc.","4375","Sub-account Generation Facility Revenues",0,0,0,0,0,null,"Hydro Hawkesbury Inc. 4375"]
["Hydro Hawkesbury Inc. 4380","Hydro Hawkesbury Inc.","4380","Expenses of Non Rate-Regulated Utility Operations",223797.72,150145.78,219271.44,142015.29999999999,7865,null,"Hydro Hawkesbury Inc. 4380"]
["Hydro Hawkesbury Inc. 4380","Hydro Hawkesbury Inc.","4380","Sub-account Generation Facility Expenses",0,0,0,0,0,null,"Hydro Hawkesbury Inc. 4380"]
["Hydro Hawkesbury Inc. 4385","Hydro Hawkesbury Inc.","4385","Non Rate-Regulated Utility Rental Income",0,0,0,0,0,null,"Hydro Hawkesbury Inc. 4385"]
["Hydro Hawkesbury Inc. 4390","Hydro Hawkesbury Inc.","4390","Miscellaneous Non-Operating Income",-1269.3800000000001,-1074.79,-97.34,-44.25,0,null,"Hydro Hawkesbury Inc. 4390"]
["Hydro Hawkesbury Inc. 4395","Hydro Hawkesbury Inc.","4395","Rate-Payer Benefit Including Interest",0,0,0,0,0,null,"Hydro Hawkesbury Inc. 4395"]
["Hydro Hawkesbury Inc. 4398","Hydro Hawkesbury Inc.","4398","Foreign Exchange Gains and Losses, Including Amortization",0,0,0,0,0,null,"Hydro Hawkesbury Inc. 4398"]
["Hydro Hawkesbury Inc. 4405","Hydro Hawkesbury Inc.","4405","Interest and Dividend Income",-8175.3,-26875.42,-32373.09,-40466.83,-12574.93,null,"Hydro Hawkesbury Inc. 4405"]
["Hydro Hawkesbury Inc. 4410","Hydro Hawkesbury Inc.","4410","Lessor's Net Investment in Finance Lease",0,0,0,0,0,null,"Hydro Hawkesbury Inc. 4410"]
["Hydro Hawkesbury Inc. 4415","Hydro Hawkesbury Inc.","4415","Equity in Earnings of Subsidiary Companies",0,0,0,0,0,null,"Hydro Hawkesbury Inc. 4415"]
["Hydro Hawkesbury Inc. 4420","Hydro Hawkesbury Inc.","4420","Share of Profit or Loss of Joint Venture",0,0,0,0,0,null,"Hydro Hawkesbury Inc. 4420"]
["Hydro Hawkesbury Inc. Total ","Hydro Hawkesbury Inc. Total",null,null,-213537.06,-154360.26999999999,-253499.15,-99364.76,-144022.64000000001,null,"Hydro Hawkesbury Inc. Total "]
["Hydro One Brampton Networks Inc. 4082","Hydro One Brampton Networks Inc.","4082","Retail Services Revenues",-110142.45,null,null,null,null,null,"Hydro One Brampton Networks Inc. 4082"]
["Hydro One Brampton Networks Inc. 4084","Hydro One Brampton Networks Inc.","4084","Service Transaction Requests (STR) Revenues",-2286.5,null,null,null,null,null,"Hydro One Brampton Networks Inc. 4084"]
["Hydro One Brampton Networks Inc. 4086","Hydro One Brampton Networks Inc.","4086","SSS Administration Revenue",0,null,null,null,null,null,"Hydro One Brampton Networks Inc. 4086"]
["Hydro One Brampton Networks Inc. 4090","Hydro One Brampton Networks Inc.","4090","Electric Services Incidental to Energy Sales",5381.58,null,null,null,null,null,"Hydro One Brampton Networks Inc. 4090"]
["Hydro One Brampton Networks Inc. 4205","Hydro One Brampton Networks Inc.","4205","Interdepartmental Rents",0,null,null,null,null,null,"Hydro One Brampton Networks Inc. 4205"]
["Hydro One Brampton Networks Inc. 4210","Hydro One Brampton Networks Inc.","4210","Rent from Electric Property",-453891.63,null,null,null,null,null,"Hydro One Brampton Networks Inc. 4210"]
["Hydro One Brampton Networks Inc. 4215","Hydro One Brampton Networks Inc.","4215","Other Utility Operating Income",0,null,null,null,null,null,"Hydro One Brampton Networks Inc. 4215"]
["Hydro One Brampton Networks Inc. 4220","Hydro One Brampton Networks Inc.","4220","Other Electric Revenues",0,null,null,null,null,null,"Hydro One Brampton Networks Inc. 4220"]
["Hydro One Brampton Networks Inc. 4225","Hydro One Brampton Networks Inc.","4225","Late Payment Charges",-1621317.16,null,null,null,null,null,"Hydro One Brampton Networks Inc. 4225"]
["Hydro One Brampton Networks Inc. 4230","Hydro One Brampton Networks Inc.","4230","Sales of Water and Water Power",0,null,null,null,null,null,"Hydro One Brampton Networks Inc. 4230"]
["Hydro One Brampton Networks Inc. 4235","Hydro One Brampton Networks Inc.","4235","Miscellaneous Service Revenues",-1770532.67,null,null,null,null,null,"Hydro One Brampton Networks Inc. 4235"]
["Hydro One Brampton Networks Inc. 4240","Hydro One Brampton Networks Inc.","4240","Provision for Rate Refunds",0,null,null,null,null,null,"Hydro One Brampton Networks Inc. 4240"]
["Hydro One Brampton Networks Inc. 4245","Hydro One Brampton Networks Inc.","4245","Government and Other Assistance Directly Credited to Income",-735610.02,null,null,null,null,null,"Hydro One Brampton Networks Inc. 4245"]
["Hydro One Brampton Networks Inc. 4305","Hydro One Brampton Networks Inc.","4305","Regulatory Debits",-1555642.82,null,null,null,null,null,"Hydro One Brampton Networks Inc. 4305"]
["Hydro One Brampton Networks Inc. 4310","Hydro One Brampton Networks Inc.","4310","Regulatory Credits",0,null,null,null,null,null,"Hydro One Brampton Networks Inc. 4310"]
["Hydro One Brampton Networks Inc. 4315","Hydro One Brampton Networks Inc.","4315","Revenues from Electric Plant Leased to Others",0,null,null,null,null,null,"Hydro One Brampton Networks Inc. 4315"]
["Hydro One Brampton Networks Inc. 4320","Hydro One Brampton Networks Inc.","4320","Expenses of Electric Plant Leased to Others",0,null,null,null,null,null,{"$f":"B1350 & \" \" &C1350","v":"Hydro One Brampton Networks Inc. 4320"}]
["Hydro One Brampton Networks Inc. 4325","Hydro One Brampton Networks Inc.","4325","Revenues from Merchandise",0,null,null,null,null,null,"Hydro One Brampton Networks Inc. 4325"]
["Hydro One Brampton Networks Inc. 4330","Hydro One Brampton Networks Inc.","4330","Costs and Expenses of Merchandising",0,null,null,null,null,null,"Hydro One Brampton Networks Inc. 4330"]
["Hydro One Brampton Networks Inc. 4335","Hydro One Brampton Networks Inc.","4335","Profits and Losses from Financial Instrument Hedges",0,null,null,null,null,null,"Hydro One Brampton Networks Inc. 4335"]
["Hydro One Brampton Networks Inc. 4340","Hydro One Brampton Networks Inc.","4340","Profits and Losses from Financial Instrument Investments",0,null,null,null,null,null,"Hydro One Brampton Networks Inc. 4340"]
["Hydro One Brampton Networks Inc. 4345","Hydro One Brampton Networks Inc.","4345","Gains from Disposition of Future Use Utility Plant",0,null,null,null,null,null,"Hydro One Brampton Networks Inc. 4345"]
["Hydro One Brampton Networks Inc. 4350","Hydro One Brampton Networks Inc.","4350","Losses from Disposition of Future Use Utility Plant",0,null,null,null,null,null,"Hydro One Brampton Networks Inc. 4350"]
["Hydro One Brampton Networks Inc. 4355","Hydro One Brampton Networks Inc.","4355","Gain on Disposition of Utility and Other Property",0,null,null,null,null,null,"Hydro One Brampton Networks Inc. 4355"]
["Hydro One Brampton Networks Inc. 4357","Hydro One Brampton Networks Inc.","4357","Gain from Retirement of Utility and Other Property",0,null,null,null,null,null,"Hydro One Brampton Networks Inc. 4357"]
["Hydro One Brampton Networks Inc. 4360","Hydro One Brampton Networks Inc.","4360","Loss on Disposition of Utility and Other Property",71169.64,null,null,null,null,null,"Hydro One Brampton Networks Inc. 4360"]
["Hydro One Brampton Networks Inc. 4362","Hydro One Brampton Networks Inc.","4362","Loss from Retirement of Utility and Other Property",665191.98,null,null,null,null,null,"Hydro One Brampton Networks Inc. 4362"]
["Hydro One Brampton Networks Inc. 4365","Hydro One Brampton Networks Inc.","4365","Gains from Disposition of Allowances for Emission",0,null,null,null,null,null,"Hydro One Brampton Networks Inc. 4365"]
["Hydro One Brampton Networks Inc. 4370","Hydro One Brampton Networks Inc.","4370","Losses from Disposition of Allowances for Emission",0,null,null,null,null,null,"Hydro One Brampton Networks Inc. 4370"]
["Hydro One Brampton Networks Inc. 4375","Hydro One Brampton Networks Inc.","4375","Revenues from Non Rate-Regulated Utility Operations",171122.3,null,null,null,null,null,"Hydro One Brampton Networks Inc. 4375"]
["Hydro One Brampton Networks Inc. 4375","Hydro One Brampton Networks Inc.","4375","Sub-account Generation Facility Revenues",0,null,null,null,null,null,"Hydro One Brampton Networks Inc. 4375"]
["Hydro One Brampton Networks Inc. 4380","Hydro One Brampton Networks Inc.","4380","Expenses of Non Rate-Regulated Utility Operations",0,null,null,null,null,null,"Hydro One Brampton Networks Inc. 4380"]
["Hydro One Brampton Networks Inc. 4380","Hydro One Brampton Networks Inc.","4380","Sub-account Generation Facility Expenses",0,null,null,null,null,null,"Hydro One Brampton Networks Inc. 4380"]
["Hydro One Brampton Networks Inc. 4385","Hydro One Brampton Networks Inc.","4385","Non Rate-Regulated Utility Rental Income",0,null,null,null,null,null,"Hydro One Brampton Networks Inc. 4385"]
["Hydro One Brampton Networks Inc. 4390","Hydro One Brampton Networks Inc.","4390","Miscellaneous Non-Operating Income",-109668.22,null,null,null,null,null,"Hydro One Brampton Networks Inc. 4390"]
["Hydro One Brampton Networks Inc. 4395","Hydro One Brampton Networks Inc.","4395","Rate-Payer Benefit Including Interest",0,null,null,null,null,null,"Hydro One Brampton Networks Inc. 4395"]
["Hydro One Brampton Networks Inc. 4398","Hydro One Brampton Networks Inc.","4398","Foreign Exchange Gains and Losses, Including Amortization",0,null,null,null,null,null,"Hydro One Brampton Networks Inc. 4398"]
["Hydro One Brampton Networks Inc. 4405","Hydro One Brampton Networks Inc.","4405","Interest and Dividend Income",-491620.2,null,null,null,null,null,"Hydro One Brampton Networks Inc. 4405"]
["Hydro One Brampton Networks Inc. 4410","Hydro One Brampton Networks Inc.","4410","Lessor's Net Investment in Finance Lease",0,null,null,null,null,null,"Hydro One Brampton Networks Inc. 4410"]
["Hydro One Brampton Networks Inc. 4415","Hydro One Brampton Networks Inc.","4415","Equity in Earnings of Subsidiary Companies",0,null,null,null,null,null,"Hydro One Brampton Networks Inc. 4415"]
["Hydro One Brampton Networks Inc. 4420","Hydro One Brampton Networks Inc.","4420","Share of Profit or Loss of Joint Venture",0,null,null,null,null,null,"Hydro One Brampton Networks Inc. 4420"]
["Hydro One Brampton Networks Inc. Total ","Hydro One Brampton Networks Inc. Total",null,null,-5937846.1699999999,null,null,null,null,null,"Hydro One Brampton Networks Inc. Total "]
["Hydro One Networks Inc. 4082","Hydro One Networks Inc.","4082","Retail Services Revenues",0,0,0,0,0,null,"Hydro One Networks Inc. 4082"]
["Hydro One Networks Inc. 4084","Hydro One Networks Inc.","4084","Service Transaction Requests (STR) Revenues",0,0,0,0,0,null,"Hydro One Networks Inc. 4084"]
["Hydro One Networks Inc. 4086","Hydro One Networks Inc.","4086","SSS Administration Revenue",-3750925.18,-3853923.99,-3922884.62,-3966489.55,-4018601.59,null,"Hydro One Networks Inc. 4086"]
["Hydro One Networks Inc. 4090","Hydro One Networks Inc.","4090","Electric Services Incidental to Energy Sales",0,0,0,0,0,null,"Hydro One Networks Inc. 4090"]
["Hydro One Networks Inc. 4205","Hydro One Networks Inc.","4205","Interdepartmental Rents",0,0,0,0,0,null,"Hydro One Networks Inc. 4205"]
["Hydro One Networks Inc. 4210","Hydro One Networks Inc.","4210","Rent from Electric Property",0,0,0,0,0,null,"Hydro One Networks Inc. 4210"]
["Hydro One Networks Inc. 4215","Hydro One Networks Inc.","4215","Other Utility Operating Income",0,0,0,0,0,null,"Hydro One Networks Inc. 4215"]
["Hydro One Networks Inc. 4220","Hydro One Networks Inc.","4220","Other Electric Revenues",0,0,0,0,0,null,"Hydro One Networks Inc. 4220"]
["Hydro One Networks Inc. 4225","Hydro One Networks Inc.","4225","Late Payment Charges",-17184094.199999999,-12108516.6,-10901430.76,-11969585.08,-2640977.1,null,"Hydro One Networks Inc. 4225"]
["Hydro One Networks Inc. 4230","Hydro One Networks Inc.","4230","Sales of Water and Water Power",0,0,0,0,0,null,"Hydro One Networks Inc. 4230"]
["Hydro One Networks Inc. 4235","Hydro One Networks Inc.","4235","Miscellaneous Service Revenues",-498218.68,-443244.27,-299993.14,-294294.7,-221554.56,null,"Hydro One Networks Inc. 4235"]
["Hydro One Networks Inc. 4240","Hydro One Networks Inc.","4240","Provision for Rate Refunds",0,0,0,0,0,null,"Hydro One Networks Inc. 4240"]
["Hydro One Networks Inc. 4245","Hydro One Networks Inc.","4245","Government Assistance Directly Credited to Income",0,0,0,0,0,null,"Hydro One Networks Inc. 4245"]
["Hydro One Networks Inc. 4305","Hydro One Networks Inc.","4305","Regulatory Debits",0,0,0,0,0,null,"Hydro One Networks Inc. 4305"]
["Hydro One Networks Inc. 4310","Hydro One Networks Inc.","4310","Regulatory Credits",0,0,0,0,0,null,"Hydro One Networks Inc. 4310"]
["Hydro One Networks Inc. 4315","Hydro One Networks Inc.","4315","Revenues from Electric Plant Leased to Others",0,0,0,0,0,null,"Hydro One Networks Inc. 4315"]
["Hydro One Networks Inc. 4320","Hydro One Networks Inc.","4320","Expenses of Electric Plant Leased to Others",0,0,0,0,0,null,"Hydro One Networks Inc. 4320"]
["Hydro One Networks Inc. 4325","Hydro One Networks Inc.","4325","Revenues from Merchandise Jobbing, Etc.",-39429008.5,-40595090.659999996,-36264900.460000001,-29891264.300000001,-26858038.09,null,"Hydro One Networks Inc. 4325"]
["Hydro One Networks Inc. 4330","Hydro One Networks Inc.","4330","Costs and Expenses of Merchandising Jobbing, Etc.",0,10214186.91,10380880.35,5255073.6900000004,4123348.73,null,"Hydro One Networks Inc. 4330"]
["Hydro One Networks Inc. 4335","Hydro One Networks Inc.","4335","Profits and Losses from Financial Instrument Hedges",0,0,0,0,0,null,"Hydro One Networks Inc. 4335"]
["Hydro One Networks Inc. 4340","Hydro One Networks Inc.","4340","Profits and Losses from Financial Instrument Investments",0,0,0,0,0,null,"Hydro One Networks Inc. 4340"]
["Hydro One Networks Inc. 4345","Hydro One Networks Inc.","4345","Gains from Disposition of Future Use Utility Plant",0,0,0,0,0,null,"Hydro One Networks Inc. 4345"]
["Hydro One Networks Inc. 4350","Hydro One Networks Inc.","4350","Losses from Disposition of Future Use Utility Plant",0,0,0,0,0,null,"Hydro One Networks Inc. 4350"]
["Hydro One Networks Inc. 4355","Hydro One Networks Inc.","4355","Gain on Disposition of Utility and Other Property",-327740.65999999997,-254108.93,-1339766.9099999999,-1184144.81,-472846.47,null,"Hydro One Networks Inc. 4355"]
["Hydro One Networks Inc. 4360","Hydro One Networks Inc.","4360","Loss on Disposition of Utility and Other Property",0,0,0,0,0,null,"Hydro One Networks Inc. 4360"]
["Hydro One Networks Inc. 4365","Hydro One Networks Inc.","4365","Gains from Disposition of Allowances for Emission",0,0,0,0,0,null,"Hydro One Networks Inc. 4365"]
["Hydro One Networks Inc. 4370","Hydro One Networks Inc.","4370","Losses from Disposition of Allowances for Emission",0,0,0,0,0,null,"Hydro One Networks Inc. 4370"]
["Hydro One Networks Inc. 4375","Hydro One Networks Inc.","4375","Revenues from Non-Utility Operations",-874855.6,-9994745.8599999994,-4138519.32,0,-735608.79,null,"Hydro One Networks Inc. 4375"]
["Hydro One Networks Inc. 4375","Hydro One Networks Inc.","4375","Sub-account Generation Facility Revenues",0,0,0,0,0,null,"Hydro One Networks Inc. 4375"]
["Hydro One Networks Inc. 4380","Hydro One Networks Inc.","4380","Expenses of Non-Utility Operations",4268231.37,0,0,0,0,null,"Hydro One Networks Inc. 4380"]
["Hydro One Networks Inc. 4380","Hydro One Networks Inc.","4380","Sub-account Generation Facility Expenses",0,0,0,0,0,null,"Hydro One Networks Inc. 4380"]
["Hydro One Networks Inc. 4385","Hydro One Networks Inc.","4385","Non-Utility Rental Income",0,0,0,0,0,null,"Hydro One Networks Inc. 4385"]
["Hydro One Networks Inc. 4390","Hydro One Networks Inc.","4390","Miscellaneous Non-Operating Income",0,0,0,0,0,null,"Hydro One Networks Inc. 4390"]
["Hydro One Networks Inc. 4395","Hydro One Networks Inc.","4395","Rate-Payer Benefit Including Interest",0,0,0,21420529.239999998,14920514.48,null,"Hydro One Networks Inc. 4395"]
["Hydro One Networks Inc. 4398","Hydro One Networks Inc.","4398","Foreign Exchange Gains and Losses, Including Amortization",0,0,0,0,0,null,"Hydro One Networks Inc. 4398"]
["Hydro One Networks Inc. 4405","Hydro One Networks Inc.","4405","Interest and Dividend Income",0,0,0,0,0,null,"Hydro One Networks Inc. 4405"]
["Hydro One Networks Inc. 4415","Hydro One Networks Inc.","4415","Equity in Earnings of Subsidiary Companies",0,0,0,0,0,null,"Hydro One Networks Inc. 4415"]
["Hydro One Networks Inc. Total ","Hydro One Networks Inc. Total",null,null,-57796611.450000003,-57035443.399999999,-46486614.859999999,-20630175.510000002,-15903763.390000001,null,"Hydro One Networks Inc. Total "]
["Hydro One Networks Inc. - 1937680 Ontario Inc. (Peterborough Distribution) 4082","Hydro One Networks Inc. - 1937680 Ontario Inc. (Peterborough Distribution)","4082","Retail Services Revenues",-14317,-12698.5,-9998.5,-15337,-19116.099999999999,null,{"$f":"B1414 & \" \" &C1414","v":"Hydro One Networks Inc. - 1937680 Ontario Inc. (Peterborough Distribution) 4082"}]
["Hydro One Networks Inc. - 1937680 Ontario Inc. (Peterborough Distribution) 4084","Hydro One Networks Inc. - 1937680 Ontario Inc. (Peterborough Distribution)","4084","Service Transaction Requests (STR) Revenues",-6228.45,-5080.1000000000004,-3977.9,-5582.05,-6756.74,null,"Hydro One Networks Inc. - 1937680 Ontario Inc. (Peterborough Distribution) 4084"]
["Hydro One Networks Inc. - 1937680 Ontario Inc. (Peterborough Distribution) 4086","Hydro One Networks Inc. - 1937680 Ontario Inc. (Peterborough Distribution)","4086","SSS Administration Revenue",-105791,-105736.77,-108690.78,-110092.29,-110736.49,null,"Hydro One Networks Inc. - 1937680 Ontario Inc. (Peterborough Distribution) 4086"]
["Hydro One Networks Inc. - 1937680 Ontario Inc. (Peterborough Distribution) 4090","Hydro One Networks Inc. - 1937680 Ontario Inc. (Peterborough Distribution)","4090","Electric Services Incidental to Energy Sales",0,0,0,0,0,null,"Hydro One Networks Inc. - 1937680 Ontario Inc. (Peterborough Distribution) 4090"]
["Hydro One Networks Inc. - 1937680 Ontario Inc. (Peterborough Distribution) 4205","Hydro One Networks Inc. - 1937680 Ontario Inc. (Peterborough Distribution)","4205","Interdepartmental Rents",0,0,0,0,0,null,"Hydro One Networks Inc. - 1937680 Ontario Inc. (Peterborough Distribution) 4205"]
["Hydro One Networks Inc. - 1937680 Ontario Inc. (Peterborough Distribution) 4210","Hydro One Networks Inc. - 1937680 Ontario Inc. (Peterborough Distribution)","4210","Rent from Electric Property",-207869.51,-261172.61,-252127.35999999999,-245322.26,-244183.23,null,"Hydro One Networks Inc. - 1937680 Ontario Inc. (Peterborough Distribution) 4210"]
["Hydro One Networks Inc. - 1937680 Ontario Inc. (Peterborough Distribution) 4215","Hydro One Networks Inc. - 1937680 Ontario Inc. (Peterborough Distribution)","4215","Other Utility Operating Income",0,0,0,0,0,null,"Hydro One Networks Inc. - 1937680 Ontario Inc. (Peterborough Distribution) 4215"]
["Hydro One Networks Inc. - 1937680 Ontario Inc. (Peterborough Distribution) 4220","Hydro One Networks Inc. - 1937680 Ontario Inc. (Peterborough Distribution)","4220","Other Electric Revenues",0,0,0,0,0,null,"Hydro One Networks Inc. - 1937680 Ontario Inc. (Peterborough Distribution) 4220"]
["Hydro One Networks Inc. - 1937680 Ontario Inc. (Peterborough Distribution) 4225","Hydro One Networks Inc. - 1937680 Ontario Inc. (Peterborough Distribution)","4225","Late Payment Charges",-245878.71,-228697.59,-232325.49,-157035.54999999999,-76650.13,null,"Hydro One Networks Inc. - 1937680 Ontario Inc. (Peterborough Distribution) 4225"]
["Hydro One Networks Inc. - 1937680 Ontario Inc. (Peterborough Distribution) 4230","Hydro One Networks Inc. - 1937680 Ontario Inc. (Peterborough Distribution)","4230","Sales of Water and Water Power",0,0,0,0,0,null,"Hydro One Networks Inc. - 1937680 Ontario Inc. (Peterborough Distribution) 4230"]
["Hydro One Networks Inc. - 1937680 Ontario Inc. (Peterborough Distribution) 4235","Hydro One Networks Inc. - 1937680 Ontario Inc. (Peterborough Distribution)","4235","Miscellaneous Service Revenues",-828850.6,-614223.53,-719611.32,-365205.55,-199333.44,null,"Hydro One Networks Inc. - 1937680 Ontario Inc. (Peterborough Distribution) 4235"]
["Hydro One Networks Inc. - 1937680 Ontario Inc. (Peterborough Distribution) 4240","Hydro One Networks Inc. - 1937680 Ontario Inc. (Peterborough Distribution)","4240","Provision for Rate Refunds",0,0,0,0,0,null,"Hydro One Networks Inc. - 1937680 Ontario Inc. (Peterborough Distribution) 4240"]
["Hydro One Networks Inc. - 1937680 Ontario Inc. (Peterborough Distribution) 4245","Hydro One Networks Inc. - 1937680 Ontario Inc. (Peterborough Distribution)","4245","Government and Other Assistance Directly Credited to Income",-428146.03,-470386.32,-501546.03,-524594.39,-550672.92000000004,null,"Hydro One Networks Inc. - 1937680 Ontario Inc. (Peterborough Distribution) 4245"]
["Hydro One Networks Inc. - 1937680 Ontario Inc. (Peterborough Distribution) 4305","Hydro One Networks Inc. - 1937680 Ontario Inc. (Peterborough Distribution)","4305","Regulatory Debits",0,0,0,0,0,null,"Hydro One Networks Inc. - 1937680 Ontario Inc. (Peterborough Distribution) 4305"]
["Hydro One Networks Inc. - 1937680 Ontario Inc. (Peterborough Distribution) 4310","Hydro One Networks Inc. - 1937680 Ontario Inc. (Peterborough Distribution)","4310","Regulatory Credits",0,0,0,0,0,null,"Hydro One Networks Inc. - 1937680 Ontario Inc. (Peterborough Distribution) 4310"]
["Hydro One Networks Inc. - 1937680 Ontario Inc. (Peterborough Distribution) 4315","Hydro One Networks Inc. - 1937680 Ontario Inc. (Peterborough Distribution)","4315","Revenues from Electric Plant Leased to Others",0,0,0,0,0,null,"Hydro One Networks Inc. - 1937680 Ontario Inc. (Peterborough Distribution) 4315"]
["Hydro One Networks Inc. - 1937680 Ontario Inc. (Peterborough Distribution) 4320","Hydro One Networks Inc. - 1937680 Ontario Inc. (Peterborough Distribution)","4320","Expenses of Electric Plant Leased to Others",0,0,0,0,0,null,"Hydro One Networks Inc. - 1937680 Ontario Inc. (Peterborough Distribution) 4320"]
["Hydro One Networks Inc. - 1937680 Ontario Inc. (Peterborough Distribution) 4325","Hydro One Networks Inc. - 1937680 Ontario Inc. (Peterborough Distribution)","4325","Revenues from Merchandise",0,0,0,0,0,null,"Hydro One Networks Inc. - 1937680 Ontario Inc. (Peterborough Distribution) 4325"]
["Hydro One Networks Inc. - 1937680 Ontario Inc. (Peterborough Distribution) 4330","Hydro One Networks Inc. - 1937680 Ontario Inc. (Peterborough Distribution)","4330","Costs and Expenses of Merchandising",0,0,0,0,0,null,"Hydro One Networks Inc. - 1937680 Ontario Inc. (Peterborough Distribution) 4330"]
["Hydro One Networks Inc. - 1937680 Ontario Inc. (Peterborough Distribution) 4335","Hydro One Networks Inc. - 1937680 Ontario Inc. (Peterborough Distribution)","4335","Profits and Losses from Financial Instrument Hedges",0,0,0,0,0,null,"Hydro One Networks Inc. - 1937680 Ontario Inc. (Peterborough Distribution) 4335"]
["Hydro One Networks Inc. - 1937680 Ontario Inc. (Peterborough Distribution) 4340","Hydro One Networks Inc. - 1937680 Ontario Inc. (Peterborough Distribution)","4340","Profits and Losses from Financial Instrument Investments",0,0,0,0,0,null,"Hydro One Networks Inc. - 1937680 Ontario Inc. (Peterborough Distribution) 4340"]
["Hydro One Networks Inc. - 1937680 Ontario Inc. (Peterborough Distribution) 4345","Hydro One Networks Inc. - 1937680 Ontario Inc. (Peterborough Distribution)","4345","Gains from Disposition of Future Use Utility Plant",0,0,0,0,0,null,"Hydro One Networks Inc. - 1937680 Ontario Inc. (Peterborough Distribution) 4345"]
["Hydro One Networks Inc. - 1937680 Ontario Inc. (Peterborough Distribution) 4350","Hydro One Networks Inc. - 1937680 Ontario Inc. (Peterborough Distribution)","4350","Losses from Disposition of Future Use Utility Plant",0,0,0,0,0,null,"Hydro One Networks Inc. - 1937680 Ontario Inc. (Peterborough Distribution) 4350"]
["Hydro One Networks Inc. - 1937680 Ontario Inc. (Peterborough Distribution) 4355","Hydro One Networks Inc. - 1937680 Ontario Inc. (Peterborough Distribution)","4355","Gain on Disposition of Utility and Other Property",0,0,0,0,0,null,"Hydro One Networks Inc. - 1937680 Ontario Inc. (Peterborough Distribution) 4355"]
["Hydro One Networks Inc. - 1937680 Ontario Inc. (Peterborough Distribution) 4357","Hydro One Networks Inc. - 1937680 Ontario Inc. (Peterborough Distribution)","4357","Gain from Retirement of Utility and Other Property",0,0,0,0,0,null,"Hydro One Networks Inc. - 1937680 Ontario Inc. (Peterborough Distribution) 4357"]
["Hydro One Networks Inc. - 1937680 Ontario Inc. (Peterborough Distribution) 4360","Hydro One Networks Inc. - 1937680 Ontario Inc. (Peterborough Distribution)","4360","Loss on Disposition of Utility and Other Property",0,0,0,0,0,null,"Hydro One Networks Inc. - 1937680 Ontario Inc. (Peterborough Distribution) 4360"]
["Hydro One Networks Inc. - 1937680 Ontario Inc. (Peterborough Distribution) 4362","Hydro One Networks Inc. - 1937680 Ontario Inc. (Peterborough Distribution)","4362","Loss from Retirement of Utility and Other Property",0,0,0,0,0,null,"Hydro One Networks Inc. - 1937680 Ontario Inc. (Peterborough Distribution) 4362"]
["Hydro One Networks Inc. - 1937680 Ontario Inc. (Peterborough Distribution) 4365","Hydro One Networks Inc. - 1937680 Ontario Inc. (Peterborough Distribution)","4365","Gains from Disposition of Allowances for Emission",0,0,0,0,0,null,"Hydro One Networks Inc. - 1937680 Ontario Inc. (Peterborough Distribution) 4365"]
["Hydro One Networks Inc. - 1937680 Ontario Inc. (Peterborough Distribution) 4370","Hydro One Networks Inc. - 1937680 Ontario Inc. (Peterborough Distribution)","4370","Losses from Disposition of Allowances for Emission",0,0,0,0,0,null,"Hydro One Networks Inc. - 1937680 Ontario Inc. (Peterborough Distribution) 4370"]
["Hydro One Networks Inc. - 1937680 Ontario Inc. (Peterborough Distribution) 4375","Hydro One Networks Inc. - 1937680 Ontario Inc. (Peterborough Distribution)","4375","Revenues from Non Rate-Regulated Utility Operations",-60000,0,-235106.75,0,-316979.5,null,"Hydro One Networks Inc. - 1937680 Ontario Inc. (Peterborough Distribution) 4375"]
["Hydro One Networks Inc. - 1937680 Ontario Inc. (Peterborough Distribution) 4375","Hydro One Networks Inc. - 1937680 Ontario Inc. (Peterborough Distribution)","4375","Sub-account Generation Facility Revenues",0,0,0,0,0,null,"Hydro One Networks Inc. - 1937680 Ontario Inc. (Peterborough Distribution) 4375"]
["Hydro One Networks Inc. - 1937680 Ontario Inc. (Peterborough Distribution) 4380","Hydro One Networks Inc. - 1937680 Ontario Inc. (Peterborough Distribution)","4380","Expenses of Non Rate-Regulated Utility Operations",0,0,0,0,0,null,"Hydro One Networks Inc. - 1937680 Ontario Inc. (Peterborough Distribution) 4380"]
["Hydro One Networks Inc. - 1937680 Ontario Inc. (Peterborough Distribution) 4380","Hydro One Networks Inc. - 1937680 Ontario Inc. (Peterborough Distribution)","4380","Sub-account Generation Facility Expenses",0,0,0,0,0,null,"Hydro One Networks Inc. - 1937680 Ontario Inc. (Peterborough Distribution) 4380"]
["Hydro One Networks Inc. - 1937680 Ontario Inc. (Peterborough Distribution) 4385","Hydro One Networks Inc. - 1937680 Ontario Inc. (Peterborough Distribution)","4385","Non Rate-Regulated Utility Rental Income",0,0,0,0,0,null,"Hydro One Networks Inc. - 1937680 Ontario Inc. (Peterborough Distribution) 4385"]
["Hydro One Networks Inc. - 1937680 Ontario Inc. (Peterborough Distribution) 4390","Hydro One Networks Inc. - 1937680 Ontario Inc. (Peterborough Distribution)","4390","Miscellaneous Non-Operating Income",0,0,0,0,0,null,"Hydro One Networks Inc. - 1937680 Ontario Inc. (Peterborough Distribution) 4390"]
["Hydro One Networks Inc. - 1937680 Ontario Inc. (Peterborough Distribution) 4395","Hydro One Networks Inc. - 1937680 Ontario Inc. (Peterborough Distribution)","4395","Rate-Payer Benefit Including Interest",0,0,0,0,0,null,"Hydro One Networks Inc. - 1937680 Ontario Inc. (Peterborough Distribution) 4395"]
["Hydro One Networks Inc. - 1937680 Ontario Inc. (Peterborough Distribution) 4398","Hydro One Networks Inc. - 1937680 Ontario Inc. (Peterborough Distribution)","4398","Foreign Exchange Gains and Losses, Including Amortization",0,0,0,0,0,null,"Hydro One Networks Inc. - 1937680 Ontario Inc. (Peterborough Distribution) 4398"]
["Hydro One Networks Inc. - 1937680 Ontario Inc. (Peterborough Distribution) 4405","Hydro One Networks Inc. - 1937680 Ontario Inc. (Peterborough Distribution)","4405","Interest and Dividend Income",-106119.2,-125368.18,-256715.48,-238004.41,-255455.97,null,"Hydro One Networks Inc. - 1937680 Ontario Inc. (Peterborough Distribution) 4405"]
["Hydro One Networks Inc. - 1937680 Ontario Inc. (Peterborough Distribution) 4410","Hydro One Networks Inc. - 1937680 Ontario Inc. (Peterborough Distribution)","4410","Lessor's Net Investment in Finance Lease",0,0,0,0,0,null,"Hydro One Networks Inc. - 1937680 Ontario Inc. (Peterborough Distribution) 4410"]
["Hydro One Networks Inc. - 1937680 Ontario Inc. (Peterborough Distribution) 4415","Hydro One Networks Inc. - 1937680 Ontario Inc. (Peterborough Distribution)","4415","Equity in Earnings of Subsidiary Companies",0,0,0,0,0,null,"Hydro One Networks Inc. - 1937680 Ontario Inc. (Peterborough Distribution) 4415"]
["Hydro One Networks Inc. - 1937680 Ontario Inc. (Peterborough Distribution) 4420","Hydro One Networks Inc. - 1937680 Ontario Inc. (Peterborough Distribution)","4420","Share of Profit or Loss of Joint Venture",0,0,0,0,0,null,"Hydro One Networks Inc. - 1937680 Ontario Inc. (Peterborough Distribution) 4420"]
["Hydro One Networks Inc. - 1937680 Ontario Inc. (Peterborough Distribution) Total ","Hydro One Networks Inc. - 1937680 Ontario Inc. (Peterborough Distribution) Total",null,null,-2003200.5,-1823363.6,-2320099.61,-1661173.5,-1779884.52,null,"Hydro One Networks Inc. - 1937680 Ontario Inc. (Peterborough Distribution) Total "]
["Hydro One Networks Inc. - Orillia Power Distribution Corporation 4082","Hydro One Networks Inc. - Orillia Power Distribution Corporation","4082","Retail Services Revenues",0,0,0,0,0,null,"Hydro One Networks Inc. - Orillia Power Distribution Corporation 4082"]
["Hydro One Networks Inc. - Orillia Power Distribution Corporation 4084","Hydro One Networks Inc. - Orillia Power Distribution Corporation","4084","Service Transaction Requests (STR) Revenues",-241,-119,-110,-208,-163,null,"Hydro One Networks Inc. - Orillia Power Distribution Corporation 4084"]
["Hydro One Networks Inc. - Orillia Power Distribution Corporation 4086","Hydro One Networks Inc. - Orillia Power Distribution Corporation","4086","SSS Administration Revenue",-39165,-39870,-41079,-41979,-42828,null,"Hydro One Networks Inc. - Orillia Power Distribution Corporation 4086"]
["Hydro One Networks Inc. - Orillia Power Distribution Corporation 4090","Hydro One Networks Inc. - Orillia Power Distribution Corporation","4090","Electric Services Incidental to Energy Sales",0,0,0,0,0,null,"Hydro One Networks Inc. - Orillia Power Distribution Corporation 4090"]
["Hydro One Networks Inc. - Orillia Power Distribution Corporation 4205","Hydro One Networks Inc. - Orillia Power Distribution Corporation","4205","Interdepartmental Rents",-47797,-44801,-3917,-3376,-3138,null,"Hydro One Networks Inc. - Orillia Power Distribution Corporation 4205"]
["Hydro One Networks Inc. - Orillia Power Distribution Corporation 4210","Hydro One Networks Inc. - Orillia Power Distribution Corporation","4210","Rent from Electric Property",0,0,0,0,0,null,"Hydro One Networks Inc. - Orillia Power Distribution Corporation 4210"]
["Hydro One Networks Inc. - Orillia Power Distribution Corporation 4215","Hydro One Networks Inc. - Orillia Power Distribution Corporation","4215","Other Utility Operating Income",0,0,0,0,0,null,"Hydro One Networks Inc. - Orillia Power Distribution Corporation 4215"]
["Hydro One Networks Inc. - Orillia Power Distribution Corporation 4220","Hydro One Networks Inc. - Orillia Power Distribution Corporation","4220","Other Electric Revenues",-96216,-111440,-146399,-155758,-119422,null,"Hydro One Networks Inc. - Orillia Power Distribution Corporation 4220"]
["Hydro One Networks Inc. - Orillia Power Distribution Corporation 4225","Hydro One Networks Inc. - Orillia Power Distribution Corporation","4225","Late Payment Charges",-62741,-62347,-60525,-53412,-24614,null,"Hydro One Networks Inc. - Orillia Power Distribution Corporation 4225"]
["Hydro One Networks Inc. - Orillia Power Distribution Corporation 4230","Hydro One Networks Inc. - Orillia Power Distribution Corporation","4230","Sales of Water and Water Power",0,0,0,0,0,null,"Hydro One Networks Inc. - Orillia Power Distribution Corporation 4230"]
["Hydro One Networks Inc. - Orillia Power Distribution Corporation 4235","Hydro One Networks Inc. - Orillia Power Distribution Corporation","4235","Miscellaneous Service Revenues",-306483,-229290,-224385,-197771,-145003,null,"Hydro One Networks Inc. - Orillia Power Distribution Corporation 4235"]
["Hydro One Networks Inc. - Orillia Power Distribution Corporation 4240","Hydro One Networks Inc. - Orillia Power Distribution Corporation","4240","Provision for Rate Refunds",0,0,0,0,0,null,"Hydro One Networks Inc. - Orillia Power Distribution Corporation 4240"]
["Hydro One Networks Inc. - Orillia Power Distribution Corporation 4245","Hydro One Networks Inc. - Orillia Power Distribution Corporation","4245","Government and Other Assistance Directly Credited to Income",-35877,-45658,-52526,-58732,-65089,null,"Hydro One Networks Inc. - Orillia Power Distribution Corporation 4245"]
["Hydro One Networks Inc. - Orillia Power Distribution Corporation 4305","Hydro One Networks Inc. - Orillia Power Distribution Corporation","4305","Regulatory Debits",2054286,698027,692679,699981,299952,null,"Hydro One Networks Inc. - Orillia Power Distribution Corporation 4305"]
["Hydro One Networks Inc. - Orillia Power Distribution Corporation 4310","Hydro One Networks Inc. - Orillia Power Distribution Corporation","4310","Regulatory Credits",0,0,0,0,0,null,"Hydro One Networks Inc. - Orillia Power Distribution Corporation 4310"]
["Hydro One Networks Inc. - Orillia Power Distribution Corporation 4315","Hydro One Networks Inc. - Orillia Power Distribution Corporation","4315","Revenues from Electric Plant Leased to Others",0,0,0,0,0,null,"Hydro One Networks Inc. - Orillia Power Distribution Corporation 4315"]
["Hydro One Networks Inc. - Orillia Power Distribution Corporation 4320","Hydro One Networks Inc. - Orillia Power Distribution Corporation","4320","Expenses of Electric Plant Leased to Others",0,0,0,0,0,null,"Hydro One Networks Inc. - Orillia Power Distribution Corporation 4320"]
["Hydro One Networks Inc. - Orillia Power Distribution Corporation 4325","Hydro One Networks Inc. - Orillia Power Distribution Corporation","4325","Revenues from Merchandise",-30804,-24271,-26440,-20760,-2725,null,"Hydro One Networks Inc. - Orillia Power Distribution Corporation 4325"]
["Hydro One Networks Inc. - Orillia Power Distribution Corporation 4330","Hydro One Networks Inc. - Orillia Power Distribution Corporation","4330","Costs and Expenses of Merchandising",0,0,0,0,0,null,"Hydro One Networks Inc. - Orillia Power Distribution Corporation 4330"]
["Hydro One Networks Inc. - Orillia Power Distribution Corporation 4335","Hydro One Networks Inc. - Orillia Power Distribution Corporation","4335","Profits and Losses from Financial Instrument Hedges",0,0,0,0,0,null,"Hydro One Networks Inc. - Orillia Power Distribution Corporation 4335"]
["Hydro One Networks Inc. - Orillia Power Distribution Corporation 4340","Hydro One Networks Inc. - Orillia Power Distribution Corporation","4340","Profits and Losses from Financial Instrument Investments",0,0,0,0,0,null,"Hydro One Networks Inc. - Orillia Power Distribution Corporation 4340"]
["Hydro One Networks Inc. - Orillia Power Distribution Corporation 4345","Hydro One Networks Inc. - Orillia Power Distribution Corporation","4345","Gains from Disposition of Future Use Utility Plant",0,0,0,0,0,null,"Hydro One Networks Inc. - Orillia Power Distribution Corporation 4345"]
["Hydro One Networks Inc. - Orillia Power Distribution Corporation 4350","Hydro One Networks Inc. - Orillia Power Distribution Corporation","4350","Losses from Disposition of Future Use Utility Plant",0,0,0,0,0,null,{"$f":"B1478 & \" \" &C1478","v":"Hydro One Networks Inc. - Orillia Power Distribution Corporation 4350"}]
["Hydro One Networks Inc. - Orillia Power Distribution Corporation 4355","Hydro One Networks Inc. - Orillia Power Distribution Corporation","4355","Gain on Disposition of Utility and Other Property",0,-197972,0,0,-2751498,null,"Hydro One Networks Inc. - Orillia Power Distribution Corporation 4355"]
["Hydro One Networks Inc. - Orillia Power Distribution Corporation 4357","Hydro One Networks Inc. - Orillia Power Distribution Corporation","4357","Gain from Retirement of Utility and Other Property",0,0,0,0,0,null,"Hydro One Networks Inc. - Orillia Power Distribution Corporation 4357"]
["Hydro One Networks Inc. - Orillia Power Distribution Corporation 4360","Hydro One Networks Inc. - Orillia Power Distribution Corporation","4360","Loss on Disposition of Utility and Other Property",72658,138270,147190,104060,130114,null,"Hydro One Networks Inc. - Orillia Power Distribution Corporation 4360"]
["Hydro One Networks Inc. - Orillia Power Distribution Corporation 4362","Hydro One Networks Inc. - Orillia Power Distribution Corporation","4362","Loss from Retirement of Utility and Other Property",34093,34093,34093,34093,34093,null,"Hydro One Networks Inc. - Orillia Power Distribution Corporation 4362"]
["Hydro One Networks Inc. - Orillia Power Distribution Corporation 4365","Hydro One Networks Inc. - Orillia Power Distribution Corporation","4365","Gains from Disposition of Allowances for Emission",0,0,0,0,0,null,"Hydro One Networks Inc. - Orillia Power Distribution Corporation 4365"]
["Hydro One Networks Inc. - Orillia Power Distribution Corporation 4370","Hydro One Networks Inc. - Orillia Power Distribution Corporation","4370","Losses from Disposition of Allowances for Emission",0,0,0,0,0,null,"Hydro One Networks Inc. - Orillia Power Distribution Corporation 4370"]
["Hydro One Networks Inc. - Orillia Power Distribution Corporation 4375","Hydro One Networks Inc. - Orillia Power Distribution Corporation","4375","Revenues from Non Rate-Regulated Utility Operations",-468496,-393557,-349916,-336118,-79268,null,"Hydro One Networks Inc. - Orillia Power Distribution Corporation 4375"]
["Hydro One Networks Inc. - Orillia Power Distribution Corporation 4375","Hydro One Networks Inc. - Orillia Power Distribution Corporation","4375","Sub-account Generation Facility Revenues",0,0,0,0,0,null,"Hydro One Networks Inc. - Orillia Power Distribution Corporation 4375"]
["Hydro One Networks Inc. - Orillia Power Distribution Corporation 4380","Hydro One Networks Inc. - Orillia Power Distribution Corporation","4380","Expenses of Non Rate-Regulated Utility Operations",422929,398173,349916,336118,79268,null,"Hydro One Networks Inc. - Orillia Power Distribution Corporation 4380"]
["Hydro One Networks Inc. - Orillia Power Distribution Corporation 4380","Hydro One Networks Inc. - Orillia Power Distribution Corporation","4380","Sub-account Generation Facility Expenses",0,0,0,0,0,null,"Hydro One Networks Inc. - Orillia Power Distribution Corporation 4380"]
["Hydro One Networks Inc. - Orillia Power Distribution Corporation 4385","Hydro One Networks Inc. - Orillia Power Distribution Corporation","4385","Non Rate-Regulated Utility Rental Income",-12507,-11784,-11400,-5671,0,null,"Hydro One Networks Inc. - Orillia Power Distribution Corporation 4385"]
["Hydro One Networks Inc. - Orillia Power Distribution Corporation 4390","Hydro One Networks Inc. - Orillia Power Distribution Corporation","4390","Miscellaneous Non-Operating Income",0,0,-11880,-11880,-12417,null,"Hydro One Networks Inc. - Orillia Power Distribution Corporation 4390"]
["Hydro One Networks Inc. - Orillia Power Distribution Corporation 4395","Hydro One Networks Inc. - Orillia Power Distribution Corporation","4395","Rate-Payer Benefit Including Interest",0,0,0,0,0,null,"Hydro One Networks Inc. - Orillia Power Distribution Corporation 4395"]
["Hydro One Networks Inc. - Orillia Power Distribution Corporation 4398","Hydro One Networks Inc. - Orillia Power Distribution Corporation","4398","Foreign Exchange Gains and Losses, Including Amortization",0,0,0,0,0,null,"Hydro One Networks Inc. - Orillia Power Distribution Corporation 4398"]
["Hydro One Networks Inc. - Orillia Power Distribution Corporation 4405","Hydro One Networks Inc. - Orillia Power Distribution Corporation","4405","Interest and Dividend Income",-41360,-34967,-49500,-68385,-50814,null,"Hydro One Networks Inc. - Orillia Power Distribution Corporation 4405"]
["Hydro One Networks Inc. - Orillia Power Distribution Corporation 4410","Hydro One Networks Inc. - Orillia Power Distribution Corporation","4410","Lessor's Net Investment in Finance Lease",0,0,0,0,0,null,"Hydro One Networks Inc. - Orillia Power Distribution Corporation 4410"]
["Hydro One Networks Inc. - Orillia Power Distribution Corporation 4415","Hydro One Networks Inc. - Orillia Power Distribution Corporation","4415","Equity in Earnings of Subsidiary Companies",0,0,0,0,0,null,"Hydro One Networks Inc. - Orillia Power Distribution Corporation 4415"]
["Hydro One Networks Inc. - Orillia Power Distribution Corporation 4420","Hydro One Networks Inc. - Orillia Power Distribution Corporation","4420","Share of Profit or Loss of Joint Venture",0,0,0,0,0,null,"Hydro One Networks Inc. - Orillia Power Distribution Corporation 4420"]
["Hydro One Networks Inc. - Orillia Power Distribution Corporation Total ","Hydro One Networks Inc. - Orillia Power Distribution Corporation Total",null,null,1442279,72487,245801,220202,-2753552,null,"Hydro One Networks Inc. - Orillia Power Distribution Corporation Total "]
["Hydro One Remote Communities Inc. 4082","Hydro One Remote Communities Inc.","4082","Retail Services Revenues",0,0,0,0,0,null,"Hydro One Remote Communities Inc. 4082"]
["Hydro One Remote Communities Inc. 4084","Hydro One Remote Communities Inc.","4084","Service Transaction Requests (STR) Revenues",0,0,0,0,0,null,"Hydro One Remote Communities Inc. 4084"]
["Hydro One Remote Communities Inc. 4086","Hydro One Remote Communities Inc.","4086","SSS Administration Revenue",0,0,0,0,0,null,"Hydro One Remote Communities Inc. 4086"]
["Hydro One Remote Communities Inc. 4090","Hydro One Remote Communities Inc.","4090","Electric Services Incidental to Energy Sales",0,0,0,0,0,null,"Hydro One Remote Communities Inc. 4090"]
["Hydro One Remote Communities Inc. 4205","Hydro One Remote Communities Inc.","4205","Interdepartmental Rents",0,0,0,0,0,null,"Hydro One Remote Communities Inc. 4205"]
["Hydro One Remote Communities Inc. 4210","Hydro One Remote Communities Inc.","4210","Rent from Electric Property",0,0,0,0,0,null,"Hydro One Remote Communities Inc. 4210"]
["Hydro One Remote Communities Inc. 4215","Hydro One Remote Communities Inc.","4215","Other Utility Operating Income",0,0,0,0,0,null,"Hydro One Remote Communities Inc. 4215"]
["Hydro One Remote Communities Inc. 4220","Hydro One Remote Communities Inc.","4220","Other Electric Revenues",0,0,0,0,0,null,"Hydro One Remote Communities Inc. 4220"]
["Hydro One Remote Communities Inc. 4225","Hydro One Remote Communities Inc.","4225","Late Payment Charges",-382972.91,-301556.03000000003,-270452.5,-411771.4,-144988.34,null,"Hydro One Remote Communities Inc. 4225"]
["Hydro One Remote Communities Inc. 4230","Hydro One Remote Communities Inc.","4230","Sales of Water and Water Power",0,0,0,0,0,null,"Hydro One Remote Communities Inc. 4230"]
["Hydro One Remote Communities Inc. 4235","Hydro One Remote Communities Inc.","4235","Miscellaneous Service Revenues",-479516.74,-622577.12,-72017.09,-92881.43,-167689.81,null,"Hydro One Remote Communities Inc. 4235"]
["Hydro One Remote Communities Inc. 4240","Hydro One Remote Communities Inc.","4240","Provision for Rate Refunds",0,0,0,0,0,null,"Hydro One Remote Communities Inc. 4240"]
["Hydro One Remote Communities Inc. 4245","Hydro One Remote Communities Inc.","4245","Government Assistance Directly Credited to Income",0,0,0,0,0,null,"Hydro One Remote Communities Inc. 4245"]
["Hydro One Remote Communities Inc. 4305","Hydro One Remote Communities Inc.","4305","Regulatory Debits",0,0,0,0,0,null,"Hydro One Remote Communities Inc. 4305"]
["Hydro One Remote Communities Inc. 4310","Hydro One Remote Communities Inc.","4310","Regulatory Credits",0,0,0,0,0,null,"Hydro One Remote Communities Inc. 4310"]
["Hydro One Remote Communities Inc. 4315","Hydro One Remote Communities Inc.","4315","Revenues from Electric Plant Leased to Others",0,0,0,0,0,null,"Hydro One Remote Communities Inc. 4315"]
["Hydro One Remote Communities Inc. 4320","Hydro One Remote Communities Inc.","4320","Expenses of Electric Plant Leased to Others",0,0,0,0,0,null,"Hydro One Remote Communities Inc. 4320"]
["Hydro One Remote Communities Inc. 4325","Hydro One Remote Communities Inc.","4325","Revenues from Merchandise Jobbing, Etc.",-692264.58,-724975.55,-1051717.3400000001,-734886.73,-526599.37,null,"Hydro One Remote Communities Inc. 4325"]
["Hydro One Remote Communities Inc. 4330","Hydro One Remote Communities Inc.","4330","Costs and Expenses of Merchandising Jobbing, Etc.",341893.73,275123.53000000003,588600.81999999995,690783.42,489608.24,null,"Hydro One Remote Communities Inc. 4330"]
["Hydro One Remote Communities Inc. 4335","Hydro One Remote Communities Inc.","4335","Profits and Losses from Financial Instrument Hedges",0,0,0,0,0,null,"Hydro One Remote Communities Inc. 4335"]
["Hydro One Remote Communities Inc. 4340","Hydro One Remote Communities Inc.","4340","Profits and Losses from Financial Instrument Investments",0,0,0,0,0,null,"Hydro One Remote Communities Inc. 4340"]
["Hydro One Remote Communities Inc. 4345","Hydro One Remote Communities Inc.","4345","Gains from Disposition of Future Use Utility Plant",0,0,0,0,0,null,"Hydro One Remote Communities Inc. 4345"]
["Hydro One Remote Communities Inc. 4350","Hydro One Remote Communities Inc.","4350","Losses from Disposition of Future Use Utility Plant",0,0,0,0,0,null,"Hydro One Remote Communities Inc. 4350"]
["Hydro One Remote Communities Inc. 4355","Hydro One Remote Communities Inc.","4355","Gain on Disposition of Utility and Other Property",0,0,0,-0.01,-86200,null,"Hydro One Remote Communities Inc. 4355"]
["Hydro One Remote Communities Inc. 4360","Hydro One Remote Communities Inc.","4360","Loss on Disposition of Utility and Other Property",0,0,0,0,0,null,"Hydro One Remote Communities Inc. 4360"]
["Hydro One Remote Communities Inc. 4365","Hydro One Remote Communities Inc.","4365","Gains from Disposition of Allowances for Emission",0,0,0,0,0,null,"Hydro One Remote Communities Inc. 4365"]
["Hydro One Remote Communities Inc. 4370","Hydro One Remote Communities Inc.","4370","Losses from Disposition of Allowances for Emission",0,0,0,0,0,null,"Hydro One Remote Communities Inc. 4370"]
["Hydro One Remote Communities Inc. 4375","Hydro One Remote Communities Inc.","4375","Revenues from Non-Utility Operations",-14375.95,-15190.16,-16093.17,-17049.7,-18114.22,null,"Hydro One Remote Communities Inc. 4375"]
["Hydro One Remote Communities Inc. 4375","Hydro One Remote Communities Inc.","4375","Sub-account Generation Facility Revenues",0,0,0,0,0,null,"Hydro One Remote Communities Inc. 4375"]
["Hydro One Remote Communities Inc. 4380","Hydro One Remote Communities Inc.","4380","Expenses of Non-Utility Operations",0,0,0,0,0,null,"Hydro One Remote Communities Inc. 4380"]
["Hydro One Remote Communities Inc. 4380","Hydro One Remote Communities Inc.","4380","Sub-account Generation Facility Expenses",0,0,0,0,0,null,"Hydro One Remote Communities Inc. 4380"]
["Hydro One Remote Communities Inc. 4385","Hydro One Remote Communities Inc.","4385","Non-Utility Rental Income",0,0,0,0,0,null,"Hydro One Remote Communities Inc. 4385"]
["Hydro One Remote Communities Inc. 4390","Hydro One Remote Communities Inc.","4390","Miscellaneous Non-Operating Income",0,0,0,0,0,null,"Hydro One Remote Communities Inc. 4390"]
["Hydro One Remote Communities Inc. 4395","Hydro One Remote Communities Inc.","4395","Rate-Payer Benefit Including Interest",0,0,0,0,0,null,"Hydro One Remote Communities Inc. 4395"]
["Hydro One Remote Communities Inc. 4398","Hydro One Remote Communities Inc.","4398","Foreign Exchange Gains and Losses, Including Amortization",0,0,0,0,0,null,"Hydro One Remote Communities Inc. 4398"]
["Hydro One Remote Communities Inc. 4405","Hydro One Remote Communities Inc.","4405","Interest and Dividend Income",0,0,0,0,0,null,"Hydro One Remote Communities Inc. 4405"]
["Hydro One Remote Communities Inc. 4415","Hydro One Remote Communities Inc.","4415","Equity in Earnings of Subsidiary Companies",0,0,0,0,0,null,"Hydro One Remote Communities Inc. 4415"]
["Hydro One Remote Communities Inc. Total ","Hydro One Remote Communities Inc. Total",null,null,-1227236.45,-1389175.33,-821679.28,-565805.85,-453983.5,null,"Hydro One Remote Communities Inc. Total "]
["Hydro Ottawa Limited 4082","Hydro Ottawa Limited","4082","Retail Services Revenues",-153633.79999999999,-132517,-119505.25,-105191.5,-188094.07999999999,null,"Hydro Ottawa Limited 4082"]
["Hydro Ottawa Limited 4084","Hydro Ottawa Limited","4084","Service Transaction Requests (STR) Revenues",-6010.5,-2845.5,-2538.6999999999998,-2780.75,-6141.39,null,"Hydro Ottawa Limited 4084"]
["Hydro Ottawa Limited 4086","Hydro Ottawa Limited","4086","SSS Administration Revenue",-951237.57,-960079.11,-973146.58,-996280.07,-1017500.54,null,"Hydro Ottawa Limited 4086"]
["Hydro Ottawa Limited 4090","Hydro Ottawa Limited","4090","Electric Services Incidental to Energy Sales",-257117.11,-316105.57,-342351.1,-386619.26,-397209.37,null,"Hydro Ottawa Limited 4090"]
["Hydro Ottawa Limited 4205","Hydro Ottawa Limited","4205","Interdepartmental Rents",0,0,0,0,0,null,"Hydro Ottawa Limited 4205"]
["Hydro Ottawa Limited 4210","Hydro Ottawa Limited","4210","Rent from Electric Property",0,0,0,0,0,null,"Hydro Ottawa Limited 4210"]
["Hydro Ottawa Limited 4215","Hydro Ottawa Limited","4215","Other Utility Operating Income",0,0,0,0,0,null,{"$f":"B1542 & \" \" &C1542","v":"Hydro Ottawa Limited 4215"}]
["Hydro Ottawa Limited 4220","Hydro Ottawa Limited","4220","Other Electric Revenues",0,0,0,0,0,null,"Hydro Ottawa Limited 4220"]
["Hydro Ottawa Limited 4225","Hydro Ottawa Limited","4225","Late Payment Charges",-1029256.87,-1071780.99,-1041348.01,-993548.71,-1780460.02,null,"Hydro Ottawa Limited 4225"]
["Hydro Ottawa Limited 4230","Hydro Ottawa Limited","4230","Sales of Water and Water Power",0,0,0,0,0,null,"Hydro Ottawa Limited 4230"]
["Hydro Ottawa Limited 4235","Hydro Ottawa Limited","4235","Miscellaneous Service Revenues",-6143933.8399999999,-5621634.29,-5648709.9400000004,-5522196.8099999996,-5371378.6600000001,null,"Hydro Ottawa Limited 4235"]
["Hydro Ottawa Limited 4240","Hydro Ottawa Limited","4240","Provision for Rate Refunds",0,0,0,0,0,null,"Hydro Ottawa Limited 4240"]
["Hydro Ottawa Limited 4245","Hydro Ottawa Limited","4245","Government and Other Assistance Directly Credited to Income",0,0,0,0,0,null,"Hydro Ottawa Limited 4245"]
["Hydro Ottawa Limited 4305","Hydro Ottawa Limited","4305","Regulatory Debits",0,0,0,0,0,null,"Hydro Ottawa Limited 4305"]
["Hydro Ottawa Limited 4310","Hydro Ottawa Limited","4310","Regulatory Credits",0,0,0,0,0,null,"Hydro Ottawa Limited 4310"]
["Hydro Ottawa Limited 4315","Hydro Ottawa Limited","4315","Revenues from Electric Plant Leased to Others",-1611576.15,-1648672.26,-1579126.86,-1586138.78,-1377499.49,null,"Hydro Ottawa Limited 4315"]
["Hydro Ottawa Limited 4320","Hydro Ottawa Limited","4320","Expenses of Electric Plant Leased to Others",0,0,0,0,0,null,"Hydro Ottawa Limited 4320"]
["Hydro Ottawa Limited 4325","Hydro Ottawa Limited","4325","Revenues from Merchandise",-5966347.3300000001,-7333598.0999999996,-10338836.960000001,-13315105.210000001,-9834978.8300000001,null,"Hydro Ottawa Limited 4325"]
["Hydro Ottawa Limited 4330","Hydro Ottawa Limited","4330","Costs and Expenses of Merchandising",3911728.45,4062736.34,7267852.8099999996,13304887.390000001,10947338.970000001,null,"Hydro Ottawa Limited 4330"]
["Hydro Ottawa Limited 4335","Hydro Ottawa Limited","4335","Profits and Losses from Financial Instrument Hedges",0,0,0,0,0,null,"Hydro Ottawa Limited 4335"]
["Hydro Ottawa Limited 4340","Hydro Ottawa Limited","4340","Profits and Losses from Financial Instrument Investments",0,0,0,0,0,null,"Hydro Ottawa Limited 4340"]
["Hydro Ottawa Limited 4345","Hydro Ottawa Limited","4345","Gains from Disposition of Future Use Utility Plant",0,0,0,0,0,null,"Hydro Ottawa Limited 4345"]
["Hydro Ottawa Limited 4350","Hydro Ottawa Limited","4350","Losses from Disposition of Future Use Utility Plant",0,0,0,0,0,null,"Hydro Ottawa Limited 4350"]
["Hydro Ottawa Limited 4355","Hydro Ottawa Limited","4355","Gain on Disposition of Utility and Other Property",0,0,0,0,0,null,"Hydro Ottawa Limited 4355"]
["Hydro Ottawa Limited 4357","Hydro Ottawa Limited","4357","Gain from Retirement of Utility and Other Property",0,0,0,0,0,null,"Hydro Ottawa Limited 4357"]
["Hydro Ottawa Limited 4360","Hydro Ottawa Limited","4360","Loss on Disposition of Utility and Other Property",0,0,0,0,0,null,"Hydro Ottawa Limited 4360"]
["Hydro Ottawa Limited 4362","Hydro Ottawa Limited","4362","Loss from Retirement of Utility and Other Property",-140117.12,-198349,-198349,-198349,-198349,null,"Hydro Ottawa Limited 4362"]
["Hydro Ottawa Limited 4365","Hydro Ottawa Limited","4365","Gains from Disposition of Allowances for Emission",0,0,0,0,0,null,"Hydro Ottawa Limited 4365"]
["Hydro Ottawa Limited 4370","Hydro Ottawa Limited","4370","Losses from Disposition of Allowances for Emission",0,0,0,0,0,null,"Hydro Ottawa Limited 4370"]
["Hydro Ottawa Limited 4375","Hydro Ottawa Limited","4375","Revenues from Non Rate-Regulated Utility Operations",-19676147.329999998,-24007240.48,-24956837.379999999,-13364148.810000001,-7622991.9199999999,null,"Hydro Ottawa Limited 4375"]
["Hydro Ottawa Limited 4375","Hydro Ottawa Limited","4375","Sub-account Generation Facility Revenues",0,0,0,0,0,null,"Hydro Ottawa Limited 4375"]
["Hydro Ottawa Limited 4380","Hydro Ottawa Limited","4380","Expenses of Non Rate-Regulated Utility Operations",19014846.010000002,23976559.140000001,20812162.289999999,14257874.91,8235025.2000000002,null,"Hydro Ottawa Limited 4380"]
["Hydro Ottawa Limited 4380","Hydro Ottawa Limited","4380","Sub-account Generation Facility Expenses",0,0,0,0,0,null,"Hydro Ottawa Limited 4380"]
["Hydro Ottawa Limited 4385","Hydro Ottawa Limited","4385","Non Rate-Regulated Utility Rental Income",-123309.65,-71098.460000000006,233787.99,114372.22,212889.37,null,"Hydro Ottawa Limited 4385"]
["Hydro Ottawa Limited 4390","Hydro Ottawa Limited","4390","Miscellaneous Non-Operating Income",0,0,0,0,0,null,"Hydro Ottawa Limited 4390"]
["Hydro Ottawa Limited 4395","Hydro Ottawa Limited","4395","Rate-Payer Benefit Including Interest",0,0,0,0,0,null,"Hydro Ottawa Limited 4395"]
["Hydro Ottawa Limited 4398","Hydro Ottawa Limited","4398","Foreign Exchange Gains and Losses, Including Amortization",0,0,0,0,0,null,"Hydro Ottawa Limited 4398"]
["Hydro Ottawa Limited 4405","Hydro Ottawa Limited","4405","Interest and Dividend Income",-38905.17,-75768.2,-116864.26,-33096.980000000003,-65839.710000000006,null,"Hydro Ottawa Limited 4405"]
["Hydro Ottawa Limited 4410","Hydro Ottawa Limited","4410","Lessor's Net Investment in Finance Lease",0,0,0,0,0,null,"Hydro Ottawa Limited 4410"]
["Hydro Ottawa Limited 4415","Hydro Ottawa Limited","4415","Equity in Earnings of Subsidiary Companies",0,0,0,0,0,null,"Hydro Ottawa Limited 4415"]
["Hydro Ottawa Limited 4420","Hydro Ottawa Limited","4420","Share of Profit or Loss of Joint Venture",0,0,0,0,0,null,"Hydro Ottawa Limited 4420"]
["Hydro Ottawa Limited Total ","Hydro Ottawa Limited Total",null,null,-13171017.98,-13400393.48,-17003810.949999999,-8826321.3600000106,-8465189.4700000007,null,"Hydro Ottawa Limited Total "]
["Innpower Corporation 4082","Innpower Corporation","4082","Retail Services Revenues",-13533,-10932.2,-11568.3,-14908.6,-15343.77,null,"Innpower Corporation 4082"]
["Innpower Corporation 4084","Innpower Corporation","4084","Service Transaction Requests (STR) Revenues",-166.25,-134,-47.82,0,0,null,"Innpower Corporation 4084"]
["Innpower Corporation 4086","Innpower Corporation","4086","SSS Administration Revenue",0,0,0,0,0,null,"Innpower Corporation 4086"]
["Innpower Corporation 4090","Innpower Corporation","4090","Electric Services Incidental to Energy Sales",0,0,0,0,0,null,"Innpower Corporation 4090"]
["Innpower Corporation 4205","Innpower Corporation","4205","Interdepartmental Rents",0,0,0,0,0,null,"Innpower Corporation 4205"]
["Innpower Corporation 4210","Innpower Corporation","4210","Rent from Electric Property",-162033.75,-166018.95000000001,-234376.45,-322911.18,-283788.27,null,"Innpower Corporation 4210"]
["Innpower Corporation 4215","Innpower Corporation","4215","Other Utility Operating Income",0,0,0,0,0,null,"Innpower Corporation 4215"]
["Innpower Corporation 4220","Innpower Corporation","4220","Other Electric Revenues",0,0,0,0,0,null,"Innpower Corporation 4220"]
["Innpower Corporation 4225","Innpower Corporation","4225","Late Payment Charges",-109070.66,-106918.33,-105418.6,-89306.37,-117180.53,null,"Innpower Corporation 4225"]
["Innpower Corporation 4230","Innpower Corporation","4230","Sales of Water and Water Power",0,0,0,0,0,null,"Innpower Corporation 4230"]
["Innpower Corporation 4235","Innpower Corporation","4235","Miscellaneous Service Revenues",-159222.53,-106847.97,-161691.09,-140414.26999999999,-115277.3,null,"Innpower Corporation 4235"]
["Innpower Corporation 4240","Innpower Corporation","4240","Provision for Rate Refunds",0,0,0,0,0,null,"Innpower Corporation 4240"]
["Innpower Corporation 4245","Innpower Corporation","4245","Government and Other Assistance Directly Credited to Income",-376050.59,-419068.63,-446326.66,-540494.19999999995,-742273.5,null,"Innpower Corporation 4245"]
["Innpower Corporation 4305","Innpower Corporation","4305","Regulatory Debits",0,0,0,0,0,null,"Innpower Corporation 4305"]
["Innpower Corporation 4310","Innpower Corporation","4310","Regulatory Credits",0,0,0,0,0,null,"Innpower Corporation 4310"]
["Innpower Corporation 4315","Innpower Corporation","4315","Revenues from Electric Plant Leased to Others",0,0,0,0,0,null,"Innpower Corporation 4315"]
["Innpower Corporation 4320","Innpower Corporation","4320","Expenses of Electric Plant Leased to Others",0,0,0,0,0,null,"Innpower Corporation 4320"]
["Innpower Corporation 4325","Innpower Corporation","4325","Revenues from Merchandise",0,0,0,0,0,null,"Innpower Corporation 4325"]
["Innpower Corporation 4330","Innpower Corporation","4330","Costs and Expenses of Merchandising",0,0,0,0,0,null,"Innpower Corporation 4330"]
["Innpower Corporation 4335","Innpower Corporation","4335","Profits and Losses from Financial Instrument Hedges",0,0,0,0,0,null,"Innpower Corporation 4335"]
["Innpower Corporation 4340","Innpower Corporation","4340","Profits and Losses from Financial Instrument Investments",0,0,0,0,0,null,"Innpower Corporation 4340"]
["Innpower Corporation 4345","Innpower Corporation","4345","Gains from Disposition of Future Use Utility Plant",0,0,0,0,0,null,"Innpower Corporation 4345"]
["Innpower Corporation 4350","Innpower Corporation","4350","Losses from Disposition of Future Use Utility Plant",0,0,0,0,0,null,"Innpower Corporation 4350"]
["Innpower Corporation 4355","Innpower Corporation","4355","Gain on Disposition of Utility and Other Property",8790.77,48934.74,11423.77,59812.97,6270.09,null,"Innpower Corporation 4355"]
["Innpower Corporation 4357","Innpower Corporation","4357","Gain from Retirement of Utility and Other Property",0,0,0,0,0,null,"Innpower Corporation 4357"]
["Innpower Corporation 4360","Innpower Corporation","4360","Loss on Disposition of Utility and Other Property",0,0,0,0,0,null,"Innpower Corporation 4360"]
["Innpower Corporation 4362","Innpower Corporation","4362","Loss from Retirement of Utility and Other Property",0,0,0,0,0,null,"Innpower Corporation 4362"]
["Innpower Corporation 4365","Innpower Corporation","4365","Gains from Disposition of Allowances for Emission",0,0,0,0,0,null,"Innpower Corporation 4365"]
["Innpower Corporation 4370","Innpower Corporation","4370","Losses from Disposition of Allowances for Emission",0,0,0,0,0,null,{"$f":"B1606 & \" \" &C1606","v":"Innpower Corporation 4370"}]
["Innpower Corporation 4375","Innpower Corporation","4375","Revenues from Non Rate-Regulated Utility Operations",-1354977.71,-927386.88,-1565066.45,-1217885.46,-1569563.82,null,"Innpower Corporation 4375"]
["Innpower Corporation 4375","Innpower Corporation","4375","Sub-account Generation Facility Revenues",0,0,0,0,0,null,"Innpower Corporation 4375"]
["Innpower Corporation 4380","Innpower Corporation","4380","Expenses of Non Rate-Regulated Utility Operations",1250846.58,1171944.57,1226993.05,985242.28,1266622.4099999999,null,"Innpower Corporation 4380"]
["Innpower Corporation 4380","Innpower Corporation","4380","Sub-account Generation Facility Expenses",0,0,0,0,0,null,"Innpower Corporation 4380"]
["Innpower Corporation 4385","Innpower Corporation","4385","Non Rate-Regulated Utility Rental Income",0,0,0,0,-106843.38,null,"Innpower Corporation 4385"]
["Innpower Corporation 4390","Innpower Corporation","4390","Miscellaneous Non-Operating Income",-57992.32,-99701.96,-148026.97,-157734.59,-22912,null,"Innpower Corporation 4390"]
["Innpower Corporation 4395","Innpower Corporation","4395","Rate-Payer Benefit Including Interest",0,0,0,0,0,null,"Innpower Corporation 4395"]
["Innpower Corporation 4398","Innpower Corporation","4398","Foreign Exchange Gains and Losses, Including Amortization",0,0,0,0,0,null,"Innpower Corporation 4398"]
["Innpower Corporation 4405","Innpower Corporation","4405","Interest and Dividend Income",-29388.06,-40534.559999999998,-606204.74,-817670.51,-96644.64,null,"Innpower Corporation 4405"]
["Innpower Corporation 4410","Innpower Corporation","4410","Lessor's Net Investment in Finance Lease",0,0,0,0,0,null,"Innpower Corporation 4410"]
["Innpower Corporation 4415","Innpower Corporation","4415","Equity in Earnings of Subsidiary Companies",0,0,0,0,0,null,"Innpower Corporation 4415"]
["Innpower Corporation 4420","Innpower Corporation","4420","Share of Profit or Loss of Joint Venture",0,0,0,0,0,null,"Innpower Corporation 4420"]
["Innpower Corporation Total ","Innpower Corporation Total",null,null,-1002797.52,-656664.17000000004,-2040310.26,-2256269.9300000002,-1796934.71,null,"Innpower Corporation Total "]
["Kenora Hydro Electric Corporation Ltd. 4082","Kenora Hydro Electric Corporation Ltd.","4082","Retail Services Revenues",-5297,-4755,-5821,null,null,null,"Kenora Hydro Electric Corporation Ltd. 4082"]
["Kenora Hydro Electric Corporation Ltd. 4084","Kenora Hydro Electric Corporation Ltd.","4084","Service Transaction Requests (STR) Revenues",-111,-31,-16,null,null,null,"Kenora Hydro Electric Corporation Ltd. 4084"]
["Kenora Hydro Electric Corporation Ltd. 4086","Kenora Hydro Electric Corporation Ltd.","4086","SSS Administration Revenue",-15920,-16088,-16035,null,null,null,"Kenora Hydro Electric Corporation Ltd. 4086"]
["Kenora Hydro Electric Corporation Ltd. 4090","Kenora Hydro Electric Corporation Ltd.","4090","Electric Services Incidental to Energy Sales",0,0,0,null,null,null,"Kenora Hydro Electric Corporation Ltd. 4090"]
["Kenora Hydro Electric Corporation Ltd. 4205","Kenora Hydro Electric Corporation Ltd.","4205","Interdepartmental Rents",0,0,0,null,null,null,"Kenora Hydro Electric Corporation Ltd. 4205"]
["Kenora Hydro Electric Corporation Ltd. 4210","Kenora Hydro Electric Corporation Ltd.","4210","Rent from Electric Property",-108040,-108040,-108040,null,null,null,"Kenora Hydro Electric Corporation Ltd. 4210"]
["Kenora Hydro Electric Corporation Ltd. 4215","Kenora Hydro Electric Corporation Ltd.","4215","Other Utility Operating Income",0,0,0,null,null,null,"Kenora Hydro Electric Corporation Ltd. 4215"]
["Kenora Hydro Electric Corporation Ltd. 4220","Kenora Hydro Electric Corporation Ltd.","4220","Other Electric Revenues",-59915,-52547,-37279,null,null,null,"Kenora Hydro Electric Corporation Ltd. 4220"]
["Kenora Hydro Electric Corporation Ltd. 4225","Kenora Hydro Electric Corporation Ltd.","4225","Late Payment Charges",-39747,-30082,-29640,null,null,null,"Kenora Hydro Electric Corporation Ltd. 4225"]
["Kenora Hydro Electric Corporation Ltd. 4230","Kenora Hydro Electric Corporation Ltd.","4230","Sales of Water and Water Power",0,0,0,null,null,null,"Kenora Hydro Electric Corporation Ltd. 4230"]
["Kenora Hydro Electric Corporation Ltd. 4235","Kenora Hydro Electric Corporation Ltd.","4235","Miscellaneous Service Revenues",-24092,-24968,-26001,null,null,null,"Kenora Hydro Electric Corporation Ltd. 4235"]
["Kenora Hydro Electric Corporation Ltd. 4240","Kenora Hydro Electric Corporation Ltd.","4240","Provision for Rate Refunds",0,0,0,null,null,null,"Kenora Hydro Electric Corporation Ltd. 4240"]
["Kenora Hydro Electric Corporation Ltd. 4245","Kenora Hydro Electric Corporation Ltd.","4245","Government and Other Assistance Directly Credited to Income",-60368,-9666,-7276,null,null,null,"Kenora Hydro Electric Corporation Ltd. 4245"]
["Kenora Hydro Electric Corporation Ltd. 4305","Kenora Hydro Electric Corporation Ltd.","4305","Regulatory Debits",0,1138,-2978,null,null,null,"Kenora Hydro Electric Corporation Ltd. 4305"]
["Kenora Hydro Electric Corporation Ltd. 4310","Kenora Hydro Electric Corporation Ltd.","4310","Regulatory Credits",-18090,0,0,null,null,null,"Kenora Hydro Electric Corporation Ltd. 4310"]
["Kenora Hydro Electric Corporation Ltd. 4315","Kenora Hydro Electric Corporation Ltd.","4315","Revenues from Electric Plant Leased to Others",0,0,0,null,null,null,"Kenora Hydro Electric Corporation Ltd. 4315"]
["Kenora Hydro Electric Corporation Ltd. 4320","Kenora Hydro Electric Corporation Ltd.","4320","Expenses of Electric Plant Leased to Others",0,0,0,null,null,null,"Kenora Hydro Electric Corporation Ltd. 4320"]
["Kenora Hydro Electric Corporation Ltd. 4325","Kenora Hydro Electric Corporation Ltd.","4325","Revenues from Merchandise",-91972,-63317,-96487,null,null,null,"Kenora Hydro Electric Corporation Ltd. 4325"]
["Kenora Hydro Electric Corporation Ltd. 4330","Kenora Hydro Electric Corporation Ltd.","4330","Costs and Expenses of Merchandising",0,0,0,null,null,null,"Kenora Hydro Electric Corporation Ltd. 4330"]
["Kenora Hydro Electric Corporation Ltd. 4335","Kenora Hydro Electric Corporation Ltd.","4335","Profits and Losses from Financial Instrument Hedges",0,0,0,null,null,null,"Kenora Hydro Electric Corporation Ltd. 4335"]
["Kenora Hydro Electric Corporation Ltd. 4340","Kenora Hydro Electric Corporation Ltd.","4340","Profits and Losses from Financial Instrument Investments",0,0,0,null,null,null,"Kenora Hydro Electric Corporation Ltd. 4340"]
["Kenora Hydro Electric Corporation Ltd. 4345","Kenora Hydro Electric Corporation Ltd.","4345","Gains from Disposition of Future Use Utility Plant",0,0,0,null,null,null,"Kenora Hydro Electric Corporation Ltd. 4345"]
["Kenora Hydro Electric Corporation Ltd. 4350","Kenora Hydro Electric Corporation Ltd.","4350","Losses from Disposition of Future Use Utility Plant",0,0,0,null,null,null,"Kenora Hydro Electric Corporation Ltd. 4350"]
["Kenora Hydro Electric Corporation Ltd. 4355","Kenora Hydro Electric Corporation Ltd.","4355","Gain on Disposition of Utility and Other Property",-10700,0,0,null,null,null,"Kenora Hydro Electric Corporation Ltd. 4355"]
["Kenora Hydro Electric Corporation Ltd. 4357","Kenora Hydro Electric Corporation Ltd.","4357","Gain from Retirement of Utility and Other Property",0,0,0,null,null,null,"Kenora Hydro Electric Corporation Ltd. 4357"]
["Kenora Hydro Electric Corporation Ltd. 4360","Kenora Hydro Electric Corporation Ltd.","4360","Loss on Disposition of Utility and Other Property",0,0,7242,null,null,null,"Kenora Hydro Electric Corporation Ltd. 4360"]
["Kenora Hydro Electric Corporation Ltd. 4362","Kenora Hydro Electric Corporation Ltd.","4362","Loss from Retirement of Utility and Other Property",0,0,0,null,null,null,"Kenora Hydro Electric Corporation Ltd. 4362"]
["Kenora Hydro Electric Corporation Ltd. 4365","Kenora Hydro Electric Corporation Ltd.","4365","Gains from Disposition of Allowances for Emission",0,0,0,null,null,null,"Kenora Hydro Electric Corporation Ltd. 4365"]
["Kenora Hydro Electric Corporation Ltd. 4370","Kenora Hydro Electric Corporation Ltd.","4370","Losses from Disposition of Allowances for Emission",0,0,0,null,null,null,"Kenora Hydro Electric Corporation Ltd. 4370"]
["Kenora Hydro Electric Corporation Ltd. 4375","Kenora Hydro Electric Corporation Ltd.","4375","Revenues from Non Rate-Regulated Utility Operations",-34942,-96192,-51752,null,null,null,"Kenora Hydro Electric Corporation Ltd. 4375"]
["Kenora Hydro Electric Corporation Ltd. 4375","Kenora Hydro Electric Corporation Ltd.","4375","Sub-account Generation Facility Revenues",0,0,0,null,null,null,"Kenora Hydro Electric Corporation Ltd. 4375"]
["Kenora Hydro Electric Corporation Ltd. 4380","Kenora Hydro Electric Corporation Ltd.","4380","Expenses of Non Rate-Regulated Utility Operations",34942,54480,44753,null,null,null,"Kenora Hydro Electric Corporation Ltd. 4380"]
["Kenora Hydro Electric Corporation Ltd. 4380","Kenora Hydro Electric Corporation Ltd.","4380","Sub-account Generation Facility Expenses",0,0,0,null,null,null,"Kenora Hydro Electric Corporation Ltd. 4380"]
["Kenora Hydro Electric Corporation Ltd. 4385","Kenora Hydro Electric Corporation Ltd.","4385","Non Rate-Regulated Utility Rental Income",0,0,0,null,null,null,"Kenora Hydro Electric Corporation Ltd. 4385"]
["Kenora Hydro Electric Corporation Ltd. 4390","Kenora Hydro Electric Corporation Ltd.","4390","Miscellaneous Non-Operating Income",-35,0,0,null,null,null,"Kenora Hydro Electric Corporation Ltd. 4390"]
["Kenora Hydro Electric Corporation Ltd. 4395","Kenora Hydro Electric Corporation Ltd.","4395","Rate-Payer Benefit Including Interest",0,0,0,null,null,null,"Kenora Hydro Electric Corporation Ltd. 4395"]
["Kenora Hydro Electric Corporation Ltd. 4398","Kenora Hydro Electric Corporation Ltd.","4398","Foreign Exchange Gains and Losses, Including Amortization",0,0,0,null,null,null,"Kenora Hydro Electric Corporation Ltd. 4398"]
["Kenora Hydro Electric Corporation Ltd. 4405","Kenora Hydro Electric Corporation Ltd.","4405","Interest and Dividend Income",-25442,-30838,-46737,null,null,null,"Kenora Hydro Electric Corporation Ltd. 4405"]
["Kenora Hydro Electric Corporation Ltd. 4410","Kenora Hydro Electric Corporation Ltd.","4410","Lessor's Net Investment in Finance Lease",0,0,0,null,null,null,"Kenora Hydro Electric Corporation Ltd. 4410"]
["Kenora Hydro Electric Corporation Ltd. 4415","Kenora Hydro Electric Corporation Ltd.","4415","Equity in Earnings of Subsidiary Companies",0,0,0,null,null,null,"Kenora Hydro Electric Corporation Ltd. 4415"]
["Kenora Hydro Electric Corporation Ltd. 4420","Kenora Hydro Electric Corporation Ltd.","4420","Share of Profit or Loss of Joint Venture",0,0,0,null,null,null,"Kenora Hydro Electric Corporation Ltd. 4420"]
["Kenora Hydro Electric Corporation Ltd. Total ","Kenora Hydro Electric Corporation Ltd. Total",null,null,-459729,-380906,-376067,null,null,null,"Kenora Hydro Electric Corporation Ltd. Total "]
["Kingston Hydro Corporation 4082","Kingston Hydro Corporation","4082","Retail Services Revenues",-14572,-13192,-11688,-16745.599999999999,-18420.8,null,"Kingston Hydro Corporation 4082"]
["Kingston Hydro Corporation 4084","Kingston Hydro Corporation","4084","Service Transaction Requests (STR) Revenues",-2803,-2127,-2634,-2533.44,-2610.5,null,"Kingston Hydro Corporation 4084"]
["Kingston Hydro Corporation 4086","Kingston Hydro Corporation","4086","SSS Administration Revenue",0,0,0,0,0,null,"Kingston Hydro Corporation 4086"]
["Kingston Hydro Corporation 4090","Kingston Hydro Corporation","4090","Electric Services Incidental to Energy Sales",0,0,0,0,0,null,"Kingston Hydro Corporation 4090"]
["Kingston Hydro Corporation 4205","Kingston Hydro Corporation","4205","Interdepartmental Rents",0,0,0,0,0,null,"Kingston Hydro Corporation 4205"]
["Kingston Hydro Corporation 4210","Kingston Hydro Corporation","4210","Rent from Electric Property",-175695,-171648,-180275,-175754.37,-175425.15,null,"Kingston Hydro Corporation 4210"]
["Kingston Hydro Corporation 4215","Kingston Hydro Corporation","4215","Other Utility Operating Income",0,0,0,0,0,null,"Kingston Hydro Corporation 4215"]
["Kingston Hydro Corporation 4220","Kingston Hydro Corporation","4220","Other Electric Revenues",0,0,0,0,0,null,"Kingston Hydro Corporation 4220"]
["Kingston Hydro Corporation 4225","Kingston Hydro Corporation","4225","Late Payment Charges",-47264,-74806,-76495,-44385.09,-109964.84,null,{"$f":"B1670 & \" \" &C1670","v":"Kingston Hydro Corporation 4225"}]
["Kingston Hydro Corporation 4230","Kingston Hydro Corporation","4230","Sales of Water and Water Power",0,0,0,0,0,null,"Kingston Hydro Corporation 4230"]
["Kingston Hydro Corporation 4235","Kingston Hydro Corporation","4235","Miscellaneous Service Revenues",-119388,-137339,-128302,-174321.79,-153687.26999999999,null,"Kingston Hydro Corporation 4235"]
["Kingston Hydro Corporation 4240","Kingston Hydro Corporation","4240","Provision for Rate Refunds",0,0,0,0,0,null,"Kingston Hydro Corporation 4240"]
["Kingston Hydro Corporation 4245","Kingston Hydro Corporation","4245","Government and Other Assistance Directly Credited to Income",-14571,-186740,-127877,-133875.87,-140161.65,null,"Kingston Hydro Corporation 4245"]
["Kingston Hydro Corporation 4305","Kingston Hydro Corporation","4305","Regulatory Debits",3394083,0,0,0,0,null,"Kingston Hydro Corporation 4305"]
["Kingston Hydro Corporation 4310","Kingston Hydro Corporation","4310","Regulatory Credits",0,0,0,0,0,null,"Kingston Hydro Corporation 4310"]
["Kingston Hydro Corporation 4315","Kingston Hydro Corporation","4315","Revenues from Electric Plant Leased to Others",0,0,0,0,0,null,"Kingston Hydro Corporation 4315"]
["Kingston Hydro Corporation 4320","Kingston Hydro Corporation","4320","Expenses of Electric Plant Leased to Others",0,0,0,0,0,null,"Kingston Hydro Corporation 4320"]
["Kingston Hydro Corporation 4325","Kingston Hydro Corporation","4325","Revenues from Merchandise",-4990,-4104,-2385,-3420,-4465.6499999999996,null,"Kingston Hydro Corporation 4325"]
["Kingston Hydro Corporation 4330","Kingston Hydro Corporation","4330","Costs and Expenses of Merchandising",0,0,0,0,0,null,"Kingston Hydro Corporation 4330"]
["Kingston Hydro Corporation 4335","Kingston Hydro Corporation","4335","Profits and Losses from Financial Instrument Hedges",0,0,0,0,0,null,"Kingston Hydro Corporation 4335"]
["Kingston Hydro Corporation 4340","Kingston Hydro Corporation","4340","Profits and Losses from Financial Instrument Investments",0,0,0,0,0,null,"Kingston Hydro Corporation 4340"]
["Kingston Hydro Corporation 4345","Kingston Hydro Corporation","4345","Gains from Disposition of Future Use Utility Plant",0,0,0,0,0,null,"Kingston Hydro Corporation 4345"]
["Kingston Hydro Corporation 4350","Kingston Hydro Corporation","4350","Losses from Disposition of Future Use Utility Plant",0,0,0,0,0,null,"Kingston Hydro Corporation 4350"]
["Kingston Hydro Corporation 4355","Kingston Hydro Corporation","4355","Gain on Disposition of Utility and Other Property",0,0,0,0,0,null,"Kingston Hydro Corporation 4355"]
["Kingston Hydro Corporation 4357","Kingston Hydro Corporation","4357","Gain from Retirement of Utility and Other Property",0,0,0,0,0,null,"Kingston Hydro Corporation 4357"]
["Kingston Hydro Corporation 4360","Kingston Hydro Corporation","4360","Loss on Disposition of Utility and Other Property",0,0,0,0,0,null,"Kingston Hydro Corporation 4360"]
["Kingston Hydro Corporation 4362","Kingston Hydro Corporation","4362","Loss from Retirement of Utility and Other Property",0,0,0,0,0,null,"Kingston Hydro Corporation 4362"]
["Kingston Hydro Corporation 4365","Kingston Hydro Corporation","4365","Gains from Disposition of Allowances for Emission",0,0,0,0,0,null,"Kingston Hydro Corporation 4365"]
["Kingston Hydro Corporation 4370","Kingston Hydro Corporation","4370","Losses from Disposition of Allowances for Emission",0,0,0,0,0,null,"Kingston Hydro Corporation 4370"]
["Kingston Hydro Corporation 4375","Kingston Hydro Corporation","4375","Revenues from Non Rate-Regulated Utility Operations",-680012,-1227933,-1118609,-1490196.55,-189489,null,"Kingston Hydro Corporation 4375"]
["Kingston Hydro Corporation 4375","Kingston Hydro Corporation","4375","Sub-account Generation Facility Revenues",0,0,0,0,0,null,"Kingston Hydro Corporation 4375"]
["Kingston Hydro Corporation 4380","Kingston Hydro Corporation","4380","Expenses of Non Rate-Regulated Utility Operations",429063,1229827,1109828,1198954.02,165528.54999999999,null,"Kingston Hydro Corporation 4380"]
["Kingston Hydro Corporation 4380","Kingston Hydro Corporation","4380","Sub-account Generation Facility Expenses",0,0,0,0,0,null,"Kingston Hydro Corporation 4380"]
["Kingston Hydro Corporation 4385","Kingston Hydro Corporation","4385","Non Rate-Regulated Utility Rental Income",0,0,0,0,0,null,"Kingston Hydro Corporation 4385"]
["Kingston Hydro Corporation 4390","Kingston Hydro Corporation","4390","Miscellaneous Non-Operating Income",-81007,-47339,-69473,-51773.37,-47281.25,null,"Kingston Hydro Corporation 4390"]
["Kingston Hydro Corporation 4395","Kingston Hydro Corporation","4395","Rate-Payer Benefit Including Interest",0,0,0,0,0,null,"Kingston Hydro Corporation 4395"]
["Kingston Hydro Corporation 4398","Kingston Hydro Corporation","4398","Foreign Exchange Gains and Losses, Including Amortization",0,0,0,0,0,null,"Kingston Hydro Corporation 4398"]
["Kingston Hydro Corporation 4405","Kingston Hydro Corporation","4405","Interest and Dividend Income",-28414,-205413,-105124,-106887.87,-117193.60000000001,null,"Kingston Hydro Corporation 4405"]
["Kingston Hydro Corporation 4410","Kingston Hydro Corporation","4410","Lessor's Net Investment in Finance Lease",0,0,0,0,0,null,"Kingston Hydro Corporation 4410"]
["Kingston Hydro Corporation 4415","Kingston Hydro Corporation","4415","Equity in Earnings of Subsidiary Companies",0,0,0,0,0,null,"Kingston Hydro Corporation 4415"]
["Kingston Hydro Corporation 4420","Kingston Hydro Corporation","4420","Share of Profit or Loss of Joint Venture",0,0,0,0,0,null,"Kingston Hydro Corporation 4420"]
["Kingston Hydro Corporation Total ","Kingston Hydro Corporation Total",null,null,2654430,-840814,-713034,-1000939.93,-793171.16,null,"Kingston Hydro Corporation Total "]
["Kitchener-Wilmot Hydro Inc. 4082","Kitchener-Wilmot Hydro Inc.","4082","Retail Services Revenues",-37847.5,-33820.199999999997,-27973.1,-41918.879999999997,-46676.01,null,"Kitchener-Wilmot Hydro Inc. 4082"]
["Kitchener-Wilmot Hydro Inc. 4084","Kitchener-Wilmot Hydro Inc.","4084","Service Transaction Requests (STR) Revenues",-807.25,-700.5,-409.5,-1803,-1584.08,null,"Kitchener-Wilmot Hydro Inc. 4084"]
["Kitchener-Wilmot Hydro Inc. 4086","Kitchener-Wilmot Hydro Inc.","4086","SSS Administration Revenue",-269834.5,-276203.5,-282309.5,-285880.25,-290001.25,null,"Kitchener-Wilmot Hydro Inc. 4086"]
["Kitchener-Wilmot Hydro Inc. 4090","Kitchener-Wilmot Hydro Inc.","4090","Electric Services Incidental to Energy Sales",0,0,0,0,0,null,"Kitchener-Wilmot Hydro Inc. 4090"]
["Kitchener-Wilmot Hydro Inc. 4205","Kitchener-Wilmot Hydro Inc.","4205","Interdepartmental Rents",0,0,0,0,0,null,"Kitchener-Wilmot Hydro Inc. 4205"]
["Kitchener-Wilmot Hydro Inc. 4210","Kitchener-Wilmot Hydro Inc.","4210","Rent from Electric Property",-519579.03,-509641.06,-528858.42000000004,-547585.27,-890840.78,null,"Kitchener-Wilmot Hydro Inc. 4210"]
["Kitchener-Wilmot Hydro Inc. 4215","Kitchener-Wilmot Hydro Inc.","4215","Other Utility Operating Income",0,0,0,0,0,null,"Kitchener-Wilmot Hydro Inc. 4215"]
["Kitchener-Wilmot Hydro Inc. 4220","Kitchener-Wilmot Hydro Inc.","4220","Other Electric Revenues",-42000,-43900,-68891.13,-71294.7,-73659.17,null,"Kitchener-Wilmot Hydro Inc. 4220"]
["Kitchener-Wilmot Hydro Inc. 4225","Kitchener-Wilmot Hydro Inc.","4225","Late Payment Charges",-228268.04,-196977.69,-203653.22,-202611.46,-338524.42,null,"Kitchener-Wilmot Hydro Inc. 4225"]
["Kitchener-Wilmot Hydro Inc. 4230","Kitchener-Wilmot Hydro Inc.","4230","Sales of Water and Water Power",0,0,0,0,0,null,"Kitchener-Wilmot Hydro Inc. 4230"]
["Kitchener-Wilmot Hydro Inc. 4235","Kitchener-Wilmot Hydro Inc.","4235","Miscellaneous Service Revenues",-483537.76,-443222.8,-405358.83,-347209.99,-327259.59999999998,null,"Kitchener-Wilmot Hydro Inc. 4235"]
["Kitchener-Wilmot Hydro Inc. 4240","Kitchener-Wilmot Hydro Inc.","4240","Provision for Rate Refunds",0,0,0,0,0,null,"Kitchener-Wilmot Hydro Inc. 4240"]
["Kitchener-Wilmot Hydro Inc. 4245","Kitchener-Wilmot Hydro Inc.","4245","Government and Other Assistance Directly Credited to Income",-480409.26,-658473.48,-781551.87,-908405.09,-1015519.94,null,"Kitchener-Wilmot Hydro Inc. 4245"]
["Kitchener-Wilmot Hydro Inc. 4305","Kitchener-Wilmot Hydro Inc.","4305","Regulatory Debits",0,0,0,0,0,null,"Kitchener-Wilmot Hydro Inc. 4305"]
["Kitchener-Wilmot Hydro Inc. 4310","Kitchener-Wilmot Hydro Inc.","4310","Regulatory Credits",0,0,0,0,0,null,"Kitchener-Wilmot Hydro Inc. 4310"]
["Kitchener-Wilmot Hydro Inc. 4315","Kitchener-Wilmot Hydro Inc.","4315","Revenues from Electric Plant Leased to Others",0,0,0,0,0,null,"Kitchener-Wilmot Hydro Inc. 4315"]
["Kitchener-Wilmot Hydro Inc. 4320","Kitchener-Wilmot Hydro Inc.","4320","Expenses of Electric Plant Leased to Others",0,0,0,0,0,null,"Kitchener-Wilmot Hydro Inc. 4320"]
["Kitchener-Wilmot Hydro Inc. 4325","Kitchener-Wilmot Hydro Inc.","4325","Revenues from Merchandise",0,-3662.4,0,0,0,null,"Kitchener-Wilmot Hydro Inc. 4325"]
["Kitchener-Wilmot Hydro Inc. 4330","Kitchener-Wilmot Hydro Inc.","4330","Costs and Expenses of Merchandising",0,0,0,0,0,null,"Kitchener-Wilmot Hydro Inc. 4330"]
["Kitchener-Wilmot Hydro Inc. 4335","Kitchener-Wilmot Hydro Inc.","4335","Profits and Losses from Financial Instrument Hedges",0,0,0,0,0,null,"Kitchener-Wilmot Hydro Inc. 4335"]
["Kitchener-Wilmot Hydro Inc. 4340","Kitchener-Wilmot Hydro Inc.","4340","Profits and Losses from Financial Instrument Investments",0,0,0,0,0,null,"Kitchener-Wilmot Hydro Inc. 4340"]
["Kitchener-Wilmot Hydro Inc. 4345","Kitchener-Wilmot Hydro Inc.","4345","Gains from Disposition of Future Use Utility Plant",0,0,0,0,0,null,"Kitchener-Wilmot Hydro Inc. 4345"]
["Kitchener-Wilmot Hydro Inc. 4350","Kitchener-Wilmot Hydro Inc.","4350","Losses from Disposition of Future Use Utility Plant",0,0,0,0,0,null,"Kitchener-Wilmot Hydro Inc. 4350"]
["Kitchener-Wilmot Hydro Inc. 4355","Kitchener-Wilmot Hydro Inc.","4355","Gain on Disposition of Utility and Other Property",-53831.88,-28575,-128387.15,-36118.949999999997,-149309.23000000001,null,"Kitchener-Wilmot Hydro Inc. 4355"]
["Kitchener-Wilmot Hydro Inc. 4357","Kitchener-Wilmot Hydro Inc.","4357","Gain from Retirement of Utility and Other Property",0,0,0,0,0,null,"Kitchener-Wilmot Hydro Inc. 4357"]
["Kitchener-Wilmot Hydro Inc. 4360","Kitchener-Wilmot Hydro Inc.","4360","Loss on Disposition of Utility and Other Property",0,0,0,0,0,null,"Kitchener-Wilmot Hydro Inc. 4360"]
["Kitchener-Wilmot Hydro Inc. 4362","Kitchener-Wilmot Hydro Inc.","4362","Loss from Retirement of Utility and Other Property",0,0,0,0,0,null,"Kitchener-Wilmot Hydro Inc. 4362"]
["Kitchener-Wilmot Hydro Inc. 4365","Kitchener-Wilmot Hydro Inc.","4365","Gains from Disposition of Allowances for Emission",0,0,0,0,0,null,"Kitchener-Wilmot Hydro Inc. 4365"]
["Kitchener-Wilmot Hydro Inc. 4370","Kitchener-Wilmot Hydro Inc.","4370","Losses from Disposition of Allowances for Emission",0,0,0,0,0,null,"Kitchener-Wilmot Hydro Inc. 4370"]
["Kitchener-Wilmot Hydro Inc. 4375","Kitchener-Wilmot Hydro Inc.","4375","Revenues from Non Rate-Regulated Utility Operations",-3438664.28,-4628441.8499999996,-5801968.0499999998,-2681852.56,-1783297.61,null,"Kitchener-Wilmot Hydro Inc. 4375"]
["Kitchener-Wilmot Hydro Inc. 4375","Kitchener-Wilmot Hydro Inc.","4375","Sub-account Generation Facility Revenues",0,0,0,0,0,null,{"$f":"B1734 & \" \" &C1734","v":"Kitchener-Wilmot Hydro Inc. 4375"}]
["Kitchener-Wilmot Hydro Inc. 4380","Kitchener-Wilmot Hydro Inc.","4380","Expenses of Non Rate-Regulated Utility Operations",3448373.22,4615757.37,4491926.68,2669168.08,1856548.63,null,"Kitchener-Wilmot Hydro Inc. 4380"]
["Kitchener-Wilmot Hydro Inc. 4380","Kitchener-Wilmot Hydro Inc.","4380","Sub-account Generation Facility Expenses",0,0,0,0,0,null,"Kitchener-Wilmot Hydro Inc. 4380"]
["Kitchener-Wilmot Hydro Inc. 4385","Kitchener-Wilmot Hydro Inc.","4385","Non Rate-Regulated Utility Rental Income",0,0,0,0,0,null,"Kitchener-Wilmot Hydro Inc. 4385"]
["Kitchener-Wilmot Hydro Inc. 4390","Kitchener-Wilmot Hydro Inc.","4390","Miscellaneous Non-Operating Income",-225414.33,-417210.92,-227055.97,-245257.02,-184607.6,null,"Kitchener-Wilmot Hydro Inc. 4390"]
["Kitchener-Wilmot Hydro Inc. 4395","Kitchener-Wilmot Hydro Inc.","4395","Rate-Payer Benefit Including Interest",0,0,0,0,0,null,"Kitchener-Wilmot Hydro Inc. 4395"]
["Kitchener-Wilmot Hydro Inc. 4398","Kitchener-Wilmot Hydro Inc.","4398","Foreign Exchange Gains and Losses, Including Amortization",446.36,732.39,-1171.78,1081.42,236.36,null,"Kitchener-Wilmot Hydro Inc. 4398"]
["Kitchener-Wilmot Hydro Inc. 4405","Kitchener-Wilmot Hydro Inc.","4405","Interest and Dividend Income",-288299.84000000003,-359724.04,-564982.15,-553667.11,-456193.34,null,"Kitchener-Wilmot Hydro Inc. 4405"]
["Kitchener-Wilmot Hydro Inc. 4410","Kitchener-Wilmot Hydro Inc.","4410","Lessor's Net Investment in Finance Lease",0,0,0,0,0,null,"Kitchener-Wilmot Hydro Inc. 4410"]
["Kitchener-Wilmot Hydro Inc. 4415","Kitchener-Wilmot Hydro Inc.","4415","Equity in Earnings of Subsidiary Companies",0,0,0,0,0,null,"Kitchener-Wilmot Hydro Inc. 4415"]
["Kitchener-Wilmot Hydro Inc. 4420","Kitchener-Wilmot Hydro Inc.","4420","Share of Profit or Loss of Joint Venture",0,0,0,0,0,null,"Kitchener-Wilmot Hydro Inc. 4420"]
["Kitchener-Wilmot Hydro Inc. Total ","Kitchener-Wilmot Hydro Inc. Total",null,null,-2619674.09,-2984063.68,-4530643.99,-3253354.78,-3700688.04,null,"Kitchener-Wilmot Hydro Inc. Total "]
["Lakefront Utilities Inc. 4082","Lakefront Utilities Inc.","4082","Retail Services Revenues",-7765,-7043,-6572,-9909,-11400,null,"Lakefront Utilities Inc. 4082"]
["Lakefront Utilities Inc. 4084","Lakefront Utilities Inc.","4084","Service Transaction Requests (STR) Revenues",-2462.3000000000002,-2123.5500000000002,-1866.45,-2616.0500000000002,-3538.12,null,"Lakefront Utilities Inc. 4084"]
["Lakefront Utilities Inc. 4086","Lakefront Utilities Inc.","4086","SSS Administration Revenue",-36376.949999999997,-37913.57,-38614.54,-38720.68,-38907.910000000003,null,"Lakefront Utilities Inc. 4086"]
["Lakefront Utilities Inc. 4090","Lakefront Utilities Inc.","4090","Electric Services Incidental to Energy Sales",0,0,0,0,0,null,"Lakefront Utilities Inc. 4090"]
["Lakefront Utilities Inc. 4205","Lakefront Utilities Inc.","4205","Interdepartmental Rents",-50193,-50946,-51965,-53004,-54064,null,"Lakefront Utilities Inc. 4205"]
["Lakefront Utilities Inc. 4210","Lakefront Utilities Inc.","4210","Rent from Electric Property",-69099.58,-64254.39,-71521.820000000007,-61781.27,-61002.13,null,"Lakefront Utilities Inc. 4210"]
["Lakefront Utilities Inc. 4215","Lakefront Utilities Inc.","4215","Other Utility Operating Income",0,0,0,0,0,null,"Lakefront Utilities Inc. 4215"]
["Lakefront Utilities Inc. 4220","Lakefront Utilities Inc.","4220","Other Electric Revenues",0,0,0,0,0,null,"Lakefront Utilities Inc. 4220"]
["Lakefront Utilities Inc. 4225","Lakefront Utilities Inc.","4225","Late Payment Charges",-66022.59,-49525.51,-55945.07,-40863.21,-25328.62,null,"Lakefront Utilities Inc. 4225"]
["Lakefront Utilities Inc. 4230","Lakefront Utilities Inc.","4230","Sales of Water and Water Power",0,0,0,0,0,null,"Lakefront Utilities Inc. 4230"]
["Lakefront Utilities Inc. 4235","Lakefront Utilities Inc.","4235","Miscellaneous Service Revenues",-346754.64,-296048.59000000003,-296405.49,-243694.11,-22994.25,null,"Lakefront Utilities Inc. 4235"]
["Lakefront Utilities Inc. 4240","Lakefront Utilities Inc.","4240","Provision for Rate Refunds",0,0,0,0,0,null,"Lakefront Utilities Inc. 4240"]
["Lakefront Utilities Inc. 4245","Lakefront Utilities Inc.","4245","Government and Other Assistance Directly Credited to Income",0,0,0,0,0,null,"Lakefront Utilities Inc. 4245"]
["Lakefront Utilities Inc. 4305","Lakefront Utilities Inc.","4305","Regulatory Debits",0,0,0,0,0,null,"Lakefront Utilities Inc. 4305"]
["Lakefront Utilities Inc. 4310","Lakefront Utilities Inc.","4310","Regulatory Credits",0,0,0,0,0,null,"Lakefront Utilities Inc. 4310"]
["Lakefront Utilities Inc. 4315","Lakefront Utilities Inc.","4315","Revenues from Electric Plant Leased to Others",0,0,0,0,0,null,"Lakefront Utilities Inc. 4315"]
["Lakefront Utilities Inc. 4320","Lakefront Utilities Inc.","4320","Expenses of Electric Plant Leased to Others",0,0,0,0,0,null,"Lakefront Utilities Inc. 4320"]
["Lakefront Utilities Inc. 4325","Lakefront Utilities Inc.","4325","Revenues from Merchandise",0,0,0,0,0,null,"Lakefront Utilities Inc. 4325"]
["Lakefront Utilities Inc. 4330","Lakefront Utilities Inc.","4330","Costs and Expenses of Merchandising",0,0,0,0,0,null,"Lakefront Utilities Inc. 4330"]
["Lakefront Utilities Inc. 4335","Lakefront Utilities Inc.","4335","Profits and Losses from Financial Instrument Hedges",0,0,0,0,0,null,"Lakefront Utilities Inc. 4335"]
["Lakefront Utilities Inc. 4340","Lakefront Utilities Inc.","4340","Profits and Losses from Financial Instrument Investments",0,0,0,0,0,null,"Lakefront Utilities Inc. 4340"]
["Lakefront Utilities Inc. 4345","Lakefront Utilities Inc.","4345","Gains from Disposition of Future Use Utility Plant",0,0,0,0,0,null,"Lakefront Utilities Inc. 4345"]
["Lakefront Utilities Inc. 4350","Lakefront Utilities Inc.","4350","Losses from Disposition of Future Use Utility Plant",0,0,0,0,0,null,"Lakefront Utilities Inc. 4350"]
["Lakefront Utilities Inc. 4355","Lakefront Utilities Inc.","4355","Gain on Disposition of Utility and Other Property",-30000,0,0,0,0,null,"Lakefront Utilities Inc. 4355"]
["Lakefront Utilities Inc. 4357","Lakefront Utilities Inc.","4357","Gain from Retirement of Utility and Other Property",0,0,0,0,0,null,"Lakefront Utilities Inc. 4357"]
["Lakefront Utilities Inc. 4360","Lakefront Utilities Inc.","4360","Loss on Disposition of Utility and Other Property",0,0,0,0,0,null,"Lakefront Utilities Inc. 4360"]
["Lakefront Utilities Inc. 4362","Lakefront Utilities Inc.","4362","Loss from Retirement of Utility and Other Property",0,0,0,0,0,null,"Lakefront Utilities Inc. 4362"]
["Lakefront Utilities Inc. 4365","Lakefront Utilities Inc.","4365","Gains from Disposition of Allowances for Emission",0,0,0,0,0,null,"Lakefront Utilities Inc. 4365"]
["Lakefront Utilities Inc. 4370","Lakefront Utilities Inc.","4370","Losses from Disposition of Allowances for Emission",0,0,0,0,0,null,"Lakefront Utilities Inc. 4370"]
["Lakefront Utilities Inc. 4375","Lakefront Utilities Inc.","4375","Revenues from Non Rate-Regulated Utility Operations",-477311.99,-325502.49,-483181.9,-384152.88,-102520.48,null,"Lakefront Utilities Inc. 4375"]
["Lakefront Utilities Inc. 4375","Lakefront Utilities Inc.","4375","Sub-account Generation Facility Revenues",0,0,0,0,0,null,"Lakefront Utilities Inc. 4375"]
["Lakefront Utilities Inc. 4380","Lakefront Utilities Inc.","4380","Expenses of Non Rate-Regulated Utility Operations",475987.46,323051.28999999998,382901.99,333801.39,76603,null,"Lakefront Utilities Inc. 4380"]
["Lakefront Utilities Inc. 4380","Lakefront Utilities Inc.","4380","Sub-account Generation Facility Expenses",0,0,0,0,0,null,"Lakefront Utilities Inc. 4380"]
["Lakefront Utilities Inc. 4385","Lakefront Utilities Inc.","4385","Non Rate-Regulated Utility Rental Income",0,0,0,0,0,null,"Lakefront Utilities Inc. 4385"]
["Lakefront Utilities Inc. 4390","Lakefront Utilities Inc.","4390","Miscellaneous Non-Operating Income",0,0,0,0,0,null,"Lakefront Utilities Inc. 4390"]
["Lakefront Utilities Inc. 4395","Lakefront Utilities Inc.","4395","Rate-Payer Benefit Including Interest",0,0,0,0,0,null,"Lakefront Utilities Inc. 4395"]
["Lakefront Utilities Inc. 4398","Lakefront Utilities Inc.","4398","Foreign Exchange Gains and Losses, Including Amortization",0,0,-46560.24,-8635.4,0,null,"Lakefront Utilities Inc. 4398"]
["Lakefront Utilities Inc. 4405","Lakefront Utilities Inc.","4405","Interest and Dividend Income",-28555.48,-30562.9,-35444.06,-51626.61,-39235.9,null,"Lakefront Utilities Inc. 4405"]
["Lakefront Utilities Inc. 4410","Lakefront Utilities Inc.","4410","Lessor's Net Investment in Finance Lease",0,0,0,0,0,null,"Lakefront Utilities Inc. 4410"]
["Lakefront Utilities Inc. 4415","Lakefront Utilities Inc.","4415","Equity in Earnings of Subsidiary Companies",0,0,0,0,0,null,"Lakefront Utilities Inc. 4415"]
["Lakefront Utilities Inc. 4420","Lakefront Utilities Inc.","4420","Share of Profit or Loss of Joint Venture",0,0,0,0,0,null,"Lakefront Utilities Inc. 4420"]
["Lakefront Utilities Inc. Total ","Lakefront Utilities Inc. Total",null,null,-638554.06999999995,-540868.71,-705174.58,-561201.81999999995,-282388.40999999997,null,"Lakefront Utilities Inc. Total "]
["Lakeland Power Distribution Ltd. 4082","Lakeland Power Distribution Ltd.","4082","Retail Services Revenues",-7500.34,-6899.4,-7060.7,-13251.6,-12381.52,null,"Lakeland Power Distribution Ltd. 4082"]
["Lakeland Power Distribution Ltd. 4084","Lakeland Power Distribution Ltd.","4084","Service Transaction Requests (STR) Revenues",0,0,0,0,0,null,"Lakeland Power Distribution Ltd. 4084"]
["Lakeland Power Distribution Ltd. 4086","Lakeland Power Distribution Ltd.","4086","SSS Administration Revenue",-45230.46,-46267.5,-46986.99,-47508.5,-48083.06,null,"Lakeland Power Distribution Ltd. 4086"]
["Lakeland Power Distribution Ltd. 4090","Lakeland Power Distribution Ltd.","4090","Electric Services Incidental to Energy Sales",0,0,0,0,0,null,"Lakeland Power Distribution Ltd. 4090"]
["Lakeland Power Distribution Ltd. 4205","Lakeland Power Distribution Ltd.","4205","Interdepartmental Rents",0,0,0,0,0,null,"Lakeland Power Distribution Ltd. 4205"]
["Lakeland Power Distribution Ltd. 4210","Lakeland Power Distribution Ltd.","4210","Rent from Electric Property",-216154.16,-223999.71,-230635.61,-341633.74,-398956.44,null,"Lakeland Power Distribution Ltd. 4210"]
["Lakeland Power Distribution Ltd. 4215","Lakeland Power Distribution Ltd.","4215","Other Utility Operating Income",0,0,0,0,0,null,"Lakeland Power Distribution Ltd. 4215"]
["Lakeland Power Distribution Ltd. 4220","Lakeland Power Distribution Ltd.","4220","Other Electric Revenues",0,0,0,0,0,null,"Lakeland Power Distribution Ltd. 4220"]
["Lakeland Power Distribution Ltd. 4225","Lakeland Power Distribution Ltd.","4225","Late Payment Charges",-84071.93,-93225.13,-77352.58,-76717.19,-122603.72,null,"Lakeland Power Distribution Ltd. 4225"]
["Lakeland Power Distribution Ltd. 4230","Lakeland Power Distribution Ltd.","4230","Sales of Water and Water Power",0,0,0,0,0,null,"Lakeland Power Distribution Ltd. 4230"]
["Lakeland Power Distribution Ltd. 4235","Lakeland Power Distribution Ltd.","4235","Miscellaneous Service Revenues",-91164.3,-77169.38,-72963.360000000001,-72303.63,-65493,null,{"$f":"B1798 & \" \" &C1798","v":"Lakeland Power Distribution Ltd. 4235"}]
["Lakeland Power Distribution Ltd. 4240","Lakeland Power Distribution Ltd.","4240","Provision for Rate Refunds",0,0,0,0,0,null,"Lakeland Power Distribution Ltd. 4240"]
["Lakeland Power Distribution Ltd. 4245","Lakeland Power Distribution Ltd.","4245","Government and Other Assistance Directly Credited to Income",-174304.71,-185052.39,-193446.69,-208153.56,-227815.46,null,"Lakeland Power Distribution Ltd. 4245"]
["Lakeland Power Distribution Ltd. 4305","Lakeland Power Distribution Ltd.","4305","Regulatory Debits",0,0,0,262292.64,131146.32,null,"Lakeland Power Distribution Ltd. 4305"]
["Lakeland Power Distribution Ltd. 4310","Lakeland Power Distribution Ltd.","4310","Regulatory Credits",0,0,0,0,0,null,"Lakeland Power Distribution Ltd. 4310"]
["Lakeland Power Distribution Ltd. 4315","Lakeland Power Distribution Ltd.","4315","Revenues from Electric Plant Leased to Others",0,0,0,0,0,null,"Lakeland Power Distribution Ltd. 4315"]
["Lakeland Power Distribution Ltd. 4320","Lakeland Power Distribution Ltd.","4320","Expenses of Electric Plant Leased to Others",0,0,0,0,0,null,"Lakeland Power Distribution Ltd. 4320"]
["Lakeland Power Distribution Ltd. 4325","Lakeland Power Distribution Ltd.","4325","Revenues from Merchandise",0,0,0,0,0,null,"Lakeland Power Distribution Ltd. 4325"]
["Lakeland Power Distribution Ltd. 4330","Lakeland Power Distribution Ltd.","4330","Costs and Expenses of Merchandising",0,0,0,0,0,null,"Lakeland Power Distribution Ltd. 4330"]
["Lakeland Power Distribution Ltd. 4335","Lakeland Power Distribution Ltd.","4335","Profits and Losses from Financial Instrument Hedges",0,0,0,0,0,null,"Lakeland Power Distribution Ltd. 4335"]
["Lakeland Power Distribution Ltd. 4340","Lakeland Power Distribution Ltd.","4340","Profits and Losses from Financial Instrument Investments",0,0,0,0,0,null,"Lakeland Power Distribution Ltd. 4340"]
["Lakeland Power Distribution Ltd. 4345","Lakeland Power Distribution Ltd.","4345","Gains from Disposition of Future Use Utility Plant",0,0,0,0,0,null,"Lakeland Power Distribution Ltd. 4345"]
["Lakeland Power Distribution Ltd. 4350","Lakeland Power Distribution Ltd.","4350","Losses from Disposition of Future Use Utility Plant",0,0,0,0,0,null,"Lakeland Power Distribution Ltd. 4350"]
["Lakeland Power Distribution Ltd. 4355","Lakeland Power Distribution Ltd.","4355","Gain on Disposition of Utility and Other Property",-10141.67,-1282.08,-31186.99,-807.19,-29550.5,null,"Lakeland Power Distribution Ltd. 4355"]
["Lakeland Power Distribution Ltd. 4357","Lakeland Power Distribution Ltd.","4357","Gain from Retirement of Utility and Other Property",0,0,0,0,0,null,"Lakeland Power Distribution Ltd. 4357"]
["Lakeland Power Distribution Ltd. 4360","Lakeland Power Distribution Ltd.","4360","Loss on Disposition of Utility and Other Property",0,8736.2900000000009,23630.61,0,0,null,"Lakeland Power Distribution Ltd. 4360"]
["Lakeland Power Distribution Ltd. 4362","Lakeland Power Distribution Ltd.","4362","Loss from Retirement of Utility and Other Property",0,0,0,0,0,null,"Lakeland Power Distribution Ltd. 4362"]
["Lakeland Power Distribution Ltd. 4365","Lakeland Power Distribution Ltd.","4365","Gains from Disposition of Allowances for Emission",0,0,0,0,0,null,"Lakeland Power Distribution Ltd. 4365"]
["Lakeland Power Distribution Ltd. 4370","Lakeland Power Distribution Ltd.","4370","Losses from Disposition of Allowances for Emission",0,0,0,0,0,null,"Lakeland Power Distribution Ltd. 4370"]
["Lakeland Power Distribution Ltd. 4375","Lakeland Power Distribution Ltd.","4375","Revenues from Non Rate-Regulated Utility Operations",-614064.88,-73621.320000000007,-260306.07,-107291.23,-301456.7,null,"Lakeland Power Distribution Ltd. 4375"]
["Lakeland Power Distribution Ltd. 4375","Lakeland Power Distribution Ltd.","4375","Sub-account Generation Facility Revenues",0,0,0,0,0,null,"Lakeland Power Distribution Ltd. 4375"]
["Lakeland Power Distribution Ltd. 4380","Lakeland Power Distribution Ltd.","4380","Expenses of Non Rate-Regulated Utility Operations",615054.21,62149.74,70925.78,104605.75999999999,294498.25,null,"Lakeland Power Distribution Ltd. 4380"]
["Lakeland Power Distribution Ltd. 4380","Lakeland Power Distribution Ltd.","4380","Sub-account Generation Facility Expenses",0,0,0,0,0,null,"Lakeland Power Distribution Ltd. 4380"]
["Lakeland Power Distribution Ltd. 4385","Lakeland Power Distribution Ltd.","4385","Non Rate-Regulated Utility Rental Income",0,0,0,0,0,null,"Lakeland Power Distribution Ltd. 4385"]
["Lakeland Power Distribution Ltd. 4390","Lakeland Power Distribution Ltd.","4390","Miscellaneous Non-Operating Income",-71251.399999999994,-129141.13,-131617.29,-107584.81,-122518.86,null,"Lakeland Power Distribution Ltd. 4390"]
["Lakeland Power Distribution Ltd. 4395","Lakeland Power Distribution Ltd.","4395","Rate-Payer Benefit Including Interest",0,0,0,0,0,null,"Lakeland Power Distribution Ltd. 4395"]
["Lakeland Power Distribution Ltd. 4398","Lakeland Power Distribution Ltd.","4398","Foreign Exchange Gains and Losses, Including Amortization",0,0,0,0,0,null,"Lakeland Power Distribution Ltd. 4398"]
["Lakeland Power Distribution Ltd. 4405","Lakeland Power Distribution Ltd.","4405","Interest and Dividend Income",-61066.76,-52851.19,-130515.28,-125961.16,-39309.11,null,"Lakeland Power Distribution Ltd. 4405"]
["Lakeland Power Distribution Ltd. 4410","Lakeland Power Distribution Ltd.","4410","Lessor's Net Investment in Finance Lease",0,0,0,0,0,null,"Lakeland Power Distribution Ltd. 4410"]
["Lakeland Power Distribution Ltd. 4415","Lakeland Power Distribution Ltd.","4415","Equity in Earnings of Subsidiary Companies",0,0,0,0,0,null,"Lakeland Power Distribution Ltd. 4415"]
["Lakeland Power Distribution Ltd. 4420","Lakeland Power Distribution Ltd.","4420","Share of Profit or Loss of Joint Venture",0,0,0,0,0,null,"Lakeland Power Distribution Ltd. 4420"]
["Lakeland Power Distribution Ltd. Total ","Lakeland Power Distribution Ltd. Total",null,null,-759896.4,-818623.2,-1087515.17,-734314.21,-942523.8,null,"Lakeland Power Distribution Ltd. Total "]
["London Hydro Inc. 4082","London Hydro Inc.","4082","Retail Services Revenues",-77802.3,-64993.599999999999,-54314.7,-80321.100000000006,-87331.21,null,"London Hydro Inc. 4082"]
["London Hydro Inc. 4084","London Hydro Inc.","4084","Service Transaction Requests (STR) Revenues",-2171.75,-1380,-809.25,-1435.25,-1609.05,null,"London Hydro Inc. 4084"]
["London Hydro Inc. 4086","London Hydro Inc.","4086","SSS Administration Revenue",-447988.03,-456154.22,-464004.03,-475084.32,-482462.39,null,"London Hydro Inc. 4086"]
["London Hydro Inc. 4090","London Hydro Inc.","4090","Electric Services Incidental to Energy Sales",0,0,0,0,0,null,"London Hydro Inc. 4090"]
["London Hydro Inc. 4205","London Hydro Inc.","4205","Interdepartmental Rents",0,0,0,0,0,null,"London Hydro Inc. 4205"]
["London Hydro Inc. 4210","London Hydro Inc.","4210","Rent from Electric Property",-442632.44,-445976.78,-493781.08,-528654.07999999996,-556669.93999999994,null,"London Hydro Inc. 4210"]
["London Hydro Inc. 4215","London Hydro Inc.","4215","Other Utility Operating Income",0,0,0,0,0,null,"London Hydro Inc. 4215"]
["London Hydro Inc. 4220","London Hydro Inc.","4220","Other Electric Revenues",0,0,0,0,0,null,"London Hydro Inc. 4220"]
["London Hydro Inc. 4225","London Hydro Inc.","4225","Late Payment Charges",-1914935.19,-1543276.14,-1561023.47,-1698897.12,-2154520.85,null,"London Hydro Inc. 4225"]
["London Hydro Inc. 4230","London Hydro Inc.","4230","Sales of Water and Water Power",0,0,0,0,0,null,"London Hydro Inc. 4230"]
["London Hydro Inc. 4235","London Hydro Inc.","4235","Miscellaneous Service Revenues",-814535.75,-1143654.3999999999,-1278949.3600000001,-1207707.51,-1208102.43,null,"London Hydro Inc. 4235"]
["London Hydro Inc. 4240","London Hydro Inc.","4240","Provision for Rate Refunds",0,0,0,0,0,null,"London Hydro Inc. 4240"]
["London Hydro Inc. 4245","London Hydro Inc.","4245","Government and Other Assistance Directly Credited to Income",-172619.73,-279828.57,-411679.93,-524628.51,-678149.82,null,"London Hydro Inc. 4245"]
["London Hydro Inc. 4305","London Hydro Inc.","4305","Regulatory Debits",0,0,0,0,0,null,"London Hydro Inc. 4305"]
["London Hydro Inc. 4310","London Hydro Inc.","4310","Regulatory Credits",0,0,0,0,0,null,"London Hydro Inc. 4310"]
["London Hydro Inc. 4315","London Hydro Inc.","4315","Revenues from Electric Plant Leased to Others",0,0,0,0,0,null,"London Hydro Inc. 4315"]
["London Hydro Inc. 4320","London Hydro Inc.","4320","Expenses of Electric Plant Leased to Others",0,0,0,0,0,null,"London Hydro Inc. 4320"]
["London Hydro Inc. 4325","London Hydro Inc.","4325","Revenues from Merchandise",0,-197122.87,-312486.09999999998,-227533.48,-210923.4,null,"London Hydro Inc. 4325"]
["London Hydro Inc. 4330","London Hydro Inc.","4330","Costs and Expenses of Merchandising",-121565.33,87912.06,117517.9,114853.34,82753.86,null,"London Hydro Inc. 4330"]
["London Hydro Inc. 4335","London Hydro Inc.","4335","Profits and Losses from Financial Instrument Hedges",-1528737,-3519571,341274,419013,6629973.0300000003,null,"London Hydro Inc. 4335"]
["London Hydro Inc. 4340","London Hydro Inc.","4340","Profits and Losses from Financial Instrument Investments",0,0,0,0,0,null,"London Hydro Inc. 4340"]
["London Hydro Inc. 4345","London Hydro Inc.","4345","Gains from Disposition of Future Use Utility Plant",0,0,0,0,0,null,"London Hydro Inc. 4345"]
["London Hydro Inc. 4350","London Hydro Inc.","4350","Losses from Disposition of Future Use Utility Plant",0,0,0,0,0,null,"London Hydro Inc. 4350"]
["London Hydro Inc. 4355","London Hydro Inc.","4355","Gain on Disposition of Utility and Other Property",-234175.44,-137770.9,-219887.98,-30880.47,-28107.56,null,"London Hydro Inc. 4355"]
["London Hydro Inc. 4357","London Hydro Inc.","4357","Gain from Retirement of Utility and Other Property",0,0,0,0,0,null,"London Hydro Inc. 4357"]
["London Hydro Inc. 4360","London Hydro Inc.","4360","Loss on Disposition of Utility and Other Property",0,0,0,0,0,null,"London Hydro Inc. 4360"]
["London Hydro Inc. 4362","London Hydro Inc.","4362","Loss from Retirement of Utility and Other Property",0,0,0,0,0,null,"London Hydro Inc. 4362"]
["London Hydro Inc. 4365","London Hydro Inc.","4365","Gains from Disposition of Allowances for Emission",0,0,0,0,0,null,"London Hydro Inc. 4365"]
["London Hydro Inc. 4370","London Hydro Inc.","4370","Losses from Disposition of Allowances for Emission",0,0,0,0,0,null,"London Hydro Inc. 4370"]
["London Hydro Inc. 4375","London Hydro Inc.","4375","Revenues from Non Rate-Regulated Utility Operations",-2702906.43,-3258709.45,-9623660.5399999991,-10967161.310000001,-5869667.6500000004,null,"London Hydro Inc. 4375"]
["London Hydro Inc. 4375","London Hydro Inc.","4375","Sub-account Generation Facility Revenues",0,0,0,0,0,null,"London Hydro Inc. 4375"]
["London Hydro Inc. 4380","London Hydro Inc.","4380","Expenses of Non Rate-Regulated Utility Operations",2421279.85,2992068.68,7613569.4199999999,10749921.119999999,5529314.1200000001,null,"London Hydro Inc. 4380"]
["London Hydro Inc. 4380","London Hydro Inc.","4380","Sub-account Generation Facility Expenses",0,0,0,0,0,null,{"$f":"B1862 & \" \" &C1862","v":"London Hydro Inc. 4380"}]
["London Hydro Inc. 4385","London Hydro Inc.","4385","Non Rate-Regulated Utility Rental Income",0,0,0,0,0,null,"London Hydro Inc. 4385"]
["London Hydro Inc. 4390","London Hydro Inc.","4390","Miscellaneous Non-Operating Income",-617303.68000000005,-514590.67,-584005.18000000005,-865098.58,-850160.02,null,"London Hydro Inc. 4390"]
["London Hydro Inc. 4395","London Hydro Inc.","4395","Rate-Payer Benefit Including Interest",0,0,0,0,0,null,"London Hydro Inc. 4395"]
["London Hydro Inc. 4398","London Hydro Inc.","4398","Foreign Exchange Gains and Losses, Including Amortization",0,19952.12,-8592.64,11300.33,-13325.93,null,"London Hydro Inc. 4398"]
["London Hydro Inc. 4405","London Hydro Inc.","4405","Interest and Dividend Income",-291263.73,-257442,-428017.28,-783770.95,-526821.25,null,"London Hydro Inc. 4405"]
["London Hydro Inc. 4410","London Hydro Inc.","4410","Lessor's Net Investment in Finance Lease",0,0,0,0,0,null,"London Hydro Inc. 4410"]
["London Hydro Inc. 4415","London Hydro Inc.","4415","Equity in Earnings of Subsidiary Companies",0,0,0,0,0,null,"London Hydro Inc. 4415"]
["London Hydro Inc. 4420","London Hydro Inc.","4420","Share of Profit or Loss of Joint Venture",0,0,0,0,0,null,"London Hydro Inc. 4420"]
["London Hydro Inc. Total ","London Hydro Inc. Total",null,null,-6947356.9500000002,-8720537.7400000002,-7368850.2199999997,-6096084.8899999997,-425810.49,null,"London Hydro Inc. Total "]
["Midland Power Utility Corporation 4082","Midland Power Utility Corporation","4082","Retail Services Revenues",0,0,null,null,null,null,"Midland Power Utility Corporation 4082"]
["Midland Power Utility Corporation 4084","Midland Power Utility Corporation","4084","Service Transaction Requests (STR) Revenues",0,0,null,null,null,null,"Midland Power Utility Corporation 4084"]
["Midland Power Utility Corporation 4086","Midland Power Utility Corporation","4086","SSS Administration Revenue",-19460.990000000002,-20038.3,null,null,null,null,"Midland Power Utility Corporation 4086"]
["Midland Power Utility Corporation 4090","Midland Power Utility Corporation","4090","Electric Services Incidental to Energy Sales",0,0,null,null,null,null,"Midland Power Utility Corporation 4090"]
["Midland Power Utility Corporation 4205","Midland Power Utility Corporation","4205","Interdepartmental Rents",0,0,null,null,null,null,"Midland Power Utility Corporation 4205"]
["Midland Power Utility Corporation 4210","Midland Power Utility Corporation","4210","Rent from Electric Property",-58559.62,-64397.41,null,null,null,null,"Midland Power Utility Corporation 4210"]
["Midland Power Utility Corporation 4215","Midland Power Utility Corporation","4215","Other Utility Operating Income",0,0,null,null,null,null,"Midland Power Utility Corporation 4215"]
["Midland Power Utility Corporation 4220","Midland Power Utility Corporation","4220","Other Electric Revenues",-37306.32,-5380.58,null,null,null,null,"Midland Power Utility Corporation 4220"]
["Midland Power Utility Corporation 4225","Midland Power Utility Corporation","4225","Late Payment Charges",-21095.27,-22647.96,null,null,null,null,"Midland Power Utility Corporation 4225"]
["Midland Power Utility Corporation 4230","Midland Power Utility Corporation","4230","Sales of Water and Water Power",0,0,null,null,null,null,"Midland Power Utility Corporation 4230"]
["Midland Power Utility Corporation 4235","Midland Power Utility Corporation","4235","Miscellaneous Service Revenues",-109543.38,-88584.72,null,null,null,null,"Midland Power Utility Corporation 4235"]
["Midland Power Utility Corporation 4240","Midland Power Utility Corporation","4240","Provision for Rate Refunds",0,0,null,null,null,null,"Midland Power Utility Corporation 4240"]
["Midland Power Utility Corporation 4245","Midland Power Utility Corporation","4245","Government and Other Assistance Directly Credited to Income",-79807.31,-82192.31,null,null,null,null,"Midland Power Utility Corporation 4245"]
["Midland Power Utility Corporation 4305","Midland Power Utility Corporation","4305","Regulatory Debits",0,0,null,null,null,null,"Midland Power Utility Corporation 4305"]
["Midland Power Utility Corporation 4310","Midland Power Utility Corporation","4310","Regulatory Credits",0,0,null,null,null,null,"Midland Power Utility Corporation 4310"]
["Midland Power Utility Corporation 4315","Midland Power Utility Corporation","4315","Revenues from Electric Plant Leased to Others",0,0,null,null,null,null,"Midland Power Utility Corporation 4315"]
["Midland Power Utility Corporation 4320","Midland Power Utility Corporation","4320","Expenses of Electric Plant Leased to Others",0,0,null,null,null,null,"Midland Power Utility Corporation 4320"]
["Midland Power Utility Corporation 4325","Midland Power Utility Corporation","4325","Revenues from Merchandise",-143050.25,-196843.74,null,null,null,null,"Midland Power Utility Corporation 4325"]
["Midland Power Utility Corporation 4330","Midland Power Utility Corporation","4330","Costs and Expenses of Merchandising",101100.52,123662.68,null,null,null,null,"Midland Power Utility Corporation 4330"]
["Midland Power Utility Corporation 4335","Midland Power Utility Corporation","4335","Profits and Losses from Financial Instrument Hedges",0,0,null,null,null,null,"Midland Power Utility Corporation 4335"]
["Midland Power Utility Corporation 4340","Midland Power Utility Corporation","4340","Profits and Losses from Financial Instrument Investments",0,0,null,null,null,null,"Midland Power Utility Corporation 4340"]
["Midland Power Utility Corporation 4345","Midland Power Utility Corporation","4345","Gains from Disposition of Future Use Utility Plant",0,0,null,null,null,null,"Midland Power Utility Corporation 4345"]
["Midland Power Utility Corporation 4350","Midland Power Utility Corporation","4350","Losses from Disposition of Future Use Utility Plant",0,0,null,null,null,null,"Midland Power Utility Corporation 4350"]
["Midland Power Utility Corporation 4355","Midland Power Utility Corporation","4355","Gain on Disposition of Utility and Other Property",0,-10540.23,null,null,null,null,"Midland Power Utility Corporation 4355"]
["Midland Power Utility Corporation 4357","Midland Power Utility Corporation","4357","Gain from Retirement of Utility and Other Property",0,0,null,null,null,null,"Midland Power Utility Corporation 4357"]
["Midland Power Utility Corporation 4360","Midland Power Utility Corporation","4360","Loss on Disposition of Utility and Other Property",62210.32,0,null,null,null,null,"Midland Power Utility Corporation 4360"]
["Midland Power Utility Corporation 4362","Midland Power Utility Corporation","4362","Loss from Retirement of Utility and Other Property",0,53500.160000000003,null,null,null,null,"Midland Power Utility Corporation 4362"]
["Midland Power Utility Corporation 4365","Midland Power Utility Corporation","4365","Gains from Disposition of Allowances for Emission",0,0,null,null,null,null,"Midland Power Utility Corporation 4365"]
["Midland Power Utility Corporation 4370","Midland Power Utility Corporation","4370","Losses from Disposition of Allowances for Emission",0,0,null,null,null,null,"Midland Power Utility Corporation 4370"]
["Midland Power Utility Corporation 4375","Midland Power Utility Corporation","4375","Revenues from Non Rate-Regulated Utility Operations",-115066.7,-103648.51,null,null,null,null,"Midland Power Utility Corporation 4375"]
["Midland Power Utility Corporation 4375","Midland Power Utility Corporation","4375","Sub-account Generation Facility Revenues",0,0,null,null,null,null,"Midland Power Utility Corporation 4375"]
["Midland Power Utility Corporation 4380","Midland Power Utility Corporation","4380","Expenses of Non Rate-Regulated Utility Operations",69502.740000000005,8740.23,null,null,null,null,"Midland Power Utility Corporation 4380"]
["Midland Power Utility Corporation 4380","Midland Power Utility Corporation","4380","Sub-account Generation Facility Expenses",0,0,null,null,null,null,"Midland Power Utility Corporation 4380"]
["Midland Power Utility Corporation 4385","Midland Power Utility Corporation","4385","Non Rate-Regulated Utility Rental Income",0,0,null,null,null,null,"Midland Power Utility Corporation 4385"]
["Midland Power Utility Corporation 4390","Midland Power Utility Corporation","4390","Miscellaneous Non-Operating Income",0,0,null,null,null,null,"Midland Power Utility Corporation 4390"]
["Midland Power Utility Corporation 4395","Midland Power Utility Corporation","4395","Rate-Payer Benefit Including Interest",0,0,null,null,null,null,"Midland Power Utility Corporation 4395"]
["Midland Power Utility Corporation 4398","Midland Power Utility Corporation","4398","Foreign Exchange Gains and Losses, Including Amortization",0,0,null,null,null,null,"Midland Power Utility Corporation 4398"]
["Midland Power Utility Corporation 4405","Midland Power Utility Corporation","4405","Interest and Dividend Income",-51412.89,-40570.959999999999,null,null,null,null,"Midland Power Utility Corporation 4405"]
["Midland Power Utility Corporation 4410","Midland Power Utility Corporation","4410","Lessor's Net Investment in Finance Lease",0,0,null,null,null,null,"Midland Power Utility Corporation 4410"]
["Midland Power Utility Corporation 4415","Midland Power Utility Corporation","4415","Equity in Earnings of Subsidiary Companies",0,0,null,null,null,null,"Midland Power Utility Corporation 4415"]
["Midland Power Utility Corporation 4420","Midland Power Utility Corporation","4420","Share of Profit or Loss of Joint Venture",0,0,null,null,null,null,"Midland Power Utility Corporation 4420"]
["Midland Power Utility Corporation Total ","Midland Power Utility Corporation Total",null,null,-402489.15,-448941.65,null,null,null,null,"Midland Power Utility Corporation Total "]
["Milton Hydro Distribution Inc. 4082","Milton Hydro Distribution Inc.","4082","Retail Services Revenues",-19449,-17422,-15313,-21651,-24541,null,"Milton Hydro Distribution Inc. 4082"]
["Milton Hydro Distribution Inc. 4084","Milton Hydro Distribution Inc.","4084","Service Transaction Requests (STR) Revenues",-350,-214,-215,-262,-278,null,"Milton Hydro Distribution Inc. 4084"]
["Milton Hydro Distribution Inc. 4086","Milton Hydro Distribution Inc.","4086","SSS Administration Revenue",0,0,0,0,0,null,"Milton Hydro Distribution Inc. 4086"]
["Milton Hydro Distribution Inc. 4090","Milton Hydro Distribution Inc.","4090","Electric Services Incidental to Energy Sales",0,0,0,0,0,null,"Milton Hydro Distribution Inc. 4090"]
["Milton Hydro Distribution Inc. 4205","Milton Hydro Distribution Inc.","4205","Interdepartmental Rents",0,0,0,0,0,null,"Milton Hydro Distribution Inc. 4205"]
["Milton Hydro Distribution Inc. 4210","Milton Hydro Distribution Inc.","4210","Rent from Electric Property",-151974,-260595,-183640,-179053,-224033,null,"Milton Hydro Distribution Inc. 4210"]
["Milton Hydro Distribution Inc. 4215","Milton Hydro Distribution Inc.","4215","Other Utility Operating Income",0,0,0,0,0,null,"Milton Hydro Distribution Inc. 4215"]
["Milton Hydro Distribution Inc. 4220","Milton Hydro Distribution Inc.","4220","Other Electric Revenues",0,0,0,0,0,null,"Milton Hydro Distribution Inc. 4220"]
["Milton Hydro Distribution Inc. 4225","Milton Hydro Distribution Inc.","4225","Late Payment Charges",-246978,-287540,-296551,-304211,-333754,null,"Milton Hydro Distribution Inc. 4225"]
["Milton Hydro Distribution Inc. 4230","Milton Hydro Distribution Inc.","4230","Sales of Water and Water Power",0,0,0,0,0,null,"Milton Hydro Distribution Inc. 4230"]
["Milton Hydro Distribution Inc. 4235","Milton Hydro Distribution Inc.","4235","Miscellaneous Service Revenues",-593192,-459077,-503032,-349701,-262637,null,"Milton Hydro Distribution Inc. 4235"]
["Milton Hydro Distribution Inc. 4240","Milton Hydro Distribution Inc.","4240","Provision for Rate Refunds",0,0,0,0,0,null,"Milton Hydro Distribution Inc. 4240"]
["Milton Hydro Distribution Inc. 4245","Milton Hydro Distribution Inc.","4245","Government and Other Assistance Directly Credited to Income",-214162,-295202,-368975,-431291,-484446,null,{"$f":"B1926 & \" \" &C1926","v":"Milton Hydro Distribution Inc. 4245"}]
["Milton Hydro Distribution Inc. 4305","Milton Hydro Distribution Inc.","4305","Regulatory Debits",0,0,0,0,0,null,"Milton Hydro Distribution Inc. 4305"]
["Milton Hydro Distribution Inc. 4310","Milton Hydro Distribution Inc.","4310","Regulatory Credits",0,0,0,0,0,null,"Milton Hydro Distribution Inc. 4310"]
["Milton Hydro Distribution Inc. 4315","Milton Hydro Distribution Inc.","4315","Revenues from Electric Plant Leased to Others",0,0,0,0,0,null,"Milton Hydro Distribution Inc. 4315"]
["Milton Hydro Distribution Inc. 4320","Milton Hydro Distribution Inc.","4320","Expenses of Electric Plant Leased to Others",0,0,0,0,0,null,"Milton Hydro Distribution Inc. 4320"]
["Milton Hydro Distribution Inc. 4325","Milton Hydro Distribution Inc.","4325","Revenues from Merchandise",0,0,0,0,0,null,"Milton Hydro Distribution Inc. 4325"]
["Milton Hydro Distribution Inc. 4330","Milton Hydro Distribution Inc.","4330","Costs and Expenses of Merchandising",0,0,0,0,0,null,"Milton Hydro Distribution Inc. 4330"]
["Milton Hydro Distribution Inc. 4335","Milton Hydro Distribution Inc.","4335","Profits and Losses from Financial Instrument Hedges",0,0,0,0,0,null,"Milton Hydro Distribution Inc. 4335"]
["Milton Hydro Distribution Inc. 4340","Milton Hydro Distribution Inc.","4340","Profits and Losses from Financial Instrument Investments",0,0,0,0,0,null,"Milton Hydro Distribution Inc. 4340"]
["Milton Hydro Distribution Inc. 4345","Milton Hydro Distribution Inc.","4345","Gains from Disposition of Future Use Utility Plant",0,0,0,0,0,null,"Milton Hydro Distribution Inc. 4345"]
["Milton Hydro Distribution Inc. 4350","Milton Hydro Distribution Inc.","4350","Losses from Disposition of Future Use Utility Plant",0,0,0,0,0,null,"Milton Hydro Distribution Inc. 4350"]
["Milton Hydro Distribution Inc. 4355","Milton Hydro Distribution Inc.","4355","Gain on Disposition of Utility and Other Property",-4305,-103951,0,-26549,0,null,"Milton Hydro Distribution Inc. 4355"]
["Milton Hydro Distribution Inc. 4357","Milton Hydro Distribution Inc.","4357","Gain from Retirement of Utility and Other Property",-3,-154,-65061,0,-114,null,"Milton Hydro Distribution Inc. 4357"]
["Milton Hydro Distribution Inc. 4360","Milton Hydro Distribution Inc.","4360","Loss on Disposition of Utility and Other Property",0,0,0,2582,0,null,"Milton Hydro Distribution Inc. 4360"]
["Milton Hydro Distribution Inc. 4362","Milton Hydro Distribution Inc.","4362","Loss from Retirement of Utility and Other Property",148481,463209,91026,73258,484856,null,"Milton Hydro Distribution Inc. 4362"]
["Milton Hydro Distribution Inc. 4365","Milton Hydro Distribution Inc.","4365","Gains from Disposition of Allowances for Emission",0,0,0,0,0,null,"Milton Hydro Distribution Inc. 4365"]
["Milton Hydro Distribution Inc. 4370","Milton Hydro Distribution Inc.","4370","Losses from Disposition of Allowances for Emission",0,0,0,0,0,null,"Milton Hydro Distribution Inc. 4370"]
["Milton Hydro Distribution Inc. 4375","Milton Hydro Distribution Inc.","4375","Revenues from Non Rate-Regulated Utility Operations",-1306454,-1922546,-3809452,-503434,-1120312,null,"Milton Hydro Distribution Inc. 4375"]
["Milton Hydro Distribution Inc. 4375","Milton Hydro Distribution Inc.","4375","Sub-account Generation Facility Revenues",0,0,0,0,0,null,"Milton Hydro Distribution Inc. 4375"]
["Milton Hydro Distribution Inc. 4380","Milton Hydro Distribution Inc.","4380","Expenses of Non Rate-Regulated Utility Operations",1306454,1936468,3282013,503434,1120312,null,"Milton Hydro Distribution Inc. 4380"]
["Milton Hydro Distribution Inc. 4380","Milton Hydro Distribution Inc.","4380","Sub-account Generation Facility Expenses",0,0,0,0,0,null,"Milton Hydro Distribution Inc. 4380"]
["Milton Hydro Distribution Inc. 4385","Milton Hydro Distribution Inc.","4385","Non Rate-Regulated Utility Rental Income",0,0,0,0,0,null,"Milton Hydro Distribution Inc. 4385"]
["Milton Hydro Distribution Inc. 4390","Milton Hydro Distribution Inc.","4390","Miscellaneous Non-Operating Income",-696592,-668233,-697169,-751650,-760809,null,"Milton Hydro Distribution Inc. 4390"]
["Milton Hydro Distribution Inc. 4395","Milton Hydro Distribution Inc.","4395","Rate-Payer Benefit Including Interest",0,0,0,0,0,null,"Milton Hydro Distribution Inc. 4395"]
["Milton Hydro Distribution Inc. 4398","Milton Hydro Distribution Inc.","4398","Foreign Exchange Gains and Losses, Including Amortization",0,0,0,0,0,null,"Milton Hydro Distribution Inc. 4398"]
["Milton Hydro Distribution Inc. 4405","Milton Hydro Distribution Inc.","4405","Interest and Dividend Income",-98601,-171966,-197251,-290705,-107431,null,"Milton Hydro Distribution Inc. 4405"]
["Milton Hydro Distribution Inc. 4410","Milton Hydro Distribution Inc.","4410","Lessor's Net Investment in Finance Lease",0,0,0,0,0,null,"Milton Hydro Distribution Inc. 4410"]
["Milton Hydro Distribution Inc. 4415","Milton Hydro Distribution Inc.","4415","Equity in Earnings of Subsidiary Companies",0,0,0,0,0,null,"Milton Hydro Distribution Inc. 4415"]
["Milton Hydro Distribution Inc. 4420","Milton Hydro Distribution Inc.","4420","Share of Profit or Loss of Joint Venture",0,0,0,0,0,null,"Milton Hydro Distribution Inc. 4420"]
["Milton Hydro Distribution Inc. Total ","Milton Hydro Distribution Inc. Total",null,null,-1877125,-1787223,-2763620,-2279233,-1713187,null,"Milton Hydro Distribution Inc. Total "]
["Newmarket-Tay Power Distribution Ltd. 4082","Newmarket-Tay Power Distribution Ltd.","4082","Retail Services Revenues",-28033.4,-22690.5,-21201.4,-38512.800000000003,-42285.68,null,"Newmarket-Tay Power Distribution Ltd. 4082"]
["Newmarket-Tay Power Distribution Ltd. 4084","Newmarket-Tay Power Distribution Ltd.","4084","Service Transaction Requests (STR) Revenues",-238.5,-64.25,1421.69,7563.47,-302.14,null,"Newmarket-Tay Power Distribution Ltd. 4084"]
["Newmarket-Tay Power Distribution Ltd. 4086","Newmarket-Tay Power Distribution Ltd.","4086","SSS Administration Revenue",-127976.62,-129988.5,-132502.22,-146700.60999999999,-157519.42000000001,null,"Newmarket-Tay Power Distribution Ltd. 4086"]
["Newmarket-Tay Power Distribution Ltd. 4090","Newmarket-Tay Power Distribution Ltd.","4090","Electric Services Incidental to Energy Sales",0,0,0,0,0,null,"Newmarket-Tay Power Distribution Ltd. 4090"]
["Newmarket-Tay Power Distribution Ltd. 4205","Newmarket-Tay Power Distribution Ltd.","4205","Interdepartmental Rents",0,0,0,0,0,null,"Newmarket-Tay Power Distribution Ltd. 4205"]
["Newmarket-Tay Power Distribution Ltd. 4210","Newmarket-Tay Power Distribution Ltd.","4210","Rent from Electric Property",-141015.46,-137535.45000000001,-237278.05,-153227.88,-147025.34,null,"Newmarket-Tay Power Distribution Ltd. 4210"]
["Newmarket-Tay Power Distribution Ltd. 4215","Newmarket-Tay Power Distribution Ltd.","4215","Other Utility Operating Income",0,0,0,0,0,null,"Newmarket-Tay Power Distribution Ltd. 4215"]
["Newmarket-Tay Power Distribution Ltd. 4220","Newmarket-Tay Power Distribution Ltd.","4220","Other Electric Revenues",0,0,0,0,0,null,"Newmarket-Tay Power Distribution Ltd. 4220"]
["Newmarket-Tay Power Distribution Ltd. 4225","Newmarket-Tay Power Distribution Ltd.","4225","Late Payment Charges",-306201.53999999998,-213639.76,-201462.53,-244910.42,-275832.69,null,"Newmarket-Tay Power Distribution Ltd. 4225"]
["Newmarket-Tay Power Distribution Ltd. 4230","Newmarket-Tay Power Distribution Ltd.","4230","Sales of Water and Water Power",0,0,0,0,0,null,"Newmarket-Tay Power Distribution Ltd. 4230"]
["Newmarket-Tay Power Distribution Ltd. 4235","Newmarket-Tay Power Distribution Ltd.","4235","Miscellaneous Service Revenues",-514481.71,-378295.64,-371443.22,-282308.05,-217309.08,null,"Newmarket-Tay Power Distribution Ltd. 4235"]
["Newmarket-Tay Power Distribution Ltd. 4240","Newmarket-Tay Power Distribution Ltd.","4240","Provision for Rate Refunds",0,0,0,0,0,null,"Newmarket-Tay Power Distribution Ltd. 4240"]
["Newmarket-Tay Power Distribution Ltd. 4245","Newmarket-Tay Power Distribution Ltd.","4245","Government and Other Assistance Directly Credited to Income",0,-707027.64,-822847.97,-852529.54,-994507.47,null,"Newmarket-Tay Power Distribution Ltd. 4245"]
["Newmarket-Tay Power Distribution Ltd. 4305","Newmarket-Tay Power Distribution Ltd.","4305","Regulatory Debits",1489063.95,0,0,0,0,null,"Newmarket-Tay Power Distribution Ltd. 4305"]
["Newmarket-Tay Power Distribution Ltd. 4310","Newmarket-Tay Power Distribution Ltd.","4310","Regulatory Credits",0,0,0,0,0,null,"Newmarket-Tay Power Distribution Ltd. 4310"]
["Newmarket-Tay Power Distribution Ltd. 4315","Newmarket-Tay Power Distribution Ltd.","4315","Revenues from Electric Plant Leased to Others",0,0,0,0,0,null,"Newmarket-Tay Power Distribution Ltd. 4315"]
["Newmarket-Tay Power Distribution Ltd. 4320","Newmarket-Tay Power Distribution Ltd.","4320","Expenses of Electric Plant Leased to Others",0,0,0,0,0,null,"Newmarket-Tay Power Distribution Ltd. 4320"]
["Newmarket-Tay Power Distribution Ltd. 4325","Newmarket-Tay Power Distribution Ltd.","4325","Revenues from Merchandise",0,0,0,-102424.05,-1025466.47,null,"Newmarket-Tay Power Distribution Ltd. 4325"]
["Newmarket-Tay Power Distribution Ltd. 4330","Newmarket-Tay Power Distribution Ltd.","4330","Costs and Expenses of Merchandising",0,0,0,100207.25,970691.2,null,"Newmarket-Tay Power Distribution Ltd. 4330"]
["Newmarket-Tay Power Distribution Ltd. 4335","Newmarket-Tay Power Distribution Ltd.","4335","Profits and Losses from Financial Instrument Hedges",0,148392.82,132571.79999999999,116360.32000000001,1076899.1599999999,null,"Newmarket-Tay Power Distribution Ltd. 4335"]
["Newmarket-Tay Power Distribution Ltd. 4340","Newmarket-Tay Power Distribution Ltd.","4340","Profits and Losses from Financial Instrument Investments",-52740.69,0,0,0,0,null,"Newmarket-Tay Power Distribution Ltd. 4340"]
["Newmarket-Tay Power Distribution Ltd. 4345","Newmarket-Tay Power Distribution Ltd.","4345","Gains from Disposition of Future Use Utility Plant",0,0,0,0,0,null,"Newmarket-Tay Power Distribution Ltd. 4345"]
["Newmarket-Tay Power Distribution Ltd. 4350","Newmarket-Tay Power Distribution Ltd.","4350","Losses from Disposition of Future Use Utility Plant",0,0,0,0,0,null,"Newmarket-Tay Power Distribution Ltd. 4350"]
["Newmarket-Tay Power Distribution Ltd. 4355","Newmarket-Tay Power Distribution Ltd.","4355","Gain on Disposition of Utility and Other Property",18489.509999999998,-23480,-527631.32999999996,204969.36,483362.24,null,"Newmarket-Tay Power Distribution Ltd. 4355"]
["Newmarket-Tay Power Distribution Ltd. 4357","Newmarket-Tay Power Distribution Ltd.","4357","Gain from Retirement of Utility and Other Property",0,0,0,0,0,null,"Newmarket-Tay Power Distribution Ltd. 4357"]
["Newmarket-Tay Power Distribution Ltd. 4360","Newmarket-Tay Power Distribution Ltd.","4360","Loss on Disposition of Utility and Other Property",5744.76,0,0,0,0,null,"Newmarket-Tay Power Distribution Ltd. 4360"]
["Newmarket-Tay Power Distribution Ltd. 4362","Newmarket-Tay Power Distribution Ltd.","4362","Loss from Retirement of Utility and Other Property",0,0,0,0,0,null,"Newmarket-Tay Power Distribution Ltd. 4362"]
["Newmarket-Tay Power Distribution Ltd. 4365","Newmarket-Tay Power Distribution Ltd.","4365","Gains from Disposition of Allowances for Emission",0,0,0,0,0,null,"Newmarket-Tay Power Distribution Ltd. 4365"]
["Newmarket-Tay Power Distribution Ltd. 4370","Newmarket-Tay Power Distribution Ltd.","4370","Losses from Disposition of Allowances for Emission",0,0,0,0,0,null,"Newmarket-Tay Power Distribution Ltd. 4370"]
["Newmarket-Tay Power Distribution Ltd. 4375","Newmarket-Tay Power Distribution Ltd.","4375","Revenues from Non Rate-Regulated Utility Operations",0,0,-2980908.55,-2007232.36,-1718882.2,null,"Newmarket-Tay Power Distribution Ltd. 4375"]
["Newmarket-Tay Power Distribution Ltd. 4375","Newmarket-Tay Power Distribution Ltd.","4375","Sub-account Generation Facility Revenues",0,0,0,0,0,null,"Newmarket-Tay Power Distribution Ltd. 4375"]
["Newmarket-Tay Power Distribution Ltd. 4380","Newmarket-Tay Power Distribution Ltd.","4380","Expenses of Non Rate-Regulated Utility Operations",0,0,2766875.68,1451052.67,1585919.08,null,"Newmarket-Tay Power Distribution Ltd. 4380"]
["Newmarket-Tay Power Distribution Ltd. 4380","Newmarket-Tay Power Distribution Ltd.","4380","Sub-account Generation Facility Expenses",0,0,0,0,0,null,"Newmarket-Tay Power Distribution Ltd. 4380"]
["Newmarket-Tay Power Distribution Ltd. 4385","Newmarket-Tay Power Distribution Ltd.","4385","Non Rate-Regulated Utility Rental Income",0,0,0,0,0,null,"Newmarket-Tay Power Distribution Ltd. 4385"]
["Newmarket-Tay Power Distribution Ltd. 4390","Newmarket-Tay Power Distribution Ltd.","4390","Miscellaneous Non-Operating Income",-35099.08,-16010.33,-129209.38,-267453.78000000003,-44963.42,null,{"$f":"B1990 & \" \" &C1990","v":"Newmarket-Tay Power Distribution Ltd. 4390"}]
["Newmarket-Tay Power Distribution Ltd. 4395","Newmarket-Tay Power Distribution Ltd.","4395","Rate-Payer Benefit Including Interest",0,0,0,0,0,null,"Newmarket-Tay Power Distribution Ltd. 4395"]
["Newmarket-Tay Power Distribution Ltd. 4398","Newmarket-Tay Power Distribution Ltd.","4398","Foreign Exchange Gains and Losses, Including Amortization",0,0,0,0,0,null,"Newmarket-Tay Power Distribution Ltd. 4398"]
["Newmarket-Tay Power Distribution Ltd. 4405","Newmarket-Tay Power Distribution Ltd.","4405","Interest and Dividend Income",-99352.7,-90223.4,-577820.25,-507382.53,-175159.49,null,"Newmarket-Tay Power Distribution Ltd. 4405"]
["Newmarket-Tay Power Distribution Ltd. 4410","Newmarket-Tay Power Distribution Ltd.","4410","Lessor's Net Investment in Finance Lease",0,0,0,0,0,null,"Newmarket-Tay Power Distribution Ltd. 4410"]
["Newmarket-Tay Power Distribution Ltd. 4415","Newmarket-Tay Power Distribution Ltd.","4415","Equity in Earnings of Subsidiary Companies",0,0,0,0,0,null,"Newmarket-Tay Power Distribution Ltd. 4415"]
["Newmarket-Tay Power Distribution Ltd. 4420","Newmarket-Tay Power Distribution Ltd.","4420","Share of Profit or Loss of Joint Venture",0,0,0,0,0,null,"Newmarket-Tay Power Distribution Ltd. 4420"]
["Newmarket-Tay Power Distribution Ltd. Total ","Newmarket-Tay Power Distribution Ltd. Total",null,null,208158.52,-1570562.65,-3101435.73,-2722528.95,-682381.72,null,"Newmarket-Tay Power Distribution Ltd. Total "]
["Niagara Peninsula Energy Inc. 4082","Niagara Peninsula Energy Inc.","4082","Retail Services Revenues",-34360.800000000003,-30252.799999999999,-26297.599999999999,-38661.599999999999,-42487.8,null,"Niagara Peninsula Energy Inc. 4082"]
["Niagara Peninsula Energy Inc. 4084","Niagara Peninsula Energy Inc.","4084","Service Transaction Requests (STR) Revenues",-656.5,-368,-348.25,-585.5,-638.01,null,"Niagara Peninsula Energy Inc. 4084"]
["Niagara Peninsula Energy Inc. 4086","Niagara Peninsula Energy Inc.","4086","SSS Administration Revenue",-149418.99,-156050.21,-158073.44,-160439.85,-165529.4,null,"Niagara Peninsula Energy Inc. 4086"]
["Niagara Peninsula Energy Inc. 4090","Niagara Peninsula Energy Inc.","4090","Electric Services Incidental to Energy Sales",0,0,0,0,0,null,"Niagara Peninsula Energy Inc. 4090"]
["Niagara Peninsula Energy Inc. 4205","Niagara Peninsula Energy Inc.","4205","Interdepartmental Rents",0,0,0,0,0,null,"Niagara Peninsula Energy Inc. 4205"]
["Niagara Peninsula Energy Inc. 4210","Niagara Peninsula Energy Inc.","4210","Rent from Electric Property",0,0,0,0,0,null,"Niagara Peninsula Energy Inc. 4210"]
["Niagara Peninsula Energy Inc. 4215","Niagara Peninsula Energy Inc.","4215","Other Utility Operating Income",-41441.699999999997,-29140.73,-28867.35,-19293.919999999998,-25634.84,null,"Niagara Peninsula Energy Inc. 4215"]
["Niagara Peninsula Energy Inc. 4220","Niagara Peninsula Energy Inc.","4220","Other Electric Revenues",0,0,0,0,0,null,"Niagara Peninsula Energy Inc. 4220"]
["Niagara Peninsula Energy Inc. 4225","Niagara Peninsula Energy Inc.","4225","Late Payment Charges",-429277.11,-372953.63,-372405.41,-336173.09,-391364.08,null,"Niagara Peninsula Energy Inc. 4225"]
["Niagara Peninsula Energy Inc. 4230","Niagara Peninsula Energy Inc.","4230","Sales of Water and Water Power",0,0,0,0,0,null,"Niagara Peninsula Energy Inc. 4230"]
["Niagara Peninsula Energy Inc. 4235","Niagara Peninsula Energy Inc.","4235","Miscellaneous Service Revenues",-1665729.36,-1574465.37,-1576385.84,-1659526.07,-1973721.6,null,"Niagara Peninsula Energy Inc. 4235"]
["Niagara Peninsula Energy Inc. 4240","Niagara Peninsula Energy Inc.","4240","Provision for Rate Refunds",0,0,0,0,0,null,"Niagara Peninsula Energy Inc. 4240"]
["Niagara Peninsula Energy Inc. 4245","Niagara Peninsula Energy Inc.","4245","Government and Other Assistance Directly Credited to Income",0,0,0,0,0,null,"Niagara Peninsula Energy Inc. 4245"]
["Niagara Peninsula Energy Inc. 4305","Niagara Peninsula Energy Inc.","4305","Regulatory Debits",0,0,0,0,0,null,"Niagara Peninsula Energy Inc. 4305"]
["Niagara Peninsula Energy Inc. 4310","Niagara Peninsula Energy Inc.","4310","Regulatory Credits",0,0,0,0,0,null,"Niagara Peninsula Energy Inc. 4310"]
["Niagara Peninsula Energy Inc. 4315","Niagara Peninsula Energy Inc.","4315","Revenues from Electric Plant Leased to Others",0,0,0,0,0,null,"Niagara Peninsula Energy Inc. 4315"]
["Niagara Peninsula Energy Inc. 4320","Niagara Peninsula Energy Inc.","4320","Expenses of Electric Plant Leased to Others",0,0,0,0,0,null,"Niagara Peninsula Energy Inc. 4320"]
["Niagara Peninsula Energy Inc. 4325","Niagara Peninsula Energy Inc.","4325","Revenues from Merchandise",0,0,0,0,0,null,"Niagara Peninsula Energy Inc. 4325"]
["Niagara Peninsula Energy Inc. 4330","Niagara Peninsula Energy Inc.","4330","Costs and Expenses of Merchandising",0,0,0,0,0,null,"Niagara Peninsula Energy Inc. 4330"]
["Niagara Peninsula Energy Inc. 4335","Niagara Peninsula Energy Inc.","4335","Profits and Losses from Financial Instrument Hedges",0,0,0,0,0,null,"Niagara Peninsula Energy Inc. 4335"]
["Niagara Peninsula Energy Inc. 4340","Niagara Peninsula Energy Inc.","4340","Profits and Losses from Financial Instrument Investments",0,0,0,0,0,null,"Niagara Peninsula Energy Inc. 4340"]
["Niagara Peninsula Energy Inc. 4345","Niagara Peninsula Energy Inc.","4345","Gains from Disposition of Future Use Utility Plant",0,0,0,0,0,null,"Niagara Peninsula Energy Inc. 4345"]
["Niagara Peninsula Energy Inc. 4350","Niagara Peninsula Energy Inc.","4350","Losses from Disposition of Future Use Utility Plant",0,0,0,0,0,null,"Niagara Peninsula Energy Inc. 4350"]
["Niagara Peninsula Energy Inc. 4355","Niagara Peninsula Energy Inc.","4355","Gain on Disposition of Utility and Other Property",-3010.18,-7522.21,-5152.74,-265.49,-22600,null,"Niagara Peninsula Energy Inc. 4355"]
["Niagara Peninsula Energy Inc. 4357","Niagara Peninsula Energy Inc.","4357","Gain from Retirement of Utility and Other Property",0,0,0,0,0,null,"Niagara Peninsula Energy Inc. 4357"]
["Niagara Peninsula Energy Inc. 4360","Niagara Peninsula Energy Inc.","4360","Loss on Disposition of Utility and Other Property",7884.54,2047.85,73229.539999999994,68274.8,98041.32,null,"Niagara Peninsula Energy Inc. 4360"]
["Niagara Peninsula Energy Inc. 4362","Niagara Peninsula Energy Inc.","4362","Loss from Retirement of Utility and Other Property",0,100430.97,28012.99,6135.26,2471.1999999999998,null,"Niagara Peninsula Energy Inc. 4362"]
["Niagara Peninsula Energy Inc. 4365","Niagara Peninsula Energy Inc.","4365","Gains from Disposition of Allowances for Emission",0,0,0,0,0,null,"Niagara Peninsula Energy Inc. 4365"]
["Niagara Peninsula Energy Inc. 4370","Niagara Peninsula Energy Inc.","4370","Losses from Disposition of Allowances for Emission",0,0,0,0,0,null,"Niagara Peninsula Energy Inc. 4370"]
["Niagara Peninsula Energy Inc. 4375","Niagara Peninsula Energy Inc.","4375","Revenues from Non Rate-Regulated Utility Operations",-4591717.2300000004,-3314050.91,-2739666.6,-1604938.35,-779721.75,null,"Niagara Peninsula Energy Inc. 4375"]
["Niagara Peninsula Energy Inc. 4375","Niagara Peninsula Energy Inc.","4375","Sub-account Generation Facility Revenues",0,0,0,0,0,null,"Niagara Peninsula Energy Inc. 4375"]
["Niagara Peninsula Energy Inc. 4380","Niagara Peninsula Energy Inc.","4380","Expenses of Non Rate-Regulated Utility Operations",4607804.13,3320281.42,2302136.7799999998,1604938.35,779721.75,null,"Niagara Peninsula Energy Inc. 4380"]
["Niagara Peninsula Energy Inc. 4380","Niagara Peninsula Energy Inc.","4380","Sub-account Generation Facility Expenses",0,0,0,0,0,null,"Niagara Peninsula Energy Inc. 4380"]
["Niagara Peninsula Energy Inc. 4385","Niagara Peninsula Energy Inc.","4385","Non Rate-Regulated Utility Rental Income",0,0,0,0,0,null,"Niagara Peninsula Energy Inc. 4385"]
["Niagara Peninsula Energy Inc. 4390","Niagara Peninsula Energy Inc.","4390","Miscellaneous Non-Operating Income",-95183.29,-63464,-38875,-34166,-2000,null,"Niagara Peninsula Energy Inc. 4390"]
["Niagara Peninsula Energy Inc. 4395","Niagara Peninsula Energy Inc.","4395","Rate-Payer Benefit Including Interest",0,0,0,0,0,null,"Niagara Peninsula Energy Inc. 4395"]
["Niagara Peninsula Energy Inc. 4398","Niagara Peninsula Energy Inc.","4398","Foreign Exchange Gains and Losses, Including Amortization",0,0,0,0,0,null,"Niagara Peninsula Energy Inc. 4398"]
["Niagara Peninsula Energy Inc. 4405","Niagara Peninsula Energy Inc.","4405","Interest and Dividend Income",-185198.79,-278532.59000000003,-357053.48,-311867.81,-227315.65,null,"Niagara Peninsula Energy Inc. 4405"]
["Niagara Peninsula Energy Inc. 4410","Niagara Peninsula Energy Inc.","4410","Lessor's Net Investment in Finance Lease",0,0,0,0,0,null,"Niagara Peninsula Energy Inc. 4410"]
["Niagara Peninsula Energy Inc. 4415","Niagara Peninsula Energy Inc.","4415","Equity in Earnings of Subsidiary Companies",0,0,0,0,0,null,"Niagara Peninsula Energy Inc. 4415"]
["Niagara Peninsula Energy Inc. 4420","Niagara Peninsula Energy Inc.","4420","Share of Profit or Loss of Joint Venture",0,0,0,0,0,null,"Niagara Peninsula Energy Inc. 4420"]
["Niagara Peninsula Energy Inc. Total ","Niagara Peninsula Energy Inc. Total",null,null,-2580305.2799999998,-2404040.21,-2899746.4,-2486569.27,-2750778.86,null,"Niagara Peninsula Energy Inc. Total "]
["Niagara-on-the-Lake Hydro Inc. 4082","Niagara-on-the-Lake Hydro Inc.","4082","Retail Services Revenues",-6962,-7099.6,-6170.9,-9852,-10641.84,null,"Niagara-on-the-Lake Hydro Inc. 4082"]
["Niagara-on-the-Lake Hydro Inc. 4084","Niagara-on-the-Lake Hydro Inc.","4084","Service Transaction Requests (STR) Revenues",-48.75,-39.25,-30.5,-103.75,-133.87,null,"Niagara-on-the-Lake Hydro Inc. 4084"]
["Niagara-on-the-Lake Hydro Inc. 4086","Niagara-on-the-Lake Hydro Inc.","4086","SSS Administration Revenue",-26735.8,-27714.32,-27980,-28408.080000000002,-28835.71,null,"Niagara-on-the-Lake Hydro Inc. 4086"]
["Niagara-on-the-Lake Hydro Inc. 4090","Niagara-on-the-Lake Hydro Inc.","4090","Electric Services Incidental to Energy Sales",0,0,0,0,0,null,"Niagara-on-the-Lake Hydro Inc. 4090"]
["Niagara-on-the-Lake Hydro Inc. 4205","Niagara-on-the-Lake Hydro Inc.","4205","Interdepartmental Rents",0,0,0,0,0,null,"Niagara-on-the-Lake Hydro Inc. 4205"]
["Niagara-on-the-Lake Hydro Inc. 4210","Niagara-on-the-Lake Hydro Inc.","4210","Rent from Electric Property",-78236.710000000006,-77598.539999999994,-80905.899999999994,-127664.93,-149230.38,null,"Niagara-on-the-Lake Hydro Inc. 4210"]
["Niagara-on-the-Lake Hydro Inc. 4215","Niagara-on-the-Lake Hydro Inc.","4215","Other Utility Operating Income",0,0,0,0,0,null,"Niagara-on-the-Lake Hydro Inc. 4215"]
["Niagara-on-the-Lake Hydro Inc. 4220","Niagara-on-the-Lake Hydro Inc.","4220","Other Electric Revenues",0,0,0,0,0,null,"Niagara-on-the-Lake Hydro Inc. 4220"]
["Niagara-on-the-Lake Hydro Inc. 4225","Niagara-on-the-Lake Hydro Inc.","4225","Late Payment Charges",-64838.15,-45412.42,-48345.35,-49816.77,-16564.080000000002,null,"Niagara-on-the-Lake Hydro Inc. 4225"]
["Niagara-on-the-Lake Hydro Inc. 4230","Niagara-on-the-Lake Hydro Inc.","4230","Sales of Water and Water Power",0,0,0,0,0,null,"Niagara-on-the-Lake Hydro Inc. 4230"]
["Niagara-on-the-Lake Hydro Inc. 4235","Niagara-on-the-Lake Hydro Inc.","4235","Miscellaneous Service Revenues",-125120.2,-148207.47,-139489.18,-213704.1,-213119.12,null,"Niagara-on-the-Lake Hydro Inc. 4235"]
["Niagara-on-the-Lake Hydro Inc. 4240","Niagara-on-the-Lake Hydro Inc.","4240","Provision for Rate Refunds",0,0,0,0,0,null,"Niagara-on-the-Lake Hydro Inc. 4240"]
["Niagara-on-the-Lake Hydro Inc. 4245","Niagara-on-the-Lake Hydro Inc.","4245","Government and Other Assistance Directly Credited to Income",0,0,0,0,0,null,"Niagara-on-the-Lake Hydro Inc. 4245"]
["Niagara-on-the-Lake Hydro Inc. 4305","Niagara-on-the-Lake Hydro Inc.","4305","Regulatory Debits",200949.82,239781.83,258239.22,119596.47,50387.66,null,"Niagara-on-the-Lake Hydro Inc. 4305"]
["Niagara-on-the-Lake Hydro Inc. 4310","Niagara-on-the-Lake Hydro Inc.","4310","Regulatory Credits",0,0,0,0,0,null,{"$f":"B2054 & \" \" &C2054","v":"Niagara-on-the-Lake Hydro Inc. 4310"}]
["Niagara-on-the-Lake Hydro Inc. 4315","Niagara-on-the-Lake Hydro Inc.","4315","Revenues from Electric Plant Leased to Others",0,0,0,0,0,null,"Niagara-on-the-Lake Hydro Inc. 4315"]
["Niagara-on-the-Lake Hydro Inc. 4320","Niagara-on-the-Lake Hydro Inc.","4320","Expenses of Electric Plant Leased to Others",0,0,0,0,0,null,"Niagara-on-the-Lake Hydro Inc. 4320"]
["Niagara-on-the-Lake Hydro Inc. 4325","Niagara-on-the-Lake Hydro Inc.","4325","Revenues from Merchandise",-139972.87,-37213.35,-153091.29999999999,-62360.46,-48450.080000000002,null,"Niagara-on-the-Lake Hydro Inc. 4325"]
["Niagara-on-the-Lake Hydro Inc. 4330","Niagara-on-the-Lake Hydro Inc.","4330","Costs and Expenses of Merchandising",0,0,0,0,0,null,"Niagara-on-the-Lake Hydro Inc. 4330"]
["Niagara-on-the-Lake Hydro Inc. 4335","Niagara-on-the-Lake Hydro Inc.","4335","Profits and Losses from Financial Instrument Hedges",0,0,0,0,0,null,"Niagara-on-the-Lake Hydro Inc. 4335"]
["Niagara-on-the-Lake Hydro Inc. 4340","Niagara-on-the-Lake Hydro Inc.","4340","Profits and Losses from Financial Instrument Investments",-62352,-46137,-16833,50364,255112,null,"Niagara-on-the-Lake Hydro Inc. 4340"]
["Niagara-on-the-Lake Hydro Inc. 4345","Niagara-on-the-Lake Hydro Inc.","4345","Gains from Disposition of Future Use Utility Plant",0,0,0,0,0,null,"Niagara-on-the-Lake Hydro Inc. 4345"]
["Niagara-on-the-Lake Hydro Inc. 4350","Niagara-on-the-Lake Hydro Inc.","4350","Losses from Disposition of Future Use Utility Plant",0,0,0,0,0,null,"Niagara-on-the-Lake Hydro Inc. 4350"]
["Niagara-on-the-Lake Hydro Inc. 4355","Niagara-on-the-Lake Hydro Inc.","4355","Gain on Disposition of Utility and Other Property",0,-9413.44,-52926.39,-15000,-950,null,"Niagara-on-the-Lake Hydro Inc. 4355"]
["Niagara-on-the-Lake Hydro Inc. 4357","Niagara-on-the-Lake Hydro Inc.","4357","Gain from Retirement of Utility and Other Property",0,0,0,0,0,null,"Niagara-on-the-Lake Hydro Inc. 4357"]
["Niagara-on-the-Lake Hydro Inc. 4360","Niagara-on-the-Lake Hydro Inc.","4360","Loss on Disposition of Utility and Other Property",0,0,0,0,0,null,"Niagara-on-the-Lake Hydro Inc. 4360"]
["Niagara-on-the-Lake Hydro Inc. 4362","Niagara-on-the-Lake Hydro Inc.","4362","Loss from Retirement of Utility and Other Property",8509.75,33070.660000000003,268989.98,61710.78,39079.760000000002,null,"Niagara-on-the-Lake Hydro Inc. 4362"]
["Niagara-on-the-Lake Hydro Inc. 4365","Niagara-on-the-Lake Hydro Inc.","4365","Gains from Disposition of Allowances for Emission",0,0,0,0,0,null,"Niagara-on-the-Lake Hydro Inc. 4365"]
["Niagara-on-the-Lake Hydro Inc. 4370","Niagara-on-the-Lake Hydro Inc.","4370","Losses from Disposition of Allowances for Emission",0,0,0,0,0,null,"Niagara-on-the-Lake Hydro Inc. 4370"]
["Niagara-on-the-Lake Hydro Inc. 4375","Niagara-on-the-Lake Hydro Inc.","4375","Revenues from Non Rate-Regulated Utility Operations",-371343.55,-597786.59,-333183.25,-171642.6,-230499.17,null,"Niagara-on-the-Lake Hydro Inc. 4375"]
["Niagara-on-the-Lake Hydro Inc. 4375","Niagara-on-the-Lake Hydro Inc.","4375","Sub-account Generation Facility Revenues",0,0,0,0,0,null,"Niagara-on-the-Lake Hydro Inc. 4375"]
["Niagara-on-the-Lake Hydro Inc. 4380","Niagara-on-the-Lake Hydro Inc.","4380","Expenses of Non Rate-Regulated Utility Operations",381147.39,512228.8,305333.06,192557.45,208753.52,null,"Niagara-on-the-Lake Hydro Inc. 4380"]
["Niagara-on-the-Lake Hydro Inc. 4380","Niagara-on-the-Lake Hydro Inc.","4380","Sub-account Generation Facility Expenses",0,0,0,0,0,null,"Niagara-on-the-Lake Hydro Inc. 4380"]
["Niagara-on-the-Lake Hydro Inc. 4385","Niagara-on-the-Lake Hydro Inc.","4385","Non Rate-Regulated Utility Rental Income",0,0,0,0,0,null,"Niagara-on-the-Lake Hydro Inc. 4385"]
["Niagara-on-the-Lake Hydro Inc. 4390","Niagara-on-the-Lake Hydro Inc.","4390","Miscellaneous Non-Operating Income",-13217.08,-7397.46,-21932.39,-23972.87,-16390.849999999999,null,"Niagara-on-the-Lake Hydro Inc. 4390"]
["Niagara-on-the-Lake Hydro Inc. 4395","Niagara-on-the-Lake Hydro Inc.","4395","Rate-Payer Benefit Including Interest",0,0,0,0,0,null,"Niagara-on-the-Lake Hydro Inc. 4395"]
["Niagara-on-the-Lake Hydro Inc. 4398","Niagara-on-the-Lake Hydro Inc.","4398","Foreign Exchange Gains and Losses, Including Amortization",0,0,0,0,0,null,"Niagara-on-the-Lake Hydro Inc. 4398"]
["Niagara-on-the-Lake Hydro Inc. 4405","Niagara-on-the-Lake Hydro Inc.","4405","Interest and Dividend Income",-56869.35,-45799.18,-59901.32,-41383.620000000003,129098.19,null,"Niagara-on-the-Lake Hydro Inc. 4405"]
["Niagara-on-the-Lake Hydro Inc. 4410","Niagara-on-the-Lake Hydro Inc.","4410","Lessor's Net Investment in Finance Lease",0,0,0,0,0,null,"Niagara-on-the-Lake Hydro Inc. 4410"]
["Niagara-on-the-Lake Hydro Inc. 4415","Niagara-on-the-Lake Hydro Inc.","4415","Equity in Earnings of Subsidiary Companies",0,0,0,0,0,null,"Niagara-on-the-Lake Hydro Inc. 4415"]
["Niagara-on-the-Lake Hydro Inc. 4420","Niagara-on-the-Lake Hydro Inc.","4420","Share of Profit or Loss of Joint Venture",0,0,0,0,0,null,"Niagara-on-the-Lake Hydro Inc. 4420"]
["Niagara-on-the-Lake Hydro Inc. Total ","Niagara-on-the-Lake Hydro Inc. Total",null,null,-355089.5,-264737.33,-108227.22,-319680.48,-32383.970000000099,null,"Niagara-on-the-Lake Hydro Inc. Total "]
["North Bay Hydro Distribution Limited 4082","North Bay Hydro Distribution Limited","4082","Retail Services Revenues",0,0,0,0,0,null,"North Bay Hydro Distribution Limited 4082"]
["North Bay Hydro Distribution Limited 4084","North Bay Hydro Distribution Limited","4084","Service Transaction Requests (STR) Revenues",0,0,0,0,0,null,"North Bay Hydro Distribution Limited 4084"]
["North Bay Hydro Distribution Limited 4086","North Bay Hydro Distribution Limited","4086","SSS Administration Revenue",-85403.35,-86269.23,-86924.160000000003,-87409.87,-88041.06,null,"North Bay Hydro Distribution Limited 4086"]
["North Bay Hydro Distribution Limited 4090","North Bay Hydro Distribution Limited","4090","Electric Services Incidental to Energy Sales",0,0,0,0,0,null,"North Bay Hydro Distribution Limited 4090"]
["North Bay Hydro Distribution Limited 4205","North Bay Hydro Distribution Limited","4205","Interdepartmental Rents",0,0,0,0,0,null,"North Bay Hydro Distribution Limited 4205"]
["North Bay Hydro Distribution Limited 4210","North Bay Hydro Distribution Limited","4210","Rent from Electric Property",-260463.76,-260447.6,-245584.35,-266287.89,-264730.55,null,"North Bay Hydro Distribution Limited 4210"]
["North Bay Hydro Distribution Limited 4215","North Bay Hydro Distribution Limited","4215","Other Utility Operating Income",0,0,0,0,0,null,"North Bay Hydro Distribution Limited 4215"]
["North Bay Hydro Distribution Limited 4220","North Bay Hydro Distribution Limited","4220","Other Electric Revenues",0,0,0,0,0,null,"North Bay Hydro Distribution Limited 4220"]
["North Bay Hydro Distribution Limited 4225","North Bay Hydro Distribution Limited","4225","Late Payment Charges",-145466.06,-161684.59,-152361.89000000001,-134993.53,-53634.41,null,"North Bay Hydro Distribution Limited 4225"]
["North Bay Hydro Distribution Limited 4230","North Bay Hydro Distribution Limited","4230","Sales of Water and Water Power",0,0,0,0,0,null,"North Bay Hydro Distribution Limited 4230"]
["North Bay Hydro Distribution Limited 4235","North Bay Hydro Distribution Limited","4235","Miscellaneous Service Revenues",-579683.51,-437296.79,-358851.77,-214871.43,-130237.46,null,"North Bay Hydro Distribution Limited 4235"]
["North Bay Hydro Distribution Limited 4240","North Bay Hydro Distribution Limited","4240","Provision for Rate Refunds",0,0,0,0,0,null,"North Bay Hydro Distribution Limited 4240"]
["North Bay Hydro Distribution Limited 4245","North Bay Hydro Distribution Limited","4245","Government and Other Assistance Directly Credited to Income",-48689.32,-71269.17,-80619.399999999994,-93371.27,-104191.6091,null,"North Bay Hydro Distribution Limited 4245"]
["North Bay Hydro Distribution Limited 4305","North Bay Hydro Distribution Limited","4305","Regulatory Debits",1628473.37,811985.24,272.89999999999998,0,0,null,"North Bay Hydro Distribution Limited 4305"]
["North Bay Hydro Distribution Limited 4310","North Bay Hydro Distribution Limited","4310","Regulatory Credits",0,0,0,0,0,null,"North Bay Hydro Distribution Limited 4310"]
["North Bay Hydro Distribution Limited 4315","North Bay Hydro Distribution Limited","4315","Revenues from Electric Plant Leased to Others",0,0,0,0,0,null,"North Bay Hydro Distribution Limited 4315"]
["North Bay Hydro Distribution Limited 4320","North Bay Hydro Distribution Limited","4320","Expenses of Electric Plant Leased to Others",0,0,0,0,0,null,"North Bay Hydro Distribution Limited 4320"]
["North Bay Hydro Distribution Limited 4325","North Bay Hydro Distribution Limited","4325","Revenues from Merchandise",0,0,0,0,0,null,"North Bay Hydro Distribution Limited 4325"]
["North Bay Hydro Distribution Limited 4330","North Bay Hydro Distribution Limited","4330","Costs and Expenses of Merchandising",0,0,0,0,0,null,"North Bay Hydro Distribution Limited 4330"]
["North Bay Hydro Distribution Limited 4335","North Bay Hydro Distribution Limited","4335","Profits and Losses from Financial Instrument Hedges",-672578,-890292,140775,681401,2102924,null,"North Bay Hydro Distribution Limited 4335"]
["North Bay Hydro Distribution Limited 4340","North Bay Hydro Distribution Limited","4340","Profits and Losses from Financial Instrument Investments",0,0,0,0,0,null,"North Bay Hydro Distribution Limited 4340"]
["North Bay Hydro Distribution Limited 4345","North Bay Hydro Distribution Limited","4345","Gains from Disposition of Future Use Utility Plant",0,0,0,0,0,null,"North Bay Hydro Distribution Limited 4345"]
["North Bay Hydro Distribution Limited 4350","North Bay Hydro Distribution Limited","4350","Losses from Disposition of Future Use Utility Plant",0,0,0,0,0,null,"North Bay Hydro Distribution Limited 4350"]
["North Bay Hydro Distribution Limited 4355","North Bay Hydro Distribution Limited","4355","Gain on Disposition of Utility and Other Property",-137183.1,-30000,-3432,-90253.35,2153.5700000000002,null,"North Bay Hydro Distribution Limited 4355"]
["North Bay Hydro Distribution Limited 4357","North Bay Hydro Distribution Limited","4357","Gain from Retirement of Utility and Other Property",0,0,0,0,0,null,"North Bay Hydro Distribution Limited 4357"]
["North Bay Hydro Distribution Limited 4360","North Bay Hydro Distribution Limited","4360","Loss on Disposition of Utility and Other Property",0,0,0,0,0,null,"North Bay Hydro Distribution Limited 4360"]
["North Bay Hydro Distribution Limited 4362","North Bay Hydro Distribution Limited","4362","Loss from Retirement of Utility and Other Property",21639.5,184022.54,29351.73,180525.43,42614.6,null,"North Bay Hydro Distribution Limited 4362"]
["North Bay Hydro Distribution Limited 4365","North Bay Hydro Distribution Limited","4365","Gains from Disposition of Allowances for Emission",0,0,0,0,0,null,"North Bay Hydro Distribution Limited 4365"]
["North Bay Hydro Distribution Limited 4370","North Bay Hydro Distribution Limited","4370","Losses from Disposition of Allowances for Emission",0,0,0,0,0,null,"North Bay Hydro Distribution Limited 4370"]
["North Bay Hydro Distribution Limited 4375","North Bay Hydro Distribution Limited","4375","Revenues from Non Rate-Regulated Utility Operations",-1103429.8999999999,-1237152.53,-1155267.9099999999,-864459,-1449596.83,null,"North Bay Hydro Distribution Limited 4375"]
["North Bay Hydro Distribution Limited 4375","North Bay Hydro Distribution Limited","4375","Sub-account Generation Facility Revenues",0,0,0,0,0,null,"North Bay Hydro Distribution Limited 4375"]
["North Bay Hydro Distribution Limited 4380","North Bay Hydro Distribution Limited","4380","Expenses of Non Rate-Regulated Utility Operations",1091120,1316876.98,1320283.83,876802.04,1397521.73,null,"North Bay Hydro Distribution Limited 4380"]
["North Bay Hydro Distribution Limited 4380","North Bay Hydro Distribution Limited","4380","Sub-account Generation Facility Expenses",0,0,0,0,0,null,"North Bay Hydro Distribution Limited 4380"]
["North Bay Hydro Distribution Limited 4385","North Bay Hydro Distribution Limited","4385","Non Rate-Regulated Utility Rental Income",0,0,0,0,0,null,"North Bay Hydro Distribution Limited 4385"]
["North Bay Hydro Distribution Limited 4390","North Bay Hydro Distribution Limited","4390","Miscellaneous Non-Operating Income",-3198.64,-14685.36,-9196.6299999999992,-3042.29,-9994.9500000000007,null,"North Bay Hydro Distribution Limited 4390"]
["North Bay Hydro Distribution Limited 4395","North Bay Hydro Distribution Limited","4395","Rate-Payer Benefit Including Interest",0,0,0,0,0,null,"North Bay Hydro Distribution Limited 4395"]
["North Bay Hydro Distribution Limited 4398","North Bay Hydro Distribution Limited","4398","Foreign Exchange Gains and Losses, Including Amortization",13352.3,10733.17,-914.97,1406.14,2783.33,null,{"$f":"B2118 & \" \" &C2118","v":"North Bay Hydro Distribution Limited 4398"}]
["North Bay Hydro Distribution Limited 4405","North Bay Hydro Distribution Limited","4405","Interest and Dividend Income",-125146.15,-153260.22,-248275.24,-893411.06,-415844.66,null,"North Bay Hydro Distribution Limited 4405"]
["North Bay Hydro Distribution Limited 4410","North Bay Hydro Distribution Limited","4410","Lessor's Net Investment in Finance Lease",0,0,0,0,0,null,"North Bay Hydro Distribution Limited 4410"]
["North Bay Hydro Distribution Limited 4415","North Bay Hydro Distribution Limited","4415","Equity in Earnings of Subsidiary Companies",0,0,0,0,0,null,"North Bay Hydro Distribution Limited 4415"]
["North Bay Hydro Distribution Limited 4420","North Bay Hydro Distribution Limited","4420","Share of Profit or Loss of Joint Venture",0,0,0,0,0,null,"North Bay Hydro Distribution Limited 4420"]
["North Bay Hydro Distribution Limited Total ","North Bay Hydro Distribution Limited Total",null,null,-406656.62,-1018739.56,-850744.86,-907965.08,1031725.7009000001,null,"North Bay Hydro Distribution Limited Total "]
["Northern Ontario Wires Inc. 4082","Northern Ontario Wires Inc.","4082","Retail Services Revenues",-0.01,0.01,0,-685.72,0,null,"Northern Ontario Wires Inc. 4082"]
["Northern Ontario Wires Inc. 4084","Northern Ontario Wires Inc.","4084","Service Transaction Requests (STR) Revenues",0,0,-15,-150,0,null,"Northern Ontario Wires Inc. 4084"]
["Northern Ontario Wires Inc. 4086","Northern Ontario Wires Inc.","4086","SSS Administration Revenue",0,0,0,0,0,null,"Northern Ontario Wires Inc. 4086"]
["Northern Ontario Wires Inc. 4090","Northern Ontario Wires Inc.","4090","Electric Services Incidental to Energy Sales",0,0,0,0,0,null,"Northern Ontario Wires Inc. 4090"]
["Northern Ontario Wires Inc. 4205","Northern Ontario Wires Inc.","4205","Interdepartmental Rents",0,0,0,0,0,null,"Northern Ontario Wires Inc. 4205"]
["Northern Ontario Wires Inc. 4210","Northern Ontario Wires Inc.","4210","Rent from Electric Property",-92825.61,-115766.16,-107629.91,-104340.86,-105847.52,null,"Northern Ontario Wires Inc. 4210"]
["Northern Ontario Wires Inc. 4215","Northern Ontario Wires Inc.","4215","Other Utility Operating Income",-773.71,-14228.7,-730.73,-2906.39,-9750.6299999999992,null,"Northern Ontario Wires Inc. 4215"]
["Northern Ontario Wires Inc. 4220","Northern Ontario Wires Inc.","4220","Other Electric Revenues",0,0,0,0,0,null,"Northern Ontario Wires Inc. 4220"]
["Northern Ontario Wires Inc. 4225","Northern Ontario Wires Inc.","4225","Late Payment Charges",-96517.63,-78937.16,-95545.55,-89058.3,-44206.03,null,"Northern Ontario Wires Inc. 4225"]
["Northern Ontario Wires Inc. 4230","Northern Ontario Wires Inc.","4230","Sales of Water and Water Power",0,0,0,0,0,null,"Northern Ontario Wires Inc. 4230"]
["Northern Ontario Wires Inc. 4235","Northern Ontario Wires Inc.","4235","Miscellaneous Service Revenues",-167896.11,-179238.33,-187269.45,-196906,-191227.2,null,"Northern Ontario Wires Inc. 4235"]
["Northern Ontario Wires Inc. 4240","Northern Ontario Wires Inc.","4240","Provision for Rate Refunds",0,0,0,0,0,null,"Northern Ontario Wires Inc. 4240"]
["Northern Ontario Wires Inc. 4245","Northern Ontario Wires Inc.","4245","Government and Other Assistance Directly Credited to Income",-3111.28,-3471.33,-3565.9,-3565.89,-3565.9,null,"Northern Ontario Wires Inc. 4245"]
["Northern Ontario Wires Inc. 4305","Northern Ontario Wires Inc.","4305","Regulatory Debits",0,0,0,0,0,null,"Northern Ontario Wires Inc. 4305"]
["Northern Ontario Wires Inc. 4310","Northern Ontario Wires Inc.","4310","Regulatory Credits",0,0,0,0,0,null,"Northern Ontario Wires Inc. 4310"]
["Northern Ontario Wires Inc. 4315","Northern Ontario Wires Inc.","4315","Revenues from Electric Plant Leased to Others",0,0,0,0,0,null,"Northern Ontario Wires Inc. 4315"]
["Northern Ontario Wires Inc. 4320","Northern Ontario Wires Inc.","4320","Expenses of Electric Plant Leased to Others",0,0,0,0,0,null,"Northern Ontario Wires Inc. 4320"]
["Northern Ontario Wires Inc. 4325","Northern Ontario Wires Inc.","4325","Revenues from Merchandise",-10717.6,-23504.84,-12211.41,-17795.14,-8890.17,null,"Northern Ontario Wires Inc. 4325"]
["Northern Ontario Wires Inc. 4330","Northern Ontario Wires Inc.","4330","Costs and Expenses of Merchandising",0,0,0,0,0,null,"Northern Ontario Wires Inc. 4330"]
["Northern Ontario Wires Inc. 4335","Northern Ontario Wires Inc.","4335","Profits and Losses from Financial Instrument Hedges",0,0,0,0,0,null,"Northern Ontario Wires Inc. 4335"]
["Northern Ontario Wires Inc. 4340","Northern Ontario Wires Inc.","4340","Profits and Losses from Financial Instrument Investments",0,0,0,0,0,null,"Northern Ontario Wires Inc. 4340"]
["Northern Ontario Wires Inc. 4345","Northern Ontario Wires Inc.","4345","Gains from Disposition of Future Use Utility Plant",0,0,0,0,0,null,"Northern Ontario Wires Inc. 4345"]
["Northern Ontario Wires Inc. 4350","Northern Ontario Wires Inc.","4350","Losses from Disposition of Future Use Utility Plant",0,0,0,0,0,null,"Northern Ontario Wires Inc. 4350"]
["Northern Ontario Wires Inc. 4355","Northern Ontario Wires Inc.","4355","Gain on Disposition of Utility and Other Property",0,0,0,0,0,null,"Northern Ontario Wires Inc. 4355"]
["Northern Ontario Wires Inc. 4357","Northern Ontario Wires Inc.","4357","Gain from Retirement of Utility and Other Property",0,0,0,0,0,null,"Northern Ontario Wires Inc. 4357"]
["Northern Ontario Wires Inc. 4360","Northern Ontario Wires Inc.","4360","Loss on Disposition of Utility and Other Property",16969.95,8431.09,9965.08,18509.46,5323.74,null,"Northern Ontario Wires Inc. 4360"]
["Northern Ontario Wires Inc. 4362","Northern Ontario Wires Inc.","4362","Loss from Retirement of Utility and Other Property",0,0,0,0,0,null,"Northern Ontario Wires Inc. 4362"]
["Northern Ontario Wires Inc. 4365","Northern Ontario Wires Inc.","4365","Gains from Disposition of Allowances for Emission",0,0,0,0,0,null,"Northern Ontario Wires Inc. 4365"]
["Northern Ontario Wires Inc. 4370","Northern Ontario Wires Inc.","4370","Losses from Disposition of Allowances for Emission",0,0,0,0,0,null,"Northern Ontario Wires Inc. 4370"]
["Northern Ontario Wires Inc. 4375","Northern Ontario Wires Inc.","4375","Revenues from Non Rate-Regulated Utility Operations",-842.4,-842.4,-56076.15,-17152.03,-765.05,null,"Northern Ontario Wires Inc. 4375"]
["Northern Ontario Wires Inc. 4375","Northern Ontario Wires Inc.","4375","Sub-account Generation Facility Revenues",0,0,0,0,0,null,"Northern Ontario Wires Inc. 4375"]
["Northern Ontario Wires Inc. 4380","Northern Ontario Wires Inc.","4380","Expenses of Non Rate-Regulated Utility Operations",0,0,0,0,0,null,"Northern Ontario Wires Inc. 4380"]
["Northern Ontario Wires Inc. 4380","Northern Ontario Wires Inc.","4380","Sub-account Generation Facility Expenses",0,0,0,0,0,null,"Northern Ontario Wires Inc. 4380"]
["Northern Ontario Wires Inc. 4385","Northern Ontario Wires Inc.","4385","Non Rate-Regulated Utility Rental Income",0,0,0,0,0,null,"Northern Ontario Wires Inc. 4385"]
["Northern Ontario Wires Inc. 4390","Northern Ontario Wires Inc.","4390","Miscellaneous Non-Operating Income",-224.64,-3098.73,-5080.55,-25045.29,-280.58999999999997,null,"Northern Ontario Wires Inc. 4390"]
["Northern Ontario Wires Inc. 4395","Northern Ontario Wires Inc.","4395","Rate-Payer Benefit Including Interest",0,0,0,0,0,null,"Northern Ontario Wires Inc. 4395"]
["Northern Ontario Wires Inc. 4398","Northern Ontario Wires Inc.","4398","Foreign Exchange Gains and Losses, Including Amortization",0,0,0,0,0,null,"Northern Ontario Wires Inc. 4398"]
["Northern Ontario Wires Inc. 4405","Northern Ontario Wires Inc.","4405","Interest and Dividend Income",-11466.89,-7817.87,-11310.48,-11184.69,-5890.12,null,"Northern Ontario Wires Inc. 4405"]
["Northern Ontario Wires Inc. 4410","Northern Ontario Wires Inc.","4410","Lessor's Net Investment in Finance Lease",0,0,0,0,0,null,"Northern Ontario Wires Inc. 4410"]
["Northern Ontario Wires Inc. 4415","Northern Ontario Wires Inc.","4415","Equity in Earnings of Subsidiary Companies",0,0,0,0,0,null,"Northern Ontario Wires Inc. 4415"]
["Northern Ontario Wires Inc. 4420","Northern Ontario Wires Inc.","4420","Share of Profit or Loss of Joint Venture",0,0,0,0,0,null,"Northern Ontario Wires Inc. 4420"]
["Northern Ontario Wires Inc. Total ","Northern Ontario Wires Inc. Total",null,null,-367405.93,-418474.42,-469470.05,-450280.85,-365099.47,null,"Northern Ontario Wires Inc. Total "]
["Oakville Hydro Electricity Distribution Inc. 4082","Oakville Hydro Electricity Distribution Inc.","4082","Retail Services Revenues",0,0,0,0,0,null,"Oakville Hydro Electricity Distribution Inc. 4082"]
["Oakville Hydro Electricity Distribution Inc. 4084","Oakville Hydro Electricity Distribution Inc.","4084","Service Transaction Requests (STR) Revenues",0,0,0,0,0,null,"Oakville Hydro Electricity Distribution Inc. 4084"]
["Oakville Hydro Electricity Distribution Inc. 4086","Oakville Hydro Electricity Distribution Inc.","4086","SSS Administration Revenue",-223104.17,-202405.4,-214665.71,-216673.7,-227320.09,null,"Oakville Hydro Electricity Distribution Inc. 4086"]
["Oakville Hydro Electricity Distribution Inc. 4090","Oakville Hydro Electricity Distribution Inc.","4090","Electric Services Incidental to Energy Sales",0,0,0,0,0,null,"Oakville Hydro Electricity Distribution Inc. 4090"]
["Oakville Hydro Electricity Distribution Inc. 4205","Oakville Hydro Electricity Distribution Inc.","4205","Interdepartmental Rents",0,0,0,0,0,null,"Oakville Hydro Electricity Distribution Inc. 4205"]
["Oakville Hydro Electricity Distribution Inc. 4210","Oakville Hydro Electricity Distribution Inc.","4210","Rent from Electric Property",-156093.6,-164507.9,-169632.52,-167106.89000000001,-194137.03,null,"Oakville Hydro Electricity Distribution Inc. 4210"]
["Oakville Hydro Electricity Distribution Inc. 4215","Oakville Hydro Electricity Distribution Inc.","4215","Other Utility Operating Income",0,0,0,0,0,null,"Oakville Hydro Electricity Distribution Inc. 4215"]
["Oakville Hydro Electricity Distribution Inc. 4220","Oakville Hydro Electricity Distribution Inc.","4220","Other Electric Revenues",-24654.62,-24063.65,-21181.75,1725.64,11174.18,null,"Oakville Hydro Electricity Distribution Inc. 4220"]
["Oakville Hydro Electricity Distribution Inc. 4225","Oakville Hydro Electricity Distribution Inc.","4225","Late Payment Charges",-369606.31,-320603.15000000002,-251566.74,-218176.88,-242376.9,null,"Oakville Hydro Electricity Distribution Inc. 4225"]
["Oakville Hydro Electricity Distribution Inc. 4230","Oakville Hydro Electricity Distribution Inc.","4230","Sales of Water and Water Power",0,0,0,0,0,null,"Oakville Hydro Electricity Distribution Inc. 4230"]
["Oakville Hydro Electricity Distribution Inc. 4235","Oakville Hydro Electricity Distribution Inc.","4235","Miscellaneous Service Revenues",-368939.9,-637367.52,-382527.63,-361594.68,-316295.07,null,"Oakville Hydro Electricity Distribution Inc. 4235"]
["Oakville Hydro Electricity Distribution Inc. 4240","Oakville Hydro Electricity Distribution Inc.","4240","Provision for Rate Refunds",0,0,0,0,0,null,"Oakville Hydro Electricity Distribution Inc. 4240"]
["Oakville Hydro Electricity Distribution Inc. 4245","Oakville Hydro Electricity Distribution Inc.","4245","Government and Other Assistance Directly Credited to Income",-280860.18,-450392.11,-674288.73,-827582.12,-1020460.39,null,"Oakville Hydro Electricity Distribution Inc. 4245"]
["Oakville Hydro Electricity Distribution Inc. 4305","Oakville Hydro Electricity Distribution Inc.","4305","Regulatory Debits",0,0,0,0,0,null,"Oakville Hydro Electricity Distribution Inc. 4305"]
["Oakville Hydro Electricity Distribution Inc. 4310","Oakville Hydro Electricity Distribution Inc.","4310","Regulatory Credits",0,0,0,0,0,null,"Oakville Hydro Electricity Distribution Inc. 4310"]
["Oakville Hydro Electricity Distribution Inc. 4315","Oakville Hydro Electricity Distribution Inc.","4315","Revenues from Electric Plant Leased to Others",0,0,0,0,0,null,"Oakville Hydro Electricity Distribution Inc. 4315"]
["Oakville Hydro Electricity Distribution Inc. 4320","Oakville Hydro Electricity Distribution Inc.","4320","Expenses of Electric Plant Leased to Others",0,0,0,0,0,null,{"$f":"B2182 & \" \" &C2182","v":"Oakville Hydro Electricity Distribution Inc. 4320"}]
["Oakville Hydro Electricity Distribution Inc. 4325","Oakville Hydro Electricity Distribution Inc.","4325","Revenues from Merchandise",0,0,0,0,0,null,"Oakville Hydro Electricity Distribution Inc. 4325"]
["Oakville Hydro Electricity Distribution Inc. 4330","Oakville Hydro Electricity Distribution Inc.","4330","Costs and Expenses of Merchandising",0,0,0,0,0,null,"Oakville Hydro Electricity Distribution Inc. 4330"]
["Oakville Hydro Electricity Distribution Inc. 4335","Oakville Hydro Electricity Distribution Inc.","4335","Profits and Losses from Financial Instrument Hedges",0,0,0,0,0,null,"Oakville Hydro Electricity Distribution Inc. 4335"]
["Oakville Hydro Electricity Distribution Inc. 4340","Oakville Hydro Electricity Distribution Inc.","4340","Profits and Losses from Financial Instrument Investments",0,0,0,0,0,null,"Oakville Hydro Electricity Distribution Inc. 4340"]
["Oakville Hydro Electricity Distribution Inc. 4345","Oakville Hydro Electricity Distribution Inc.","4345","Gains from Disposition of Future Use Utility Plant",0,0,0,0,0,null,"Oakville Hydro Electricity Distribution Inc. 4345"]
["Oakville Hydro Electricity Distribution Inc. 4350","Oakville Hydro Electricity Distribution Inc.","4350","Losses from Disposition of Future Use Utility Plant",0,0,0,0,0,null,"Oakville Hydro Electricity Distribution Inc. 4350"]
["Oakville Hydro Electricity Distribution Inc. 4355","Oakville Hydro Electricity Distribution Inc.","4355","Gain on Disposition of Utility and Other Property",0,0,0,0,0,null,"Oakville Hydro Electricity Distribution Inc. 4355"]
["Oakville Hydro Electricity Distribution Inc. 4357","Oakville Hydro Electricity Distribution Inc.","4357","Gain from Retirement of Utility and Other Property",0,0,0,0,0,null,"Oakville Hydro Electricity Distribution Inc. 4357"]
["Oakville Hydro Electricity Distribution Inc. 4360","Oakville Hydro Electricity Distribution Inc.","4360","Loss on Disposition of Utility and Other Property",0,0,0,0,0,null,"Oakville Hydro Electricity Distribution Inc. 4360"]
["Oakville Hydro Electricity Distribution Inc. 4362","Oakville Hydro Electricity Distribution Inc.","4362","Loss from Retirement of Utility and Other Property",0,0,0,0,0,null,"Oakville Hydro Electricity Distribution Inc. 4362"]
["Oakville Hydro Electricity Distribution Inc. 4365","Oakville Hydro Electricity Distribution Inc.","4365","Gains from Disposition of Allowances for Emission",0,0,0,0,0,null,"Oakville Hydro Electricity Distribution Inc. 4365"]
["Oakville Hydro Electricity Distribution Inc. 4370","Oakville Hydro Electricity Distribution Inc.","4370","Losses from Disposition of Allowances for Emission",0,0,0,0,0,null,"Oakville Hydro Electricity Distribution Inc. 4370"]
["Oakville Hydro Electricity Distribution Inc. 4375","Oakville Hydro Electricity Distribution Inc.","4375","Revenues from Non Rate-Regulated Utility Operations",-233898.76,-708925.71,-290344.71999999997,-50592.85,-4949.05,null,"Oakville Hydro Electricity Distribution Inc. 4375"]
["Oakville Hydro Electricity Distribution Inc. 4375","Oakville Hydro Electricity Distribution Inc.","4375","Sub-account Generation Facility Revenues",0,0,0,0,0,null,"Oakville Hydro Electricity Distribution Inc. 4375"]
["Oakville Hydro Electricity Distribution Inc. 4380","Oakville Hydro Electricity Distribution Inc.","4380","Expenses of Non Rate-Regulated Utility Operations",17909.79,5837.01,4479.07,5132.63,0,null,"Oakville Hydro Electricity Distribution Inc. 4380"]
["Oakville Hydro Electricity Distribution Inc. 4380","Oakville Hydro Electricity Distribution Inc.","4380","Sub-account Generation Facility Expenses",0,0,0,0,0,null,"Oakville Hydro Electricity Distribution Inc. 4380"]
["Oakville Hydro Electricity Distribution Inc. 4385","Oakville Hydro Electricity Distribution Inc.","4385","Non Rate-Regulated Utility Rental Income",-8802.94,-8665.6200000000008,-17406.98,-36116.46,-46895.67,null,"Oakville Hydro Electricity Distribution Inc. 4385"]
["Oakville Hydro Electricity Distribution Inc. 4390","Oakville Hydro Electricity Distribution Inc.","4390","Miscellaneous Non-Operating Income",-341393.07,-65403.49,57241.91,326276.40000000002,207323.54,null,"Oakville Hydro Electricity Distribution Inc. 4390"]
["Oakville Hydro Electricity Distribution Inc. 4395","Oakville Hydro Electricity Distribution Inc.","4395","Rate-Payer Benefit Including Interest",0,0,0,0,0,null,"Oakville Hydro Electricity Distribution Inc. 4395"]
["Oakville Hydro Electricity Distribution Inc. 4398","Oakville Hydro Electricity Distribution Inc.","4398","Foreign Exchange Gains and Losses, Including Amortization",-8136.06,-24997.87,17114.93,10567.4,13380.64,null,"Oakville Hydro Electricity Distribution Inc. 4398"]
["Oakville Hydro Electricity Distribution Inc. 4405","Oakville Hydro Electricity Distribution Inc.","4405","Interest and Dividend Income",-545364.41,-394076.13,-756989.43999999994,-801416.43,-349853.9,null,"Oakville Hydro Electricity Distribution Inc. 4405"]
["Oakville Hydro Electricity Distribution Inc. 4410","Oakville Hydro Electricity Distribution Inc.","4410","Lessor's Net Investment in Finance Lease",0,0,0,0,0,null,"Oakville Hydro Electricity Distribution Inc. 4410"]
["Oakville Hydro Electricity Distribution Inc. 4415","Oakville Hydro Electricity Distribution Inc.","4415","Equity in Earnings of Subsidiary Companies",0,0,0,0,0,null,"Oakville Hydro Electricity Distribution Inc. 4415"]
["Oakville Hydro Electricity Distribution Inc. 4420","Oakville Hydro Electricity Distribution Inc.","4420","Share of Profit or Loss of Joint Venture",0,0,0,0,0,null,"Oakville Hydro Electricity Distribution Inc. 4420"]
["Oakville Hydro Electricity Distribution Inc. Total ","Oakville Hydro Electricity Distribution Inc. Total",null,null,-2542944.23,-2995571.54,-2699768.31,-2335557.94,-2170409.7400000002,null,"Oakville Hydro Electricity Distribution Inc. Total "]
["Orangeville Hydro Limited 4082","Orangeville Hydro Limited","4082","Retail Services Revenues",-11641.2,-10084.9,-8808.5,-12642.9,-14960.47,null,"Orangeville Hydro Limited 4082"]
["Orangeville Hydro Limited 4084","Orangeville Hydro Limited","4084","Service Transaction Requests (STR) Revenues",-176.5,-125.75,-109.5,-162,-129.79,null,"Orangeville Hydro Limited 4084"]
["Orangeville Hydro Limited 4086","Orangeville Hydro Limited","4086","SSS Administration Revenue",-33824.57,-35032.85,-36894.35,-37475.9,-37884.959999999999,null,"Orangeville Hydro Limited 4086"]
["Orangeville Hydro Limited 4090","Orangeville Hydro Limited","4090","Electric Services Incidental to Energy Sales",0,0,0,0,0,null,"Orangeville Hydro Limited 4090"]
["Orangeville Hydro Limited 4205","Orangeville Hydro Limited","4205","Interdepartmental Rents",0,0,0,0,0,null,"Orangeville Hydro Limited 4205"]
["Orangeville Hydro Limited 4210","Orangeville Hydro Limited","4210","Rent from Electric Property",-56124.63,-54053.48,-58769.1,-60002.95,-64049.21,null,"Orangeville Hydro Limited 4210"]
["Orangeville Hydro Limited 4215","Orangeville Hydro Limited","4215","Other Utility Operating Income",0,0,0,0,0,null,"Orangeville Hydro Limited 4215"]
["Orangeville Hydro Limited 4220","Orangeville Hydro Limited","4220","Other Electric Revenues",0,0,0,0,0,null,"Orangeville Hydro Limited 4220"]
["Orangeville Hydro Limited 4225","Orangeville Hydro Limited","4225","Late Payment Charges",-43413,-38260.04,-37488.870000000003,-46086.8,-29396.720000000001,null,"Orangeville Hydro Limited 4225"]
["Orangeville Hydro Limited 4230","Orangeville Hydro Limited","4230","Sales of Water and Water Power",0,0,0,0,0,null,"Orangeville Hydro Limited 4230"]
["Orangeville Hydro Limited 4235","Orangeville Hydro Limited","4235","Miscellaneous Service Revenues",-149824.20000000001,-117440,-102540.72,-69097.820000000007,-16783.400000000001,null,"Orangeville Hydro Limited 4235"]
["Orangeville Hydro Limited 4240","Orangeville Hydro Limited","4240","Provision for Rate Refunds",0,0,0,0,0,null,"Orangeville Hydro Limited 4240"]
["Orangeville Hydro Limited 4245","Orangeville Hydro Limited","4245","Government and Other Assistance Directly Credited to Income",-23430.58,-36512.82,-47366.39,-49035.41,-54747.85,null,"Orangeville Hydro Limited 4245"]
["Orangeville Hydro Limited 4305","Orangeville Hydro Limited","4305","Regulatory Debits",142132.19,138725.46,150363.22,51214.080000000002,9.0500000000000007,null,"Orangeville Hydro Limited 4305"]
["Orangeville Hydro Limited 4310","Orangeville Hydro Limited","4310","Regulatory Credits",0,0,0,0,0,null,"Orangeville Hydro Limited 4310"]
["Orangeville Hydro Limited 4315","Orangeville Hydro Limited","4315","Revenues from Electric Plant Leased to Others",0,0,0,0,0,null,"Orangeville Hydro Limited 4315"]
["Orangeville Hydro Limited 4320","Orangeville Hydro Limited","4320","Expenses of Electric Plant Leased to Others",0,0,0,0,0,null,"Orangeville Hydro Limited 4320"]
["Orangeville Hydro Limited 4325","Orangeville Hydro Limited","4325","Revenues from Merchandise",0,0,0,0,0,null,"Orangeville Hydro Limited 4325"]
["Orangeville Hydro Limited 4330","Orangeville Hydro Limited","4330","Costs and Expenses of Merchandising",0,0,0,0,0,null,"Orangeville Hydro Limited 4330"]
["Orangeville Hydro Limited 4335","Orangeville Hydro Limited","4335","Profits and Losses from Financial Instrument Hedges",0,0,0,0,0,null,"Orangeville Hydro Limited 4335"]
["Orangeville Hydro Limited 4340","Orangeville Hydro Limited","4340","Profits and Losses from Financial Instrument Investments",0,0,0,0,0,null,"Orangeville Hydro Limited 4340"]
["Orangeville Hydro Limited 4345","Orangeville Hydro Limited","4345","Gains from Disposition of Future Use Utility Plant",0,0,0,0,0,null,"Orangeville Hydro Limited 4345"]
["Orangeville Hydro Limited 4350","Orangeville Hydro Limited","4350","Losses from Disposition of Future Use Utility Plant",0,0,0,0,0,null,"Orangeville Hydro Limited 4350"]
["Orangeville Hydro Limited 4355","Orangeville Hydro Limited","4355","Gain on Disposition of Utility and Other Property",-22069.62,-117387.89,-8000,-1000,-102795.92,null,"Orangeville Hydro Limited 4355"]
["Orangeville Hydro Limited 4357","Orangeville Hydro Limited","4357","Gain from Retirement of Utility and Other Property",0,0,0,0,0,null,"Orangeville Hydro Limited 4357"]
["Orangeville Hydro Limited 4360","Orangeville Hydro Limited","4360","Loss on Disposition of Utility and Other Property",32429.27,168.36,22502.33,0,3379.12,null,"Orangeville Hydro Limited 4360"]
["Orangeville Hydro Limited 4362","Orangeville Hydro Limited","4362","Loss from Retirement of Utility and Other Property",0,38154.61,25348.45,39417.97,50202.98,null,"Orangeville Hydro Limited 4362"]
["Orangeville Hydro Limited 4365","Orangeville Hydro Limited","4365","Gains from Disposition of Allowances for Emission",0,0,0,0,0,null,"Orangeville Hydro Limited 4365"]
["Orangeville Hydro Limited 4370","Orangeville Hydro Limited","4370","Losses from Disposition of Allowances for Emission",0,0,0,0,0,null,"Orangeville Hydro Limited 4370"]
["Orangeville Hydro Limited 4375","Orangeville Hydro Limited","4375","Revenues from Non Rate-Regulated Utility Operations",-440292.69,-572796.96,-513042.38,-483552.34,-470613.7,null,"Orangeville Hydro Limited 4375"]
["Orangeville Hydro Limited 4375","Orangeville Hydro Limited","4375","Sub-account Generation Facility Revenues",0,0,0,0,0,null,"Orangeville Hydro Limited 4375"]
["Orangeville Hydro Limited 4380","Orangeville Hydro Limited","4380","Expenses of Non Rate-Regulated Utility Operations",363690.34,409839.98,388683.56,455995.56,460941.06,null,"Orangeville Hydro Limited 4380"]
["Orangeville Hydro Limited 4380","Orangeville Hydro Limited","4380","Sub-account Generation Facility Expenses",0,0,0,0,0,null,"Orangeville Hydro Limited 4380"]
["Orangeville Hydro Limited 4385","Orangeville Hydro Limited","4385","Non Rate-Regulated Utility Rental Income",0,0,0,0,0,null,"Orangeville Hydro Limited 4385"]
["Orangeville Hydro Limited 4390","Orangeville Hydro Limited","4390","Miscellaneous Non-Operating Income",-2663.26,-4227.1499999999996,-260,-8724.7800000000007,-11127.25,null,"Orangeville Hydro Limited 4390"]
["Orangeville Hydro Limited 4395","Orangeville Hydro Limited","4395","Rate-Payer Benefit Including Interest",0,0,0,0,0,null,"Orangeville Hydro Limited 4395"]
["Orangeville Hydro Limited 4398","Orangeville Hydro Limited","4398","Foreign Exchange Gains and Losses, Including Amortization",0,0,0,0,0,null,"Orangeville Hydro Limited 4398"]
["Orangeville Hydro Limited 4405","Orangeville Hydro Limited","4405","Interest and Dividend Income",-37372.28,-49725.3,-61682.73,-101143.22,-62433.9,null,"Orangeville Hydro Limited 4405"]
["Orangeville Hydro Limited 4410","Orangeville Hydro Limited","4410","Lessor's Net Investment in Finance Lease",0,0,0,0,0,null,{"$f":"B2246 & \" \" &C2246","v":"Orangeville Hydro Limited 4410"}]
["Orangeville Hydro Limited 4415","Orangeville Hydro Limited","4415","Equity in Earnings of Subsidiary Companies",0,0,0,0,0,null,"Orangeville Hydro Limited 4415"]
["Orangeville Hydro Limited 4420","Orangeville Hydro Limited","4420","Share of Profit or Loss of Joint Venture",0,0,0,0,0,null,"Orangeville Hydro Limited 4420"]
["Orangeville Hydro Limited Total ","Orangeville Hydro Limited Total",null,null,-282580.73,-448758.73,-288064.98,-322296.51,-350390.96,null,"Orangeville Hydro Limited Total "]
["Oshawa PUC Networks Inc. 4082","Oshawa PUC Networks Inc.","4082","Retail Services Revenues",0,0,0,0,0,null,"Oshawa PUC Networks Inc. 4082"]
["Oshawa PUC Networks Inc. 4084","Oshawa PUC Networks Inc.","4084","Service Transaction Requests (STR) Revenues",-770.25,-365,-257,-494,-517.5,null,"Oshawa PUC Networks Inc. 4084"]
["Oshawa PUC Networks Inc. 4086","Oshawa PUC Networks Inc.","4086","SSS Administration Revenue",-161806.15,-165528.67000000001,-169810,-195617.56,-197843.49,null,"Oshawa PUC Networks Inc. 4086"]
["Oshawa PUC Networks Inc. 4090","Oshawa PUC Networks Inc.","4090","Electric Services Incidental to Energy Sales",0,0,0,0,0,null,"Oshawa PUC Networks Inc. 4090"]
["Oshawa PUC Networks Inc. 4205","Oshawa PUC Networks Inc.","4205","Interdepartmental Rents",0,0,0,0,0,null,"Oshawa PUC Networks Inc. 4205"]
["Oshawa PUC Networks Inc. 4210","Oshawa PUC Networks Inc.","4210","Rent from Electric Property",-184007.15,-183912.82,-194697,-293620,-85420.66,null,"Oshawa PUC Networks Inc. 4210"]
["Oshawa PUC Networks Inc. 4215","Oshawa PUC Networks Inc.","4215","Other Utility Operating Income",0,0,0,0,0,null,"Oshawa PUC Networks Inc. 4215"]
["Oshawa PUC Networks Inc. 4220","Oshawa PUC Networks Inc.","4220","Other Electric Revenues",0,0,0,0,0,null,"Oshawa PUC Networks Inc. 4220"]
["Oshawa PUC Networks Inc. 4225","Oshawa PUC Networks Inc.","4225","Late Payment Charges",-326017.82,-308614.15000000002,-254142,-247470,-88413.07,null,"Oshawa PUC Networks Inc. 4225"]
["Oshawa PUC Networks Inc. 4230","Oshawa PUC Networks Inc.","4230","Sales of Water and Water Power",0,0,0,0,0,null,"Oshawa PUC Networks Inc. 4230"]
["Oshawa PUC Networks Inc. 4235","Oshawa PUC Networks Inc.","4235","Miscellaneous Service Revenues",-1077943.3999999999,-696833.08,-719470,-469443,-450162.99,null,"Oshawa PUC Networks Inc. 4235"]
["Oshawa PUC Networks Inc. 4240","Oshawa PUC Networks Inc.","4240","Provision for Rate Refunds",0,0,0,0,0,null,"Oshawa PUC Networks Inc. 4240"]
["Oshawa PUC Networks Inc. 4245","Oshawa PUC Networks Inc.","4245","Government and Other Assistance Directly Credited to Income",0,0,0,0,0,null,"Oshawa PUC Networks Inc. 4245"]
["Oshawa PUC Networks Inc. 4305","Oshawa PUC Networks Inc.","4305","Regulatory Debits",0,0,0,0,0,null,"Oshawa PUC Networks Inc. 4305"]
["Oshawa PUC Networks Inc. 4310","Oshawa PUC Networks Inc.","4310","Regulatory Credits",0,0,0,0,0,null,"Oshawa PUC Networks Inc. 4310"]
["Oshawa PUC Networks Inc. 4315","Oshawa PUC Networks Inc.","4315","Revenues from Electric Plant Leased to Others",0,0,0,0,0,null,"Oshawa PUC Networks Inc. 4315"]
["Oshawa PUC Networks Inc. 4320","Oshawa PUC Networks Inc.","4320","Expenses of Electric Plant Leased to Others",0,0,0,0,0,null,"Oshawa PUC Networks Inc. 4320"]
["Oshawa PUC Networks Inc. 4325","Oshawa PUC Networks Inc.","4325","Revenues from Merchandise",-48352.63,-185118.81,-175831,-182826,-97378.64,null,"Oshawa PUC Networks Inc. 4325"]
["Oshawa PUC Networks Inc. 4330","Oshawa PUC Networks Inc.","4330","Costs and Expenses of Merchandising",67996.960000000006,203663.01,118523,199582,57485.42,null,"Oshawa PUC Networks Inc. 4330"]
["Oshawa PUC Networks Inc. 4335","Oshawa PUC Networks Inc.","4335","Profits and Losses from Financial Instrument Hedges",0,0,0,0,0,null,"Oshawa PUC Networks Inc. 4335"]
["Oshawa PUC Networks Inc. 4340","Oshawa PUC Networks Inc.","4340","Profits and Losses from Financial Instrument Investments",0,0,0,0,0,null,"Oshawa PUC Networks Inc. 4340"]
["Oshawa PUC Networks Inc. 4345","Oshawa PUC Networks Inc.","4345","Gains from Disposition of Future Use Utility Plant",0,0,0,0,0,null,"Oshawa PUC Networks Inc. 4345"]
["Oshawa PUC Networks Inc. 4350","Oshawa PUC Networks Inc.","4350","Losses from Disposition of Future Use Utility Plant",0,0,0,0,0,null,"Oshawa PUC Networks Inc. 4350"]
["Oshawa PUC Networks Inc. 4355","Oshawa PUC Networks Inc.","4355","Gain on Disposition of Utility and Other Property",-7875,73591.09,-33661,-10400,-15735.88,null,"Oshawa PUC Networks Inc. 4355"]
["Oshawa PUC Networks Inc. 4357","Oshawa PUC Networks Inc.","4357","Gain from Retirement of Utility and Other Property",0,0,0,0,0,null,"Oshawa PUC Networks Inc. 4357"]
["Oshawa PUC Networks Inc. 4360","Oshawa PUC Networks Inc.","4360","Loss on Disposition of Utility and Other Property",429437,439947,386552,-189483,91753.31,null,"Oshawa PUC Networks Inc. 4360"]
["Oshawa PUC Networks Inc. 4362","Oshawa PUC Networks Inc.","4362","Loss from Retirement of Utility and Other Property",0,0,0,0,0,null,"Oshawa PUC Networks Inc. 4362"]
["Oshawa PUC Networks Inc. 4365","Oshawa PUC Networks Inc.","4365","Gains from Disposition of Allowances for Emission",0,0,0,0,0,null,"Oshawa PUC Networks Inc. 4365"]
["Oshawa PUC Networks Inc. 4370","Oshawa PUC Networks Inc.","4370","Losses from Disposition of Allowances for Emission",0,0,0,0,0,null,"Oshawa PUC Networks Inc. 4370"]
["Oshawa PUC Networks Inc. 4375","Oshawa PUC Networks Inc.","4375","Revenues from Non Rate-Regulated Utility Operations",-3345688.75,-2851178.74,-2918149,-4098998.76,988296.42,null,"Oshawa PUC Networks Inc. 4375"]
["Oshawa PUC Networks Inc. 4375","Oshawa PUC Networks Inc.","4375","Sub-account Generation Facility Revenues",0,0,0,0,0,null,"Oshawa PUC Networks Inc. 4375"]
["Oshawa PUC Networks Inc. 4380","Oshawa PUC Networks Inc.","4380","Expenses of Non Rate-Regulated Utility Operations",3069748.16,2706242.19,2371942,4097171.71,-988120.36,null,"Oshawa PUC Networks Inc. 4380"]
["Oshawa PUC Networks Inc. 4380","Oshawa PUC Networks Inc.","4380","Sub-account Generation Facility Expenses",0,0,0,0,0,null,"Oshawa PUC Networks Inc. 4380"]
["Oshawa PUC Networks Inc. 4385","Oshawa PUC Networks Inc.","4385","Non Rate-Regulated Utility Rental Income",0,0,0,0,0,null,"Oshawa PUC Networks Inc. 4385"]
["Oshawa PUC Networks Inc. 4390","Oshawa PUC Networks Inc.","4390","Miscellaneous Non-Operating Income",-122787.74,-205677.19,-189621,-145804,-171796.88,null,"Oshawa PUC Networks Inc. 4390"]
["Oshawa PUC Networks Inc. 4395","Oshawa PUC Networks Inc.","4395","Rate-Payer Benefit Including Interest",0,0,0,0,0,null,"Oshawa PUC Networks Inc. 4395"]
["Oshawa PUC Networks Inc. 4398","Oshawa PUC Networks Inc.","4398","Foreign Exchange Gains and Losses, Including Amortization",0,-1795.17,-10,0,0,null,"Oshawa PUC Networks Inc. 4398"]
["Oshawa PUC Networks Inc. 4405","Oshawa PUC Networks Inc.","4405","Interest and Dividend Income",-145297.53,-159458.09,-168840,-131553,-83390.19,null,"Oshawa PUC Networks Inc. 4405"]
["Oshawa PUC Networks Inc. 4410","Oshawa PUC Networks Inc.","4410","Lessor's Net Investment in Finance Lease",0,0,0,0,0,null,"Oshawa PUC Networks Inc. 4410"]
["Oshawa PUC Networks Inc. 4415","Oshawa PUC Networks Inc.","4415","Equity in Earnings of Subsidiary Companies",0,0,0,0,0,null,"Oshawa PUC Networks Inc. 4415"]
["Oshawa PUC Networks Inc. 4420","Oshawa PUC Networks Inc.","4420","Share of Profit or Loss of Joint Venture",0,0,0,0,0,null,"Oshawa PUC Networks Inc. 4420"]
["Oshawa PUC Networks Inc. Total ","Oshawa PUC Networks Inc. Total",null,null,-1853364.3,-1335038.43,-1947471,-1668955.61,-1041244.51,null,"Oshawa PUC Networks Inc. Total "]
["Ottawa River Power Corporation 4082","Ottawa River Power Corporation","4082","Retail Services Revenues",-8024.3,-8138.5,-5933.5,-11640.1,-12251,null,"Ottawa River Power Corporation 4082"]
["Ottawa River Power Corporation 4084","Ottawa River Power Corporation","4084","Service Transaction Requests (STR) Revenues",-17.75,-14.75,-7,-30.25,-24.89,null,"Ottawa River Power Corporation 4084"]
["Ottawa River Power Corporation 4086","Ottawa River Power Corporation","4086","SSS Administration Revenue",-31503.81,-31843.07,-32852.71,-32916.44,-33163.65,null,"Ottawa River Power Corporation 4086"]
["Ottawa River Power Corporation 4090","Ottawa River Power Corporation","4090","Electric Services Incidental to Energy Sales",0,0,0,0,0,null,"Ottawa River Power Corporation 4090"]
["Ottawa River Power Corporation 4205","Ottawa River Power Corporation","4205","Interdepartmental Rents",0,0,0,0,0,null,"Ottawa River Power Corporation 4205"]
["Ottawa River Power Corporation 4210","Ottawa River Power Corporation","4210","Rent from Electric Property",-57774.83,-57774.83,-36428.15,-44436.01,-83946.6,null,"Ottawa River Power Corporation 4210"]
["Ottawa River Power Corporation 4215","Ottawa River Power Corporation","4215","Other Utility Operating Income",0,0,0,0,0,null,"Ottawa River Power Corporation 4215"]
["Ottawa River Power Corporation 4220","Ottawa River Power Corporation","4220","Other Electric Revenues",0,0,0,0,0,null,"Ottawa River Power Corporation 4220"]
["Ottawa River Power Corporation 4225","Ottawa River Power Corporation","4225","Late Payment Charges",-57075.93,-55610.62,-86747.77,-47920.46,-29687.91,null,"Ottawa River Power Corporation 4225"]
["Ottawa River Power Corporation 4230","Ottawa River Power Corporation","4230","Sales of Water and Water Power",0,0,0,0,0,null,"Ottawa River Power Corporation 4230"]
["Ottawa River Power Corporation 4235","Ottawa River Power Corporation","4235","Miscellaneous Service Revenues",-74072.759999999995,-64248.07,-61507.85,-51647.33,-49101.760000000002,null,"Ottawa River Power Corporation 4235"]
["Ottawa River Power Corporation 4240","Ottawa River Power Corporation","4240","Provision for Rate Refunds",0,0,0,0,0,null,"Ottawa River Power Corporation 4240"]
["Ottawa River Power Corporation 4245","Ottawa River Power Corporation","4245","Government and Other Assistance Directly Credited to Income",0,0,0,0,0,null,"Ottawa River Power Corporation 4245"]
["Ottawa River Power Corporation 4305","Ottawa River Power Corporation","4305","Regulatory Debits",0,0,0,0,0,null,"Ottawa River Power Corporation 4305"]
["Ottawa River Power Corporation 4310","Ottawa River Power Corporation","4310","Regulatory Credits",0,0,0,0,0,null,"Ottawa River Power Corporation 4310"]
["Ottawa River Power Corporation 4315","Ottawa River Power Corporation","4315","Revenues from Electric Plant Leased to Others",0,0,0,0,0,null,"Ottawa River Power Corporation 4315"]
["Ottawa River Power Corporation 4320","Ottawa River Power Corporation","4320","Expenses of Electric Plant Leased to Others",0,0,0,0,0,null,"Ottawa River Power Corporation 4320"]
["Ottawa River Power Corporation 4325","Ottawa River Power Corporation","4325","Revenues from Merchandise",-53948.23,-75818.44,-405067.35,0,0,null,"Ottawa River Power Corporation 4325"]
["Ottawa River Power Corporation 4330","Ottawa River Power Corporation","4330","Costs and Expenses of Merchandising",0,0,325881.59999999998,0,0,null,{"$f":"B2310 & \" \" &C2310","v":"Ottawa River Power Corporation 4330"}]
["Ottawa River Power Corporation 4335","Ottawa River Power Corporation","4335","Profits and Losses from Financial Instrument Hedges",0,0,0,0,0,null,"Ottawa River Power Corporation 4335"]
["Ottawa River Power Corporation 4340","Ottawa River Power Corporation","4340","Profits and Losses from Financial Instrument Investments",0,0,0,0,0,null,"Ottawa River Power Corporation 4340"]
["Ottawa River Power Corporation 4345","Ottawa River Power Corporation","4345","Gains from Disposition of Future Use Utility Plant",0,0,0,0,0,null,"Ottawa River Power Corporation 4345"]
["Ottawa River Power Corporation 4350","Ottawa River Power Corporation","4350","Losses from Disposition of Future Use Utility Plant",0,0,0,0,0,null,"Ottawa River Power Corporation 4350"]
["Ottawa River Power Corporation 4355","Ottawa River Power Corporation","4355","Gain on Disposition of Utility and Other Property",0,-25000,-3404.59,-43872,0,null,"Ottawa River Power Corporation 4355"]
["Ottawa River Power Corporation 4357","Ottawa River Power Corporation","4357","Gain from Retirement of Utility and Other Property",0,0,0,0,0,null,"Ottawa River Power Corporation 4357"]
["Ottawa River Power Corporation 4360","Ottawa River Power Corporation","4360","Loss on Disposition of Utility and Other Property",0,0,0,0,0,null,"Ottawa River Power Corporation 4360"]
["Ottawa River Power Corporation 4362","Ottawa River Power Corporation","4362","Loss from Retirement of Utility and Other Property",0,0,0,0,0,null,"Ottawa River Power Corporation 4362"]
["Ottawa River Power Corporation 4365","Ottawa River Power Corporation","4365","Gains from Disposition of Allowances for Emission",0,0,0,0,0,null,"Ottawa River Power Corporation 4365"]
["Ottawa River Power Corporation 4370","Ottawa River Power Corporation","4370","Losses from Disposition of Allowances for Emission",0,0,0,0,0,null,"Ottawa River Power Corporation 4370"]
["Ottawa River Power Corporation 4375","Ottawa River Power Corporation","4375","Revenues from Non Rate-Regulated Utility Operations",-1191.32,-1372.37,-147118.99,-769422.36,-481912.58,null,"Ottawa River Power Corporation 4375"]
["Ottawa River Power Corporation 4375","Ottawa River Power Corporation","4375","Sub-account Generation Facility Revenues",0,0,0,0,0,null,"Ottawa River Power Corporation 4375"]
["Ottawa River Power Corporation 4380","Ottawa River Power Corporation","4380","Expenses of Non Rate-Regulated Utility Operations",0,0,38142.11,682198.15,436181.77,null,"Ottawa River Power Corporation 4380"]
["Ottawa River Power Corporation 4380","Ottawa River Power Corporation","4380","Sub-account Generation Facility Expenses",0,0,0,0,0,null,"Ottawa River Power Corporation 4380"]
["Ottawa River Power Corporation 4385","Ottawa River Power Corporation","4385","Non Rate-Regulated Utility Rental Income",0,0,0,0,0,null,"Ottawa River Power Corporation 4385"]
["Ottawa River Power Corporation 4390","Ottawa River Power Corporation","4390","Miscellaneous Non-Operating Income",-4646.83,-19821.13,-5663.23,-1284.47,-20728.68,null,"Ottawa River Power Corporation 4390"]
["Ottawa River Power Corporation 4395","Ottawa River Power Corporation","4395","Rate-Payer Benefit Including Interest",0,0,0,0,0,null,"Ottawa River Power Corporation 4395"]
["Ottawa River Power Corporation 4398","Ottawa River Power Corporation","4398","Foreign Exchange Gains and Losses, Including Amortization",0,0,0,0,0,null,"Ottawa River Power Corporation 4398"]
["Ottawa River Power Corporation 4405","Ottawa River Power Corporation","4405","Interest and Dividend Income",-40862.300000000003,-44341.41,-75878.39,-53014.49,-21611.7,null,"Ottawa River Power Corporation 4405"]
["Ottawa River Power Corporation 4410","Ottawa River Power Corporation","4410","Lessor's Net Investment in Finance Lease",0,0,0,0,0,null,"Ottawa River Power Corporation 4410"]
["Ottawa River Power Corporation 4415","Ottawa River Power Corporation","4415","Equity in Earnings of Subsidiary Companies",0,0,0,0,0,null,"Ottawa River Power Corporation 4415"]
["Ottawa River Power Corporation 4420","Ottawa River Power Corporation","4420","Share of Profit or Loss of Joint Venture",0,0,0,0,0,null,"Ottawa River Power Corporation 4420"]
["Ottawa River Power Corporation Total ","Ottawa River Power Corporation Total",null,null,-329118.06,-383983.19,-496585.82,-373985.76,-296247,null,"Ottawa River Power Corporation Total "]
["PUC Distribution Inc. 4082","PUC Distribution Inc.","4082","Retail Services Revenues",-23850.400000000001,-18457.599999999999,-17492,-25441.599999999999,-26764.06,null,"PUC Distribution Inc. 4082"]
["PUC Distribution Inc. 4084","PUC Distribution Inc.","4084","Service Transaction Requests (STR) Revenues",-274.75,-125.5,-117.5,-219.5,-236.25,null,"PUC Distribution Inc. 4084"]
["PUC Distribution Inc. 4086","PUC Distribution Inc.","4086","SSS Administration Revenue",0,0,0,0,0,null,"PUC Distribution Inc. 4086"]
["PUC Distribution Inc. 4090","PUC Distribution Inc.","4090","Electric Services Incidental to Energy Sales",0,0,0,0,0,null,"PUC Distribution Inc. 4090"]
["PUC Distribution Inc. 4205","PUC Distribution Inc.","4205","Interdepartmental Rents",0,0,0,0,0,null,"PUC Distribution Inc. 4205"]
["PUC Distribution Inc. 4210","PUC Distribution Inc.","4210","Rent from Electric Property",-1731776.77,-1708952.42,-1816885.93,-2019859.85,-835932.68,null,"PUC Distribution Inc. 4210"]
["PUC Distribution Inc. 4215","PUC Distribution Inc.","4215","Other Utility Operating Income",0,0,0,0,0,null,"PUC Distribution Inc. 4215"]
["PUC Distribution Inc. 4220","PUC Distribution Inc.","4220","Other Electric Revenues",0,0,0,0,0,null,"PUC Distribution Inc. 4220"]
["PUC Distribution Inc. 4225","PUC Distribution Inc.","4225","Late Payment Charges",-177224.77,-244224.23,-221083.59,-173678.62,-1491385.15,null,"PUC Distribution Inc. 4225"]
["PUC Distribution Inc. 4230","PUC Distribution Inc.","4230","Sales of Water and Water Power",0,0,0,0,0,null,"PUC Distribution Inc. 4230"]
["PUC Distribution Inc. 4235","PUC Distribution Inc.","4235","Miscellaneous Service Revenues",-316018.59999999998,-218200.62,-193432.19,-161185.42000000001,-128941.99,null,"PUC Distribution Inc. 4235"]
["PUC Distribution Inc. 4240","PUC Distribution Inc.","4240","Provision for Rate Refunds",0,0,0,0,0,null,"PUC Distribution Inc. 4240"]
["PUC Distribution Inc. 4245","PUC Distribution Inc.","4245","Government and Other Assistance Directly Credited to Income",0,0,0,0,0,null,"PUC Distribution Inc. 4245"]
["PUC Distribution Inc. 4305","PUC Distribution Inc.","4305","Regulatory Debits",0,0,0,0,0,null,"PUC Distribution Inc. 4305"]
["PUC Distribution Inc. 4310","PUC Distribution Inc.","4310","Regulatory Credits",0,0,0,0,0,null,"PUC Distribution Inc. 4310"]
["PUC Distribution Inc. 4315","PUC Distribution Inc.","4315","Revenues from Electric Plant Leased to Others",0,0,0,0,0,null,"PUC Distribution Inc. 4315"]
["PUC Distribution Inc. 4320","PUC Distribution Inc.","4320","Expenses of Electric Plant Leased to Others",0,0,0,0,0,null,"PUC Distribution Inc. 4320"]
["PUC Distribution Inc. 4325","PUC Distribution Inc.","4325","Revenues from Merchandise",-229684.76,-111200.85,-150893.42000000001,-94078.79,-113248.02,null,"PUC Distribution Inc. 4325"]
["PUC Distribution Inc. 4330","PUC Distribution Inc.","4330","Costs and Expenses of Merchandising",2507.11,18759.64,475.95,0,0,null,"PUC Distribution Inc. 4330"]
["PUC Distribution Inc. 4335","PUC Distribution Inc.","4335","Profits and Losses from Financial Instrument Hedges",0,0,0,0,0,null,"PUC Distribution Inc. 4335"]
["PUC Distribution Inc. 4340","PUC Distribution Inc.","4340","Profits and Losses from Financial Instrument Investments",0,0,0,0,0,null,"PUC Distribution Inc. 4340"]
["PUC Distribution Inc. 4345","PUC Distribution Inc.","4345","Gains from Disposition of Future Use Utility Plant",0,0,0,0,0,null,"PUC Distribution Inc. 4345"]
["PUC Distribution Inc. 4350","PUC Distribution Inc.","4350","Losses from Disposition of Future Use Utility Plant",0,0,0,0,0,null,"PUC Distribution Inc. 4350"]
["PUC Distribution Inc. 4355","PUC Distribution Inc.","4355","Gain on Disposition of Utility and Other Property",0,0,-80255.73,-500,0,null,"PUC Distribution Inc. 4355"]
["PUC Distribution Inc. 4357","PUC Distribution Inc.","4357","Gain from Retirement of Utility and Other Property",0,0,0,0,0,null,"PUC Distribution Inc. 4357"]
["PUC Distribution Inc. 4360","PUC Distribution Inc.","4360","Loss on Disposition of Utility and Other Property",0,0,0,0,0,null,"PUC Distribution Inc. 4360"]
["PUC Distribution Inc. 4362","PUC Distribution Inc.","4362","Loss from Retirement of Utility and Other Property",0,0,0,0,0,null,"PUC Distribution Inc. 4362"]
["PUC Distribution Inc. 4365","PUC Distribution Inc.","4365","Gains from Disposition of Allowances for Emission",0,0,0,0,0,null,"PUC Distribution Inc. 4365"]
["PUC Distribution Inc. 4370","PUC Distribution Inc.","4370","Losses from Disposition of Allowances for Emission",0,0,0,0,0,null,"PUC Distribution Inc. 4370"]
["PUC Distribution Inc. 4375","PUC Distribution Inc.","4375","Revenues from Non Rate-Regulated Utility Operations",-766821.92,-1822766.81,-1222816.29,-4031627.51,-4731173.32,null,"PUC Distribution Inc. 4375"]
["PUC Distribution Inc. 4375","PUC Distribution Inc.","4375","Sub-account Generation Facility Revenues",0,0,0,0,0,null,"PUC Distribution Inc. 4375"]
["PUC Distribution Inc. 4380","PUC Distribution Inc.","4380","Expenses of Non Rate-Regulated Utility Operations",762272.73,1822766.81,739618.36,4039776.84,4733225.5199999996,null,"PUC Distribution Inc. 4380"]
["PUC Distribution Inc. 4380","PUC Distribution Inc.","4380","Sub-account Generation Facility Expenses",0,0,0,0,0,null,"PUC Distribution Inc. 4380"]
["PUC Distribution Inc. 4385","PUC Distribution Inc.","4385","Non Rate-Regulated Utility Rental Income",0,0,0,0,0,null,"PUC Distribution Inc. 4385"]
["PUC Distribution Inc. 4390","PUC Distribution Inc.","4390","Miscellaneous Non-Operating Income",-19337.84,-25859.13,-9449.06,-14377.57,-56059.55,null,"PUC Distribution Inc. 4390"]
["PUC Distribution Inc. 4395","PUC Distribution Inc.","4395","Rate-Payer Benefit Including Interest",0,-22621.82,0,0,0,null,"PUC Distribution Inc. 4395"]
["PUC Distribution Inc. 4398","PUC Distribution Inc.","4398","Foreign Exchange Gains and Losses, Including Amortization",0,0,0,0,0,null,"PUC Distribution Inc. 4398"]
["PUC Distribution Inc. 4405","PUC Distribution Inc.","4405","Interest and Dividend Income",-33313.18,0,-10150.719999999999,-2918.88,-458.8,null,"PUC Distribution Inc. 4405"]
["PUC Distribution Inc. 4410","PUC Distribution Inc.","4410","Lessor's Net Investment in Finance Lease",0,0,0,0,0,null,"PUC Distribution Inc. 4410"]
["PUC Distribution Inc. 4415","PUC Distribution Inc.","4415","Equity in Earnings of Subsidiary Companies",0,0,0,0,0,null,"PUC Distribution Inc. 4415"]
["PUC Distribution Inc. 4420","PUC Distribution Inc.","4420","Share of Profit or Loss of Joint Venture",0,0,0,0,0,null,{"$f":"B2374 & \" \" &C2374","v":"PUC Distribution Inc. 4420"}]
["PUC Distribution Inc. Total ","PUC Distribution Inc. Total",null,null,-2533523.15,-2330882.5299999998,-2982482.12,-2484110.9,-2650974.2999999998,null,"PUC Distribution Inc. Total "]
["PowerStream Inc. 4082","PowerStream Inc.","4082","Retail Services Revenues",-169195.9,null,null,null,null,null,"PowerStream Inc. 4082"]
["PowerStream Inc. 4084","PowerStream Inc.","4084","Service Transaction Requests (STR) Revenues",0,null,null,null,null,null,"PowerStream Inc. 4084"]
["PowerStream Inc. 4086","PowerStream Inc.","4086","SSS Administration Revenue",0,null,null,null,null,null,"PowerStream Inc. 4086"]
["PowerStream Inc. 4090","PowerStream Inc.","4090","Electric Services Incidental to Energy Sales",0,null,null,null,null,null,"PowerStream Inc. 4090"]
["PowerStream Inc. 4205","PowerStream Inc.","4205","Interdepartmental Rents",0,null,null,null,null,null,"PowerStream Inc. 4205"]
["PowerStream Inc. 4210","PowerStream Inc.","4210","Rent from Electric Property",-758643.42,null,null,null,null,null,"PowerStream Inc. 4210"]
["PowerStream Inc. 4215","PowerStream Inc.","4215","Other Utility Operating Income",0,null,null,null,null,null,"PowerStream Inc. 4215"]
["PowerStream Inc. 4220","PowerStream Inc.","4220","Other Electric Revenues",0,null,null,null,null,null,"PowerStream Inc. 4220"]
["PowerStream Inc. 4225","PowerStream Inc.","4225","Late Payment Charges",-2069274.45,null,null,null,null,null,"PowerStream Inc. 4225"]
["PowerStream Inc. 4230","PowerStream Inc.","4230","Sales of Water and Water Power",0,null,null,null,null,null,"PowerStream Inc. 4230"]
["PowerStream Inc. 4235","PowerStream Inc.","4235","Miscellaneous Service Revenues",-6524433.5599999996,null,null,null,null,null,"PowerStream Inc. 4235"]
["PowerStream Inc. 4240","PowerStream Inc.","4240","Provision for Rate Refunds",0,null,null,null,null,null,"PowerStream Inc. 4240"]
["PowerStream Inc. 4245","PowerStream Inc.","4245","Government and Other Assistance Directly Credited to Income",-3658832.51,null,null,null,null,null,"PowerStream Inc. 4245"]
["PowerStream Inc. 4305","PowerStream Inc.","4305","Regulatory Debits",0,null,null,null,null,null,"PowerStream Inc. 4305"]
["PowerStream Inc. 4310","PowerStream Inc.","4310","Regulatory Credits",0,null,null,null,null,null,"PowerStream Inc. 4310"]
["PowerStream Inc. 4315","PowerStream Inc.","4315","Revenues from Electric Plant Leased to Others",0,null,null,null,null,null,"PowerStream Inc. 4315"]
["PowerStream Inc. 4320","PowerStream Inc.","4320","Expenses of Electric Plant Leased to Others",0,null,null,null,null,null,"PowerStream Inc. 4320"]
["PowerStream Inc. 4325","PowerStream Inc.","4325","Revenues from Merchandise",0,null,null,null,null,null,"PowerStream Inc. 4325"]
["PowerStream Inc. 4330","PowerStream Inc.","4330","Costs and Expenses of Merchandising",0,null,null,null,null,null,"PowerStream Inc. 4330"]
["PowerStream Inc. 4335","PowerStream Inc.","4335","Profits and Losses from Financial Instrument Hedges",0,null,null,null,null,null,"PowerStream Inc. 4335"]
["PowerStream Inc. 4340","PowerStream Inc.","4340","Profits and Losses from Financial Instrument Investments",0,null,null,null,null,null,"PowerStream Inc. 4340"]
["PowerStream Inc. 4345","PowerStream Inc.","4345","Gains from Disposition of Future Use Utility Plant",0,null,null,null,null,null,"PowerStream Inc. 4345"]
["PowerStream Inc. 4350","PowerStream Inc.","4350","Losses from Disposition of Future Use Utility Plant",0,null,null,null,null,null,"PowerStream Inc. 4350"]
["PowerStream Inc. 4355","PowerStream Inc.","4355","Gain on Disposition of Utility and Other Property",-116258.05,null,null,null,null,null,"PowerStream Inc. 4355"]
["PowerStream Inc. 4357","PowerStream Inc.","4357","Gain from Retirement of Utility and Other Property",0,null,null,null,null,null,"PowerStream Inc. 4357"]
["PowerStream Inc. 4360","PowerStream Inc.","4360","Loss on Disposition of Utility and Other Property",0,null,null,null,null,null,"PowerStream Inc. 4360"]
["PowerStream Inc. 4362","PowerStream Inc.","4362","Loss from Retirement of Utility and Other Property",1524877.77,null,null,null,null,null,"PowerStream Inc. 4362"]
["PowerStream Inc. 4365","PowerStream Inc.","4365","Gains from Disposition of Allowances for Emission",0,null,null,null,null,null,"PowerStream Inc. 4365"]
["PowerStream Inc. 4370","PowerStream Inc.","4370","Losses from Disposition of Allowances for Emission",0,null,null,null,null,null,"PowerStream Inc. 4370"]
["PowerStream Inc. 4375","PowerStream Inc.","4375","Revenues from Non Rate-Regulated Utility Operations",-46595756.450000003,null,null,null,null,null,"PowerStream Inc. 4375"]
["PowerStream Inc. 4375","PowerStream Inc.","4375","Sub-account Generation Facility Revenues",0,null,null,null,null,null,"PowerStream Inc. 4375"]
["PowerStream Inc. 4380","PowerStream Inc.","4380","Expenses of Non Rate-Regulated Utility Operations",41316802.100000001,null,null,null,null,null,"PowerStream Inc. 4380"]
["PowerStream Inc. 4380","PowerStream Inc.","4380","Sub-account Generation Facility Expenses",0,null,null,null,null,null,"PowerStream Inc. 4380"]
["PowerStream Inc. 4385","PowerStream Inc.","4385","Non Rate-Regulated Utility Rental Income",0,null,null,null,null,null,"PowerStream Inc. 4385"]
["PowerStream Inc. 4390","PowerStream Inc.","4390","Miscellaneous Non-Operating Income",-1280200.03,null,null,null,null,null,"PowerStream Inc. 4390"]
["PowerStream Inc. 4395","PowerStream Inc.","4395","Rate-Payer Benefit Including Interest",0,null,null,null,null,null,"PowerStream Inc. 4395"]
["PowerStream Inc. 4398","PowerStream Inc.","4398","Foreign Exchange Gains and Losses, Including Amortization",0,null,null,null,null,null,"PowerStream Inc. 4398"]
["PowerStream Inc. 4405","PowerStream Inc.","4405","Interest and Dividend Income",-728548.78,null,null,null,null,null,"PowerStream Inc. 4405"]
["PowerStream Inc. 4410","PowerStream Inc.","4410","Lessor's Net Investment in Finance Lease",0,null,null,null,null,null,"PowerStream Inc. 4410"]
["PowerStream Inc. 4415","PowerStream Inc.","4415","Equity in Earnings of Subsidiary Companies",0,null,null,null,null,null,"PowerStream Inc. 4415"]
["PowerStream Inc. 4420","PowerStream Inc.","4420","Share of Profit or Loss of Joint Venture",-350000,null,null,null,null,null,"PowerStream Inc. 4420"]
["PowerStream Inc. Total ","PowerStream Inc. Total",null,null,-19409463.280000001,null,null,null,null,null,"PowerStream Inc. Total "]
["Renfrew Hydro Inc. 4082","Renfrew Hydro Inc.","4082","Retail Services Revenues",-4760.3999999999996,-4968,-4787.91,-8199.6,-5660.56,null,"Renfrew Hydro Inc. 4082"]
["Renfrew Hydro Inc. 4084","Renfrew Hydro Inc.","4084","Service Transaction Requests (STR) Revenues",-62.75,-33.5,-20.75,0,-41.31,null,"Renfrew Hydro Inc. 4084"]
["Renfrew Hydro Inc. 4086","Renfrew Hydro Inc.","4086","SSS Administration Revenue",-12451.93,-12540.83,-12670.23,-12727.96,-12830.29,null,"Renfrew Hydro Inc. 4086"]
["Renfrew Hydro Inc. 4090","Renfrew Hydro Inc.","4090","Electric Services Incidental to Energy Sales",0,0,0,0,0,null,"Renfrew Hydro Inc. 4090"]
["Renfrew Hydro Inc. 4205","Renfrew Hydro Inc.","4205","Interdepartmental Rents",0,0,0,0,0,null,"Renfrew Hydro Inc. 4205"]
["Renfrew Hydro Inc. 4210","Renfrew Hydro Inc.","4210","Rent from Electric Property",-37648.160000000003,-37648.160000000003,-46443.27,-41995.65,-41995.65,null,"Renfrew Hydro Inc. 4210"]
["Renfrew Hydro Inc. 4215","Renfrew Hydro Inc.","4215","Other Utility Operating Income",0,0,0,0,0,null,"Renfrew Hydro Inc. 4215"]
["Renfrew Hydro Inc. 4220","Renfrew Hydro Inc.","4220","Other Electric Revenues",0,0,0,0,0,null,"Renfrew Hydro Inc. 4220"]
["Renfrew Hydro Inc. 4225","Renfrew Hydro Inc.","4225","Late Payment Charges",-20235.96,-22681.97,-22173.17,-17932.2,-23866.73,null,"Renfrew Hydro Inc. 4225"]
["Renfrew Hydro Inc. 4230","Renfrew Hydro Inc.","4230","Sales of Water and Water Power",0,0,0,0,0,null,"Renfrew Hydro Inc. 4230"]
["Renfrew Hydro Inc. 4235","Renfrew Hydro Inc.","4235","Miscellaneous Service Revenues",-33147.230000000003,-45881.2,-36381.599999999999,-31363.200000000001,-36135.64,null,"Renfrew Hydro Inc. 4235"]
["Renfrew Hydro Inc. 4240","Renfrew Hydro Inc.","4240","Provision for Rate Refunds",0,0,0,0,0,null,"Renfrew Hydro Inc. 4240"]
["Renfrew Hydro Inc. 4245","Renfrew Hydro Inc.","4245","Government and Other Assistance Directly Credited to Income",-1507.83,-2160.11,-4414.29,-3674.39,-19235.95,null,"Renfrew Hydro Inc. 4245"]
["Renfrew Hydro Inc. 4305","Renfrew Hydro Inc.","4305","Regulatory Debits",169789.48,162681.45000000001,154341.72,148035.56,146813.56,null,"Renfrew Hydro Inc. 4305"]
["Renfrew Hydro Inc. 4310","Renfrew Hydro Inc.","4310","Regulatory Credits",0,0,0,0,0,null,"Renfrew Hydro Inc. 4310"]
["Renfrew Hydro Inc. 4315","Renfrew Hydro Inc.","4315","Revenues from Electric Plant Leased to Others",0,0,0,0,0,null,"Renfrew Hydro Inc. 4315"]
["Renfrew Hydro Inc. 4320","Renfrew Hydro Inc.","4320","Expenses of Electric Plant Leased to Others",0,0,0,0,0,null,"Renfrew Hydro Inc. 4320"]
["Renfrew Hydro Inc. 4325","Renfrew Hydro Inc.","4325","Revenues from Merchandise",-14260.23,-10576.36,-17495.21,-6756.2,-3223.5,null,"Renfrew Hydro Inc. 4325"]
["Renfrew Hydro Inc. 4330","Renfrew Hydro Inc.","4330","Costs and Expenses of Merchandising",0,0,0,0,90.61,null,"Renfrew Hydro Inc. 4330"]
["Renfrew Hydro Inc. 4335","Renfrew Hydro Inc.","4335","Profits and Losses from Financial Instrument Hedges",0,0,0,0,0,null,"Renfrew Hydro Inc. 4335"]
["Renfrew Hydro Inc. 4340","Renfrew Hydro Inc.","4340","Profits and Losses from Financial Instrument Investments",0,0,0,0,0,null,{"$f":"B2438 & \" \" &C2438","v":"Renfrew Hydro Inc. 4340"}]
["Renfrew Hydro Inc. 4345","Renfrew Hydro Inc.","4345","Gains from Disposition of Future Use Utility Plant",0,0,0,0,0,null,"Renfrew Hydro Inc. 4345"]
["Renfrew Hydro Inc. 4350","Renfrew Hydro Inc.","4350","Losses from Disposition of Future Use Utility Plant",0,0,0,0,0,null,"Renfrew Hydro Inc. 4350"]
["Renfrew Hydro Inc. 4355","Renfrew Hydro Inc.","4355","Gain on Disposition of Utility and Other Property",0,0,-42847.49,-5750,0,null,"Renfrew Hydro Inc. 4355"]
["Renfrew Hydro Inc. 4357","Renfrew Hydro Inc.","4357","Gain from Retirement of Utility and Other Property",0,0,0,0,0,null,"Renfrew Hydro Inc. 4357"]
["Renfrew Hydro Inc. 4360","Renfrew Hydro Inc.","4360","Loss on Disposition of Utility and Other Property",0,0,0,0,0,null,"Renfrew Hydro Inc. 4360"]
["Renfrew Hydro Inc. 4362","Renfrew Hydro Inc.","4362","Loss from Retirement of Utility and Other Property",4631.29,7555.29,6770.66,6662.41,3959.07,null,"Renfrew Hydro Inc. 4362"]
["Renfrew Hydro Inc. 4365","Renfrew Hydro Inc.","4365","Gains from Disposition of Allowances for Emission",0,0,0,0,0,null,"Renfrew Hydro Inc. 4365"]
["Renfrew Hydro Inc. 4370","Renfrew Hydro Inc.","4370","Losses from Disposition of Allowances for Emission",0,0,0,0,0,null,"Renfrew Hydro Inc. 4370"]
["Renfrew Hydro Inc. 4375","Renfrew Hydro Inc.","4375","Revenues from Non Rate-Regulated Utility Operations",-18172.84,-10409.69,-105074.71,-73365.34,-220908.7,null,"Renfrew Hydro Inc. 4375"]
["Renfrew Hydro Inc. 4375","Renfrew Hydro Inc.","4375","Sub-account Generation Facility Revenues",0,0,0,0,0,null,"Renfrew Hydro Inc. 4375"]
["Renfrew Hydro Inc. 4380","Renfrew Hydro Inc.","4380","Expenses of Non Rate-Regulated Utility Operations",0,46163.97,43305.26,32144.31,148912.48000000001,null,"Renfrew Hydro Inc. 4380"]
["Renfrew Hydro Inc. 4380","Renfrew Hydro Inc.","4380","Sub-account Generation Facility Expenses",0,0,0,0,0,null,"Renfrew Hydro Inc. 4380"]
["Renfrew Hydro Inc. 4385","Renfrew Hydro Inc.","4385","Non Rate-Regulated Utility Rental Income",0,0,0,0,0,null,"Renfrew Hydro Inc. 4385"]
["Renfrew Hydro Inc. 4390","Renfrew Hydro Inc.","4390","Miscellaneous Non-Operating Income",-2932.94,-11089.85,-6667.11,-4070.57,-3349.48,null,"Renfrew Hydro Inc. 4390"]
["Renfrew Hydro Inc. 4395","Renfrew Hydro Inc.","4395","Rate-Payer Benefit Including Interest",0,0,0,0,0,null,"Renfrew Hydro Inc. 4395"]
["Renfrew Hydro Inc. 4398","Renfrew Hydro Inc.","4398","Foreign Exchange Gains and Losses, Including Amortization",0,0,0,0,0,null,"Renfrew Hydro Inc. 4398"]
["Renfrew Hydro Inc. 4405","Renfrew Hydro Inc.","4405","Interest and Dividend Income",-10525.69,27393.49,-15339.51,-18594,-7680.43,null,"Renfrew Hydro Inc. 4405"]
["Renfrew Hydro Inc. 4410","Renfrew Hydro Inc.","4410","Lessor's Net Investment in Finance Lease",0,0,0,0,0,null,"Renfrew Hydro Inc. 4410"]
["Renfrew Hydro Inc. 4415","Renfrew Hydro Inc.","4415","Equity in Earnings of Subsidiary Companies",0,0,0,0,0,null,"Renfrew Hydro Inc. 4415"]
["Renfrew Hydro Inc. 4420","Renfrew Hydro Inc.","4420","Share of Profit or Loss of Joint Venture",0,0,0,0,0,null,"Renfrew Hydro Inc. 4420"]
["Renfrew Hydro Inc. Total ","Renfrew Hydro Inc. Total",null,null,18714.810000000001,85804.53,-109897.61,-37586.83,-75152.52,null,"Renfrew Hydro Inc. Total "]
["Rideau St. Lawrence Distribution Inc. 4082","Rideau St. Lawrence Distribution Inc.","4082","Retail Services Revenues",-6755.64,-6491.6,-6160.2,-7044.88,-7151.58,null,"Rideau St. Lawrence Distribution Inc. 4082"]
["Rideau St. Lawrence Distribution Inc. 4084","Rideau St. Lawrence Distribution Inc.","4084","Service Transaction Requests (STR) Revenues",-45,-27.5,-31.25,-35.5,-34,null,"Rideau St. Lawrence Distribution Inc. 4084"]
["Rideau St. Lawrence Distribution Inc. 4086","Rideau St. Lawrence Distribution Inc.","4086","SSS Administration Revenue",-21243.06,-22042.61,-21942.45,-21856.18,-21747.82,null,"Rideau St. Lawrence Distribution Inc. 4086"]
["Rideau St. Lawrence Distribution Inc. 4090","Rideau St. Lawrence Distribution Inc.","4090","Electric Services Incidental to Energy Sales",0,0,0,0,0,null,"Rideau St. Lawrence Distribution Inc. 4090"]
["Rideau St. Lawrence Distribution Inc. 4205","Rideau St. Lawrence Distribution Inc.","4205","Interdepartmental Rents",0,0,0,0,0,null,"Rideau St. Lawrence Distribution Inc. 4205"]
["Rideau St. Lawrence Distribution Inc. 4210","Rideau St. Lawrence Distribution Inc.","4210","Rent from Electric Property",-43738.83,-43738.83,-42401.86,-44208.3,-44409.45,null,"Rideau St. Lawrence Distribution Inc. 4210"]
["Rideau St. Lawrence Distribution Inc. 4215","Rideau St. Lawrence Distribution Inc.","4215","Other Utility Operating Income",0,0,0,0,0,null,"Rideau St. Lawrence Distribution Inc. 4215"]
["Rideau St. Lawrence Distribution Inc. 4220","Rideau St. Lawrence Distribution Inc.","4220","Other Electric Revenues",-2233.71,-3953.95,-7283.88,-7688.02,-11968.3,null,"Rideau St. Lawrence Distribution Inc. 4220"]
["Rideau St. Lawrence Distribution Inc. 4225","Rideau St. Lawrence Distribution Inc.","4225","Late Payment Charges",-75313.67,-70389.820000000007,-58515.08,-55105.61,-69106.820000000007,null,"Rideau St. Lawrence Distribution Inc. 4225"]
["Rideau St. Lawrence Distribution Inc. 4230","Rideau St. Lawrence Distribution Inc.","4230","Sales of Water and Water Power",0,0,0,0,0,null,"Rideau St. Lawrence Distribution Inc. 4230"]
["Rideau St. Lawrence Distribution Inc. 4235","Rideau St. Lawrence Distribution Inc.","4235","Miscellaneous Service Revenues",-116375.67,-97263.67,-81166.87,-78315.3,-106103.75,null,"Rideau St. Lawrence Distribution Inc. 4235"]
["Rideau St. Lawrence Distribution Inc. 4240","Rideau St. Lawrence Distribution Inc.","4240","Provision for Rate Refunds",0,0,0,0,0,null,"Rideau St. Lawrence Distribution Inc. 4240"]
["Rideau St. Lawrence Distribution Inc. 4245","Rideau St. Lawrence Distribution Inc.","4245","Government and Other Assistance Directly Credited to Income",0,0,0,0,0,null,"Rideau St. Lawrence Distribution Inc. 4245"]
["Rideau St. Lawrence Distribution Inc. 4305","Rideau St. Lawrence Distribution Inc.","4305","Regulatory Debits",0,0,0,0,0,null,"Rideau St. Lawrence Distribution Inc. 4305"]
["Rideau St. Lawrence Distribution Inc. 4310","Rideau St. Lawrence Distribution Inc.","4310","Regulatory Credits",0,0,0,0,0,null,"Rideau St. Lawrence Distribution Inc. 4310"]
["Rideau St. Lawrence Distribution Inc. 4315","Rideau St. Lawrence Distribution Inc.","4315","Revenues from Electric Plant Leased to Others",0,0,0,0,0,null,"Rideau St. Lawrence Distribution Inc. 4315"]
["Rideau St. Lawrence Distribution Inc. 4320","Rideau St. Lawrence Distribution Inc.","4320","Expenses of Electric Plant Leased to Others",0,0,0,0,0,null,"Rideau St. Lawrence Distribution Inc. 4320"]
["Rideau St. Lawrence Distribution Inc. 4325","Rideau St. Lawrence Distribution Inc.","4325","Revenues from Merchandise",0,0,0,0,0,null,"Rideau St. Lawrence Distribution Inc. 4325"]
["Rideau St. Lawrence Distribution Inc. 4330","Rideau St. Lawrence Distribution Inc.","4330","Costs and Expenses of Merchandising",0,0,0,0,0,null,"Rideau St. Lawrence Distribution Inc. 4330"]
["Rideau St. Lawrence Distribution Inc. 4335","Rideau St. Lawrence Distribution Inc.","4335","Profits and Losses from Financial Instrument Hedges",0,0,0,0,0,null,"Rideau St. Lawrence Distribution Inc. 4335"]
["Rideau St. Lawrence Distribution Inc. 4340","Rideau St. Lawrence Distribution Inc.","4340","Profits and Losses from Financial Instrument Investments",0,0,0,0,0,null,"Rideau St. Lawrence Distribution Inc. 4340"]
["Rideau St. Lawrence Distribution Inc. 4345","Rideau St. Lawrence Distribution Inc.","4345","Gains from Disposition of Future Use Utility Plant",0,0,0,0,0,null,"Rideau St. Lawrence Distribution Inc. 4345"]
["Rideau St. Lawrence Distribution Inc. 4350","Rideau St. Lawrence Distribution Inc.","4350","Losses from Disposition of Future Use Utility Plant",0,0,0,0,0,null,"Rideau St. Lawrence Distribution Inc. 4350"]
["Rideau St. Lawrence Distribution Inc. 4355","Rideau St. Lawrence Distribution Inc.","4355","Gain on Disposition of Utility and Other Property",-3285,-5007.93,0,0,0,null,"Rideau St. Lawrence Distribution Inc. 4355"]
["Rideau St. Lawrence Distribution Inc. 4357","Rideau St. Lawrence Distribution Inc.","4357","Gain from Retirement of Utility and Other Property",0,0,0,0,0,null,"Rideau St. Lawrence Distribution Inc. 4357"]
["Rideau St. Lawrence Distribution Inc. 4360","Rideau St. Lawrence Distribution Inc.","4360","Loss on Disposition of Utility and Other Property",8789.7999999999993,5278.18,8613.94,7731.31,4075.61,null,"Rideau St. Lawrence Distribution Inc. 4360"]
["Rideau St. Lawrence Distribution Inc. 4362","Rideau St. Lawrence Distribution Inc.","4362","Loss from Retirement of Utility and Other Property",0,0,0,0,0,null,"Rideau St. Lawrence Distribution Inc. 4362"]
["Rideau St. Lawrence Distribution Inc. 4365","Rideau St. Lawrence Distribution Inc.","4365","Gains from Disposition of Allowances for Emission",0,0,0,0,0,null,"Rideau St. Lawrence Distribution Inc. 4365"]
["Rideau St. Lawrence Distribution Inc. 4370","Rideau St. Lawrence Distribution Inc.","4370","Losses from Disposition of Allowances for Emission",0,0,0,0,0,null,"Rideau St. Lawrence Distribution Inc. 4370"]
["Rideau St. Lawrence Distribution Inc. 4375","Rideau St. Lawrence Distribution Inc.","4375","Revenues from Non Rate-Regulated Utility Operations",-6799.02,-39528.86,-5063.54,0,0,null,"Rideau St. Lawrence Distribution Inc. 4375"]
["Rideau St. Lawrence Distribution Inc. 4375","Rideau St. Lawrence Distribution Inc.","4375","Sub-account Generation Facility Revenues",0,0,0,0,0,null,"Rideau St. Lawrence Distribution Inc. 4375"]
["Rideau St. Lawrence Distribution Inc. 4380","Rideau St. Lawrence Distribution Inc.","4380","Expenses of Non Rate-Regulated Utility Operations",0,0,0,0,0,null,"Rideau St. Lawrence Distribution Inc. 4380"]
["Rideau St. Lawrence Distribution Inc. 4380","Rideau St. Lawrence Distribution Inc.","4380","Sub-account Generation Facility Expenses",0,0,0,0,0,null,"Rideau St. Lawrence Distribution Inc. 4380"]
["Rideau St. Lawrence Distribution Inc. 4385","Rideau St. Lawrence Distribution Inc.","4385","Non Rate-Regulated Utility Rental Income",0,0,0,0,0,null,"Rideau St. Lawrence Distribution Inc. 4385"]
["Rideau St. Lawrence Distribution Inc. 4390","Rideau St. Lawrence Distribution Inc.","4390","Miscellaneous Non-Operating Income",0,0,0,0,0,null,"Rideau St. Lawrence Distribution Inc. 4390"]
["Rideau St. Lawrence Distribution Inc. 4395","Rideau St. Lawrence Distribution Inc.","4395","Rate-Payer Benefit Including Interest",0,0,0,0,0,null,"Rideau St. Lawrence Distribution Inc. 4395"]
["Rideau St. Lawrence Distribution Inc. 4398","Rideau St. Lawrence Distribution Inc.","4398","Foreign Exchange Gains and Losses, Including Amortization",0,0,0,0,0,null,"Rideau St. Lawrence Distribution Inc. 4398"]
["Rideau St. Lawrence Distribution Inc. 4405","Rideau St. Lawrence Distribution Inc.","4405","Interest and Dividend Income",-17299.689999999999,-17346.830000000002,-17944.849999999999,-20164.45,-10282.26,null,"Rideau St. Lawrence Distribution Inc. 4405"]
["Rideau St. Lawrence Distribution Inc. 4410","Rideau St. Lawrence Distribution Inc.","4410","Lessor's Net Investment in Finance Lease",0,0,0,0,0,null,"Rideau St. Lawrence Distribution Inc. 4410"]
["Rideau St. Lawrence Distribution Inc. 4415","Rideau St. Lawrence Distribution Inc.","4415","Equity in Earnings of Subsidiary Companies",0,0,0,0,0,null,"Rideau St. Lawrence Distribution Inc. 4415"]
["Rideau St. Lawrence Distribution Inc. 4420","Rideau St. Lawrence Distribution Inc.","4420","Share of Profit or Loss of Joint Venture",0,0,0,0,0,null,"Rideau St. Lawrence Distribution Inc. 4420"]
["Rideau St. Lawrence Distribution Inc. Total ","Rideau St. Lawrence Distribution Inc. Total",null,null,-284299.49,-300513.42,-231896.04,-226686.93,-266728.37,null,"Rideau St. Lawrence Distribution Inc. Total "]
["Sioux Lookout Hydro Inc. 4082","Sioux Lookout Hydro Inc.","4082","Retail Services Revenues",0,0,0,0,0,null,{"$f":"B2502 & \" \" &C2502","v":"Sioux Lookout Hydro Inc. 4082"}]
["Sioux Lookout Hydro Inc. 4084","Sioux Lookout Hydro Inc.","4084","Service Transaction Requests (STR) Revenues",0,0,0,0,0,null,"Sioux Lookout Hydro Inc. 4084"]
["Sioux Lookout Hydro Inc. 4086","Sioux Lookout Hydro Inc.","4086","SSS Administration Revenue",-8140.02,-8286.7900000000009,-8384.25,-8405.75,-8502.01,null,"Sioux Lookout Hydro Inc. 4086"]
["Sioux Lookout Hydro Inc. 4090","Sioux Lookout Hydro Inc.","4090","Electric Services Incidental to Energy Sales",0,0,0,0,0,null,"Sioux Lookout Hydro Inc. 4090"]
["Sioux Lookout Hydro Inc. 4205","Sioux Lookout Hydro Inc.","4205","Interdepartmental Rents",0,0,0,0,0,null,"Sioux Lookout Hydro Inc. 4205"]
["Sioux Lookout Hydro Inc. 4210","Sioux Lookout Hydro Inc.","4210","Rent from Electric Property",-45333.14,-45377.84,-50392.639999999999,-46774.89,-46775.09,null,"Sioux Lookout Hydro Inc. 4210"]
["Sioux Lookout Hydro Inc. 4215","Sioux Lookout Hydro Inc.","4215","Other Utility Operating Income",0,0,0,0,0,null,"Sioux Lookout Hydro Inc. 4215"]
["Sioux Lookout Hydro Inc. 4220","Sioux Lookout Hydro Inc.","4220","Other Electric Revenues",0,0,0,0,0,null,"Sioux Lookout Hydro Inc. 4220"]
["Sioux Lookout Hydro Inc. 4225","Sioux Lookout Hydro Inc.","4225","Late Payment Charges",-48896.78,-43413.77,-38489.25,-33847.660000000003,-36050.97,null,"Sioux Lookout Hydro Inc. 4225"]
["Sioux Lookout Hydro Inc. 4230","Sioux Lookout Hydro Inc.","4230","Sales of Water and Water Power",0,0,0,0,0,null,"Sioux Lookout Hydro Inc. 4230"]
["Sioux Lookout Hydro Inc. 4235","Sioux Lookout Hydro Inc.","4235","Miscellaneous Service Revenues",-17965,-18050,-15175,-13960,-15338.75,null,"Sioux Lookout Hydro Inc. 4235"]
["Sioux Lookout Hydro Inc. 4240","Sioux Lookout Hydro Inc.","4240","Provision for Rate Refunds",0,0,0,0,0,null,"Sioux Lookout Hydro Inc. 4240"]
["Sioux Lookout Hydro Inc. 4245","Sioux Lookout Hydro Inc.","4245","Government and Other Assistance Directly Credited to Income",-2477.2600000000002,-4233.93,-6649.86,-8286.02,-10163.76,null,"Sioux Lookout Hydro Inc. 4245"]
["Sioux Lookout Hydro Inc. 4305","Sioux Lookout Hydro Inc.","4305","Regulatory Debits",0,0,0,0,0,null,"Sioux Lookout Hydro Inc. 4305"]
["Sioux Lookout Hydro Inc. 4310","Sioux Lookout Hydro Inc.","4310","Regulatory Credits",0,0,-2648.45,-10593.8,-10593.8,null,"Sioux Lookout Hydro Inc. 4310"]
["Sioux Lookout Hydro Inc. 4315","Sioux Lookout Hydro Inc.","4315","Revenues from Electric Plant Leased to Others",0,0,0,0,0,null,"Sioux Lookout Hydro Inc. 4315"]
["Sioux Lookout Hydro Inc. 4320","Sioux Lookout Hydro Inc.","4320","Expenses of Electric Plant Leased to Others",0,0,0,0,0,null,"Sioux Lookout Hydro Inc. 4320"]
["Sioux Lookout Hydro Inc. 4325","Sioux Lookout Hydro Inc.","4325","Revenues from Merchandise",0,0,0,0,0,null,"Sioux Lookout Hydro Inc. 4325"]
["Sioux Lookout Hydro Inc. 4330","Sioux Lookout Hydro Inc.","4330","Costs and Expenses of Merchandising",0,0,0,0,0,null,"Sioux Lookout Hydro Inc. 4330"]
["Sioux Lookout Hydro Inc. 4335","Sioux Lookout Hydro Inc.","4335","Profits and Losses from Financial Instrument Hedges",0,0,0,0,0,null,"Sioux Lookout Hydro Inc. 4335"]
["Sioux Lookout Hydro Inc. 4340","Sioux Lookout Hydro Inc.","4340","Profits and Losses from Financial Instrument Investments",0,0,0,0,0,null,"Sioux Lookout Hydro Inc. 4340"]
["Sioux Lookout Hydro Inc. 4345","Sioux Lookout Hydro Inc.","4345","Gains from Disposition of Future Use Utility Plant",0,0,0,0,0,null,"Sioux Lookout Hydro Inc. 4345"]
["Sioux Lookout Hydro Inc. 4350","Sioux Lookout Hydro Inc.","4350","Losses from Disposition of Future Use Utility Plant",0,0,0,0,0,null,"Sioux Lookout Hydro Inc. 4350"]
["Sioux Lookout Hydro Inc. 4355","Sioux Lookout Hydro Inc.","4355","Gain on Disposition of Utility and Other Property",0,0,0,0,0,null,"Sioux Lookout Hydro Inc. 4355"]
["Sioux Lookout Hydro Inc. 4357","Sioux Lookout Hydro Inc.","4357","Gain from Retirement of Utility and Other Property",0,0,0,0,0,null,"Sioux Lookout Hydro Inc. 4357"]
["Sioux Lookout Hydro Inc. 4360","Sioux Lookout Hydro Inc.","4360","Loss on Disposition of Utility and Other Property",0,0,12449.23,0,8228.1200000000008,null,"Sioux Lookout Hydro Inc. 4360"]
["Sioux Lookout Hydro Inc. 4362","Sioux Lookout Hydro Inc.","4362","Loss from Retirement of Utility and Other Property",1337.33,1952.16,12392.32,11747.81,10046.780000000001,null,"Sioux Lookout Hydro Inc. 4362"]
["Sioux Lookout Hydro Inc. 4365","Sioux Lookout Hydro Inc.","4365","Gains from Disposition of Allowances for Emission",0,0,0,0,0,null,"Sioux Lookout Hydro Inc. 4365"]
["Sioux Lookout Hydro Inc. 4370","Sioux Lookout Hydro Inc.","4370","Losses from Disposition of Allowances for Emission",0,0,0,0,0,null,"Sioux Lookout Hydro Inc. 4370"]
["Sioux Lookout Hydro Inc. 4375","Sioux Lookout Hydro Inc.","4375","Revenues from Non Rate-Regulated Utility Operations",-87632.72,-60479.32,-57905.15,-16914,-16770.27,null,"Sioux Lookout Hydro Inc. 4375"]
["Sioux Lookout Hydro Inc. 4375","Sioux Lookout Hydro Inc.","4375","Sub-account Generation Facility Revenues",0,0,0,0,0,null,"Sioux Lookout Hydro Inc. 4375"]
["Sioux Lookout Hydro Inc. 4380","Sioux Lookout Hydro Inc.","4380","Expenses of Non Rate-Regulated Utility Operations",87365.74,55313.38,30591.48,16116.21,2292.7199999999998,null,"Sioux Lookout Hydro Inc. 4380"]
["Sioux Lookout Hydro Inc. 4380","Sioux Lookout Hydro Inc.","4380","Sub-account Generation Facility Expenses",0,0,0,0,0,null,"Sioux Lookout Hydro Inc. 4380"]
["Sioux Lookout Hydro Inc. 4385","Sioux Lookout Hydro Inc.","4385","Non Rate-Regulated Utility Rental Income",-11364.86,-11723.19,-7149.38,0,0,null,"Sioux Lookout Hydro Inc. 4385"]
["Sioux Lookout Hydro Inc. 4390","Sioux Lookout Hydro Inc.","4390","Miscellaneous Non-Operating Income",0,0,0,0,0,null,"Sioux Lookout Hydro Inc. 4390"]
["Sioux Lookout Hydro Inc. 4395","Sioux Lookout Hydro Inc.","4395","Rate-Payer Benefit Including Interest",0,0,0,0,0,null,"Sioux Lookout Hydro Inc. 4395"]
["Sioux Lookout Hydro Inc. 4398","Sioux Lookout Hydro Inc.","4398","Foreign Exchange Gains and Losses, Including Amortization",0,0,0,0,0,null,"Sioux Lookout Hydro Inc. 4398"]
["Sioux Lookout Hydro Inc. 4405","Sioux Lookout Hydro Inc.","4405","Interest and Dividend Income",-3492.78,-2251.41,-5662.34,-26807.27,-5276.41,null,"Sioux Lookout Hydro Inc. 4405"]
["Sioux Lookout Hydro Inc. 4410","Sioux Lookout Hydro Inc.","4410","Lessor's Net Investment in Finance Lease",0,0,0,0,0,null,"Sioux Lookout Hydro Inc. 4410"]
["Sioux Lookout Hydro Inc. 4415","Sioux Lookout Hydro Inc.","4415","Equity in Earnings of Subsidiary Companies",0,0,0,0,0,null,"Sioux Lookout Hydro Inc. 4415"]
["Sioux Lookout Hydro Inc. 4420","Sioux Lookout Hydro Inc.","4420","Share of Profit or Loss of Joint Venture",0,0,0,0,0,null,"Sioux Lookout Hydro Inc. 4420"]
["Sioux Lookout Hydro Inc. Total ","Sioux Lookout Hydro Inc. Total",null,null,-136599.49,-136550.71,-137023.29,-137725.37,-128903.44,null,"Sioux Lookout Hydro Inc. Total "]
["St. Thomas Energy Inc. 4082","St. Thomas Energy Inc.","4082","Retail Services Revenues",-18509.400000000001,-15715.8,null,null,null,null,"St. Thomas Energy Inc. 4082"]
["St. Thomas Energy Inc. 4084","St. Thomas Energy Inc.","4084","Service Transaction Requests (STR) Revenues",-368.25,-256.5,null,null,null,null,"St. Thomas Energy Inc. 4084"]
["St. Thomas Energy Inc. 4086","St. Thomas Energy Inc.","4086","SSS Administration Revenue",0,0,null,null,null,null,"St. Thomas Energy Inc. 4086"]
["St. Thomas Energy Inc. 4090","St. Thomas Energy Inc.","4090","Electric Services Incidental to Energy Sales",0,0,null,null,null,null,"St. Thomas Energy Inc. 4090"]
["St. Thomas Energy Inc. 4205","St. Thomas Energy Inc.","4205","Interdepartmental Rents",0,0,null,null,null,null,"St. Thomas Energy Inc. 4205"]
["St. Thomas Energy Inc. 4210","St. Thomas Energy Inc.","4210","Rent from Electric Property",-35734.33,-35600.230000000003,null,null,null,null,"St. Thomas Energy Inc. 4210"]
["St. Thomas Energy Inc. 4215","St. Thomas Energy Inc.","4215","Other Utility Operating Income",0,0,null,null,null,null,"St. Thomas Energy Inc. 4215"]
["St. Thomas Energy Inc. 4220","St. Thomas Energy Inc.","4220","Other Electric Revenues",-69935.16,-69935.16,null,null,null,null,"St. Thomas Energy Inc. 4220"]
["St. Thomas Energy Inc. 4225","St. Thomas Energy Inc.","4225","Late Payment Charges",-157602.29,-130922.32,null,null,null,null,"St. Thomas Energy Inc. 4225"]
["St. Thomas Energy Inc. 4230","St. Thomas Energy Inc.","4230","Sales of Water and Water Power",0,0,null,null,null,null,"St. Thomas Energy Inc. 4230"]
["St. Thomas Energy Inc. 4235","St. Thomas Energy Inc.","4235","Miscellaneous Service Revenues",-172059.41,-182913.98,null,null,null,null,"St. Thomas Energy Inc. 4235"]
["St. Thomas Energy Inc. 4240","St. Thomas Energy Inc.","4240","Provision for Rate Refunds",0,0,null,null,null,null,"St. Thomas Energy Inc. 4240"]
["St. Thomas Energy Inc. 4245","St. Thomas Energy Inc.","4245","Government and Other Assistance Directly Credited to Income",0,0,null,null,null,null,"St. Thomas Energy Inc. 4245"]
["St. Thomas Energy Inc. 4305","St. Thomas Energy Inc.","4305","Regulatory Debits",0,0,null,null,null,null,"St. Thomas Energy Inc. 4305"]
["St. Thomas Energy Inc. 4310","St. Thomas Energy Inc.","4310","Regulatory Credits",0,0,null,null,null,null,"St. Thomas Energy Inc. 4310"]
["St. Thomas Energy Inc. 4315","St. Thomas Energy Inc.","4315","Revenues from Electric Plant Leased to Others",0,0,null,null,null,null,"St. Thomas Energy Inc. 4315"]
["St. Thomas Energy Inc. 4320","St. Thomas Energy Inc.","4320","Expenses of Electric Plant Leased to Others",0,0,null,null,null,null,"St. Thomas Energy Inc. 4320"]
["St. Thomas Energy Inc. 4325","St. Thomas Energy Inc.","4325","Revenues from Merchandise",0,0,null,null,null,null,"St. Thomas Energy Inc. 4325"]
["St. Thomas Energy Inc. 4330","St. Thomas Energy Inc.","4330","Costs and Expenses of Merchandising",0,0,null,null,null,null,"St. Thomas Energy Inc. 4330"]
["St. Thomas Energy Inc. 4335","St. Thomas Energy Inc.","4335","Profits and Losses from Financial Instrument Hedges",0,0,null,null,null,null,"St. Thomas Energy Inc. 4335"]
["St. Thomas Energy Inc. 4340","St. Thomas Energy Inc.","4340","Profits and Losses from Financial Instrument Investments",0,0,null,null,null,null,"St. Thomas Energy Inc. 4340"]
["St. Thomas Energy Inc. 4345","St. Thomas Energy Inc.","4345","Gains from Disposition of Future Use Utility Plant",0,0,null,null,null,null,"St. Thomas Energy Inc. 4345"]
["St. Thomas Energy Inc. 4350","St. Thomas Energy Inc.","4350","Losses from Disposition of Future Use Utility Plant",0,0,null,null,null,null,{"$f":"B2566 & \" \" &C2566","v":"St. Thomas Energy Inc. 4350"}]
["St. Thomas Energy Inc. 4355","St. Thomas Energy Inc.","4355","Gain on Disposition of Utility and Other Property",0,-21800,null,null,null,null,"St. Thomas Energy Inc. 4355"]
["St. Thomas Energy Inc. 4357","St. Thomas Energy Inc.","4357","Gain from Retirement of Utility and Other Property",0,0,null,null,null,null,"St. Thomas Energy Inc. 4357"]
["St. Thomas Energy Inc. 4360","St. Thomas Energy Inc.","4360","Loss on Disposition of Utility and Other Property",0,0,null,null,null,null,"St. Thomas Energy Inc. 4360"]
["St. Thomas Energy Inc. 4362","St. Thomas Energy Inc.","4362","Loss from Retirement of Utility and Other Property",0,0,null,null,null,null,"St. Thomas Energy Inc. 4362"]
["St. Thomas Energy Inc. 4365","St. Thomas Energy Inc.","4365","Gains from Disposition of Allowances for Emission",0,0,null,null,null,null,"St. Thomas Energy Inc. 4365"]
["St. Thomas Energy Inc. 4370","St. Thomas Energy Inc.","4370","Losses from Disposition of Allowances for Emission",0,0,null,null,null,null,"St. Thomas Energy Inc. 4370"]
["St. Thomas Energy Inc. 4375","St. Thomas Energy Inc.","4375","Revenues from Non Rate-Regulated Utility Operations",-1056924.94,-1348492.64,null,null,null,null,"St. Thomas Energy Inc. 4375"]
["St. Thomas Energy Inc. 4375","St. Thomas Energy Inc.","4375","Sub-account Generation Facility Revenues",0,0,null,null,null,null,"St. Thomas Energy Inc. 4375"]
["St. Thomas Energy Inc. 4380","St. Thomas Energy Inc.","4380","Expenses of Non Rate-Regulated Utility Operations",929503.94,865031.99,null,null,null,null,"St. Thomas Energy Inc. 4380"]
["St. Thomas Energy Inc. 4380","St. Thomas Energy Inc.","4380","Sub-account Generation Facility Expenses",0,0,null,null,null,null,"St. Thomas Energy Inc. 4380"]
["St. Thomas Energy Inc. 4385","St. Thomas Energy Inc.","4385","Non Rate-Regulated Utility Rental Income",0,0,null,null,null,null,"St. Thomas Energy Inc. 4385"]
["St. Thomas Energy Inc. 4390","St. Thomas Energy Inc.","4390","Miscellaneous Non-Operating Income",-66345.38,-50444.36,null,null,null,null,"St. Thomas Energy Inc. 4390"]
["St. Thomas Energy Inc. 4395","St. Thomas Energy Inc.","4395","Rate-Payer Benefit Including Interest",0,0,null,null,null,null,"St. Thomas Energy Inc. 4395"]
["St. Thomas Energy Inc. 4398","St. Thomas Energy Inc.","4398","Foreign Exchange Gains and Losses, Including Amortization",0,0,null,null,null,null,"St. Thomas Energy Inc. 4398"]
["St. Thomas Energy Inc. 4405","St. Thomas Energy Inc.","4405","Interest and Dividend Income",-39689.599999999999,-35832.57,null,null,null,null,"St. Thomas Energy Inc. 4405"]
["St. Thomas Energy Inc. 4410","St. Thomas Energy Inc.","4410","Lessor's Net Investment in Finance Lease",0,0,null,null,null,null,"St. Thomas Energy Inc. 4410"]
["St. Thomas Energy Inc. 4415","St. Thomas Energy Inc.","4415","Equity in Earnings of Subsidiary Companies",0,0,null,null,null,null,"St. Thomas Energy Inc. 4415"]
["St. Thomas Energy Inc. 4420","St. Thomas Energy Inc.","4420","Share of Profit or Loss of Joint Venture",0,0,null,null,null,null,"St. Thomas Energy Inc. 4420"]
["St. Thomas Energy Inc. Total ","St. Thomas Energy Inc. Total",null,null,-687664.82,-1026881.57,null,null,null,null,"St. Thomas Energy Inc. Total "]
["Synergy North Corporation 4082","Synergy North Corporation","4082","Retail Services Revenues",null,null,null,-26681.26,-33108.129999999997,null,"Synergy North Corporation 4082"]
["Synergy North Corporation 4084","Synergy North Corporation","4084","Service Transaction Requests (STR) Revenues",null,null,null,-500.5,-552.16,null,"Synergy North Corporation 4084"]
["Synergy North Corporation 4086","Synergy North Corporation","4086","SSS Administration Revenue",null,null,null,0,0,null,"Synergy North Corporation 4086"]
["Synergy North Corporation 4090","Synergy North Corporation","4090","Electric Services Incidental to Energy Sales",null,null,null,0,0,null,"Synergy North Corporation 4090"]
["Synergy North Corporation 4205","Synergy North Corporation","4205","Interdepartmental Rents",null,null,null,0,0,null,"Synergy North Corporation 4205"]
["Synergy North Corporation 4210","Synergy North Corporation","4210","Rent from Electric Property",null,null,null,-723112,-795153.15,null,"Synergy North Corporation 4210"]
["Synergy North Corporation 4215","Synergy North Corporation","4215","Other Utility Operating Income",null,null,null,0,0,null,"Synergy North Corporation 4215"]
["Synergy North Corporation 4220","Synergy North Corporation","4220","Other Electric Revenues",null,null,null,-10415.43,-11822.82,null,"Synergy North Corporation 4220"]
["Synergy North Corporation 4225","Synergy North Corporation","4225","Late Payment Charges",null,null,null,-361873.4,-273761.75,null,"Synergy North Corporation 4225"]
["Synergy North Corporation 4230","Synergy North Corporation","4230","Sales of Water and Water Power",null,null,null,0,0,null,"Synergy North Corporation 4230"]
["Synergy North Corporation 4235","Synergy North Corporation","4235","Miscellaneous Service Revenues",null,null,null,-261461.32,-197197.2,null,"Synergy North Corporation 4235"]
["Synergy North Corporation 4240","Synergy North Corporation","4240","Provision for Rate Refunds",null,null,null,0,0,null,"Synergy North Corporation 4240"]
["Synergy North Corporation 4245","Synergy North Corporation","4245","Government and Other Assistance Directly Credited to Income",null,null,null,0,0,null,"Synergy North Corporation 4245"]
["Synergy North Corporation 4305","Synergy North Corporation","4305","Regulatory Debits",null,null,null,0,-121030.83,null,"Synergy North Corporation 4305"]
["Synergy North Corporation 4310","Synergy North Corporation","4310","Regulatory Credits",null,null,null,0,0,null,"Synergy North Corporation 4310"]
["Synergy North Corporation 4315","Synergy North Corporation","4315","Revenues from Electric Plant Leased to Others",null,null,null,0,0,null,"Synergy North Corporation 4315"]
["Synergy North Corporation 4320","Synergy North Corporation","4320","Expenses of Electric Plant Leased to Others",null,null,null,0,0,null,"Synergy North Corporation 4320"]
["Synergy North Corporation 4325","Synergy North Corporation","4325","Revenues from Merchandise",null,null,null,0,0,null,"Synergy North Corporation 4325"]
["Synergy North Corporation 4330","Synergy North Corporation","4330","Costs and Expenses of Merchandising",null,null,null,0,0,null,"Synergy North Corporation 4330"]
["Synergy North Corporation 4335","Synergy North Corporation","4335","Profits and Losses from Financial Instrument Hedges",null,null,null,0,0,null,"Synergy North Corporation 4335"]
["Synergy North Corporation 4340","Synergy North Corporation","4340","Profits and Losses from Financial Instrument Investments",null,null,null,0,0,null,"Synergy North Corporation 4340"]
["Synergy North Corporation 4345","Synergy North Corporation","4345","Gains from Disposition of Future Use Utility Plant",null,null,null,0,0,null,"Synergy North Corporation 4345"]
["Synergy North Corporation 4350","Synergy North Corporation","4350","Losses from Disposition of Future Use Utility Plant",null,null,null,0,0,null,"Synergy North Corporation 4350"]
["Synergy North Corporation 4355","Synergy North Corporation","4355","Gain on Disposition of Utility and Other Property",null,null,null,-117341.5,-19602,null,"Synergy North Corporation 4355"]
["Synergy North Corporation 4357","Synergy North Corporation","4357","Gain from Retirement of Utility and Other Property",null,null,null,0,0,null,"Synergy North Corporation 4357"]
["Synergy North Corporation 4360","Synergy North Corporation","4360","Loss on Disposition of Utility and Other Property",null,null,null,364825.44,137477.41,null,"Synergy North Corporation 4360"]
["Synergy North Corporation 4362","Synergy North Corporation","4362","Loss from Retirement of Utility and Other Property",null,null,null,0,0,null,"Synergy North Corporation 4362"]
["Synergy North Corporation 4365","Synergy North Corporation","4365","Gains from Disposition of Allowances for Emission",null,null,null,0,0,null,"Synergy North Corporation 4365"]
["Synergy North Corporation 4370","Synergy North Corporation","4370","Losses from Disposition of Allowances for Emission",null,null,null,0,0,null,"Synergy North Corporation 4370"]
["Synergy North Corporation 4375","Synergy North Corporation","4375","Revenues from Non Rate-Regulated Utility Operations",null,null,null,-2550753.5499999998,-1510032.29,null,"Synergy North Corporation 4375"]
["Synergy North Corporation 4375","Synergy North Corporation","4375","Sub-account Generation Facility Revenues",null,null,null,0,0,null,"Synergy North Corporation 4375"]
["Synergy North Corporation 4380","Synergy North Corporation","4380","Expenses of Non Rate-Regulated Utility Operations",null,null,null,2328064.5299999998,1190552.1299999999,null,"Synergy North Corporation 4380"]
["Synergy North Corporation 4380","Synergy North Corporation","4380","Sub-account Generation Facility Expenses",null,null,null,0,0,null,"Synergy North Corporation 4380"]
["Synergy North Corporation 4385","Synergy North Corporation","4385","Non Rate-Regulated Utility Rental Income",null,null,null,0,0,null,"Synergy North Corporation 4385"]
["Synergy North Corporation 4390","Synergy North Corporation","4390","Miscellaneous Non-Operating Income",null,null,null,-12132.79,-29630.37,null,"Synergy North Corporation 4390"]
["Synergy North Corporation 4395","Synergy North Corporation","4395","Rate-Payer Benefit Including Interest",null,null,null,0,0,null,"Synergy North Corporation 4395"]
["Synergy North Corporation 4398","Synergy North Corporation","4398","Foreign Exchange Gains and Losses, Including Amortization",null,null,null,0,0,null,"Synergy North Corporation 4398"]
["Synergy North Corporation 4405","Synergy North Corporation","4405","Interest and Dividend Income",null,null,null,-322006.09999999998,-107207.21,null,"Synergy North Corporation 4405"]
["Synergy North Corporation 4410","Synergy North Corporation","4410","Lessor's Net Investment in Finance Lease",null,null,null,0,0,null,"Synergy North Corporation 4410"]
["Synergy North Corporation 4415","Synergy North Corporation","4415","Equity in Earnings of Subsidiary Companies",null,null,null,0,0,null,"Synergy North Corporation 4415"]
["Synergy North Corporation 4420","Synergy North Corporation","4420","Share of Profit or Loss of Joint Venture",null,null,null,0,0,null,"Synergy North Corporation 4420"]
["Synergy North Corporation Total ","Synergy North Corporation Total",null,null,null,null,null,-1693387.88,-1771068.37,null,"Synergy North Corporation Total "]
["Thunder Bay Hydro Electricity Distribution Inc. 4082","Thunder Bay Hydro Electricity Distribution Inc.","4082","Retail Services Revenues",-20643.2,-17669.599999999999,-13768,null,null,null,"Thunder Bay Hydro Electricity Distribution Inc. 4082"]
["Thunder Bay Hydro Electricity Distribution Inc. 4084","Thunder Bay Hydro Electricity Distribution Inc.","4084","Service Transaction Requests (STR) Revenues",-471.5,-284,-443.25,null,null,null,"Thunder Bay Hydro Electricity Distribution Inc. 4084"]
["Thunder Bay Hydro Electricity Distribution Inc. 4086","Thunder Bay Hydro Electricity Distribution Inc.","4086","SSS Administration Revenue",0,0,0,null,null,null,{"$f":"B2630 & \" \" &C2630","v":"Thunder Bay Hydro Electricity Distribution Inc. 4086"}]
["Thunder Bay Hydro Electricity Distribution Inc. 4090","Thunder Bay Hydro Electricity Distribution Inc.","4090","Electric Services Incidental to Energy Sales",0,0,0,null,null,null,"Thunder Bay Hydro Electricity Distribution Inc. 4090"]
["Thunder Bay Hydro Electricity Distribution Inc. 4205","Thunder Bay Hydro Electricity Distribution Inc.","4205","Interdepartmental Rents",0,0,0,null,null,null,"Thunder Bay Hydro Electricity Distribution Inc. 4205"]
["Thunder Bay Hydro Electricity Distribution Inc. 4210","Thunder Bay Hydro Electricity Distribution Inc.","4210","Rent from Electric Property",-534239.80000000005,-575196.01,-578856.41,null,null,null,"Thunder Bay Hydro Electricity Distribution Inc. 4210"]
["Thunder Bay Hydro Electricity Distribution Inc. 4215","Thunder Bay Hydro Electricity Distribution Inc.","4215","Other Utility Operating Income",0,0,0,null,null,null,"Thunder Bay Hydro Electricity Distribution Inc. 4215"]
["Thunder Bay Hydro Electricity Distribution Inc. 4220","Thunder Bay Hydro Electricity Distribution Inc.","4220","Other Electric Revenues",6446.91,-17741.39,-18494.810000000001,null,null,null,"Thunder Bay Hydro Electricity Distribution Inc. 4220"]
["Thunder Bay Hydro Electricity Distribution Inc. 4225","Thunder Bay Hydro Electricity Distribution Inc.","4225","Late Payment Charges",-349829.25,-340805.88,-334888.67,null,null,null,"Thunder Bay Hydro Electricity Distribution Inc. 4225"]
["Thunder Bay Hydro Electricity Distribution Inc. 4230","Thunder Bay Hydro Electricity Distribution Inc.","4230","Sales of Water and Water Power",0,0,0,null,null,null,"Thunder Bay Hydro Electricity Distribution Inc. 4230"]
["Thunder Bay Hydro Electricity Distribution Inc. 4235","Thunder Bay Hydro Electricity Distribution Inc.","4235","Miscellaneous Service Revenues",-159842.22,-297219.65000000002,-350140.03,null,null,null,"Thunder Bay Hydro Electricity Distribution Inc. 4235"]
["Thunder Bay Hydro Electricity Distribution Inc. 4240","Thunder Bay Hydro Electricity Distribution Inc.","4240","Provision for Rate Refunds",0,0,0,null,null,null,"Thunder Bay Hydro Electricity Distribution Inc. 4240"]
["Thunder Bay Hydro Electricity Distribution Inc. 4245","Thunder Bay Hydro Electricity Distribution Inc.","4245","Government and Other Assistance Directly Credited to Income",0,0,0,null,null,null,"Thunder Bay Hydro Electricity Distribution Inc. 4245"]
["Thunder Bay Hydro Electricity Distribution Inc. 4305","Thunder Bay Hydro Electricity Distribution Inc.","4305","Regulatory Debits",0,0,0,null,null,null,"Thunder Bay Hydro Electricity Distribution Inc. 4305"]
["Thunder Bay Hydro Electricity Distribution Inc. 4310","Thunder Bay Hydro Electricity Distribution Inc.","4310","Regulatory Credits",0,0,0,null,null,null,"Thunder Bay Hydro Electricity Distribution Inc. 4310"]
["Thunder Bay Hydro Electricity Distribution Inc. 4315","Thunder Bay Hydro Electricity Distribution Inc.","4315","Revenues from Electric Plant Leased to Others",0,0,0,null,null,null,"Thunder Bay Hydro Electricity Distribution Inc. 4315"]
["Thunder Bay Hydro Electricity Distribution Inc. 4320","Thunder Bay Hydro Electricity Distribution Inc.","4320","Expenses of Electric Plant Leased to Others",0,0,0,null,null,null,"Thunder Bay Hydro Electricity Distribution Inc. 4320"]
["Thunder Bay Hydro Electricity Distribution Inc. 4325","Thunder Bay Hydro Electricity Distribution Inc.","4325","Revenues from Merchandise",0,0,0,null,null,null,"Thunder Bay Hydro Electricity Distribution Inc. 4325"]
["Thunder Bay Hydro Electricity Distribution Inc. 4330","Thunder Bay Hydro Electricity Distribution Inc.","4330","Costs and Expenses of Merchandising",0,0,0,null,null,null,"Thunder Bay Hydro Electricity Distribution Inc. 4330"]
["Thunder Bay Hydro Electricity Distribution Inc. 4335","Thunder Bay Hydro Electricity Distribution Inc.","4335","Profits and Losses from Financial Instrument Hedges",0,0,0,null,null,null,"Thunder Bay Hydro Electricity Distribution Inc. 4335"]
["Thunder Bay Hydro Electricity Distribution Inc. 4340","Thunder Bay Hydro Electricity Distribution Inc.","4340","Profits and Losses from Financial Instrument Investments",0,0,0,null,null,null,"Thunder Bay Hydro Electricity Distribution Inc. 4340"]
["Thunder Bay Hydro Electricity Distribution Inc. 4345","Thunder Bay Hydro Electricity Distribution Inc.","4345","Gains from Disposition of Future Use Utility Plant",0,0,0,null,null,null,"Thunder Bay Hydro Electricity Distribution Inc. 4345"]
["Thunder Bay Hydro Electricity Distribution Inc. 4350","Thunder Bay Hydro Electricity Distribution Inc.","4350","Losses from Disposition of Future Use Utility Plant",0,0,0,null,null,null,"Thunder Bay Hydro Electricity Distribution Inc. 4350"]
["Thunder Bay Hydro Electricity Distribution Inc. 4355","Thunder Bay Hydro Electricity Distribution Inc.","4355","Gain on Disposition of Utility and Other Property",-8650,-22267.53,-130,null,null,null,"Thunder Bay Hydro Electricity Distribution Inc. 4355"]
["Thunder Bay Hydro Electricity Distribution Inc. 4357","Thunder Bay Hydro Electricity Distribution Inc.","4357","Gain from Retirement of Utility and Other Property",0,0,0,null,null,null,"Thunder Bay Hydro Electricity Distribution Inc. 4357"]
["Thunder Bay Hydro Electricity Distribution Inc. 4360","Thunder Bay Hydro Electricity Distribution Inc.","4360","Loss on Disposition of Utility and Other Property",510484.58,386126.62,174220.12,null,null,null,"Thunder Bay Hydro Electricity Distribution Inc. 4360"]
["Thunder Bay Hydro Electricity Distribution Inc. 4362","Thunder Bay Hydro Electricity Distribution Inc.","4362","Loss from Retirement of Utility and Other Property",0,0,0,null,null,null,"Thunder Bay Hydro Electricity Distribution Inc. 4362"]
["Thunder Bay Hydro Electricity Distribution Inc. 4365","Thunder Bay Hydro Electricity Distribution Inc.","4365","Gains from Disposition of Allowances for Emission",0,0,0,null,null,null,"Thunder Bay Hydro Electricity Distribution Inc. 4365"]
["Thunder Bay Hydro Electricity Distribution Inc. 4370","Thunder Bay Hydro Electricity Distribution Inc.","4370","Losses from Disposition of Allowances for Emission",0,0,0,null,null,null,"Thunder Bay Hydro Electricity Distribution Inc. 4370"]
["Thunder Bay Hydro Electricity Distribution Inc. 4375","Thunder Bay Hydro Electricity Distribution Inc.","4375","Revenues from Non Rate-Regulated Utility Operations",-3027945.92,-2997607.64,-3200002.81,null,null,null,"Thunder Bay Hydro Electricity Distribution Inc. 4375"]
["Thunder Bay Hydro Electricity Distribution Inc. 4375","Thunder Bay Hydro Electricity Distribution Inc.","4375","Sub-account Generation Facility Revenues",0,0,0,null,null,null,"Thunder Bay Hydro Electricity Distribution Inc. 4375"]
["Thunder Bay Hydro Electricity Distribution Inc. 4380","Thunder Bay Hydro Electricity Distribution Inc.","4380","Expenses of Non Rate-Regulated Utility Operations",2826044.76,2708972.07,2205618.36,null,null,null,"Thunder Bay Hydro Electricity Distribution Inc. 4380"]
["Thunder Bay Hydro Electricity Distribution Inc. 4380","Thunder Bay Hydro Electricity Distribution Inc.","4380","Sub-account Generation Facility Expenses",0,0,0,null,null,null,"Thunder Bay Hydro Electricity Distribution Inc. 4380"]
["Thunder Bay Hydro Electricity Distribution Inc. 4385","Thunder Bay Hydro Electricity Distribution Inc.","4385","Non Rate-Regulated Utility Rental Income",-15142.76,0,0,null,null,null,"Thunder Bay Hydro Electricity Distribution Inc. 4385"]
["Thunder Bay Hydro Electricity Distribution Inc. 4390","Thunder Bay Hydro Electricity Distribution Inc.","4390","Miscellaneous Non-Operating Income",-52503.42,-37967.81,-3329.85,null,null,null,"Thunder Bay Hydro Electricity Distribution Inc. 4390"]
["Thunder Bay Hydro Electricity Distribution Inc. 4395","Thunder Bay Hydro Electricity Distribution Inc.","4395","Rate-Payer Benefit Including Interest",0,0,0,null,null,null,"Thunder Bay Hydro Electricity Distribution Inc. 4395"]
["Thunder Bay Hydro Electricity Distribution Inc. 4398","Thunder Bay Hydro Electricity Distribution Inc.","4398","Foreign Exchange Gains and Losses, Including Amortization",0,0,0,null,null,null,"Thunder Bay Hydro Electricity Distribution Inc. 4398"]
["Thunder Bay Hydro Electricity Distribution Inc. 4405","Thunder Bay Hydro Electricity Distribution Inc.","4405","Interest and Dividend Income",-135192.46,-157533.51999999999,-171398,null,null,null,"Thunder Bay Hydro Electricity Distribution Inc. 4405"]
["Thunder Bay Hydro Electricity Distribution Inc. 4410","Thunder Bay Hydro Electricity Distribution Inc.","4410","Lessor's Net Investment in Finance Lease",0,0,0,null,null,null,"Thunder Bay Hydro Electricity Distribution Inc. 4410"]
["Thunder Bay Hydro Electricity Distribution Inc. 4415","Thunder Bay Hydro Electricity Distribution Inc.","4415","Equity in Earnings of Subsidiary Companies",0,0,0,null,null,null,"Thunder Bay Hydro Electricity Distribution Inc. 4415"]
["Thunder Bay Hydro Electricity Distribution Inc. 4420","Thunder Bay Hydro Electricity Distribution Inc.","4420","Share of Profit or Loss of Joint Venture",0,0,0,null,null,null,"Thunder Bay Hydro Electricity Distribution Inc. 4420"]
["Thunder Bay Hydro Electricity Distribution Inc. Total ","Thunder Bay Hydro Electricity Distribution Inc. Total",null,null,-961484.28,-1369194.34,-2291613.35,null,null,null,"Thunder Bay Hydro Electricity Distribution Inc. Total "]
["Tillsonburg Hydro Inc. 4082","Tillsonburg Hydro Inc.","4082","Retail Services Revenues",-11445.2,-8343.5,-6771.1,-10381.700000000001,-13962.41,null,"Tillsonburg Hydro Inc. 4082"]
["Tillsonburg Hydro Inc. 4084","Tillsonburg Hydro Inc.","4084","Service Transaction Requests (STR) Revenues",-134.75,-197.25,-45.25,-56,-64.2,null,"Tillsonburg Hydro Inc. 4084"]
["Tillsonburg Hydro Inc. 4086","Tillsonburg Hydro Inc.","4086","SSS Administration Revenue",-19990.419999999998,-20643.86,-20926.849999999999,0,0,null,"Tillsonburg Hydro Inc. 4086"]
["Tillsonburg Hydro Inc. 4090","Tillsonburg Hydro Inc.","4090","Electric Services Incidental to Energy Sales",0,0,0,0,0,null,"Tillsonburg Hydro Inc. 4090"]
["Tillsonburg Hydro Inc. 4205","Tillsonburg Hydro Inc.","4205","Interdepartmental Rents",0,0,0,0,0,null,"Tillsonburg Hydro Inc. 4205"]
["Tillsonburg Hydro Inc. 4210","Tillsonburg Hydro Inc.","4210","Rent from Electric Property",0,0,-71174.55,-24875.55,-24875.55,null,"Tillsonburg Hydro Inc. 4210"]
["Tillsonburg Hydro Inc. 4215","Tillsonburg Hydro Inc.","4215","Other Utility Operating Income",0,0,0,0,0,null,"Tillsonburg Hydro Inc. 4215"]
["Tillsonburg Hydro Inc. 4220","Tillsonburg Hydro Inc.","4220","Other Electric Revenues",0,0,-3856.05,-2559.19,-18168.52,null,"Tillsonburg Hydro Inc. 4220"]
["Tillsonburg Hydro Inc. 4225","Tillsonburg Hydro Inc.","4225","Late Payment Charges",-21805.19,-19918.23,-18494.28,-21511.42,-18671.78,null,"Tillsonburg Hydro Inc. 4225"]
["Tillsonburg Hydro Inc. 4230","Tillsonburg Hydro Inc.","4230","Sales of Water and Water Power",0,0,0,0,0,null,"Tillsonburg Hydro Inc. 4230"]
["Tillsonburg Hydro Inc. 4235","Tillsonburg Hydro Inc.","4235","Miscellaneous Service Revenues",-112198.84,-100382.92,-74821.23,-77983.02,-79798.23,null,"Tillsonburg Hydro Inc. 4235"]
["Tillsonburg Hydro Inc. 4240","Tillsonburg Hydro Inc.","4240","Provision for Rate Refunds",0,0,0,0,0,null,"Tillsonburg Hydro Inc. 4240"]
["Tillsonburg Hydro Inc. 4245","Tillsonburg Hydro Inc.","4245","Government and Other Assistance Directly Credited to Income",-71107.320000000007,-77405.48,-83887.82,-92096.21,-104345.27,null,"Tillsonburg Hydro Inc. 4245"]
["Tillsonburg Hydro Inc. 4305","Tillsonburg Hydro Inc.","4305","Regulatory Debits",0,0,0,0,0,null,"Tillsonburg Hydro Inc. 4305"]
["Tillsonburg Hydro Inc. 4310","Tillsonburg Hydro Inc.","4310","Regulatory Credits",0,0,0,0,0,null,"Tillsonburg Hydro Inc. 4310"]
["Tillsonburg Hydro Inc. 4315","Tillsonburg Hydro Inc.","4315","Revenues from Electric Plant Leased to Others",0,0,0,0,0,null,"Tillsonburg Hydro Inc. 4315"]
["Tillsonburg Hydro Inc. 4320","Tillsonburg Hydro Inc.","4320","Expenses of Electric Plant Leased to Others",0,0,0,0,0,null,"Tillsonburg Hydro Inc. 4320"]
["Tillsonburg Hydro Inc. 4325","Tillsonburg Hydro Inc.","4325","Revenues from Merchandise",0,0,0,0,0,null,"Tillsonburg Hydro Inc. 4325"]
["Tillsonburg Hydro Inc. 4330","Tillsonburg Hydro Inc.","4330","Costs and Expenses of Merchandising",0,0,0,0,0,null,"Tillsonburg Hydro Inc. 4330"]
["Tillsonburg Hydro Inc. 4335","Tillsonburg Hydro Inc.","4335","Profits and Losses from Financial Instrument Hedges",0,0,0,0,0,null,"Tillsonburg Hydro Inc. 4335"]
["Tillsonburg Hydro Inc. 4340","Tillsonburg Hydro Inc.","4340","Profits and Losses from Financial Instrument Investments",0,0,0,0,0,null,"Tillsonburg Hydro Inc. 4340"]
["Tillsonburg Hydro Inc. 4345","Tillsonburg Hydro Inc.","4345","Gains from Disposition of Future Use Utility Plant",0,0,0,0,0,null,"Tillsonburg Hydro Inc. 4345"]
["Tillsonburg Hydro Inc. 4350","Tillsonburg Hydro Inc.","4350","Losses from Disposition of Future Use Utility Plant",0,0,0,0,0,null,"Tillsonburg Hydro Inc. 4350"]
["Tillsonburg Hydro Inc. 4355","Tillsonburg Hydro Inc.","4355","Gain on Disposition of Utility and Other Property",7760.97,0,0,0,0,null,"Tillsonburg Hydro Inc. 4355"]
["Tillsonburg Hydro Inc. 4357","Tillsonburg Hydro Inc.","4357","Gain from Retirement of Utility and Other Property",0,0,0,0,0,null,{"$f":"B2694 & \" \" &C2694","v":"Tillsonburg Hydro Inc. 4357"}]
["Tillsonburg Hydro Inc. 4360","Tillsonburg Hydro Inc.","4360","Loss on Disposition of Utility and Other Property",0,26384.240000000002,2199.46,6187,0,null,"Tillsonburg Hydro Inc. 4360"]
["Tillsonburg Hydro Inc. 4362","Tillsonburg Hydro Inc.","4362","Loss from Retirement of Utility and Other Property",0,0,0,0,0,null,"Tillsonburg Hydro Inc. 4362"]
["Tillsonburg Hydro Inc. 4365","Tillsonburg Hydro Inc.","4365","Gains from Disposition of Allowances for Emission",0,0,0,0,0,null,"Tillsonburg Hydro Inc. 4365"]
["Tillsonburg Hydro Inc. 4370","Tillsonburg Hydro Inc.","4370","Losses from Disposition of Allowances for Emission",0,0,0,0,0,null,"Tillsonburg Hydro Inc. 4370"]
["Tillsonburg Hydro Inc. 4375","Tillsonburg Hydro Inc.","4375","Revenues from Non Rate-Regulated Utility Operations",-697686.33,-20451.560000000001,-123683.12,-20399.939999999999,-16786.75,null,"Tillsonburg Hydro Inc. 4375"]
["Tillsonburg Hydro Inc. 4375","Tillsonburg Hydro Inc.","4375","Sub-account Generation Facility Revenues",0,0,0,0,0,null,"Tillsonburg Hydro Inc. 4375"]
["Tillsonburg Hydro Inc. 4380","Tillsonburg Hydro Inc.","4380","Expenses of Non Rate-Regulated Utility Operations",679468.09,30817.52,21775.61,15103.64,26945.37,null,"Tillsonburg Hydro Inc. 4380"]
["Tillsonburg Hydro Inc. 4380","Tillsonburg Hydro Inc.","4380","Sub-account Generation Facility Expenses",0,0,0,0,0,null,"Tillsonburg Hydro Inc. 4380"]
["Tillsonburg Hydro Inc. 4385","Tillsonburg Hydro Inc.","4385","Non Rate-Regulated Utility Rental Income",0,0,0,0,0,null,"Tillsonburg Hydro Inc. 4385"]
["Tillsonburg Hydro Inc. 4390","Tillsonburg Hydro Inc.","4390","Miscellaneous Non-Operating Income",-21587.59,-10678.84,0,-30545.9,-2591.14,null,"Tillsonburg Hydro Inc. 4390"]
["Tillsonburg Hydro Inc. 4395","Tillsonburg Hydro Inc.","4395","Rate-Payer Benefit Including Interest",0,0,0,0,0,null,"Tillsonburg Hydro Inc. 4395"]
["Tillsonburg Hydro Inc. 4398","Tillsonburg Hydro Inc.","4398","Foreign Exchange Gains and Losses, Including Amortization",0,0,0,0,0,null,"Tillsonburg Hydro Inc. 4398"]
["Tillsonburg Hydro Inc. 4405","Tillsonburg Hydro Inc.","4405","Interest and Dividend Income",-22397.5,-16624.82,-28466.77,-30663.39,-16518.11,null,"Tillsonburg Hydro Inc. 4405"]
["Tillsonburg Hydro Inc. 4410","Tillsonburg Hydro Inc.","4410","Lessor's Net Investment in Finance Lease",0,0,0,0,0,null,"Tillsonburg Hydro Inc. 4410"]
["Tillsonburg Hydro Inc. 4415","Tillsonburg Hydro Inc.","4415","Equity in Earnings of Subsidiary Companies",0,0,0,0,0,null,"Tillsonburg Hydro Inc. 4415"]
["Tillsonburg Hydro Inc. 4420","Tillsonburg Hydro Inc.","4420","Share of Profit or Loss of Joint Venture",0,0,0,0,0,null,"Tillsonburg Hydro Inc. 4420"]
["Tillsonburg Hydro Inc. Total ","Tillsonburg Hydro Inc. Total",null,null,-291124.08,-217444.7,-408151.95,-289781.68,-268836.59000000003,null,"Tillsonburg Hydro Inc. Total "]
["Toronto Hydro-Electric System Limited 4082","Toronto Hydro-Electric System Limited","4082","Retail Services Revenues",-347875.3,-289665.59999999998,-238363.6,-320958.2,-360129.52,null,"Toronto Hydro-Electric System Limited 4082"]
["Toronto Hydro-Electric System Limited 4084","Toronto Hydro-Electric System Limited","4084","Service Transaction Requests (STR) Revenues",-18378.25,-14834.5,-11491.75,-16230.25,-13589.58,null,"Toronto Hydro-Electric System Limited 4084"]
["Toronto Hydro-Electric System Limited 4086","Toronto Hydro-Electric System Limited","4086","SSS Administration Revenue",-2317538.7400000002,-2269960.0299999998,-2313557.5699999998,-2352893.75,-2365454.59,null,"Toronto Hydro-Electric System Limited 4086"]
["Toronto Hydro-Electric System Limited 4090","Toronto Hydro-Electric System Limited","4090","Electric Services Incidental to Energy Sales",0,0,0,0,0,null,"Toronto Hydro-Electric System Limited 4090"]
["Toronto Hydro-Electric System Limited 4205","Toronto Hydro-Electric System Limited","4205","Interdepartmental Rents",0,0,0,0,0,null,"Toronto Hydro-Electric System Limited 4205"]
["Toronto Hydro-Electric System Limited 4210","Toronto Hydro-Electric System Limited","4210","Rent from Electric Property",-11868495.869999999,-14763363.77,-15325971.75,-14838726.119999999,-15699035.15,null,"Toronto Hydro-Electric System Limited 4210"]
["Toronto Hydro-Electric System Limited 4215","Toronto Hydro-Electric System Limited","4215","Other Utility Operating Income",-1102336.8799999999,-1564163.62,-1106826.07,-627039.9,-668539.75,null,"Toronto Hydro-Electric System Limited 4215"]
["Toronto Hydro-Electric System Limited 4220","Toronto Hydro-Electric System Limited","4220","Other Electric Revenues",-8200259.46,-9229601.0899999999,-8035738.8099999996,-6536128.1500000004,-6903518.3099999996,null,"Toronto Hydro-Electric System Limited 4220"]
["Toronto Hydro-Electric System Limited 4225","Toronto Hydro-Electric System Limited","4225","Late Payment Charges",-4540397.71,-3696195.82,-3323432.67,-3272741.5,-2080398.57,null,"Toronto Hydro-Electric System Limited 4225"]
["Toronto Hydro-Electric System Limited 4230","Toronto Hydro-Electric System Limited","4230","Sales of Water and Water Power",0,0,0,0,0,null,"Toronto Hydro-Electric System Limited 4230"]
["Toronto Hydro-Electric System Limited 4235","Toronto Hydro-Electric System Limited","4235","Miscellaneous Service Revenues",-9496222.6500000004,-7179527.6600000001,-5961505.25,-4337843.5999999996,-2757785.75,null,"Toronto Hydro-Electric System Limited 4235"]
["Toronto Hydro-Electric System Limited 4240","Toronto Hydro-Electric System Limited","4240","Provision for Rate Refunds",0,0,0,0,0,null,"Toronto Hydro-Electric System Limited 4240"]
["Toronto Hydro-Electric System Limited 4245","Toronto Hydro-Electric System Limited","4245","Government and Other Assistance Directly Credited to Income",-3765318.13,-4710955.18,-5263536.82,-5856131.9699999997,-8153454.1799999997,null,"Toronto Hydro-Electric System Limited 4245"]
["Toronto Hydro-Electric System Limited 4305","Toronto Hydro-Electric System Limited","4305","Regulatory Debits",0,0,0,0,0,null,"Toronto Hydro-Electric System Limited 4305"]
["Toronto Hydro-Electric System Limited 4310","Toronto Hydro-Electric System Limited","4310","Regulatory Credits",-5179079.28,-6583042.6200000001,-6740859.8899999997,-6617193.3200000003,0,null,"Toronto Hydro-Electric System Limited 4310"]
["Toronto Hydro-Electric System Limited 4315","Toronto Hydro-Electric System Limited","4315","Revenues from Electric Plant Leased to Others",0,0,0,0,0,null,"Toronto Hydro-Electric System Limited 4315"]
["Toronto Hydro-Electric System Limited 4320","Toronto Hydro-Electric System Limited","4320","Expenses of Electric Plant Leased to Others",0,0,0,0,0,null,"Toronto Hydro-Electric System Limited 4320"]
["Toronto Hydro-Electric System Limited 4325","Toronto Hydro-Electric System Limited","4325","Revenues from Merchandise",-20950567.620000001,-31227688.489999998,-32130502.390000001,-32351968.129999999,-33056497.510000002,null,"Toronto Hydro-Electric System Limited 4325"]
["Toronto Hydro-Electric System Limited 4330","Toronto Hydro-Electric System Limited","4330","Costs and Expenses of Merchandising",19805703.66,29913621.390000001,27406949.260000002,22853105.870000001,25024784.100000001,null,"Toronto Hydro-Electric System Limited 4330"]
["Toronto Hydro-Electric System Limited 4335","Toronto Hydro-Electric System Limited","4335","Profits and Losses from Financial Instrument Hedges",0,0,0,0,0,null,"Toronto Hydro-Electric System Limited 4335"]
["Toronto Hydro-Electric System Limited 4340","Toronto Hydro-Electric System Limited","4340","Profits and Losses from Financial Instrument Investments",0,0,0,0,0,null,"Toronto Hydro-Electric System Limited 4340"]
["Toronto Hydro-Electric System Limited 4345","Toronto Hydro-Electric System Limited","4345","Gains from Disposition of Future Use Utility Plant",0,0,0,0,0,null,"Toronto Hydro-Electric System Limited 4345"]
["Toronto Hydro-Electric System Limited 4350","Toronto Hydro-Electric System Limited","4350","Losses from Disposition of Future Use Utility Plant",0,0,0,0,0,null,"Toronto Hydro-Electric System Limited 4350"]
["Toronto Hydro-Electric System Limited 4355","Toronto Hydro-Electric System Limited","4355","Gain on Disposition of Utility and Other Property",-2132159.61,-515157.5,-576204.93999999994,-2244598.2400000002,-493255.27,null,"Toronto Hydro-Electric System Limited 4355"]
["Toronto Hydro-Electric System Limited 4357","Toronto Hydro-Electric System Limited","4357","Gain from Retirement of Utility and Other Property",0,0,0,0,0,null,"Toronto Hydro-Electric System Limited 4357"]
["Toronto Hydro-Electric System Limited 4360","Toronto Hydro-Electric System Limited","4360","Loss on Disposition of Utility and Other Property",0,0,0,0,0,null,"Toronto Hydro-Electric System Limited 4360"]
["Toronto Hydro-Electric System Limited 4362","Toronto Hydro-Electric System Limited","4362","Loss from Retirement of Utility and Other Property",0,0,0,0,0,null,"Toronto Hydro-Electric System Limited 4362"]
["Toronto Hydro-Electric System Limited 4365","Toronto Hydro-Electric System Limited","4365","Gains from Disposition of Allowances for Emission",0,0,0,0,0,null,"Toronto Hydro-Electric System Limited 4365"]
["Toronto Hydro-Electric System Limited 4370","Toronto Hydro-Electric System Limited","4370","Losses from Disposition of Allowances for Emission",0,0,0,0,0,null,"Toronto Hydro-Electric System Limited 4370"]
["Toronto Hydro-Electric System Limited 4375","Toronto Hydro-Electric System Limited","4375","Revenues from Non Rate-Regulated Utility Operations",-3212613.1,-4829010.01,-5670326.5999999996,-4130908.61,-3823640.39,null,"Toronto Hydro-Electric System Limited 4375"]
["Toronto Hydro-Electric System Limited 4375","Toronto Hydro-Electric System Limited","4375","Sub-account Generation Facility Revenues",0,0,0,0,0,null,"Toronto Hydro-Electric System Limited 4375"]
["Toronto Hydro-Electric System Limited 4380","Toronto Hydro-Electric System Limited","4380","Expenses of Non Rate-Regulated Utility Operations",3486726.49,5282483.84,6383822.7800000003,4688365.32,5359606.34,null,"Toronto Hydro-Electric System Limited 4380"]
["Toronto Hydro-Electric System Limited 4380","Toronto Hydro-Electric System Limited","4380","Sub-account Generation Facility Expenses",0,0,0,0,0,null,"Toronto Hydro-Electric System Limited 4380"]
["Toronto Hydro-Electric System Limited 4385","Toronto Hydro-Electric System Limited","4385","Non Rate-Regulated Utility Rental Income",0,0,0,0,0,null,"Toronto Hydro-Electric System Limited 4385"]
["Toronto Hydro-Electric System Limited 4390","Toronto Hydro-Electric System Limited","4390","Miscellaneous Non-Operating Income",0,0,0,-546269.24,-98136.89,null,"Toronto Hydro-Electric System Limited 4390"]
["Toronto Hydro-Electric System Limited 4395","Toronto Hydro-Electric System Limited","4395","Rate-Payer Benefit Including Interest",0,0,0,0,0,null,"Toronto Hydro-Electric System Limited 4395"]
["Toronto Hydro-Electric System Limited 4398","Toronto Hydro-Electric System Limited","4398","Foreign Exchange Gains and Losses, Including Amortization",-162382.76,-54783.97,128336.34,67753.94,207044.1,null,"Toronto Hydro-Electric System Limited 4398"]
["Toronto Hydro-Electric System Limited 4405","Toronto Hydro-Electric System Limited","4405","Interest and Dividend Income",-186387.64,-9.06,0,-68609.320000000007,-28346.33,null,"Toronto Hydro-Electric System Limited 4405"]
["Toronto Hydro-Electric System Limited 4410","Toronto Hydro-Electric System Limited","4410","Lessor's Net Investment in Finance Lease",0,0,0,0,0,null,"Toronto Hydro-Electric System Limited 4410"]
["Toronto Hydro-Electric System Limited 4415","Toronto Hydro-Electric System Limited","4415","Equity in Earnings of Subsidiary Companies",0,0,0,0,0,null,"Toronto Hydro-Electric System Limited 4415"]
["Toronto Hydro-Electric System Limited 4420","Toronto Hydro-Electric System Limited","4420","Share of Profit or Loss of Joint Venture",0,0,0,0,0,null,"Toronto Hydro-Electric System Limited 4420"]
["Toronto Hydro-Electric System Limited Total ","Toronto Hydro-Electric System Limited Total",null,null,-50187582.850000001,-51731853.689999998,-52779209.729999997,-56509015.170000002,-45910347.25,null,"Toronto Hydro-Electric System Limited Total "]
["Veridian Connections Inc. 4082","Veridian Connections Inc.","4082","Retail Services Revenues",-17286,-16890,-18011,null,null,null,"Veridian Connections Inc. 4082"]
["Veridian Connections Inc. 4084","Veridian Connections Inc.","4084","Service Transaction Requests (STR) Revenues",-1935,-1086,-872,null,null,null,"Veridian Connections Inc. 4084"]
["Veridian Connections Inc. 4086","Veridian Connections Inc.","4086","SSS Administration Revenue",-426968,-415306,-421129,null,null,null,"Veridian Connections Inc. 4086"]
["Veridian Connections Inc. 4090","Veridian Connections Inc.","4090","Electric Services Incidental to Energy Sales",0,0,0,null,null,null,"Veridian Connections Inc. 4090"]
["Veridian Connections Inc. 4205","Veridian Connections Inc.","4205","Interdepartmental Rents",0,0,0,null,null,null,{"$f":"B2758 & \" \" &C2758","v":"Veridian Connections Inc. 4205"}]
["Veridian Connections Inc. 4210","Veridian Connections Inc.","4210","Rent from Electric Property",-486774,-493394,-509546,null,null,null,"Veridian Connections Inc. 4210"]
["Veridian Connections Inc. 4215","Veridian Connections Inc.","4215","Other Utility Operating Income",0,0,0,null,null,null,"Veridian Connections Inc. 4215"]
["Veridian Connections Inc. 4220","Veridian Connections Inc.","4220","Other Electric Revenues",0,0,0,null,null,null,"Veridian Connections Inc. 4220"]
["Veridian Connections Inc. 4225","Veridian Connections Inc.","4225","Late Payment Charges",-509977,-412715,-428419,null,null,null,"Veridian Connections Inc. 4225"]
["Veridian Connections Inc. 4230","Veridian Connections Inc.","4230","Sales of Water and Water Power",0,0,0,null,null,null,"Veridian Connections Inc. 4230"]
["Veridian Connections Inc. 4235","Veridian Connections Inc.","4235","Miscellaneous Service Revenues",-1815882,-1098430,-901020,null,null,null,"Veridian Connections Inc. 4235"]
["Veridian Connections Inc. 4240","Veridian Connections Inc.","4240","Provision for Rate Refunds",0,0,0,null,null,null,"Veridian Connections Inc. 4240"]
["Veridian Connections Inc. 4245","Veridian Connections Inc.","4245","Government and Other Assistance Directly Credited to Income",-317435,-457735,-561224,null,null,null,"Veridian Connections Inc. 4245"]
["Veridian Connections Inc. 4305","Veridian Connections Inc.","4305","Regulatory Debits",79734,75599,65558,null,null,null,"Veridian Connections Inc. 4305"]
["Veridian Connections Inc. 4310","Veridian Connections Inc.","4310","Regulatory Credits",-347138,-231116,-316822,null,null,null,"Veridian Connections Inc. 4310"]
["Veridian Connections Inc. 4315","Veridian Connections Inc.","4315","Revenues from Electric Plant Leased to Others",0,0,0,null,null,null,"Veridian Connections Inc. 4315"]
["Veridian Connections Inc. 4320","Veridian Connections Inc.","4320","Expenses of Electric Plant Leased to Others",0,0,0,null,null,null,"Veridian Connections Inc. 4320"]
["Veridian Connections Inc. 4325","Veridian Connections Inc.","4325","Revenues from Merchandise",-518666,-1035772,-1169094,null,null,null,"Veridian Connections Inc. 4325"]
["Veridian Connections Inc. 4330","Veridian Connections Inc.","4330","Costs and Expenses of Merchandising",494854,954886,1030806,null,null,null,"Veridian Connections Inc. 4330"]
["Veridian Connections Inc. 4335","Veridian Connections Inc.","4335","Profits and Losses from Financial Instrument Hedges",-49507,-85887,-50444,null,null,null,"Veridian Connections Inc. 4335"]
["Veridian Connections Inc. 4340","Veridian Connections Inc.","4340","Profits and Losses from Financial Instrument Investments",264433,-1629220,-470746,null,null,null,"Veridian Connections Inc. 4340"]
["Veridian Connections Inc. 4345","Veridian Connections Inc.","4345","Gains from Disposition of Future Use Utility Plant",0,0,0,null,null,null,"Veridian Connections Inc. 4345"]
["Veridian Connections Inc. 4350","Veridian Connections Inc.","4350","Losses from Disposition of Future Use Utility Plant",0,0,0,null,null,null,"Veridian Connections Inc. 4350"]
["Veridian Connections Inc. 4355","Veridian Connections Inc.","4355","Gain on Disposition of Utility and Other Property",-15537,-37584,-45228,null,null,null,"Veridian Connections Inc. 4355"]
["Veridian Connections Inc. 4357","Veridian Connections Inc.","4357","Gain from Retirement of Utility and Other Property",0,0,0,null,null,null,"Veridian Connections Inc. 4357"]
["Veridian Connections Inc. 4360","Veridian Connections Inc.","4360","Loss on Disposition of Utility and Other Property",0,0,0,null,null,null,"Veridian Connections Inc. 4360"]
["Veridian Connections Inc. 4362","Veridian Connections Inc.","4362","Loss from Retirement of Utility and Other Property",377529,231116,316822,null,null,null,"Veridian Connections Inc. 4362"]
["Veridian Connections Inc. 4365","Veridian Connections Inc.","4365","Gains from Disposition of Allowances for Emission",0,0,0,null,null,null,"Veridian Connections Inc. 4365"]
["Veridian Connections Inc. 4370","Veridian Connections Inc.","4370","Losses from Disposition of Allowances for Emission",0,0,0,null,null,null,"Veridian Connections Inc. 4370"]
["Veridian Connections Inc. 4375","Veridian Connections Inc.","4375","Revenues from Non Rate-Regulated Utility Operations",-6933349,-2184377,-6632144,null,null,null,"Veridian Connections Inc. 4375"]
["Veridian Connections Inc. 4375","Veridian Connections Inc.","4375","Sub-account Generation Facility Revenues",0,0,0,null,null,null,"Veridian Connections Inc. 4375"]
["Veridian Connections Inc. 4380","Veridian Connections Inc.","4380","Expenses of Non Rate-Regulated Utility Operations",6712862,2078678,8573272,null,null,null,"Veridian Connections Inc. 4380"]
["Veridian Connections Inc. 4380","Veridian Connections Inc.","4380","Sub-account Generation Facility Expenses",0,0,0,null,null,null,"Veridian Connections Inc. 4380"]
["Veridian Connections Inc. 4385","Veridian Connections Inc.","4385","Non Rate-Regulated Utility Rental Income",0,0,0,null,null,null,"Veridian Connections Inc. 4385"]
["Veridian Connections Inc. 4390","Veridian Connections Inc.","4390","Miscellaneous Non-Operating Income",-292028,-277923,-273483,null,null,null,"Veridian Connections Inc. 4390"]
["Veridian Connections Inc. 4395","Veridian Connections Inc.","4395","Rate-Payer Benefit Including Interest",0,0,0,null,null,null,"Veridian Connections Inc. 4395"]
["Veridian Connections Inc. 4398","Veridian Connections Inc.","4398","Foreign Exchange Gains and Losses, Including Amortization",7054,-2968,-26097,null,null,null,"Veridian Connections Inc. 4398"]
["Veridian Connections Inc. 4405","Veridian Connections Inc.","4405","Interest and Dividend Income",-162195,-237827,-279911,null,null,null,"Veridian Connections Inc. 4405"]
["Veridian Connections Inc. 4410","Veridian Connections Inc.","4410","Lessor's Net Investment in Finance Lease",0,0,0,null,null,null,"Veridian Connections Inc. 4410"]
["Veridian Connections Inc. 4415","Veridian Connections Inc.","4415","Equity in Earnings of Subsidiary Companies",0,0,0,null,null,null,"Veridian Connections Inc. 4415"]
["Veridian Connections Inc. 4420","Veridian Connections Inc.","4420","Share of Profit or Loss of Joint Venture",0,0,0,null,null,null,"Veridian Connections Inc. 4420"]
["Veridian Connections Inc. Total ","Veridian Connections Inc. Total",null,null,-3958211,-5277951,-2117732,null,null,null,"Veridian Connections Inc. Total "]
["Wasaga Distribution Inc. 4082","Wasaga Distribution Inc.","4082","Retail Services Revenues",-7690,-6498.8,-5962.8,-8985.7000000000007,-10525.32,null,"Wasaga Distribution Inc. 4082"]
["Wasaga Distribution Inc. 4084","Wasaga Distribution Inc.","4084","Service Transaction Requests (STR) Revenues",-245.25,-62.75,-35,-72.25,-44.76,null,"Wasaga Distribution Inc. 4084"]
["Wasaga Distribution Inc. 4086","Wasaga Distribution Inc.","4086","SSS Administration Revenue",-39444.46,-40332.620000000003,-41237.75,-41786.21,-42898.58,null,"Wasaga Distribution Inc. 4086"]
["Wasaga Distribution Inc. 4090","Wasaga Distribution Inc.","4090","Electric Services Incidental to Energy Sales",0,0,0,0,0,null,"Wasaga Distribution Inc. 4090"]
["Wasaga Distribution Inc. 4205","Wasaga Distribution Inc.","4205","Interdepartmental Rents",0,0,0,0,0,null,"Wasaga Distribution Inc. 4205"]
["Wasaga Distribution Inc. 4210","Wasaga Distribution Inc.","4210","Rent from Electric Property",-314425.71999999997,-329468.65000000002,-322477.15999999997,-325225.12,-323479.02,null,"Wasaga Distribution Inc. 4210"]
["Wasaga Distribution Inc. 4215","Wasaga Distribution Inc.","4215","Other Utility Operating Income",-6911.27,-3247.28,-3500,-1889.74,-2067.71,null,"Wasaga Distribution Inc. 4215"]
["Wasaga Distribution Inc. 4220","Wasaga Distribution Inc.","4220","Other Electric Revenues",0,0,0,0,0,null,"Wasaga Distribution Inc. 4220"]
["Wasaga Distribution Inc. 4225","Wasaga Distribution Inc.","4225","Late Payment Charges",-39409.089999999997,-34094.14,-32810.300000000003,-35444.92,-50318.6,null,"Wasaga Distribution Inc. 4225"]
["Wasaga Distribution Inc. 4230","Wasaga Distribution Inc.","4230","Sales of Water and Water Power",0,0,0,0,0,null,"Wasaga Distribution Inc. 4230"]
["Wasaga Distribution Inc. 4235","Wasaga Distribution Inc.","4235","Miscellaneous Service Revenues",-133018.79999999999,-98745,-83528.44,-59864.54,-67940.92,null,"Wasaga Distribution Inc. 4235"]
["Wasaga Distribution Inc. 4240","Wasaga Distribution Inc.","4240","Provision for Rate Refunds",0,0,0,0,0,null,"Wasaga Distribution Inc. 4240"]
["Wasaga Distribution Inc. 4245","Wasaga Distribution Inc.","4245","Government and Other Assistance Directly Credited to Income",0,0,0,0,0,null,"Wasaga Distribution Inc. 4245"]
["Wasaga Distribution Inc. 4305","Wasaga Distribution Inc.","4305","Regulatory Debits",0,0,0,0,0,null,"Wasaga Distribution Inc. 4305"]
["Wasaga Distribution Inc. 4310","Wasaga Distribution Inc.","4310","Regulatory Credits",0,0,0,0,0,null,"Wasaga Distribution Inc. 4310"]
["Wasaga Distribution Inc. 4315","Wasaga Distribution Inc.","4315","Revenues from Electric Plant Leased to Others",0,0,0,0,0,null,"Wasaga Distribution Inc. 4315"]
["Wasaga Distribution Inc. 4320","Wasaga Distribution Inc.","4320","Expenses of Electric Plant Leased to Others",0,0,0,0,0,null,"Wasaga Distribution Inc. 4320"]
["Wasaga Distribution Inc. 4325","Wasaga Distribution Inc.","4325","Revenues from Merchandise",0,0,0,0,0,null,"Wasaga Distribution Inc. 4325"]
["Wasaga Distribution Inc. 4330","Wasaga Distribution Inc.","4330","Costs and Expenses of Merchandising",0,0,0,0,0,null,"Wasaga Distribution Inc. 4330"]
["Wasaga Distribution Inc. 4335","Wasaga Distribution Inc.","4335","Profits and Losses from Financial Instrument Hedges",0,0,0,0,0,null,"Wasaga Distribution Inc. 4335"]
["Wasaga Distribution Inc. 4340","Wasaga Distribution Inc.","4340","Profits and Losses from Financial Instrument Investments",0,0,0,0,0,null,"Wasaga Distribution Inc. 4340"]
["Wasaga Distribution Inc. 4345","Wasaga Distribution Inc.","4345","Gains from Disposition of Future Use Utility Plant",0,0,0,0,0,null,"Wasaga Distribution Inc. 4345"]
["Wasaga Distribution Inc. 4350","Wasaga Distribution Inc.","4350","Losses from Disposition of Future Use Utility Plant",0,0,0,0,0,null,"Wasaga Distribution Inc. 4350"]
["Wasaga Distribution Inc. 4355","Wasaga Distribution Inc.","4355","Gain on Disposition of Utility and Other Property",-2353.75,0,-450,-4725,-29500,null,"Wasaga Distribution Inc. 4355"]
["Wasaga Distribution Inc. 4357","Wasaga Distribution Inc.","4357","Gain from Retirement of Utility and Other Property",0,0,0,0,0,null,"Wasaga Distribution Inc. 4357"]
["Wasaga Distribution Inc. 4360","Wasaga Distribution Inc.","4360","Loss on Disposition of Utility and Other Property",35157.31,23938.47,32030.18,18862.43,73203.75,null,"Wasaga Distribution Inc. 4360"]
["Wasaga Distribution Inc. 4362","Wasaga Distribution Inc.","4362","Loss from Retirement of Utility and Other Property",0,0,0,0,0,null,{"$f":"B2822 & \" \" &C2822","v":"Wasaga Distribution Inc. 4362"}]
["Wasaga Distribution Inc. 4365","Wasaga Distribution Inc.","4365","Gains from Disposition of Allowances for Emission",0,0,0,0,0,null,"Wasaga Distribution Inc. 4365"]
["Wasaga Distribution Inc. 4370","Wasaga Distribution Inc.","4370","Losses from Disposition of Allowances for Emission",0,0,0,0,0,null,"Wasaga Distribution Inc. 4370"]
["Wasaga Distribution Inc. 4375","Wasaga Distribution Inc.","4375","Revenues from Non Rate-Regulated Utility Operations",0,0,-180033.98,-125807.18,-99473.12,null,"Wasaga Distribution Inc. 4375"]
["Wasaga Distribution Inc. 4375","Wasaga Distribution Inc.","4375","Sub-account Generation Facility Revenues",0,0,0,0,0,null,"Wasaga Distribution Inc. 4375"]
["Wasaga Distribution Inc. 4380","Wasaga Distribution Inc.","4380","Expenses of Non Rate-Regulated Utility Operations",0,0,78368.42,81171.149999999994,57290.27,null,"Wasaga Distribution Inc. 4380"]
["Wasaga Distribution Inc. 4380","Wasaga Distribution Inc.","4380","Sub-account Generation Facility Expenses",0,0,0,0,0,null,"Wasaga Distribution Inc. 4380"]
["Wasaga Distribution Inc. 4385","Wasaga Distribution Inc.","4385","Non Rate-Regulated Utility Rental Income",0,0,0,0,0,null,"Wasaga Distribution Inc. 4385"]
["Wasaga Distribution Inc. 4390","Wasaga Distribution Inc.","4390","Miscellaneous Non-Operating Income",-1588.96,0,-717.93,-2170.5100000000002,-28236.98,null,"Wasaga Distribution Inc. 4390"]
["Wasaga Distribution Inc. 4395","Wasaga Distribution Inc.","4395","Rate-Payer Benefit Including Interest",0,0,0,0,0,null,"Wasaga Distribution Inc. 4395"]
["Wasaga Distribution Inc. 4398","Wasaga Distribution Inc.","4398","Foreign Exchange Gains and Losses, Including Amortization",0,0,0,0,0,null,"Wasaga Distribution Inc. 4398"]
["Wasaga Distribution Inc. 4405","Wasaga Distribution Inc.","4405","Interest and Dividend Income",-11037.74,-23648.16,-39809.86,-34783.43,-12136.15,null,"Wasaga Distribution Inc. 4405"]
["Wasaga Distribution Inc. 4410","Wasaga Distribution Inc.","4410","Lessor's Net Investment in Finance Lease",0,0,0,0,0,null,"Wasaga Distribution Inc. 4410"]
["Wasaga Distribution Inc. 4415","Wasaga Distribution Inc.","4415","Equity in Earnings of Subsidiary Companies",0,0,0,0,0,null,"Wasaga Distribution Inc. 4415"]
["Wasaga Distribution Inc. 4420","Wasaga Distribution Inc.","4420","Share of Profit or Loss of Joint Venture",0,0,0,0,0,null,"Wasaga Distribution Inc. 4420"]
["Wasaga Distribution Inc. Total ","Wasaga Distribution Inc. Total",null,null,-520967.73,-512158.93,-600164.62,-540721.02,-536127.14,null,"Wasaga Distribution Inc. Total "]
["Waterloo North Hydro Inc. 4082","Waterloo North Hydro Inc.","4082","Retail Services Revenues",-56603,-48776,-54417,-57302,-69793,null,"Waterloo North Hydro Inc. 4082"]
["Waterloo North Hydro Inc. 4084","Waterloo North Hydro Inc.","4084","Service Transaction Requests (STR) Revenues",28866,25036,26457,28651,34897,null,"Waterloo North Hydro Inc. 4084"]
["Waterloo North Hydro Inc. 4086","Waterloo North Hydro Inc.","4086","SSS Administration Revenue",-160364,-160567,-168054,-170109,-169882,null,"Waterloo North Hydro Inc. 4086"]
["Waterloo North Hydro Inc. 4090","Waterloo North Hydro Inc.","4090","Electric Services Incidental to Energy Sales",0,0,0,0,0,null,"Waterloo North Hydro Inc. 4090"]
["Waterloo North Hydro Inc. 4205","Waterloo North Hydro Inc.","4205","Interdepartmental Rents",0,0,0,0,0,null,"Waterloo North Hydro Inc. 4205"]
["Waterloo North Hydro Inc. 4210","Waterloo North Hydro Inc.","4210","Rent from Electric Property",-259370,-264430,-277568,-284725,-279413,null,"Waterloo North Hydro Inc. 4210"]
["Waterloo North Hydro Inc. 4215","Waterloo North Hydro Inc.","4215","Other Utility Operating Income",0,0,0,0,0,null,"Waterloo North Hydro Inc. 4215"]
["Waterloo North Hydro Inc. 4220","Waterloo North Hydro Inc.","4220","Other Electric Revenues",0,0,-2,-23,-198,null,"Waterloo North Hydro Inc. 4220"]
["Waterloo North Hydro Inc. 4225","Waterloo North Hydro Inc.","4225","Late Payment Charges",-271402,-149436,-139850,-139736,-156251,null,"Waterloo North Hydro Inc. 4225"]
["Waterloo North Hydro Inc. 4230","Waterloo North Hydro Inc.","4230","Sales of Water and Water Power",0,0,0,0,0,null,"Waterloo North Hydro Inc. 4230"]
["Waterloo North Hydro Inc. 4235","Waterloo North Hydro Inc.","4235","Miscellaneous Service Revenues",-372400,-359970,-403891,-325427,-353700,null,"Waterloo North Hydro Inc. 4235"]
["Waterloo North Hydro Inc. 4240","Waterloo North Hydro Inc.","4240","Provision for Rate Refunds",0,0,0,0,0,null,"Waterloo North Hydro Inc. 4240"]
["Waterloo North Hydro Inc. 4245","Waterloo North Hydro Inc.","4245","Government and Other Assistance Directly Credited to Income",-482437,-598687,-673002,-725656,-791716,null,"Waterloo North Hydro Inc. 4245"]
["Waterloo North Hydro Inc. 4305","Waterloo North Hydro Inc.","4305","Regulatory Debits",0,0,0,0,0,null,"Waterloo North Hydro Inc. 4305"]
["Waterloo North Hydro Inc. 4310","Waterloo North Hydro Inc.","4310","Regulatory Credits",0,0,0,0,0,null,"Waterloo North Hydro Inc. 4310"]
["Waterloo North Hydro Inc. 4315","Waterloo North Hydro Inc.","4315","Revenues from Electric Plant Leased to Others",0,0,0,0,0,null,"Waterloo North Hydro Inc. 4315"]
["Waterloo North Hydro Inc. 4320","Waterloo North Hydro Inc.","4320","Expenses of Electric Plant Leased to Others",0,0,0,0,0,null,"Waterloo North Hydro Inc. 4320"]
["Waterloo North Hydro Inc. 4325","Waterloo North Hydro Inc.","4325","Revenues from Merchandise",0,0,0,0,0,null,"Waterloo North Hydro Inc. 4325"]
["Waterloo North Hydro Inc. 4330","Waterloo North Hydro Inc.","4330","Costs and Expenses of Merchandising",0,0,0,0,0,null,"Waterloo North Hydro Inc. 4330"]
["Waterloo North Hydro Inc. 4335","Waterloo North Hydro Inc.","4335","Profits and Losses from Financial Instrument Hedges",-963028,-2485079,-429267,1493869,5643429,null,"Waterloo North Hydro Inc. 4335"]
["Waterloo North Hydro Inc. 4340","Waterloo North Hydro Inc.","4340","Profits and Losses from Financial Instrument Investments",0,0,0,0,0,null,"Waterloo North Hydro Inc. 4340"]
["Waterloo North Hydro Inc. 4345","Waterloo North Hydro Inc.","4345","Gains from Disposition of Future Use Utility Plant",0,0,0,0,0,null,"Waterloo North Hydro Inc. 4345"]
["Waterloo North Hydro Inc. 4350","Waterloo North Hydro Inc.","4350","Losses from Disposition of Future Use Utility Plant",0,0,0,0,0,null,"Waterloo North Hydro Inc. 4350"]
["Waterloo North Hydro Inc. 4355","Waterloo North Hydro Inc.","4355","Gain on Disposition of Utility and Other Property",29382,-8592,-72578,54685,0,null,"Waterloo North Hydro Inc. 4355"]
["Waterloo North Hydro Inc. 4357","Waterloo North Hydro Inc.","4357","Gain from Retirement of Utility and Other Property",0,0,0,0,0,null,"Waterloo North Hydro Inc. 4357"]
["Waterloo North Hydro Inc. 4360","Waterloo North Hydro Inc.","4360","Loss on Disposition of Utility and Other Property",14796,13675,0,0,50762,null,"Waterloo North Hydro Inc. 4360"]
["Waterloo North Hydro Inc. 4362","Waterloo North Hydro Inc.","4362","Loss from Retirement of Utility and Other Property",0,0,0,0,0,null,"Waterloo North Hydro Inc. 4362"]
["Waterloo North Hydro Inc. 4365","Waterloo North Hydro Inc.","4365","Gains from Disposition of Allowances for Emission",0,0,0,0,0,null,"Waterloo North Hydro Inc. 4365"]
["Waterloo North Hydro Inc. 4370","Waterloo North Hydro Inc.","4370","Losses from Disposition of Allowances for Emission",0,0,0,0,0,null,"Waterloo North Hydro Inc. 4370"]
["Waterloo North Hydro Inc. 4375","Waterloo North Hydro Inc.","4375","Revenues from Non Rate-Regulated Utility Operations",-3872183,-6419050,-8666881,-11420249,-12760747,null,"Waterloo North Hydro Inc. 4375"]
["Waterloo North Hydro Inc. 4375","Waterloo North Hydro Inc.","4375","Sub-account Generation Facility Revenues",0,0,0,0,0,null,{"$f":"B2868 & \" \" &C2868","v":"Waterloo North Hydro Inc. 4375"}]
["Waterloo North Hydro Inc. 4380","Waterloo North Hydro Inc.","4380","Expenses of Non Rate-Regulated Utility Operations",3809120,6355377,8064916,11385858,12741577,null,"Waterloo North Hydro Inc. 4380"]
["Waterloo North Hydro Inc. 4380","Waterloo North Hydro Inc.","4380","Sub-account Generation Facility Expenses",0,0,0,0,0,null,"Waterloo North Hydro Inc. 4380"]
["Waterloo North Hydro Inc. 4385","Waterloo North Hydro Inc.","4385","Non Rate-Regulated Utility Rental Income",0,0,0,0,0,null,"Waterloo North Hydro Inc. 4385"]
["Waterloo North Hydro Inc. 4390","Waterloo North Hydro Inc.","4390","Miscellaneous Non-Operating Income",-188802,-124925,-104609,-78149,-83910,null,"Waterloo North Hydro Inc. 4390"]
["Waterloo North Hydro Inc. 4395","Waterloo North Hydro Inc.","4395","Rate-Payer Benefit Including Interest",0,0,0,0,0,null,"Waterloo North Hydro Inc. 4395"]
["Waterloo North Hydro Inc. 4398","Waterloo North Hydro Inc.","4398","Foreign Exchange Gains and Losses, Including Amortization",0,0,0,0,0,null,"Waterloo North Hydro Inc. 4398"]
["Waterloo North Hydro Inc. 4405","Waterloo North Hydro Inc.","4405","Interest and Dividend Income",-71229,-51816,-173898,-133723,-90530,null,"Waterloo North Hydro Inc. 4405"]
["Waterloo North Hydro Inc. 4410","Waterloo North Hydro Inc.","4410","Lessor's Net Investment in Finance Lease",0,0,0,0,0,null,"Waterloo North Hydro Inc. 4410"]
["Waterloo North Hydro Inc. 4415","Waterloo North Hydro Inc.","4415","Equity in Earnings of Subsidiary Companies",0,0,0,0,0,null,"Waterloo North Hydro Inc. 4415"]
["Waterloo North Hydro Inc. 4420","Waterloo North Hydro Inc.","4420","Share of Profit or Loss of Joint Venture",0,0,0,0,0,null,"Waterloo North Hydro Inc. 4420"]
["Waterloo North Hydro Inc. Total ","Waterloo North Hydro Inc. Total",null,null,-2815654,-4277240,-3072644,-372036,3714525,null,"Waterloo North Hydro Inc. Total "]
["Welland Hydro-Electric System Corp. 4082","Welland Hydro-Electric System Corp.","4082","Retail Services Revenues",-14840.8,-13136.6,-11073.5,-9752.1,-8601,null,"Welland Hydro-Electric System Corp. 4082"]
["Welland Hydro-Electric System Corp. 4084","Welland Hydro-Electric System Corp.","4084","Service Transaction Requests (STR) Revenues",-250.75,-169.25,-113.75,-142.5,-177.25,null,"Welland Hydro-Electric System Corp. 4084"]
["Welland Hydro-Electric System Corp. 4086","Welland Hydro-Electric System Corp.","4086","SSS Administration Revenue",-72294.41,-77540.070000000007,-83515.149999999994,-85077.96,-86157.4,null,"Welland Hydro-Electric System Corp. 4086"]
["Welland Hydro-Electric System Corp. 4090","Welland Hydro-Electric System Corp.","4090","Electric Services Incidental to Energy Sales",0,0,0,0,0,null,"Welland Hydro-Electric System Corp. 4090"]
["Welland Hydro-Electric System Corp. 4205","Welland Hydro-Electric System Corp.","4205","Interdepartmental Rents",0,0,0,0,0,null,"Welland Hydro-Electric System Corp. 4205"]
["Welland Hydro-Electric System Corp. 4210","Welland Hydro-Electric System Corp.","4210","Rent from Electric Property",-165334.39999999999,-165502.03,-177330.6,-208101.9,-179839.63,null,"Welland Hydro-Electric System Corp. 4210"]
["Welland Hydro-Electric System Corp. 4215","Welland Hydro-Electric System Corp.","4215","Other Utility Operating Income",0,0,0,0,0,null,"Welland Hydro-Electric System Corp. 4215"]
["Welland Hydro-Electric System Corp. 4220","Welland Hydro-Electric System Corp.","4220","Other Electric Revenues",0,0,0,0,0,null,"Welland Hydro-Electric System Corp. 4220"]
["Welland Hydro-Electric System Corp. 4225","Welland Hydro-Electric System Corp.","4225","Late Payment Charges",-77312.899999999994,-87563.51,-101837.67,-119799.81,-92830.85,null,"Welland Hydro-Electric System Corp. 4225"]
["Welland Hydro-Electric System Corp. 4230","Welland Hydro-Electric System Corp.","4230","Sales of Water and Water Power",0,0,0,0,0,null,"Welland Hydro-Electric System Corp. 4230"]
["Welland Hydro-Electric System Corp. 4235","Welland Hydro-Electric System Corp.","4235","Miscellaneous Service Revenues",-197742.73,-135668.71,-134017.32999999999,-146946.28,-142254.68,null,"Welland Hydro-Electric System Corp. 4235"]
["Welland Hydro-Electric System Corp. 4240","Welland Hydro-Electric System Corp.","4240","Provision for Rate Refunds",0,0,0,0,0,null,"Welland Hydro-Electric System Corp. 4240"]
["Welland Hydro-Electric System Corp. 4245","Welland Hydro-Electric System Corp.","4245","Government and Other Assistance Directly Credited to Income",0,0,0,0,0,null,"Welland Hydro-Electric System Corp. 4245"]
["Welland Hydro-Electric System Corp. 4305","Welland Hydro-Electric System Corp.","4305","Regulatory Debits",0,0,0,0,0,null,"Welland Hydro-Electric System Corp. 4305"]
["Welland Hydro-Electric System Corp. 4310","Welland Hydro-Electric System Corp.","4310","Regulatory Credits",-143352,-47821.5,0,0,0,null,"Welland Hydro-Electric System Corp. 4310"]
["Welland Hydro-Electric System Corp. 4315","Welland Hydro-Electric System Corp.","4315","Revenues from Electric Plant Leased to Others",0,0,0,0,0,null,"Welland Hydro-Electric System Corp. 4315"]
["Welland Hydro-Electric System Corp. 4320","Welland Hydro-Electric System Corp.","4320","Expenses of Electric Plant Leased to Others",0,0,0,0,0,null,"Welland Hydro-Electric System Corp. 4320"]
["Welland Hydro-Electric System Corp. 4325","Welland Hydro-Electric System Corp.","4325","Revenues from Merchandise",0,0,0,0,0,null,"Welland Hydro-Electric System Corp. 4325"]
["Welland Hydro-Electric System Corp. 4330","Welland Hydro-Electric System Corp.","4330","Costs and Expenses of Merchandising",0,0,0,0,0,null,"Welland Hydro-Electric System Corp. 4330"]
["Welland Hydro-Electric System Corp. 4335","Welland Hydro-Electric System Corp.","4335","Profits and Losses from Financial Instrument Hedges",0,0,0,0,0,null,"Welland Hydro-Electric System Corp. 4335"]
["Welland Hydro-Electric System Corp. 4340","Welland Hydro-Electric System Corp.","4340","Profits and Losses from Financial Instrument Investments",0,0,0,0,0,null,"Welland Hydro-Electric System Corp. 4340"]
["Welland Hydro-Electric System Corp. 4345","Welland Hydro-Electric System Corp.","4345","Gains from Disposition of Future Use Utility Plant",0,0,0,0,0,null,"Welland Hydro-Electric System Corp. 4345"]
["Welland Hydro-Electric System Corp. 4350","Welland Hydro-Electric System Corp.","4350","Losses from Disposition of Future Use Utility Plant",0,0,0,0,0,null,"Welland Hydro-Electric System Corp. 4350"]
["Welland Hydro-Electric System Corp. 4355","Welland Hydro-Electric System Corp.","4355","Gain on Disposition of Utility and Other Property",-7933.69,-16831.03,-3697.11,1593.68,0,null,"Welland Hydro-Electric System Corp. 4355"]
["Welland Hydro-Electric System Corp. 4357","Welland Hydro-Electric System Corp.","4357","Gain from Retirement of Utility and Other Property",0,0,0,0,0,null,"Welland Hydro-Electric System Corp. 4357"]
["Welland Hydro-Electric System Corp. 4360","Welland Hydro-Electric System Corp.","4360","Loss on Disposition of Utility and Other Property",0,0,0,0,7977.17,null,"Welland Hydro-Electric System Corp. 4360"]
["Welland Hydro-Electric System Corp. 4362","Welland Hydro-Electric System Corp.","4362","Loss from Retirement of Utility and Other Property",0,0,0,0,0,null,"Welland Hydro-Electric System Corp. 4362"]
["Welland Hydro-Electric System Corp. 4365","Welland Hydro-Electric System Corp.","4365","Gains from Disposition of Allowances for Emission",0,0,0,0,0,null,"Welland Hydro-Electric System Corp. 4365"]
["Welland Hydro-Electric System Corp. 4370","Welland Hydro-Electric System Corp.","4370","Losses from Disposition of Allowances for Emission",0,0,0,0,0,null,"Welland Hydro-Electric System Corp. 4370"]
["Welland Hydro-Electric System Corp. 4375","Welland Hydro-Electric System Corp.","4375","Revenues from Non Rate-Regulated Utility Operations",-44018.31,-86242.29,-139398.56,-115577.26,-74954.84,null,"Welland Hydro-Electric System Corp. 4375"]
["Welland Hydro-Electric System Corp. 4375","Welland Hydro-Electric System Corp.","4375","Sub-account Generation Facility Revenues",0,0,0,0,0,null,"Welland Hydro-Electric System Corp. 4375"]
["Welland Hydro-Electric System Corp. 4380","Welland Hydro-Electric System Corp.","4380","Expenses of Non Rate-Regulated Utility Operations",12373.66,27395.17,18461.66,12373.66,35853.57,null,"Welland Hydro-Electric System Corp. 4380"]
["Welland Hydro-Electric System Corp. 4380","Welland Hydro-Electric System Corp.","4380","Sub-account Generation Facility Expenses",0,0,0,0,0,null,"Welland Hydro-Electric System Corp. 4380"]
["Welland Hydro-Electric System Corp. 4385","Welland Hydro-Electric System Corp.","4385","Non Rate-Regulated Utility Rental Income",0,0,0,0,0,null,"Welland Hydro-Electric System Corp. 4385"]
["Welland Hydro-Electric System Corp. 4390","Welland Hydro-Electric System Corp.","4390","Miscellaneous Non-Operating Income",-33058.04,-44799.23,-33445.370000000003,-36345.61,-17496.53,null,"Welland Hydro-Electric System Corp. 4390"]
["Welland Hydro-Electric System Corp. 4395","Welland Hydro-Electric System Corp.","4395","Rate-Payer Benefit Including Interest",0,0,0,0,0,null,"Welland Hydro-Electric System Corp. 4395"]
["Welland Hydro-Electric System Corp. 4398","Welland Hydro-Electric System Corp.","4398","Foreign Exchange Gains and Losses, Including Amortization",0,0,0,0,0,null,"Welland Hydro-Electric System Corp. 4398"]
["Welland Hydro-Electric System Corp. 4405","Welland Hydro-Electric System Corp.","4405","Interest and Dividend Income",-24254.33,-30577.08,-45054.6,-44500.78,-21518.51,null,"Welland Hydro-Electric System Corp. 4405"]
["Welland Hydro-Electric System Corp. 4410","Welland Hydro-Electric System Corp.","4410","Lessor's Net Investment in Finance Lease",0,0,0,0,0,null,"Welland Hydro-Electric System Corp. 4410"]
["Welland Hydro-Electric System Corp. 4415","Welland Hydro-Electric System Corp.","4415","Equity in Earnings of Subsidiary Companies",0,0,0,0,0,null,"Welland Hydro-Electric System Corp. 4415"]
["Welland Hydro-Electric System Corp. 4420","Welland Hydro-Electric System Corp.","4420","Share of Profit or Loss of Joint Venture",0,0,0,0,0,null,"Welland Hydro-Electric System Corp. 4420"]
["Welland Hydro-Electric System Corp. Total ","Welland Hydro-Electric System Corp. Total",null,null,-768018.7,-678456.13,-711021.98,-752276.86,-579999.94999999995,null,"Welland Hydro-Electric System Corp. Total "]
["Wellington North Power Inc. 4082","Wellington North Power Inc.","4082","Retail Services Revenues",-5689.3,-5619.1,-5595.8,-7615.5,-8264.83,null,"Wellington North Power Inc. 4082"]
["Wellington North Power Inc. 4084","Wellington North Power Inc.","4084","Service Transaction Requests (STR) Revenues",-41,-37.75,-52.25,-220.75,-456.39,null,"Wellington North Power Inc. 4084"]
["Wellington North Power Inc. 4086","Wellington North Power Inc.","4086","SSS Administration Revenue",0,0,0,0,0,null,"Wellington North Power Inc. 4086"]
["Wellington North Power Inc. 4090","Wellington North Power Inc.","4090","Electric Services Incidental to Energy Sales",0,0,0,0,0,null,"Wellington North Power Inc. 4090"]
["Wellington North Power Inc. 4205","Wellington North Power Inc.","4205","Interdepartmental Rents",0,0,0,0,0,null,"Wellington North Power Inc. 4205"]
["Wellington North Power Inc. 4210","Wellington North Power Inc.","4210","Rent from Electric Property",-30420.46,-27938.37,-29624.44,-29224.7,-29163.15,null,"Wellington North Power Inc. 4210"]
["Wellington North Power Inc. 4215","Wellington North Power Inc.","4215","Other Utility Operating Income",0,0,0,0,0,null,"Wellington North Power Inc. 4215"]
["Wellington North Power Inc. 4220","Wellington North Power Inc.","4220","Other Electric Revenues",0,0,0,0,0,null,"Wellington North Power Inc. 4220"]
["Wellington North Power Inc. 4225","Wellington North Power Inc.","4225","Late Payment Charges",-32462.85,-25259.01,-26043.49,-26204.18,-22403.65,null,"Wellington North Power Inc. 4225"]
["Wellington North Power Inc. 4230","Wellington North Power Inc.","4230","Sales of Water and Water Power",0,0,0,0,0,null,"Wellington North Power Inc. 4230"]
["Wellington North Power Inc. 4235","Wellington North Power Inc.","4235","Miscellaneous Service Revenues",-65689.350000000006,-56991.4,-49669.38,-49666.19,-35941.79,null,{"$f":"B2932 & \" \" &C2932","v":"Wellington North Power Inc. 4235"}]
["Wellington North Power Inc. 4240","Wellington North Power Inc.","4240","Provision for Rate Refunds",0,0,0,0,0,null,"Wellington North Power Inc. 4240"]
["Wellington North Power Inc. 4245","Wellington North Power Inc.","4245","Government and Other Assistance Directly Credited to Income",-11709.67,-11854.1,-11854.1,-12503.01,-13437,null,"Wellington North Power Inc. 4245"]
["Wellington North Power Inc. 4305","Wellington North Power Inc.","4305","Regulatory Debits",0,0,0,0,0,null,"Wellington North Power Inc. 4305"]
["Wellington North Power Inc. 4310","Wellington North Power Inc.","4310","Regulatory Credits",0,0,0,0,0,null,"Wellington North Power Inc. 4310"]
["Wellington North Power Inc. 4315","Wellington North Power Inc.","4315","Revenues from Electric Plant Leased to Others",0,0,0,0,0,null,"Wellington North Power Inc. 4315"]
["Wellington North Power Inc. 4320","Wellington North Power Inc.","4320","Expenses of Electric Plant Leased to Others",0,0,0,0,0,null,"Wellington North Power Inc. 4320"]
["Wellington North Power Inc. 4325","Wellington North Power Inc.","4325","Revenues from Merchandise",0,0,0,0,0,null,"Wellington North Power Inc. 4325"]
["Wellington North Power Inc. 4330","Wellington North Power Inc.","4330","Costs and Expenses of Merchandising",0,0,0,0,0,null,"Wellington North Power Inc. 4330"]
["Wellington North Power Inc. 4335","Wellington North Power Inc.","4335","Profits and Losses from Financial Instrument Hedges",0,0,0,0,0,null,"Wellington North Power Inc. 4335"]
["Wellington North Power Inc. 4340","Wellington North Power Inc.","4340","Profits and Losses from Financial Instrument Investments",0,0,0,0,0,null,"Wellington North Power Inc. 4340"]
["Wellington North Power Inc. 4345","Wellington North Power Inc.","4345","Gains from Disposition of Future Use Utility Plant",0,0,0,0,0,null,"Wellington North Power Inc. 4345"]
["Wellington North Power Inc. 4350","Wellington North Power Inc.","4350","Losses from Disposition of Future Use Utility Plant",0,0,0,0,0,null,"Wellington North Power Inc. 4350"]
["Wellington North Power Inc. 4355","Wellington North Power Inc.","4355","Gain on Disposition of Utility and Other Property",0,-9862.83,-2497.5300000000002,-10000,0,null,"Wellington North Power Inc. 4355"]
["Wellington North Power Inc. 4357","Wellington North Power Inc.","4357","Gain from Retirement of Utility and Other Property",0,0,0,0,0,null,"Wellington North Power Inc. 4357"]
["Wellington North Power Inc. 4360","Wellington North Power Inc.","4360","Loss on Disposition of Utility and Other Property",20210.150000000001,17502.98,30374.86,51691.62,25505.99,null,"Wellington North Power Inc. 4360"]
["Wellington North Power Inc. 4362","Wellington North Power Inc.","4362","Loss from Retirement of Utility and Other Property",0,0,0,0,0,null,"Wellington North Power Inc. 4362"]
["Wellington North Power Inc. 4365","Wellington North Power Inc.","4365","Gains from Disposition of Allowances for Emission",0,0,0,0,0,null,"Wellington North Power Inc. 4365"]
["Wellington North Power Inc. 4370","Wellington North Power Inc.","4370","Losses from Disposition of Allowances for Emission",0,0,0,0,0,null,"Wellington North Power Inc. 4370"]
["Wellington North Power Inc. 4375","Wellington North Power Inc.","4375","Revenues from Non Rate-Regulated Utility Operations",-150225.56,-160998.95000000001,-181570.48,-537757.38,-188257.25,null,"Wellington North Power Inc. 4375"]
["Wellington North Power Inc. 4375","Wellington North Power Inc.","4375","Sub-account Generation Facility Revenues",0,0,0,0,0,null,"Wellington North Power Inc. 4375"]
["Wellington North Power Inc. 4380","Wellington North Power Inc.","4380","Expenses of Non Rate-Regulated Utility Operations",155562.79999999999,142554.23999999999,140574.23000000001,471517.26,152733.29999999999,null,"Wellington North Power Inc. 4380"]
["Wellington North Power Inc. 4380","Wellington North Power Inc.","4380","Sub-account Generation Facility Expenses",0,0,0,0,0,null,"Wellington North Power Inc. 4380"]
["Wellington North Power Inc. 4385","Wellington North Power Inc.","4385","Non Rate-Regulated Utility Rental Income",0,0,0,0,0,null,"Wellington North Power Inc. 4385"]
["Wellington North Power Inc. 4390","Wellington North Power Inc.","4390","Miscellaneous Non-Operating Income",-170,-470,-2786.7,-2750,-1588.44,null,"Wellington North Power Inc. 4390"]
["Wellington North Power Inc. 4395","Wellington North Power Inc.","4395","Rate-Payer Benefit Including Interest",0,0,0,0,0,null,"Wellington North Power Inc. 4395"]
["Wellington North Power Inc. 4398","Wellington North Power Inc.","4398","Foreign Exchange Gains and Losses, Including Amortization",0,0,0,0,0,null,"Wellington North Power Inc. 4398"]
["Wellington North Power Inc. 4405","Wellington North Power Inc.","4405","Interest and Dividend Income",-12121.89,-11923.76,-27582.38,-28105.45,-15734.65,null,"Wellington North Power Inc. 4405"]
["Wellington North Power Inc. 4410","Wellington North Power Inc.","4410","Lessor's Net Investment in Finance Lease",0,0,0,0,0,null,"Wellington North Power Inc. 4410"]
["Wellington North Power Inc. 4415","Wellington North Power Inc.","4415","Equity in Earnings of Subsidiary Companies",0,0,0,0,0,null,"Wellington North Power Inc. 4415"]
["Wellington North Power Inc. 4420","Wellington North Power Inc.","4420","Share of Profit or Loss of Joint Venture",0,0,0,0,0,null,"Wellington North Power Inc. 4420"]
["Wellington North Power Inc. Total ","Wellington North Power Inc. Total",null,null,-132757.13,-150898.04999999999,-166327.46,-180838.28,-137007.85999999999,null,"Wellington North Power Inc. Total "]
["West Coast Huron Energy Inc. 4082","West Coast Huron Energy Inc.","4082","Retail Services Revenues",-3640,-4240,-3820,null,null,null,"West Coast Huron Energy Inc. 4082"]
["West Coast Huron Energy Inc. 4084","West Coast Huron Energy Inc.","4084","Service Transaction Requests (STR) Revenues",-2364,-2312,-1842,null,null,null,"West Coast Huron Energy Inc. 4084"]
["West Coast Huron Energy Inc. 4086","West Coast Huron Energy Inc.","4086","SSS Administration Revenue",-11084,-11274,-11436,null,null,null,"West Coast Huron Energy Inc. 4086"]
["West Coast Huron Energy Inc. 4090","West Coast Huron Energy Inc.","4090","Electric Services Incidental to Energy Sales",0,0,0,null,null,null,"West Coast Huron Energy Inc. 4090"]
["West Coast Huron Energy Inc. 4205","West Coast Huron Energy Inc.","4205","Interdepartmental Rents",0,0,0,null,null,null,"West Coast Huron Energy Inc. 4205"]
["West Coast Huron Energy Inc. 4210","West Coast Huron Energy Inc.","4210","Rent from Electric Property",-16599,-14060,-4273,null,null,null,"West Coast Huron Energy Inc. 4210"]
["West Coast Huron Energy Inc. 4215","West Coast Huron Energy Inc.","4215","Other Utility Operating Income",0,0,0,null,null,null,"West Coast Huron Energy Inc. 4215"]
["West Coast Huron Energy Inc. 4220","West Coast Huron Energy Inc.","4220","Other Electric Revenues",0,0,0,null,null,null,"West Coast Huron Energy Inc. 4220"]
["West Coast Huron Energy Inc. 4225","West Coast Huron Energy Inc.","4225","Late Payment Charges",-11009,-10682,-7056,null,null,null,"West Coast Huron Energy Inc. 4225"]
["West Coast Huron Energy Inc. 4230","West Coast Huron Energy Inc.","4230","Sales of Water and Water Power",0,0,0,null,null,null,"West Coast Huron Energy Inc. 4230"]
["West Coast Huron Energy Inc. 4235","West Coast Huron Energy Inc.","4235","Miscellaneous Service Revenues",-21480,-21435,-17205,null,null,null,"West Coast Huron Energy Inc. 4235"]
["West Coast Huron Energy Inc. 4240","West Coast Huron Energy Inc.","4240","Provision for Rate Refunds",0,0,0,null,null,null,"West Coast Huron Energy Inc. 4240"]
["West Coast Huron Energy Inc. 4245","West Coast Huron Energy Inc.","4245","Government and Other Assistance Directly Credited to Income",-8899,-13063,-16891,null,null,null,"West Coast Huron Energy Inc. 4245"]
["West Coast Huron Energy Inc. 4305","West Coast Huron Energy Inc.","4305","Regulatory Debits",0,0,0,null,null,null,"West Coast Huron Energy Inc. 4305"]
["West Coast Huron Energy Inc. 4310","West Coast Huron Energy Inc.","4310","Regulatory Credits",0,0,0,null,null,null,"West Coast Huron Energy Inc. 4310"]
["West Coast Huron Energy Inc. 4315","West Coast Huron Energy Inc.","4315","Revenues from Electric Plant Leased to Others",0,0,0,null,null,null,"West Coast Huron Energy Inc. 4315"]
["West Coast Huron Energy Inc. 4320","West Coast Huron Energy Inc.","4320","Expenses of Electric Plant Leased to Others",0,0,0,null,null,null,"West Coast Huron Energy Inc. 4320"]
["West Coast Huron Energy Inc. 4325","West Coast Huron Energy Inc.","4325","Revenues from Merchandise",0,0,0,null,null,null,"West Coast Huron Energy Inc. 4325"]
["West Coast Huron Energy Inc. 4330","West Coast Huron Energy Inc.","4330","Costs and Expenses of Merchandising",0,0,0,null,null,null,"West Coast Huron Energy Inc. 4330"]
["West Coast Huron Energy Inc. 4335","West Coast Huron Energy Inc.","4335","Profits and Losses from Financial Instrument Hedges",0,0,0,null,null,null,"West Coast Huron Energy Inc. 4335"]
["West Coast Huron Energy Inc. 4340","West Coast Huron Energy Inc.","4340","Profits and Losses from Financial Instrument Investments",0,-49960,0,null,null,null,"West Coast Huron Energy Inc. 4340"]
["West Coast Huron Energy Inc. 4345","West Coast Huron Energy Inc.","4345","Gains from Disposition of Future Use Utility Plant",0,0,0,null,null,null,"West Coast Huron Energy Inc. 4345"]
["West Coast Huron Energy Inc. 4350","West Coast Huron Energy Inc.","4350","Losses from Disposition of Future Use Utility Plant",0,0,0,null,null,null,"West Coast Huron Energy Inc. 4350"]
["West Coast Huron Energy Inc. 4355","West Coast Huron Energy Inc.","4355","Gain on Disposition of Utility and Other Property",0,-3754,0,null,null,null,"West Coast Huron Energy Inc. 4355"]
["West Coast Huron Energy Inc. 4357","West Coast Huron Energy Inc.","4357","Gain from Retirement of Utility and Other Property",0,0,0,null,null,null,"West Coast Huron Energy Inc. 4357"]
["West Coast Huron Energy Inc. 4360","West Coast Huron Energy Inc.","4360","Loss on Disposition of Utility and Other Property",42509,25149,56139,null,null,null,"West Coast Huron Energy Inc. 4360"]
["West Coast Huron Energy Inc. 4362","West Coast Huron Energy Inc.","4362","Loss from Retirement of Utility and Other Property",0,0,0,null,null,null,"West Coast Huron Energy Inc. 4362"]
["West Coast Huron Energy Inc. 4365","West Coast Huron Energy Inc.","4365","Gains from Disposition of Allowances for Emission",0,0,0,null,null,null,"West Coast Huron Energy Inc. 4365"]
["West Coast Huron Energy Inc. 4370","West Coast Huron Energy Inc.","4370","Losses from Disposition of Allowances for Emission",0,0,0,null,null,null,"West Coast Huron Energy Inc. 4370"]
["West Coast Huron Energy Inc. 4375","West Coast Huron Energy Inc.","4375","Revenues from Non Rate-Regulated Utility Operations",-129592,-197938,-284786,null,null,null,"West Coast Huron Energy Inc. 4375"]
["West Coast Huron Energy Inc. 4375","West Coast Huron Energy Inc.","4375","Sub-account Generation Facility Revenues",0,0,0,null,null,null,"West Coast Huron Energy Inc. 4375"]
["West Coast Huron Energy Inc. 4380","West Coast Huron Energy Inc.","4380","Expenses of Non Rate-Regulated Utility Operations",96422,157923,203122,null,null,null,"West Coast Huron Energy Inc. 4380"]
["West Coast Huron Energy Inc. 4380","West Coast Huron Energy Inc.","4380","Sub-account Generation Facility Expenses",0,0,0,null,null,null,{"$f":"B2996 & \" \" &C2996","v":"West Coast Huron Energy Inc. 4380"}]
["West Coast Huron Energy Inc. 4385","West Coast Huron Energy Inc.","4385","Non Rate-Regulated Utility Rental Income",0,0,0,null,null,null,"West Coast Huron Energy Inc. 4385"]
["West Coast Huron Energy Inc. 4390","West Coast Huron Energy Inc.","4390","Miscellaneous Non-Operating Income",-114600,-22351,-98229,null,null,null,"West Coast Huron Energy Inc. 4390"]
["West Coast Huron Energy Inc. 4395","West Coast Huron Energy Inc.","4395","Rate-Payer Benefit Including Interest",0,0,0,null,null,null,"West Coast Huron Energy Inc. 4395"]
["West Coast Huron Energy Inc. 4398","West Coast Huron Energy Inc.","4398","Foreign Exchange Gains and Losses, Including Amortization",0,0,0,null,null,null,"West Coast Huron Energy Inc. 4398"]
["West Coast Huron Energy Inc. 4405","West Coast Huron Energy Inc.","4405","Interest and Dividend Income",-14917,-32376,-27522,null,null,null,"West Coast Huron Energy Inc. 4405"]
["West Coast Huron Energy Inc. 4410","West Coast Huron Energy Inc.","4410","Lessor's Net Investment in Finance Lease",0,0,0,null,null,null,"West Coast Huron Energy Inc. 4410"]
["West Coast Huron Energy Inc. 4415","West Coast Huron Energy Inc.","4415","Equity in Earnings of Subsidiary Companies",0,0,0,null,null,null,"West Coast Huron Energy Inc. 4415"]
["West Coast Huron Energy Inc. 4420","West Coast Huron Energy Inc.","4420","Share of Profit or Loss of Joint Venture",0,0,0,null,null,null,"West Coast Huron Energy Inc. 4420"]
["West Coast Huron Energy Inc. Total ","West Coast Huron Energy Inc. Total",null,null,-195253,-200373,-213799,null,null,null,"West Coast Huron Energy Inc. Total "]
["Westario Power Inc. 4082","Westario Power Inc.","4082","Retail Services Revenues",-12037,-14249,-4845.79,-16788.07,-27275.13,null,"Westario Power Inc. 4082"]
["Westario Power Inc. 4084","Westario Power Inc.","4084","Service Transaction Requests (STR) Revenues",-327,-195,-285.25,-407.5,-455.43,null,"Westario Power Inc. 4084"]
["Westario Power Inc. 4086","Westario Power Inc.","4086","SSS Administration Revenue",-66102,-67143,-67643.08,-68573.48,-68953,null,"Westario Power Inc. 4086"]
["Westario Power Inc. 4090","Westario Power Inc.","4090","Electric Services Incidental to Energy Sales",0,0,0,0,0,null,"Westario Power Inc. 4090"]
["Westario Power Inc. 4205","Westario Power Inc.","4205","Interdepartmental Rents",0,0,0,0,0,null,"Westario Power Inc. 4205"]
["Westario Power Inc. 4210","Westario Power Inc.","4210","Rent from Electric Property",-92373,-121998,-158916.04,-165763.28,-147507.24,null,"Westario Power Inc. 4210"]
["Westario Power Inc. 4215","Westario Power Inc.","4215","Other Utility Operating Income",0,0,0,0,0,null,"Westario Power Inc. 4215"]
["Westario Power Inc. 4220","Westario Power Inc.","4220","Other Electric Revenues",-113382,1529,32.340000000000003,-199.17,0,null,"Westario Power Inc. 4220"]
["Westario Power Inc. 4225","Westario Power Inc.","4225","Late Payment Charges",-204775,-117923,-111644.25,-99699.09,-73839.48,null,"Westario Power Inc. 4225"]
["Westario Power Inc. 4230","Westario Power Inc.","4230","Sales of Water and Water Power",0,0,0,0,0,null,"Westario Power Inc. 4230"]
["Westario Power Inc. 4235","Westario Power Inc.","4235","Miscellaneous Service Revenues",-99504,-97985,-88590.11,-106081.13,-243741.11,null,"Westario Power Inc. 4235"]
["Westario Power Inc. 4240","Westario Power Inc.","4240","Provision for Rate Refunds",0,0,0,0,0,null,"Westario Power Inc. 4240"]
["Westario Power Inc. 4245","Westario Power Inc.","4245","Government and Other Assistance Directly Credited to Income",-57851,-6436,-48553.81,-253172.34,-179819.57,null,"Westario Power Inc. 4245"]
["Westario Power Inc. 4305","Westario Power Inc.","4305","Regulatory Debits",0,0,0,0,0,null,"Westario Power Inc. 4305"]
["Westario Power Inc. 4310","Westario Power Inc.","4310","Regulatory Credits",0,0,0,0,0,null,"Westario Power Inc. 4310"]
["Westario Power Inc. 4315","Westario Power Inc.","4315","Revenues from Electric Plant Leased to Others",0,0,0,0,0,null,"Westario Power Inc. 4315"]
["Westario Power Inc. 4320","Westario Power Inc.","4320","Expenses of Electric Plant Leased to Others",0,0,0,0,0,null,"Westario Power Inc. 4320"]
["Westario Power Inc. 4325","Westario Power Inc.","4325","Revenues from Merchandise",-46084,-34123,-257999.31,-203892.38,2952.3,null,"Westario Power Inc. 4325"]
["Westario Power Inc. 4330","Westario Power Inc.","4330","Costs and Expenses of Merchandising",28050,44227,160580.12,33496.39,696.84,null,"Westario Power Inc. 4330"]
["Westario Power Inc. 4335","Westario Power Inc.","4335","Profits and Losses from Financial Instrument Hedges",0,0,0,0,0,null,"Westario Power Inc. 4335"]
["Westario Power Inc. 4340","Westario Power Inc.","4340","Profits and Losses from Financial Instrument Investments",0,0,0,0,0,null,"Westario Power Inc. 4340"]
["Westario Power Inc. 4345","Westario Power Inc.","4345","Gains from Disposition of Future Use Utility Plant",0,0,0,0,0,null,"Westario Power Inc. 4345"]
["Westario Power Inc. 4350","Westario Power Inc.","4350","Losses from Disposition of Future Use Utility Plant",0,0,0,0,0,null,"Westario Power Inc. 4350"]
["Westario Power Inc. 4355","Westario Power Inc.","4355","Gain on Disposition of Utility and Other Property",-3750,-805,-15278.81,-26818.59,-10320.66,null,"Westario Power Inc. 4355"]
["Westario Power Inc. 4357","Westario Power Inc.","4357","Gain from Retirement of Utility and Other Property",0,0,0,0,0,null,"Westario Power Inc. 4357"]
["Westario Power Inc. 4360","Westario Power Inc.","4360","Loss on Disposition of Utility and Other Property",0,0,24289.9,181103.39,13233,null,"Westario Power Inc. 4360"]
["Westario Power Inc. 4362","Westario Power Inc.","4362","Loss from Retirement of Utility and Other Property",146493,103677,192206.7,-34491.660000000003,107793.51,null,"Westario Power Inc. 4362"]
["Westario Power Inc. 4365","Westario Power Inc.","4365","Gains from Disposition of Allowances for Emission",0,0,0,0,0,null,"Westario Power Inc. 4365"]
["Westario Power Inc. 4370","Westario Power Inc.","4370","Losses from Disposition of Allowances for Emission",0,0,0,0,0,null,"Westario Power Inc. 4370"]
["Westario Power Inc. 4375","Westario Power Inc.","4375","Revenues from Non Rate-Regulated Utility Operations",0,0,-2794.28,-1397.14,0,null,"Westario Power Inc. 4375"]
["Westario Power Inc. 4375","Westario Power Inc.","4375","Sub-account Generation Facility Revenues",0,0,0,0,0,null,"Westario Power Inc. 4375"]
["Westario Power Inc. 4380","Westario Power Inc.","4380","Expenses of Non Rate-Regulated Utility Operations",0,0,3058.63,156486.15,0,null,"Westario Power Inc. 4380"]
["Westario Power Inc. 4380","Westario Power Inc.","4380","Sub-account Generation Facility Expenses",0,0,0,0,0,null,"Westario Power Inc. 4380"]
["Westario Power Inc. 4385","Westario Power Inc.","4385","Non Rate-Regulated Utility Rental Income",0,0,0,0,0,null,"Westario Power Inc. 4385"]
["Westario Power Inc. 4390","Westario Power Inc.","4390","Miscellaneous Non-Operating Income",-5021,-12712,-27052.75,-3980.3,-14897.54,null,"Westario Power Inc. 4390"]
["Westario Power Inc. 4395","Westario Power Inc.","4395","Rate-Payer Benefit Including Interest",0,0,0,0,0,null,"Westario Power Inc. 4395"]
["Westario Power Inc. 4398","Westario Power Inc.","4398","Foreign Exchange Gains and Losses, Including Amortization",0,0,0,0,0,null,"Westario Power Inc. 4398"]
["Westario Power Inc. 4405","Westario Power Inc.","4405","Interest and Dividend Income",-37792,-48741,-87153.96,-130753.31,-58517.42,null,"Westario Power Inc. 4405"]
["Westario Power Inc. 4410","Westario Power Inc.","4410","Lessor's Net Investment in Finance Lease",0,0,0,0,0,null,"Westario Power Inc. 4410"]
["Westario Power Inc. 4415","Westario Power Inc.","4415","Equity in Earnings of Subsidiary Companies",0,0,0,0,0,null,"Westario Power Inc. 4415"]
["Westario Power Inc. 4420","Westario Power Inc.","4420","Share of Profit or Loss of Joint Venture",0,0,0,0,0,null,"Westario Power Inc. 4420"]
["Westario Power Inc. Total ","Westario Power Inc. Total",null,null,-564455,-372877,-490589.75,-740931.51,-700650.93,null,"Westario Power Inc. Total "]
["Whitby Hydro Electric Corporation 4082","Whitby Hydro Electric Corporation","4082","Retail Services Revenues",-22382.1,-19716.8,-17394.8,null,null,null,"Whitby Hydro Electric Corporation 4082"]
["Whitby Hydro Electric Corporation 4084","Whitby Hydro Electric Corporation","4084","Service Transaction Requests (STR) Revenues",-276.25,-167,-111.5,null,null,null,"Whitby Hydro Electric Corporation 4084"]
["Whitby Hydro Electric Corporation 4086","Whitby Hydro Electric Corporation","4086","SSS Administration Revenue",-149759.16,-159197.87,-164547,null,null,null,"Whitby Hydro Electric Corporation 4086"]
["Whitby Hydro Electric Corporation 4090","Whitby Hydro Electric Corporation","4090","Electric Services Incidental to Energy Sales",0,0,0,null,null,null,"Whitby Hydro Electric Corporation 4090"]
["Whitby Hydro Electric Corporation 4205","Whitby Hydro Electric Corporation","4205","Interdepartmental Rents",0,0,0,null,null,null,"Whitby Hydro Electric Corporation 4205"]
["Whitby Hydro Electric Corporation 4210","Whitby Hydro Electric Corporation","4210","Rent from Electric Property",-134512.56,-134306.43,-134328.78,null,null,null,"Whitby Hydro Electric Corporation 4210"]
["Whitby Hydro Electric Corporation 4215","Whitby Hydro Electric Corporation","4215","Other Utility Operating Income",0,0,0,null,null,null,"Whitby Hydro Electric Corporation 4215"]
["Whitby Hydro Electric Corporation 4220","Whitby Hydro Electric Corporation","4220","Other Electric Revenues",0,0,0,null,null,null,"Whitby Hydro Electric Corporation 4220"]
["Whitby Hydro Electric Corporation 4225","Whitby Hydro Electric Corporation","4225","Late Payment Charges",-388632.04,-220780.97,-199854.47,null,null,null,"Whitby Hydro Electric Corporation 4225"]
["Whitby Hydro Electric Corporation 4230","Whitby Hydro Electric Corporation","4230","Sales of Water and Water Power",0,0,0,null,null,null,"Whitby Hydro Electric Corporation 4230"]
["Whitby Hydro Electric Corporation 4235","Whitby Hydro Electric Corporation","4235","Miscellaneous Service Revenues",-164532.22,-172671.98,-158106.32,null,null,null,"Whitby Hydro Electric Corporation 4235"]
["Whitby Hydro Electric Corporation 4240","Whitby Hydro Electric Corporation","4240","Provision for Rate Refunds",0,0,0,null,null,null,"Whitby Hydro Electric Corporation 4240"]
["Whitby Hydro Electric Corporation 4245","Whitby Hydro Electric Corporation","4245","Government and Other Assistance Directly Credited to Income",-852858,-1016988,-1046167.82,null,null,null,{"$f":"B3060 & \" \" &C3060","v":"Whitby Hydro Electric Corporation 4245"}]
["Whitby Hydro Electric Corporation 4305","Whitby Hydro Electric Corporation","4305","Regulatory Debits",2031669.83,1102560.29,873928.27,null,null,null,"Whitby Hydro Electric Corporation 4305"]
["Whitby Hydro Electric Corporation 4310","Whitby Hydro Electric Corporation","4310","Regulatory Credits",0,0,0,null,null,null,"Whitby Hydro Electric Corporation 4310"]
["Whitby Hydro Electric Corporation 4315","Whitby Hydro Electric Corporation","4315","Revenues from Electric Plant Leased to Others",0,0,0,null,null,null,"Whitby Hydro Electric Corporation 4315"]
["Whitby Hydro Electric Corporation 4320","Whitby Hydro Electric Corporation","4320","Expenses of Electric Plant Leased to Others",0,0,0,null,null,null,"Whitby Hydro Electric Corporation 4320"]
["Whitby Hydro Electric Corporation 4325","Whitby Hydro Electric Corporation","4325","Revenues from Merchandise",0,0,0,null,null,null,"Whitby Hydro Electric Corporation 4325"]
["Whitby Hydro Electric Corporation 4330","Whitby Hydro Electric Corporation","4330","Costs and Expenses of Merchandising",0,0,0,null,null,null,"Whitby Hydro Electric Corporation 4330"]
["Whitby Hydro Electric Corporation 4335","Whitby Hydro Electric Corporation","4335","Profits and Losses from Financial Instrument Hedges",0,0,0,null,null,null,"Whitby Hydro Electric Corporation 4335"]
["Whitby Hydro Electric Corporation 4340","Whitby Hydro Electric Corporation","4340","Profits and Losses from Financial Instrument Investments",0,0,0,null,null,null,"Whitby Hydro Electric Corporation 4340"]
["Whitby Hydro Electric Corporation 4345","Whitby Hydro Electric Corporation","4345","Gains from Disposition of Future Use Utility Plant",0,0,0,null,null,null,"Whitby Hydro Electric Corporation 4345"]
["Whitby Hydro Electric Corporation 4350","Whitby Hydro Electric Corporation","4350","Losses from Disposition of Future Use Utility Plant",0,0,0,null,null,null,"Whitby Hydro Electric Corporation 4350"]
["Whitby Hydro Electric Corporation 4355","Whitby Hydro Electric Corporation","4355","Gain on Disposition of Utility and Other Property",0,0,0,null,null,null,"Whitby Hydro Electric Corporation 4355"]
["Whitby Hydro Electric Corporation 4357","Whitby Hydro Electric Corporation","4357","Gain from Retirement of Utility and Other Property",0,0,0,null,null,null,"Whitby Hydro Electric Corporation 4357"]
["Whitby Hydro Electric Corporation 4360","Whitby Hydro Electric Corporation","4360","Loss on Disposition of Utility and Other Property",0,0,0,null,null,null,"Whitby Hydro Electric Corporation 4360"]
["Whitby Hydro Electric Corporation 4362","Whitby Hydro Electric Corporation","4362","Loss from Retirement of Utility and Other Property",0,0,212921.33,null,null,null,"Whitby Hydro Electric Corporation 4362"]
["Whitby Hydro Electric Corporation 4365","Whitby Hydro Electric Corporation","4365","Gains from Disposition of Allowances for Emission",0,0,0,null,null,null,"Whitby Hydro Electric Corporation 4365"]
["Whitby Hydro Electric Corporation 4370","Whitby Hydro Electric Corporation","4370","Losses from Disposition of Allowances for Emission",0,0,0,null,null,null,"Whitby Hydro Electric Corporation 4370"]
["Whitby Hydro Electric Corporation 4375","Whitby Hydro Electric Corporation","4375","Revenues from Non Rate-Regulated Utility Operations",-1403993.57,-1383878.16,-1994237.06,null,null,null,"Whitby Hydro Electric Corporation 4375"]
["Whitby Hydro Electric Corporation 4375","Whitby Hydro Electric Corporation","4375","Sub-account Generation Facility Revenues",0,0,0,null,null,null,"Whitby Hydro Electric Corporation 4375"]
["Whitby Hydro Electric Corporation 4380","Whitby Hydro Electric Corporation","4380","Expenses of Non Rate-Regulated Utility Operations",1748597.6,2037863.03,2151917.9300000002,null,null,null,"Whitby Hydro Electric Corporation 4380"]
["Whitby Hydro Electric Corporation 4380","Whitby Hydro Electric Corporation","4380","Sub-account Generation Facility Expenses",0,0,0,null,null,null,"Whitby Hydro Electric Corporation 4380"]
["Whitby Hydro Electric Corporation 4385","Whitby Hydro Electric Corporation","4385","Non Rate-Regulated Utility Rental Income",0,0,0,null,null,null,"Whitby Hydro Electric Corporation 4385"]
["Whitby Hydro Electric Corporation 4390","Whitby Hydro Electric Corporation","4390","Miscellaneous Non-Operating Income",3686.33,-4756.93,-56563.99,null,null,null,"Whitby Hydro Electric Corporation 4390"]
["Whitby Hydro Electric Corporation 4395","Whitby Hydro Electric Corporation","4395","Rate-Payer Benefit Including Interest",0,0,0,null,null,null,"Whitby Hydro Electric Corporation 4395"]
["Whitby Hydro Electric Corporation 4398","Whitby Hydro Electric Corporation","4398","Foreign Exchange Gains and Losses, Including Amortization",0,0,0,null,null,null,"Whitby Hydro Electric Corporation 4398"]
["Whitby Hydro Electric Corporation 4405","Whitby Hydro Electric Corporation","4405","Interest and Dividend Income",-21827.11,-50750,-70985,null,null,null,"Whitby Hydro Electric Corporation 4405"]
["Whitby Hydro Electric Corporation 4410","Whitby Hydro Electric Corporation","4410","Lessor's Net Investment in Finance Lease",0,0,0,null,null,null,"Whitby Hydro Electric Corporation 4410"]
["Whitby Hydro Electric Corporation 4415","Whitby Hydro Electric Corporation","4415","Equity in Earnings of Subsidiary Companies",0,0,0,null,null,null,"Whitby Hydro Electric Corporation 4415"]
["Whitby Hydro Electric Corporation 4420","Whitby Hydro Electric Corporation","4420","Share of Profit or Loss of Joint Venture",0,0,0,null,null,null,"Whitby Hydro Electric Corporation 4420"]
["Whitby Hydro Electric Corporation Total ","Whitby Hydro Electric Corporation Total",null,null,645180.75,-22790.819999999901,-603529.21,null,null,null,"Whitby Hydro Electric Corporation Total "]

{"sheet":"App_2-I LF_CDM","index":33,"n_rows":106,"n_cols":15,"rows_kept":106,"cut":false,"hidden":false,"merged":[[42,0,42,8],[48,0,48,8],[80,0,80,8],[105,0,105,8],[50,0,50,5],[52,0,52,4],[55,0,55,1],[66,0,66,1],[71,0,72,8],[17,0,17,8],[18,0,18,8],[8,0,8,8],[9,0,9,8],[11,0,11,8],[13,0,13,8],[15,0,15,8],[20,0,20,8],[28,0,28,8],[92,0,92,8],[69,0,69,8],[82,0,82,8],[84,0,84,8],[86,0,86,8],[88,0,88,8],[90,0,90,8],[39,0,39,8],[44,0,44,8],[46,0,46,8],[74,0,74,5],[37,6,38,8],[40,0,40,8],[41,0,41,8]]}
[null,null,null,null,null,null,"File Number:",null,{"$f":"EBNUMBER","v":"EB-2021-0052"}]
[null,null,null,null,null,null,"Exhibit:"]
[null,null,null,null,null,null,"Tab:"]
[null,null,null,null,null,null,"Schedule:"]
[null,null,null,null,null,null,"Page:"]
[]
[null,null,null,null,null,null,"Date:"]
[]
["Appendix 2-I"]
["Load Forecast CDM Adjustment Work Form"]
[]
["Appendix 2-I was initially developed to help determine what would be the amount of CDM savings needed in each year to cumulatively achieve the four year 2011-2014 CDM target.  This determined the amount of kWh (and with translation, kW of demand) savings that were converted into dollar balances for the LRAMVA, and also to determine the related adjustment to the load forecast to account for OPA-reported savings.  Beginning in the 2015 year, it was adjusted because the persistence of 2011-2014 CDM programs will be an adjustment to the load forecast in addition to the estimated savings for the first year (2015) for the new 2015-2020 CDM plan. This appendix has been updated for 2022 rate applications to acknowledge that in accordance with the Minister of Energy's March 20, 2019 Directive to the IESO, the Conservation First Framework (CFF) is no longer in effect. As distributors are no longer working towards the former 2015-2020 CDM targets, for 2019 and 2020 CDM activity, distributors may propose a CDM manual adjustment to the load forecast. If a distributor elects to propose a CDM manual adjustment to the load forecast, only CDM projects that are subject to a contractual agreement entered into between the distributor and a customer by April 30, 2019 under a former CFF program should be included in the proposed CDM manual adjustment to the load forecast. Distributors should provide relevant documentation to support the CDM manual adjustments for 2019 and 2020 CDM projects, if any, including the corresponding CFF program, project timelines and projected savings. "]
[]
["2019-2020 CDM Activities (and beyond, if applicable)"]
[]
["For the first year of the new 2015-2020 CDM plan, for simplicity, it was assumed that each year's program will achieve an equal amount of new CDM savings. This resulted in each year's program being about 1/6 (or 16.67%) of the cumulative 2015-2020 CDM target for kWh savings.\n\nFor 2022 rate applications, distributors should ensure that the sum of the results for the 2015 to 2019 program years is consistent with the results provided by the IESO. For the 2020 and 2021 program year (as applicable), distributors that elect to propose a CDM manual adjustment, should only include the projected CDM savings from projects that are subject to contractual agreements between the distributor and customer made on or before April 30, 2019 under the former CFF. "]
[]
["Former CFF 6 Year (2015-2020) kWh Target*"]
[]
[null,2015,2016,2017,2018,2019,2020,"2021**","Total for 2022**"]
["%"]
["2015 CDM Programs",null,null,null,null,null,{"$f":"G30/$G$37","v":{"$error":"#DIV/0!"}}]
["2016 CDM Programs",null,null,null,null,null,{"$error":"#DIV/0!"}]
["2017 CDM Programs",null,null,null,null,null,{"$error":"#DIV/0!"}]
["2018 CDM Programs",null,null,null,null,null,{"$error":"#DIV/0!"}]
["2019 CDM Programs",null,null,null,null,null,{"$error":"#DIV/0!"}]
["2020 CDM Programs",null,null,null,null,null,{"$error":"#DIV/0!"}]
["Total in Year",{"$f":"SUM(B22:B27)","v":0},{"$f":"SUM(C22:C27)","v":0},{"$f":"SUM(D22:D27)","v":0},{"$f":"SUM(E22:E25)","v":0},{"$f":"SUM(F22:F26)","v":0},{"$f":"SUM(G22:G27)","v":{"$error":"#DIV/0!"}}]
["kWh"]
[{"$f":"A22","v":"2015 CDM Programs"}]
["2016 CDM Programs",null,null,null,null,null,null,null,null,null,null,2011,2012,2013,2014]
["2017 CDM Programs",null,null,null,null,null,null,null,null,null,"2011 CDM Programs",{"$f":"50%","v":0.5},1,1,1]
["2018 CDM Programs",null,null,null,null,null,null,null,null,null,"2012 CDM Programs",null,0.5,1,1]
["2019 CDM Programs",null,null,null,null,null,null,null,null,null,"2013 CDM Programs",null,null,0.5,1]
[{"$f":"A27","v":"2020 CDM Programs"}]
["2021 CDM Programs (if applicable)***",null,null,null,null,null,null,null,null,null,"2014 CDM Programs",null,null,null,0.5]
["Total in Year",{"$f":"SUM(B30:B36)","v":0},{"$f":"SUM(C30:C36)","v":0},{"$f":"SUM(D30:D36)","v":0},{"$f":"SUM(E30:E33)","v":0},{"$f":"SUM(F30:F34)","v":0},{"$f":"SUM(G30:G36)","v":0},{"$f":"SUM(H30:H36)","v":0},{"$f":"SUM(I30:I36)","v":0}]
[null,null,null,null,null,null,{"$f":"IF(G37-I37<>0,\"Inputs do no match 2015-20 CDM target\",\"\")","v":""}]
[]
["*This total will not equal the distributor's former CFF CDM target. Rather, for 2019 and 2020, if the distributor elects to propose a CDM manual adjustment, it should only include the projected savings from projects that are subject to contractual agreements made between the LDC and a customer on or before April 30, 2019 under the former CFF."]
["** If a distributor wishes to include projected savings that persist from former Conservation First programs into the 2022 test year, you may do so.  Please provide relevant supporting documentation to show the savings persistence into 2022.  "]
["*** If a distributor expects impacts from any CFF-related projects not deployed by April 2019, but for which a distributor is contractually obligated to complete (or for other programs delivered by the distributor after April 2019), a distributor may include these amounts as part of a CDM manual adjustment to the 2022 load forecast, but must ensure that sufficient supporting evidence is provided in support of all estimated CDM savings."]
["Note: The default formulae in the above table assume that the 2015-2020 kWh CDM target is achieved through persistence of CDM savings to the end of 2020. Distributors should rely on the Participant and Cost monthly reports provided by the IESO for 2018 and 2019 CDM savings."]
[]
["Determination of 2022 Load Forecast Adjustment"]
[]
["The OEB determined that the \"net\" number should be used in its Decision and Order with respect to Centre Wellington Hydro Ltd.'s 2013 Cost of Service rates (EB-2012-0113).  This approach has also been used in Settlement Agreements accepted by the OEB in other 2013 and 2014 applications.  The distributor should select whether the adjustment is done on a \"net\" or \"gross\" basis, but must support a proposal for the adjustment being done on a \"gross\" basis.  Sheet 2-I defaults to the adjustment being done on a \"net\" basis consistent with OEB policy and practice."]
[]
["From each of the 2006-2010 CDM Final Report,  and the 2011 to 2017 CDM Final Reports, issued by the OPA/IESO for the distributor, the distributor should input the \"gross\" and \"net\" results of the cumulative CDM savings for 2019 into cells C57 to C66 and D57 to D66.  The model will calculate the cumulative savings for all programs from 2006 to 2019 and determine the \"net\" to \"gross\" factor \"g\"."]
[]
["Net-to-Gross Conversion"]
[]
["Is CDM adjustment being done on a \"net\" or \"gross\" basis?",null,null,null,null,"net"]
[]
[null,null,"\"Gross\"","\"Net\"","Difference","\"Net-to-Gross\" Conversion Factor"]
["Persistence of Historical CDM programs",null,"kWh","kWh","kWh","('g')"]
["2006-2010 CDM programs",null,null,null,{"$f":"C57-D57","v":0}]
["2011 CDM program",null,null,null,0]
["2012 CDM program",null,null,null,0]
["2013 CDM program",null,null,null,0]
["2014 CDM program",null,null,null,0]
["2015 CDM program",null,null,null,0]
["2016 CDM program",null,null,null,{"$f":"C63-D63","v":0}]
["2017 CDM program",null,null,null,0]
["2018 CDM program*",null,null,null,{"$f":"C65-D65","v":0}]
["2019 CDM program (if applicable)*",null,null,null,{"$f":"C66-D66","v":0}]
["2006 to 2019 OPA CDM programs:  Persistence to 2022.",null,{"$f":"SUM(C57:C66)","v":0},{"$f":"SUM(D57:D66)","v":0},{"$f":"C67-D67","v":0},{"$f":"IF(D67=0,0,IF(F53=\"net\",0,E67/D67))","v":0}]
["*CDM programs distributors should rely on the results made available by the IESO in the Participant and Cost monthly reports"]
[]
["The default values below represent the factor used for how each year's CDM program is factored into the manual CDM adjustment.  Distributors can choose alternative weights of \"0\", \"0.5\" or \"1\" from the drop-down menu for each cell, but must support its alternatives."]
[]
["These factors do not mean that CDM programs are excluded, but the assumption that impacts of previous year CDM programs are already implicitly reflected in the actual data for historical years that are used to derive the load forecast prior to any manual CDM adjustment for the 2022 test year."]
[]
[]
["Weight Factor for Inclusion in CDM Adjustment to 2022 Load Forecast"]
[null,2015,2016,2017,"2018*","2019**","2020**","2021***"]
["Weight Factor for each year's CDM program impact on 2022 load forecast",0,0,0,0,0,0.5,1,"Distributor can select \"0\", \"0.5\", or \"1\" from drop-down list"]
["Default Value selection rationale.  ","Full year impact of 2015 CDM is assumed to be reflected in the base forecast, as the full year persistence of 2015 CDM programs is in the 2018 historical actual data. No further impact is necessary for the manual adjustment to the load forecast.","Full year impact of 2016 CDM is assumed to be reflected in the base forecast, as the full year persistence of 2016 CDM programs is in the 2018 historical actual data. No further impact is necessary for the manual adjustment to the load forecast.","Full year impact of 2017 CDM is assumed to be reflected in the base forecast, as the full year persistence of 2017 CDM programs is in the 2018 historical actual data. No further impact is necessary for the manual adjustment to the load forecast.","Default is 0. Full year impact of 2018 CDM is assumed to be reflected in the base forecast. ","Default is 0. Full year impact of 2019 CDM is assumed to be reflected in the base forecast. Adjust based on distributor's circumstance","Default is 0.5. Adjust based on distributor's circumstance","Default is 1.  Adjust based on distributor's circumstance"]
["* For 2018 CDM programs distributors should rely on the results made available by the IESO in the Participant and Cost monthly reports"]
["** For 2019 and 2020 CDM program activity, the distributor should include only those projected CDM savings from projects that it has contractual obligations with a customer under the former CFF. "]
["*** This may include the persistence of any remaining CDM projects that the distributor is contractually obligated to complete under the former CFF, as applicable. If this includes CDM activity that is beyond the CFF framework or other programs, please file project-level supporting documentation in accordance with section 2.3.1.3 of Chapter 2 Filing Requirements to support the breakdown of your proposal."]
[]
["2022 LRAMVA and 2022 CDM adjustment to Load Forecast"]
[]
["One manual adjustment for CDM impacts to the 2022 load forecast is made.  There is a different but related threshold amount that is used for the 2022 LRAMVA amount for Account 1568."]
[]
["The amount used for the CDM threshold and the LRAMVA is the kWh that will be used to determine the base amount for the LRAMVA balance for 2022. This allows for a comparison between projected CDM savings and actual CDM savings."]
[]
["If used to determine the manual CDM adjustment for the system purchased kWh, the proposed loss factor should correspond with the proposed total loss factor calculated in Appendix 2-R ."]
[]
["The Manual Adjustment for the 2022 Load Forecast is the amount manually subtracted from the system-wide load forecast (either based on a purchased or billed basis) derived from the base forecast from historical data. If the distributor has developed their load forecast on a system purchased basis, then the manual adjustment should be on a system purchased basis, including the adjustment for losses.  If the load forecast has been developed on a billed basis, either on a system basis or on a class-specific basis, the manual adjustment should be on a billed basis, excluding losses."]
[]
["The distributor should determine the allocation of the savings to all customer classes in a reasonable manner (e.g. taking into account what programs and what IESO-measured impacts were directed at specific customer classes), for both the LRAMVA and for the load forecast adjustment."]
[]
[null,2015,2016,2017,2018,2019,2020,2021,"Total for 2022"]
[]
["Amount used for CDM threshold for LRAMVA (2022)",{"$f":"H30","v":0},{"$f":"H31","v":0},{"$f":"H32","v":0},{"$f":"H33","v":0},{"$f":"H34","v":0},{"$f":"H35","v":0},{"$f":"H36","v":0},{"$f":"SUM(B97:H97)","v":0}]
[]
["Manual Adjustment for 2022 Load Forecast (billed basis)",null,null,null,null,{"$f":"F97*(1+F67)*F77","v":0},{"$f":"G97*(1+F67)*G77","v":0},{"$f":"H97*(1+F67)*H77","v":0},{"$f":"SUM(F99:H99)","v":0}]
["Manual Adjustment for 2022 LDC-only CDM programs (billed basis)"]
["Total Manual Forecast to Load Forecast",null,null,null,null,null,null,{"$f":"H99+H100","v":0},{"$f":"SUM(F101:H101)","v":0}]
[]
["Proposed Loss Factor (TLF)",null," Format: X.XX%"]
["Manual Adjustment for 2022 Load Forecast (system purchased basis)",{"$f":"B101*(1+$B103)","v":0},0,0,0,0,0,{"$f":"H101*(1+$B103)","v":0},{"$f":"SUM(B104:H104)","v":0}]
[]
["Manual adjustment uses \"gross\" versus \"net\" (i.e. numbers multiplied by (1 + g).  The Weight factor is also used to calculate the impact of each year's program on the CDM adjustment to the 2022 load forecast."]

{"sheet":"lists","index":34,"n_rows":50,"n_cols":1,"rows_kept":50,"cut":false,"hidden":true,"merged":[]}
["COMPETITIVE SECTOR MULTI-UNIT RESIDENTIAL SERVICE CLASSIFICATION"]
["DISTRIBUTED GENERATION [DGEN] SERVICE CLASSIFICATION"]
["DISTRIBUTED GENERATION SERVICE CLASSIFICATION"]
["EMBEDDED DISTRIBUTOR SERVICE CLASSIFICATION"]
["EMBEDDED DISTRIBUTOR SERVICE CLASSIFICATION FOR HYDRO ONE NETWORKS INC."]
["ENERGY FROM WASTE SERVICE CLASSIFICATION"]
["GENERAL SERVICE 1,000 KW AND GREATER SERVICE CLASSIFICATION"]
["GENERAL SERVICE 1,000 KW OR GREATER SERVICE CLASSIFICATION"]
["GENERAL SERVICE 1,000 TO 4,999 KW (CO-GENERATION) SERVICE CLASSIFICATION"]
["GENERAL SERVICE 1,000 TO 4,999 KW SERVICE CLASSIFICATION"]
["GENERAL SERVICE 1,500 TO 4,999 KW SERVICE CLASSIFICATION"]
["GENERAL SERVICE 3,000 TO 4,999 KW - INTERMEDIATE USE SERVICE CLASSIFICATION"]
["GENERAL SERVICE 3,000 TO 4,999 KW SERVICE CLASSIFICATION"]
["GENERAL SERVICE 50 TO 1,499 KW SERVICE CLASSIFICATION"]
["GENERAL SERVICE 50 TO 2,999 KW SERVICE CLASSIFICATION"]
["GENERAL SERVICE 50 to 4,999 kW SERVICE CLASSIFICATION"]
["GENERAL SERVICE 50 TO 499 KW SERVICE CLASSIFICATION"]
["GENERAL SERVICE 50 TO 699 KW SERVICE CLASSIFICATION"]
["GENERAL SERVICE 50 TO 999 KW SERVICE CLASSIFICATION"]
["GENERAL SERVICE 500 TO 1,499 KW SERVICE CLASSIFICATION"]
["GENERAL SERVICE 500 TO 4,999 KW SERVICE CLASSIFICATION"]
["GENERAL SERVICE 700 TO 4,999 KW SERVICE CLASSIFICATION"]
["GENERAL SERVICE DEMAND BILLED SERVICE CLASSIFICATION"]
["GENERAL SERVICE ENERGY BILLED SERVICE CLASSIFICATION"]
["GENERAL SERVICE EQUAL TO OR GREATER THAN 1,500 KW SERVICE CLASSIFICATION"]
["GENERAL SERVICE GREATER THAN 1,000 KW SERVICE CLASSIFICATION"]
["GENERAL SERVICE LESS THAN 50 KW SERVICE CLASSIFICATION"]
["HCI, RESOP, OTHER ENERGY RESOURCE SERVICE CLASSIFICATION"]
["INTERMEDIATE USER SERVICE CLASSIFICATION"]
["LARGE USE - 3TS SERVICE CLASSIFICATION"]
["LARGE USE - FORD ANNEX SERVICE CLASSIFICATION"]
["LARGE USE - REGULAR SERVICE CLASSIFICATION"]
["LARGE USE SERVICE CLASSIFICATION"]
["LARGE USE WITH DEDICATED ASSETS SERVICE CLASSIFICATION"]
["ONTARIO ELECTRICITY SUPPORT PROGRAM RECIPIENTS"]
["R1  RESIDENTIAL SERVICE CLASSIFICATION"]
["R2  RESIDENTIAL SERVICE CLASSIFICATION"]
["RESIDENTIAL R1 SERVICE CLASSIFICATION"]
["RESIDENTIAL R2 SERVICE CLASSIFICATION"]
["RESIDENTIAL SERVICE CLASSIFICATION"]
["SEASONAL CUSTOMERS SERVICE CLASSIFICATION"]
["SEASONAL RESIDENTIAL SERVICE CLASSIFICATION"]
["SEASONAL SERVICE CLASSIFICATION"]
["SENTINEL LIGHTING SERVICE CLASSIFICATION"]
["STANDBY POWER SERVICE CLASSIFICATION "]
["SUB TRANSMISSION SERVICE CLASSIFICATION"]
["UNMETERED SCATTERED LOAD SERVICE CLASSIFICATION"]
["UR RESIDENTIAL SERVICE CLASSIFICATION"]
["URBAN GENERAL SERVICE DEMAND BILLED SERVICE CLASSIFICATION"]
["URBAN GENERAL SERVICE ENERGY BILLED SERVICE CLASSIFICATION"]

{"sheet":"App.2-IA_Load_Forecast_Instrct","index":35,"n_rows":45,"n_cols":18,"rows_kept":45,"cut":false,"hidden":false,"merged":[[9,1,9,17],[8,1,8,17],[18,1,18,17],[20,1,20,17],[22,1,22,17],[24,1,24,17],[26,1,26,17],[43,2,43,17],[44,2,44,17],[28,8,28,10],[28,12,28,14],[29,13,29,14],[29,9,29,10],[41,2,41,17],[42,2,42,17],[28,16,28,17]]}
[null,null,null,null,null,null,null,null,null,null,null,null,null,null,null,null,"File Number:",{"$f":"EBNUMBER","v":"EB-2021-0052"}]
[null,null,null,null,null,null,null,null,null,null,null,null,null,null,null,null,"Exhibit:"]
[null,null,null,null,null,null,null,null,null,null,null,null,null,null,null,null,"Tab:"]
[null,null,null,null,null,null,null,null,null,null,null,null,null,null,null,null,"Schedule:"]
[null,null,null,null,null,null,null,null,null,null,null,null,null,null,null,null,"Page:"]
[]
[null,null,null,null,null,null,null,null,null,null,null,null,null,null,null,null,"Date:"]
[]
[null,"Appendix 2-IA"]
[null,"Instructions on Customer, Connections, Load Forecast and Revenues Data and Analysis"]
[]
[null,"This sheet requires no inputs, but serves as a summary of the hiostorical and forecasted data to be provided with respect to:"]
[]
[null,"1)","Customers and connections"]
[null,"2)","Consumption (kWh)"]
[null,"3)","Demand (kW or kCA) for applicable demand-billed customer classes"]
[null,"4)","Revenues"]
[]
[null,"The spreadsheet summarizes the data provided and the analyses (variance or year-over-year) that are required. Data are required to be provided on a customer class level. Consumption (kWh) must also be provided on a total distribution system level."]
[]
[null,"Appendix 2-IB (formerly 2-IA) is the appendix spreadsheet that the distributor populates, and the spreadsheet is laid out for inputting the necessary data. The spreadsheet also calculates necessary statistics such as average consumption per customer/connection per year, and variances and % annual changes, as necessary."]
[]
[null,"The distributor is required to provide suitable documentation in Exhibit 3 of its Application, in accordance with section 2.3.2 of Chaoter 2 of the Filing Requirements. This would include explanations for material variations or of trends in the data."]
[]
[null,"The distributor is also required to input its test year customer/connection and load forecast in Sheet 10 - Load Forecast of the Revenue Requirement Work Form. This sheet should also be updated to reflect changes in the load forecast made through the stages of processing of the rates application."]
[]
[null,"The applicant must demonstrate the historical accuracy of its load forecast approach for at least the past 5 years. Such analysis will cover both customer/connections and consumption (kWh) and demand (kW or kVA) by providing the following, as shown in the following table:"]
[]
[null,null,null,"Calendar Year",null,"Customers / Connections",null,null,"Consumption (kWh) (3)",null,null,null,"Demand (kW or kVA)",null,null,null,"Revenues"]
[null,null,null,{"$f":"\"(for \"&TestYear&\" Cost of Service)\"","v":"(for 2022 Cost of Service)"},null,null,null,null,"Weather-actual","Weather-normalized",null,null,"Weather-actual","Weather-normalized",null,null,"Weather-actual","Weather-normalized"]
[null,null,"Historical",{"$f":"D32-1","v":2016},null,"Actual",null,null,"Actual","Actual (1)",null,null,"Actual","Actual (1)",null,null,"Actual"]
[null,null,"Historical",2017,null,"Actual",null,null,"Actual","Actual (1)",null,null,"Actual","Actual (1)",null,null,"Actual"]
[null,null,"Historical",2018,null,"Actual","OEB-approved (2)",null,"Actual","Actual (1)","OEB-approved (2)",null,"Actual","Actual (1)","OEB-approved (2)",null,"Actual"]
[null,null,"Historical",2019,null,"Actual",null,null,"Actual","Actual (1)",null,null,"Actual","Actual (1)",null,null,"Actual"]
[null,null,"Historical",2020,null,"Actual",null,null,"Actual","Actual (1)",null,null,"Actual","Actual (1)",null,null,"Actual"]
[null,null,"Bridge Year (Forecast)",2021,null,"Forecast",null,null,null,"Forecast",null,null,null,"Forecast",null,null,null,"Forecast"]
[null,null,"Test Year (Forecast)",{"$f":"TestYear","v":2022},null,"Forecast",null,null,null,"Forecast",null,null,null,"Forecast",null,null,null,"Forecast"]
[]
[]
[null,"Notes:"]
[]
[null,"(1)","“Weather-normalized actuals” are estimated by replacing the actual weather-related values (typically Heating Degree Days (HDD) and Cooling Degree Days (CDD)) by the “typical” or “weather-normalized” values. These “weather-normalized HDD and CDD values would be the same as used to estimate the Bridge Year and Test Year forecasts."]
[null,"(2)",{"$f":"\"For \"&TestYear&\" Cost of Service rebasers, the typical situation is that \"& TestYear - 4 & \" would have been the most recent cost of service rebasing application. If the most recent rebasing application was for a rate year other than \"& TestYear - 4& \", that year should be used.\"&\" An applicant must provide historical information back to the greater of: a) at least five (5) historical actual years; or b) to its last cost of service application.\"","v":"For 2022 Cost of Service rebasers, the typical situation is that 2018 would have been the most recent cost of service rebasing application. If the most recent rebasing application was for a rate year other than 2018, that year should be used. An applicant must provide historical information back to the greater of: a) at least five (5) historical actual years; or b) to its last cost of service application."}]
[null,"(3)","Consumption must be provided on a total distribution system basis as well as at a customer class level."]
[null,"(4)","Revenues exclude commodity charges."]

{"sheet":"App.2-IB_Load_Forecast_Analysis","index":36,"n_rows":489,"n_cols":21,"rows_kept":489,"cut":false,"hidden":false,"merged":[[468,5,468,8],[468,10,468,14],[468,16,468,20],[469,5,469,7],[478,11,478,12],[478,17,478,18],[426,5,426,7],[435,11,435,12],[435,17,435,18],[445,3,445,8],[447,5,447,8],[447,10,447,14],[447,16,447,20],[448,5,448,7],[457,11,457,12],[457,17,457,18],[144,3,144,8],[146,5,146,8],[146,10,146,14],[146,16,146,20],[147,5,147,7],[156,11,156,12],[156,17,156,18],[211,5,211,7],[220,11,220,12],[220,17,220,18],[190,5,190,7],[199,11,199,12],[199,17,199,18],[210,5,210,8],[210,10,210,14],[210,16,210,20],[167,5,167,8],[167,10,167,14],[167,16,167,20],[168,5,168,7],[177,11,177,12],[177,17,177,18],[189,5,189,8],[189,10,189,14],[46,11,46,12],[103,5,103,8],[103,10,103,14],[113,11,113,12],[113,17,113,18],[124,5,124,8],[124,10,124,14],[124,16,124,20],[58,3,58,8],[101,3,101,8],[61,5,61,7],[60,5,60,8],[103,16,103,20],[104,5,104,7],[70,11,70,12],[81,10,81,14],[91,11,91,12],[81,5,81,8],[82,5,82,7],[232,5,232,8],[232,10,232,14],[232,16,232,20],[233,5,233,7],[70,17,70,18],[81,16,81,20],[91,17,91,18],[24,1,24,21],[8,1,8,21],[9,1,9,21],[18,1,18,21],[20,1,20,21],[22,1,22,21],[26,1,26,21],[60,10,60,14],[60,16,60,20],[36,10,36,14],[37,5,37,7],[28,1,28,21],[189,16,189,20],[187,3,187,8],[134,11,134,12],[134,17,134,18],[125,5,125,7],[254,5,254,7],[263,11,263,12],[263,17,263,18],[275,5,275,8],[275,10,275,14],[275,16,275,20],[242,11,242,12],[242,17,242,18],[253,5,253,8],[253,10,253,14],[253,16,253,20],[297,5,297,7],[306,11,306,12],[306,17,306,18],[318,5,318,8],[318,10,318,14],[318,16,318,20],[276,5,276,7],[285,11,285,12],[285,17,285,18],[296,5,296,8],[296,10,296,14],[296,16,296,20],[349,11,349,12],[349,17,349,18],[361,5,361,8],[361,10,361,14],[361,16,361,20],[319,5,319,7],[328,11,328,12],[328,17,328,18],[339,5,339,8],[339,10,339,14],[339,16,339,20],[230,3,230,8],[273,3,273,8],[316,3,316,8],[359,3,359,8],[425,5,425,8],[425,10,425,14],[425,16,425,20],[383,5,383,7],[392,11,392,12],[392,17,392,18],[404,5,404,8],[404,10,404,14],[404,16,404,20],[402,3,402,8],[405,5,405,7],[414,11,414,12],[414,17,414,18],[362,5,362,7],[371,11,371,12],[371,17,371,18],[382,5,382,8],[382,10,382,14],[382,16,382,20],[340,5,340,7]]}
[null,null,null,null,null,null,null,null,null,null,null,null,null,null,null,null,null,null,null,"File Number:",{"$f":"EBNUMBER","v":"EB-2021-0052"}]
[null,null,null,null,null,null,null,null,null,null,null,null,null,null,null,null,null,null,null,"Exhibit:"]
[null,null,null,null,null,null,null,null,null,null,null,null,null,null,null,null,null,null,null,"Tab:"]
[null,null,null,null,null,null,null,null,null,null,null,null,null,null,null,null,null,null,null,"Schedule:"]
[null,null,null,null,null,null,null,null,null,null,null,null,null,null,null,null,null,null,null,"Page:"]
[]
[null,null,null,null,null,null,null,null,null,null,null,null,null,null,null,null,null,null,null,"Date:"]
[]
[null,"Appendix 2-IB"]
[null,"Customer, Connections, Load Forecast and Revenues Data and Analysis"]
[]
[null,"This sheet requires no inputs, but serves as a summary of the hiostorical and forecasted data to be provided with respect to:"]
[]
[null,"1)","Customers and connections"]
[null,"2)","Consumption (kWh)"]
[null,"3)","Demand (kW or kCA) for applicable demand-billed customer classes"]
[null,"4)","Revenues"]
[]
[null,"The spreadsheet summarizes the data provided and the analyses (variance or year-over-year) that are required. Data are required to be provided on a customer class level. Consumption (kWh) must also be provided on a total distribution system level."]
[]
[null,"Appendix 2-IB (formerly 2-IA) is the appendix spreadsheet that the distributor populates, and the spreadsheet is laid out for inputting the necessary data. The spreadsheet also calculates necessary statistics such as average consumption per customer/connection per year, and variances and % annual changes, as necessary."]
[]
[null,"The distributor is required to provide suitable documentation in Exhibit 3 of its Application, in accordance with section 2.3.2 of Chaoter 2 of the Filing Requirements. This would include explanations for material variations or of trends in the data."]
[]
[null,"The distributor is also required to input its test year customer/connection and load forecast in Sheet 10 - Load Forecast of the Revenue Requirement Work Form. This sheet should also be updated to reflect changes in the load forecast made through the stages of processing of the rates application."]
[]
[null,"The applicant must demonstrate the historical accuracy of its load forecast approach for at least the past 5 years. Such analysis will cover both customer/connections and consumption (kWh) and demand (kW or kVA) by providing the following, as shown in the following table:"]
[]
[null,"This sheet is to be filled in accordance with the instructions documented in section 2.3.2 of Chapter 2 of the Filing Requirements for Distribution Rate Applications, in terms of one set of tables per customer class."]
[]
[null,"Color coding for Cells:",null,null,null,"Data input",null,null,null,null,"Drop-down List"]
[]
[null,null,null,null,null,"No data entry required",null,null,null,null,"Blank or calculated value"]
[]
[null,"Distribution System (Total)"]
[]
[null,null,null,"Calendar Year",null,null,null,null,null,null,"Consumption (kWh) (3)"]
[null,null,null,{"$f":"CONCATENATE(\"(for \",TestYear,\" Cost of Service\")","v":"(for 2022 Cost of Service"},null,null,null,null,null,null,null,"Actual (Weather actual)","Weather-normalized",null,"Weather-normalized"]
[null,null,"Historical",{"$f":"D40-1","v":2016},null,null,null,null,null,null,"Actual",190198453,187486875.10763431,{"$f":"IF(D39=RebaseYear,\"OEB-approved\",\"\")","v":"OEB-approved"}]
[null,null,"Historical",2017,null,null,null,null,null,null,"Actual",184181851,191531130.28494945,""]
[null,null,"Historical",2018,null,null,null,null,null,null,"Actual",192794489,190586280.8050701,""]
[null,null,"Historical",2019,null,null,null,null,null,null,"Actual",190916365,188965896.91847926,""]
[null,null,"Historical",2020,null,null,null,null,null,null,"Actual",187587218,189972509.86795244,""]
[null,null,"Bridge Year",2021,null,null,null,null,null,null,"Forecast",null,189972509.86795244,""]
[null,null,"Test Year",{"$f":"TestYear","v":2022},null,null,null,null,null,null,"Forecast",null,189627160.16875914,""]
[null,null,null,null,null,null,null,null,null,null,null,null,null,null,{"$f":"SUM(O39:O44)","v":0}]
[null,null,"Variance Analysis",null,null,null,null,null,null,null,"Year","Year-over-year",null,null,"Versus OEB-approved"]
[null,null,null,{"$f":"D39","v":2016},null,null,null,null,null,null,{"$f":"D48","v":2016}]
[null,null,null,2017,null,null,null,null,null,null,{"$f":"D49","v":2017},{"$f":"IF(L39=0,\"\",L40/L39-1)","v":-3.1633285681876733E-2},{"$f":"IF(M39=0,\"\",M40/M39-1)","v":2.1570870894260574E-2}]
[null,null,null,2018,null,null,null,null,null,null,2018,{"$f":"IF(L40=0,\"\",L41/L40-1)","v":4.6761599762617179E-2},-4.9331379106553053E-3]
[null,null,null,2019,null,null,null,null,null,null,2019,-9.7415855076645741E-3,-8.5021014091153368E-3]
[null,null,null,2020,null,null,null,null,null,null,2020,-1.7437724628792339E-2,5.3269556353199299E-3]
[null,null,null,2021,null,null,null,null,null,null,2021,{"$f":"IF(K44=\"Forecast\",\"\",IF(L43=0,\"\",L44/L43-1))","v":""},{"$f":"IF(M43=0,\"\",M44/M43-1)","v":0}]
[null,null,null,2022,null,null,null,null,null,null,2022,{"$f":"IF(K45=\"Forecast\",\"\",IF(L44=0,\"\",L45/L44-1))","v":""},{"$f":"IF(M44=0,\"\",M45/M44-1)","v":-1.817893017433625E-3},null,{"$f":"IF(O46=0,\"\",M45/O46-1)","v":""}]
[null,null,null,"Geometric Mean",null,null,null,null,null,null,"Geometric Mean",{"$f":"IF(L39=0,\"\",(L43/L39)^(1/($D43-$D39-1))-1)","v":-4.5974381486658666E-3},{"$f":"IF(M39=0,\"\",(M45/M39)^(1/($D45-$D39-1))-1)","v":2.2727760212160053E-3},null,{"$f":"IF(O46=0,\"\",(M45/O46)^(1/(TestYear-RebaseYear-1))-1)","v":""}]
[]
[null,"Customer Class Analysis (one for each Customer Class, excluding MicroFIT and Standby)"]
[]
[null,1,"Customer Class:","Residential",null,null,null,null,null,null,"Is the customer class billed on consumption (kWh) or demand (kW or kVA)?",null,null,null,null,null,"kWh"]
[]
[null,null,null,"Calendar Year",null,"Customers",null,null,null,null,"Consumption (kWh) (3)",null,null,null,null,null,{"$f":"CONCATENATE(\"Consumption (kWh) per \",LEFT(F61,LEN(F61)-1))","v":"Consumption (kWh) per Customer"}]
[null,null,null,{"$f":"CONCATENATE(\"(for \",TestYear,\" Cost of Service\")","v":"(for 2022 Cost of Service"},null,null,null,null,null,null,null,"Actual (Weather actual)","Weather-normalized",null,"Weather-normalized",null,null,{"$f":"L62","v":"Actual (Weather actual)"},{"$f":"M62","v":"Weather-normalized"},null,{"$f":"O62","v":"Weather-normalized"}]
[null,null,"Historical",{"$f":"D64-1","v":2016},null,{"$f":"$K$39","v":"Actual"},9506,{"$f":"IF(D63=RebaseYear,\"OEB-approved\",\"\")","v":"OEB-approved"},null,null,{"$f":"F63","v":"Actual"},76635115,77234598.955548346,{"$f":"H63","v":"OEB-approved"},null,null,{"$f":"K63","v":"Actual"},{"$f":"IF(G63=0,\"\",L63/G63)","v":8061.7625710077846},{"$f":"IF(G63=0,\"\",M63/G63)","v":8124.8263155426412},{"$f":"N63","v":"OEB-approved"},{"$f":"IF(T63=\"\",\"\",IF(I63=0,\"\",O63/I63))","v":""}]
[null,null,"Historical",2017,null,{"$f":"$K$40","v":"Actual"},9600,"",null,null,{"$f":"F64","v":"Actual"},76119517.019999996,77485432.485865191,{"$f":"H64","v":""},null,null,{"$f":"K64","v":"Actual"},{"$f":"IF(G64=0,\"\",L64/G64)","v":7929.1163562499996},{"$f":"IF(G64=0,\"\",M64/G64)","v":8071.3992172776243},{"$f":"N64","v":""},{"$f":"IF(T64=\"\",\"\",IF(I64=0,\"\",O64/I64))","v":""}]
[null,null,"Historical",2018,null,{"$f":"$K$41","v":"Actual"},9740.8333333333339,"",null,null,"Actual",81716499,81181020.772844508,{"$f":"H65","v":""},null,null,"Actual",8389.0665411925729,8334.0940138090009,{"$f":"N65","v":""},{"$f":"IF(T65=\"\",\"\",IF(I65=0,\"\",O65/I65))","v":""}]
[null,null,"Historical",2019,null,{"$f":"$K$42","v":"Actual"},9857.25,"",null,null,"Actual",85932903,85784329.601880118,"",null,null,"Actual",8717.7359811306396,8702.6634813847795,"",""]
[null,null,"Historical",2020,null,{"$f":"$K$43","v":"Actual"},9959.0833333333339,"",null,null,"Actual",85141857,85767610.100758046,"",null,null,"Actual",8549.1660377042735,8611.9984370139191,"",""]
[null,null,"Bridge Year",{"$f":"D69-1","v":2021},null,{"$f":"$K$44","v":"Forecast"},10074.48369739619,"",null,null,"Forecast",null,80502553.561043009,"",null,null,"Forecast",0,7990.7373895348474,"",""]
[null,null,"Test Year",{"$f":"TestYear","v":2022},null,{"$f":"$K$45","v":"Forecast"},10191.221257220957,"",null,null,"Forecast",null,80356208.531038806,"",null,null,"Forecast",0,7884.8458396585856,"",""]
[null,null,null,null,null,null,null,null,{"$f":"SUM(I63:I68)","v":0},null,null,null,null,null,{"$f":"SUM(O63:O68)","v":0},null,null,null,null,null,{"$f":"SUM(U63:U68)","v":0}]
[null,null,"Variance Analysis","Year",null,null,"Year-over-year",null,"Test Year Versus OEB-approved",null,"Year","Year-over-year",null,null,{"$f":"I71","v":"Test Year Versus OEB-approved"},null,"Year","Year-over-year",null,null,{"$f":"O71","v":"Test Year Versus OEB-approved"}]
[null,null,null,{"$f":"D63","v":2016},null,null,null,null,null,null,{"$f":"D72","v":2016},null,null,null,null,null,{"$f":"K72","v":2016}]
[null,null,null,2017,null,null,{"$f":"IF(G63=0,\"\",G64/G63-1)","v":9.8884914790657863E-3},null,null,null,{"$f":"D73","v":2017},{"$f":"IF(L63=0,\"\",L64/L63-1)","v":-6.7279598914936622E-3},3.2476834696999468E-3,null,null,null,{"$f":"K73","v":2017},{"$f":"IF(R63=\"\",\"\",IF(R63=0,\"\",R64/R63-1))","v":-1.6453748617556108E-2},{"$f":"IF(S63=\"\",\"\",IF(S63=0,\"\",S64/S63-1))","v":-6.5757834309407848E-3}]
[null,null,null,2018,null,null,1.4670138888889017E-2,null,null,null,2018,7.3528868798910407E-2,4.7693975092072405E-2,null,null,null,2018,{"$f":"IF(R64=\"\",\"\",IF(R64=0,\"\",R65/R64-1))","v":5.8007748187479224E-2},3.2546376341917593E-2]
[null,null,null,2019,null,null,1.1951407306014072E-2,null,null,null,2019,5.1597952085538967E-2,5.670424916085115E-2,null,null,null,2019,3.9178308852863664E-2,4.42242992417754E-2]
[null,null,null,2020,null,null,1.0330805583031122E-2,null,null,null,2020,-9.2053913272311938E-3,-1.9490157700907673E-4,null,null,null,2020,-1.9336435949796171E-2,-1.0418080001001417E-2]
[null,null,null,2021,null,null,1.1587448382584409E-2,null,null,null,2021,{"$f":"IF(K68=\"Forecast\",\"\",IF(L67=0,\"\",L68/L67-1))","v":""},{"$f":"IF(M67=0,\"\",M68/M67-1)","v":-6.1387469390015159E-2},null,null,null,2021,{"$f":"IF(Q68=\"Forecast\",\"\",IF(R67=0,\"\",R68/R67-1))","v":""},{"$f":"IF(S67=\"\",\"\",IF(S67=0,\"\",S68/S67-1))","v":-7.2139010709630913E-2}]
[null,null,null,2022,null,null,1.1587448382584409E-2,null,{"$f":"IF(I70=0,\"\",G69/I70-1)","v":""},null,2022,{"$f":"IF(K69=\"Forecast\",\"\",IF(L68=0,\"\",L69/L68-1))","v":""},{"$f":"IF(M68=0,\"\",M69/M68-1)","v":-1.817893017433736E-3},null,{"$f":"IF(O70=0,\"\",M69/O70-1)","v":""},null,2022,{"$f":"IF(Q69=\"Forecast\",\"\",IF(R68=0,\"\",R69/R68-1))","v":""},{"$f":"IF(S68=\"\",\"\",IF(S68=0,\"\",S69/S68-1))","v":-1.3251787002153681E-2},null,{"$f":"IF(U70=0,\"\",S69/U70-1)","v":""}]
[null,null,null,"Geometric Mean",null,null,{"$f":"IF(G63=0,\"\",(G69/G63)^(1/($D69-$D63-1))-1)","v":1.4018046240567905E-2},null,{"$f":"IF(I70=0,\"\",(G69/I70)^(1/(TestYear-RebaseYear-1))-1)","v":""},null,"Geometric Mean",{"$f":"IF(L63=0,\"\",(L67/L63)^(1/($D67-$D63-1))-1)","v":3.5710633030343386E-2},{"$f":"IF(M63=0,\"\",(M69/M63)^(1/($D69-$D63-1))-1)","v":7.9558465169025094E-3},null,{"$f":"IF(O70=0,\"\",(M69/O70)^(1/(TestYear-RebaseYear-1))-1)","v":""},null,"Geometric Mean",{"$f":"IF(R63=\"\",\"\",IF(R63=0,\"\",(R67/R63)^(1/($D67-$D63-1))-1))","v":1.9759866882666177E-2},{"$f":"IF(S63=\"\",\"\",IF(S63=0,\"\",(S69/S63)^(1/($D69-$D63-1))-1))","v":-5.9783943157036834E-3},null,{"$f":"IF(U70=0,\"\",(S69/U70)^(1/(TestYear-RebaseYear-1))-1)","v":""}]
[]
[]
[null,null,null,"Calendar Year",null,"Revenues",null,null,null,null,{"$f":"IF(ISBLANK(Q59),\"\",CONCATENATE(\"Demand (\",Q59,\")\"))","v":"Demand (kWh)"},null,null,null,null,null,{"$f":"CONCATENATE(\"Demand (\",Q59,\") per \",LEFT(F61,LEN(F61)-1))","v":"Demand (kWh) per Customer"}]
[null,null,null,{"$f":"CONCATENATE(\"(for \",TestYear,\" Cost of Service\")","v":"(for 2022 Cost of Service"},null,null,null,null,null,null,null,"Actual (Weather actual)","Weather-normalized",null,{"$f":"M83","v":"Weather-normalized"},null,null,{"$f":"L83","v":"Actual (Weather actual)"},{"$f":"M83","v":"Weather-normalized"},null,{"$f":"O83","v":"Weather-normalized"}]
[null,null,"Historical",{"$f":"D85-1","v":2016},null,{"$f":"F63","v":"Actual"},null,{"$f":"IF(D84=RebaseYear,\"OEB-approved\",\"\")","v":"OEB-approved"},null,null,{"$f":"K63","v":"Actual"},null,null,{"$f":"N63","v":"OEB-approved"},null,null,{"$f":"K84","v":"Actual"},{"$f":"IF(G84=0,\"\",L84/G84)","v":""},{"$f":"IF(G84=0,\"\",M84/G84)","v":""},{"$f":"N84","v":"OEB-approved"},{"$f":"IF(T84=\"\",\"\",IF(I84=0,\"\",O84/I84))","v":""}]
[null,null,"Historical",2017,null,"Actual",null,"",null,null,"Actual",null,null,"",null,null,{"$f":"K85","v":"Actual"},{"$f":"IF(G85=0,\"\",L85/G85)","v":""},{"$f":"IF(G85=0,\"\",M85/G85)","v":""},{"$f":"N85","v":""},{"$f":"IF(T85=\"\",\"\",IF(I85=0,\"\",O85/I85))","v":""}]
[null,null,"Historical",2018,null,"Actual",null,"",null,null,"Actual",null,null,"",null,null,"Actual","","","",""]
[null,null,"Historical",2019,null,"Actual",null,"",null,null,"Actual",null,null,"",null,null,"Actual","","","",""]
[null,null,"Historical",2020,null,"Actual",null,"",null,null,"Actual",null,null,"",null,null,"Actual","","","",""]
[null,null,"Bridge Year (Forecast)",2021,null,"Forecast",null,"",null,null,"Forecast",null,null,"",null,null,"Forecast","","","",""]
[null,null,"Test Year (Forecast)",{"$f":"TestYear","v":2022},null,"Forecast",null,"",null,null,"Forecast",null,null,"",null,null,"Forecast","","","",""]
[null,null,null,null,null,null,null,null,{"$f":"SUM(I84:I89)","v":0},null,null,null,null,null,{"$f":"SUM(O84:O89)","v":0},null,null,null,null,null,{"$f":"SUM(U84:U89)","v":0}]
[null,null,"Variance Analysis","Year",null,null,"Year-over-year",null,{"$f":"I71","v":"Test Year Versus OEB-approved"},null,"Year","Year-over-year",null,null,{"$f":"I92","v":"Test Year Versus OEB-approved"},null,"Year","Year-over-year",null,null,{"$f":"O92","v":"Test Year Versus OEB-approved"}]
[null,null,null,{"$f":"D84","v":2016},null,null,null,null,null,null,{"$f":"D93","v":2016},null,null,null,null,null,{"$f":"K93","v":2016}]
[null,null,null,2017,null,null,{"$f":"IF(G84=0,\"\",G85/G84-1)","v":""},null,null,null,{"$f":"D94","v":2017},{"$f":"IF(L84=0,\"\",L85/L84-1)","v":""},"",null,null,null,{"$f":"K94","v":2017},{"$f":"IF(R84=\"\",\"\",IF(R84=0,\"\",R85/R84-1))","v":""},{"$f":"IF(S84=\"\",\"\",IF(S84=0,\"\",S85/S84-1))","v":""}]
[null,null,null,2018,null,null,"",null,null,null,2018,"","",null,null,null,2018,{"$f":"IF(R85=\"\",\"\",IF(R85=0,\"\",R86/R85-1))","v":""},""]
[null,null,null,2019,null,null,"",null,null,null,2019,"","",null,null,null,2019,"",""]
[null,null,null,2020,null,null,"",null,null,null,2020,"","",null,null,null,2020,"",""]
[null,null,null,2021,null,null,"",null,null,null,2021,{"$f":"IF(K89=\"Forecast\",\"\",IF(L88=0,\"\",L89/L88-1))","v":""},{"$f":"IF(M88=0,\"\",M89/M88-1)","v":""},null,null,null,2021,{"$f":"IF(Q89=\"Forecast\",\"\",IF(R88=0,\"\",R89/R88-1))","v":""},{"$f":"IF(S88=\"\",\"\",IF(S88=0,\"\",S89/S88-1))","v":""}]
[null,null,null,2022,null,null,"",null,{"$f":"IF(I91=0,\"\",G90/I91-1)","v":""},null,2022,{"$f":"IF(K90=\"Forecast\",\"\",IF(L89=0,\"\",L90/L89-1))","v":""},{"$f":"IF(M89=0,\"\",M90/M89-1)","v":""},null,{"$f":"IF(O91=0,\"\",M90/O91-1)","v":""},null,2022,{"$f":"IF(Q90=\"Forecast\",\"\",IF(R89=0,\"\",R90/R89-1))","v":""},{"$f":"IF(S89=\"\",\"\",IF(S89=0,\"\",S90/S89-1))","v":""},null,{"$f":"IF(U91=0,\"\",S90/U91-1)","v":""}]
[null,null,null,"Geometric Mean",null,null,{"$f":"IF(G84=0,\"\",(G90/G84)^(1/($D90-$D84-1))-1)","v":""},null,{"$f":"IF(I91=0,\"\",(G90/I91)^(1/(TestYear-RebaseYear-1))-1)","v":""},null,"Geometric Mean",{"$f":"IF(L84=0,\"\",(L88/L84)^(1/($D88-$D84-1))-1)","v":""},{"$f":"IF(M84=0,\"\",(M90/M84)^(1/($D90-$D84-1))-1)","v":""},null,{"$f":"IF(O91=0,\"\",(M90/O91)^(1/(TestYear-RebaseYear-1))-1)","v":""},null,"Geometric Mean",{"$f":"IF(R84=\"\",\"\",IF(R84=0,\"\",(R88/R84)^(1/($D88-$D84-1))-1))","v":""},{"$f":"IF(S84=\"\",\"\",IF(S84=0,\"\",(S90/S84)^(1/($D90-$D84-1))-1))","v":""},null,{"$f":"IF(U91=0,\"\",(S90/U91)^(1/(TestYear-RebaseYear-1))-1)","v":""}]
[]
[null,2,"Customer Class:","GS <50 kW",null,null,null,null,null,null,"Is the customer class billed on consumption (kWh) or demand (kW or kVA)?",null,null,null,null,null,"kWh"]
[]
[null,null,null,"Calendar Year",null,"Customers",null,null,null,null,"Consumption (kWh) (3)",null,null,null,null,null,{"$f":"CONCATENATE(\"Consumption (kWh) per \",LEFT(F104,LEN(F104)-1))","v":"Consumption (kWh) per Customer"}]
[null,null,null,{"$f":"CONCATENATE(\"(for \",TestYear,\" Cost of Service\")","v":"(for 2022 Cost of Service"},null,null,null,null,null,null,null,"Actual (Weather actual)","Weather-normalized",null,"Weather-normalized",null,null,{"$f":"L105","v":"Actual (Weather actual)"},{"$f":"M105","v":"Weather-normalized"},null,{"$f":"O105","v":"Weather-normalized"}]
[null,null,"Historical",{"$f":"D107-1","v":2016},null,{"$f":"$K$39","v":"Actual"},1292.5,{"$f":"IF(D106=RebaseYear,\"OEB-approved\",\"\")","v":"OEB-approved"},null,null,{"$f":"F106","v":"Actual"},29514061,29744936.96374815,{"$f":"H106","v":"OEB-approved"},null,null,{"$f":"K106","v":"Actual"},{"$f":"IF(G106=0,\"\",L106/G106)","v":22834.863442940037},{"$f":"IF(G106=0,\"\",M106/G106)","v":23013.490881043057},{"$f":"N106","v":"OEB-approved"},{"$f":"IF(T106=\"\",\"\",IF(I106=0,\"\",O106/I106))","v":""}]
[null,null,"Historical",2017,null,{"$f":"$K$40","v":"Actual"},1282,"",null,null,{"$f":"F107","v":"Actual"},28872534,29390632.935374971,{"$f":"H107","v":""},null,null,{"$f":"K107","v":"Actual"},{"$f":"IF(G107=0,\"\",L107/G107)","v":22521.477379095162},{"$f":"IF(G107=0,\"\",M107/G107)","v":22925.610714021037},{"$f":"N107","v":""},{"$f":"IF(T107=\"\",\"\",IF(I107=0,\"\",O107/I107))","v":""}]
[null,null,"Historical",2018,null,{"$f":"$K$41","v":"Actual"},1287.4166666666667,"",null,null,"Actual",30060062,29863082.08890586,{"$f":"H108","v":""},null,null,"Actual",23349.132241569034,23196.12823269275,{"$f":"N108","v":""},{"$f":"IF(T108=\"\",\"\",IF(I108=0,\"\",O108/I108))","v":""}]
[null,null,"Historical",2019,null,{"$f":"$K$42","v":"Actual"},1285.75,"",null,null,"Actual",30767208,30714013.141178332,"",null,null,"Actual",23929.38596150107,23888.013331657268,"",""]
[null,null,"Historical",2020,null,{"$f":"$K$43","v":"Actual"},1276.9166666666667,"",null,null,"Actual",26233400,26426203.304647516,"",null,null,"Actual",20544.332049859688,20695.323347632329,"",""]
[null,null,"Bridge Year",{"$f":"D112-1","v":2021},null,{"$f":"$K$44","v":"Forecast"},1270.4495374174132,"",null,null,"Forecast",null,29699107.148693439,"",null,null,"Forecast",0,23376.849118357099,"",""]
[null,null,"Test Year",{"$f":"TestYear","v":2022},null,{"$f":"$K$45","v":"Forecast"},1264.0151618801428,"",null,null,"Forecast",null,29645117.349183813,"",null,null,"Forecast",0,23453.134300294761,"",""]
[null,null,null,null,null,null,null,null,{"$f":"SUM(I106:I111)","v":0},null,null,null,null,null,{"$f":"SUM(O106:O111)","v":0},null,null,null,null,null,{"$f":"SUM(U106:U111)","v":0}]
[null,null,"Variance Analysis","Year",null,null,"Year-over-year",null,"Test Year Versus OEB-approved",null,"Year","Year-over-year",null,null,{"$f":"I114","v":"Test Year Versus OEB-approved"},null,"Year","Year-over-year",null,null,{"$f":"O114","v":"Test Year Versus OEB-approved"}]
[null,null,null,{"$f":"D106","v":2016},null,null,null,null,null,null,{"$f":"D115","v":2016},null,null,null,null,null,{"$f":"K115","v":2016}]
[null,null,null,2017,null,null,{"$f":"IF(G106=0,\"\",G107/G106-1)","v":-8.1237911025144882E-3},null,null,null,{"$f":"D116","v":2017},{"$f":"IF(L106=0,\"\",L107/L106-1)","v":-2.1736317479319478E-2},-1.1911406260668445E-2,null,null,null,{"$f":"K116","v":2017},{"$f":"IF(R106=\"\",\"\",IF(R106=0,\"\",R107/R106-1))","v":-1.3724017427472979E-2},{"$f":"IF(S106=\"\",\"\",IF(S106=0,\"\",S107/S106-1))","v":-3.8186369671716625E-3}]
[null,null,null,2018,null,null,4.2251690067602876E-3,null,null,null,2018,{"$f":"IF(L107=0,\"\",L108/L107-1)","v":4.1130023433343155E-2},1.6074820660369138E-2,null,null,null,2018,{"$f":"IF(R107=\"\",\"\",IF(R107=0,\"\",R108/R107-1))","v":3.6749581234937878E-2},1.1799795523277812E-2]
[null,null,null,2019,null,null,-1.2945821736035645E-3,null,null,null,2019,{"$f":"IF(L108=0,\"\",L109/L108-1)","v":2.3524435844477054E-2},2.8494414934773005E-2,null,null,null,2019,{"$f":"IF(R108=\"\",\"\",IF(R108=0,\"\",R109/R108-1))","v":2.4851189925550798E-2},2.9827611402379217E-2]
[null,null,null,2020,null,null,-6.8701795320499359E-3,null,null,null,2020,{"$f":"IF(L109=0,\"\",L110/L109-1)","v":-0.14735844734432846},-0.13960434987188763,null,null,null,2020,{"$f":"IF(R109=\"\",\"\",IF(R109=0,\"\",R110/R109-1))","v":-0.14146012426258847},-0.13365238622811171]
[null,null,null,2021,null,null,-5.0646447165073605E-3,null,null,null,2021,{"$f":"IF(K111=\"Forecast\",\"\",IF(L110=0,\"\",L111/L110-1))","v":""},{"$f":"IF(M110=0,\"\",M111/M110-1)","v":0.12385070251352848},null,null,null,2021,{"$f":"IF(Q111=\"Forecast\",\"\",IF(R110=0,\"\",R111/R110-1))","v":""},{"$f":"IF(S110=\"\",\"\",IF(S110=0,\"\",S111/S110-1))","v":0.12957158125444579}]
[null,null,null,2022,null,null,-5.0646447165074715E-3,null,{"$f":"IF(I113=0,\"\",G112/I113-1)","v":""},null,2022,{"$f":"IF(K112=\"Forecast\",\"\",IF(L111=0,\"\",L112/L111-1))","v":""},{"$f":"IF(M111=0,\"\",M112/M111-1)","v":-1.817893017433736E-3},null,{"$f":"IF(O113=0,\"\",M112/O113-1)","v":""},null,2022,{"$f":"IF(Q112=\"Forecast\",\"\",IF(R111=0,\"\",R112/R111-1))","v":""},{"$f":"IF(S111=\"\",\"\",IF(S111=0,\"\",S112/S111-1))","v":3.2632790480628948E-3},null,{"$f":"IF(U113=0,\"\",S112/U113-1)","v":""}]
[null,null,null,"Geometric Mean",null,null,{"$f":"IF(G106=0,\"\",(G112/G106)^(1/($D112-$D106-1))-1)","v":-4.4470896006776339E-3},null,{"$f":"IF(I113=0,\"\",(G112/I113)^(1/(TestYear-RebaseYear-1))-1)","v":""},null,"Geometric Mean",{"$f":"IF(L106=0,\"\",(L110/L106)^(1/($D110-$D106-1))-1)","v":-3.8516423544707634E-2},{"$f":"IF(M106=0,\"\",(M112/M106)^(1/($D112-$D106-1))-1)","v":-6.7207321412965371E-4},null,{"$f":"IF(O113=0,\"\",(M112/O113)^(1/(TestYear-RebaseYear-1))-1)","v":""},null,"Geometric Mean",{"$f":"IF(R106=\"\",\"\",IF(R106=0,\"\",(R110/R106)^(1/($D110-$D106-1))-1))","v":-3.4620951831833002E-2},{"$f":"IF(S106=\"\",\"\",IF(S106=0,\"\",(S112/S106)^(1/($D112-$D106-1))-1))","v":3.791879213163929E-3},null,{"$f":"IF(U113=0,\"\",(S112/U113)^(1/(TestYear-RebaseYear-1))-1)","v":""}]
[]
[]
[null,null,null,"Calendar Year",null,"Revenues",null,null,null,null,{"$f":"IF(ISBLANK(Q102),\"\",CONCATENATE(\"Demand (\",Q102,\")\"))","v":"Demand (kWh)"},null,null,null,null,null,{"$f":"CONCATENATE(\"Demand (\",Q102,\") per \",LEFT(F104,LEN(F104)-1))","v":"Demand (kWh) per Customer"}]
[null,null,null,{"$f":"CONCATENATE(\"(for \",TestYear,\" Cost of Service\")","v":"(for 2022 Cost of Service"},null,null,null,null,null,null,null,"Actual (Weather actual)","Weather-normalized",null,{"$f":"M126","v":"Weather-normalized"},null,null,{"$f":"L126","v":"Actual (Weather actual)"},{"$f":"M126","v":"Weather-normalized"},null,{"$f":"O126","v":"Weather-normalized"}]
[null,null,"Historical",{"$f":"D128-1","v":2016},null,{"$f":"F106","v":"Actual"},null,{"$f":"IF(D127=RebaseYear,\"OEB-approved\",\"\")","v":"OEB-approved"},null,null,{"$f":"K106","v":"Actual"},null,null,{"$f":"N106","v":"OEB-approved"},null,null,{"$f":"K127","v":"Actual"},{"$f":"IF(G127=0,\"\",L127/G127)","v":""},{"$f":"IF(G127=0,\"\",M127/G127)","v":""},{"$f":"N127","v":"OEB-approved"},{"$f":"IF(T127=\"\",\"\",IF(I127=0,\"\",O127/I127))","v":""}]
[null,null,"Historical",2017,null,"Actual",null,"",null,null,"Actual",null,null,"",null,null,{"$f":"K128","v":"Actual"},{"$f":"IF(G128=0,\"\",L128/G128)","v":""},{"$f":"IF(G128=0,\"\",M128/G128)","v":""},{"$f":"N128","v":""},{"$f":"IF(T128=\"\",\"\",IF(I128=0,\"\",O128/I128))","v":""}]
[null,null,"Historical",2018,null,"Actual",null,"",null,null,"Actual",null,null,"",null,null,"Actual","","","",""]
[null,null,"Historical",2019,null,"Actual",null,"",null,null,"Actual",null,null,"",null,null,"Actual","","","",""]
[null,null,"Historical",2020,null,"Actual",null,"",null,null,"Actual",null,null,"",null,null,"Actual","","","",""]
[null,null,"Bridge Year (Forecast)",2021,null,"Forecast",null,"",null,null,"Forecast",null,null,"",null,null,"Forecast","","","",""]
[null,null,"Test Year (Forecast)",{"$f":"TestYear","v":2022},null,"Forecast",null,"",null,null,"Forecast",null,null,"",null,null,"Forecast","","","",""]
[null,null,null,null,null,null,null,null,{"$f":"SUM(I127:I132)","v":0},null,null,null,null,null,{"$f":"SUM(O127:O132)","v":0},null,null,null,null,null,{"$f":"SUM(U127:U132)","v":0}]
[null,null,"Variance Analysis","Year",null,null,"Year-over-year",null,{"$f":"I114","v":"Test Year Versus OEB-approved"},null,"Year","Year-over-year",null,null,{"$f":"I135","v":"Test Year Versus OEB-approved"},null,"Year","Year-over-year",null,null,{"$f":"O135","v":"Test Year Versus OEB-approved"}]
[null,null,null,{"$f":"D127","v":2016},null,null,null,null,null,null,{"$f":"D136","v":2016},null,null,null,null,null,{"$f":"K136","v":2016}]
[null,null,null,2017,null,null,{"$f":"IF(G127=0,\"\",G128/G127-1)","v":""},null,null,null,{"$f":"D137","v":2017},{"$f":"IF(L127=0,\"\",L128/L127-1)","v":""},"",null,null,null,{"$f":"K137","v":2017},{"$f":"IF(R127=\"\",\"\",IF(R127=0,\"\",R128/R127-1))","v":""},{"$f":"IF(S127=\"\",\"\",IF(S127=0,\"\",S128/S127-1))","v":""}]
[null,null,null,2018,null,null,"",null,null,null,2018,{"$f":"IF(L128=0,\"\",L129/L128-1)","v":""},"",null,null,null,2018,{"$f":"IF(R128=\"\",\"\",IF(R128=0,\"\",R129/R128-1))","v":""},""]
[null,null,null,2019,null,null,"",null,null,null,2019,{"$f":"IF(L129=0,\"\",L130/L129-1)","v":""},"",null,null,null,2019,{"$f":"IF(R129=\"\",\"\",IF(R129=0,\"\",R130/R129-1))","v":""},""]
[null,null,null,2020,null,null,"",null,null,null,2020,{"$f":"IF(L130=0,\"\",L131/L130-1)","v":""},"",null,null,null,2020,{"$f":"IF(R130=\"\",\"\",IF(R130=0,\"\",R131/R130-1))","v":""},""]
[null,null,null,2021,null,null,"",null,null,null,2021,{"$f":"IF(K132=\"Forecast\",\"\",IF(L131=0,\"\",L132/L131-1))","v":""},{"$f":"IF(M131=0,\"\",M132/M131-1)","v":""},null,null,null,2021,{"$f":"IF(Q132=\"Forecast\",\"\",IF(R131=0,\"\",R132/R131-1))","v":""},{"$f":"IF(S131=\"\",\"\",IF(S131=0,\"\",S132/S131-1))","v":""}]
[null,null,null,2022,null,null,"",null,{"$f":"IF(I134=0,\"\",G133/I134-1)","v":""},null,2022,{"$f":"IF(K133=\"Forecast\",\"\",IF(L132=0,\"\",L133/L132-1))","v":""},{"$f":"IF(M132=0,\"\",M133/M132-1)","v":""},null,{"$f":"IF(O134=0,\"\",M133/O134-1)","v":""},null,2022,{"$f":"IF(Q133=\"Forecast\",\"\",IF(R132=0,\"\",R133/R132-1))","v":""},{"$f":"IF(S132=\"\",\"\",IF(S132=0,\"\",S133/S132-1))","v":""},null,{"$f":"IF(U134=0,\"\",S133/U134-1)","v":""}]
[null,null,null,"Geometric Mean",null,null,{"$f":"IF(G127=0,\"\",(G133/G127)^(1/($D133-$D127-1))-1)","v":""},null,{"$f":"IF(I134=0,\"\",(G133/I134)^(1/(TestYear-RebaseYear-1))-1)","v":""},null,"Geometric Mean",{"$f":"IF(L127=0,\"\",(L131/L127)^(1/($D131-$D127-1))-1)","v":""},{"$f":"IF(M127=0,\"\",(M133/M127)^(1/($D133-$D127-1))-1)","v":""},null,{"$f":"IF(O134=0,\"\",(M133/O134)^(1/(TestYear-RebaseYear-1))-1)","v":""},null,"Geometric Mean",{"$f":"IF(R127=\"\",\"\",IF(R127=0,\"\",(R131/R127)^(1/($D131-$D127-1))-1))","v":""},{"$f":"IF(S127=\"\",\"\",IF(S127=0,\"\",(S133/S127)^(1/($D133-$D127-1))-1))","v":""},null,{"$f":"IF(U134=0,\"\",(S133/U134)^(1/(TestYear-RebaseYear-1))-1)","v":""}]
[]
[null,3,"Customer Class:","GS 50kW - 4999 kW",null,null,null,null,null,null,"Is the customer class billed on consumption (kWh) or demand (kW or kVA)?",null,null,null,null,null,"kW"]
[]
[null,null,null,"Calendar Year",null,"Customers",null,null,null,null,"Consumption (kWh) (3)",null,null,null,null,null,{"$f":"CONCATENATE(\"Consumption (kWh) per \",LEFT(F147,LEN(F147)-1))","v":"Consumption (kWh) per Customer"}]
[null,null,null,{"$f":"CONCATENATE(\"(for \",TestYear,\" Cost of Service\")","v":"(for 2022 Cost of Service"},null,null,null,null,null,null,null,"Actual (Weather actual)","Weather-normalized",null,"Weather-normalized",null,null,{"$f":"L148","v":"Actual (Weather actual)"},{"$f":"M148","v":"Weather-normalized"},null,{"$f":"O148","v":"Weather-normalized"}]
[null,null,"Historical",{"$f":"D150-1","v":2016},null,{"$f":"$K$39","v":"Actual"},149.75,{"$f":"IF(D149=RebaseYear,\"OEB-approved\",\"\")","v":"OEB-approved"},null,null,{"$f":"F149","v":"Actual"},75048053,75635122.043592378,{"$f":"H149","v":"OEB-approved"},null,null,{"$f":"K149","v":"Actual"},{"$f":"IF(G149=0,\"\",L149/G149)","v":501155.612687813},{"$f":"IF(G149=0,\"\",M149/G149)","v":505075.94019093405},{"$f":"N149","v":"OEB-approved"},{"$f":"IF(T149=\"\",\"\",IF(I149=0,\"\",O149/I149))","v":""}]
[null,null,"Historical",2017,null,{"$f":"$K$40","v":"Actual"},151.25,"",null,null,{"$f":"F150","v":"Actual"},70829349,72100335.824717298,{"$f":"H150","v":""},null,null,{"$f":"K150","v":"Actual"},{"$f":"IF(G150=0,\"\",L150/G150)","v":468293.21652892564},{"$f":"IF(G150=0,\"\",M150/G150)","v":476696.43520474248},{"$f":"N150","v":""},{"$f":"IF(T150=\"\",\"\",IF(I150=0,\"\",O150/I150))","v":""}]
[null,null,"Historical",2018,null,{"$f":"$K$41","v":"Actual"},149.25,"",null,null,"Actual",71502339,71033792.914524764,{"$f":"H151","v":""},null,null,"Actual",479077.64824120601,475938.31098509056,{"$f":"N151","v":""},{"$f":"IF(T151=\"\",\"\",IF(I151=0,\"\",O151/I151))","v":""}]
[null,null,"Historical",2019,null,{"$f":"$K$42","v":"Actual"},149.33333333333334,"",null,null,"Actual",73532152,73405018.837819874,"",null,null,"Actual",492402.80357142852,491551.46543182951,"",""]
[null,null,"Historical",2020,null,{"$f":"$K$43","v":"Actual"},149.66666666666666,"",null,null,"Actual",65161090,65639993.744327247,"",null,null,"Actual",435374.76614699332,438574.56844762084,"",""]
[null,null,"Bridge Year",{"$f":"D155-1","v":2021},null,{"$f":"$K$44","v":"Forecast"},150,"",null,null,"Forecast",null,71123260.384224787,"",null,null,"Forecast",0,474155.06922816526,"",""]
[null,null,"Test Year",{"$f":"TestYear","v":2022},null,{"$f":"$K$45","v":"Forecast"},151,"",null,null,"Forecast",null,70993965.905795202,"",null,null,"Forecast",0,470158.71460791526,"",""]
[null,null,null,null,null,null,null,null,{"$f":"SUM(I149:I154)","v":0},null,null,null,null,null,{"$f":"SUM(O149:O154)","v":0},null,null,null,null,null,{"$f":"SUM(U149:U154)","v":0}]
[null,null,"Variance Analysis","Year",null,null,"Year-over-year",null,"Test Year Versus OEB-approved",null,"Year","Year-over-year",null,null,{"$f":"I157","v":"Test Year Versus OEB-approved"},null,"Year","Year-over-year",null,null,{"$f":"O157","v":"Test Year Versus OEB-approved"}]
[null,null,null,{"$f":"D149","v":2016},null,null,null,null,null,null,{"$f":"D158","v":2016},null,null,null,null,null,{"$f":"K158","v":2016}]
[null,null,null,2017,null,null,{"$f":"IF(G149=0,\"\",G150/G149-1)","v":1.001669449081799E-2},null,null,null,{"$f":"D159","v":2017},{"$f":"IF(L149=0,\"\",L150/L149-1)","v":-5.6213370385504891E-2},-4.6734719576942085E-2,null,null,null,{"$f":"K159","v":2017},{"$f":"IF(R149=\"\",\"\",IF(R149=0,\"\",R150/R149-1))","v":-6.5573237786640259E-2},{"$f":"IF(S149=\"\",\"\",IF(S149=0,\"\",S150/S149-1))","v":-5.6188590126592164E-2}]
[null,null,null,2018,null,null,-1.3223140495867813E-2,null,null,null,2018,{"$f":"IF(L150=0,\"\",L151/L150-1)","v":9.5015697518270326E-3},-1.4792481865624096E-2,null,null,null,2018,{"$f":"IF(R150=\"\",\"\",IF(R150=0,\"\",R151/R150-1))","v":2.3029228977982097E-2},-1.5903710698534912E-3]
[null,null,null,2019,null,null,5.5834729201564848E-4,null,null,null,2019,{"$f":"IF(L151=0,\"\",L152/L151-1)","v":2.8388064340105101E-2},3.3381659995946E-2,null,null,null,2019,{"$f":"IF(R151=\"\",\"\",IF(R151=0,\"\",R152/R151-1))","v":2.7814187072058072E-2},3.2804996123180441E-2]
[null,null,null,2020,null,null,2.2321428571427937E-3,null,null,null,2020,{"$f":"IF(L152=0,\"\",L153/L152-1)","v":-0.1138422006199411},-0.10578329951319232,null,null,null,2020,{"$f":"IF(R152=\"\",\"\",IF(R152=0,\"\",R153/R152-1))","v":-0.1158158260083153},-0.10777487345637005]
[null,null,null,2021,null,null,2.2271714922048602E-3,null,null,null,2021,{"$f":"IF(K154=\"Forecast\",\"\",IF(L153=0,\"\",L154/L153-1))","v":""},{"$f":"IF(M153=0,\"\",M154/M153-1)","v":8.3535453419683048E-2},null,null,null,2021,{"$f":"IF(Q154=\"Forecast\",\"\",IF(R153=0,\"\",R154/R153-1))","v":""},{"$f":"IF(S153=\"\",\"\",IF(S153=0,\"\",S154/S153-1))","v":8.112759685652815E-2}]
[null,null,null,2022,null,null,6.6666666666665986E-3,null,{"$f":"IF(I156=0,\"\",G155/I156-1)","v":""},null,2022,{"$f":"IF(K155=\"Forecast\",\"\",IF(L154=0,\"\",L155/L154-1))","v":""},{"$f":"IF(M154=0,\"\",M155/M154-1)","v":-1.8178930174335139E-3},null,{"$f":"IF(O156=0,\"\",M155/O156-1)","v":""},null,2022,{"$f":"IF(Q155=\"Forecast\",\"\",IF(R154=0,\"\",R155/R154-1))","v":""},{"$f":"IF(S154=\"\",\"\",IF(S154=0,\"\",S155/S154-1))","v":-8.4283705471193127E-3},null,{"$f":"IF(U156=0,\"\",S155/U156-1)","v":""}]
[null,null,null,"Geometric Mean",null,null,{"$f":"IF(G149=0,\"\",(G155/G149)^(1/($D155-$D149-1))-1)","v":1.6639027163665165E-3},null,{"$f":"IF(I156=0,\"\",(G155/I156)^(1/(TestYear-RebaseYear-1))-1)","v":""},null,"Geometric Mean",{"$f":"IF(L149=0,\"\",(L153/L149)^(1/($D153-$D149-1))-1)","v":-4.5997227286740827E-2},{"$f":"IF(M149=0,\"\",(M155/M149)^(1/($D155-$D149-1))-1)","v":-1.2585307502077647E-2},null,{"$f":"IF(O156=0,\"\",(M155/O156)^(1/(TestYear-RebaseYear-1))-1)","v":""},null,"Geometric Mean",{"$f":"IF(R149=\"\",\"\",IF(R149=0,\"\",(R153/R149)^(1/($D153-$D149-1))-1))","v":-4.5820199490375746E-2},{"$f":"IF(S149=\"\",\"\",IF(S149=0,\"\",(S155/S149)^(1/($D155-$D149-1))-1))","v":-1.4225540303291817E-2},null,{"$f":"IF(U156=0,\"\",(S155/U156)^(1/(TestYear-RebaseYear-1))-1)","v":""}]
[]
[]
[null,null,null,"Calendar Year",null,"Revenues",null,null,null,null,{"$f":"IF(ISBLANK(Q145),\"\",CONCATENATE(\"Demand (\",Q145,\")\"))","v":"Demand (kW)"},null,null,null,null,null,{"$f":"CONCATENATE(\"Demand (\",Q145,\") per \",LEFT(F147,LEN(F147)-1))","v":"Demand (kW) per Customer"}]
[null,null,null,{"$f":"CONCATENATE(\"(for \",TestYear,\" Cost of Service\")","v":"(for 2022 Cost of Service"},null,null,null,null,null,null,null,"Actual (Weather actual)","Weather-normalized",null,{"$f":"M169","v":"Weather-normalized"},null,null,{"$f":"L169","v":"Actual (Weather actual)"},{"$f":"M169","v":"Weather-normalized"},null,{"$f":"O169","v":"Weather-normalized"}]
[null,null,"Historical",{"$f":"D171-1","v":2016},null,{"$f":"F149","v":"Actual"},null,{"$f":"IF(D170=RebaseYear,\"OEB-approved\",\"\")","v":"OEB-approved"},null,null,{"$f":"K149","v":"Actual"},223174,223174,{"$f":"N149","v":"OEB-approved"},null,null,{"$f":"K170","v":"Actual"},{"$f":"IF(G170=0,\"\",L170/G170)","v":""},{"$f":"IF(G170=0,\"\",M170/G170)","v":""},{"$f":"N170","v":"OEB-approved"},{"$f":"IF(T170=\"\",\"\",IF(I170=0,\"\",O170/I170))","v":""}]
[null,null,"Historical",2017,null,"Actual",null,"",null,null,"Actual",218669,218669,"",null,null,{"$f":"K171","v":"Actual"},{"$f":"IF(G171=0,\"\",L171/G171)","v":""},{"$f":"IF(G171=0,\"\",M171/G171)","v":""},{"$f":"N171","v":""},{"$f":"IF(T171=\"\",\"\",IF(I171=0,\"\",O171/I171))","v":""}]
[null,null,"Historical",2018,null,"Actual",null,"",null,null,"Actual",229114,229114,"",null,null,"Actual","","","",""]
[null,null,"Historical",2019,null,"Actual",null,"",null,null,"Actual",230501,230501,"",null,null,"Actual","","","",""]
[null,null,"Historical",2020,null,"Actual",null,"",null,null,"Actual",216593,216593,"",null,null,"Actual","","","",""]
[null,null,"Bridge Year (Forecast)",2021,null,"Forecast",null,"",null,null,"Forecast",null,220206.9845122016,"",null,null,"Forecast","","","",""]
[null,null,"Test Year (Forecast)",{"$f":"TestYear","v":2022},null,"Forecast",null,"",null,null,"Forecast",null,219806.6717726668,"",null,null,"Forecast","","","",""]
[null,null,null,null,null,null,null,null,{"$f":"SUM(I170:I175)","v":0},null,null,null,null,null,{"$f":"SUM(O170:O175)","v":0},null,null,null,null,null,{"$f":"SUM(U170:U175)","v":0}]
[null,null,"Variance Analysis","Year",null,null,"Year-over-year",null,{"$f":"I157","v":"Test Year Versus OEB-approved"},null,"Year","Year-over-year",null,null,{"$f":"I178","v":"Test Year Versus OEB-approved"},null,"Year","Year-over-year",null,null,{"$f":"O178","v":"Test Year Versus OEB-approved"}]
[null,null,null,{"$f":"D170","v":2016},null,null,null,null,null,null,{"$f":"D179","v":2016},null,null,null,null,null,{"$f":"K179","v":2016}]
[null,null,null,2017,null,null,{"$f":"IF(G170=0,\"\",G171/G170-1)","v":""},null,null,null,{"$f":"D180","v":2017},{"$f":"IF(L170=0,\"\",L171/L170-1)","v":-2.0186043177072621E-2},-2.0186043177072621E-2,null,null,null,{"$f":"K180","v":2017},{"$f":"IF(R170=\"\",\"\",IF(R170=0,\"\",R171/R170-1))","v":""},{"$f":"IF(S170=\"\",\"\",IF(S170=0,\"\",S171/S170-1))","v":""}]
[null,null,null,2018,null,null,"",null,null,null,2018,{"$f":"IF(L171=0,\"\",L172/L171-1)","v":4.7766258591752875E-2},4.7766258591752875E-2,null,null,null,2018,{"$f":"IF(R171=\"\",\"\",IF(R171=0,\"\",R172/R171-1))","v":""},""]
[null,null,null,2019,null,null,"",null,null,null,2019,{"$f":"IF(L172=0,\"\",L173/L172-1)","v":6.0537548993078172E-3},6.0537548993078172E-3,null,null,null,2019,{"$f":"IF(R172=\"\",\"\",IF(R172=0,\"\",R173/R172-1))","v":""},""]
[null,null,null,2020,null,null,"",null,null,null,2020,{"$f":"IF(L173=0,\"\",L174/L173-1)","v":-6.0338133023284057E-2},-6.0338133023284057E-2,null,null,null,2020,{"$f":"IF(R173=\"\",\"\",IF(R173=0,\"\",R174/R173-1))","v":""},""]
[null,null,null,2021,null,null,"",null,null,null,2021,{"$f":"IF(K175=\"Forecast\",\"\",IF(L174=0,\"\",L175/L174-1))","v":""},{"$f":"IF(M174=0,\"\",M175/M174-1)","v":1.6685601622405066E-2},null,null,null,2021,{"$f":"IF(Q175=\"Forecast\",\"\",IF(R174=0,\"\",R175/R174-1))","v":""},{"$f":"IF(S174=\"\",\"\",IF(S174=0,\"\",S175/S174-1))","v":""}]
[null,null,null,2022,null,null,"",null,{"$f":"IF(I177=0,\"\",G176/I177-1)","v":""},null,2022,{"$f":"IF(K176=\"Forecast\",\"\",IF(L175=0,\"\",L176/L175-1))","v":""},{"$f":"IF(M175=0,\"\",M176/M175-1)","v":-1.8178930174334029E-3},null,{"$f":"IF(O177=0,\"\",M176/O177-1)","v":""},null,2022,{"$f":"IF(Q176=\"Forecast\",\"\",IF(R175=0,\"\",R176/R175-1))","v":""},{"$f":"IF(S175=\"\",\"\",IF(S175=0,\"\",S176/S175-1))","v":""},null,{"$f":"IF(U177=0,\"\",S176/U177-1)","v":""}]
[null,null,null,"Geometric Mean",null,null,{"$f":"IF(G170=0,\"\",(G176/G170)^(1/($D176-$D170-1))-1)","v":""},null,{"$f":"IF(I177=0,\"\",(G176/I177)^(1/(TestYear-RebaseYear-1))-1)","v":""},null,"Geometric Mean",{"$f":"IF(L170=0,\"\",(L174/L170)^(1/($D174-$D170-1))-1)","v":-9.927632413417764E-3},{"$f":"IF(M170=0,\"\",(M176/M170)^(1/($D176-$D170-1))-1)","v":-3.0360500352595299E-3},null,{"$f":"IF(O177=0,\"\",(M176/O177)^(1/(TestYear-RebaseYear-1))-1)","v":""},null,"Geometric Mean",{"$f":"IF(R170=\"\",\"\",IF(R170=0,\"\",(R174/R170)^(1/($D174-$D170-1))-1))","v":""},{"$f":"IF(S170=\"\",\"\",IF(S170=0,\"\",(S176/S170)^(1/($D176-$D170-1))-1))","v":""},null,{"$f":"IF(U177=0,\"\",(S176/U177)^(1/(TestYear-RebaseYear-1))-1)","v":""}]
[]
[null,4,"Customer Class:","Sentinel",null,null,null,null,null,null,"Is the customer class billed on consumption (kWh) or demand (kW or kVA)?",null,null,null,null,null,"kW"]
[]
[null,null,null,"Calendar Year",null,"Customers",null,null,null,null,"Consumption (kWh) (3)",null,null,null,null,null,{"$f":"CONCATENATE(\"Consumption (kWh) per \",LEFT(F190,LEN(F190)-1))","v":"Consumption (kWh) per Customer"}]
[null,null,null,{"$f":"CONCATENATE(\"(for \",TestYear,\" Cost of Service\")","v":"(for 2022 Cost of Service"},null,null,null,null,null,null,null,"Actual (Weather actual)","Weather-normalized",null,"Weather-normalized",null,null,{"$f":"L191","v":"Actual (Weather actual)"},{"$f":"M191","v":"Weather-normalized"},null,{"$f":"O191","v":"Weather-normalized"}]
[null,null,"Historical",{"$f":"D193-1","v":2016},null,{"$f":"$K$39","v":"Actual"},182.25,{"$f":"IF(D192=RebaseYear,\"OEB-approved\",\"\")","v":"OEB-approved"},null,null,{"$f":"F192","v":"Actual"},217806,217806,{"$f":"H192","v":"OEB-approved"},null,null,{"$f":"K192","v":"Actual"},{"$f":"IF(G192=0,\"\",L192/G192)","v":1195.0946502057614},{"$f":"IF(G192=0,\"\",M192/G192)","v":1195.0946502057614},{"$f":"N192","v":"OEB-approved"},{"$f":"IF(T192=\"\",\"\",IF(I192=0,\"\",O192/I192))","v":""}]
[null,null,"Historical",2017,null,{"$f":"$K$40","v":"Actual"},178,"",null,null,{"$f":"F193","v":"Actual"},203681,203681,{"$f":"H193","v":""},null,null,{"$f":"K193","v":"Actual"},{"$f":"IF(G193=0,\"\",L193/G193)","v":1144.2752808988764},{"$f":"IF(G193=0,\"\",M193/G193)","v":1144.2752808988764},{"$f":"N193","v":""},{"$f":"IF(T193=\"\",\"\",IF(I193=0,\"\",O193/I193))","v":""}]
[null,null,"Historical",2018,null,{"$f":"$K$41","v":"Actual"},178,"",null,null,"Actual",203849,203849,{"$f":"H194","v":""},null,null,"Actual",1145.2191011235955,1145.2191011235955,{"$f":"N194","v":""},{"$f":"IF(T194=\"\",\"\",IF(I194=0,\"\",O194/I194))","v":""}]
[null,null,"Historical",2019,null,{"$f":"$K$42","v":"Actual"},175,"",null,null,"Actual",211785,211785,"",null,null,"Actual",1210.2,1210.2,"",""]
[null,null,"Historical",2020,null,{"$f":"$K$43","v":"Actual"},171,"",null,null,"Actual",199124,199124,"",null,null,"Actual",1164.46783625731,1164.46783625731,"",""]
[null,null,"Bridge Year",{"$f":"D198-1","v":2021},null,{"$f":"$K$44","v":"Forecast"},168.72838374801009,"",null,null,"Forecast",null,198286.96413912432,"",null,null,"Forecast",0,1175.1843983479325,"",""]
[null,null,"Test Year",{"$f":"TestYear","v":2022},null,{"$f":"$K$45","v":"Forecast"},166.48694434044302,"",null,null,"Forecast",null,194767.07720174341,"",null,null,"Forecast",0,1169.8639672518188,"",""]
[null,null,null,null,null,null,null,null,{"$f":"SUM(I192:I197)","v":0},null,null,null,null,null,{"$f":"SUM(O192:O197)","v":0},null,null,null,null,null,{"$f":"SUM(U192:U197)","v":0}]
[null,null,"Variance Analysis","Year",null,null,"Year-over-year",null,"Test Year Versus OEB-approved",null,"Year","Year-over-year",null,null,{"$f":"I200","v":"Test Year Versus OEB-approved"},null,"Year","Year-over-year",null,null,{"$f":"O200","v":"Test Year Versus OEB-approved"}]
[null,null,null,{"$f":"D192","v":2016},null,null,null,null,null,null,{"$f":"D201","v":2016},null,null,null,null,null,{"$f":"K201","v":2016}]
[null,null,null,2017,null,null,{"$f":"IF(G192=0,\"\",G193/G192-1)","v":-2.3319615912208547E-2},null,null,null,{"$f":"D202","v":2017},{"$f":"IF(L192=0,\"\",L193/L192-1)","v":-6.4851289679806801E-2},-6.4851289679806801E-2,null,null,null,{"$f":"K202","v":2017},{"$f":"IF(R192=\"\",\"\",IF(R192=0,\"\",R193/R192-1))","v":-4.2523300809802156E-2},{"$f":"IF(S192=\"\",\"\",IF(S192=0,\"\",S193/S192-1))","v":-4.2523300809802156E-2}]
[null,null,null,2018,null,null,0,null,null,null,2018,{"$f":"IF(L193=0,\"\",L194/L193-1)","v":8.248192025765988E-4},8.248192025765988E-4,null,null,null,2018,{"$f":"IF(R193=\"\",\"\",IF(R193=0,\"\",R194/R193-1))","v":8.248192025765988E-4},8.248192025765988E-4]
[null,null,null,2019,null,null,-1.6853932584269704E-2,null,null,null,2019,{"$f":"IF(L194=0,\"\",L195/L194-1)","v":3.893077719292215E-2},3.893077719292215E-2,null,null,null,2019,{"$f":"IF(R194=\"\",\"\",IF(R194=0,\"\",R195/R194-1))","v":5.6741019087658051E-2},5.6741019087658051E-2]
[null,null,null,2020,null,null,-2.2857142857142909E-2,null,null,null,2020,{"$f":"IF(L195=0,\"\",L196/L195-1)","v":-5.9782326415940723E-2},-5.9782326415940723E-2,null,null,null,2020,{"$f":"IF(R195=\"\",\"\",IF(R195=0,\"\",R196/R195-1))","v":-3.778893054262944E-2},-3.778893054262944E-2]
[null,null,null,2021,null,null,-1.3284305567192511E-2,null,null,null,2021,{"$f":"IF(K197=\"Forecast\",\"\",IF(L196=0,\"\",L197/L196-1))","v":""},{"$f":"IF(M196=0,\"\",M197/M196-1)","v":-4.2035910331034154E-3},null,null,null,2021,{"$f":"IF(Q197=\"Forecast\",\"\",IF(R196=0,\"\",R197/R196-1))","v":""},{"$f":"IF(S196=\"\",\"\",IF(S196=0,\"\",S197/S196-1))","v":9.2029695943054435E-3}]
[null,null,null,2022,null,null,-1.32843055671924E-2,null,{"$f":"IF(I199=0,\"\",G198/I199-1)","v":""},null,2022,{"$f":"IF(K198=\"Forecast\",\"\",IF(L197=0,\"\",L198/L197-1))","v":""},{"$f":"IF(M197=0,\"\",M198/M197-1)","v":-1.7751479289940919E-2},null,{"$f":"IF(O199=0,\"\",M198/O199-1)","v":""},null,2022,{"$f":"IF(Q198=\"Forecast\",\"\",IF(R197=0,\"\",R198/R197-1))","v":""},{"$f":"IF(S197=\"\",\"\",IF(S197=0,\"\",S198/S197-1))","v":-4.5273159715131239E-3},null,{"$f":"IF(U199=0,\"\",S198/U199-1)","v":""}]
[null,null,null,"Geometric Mean",null,null,{"$f":"IF(G192=0,\"\",(G198/G192)^(1/($D198-$D192-1))-1)","v":-1.7929808800783875E-2},null,{"$f":"IF(I199=0,\"\",(G198/I199)^(1/(TestYear-RebaseYear-1))-1)","v":""},null,"Geometric Mean",{"$f":"IF(L192=0,\"\",(L196/L192)^(1/($D196-$D192-1))-1)","v":-2.9449980099581441E-2},{"$f":"IF(M192=0,\"\",(M198/M192)^(1/($D198-$D192-1))-1)","v":-2.2111944249739279E-2},null,{"$f":"IF(O199=0,\"\",(M198/O199)^(1/(TestYear-RebaseYear-1))-1)","v":""},null,"Geometric Mean",{"$f":"IF(R192=\"\",\"\",IF(R192=0,\"\",(R196/R192)^(1/($D196-$D192-1))-1))","v":-8.6163967972799904E-3},{"$f":"IF(S192=\"\",\"\",IF(S192=0,\"\",(S198/S192)^(1/($D198-$D192-1))-1))","v":-4.2584893487588316E-3},null,{"$f":"IF(U199=0,\"\",(S198/U199)^(1/(TestYear-RebaseYear-1))-1)","v":""}]
[]
[]
[null,null,null,"Calendar Year",null,"Revenues",null,null,null,null,{"$f":"IF(ISBLANK(Q188),\"\",CONCATENATE(\"Demand (\",Q188,\")\"))","v":"Demand (kW)"},null,null,null,null,null,{"$f":"CONCATENATE(\"Demand (\",Q188,\") per \",LEFT(F190,LEN(F190)-1))","v":"Demand (kW) per Customer"}]
[null,null,null,{"$f":"CONCATENATE(\"(for \",TestYear,\" Cost of Service\")","v":"(for 2022 Cost of Service"},null,null,null,null,null,null,null,"Actual (Weather actual)","Weather-normalized",null,{"$f":"M212","v":"Weather-normalized"},null,null,{"$f":"L212","v":"Actual (Weather actual)"},{"$f":"M212","v":"Weather-normalized"},null,{"$f":"O212","v":"Weather-normalized"}]
[null,null,"Historical",{"$f":"D214-1","v":2016},null,{"$f":"F192","v":"Actual"},null,{"$f":"IF(D213=RebaseYear,\"OEB-approved\",\"\")","v":"OEB-approved"},null,null,{"$f":"K192","v":"Actual"},629,629,{"$f":"N192","v":"OEB-approved"},null,null,{"$f":"K213","v":"Actual"},{"$f":"IF(G213=0,\"\",L213/G213)","v":""},{"$f":"IF(G213=0,\"\",M213/G213)","v":""},{"$f":"N213","v":"OEB-approved"},{"$f":"IF(T213=\"\",\"\",IF(I213=0,\"\",O213/I213))","v":""}]
[null,null,"Historical",2017,null,"Actual",null,"",null,null,"Actual",546,546,"",null,null,{"$f":"K214","v":"Actual"},{"$f":"IF(G214=0,\"\",L214/G214)","v":""},{"$f":"IF(G214=0,\"\",M214/G214)","v":""},{"$f":"N214","v":""},{"$f":"IF(T214=\"\",\"\",IF(I214=0,\"\",O214/I214))","v":""}]
[null,null,"Historical",2018,null,"Actual",null,"",null,null,"Actual",529,529,"",null,null,"Actual","","","",""]
[null,null,"Historical",2019,null,"Actual",null,"",null,null,"Actual",517,517,"",null,null,"Actual","","","",""]
[null,null,"Historical",2020,null,"Actual",null,"",null,null,"Actual",516,516,"",null,null,"Actual","","","",""]
[null,null,"Bridge Year (Forecast)",2021,null,"Forecast",null,"",null,null,"Forecast",null,503.83066899458379,"",null,null,"Forecast","","","",""]
[null,null,"Test Year (Forecast)",{"$f":"TestYear","v":2022},null,"Forecast",null,"",null,null,"Forecast",null,494.88692930828944,"",null,null,"Forecast","","","",""]
[null,null,null,null,null,null,null,null,{"$f":"SUM(I213:I218)","v":0},null,null,null,null,null,{"$f":"SUM(O213:O218)","v":0},null,null,null,null,null,{"$f":"SUM(U213:U218)","v":0}]
[null,null,"Variance Analysis","Year",null,null,"Year-over-year",null,{"$f":"I200","v":"Test Year Versus OEB-approved"},null,"Year","Year-over-year",null,null,{"$f":"I221","v":"Test Year Versus OEB-approved"},null,"Year","Year-over-year",null,null,{"$f":"O221","v":"Test Year Versus OEB-approved"}]
[null,null,null,{"$f":"D213","v":2016},null,null,null,null,null,null,{"$f":"D222","v":2016},null,null,null,null,null,{"$f":"K222","v":2016}]
[null,null,null,2017,null,null,{"$f":"IF(G213=0,\"\",G214/G213-1)","v":""},null,null,null,{"$f":"D223","v":2017},{"$f":"IF(L213=0,\"\",L214/L213-1)","v":-0.13195548489666131},-0.13195548489666131,null,null,null,{"$f":"K223","v":2017},{"$f":"IF(R213=\"\",\"\",IF(R213=0,\"\",R214/R213-1))","v":""},{"$f":"IF(S213=\"\",\"\",IF(S213=0,\"\",S214/S213-1))","v":""}]
[null,null,null,2018,null,null,"",null,null,null,2018,{"$f":"IF(L214=0,\"\",L215/L214-1)","v":-3.1135531135531136E-2},-3.1135531135531136E-2,null,null,null,2018,{"$f":"IF(R214=\"\",\"\",IF(R214=0,\"\",R215/R214-1))","v":""},""]
[null,null,null,2019,null,null,"",null,null,null,2019,{"$f":"IF(L215=0,\"\",L216/L215-1)","v":-2.2684310018903586E-2},-2.2684310018903586E-2,null,null,null,2019,{"$f":"IF(R215=\"\",\"\",IF(R215=0,\"\",R216/R215-1))","v":""},""]
[null,null,null,2020,null,null,"",null,null,null,2020,{"$f":"IF(L216=0,\"\",L217/L216-1)","v":-1.9342359767892114E-3},-1.9342359767892114E-3,null,null,null,2020,{"$f":"IF(R216=\"\",\"\",IF(R216=0,\"\",R217/R216-1))","v":""},""]
[null,null,null,2021,null,null,"",null,null,null,2021,{"$f":"IF(K218=\"Forecast\",\"\",IF(L217=0,\"\",L218/L217-1))","v":""},{"$f":"IF(M217=0,\"\",M218/M217-1)","v":-2.358397481669805E-2},null,null,null,2021,{"$f":"IF(Q218=\"Forecast\",\"\",IF(R217=0,\"\",R218/R217-1))","v":""},{"$f":"IF(S217=\"\",\"\",IF(S217=0,\"\",S218/S217-1))","v":""}]
[null,null,null,2022,null,null,"",null,{"$f":"IF(I220=0,\"\",G219/I220-1)","v":""},null,2022,{"$f":"IF(K219=\"Forecast\",\"\",IF(L218=0,\"\",L219/L218-1))","v":""},{"$f":"IF(M218=0,\"\",M219/M218-1)","v":-1.7751479289940808E-2},null,{"$f":"IF(O220=0,\"\",M219/O220-1)","v":""},null,2022,{"$f":"IF(Q219=\"Forecast\",\"\",IF(R218=0,\"\",R219/R218-1))","v":""},{"$f":"IF(S218=\"\",\"\",IF(S218=0,\"\",S219/S218-1))","v":""},null,{"$f":"IF(U220=0,\"\",S219/U220-1)","v":""}]
[null,null,null,"Geometric Mean",null,null,{"$f":"IF(G213=0,\"\",(G219/G213)^(1/($D219-$D213-1))-1)","v":""},null,{"$f":"IF(I220=0,\"\",(G219/I220)^(1/(TestYear-RebaseYear-1))-1)","v":""},null,"Geometric Mean",{"$f":"IF(L213=0,\"\",(L217/L213)^(1/($D217-$D213-1))-1)","v":-6.3876778005818147E-2},{"$f":"IF(M213=0,\"\",(M219/M213)^(1/($D219-$D213-1))-1)","v":-4.6828457757134623E-2},null,{"$f":"IF(O220=0,\"\",(M219/O220)^(1/(TestYear-RebaseYear-1))-1)","v":""},null,"Geometric Mean",{"$f":"IF(R213=\"\",\"\",IF(R213=0,\"\",(R217/R213)^(1/($D217-$D213-1))-1))","v":""},{"$f":"IF(S213=\"\",\"\",IF(S213=0,\"\",(S219/S213)^(1/($D219-$D213-1))-1))","v":""},null,{"$f":"IF(U220=0,\"\",(S219/U220)^(1/(TestYear-RebaseYear-1))-1)","v":""}]
[]
[null,5,"Customer Class:","Street Lighting",null,null,null,null,null,null,"Is the customer class billed on consumption (kWh) or demand (kW or kVA)?",null,null,null,null,null,"kW"]
[]
[null,null,null,"Calendar Year",null,"Customers",null,null,null,null,"Consumption (kWh) (3)",null,null,null,null,null,{"$f":"CONCATENATE(\"Consumption (kWh) per \",LEFT(F233,LEN(F233)-1))","v":"Consumption (kWh) per Customer"}]
[null,null,null,{"$f":"CONCATENATE(\"(for \",TestYear,\" Cost of Service\")","v":"(for 2022 Cost of Service"},null,null,null,null,null,null,null,"Actual (Weather actual)","Weather-normalized",null,"Weather-normalized",null,null,{"$f":"L234","v":"Actual (Weather actual)"},{"$f":"M234","v":"Weather-normalized"},null,{"$f":"O234","v":"Weather-normalized"}]
[null,null,"Historical",{"$f":"D236-1","v":2016},null,{"$f":"$K$39","v":"Actual"},null,{"$f":"IF(D235=RebaseYear,\"OEB-approved\",\"\")","v":"OEB-approved"},null,null,{"$f":"F235","v":"Actual"},1307703,1307703,{"$f":"H235","v":"OEB-approved"},null,null,{"$f":"K235","v":"Actual"},{"$f":"IF(G235=0,\"\",L235/G235)","v":""},{"$f":"IF(G235=0,\"\",M235/G235)","v":""},{"$f":"N235","v":"OEB-approved"},{"$f":"IF(T235=\"\",\"\",IF(I235=0,\"\",O235/I235))","v":""}]
[null,null,"Historical",2017,null,{"$f":"$K$40","v":"Actual"},null,"",null,null,{"$f":"F236","v":"Actual"},1297582,1297582,{"$f":"H236","v":""},null,null,{"$f":"K236","v":"Actual"},{"$f":"IF(G236=0,\"\",L236/G236)","v":""},{"$f":"IF(G236=0,\"\",M236/G236)","v":""},{"$f":"N236","v":""},{"$f":"IF(T236=\"\",\"\",IF(I236=0,\"\",O236/I236))","v":""}]
[null,null,"Historical",2018,null,{"$f":"$K$41","v":"Actual"},null,"",null,null,"Actual",1110658,1110658,{"$f":"H237","v":""},null,null,"Actual","","",{"$f":"N237","v":""},{"$f":"IF(T237=\"\",\"\",IF(I237=0,\"\",O237/I237))","v":""}]
[null,null,"Historical",2019,null,{"$f":"$K$42","v":"Actual"},null,"",null,null,"Actual",1053969,1053969,"",null,null,"Actual","","","",""]
[null,null,"Historical",2020,null,{"$f":"$K$43","v":"Actual"},null,"",null,null,"Actual",1015667,1015667,"",null,null,"Actual","","","",""]
[null,null,"Bridge Year",{"$f":"D241-1","v":2021},null,{"$f":"$K$44","v":"Forecast"},null,"",null,null,"Forecast",null,1072667.1313292477,"",null,null,"Forecast","","","",""]
[null,null,"Test Year",{"$f":"TestYear","v":2022},null,{"$f":"$K$45","v":"Forecast"},null,"",null,null,"Forecast",null,1080788.9738782777,"",null,null,"Forecast","","","",""]
[null,null,null,null,null,null,null,null,{"$f":"SUM(I235:I240)","v":0},null,null,null,null,null,{"$f":"SUM(O235:O240)","v":0},null,null,null,null,null,{"$f":"SUM(U235:U240)","v":0}]
[null,null,"Variance Analysis","Year",null,null,"Year-over-year",null,"Test Year Versus OEB-approved",null,"Year","Year-over-year",null,null,{"$f":"I243","v":"Test Year Versus OEB-approved"},null,"Year","Year-over-year",null,null,{"$f":"O243","v":"Test Year Versus OEB-approved"}]
[null,null,null,{"$f":"D235","v":2016},null,null,null,null,null,null,{"$f":"D244","v":2016},null,null,null,null,null,{"$f":"K244","v":2016}]
[null,null,null,2017,null,null,{"$f":"IF(G235=0,\"\",G236/G235-1)","v":""},null,null,null,{"$f":"D245","v":2017},{"$f":"IF(L235=0,\"\",L236/L235-1)","v":-7.7395249532959953E-3},-7.7395249532959953E-3,null,null,null,{"$f":"K245","v":2017},{"$f":"IF(R235=\"\",\"\",IF(R235=0,\"\",R236/R235-1))","v":""},{"$f":"IF(S235=\"\",\"\",IF(S235=0,\"\",S236/S235-1))","v":""}]
[null,null,null,2018,null,null,"",null,null,null,2018,{"$f":"IF(L236=0,\"\",L237/L236-1)","v":-0.14405563579026215},-0.14405563579026215,null,null,null,2018,{"$f":"IF(R236=\"\",\"\",IF(R236=0,\"\",R237/R236-1))","v":""},""]
[null,null,null,2019,null,null,"",null,null,null,2019,{"$f":"IF(L237=0,\"\",L238/L237-1)","v":-5.104091448492698E-2},-5.104091448492698E-2,null,null,null,2019,{"$f":"IF(R237=\"\",\"\",IF(R237=0,\"\",R238/R237-1))","v":""},""]
[null,null,null,2020,null,null,"",null,null,null,2020,{"$f":"IF(L238=0,\"\",L239/L238-1)","v":-3.6340727288942998E-2},-3.6340727288942998E-2,null,null,null,2020,{"$f":"IF(R238=\"\",\"\",IF(R238=0,\"\",R239/R238-1))","v":""},""]
[null,null,null,2021,null,null,"",null,null,null,2021,{"$f":"IF(K240=\"Forecast\",\"\",IF(L239=0,\"\",L240/L239-1))","v":""},{"$f":"IF(M239=0,\"\",M240/M239-1)","v":5.6120885417413113E-2},null,null,null,2021,{"$f":"IF(Q240=\"Forecast\",\"\",IF(R239=0,\"\",R240/R239-1))","v":""},{"$f":"IF(S239=\"\",\"\",IF(S239=0,\"\",S240/S239-1))","v":""}]
[null,null,null,2022,null,null,"",null,{"$f":"IF(I242=0,\"\",G241/I242-1)","v":""},null,2022,{"$f":"IF(K241=\"Forecast\",\"\",IF(L240=0,\"\",L241/L240-1))","v":""},{"$f":"IF(M240=0,\"\",M241/M240-1)","v":7.5716336520588179E-3},null,{"$f":"IF(O242=0,\"\",M241/O242-1)","v":""},null,2022,{"$f":"IF(Q241=\"Forecast\",\"\",IF(R240=0,\"\",R241/R240-1))","v":""},{"$f":"IF(S240=\"\",\"\",IF(S240=0,\"\",S241/S240-1))","v":""},null,{"$f":"IF(U242=0,\"\",S241/U242-1)","v":""}]
[null,null,null,"Geometric Mean",null,null,{"$f":"IF(G235=0,\"\",(G241/G235)^(1/($D241-$D235-1))-1)","v":""},null,{"$f":"IF(I242=0,\"\",(G241/I242)^(1/(TestYear-RebaseYear-1))-1)","v":""},null,"Geometric Mean",{"$f":"IF(L235=0,\"\",(L239/L235)^(1/($D239-$D235-1))-1)","v":-8.0791410391901963E-2},{"$f":"IF(M235=0,\"\",(M241/M235)^(1/($D241-$D235-1))-1)","v":-3.7398892368165626E-2},null,{"$f":"IF(O242=0,\"\",(M241/O242)^(1/(TestYear-RebaseYear-1))-1)","v":""},null,"Geometric Mean",{"$f":"IF(R235=\"\",\"\",IF(R235=0,\"\",(R239/R235)^(1/($D239-$D235-1))-1))","v":""},{"$f":"IF(S235=\"\",\"\",IF(S235=0,\"\",(S241/S235)^(1/($D241-$D235-1))-1))","v":""},null,{"$f":"IF(U242=0,\"\",(S241/U242)^(1/(TestYear-RebaseYear-1))-1)","v":""}]
[]
[]
[null,null,null,"Calendar Year",null,"Revenues",null,null,null,null,{"$f":"IF(ISBLANK(Q231),\"\",CONCATENATE(\"Demand (\",Q231,\")\"))","v":"Demand (kW)"},null,null,null,null,null,{"$f":"CONCATENATE(\"Demand (\",Q231,\") per \",LEFT(F233,LEN(F233)-1))","v":"Demand (kW) per Customer"}]
[null,null,null,{"$f":"CONCATENATE(\"(for \",TestYear,\" Cost of Service\")","v":"(for 2022 Cost of Service"},null,null,null,null,null,null,null,"Actual (Weather actual)","Weather-normalized",null,{"$f":"M255","v":"Weather-normalized"},null,null,{"$f":"L255","v":"Actual (Weather actual)"},{"$f":"M255","v":"Weather-normalized"},null,{"$f":"O255","v":"Weather-normalized"}]
[null,null,"Historical",{"$f":"D257-1","v":2016},null,{"$f":"F235","v":"Actual"},null,{"$f":"IF(D256=RebaseYear,\"OEB-approved\",\"\")","v":"OEB-approved"},null,null,{"$f":"K235","v":"Actual"},3918,3918,{"$f":"N235","v":"OEB-approved"},null,null,{"$f":"K256","v":"Actual"},{"$f":"IF(G256=0,\"\",L256/G256)","v":""},{"$f":"IF(G256=0,\"\",M256/G256)","v":""},{"$f":"N256","v":"OEB-approved"},{"$f":"IF(T256=\"\",\"\",IF(I256=0,\"\",O256/I256))","v":""}]
[null,null,"Historical",2017,null,"Actual",null,"",null,null,"Actual",3609,3609,"",null,null,{"$f":"K257","v":"Actual"},{"$f":"IF(G257=0,\"\",L257/G257)","v":""},{"$f":"IF(G257=0,\"\",M257/G257)","v":""},{"$f":"N257","v":""},{"$f":"IF(T257=\"\",\"\",IF(I257=0,\"\",O257/I257))","v":""}]
[null,null,"Historical",2018,null,"Actual",null,"",null,null,"Actual",3152,3152,"",null,null,"Actual","","","",""]
[null,null,"Historical",2019,null,"Actual",null,"",null,null,"Actual",2923,2923,"",null,null,"Actual","","","",""]
[null,null,"Historical",2020,null,"Actual",null,"",null,null,"Actual",2832,2832,"",null,null,"Actual","","","",""]
[null,null,"Bridge Year (Forecast)",2021,null,"Forecast",null,"",null,null,"Forecast",null,3004.3083033875746,"",null,null,"Forecast","","","",""]
[null,null,"Test Year (Forecast)",{"$f":"TestYear","v":2022},null,"Forecast",null,"",null,null,"Forecast",null,3027.0558252386631,"",null,null,"Forecast","","","",""]
[null,null,null,null,null,null,null,null,{"$f":"SUM(I256:I261)","v":0},null,null,null,null,null,{"$f":"SUM(O256:O261)","v":0},null,null,null,null,null,{"$f":"SUM(U256:U261)","v":0}]
[null,null,"Variance Analysis","Year",null,null,"Year-over-year",null,{"$f":"I243","v":"Test Year Versus OEB-approved"},null,"Year","Year-over-year",null,null,{"$f":"I264","v":"Test Year Versus OEB-approved"},null,"Year","Year-over-year",null,null,{"$f":"O264","v":"Test Year Versus OEB-approved"}]
[null,null,null,{"$f":"D256","v":2016},null,null,null,null,null,null,{"$f":"D265","v":2016},null,null,null,null,null,{"$f":"K265","v":2016}]
[null,null,null,2017,null,null,{"$f":"IF(G256=0,\"\",G257/G256-1)","v":""},null,null,null,{"$f":"D266","v":2017},{"$f":"IF(L256=0,\"\",L257/L256-1)","v":-7.8866768759571215E-2},-7.8866768759571215E-2,null,null,null,{"$f":"K266","v":2017},{"$f":"IF(R256=\"\",\"\",IF(R256=0,\"\",R257/R256-1))","v":""},{"$f":"IF(S256=\"\",\"\",IF(S256=0,\"\",S257/S256-1))","v":""}]
[null,null,null,2018,null,null,"",null,null,null,2018,{"$f":"IF(L257=0,\"\",L258/L257-1)","v":-0.12662787475755055},-0.12662787475755055,null,null,null,2018,{"$f":"IF(R257=\"\",\"\",IF(R257=0,\"\",R258/R257-1))","v":""},""]
[null,null,null,2019,null,null,"",null,null,null,2019,{"$f":"IF(L258=0,\"\",L259/L258-1)","v":-7.2652284263959421E-2},-7.2652284263959421E-2,null,null,null,2019,{"$f":"IF(R258=\"\",\"\",IF(R258=0,\"\",R259/R258-1))","v":""},""]
[null,null,null,2020,null,null,"",null,null,null,2020,{"$f":"IF(L259=0,\"\",L260/L259-1)","v":-3.1132398221005775E-2},-3.1132398221005775E-2,null,null,null,2020,{"$f":"IF(R259=\"\",\"\",IF(R259=0,\"\",R260/R259-1))","v":""},""]
[null,null,null,2021,null,null,"",null,null,null,2021,{"$f":"IF(K261=\"Forecast\",\"\",IF(L260=0,\"\",L261/L260-1))","v":""},{"$f":"IF(M260=0,\"\",M261/M260-1)","v":6.0843327467363872E-2},null,null,null,2021,{"$f":"IF(Q261=\"Forecast\",\"\",IF(R260=0,\"\",R261/R260-1))","v":""},{"$f":"IF(S260=\"\",\"\",IF(S260=0,\"\",S261/S260-1))","v":""}]
[null,null,null,2022,null,null,"",null,{"$f":"IF(I263=0,\"\",G262/I263-1)","v":""},null,2022,{"$f":"IF(K262=\"Forecast\",\"\",IF(L261=0,\"\",L262/L261-1))","v":""},{"$f":"IF(M261=0,\"\",M262/M261-1)","v":7.5716336520585958E-3},null,{"$f":"IF(O263=0,\"\",M262/O263-1)","v":""},null,2022,{"$f":"IF(Q262=\"Forecast\",\"\",IF(R261=0,\"\",R262/R261-1))","v":""},{"$f":"IF(S261=\"\",\"\",IF(S261=0,\"\",S262/S261-1))","v":""},null,{"$f":"IF(U263=0,\"\",S262/U263-1)","v":""}]
[null,null,null,"Geometric Mean",null,null,{"$f":"IF(G256=0,\"\",(G262/G256)^(1/($D262-$D256-1))-1)","v":""},null,{"$f":"IF(I263=0,\"\",(G262/I263)^(1/(TestYear-RebaseYear-1))-1)","v":""},null,"Geometric Mean",{"$f":"IF(L256=0,\"\",(L260/L256)^(1/($D260-$D256-1))-1)","v":-0.10255135582363228},{"$f":"IF(M256=0,\"\",(M262/M256)^(1/($D262-$D256-1))-1)","v":-5.028958715777887E-2},null,{"$f":"IF(O263=0,\"\",(M262/O263)^(1/(TestYear-RebaseYear-1))-1)","v":""},null,"Geometric Mean",{"$f":"IF(R256=\"\",\"\",IF(R256=0,\"\",(R260/R256)^(1/($D260-$D256-1))-1))","v":""},{"$f":"IF(S256=\"\",\"\",IF(S256=0,\"\",(S262/S256)^(1/($D262-$D256-1))-1))","v":""},null,{"$f":"IF(U263=0,\"\",(S262/U263)^(1/(TestYear-RebaseYear-1))-1)","v":""}]
[]
[null,6,"Customer Class:","USL",null,null,null,null,null,null,"Is the customer class billed on consumption (kWh) or demand (kW or kVA)?",null,null,null,null,null,"kWh"]
[]
[null,null,null,"Calendar Year",null,"Customers",null,null,null,null,"Consumption (kWh) (3)",null,null,null,null,null,{"$f":"CONCATENATE(\"Consumption (kWh) per \",LEFT(F276,LEN(F276)-1))","v":"Consumption (kWh) per Customer"}]
[null,null,null,{"$f":"CONCATENATE(\"(for \",TestYear,\" Cost of Service\")","v":"(for 2022 Cost of Service"},null,null,null,null,null,null,null,"Actual (Weather actual)","Weather-normalized",null,"Weather-normalized",null,null,{"$f":"L277","v":"Actual (Weather actual)"},{"$f":"M277","v":"Weather-normalized"},null,{"$f":"O277","v":"Weather-normalized"}]
[null,null,"Historical",{"$f":"D279-1","v":2016},null,{"$f":"$K$39","v":"Actual"},null,{"$f":"IF(D278=RebaseYear,\"OEB-approved\",\"\")","v":"OEB-approved"},null,null,{"$f":"F278","v":"Actual"},594265,594265,{"$f":"H278","v":"OEB-approved"},null,null,{"$f":"K278","v":"Actual"},{"$f":"IF(G278=0,\"\",L278/G278)","v":""},{"$f":"IF(G278=0,\"\",M278/G278)","v":""},{"$f":"N278","v":"OEB-approved"},{"$f":"IF(T278=\"\",\"\",IF(I278=0,\"\",O278/I278))","v":""}]
[null,null,"Historical",2017,null,{"$f":"$K$40","v":"Actual"},null,"",null,null,{"$f":"F279","v":"Actual"},606897.73,606897.73,{"$f":"H279","v":""},null,null,{"$f":"K279","v":"Actual"},{"$f":"IF(G279=0,\"\",L279/G279)","v":""},{"$f":"IF(G279=0,\"\",M279/G279)","v":""},{"$f":"N279","v":""},{"$f":"IF(T279=\"\",\"\",IF(I279=0,\"\",O279/I279))","v":""}]
[null,null,"Historical",2018,null,{"$f":"$K$41","v":"Actual"},null,"",null,null,"Actual",605298.17000000004,605298.17000000004,{"$f":"H280","v":""},null,null,"Actual","","",{"$f":"N280","v":""},{"$f":"IF(T280=\"\",\"\",IF(I280=0,\"\",O280/I280))","v":""}]
[null,null,"Historical",2019,null,{"$f":"$K$42","v":"Actual"},null,"",null,null,"Actual",613238,613238,"",null,null,"Actual","","","",""]
[null,null,"Historical",2020,null,{"$f":"$K$43","v":"Actual"},null,"",null,null,"Actual",602100,602100,"",null,null,"Actual","","","",""]
[null,null,"Bridge Year",{"$f":"D284-1","v":2021},null,{"$f":"$K$44","v":"Forecast"},null,"",null,null,"Forecast",null,606878.7233333335,"",null,null,"Forecast","","","",""]
[null,null,"Test Year",{"$f":"TestYear","v":2022},null,{"$f":"$K$45","v":"Forecast"},null,"",null,null,"Forecast",null,606878.7233333335,"",null,null,"Forecast","","","",""]
[null,null,null,null,null,null,null,null,{"$f":"SUM(I278:I283)","v":0},null,null,null,null,null,{"$f":"SUM(O278:O283)","v":0},null,null,null,null,null,{"$f":"SUM(U278:U283)","v":0}]
[null,null,"Variance Analysis","Year",null,null,"Year-over-year",null,"Test Year Versus OEB-approved",null,"Year","Year-over-year",null,null,{"$f":"I286","v":"Test Year Versus OEB-approved"},null,"Year","Year-over-year",null,null,{"$f":"O286","v":"Test Year Versus OEB-approved"}]
[null,null,null,{"$f":"D278","v":2016},null,null,null,null,null,null,{"$f":"D287","v":2016},null,null,null,null,null,{"$f":"K287","v":2016}]
[null,null,null,2017,null,null,{"$f":"IF(G278=0,\"\",G279/G278-1)","v":""},null,null,null,{"$f":"D288","v":2017},{"$f":"IF(L278=0,\"\",L279/L278-1)","v":2.1257738550983118E-2},2.1257738550983118E-2,null,null,null,{"$f":"K288","v":2017},{"$f":"IF(R278=\"\",\"\",IF(R278=0,\"\",R279/R278-1))","v":""},{"$f":"IF(S278=\"\",\"\",IF(S278=0,\"\",S279/S278-1))","v":""}]
[null,null,null,2018,null,null,"",null,null,null,2018,{"$f":"IF(L279=0,\"\",L280/L279-1)","v":-2.6356335193409297E-3},-2.6356335193409297E-3,null,null,null,2018,{"$f":"IF(R279=\"\",\"\",IF(R279=0,\"\",R280/R279-1))","v":""},""]
[null,null,null,2019,null,null,"",null,null,null,2019,{"$f":"IF(L280=0,\"\",L281/L280-1)","v":1.3117221220080522E-2},1.3117221220080522E-2,null,null,null,2019,{"$f":"IF(R280=\"\",\"\",IF(R280=0,\"\",R281/R280-1))","v":""},""]
[null,null,null,2020,null,null,"",null,null,null,2020,{"$f":"IF(L281=0,\"\",L282/L281-1)","v":-1.8162605709365676E-2},-1.8162605709365676E-2,null,null,null,2020,{"$f":"IF(R281=\"\",\"\",IF(R281=0,\"\",R282/R281-1))","v":""},""]
[null,null,null,2021,null,null,"",null,null,null,2021,{"$f":"IF(K283=\"Forecast\",\"\",IF(L282=0,\"\",L283/L282-1))","v":""},{"$f":"IF(M282=0,\"\",M283/M282-1)","v":7.9367602280908667E-3},null,null,null,2021,{"$f":"IF(Q283=\"Forecast\",\"\",IF(R282=0,\"\",R283/R282-1))","v":""},{"$f":"IF(S282=\"\",\"\",IF(S282=0,\"\",S283/S282-1))","v":""}]
[null,null,null,2022,null,null,"",null,{"$f":"IF(I285=0,\"\",G284/I285-1)","v":""},null,2022,{"$f":"IF(K284=\"Forecast\",\"\",IF(L283=0,\"\",L284/L283-1))","v":""},{"$f":"IF(M283=0,\"\",M284/M283-1)","v":0},null,{"$f":"IF(O285=0,\"\",M284/O285-1)","v":""},null,2022,{"$f":"IF(Q284=\"Forecast\",\"\",IF(R283=0,\"\",R284/R283-1))","v":""},{"$f":"IF(S283=\"\",\"\",IF(S283=0,\"\",S284/S283-1))","v":""},null,{"$f":"IF(U285=0,\"\",S284/U285-1)","v":""}]
[null,null,null,"Geometric Mean",null,null,{"$f":"IF(G278=0,\"\",(G284/G278)^(1/($D284-$D278-1))-1)","v":""},null,{"$f":"IF(I285=0,\"\",(G284/I285)^(1/(TestYear-RebaseYear-1))-1)","v":""},null,"Geometric Mean",{"$f":"IF(L278=0,\"\",(L282/L278)^(1/($D282-$D278-1))-1)","v":4.3756106997558941E-3},{"$f":"IF(M278=0,\"\",(M284/M278)^(1/($D284-$D278-1))-1)","v":4.2095607057184292E-3},null,{"$f":"IF(O285=0,\"\",(M284/O285)^(1/(TestYear-RebaseYear-1))-1)","v":""},null,"Geometric Mean",{"$f":"IF(R278=\"\",\"\",IF(R278=0,\"\",(R282/R278)^(1/($D282-$D278-1))-1))","v":""},{"$f":"IF(S278=\"\",\"\",IF(S278=0,\"\",(S284/S278)^(1/($D284-$D278-1))-1))","v":""},null,{"$f":"IF(U285=0,\"\",(S284/U285)^(1/(TestYear-RebaseYear-1))-1)","v":""}]
[]
[]
[null,null,null,"Calendar Year",null,"Revenues",null,null,null,null,{"$f":"IF(ISBLANK(Q274),\"\",CONCATENATE(\"Demand (\",Q274,\")\"))","v":"Demand (kWh)"},null,null,null,null,null,{"$f":"CONCATENATE(\"Demand (\",Q274,\") per \",LEFT(F276,LEN(F276)-1))","v":"Demand (kWh) per Customer"}]
[null,null,null,{"$f":"CONCATENATE(\"(for \",TestYear,\" Cost of Service\")","v":"(for 2022 Cost of Service"},null,null,null,null,null,null,null,"Actual (Weather actual)","Weather-normalized",null,{"$f":"M298","v":"Weather-normalized"},null,null,{"$f":"L298","v":"Actual (Weather actual)"},{"$f":"M298","v":"Weather-normalized"},null,{"$f":"O298","v":"Weather-normalized"}]
[null,null,"Historical",{"$f":"D300-1","v":2016},null,{"$f":"F278","v":"Actual"},null,{"$f":"IF(D299=RebaseYear,\"OEB-approved\",\"\")","v":"OEB-approved"},null,null,{"$f":"K278","v":"Actual"},null,null,{"$f":"N278","v":"OEB-approved"},null,null,{"$f":"K299","v":"Actual"},{"$f":"IF(G299=0,\"\",L299/G299)","v":""},{"$f":"IF(G299=0,\"\",M299/G299)","v":""},{"$f":"N299","v":"OEB-approved"},{"$f":"IF(T299=\"\",\"\",IF(I299=0,\"\",O299/I299))","v":""}]
[null,null,"Historical",2017,null,"Actual",null,"",null,null,"Actual",null,null,"",null,null,{"$f":"K300","v":"Actual"},{"$f":"IF(G300=0,\"\",L300/G300)","v":""},{"$f":"IF(G300=0,\"\",M300/G300)","v":""},{"$f":"N300","v":""},{"$f":"IF(T300=\"\",\"\",IF(I300=0,\"\",O300/I300))","v":""}]
[null,null,"Historical",2018,null,"Actual",null,"",null,null,"Actual",null,null,"",null,null,"Actual","","","",""]
[null,null,"Historical",2019,null,"Actual",null,"",null,null,"Actual",null,null,"",null,null,"Actual","","","",""]
[null,null,"Historical",2020,null,"Actual",null,"",null,null,"Actual",null,null,"",null,null,"Actual","","","",""]
[null,null,"Bridge Year (Forecast)",2021,null,"Forecast",null,"",null,null,"Forecast",null,null,"",null,null,"Forecast","","","",""]
[null,null,"Test Year (Forecast)",{"$f":"TestYear","v":2022},null,"Forecast",null,"",null,null,"Forecast",null,null,"",null,null,"Forecast","","","",""]
[null,null,null,null,null,null,null,null,{"$f":"SUM(I299:I304)","v":0},null,null,null,null,null,{"$f":"SUM(O299:O304)","v":0},null,null,null,null,null,{"$f":"SUM(U299:U304)","v":0}]
[null,null,"Variance Analysis","Year",null,null,"Year-over-year",null,{"$f":"I286","v":"Test Year Versus OEB-approved"},null,"Year","Year-over-year",null,null,{"$f":"I307","v":"Test Year Versus OEB-approved"},null,"Year","Year-over-year",null,null,{"$f":"O307","v":"Test Year Versus OEB-approved"}]
[null,null,null,{"$f":"D299","v":2016},null,null,null,null,null,null,{"$f":"D308","v":2016},null,null,null,null,null,{"$f":"K308","v":2016}]
[null,null,null,2017,null,null,{"$f":"IF(G299=0,\"\",G300/G299-1)","v":""},null,null,null,{"$f":"D309","v":2017},{"$f":"IF(L299=0,\"\",L300/L299-1)","v":""},"",null,null,null,{"$f":"K309","v":2017},{"$f":"IF(R299=\"\",\"\",IF(R299=0,\"\",R300/R299-1))","v":""},{"$f":"IF(S299=\"\",\"\",IF(S299=0,\"\",S300/S299-1))","v":""}]
[null,null,null,2018,null,null,"",null,null,null,2018,{"$f":"IF(L300=0,\"\",L301/L300-1)","v":""},"",null,null,null,2018,{"$f":"IF(R300=\"\",\"\",IF(R300=0,\"\",R301/R300-1))","v":""},""]
[null,null,null,2019,null,null,"",null,null,null,2019,{"$f":"IF(L301=0,\"\",L302/L301-1)","v":""},"",null,null,null,2019,{"$f":"IF(R301=\"\",\"\",IF(R301=0,\"\",R302/R301-1))","v":""},""]
[null,null,null,2020,null,null,"",null,null,null,2020,{"$f":"IF(L302=0,\"\",L303/L302-1)","v":""},"",null,null,null,2020,{"$f":"IF(R302=\"\",\"\",IF(R302=0,\"\",R303/R302-1))","v":""},""]
[null,null,null,2021,null,null,"",null,null,null,2021,{"$f":"IF(K304=\"Forecast\",\"\",IF(L303=0,\"\",L304/L303-1))","v":""},{"$f":"IF(M303=0,\"\",M304/M303-1)","v":""},null,null,null,2021,{"$f":"IF(Q304=\"Forecast\",\"\",IF(R303=0,\"\",R304/R303-1))","v":""},{"$f":"IF(S303=\"\",\"\",IF(S303=0,\"\",S304/S303-1))","v":""}]
[null,null,null,2022,null,null,"",null,{"$f":"IF(I306=0,\"\",G305/I306-1)","v":""},null,2022,{"$f":"IF(K305=\"Forecast\",\"\",IF(L304=0,\"\",L305/L304-1))","v":""},{"$f":"IF(M304=0,\"\",M305/M304-1)","v":""},null,{"$f":"IF(O306=0,\"\",M305/O306-1)","v":""},null,2022,{"$f":"IF(Q305=\"Forecast\",\"\",IF(R304=0,\"\",R305/R304-1))","v":""},{"$f":"IF(S304=\"\",\"\",IF(S304=0,\"\",S305/S304-1))","v":""},null,{"$f":"IF(U306=0,\"\",S305/U306-1)","v":""}]
[null,null,null,"Geometric Mean",null,null,{"$f":"IF(G299=0,\"\",(G305/G299)^(1/($D305-$D299-1))-1)","v":""},null,{"$f":"IF(I306=0,\"\",(G305/I306)^(1/(TestYear-RebaseYear-1))-1)","v":""},null,"Geometric Mean",{"$f":"IF(L299=0,\"\",(L303/L299)^(1/($D303-$D299-1))-1)","v":""},{"$f":"IF(M299=0,\"\",(M305/M299)^(1/($D305-$D299-1))-1)","v":""},null,{"$f":"IF(O306=0,\"\",(M305/O306)^(1/(TestYear-RebaseYear-1))-1)","v":""},null,"Geometric Mean",{"$f":"IF(R299=\"\",\"\",IF(R299=0,\"\",(R303/R299)^(1/($D303-$D299-1))-1))","v":""},{"$f":"IF(S299=\"\",\"\",IF(S299=0,\"\",(S305/S299)^(1/($D305-$D299-1))-1))","v":""},null,{"$f":"IF(U306=0,\"\",(S305/U306)^(1/(TestYear-RebaseYear-1))-1)","v":""}]
[]
[null,7,"Customer Class:",null,null,null,null,null,null,null,"Is the customer class billed on consumption (kWh) or demand (kW or kVA)?",null,null,null,null,null,"kWh"]
[]
[null,null,null,"Calendar Year",null,"Customers",null,null,null,null,"Consumption (kWh) (3)",null,null,null,null,null,{"$f":"CONCATENATE(\"Consumption (kWh) per \",LEFT(F319,LEN(F319)-1))","v":"Consumption (kWh) per Customer"}]
[null,null,null,{"$f":"CONCATENATE(\"(for \",TestYear,\" Cost of Service\")","v":"(for 2022 Cost of Service"},null,null,null,null,null,null,null,"Actual (Weather actual)","Weather-normalized",null,"Weather-normalized",null,null,{"$f":"L320","v":"Actual (Weather actual)"},{"$f":"M320","v":"Weather-normalized"},null,{"$f":"O320","v":"Weather-normalized"}]
[null,null,"Historical",{"$f":"D322-1","v":2016},null,{"$f":"$K$39","v":"Actual"},null,{"$f":"IF(D321=RebaseYear,\"OEB-approved\",\"\")","v":"OEB-approved"},null,null,{"$f":"F321","v":"Actual"},null,null,{"$f":"H321","v":"OEB-approved"},null,null,{"$f":"K321","v":"Actual"},{"$f":"IF(G321=0,\"\",L321/G321)","v":""},{"$f":"IF(G321=0,\"\",M321/G321)","v":""},{"$f":"N321","v":"OEB-approved"},{"$f":"IF(T321=\"\",\"\",IF(I321=0,\"\",O321/I321))","v":""}]
[null,null,"Historical",2017,null,{"$f":"$K$40","v":"Actual"},null,"",null,null,{"$f":"F322","v":"Actual"},null,null,{"$f":"H322","v":""},null,null,{"$f":"K322","v":"Actual"},{"$f":"IF(G322=0,\"\",L322/G322)","v":""},{"$f":"IF(G322=0,\"\",M322/G322)","v":""},{"$f":"N322","v":""},{"$f":"IF(T322=\"\",\"\",IF(I322=0,\"\",O322/I322))","v":""}]
[null,null,"Historical",2018,null,{"$f":"$K$41","v":"Actual"},null,"",null,null,"Actual",null,null,{"$f":"H323","v":""},null,null,"Actual","","",{"$f":"N323","v":""},{"$f":"IF(T323=\"\",\"\",IF(I323=0,\"\",O323/I323))","v":""}]
[null,null,"Historical",2019,null,{"$f":"$K$42","v":"Actual"},null,"",null,null,"Actual",null,null,"",null,null,"Actual","","","",""]
[null,null,"Historical",2020,null,{"$f":"$K$43","v":"Actual"},null,"",null,null,"Actual",null,null,"",null,null,"Actual","","","",""]
[null,null,"Bridge Year",{"$f":"D327-1","v":2021},null,{"$f":"$K$44","v":"Forecast"},null,"",null,null,"Forecast",null,null,"",null,null,"Forecast","","","",""]
[null,null,"Test Year",{"$f":"TestYear","v":2022},null,{"$f":"$K$45","v":"Forecast"},null,"",null,null,"Forecast",null,null,"",null,null,"Forecast","","","",""]
[null,null,null,null,null,null,null,null,{"$f":"SUM(I321:I326)","v":0},null,null,null,null,null,{"$f":"SUM(O321:O326)","v":0},null,null,null,null,null,{"$f":"SUM(U321:U326)","v":0}]
[null,null,"Variance Analysis","Year",null,null,"Year-over-year",null,"Test Year Versus OEB-approved",null,"Year","Year-over-year",null,null,{"$f":"I329","v":"Test Year Versus OEB-approved"},null,"Year","Year-over-year",null,null,{"$f":"O329","v":"Test Year Versus OEB-approved"}]
[null,null,null,{"$f":"D321","v":2016},null,null,null,null,null,null,{"$f":"D330","v":2016},null,null,null,null,null,{"$f":"K330","v":2016}]
[null,null,null,2017,null,null,{"$f":"IF(G321=0,\"\",G322/G321-1)","v":""},null,null,null,{"$f":"D331","v":2017},{"$f":"IF(L321=0,\"\",L322/L321-1)","v":""},"",null,null,null,{"$f":"K331","v":2017},{"$f":"IF(R321=\"\",\"\",IF(R321=0,\"\",R322/R321-1))","v":""},{"$f":"IF(S321=\"\",\"\",IF(S321=0,\"\",S322/S321-1))","v":""}]
[null,null,null,2018,null,null,"",null,null,null,2018,{"$f":"IF(L322=0,\"\",L323/L322-1)","v":""},"",null,null,null,2018,{"$f":"IF(R322=\"\",\"\",IF(R322=0,\"\",R323/R322-1))","v":""},""]
[null,null,null,2019,null,null,"",null,null,null,2019,{"$f":"IF(L323=0,\"\",L324/L323-1)","v":""},"",null,null,null,2019,{"$f":"IF(R323=\"\",\"\",IF(R323=0,\"\",R324/R323-1))","v":""},""]
[null,null,null,2020,null,null,"",null,null,null,2020,{"$f":"IF(L324=0,\"\",L325/L324-1)","v":""},"",null,null,null,2020,{"$f":"IF(R324=\"\",\"\",IF(R324=0,\"\",R325/R324-1))","v":""},""]
[null,null,null,2021,null,null,"",null,null,null,2021,{"$f":"IF(K326=\"Forecast\",\"\",IF(L325=0,\"\",L326/L325-1))","v":""},{"$f":"IF(M325=0,\"\",M326/M325-1)","v":""},null,null,null,2021,{"$f":"IF(Q326=\"Forecast\",\"\",IF(R325=0,\"\",R326/R325-1))","v":""},{"$f":"IF(S325=\"\",\"\",IF(S325=0,\"\",S326/S325-1))","v":""}]
[null,null,null,2022,null,null,"",null,{"$f":"IF(I328=0,\"\",G327/I328-1)","v":""},null,2022,{"$f":"IF(K327=\"Forecast\",\"\",IF(L326=0,\"\",L327/L326-1))","v":""},{"$f":"IF(M326=0,\"\",M327/M326-1)","v":""},null,{"$f":"IF(O328=0,\"\",M327/O328-1)","v":""},null,2022,{"$f":"IF(Q327=\"Forecast\",\"\",IF(R326=0,\"\",R327/R326-1))","v":""},{"$f":"IF(S326=\"\",\"\",IF(S326=0,\"\",S327/S326-1))","v":""},null,{"$f":"IF(U328=0,\"\",S327/U328-1)","v":""}]
[null,null,null,"Geometric Mean",null,null,{"$f":"IF(G321=0,\"\",(G327/G321)^(1/($D327-$D321-1))-1)","v":""},null,{"$f":"IF(I328=0,\"\",(G327/I328)^(1/(TestYear-RebaseYear-1))-1)","v":""},null,"Geometric Mean",{"$f":"IF(L321=0,\"\",(L325/L321)^(1/($D325-$D321-1))-1)","v":""},{"$f":"IF(M321=0,\"\",(M327/M321)^(1/($D327-$D321-1))-1)","v":""},null,{"$f":"IF(O328=0,\"\",(M327/O328)^(1/(TestYear-RebaseYear-1))-1)","v":""},null,"Geometric Mean",{"$f":"IF(R321=\"\",\"\",IF(R321=0,\"\",(R325/R321)^(1/($D325-$D321-1))-1))","v":""},{"$f":"IF(S321=\"\",\"\",IF(S321=0,\"\",(S327/S321)^(1/($D327-$D321-1))-1))","v":""},null,{"$f":"IF(U328=0,\"\",(S327/U328)^(1/(TestYear-RebaseYear-1))-1)","v":""}]
[]
[]
[null,null,null,"Calendar Year",null,"Revenues",null,null,null,null,{"$f":"IF(ISBLANK(Q317),\"\",CONCATENATE(\"Demand (\",Q317,\")\"))","v":"Demand (kWh)"},null,null,null,null,null,{"$f":"CONCATENATE(\"Demand (\",Q317,\") per \",LEFT(F319,LEN(F319)-1))","v":"Demand (kWh) per Customer"}]
[null,null,null,{"$f":"CONCATENATE(\"(for \",TestYear,\" Cost of Service\")","v":"(for 2022 Cost of Service"},null,null,null,null,null,null,null,"Actual (Weather actual)","Weather-normalized",null,{"$f":"M341","v":"Weather-normalized"},null,null,{"$f":"L341","v":"Actual (Weather actual)"},{"$f":"M341","v":"Weather-normalized"},null,{"$f":"O341","v":"Weather-normalized"}]
[null,null,"Historical",{"$f":"D343-1","v":2016},null,{"$f":"F321","v":"Actual"},null,{"$f":"IF(D342=RebaseYear,\"OEB-approved\",\"\")","v":"OEB-approved"},null,null,{"$f":"K321","v":"Actual"},null,null,{"$f":"N321","v":"OEB-approved"},null,null,{"$f":"K342","v":"Actual"},{"$f":"IF(G342=0,\"\",L342/G342)","v":""},{"$f":"IF(G342=0,\"\",M342/G342)","v":""},{"$f":"N342","v":"OEB-approved"},{"$f":"IF(T342=\"\",\"\",IF(I342=0,\"\",O342/I342))","v":""}]
[null,null,"Historical",2017,null,"Actual",null,"",null,null,"Actual",null,null,"",null,null,{"$f":"K343","v":"Actual"},{"$f":"IF(G343=0,\"\",L343/G343)","v":""},{"$f":"IF(G343=0,\"\",M343/G343)","v":""},{"$f":"N343","v":""},{"$f":"IF(T343=\"\",\"\",IF(I343=0,\"\",O343/I343))","v":""}]
[null,null,"Historical",2018,null,"Actual",null,"",null,null,"Actual",null,null,"",null,null,"Actual","","","",""]
[null,null,"Historical",2019,null,"Actual",null,"",null,null,"Actual",null,null,"",null,null,"Actual","","","",""]
[null,null,"Historical",2020,null,"Actual",null,"",null,null,"Actual",null,null,"",null,null,"Actual","","","",""]
[null,null,"Bridge Year (Forecast)",2021,null,"Forecast",null,"",null,null,"Forecast",null,null,"",null,null,"Forecast","","","",""]
[null,null,"Test Year (Forecast)",{"$f":"TestYear","v":2022},null,"Forecast",null,"",null,null,"Forecast",null,null,"",null,null,"Forecast","","","",""]
[null,null,null,null,null,null,null,null,{"$f":"SUM(I342:I347)","v":0},null,null,null,null,null,{"$f":"SUM(O342:O347)","v":0},null,null,null,null,null,{"$f":"SUM(U342:U347)","v":0}]
[null,null,"Variance Analysis","Year",null,null,"Year-over-year",null,{"$f":"I329","v":"Test Year Versus OEB-approved"},null,"Year","Year-over-year",null,null,{"$f":"I350","v":"Test Year Versus OEB-approved"},null,"Year","Year-over-year",null,null,{"$f":"O350","v":"Test Year Versus OEB-approved"}]
[null,null,null,{"$f":"D342","v":2016},null,null,null,null,null,null,{"$f":"D351","v":2016},null,null,null,null,null,{"$f":"K351","v":2016}]
[null,null,null,2017,null,null,{"$f":"IF(G342=0,\"\",G343/G342-1)","v":""},null,null,null,{"$f":"D352","v":2017},{"$f":"IF(L342=0,\"\",L343/L342-1)","v":""},"",null,null,null,{"$f":"K352","v":2017},{"$f":"IF(R342=\"\",\"\",IF(R342=0,\"\",R343/R342-1))","v":""},{"$f":"IF(S342=\"\",\"\",IF(S342=0,\"\",S343/S342-1))","v":""}]
[null,null,null,2018,null,null,"",null,null,null,2018,{"$f":"IF(L343=0,\"\",L344/L343-1)","v":""},"",null,null,null,2018,{"$f":"IF(R343=\"\",\"\",IF(R343=0,\"\",R344/R343-1))","v":""},""]
[null,null,null,2019,null,null,"",null,null,null,2019,{"$f":"IF(L344=0,\"\",L345/L344-1)","v":""},"",null,null,null,2019,{"$f":"IF(R344=\"\",\"\",IF(R344=0,\"\",R345/R344-1))","v":""},""]
[null,null,null,2020,null,null,"",null,null,null,2020,{"$f":"IF(L345=0,\"\",L346/L345-1)","v":""},"",null,null,null,2020,{"$f":"IF(R345=\"\",\"\",IF(R345=0,\"\",R346/R345-1))","v":""},""]
[null,null,null,2021,null,null,"",null,null,null,2021,{"$f":"IF(K347=\"Forecast\",\"\",IF(L346=0,\"\",L347/L346-1))","v":""},{"$f":"IF(M346=0,\"\",M347/M346-1)","v":""},null,null,null,2021,{"$f":"IF(Q347=\"Forecast\",\"\",IF(R346=0,\"\",R347/R346-1))","v":""},{"$f":"IF(S346=\"\",\"\",IF(S346=0,\"\",S347/S346-1))","v":""}]
[null,null,null,2022,null,null,"",null,{"$f":"IF(I349=0,\"\",G348/I349-1)","v":""},null,2022,{"$f":"IF(K348=\"Forecast\",\"\",IF(L347=0,\"\",L348/L347-1))","v":""},{"$f":"IF(M347=0,\"\",M348/M347-1)","v":""},null,{"$f":"IF(O349=0,\"\",M348/O349-1)","v":""},null,2022,{"$f":"IF(Q348=\"Forecast\",\"\",IF(R347=0,\"\",R348/R347-1))","v":""},{"$f":"IF(S347=\"\",\"\",IF(S347=0,\"\",S348/S347-1))","v":""},null,{"$f":"IF(U349=0,\"\",S348/U349-1)","v":""}]
[null,null,null,"Geometric Mean",null,null,{"$f":"IF(G342=0,\"\",(G348/G342)^(1/($D348-$D342-1))-1)","v":""},null,{"$f":"IF(I349=0,\"\",(G348/I349)^(1/(TestYear-RebaseYear-1))-1)","v":""},null,"Geometric Mean",{"$f":"IF(L342=0,\"\",(L346/L342)^(1/($D346-$D342-1))-1)","v":""},{"$f":"IF(M342=0,\"\",(M348/M342)^(1/($D348-$D342-1))-1)","v":""},null,{"$f":"IF(O349=0,\"\",(M348/O349)^(1/(TestYear-RebaseYear-1))-1)","v":""},null,"Geometric Mean",{"$f":"IF(R342=\"\",\"\",IF(R342=0,\"\",(R346/R342)^(1/($D346-$D342-1))-1))","v":""},{"$f":"IF(S342=\"\",\"\",IF(S342=0,\"\",(S348/S342)^(1/($D348-$D342-1))-1))","v":""},null,{"$f":"IF(U349=0,\"\",(S348/U349)^(1/(TestYear-RebaseYear-1))-1)","v":""}]
[]
[null,8,"Customer Class:",null,null,null,null,null,null,null,"Is the customer class billed on consumption (kWh) or demand (kW or kVA)?",null,null,null,null,null,"kWh"]
[]
[null,null,null,"Calendar Year",null,"Customers",null,null,null,null,"Consumption (kWh) (3)",null,null,null,null,null,{"$f":"CONCATENATE(\"Consumption (kWh) per \",LEFT(F362,LEN(F362)-1))","v":"Consumption (kWh) per Customer"}]
[null,null,null,{"$f":"CONCATENATE(\"(for \",TestYear,\" Cost of Service\")","v":"(for 2022 Cost of Service"},null,null,null,null,null,null,null,"Actual (Weather actual)","Weather-normalized",null,"Weather-normalized",null,null,{"$f":"L363","v":"Actual (Weather actual)"},{"$f":"M363","v":"Weather-normalized"},null,{"$f":"O363","v":"Weather-normalized"}]
[null,null,"Historical",{"$f":"D365-1","v":2016},null,{"$f":"$K$39","v":"Actual"},null,{"$f":"IF(D364=RebaseYear,\"OEB-approved\",\"\")","v":"OEB-approved"},null,null,{"$f":"F364","v":"Actual"},null,null,{"$f":"H364","v":"OEB-approved"},null,null,{"$f":"K364","v":"Actual"},{"$f":"IF(G364=0,\"\",L364/G364)","v":""},{"$f":"IF(G364=0,\"\",M364/G364)","v":""},{"$f":"N364","v":"OEB-approved"},{"$f":"IF(T364=\"\",\"\",IF(I364=0,\"\",O364/I364))","v":""}]
[null,null,"Historical",2017,null,{"$f":"$K$40","v":"Actual"},null,"",null,null,{"$f":"F365","v":"Actual"},null,null,{"$f":"H365","v":""},null,null,{"$f":"K365","v":"Actual"},{"$f":"IF(G365=0,\"\",L365/G365)","v":""},{"$f":"IF(G365=0,\"\",M365/G365)","v":""},{"$f":"N365","v":""},{"$f":"IF(T365=\"\",\"\",IF(I365=0,\"\",O365/I365))","v":""}]
[null,null,"Historical",2018,null,{"$f":"$K$41","v":"Actual"},null,"",null,null,"Actual",null,null,{"$f":"H366","v":""},null,null,"Actual","","",{"$f":"N366","v":""},{"$f":"IF(T366=\"\",\"\",IF(I366=0,\"\",O366/I366))","v":""}]
[null,null,"Historical",2019,null,{"$f":"$K$42","v":"Actual"},null,"",null,null,"Actual",null,null,"",null,null,"Actual","","","",""]
[null,null,"Historical",2020,null,{"$f":"$K$43","v":"Actual"},null,"",null,null,"Actual",null,null,"",null,null,"Actual","","","",""]
[null,null,"Bridge Year",{"$f":"D370-1","v":2021},null,{"$f":"$K$44","v":"Forecast"},null,"",null,null,"Forecast",null,null,"",null,null,"Forecast","","","",""]
[null,null,"Test Year",{"$f":"TestYear","v":2022},null,{"$f":"$K$45","v":"Forecast"},null,"",null,null,"Forecast",null,null,"",null,null,"Forecast","","","",""]
[null,null,null,null,null,null,null,null,{"$f":"SUM(I364:I369)","v":0},null,null,null,null,null,{"$f":"SUM(O364:O369)","v":0},null,null,null,null,null,{"$f":"SUM(U364:U369)","v":0}]
[null,null,"Variance Analysis","Year",null,null,"Year-over-year",null,"Test Year Versus OEB-approved",null,"Year","Year-over-year",null,null,{"$f":"I372","v":"Test Year Versus OEB-approved"},null,"Year","Year-over-year",null,null,{"$f":"O372","v":"Test Year Versus OEB-approved"}]
[null,null,null,{"$f":"D364","v":2016},null,null,null,null,null,null,{"$f":"D373","v":2016},null,null,null,null,null,{"$f":"K373","v":2016}]
[null,null,null,2017,null,null,{"$f":"IF(G364=0,\"\",G365/G364-1)","v":""},null,null,null,{"$f":"D374","v":2017},{"$f":"IF(L364=0,\"\",L365/L364-1)","v":""},"",null,null,null,{"$f":"K374","v":2017},{"$f":"IF(R364=\"\",\"\",IF(R364=0,\"\",R365/R364-1))","v":""},{"$f":"IF(S364=\"\",\"\",IF(S364=0,\"\",S365/S364-1))","v":""}]
[null,null,null,2018,null,null,"",null,null,null,2018,{"$f":"IF(L365=0,\"\",L366/L365-1)","v":""},"",null,null,null,2018,{"$f":"IF(R365=\"\",\"\",IF(R365=0,\"\",R366/R365-1))","v":""},""]
[null,null,null,2019,null,null,"",null,null,null,2019,{"$f":"IF(L366=0,\"\",L367/L366-1)","v":""},"",null,null,null,2019,{"$f":"IF(R366=\"\",\"\",IF(R366=0,\"\",R367/R366-1))","v":""},""]
[null,null,null,2020,null,null,"",null,null,null,2020,{"$f":"IF(L367=0,\"\",L368/L367-1)","v":""},"",null,null,null,2020,{"$f":"IF(R367=\"\",\"\",IF(R367=0,\"\",R368/R367-1))","v":""},""]
[null,null,null,2021,null,null,"",null,null,null,2021,{"$f":"IF(K369=\"Forecast\",\"\",IF(L368=0,\"\",L369/L368-1))","v":""},{"$f":"IF(M368=0,\"\",M369/M368-1)","v":""},null,null,null,2021,{"$f":"IF(Q369=\"Forecast\",\"\",IF(R368=0,\"\",R369/R368-1))","v":""},{"$f":"IF(S368=\"\",\"\",IF(S368=0,\"\",S369/S368-1))","v":""}]
[null,null,null,2022,null,null,"",null,{"$f":"IF(I371=0,\"\",G370/I371-1)","v":""},null,2022,{"$f":"IF(K370=\"Forecast\",\"\",IF(L369=0,\"\",L370/L369-1))","v":""},{"$f":"IF(M369=0,\"\",M370/M369-1)","v":""},null,{"$f":"IF(O371=0,\"\",M370/O371-1)","v":""},null,2022,{"$f":"IF(Q370=\"Forecast\",\"\",IF(R369=0,\"\",R370/R369-1))","v":""},{"$f":"IF(S369=\"\",\"\",IF(S369=0,\"\",S370/S369-1))","v":""},null,{"$f":"IF(U371=0,\"\",S370/U371-1)","v":""}]
[null,null,null,"Geometric Mean",null,null,{"$f":"IF(G364=0,\"\",(G370/G364)^(1/($D370-$D364-1))-1)","v":""},null,{"$f":"IF(I371=0,\"\",(G370/I371)^(1/(TestYear-RebaseYear-1))-1)","v":""},null,"Geometric Mean",{"$f":"IF(L364=0,\"\",(L368/L364)^(1/($D368-$D364-1))-1)","v":""},{"$f":"IF(M364=0,\"\",(M370/M364)^(1/($D370-$D364-1))-1)","v":""},null,{"$f":"IF(O371=0,\"\",(M370/O371)^(1/(TestYear-RebaseYear-1))-1)","v":""},null,"Geometric Mean",{"$f":"IF(R364=\"\",\"\",IF(R364=0,\"\",(R368/R364)^(1/($D368-$D364-1))-1))","v":""},{"$f":"IF(S364=\"\",\"\",IF(S364=0,\"\",(S370/S364)^(1/($D370-$D364-1))-1))","v":""},null,{"$f":"IF(U371=0,\"\",(S370/U371)^(1/(TestYear-RebaseYear-1))-1)","v":""}]
[]
[]
[null,null,null,"Calendar Year",null,"Revenues",null,null,null,null,{"$f":"IF(ISBLANK(Q360),\"\",CONCATENATE(\"Demand (\",Q360,\")\"))","v":"Demand (kWh)"},null,null,null,null,null,{"$f":"CONCATENATE(\"Demand (\",Q360,\") per \",LEFT(F362,LEN(F362)-1))","v":"Demand (kWh) per Customer"}]
[null,null,null,{"$f":"CONCATENATE(\"(for \",TestYear,\" Cost of Service\")","v":"(for 2022 Cost of Service"},null,null,null,null,null,null,null,"Actual (Weather actual)","Weather-normalized",null,{"$f":"M384","v":"Weather-normalized"},null,null,{"$f":"L384","v":"Actual (Weather actual)"},{"$f":"M384","v":"Weather-normalized"},null,{"$f":"O384","v":"Weather-normalized"}]
[null,null,"Historical",{"$f":"D386-1","v":2016},null,{"$f":"F364","v":"Actual"},null,{"$f":"IF(D385=RebaseYear,\"OEB-approved\",\"\")","v":"OEB-approved"},null,null,{"$f":"K364","v":"Actual"},null,null,{"$f":"N364","v":"OEB-approved"},null,null,{"$f":"K385","v":"Actual"},{"$f":"IF(G385=0,\"\",L385/G385)","v":""},{"$f":"IF(G385=0,\"\",M385/G385)","v":""},{"$f":"N385","v":"OEB-approved"},{"$f":"IF(T385=\"\",\"\",IF(I385=0,\"\",O385/I385))","v":""}]
[null,null,"Historical",2017,null,"Actual",null,"",null,null,"Actual",null,null,"",null,null,{"$f":"K386","v":"Actual"},{"$f":"IF(G386=0,\"\",L386/G386)","v":""},{"$f":"IF(G386=0,\"\",M386/G386)","v":""},{"$f":"N386","v":""},{"$f":"IF(T386=\"\",\"\",IF(I386=0,\"\",O386/I386))","v":""}]
[null,null,"Historical",2018,null,"Actual",null,"",null,null,"Actual",null,null,"",null,null,"Actual","","","",""]
[null,null,"Historical",2019,null,"Actual",null,"",null,null,"Actual",null,null,"",null,null,"Actual","","","",""]
[null,null,"Historical",2020,null,"Actual",null,"",null,null,"Actual",null,null,"",null,null,"Actual","","","",""]
[null,null,"Bridge Year (Forecast)",2021,null,"Forecast",null,"",null,null,"Forecast",null,null,"",null,null,"Forecast","","","",""]
[null,null,"Test Year (Forecast)",{"$f":"TestYear","v":2022},null,"Forecast",null,"",null,null,"Forecast",null,null,"",null,null,"Forecast","","","",""]
[null,null,null,null,null,null,null,null,{"$f":"SUM(I385:I390)","v":0},null,null,null,null,null,{"$f":"SUM(O385:O390)","v":0},null,null,null,null,null,{"$f":"SUM(U385:U390)","v":0}]
[null,null,"Variance Analysis","Year",null,null,"Year-over-year",null,{"$f":"I372","v":"Test Year Versus OEB-approved"},null,"Year","Year-over-year",null,null,{"$f":"I393","v":"Test Year Versus OEB-approved"},null,"Year","Year-over-year",null,null,{"$f":"O393","v":"Test Year Versus OEB-approved"}]
[null,null,null,{"$f":"D385","v":2016},null,null,null,null,null,null,{"$f":"D394","v":2016},null,null,null,null,null,{"$f":"K394","v":2016}]
[null,null,null,2017,null,null,{"$f":"IF(G385=0,\"\",G386/G385-1)","v":""},null,null,null,{"$f":"D395","v":2017},{"$f":"IF(L385=0,\"\",L386/L385-1)","v":""},"",null,null,null,{"$f":"K395","v":2017},{"$f":"IF(R385=\"\",\"\",IF(R385=0,\"\",R386/R385-1))","v":""},{"$f":"IF(S385=\"\",\"\",IF(S385=0,\"\",S386/S385-1))","v":""}]
[null,null,null,2018,null,null,"",null,null,null,2018,{"$f":"IF(L386=0,\"\",L387/L386-1)","v":""},"",null,null,null,2018,{"$f":"IF(R386=\"\",\"\",IF(R386=0,\"\",R387/R386-1))","v":""},""]
[null,null,null,2019,null,null,"",null,null,null,2019,{"$f":"IF(L387=0,\"\",L388/L387-1)","v":""},"",null,null,null,2019,{"$f":"IF(R387=\"\",\"\",IF(R387=0,\"\",R388/R387-1))","v":""},""]
[null,null,null,2020,null,null,"",null,null,null,2020,{"$f":"IF(L388=0,\"\",L389/L388-1)","v":""},"",null,null,null,2020,{"$f":"IF(R388=\"\",\"\",IF(R388=0,\"\",R389/R388-1))","v":""},""]
[null,null,null,2021,null,null,"",null,null,null,2021,{"$f":"IF(K390=\"Forecast\",\"\",IF(L389=0,\"\",L390/L389-1))","v":""},{"$f":"IF(M389=0,\"\",M390/M389-1)","v":""},null,null,null,2021,{"$f":"IF(Q390=\"Forecast\",\"\",IF(R389=0,\"\",R390/R389-1))","v":""},{"$f":"IF(S389=\"\",\"\",IF(S389=0,\"\",S390/S389-1))","v":""}]
[null,null,null,2022,null,null,"",null,{"$f":"IF(I392=0,\"\",G391/I392-1)","v":""},null,2022,{"$f":"IF(K391=\"Forecast\",\"\",IF(L390=0,\"\",L391/L390-1))","v":""},{"$f":"IF(M390=0,\"\",M391/M390-1)","v":""},null,{"$f":"IF(O392=0,\"\",M391/O392-1)","v":""},null,2022,{"$f":"IF(Q391=\"Forecast\",\"\",IF(R390=0,\"\",R391/R390-1))","v":""},{"$f":"IF(S390=\"\",\"\",IF(S390=0,\"\",S391/S390-1))","v":""},null,{"$f":"IF(U392=0,\"\",S391/U392-1)","v":""}]
[null,null,null,"Geometric Mean",null,null,{"$f":"IF(G385=0,\"\",(G391/G385)^(1/($D391-$D385-1))-1)","v":""},null,{"$f":"IF(I392=0,\"\",(G391/I392)^(1/(TestYear-RebaseYear-1))-1)","v":""},null,"Geometric Mean",{"$f":"IF(L385=0,\"\",(L389/L385)^(1/($D389-$D385-1))-1)","v":""},{"$f":"IF(M385=0,\"\",(M391/M385)^(1/($D391-$D385-1))-1)","v":""},null,{"$f":"IF(O392=0,\"\",(M391/O392)^(1/(TestYear-RebaseYear-1))-1)","v":""},null,"Geometric Mean",{"$f":"IF(R385=\"\",\"\",IF(R385=0,\"\",(R389/R385)^(1/($D389-$D385-1))-1))","v":""},{"$f":"IF(S385=\"\",\"\",IF(S385=0,\"\",(S391/S385)^(1/($D391-$D385-1))-1))","v":""},null,{"$f":"IF(U392=0,\"\",(S391/U392)^(1/(TestYear-RebaseYear-1))-1)","v":""}]
[]
[null,9,"Customer Class:",null,null,null,null,null,null,null,"Is the customer class billed on consumption (kWh) or demand (kW or kVA)?",null,null,null,null,null,"kWh"]
[]
[null,null,null,"Calendar Year",null,"Customers",null,null,null,null,"Consumption (kWh) (3)",null,null,null,null,null,{"$f":"CONCATENATE(\"Consumption (kWh) per \",LEFT(F405,LEN(F405)-1))","v":"Consumption (kWh) per Customer"}]
[null,null,null,{"$f":"CONCATENATE(\"(for \",TestYear,\" Cost of Service\")","v":"(for 2022 Cost of Service"},null,null,null,null,null,null,null,"Actual (Weather actual)","Weather-normalized",null,"Weather-normalized",null,null,{"$f":"L406","v":"Actual (Weather actual)"},{"$f":"M406","v":"Weather-normalized"},null,{"$f":"O406","v":"Weather-normalized"}]
[null,null,"Historical",{"$f":"D408-1","v":2016},null,{"$f":"$K$39","v":"Actual"},null,{"$f":"IF(D407=RebaseYear,\"OEB-approved\",\"\")","v":"OEB-approved"},null,null,{"$f":"F407","v":"Actual"},null,null,{"$f":"H407","v":"OEB-approved"},null,null,{"$f":"K407","v":"Actual"},{"$f":"IF(G407=0,\"\",L407/G407)","v":""},{"$f":"IF(G407=0,\"\",M407/G407)","v":""},{"$f":"N407","v":"OEB-approved"},{"$f":"IF(T407=\"\",\"\",IF(I407=0,\"\",O407/I407))","v":""}]
[null,null,"Historical",2017,null,{"$f":"$K$40","v":"Actual"},null,"",null,null,{"$f":"F408","v":"Actual"},null,null,{"$f":"H408","v":""},null,null,{"$f":"K408","v":"Actual"},{"$f":"IF(G408=0,\"\",L408/G408)","v":""},{"$f":"IF(G408=0,\"\",M408/G408)","v":""},{"$f":"N408","v":""},{"$f":"IF(T408=\"\",\"\",IF(I408=0,\"\",O408/I408))","v":""}]
[null,null,"Historical",2018,null,{"$f":"$K$41","v":"Actual"},null,"",null,null,"Actual",null,null,{"$f":"H409","v":""},null,null,"Actual","","",{"$f":"N409","v":""},{"$f":"IF(T409=\"\",\"\",IF(I409=0,\"\",O409/I409))","v":""}]
[null,null,"Historical",2019,null,{"$f":"$K$42","v":"Actual"},null,"",null,null,"Actual",null,null,"",null,null,"Actual","","","",""]
[null,null,"Historical",2020,null,{"$f":"$K$43","v":"Actual"},null,"",null,null,"Actual",null,null,"",null,null,"Actual","","","",""]
[null,null,"Bridge Year",{"$f":"D413-1","v":2021},null,{"$f":"$K$44","v":"Forecast"},null,"",null,null,"Forecast",null,null,"",null,null,"Forecast","","","",""]
[null,null,"Test Year",{"$f":"TestYear","v":2022},null,{"$f":"$K$45","v":"Forecast"},null,"",null,null,"Forecast",null,null,"",null,null,"Forecast","","","",""]
[null,null,null,null,null,null,null,null,{"$f":"SUM(I407:I412)","v":0},null,null,null,null,null,{"$f":"SUM(O407:O412)","v":0},null,null,null,null,null,{"$f":"SUM(U407:U412)","v":0}]
[null,null,"Variance Analysis","Year",null,null,"Year-over-year",null,"Test Year Versus OEB-approved",null,"Year","Year-over-year",null,null,{"$f":"I415","v":"Test Year Versus OEB-approved"},null,"Year","Year-over-year",null,null,{"$f":"O415","v":"Test Year Versus OEB-approved"}]
[null,null,null,{"$f":"D407","v":2016},null,null,null,null,null,null,{"$f":"D416","v":2016},null,null,null,null,null,{"$f":"K416","v":2016}]
[null,null,null,2017,null,null,{"$f":"IF(G407=0,\"\",G408/G407-1)","v":""},null,null,null,{"$f":"D417","v":2017},{"$f":"IF(L407=0,\"\",L408/L407-1)","v":""},"",null,null,null,{"$f":"K417","v":2017},{"$f":"IF(R407=\"\",\"\",IF(R407=0,\"\",R408/R407-1))","v":""},{"$f":"IF(S407=\"\",\"\",IF(S407=0,\"\",S408/S407-1))","v":""}]
[null,null,null,2018,null,null,"",null,null,null,2018,{"$f":"IF(L408=0,\"\",L409/L408-1)","v":""},"",null,null,null,2018,{"$f":"IF(R408=\"\",\"\",IF(R408=0,\"\",R409/R408-1))","v":""},""]
[null,null,null,2019,null,null,"",null,null,null,2019,{"$f":"IF(L409=0,\"\",L410/L409-1)","v":""},"",null,null,null,2019,{"$f":"IF(R409=\"\",\"\",IF(R409=0,\"\",R410/R409-1))","v":""},""]
[null,null,null,2020,null,null,"",null,null,null,2020,{"$f":"IF(L410=0,\"\",L411/L410-1)","v":""},"",null,null,null,2020,{"$f":"IF(R410=\"\",\"\",IF(R410=0,\"\",R411/R410-1))","v":""},""]
[null,null,null,2021,null,null,"",null,null,null,2021,{"$f":"IF(K412=\"Forecast\",\"\",IF(L411=0,\"\",L412/L411-1))","v":""},{"$f":"IF(M411=0,\"\",M412/M411-1)","v":""},null,null,null,2021,{"$f":"IF(Q412=\"Forecast\",\"\",IF(R411=0,\"\",R412/R411-1))","v":""},{"$f":"IF(S411=\"\",\"\",IF(S411=0,\"\",S412/S411-1))","v":""}]
[null,null,null,2022,null,null,"",null,{"$f":"IF(I414=0,\"\",G413/I414-1)","v":""},null,2022,{"$f":"IF(K413=\"Forecast\",\"\",IF(L412=0,\"\",L413/L412-1))","v":""},{"$f":"IF(M412=0,\"\",M413/M412-1)","v":""},null,{"$f":"IF(O414=0,\"\",M413/O414-1)","v":""},null,2022,{"$f":"IF(Q413=\"Forecast\",\"\",IF(R412=0,\"\",R413/R412-1))","v":""},{"$f":"IF(S412=\"\",\"\",IF(S412=0,\"\",S413/S412-1))","v":""},null,{"$f":"IF(U414=0,\"\",S413/U414-1)","v":""}]
[null,null,null,"Geometric Mean",null,null,{"$f":"IF(G407=0,\"\",(G413/G407)^(1/($D413-$D407-1))-1)","v":""},null,{"$f":"IF(I414=0,\"\",(G413/I414)^(1/(TestYear-RebaseYear-1))-1)","v":""},null,"Geometric Mean",{"$f":"IF(L407=0,\"\",(L411/L407)^(1/($D411-$D407-1))-1)","v":""},{"$f":"IF(M407=0,\"\",(M413/M407)^(1/($D413-$D407-1))-1)","v":""},null,{"$f":"IF(O414=0,\"\",(M413/O414)^(1/(TestYear-RebaseYear-1))-1)","v":""},null,"Geometric Mean",{"$f":"IF(R407=\"\",\"\",IF(R407=0,\"\",(R411/R407)^(1/($D411-$D407-1))-1))","v":""},{"$f":"IF(S407=\"\",\"\",IF(S407=0,\"\",(S413/S407)^(1/($D413-$D407-1))-1))","v":""},null,{"$f":"IF(U414=0,\"\",(S413/U414)^(1/(TestYear-RebaseYear-1))-1)","v":""}]
[]
[]
[null,null,null,"Calendar Year",null,"Revenues",null,null,null,null,{"$f":"IF(ISBLANK(Q403),\"\",CONCATENATE(\"Demand (\",Q403,\")\"))","v":"Demand (kWh)"},null,null,null,null,null,{"$f":"CONCATENATE(\"Demand (\",Q403,\") per \",LEFT(F405,LEN(F405)-1))","v":"Demand (kWh) per Customer"}]
[null,null,null,{"$f":"CONCATENATE(\"(for \",TestYear,\" Cost of Service\")","v":"(for 2022 Cost of Service"},null,null,null,null,null,null,null,"Actual (Weather actual)","Weather-normalized",null,{"$f":"M427","v":"Weather-normalized"},null,null,{"$f":"L427","v":"Actual (Weather actual)"},{"$f":"M427","v":"Weather-normalized"},null,{"$f":"O427","v":"Weather-normalized"}]
[null,null,"Historical",{"$f":"D429-1","v":2016},null,{"$f":"F407","v":"Actual"},null,{"$f":"IF(D428=RebaseYear,\"OEB-approved\",\"\")","v":"OEB-approved"},null,null,{"$f":"K407","v":"Actual"},null,null,{"$f":"N407","v":"OEB-approved"},null,null,{"$f":"K428","v":"Actual"},{"$f":"IF(G428=0,\"\",L428/G428)","v":""},{"$f":"IF(G428=0,\"\",M428/G428)","v":""},{"$f":"N428","v":"OEB-approved"},{"$f":"IF(T428=\"\",\"\",IF(I428=0,\"\",O428/I428))","v":""}]
[null,null,"Historical",2017,null,"Actual",null,"",null,null,"Actual",null,null,"",null,null,{"$f":"K429","v":"Actual"},{"$f":"IF(G429=0,\"\",L429/G429)","v":""},{"$f":"IF(G429=0,\"\",M429/G429)","v":""},{"$f":"N429","v":""},{"$f":"IF(T429=\"\",\"\",IF(I429=0,\"\",O429/I429))","v":""}]
[null,null,"Historical",2018,null,"Actual",null,"",null,null,"Actual",null,null,"",null,null,"Actual","","","",""]
[null,null,"Historical",2019,null,"Actual",null,"",null,null,"Actual",null,null,"",null,null,"Actual","","","",""]
[null,null,"Historical",2020,null,"Actual",null,"",null,null,"Actual",null,null,"",null,null,"Actual","","","",""]
[null,null,"Bridge Year (Forecast)",2021,null,"Forecast",null,"",null,null,"Forecast",null,null,"",null,null,"Forecast","","","",""]
[null,null,"Test Year (Forecast)",{"$f":"TestYear","v":2022},null,"Forecast",null,"",null,null,"Forecast",null,null,"",null,null,"Forecast","","","",""]
[null,null,null,null,null,null,null,null,{"$f":"SUM(I428:I433)","v":0},null,null,null,null,null,{"$f":"SUM(O428:O433)","v":0},null,null,null,null,null,{"$f":"SUM(U428:U433)","v":0}]
[null,null,"Variance Analysis","Year",null,null,"Year-over-year",null,{"$f":"I415","v":"Test Year Versus OEB-approved"},null,"Year","Year-over-year",null,null,{"$f":"I436","v":"Test Year Versus OEB-approved"},null,"Year","Year-over-year",null,null,{"$f":"O436","v":"Test Year Versus OEB-approved"}]
[null,null,null,{"$f":"D428","v":2016},null,null,null,null,null,null,{"$f":"D437","v":2016},null,null,null,null,null,{"$f":"K437","v":2016}]
[null,null,null,2017,null,null,{"$f":"IF(G428=0,\"\",G429/G428-1)","v":""},null,null,null,{"$f":"D438","v":2017},{"$f":"IF(L428=0,\"\",L429/L428-1)","v":""},"",null,null,null,{"$f":"K438","v":2017},{"$f":"IF(R428=\"\",\"\",IF(R428=0,\"\",R429/R428-1))","v":""},{"$f":"IF(S428=\"\",\"\",IF(S428=0,\"\",S429/S428-1))","v":""}]
[null,null,null,2018,null,null,"",null,null,null,2018,{"$f":"IF(L429=0,\"\",L430/L429-1)","v":""},"",null,null,null,2018,{"$f":"IF(R429=\"\",\"\",IF(R429=0,\"\",R430/R429-1))","v":""},""]
[null,null,null,2019,null,null,"",null,null,null,2019,{"$f":"IF(L430=0,\"\",L431/L430-1)","v":""},"",null,null,null,2019,{"$f":"IF(R430=\"\",\"\",IF(R430=0,\"\",R431/R430-1))","v":""},""]
[null,null,null,2020,null,null,"",null,null,null,2020,{"$f":"IF(L431=0,\"\",L432/L431-1)","v":""},"",null,null,null,2020,{"$f":"IF(R431=\"\",\"\",IF(R431=0,\"\",R432/R431-1))","v":""},""]
[null,null,null,2021,null,null,"",null,null,null,2021,{"$f":"IF(K433=\"Forecast\",\"\",IF(L432=0,\"\",L433/L432-1))","v":""},{"$f":"IF(M432=0,\"\",M433/M432-1)","v":""},null,null,null,2021,{"$f":"IF(Q433=\"Forecast\",\"\",IF(R432=0,\"\",R433/R432-1))","v":""},{"$f":"IF(S432=\"\",\"\",IF(S432=0,\"\",S433/S432-1))","v":""}]
[null,null,null,2022,null,null,"",null,{"$f":"IF(I435=0,\"\",G434/I435-1)","v":""},null,2022,{"$f":"IF(K434=\"Forecast\",\"\",IF(L433=0,\"\",L434/L433-1))","v":""},{"$f":"IF(M433=0,\"\",M434/M433-1)","v":""},null,{"$f":"IF(O435=0,\"\",M434/O435-1)","v":""},null,2022,{"$f":"IF(Q434=\"Forecast\",\"\",IF(R433=0,\"\",R434/R433-1))","v":""},{"$f":"IF(S433=\"\",\"\",IF(S433=0,\"\",S434/S433-1))","v":""},null,{"$f":"IF(U435=0,\"\",S434/U435-1)","v":""}]
[null,null,null,"Geometric Mean",null,null,{"$f":"IF(G428=0,\"\",(G434/G428)^(1/($D434-$D428-1))-1)","v":""},null,{"$f":"IF(I435=0,\"\",(G434/I435)^(1/(TestYear-RebaseYear-1))-1)","v":""},null,"Geometric Mean",{"$f":"IF(L428=0,\"\",(L432/L428)^(1/($D432-$D428-1))-1)","v":""},{"$f":"IF(M428=0,\"\",(M434/M428)^(1/($D434-$D428-1))-1)","v":""},null,{"$f":"IF(O435=0,\"\",(M434/O435)^(1/(TestYear-RebaseYear-1))-1)","v":""},null,"Geometric Mean",{"$f":"IF(R428=\"\",\"\",IF(R428=0,\"\",(R432/R428)^(1/($D432-$D428-1))-1))","v":""},{"$f":"IF(S428=\"\",\"\",IF(S428=0,\"\",(S434/S428)^(1/($D434-$D428-1))-1))","v":""},null,{"$f":"IF(U435=0,\"\",(S434/U435)^(1/(TestYear-RebaseYear-1))-1)","v":""}]
[]
[null,10,"Customer Class:",null,null,null,null,null,null,null,"Is the customer class billed on consumption (kWh) or demand (kW or kVA)?",null,null,null,null,null,"kWh"]
[]
[null,null,null,"Calendar Year",null,"Customers",null,null,null,null,"Consumption (kWh) (3)",null,null,null,null,null,{"$f":"CONCATENATE(\"Consumption (kWh) per \",LEFT(F448,LEN(F448)-1))","v":"Consumption (kWh) per Customer"}]
[null,null,null,{"$f":"CONCATENATE(\"(for \",TestYear,\" Cost of Service\")","v":"(for 2022 Cost of Service"},null,null,null,null,null,null,null,"Actual (Weather actual)","Weather-normalized",null,"Weather-normalized",null,null,{"$f":"L449","v":"Actual (Weather actual)"},{"$f":"M449","v":"Weather-normalized"},null,{"$f":"O449","v":"Weather-normalized"}]
[null,null,"Historical",{"$f":"D451-1","v":2016},null,{"$f":"$K$39","v":"Actual"},null,{"$f":"IF(D450=RebaseYear,\"OEB-approved\",\"\")","v":"OEB-approved"},null,null,{"$f":"F450","v":"Actual"},null,null,{"$f":"H450","v":"OEB-approved"},null,null,{"$f":"K450","v":"Actual"},{"$f":"IF(G450=0,\"\",L450/G450)","v":""},{"$f":"IF(G450=0,\"\",M450/G450)","v":""},{"$f":"N450","v":"OEB-approved"},{"$f":"IF(T450=\"\",\"\",IF(I450=0,\"\",O450/I450))","v":""}]
[null,null,"Historical",2017,null,{"$f":"$K$40","v":"Actual"},null,"",null,null,{"$f":"F451","v":"Actual"},null,null,{"$f":"H451","v":""},null,null,{"$f":"K451","v":"Actual"},{"$f":"IF(G451=0,\"\",L451/G451)","v":""},{"$f":"IF(G451=0,\"\",M451/G451)","v":""},{"$f":"N451","v":""},{"$f":"IF(T451=\"\",\"\",IF(I451=0,\"\",O451/I451))","v":""}]
[null,null,"Historical",2018,null,{"$f":"$K$41","v":"Actual"},null,"",null,null,"Actual",null,null,{"$f":"H452","v":""},null,null,"Actual","","",{"$f":"N452","v":""},{"$f":"IF(T452=\"\",\"\",IF(I452=0,\"\",O452/I452))","v":""}]
[null,null,"Historical",2019,null,{"$f":"$K$42","v":"Actual"},null,"",null,null,"Actual",null,null,"",null,null,"Actual","","","",""]
[null,null,"Historical",2020,null,{"$f":"$K$43","v":"Actual"},null,"",null,null,"Actual",null,null,"",null,null,"Actual","","","",""]
[null,null,"Bridge Year",{"$f":"D456-1","v":2021},null,{"$f":"$K$44","v":"Forecast"},null,"",null,null,"Forecast",null,null,"",null,null,"Forecast","","","",""]
[null,null,"Test Year",{"$f":"TestYear","v":2022},null,{"$f":"$K$45","v":"Forecast"},null,"",null,null,"Forecast",null,null,"",null,null,"Forecast","","","",""]
[null,null,null,null,null,null,null,null,{"$f":"SUM(I450:I455)","v":0},null,null,null,null,null,{"$f":"SUM(O450:O455)","v":0},null,null,null,null,null,{"$f":"SUM(U450:U455)","v":0}]
[null,null,"Variance Analysis","Year",null,null,"Year-over-year",null,"Test Year Versus OEB-approved",null,"Year","Year-over-year",null,null,{"$f":"I458","v":"Test Year Versus OEB-approved"},null,"Year","Year-over-year",null,null,{"$f":"O458","v":"Test Year Versus OEB-approved"}]
[null,null,null,{"$f":"D450","v":2016},null,null,null,null,null,null,{"$f":"D459","v":2016},null,null,null,null,null,{"$f":"K459","v":2016}]
[null,null,null,2017,null,null,{"$f":"IF(G450=0,\"\",G451/G450-1)","v":""},null,null,null,{"$f":"D460","v":2017},{"$f":"IF(L450=0,\"\",L451/L450-1)","v":""},"",null,null,null,{"$f":"K460","v":2017},{"$f":"IF(R450=\"\",\"\",IF(R450=0,\"\",R451/R450-1))","v":""},{"$f":"IF(S450=\"\",\"\",IF(S450=0,\"\",S451/S450-1))","v":""}]
[null,null,null,2018,null,null,"",null,null,null,2018,{"$f":"IF(L451=0,\"\",L452/L451-1)","v":""},"",null,null,null,2018,{"$f":"IF(R451=\"\",\"\",IF(R451=0,\"\",R452/R451-1))","v":""},""]
[null,null,null,2019,null,null,"",null,null,null,2019,{"$f":"IF(L452=0,\"\",L453/L452-1)","v":""},"",null,null,null,2019,{"$f":"IF(R452=\"\",\"\",IF(R452=0,\"\",R453/R452-1))","v":""},""]
[null,null,null,2020,null,null,"",null,null,null,2020,{"$f":"IF(L453=0,\"\",L454/L453-1)","v":""},"",null,null,null,2020,{"$f":"IF(R453=\"\",\"\",IF(R453=0,\"\",R454/R453-1))","v":""},""]
[null,null,null,2021,null,null,"",null,null,null,2021,{"$f":"IF(K455=\"Forecast\",\"\",IF(L454=0,\"\",L455/L454-1))","v":""},{"$f":"IF(M454=0,\"\",M455/M454-1)","v":""},null,null,null,2021,{"$f":"IF(Q455=\"Forecast\",\"\",IF(R454=0,\"\",R455/R454-1))","v":""},{"$f":"IF(S454=\"\",\"\",IF(S454=0,\"\",S455/S454-1))","v":""}]
[null,null,null,2022,null,null,"",null,{"$f":"IF(I457=0,\"\",G456/I457-1)","v":""},null,2022,{"$f":"IF(K456=\"Forecast\",\"\",IF(L455=0,\"\",L456/L455-1))","v":""},{"$f":"IF(M455=0,\"\",M456/M455-1)","v":""},null,{"$f":"IF(O457=0,\"\",M456/O457-1)","v":""},null,2022,{"$f":"IF(Q456=\"Forecast\",\"\",IF(R455=0,\"\",R456/R455-1))","v":""},{"$f":"IF(S455=\"\",\"\",IF(S455=0,\"\",S456/S455-1))","v":""},null,{"$f":"IF(U457=0,\"\",S456/U457-1)","v":""}]
[null,null,null,"Geometric Mean",null,null,{"$f":"IF(G450=0,\"\",(G456/G450)^(1/($D456-$D450-1))-1)","v":""},null,{"$f":"IF(I457=0,\"\",(G456/I457)^(1/(TestYear-RebaseYear-1))-1)","v":""},null,"Geometric Mean",{"$f":"IF(L450=0,\"\",(L454/L450)^(1/($D454-$D450-1))-1)","v":""},{"$f":"IF(M450=0,\"\",(M456/M450)^(1/($D456-$D450-1))-1)","v":""},null,{"$f":"IF(O457=0,\"\",(M456/O457)^(1/(TestYear-RebaseYear-1))-1)","v":""},null,"Geometric Mean",{"$f":"IF(R450=\"\",\"\",IF(R450=0,\"\",(R454/R450)^(1/($D454-$D450-1))-1))","v":""},{"$f":"IF(S450=\"\",\"\",IF(S450=0,\"\",(S456/S450)^(1/($D456-$D450-1))-1))","v":""},null,{"$f":"IF(U457=0,\"\",(S456/U457)^(1/(TestYear-RebaseYear-1))-1)","v":""}]
[]
[]
[null,null,null,"Calendar Year",null,"Revenues",null,null,null,null,{"$f":"IF(ISBLANK(Q446),\"\",CONCATENATE(\"Demand (\",Q446,\")\"))","v":"Demand (kWh)"},null,null,null,null,null,{"$f":"CONCATENATE(\"Demand (\",Q446,\") per \",LEFT(F448,LEN(F448)-1))","v":"Demand (kWh) per Customer"}]
[null,null,null,{"$f":"CONCATENATE(\"(for \",TestYear,\" Cost of Service\")","v":"(for 2022 Cost of Service"},null,null,null,null,null,null,null,"Actual (Weather actual)","Weather-normalized",null,{"$f":"M470","v":"Weather-normalized"},null,null,{"$f":"L470","v":"Actual (Weather actual)"},{"$f":"M470","v":"Weather-normalized"},null,{"$f":"O470","v":"Weather-normalized"}]
[null,null,"Historical",{"$f":"D472-1","v":2016},null,{"$f":"F450","v":"Actual"},null,{"$f":"IF(D471=RebaseYear,\"OEB-approved\",\"\")","v":"OEB-approved"},null,null,{"$f":"K450","v":"Actual"},null,null,{"$f":"N450","v":"OEB-approved"},null,null,{"$f":"K471","v":"Actual"},{"$f":"IF(G471=0,\"\",L471/G471)","v":""},{"$f":"IF(G471=0,\"\",M471/G471)","v":""},{"$f":"N471","v":"OEB-approved"},{"$f":"IF(T471=\"\",\"\",IF(I471=0,\"\",O471/I471))","v":""}]
[null,null,"Historical",2017,null,"Actual",null,"",null,null,"Actual",null,null,"",null,null,{"$f":"K472","v":"Actual"},{"$f":"IF(G472=0,\"\",L472/G472)","v":""},{"$f":"IF(G472=0,\"\",M472/G472)","v":""},{"$f":"N472","v":""},{"$f":"IF(T472=\"\",\"\",IF(I472=0,\"\",O472/I472))","v":""}]
[null,null,"Historical",2018,null,"Actual",null,"",null,null,"Actual",null,null,"",null,null,"Actual","","","",""]
[null,null,"Historical",2019,null,"Actual",null,"",null,null,"Actual",null,null,"",null,null,"Actual","","","",""]
[null,null,"Historical",2020,null,"Actual",null,"",null,null,"Actual",null,null,"",null,null,"Actual","","","",""]
[null,null,"Bridge Year (Forecast)",2021,null,"Forecast",null,"",null,null,"Forecast",null,null,"",null,null,"Forecast","","","",""]
[null,null,"Test Year (Forecast)",{"$f":"TestYear","v":2022},null,"Forecast",null,"",null,null,"Forecast",null,null,"",null,null,"Forecast","","","",""]
[null,null,null,null,null,null,null,null,{"$f":"SUM(I471:I476)","v":0},null,null,null,null,null,{"$f":"SUM(O471:O476)","v":0},null,null,null,null,null,{"$f":"SUM(U471:U476)","v":0}]
[null,null,"Variance Analysis","Year",null,null,"Year-over-year",null,{"$f":"I458","v":"Test Year Versus OEB-approved"},null,"Year","Year-over-year",null,null,{"$f":"I479","v":"Test Year Versus OEB-approved"},null,"Year","Year-over-year",null,null,{"$f":"O479","v":"Test Year Versus OEB-approved"}]
[null,null,null,{"$f":"D471","v":2016},null,null,null,null,null,null,{"$f":"D480","v":2016},null,null,null,null,null,{"$f":"K480","v":2016}]
[null,null,null,2017,null,null,{"$f":"IF(G471=0,\"\",G472/G471-1)","v":""},null,null,null,{"$f":"D481","v":2017},{"$f":"IF(L471=0,\"\",L472/L471-1)","v":""},"",null,null,null,{"$f":"K481","v":2017},{"$f":"IF(R471=\"\",\"\",IF(R471=0,\"\",R472/R471-1))","v":""},{"$f":"IF(S471=\"\",\"\",IF(S471=0,\"\",S472/S471-1))","v":""}]
[null,null,null,2018,null,null,"",null,null,null,2018,{"$f":"IF(L472=0,\"\",L473/L472-1)","v":""},"",null,null,null,2018,{"$f":"IF(R472=\"\",\"\",IF(R472=0,\"\",R473/R472-1))","v":""},""]
[null,null,null,2019,null,null,"",null,null,null,2019,{"$f":"IF(L473=0,\"\",L474/L473-1)","v":""},"",null,null,null,2019,{"$f":"IF(R473=\"\",\"\",IF(R473=0,\"\",R474/R473-1))","v":""},""]
[null,null,null,2020,null,null,"",null,null,null,2020,{"$f":"IF(L474=0,\"\",L475/L474-1)","v":""},"",null,null,null,2020,{"$f":"IF(R474=\"\",\"\",IF(R474=0,\"\",R475/R474-1))","v":""},""]
[null,null,null,2021,null,null,"",null,null,null,2021,{"$f":"IF(K476=\"Forecast\",\"\",IF(L475=0,\"\",L476/L475-1))","v":""},{"$f":"IF(M475=0,\"\",M476/M475-1)","v":""},null,null,null,2021,{"$f":"IF(Q476=\"Forecast\",\"\",IF(R475=0,\"\",R476/R475-1))","v":""},{"$f":"IF(S475=\"\",\"\",IF(S475=0,\"\",S476/S475-1))","v":""}]
[null,null,null,2022,null,null,"",null,{"$f":"IF(I478=0,\"\",G477/I478-1)","v":""},null,2022,{"$f":"IF(K477=\"Forecast\",\"\",IF(L476=0,\"\",L477/L476-1))","v":""},{"$f":"IF(M476=0,\"\",M477/M476-1)","v":""},null,{"$f":"IF(O478=0,\"\",M477/O478-1)","v":""},null,2022,{"$f":"IF(Q477=\"Forecast\",\"\",IF(R476=0,\"\",R477/R476-1))","v":""},{"$f":"IF(S476=\"\",\"\",IF(S476=0,\"\",S477/S476-1))","v":""},null,{"$f":"IF(U478=0,\"\",S477/U478-1)","v":""}]
[null,null,null,"Geometric Mean",null,null,{"$f":"IF(G471=0,\"\",(G477/G471)^(1/($D477-$D471-1))-1)","v":""},null,{"$f":"IF(I478=0,\"\",(G477/I478)^(1/(TestYear-RebaseYear-1))-1)","v":""},null,"Geometric Mean",{"$f":"IF(L471=0,\"\",(L475/L471)^(1/($D475-$D471-1))-1)","v":""},{"$f":"IF(M471=0,\"\",(M477/M471)^(1/($D477-$D471-1))-1)","v":""},null,{"$f":"IF(O478=0,\"\",(M477/O478)^(1/(TestYear-RebaseYear-1))-1)","v":""},null,"Geometric Mean",{"$f":"IF(R471=\"\",\"\",IF(R471=0,\"\",(R475/R471)^(1/($D475-$D471-1))-1))","v":""},{"$f":"IF(S471=\"\",\"\",IF(S471=0,\"\",(S477/S471)^(1/($D477-$D471-1))-1))","v":""},null,{"$f":"IF(U478=0,\"\",(S477/U478)^(1/(TestYear-RebaseYear-1))-1)","v":""}]
[]
[null,"Note: If there are more than ten (10) customer classes, please contact OEB Staff to add tables for additional customer classes."]

{"sheet":"App.2-JA_OM&A_Summary_Analys","index":37,"n_rows":47,"n_cols":29,"rows_kept":47,"cut":false,"hidden":false,"merged":[[46,0,47,11],[39,0,39,42],[8,0,8,11],[9,0,9,11],[11,12,11,13],[40,0,40,42],[41,0,41,42]]}
[null,null,null,null,null,null,null,null,null,null,"File Number:",{"$f":"EBNUMBER","v":"EB-2021-0052"},{"$f":"'LDC Info'!$E$28","v":2016},"Last Rebasing Year","Column"]
[null,null,null,null,null,null,null,null,null,null,"Exhibit:",null,{"$f":"TestYear","v":2022},2010,"B","ae"]
[null,null,null,null,null,null,null,null,null,null,"Tab:",null,{"$f":"'LDC Info'!$E$28","v":2016},2011,"D","ah"]
["TO BE UPDATED AT THE DRAFT RATE ORDER STAGE",null,null,null,null,null,null,null,null,null,"Schedule:",null,null,2012,"G","ak"]
[null,null,null,null,null,null,null,null,null,null,"Page:",null,null,2013,"J","an"]
[null,null,null,null,null,null,null,null,null,null,null,null,null,2014,"M","aq"]
[null,null,null,null,null,null,null,null,null,null,"Date:",null,null,2015,"P","at"]
[null,null,null,null,null,null,null,null,null,null,null,null,null,2016,"S","aw"]
["Appendix 2-JA",null,null,null,null,null,null,null,null,null,null,null,null,2017,"V","az"]
["Summary of Recoverable OM&A Expenses"]
[null,null,{"$f":"RebaseYear","v":2016},{"$f":"TestYear-8","v":2014},{"$f":"TestYear-7","v":2015},{"$f":"TestYear-6","v":2016},{"$f":"TestYear-5","v":2017},{"$f":"TestYear-4","v":2018},{"$f":"TestYear-3","v":2019},{"$f":"TestYear-2","v":2020},{"$f":"BridgeYear","v":2021},{"$f":"TestYear","v":2022},null,null,null,{"$f":"C11","v":2016},null,null,{"$f":"D11","v":2014},{"$f":"E11","v":2015},2016,2017,2018,2019,2020,2021,null,{"$f":"L11","v":2022}]
[null,{"$f":"CONCATENATE(C11,\" \",IF($M1=C11,\"Last Rebasing Year \",\"\"),\"OEB Approved\")","v":"2016 Last Rebasing Year OEB Approved"},{"$f":"CONCATENATE(C11,\" \",IF($M1=C11,\"Last Rebasing Year \",\"\"),\"Actuals\")","v":"2016 Last Rebasing Year Actuals"},"2014 Actuals","2015 Actuals","2016 Last Rebasing Year Actuals","2017 Actuals","2018 Actuals","2019 Actuals","2020 Actuals",{"$f":"BridgeYear & \" Bridge Year\"","v":"2021 Bridge Year"},{"$f":"TestYear & \" Test Year\"","v":"2022 Test Year"},null,null,null,{"$f":"CONCATENATE(IF($M1=P11,\"Last Rebasing Year \",\"\"),,P11,\" OEB Approved\")","v":"Last Rebasing Year 2016 OEB Approved"},{"$f":"CONCATENATE(IF($M1=P11,\"Last Rebasing Year \",\"\"),P11,\" Actuals\")","v":"Last Rebasing Year 2016 Actuals"},{"$f":"CONCATENATE(\"Variance \",P11,\" OEB Approved - \",P11,\" Actuals\")","v":"Variance 2016 OEB Approved - 2016 Actuals"},{"$f":"CONCATENATE(IF($M1=S11,\"Last Rebasing Year \",\"\"),S11,\" Actuals\")","v":"2014 Actuals"},"2015 Actuals","Last Rebasing Year 2016 Actuals","2017 Actuals","2018 Actuals","2019 Actuals","2020 Actuals",{"$f":"CONCATENATE(Z11,\" Bridge Year\")","v":"2021 Bridge Year"},{"$f":"CONCATENATE(\"Variance \",Z11,\" Bridge vs. \",Z11-1,\" Actuals\")","v":"Variance 2021 Bridge vs. 2020 Actuals"},{"$f":"CONCATENATE(AB11,\" Test Year\")","v":"2022 Test Year"},{"$f":"CONCATENATE(\"Variance \",AB11,\" Test vs. \",AB11-1,\" Bridge\")","v":"Variance 2022 Test vs. 2021 Bridge"}]
["Reporting Basis",null,null,null,null,null,null,null,null,null,null,null,null,null,"Operations",{"$f":"B14","v":529246},{"$f":"C14","v":630729.17000000004},{"$f":"P13-Q13","v":-101483.17000000004},{"$f":"D14","v":{"$error":"#N/A"}},{"$error":"#N/A"},630729.17000000004,565513.05000000005,484252.12,513327.29,785740.61,815322.4546500002,{"$f":"Z13-Y13","v":29581.844650000217},{"$f":"L14","v":901090.53},{"$f":"AB13-Z13","v":85768.075349999825}]
["Operations",529246,{"$f":"VLOOKUP('LDC Info'!$E$14 & \" Distribution Expenses - Operation \" & LEFT(C12,4),'OM&A_Expenses'!$C:$F,4,FALSE)","v":630729.17000000004},{"$f":"VLOOKUP('LDC Info'!$E$14 & \" Distribution Expenses - Operation \" & LEFT(D12,4),'OM&A_Expenses'!$C:$F,4,FALSE)","v":{"$error":"#N/A"}},{"$f":"VLOOKUP('LDC Info'!$E$14 & \" Distribution Expenses - Operation \" & LEFT(E12,4),'OM&A_Expenses'!$C:$F,4,FALSE)","v":{"$error":"#N/A"}},{"$f":"VLOOKUP('LDC Info'!$E$14 & \" Distribution Expenses - Operation \" & LEFT(F12,4),'OM&A_Expenses'!$C:$F,4,FALSE)","v":630729.17000000004},{"$f":"VLOOKUP('LDC Info'!$E$14 & \" Distribution Expenses - Operation \" & LEFT(G12,4),'OM&A_Expenses'!$C:$F,4,FALSE)","v":565513.05000000005},{"$f":"VLOOKUP('LDC Info'!$E$14 & \" Distribution Expenses - Operation \" & LEFT(H12,4),'OM&A_Expenses'!$C:$F,4,FALSE)","v":484252.12},{"$f":"VLOOKUP('LDC Info'!$E$14 & \" Distribution Expenses - Operation \" & LEFT(I12,4),'OM&A_Expenses'!$C:$F,4,FALSE)","v":513327.29},{"$f":"VLOOKUP('LDC Info'!$E$14 & \" Distribution Expenses - Operation \" & LEFT(J12,4),'OM&A_Expenses'!$C:$F,4,FALSE)","v":785740.61},815322.4546500002,901090.53,null,null,"Maintenance ",{"$f":"B15","v":673343},{"$f":"C15","v":613080.63},60262.369999999995,{"$error":"#N/A"},{"$error":"#N/A"},613080.63,692292.42,500383.53,645567.21,501235.76,562975.4800000001,61739.720000000088,{"$f":"L15","v":576746.93999999994},{"$f":"AB14-Z14","v":13771.459999999846}]
["Maintenance",673343,{"$f":"VLOOKUP('LDC Info'!$E$14 & \" Distribution Expenses – Maintenance \" & LEFT(C12,4),'OM&A_Expenses'!$C:$F,4,FALSE)","v":613080.63},{"$f":"VLOOKUP('LDC Info'!$E$14 & \" Distribution Expenses – Maintenance \" & LEFT(D12,4),'OM&A_Expenses'!$C:$F,4,FALSE)","v":{"$error":"#N/A"}},{"$f":"VLOOKUP('LDC Info'!$E$14 & \" Distribution Expenses – Maintenance \" & LEFT(E12,4),'OM&A_Expenses'!$C:$F,4,FALSE)","v":{"$error":"#N/A"}},{"$f":"VLOOKUP('LDC Info'!$E$14 & \" Distribution Expenses – Maintenance \" & LEFT(F12,4),'OM&A_Expenses'!$C:$F,4,FALSE)","v":613080.63},{"$f":"VLOOKUP('LDC Info'!$E$14 & \" Distribution Expenses – Maintenance \" & LEFT(G12,4),'OM&A_Expenses'!$C:$F,4,FALSE)","v":692292.42},{"$f":"VLOOKUP('LDC Info'!$E$14 & \" Distribution Expenses – Maintenance \" & LEFT(H12,4),'OM&A_Expenses'!$C:$F,4,FALSE)","v":500383.53},{"$f":"VLOOKUP('LDC Info'!$E$14 & \" Distribution Expenses – Maintenance \" & LEFT(I12,4),'OM&A_Expenses'!$C:$F,4,FALSE)","v":645567.21},{"$f":"VLOOKUP('LDC Info'!$E$14 & \" Distribution Expenses – Maintenance \" & LEFT(J12,4),'OM&A_Expenses'!$C:$F,4,FALSE)","v":501235.76},562975.4800000001,576746.93999999994,null,null,"Billing and Collecting ",{"$f":"B19","v":733000},747070.98,-14070.979999999981,{"$f":"D19","v":{"$error":"#N/A"}},{"$error":"#N/A"},747070.98,804066.82,668040.86,748224.19,837379.93,951322.46,113942.52999999991,{"$f":"L19","v":962860.32000000007},11537.860000000102]
["SubTotal",{"$f":"SUM(B14:B15)","v":1202589},{"$f":"SUM(C14:C15)","v":1243809.8},{"$error":"#N/A"},{"$error":"#N/A"},1243809.8,{"$f":"SUM(G14:G15)","v":1257805.4700000002},984635.65,1158894.5,1286976.3700000001,1378297.9346500002,1477837.47,null,null,"Community Relations ",67000,55983.94,11016.059999999998,{"$error":"#N/A"},{"$error":"#N/A"},55983.94,79472.42,71626.66,64256.95,30338,41361.550000000003,11023.550000000003,{"$f":"L20","v":42318.43},{"$f":"AB16-Z16","v":956.87999999999738}]
["%Change (year over year)",null,{"$f":"IF(ISERROR((C16-B16)/B16), \"\", (C16-B16)/B16)","v":3.4276714654798979E-2},{"$f":"IF(ISERROR((D16-HLOOKUP(D11-1,$A$11:C26,6,FALSE))/HLOOKUP(D11-1,$A$11:C26,6,FALSE)), \"\", (D16-HLOOKUP(D11-1,$A$11:C26,6,FALSE))/HLOOKUP(D11-1,$A$11:C26,6,FALSE))","v":""},{"$f":"IF(ISERROR((E16-HLOOKUP(E11-1,$A$11:D26,6,FALSE))/HLOOKUP(E11-1,$A$11:D26,6,FALSE)), \"\", (E16-HLOOKUP(E11-1,$A$11:D26,6,FALSE))/HLOOKUP(E11-1,$A$11:D26,6,FALSE))","v":""},{"$f":"IF(ISERROR((F16-HLOOKUP(F11-1,$A$11:E26,6,FALSE))/HLOOKUP(F11-1,$A$11:E26,6,FALSE)), \"\", (F16-HLOOKUP(F11-1,$A$11:E26,6,FALSE))/HLOOKUP(F11-1,$A$11:E26,6,FALSE))","v":""},{"$f":"IF(ISERROR((G16-HLOOKUP(G11-1,$A$11:F26,6,FALSE))/HLOOKUP(G11-1,$A$11:F26,6,FALSE)), \"\", (G16-HLOOKUP(G11-1,$A$11:F26,6,FALSE))/HLOOKUP(G11-1,$A$11:F26,6,FALSE))","v":1.1252258986864517E-2},{"$f":"IF(ISERROR((H16-HLOOKUP(H11-1,$A$11:G26,6,FALSE))/HLOOKUP(H11-1,$A$11:G26,6,FALSE)), \"\", (H16-HLOOKUP(H11-1,$A$11:G26,6,FALSE))/HLOOKUP(H11-1,$A$11:G26,6,FALSE))","v":-0.21717970426698824},{"$f":"IF(ISERROR((I16-HLOOKUP(I11-1,$A$11:H26,6,FALSE))/HLOOKUP(I11-1,$A$11:H26,6,FALSE)), \"\", (I16-HLOOKUP(I11-1,$A$11:H26,6,FALSE))/HLOOKUP(I11-1,$A$11:H26,6,FALSE))","v":0.17697800196448299},{"$f":"IF(ISERROR((J16-HLOOKUP(J11-1,$A$11:I26,6,FALSE))/HLOOKUP(J11-1,$A$11:I26,6,FALSE)), \"\", (J16-HLOOKUP(J11-1,$A$11:I26,6,FALSE))/HLOOKUP(J11-1,$A$11:I26,6,FALSE))","v":0.11052073333681375},{"$f":"IF(ISERROR((K16-HLOOKUP(K11-1,$A$11:J26,6,FALSE))/HLOOKUP(K11-1,$A$11:J26,6,FALSE)), \"\", (K16-HLOOKUP(K11-1,$A$11:J26,6,FALSE))/HLOOKUP(K11-1,$A$11:J26,6,FALSE))","v":7.0958229520562272E-2},{"$f":"IF(ISERROR((L16-K16)/K16), \"\", (L16-K16)/K16)","v":7.2219171811555016E-2},null,null,"Administrative and General ",1062375,886993.31,175381.68999999994,{"$error":"#N/A"},{"$error":"#N/A"},886993.31,1121791.42,1077174.8400000001,1235810,1203797,1158155.4599999997,-45641.54000000027,{"$f":"L21","v":1225378.1142},67222.654200000223]
["%Change (Test Year vs \nLast Rebasing Year - Actual)",null,null,null,null,null,null,null,null,null,null,{"$f":"IF(ISERROR((L16-C16)/C16), \"\", (L16-C16)/C16)","v":0.18815390423841324},null,null,"Total OM&A Expenses ",{"$f":"B25","v":3064964},{"$f":"C25","v":2933858.0300000003},{"$f":"P18-Q18","v":131105.96999999974},{"$error":"#N/A"},{"$error":"#N/A"},1690048.23,2005330.66,{"$f":"H25","v":2801478.0100000002},{"$f":"I25","v":3207185.6399999997},{"$f":"J25","v":3358491.3000000003},{"$f":"K25","v":3529137.4046499999},170646.10464999964,{"$f":"L25","v":3708394.3342000004},179256.92955000047]
["Billing and Collecting",733000,{"$f":"VLOOKUP('LDC Info'!$E$14 & \" \" &$A$19 & \" \" & LEFT(C12,4),'OM&A_Expenses'!$C:$F,4,FALSE)","v":747070.98},{"$f":"VLOOKUP('LDC Info'!$E$14 & \" \" &$A$19 & \" \" & LEFT(D12,4),'OM&A_Expenses'!$C:$F,4,FALSE)","v":{"$error":"#N/A"}},{"$f":"VLOOKUP('LDC Info'!$E$14 & \" \" &$A$19 & \" \" & LEFT(E12,4),'OM&A_Expenses'!$C:$F,4,FALSE)","v":{"$error":"#N/A"}},{"$f":"VLOOKUP('LDC Info'!$E$14 & \" \" &$A$19 & \" \" & LEFT(F12,4),'OM&A_Expenses'!$C:$F,4,FALSE)","v":747070.98},{"$f":"VLOOKUP('LDC Info'!$E$14 & \" \" &$A$19 & \" \" & LEFT(G12,4),'OM&A_Expenses'!$C:$F,4,FALSE)","v":804066.82},{"$f":"VLOOKUP('LDC Info'!$E$14 & \" \" &$A$19 & \" \" & LEFT(H12,4),'OM&A_Expenses'!$C:$F,4,FALSE)","v":668040.86},{"$f":"VLOOKUP('LDC Info'!$E$14 & \" \" &$A$19 & \" \" & LEFT(I12,4),'OM&A_Expenses'!$C:$F,4,FALSE)","v":748224.19},{"$f":"VLOOKUP('LDC Info'!$E$14 & \" \" &$A$19 & \" \" & LEFT(J12,4),'OM&A_Expenses'!$C:$F,4,FALSE)","v":837379.93},951322.46,962860.32000000007,null,null,"Adjustments for Total non-recoverable items3"]
["Community Relations",67000,{"$f":"VLOOKUP('LDC Info'!$E$14 & \" \" &$A$20 & \" \" & LEFT(C12,4),'OM&A_Expenses'!$C:$F,4,FALSE)","v":55983.94},{"$f":"VLOOKUP('LDC Info'!$E$14 & \" \" &$A$20 & \" \" & LEFT(D12,4),'OM&A_Expenses'!$C:$F,4,FALSE)","v":{"$error":"#N/A"}},{"$f":"VLOOKUP('LDC Info'!$E$14 & \" \" &$A$20 & \" \" & LEFT(E12,4),'OM&A_Expenses'!$C:$F,4,FALSE)","v":{"$error":"#N/A"}},{"$f":"VLOOKUP('LDC Info'!$E$14 & \" \" &$A$20 & \" \" & LEFT(F12,4),'OM&A_Expenses'!$C:$F,4,FALSE)","v":55983.94},{"$f":"VLOOKUP('LDC Info'!$E$14 & \" \" &$A$20 & \" \" & LEFT(G12,4),'OM&A_Expenses'!$C:$F,4,FALSE)","v":79472.42},{"$f":"VLOOKUP('LDC Info'!$E$14 & \" \" &$A$20 & \" \" & LEFT(H12,4),'OM&A_Expenses'!$C:$F,4,FALSE)","v":71626.66},{"$f":"VLOOKUP('LDC Info'!$E$14 & \" \" &$A$20 & \" \" & LEFT(I12,4),'OM&A_Expenses'!$C:$F,4,FALSE)","v":64256.95},30338,41361.550000000003,42318.43,null,null,"Total Recoverable OM&A Expenses ",{"$f":"P18-P19","v":3064964},2933858.0300000003,131105.96999999974,{"$f":"IF(S11<=RebaseYear, 0, S18-S19)","v":0},0,0,2005330.66,2801478.0100000002,3207185.6399999997,3358491.3000000003,3529137.4046499999,{"$f":"AA18-AA19","v":170646.10464999964},3708394.3342000004,179256.92955000047]
["Administrative and General",1062375,{"$f":"VLOOKUP('LDC Info'!$E$14 & \" Administrative and General Expenses \" & LEFT(C12,4),'OM&A_Expenses'!$C:$F,4,FALSE)+VLOOKUP('LDC Info'!$E$14 & \" Administrative and General Expenses \" & LEFT(C12,4),'OM&A_Expenses'!$C:$G,5,FALSE)","v":886993.31},{"$f":"VLOOKUP('LDC Info'!$E$14 & \" Administrative and General Expenses \" & LEFT(D12,4),'OM&A_Expenses'!$C:$F,4,FALSE)+VLOOKUP('LDC Info'!$E$14 & \" Administrative and General Expenses \" & LEFT(D12,4),'OM&A_Expenses'!$C:$G,5,FALSE)","v":{"$error":"#N/A"}},{"$f":"VLOOKUP('LDC Info'!$E$14 & \" Administrative and General Expenses \" & LEFT(E12,4),'OM&A_Expenses'!$C:$F,4,FALSE)+VLOOKUP('LDC Info'!$E$14 & \" Administrative and General Expenses \" & LEFT(E12,4),'OM&A_Expenses'!$C:$G,5,FALSE)","v":{"$error":"#N/A"}},{"$f":"VLOOKUP('LDC Info'!$E$14 & \" Administrative and General Expenses \" & LEFT(F12,4),'OM&A_Expenses'!$C:$F,4,FALSE)+VLOOKUP('LDC Info'!$E$14 & \" Administrative and General Expenses \" & LEFT(F12,4),'OM&A_Expenses'!$C:$G,5,FALSE)","v":886993.31},{"$f":"VLOOKUP('LDC Info'!$E$14 & \" Administrative and General Expenses \" & LEFT(G12,4),'OM&A_Expenses'!$C:$F,4,FALSE)+VLOOKUP('LDC Info'!$E$14 & \" Administrative and General Expenses \" & LEFT(G12,4),'OM&A_Expenses'!$C:$G,5,FALSE)","v":1121791.42},{"$f":"VLOOKUP('LDC Info'!$E$14 & \" Administrative and General Expenses \" & LEFT(H12,4),'OM&A_Expenses'!$C:$F,4,FALSE)+VLOOKUP('LDC Info'!$E$14 & \" Administrative and General Expenses \" & LEFT(H12,4),'OM&A_Expenses'!$C:$G,5,FALSE)","v":1077174.8400000001},1235810,1203797,1158155.4599999997,1225378.1142,null,null,"Variance from previous year ",null,null,null,{"$f":"IF(S11<=RebaseYear, 0, S20-Q20)","v":0},{"$f":"IF(T11<=RebaseYear, 0, IF(T11=RebaseYear+1, T20-$Q$20, T20-S20))","v":0},0,-928527.37000000034,796147.35000000033,405707.62999999942,151305.66000000061,170646.10464999964,null,{"$f":"AB20-Z20","v":179256.92955000047}]
["SubTotal",{"$f":"SUM(B19:B21)","v":1862375},{"$f":"SUM(C19:C21)","v":1690048.23},{"$error":"#N/A"},{"$error":"#N/A"},1690048.23,2005330.66,1816842.36,2048291.14,{"$f":"SUM(J19:J21)","v":2071514.9300000002},{"$f":"SUM(K19:K21)","v":2150839.4699999997},{"$f":"SUM(L19:L21)","v":2230556.8642000002},null,null,"Percent change (year over year) ",null,null,null,{"$f":"IF(S11<=RebaseYear, 0, IF(ISERROR(S21/Q20), \"\", S21/Q20))","v":0},{"$f":"IF(S11<=RebaseYear, 0, IF(T11=RebaseYear+1, IF(ISERROR(T21/$Q$20), \"\", T21/$Q$20),IF(ISERROR(T21/S20), \"\", T21/S20)))","v":0},0,0,0.39701549768355926,0.14481913780933064,4.7177082022604913E-2,5.0810345898469243E-2,null,{"$f":"IF(ISERROR(AB21/Z20), \"\", AB21/Z20)","v":5.0793411816103022E-2}]
["%Change (year over year)",null,{"$f":"IF(ISERROR((C22-B22)/B22), \"\", (C22-B22)/B22)","v":-9.2530650379220092E-2},{"$f":"IF(ISERROR((D22-HLOOKUP(D11-1,$A$11:C26,12,FALSE))/HLOOKUP(D11-1,$A$11:C26,12,FALSE)), \"\", (D22-HLOOKUP(D11-1,$A$11:C26,12,FALSE))/HLOOKUP(D11-1,$A$11:C26,12,FALSE))","v":""},{"$f":"IF(ISERROR((E22-HLOOKUP(E11-1,$A$11:D26,12,FALSE))/HLOOKUP(E11-1,$A$11:D26,12,FALSE)), \"\", (E22-HLOOKUP(E11-1,$A$11:D26,12,FALSE))/HLOOKUP(E11-1,$A$11:D26,12,FALSE))","v":""},{"$f":"IF(ISERROR((F22-HLOOKUP(F11-1,$A$11:E26,12,FALSE))/HLOOKUP(F11-1,$A$11:E26,12,FALSE)), \"\", (F22-HLOOKUP(F11-1,$A$11:E26,12,FALSE))/HLOOKUP(F11-1,$A$11:E26,12,FALSE))","v":""},{"$f":"IF(ISERROR((G22-HLOOKUP(G11-1,$A$11:F26,12,FALSE))/HLOOKUP(G11-1,$A$11:F26,12,FALSE)), \"\", (G22-HLOOKUP(G11-1,$A$11:F26,12,FALSE))/HLOOKUP(G11-1,$A$11:F26,12,FALSE))","v":0.18655232697116575},{"$f":"IF(ISERROR((H22-HLOOKUP(H11-1,$A$11:G26,12,FALSE))/HLOOKUP(H11-1,$A$11:G26,12,FALSE)), \"\", (H22-HLOOKUP(H11-1,$A$11:G26,12,FALSE))/HLOOKUP(H11-1,$A$11:G26,12,FALSE))","v":-9.3993625968896238E-2},{"$f":"IF(ISERROR((I22-HLOOKUP(I11-1,$A$11:H26,12,FALSE))/HLOOKUP(I11-1,$A$11:H26,12,FALSE)), \"\", (I22-HLOOKUP(I11-1,$A$11:H26,12,FALSE))/HLOOKUP(I11-1,$A$11:H26,12,FALSE))","v":0.12739067796723971},{"$f":"IF(ISERROR((J22-HLOOKUP(J11-1,$A$11:I26,12,FALSE))/HLOOKUP(J11-1,$A$11:I26,12,FALSE)), \"\", (J22-HLOOKUP(J11-1,$A$11:I26,12,FALSE))/HLOOKUP(J11-1,$A$11:I26,12,FALSE))","v":1.1338129402834927E-2},{"$f":"IF(ISERROR((K22-HLOOKUP(K11-1,$A$11:J26,12,FALSE))/HLOOKUP(K11-1,$A$11:J26,12,FALSE)), \"\", (K22-HLOOKUP(K11-1,$A$11:J26,12,FALSE))/HLOOKUP(K11-1,$A$11:J26,12,FALSE))","v":3.829300906848862E-2},{"$f":"IF(ISERROR((L22-K22)/K22), \"\", (L22-K22)/K22)","v":3.7063386325154456E-2},null,null,"Percent Change:                                                    Test year vs. Most Current Actual ",null,null,null,null,null,null,null,null,null,null,null,null,{"$f":"IF(ISERROR((AB20-Y20)/Y20), \"\", (AB20-Y20)/Y20)","v":0.10418458853831186}]
["%Change (Test Year vs \nLast Rebasing Year - Actual)",null,null,null,null,null,null,null,null,null,null,{"$f":"IF(ISERROR((L22-C22)/C22), \"\", (L22-C22)/C22)","v":0.31981846707416167},null,null,"Simple average of % variance for all years",null,null,null,null,null,null,null,null,null,null,null,null,{"$f":"IF(ISERROR(AVERAGEIF(S22:AB22,\"<>0\")),0,AVERAGEIF(S22:AB22,\"<>0\"))","v":0.13812309504601342}]
["Total",{"$f":"SUM(B22,B16)","v":3064964},{"$f":"SUM(C22,C16)","v":2933858.0300000003},{"$error":"#N/A"},{"$error":"#N/A"},2933858.0300000003,{"$f":"SUM(G22,G16)","v":3263136.13},{"$f":"SUM(H22,H16)","v":2801478.0100000002},3207185.6399999997,{"$f":"SUM(J22,J16)","v":3358491.3000000003},{"$f":"SUM(K22,K16)","v":3529137.4046499999},{"$f":"SUM(L22,L16)","v":3708394.3342000004},null,null,"Compound Annual Growth Rate for all years",null,null,null,null,null,null,null,null,null,null,null,null,null,{"$f":"IF((AB20-Q20)=0, \"\", (AB20/Q20)^(1/(TestYear-RebaseYear))-1)","v":3.9819128411656468E-2}]
["%Change (year over year)",null,{"$f":"IF(ISERROR((C25-B25)/B25), \"\", (C25-B25)/B25)","v":-4.2775696549779946E-2},{"$f":"IF(ISERROR((D25-HLOOKUP(D11-1,$A$11:C26,15,FALSE))/HLOOKUP(D11-1,$A$11:C26,15,FALSE)), \"\", (D25-HLOOKUP(D11-1,$A$11:C26,15,FALSE))/HLOOKUP(D11-1,$A$11:C26,15,FALSE))","v":""},{"$f":"IF(ISERROR((E25-HLOOKUP(E11-1,$A$11:D26,15,FALSE))/HLOOKUP(E11-1,$A$11:D26,15,FALSE)), \"\", (E25-HLOOKUP(E11-1,$A$11:D26,15,FALSE))/HLOOKUP(E11-1,$A$11:D26,15,FALSE))","v":""},{"$f":"IF(ISERROR((F25-HLOOKUP(F11-1,$A$11:E26,15,FALSE))/HLOOKUP(F11-1,$A$11:E26,15,FALSE)), \"\", (F25-HLOOKUP(F11-1,$A$11:E26,15,FALSE))/HLOOKUP(F11-1,$A$11:E26,15,FALSE))","v":""},{"$f":"IF(ISERROR((G25-HLOOKUP(G11-1,$A$11:F26,15,FALSE))/HLOOKUP(G11-1,$A$11:F26,15,FALSE)), \"\", (G25-HLOOKUP(G11-1,$A$11:F26,15,FALSE))/HLOOKUP(G11-1,$A$11:F26,15,FALSE))","v":0.11223382202989543},{"$f":"IF(ISERROR((H25-HLOOKUP(H11-1,$A$11:G26,15,FALSE))/HLOOKUP(H11-1,$A$11:G26,15,FALSE)), \"\", (H25-HLOOKUP(H11-1,$A$11:G26,15,FALSE))/HLOOKUP(H11-1,$A$11:G26,15,FALSE))","v":-0.1414768191114355},{"$f":"IF(ISERROR((I25-HLOOKUP(I11-1,$A$11:H26,15,FALSE))/HLOOKUP(I11-1,$A$11:H26,15,FALSE)), \"\", (I25-HLOOKUP(I11-1,$A$11:H26,15,FALSE))/HLOOKUP(I11-1,$A$11:H26,15,FALSE))","v":0.14481913780933064},{"$f":"IF(ISERROR((J25-HLOOKUP(J11-1,$A$11:I26,15,FALSE))/HLOOKUP(J11-1,$A$11:I26,15,FALSE)), \"\", (J25-HLOOKUP(J11-1,$A$11:I26,15,FALSE))/HLOOKUP(J11-1,$A$11:I26,15,FALSE))","v":4.7177082022604913E-2},{"$f":"IF(ISERROR((K25-HLOOKUP(K11-1,$A$11:J26,15,FALSE))/HLOOKUP(K11-1,$A$11:J26,15,FALSE)), \"\", (K25-HLOOKUP(K11-1,$A$11:J26,15,FALSE))/HLOOKUP(K11-1,$A$11:J26,15,FALSE))","v":5.0810345898469243E-2},{"$f":"IF(ISERROR((L25-K25)/K25), \"\", (L25-K25)/K25)","v":5.0793411816103022E-2},null,null,{"$f":"\"Compound Growth Rate                                                            (\" & TestYear - 2 & \" vs. \" & 'LDC Info'!E28 & \" Actuals)\"","v":"Compound Growth Rate                                                            (2020 vs. 2016 Actuals)"},null,null,null,null,null,null,null,null,null,null,null,null,{"$f":"IF((Y20-Q20)=0, \"\", (Y20/Q20)^(1/(TestYear-2-RebaseYear))-1)","v":3.4370874471404411E-2}]
[]
[]
[null,{"$f":"B12","v":"2016 Last Rebasing Year OEB Approved"},"2016 Last Rebasing Year Actuals","2014 Actuals","2015 Actuals","2016 Last Rebasing Year Actuals","2017 Actuals","2018 Actuals","2019 Actuals","2020 Actuals","2021 Bridge Year","2022 Test Year"]
["Operations4",{"$f":"B14","v":529246},630729.17000000004,{"$error":"#N/A"},{"$error":"#N/A"},630729.17000000004,565513.05000000005,484252.12,513327.29,785740.61,815322.4546500002,901090.53]
["Maintenance5",{"$f":"B15","v":673343},613080.63,{"$error":"#N/A"},{"$error":"#N/A"},613080.63,692292.42,500383.53,645567.21,501235.76,562975.4800000001,576746.93999999994]
["Billing and Collecting6",{"$f":"B19","v":733000},747070.98,{"$error":"#N/A"},{"$error":"#N/A"},747070.98,804066.82,668040.86,748224.19,837379.93,951322.46,962860.32000000007]
["Community Relations7",{"$f":"B20","v":67000},55983.94,{"$error":"#N/A"},{"$error":"#N/A"},55983.94,79472.42,71626.66,64256.95,30338,41361.550000000003,42318.43]
["Administrative and General8",{"$f":"B21","v":1062375},886993.31,{"$error":"#N/A"},{"$error":"#N/A"},886993.31,1121791.42,1077174.8400000001,1235810,1203797,1158155.4599999997,1225378.1142]
["Total",{"$f":"SUM(B30:B34)","v":3064964},{"$f":"SUM(C30:C34)","v":2933858.0300000003},{"$f":"SUM(D30:D34)","v":{"$error":"#N/A"}},{"$f":"SUM(E30:E34)","v":{"$error":"#N/A"}},2933858.0300000003,3263136.13,2801478.01,3207185.6399999997,3358491.3000000003,3529137.4046499999,3708394.3342000004]
["%Change (year over year)",null,{"$f":"IF(ISERROR((C35-B35)/B35), \"\", (C35-B35)/B35)","v":-4.2775696549779946E-2},{"$f":"IF(R11<=RebaseYear,\"\",IF(R11=RebaseYear+1,IF(ISERROR((D35-$C$35)/$C$35),\"\",(D35-$C$35)/$C$35),IF(ISERROR((D35-C35)/C35),\"\",(D35-C35)/C35)))","v":""},{"$f":"IF(S11<=RebaseYear,\"\",IF(S11=RebaseYear+1,IF(ISERROR((E35-$C$35)/$C$35),\"\",(E35-$C$35)/$C$35),IF(ISERROR((E35-D35)/D35),\"\",(E35-D35)/D35)))","v":""},{"$f":"IF(T11<=RebaseYear,\"\",IF(T11=RebaseYear+1,IF(ISERROR((F35-$C$35)/$C$35),\"\",(F35-$C$35)/$C$35),IF(ISERROR((F35-E35)/E35),\"\",(F35-E35)/E35)))","v":""},{"$f":"IF(U11<=RebaseYear,\"\",IF(U11=RebaseYear+1,IF(ISERROR((G35-$C$35)/$C$35),\"\",(G35-$C$35)/$C$35),IF(ISERROR((G35-F35)/F35),\"\",(G35-F35)/F35)))","v":""},{"$f":"IF(W11<=RebaseYear,\"\",IF(W11=RebaseYear+1,IF(ISERROR((H35-$C$35)/$C$35),\"\",(H35-$C$35)/$C$35),IF(ISERROR((H35-G35)/G35),\"\",(H35-G35)/G35)))","v":-0.14147681911143564},{"$f":"IF(X11<=RebaseYear,\"\",IF(X11=RebaseYear+1,IF(ISERROR((I35-$C$35)/$C$35),\"\",(I35-$C$35)/$C$35),IF(ISERROR((I35-H35)/H35),\"\",(I35-H35)/H35)))","v":0.14481913780933084},{"$f":"IF(Y11<=RebaseYear,\"\",IF(Y11=RebaseYear+1,IF(ISERROR((J35-$C$35)/$C$35),\"\",(J35-$C$35)/$C$35),IF(ISERROR((J35-I35)/I35),\"\",(J35-I35)/I35)))","v":4.7177082022604913E-2},{"$f":"IF(Z11<=RebaseYear,\"\",IF(Z11=RebaseYear+1,IF(ISERROR((K35-$C$35)/$C$35),\"\",(K35-$C$35)/$C$35),IF(ISERROR((K35-J35)/J35),\"\",(K35-J35)/J35)))","v":5.0810345898469243E-2},{"$f":"IF(Z11<=RebaseYear,0,IF(Z11=RebaseYear+1,IF(ISERROR((L35-$C$35)/$C$35),\"\",(L35-$C$35)/$C$35),IF(ISERROR((L35-K35)/K35),\"\",(L35-K35)/K35)))","v":5.0793411816103022E-2}]
[]
["Note:"]
[]
["1     Historical actuals going back to the last cost of service application are required to be entered by the applicant."]
["2     Recoverable OM&A that is included on these tables should be identical to the recoverable OM&A that is shown for the corresponding periods on Appendix 2-JB."]
["3     For unrecoverable OM&A Expenses see Section 2.4.3.7"]
["4     USoA included in Operations: 5005, 5010, 5012, 5014, 5015, 5016, 5017, 5020, 5025, 5030, 5035, 5040, 5045, 5050, 5055, 5060, 5065, 5070, 5075, 5085, 5090, 5095, 5096"]
["5     USoA included in Maintenance: 5305, 5310, 5315, 5320, 5325, 5330, 5335, 5340"]
["6     USoA included in Billing and Collecting: 5105, 5110, 5112, 5114, 5120, 5125, 5130, 5135, 5145, 5150, 5155, 5160, 5165, 5170, 5172, 5175, 5178, 5195"]
["7     USoA included in Community Relations: 5405, 5410, 5415, 5420, 5425"]
["8     USoA included in Administrative and General: 5505, 5510, 5515, 5520, 5605, 5610, 5615, 5620, 5625, 5630, 5635, 5640, 5645, 5646, 5647, 5650, 5655, 5660, 5665, 5670, \n       5672, 5675, 5680, 5681, 5685, 5695 & 6205 (sub-account LEAP funding)"]

{"sheet":"Hidden_OM&A Summary","index":38,"n_rows":56,"n_cols":8,"rows_kept":56,"cut":false,"hidden":true,"merged":[]}
["Utility Name","EB Number","Test Year","Bridge Year","Last Rebasing Year","Heading","Year","Amount"]
[{"$f":"'LDC Info'!$E$14","v":"Ottawa River Power Corporation"},{"$f":"EBNUMBER","v":"EB-2021-0052"},{"$f":"TestYear","v":2022},{"$f":"BridgeYear","v":2021},{"$f":"RebaseYear","v":2016},"Operations",{"$f":"'App.2-JA_OM&A_Summary_Analys'!$B$12","v":"2016 Last Rebasing Year OEB Approved"},{"$f":"'App.2-JA_OM&A_Summary_Analys'!B$14","v":529246}]
[{"$f":"'LDC Info'!$E$14","v":"Ottawa River Power Corporation"},"EB-2021-0052",2022,2021,2016,"Maintenance",{"$f":"'App.2-JA_OM&A_Summary_Analys'!$B$12","v":"2016 Last Rebasing Year OEB Approved"},{"$f":"'App.2-JA_OM&A_Summary_Analys'!B$15","v":673343}]
[{"$f":"'LDC Info'!$E$14","v":"Ottawa River Power Corporation"},"EB-2021-0052",2022,2021,2016,"Billing and Collecting",{"$f":"'App.2-JA_OM&A_Summary_Analys'!$B$12","v":"2016 Last Rebasing Year OEB Approved"},{"$f":"'App.2-JA_OM&A_Summary_Analys'!B$19","v":733000}]
[{"$f":"'LDC Info'!$E$14","v":"Ottawa River Power Corporation"},"EB-2021-0052",2022,2021,2016,"Community Relations",{"$f":"'App.2-JA_OM&A_Summary_Analys'!$B$12","v":"2016 Last Rebasing Year OEB Approved"},{"$f":"'App.2-JA_OM&A_Summary_Analys'!B$20","v":67000}]
[{"$f":"'LDC Info'!$E$14","v":"Ottawa River Power Corporation"},"EB-2021-0052",2022,2021,2016,"Administrative and General",{"$f":"'App.2-JA_OM&A_Summary_Analys'!$B$12","v":"2016 Last Rebasing Year OEB Approved"},{"$f":"'App.2-JA_OM&A_Summary_Analys'!B$21","v":1062375}]
[{"$f":"'LDC Info'!$E$14","v":"Ottawa River Power Corporation"},"EB-2021-0052",2022,2021,2016,"Operations",{"$f":"'App.2-JA_OM&A_Summary_Analys'!$C$12","v":"2016 Last Rebasing Year Actuals"},{"$f":"'App.2-JA_OM&A_Summary_Analys'!C$14","v":630729.17000000004}]
[{"$f":"'LDC Info'!$E$14","v":"Ottawa River Power Corporation"},"EB-2021-0052",2022,2021,2016,"Maintenance",{"$f":"'App.2-JA_OM&A_Summary_Analys'!$C$12","v":"2016 Last Rebasing Year Actuals"},{"$f":"'App.2-JA_OM&A_Summary_Analys'!C$15","v":613080.63}]
[{"$f":"'LDC Info'!$E$14","v":"Ottawa River Power Corporation"},"EB-2021-0052",2022,2021,2016,"Billing and Collecting",{"$f":"'App.2-JA_OM&A_Summary_Analys'!$C$12","v":"2016 Last Rebasing Year Actuals"},{"$f":"'App.2-JA_OM&A_Summary_Analys'!C$19","v":747070.98}]
[{"$f":"'LDC Info'!$E$14","v":"Ottawa River Power Corporation"},"EB-2021-0052",2022,2021,2016,"Community Relations",{"$f":"'App.2-JA_OM&A_Summary_Analys'!$C$12","v":"2016 Last Rebasing Year Actuals"},{"$f":"'App.2-JA_OM&A_Summary_Analys'!C$20","v":55983.94}]
[{"$f":"'LDC Info'!$E$14","v":"Ottawa River Power Corporation"},"EB-2021-0052",2022,2021,2016,"Administrative and General",{"$f":"'App.2-JA_OM&A_Summary_Analys'!$C$12","v":"2016 Last Rebasing Year Actuals"},{"$f":"'App.2-JA_OM&A_Summary_Analys'!C$21","v":886993.31}]
[{"$f":"'LDC Info'!$E$14","v":"Ottawa River Power Corporation"},"EB-2021-0052",2022,2021,2016,"Operations",{"$f":"'App.2-JA_OM&A_Summary_Analys'!$D$12","v":"2014 Actuals"},{"$f":"'App.2-JA_OM&A_Summary_Analys'!D$14","v":{"$error":"#N/A"}}]
[{"$f":"'LDC Info'!$E$14","v":"Ottawa River Power Corporation"},"EB-2021-0052",2022,2021,2016,"Maintenance",{"$f":"'App.2-JA_OM&A_Summary_Analys'!$D$12","v":"2014 Actuals"},{"$f":"'App.2-JA_OM&A_Summary_Analys'!D$15","v":{"$error":"#N/A"}}]
[{"$f":"'LDC Info'!$E$14","v":"Ottawa River Power Corporation"},"EB-2021-0052",2022,2021,2016,"Billing and Collecting",{"$f":"'App.2-JA_OM&A_Summary_Analys'!$D$12","v":"2014 Actuals"},{"$f":"'App.2-JA_OM&A_Summary_Analys'!D$19","v":{"$error":"#N/A"}}]
[{"$f":"'LDC Info'!$E$14","v":"Ottawa River Power Corporation"},"EB-2021-0052",2022,2021,2016,"Community Relations",{"$f":"'App.2-JA_OM&A_Summary_Analys'!$D$12","v":"2014 Actuals"},{"$f":"'App.2-JA_OM&A_Summary_Analys'!D$20","v":{"$error":"#N/A"}}]
[{"$f":"'LDC Info'!$E$14","v":"Ottawa River Power Corporation"},"EB-2021-0052",2022,2021,2016,"Administrative and General",{"$f":"'App.2-JA_OM&A_Summary_Analys'!$D$12","v":"2014 Actuals"},{"$f":"'App.2-JA_OM&A_Summary_Analys'!D$21","v":{"$error":"#N/A"}}]
[{"$f":"'LDC Info'!$E$14","v":"Ottawa River Power Corporation"},"EB-2021-0052",2022,2021,2016,"Operations",{"$f":"'App.2-JA_OM&A_Summary_Analys'!$E$12","v":"2015 Actuals"},{"$f":"'App.2-JA_OM&A_Summary_Analys'!E$14","v":{"$error":"#N/A"}}]
[{"$f":"'LDC Info'!$E$14","v":"Ottawa River Power Corporation"},"EB-2021-0052",2022,2021,2016,"Maintenance",{"$f":"'App.2-JA_OM&A_Summary_Analys'!$E$12","v":"2015 Actuals"},{"$f":"'App.2-JA_OM&A_Summary_Analys'!E$15","v":{"$error":"#N/A"}}]
[{"$f":"'LDC Info'!$E$14","v":"Ottawa River Power Corporation"},{"$f":"EBNUMBER","v":"EB-2021-0052"},{"$f":"TestYear","v":2022},{"$f":"BridgeYear","v":2021},{"$f":"RebaseYear","v":2016},"Billing and Collecting",{"$f":"'App.2-JA_OM&A_Summary_Analys'!$E$12","v":"2015 Actuals"},{"$f":"'App.2-JA_OM&A_Summary_Analys'!E$19","v":{"$error":"#N/A"}}]
[{"$f":"'LDC Info'!$E$14","v":"Ottawa River Power Corporation"},"EB-2021-0052",2022,2021,2016,"Community Relations",{"$f":"'App.2-JA_OM&A_Summary_Analys'!$E$12","v":"2015 Actuals"},{"$f":"'App.2-JA_OM&A_Summary_Analys'!E$20","v":{"$error":"#N/A"}}]
[{"$f":"'LDC Info'!$E$14","v":"Ottawa River Power Corporation"},"EB-2021-0052",2022,2021,2016,"Administrative and General",{"$f":"'App.2-JA_OM&A_Summary_Analys'!$E$12","v":"2015 Actuals"},{"$f":"'App.2-JA_OM&A_Summary_Analys'!E$21","v":{"$error":"#N/A"}}]
[{"$f":"'LDC Info'!$E$14","v":"Ottawa River Power Corporation"},"EB-2021-0052",2022,2021,2016,"Operations",{"$f":"'App.2-JA_OM&A_Summary_Analys'!$F$12","v":"2016 Last Rebasing Year Actuals"},{"$f":"'App.2-JA_OM&A_Summary_Analys'!F$14","v":630729.17000000004}]
[{"$f":"'LDC Info'!$E$14","v":"Ottawa River Power Corporation"},"EB-2021-0052",2022,2021,2016,"Maintenance",{"$f":"'App.2-JA_OM&A_Summary_Analys'!$F$12","v":"2016 Last Rebasing Year Actuals"},{"$f":"'App.2-JA_OM&A_Summary_Analys'!F$15","v":613080.63}]
[{"$f":"'LDC Info'!$E$14","v":"Ottawa River Power Corporation"},"EB-2021-0052",2022,2021,2016,"Billing and Collecting",{"$f":"'App.2-JA_OM&A_Summary_Analys'!$F$12","v":"2016 Last Rebasing Year Actuals"},{"$f":"'App.2-JA_OM&A_Summary_Analys'!F$19","v":747070.98}]
[{"$f":"'LDC Info'!$E$14","v":"Ottawa River Power Corporation"},"EB-2021-0052",2022,2021,2016,"Community Relations",{"$f":"'App.2-JA_OM&A_Summary_Analys'!$F$12","v":"2016 Last Rebasing Year Actuals"},{"$f":"'App.2-JA_OM&A_Summary_Analys'!F$20","v":55983.94}]
[{"$f":"'LDC Info'!$E$14","v":"Ottawa River Power Corporation"},"EB-2021-0052",2022,2021,2016,"Administrative and General",{"$f":"'App.2-JA_OM&A_Summary_Analys'!$F$12","v":"2016 Last Rebasing Year Actuals"},{"$f":"'App.2-JA_OM&A_Summary_Analys'!F$21","v":886993.31}]
[{"$f":"'LDC Info'!$E$14","v":"Ottawa River Power Corporation"},"EB-2021-0052",2022,2021,2016,"Operations",{"$f":"'App.2-JA_OM&A_Summary_Analys'!$G$12","v":"2017 Actuals"},{"$f":"'App.2-JA_OM&A_Summary_Analys'!G$14","v":565513.05000000005}]
[{"$f":"'LDC Info'!$E$14","v":"Ottawa River Power Corporation"},"EB-2021-0052",2022,2021,2016,"Maintenance",{"$f":"'App.2-JA_OM&A_Summary_Analys'!$G$12","v":"2017 Actuals"},{"$f":"'App.2-JA_OM&A_Summary_Analys'!G$15","v":692292.42}]
[{"$f":"'LDC Info'!$E$14","v":"Ottawa River Power Corporation"},"EB-2021-0052",2022,2021,2016,"Billing and Collecting",{"$f":"'App.2-JA_OM&A_Summary_Analys'!$G$12","v":"2017 Actuals"},{"$f":"'App.2-JA_OM&A_Summary_Analys'!G$19","v":804066.82}]
[{"$f":"'LDC Info'!$E$14","v":"Ottawa River Power Corporation"},"EB-2021-0052",2022,2021,2016,"Community Relations",{"$f":"'App.2-JA_OM&A_Summary_Analys'!$G$12","v":"2017 Actuals"},{"$f":"'App.2-JA_OM&A_Summary_Analys'!G$20","v":79472.42}]
[{"$f":"'LDC Info'!$E$14","v":"Ottawa River Power Corporation"},{"$f":"EBNUMBER","v":"EB-2021-0052"},{"$f":"TestYear","v":2022},{"$f":"BridgeYear","v":2021},{"$f":"RebaseYear","v":2016},"Administrative and General",{"$f":"'App.2-JA_OM&A_Summary_Analys'!$G$12","v":"2017 Actuals"},{"$f":"'App.2-JA_OM&A_Summary_Analys'!G$21","v":1121791.42}]
[{"$f":"'LDC Info'!$E$14","v":"Ottawa River Power Corporation"},"EB-2021-0052",2022,2021,2016,"Operations",{"$f":"'App.2-JA_OM&A_Summary_Analys'!$H$12","v":"2018 Actuals"},{"$f":"'App.2-JA_OM&A_Summary_Analys'!H$14","v":484252.12}]
[{"$f":"'LDC Info'!$E$14","v":"Ottawa River Power Corporation"},"EB-2021-0052",2022,2021,2016,"Maintenance",{"$f":"'App.2-JA_OM&A_Summary_Analys'!$H$12","v":"2018 Actuals"},{"$f":"'App.2-JA_OM&A_Summary_Analys'!H$15","v":500383.53}]
[{"$f":"'LDC Info'!$E$14","v":"Ottawa River Power Corporation"},"EB-2021-0052",2022,2021,2016,"Billing and Collecting",{"$f":"'App.2-JA_OM&A_Summary_Analys'!$H$12","v":"2018 Actuals"},{"$f":"'App.2-JA_OM&A_Summary_Analys'!H$19","v":668040.86}]
[{"$f":"'LDC Info'!$E$14","v":"Ottawa River Power Corporation"},"EB-2021-0052",2022,2021,2016,"Community Relations",{"$f":"'App.2-JA_OM&A_Summary_Analys'!$H$12","v":"2018 Actuals"},{"$f":"'App.2-JA_OM&A_Summary_Analys'!H$20","v":71626.66}]
[{"$f":"'LDC Info'!$E$14","v":"Ottawa River Power Corporation"},"EB-2021-0052",2022,2021,2016,"Administrative and General",{"$f":"'App.2-JA_OM&A_Summary_Analys'!$H$12","v":"2018 Actuals"},{"$f":"'App.2-JA_OM&A_Summary_Analys'!H$21","v":1077174.8400000001}]
[{"$f":"'LDC Info'!$E$14","v":"Ottawa River Power Corporation"},"EB-2021-0052",2022,2021,2016,"Operations",{"$f":"'App.2-JA_OM&A_Summary_Analys'!$I$12","v":"2019 Actuals"},{"$f":"'App.2-JA_OM&A_Summary_Analys'!I$14","v":513327.29}]
[{"$f":"'LDC Info'!$E$14","v":"Ottawa River Power Corporation"},"EB-2021-0052",2022,2021,2016,"Maintenance",{"$f":"'App.2-JA_OM&A_Summary_Analys'!$I$12","v":"2019 Actuals"},{"$f":"'App.2-JA_OM&A_Summary_Analys'!I$15","v":645567.21}]
[{"$f":"'LDC Info'!$E$14","v":"Ottawa River Power Corporation"},"EB-2021-0052",2022,2021,2016,"Billing and Collecting",{"$f":"'App.2-JA_OM&A_Summary_Analys'!$I$12","v":"2019 Actuals"},{"$f":"'App.2-JA_OM&A_Summary_Analys'!I$19","v":748224.19}]
[{"$f":"'LDC Info'!$E$14","v":"Ottawa River Power Corporation"},"EB-2021-0052",2022,2021,2016,"Community Relations",{"$f":"'App.2-JA_OM&A_Summary_Analys'!$I$12","v":"2019 Actuals"},{"$f":"'App.2-JA_OM&A_Summary_Analys'!I$20","v":64256.95}]
[{"$f":"'LDC Info'!$E$14","v":"Ottawa River Power Corporation"},"EB-2021-0052",2022,2021,2016,"Administrative and General",{"$f":"'App.2-JA_OM&A_Summary_Analys'!$I$12","v":"2019 Actuals"},{"$f":"'App.2-JA_OM&A_Summary_Analys'!I$21","v":1235810}]
[{"$f":"'LDC Info'!$E$14","v":"Ottawa River Power Corporation"},{"$f":"EBNUMBER","v":"EB-2021-0052"},{"$f":"TestYear","v":2022},{"$f":"BridgeYear","v":2021},{"$f":"RebaseYear","v":2016},"Operations",{"$f":"'App.2-JA_OM&A_Summary_Analys'!$J$12","v":"2020 Actuals"},{"$f":"'App.2-JA_OM&A_Summary_Analys'!J$14","v":785740.61}]
[{"$f":"'LDC Info'!$E$14","v":"Ottawa River Power Corporation"},"EB-2021-0052",2022,2021,2016,"Maintenance",{"$f":"'App.2-JA_OM&A_Summary_Analys'!$J$12","v":"2020 Actuals"},{"$f":"'App.2-JA_OM&A_Summary_Analys'!J$15","v":501235.76}]
[{"$f":"'LDC Info'!$E$14","v":"Ottawa River Power Corporation"},"EB-2021-0052",2022,2021,2016,"Billing and Collecting",{"$f":"'App.2-JA_OM&A_Summary_Analys'!$J$12","v":"2020 Actuals"},{"$f":"'App.2-JA_OM&A_Summary_Analys'!J$19","v":837379.93}]
[{"$f":"'LDC Info'!$E$14","v":"Ottawa River Power Corporation"},"EB-2021-0052",2022,2021,2016,"Community Relations",{"$f":"'App.2-JA_OM&A_Summary_Analys'!$J$12","v":"2020 Actuals"},{"$f":"'App.2-JA_OM&A_Summary_Analys'!J$20","v":30338}]
[{"$f":"'LDC Info'!$E$14","v":"Ottawa River Power Corporation"},"EB-2021-0052",2022,2021,2016,"Administrative and General",{"$f":"'App.2-JA_OM&A_Summary_Analys'!$J$12","v":"2020 Actuals"},{"$f":"'App.2-JA_OM&A_Summary_Analys'!J$21","v":1203797}]
[{"$f":"'LDC Info'!$E$14","v":"Ottawa River Power Corporation"},"EB-2021-0052",2022,2021,2016,"Operations",{"$f":"'App.2-JA_OM&A_Summary_Analys'!$K$12","v":"2021 Bridge Year"},{"$f":"'App.2-JA_OM&A_Summary_Analys'!K$14","v":815322.4546500002}]
[{"$f":"'LDC Info'!$E$14","v":"Ottawa River Power Corporation"},"EB-2021-0052",2022,2021,2016,"Maintenance",{"$f":"'App.2-JA_OM&A_Summary_Analys'!$K$12","v":"2021 Bridge Year"},{"$f":"'App.2-JA_OM&A_Summary_Analys'!K$15","v":562975.4800000001}]
[{"$f":"'LDC Info'!$E$14","v":"Ottawa River Power Corporation"},"EB-2021-0052",2022,2021,2016,"Billing and Collecting",{"$f":"'App.2-JA_OM&A_Summary_Analys'!$K$12","v":"2021 Bridge Year"},{"$f":"'App.2-JA_OM&A_Summary_Analys'!K$19","v":951322.46}]
[{"$f":"'LDC Info'!$E$14","v":"Ottawa River Power Corporation"},"EB-2021-0052",2022,2021,2016,"Community Relations",{"$f":"'App.2-JA_OM&A_Summary_Analys'!$K$12","v":"2021 Bridge Year"},{"$f":"'App.2-JA_OM&A_Summary_Analys'!K$20","v":41361.550000000003}]
[{"$f":"'LDC Info'!$E$14","v":"Ottawa River Power Corporation"},"EB-2021-0052",2022,2021,2016,"Administrative and General",{"$f":"'App.2-JA_OM&A_Summary_Analys'!$K$12","v":"2021 Bridge Year"},{"$f":"'App.2-JA_OM&A_Summary_Analys'!K$21","v":1158155.4599999997}]
[{"$f":"'LDC Info'!$E$14","v":"Ottawa River Power Corporation"},"EB-2021-0052",2022,2021,2016,"Operations",{"$f":"'App.2-JA_OM&A_Summary_Analys'!$L$12","v":"2022 Test Year"},{"$f":"'App.2-JA_OM&A_Summary_Analys'!L14","v":901090.53}]
[{"$f":"'LDC Info'!$E$14","v":"Ottawa River Power Corporation"},"EB-2021-0052",2022,2021,2016,"Maintenance",{"$f":"'App.2-JA_OM&A_Summary_Analys'!$L$12","v":"2022 Test Year"},{"$f":"'App.2-JA_OM&A_Summary_Analys'!L15","v":576746.93999999994}]
[{"$f":"'LDC Info'!$E$14","v":"Ottawa River Power Corporation"},"EB-2021-0052",2022,2021,2016,"Billing and Collecting",{"$f":"'App.2-JA_OM&A_Summary_Analys'!$L$12","v":"2022 Test Year"},{"$f":"'App.2-JA_OM&A_Summary_Analys'!L19","v":962860.32000000007}]
[{"$f":"'LDC Info'!$E$14","v":"Ottawa River Power Corporation"},"EB-2021-0052",2022,2021,2016,"Community Relations",{"$f":"'App.2-JA_OM&A_Summary_Analys'!$L$12","v":"2022 Test Year"},{"$f":"'App.2-JA_OM&A_Summary_Analys'!L20","v":42318.43}]
[{"$f":"'LDC Info'!$E$14","v":"Ottawa River Power Corporation"},"EB-2021-0052",2022,2021,2016,"Administrative and General",{"$f":"'App.2-JA_OM&A_Summary_Analys'!$L$12","v":"2022 Test Year"},{"$f":"'App.2-JA_OM&A_Summary_Analys'!L21","v":1225378.1142}]

{"sheet":"OM&A_Expenses","index":39,"n_rows":30434,"n_cols":8,"rows_kept":4500,"cut":true,"hidden":true,"merged":[],"bounds":{"rows_first":2000,"rows_last":500,"rows_between":2000,"halvings":0}}
["Rates - Report 2"]
[""]
["Filing Year","Reporting Period",null,"Company Name","Category","Account No","Account Description","Amount"]
[2017,"January 1, 2016 - December 31, 2016",null,"1937680 Ontario Inc.","Administrative and General Expenses","5505","Supervision",0]
[2017,"January 1, 2016 - December 31, 2016",null,"1937680 Ontario Inc.","Administrative and General Expenses","5510","Demonstrating and Selling Expense",0]
[2017,"January 1, 2016 - December 31, 2016",null,"1937680 Ontario Inc.","Administrative and General Expenses","5515","Advertising Expense",0]
[2017,"January 1, 2016 - December 31, 2016",null,"1937680 Ontario Inc.","Administrative and General Expenses","5520","Miscellaneous Sales Expense",0]
[2017,"January 1, 2016 - December 31, 2016",null,"1937680 Ontario Inc.","Administrative and General Expenses","5605","Executive Salaries and Expenses",191914.68]
[2017,"January 1, 2016 - December 31, 2016",null,"1937680 Ontario Inc.","Administrative and General Expenses","5610","Management Salaries and Expenses",0]
[2017,"January 1, 2016 - December 31, 2016",null,"1937680 Ontario Inc.","Administrative and General Expenses","5615","General Administrative Salaries and Expenses",1244925.42]
[2017,"January 1, 2016 - December 31, 2016",null,"1937680 Ontario Inc.","Administrative and General Expenses","5620","Office Supplies and Expenses",5154.6400000000003]
[2017,"January 1, 2016 - December 31, 2016",null,"1937680 Ontario Inc.","Administrative and General Expenses","5625","Administrative Expense Transferred/Credit",0]
[2017,"January 1, 2016 - December 31, 2016",null,"1937680 Ontario Inc.","Administrative and General Expenses","5630","Outside Services Employed",427397.55]
[2017,"January 1, 2016 - December 31, 2016",null,"1937680 Ontario Inc.","Administrative and General Expenses","5635","Property Insurance",145291.20000000001]
[2017,"January 1, 2016 - December 31, 2016",null,"1937680 Ontario Inc.","Administrative and General Expenses","5640","Injuries and Damages",0]
[2017,"January 1, 2016 - December 31, 2016",null,"1937680 Ontario Inc.","Administrative and General Expenses","5645","OMERS Pensions and Benefits",587120.18999999994]
[2017,"January 1, 2016 - December 31, 2016",null,"1937680 Ontario Inc.","Administrative and General Expenses","5646","Employee Pensions and OPEB",0]
[2017,"January 1, 2016 - December 31, 2016",null,"1937680 Ontario Inc.","Administrative and General Expenses","5647","Employee Sick Leave",0]
[2017,"January 1, 2016 - December 31, 2016",null,"1937680 Ontario Inc.","Administrative and General Expenses","5650","Franchise Requirements",0]
[2017,"January 1, 2016 - December 31, 2016",null,"1937680 Ontario Inc.","Administrative and General Expenses","5655","Regulatory Expenses",267979.33]
[2017,"January 1, 2016 - December 31, 2016",null,"1937680 Ontario Inc.","Administrative and General Expenses","5660","General Advertising Expenses",72430.42]
[2017,"January 1, 2016 - December 31, 2016",null,"1937680 Ontario Inc.","Administrative and General Expenses","5665","Miscellaneous General Expenses",87434.28]
[2017,"January 1, 2016 - December 31, 2016",null,"1937680 Ontario Inc.","Administrative and General Expenses","5670","Rent",687883]
[2017,"January 1, 2016 - December 31, 2016",null,"1937680 Ontario Inc.","Administrative and General Expenses","5672","Lease Payment Expense",0]
[2017,"January 1, 2016 - December 31, 2016",null,"1937680 Ontario Inc.","Administrative and General Expenses","5675","Maintenance of General Plant",0]
[2017,"January 1, 2016 - December 31, 2016",null,"1937680 Ontario Inc.","Administrative and General Expenses","5680","Electrical Safety Authority Fees",23343.11]
[2017,"January 1, 2016 - December 31, 2016",null,"1937680 Ontario Inc.","Administrative and General Expenses","5681","Special Purpose Charge Expense",0]
[2017,"January 1, 2016 - December 31, 2016",null,"1937680 Ontario Inc.","Administrative and General Expenses","5685","Independent Market Operator Fees and Penalties",0]
[2017,"January 1, 2016 - December 31, 2016",null,"1937680 Ontario Inc.","Administrative and General Expenses","5695","OM&A Contra",0]
[2017,"January 1, 2016 - December 31, 2016",null,"1937680 Ontario Inc.","Administrative and General Expenses Total",null,null,3740873.82]
[2017,"January 1, 2016 - December 31, 2016",null,"1937680 Ontario Inc.","Billing and Collecting","5305","Supervision",334621.03999999998]
[2017,"January 1, 2016 - December 31, 2016",null,"1937680 Ontario Inc.","Billing and Collecting","5310","Meter Reading Expense",286006]
[2017,"January 1, 2016 - December 31, 2016",null,"1937680 Ontario Inc.","Billing and Collecting","5315","Customer Billing",737378]
[2017,"January 1, 2016 - December 31, 2016",null,"1937680 Ontario Inc.","Billing and Collecting","5320","Collecting",693782]
[2017,"January 1, 2016 - December 31, 2016",null,"1937680 Ontario Inc.","Billing and Collecting","5325","Collecting- Cash Over and Short",1424]
[2017,"January 1, 2016 - December 31, 2016",null,"1937680 Ontario Inc.","Billing and Collecting","5330","Collection Charges",0]
[2017,"January 1, 2016 - December 31, 2016",null,"1937680 Ontario Inc.","Billing and Collecting","5335","Bad Debt Expense",181287.65]
[2017,"January 1, 2016 - December 31, 2016",null,"1937680 Ontario Inc.","Billing and Collecting","5340","Miscellaneous Customer Accounts Expenses",0]
[2017,"January 1, 2016 - December 31, 2016",null,"1937680 Ontario Inc.","Billing and Collecting Total",null,null,2234498.69]
[2017,"January 1, 2016 - December 31, 2016",null,"1937680 Ontario Inc.","Community Relations","5405","Supervision",0]
[2017,"January 1, 2016 - December 31, 2016",null,"1937680 Ontario Inc.","Community Relations","5410","Community Relations - Sundry",0]
[2017,"January 1, 2016 - December 31, 2016",null,"1937680 Ontario Inc.","Community Relations","5415","Energy Conservation",0]
[2017,"January 1, 2016 - December 31, 2016",null,"1937680 Ontario Inc.","Community Relations","5420","Community Safety Program",0]
[2017,"January 1, 2016 - December 31, 2016",null,"1937680 Ontario Inc.","Community Relations","5425","Miscellaneous Customer Service and Informational Expenses",0]
[2017,"January 1, 2016 - December 31, 2016",null,"1937680 Ontario Inc.","Community Relations Total",null,null,0]
[2017,"January 1, 2016 - December 31, 2016",null,"1937680 Ontario Inc.","Distribution Expenses - Operation","5005","Operation Supervision and Engineering",1029528.75]
[2017,"January 1, 2016 - December 31, 2016",null,"1937680 Ontario Inc.","Distribution Expenses - Operation","5010","Load Dispatching",326839.90999999997]
[2017,"January 1, 2016 - December 31, 2016",null,"1937680 Ontario Inc.","Distribution Expenses - Operation","5012","Station Buildings and Fixtures Expense",14603.57]
[2017,"January 1, 2016 - December 31, 2016",null,"1937680 Ontario Inc.","Distribution Expenses - Operation","5014","Transformer Station Equipment - Operation Labour",0]
[2017,"January 1, 2016 - December 31, 2016",null,"1937680 Ontario Inc.","Distribution Expenses - Operation","5015","Transformer Station Equipment - Operation Supplies and Expenses",0]
[2017,"January 1, 2016 - December 31, 2016",null,"1937680 Ontario Inc.","Distribution Expenses - Operation","5016","Distribution Station Equipment - Operation Labour",161588.84]
[2017,"January 1, 2016 - December 31, 2016",null,"1937680 Ontario Inc.","Distribution Expenses - Operation","5017","Distribution Station Equipment - Operation Supplies and Expenses",126482.29]
[2017,"January 1, 2016 - December 31, 2016",null,"1937680 Ontario Inc.","Distribution Expenses - Operation","5020","Overhead Distribution Lines and Feeders - Operation Labour",190954.4]
[2017,"January 1, 2016 - December 31, 2016",null,"1937680 Ontario Inc.","Distribution Expenses - Operation","5025","Overhead Distribution Lines and Feeders - Operation Supplies and Expenses",249007.13]
[2017,"January 1, 2016 - December 31, 2016",null,"1937680 Ontario Inc.","Distribution Expenses - Operation","5030","Overhead Subtransmission Feeders - Operation",5762.73]
[2017,"January 1, 2016 - December 31, 2016",null,"1937680 Ontario Inc.","Distribution Expenses - Operation","5035","Overhead Distribution Transformers- Operation",2071.63]
[2017,"January 1, 2016 - December 31, 2016",null,"1937680 Ontario Inc.","Distribution Expenses - Operation","5040","Underground Distribution Lines and Feeders - Operation Labour",72020.649999999994]
[2017,"January 1, 2016 - December 31, 2016",null,"1937680 Ontario Inc.","Distribution Expenses - Operation","5045","Underground Distribution Lines and Feeders - Operation Supplies and Expenses",25465.34]
[2017,"January 1, 2016 - December 31, 2016",null,"1937680 Ontario Inc.","Distribution Expenses - Operation","5050","Underground Subtransmission Feeders - Operation",0]
[2017,"January 1, 2016 - December 31, 2016",null,"1937680 Ontario Inc.","Distribution Expenses - Operation","5055","Underground Distribution Transformers - Operation",1694.15]
[2017,"January 1, 2016 - December 31, 2016",null,"1937680 Ontario Inc.","Distribution Expenses - Operation","5060","Street Lighting and Signal System Expense",0]
[2017,"January 1, 2016 - December 31, 2016",null,"1937680 Ontario Inc.","Distribution Expenses - Operation","5065","Meter Expense",44850.25]
[2017,"January 1, 2016 - December 31, 2016",null,"1937680 Ontario Inc.","Distribution Expenses - Operation","5070","Customer Premises - Operation Labour",0]
[2017,"January 1, 2016 - December 31, 2016",null,"1937680 Ontario Inc.","Distribution Expenses - Operation","5075","Customer Premises - Materials and Expenses",0]
[2017,"January 1, 2016 - December 31, 2016",null,"1937680 Ontario Inc.","Distribution Expenses - Operation","5085","Miscellaneous Distribution Expense",260815.27]
[2017,"January 1, 2016 - December 31, 2016",null,"1937680 Ontario Inc.","Distribution Expenses - Operation","5090","Underground Distribution Lines and Feeders - Rental Paid",0]
[2017,"January 1, 2016 - December 31, 2016",null,"1937680 Ontario Inc.","Distribution Expenses - Operation","5095","Overhead Distribution Lines and Feeders - Rental Paid",0]
[2017,"January 1, 2016 - December 31, 2016",null,"1937680 Ontario Inc.","Distribution Expenses - Operation","5096","Other Rent",0]
[2017,"January 1, 2016 - December 31, 2016",null,"1937680 Ontario Inc.","Distribution Expenses - Operation Total",null,null,2511684.91]
[2017,"January 1, 2016 - December 31, 2016",null,"1937680 Ontario Inc.","Distribution Expenses – Maintenance","5105","Maintenance Supervision and Engineering",0]
[2017,"January 1, 2016 - December 31, 2016",null,"1937680 Ontario Inc.","Distribution Expenses – Maintenance","5110","Maintenance of Buildings and Fixtures - Distribution Stations",33366.03]
[2017,"January 1, 2016 - December 31, 2016",null,"1937680 Ontario Inc.","Distribution Expenses – Maintenance","5112","Maintenance of Transformer Station Equipment",0]
[2017,"January 1, 2016 - December 31, 2016",null,"1937680 Ontario Inc.","Distribution Expenses – Maintenance","5114","Maintenance of Distribution Station Equipment",0]
[2017,"January 1, 2016 - December 31, 2016",null,"1937680 Ontario Inc.","Distribution Expenses – Maintenance","5120","Maintenance of Poles, Towers and Fixtures",0]
[2017,"January 1, 2016 - December 31, 2016",null,"1937680 Ontario Inc.","Distribution Expenses – Maintenance","5125","Maintenance of Overhead Conductors and Devices",77636.649999999994]
[2017,"January 1, 2016 - December 31, 2016",null,"1937680 Ontario Inc.","Distribution Expenses – Maintenance","5130","Maintenance of Overhead Services",180434.28]
[2017,"January 1, 2016 - December 31, 2016",null,"1937680 Ontario Inc.","Distribution Expenses – Maintenance","5135","Overhead Distribution Lines and Feeders - Right of Way",44296.22]
[2017,"January 1, 2016 - December 31, 2016",null,"1937680 Ontario Inc.","Distribution Expenses – Maintenance","5145","Maintenance of Underground Conduit",0]
[2017,"January 1, 2016 - December 31, 2016",null,"1937680 Ontario Inc.","Distribution Expenses – Maintenance","5150","Maintenance of Underground Conductors and Devices",17100.34]
[2017,"January 1, 2016 - December 31, 2016",null,"1937680 Ontario Inc.","Distribution Expenses – Maintenance","5155","Maintenance of Underground Services",188004.39]
[2017,"January 1, 2016 - December 31, 2016",null,"1937680 Ontario Inc.","Distribution Expenses – Maintenance","5160","Maintenance of Line Transformers",23461.64]
[2017,"January 1, 2016 - December 31, 2016",null,"1937680 Ontario Inc.","Distribution Expenses – Maintenance","5165","Maintenance of Street Lighting and Signal Systems",8980.9699999999993]
[2017,"January 1, 2016 - December 31, 2016",null,"1937680 Ontario Inc.","Distribution Expenses – Maintenance","5170","Sentinel Lights - Labour",0]
[2017,"January 1, 2016 - December 31, 2016",null,"1937680 Ontario Inc.","Distribution Expenses – Maintenance","5172","Sentinel Lights - Materials and Expenses",0]
[2017,"January 1, 2016 - December 31, 2016",null,"1937680 Ontario Inc.","Distribution Expenses – Maintenance","5175","Maintenance of Meters",5496]
[2017,"January 1, 2016 - December 31, 2016",null,"1937680 Ontario Inc.","Distribution Expenses – Maintenance","5178","Customer Installations Expenses- Leased Property",0]
[2017,"January 1, 2016 - December 31, 2016",null,"1937680 Ontario Inc.","Distribution Expenses – Maintenance","5195","Maintenance of Other Installations on Customer Premises",0]
[2017,"January 1, 2016 - December 31, 2016",null,"1937680 Ontario Inc.","Distribution Expenses – Maintenance Total",null,null,578776.52]
[2017,"January 1, 2016 - December 31, 2016",null,"1937680 Ontario Inc.","Other Expenses","5205","Purchase of Transmission and System Services",0]
[2017,"January 1, 2016 - December 31, 2016",null,"1937680 Ontario Inc.","Other Expenses","5210","Transmission Charges",0]
[2017,"January 1, 2016 - December 31, 2016",null,"1937680 Ontario Inc.","Other Expenses","5215","Transmission Charges Recovered",0]
[2017,"January 1, 2016 - December 31, 2016",null,"1937680 Ontario Inc.","Other Expenses Total",null,null,0]
[2017,"January 1, 2016 - December 31, 2016",null,"Algoma Power Inc.","Administrative and General Expenses","5505","Supervision",0]
[2017,"January 1, 2016 - December 31, 2016",null,"Algoma Power Inc.","Administrative and General Expenses","5510","Demonstrating and Selling Expense",0]
[2017,"January 1, 2016 - December 31, 2016",null,"Algoma Power Inc.","Administrative and General Expenses","5515","Advertising Expense",0]
[2017,"January 1, 2016 - December 31, 2016",null,"Algoma Power Inc.","Administrative and General Expenses","5520","Miscellaneous Sales Expense",0]
[2017,"January 1, 2016 - December 31, 2016",null,"Algoma Power Inc.","Administrative and General Expenses","5605","Executive Salaries and Expenses",475379.64]
[2017,"January 1, 2016 - December 31, 2016",null,"Algoma Power Inc.","Administrative and General Expenses","5610","Management Salaries and Expenses",612058.82999999996]
[2017,"January 1, 2016 - December 31, 2016",null,"Algoma Power Inc.","Administrative and General Expenses","5615","General Administrative Salaries and Expenses",1791771.82]
[2017,"January 1, 2016 - December 31, 2016",null,"Algoma Power Inc.","Administrative and General Expenses","5620","Office Supplies and Expenses",176493.9]
[2017,"January 1, 2016 - December 31, 2016",null,"Algoma Power Inc.","Administrative and General Expenses","5625","Administrative Expense Transferred/Credit",-549618.75]
[2017,"January 1, 2016 - December 31, 2016",null,"Algoma Power Inc.","Administrative and General Expenses","5630","Outside Services Employed",629515.54]
[2017,"January 1, 2016 - December 31, 2016",null,"Algoma Power Inc.","Administrative and General Expenses","5635","Property Insurance",45719.18]
[2017,"January 1, 2016 - December 31, 2016",null,"Algoma Power Inc.","Administrative and General Expenses","5640","Injuries and Damages",0]
[2017,"January 1, 2016 - December 31, 2016",null,"Algoma Power Inc.","Administrative and General Expenses","5645","Employee Pensions and Benefits",191583.02]
[2017,"January 1, 2016 - December 31, 2016",null,"Algoma Power Inc.","Administrative and General Expenses","5650","Franchise Requirements",0]
[2017,"January 1, 2016 - December 31, 2016",null,"Algoma Power Inc.","Administrative and General Expenses","5655","Regulatory Expenses",198062.24]
[2017,"January 1, 2016 - December 31, 2016",null,"Algoma Power Inc.","Administrative and General Expenses","5660","General Advertising Expenses",12416.33]
[2017,"January 1, 2016 - December 31, 2016",null,"Algoma Power Inc.","Administrative and General Expenses","5665","Miscellaneous General Expenses",49773.69]
[2017,"January 1, 2016 - December 31, 2016",null,"Algoma Power Inc.","Administrative and General Expenses","5670","Rent",236986.57]
[2017,"January 1, 2016 - December 31, 2016",null,"Algoma Power Inc.","Administrative and General Expenses","5675","Maintenance of General Plant",617269.99]
[2017,"January 1, 2016 - December 31, 2016",null,"Algoma Power Inc.","Administrative and General Expenses","5680","Electrical Safety Authority Fees",15454]
[2017,"January 1, 2016 - December 31, 2016",null,"Algoma Power Inc.","Administrative and General Expenses","5681","Special Purpose Charge Expense",0]
[2017,"January 1, 2016 - December 31, 2016",null,"Algoma Power Inc.","Administrative and General Expenses","5685","Independent Market Operator Fees and Penalties",0]
[2017,"January 1, 2016 - December 31, 2016",null,"Algoma Power Inc.","Administrative and General Expenses","5695","OM&A Contra",0]
[2017,"January 1, 2016 - December 31, 2016",null,"Algoma Power Inc.","Administrative and General Expenses Total",null,null,4502866]
[2017,"January 1, 2016 - December 31, 2016",null,"Algoma Power Inc.","Billing and Collecting","5305","Supervision",85719]
[2017,"January 1, 2016 - December 31, 2016",null,"Algoma Power Inc.","Billing and Collecting","5310","Meter Reading Expense",117110.78]
[2017,"January 1, 2016 - December 31, 2016",null,"Algoma Power Inc.","Billing and Collecting","5315","Customer Billing",145876.24]
[2017,"January 1, 2016 - December 31, 2016",null,"Algoma Power Inc.","Billing and Collecting","5320","Collecting",233095.83]
[2017,"January 1, 2016 - December 31, 2016",null,"Algoma Power Inc.","Billing and Collecting","5325","Collecting- Cash Over and Short",0]
[2017,"January 1, 2016 - December 31, 2016",null,"Algoma Power Inc.","Billing and Collecting","5330","Collection Charges",0]
[2017,"January 1, 2016 - December 31, 2016",null,"Algoma Power Inc.","Billing and Collecting","5335","Bad Debt Expense",62003.59]
[2017,"January 1, 2016 - December 31, 2016",null,"Algoma Power Inc.","Billing and Collecting","5340","Miscellaneous Customer Accounts Expenses",231796.27]
[2017,"January 1, 2016 - December 31, 2016",null,"Algoma Power Inc.","Billing and Collecting Total",null,null,875601.71]
[2017,"January 1, 2016 - December 31, 2016",null,"Algoma Power Inc.","Community Relations","5405","Supervision",1225.56]
[2017,"January 1, 2016 - December 31, 2016",null,"Algoma Power Inc.","Community Relations","5410","Community Relations - Sundry",19685.46]
[2017,"January 1, 2016 - December 31, 2016",null,"Algoma Power Inc.","Community Relations","5415","Energy Conservation",0]
[2017,"January 1, 2016 - December 31, 2016",null,"Algoma Power Inc.","Community Relations","5420","Community Safety Program",0]
[2017,"January 1, 2016 - December 31, 2016",null,"Algoma Power Inc.","Community Relations","5425","Miscellaneous Customer Service and Informational Expenses",11397.37]
[2017,"January 1, 2016 - December 31, 2016",null,"Algoma Power Inc.","Community Relations Total",null,null,32308.39]
[2017,"January 1, 2016 - December 31, 2016",null,"Algoma Power Inc.","Distribution Expenses - Operation","5005","Operation Supervision and Engineering",114093.57]
[2017,"January 1, 2016 - December 31, 2016",null,"Algoma Power Inc.","Distribution Expenses - Operation","5010","Load Dispatching",40668.49]
[2017,"January 1, 2016 - December 31, 2016",null,"Algoma Power Inc.","Distribution Expenses - Operation","5012","Station Buildings and Fixtures Expense",85555.56]
[2017,"January 1, 2016 - December 31, 2016",null,"Algoma Power Inc.","Distribution Expenses - Operation","5014","Transformer Station Equipment - Operation Labour",0]
[2017,"January 1, 2016 - December 31, 2016",null,"Algoma Power Inc.","Distribution Expenses - Operation","5015","Transformer Station Equipment - Operation Supplies and Expenses",0]
[2017,"January 1, 2016 - December 31, 2016",null,"Algoma Power Inc.","Distribution Expenses - Operation","5016","Distribution Station Equipment - Operation Labour",42193.03]
[2017,"January 1, 2016 - December 31, 2016",null,"Algoma Power Inc.","Distribution Expenses - Operation","5017","Distribution Station Equipment - Operation Supplies and Expenses",16554.830000000002]
[2017,"January 1, 2016 - December 31, 2016",null,"Algoma Power Inc.","Distribution Expenses - Operation","5020","Overhead Distribution Lines and Feeders - Operation Labour",77475.44]
[2017,"January 1, 2016 - December 31, 2016",null,"Algoma Power Inc.","Distribution Expenses - Operation","5025","Overhead Distribution Lines and Feeders - Operation Supplies and Expenses",70523.179999999993]
[2017,"January 1, 2016 - December 31, 2016",null,"Algoma Power Inc.","Distribution Expenses - Operation","5030","Overhead Subtransmission Feeders - Operation",76130.179999999993]
[2017,"January 1, 2016 - December 31, 2016",null,"Algoma Power Inc.","Distribution Expenses - Operation","5035","Overhead Distribution Transformers- Operation",2970.97]
[2017,"January 1, 2016 - December 31, 2016",null,"Algoma Power Inc.","Distribution Expenses - Operation","5040","Underground Distribution Lines and Feeders - Operation Labour",2552.62]
[2017,"January 1, 2016 - December 31, 2016",null,"Algoma Power Inc.","Distribution Expenses - Operation","5045","Underground Distribution Lines and Feeders - Operation Supplies and Expenses",0]
[2017,"January 1, 2016 - December 31, 2016",null,"Algoma Power Inc.","Distribution Expenses - Operation","5050","Underground Subtransmission Feeders - Operation",0]
[2017,"January 1, 2016 - December 31, 2016",null,"Algoma Power Inc.","Distribution Expenses - Operation","5055","Underground Distribution Transformers - Operation",0]
[2017,"January 1, 2016 - December 31, 2016",null,"Algoma Power Inc.","Distribution Expenses - Operation","5060","Street Lighting and Signal System Expense",0]
[2017,"January 1, 2016 - December 31, 2016",null,"Algoma Power Inc.","Distribution Expenses - Operation","5065","Meter Expense",353615.85]
[2017,"January 1, 2016 - December 31, 2016",null,"Algoma Power Inc.","Distribution Expenses - Operation","5070","Customer Premises - Operation Labour",84095.91]
[2017,"January 1, 2016 - December 31, 2016",null,"Algoma Power Inc.","Distribution Expenses - Operation","5075","Customer Premises - Materials and Expenses",21132.53]
[2017,"January 1, 2016 - December 31, 2016",null,"Algoma Power Inc.","Distribution Expenses - Operation","5085","Miscellaneous Distribution Expense",280419.07]
[2017,"January 1, 2016 - December 31, 2016",null,"Algoma Power Inc.","Distribution Expenses - Operation","5090","Underground Distribution Lines and Feeders - Rental Paid",0]
[2017,"January 1, 2016 - December 31, 2016",null,"Algoma Power Inc.","Distribution Expenses - Operation","5095","Overhead Distribution Lines and Feeders - Rental Paid",25176.87]
[2017,"January 1, 2016 - December 31, 2016",null,"Algoma Power Inc.","Distribution Expenses - Operation","5096","Other Rent",3413.64]
[2017,"January 1, 2016 - December 31, 2016",null,"Algoma Power Inc.","Distribution Expenses - Operation Total",null,null,1296571.74]
[2017,"January 1, 2016 - December 31, 2016",null,"Algoma Power Inc.","Distribution Expenses – Maintenance","5105","Maintenance Supervision and Engineering",52621.98]
[2017,"January 1, 2016 - December 31, 2016",null,"Algoma Power Inc.","Distribution Expenses – Maintenance","5110","Maintenance of Buildings and Fixtures - Distribution Stations",1362.5]
[2017,"January 1, 2016 - December 31, 2016",null,"Algoma Power Inc.","Distribution Expenses – Maintenance","5112","Maintenance of Transformer Station Equipment",0]
[2017,"January 1, 2016 - December 31, 2016",null,"Algoma Power Inc.","Distribution Expenses – Maintenance","5114","Maintenance of Distribution Station Equipment",24115.42]
[2017,"January 1, 2016 - December 31, 2016",null,"Algoma Power Inc.","Distribution Expenses – Maintenance","5120","Maintenance of Poles, Towers and Fixtures",150750.29]
[2017,"January 1, 2016 - December 31, 2016",null,"Algoma Power Inc.","Distribution Expenses – Maintenance","5125","Maintenance of Overhead Conductors and Devices",803434.09]
[2017,"January 1, 2016 - December 31, 2016",null,"Algoma Power Inc.","Distribution Expenses – Maintenance","5130","Maintenance of Overhead Services",254819.96]
[2017,"January 1, 2016 - December 31, 2016",null,"Algoma Power Inc.","Distribution Expenses – Maintenance","5135","Overhead Distribution Lines and Feeders - Right of Way",3346740.7]
[2017,"January 1, 2016 - December 31, 2016",null,"Algoma Power Inc.","Distribution Expenses – Maintenance","5145","Maintenance of Underground Conduit",0]
[2017,"January 1, 2016 - December 31, 2016",null,"Algoma Power Inc.","Distribution Expenses – Maintenance","5150","Maintenance of Underground Conductors and Devices",0]
[2017,"January 1, 2016 - December 31, 2016",null,"Algoma Power Inc.","Distribution Expenses – Maintenance","5155","Maintenance of Underground Services",410.97]
[2017,"January 1, 2016 - December 31, 2016",null,"Algoma Power Inc.","Distribution Expenses – Maintenance","5160","Maintenance of Line Transformers",7965.86]
[2017,"January 1, 2016 - December 31, 2016",null,"Algoma Power Inc.","Distribution Expenses – Maintenance","5165","Maintenance of Street Lighting and Signal Systems",0]
[2017,"January 1, 2016 - December 31, 2016",null,"Algoma Power Inc.","Distribution Expenses – Maintenance","5170","Sentinel Lights - Labour",0]
[2017,"January 1, 2016 - December 31, 2016",null,"Algoma Power Inc.","Distribution Expenses – Maintenance","5172","Sentinel Lights - Materials and Expenses",0]
[2017,"January 1, 2016 - December 31, 2016",null,"Algoma Power Inc.","Distribution Expenses – Maintenance","5175","Maintenance of Meters",422693.07]
[2017,"January 1, 2016 - December 31, 2016",null,"Algoma Power Inc.","Distribution Expenses – Maintenance","5178","Customer Installations Expenses- Leased Property",0]
[2017,"January 1, 2016 - December 31, 2016",null,"Algoma Power Inc.","Distribution Expenses – Maintenance","5195","Maintenance of Other Installations on Customer Premises",0]
[2017,"January 1, 2016 - December 31, 2016",null,"Algoma Power Inc.","Distribution Expenses – Maintenance Total",null,null,5064914.84]
[2017,"January 1, 2016 - December 31, 2016",null,"Algoma Power Inc.","Other Expenses","5205","Purchase of Transmission and System Services",0]
[2017,"January 1, 2016 - December 31, 2016",null,"Algoma Power Inc.","Other Expenses","5210","Transmission Charges",0]
[2017,"January 1, 2016 - December 31, 2016",null,"Algoma Power Inc.","Other Expenses","5215","Transmission Charges Recovered",0]
[2017,"January 1, 2016 - December 31, 2016",null,"Algoma Power Inc.","Other Expenses Total",null,null,0]
[2017,"January 1, 2016 - December 31, 2016",null,"Atikokan Hydro Inc.","Administrative and General Expenses","5505","Supervision",0]
[2017,"January 1, 2016 - December 31, 2016",null,"Atikokan Hydro Inc.","Administrative and General Expenses","5510","Demonstrating and Selling Expense",0]
[2017,"January 1, 2016 - December 31, 2016",null,"Atikokan Hydro Inc.","Administrative and General Expenses","5515","Advertising Expense",0]
[2017,"January 1, 2016 - December 31, 2016",null,"Atikokan Hydro Inc.","Administrative and General Expenses","5520","Miscellaneous Sales Expense",0]
[2017,"January 1, 2016 - December 31, 2016",null,"Atikokan Hydro Inc.","Administrative and General Expenses","5605","Executive Salaries and Expenses",8360.36]
[2017,"January 1, 2016 - December 31, 2016",null,"Atikokan Hydro Inc.","Administrative and General Expenses","5610","Management Salaries and Expenses",110571.81]
[2017,"January 1, 2016 - December 31, 2016",null,"Atikokan Hydro Inc.","Administrative and General Expenses","5615","General Administrative Salaries and Expenses",92720.68]
[2017,"January 1, 2016 - December 31, 2016",null,"Atikokan Hydro Inc.","Administrative and General Expenses","5620","Office Supplies and Expenses",3945.45]
[2017,"January 1, 2016 - December 31, 2016",null,"Atikokan Hydro Inc.","Administrative and General Expenses","5625","Administrative Expense Transferred/Credit",0]
[2017,"January 1, 2016 - December 31, 2016",null,"Atikokan Hydro Inc.","Administrative and General Expenses","5630","Outside Services Employed",62105.48]
[2017,"January 1, 2016 - December 31, 2016",null,"Atikokan Hydro Inc.","Administrative and General Expenses","5635","Property Insurance",7041.15]
[2017,"January 1, 2016 - December 31, 2016",null,"Atikokan Hydro Inc.","Administrative and General Expenses","5640","Injuries and Damages",0]
[2017,"January 1, 2016 - December 31, 2016",null,"Atikokan Hydro Inc.","Administrative and General Expenses","5645","OMERS Pensions and Benefits",58222.15]
[2017,"January 1, 2016 - December 31, 2016",null,"Atikokan Hydro Inc.","Administrative and General Expenses","5646","Employee Pensions and OPEB",0]
[2017,"January 1, 2016 - December 31, 2016",null,"Atikokan Hydro Inc.","Administrative and General Expenses","5647","Employee Sick Leave",0]
[2017,"January 1, 2016 - December 31, 2016",null,"Atikokan Hydro Inc.","Administrative and General Expenses","5650","Franchise Requirements",0]
[2017,"January 1, 2016 - December 31, 2016",null,"Atikokan Hydro Inc.","Administrative and General Expenses","5655","Regulatory Expenses",23751.57]
[2017,"January 1, 2016 - December 31, 2016",null,"Atikokan Hydro Inc.","Administrative and General Expenses","5660","General Advertising Expenses",421.5]
[2017,"January 1, 2016 - December 31, 2016",null,"Atikokan Hydro Inc.","Administrative and General Expenses","5665","Miscellaneous General Expenses",29051.38]
[2017,"January 1, 2016 - December 31, 2016",null,"Atikokan Hydro Inc.","Administrative and General Expenses","5670","Rent",0]
[2017,"January 1, 2016 - December 31, 2016",null,"Atikokan Hydro Inc.","Administrative and General Expenses","5672","Lease Payment Expense",0]
[2017,"January 1, 2016 - December 31, 2016",null,"Atikokan Hydro Inc.","Administrative and General Expenses","5675","Maintenance of General Plant",21900.5]
[2017,"January 1, 2016 - December 31, 2016",null,"Atikokan Hydro Inc.","Administrative and General Expenses","5680","Electrical Safety Authority Fees",0]
[2017,"January 1, 2016 - December 31, 2016",null,"Atikokan Hydro Inc.","Administrative and General Expenses","5681","Special Purpose Charge Expense",0]
[2017,"January 1, 2016 - December 31, 2016",null,"Atikokan Hydro Inc.","Administrative and General Expenses","5685","Independent Market Operator Fees and Penalties",0]
[2017,"January 1, 2016 - December 31, 2016",null,"Atikokan Hydro Inc.","Administrative and General Expenses","5695","OM&A Contra",0]
[2017,"January 1, 2016 - December 31, 2016",null,"Atikokan Hydro Inc.","Administrative and General Expenses Total",null,null,418092.03]
[2017,"January 1, 2016 - December 31, 2016",null,"Atikokan Hydro Inc.","Billing and Collecting","5305","Supervision",3060.11]
[2017,"January 1, 2016 - December 31, 2016",null,"Atikokan Hydro Inc.","Billing and Collecting","5310","Meter Reading Expense",29682.95]
[2017,"January 1, 2016 - December 31, 2016",null,"Atikokan Hydro Inc.","Billing and Collecting","5315","Customer Billing",124760.03]
[2017,"January 1, 2016 - December 31, 2016",null,"Atikokan Hydro Inc.","Billing and Collecting","5320","Collecting",151.22999999999999]
[2017,"January 1, 2016 - December 31, 2016",null,"Atikokan Hydro Inc.","Billing and Collecting","5325","Collecting- Cash Over and Short",0]
[2017,"January 1, 2016 - December 31, 2016",null,"Atikokan Hydro Inc.","Billing and Collecting","5330","Collection Charges",0]
[2017,"January 1, 2016 - December 31, 2016",null,"Atikokan Hydro Inc.","Billing and Collecting","5335","Bad Debt Expense",1141.3]
[2017,"January 1, 2016 - December 31, 2016",null,"Atikokan Hydro Inc.","Billing and Collecting","5340","Miscellaneous Customer Accounts Expenses",4242.62]
[2017,"January 1, 2016 - December 31, 2016",null,"Atikokan Hydro Inc.","Billing and Collecting Total",null,null,163038.24]
[2017,"January 1, 2016 - December 31, 2016",null,"Atikokan Hydro Inc.","Community Relations","5405","Supervision",0]
[2017,"January 1, 2016 - December 31, 2016",null,"Atikokan Hydro Inc.","Community Relations","5410","Community Relations - Sundry",0]
[2017,"January 1, 2016 - December 31, 2016",null,"Atikokan Hydro Inc.","Community Relations","5415","Energy Conservation",0]
[2017,"January 1, 2016 - December 31, 2016",null,"Atikokan Hydro Inc.","Community Relations","5420","Community Safety Program",0]
[2017,"January 1, 2016 - December 31, 2016",null,"Atikokan Hydro Inc.","Community Relations","5425","Miscellaneous Customer Service and Informational Expenses",0]
[2017,"January 1, 2016 - December 31, 2016",null,"Atikokan Hydro Inc.","Community Relations Total",null,null,0]
[2017,"January 1, 2016 - December 31, 2016",null,"Atikokan Hydro Inc.","Distribution Expenses - Operation","5005","Operation Supervision and Engineering",0]
[2017,"January 1, 2016 - December 31, 2016",null,"Atikokan Hydro Inc.","Distribution Expenses - Operation","5010","Load Dispatching",0]
[2017,"January 1, 2016 - December 31, 2016",null,"Atikokan Hydro Inc.","Distribution Expenses - Operation","5012","Station Buildings and Fixtures Expense",0]
[2017,"January 1, 2016 - December 31, 2016",null,"Atikokan Hydro Inc.","Distribution Expenses - Operation","5014","Transformer Station Equipment - Operation Labour",0]
[2017,"January 1, 2016 - December 31, 2016",null,"Atikokan Hydro Inc.","Distribution Expenses - Operation","5015","Transformer Station Equipment - Operation Supplies and Expenses",0]
[2017,"January 1, 2016 - December 31, 2016",null,"Atikokan Hydro Inc.","Distribution Expenses - Operation","5016","Distribution Station Equipment - Operation Labour",32872.97]
[2017,"January 1, 2016 - December 31, 2016",null,"Atikokan Hydro Inc.","Distribution Expenses - Operation","5017","Distribution Station Equipment - Operation Supplies and Expenses",0]
[2017,"January 1, 2016 - December 31, 2016",null,"Atikokan Hydro Inc.","Distribution Expenses - Operation","5020","Overhead Distribution Lines and Feeders - Operation Labour",261509.27]
[2017,"January 1, 2016 - December 31, 2016",null,"Atikokan Hydro Inc.","Distribution Expenses - Operation","5025","Overhead Distribution Lines and Feeders - Operation Supplies and Expenses",49598.17]
[2017,"January 1, 2016 - December 31, 2016",null,"Atikokan Hydro Inc.","Distribution Expenses - Operation","5030","Overhead Subtransmission Feeders - Operation",7946.86]
[2017,"January 1, 2016 - December 31, 2016",null,"Atikokan Hydro Inc.","Distribution Expenses - Operation","5035","Overhead Distribution Transformers- Operation",0]
[2017,"January 1, 2016 - December 31, 2016",null,"Atikokan Hydro Inc.","Distribution Expenses - Operation","5040","Underground Distribution Lines and Feeders - Operation Labour",0]
[2017,"January 1, 2016 - December 31, 2016",null,"Atikokan Hydro Inc.","Distribution Expenses - Operation","5045","Underground Distribution Lines and Feeders - Operation Supplies and Expenses",0]
[2017,"January 1, 2016 - December 31, 2016",null,"Atikokan Hydro Inc.","Distribution Expenses - Operation","5050","Underground Subtransmission Feeders - Operation",0]
[2017,"January 1, 2016 - December 31, 2016",null,"Atikokan Hydro Inc.","Distribution Expenses - Operation","5055","Underground Distribution Transformers - Operation",0]
[2017,"January 1, 2016 - December 31, 2016",null,"Atikokan Hydro Inc.","Distribution Expenses - Operation","5060","Street Lighting and Signal System Expense",0]
[2017,"January 1, 2016 - December 31, 2016",null,"Atikokan Hydro Inc.","Distribution Expenses - Operation","5065","Meter Expense",13584.38]
[2017,"January 1, 2016 - December 31, 2016",null,"Atikokan Hydro Inc.","Distribution Expenses - Operation","5070","Customer Premises - Operation Labour",0]
[2017,"January 1, 2016 - December 31, 2016",null,"Atikokan Hydro Inc.","Distribution Expenses - Operation","5075","Customer Premises - Materials and Expenses",0]
[2017,"January 1, 2016 - December 31, 2016",null,"Atikokan Hydro Inc.","Distribution Expenses - Operation","5085","Miscellaneous Distribution Expense",33306.61]
[2017,"January 1, 2016 - December 31, 2016",null,"Atikokan Hydro Inc.","Distribution Expenses - Operation","5090","Underground Distribution Lines and Feeders - Rental Paid",0]
[2017,"January 1, 2016 - December 31, 2016",null,"Atikokan Hydro Inc.","Distribution Expenses - Operation","5095","Overhead Distribution Lines and Feeders - Rental Paid",175.16]
[2017,"January 1, 2016 - December 31, 2016",null,"Atikokan Hydro Inc.","Distribution Expenses - Operation","5096","Other Rent",50]
[2017,"January 1, 2016 - December 31, 2016",null,"Atikokan Hydro Inc.","Distribution Expenses - Operation Total",null,null,399043.42]
[2017,"January 1, 2016 - December 31, 2016",null,"Atikokan Hydro Inc.","Distribution Expenses – Maintenance","5105","Maintenance Supervision and Engineering",0]
[2017,"January 1, 2016 - December 31, 2016",null,"Atikokan Hydro Inc.","Distribution Expenses – Maintenance","5110","Maintenance of Buildings and Fixtures - Distribution Stations",0]
[2017,"January 1, 2016 - December 31, 2016",null,"Atikokan Hydro Inc.","Distribution Expenses – Maintenance","5112","Maintenance of Transformer Station Equipment",0]
[2017,"January 1, 2016 - December 31, 2016",null,"Atikokan Hydro Inc.","Distribution Expenses – Maintenance","5114","Maintenance of Distribution Station Equipment",9305.48]
[2017,"January 1, 2016 - December 31, 2016",null,"Atikokan Hydro Inc.","Distribution Expenses – Maintenance","5120","Maintenance of Poles, Towers and Fixtures",0]
[2017,"January 1, 2016 - December 31, 2016",null,"Atikokan Hydro Inc.","Distribution Expenses – Maintenance","5125","Maintenance of Overhead Conductors and Devices",375.24]
[2017,"January 1, 2016 - December 31, 2016",null,"Atikokan Hydro Inc.","Distribution Expenses – Maintenance","5130","Maintenance of Overhead Services",0]
[2017,"January 1, 2016 - December 31, 2016",null,"Atikokan Hydro Inc.","Distribution Expenses – Maintenance","5135","Overhead Distribution Lines and Feeders - Right of Way",50240]
[2017,"January 1, 2016 - December 31, 2016",null,"Atikokan Hydro Inc.","Distribution Expenses – Maintenance","5145","Maintenance of Underground Conduit",0]
[2017,"January 1, 2016 - December 31, 2016",null,"Atikokan Hydro Inc.","Distribution Expenses – Maintenance","5150","Maintenance of Underground Conductors and Devices",0]
[2017,"January 1, 2016 - December 31, 2016",null,"Atikokan Hydro Inc.","Distribution Expenses – Maintenance","5155","Maintenance of Underground Services",0]
[2017,"January 1, 2016 - December 31, 2016",null,"Atikokan Hydro Inc.","Distribution Expenses – Maintenance","5160","Maintenance of Line Transformers",3557.21]
[2017,"January 1, 2016 - December 31, 2016",null,"Atikokan Hydro Inc.","Distribution Expenses – Maintenance","5165","Maintenance of Street Lighting and Signal Systems",0]
[2017,"January 1, 2016 - December 31, 2016",null,"Atikokan Hydro Inc.","Distribution Expenses – Maintenance","5170","Sentinel Lights - Labour",0]
[2017,"January 1, 2016 - December 31, 2016",null,"Atikokan Hydro Inc.","Distribution Expenses – Maintenance","5172","Sentinel Lights - Materials and Expenses",0]
[2017,"January 1, 2016 - December 31, 2016",null,"Atikokan Hydro Inc.","Distribution Expenses – Maintenance","5175","Maintenance of Meters",29937.78]
[2017,"January 1, 2016 - December 31, 2016",null,"Atikokan Hydro Inc.","Distribution Expenses – Maintenance","5178","Customer Installations Expenses- Leased Property",0]
[2017,"January 1, 2016 - December 31, 2016",null,"Atikokan Hydro Inc.","Distribution Expenses – Maintenance","5195","Maintenance of Other Installations on Customer Premises",0]
[2017,"January 1, 2016 - December 31, 2016",null,"Atikokan Hydro Inc.","Distribution Expenses – Maintenance Total",null,null,93415.71]
[2017,"January 1, 2016 - December 31, 2016",null,"Atikokan Hydro Inc.","Other Expenses","5205","Purchase of Transmission and System Services",0]
[2017,"January 1, 2016 - December 31, 2016",null,"Atikokan Hydro Inc.","Other Expenses","5210","Transmission Charges",0]
[2017,"January 1, 2016 - December 31, 2016",null,"Atikokan Hydro Inc.","Other Expenses","5215","Transmission Charges Recovered",0]
[2017,"January 1, 2016 - December 31, 2016",null,"Atikokan Hydro Inc.","Other Expenses Total",null,null,0]
[2017,"January 1, 2016 - December 31, 2016",null,"Bluewater Power Distribution Corporation","Administrative and General Expenses","5505","Supervision",0]
[2017,"January 1, 2016 - December 31, 2016",null,"Bluewater Power Distribution Corporation","Administrative and General Expenses","5510","Demonstrating and Selling Expense",0]
[2017,"January 1, 2016 - December 31, 2016",null,"Bluewater Power Distribution Corporation","Administrative and General Expenses","5515","Advertising Expense",0]
[2017,"January 1, 2016 - December 31, 2016",null,"Bluewater Power Distribution Corporation","Administrative and General Expenses","5520","Miscellaneous Sales Expense",0]
[2017,"January 1, 2016 - December 31, 2016",null,"Bluewater Power Distribution Corporation","Administrative and General Expenses","5605","Executive Salaries and Expenses",1599396.28]
[2017,"January 1, 2016 - December 31, 2016",null,"Bluewater Power Distribution Corporation","Administrative and General Expenses","5610","Management Salaries and Expenses",90737.02]
[2017,"January 1, 2016 - December 31, 2016",null,"Bluewater Power Distribution Corporation","Administrative and General Expenses","5615","General Administrative Salaries and Expenses",1612790.22]
[2017,"January 1, 2016 - December 31, 2016",null,"Bluewater Power Distribution Corporation","Administrative and General Expenses","5620","Office Supplies and Expenses",3048.89]
[2017,"January 1, 2016 - December 31, 2016",null,"Bluewater Power Distribution Corporation","Administrative and General Expenses","5625","Administrative Expense Transferred/Credit",0]
[2017,"January 1, 2016 - December 31, 2016",null,"Bluewater Power Distribution Corporation","Administrative and General Expenses","5630","Outside Services Employed",2722.37]
[2017,"January 1, 2016 - December 31, 2016",null,"Bluewater Power Distribution Corporation","Administrative and General Expenses","5635","Property Insurance",168113.2]
[2017,"January 1, 2016 - December 31, 2016",null,"Bluewater Power Distribution Corporation","Administrative and General Expenses","5640","Injuries and Damages",0]
[2017,"January 1, 2016 - December 31, 2016",null,"Bluewater Power Distribution Corporation","Administrative and General Expenses","5645","OMERS Pensions and Benefits",1237513]
[2017,"January 1, 2016 - December 31, 2016",null,"Bluewater Power Distribution Corporation","Administrative and General Expenses","5646","Employee Pensions and OPEB",353420]
[2017,"January 1, 2016 - December 31, 2016",null,"Bluewater Power Distribution Corporation","Administrative and General Expenses","5647","Employee Sick Leave",0]
[2017,"January 1, 2016 - December 31, 2016",null,"Bluewater Power Distribution Corporation","Administrative and General Expenses","5650","Franchise Requirements",0]
[2017,"January 1, 2016 - December 31, 2016",null,"Bluewater Power Distribution Corporation","Administrative and General Expenses","5655","Regulatory Expenses",374508.49]
[2017,"January 1, 2016 - December 31, 2016",null,"Bluewater Power Distribution Corporation","Administrative and General Expenses","5660","General Advertising Expenses",13026.61]
[2017,"January 1, 2016 - December 31, 2016",null,"Bluewater Power Distribution Corporation","Administrative and General Expenses","5665","Miscellaneous General Expenses",907509.45]
[2017,"January 1, 2016 - December 31, 2016",null,"Bluewater Power Distribution Corporation","Administrative and General Expenses","5670","Rent",0]
[2017,"January 1, 2016 - December 31, 2016",null,"Bluewater Power Distribution Corporation","Administrative and General Expenses","5672","Lease Payment Expense",0]
[2017,"January 1, 2016 - December 31, 2016",null,"Bluewater Power Distribution Corporation","Administrative and General Expenses","5675","Maintenance of General Plant",222558.57]
[2017,"January 1, 2016 - December 31, 2016",null,"Bluewater Power Distribution Corporation","Administrative and General Expenses","5680","Electrical Safety Authority Fees",816]
[2017,"January 1, 2016 - December 31, 2016",null,"Bluewater Power Distribution Corporation","Administrative and General Expenses","5681","Special Purpose Charge Expense",0]
[2017,"January 1, 2016 - December 31, 2016",null,"Bluewater Power Distribution Corporation","Administrative and General Expenses","5685","Independent Market Operator Fees and Penalties",0]
[2017,"January 1, 2016 - December 31, 2016",null,"Bluewater Power Distribution Corporation","Administrative and General Expenses","5695","OM&A Contra",0]
[2017,"January 1, 2016 - December 31, 2016",null,"Bluewater Power Distribution Corporation","Administrative and General Expenses Total",null,null,6586160.0999999996]
[2017,"January 1, 2016 - December 31, 2016",null,"Bluewater Power Distribution Corporation","Billing and Collecting","5305","Supervision",145922.96]
[2017,"January 1, 2016 - December 31, 2016",null,"Bluewater Power Distribution Corporation","Billing and Collecting","5310","Meter Reading Expense",284123.19]
[2017,"January 1, 2016 - December 31, 2016",null,"Bluewater Power Distribution Corporation","Billing and Collecting","5315","Customer Billing",950207.09]
[2017,"January 1, 2016 - December 31, 2016",null,"Bluewater Power Distribution Corporation","Billing and Collecting","5320","Collecting",276939.96999999997]
[2017,"January 1, 2016 - December 31, 2016",null,"Bluewater Power Distribution Corporation","Billing and Collecting","5325","Collecting- Cash Over and Short",0.02]
[2017,"January 1, 2016 - December 31, 2016",null,"Bluewater Power Distribution Corporation","Billing and Collecting","5330","Collection Charges",0]
[2017,"January 1, 2016 - December 31, 2016",null,"Bluewater Power Distribution Corporation","Billing and Collecting","5335","Bad Debt Expense",944091.26]
[2017,"January 1, 2016 - December 31, 2016",null,"Bluewater Power Distribution Corporation","Billing and Collecting","5340","Miscellaneous Customer Accounts Expenses",0]
[2017,"January 1, 2016 - December 31, 2016",null,"Bluewater Power Distribution Corporation","Billing and Collecting Total",null,null,2601284.4900000002]
[2017,"January 1, 2016 - December 31, 2016",null,"Bluewater Power Distribution Corporation","Community Relations","5405","Supervision",0]
[2017,"January 1, 2016 - December 31, 2016",null,"Bluewater Power Distribution Corporation","Community Relations","5410","Community Relations - Sundry",135356.62]
[2017,"January 1, 2016 - December 31, 2016",null,"Bluewater Power Distribution Corporation","Community Relations","5415","Energy Conservation",69726.11]
[2017,"January 1, 2016 - December 31, 2016",null,"Bluewater Power Distribution Corporation","Community Relations","5420","Community Safety Program",122166.56]
[2017,"January 1, 2016 - December 31, 2016",null,"Bluewater Power Distribution Corporation","Community Relations","5425","Miscellaneous Customer Service and Informational Expenses",2789.14]
[2017,"January 1, 2016 - December 31, 2016",null,"Bluewater Power Distribution Corporation","Community Relations Total",null,null,330038.43]
[2017,"January 1, 2016 - December 31, 2016",null,"Bluewater Power Distribution Corporation","Distribution Expenses - Operation","5005","Operation Supervision and Engineering",527557.71]
[2017,"January 1, 2016 - December 31, 2016",null,"Bluewater Power Distribution Corporation","Distribution Expenses - Operation","5010","Load Dispatching",386768.12]
[2017,"January 1, 2016 - December 31, 2016",null,"Bluewater Power Distribution Corporation","Distribution Expenses - Operation","5012","Station Buildings and Fixtures Expense",7671.3]
[2017,"January 1, 2016 - December 31, 2016",null,"Bluewater Power Distribution Corporation","Distribution Expenses - Operation","5014","Transformer Station Equipment - Operation Labour",0]
[2017,"January 1, 2016 - December 31, 2016",null,"Bluewater Power Distribution Corporation","Distribution Expenses - Operation","5015","Transformer Station Equipment - Operation Supplies and Expenses",0]
[2017,"January 1, 2016 - December 31, 2016",null,"Bluewater Power Distribution Corporation","Distribution Expenses - Operation","5016","Distribution Station Equipment - Operation Labour",24291]
[2017,"January 1, 2016 - December 31, 2016",null,"Bluewater Power Distribution Corporation","Distribution Expenses - Operation","5017","Distribution Station Equipment - Operation Supplies and Expenses",0]
[2017,"January 1, 2016 - December 31, 2016",null,"Bluewater Power Distribution Corporation","Distribution Expenses - Operation","5020","Overhead Distribution Lines and Feeders - Operation Labour",720068]
[2017,"January 1, 2016 - December 31, 2016",null,"Bluewater Power Distribution Corporation","Distribution Expenses - Operation","5025","Overhead Distribution Lines and Feeders - Operation Supplies and Expenses",417318.08]
[2017,"January 1, 2016 - December 31, 2016",null,"Bluewater Power Distribution Corporation","Distribution Expenses - Operation","5030","Overhead Subtransmission Feeders - Operation",0]
[2017,"January 1, 2016 - December 31, 2016",null,"Bluewater Power Distribution Corporation","Distribution Expenses - Operation","5035","Overhead Distribution Transformers- Operation",145.22999999999999]
[2017,"January 1, 2016 - December 31, 2016",null,"Bluewater Power Distribution Corporation","Distribution Expenses - Operation","5040","Underground Distribution Lines and Feeders - Operation Labour",360033.75]
[2017,"January 1, 2016 - December 31, 2016",null,"Bluewater Power Distribution Corporation","Distribution Expenses - Operation","5045","Underground Distribution Lines and Feeders - Operation Supplies and Expenses",132242]
[2017,"January 1, 2016 - December 31, 2016",null,"Bluewater Power Distribution Corporation","Distribution Expenses - Operation","5050","Underground Subtransmission Feeders - Operation",0]
[2017,"January 1, 2016 - December 31, 2016",null,"Bluewater Power Distribution Corporation","Distribution Expenses - Operation","5055","Underground Distribution Transformers - Operation",0]
[2017,"January 1, 2016 - December 31, 2016",null,"Bluewater Power Distribution Corporation","Distribution Expenses - Operation","5060","Street Lighting and Signal System Expense",174.49]
[2017,"January 1, 2016 - December 31, 2016",null,"Bluewater Power Distribution Corporation","Distribution Expenses - Operation","5065","Meter Expense",480061.75]
[2017,"January 1, 2016 - December 31, 2016",null,"Bluewater Power Distribution Corporation","Distribution Expenses - Operation","5070","Customer Premises - Operation Labour",315780]
[2017,"January 1, 2016 - December 31, 2016",null,"Bluewater Power Distribution Corporation","Distribution Expenses - Operation","5075","Customer Premises - Materials and Expenses",0]
[2017,"January 1, 2016 - December 31, 2016",null,"Bluewater Power Distribution Corporation","Distribution Expenses - Operation","5085","Miscellaneous Distribution Expense",446362.71]
[2017,"January 1, 2016 - December 31, 2016",null,"Bluewater Power Distribution Corporation","Distribution Expenses - Operation","5090","Underground Distribution Lines and Feeders - Rental Paid",0]
[2017,"January 1, 2016 - December 31, 2016",null,"Bluewater Power Distribution Corporation","Distribution Expenses - Operation","5095","Overhead Distribution Lines and Feeders - Rental Paid",15386.4]
[2017,"January 1, 2016 - December 31, 2016",null,"Bluewater Power Distribution Corporation","Distribution Expenses - Operation","5096","Other Rent",0]
[2017,"January 1, 2016 - December 31, 2016",null,"Bluewater Power Distribution Corporation","Distribution Expenses - Operation Total",null,null,3833860.54]
[2017,"January 1, 2016 - December 31, 2016",null,"Bluewater Power Distribution Corporation","Distribution Expenses – Maintenance","5105","Maintenance Supervision and Engineering",0]
[2017,"January 1, 2016 - December 31, 2016",null,"Bluewater Power Distribution Corporation","Distribution Expenses – Maintenance","5110","Maintenance of Buildings and Fixtures - Distribution Stations",0]
[2017,"January 1, 2016 - December 31, 2016",null,"Bluewater Power Distribution Corporation","Distribution Expenses – Maintenance","5112","Maintenance of Transformer Station Equipment",0]
[2017,"January 1, 2016 - December 31, 2016",null,"Bluewater Power Distribution Corporation","Distribution Expenses – Maintenance","5114","Maintenance of Distribution Station Equipment",63047.92]
[2017,"January 1, 2016 - December 31, 2016",null,"Bluewater Power Distribution Corporation","Distribution Expenses – Maintenance","5120","Maintenance of Poles, Towers and Fixtures",8752.08]
[2017,"January 1, 2016 - December 31, 2016",null,"Bluewater Power Distribution Corporation","Distribution Expenses – Maintenance","5125","Maintenance of Overhead Conductors and Devices",67852.63]
[2017,"January 1, 2016 - December 31, 2016",null,"Bluewater Power Distribution Corporation","Distribution Expenses – Maintenance","5130","Maintenance of Overhead Services",0]
[2017,"January 1, 2016 - December 31, 2016",null,"Bluewater Power Distribution Corporation","Distribution Expenses – Maintenance","5135","Overhead Distribution Lines and Feeders - Right of Way",0]
[2017,"January 1, 2016 - December 31, 2016",null,"Bluewater Power Distribution Corporation","Distribution Expenses – Maintenance","5145","Maintenance of Underground Conduit",491.64]
[2017,"January 1, 2016 - December 31, 2016",null,"Bluewater Power Distribution Corporation","Distribution Expenses – Maintenance","5150","Maintenance of Underground Conductors and Devices",12445.51]
[2017,"January 1, 2016 - December 31, 2016",null,"Bluewater Power Distribution Corporation","Distribution Expenses – Maintenance","5155","Maintenance of Underground Services",488]
[2017,"January 1, 2016 - December 31, 2016",null,"Bluewater Power Distribution Corporation","Distribution Expenses – Maintenance","5160","Maintenance of Line Transformers",2618.1999999999998]
[2017,"January 1, 2016 - December 31, 2016",null,"Bluewater Power Distribution Corporation","Distribution Expenses – Maintenance","5165","Maintenance of Street Lighting and Signal Systems",0]
[2017,"January 1, 2016 - December 31, 2016",null,"Bluewater Power Distribution Corporation","Distribution Expenses – Maintenance","5170","Sentinel Lights - Labour",0]
[2017,"January 1, 2016 - December 31, 2016",null,"Bluewater Power Distribution Corporation","Distribution Expenses – Maintenance","5172","Sentinel Lights - Materials and Expenses",0]
[2017,"January 1, 2016 - December 31, 2016",null,"Bluewater Power Distribution Corporation","Distribution Expenses – Maintenance","5175","Maintenance of Meters",7558.72]
[2017,"January 1, 2016 - December 31, 2016",null,"Bluewater Power Distribution Corporation","Distribution Expenses – Maintenance","5178","Customer Installations Expenses- Leased Property",0]
[2017,"January 1, 2016 - December 31, 2016",null,"Bluewater Power Distribution Corporation","Distribution Expenses – Maintenance","5195","Maintenance of Other Installations on Customer Premises",0]
[2017,"January 1, 2016 - December 31, 2016",null,"Bluewater Power Distribution Corporation","Distribution Expenses – Maintenance Total",null,null,163254.70000000001]
[2017,"January 1, 2016 - December 31, 2016",null,"Bluewater Power Distribution Corporation","Other Expenses","5205","Purchase of Transmission and System Services",0]
[2017,"January 1, 2016 - December 31, 2016",null,"Bluewater Power Distribution Corporation","Other Expenses","5210","Transmission Charges",0]
[2017,"January 1, 2016 - December 31, 2016",null,"Bluewater Power Distribution Corporation","Other Expenses","5215","Transmission Charges Recovered",0]
[2017,"January 1, 2016 - December 31, 2016",null,"Bluewater Power Distribution Corporation","Other Expenses Total",null,null,0]
[2017,"January 1, 2016 - December 31, 2016",null,"Brantford Power Inc.","Administrative and General Expenses","5505","Supervision",0]
[2017,"January 1, 2016 - December 31, 2016",null,"Brantford Power Inc.","Administrative and General Expenses","5510","Demonstrating and Selling Expense",0]
[2017,"January 1, 2016 - December 31, 2016",null,"Brantford Power Inc.","Administrative and General Expenses","5515","Advertising Expense",0]
[2017,"January 1, 2016 - December 31, 2016",null,"Brantford Power Inc.","Administrative and General Expenses","5520","Miscellaneous Sales Expense",0]
[2017,"January 1, 2016 - December 31, 2016",null,"Brantford Power Inc.","Administrative and General Expenses","5605","Executive Salaries and Expenses",1247156.29]
[2017,"January 1, 2016 - December 31, 2016",null,"Brantford Power Inc.","Administrative and General Expenses","5610","Management Salaries and Expenses",611878.24]
[2017,"January 1, 2016 - December 31, 2016",null,"Brantford Power Inc.","Administrative and General Expenses","5615","General Administrative Salaries and Expenses",1073212.25]
[2017,"January 1, 2016 - December 31, 2016",null,"Brantford Power Inc.","Administrative and General Expenses","5620","Office Supplies and Expenses",68040.42]
[2017,"January 1, 2016 - December 31, 2016",null,"Brantford Power Inc.","Administrative and General Expenses","5625","Administrative Expense Transferred/Credit",-93379.88]
[2017,"January 1, 2016 - December 31, 2016",null,"Brantford Power Inc.","Administrative and General Expenses","5630","Outside Services Employed",159514.6]
[2017,"January 1, 2016 - December 31, 2016",null,"Brantford Power Inc.","Administrative and General Expenses","5635","Property Insurance",113726.84]
[2017,"January 1, 2016 - December 31, 2016",null,"Brantford Power Inc.","Administrative and General Expenses","5640","Injuries and Damages",0]
[2017,"January 1, 2016 - December 31, 2016",null,"Brantford Power Inc.","Administrative and General Expenses","5645","OMERS Pensions and Benefits",77146.320000000007]
[2017,"January 1, 2016 - December 31, 2016",null,"Brantford Power Inc.","Administrative and General Expenses","5646","Employee Pensions and OPEB",0]
[2017,"January 1, 2016 - December 31, 2016",null,"Brantford Power Inc.","Administrative and General Expenses","5647","Employee Sick Leave",0]
[2017,"January 1, 2016 - December 31, 2016",null,"Brantford Power Inc.","Administrative and General Expenses","5650","Franchise Requirements",62800]
[2017,"January 1, 2016 - December 31, 2016",null,"Brantford Power Inc.","Administrative and General Expenses","5655","Regulatory Expenses",314076.11]
[2017,"January 1, 2016 - December 31, 2016",null,"Brantford Power Inc.","Administrative and General Expenses","5660","General Advertising Expenses",399]
[2017,"January 1, 2016 - December 31, 2016",null,"Brantford Power Inc.","Administrative and General Expenses","5665","Miscellaneous General Expenses",15648.74]
[2017,"January 1, 2016 - December 31, 2016",null,"Brantford Power Inc.","Administrative and General Expenses","5670","Rent",0]
[2017,"January 1, 2016 - December 31, 2016",null,"Brantford Power Inc.","Administrative and General Expenses","5672","Lease Payment Expense",0]
[2017,"January 1, 2016 - December 31, 2016",null,"Brantford Power Inc.","Administrative and General Expenses","5675","Maintenance of General Plant",0]
[2017,"January 1, 2016 - December 31, 2016",null,"Brantford Power Inc.","Administrative and General Expenses","5680","Electrical Safety Authority Fees",17676.18]
[2017,"January 1, 2016 - December 31, 2016",null,"Brantford Power Inc.","Administrative and General Expenses","5681","Special Purpose Charge Expense",0]
[2017,"January 1, 2016 - December 31, 2016",null,"Brantford Power Inc.","Administrative and General Expenses","5685","Independent Market Operator Fees and Penalties",58968.12]
[2017,"January 1, 2016 - December 31, 2016",null,"Brantford Power Inc.","Administrative and General Expenses","5695","OM&A Contra",0]
[2017,"January 1, 2016 - December 31, 2016",null,"Brantford Power Inc.","Administrative and General Expenses Total",null,null,3726863.23]
[2017,"January 1, 2016 - December 31, 2016",null,"Brantford Power Inc.","Billing and Collecting","5305","Supervision",168107.75]
[2017,"January 1, 2016 - December 31, 2016",null,"Brantford Power Inc.","Billing and Collecting","5310","Meter Reading Expense",580983.80000000005]
[2017,"January 1, 2016 - December 31, 2016",null,"Brantford Power Inc.","Billing and Collecting","5315","Customer Billing",949917.38]
[2017,"January 1, 2016 - December 31, 2016",null,"Brantford Power Inc.","Billing and Collecting","5320","Collecting",423132]
[2017,"January 1, 2016 - December 31, 2016",null,"Brantford Power Inc.","Billing and Collecting","5325","Collecting- Cash Over and Short",-9902.64]
[2017,"January 1, 2016 - December 31, 2016",null,"Brantford Power Inc.","Billing and Collecting","5330","Collection Charges",493.13]
[2017,"January 1, 2016 - December 31, 2016",null,"Brantford Power Inc.","Billing and Collecting","5335","Bad Debt Expense",528913]
[2017,"January 1, 2016 - December 31, 2016",null,"Brantford Power Inc.","Billing and Collecting","5340","Miscellaneous Customer Accounts Expenses",519668.26]
[2017,"January 1, 2016 - December 31, 2016",null,"Brantford Power Inc.","Billing and Collecting Total",null,null,3161312.68]
[2017,"January 1, 2016 - December 31, 2016",null,"Brantford Power Inc.","Community Relations","5405","Supervision",0]
[2017,"January 1, 2016 - December 31, 2016",null,"Brantford Power Inc.","Community Relations","5410","Community Relations - Sundry",7176.99]
[2017,"January 1, 2016 - December 31, 2016",null,"Brantford Power Inc.","Community Relations","5415","Energy Conservation",0]
[2017,"January 1, 2016 - December 31, 2016",null,"Brantford Power Inc.","Community Relations","5420","Community Safety Program",0]
[2017,"January 1, 2016 - December 31, 2016",null,"Brantford Power Inc.","Community Relations","5425","Miscellaneous Customer Service and Informational Expenses",0]
[2017,"January 1, 2016 - December 31, 2016",null,"Brantford Power Inc.","Community Relations Total",null,null,7176.99]
[2017,"January 1, 2016 - December 31, 2016",null,"Brantford Power Inc.","Distribution Expenses - Operation","5005","Operation Supervision and Engineering",539255.61]
[2017,"January 1, 2016 - December 31, 2016",null,"Brantford Power Inc.","Distribution Expenses - Operation","5010","Load Dispatching",108246.11]
[2017,"January 1, 2016 - December 31, 2016",null,"Brantford Power Inc.","Distribution Expenses - Operation","5012","Station Buildings and Fixtures Expense",35988.97]
[2017,"January 1, 2016 - December 31, 2016",null,"Brantford Power Inc.","Distribution Expenses - Operation","5014","Transformer Station Equipment - Operation Labour",26184.66]
[2017,"January 1, 2016 - December 31, 2016",null,"Brantford Power Inc.","Distribution Expenses - Operation","5015","Transformer Station Equipment - Operation Supplies and Expenses",96479.29]
[2017,"January 1, 2016 - December 31, 2016",null,"Brantford Power Inc.","Distribution Expenses - Operation","5016","Distribution Station Equipment - Operation Labour",0]
[2017,"January 1, 2016 - December 31, 2016",null,"Brantford Power Inc.","Distribution Expenses - Operation","5017","Distribution Station Equipment - Operation Supplies and Expenses",0]
[2017,"January 1, 2016 - December 31, 2016",null,"Brantford Power Inc.","Distribution Expenses - Operation","5020","Overhead Distribution Lines and Feeders - Operation Labour",6820.05]
[2017,"January 1, 2016 - December 31, 2016",null,"Brantford Power Inc.","Distribution Expenses - Operation","5025","Overhead Distribution Lines and Feeders - Operation Supplies and Expenses",11883.83]
[2017,"January 1, 2016 - December 31, 2016",null,"Brantford Power Inc.","Distribution Expenses - Operation","5030","Overhead Subtransmission Feeders - Operation",0]
[2017,"January 1, 2016 - December 31, 2016",null,"Brantford Power Inc.","Distribution Expenses - Operation","5035","Overhead Distribution Transformers- Operation",18564.39]
[2017,"January 1, 2016 - December 31, 2016",null,"Brantford Power Inc.","Distribution Expenses - Operation","5040","Underground Distribution Lines and Feeders - Operation Labour",83357.100000000006]
[2017,"January 1, 2016 - December 31, 2016",null,"Brantford Power Inc.","Distribution Expenses - Operation","5045","Underground Distribution Lines and Feeders - Operation Supplies and Expenses",14148.61]
[2017,"January 1, 2016 - December 31, 2016",null,"Brantford Power Inc.","Distribution Expenses - Operation","5050","Underground Subtransmission Feeders - Operation",0]
[2017,"January 1, 2016 - December 31, 2016",null,"Brantford Power Inc.","Distribution Expenses - Operation","5055","Underground Distribution Transformers - Operation",-426.23]
[2017,"January 1, 2016 - December 31, 2016",null,"Brantford Power Inc.","Distribution Expenses - Operation","5060","Street Lighting and Signal System Expense",0]
[2017,"January 1, 2016 - December 31, 2016",null,"Brantford Power Inc.","Distribution Expenses - Operation","5065","Meter Expense",326330.23]
[2017,"January 1, 2016 - December 31, 2016",null,"Brantford Power Inc.","Distribution Expenses - Operation","5070","Customer Premises - Operation Labour",513.71]
[2017,"January 1, 2016 - December 31, 2016",null,"Brantford Power Inc.","Distribution Expenses - Operation","5075","Customer Premises - Materials and Expenses",379.13]
[2017,"January 1, 2016 - December 31, 2016",null,"Brantford Power Inc.","Distribution Expenses - Operation","5085","Miscellaneous Distribution Expense",418109.48]
[2017,"January 1, 2016 - December 31, 2016",null,"Brantford Power Inc.","Distribution Expenses - Operation","5090","Underground Distribution Lines and Feeders - Rental Paid",0]
[2017,"January 1, 2016 - December 31, 2016",null,"Brantford Power Inc.","Distribution Expenses - Operation","5095","Overhead Distribution Lines and Feeders - Rental Paid",6755]
[2017,"January 1, 2016 - December 31, 2016",null,"Brantford Power Inc.","Distribution Expenses - Operation","5096","Other Rent",1120]
[2017,"January 1, 2016 - December 31, 2016",null,"Brantford Power Inc.","Distribution Expenses - Operation Total",null,null,1693709.94]
[2017,"January 1, 2016 - December 31, 2016",null,"Brantford Power Inc.","Distribution Expenses – Maintenance","5105","Maintenance Supervision and Engineering",129741.69]
[2017,"January 1, 2016 - December 31, 2016",null,"Brantford Power Inc.","Distribution Expenses – Maintenance","5110","Maintenance of Buildings and Fixtures - Distribution Stations",10168.469999999999]
[2017,"January 1, 2016 - December 31, 2016",null,"Brantford Power Inc.","Distribution Expenses – Maintenance","5112","Maintenance of Transformer Station Equipment",0]
[2017,"January 1, 2016 - December 31, 2016",null,"Brantford Power Inc.","Distribution Expenses – Maintenance","5114","Maintenance of Distribution Station Equipment",2929.76]
[2017,"January 1, 2016 - December 31, 2016",null,"Brantford Power Inc.","Distribution Expenses – Maintenance","5120","Maintenance of Poles, Towers and Fixtures",86687.03]
[2017,"January 1, 2016 - December 31, 2016",null,"Brantford Power Inc.","Distribution Expenses – Maintenance","5125","Maintenance of Overhead Conductors and Devices",138574.99]
[2017,"January 1, 2016 - December 31, 2016",null,"Brantford Power Inc.","Distribution Expenses – Maintenance","5130","Maintenance of Overhead Services",327923.11]
[2017,"January 1, 2016 - December 31, 2016",null,"Brantford Power Inc.","Distribution Expenses – Maintenance","5135","Overhead Distribution Lines and Feeders - Right of Way",463192.49]
[2017,"January 1, 2016 - December 31, 2016",null,"Brantford Power Inc.","Distribution Expenses – Maintenance","5145","Maintenance of Underground Conduit",7366.86]
[2017,"January 1, 2016 - December 31, 2016",null,"Brantford Power Inc.","Distribution Expenses – Maintenance","5150","Maintenance of Underground Conductors and Devices",352686.9]
[2017,"January 1, 2016 - December 31, 2016",null,"Brantford Power Inc.","Distribution Expenses – Maintenance","5155","Maintenance of Underground Services",246424.06]
[2017,"January 1, 2016 - December 31, 2016",null,"Brantford Power Inc.","Distribution Expenses – Maintenance","5160","Maintenance of Line Transformers",41424.160000000003]
[2017,"January 1, 2016 - December 31, 2016",null,"Brantford Power Inc.","Distribution Expenses – Maintenance","5165","Maintenance of Street Lighting and Signal Systems",0]
[2017,"January 1, 2016 - December 31, 2016",null,"Brantford Power Inc.","Distribution Expenses – Maintenance","5170","Sentinel Lights - Labour",0]
[2017,"January 1, 2016 - December 31, 2016",null,"Brantford Power Inc.","Distribution Expenses – Maintenance","5172","Sentinel Lights - Materials and Expenses",0]
[2017,"January 1, 2016 - December 31, 2016",null,"Brantford Power Inc.","Distribution Expenses – Maintenance","5175","Maintenance of Meters",0]
[2017,"January 1, 2016 - December 31, 2016",null,"Brantford Power Inc.","Distribution Expenses – Maintenance","5178","Customer Installations Expenses- Leased Property",0]
[2017,"January 1, 2016 - December 31, 2016",null,"Brantford Power Inc.","Distribution Expenses – Maintenance","5195","Maintenance of Other Installations on Customer Premises",0]
[2017,"January 1, 2016 - December 31, 2016",null,"Brantford Power Inc.","Distribution Expenses – Maintenance Total",null,null,1807119.52]
[2017,"January 1, 2016 - December 31, 2016",null,"Brantford Power Inc.","Other Expenses","5205","Purchase of Transmission and System Services",0]
[2017,"January 1, 2016 - December 31, 2016",null,"Brantford Power Inc.","Other Expenses","5210","Transmission Charges",0]
[2017,"January 1, 2016 - December 31, 2016",null,"Brantford Power Inc.","Other Expenses","5215","Transmission Charges Recovered",0]
[2017,"January 1, 2016 - December 31, 2016",null,"Brantford Power Inc.","Other Expenses Total",null,null,0]
[2017,"January 1, 2016 - December 31, 2016",null,"Burlington Hydro Inc.","Administrative and General Expenses","5505","Supervision",0]
[2017,"January 1, 2016 - December 31, 2016",null,"Burlington Hydro Inc.","Administrative and General Expenses","5510","Demonstrating and Selling Expense",0]
[2017,"January 1, 2016 - December 31, 2016",null,"Burlington Hydro Inc.","Administrative and General Expenses","5515","Advertising Expense",0]
[2017,"January 1, 2016 - December 31, 2016",null,"Burlington Hydro Inc.","Administrative and General Expenses","5520","Miscellaneous Sales Expense",0]
[2017,"January 1, 2016 - December 31, 2016",null,"Burlington Hydro Inc.","Administrative and General Expenses","5605","Executive Salaries and Expenses",1744247.97]
[2017,"January 1, 2016 - December 31, 2016",null,"Burlington Hydro Inc.","Administrative and General Expenses","5610","Management Salaries and Expenses",103980.9]
[2017,"January 1, 2016 - December 31, 2016",null,"Burlington Hydro Inc.","Administrative and General Expenses","5615","General Administrative Salaries and Expenses",1916794.97]
[2017,"January 1, 2016 - December 31, 2016",null,"Burlington Hydro Inc.","Administrative and General Expenses","5620","Office Supplies and Expenses",440393.55]
[2017,"January 1, 2016 - December 31, 2016",null,"Burlington Hydro Inc.","Administrative and General Expenses","5625","Administrative Expense Transferred/Credit",-312436.93]
[2017,"January 1, 2016 - December 31, 2016",null,"Burlington Hydro Inc.","Administrative and General Expenses","5630","Outside Services Employed",529874.28]
[2017,"January 1, 2016 - December 31, 2016",null,"Burlington Hydro Inc.","Administrative and General Expenses","5635","Property Insurance",15647.84]
[2017,"January 1, 2016 - December 31, 2016",null,"Burlington Hydro Inc.","Administrative and General Expenses","5640","Injuries and Damages",155309.65]
[2017,"January 1, 2016 - December 31, 2016",null,"Burlington Hydro Inc.","Administrative and General Expenses","5645","OMERS Pensions and Benefits",346855.74]
[2017,"January 1, 2016 - December 31, 2016",null,"Burlington Hydro Inc.","Administrative and General Expenses","5646","Employee Pensions and OPEB",0]
[2017,"January 1, 2016 - December 31, 2016",null,"Burlington Hydro Inc.","Administrative and General Expenses","5647","Employee Sick Leave",0]
[2017,"January 1, 2016 - December 31, 2016",null,"Burlington Hydro Inc.","Administrative and General Expenses","5650","Franchise Requirements",0]
[2017,"January 1, 2016 - December 31, 2016",null,"Burlington Hydro Inc.","Administrative and General Expenses","5655","Regulatory Expenses",283769.84000000003]
[2017,"January 1, 2016 - December 31, 2016",null,"Burlington Hydro Inc.","Administrative and General Expenses","5660","General Advertising Expenses",99545.919999999998]
[2017,"January 1, 2016 - December 31, 2016",null,"Burlington Hydro Inc.","Administrative and General Expenses","5665","Miscellaneous General Expenses",708981.98]
[2017,"January 1, 2016 - December 31, 2016",null,"Burlington Hydro Inc.","Administrative and General Expenses","5670","Rent",53390.879999999997]
[2017,"January 1, 2016 - December 31, 2016",null,"Burlington Hydro Inc.","Administrative and General Expenses","5672","Lease Payment Expense",0]
[2017,"January 1, 2016 - December 31, 2016",null,"Burlington Hydro Inc.","Administrative and General Expenses","5675","Maintenance of General Plant",310435.77]
[2017,"January 1, 2016 - December 31, 2016",null,"Burlington Hydro Inc.","Administrative and General Expenses","5680","Electrical Safety Authority Fees",0]
[2017,"January 1, 2016 - December 31, 2016",null,"Burlington Hydro Inc.","Administrative and General Expenses","5681","Special Purpose Charge Expense",0]
[2017,"January 1, 2016 - December 31, 2016",null,"Burlington Hydro Inc.","Administrative and General Expenses","5685","Independent Market Operator Fees and Penalties",0]
[2017,"January 1, 2016 - December 31, 2016",null,"Burlington Hydro Inc.","Administrative and General Expenses","5695","OM&A Contra",0]
[2017,"January 1, 2016 - December 31, 2016",null,"Burlington Hydro Inc.","Administrative and General Expenses Total",null,null,6396792.3600000003]
[2017,"January 1, 2016 - December 31, 2016",null,"Burlington Hydro Inc.","Billing and Collecting","5305","Supervision",0]
[2017,"January 1, 2016 - December 31, 2016",null,"Burlington Hydro Inc.","Billing and Collecting","5310","Meter Reading Expense",322243.59999999998]
[2017,"January 1, 2016 - December 31, 2016",null,"Burlington Hydro Inc.","Billing and Collecting","5315","Customer Billing",806881.05]
[2017,"January 1, 2016 - December 31, 2016",null,"Burlington Hydro Inc.","Billing and Collecting","5320","Collecting",185436.07]
[2017,"January 1, 2016 - December 31, 2016",null,"Burlington Hydro Inc.","Billing and Collecting","5325","Collecting- Cash Over and Short",0]
[2017,"January 1, 2016 - December 31, 2016",null,"Burlington Hydro Inc.","Billing and Collecting","5330","Collection Charges",100296.56]
[2017,"January 1, 2016 - December 31, 2016",null,"Burlington Hydro Inc.","Billing and Collecting","5335","Bad Debt Expense",199040.78]
[2017,"January 1, 2016 - December 31, 2016",null,"Burlington Hydro Inc.","Billing and Collecting","5340","Miscellaneous Customer Accounts Expenses",652377.36]
[2017,"January 1, 2016 - December 31, 2016",null,"Burlington Hydro Inc.","Billing and Collecting Total",null,null,2266275.42]
[2017,"January 1, 2016 - December 31, 2016",null,"Burlington Hydro Inc.","Community Relations","5405","Supervision",0]
[2017,"January 1, 2016 - December 31, 2016",null,"Burlington Hydro Inc.","Community Relations","5410","Community Relations - Sundry",0]
[2017,"January 1, 2016 - December 31, 2016",null,"Burlington Hydro Inc.","Community Relations","5415","Energy Conservation",0]
[2017,"January 1, 2016 - December 31, 2016",null,"Burlington Hydro Inc.","Community Relations","5420","Community Safety Program",54320.31]
[2017,"January 1, 2016 - December 31, 2016",null,"Burlington Hydro Inc.","Community Relations","5425","Miscellaneous Customer Service and Informational Expenses",0]
[2017,"January 1, 2016 - December 31, 2016",null,"Burlington Hydro Inc.","Community Relations Total",null,null,54320.31]
[2017,"January 1, 2016 - December 31, 2016",null,"Burlington Hydro Inc.","Distribution Expenses - Operation","5005","Operation Supervision and Engineering",0]
[2017,"January 1, 2016 - December 31, 2016",null,"Burlington Hydro Inc.","Distribution Expenses - Operation","5010","Load Dispatching",1559079.96]
[2017,"January 1, 2016 - December 31, 2016",null,"Burlington Hydro Inc.","Distribution Expenses - Operation","5012","Station Buildings and Fixtures Expense",129969.26]
[2017,"January 1, 2016 - December 31, 2016",null,"Burlington Hydro Inc.","Distribution Expenses - Operation","5014","Transformer Station Equipment - Operation Labour",0]
[2017,"January 1, 2016 - December 31, 2016",null,"Burlington Hydro Inc.","Distribution Expenses - Operation","5015","Transformer Station Equipment - Operation Supplies and Expenses",0]
[2017,"January 1, 2016 - December 31, 2016",null,"Burlington Hydro Inc.","Distribution Expenses - Operation","5016","Distribution Station Equipment - Operation Labour",587817.22]
[2017,"January 1, 2016 - December 31, 2016",null,"Burlington Hydro Inc.","Distribution Expenses - Operation","5017","Distribution Station Equipment - Operation Supplies and Expenses",452258.44]
[2017,"January 1, 2016 - December 31, 2016",null,"Burlington Hydro Inc.","Distribution Expenses - Operation","5020","Overhead Distribution Lines and Feeders - Operation Labour",432443.64]
[2017,"January 1, 2016 - December 31, 2016",null,"Burlington Hydro Inc.","Distribution Expenses - Operation","5025","Overhead Distribution Lines and Feeders - Operation Supplies and Expenses",549805]
[2017,"January 1, 2016 - December 31, 2016",null,"Burlington Hydro Inc.","Distribution Expenses - Operation","5030","Overhead Subtransmission Feeders - Operation",0]
[2017,"January 1, 2016 - December 31, 2016",null,"Burlington Hydro Inc.","Distribution Expenses - Operation","5035","Overhead Distribution Transformers- Operation",15142.47]
[2017,"January 1, 2016 - December 31, 2016",null,"Burlington Hydro Inc.","Distribution Expenses - Operation","5040","Underground Distribution Lines and Feeders - Operation Labour",87718.81]
[2017,"January 1, 2016 - December 31, 2016",null,"Burlington Hydro Inc.","Distribution Expenses - Operation","5045","Underground Distribution Lines and Feeders - Operation Supplies and Expenses",588253.39]
[2017,"January 1, 2016 - December 31, 2016",null,"Burlington Hydro Inc.","Distribution Expenses - Operation","5050","Underground Subtransmission Feeders - Operation",0]
[2017,"January 1, 2016 - December 31, 2016",null,"Burlington Hydro Inc.","Distribution Expenses - Operation","5055","Underground Distribution Transformers - Operation",178186.12]
[2017,"January 1, 2016 - December 31, 2016",null,"Burlington Hydro Inc.","Distribution Expenses - Operation","5060","Street Lighting and Signal System Expense",0]
[2017,"January 1, 2016 - December 31, 2016",null,"Burlington Hydro Inc.","Distribution Expenses - Operation","5065","Meter Expense",169689.42]
[2017,"January 1, 2016 - December 31, 2016",null,"Burlington Hydro Inc.","Distribution Expenses - Operation","5070","Customer Premises - Operation Labour",286228.39]
[2017,"January 1, 2016 - December 31, 2016",null,"Burlington Hydro Inc.","Distribution Expenses - Operation","5075","Customer Premises - Materials and Expenses",101653.72]
[2017,"January 1, 2016 - December 31, 2016",null,"Burlington Hydro Inc.","Distribution Expenses - Operation","5085","Miscellaneous Distribution Expense",0]
[2017,"January 1, 2016 - December 31, 2016",null,"Burlington Hydro Inc.","Distribution Expenses - Operation","5090","Underground Distribution Lines and Feeders - Rental Paid",0]
[2017,"January 1, 2016 - December 31, 2016",null,"Burlington Hydro Inc.","Distribution Expenses - Operation","5095","Overhead Distribution Lines and Feeders - Rental Paid",0]
[2017,"January 1, 2016 - December 31, 2016",null,"Burlington Hydro Inc.","Distribution Expenses - Operation","5096","Other Rent",0]
[2017,"January 1, 2016 - December 31, 2016",null,"Burlington Hydro Inc.","Distribution Expenses - Operation Total",null,null,5138245.84]
[2017,"January 1, 2016 - December 31, 2016",null,"Burlington Hydro Inc.","Distribution Expenses – Maintenance","5105","Maintenance Supervision and Engineering",0]
[2017,"January 1, 2016 - December 31, 2016",null,"Burlington Hydro Inc.","Distribution Expenses – Maintenance","5110","Maintenance of Buildings and Fixtures - Distribution Stations",256144.04]
[2017,"January 1, 2016 - December 31, 2016",null,"Burlington Hydro Inc.","Distribution Expenses – Maintenance","5112","Maintenance of Transformer Station Equipment",0]
[2017,"January 1, 2016 - December 31, 2016",null,"Burlington Hydro Inc.","Distribution Expenses – Maintenance","5114","Maintenance of Distribution Station Equipment",16869.64]
[2017,"January 1, 2016 - December 31, 2016",null,"Burlington Hydro Inc.","Distribution Expenses – Maintenance","5120","Maintenance of Poles, Towers and Fixtures",115354.73]
[2017,"January 1, 2016 - December 31, 2016",null,"Burlington Hydro Inc.","Distribution Expenses – Maintenance","5125","Maintenance of Overhead Conductors and Devices",1424883.88]
[2017,"January 1, 2016 - December 31, 2016",null,"Burlington Hydro Inc.","Distribution Expenses – Maintenance","5130","Maintenance of Overhead Services",341707.17]
[2017,"January 1, 2016 - December 31, 2016",null,"Burlington Hydro Inc.","Distribution Expenses – Maintenance","5135","Overhead Distribution Lines and Feeders - Right of Way",741468.39]
[2017,"January 1, 2016 - December 31, 2016",null,"Burlington Hydro Inc.","Distribution Expenses – Maintenance","5145","Maintenance of Underground Conduit",13348.05]
[2017,"January 1, 2016 - December 31, 2016",null,"Burlington Hydro Inc.","Distribution Expenses – Maintenance","5150","Maintenance of Underground Conductors and Devices",609964.12]
[2017,"January 1, 2016 - December 31, 2016",null,"Burlington Hydro Inc.","Distribution Expenses – Maintenance","5155","Maintenance of Underground Services",496480.54]
[2017,"January 1, 2016 - December 31, 2016",null,"Burlington Hydro Inc.","Distribution Expenses – Maintenance","5160","Maintenance of Line Transformers",39759.199999999997]
[2017,"January 1, 2016 - December 31, 2016",null,"Burlington Hydro Inc.","Distribution Expenses – Maintenance","5165","Maintenance of Street Lighting and Signal Systems",0]
[2017,"January 1, 2016 - December 31, 2016",null,"Burlington Hydro Inc.","Distribution Expenses – Maintenance","5170","Sentinel Lights - Labour",0]
[2017,"January 1, 2016 - December 31, 2016",null,"Burlington Hydro Inc.","Distribution Expenses – Maintenance","5172","Sentinel Lights - Materials and Expenses",0]
[2017,"January 1, 2016 - December 31, 2016",null,"Burlington Hydro Inc.","Distribution Expenses – Maintenance","5175","Maintenance of Meters",142667.75]
[2017,"January 1, 2016 - December 31, 2016",null,"Burlington Hydro Inc.","Distribution Expenses – Maintenance","5178","Customer Installations Expenses- Leased Property",0]
[2017,"January 1, 2016 - December 31, 2016",null,"Burlington Hydro Inc.","Distribution Expenses – Maintenance","5195","Maintenance of Other Installations on Customer Premises",0]
[2017,"January 1, 2016 - December 31, 2016",null,"Burlington Hydro Inc.","Distribution Expenses – Maintenance Total",null,null,4198647.51]
[2017,"January 1, 2016 - December 31, 2016",null,"Burlington Hydro Inc.","Other Expenses","5205","Purchase of Transmission and System Services",0]
[2017,"January 1, 2016 - December 31, 2016",null,"Burlington Hydro Inc.","Other Expenses","5210","Transmission Charges",0]
[2017,"January 1, 2016 - December 31, 2016",null,"Burlington Hydro Inc.","Other Expenses","5215","Transmission Charges Recovered",0]
[2017,"January 1, 2016 - December 31, 2016",null,"Burlington Hydro Inc.","Other Expenses Total",null,null,0]
[2017,"January 1, 2016 - December 31, 2016",null,"Canadian Niagara Power Inc.","Administrative and General Expenses","5505","Supervision",0]
[2017,"January 1, 2016 - December 31, 2016",null,"Canadian Niagara Power Inc.","Administrative and General Expenses","5510","Demonstrating and Selling Expense",0]
[2017,"January 1, 2016 - December 31, 2016",null,"Canadian Niagara Power Inc.","Administrative and General Expenses","5515","Advertising Expense",0]
[2017,"January 1, 2016 - December 31, 2016",null,"Canadian Niagara Power Inc.","Administrative and General Expenses","5520","Miscellaneous Sales Expense",0]
[2017,"January 1, 2016 - December 31, 2016",null,"Canadian Niagara Power Inc.","Administrative and General Expenses","5605","Executive Salaries and Expenses",530707.56000000006]
[2017,"January 1, 2016 - December 31, 2016",null,"Canadian Niagara Power Inc.","Administrative and General Expenses","5610","Management Salaries and Expenses",468924.64]
[2017,"January 1, 2016 - December 31, 2016",null,"Canadian Niagara Power Inc.","Administrative and General Expenses","5615","General Administrative Salaries and Expenses",3293813.07]
[2017,"January 1, 2016 - December 31, 2016",null,"Canadian Niagara Power Inc.","Administrative and General Expenses","5620","Office Supplies and Expenses",514222.86]
[2017,"January 1, 2016 - December 31, 2016",null,"Canadian Niagara Power Inc.","Administrative and General Expenses","5625","Administrative Expense Transferred/Credit",-3834162.78]
[2017,"January 1, 2016 - December 31, 2016",null,"Canadian Niagara Power Inc.","Administrative and General Expenses","5630","Outside Services Employed",539445.72]
[2017,"January 1, 2016 - December 31, 2016",null,"Canadian Niagara Power Inc.","Administrative and General Expenses","5635","Property Insurance",56749.03]
[2017,"January 1, 2016 - December 31, 2016",null,"Canadian Niagara Power Inc.","Administrative and General Expenses","5640","Injuries and Damages",436]
[2017,"January 1, 2016 - December 31, 2016",null,"Canadian Niagara Power Inc.","Administrative and General Expenses","5645","Employee Pensions and Benefits",865101.55]
[2017,"January 1, 2016 - December 31, 2016",null,"Canadian Niagara Power Inc.","Administrative and General Expenses","5650","Franchise Requirements",0]
[2017,"January 1, 2016 - December 31, 2016",null,"Canadian Niagara Power Inc.","Administrative and General Expenses","5655","Regulatory Expenses",251574.01]
[2017,"January 1, 2016 - December 31, 2016",null,"Canadian Niagara Power Inc.","Administrative and General Expenses","5660","General Advertising Expenses",3775.02]
[2017,"January 1, 2016 - December 31, 2016",null,"Canadian Niagara Power Inc.","Administrative and General Expenses","5665","Miscellaneous General Expenses",387586.04]
[2017,"January 1, 2016 - December 31, 2016",null,"Canadian Niagara Power Inc.","Administrative and General Expenses","5670","Rent",349436.88]
[2017,"January 1, 2016 - December 31, 2016",null,"Canadian Niagara Power Inc.","Administrative and General Expenses","5675","Maintenance of General Plant",639801.59999999998]
[2017,"January 1, 2016 - December 31, 2016",null,"Canadian Niagara Power Inc.","Administrative and General Expenses","5680","Electrical Safety Authority Fees",14279.07]
[2017,"January 1, 2016 - December 31, 2016",null,"Canadian Niagara Power Inc.","Administrative and General Expenses","5681","Special Purpose Charge Expense",0]
[2017,"January 1, 2016 - December 31, 2016",null,"Canadian Niagara Power Inc.","Administrative and General Expenses","5685","Independent Market Operator Fees and Penalties",0]
[2017,"January 1, 2016 - December 31, 2016",null,"Canadian Niagara Power Inc.","Administrative and General Expenses","5695","OM&A Contra",0]
[2017,"January 1, 2016 - December 31, 2016",null,"Canadian Niagara Power Inc.","Administrative and General Expenses Total",null,null,4081690.27]
[2017,"January 1, 2016 - December 31, 2016",null,"Canadian Niagara Power Inc.","Billing and Collecting","5305","Supervision",142188.94]
[2017,"January 1, 2016 - December 31, 2016",null,"Canadian Niagara Power Inc.","Billing and Collecting","5310","Meter Reading Expense",79325.91]
[2017,"January 1, 2016 - December 31, 2016",null,"Canadian Niagara Power Inc.","Billing and Collecting","5315","Customer Billing",451200.76]
[2017,"January 1, 2016 - December 31, 2016",null,"Canadian Niagara Power Inc.","Billing and Collecting","5320","Collecting",363495.73]
[2017,"January 1, 2016 - December 31, 2016",null,"Canadian Niagara Power Inc.","Billing and Collecting","5325","Collecting- Cash Over and Short",0]
[2017,"January 1, 2016 - December 31, 2016",null,"Canadian Niagara Power Inc.","Billing and Collecting","5330","Collection Charges",0]
[2017,"January 1, 2016 - December 31, 2016",null,"Canadian Niagara Power Inc.","Billing and Collecting","5335","Bad Debt Expense",164541.96]
[2017,"January 1, 2016 - December 31, 2016",null,"Canadian Niagara Power Inc.","Billing and Collecting","5340","Miscellaneous Customer Accounts Expenses",570432.31999999995]
[2017,"January 1, 2016 - December 31, 2016",null,"Canadian Niagara Power Inc.","Billing and Collecting Total",null,null,1771185.62]
[2017,"January 1, 2016 - December 31, 2016",null,"Canadian Niagara Power Inc.","Community Relations","5405","Supervision",0]
[2017,"January 1, 2016 - December 31, 2016",null,"Canadian Niagara Power Inc.","Community Relations","5410","Community Relations - Sundry",346.67]
[2017,"January 1, 2016 - December 31, 2016",null,"Canadian Niagara Power Inc.","Community Relations","5415","Energy Conservation",0]
[2017,"January 1, 2016 - December 31, 2016",null,"Canadian Niagara Power Inc.","Community Relations","5420","Community Safety Program",45.71]
[2017,"January 1, 2016 - December 31, 2016",null,"Canadian Niagara Power Inc.","Community Relations","5425","Miscellaneous Customer Service and Informational Expenses",19350]
[2017,"January 1, 2016 - December 31, 2016",null,"Canadian Niagara Power Inc.","Community Relations Total",null,null,19742.38]
[2017,"January 1, 2016 - December 31, 2016",null,"Canadian Niagara Power Inc.","Distribution Expenses - Operation","5005","Operation Supervision and Engineering",69548.539999999994]
[2017,"January 1, 2016 - December 31, 2016",null,"Canadian Niagara Power Inc.","Distribution Expenses - Operation","5010","Load Dispatching",282269.33]
[2017,"January 1, 2016 - December 31, 2016",null,"Canadian Niagara Power Inc.","Distribution Expenses - Operation","5012","Station Buildings and Fixtures Expense",150584.29999999999]
[2017,"January 1, 2016 - December 31, 2016",null,"Canadian Niagara Power Inc.","Distribution Expenses - Operation","5014","Transformer Station Equipment - Operation Labour",0]
[2017,"January 1, 2016 - December 31, 2016",null,"Canadian Niagara Power Inc.","Distribution Expenses - Operation","5015","Transformer Station Equipment - Operation Supplies and Expenses",0]
[2017,"January 1, 2016 - December 31, 2016",null,"Canadian Niagara Power Inc.","Distribution Expenses - Operation","5016","Distribution Station Equipment - Operation Labour",91863.96]
[2017,"January 1, 2016 - December 31, 2016",null,"Canadian Niagara Power Inc.","Distribution Expenses - Operation","5017","Distribution Station Equipment - Operation Supplies and Expenses",10468.4]
[2017,"January 1, 2016 - December 31, 2016",null,"Canadian Niagara Power Inc.","Distribution Expenses - Operation","5020","Overhead Distribution Lines and Feeders - Operation Labour",104340.98]
[2017,"January 1, 2016 - December 31, 2016",null,"Canadian Niagara Power Inc.","Distribution Expenses - Operation","5025","Overhead Distribution Lines and Feeders - Operation Supplies and Expenses",9925.91]
[2017,"January 1, 2016 - December 31, 2016",null,"Canadian Niagara Power Inc.","Distribution Expenses - Operation","5030","Overhead Subtransmission Feeders - Operation",0]
[2017,"January 1, 2016 - December 31, 2016",null,"Canadian Niagara Power Inc.","Distribution Expenses - Operation","5035","Overhead Distribution Transformers- Operation",35590.44]
[2017,"January 1, 2016 - December 31, 2016",null,"Canadian Niagara Power Inc.","Distribution Expenses - Operation","5040","Underground Distribution Lines and Feeders - Operation Labour",134152.44]
[2017,"January 1, 2016 - December 31, 2016",null,"Canadian Niagara Power Inc.","Distribution Expenses - Operation","5045","Underground Distribution Lines and Feeders - Operation Supplies and Expenses",15593.15]
[2017,"January 1, 2016 - December 31, 2016",null,"Canadian Niagara Power Inc.","Distribution Expenses - Operation","5050","Underground Subtransmission Feeders - Operation",0]
[2017,"January 1, 2016 - December 31, 2016",null,"Canadian Niagara Power Inc.","Distribution Expenses - Operation","5055","Underground Distribution Transformers - Operation",1850.15]
[2017,"January 1, 2016 - December 31, 2016",null,"Canadian Niagara Power Inc.","Distribution Expenses - Operation","5060","Street Lighting and Signal System Expense",0]
[2017,"January 1, 2016 - December 31, 2016",null,"Canadian Niagara Power Inc.","Distribution Expenses - Operation","5065","Meter Expense",355389.43]
[2017,"January 1, 2016 - December 31, 2016",null,"Canadian Niagara Power Inc.","Distribution Expenses - Operation","5070","Customer Premises - Operation Labour",3617.23]
[2017,"January 1, 2016 - December 31, 2016",null,"Canadian Niagara Power Inc.","Distribution Expenses - Operation","5075","Customer Premises - Materials and Expenses",0]
[2017,"January 1, 2016 - December 31, 2016",null,"Canadian Niagara Power Inc.","Distribution Expenses - Operation","5085","Miscellaneous Distribution Expense",391147.95]
[2017,"January 1, 2016 - December 31, 2016",null,"Canadian Niagara Power Inc.","Distribution Expenses - Operation","5090","Underground Distribution Lines and Feeders - Rental Paid",863]
[2017,"January 1, 2016 - December 31, 2016",null,"Canadian Niagara Power Inc.","Distribution Expenses - Operation","5095","Overhead Distribution Lines and Feeders - Rental Paid",35891]
[2017,"January 1, 2016 - December 31, 2016",null,"Canadian Niagara Power Inc.","Distribution Expenses - Operation","5096","Other Rent",0]
[2017,"January 1, 2016 - December 31, 2016",null,"Canadian Niagara Power Inc.","Distribution Expenses - Operation Total",null,null,1693096.21]
[2017,"January 1, 2016 - December 31, 2016",null,"Canadian Niagara Power Inc.","Distribution Expenses – Maintenance","5105","Maintenance Supervision and Engineering",23271.84]
[2017,"January 1, 2016 - December 31, 2016",null,"Canadian Niagara Power Inc.","Distribution Expenses – Maintenance","5110","Maintenance of Buildings and Fixtures - Distribution Stations",46510.84]
[2017,"January 1, 2016 - December 31, 2016",null,"Canadian Niagara Power Inc.","Distribution Expenses – Maintenance","5112","Maintenance of Transformer Station Equipment",0]
[2017,"January 1, 2016 - December 31, 2016",null,"Canadian Niagara Power Inc.","Distribution Expenses – Maintenance","5114","Maintenance of Distribution Station Equipment",77657.649999999994]
[2017,"January 1, 2016 - December 31, 2016",null,"Canadian Niagara Power Inc.","Distribution Expenses – Maintenance","5120","Maintenance of Poles, Towers and Fixtures",160800.48000000001]
[2017,"January 1, 2016 - December 31, 2016",null,"Canadian Niagara Power Inc.","Distribution Expenses – Maintenance","5125","Maintenance of Overhead Conductors and Devices",305892.46999999997]
[2017,"January 1, 2016 - December 31, 2016",null,"Canadian Niagara Power Inc.","Distribution Expenses – Maintenance","5130","Maintenance of Overhead Services",262509.95]
[2017,"January 1, 2016 - December 31, 2016",null,"Canadian Niagara Power Inc.","Distribution Expenses – Maintenance","5135","Overhead Distribution Lines and Feeders - Right of Way",447394.32]
[2017,"January 1, 2016 - December 31, 2016",null,"Canadian Niagara Power Inc.","Distribution Expenses – Maintenance","5145","Maintenance of Underground Conduit",7806.84]
[2017,"January 1, 2016 - December 31, 2016",null,"Canadian Niagara Power Inc.","Distribution Expenses – Maintenance","5150","Maintenance of Underground Conductors and Devices",37001.440000000002]
[2017,"January 1, 2016 - December 31, 2016",null,"Canadian Niagara Power Inc.","Distribution Expenses – Maintenance","5155","Maintenance of Underground Services",72415.960000000006]
[2017,"January 1, 2016 - December 31, 2016",null,"Canadian Niagara Power Inc.","Distribution Expenses – Maintenance","5160","Maintenance of Line Transformers",46438.26]
[2017,"January 1, 2016 - December 31, 2016",null,"Canadian Niagara Power Inc.","Distribution Expenses – Maintenance","5165","Maintenance of Street Lighting and Signal Systems",0]
[2017,"January 1, 2016 - December 31, 2016",null,"Canadian Niagara Power Inc.","Distribution Expenses – Maintenance","5170","Sentinel Lights - Labour",0]
[2017,"January 1, 2016 - December 31, 2016",null,"Canadian Niagara Power Inc.","Distribution Expenses – Maintenance","5172","Sentinel Lights - Materials and Expenses",0]
[2017,"January 1, 2016 - December 31, 2016",null,"Canadian Niagara Power Inc.","Distribution Expenses – Maintenance","5175","Maintenance of Meters",415023.58]
[2017,"January 1, 2016 - December 31, 2016",null,"Canadian Niagara Power Inc.","Distribution Expenses – Maintenance","5178","Customer Installations Expenses- Leased Property",0]
[2017,"January 1, 2016 - December 31, 2016",null,"Canadian Niagara Power Inc.","Distribution Expenses – Maintenance","5195","Maintenance of Other Installations on Customer Premises",0]
[2017,"January 1, 2016 - December 31, 2016",null,"Canadian Niagara Power Inc.","Distribution Expenses – Maintenance Total",null,null,1902723.63]
[2017,"January 1, 2016 - December 31, 2016",null,"Canadian Niagara Power Inc.","Other Expenses","5205","Purchase of Transmission and System Services",0]
[2017,"January 1, 2016 - December 31, 2016",null,"Canadian Niagara Power Inc.","Other Expenses","5210","Transmission Charges",0]
[2017,"January 1, 2016 - December 31, 2016",null,"Canadian Niagara Power Inc.","Other Expenses","5215","Transmission Charges Recovered",0]
[2017,"January 1, 2016 - December 31, 2016",null,"Canadian Niagara Power Inc.","Other Expenses Total",null,null,0]
[2017,"January 1, 2016 - December 31, 2016",null,"Centre Wellington Hydro Ltd.","Administrative and General Expenses","5505","Supervision",0]
[2017,"January 1, 2016 - December 31, 2016",null,"Centre Wellington Hydro Ltd.","Administrative and General Expenses","5510","Demonstrating and Selling Expense",0]
[2017,"January 1, 2016 - December 31, 2016",null,"Centre Wellington Hydro Ltd.","Administrative and General Expenses","5515","Advertising Expense",0]
[2017,"January 1, 2016 - December 31, 2016",null,"Centre Wellington Hydro Ltd.","Administrative and General Expenses","5520","Miscellaneous Sales Expense",0]
[2017,"January 1, 2016 - December 31, 2016",null,"Centre Wellington Hydro Ltd.","Administrative and General Expenses","5605","Executive Salaries and Expenses",0]
[2017,"January 1, 2016 - December 31, 2016",null,"Centre Wellington Hydro Ltd.","Administrative and General Expenses","5610","Management Salaries and Expenses",360770.12]
[2017,"January 1, 2016 - December 31, 2016",null,"Centre Wellington Hydro Ltd.","Administrative and General Expenses","5615","General Administrative Salaries and Expenses",208942.81]
[2017,"January 1, 2016 - December 31, 2016",null,"Centre Wellington Hydro Ltd.","Administrative and General Expenses","5620","Office Supplies and Expenses",67518.28]
[2017,"January 1, 2016 - December 31, 2016",null,"Centre Wellington Hydro Ltd.","Administrative and General Expenses","5625","Administrative Expense Transferred/Credit",0]
[2017,"January 1, 2016 - December 31, 2016",null,"Centre Wellington Hydro Ltd.","Administrative and General Expenses","5630","Outside Services Employed",53214.51]
[2017,"January 1, 2016 - December 31, 2016",null,"Centre Wellington Hydro Ltd.","Administrative and General Expenses","5635","Property Insurance",5579.28]
[2017,"January 1, 2016 - December 31, 2016",null,"Centre Wellington Hydro Ltd.","Administrative and General Expenses","5640","Injuries and Damages",42093.93]
[2017,"January 1, 2016 - December 31, 2016",null,"Centre Wellington Hydro Ltd.","Administrative and General Expenses","5645","OMERS Pensions and Benefits",0]
[2017,"January 1, 2016 - December 31, 2016",null,"Centre Wellington Hydro Ltd.","Administrative and General Expenses","5646","Employee Pensions and OPEB",16744.34]
[2017,"January 1, 2016 - December 31, 2016",null,"Centre Wellington Hydro Ltd.","Administrative and General Expenses","5647","Employee Sick Leave",0]
[2017,"January 1, 2016 - December 31, 2016",null,"Centre Wellington Hydro Ltd.","Administrative and General Expenses","5650","Franchise Requirements",0]
[2017,"January 1, 2016 - December 31, 2016",null,"Centre Wellington Hydro Ltd.","Administrative and General Expenses","5655","Regulatory Expenses",77609.94]
[2017,"January 1, 2016 - December 31, 2016",null,"Centre Wellington Hydro Ltd.","Administrative and General Expenses","5660","General Advertising Expenses",0]
[2017,"January 1, 2016 - December 31, 2016",null,"Centre Wellington Hydro Ltd.","Administrative and General Expenses","5665","Miscellaneous General Expenses",87624.95]
[2017,"January 1, 2016 - December 31, 2016",null,"Centre Wellington Hydro Ltd.","Administrative and General Expenses","5670","Rent",0]
[2017,"January 1, 2016 - December 31, 2016",null,"Centre Wellington Hydro Ltd.","Administrative and General Expenses","5672","Lease Payment Expense",0]
[2017,"January 1, 2016 - December 31, 2016",null,"Centre Wellington Hydro Ltd.","Administrative and General Expenses","5675","Maintenance of General Plant",22486.639999999999]
[2017,"January 1, 2016 - December 31, 2016",null,"Centre Wellington Hydro Ltd.","Administrative and General Expenses","5680","Electrical Safety Authority Fees",10223.27]
[2017,"January 1, 2016 - December 31, 2016",null,"Centre Wellington Hydro Ltd.","Administrative and General Expenses","5681","Special Purpose Charge Expense",0]
[2017,"January 1, 2016 - December 31, 2016",null,"Centre Wellington Hydro Ltd.","Administrative and General Expenses","5685","Independent Market Operator Fees and Penalties",0]
[2017,"January 1, 2016 - December 31, 2016",null,"Centre Wellington Hydro Ltd.","Administrative and General Expenses","5695","OM&A Contra",0]
[2017,"January 1, 2016 - December 31, 2016",null,"Centre Wellington Hydro Ltd.","Administrative and General Expenses Total",null,null,952808.07]
[2017,"January 1, 2016 - December 31, 2016",null,"Centre Wellington Hydro Ltd.","Billing and Collecting","5305","Supervision",57885.78]
[2017,"January 1, 2016 - December 31, 2016",null,"Centre Wellington Hydro Ltd.","Billing and Collecting","5310","Meter Reading Expense",106918.86]
[2017,"January 1, 2016 - December 31, 2016",null,"Centre Wellington Hydro Ltd.","Billing and Collecting","5315","Customer Billing",210220.11]
[2017,"January 1, 2016 - December 31, 2016",null,"Centre Wellington Hydro Ltd.","Billing and Collecting","5320","Collecting",84530.3]
[2017,"January 1, 2016 - December 31, 2016",null,"Centre Wellington Hydro Ltd.","Billing and Collecting","5325","Collecting- Cash Over and Short",0.55000000000000004]
[2017,"January 1, 2016 - December 31, 2016",null,"Centre Wellington Hydro Ltd.","Billing and Collecting","5330","Collection Charges",0]
[2017,"January 1, 2016 - December 31, 2016",null,"Centre Wellington Hydro Ltd.","Billing and Collecting","5335","Bad Debt Expense",2132.87]
[2017,"January 1, 2016 - December 31, 2016",null,"Centre Wellington Hydro Ltd.","Billing and Collecting","5340","Miscellaneous Customer Accounts Expenses",0]
[2017,"January 1, 2016 - December 31, 2016",null,"Centre Wellington Hydro Ltd.","Billing and Collecting Total",null,null,461688.47]
[2017,"January 1, 2016 - December 31, 2016",null,"Centre Wellington Hydro Ltd.","Community Relations","5405","Supervision",0]
[2017,"January 1, 2016 - December 31, 2016",null,"Centre Wellington Hydro Ltd.","Community Relations","5410","Community Relations - Sundry",31323.69]
[2017,"January 1, 2016 - December 31, 2016",null,"Centre Wellington Hydro Ltd.","Community Relations","5415","Energy Conservation",6744.83]
[2017,"January 1, 2016 - December 31, 2016",null,"Centre Wellington Hydro Ltd.","Community Relations","5420","Community Safety Program",0]
[2017,"January 1, 2016 - December 31, 2016",null,"Centre Wellington Hydro Ltd.","Community Relations","5425","Miscellaneous Customer Service and Informational Expenses",13519.8]
[2017,"January 1, 2016 - December 31, 2016",null,"Centre Wellington Hydro Ltd.","Community Relations Total",null,null,51588.32]
[2017,"January 1, 2016 - December 31, 2016",null,"Centre Wellington Hydro Ltd.","Distribution Expenses - Operation","5005","Operation Supervision and Engineering",71727.41]
[2017,"January 1, 2016 - December 31, 2016",null,"Centre Wellington Hydro Ltd.","Distribution Expenses - Operation","5010","Load Dispatching",15500.36]
[2017,"January 1, 2016 - December 31, 2016",null,"Centre Wellington Hydro Ltd.","Distribution Expenses - Operation","5012","Station Buildings and Fixtures Expense",75720.899999999994]
[2017,"January 1, 2016 - December 31, 2016",null,"Centre Wellington Hydro Ltd.","Distribution Expenses - Operation","5014","Transformer Station Equipment - Operation Labour",0]
[2017,"January 1, 2016 - December 31, 2016",null,"Centre Wellington Hydro Ltd.","Distribution Expenses - Operation","5015","Transformer Station Equipment - Operation Supplies and Expenses",0]
[2017,"January 1, 2016 - December 31, 2016",null,"Centre Wellington Hydro Ltd.","Distribution Expenses - Operation","5016","Distribution Station Equipment - Operation Labour",1305.17]
[2017,"January 1, 2016 - December 31, 2016",null,"Centre Wellington Hydro Ltd.","Distribution Expenses - Operation","5017","Distribution Station Equipment - Operation Supplies and Expenses",12483.68]
[2017,"January 1, 2016 - December 31, 2016",null,"Centre Wellington Hydro Ltd.","Distribution Expenses - Operation","5020","Overhead Distribution Lines and Feeders - Operation Labour",2346.7800000000002]
[2017,"January 1, 2016 - December 31, 2016",null,"Centre Wellington Hydro Ltd.","Distribution Expenses - Operation","5025","Overhead Distribution Lines and Feeders - Operation Supplies and Expenses",5198.53]
[2017,"January 1, 2016 - December 31, 2016",null,"Centre Wellington Hydro Ltd.","Distribution Expenses - Operation","5030","Overhead Subtransmission Feeders - Operation",0]
[2017,"January 1, 2016 - December 31, 2016",null,"Centre Wellington Hydro Ltd.","Distribution Expenses - Operation","5035","Overhead Distribution Transformers- Operation",0]
[2017,"January 1, 2016 - December 31, 2016",null,"Centre Wellington Hydro Ltd.","Distribution Expenses - Operation","5040","Underground Distribution Lines and Feeders - Operation Labour",0]
[2017,"January 1, 2016 - December 31, 2016",null,"Centre Wellington Hydro Ltd.","Distribution Expenses - Operation","5045","Underground Distribution Lines and Feeders - Operation Supplies and Expenses",0]
[2017,"January 1, 2016 - December 31, 2016",null,"Centre Wellington Hydro Ltd.","Distribution Expenses - Operation","5050","Underground Subtransmission Feeders - Operation",0]
[2017,"January 1, 2016 - December 31, 2016",null,"Centre Wellington Hydro Ltd.","Distribution Expenses - Operation","5055","Underground Distribution Transformers - Operation",4555.24]
[2017,"January 1, 2016 - December 31, 2016",null,"Centre Wellington Hydro Ltd.","Distribution Expenses - Operation","5060","Street Lighting and Signal System Expense",0]
[2017,"January 1, 2016 - December 31, 2016",null,"Centre Wellington Hydro Ltd.","Distribution Expenses - Operation","5065","Meter Expense",59018.69]
[2017,"January 1, 2016 - December 31, 2016",null,"Centre Wellington Hydro Ltd.","Distribution Expenses - Operation","5070","Customer Premises - Operation Labour",0]
[2017,"January 1, 2016 - December 31, 2016",null,"Centre Wellington Hydro Ltd.","Distribution Expenses - Operation","5075","Customer Premises - Materials and Expenses",0]
[2017,"January 1, 2016 - December 31, 2016",null,"Centre Wellington Hydro Ltd.","Distribution Expenses - Operation","5085","Miscellaneous Distribution Expense",58407.31]
[2017,"January 1, 2016 - December 31, 2016",null,"Centre Wellington Hydro Ltd.","Distribution Expenses - Operation","5090","Underground Distribution Lines and Feeders - Rental Paid",0]
[2017,"January 1, 2016 - December 31, 2016",null,"Centre Wellington Hydro Ltd.","Distribution Expenses - Operation","5095","Overhead Distribution Lines and Feeders - Rental Paid",6304.25]
[2017,"January 1, 2016 - December 31, 2016",null,"Centre Wellington Hydro Ltd.","Distribution Expenses - Operation","5096","Other Rent",0]
[2017,"January 1, 2016 - December 31, 2016",null,"Centre Wellington Hydro Ltd.","Distribution Expenses - Operation Total",null,null,312568.32000000001]
[2017,"January 1, 2016 - December 31, 2016",null,"Centre Wellington Hydro Ltd.","Distribution Expenses – Maintenance","5105","Maintenance Supervision and Engineering",26845.09]
[2017,"January 1, 2016 - December 31, 2016",null,"Centre Wellington Hydro Ltd.","Distribution Expenses – Maintenance","5110","Maintenance of Buildings and Fixtures - Distribution Stations",0]
[2017,"January 1, 2016 - December 31, 2016",null,"Centre Wellington Hydro Ltd.","Distribution Expenses – Maintenance","5112","Maintenance of Transformer Station Equipment",0]
[2017,"January 1, 2016 - December 31, 2016",null,"Centre Wellington Hydro Ltd.","Distribution Expenses – Maintenance","5114","Maintenance of Distribution Station Equipment",5735.53]
[2017,"January 1, 2016 - December 31, 2016",null,"Centre Wellington Hydro Ltd.","Distribution Expenses – Maintenance","5120","Maintenance of Poles, Towers and Fixtures",26822.22]
[2017,"January 1, 2016 - December 31, 2016",null,"Centre Wellington Hydro Ltd.","Distribution Expenses – Maintenance","5125","Maintenance of Overhead Conductors and Devices",41708.68]
[2017,"January 1, 2016 - December 31, 2016",null,"Centre Wellington Hydro Ltd.","Distribution Expenses – Maintenance","5130","Maintenance of Overhead Services",52958.98]
[2017,"January 1, 2016 - December 31, 2016",null,"Centre Wellington Hydro Ltd.","Distribution Expenses – Maintenance","5135","Overhead Distribution Lines and Feeders - Right of Way",66114.570000000007]
[2017,"January 1, 2016 - December 31, 2016",null,"Centre Wellington Hydro Ltd.","Distribution Expenses – Maintenance","5145","Maintenance of Underground Conduit",3227.96]
[2017,"January 1, 2016 - December 31, 2016",null,"Centre Wellington Hydro Ltd.","Distribution Expenses – Maintenance","5150","Maintenance of Underground Conductors and Devices",2503.14]
[2017,"January 1, 2016 - December 31, 2016",null,"Centre Wellington Hydro Ltd.","Distribution Expenses – Maintenance","5155","Maintenance of Underground Services",114268.19]
[2017,"January 1, 2016 - December 31, 2016",null,"Centre Wellington Hydro Ltd.","Distribution Expenses – Maintenance","5160","Maintenance of Line Transformers",14202.1]
[2017,"January 1, 2016 - December 31, 2016",null,"Centre Wellington Hydro Ltd.","Distribution Expenses – Maintenance","5165","Maintenance of Street Lighting and Signal Systems",0]
[2017,"January 1, 2016 - December 31, 2016",null,"Centre Wellington Hydro Ltd.","Distribution Expenses – Maintenance","5170","Sentinel Lights - Labour",0]
[2017,"January 1, 2016 - December 31, 2016",null,"Centre Wellington Hydro Ltd.","Distribution Expenses – Maintenance","5172","Sentinel Lights - Materials and Expenses",0]
[2017,"January 1, 2016 - December 31, 2016",null,"Centre Wellington Hydro Ltd.","Distribution Expenses – Maintenance","5175","Maintenance of Meters",0]
[2017,"January 1, 2016 - December 31, 2016",null,"Centre Wellington Hydro Ltd.","Distribution Expenses – Maintenance","5178","Customer Installations Expenses- Leased Property",0]
[2017,"January 1, 2016 - December 31, 2016",null,"Centre Wellington Hydro Ltd.","Distribution Expenses – Maintenance","5195","Maintenance of Other Installations on Customer Premises",0]
[2017,"January 1, 2016 - December 31, 2016",null,"Centre Wellington Hydro Ltd.","Distribution Expenses – Maintenance Total",null,null,354386.46]
[2017,"January 1, 2016 - December 31, 2016",null,"Centre Wellington Hydro Ltd.","Other Expenses","5205","Purchase of Transmission and System Services",0]
[2017,"January 1, 2016 - December 31, 2016",null,"Centre Wellington Hydro Ltd.","Other Expenses","5210","Transmission Charges",0]
[2017,"January 1, 2016 - December 31, 2016",null,"Centre Wellington Hydro Ltd.","Other Expenses","5215","Transmission Charges Recovered",0]
[2017,"January 1, 2016 - December 31, 2016",null,"Centre Wellington Hydro Ltd.","Other Expenses Total",null,null,0]
[2017,"January 1, 2016 - December 31, 2016",null,"Chapleau Public Utilities Corporation","Administrative and General Expenses","5505","Supervision",0]
[2017,"January 1, 2016 - December 31, 2016",null,"Chapleau Public Utilities Corporation","Administrative and General Expenses","5510","Demonstrating and Selling Expense",0]
[2017,"January 1, 2016 - December 31, 2016",null,"Chapleau Public Utilities Corporation","Administrative and General Expenses","5515","Advertising Expense",0]
[2017,"January 1, 2016 - December 31, 2016",null,"Chapleau Public Utilities Corporation","Administrative and General Expenses","5520","Miscellaneous Sales Expense",0]
[2017,"January 1, 2016 - December 31, 2016",null,"Chapleau Public Utilities Corporation","Administrative and General Expenses","5605","Executive Salaries and Expenses",13200]
[2017,"January 1, 2016 - December 31, 2016",null,"Chapleau Public Utilities Corporation","Administrative and General Expenses","5610","Management Salaries and Expenses",87775.03]
[2017,"January 1, 2016 - December 31, 2016",null,"Chapleau Public Utilities Corporation","Administrative and General Expenses","5615","General Administrative Salaries and Expenses",17664.240000000002]
[2017,"January 1, 2016 - December 31, 2016",null,"Chapleau Public Utilities Corporation","Administrative and General Expenses","5620","Office Supplies and Expenses",26671.68]
[2017,"January 1, 2016 - December 31, 2016",null,"Chapleau Public Utilities Corporation","Administrative and General Expenses","5625","Administrative Expense Transferred/Credit",0]
[2017,"January 1, 2016 - December 31, 2016",null,"Chapleau Public Utilities Corporation","Administrative and General Expenses","5630","Outside Services Employed",76785.06]
[2017,"January 1, 2016 - December 31, 2016",null,"Chapleau Public Utilities Corporation","Administrative and General Expenses","5635","Property Insurance",4421.41]
[2017,"January 1, 2016 - December 31, 2016",null,"Chapleau Public Utilities Corporation","Administrative and General Expenses","5640","Injuries and Damages",7533.53]
[2017,"January 1, 2016 - December 31, 2016",null,"Chapleau Public Utilities Corporation","Administrative and General Expenses","5645","OMERS Pensions and Benefits",73205.460000000006]
[2017,"January 1, 2016 - December 31, 2016",null,"Chapleau Public Utilities Corporation","Administrative and General Expenses","5646","Employee Pensions and OPEB",0]
[2017,"January 1, 2016 - December 31, 2016",null,"Chapleau Public Utilities Corporation","Administrative and General Expenses","5647","Employee Sick Leave",0]
[2017,"January 1, 2016 - December 31, 2016",null,"Chapleau Public Utilities Corporation","Administrative and General Expenses","5650","Franchise Requirements",0]
[2017,"January 1, 2016 - December 31, 2016",null,"Chapleau Public Utilities Corporation","Administrative and General Expenses","5655","Regulatory Expenses",8933.7900000000009]
[2017,"January 1, 2016 - December 31, 2016",null,"Chapleau Public Utilities Corporation","Administrative and General Expenses","5660","General Advertising Expenses",0]
[2017,"January 1, 2016 - December 31, 2016",null,"Chapleau Public Utilities Corporation","Administrative and General Expenses","5665","Miscellaneous General Expenses",67942.44]
[2017,"January 1, 2016 - December 31, 2016",null,"Chapleau Public Utilities Corporation","Administrative and General Expenses","5670","Rent",0]
[2017,"January 1, 2016 - December 31, 2016",null,"Chapleau Public Utilities Corporation","Administrative and General Expenses","5672","Lease Payment Expense",0]
[2017,"January 1, 2016 - December 31, 2016",null,"Chapleau Public Utilities Corporation","Administrative and General Expenses","5675","Maintenance of General Plant",0]
[2017,"January 1, 2016 - December 31, 2016",null,"Chapleau Public Utilities Corporation","Administrative and General Expenses","5680","Electrical Safety Authority Fees",0]
[2017,"January 1, 2016 - December 31, 2016",null,"Chapleau Public Utilities Corporation","Administrative and General Expenses","5681","Special Purpose Charge Expense",0]
[2017,"January 1, 2016 - December 31, 2016",null,"Chapleau Public Utilities Corporation","Administrative and General Expenses","5685","Independent Market Operator Fees and Penalties",0]
[2017,"January 1, 2016 - December 31, 2016",null,"Chapleau Public Utilities Corporation","Administrative and General Expenses","5695","OM&A Contra",0]
[2017,"January 1, 2016 - December 31, 2016",null,"Chapleau Public Utilities Corporation","Administrative and General Expenses Total",null,null,384132.64]
[2017,"January 1, 2016 - December 31, 2016",null,"Chapleau Public Utilities Corporation","Billing and Collecting","5305","Supervision",0]
[2017,"January 1, 2016 - December 31, 2016",null,"Chapleau Public Utilities Corporation","Billing and Collecting","5310","Meter Reading Expense",35466.49]
[2017,"January 1, 2016 - December 31, 2016",null,"Chapleau Public Utilities Corporation","Billing and Collecting","5315","Customer Billing",78927.149999999994]
[2017,"January 1, 2016 - December 31, 2016",null,"Chapleau Public Utilities Corporation","Billing and Collecting","5320","Collecting",0]
[2017,"January 1, 2016 - December 31, 2016",null,"Chapleau Public Utilities Corporation","Billing and Collecting","5325","Collecting- Cash Over and Short",0]
[2017,"January 1, 2016 - December 31, 2016",null,"Chapleau Public Utilities Corporation","Billing and Collecting","5330","Collection Charges",0]
[2017,"January 1, 2016 - December 31, 2016",null,"Chapleau Public Utilities Corporation","Billing and Collecting","5335","Bad Debt Expense",6763.22]
[2017,"January 1, 2016 - December 31, 2016",null,"Chapleau Public Utilities Corporation","Billing and Collecting","5340","Miscellaneous Customer Accounts Expenses",0]
[2017,"January 1, 2016 - December 31, 2016",null,"Chapleau Public Utilities Corporation","Billing and Collecting Total",null,null,121156.86]
[2017,"January 1, 2016 - December 31, 2016",null,"Chapleau Public Utilities Corporation","Community Relations","5405","Supervision",0]
[2017,"January 1, 2016 - December 31, 2016",null,"Chapleau Public Utilities Corporation","Community Relations","5410","Community Relations - Sundry",415]
[2017,"January 1, 2016 - December 31, 2016",null,"Chapleau Public Utilities Corporation","Community Relations","5415","Energy Conservation",0]
[2017,"January 1, 2016 - December 31, 2016",null,"Chapleau Public Utilities Corporation","Community Relations","5420","Community Safety Program",0]
[2017,"January 1, 2016 - December 31, 2016",null,"Chapleau Public Utilities Corporation","Community Relations","5425","Miscellaneous Customer Service and Informational Expenses",0]
[2017,"January 1, 2016 - December 31, 2016",null,"Chapleau Public Utilities Corporation","Community Relations Total",null,null,415]
[2017,"January 1, 2016 - December 31, 2016",null,"Chapleau Public Utilities Corporation","Distribution Expenses - Operation","5005","Operation Supervision and Engineering",0]
[2017,"January 1, 2016 - December 31, 2016",null,"Chapleau Public Utilities Corporation","Distribution Expenses - Operation","5010","Load Dispatching",0]
[2017,"January 1, 2016 - December 31, 2016",null,"Chapleau Public Utilities Corporation","Distribution Expenses - Operation","5012","Station Buildings and Fixtures Expense",0]
[2017,"January 1, 2016 - December 31, 2016",null,"Chapleau Public Utilities Corporation","Distribution Expenses - Operation","5014","Transformer Station Equipment - Operation Labour",0]
[2017,"January 1, 2016 - December 31, 2016",null,"Chapleau Public Utilities Corporation","Distribution Expenses - Operation","5015","Transformer Station Equipment - Operation Supplies and Expenses",0]
[2017,"January 1, 2016 - December 31, 2016",null,"Chapleau Public Utilities Corporation","Distribution Expenses - Operation","5016","Distribution Station Equipment - Operation Labour",2991.14]
[2017,"January 1, 2016 - December 31, 2016",null,"Chapleau Public Utilities Corporation","Distribution Expenses - Operation","5017","Distribution Station Equipment - Operation Supplies and Expenses",0]
[2017,"January 1, 2016 - December 31, 2016",null,"Chapleau Public Utilities Corporation","Distribution Expenses - Operation","5020","Overhead Distribution Lines and Feeders - Operation Labour",178142.46]
[2017,"January 1, 2016 - December 31, 2016",null,"Chapleau Public Utilities Corporation","Distribution Expenses - Operation","5025","Overhead Distribution Lines and Feeders - Operation Supplies and Expenses",53230.89]
[2017,"January 1, 2016 - December 31, 2016",null,"Chapleau Public Utilities Corporation","Distribution Expenses - Operation","5030","Overhead Subtransmission Feeders - Operation",0]
[2017,"January 1, 2016 - December 31, 2016",null,"Chapleau Public Utilities Corporation","Distribution Expenses - Operation","5035","Overhead Distribution Transformers- Operation",0]
[2017,"January 1, 2016 - December 31, 2016",null,"Chapleau Public Utilities Corporation","Distribution Expenses - Operation","5040","Underground Distribution Lines and Feeders - Operation Labour",0]
[2017,"January 1, 2016 - December 31, 2016",null,"Chapleau Public Utilities Corporation","Distribution Expenses - Operation","5045","Underground Distribution Lines and Feeders - Operation Supplies and Expenses",0]
[2017,"January 1, 2016 - December 31, 2016",null,"Chapleau Public Utilities Corporation","Distribution Expenses - Operation","5050","Underground Subtransmission Feeders - Operation",0]
[2017,"January 1, 2016 - December 31, 2016",null,"Chapleau Public Utilities Corporation","Distribution Expenses - Operation","5055","Underground Distribution Transformers - Operation",0]
[2017,"January 1, 2016 - December 31, 2016",null,"Chapleau Public Utilities Corporation","Distribution Expenses - Operation","5060","Street Lighting and Signal System Expense",0]
[2017,"January 1, 2016 - December 31, 2016",null,"Chapleau Public Utilities Corporation","Distribution Expenses - Operation","5065","Meter Expense",514.32000000000005]
[2017,"January 1, 2016 - December 31, 2016",null,"Chapleau Public Utilities Corporation","Distribution Expenses - Operation","5070","Customer Premises - Operation Labour",0]
[2017,"January 1, 2016 - December 31, 2016",null,"Chapleau Public Utilities Corporation","Distribution Expenses - Operation","5075","Customer Premises - Materials and Expenses",0]
[2017,"January 1, 2016 - December 31, 2016",null,"Chapleau Public Utilities Corporation","Distribution Expenses - Operation","5085","Miscellaneous Distribution Expense",0]
[2017,"January 1, 2016 - December 31, 2016",null,"Chapleau Public Utilities Corporation","Distribution Expenses - Operation","5090","Underground Distribution Lines and Feeders - Rental Paid",0]
[2017,"January 1, 2016 - December 31, 2016",null,"Chapleau Public Utilities Corporation","Distribution Expenses - Operation","5095","Overhead Distribution Lines and Feeders - Rental Paid",1453.28]
[2017,"January 1, 2016 - December 31, 2016",null,"Chapleau Public Utilities Corporation","Distribution Expenses - Operation","5096","Other Rent",0]
[2017,"January 1, 2016 - December 31, 2016",null,"Chapleau Public Utilities Corporation","Distribution Expenses - Operation Total",null,null,236332.09]
[2017,"January 1, 2016 - December 31, 2016",null,"Chapleau Public Utilities Corporation","Distribution Expenses – Maintenance","5105","Maintenance Supervision and Engineering",0]
[2017,"January 1, 2016 - December 31, 2016",null,"Chapleau Public Utilities Corporation","Distribution Expenses – Maintenance","5110","Maintenance of Buildings and Fixtures - Distribution Stations",0]
[2017,"January 1, 2016 - December 31, 2016",null,"Chapleau Public Utilities Corporation","Distribution Expenses – Maintenance","5112","Maintenance of Transformer Station Equipment",0]
[2017,"January 1, 2016 - December 31, 2016",null,"Chapleau Public Utilities Corporation","Distribution Expenses – Maintenance","5114","Maintenance of Distribution Station Equipment",0]
[2017,"January 1, 2016 - December 31, 2016",null,"Chapleau Public Utilities Corporation","Distribution Expenses – Maintenance","5120","Maintenance of Poles, Towers and Fixtures",0]
[2017,"January 1, 2016 - December 31, 2016",null,"Chapleau Public Utilities Corporation","Distribution Expenses – Maintenance","5125","Maintenance of Overhead Conductors and Devices",0]
[2017,"January 1, 2016 - December 31, 2016",null,"Chapleau Public Utilities Corporation","Distribution Expenses – Maintenance","5130","Maintenance of Overhead Services",0]
[2017,"January 1, 2016 - December 31, 2016",null,"Chapleau Public Utilities Corporation","Distribution Expenses – Maintenance","5135","Overhead Distribution Lines and Feeders - Right of Way",0]
[2017,"January 1, 2016 - December 31, 2016",null,"Chapleau Public Utilities Corporation","Distribution Expenses – Maintenance","5145","Maintenance of Underground Conduit",0]
[2017,"January 1, 2016 - December 31, 2016",null,"Chapleau Public Utilities Corporation","Distribution Expenses – Maintenance","5150","Maintenance of Underground Conductors and Devices",0]
[2017,"January 1, 2016 - December 31, 2016",null,"Chapleau Public Utilities Corporation","Distribution Expenses – Maintenance","5155","Maintenance of Underground Services",0]
[2017,"January 1, 2016 - December 31, 2016",null,"Chapleau Public Utilities Corporation","Distribution Expenses – Maintenance","5160","Maintenance of Line Transformers",0]
[2017,"January 1, 2016 - December 31, 2016",null,"Chapleau Public Utilities Corporation","Distribution Expenses – Maintenance","5165","Maintenance of Street Lighting and Signal Systems",0]
[2017,"January 1, 2016 - December 31, 2016",null,"Chapleau Public Utilities Corporation","Distribution Expenses – Maintenance","5170","Sentinel Lights - Labour",0]
[2017,"January 1, 2016 - December 31, 2016",null,"Chapleau Public Utilities Corporation","Distribution Expenses – Maintenance","5172","Sentinel Lights - Materials and Expenses",0]
[2017,"January 1, 2016 - December 31, 2016",null,"Chapleau Public Utilities Corporation","Distribution Expenses – Maintenance","5175","Maintenance of Meters",0]
[2017,"January 1, 2016 - December 31, 2016",null,"Chapleau Public Utilities Corporation","Distribution Expenses – Maintenance","5178","Customer Installations Expenses- Leased Property",0]
[2017,"January 1, 2016 - December 31, 2016",null,"Chapleau Public Utilities Corporation","Distribution Expenses – Maintenance","5195","Maintenance of Other Installations on Customer Premises",0]
[2017,"January 1, 2016 - December 31, 2016",null,"Chapleau Public Utilities Corporation","Distribution Expenses – Maintenance Total",null,null,0]
[2017,"January 1, 2016 - December 31, 2016",null,"Chapleau Public Utilities Corporation","Other Expenses","5205","Purchase of Transmission and System Services",0]
[2017,"January 1, 2016 - December 31, 2016",null,"Chapleau Public Utilities Corporation","Other Expenses","5210","Transmission Charges",0]
[2017,"January 1, 2016 - December 31, 2016",null,"Chapleau Public Utilities Corporation","Other Expenses","5215","Transmission Charges Recovered",0]
[2017,"January 1, 2016 - December 31, 2016",null,"Chapleau Public Utilities Corporation","Other Expenses Total",null,null,0]
[2017,"January 1, 2016 - December 31, 2016",null,"Cooperative Hydro Embrun Inc.","Administrative and General Expenses","5505","Supervision",0]
[2017,"January 1, 2016 - December 31, 2016",null,"Cooperative Hydro Embrun Inc.","Administrative and General Expenses","5510","Demonstrating and Selling Expense",0]
[2017,"January 1, 2016 - December 31, 2016",null,"Cooperative Hydro Embrun Inc.","Administrative and General Expenses","5515","Advertising Expense",0]
[2017,"January 1, 2016 - December 31, 2016",null,"Cooperative Hydro Embrun Inc.","Administrative and General Expenses","5520","Miscellaneous Sales Expense",0]
[2017,"January 1, 2016 - December 31, 2016",null,"Cooperative Hydro Embrun Inc.","Administrative and General Expenses","5605","Executive Salaries and Expenses",29694]
[2017,"January 1, 2016 - December 31, 2016",null,"Cooperative Hydro Embrun Inc.","Administrative and General Expenses","5610","Management Salaries and Expenses",93979.87]
[2017,"January 1, 2016 - December 31, 2016",null,"Cooperative Hydro Embrun Inc.","Administrative and General Expenses","5615","General Administrative Salaries and Expenses",65744.33]
[2017,"January 1, 2016 - December 31, 2016",null,"Cooperative Hydro Embrun Inc.","Administrative and General Expenses","5620","Office Supplies and Expenses",37793.61]
[2017,"January 1, 2016 - December 31, 2016",null,"Cooperative Hydro Embrun Inc.","Administrative and General Expenses","5625","Administrative Expense Transferred/Credit",0]
[2017,"January 1, 2016 - December 31, 2016",null,"Cooperative Hydro Embrun Inc.","Administrative and General Expenses","5630","Outside Services Employed",45071.360000000001]
[2017,"January 1, 2016 - December 31, 2016",null,"Cooperative Hydro Embrun Inc.","Administrative and General Expenses","5635","Property Insurance",1957.01]
[2017,"January 1, 2016 - December 31, 2016",null,"Cooperative Hydro Embrun Inc.","Administrative and General Expenses","5640","Injuries and Damages",2772.15]
[2017,"January 1, 2016 - December 31, 2016",null,"Cooperative Hydro Embrun Inc.","Administrative and General Expenses","5645","OMERS Pensions and Benefits",0]
[2017,"January 1, 2016 - December 31, 2016",null,"Cooperative Hydro Embrun Inc.","Administrative and General Expenses","5646","Employee Pensions and OPEB",0]
[2017,"January 1, 2016 - December 31, 2016",null,"Cooperative Hydro Embrun Inc.","Administrative and General Expenses","5647","Employee Sick Leave",0]
[2017,"January 1, 2016 - December 31, 2016",null,"Cooperative Hydro Embrun Inc.","Administrative and General Expenses","5650","Franchise Requirements",0]
[2017,"January 1, 2016 - December 31, 2016",null,"Cooperative Hydro Embrun Inc.","Administrative and General Expenses","5655","Regulatory Expenses",39811.699999999997]
[2017,"January 1, 2016 - December 31, 2016",null,"Cooperative Hydro Embrun Inc.","Administrative and General Expenses","5660","General Advertising Expenses",0]
[2017,"January 1, 2016 - December 31, 2016",null,"Cooperative Hydro Embrun Inc.","Administrative and General Expenses","5665","Miscellaneous General Expenses",0]
[2017,"January 1, 2016 - December 31, 2016",null,"Cooperative Hydro Embrun Inc.","Administrative and General Expenses","5670","Rent",14252.75]
[2017,"January 1, 2016 - December 31, 2016",null,"Cooperative Hydro Embrun Inc.","Administrative and General Expenses","5672","Lease Payment Expense",0]
[2017,"January 1, 2016 - December 31, 2016",null,"Cooperative Hydro Embrun Inc.","Administrative and General Expenses","5675","Maintenance of General Plant",0]
[2017,"January 1, 2016 - December 31, 2016",null,"Cooperative Hydro Embrun Inc.","Administrative and General Expenses","5680","Electrical Safety Authority Fees",1875.14]
[2017,"January 1, 2016 - December 31, 2016",null,"Cooperative Hydro Embrun Inc.","Administrative and General Expenses","5681","Special Purpose Charge Expense",0]
[2017,"January 1, 2016 - December 31, 2016",null,"Cooperative Hydro Embrun Inc.","Administrative and General Expenses","5685","Independent Market Operator Fees and Penalties",0]
[2017,"January 1, 2016 - December 31, 2016",null,"Cooperative Hydro Embrun Inc.","Administrative and General Expenses","5695","OM&A Contra",0]
[2017,"January 1, 2016 - December 31, 2016",null,"Cooperative Hydro Embrun Inc.","Administrative and General Expenses Total",null,null,332951.92]
[2017,"January 1, 2016 - December 31, 2016",null,"Cooperative Hydro Embrun Inc.","Billing and Collecting","5305","Supervision",0]
[2017,"January 1, 2016 - December 31, 2016",null,"Cooperative Hydro Embrun Inc.","Billing and Collecting","5310","Meter Reading Expense",168889.18]
[2017,"January 1, 2016 - December 31, 2016",null,"Cooperative Hydro Embrun Inc.","Billing and Collecting","5315","Customer Billing",0]
[2017,"January 1, 2016 - December 31, 2016",null,"Cooperative Hydro Embrun Inc.","Billing and Collecting","5320","Collecting",0]
[2017,"January 1, 2016 - December 31, 2016",null,"Cooperative Hydro Embrun Inc.","Billing and Collecting","5325","Collecting- Cash Over and Short",0]
[2017,"January 1, 2016 - December 31, 2016",null,"Cooperative Hydro Embrun Inc.","Billing and Collecting","5330","Collection Charges",3930]
[2017,"January 1, 2016 - December 31, 2016",null,"Cooperative Hydro Embrun Inc.","Billing and Collecting","5335","Bad Debt Expense",4959.84]
[2017,"January 1, 2016 - December 31, 2016",null,"Cooperative Hydro Embrun Inc.","Billing and Collecting","5340","Miscellaneous Customer Accounts Expenses",0]
[2017,"January 1, 2016 - December 31, 2016",null,"Cooperative Hydro Embrun Inc.","Billing and Collecting Total",null,null,177779.02]
[2017,"January 1, 2016 - December 31, 2016",null,"Cooperative Hydro Embrun Inc.","Community Relations","5405","Supervision",0]
[2017,"January 1, 2016 - December 31, 2016",null,"Cooperative Hydro Embrun Inc.","Community Relations","5410","Community Relations - Sundry",7862.84]
[2017,"January 1, 2016 - December 31, 2016",null,"Cooperative Hydro Embrun Inc.","Community Relations","5415","Energy Conservation",0]
[2017,"January 1, 2016 - December 31, 2016",null,"Cooperative Hydro Embrun Inc.","Community Relations","5420","Community Safety Program",0]
[2017,"January 1, 2016 - December 31, 2016",null,"Cooperative Hydro Embrun Inc.","Community Relations","5425","Miscellaneous Customer Service and Informational Expenses",0]
[2017,"January 1, 2016 - December 31, 2016",null,"Cooperative Hydro Embrun Inc.","Community Relations Total",null,null,7862.84]
[2017,"January 1, 2016 - December 31, 2016",null,"Cooperative Hydro Embrun Inc.","Distribution Expenses - Operation","5005","Operation Supervision and Engineering",0]
[2017,"January 1, 2016 - December 31, 2016",null,"Cooperative Hydro Embrun Inc.","Distribution Expenses - Operation","5010","Load Dispatching",0]
[2017,"January 1, 2016 - December 31, 2016",null,"Cooperative Hydro Embrun Inc.","Distribution Expenses - Operation","5012","Station Buildings and Fixtures Expense",1306.48]
[2017,"January 1, 2016 - December 31, 2016",null,"Cooperative Hydro Embrun Inc.","Distribution Expenses - Operation","5014","Transformer Station Equipment - Operation Labour",0]
[2017,"January 1, 2016 - December 31, 2016",null,"Cooperative Hydro Embrun Inc.","Distribution Expenses - Operation","5015","Transformer Station Equipment - Operation Supplies and Expenses",0]
[2017,"January 1, 2016 - December 31, 2016",null,"Cooperative Hydro Embrun Inc.","Distribution Expenses - Operation","5016","Distribution Station Equipment - Operation Labour",0]
[2017,"January 1, 2016 - December 31, 2016",null,"Cooperative Hydro Embrun Inc.","Distribution Expenses - Operation","5017","Distribution Station Equipment - Operation Supplies and Expenses",0]
[2017,"January 1, 2016 - December 31, 2016",null,"Cooperative Hydro Embrun Inc.","Distribution Expenses - Operation","5020","Overhead Distribution Lines and Feeders - Operation Labour",0]
[2017,"January 1, 2016 - December 31, 2016",null,"Cooperative Hydro Embrun Inc.","Distribution Expenses - Operation","5025","Overhead Distribution Lines and Feeders - Operation Supplies and Expenses",0]
[2017,"January 1, 2016 - December 31, 2016",null,"Cooperative Hydro Embrun Inc.","Distribution Expenses - Operation","5030","Overhead Subtransmission Feeders - Operation",0]
[2017,"January 1, 2016 - December 31, 2016",null,"Cooperative Hydro Embrun Inc.","Distribution Expenses - Operation","5035","Overhead Distribution Transformers- Operation",3185.14]
[2017,"January 1, 2016 - December 31, 2016",null,"Cooperative Hydro Embrun Inc.","Distribution Expenses - Operation","5040","Underground Distribution Lines and Feeders - Operation Labour",0]
[2017,"January 1, 2016 - December 31, 2016",null,"Cooperative Hydro Embrun Inc.","Distribution Expenses - Operation","5045","Underground Distribution Lines and Feeders - Operation Supplies and Expenses",0]
[2017,"January 1, 2016 - December 31, 2016",null,"Cooperative Hydro Embrun Inc.","Distribution Expenses - Operation","5050","Underground Subtransmission Feeders - Operation",0]
[2017,"January 1, 2016 - December 31, 2016",null,"Cooperative Hydro Embrun Inc.","Distribution Expenses - Operation","5055","Underground Distribution Transformers - Operation",0]
[2017,"January 1, 2016 - December 31, 2016",null,"Cooperative Hydro Embrun Inc.","Distribution Expenses - Operation","5060","Street Lighting and Signal System Expense",0]
[2017,"January 1, 2016 - December 31, 2016",null,"Cooperative Hydro Embrun Inc.","Distribution Expenses - Operation","5065","Meter Expense",907.5]
[2017,"January 1, 2016 - December 31, 2016",null,"Cooperative Hydro Embrun Inc.","Distribution Expenses - Operation","5070","Customer Premises - Operation Labour",0]
[2017,"January 1, 2016 - December 31, 2016",null,"Cooperative Hydro Embrun Inc.","Distribution Expenses - Operation","5075","Customer Premises - Materials and Expenses",19441.63]
[2017,"January 1, 2016 - December 31, 2016",null,"Cooperative Hydro Embrun Inc.","Distribution Expenses - Operation","5085","Miscellaneous Distribution Expense",9368.08]
[2017,"January 1, 2016 - December 31, 2016",null,"Cooperative Hydro Embrun Inc.","Distribution Expenses - Operation","5090","Underground Distribution Lines and Feeders - Rental Paid",0]
[2017,"January 1, 2016 - December 31, 2016",null,"Cooperative Hydro Embrun Inc.","Distribution Expenses - Operation","5095","Overhead Distribution Lines and Feeders - Rental Paid",0]
[2017,"January 1, 2016 - December 31, 2016",null,"Cooperative Hydro Embrun Inc.","Distribution Expenses - Operation","5096","Other Rent",0]
[2017,"January 1, 2016 - December 31, 2016",null,"Cooperative Hydro Embrun Inc.","Distribution Expenses - Operation Total",null,null,34208.83]
[2017,"January 1, 2016 - December 31, 2016",null,"Cooperative Hydro Embrun Inc.","Distribution Expenses – Maintenance","5105","Maintenance Supervision and Engineering",0]
[2017,"January 1, 2016 - December 31, 2016",null,"Cooperative Hydro Embrun Inc.","Distribution Expenses – Maintenance","5110","Maintenance of Buildings and Fixtures - Distribution Stations",8420.64]
[2017,"January 1, 2016 - December 31, 2016",null,"Cooperative Hydro Embrun Inc.","Distribution Expenses – Maintenance","5112","Maintenance of Transformer Station Equipment",0]
[2017,"January 1, 2016 - December 31, 2016",null,"Cooperative Hydro Embrun Inc.","Distribution Expenses – Maintenance","5114","Maintenance of Distribution Station Equipment",6133.54]
[2017,"January 1, 2016 - December 31, 2016",null,"Cooperative Hydro Embrun Inc.","Distribution Expenses – Maintenance","5120","Maintenance of Poles, Towers and Fixtures",6652.08]
[2017,"January 1, 2016 - December 31, 2016",null,"Cooperative Hydro Embrun Inc.","Distribution Expenses – Maintenance","5125","Maintenance of Overhead Conductors and Devices",5419.25]
[2017,"January 1, 2016 - December 31, 2016",null,"Cooperative Hydro Embrun Inc.","Distribution Expenses – Maintenance","5130","Maintenance of Overhead Services",0]
[2017,"January 1, 2016 - December 31, 2016",null,"Cooperative Hydro Embrun Inc.","Distribution Expenses – Maintenance","5135","Overhead Distribution Lines and Feeders - Right of Way",7672.5]
[2017,"January 1, 2016 - December 31, 2016",null,"Cooperative Hydro Embrun Inc.","Distribution Expenses – Maintenance","5145","Maintenance of Underground Conduit",0]
[2017,"January 1, 2016 - December 31, 2016",null,"Cooperative Hydro Embrun Inc.","Distribution Expenses – Maintenance","5150","Maintenance of Underground Conductors and Devices",9924.75]
[2017,"January 1, 2016 - December 31, 2016",null,"Cooperative Hydro Embrun Inc.","Distribution Expenses – Maintenance","5155","Maintenance of Underground Services",2000]
[2017,"January 1, 2016 - December 31, 2016",null,"Cooperative Hydro Embrun Inc.","Distribution Expenses – Maintenance","5160","Maintenance of Line Transformers",0]
[2017,"January 1, 2016 - December 31, 2016",null,"Cooperative Hydro Embrun Inc.","Distribution Expenses – Maintenance","5165","Maintenance of Street Lighting and Signal Systems",0]
[2017,"January 1, 2016 - December 31, 2016",null,"Cooperative Hydro Embrun Inc.","Distribution Expenses – Maintenance","5170","Sentinel Lights - Labour",0]
[2017,"January 1, 2016 - December 31, 2016",null,"Cooperative Hydro Embrun Inc.","Distribution Expenses – Maintenance","5172","Sentinel Lights - Materials and Expenses",0]
[2017,"January 1, 2016 - December 31, 2016",null,"Cooperative Hydro Embrun Inc.","Distribution Expenses – Maintenance","5175","Maintenance of Meters",0]
[2017,"January 1, 2016 - December 31, 2016",null,"Cooperative Hydro Embrun Inc.","Distribution Expenses – Maintenance","5178","Customer Installations Expenses- Leased Property",0]
[2017,"January 1, 2016 - December 31, 2016",null,"Cooperative Hydro Embrun Inc.","Distribution Expenses – Maintenance","5195","Maintenance of Other Installations on Customer Premises",0]
[2017,"January 1, 2016 - December 31, 2016",null,"Cooperative Hydro Embrun Inc.","Distribution Expenses – Maintenance Total",null,null,46222.76]
[2017,"January 1, 2016 - December 31, 2016",null,"Cooperative Hydro Embrun Inc.","Other Expenses","5205","Purchase of Transmission and System Services",0]
[2017,"January 1, 2016 - December 31, 2016",null,"Cooperative Hydro Embrun Inc.","Other Expenses","5210","Transmission Charges",0]
[2017,"January 1, 2016 - December 31, 2016",null,"Cooperative Hydro Embrun Inc.","Other Expenses","5215","Transmission Charges Recovered",0]
[2017,"January 1, 2016 - December 31, 2016",null,"Cooperative Hydro Embrun Inc.","Other Expenses Total",null,null,0]
[2017,"January 1, 2016 - December 31, 2016",null,"E.L.K. Energy Inc.","Administrative and General Expenses","5505","Supervision",0]
[2017,"January 1, 2016 - December 31, 2016",null,"E.L.K. Energy Inc.","Administrative and General Expenses","5510","Demonstrating and Selling Expense",0]
[2017,"January 1, 2016 - December 31, 2016",null,"E.L.K. Energy Inc.","Administrative and General Expenses","5515","Advertising Expense",0]
[2017,"January 1, 2016 - December 31, 2016",null,"E.L.K. Energy Inc.","Administrative and General Expenses","5520","Miscellaneous Sales Expense",0]
[2017,"January 1, 2016 - December 31, 2016",null,"E.L.K. Energy Inc.","Administrative and General Expenses","5605","Executive Salaries and Expenses",21158.09]
[2017,"January 1, 2016 - December 31, 2016",null,"E.L.K. Energy Inc.","Administrative and General Expenses","5610","Management Salaries and Expenses",349192.03]
[2017,"January 1, 2016 - December 31, 2016",null,"E.L.K. Energy Inc.","Administrative and General Expenses","5615","General Administrative Salaries and Expenses",76792.570000000007]
[2017,"January 1, 2016 - December 31, 2016",null,"E.L.K. Energy Inc.","Administrative and General Expenses","5620","Office Supplies and Expenses",78465.460000000006]
[2017,"January 1, 2016 - December 31, 2016",null,"E.L.K. Energy Inc.","Administrative and General Expenses","5625","Administrative Expense Transferred/Credit",0]
[2017,"January 1, 2016 - December 31, 2016",null,"E.L.K. Energy Inc.","Administrative and General Expenses","5630","Outside Services Employed",125353.78]
[2017,"January 1, 2016 - December 31, 2016",null,"E.L.K. Energy Inc.","Administrative and General Expenses","5635","Property Insurance",29282.13]
[2017,"January 1, 2016 - December 31, 2016",null,"E.L.K. Energy Inc.","Administrative and General Expenses","5640","Injuries and Damages",62193.48]
[2017,"January 1, 2016 - December 31, 2016",null,"E.L.K. Energy Inc.","Administrative and General Expenses","5645","OMERS Pensions and Benefits",0]
[2017,"January 1, 2016 - December 31, 2016",null,"E.L.K. Energy Inc.","Administrative and General Expenses","5646","Employee Pensions and OPEB",0]
[2017,"January 1, 2016 - December 31, 2016",null,"E.L.K. Energy Inc.","Administrative and General Expenses","5647","Employee Sick Leave",0]
[2017,"January 1, 2016 - December 31, 2016",null,"E.L.K. Energy Inc.","Administrative and General Expenses","5650","Franchise Requirements",0]
[2017,"January 1, 2016 - December 31, 2016",null,"E.L.K. Energy Inc.","Administrative and General Expenses","5655","Regulatory Expenses",170076.15]
[2017,"January 1, 2016 - December 31, 2016",null,"E.L.K. Energy Inc.","Administrative and General Expenses","5660","General Advertising Expenses",0]
[2017,"January 1, 2016 - December 31, 2016",null,"E.L.K. Energy Inc.","Administrative and General Expenses","5665","Miscellaneous General Expenses",7581.46]
[2017,"January 1, 2016 - December 31, 2016",null,"E.L.K. Energy Inc.","Administrative and General Expenses","5670","Rent",0]
[2017,"January 1, 2016 - December 31, 2016",null,"E.L.K. Energy Inc.","Administrative and General Expenses","5672","Lease Payment Expense",0]
[2017,"January 1, 2016 - December 31, 2016",null,"E.L.K. Energy Inc.","Administrative and General Expenses","5675","Maintenance of General Plant",71515.28]
[2017,"January 1, 2016 - December 31, 2016",null,"E.L.K. Energy Inc.","Administrative and General Expenses","5680","Electrical Safety Authority Fees",5325.79]
[2017,"January 1, 2016 - December 31, 2016",null,"E.L.K. Energy Inc.","Administrative and General Expenses","5681","Special Purpose Charge Expense",0]
[2017,"January 1, 2016 - December 31, 2016",null,"E.L.K. Energy Inc.","Administrative and General Expenses","5685","Independent Market Operator Fees and Penalties",0]
[2017,"January 1, 2016 - December 31, 2016",null,"E.L.K. Energy Inc.","Administrative and General Expenses","5695","OM&A Contra",0]
[2017,"January 1, 2016 - December 31, 2016",null,"E.L.K. Energy Inc.","Administrative and General Expenses Total",null,null,996936.22]
[2017,"January 1, 2016 - December 31, 2016",null,"E.L.K. Energy Inc.","Billing and Collecting","5305","Supervision",105532.27]
[2017,"January 1, 2016 - December 31, 2016",null,"E.L.K. Energy Inc.","Billing and Collecting","5310","Meter Reading Expense",59514.6]
[2017,"January 1, 2016 - December 31, 2016",null,"E.L.K. Energy Inc.","Billing and Collecting","5315","Customer Billing",270365.13]
[2017,"January 1, 2016 - December 31, 2016",null,"E.L.K. Energy Inc.","Billing and Collecting","5320","Collecting",98126.59]
[2017,"January 1, 2016 - December 31, 2016",null,"E.L.K. Energy Inc.","Billing and Collecting","5325","Collecting- Cash Over and Short",701.22]
[2017,"January 1, 2016 - December 31, 2016",null,"E.L.K. Energy Inc.","Billing and Collecting","5330","Collection Charges",20553.89]
[2017,"January 1, 2016 - December 31, 2016",null,"E.L.K. Energy Inc.","Billing and Collecting","5335","Bad Debt Expense",50393.86]
[2017,"January 1, 2016 - December 31, 2016",null,"E.L.K. Energy Inc.","Billing and Collecting","5340","Miscellaneous Customer Accounts Expenses",48.32]
[2017,"January 1, 2016 - December 31, 2016",null,"E.L.K. Energy Inc.","Billing and Collecting Total",null,null,605235.88]
[2017,"January 1, 2016 - December 31, 2016",null,"E.L.K. Energy Inc.","Community Relations","5405","Supervision",0]
[2017,"January 1, 2016 - December 31, 2016",null,"E.L.K. Energy Inc.","Community Relations","5410","Community Relations - Sundry",4839.8599999999997]
[2017,"January 1, 2016 - December 31, 2016",null,"E.L.K. Energy Inc.","Community Relations","5415","Energy Conservation",0]
[2017,"January 1, 2016 - December 31, 2016",null,"E.L.K. Energy Inc.","Community Relations","5420","Community Safety Program",2745]
[2017,"January 1, 2016 - December 31, 2016",null,"E.L.K. Energy Inc.","Community Relations","5425","Miscellaneous Customer Service and Informational Expenses",0]
[2017,"January 1, 2016 - December 31, 2016",null,"E.L.K. Energy Inc.","Community Relations Total",null,null,7584.86]
[2017,"January 1, 2016 - December 31, 2016",null,"E.L.K. Energy Inc.","Distribution Expenses - Operation","5005","Operation Supervision and Engineering",18442.36]
[2017,"January 1, 2016 - December 31, 2016",null,"E.L.K. Energy Inc.","Distribution Expenses - Operation","5010","Load Dispatching",582.84]
[2017,"January 1, 2016 - December 31, 2016",null,"E.L.K. Energy Inc.","Distribution Expenses - Operation","5012","Station Buildings and Fixtures Expense",0]
[2017,"January 1, 2016 - December 31, 2016",null,"E.L.K. Energy Inc.","Distribution Expenses - Operation","5014","Transformer Station Equipment - Operation Labour",0]
[2017,"January 1, 2016 - December 31, 2016",null,"E.L.K. Energy Inc.","Distribution Expenses - Operation","5015","Transformer Station Equipment - Operation Supplies and Expenses",0]
[2017,"January 1, 2016 - December 31, 2016",null,"E.L.K. Energy Inc.","Distribution Expenses - Operation","5016","Distribution Station Equipment - Operation Labour",7845.16]
[2017,"January 1, 2016 - December 31, 2016",null,"E.L.K. Energy Inc.","Distribution Expenses - Operation","5017","Distribution Station Equipment - Operation Supplies and Expenses",0]
[2017,"January 1, 2016 - December 31, 2016",null,"E.L.K. Energy Inc.","Distribution Expenses - Operation","5020","Overhead Distribution Lines and Feeders - Operation Labour",26610.58]
[2017,"January 1, 2016 - December 31, 2016",null,"E.L.K. Energy Inc.","Distribution Expenses - Operation","5025","Overhead Distribution Lines and Feeders - Operation Supplies and Expenses",0]
[2017,"January 1, 2016 - December 31, 2016",null,"E.L.K. Energy Inc.","Distribution Expenses - Operation","5030","Overhead Subtransmission Feeders - Operation",0]
[2017,"January 1, 2016 - December 31, 2016",null,"E.L.K. Energy Inc.","Distribution Expenses - Operation","5035","Overhead Distribution Transformers- Operation",2395.34]
[2017,"January 1, 2016 - December 31, 2016",null,"E.L.K. Energy Inc.","Distribution Expenses - Operation","5040","Underground Distribution Lines and Feeders - Operation Labour",182862.15]
[2017,"January 1, 2016 - December 31, 2016",null,"E.L.K. Energy Inc.","Distribution Expenses - Operation","5045","Underground Distribution Lines and Feeders - Operation Supplies and Expenses",275.60000000000002]
[2017,"January 1, 2016 - December 31, 2016",null,"E.L.K. Energy Inc.","Distribution Expenses - Operation","5050","Underground Subtransmission Feeders - Operation",0]
[2017,"January 1, 2016 - December 31, 2016",null,"E.L.K. Energy Inc.","Distribution Expenses - Operation","5055","Underground Distribution Transformers - Operation",12226.57]
[2017,"January 1, 2016 - December 31, 2016",null,"E.L.K. Energy Inc.","Distribution Expenses - Operation","5060","Street Lighting and Signal System Expense",0]
[2017,"January 1, 2016 - December 31, 2016",null,"E.L.K. Energy Inc.","Distribution Expenses - Operation","5065","Meter Expense",15234.71]
[2017,"January 1, 2016 - December 31, 2016",null,"E.L.K. Energy Inc.","Distribution Expenses - Operation","5070","Customer Premises - Operation Labour",0]
[2017,"January 1, 2016 - December 31, 2016",null,"E.L.K. Energy Inc.","Distribution Expenses - Operation","5075","Customer Premises - Materials and Expenses",0]
[2017,"January 1, 2016 - December 31, 2016",null,"E.L.K. Energy Inc.","Distribution Expenses - Operation","5085","Miscellaneous Distribution Expense",0]
[2017,"January 1, 2016 - December 31, 2016",null,"E.L.K. Energy Inc.","Distribution Expenses - Operation","5090","Underground Distribution Lines and Feeders - Rental Paid",0]
[2017,"January 1, 2016 - December 31, 2016",null,"E.L.K. Energy Inc.","Distribution Expenses - Operation","5095","Overhead Distribution Lines and Feeders - Rental Paid",17813.36]
[2017,"January 1, 2016 - December 31, 2016",null,"E.L.K. Energy Inc.","Distribution Expenses - Operation","5096","Other Rent",0]
[2017,"January 1, 2016 - December 31, 2016",null,"E.L.K. Energy Inc.","Distribution Expenses - Operation Total",null,null,284288.67]
[2017,"January 1, 2016 - December 31, 2016",null,"E.L.K. Energy Inc.","Distribution Expenses – Maintenance","5105","Maintenance Supervision and Engineering",0]
[2017,"January 1, 2016 - December 31, 2016",null,"E.L.K. Energy Inc.","Distribution Expenses – Maintenance","5110","Maintenance of Buildings and Fixtures - Distribution Stations",0]
[2017,"January 1, 2016 - December 31, 2016",null,"E.L.K. Energy Inc.","Distribution Expenses – Maintenance","5112","Maintenance of Transformer Station Equipment",0]
[2017,"January 1, 2016 - December 31, 2016",null,"E.L.K. Energy Inc.","Distribution Expenses – Maintenance","5114","Maintenance of Distribution Station Equipment",0]
[2017,"January 1, 2016 - December 31, 2016",null,"E.L.K. Energy Inc.","Distribution Expenses – Maintenance","5120","Maintenance of Poles, Towers and Fixtures",24259.599999999999]
[2017,"January 1, 2016 - December 31, 2016",null,"E.L.K. Energy Inc.","Distribution Expenses – Maintenance","5125","Maintenance of Overhead Conductors and Devices",153532.12]
[2017,"January 1, 2016 - December 31, 2016",null,"E.L.K. Energy Inc.","Distribution Expenses – Maintenance","5130","Maintenance of Overhead Services",49444.77]
[2017,"January 1, 2016 - December 31, 2016",null,"E.L.K. Energy Inc.","Distribution Expenses – Maintenance","5135","Overhead Distribution Lines and Feeders - Right of Way",74828.460000000006]
[2017,"January 1, 2016 - December 31, 2016",null,"E.L.K. Energy Inc.","Distribution Expenses – Maintenance","5145","Maintenance of Underground Conduit",0]
[2017,"January 1, 2016 - December 31, 2016",null,"E.L.K. Energy Inc.","Distribution Expenses – Maintenance","5150","Maintenance of Underground Conductors and Devices",62020.67]
[2017,"January 1, 2016 - December 31, 2016",null,"E.L.K. Energy Inc.","Distribution Expenses – Maintenance","5155","Maintenance of Underground Services",104205.75999999999]
[2017,"January 1, 2016 - December 31, 2016",null,"E.L.K. Energy Inc.","Distribution Expenses – Maintenance","5160","Maintenance of Line Transformers",13360.91]
[2017,"January 1, 2016 - December 31, 2016",null,"E.L.K. Energy Inc.","Distribution Expenses – Maintenance","5165","Maintenance of Street Lighting and Signal Systems",0]
[2017,"January 1, 2016 - December 31, 2016",null,"E.L.K. Energy Inc.","Distribution Expenses – Maintenance","5170","Sentinel Lights - Labour",2058.0500000000002]
[2017,"January 1, 2016 - December 31, 2016",null,"E.L.K. Energy Inc.","Distribution Expenses – Maintenance","5172","Sentinel Lights - Materials and Expenses",0]
[2017,"January 1, 2016 - December 31, 2016",null,"E.L.K. Energy Inc.","Distribution Expenses – Maintenance","5175","Maintenance of Meters",163335.1]
[2017,"January 1, 2016 - December 31, 2016",null,"E.L.K. Energy Inc.","Distribution Expenses – Maintenance","5178","Customer Installations Expenses- Leased Property",0]
[2017,"January 1, 2016 - December 31, 2016",null,"E.L.K. Energy Inc.","Distribution Expenses – Maintenance","5195","Maintenance of Other Installations on Customer Premises",0]
[2017,"January 1, 2016 - December 31, 2016",null,"E.L.K. Energy Inc.","Distribution Expenses – Maintenance Total",null,null,647045.43999999994]
[2017,"January 1, 2016 - December 31, 2016",null,"E.L.K. Energy Inc.","Other Expenses","5205","Purchase of Transmission and System Services",0]
[2017,"January 1, 2016 - December 31, 2016",null,"E.L.K. Energy Inc.","Other Expenses","5210","Transmission Charges",0]
[2017,"January 1, 2016 - December 31, 2016",null,"E.L.K. Energy Inc.","Other Expenses","5215","Transmission Charges Recovered",0]
[2017,"January 1, 2016 - December 31, 2016",null,"E.L.K. Energy Inc.","Other Expenses Total",null,null,0]
[2017,"January 1, 2016 - December 31, 2016",null,"ENWIN Utilities Ltd.","Administrative and General Expenses","5505","Supervision",0]
[2017,"January 1, 2016 - December 31, 2016",null,"ENWIN Utilities Ltd.","Administrative and General Expenses","5510","Demonstrating and Selling Expense",0]
[2017,"January 1, 2016 - December 31, 2016",null,"ENWIN Utilities Ltd.","Administrative and General Expenses","5515","Advertising Expense",0]
[2017,"January 1, 2016 - December 31, 2016",null,"ENWIN Utilities Ltd.","Administrative and General Expenses","5520","Miscellaneous Sales Expense",0]
[2017,"January 1, 2016 - December 31, 2016",null,"ENWIN Utilities Ltd.","Administrative and General Expenses","5605","Executive Salaries and Expenses",0]
[2017,"January 1, 2016 - December 31, 2016",null,"ENWIN Utilities Ltd.","Administrative and General Expenses","5610","Management Salaries and Expenses",6824284.8600000003]
[2017,"January 1, 2016 - December 31, 2016",null,"ENWIN Utilities Ltd.","Administrative and General Expenses","5615","General Administrative Salaries and Expenses",2727821.6912163501]
[2017,"January 1, 2016 - December 31, 2016",null,"ENWIN Utilities Ltd.","Administrative and General Expenses","5620","Office Supplies and Expenses",125814.37]
[2017,"January 1, 2016 - December 31, 2016",null,"ENWIN Utilities Ltd.","Administrative and General Expenses","5625","Administrative Expense Transferred/Credit",0]
[2017,"January 1, 2016 - December 31, 2016",null,"ENWIN Utilities Ltd.","Administrative and General Expenses","5630","Outside Services Employed",818672.46]
[2017,"January 1, 2016 - December 31, 2016",null,"ENWIN Utilities Ltd.","Administrative and General Expenses","5635","Property Insurance",466505.02]
[2017,"January 1, 2016 - December 31, 2016",null,"ENWIN Utilities Ltd.","Administrative and General Expenses","5640","Injuries and Damages",391133.86]
[2017,"January 1, 2016 - December 31, 2016",null,"ENWIN Utilities Ltd.","Administrative and General Expenses","5645","OMERS Pensions and Benefits",3875733.47]
[2017,"January 1, 2016 - December 31, 2016",null,"ENWIN Utilities Ltd.","Administrative and General Expenses","5646","Employee Pensions and OPEB",2780980.8617125102]
[2017,"January 1, 2016 - December 31, 2016",null,"ENWIN Utilities Ltd.","Administrative and General Expenses","5647","Employee Sick Leave",0]
[2017,"January 1, 2016 - December 31, 2016",null,"ENWIN Utilities Ltd.","Administrative and General Expenses","5650","Franchise Requirements",0]
[2017,"January 1, 2016 - December 31, 2016",null,"ENWIN Utilities Ltd.","Administrative and General Expenses","5655","Regulatory Expenses",412951.97]
[2017,"January 1, 2016 - December 31, 2016",null,"ENWIN Utilities Ltd.","Administrative and General Expenses","5660","General Advertising Expenses",74393.63]
[2017,"January 1, 2016 - December 31, 2016",null,"ENWIN Utilities Ltd.","Administrative and General Expenses","5665","Miscellaneous General Expenses",114208.74]
[2017,"January 1, 2016 - December 31, 2016",null,"ENWIN Utilities Ltd.","Administrative and General Expenses","5670","Rent",0]
[2017,"January 1, 2016 - December 31, 2016",null,"ENWIN Utilities Ltd.","Administrative and General Expenses","5672","Lease Payment Expense",0]
[2017,"January 1, 2016 - December 31, 2016",null,"ENWIN Utilities Ltd.","Administrative and General Expenses","5675","Maintenance of General Plant",1432111.15]
[2017,"January 1, 2016 - December 31, 2016",null,"ENWIN Utilities Ltd.","Administrative and General Expenses","5680","Electrical Safety Authority Fees",43907.67]
[2017,"January 1, 2016 - December 31, 2016",null,"ENWIN Utilities Ltd.","Administrative and General Expenses","5681","Special Purpose Charge Expense",0]
[2017,"January 1, 2016 - December 31, 2016",null,"ENWIN Utilities Ltd.","Administrative and General Expenses","5685","Independent Market Operator Fees and Penalties",0]
[2017,"January 1, 2016 - December 31, 2016",null,"ENWIN Utilities Ltd.","Administrative and General Expenses","5695","OM&A Contra",0]
[2017,"January 1, 2016 - December 31, 2016",null,"ENWIN Utilities Ltd.","Administrative and General Expenses Total",null,null,20088519.752928901]
[2017,"January 1, 2016 - December 31, 2016",null,"ENWIN Utilities Ltd.","Billing and Collecting","5305","Supervision",0]
[2017,"January 1, 2016 - December 31, 2016",null,"ENWIN Utilities Ltd.","Billing and Collecting","5310","Meter Reading Expense",330298.03000000003]
[2017,"January 1, 2016 - December 31, 2016",null,"ENWIN Utilities Ltd.","Billing and Collecting","5315","Customer Billing",378243.28]
[2017,"January 1, 2016 - December 31, 2016",null,"ENWIN Utilities Ltd.","Billing and Collecting","5320","Collecting",49166.51]
[2017,"January 1, 2016 - December 31, 2016",null,"ENWIN Utilities Ltd.","Billing and Collecting","5325","Collecting- Cash Over and Short",0]
[2017,"January 1, 2016 - December 31, 2016",null,"ENWIN Utilities Ltd.","Billing and Collecting","5330","Collection Charges",0]
[2017,"January 1, 2016 - December 31, 2016",null,"ENWIN Utilities Ltd.","Billing and Collecting","5335","Bad Debt Expense",860381.66]
[2017,"January 1, 2016 - December 31, 2016",null,"ENWIN Utilities Ltd.","Billing and Collecting","5340","Miscellaneous Customer Accounts Expenses",0]
[2017,"January 1, 2016 - December 31, 2016",null,"ENWIN Utilities Ltd.","Billing and Collecting Total",null,null,1618089.48]
[2017,"January 1, 2016 - December 31, 2016",null,"ENWIN Utilities Ltd.","Community Relations","5405","Supervision",0]
[2017,"January 1, 2016 - December 31, 2016",null,"ENWIN Utilities Ltd.","Community Relations","5410","Community Relations - Sundry",55286.49]
[2017,"January 1, 2016 - December 31, 2016",null,"ENWIN Utilities Ltd.","Community Relations","5415","Energy Conservation",0]
[2017,"January 1, 2016 - December 31, 2016",null,"ENWIN Utilities Ltd.","Community Relations","5420","Community Safety Program",0]
[2017,"January 1, 2016 - December 31, 2016",null,"ENWIN Utilities Ltd.","Community Relations","5425","Miscellaneous Customer Service and Informational Expenses",0]
[2017,"January 1, 2016 - December 31, 2016",null,"ENWIN Utilities Ltd.","Community Relations Total",null,null,55286.49]
[2017,"January 1, 2016 - December 31, 2016",null,"ENWIN Utilities Ltd.","Distribution Expenses - Operation","5005","Operation Supervision and Engineering",445328.6]
[2017,"January 1, 2016 - December 31, 2016",null,"ENWIN Utilities Ltd.","Distribution Expenses - Operation","5010","Load Dispatching",143141.29999999999]
[2017,"January 1, 2016 - December 31, 2016",null,"ENWIN Utilities Ltd.","Distribution Expenses - Operation","5012","Station Buildings and Fixtures Expense",0]
[2017,"January 1, 2016 - December 31, 2016",null,"ENWIN Utilities Ltd.","Distribution Expenses - Operation","5014","Transformer Station Equipment - Operation Labour",126410.4]
[2017,"January 1, 2016 - December 31, 2016",null,"ENWIN Utilities Ltd.","Distribution Expenses - Operation","5015","Transformer Station Equipment - Operation Supplies and Expenses",1104.51]
[2017,"January 1, 2016 - December 31, 2016",null,"ENWIN Utilities Ltd.","Distribution Expenses - Operation","5016","Distribution Station Equipment - Operation Labour",0]
[2017,"January 1, 2016 - December 31, 2016",null,"ENWIN Utilities Ltd.","Distribution Expenses - Operation","5017","Distribution Station Equipment - Operation Supplies and Expenses",0]
[2017,"January 1, 2016 - December 31, 2016",null,"ENWIN Utilities Ltd.","Distribution Expenses - Operation","5020","Overhead Distribution Lines and Feeders - Operation Labour",0]
[2017,"January 1, 2016 - December 31, 2016",null,"ENWIN Utilities Ltd.","Distribution Expenses - Operation","5025","Overhead Distribution Lines and Feeders - Operation Supplies and Expenses",781340.96]
[2017,"January 1, 2016 - December 31, 2016",null,"ENWIN Utilities Ltd.","Distribution Expenses - Operation","5030","Overhead Subtransmission Feeders - Operation",0]
[2017,"January 1, 2016 - December 31, 2016",null,"ENWIN Utilities Ltd.","Distribution Expenses - Operation","5035","Overhead Distribution Transformers- Operation",34444.22]
[2017,"January 1, 2016 - December 31, 2016",null,"ENWIN Utilities Ltd.","Distribution Expenses - Operation","5040","Underground Distribution Lines and Feeders - Operation Labour",0]
[2017,"January 1, 2016 - December 31, 2016",null,"ENWIN Utilities Ltd.","Distribution Expenses - Operation","5045","Underground Distribution Lines and Feeders - Operation Supplies and Expenses",490863.72]
[2017,"January 1, 2016 - December 31, 2016",null,"ENWIN Utilities Ltd.","Distribution Expenses - Operation","5050","Underground Subtransmission Feeders - Operation",0]
[2017,"January 1, 2016 - December 31, 2016",null,"ENWIN Utilities Ltd.","Distribution Expenses - Operation","5055","Underground Distribution Transformers - Operation",75319.539999999994]
[2017,"January 1, 2016 - December 31, 2016",null,"ENWIN Utilities Ltd.","Distribution Expenses - Operation","5060","Street Lighting and Signal System Expense",0]
[2017,"January 1, 2016 - December 31, 2016",null,"ENWIN Utilities Ltd.","Distribution Expenses - Operation","5065","Meter Expense",331573.09000000003]
[2017,"January 1, 2016 - December 31, 2016",null,"ENWIN Utilities Ltd.","Distribution Expenses - Operation","5070","Customer Premises - Operation Labour",0]
[2017,"January 1, 2016 - December 31, 2016",null,"ENWIN Utilities Ltd.","Distribution Expenses - Operation","5075","Customer Premises - Materials and Expenses",1132.25]
[2017,"January 1, 2016 - December 31, 2016",null,"ENWIN Utilities Ltd.","Distribution Expenses - Operation","5085","Miscellaneous Distribution Expense",14767.45]
[2017,"January 1, 2016 - December 31, 2016",null,"ENWIN Utilities Ltd.","Distribution Expenses - Operation","5090","Underground Distribution Lines and Feeders - Rental Paid",0]
[2017,"January 1, 2016 - December 31, 2016",null,"ENWIN Utilities Ltd.","Distribution Expenses - Operation","5095","Overhead Distribution Lines and Feeders - Rental Paid",0]
[2017,"January 1, 2016 - December 31, 2016",null,"ENWIN Utilities Ltd.","Distribution Expenses - Operation","5096","Other Rent",0]
[2017,"January 1, 2016 - December 31, 2016",null,"ENWIN Utilities Ltd.","Distribution Expenses - Operation Total",null,null,2445426.04]
[2017,"January 1, 2016 - December 31, 2016",null,"ENWIN Utilities Ltd.","Distribution Expenses – Maintenance","5105","Maintenance Supervision and Engineering",0]
[2017,"January 1, 2016 - December 31, 2016",null,"ENWIN Utilities Ltd.","Distribution Expenses – Maintenance","5110","Maintenance of Buildings and Fixtures - Distribution Stations",0]
[2017,"January 1, 2016 - December 31, 2016",null,"ENWIN Utilities Ltd.","Distribution Expenses – Maintenance","5112","Maintenance of Transformer Station Equipment",153603.14000000001]
[2017,"January 1, 2016 - December 31, 2016",null,"ENWIN Utilities Ltd.","Distribution Expenses – Maintenance","5114","Maintenance of Distribution Station Equipment",320031.46000000002]
[2017,"January 1, 2016 - December 31, 2016",null,"ENWIN Utilities Ltd.","Distribution Expenses – Maintenance","5120","Maintenance of Poles, Towers and Fixtures",0]
[2017,"January 1, 2016 - December 31, 2016",null,"ENWIN Utilities Ltd.","Distribution Expenses – Maintenance","5125","Maintenance of Overhead Conductors and Devices",0]
[2017,"January 1, 2016 - December 31, 2016",null,"ENWIN Utilities Ltd.","Distribution Expenses – Maintenance","5130","Maintenance of Overhead Services",361665.78]
[2017,"January 1, 2016 - December 31, 2016",null,"ENWIN Utilities Ltd.","Distribution Expenses – Maintenance","5135","Overhead Distribution Lines and Feeders - Right of Way",889122.93]
[2017,"January 1, 2016 - December 31, 2016",null,"ENWIN Utilities Ltd.","Distribution Expenses – Maintenance","5145","Maintenance of Underground Conduit",0]
[2017,"January 1, 2016 - December 31, 2016",null,"ENWIN Utilities Ltd.","Distribution Expenses – Maintenance","5150","Maintenance of Underground Conductors and Devices",0]
[2017,"January 1, 2016 - December 31, 2016",null,"ENWIN Utilities Ltd.","Distribution Expenses – Maintenance","5155","Maintenance of Underground Services",272476.07]
[2017,"January 1, 2016 - December 31, 2016",null,"ENWIN Utilities Ltd.","Distribution Expenses – Maintenance","5160","Maintenance of Line Transformers",32085.83]
[2017,"January 1, 2016 - December 31, 2016",null,"ENWIN Utilities Ltd.","Distribution Expenses – Maintenance","5165","Maintenance of Street Lighting and Signal Systems",0]
[2017,"January 1, 2016 - December 31, 2016",null,"ENWIN Utilities Ltd.","Distribution Expenses – Maintenance","5170","Sentinel Lights - Labour",0]
[2017,"January 1, 2016 - December 31, 2016",null,"ENWIN Utilities Ltd.","Distribution Expenses – Maintenance","5172","Sentinel Lights - Materials and Expenses",0]
[2017,"January 1, 2016 - December 31, 2016",null,"ENWIN Utilities Ltd.","Distribution Expenses – Maintenance","5175","Maintenance of Meters",0]
[2017,"January 1, 2016 - December 31, 2016",null,"ENWIN Utilities Ltd.","Distribution Expenses – Maintenance","5178","Customer Installations Expenses- Leased Property",0]
[2017,"January 1, 2016 - December 31, 2016",null,"ENWIN Utilities Ltd.","Distribution Expenses – Maintenance","5195","Maintenance of Other Installations on Customer Premises",0]
[2017,"January 1, 2016 - December 31, 2016",null,"ENWIN Utilities Ltd.","Distribution Expenses – Maintenance Total",null,null,2028985.21]
[2017,"January 1, 2016 - December 31, 2016",null,"ENWIN Utilities Ltd.","Other Expenses","5205","Purchase of Transmission and System Services",0]
[2017,"January 1, 2016 - December 31, 2016",null,"ENWIN Utilities Ltd.","Other Expenses","5210","Transmission Charges",0]
[2017,"January 1, 2016 - December 31, 2016",null,"ENWIN Utilities Ltd.","Other Expenses","5215","Transmission Charges Recovered",0]
[2017,"January 1, 2016 - December 31, 2016",null,"ENWIN Utilities Ltd.","Other Expenses Total",null,null,0]
[2017,"January 1, 2016 - December 31, 2016",null,"EPCOR Electricity Distribution Ontario Inc.","Administrative and General Expenses","5505","Supervision",0]
[2017,"January 1, 2016 - December 31, 2016",null,"EPCOR Electricity Distribution Ontario Inc.","Administrative and General Expenses","5510","Demonstrating and Selling Expense",0]
[2017,"January 1, 2016 - December 31, 2016",null,"EPCOR Electricity Distribution Ontario Inc.","Administrative and General Expenses","5515","Advertising Expense",0]
[2017,"January 1, 2016 - December 31, 2016",null,"EPCOR Electricity Distribution Ontario Inc.","Administrative and General Expenses","5520","Miscellaneous Sales Expense",0]
[2017,"January 1, 2016 - December 31, 2016",null,"EPCOR Electricity Distribution Ontario Inc.","Administrative and General Expenses","5605","Executive Salaries and Expenses",307948.99]
[2017,"January 1, 2016 - December 31, 2016",null,"EPCOR Electricity Distribution Ontario Inc.","Administrative and General Expenses","5610","Management Salaries and Expenses",176362.68]
[2017,"January 1, 2016 - December 31, 2016",null,"EPCOR Electricity Distribution Ontario Inc.","Administrative and General Expenses","5615","General Administrative Salaries and Expenses",392529.22]
[2017,"January 1, 2016 - December 31, 2016",null,"EPCOR Electricity Distribution Ontario Inc.","Administrative and General Expenses","5620","Office Supplies and Expenses",0]
[2017,"January 1, 2016 - December 31, 2016",null,"EPCOR Electricity Distribution Ontario Inc.","Administrative and General Expenses","5625","Administrative Expense Transferred/Credit",0]
[2017,"January 1, 2016 - December 31, 2016",null,"EPCOR Electricity Distribution Ontario Inc.","Administrative and General Expenses","5630","Outside Services Employed",122247.73]
[2017,"January 1, 2016 - December 31, 2016",null,"EPCOR Electricity Distribution Ontario Inc.","Administrative and General Expenses","5635","Property Insurance",17561.02]
[2017,"January 1, 2016 - December 31, 2016",null,"EPCOR Electricity Distribution Ontario Inc.","Administrative and General Expenses","5640","Injuries and Damages",55422.52]
[2017,"January 1, 2016 - December 31, 2016",null,"EPCOR Electricity Distribution Ontario Inc.","Administrative and General Expenses","5645","OMERS Pensions and Benefits",0]
[2017,"January 1, 2016 - December 31, 2016",null,"EPCOR Electricity Distribution Ontario Inc.","Administrative and General Expenses","5646","Employee Pensions and OPEB",2961]
[2017,"January 1, 2016 - December 31, 2016",null,"EPCOR Electricity Distribution Ontario Inc.","Administrative and General Expenses","5647","Employee Sick Leave",0]
[2017,"January 1, 2016 - December 31, 2016",null,"EPCOR Electricity Distribution Ontario Inc.","Administrative and General Expenses","5650","Franchise Requirements",0]
[2017,"January 1, 2016 - December 31, 2016",null,"EPCOR Electricity Distribution Ontario Inc.","Administrative and General Expenses","5655","Regulatory Expenses",125797.48]
[2017,"January 1, 2016 - December 31, 2016",null,"EPCOR Electricity Distribution Ontario Inc.","Administrative and General Expenses","5660","General Advertising Expenses",13571.81]
[2017,"January 1, 2016 - December 31, 2016",null,"EPCOR Electricity Distribution Ontario Inc.","Administrative and General Expenses","5665","Miscellaneous General Expenses",89742.12]
[2017,"January 1, 2016 - December 31, 2016",null,"EPCOR Electricity Distribution Ontario Inc.","Administrative and General Expenses","5670","Rent",64992]
[2017,"January 1, 2016 - December 31, 2016",null,"EPCOR Electricity Distribution Ontario Inc.","Administrative and General Expenses","5672","Lease Payment Expense",0]
[2017,"January 1, 2016 - December 31, 2016",null,"EPCOR Electricity Distribution Ontario Inc.","Administrative and General Expenses","5675","Maintenance of General Plant",393.07]
[2017,"January 1, 2016 - December 31, 2016",null,"EPCOR Electricity Distribution Ontario Inc.","Administrative and General Expenses","5680","Electrical Safety Authority Fees",7629.57]
[2017,"January 1, 2016 - December 31, 2016",null,"EPCOR Electricity Distribution Ontario Inc.","Administrative and General Expenses","5681","Special Purpose Charge Expense",0]
[2017,"January 1, 2016 - December 31, 2016",null,"EPCOR Electricity Distribution Ontario Inc.","Administrative and General Expenses","5685","Independent Market Operator Fees and Penalties",0]
[2017,"January 1, 2016 - December 31, 2016",null,"EPCOR Electricity Distribution Ontario Inc.","Administrative and General Expenses","5695","OM&A Contra",0]
[2017,"January 1, 2016 - December 31, 2016",null,"EPCOR Electricity Distribution Ontario Inc.","Administrative and General Expenses Total",null,null,1377159.21]
[2017,"January 1, 2016 - December 31, 2016",null,"EPCOR Electricity Distribution Ontario Inc.","Billing and Collecting","5305","Supervision",92517.28]
[2017,"January 1, 2016 - December 31, 2016",null,"EPCOR Electricity Distribution Ontario Inc.","Billing and Collecting","5310","Meter Reading Expense",201708.19]
[2017,"January 1, 2016 - December 31, 2016",null,"EPCOR Electricity Distribution Ontario Inc.","Billing and Collecting","5315","Customer Billing",425281.14]
[2017,"January 1, 2016 - December 31, 2016",null,"EPCOR Electricity Distribution Ontario Inc.","Billing and Collecting","5320","Collecting",114295.91]
[2017,"January 1, 2016 - December 31, 2016",null,"EPCOR Electricity Distribution Ontario Inc.","Billing and Collecting","5325","Collecting- Cash Over and Short",-11.71]
[2017,"January 1, 2016 - December 31, 2016",null,"EPCOR Electricity Distribution Ontario Inc.","Billing and Collecting","5330","Collection Charges",0]
[2017,"January 1, 2016 - December 31, 2016",null,"EPCOR Electricity Distribution Ontario Inc.","Billing and Collecting","5335","Bad Debt Expense",58382.32]
[2017,"January 1, 2016 - December 31, 2016",null,"EPCOR Electricity Distribution Ontario Inc.","Billing and Collecting","5340","Miscellaneous Customer Accounts Expenses",0]
[2017,"January 1, 2016 - December 31, 2016",null,"EPCOR Electricity Distribution Ontario Inc.","Billing and Collecting Total",null,null,892173.13]
[2017,"January 1, 2016 - December 31, 2016",null,"EPCOR Electricity Distribution Ontario Inc.","Community Relations","5405","Supervision",0]
[2017,"January 1, 2016 - December 31, 2016",null,"EPCOR Electricity Distribution Ontario Inc.","Community Relations","5410","Community Relations - Sundry",0]
[2017,"January 1, 2016 - December 31, 2016",null,"EPCOR Electricity Distribution Ontario Inc.","Community Relations","5415","Energy Conservation",0]
[2017,"January 1, 2016 - December 31, 2016",null,"EPCOR Electricity Distribution Ontario Inc.","Community Relations","5420","Community Safety Program",9700]
[2017,"January 1, 2016 - December 31, 2016",null,"EPCOR Electricity Distribution Ontario Inc.","Community Relations","5425","Miscellaneous Customer Service and Informational Expenses",149239.29999999999]
[2017,"January 1, 2016 - December 31, 2016",null,"EPCOR Electricity Distribution Ontario Inc.","Community Relations Total",null,null,158939.29999999999]
[2017,"January 1, 2016 - December 31, 2016",null,"EPCOR Electricity Distribution Ontario Inc.","Distribution Expenses - Operation","5005","Operation Supervision and Engineering",205247.01]
[2017,"January 1, 2016 - December 31, 2016",null,"EPCOR Electricity Distribution Ontario Inc.","Distribution Expenses - Operation","5010","Load Dispatching",84385.46]
[2017,"January 1, 2016 - December 31, 2016",null,"EPCOR Electricity Distribution Ontario Inc.","Distribution Expenses - Operation","5012","Station Buildings and Fixtures Expense",36801.980000000003]
[2017,"January 1, 2016 - December 31, 2016",null,"EPCOR Electricity Distribution Ontario Inc.","Distribution Expenses - Operation","5014","Transformer Station Equipment - Operation Labour",0]
[2017,"January 1, 2016 - December 31, 2016",null,"EPCOR Electricity Distribution Ontario Inc.","Distribution Expenses - Operation","5015","Transformer Station Equipment - Operation Supplies and Expenses",0]
[2017,"January 1, 2016 - December 31, 2016",null,"EPCOR Electricity Distribution Ontario Inc.","Distribution Expenses - Operation","5016","Distribution Station Equipment - Operation Labour",0]
[2017,"January 1, 2016 - December 31, 2016",null,"EPCOR Electricity Distribution Ontario Inc.","Distribution Expenses - Operation","5017","Distribution Station Equipment - Operation Supplies and Expenses",0]
[2017,"January 1, 2016 - December 31, 2016",null,"EPCOR Electricity Distribution Ontario Inc.","Distribution Expenses - Operation","5020","Overhead Distribution Lines and Feeders - Operation Labour",31186.69]
[2017,"January 1, 2016 - December 31, 2016",null,"EPCOR Electricity Distribution Ontario Inc.","Distribution Expenses - Operation","5025","Overhead Distribution Lines and Feeders - Operation Supplies and Expenses",72594.13]
[2017,"January 1, 2016 - December 31, 2016",null,"EPCOR Electricity Distribution Ontario Inc.","Distribution Expenses - Operation","5030","Overhead Subtransmission Feeders - Operation",0]
[2017,"January 1, 2016 - December 31, 2016",null,"EPCOR Electricity Distribution Ontario Inc.","Distribution Expenses - Operation","5035","Overhead Distribution Transformers- Operation",614.22]
[2017,"January 1, 2016 - December 31, 2016",null,"EPCOR Electricity Distribution Ontario Inc.","Distribution Expenses - Operation","5040","Underground Distribution Lines and Feeders - Operation Labour",3596.3]
[2017,"January 1, 2016 - December 31, 2016",null,"EPCOR Electricity Distribution Ontario Inc.","Distribution Expenses - Operation","5045","Underground Distribution Lines and Feeders - Operation Supplies and Expenses",1381.95]
[2017,"January 1, 2016 - December 31, 2016",null,"EPCOR Electricity Distribution Ontario Inc.","Distribution Expenses - Operation","5050","Underground Subtransmission Feeders - Operation",0]
[2017,"January 1, 2016 - December 31, 2016",null,"EPCOR Electricity Distribution Ontario Inc.","Distribution Expenses - Operation","5055","Underground Distribution Transformers - Operation",0]
[2017,"January 1, 2016 - December 31, 2016",null,"EPCOR Electricity Distribution Ontario Inc.","Distribution Expenses - Operation","5060","Street Lighting and Signal System Expense",0]
[2017,"January 1, 2016 - December 31, 2016",null,"EPCOR Electricity Distribution Ontario Inc.","Distribution Expenses - Operation","5065","Meter Expense",753.95]
[2017,"January 1, 2016 - December 31, 2016",null,"EPCOR Electricity Distribution Ontario Inc.","Distribution Expenses - Operation","5070","Customer Premises - Operation Labour",0]
[2017,"January 1, 2016 - December 31, 2016",null,"EPCOR Electricity Distribution Ontario Inc.","Distribution Expenses - Operation","5075","Customer Premises - Materials and Expenses",0]
[2017,"January 1, 2016 - December 31, 2016",null,"EPCOR Electricity Distribution Ontario Inc.","Distribution Expenses - Operation","5085","Miscellaneous Distribution Expense",145033.88]
[2017,"January 1, 2016 - December 31, 2016",null,"EPCOR Electricity Distribution Ontario Inc.","Distribution Expenses - Operation","5090","Underground Distribution Lines and Feeders - Rental Paid",0]
[2017,"January 1, 2016 - December 31, 2016",null,"EPCOR Electricity Distribution Ontario Inc.","Distribution Expenses - Operation","5095","Overhead Distribution Lines and Feeders - Rental Paid",0]
[2017,"January 1, 2016 - December 31, 2016",null,"EPCOR Electricity Distribution Ontario Inc.","Distribution Expenses - Operation","5096","Other Rent",172800]
[2017,"January 1, 2016 - December 31, 2016",null,"EPCOR Electricity Distribution Ontario Inc.","Distribution Expenses - Operation Total",null,null,754395.57]
[2017,"January 1, 2016 - December 31, 2016",null,"EPCOR Electricity Distribution Ontario Inc.","Distribution Expenses – Maintenance","5105","Maintenance Supervision and Engineering",164017.62]
[2017,"January 1, 2016 - December 31, 2016",null,"EPCOR Electricity Distribution Ontario Inc.","Distribution Expenses – Maintenance","5110","Maintenance of Buildings and Fixtures - Distribution Stations",3589.55]
[2017,"January 1, 2016 - December 31, 2016",null,"EPCOR Electricity Distribution Ontario Inc.","Distribution Expenses – Maintenance","5112","Maintenance of Transformer Station Equipment",0]
[2017,"January 1, 2016 - December 31, 2016",null,"EPCOR Electricity Distribution Ontario Inc.","Distribution Expenses – Maintenance","5114","Maintenance of Distribution Station Equipment",29841.02]
[2017,"January 1, 2016 - December 31, 2016",null,"EPCOR Electricity Distribution Ontario Inc.","Distribution Expenses – Maintenance","5120","Maintenance of Poles, Towers and Fixtures",135211.12]
[2017,"January 1, 2016 - December 31, 2016",null,"EPCOR Electricity Distribution Ontario Inc.","Distribution Expenses – Maintenance","5125","Maintenance of Overhead Conductors and Devices",425737.36]
[2017,"January 1, 2016 - December 31, 2016",null,"EPCOR Electricity Distribution Ontario Inc.","Distribution Expenses – Maintenance","5130","Maintenance of Overhead Services",155657.97]
[2017,"January 1, 2016 - December 31, 2016",null,"EPCOR Electricity Distribution Ontario Inc.","Distribution Expenses – Maintenance","5135","Overhead Distribution Lines and Feeders - Right of Way",97947.69]
[2017,"January 1, 2016 - December 31, 2016",null,"EPCOR Electricity Distribution Ontario Inc.","Distribution Expenses – Maintenance","5145","Maintenance of Underground Conduit",534.22]
[2017,"January 1, 2016 - December 31, 2016",null,"EPCOR Electricity Distribution Ontario Inc.","Distribution Expenses – Maintenance","5150","Maintenance of Underground Conductors and Devices",83053.440000000002]
[2017,"January 1, 2016 - December 31, 2016",null,"EPCOR Electricity Distribution Ontario Inc.","Distribution Expenses – Maintenance","5155","Maintenance of Underground Services",279864.71999999997]
[2017,"January 1, 2016 - December 31, 2016",null,"EPCOR Electricity Distribution Ontario Inc.","Distribution Expenses – Maintenance","5160","Maintenance of Line Transformers",71049.36]
[2017,"January 1, 2016 - December 31, 2016",null,"EPCOR Electricity Distribution Ontario Inc.","Distribution Expenses – Maintenance","5165","Maintenance of Street Lighting and Signal Systems",0]
[2017,"January 1, 2016 - December 31, 2016",null,"EPCOR Electricity Distribution Ontario Inc.","Distribution Expenses – Maintenance","5170","Sentinel Lights - Labour",0]
[2017,"January 1, 2016 - December 31, 2016",null,"EPCOR Electricity Distribution Ontario Inc.","Distribution Expenses – Maintenance","5172","Sentinel Lights - Materials and Expenses",0]
[2017,"January 1, 2016 - December 31, 2016",null,"EPCOR Electricity Distribution Ontario Inc.","Distribution Expenses – Maintenance","5175","Maintenance of Meters",281231.5]
[2017,"January 1, 2016 - December 31, 2016",null,"EPCOR Electricity Distribution Ontario Inc.","Distribution Expenses – Maintenance","5178","Customer Installations Expenses- Leased Property",0]
[2017,"January 1, 2016 - December 31, 2016",null,"EPCOR Electricity Distribution Ontario Inc.","Distribution Expenses – Maintenance","5195","Maintenance of Other Installations on Customer Premises",0]
[2017,"January 1, 2016 - December 31, 2016",null,"EPCOR Electricity Distribution Ontario Inc.","Distribution Expenses – Maintenance Total",null,null,1727735.57]
[2017,"January 1, 2016 - December 31, 2016",null,"EPCOR Electricity Distribution Ontario Inc.","Other Expenses","5205","Purchase of Transmission and System Services",0]
[2017,"January 1, 2016 - December 31, 2016",null,"EPCOR Electricity Distribution Ontario Inc.","Other Expenses","5210","Transmission Charges",0]
[2017,"January 1, 2016 - December 31, 2016",null,"EPCOR Electricity Distribution Ontario Inc.","Other Expenses","5215","Transmission Charges Recovered",0]
[2017,"January 1, 2016 - December 31, 2016",null,"EPCOR Electricity Distribution Ontario Inc.","Other Expenses Total",null,null,0]
[2017,"January 1, 2016 - December 31, 2016",null,"ERTH Power Corporation","Administrative and General Expenses","5505","Supervision",0]
[2017,"January 1, 2016 - December 31, 2016",null,"ERTH Power Corporation","Administrative and General Expenses","5510","Demonstrating and Selling Expense",0]
[2017,"January 1, 2016 - December 31, 2016",null,"ERTH Power Corporation","Administrative and General Expenses","5515","Advertising Expense",5969.01]
[2017,"January 1, 2016 - December 31, 2016",null,"ERTH Power Corporation","Administrative and General Expenses","5520","Miscellaneous Sales Expense",0]
[2017,"January 1, 2016 - December 31, 2016",null,"ERTH Power Corporation","Administrative and General Expenses","5605","Executive Salaries and Expenses",322273.8]
[2017,"January 1, 2016 - December 31, 2016",null,"ERTH Power Corporation","Administrative and General Expenses","5610","Management Salaries and Expenses",1265951.1299999999]
[2017,"January 1, 2016 - December 31, 2016",null,"ERTH Power Corporation","Administrative and General Expenses","5615","General Administrative Salaries and Expenses",141562.65]
[2017,"January 1, 2016 - December 31, 2016",null,"ERTH Power Corporation","Administrative and General Expenses","5620","Office Supplies and Expenses",139937.45000000001]
[2017,"January 1, 2016 - December 31, 2016",null,"ERTH Power Corporation","Administrative and General Expenses","5625","Administrative Expense Transferred/Credit",0]
[2017,"January 1, 2016 - December 31, 2016",null,"ERTH Power Corporation","Administrative and General Expenses","5630","Outside Services Employed",315346.3]
[2017,"January 1, 2016 - December 31, 2016",null,"ERTH Power Corporation","Administrative and General Expenses","5635","Property Insurance",28197.49]
[2017,"January 1, 2016 - December 31, 2016",null,"ERTH Power Corporation","Administrative and General Expenses","5640","Injuries and Damages",0]
[2017,"January 1, 2016 - December 31, 2016",null,"ERTH Power Corporation","Administrative and General Expenses","5645","OMERS Pensions and Benefits",1128552.48]
[2017,"January 1, 2016 - December 31, 2016",null,"ERTH Power Corporation","Administrative and General Expenses","5646","Employee Pensions and OPEB",0]
[2017,"January 1, 2016 - December 31, 2016",null,"ERTH Power Corporation","Administrative and General Expenses","5647","Employee Sick Leave",0]
[2017,"January 1, 2016 - December 31, 2016",null,"ERTH Power Corporation","Administrative and General Expenses","5650","Franchise Requirements",0]
[2017,"January 1, 2016 - December 31, 2016",null,"ERTH Power Corporation","Administrative and General Expenses","5655","Regulatory Expenses",71081.259999999995]
[2017,"January 1, 2016 - December 31, 2016",null,"ERTH Power Corporation","Administrative and General Expenses","5660","General Advertising Expenses",0]
[2017,"January 1, 2016 - December 31, 2016",null,"ERTH Power Corporation","Administrative and General Expenses","5665","Miscellaneous General Expenses",692968.33]
[2017,"January 1, 2016 - December 31, 2016",null,"ERTH Power Corporation","Administrative and General Expenses","5670","Rent",238525.16]
[2017,"January 1, 2016 - December 31, 2016",null,"ERTH Power Corporation","Administrative and General Expenses","5672","Lease Payment Expense",0]
[2017,"January 1, 2016 - December 31, 2016",null,"ERTH Power Corporation","Administrative and General Expenses","5675","Maintenance of General Plant",298563.39]
[2017,"January 1, 2016 - December 31, 2016",null,"ERTH Power Corporation","Administrative and General Expenses","5680","Electrical Safety Authority Fees",0]
[2017,"January 1, 2016 - December 31, 2016",null,"ERTH Power Corporation","Administrative and General Expenses","5681","Special Purpose Charge Expense",0]
[2017,"January 1, 2016 - December 31, 2016",null,"ERTH Power Corporation","Administrative and General Expenses","5685","Independent Market Operator Fees and Penalties",0]
[2017,"January 1, 2016 - December 31, 2016",null,"ERTH Power Corporation","Administrative and General Expenses","5695","OM&A Contra",0]
[2017,"January 1, 2016 - December 31, 2016",null,"ERTH Power Corporation","Administrative and General Expenses Total",null,null,4648928.45]
[2017,"January 1, 2016 - December 31, 2016",null,"ERTH Power Corporation","Billing and Collecting","5305","Supervision",0]
[2017,"January 1, 2016 - December 31, 2016",null,"ERTH Power Corporation","Billing and Collecting","5310","Meter Reading Expense",0]
[2017,"January 1, 2016 - December 31, 2016",null,"ERTH Power Corporation","Billing and Collecting","5315","Customer Billing",799615.21]
[2017,"January 1, 2016 - December 31, 2016",null,"ERTH Power Corporation","Billing and Collecting","5320","Collecting",155827.64000000001]
[2017,"January 1, 2016 - December 31, 2016",null,"ERTH Power Corporation","Billing and Collecting","5325","Collecting- Cash Over and Short",0]
[2017,"January 1, 2016 - December 31, 2016",null,"ERTH Power Corporation","Billing and Collecting","5330","Collection Charges",0]
[2017,"January 1, 2016 - December 31, 2016",null,"ERTH Power Corporation","Billing and Collecting","5335","Bad Debt Expense",26204.23]
[2017,"January 1, 2016 - December 31, 2016",null,"ERTH Power Corporation","Billing and Collecting","5340","Miscellaneous Customer Accounts Expenses",0]
[2017,"January 1, 2016 - December 31, 2016",null,"ERTH Power Corporation","Billing and Collecting Total",null,null,981647.08]
[2017,"January 1, 2016 - December 31, 2016",null,"ERTH Power Corporation","Community Relations","5405","Supervision",0]
[2017,"January 1, 2016 - December 31, 2016",null,"ERTH Power Corporation","Community Relations","5410","Community Relations - Sundry",24584.33]
[2017,"January 1, 2016 - December 31, 2016",null,"ERTH Power Corporation","Community Relations","5415","Energy Conservation",0]
[2017,"January 1, 2016 - December 31, 2016",null,"ERTH Power Corporation","Community Relations","5420","Community Safety Program",0]
[2017,"January 1, 2016 - December 31, 2016",null,"ERTH Power Corporation","Community Relations","5425","Miscellaneous Customer Service and Informational Expenses",14840.32]
[2017,"January 1, 2016 - December 31, 2016",null,"ERTH Power Corporation","Community Relations Total",null,null,39424.65]
[2017,"January 1, 2016 - December 31, 2016",null,"ERTH Power Corporation","Distribution Expenses - Operation","5005","Operation Supervision and Engineering",0]
[2017,"January 1, 2016 - December 31, 2016",null,"ERTH Power Corporation","Distribution Expenses - Operation","5010","Load Dispatching",0]
[2017,"January 1, 2016 - December 31, 2016",null,"ERTH Power Corporation","Distribution Expenses - Operation","5012","Station Buildings and Fixtures Expense",0]
[2017,"January 1, 2016 - December 31, 2016",null,"ERTH Power Corporation","Distribution Expenses - Operation","5014","Transformer Station Equipment - Operation Labour",0]
[2017,"January 1, 2016 - December 31, 2016",null,"ERTH Power Corporation","Distribution Expenses - Operation","5015","Transformer Station Equipment - Operation Supplies and Expenses",0]
[2017,"January 1, 2016 - December 31, 2016",null,"ERTH Power Corporation","Distribution Expenses - Operation","5016","Distribution Station Equipment - Operation Labour",0]
[2017,"January 1, 2016 - December 31, 2016",null,"ERTH Power Corporation","Distribution Expenses - Operation","5017","Distribution Station Equipment - Operation Supplies and Expenses",0]
[2017,"January 1, 2016 - December 31, 2016",null,"ERTH Power Corporation","Distribution Expenses - Operation","5020","Overhead Distribution Lines and Feeders - Operation Labour",0]
[2017,"January 1, 2016 - December 31, 2016",null,"ERTH Power Corporation","Distribution Expenses - Operation","5025","Overhead Distribution Lines and Feeders - Operation Supplies and Expenses",0]
[2017,"January 1, 2016 - December 31, 2016",null,"ERTH Power Corporation","Distribution Expenses - Operation","5030","Overhead Subtransmission Feeders - Operation",0]
[2017,"January 1, 2016 - December 31, 2016",null,"ERTH Power Corporation","Distribution Expenses - Operation","5035","Overhead Distribution Transformers- Operation",0]
[2017,"January 1, 2016 - December 31, 2016",null,"ERTH Power Corporation","Distribution Expenses - Operation","5040","Underground Distribution Lines and Feeders - Operation Labour",0]
[2017,"January 1, 2016 - December 31, 2016",null,"ERTH Power Corporation","Distribution Expenses - Operation","5045","Underground Distribution Lines and Feeders - Operation Supplies and Expenses",0]
[2017,"January 1, 2016 - December 31, 2016",null,"ERTH Power Corporation","Distribution Expenses - Operation","5050","Underground Subtransmission Feeders - Operation",0]
[2017,"January 1, 2016 - December 31, 2016",null,"ERTH Power Corporation","Distribution Expenses - Operation","5055","Underground Distribution Transformers - Operation",0]
[2017,"January 1, 2016 - December 31, 2016",null,"ERTH Power Corporation","Distribution Expenses - Operation","5060","Street Lighting and Signal System Expense",0]
[2017,"January 1, 2016 - December 31, 2016",null,"ERTH Power Corporation","Distribution Expenses - Operation","5065","Meter Expense",0]
[2017,"January 1, 2016 - December 31, 2016",null,"ERTH Power Corporation","Distribution Expenses - Operation","5070","Customer Premises - Operation Labour",0]
[2017,"January 1, 2016 - December 31, 2016",null,"ERTH Power Corporation","Distribution Expenses - Operation","5075","Customer Premises - Materials and Expenses",0]
[2017,"January 1, 2016 - December 31, 2016",null,"ERTH Power Corporation","Distribution Expenses - Operation","5085","Miscellaneous Distribution Expense",90763.77]
[2017,"January 1, 2016 - December 31, 2016",null,"ERTH Power Corporation","Distribution Expenses - Operation","5090","Underground Distribution Lines and Feeders - Rental Paid",0]
[2017,"January 1, 2016 - December 31, 2016",null,"ERTH Power Corporation","Distribution Expenses - Operation","5095","Overhead Distribution Lines and Feeders - Rental Paid",0]
[2017,"January 1, 2016 - December 31, 2016",null,"ERTH Power Corporation","Distribution Expenses - Operation","5096","Other Rent",810]
[2017,"January 1, 2016 - December 31, 2016",null,"ERTH Power Corporation","Distribution Expenses - Operation Total",null,null,91573.77]
[2017,"January 1, 2016 - December 31, 2016",null,"ERTH Power Corporation","Distribution Expenses – Maintenance","5105","Maintenance Supervision and Engineering",0]
[2017,"January 1, 2016 - December 31, 2016",null,"ERTH Power Corporation","Distribution Expenses – Maintenance","5110","Maintenance of Buildings and Fixtures - Distribution Stations",22883.599999999999]
[2017,"January 1, 2016 - December 31, 2016",null,"ERTH Power Corporation","Distribution Expenses – Maintenance","5112","Maintenance of Transformer Station Equipment",0]
[2017,"January 1, 2016 - December 31, 2016",null,"ERTH Power Corporation","Distribution Expenses – Maintenance","5114","Maintenance of Distribution Station Equipment",10735.22]
[2017,"January 1, 2016 - December 31, 2016",null,"ERTH Power Corporation","Distribution Expenses – Maintenance","5120","Maintenance of Poles, Towers and Fixtures",16572.689999999999]
[2017,"January 1, 2016 - December 31, 2016",null,"ERTH Power Corporation","Distribution Expenses – Maintenance","5125","Maintenance of Overhead Conductors and Devices",0]
[2017,"January 1, 2016 - December 31, 2016",null,"ERTH Power Corporation","Distribution Expenses – Maintenance","5130","Maintenance of Overhead Services",33201.839999999997]
[2017,"January 1, 2016 - December 31, 2016",null,"ERTH Power Corporation","Distribution Expenses – Maintenance","5135","Overhead Distribution Lines and Feeders - Right of Way",71793.78]
[2017,"January 1, 2016 - December 31, 2016",null,"ERTH Power Corporation","Distribution Expenses – Maintenance","5145","Maintenance of Underground Conduit",0]
[2017,"January 1, 2016 - December 31, 2016",null,"ERTH Power Corporation","Distribution Expenses – Maintenance","5150","Maintenance of Underground Conductors and Devices",7066.34]
[2017,"January 1, 2016 - December 31, 2016",null,"ERTH Power Corporation","Distribution Expenses – Maintenance","5155","Maintenance of Underground Services",64649.08]
[2017,"January 1, 2016 - December 31, 2016",null,"ERTH Power Corporation","Distribution Expenses – Maintenance","5160","Maintenance of Line Transformers",12367.97]
[2017,"January 1, 2016 - December 31, 2016",null,"ERTH Power Corporation","Distribution Expenses – Maintenance","5165","Maintenance of Street Lighting and Signal Systems",0]
[2017,"January 1, 2016 - December 31, 2016",null,"ERTH Power Corporation","Distribution Expenses – Maintenance","5170","Sentinel Lights - Labour",0]
[2017,"January 1, 2016 - December 31, 2016",null,"ERTH Power Corporation","Distribution Expenses – Maintenance","5172","Sentinel Lights - Materials and Expenses",0]
[2017,"January 1, 2016 - December 31, 2016",null,"ERTH Power Corporation","Distribution Expenses – Maintenance","5175","Maintenance of Meters",47531.29]
[2017,"January 1, 2016 - December 31, 2016",null,"ERTH Power Corporation","Distribution Expenses – Maintenance","5178","Customer Installations Expenses- Leased Property",0]
[2017,"January 1, 2016 - December 31, 2016",null,"ERTH Power Corporation","Distribution Expenses – Maintenance","5195","Maintenance of Other Installations on Customer Premises",0]
[2017,"January 1, 2016 - December 31, 2016",null,"ERTH Power Corporation","Distribution Expenses – Maintenance Total",null,null,286801.81]
[2017,"January 1, 2016 - December 31, 2016",null,"ERTH Power Corporation","Other Expenses","5205","Purchase of Transmission and System Services",0]
[2017,"January 1, 2016 - December 31, 2016",null,"ERTH Power Corporation","Other Expenses","5210","Transmission Charges",0]
[2017,"January 1, 2016 - December 31, 2016",null,"ERTH Power Corporation","Other Expenses","5215","Transmission Charges Recovered",0]
[2017,"January 1, 2016 - December 31, 2016",null,"ERTH Power Corporation","Other Expenses Total",null,null,0]
[2017,"January 1, 2016 - December 31, 2016",null,"Energy Plus Inc.","Administrative and General Expenses","5505","Supervision",0]
[2017,"January 1, 2016 - December 31, 2016",null,"Energy Plus Inc.","Administrative and General Expenses","5510","Demonstrating and Selling Expense",0]
[2017,"January 1, 2016 - December 31, 2016",null,"Energy Plus Inc.","Administrative and General Expenses","5515","Advertising Expense",0]
[2017,"January 1, 2016 - December 31, 2016",null,"Energy Plus Inc.","Administrative and General Expenses","5520","Miscellaneous Sales Expense",0]
[2017,"January 1, 2016 - December 31, 2016",null,"Energy Plus Inc.","Administrative and General Expenses","5605","Executive Salaries and Expenses",1794287.99]
[2017,"January 1, 2016 - December 31, 2016",null,"Energy Plus Inc.","Administrative and General Expenses","5610","Management Salaries and Expenses",2463134.73]
[2017,"January 1, 2016 - December 31, 2016",null,"Energy Plus Inc.","Administrative and General Expenses","5615","General Administrative Salaries and Expenses",1336153.6100000001]
[2017,"January 1, 2016 - December 31, 2016",null,"Energy Plus Inc.","Administrative and General Expenses","5620","Office Supplies and Expenses",512121.13]
[2017,"January 1, 2016 - December 31, 2016",null,"Energy Plus Inc.","Administrative and General Expenses","5625","Administrative Expense Transferred/Credit",-248988.9]
[2017,"January 1, 2016 - December 31, 2016",null,"Energy Plus Inc.","Administrative and General Expenses","5630","Outside Services Employed",498970.94]
[2017,"January 1, 2016 - December 31, 2016",null,"Energy Plus Inc.","Administrative and General Expenses","5635","Property Insurance",33076.589999999997]
[2017,"January 1, 2016 - December 31, 2016",null,"Energy Plus Inc.","Administrative and General Expenses","5640","Injuries and Damages",148566.64000000001]
[2017,"January 1, 2016 - December 31, 2016",null,"Energy Plus Inc.","Administrative and General Expenses","5645","OMERS Pensions and Benefits",288928.36]
[2017,"January 1, 2016 - December 31, 2016",null,"Energy Plus Inc.","Administrative and General Expenses","5646","Employee Pensions and OPEB",0]
[2017,"January 1, 2016 - December 31, 2016",null,"Energy Plus Inc.","Administrative and General Expenses","5647","Employee Sick Leave",0]
[2017,"January 1, 2016 - December 31, 2016",null,"Energy Plus Inc.","Administrative and General Expenses","5650","Franchise Requirements",0]
[2017,"January 1, 2016 - December 31, 2016",null,"Energy Plus Inc.","Administrative and General Expenses","5655","Regulatory Expenses",242454.12]
[2017,"January 1, 2016 - December 31, 2016",null,"Energy Plus Inc.","Administrative and General Expenses","5660","General Advertising Expenses",34171.11]
[2017,"January 1, 2016 - December 31, 2016",null,"Energy Plus Inc.","Administrative and General Expenses","5665","Miscellaneous General Expenses",972.43]
[2017,"January 1, 2016 - December 31, 2016",null,"Energy Plus Inc.","Administrative and General Expenses","5670","Rent",0]
[2017,"January 1, 2016 - December 31, 2016",null,"Energy Plus Inc.","Administrative and General Expenses","5672","Lease Payment Expense",34613.64]
[2017,"January 1, 2016 - December 31, 2016",null,"Energy Plus Inc.","Administrative and General Expenses","5675","Maintenance of General Plant",1074556.43]
[2017,"January 1, 2016 - December 31, 2016",null,"Energy Plus Inc.","Administrative and General Expenses","5680","Electrical Safety Authority Fees",0]
[2017,"January 1, 2016 - December 31, 2016",null,"Energy Plus Inc.","Administrative and General Expenses","5681","Special Purpose Charge Expense",0]
[2017,"January 1, 2016 - December 31, 2016",null,"Energy Plus Inc.","Administrative and General Expenses","5685","Independent Market Operator Fees and Penalties",0]
[2017,"January 1, 2016 - December 31, 2016",null,"Energy Plus Inc.","Administrative and General Expenses","5695","OM&A Contra",-307679.28999999998]
[2017,"January 1, 2016 - December 31, 2016",null,"Energy Plus Inc.","Administrative and General Expenses Total",null,null,7905339.5300000003]
[2017,"January 1, 2016 - December 31, 2016",null,"Energy Plus Inc.","Billing and Collecting","5305","Supervision",915849.25]
[2017,"January 1, 2016 - December 31, 2016",null,"Energy Plus Inc.","Billing and Collecting","5310","Meter Reading Expense",374157.31]
[2017,"January 1, 2016 - December 31, 2016",null,"Energy Plus Inc.","Billing and Collecting","5315","Customer Billing",1401714.96]
[2017,"January 1, 2016 - December 31, 2016",null,"Energy Plus Inc.","Billing and Collecting","5320","Collecting",305336.12]
[2017,"January 1, 2016 - December 31, 2016",null,"Energy Plus Inc.","Billing and Collecting","5325","Collecting- Cash Over and Short",112.92]
[2017,"January 1, 2016 - December 31, 2016",null,"Energy Plus Inc.","Billing and Collecting","5330","Collection Charges",23538.46]
[2017,"January 1, 2016 - December 31, 2016",null,"Energy Plus Inc.","Billing and Collecting","5335","Bad Debt Expense",527589.09]
[2017,"January 1, 2016 - December 31, 2016",null,"Energy Plus Inc.","Billing and Collecting","5340","Miscellaneous Customer Accounts Expenses",0]
[2017,"January 1, 2016 - December 31, 2016",null,"Energy Plus Inc.","Billing and Collecting Total",null,null,3548298.11]
[2017,"January 1, 2016 - December 31, 2016",null,"Energy Plus Inc.","Community Relations","5405","Supervision",1597.28]
[2017,"January 1, 2016 - December 31, 2016",null,"Energy Plus Inc.","Community Relations","5410","Community Relations - Sundry",17823.29]
[2017,"January 1, 2016 - December 31, 2016",null,"Energy Plus Inc.","Community Relations","5415","Energy Conservation",0]
[2017,"January 1, 2016 - December 31, 2016",null,"Energy Plus Inc.","Community Relations","5420","Community Safety Program",78417.97]
[2017,"January 1, 2016 - December 31, 2016",null,"Energy Plus Inc.","Community Relations","5425","Miscellaneous Customer Service and Informational Expenses",0]
[2017,"January 1, 2016 - December 31, 2016",null,"Energy Plus Inc.","Community Relations Total",null,null,97838.54]
[2017,"January 1, 2016 - December 31, 2016",null,"Energy Plus Inc.","Distribution Expenses - Operation","5005","Operation Supervision and Engineering",367153.78]
[2017,"January 1, 2016 - December 31, 2016",null,"Energy Plus Inc.","Distribution Expenses - Operation","5010","Load Dispatching",585602.68000000005]
[2017,"January 1, 2016 - December 31, 2016",null,"Energy Plus Inc.","Distribution Expenses - Operation","5012","Station Buildings and Fixtures Expense",0]
[2017,"January 1, 2016 - December 31, 2016",null,"Energy Plus Inc.","Distribution Expenses - Operation","5014","Transformer Station Equipment - Operation Labour",17501.78]
[2017,"January 1, 2016 - December 31, 2016",null,"Energy Plus Inc.","Distribution Expenses - Operation","5015","Transformer Station Equipment - Operation Supplies and Expenses",208915.59]
[2017,"January 1, 2016 - December 31, 2016",null,"Energy Plus Inc.","Distribution Expenses - Operation","5016","Distribution Station Equipment - Operation Labour",0]
[2017,"January 1, 2016 - December 31, 2016",null,"Energy Plus Inc.","Distribution Expenses - Operation","5017","Distribution Station Equipment - Operation Supplies and Expenses",1200]
[2017,"January 1, 2016 - December 31, 2016",null,"Energy Plus Inc.","Distribution Expenses - Operation","5020","Overhead Distribution Lines and Feeders - Operation Labour",182546.67]
[2017,"January 1, 2016 - December 31, 2016",null,"Energy Plus Inc.","Distribution Expenses - Operation","5025","Overhead Distribution Lines and Feeders - Operation Supplies and Expenses",214661.63]
[2017,"January 1, 2016 - December 31, 2016",null,"Energy Plus Inc.","Distribution Expenses - Operation","5030","Overhead Subtransmission Feeders - Operation",0]
[2017,"January 1, 2016 - December 31, 2016",null,"Energy Plus Inc.","Distribution Expenses - Operation","5035","Overhead Distribution Transformers- Operation",27866.03]
[2017,"January 1, 2016 - December 31, 2016",null,"Energy Plus Inc.","Distribution Expenses - Operation","5040","Underground Distribution Lines and Feeders - Operation Labour",50231.35]
[2017,"January 1, 2016 - December 31, 2016",null,"Energy Plus Inc.","Distribution Expenses - Operation","5045","Underground Distribution Lines and Feeders - Operation Supplies and Expenses",97261.28]
[2017,"January 1, 2016 - December 31, 2016",null,"Energy Plus Inc.","Distribution Expenses - Operation","5050","Underground Subtransmission Feeders - Operation",0]
[2017,"January 1, 2016 - December 31, 2016",null,"Energy Plus Inc.","Distribution Expenses - Operation","5055","Underground Distribution Transformers - Operation",74106.45]
[2017,"January 1, 2016 - December 31, 2016",null,"Energy Plus Inc.","Distribution Expenses - Operation","5060","Street Lighting and Signal System Expense",0]
[2017,"January 1, 2016 - December 31, 2016",null,"Energy Plus Inc.","Distribution Expenses - Operation","5065","Meter Expense",1040768.36]
[2017,"January 1, 2016 - December 31, 2016",null,"Energy Plus Inc.","Distribution Expenses - Operation","5070","Customer Premises - Operation Labour",2532.0700000000002]
[2017,"January 1, 2016 - December 31, 2016",null,"Energy Plus Inc.","Distribution Expenses - Operation","5075","Customer Premises - Materials and Expenses",3948.91]
[2017,"January 1, 2016 - December 31, 2016",null,"Energy Plus Inc.","Distribution Expenses - Operation","5085","Miscellaneous Distribution Expense",0]
[2017,"January 1, 2016 - December 31, 2016",null,"Energy Plus Inc.","Distribution Expenses - Operation","5090","Underground Distribution Lines and Feeders - Rental Paid",0]
[2017,"January 1, 2016 - December 31, 2016",null,"Energy Plus Inc.","Distribution Expenses - Operation","5095","Overhead Distribution Lines and Feeders - Rental Paid",60128.46]
[2017,"January 1, 2016 - December 31, 2016",null,"Energy Plus Inc.","Distribution Expenses - Operation","5096","Other Rent",0]
[2017,"January 1, 2016 - December 31, 2016",null,"Energy Plus Inc.","Distribution Expenses - Operation Total",null,null,2934425.04]
[2017,"January 1, 2016 - December 31, 2016",null,"Energy Plus Inc.","Distribution Expenses – Maintenance","5105","Maintenance Supervision and Engineering",0]
[2017,"January 1, 2016 - December 31, 2016",null,"Energy Plus Inc.","Distribution Expenses – Maintenance","5110","Maintenance of Buildings and Fixtures - Distribution Stations",0]
[2017,"January 1, 2016 - December 31, 2016",null,"Energy Plus Inc.","Distribution Expenses – Maintenance","5112","Maintenance of Transformer Station Equipment",17968.73]
[2017,"January 1, 2016 - December 31, 2016",null,"Energy Plus Inc.","Distribution Expenses – Maintenance","5114","Maintenance of Distribution Station Equipment",165.37]
[2017,"January 1, 2016 - December 31, 2016",null,"Energy Plus Inc.","Distribution Expenses – Maintenance","5120","Maintenance of Poles, Towers and Fixtures",73355.44]
[2017,"January 1, 2016 - December 31, 2016",null,"Energy Plus Inc.","Distribution Expenses – Maintenance","5125","Maintenance of Overhead Conductors and Devices",801180.08]
[2017,"January 1, 2016 - December 31, 2016",null,"Energy Plus Inc.","Distribution Expenses – Maintenance","5130","Maintenance of Overhead Services",371102.38]
[2017,"January 1, 2016 - December 31, 2016",null,"Energy Plus Inc.","Distribution Expenses – Maintenance","5135","Overhead Distribution Lines and Feeders - Right of Way",509893.59]
[2017,"January 1, 2016 - December 31, 2016",null,"Energy Plus Inc.","Distribution Expenses – Maintenance","5145","Maintenance of Underground Conduit",40997.800000000003]
[2017,"January 1, 2016 - December 31, 2016",null,"Energy Plus Inc.","Distribution Expenses – Maintenance","5150","Maintenance of Underground Conductors and Devices",560996.25]
[2017,"January 1, 2016 - December 31, 2016",null,"Energy Plus Inc.","Distribution Expenses – Maintenance","5155","Maintenance of Underground Services",109421.08]
[2017,"January 1, 2016 - December 31, 2016",null,"Energy Plus Inc.","Distribution Expenses – Maintenance","5160","Maintenance of Line Transformers",186092.61]
[2017,"January 1, 2016 - December 31, 2016",null,"Energy Plus Inc.","Distribution Expenses – Maintenance","5165","Maintenance of Street Lighting and Signal Systems",0]
[2017,"January 1, 2016 - December 31, 2016",null,"Energy Plus Inc.","Distribution Expenses – Maintenance","5170","Sentinel Lights - Labour",0]
[2017,"January 1, 2016 - December 31, 2016",null,"Energy Plus Inc.","Distribution Expenses – Maintenance","5172","Sentinel Lights - Materials and Expenses",0]
[2017,"January 1, 2016 - December 31, 2016",null,"Energy Plus Inc.","Distribution Expenses – Maintenance","5175","Maintenance of Meters",0]
[2017,"January 1, 2016 - December 31, 2016",null,"Energy Plus Inc.","Distribution Expenses – Maintenance","5178","Customer Installations Expenses- Leased Property",0]
[2017,"January 1, 2016 - December 31, 2016",null,"Energy Plus Inc.","Distribution Expenses – Maintenance","5195","Maintenance of Other Installations on Customer Premises",0]
[2017,"January 1, 2016 - December 31, 2016",null,"Energy Plus Inc.","Distribution Expenses – Maintenance Total",null,null,2671173.33]
[2017,"January 1, 2016 - December 31, 2016",null,"Energy Plus Inc.","Other Expenses","5205","Purchase of Transmission and System Services",0]
[2017,"January 1, 2016 - December 31, 2016",null,"Energy Plus Inc.","Other Expenses","5210","Transmission Charges",0]
[2017,"January 1, 2016 - December 31, 2016",null,"Energy Plus Inc.","Other Expenses","5215","Transmission Charges Recovered",0]
[2017,"January 1, 2016 - December 31, 2016",null,"Energy Plus Inc.","Other Expenses Total",null,null,0]
[2017,"January 1, 2016 - December 31, 2016",null,"Enersource Hydro Mississauga Inc.","Administrative and General Expenses","5505","Supervision",0]
[2017,"January 1, 2016 - December 31, 2016",null,"Enersource Hydro Mississauga Inc.","Administrative and General Expenses","5510","Demonstrating and Selling Expense",0]
[2017,"January 1, 2016 - December 31, 2016",null,"Enersource Hydro Mississauga Inc.","Administrative and General Expenses","5515","Advertising Expense",0]
[2017,"January 1, 2016 - December 31, 2016",null,"Enersource Hydro Mississauga Inc.","Administrative and General Expenses","5520","Miscellaneous Sales Expense",0]
[2017,"January 1, 2016 - December 31, 2016",null,"Enersource Hydro Mississauga Inc.","Administrative and General Expenses","5605","Executive Salaries and Expenses",0]
[2017,"January 1, 2016 - December 31, 2016",null,"Enersource Hydro Mississauga Inc.","Administrative and General Expenses","5610","Management Salaries and Expenses",3064485.31]
[2017,"January 1, 2016 - December 31, 2016",null,"Enersource Hydro Mississauga Inc.","Administrative and General Expenses","5615","General Administrative Salaries and Expenses",2156006.04]
[2017,"January 1, 2016 - December 31, 2016",null,"Enersource Hydro Mississauga Inc.","Administrative and General Expenses","5620","Office Supplies and Expenses",285200.7]
[2017,"January 1, 2016 - December 31, 2016",null,"Enersource Hydro Mississauga Inc.","Administrative and General Expenses","5625","Administrative Expense Transferred/Credit",-7201742.5999999996]
[2017,"January 1, 2016 - December 31, 2016",null,"Enersource Hydro Mississauga Inc.","Administrative and General Expenses","5630","Outside Services Employed",0]
[2017,"January 1, 2016 - December 31, 2016",null,"Enersource Hydro Mississauga Inc.","Administrative and General Expenses","5635","Property Insurance",0]
[2017,"January 1, 2016 - December 31, 2016",null,"Enersource Hydro Mississauga Inc.","Administrative and General Expenses","5640","Injuries and Damages",0]
[2017,"January 1, 2016 - December 31, 2016",null,"Enersource Hydro Mississauga Inc.","Administrative and General Expenses","5645","OMERS Pensions and Benefits",62510.19]
[2017,"January 1, 2016 - December 31, 2016",null,"Enersource Hydro Mississauga Inc.","Administrative and General Expenses","5646","Employee Pensions and OPEB",0]
[2017,"January 1, 2016 - December 31, 2016",null,"Enersource Hydro Mississauga Inc.","Administrative and General Expenses","5647","Employee Sick Leave",0]
[2017,"January 1, 2016 - December 31, 2016",null,"Enersource Hydro Mississauga Inc.","Administrative and General Expenses","5650","Franchise Requirements",0]
[2017,"January 1, 2016 - December 31, 2016",null,"Enersource Hydro Mississauga Inc.","Administrative and General Expenses","5655","Regulatory Expenses",943296.71]
[2017,"January 1, 2016 - December 31, 2016",null,"Enersource Hydro Mississauga Inc.","Administrative and General Expenses","5660","General Advertising Expenses",0]
[2017,"January 1, 2016 - December 31, 2016",null,"Enersource Hydro Mississauga Inc.","Administrative and General Expenses","5665","Miscellaneous General Expenses",16558501.4]
[2017,"January 1, 2016 - December 31, 2016",null,"Enersource Hydro Mississauga Inc.","Administrative and General Expenses","5670","Rent",0]
[2017,"January 1, 2016 - December 31, 2016",null,"Enersource Hydro Mississauga Inc.","Administrative and General Expenses","5672","Lease Payment Expense",0]
[2017,"January 1, 2016 - December 31, 2016",null,"Enersource Hydro Mississauga Inc.","Administrative and General Expenses","5675","Maintenance of General Plant",13144112.029999999]
[2017,"January 1, 2016 - December 31, 2016",null,"Enersource Hydro Mississauga Inc.","Administrative and General Expenses","5680","Electrical Safety Authority Fees",104065.14]
[2017,"January 1, 2016 - December 31, 2016",null,"Enersource Hydro Mississauga Inc.","Administrative and General Expenses","5681","Special Purpose Charge Expense",0]
[2017,"January 1, 2016 - December 31, 2016",null,"Enersource Hydro Mississauga Inc.","Administrative and General Expenses","5685","Independent Market Operator Fees and Penalties",0]
[2017,"January 1, 2016 - December 31, 2016",null,"Enersource Hydro Mississauga Inc.","Administrative and General Expenses","5695","OM&A Contra",0]
[2017,"January 1, 2016 - December 31, 2016",null,"Enersource Hydro Mississauga Inc.","Administrative and General Expenses Total",null,null,29116434.920000002]
[2017,"January 1, 2016 - December 31, 2016",null,"Enersource Hydro Mississauga Inc.","Billing and Collecting","5305","Supervision",3190114.12]
[2017,"January 1, 2016 - December 31, 2016",null,"Enersource Hydro Mississauga Inc.","Billing and Collecting","5310","Meter Reading Expense",2194533.88]
[2017,"January 1, 2016 - December 31, 2016",null,"Enersource Hydro Mississauga Inc.","Billing and Collecting","5315","Customer Billing",763936.69]
[2017,"January 1, 2016 - December 31, 2016",null,"Enersource Hydro Mississauga Inc.","Billing and Collecting","5320","Collecting",991800.91]
[2017,"January 1, 2016 - December 31, 2016",null,"Enersource Hydro Mississauga Inc.","Billing and Collecting","5325","Collecting- Cash Over and Short",0]
[2017,"January 1, 2016 - December 31, 2016",null,"Enersource Hydro Mississauga Inc.","Billing and Collecting","5330","Collection Charges",-365479.25]
[2017,"January 1, 2016 - December 31, 2016",null,"Enersource Hydro Mississauga Inc.","Billing and Collecting","5335","Bad Debt Expense",1024535.65]
[2017,"January 1, 2016 - December 31, 2016",null,"Enersource Hydro Mississauga Inc.","Billing and Collecting","5340","Miscellaneous Customer Accounts Expenses",237537.23]
[2017,"January 1, 2016 - December 31, 2016",null,"Enersource Hydro Mississauga Inc.","Billing and Collecting Total",null,null,8036979.2300000004]
[2017,"January 1, 2016 - December 31, 2016",null,"Enersource Hydro Mississauga Inc.","Community Relations","5405","Supervision",0]
[2017,"January 1, 2016 - December 31, 2016",null,"Enersource Hydro Mississauga Inc.","Community Relations","5410","Community Relations - Sundry",0]
[2017,"January 1, 2016 - December 31, 2016",null,"Enersource Hydro Mississauga Inc.","Community Relations","5415","Energy Conservation",0]
[2017,"January 1, 2016 - December 31, 2016",null,"Enersource Hydro Mississauga Inc.","Community Relations","5420","Community Safety Program",0]
[2017,"January 1, 2016 - December 31, 2016",null,"Enersource Hydro Mississauga Inc.","Community Relations","5425","Miscellaneous Customer Service and Informational Expenses",0]
[2017,"January 1, 2016 - December 31, 2016",null,"Enersource Hydro Mississauga Inc.","Community Relations Total",null,null,0]
[2017,"January 1, 2016 - December 31, 2016",null,"Enersource Hydro Mississauga Inc.","Distribution Expenses - Operation","5005","Operation Supervision and Engineering",1883054.57]
[2017,"January 1, 2016 - December 31, 2016",null,"Enersource Hydro Mississauga Inc.","Distribution Expenses - Operation","5010","Load Dispatching",2311567.31]
[2017,"January 1, 2016 - December 31, 2016",null,"Enersource Hydro Mississauga Inc.","Distribution Expenses - Operation","5012","Station Buildings and Fixtures Expense",0]
[2017,"January 1, 2016 - December 31, 2016",null,"Enersource Hydro Mississauga Inc.","Distribution Expenses - Operation","5014","Transformer Station Equipment - Operation Labour",0]
[2017,"January 1, 2016 - December 31, 2016",null,"Enersource Hydro Mississauga Inc.","Distribution Expenses - Operation","5015","Transformer Station Equipment - Operation Supplies and Expenses",0]
[2017,"January 1, 2016 - December 31, 2016",null,"Enersource Hydro Mississauga Inc.","Distribution Expenses - Operation","5016","Distribution Station Equipment - Operation Labour",899647.09]
[2017,"January 1, 2016 - December 31, 2016",null,"Enersource Hydro Mississauga Inc.","Distribution Expenses - Operation","5017","Distribution Station Equipment - Operation Supplies and Expenses",280642.2]
[2017,"January 1, 2016 - December 31, 2016",null,"Enersource Hydro Mississauga Inc.","Distribution Expenses - Operation","5020","Overhead Distribution Lines and Feeders - Operation Labour",2700134.77]
[2017,"January 1, 2016 - December 31, 2016",null,"Enersource Hydro Mississauga Inc.","Distribution Expenses - Operation","5025","Overhead Distribution Lines and Feeders - Operation Supplies and Expenses",252225.23]
[2017,"January 1, 2016 - December 31, 2016",null,"Enersource Hydro Mississauga Inc.","Distribution Expenses - Operation","5030","Overhead Subtransmission Feeders - Operation",0]
[2017,"January 1, 2016 - December 31, 2016",null,"Enersource Hydro Mississauga Inc.","Distribution Expenses - Operation","5035","Overhead Distribution Transformers- Operation",0]
[2017,"January 1, 2016 - December 31, 2016",null,"Enersource Hydro Mississauga Inc.","Distribution Expenses - Operation","5040","Underground Distribution Lines and Feeders - Operation Labour",0]
[2017,"January 1, 2016 - December 31, 2016",null,"Enersource Hydro Mississauga Inc.","Distribution Expenses - Operation","5045","Underground Distribution Lines and Feeders - Operation Supplies and Expenses",0]
[2017,"January 1, 2016 - December 31, 2016",null,"Enersource Hydro Mississauga Inc.","Distribution Expenses - Operation","5050","Underground Subtransmission Feeders - Operation",0]
[2017,"January 1, 2016 - December 31, 2016",null,"Enersource Hydro Mississauga Inc.","Distribution Expenses - Operation","5055","Underground Distribution Transformers - Operation",0]
[2017,"January 1, 2016 - December 31, 2016",null,"Enersource Hydro Mississauga Inc.","Distribution Expenses - Operation","5060","Street Lighting and Signal System Expense",0]
[2017,"January 1, 2016 - December 31, 2016",null,"Enersource Hydro Mississauga Inc.","Distribution Expenses - Operation","5065","Meter Expense",0]
[2017,"January 1, 2016 - December 31, 2016",null,"Enersource Hydro Mississauga Inc.","Distribution Expenses - Operation","5070","Customer Premises - Operation Labour",1305968.1299999999]
[2017,"January 1, 2016 - December 31, 2016",null,"Enersource Hydro Mississauga Inc.","Distribution Expenses - Operation","5075","Customer Premises - Materials and Expenses",20963]
[2017,"January 1, 2016 - December 31, 2016",null,"Enersource Hydro Mississauga Inc.","Distribution Expenses - Operation","5085","Miscellaneous Distribution Expense",2908606.37]
[2017,"January 1, 2016 - December 31, 2016",null,"Enersource Hydro Mississauga Inc.","Distribution Expenses - Operation","5090","Underground Distribution Lines and Feeders - Rental Paid",0]
[2017,"January 1, 2016 - December 31, 2016",null,"Enersource Hydro Mississauga Inc.","Distribution Expenses - Operation","5095","Overhead Distribution Lines and Feeders - Rental Paid",0]
[2017,"January 1, 2016 - December 31, 2016",null,"Enersource Hydro Mississauga Inc.","Distribution Expenses - Operation","5096","Other Rent",-186504.67]
[2017,"January 1, 2016 - December 31, 2016",null,"Enersource Hydro Mississauga Inc.","Distribution Expenses - Operation Total",null,null,12376304]
[2017,"January 1, 2016 - December 31, 2016",null,"Enersource Hydro Mississauga Inc.","Distribution Expenses – Maintenance","5105","Maintenance Supervision and Engineering",0]
[2017,"January 1, 2016 - December 31, 2016",null,"Enersource Hydro Mississauga Inc.","Distribution Expenses – Maintenance","5110","Maintenance of Buildings and Fixtures - Distribution Stations",0]
[2017,"January 1, 2016 - December 31, 2016",null,"Enersource Hydro Mississauga Inc.","Distribution Expenses – Maintenance","5112","Maintenance of Transformer Station Equipment",0]
[2017,"January 1, 2016 - December 31, 2016",null,"Enersource Hydro Mississauga Inc.","Distribution Expenses – Maintenance","5114","Maintenance of Distribution Station Equipment",0]
[2017,"January 1, 2016 - December 31, 2016",null,"Enersource Hydro Mississauga Inc.","Distribution Expenses – Maintenance","5120","Maintenance of Poles, Towers and Fixtures",0]
[2017,"January 1, 2016 - December 31, 2016",null,"Enersource Hydro Mississauga Inc.","Distribution Expenses – Maintenance","5125","Maintenance of Overhead Conductors and Devices",4182582.11]
[2017,"January 1, 2016 - December 31, 2016",null,"Enersource Hydro Mississauga Inc.","Distribution Expenses – Maintenance","5130","Maintenance of Overhead Services",0]
[2017,"January 1, 2016 - December 31, 2016",null,"Enersource Hydro Mississauga Inc.","Distribution Expenses – Maintenance","5135","Overhead Distribution Lines and Feeders - Right of Way",1006903.62]
[2017,"January 1, 2016 - December 31, 2016",null,"Enersource Hydro Mississauga Inc.","Distribution Expenses – Maintenance","5145","Maintenance of Underground Conduit",0]
[2017,"January 1, 2016 - December 31, 2016",null,"Enersource Hydro Mississauga Inc.","Distribution Expenses – Maintenance","5150","Maintenance of Underground Conductors and Devices",5286652.2]
[2017,"January 1, 2016 - December 31, 2016",null,"Enersource Hydro Mississauga Inc.","Distribution Expenses – Maintenance","5155","Maintenance of Underground Services",0]
[2017,"January 1, 2016 - December 31, 2016",null,"Enersource Hydro Mississauga Inc.","Distribution Expenses – Maintenance","5160","Maintenance of Line Transformers",0]
[2017,"January 1, 2016 - December 31, 2016",null,"Enersource Hydro Mississauga Inc.","Distribution Expenses – Maintenance","5165","Maintenance of Street Lighting and Signal Systems",0]
[2017,"January 1, 2016 - December 31, 2016",null,"Enersource Hydro Mississauga Inc.","Distribution Expenses – Maintenance","5170","Sentinel Lights - Labour",0]
[2017,"January 1, 2016 - December 31, 2016",null,"Enersource Hydro Mississauga Inc.","Distribution Expenses – Maintenance","5172","Sentinel Lights - Materials and Expenses",0]
[2017,"January 1, 2016 - December 31, 2016",null,"Enersource Hydro Mississauga Inc.","Distribution Expenses – Maintenance","5175","Maintenance of Meters",1580972.98]
[2017,"January 1, 2016 - December 31, 2016",null,"Enersource Hydro Mississauga Inc.","Distribution Expenses – Maintenance","5178","Customer Installations Expenses- Leased Property",0]
[2017,"January 1, 2016 - December 31, 2016",null,"Enersource Hydro Mississauga Inc.","Distribution Expenses – Maintenance","5195","Maintenance of Other Installations on Customer Premises",0]
[2017,"January 1, 2016 - December 31, 2016",null,"Enersource Hydro Mississauga Inc.","Distribution Expenses – Maintenance Total",null,null,12057110.91]
[2017,"January 1, 2016 - December 31, 2016",null,"Enersource Hydro Mississauga Inc.","Other Expenses","5205","Purchase of Transmission and System Services",0]
[2017,"January 1, 2016 - December 31, 2016",null,"Enersource Hydro Mississauga Inc.","Other Expenses","5210","Transmission Charges",0]
[2017,"January 1, 2016 - December 31, 2016",null,"Enersource Hydro Mississauga Inc.","Other Expenses","5215","Transmission Charges Recovered",0]
[2017,"January 1, 2016 - December 31, 2016",null,"Enersource Hydro Mississauga Inc.","Other Expenses Total",null,null,0]
[2017,"January 1, 2016 - December 31, 2016",null,"Entegrus Powerlines Inc.","Administrative and General Expenses","5505","Supervision",0]
[2017,"January 1, 2016 - December 31, 2016",null,"Entegrus Powerlines Inc.","Administrative and General Expenses","5510","Demonstrating and Selling Expense",0]
[2017,"January 1, 2016 - December 31, 2016",null,"Entegrus Powerlines Inc.","Administrative and General Expenses","5515","Advertising Expense",0]
[2017,"January 1, 2016 - December 31, 2016",null,"Entegrus Powerlines Inc.","Administrative and General Expenses","5520","Miscellaneous Sales Expense",0]
[2017,"January 1, 2016 - December 31, 2016",null,"Entegrus Powerlines Inc.","Administrative and General Expenses","5605","Executive Salaries and Expenses",0]
[2017,"January 1, 2016 - December 31, 2016",null,"Entegrus Powerlines Inc.","Administrative and General Expenses","5610","Management Salaries and Expenses",1761711.36]
[2017,"January 1, 2016 - December 31, 2016",null,"Entegrus Powerlines Inc.","Administrative and General Expenses","5615","General Administrative Salaries and Expenses",133271.93]
[2017,"January 1, 2016 - December 31, 2016",null,"Entegrus Powerlines Inc.","Administrative and General Expenses","5620","Office Supplies and Expenses",245804.45]
[2017,"January 1, 2016 - December 31, 2016",null,"Entegrus Powerlines Inc.","Administrative and General Expenses","5625","Administrative Expense Transferred/Credit",0]
[2017,"January 1, 2016 - December 31, 2016",null,"Entegrus Powerlines Inc.","Administrative and General Expenses","5630","Outside Services Employed",292858.96000000002]
[2017,"January 1, 2016 - December 31, 2016",null,"Entegrus Powerlines Inc.","Administrative and General Expenses","5635","Property Insurance",125160.72]
[2017,"January 1, 2016 - December 31, 2016",null,"Entegrus Powerlines Inc.","Administrative and General Expenses","5640","Injuries and Damages",0]
[2017,"January 1, 2016 - December 31, 2016",null,"Entegrus Powerlines Inc.","Administrative and General Expenses","5645","OMERS Pensions and Benefits",88692.49]
[2017,"January 1, 2016 - December 31, 2016",null,"Entegrus Powerlines Inc.","Administrative and General Expenses","5646","Employee Pensions and OPEB",134316.89000000001]
[2017,"January 1, 2016 - December 31, 2016",null,"Entegrus Powerlines Inc.","Administrative and General Expenses","5647","Employee Sick Leave",0]
[2017,"January 1, 2016 - December 31, 2016",null,"Entegrus Powerlines Inc.","Administrative and General Expenses","5650","Franchise Requirements",0]
[2017,"January 1, 2016 - December 31, 2016",null,"Entegrus Powerlines Inc.","Administrative and General Expenses","5655","Regulatory Expenses",601683.35]
[2017,"January 1, 2016 - December 31, 2016",null,"Entegrus Powerlines Inc.","Administrative and General Expenses","5660","General Advertising Expenses",0]
[2017,"January 1, 2016 - December 31, 2016",null,"Entegrus Powerlines Inc.","Administrative and General Expenses","5665","Miscellaneous General Expenses",23116.49]
[2017,"January 1, 2016 - December 31, 2016",null,"Entegrus Powerlines Inc.","Administrative and General Expenses","5670","Rent",0]
[2017,"January 1, 2016 - December 31, 2016",null,"Entegrus Powerlines Inc.","Administrative and General Expenses","5672","Lease Payment Expense",0]
[2017,"January 1, 2016 - December 31, 2016",null,"Entegrus Powerlines Inc.","Administrative and General Expenses","5675","Maintenance of General Plant",491661.07]
[2017,"January 1, 2016 - December 31, 2016",null,"Entegrus Powerlines Inc.","Administrative and General Expenses","5680","Electrical Safety Authority Fees",18585.669999999998]
[2017,"January 1, 2016 - December 31, 2016",null,"Entegrus Powerlines Inc.","Administrative and General Expenses","5681","Special Purpose Charge Expense",0]
[2017,"January 1, 2016 - December 31, 2016",null,"Entegrus Powerlines Inc.","Administrative and General Expenses","5685","Independent Market Operator Fees and Penalties",0]
[2017,"January 1, 2016 - December 31, 2016",null,"Entegrus Powerlines Inc.","Administrative and General Expenses","5695","OM&A Contra",0]
[2017,"January 1, 2016 - December 31, 2016",null,"Entegrus Powerlines Inc.","Administrative and General Expenses Total",null,null,3916863.38]
[2017,"January 1, 2016 - December 31, 2016",null,"Entegrus Powerlines Inc.","Billing and Collecting","5305","Supervision",487264.74]
[2017,"January 1, 2016 - December 31, 2016",null,"Entegrus Powerlines Inc.","Billing and Collecting","5310","Meter Reading Expense",254379.51]
[2017,"January 1, 2016 - December 31, 2016",null,"Entegrus Powerlines Inc.","Billing and Collecting","5315","Customer Billing",2615870.86]
[2017,"January 1, 2016 - December 31, 2016",null,"Entegrus Powerlines Inc.","Billing and Collecting","5320","Collecting",-1128087.71]
[2017,"January 1, 2016 - December 31, 2016",null,"Entegrus Powerlines Inc.","Billing and Collecting","5325","Collecting- Cash Over and Short",0]
[2017,"January 1, 2016 - December 31, 2016",null,"Entegrus Powerlines Inc.","Billing and Collecting","5330","Collection Charges",0]
[2017,"January 1, 2016 - December 31, 2016",null,"Entegrus Powerlines Inc.","Billing and Collecting","5335","Bad Debt Expense",266052.8]
[2017,"January 1, 2016 - December 31, 2016",null,"Entegrus Powerlines Inc.","Billing and Collecting","5340","Miscellaneous Customer Accounts Expenses",0]
[2017,"January 1, 2016 - December 31, 2016",null,"Entegrus Powerlines Inc.","Billing and Collecting Total",null,null,2495480.2000000002]
[2017,"January 1, 2016 - December 31, 2016",null,"Entegrus Powerlines Inc.","Community Relations","5405","Supervision",0]
[2017,"January 1, 2016 - December 31, 2016",null,"Entegrus Powerlines Inc.","Community Relations","5410","Community Relations - Sundry",30398.43]
[2017,"January 1, 2016 - December 31, 2016",null,"Entegrus Powerlines Inc.","Community Relations","5415","Energy Conservation",0]
[2017,"January 1, 2016 - December 31, 2016",null,"Entegrus Powerlines Inc.","Community Relations","5420","Community Safety Program",0]
[2017,"January 1, 2016 - December 31, 2016",null,"Entegrus Powerlines Inc.","Community Relations","5425","Miscellaneous Customer Service and Informational Expenses",0]
[2017,"January 1, 2016 - December 31, 2016",null,"Entegrus Powerlines Inc.","Community Relations Total",null,null,30398.43]
[2017,"January 1, 2016 - December 31, 2016",null,"Entegrus Powerlines Inc.","Distribution Expenses - Operation","5005","Operation Supervision and Engineering",502735.84]
[2017,"January 1, 2016 - December 31, 2016",null,"Entegrus Powerlines Inc.","Distribution Expenses - Operation","5010","Load Dispatching",42117.14]
[2017,"January 1, 2016 - December 31, 2016",null,"Entegrus Powerlines Inc.","Distribution Expenses - Operation","5012","Station Buildings and Fixtures Expense",0]
[2017,"January 1, 2016 - December 31, 2016",null,"Entegrus Powerlines Inc.","Distribution Expenses - Operation","5014","Transformer Station Equipment - Operation Labour",0]
[2017,"January 1, 2016 - December 31, 2016",null,"Entegrus Powerlines Inc.","Distribution Expenses - Operation","5015","Transformer Station Equipment - Operation Supplies and Expenses",0]
[2017,"January 1, 2016 - December 31, 2016",null,"Entegrus Powerlines Inc.","Distribution Expenses - Operation","5016","Distribution Station Equipment - Operation Labour",52061.47]
[2017,"January 1, 2016 - December 31, 2016",null,"Entegrus Powerlines Inc.","Distribution Expenses - Operation","5017","Distribution Station Equipment - Operation Supplies and Expenses",55374.41]
[2017,"January 1, 2016 - December 31, 2016",null,"Entegrus Powerlines Inc.","Distribution Expenses - Operation","5020","Overhead Distribution Lines and Feeders - Operation Labour",45941.41]
[2017,"January 1, 2016 - December 31, 2016",null,"Entegrus Powerlines Inc.","Distribution Expenses - Operation","5025","Overhead Distribution Lines and Feeders - Operation Supplies and Expenses",18206.87]
[2017,"January 1, 2016 - December 31, 2016",null,"Entegrus Powerlines Inc.","Distribution Expenses - Operation","5030","Overhead Subtransmission Feeders - Operation",0]
[2017,"January 1, 2016 - December 31, 2016",null,"Entegrus Powerlines Inc.","Distribution Expenses - Operation","5035","Overhead Distribution Transformers- Operation",253.4]
[2017,"January 1, 2016 - December 31, 2016",null,"Entegrus Powerlines Inc.","Distribution Expenses - Operation","5040","Underground Distribution Lines and Feeders - Operation Labour",197917.61]
[2017,"January 1, 2016 - December 31, 2016",null,"Entegrus Powerlines Inc.","Distribution Expenses - Operation","5045","Underground Distribution Lines and Feeders - Operation Supplies and Expenses",72003.86]
[2017,"January 1, 2016 - December 31, 2016",null,"Entegrus Powerlines Inc.","Distribution Expenses - Operation","5050","Underground Subtransmission Feeders - Operation",0]
[2017,"January 1, 2016 - December 31, 2016",null,"Entegrus Powerlines Inc.","Distribution Expenses - Operation","5055","Underground Distribution Transformers - Operation",297.41000000000003]
[2017,"January 1, 2016 - December 31, 2016",null,"Entegrus Powerlines Inc.","Distribution Expenses - Operation","5060","Street Lighting and Signal System Expense",0]
[2017,"January 1, 2016 - December 31, 2016",null,"Entegrus Powerlines Inc.","Distribution Expenses - Operation","5065","Meter Expense",235670.75]
[2017,"January 1, 2016 - December 31, 2016",null,"Entegrus Powerlines Inc.","Distribution Expenses - Operation","5070","Customer Premises - Operation Labour",45184.32]
[2017,"January 1, 2016 - December 31, 2016",null,"Entegrus Powerlines Inc.","Distribution Expenses - Operation","5075","Customer Premises - Materials and Expenses",13911.63]
[2017,"January 1, 2016 - December 31, 2016",null,"Entegrus Powerlines Inc.","Distribution Expenses - Operation","5085","Miscellaneous Distribution Expense",0]
[2017,"January 1, 2016 - December 31, 2016",null,"Entegrus Powerlines Inc.","Distribution Expenses - Operation","5090","Underground Distribution Lines and Feeders - Rental Paid",0]
[2017,"January 1, 2016 - December 31, 2016",null,"Entegrus Powerlines Inc.","Distribution Expenses - Operation","5095","Overhead Distribution Lines and Feeders - Rental Paid",0]
[2017,"January 1, 2016 - December 31, 2016",null,"Entegrus Powerlines Inc.","Distribution Expenses - Operation","5096","Other Rent",0]
[2017,"January 1, 2016 - December 31, 2016",null,"Entegrus Powerlines Inc.","Distribution Expenses - Operation Total",null,null,1281676.1200000001]
[2017,"January 1, 2016 - December 31, 2016",null,"Entegrus Powerlines Inc.","Distribution Expenses – Maintenance","5105","Maintenance Supervision and Engineering",511463.88]
[2017,"January 1, 2016 - December 31, 2016",null,"Entegrus Powerlines Inc.","Distribution Expenses – Maintenance","5110","Maintenance of Buildings and Fixtures - Distribution Stations",0]
[2017,"January 1, 2016 - December 31, 2016",null,"Entegrus Powerlines Inc.","Distribution Expenses – Maintenance","5112","Maintenance of Transformer Station Equipment",0]
[2017,"January 1, 2016 - December 31, 2016",null,"Entegrus Powerlines Inc.","Distribution Expenses – Maintenance","5114","Maintenance of Distribution Station Equipment",88990.3]
[2017,"January 1, 2016 - December 31, 2016",null,"Entegrus Powerlines Inc.","Distribution Expenses – Maintenance","5120","Maintenance of Poles, Towers and Fixtures",53518.34]
[2017,"January 1, 2016 - December 31, 2016",null,"Entegrus Powerlines Inc.","Distribution Expenses – Maintenance","5125","Maintenance of Overhead Conductors and Devices",380869.88]
[2017,"January 1, 2016 - December 31, 2016",null,"Entegrus Powerlines Inc.","Distribution Expenses – Maintenance","5130","Maintenance of Overhead Services",195420.84]
[2017,"January 1, 2016 - December 31, 2016",null,"Entegrus Powerlines Inc.","Distribution Expenses – Maintenance","5135","Overhead Distribution Lines and Feeders - Right of Way",112288.05]
[2017,"January 1, 2016 - December 31, 2016",null,"Entegrus Powerlines Inc.","Distribution Expenses – Maintenance","5145","Maintenance of Underground Conduit",3444.53]
[2017,"January 1, 2016 - December 31, 2016",null,"Entegrus Powerlines Inc.","Distribution Expenses – Maintenance","5150","Maintenance of Underground Conductors and Devices",13694.61]
[2017,"January 1, 2016 - December 31, 2016",null,"Entegrus Powerlines Inc.","Distribution Expenses – Maintenance","5155","Maintenance of Underground Services",126550.18]
[2017,"January 1, 2016 - December 31, 2016",null,"Entegrus Powerlines Inc.","Distribution Expenses – Maintenance","5160","Maintenance of Line Transformers",39703.35]
[2017,"January 1, 2016 - December 31, 2016",null,"Entegrus Powerlines Inc.","Distribution Expenses – Maintenance","5165","Maintenance of Street Lighting and Signal Systems",0]
[2017,"January 1, 2016 - December 31, 2016",null,"Entegrus Powerlines Inc.","Distribution Expenses – Maintenance","5170","Sentinel Lights - Labour",0]
[2017,"January 1, 2016 - December 31, 2016",null,"Entegrus Powerlines Inc.","Distribution Expenses – Maintenance","5172","Sentinel Lights - Materials and Expenses",0]
[2017,"January 1, 2016 - December 31, 2016",null,"Entegrus Powerlines Inc.","Distribution Expenses – Maintenance","5175","Maintenance of Meters",221904.38]
[2017,"January 1, 2016 - December 31, 2016",null,"Entegrus Powerlines Inc.","Distribution Expenses – Maintenance","5178","Customer Installations Expenses- Leased Property",0]
[2017,"January 1, 2016 - December 31, 2016",null,"Entegrus Powerlines Inc.","Distribution Expenses – Maintenance","5195","Maintenance of Other Installations on Customer Premises",0]
[2017,"January 1, 2016 - December 31, 2016",null,"Entegrus Powerlines Inc.","Distribution Expenses – Maintenance Total",null,null,1747848.34]
[2017,"January 1, 2016 - December 31, 2016",null,"Entegrus Powerlines Inc.","Other Expenses","5205","Purchase of Transmission and System Services",0]
[2017,"January 1, 2016 - December 31, 2016",null,"Entegrus Powerlines Inc.","Other Expenses","5210","Transmission Charges",0]
[2017,"January 1, 2016 - December 31, 2016",null,"Entegrus Powerlines Inc.","Other Expenses","5215","Transmission Charges Recovered",0]
[2017,"January 1, 2016 - December 31, 2016",null,"Entegrus Powerlines Inc.","Other Expenses Total",null,null,0]
[2017,"January 1, 2016 - December 31, 2016",null,"Espanola Regional Hydro Distribution Corporation","Administrative and General Expenses","5505","Supervision",0]
[2017,"January 1, 2016 - December 31, 2016",null,"Espanola Regional Hydro Distribution Corporation","Administrative and General Expenses","5510","Demonstrating and Selling Expense",0]
[2017,"January 1, 2016 - December 31, 2016",null,"Espanola Regional Hydro Distribution Corporation","Administrative and General Expenses","5515","Advertising Expense",0]
[2017,"January 1, 2016 - December 31, 2016",null,"Espanola Regional Hydro Distribution Corporation","Administrative and General Expenses","5520","Miscellaneous Sales Expense",0]
[2017,"January 1, 2016 - December 31, 2016",null,"Espanola Regional Hydro Distribution Corporation","Administrative and General Expenses","5605","Executive Salaries and Expenses",18540]
[2017,"January 1, 2016 - December 31, 2016",null,"Espanola Regional Hydro Distribution Corporation","Administrative and General Expenses","5610","Management Salaries and Expenses",71198.600000000006]
[2017,"January 1, 2016 - December 31, 2016",null,"Espanola Regional Hydro Distribution Corporation","Administrative and General Expenses","5615","General Administrative Salaries and Expenses",32625.43]
[2017,"January 1, 2016 - December 31, 2016",null,"Espanola Regional Hydro Distribution Corporation","Administrative and General Expenses","5620","Office Supplies and Expenses",77183.41]
[2017,"January 1, 2016 - December 31, 2016",null,"Espanola Regional Hydro Distribution Corporation","Administrative and General Expenses","5625","Administrative Expense Transferred/Credit",0]
[2017,"January 1, 2016 - December 31, 2016",null,"Espanola Regional Hydro Distribution Corporation","Administrative and General Expenses","5630","Outside Services Employed",69985.600000000006]
[2017,"January 1, 2016 - December 31, 2016",null,"Espanola Regional Hydro Distribution Corporation","Administrative and General Expenses","5635","Property Insurance",5789.88]
[2017,"January 1, 2016 - December 31, 2016",null,"Espanola Regional Hydro Distribution Corporation","Administrative and General Expenses","5640","Injuries and Damages",9535.2000000000007]
[2017,"January 1, 2016 - December 31, 2016",null,"Espanola Regional Hydro Distribution Corporation","Administrative and General Expenses","5645","OMERS Pensions and Benefits",3073.53]
[2017,"January 1, 2016 - December 31, 2016",null,"Espanola Regional Hydro Distribution Corporation","Administrative and General Expenses","5646","Employee Pensions and OPEB",0]
[2017,"January 1, 2016 - December 31, 2016",null,"Espanola Regional Hydro Distribution Corporation","Administrative and General Expenses","5647","Employee Sick Leave",0]
[2017,"January 1, 2016 - December 31, 2016",null,"Espanola Regional Hydro Distribution Corporation","Administrative and General Expenses","5650","Franchise Requirements",0]
[2017,"January 1, 2016 - December 31, 2016",null,"Espanola Regional Hydro Distribution Corporation","Administrative and General Expenses","5655","Regulatory Expenses",55465.9]
[2017,"January 1, 2016 - December 31, 2016",null,"Espanola Regional Hydro Distribution Corporation","Administrative and General Expenses","5660","General Advertising Expenses",1015]
[2017,"January 1, 2016 - December 31, 2016",null,"Espanola Regional Hydro Distribution Corporation","Administrative and General Expenses","5665","Miscellaneous General Expenses",1517.31]
[2017,"January 1, 2016 - December 31, 2016",null,"Espanola Regional Hydro Distribution Corporation","Administrative and General Expenses","5670","Rent",0]
[2017,"January 1, 2016 - December 31, 2016",null,"Espanola Regional Hydro Distribution Corporation","Administrative and General Expenses","5672","Lease Payment Expense",0]
[2017,"January 1, 2016 - December 31, 2016",null,"Espanola Regional Hydro Distribution Corporation","Administrative and General Expenses","5675","Maintenance of General Plant",0]
[2017,"January 1, 2016 - December 31, 2016",null,"Espanola Regional Hydro Distribution Corporation","Administrative and General Expenses","5680","Electrical Safety Authority Fees",3199.45]
[2017,"January 1, 2016 - December 31, 2016",null,"Espanola Regional Hydro Distribution Corporation","Administrative and General Expenses","5681","Special Purpose Charge Expense",0]
[2017,"January 1, 2016 - December 31, 2016",null,"Espanola Regional Hydro Distribution Corporation","Administrative and General Expenses","5685","Independent Market Operator Fees and Penalties",0]
[2017,"January 1, 2016 - December 31, 2016",null,"Espanola Regional Hydro Distribution Corporation","Administrative and General Expenses","5695","OM&A Contra",0]
[2017,"January 1, 2016 - December 31, 2016",null,"Espanola Regional Hydro Distribution Corporation","Administrative and General Expenses Total",null,null,349129.31]
[2017,"January 1, 2016 - December 31, 2016",null,"Espanola Regional Hydro Distribution Corporation","Billing and Collecting","5305","Supervision",0]
[2017,"January 1, 2016 - December 31, 2016",null,"Espanola Regional Hydro Distribution Corporation","Billing and Collecting","5310","Meter Reading Expense",64727]
[2017,"January 1, 2016 - December 31, 2016",null,"Espanola Regional Hydro Distribution Corporation","Billing and Collecting","5315","Customer Billing",170325.42]
[2017,"January 1, 2016 - December 31, 2016",null,"Espanola Regional Hydro Distribution Corporation","Billing and Collecting","5320","Collecting",112099.9]
[2017,"January 1, 2016 - December 31, 2016",null,"Espanola Regional Hydro Distribution Corporation","Billing and Collecting","5325","Collecting- Cash Over and Short",0]
[2017,"January 1, 2016 - December 31, 2016",null,"Espanola Regional Hydro Distribution Corporation","Billing and Collecting","5330","Collection Charges",0]
[2017,"January 1, 2016 - December 31, 2016",null,"Espanola Regional Hydro Distribution Corporation","Billing and Collecting","5335","Bad Debt Expense",40952.03]
[2017,"January 1, 2016 - December 31, 2016",null,"Espanola Regional Hydro Distribution Corporation","Billing and Collecting","5340","Miscellaneous Customer Accounts Expenses",0]
[2017,"January 1, 2016 - December 31, 2016",null,"Espanola Regional Hydro Distribution Corporation","Billing and Collecting Total",null,null,388104.35]
[2017,"January 1, 2016 - December 31, 2016",null,"Espanola Regional Hydro Distribution Corporation","Community Relations","5405","Supervision",0]
[2017,"January 1, 2016 - December 31, 2016",null,"Espanola Regional Hydro Distribution Corporation","Community Relations","5410","Community Relations - Sundry",0]
[2017,"January 1, 2016 - December 31, 2016",null,"Espanola Regional Hydro Distribution Corporation","Community Relations","5415","Energy Conservation",0]
[2017,"January 1, 2016 - December 31, 2016",null,"Espanola Regional Hydro Distribution Corporation","Community Relations","5420","Community Safety Program",0]
[2017,"January 1, 2016 - December 31, 2016",null,"Espanola Regional Hydro Distribution Corporation","Community Relations","5425","Miscellaneous Customer Service and Informational Expenses",0]
[2017,"January 1, 2016 - December 31, 2016",null,"Espanola Regional Hydro Distribution Corporation","Community Relations Total",null,null,0]
[2017,"January 1, 2016 - December 31, 2016",null,"Espanola Regional Hydro Distribution Corporation","Distribution Expenses - Operation","5005","Operation Supervision and Engineering",51581.25]
[2017,"January 1, 2016 - December 31, 2016",null,"Espanola Regional Hydro Distribution Corporation","Distribution Expenses - Operation","5010","Load Dispatching",0]
[2017,"January 1, 2016 - December 31, 2016",null,"Espanola Regional Hydro Distribution Corporation","Distribution Expenses - Operation","5012","Station Buildings and Fixtures Expense",1478]
[2017,"January 1, 2016 - December 31, 2016",null,"Espanola Regional Hydro Distribution Corporation","Distribution Expenses - Operation","5014","Transformer Station Equipment - Operation Labour",0]
[2017,"January 1, 2016 - December 31, 2016",null,"Espanola Regional Hydro Distribution Corporation","Distribution Expenses - Operation","5015","Transformer Station Equipment - Operation Supplies and Expenses",0]
[2017,"January 1, 2016 - December 31, 2016",null,"Espanola Regional Hydro Distribution Corporation","Distribution Expenses - Operation","5016","Distribution Station Equipment - Operation Labour",1655.42]
[2017,"January 1, 2016 - December 31, 2016",null,"Espanola Regional Hydro Distribution Corporation","Distribution Expenses - Operation","5017","Distribution Station Equipment - Operation Supplies and Expenses",11396.71]
[2017,"January 1, 2016 - December 31, 2016",null,"Espanola Regional Hydro Distribution Corporation","Distribution Expenses - Operation","5020","Overhead Distribution Lines and Feeders - Operation Labour",37475.199999999997]
[2017,"January 1, 2016 - December 31, 2016",null,"Espanola Regional Hydro Distribution Corporation","Distribution Expenses - Operation","5025","Overhead Distribution Lines and Feeders - Operation Supplies and Expenses",59263.57]
[2017,"January 1, 2016 - December 31, 2016",null,"Espanola Regional Hydro Distribution Corporation","Distribution Expenses - Operation","5030","Overhead Subtransmission Feeders - Operation",0]
[2017,"January 1, 2016 - December 31, 2016",null,"Espanola Regional Hydro Distribution Corporation","Distribution Expenses - Operation","5035","Overhead Distribution Transformers- Operation",9433.19]
[2017,"January 1, 2016 - December 31, 2016",null,"Espanola Regional Hydro Distribution Corporation","Distribution Expenses - Operation","5040","Underground Distribution Lines and Feeders - Operation Labour",33181.4]
[2017,"January 1, 2016 - December 31, 2016",null,"Espanola Regional Hydro Distribution Corporation","Distribution Expenses - Operation","5045","Underground Distribution Lines and Feeders - Operation Supplies and Expenses",19995.509999999998]
[2017,"January 1, 2016 - December 31, 2016",null,"Espanola Regional Hydro Distribution Corporation","Distribution Expenses - Operation","5050","Underground Subtransmission Feeders - Operation",0]
[2017,"January 1, 2016 - December 31, 2016",null,"Espanola Regional Hydro Distribution Corporation","Distribution Expenses - Operation","5055","Underground Distribution Transformers - Operation",2902.38]
[2017,"January 1, 2016 - December 31, 2016",null,"Espanola Regional Hydro Distribution Corporation","Distribution Expenses - Operation","5060","Street Lighting and Signal System Expense",0]
[2017,"January 1, 2016 - December 31, 2016",null,"Espanola Regional Hydro Distribution Corporation","Distribution Expenses - Operation","5065","Meter Expense",4796.26]
[2017,"January 1, 2016 - December 31, 2016",null,"Espanola Regional Hydro Distribution Corporation","Distribution Expenses - Operation","5070","Customer Premises - Operation Labour",33515.919999999998]
[2017,"January 1, 2016 - December 31, 2016",null,"Espanola Regional Hydro Distribution Corporation","Distribution Expenses - Operation","5075","Customer Premises - Materials and Expenses",1543.39]
[2017,"January 1, 2016 - December 31, 2016",null,"Espanola Regional Hydro Distribution Corporation","Distribution Expenses - Operation","5085","Miscellaneous Distribution Expense",11093.29]
[2017,"January 1, 2016 - December 31, 2016",null,"Espanola Regional Hydro Distribution Corporation","Distribution Expenses - Operation","5090","Underground Distribution Lines and Feeders - Rental Paid",0]
[2017,"January 1, 2016 - December 31, 2016",null,"Espanola Regional Hydro Distribution Corporation","Distribution Expenses - Operation","5095","Overhead Distribution Lines and Feeders - Rental Paid",14556]
[2017,"January 1, 2016 - December 31, 2016",null,"Espanola Regional Hydro Distribution Corporation","Distribution Expenses - Operation","5096","Other Rent",0]
[2017,"January 1, 2016 - December 31, 2016",null,"Espanola Regional Hydro Distribution Corporation","Distribution Expenses - Operation Total",null,null,293867.49]
[2017,"January 1, 2016 - December 31, 2016",null,"Espanola Regional Hydro Distribution Corporation","Distribution Expenses – Maintenance","5105","Maintenance Supervision and Engineering",83753.289999999994]
[2017,"January 1, 2016 - December 31, 2016",null,"Espanola Regional Hydro Distribution Corporation","Distribution Expenses – Maintenance","5110","Maintenance of Buildings and Fixtures - Distribution Stations",6489.51]
[2017,"January 1, 2016 - December 31, 2016",null,"Espanola Regional Hydro Distribution Corporation","Distribution Expenses – Maintenance","5112","Maintenance of Transformer Station Equipment",0]
[2017,"January 1, 2016 - December 31, 2016",null,"Espanola Regional Hydro Distribution Corporation","Distribution Expenses – Maintenance","5114","Maintenance of Distribution Station Equipment",17755.95]
[2017,"January 1, 2016 - December 31, 2016",null,"Espanola Regional Hydro Distribution Corporation","Distribution Expenses – Maintenance","5120","Maintenance of Poles, Towers and Fixtures",10053.780000000001]
[2017,"January 1, 2016 - December 31, 2016",null,"Espanola Regional Hydro Distribution Corporation","Distribution Expenses – Maintenance","5125","Maintenance of Overhead Conductors and Devices",91015.19]
[2017,"January 1, 2016 - December 31, 2016",null,"Espanola Regional Hydro Distribution Corporation","Distribution Expenses – Maintenance","5130","Maintenance of Overhead Services",42973.35]
[2017,"January 1, 2016 - December 31, 2016",null,"Espanola Regional Hydro Distribution Corporation","Distribution Expenses – Maintenance","5135","Overhead Distribution Lines and Feeders - Right of Way",76406.820000000007]
[2017,"January 1, 2016 - December 31, 2016",null,"Espanola Regional Hydro Distribution Corporation","Distribution Expenses – Maintenance","5145","Maintenance of Underground Conduit",172.67]
[2017,"January 1, 2016 - December 31, 2016",null,"Espanola Regional Hydro Distribution Corporation","Distribution Expenses – Maintenance","5150","Maintenance of Underground Conductors and Devices",15737.05]
[2017,"January 1, 2016 - December 31, 2016",null,"Espanola Regional Hydro Distribution Corporation","Distribution Expenses – Maintenance","5155","Maintenance of Underground Services",0]
[2017,"January 1, 2016 - December 31, 2016",null,"Espanola Regional Hydro Distribution Corporation","Distribution Expenses – Maintenance","5160","Maintenance of Line Transformers",5468.67]
[2017,"January 1, 2016 - December 31, 2016",null,"Espanola Regional Hydro Distribution Corporation","Distribution Expenses – Maintenance","5165","Maintenance of Street Lighting and Signal Systems",0]
[2017,"January 1, 2016 - December 31, 2016",null,"Espanola Regional Hydro Distribution Corporation","Distribution Expenses – Maintenance","5170","Sentinel Lights - Labour",175.28]
[2017,"January 1, 2016 - December 31, 2016",null,"Espanola Regional Hydro Distribution Corporation","Distribution Expenses – Maintenance","5172","Sentinel Lights - Materials and Expenses",21]
[2017,"January 1, 2016 - December 31, 2016",null,"Espanola Regional Hydro Distribution Corporation","Distribution Expenses – Maintenance","5175","Maintenance of Meters",3192.58]
[2017,"January 1, 2016 - December 31, 2016",null,"Espanola Regional Hydro Distribution Corporation","Distribution Expenses – Maintenance","5178","Customer Installations Expenses- Leased Property",0]
[2017,"January 1, 2016 - December 31, 2016",null,"Espanola Regional Hydro Distribution Corporation","Distribution Expenses – Maintenance","5195","Maintenance of Other Installations on Customer Premises",0]
[2017,"January 1, 2016 - December 31, 2016",null,"Espanola Regional Hydro Distribution Corporation","Distribution Expenses – Maintenance Total",null,null,353215.14]
[2017,"January 1, 2016 - December 31, 2016",null,"Espanola Regional Hydro Distribution Corporation","Other Expenses","5205","Purchase of Transmission and System Services",0]
[2017,"January 1, 2016 - December 31, 2016",null,"Espanola Regional Hydro Distribution Corporation","Other Expenses","5210","Transmission Charges",0]
[2017,"January 1, 2016 - December 31, 2016",null,"Espanola Regional Hydro Distribution Corporation","Other Expenses","5215","Transmission Charges Recovered",0]
[2017,"January 1, 2016 - December 31, 2016",null,"Espanola Regional Hydro Distribution Corporation","Other Expenses Total",null,null,0]
[2017,"January 1, 2016 - December 31, 2016",null,"Essex Powerlines Corporation","Administrative and General Expenses","5505","Supervision",0]
[2017,"January 1, 2016 - December 31, 2016",null,"Essex Powerlines Corporation","Administrative and General Expenses","5510","Demonstrating and Selling Expense",0]
[2017,"January 1, 2016 - December 31, 2016",null,"Essex Powerlines Corporation","Administrative and General Expenses","5515","Advertising Expense",0]
[2017,"January 1, 2016 - December 31, 2016",null,"Essex Powerlines Corporation","Administrative and General Expenses","5520","Miscellaneous Sales Expense",0]
[2017,"January 1, 2016 - December 31, 2016",null,"Essex Powerlines Corporation","Administrative and General Expenses","5605","Executive Salaries and Expenses",371115]
[2017,"January 1, 2016 - December 31, 2016",null,"Essex Powerlines Corporation","Administrative and General Expenses","5610","Management Salaries and Expenses",1344337.14]
[2017,"January 1, 2016 - December 31, 2016",null,"Essex Powerlines Corporation","Administrative and General Expenses","5615","General Administrative Salaries and Expenses",234839.49]
[2017,"January 1, 2016 - December 31, 2016",null,"Essex Powerlines Corporation","Administrative and General Expenses","5620","Office Supplies and Expenses",402557.75]
[2017,"January 1, 2016 - December 31, 2016",null,"Essex Powerlines Corporation","Administrative and General Expenses","5625","Administrative Expense Transferred/Credit",0]
[2017,"January 1, 2016 - December 31, 2016",null,"Essex Powerlines Corporation","Administrative and General Expenses","5630","Outside Services Employed",64134.5]
[2017,"January 1, 2016 - December 31, 2016",null,"Essex Powerlines Corporation","Administrative and General Expenses","5635","Property Insurance",18943.52]
[2017,"January 1, 2016 - December 31, 2016",null,"Essex Powerlines Corporation","Administrative and General Expenses","5640","Injuries and Damages",42396.17]
[2017,"January 1, 2016 - December 31, 2016",null,"Essex Powerlines Corporation","Administrative and General Expenses","5645","OMERS Pensions and Benefits",203371]
[2017,"January 1, 2016 - December 31, 2016",null,"Essex Powerlines Corporation","Administrative and General Expenses","5646","Employee Pensions and OPEB",0]
[2017,"January 1, 2016 - December 31, 2016",null,"Essex Powerlines Corporation","Administrative and General Expenses","5647","Employee Sick Leave",0]
[2017,"January 1, 2016 - December 31, 2016",null,"Essex Powerlines Corporation","Administrative and General Expenses","5650","Franchise Requirements",0]
[2017,"January 1, 2016 - December 31, 2016",null,"Essex Powerlines Corporation","Administrative and General Expenses","5655","Regulatory Expenses",124953.32]
[2017,"January 1, 2016 - December 31, 2016",null,"Essex Powerlines Corporation","Administrative and General Expenses","5660","General Advertising Expenses",0]
[2017,"January 1, 2016 - December 31, 2016",null,"Essex Powerlines Corporation","Administrative and General Expenses","5665","Miscellaneous General Expenses",95944.09]
[2017,"January 1, 2016 - December 31, 2016",null,"Essex Powerlines Corporation","Administrative and General Expenses","5670","Rent",0]
[2017,"January 1, 2016 - December 31, 2016",null,"Essex Powerlines Corporation","Administrative and General Expenses","5672","Lease Payment Expense",0]
[2017,"January 1, 2016 - December 31, 2016",null,"Essex Powerlines Corporation","Administrative and General Expenses","5675","Maintenance of General Plant",208500.9]
[2017,"January 1, 2016 - December 31, 2016",null,"Essex Powerlines Corporation","Administrative and General Expenses","5680","Electrical Safety Authority Fees",12375.76]
[2017,"January 1, 2016 - December 31, 2016",null,"Essex Powerlines Corporation","Administrative and General Expenses","5681","Special Purpose Charge Expense",0]
[2017,"January 1, 2016 - December 31, 2016",null,"Essex Powerlines Corporation","Administrative and General Expenses","5685","Independent Market Operator Fees and Penalties",0]
[2017,"January 1, 2016 - December 31, 2016",null,"Essex Powerlines Corporation","Administrative and General Expenses","5695","OM&A Contra",0]
[2017,"January 1, 2016 - December 31, 2016",null,"Essex Powerlines Corporation","Administrative and General Expenses Total",null,null,3123468.64]
[2017,"January 1, 2016 - December 31, 2016",null,"Essex Powerlines Corporation","Billing and Collecting","5305","Supervision",187518.75]
[2017,"January 1, 2016 - December 31, 2016",null,"Essex Powerlines Corporation","Billing and Collecting","5310","Meter Reading Expense",234570.62]
[2017,"January 1, 2016 - December 31, 2016",null,"Essex Powerlines Corporation","Billing and Collecting","5315","Customer Billing",623072.77]
[2017,"January 1, 2016 - December 31, 2016",null,"Essex Powerlines Corporation","Billing and Collecting","5320","Collecting",122141.97]
[2017,"January 1, 2016 - December 31, 2016",null,"Essex Powerlines Corporation","Billing and Collecting","5325","Collecting- Cash Over and Short",0]
[2017,"January 1, 2016 - December 31, 2016",null,"Essex Powerlines Corporation","Billing and Collecting","5330","Collection Charges",63.9]
[2017,"January 1, 2016 - December 31, 2016",null,"Essex Powerlines Corporation","Billing and Collecting","5335","Bad Debt Expense",150478.15]
[2017,"January 1, 2016 - December 31, 2016",null,"Essex Powerlines Corporation","Billing and Collecting","5340","Miscellaneous Customer Accounts Expenses",30402.9]
[2017,"January 1, 2016 - December 31, 2016",null,"Essex Powerlines Corporation","Billing and Collecting Total",null,null,1348249.06]
[2017,"January 1, 2016 - December 31, 2016",null,"Essex Powerlines Corporation","Community Relations","5405","Supervision",0]
[2017,"January 1, 2016 - December 31, 2016",null,"Essex Powerlines Corporation","Community Relations","5410","Community Relations - Sundry",6482.32]
[2017,"January 1, 2016 - December 31, 2016",null,"Essex Powerlines Corporation","Community Relations","5415","Energy Conservation",0]
[2017,"January 1, 2016 - December 31, 2016",null,"Essex Powerlines Corporation","Community Relations","5420","Community Safety Program",0]
[2017,"January 1, 2016 - December 31, 2016",null,"Essex Powerlines Corporation","Community Relations","5425","Miscellaneous Customer Service and Informational Expenses",0]
[2017,"January 1, 2016 - December 31, 2016",null,"Essex Powerlines Corporation","Community Relations Total",null,null,6482.32]
[2017,"January 1, 2016 - December 31, 2016",null,"Essex Powerlines Corporation","Distribution Expenses - Operation","5005","Operation Supervision and Engineering",74046.03327]
[2017,"January 1, 2016 - December 31, 2016",null,"Essex Powerlines Corporation","Distribution Expenses - Operation","5010","Load Dispatching",11704.879349999999]
[2017,"January 1, 2016 - December 31, 2016",null,"Essex Powerlines Corporation","Distribution Expenses - Operation","5012","Station Buildings and Fixtures Expense",0]
[2017,"January 1, 2016 - December 31, 2016",null,"Essex Powerlines Corporation","Distribution Expenses - Operation","5014","Transformer Station Equipment - Operation Labour",0]
[2017,"January 1, 2016 - December 31, 2016",null,"Essex Powerlines Corporation","Distribution Expenses - Operation","5015","Transformer Station Equipment - Operation Supplies and Expenses",0]
[2017,"January 1, 2016 - December 31, 2016",null,"Essex Powerlines Corporation","Distribution Expenses - Operation","5016","Distribution Station Equipment - Operation Labour",0]
[2017,"January 1, 2016 - December 31, 2016",null,"Essex Powerlines Corporation","Distribution Expenses - Operation","5017","Distribution Station Equipment - Operation Supplies and Expenses",0]
[2017,"January 1, 2016 - December 31, 2016",null,"Essex Powerlines Corporation","Distribution Expenses - Operation","5020","Overhead Distribution Lines and Feeders - Operation Labour",93011.045329999994]
[2017,"January 1, 2016 - December 31, 2016",null,"Essex Powerlines Corporation","Distribution Expenses - Operation","5025","Overhead Distribution Lines and Feeders - Operation Supplies and Expenses",38431.01311]
[2017,"January 1, 2016 - December 31, 2016",null,"Essex Powerlines Corporation","Distribution Expenses - Operation","5030","Overhead Subtransmission Feeders - Operation",0]
[2017,"January 1, 2016 - December 31, 2016",null,"Essex Powerlines Corporation","Distribution Expenses - Operation","5035","Overhead Distribution Transformers- Operation",1859.30195]
[2017,"January 1, 2016 - December 31, 2016",null,"Essex Powerlines Corporation","Distribution Expenses - Operation","5040","Underground Distribution Lines and Feeders - Operation Labour",43027.008580000002]
[2017,"January 1, 2016 - December 31, 2016",null,"Essex Powerlines Corporation","Distribution Expenses - Operation","5045","Underground Distribution Lines and Feeders - Operation Supplies and Expenses",44330.553679999997]
[2017,"January 1, 2016 - December 31, 2016",null,"Essex Powerlines Corporation","Distribution Expenses - Operation","5050","Underground Subtransmission Feeders - Operation",0]
[2017,"January 1, 2016 - December 31, 2016",null,"Essex Powerlines Corporation","Distribution Expenses - Operation","5055","Underground Distribution Transformers - Operation",39665.818550000004]
[2017,"January 1, 2016 - December 31, 2016",null,"Essex Powerlines Corporation","Distribution Expenses - Operation","5060","Street Lighting and Signal System Expense",0]
[2017,"January 1, 2016 - December 31, 2016",null,"Essex Powerlines Corporation","Distribution Expenses - Operation","5065","Meter Expense",167380.23730000001]
[2017,"January 1, 2016 - December 31, 2016",null,"Essex Powerlines Corporation","Distribution Expenses - Operation","5070","Customer Premises - Operation Labour",378711.62]
[2017,"January 1, 2016 - December 31, 2016",null,"Essex Powerlines Corporation","Distribution Expenses - Operation","5075","Customer Premises - Materials and Expenses",3503]
[2017,"January 1, 2016 - December 31, 2016",null,"Essex Powerlines Corporation","Distribution Expenses - Operation","5085","Miscellaneous Distribution Expense",48172.112159999997]
[2017,"January 1, 2016 - December 31, 2016",null,"Essex Powerlines Corporation","Distribution Expenses - Operation","5090","Underground Distribution Lines and Feeders - Rental Paid",0]
[2017,"January 1, 2016 - December 31, 2016",null,"Essex Powerlines Corporation","Distribution Expenses - Operation","5095","Overhead Distribution Lines and Feeders - Rental Paid",0]
[2017,"January 1, 2016 - December 31, 2016",null,"Essex Powerlines Corporation","Distribution Expenses - Operation","5096","Other Rent",106446.6618]
[2017,"January 1, 2016 - December 31, 2016",null,"Essex Powerlines Corporation","Distribution Expenses - Operation Total",null,null,1050289.2850800001]
[2017,"January 1, 2016 - December 31, 2016",null,"Essex Powerlines Corporation","Distribution Expenses – Maintenance","5105","Maintenance Supervision and Engineering",42109.131150000001]
[2017,"January 1, 2016 - December 31, 2016",null,"Essex Powerlines Corporation","Distribution Expenses – Maintenance","5110","Maintenance of Buildings and Fixtures - Distribution Stations",0]
[2017,"January 1, 2016 - December 31, 2016",null,"Essex Powerlines Corporation","Distribution Expenses – Maintenance","5112","Maintenance of Transformer Station Equipment",0]
[2017,"January 1, 2016 - December 31, 2016",null,"Essex Powerlines Corporation","Distribution Expenses – Maintenance","5114","Maintenance of Distribution Station Equipment",0]
[2017,"January 1, 2016 - December 31, 2016",null,"Essex Powerlines Corporation","Distribution Expenses – Maintenance","5120","Maintenance of Poles, Towers and Fixtures",141755.82620000001]
[2017,"January 1, 2016 - December 31, 2016",null,"Essex Powerlines Corporation","Distribution Expenses – Maintenance","5125","Maintenance of Overhead Conductors and Devices",142107.09030000001]
[2017,"January 1, 2016 - December 31, 2016",null,"Essex Powerlines Corporation","Distribution Expenses – Maintenance","5130","Maintenance of Overhead Services",174752.13089999999]
[2017,"January 1, 2016 - December 31, 2016",null,"Essex Powerlines Corporation","Distribution Expenses – Maintenance","5135","Overhead Distribution Lines and Feeders - Right of Way",593112.93909999996]
[2017,"January 1, 2016 - December 31, 2016",null,"Essex Powerlines Corporation","Distribution Expenses – Maintenance","5145","Maintenance of Underground Conduit",0]
[2017,"January 1, 2016 - December 31, 2016",null,"Essex Powerlines Corporation","Distribution Expenses – Maintenance","5150","Maintenance of Underground Conductors and Devices",94057.298840000003]
[2017,"January 1, 2016 - December 31, 2016",null,"Essex Powerlines Corporation","Distribution Expenses – Maintenance","5155","Maintenance of Underground Services",187508.2133]
[2017,"January 1, 2016 - December 31, 2016",null,"Essex Powerlines Corporation","Distribution Expenses – Maintenance","5160","Maintenance of Line Transformers",64304.138529999997]
[2017,"January 1, 2016 - December 31, 2016",null,"Essex Powerlines Corporation","Distribution Expenses – Maintenance","5165","Maintenance of Street Lighting and Signal Systems",0]
[2017,"January 1, 2016 - December 31, 2016",null,"Essex Powerlines Corporation","Distribution Expenses – Maintenance","5170","Sentinel Lights - Labour",0]
[2017,"January 1, 2016 - December 31, 2016",null,"Essex Powerlines Corporation","Distribution Expenses – Maintenance","5172","Sentinel Lights - Materials and Expenses",0]
[2017,"January 1, 2016 - December 31, 2016",null,"Essex Powerlines Corporation","Distribution Expenses – Maintenance","5175","Maintenance of Meters",0]
[2017,"January 1, 2016 - December 31, 2016",null,"Essex Powerlines Corporation","Distribution Expenses – Maintenance","5178","Customer Installations Expenses- Leased Property",0]
[2017,"January 1, 2016 - December 31, 2016",null,"Essex Powerlines Corporation","Distribution Expenses – Maintenance","5195","Maintenance of Other Installations on Customer Premises",0]
[2017,"January 1, 2016 - December 31, 2016",null,"Essex Powerlines Corporation","Distribution Expenses – Maintenance Total",null,null,1439706.76832]
[2017,"January 1, 2016 - December 31, 2016",null,"Essex Powerlines Corporation","Other Expenses","5205","Purchase of Transmission and System Services",0]
[2017,"January 1, 2016 - December 31, 2016",null,"Essex Powerlines Corporation","Other Expenses","5210","Transmission Charges",0]
[2017,"January 1, 2016 - December 31, 2016",null,"Essex Powerlines Corporation","Other Expenses","5215","Transmission Charges Recovered",0]
[2017,"January 1, 2016 - December 31, 2016",null,"Essex Powerlines Corporation","Other Expenses Total",null,null,0]
[2017,"January 1, 2016 - December 31, 2016",null,"Festival Hydro Inc.","Administrative and General Expenses","5505","Supervision",0]
[2017,"January 1, 2016 - December 31, 2016",null,"Festival Hydro Inc.","Administrative and General Expenses","5510","Demonstrating and Selling Expense",0]
[2017,"January 1, 2016 - December 31, 2016",null,"Festival Hydro Inc.","Administrative and General Expenses","5515","Advertising Expense",0]
[2017,"January 1, 2016 - December 31, 2016",null,"Festival Hydro Inc.","Administrative and General Expenses","5520","Miscellaneous Sales Expense",0]
[2017,"January 1, 2016 - December 31, 2016",null,"Festival Hydro Inc.","Administrative and General Expenses","5605","Executive Salaries and Expenses",686040.34]
[2017,"January 1, 2016 - December 31, 2016",null,"Festival Hydro Inc.","Administrative and General Expenses","5610","Management Salaries and Expenses",0]
[2017,"January 1, 2016 - December 31, 2016",null,"Festival Hydro Inc.","Administrative and General Expenses","5615","General Administrative Salaries and Expenses",445575.11]
[2017,"January 1, 2016 - December 31, 2016",null,"Festival Hydro Inc.","Administrative and General Expenses","5620","Office Supplies and Expenses",197716.79]
[2017,"January 1, 2016 - December 31, 2016",null,"Festival Hydro Inc.","Administrative and General Expenses","5625","Administrative Expense Transferred/Credit",0]
[2017,"January 1, 2016 - December 31, 2016",null,"Festival Hydro Inc.","Administrative and General Expenses","5630","Outside Services Employed",371172.1]
[2017,"January 1, 2016 - December 31, 2016",null,"Festival Hydro Inc.","Administrative and General Expenses","5635","Property Insurance",0]
[2017,"January 1, 2016 - December 31, 2016",null,"Festival Hydro Inc.","Administrative and General Expenses","5640","Injuries and Damages",47179.71]
[2017,"January 1, 2016 - December 31, 2016",null,"Festival Hydro Inc.","Administrative and General Expenses","5645","OMERS Pensions and Benefits",84099.75]
[2017,"January 1, 2016 - December 31, 2016",null,"Festival Hydro Inc.","Administrative and General Expenses","5646","Employee Pensions and OPEB",0]
[2017,"January 1, 2016 - December 31, 2016",null,"Festival Hydro Inc.","Administrative and General Expenses","5647","Employee Sick Leave",0]
[2017,"January 1, 2016 - December 31, 2016",null,"Festival Hydro Inc.","Administrative and General Expenses","5650","Franchise Requirements",0]
[2017,"January 1, 2016 - December 31, 2016",null,"Festival Hydro Inc.","Administrative and General Expenses","5655","Regulatory Expenses",165982.26999999999]
[2017,"January 1, 2016 - December 31, 2016",null,"Festival Hydro Inc.","Administrative and General Expenses","5660","General Advertising Expenses",2028.05]
[2017,"January 1, 2016 - December 31, 2016",null,"Festival Hydro Inc.","Administrative and General Expenses","5665","Miscellaneous General Expenses",67743.070000000007]
[2017,"January 1, 2016 - December 31, 2016",null,"Festival Hydro Inc.","Administrative and General Expenses","5670","Rent",0]
[2017,"January 1, 2016 - December 31, 2016",null,"Festival Hydro Inc.","Administrative and General Expenses","5672","Lease Payment Expense",0]
[2017,"January 1, 2016 - December 31, 2016",null,"Festival Hydro Inc.","Administrative and General Expenses","5675","Maintenance of General Plant",156157.32999999999]
[2017,"January 1, 2016 - December 31, 2016",null,"Festival Hydro Inc.","Administrative and General Expenses","5680","Electrical Safety Authority Fees",10483.629999999999]
[2017,"January 1, 2016 - December 31, 2016",null,"Festival Hydro Inc.","Administrative and General Expenses","5681","Special Purpose Charge Expense",0]
[2017,"January 1, 2016 - December 31, 2016",null,"Festival Hydro Inc.","Administrative and General Expenses","5685","Independent Market Operator Fees and Penalties",0]
[2017,"January 1, 2016 - December 31, 2016",null,"Festival Hydro Inc.","Administrative and General Expenses","5695","OM&A Contra",0]
[2017,"January 1, 2016 - December 31, 2016",null,"Festival Hydro Inc.","Administrative and General Expenses Total",null,null,2234178.15]
[2017,"January 1, 2016 - December 31, 2016",null,"Festival Hydro Inc.","Billing and Collecting","5305","Supervision",27534.62]
[2017,"January 1, 2016 - December 31, 2016",null,"Festival Hydro Inc.","Billing and Collecting","5310","Meter Reading Expense",234863.39]
[2017,"January 1, 2016 - December 31, 2016",null,"Festival Hydro Inc.","Billing and Collecting","5315","Customer Billing",623205.30000000005]
[2017,"January 1, 2016 - December 31, 2016",null,"Festival Hydro Inc.","Billing and Collecting","5320","Collecting",182156.22]
[2017,"January 1, 2016 - December 31, 2016",null,"Festival Hydro Inc.","Billing and Collecting","5325","Collecting- Cash Over and Short",0]
[2017,"January 1, 2016 - December 31, 2016",null,"Festival Hydro Inc.","Billing and Collecting","5330","Collection Charges",0]
[2017,"January 1, 2016 - December 31, 2016",null,"Festival Hydro Inc.","Billing and Collecting","5335","Bad Debt Expense",73502]
[2017,"January 1, 2016 - December 31, 2016",null,"Festival Hydro Inc.","Billing and Collecting","5340","Miscellaneous Customer Accounts Expenses",154477.18]
[2017,"January 1, 2016 - December 31, 2016",null,"Festival Hydro Inc.","Billing and Collecting Total",null,null,1295738.71]
[2017,"January 1, 2016 - December 31, 2016",null,"Festival Hydro Inc.","Community Relations","5405","Supervision",1431.67]
[2017,"January 1, 2016 - December 31, 2016",null,"Festival Hydro Inc.","Community Relations","5410","Community Relations - Sundry",0]
[2017,"January 1, 2016 - December 31, 2016",null,"Festival Hydro Inc.","Community Relations","5415","Energy Conservation",0]
[2017,"January 1, 2016 - December 31, 2016",null,"Festival Hydro Inc.","Community Relations","5420","Community Safety Program",8468.36]
[2017,"January 1, 2016 - December 31, 2016",null,"Festival Hydro Inc.","Community Relations","5425","Miscellaneous Customer Service and Informational Expenses",0]
[2017,"January 1, 2016 - December 31, 2016",null,"Festival Hydro Inc.","Community Relations Total",null,null,9900.0300000000007]
[2017,"January 1, 2016 - December 31, 2016",null,"Festival Hydro Inc.","Distribution Expenses - Operation","5005","Operation Supervision and Engineering",199214.17]
[2017,"January 1, 2016 - December 31, 2016",null,"Festival Hydro Inc.","Distribution Expenses - Operation","5010","Load Dispatching",54776.63]
[2017,"January 1, 2016 - December 31, 2016",null,"Festival Hydro Inc.","Distribution Expenses - Operation","5012","Station Buildings and Fixtures Expense",18169.73]
[2017,"January 1, 2016 - December 31, 2016",null,"Festival Hydro Inc.","Distribution Expenses - Operation","5014","Transformer Station Equipment - Operation Labour",603.22]
[2017,"January 1, 2016 - December 31, 2016",null,"Festival Hydro Inc.","Distribution Expenses - Operation","5015","Transformer Station Equipment - Operation Supplies and Expenses",90762.16]
[2017,"January 1, 2016 - December 31, 2016",null,"Festival Hydro Inc.","Distribution Expenses - Operation","5016","Distribution Station Equipment - Operation Labour",82.6]
[2017,"January 1, 2016 - December 31, 2016",null,"Festival Hydro Inc.","Distribution Expenses - Operation","5017","Distribution Station Equipment - Operation Supplies and Expenses",0]
[2017,"January 1, 2016 - December 31, 2016",null,"Festival Hydro Inc.","Distribution Expenses - Operation","5020","Overhead Distribution Lines and Feeders - Operation Labour",11928.54]
[2017,"January 1, 2016 - December 31, 2016",null,"Festival Hydro Inc.","Distribution Expenses - Operation","5025","Overhead Distribution Lines and Feeders - Operation Supplies and Expenses",43541.97]
[2017,"January 1, 2016 - December 31, 2016",null,"Festival Hydro Inc.","Distribution Expenses - Operation","5030","Overhead Subtransmission Feeders - Operation",0]
[2017,"January 1, 2016 - December 31, 2016",null,"Festival Hydro Inc.","Distribution Expenses - Operation","5035","Overhead Distribution Transformers- Operation",5639.91]
[2017,"January 1, 2016 - December 31, 2016",null,"Festival Hydro Inc.","Distribution Expenses - Operation","5040","Underground Distribution Lines and Feeders - Operation Labour",3731.97]
[2017,"January 1, 2016 - December 31, 2016",null,"Festival Hydro Inc.","Distribution Expenses - Operation","5045","Underground Distribution Lines and Feeders - Operation Supplies and Expenses",222.96]
[2017,"January 1, 2016 - December 31, 2016",null,"Festival Hydro Inc.","Distribution Expenses - Operation","5050","Underground Subtransmission Feeders - Operation",0]
[2017,"January 1, 2016 - December 31, 2016",null,"Festival Hydro Inc.","Distribution Expenses - Operation","5055","Underground Distribution Transformers - Operation",6515.72]
[2017,"January 1, 2016 - December 31, 2016",null,"Festival Hydro Inc.","Distribution Expenses - Operation","5060","Street Lighting and Signal System Expense",0]
[2017,"January 1, 2016 - December 31, 2016",null,"Festival Hydro Inc.","Distribution Expenses - Operation","5065","Meter Expense",264761.08]
[2017,"January 1, 2016 - December 31, 2016",null,"Festival Hydro Inc.","Distribution Expenses - Operation","5070","Customer Premises - Operation Labour",182948.88]
[2017,"January 1, 2016 - December 31, 2016",null,"Festival Hydro Inc.","Distribution Expenses - Operation","5075","Customer Premises - Materials and Expenses",7057.68]
[2017,"January 1, 2016 - December 31, 2016",null,"Festival Hydro Inc.","Distribution Expenses - Operation","5085","Miscellaneous Distribution Expense",6372.53]
[2017,"January 1, 2016 - December 31, 2016",null,"Festival Hydro Inc.","Distribution Expenses - Operation","5090","Underground Distribution Lines and Feeders - Rental Paid",0]
[2017,"January 1, 2016 - December 31, 2016",null,"Festival Hydro Inc.","Distribution Expenses - Operation","5095","Overhead Distribution Lines and Feeders - Rental Paid",7988.51]
[2017,"January 1, 2016 - December 31, 2016",null,"Festival Hydro Inc.","Distribution Expenses - Operation","5096","Other Rent",0]
[2017,"January 1, 2016 - December 31, 2016",null,"Festival Hydro Inc.","Distribution Expenses - Operation Total",null,null,904318.26]
[2017,"January 1, 2016 - December 31, 2016",null,"Festival Hydro Inc.","Distribution Expenses – Maintenance","5105","Maintenance Supervision and Engineering",0]
[2017,"January 1, 2016 - December 31, 2016",null,"Festival Hydro Inc.","Distribution Expenses – Maintenance","5110","Maintenance of Buildings and Fixtures - Distribution Stations",8741.2999999999993]
[2017,"January 1, 2016 - December 31, 2016",null,"Festival Hydro Inc.","Distribution Expenses – Maintenance","5112","Maintenance of Transformer Station Equipment",0]
[2017,"January 1, 2016 - December 31, 2016",null,"Festival Hydro Inc.","Distribution Expenses – Maintenance","5114","Maintenance of Distribution Station Equipment",702.86]
[2017,"January 1, 2016 - December 31, 2016",null,"Festival Hydro Inc.","Distribution Expenses – Maintenance","5120","Maintenance of Poles, Towers and Fixtures",11218.16]
[2017,"January 1, 2016 - December 31, 2016",null,"Festival Hydro Inc.","Distribution Expenses – Maintenance","5125","Maintenance of Overhead Conductors and Devices",97042.29]
[2017,"January 1, 2016 - December 31, 2016",null,"Festival Hydro Inc.","Distribution Expenses – Maintenance","5130","Maintenance of Overhead Services",685194.61]
[2017,"January 1, 2016 - December 31, 2016",null,"Festival Hydro Inc.","Distribution Expenses – Maintenance","5135","Overhead Distribution Lines and Feeders - Right of Way",146265.51]
[2017,"January 1, 2016 - December 31, 2016",null,"Festival Hydro Inc.","Distribution Expenses – Maintenance","5145","Maintenance of Underground Conduit",11088.33]
[2017,"January 1, 2016 - December 31, 2016",null,"Festival Hydro Inc.","Distribution Expenses – Maintenance","5150","Maintenance of Underground Conductors and Devices",99791.8]
[2017,"January 1, 2016 - December 31, 2016",null,"Festival Hydro Inc.","Distribution Expenses – Maintenance","5155","Maintenance of Underground Services",54669.760000000002]
[2017,"January 1, 2016 - December 31, 2016",null,"Festival Hydro Inc.","Distribution Expenses – Maintenance","5160","Maintenance of Line Transformers",18146.55]
[2017,"January 1, 2016 - December 31, 2016",null,"Festival Hydro Inc.","Distribution Expenses – Maintenance","5165","Maintenance of Street Lighting and Signal Systems",0]
[2017,"January 1, 2016 - December 31, 2016",null,"Festival Hydro Inc.","Distribution Expenses – Maintenance","5170","Sentinel Lights - Labour",0]
[2017,"January 1, 2016 - December 31, 2016",null,"Festival Hydro Inc.","Distribution Expenses – Maintenance","5172","Sentinel Lights - Materials and Expenses",0]
[2017,"January 1, 2016 - December 31, 2016",null,"Festival Hydro Inc.","Distribution Expenses – Maintenance","5175","Maintenance of Meters",95891.04]
[2017,"January 1, 2016 - December 31, 2016",null,"Festival Hydro Inc.","Distribution Expenses – Maintenance","5178","Customer Installations Expenses- Leased Property",0]
[2017,"January 1, 2016 - December 31, 2016",null,"Festival Hydro Inc.","Distribution Expenses – Maintenance","5195","Maintenance of Other Installations on Customer Premises",0]
[2017,"January 1, 2016 - December 31, 2016",null,"Festival Hydro Inc.","Distribution Expenses – Maintenance Total",null,null,1228752.21]
[2017,"January 1, 2016 - December 31, 2016",null,"Festival Hydro Inc.","Other Expenses","5205","Purchase of Transmission and System Services",0]
[2017,"January 1, 2016 - December 31, 2016",null,"Festival Hydro Inc.","Other Expenses","5210","Transmission Charges",0]
[2017,"January 1, 2016 - December 31, 2016",null,"Festival Hydro Inc.","Other Expenses","5215","Transmission Charges Recovered",0]
[2017,"January 1, 2016 - December 31, 2016",null,"Festival Hydro Inc.","Other Expenses Total",null,null,0]
[2017,"January 1, 2016 - December 31, 2016",null,"Fort Frances Power Corporation","Administrative and General Expenses","5505","Supervision",0]
[2017,"January 1, 2016 - December 31, 2016",null,"Fort Frances Power Corporation","Administrative and General Expenses","5510","Demonstrating and Selling Expense",0]
[2017,"January 1, 2016 - December 31, 2016",null,"Fort Frances Power Corporation","Administrative and General Expenses","5515","Advertising Expense",0]
[2017,"January 1, 2016 - December 31, 2016",null,"Fort Frances Power Corporation","Administrative and General Expenses","5520","Miscellaneous Sales Expense",0]
[2017,"January 1, 2016 - December 31, 2016",null,"Fort Frances Power Corporation","Administrative and General Expenses","5605","Executive Salaries and Expenses",179509.03]
[2017,"January 1, 2016 - December 31, 2016",null,"Fort Frances Power Corporation","Administrative and General Expenses","5610","Management Salaries and Expenses",0]
[2017,"January 1, 2016 - December 31, 2016",null,"Fort Frances Power Corporation","Administrative and General Expenses","5615","General Administrative Salaries and Expenses",158489.64000000001]
[2017,"January 1, 2016 - December 31, 2016",null,"Fort Frances Power Corporation","Administrative and General Expenses","5620","Office Supplies and Expenses",13126.44]
[2017,"January 1, 2016 - December 31, 2016",null,"Fort Frances Power Corporation","Administrative and General Expenses","5625","Administrative Expense Transferred/Credit",-4310.88]
[2017,"January 1, 2016 - December 31, 2016",null,"Fort Frances Power Corporation","Administrative and General Expenses","5630","Outside Services Employed",92600.71]
[2017,"January 1, 2016 - December 31, 2016",null,"Fort Frances Power Corporation","Administrative and General Expenses","5635","Property Insurance",13329.79]
[2017,"January 1, 2016 - December 31, 2016",null,"Fort Frances Power Corporation","Administrative and General Expenses","5640","Injuries and Damages",0]
[2017,"January 1, 2016 - December 31, 2016",null,"Fort Frances Power Corporation","Administrative and General Expenses","5645","OMERS Pensions and Benefits",0]
[2017,"January 1, 2016 - December 31, 2016",null,"Fort Frances Power Corporation","Administrative and General Expenses","5646","Employee Pensions and OPEB",0]
[2017,"January 1, 2016 - December 31, 2016",null,"Fort Frances Power Corporation","Administrative and General Expenses","5647","Employee Sick Leave",0]
[2017,"January 1, 2016 - December 31, 2016",null,"Fort Frances Power Corporation","Administrative and General Expenses","5650","Franchise Requirements",0]
[2017,"January 1, 2016 - December 31, 2016",null,"Fort Frances Power Corporation","Administrative and General Expenses","5655","Regulatory Expenses",17371.87]
[2017,"January 1, 2016 - December 31, 2016",null,"Fort Frances Power Corporation","Administrative and General Expenses","5660","General Advertising Expenses",6283.78]
[2017,"January 1, 2016 - December 31, 2016",null,"Fort Frances Power Corporation","Administrative and General Expenses","5665","Miscellaneous General Expenses",69127.100000000006]
[2017,"January 1, 2016 - December 31, 2016",null,"Fort Frances Power Corporation","Administrative and General Expenses","5670","Rent",13284]
[2017,"January 1, 2016 - December 31, 2016",null,"Fort Frances Power Corporation","Administrative and General Expenses","5672","Lease Payment Expense",0]
[2017,"January 1, 2016 - December 31, 2016",null,"Fort Frances Power Corporation","Administrative and General Expenses","5675","Maintenance of General Plant",0]
[2017,"January 1, 2016 - December 31, 2016",null,"Fort Frances Power Corporation","Administrative and General Expenses","5680","Electrical Safety Authority Fees",4966.8999999999996]
[2017,"January 1, 2016 - December 31, 2016",null,"Fort Frances Power Corporation","Administrative and General Expenses","5681","Special Purpose Charge Expense",0]
[2017,"January 1, 2016 - December 31, 2016",null,"Fort Frances Power Corporation","Administrative and General Expenses","5685","Independent Market Operator Fees and Penalties",4389.45]
[2017,"January 1, 2016 - December 31, 2016",null,"Fort Frances Power Corporation","Administrative and General Expenses","5695","OM&A Contra",0]
[2017,"January 1, 2016 - December 31, 2016",null,"Fort Frances Power Corporation","Administrative and General Expenses Total",null,null,568167.82999999996]
[2017,"January 1, 2016 - December 31, 2016",null,"Fort Frances Power Corporation","Billing and Collecting","5305","Supervision",0]
[2017,"January 1, 2016 - December 31, 2016",null,"Fort Frances Power Corporation","Billing and Collecting","5310","Meter Reading Expense",8176.76]
[2017,"January 1, 2016 - December 31, 2016",null,"Fort Frances Power Corporation","Billing and Collecting","5315","Customer Billing",159312.92000000001]
[2017,"January 1, 2016 - December 31, 2016",null,"Fort Frances Power Corporation","Billing and Collecting","5320","Collecting",102510.12]
[2017,"January 1, 2016 - December 31, 2016",null,"Fort Frances Power Corporation","Billing and Collecting","5325","Collecting- Cash Over and Short",0]
[2017,"January 1, 2016 - December 31, 2016",null,"Fort Frances Power Corporation","Billing and Collecting","5330","Collection Charges",0]
[2017,"January 1, 2016 - December 31, 2016",null,"Fort Frances Power Corporation","Billing and Collecting","5335","Bad Debt Expense",8764.4599999999991]
[2017,"January 1, 2016 - December 31, 2016",null,"Fort Frances Power Corporation","Billing and Collecting","5340","Miscellaneous Customer Accounts Expenses",0]
[2017,"January 1, 2016 - December 31, 2016",null,"Fort Frances Power Corporation","Billing and Collecting Total",null,null,278764.26]
[2017,"January 1, 2016 - December 31, 2016",null,"Fort Frances Power Corporation","Community Relations","5405","Supervision",30894.52]
[2017,"January 1, 2016 - December 31, 2016",null,"Fort Frances Power Corporation","Community Relations","5410","Community Relations - Sundry",30508.41]
[2017,"January 1, 2016 - December 31, 2016",null,"Fort Frances Power Corporation","Community Relations","5415","Energy Conservation",517.09]
[2017,"January 1, 2016 - December 31, 2016",null,"Fort Frances Power Corporation","Community Relations","5420","Community Safety Program",1944.8]
[2017,"January 1, 2016 - December 31, 2016",null,"Fort Frances Power Corporation","Community Relations","5425","Miscellaneous Customer Service and Informational Expenses",0]
[2017,"January 1, 2016 - December 31, 2016",null,"Fort Frances Power Corporation","Community Relations Total",null,null,63864.82]
[2017,"January 1, 2016 - December 31, 2016",null,"Fort Frances Power Corporation","Distribution Expenses - Operation","5005","Operation Supervision and Engineering",147824.32000000001]
[2017,"January 1, 2016 - December 31, 2016",null,"Fort Frances Power Corporation","Distribution Expenses - Operation","5010","Load Dispatching",0]
[2017,"January 1, 2016 - December 31, 2016",null,"Fort Frances Power Corporation","Distribution Expenses - Operation","5012","Station Buildings and Fixtures Expense",66895.460000000006]
[2017,"January 1, 2016 - December 31, 2016",null,"Fort Frances Power Corporation","Distribution Expenses - Operation","5014","Transformer Station Equipment - Operation Labour",6703.74]
[2017,"January 1, 2016 - December 31, 2016",null,"Fort Frances Power Corporation","Distribution Expenses - Operation","5015","Transformer Station Equipment - Operation Supplies and Expenses",8164.78]
[2017,"January 1, 2016 - December 31, 2016",null,"Fort Frances Power Corporation","Distribution Expenses - Operation","5016","Distribution Station Equipment - Operation Labour",0]
[2017,"January 1, 2016 - December 31, 2016",null,"Fort Frances Power Corporation","Distribution Expenses - Operation","5017","Distribution Station Equipment - Operation Supplies and Expenses",568.74]
[2017,"January 1, 2016 - December 31, 2016",null,"Fort Frances Power Corporation","Distribution Expenses - Operation","5020","Overhead Distribution Lines and Feeders - Operation Labour",10076.64]
[2017,"January 1, 2016 - December 31, 2016",null,"Fort Frances Power Corporation","Distribution Expenses - Operation","5025","Overhead Distribution Lines and Feeders - Operation Supplies and Expenses",5022]
[2017,"January 1, 2016 - December 31, 2016",null,"Fort Frances Power Corporation","Distribution Expenses - Operation","5030","Overhead Subtransmission Feeders - Operation",0]
[2017,"January 1, 2016 - December 31, 2016",null,"Fort Frances Power Corporation","Distribution Expenses - Operation","5035","Overhead Distribution Transformers- Operation",0]
[2017,"January 1, 2016 - December 31, 2016",null,"Fort Frances Power Corporation","Distribution Expenses - Operation","5040","Underground Distribution Lines and Feeders - Operation Labour",33300.71]
[2017,"January 1, 2016 - December 31, 2016",null,"Fort Frances Power Corporation","Distribution Expenses - Operation","5045","Underground Distribution Lines and Feeders - Operation Supplies and Expenses",5028.7299999999996]
[2017,"January 1, 2016 - December 31, 2016",null,"Fort Frances Power Corporation","Distribution Expenses - Operation","5050","Underground Subtransmission Feeders - Operation",0]
[2017,"January 1, 2016 - December 31, 2016",null,"Fort Frances Power Corporation","Distribution Expenses - Operation","5055","Underground Distribution Transformers - Operation",0]
[2017,"January 1, 2016 - December 31, 2016",null,"Fort Frances Power Corporation","Distribution Expenses - Operation","5060","Street Lighting and Signal System Expense",0]
[2017,"January 1, 2016 - December 31, 2016",null,"Fort Frances Power Corporation","Distribution Expenses - Operation","5065","Meter Expense",12451.86]
[2017,"January 1, 2016 - December 31, 2016",null,"Fort Frances Power Corporation","Distribution Expenses - Operation","5070","Customer Premises - Operation Labour",0]
[2017,"January 1, 2016 - December 31, 2016",null,"Fort Frances Power Corporation","Distribution Expenses - Operation","5075","Customer Premises - Materials and Expenses",590]
[2017,"January 1, 2016 - December 31, 2016",null,"Fort Frances Power Corporation","Distribution Expenses - Operation","5085","Miscellaneous Distribution Expense",218294.86]
[2017,"January 1, 2016 - December 31, 2016",null,"Fort Frances Power Corporation","Distribution Expenses - Operation","5090","Underground Distribution Lines and Feeders - Rental Paid",0]
[2017,"January 1, 2016 - December 31, 2016",null,"Fort Frances Power Corporation","Distribution Expenses - Operation","5095","Overhead Distribution Lines and Feeders - Rental Paid",0]
[2017,"January 1, 2016 - December 31, 2016",null,"Fort Frances Power Corporation","Distribution Expenses - Operation","5096","Other Rent",0]
[2017,"January 1, 2016 - December 31, 2016",null,"Fort Frances Power Corporation","Distribution Expenses - Operation Total",null,null,514921.84]
[2017,"January 1, 2016 - December 31, 2016",null,"Fort Frances Power Corporation","Distribution Expenses – Maintenance","5105","Maintenance Supervision and Engineering",64690.720000000001]
[2017,"January 1, 2016 - December 31, 2016",null,"Fort Frances Power Corporation","Distribution Expenses – Maintenance","5110","Maintenance of Buildings and Fixtures - Distribution Stations",0]
[2017,"January 1, 2016 - December 31, 2016",null,"Fort Frances Power Corporation","Distribution Expenses – Maintenance","5112","Maintenance of Transformer Station Equipment",24152.43]
[2017,"January 1, 2016 - December 31, 2016",null,"Fort Frances Power Corporation","Distribution Expenses – Maintenance","5114","Maintenance of Distribution Station Equipment",0]
[2017,"January 1, 2016 - December 31, 2016",null,"Fort Frances Power Corporation","Distribution Expenses – Maintenance","5120","Maintenance of Poles, Towers and Fixtures",75123.929999999993]
[2017,"January 1, 2016 - December 31, 2016",null,"Fort Frances Power Corporation","Distribution Expenses – Maintenance","5125","Maintenance of Overhead Conductors and Devices",58120.58]
[2017,"January 1, 2016 - December 31, 2016",null,"Fort Frances Power Corporation","Distribution Expenses – Maintenance","5130","Maintenance of Overhead Services",148.83000000000001]
[2017,"January 1, 2016 - December 31, 2016",null,"Fort Frances Power Corporation","Distribution Expenses – Maintenance","5135","Overhead Distribution Lines and Feeders - Right of Way",30752.27]
[2017,"January 1, 2016 - December 31, 2016",null,"Fort Frances Power Corporation","Distribution Expenses – Maintenance","5145","Maintenance of Underground Conduit",0]
[2017,"January 1, 2016 - December 31, 2016",null,"Fort Frances Power Corporation","Distribution Expenses – Maintenance","5150","Maintenance of Underground Conductors and Devices",12601.6]
[2017,"January 1, 2016 - December 31, 2016",null,"Fort Frances Power Corporation","Distribution Expenses – Maintenance","5155","Maintenance of Underground Services",0]
[2017,"January 1, 2016 - December 31, 2016",null,"Fort Frances Power Corporation","Distribution Expenses – Maintenance","5160","Maintenance of Line Transformers",0]
[2017,"January 1, 2016 - December 31, 2016",null,"Fort Frances Power Corporation","Distribution Expenses – Maintenance","5165","Maintenance of Street Lighting and Signal Systems",0]
[2017,"January 1, 2016 - December 31, 2016",null,"Fort Frances Power Corporation","Distribution Expenses – Maintenance","5170","Sentinel Lights - Labour",0]
[2017,"January 1, 2016 - December 31, 2016",null,"Fort Frances Power Corporation","Distribution Expenses – Maintenance","5172","Sentinel Lights - Materials and Expenses",0]
[2017,"January 1, 2016 - December 31, 2016",null,"Fort Frances Power Corporation","Distribution Expenses – Maintenance","5175","Maintenance of Meters",41600.620000000003]
[2017,"January 1, 2016 - December 31, 2016",null,"Fort Frances Power Corporation","Distribution Expenses – Maintenance","5178","Customer Installations Expenses- Leased Property",0]
[2017,"January 1, 2016 - December 31, 2016",null,"Fort Frances Power Corporation","Distribution Expenses – Maintenance","5195","Maintenance of Other Installations on Customer Premises",0]
[2017,"January 1, 2016 - December 31, 2016",null,"Fort Frances Power Corporation","Distribution Expenses – Maintenance Total",null,null,307190.98]
[2017,"January 1, 2016 - December 31, 2016",null,"Fort Frances Power Corporation","Other Expenses","5205","Purchase of Transmission and System Services",0]
[2017,"January 1, 2016 - December 31, 2016",null,"Fort Frances Power Corporation","Other Expenses","5210","Transmission Charges",0]
[2017,"January 1, 2016 - December 31, 2016",null,"Fort Frances Power Corporation","Other Expenses","5215","Transmission Charges Recovered",0]
[2017,"January 1, 2016 - December 31, 2016",null,"Fort Frances Power Corporation","Other Expenses Total",null,null,0]
[2017,"January 1, 2016 - December 31, 2016",null,"Greater Sudbury Hydro Inc.","Administrative and General Expenses","5505","Supervision",0]
[2017,"January 1, 2016 - December 31, 2016",null,"Greater Sudbury Hydro Inc.","Administrative and General Expenses","5510","Demonstrating and Selling Expense",0]
[2017,"January 1, 2016 - December 31, 2016",null,"Greater Sudbury Hydro Inc.","Administrative and General Expenses","5515","Advertising Expense",0]
[2017,"January 1, 2016 - December 31, 2016",null,"Greater Sudbury Hydro Inc.","Administrative and General Expenses","5520","Miscellaneous Sales Expense",0]
[2017,"January 1, 2016 - December 31, 2016",null,"Greater Sudbury Hydro Inc.","Administrative and General Expenses","5605","Executive Salaries and Expenses",818992.19]
[2017,"January 1, 2016 - December 31, 2016",null,"Greater Sudbury Hydro Inc.","Administrative and General Expenses","5610","Management Salaries and Expenses",477575.6]
[2017,"January 1, 2016 - December 31, 2016",null,"Greater Sudbury Hydro Inc.","Administrative and General Expenses","5615","General Administrative Salaries and Expenses",814680.32]
[2017,"January 1, 2016 - December 31, 2016",null,"Greater Sudbury Hydro Inc.","Administrative and General Expenses","5620","Office Supplies and Expenses",214321.43]
[2017,"January 1, 2016 - December 31, 2016",null,"Greater Sudbury Hydro Inc.","Administrative and General Expenses","5625","Administrative Expense Transferred/Credit",0]
[2017,"January 1, 2016 - December 31, 2016",null,"Greater Sudbury Hydro Inc.","Administrative and General Expenses","5630","Outside Services Employed",34332.480000000003]
[2017,"January 1, 2016 - December 31, 2016",null,"Greater Sudbury Hydro Inc.","Administrative and General Expenses","5635","Property Insurance",0]
[2017,"January 1, 2016 - December 31, 2016",null,"Greater Sudbury Hydro Inc.","Administrative and General Expenses","5640","Injuries and Damages",0]
[2017,"January 1, 2016 - December 31, 2016",null,"Greater Sudbury Hydro Inc.","Administrative and General Expenses","5645","OMERS Pensions and Benefits",0]
[2017,"January 1, 2016 - December 31, 2016",null,"Greater Sudbury Hydro Inc.","Administrative and General Expenses","5646","Employee Pensions and OPEB",920549]
[2017,"January 1, 2016 - December 31, 2016",null,"Greater Sudbury Hydro Inc.","Administrative and General Expenses","5647","Employee Sick Leave",0]
[2017,"January 1, 2016 - December 31, 2016",null,"Greater Sudbury Hydro Inc.","Administrative and General Expenses","5650","Franchise Requirements",0]
[2017,"January 1, 2016 - December 31, 2016",null,"Greater Sudbury Hydro Inc.","Administrative and General Expenses","5655","Regulatory Expenses",444376.89]
[2017,"January 1, 2016 - December 31, 2016",null,"Greater Sudbury Hydro Inc.","Administrative and General Expenses","5660","General Advertising Expenses",62253.61]
[2017,"January 1, 2016 - December 31, 2016",null,"Greater Sudbury Hydro Inc.","Administrative and General Expenses","5665","Miscellaneous General Expenses",500156.18]
[2017,"January 1, 2016 - December 31, 2016",null,"Greater Sudbury Hydro Inc.","Administrative and General Expenses","5670","Rent",42000]
[2017,"January 1, 2016 - December 31, 2016",null,"Greater Sudbury Hydro Inc.","Administrative and General Expenses","5672","Lease Payment Expense",0]
[2017,"January 1, 2016 - December 31, 2016",null,"Greater Sudbury Hydro Inc.","Administrative and General Expenses","5675","Maintenance of General Plant",619142.51]
[2017,"January 1, 2016 - December 31, 2016",null,"Greater Sudbury Hydro Inc.","Administrative and General Expenses","5680","Electrical Safety Authority Fees",0]
[2017,"January 1, 2016 - December 31, 2016",null,"Greater Sudbury Hydro Inc.","Administrative and General Expenses","5681","Special Purpose Charge Expense",0]
[2017,"January 1, 2016 - December 31, 2016",null,"Greater Sudbury Hydro Inc.","Administrative and General Expenses","5685","Independent Market Operator Fees and Penalties",0]
[2017,"January 1, 2016 - December 31, 2016",null,"Greater Sudbury Hydro Inc.","Administrative and General Expenses","5695","OM&A Contra",0]
[2017,"January 1, 2016 - December 31, 2016",null,"Greater Sudbury Hydro Inc.","Administrative and General Expenses Total",null,null,4948380.21]
[2017,"January 1, 2016 - December 31, 2016",null,"Greater Sudbury Hydro Inc.","Billing and Collecting","5305","Supervision",0]
[2017,"January 1, 2016 - December 31, 2016",null,"Greater Sudbury Hydro Inc.","Billing and Collecting","5310","Meter Reading Expense",19419.900000000001]
[2017,"January 1, 2016 - December 31, 2016",null,"Greater Sudbury Hydro Inc.","Billing and Collecting","5315","Customer Billing",1637728.85]
[2017,"January 1, 2016 - December 31, 2016",null,"Greater Sudbury Hydro Inc.","Billing and Collecting","5320","Collecting",199013.83]
[2017,"January 1, 2016 - December 31, 2016",null,"Greater Sudbury Hydro Inc.","Billing and Collecting","5325","Collecting- Cash Over and Short",0]
[2017,"January 1, 2016 - December 31, 2016",null,"Greater Sudbury Hydro Inc.","Billing and Collecting","5330","Collection Charges",0]
[2017,"January 1, 2016 - December 31, 2016",null,"Greater Sudbury Hydro Inc.","Billing and Collecting","5335","Bad Debt Expense",381999.96]
[2017,"January 1, 2016 - December 31, 2016",null,"Greater Sudbury Hydro Inc.","Billing and Collecting","5340","Miscellaneous Customer Accounts Expenses",67722.92]
[2017,"January 1, 2016 - December 31, 2016",null,"Greater Sudbury Hydro Inc.","Billing and Collecting Total",null,null,2305885.46]
[2017,"January 1, 2016 - December 31, 2016",null,"Greater Sudbury Hydro Inc.","Community Relations","5405","Supervision",0]
[2017,"January 1, 2016 - December 31, 2016",null,"Greater Sudbury Hydro Inc.","Community Relations","5410","Community Relations - Sundry",0]
[2017,"January 1, 2016 - December 31, 2016",null,"Greater Sudbury Hydro Inc.","Community Relations","5415","Energy Conservation",-0.01]
[2017,"January 1, 2016 - December 31, 2016",null,"Greater Sudbury Hydro Inc.","Community Relations","5420","Community Safety Program",0]
[2017,"January 1, 2016 - December 31, 2016",null,"Greater Sudbury Hydro Inc.","Community Relations","5425","Miscellaneous Customer Service and Informational Expenses",0]
[2017,"January 1, 2016 - December 31, 2016",null,"Greater Sudbury Hydro Inc.","Community Relations Total",null,null,-0.01]
[2017,"January 1, 2016 - December 31, 2016",null,"Greater Sudbury Hydro Inc.","Distribution Expenses - Operation","5005","Operation Supervision and Engineering",966814.32]
[2017,"January 1, 2016 - December 31, 2016",null,"Greater Sudbury Hydro Inc.","Distribution Expenses - Operation","5010","Load Dispatching",662620.19999999995]
[2017,"January 1, 2016 - December 31, 2016",null,"Greater Sudbury Hydro Inc.","Distribution Expenses - Operation","5012","Station Buildings and Fixtures Expense",299571.86]
[2017,"January 1, 2016 - December 31, 2016",null,"Greater Sudbury Hydro Inc.","Distribution Expenses - Operation","5014","Transformer Station Equipment - Operation Labour",0]
[2017,"January 1, 2016 - December 31, 2016",null,"Greater Sudbury Hydro Inc.","Distribution Expenses - Operation","5015","Transformer Station Equipment - Operation Supplies and Expenses",0]
[2017,"January 1, 2016 - December 31, 2016",null,"Greater Sudbury Hydro Inc.","Distribution Expenses - Operation","5016","Distribution Station Equipment - Operation Labour",314732.05]
[2017,"January 1, 2016 - December 31, 2016",null,"Greater Sudbury Hydro Inc.","Distribution Expenses - Operation","5017","Distribution Station Equipment - Operation Supplies and Expenses",149153.94]
[2017,"January 1, 2016 - December 31, 2016",null,"Greater Sudbury Hydro Inc.","Distribution Expenses - Operation","5020","Overhead Distribution Lines and Feeders - Operation Labour",137060.95000000001]
[2017,"January 1, 2016 - December 31, 2016",null,"Greater Sudbury Hydro Inc.","Distribution Expenses - Operation","5025","Overhead Distribution Lines and Feeders - Operation Supplies and Expenses",452578.7]
[2017,"January 1, 2016 - December 31, 2016",null,"Greater Sudbury Hydro Inc.","Distribution Expenses - Operation","5030","Overhead Subtransmission Feeders - Operation",35653.120000000003]
[2017,"January 1, 2016 - December 31, 2016",null,"Greater Sudbury Hydro Inc.","Distribution Expenses - Operation","5035","Overhead Distribution Transformers- Operation",119894.74]
[2017,"January 1, 2016 - December 31, 2016",null,"Greater Sudbury Hydro Inc.","Distribution Expenses - Operation","5040","Underground Distribution Lines and Feeders - Operation Labour",9027.3799999999992]
[2017,"January 1, 2016 - December 31, 2016",null,"Greater Sudbury Hydro Inc.","Distribution Expenses - Operation","5045","Underground Distribution Lines and Feeders - Operation Supplies and Expenses",10863.16]
[2017,"January 1, 2016 - December 31, 2016",null,"Greater Sudbury Hydro Inc.","Distribution Expenses - Operation","5050","Underground Subtransmission Feeders - Operation",0]
[2017,"January 1, 2016 - December 31, 2016",null,"Greater Sudbury Hydro Inc.","Distribution Expenses - Operation","5055","Underground Distribution Transformers - Operation",135473.04999999999]
[2017,"January 1, 2016 - December 31, 2016",null,"Greater Sudbury Hydro Inc.","Distribution Expenses - Operation","5060","Street Lighting and Signal System Expense",0]
[2017,"January 1, 2016 - December 31, 2016",null,"Greater Sudbury Hydro Inc.","Distribution Expenses - Operation","5065","Meter Expense",684735.64]
[2017,"January 1, 2016 - December 31, 2016",null,"Greater Sudbury Hydro Inc.","Distribution Expenses - Operation","5070","Customer Premises - Operation Labour",617858.05000000005]
[2017,"January 1, 2016 - December 31, 2016",null,"Greater Sudbury Hydro Inc.","Distribution Expenses - Operation","5075","Customer Premises - Materials and Expenses",0]
[2017,"January 1, 2016 - December 31, 2016",null,"Greater Sudbury Hydro Inc.","Distribution Expenses - Operation","5085","Miscellaneous Distribution Expense",1282455.3700000001]
[2017,"January 1, 2016 - December 31, 2016",null,"Greater Sudbury Hydro Inc.","Distribution Expenses - Operation","5090","Underground Distribution Lines and Feeders - Rental Paid",0]
[2017,"January 1, 2016 - December 31, 2016",null,"Greater Sudbury Hydro Inc.","Distribution Expenses - Operation","5095","Overhead Distribution Lines and Feeders - Rental Paid",75781.5]
[2017,"January 1, 2016 - December 31, 2016",null,"Greater Sudbury Hydro Inc.","Distribution Expenses - Operation","5096","Other Rent",0]
[2017,"January 1, 2016 - December 31, 2016",null,"Greater Sudbury Hydro Inc.","Distribution Expenses - Operation Total",null,null,5954274.0300000003]
[2017,"January 1, 2016 - December 31, 2016",null,"Greater Sudbury Hydro Inc.","Distribution Expenses – Maintenance","5105","Maintenance Supervision and Engineering",0]
[2017,"January 1, 2016 - December 31, 2016",null,"Greater Sudbury Hydro Inc.","Distribution Expenses – Maintenance","5110","Maintenance of Buildings and Fixtures - Distribution Stations",23528.84]
[2017,"January 1, 2016 - December 31, 2016",null,"Greater Sudbury Hydro Inc.","Distribution Expenses – Maintenance","5112","Maintenance of Transformer Station Equipment",0]
[2017,"January 1, 2016 - December 31, 2016",null,"Greater Sudbury Hydro Inc.","Distribution Expenses – Maintenance","5114","Maintenance of Distribution Station Equipment",118301.28]
[2017,"January 1, 2016 - December 31, 2016",null,"Greater Sudbury Hydro Inc.","Distribution Expenses – Maintenance","5120","Maintenance of Poles, Towers and Fixtures",322912.96999999997]
[2017,"January 1, 2016 - December 31, 2016",null,"Greater Sudbury Hydro Inc.","Distribution Expenses – Maintenance","5125","Maintenance of Overhead Conductors and Devices",338685.17]
[2017,"January 1, 2016 - December 31, 2016",null,"Greater Sudbury Hydro Inc.","Distribution Expenses – Maintenance","5130","Maintenance of Overhead Services",201097.86]
[2017,"January 1, 2016 - December 31, 2016",null,"Greater Sudbury Hydro Inc.","Distribution Expenses – Maintenance","5135","Overhead Distribution Lines and Feeders - Right of Way",618115.72]
[2017,"January 1, 2016 - December 31, 2016",null,"Greater Sudbury Hydro Inc.","Distribution Expenses – Maintenance","5145","Maintenance of Underground Conduit",109314.9]
[2017,"January 1, 2016 - December 31, 2016",null,"Greater Sudbury Hydro Inc.","Distribution Expenses – Maintenance","5150","Maintenance of Underground Conductors and Devices",102164.62]
[2017,"January 1, 2016 - December 31, 2016",null,"Greater Sudbury Hydro Inc.","Distribution Expenses – Maintenance","5155","Maintenance of Underground Services",123355.45]
[2017,"January 1, 2016 - December 31, 2016",null,"Greater Sudbury Hydro Inc.","Distribution Expenses – Maintenance","5160","Maintenance of Line Transformers",166675.35]
[2017,"January 1, 2016 - December 31, 2016",null,"Greater Sudbury Hydro Inc.","Distribution Expenses – Maintenance","5165","Maintenance of Street Lighting and Signal Systems",0]
[2017,"January 1, 2016 - December 31, 2016",null,"Greater Sudbury Hydro Inc.","Distribution Expenses – Maintenance","5170","Sentinel Lights - Labour",0]
[2017,"January 1, 2016 - December 31, 2016",null,"Greater Sudbury Hydro Inc.","Distribution Expenses – Maintenance","5172","Sentinel Lights - Materials and Expenses",0]
[2017,"January 1, 2016 - December 31, 2016",null,"Greater Sudbury Hydro Inc.","Distribution Expenses – Maintenance","5175","Maintenance of Meters",38010.800000000003]
[2017,"January 1, 2016 - December 31, 2016",null,"Greater Sudbury Hydro Inc.","Distribution Expenses – Maintenance","5178","Customer Installations Expenses- Leased Property",0]
[2017,"January 1, 2016 - December 31, 2016",null,"Greater Sudbury Hydro Inc.","Distribution Expenses – Maintenance","5195","Maintenance of Other Installations on Customer Premises",0]
[2017,"January 1, 2016 - December 31, 2016",null,"Greater Sudbury Hydro Inc.","Distribution Expenses – Maintenance Total",null,null,2162162.96]
[2017,"January 1, 2016 - December 31, 2016",null,"Greater Sudbury Hydro Inc.","Other Expenses","5205","Purchase of Transmission and System Services",0]
[2017,"January 1, 2016 - December 31, 2016",null,"Greater Sudbury Hydro Inc.","Other Expenses","5210","Transmission Charges",0]
[2017,"January 1, 2016 - December 31, 2016",null,"Greater Sudbury Hydro Inc.","Other Expenses","5215","Transmission Charges Recovered",0]
[2017,"January 1, 2016 - December 31, 2016",null,"Greater Sudbury Hydro Inc.","Other Expenses Total",null,null,0]
[2017,"January 1, 2016 - December 31, 2016",null,"Grimsby Power Incorporated","Administrative and General Expenses","5505","Supervision",0]
[2017,"January 1, 2016 - December 31, 2016",null,"Grimsby Power Incorporated","Administrative and General Expenses","5510","Demonstrating and Selling Expense",0]
[2017,"January 1, 2016 - December 31, 2016",null,"Grimsby Power Incorporated","Administrative and General Expenses","5515","Advertising Expense",0]
[2017,"January 1, 2016 - December 31, 2016",null,"Grimsby Power Incorporated","Administrative and General Expenses","5520","Miscellaneous Sales Expense",0]
[2017,"January 1, 2016 - December 31, 2016",null,"Grimsby Power Incorporated","Administrative and General Expenses","5605","Executive Salaries and Expenses",260429.87]
[2017,"January 1, 2016 - December 31, 2016",null,"Grimsby Power Incorporated","Administrative and General Expenses","5610","Management Salaries and Expenses",266649.53999999998]
[2017,"January 1, 2016 - December 31, 2016",null,"Grimsby Power Incorporated","Administrative and General Expenses","5615","General Administrative Salaries and Expenses",358183.04]
[2017,"January 1, 2016 - December 31, 2016",null,"Grimsby Power Incorporated","Administrative and General Expenses","5620","Office Supplies and Expenses",45122.98]
[2017,"January 1, 2016 - December 31, 2016",null,"Grimsby Power Incorporated","Administrative and General Expenses","5625","Administrative Expense Transferred/Credit",0]
[2017,"January 1, 2016 - December 31, 2016",null,"Grimsby Power Incorporated","Administrative and General Expenses","5630","Outside Services Employed",155248.38]
[2017,"January 1, 2016 - December 31, 2016",null,"Grimsby Power Incorporated","Administrative and General Expenses","5635","Property Insurance",31567.56]
[2017,"January 1, 2016 - December 31, 2016",null,"Grimsby Power Incorporated","Administrative and General Expenses","5640","Injuries and Damages",0]
[2017,"January 1, 2016 - December 31, 2016",null,"Grimsby Power Incorporated","Administrative and General Expenses","5645","OMERS Pensions and Benefits",7861.67]
[2017,"January 1, 2016 - December 31, 2016",null,"Grimsby Power Incorporated","Administrative and General Expenses","5646","Employee Pensions and OPEB",0]
[2017,"January 1, 2016 - December 31, 2016",null,"Grimsby Power Incorporated","Administrative and General Expenses","5647","Employee Sick Leave",0]
[2017,"January 1, 2016 - December 31, 2016",null,"Grimsby Power Incorporated","Administrative and General Expenses","5650","Franchise Requirements",0]
[2017,"January 1, 2016 - December 31, 2016",null,"Grimsby Power Incorporated","Administrative and General Expenses","5655","Regulatory Expenses",110366.83]
[2017,"January 1, 2016 - December 31, 2016",null,"Grimsby Power Incorporated","Administrative and General Expenses","5660","General Advertising Expenses",3787.32]
[2017,"January 1, 2016 - December 31, 2016",null,"Grimsby Power Incorporated","Administrative and General Expenses","5665","Miscellaneous General Expenses",92765.82]
[2017,"January 1, 2016 - December 31, 2016",null,"Grimsby Power Incorporated","Administrative and General Expenses","5670","Rent",0]
[2017,"January 1, 2016 - December 31, 2016",null,"Grimsby Power Incorporated","Administrative and General Expenses","5672","Lease Payment Expense",0]
[2017,"January 1, 2016 - December 31, 2016",null,"Grimsby Power Incorporated","Administrative and General Expenses","5675","Maintenance of General Plant",133653.14000000001]
[2017,"January 1, 2016 - December 31, 2016",null,"Grimsby Power Incorporated","Administrative and General Expenses","5680","Electrical Safety Authority Fees",0]
[2017,"January 1, 2016 - December 31, 2016",null,"Grimsby Power Incorporated","Administrative and General Expenses","5681","Special Purpose Charge Expense",0]
[2017,"January 1, 2016 - December 31, 2016",null,"Grimsby Power Incorporated","Administrative and General Expenses","5685","Independent Market Operator Fees and Penalties",0]
[2017,"January 1, 2016 - December 31, 2016",null,"Grimsby Power Incorporated","Administrative and General Expenses","5695","OM&A Contra",0]
[2017,"January 1, 2016 - December 31, 2016",null,"Grimsby Power Incorporated","Administrative and General Expenses Total",null,null,1465636.15]
[2017,"January 1, 2016 - December 31, 2016",null,"Grimsby Power Incorporated","Billing and Collecting","5305","Supervision",39984.47]
[2017,"January 1, 2016 - December 31, 2016",null,"Grimsby Power Incorporated","Billing and Collecting","5310","Meter Reading Expense",62006.52]
[2017,"January 1, 2016 - December 31, 2016",null,"Grimsby Power Incorporated","Billing and Collecting","5315","Customer Billing",442413.75]
[2017,"January 1, 2016 - December 31, 2016",null,"Grimsby Power Incorporated","Billing and Collecting","5320","Collecting",24340.05]
[2017,"January 1, 2016 - December 31, 2016",null,"Grimsby Power Incorporated","Billing and Collecting","5325","Collecting- Cash Over and Short",0]
[2017,"January 1, 2016 - December 31, 2016",null,"Grimsby Power Incorporated","Billing and Collecting","5330","Collection Charges",1278.95]
[2017,"January 1, 2016 - December 31, 2016",null,"Grimsby Power Incorporated","Billing and Collecting","5335","Bad Debt Expense",20106.509999999998]
[2017,"January 1, 2016 - December 31, 2016",null,"Grimsby Power Incorporated","Billing and Collecting","5340","Miscellaneous Customer Accounts Expenses",723.13]
[2017,"January 1, 2016 - December 31, 2016",null,"Grimsby Power Incorporated","Billing and Collecting Total",null,null,590853.38]
[2017,"January 1, 2016 - December 31, 2016",null,"Grimsby Power Incorporated","Community Relations","5405","Supervision",0]
[2017,"January 1, 2016 - December 31, 2016",null,"Grimsby Power Incorporated","Community Relations","5410","Community Relations - Sundry",0]
[2017,"January 1, 2016 - December 31, 2016",null,"Grimsby Power Incorporated","Community Relations","5415","Energy Conservation",0]
[2017,"January 1, 2016 - December 31, 2016",null,"Grimsby Power Incorporated","Community Relations","5420","Community Safety Program",0]
[2017,"January 1, 2016 - December 31, 2016",null,"Grimsby Power Incorporated","Community Relations","5425","Miscellaneous Customer Service and Informational Expenses",0]
[2017,"January 1, 2016 - December 31, 2016",null,"Grimsby Power Incorporated","Community Relations Total",null,null,0]
[2017,"January 1, 2016 - December 31, 2016",null,"Grimsby Power Incorporated","Distribution Expenses - Operation","5005","Operation Supervision and Engineering",177026.42]
[2017,"January 1, 2016 - December 31, 2016",null,"Grimsby Power Incorporated","Distribution Expenses - Operation","5010","Load Dispatching",76503.12]
[2017,"January 1, 2016 - December 31, 2016",null,"Grimsby Power Incorporated","Distribution Expenses - Operation","5012","Station Buildings and Fixtures Expense",23719.32]
[2017,"January 1, 2016 - December 31, 2016",null,"Grimsby Power Incorporated","Distribution Expenses - Operation","5040","Underground Distribution Lines and Feeders - Operation Labour",7416.94]
[2017,"January 1, 2016 - December 31, 2016",null,"Grimsby Power Incorporated","Distribution Expenses - Operation","5075","Customer Premises - Materials and Expenses",9606.42]
[2017,"January 1, 2016 - December 31, 2016",null,"Grimsby Power Incorporated","Distribution Expenses – Maintenance","5150","Maintenance of Underground Conductors and Devices",18219.57]
[2017,"January 1, 2016 - December 31, 2016",null,"Guelph Hydro Electric Systems Inc.","Administrative and General Expenses","5610","Management Salaries and Expenses",2602274.6]
[2017,"January 1, 2016 - December 31, 2016",null,"Guelph Hydro Electric Systems Inc.","Administrative and General Expenses","5672","Lease Payment Expense",0]
[2017,"January 1, 2016 - December 31, 2016",null,"Guelph Hydro Electric Systems Inc.","Billing and Collecting Total",null,null,2684781.83]
[2017,"January 1, 2016 - December 31, 2016",null,"Guelph Hydro Electric Systems Inc.","Community Relations","5425","Miscellaneous Customer Service and Informational Expenses",29086.66]
[2017,"January 1, 2016 - December 31, 2016",null,"Guelph Hydro Electric Systems Inc.","Distribution Expenses - Operation","5050","Underground Subtransmission Feeders - Operation",0]
[2017,"January 1, 2016 - December 31, 2016",null,"Guelph Hydro Electric Systems Inc.","Distribution Expenses – Maintenance","5145","Maintenance of Underground Conduit",79699.13]
[2017,"January 1, 2016 - December 31, 2016",null,"Haldimand County Hydro Inc.","Administrative and General Expenses","5505","Supervision",0]
[2017,"January 1, 2016 - December 31, 2016",null,"Haldimand County Hydro Inc.","Administrative and General Expenses","5660","General Advertising Expenses",0]
[2017,"January 1, 2016 - December 31, 2016",null,"Haldimand County Hydro Inc.","Administrative and General Expenses","5681","Special Purpose Charge Expense",0]
[2017,"January 1, 2016 - December 31, 2016",null,"Haldimand County Hydro Inc.","Community Relations","5415","Energy Conservation",0]
[2017,"January 1, 2016 - December 31, 2016",null,"Haldimand County Hydro Inc.","Distribution Expenses - Operation","5040","Underground Distribution Lines and Feeders - Operation Labour",71139.42]
[2017,"January 1, 2016 - December 31, 2016",null,"Haldimand County Hydro Inc.","Distribution Expenses – Maintenance","5130","Maintenance of Overhead Services",123747.73]
[2017,"January 1, 2016 - December 31, 2016",null,"Haldimand County Hydro Inc.","Other Expenses","5215","Transmission Charges Recovered",0]
[2017,"January 1, 2016 - December 31, 2016",null,"Halton Hills Hydro Inc.","Administrative and General Expenses","5660","General Advertising Expenses",11350.08]
[2017,"January 1, 2016 - December 31, 2016",null,"Halton Hills Hydro Inc.","Administrative and General Expenses","5665","Miscellaneous General Expenses",452944.67]
[2017,"January 1, 2016 - December 31, 2016",null,"Halton Hills Hydro Inc.","Billing and Collecting","5335","Bad Debt Expense",-24506.58]
[2017,"January 1, 2016 - December 31, 2016",null,"Halton Hills Hydro Inc.","Distribution Expenses - Operation","5035","Overhead Distribution Transformers- Operation",60478.1]
[2017,"January 1, 2016 - December 31, 2016",null,"Halton Hills Hydro Inc.","Distribution Expenses – Maintenance","5110","Maintenance of Buildings and Fixtures - Distribution Stations",0]
[2017,"January 1, 2016 - December 31, 2016",null,"Halton Hills Hydro Inc.","Other Expenses","5210","Transmission Charges",0]
[2017,"January 1, 2016 - December 31, 2016",null,"Hearst Power Distribution Company Limited","Administrative and General Expenses","5645","OMERS Pensions and Benefits",0]
[2017,"January 1, 2016 - December 31, 2016",null,"Hearst Power Distribution Company Limited","Administrative and General Expenses","5646","Employee Pensions and OPEB",0]
[2017,"January 1, 2016 - December 31, 2016",null,"Hearst Power Distribution Company Limited","Billing and Collecting","5330","Collection Charges",1138.97]
[2017,"January 1, 2016 - December 31, 2016",null,"Hearst Power Distribution Company Limited","Distribution Expenses - Operation","5016","Distribution Station Equipment - Operation Labour",0]
[2017,"January 1, 2016 - December 31, 2016",null,"Hearst Power Distribution Company Limited","Distribution Expenses - Operation","5090","Underground Distribution Lines and Feeders - Rental Paid",0]
[2017,"January 1, 2016 - December 31, 2016",null,"Hearst Power Distribution Company Limited","Distribution Expenses – Maintenance","5175","Maintenance of Meters",6599.45]
[2017,"January 1, 2016 - December 31, 2016",null,"Horizon Utilities Corporation","Administrative and General Expenses","5620","Office Supplies and Expenses",1953211.88]
[2017,"January 1, 2016 - December 31, 2016",null,"Horizon Utilities Corporation","Administrative and General Expenses","5645","OMERS Pensions and Benefits",1588855.94]
[2017,"January 1, 2016 - December 31, 2016",null,"Horizon Utilities Corporation","Administrative and General Expenses","5681","Special Purpose Charge Expense",0]
[2017,"January 1, 2016 - December 31, 2016",null,"Horizon Utilities Corporation","Community Relations Total",null,null,0]
[2017,"January 1, 2016 - December 31, 2016",null,"Horizon Utilities Corporation","Distribution Expenses - Operation","5075","Customer Premises - Materials and Expenses",76983.89]
[2017,"January 1, 2016 - December 31, 2016",null,"Horizon Utilities Corporation","Distribution Expenses – Maintenance","5150","Maintenance of Underground Conductors and Devices",686638.97]
[2017,"January 1, 2016 - December 31, 2016",null,"Hydro 2000 Inc.","Administrative and General Expenses","5510","Demonstrating and Selling Expense",0]
[2017,"January 1, 2016 - December 31, 2016",null,"Hydro 2000 Inc.","Administrative and General Expenses","5615","General Administrative Salaries and Expenses",6035.18]
[2017,"January 1, 2016 - December 31, 2016",null,"Hydro 2000 Inc.","Administrative and General Expenses","5675","Maintenance of General Plant",0]
[2017,"January 1, 2016 - December 31, 2016",null,"Hydro 2000 Inc.","Community Relations","5425","Miscellaneous Customer Service and Informational Expenses",0]
[2017,"January 1, 2016 - December 31, 2016",null,"Hydro 2000 Inc.","Distribution Expenses - Operation","5050","Underground Subtransmission Feeders - Operation",0]
[2017,"January 1, 2016 - December 31, 2016",null,"Hydro 2000 Inc.","Distribution Expenses – Maintenance","5120","Maintenance of Poles, Towers and Fixtures",5000]
[2017,"January 1, 2016 - December 31, 2016",null,"Hydro 2000 Inc.","Distribution Expenses – Maintenance","5150","Maintenance of Underground Conductors and Devices",0]
[2017,"January 1, 2016 - December 31, 2016",null,"Hydro Hawkesbury Inc.","Administrative and General Expenses","5510","Demonstrating and Selling Expense",0]
[2017,"January 1, 2016 - December 31, 2016",null,"Hydro Hawkesbury Inc.","Administrative and General Expenses","5672","Lease Payment Expense",0]
[2017,"January 1, 2016 - December 31, 2016",null,"Hydro Hawkesbury Inc.","Billing and Collecting Total",null,null,418864.38]
[2017,"January 1, 2016 - December 31, 2016",null,"Hydro Hawkesbury Inc.","Distribution Expenses - Operation","5025","Overhead Distribution Lines and Feeders - Operation Supplies and Expenses",969.65]
[2017,"January 1, 2016 - December 31, 2016",null,"Hydro Hawkesbury Inc.","Distribution Expenses - Operation","5050","Underground Subtransmission Feeders - Operation",0]
[2017,"January 1, 2016 - December 31, 2016",null,"Hydro Hawkesbury Inc.","Distribution Expenses – Maintenance","5120","Maintenance of Poles, Towers and Fixtures",14590.44]
[2017,"January 1, 2016 - December 31, 2016",null,"Hydro Hawkesbury Inc.","Other Expenses","5205","Purchase of Transmission and System Services",0]
[2017,"January 1, 2016 - December 31, 2016",null,"Hydro One Brampton Networks Inc.","Administrative and General Expenses","5650","Franchise Requirements",0]
[2017,"January 1, 2016 - December 31, 2016",null,"Hydro One Brampton Networks Inc.","Billing and Collecting","5320","Collecting",1225782.6100000001]
[2017,"January 1, 2016 - December 31, 2016",null,"Hydro One Brampton Networks Inc.","Billing and Collecting Total",null,null,6816342.3899999997]
[2017,"January 1, 2016 - December 31, 2016",null,"Hydro One Brampton Networks Inc.","Distribution Expenses - Operation","5025","Overhead Distribution Lines and Feeders - Operation Supplies and Expenses",82090.210000000006]
[2017,"January 1, 2016 - December 31, 2016",null,"Hydro One Brampton Networks Inc.","Distribution Expenses - Operation Total",null,null,7229707.6299999999]
[2017,"January 1, 2016 - December 31, 2016",null,"Hydro One Brampton Networks Inc.","Distribution Expenses – Maintenance Total",null,null,4995779.34]
[2017,"January 1, 2016 - December 31, 2016",null,"Hydro One Networks Inc.","Administrative and General Expenses","5635","Property Insurance",2920225.39]
[2017,"January 1, 2016 - December 31, 2016",null,"Hydro One Networks Inc.","Administrative and General Expenses","5660","General Advertising Expenses",0]
[2017,"January 1, 2016 - December 31, 2016",null,"Hydro One Networks Inc.","Billing and Collecting","5335","Bad Debt Expense",6785400.9900000002]
[2017,"January 1, 2016 - December 31, 2016",null,"Hydro One Networks Inc.","Distribution Expenses - Operation","5017","Distribution Station Equipment - Operation Supplies and Expenses",1545148.7]
[2017,"January 1, 2016 - December 31, 2016",null,"Hydro One Networks Inc.","Distribution Expenses – Maintenance","5110","Maintenance of Buildings and Fixtures - Distribution Stations",640722.29]
[2017,"January 1, 2016 - December 31, 2016",null,"Hydro One Networks Inc.","Distribution Expenses – Maintenance","5178","Customer Installations Expenses- Leased Property",0]
[2017,"January 1, 2016 - December 31, 2016",null,"Hydro One Remote Communities Inc.","Administrative and General Expenses","5635","Property Insurance",0]
[2017,"January 1, 2016 - December 31, 2016",null,"Hydro One Remote Communities Inc.","Administrative and General Expenses","5645","Employee Pensions and Benefits",0]
[2017,"January 1, 2016 - December 31, 2016",null,"Hydro One Remote Communities Inc.","Billing and Collecting","5320","Collecting",360201.11]
[2017,"January 1, 2016 - December 31, 2016",null,"Hydro One Remote Communities Inc.","Distribution Expenses - Operation","5020","Overhead Distribution Lines and Feeders - Operation Labour",0]
[2017,"January 1, 2016 - December 31, 2016",null,"Hydro One Remote Communities Inc.","Distribution Expenses - Operation","5096","Other Rent",0]
[2017,"January 1, 2016 - December 31, 2016",null,"Hydro One Remote Communities Inc.","Distribution Expenses – Maintenance","5170","Sentinel Lights - Labour",0]
[2017,"January 1, 2016 - December 31, 2016",null,"Hydro Ottawa Limited","Administrative and General Expenses","5630","Outside Services Employed",615749.6]
[2017,"January 1, 2016 - December 31, 2016",null,"Hydro Ottawa Limited","Administrative and General Expenses","5635","Property Insurance",621099.93000000005]
[2017,"January 1, 2016 - December 31, 2016",null,"Hydro Ottawa Limited","Administrative and General Expenses","5695","OM&A Contra",0]
[2017,"January 1, 2016 - December 31, 2016",null,"Hydro Ottawa Limited","Distribution Expenses - Operation","5012","Station Buildings and Fixtures Expense",572664.21]
[2017,"January 1, 2016 - December 31, 2016",null,"Hydro Ottawa Limited","Distribution Expenses - Operation","5070","Customer Premises - Operation Labour",0]
[2017,"January 1, 2016 - December 31, 2016",null,"Hydro Ottawa Limited","Distribution Expenses – Maintenance","5165","Maintenance of Street Lighting and Signal Systems",0]
[2017,"January 1, 2016 - December 31, 2016",null,"Innpower Corporation","Administrative and General Expenses","5605","Executive Salaries and Expenses",303507.81]
[2017,"January 1, 2016 - December 31, 2016",null,"Innpower Corporation","Administrative and General Expenses","5610","Management Salaries and Expenses",265824.53000000003]
[2017,"January 1, 2016 - December 31, 2016",null,"Innpower Corporation","Administrative and General Expenses","5685","Independent Market Operator Fees and Penalties",0]
[2017,"January 1, 2016 - December 31, 2016",null,"Innpower Corporation","Community Relations","5420","Community Safety Program",0]
[2017,"January 1, 2016 - December 31, 2016",null,"Innpower Corporation","Distribution Expenses - Operation","5065","Meter Expense",239834.51]
[2017,"January 1, 2016 - December 31, 2016",null,"Innpower Corporation","Distribution Expenses – Maintenance","5135","Overhead Distribution Lines and Feeders - Right of Way",383563.22]
[2017,"January 1, 2016 - December 31, 2016",null,"Innpower Corporation","Other Expenses Total",null,null,0]
[2017,"January 1, 2016 - December 31, 2016",null,"Kenora Hydro Electric Corporation Ltd.","Administrative and General Expenses","5605","Executive Salaries and Expenses",8160]
[2017,"January 1, 2016 - December 31, 2016",null,"Kenora Hydro Electric Corporation Ltd.","Administrative and General Expenses","5670","Rent",0]
[2017,"January 1, 2016 - December 31, 2016",null,"Kenora Hydro Electric Corporation Ltd.","Billing and Collecting","5340","Miscellaneous Customer Accounts Expenses",0]
[2017,"January 1, 2016 - December 31, 2016",null,"Kenora Hydro Electric Corporation Ltd.","Distribution Expenses - Operation","5040","Underground Distribution Lines and Feeders - Operation Labour",30097]
[2017,"January 1, 2016 - December 31, 2016",null,"Kenora Hydro Electric Corporation Ltd.","Distribution Expenses – Maintenance","5112","Maintenance of Transformer Station Equipment",0]
[2017,"January 1, 2016 - December 31, 2016",null,"Kenora Hydro Electric Corporation Ltd.","Distribution Expenses – Maintenance","5135","Overhead Distribution Lines and Feeders - Right of Way",118737]
[2017,"January 1, 2016 - December 31, 2016",null,"Kenora Hydro Electric Corporation Ltd.","Other Expenses Total",null,null,0]
[2017,"January 1, 2016 - December 31, 2016",null,"Kingston Hydro Corporation","Administrative and General Expenses","5647","Employee Sick Leave",0]
[2017,"January 1, 2016 - December 31, 2016",null,"Kingston Hydro Corporation","Billing and Collecting","5335","Bad Debt Expense",421215]
[2017,"January 1, 2016 - December 31, 2016",null,"Kingston Hydro Corporation","Distribution Expenses - Operation","5017","Distribution Station Equipment - Operation Supplies and Expenses",44777]
[2017,"January 1, 2016 - December 31, 2016",null,"Kingston Hydro Corporation","Distribution Expenses - Operation","5095","Overhead Distribution Lines and Feeders - Rental Paid",89997]
[2017,"January 1, 2016 - December 31, 2016",null,"Kingston Hydro Corporation","Distribution Expenses – Maintenance","5114","Maintenance of Distribution Station Equipment",259370]
[2017,"January 1, 2016 - December 31, 2016",null,"Kingston Hydro Corporation","Distribution Expenses – Maintenance","5178","Customer Installations Expenses- Leased Property",0]
[2017,"January 1, 2016 - December 31, 2016",null,"Kitchener-Wilmot Hydro Inc.","Administrative and General Expenses","5645","OMERS Pensions and Benefits",2218.64]
[2017,"January 1, 2016 - December 31, 2016",null,"Kitchener-Wilmot Hydro Inc.","Billing and Collecting","5305","Supervision",579453.15]
[2017,"January 1, 2016 - December 31, 2016",null,"Kitchener-Wilmot Hydro Inc.","Distribution Expenses - Operation","5005","Operation Supervision and Engineering",1086533.58]
[2017,"January 1, 2016 - December 31, 2016",null,"Kitchener-Wilmot Hydro Inc.","Distribution Expenses - Operation","5016","Distribution Station Equipment - Operation Labour",6831.17]
[2017,"January 1, 2016 - December 31, 2016",null,"Kitchener-Wilmot Hydro Inc.","Distribution Expenses - Operation","5090","Underground Distribution Lines and Feeders - Rental Paid",11550.18]
[2017,"January 1, 2016 - December 31, 2016",null,"Kitchener-Wilmot Hydro Inc.","Distribution Expenses – Maintenance","5175","Maintenance of Meters",0]
[2017,"January 1, 2016 - December 31, 2016",null,"Lakefront Utilities Inc.","Administrative and General Expenses","5620","Office Supplies and Expenses",87098.91]
[2017,"January 1, 2016 - December 31, 2016",null,"Lakefront Utilities Inc.","Administrative and General Expenses","5680","Electrical Safety Authority Fees",0]
[2017,"January 1, 2016 - December 31, 2016",null,"Lakefront Utilities Inc.","Billing and Collecting","5305","Supervision",0]
[2017,"January 1, 2016 - December 31, 2016",null,"Lakefront Utilities Inc.","Distribution Expenses - Operation","5005","Operation Supervision and Engineering",34600.83]
[2017,"January 1, 2016 - December 31, 2016",null,"Lakefront Utilities Inc.","Distribution Expenses - Operation","5060","Street Lighting and Signal System Expense",0]
[2017,"January 1, 2016 - December 31, 2016",null,"Lakefront Utilities Inc.","Distribution Expenses – Maintenance","5155","Maintenance of Underground Services",31872.6]
[2017,"January 1, 2016 - December 31, 2016",null,"Lakeland Power Distribution Ltd.","Administrative and General Expenses","5515","Advertising Expense",0]
[2017,"January 1, 2016 - December 31, 2016",null,"Lakeland Power Distribution Ltd.","Administrative and General Expenses","5620","Office Supplies and Expenses",164634.78]
[2017,"January 1, 2016 - December 31, 2016",null,"Lakeland Power Distribution Ltd.","Administrative and General Expenses","5680","Electrical Safety Authority Fees",19992.71]
[2017,"January 1, 2016 - December 31, 2016",null,"Lakeland Power Distribution Ltd.","Community Relations","5410","Community Relations - Sundry",57855.08]
[2017,"January 1, 2016 - December 31, 2016",null,"Lakeland Power Distribution Ltd.","Distribution Expenses - Operation","5055","Underground Distribution Transformers - Operation",0]
[2017,"January 1, 2016 - December 31, 2016",null,"Lakeland Power Distribution Ltd.","Distribution Expenses – Maintenance","5125","Maintenance of Overhead Conductors and Devices",0]
[2017,"January 1, 2016 - December 31, 2016",null,"London Hydro Inc.","Administrative and General Expenses","5510","Demonstrating and Selling Expense",0]
[2017,"January 1, 2016 - December 31, 2016",null,"London Hydro Inc.","Administrative and General Expenses","5515","Advertising Expense",0]
[2017,"January 1, 2016 - December 31, 2016",null,"London Hydro Inc.","Administrative and General Expenses","5660","General Advertising Expenses",528313.03]
[2017,"January 1, 2016 - December 31, 2016",null,"London Hydro Inc.","Community Relations","5405","Supervision",0]
[2017,"January 1, 2016 - December 31, 2016",null,"London Hydro Inc.","Distribution Expenses - Operation","5030","Overhead Subtransmission Feeders - Operation",0]
[2017,"January 1, 2016 - December 31, 2016",null,"London Hydro Inc.","Distribution Expenses – Maintenance","5105","Maintenance Supervision and Engineering",1799061.01]
[2017,"January 1, 2016 - December 31, 2016",null,"London Hydro Inc.","Other Expenses","5205","Purchase of Transmission and System Services",0]
[2017,"January 1, 2016 - December 31, 2016",null,"London Hydro Inc.","Other Expenses","5210","Transmission Charges",0]
[2017,"January 1, 2016 - December 31, 2016",null,"Midland Power Utility Corporation","Administrative and General Expenses","5655","Regulatory Expenses",59243.22]
[2017,"January 1, 2016 - December 31, 2016",null,"Midland Power Utility Corporation","Billing and Collecting","5325","Collecting- Cash Over and Short",88.49]
[2017,"January 1, 2016 - December 31, 2016",null,"Midland Power Utility Corporation","Distribution Expenses - Operation","5015","Transformer Station Equipment - Operation Supplies and Expenses",0]
[2017,"January 1, 2016 - December 31, 2016",null,"Midland Power Utility Corporation","Distribution Expenses - Operation","5060","Street Lighting and Signal System Expense",0]
[2017,"January 1, 2016 - December 31, 2016",null,"Midland Power Utility Corporation","Distribution Expenses – Maintenance","5170","Sentinel Lights - Labour",0]
[2017,"January 1, 2016 - December 31, 2016",null,"Midland Power Utility Corporation","Distribution Expenses – Maintenance","5172","Sentinel Lights - Materials and Expenses",0]
[2017,"January 1, 2016 - December 31, 2016",null,"Milton Hydro Distribution Inc.","Administrative and General Expenses","5635","Property Insurance",114824]
[2017,"January 1, 2016 - December 31, 2016",null,"Milton Hydro Distribution Inc.","Administrative and General Expenses","5695","OM&A Contra",0]
[2017,"January 1, 2016 - December 31, 2016",null,"Milton Hydro Distribution Inc.","Distribution Expenses - Operation","5012","Station Buildings and Fixtures Expense",0]
[2017,"January 1, 2016 - December 31, 2016",null,"Milton Hydro Distribution Inc.","Distribution Expenses - Operation","5070","Customer Premises - Operation Labour",283441]
[2017,"January 1, 2016 - December 31, 2016",null,"Milton Hydro Distribution Inc.","Distribution Expenses – Maintenance","5145","Maintenance of Underground Conduit",0]
[2017,"January 1, 2016 - December 31, 2016",null,"Milton Hydro Distribution Inc.","Distribution Expenses – Maintenance","5170","Sentinel Lights - Labour",0]
[2017,"January 1, 2016 - December 31, 2016",null,"Newmarket-Tay Power Distribution Ltd.","Administrative and General Expenses","5610","Management Salaries and Expenses",763918.54]
[2017,"January 1, 2016 - December 31, 2016",null,"Newmarket-Tay Power Distribution Ltd.","Administrative and General Expenses","5685","Independent Market Operator Fees and Penalties",0]
[2017,"January 1, 2016 - December 31, 2016",null,"Newmarket-Tay Power Distribution Ltd.","Community Relations","5420","Community Safety Program",0]
[2017,"January 1, 2016 - December 31, 2016",null,"Newmarket-Tay Power Distribution Ltd.","Distribution Expenses - Operation","5045","Underground Distribution Lines and Feeders - Operation Supplies and Expenses",34383.019999999997]
[2017,"January 1, 2016 - December 31, 2016",null,"Newmarket-Tay Power Distribution Ltd.","Distribution Expenses - Operation","5070","Customer Premises - Operation Labour",74431.759999999995]
[2017,"January 1, 2016 - December 31, 2016",null,"Newmarket-Tay Power Distribution Ltd.","Distribution Expenses – Maintenance","5145","Maintenance of Underground Conduit",7025.73]
[2017,"January 1, 2016 - December 31, 2016",null,"Niagara Peninsula Energy Inc.","Administrative and General Expenses","5505","Supervision",0]
[2017,"January 1, 2016 - December 31, 2016",null,"Niagara Peninsula Energy Inc.","Administrative and General Expenses","5670","Rent",0]
[2017,"January 1, 2016 - December 31, 2016",null,"Niagara Peninsula Energy Inc.","Billing and Collecting","5340","Miscellaneous Customer Accounts Expenses",234978.73]
[2017,"January 1, 2016 - December 31, 2016",null,"Niagara Peninsula Energy Inc.","Community Relations","5420","Community Safety Program",0]
[2017,"January 1, 2016 - December 31, 2016",null,"Niagara Peninsula Energy Inc.","Distribution Expenses - Operation","5045","Underground Distribution Lines and Feeders - Operation Supplies and Expenses",373440.45]
[2017,"January 1, 2016 - December 31, 2016",null,"Niagara Peninsula Energy Inc.","Distribution Expenses – Maintenance","5114","Maintenance of Distribution Station Equipment",19894.2]
[2017,"January 1, 2016 - December 31, 2016",null,"Niagara Peninsula Energy Inc.","Other Expenses Total",null,null,0]
[2017,"January 1, 2016 - December 31, 2016",null,"Niagara-on-the-Lake Hydro Inc.","Administrative and General Expenses","5647","Employee Sick Leave",0]
[2017,"January 1, 2016 - December 31, 2016",null,"Niagara-on-the-Lake Hydro Inc.","Administrative and General Expenses","5670","Rent",0]
[2017,"January 1, 2016 - December 31, 2016",null,"Niagara-on-the-Lake Hydro Inc.","Billing and Collecting","5340","Miscellaneous Customer Accounts Expenses",4727.25]
[2017,"January 1, 2016 - December 31, 2016",null,"Niagara-on-the-Lake Hydro Inc.","Distribution Expenses - Operation","5020","Overhead Distribution Lines and Feeders - Operation Labour",73395.399999999994]
[2017,"January 1, 2016 - December 31, 2016",null,"Niagara-on-the-Lake Hydro Inc.","Distribution Expenses – Maintenance","5112","Maintenance of Transformer Station Equipment",62531.79]
[2017,"January 1, 2016 - December 31, 2016",null,"Niagara-on-the-Lake Hydro Inc.","Distribution Expenses – Maintenance","5195","Maintenance of Other Installations on Customer Premises",0]
[2017,"January 1, 2016 - December 31, 2016",null,"North Bay Hydro Distribution Limited","Administrative and General Expenses","5630","Outside Services Employed",316594.03999999998]
[2017,"January 1, 2016 - December 31, 2016",null,"North Bay Hydro Distribution Limited","Administrative and General Expenses","5647","Employee Sick Leave",-44800]
[2017,"January 1, 2016 - December 31, 2016",null,"North Bay Hydro Distribution Limited","Billing and Collecting","5310","Meter Reading Expense",301782.02]
[2017,"January 1, 2016 - December 31, 2016",null,"North Bay Hydro Distribution Limited","Distribution Expenses - Operation","5016","Distribution Station Equipment - Operation Labour",863.45]
[2017,"January 1, 2016 - December 31, 2016",null,"North Bay Hydro Distribution Limited","Distribution Expenses - Operation","5090","Underground Distribution Lines and Feeders - Rental Paid",0]
[2017,"January 1, 2016 - December 31, 2016",null,"North Bay Hydro Distribution Limited","Distribution Expenses – Maintenance","5160","Maintenance of Line Transformers",223329.19]
[2017,"January 1, 2016 - December 31, 2016",null,"North Bay Hydro Distribution Limited","Distribution Expenses – Maintenance","5178","Customer Installations Expenses- Leased Property",0]
[2017,"January 1, 2016 - December 31, 2016",null,"Northern Ontario Wires Inc.","Administrative and General Expenses","5625","Administrative Expense Transferred/Credit",0]
[2017,"January 1, 2016 - December 31, 2016",null,"Northern Ontario Wires Inc.","Administrative and General Expenses","5681","Special Purpose Charge Expense",0]
[2017,"January 1, 2016 - December 31, 2016",null,"Northern Ontario Wires Inc.","Distribution Expenses - Operation","5005","Operation Supervision and Engineering",101769.4]
[2017,"January 1, 2016 - December 31, 2016",null,"Northern Ontario Wires Inc.","Distribution Expenses - Operation","5060","Street Lighting and Signal System Expense",0]
[2017,"January 1, 2016 - December 31, 2016",null,"Northern Ontario Wires Inc.","Distribution Expenses – Maintenance","5155","Maintenance of Underground Services",2982.22]
[2017,"January 1, 2016 - December 31, 2016",null,"Northern Ontario Wires Inc.","Distribution Expenses – Maintenance","5160","Maintenance of Line Transformers",17652.98]
[2017,"January 1, 2016 - December 31, 2016",null,"Oakville Hydro Electricity Distribution Inc.","Administrative and General Expenses","5520","Miscellaneous Sales Expense",0]
[2017,"January 1, 2016 - December 31, 2016",null,"Oakville Hydro Electricity Distribution Inc.","Administrative and General Expenses","5680","Electrical Safety Authority Fees",35386.480000000003]
[2017,"January 1, 2016 - December 31, 2016",null,"Oakville Hydro Electricity Distribution Inc.","Community Relations","5410","Community Relations - Sundry",154612.45000000001]
[2017,"January 1, 2016 - December 31, 2016",null,"Oakville Hydro Electricity Distribution Inc.","Distribution Expenses - Operation","5055","Underground Distribution Transformers - Operation",43181.36]
[2017,"January 1, 2016 - December 31, 2016",null,"Oakville Hydro Electricity Distribution Inc.","Distribution Expenses – Maintenance","5125","Maintenance of Overhead Conductors and Devices",56444.28]
[2017,"January 1, 2016 - December 31, 2016",null,"Oakville Hydro Electricity Distribution Inc.","Distribution Expenses – Maintenance","5130","Maintenance of Overhead Services",158625.66]
[2017,"January 1, 2016 - December 31, 2016",null,"Orangeville Hydro Limited","Administrative and General Expenses","5515","Advertising Expense",0]
[2017,"January 1, 2016 - December 31, 2016",null,"Orangeville Hydro Limited","Administrative and General Expenses","5660","General Advertising Expenses",0]
[2017,"January 1, 2016 - December 31, 2016",null,"Orangeville Hydro Limited","Billing and Collecting","5330","Collection Charges",0]
[2017,"January 1, 2016 - December 31, 2016",null,"Orangeville Hydro Limited","Distribution Expenses - Operation","5030","Overhead Subtransmission Feeders - Operation",0]
[2017,"January 1, 2016 - December 31, 2016",null,"Orangeville Hydro Limited","Distribution Expenses – Maintenance","5105","Maintenance Supervision and Engineering",145575.20000000001]
[2017,"January 1, 2016 - December 31, 2016",null,"Orangeville Hydro Limited","Distribution Expenses – Maintenance","5125","Maintenance of Overhead Conductors and Devices",77158.77]
[2017,"January 1, 2016 - December 31, 2016",null,"Orangeville Hydro Limited","Other Expenses","5210","Transmission Charges",0]
[2017,"January 1, 2016 - December 31, 2016",null,"Orillia Power Distribution Corporation","Administrative and General Expenses","5645","OMERS Pensions and Benefits",0]
[2017,"January 1, 2016 - December 31, 2016",null,"Orillia Power Distribution Corporation","Billing and Collecting","5325","Collecting- Cash Over and Short",0]
[2017,"January 1, 2016 - December 31, 2016",null,"Orillia Power Distribution Corporation","Distribution Expenses - Operation","5015","Transformer Station Equipment - Operation Supplies and Expenses",0]
[2017,"January 1, 2016 - December 31, 2016",null,"Orillia Power Distribution Corporation","Distribution Expenses - Operation","5085","Miscellaneous Distribution Expense",0]
[2017,"January 1, 2016 - December 31, 2016",null,"Orillia Power Distribution Corporation","Distribution Expenses – Maintenance","5105","Maintenance Supervision and Engineering",0]
[2017,"January 1, 2016 - December 31, 2016",null,"Orillia Power Distribution Corporation","Distribution Expenses – Maintenance","5175","Maintenance of Meters",109132]
[2017,"January 1, 2016 - December 31, 2016",null,"Oshawa PUC Networks Inc.","Administrative and General Expenses","5625","Administrative Expense Transferred/Credit",-173663.08]
[2017,"January 1, 2016 - December 31, 2016",null,"Oshawa PUC Networks Inc.","Administrative and General Expenses","5695","OM&A Contra",2497.5]
[2017,"January 1, 2016 - December 31, 2016",null,"Oshawa PUC Networks Inc.","Community Relations","5425","Miscellaneous Customer Service and Informational Expenses",773909.91]
[2017,"January 1, 2016 - December 31, 2016",null,"Oshawa PUC Networks Inc.","Distribution Expenses - Operation","5014","Transformer Station Equipment - Operation Labour",0]
[2017,"January 1, 2016 - December 31, 2016",null,"Oshawa PUC Networks Inc.","Distribution Expenses - Operation","5075","Customer Premises - Materials and Expenses",0]
[2017,"January 1, 2016 - December 31, 2016",null,"Oshawa PUC Networks Inc.","Distribution Expenses – Maintenance","5170","Sentinel Lights - Labour",0]
[2017,"January 1, 2016 - December 31, 2016",null,"Ottawa River Power Corporation","Administrative and General Expenses","5610","Management Salaries and Expenses",190008.63]
[2017,"January 1, 2016 - December 31, 2016",null,"Ottawa River Power Corporation","Administrative and General Expenses","5672","Lease Payment Expense",0]
[2017,"January 1, 2016 - December 31, 2016",null,"Ottawa River Power Corporation","Administrative and General Expenses","5695","OM&A Contra",0]
[2017,"January 1, 2016 - December 31, 2016",null,"Ottawa River Power Corporation","Community Relations","5425","Miscellaneous Customer Service and Informational Expenses",0]
[2017,"January 1, 2016 - December 31, 2016",null,"Ottawa River Power Corporation","Distribution Expenses - Operation","5050","Underground Subtransmission Feeders - Operation",0]
[2017,"January 1, 2016 - December 31, 2016",null,"Ottawa River Power Corporation","Distribution Expenses – Maintenance","5145","Maintenance of Underground Conduit",0]
[2017,"January 1, 2016 - December 31, 2016",null,"PUC Distribution Inc.","Administrative and General Expenses","5505","Supervision",0]
[2017,"January 1, 2016 - December 31, 2016",null,"PUC Distribution Inc.","Administrative and General Expenses","5610","Management Salaries and Expenses",530930.17000000004]
[2017,"January 1, 2016 - December 31, 2016",null,"PUC Distribution Inc.","Administrative and General Expenses","5672","Lease Payment Expense",0]
[2017,"January 1, 2016 - December 31, 2016",null,"PUC Distribution Inc.","Billing and Collecting Total",null,null,1572172.9]
[2017,"January 1, 2016 - December 31, 2016",null,"PUC Distribution Inc.","Distribution Expenses - Operation","5045","Underground Distribution Lines and Feeders - Operation Supplies and Expenses",22823.74]
[2017,"January 1, 2016 - December 31, 2016",null,"PUC Distribution Inc.","Distribution Expenses – Maintenance","5114","Maintenance of Distribution Station Equipment",36394.68]
[2017,"January 1, 2016 - December 31, 2016",null,"PUC Distribution Inc.","Distribution Expenses – Maintenance","5145","Maintenance of Underground Conduit",83892.88]
[2017,"January 1, 2016 - December 31, 2016",null,"PowerStream Inc.","Administrative and General Expenses","5505","Supervision",0]
[2017,"January 1, 2016 - December 31, 2016",null,"PowerStream Inc.","Administrative and General Expenses","5650","Franchise Requirements",0]
[2017,"January 1, 2016 - December 31, 2016",null,"PowerStream Inc.","Billing and Collecting","5340","Miscellaneous Customer Accounts Expenses",0]
[2017,"January 1, 2016 - December 31, 2016",null,"PowerStream Inc.","Distribution Expenses - Operation","5020","Overhead Distribution Lines and Feeders - Operation Labour",889119.04]
[2017,"January 1, 2016 - December 31, 2016",null,"PowerStream Inc.","Distribution Expenses - Operation","5096","Other Rent",123200.49]
[2017,"January 1, 2016 - December 31, 2016",null,"PowerStream Inc.","Distribution Expenses – Maintenance","5114","Maintenance of Distribution Station Equipment",335234.11]
[2017,"January 1, 2016 - December 31, 2016",null,"PowerStream Inc.","Distribution Expenses – Maintenance Total",null,null,8547936.25]
[2017,"January 1, 2016 - December 31, 2016",null,"Renfrew Hydro Inc.","Administrative and General Expenses","5647","Employee Sick Leave",0]
[2017,"January 1, 2016 - December 31, 2016",null,"Renfrew Hydro Inc.","Billing and Collecting","5315","Customer Billing",271007.37]
[2017,"January 1, 2016 - December 31, 2016",null,"Renfrew Hydro Inc.","Distribution Expenses - Operation","5012","Station Buildings and Fixtures Expense",1047.05]
[2017,"January 1, 2016 - December 31, 2016",null,"Renfrew Hydro Inc.","Distribution Expenses - Operation","5095","Overhead Distribution Lines and Feeders - Rental Paid",9843.9500000000007]
[2017,"January 1, 2016 - December 31, 2016",null,"Renfrew Hydro Inc.","Distribution Expenses - Operation","5096","Other Rent",34175.519999999997]
[2017,"January 1, 2016 - December 31, 2016",null,"Rideau St. Lawrence Distribution Inc.","Administrative and General Expenses","5505","Supervision",0]
[2017,"January 1, 2016 - December 31, 2016",null,"Rideau St. Lawrence Distribution Inc.","Administrative and General Expenses","5625","Administrative Expense Transferred/Credit",57006.05]
[2017,"January 1, 2016 - December 31, 2016",null,"Rideau St. Lawrence Distribution Inc.","Administrative and General Expenses","5681","Special Purpose Charge Expense",0]
[2017,"January 1, 2016 - December 31, 2016",null,"Rideau St. Lawrence Distribution Inc.","Distribution Expenses - Operation","5005","Operation Supervision and Engineering",80799.48]
[2017,"January 1, 2016 - December 31, 2016",null,"Rideau St. Lawrence Distribution Inc.","Distribution Expenses - Operation","5060","Street Lighting and Signal System Expense",0]
[2017,"January 1, 2016 - December 31, 2016",null,"Rideau St. Lawrence Distribution Inc.","Distribution Expenses - Operation","5065","Meter Expense",2322.5100000000002]
[2017,"January 1, 2016 - December 31, 2016",null,"Rideau St. Lawrence Distribution Inc.","Distribution Expenses – Maintenance","5160","Maintenance of Line Transformers",13601.64]
[2017,"January 1, 2016 - December 31, 2016",null,"Sioux Lookout Hydro Inc.","Administrative and General Expenses","5520","Miscellaneous Sales Expense",0]
[2017,"January 1, 2016 - December 31, 2016",null,"Sioux Lookout Hydro Inc.","Administrative and General Expenses","5680","Electrical Safety Authority Fees",2614.33]
[2017,"January 1, 2016 - December 31, 2016",null,"Sioux Lookout Hydro Inc.","Community Relations","5410","Community Relations - Sundry",0]
[2017,"January 1, 2016 - December 31, 2016",null,"Sioux Lookout Hydro Inc.","Distribution Expenses - Operation","5035","Overhead Distribution Transformers- Operation",0]
[2017,"January 1, 2016 - December 31, 2016",null,"Sioux Lookout Hydro Inc.","Distribution Expenses - Operation","5060","Street Lighting and Signal System Expense",0]
[2017,"January 1, 2016 - December 31, 2016",null,"Sioux Lookout Hydro Inc.","Distribution Expenses – Maintenance","5130","Maintenance of Overhead Services",0]
[2017,"January 1, 2016 - December 31, 2016",null,"Sioux Lookout Hydro Inc.","Other Expenses","5215","Transmission Charges Recovered",0]
[2017,"January 1, 2016 - December 31, 2016",null,"St. Thomas Energy Inc.","Administrative and General Expenses","5660","General Advertising Expenses",0]
[2017,"January 1, 2016 - December 31, 2016",null,"St. Thomas Energy Inc.","Billing and Collecting","5330","Collection Charges",-283131.90000000002]
[2017,"January 1, 2016 - December 31, 2016",null,"St. Thomas Energy Inc.","Community Relations","5410","Community Relations - Sundry",4613.8]
[2017,"January 1, 2016 - December 31, 2016",null,"St. Thomas Energy Inc.","Distribution Expenses - Operation","5035","Overhead Distribution Transformers- Operation",0]
[2017,"January 1, 2016 - December 31, 2016",null,"St. Thomas Energy Inc.","Distribution Expenses – Maintenance","5110","Maintenance of Buildings and Fixtures - Distribution Stations",489.42]
[2017,"January 1, 2016 - December 31, 2016",null,"St. Thomas Energy Inc.","Other Expenses","5210","Transmission Charges",0]
[2017,"January 1, 2016 - December 31, 2016",null,"Thunder Bay Hydro Electricity Distribution Inc.","Administrative and General Expenses","5645","OMERS Pensions and Benefits",906126.8]
[2017,"January 1, 2016 - December 31, 2016",null,"Thunder Bay Hydro Electricity Distribution Inc.","Billing and Collecting","5305","Supervision",0]
[2017,"January 1, 2016 - December 31, 2016",null,"Thunder Bay Hydro Electricity Distribution Inc.","Billing and Collecting","5330","Collection Charges",0]
[2017,"January 1, 2016 - December 31, 2016",null,"Thunder Bay Hydro Electricity Distribution Inc.","Distribution Expenses - Operation","5016","Distribution Station Equipment - Operation Labour",0]
[2017,"January 1, 2016 - December 31, 2016",null,"Thunder Bay Hydro Electricity Distribution Inc.","Distribution Expenses – Maintenance","5105","Maintenance Supervision and Engineering",1163436.1100000001]
[2017,"January 1, 2016 - December 31, 2016",null,"Thunder Bay Hydro Electricity Distribution Inc.","Distribution Expenses – Maintenance","5175","Maintenance of Meters",59782.400000000001]
[2017,"January 1, 2016 - December 31, 2016",null,"Tillsonburg Hydro Inc.","Administrative and General Expenses","5620","Office Supplies and Expenses",1554]
[2017,"January 1, 2016 - December 31, 2016",null,"Tillsonburg Hydro Inc.","Administrative and General Expenses","5645","OMERS Pensions and Benefits",0]
[2017,"January 1, 2016 - December 31, 2016",null,"Tillsonburg Hydro Inc.","Billing and Collecting","5305","Supervision",0]
[2017,"January 1, 2016 - December 31, 2016",null,"Tillsonburg Hydro Inc.","Distribution Expenses - Operation","5015","Transformer Station Equipment - Operation Supplies and Expenses",0]
[2017,"January 1, 2016 - December 31, 2016",null,"Tillsonburg Hydro Inc.","Distribution Expenses - Operation","5055","Underground Distribution Transformers - Operation",3470.78]
[2017,"January 1, 2016 - December 31, 2016",null,"Tillsonburg Hydro Inc.","Distribution Expenses – Maintenance","5150","Maintenance of Underground Conductors and Devices",10131.59]
[2017,"January 1, 2016 - December 31, 2016",null,"Tillsonburg Hydro Inc.","Distribution Expenses – Maintenance","5172","Sentinel Lights - Materials and Expenses",0]
[2017,"January 1, 2016 - December 31, 2016",null,"Toronto Hydro-Electric System Limited","Administrative and General Expenses","5615","General Administrative Salaries and Expenses",54544883.939999998]
[2017,"January 1, 2016 - December 31, 2016",null,"Toronto Hydro-Electric System Limited","Administrative and General Expenses","5675","Maintenance of General Plant",10393073.539999999]
[2017,"January 1, 2016 - December 31, 2016",null,"Toronto Hydro-Electric System Limited","Community Relations","5425","Miscellaneous Customer Service and Informational Expenses",0]
[2017,"January 1, 2016 - December 31, 2016",null,"Toronto Hydro-Electric System Limited","Distribution Expenses - Operation","5050","Underground Subtransmission Feeders - Operation",0]
[2017,"January 1, 2016 - December 31, 2016",null,"Toronto Hydro-Electric System Limited","Distribution Expenses - Operation","5075","Customer Premises - Materials and Expenses",1542691.02]
[2017,"January 1, 2016 - December 31, 2016",null,"Toronto Hydro-Electric System Limited","Distribution Expenses – Maintenance","5150","Maintenance of Underground Conductors and Devices",6024818.9199999999]
[2017,"January 1, 2016 - December 31, 2016",null,"Veridian Connections Inc.","Administrative and General Expenses","5510","Demonstrating and Selling Expense",0]
[2017,"January 1, 2016 - December 31, 2016",null,"Veridian Connections Inc.","Administrative and General Expenses","5672","Lease Payment Expense",0]
[2017,"January 1, 2016 - December 31, 2016",null,"Veridian Connections Inc.","Billing and Collecting Total",null,null,6676359]
[2017,"January 1, 2016 - December 31, 2016",null,"Veridian Connections Inc.","Distribution Expenses - Operation","5045","Underground Distribution Lines and Feeders - Operation Supplies and Expenses",557622]
[2017,"January 1, 2016 - December 31, 2016",null,"Veridian Connections Inc.","Distribution Expenses - Operation","5050","Underground Subtransmission Feeders - Operation",397]
[2017,"January 1, 2016 - December 31, 2016",null,"Veridian Connections Inc.","Distribution Expenses – Maintenance","5120","Maintenance of Poles, Towers and Fixtures",122668]
[2017,"January 1, 2016 - December 31, 2016",null,"Wasaga Distribution Inc.","Administrative and General Expenses","5505","Supervision",0]
[2017,"January 1, 2016 - December 31, 2016",null,"Wasaga Distribution Inc.","Administrative and General Expenses","5650","Franchise Requirements",0]
[2017,"January 1, 2016 - December 31, 2016",null,"Wasaga Distribution Inc.","Billing and Collecting","5320","Collecting",333887.59999999998]
[2017,"January 1, 2016 - December 31, 2016",null,"Wasaga Distribution Inc.","Distribution Expenses - Operation","5020","Overhead Distribution Lines and Feeders - Operation Labour",0]
[2017,"January 1, 2016 - December 31, 2016",null,"Wasaga Distribution Inc.","Distribution Expenses - Operation","5025","Overhead Distribution Lines and Feeders - Operation Supplies and Expenses",0]
[2017,"January 1, 2016 - December 31, 2016",null,"Wasaga Distribution Inc.","Distribution Expenses – Maintenance","5114","Maintenance of Distribution Station Equipment",0]
[2017,"January 1, 2016 - December 31, 2016",null,"Wasaga Distribution Inc.","Distribution Expenses – Maintenance Total",null,null,732972.09]
[2017,"January 1, 2016 - December 31, 2016",null,"Waterloo North Hydro Inc.","Administrative and General Expenses","5635","Property Insurance",167343]
[2017,"January 1, 2016 - December 31, 2016",null,"Waterloo North Hydro Inc.","Billing and Collecting","5315","Customer Billing",1451875]
[2017,"January 1, 2016 - December 31, 2016",null,"Waterloo North Hydro Inc.","Distribution Expenses - Operation","5012","Station Buildings and Fixtures Expense",240717]
[2017,"January 1, 2016 - December 31, 2016",null,"Waterloo North Hydro Inc.","Distribution Expenses - Operation","5014","Transformer Station Equipment - Operation Labour",261558]
[2017,"January 1, 2016 - December 31, 2016",null,"Waterloo North Hydro Inc.","Distribution Expenses - Operation","5096","Other Rent",0]
[2017,"January 1, 2016 - December 31, 2016",null,"Waterloo North Hydro Inc.","Distribution Expenses – Maintenance","5170","Sentinel Lights - Labour",0]
[2017,"January 1, 2016 - December 31, 2016",null,"Welland Hydro-Electric System Corp.","Administrative and General Expenses","5630","Outside Services Employed",162617.01999999999]
[2017,"January 1, 2016 - December 31, 2016",null,"Welland Hydro-Electric System Corp.","Administrative and General Expenses","5685","Independent Market Operator Fees and Penalties",0]
[2017,"January 1, 2016 - December 31, 2016",null,"Welland Hydro-Electric System Corp.","Billing and Collecting","5305","Supervision",0]
[2017,"January 1, 2016 - December 31, 2016",null,"Welland Hydro-Electric System Corp.","Distribution Expenses - Operation","5010","Load Dispatching",203957.89]
[2017,"January 1, 2016 - December 31, 2016",null,"Welland Hydro-Electric System Corp.","Distribution Expenses - Operation","5065","Meter Expense",299880.84999999998]
[2017,"January 1, 2016 - December 31, 2016",null,"Welland Hydro-Electric System Corp.","Distribution Expenses – Maintenance","5160","Maintenance of Line Transformers",101545.11]
[2017,"January 1, 2016 - December 31, 2016",null,"Wellington North Power Inc.","Administrative and General Expenses","5520","Miscellaneous Sales Expense",0]
[2017,"January 1, 2016 - December 31, 2016",null,"Wellington North Power Inc.","Administrative and General Expenses","5665","Miscellaneous General Expenses",66630.22]
[2017,"January 1, 2016 - December 31, 2016",null,"Wellington North Power Inc.","Administrative and General Expenses","5681","Special Purpose Charge Expense",0]
[2017,"January 1, 2016 - December 31, 2016",null,"Wellington North Power Inc.","Community Relations","5415","Energy Conservation",865]
[2017,"January 1, 2016 - December 31, 2016",null,"Wellington North Power Inc.","Distribution Expenses - Operation","5040","Underground Distribution Lines and Feeders - Operation Labour",194.71]
[2017,"January 1, 2016 - December 31, 2016",null,"Wellington North Power Inc.","Distribution Expenses – Maintenance","5130","Maintenance of Overhead Services",18031.560000000001]
[2017,"January 1, 2016 - December 31, 2016",null,"Wellington North Power Inc.","Other Expenses","5215","Transmission Charges Recovered",0]
[2017,"January 1, 2016 - December 31, 2016",null,"West Coast Huron Energy Inc.","Administrative and General Expenses","5520","Miscellaneous Sales Expense",0]
[2017,"January 1, 2016 - December 31, 2016",null,"West Coast Huron Energy Inc.","Administrative and General Expenses","5665","Miscellaneous General Expenses",33419]
[2017,"January 1, 2016 - December 31, 2016",null,"West Coast Huron Energy Inc.","Billing and Collecting","5335","Bad Debt Expense",19871]
[2017,"January 1, 2016 - December 31, 2016",null,"West Coast Huron Energy Inc.","Distribution Expenses - Operation","5035","Overhead Distribution Transformers- Operation",0]
[2017,"January 1, 2016 - December 31, 2016",null,"West Coast Huron Energy Inc.","Distribution Expenses – Maintenance","5110","Maintenance of Buildings and Fixtures - Distribution Stations",8671]
[2017,"January 1, 2016 - December 31, 2016",null,"West Coast Huron Energy Inc.","Distribution Expenses – Maintenance","5130","Maintenance of Overhead Services",10220]
[2017,"January 1, 2016 - December 31, 2016",null,"West Coast Huron Energy Inc.","Other Expenses","5215","Transmission Charges Recovered",0]
[2017,"January 1, 2016 - December 31, 2016",null,"Westario Power Inc.","Administrative and General Expenses","5646","Employee Pensions and OPEB",0]
[2017,"January 1, 2016 - December 31, 2016",null,"Westario Power Inc.","Billing and Collecting","5330","Collection Charges",42700]
[2017,"January 1, 2016 - December 31, 2016",null,"Westario Power Inc.","Distribution Expenses - Operation","5016","Distribution Station Equipment - Operation Labour",2241]
[2017,"January 1, 2016 - December 31, 2016",null,"Westario Power Inc.","Distribution Expenses - Operation","5090","Underground Distribution Lines and Feeders - Rental Paid",0]
[2017,"January 1, 2016 - December 31, 2016",null,"Westario Power Inc.","Distribution Expenses – Maintenance","5110","Maintenance of Buildings and Fixtures - Distribution Stations",10194]
[2017,"January 1, 2016 - December 31, 2016",null,"Westario Power Inc.","Distribution Expenses – Maintenance","5178","Customer Installations Expenses- Leased Property",0]
[2017,"January 1, 2016 - December 31, 2016",null,"Whitby Hydro Electric Corporation","Administrative and General Expenses","5645","OMERS Pensions and Benefits",0]
[2017,"January 1, 2016 - December 31, 2016",null,"Whitby Hydro Electric Corporation","Billing and Collecting","5305","Supervision",122755.67]
[2017,"January 1, 2016 - December 31, 2016",null,"Whitby Hydro Electric Corporation","Distribution Expenses - Operation","5005","Operation Supervision and Engineering",277549.98]
[2017,"January 1, 2016 - December 31, 2016",null,"Whitby Hydro Electric Corporation","Distribution Expenses - Operation","5016","Distribution Station Equipment - Operation Labour",0]
[2017,"January 1, 2016 - December 31, 2016",null,"Whitby Hydro Electric Corporation","Distribution Expenses - Operation","5090","Underground Distribution Lines and Feeders - Rental Paid",0]
[2017,"January 1, 2016 - December 31, 2016",null,"Whitby Hydro Electric Corporation","Distribution Expenses – Maintenance","5160","Maintenance of Line Transformers",198597.58]
[2018,"January 1, 2017 - December 31, 2017",null,"1937680 Ontario Inc.","Administrative and General Expenses","5620","Office Supplies and Expenses",5187.01]
[2018,"January 1, 2017 - December 31, 2017",null,"1937680 Ontario Inc.","Administrative and General Expenses","5650","Franchise Requirements",0]
[2018,"January 1, 2017 - December 31, 2017",null,"1937680 Ontario Inc.","Community Relations","5425","Miscellaneous Customer Service and Informational Expenses",0]
[2018,"January 1, 2017 - December 31, 2017",null,"1937680 Ontario Inc.","Community Relations Total",null,null,0]
[2018,"January 1, 2017 - December 31, 2017",null,"1937680 Ontario Inc.","Distribution Expenses - Operation","5055","Underground Distribution Transformers - Operation",5776.66]
[2018,"January 1, 2017 - December 31, 2017",null,"1937680 Ontario Inc.","Distribution Expenses – Maintenance","5150","Maintenance of Underground Conductors and Devices",24597.01]
[2018,"January 1, 2017 - December 31, 2017",null,"Alectra Utilities Corporation","Administrative and General Expenses","5510","Demonstrating and Selling Expense",0]
[2018,"January 1, 2017 - December 31, 2017",null,"Alectra Utilities Corporation","Administrative and General Expenses","5672","Lease Payment Expense",0]
[2018,"January 1, 2017 - December 31, 2017",null,"Alectra Utilities Corporation","Billing and Collecting Total",null,null,44060910.869999997]
[2018,"January 1, 2017 - December 31, 2017",null,"Alectra Utilities Corporation","Community Relations","5405","Supervision",1411461.15]
[2018,"January 1, 2017 - December 31, 2017",null,"Alectra Utilities Corporation","Distribution Expenses - Operation","5050","Underground Subtransmission Feeders - Operation",0]
[2018,"January 1, 2017 - December 31, 2017",null,"Alectra Utilities Corporation","Distribution Expenses – Maintenance","5120","Maintenance of Poles, Towers and Fixtures",317016.68]
[2018,"January 1, 2017 - December 31, 2017",null,"Alectra Utilities Corporation","Other Expenses","5205","Purchase of Transmission and System Services",0]
[2018,"January 1, 2017 - December 31, 2017",null,"Algoma Power Inc.","Administrative and General Expenses","5660","General Advertising Expenses",14979.33]
[2018,"January 1, 2017 - December 31, 2017",null,"Algoma Power Inc.","Billing and Collecting","5335","Bad Debt Expense",49190.36]
[2018,"January 1, 2017 - December 31, 2017",null,"Algoma Power Inc.","Community Relations","5415","Energy Conservation",0]
[2018,"January 1, 2017 - December 31, 2017",null,"Algoma Power Inc.","Distribution Expenses - Operation","5040","Underground Distribution Lines and Feeders - Operation Labour",4251.5600000000004]
[2018,"January 1, 2017 - December 31, 2017",null,"Algoma Power Inc.","Distribution Expenses – Maintenance","5112","Maintenance of Transformer Station Equipment",0]
[2018,"January 1, 2017 - December 31, 2017",null,"Algoma Power Inc.","Other Expenses","5215","Transmission Charges Recovered",0]
[2018,"January 1, 2017 - December 31, 2017",null,"Atikokan Hydro Inc.","Administrative and General Expenses","5646","Employee Pensions and OPEB",0]
[2018,"January 1, 2017 - December 31, 2017",null,"Atikokan Hydro Inc.","Billing and Collecting","5310","Meter Reading Expense",30322.86]
[2018,"January 1, 2017 - December 31, 2017",null,"Atikokan Hydro Inc.","Billing and Collecting","5335","Bad Debt Expense",2980.65]
[2018,"January 1, 2017 - December 31, 2017",null,"Atikokan Hydro Inc.","Distribution Expenses - Operation","5017","Distribution Station Equipment - Operation Supplies and Expenses",0]
[2018,"January 1, 2017 - December 31, 2017",null,"Atikokan Hydro Inc.","Distribution Expenses – Maintenance","5110","Maintenance of Buildings and Fixtures - Distribution Stations",0]
[2018,"January 1, 2017 - December 31, 2017",null,"Atikokan Hydro Inc.","Distribution Expenses – Maintenance","5178","Customer Installations Expenses- Leased Property",0]
[2018,"January 1, 2017 - December 31, 2017",null,"Bluewater Power Distribution Corporation","Administrative and General Expenses","5625","Administrative Expense Transferred/Credit",0]
[2018,"January 1, 2017 - December 31, 2017",null,"Bluewater Power Distribution Corporation","Administrative and General Expenses","5646","Employee Pensions and OPEB",435404]
[2018,"January 1, 2017 - December 31, 2017",null,"Bluewater Power Distribution Corporation","Billing and Collecting","5310","Meter Reading Expense",291163.78999999998]
[2018,"January 1, 2017 - December 31, 2017",null,"Bluewater Power Distribution Corporation","Distribution Expenses - Operation","5016","Distribution Station Equipment - Operation Labour",24789]
[2018,"January 1, 2017 - December 31, 2017",null,"Bluewater Power Distribution Corporation","Distribution Expenses - Operation","5090","Underground Distribution Lines and Feeders - Rental Paid",0]
[2018,"January 1, 2017 - December 31, 2017",null,"Bluewater Power Distribution Corporation","Distribution Expenses – Maintenance","5160","Maintenance of Line Transformers",15174.41]
[2018,"January 1, 2017 - December 31, 2017",null,"Bluewater Power Distribution Corporation","Other Expenses","5215","Transmission Charges Recovered",0]
[2018,"January 1, 2017 - December 31, 2017",null,"Brantford Power Inc.","Administrative and General Expenses","5620","Office Supplies and Expenses",75543.72]
[2018,"January 1, 2017 - December 31, 2017",null,"Brantford Power Inc.","Administrative and General Expenses","5680","Electrical Safety Authority Fees",17222]
[2018,"January 1, 2017 - December 31, 2017",null,"Brantford Power Inc.","Community Relations Total",null,null,38460.53]
[2018,"January 1, 2017 - December 31, 2017",null,"Brantford Power Inc.","Distribution Expenses - Operation","5055","Underground Distribution Transformers - Operation",0]
[2018,"January 1, 2017 - December 31, 2017",null,"Brantford Power Inc.","Distribution Expenses - Operation","5085","Miscellaneous Distribution Expense",162030.32]
[2018,"January 1, 2017 - December 31, 2017",null,"Brantford Power Inc.","Distribution Expenses – Maintenance","5155","Maintenance of Underground Services",180315.76]
[2018,"January 1, 2017 - December 31, 2017",null,"Burlington Hydro Inc.","Administrative and General Expenses","5515","Advertising Expense",0]
[2018,"January 1, 2017 - December 31, 2017",null,"Burlington Hydro Inc.","Administrative and General Expenses","5675","Maintenance of General Plant",348211.78]
[2018,"January 1, 2017 - December 31, 2017",null,"Burlington Hydro Inc.","Community Relations","5405","Supervision",0]
[2018,"January 1, 2017 - December 31, 2017",null,"Burlington Hydro Inc.","Community Relations Total",null,null,35025.9]
[2018,"January 1, 2017 - December 31, 2017",null,"Burlington Hydro Inc.","Distribution Expenses - Operation","5055","Underground Distribution Transformers - Operation",9622.44]
[2018,"January 1, 2017 - December 31, 2017",null,"Burlington Hydro Inc.","Distribution Expenses – Maintenance","5125","Maintenance of Overhead Conductors and Devices",1565791]
[2018,"January 1, 2017 - December 31, 2017",null,"Canadian Niagara Power Inc.","Administrative and General Expenses","5510","Demonstrating and Selling Expense",0]
[2018,"January 1, 2017 - December 31, 2017",null,"Canadian Niagara Power Inc.","Administrative and General Expenses","5665","Miscellaneous General Expenses",385580.74]
[2018,"January 1, 2017 - December 31, 2017",null,"Canadian Niagara Power Inc.","Billing and Collecting","5340","Miscellaneous Customer Accounts Expenses",482190.56]
[2018,"January 1, 2017 - December 31, 2017",null,"Canadian Niagara Power Inc.","Community Relations","5420","Community Safety Program",9670]
[2018,"January 1, 2017 - December 31, 2017",null,"Canadian Niagara Power Inc.","Distribution Expenses - Operation","5045","Underground Distribution Lines and Feeders - Operation Supplies and Expenses",104181.04]
[2018,"January 1, 2017 - December 31, 2017",null,"Canadian Niagara Power Inc.","Distribution Expenses – Maintenance","5135","Overhead Distribution Lines and Feeders - Right of Way",442526.91]
[2018,"January 1, 2017 - December 31, 2017",null,"Canadian Niagara Power Inc.","Other Expenses Total",null,null,0]
[2018,"January 1, 2017 - December 31, 2017",null,"Centre Wellington Hydro Ltd.","Administrative and General Expenses","5647","Employee Sick Leave",0]
[2018,"January 1, 2017 - December 31, 2017",null,"Centre Wellington Hydro Ltd.","Billing and Collecting","5335","Bad Debt Expense",13332.57]
[2018,"January 1, 2017 - December 31, 2017",null,"Centre Wellington Hydro Ltd.","Billing and Collecting","5340","Miscellaneous Customer Accounts Expenses",0]
[2018,"January 1, 2017 - December 31, 2017",null,"Centre Wellington Hydro Ltd.","Distribution Expenses - Operation","5020","Overhead Distribution Lines and Feeders - Operation Labour",4917.1899999999996]
[2018,"January 1, 2017 - December 31, 2017",null,"Centre Wellington Hydro Ltd.","Distribution Expenses – Maintenance","5112","Maintenance of Transformer Station Equipment",0]
[2018,"January 1, 2017 - December 31, 2017",null,"Centre Wellington Hydro Ltd.","Distribution Expenses – Maintenance","5195","Maintenance of Other Installations on Customer Premises",0]
[2018,"January 1, 2017 - December 31, 2017",null,"Chapleau Public Utilities Corporation","Administrative and General Expenses","5646","Employee Pensions and OPEB",0]
[2018,"January 1, 2017 - December 31, 2017",null,"Chapleau Public Utilities Corporation","Billing and Collecting","5310","Meter Reading Expense",41027.29]
[2018,"January 1, 2017 - December 31, 2017",null,"Chapleau Public Utilities Corporation","Billing and Collecting","5315","Customer Billing",80401.11]
[2018,"January 1, 2017 - December 31, 2017",null,"Chapleau Public Utilities Corporation","Distribution Expenses - Operation","5017","Distribution Station Equipment - Operation Supplies and Expenses",50]
[2018,"January 1, 2017 - December 31, 2017",null,"Chapleau Public Utilities Corporation","Distribution Expenses - Operation","5085","Miscellaneous Distribution Expense",0]
[2018,"January 1, 2017 - December 31, 2017",null,"Chapleau Public Utilities Corporation","Distribution Expenses – Maintenance","5175","Maintenance of Meters",0]
[2018,"January 1, 2017 - December 31, 2017",null,"Cooperative Hydro Embrun Inc.","Administrative and General Expenses","5620","Office Supplies and Expenses",37011.75]
[2018,"January 1, 2017 - December 31, 2017",null,"Cooperative Hydro Embrun Inc.","Administrative and General Expenses","5680","Electrical Safety Authority Fees",1898]
[2018,"January 1, 2017 - December 31, 2017",null,"Cooperative Hydro Embrun Inc.","Billing and Collecting","5305","Supervision",0]
[2018,"January 1, 2017 - December 31, 2017",null,"Cooperative Hydro Embrun Inc.","Distribution Expenses - Operation","5005","Operation Supervision and Engineering",0]
[2018,"January 1, 2017 - December 31, 2017",null,"Cooperative Hydro Embrun Inc.","Distribution Expenses - Operation","5060","Street Lighting and Signal System Expense",0]
[2018,"January 1, 2017 - December 31, 2017",null,"Cooperative Hydro Embrun Inc.","Distribution Expenses – Maintenance","5155","Maintenance of Underground Services",1800]
[2018,"January 1, 2017 - December 31, 2017",null,"E.L.K. Energy Inc.","Administrative and General Expenses","5515","Advertising Expense",0]
[2018,"January 1, 2017 - December 31, 2017",null,"E.L.K. Energy Inc.","Administrative and General Expenses","5620","Office Supplies and Expenses",82549.14]
[2018,"January 1, 2017 - December 31, 2017",null,"E.L.K. Energy Inc.","Administrative and General Expenses","5680","Electrical Safety Authority Fees",5129]
[2018,"January 1, 2017 - December 31, 2017",null,"E.L.K. Energy Inc.","Community Relations","5410","Community Relations - Sundry",3497.13]
[2018,"January 1, 2017 - December 31, 2017",null,"E.L.K. Energy Inc.","Distribution Expenses - Operation","5055","Underground Distribution Transformers - Operation",10981.54]
[2018,"January 1, 2017 - December 31, 2017",null,"E.L.K. Energy Inc.","Distribution Expenses – Maintenance","5125","Maintenance of Overhead Conductors and Devices",122561.37]
[2018,"January 1, 2017 - December 31, 2017",null,"E.L.K. Energy Inc.","Distribution Expenses – Maintenance","5155","Maintenance of Underground Services",101913.43]
[2018,"January 1, 2017 - December 31, 2017",null,"ENWIN Utilities Ltd.","Administrative and General Expenses","5515","Advertising Expense",0]
[2018,"January 1, 2017 - December 31, 2017",null,"ENWIN Utilities Ltd.","Administrative and General Expenses","5660","General Advertising Expenses",105513.83]
[2018,"January 1, 2017 - December 31, 2017",null,"ENWIN Utilities Ltd.","Community Relations","5405","Supervision",0]
[2018,"January 1, 2017 - December 31, 2017",null,"ENWIN Utilities Ltd.","Distribution Expenses - Operation","5030","Overhead Subtransmission Feeders - Operation",0]
[2018,"January 1, 2017 - December 31, 2017",null,"ENWIN Utilities Ltd.","Distribution Expenses – Maintenance","5105","Maintenance Supervision and Engineering",0]
[2018,"January 1, 2017 - December 31, 2017",null,"ENWIN Utilities Ltd.","Distribution Expenses – Maintenance","5125","Maintenance of Overhead Conductors and Devices",0]
[2018,"January 1, 2017 - December 31, 2017",null,"ENWIN Utilities Ltd.","Other Expenses","5210","Transmission Charges",0]
[2018,"January 1, 2017 - December 31, 2017",null,"EPCOR Electricity Distribution Ontario Inc.","Administrative and General Expenses","5655","Regulatory Expenses",150823.12]
[2018,"January 1, 2017 - December 31, 2017",null,"EPCOR Electricity Distribution Ontario Inc.","Billing and Collecting","5325","Collecting- Cash Over and Short",19.04]
[2018,"January 1, 2017 - December 31, 2017",null,"EPCOR Electricity Distribution Ontario Inc.","Distribution Expenses - Operation","5015","Transformer Station Equipment - Operation Supplies and Expenses",0]
[2018,"January 1, 2017 - December 31, 2017",null,"EPCOR Electricity Distribution Ontario Inc.","Distribution Expenses - Operation","5030","Overhead Subtransmission Feeders - Operation",0]
[2018,"January 1, 2017 - December 31, 2017",null,"EPCOR Electricity Distribution Ontario Inc.","Distribution Expenses – Maintenance","5105","Maintenance Supervision and Engineering",174452.92]
[2018,"January 1, 2017 - December 31, 2017",null,"EPCOR Electricity Distribution Ontario Inc.","Distribution Expenses – Maintenance","5175","Maintenance of Meters",286680.90999999997]
[2018,"January 1, 2017 - December 31, 2017",null,"ERTH Power Corporation","Administrative and General Expenses","5640","Injuries and Damages",0]
[2018,"January 1, 2017 - December 31, 2017",null,"ERTH Power Corporation","Administrative and General Expenses Total",null,null,3302780.35]
[2018,"January 1, 2017 - December 31, 2017",null,"ERTH Power Corporation","Community Relations Total",null,null,65038.21]
[2018,"January 1, 2017 - December 31, 2017",null,"ERTH Power Corporation","Distribution Expenses - Operation","5014","Transformer Station Equipment - Operation Labour",0]
[2018,"January 1, 2017 - December 31, 2017",null,"ERTH Power Corporation","Distribution Expenses - Operation","5075","Customer Premises - Materials and Expenses",0]
[2018,"January 1, 2017 - December 31, 2017",null,"ERTH Power Corporation","Distribution Expenses – Maintenance","5170","Sentinel Lights - Labour",0]
[2018,"January 1, 2017 - December 31, 2017",null,"Energy Plus Inc.","Administrative and General Expenses","5610","Management Salaries and Expenses",2211518.94]
[2018,"January 1, 2017 - December 31, 2017",null,"Energy Plus Inc.","Administrative and General Expenses","5685","Independent Market Operator Fees and Penalties",0]
[2018,"January 1, 2017 - December 31, 2017",null,"Energy Plus Inc.","Administrative and General Expenses","5695","OM&A Contra",-302169.09000000003]
[2018,"January 1, 2017 - December 31, 2017",null,"Energy Plus Inc.","Community Relations","5425","Miscellaneous Customer Service and Informational Expenses",0]
[2018,"January 1, 2017 - December 31, 2017",null,"Energy Plus Inc.","Distribution Expenses - Operation","5070","Customer Premises - Operation Labour",1987.06]
[2018,"January 1, 2017 - December 31, 2017",null,"Energy Plus Inc.","Distribution Expenses – Maintenance","5145","Maintenance of Underground Conduit",30605.360000000001]
[2018,"January 1, 2017 - December 31, 2017",null,"Entegrus Powerlines Inc.","Administrative and General Expenses","5505","Supervision",0]
[2018,"January 1, 2017 - December 31, 2017",null,"Entegrus Powerlines Inc.","Administrative and General Expenses","5670","Rent",0]
[2018,"January 1, 2017 - December 31, 2017",null,"Entegrus Powerlines Inc.","Administrative and General Expenses","5672","Lease Payment Expense",0]
[2018,"January 1, 2017 - December 31, 2017",null,"Entegrus Powerlines Inc.","Community Relations","5420","Community Safety Program",0]
[2018,"January 1, 2017 - December 31, 2017",null,"Entegrus Powerlines Inc.","Distribution Expenses - Operation","5045","Underground Distribution Lines and Feeders - Operation Supplies and Expenses",158660.76999999999]
[2018,"January 1, 2017 - December 31, 2017",null,"Entegrus Powerlines Inc.","Distribution Expenses – Maintenance","5114","Maintenance of Distribution Station Equipment",135679.70000000001]
[2018,"January 1, 2017 - December 31, 2017",null,"Entegrus Powerlines Inc.","Other Expenses Total",null,null,0]
[2018,"January 1, 2017 - December 31, 2017",null,"Espanola Regional Hydro Distribution Corporation","Administrative and General Expenses","5647","Employee Sick Leave",0]
[2018,"January 1, 2017 - December 31, 2017",null,"Espanola Regional Hydro Distribution Corporation","Administrative and General Expenses","5650","Franchise Requirements",0]
[2018,"January 1, 2017 - December 31, 2017",null,"Espanola Regional Hydro Distribution Corporation","Billing and Collecting","5340","Miscellaneous Customer Accounts Expenses",0]
[2018,"January 1, 2017 - December 31, 2017",null,"Espanola Regional Hydro Distribution Corporation","Distribution Expenses - Operation","5020","Overhead Distribution Lines and Feeders - Operation Labour",53406.66]
[2018,"January 1, 2017 - December 31, 2017",null,"Espanola Regional Hydro Distribution Corporation","Distribution Expenses – Maintenance","5112","Maintenance of Transformer Station Equipment",0]
[2018,"January 1, 2017 - December 31, 2017",null,"Espanola Regional Hydro Distribution Corporation","Distribution Expenses – Maintenance","5195","Maintenance of Other Installations on Customer Premises",0]
[2018,"January 1, 2017 - December 31, 2017",null,"Essex Powerlines Corporation","Administrative and General Expenses","5630","Outside Services Employed",91820.04]
[2018,"January 1, 2017 - December 31, 2017",null,"Essex Powerlines Corporation","Administrative and General Expenses","5647","Employee Sick Leave",0]
[2018,"January 1, 2017 - December 31, 2017",null,"Essex Powerlines Corporation","Billing and Collecting","5315","Customer Billing",597990.51]
[2018,"January 1, 2017 - December 31, 2017",null,"Essex Powerlines Corporation","Distribution Expenses - Operation","5017","Distribution Station Equipment - Operation Supplies and Expenses",0]
[2018,"January 1, 2017 - December 31, 2017",null,"Essex Powerlines Corporation","Distribution Expenses - Operation","5095","Overhead Distribution Lines and Feeders - Rental Paid",0]
[2018,"January 1, 2017 - December 31, 2017",null,"Essex Powerlines Corporation","Distribution Expenses – Maintenance","5165","Maintenance of Street Lighting and Signal Systems",0]
[2018,"January 1, 2017 - December 31, 2017",null,"Essex Powerlines Corporation","Distribution Expenses – Maintenance","5195","Maintenance of Other Installations on Customer Premises",0]
[2018,"January 1, 2017 - December 31, 2017",null,"Festival Hydro Inc.","Administrative and General Expenses","5630","Outside Services Employed",101581.12]
[2018,"January 1, 2017 - December 31, 2017",null,"Festival Hydro Inc.","Administrative and General Expenses","5672","Lease Payment Expense",0]
[2018,"January 1, 2017 - December 31, 2017",null,"Festival Hydro Inc.","Distribution Expenses - Operation","5005","Operation Supervision and Engineering",110235.42]
[2018,"January 1, 2017 - December 31, 2017",null,"Festival Hydro Inc.","Distribution Expenses - Operation","5060","Street Lighting and Signal System Expense",0]
[2018,"January 1, 2017 - December 31, 2017",null,"Festival Hydro Inc.","Distribution Expenses - Operation","5090","Underground Distribution Lines and Feeders - Rental Paid",0]
[2018,"January 1, 2017 - December 31, 2017",null,"Festival Hydro Inc.","Distribution Expenses – Maintenance","5160","Maintenance of Line Transformers",13962.88]
[2018,"January 1, 2017 - December 31, 2017",null,"Fort Frances Power Corporation","Administrative and General Expenses","5520","Miscellaneous Sales Expense",0]
[2018,"January 1, 2017 - December 31, 2017",null,"Fort Frances Power Corporation","Administrative and General Expenses","5680","Electrical Safety Authority Fees",5416]
[2018,"January 1, 2017 - December 31, 2017",null,"Fort Frances Power Corporation","Community Relations","5410","Community Relations - Sundry",13365.82]
[2018,"January 1, 2017 - December 31, 2017",null,"Fort Frances Power Corporation","Distribution Expenses - Operation","5005","Operation Supervision and Engineering",97663.96]
[2018,"January 1, 2017 - December 31, 2017",null,"Fort Frances Power Corporation","Distribution Expenses - Operation","5060","Street Lighting and Signal System Expense",0]
[2018,"January 1, 2017 - December 31, 2017",null,"Fort Frances Power Corporation","Distribution Expenses – Maintenance","5130","Maintenance of Overhead Services",4214.92]
[2018,"January 1, 2017 - December 31, 2017",null,"Greater Sudbury Hydro Inc.","Administrative and General Expenses","5515","Advertising Expense",0]
[2018,"January 1, 2017 - December 31, 2017",null,"Greater Sudbury Hydro Inc.","Administrative and General Expenses","5660","General Advertising Expenses",294774.56]
[2018,"January 1, 2017 - December 31, 2017",null,"Greater Sudbury Hydro Inc.","Billing and Collecting","5330","Collection Charges",0]
[2018,"January 1, 2017 - December 31, 2017",null,"Greater Sudbury Hydro Inc.","Community Relations","5410","Community Relations - Sundry",0]
[2018,"January 1, 2017 - December 31, 2017",null,"Greater Sudbury Hydro Inc.","Distribution Expenses - Operation","5035","Overhead Distribution Transformers- Operation",104177.93]
[2018,"January 1, 2017 - December 31, 2017",null,"Greater Sudbury Hydro Inc.","Distribution Expenses – Maintenance","5125","Maintenance of Overhead Conductors and Devices",210041.82]
[2018,"January 1, 2017 - December 31, 2017",null,"Greater Sudbury Hydro Inc.","Other Expenses","5210","Transmission Charges",0]
[2018,"January 1, 2017 - December 31, 2017",null,"Grimsby Power Incorporated","Administrative and General Expenses","5645","OMERS Pensions and Benefits",11532.42]
[2018,"January 1, 2017 - December 31, 2017",null,"Grimsby Power Incorporated","Administrative and General Expenses","5660","General Advertising Expenses",10763.15]
[2018,"January 1, 2017 - December 31, 2017",null,"Grimsby Power Incorporated","Billing and Collecting","5330","Collection Charges",1004.8]
[2018,"January 1, 2017 - December 31, 2017",null,"Grimsby Power Incorporated","Distribution Expenses - Operation","5016","Distribution Station Equipment - Operation Labour",0]
[2018,"January 1, 2017 - December 31, 2017",null,"Grimsby Power Incorporated","Distribution Expenses – Maintenance","5105","Maintenance Supervision and Engineering",228276.83]
[2018,"January 1, 2017 - December 31, 2017",null,"Grimsby Power Incorporated","Distribution Expenses – Maintenance","5175","Maintenance of Meters",0]
[2018,"January 1, 2017 - December 31, 2017",null,"Guelph Hydro Electric Systems Inc.","Administrative and General Expenses","5640","Injuries and Damages",164642.04]
[2018,"January 1, 2017 - December 31, 2017",null,"Guelph Hydro Electric Systems Inc.","Administrative and General Expenses","5645","OMERS Pensions and Benefits",757709.62]
[2018,"January 1, 2017 - December 31, 2017",null,"Guelph Hydro Electric Systems Inc.","Billing and Collecting","5305","Supervision",724509.63]
[2018,"January 1, 2017 - December 31, 2017",null,"Guelph Hydro Electric Systems Inc.","Distribution Expenses - Operation","5015","Transformer Station Equipment - Operation Supplies and Expenses",0]
[2018,"January 1, 2017 - December 31, 2017",null,"Guelph Hydro Electric Systems Inc.","Distribution Expenses - Operation","5085","Miscellaneous Distribution Expense",1684589.33]
[2018,"January 1, 2017 - December 31, 2017",null,"Guelph Hydro Electric Systems Inc.","Distribution Expenses – Maintenance","5172","Sentinel Lights - Materials and Expenses",0]
[2018,"January 1, 2017 - December 31, 2017",null,"Halton Hills Hydro Inc.","Administrative and General Expenses","5505","Supervision",0]
[2018,"January 1, 2017 - December 31, 2017",null,"Halton Hills Hydro Inc.","Administrative and General Expenses","5615","General Administrative Salaries and Expenses",859977.63]
[2018,"January 1, 2017 - December 31, 2017",null,"Halton Hills Hydro Inc.","Administrative and General Expenses","5695","OM&A Contra",0]
[2018,"January 1, 2017 - December 31, 2017",null,"Halton Hills Hydro Inc.","Community Relations","5425","Miscellaneous Customer Service and Informational Expenses",0]
[2018,"January 1, 2017 - December 31, 2017",null,"Halton Hills Hydro Inc.","Distribution Expenses - Operation","5050","Underground Subtransmission Feeders - Operation",0]
[2018,"January 1, 2017 - December 31, 2017",null,"Halton Hills Hydro Inc.","Distribution Expenses – Maintenance","5145","Maintenance of Underground Conduit",0]
[2018,"January 1, 2017 - December 31, 2017",null,"Hearst Power Distribution Company Limited","Administrative and General Expenses","5505","Supervision",0]
[2018,"January 1, 2017 - December 31, 2017",null,"Hearst Power Distribution Company Limited","Administrative and General Expenses","5610","Management Salaries and Expenses",0]
[2018,"January 1, 2017 - December 31, 2017",null,"Hearst Power Distribution Company Limited","Administrative and General Expenses","5672","Lease Payment Expense",0]
[2018,"January 1, 2017 - December 31, 2017",null,"Hearst Power Distribution Company Limited","Billing and Collecting Total",null,null,311124.59000000003]
[2018,"January 1, 2017 - December 31, 2017",null,"Hearst Power Distribution Company Limited","Distribution Expenses - Operation","5045","Underground Distribution Lines and Feeders - Operation Supplies and Expenses",38.97]
[2018,"January 1, 2017 - December 31, 2017",null,"Hearst Power Distribution Company Limited","Distribution Expenses – Maintenance","5114","Maintenance of Distribution Station Equipment",0]
[2018,"January 1, 2017 - December 31, 2017",null,"Hearst Power Distribution Company Limited","Distribution Expenses – Maintenance Total",null,null,257745.32]
[2018,"January 1, 2017 - December 31, 2017",null,"Hydro 2000 Inc.","Administrative and General Expenses","5505","Supervision",0]
[2018,"January 1, 2017 - December 31, 2017",null,"Hydro 2000 Inc.","Administrative and General Expenses","5650","Franchise Requirements",0]
[2018,"January 1, 2017 - December 31, 2017",null,"Hydro 2000 Inc.","Billing and Collecting","5340","Miscellaneous Customer Accounts Expenses",0]
[2018,"January 1, 2017 - December 31, 2017",null,"Hydro 2000 Inc.","Distribution Expenses - Operation","5020","Overhead Distribution Lines and Feeders - Operation Labour",19714.96]
[2018,"January 1, 2017 - December 31, 2017",null,"Hydro 2000 Inc.","Distribution Expenses - Operation","5096","Other Rent",0]
[2018,"January 1, 2017 - December 31, 2017",null,"Hydro 2000 Inc.","Distribution Expenses – Maintenance","5114","Maintenance of Distribution Station Equipment",0]
[2018,"January 1, 2017 - December 31, 2017",null,"Hydro 2000 Inc.","Distribution Expenses – Maintenance Total",null,null,43625.14]
[2018,"January 1, 2017 - December 31, 2017",null,"Hydro Hawkesbury Inc.","Administrative and General Expenses","5647","Employee Sick Leave",0]
[2018,"January 1, 2017 - December 31, 2017",null,"Hydro Hawkesbury Inc.","Billing and Collecting","5315","Customer Billing",239970.67]
[2018,"January 1, 2017 - December 31, 2017",null,"Hydro Hawkesbury Inc.","Distribution Expenses - Operation","5012","Station Buildings and Fixtures Expense",0]
[2018,"January 1, 2017 - December 31, 2017",null,"Hydro Hawkesbury Inc.","Distribution Expenses - Operation","5020","Overhead Distribution Lines and Feeders - Operation Labour",14300.89]
[2018,"January 1, 2017 - December 31, 2017",null,"Hydro Hawkesbury Inc.","Distribution Expenses - Operation","5096","Other Rent",0]
[2018,"January 1, 2017 - December 31, 2017",null,"Hydro Hawkesbury Inc.","Distribution Expenses – Maintenance","5170","Sentinel Lights - Labour",0]
[2018,"January 1, 2017 - December 31, 2017",null,"Hydro One Networks Inc.","Administrative and General Expenses","5630","Outside Services Employed",19475017.16]
[2018,"January 1, 2017 - December 31, 2017",null,"Hydro One Networks Inc.","Billing and Collecting","5305","Supervision",0]
[2018,"January 1, 2017 - December 31, 2017",null,"Hydro One Networks Inc.","Billing and Collecting","5330","Collection Charges",0]
[2018,"January 1, 2017 - December 31, 2017",null,"Hydro One Networks Inc.","Distribution Expenses - Operation","5016","Distribution Station Equipment - Operation Labour",3493253.04]
[2018,"January 1, 2017 - December 31, 2017",null,"Hydro One Networks Inc.","Distribution Expenses - Operation","5095","Overhead Distribution Lines and Feeders - Rental Paid",0]
[2018,"January 1, 2017 - December 31, 2017",null,"Hydro One Networks Inc.","Distribution Expenses – Maintenance","5172","Sentinel Lights - Materials and Expenses",99631.2]
[2018,"January 1, 2017 - December 31, 2017",null,"Hydro One Remote Communities Inc.","Administrative and General Expenses","5615","General Administrative Salaries and Expenses",1579009.06]
[2018,"January 1, 2017 - December 31, 2017",null,"Hydro One Remote Communities Inc.","Administrative and General Expenses","5640","Injuries and Damages",0]
[2018,"January 1, 2017 - December 31, 2017",null,"Hydro One Remote Communities Inc.","Billing and Collecting","5315","Customer Billing",1167319.46]
[2018,"January 1, 2017 - December 31, 2017",null,"Hydro One Remote Communities Inc.","Distribution Expenses - Operation","5012","Station Buildings and Fixtures Expense",0]
[2018,"January 1, 2017 - December 31, 2017",null,"Hydro One Remote Communities Inc.","Distribution Expenses - Operation","5095","Overhead Distribution Lines and Feeders - Rental Paid",0]
[2018,"January 1, 2017 - December 31, 2017",null,"Hydro One Remote Communities Inc.","Distribution Expenses – Maintenance","5165","Maintenance of Street Lighting and Signal Systems",0]
[2018,"January 1, 2017 - December 31, 2017",null,"Hydro Ottawa Limited","Administrative and General Expenses","5605","Executive Salaries and Expenses",2516469.4700000002]
[2018,"January 1, 2017 - December 31, 2017",null,"Hydro Ottawa Limited","Administrative and General Expenses","5630","Outside Services Employed",1140959.6599999999]
[2018,"January 1, 2017 - December 31, 2017",null,"Hydro Ottawa Limited","Administrative and General Expenses","5685","Independent Market Operator Fees and Penalties",0]
[2018,"January 1, 2017 - December 31, 2017",null,"Hydro Ottawa Limited","Distribution Expenses - Operation","5010","Load Dispatching",3079818.01]
[2018,"January 1, 2017 - December 31, 2017",null,"Hydro Ottawa Limited","Distribution Expenses - Operation","5065","Meter Expense",572913.30000000005]
[2018,"January 1, 2017 - December 31, 2017",null,"Hydro Ottawa Limited","Distribution Expenses – Maintenance","5135","Overhead Distribution Lines and Feeders - Right of Way",4394454.17]
[2018,"January 1, 2017 - December 31, 2017",null,"Innpower Corporation","Administrative and General Expenses","5520","Miscellaneous Sales Expense",0]
[2018,"January 1, 2017 - December 31, 2017",null,"Innpower Corporation","Administrative and General Expenses","5605","Executive Salaries and Expenses",214215.43]
[2018,"January 1, 2017 - December 31, 2017",null,"Innpower Corporation","Administrative and General Expenses","5670","Rent",732.31]
[2018,"January 1, 2017 - December 31, 2017",null,"Innpower Corporation","Community Relations","5415","Energy Conservation",0]
[2018,"January 1, 2017 - December 31, 2017",null,"Innpower Corporation","Distribution Expenses - Operation","5040","Underground Distribution Lines and Feeders - Operation Labour",15503.6]
[2018,"January 1, 2017 - December 31, 2017",null,"Innpower Corporation","Distribution Expenses – Maintenance","5130","Maintenance of Overhead Services",93011.05]
[2018,"January 1, 2017 - December 31, 2017",null,"Innpower Corporation","Other Expenses","5215","Transmission Charges Recovered",0]
[2018,"January 1, 2017 - December 31, 2017",null,"Innpower Corporation","Other Expenses Total",null,null,0]
[2018,"January 1, 2017 - December 31, 2017",null,"Kenora Hydro Electric Corporation Ltd.","Administrative and General Expenses","5665","Miscellaneous General Expenses",27600]
[2018,"January 1, 2017 - December 31, 2017",null,"Kenora Hydro Electric Corporation Ltd.","Billing and Collecting","5335","Bad Debt Expense",-4602]
[2018,"January 1, 2017 - December 31, 2017",null,"Kenora Hydro Electric Corporation Ltd.","Distribution Expenses - Operation","5035","Overhead Distribution Transformers- Operation",2367]
[2018,"January 1, 2017 - December 31, 2017",null,"Kenora Hydro Electric Corporation Ltd.","Distribution Expenses – Maintenance","5110","Maintenance of Buildings and Fixtures - Distribution Stations",0]
[2018,"January 1, 2017 - December 31, 2017",null,"Kenora Hydro Electric Corporation Ltd.","Distribution Expenses – Maintenance","5178","Customer Installations Expenses- Leased Property",0]
[2018,"January 1, 2017 - December 31, 2017",null,"Kenora Hydro Electric Corporation Ltd.","Other Expenses","5215","Transmission Charges Recovered",0]
[2018,"January 1, 2017 - December 31, 2017",null,"Kingston Hydro Corporation","Administrative and General Expenses","5646","Employee Pensions and OPEB",0]
[2018,"January 1, 2017 - December 31, 2017",null,"Kingston Hydro Corporation","Billing and Collecting","5310","Meter Reading Expense",192274]
[2018,"January 1, 2017 - December 31, 2017",null,"Kingston Hydro Corporation","Distribution Expenses - Operation","5016","Distribution Station Equipment - Operation Labour",77239]
[2018,"January 1, 2017 - December 31, 2017",null,"Kingston Hydro Corporation","Distribution Expenses - Operation","5045","Underground Distribution Lines and Feeders - Operation Supplies and Expenses",32033]
[2018,"January 1, 2017 - December 31, 2017",null,"Kingston Hydro Corporation","Distribution Expenses – Maintenance","5105","Maintenance Supervision and Engineering",41520]
[2018,"January 1, 2017 - December 31, 2017",null,"Kingston Hydro Corporation","Distribution Expenses – Maintenance","5175","Maintenance of Meters",0]
[2018,"January 1, 2017 - December 31, 2017",null,"Kitchener-Wilmot Hydro Inc.","Administrative and General Expenses","5620","Office Supplies and Expenses",164824.46]
[2018,"January 1, 2017 - December 31, 2017",null,"Kitchener-Wilmot Hydro Inc.","Administrative and General Expenses Total",null,null,2733194.53]
[2018,"January 1, 2017 - December 31, 2017",null,"Kitchener-Wilmot Hydro Inc.","Community Relations Total",null,null,220472.62]
[2018,"January 1, 2017 - December 31, 2017",null,"Kitchener-Wilmot Hydro Inc.","Distribution Expenses - Operation","5015","Transformer Station Equipment - Operation Supplies and Expenses",612847.06999999995]
[2018,"January 1, 2017 - December 31, 2017",null,"Kitchener-Wilmot Hydro Inc.","Distribution Expenses - Operation","5085","Miscellaneous Distribution Expense",0]
[2018,"January 1, 2017 - December 31, 2017",null,"Kitchener-Wilmot Hydro Inc.","Distribution Expenses – Maintenance","5155","Maintenance of Underground Services",250723.6]
[2018,"January 1, 2017 - December 31, 2017",null,"Lakefront Utilities Inc.","Administrative and General Expenses","5615","General Administrative Salaries and Expenses",324071.94]
[2018,"January 1, 2017 - December 31, 2017",null,"Lakefront Utilities Inc.","Administrative and General Expenses","5675","Maintenance of General Plant",55742.75]
[2018,"January 1, 2017 - December 31, 2017",null,"Lakefront Utilities Inc.","Community Relations","5405","Supervision",0]
[2018,"January 1, 2017 - December 31, 2017",null,"Lakefront Utilities Inc.","Community Relations Total",null,null,15276.12]
[2018,"January 1, 2017 - December 31, 2017",null,"Lakefront Utilities Inc.","Distribution Expenses - Operation","5055","Underground Distribution Transformers - Operation",0]
[2018,"January 1, 2017 - December 31, 2017",null,"Lakefront Utilities Inc.","Distribution Expenses – Maintenance","5150","Maintenance of Underground Conductors and Devices",0]
[2018,"January 1, 2017 - December 31, 2017",null,"Lakeland Power Distribution Ltd.","Administrative and General Expenses","5510","Demonstrating and Selling Expense",0]
[2018,"January 1, 2017 - December 31, 2017",null,"Lakeland Power Distribution Ltd.","Administrative and General Expenses","5655","Regulatory Expenses",73517.990000000005]
[2018,"January 1, 2017 - December 31, 2017",null,"Lakeland Power Distribution Ltd.","Administrative and General Expenses","5675","Maintenance of General Plant",443875.65]
[2018,"January 1, 2017 - December 31, 2017",null,"Lakeland Power Distribution Ltd.","Community Relations","5405","Supervision",0]
[2018,"January 1, 2017 - December 31, 2017",null,"Lakeland Power Distribution Ltd.","Distribution Expenses - Operation","5030","Overhead Subtransmission Feeders - Operation",0]
[2018,"January 1, 2017 - December 31, 2017",null,"Lakeland Power Distribution Ltd.","Distribution Expenses – Maintenance","5120","Maintenance of Poles, Towers and Fixtures",169.92]
[2018,"January 1, 2017 - December 31, 2017",null,"Lakeland Power Distribution Ltd.","Other Expenses","5205","Purchase of Transmission and System Services",0]
[2018,"January 1, 2017 - December 31, 2017",null,"London Hydro Inc.","Administrative and General Expenses","5510","Demonstrating and Selling Expense",0]
[2018,"January 1, 2017 - December 31, 2017",null,"London Hydro Inc.","Administrative and General Expenses","5655","Regulatory Expenses",820573.1]
[2018,"January 1, 2017 - December 31, 2017",null,"London Hydro Inc.","Billing and Collecting","5325","Collecting- Cash Over and Short",0]
[2018,"January 1, 2017 - December 31, 2017",null,"London Hydro Inc.","Distribution Expenses - Operation","5025","Overhead Distribution Lines and Feeders - Operation Supplies and Expenses",295355.49]
[2018,"January 1, 2017 - December 31, 2017",null,"London Hydro Inc.","Distribution Expenses - Operation Total",null,null,9494979.9499999993]
[2018,"January 1, 2017 - December 31, 2017",null,"London Hydro Inc.","Distribution Expenses – Maintenance Total",null,null,8484781.3200000003]
[2018,"January 1, 2017 - December 31, 2017",null,"London Hydro Inc.","Other Expenses","5205","Purchase of Transmission and System Services",0]
[2018,"January 1, 2017 - December 31, 2017",null,"Midland Power Utility Corporation","Administrative and General Expenses","5640","Injuries and Damages",20562.96]
[2018,"January 1, 2017 - December 31, 2017",null,"Midland Power Utility Corporation","Billing and Collecting","5340","Miscellaneous Customer Accounts Expenses",0]
[2018,"January 1, 2017 - December 31, 2017",null,"Midland Power Utility Corporation","Distribution Expenses - Operation","5012","Station Buildings and Fixtures Expense",77477.14]
[2018,"January 1, 2017 - December 31, 2017",null,"Midland Power Utility Corporation","Distribution Expenses - Operation","5070","Customer Premises - Operation Labour",35798.660000000003]
[2018,"January 1, 2017 - December 31, 2017",null,"Midland Power Utility Corporation","Distribution Expenses – Maintenance","5165","Maintenance of Street Lighting and Signal Systems",0]
[2018,"January 1, 2017 - December 31, 2017",null,"Midland Power Utility Corporation","Distribution Expenses – Maintenance","5170","Sentinel Lights - Labour",0]
[2018,"January 1, 2017 - December 31, 2017",null,"Milton Hydro Distribution Inc.","Administrative and General Expenses","5630","Outside Services Employed",326825]
[2018,"January 1, 2017 - December 31, 2017",null,"Milton Hydro Distribution Inc.","Administrative and General Expenses","5685","Independent Market Operator Fees and Penalties",0]
[2018,"January 1, 2017 - December 31, 2017",null,"Milton Hydro Distribution Inc.","Community Relations","5420","Community Safety Program",0]
[2018,"January 1, 2017 - December 31, 2017",null,"Milton Hydro Distribution Inc.","Distribution Expenses - Operation","5065","Meter Expense",334074]
[2018,"January 1, 2017 - December 31, 2017",null,"Milton Hydro Distribution Inc.","Distribution Expenses – Maintenance","5135","Overhead Distribution Lines and Feeders - Right of Way",259508]
[2018,"January 1, 2017 - December 31, 2017",null,"Milton Hydro Distribution Inc.","Distribution Expenses – Maintenance","5145","Maintenance of Underground Conduit",0]
[2018,"January 1, 2017 - December 31, 2017",null,"Newmarket-Tay Power Distribution Ltd.","Administrative and General Expenses","5605","Executive Salaries and Expenses",133275.85999999999]
[2018,"January 1, 2017 - December 31, 2017",null,"Newmarket-Tay Power Distribution Ltd.","Administrative and General Expenses","5670","Rent",250976.59]
[2018,"January 1, 2017 - December 31, 2017",null,"Newmarket-Tay Power Distribution Ltd.","Community Relations","5415","Energy Conservation",0]
[2018,"January 1, 2017 - December 31, 2017",null,"Newmarket-Tay Power Distribution Ltd.","Distribution Expenses - Operation","5040","Underground Distribution Lines and Feeders - Operation Labour",329717.34000000003]
[2018,"January 1, 2017 - December 31, 2017",null,"Newmarket-Tay Power Distribution Ltd.","Distribution Expenses – Maintenance","5112","Maintenance of Transformer Station Equipment",0]
[2018,"January 1, 2017 - December 31, 2017",null,"Newmarket-Tay Power Distribution Ltd.","Distribution Expenses – Maintenance","5135","Overhead Distribution Lines and Feeders - Right of Way",110687.75]
[2018,"January 1, 2017 - December 31, 2017",null,"Newmarket-Tay Power Distribution Ltd.","Other Expenses Total",null,null,0]
[2018,"January 1, 2017 - December 31, 2017",null,"Niagara Peninsula Energy Inc.","Administrative and General Expenses","5665","Miscellaneous General Expenses",83824.41]
[2018,"January 1, 2017 - December 31, 2017",null,"Niagara Peninsula Energy Inc.","Billing and Collecting","5335","Bad Debt Expense",263168.46000000002]
[2018,"January 1, 2017 - December 31, 2017",null,"Niagara Peninsula Energy Inc.","Distribution Expenses - Operation","5017","Distribution Station Equipment - Operation Supplies and Expenses",0]
[2018,"January 1, 2017 - December 31, 2017",null,"Niagara Peninsula Energy Inc.","Distribution Expenses - Operation","5040","Underground Distribution Lines and Feeders - Operation Labour",120416.18]
[2018,"January 1, 2017 - December 31, 2017",null,"Niagara Peninsula Energy Inc.","Distribution Expenses – Maintenance","5112","Maintenance of Transformer Station Equipment",0]
[2018,"January 1, 2017 - December 31, 2017",null,"Niagara Peninsula Energy Inc.","Distribution Expenses – Maintenance","5195","Maintenance of Other Installations on Customer Premises",0]
[2018,"January 1, 2017 - December 31, 2017",null,"Niagara-on-the-Lake Hydro Inc.","Administrative and General Expenses","5646","Employee Pensions and OPEB",0]
[2018,"January 1, 2017 - December 31, 2017",null,"Niagara-on-the-Lake Hydro Inc.","Billing and Collecting","5310","Meter Reading Expense",96976.82]
[2018,"January 1, 2017 - December 31, 2017",null,"Niagara-on-the-Lake Hydro Inc.","Billing and Collecting","5335","Bad Debt Expense",17788.759999999998]
[2018,"January 1, 2017 - December 31, 2017",null,"Niagara-on-the-Lake Hydro Inc.","Distribution Expenses - Operation","5017","Distribution Station Equipment - Operation Supplies and Expenses",0]
[2018,"January 1, 2017 - December 31, 2017",null,"Niagara-on-the-Lake Hydro Inc.","Distribution Expenses - Operation","5095","Overhead Distribution Lines and Feeders - Rental Paid",16653.12]
[2018,"January 1, 2017 - December 31, 2017",null,"Niagara-on-the-Lake Hydro Inc.","Distribution Expenses – Maintenance","5178","Customer Installations Expenses- Leased Property",0]
[2018,"January 1, 2017 - December 31, 2017",null,"North Bay Hydro Distribution Limited","Administrative and General Expenses","5610","Management Salaries and Expenses",945876.22]
[2018,"January 1, 2017 - December 31, 2017",null,"North Bay Hydro Distribution Limited","Administrative and General Expenses","5645","OMERS Pensions and Benefits",361084.94]
[2018,"January 1, 2017 - December 31, 2017",null,"North Bay Hydro Distribution Limited","Billing and Collecting","5305","Supervision",0]
[2018,"January 1, 2017 - December 31, 2017",null,"North Bay Hydro Distribution Limited","Distribution Expenses - Operation","5005","Operation Supervision and Engineering",0]
[2018,"January 1, 2017 - December 31, 2017",null,"North Bay Hydro Distribution Limited","Distribution Expenses - Operation","5085","Miscellaneous Distribution Expense",-130561.45]
[2018,"January 1, 2017 - December 31, 2017",null,"North Bay Hydro Distribution Limited","Distribution Expenses – Maintenance","5155","Maintenance of Underground Services",128545.60000000001]
[2018,"January 1, 2017 - December 31, 2017",null,"Northern Ontario Wires Inc.","Administrative and General Expenses","5515","Advertising Expense",0]
[2018,"January 1, 2017 - December 31, 2017",null,"Northern Ontario Wires Inc.","Administrative and General Expenses","5620","Office Supplies and Expenses",97269.09]
[2018,"January 1, 2017 - December 31, 2017",null,"Northern Ontario Wires Inc.","Administrative and General Expenses","5680","Electrical Safety Authority Fees",3788.04]
[2018,"January 1, 2017 - December 31, 2017",null,"Northern Ontario Wires Inc.","Community Relations Total",null,null,0]
[2018,"January 1, 2017 - December 31, 2017",null,"Northern Ontario Wires Inc.","Distribution Expenses - Operation","5055","Underground Distribution Transformers - Operation",1282.68]
[2018,"January 1, 2017 - December 31, 2017",null,"Northern Ontario Wires Inc.","Distribution Expenses – Maintenance","5125","Maintenance of Overhead Conductors and Devices",219416.95999999999]
[2018,"January 1, 2017 - December 31, 2017",null,"Northern Ontario Wires Inc.","Distribution Expenses – Maintenance","5155","Maintenance of Underground Services",2807.04]
[2018,"January 1, 2017 - December 31, 2017",null,"Oakville Hydro Electricity Distribution Inc.","Administrative and General Expenses","5515","Advertising Expense",64.900000000000006]
[2018,"January 1, 2017 - December 31, 2017",null,"Oakville Hydro Electricity Distribution Inc.","Administrative and General Expenses","5660","General Advertising Expenses",0]
[2018,"January 1, 2017 - December 31, 2017",null,"Oakville Hydro Electricity Distribution Inc.","Community Relations","5405","Supervision",0]
[2018,"January 1, 2017 - December 31, 2017",null,"Oakville Hydro Electricity Distribution Inc.","Distribution Expenses - Operation","5030","Overhead Subtransmission Feeders - Operation",0]
[2018,"January 1, 2017 - December 31, 2017",null,"Oakville Hydro Electricity Distribution Inc.","Distribution Expenses – Maintenance","5120","Maintenance of Poles, Towers and Fixtures",52380.91]
[2018,"January 1, 2017 - December 31, 2017",null,"Oakville Hydro Electricity Distribution Inc.","Distribution Expenses – Maintenance","5125","Maintenance of Overhead Conductors and Devices",67314.73]
[2018,"January 1, 2017 - December 31, 2017",null,"Oakville Hydro Electricity Distribution Inc.","Other Expenses","5210","Transmission Charges",0]
[2018,"January 1, 2017 - December 31, 2017",null,"Orangeville Hydro Limited","Administrative and General Expenses","5655","Regulatory Expenses",78777.59]
[2018,"January 1, 2017 - December 31, 2017",null,"Orangeville Hydro Limited","Billing and Collecting","5325","Collecting- Cash Over and Short",-25.16]
[2018,"January 1, 2017 - December 31, 2017",null,"Orangeville Hydro Limited","Distribution Expenses - Operation","5025","Overhead Distribution Lines and Feeders - Operation Supplies and Expenses",8051.91]
[2018,"January 1, 2017 - December 31, 2017",null,"Orangeville Hydro Limited","Distribution Expenses - Operation Total",null,null,446425.49]
[2018,"January 1, 2017 - December 31, 2017",null,"Orangeville Hydro Limited","Distribution Expenses – Maintenance","5105","Maintenance Supervision and Engineering",159959.03]
[2018,"January 1, 2017 - December 31, 2017",null,"Orangeville Hydro Limited","Other Expenses","5205","Purchase of Transmission and System Services",0]
[2018,"January 1, 2017 - December 31, 2017",null,"Orillia Power Distribution Corporation","Administrative and General Expenses","5640","Injuries and Damages",29775]
[2018,"January 1, 2017 - December 31, 2017",null,"Orillia Power Distribution Corporation","Administrative and General Expenses Total",null,null,1499445]
[2018,"January 1, 2017 - December 31, 2017",null,"Orillia Power Distribution Corporation","Distribution Expenses - Operation","5014","Transformer Station Equipment - Operation Labour",0]
[2018,"January 1, 2017 - December 31, 2017",null,"Orillia Power Distribution Corporation","Distribution Expenses - Operation","5075","Customer Premises - Materials and Expenses",0]
[2018,"January 1, 2017 - December 31, 2017",null,"Orillia Power Distribution Corporation","Distribution Expenses - Operation Total",null,null,1009373]
[2018,"January 1, 2017 - December 31, 2017",null,"Orillia Power Distribution Corporation","Distribution Expenses – Maintenance","5178","Customer Installations Expenses- Leased Property",0]
[2018,"January 1, 2017 - December 31, 2017",null,"Oshawa PUC Networks Inc.","Administrative and General Expenses","5610","Management Salaries and Expenses",911577.29]
[2018,"January 1, 2017 - December 31, 2017",null,"Oshawa PUC Networks Inc.","Administrative and General Expenses","5685","Independent Market Operator Fees and Penalties",0]
[2018,"January 1, 2017 - December 31, 2017",null,"Oshawa PUC Networks Inc.","Community Relations","5420","Community Safety Program",157200.48000000001]
[2018,"January 1, 2017 - December 31, 2017",null,"Oshawa PUC Networks Inc.","Distribution Expenses - Operation","5045","Underground Distribution Lines and Feeders - Operation Supplies and Expenses",1101.3]
[2018,"January 1, 2017 - December 31, 2017",null,"Oshawa PUC Networks Inc.","Distribution Expenses - Operation","5070","Customer Premises - Operation Labour",0]
[2018,"January 1, 2017 - December 31, 2017",null,"Oshawa PUC Networks Inc.","Distribution Expenses – Maintenance","5145","Maintenance of Underground Conduit",201203.64]
[2018,"January 1, 2017 - December 31, 2017",null,"Ottawa River Power Corporation","Administrative and General Expenses","5605","Executive Salaries and Expenses",45693.3]
[2018,"January 1, 2017 - December 31, 2017",null,"Ottawa River Power Corporation","Administrative and General Expenses","5670","Rent",15000]
[2018,"January 1, 2017 - December 31, 2017",null,"Ottawa River Power Corporation","Billing and Collecting","5340","Miscellaneous Customer Accounts Expenses",0]
[2018,"January 1, 2017 - December 31, 2017",null,"Ottawa River Power Corporation","Community Relations","5420","Community Safety Program",49116.04]
[2018,"January 1, 2017 - December 31, 2017",null,"Ottawa River Power Corporation","Distribution Expenses - Operation","5045","Underground Distribution Lines and Feeders - Operation Supplies and Expenses",0]
[2018,"January 1, 2017 - December 31, 2017",null,"Ottawa River Power Corporation","Distribution Expenses – Maintenance","5135","Overhead Distribution Lines and Feeders - Right of Way",145051.89000000001]
[2018,"January 1, 2017 - December 31, 2017",null,"Ottawa River Power Corporation","Other Expenses Total",null,null,0]
[2018,"January 1, 2017 - December 31, 2017",null,"PUC Distribution Inc.","Administrative and General Expenses","5647","Employee Sick Leave",0]
[2018,"January 1, 2017 - December 31, 2017",null,"PUC Distribution Inc.","Administrative and General Expenses","5670","Rent",0]
[2018,"January 1, 2017 - December 31, 2017",null,"PUC Distribution Inc.","Billing and Collecting","5340","Miscellaneous Customer Accounts Expenses",0]
[2018,"January 1, 2017 - December 31, 2017",null,"PUC Distribution Inc.","Distribution Expenses - Operation","5020","Overhead Distribution Lines and Feeders - Operation Labour",625727.12]
[2018,"January 1, 2017 - December 31, 2017",null,"PUC Distribution Inc.","Distribution Expenses – Maintenance","5112","Maintenance of Transformer Station Equipment",96293.71]
[2018,"January 1, 2017 - December 31, 2017",null,"PUC Distribution Inc.","Distribution Expenses – Maintenance","5195","Maintenance of Other Installations on Customer Premises",0]
[2018,"January 1, 2017 - December 31, 2017",null,"PUC Distribution Inc.","Other Expenses Total",null,null,0]
[2018,"January 1, 2017 - December 31, 2017",null,"Renfrew Hydro Inc.","Administrative and General Expenses","5647","Employee Sick Leave",0]
[2018,"January 1, 2017 - December 31, 2017",null,"Renfrew Hydro Inc.","Billing and Collecting","5315","Customer Billing",279483.34999999998]
[2018,"January 1, 2017 - December 31, 2017",null,"Renfrew Hydro Inc.","Distribution Expenses - Operation","5017","Distribution Station Equipment - Operation Supplies and Expenses",44958.95]
[2018,"January 1, 2017 - December 31, 2017",null,"Renfrew Hydro Inc.","Distribution Expenses - Operation","5095","Overhead Distribution Lines and Feeders - Rental Paid",9375.15]
[2018,"January 1, 2017 - December 31, 2017",null,"Renfrew Hydro Inc.","Distribution Expenses – Maintenance","5112","Maintenance of Transformer Station Equipment",0]
[2018,"January 1, 2017 - December 31, 2017",null,"Renfrew Hydro Inc.","Distribution Expenses – Maintenance","5195","Maintenance of Other Installations on Customer Premises",0]
[2018,"January 1, 2017 - December 31, 2017",null,"Rideau St. Lawrence Distribution Inc.","Administrative and General Expenses","5630","Outside Services Employed",68135.75]
[2018,"January 1, 2017 - December 31, 2017",null,"Rideau St. Lawrence Distribution Inc.","Billing and Collecting","5310","Meter Reading Expense",73079.05]
[2018,"January 1, 2017 - December 31, 2017",null,"Rideau St. Lawrence Distribution Inc.","Distribution Expenses - Operation","5010","Load Dispatching",0]
[2018,"January 1, 2017 - December 31, 2017",null,"Rideau St. Lawrence Distribution Inc.","Distribution Expenses - Operation","5040","Underground Distribution Lines and Feeders - Operation Labour",0]
[2018,"January 1, 2017 - December 31, 2017",null,"Rideau St. Lawrence Distribution Inc.","Distribution Expenses - Operation","5090","Underground Distribution Lines and Feeders - Rental Paid",28764]
[2018,"January 1, 2017 - December 31, 2017",null,"Rideau St. Lawrence Distribution Inc.","Distribution Expenses – Maintenance","5160","Maintenance of Line Transformers",14428.5]
[2018,"January 1, 2017 - December 31, 2017",null,"Sioux Lookout Hydro Inc.","Administrative and General Expenses","5620","Office Supplies and Expenses",7731.13]
[2018,"January 1, 2017 - December 31, 2017",null,"Sioux Lookout Hydro Inc.","Administrative and General Expenses","5680","Electrical Safety Authority Fees",2554]
[2018,"January 1, 2017 - December 31, 2017",null,"Sioux Lookout Hydro Inc.","Community Relations","5410","Community Relations - Sundry",0]
[2018,"January 1, 2017 - December 31, 2017",null,"Sioux Lookout Hydro Inc.","Distribution Expenses - Operation","5055","Underground Distribution Transformers - Operation",0]
[2018,"January 1, 2017 - December 31, 2017",null,"Sioux Lookout Hydro Inc.","Distribution Expenses - Operation","5060","Street Lighting and Signal System Expense",0]
[2018,"January 1, 2017 - December 31, 2017",null,"Sioux Lookout Hydro Inc.","Distribution Expenses – Maintenance","5130","Maintenance of Overhead Services",0]
[2018,"January 1, 2017 - December 31, 2017",null,"St. Thomas Energy Inc.","Administrative and General Expenses","5515","Advertising Expense",0]
[2018,"January 1, 2017 - December 31, 2017",null,"St. Thomas Energy Inc.","Administrative and General Expenses","5660","General Advertising Expenses",209]
[2018,"January 1, 2017 - December 31, 2017",null,"St. Thomas Energy Inc.","Community Relations","5405","Supervision",0]
[2018,"January 1, 2017 - December 31, 2017",null,"St. Thomas Energy Inc.","Distribution Expenses - Operation","5030","Overhead Subtransmission Feeders - Operation",0]
[2018,"January 1, 2017 - December 31, 2017",null,"St. Thomas Energy Inc.","Distribution Expenses - Operation","5035","Overhead Distribution Transformers- Operation",194.27]
[2018,"January 1, 2017 - December 31, 2017",null,"St. Thomas Energy Inc.","Distribution Expenses – Maintenance","5125","Maintenance of Overhead Conductors and Devices",9398.9]
[2018,"January 1, 2017 - December 31, 2017",null,"St. Thomas Energy Inc.","Other Expenses","5210","Transmission Charges",0]
[2018,"January 1, 2017 - December 31, 2017",null,"Thunder Bay Hydro Electricity Distribution Inc.","Administrative and General Expenses","5655","Regulatory Expenses",580165.87]
[2018,"January 1, 2017 - December 31, 2017",null,"Thunder Bay Hydro Electricity Distribution Inc.","Billing and Collecting","5325","Collecting- Cash Over and Short",0]
[2018,"January 1, 2017 - December 31, 2017",null,"Thunder Bay Hydro Electricity Distribution Inc.","Distribution Expenses - Operation","5015","Transformer Station Equipment - Operation Supplies and Expenses",0]
[2018,"January 1, 2017 - December 31, 2017",null,"Thunder Bay Hydro Electricity Distribution Inc.","Distribution Expenses - Operation","5030","Overhead Subtransmission Feeders - Operation",0]
[2018,"January 1, 2017 - December 31, 2017",null,"Thunder Bay Hydro Electricity Distribution Inc.","Distribution Expenses – Maintenance","5105","Maintenance Supervision and Engineering",1409015.41]
[2018,"January 1, 2017 - December 31, 2017",null,"Thunder Bay Hydro Electricity Distribution Inc.","Distribution Expenses – Maintenance","5175","Maintenance of Meters",50980.46]
[2018,"January 1, 2017 - December 31, 2017",null,"Tillsonburg Hydro Inc.","Administrative and General Expenses","5640","Injuries and Damages",0]
[2018,"January 1, 2017 - December 31, 2017",null,"Tillsonburg Hydro Inc.","Administrative and General Expenses Total",null,null,1373041.94]
[2018,"January 1, 2017 - December 31, 2017",null,"Tillsonburg Hydro Inc.","Billing and Collecting","5325","Collecting- Cash Over and Short",0]
[2018,"January 1, 2017 - December 31, 2017",null,"Tillsonburg Hydro Inc.","Distribution Expenses - Operation","5015","Transformer Station Equipment - Operation Supplies and Expenses",0]
[2018,"January 1, 2017 - December 31, 2017",null,"Tillsonburg Hydro Inc.","Distribution Expenses - Operation","5085","Miscellaneous Distribution Expense",336825.23]
[2018,"January 1, 2017 - December 31, 2017",null,"Tillsonburg Hydro Inc.","Distribution Expenses – Maintenance","5172","Sentinel Lights - Materials and Expenses",0]
[2018,"January 1, 2017 - December 31, 2017",null,"Toronto Hydro-Electric System Limited","Administrative and General Expenses","5615","General Administrative Salaries and Expenses",54962033.909999996]
[2018,"January 1, 2017 - December 31, 2017",null,"Toronto Hydro-Electric System Limited","Administrative and General Expenses","5640","Injuries and Damages",1585785.93]
[2018,"January 1, 2017 - December 31, 2017",null,"Toronto Hydro-Electric System Limited","Billing and Collecting","5335","Bad Debt Expense",5299255.47]
[2018,"January 1, 2017 - December 31, 2017",null,"Toronto Hydro-Electric System Limited","Community Relations","5425","Miscellaneous Customer Service and Informational Expenses",0]
[2018,"January 1, 2017 - December 31, 2017",null,"Toronto Hydro-Electric System Limited","Distribution Expenses - Operation","5070","Customer Premises - Operation Labour",1345681.86]
[2018,"January 1, 2017 - December 31, 2017",null,"Toronto Hydro-Electric System Limited","Distribution Expenses – Maintenance","5145","Maintenance of Underground Conduit",3879.61]
[2018,"January 1, 2017 - December 31, 2017",null,"Veridian Connections Inc.","Administrative and General Expenses","5505","Supervision",0]
[2018,"January 1, 2017 - December 31, 2017",null,"Veridian Connections Inc.","Administrative and General Expenses","5610","Management Salaries and Expenses",0]
[2018,"January 1, 2017 - December 31, 2017",null,"Veridian Connections Inc.","Administrative and General Expenses","5672","Lease Payment Expense",0]
[2018,"January 1, 2017 - December 31, 2017",null,"Veridian Connections Inc.","Community Relations","5420","Community Safety Program",32718]
[2018,"January 1, 2017 - December 31, 2017",null,"Veridian Connections Inc.","Distribution Expenses - Operation","5045","Underground Distribution Lines and Feeders - Operation Supplies and Expenses",604387]
[2018,"January 1, 2017 - December 31, 2017",null,"Veridian Connections Inc.","Distribution Expenses – Maintenance","5114","Maintenance of Distribution Station Equipment",378607]
[2018,"January 1, 2017 - December 31, 2017",null,"Veridian Connections Inc.","Distribution Expenses – Maintenance","5145","Maintenance of Underground Conduit",24863]
[2018,"January 1, 2017 - December 31, 2017",null,"Wasaga Distribution Inc.","Administrative and General Expenses","5505","Supervision",0]
[2018,"January 1, 2017 - December 31, 2017",null,"Wasaga Distribution Inc.","Administrative and General Expenses","5650","Franchise Requirements",0]
[2018,"January 1, 2017 - December 31, 2017",null,"Wasaga Distribution Inc.","Billing and Collecting","5340","Miscellaneous Customer Accounts Expenses",0]
[2018,"January 1, 2017 - December 31, 2017",null,"Wasaga Distribution Inc.","Distribution Expenses - Operation","5020","Overhead Distribution Lines and Feeders - Operation Labour",0]
[2018,"January 1, 2017 - December 31, 2017",null,"Wasaga Distribution Inc.","Distribution Expenses - Operation","5045","Underground Distribution Lines and Feeders - Operation Supplies and Expenses",0]
[2018,"January 1, 2017 - December 31, 2017",null,"Wasaga Distribution Inc.","Distribution Expenses – Maintenance","5114","Maintenance of Distribution Station Equipment",0]
[2018,"January 1, 2017 - December 31, 2017",null,"Wasaga Distribution Inc.","Distribution Expenses – Maintenance Total",null,null,755901.64]
[2018,"January 1, 2017 - December 31, 2017",null,"Waterloo North Hydro Inc.","Administrative and General Expenses","5647","Employee Sick Leave",0]
[2018,"January 1, 2017 - December 31, 2017",null,"Waterloo North Hydro Inc.","Billing and Collecting","5315","Customer Billing",1576427]
[2018,"January 1, 2017 - December 31, 2017",null,"Waterloo North Hydro Inc.","Distribution Expenses - Operation","5017","Distribution Station Equipment - Operation Supplies and Expenses",97999]
[2018,"January 1, 2017 - December 31, 2017",null,"Waterloo North Hydro Inc.","Distribution Expenses - Operation","5020","Overhead Distribution Lines and Feeders - Operation Labour",1052680]
[2018,"January 1, 2017 - December 31, 2017",null,"Waterloo North Hydro Inc.","Distribution Expenses - Operation","5096","Other Rent",0]
[2018,"January 1, 2017 - December 31, 2017",null,"Waterloo North Hydro Inc.","Distribution Expenses – Maintenance","5195","Maintenance of Other Installations on Customer Premises",0]
[2018,"January 1, 2017 - December 31, 2017",null,"Welland Hydro-Electric System Corp.","Administrative and General Expenses","5630","Outside Services Employed",154656.23000000001]
[2018,"January 1, 2017 - December 31, 2017",null,"Welland Hydro-Electric System Corp.","Administrative and General Expenses","5685","Independent Market Operator Fees and Penalties",0]
[2018,"January 1, 2017 - December 31, 2017",null,"Welland Hydro-Electric System Corp.","Distribution Expenses - Operation","5010","Load Dispatching",204381.23]
[2018,"January 1, 2017 - December 31, 2017",null,"Welland Hydro-Electric System Corp.","Distribution Expenses - Operation","5012","Station Buildings and Fixtures Expense",11502.79]
[2018,"January 1, 2017 - December 31, 2017",null,"Welland Hydro-Electric System Corp.","Distribution Expenses - Operation","5095","Overhead Distribution Lines and Feeders - Rental Paid",24817.82]
[2018,"January 1, 2017 - December 31, 2017",null,"Welland Hydro-Electric System Corp.","Distribution Expenses – Maintenance","5165","Maintenance of Street Lighting and Signal Systems",0]
[2018,"January 1, 2017 - December 31, 2017",null,"Wellington North Power Inc.","Administrative and General Expenses","5605","Executive Salaries and Expenses",152797.12]
[2018,"January 1, 2017 - December 31, 2017",null,"Wellington North Power Inc.","Administrative and General Expenses","5680","Electrical Safety Authority Fees",4428.78]
[2018,"January 1, 2017 - December 31, 2017",null,"Wellington North Power Inc.","Community Relations","5410","Community Relations - Sundry",5860.4]
[2018,"January 1, 2017 - December 31, 2017",null,"Wellington North Power Inc.","Community Relations","5415","Energy Conservation",0]
[2018,"January 1, 2017 - December 31, 2017",null,"Wellington North Power Inc.","Distribution Expenses - Operation","5060","Street Lighting and Signal System Expense",0]
[2018,"January 1, 2017 - December 31, 2017",null,"Wellington North Power Inc.","Distribution Expenses – Maintenance","5130","Maintenance of Overhead Services",9707.5499999999993]
[2018,"January 1, 2017 - December 31, 2017",null,"West Coast Huron Energy Inc.","Administrative and General Expenses","5515","Advertising Expense",2073]
[2018,"January 1, 2017 - December 31, 2017",null,"West Coast Huron Energy Inc.","Administrative and General Expenses","5660","General Advertising Expenses",0]
[2018,"January 1, 2017 - December 31, 2017",null,"West Coast Huron Energy Inc.","Billing and Collecting","5330","Collection Charges",0]
[2018,"January 1, 2017 - December 31, 2017",null,"West Coast Huron Energy Inc.","Community Relations","5410","Community Relations - Sundry",239]
[2018,"January 1, 2017 - December 31, 2017",null,"West Coast Huron Energy Inc.","Distribution Expenses - Operation","5035","Overhead Distribution Transformers- Operation",0]
[2018,"January 1, 2017 - December 31, 2017",null,"West Coast Huron Energy Inc.","Distribution Expenses – Maintenance","5125","Maintenance of Overhead Conductors and Devices",20529]
[2018,"January 1, 2017 - December 31, 2017",null,"West Coast Huron Energy Inc.","Other Expenses","5210","Transmission Charges",0]
[2018,"January 1, 2017 - December 31, 2017",null,"Westario Power Inc.","Administrative and General Expenses","5645","OMERS Pensions and Benefits",0]
[2018,"January 1, 2017 - December 31, 2017",null,"Westario Power Inc.","Administrative and General Expenses","5660","General Advertising Expenses",15754]
[2018,"January 1, 2017 - December 31, 2017",null,"Westario Power Inc.","Billing and Collecting","5330","Collection Charges",10733]
[2018,"January 1, 2017 - December 31, 2017",null,"Westario Power Inc.","Distribution Expenses - Operation","5016","Distribution Station Equipment - Operation Labour",6076]
[2018,"January 1, 2017 - December 31, 2017",null,"Westario Power Inc.","Distribution Expenses – Maintenance","5105","Maintenance Supervision and Engineering",0]
[2018,"January 1, 2017 - December 31, 2017",null,"Westario Power Inc.","Distribution Expenses – Maintenance","5175","Maintenance of Meters",183450]
[2018,"January 1, 2017 - December 31, 2017",null,"Westario Power Inc.","Other Expenses","5210","Transmission Charges",0]
[2018,"January 1, 2017 - December 31, 2017",null,"Whitby Hydro Electric Corporation","Administrative and General Expenses","5645","OMERS Pensions and Benefits",0]
[2018,"January 1, 2017 - December 31, 2017",null,"Whitby Hydro Electric Corporation","Billing and Collecting","5305","Supervision",131941.35999999999]
[2018,"January 1, 2017 - December 31, 2017",null,"Whitby Hydro Electric Corporation","Distribution Expenses - Operation","5015","Transformer Station Equipment - Operation Supplies and Expenses",0]
[2018,"January 1, 2017 - December 31, 2017",null,"Whitby Hydro Electric Corporation","Distribution Expenses - Operation","5085","Miscellaneous Distribution Expense",961634.33]
[2018,"January 1, 2017 - December 31, 2017",null,"Whitby Hydro Electric Corporation","Distribution Expenses – Maintenance","5105","Maintenance Supervision and Engineering",193857.43]
[2018,"January 1, 2017 - December 31, 2017",null,"Whitby Hydro Electric Corporation","Distribution Expenses – Maintenance","5175","Maintenance of Meters",26969.65]
[2019,"January 1, 2018 - December 31, 2018",null,"1937680 Ontario Inc.","Administrative and General Expenses","5620","Office Supplies and Expenses",5403.51]
[2019,"January 1, 2018 - December 31, 2018",null,"1937680 Ontario Inc.","Administrative and General Expenses Total",null,null,3252847.32]
[2019,"January 1, 2018 - December 31, 2018",null,"1937680 Ontario Inc.","Community Relations Total",null,null,0]
[2019,"January 1, 2018 - December 31, 2018",null,"1937680 Ontario Inc.","Distribution Expenses - Operation","5055","Underground Distribution Transformers - Operation",2166.87]
[2019,"January 1, 2018 - December 31, 2018",null,"1937680 Ontario Inc.","Distribution Expenses - Operation","5085","Miscellaneous Distribution Expense",192010.7]
[2019,"January 1, 2018 - December 31, 2018",null,"1937680 Ontario Inc.","Distribution Expenses – Maintenance","5175","Maintenance of Meters",3795]
[2019,"January 1, 2018 - December 31, 2018",null,"Alectra Utilities Corporation","Administrative and General Expenses","5610","Management Salaries and Expenses",14532860.48]
[2019,"January 1, 2018 - December 31, 2018",null,"Alectra Utilities Corporation","Administrative and General Expenses","5672","Lease Payment Expense",0]
[2019,"January 1, 2018 - December 31, 2018",null,"Alectra Utilities Corporation","Billing and Collecting Total",null,null,37645860.689999998]
[2019,"January 1, 2018 - December 31, 2018",null,"Alectra Utilities Corporation","Community Relations","5425","Miscellaneous Customer Service and Informational Expenses",1563.96]
[2019,"January 1, 2018 - December 31, 2018",null,"Alectra Utilities Corporation","Distribution Expenses - Operation","5050","Underground Subtransmission Feeders - Operation",0]
[2019,"January 1, 2018 - December 31, 2018",null,"Alectra Utilities Corporation","Distribution Expenses – Maintenance","5120","Maintenance of Poles, Towers and Fixtures",349748.76]
[2019,"January 1, 2018 - December 31, 2018",null,"Algoma Power Inc.","Administrative and General Expenses","5505","Supervision",0]
[2019,"January 1, 2018 - December 31, 2018",null,"Algoma Power Inc.","Administrative and General Expenses","5660","General Advertising Expenses",14903.21]
[2019,"January 1, 2018 - December 31, 2018",null,"Algoma Power Inc.","Community Relations","5410","Community Relations - Sundry",8457.25]
[2019,"January 1, 2018 - December 31, 2018",null,"Algoma Power Inc.","Community Relations","5415","Energy Conservation",0]
[2019,"January 1, 2018 - December 31, 2018",null,"Algoma Power Inc.","Distribution Expenses - Operation","5040","Underground Distribution Lines and Feeders - Operation Labour",10075.18]
[2019,"January 1, 2018 - December 31, 2018",null,"Algoma Power Inc.","Distribution Expenses – Maintenance","5130","Maintenance of Overhead Services",197283.93]
[2019,"January 1, 2018 - December 31, 2018",null,"Algoma Power Inc.","Other Expenses","5215","Transmission Charges Recovered",0]
[2019,"January 1, 2018 - December 31, 2018",null,"Atikokan Hydro Inc.","Administrative and General Expenses","5660","General Advertising Expenses",1093.5]
[2019,"January 1, 2018 - December 31, 2018",null,"Atikokan Hydro Inc.","Billing and Collecting","5330","Collection Charges",0]
[2019,"January 1, 2018 - December 31, 2018",null,"Atikokan Hydro Inc.","Billing and Collecting","5335","Bad Debt Expense",3955.34]
[2019,"January 1, 2018 - December 31, 2018",null,"Atikokan Hydro Inc.","Distribution Expenses - Operation","5035","Overhead Distribution Transformers- Operation",0]
[2019,"January 1, 2018 - December 31, 2018",null,"Atikokan Hydro Inc.","Distribution Expenses – Maintenance","5110","Maintenance of Buildings and Fixtures - Distribution Stations",0]
[2019,"January 1, 2018 - December 31, 2018",null,"Atikokan Hydro Inc.","Distribution Expenses – Maintenance","5178","Customer Installations Expenses- Leased Property",0]
[2019,"January 1, 2018 - December 31, 2018",null,"Bluewater Power Distribution Corporation","Administrative and General Expenses","5645","OMERS Pensions and Benefits",1348741]
[2019,"January 1, 2018 - December 31, 2018",null,"Bluewater Power Distribution Corporation","Billing and Collecting","5305","Supervision",204127]
[2019,"January 1, 2018 - December 31, 2018",null,"Bluewater Power Distribution Corporation","Billing and Collecting","5330","Collection Charges",0]
[2019,"January 1, 2018 - December 31, 2018",null,"Bluewater Power Distribution Corporation","Distribution Expenses - Operation","5016","Distribution Station Equipment - Operation Labour",27097]
[2019,"January 1, 2018 - December 31, 2018",null,"Bluewater Power Distribution Corporation","Distribution Expenses - Operation","5090","Underground Distribution Lines and Feeders - Rental Paid",0]
[2019,"January 1, 2018 - December 31, 2018",null,"Bluewater Power Distribution Corporation","Distribution Expenses – Maintenance","5175","Maintenance of Meters",512]
[2019,"January 1, 2018 - December 31, 2018",null,"Brantford Power Inc.","Administrative and General Expenses","5620","Office Supplies and Expenses",95263.84]
[2019,"January 1, 2018 - December 31, 2018",null,"Brantford Power Inc.","Administrative and General Expenses","5645","OMERS Pensions and Benefits",112484.93]
[2019,"January 1, 2018 - December 31, 2018",null,"Brantford Power Inc.","Billing and Collecting","5305","Supervision",354110.2]
[2019,"January 1, 2018 - December 31, 2018",null,"Brantford Power Inc.","Distribution Expenses - Operation","5005","Operation Supervision and Engineering",671930.77]
[2019,"January 1, 2018 - December 31, 2018",null,"Brantford Power Inc.","Distribution Expenses - Operation","5030","Overhead Subtransmission Feeders - Operation",0]
[2019,"January 1, 2018 - December 31, 2018",null,"Brantford Power Inc.","Distribution Expenses – Maintenance","5150","Maintenance of Underground Conductors and Devices",56176.02]
[2019,"January 1, 2018 - December 31, 2018",null,"Burlington Hydro Inc.","Administrative and General Expenses","5510","Demonstrating and Selling Expense",0]
[2019,"January 1, 2018 - December 31, 2018",null,"Burlington Hydro Inc.","Administrative and General Expenses","5615","General Administrative Salaries and Expenses",2063148.88]
[2019,"January 1, 2018 - December 31, 2018",null,"Burlington Hydro Inc.","Administrative and General Expenses","5675","Maintenance of General Plant",241356.75]
[2019,"January 1, 2018 - December 31, 2018",null,"Burlington Hydro Inc.","Community Relations","5425","Miscellaneous Customer Service and Informational Expenses",0]
[2019,"January 1, 2018 - December 31, 2018",null,"Burlington Hydro Inc.","Distribution Expenses - Operation","5050","Underground Subtransmission Feeders - Operation",0]
[2019,"January 1, 2018 - December 31, 2018",null,"Burlington Hydro Inc.","Distribution Expenses – Maintenance","5120","Maintenance of Poles, Towers and Fixtures",86137.74]
[2019,"January 1, 2018 - December 31, 2018",null,"Burlington Hydro Inc.","Distribution Expenses – Maintenance","5150","Maintenance of Underground Conductors and Devices",562091.61]
[2019,"January 1, 2018 - December 31, 2018",null,"Canadian Niagara Power Inc.","Administrative and General Expenses","5510","Demonstrating and Selling Expense",0]
[2019,"January 1, 2018 - December 31, 2018",null,"Canadian Niagara Power Inc.","Administrative and General Expenses","5665","Miscellaneous General Expenses",513632.37]
[2019,"January 1, 2018 - December 31, 2018",null,"Canadian Niagara Power Inc.","Community Relations","5415","Energy Conservation",0]
[2019,"January 1, 2018 - December 31, 2018",null,"Canadian Niagara Power Inc.","Distribution Expenses - Operation","5040","Underground Distribution Lines and Feeders - Operation Labour",140058.54]
[2019,"January 1, 2018 - December 31, 2018",null,"Canadian Niagara Power Inc.","Distribution Expenses - Operation","5065","Meter Expense",306813.24]
[2019,"January 1, 2018 - December 31, 2018",null,"Canadian Niagara Power Inc.","Distribution Expenses – Maintenance","5135","Overhead Distribution Lines and Feeders - Right of Way",478200.74]
[2019,"January 1, 2018 - December 31, 2018",null,"Canadian Niagara Power Inc.","Other Expenses Total",null,null,0]
[2019,"January 1, 2018 - December 31, 2018",null,"Centre Wellington Hydro Ltd.","Administrative and General Expenses","5665","Miscellaneous General Expenses",90731.43]
[2019,"January 1, 2018 - December 31, 2018",null,"Centre Wellington Hydro Ltd.","Billing and Collecting","5335","Bad Debt Expense",9744]
[2019,"January 1, 2018 - December 31, 2018",null,"Centre Wellington Hydro Ltd.","Community Relations","5415","Energy Conservation",0]
[2019,"January 1, 2018 - December 31, 2018",null,"Centre Wellington Hydro Ltd.","Distribution Expenses - Operation","5040","Underground Distribution Lines and Feeders - Operation Labour",0]
[2019,"January 1, 2018 - December 31, 2018",null,"Centre Wellington Hydro Ltd.","Distribution Expenses – Maintenance","5112","Maintenance of Transformer Station Equipment",0]
[2019,"January 1, 2018 - December 31, 2018",null,"Centre Wellington Hydro Ltd.","Other Expenses","5215","Transmission Charges Recovered",0]
[2019,"January 1, 2018 - December 31, 2018",null,"Chapleau Public Utilities Corporation","Administrative and General Expenses","5646","Employee Pensions and OPEB",0]
[2019,"January 1, 2018 - December 31, 2018",null,"Chapleau Public Utilities Corporation","Billing and Collecting","5310","Meter Reading Expense",41226.620000000003]
[2019,"January 1, 2018 - December 31, 2018",null,"Chapleau Public Utilities Corporation","Billing and Collecting","5335","Bad Debt Expense",24887.86]
[2019,"January 1, 2018 - December 31, 2018",null,"Chapleau Public Utilities Corporation","Distribution Expenses - Operation","5017","Distribution Station Equipment - Operation Supplies and Expenses",50]
[2019,"January 1, 2018 - December 31, 2018",null,"Chapleau Public Utilities Corporation","Distribution Expenses – Maintenance","5110","Maintenance of Buildings and Fixtures - Distribution Stations",0]
[2019,"January 1, 2018 - December 31, 2018",null,"Chapleau Public Utilities Corporation","Distribution Expenses – Maintenance","5178","Customer Installations Expenses- Leased Property",0]
[2019,"January 1, 2018 - December 31, 2018",null,"Cooperative Hydro Embrun Inc.","Administrative and General Expenses","5625","Administrative Expense Transferred/Credit",0]
[2019,"January 1, 2018 - December 31, 2018",null,"Cooperative Hydro Embrun Inc.","Billing and Collecting","5305","Supervision",0]
[2019,"January 1, 2018 - December 31, 2018",null,"Cooperative Hydro Embrun Inc.","Community Relations","5415","Energy Conservation",0]
[2019,"January 1, 2018 - December 31, 2018",null,"Cooperative Hydro Embrun Inc.","Distribution Expenses - Operation","5005","Operation Supervision and Engineering",0]
[2019,"January 1, 2018 - December 31, 2018",null,"Cooperative Hydro Embrun Inc.","Distribution Expenses - Operation","5085","Miscellaneous Distribution Expense",8275.4699999999993]
[2019,"January 1, 2018 - December 31, 2018",null,"Cooperative Hydro Embrun Inc.","Distribution Expenses – Maintenance","5155","Maintenance of Underground Services",325]
[2019,"January 1, 2018 - December 31, 2018",null,"E.L.K. Energy Inc.","Administrative and General Expenses","5615","General Administrative Salaries and Expenses",47153.15]
[2019,"January 1, 2018 - December 31, 2018",null,"E.L.K. Energy Inc.","Administrative and General Expenses","5675","Maintenance of General Plant",54306.73]
[2019,"January 1, 2018 - December 31, 2018",null,"E.L.K. Energy Inc.","Administrative and General Expenses","5680","Electrical Safety Authority Fees",5076]
[2019,"January 1, 2018 - December 31, 2018",null,"E.L.K. Energy Inc.","Community Relations Total",null,null,20966.53]
[2019,"January 1, 2018 - December 31, 2018",null,"E.L.K. Energy Inc.","Distribution Expenses - Operation","5055","Underground Distribution Transformers - Operation",16252.02]
[2019,"January 1, 2018 - December 31, 2018",null,"E.L.K. Energy Inc.","Distribution Expenses – Maintenance","5150","Maintenance of Underground Conductors and Devices",76419.95]
[2019,"January 1, 2018 - December 31, 2018",null,"ENWIN Utilities Ltd.","Administrative and General Expenses","5510","Demonstrating and Selling Expense",0]
[2019,"January 1, 2018 - December 31, 2018",null,"ENWIN Utilities Ltd.","Administrative and General Expenses","5655","Regulatory Expenses",378796.51]
[2019,"January 1, 2018 - December 31, 2018",null,"ENWIN Utilities Ltd.","Administrative and General Expenses","5675","Maintenance of General Plant",2129635.39]
[2019,"January 1, 2018 - December 31, 2018",null,"ENWIN Utilities Ltd.","Community Relations","5405","Supervision",0]
[2019,"January 1, 2018 - December 31, 2018",null,"ENWIN Utilities Ltd.","Distribution Expenses - Operation","5030","Overhead Subtransmission Feeders - Operation",0]
[2019,"January 1, 2018 - December 31, 2018",null,"ENWIN Utilities Ltd.","Distribution Expenses – Maintenance","5120","Maintenance of Poles, Towers and Fixtures",554347.02]
[2019,"January 1, 2018 - December 31, 2018",null,"ENWIN Utilities Ltd.","Other Expenses","5205","Purchase of Transmission and System Services",0]
[2019,"January 1, 2018 - December 31, 2018",null,"EPCOR Electricity Distribution Ontario Inc.","Administrative and General Expenses","5510","Demonstrating and Selling Expense",0]
[2019,"January 1, 2018 - December 31, 2018",null,"EPCOR Electricity Distribution Ontario Inc.","Administrative and General Expenses","5655","Regulatory Expenses",49217.29]
[2019,"January 1, 2018 - December 31, 2018",null,"EPCOR Electricity Distribution Ontario Inc.","Billing and Collecting","5325","Collecting- Cash Over and Short",8.84]
[2019,"January 1, 2018 - December 31, 2018",null,"EPCOR Electricity Distribution Ontario Inc.","Distribution Expenses - Operation","5025","Overhead Distribution Lines and Feeders - Operation Supplies and Expenses",60435.85]
[2019,"January 1, 2018 - December 31, 2018",null,"EPCOR Electricity Distribution Ontario Inc.","Distribution Expenses - Operation Total",null,null,885793.99]
[2019,"January 1, 2018 - December 31, 2018",null,"EPCOR Electricity Distribution Ontario Inc.","Distribution Expenses – Maintenance","5120","Maintenance of Poles, Towers and Fixtures",101513.21]
[2019,"January 1, 2018 - December 31, 2018",null,"EPCOR Electricity Distribution Ontario Inc.","Other Expenses","5205","Purchase of Transmission and System Services",0]
[2019,"January 1, 2018 - December 31, 2018",null,"ERTH Power Corporation","Administrative and General Expenses","5640","Injuries and Damages",0]
[2019,"January 1, 2018 - December 31, 2018",null,"ERTH Power Corporation","Billing and Collecting","5320","Collecting",133326.85]
[2019,"January 1, 2018 - December 31, 2018",null,"ERTH Power Corporation","Distribution Expenses - Operation","5014","Transformer Station Equipment - Operation Labour",0]
[2019,"January 1, 2018 - December 31, 2018",null,"ERTH Power Corporation","Distribution Expenses - Operation","5075","Customer Premises - Materials and Expenses",0]
[2019,"January 1, 2018 - December 31, 2018",null,"ERTH Power Corporation","Distribution Expenses - Operation Total",null,null,424645.66]
[2019,"January 1, 2018 - December 31, 2018",null,"ERTH Power Corporation","Distribution Expenses – Maintenance","5172","Sentinel Lights - Materials and Expenses",0]
[2019,"January 1, 2018 - December 31, 2018",null,"Energy Plus Inc.","Administrative and General Expenses","5635","Property Insurance",21433.919999999998]
[2019,"January 1, 2018 - December 31, 2018",null,"Energy Plus Inc.","Administrative and General Expenses Total",null,null,8440098.6300000008]
[2019,"January 1, 2018 - December 31, 2018",null,"Energy Plus Inc.","Community Relations","5420","Community Safety Program",78340.22]
[2019,"January 1, 2018 - December 31, 2018",null,"Energy Plus Inc.","Distribution Expenses - Operation","5012","Station Buildings and Fixtures Expense",0]
[2019,"January 1, 2018 - December 31, 2018",null,"Energy Plus Inc.","Distribution Expenses - Operation","5070","Customer Premises - Operation Labour",0]
[2019,"January 1, 2018 - December 31, 2018",null,"Energy Plus Inc.","Distribution Expenses – Maintenance","5145","Maintenance of Underground Conduit",45364.23]
[2019,"January 1, 2018 - December 31, 2018",null,"Entegrus Powerlines Inc.","Administrative and General Expenses","5605","Executive Salaries and Expenses",612519.46]
[2019,"January 1, 2018 - December 31, 2018",null,"Entegrus Powerlines Inc.","Administrative and General Expenses","5670","Rent",0]
[2019,"January 1, 2018 - December 31, 2018",null,"Entegrus Powerlines Inc.","Administrative and General Expenses","5685","Independent Market Operator Fees and Penalties",0]
[2019,"January 1, 2018 - December 31, 2018",null,"Entegrus Powerlines Inc.","Community Relations","5420","Community Safety Program",0]
[2019,"January 1, 2018 - December 31, 2018",null,"Entegrus Powerlines Inc.","Distribution Expenses - Operation","5045","Underground Distribution Lines and Feeders - Operation Supplies and Expenses",343336.06]
[2019,"January 1, 2018 - December 31, 2018",null,"Entegrus Powerlines Inc.","Distribution Expenses – Maintenance","5135","Overhead Distribution Lines and Feeders - Right of Way",280247.74]
[2019,"January 1, 2018 - December 31, 2018",null,"Entegrus Powerlines Inc.","Other Expenses Total",null,null,0]
[2019,"January 1, 2018 - December 31, 2018",null,"Espanola Regional Hydro Distribution Corporation","Administrative and General Expenses","5665","Miscellaneous General Expenses",1135.94]
[2019,"January 1, 2018 - December 31, 2018",null,"Espanola Regional Hydro Distribution Corporation","Administrative and General Expenses","5670","Rent",0]
[2019,"January 1, 2018 - December 31, 2018",null,"Espanola Regional Hydro Distribution Corporation","Billing and Collecting","5340","Miscellaneous Customer Accounts Expenses",0]
[2019,"January 1, 2018 - December 31, 2018",null,"Espanola Regional Hydro Distribution Corporation","Distribution Expenses - Operation","5040","Underground Distribution Lines and Feeders - Operation Labour",41263.32]
[2019,"January 1, 2018 - December 31, 2018",null,"Espanola Regional Hydro Distribution Corporation","Distribution Expenses – Maintenance","5112","Maintenance of Transformer Station Equipment",0]
[2019,"January 1, 2018 - December 31, 2018",null,"Espanola Regional Hydro Distribution Corporation","Distribution Expenses – Maintenance","5195","Maintenance of Other Installations on Customer Premises",0]
[2019,"January 1, 2018 - December 31, 2018",null,"Essex Powerlines Corporation","Administrative and General Expenses","5646","Employee Pensions and OPEB",0]
[2019,"January 1, 2018 - December 31, 2018",null,"Essex Powerlines Corporation","Administrative and General Expenses","5647","Employee Sick Leave",0]
[2019,"January 1, 2018 - December 31, 2018",null,"Essex Powerlines Corporation","Billing and Collecting","5335","Bad Debt Expense",96659.63]
[2019,"January 1, 2018 - December 31, 2018",null,"Essex Powerlines Corporation","Distribution Expenses - Operation","5017","Distribution Station Equipment - Operation Supplies and Expenses",0]
[2019,"January 1, 2018 - December 31, 2018",null,"Essex Powerlines Corporation","Distribution Expenses - Operation","5095","Overhead Distribution Lines and Feeders - Rental Paid",0]
[2019,"January 1, 2018 - December 31, 2018",null,"Essex Powerlines Corporation","Distribution Expenses – Maintenance","5178","Customer Installations Expenses- Leased Property",0]
[2019,"January 1, 2018 - December 31, 2018",null,"Festival Hydro Inc.","Administrative and General Expenses","5625","Administrative Expense Transferred/Credit",0]
[2019,"January 1, 2018 - December 31, 2018",null,"Festival Hydro Inc.","Administrative and General Expenses","5630","Outside Services Employed",363437.86]
[2019,"January 1, 2018 - December 31, 2018",null,"Festival Hydro Inc.","Billing and Collecting","5310","Meter Reading Expense",220672.38]
[2019,"January 1, 2018 - December 31, 2018",null,"Festival Hydro Inc.","Distribution Expenses - Operation","5010","Load Dispatching",60698.21]
[2019,"January 1, 2018 - December 31, 2018",null,"Festival Hydro Inc.","Distribution Expenses - Operation","5090","Underground Distribution Lines and Feeders - Rental Paid",0]
[2019,"January 1, 2018 - December 31, 2018",null,"Festival Hydro Inc.","Distribution Expenses – Maintenance","5160","Maintenance of Line Transformers",77667.59]
[2019,"January 1, 2018 - December 31, 2018",null,"Festival Hydro Inc.","Other Expenses","5210","Transmission Charges",0]
[2019,"January 1, 2018 - December 31, 2018",null,"Fort Frances Power Corporation","Administrative and General Expenses","5620","Office Supplies and Expenses",21550.38]
[2019,"January 1, 2018 - December 31, 2018",null,"Fort Frances Power Corporation","Administrative and General Expenses","5680","Electrical Safety Authority Fees",4637]
[2019,"January 1, 2018 - December 31, 2018",null,"Fort Frances Power Corporation","Community Relations Total",null,null,44459.94]
[2019,"January 1, 2018 - December 31, 2018",null,"Fort Frances Power Corporation","Distribution Expenses - Operation","5055","Underground Distribution Transformers - Operation",0]
[2019,"January 1, 2018 - December 31, 2018",null,"Fort Frances Power Corporation","Distribution Expenses – Maintenance","5125","Maintenance of Overhead Conductors and Devices",9810.17]
[2019,"January 1, 2018 - December 31, 2018",null,"Fort Frances Power Corporation","Distribution Expenses – Maintenance","5155","Maintenance of Underground Services",133.63]
[2019,"January 1, 2018 - December 31, 2018",null,"Greater Sudbury Hydro Inc.","Administrative and General Expenses","5515","Advertising Expense",0]
[2019,"January 1, 2018 - December 31, 2018",null,"Greater Sudbury Hydro Inc.","Administrative and General Expenses","5660","General Advertising Expenses",398598.9]
[2019,"January 1, 2018 - December 31, 2018",null,"Greater Sudbury Hydro Inc.","Community Relations","5405","Supervision",0]
[2019,"January 1, 2018 - December 31, 2018",null,"Greater Sudbury Hydro Inc.","Distribution Expenses - Operation","5030","Overhead Subtransmission Feeders - Operation",49133.24]
[2019,"January 1, 2018 - December 31, 2018",null,"Greater Sudbury Hydro Inc.","Distribution Expenses - Operation","5055","Underground Distribution Transformers - Operation",127112.2]
[2019,"January 1, 2018 - December 31, 2018",null,"Greater Sudbury Hydro Inc.","Distribution Expenses – Maintenance","5125","Maintenance of Overhead Conductors and Devices",255743.1]
[2019,"January 1, 2018 - December 31, 2018",null,"Greater Sudbury Hydro Inc.","Other Expenses","5210","Transmission Charges",0]
[2019,"January 1, 2018 - December 31, 2018",null,"Grimsby Power Incorporated","Administrative and General Expenses","5655","Regulatory Expenses",110755.23]
[2019,"January 1, 2018 - December 31, 2018",null,"Grimsby Power Incorporated","Billing and Collecting","5325","Collecting- Cash Over and Short",0]
[2019,"January 1, 2018 - December 31, 2018",null,"Grimsby Power Incorporated","Community Relations","5405","Supervision",0]
[2019,"January 1, 2018 - December 31, 2018",null,"Grimsby Power Incorporated","Distribution Expenses - Operation","5030","Overhead Subtransmission Feeders - Operation",0]
[2019,"January 1, 2018 - December 31, 2018",null,"Grimsby Power Incorporated","Distribution Expenses – Maintenance","5105","Maintenance Supervision and Engineering",267618.86]
[2019,"January 1, 2018 - December 31, 2018",null,"Grimsby Power Incorporated","Other Expenses","5205","Purchase of Transmission and System Services",0]
[2019,"January 1, 2018 - December 31, 2018",null,"Guelph Hydro Electric Systems Inc.","Administrative and General Expenses","5640","Injuries and Damages",227309]
[2019,"January 1, 2018 - December 31, 2018",null,"Guelph Hydro Electric Systems Inc.","Administrative and General Expenses Total",null,null,7767886.9500000002]
[2019,"January 1, 2018 - December 31, 2018",null,"Guelph Hydro Electric Systems Inc.","Billing and Collecting","5325","Collecting- Cash Over and Short",2227.29]
[2019,"January 1, 2018 - December 31, 2018",null,"Guelph Hydro Electric Systems Inc.","Distribution Expenses - Operation","5015","Transformer Station Equipment - Operation Supplies and Expenses",0]
[2019,"January 1, 2018 - December 31, 2018",null,"Guelph Hydro Electric Systems Inc.","Distribution Expenses - Operation Total",null,null,4884148.2]
[2019,"January 1, 2018 - December 31, 2018",null,"Guelph Hydro Electric Systems Inc.","Distribution Expenses – Maintenance","5172","Sentinel Lights - Materials and Expenses",0]
[2019,"January 1, 2018 - December 31, 2018",null,"Halton Hills Hydro Inc.","Administrative and General Expenses","5615","General Administrative Salaries and Expenses",863607.18]
[2019,"January 1, 2018 - December 31, 2018",null,"Halton Hills Hydro Inc.","Administrative and General Expenses","5640","Injuries and Damages",85187.28]
[2019,"January 1, 2018 - December 31, 2018",null,"Halton Hills Hydro Inc.","Administrative and General Expenses Total",null,null,3360814.24]
[2019,"January 1, 2018 - December 31, 2018",null,"Halton Hills Hydro Inc.","Community Relations Total",null,null,386]
[2019,"January 1, 2018 - December 31, 2018",null,"Halton Hills Hydro Inc.","Distribution Expenses - Operation","5040","Underground Distribution Lines and Feeders - Operation Labour",29338.23]
[2019,"January 1, 2018 - December 31, 2018",null,"Halton Hills Hydro Inc.","Distribution Expenses – Maintenance","5145","Maintenance of Underground Conduit",0]
[2019,"January 1, 2018 - December 31, 2018",null,"Hearst Power Distribution Company Limited","Administrative and General Expenses","5605","Executive Salaries and Expenses",11937.39]
[2019,"January 1, 2018 - December 31, 2018",null,"Hearst Power Distribution Company Limited","Administrative and General Expenses","5610","Management Salaries and Expenses",88686.5]
[2019,"January 1, 2018 - December 31, 2018",null,"Hearst Power Distribution Company Limited","Administrative and General Expenses","5672","Lease Payment Expense",0]
[2019,"January 1, 2018 - December 31, 2018",null,"Hearst Power Distribution Company Limited","Community Relations","5420","Community Safety Program",1372.23]
[2019,"January 1, 2018 - December 31, 2018",null,"Hearst Power Distribution Company Limited","Distribution Expenses - Operation","5045","Underground Distribution Lines and Feeders - Operation Supplies and Expenses",239.95]
[2019,"January 1, 2018 - December 31, 2018",null,"Hearst Power Distribution Company Limited","Distribution Expenses – Maintenance","5135","Overhead Distribution Lines and Feeders - Right of Way",2571.9499999999998]
[2019,"January 1, 2018 - December 31, 2018",null,"Hearst Power Distribution Company Limited","Other Expenses Total",null,null,0]
[2019,"January 1, 2018 - December 31, 2018",null,"Hydro 2000 Inc.","Administrative and General Expenses","5505","Supervision",0]
[2019,"January 1, 2018 - December 31, 2018",null,"Hydro 2000 Inc.","Administrative and General Expenses","5670","Rent",11896.18]
[2019,"January 1, 2018 - December 31, 2018",null,"Hydro 2000 Inc.","Billing and Collecting","5340","Miscellaneous Customer Accounts Expenses",0]
[2019,"January 1, 2018 - December 31, 2018",null,"Hydro 2000 Inc.","Distribution Expenses - Operation","5020","Overhead Distribution Lines and Feeders - Operation Labour",1401.5]
[2019,"January 1, 2018 - December 31, 2018",null,"Hydro 2000 Inc.","Distribution Expenses – Maintenance","5112","Maintenance of Transformer Station Equipment",0]
[2019,"January 1, 2018 - December 31, 2018",null,"Hydro 2000 Inc.","Distribution Expenses – Maintenance","5195","Maintenance of Other Installations on Customer Premises",0]
[2019,"January 1, 2018 - December 31, 2018",null,"Hydro 2000 Inc.","Other Expenses Total",null,null,0]
[2019,"January 1, 2018 - December 31, 2018",null,"Hydro Hawkesbury Inc.","Administrative and General Expenses","5647","Employee Sick Leave",0]
[2019,"January 1, 2018 - December 31, 2018",null,"Hydro Hawkesbury Inc.","Billing and Collecting","5315","Customer Billing",230859.97]
[2019,"January 1, 2018 - December 31, 2018",null,"Hydro Hawkesbury Inc.","Distribution Expenses - Operation","5017","Distribution Station Equipment - Operation Supplies and Expenses",1368.28]
[2019,"January 1, 2018 - December 31, 2018",null,"Hydro Hawkesbury Inc.","Distribution Expenses - Operation","5095","Overhead Distribution Lines and Feeders - Rental Paid",1482.42]
[2019,"January 1, 2018 - December 31, 2018",null,"Hydro Hawkesbury Inc.","Distribution Expenses – Maintenance","5112","Maintenance of Transformer Station Equipment",0]
[2019,"January 1, 2018 - December 31, 2018",null,"Hydro Hawkesbury Inc.","Distribution Expenses – Maintenance","5195","Maintenance of Other Installations on Customer Premises",0]
[2019,"January 1, 2018 - December 31, 2018",null,"Hydro One Networks Inc.","Administrative and General Expenses","5630","Outside Services Employed",14440168.17]
[2019,"January 1, 2018 - December 31, 2018",null,"Hydro One Networks Inc.","Billing and Collecting","5325","Collecting- Cash Over and Short",0]
[2019,"January 1, 2018 - December 31, 2018",null,"Hydro One Networks Inc.","Distribution Expenses - Operation","5015","Transformer Station Equipment - Operation Supplies and Expenses",102951.5]
[2019,"January 1, 2018 - December 31, 2018",null,"Hydro One Networks Inc.","Distribution Expenses - Operation","5085","Miscellaneous Distribution Expense",18998812.149999999]
[2019,"January 1, 2018 - December 31, 2018",null,"Hydro One Networks Inc.","Distribution Expenses – Maintenance","5105","Maintenance Supervision and Engineering",11384493.99]
[2019,"January 1, 2018 - December 31, 2018",null,"Hydro One Networks Inc.","Distribution Expenses – Maintenance","5175","Maintenance of Meters",7285028.7400000002]
[2019,"January 1, 2018 - December 31, 2018",null,"Hydro One Remote Communities Inc.","Administrative and General Expenses","5640","Injuries and Damages",0]
[2019,"January 1, 2018 - December 31, 2018",null,"Hydro One Remote Communities Inc.","Billing and Collecting","5315","Customer Billing",1027138.49]
[2019,"January 1, 2018 - December 31, 2018",null,"Hydro One Remote Communities Inc.","Distribution Expenses - Operation","5012","Station Buildings and Fixtures Expense",0]
[2019,"January 1, 2018 - December 31, 2018",null,"Hydro One Remote Communities Inc.","Distribution Expenses - Operation","5016","Distribution Station Equipment - Operation Labour",0]
[2019,"January 1, 2018 - December 31, 2018",null,"Hydro One Remote Communities Inc.","Distribution Expenses - Operation","5095","Overhead Distribution Lines and Feeders - Rental Paid",0]
[2019,"January 1, 2018 - December 31, 2018",null,"Hydro One Remote Communities Inc.","Distribution Expenses – Maintenance","5165","Maintenance of Street Lighting and Signal Systems",0]
[2019,"January 1, 2018 - December 31, 2018",null,"Hydro Ottawa Limited","Administrative and General Expenses","5625","Administrative Expense Transferred/Credit",683203.22]
[2019,"January 1, 2018 - December 31, 2018",null,"Hydro Ottawa Limited","Administrative and General Expenses","5681","Special Purpose Charge Expense",0]
[2019,"January 1, 2018 - December 31, 2018",null,"Hydro Ottawa Limited","Billing and Collecting","5310","Meter Reading Expense",335160.51]
[2019,"January 1, 2018 - December 31, 2018",null,"Hydro Ottawa Limited","Distribution Expenses - Operation","5010","Load Dispatching",3155270.75]
[2019,"January 1, 2018 - December 31, 2018",null,"Hydro Ottawa Limited","Distribution Expenses - Operation","5065","Meter Expense",633384.61]
[2019,"January 1, 2018 - December 31, 2018",null,"Hydro Ottawa Limited","Distribution Expenses – Maintenance","5160","Maintenance of Line Transformers",420148.95]
[2019,"January 1, 2018 - December 31, 2018",null,"Innpower Corporation","Administrative and General Expenses","5520","Miscellaneous Sales Expense",0]
[2019,"January 1, 2018 - December 31, 2018",null,"Innpower Corporation","Administrative and General Expenses","5625","Administrative Expense Transferred/Credit",0]
[2019,"January 1, 2018 - December 31, 2018",null,"Innpower Corporation","Administrative and General Expenses","5681","Special Purpose Charge Expense",0]
[2019,"January 1, 2018 - December 31, 2018",null,"Innpower Corporation","Community Relations","5415","Energy Conservation",0]
[2019,"January 1, 2018 - December 31, 2018",null,"Innpower Corporation","Distribution Expenses - Operation","5060","Street Lighting and Signal System Expense",0]
[2019,"January 1, 2018 - December 31, 2018",null,"Innpower Corporation","Distribution Expenses – Maintenance","5130","Maintenance of Overhead Services",108302.07]
[2019,"January 1, 2018 - December 31, 2018",null,"Innpower Corporation","Other Expenses","5215","Transmission Charges Recovered",0]
[2019,"January 1, 2018 - December 31, 2018",null,"Kenora Hydro Electric Corporation Ltd.","Administrative and General Expenses","5520","Miscellaneous Sales Expense",0]
[2019,"January 1, 2018 - December 31, 2018",null,"Kenora Hydro Electric Corporation Ltd.","Administrative and General Expenses","5665","Miscellaneous General Expenses",25950]
[2019,"January 1, 2018 - December 31, 2018",null,"Kenora Hydro Electric Corporation Ltd.","Community Relations","5410","Community Relations - Sundry",0]
[2019,"January 1, 2018 - December 31, 2018",null,"Kenora Hydro Electric Corporation Ltd.","Distribution Expenses - Operation","5035","Overhead Distribution Transformers- Operation",2829]
[2019,"January 1, 2018 - December 31, 2018",null,"Kenora Hydro Electric Corporation Ltd.","Distribution Expenses – Maintenance","5110","Maintenance of Buildings and Fixtures - Distribution Stations",0]
[2019,"January 1, 2018 - December 31, 2018",null,"Kenora Hydro Electric Corporation Ltd.","Other Expenses","5210","Transmission Charges",0]
[2019,"January 1, 2018 - December 31, 2018",null,"Kenora Hydro Electric Corporation Ltd.","Other Expenses","5215","Transmission Charges Recovered",0]
[2019,"January 1, 2018 - December 31, 2018",null,"Kingston Hydro Corporation","Administrative and General Expenses","5646","Employee Pensions and OPEB",0]
[2019,"January 1, 2018 - December 31, 2018",null,"Kingston Hydro Corporation","Billing and Collecting","5330","Collection Charges",0]
[2019,"January 1, 2018 - December 31, 2018",null,"Kingston Hydro Corporation","Distribution Expenses - Operation","5016","Distribution Station Equipment - Operation Labour",76824]
[2019,"January 1, 2018 - December 31, 2018",null,"Kingston Hydro Corporation","Distribution Expenses – Maintenance","5105","Maintenance Supervision and Engineering",108639]
[2019,"January 1, 2018 - December 31, 2018",null,"Kingston Hydro Corporation","Distribution Expenses – Maintenance","5175","Maintenance of Meters",0]
[2019,"January 1, 2018 - December 31, 2018",null,"Kingston Hydro Corporation","Distribution Expenses – Maintenance","5178","Customer Installations Expenses- Leased Property",0]
[2019,"January 1, 2018 - December 31, 2018",null,"Kitchener-Wilmot Hydro Inc.","Administrative and General Expenses","5645","OMERS Pensions and Benefits",3023.14]
[2019,"January 1, 2018 - December 31, 2018",null,"Kitchener-Wilmot Hydro Inc.","Billing and Collecting","5325","Collecting- Cash Over and Short",-28.05]
[2019,"January 1, 2018 - December 31, 2018",null,"Kitchener-Wilmot Hydro Inc.","Distribution Expenses - Operation","5014","Transformer Station Equipment - Operation Labour",333989.43]
[2019,"January 1, 2018 - December 31, 2018",null,"Kitchener-Wilmot Hydro Inc.","Distribution Expenses - Operation","5075","Customer Premises - Materials and Expenses",16807.23]
[2019,"January 1, 2018 - December 31, 2018",null,"Kitchener-Wilmot Hydro Inc.","Distribution Expenses – Maintenance","5150","Maintenance of Underground Conductors and Devices",782777.95]
[2019,"January 1, 2018 - December 31, 2018",null,"Kitchener-Wilmot Hydro Inc.","Distribution Expenses – Maintenance","5172","Sentinel Lights - Materials and Expenses",0]
[2019,"January 1, 2018 - December 31, 2018",null,"Lakefront Utilities Inc.","Administrative and General Expenses","5615","General Administrative Salaries and Expenses",336864.6]
[2019,"January 1, 2018 - December 31, 2018",null,"Lakefront Utilities Inc.","Administrative and General Expenses","5675","Maintenance of General Plant",60478.39]
[2019,"January 1, 2018 - December 31, 2018",null,"Lakefront Utilities Inc.","Community Relations","5425","Miscellaneous Customer Service and Informational Expenses",0]
[2019,"January 1, 2018 - December 31, 2018",null,"Lakefront Utilities Inc.","Distribution Expenses - Operation","5050","Underground Subtransmission Feeders - Operation",0]
[2019,"January 1, 2018 - December 31, 2018",null,"Lakefront Utilities Inc.","Distribution Expenses - Operation","5075","Customer Premises - Materials and Expenses",0]
[2019,"January 1, 2018 - December 31, 2018",null,"Lakefront Utilities Inc.","Distribution Expenses – Maintenance","5150","Maintenance of Underground Conductors and Devices",0]
[2019,"January 1, 2018 - December 31, 2018",null,"Lakeland Power Distribution Ltd.","Administrative and General Expenses","5510","Demonstrating and Selling Expense",0]
[2019,"January 1, 2018 - December 31, 2018",null,"Lakeland Power Distribution Ltd.","Administrative and General Expenses","5672","Lease Payment Expense",0]
[2019,"January 1, 2018 - December 31, 2018",null,"Lakeland Power Distribution Ltd.","Billing and Collecting Total",null,null,903973.02]
[2019,"January 1, 2018 - December 31, 2018",null,"Lakeland Power Distribution Ltd.","Community Relations","5425","Miscellaneous Customer Service and Informational Expenses",15616]
[2019,"January 1, 2018 - December 31, 2018",null,"Lakeland Power Distribution Ltd.","Distribution Expenses - Operation","5050","Underground Subtransmission Feeders - Operation",0]
[2019,"January 1, 2018 - December 31, 2018",null,"Lakeland Power Distribution Ltd.","Distribution Expenses – Maintenance","5120","Maintenance of Poles, Towers and Fixtures",3596.31]
[2019,"January 1, 2018 - December 31, 2018",null,"London Hydro Inc.","Administrative and General Expenses","5505","Supervision",0]
[2019,"January 1, 2018 - December 31, 2018",null,"London Hydro Inc.","Administrative and General Expenses","5650","Franchise Requirements",0]
[2019,"January 1, 2018 - December 31, 2018",null,"London Hydro Inc.","Billing and Collecting","5320","Collecting",1270964.7]
[2019,"January 1, 2018 - December 31, 2018",null,"London Hydro Inc.","Billing and Collecting Total",null,null,4969447.9800000004]
[2019,"January 1, 2018 - December 31, 2018",null,"London Hydro Inc.","Distribution Expenses - Operation","5025","Overhead Distribution Lines and Feeders - Operation Supplies and Expenses",320163.84999999998]
[2019,"January 1, 2018 - December 31, 2018",null,"London Hydro Inc.","Distribution Expenses – Maintenance","5114","Maintenance of Distribution Station Equipment",752286.49]
[2019,"January 1, 2018 - December 31, 2018",null,"London Hydro Inc.","Distribution Expenses – Maintenance Total",null,null,9017046.2100000009]
[2019,"January 1, 2018 - December 31, 2018",null,"Milton Hydro Distribution Inc.","Administrative and General Expenses","5635","Property Insurance",123816]
[2019,"January 1, 2018 - December 31, 2018",null,"Milton Hydro Distribution Inc.","Administrative and General Expenses","5650","Franchise Requirements",0]
[2019,"January 1, 2018 - December 31, 2018",null,"Milton Hydro Distribution Inc.","Billing and Collecting","5320","Collecting",266118]
[2019,"January 1, 2018 - December 31, 2018",null,"Milton Hydro Distribution Inc.","Distribution Expenses - Operation","5014","Transformer Station Equipment - Operation Labour",0]
[2019,"January 1, 2018 - December 31, 2018",null,"Milton Hydro Distribution Inc.","Distribution Expenses - Operation","5096","Other Rent",0]
[2019,"January 1, 2018 - December 31, 2018",null,"Milton Hydro Distribution Inc.","Distribution Expenses – Maintenance","5170","Sentinel Lights - Labour",0]
[2019,"January 1, 2018 - December 31, 2018",null,"Milton Hydro Distribution Inc.","Other Expenses","5215","Transmission Charges Recovered",0]
[2019,"January 1, 2018 - December 31, 2018",null,"Newmarket-Tay Power Distribution Ltd.","Administrative and General Expenses","5630","Outside Services Employed",1479696.55]
[2019,"January 1, 2018 - December 31, 2018",null,"Newmarket-Tay Power Distribution Ltd.","Administrative and General Expenses","5685","Independent Market Operator Fees and Penalties",0]
[2019,"January 1, 2018 - December 31, 2018",null,"Newmarket-Tay Power Distribution Ltd.","Distribution Expenses - Operation","5010","Load Dispatching",0]
[2019,"January 1, 2018 - December 31, 2018",null,"Newmarket-Tay Power Distribution Ltd.","Distribution Expenses - Operation","5065","Meter Expense",147483.59]
[2019,"January 1, 2018 - December 31, 2018",null,"Newmarket-Tay Power Distribution Ltd.","Distribution Expenses – Maintenance","5160","Maintenance of Line Transformers",119820.01]
[2019,"January 1, 2018 - December 31, 2018",null,"Newmarket-Tay Power Distribution Ltd.","Distribution Expenses – Maintenance","5165","Maintenance of Street Lighting and Signal Systems",14378.34]
[2019,"January 1, 2018 - December 31, 2018",null,"Niagara Peninsula Energy Inc.","Administrative and General Expenses","5605","Executive Salaries and Expenses",449088.22]
[2019,"January 1, 2018 - December 31, 2018",null,"Niagara Peninsula Energy Inc.","Administrative and General Expenses","5681","Special Purpose Charge Expense",0]
[2019,"January 1, 2018 - December 31, 2018",null,"Niagara Peninsula Energy Inc.","Community Relations","5415","Energy Conservation",0]
[2019,"January 1, 2018 - December 31, 2018",null,"Niagara Peninsula Energy Inc.","Distribution Expenses - Operation","5040","Underground Distribution Lines and Feeders - Operation Labour",119802.25]
[2019,"January 1, 2018 - December 31, 2018",null,"Niagara Peninsula Energy Inc.","Distribution Expenses – Maintenance","5130","Maintenance of Overhead Services",241563.45]
[2019,"January 1, 2018 - December 31, 2018",null,"Niagara Peninsula Energy Inc.","Distribution Expenses – Maintenance","5135","Overhead Distribution Lines and Feeders - Right of Way",346945.05]
[2019,"January 1, 2018 - December 31, 2018",null,"Niagara-on-the-Lake Hydro Inc.","Administrative and General Expenses","5520","Miscellaneous Sales Expense",0]
[2019,"January 1, 2018 - December 31, 2018",null,"Niagara-on-the-Lake Hydro Inc.","Administrative and General Expenses","5665","Miscellaneous General Expenses",57157.52]
[2019,"January 1, 2018 - December 31, 2018",null,"Niagara-on-the-Lake Hydro Inc.","Billing and Collecting","5335","Bad Debt Expense",18000]
[2019,"January 1, 2018 - December 31, 2018",null,"Niagara-on-the-Lake Hydro Inc.","Distribution Expenses - Operation","5035","Overhead Distribution Transformers- Operation",0]
[2019,"January 1, 2018 - December 31, 2018",null,"Niagara-on-the-Lake Hydro Inc.","Distribution Expenses – Maintenance","5110","Maintenance of Buildings and Fixtures - Distribution Stations",0]
[2019,"January 1, 2018 - December 31, 2018",null,"Niagara-on-the-Lake Hydro Inc.","Distribution Expenses – Maintenance","5130","Maintenance of Overhead Services",41043.43]
[2019,"January 1, 2018 - December 31, 2018",null,"Niagara-on-the-Lake Hydro Inc.","Other Expenses","5215","Transmission Charges Recovered",0]
[2019,"January 1, 2018 - December 31, 2018",null,"North Bay Hydro Distribution Limited","Administrative and General Expenses","5646","Employee Pensions and OPEB",0]
[2019,"January 1, 2018 - December 31, 2018",null,"North Bay Hydro Distribution Limited","Billing and Collecting","5330","Collection Charges",0]
[2019,"January 1, 2018 - December 31, 2018",null,"North Bay Hydro Distribution Limited","Distribution Expenses - Operation","5016","Distribution Station Equipment - Operation Labour",0]
[2019,"January 1, 2018 - December 31, 2018",null,"North Bay Hydro Distribution Limited","Distribution Expenses - Operation","5090","Underground Distribution Lines and Feeders - Rental Paid",0]
[2019,"January 1, 2018 - December 31, 2018",null,"North Bay Hydro Distribution Limited","Distribution Expenses – Maintenance","5110","Maintenance of Buildings and Fixtures - Distribution Stations",34657.980000000003]
[2019,"January 1, 2018 - December 31, 2018",null,"North Bay Hydro Distribution Limited","Distribution Expenses – Maintenance","5178","Customer Installations Expenses- Leased Property",0]
[2019,"January 1, 2018 - December 31, 2018",null,"Northern Ontario Wires Inc.","Administrative and General Expenses","5645","OMERS Pensions and Benefits",-9129]
[2019,"January 1, 2018 - December 31, 2018",null,"Northern Ontario Wires Inc.","Billing and Collecting","5305","Supervision",79384.259999999995]
[2019,"January 1, 2018 - December 31, 2018",null,"Northern Ontario Wires Inc.","Distribution Expenses - Operation","5005","Operation Supervision and Engineering",224272.94]
[2019,"January 1, 2018 - December 31, 2018",null,"Northern Ontario Wires Inc.","Distribution Expenses - Operation","5016","Distribution Station Equipment - Operation Labour",6818.07]
[2019,"January 1, 2018 - December 31, 2018",null,"Northern Ontario Wires Inc.","Distribution Expenses - Operation","5090","Underground Distribution Lines and Feeders - Rental Paid",0]
[2019,"January 1, 2018 - December 31, 2018",null,"Northern Ontario Wires Inc.","Distribution Expenses – Maintenance","5170","Sentinel Lights - Labour",0]
[2019,"January 1, 2018 - December 31, 2018",null,"Oakville Hydro Electricity Distribution Inc.","Administrative and General Expenses","5615","General Administrative Salaries and Expenses",0]
[2019,"January 1, 2018 - December 31, 2018",null,"Oakville Hydro Electricity Distribution Inc.","Administrative and General Expenses","5675","Maintenance of General Plant",363546.79]
[2019,"January 1, 2018 - December 31, 2018",null,"Oakville Hydro Electricity Distribution Inc.","Administrative and General Expenses Total",null,null,6004476.6600000001]
[2019,"January 1, 2018 - December 31, 2018",null,"Oakville Hydro Electricity Distribution Inc.","Community Relations Total",null,null,245768.21]
[2019,"January 1, 2018 - December 31, 2018",null,"Oakville Hydro Electricity Distribution Inc.","Distribution Expenses - Operation","5055","Underground Distribution Transformers - Operation",96757.5]
[2019,"January 1, 2018 - December 31, 2018",null,"Oakville Hydro Electricity Distribution Inc.","Distribution Expenses – Maintenance","5150","Maintenance of Underground Conductors and Devices",432703.81]
[2019,"January 1, 2018 - December 31, 2018",null,"Orangeville Hydro Limited","Administrative and General Expenses","5510","Demonstrating and Selling Expense",0]
[2019,"January 1, 2018 - December 31, 2018",null,"Orangeville Hydro Limited","Administrative and General Expenses","5615","General Administrative Salaries and Expenses",228977.22]
[2019,"January 1, 2018 - December 31, 2018",null,"Orangeville Hydro Limited","Administrative and General Expenses","5675","Maintenance of General Plant",69873.279999999999]
[2019,"January 1, 2018 - December 31, 2018",null,"Orangeville Hydro Limited","Community Relations","5405","Supervision",0]
[2019,"January 1, 2018 - December 31, 2018",null,"Orangeville Hydro Limited","Distribution Expenses - Operation","5050","Underground Subtransmission Feeders - Operation",0]
[2019,"January 1, 2018 - December 31, 2018",null,"Orangeville Hydro Limited","Distribution Expenses – Maintenance","5120","Maintenance of Poles, Towers and Fixtures",5471.4]
[2019,"January 1, 2018 - December 31, 2018",null,"Orangeville Hydro Limited","Other Expenses","5205","Purchase of Transmission and System Services",0]
[2019,"January 1, 2018 - December 31, 2018",null,"Orillia Power Distribution Corporation","Administrative and General Expenses","5510","Demonstrating and Selling Expense",0]
[2019,"January 1, 2018 - December 31, 2018",null,"Orillia Power Distribution Corporation","Administrative and General Expenses","5655","Regulatory Expenses",96516]
[2019,"January 1, 2018 - December 31, 2018",null,"Orillia Power Distribution Corporation","Billing and Collecting Total",null,null,1181307]
[2019,"January 1, 2018 - December 31, 2018",null,"Orillia Power Distribution Corporation","Distribution Expenses - Operation","5025","Overhead Distribution Lines and Feeders - Operation Supplies and Expenses",0]
[2019,"January 1, 2018 - December 31, 2018",null,"Orillia Power Distribution Corporation","Distribution Expenses - Operation Total",null,null,1105352]
[2019,"January 1, 2018 - December 31, 2018",null,"Orillia Power Distribution Corporation","Distribution Expenses – Maintenance","5120","Maintenance of Poles, Towers and Fixtures",678421]
[2019,"January 1, 2018 - December 31, 2018",null,"Orillia Power Distribution Corporation","Other Expenses","5205","Purchase of Transmission and System Services",0]
[2019,"January 1, 2018 - December 31, 2018",null,"Oshawa PUC Networks Inc.","Administrative and General Expenses","5640","Injuries and Damages",211855]
[2019,"January 1, 2018 - December 31, 2018",null,"Oshawa PUC Networks Inc.","Billing and Collecting","5320","Collecting",289135]
[2019,"January 1, 2018 - December 31, 2018",null,"Oshawa PUC Networks Inc.","Distribution Expenses - Operation","5014","Transformer Station Equipment - Operation Labour",0]
[2019,"January 1, 2018 - December 31, 2018",null,"Oshawa PUC Networks Inc.","Distribution Expenses - Operation","5096","Other Rent",0]
[2019,"January 1, 2018 - December 31, 2018",null,"Oshawa PUC Networks Inc.","Distribution Expenses - Operation Total",null,null,2070198]
[2019,"January 1, 2018 - December 31, 2018",null,"Oshawa PUC Networks Inc.","Distribution Expenses – Maintenance","5172","Sentinel Lights - Materials and Expenses",0]
[2019,"January 1, 2018 - December 31, 2018",null,"Ottawa River Power Corporation","Administrative and General Expenses","5635","Property Insurance",12438.01]
[2019,"January 1, 2018 - December 31, 2018",null,"Ottawa River Power Corporation","Administrative and General Expenses","5695","OM&A Contra",0]
[2019,"January 1, 2018 - December 31, 2018",null,"Ottawa River Power Corporation","Distribution Expenses - Operation","5012","Station Buildings and Fixtures Expense",111486.14]
[2019,"January 1, 2018 - December 31, 2018",null,"Ottawa River Power Corporation","Distribution Expenses - Operation","5015","Transformer Station Equipment - Operation Supplies and Expenses",0]
[2019,"January 1, 2018 - December 31, 2018",null,"Ottawa River Power Corporation","Distribution Expenses - Operation","5070","Customer Premises - Operation Labour",76365.13]
[2019,"January 1, 2018 - December 31, 2018",null,"Ottawa River Power Corporation","Distribution Expenses – Maintenance","5165","Maintenance of Street Lighting and Signal Systems",0]
[2019,"January 1, 2018 - December 31, 2018",null,"PUC Distribution Inc.","Administrative and General Expenses","5605","Executive Salaries and Expenses",437067.34]
[2019,"January 1, 2018 - December 31, 2018",null,"PUC Distribution Inc.","Administrative and General Expenses","5670","Rent",0]
[2019,"January 1, 2018 - December 31, 2018",null,"PUC Distribution Inc.","Community Relations","5415","Energy Conservation",0]
[2019,"January 1, 2018 - December 31, 2018",null,"PUC Distribution Inc.","Distribution Expenses - Operation","5040","Underground Distribution Lines and Feeders - Operation Labour",209103.31]
[2019,"January 1, 2018 - December 31, 2018",null,"PUC Distribution Inc.","Distribution Expenses - Operation","5065","Meter Expense",303711.58]
[2019,"January 1, 2018 - December 31, 2018",null,"PUC Distribution Inc.","Distribution Expenses – Maintenance","5135","Overhead Distribution Lines and Feeders - Right of Way",621969.55000000005]
[2019,"January 1, 2018 - December 31, 2018",null,"PUC Distribution Inc.","Other Expenses Total",null,null,0]
[2019,"January 1, 2018 - December 31, 2018",null,"Renfrew Hydro Inc.","Administrative and General Expenses","5665","Miscellaneous General Expenses",30830]
[2019,"January 1, 2018 - December 31, 2018",null,"Renfrew Hydro Inc.","Billing and Collecting","5335","Bad Debt Expense",26754.02]
[2019,"January 1, 2018 - December 31, 2018",null,"Renfrew Hydro Inc.","Community Relations","5415","Energy Conservation",0]
[2019,"January 1, 2018 - December 31, 2018",null,"Renfrew Hydro Inc.","Distribution Expenses - Operation","5040","Underground Distribution Lines and Feeders - Operation Labour",1144.71]
[2019,"January 1, 2018 - December 31, 2018",null,"Renfrew Hydro Inc.","Distribution Expenses – Maintenance","5112","Maintenance of Transformer Station Equipment",0]
[2019,"January 1, 2018 - December 31, 2018",null,"Renfrew Hydro Inc.","Other Expenses","5215","Transmission Charges Recovered",0]
[2019,"January 1, 2018 - December 31, 2018",null,"Rideau St. Lawrence Distribution Inc.","Administrative and General Expenses","5646","Employee Pensions and OPEB",1098.98]
[2019,"January 1, 2018 - December 31, 2018",null,"Rideau St. Lawrence Distribution Inc.","Billing and Collecting","5310","Meter Reading Expense",67094.649999999994]
[2019,"January 1, 2018 - December 31, 2018",null,"Rideau St. Lawrence Distribution Inc.","Billing and Collecting","5335","Bad Debt Expense",48434.36]
[2019,"January 1, 2018 - December 31, 2018",null,"Rideau St. Lawrence Distribution Inc.","Distribution Expenses - Operation","5017","Distribution Station Equipment - Operation Supplies and Expenses",0]
[2019,"January 1, 2018 - December 31, 2018",null,"Rideau St. Lawrence Distribution Inc.","Distribution Expenses – Maintenance","5110","Maintenance of Buildings and Fixtures - Distribution Stations",6.18]
[2019,"January 1, 2018 - December 31, 2018",null,"Rideau St. Lawrence Distribution Inc.","Distribution Expenses – Maintenance","5178","Customer Installations Expenses- Leased Property",0]
[2019,"January 1, 2018 - December 31, 2018",null,"Sioux Lookout Hydro Inc.","Administrative and General Expenses","5625","Administrative Expense Transferred/Credit",0]
[2019,"January 1, 2018 - December 31, 2018",null,"Sioux Lookout Hydro Inc.","Administrative and General Expenses","5646","Employee Pensions and OPEB",17109.37]
[2019,"January 1, 2018 - December 31, 2018",null,"Sioux Lookout Hydro Inc.","Billing and Collecting","5310","Meter Reading Expense",5957.78]
[2019,"January 1, 2018 - December 31, 2018",null,"Sioux Lookout Hydro Inc.","Distribution Expenses - Operation","5010","Load Dispatching",0]
[2019,"January 1, 2018 - December 31, 2018",null,"Sioux Lookout Hydro Inc.","Distribution Expenses - Operation","5090","Underground Distribution Lines and Feeders - Rental Paid",0]
[2019,"January 1, 2018 - December 31, 2018",null,"Sioux Lookout Hydro Inc.","Distribution Expenses – Maintenance","5160","Maintenance of Line Transformers",3154.66]
[2019,"January 1, 2018 - December 31, 2018",null,"Sioux Lookout Hydro Inc.","Distribution Expenses – Maintenance","5178","Customer Installations Expenses- Leased Property",0]
[2019,"January 1, 2018 - December 31, 2018",null,"Thunder Bay Hydro Electricity Distribution Inc.","Administrative and General Expenses","5625","Administrative Expense Transferred/Credit",0]
[2019,"January 1, 2018 - December 31, 2018",null,"Thunder Bay Hydro Electricity Distribution Inc.","Billing and Collecting","5320","Collecting",398942.71]
[2019,"January 1, 2018 - December 31, 2018",null,"Thunder Bay Hydro Electricity Distribution Inc.","Community Relations Total",null,null,13670.2]
[2019,"January 1, 2018 - December 31, 2018",null,"Thunder Bay Hydro Electricity Distribution Inc.","Distribution Expenses - Operation","5055","Underground Distribution Transformers - Operation",126959.67]
[2019,"January 1, 2018 - December 31, 2018",null,"Thunder Bay Hydro Electricity Distribution Inc.","Distribution Expenses - Operation","5085","Miscellaneous Distribution Expense",0]
[2019,"January 1, 2018 - December 31, 2018",null,"Thunder Bay Hydro Electricity Distribution Inc.","Distribution Expenses – Maintenance","5155","Maintenance of Underground Services",253121]
[2019,"January 1, 2018 - December 31, 2018",null,"Tillsonburg Hydro Inc.","Administrative and General Expenses","5515","Advertising Expense",0]
[2019,"January 1, 2018 - December 31, 2018",null,"Tillsonburg Hydro Inc.","Administrative and General Expenses","5675","Maintenance of General Plant",0]
[2019,"January 1, 2018 - December 31, 2018",null,"Tillsonburg Hydro Inc.","Community Relations","5405","Supervision",0]
[2019,"January 1, 2018 - December 31, 2018",null,"Tillsonburg Hydro Inc.","Distribution Expenses - Operation","5030","Overhead Subtransmission Feeders - Operation",0]
[2019,"January 1, 2018 - December 31, 2018",null,"Tillsonburg Hydro Inc.","Distribution Expenses - Operation","5055","Underground Distribution Transformers - Operation",728.14]
[2019,"January 1, 2018 - December 31, 2018",null,"Tillsonburg Hydro Inc.","Distribution Expenses – Maintenance","5125","Maintenance of Overhead Conductors and Devices",32248.73]
[2019,"January 1, 2018 - December 31, 2018",null,"Toronto Hydro-Electric System Limited","Administrative and General Expenses","5510","Demonstrating and Selling Expense",0]
[2019,"January 1, 2018 - December 31, 2018",null,"Toronto Hydro-Electric System Limited","Administrative and General Expenses","5655","Regulatory Expenses",4924577.18]
[2019,"January 1, 2018 - December 31, 2018",null,"Toronto Hydro-Electric System Limited","Billing and Collecting","5325","Collecting- Cash Over and Short",0]
[2019,"January 1, 2018 - December 31, 2018",null,"Toronto Hydro-Electric System Limited","Distribution Expenses - Operation","5025","Overhead Distribution Lines and Feeders - Operation Supplies and Expenses",2442860.4500000002]
[2019,"January 1, 2018 - December 31, 2018",null,"Toronto Hydro-Electric System Limited","Distribution Expenses - Operation","5030","Overhead Subtransmission Feeders - Operation",0]
[2019,"January 1, 2018 - December 31, 2018",null,"Toronto Hydro-Electric System Limited","Distribution Expenses – Maintenance","5105","Maintenance Supervision and Engineering",18384919.800000001]
[2019,"January 1, 2018 - December 31, 2018",null,"Toronto Hydro-Electric System Limited","Other Expenses","5205","Purchase of Transmission and System Services",0]
[2019,"January 1, 2018 - December 31, 2018",null,"Veridian Connections Inc.","Administrative and General Expenses","5640","Injuries and Damages",324540]
[2019,"January 1, 2018 - December 31, 2018",null,"Veridian Connections Inc.","Billing and Collecting","5320","Collecting",1033366]
[2019,"January 1, 2018 - December 31, 2018",null,"Veridian Connections Inc.","Distribution Expenses - Operation","5014","Transformer Station Equipment - Operation Labour",103274]
[2019,"January 1, 2018 - December 31, 2018",null,"Veridian Connections Inc.","Distribution Expenses - Operation","5015","Transformer Station Equipment - Operation Supplies and Expenses",0]
[2019,"January 1, 2018 - December 31, 2018",null,"Veridian Connections Inc.","Distribution Expenses - Operation Total",null,null,7127730]
[2019,"January 1, 2018 - December 31, 2018",null,"Veridian Connections Inc.","Distribution Expenses – Maintenance","5172","Sentinel Lights - Materials and Expenses",0]
[2019,"January 1, 2018 - December 31, 2018",null,"Wasaga Distribution Inc.","Administrative and General Expenses","5635","Property Insurance",12727.08]
[2019,"January 1, 2018 - December 31, 2018",null,"Wasaga Distribution Inc.","Administrative and General Expenses","5695","OM&A Contra",0]
[2019,"January 1, 2018 - December 31, 2018",null,"Wasaga Distribution Inc.","Community Relations","5425","Miscellaneous Customer Service and Informational Expenses",0]
[2019,"January 1, 2018 - December 31, 2018",null,"Wasaga Distribution Inc.","Distribution Expenses - Operation","5014","Transformer Station Equipment - Operation Labour",0]
[2019,"January 1, 2018 - December 31, 2018",null,"Wasaga Distribution Inc.","Distribution Expenses - Operation","5075","Customer Premises - Materials and Expenses",40.380000000000003]
[2019,"January 1, 2018 - December 31, 2018",null,"Wasaga Distribution Inc.","Distribution Expenses – Maintenance","5150","Maintenance of Underground Conductors and Devices",163398.9]
[2019,"January 1, 2018 - December 31, 2018",null,"Wasaga Distribution Inc.","Other Expenses","5210","Transmission Charges",0]
[2019,"January 1, 2018 - December 31, 2018",null,"Waterloo North Hydro Inc.","Administrative and General Expenses","5670","Rent",0]
[2019,"January 1, 2018 - December 31, 2018",null,"Waterloo North Hydro Inc.","Administrative and General Expenses","5685","Independent Market Operator Fees and Penalties",0]
[2019,"January 1, 2018 - December 31, 2018",null,"Waterloo North Hydro Inc.","Community Relations","5420","Community Safety Program",24155]
[2019,"January 1, 2018 - December 31, 2018",null,"Waterloo North Hydro Inc.","Distribution Expenses - Operation","5045","Underground Distribution Lines and Feeders - Operation Supplies and Expenses",30008]
[2019,"January 1, 2018 - December 31, 2018",null,"Waterloo North Hydro Inc.","Distribution Expenses – Maintenance","5135","Overhead Distribution Lines and Feeders - Right of Way",316476]
[2019,"January 1, 2018 - December 31, 2018",null,"Waterloo North Hydro Inc.","Other Expenses Total",null,null,0]
[2019,"January 1, 2018 - December 31, 2018",null,"Welland Hydro-Electric System Corp.","Administrative and General Expenses","5605","Executive Salaries and Expenses",420894.03]
[2019,"January 1, 2018 - December 31, 2018",null,"Welland Hydro-Electric System Corp.","Administrative and General Expenses","5670","Rent",0]
[2019,"January 1, 2018 - December 31, 2018",null,"Welland Hydro-Electric System Corp.","Billing and Collecting","5340","Miscellaneous Customer Accounts Expenses",24869.05]
[2019,"January 1, 2018 - December 31, 2018",null,"Welland Hydro-Electric System Corp.","Distribution Expenses - Operation","5040","Underground Distribution Lines and Feeders - Operation Labour",210688.94]
[2019,"January 1, 2018 - December 31, 2018",null,"Welland Hydro-Electric System Corp.","Distribution Expenses – Maintenance","5112","Maintenance of Transformer Station Equipment",0]
[2019,"January 1, 2018 - December 31, 2018",null,"Welland Hydro-Electric System Corp.","Distribution Expenses – Maintenance","5195","Maintenance of Other Installations on Customer Premises",0]
[2019,"January 1, 2018 - December 31, 2018",null,"Welland Hydro-Electric System Corp.","Other Expenses Total",null,null,0]
[2019,"January 1, 2018 - December 31, 2018",null,"Wellington North Power Inc.","Administrative and General Expenses","5647","Employee Sick Leave",0]
[2019,"January 1, 2018 - December 31, 2018",null,"Wellington North Power Inc.","Billing and Collecting","5335","Bad Debt Expense",12047.89]
[2019,"January 1, 2018 - December 31, 2018",null,"Wellington North Power Inc.","Distribution Expenses - Operation","5017","Distribution Station Equipment - Operation Supplies and Expenses",17819.64]
[2019,"January 1, 2018 - December 31, 2018",null,"Wellington North Power Inc.","Distribution Expenses - Operation","5095","Overhead Distribution Lines and Feeders - Rental Paid",0]
[2019,"January 1, 2018 - December 31, 2018",null,"Wellington North Power Inc.","Distribution Expenses – Maintenance","5112","Maintenance of Transformer Station Equipment",0]
[2019,"January 1, 2018 - December 31, 2018",null,"Wellington North Power Inc.","Distribution Expenses – Maintenance","5195","Maintenance of Other Installations on Customer Premises",0]
[2019,"January 1, 2018 - December 31, 2018",null,"West Coast Huron Energy Inc.","Administrative and General Expenses","5630","Outside Services Employed",286087]
[2019,"January 1, 2018 - December 31, 2018",null,"West Coast Huron Energy Inc.","Billing and Collecting","5310","Meter Reading Expense",71079]
[2019,"January 1, 2018 - December 31, 2018",null,"West Coast Huron Energy Inc.","Distribution Expenses - Operation","5010","Load Dispatching",5220]
[2019,"January 1, 2018 - December 31, 2018",null,"West Coast Huron Energy Inc.","Distribution Expenses - Operation","5017","Distribution Station Equipment - Operation Supplies and Expenses",3245]
[2019,"January 1, 2018 - December 31, 2018",null,"West Coast Huron Energy Inc.","Distribution Expenses - Operation","5095","Overhead Distribution Lines and Feeders - Rental Paid",0]
[2019,"January 1, 2018 - December 31, 2018",null,"West Coast Huron Energy Inc.","Distribution Expenses – Maintenance","5165","Maintenance of Street Lighting and Signal Systems",0]
[2019,"January 1, 2018 - December 31, 2018",null,"Westario Power Inc.","Administrative and General Expenses","5625","Administrative Expense Transferred/Credit",0]
[2019,"January 1, 2018 - December 31, 2018",null,"Westario Power Inc.","Administrative and General Expenses","5681","Special Purpose Charge Expense",0]
[2019,"January 1, 2018 - December 31, 2018",null,"Westario Power Inc.","Distribution Expenses - Operation","5005","Operation Supervision and Engineering",0]
[2019,"January 1, 2018 - December 31, 2018",null,"Westario Power Inc.","Distribution Expenses - Operation","5010","Load Dispatching",0]
[2019,"January 1, 2018 - December 31, 2018",null,"Westario Power Inc.","Distribution Expenses - Operation","5065","Meter Expense",69876.06]
[2019,"January 1, 2018 - December 31, 2018",null,"Westario Power Inc.","Distribution Expenses – Maintenance","5145","Maintenance of Underground Conduit",43.27]
[2019,"January 1, 2018 - December 31, 2018",null,"Whitby Hydro Electric Corporation","Administrative and General Expenses","5515","Advertising Expense",0]
[2019,"January 1, 2018 - December 31, 2018",null,"Whitby Hydro Electric Corporation","Administrative and General Expenses","5660","General Advertising Expenses",464.56]
[2019,"January 1, 2018 - December 31, 2018",null,"Whitby Hydro Electric Corporation","Community Relations","5405","Supervision",0]
[2019,"January 1, 2018 - December 31, 2018",null,"Whitby Hydro Electric Corporation","Community Relations","5410","Community Relations - Sundry",23500]
[2019,"January 1, 2018 - December 31, 2018",null,"Whitby Hydro Electric Corporation","Distribution Expenses - Operation","5055","Underground Distribution Transformers - Operation",10560.9]
[2019,"January 1, 2018 - December 31, 2018",null,"Whitby Hydro Electric Corporation","Distribution Expenses – Maintenance","5125","Maintenance of Overhead Conductors and Devices",496185.81]
[2019,"January 1, 2018 - December 31, 2018",null,"Whitby Hydro Electric Corporation","Other Expenses","5210","Transmission Charges",0]
[2020,"January 1, 2019 - December 31, 2019",null,"1937680 Ontario Inc.","Administrative and General Expenses","5655","Regulatory Expenses",238552.1]
[2020,"January 1, 2019 - December 31, 2019",null,"1937680 Ontario Inc.","Billing and Collecting","5325","Collecting- Cash Over and Short",-200]
[2020,"January 1, 2019 - December 31, 2019",null,"1937680 Ontario Inc.","Community Relations","5405","Supervision",0]
[2020,"January 1, 2019 - December 31, 2019",null,"1937680 Ontario Inc.","Distribution Expenses - Operation","5030","Overhead Subtransmission Feeders - Operation",5846.43]
[2020,"January 1, 2019 - December 31, 2019",null,"1937680 Ontario Inc.","Distribution Expenses – Maintenance","5105","Maintenance Supervision and Engineering",0]
[2020,"January 1, 2019 - December 31, 2019",null,"1937680 Ontario Inc.","Other Expenses","5205","Purchase of Transmission and System Services",0]
[2020,"January 1, 2019 - December 31, 2019",null,"Alectra Utilities Corporation","Administrative and General Expenses","5640","Injuries and Damages",0]
[2020,"January 1, 2019 - December 31, 2019",null,"Alectra Utilities Corporation","Administrative and General Expenses Total",null,null,96853226.540000007]
[2020,"January 1, 2019 - December 31, 2019",null,"Alectra Utilities Corporation","Billing and Collecting","5325","Collecting- Cash Over and Short",1810.71]
[2020,"January 1, 2019 - December 31, 2019",null,"Alectra Utilities Corporation","Distribution Expenses - Operation","5015","Transformer Station Equipment - Operation Supplies and Expenses",0]
[2020,"January 1, 2019 - December 31, 2019",null,"Alectra Utilities Corporation","Distribution Expenses - Operation Total",null,null,89969073.260000005]
[2020,"January 1, 2019 - December 31, 2019",null,"Alectra Utilities Corporation","Distribution Expenses – Maintenance","5172","Sentinel Lights - Materials and Expenses",0]
[2020,"January 1, 2019 - December 31, 2019",null,"Algoma Power Inc.","Administrative and General Expenses","5615","General Administrative Salaries and Expenses",2195745.17]
[2020,"January 1, 2019 - December 31, 2019",null,"Algoma Power Inc.","Administrative and General Expenses","5640","Injuries and Damages",0]
[2020,"January 1, 2019 - December 31, 2019",null,"Algoma Power Inc.","Billing and Collecting","5315","Customer Billing",190152.28]
[2020,"January 1, 2019 - December 31, 2019",null,"Algoma Power Inc.","Distribution Expenses - Operation","5012","Station Buildings and Fixtures Expense",68738.7]
[2020,"January 1, 2019 - December 31, 2019",null,"Algoma Power Inc.","Distribution Expenses - Operation","5095","Overhead Distribution Lines and Feeders - Rental Paid",54789.75]
[2020,"January 1, 2019 - December 31, 2019",null,"Algoma Power Inc.","Distribution Expenses – Maintenance","5165","Maintenance of Street Lighting and Signal Systems",0]
[2020,"January 1, 2019 - December 31, 2019",null,"Algoma Power Inc.","Distribution Expenses – Maintenance","5195","Maintenance of Other Installations on Customer Premises",0]
[2020,"January 1, 2019 - December 31, 2019",null,"Atikokan Hydro Inc.","Administrative and General Expenses","5630","Outside Services Employed",55873.760000000002]
[2020,"January 1, 2019 - December 31, 2019",null,"Atikokan Hydro Inc.","Administrative and General Expenses","5685","Independent Market Operator Fees and Penalties",0]
[2020,"January 1, 2019 - December 31, 2019",null,"Atikokan Hydro Inc.","Distribution Expenses - Operation","5010","Load Dispatching",0]
[2020,"January 1, 2019 - December 31, 2019",null,"Atikokan Hydro Inc.","Distribution Expenses - Operation","5017","Distribution Station Equipment - Operation Supplies and Expenses",0]
[2020,"January 1, 2019 - December 31, 2019",null,"Atikokan Hydro Inc.","Distribution Expenses - Operation","5090","Underground Distribution Lines and Feeders - Rental Paid",0]
[2020,"January 1, 2019 - December 31, 2019",null,"Atikokan Hydro Inc.","Distribution Expenses – Maintenance","5160","Maintenance of Line Transformers",1144.1199999999999]
[2020,"January 1, 2019 - December 31, 2019",null,"Bluewater Power Distribution Corporation","Administrative and General Expenses","5520","Miscellaneous Sales Expense",0]
[2020,"January 1, 2019 - December 31, 2019",null,"Bluewater Power Distribution Corporation","Administrative and General Expenses","5680","Electrical Safety Authority Fees",0]
[2020,"January 1, 2019 - December 31, 2019",null,"Bluewater Power Distribution Corporation","Community Relations","5410","Community Relations - Sundry",199619]
[2020,"January 1, 2019 - December 31, 2019",null,"Bluewater Power Distribution Corporation","Distribution Expenses - Operation","5035","Overhead Distribution Transformers- Operation",0]
[2020,"January 1, 2019 - December 31, 2019",null,"Bluewater Power Distribution Corporation","Distribution Expenses - Operation","5060","Street Lighting and Signal System Expense",507]
[2020,"January 1, 2019 - December 31, 2019",null,"Bluewater Power Distribution Corporation","Distribution Expenses – Maintenance","5130","Maintenance of Overhead Services",0]
[2020,"January 1, 2019 - December 31, 2019",null,"Brantford Power Inc.","Administrative and General Expenses","5515","Advertising Expense",0]
[2020,"January 1, 2019 - December 31, 2019",null,"Brantford Power Inc.","Administrative and General Expenses","5660","General Advertising Expenses",0]
[2020,"January 1, 2019 - December 31, 2019",null,"Brantford Power Inc.","Billing and Collecting","5330","Collection Charges",0]
[2020,"January 1, 2019 - December 31, 2019",null,"Brantford Power Inc.","Community Relations","5410","Community Relations - Sundry",46539.49]
[2020,"January 1, 2019 - December 31, 2019",null,"Brantford Power Inc.","Distribution Expenses - Operation","5035","Overhead Distribution Transformers- Operation",902.43]
[2020,"January 1, 2019 - December 31, 2019",null,"Brantford Power Inc.","Distribution Expenses – Maintenance","5110","Maintenance of Buildings and Fixtures - Distribution Stations",26426.03]
[2020,"January 1, 2019 - December 31, 2019",null,"Brantford Power Inc.","Other Expenses","5210","Transmission Charges",0]
[2020,"January 1, 2019 - December 31, 2019",null,"Burlington Hydro Inc.","Administrative and General Expenses","5645","OMERS Pensions and Benefits",372199.49]
[2020,"January 1, 2019 - December 31, 2019",null,"Burlington Hydro Inc.","Billing and Collecting","5325","Collecting- Cash Over and Short",0]
[2020,"January 1, 2019 - December 31, 2019",null,"Burlington Hydro Inc.","Billing and Collecting","5330","Collection Charges",149447.04000000001]
[2020,"January 1, 2019 - December 31, 2019",null,"Burlington Hydro Inc.","Distribution Expenses - Operation","5016","Distribution Station Equipment - Operation Labour",227546.04]
[2020,"January 1, 2019 - December 31, 2019",null,"Burlington Hydro Inc.","Distribution Expenses – Maintenance","5105","Maintenance Supervision and Engineering",0]
[2020,"January 1, 2019 - December 31, 2019",null,"Burlington Hydro Inc.","Distribution Expenses – Maintenance","5175","Maintenance of Meters",175851.78]
[2020,"January 1, 2019 - December 31, 2019",null,"Canadian Niagara Power Inc.","Administrative and General Expenses","5640","Injuries and Damages",0]
[2020,"January 1, 2019 - December 31, 2019",null,"Canadian Niagara Power Inc.","Billing and Collecting","5315","Customer Billing",423352.82]
[2020,"January 1, 2019 - December 31, 2019",null,"Canadian Niagara Power Inc.","Billing and Collecting","5320","Collecting",280542.68]
[2020,"January 1, 2019 - December 31, 2019",null,"Canadian Niagara Power Inc.","Distribution Expenses - Operation","5020","Overhead Distribution Lines and Feeders - Operation Labour",166598.13]
[2020,"January 1, 2019 - December 31, 2019",null,"Canadian Niagara Power Inc.","Distribution Expenses - Operation","5096","Other Rent",0]
[2020,"January 1, 2019 - December 31, 2019",null,"Canadian Niagara Power Inc.","Distribution Expenses – Maintenance","5170","Sentinel Lights - Labour",0]
[2020,"January 1, 2019 - December 31, 2019",null,"Centre Wellington Hydro Ltd.","Administrative and General Expenses","5630","Outside Services Employed",59370.400000000001]
[2020,"January 1, 2019 - December 31, 2019",null,"Centre Wellington Hydro Ltd.","Administrative and General Expenses","5685","Independent Market Operator Fees and Penalties",0]
[2020,"January 1, 2019 - December 31, 2019",null,"Centre Wellington Hydro Ltd.","Billing and Collecting","5325","Collecting- Cash Over and Short",-110.56]
[2020,"January 1, 2019 - December 31, 2019",null,"Centre Wellington Hydro Ltd.","Distribution Expenses - Operation","5010","Load Dispatching",13532.76]
[2020,"January 1, 2019 - December 31, 2019",null,"Centre Wellington Hydro Ltd.","Distribution Expenses - Operation","5065","Meter Expense",97098.21]
[2020,"January 1, 2019 - December 31, 2019",null,"Centre Wellington Hydro Ltd.","Distribution Expenses – Maintenance","5160","Maintenance of Line Transformers",52054.6]
[2020,"January 1, 2019 - December 31, 2019",null,"Chapleau Public Utilities Corporation","Administrative and General Expenses","5520","Miscellaneous Sales Expense",0]
[2020,"January 1, 2019 - December 31, 2019",null,"Chapleau Public Utilities Corporation","Administrative and General Expenses","5625","Administrative Expense Transferred/Credit",0]
[2020,"January 1, 2019 - December 31, 2019",null,"Chapleau Public Utilities Corporation","Administrative and General Expenses","5681","Special Purpose Charge Expense",0]
[2020,"January 1, 2019 - December 31, 2019",null,"Chapleau Public Utilities Corporation","Community Relations","5415","Energy Conservation",0]
[2020,"January 1, 2019 - December 31, 2019",null,"Chapleau Public Utilities Corporation","Distribution Expenses - Operation","5060","Street Lighting and Signal System Expense",0]
[2020,"January 1, 2019 - December 31, 2019",null,"Chapleau Public Utilities Corporation","Distribution Expenses – Maintenance","5130","Maintenance of Overhead Services",0]
[2020,"January 1, 2019 - December 31, 2019",null,"Chapleau Public Utilities Corporation","Other Expenses","5215","Transmission Charges Recovered",0]
[2020,"January 1, 2019 - December 31, 2019",null,"Cooperative Hydro Embrun Inc.","Administrative and General Expenses","5520","Miscellaneous Sales Expense",0]
[2020,"January 1, 2019 - December 31, 2019",null,"Cooperative Hydro Embrun Inc.","Administrative and General Expenses","5665","Miscellaneous General Expenses",0]
[2020,"January 1, 2019 - December 31, 2019",null,"Cooperative Hydro Embrun Inc.","Community Relations","5410","Community Relations - Sundry",2385]
[2020,"January 1, 2019 - December 31, 2019",null,"Cooperative Hydro Embrun Inc.","Distribution Expenses - Operation","5035","Overhead Distribution Transformers- Operation",2651.01]
[2020,"January 1, 2019 - December 31, 2019",null,"Cooperative Hydro Embrun Inc.","Distribution Expenses – Maintenance","5110","Maintenance of Buildings and Fixtures - Distribution Stations",8581.83]
[2020,"January 1, 2019 - December 31, 2019",null,"Cooperative Hydro Embrun Inc.","Distribution Expenses – Maintenance","5130","Maintenance of Overhead Services",0]
[2020,"January 1, 2019 - December 31, 2019",null,"Cooperative Hydro Embrun Inc.","Other Expenses","5215","Transmission Charges Recovered",0]
[2020,"January 1, 2019 - December 31, 2019",null,"E.L.K. Energy Inc.","Administrative and General Expenses","5646","Employee Pensions and OPEB",0]
[2020,"January 1, 2019 - December 31, 2019",null,"E.L.K. Energy Inc.","Billing and Collecting","5330","Collection Charges",11314.68]
[2020,"January 1, 2019 - December 31, 2019",null,"E.L.K. Energy Inc.","Distribution Expenses - Operation","5016","Distribution Station Equipment - Operation Labour",0]
[2020,"January 1, 2019 - December 31, 2019",null,"E.L.K. Energy Inc.","Distribution Expenses - Operation","5035","Overhead Distribution Transformers- Operation",4401.92]
[2020,"January 1, 2019 - December 31, 2019",null,"E.L.K. Energy Inc.","Distribution Expenses – Maintenance","5110","Maintenance of Buildings and Fixtures - Distribution Stations",0]
[2020,"January 1, 2019 - December 31, 2019",null,"E.L.K. Energy Inc.","Distribution Expenses – Maintenance","5178","Customer Installations Expenses- Leased Property",0]
[2020,"January 1, 2019 - December 31, 2019",null,"ENWIN Utilities Ltd.","Administrative and General Expenses","5645","OMERS Pensions and Benefits",0]
[2020,"January 1, 2019 - December 31, 2019",null,"ENWIN Utilities Ltd.","Billing and Collecting","5305","Supervision",0]
[2020,"January 1, 2019 - December 31, 2019",null,"ENWIN Utilities Ltd.","Billing and Collecting","5330","Collection Charges",0]
[2020,"January 1, 2019 - December 31, 2019",null,"ENWIN Utilities Ltd.","Distribution Expenses - Operation","5016","Distribution Station Equipment - Operation Labour",0]
[2020,"January 1, 2019 - December 31, 2019",null,"ENWIN Utilities Ltd.","Distribution Expenses - Operation","5090","Underground Distribution Lines and Feeders - Rental Paid",0]
[2020,"January 1, 2019 - December 31, 2019",null,"ENWIN Utilities Ltd.","Distribution Expenses – Maintenance","5175","Maintenance of Meters",0]
[2020,"January 1, 2019 - December 31, 2019",null,"EPCOR Electricity Distribution Ontario Inc.","Administrative and General Expenses","5620","Office Supplies and Expenses",0]
[2020,"January 1, 2019 - December 31, 2019",null,"EPCOR Electricity Distribution Ontario Inc.","Administrative and General Expenses","5681","Special Purpose Charge Expense",0]
[2020,"January 1, 2019 - December 31, 2019",null,"EPCOR Electricity Distribution Ontario Inc.","Administrative and General Expenses Total",null,null,3072514.16]
[2020,"January 1, 2019 - December 31, 2019",null,"EPCOR Electricity Distribution Ontario Inc.","Community Relations Total",null,null,241736.02]
[2020,"January 1, 2019 - December 31, 2019",null,"EPCOR Electricity Distribution Ontario Inc.","Distribution Expenses - Operation","5075","Customer Premises - Materials and Expenses",654]
[2020,"January 1, 2019 - December 31, 2019",null,"EPCOR Electricity Distribution Ontario Inc.","Distribution Expenses – Maintenance","5150","Maintenance of Underground Conductors and Devices",75307.62]
[2020,"January 1, 2019 - December 31, 2019",null,"ERTH Power Corporation","Administrative and General Expenses","5510","Demonstrating and Selling Expense",0]
[2020,"January 1, 2019 - December 31, 2019",null,"ERTH Power Corporation","Administrative and General Expenses","5672","Lease Payment Expense",0]
[2020,"January 1, 2019 - December 31, 2019",null,"ERTH Power Corporation","Administrative and General Expenses","5675","Maintenance of General Plant",98615.92]
[2020,"January 1, 2019 - December 31, 2019",null,"ERTH Power Corporation","Community Relations","5405","Supervision",65008.95]
[2020,"January 1, 2019 - December 31, 2019",null,"ERTH Power Corporation","Distribution Expenses - Operation","5050","Underground Subtransmission Feeders - Operation",0]
[2020,"January 1, 2019 - December 31, 2019",null,"ERTH Power Corporation","Distribution Expenses – Maintenance","5120","Maintenance of Poles, Towers and Fixtures",85386.98]
[2020,"January 1, 2019 - December 31, 2019",null,"Elexicon Energy Inc.","Administrative and General Expenses","5505","Supervision",0]
[2020,"January 1, 2019 - December 31, 2019",null,"Elexicon Energy Inc.","Administrative and General Expenses","5650","Franchise Requirements",0]
[2020,"January 1, 2019 - December 31, 2019",null,"Elexicon Energy Inc.","Administrative and General Expenses","5655","Regulatory Expenses",1012719.72]
[2020,"January 1, 2019 - December 31, 2019",null,"Elexicon Energy Inc.","Billing and Collecting Total",null,null,7534069.1500000004]
[2020,"January 1, 2019 - December 31, 2019",null,"Elexicon Energy Inc.","Distribution Expenses - Operation","5025","Overhead Distribution Lines and Feeders - Operation Supplies and Expenses",280398.64]
[2020,"January 1, 2019 - December 31, 2019",null,"Elexicon Energy Inc.","Distribution Expenses – Maintenance","5114","Maintenance of Distribution Station Equipment",331316.96000000002]
[2020,"January 1, 2019 - December 31, 2019",null,"Elexicon Energy Inc.","Distribution Expenses – Maintenance Total",null,null,3924652.42]
[2020,"January 1, 2019 - December 31, 2019",null,"Energy Plus Inc.","Administrative and General Expenses","5635","Property Insurance",21912.48]
[2020,"January 1, 2019 - December 31, 2019",null,"Energy Plus Inc.","Administrative and General Expenses","5650","Franchise Requirements",0]
[2020,"January 1, 2019 - December 31, 2019",null,"Energy Plus Inc.","Billing and Collecting","5320","Collecting",310463.69]
[2020,"January 1, 2019 - December 31, 2019",null,"Energy Plus Inc.","Distribution Expenses - Operation","5014","Transformer Station Equipment - Operation Labour",205.05]
[2020,"January 1, 2019 - December 31, 2019",null,"Energy Plus Inc.","Distribution Expenses - Operation","5096","Other Rent",3015.67]
[2020,"January 1, 2019 - December 31, 2019",null,"Energy Plus Inc.","Distribution Expenses – Maintenance","5170","Sentinel Lights - Labour",0]
[2020,"January 1, 2019 - December 31, 2019",null,"Energy Plus Inc.","Distribution Expenses – Maintenance Total",null,null,2629707.4700000002]
[2020,"January 1, 2019 - December 31, 2019",null,"Entegrus Powerlines Inc.","Administrative and General Expenses","5635","Property Insurance",173601.84]
[2020,"January 1, 2019 - December 31, 2019",null,"Entegrus Powerlines Inc.","Administrative and General Expenses","5695","OM&A Contra",0]
[2020,"January 1, 2019 - December 31, 2019",null,"Entegrus Powerlines Inc.","Distribution Expenses - Operation","5012","Station Buildings and Fixtures Expense",0]
[2020,"January 1, 2019 - December 31, 2019",null,"Entegrus Powerlines Inc.","Distribution Expenses - Operation","5070","Customer Premises - Operation Labour",33905.800000000003]
[2020,"January 1, 2019 - December 31, 2019",null,"Entegrus Powerlines Inc.","Distribution Expenses - Operation","5096","Other Rent",0]
[2020,"January 1, 2019 - December 31, 2019",null,"Entegrus Powerlines Inc.","Distribution Expenses – Maintenance","5170","Sentinel Lights - Labour",2729.67]
[2020,"January 1, 2019 - December 31, 2019",null,"Espanola Regional Hydro Distribution Corporation","Administrative and General Expenses","5605","Executive Salaries and Expenses",15405]
[2020,"January 1, 2019 - December 31, 2019",null,"Espanola Regional Hydro Distribution Corporation","Administrative and General Expenses","5681","Special Purpose Charge Expense",0]
[2020,"January 1, 2019 - December 31, 2019",null,"Espanola Regional Hydro Distribution Corporation","Community Relations","5415","Energy Conservation",0]
[2020,"January 1, 2019 - December 31, 2019",null,"Espanola Regional Hydro Distribution Corporation","Distribution Expenses - Operation","5040","Underground Distribution Lines and Feeders - Operation Labour",23333.599999999999]
[2020,"January 1, 2019 - December 31, 2019",null,"Espanola Regional Hydro Distribution Corporation","Distribution Expenses - Operation","5065","Meter Expense",32296.13]
[2020,"January 1, 2019 - December 31, 2019",null,"Espanola Regional Hydro Distribution Corporation","Distribution Expenses – Maintenance","5135","Overhead Distribution Lines and Feeders - Right of Way",91525.37]
[2020,"January 1, 2019 - December 31, 2019",null,"Essex Powerlines Corporation","Administrative and General Expenses","5520","Miscellaneous Sales Expense",0]
[2020,"January 1, 2019 - December 31, 2019",null,"Essex Powerlines Corporation","Administrative and General Expenses","5665","Miscellaneous General Expenses",138540.01999999999]
[2020,"January 1, 2019 - December 31, 2019",null,"Essex Powerlines Corporation","Billing and Collecting","5335","Bad Debt Expense",29699.03]
[2020,"January 1, 2019 - December 31, 2019",null,"Essex Powerlines Corporation","Community Relations","5415","Energy Conservation",0]
[2020,"January 1, 2019 - December 31, 2019",null,"Essex Powerlines Corporation","Distribution Expenses - Operation","5040","Underground Distribution Lines and Feeders - Operation Labour",63653.07]
[2020,"January 1, 2019 - December 31, 2019",null,"Essex Powerlines Corporation","Distribution Expenses – Maintenance","5112","Maintenance of Transformer Station Equipment",0]
[2020,"January 1, 2019 - December 31, 2019",null,"Essex Powerlines Corporation","Other Expenses","5215","Transmission Charges Recovered",0]
[2020,"January 1, 2019 - December 31, 2019",null,"Festival Hydro Inc.","Administrative and General Expenses","5646","Employee Pensions and OPEB",0]
[2020,"January 1, 2019 - December 31, 2019",null,"Festival Hydro Inc.","Administrative and General Expenses","5665","Miscellaneous General Expenses",81995.77]
[2020,"January 1, 2019 - December 31, 2019",null,"Festival Hydro Inc.","Billing and Collecting","5335","Bad Debt Expense",104032.2]
[2020,"January 1, 2019 - December 31, 2019",null,"Festival Hydro Inc.","Distribution Expenses - Operation","5017","Distribution Station Equipment - Operation Supplies and Expenses",0]
[2020,"January 1, 2019 - December 31, 2019",null,"Festival Hydro Inc.","Distribution Expenses – Maintenance","5110","Maintenance of Buildings and Fixtures - Distribution Stations",11534.3]
[2020,"January 1, 2019 - December 31, 2019",null,"Festival Hydro Inc.","Distribution Expenses – Maintenance","5178","Customer Installations Expenses- Leased Property",0]
[2020,"January 1, 2019 - December 31, 2019",null,"Fort Frances Power Corporation","Administrative and General Expenses","5645","OMERS Pensions and Benefits",65448.3]
[2020,"January 1, 2019 - December 31, 2019",null,"Fort Frances Power Corporation","Administrative and General Expenses","5646","Employee Pensions and OPEB",0]
[2020,"January 1, 2019 - December 31, 2019",null,"Fort Frances Power Corporation","Billing and Collecting","5310","Meter Reading Expense",20533.07]
[2020,"January 1, 2019 - December 31, 2019",null,"Fort Frances Power Corporation","Distribution Expenses - Operation","5016","Distribution Station Equipment - Operation Labour",0]
[2020,"January 1, 2019 - December 31, 2019",null,"Fort Frances Power Corporation","Distribution Expenses - Operation","5090","Underground Distribution Lines and Feeders - Rental Paid",0]
[2020,"January 1, 2019 - December 31, 2019",null,"Fort Frances Power Corporation","Distribution Expenses – Maintenance","5160","Maintenance of Line Transformers",7336.07]
[2020,"January 1, 2019 - December 31, 2019",null,"Greater Sudbury Hydro Inc.","Administrative and General Expenses","5620","Office Supplies and Expenses",67315.289999999994]
[2020,"January 1, 2019 - December 31, 2019",null,"Greater Sudbury Hydro Inc.","Administrative and General Expenses","5625","Administrative Expense Transferred/Credit",0]
[2020,"January 1, 2019 - December 31, 2019",null,"Greater Sudbury Hydro Inc.","Billing and Collecting","5305","Supervision",237913.2]
[2020,"January 1, 2019 - December 31, 2019",null,"Greater Sudbury Hydro Inc.","Distribution Expenses - Operation","5005","Operation Supervision and Engineering",1499963.7]
[2020,"January 1, 2019 - December 31, 2019",null,"Greater Sudbury Hydro Inc.","Distribution Expenses - Operation","5025","Overhead Distribution Lines and Feeders - Operation Supplies and Expenses",372508.15]
[2020,"January 1, 2019 - December 31, 2019",null,"Greater Sudbury Hydro Inc.","Distribution Expenses – Maintenance","5150","Maintenance of Underground Conductors and Devices",35155.17]
[2020,"January 1, 2019 - December 31, 2019",null,"Grimsby Power Incorporated","Administrative and General Expenses","5510","Demonstrating and Selling Expense",0]
[2020,"January 1, 2019 - December 31, 2019",null,"Grimsby Power Incorporated","Administrative and General Expenses","5615","General Administrative Salaries and Expenses",252039.15]
[2020,"January 1, 2019 - December 31, 2019",null,"Grimsby Power Incorporated","Administrative and General Expenses","5675","Maintenance of General Plant",104483.95]
[2020,"January 1, 2019 - December 31, 2019",null,"Grimsby Power Incorporated","Community Relations","5405","Supervision",0]
[2020,"January 1, 2019 - December 31, 2019",null,"Grimsby Power Incorporated","Distribution Expenses - Operation","5050","Underground Subtransmission Feeders - Operation",0]
[2020,"January 1, 2019 - December 31, 2019",null,"Grimsby Power Incorporated","Distribution Expenses – Maintenance","5120","Maintenance of Poles, Towers and Fixtures",75843.31]
[2020,"January 1, 2019 - December 31, 2019",null,"Grimsby Power Incorporated","Other Expenses","5205","Purchase of Transmission and System Services",0]
[2020,"January 1, 2019 - December 31, 2019",null,"Halton Hills Hydro Inc.","Administrative and General Expenses","5510","Demonstrating and Selling Expense",0]
[2020,"January 1, 2019 - December 31, 2019",null,"Halton Hills Hydro Inc.","Administrative and General Expenses","5655","Regulatory Expenses",130481.1]
[2020,"January 1, 2019 - December 31, 2019",null,"Halton Hills Hydro Inc.","Billing and Collecting Total",null,null,1125654]
[2020,"January 1, 2019 - December 31, 2019",null,"Halton Hills Hydro Inc.","Distribution Expenses - Operation","5025","Overhead Distribution Lines and Feeders - Operation Supplies and Expenses",19798.240000000002]
[2020,"January 1, 2019 - December 31, 2019",null,"Halton Hills Hydro Inc.","Distribution Expenses - Operation Total",null,null,1264253.74]
[2020,"January 1, 2019 - December 31, 2019",null,"Halton Hills Hydro Inc.","Distribution Expenses – Maintenance","5120","Maintenance of Poles, Towers and Fixtures",1682.16]
[2020,"January 1, 2019 - December 31, 2019",null,"Halton Hills Hydro Inc.","Other Expenses","5205","Purchase of Transmission and System Services",0]
[2020,"January 1, 2019 - December 31, 2019",null,"Hearst Power Distribution Company Limited","Administrative and General Expenses","5640","Injuries and Damages",0]
[2020,"January 1, 2019 - December 31, 2019",null,"Hearst Power Distribution Company Limited","Billing and Collecting","5320","Collecting",44427.21]
[2020,"January 1, 2019 - December 31, 2019",null,"Hearst Power Distribution Company Limited","Distribution Expenses - Operation","5014","Transformer Station Equipment - Operation Labour",0]
[2020,"January 1, 2019 - December 31, 2019",null,"Hearst Power Distribution Company Limited","Distribution Expenses - Operation","5025","Overhead Distribution Lines and Feeders - Operation Supplies and Expenses",64376.87]
[2020,"January 1, 2019 - December 31, 2019",null,"Hearst Power Distribution Company Limited","Distribution Expenses - Operation Total",null,null,169073.18]
[2020,"January 1, 2019 - December 31, 2019",null,"Hearst Power Distribution Company Limited","Distribution Expenses – Maintenance","5172","Sentinel Lights - Materials and Expenses",0]
[2020,"January 1, 2019 - December 31, 2019",null,"Hydro 2000 Inc.","Administrative and General Expenses","5635","Property Insurance",5163.04]
[2020,"January 1, 2019 - December 31, 2019",null,"Hydro 2000 Inc.","Administrative and General Expenses","5695","OM&A Contra",0]
[2020,"January 1, 2019 - December 31, 2019",null,"Hydro 2000 Inc.","Billing and Collecting","5320","Collecting",4748.53]
[2020,"January 1, 2019 - December 31, 2019",null,"Hydro 2000 Inc.","Distribution Expenses - Operation","5014","Transformer Station Equipment - Operation Labour",0]
[2020,"January 1, 2019 - December 31, 2019",null,"Hydro 2000 Inc.","Distribution Expenses - Operation","5075","Customer Premises - Materials and Expenses",0]
[2020,"January 1, 2019 - December 31, 2019",null,"Hydro 2000 Inc.","Distribution Expenses – Maintenance","5170","Sentinel Lights - Labour",0]
[2020,"January 1, 2019 - December 31, 2019",null,"Hydro Hawkesbury Inc.","Administrative and General Expenses","5610","Management Salaries and Expenses",77836.820000000007]
[2020,"January 1, 2019 - December 31, 2019",null,"Hydro Hawkesbury Inc.","Administrative and General Expenses","5672","Lease Payment Expense",0]
[2020,"January 1, 2019 - December 31, 2019",null,"Hydro Hawkesbury Inc.","Administrative and General Expenses","5695","OM&A Contra",0]
[2020,"January 1, 2019 - December 31, 2019",null,"Hydro Hawkesbury Inc.","Community Relations","5415","Energy Conservation",0]
[2020,"January 1, 2019 - December 31, 2019",null,"Hydro Hawkesbury Inc.","Distribution Expenses - Operation","5065","Meter Expense",1638.3]
[2020,"January 1, 2019 - December 31, 2019",null,"Hydro Hawkesbury Inc.","Distribution Expenses – Maintenance","5135","Overhead Distribution Lines and Feeders - Right of Way",31561.53]
[2020,"January 1, 2019 - December 31, 2019",null,"Hydro Hawkesbury Inc.","Other Expenses Total",null,null,0]
[2020,"January 1, 2019 - December 31, 2019",null,"Hydro One Networks Inc.","Administrative and General Expenses","5605","Executive Salaries and Expenses",7267434.1699999999]
[2020,"January 1, 2019 - December 31, 2019",null,"Hydro One Networks Inc.","Administrative and General Expenses","5680","Electrical Safety Authority Fees",0]
[2020,"January 1, 2019 - December 31, 2019",null,"Hydro One Networks Inc.","Community Relations","5410","Community Relations - Sundry",637242.81999999995]
[2020,"January 1, 2019 - December 31, 2019",null,"Hydro One Networks Inc.","Distribution Expenses - Operation","5055","Underground Distribution Transformers - Operation",0]
[2020,"January 1, 2019 - December 31, 2019",null,"Hydro One Networks Inc.","Distribution Expenses – Maintenance","5125","Maintenance of Overhead Conductors and Devices",38071270.299999997]
[2020,"January 1, 2019 - December 31, 2019",null,"Hydro One Remote Communities Inc.","Administrative and General Expenses","5510","Demonstrating and Selling Expense",0]
[2020,"January 1, 2019 - December 31, 2019",null,"Hydro One Remote Communities Inc.","Administrative and General Expenses","5515","Advertising Expense",0]
[2020,"January 1, 2019 - December 31, 2019",null,"Hydro One Remote Communities Inc.","Administrative and General Expenses","5670","Rent",0]
[2020,"January 1, 2019 - December 31, 2019",null,"Hydro One Remote Communities Inc.","Community Relations","5420","Community Safety Program",40231.61]
[2020,"January 1, 2019 - December 31, 2019",null,"Hydro One Remote Communities Inc.","Distribution Expenses - Operation","5045","Underground Distribution Lines and Feeders - Operation Supplies and Expenses",0]
[2020,"January 1, 2019 - December 31, 2019",null,"Hydro One Remote Communities Inc.","Distribution Expenses – Maintenance","5135","Overhead Distribution Lines and Feeders - Right of Way",253543.38]
[2020,"January 1, 2019 - December 31, 2019",null,"Hydro One Remote Communities Inc.","Other Expenses Total",null,null,0]
[2020,"January 1, 2019 - December 31, 2019",null,"Hydro Ottawa Limited","Administrative and General Expenses","5505","Supervision",0]
[2020,"January 1, 2019 - December 31, 2019",null,"Hydro Ottawa Limited","Administrative and General Expenses","5670","Rent",0]
[2020,"January 1, 2019 - December 31, 2019",null,"Hydro Ottawa Limited","Billing and Collecting","5340","Miscellaneous Customer Accounts Expenses",0]
[2020,"January 1, 2019 - December 31, 2019",null,"Hydro Ottawa Limited","Distribution Expenses - Operation","5020","Overhead Distribution Lines and Feeders - Operation Labour",190847.78]
[2020,"January 1, 2019 - December 31, 2019",null,"Hydro Ottawa Limited","Distribution Expenses – Maintenance","5112","Maintenance of Transformer Station Equipment",401487.41]
[2020,"January 1, 2019 - December 31, 2019",null,"Hydro Ottawa Limited","Distribution Expenses – Maintenance","5195","Maintenance of Other Installations on Customer Premises",0]
[2020,"January 1, 2019 - December 31, 2019",null,"Hydro Ottawa Limited","Other Expenses Total",null,null,0]
[2020,"January 1, 2019 - December 31, 2019",null,"Innpower Corporation","Administrative and General Expenses","5647","Employee Sick Leave",0]
[2020,"January 1, 2019 - December 31, 2019",null,"Innpower Corporation","Billing and Collecting","5315","Customer Billing",395347.3]
[2020,"January 1, 2019 - December 31, 2019",null,"Innpower Corporation","Distribution Expenses - Operation","5017","Distribution Station Equipment - Operation Supplies and Expenses",1140.44]
[2020,"January 1, 2019 - December 31, 2019",null,"Innpower Corporation","Distribution Expenses - Operation","5095","Overhead Distribution Lines and Feeders - Rental Paid",19240.91]
[2020,"January 1, 2019 - December 31, 2019",null,"Innpower Corporation","Distribution Expenses – Maintenance","5112","Maintenance of Transformer Station Equipment",0]
[2020,"January 1, 2019 - December 31, 2019",null,"Innpower Corporation","Distribution Expenses – Maintenance","5195","Maintenance of Other Installations on Customer Premises",0]
[2020,"January 1, 2019 - December 31, 2019",null,"Kingston Hydro Corporation","Administrative and General Expenses","5630","Outside Services Employed",522659.13]
[2020,"January 1, 2019 - December 31, 2019",null,"Kingston Hydro Corporation","Administrative and General Expenses","5685","Independent Market Operator Fees and Penalties",0]
[2020,"January 1, 2019 - December 31, 2019",null,"Kingston Hydro Corporation","Distribution Expenses - Operation","5005","Operation Supervision and Engineering",145872.04]
[2020,"January 1, 2019 - December 31, 2019",null,"Kingston Hydro Corporation","Distribution Expenses - Operation","5060","Street Lighting and Signal System Expense",0]
[2020,"January 1, 2019 - December 31, 2019",null,"Kingston Hydro Corporation","Distribution Expenses - Operation","5090","Underground Distribution Lines and Feeders - Rental Paid",0]
[2020,"January 1, 2019 - December 31, 2019",null,"Kingston Hydro Corporation","Distribution Expenses – Maintenance","5160","Maintenance of Line Transformers",50910.05]
[2020,"January 1, 2019 - December 31, 2019",null,"Kitchener-Wilmot Hydro Inc.","Administrative and General Expenses","5620","Office Supplies and Expenses",164699.12]
[2020,"January 1, 2019 - December 31, 2019",null,"Kitchener-Wilmot Hydro Inc.","Administrative and General Expenses","5680","Electrical Safety Authority Fees",43145.8]
[2020,"January 1, 2019 - December 31, 2019",null,"Kitchener-Wilmot Hydro Inc.","Community Relations","5410","Community Relations - Sundry",159536.95000000001]
[2020,"January 1, 2019 - December 31, 2019",null,"Kitchener-Wilmot Hydro Inc.","Distribution Expenses - Operation","5005","Operation Supervision and Engineering",2015445.79]
[2020,"January 1, 2019 - December 31, 2019",null,"Kitchener-Wilmot Hydro Inc.","Distribution Expenses - Operation","5060","Street Lighting and Signal System Expense",0]
[2020,"January 1, 2019 - December 31, 2019",null,"Kitchener-Wilmot Hydro Inc.","Distribution Expenses – Maintenance","5130","Maintenance of Overhead Services",1895103.96]
[2020,"January 1, 2019 - December 31, 2019",null,"Lakefront Utilities Inc.","Administrative and General Expenses","5515","Advertising Expense",0]
[2020,"January 1, 2019 - December 31, 2019",null,"Lakefront Utilities Inc.","Administrative and General Expenses","5660","General Advertising Expenses",2817.57]
[2020,"January 1, 2019 - December 31, 2019",null,"Lakefront Utilities Inc.","Administrative and General Expenses","5680","Electrical Safety Authority Fees",0]
[2020,"January 1, 2019 - December 31, 2019",null,"Lakefront Utilities Inc.","Community Relations","5410","Community Relations - Sundry",16140.66]
[2020,"January 1, 2019 - December 31, 2019",null,"Lakefront Utilities Inc.","Distribution Expenses - Operation","5035","Overhead Distribution Transformers- Operation",0]
[2020,"January 1, 2019 - December 31, 2019",null,"Lakefront Utilities Inc.","Distribution Expenses – Maintenance","5125","Maintenance of Overhead Conductors and Devices",0]
[2020,"January 1, 2019 - December 31, 2019",null,"Lakefront Utilities Inc.","Other Expenses","5210","Transmission Charges",0]
[2020,"January 1, 2019 - December 31, 2019",null,"Lakeland Power Distribution Ltd.","Administrative and General Expenses","5515","Advertising Expense",0]
[2020,"January 1, 2019 - December 31, 2019",null,"Lakeland Power Distribution Ltd.","Administrative and General Expenses","5660","General Advertising Expenses",0]
[2020,"January 1, 2019 - December 31, 2019",null,"Lakeland Power Distribution Ltd.","Billing and Collecting","5330","Collection Charges",-7800]
[2020,"January 1, 2019 - December 31, 2019",null,"Lakeland Power Distribution Ltd.","Distribution Expenses - Operation","5030","Overhead Subtransmission Feeders - Operation",0]
[2020,"January 1, 2019 - December 31, 2019",null,"Lakeland Power Distribution Ltd.","Distribution Expenses – Maintenance","5105","Maintenance Supervision and Engineering",341766.31]
[2020,"January 1, 2019 - December 31, 2019",null,"Lakeland Power Distribution Ltd.","Distribution Expenses – Maintenance","5175","Maintenance of Meters",56945.37]
[2020,"January 1, 2019 - December 31, 2019",null,"Lakeland Power Distribution Ltd.","Other Expenses","5210","Transmission Charges",0]
[2020,"January 1, 2019 - December 31, 2019",null,"London Hydro Inc.","Administrative and General Expenses","5645","OMERS Pensions and Benefits",81628.039999999994]
[2020,"January 1, 2019 - December 31, 2019",null,"London Hydro Inc.","Billing and Collecting","5325","Collecting- Cash Over and Short",0]
[2020,"January 1, 2019 - December 31, 2019",null,"London Hydro Inc.","Distribution Expenses - Operation","5015","Transformer Station Equipment - Operation Supplies and Expenses",0]
[2020,"January 1, 2019 - December 31, 2019",null,"London Hydro Inc.","Distribution Expenses - Operation","5085","Miscellaneous Distribution Expense",3061014.35]
[2020,"January 1, 2019 - December 31, 2019",null,"London Hydro Inc.","Distribution Expenses – Maintenance","5172","Sentinel Lights - Materials and Expenses",0]
[2020,"January 1, 2019 - December 31, 2019",null,"London Hydro Inc.","Distribution Expenses – Maintenance Total",null,null,8519922.4900000002]
[2020,"January 1, 2019 - December 31, 2019",null,"Milton Hydro Distribution Inc.","Administrative and General Expenses","5635","Property Insurance",117026]
[2020,"January 1, 2019 - December 31, 2019",null,"Milton Hydro Distribution Inc.","Administrative and General Expenses","5695","OM&A Contra",0]
[2020,"January 1, 2019 - December 31, 2019",null,"Milton Hydro Distribution Inc.","Community Relations","5425","Miscellaneous Customer Service and Informational Expenses",0]
[2020,"January 1, 2019 - December 31, 2019",null,"Milton Hydro Distribution Inc.","Distribution Expenses - Operation","5070","Customer Premises - Operation Labour",296641]
[2020,"January 1, 2019 - December 31, 2019",null,"Milton Hydro Distribution Inc.","Distribution Expenses – Maintenance","5145","Maintenance of Underground Conduit",0]
[2020,"January 1, 2019 - December 31, 2019",null,"Milton Hydro Distribution Inc.","Distribution Expenses – Maintenance","5150","Maintenance of Underground Conductors and Devices",103220]
[2020,"January 1, 2019 - December 31, 2019",null,"Newmarket-Tay Power Distribution Ltd.","Administrative and General Expenses","5610","Management Salaries and Expenses",1432220.98]
[2020,"January 1, 2019 - December 31, 2019",null,"Newmarket-Tay Power Distribution Ltd.","Administrative and General Expenses","5672","Lease Payment Expense",0]
[2020,"January 1, 2019 - December 31, 2019",null,"Newmarket-Tay Power Distribution Ltd.","Community Relations","5420","Community Safety Program",0]
[2020,"January 1, 2019 - December 31, 2019",null,"Newmarket-Tay Power Distribution Ltd.","Distribution Expenses - Operation","5045","Underground Distribution Lines and Feeders - Operation Supplies and Expenses",6600.43]
[2020,"January 1, 2019 - December 31, 2019",null,"Newmarket-Tay Power Distribution Ltd.","Distribution Expenses – Maintenance","5114","Maintenance of Distribution Station Equipment",55226.57]
[2020,"January 1, 2019 - December 31, 2019",null,"Newmarket-Tay Power Distribution Ltd.","Distribution Expenses – Maintenance","5145","Maintenance of Underground Conduit",1665.43]
[2020,"January 1, 2019 - December 31, 2019",null,"Niagara Peninsula Energy Inc.","Administrative and General Expenses","5505","Supervision",0]
[2020,"January 1, 2019 - December 31, 2019",null,"Niagara Peninsula Energy Inc.","Administrative and General Expenses","5650","Franchise Requirements",0]
[2020,"January 1, 2019 - December 31, 2019",null,"Niagara Peninsula Energy Inc.","Billing and Collecting","5340","Miscellaneous Customer Accounts Expenses",237356.49]
[2020,"January 1, 2019 - December 31, 2019",null,"Niagara Peninsula Energy Inc.","Distribution Expenses - Operation","5020","Overhead Distribution Lines and Feeders - Operation Labour",293751.3]
[2020,"January 1, 2019 - December 31, 2019",null,"Niagara Peninsula Energy Inc.","Distribution Expenses - Operation","5045","Underground Distribution Lines and Feeders - Operation Supplies and Expenses",379342.57]
[2020,"January 1, 2019 - December 31, 2019",null,"Niagara Peninsula Energy Inc.","Distribution Expenses – Maintenance","5114","Maintenance of Distribution Station Equipment",22933.119999999999]
[2020,"January 1, 2019 - December 31, 2019",null,"Niagara Peninsula Energy Inc.","Distribution Expenses – Maintenance Total",null,null,2678573.4900000002]
[2020,"January 1, 2019 - December 31, 2019",null,"Niagara-on-the-Lake Hydro Inc.","Administrative and General Expenses","5647","Employee Sick Leave",0]
[2020,"January 1, 2019 - December 31, 2019",null,"Niagara-on-the-Lake Hydro Inc.","Billing and Collecting","5315","Customer Billing",286456.96000000002]
[2020,"January 1, 2019 - December 31, 2019",null,"Niagara-on-the-Lake Hydro Inc.","Billing and Collecting","5340","Miscellaneous Customer Accounts Expenses",5496.33]
[2020,"January 1, 2019 - December 31, 2019",null,"Niagara-on-the-Lake Hydro Inc.","Distribution Expenses - Operation","5020","Overhead Distribution Lines and Feeders - Operation Labour",122254.92]
[2020,"January 1, 2019 - December 31, 2019",null,"Niagara-on-the-Lake Hydro Inc.","Distribution Expenses - Operation","5096","Other Rent",0]
[2020,"January 1, 2019 - December 31, 2019",null,"Niagara-on-the-Lake Hydro Inc.","Distribution Expenses – Maintenance","5195","Maintenance of Other Installations on Customer Premises",0]
[2020,"January 1, 2019 - December 31, 2019",null,"North Bay Hydro Distribution Limited","Administrative and General Expenses","5630","Outside Services Employed",271180.76]
[2020,"January 1, 2019 - December 31, 2019",null,"North Bay Hydro Distribution Limited","Administrative and General Expenses","5685","Independent Market Operator Fees and Penalties",0]
[2020,"January 1, 2019 - December 31, 2019",null,"North Bay Hydro Distribution Limited","Billing and Collecting","5315","Customer Billing",383049.63]
[2020,"January 1, 2019 - December 31, 2019",null,"North Bay Hydro Distribution Limited","Distribution Expenses - Operation","5012","Station Buildings and Fixtures Expense",37442.339999999997]
[2020,"January 1, 2019 - December 31, 2019",null,"North Bay Hydro Distribution Limited","Distribution Expenses - Operation","5096","Other Rent",0]
[2020,"January 1, 2019 - December 31, 2019",null,"North Bay Hydro Distribution Limited","Distribution Expenses – Maintenance","5160","Maintenance of Line Transformers",155198.20000000001]
[2020,"January 1, 2019 - December 31, 2019",null,"Northern Ontario Wires Inc.","Administrative and General Expenses","5520","Miscellaneous Sales Expense",0]
[2020,"January 1, 2019 - December 31, 2019",null,"Northern Ontario Wires Inc.","Administrative and General Expenses","5625","Administrative Expense Transferred/Credit",0]
[2020,"January 1, 2019 - December 31, 2019",null,"Northern Ontario Wires Inc.","Administrative and General Expenses","5681","Special Purpose Charge Expense",0]
[2020,"January 1, 2019 - December 31, 2019",null,"Northern Ontario Wires Inc.","Community Relations","5415","Energy Conservation",0]
[2020,"January 1, 2019 - December 31, 2019",null,"Northern Ontario Wires Inc.","Distribution Expenses - Operation","5060","Street Lighting and Signal System Expense",0]
[2020,"January 1, 2019 - December 31, 2019",null,"Northern Ontario Wires Inc.","Distribution Expenses – Maintenance","5130","Maintenance of Overhead Services",187142.68]
[2020,"January 1, 2019 - December 31, 2019",null,"Northern Ontario Wires Inc.","Distribution Expenses – Maintenance","5160","Maintenance of Line Transformers",19928.169999999998]
[2020,"January 1, 2019 - December 31, 2019",null,"Oakville Hydro Electricity Distribution Inc.","Administrative and General Expenses","5520","Miscellaneous Sales Expense",0]
[2020,"January 1, 2019 - December 31, 2019",null,"Oakville Hydro Electricity Distribution Inc.","Administrative and General Expenses","5665","Miscellaneous General Expenses",332047.86]
[2020,"January 1, 2019 - December 31, 2019",null,"Oakville Hydro Electricity Distribution Inc.","Community Relations","5410","Community Relations - Sundry",128724.12]
[2020,"January 1, 2019 - December 31, 2019",null,"Oakville Hydro Electricity Distribution Inc.","Distribution Expenses - Operation","5035","Overhead Distribution Transformers- Operation",38686.49]
[2020,"January 1, 2019 - December 31, 2019",null,"Oakville Hydro Electricity Distribution Inc.","Distribution Expenses – Maintenance","5125","Maintenance of Overhead Conductors and Devices",67895.34]
[2020,"January 1, 2019 - December 31, 2019",null,"Oakville Hydro Electricity Distribution Inc.","Distribution Expenses – Maintenance","5130","Maintenance of Overhead Services",22598.12]
[2020,"January 1, 2019 - December 31, 2019",null,"Oakville Hydro Electricity Distribution Inc.","Other Expenses","5215","Transmission Charges Recovered",0]
[2020,"January 1, 2019 - December 31, 2019",null,"Orangeville Hydro Limited","Administrative and General Expenses","5660","General Advertising Expenses",0]
[2020,"January 1, 2019 - December 31, 2019",null,"Orangeville Hydro Limited","Billing and Collecting","5330","Collection Charges",0]
[2020,"January 1, 2019 - December 31, 2019",null,"Orangeville Hydro Limited","Distribution Expenses - Operation","5016","Distribution Station Equipment - Operation Labour",3728.36]
[2020,"January 1, 2019 - December 31, 2019",null,"Orangeville Hydro Limited","Distribution Expenses – Maintenance","5105","Maintenance Supervision and Engineering",132622.79]
[2020,"January 1, 2019 - December 31, 2019",null,"Orangeville Hydro Limited","Distribution Expenses – Maintenance","5110","Maintenance of Buildings and Fixtures - Distribution Stations",0]
[2020,"January 1, 2019 - December 31, 2019",null,"Orangeville Hydro Limited","Other Expenses","5210","Transmission Charges",0]
[2020,"January 1, 2019 - December 31, 2019",null,"Orillia Power Distribution Corporation","Administrative and General Expenses","5645","OMERS Pensions and Benefits",0]
[2020,"January 1, 2019 - December 31, 2019",null,"Orillia Power Distribution Corporation","Billing and Collecting","5305","Supervision",0]
[2020,"January 1, 2019 - December 31, 2019",null,"Orillia Power Distribution Corporation","Distribution Expenses - Operation","5015","Transformer Station Equipment - Operation Supplies and Expenses",0]
[2020,"January 1, 2019 - December 31, 2019",null,"Orillia Power Distribution Corporation","Distribution Expenses - Operation","5085","Miscellaneous Distribution Expense",0]
[2020,"January 1, 2019 - December 31, 2019",null,"Orillia Power Distribution Corporation","Distribution Expenses – Maintenance","5105","Maintenance Supervision and Engineering",0]
[2020,"January 1, 2019 - December 31, 2019",null,"Orillia Power Distribution Corporation","Distribution Expenses – Maintenance","5175","Maintenance of Meters",127096]
[2020,"January 1, 2019 - December 31, 2019",null,"Oshawa PUC Networks Inc.","Administrative and General Expenses","5620","Office Supplies and Expenses",369892.76]
[2020,"January 1, 2019 - December 31, 2019",null,"Oshawa PUC Networks Inc.","Administrative and General Expenses Total",null,null,6516450.8200000003]
[2020,"January 1, 2019 - December 31, 2019",null,"Oshawa PUC Networks Inc.","Community Relations Total",null,null,1166681.3799999999]
[2020,"January 1, 2019 - December 31, 2019",null,"Oshawa PUC Networks Inc.","Distribution Expenses - Operation","5010","Load Dispatching",0]
[2020,"January 1, 2019 - December 31, 2019",null,"Oshawa PUC Networks Inc.","Distribution Expenses - Operation","5075","Customer Premises - Materials and Expenses",0]
[2020,"January 1, 2019 - December 31, 2019",null,"Oshawa PUC Networks Inc.","Distribution Expenses – Maintenance","5150","Maintenance of Underground Conductors and Devices",0]
[2020,"January 1, 2019 - December 31, 2019",null,"Ottawa River Power Corporation","Administrative and General Expenses","5610","Management Salaries and Expenses",287263.61]
[2020,"January 1, 2019 - December 31, 2019",null,"Ottawa River Power Corporation","Administrative and General Expenses","5672","Lease Payment Expense",0]
[2020,"January 1, 2019 - December 31, 2019",null,"Ottawa River Power Corporation","Billing and Collecting Total",null,null,748224.19]
[2020,"January 1, 2019 - December 31, 2019",null,"Ottawa River Power Corporation","Community Relations","5425","Miscellaneous Customer Service and Informational Expenses",0]
[2020,"January 1, 2019 - December 31, 2019",null,"Ottawa River Power Corporation","Distribution Expenses - Operation","5050","Underground Subtransmission Feeders - Operation",0]
[2020,"January 1, 2019 - December 31, 2019",null,"Ottawa River Power Corporation","Distribution Expenses – Maintenance","5120","Maintenance of Poles, Towers and Fixtures",4648.87]
[2020,"January 1, 2019 - December 31, 2019",null,"PUC Distribution Inc.","Administrative and General Expenses","5505","Supervision",0]
[2020,"January 1, 2019 - December 31, 2019",null,"PUC Distribution Inc.","Administrative and General Expenses","5650","Franchise Requirements",0]
[2020,"January 1, 2019 - December 31, 2019",null,"PUC Distribution Inc.","Administrative and General Expenses","5672","Lease Payment Expense",0]
[2020,"January 1, 2019 - December 31, 2019",null,"PUC Distribution Inc.","Billing and Collecting Total",null,null,1354435.06]
[2020,"January 1, 2019 - December 31, 2019",null,"PUC Distribution Inc.","Distribution Expenses - Operation","5025","Overhead Distribution Lines and Feeders - Operation Supplies and Expenses",263183.09999999998]
[2020,"January 1, 2019 - December 31, 2019",null,"PUC Distribution Inc.","Distribution Expenses – Maintenance","5114","Maintenance of Distribution Station Equipment",153294.76999999999]
[2020,"January 1, 2019 - December 31, 2019",null,"PUC Distribution Inc.","Distribution Expenses – Maintenance Total",null,null,2150490.12]
[2020,"January 1, 2019 - December 31, 2019",null,"Renfrew Hydro Inc.","Administrative and General Expenses","5505","Supervision",0]
[2020,"January 1, 2019 - December 31, 2019",null,"Renfrew Hydro Inc.","Administrative and General Expenses","5650","Franchise Requirements",0]
[2020,"January 1, 2019 - December 31, 2019",null,"Renfrew Hydro Inc.","Billing and Collecting","5320","Collecting",81257.05]
[2020,"January 1, 2019 - December 31, 2019",null,"Renfrew Hydro Inc.","Distribution Expenses - Operation","5020","Overhead Distribution Lines and Feeders - Operation Labour",19786.759999999998]
[2020,"January 1, 2019 - December 31, 2019",null,"Renfrew Hydro Inc.","Distribution Expenses - Operation","5096","Other Rent",1904.24]
[2020,"January 1, 2019 - December 31, 2019",null,"Renfrew Hydro Inc.","Distribution Expenses – Maintenance","5170","Sentinel Lights - Labour",0]
[2020,"January 1, 2019 - December 31, 2019",null,"Renfrew Hydro Inc.","Distribution Expenses – Maintenance Total",null,null,149456.35999999999]
[2020,"January 1, 2019 - December 31, 2019",null,"Rideau St. Lawrence Distribution Inc.","Administrative and General Expenses","5635","Property Insurance",15177.62]
[2020,"January 1, 2019 - December 31, 2019",null,"Rideau St. Lawrence Distribution Inc.","Billing and Collecting","5315","Customer Billing",383244.75]
[2020,"January 1, 2019 - December 31, 2019",null,"Rideau St. Lawrence Distribution Inc.","Distribution Expenses - Operation","5012","Station Buildings and Fixtures Expense",10425.81]
[2020,"January 1, 2019 - December 31, 2019",null,"Rideau St. Lawrence Distribution Inc.","Distribution Expenses - Operation","5070","Customer Premises - Operation Labour",32346.83]
[2020,"January 1, 2019 - December 31, 2019",null,"Rideau St. Lawrence Distribution Inc.","Distribution Expenses - Operation","5096","Other Rent",0]
[2020,"January 1, 2019 - December 31, 2019",null,"Rideau St. Lawrence Distribution Inc.","Distribution Expenses – Maintenance","5170","Sentinel Lights - Labour",0]
[2020,"January 1, 2019 - December 31, 2019",null,"Sioux Lookout Hydro Inc.","Administrative and General Expenses","5610","Management Salaries and Expenses",2748.94]
[2020,"January 1, 2019 - December 31, 2019",null,"Sioux Lookout Hydro Inc.","Administrative and General Expenses","5681","Special Purpose Charge Expense",0]
[2020,"January 1, 2019 - December 31, 2019",null,"Sioux Lookout Hydro Inc.","Community Relations","5415","Energy Conservation",0]
[2020,"January 1, 2019 - December 31, 2019",null,"Sioux Lookout Hydro Inc.","Distribution Expenses - Operation","5060","Street Lighting and Signal System Expense",0]
[2020,"January 1, 2019 - December 31, 2019",null,"Sioux Lookout Hydro Inc.","Distribution Expenses - Operation","5065","Meter Expense",57491.89]
[2020,"January 1, 2019 - December 31, 2019",null,"Sioux Lookout Hydro Inc.","Distribution Expenses – Maintenance","5135","Overhead Distribution Lines and Feeders - Right of Way",88046.22]
[2020,"January 1, 2019 - December 31, 2019",null,"Synergy North Corporation","Administrative and General Expenses","5520","Miscellaneous Sales Expense",0]
[2020,"January 1, 2019 - December 31, 2019",null,"Synergy North Corporation","Administrative and General Expenses","5665","Miscellaneous General Expenses",176613.72]
[2020,"January 1, 2019 - December 31, 2019",null,"Synergy North Corporation","Community Relations","5410","Community Relations - Sundry",0]
[2020,"January 1, 2019 - December 31, 2019",null,"Synergy North Corporation","Distribution Expenses - Operation","5035","Overhead Distribution Transformers- Operation",213783.5]
[2020,"January 1, 2019 - December 31, 2019",null,"Synergy North Corporation","Distribution Expenses - Operation","5040","Underground Distribution Lines and Feeders - Operation Labour",20282.849999999999]
[2020,"January 1, 2019 - December 31, 2019",null,"Synergy North Corporation","Distribution Expenses – Maintenance","5130","Maintenance of Overhead Services",664692.53]
[2020,"January 1, 2019 - December 31, 2019",null,"Synergy North Corporation","Other Expenses","5215","Transmission Charges Recovered",0]
[2020,"January 1, 2019 - December 31, 2019",null,"Tillsonburg Hydro Inc.","Administrative and General Expenses","5646","Employee Pensions and OPEB",0]
[2020,"January 1, 2019 - December 31, 2019",null,"Tillsonburg Hydro Inc.","Billing and Collecting","5330","Collection Charges",0]
[2020,"January 1, 2019 - December 31, 2019",null,"Tillsonburg Hydro Inc.","Distribution Expenses - Operation","5016","Distribution Station Equipment - Operation Labour",205.65]
[2020,"January 1, 2019 - December 31, 2019",null,"Tillsonburg Hydro Inc.","Distribution Expenses - Operation","5035","Overhead Distribution Transformers- Operation",1483.67]
[2020,"January 1, 2019 - December 31, 2019",null,"Tillsonburg Hydro Inc.","Distribution Expenses – Maintenance","5110","Maintenance of Buildings and Fixtures - Distribution Stations",0]
[2020,"January 1, 2019 - December 31, 2019",null,"Tillsonburg Hydro Inc.","Distribution Expenses – Maintenance","5178","Customer Installations Expenses- Leased Property",0]
[2020,"January 1, 2019 - December 31, 2019",null,"Toronto Hydro-Electric System Limited","Administrative and General Expenses","5645","OMERS Pensions and Benefits",0]
[2020,"January 1, 2019 - December 31, 2019",null,"Toronto Hydro-Electric System Limited","Billing and Collecting","5305","Supervision",2146843.54]
[2020,"January 1, 2019 - December 31, 2019",null,"Toronto Hydro-Electric System Limited","Billing and Collecting","5330","Collection Charges",0]
[2020,"January 1, 2019 - December 31, 2019",null,"Toronto Hydro-Electric System Limited","Distribution Expenses - Operation","5016","Distribution Station Equipment - Operation Labour",3519103.81]
[2020,"January 1, 2019 - December 31, 2019",null,"Toronto Hydro-Electric System Limited","Distribution Expenses - Operation","5090","Underground Distribution Lines and Feeders - Rental Paid",0]
[2020,"January 1, 2019 - December 31, 2019",null,"Toronto Hydro-Electric System Limited","Distribution Expenses – Maintenance","5175","Maintenance of Meters",56750.22]
[2020,"January 1, 2019 - December 31, 2019",null,"Wasaga Distribution Inc.","Administrative and General Expenses","5620","Office Supplies and Expenses",84674.1]
[2020,"January 1, 2019 - December 31, 2019",null,"Wasaga Distribution Inc.","Administrative and General Expenses","5680","Electrical Safety Authority Fees",6415.2]
[2020,"January 1, 2019 - December 31, 2019",null,"Wasaga Distribution Inc.","Billing and Collecting","5305","Supervision",0]
[2020,"January 1, 2019 - December 31, 2019",null,"Wasaga Distribution Inc.","Distribution Expenses - Operation","5005","Operation Supervision and Engineering",0]
[2020,"January 1, 2019 - December 31, 2019",null,"Wasaga Distribution Inc.","Distribution Expenses - Operation","5085","Miscellaneous Distribution Expense",0]
[2020,"January 1, 2019 - December 31, 2019",null,"Wasaga Distribution Inc.","Distribution Expenses – Maintenance","5155","Maintenance of Underground Services",105367.02]
[2020,"January 1, 2019 - December 31, 2019",null,"Wasaga Distribution Inc.","Distribution Expenses – Maintenance","5195","Maintenance of Other Installations on Customer Premises",0]
[2020,"January 1, 2019 - December 31, 2019",null,"Waterloo North Hydro Inc.","Administrative and General Expenses","5615","General Administrative Salaries and Expenses",995304]
[2020,"January 1, 2019 - December 31, 2019",null,"Waterloo North Hydro Inc.","Administrative and General Expenses","5675","Maintenance of General Plant",596738]
[2020,"January 1, 2019 - December 31, 2019",null,"Waterloo North Hydro Inc.","Community Relations","5405","Supervision",0]
[2020,"January 1, 2019 - December 31, 2019",null,"Waterloo North Hydro Inc.","Distribution Expenses - Operation","5050","Underground Subtransmission Feeders - Operation",0]
[2020,"January 1, 2019 - December 31, 2019",null,"Waterloo North Hydro Inc.","Distribution Expenses – Maintenance","5120","Maintenance of Poles, Towers and Fixtures",114092]
[2020,"January 1, 2019 - December 31, 2019",null,"Waterloo North Hydro Inc.","Distribution Expenses – Maintenance","5150","Maintenance of Underground Conductors and Devices",0]
[2020,"January 1, 2019 - December 31, 2019",null,"Welland Hydro-Electric System Corp.","Administrative and General Expenses","5510","Demonstrating and Selling Expense",0]
[2020,"January 1, 2019 - December 31, 2019",null,"Welland Hydro-Electric System Corp.","Administrative and General Expenses","5655","Regulatory Expenses",101347.99]
[2020,"January 1, 2019 - December 31, 2019",null,"Welland Hydro-Electric System Corp.","Billing and Collecting Total",null,null,1320953.42]
[2020,"January 1, 2019 - December 31, 2019",null,"Welland Hydro-Electric System Corp.","Distribution Expenses - Operation","5025","Overhead Distribution Lines and Feeders - Operation Supplies and Expenses",48524.12]
[2020,"January 1, 2019 - December 31, 2019",null,"Welland Hydro-Electric System Corp.","Distribution Expenses - Operation","5050","Underground Subtransmission Feeders - Operation",0]
[2020,"January 1, 2019 - December 31, 2019",null,"Welland Hydro-Electric System Corp.","Distribution Expenses – Maintenance","5120","Maintenance of Poles, Towers and Fixtures",143516.19]
[2020,"January 1, 2019 - December 31, 2019",null,"Welland Hydro-Electric System Corp.","Other Expenses","5205","Purchase of Transmission and System Services",0]
[2020,"January 1, 2019 - December 31, 2019",null,"Wellington North Power Inc.","Administrative and General Expenses","5650","Franchise Requirements",0]
[2020,"January 1, 2019 - December 31, 2019",null,"Wellington North Power Inc.","Billing and Collecting","5320","Collecting",98361.59]
[2020,"January 1, 2019 - December 31, 2019",null,"Wellington North Power Inc.","Distribution Expenses - Operation","5014","Transformer Station Equipment - Operation Labour",0]
[2020,"January 1, 2019 - December 31, 2019",null,"Wellington North Power Inc.","Distribution Expenses - Operation","5025","Overhead Distribution Lines and Feeders - Operation Supplies and Expenses",9857.7800000000007]
[2020,"January 1, 2019 - December 31, 2019",null,"Wellington North Power Inc.","Distribution Expenses - Operation Total",null,null,407116.83]
[2020,"January 1, 2019 - December 31, 2019",null,"Wellington North Power Inc.","Distribution Expenses – Maintenance Total",null,null,214208.63]
[2020,"January 1, 2019 - December 31, 2019",null,"Westario Power Inc.","Administrative and General Expenses","5635","Property Insurance",88596.33]
[2020,"January 1, 2019 - December 31, 2019",null,"Westario Power Inc.","Administrative and General Expenses","5695","OM&A Contra",0]
[2020,"January 1, 2019 - December 31, 2019",null,"Westario Power Inc.","Distribution Expenses - Operation","5012","Station Buildings and Fixtures Expense",0]
[2020,"January 1, 2019 - December 31, 2019",null,"Westario Power Inc.","Distribution Expenses - Operation","5014","Transformer Station Equipment - Operation Labour",0]
[2020,"January 1, 2019 - December 31, 2019",null,"Westario Power Inc.","Distribution Expenses - Operation","5096","Other Rent",0]
[2020,"January 1, 2019 - December 31, 2019",null,"Westario Power Inc.","Distribution Expenses – Maintenance","5170","Sentinel Lights - Labour",598.05999999999995]
[2021,"January 1, 2020 - December 31, 2020",null,"1937680 Ontario Inc.","Administrative and General Expenses","5610","Management Salaries and Expenses",0]
[2021,"January 1, 2020 - December 31, 2020",null,"1937680 Ontario Inc.","Administrative and General Expenses","5685","Independent Market Operator Fees and Penalties",0]
[2021,"January 1, 2020 - December 31, 2020",null,"1937680 Ontario Inc.","Community Relations","5420","Community Safety Program",0]
[2021,"January 1, 2020 - December 31, 2020",null,"1937680 Ontario Inc.","Community Relations","5425","Miscellaneous Customer Service and Informational Expenses",0]
[2021,"January 1, 2020 - December 31, 2020",null,"1937680 Ontario Inc.","Distribution Expenses - Operation","5070","Customer Premises - Operation Labour",0]
[2021,"January 1, 2020 - December 31, 2020",null,"1937680 Ontario Inc.","Distribution Expenses – Maintenance","5125","Maintenance of Overhead Conductors and Devices",175130.93]
[2021,"January 1, 2020 - December 31, 2020",null,"Alectra Utilities Corporation","Administrative and General Expenses","5520","Miscellaneous Sales Expense",0]
[2021,"January 1, 2020 - December 31, 2020",null,"Alectra Utilities Corporation","Administrative and General Expenses","5665","Miscellaneous General Expenses",4010036.85]
[2021,"January 1, 2020 - December 31, 2020",null,"Alectra Utilities Corporation","Billing and Collecting","5335","Bad Debt Expense",27409815.050000001]
[2021,"January 1, 2020 - December 31, 2020",null,"Alectra Utilities Corporation","Community Relations","5415","Energy Conservation",182058.47]
[2021,"January 1, 2020 - December 31, 2020",null,"Alectra Utilities Corporation","Distribution Expenses - Operation","5040","Underground Distribution Lines and Feeders - Operation Labour",9561286.8900000006]
[2021,"January 1, 2020 - December 31, 2020",null,"Alectra Utilities Corporation","Distribution Expenses – Maintenance","5112","Maintenance of Transformer Station Equipment",0]
[2021,"January 1, 2020 - December 31, 2020",null,"Alectra Utilities Corporation","Other Expenses","5215","Transmission Charges Recovered",0]
[2021,"January 1, 2020 - December 31, 2020",null,"Algoma Power Inc.","Administrative and General Expenses","5650","Franchise Requirements",0]
[2021,"January 1, 2020 - December 31, 2020",null,"Algoma Power Inc.","Administrative and General Expenses","5675","Maintenance of General Plant",1144471.73]
[2021,"January 1, 2020 - December 31, 2020",null,"Algoma Power Inc.","Community Relations","5405","Supervision",0]
[2021,"January 1, 2020 - December 31, 2020",null,"Algoma Power Inc.","Distribution Expenses - Operation","5030","Overhead Subtransmission Feeders - Operation",99782.95]
[2021,"January 1, 2020 - December 31, 2020",null,"Algoma Power Inc.","Distribution Expenses – Maintenance","5120","Maintenance of Poles, Towers and Fixtures",113694.48]
[2021,"January 1, 2020 - December 31, 2020",null,"Algoma Power Inc.","Other Expenses","5205","Purchase of Transmission and System Services",0]
[2021,"January 1, 2020 - December 31, 2020",null,"Atikokan Hydro Inc.","Administrative and General Expenses","5510","Demonstrating and Selling Expense",0]
[2021,"January 1, 2020 - December 31, 2020",null,"Atikokan Hydro Inc.","Administrative and General Expenses","5655","Regulatory Expenses",12332.02]
[2021,"January 1, 2020 - December 31, 2020",null,"Atikokan Hydro Inc.","Billing and Collecting","5325","Collecting- Cash Over and Short",0]
[2021,"January 1, 2020 - December 31, 2020",null,"Atikokan Hydro Inc.","Distribution Expenses - Operation","5025","Overhead Distribution Lines and Feeders - Operation Supplies and Expenses",32120.54]
[2021,"January 1, 2020 - December 31, 2020",null,"Atikokan Hydro Inc.","Distribution Expenses - Operation Total",null,null,438047.77]
[2021,"January 1, 2020 - December 31, 2020",null,"Atikokan Hydro Inc.","Distribution Expenses – Maintenance","5172","Sentinel Lights - Materials and Expenses",0]
[2021,"January 1, 2020 - December 31, 2020",null,"Atikokan Hydro Inc.","Other Expenses","5205","Purchase of Transmission and System Services",0]
[2021,"January 1, 2020 - December 31, 2020",null,"Bluewater Power Distribution Corporation","Administrative and General Expenses","5640","Injuries and Damages",0]
[2021,"January 1, 2020 - December 31, 2020",null,"Bluewater Power Distribution Corporation","Billing and Collecting","5320","Collecting",302029]
[2021,"January 1, 2020 - December 31, 2020",null,"Bluewater Power Distribution Corporation","Distribution Expenses - Operation","5014","Transformer Station Equipment - Operation Labour",0]
[2021,"January 1, 2020 - December 31, 2020",null,"Bluewater Power Distribution Corporation","Distribution Expenses - Operation","5075","Customer Premises - Materials and Expenses",0]
[2021,"January 1, 2020 - December 31, 2020",null,"Bluewater Power Distribution Corporation","Distribution Expenses - Operation Total",null,null,3911905]
[2021,"January 1, 2020 - December 31, 2020",null,"Bluewater Power Distribution Corporation","Distribution Expenses – Maintenance","5172","Sentinel Lights - Materials and Expenses",0]
[2021,"January 1, 2020 - December 31, 2020",null,"Brantford Power Inc.","Administrative and General Expenses","5615","General Administrative Salaries and Expenses",1338072.18]
[2021,"January 1, 2020 - December 31, 2020",null,"Brantford Power Inc.","Administrative and General Expenses","5695","OM&A Contra",0]
[2021,"January 1, 2020 - December 31, 2020",null,"Brantford Power Inc.","Community Relations","5425","Miscellaneous Customer Service and Informational Expenses",0]
[2021,"January 1, 2020 - December 31, 2020",null,"Brantford Power Inc.","Distribution Expenses - Operation","5045","Underground Distribution Lines and Feeders - Operation Supplies and Expenses",0]
[2021,"January 1, 2020 - December 31, 2020",null,"Brantford Power Inc.","Distribution Expenses - Operation","5070","Customer Premises - Operation Labour",0]
[2021,"January 1, 2020 - December 31, 2020",null,"Brantford Power Inc.","Distribution Expenses – Maintenance","5145","Maintenance of Underground Conduit",9970.32]
[2021,"January 1, 2020 - December 31, 2020",null,"Burlington Hydro Inc.","Administrative and General Expenses","5605","Executive Salaries and Expenses",2051538.95]
[2021,"January 1, 2020 - December 31, 2020",null,"Burlington Hydro Inc.","Administrative and General Expenses","5670","Rent",0]
[2021,"January 1, 2020 - December 31, 2020",null,"Burlington Hydro Inc.","Community Relations","5415","Energy Conservation",0]
[2021,"January 1, 2020 - December 31, 2020",null,"Burlington Hydro Inc.","Community Relations","5420","Community Safety Program",29372.5]
[2021,"January 1, 2020 - December 31, 2020",null,"Burlington Hydro Inc.","Distribution Expenses - Operation","5045","Underground Distribution Lines and Feeders - Operation Supplies and Expenses",376148.56]
[2021,"January 1, 2020 - December 31, 2020",null,"Burlington Hydro Inc.","Distribution Expenses – Maintenance","5135","Overhead Distribution Lines and Feeders - Right of Way",802353.4]
[2021,"January 1, 2020 - December 31, 2020",null,"Burlington Hydro Inc.","Other Expenses Total",null,null,0]
[2021,"January 1, 2020 - December 31, 2020",null,"Canadian Niagara Power Inc.","Administrative and General Expenses","5655","Regulatory Expenses",250938.5]
[2021,"January 1, 2020 - December 31, 2020",null,"Canadian Niagara Power Inc.","Community Relations","5405","Supervision",0]
[2021,"January 1, 2020 - December 31, 2020",null,"Canadian Niagara Power Inc.","Community Relations","5410","Community Relations - Sundry",0]
[2021,"January 1, 2020 - December 31, 2020",null,"Canadian Niagara Power Inc.","Distribution Expenses - Operation","5055","Underground Distribution Transformers - Operation",7767.07]
[2021,"January 1, 2020 - December 31, 2020",null,"Canadian Niagara Power Inc.","Distribution Expenses – Maintenance","5125","Maintenance of Overhead Conductors and Devices",455368.55]
[2021,"January 1, 2020 - December 31, 2020",null,"Canadian Niagara Power Inc.","Other Expenses","5210","Transmission Charges",0]
[2021,"January 1, 2020 - December 31, 2020",null,"Centre Wellington Hydro Ltd.","Administrative and General Expenses","5655","Regulatory Expenses",111825.95]
[2021,"January 1, 2020 - December 31, 2020",null,"Centre Wellington Hydro Ltd.","Billing and Collecting","5325","Collecting- Cash Over and Short",-0.06]
[2021,"January 1, 2020 - December 31, 2020",null,"Centre Wellington Hydro Ltd.","Community Relations","5405","Supervision",0]
[2021,"January 1, 2020 - December 31, 2020",null,"Centre Wellington Hydro Ltd.","Distribution Expenses - Operation","5030","Overhead Subtransmission Feeders - Operation",0]
[2021,"January 1, 2020 - December 31, 2020",null,"Centre Wellington Hydro Ltd.","Distribution Expenses – Maintenance","5105","Maintenance Supervision and Engineering",18800.919999999998]
[2021,"January 1, 2020 - December 31, 2020",null,"Centre Wellington Hydro Ltd.","Other Expenses","5205","Purchase of Transmission and System Services",0]
[2021,"January 1, 2020 - December 31, 2020",null,"Chapleau Public Utilities Corporation","Administrative and General Expenses","5640","Injuries and Damages",3620.67]
[2021,"January 1, 2020 - December 31, 2020",null,"Chapleau Public Utilities Corporation","Administrative and General Expenses Total",null,null,482928.33]
[2021,"January 1, 2020 - December 31, 2020",null,"Chapleau Public Utilities Corporation","Billing and Collecting","5325","Collecting- Cash Over and Short",0]
[2021,"January 1, 2020 - December 31, 2020",null,"Chapleau Public Utilities Corporation","Distribution Expenses - Operation","5015","Transformer Station Equipment - Operation Supplies and Expenses",0]
[2021,"January 1, 2020 - December 31, 2020",null,"Chapleau Public Utilities Corporation","Distribution Expenses - Operation Total",null,null,212012.46]
[2021,"January 1, 2020 - December 31, 2020",null,"Chapleau Public Utilities Corporation","Distribution Expenses – Maintenance","5172","Sentinel Lights - Materials and Expenses",0]
[2021,"January 1, 2020 - December 31, 2020",null,"Cooperative Hydro Embrun Inc.","Administrative and General Expenses","5615","General Administrative Salaries and Expenses",64134.19]
[2021,"January 1, 2020 - December 31, 2020",null,"Cooperative Hydro Embrun Inc.","Administrative and General Expenses","5640","Injuries and Damages",3861.65]
[2021,"January 1, 2020 - December 31, 2020",null,"Cooperative Hydro Embrun Inc.","Billing and Collecting","5310","Meter Reading Expense",0]
[2021,"January 1, 2020 - December 31, 2020",null,"Cooperative Hydro Embrun Inc.","Community Relations","5425","Miscellaneous Customer Service and Informational Expenses",0]
[2021,"January 1, 2020 - December 31, 2020",null,"Cooperative Hydro Embrun Inc.","Distribution Expenses - Operation","5070","Customer Premises - Operation Labour",0]
[2021,"January 1, 2020 - December 31, 2020",null,"Cooperative Hydro Embrun Inc.","Distribution Expenses – Maintenance","5145","Maintenance of Underground Conduit",0]
[2021,"January 1, 2020 - December 31, 2020",null,"Cooperative Hydro Embrun Inc.","Distribution Expenses – Maintenance","5170","Sentinel Lights - Labour",0]
[2021,"January 1, 2020 - December 31, 2020",null,"Cornwall Street Railway Light and Power Company Limited","Administrative and General Expenses","5610","Management Salaries and Expenses",0]
[2021,"January 1, 2020 - December 31, 2020",null,"Cornwall Street Railway Light and Power Company Limited","Administrative and General Expenses","5681","Special Purpose Charge Expense",0]
[2021,"January 1, 2020 - December 31, 2020",null,"Cornwall Street Railway Light and Power Company Limited","Distribution Expenses - Operation","5005","Operation Supervision and Engineering",0]
[2021,"January 1, 2020 - December 31, 2020",null,"Cornwall Street Railway Light and Power Company Limited","Distribution Expenses - Operation","5060","Street Lighting and Signal System Expense",0]
[2021,"January 1, 2020 - December 31, 2020",null,"Cornwall Street Railway Light and Power Company Limited","Distribution Expenses - Operation","5090","Underground Distribution Lines and Feeders - Rental Paid",0]
[2021,"January 1, 2020 - December 31, 2020",null,"Cornwall Street Railway Light and Power Company Limited","Distribution Expenses – Maintenance","5160","Maintenance of Line Transformers",0]
[2021,"January 1, 2020 - December 31, 2020",null,"E.L.K. Energy Inc.","Administrative and General Expenses","5520","Miscellaneous Sales Expense",0]
[2021,"January 1, 2020 - December 31, 2020",null,"E.L.K. Energy Inc.","Administrative and General Expenses","5680","Electrical Safety Authority Fees",5292]
[2021,"January 1, 2020 - December 31, 2020",null,"E.L.K. Energy Inc.","Community Relations","5410","Community Relations - Sundry",2777.29]
[2021,"January 1, 2020 - December 31, 2020",null,"E.L.K. Energy Inc.","Distribution Expenses - Operation","5035","Overhead Distribution Transformers- Operation",7161.94]
[2021,"January 1, 2020 - December 31, 2020",null,"E.L.K. Energy Inc.","Distribution Expenses - Operation","5060","Street Lighting and Signal System Expense",0]
[2021,"January 1, 2020 - December 31, 2020",null,"E.L.K. Energy Inc.","Distribution Expenses – Maintenance","5130","Maintenance of Overhead Services",47763.15]
[2021,"January 1, 2020 - December 31, 2020",null,"ENWIN Utilities Ltd.","Administrative and General Expenses","5515","Advertising Expense",0]
[2021,"January 1, 2020 - December 31, 2020",null,"ENWIN Utilities Ltd.","Administrative and General Expenses","5660","General Advertising Expenses",46810.44]
[2021,"January 1, 2020 - December 31, 2020",null,"ENWIN Utilities Ltd.","Billing and Collecting","5330","Collection Charges",0]
[2021,"January 1, 2020 - December 31, 2020",null,"ENWIN Utilities Ltd.","Community Relations","5410","Community Relations - Sundry",102480.5]
[2021,"January 1, 2020 - December 31, 2020",null,"ENWIN Utilities Ltd.","Distribution Expenses - Operation","5035","Overhead Distribution Transformers- Operation",68010.37]
[2021,"January 1, 2020 - December 31, 2020",null,"ENWIN Utilities Ltd.","Distribution Expenses – Maintenance","5110","Maintenance of Buildings and Fixtures - Distribution Stations",0]
[2021,"January 1, 2020 - December 31, 2020",null,"ENWIN Utilities Ltd.","Other Expenses","5210","Transmission Charges",0]
[2021,"January 1, 2020 - December 31, 2020",null,"EPCOR Electricity Distribution Ontario Inc.","Administrative and General Expenses","5645","OMERS Pensions and Benefits",0]
[2021,"January 1, 2020 - December 31, 2020",null,"EPCOR Electricity Distribution Ontario Inc.","Billing and Collecting","5325","Collecting- Cash Over and Short",0]
[2021,"January 1, 2020 - December 31, 2020",null,"EPCOR Electricity Distribution Ontario Inc.","Billing and Collecting","5330","Collection Charges",0]
[2021,"January 1, 2020 - December 31, 2020",null,"EPCOR Electricity Distribution Ontario Inc.","Distribution Expenses - Operation","5016","Distribution Station Equipment - Operation Labour",5728.94]
[2021,"January 1, 2020 - December 31, 2020",null,"EPCOR Electricity Distribution Ontario Inc.","Distribution Expenses – Maintenance","5105","Maintenance Supervision and Engineering",219836.66]
[2021,"January 1, 2020 - December 31, 2020",null,"EPCOR Electricity Distribution Ontario Inc.","Distribution Expenses – Maintenance","5175","Maintenance of Meters",245618.68]
[2021,"January 1, 2020 - December 31, 2020",null,"ERTH Power Corporation","Administrative and General Expenses","5640","Injuries and Damages",0]
[2021,"January 1, 2020 - December 31, 2020",null,"ERTH Power Corporation","Administrative and General Expenses","5670","Rent",0]
[2021,"January 1, 2020 - December 31, 2020",null,"ERTH Power Corporation","Administrative and General Expenses Total",null,null,3189047.79]
[2021,"January 1, 2020 - December 31, 2020",null,"ERTH Power Corporation","Distribution Expenses - Operation","5014","Transformer Station Equipment - Operation Labour",0]
[2021,"January 1, 2020 - December 31, 2020",null,"ERTH Power Corporation","Distribution Expenses - Operation","5075","Customer Premises - Materials and Expenses",0]
[2021,"January 1, 2020 - December 31, 2020",null,"ERTH Power Corporation","Distribution Expenses – Maintenance","5150","Maintenance of Underground Conductors and Devices",46467]
[2021,"January 1, 2020 - December 31, 2020",null,"Elexicon Energy Inc.","Administrative and General Expenses","5610","Management Salaries and Expenses",1547169.72]
[2021,"January 1, 2020 - December 31, 2020",null,"Elexicon Energy Inc.","Administrative and General Expenses","5672","Lease Payment Expense",0]
[2021,"January 1, 2020 - December 31, 2020",null,"Elexicon Energy Inc.","Administrative and General Expenses","5695","OM&A Contra",0]
[2021,"January 1, 2020 - December 31, 2020",null,"Elexicon Energy Inc.","Community Relations","5425","Miscellaneous Customer Service and Informational Expenses",5]
[2021,"January 1, 2020 - December 31, 2020",null,"Elexicon Energy Inc.","Distribution Expenses - Operation","5050","Underground Subtransmission Feeders - Operation",2648.89]
[2021,"January 1, 2020 - December 31, 2020",null,"Elexicon Energy Inc.","Distribution Expenses – Maintenance","5145","Maintenance of Underground Conduit",32096.91]
[2021,"January 1, 2020 - December 31, 2020",null,"Energy Plus Inc.","Administrative and General Expenses","5505","Supervision",0]
[2021,"January 1, 2020 - December 31, 2020",null,"Energy Plus Inc.","Administrative and General Expenses","5610","Management Salaries and Expenses",2382259.0499999998]
[2021,"January 1, 2020 - December 31, 2020",null,"Energy Plus Inc.","Administrative and General Expenses","5672","Lease Payment Expense",35845.360000000001]
[2021,"January 1, 2020 - December 31, 2020",null,"Energy Plus Inc.","Billing and Collecting Total",null,null,3607402.31]
[2021,"January 1, 2020 - December 31, 2020",null,"Energy Plus Inc.","Distribution Expenses - Operation","5045","Underground Distribution Lines and Feeders - Operation Supplies and Expenses",111332.49]
[2021,"January 1, 2020 - December 31, 2020",null,"Energy Plus Inc.","Distribution Expenses – Maintenance","5114","Maintenance of Distribution Station Equipment",0]
[2021,"January 1, 2020 - December 31, 2020",null,"Energy Plus Inc.","Distribution Expenses – Maintenance Total",null,null,3114754.84]
[2021,"January 1, 2020 - December 31, 2020",null,"Entegrus Powerlines Inc.","Administrative and General Expenses","5505","Supervision",0]
[2021,"January 1, 2020 - December 31, 2020",null,"Entegrus Powerlines Inc.","Administrative and General Expenses","5650","Franchise Requirements",0]
[2021,"January 1, 2020 - December 31, 2020",null,"Entegrus Powerlines Inc.","Billing and Collecting","5340","Miscellaneous Customer Accounts Expenses",0]
[2021,"January 1, 2020 - December 31, 2020",null,"Entegrus Powerlines Inc.","Distribution Expenses - Operation","5020","Overhead Distribution Lines and Feeders - Operation Labour",129916.68]
[2021,"January 1, 2020 - December 31, 2020",null,"Entegrus Powerlines Inc.","Distribution Expenses - Operation","5096","Other Rent",0]
[2021,"January 1, 2020 - December 31, 2020",null,"Entegrus Powerlines Inc.","Distribution Expenses – Maintenance","5114","Maintenance of Distribution Station Equipment",61621.37]
[2021,"January 1, 2020 - December 31, 2020",null,"Entegrus Powerlines Inc.","Distribution Expenses – Maintenance Total",null,null,2143023.96]
[2021,"January 1, 2020 - December 31, 2020",null,"Espanola Regional Hydro Distribution Corporation","Administrative and General Expenses","5635","Property Insurance",12648.35]
[2021,"January 1, 2020 - December 31, 2020",null,"Espanola Regional Hydro Distribution Corporation","Billing and Collecting","5315","Customer Billing",207147.8]
[2021,"January 1, 2020 - December 31, 2020",null,"Espanola Regional Hydro Distribution Corporation","Distribution Expenses - Operation","5012","Station Buildings and Fixtures Expense",3513.94]
[2021,"January 1, 2020 - December 31, 2020",null,"Espanola Regional Hydro Distribution Corporation","Distribution Expenses - Operation","5020","Overhead Distribution Lines and Feeders - Operation Labour",74132.210000000006]
[2021,"January 1, 2020 - December 31, 2020",null,"Espanola Regional Hydro Distribution Corporation","Distribution Expenses - Operation","5096","Other Rent",0]
[2021,"January 1, 2020 - December 31, 2020",null,"Espanola Regional Hydro Distribution Corporation","Distribution Expenses – Maintenance","5170","Sentinel Lights - Labour",219.61]
[2021,"January 1, 2020 - December 31, 2020",null,"Essex Powerlines Corporation","Administrative and General Expenses","5625","Administrative Expense Transferred/Credit",0]
[2021,"January 1, 2020 - December 31, 2020",null,"Essex Powerlines Corporation","Administrative and General Expenses","5681","Special Purpose Charge Expense",0]
[2021,"January 1, 2020 - December 31, 2020",null,"Essex Powerlines Corporation","Billing and Collecting","5310","Meter Reading Expense",26593.46]
[2021,"January 1, 2020 - December 31, 2020",null,"Essex Powerlines Corporation","Distribution Expenses - Operation","5010","Load Dispatching",145158.79999999999]
[2021,"January 1, 2020 - December 31, 2020",null,"Essex Powerlines Corporation","Distribution Expenses - Operation","5065","Meter Expense",220277.61]
[2021,"January 1, 2020 - December 31, 2020",null,"Essex Powerlines Corporation","Distribution Expenses – Maintenance","5160","Maintenance of Line Transformers",87487.39]
[2021,"January 1, 2020 - December 31, 2020",null,"Festival Hydro Inc.","Administrative and General Expenses","5520","Miscellaneous Sales Expense",0]
[2021,"January 1, 2020 - December 31, 2020",null,"Festival Hydro Inc.","Administrative and General Expenses","5665","Miscellaneous General Expenses",98236.62]
[2021,"January 1, 2020 - December 31, 2020",null,"Festival Hydro Inc.","Administrative and General Expenses","5681","Special Purpose Charge Expense",0]
[2021,"January 1, 2020 - December 31, 2020",null,"Festival Hydro Inc.","Community Relations","5415","Energy Conservation",0]
[2021,"January 1, 2020 - December 31, 2020",null,"Festival Hydro Inc.","Distribution Expenses - Operation","5060","Street Lighting and Signal System Expense",0]
[2021,"January 1, 2020 - December 31, 2020",null,"Festival Hydro Inc.","Distribution Expenses – Maintenance","5130","Maintenance of Overhead Services",857905.26]
[2021,"January 1, 2020 - December 31, 2020",null,"Festival Hydro Inc.","Other Expenses","5215","Transmission Charges Recovered",0]
[2021,"January 1, 2020 - December 31, 2020",null,"Fort Frances Power Corporation","Administrative and General Expenses","5660","General Advertising Expenses",3316.34]
[2021,"January 1, 2020 - December 31, 2020",null,"Fort Frances Power Corporation","Administrative and General Expenses","5665","Miscellaneous General Expenses",81724.759999999995]
[2021,"January 1, 2020 - December 31, 2020",null,"Fort Frances Power Corporation","Community Relations","5410","Community Relations - Sundry",10432.64]
[2021,"January 1, 2020 - December 31, 2020",null,"Fort Frances Power Corporation","Distribution Expenses - Operation","5035","Overhead Distribution Transformers- Operation",0]
[2021,"January 1, 2020 - December 31, 2020",null,"Fort Frances Power Corporation","Distribution Expenses – Maintenance","5110","Maintenance of Buildings and Fixtures - Distribution Stations",2463.2199999999998]
[2021,"January 1, 2020 - December 31, 2020",null,"Fort Frances Power Corporation","Other Expenses","5210","Transmission Charges",0]
[2021,"January 1, 2020 - December 31, 2020",null,"Greater Sudbury Hydro Inc.","Administrative and General Expenses","5645","OMERS Pensions and Benefits",0]
[2021,"January 1, 2020 - December 31, 2020",null,"Greater Sudbury Hydro Inc.","Administrative and General Expenses","5646","Employee Pensions and OPEB",399398.65]
[2021,"January 1, 2020 - December 31, 2020",null,"Greater Sudbury Hydro Inc.","Billing and Collecting","5330","Collection Charges",0]
[2021,"January 1, 2020 - December 31, 2020",null,"Greater Sudbury Hydro Inc.","Distribution Expenses - Operation","5016","Distribution Station Equipment - Operation Labour",535602.51]
[2021,"January 1, 2020 - December 31, 2020",null,"Greater Sudbury Hydro Inc.","Distribution Expenses – Maintenance","5105","Maintenance Supervision and Engineering",0]
[2021,"January 1, 2020 - December 31, 2020",null,"Greater Sudbury Hydro Inc.","Distribution Expenses – Maintenance","5175","Maintenance of Meters",48796.65]
[2021,"January 1, 2020 - December 31, 2020",null,"Grimsby Power Incorporated","Administrative and General Expenses","5620","Office Supplies and Expenses",40770.03]
[2021,"January 1, 2020 - December 31, 2020",null,"Grimsby Power Incorporated","Administrative and General Expenses","5645","OMERS Pensions and Benefits",9981.66]
[2021,"January 1, 2020 - December 31, 2020",null,"Grimsby Power Incorporated","Billing and Collecting","5305","Supervision",57942.04]
[2021,"January 1, 2020 - December 31, 2020",null,"Grimsby Power Incorporated","Distribution Expenses - Operation","5005","Operation Supervision and Engineering",134290.26]
[2021,"January 1, 2020 - December 31, 2020",null,"Grimsby Power Incorporated","Distribution Expenses - Operation","5070","Customer Premises - Operation Labour",45855.44]
[2021,"January 1, 2020 - December 31, 2020",null,"Grimsby Power Incorporated","Distribution Expenses – Maintenance","5150","Maintenance of Underground Conductors and Devices",10705.77]
[2021,"January 1, 2020 - December 31, 2020",null,"Grimsby Power Incorporated","Distribution Expenses – Maintenance","5172","Sentinel Lights - Materials and Expenses",0]
[2021,"January 1, 2020 - December 31, 2020",null,"Halton Hills Hydro Inc.","Administrative and General Expenses","5615","General Administrative Salaries and Expenses",975981.67]
[2021,"January 1, 2020 - December 31, 2020",null,"Halton Hills Hydro Inc.","Administrative and General Expenses","5675","Maintenance of General Plant",205415.07]
[2021,"January 1, 2020 - December 31, 2020",null,"Halton Hills Hydro Inc.","Community Relations","5425","Miscellaneous Customer Service and Informational Expenses",0]
[2021,"January 1, 2020 - December 31, 2020",null,"Halton Hills Hydro Inc.","Distribution Expenses - Operation","5050","Underground Subtransmission Feeders - Operation",0]
[2021,"January 1, 2020 - December 31, 2020",null,"Halton Hills Hydro Inc.","Distribution Expenses - Operation","5075","Customer Premises - Materials and Expenses",0]
[2021,"January 1, 2020 - December 31, 2020",null,"Halton Hills Hydro Inc.","Distribution Expenses – Maintenance","5150","Maintenance of Underground Conductors and Devices",102516.51]
[2021,"January 1, 2020 - December 31, 2020",null,"Hearst Power Distribution Company Limited","Administrative and General Expenses","5510","Demonstrating and Selling Expense",0]
[2021,"January 1, 2020 - December 31, 2020",null,"Hearst Power Distribution Company Limited","Administrative and General Expenses","5672","Lease Payment Expense",0]
[2021,"January 1, 2020 - December 31, 2020",null,"Hearst Power Distribution Company Limited","Billing and Collecting Total",null,null,323373.90999999997]
[2021,"January 1, 2020 - December 31, 2020",null,"Hearst Power Distribution Company Limited","Distribution Expenses - Operation","5025","Overhead Distribution Lines and Feeders - Operation Supplies and Expenses",27540.22]
[2021,"January 1, 2020 - December 31, 2020",null,"Hearst Power Distribution Company Limited","Distribution Expenses - Operation","5050","Underground Subtransmission Feeders - Operation",0]
[2021,"January 1, 2020 - December 31, 2020",null,"Hearst Power Distribution Company Limited","Distribution Expenses – Maintenance","5120","Maintenance of Poles, Towers and Fixtures",61779.85]
[2021,"January 1, 2020 - December 31, 2020",null,"Hydro 2000 Inc.","Administrative and General Expenses","5505","Supervision",0]
[2021,"January 1, 2020 - December 31, 2020",null,"Hydro 2000 Inc.","Administrative and General Expenses","5650","Franchise Requirements",0]
[2021,"January 1, 2020 - December 31, 2020",null,"Hydro 2000 Inc.","Billing and Collecting","5320","Collecting",1499.21]
[2021,"January 1, 2020 - December 31, 2020",null,"Hydro 2000 Inc.","Billing and Collecting Total",null,null,145695.70000000001]
[2021,"January 1, 2020 - December 31, 2020",null,"Hydro 2000 Inc.","Distribution Expenses - Operation","5025","Overhead Distribution Lines and Feeders - Operation Supplies and Expenses",0]
[2021,"January 1, 2020 - December 31, 2020",null,"Hydro 2000 Inc.","Distribution Expenses - Operation Total",null,null,28125.360000000001]
[2021,"January 1, 2020 - December 31, 2020",null,"Hydro 2000 Inc.","Distribution Expenses – Maintenance Total",null,null,31668.62]
[2021,"January 1, 2020 - December 31, 2020",null,"Hydro Hawkesbury Inc.","Administrative and General Expenses","5635","Property Insurance",4575]
[2021,"January 1, 2020 - December 31, 2020",null,"Hydro Hawkesbury Inc.","Administrative and General Expenses","5650","Franchise Requirements",0]
[2021,"January 1, 2020 - December 31, 2020",null,"Hydro Hawkesbury Inc.","Billing and Collecting","5320","Collecting",112540.49]
[2021,"January 1, 2020 - December 31, 2020",null,"Hydro Hawkesbury Inc.","Distribution Expenses - Operation","5014","Transformer Station Equipment - Operation Labour",33298.93]
[2021,"January 1, 2020 - December 31, 2020",null,"Hydro Hawkesbury Inc.","Distribution Expenses - Operation","5096","Other Rent",0]
[2021,"January 1, 2020 - December 31, 2020",null,"Hydro Hawkesbury Inc.","Distribution Expenses – Maintenance","5170","Sentinel Lights - Labour",0]
[2021,"January 1, 2020 - December 31, 2020",null,"Hydro One Networks Inc.","Administrative and General Expenses","5630","Outside Services Employed",15403992.890000001]
[2021,"January 1, 2020 - December 31, 2020",null,"Hydro One Networks Inc.","Administrative and General Expenses","5635","Property Insurance",4360240.8]
[2021,"January 1, 2020 - December 31, 2020",null,"Hydro One Networks Inc.","Billing and Collecting","5335","Bad Debt Expense",31832607.219999999]
[2021,"January 1, 2020 - December 31, 2020",null,"Hydro One Networks Inc.","Distribution Expenses - Operation","5015","Transformer Station Equipment - Operation Supplies and Expenses",121888.92]
[2021,"January 1, 2020 - December 31, 2020",null,"Hydro One Networks Inc.","Distribution Expenses - Operation","5085","Miscellaneous Distribution Expense",19245656.84]
[2021,"January 1, 2020 - December 31, 2020",null,"Hydro One Networks Inc.","Distribution Expenses – Maintenance","5155","Maintenance of Underground Services",7889737.6699999999]
[2021,"January 1, 2020 - December 31, 2020",null,"Hydro One Remote Communities Inc.","Administrative and General Expenses","5615","General Administrative Salaries and Expenses",1494392.4]
[2021,"January 1, 2020 - December 31, 2020",null,"Hydro One Remote Communities Inc.","Administrative and General Expenses","5620","Office Supplies and Expenses",0]
[2021,"January 1, 2020 - December 31, 2020",null,"Hydro One Remote Communities Inc.","Billing and Collecting","5315","Customer Billing",1055414.24]
[2021,"January 1, 2020 - December 31, 2020",null,"Hydro One Remote Communities Inc.","Distribution Expenses - Operation","5012","Station Buildings and Fixtures Expense",0]
[2021,"January 1, 2020 - December 31, 2020",null,"Hydro One Remote Communities Inc.","Distribution Expenses - Operation","5070","Customer Premises - Operation Labour",0]
[2021,"January 1, 2020 - December 31, 2020",null,"Hydro One Remote Communities Inc.","Distribution Expenses – Maintenance","5165","Maintenance of Street Lighting and Signal Systems",0]
[2021,"January 1, 2020 - December 31, 2020",null,"Hydro Ottawa Limited","Administrative and General Expenses","5605","Executive Salaries and Expenses",2420738.44]
[2021,"January 1, 2020 - December 31, 2020",null,"Hydro Ottawa Limited","Administrative and General Expenses","5630","Outside Services Employed",2041368.51]
[2021,"January 1, 2020 - December 31, 2020",null,"Hydro Ottawa Limited","Administrative and General Expenses","5685","Independent Market Operator Fees and Penalties",0]
[2021,"January 1, 2020 - December 31, 2020",null,"Hydro Ottawa Limited","Community Relations","5420","Community Safety Program",0]
[2021,"January 1, 2020 - December 31, 2020",null,"Hydro Ottawa Limited","Distribution Expenses - Operation","5065","Meter Expense",682998.98]
[2021,"January 1, 2020 - December 31, 2020",null,"Hydro Ottawa Limited","Distribution Expenses – Maintenance","5135","Overhead Distribution Lines and Feeders - Right of Way",3509575.84]
[2021,"January 1, 2020 - December 31, 2020",null,"Hydro Ottawa Limited","Other Expenses Total",null,null,0]
[2021,"January 1, 2020 - December 31, 2020",null,"Innpower Corporation","Administrative and General Expenses","5605","Executive Salaries and Expenses",265534.55]
[2021,"January 1, 2020 - December 31, 2020",null,"Innpower Corporation","Administrative and General Expenses","5670","Rent",824.15]
[2021,"January 1, 2020 - December 31, 2020",null,"Innpower Corporation","Community Relations","5415","Energy Conservation",0]
[2021,"January 1, 2020 - December 31, 2020",null,"Innpower Corporation","Distribution Expenses - Operation","5040","Underground Distribution Lines and Feeders - Operation Labour",4186.0200000000004]
[2021,"January 1, 2020 - December 31, 2020",null,"Innpower Corporation","Distribution Expenses – Maintenance","5112","Maintenance of Transformer Station Equipment",0]
[2021,"January 1, 2020 - December 31, 2020",null,"Innpower Corporation","Distribution Expenses – Maintenance","5135","Overhead Distribution Lines and Feeders - Right of Way",305570.95]
[2021,"January 1, 2020 - December 31, 2020",null,"Innpower Corporation","Other Expenses Total",null,null,0]
[2021,"January 1, 2020 - December 31, 2020",null,"Kingston Hydro Corporation","Administrative and General Expenses","5647","Employee Sick Leave",0]
[2021,"January 1, 2020 - December 31, 2020",null,"Kingston Hydro Corporation","Billing and Collecting","5335","Bad Debt Expense",136158.76]
[2021,"January 1, 2020 - December 31, 2020",null,"Kingston Hydro Corporation","Distribution Expenses - Operation","5017","Distribution Station Equipment - Operation Supplies and Expenses",8521.36]
[2021,"January 1, 2020 - December 31, 2020",null,"Kingston Hydro Corporation","Distribution Expenses - Operation","5040","Underground Distribution Lines and Feeders - Operation Labour",39038.39]
[2021,"January 1, 2020 - December 31, 2020",null,"Kingston Hydro Corporation","Distribution Expenses – Maintenance","5112","Maintenance of Transformer Station Equipment",0]
[2021,"January 1, 2020 - December 31, 2020",null,"Kingston Hydro Corporation","Distribution Expenses – Maintenance","5195","Maintenance of Other Installations on Customer Premises",0]
[2021,"January 1, 2020 - December 31, 2020",null,"Kitchener-Wilmot Hydro Inc.","Administrative and General Expenses","5646","Employee Pensions and OPEB",0]
[2021,"January 1, 2020 - December 31, 2020",null,"Kitchener-Wilmot Hydro Inc.","Administrative and General Expenses","5685","Independent Market Operator Fees and Penalties",0]
[2021,"January 1, 2020 - December 31, 2020",null,"Kitchener-Wilmot Hydro Inc.","Billing and Collecting","5330","Collection Charges",0]
[2021,"January 1, 2020 - December 31, 2020",null,"Kitchener-Wilmot Hydro Inc.","Distribution Expenses - Operation","5016","Distribution Station Equipment - Operation Labour",3237.45]
[2021,"January 1, 2020 - December 31, 2020",null,"Kitchener-Wilmot Hydro Inc.","Distribution Expenses - Operation","5090","Underground Distribution Lines and Feeders - Rental Paid",2835.6]
[2021,"January 1, 2020 - December 31, 2020",null,"Kitchener-Wilmot Hydro Inc.","Distribution Expenses – Maintenance","5175","Maintenance of Meters",0]
[2021,"January 1, 2020 - December 31, 2020",null,"Lakefront Utilities Inc.","Administrative and General Expenses","5620","Office Supplies and Expenses",85211.38]
[2021,"January 1, 2020 - December 31, 2020",null,"Lakefront Utilities Inc.","Administrative and General Expenses","5680","Electrical Safety Authority Fees",0]
[2021,"January 1, 2020 - December 31, 2020",null,"Lakefront Utilities Inc.","Billing and Collecting","5305","Supervision",0]
[2021,"January 1, 2020 - December 31, 2020",null,"Lakefront Utilities Inc.","Distribution Expenses - Operation","5005","Operation Supervision and Engineering",232652.67]
[2021,"January 1, 2020 - December 31, 2020",null,"Lakefront Utilities Inc.","Distribution Expenses - Operation","5085","Miscellaneous Distribution Expense",53618.52]
[2021,"January 1, 2020 - December 31, 2020",null,"Lakefront Utilities Inc.","Distribution Expenses – Maintenance","5155","Maintenance of Underground Services",57799.31]
[2021,"January 1, 2020 - December 31, 2020",null,"Lakeland Power Distribution Ltd.","Administrative and General Expenses","5515","Advertising Expense",0]
[2021,"January 1, 2020 - December 31, 2020",null,"Lakeland Power Distribution Ltd.","Administrative and General Expenses","5620","Office Supplies and Expenses",113744.71]
[2021,"January 1, 2020 - December 31, 2020",null,"Lakeland Power Distribution Ltd.","Administrative and General Expenses","5680","Electrical Safety Authority Fees",14751.84]
[2021,"January 1, 2020 - December 31, 2020",null,"Lakeland Power Distribution Ltd.","Community Relations Total",null,null,7183.25]
[2021,"January 1, 2020 - December 31, 2020",null,"Lakeland Power Distribution Ltd.","Distribution Expenses - Operation","5055","Underground Distribution Transformers - Operation",2106.15]
[2021,"January 1, 2020 - December 31, 2020",null,"Lakeland Power Distribution Ltd.","Distribution Expenses – Maintenance","5125","Maintenance of Overhead Conductors and Devices",119073.48]
[2021,"January 1, 2020 - December 31, 2020",null,"London Hydro Inc.","Administrative and General Expenses","5510","Demonstrating and Selling Expense",0]
[2021,"January 1, 2020 - December 31, 2020",null,"London Hydro Inc.","Administrative and General Expenses","5515","Advertising Expense",0]
[2021,"January 1, 2020 - December 31, 2020",null,"London Hydro Inc.","Administrative and General Expenses","5660","General Advertising Expenses",795838.18]
[2021,"January 1, 2020 - December 31, 2020",null,"London Hydro Inc.","Community Relations","5405","Supervision",0]
[2021,"January 1, 2020 - December 31, 2020",null,"London Hydro Inc.","Distribution Expenses - Operation","5030","Overhead Subtransmission Feeders - Operation",0]
[2021,"January 1, 2020 - December 31, 2020",null,"London Hydro Inc.","Distribution Expenses – Maintenance","5120","Maintenance of Poles, Towers and Fixtures",566710.81999999995]
[2021,"January 1, 2020 - December 31, 2020",null,"London Hydro Inc.","Other Expenses","5205","Purchase of Transmission and System Services",0]
[2021,"January 1, 2020 - December 31, 2020",null,"London Hydro Inc.","Other Expenses","5210","Transmission Charges",0]
[2021,"January 1, 2020 - December 31, 2020",null,"Milton Hydro Distribution Inc.","Administrative and General Expenses","5655","Regulatory Expenses",113393]
[2021,"January 1, 2020 - December 31, 2020",null,"Milton Hydro Distribution Inc.","Billing and Collecting","5325","Collecting- Cash Over and Short",931]
[2021,"January 1, 2020 - December 31, 2020",null,"Milton Hydro Distribution Inc.","Distribution Expenses - Operation","5015","Transformer Station Equipment - Operation Supplies and Expenses",0]
[2021,"January 1, 2020 - December 31, 2020",null,"Milton Hydro Distribution Inc.","Distribution Expenses - Operation Total",null,null,2548732]
[2021,"January 1, 2020 - December 31, 2020",null,"Milton Hydro Distribution Inc.","Distribution Expenses – Maintenance","5172","Sentinel Lights - Materials and Expenses",0]
[2021,"January 1, 2020 - December 31, 2020",null,"Newmarket-Tay Power Distribution Ltd.","Administrative and General Expenses","5605","Executive Salaries and Expenses",100118.44]
[2021,"January 1, 2020 - December 31, 2020",null,"Newmarket-Tay Power Distribution Ltd.","Administrative and General Expenses","5635","Property Insurance",180143.77]
[2021,"January 1, 2020 - December 31, 2020",null,"Newmarket-Tay Power Distribution Ltd.","Administrative and General Expenses","5695","OM&A Contra",0]
[2021,"January 1, 2020 - December 31, 2020",null,"Newmarket-Tay Power Distribution Ltd.","Distribution Expenses - Operation","5012","Station Buildings and Fixtures Expense",37742.47]
[2021,"January 1, 2020 - December 31, 2020",null,"Newmarket-Tay Power Distribution Ltd.","Distribution Expenses - Operation","5070","Customer Premises - Operation Labour",418419.81]
[2021,"January 1, 2020 - December 31, 2020",null,"Newmarket-Tay Power Distribution Ltd.","Distribution Expenses - Operation","5096","Other Rent",0]
[2021,"January 1, 2020 - December 31, 2020",null,"Newmarket-Tay Power Distribution Ltd.","Distribution Expenses – Maintenance","5170","Sentinel Lights - Labour",11785.18]
[2021,"January 1, 2020 - December 31, 2020",null,"Niagara Peninsula Energy Inc.","Administrative and General Expenses","5610","Management Salaries and Expenses",2563791.25]
[2021,"January 1, 2020 - December 31, 2020",null,"Niagara Peninsula Energy Inc.","Administrative and General Expenses","5685","Independent Market Operator Fees and Penalties",0]
[2021,"January 1, 2020 - December 31, 2020",null,"Niagara Peninsula Energy Inc.","Community Relations","5420","Community Safety Program",0]
[2021,"January 1, 2020 - December 31, 2020",null,"Niagara Peninsula Energy Inc.","Distribution Expenses - Operation","5045","Underground Distribution Lines and Feeders - Operation Supplies and Expenses",490704.01]
[2021,"January 1, 2020 - December 31, 2020",null,"Niagara Peninsula Energy Inc.","Distribution Expenses - Operation","5070","Customer Premises - Operation Labour",191943.4]
[2021,"January 1, 2020 - December 31, 2020",null,"Niagara Peninsula Energy Inc.","Distribution Expenses – Maintenance","5145","Maintenance of Underground Conduit",50827.06]
[2021,"January 1, 2020 - December 31, 2020",null,"Niagara-on-the-Lake Hydro Inc.","Administrative and General Expenses","5605","Executive Salaries and Expenses",383986.45]
[2021,"January 1, 2020 - December 31, 2020",null,"Niagara-on-the-Lake Hydro Inc.","Administrative and General Expenses","5670","Rent",0]
[2021,"January 1, 2020 - December 31, 2020",null,"Niagara-on-the-Lake Hydro Inc.","Billing and Collecting","5340","Miscellaneous Customer Accounts Expenses",5613.5]
[2021,"January 1, 2020 - December 31, 2020",null,"Niagara-on-the-Lake Hydro Inc.","Community Relations","5420","Community Safety Program",0]
[2021,"January 1, 2020 - December 31, 2020",null,"Niagara-on-the-Lake Hydro Inc.","Distribution Expenses - Operation","5045","Underground Distribution Lines and Feeders - Operation Supplies and Expenses",6021.24]
[2021,"January 1, 2020 - December 31, 2020",null,"Niagara-on-the-Lake Hydro Inc.","Distribution Expenses – Maintenance","5114","Maintenance of Distribution Station Equipment",1404.25]
[2021,"January 1, 2020 - December 31, 2020",null,"Niagara-on-the-Lake Hydro Inc.","Other Expenses Total",null,null,0]
[2021,"January 1, 2020 - December 31, 2020",null,"North Bay Hydro Distribution Limited","Administrative and General Expenses","5647","Employee Sick Leave",17500]
[2021,"January 1, 2020 - December 31, 2020",null,"North Bay Hydro Distribution Limited","Administrative and General Expenses","5670","Rent",0]
[2021,"January 1, 2020 - December 31, 2020",null,"North Bay Hydro Distribution Limited","Billing and Collecting","5340","Miscellaneous Customer Accounts Expenses",0]
[2021,"January 1, 2020 - December 31, 2020",null,"North Bay Hydro Distribution Limited","Distribution Expenses - Operation","5020","Overhead Distribution Lines and Feeders - Operation Labour",9127.6359670000002]
[2021,"January 1, 2020 - December 31, 2020",null,"North Bay Hydro Distribution Limited","Distribution Expenses – Maintenance","5112","Maintenance of Transformer Station Equipment",0]
[2021,"January 1, 2020 - December 31, 2020",null,"North Bay Hydro Distribution Limited","Distribution Expenses – Maintenance","5195","Maintenance of Other Installations on Customer Premises",0]
[2021,"January 1, 2020 - December 31, 2020",null,"North Bay Hydro Distribution Limited","Other Expenses Total",null,null,0]
[2021,"January 1, 2020 - December 31, 2020",null,"Northern Ontario Wires Inc.","Administrative and General Expenses","5647","Employee Sick Leave",0]
[2021,"January 1, 2020 - December 31, 2020",null,"Northern Ontario Wires Inc.","Billing and Collecting","5315","Customer Billing",226339.87]
[2021,"January 1, 2020 - December 31, 2020",null,"Northern Ontario Wires Inc.","Distribution Expenses - Operation","5017","Distribution Station Equipment - Operation Supplies and Expenses",9999.9599999999991]
[2021,"January 1, 2020 - December 31, 2020",null,"Northern Ontario Wires Inc.","Distribution Expenses - Operation","5096","Other Rent",0]
[2021,"January 1, 2020 - December 31, 2020",null,"Northern Ontario Wires Inc.","Distribution Expenses – Maintenance","5160","Maintenance of Line Transformers",10794.06]
[2021,"January 1, 2020 - December 31, 2020",null,"Northern Ontario Wires Inc.","Distribution Expenses – Maintenance","5178","Customer Installations Expenses- Leased Property",0]
[2021,"January 1, 2020 - December 31, 2020",null,"Oakville Hydro Electricity Distribution Inc.","Administrative and General Expenses","5625","Administrative Expense Transferred/Credit",-632524]
[2021,"January 1, 2020 - December 31, 2020",null,"Oakville Hydro Electricity Distribution Inc.","Billing and Collecting","5305","Supervision",387257.2]
[2021,"January 1, 2020 - December 31, 2020",null,"Oakville Hydro Electricity Distribution Inc.","Distribution Expenses - Operation","5005","Operation Supervision and Engineering",2892573.28]
[2021,"January 1, 2020 - December 31, 2020",null,"Oakville Hydro Electricity Distribution Inc.","Distribution Expenses - Operation","5060","Street Lighting and Signal System Expense",0]
[2021,"January 1, 2020 - December 31, 2020",null,"Oakville Hydro Electricity Distribution Inc.","Distribution Expenses – Maintenance","5155","Maintenance of Underground Services",24832.27]
[2021,"January 1, 2020 - December 31, 2020",null,"Oakville Hydro Electricity Distribution Inc.","Distribution Expenses – Maintenance","5160","Maintenance of Line Transformers",54324.18]
[2021,"January 1, 2020 - December 31, 2020",null,"Orangeville Hydro Limited","Administrative and General Expenses","5620","Office Supplies and Expenses",70152.649999999994]
[2021,"January 1, 2020 - December 31, 2020",null,"Orangeville Hydro Limited","Administrative and General Expenses","5680","Electrical Safety Authority Fees",0]
[2021,"January 1, 2020 - December 31, 2020",null,"Orangeville Hydro Limited","Community Relations","5410","Community Relations - Sundry",9004.1200000000008]
[2021,"January 1, 2020 - December 31, 2020",null,"Orangeville Hydro Limited","Distribution Expenses - Operation","5055","Underground Distribution Transformers - Operation",10201.370000000001]
[2021,"January 1, 2020 - December 31, 2020",null,"Orangeville Hydro Limited","Distribution Expenses – Maintenance","5125","Maintenance of Overhead Conductors and Devices",19436.560000000001]
[2021,"January 1, 2020 - December 31, 2020",null,"Orangeville Hydro Limited","Distribution Expenses – Maintenance","5130","Maintenance of Overhead Services",21575.77]
[2021,"January 1, 2020 - December 31, 2020",null,"Orillia Power Distribution Corporation","Administrative and General Expenses","5515","Advertising Expense",0]
[2021,"January 1, 2020 - December 31, 2020",null,"Orillia Power Distribution Corporation","Administrative and General Expenses","5660","General Advertising Expenses",5230]
[2021,"January 1, 2020 - December 31, 2020",null,"Orillia Power Distribution Corporation","Community Relations","5405","Supervision",0]
[2021,"January 1, 2020 - December 31, 2020",null,"Orillia Power Distribution Corporation","Distribution Expenses - Operation","5030","Overhead Subtransmission Feeders - Operation",0]
[2021,"January 1, 2020 - December 31, 2020",null,"Orillia Power Distribution Corporation","Distribution Expenses – Maintenance","5105","Maintenance Supervision and Engineering",0]
[2021,"January 1, 2020 - December 31, 2020",null,"Orillia Power Distribution Corporation","Distribution Expenses – Maintenance","5125","Maintenance of Overhead Conductors and Devices",44064]
[2021,"January 1, 2020 - December 31, 2020",null,"Orillia Power Distribution Corporation","Other Expenses","5210","Transmission Charges",0]
[2021,"January 1, 2020 - December 31, 2020",null,"Oshawa PUC Networks Inc.","Administrative and General Expenses","5645","OMERS Pensions and Benefits",802708.2]
[2021,"January 1, 2020 - December 31, 2020",null,"Oshawa PUC Networks Inc.","Billing and Collecting","5325","Collecting- Cash Over and Short",0]
[2021,"January 1, 2020 - December 31, 2020",null,"Oshawa PUC Networks Inc.","Distribution Expenses - Operation","5015","Transformer Station Equipment - Operation Supplies and Expenses",0]
[2021,"January 1, 2020 - December 31, 2020",null,"Oshawa PUC Networks Inc.","Distribution Expenses - Operation","5030","Overhead Subtransmission Feeders - Operation",0]
[2021,"January 1, 2020 - December 31, 2020",null,"Oshawa PUC Networks Inc.","Distribution Expenses – Maintenance","5105","Maintenance Supervision and Engineering",0]
[2021,"January 1, 2020 - December 31, 2020",null,"Oshawa PUC Networks Inc.","Distribution Expenses – Maintenance","5175","Maintenance of Meters",0]
[2021,"January 1, 2020 - December 31, 2020",null,"Ottawa River Power Corporation","Administrative and General Expenses","5640","Injuries and Damages",0]
[2021,"January 1, 2020 - December 31, 2020",null,"Ottawa River Power Corporation","Administrative and General Expenses Total",null,null,1284533.46]
[2021,"January 1, 2020 - December 31, 2020",null,"Ottawa River Power Corporation","Billing and Collecting","5325","Collecting- Cash Over and Short",-1121.08]
[2021,"January 1, 2020 - December 31, 2020",null,"Ottawa River Power Corporation","Distribution Expenses - Operation","5035","Overhead Distribution Transformers- Operation",6120.7]
[2021,"January 1, 2020 - December 31, 2020",null,"Ottawa River Power Corporation","Distribution Expenses - Operation","5075","Customer Premises - Materials and Expenses",2798.59]
[2021,"January 1, 2020 - December 31, 2020",null,"Ottawa River Power Corporation","Distribution Expenses – Maintenance","5170","Sentinel Lights - Labour",0]
[2021,"January 1, 2020 - December 31, 2020",null,"PUC Distribution Inc.","Administrative and General Expenses","5610","Management Salaries and Expenses",469114.53]
[2021,"January 1, 2020 - December 31, 2020",null,"PUC Distribution Inc.","Administrative and General Expenses","5672","Lease Payment Expense",0]
[2021,"January 1, 2020 - December 31, 2020",null,"PUC Distribution Inc.","Administrative and General Expenses","5695","OM&A Contra",0]
[2021,"January 1, 2020 - December 31, 2020",null,"PUC Distribution Inc.","Community Relations","5425","Miscellaneous Customer Service and Informational Expenses",0]
[2021,"January 1, 2020 - December 31, 2020",null,"PUC Distribution Inc.","Distribution Expenses - Operation","5070","Customer Premises - Operation Labour",218034.5]
[2021,"January 1, 2020 - December 31, 2020",null,"PUC Distribution Inc.","Distribution Expenses – Maintenance","5145","Maintenance of Underground Conduit",91387.92]
[2021,"January 1, 2020 - December 31, 2020",null,"Renfrew Hydro Inc.","Administrative and General Expenses","5505","Supervision",0]
[2021,"January 1, 2020 - December 31, 2020",null,"Renfrew Hydro Inc.","Administrative and General Expenses","5610","Management Salaries and Expenses",126350.34]
[2021,"January 1, 2020 - December 31, 2020",null,"Renfrew Hydro Inc.","Administrative and General Expenses","5672","Lease Payment Expense",0]
[2021,"January 1, 2020 - December 31, 2020",null,"Renfrew Hydro Inc.","Billing and Collecting Total",null,null,390258.98]
[2021,"January 1, 2020 - December 31, 2020",null,"Renfrew Hydro Inc.","Distribution Expenses - Operation","5045","Underground Distribution Lines and Feeders - Operation Supplies and Expenses",42.5]
[2021,"January 1, 2020 - December 31, 2020",null,"Renfrew Hydro Inc.","Distribution Expenses – Maintenance","5114","Maintenance of Distribution Station Equipment",708.05]
[2021,"January 1, 2020 - December 31, 2020",null,"Renfrew Hydro Inc.","Distribution Expenses – Maintenance","5145","Maintenance of Underground Conduit",0]
[2021,"January 1, 2020 - December 31, 2020",null,"Rideau St. Lawrence Distribution Inc.","Administrative and General Expenses","5505","Supervision",0]
[2021,"January 1, 2020 - December 31, 2020",null,"Rideau St. Lawrence Distribution Inc.","Administrative and General Expenses","5650","Franchise Requirements",0]
[2021,"January 1, 2020 - December 31, 2020",null,"Rideau St. Lawrence Distribution Inc.","Billing and Collecting","5340","Miscellaneous Customer Accounts Expenses",10114.799999999999]
[2021,"January 1, 2020 - December 31, 2020",null,"Rideau St. Lawrence Distribution Inc.","Distribution Expenses - Operation","5020","Overhead Distribution Lines and Feeders - Operation Labour",3794.01]
[2021,"January 1, 2020 - December 31, 2020",null,"Rideau St. Lawrence Distribution Inc.","Distribution Expenses – Maintenance","5112","Maintenance of Transformer Station Equipment",0]
[2021,"January 1, 2020 - December 31, 2020",null,"Rideau St. Lawrence Distribution Inc.","Distribution Expenses – Maintenance","5114","Maintenance of Distribution Station Equipment",39099.93]
[2021,"January 1, 2020 - December 31, 2020",null,"Rideau St. Lawrence Distribution Inc.","Distribution Expenses – Maintenance Total",null,null,390659.28]
[2021,"January 1, 2020 - December 31, 2020",null,"Sioux Lookout Hydro Inc.","Administrative and General Expenses","5647","Employee Sick Leave",0]
[2021,"January 1, 2020 - December 31, 2020",null,"Sioux Lookout Hydro Inc.","Billing and Collecting","5315","Customer Billing",201990.22]
[2021,"January 1, 2020 - December 31, 2020",null,"Sioux Lookout Hydro Inc.","Distribution Expenses - Operation","5012","Station Buildings and Fixtures Expense",0]
[2021,"January 1, 2020 - December 31, 2020",null,"Sioux Lookout Hydro Inc.","Distribution Expenses - Operation","5095","Overhead Distribution Lines and Feeders - Rental Paid",1113.28]
[2021,"January 1, 2020 - December 31, 2020",null,"Sioux Lookout Hydro Inc.","Distribution Expenses - Operation","5096","Other Rent",0]
[2021,"January 1, 2020 - December 31, 2020",null,"Sioux Lookout Hydro Inc.","Distribution Expenses – Maintenance","5195","Maintenance of Other Installations on Customer Premises",0]
[2021,"January 1, 2020 - December 31, 2020",null,"Synergy North Corporation","Administrative and General Expenses","5630","Outside Services Employed",205167.77]
[2021,"January 1, 2020 - December 31, 2020",null,"Synergy North Corporation","Administrative and General Expenses","5681","Special Purpose Charge Expense",0]
[2021,"January 1, 2020 - December 31, 2020",null,"Synergy North Corporation","Distribution Expenses - Operation","5005","Operation Supervision and Engineering",268922.03000000003]
[2021,"January 1, 2020 - December 31, 2020",null,"Synergy North Corporation","Distribution Expenses - Operation","5060","Street Lighting and Signal System Expense",0]
[2021,"January 1, 2020 - December 31, 2020",null,"Synergy North Corporation","Distribution Expenses - Operation","5090","Underground Distribution Lines and Feeders - Rental Paid",0]
[2021,"January 1, 2020 - December 31, 2020",null,"Synergy North Corporation","Distribution Expenses – Maintenance","5160","Maintenance of Line Transformers",18200.3]
[2021,"January 1, 2020 - December 31, 2020",null,"Tillsonburg Hydro Inc.","Administrative and General Expenses","5520","Miscellaneous Sales Expense",0]
[2021,"January 1, 2020 - December 31, 2020",null,"Tillsonburg Hydro Inc.","Administrative and General Expenses","5680","Electrical Safety Authority Fees",0]
[2021,"January 1, 2020 - December 31, 2020",null,"Tillsonburg Hydro Inc.","Community Relations","5410","Community Relations - Sundry",0]
[2021,"January 1, 2020 - December 31, 2020",null,"Tillsonburg Hydro Inc.","Distribution Expenses - Operation","5035","Overhead Distribution Transformers- Operation",1441.08]
[2021,"January 1, 2020 - December 31, 2020",null,"Tillsonburg Hydro Inc.","Distribution Expenses - Operation","5060","Street Lighting and Signal System Expense",0]
[2021,"January 1, 2020 - December 31, 2020",null,"Tillsonburg Hydro Inc.","Distribution Expenses – Maintenance","5130","Maintenance of Overhead Services",23686.05]
[2021,"January 1, 2020 - December 31, 2020",null,"Toronto Hydro-Electric System Limited","Administrative and General Expenses","5515","Advertising Expense",0]
[2021,"January 1, 2020 - December 31, 2020",null,"Toronto Hydro-Electric System Limited","Administrative and General Expenses","5660","General Advertising Expenses",0]
[2021,"January 1, 2020 - December 31, 2020",null,"Toronto Hydro-Electric System Limited","Billing and Collecting","5330","Collection Charges",0]
[2021,"January 1, 2020 - December 31, 2020",null,"Toronto Hydro-Electric System Limited","Community Relations","5410","Community Relations - Sundry",0]
[2021,"January 1, 2020 - December 31, 2020",null,"Toronto Hydro-Electric System Limited","Distribution Expenses - Operation","5035","Overhead Distribution Transformers- Operation",0]
[2021,"January 1, 2020 - December 31, 2020",null,"Toronto Hydro-Electric System Limited","Distribution Expenses – Maintenance","5110","Maintenance of Buildings and Fixtures - Distribution Stations",15977898.92]
[2021,"January 1, 2020 - December 31, 2020",null,"Toronto Hydro-Electric System Limited","Other Expenses","5210","Transmission Charges",0]
[2021,"January 1, 2020 - December 31, 2020",null,"Wasaga Distribution Inc.","Administrative and General Expenses","5645","OMERS Pensions and Benefits",0]
[2021,"January 1, 2020 - December 31, 2020",null,"Wasaga Distribution Inc.","Administrative and General Expenses","5660","General Advertising Expenses",0]
[2021,"January 1, 2020 - December 31, 2020",null,"Wasaga Distribution Inc.","Billing and Collecting","5330","Collection Charges",952.61]
[2021,"January 1, 2020 - December 31, 2020",null,"Wasaga Distribution Inc.","Distribution Expenses - Operation","5016","Distribution Station Equipment - Operation Labour",21196.81]
[2021,"January 1, 2020 - December 31, 2020",null,"Wasaga Distribution Inc.","Distribution Expenses – Maintenance","5105","Maintenance Supervision and Engineering",88358.04]
[2021,"January 1, 2020 - December 31, 2020",null,"Wasaga Distribution Inc.","Distribution Expenses – Maintenance","5175","Maintenance of Meters",33546.720000000001]
[2021,"January 1, 2020 - December 31, 2020",null,"Wasaga Distribution Inc.","Other Expenses","5210","Transmission Charges",0]
[2021,"January 1, 2020 - December 31, 2020",null,"Waterloo North Hydro Inc.","Administrative and General Expenses","5645","OMERS Pensions and Benefits",0]
[2021,"January 1, 2020 - December 31, 2020",null,"Waterloo North Hydro Inc.","Billing and Collecting","5305","Supervision",162563]
[2021,"January 1, 2020 - December 31, 2020",null,"Waterloo North Hydro Inc.","Distribution Expenses - Operation","5015","Transformer Station Equipment - Operation Supplies and Expenses",64959]
[2021,"January 1, 2020 - December 31, 2020",null,"Waterloo North Hydro Inc.","Distribution Expenses - Operation","5085","Miscellaneous Distribution Expense",981932]
[2021,"January 1, 2020 - December 31, 2020",null,"Waterloo North Hydro Inc.","Distribution Expenses – Maintenance","5155","Maintenance of Underground Services",325339]
[2021,"January 1, 2020 - December 31, 2020",null,"Welland Hydro-Electric System Corp.","Administrative and General Expenses","5520","Miscellaneous Sales Expense",0]
[2021,"January 1, 2020 - December 31, 2020",null,"Welland Hydro-Electric System Corp.","Administrative and General Expenses","5615","General Administrative Salaries and Expenses",356765.3]
[2021,"January 1, 2020 - December 31, 2020",null,"Welland Hydro-Electric System Corp.","Administrative and General Expenses","5695","OM&A Contra",0]
[2021,"January 1, 2020 - December 31, 2020",null,"Welland Hydro-Electric System Corp.","Community Relations","5425","Miscellaneous Customer Service and Informational Expenses",0]
[2021,"January 1, 2020 - December 31, 2020",null,"Welland Hydro-Electric System Corp.","Distribution Expenses - Operation","5050","Underground Subtransmission Feeders - Operation",0]
[2021,"January 1, 2020 - December 31, 2020",null,"Welland Hydro-Electric System Corp.","Distribution Expenses - Operation","5075","Customer Premises - Materials and Expenses",0]
[2021,"January 1, 2020 - December 31, 2020",null,"Welland Hydro-Electric System Corp.","Distribution Expenses – Maintenance","5150","Maintenance of Underground Conductors and Devices",176970.61]
[2021,"January 1, 2020 - December 31, 2020",null,"Wellington North Power Inc.","Administrative and General Expenses","5610","Management Salaries and Expenses",102834.21]
[2021,"January 1, 2020 - December 31, 2020",null,"Wellington North Power Inc.","Administrative and General Expenses","5672","Lease Payment Expense",0]
[2021,"January 1, 2020 - December 31, 2020",null,"Wellington North Power Inc.","Billing and Collecting Total",null,null,408889.25]
[2021,"January 1, 2020 - December 31, 2020",null,"Wellington North Power Inc.","Distribution Expenses - Operation","5045","Underground Distribution Lines and Feeders - Operation Supplies and Expenses",4261.96]
[2021,"January 1, 2020 - December 31, 2020",null,"Wellington North Power Inc.","Distribution Expenses - Operation","5050","Underground Subtransmission Feeders - Operation",0]
[2021,"January 1, 2020 - December 31, 2020",null,"Wellington North Power Inc.","Distribution Expenses – Maintenance","5120","Maintenance of Poles, Towers and Fixtures",17354.16]
[2021,"January 1, 2020 - December 31, 2020",null,"Westario Power Inc.","Administrative and General Expenses","5505","Supervision",0]
[2021,"January 1, 2020 - December 31, 2020",null,"Westario Power Inc.","Administrative and General Expenses","5650","Franchise Requirements",0]
[2021,"January 1, 2020 - December 31, 2020",null,"Westario Power Inc.","Billing and Collecting","5340","Miscellaneous Customer Accounts Expenses",0]
[2021,"January 1, 2020 - December 31, 2020",null,"Westario Power Inc.","Distribution Expenses - Operation","5020","Overhead Distribution Lines and Feeders - Operation Labour",120228.61]
[2021,"January 1, 2020 - December 31, 2020",null,"Westario Power Inc.","Distribution Expenses - Operation","5025","Overhead Distribution Lines and Feeders - Operation Supplies and Expenses",0]
[2021,"January 1, 2020 - December 31, 2020",null,"Westario Power Inc.","Distribution Expenses – Maintenance","5114","Maintenance of Distribution Station Equipment",282162.63]
[2021,"January 1, 2020 - December 31, 2020",null,"Westario Power Inc.","Distribution Expenses – Maintenance Total",null,null,1496436]
[2017,"January 1, 2016 - December 31, 2016","Algoma Power Inc. Community Relations 2016","Algoma Power Inc.","Community Relations",32308.39]
[2017,"January 1, 2016 - December 31, 2016","Brantford Power Inc. Distribution Expenses - Operation 2016","Brantford Power Inc.","Distribution Expenses - Operation",1693709.94]
[2017,"January 1, 2016 - December 31, 2016","Centre Wellington Hydro Ltd. Administrative and General Expenses 2016","Centre Wellington Hydro Ltd.","Administrative and General Expenses",952808.07,3929.75]
[2017,"January 1, 2016 - December 31, 2016","Centre Wellington Hydro Ltd. Other Expenses 2016","Centre Wellington Hydro Ltd.","Other Expenses",0]
[2017,"January 1, 2016 - December 31, 2016","E.L.K. Energy Inc. Community Relations 2016","E.L.K. Energy Inc.","Community Relations",7584.86]
[2017,"January 1, 2016 - December 31, 2016","EPCOR Electricity Distribution Ontario Inc. Other Expenses 2016","EPCOR Electricity Distribution Ontario Inc.","Other Expenses",0]
[2017,"January 1, 2016 - December 31, 2016","Entegrus Powerlines Inc. Administrative and General Expenses 2016","Entegrus Powerlines Inc.","Administrative and General Expenses",3916863.38,23053.9]
[2017,"January 1, 2016 - December 31, 2016","Essex Powerlines Corporation Distribution Expenses - Operation 2016","Essex Powerlines Corporation","Distribution Expenses - Operation",1050289.2850800001]
[2017,"January 1, 2016 - December 31, 2016","Festival Hydro Inc. Community Relations 2016","Festival Hydro Inc.","Community Relations",9900.0300000000007]
[2017,"January 1, 2016 - December 31, 2016","Greater Sudbury Hydro Inc. Other Expenses 2016","Greater Sudbury Hydro Inc.","Other Expenses",0]
[2017,"January 1, 2016 - December 31, 2016","Haldimand County Hydro Inc. Community Relations 2016","Haldimand County Hydro Inc.","Community Relations",33105.72]
[2017,"January 1, 2016 - December 31, 2016","Horizon Utilities Corporation Other Expenses 2016","Horizon Utilities Corporation","Other Expenses",0]
[2017,"January 1, 2016 - December 31, 2016","Hydro Hawkesbury Inc. Other Expenses 2016","Hydro Hawkesbury Inc.","Other Expenses",0]
[2017,"January 1, 2016 - December 31, 2016","Hydro One Remote Communities Inc. Community Relations 2016","Hydro One Remote Communities Inc.","Community Relations",138375.51999999999]
[2017,"January 1, 2016 - December 31, 2016","Hydro Ottawa Limited Billing and Collecting 2016","Hydro Ottawa Limited","Billing and Collecting",12593747.4]
[2017,"January 1, 2016 - December 31, 2016","Kenora Hydro Electric Corporation Ltd. Distribution Expenses – Maintenance 2016","Kenora Hydro Electric Corporation Ltd.","Distribution Expenses – Maintenance",570654]
[2017,"January 1, 2016 - December 31, 2016","Lakefront Utilities Inc. Other Expenses 2016","Lakefront Utilities Inc.","Other Expenses",0]
[2017,"January 1, 2016 - December 31, 2016","Midland Power Utility Corporation Community Relations 2016","Midland Power Utility Corporation","Community Relations",37660.35]
[2017,"January 1, 2016 - December 31, 2016","Newmarket-Tay Power Distribution Ltd. Other Expenses 2016","Newmarket-Tay Power Distribution Ltd.","Other Expenses",0]
[2017,"January 1, 2016 - December 31, 2016","Niagara Peninsula Energy Inc. Distribution Expenses – Maintenance 2016","Niagara Peninsula Energy Inc.","Distribution Expenses – Maintenance",2203115.31]
[2017,"January 1, 2016 - December 31, 2016","Northern Ontario Wires Inc. Billing and Collecting 2016","Northern Ontario Wires Inc.","Billing and Collecting",704770.35]
[2017,"January 1, 2016 - December 31, 2016","Orangeville Hydro Limited Distribution Expenses – Maintenance 2016","Orangeville Hydro Limited","Distribution Expenses – Maintenance",501000.79]
[2017,"January 1, 2016 - December 31, 2016","Ottawa River Power Corporation Other Expenses 2016","Ottawa River Power Corporation","Other Expenses",0]
[2017,"January 1, 2016 - December 31, 2016","Renfrew Hydro Inc. Community Relations 2016","Renfrew Hydro Inc.","Community Relations",6028.4]
[2017,"January 1, 2016 - December 31, 2016","Rideau St. Lawrence Distribution Inc. Billing and Collecting 2016","Rideau St. Lawrence Distribution Inc.","Billing and Collecting",526212.42000000004]
[2017,"January 1, 2016 - December 31, 2016","St. Thomas Energy Inc. Distribution Expenses – Maintenance 2016","St. Thomas Energy Inc.","Distribution Expenses – Maintenance",310047.65000000002]
[2017,"January 1, 2016 - December 31, 2016","Toronto Hydro-Electric System Limited Billing and Collecting 2016","Toronto Hydro-Electric System Limited","Billing and Collecting",34967757.950000003]
[2017,"January 1, 2016 - December 31, 2016","Waterloo North Hydro Inc. Community Relations 2016","Waterloo North Hydro Inc.","Community Relations",104616]
[2017,"January 1, 2016 - December 31, 2016","Wellington North Power Inc. Other Expenses 2016","Wellington North Power Inc.","Other Expenses",0]
[2017,"January 1, 2016 - December 31, 2016","West Coast Huron Energy Inc. Distribution Expenses – Maintenance 2016","West Coast Huron Energy Inc.","Distribution Expenses – Maintenance",297310]
[2018,"January 1, 2017 - December 31, 2017","1937680 Ontario Inc. Billing and Collecting 2017","1937680 Ontario Inc.","Billing and Collecting",2290821.63]
[2018,"January 1, 2017 - December 31, 2017","Algoma Power Inc. Distribution Expenses – Maintenance 2017","Algoma Power Inc.","Distribution Expenses – Maintenance",5263561.9000000004]
[2018,"January 1, 2017 - December 31, 2017","Brantford Power Inc. Other Expenses 2017","Brantford Power Inc.","Other Expenses",0]
[2018,"January 1, 2017 - December 31, 2017","Centre Wellington Hydro Ltd. Community Relations 2017","Centre Wellington Hydro Ltd.","Community Relations",50372.23]
[2018,"January 1, 2017 - December 31, 2017","Cooperative Hydro Embrun Inc. Other Expenses 2017","Cooperative Hydro Embrun Inc.","Other Expenses",0]
[2018,"January 1, 2017 - December 31, 2017","E.L.K. Energy Inc. Distribution Expenses – Maintenance 2017","E.L.K. Energy Inc.","Distribution Expenses – Maintenance",626093.73]
[2018,"January 1, 2017 - December 31, 2017","ERTH Power Corporation Billing and Collecting 2017","ERTH Power Corporation","Billing and Collecting",1079615.73]
[2018,"January 1, 2017 - December 31, 2017","Espanola Regional Hydro Distribution Corporation Community Relations 2017","Espanola Regional Hydro Distribution Corporation","Community Relations",0]
[2018,"January 1, 2017 - December 31, 2017","Festival Hydro Inc. Other Expenses 2017","Festival Hydro Inc.","Other Expenses",0]
[2018,"January 1, 2017 - December 31, 2017","Grimsby Power Incorporated Community Relations 2017","Grimsby Power Incorporated","Community Relations",0]
[2018,"January 1, 2017 - December 31, 2017","Hearst Power Distribution Company Limited Distribution Expenses - Operation 2017","Hearst Power Distribution Company Limited","Distribution Expenses - Operation",180411.94]
[2018,"January 1, 2017 - December 31, 2017","Hydro Hawkesbury Inc. Billing and Collecting 2017","Hydro Hawkesbury Inc.","Billing and Collecting",406769.84]
[2018,"January 1, 2017 - December 31, 2017","Hydro One Networks Inc. Distribution Expenses – Maintenance 2017","Hydro One Networks Inc.","Distribution Expenses – Maintenance",229459766.16999999]
[2018,"January 1, 2017 - December 31, 2017","Innpower Corporation Billing and Collecting 2017","Innpower Corporation","Billing and Collecting",1016438]
[2018,"January 1, 2017 - December 31, 2017","Kingston Hydro Corporation Distribution Expenses – Maintenance 2017","Kingston Hydro Corporation","Distribution Expenses – Maintenance",1445415]
[2018,"January 1, 2017 - December 31, 2017","Lakeland Power Distribution Ltd. Other Expenses 2017","Lakeland Power Distribution Ltd.","Other Expenses",0]
[2018,"January 1, 2017 - December 31, 2017","Milton Hydro Distribution Inc. Community Relations 2017","Milton Hydro Distribution Inc.","Community Relations",14094]
[2018,"January 1, 2017 - December 31, 2017","Milton Hydro Distribution Inc. Distribution Expenses - Operation 2017","Milton Hydro Distribution Inc.","Distribution Expenses - Operation",2239574]
[2018,"January 1, 2017 - December 31, 2017","Niagara-on-the-Lake Hydro Inc. Distribution Expenses – Maintenance 2017","Niagara-on-the-Lake Hydro Inc.","Distribution Expenses – Maintenance",414736.52]
[2018,"January 1, 2017 - December 31, 2017","Oakville Hydro Electricity Distribution Inc. Billing and Collecting 2017","Oakville Hydro Electricity Distribution Inc.","Billing and Collecting",2515115.83]
[2018,"January 1, 2017 - December 31, 2017","Oshawa PUC Networks Inc. Community Relations 2017","Oshawa PUC Networks Inc.","Community Relations",1191229.6399999999]
[2018,"January 1, 2017 - December 31, 2017","PUC Distribution Inc. Other Expenses 2017","PUC Distribution Inc.","Other Expenses",0]
[2018,"January 1, 2017 - December 31, 2017","Sioux Lookout Hydro Inc. Community Relations 2017","Sioux Lookout Hydro Inc.","Community Relations",0]
[2018,"January 1, 2017 - December 31, 2017","St. Thomas Energy Inc. Billing and Collecting 2017","St. Thomas Energy Inc.","Billing and Collecting",962691.16]
[2018,"January 1, 2017 - December 31, 2017","Tillsonburg Hydro Inc. Distribution Expenses – Maintenance 2017","Tillsonburg Hydro Inc.","Distribution Expenses – Maintenance",110750.84]
[2018,"January 1, 2017 - December 31, 2017","Wasaga Distribution Inc. Billing and Collecting 2017","Wasaga Distribution Inc.","Billing and Collecting",1068055.95]
[2018,"January 1, 2017 - December 31, 2017","Wellington North Power Inc. Community Relations 2017","Wellington North Power Inc.","Community Relations",6835.4]
[2018,"January 1, 2017 - December 31, 2017","Westario Power Inc. Other Expenses 2017","Westario Power Inc.","Other Expenses",0]
[2018,"January 1, 2017 - December 31, 2017","Whitby Hydro Electric Corporation Distribution Expenses – Maintenance 2017","Whitby Hydro Electric Corporation","Distribution Expenses – Maintenance",1805771.42]
[2019,"January 1, 2018 - December 31, 2018","Algoma Power Inc. Billing and Collecting 2018","Algoma Power Inc.","Billing and Collecting",919932.88]
[2019,"January 1, 2018 - December 31, 2018","Bluewater Power Distribution Corporation Distribution Expenses – Maintenance 2018","Bluewater Power Distribution Corporation","Distribution Expenses – Maintenance",198065]
[2019,"January 1, 2018 - December 31, 2018","Canadian Niagara Power Inc. Other Expenses 2018","Canadian Niagara Power Inc.","Other Expenses",0]
[2019,"January 1, 2018 - December 31, 2018","Cooperative Hydro Embrun Inc. Community Relations 2018","Cooperative Hydro Embrun Inc.","Community Relations",2749.67]
[2019,"January 1, 2018 - December 31, 2018","E.L.K. Energy Inc. Billing and Collecting 2018","E.L.K. Energy Inc.","Billing and Collecting",719649.17]
[2019,"January 1, 2018 - December 31, 2018","EPCOR Electricity Distribution Ontario Inc. Distribution Expenses – Maintenance 2018","EPCOR Electricity Distribution Ontario Inc.","Distribution Expenses – Maintenance",1424249.23]
[2019,"January 1, 2018 - December 31, 2018","Entegrus Powerlines Inc. Billing and Collecting 2018","Entegrus Powerlines Inc.","Billing and Collecting",3919269.64]
[2019,"January 1, 2018 - December 31, 2018","Festival Hydro Inc. Community Relations 2018","Festival Hydro Inc.","Community Relations",9745.07]
[2019,"January 1, 2018 - December 31, 2018","Greater Sudbury Hydro Inc. Other Expenses 2018","Greater Sudbury Hydro Inc.","Other Expenses",0]
[2019,"January 1, 2018 - December 31, 2018","Halton Hills Hydro Inc. Community Relations 2018","Halton Hills Hydro Inc.","Community Relations",386]
[2019,"January 1, 2018 - December 31, 2018","Hearst Power Distribution Company Limited Billing and Collecting 2018","Hearst Power Distribution Company Limited","Billing and Collecting",289860.84999999998]
[2019,"January 1, 2018 - December 31, 2018","Hydro Hawkesbury Inc. Distribution Expenses – Maintenance 2018","Hydro Hawkesbury Inc.","Distribution Expenses – Maintenance",189516.41]
[2019,"January 1, 2018 - December 31, 2018","Hydro One Remote Communities Inc. Other Expenses 2018","Hydro One Remote Communities Inc.","Other Expenses",0]
[2019,"January 1, 2018 - December 31, 2018","Kingston Hydro Corporation Billing and Collecting 2018","Kingston Hydro Corporation","Billing and Collecting",745052]
[2019,"January 1, 2018 - December 31, 2018","Lakefront Utilities Inc. Distribution Expenses – Maintenance 2018","Lakefront Utilities Inc.","Distribution Expenses – Maintenance",343942.15]
[2019,"January 1, 2018 - December 31, 2018","Lakeland Power Distribution Ltd. Distribution Expenses - Operation 2018","Lakeland Power Distribution Ltd.","Distribution Expenses - Operation",353649.14]
[2019,"January 1, 2018 - December 31, 2018","Newmarket-Tay Power Distribution Ltd. Administrative and General Expenses 2018","Newmarket-Tay Power Distribution Ltd.","Administrative and General Expenses",5535262.79,23839]
[2019,"January 1, 2018 - December 31, 2018","North Bay Hydro Distribution Limited Billing and Collecting 2018","North Bay Hydro Distribution Limited","Billing and Collecting",1258639.44]
[2019,"January 1, 2018 - December 31, 2018","Oakville Hydro Electricity Distribution Inc. Distribution Expenses – Maintenance 2018","Oakville Hydro Electricity Distribution Inc.","Distribution Expenses – Maintenance",1876157.72]
[2019,"January 1, 2018 - December 31, 2018","Oshawa PUC Networks Inc. Billing and Collecting 2018","Oshawa PUC Networks Inc.","Billing and Collecting",2478411]
[2019,"January 1, 2018 - December 31, 2018","Ottawa River Power Corporation Administrative and General Expenses 2018","Ottawa River Power Corporation","Administrative and General Expenses",1071973.8400000001,5201]
[2019,"January 1, 2018 - December 31, 2018","Renfrew Hydro Inc. Distribution Expenses - Operation 2018","Renfrew Hydro Inc.","Distribution Expenses - Operation",320778.15999999997]
[2019,"January 1, 2018 - December 31, 2018","Thunder Bay Hydro Electricity Distribution Inc. Administrative and General Expenses 2018","Thunder Bay Hydro Electricity Distribution Inc.","Administrative and General Expenses",5108259.9000000004,29059]
[2019,"January 1, 2018 - December 31, 2018","Veridian Connections Inc. Billing and Collecting 2018","Veridian Connections Inc.","Billing and Collecting",5825949]
[2019,"January 1, 2018 - December 31, 2018","Waterloo North Hydro Inc. Distribution Expenses – Maintenance 2018","Waterloo North Hydro Inc.","Distribution Expenses – Maintenance",1963196]
[2019,"January 1, 2018 - December 31, 2018","West Coast Huron Energy Inc. Other Expenses 2018","West Coast Huron Energy Inc.","Other Expenses",0]
[2019,"January 1, 2018 - December 31, 2018","Westario Power Inc. Administrative and General Expenses 2018","Westario Power Inc.","Administrative and General Expenses",2625751.77,25000]
[2020,"January 1, 2019 - December 31, 2019","1937680 Ontario Inc. Distribution Expenses - Operation 2019","1937680 Ontario Inc.","Distribution Expenses - Operation",2566914.6]
[2020,"January 1, 2019 - December 31, 2019","Atikokan Hydro Inc. Distribution Expenses – Maintenance 2019","Atikokan Hydro Inc.","Distribution Expenses – Maintenance",99359.35]
[2020,"January 1, 2019 - December 31, 2019","Burlington Hydro Inc. Billing and Collecting 2019","Burlington Hydro Inc.","Billing and Collecting",2278861.48]
[2020,"January 1, 2019 - December 31, 2019","Centre Wellington Hydro Ltd. Distribution Expenses – Maintenance 2019","Centre Wellington Hydro Ltd.","Distribution Expenses – Maintenance",503991.66]
[2020,"January 1, 2019 - December 31, 2019","E.L.K. Energy Inc. Other Expenses 2019","E.L.K. Energy Inc.","Other Expenses",0]
[2020,"January 1, 2019 - December 31, 2019","ENWIN Utilities Ltd. Administrative and General Expenses 2019","ENWIN Utilities Ltd.","Administrative and General Expenses",13035766.9,56760]
[2020,"January 1, 2019 - December 31, 2019","Elexicon Energy Inc. Billing and Collecting 2019","Elexicon Energy Inc.","Billing and Collecting",7534069.1500000004]
[2020,"January 1, 2019 - December 31, 2019","Entegrus Powerlines Inc. Distribution Expenses – Maintenance 2019","Entegrus Powerlines Inc.","Distribution Expenses – Maintenance",2616736.41]
[2020,"January 1, 2019 - December 31, 2019","Festival Hydro Inc. Billing and Collecting 2019","Festival Hydro Inc.","Billing and Collecting",1259372.8400000001]
[2020,"January 1, 2019 - December 31, 2019","Grimsby Power Incorporated Community Relations 2019","Grimsby Power Incorporated","Community Relations",0]
[2020,"January 1, 2019 - December 31, 2019","Hearst Power Distribution Company Limited Other Expenses 2019","Hearst Power Distribution Company Limited","Other Expenses",0]
[2020,"January 1, 2019 - December 31, 2019","Hydro 2000 Inc. Distribution Expenses – Maintenance 2019","Hydro 2000 Inc.","Distribution Expenses – Maintenance",28068.1]
[2020,"January 1, 2019 - December 31, 2019","Hydro One Remote Communities Inc. Billing and Collecting 2019","Hydro One Remote Communities Inc.","Billing and Collecting",1982172.55]
[2020,"January 1, 2019 - December 31, 2019","Innpower Corporation Distribution Expenses – Maintenance 2019","Innpower Corporation","Distribution Expenses – Maintenance",652489.39]
[2020,"January 1, 2019 - December 31, 2019","Lakefront Utilities Inc. Other Expenses 2019","Lakefront Utilities Inc.","Other Expenses",0]
[2020,"January 1, 2019 - December 31, 2019","Milton Hydro Distribution Inc. Community Relations 2019","Milton Hydro Distribution Inc.","Community Relations",9650]
[2020,"January 1, 2019 - December 31, 2019","Milton Hydro Distribution Inc. Distribution Expenses – Maintenance 2019","Milton Hydro Distribution Inc.","Distribution Expenses – Maintenance",1512621]
[2020,"January 1, 2019 - December 31, 2019","Milton Hydro Distribution Inc. Other Expenses 2019","Milton Hydro Distribution Inc.","Other Expenses",0]
[2020,"January 1, 2019 - December 31, 2019","Newmarket-Tay Power Distribution Ltd. Administrative and General Expenses 2019","Newmarket-Tay Power Distribution Ltd.","Administrative and General Expenses",5475798.5199999996,24800]
[2020,"January 1, 2019 - December 31, 2019","Newmarket-Tay Power Distribution Ltd. Billing and Collecting 2019","Newmarket-Tay Power Distribution Ltd.","Billing and Collecting",2589765.15]
[2020,"January 1, 2019 - December 31, 2019","Newmarket-Tay Power Distribution Ltd. Community Relations 2019","Newmarket-Tay Power Distribution Ltd.","Community Relations",148270.51]
[2020,"January 1, 2019 - December 31, 2019","Newmarket-Tay Power Distribution Ltd. Distribution Expenses - Operation 2019","Newmarket-Tay Power Distribution Ltd.","Distribution Expenses - Operation",2556655.89]
[2020,"January 1, 2019 - December 31, 2019","Newmarket-Tay Power Distribution Ltd. Distribution Expenses – Maintenance 2019","Newmarket-Tay Power Distribution Ltd.","Distribution Expenses – Maintenance",1928682.73]
[2020,"January 1, 2019 - December 31, 2019","Newmarket-Tay Power Distribution Ltd. Other Expenses 2019","Newmarket-Tay Power Distribution Ltd.","Other Expenses",0]
[2020,"January 1, 2019 - December 31, 2019","Niagara Peninsula Energy Inc. Administrative and General Expenses 2019","Niagara Peninsula Energy Inc.","Administrative and General Expenses",5051301.4800000004,37166]
[2020,"January 1, 2019 - December 31, 2019","Niagara Peninsula Energy Inc. Billing and Collecting 2019","Niagara Peninsula Energy Inc.","Billing and Collecting",5966076.21]
[2020,"January 1, 2019 - December 31, 2019","Niagara Peninsula Energy Inc. Community Relations 2019","Niagara Peninsula Energy Inc.","Community Relations",133275.75]
[2020,"January 1, 2019 - December 31, 2019","Niagara Peninsula Energy Inc. Distribution Expenses - Operation 2019","Niagara Peninsula Energy Inc.","Distribution Expenses - Operation",4985677.1100000003]
[2020,"January 1, 2019 - December 31, 2019","Niagara Peninsula Energy Inc. Distribution Expenses – Maintenance 2019","Niagara Peninsula Energy Inc.","Distribution Expenses – Maintenance",2678573.4900000002]
[2020,"January 1, 2019 - December 31, 2019","Niagara Peninsula Energy Inc. Other Expenses 2019","Niagara Peninsula Energy Inc.","Other Expenses",0]
[2020,"January 1, 2019 - December 31, 2019","Niagara-on-the-Lake Hydro Inc. Administrative and General Expenses 2019","Niagara-on-the-Lake Hydro Inc.","Administrative and General Expenses",1157658.73,6865.82]
[2020,"January 1, 2019 - December 31, 2019","Niagara-on-the-Lake Hydro Inc. Billing and Collecting 2019","Niagara-on-the-Lake Hydro Inc.","Billing and Collecting",520424.96000000002]
[2020,"January 1, 2019 - December 31, 2019","Niagara-on-the-Lake Hydro Inc. Community Relations 2019","Niagara-on-the-Lake Hydro Inc.","Community Relations",656.49]
[2020,"January 1, 2019 - December 31, 2019","Niagara-on-the-Lake Hydro Inc. Distribution Expenses - Operation 2019","Niagara-on-the-Lake Hydro Inc.","Distribution Expenses - Operation",623207.24]
[2020,"January 1, 2019 - December 31, 2019","Niagara-on-the-Lake Hydro Inc. Distribution Expenses – Maintenance 2019","Niagara-on-the-Lake Hydro Inc.","Distribution Expenses – Maintenance",521538.33]
[2020,"January 1, 2019 - December 31, 2019","Niagara-on-the-Lake Hydro Inc. Other Expenses 2019","Niagara-on-the-Lake Hydro Inc.","Other Expenses",0]
[2020,"January 1, 2019 - December 31, 2019","North Bay Hydro Distribution Limited Administrative and General Expenses 2019","North Bay Hydro Distribution Limited","Administrative and General Expenses",2791842.88,15560.49]
[2020,"January 1, 2019 - December 31, 2019","North Bay Hydro Distribution Limited Billing and Collecting 2019","North Bay Hydro Distribution Limited","Billing and Collecting",1142030.47]
[2020,"January 1, 2019 - December 31, 2019","North Bay Hydro Distribution Limited Community Relations 2019","North Bay Hydro Distribution Limited","Community Relations",0]
[2020,"January 1, 2019 - December 31, 2019","North Bay Hydro Distribution Limited Distribution Expenses - Operation 2019","North Bay Hydro Distribution Limited","Distribution Expenses - Operation",925842.47]
[2020,"January 1, 2019 - December 31, 2019","North Bay Hydro Distribution Limited Distribution Expenses – Maintenance 2019","North Bay Hydro Distribution Limited","Distribution Expenses – Maintenance",1829166]
[2020,"January 1, 2019 - December 31, 2019","North Bay Hydro Distribution Limited Other Expenses 2019","North Bay Hydro Distribution Limited","Other Expenses",0]
[2020,"January 1, 2019 - December 31, 2019","Northern Ontario Wires Inc. Administrative and General Expenses 2019","Northern Ontario Wires Inc.","Administrative and General Expenses",596750.75,4093]
[2020,"January 1, 2019 - December 31, 2019","Northern Ontario Wires Inc. Billing and Collecting 2019","Northern Ontario Wires Inc.","Billing and Collecting",757347.74]
[2020,"January 1, 2019 - December 31, 2019","Northern Ontario Wires Inc. Community Relations 2019","Northern Ontario Wires Inc.","Community Relations",0]
[2020,"January 1, 2019 - December 31, 2019","Northern Ontario Wires Inc. Distribution Expenses - Operation 2019","Northern Ontario Wires Inc.","Distribution Expenses - Operation",927457.79]
[2020,"January 1, 2019 - December 31, 2019","Northern Ontario Wires Inc. Distribution Expenses – Maintenance 2019","Northern Ontario Wires Inc.","Distribution Expenses – Maintenance",488483.64]
[2020,"January 1, 2019 - December 31, 2019","Northern Ontario Wires Inc. Other Expenses 2019","Northern Ontario Wires Inc.","Other Expenses",0]
[2020,"January 1, 2019 - December 31, 2019","Oakville Hydro Electricity Distribution Inc. Administrative and General Expenses 2019","Oakville Hydro Electricity Distribution Inc.","Administrative and General Expenses",6387722.2400000002,45350]
[2020,"January 1, 2019 - December 31, 2019","Oakville Hydro Electricity Distribution Inc. Billing and Collecting 2019","Oakville Hydro Electricity Distribution Inc.","Billing and Collecting",3149243.26]
[2020,"January 1, 2019 - December 31, 2019","Oakville Hydro Electricity Distribution Inc. Community Relations 2019","Oakville Hydro Electricity Distribution Inc.","Community Relations",258690.37]
[2020,"January 1, 2019 - December 31, 2019","Oakville Hydro Electricity Distribution Inc. Distribution Expenses - Operation 2019","Oakville Hydro Electricity Distribution Inc.","Distribution Expenses - Operation",7384102.2199999997]
[2020,"January 1, 2019 - December 31, 2019","Oakville Hydro Electricity Distribution Inc. Distribution Expenses – Maintenance 2019","Oakville Hydro Electricity Distribution Inc.","Distribution Expenses – Maintenance",1302581.78]
[2020,"January 1, 2019 - December 31, 2019","Oakville Hydro Electricity Distribution Inc. Other Expenses 2019","Oakville Hydro Electricity Distribution Inc.","Other Expenses",0]
[2020,"January 1, 2019 - December 31, 2019","Orangeville Hydro Limited Administrative and General Expenses 2019","Orangeville Hydro Limited","Administrative and General Expenses",1646194.47,6258.6]
[2020,"January 1, 2019 - December 31, 2019","Orangeville Hydro Limited Billing and Collecting 2019","Orangeville Hydro Limited","Billing and Collecting",807700.37]
[2020,"January 1, 2019 - December 31, 2019","Orangeville Hydro Limited Community Relations 2019","Orangeville Hydro Limited","Community Relations",22928.57]
[2020,"January 1, 2019 - December 31, 2019","Orangeville Hydro Limited Distribution Expenses - Operation 2019","Orangeville Hydro Limited","Distribution Expenses - Operation",525906.39]
[2020,"January 1, 2019 - December 31, 2019","Orangeville Hydro Limited Distribution Expenses – Maintenance 2019","Orangeville Hydro Limited","Distribution Expenses – Maintenance",433084.58]
[2020,"January 1, 2019 - December 31, 2019","Orangeville Hydro Limited Other Expenses 2019","Orangeville Hydro Limited","Other Expenses",0]
[2020,"January 1, 2019 - December 31, 2019","Orillia Power Distribution Corporation Administrative and General Expenses 2019","Orillia Power Distribution Corporation","Administrative and General Expenses",1588029,9200]
[2020,"January 1, 2019 - December 31, 2019","Orillia Power Distribution Corporation Billing and Collecting 2019","Orillia Power Distribution Corporation","Billing and Collecting",1197973]
[2020,"January 1, 2019 - December 31, 2019","Orillia Power Distribution Corporation Community Relations 2019","Orillia Power Distribution Corporation","Community Relations",39648]
[2020,"January 1, 2019 - December 31, 2019","Orillia Power Distribution Corporation Distribution Expenses - Operation 2019","Orillia Power Distribution Corporation","Distribution Expenses - Operation",1103884]
[2020,"January 1, 2019 - December 31, 2019","Orillia Power Distribution Corporation Distribution Expenses – Maintenance 2019","Orillia Power Distribution Corporation","Distribution Expenses – Maintenance",1095091]
[2020,"January 1, 2019 - December 31, 2019","Orillia Power Distribution Corporation Other Expenses 2019","Orillia Power Distribution Corporation","Other Expenses",0]
[2020,"January 1, 2019 - December 31, 2019","Oshawa PUC Networks Inc. Administrative and General Expenses 2019","Oshawa PUC Networks Inc.","Administrative and General Expenses",6516450.8200000003,32192]
[2020,"January 1, 2019 - December 31, 2019","Oshawa PUC Networks Inc. Billing and Collecting 2019","Oshawa PUC Networks Inc.","Billing and Collecting",2175967.02]
[2020,"January 1, 2019 - December 31, 2019","Oshawa PUC Networks Inc. Community Relations 2019","Oshawa PUC Networks Inc.","Community Relations",1166681.3799999999]
[2020,"January 1, 2019 - December 31, 2019","Oshawa PUC Networks Inc. Distribution Expenses - Operation 2019","Oshawa PUC Networks Inc.","Distribution Expenses - Operation",1995035]
[2020,"January 1, 2019 - December 31, 2019","Oshawa PUC Networks Inc. Distribution Expenses – Maintenance 2019","Oshawa PUC Networks Inc.","Distribution Expenses – Maintenance",1019828]
[2020,"January 1, 2019 - December 31, 2019","Oshawa PUC Networks Inc. Other Expenses 2019","Oshawa PUC Networks Inc.","Other Expenses",0]
[2020,"January 1, 2019 - December 31, 2019","Ottawa River Power Corporation Administrative and General Expenses 2019","Ottawa River Power Corporation","Administrative and General Expenses",1383559.21,5199.96]
[2020,"January 1, 2019 - December 31, 2019","Ottawa River Power Corporation Billing and Collecting 2019","Ottawa River Power Corporation","Billing and Collecting",748224.19]
[2020,"January 1, 2019 - December 31, 2019","Ottawa River Power Corporation Community Relations 2019","Ottawa River Power Corporation","Community Relations",64256.95]
[2020,"January 1, 2019 - December 31, 2019","Ottawa River Power Corporation Distribution Expenses - Operation 2019","Ottawa River Power Corporation","Distribution Expenses - Operation",513327.29]
[2020,"January 1, 2019 - December 31, 2019","Ottawa River Power Corporation Distribution Expenses – Maintenance 2019","Ottawa River Power Corporation","Distribution Expenses – Maintenance",645567.21]
[2020,"January 1, 2019 - December 31, 2019","Ottawa River Power Corporation Other Expenses 2019","Ottawa River Power Corporation","Other Expenses",0]
[2020,"January 1, 2019 - December 31, 2019","PUC Distribution Inc. Administrative and General Expenses 2019","PUC Distribution Inc.","Administrative and General Expenses",2831110.86,26267]
[2020,"January 1, 2019 - December 31, 2019","PUC Distribution Inc. Billing and Collecting 2019","PUC Distribution Inc.","Billing and Collecting",1354435.06]
[2020,"January 1, 2019 - December 31, 2019","PUC Distribution Inc. Community Relations 2019","PUC Distribution Inc.","Community Relations",640859.43999999994]
[2020,"January 1, 2019 - December 31, 2019","PUC Distribution Inc. Distribution Expenses - Operation 2019","PUC Distribution Inc.","Distribution Expenses - Operation",4140941.66]
[2020,"January 1, 2019 - December 31, 2019","PUC Distribution Inc. Distribution Expenses – Maintenance 2019","PUC Distribution Inc.","Distribution Expenses – Maintenance",2150490.12]
[2020,"January 1, 2019 - December 31, 2019","PUC Distribution Inc. Other Expenses 2019","PUC Distribution Inc.","Other Expenses",0]
[2020,"January 1, 2019 - December 31, 2019","Renfrew Hydro Inc. Administrative and General Expenses 2019","Renfrew Hydro Inc.","Administrative and General Expenses",480725.78,2404.13]
[2020,"January 1, 2019 - December 31, 2019","Renfrew Hydro Inc. Billing and Collecting 2019","Renfrew Hydro Inc.","Billing and Collecting",445229.95]
[2020,"January 1, 2019 - December 31, 2019","Renfrew Hydro Inc. Community Relations 2019","Renfrew Hydro Inc.","Community Relations",10241.77]
[2020,"January 1, 2019 - December 31, 2019","Renfrew Hydro Inc. Distribution Expenses - Operation 2019","Renfrew Hydro Inc.","Distribution Expenses - Operation",273099.02]
[2020,"January 1, 2019 - December 31, 2019","Renfrew Hydro Inc. Distribution Expenses – Maintenance 2019","Renfrew Hydro Inc.","Distribution Expenses – Maintenance",149456.35999999999]
[2020,"January 1, 2019 - December 31, 2019","Renfrew Hydro Inc. Other Expenses 2019","Renfrew Hydro Inc.","Other Expenses",0]
[2020,"January 1, 2019 - December 31, 2019","Rideau St. Lawrence Distribution Inc. Administrative and General Expenses 2019","Rideau St. Lawrence Distribution Inc.","Administrative and General Expenses",871129.88,3500]
[2020,"January 1, 2019 - December 31, 2019","Rideau St. Lawrence Distribution Inc. Billing and Collecting 2019","Rideau St. Lawrence Distribution Inc.","Billing and Collecting",535954.4]
[2020,"January 1, 2019 - December 31, 2019","Rideau St. Lawrence Distribution Inc. Community Relations 2019","Rideau St. Lawrence Distribution Inc.","Community Relations",29409.759999999998]
[2020,"January 1, 2019 - December 31, 2019","Rideau St. Lawrence Distribution Inc. Distribution Expenses - Operation 2019","Rideau St. Lawrence Distribution Inc.","Distribution Expenses - Operation",335193.48]
[2020,"January 1, 2019 - December 31, 2019","Rideau St. Lawrence Distribution Inc. Distribution Expenses – Maintenance 2019","Rideau St. Lawrence Distribution Inc.","Distribution Expenses – Maintenance",470617.96]
[2020,"January 1, 2019 - December 31, 2019","Rideau St. Lawrence Distribution Inc. Other Expenses 2019","Rideau St. Lawrence Distribution Inc.","Other Expenses",0]
[2020,"January 1, 2019 - December 31, 2019","Sioux Lookout Hydro Inc. Administrative and General Expenses 2019","Sioux Lookout Hydro Inc.","Administrative and General Expenses",504979.49,2610]
[2020,"January 1, 2019 - December 31, 2019","Sioux Lookout Hydro Inc. Billing and Collecting 2019","Sioux Lookout Hydro Inc.","Billing and Collecting",321324.71000000002]
[2020,"January 1, 2019 - December 31, 2019","Sioux Lookout Hydro Inc. Community Relations 2019","Sioux Lookout Hydro Inc.","Community Relations",0]
[2020,"January 1, 2019 - December 31, 2019","Sioux Lookout Hydro Inc. Distribution Expenses - Operation 2019","Sioux Lookout Hydro Inc.","Distribution Expenses - Operation",576175.15]
[2020,"January 1, 2019 - December 31, 2019","Sioux Lookout Hydro Inc. Distribution Expenses – Maintenance 2019","Sioux Lookout Hydro Inc.","Distribution Expenses – Maintenance",144224.98000000001]
[2020,"January 1, 2019 - December 31, 2019","Sioux Lookout Hydro Inc. Other Expenses 2019","Sioux Lookout Hydro Inc.","Other Expenses",0]
[2020,"January 1, 2019 - December 31, 2019","Synergy North Corporation Administrative and General Expenses 2019","Synergy North Corporation","Administrative and General Expenses",5819041.3799999999,10959.75]
[2020,"January 1, 2019 - December 31, 2019","Synergy North Corporation Billing and Collecting 2019","Synergy North Corporation","Billing and Collecting",2354853.67]
[2020,"January 1, 2019 - December 31, 2019","Synergy North Corporation Community Relations 2019","Synergy North Corporation","Community Relations",76813.08]
[2020,"January 1, 2019 - December 31, 2019","Synergy North Corporation Distribution Expenses - Operation 2019","Synergy North Corporation","Distribution Expenses - Operation",3369004.11]
[2020,"January 1, 2019 - December 31, 2019","Synergy North Corporation Distribution Expenses – Maintenance 2019","Synergy North Corporation","Distribution Expenses – Maintenance",5514648.5300000003]
[2020,"January 1, 2019 - December 31, 2019","Synergy North Corporation Other Expenses 2019","Synergy North Corporation","Other Expenses",0]
[2020,"January 1, 2019 - December 31, 2019","Tillsonburg Hydro Inc. Administrative and General Expenses 2019","Tillsonburg Hydro Inc.","Administrative and General Expenses",1278057.3500000001,0]
[2020,"January 1, 2019 - December 31, 2019","Tillsonburg Hydro Inc. Billing and Collecting 2019","Tillsonburg Hydro Inc.","Billing and Collecting",740167.58]
[2020,"January 1, 2019 - December 31, 2019","Tillsonburg Hydro Inc. Community Relations 2019","Tillsonburg Hydro Inc.","Community Relations",0]
[2020,"January 1, 2019 - December 31, 2019","Tillsonburg Hydro Inc. Distribution Expenses - Operation 2019","Tillsonburg Hydro Inc.","Distribution Expenses - Operation",644866.62]
[2020,"January 1, 2019 - December 31, 2019","Tillsonburg Hydro Inc. Distribution Expenses – Maintenance 2019","Tillsonburg Hydro Inc.","Distribution Expenses – Maintenance",210034.15]
[2020,"January 1, 2019 - December 31, 2019","Tillsonburg Hydro Inc. Other Expenses 2019","Tillsonburg Hydro Inc.","Other Expenses",0]
[2020,"January 1, 2019 - December 31, 2019","Toronto Hydro-Electric System Limited Administrative and General Expenses 2019","Toronto Hydro-Electric System Limited","Administrative and General Expenses",114117142.97,810000]
[2020,"January 1, 2019 - December 31, 2019","Toronto Hydro-Electric System Limited Billing and Collecting 2019","Toronto Hydro-Electric System Limited","Billing and Collecting",33658923.780000001]
[2020,"January 1, 2019 - December 31, 2019","Toronto Hydro-Electric System Limited Community Relations 2019","Toronto Hydro-Electric System Limited","Community Relations",2446484.2599999998]
[2020,"January 1, 2019 - December 31, 2019","Toronto Hydro-Electric System Limited Distribution Expenses - Operation 2019","Toronto Hydro-Electric System Limited","Distribution Expenses - Operation",48274874.920000002]
[2020,"January 1, 2019 - December 31, 2019","Toronto Hydro-Electric System Limited Distribution Expenses – Maintenance 2019","Toronto Hydro-Electric System Limited","Distribution Expenses – Maintenance",63749097]
[2020,"January 1, 2019 - December 31, 2019","Toronto Hydro-Electric System Limited Other Expenses 2019","Toronto Hydro-Electric System Limited","Other Expenses",0]
[2020,"January 1, 2019 - December 31, 2019","Wasaga Distribution Inc. Administrative and General Expenses 2019","Wasaga Distribution Inc.","Administrative and General Expenses",1422720.59,2815.73]
[2020,"January 1, 2019 - December 31, 2019","Wasaga Distribution Inc. Billing and Collecting 2019","Wasaga Distribution Inc.","Billing and Collecting",1138326.25]
[2020,"January 1, 2019 - December 31, 2019","Wasaga Distribution Inc. Community Relations 2019","Wasaga Distribution Inc.","Community Relations",11306.71]
[2020,"January 1, 2019 - December 31, 2019","Wasaga Distribution Inc. Distribution Expenses - Operation 2019","Wasaga Distribution Inc.","Distribution Expenses - Operation",38450.230000000003]
[2020,"January 1, 2019 - December 31, 2019","Wasaga Distribution Inc. Distribution Expenses – Maintenance 2019","Wasaga Distribution Inc.","Distribution Expenses – Maintenance",855276.24]
[2020,"January 1, 2019 - December 31, 2019","Wasaga Distribution Inc. Other Expenses 2019","Wasaga Distribution Inc.","Other Expenses",0]
[2020,"January 1, 2019 - December 31, 2019","Waterloo North Hydro Inc. Administrative and General Expenses 2019","Waterloo North Hydro Inc.","Administrative and General Expenses",3482548,42000]
[2020,"January 1, 2019 - December 31, 2019","Waterloo North Hydro Inc. Billing and Collecting 2019","Waterloo North Hydro Inc.","Billing and Collecting",2966160]
[2020,"January 1, 2019 - December 31, 2019","Waterloo North Hydro Inc. Community Relations 2019","Waterloo North Hydro Inc.","Community Relations",244189]
[2020,"January 1, 2019 - December 31, 2019","Waterloo North Hydro Inc. Distribution Expenses - Operation 2019","Waterloo North Hydro Inc.","Distribution Expenses - Operation",6269001]
[2020,"January 1, 2019 - December 31, 2019","Waterloo North Hydro Inc. Distribution Expenses – Maintenance 2019","Waterloo North Hydro Inc.","Distribution Expenses – Maintenance",1497703]
[2020,"January 1, 2019 - December 31, 2019","Waterloo North Hydro Inc. Other Expenses 2019","Waterloo North Hydro Inc.","Other Expenses",0]
[2020,"January 1, 2019 - December 31, 2019","Welland Hydro-Electric System Corp. Administrative and General Expenses 2019","Welland Hydro-Electric System Corp.","Administrative and General Expenses",1846894.64,13500]
[2020,"January 1, 2019 - December 31, 2019","Welland Hydro-Electric System Corp. Billing and Collecting 2019","Welland Hydro-Electric System Corp.","Billing and Collecting",1320953.42]
[2020,"January 1, 2019 - December 31, 2019","Welland Hydro-Electric System Corp. Community Relations 2019","Welland Hydro-Electric System Corp.","Community Relations",153684.43]
[2020,"January 1, 2019 - December 31, 2019","Welland Hydro-Electric System Corp. Distribution Expenses - Operation 2019","Welland Hydro-Electric System Corp.","Distribution Expenses - Operation",1330026.24]
[2020,"January 1, 2019 - December 31, 2019","Welland Hydro-Electric System Corp. Distribution Expenses – Maintenance 2019","Welland Hydro-Electric System Corp.","Distribution Expenses – Maintenance",2270810.48]
[2020,"January 1, 2019 - December 31, 2019","Welland Hydro-Electric System Corp. Other Expenses 2019","Welland Hydro-Electric System Corp.","Other Expenses",0]
[2020,"January 1, 2019 - December 31, 2019","Wellington North Power Inc. Administrative and General Expenses 2019","Wellington North Power Inc.","Administrative and General Expenses",784856.05,3270.21]
[2020,"January 1, 2019 - December 31, 2019","Wellington North Power Inc. Billing and Collecting 2019","Wellington North Power Inc.","Billing and Collecting",402260.42]
[2020,"January 1, 2019 - December 31, 2019","Wellington North Power Inc. Community Relations 2019","Wellington North Power Inc.","Community Relations",7369.64]
[2020,"January 1, 2019 - December 31, 2019","Wellington North Power Inc. Distribution Expenses - Operation 2019","Wellington North Power Inc.","Distribution Expenses - Operation",407116.83]
[2020,"January 1, 2019 - December 31, 2019","Wellington North Power Inc. Distribution Expenses – Maintenance 2019","Wellington North Power Inc.","Distribution Expenses – Maintenance",214208.63]
[2020,"January 1, 2019 - December 31, 2019","Wellington North Power Inc. Other Expenses 2019","Wellington North Power Inc.","Other Expenses",0]
[2020,"January 1, 2019 - December 31, 2019","Westario Power Inc. Administrative and General Expenses 2019","Westario Power Inc.","Administrative and General Expenses",2803580.83,13357.41]
[2020,"January 1, 2019 - December 31, 2019","Westario Power Inc. Billing and Collecting 2019","Westario Power Inc.","Billing and Collecting",903280.2]
[2020,"January 1, 2019 - December 31, 2019","Westario Power Inc. Community Relations 2019","Westario Power Inc.","Community Relations",53565.78]
[2020,"January 1, 2019 - December 31, 2019","Westario Power Inc. Distribution Expenses - Operation 2019","Westario Power Inc.","Distribution Expenses - Operation",655009.11]
[2020,"January 1, 2019 - December 31, 2019","Westario Power Inc. Distribution Expenses – Maintenance 2019","Westario Power Inc.","Distribution Expenses – Maintenance",1480064.93]
[2020,"January 1, 2019 - December 31, 2019","Westario Power Inc. Other Expenses 2019","Westario Power Inc.","Other Expenses",0]
[2021,"January 1, 2020 - December 31, 2020","1937680 Ontario Inc. Administrative and General Expenses 2020","1937680 Ontario Inc.","Administrative and General Expenses",3066940.95,26850]
[2021,"January 1, 2020 - December 31, 2020","1937680 Ontario Inc. Billing and Collecting 2020","1937680 Ontario Inc.","Billing and Collecting",2379314.2126000002]
[2021,"January 1, 2020 - December 31, 2020","1937680 Ontario Inc. Community Relations 2020","1937680 Ontario Inc.","Community Relations",0]
[2021,"January 1, 2020 - December 31, 2020","1937680 Ontario Inc. Distribution Expenses - Operation 2020","1937680 Ontario Inc.","Distribution Expenses - Operation",2921134.25]
[2021,"January 1, 2020 - December 31, 2020","1937680 Ontario Inc. Distribution Expenses – Maintenance 2020","1937680 Ontario Inc.","Distribution Expenses – Maintenance",1027984.8]
[2021,"January 1, 2020 - December 31, 2020","1937680 Ontario Inc. Other Expenses 2020","1937680 Ontario Inc.","Other Expenses",0]
[2021,"January 1, 2020 - December 31, 2020","Alectra Utilities Corporation Administrative and General Expenses 2020","Alectra Utilities Corporation","Administrative and General Expenses",94769185.969999999,679168.5]
[2021,"January 1, 2020 - December 31, 2020","Alectra Utilities Corporation Billing and Collecting 2020","Alectra Utilities Corporation","Billing and Collecting",63720835.740000002]
[2021,"January 1, 2020 - December 31, 2020","Alectra Utilities Corporation Community Relations 2020","Alectra Utilities Corporation","Community Relations",4445930.7699999996]
[2021,"January 1, 2020 - December 31, 2020","Alectra Utilities Corporation Distribution Expenses - Operation 2020","Alectra Utilities Corporation","Distribution Expenses - Operation",84136002.689999998]
[2021,"January 1, 2020 - December 31, 2020","Alectra Utilities Corporation Distribution Expenses – Maintenance 2020","Alectra Utilities Corporation","Distribution Expenses – Maintenance",26763321.449999999]
[2021,"January 1, 2020 - December 31, 2020","Alectra Utilities Corporation Other Expenses 2020","Alectra Utilities Corporation","Other Expenses",0]
[2021,"January 1, 2020 - December 31, 2020","Algoma Power Inc. Administrative and General Expenses 2020","Algoma Power Inc.","Administrative and General Expenses",5262108.49,30612]
[2021,"January 1, 2020 - December 31, 2020","Algoma Power Inc. Billing and Collecting 2020","Algoma Power Inc.","Billing and Collecting",951794.44]
[2021,"January 1, 2020 - December 31, 2020","Algoma Power Inc. Community Relations 2020","Algoma Power Inc.","Community Relations",34401.919999999998]
[2021,"January 1, 2020 - December 31, 2020","Algoma Power Inc. Distribution Expenses - Operation 2020","Algoma Power Inc.","Distribution Expenses - Operation",1481440.12]
[2021,"January 1, 2020 - December 31, 2020","Algoma Power Inc. Distribution Expenses – Maintenance 2020","Algoma Power Inc.","Distribution Expenses – Maintenance",5596378.0899999999]
[2021,"January 1, 2020 - December 31, 2020","Algoma Power Inc. Other Expenses 2020","Algoma Power Inc.","Other Expenses",0]
[2021,"January 1, 2020 - December 31, 2020","Atikokan Hydro Inc. Administrative and General Expenses 2020","Atikokan Hydro Inc.","Administrative and General Expenses",419084.05,0]
[2021,"January 1, 2020 - December 31, 2020","Atikokan Hydro Inc. Billing and Collecting 2020","Atikokan Hydro Inc.","Billing and Collecting",177886.36]
[2021,"January 1, 2020 - December 31, 2020","Atikokan Hydro Inc. Community Relations 2020","Atikokan Hydro Inc.","Community Relations",0]
[2021,"January 1, 2020 - December 31, 2020","Atikokan Hydro Inc. Distribution Expenses - Operation 2020","Atikokan Hydro Inc.","Distribution Expenses - Operation",438047.77]
[2021,"January 1, 2020 - December 31, 2020","Atikokan Hydro Inc. Distribution Expenses – Maintenance 2020","Atikokan Hydro Inc.","Distribution Expenses – Maintenance",78732.84]
[2021,"January 1, 2020 - December 31, 2020","Atikokan Hydro Inc. Other Expenses 2020","Atikokan Hydro Inc.","Other Expenses",0]
[2021,"January 1, 2020 - December 31, 2020","Bluewater Power Distribution Corporation Administrative and General Expenses 2020","Bluewater Power Distribution Corporation","Administrative and General Expenses",6620255,24848]
[2021,"January 1, 2020 - December 31, 2020","Bluewater Power Distribution Corporation Billing and Collecting 2020","Bluewater Power Distribution Corporation","Billing and Collecting",1788954]
[2021,"January 1, 2020 - December 31, 2020","Bluewater Power Distribution Corporation Community Relations 2020","Bluewater Power Distribution Corporation","Community Relations",360258]
[2021,"January 1, 2020 - December 31, 2020","Bluewater Power Distribution Corporation Distribution Expenses - Operation 2020","Bluewater Power Distribution Corporation","Distribution Expenses - Operation",3911905]
[2021,"January 1, 2020 - December 31, 2020","Bluewater Power Distribution Corporation Distribution Expenses – Maintenance 2020","Bluewater Power Distribution Corporation","Distribution Expenses – Maintenance",221919]
[2021,"January 1, 2020 - December 31, 2020","Bluewater Power Distribution Corporation Other Expenses 2020","Bluewater Power Distribution Corporation","Other Expenses",0]
[2021,"January 1, 2020 - December 31, 2020","Brantford Power Inc. Administrative and General Expenses 2020","Brantford Power Inc.","Administrative and General Expenses",4574745.53,37500]
[2021,"January 1, 2020 - December 31, 2020","Brantford Power Inc. Billing and Collecting 2020","Brantford Power Inc.","Billing and Collecting",3813856.34]
[2021,"January 1, 2020 - December 31, 2020","Brantford Power Inc. Community Relations 2020","Brantford Power Inc.","Community Relations",156453.76000000001]
[2021,"January 1, 2020 - December 31, 2020","Brantford Power Inc. Distribution Expenses - Operation 2020","Brantford Power Inc.","Distribution Expenses - Operation",1960885.29]
[2021,"January 1, 2020 - December 31, 2020","Brantford Power Inc. Distribution Expenses – Maintenance 2020","Brantford Power Inc.","Distribution Expenses – Maintenance",1572473.69]
[2021,"January 1, 2020 - December 31, 2020","Brantford Power Inc. Other Expenses 2020","Brantford Power Inc.","Other Expenses",0]
[2021,"January 1, 2020 - December 31, 2020","Burlington Hydro Inc. Administrative and General Expenses 2020","Burlington Hydro Inc.","Administrative and General Expenses",7146472.46,34603]
[2021,"January 1, 2020 - December 31, 2020","Burlington Hydro Inc. Billing and Collecting 2020","Burlington Hydro Inc.","Billing and Collecting",2492796.2799999998]
[2021,"January 1, 2020 - December 31, 2020","Burlington Hydro Inc. Community Relations 2020","Burlington Hydro Inc.","Community Relations",29372.5]
[2021,"January 1, 2020 - December 31, 2020","Burlington Hydro Inc. Distribution Expenses - Operation 2020","Burlington Hydro Inc.","Distribution Expenses - Operation",4863245.58]
[2021,"January 1, 2020 - December 31, 2020","Burlington Hydro Inc. Distribution Expenses – Maintenance 2020","Burlington Hydro Inc.","Distribution Expenses – Maintenance",5440640.0300000003]
[2021,"January 1, 2020 - December 31, 2020","Burlington Hydro Inc. Other Expenses 2020","Burlington Hydro Inc.","Other Expenses",0]
[2021,"January 1, 2020 - December 31, 2020","Canadian Niagara Power Inc. Administrative and General Expenses 2020","Canadian Niagara Power Inc.","Administrative and General Expenses",3732744.43,25667]
[2021,"January 1, 2020 - December 31, 2020","Canadian Niagara Power Inc. Billing and Collecting 2020","Canadian Niagara Power Inc.","Billing and Collecting",1498831.57]
[2021,"January 1, 2020 - December 31, 2020","Canadian Niagara Power Inc. Community Relations 2020","Canadian Niagara Power Inc.","Community Relations",39402.410000000003]
[2021,"January 1, 2020 - December 31, 2020","Canadian Niagara Power Inc. Distribution Expenses - Operation 2020","Canadian Niagara Power Inc.","Distribution Expenses - Operation",2075903.34]
[2021,"January 1, 2020 - December 31, 2020","Canadian Niagara Power Inc. Distribution Expenses – Maintenance 2020","Canadian Niagara Power Inc.","Distribution Expenses – Maintenance",2139755.83]
[2021,"January 1, 2020 - December 31, 2020","Canadian Niagara Power Inc. Other Expenses 2020","Canadian Niagara Power Inc.","Other Expenses",0]
[2021,"January 1, 2020 - December 31, 2020","Centre Wellington Hydro Ltd. Administrative and General Expenses 2020","Centre Wellington Hydro Ltd.","Administrative and General Expenses",1054095.93,4750]
[2021,"January 1, 2020 - December 31, 2020","Centre Wellington Hydro Ltd. Billing and Collecting 2020","Centre Wellington Hydro Ltd.","Billing and Collecting",562199.51]
[2021,"January 1, 2020 - December 31, 2020","Centre Wellington Hydro Ltd. Community Relations 2020","Centre Wellington Hydro Ltd.","Community Relations",34185.64]
[2021,"January 1, 2020 - December 31, 2020","Centre Wellington Hydro Ltd. Distribution Expenses - Operation 2020","Centre Wellington Hydro Ltd.","Distribution Expenses - Operation",392585.42]
[2021,"January 1, 2020 - December 31, 2020","Centre Wellington Hydro Ltd. Distribution Expenses – Maintenance 2020","Centre Wellington Hydro Ltd.","Distribution Expenses – Maintenance",384407.14]
[2021,"January 1, 2020 - December 31, 2020","Centre Wellington Hydro Ltd. Other Expenses 2020","Centre Wellington Hydro Ltd.","Other Expenses",0]
[2021,"January 1, 2020 - December 31, 2020","Chapleau Public Utilities Corporation Administrative and General Expenses 2020","Chapleau Public Utilities Corporation","Administrative and General Expenses",482928.33,4000]
[2021,"January 1, 2020 - December 31, 2020","Chapleau Public Utilities Corporation Billing and Collecting 2020","Chapleau Public Utilities Corporation","Billing and Collecting",129698.06]
[2021,"January 1, 2020 - December 31, 2020","Chapleau Public Utilities Corporation Community Relations 2020","Chapleau Public Utilities Corporation","Community Relations",0]
[2021,"January 1, 2020 - December 31, 2020","Chapleau Public Utilities Corporation Distribution Expenses - Operation 2020","Chapleau Public Utilities Corporation","Distribution Expenses - Operation",212012.46]
[2021,"January 1, 2020 - December 31, 2020","Chapleau Public Utilities Corporation Distribution Expenses – Maintenance 2020","Chapleau Public Utilities Corporation","Distribution Expenses – Maintenance",0]
[2021,"January 1, 2020 - December 31, 2020","Chapleau Public Utilities Corporation Other Expenses 2020","Chapleau Public Utilities Corporation","Other Expenses",0]
[2021,"January 1, 2020 - December 31, 2020","Cooperative Hydro Embrun Inc. Administrative and General Expenses 2020","Cooperative Hydro Embrun Inc.","Administrative and General Expenses",406335.4,2000]
[2021,"January 1, 2020 - December 31, 2020","Cooperative Hydro Embrun Inc. Billing and Collecting 2020","Cooperative Hydro Embrun Inc.","Billing and Collecting",214452.22]
[2021,"January 1, 2020 - December 31, 2020","Cooperative Hydro Embrun Inc. Community Relations 2020","Cooperative Hydro Embrun Inc.","Community Relations",4305]
[2021,"January 1, 2020 - December 31, 2020","Cooperative Hydro Embrun Inc. Distribution Expenses - Operation 2020","Cooperative Hydro Embrun Inc.","Distribution Expenses - Operation",49130.97]
[2021,"January 1, 2020 - December 31, 2020","Cooperative Hydro Embrun Inc. Distribution Expenses – Maintenance 2020","Cooperative Hydro Embrun Inc.","Distribution Expenses – Maintenance",62243.47]
[2021,"January 1, 2020 - December 31, 2020","Cooperative Hydro Embrun Inc. Other Expenses 2020","Cooperative Hydro Embrun Inc.","Other Expenses",0]
[2021,"January 1, 2020 - December 31, 2020","Cornwall Street Railway Light and Power Company Limited Administrative and General Expenses 2020","Cornwall Street Railway Light and Power Company Limited","Administrative and General Expenses",0,16998]
[2021,"January 1, 2020 - December 31, 2020","Cornwall Street Railway Light and Power Company Limited Billing and Collecting 2020","Cornwall Street Railway Light and Power Company Limited","Billing and Collecting",0]
[2021,"January 1, 2020 - December 31, 2020","Cornwall Street Railway Light and Power Company Limited Community Relations 2020","Cornwall Street Railway Light and Power Company Limited","Community Relations",0]
[2021,"January 1, 2020 - December 31, 2020","Cornwall Street Railway Light and Power Company Limited Distribution Expenses - Operation 2020","Cornwall Street Railway Light and Power Company Limited","Distribution Expenses - Operation",0]
[2021,"January 1, 2020 - December 31, 2020","Cornwall Street Railway Light and Power Company Limited Distribution Expenses – Maintenance 2020","Cornwall Street Railway Light and Power Company Limited","Distribution Expenses – Maintenance",0]
[2021,"January 1, 2020 - December 31, 2020","Cornwall Street Railway Light and Power Company Limited Other Expenses 2020","Cornwall Street Railway Light and Power Company Limited","Other Expenses",0]
[2021,"January 1, 2020 - December 31, 2020","E.L.K. Energy Inc. Administrative and General Expenses 2020","E.L.K. Energy Inc.","Administrative and General Expenses",1019244.29,10179.26]
[2021,"January 1, 2020 - December 31, 2020","E.L.K. Energy Inc. Billing and Collecting 2020","E.L.K. Energy Inc.","Billing and Collecting",551626.23]
[2021,"January 1, 2020 - December 31, 2020","E.L.K. Energy Inc. Community Relations 2020","E.L.K. Energy Inc.","Community Relations",3088.04]
[2021,"January 1, 2020 - December 31, 2020","E.L.K. Energy Inc. Distribution Expenses - Operation 2020","E.L.K. Energy Inc.","Distribution Expenses - Operation",284999.02]
[2021,"January 1, 2020 - December 31, 2020","E.L.K. Energy Inc. Distribution Expenses – Maintenance 2020","E.L.K. Energy Inc.","Distribution Expenses – Maintenance",578700]
[2021,"January 1, 2020 - December 31, 2020","E.L.K. Energy Inc. Other Expenses 2020","E.L.K. Energy Inc.","Other Expenses",0]
[2021,"January 1, 2020 - December 31, 2020","ENWIN Utilities Ltd. Administrative and General Expenses 2020","ENWIN Utilities Ltd.","Administrative and General Expenses",12251035.970000001,65296]
[2021,"January 1, 2020 - December 31, 2020","ENWIN Utilities Ltd. Billing and Collecting 2020","ENWIN Utilities Ltd.","Billing and Collecting",2822880.08]
[2021,"January 1, 2020 - December 31, 2020","ENWIN Utilities Ltd. Community Relations 2020","ENWIN Utilities Ltd.","Community Relations",102480.5]
[2021,"January 1, 2020 - December 31, 2020","ENWIN Utilities Ltd. Distribution Expenses - Operation 2020","ENWIN Utilities Ltd.","Distribution Expenses - Operation",7799586.2599999998]
[2021,"January 1, 2020 - December 31, 2020","ENWIN Utilities Ltd. Distribution Expenses – Maintenance 2020","ENWIN Utilities Ltd.","Distribution Expenses – Maintenance",3600670.15]
[2021,"January 1, 2020 - December 31, 2020","ENWIN Utilities Ltd. Other Expenses 2020","ENWIN Utilities Ltd.","Other Expenses",0]
[2021,"January 1, 2020 - December 31, 2020","EPCOR Electricity Distribution Ontario Inc. Administrative and General Expenses 2020","EPCOR Electricity Distribution Ontario Inc.","Administrative and General Expenses",2127931.88,8368.64]
[2021,"January 1, 2020 - December 31, 2020","EPCOR Electricity Distribution Ontario Inc. Billing and Collecting 2020","EPCOR Electricity Distribution Ontario Inc.","Billing and Collecting",1010747.59]
[2021,"January 1, 2020 - December 31, 2020","EPCOR Electricity Distribution Ontario Inc. Community Relations 2020","EPCOR Electricity Distribution Ontario Inc.","Community Relations",239792.5]
[2021,"January 1, 2020 - December 31, 2020","EPCOR Electricity Distribution Ontario Inc. Distribution Expenses - Operation 2020","EPCOR Electricity Distribution Ontario Inc.","Distribution Expenses - Operation",1149538.3]
[2021,"January 1, 2020 - December 31, 2020","EPCOR Electricity Distribution Ontario Inc. Distribution Expenses – Maintenance 2020","EPCOR Electricity Distribution Ontario Inc.","Distribution Expenses – Maintenance",1636327.05]
[2021,"January 1, 2020 - December 31, 2020","EPCOR Electricity Distribution Ontario Inc. Other Expenses 2020","EPCOR Electricity Distribution Ontario Inc.","Other Expenses",0]
[2021,"January 1, 2020 - December 31, 2020","ERTH Power Corporation Administrative and General Expenses 2020","ERTH Power Corporation","Administrative and General Expenses",3189047.79,17747]
[2021,"January 1, 2020 - December 31, 2020","ERTH Power Corporation Billing and Collecting 2020","ERTH Power Corporation","Billing and Collecting",1484755]
[2021,"January 1, 2020 - December 31, 2020","ERTH Power Corporation Community Relations 2020","ERTH Power Corporation","Community Relations",33291]
[2021,"January 1, 2020 - December 31, 2020","ERTH Power Corporation Distribution Expenses - Operation 2020","ERTH Power Corporation","Distribution Expenses - Operation",933026]
[2021,"January 1, 2020 - December 31, 2020","ERTH Power Corporation Distribution Expenses – Maintenance 2020","ERTH Power Corporation","Distribution Expenses – Maintenance",1691717]
[2021,"January 1, 2020 - December 31, 2020","ERTH Power Corporation Other Expenses 2020","ERTH Power Corporation","Other Expenses",0]
[2021,"January 1, 2020 - December 31, 2020","Elexicon Energy Inc. Administrative and General Expenses 2020","Elexicon Energy Inc.","Administrative and General Expenses",17575589.379999999,88368.47]
[2021,"January 1, 2020 - December 31, 2020","Elexicon Energy Inc. Billing and Collecting 2020","Elexicon Energy Inc.","Billing and Collecting",11355586.779999999]
[2021,"January 1, 2020 - December 31, 2020","Elexicon Energy Inc. Community Relations 2020","Elexicon Energy Inc.","Community Relations",10083.5]
[2021,"January 1, 2020 - December 31, 2020","Elexicon Energy Inc. Distribution Expenses - Operation 2020","Elexicon Energy Inc.","Distribution Expenses - Operation",10032683.810000001]
[2021,"January 1, 2020 - December 31, 2020","Elexicon Energy Inc. Distribution Expenses – Maintenance 2020","Elexicon Energy Inc.","Distribution Expenses – Maintenance",4229032.21]
[2021,"January 1, 2020 - December 31, 2020","Elexicon Energy Inc. Other Expenses 2020","Elexicon Energy Inc.","Other Expenses",0]
[2021,"January 1, 2020 - December 31, 2020","Energy Plus Inc. Administrative and General Expenses 2020","Energy Plus Inc.","Administrative and General Expenses",8280652,41193.35]
[2021,"January 1, 2020 - December 31, 2020","Energy Plus Inc. Billing and Collecting 2020","Energy Plus Inc.","Billing and Collecting",3607402.31]
[2021,"January 1, 2020 - December 31, 2020","Energy Plus Inc. Community Relations 2020","Energy Plus Inc.","Community Relations",145291.64000000001]
[2021,"January 1, 2020 - December 31, 2020","Energy Plus Inc. Distribution Expenses - Operation 2020","Energy Plus Inc.","Distribution Expenses - Operation",3616065.37]
[2021,"January 1, 2020 - December 31, 2020","Energy Plus Inc. Distribution Expenses – Maintenance 2020","Energy Plus Inc.","Distribution Expenses – Maintenance",3114754.84]
[2021,"January 1, 2020 - December 31, 2020","Energy Plus Inc. Other Expenses 2020","Energy Plus Inc.","Other Expenses",0]
[2021,"January 1, 2020 - December 31, 2020","Entegrus Powerlines Inc. Administrative and General Expenses 2020","Entegrus Powerlines Inc.","Administrative and General Expenses",6642789.8300000001,32010.05]
[2021,"January 1, 2020 - December 31, 2020","Entegrus Powerlines Inc. Billing and Collecting 2020","Entegrus Powerlines Inc.","Billing and Collecting",2956235.11]
[2021,"January 1, 2020 - December 31, 2020","Entegrus Powerlines Inc. Community Relations 2020","Entegrus Powerlines Inc.","Community Relations",13999.25]
[2021,"January 1, 2020 - December 31, 2020","Entegrus Powerlines Inc. Distribution Expenses - Operation 2020","Entegrus Powerlines Inc.","Distribution Expenses - Operation",1820161.58]
[2021,"January 1, 2020 - December 31, 2020","Entegrus Powerlines Inc. Distribution Expenses – Maintenance 2020","Entegrus Powerlines Inc.","Distribution Expenses – Maintenance",2143023.96]
[2021,"January 1, 2020 - December 31, 2020","Entegrus Powerlines Inc. Other Expenses 2020","Entegrus Powerlines Inc.","Other Expenses",0]
[2021,"January 1, 2020 - December 31, 2020","Espanola Regional Hydro Distribution Corporation Administrative and General Expenses 2020","Espanola Regional Hydro Distribution Corporation","Administrative and General Expenses",386366.51,2000]
[2021,"January 1, 2020 - December 31, 2020","Espanola Regional Hydro Distribution Corporation Billing and Collecting 2020","Espanola Regional Hydro Distribution Corporation","Billing and Collecting",418182.15]
[2021,"January 1, 2020 - December 31, 2020","Espanola Regional Hydro Distribution Corporation Community Relations 2020","Espanola Regional Hydro Distribution Corporation","Community Relations",0]
[2021,"January 1, 2020 - December 31, 2020","Espanola Regional Hydro Distribution Corporation Distribution Expenses - Operation 2020","Espanola Regional Hydro Distribution Corporation","Distribution Expenses - Operation",399461.62]
[2021,"January 1, 2020 - December 31, 2020","Espanola Regional Hydro Distribution Corporation Distribution Expenses – Maintenance 2020","Espanola Regional Hydro Distribution Corporation","Distribution Expenses – Maintenance",315902.69]
[2021,"January 1, 2020 - December 31, 2020","Espanola Regional Hydro Distribution Corporation Other Expenses 2020","Espanola Regional Hydro Distribution Corporation","Other Expenses",0]
[2021,"January 1, 2020 - December 31, 2020","Essex Powerlines Corporation Administrative and General Expenses 2020","Essex Powerlines Corporation","Administrative and General Expenses",3745091.78,16820]
[2021,"January 1, 2020 - December 31, 2020","Essex Powerlines Corporation Billing and Collecting 2020","Essex Powerlines Corporation","Billing and Collecting",1480684.26]
[2021,"January 1, 2020 - December 31, 2020","Essex Powerlines Corporation Community Relations 2020","Essex Powerlines Corporation","Community Relations",33267.910000000003]
[2021,"January 1, 2020 - December 31, 2020","Essex Powerlines Corporation Distribution Expenses - Operation 2020","Essex Powerlines Corporation","Distribution Expenses - Operation",1530902.71]
[2021,"January 1, 2020 - December 31, 2020","Essex Powerlines Corporation Distribution Expenses – Maintenance 2020","Essex Powerlines Corporation","Distribution Expenses – Maintenance",1116273.1200000001]
[2021,"January 1, 2020 - December 31, 2020","Essex Powerlines Corporation Other Expenses 2020","Essex Powerlines Corporation","Other Expenses",0]
[2021,"January 1, 2020 - December 31, 2020","Festival Hydro Inc. Administrative and General Expenses 2020","Festival Hydro Inc.","Administrative and General Expenses",2317369.9500000002,13860]
[2021,"January 1, 2020 - December 31, 2020","Festival Hydro Inc. Billing and Collecting 2020","Festival Hydro Inc.","Billing and Collecting",1208934.48]
[2021,"January 1, 2020 - December 31, 2020","Festival Hydro Inc. Community Relations 2020","Festival Hydro Inc.","Community Relations",12267.63]
[2021,"January 1, 2020 - December 31, 2020","Festival Hydro Inc. Distribution Expenses - Operation 2020","Festival Hydro Inc.","Distribution Expenses - Operation",1030977.21]
[2021,"January 1, 2020 - December 31, 2020","Festival Hydro Inc. Distribution Expenses – Maintenance 2020","Festival Hydro Inc.","Distribution Expenses – Maintenance",1538323.84]
[2021,"January 1, 2020 - December 31, 2020","Festival Hydro Inc. Other Expenses 2020","Festival Hydro Inc.","Other Expenses",0]
[2021,"January 1, 2020 - December 31, 2020","Fort Frances Power Corporation Administrative and General Expenses 2020","Fort Frances Power Corporation","Administrative and General Expenses",684427.24,2000]
[2021,"January 1, 2020 - December 31, 2020","Fort Frances Power Corporation Billing and Collecting 2020","Fort Frances Power Corporation","Billing and Collecting",241677.57]
[2021,"January 1, 2020 - December 31, 2020","Fort Frances Power Corporation Community Relations 2020","Fort Frances Power Corporation","Community Relations",42407.77]
[2021,"January 1, 2020 - December 31, 2020","Fort Frances Power Corporation Distribution Expenses - Operation 2020","Fort Frances Power Corporation","Distribution Expenses - Operation",511799.18]
[2021,"January 1, 2020 - December 31, 2020","Fort Frances Power Corporation Distribution Expenses – Maintenance 2020","Fort Frances Power Corporation","Distribution Expenses – Maintenance",201124.7]
[2021,"January 1, 2020 - December 31, 2020","Fort Frances Power Corporation Other Expenses 2020","Fort Frances Power Corporation","Other Expenses",0]
[2021,"January 1, 2020 - December 31, 2020","Greater Sudbury Hydro Inc. Administrative and General Expenses 2020","Greater Sudbury Hydro Inc.","Administrative and General Expenses",4924512.46,48500]
[2021,"January 1, 2020 - December 31, 2020","Greater Sudbury Hydro Inc. Billing and Collecting 2020","Greater Sudbury Hydro Inc.","Billing and Collecting",2271922.4]
[2021,"January 1, 2020 - December 31, 2020","Greater Sudbury Hydro Inc. Community Relations 2020","Greater Sudbury Hydro Inc.","Community Relations",-17351.2]
[2021,"January 1, 2020 - December 31, 2020","Greater Sudbury Hydro Inc. Distribution Expenses - Operation 2020","Greater Sudbury Hydro Inc.","Distribution Expenses - Operation",6549683.4400000004]
[2021,"January 1, 2020 - December 31, 2020","Greater Sudbury Hydro Inc. Distribution Expenses – Maintenance 2020","Greater Sudbury Hydro Inc.","Distribution Expenses – Maintenance",1790749.09]
[2021,"January 1, 2020 - December 31, 2020","Greater Sudbury Hydro Inc. Other Expenses 2020","Greater Sudbury Hydro Inc.","Other Expenses",0]
[2021,"January 1, 2020 - December 31, 2020","Grimsby Power Incorporated Administrative and General Expenses 2020","Grimsby Power Incorporated","Administrative and General Expenses",1370419.04,6303.42]
[2021,"January 1, 2020 - December 31, 2020","Grimsby Power Incorporated Billing and Collecting 2020","Grimsby Power Incorporated","Billing and Collecting",585847.31000000006]
[2021,"January 1, 2020 - December 31, 2020","Grimsby Power Incorporated Community Relations 2020","Grimsby Power Incorporated","Community Relations",0]
[2021,"January 1, 2020 - December 31, 2020","Grimsby Power Incorporated Distribution Expenses - Operation 2020","Grimsby Power Incorporated","Distribution Expenses - Operation",938713.69]
[2021,"January 1, 2020 - December 31, 2020","Grimsby Power Incorporated Distribution Expenses – Maintenance 2020","Grimsby Power Incorporated","Distribution Expenses – Maintenance",644984.47]
[2021,"January 1, 2020 - December 31, 2020","Grimsby Power Incorporated Other Expenses 2020","Grimsby Power Incorporated","Other Expenses",0]
[2021,"January 1, 2020 - December 31, 2020","Halton Hills Hydro Inc. Administrative and General Expenses 2020","Halton Hills Hydro Inc.","Administrative and General Expenses",3799306.79,17916.79]
[2021,"January 1, 2020 - December 31, 2020","Halton Hills Hydro Inc. Billing and Collecting 2020","Halton Hills Hydro Inc.","Billing and Collecting",1077041.8600000001]
[2021,"January 1, 2020 - December 31, 2020","Halton Hills Hydro Inc. Community Relations 2020","Halton Hills Hydro Inc.","Community Relations",0]
[2021,"January 1, 2020 - December 31, 2020","Halton Hills Hydro Inc. Distribution Expenses - Operation 2020","Halton Hills Hydro Inc.","Distribution Expenses - Operation",1268603.77]
[2021,"January 1, 2020 - December 31, 2020","Halton Hills Hydro Inc. Distribution Expenses – Maintenance 2020","Halton Hills Hydro Inc.","Distribution Expenses – Maintenance",388314.01]
[2021,"January 1, 2020 - December 31, 2020","Halton Hills Hydro Inc. Other Expenses 2020","Halton Hills Hydro Inc.","Other Expenses",0]
[2021,"January 1, 2020 - December 31, 2020","Hearst Power Distribution Company Limited Administrative and General Expenses 2020","Hearst Power Distribution Company Limited","Administrative and General Expenses",313226.11,2000]
[2021,"January 1, 2020 - December 31, 2020","Hearst Power Distribution Company Limited Billing and Collecting 2020","Hearst Power Distribution Company Limited","Billing and Collecting",323373.90999999997]
[2021,"January 1, 2020 - December 31, 2020","Hearst Power Distribution Company Limited Community Relations 2020","Hearst Power Distribution Company Limited","Community Relations",3638.78]
[2021,"January 1, 2020 - December 31, 2020","Hearst Power Distribution Company Limited Distribution Expenses - Operation 2020","Hearst Power Distribution Company Limited","Distribution Expenses - Operation",162432.04999999999]
[2021,"January 1, 2020 - December 31, 2020","Hearst Power Distribution Company Limited Distribution Expenses – Maintenance 2020","Hearst Power Distribution Company Limited","Distribution Expenses – Maintenance",283606.23]
[2021,"January 1, 2020 - December 31, 2020","Hearst Power Distribution Company Limited Other Expenses 2020","Hearst Power Distribution Company Limited","Other Expenses",0]
[2021,"January 1, 2020 - December 31, 2020","Hydro 2000 Inc. Administrative and General Expenses 2020","Hydro 2000 Inc.","Administrative and General Expenses",295652.94,2000]
[2021,"January 1, 2020 - December 31, 2020","Hydro 2000 Inc. Billing and Collecting 2020","Hydro 2000 Inc.","Billing and Collecting",145695.70000000001]
[2021,"January 1, 2020 - December 31, 2020","Hydro 2000 Inc. Community Relations 2020","Hydro 2000 Inc.","Community Relations",0]
[2021,"January 1, 2020 - December 31, 2020","Hydro 2000 Inc. Distribution Expenses - Operation 2020","Hydro 2000 Inc.","Distribution Expenses - Operation",28125.360000000001]
[2021,"January 1, 2020 - December 31, 2020","Hydro 2000 Inc. Distribution Expenses – Maintenance 2020","Hydro 2000 Inc.","Distribution Expenses – Maintenance",31668.62]
[2021,"January 1, 2020 - December 31, 2020","Hydro 2000 Inc. Other Expenses 2020","Hydro 2000 Inc.","Other Expenses",0]
[2021,"January 1, 2020 - December 31, 2020","Hydro Hawkesbury Inc. Administrative and General Expenses 2020","Hydro Hawkesbury Inc.","Administrative and General Expenses",455658.69,2000]
[2021,"January 1, 2020 - December 31, 2020","Hydro Hawkesbury Inc. Billing and Collecting 2020","Hydro Hawkesbury Inc.","Billing and Collecting",389139.03]
[2021,"January 1, 2020 - December 31, 2020","Hydro Hawkesbury Inc. Community Relations 2020","Hydro Hawkesbury Inc.","Community Relations",0]
[2021,"January 1, 2020 - December 31, 2020","Hydro Hawkesbury Inc. Distribution Expenses - Operation 2020","Hydro Hawkesbury Inc.","Distribution Expenses - Operation",66726.080000000002]
[2021,"January 1, 2020 - December 31, 2020","Hydro Hawkesbury Inc. Distribution Expenses – Maintenance 2020","Hydro Hawkesbury Inc.","Distribution Expenses – Maintenance",213917.73]
[2021,"January 1, 2020 - December 31, 2020","Hydro Hawkesbury Inc. Other Expenses 2020","Hydro Hawkesbury Inc.","Other Expenses",0]
[2021,"January 1, 2020 - December 31, 2020","Hydro One Networks Inc. Administrative and General Expenses 2020","Hydro One Networks Inc.","Administrative and General Expenses",134774013.91,1750200]
[2021,"January 1, 2020 - December 31, 2020","Hydro One Networks Inc. Billing and Collecting 2020","Hydro One Networks Inc.","Billing and Collecting",93847155.420000002]
[2021,"January 1, 2020 - December 31, 2020","Hydro One Networks Inc. Community Relations 2020","Hydro One Networks Inc.","Community Relations",1375572.77]
[2021,"January 1, 2020 - December 31, 2020","Hydro One Networks Inc. Distribution Expenses - Operation 2020","Hydro One Networks Inc.","Distribution Expenses - Operation",86071480.700000003]
[2021,"January 1, 2020 - December 31, 2020","Hydro One Networks Inc. Distribution Expenses – Maintenance 2020","Hydro One Networks Inc.","Distribution Expenses – Maintenance",244130147.22]
[2021,"January 1, 2020 - December 31, 2020","Hydro One Networks Inc. Other Expenses 2020","Hydro One Networks Inc.","Other Expenses",0]
[2021,"January 1, 2020 - December 31, 2020","Hydro One Remote Communities Inc. Administrative and General Expenses 2020","Hydro One Remote Communities Inc.","Administrative and General Expenses",923593.35,64601]
[2021,"January 1, 2020 - December 31, 2020","Hydro One Remote Communities Inc. Billing and Collecting 2020","Hydro One Remote Communities Inc.","Billing and Collecting",1855662.25]
[2021,"January 1, 2020 - December 31, 2020","Hydro One Remote Communities Inc. Community Relations 2020","Hydro One Remote Communities Inc.","Community Relations",459250.06]
[2021,"January 1, 2020 - December 31, 2020","Hydro One Remote Communities Inc. Distribution Expenses - Operation 2020","Hydro One Remote Communities Inc.","Distribution Expenses - Operation",154241.35999999999]
[2021,"January 1, 2020 - December 31, 2020","Hydro One Remote Communities Inc. Distribution Expenses – Maintenance 2020","Hydro One Remote Communities Inc.","Distribution Expenses – Maintenance",2921293.11]
[2021,"January 1, 2020 - December 31, 2020","Hydro One Remote Communities Inc. Other Expenses 2020","Hydro One Remote Communities Inc.","Other Expenses",0]
[2021,"January 1, 2020 - December 31, 2020","Hydro Ottawa Limited Administrative and General Expenses 2020","Hydro Ottawa Limited","Administrative and General Expenses",36365275,240653.06]
[2021,"January 1, 2020 - December 31, 2020","Hydro Ottawa Limited Billing and Collecting 2020","Hydro Ottawa Limited","Billing and Collecting",12260032.369999999]
[2021,"January 1, 2020 - December 31, 2020","Hydro Ottawa Limited Community Relations 2020","Hydro Ottawa Limited","Community Relations",4109228.65]
[2021,"January 1, 2020 - December 31, 2020","Hydro Ottawa Limited Distribution Expenses - Operation 2020","Hydro Ottawa Limited","Distribution Expenses - Operation",23101725.440000001]
[2021,"January 1, 2020 - December 31, 2020","Hydro Ottawa Limited Distribution Expenses – Maintenance 2020","Hydro Ottawa Limited","Distribution Expenses – Maintenance",8663503.5]
[2021,"January 1, 2020 - December 31, 2020","Hydro Ottawa Limited Other Expenses 2020","Hydro Ottawa Limited","Other Expenses",0]
[2021,"January 1, 2020 - December 31, 2020","Innpower Corporation Administrative and General Expenses 2020","Innpower Corporation","Administrative and General Expenses",3071718.66,12140.59]
[2021,"January 1, 2020 - December 31, 2020","Innpower Corporation Billing and Collecting 2020","Innpower Corporation","Billing and Collecting",1251091.6299999999]
[2021,"January 1, 2020 - December 31, 2020","Innpower Corporation Community Relations 2020","Innpower Corporation","Community Relations",76635.320000000007]
[2021,"January 1, 2020 - December 31, 2020","Innpower Corporation Distribution Expenses - Operation 2020","Innpower Corporation","Distribution Expenses - Operation",1104679.22]
[2021,"January 1, 2020 - December 31, 2020","Innpower Corporation Distribution Expenses – Maintenance 2020","Innpower Corporation","Distribution Expenses – Maintenance",762291.82]
[2021,"January 1, 2020 - December 31, 2020","Innpower Corporation Other Expenses 2020","Innpower Corporation","Other Expenses",0]
[2021,"January 1, 2020 - December 31, 2020","Kingston Hydro Corporation Administrative and General Expenses 2020","Kingston Hydro Corporation","Administrative and General Expenses",2521685.64,17687]
[2021,"January 1, 2020 - December 31, 2020","Kingston Hydro Corporation Billing and Collecting 2020","Kingston Hydro Corporation","Billing and Collecting",945398.95]
[2021,"January 1, 2020 - December 31, 2020","Kingston Hydro Corporation Community Relations 2020","Kingston Hydro Corporation","Community Relations",255528.62]
[2021,"January 1, 2020 - December 31, 2020","Kingston Hydro Corporation Distribution Expenses - Operation 2020","Kingston Hydro Corporation","Distribution Expenses - Operation",2215441.12]
[2021,"January 1, 2020 - December 31, 2020","Kingston Hydro Corporation Distribution Expenses – Maintenance 2020","Kingston Hydro Corporation","Distribution Expenses – Maintenance",1292666.78]
[2021,"January 1, 2020 - December 31, 2020","Kingston Hydro Corporation Other Expenses 2020","Kingston Hydro Corporation","Other Expenses",0]
[2021,"January 1, 2020 - December 31, 2020","Kitchener-Wilmot Hydro Inc. Administrative and General Expenses 2020","Kitchener-Wilmot Hydro Inc.","Administrative and General Expenses",4017726.87,55000]
[2021,"January 1, 2020 - December 31, 2020","Kitchener-Wilmot Hydro Inc. Billing and Collecting 2020","Kitchener-Wilmot Hydro Inc.","Billing and Collecting",5391296.8399999999]
[2021,"January 1, 2020 - December 31, 2020","Kitchener-Wilmot Hydro Inc. Community Relations 2020","Kitchener-Wilmot Hydro Inc.","Community Relations",231197.52]
[2021,"January 1, 2020 - December 31, 2020","Kitchener-Wilmot Hydro Inc. Distribution Expenses - Operation 2020","Kitchener-Wilmot Hydro Inc.","Distribution Expenses - Operation",5567593.21]
[2021,"January 1, 2020 - December 31, 2020","Kitchener-Wilmot Hydro Inc. Distribution Expenses – Maintenance 2020","Kitchener-Wilmot Hydro Inc.","Distribution Expenses – Maintenance",6022915.3200000003]
[2021,"January 1, 2020 - December 31, 2020","Kitchener-Wilmot Hydro Inc. Other Expenses 2020","Kitchener-Wilmot Hydro Inc.","Other Expenses",0]
[2021,"January 1, 2020 - December 31, 2020","Lakefront Utilities Inc. Administrative and General Expenses 2020","Lakefront Utilities Inc.","Administrative and General Expenses",1057724.79,5850]
[2021,"January 1, 2020 - December 31, 2020","Lakefront Utilities Inc. Billing and Collecting 2020","Lakefront Utilities Inc.","Billing and Collecting",554624.82999999996]
[2021,"January 1, 2020 - December 31, 2020","Lakefront Utilities Inc. Community Relations 2020","Lakefront Utilities Inc.","Community Relations",17214.79]
[2021,"January 1, 2020 - December 31, 2020","Lakefront Utilities Inc. Distribution Expenses - Operation 2020","Lakefront Utilities Inc.","Distribution Expenses - Operation",753224.37]
[2021,"January 1, 2020 - December 31, 2020","Lakefront Utilities Inc. Distribution Expenses – Maintenance 2020","Lakefront Utilities Inc.","Distribution Expenses – Maintenance",304062.25]
[2021,"January 1, 2020 - December 31, 2020","Lakefront Utilities Inc. Other Expenses 2020","Lakefront Utilities Inc.","Other Expenses",0]
[2021,"January 1, 2020 - December 31, 2020","Lakeland Power Distribution Ltd. Administrative and General Expenses 2020","Lakeland Power Distribution Ltd.","Administrative and General Expenses",1870031.53,13000]
[2021,"January 1, 2020 - December 31, 2020","Lakeland Power Distribution Ltd. Billing and Collecting 2020","Lakeland Power Distribution Ltd.","Billing and Collecting",1346742.26]
[2021,"January 1, 2020 - December 31, 2020","Lakeland Power Distribution Ltd. Community Relations 2020","Lakeland Power Distribution Ltd.","Community Relations",7183.25]
[2021,"January 1, 2020 - December 31, 2020","Lakeland Power Distribution Ltd. Distribution Expenses - Operation 2020","Lakeland Power Distribution Ltd.","Distribution Expenses - Operation",489384.37]
[2021,"January 1, 2020 - December 31, 2020","Lakeland Power Distribution Ltd. Distribution Expenses – Maintenance 2020","Lakeland Power Distribution Ltd.","Distribution Expenses – Maintenance",1642608.66]
[2021,"January 1, 2020 - December 31, 2020","Lakeland Power Distribution Ltd. Other Expenses 2020","Lakeland Power Distribution Ltd.","Other Expenses",0]
[2021,"January 1, 2020 - December 31, 2020","London Hydro Inc. Administrative and General Expenses 2020","London Hydro Inc.","Administrative and General Expenses",14806185.800000001,200000]
[2021,"January 1, 2020 - December 31, 2020","London Hydro Inc. Billing and Collecting 2020","London Hydro Inc.","Billing and Collecting",5220511.8099999996]
[2021,"January 1, 2020 - December 31, 2020","London Hydro Inc. Community Relations 2020","London Hydro Inc.","Community Relations",122745.54]
[2021,"January 1, 2020 - December 31, 2020","London Hydro Inc. Distribution Expenses - Operation 2020","London Hydro Inc.","Distribution Expenses - Operation",10896300.43]
[2021,"January 1, 2020 - December 31, 2020","London Hydro Inc. Distribution Expenses – Maintenance 2020","London Hydro Inc.","Distribution Expenses – Maintenance",8809130.3900000006]
[2021,"January 1, 2020 - December 31, 2020","London Hydro Inc. Other Expenses 2020","London Hydro Inc.","Other Expenses",0]
[2021,"January 1, 2020 - December 31, 2020","Milton Hydro Distribution Inc. Administrative and General Expenses 2020","Milton Hydro Distribution Inc.","Administrative and General Expenses",4427629,19567]
[2021,"January 1, 2020 - December 31, 2020","Milton Hydro Distribution Inc. Billing and Collecting 2020","Milton Hydro Distribution Inc.","Billing and Collecting",2218766]
[2021,"January 1, 2020 - December 31, 2020","Milton Hydro Distribution Inc. Community Relations 2020","Milton Hydro Distribution Inc.","Community Relations",17500]
[2021,"January 1, 2020 - December 31, 2020","Milton Hydro Distribution Inc. Distribution Expenses - Operation 2020","Milton Hydro Distribution Inc.","Distribution Expenses - Operation",2548732]
[2021,"January 1, 2020 - December 31, 2020","Milton Hydro Distribution Inc. Distribution Expenses – Maintenance 2020","Milton Hydro Distribution Inc.","Distribution Expenses – Maintenance",1332079]
[2021,"January 1, 2020 - December 31, 2020","Milton Hydro Distribution Inc. Other Expenses 2020","Milton Hydro Distribution Inc.","Other Expenses",0]
[2021,"January 1, 2020 - December 31, 2020","Newmarket-Tay Power Distribution Ltd. Administrative and General Expenses 2020","Newmarket-Tay Power Distribution Ltd.","Administrative and General Expenses",5431872.9400000004,24800]
[2021,"January 1, 2020 - December 31, 2020","Newmarket-Tay Power Distribution Ltd. Billing and Collecting 2020","Newmarket-Tay Power Distribution Ltd.","Billing and Collecting",2725592.17]
[2021,"January 1, 2020 - December 31, 2020","Newmarket-Tay Power Distribution Ltd. Community Relations 2020","Newmarket-Tay Power Distribution Ltd.","Community Relations",80334.69]
[2021,"January 1, 2020 - December 31, 2020","Newmarket-Tay Power Distribution Ltd. Distribution Expenses - Operation 2020","Newmarket-Tay Power Distribution Ltd.","Distribution Expenses - Operation",2735049.21]
[2021,"January 1, 2020 - December 31, 2020","Newmarket-Tay Power Distribution Ltd. Distribution Expenses – Maintenance 2020","Newmarket-Tay Power Distribution Ltd.","Distribution Expenses – Maintenance",1335033]
[2021,"January 1, 2020 - December 31, 2020","Newmarket-Tay Power Distribution Ltd. Other Expenses 2020","Newmarket-Tay Power Distribution Ltd.","Other Expenses",0]
[2021,"January 1, 2020 - December 31, 2020","Niagara Peninsula Energy Inc. Administrative and General Expenses 2020","Niagara Peninsula Energy Inc.","Administrative and General Expenses",5031926.45,37166]
[2021,"January 1, 2020 - December 31, 2020","Niagara Peninsula Energy Inc. Billing and Collecting 2020","Niagara Peninsula Energy Inc.","Billing and Collecting",5814474.04]
[2021,"January 1, 2020 - December 31, 2020","Niagara Peninsula Energy Inc. Community Relations 2020","Niagara Peninsula Energy Inc.","Community Relations",72443.360000000001]
[2021,"January 1, 2020 - December 31, 2020","Niagara Peninsula Energy Inc. Distribution Expenses - Operation 2020","Niagara Peninsula Energy Inc.","Distribution Expenses - Operation",4757975.43]
[2021,"January 1, 2020 - December 31, 2020","Niagara Peninsula Energy Inc. Distribution Expenses – Maintenance 2020","Niagara Peninsula Energy Inc.","Distribution Expenses – Maintenance",2968028.91]
[2021,"January 1, 2020 - December 31, 2020","Niagara Peninsula Energy Inc. Other Expenses 2020","Niagara Peninsula Energy Inc.","Other Expenses",0]
[2021,"January 1, 2020 - December 31, 2020","Niagara-on-the-Lake Hydro Inc. Administrative and General Expenses 2020","Niagara-on-the-Lake Hydro Inc.","Administrative and General Expenses",1187374.3899999999,6865.82]
[2021,"January 1, 2020 - December 31, 2020","Niagara-on-the-Lake Hydro Inc. Billing and Collecting 2020","Niagara-on-the-Lake Hydro Inc.","Billing and Collecting",630975.37]
[2021,"January 1, 2020 - December 31, 2020","Niagara-on-the-Lake Hydro Inc. Community Relations 2020","Niagara-on-the-Lake Hydro Inc.","Community Relations",0]
[2021,"January 1, 2020 - December 31, 2020","Niagara-on-the-Lake Hydro Inc. Distribution Expenses - Operation 2020","Niagara-on-the-Lake Hydro Inc.","Distribution Expenses - Operation",717525.47]
[2021,"January 1, 2020 - December 31, 2020","Niagara-on-the-Lake Hydro Inc. Distribution Expenses – Maintenance 2020","Niagara-on-the-Lake Hydro Inc.","Distribution Expenses – Maintenance",409998.49]
[2021,"January 1, 2020 - December 31, 2020","Niagara-on-the-Lake Hydro Inc. Other Expenses 2020","Niagara-on-the-Lake Hydro Inc.","Other Expenses",0]
[2021,"January 1, 2020 - December 31, 2020","North Bay Hydro Distribution Limited Administrative and General Expenses 2020","North Bay Hydro Distribution Limited","Administrative and General Expenses",2829068.6473500002,15560.49]
[2021,"January 1, 2020 - December 31, 2020","North Bay Hydro Distribution Limited Billing and Collecting 2020","North Bay Hydro Distribution Limited","Billing and Collecting",1074958.2308]
[2021,"January 1, 2020 - December 31, 2020","North Bay Hydro Distribution Limited Community Relations 2020","North Bay Hydro Distribution Limited","Community Relations",0]
[2021,"January 1, 2020 - December 31, 2020","North Bay Hydro Distribution Limited Distribution Expenses - Operation 2020","North Bay Hydro Distribution Limited","Distribution Expenses - Operation",788058.16079760005]
[2021,"January 1, 2020 - December 31, 2020","North Bay Hydro Distribution Limited Distribution Expenses – Maintenance 2020","North Bay Hydro Distribution Limited","Distribution Expenses – Maintenance",2079142.33018]
[2021,"January 1, 2020 - December 31, 2020","North Bay Hydro Distribution Limited Other Expenses 2020","North Bay Hydro Distribution Limited","Other Expenses",0]
[2021,"January 1, 2020 - December 31, 2020","Northern Ontario Wires Inc. Administrative and General Expenses 2020","Northern Ontario Wires Inc.","Administrative and General Expenses",576724.5,4093]
[2021,"January 1, 2020 - December 31, 2020","Northern Ontario Wires Inc. Billing and Collecting 2020","Northern Ontario Wires Inc.","Billing and Collecting",688584.87]
[2021,"January 1, 2020 - December 31, 2020","Northern Ontario Wires Inc. Community Relations 2020","Northern Ontario Wires Inc.","Community Relations",0]
[2021,"January 1, 2020 - December 31, 2020","Northern Ontario Wires Inc. Distribution Expenses - Operation 2020","Northern Ontario Wires Inc.","Distribution Expenses - Operation",852225.93]
[2021,"January 1, 2020 - December 31, 2020","Northern Ontario Wires Inc. Distribution Expenses – Maintenance 2020","Northern Ontario Wires Inc.","Distribution Expenses – Maintenance",639441.4]
[2021,"January 1, 2020 - December 31, 2020","Northern Ontario Wires Inc. Other Expenses 2020","Northern Ontario Wires Inc.","Other Expenses",0]
[2021,"January 1, 2020 - December 31, 2020","Oakville Hydro Electricity Distribution Inc. Administrative and General Expenses 2020","Oakville Hydro Electricity Distribution Inc.","Administrative and General Expenses",6004809.79,45350]
[2021,"January 1, 2020 - December 31, 2020","Oakville Hydro Electricity Distribution Inc. Billing and Collecting 2020","Oakville Hydro Electricity Distribution Inc.","Billing and Collecting",3155103.89]
[2021,"January 1, 2020 - December 31, 2020","Oakville Hydro Electricity Distribution Inc. Community Relations 2020","Oakville Hydro Electricity Distribution Inc.","Community Relations",221692.62]
[2021,"January 1, 2020 - December 31, 2020","Oakville Hydro Electricity Distribution Inc. Distribution Expenses - Operation 2020","Oakville Hydro Electricity Distribution Inc.","Distribution Expenses - Operation",7988562.21]
[2021,"January 1, 2020 - December 31, 2020","Oakville Hydro Electricity Distribution Inc. Distribution Expenses – Maintenance 2020","Oakville Hydro Electricity Distribution Inc.","Distribution Expenses – Maintenance",1497731.73]
[2021,"January 1, 2020 - December 31, 2020","Oakville Hydro Electricity Distribution Inc. Other Expenses 2020","Oakville Hydro Electricity Distribution Inc.","Other Expenses",0]
[2021,"January 1, 2020 - December 31, 2020","Orangeville Hydro Limited Administrative and General Expenses 2020","Orangeville Hydro Limited","Administrative and General Expenses",1597245.65,6258.6]
[2021,"January 1, 2020 - December 31, 2020","Orangeville Hydro Limited Billing and Collecting 2020","Orangeville Hydro Limited","Billing and Collecting",774213.93]
[2021,"January 1, 2020 - December 31, 2020","Orangeville Hydro Limited Community Relations 2020","Orangeville Hydro Limited","Community Relations",9004.1200000000008]
[2021,"January 1, 2020 - December 31, 2020","Orangeville Hydro Limited Distribution Expenses - Operation 2020","Orangeville Hydro Limited","Distribution Expenses - Operation",607287.06000000006]
[2021,"January 1, 2020 - December 31, 2020","Orangeville Hydro Limited Distribution Expenses – Maintenance 2020","Orangeville Hydro Limited","Distribution Expenses – Maintenance",200701.3]
[2021,"January 1, 2020 - December 31, 2020","Orangeville Hydro Limited Other Expenses 2020","Orangeville Hydro Limited","Other Expenses",0]
[2021,"January 1, 2020 - December 31, 2020","Orillia Power Distribution Corporation Administrative and General Expenses 2020","Orillia Power Distribution Corporation","Administrative and General Expenses",2404997,9200]
[2021,"January 1, 2020 - December 31, 2020","Orillia Power Distribution Corporation Billing and Collecting 2020","Orillia Power Distribution Corporation","Billing and Collecting",1302290]
[2021,"January 1, 2020 - December 31, 2020","Orillia Power Distribution Corporation Community Relations 2020","Orillia Power Distribution Corporation","Community Relations",12648]
[2021,"January 1, 2020 - December 31, 2020","Orillia Power Distribution Corporation Distribution Expenses - Operation 2020","Orillia Power Distribution Corporation","Distribution Expenses - Operation",1196369]
[2021,"January 1, 2020 - December 31, 2020","Orillia Power Distribution Corporation Distribution Expenses – Maintenance 2020","Orillia Power Distribution Corporation","Distribution Expenses – Maintenance",1299450]
[2021,"January 1, 2020 - December 31, 2020","Orillia Power Distribution Corporation Other Expenses 2020","Orillia Power Distribution Corporation","Other Expenses",0]
[2021,"January 1, 2020 - December 31, 2020","Oshawa PUC Networks Inc. Administrative and General Expenses 2020","Oshawa PUC Networks Inc.","Administrative and General Expenses",7097734.7599999998,49181.23]
[2021,"January 1, 2020 - December 31, 2020","Oshawa PUC Networks Inc. Billing and Collecting 2020","Oshawa PUC Networks Inc.","Billing and Collecting",3666920.7]
[2021,"January 1, 2020 - December 31, 2020","Oshawa PUC Networks Inc. Community Relations 2020","Oshawa PUC Networks Inc.","Community Relations",881411.48]
[2021,"January 1, 2020 - December 31, 2020","Oshawa PUC Networks Inc. Distribution Expenses - Operation 2020","Oshawa PUC Networks Inc.","Distribution Expenses - Operation",1287773.5900000001]
[2021,"January 1, 2020 - December 31, 2020","Oshawa PUC Networks Inc. Distribution Expenses – Maintenance 2020","Oshawa PUC Networks Inc.","Distribution Expenses – Maintenance",936685.37]
[2021,"January 1, 2020 - December 31, 2020","Oshawa PUC Networks Inc. Other Expenses 2020","Oshawa PUC Networks Inc.","Other Expenses",0]
[2021,"January 1, 2020 - December 31, 2020","Ottawa River Power Corporation Administrative and General Expenses 2020","Ottawa River Power Corporation","Administrative and General Expenses",1284533.46,0]
[2021,"January 1, 2020 - December 31, 2020","Ottawa River Power Corporation Billing and Collecting 2020","Ottawa River Power Corporation","Billing and Collecting",837379.93]
[2021,"January 1, 2020 - December 31, 2020","Ottawa River Power Corporation Community Relations 2020","Ottawa River Power Corporation","Community Relations",36662.83]
[2021,"January 1, 2020 - December 31, 2020","Ottawa River Power Corporation Distribution Expenses - Operation 2020","Ottawa River Power Corporation","Distribution Expenses - Operation",785740.61]
[2021,"January 1, 2020 - December 31, 2020","Ottawa River Power Corporation Distribution Expenses – Maintenance 2020","Ottawa River Power Corporation","Distribution Expenses – Maintenance",501235.76]
[2021,"January 1, 2020 - December 31, 2020","Ottawa River Power Corporation Other Expenses 2020","Ottawa River Power Corporation","Other Expenses",0]
[2021,"January 1, 2020 - December 31, 2020","PUC Distribution Inc. Administrative and General Expenses 2020","PUC Distribution Inc.","Administrative and General Expenses",2798171.72,26267]
[2021,"January 1, 2020 - December 31, 2020","PUC Distribution Inc. Billing and Collecting 2020","PUC Distribution Inc.","Billing and Collecting",1333215.69]
[2021,"January 1, 2020 - December 31, 2020","PUC Distribution Inc. Community Relations 2020","PUC Distribution Inc.","Community Relations",574048.89]
[2021,"January 1, 2020 - December 31, 2020","PUC Distribution Inc. Distribution Expenses - Operation 2020","PUC Distribution Inc.","Distribution Expenses - Operation",4061935.31]
[2021,"January 1, 2020 - December 31, 2020","PUC Distribution Inc. Distribution Expenses – Maintenance 2020","PUC Distribution Inc.","Distribution Expenses – Maintenance",2359394.1]
[2021,"January 1, 2020 - December 31, 2020","PUC Distribution Inc. Other Expenses 2020","PUC Distribution Inc.","Other Expenses",0]
[2021,"January 1, 2020 - December 31, 2020","Renfrew Hydro Inc. Administrative and General Expenses 2020","Renfrew Hydro Inc.","Administrative and General Expenses",549769.62,2404.13]
[2021,"January 1, 2020 - December 31, 2020","Renfrew Hydro Inc. Billing and Collecting 2020","Renfrew Hydro Inc.","Billing and Collecting",390258.98]
[2021,"January 1, 2020 - December 31, 2020","Renfrew Hydro Inc. Community Relations 2020","Renfrew Hydro Inc.","Community Relations",11478.02]
[2021,"January 1, 2020 - December 31, 2020","Renfrew Hydro Inc. Distribution Expenses - Operation 2020","Renfrew Hydro Inc.","Distribution Expenses - Operation",330247.43]
[2021,"January 1, 2020 - December 31, 2020","Renfrew Hydro Inc. Distribution Expenses – Maintenance 2020","Renfrew Hydro Inc.","Distribution Expenses – Maintenance",122801.71]
[2021,"January 1, 2020 - December 31, 2020","Renfrew Hydro Inc. Other Expenses 2020","Renfrew Hydro Inc.","Other Expenses",0]
[2021,"January 1, 2020 - December 31, 2020","Rideau St. Lawrence Distribution Inc. Administrative and General Expenses 2020","Rideau St. Lawrence Distribution Inc.","Administrative and General Expenses",930958.01,5250]
[2021,"January 1, 2020 - December 31, 2020","Rideau St. Lawrence Distribution Inc. Billing and Collecting 2020","Rideau St. Lawrence Distribution Inc.","Billing and Collecting",541821.30000000005]
[2021,"January 1, 2020 - December 31, 2020","Rideau St. Lawrence Distribution Inc. Community Relations 2020","Rideau St. Lawrence Distribution Inc.","Community Relations",29165.79]
[2021,"January 1, 2020 - December 31, 2020","Rideau St. Lawrence Distribution Inc. Distribution Expenses - Operation 2020","Rideau St. Lawrence Distribution Inc.","Distribution Expenses - Operation",351313.45]
[2021,"January 1, 2020 - December 31, 2020","Rideau St. Lawrence Distribution Inc. Distribution Expenses – Maintenance 2020","Rideau St. Lawrence Distribution Inc.","Distribution Expenses – Maintenance",390659.28]
[2021,"January 1, 2020 - December 31, 2020","Rideau St. Lawrence Distribution Inc. Other Expenses 2020","Rideau St. Lawrence Distribution Inc.","Other Expenses",0]
[2021,"January 1, 2020 - December 31, 2020","Sioux Lookout Hydro Inc. Administrative and General Expenses 2020","Sioux Lookout Hydro Inc.","Administrative and General Expenses",441551.51,2610]
[2021,"January 1, 2020 - December 31, 2020","Sioux Lookout Hydro Inc. Billing and Collecting 2020","Sioux Lookout Hydro Inc.","Billing and Collecting",312279.01]
[2021,"January 1, 2020 - December 31, 2020","Sioux Lookout Hydro Inc. Community Relations 2020","Sioux Lookout Hydro Inc.","Community Relations",0]
[2021,"January 1, 2020 - December 31, 2020","Sioux Lookout Hydro Inc. Distribution Expenses - Operation 2020","Sioux Lookout Hydro Inc.","Distribution Expenses - Operation",604431.63]
[2021,"January 1, 2020 - December 31, 2020","Sioux Lookout Hydro Inc. Distribution Expenses – Maintenance 2020","Sioux Lookout Hydro Inc.","Distribution Expenses – Maintenance",125663.8]
[2021,"January 1, 2020 - December 31, 2020","Sioux Lookout Hydro Inc. Other Expenses 2020","Sioux Lookout Hydro Inc.","Other Expenses",0]
[2021,"January 1, 2020 - December 31, 2020","Synergy North Corporation Administrative and General Expenses 2020","Synergy North Corporation","Administrative and General Expenses",5543331.5099999998,27324]
[2021,"January 1, 2020 - December 31, 2020","Synergy North Corporation Billing and Collecting 2020","Synergy North Corporation","Billing and Collecting",2508858.7599999998]
[2021,"January 1, 2020 - December 31, 2020","Synergy North Corporation Community Relations 2020","Synergy North Corporation","Community Relations",20092.79]
[2021,"January 1, 2020 - December 31, 2020","Synergy North Corporation Distribution Expenses - Operation 2020","Synergy North Corporation","Distribution Expenses - Operation",2751834.69]
[2021,"January 1, 2020 - December 31, 2020","Synergy North Corporation Distribution Expenses – Maintenance 2020","Synergy North Corporation","Distribution Expenses – Maintenance",5567844.9800000004]
[2021,"January 1, 2020 - December 31, 2020","Synergy North Corporation Other Expenses 2020","Synergy North Corporation","Other Expenses",0]
[2021,"January 1, 2020 - December 31, 2020","Tillsonburg Hydro Inc. Administrative and General Expenses 2020","Tillsonburg Hydro Inc.","Administrative and General Expenses",1257013.6100000001,4278.6000000000004]
[2021,"January 1, 2020 - December 31, 2020","Tillsonburg Hydro Inc. Billing and Collecting 2020","Tillsonburg Hydro Inc.","Billing and Collecting",720741.29]
[2021,"January 1, 2020 - December 31, 2020","Tillsonburg Hydro Inc. Community Relations 2020","Tillsonburg Hydro Inc.","Community Relations",0]
[2021,"January 1, 2020 - December 31, 2020","Tillsonburg Hydro Inc. Distribution Expenses - Operation 2020","Tillsonburg Hydro Inc.","Distribution Expenses - Operation",600164.87]
[2021,"January 1, 2020 - December 31, 2020","Tillsonburg Hydro Inc. Distribution Expenses – Maintenance 2020","Tillsonburg Hydro Inc.","Distribution Expenses – Maintenance",258503.46]
[2021,"January 1, 2020 - December 31, 2020","Tillsonburg Hydro Inc. Other Expenses 2020","Tillsonburg Hydro Inc.","Other Expenses",0]
[2021,"January 1, 2020 - December 31, 2020","Toronto Hydro-Electric System Limited Administrative and General Expenses 2020","Toronto Hydro-Electric System Limited","Administrative and General Expenses",108012558.08,957609]
[2021,"January 1, 2020 - December 31, 2020","Toronto Hydro-Electric System Limited Billing and Collecting 2020","Toronto Hydro-Electric System Limited","Billing and Collecting",54825957.600000001]
[2021,"January 1, 2020 - December 31, 2020","Toronto Hydro-Electric System Limited Community Relations 2020","Toronto Hydro-Electric System Limited","Community Relations",2234663.04]
[2021,"January 1, 2020 - December 31, 2020","Toronto Hydro-Electric System Limited Distribution Expenses - Operation 2020","Toronto Hydro-Electric System Limited","Distribution Expenses - Operation",46631598.799999997]
[2021,"January 1, 2020 - December 31, 2020","Toronto Hydro-Electric System Limited Distribution Expenses – Maintenance 2020","Toronto Hydro-Electric System Limited","Distribution Expenses – Maintenance",70472552.140000001]
[2021,"January 1, 2020 - December 31, 2020","Toronto Hydro-Electric System Limited Other Expenses 2020","Toronto Hydro-Electric System Limited","Other Expenses",0]
[2021,"January 1, 2020 - December 31, 2020","Wasaga Distribution Inc. Administrative and General Expenses 2020","Wasaga Distribution Inc.","Administrative and General Expenses",1790447.06,5499.85]
[2021,"January 1, 2020 - December 31, 2020","Wasaga Distribution Inc. Billing and Collecting 2020","Wasaga Distribution Inc.","Billing and Collecting",922939.15]
[2021,"January 1, 2020 - December 31, 2020","Wasaga Distribution Inc. Community Relations 2020","Wasaga Distribution Inc.","Community Relations",17399.310000000001]
[2021,"January 1, 2020 - December 31, 2020","Wasaga Distribution Inc. Distribution Expenses - Operation 2020","Wasaga Distribution Inc.","Distribution Expenses - Operation",50770.33]
[2021,"January 1, 2020 - December 31, 2020","Wasaga Distribution Inc. Distribution Expenses – Maintenance 2020","Wasaga Distribution Inc.","Distribution Expenses – Maintenance",715452.05]
[2021,"January 1, 2020 - December 31, 2020","Wasaga Distribution Inc. Other Expenses 2020","Wasaga Distribution Inc.","Other Expenses",0]
[2021,"January 1, 2020 - December 31, 2020","Waterloo North Hydro Inc. Administrative and General Expenses 2020","Waterloo North Hydro Inc.","Administrative and General Expenses",3572659,42000]
[2021,"January 1, 2020 - December 31, 2020","Waterloo North Hydro Inc. Billing and Collecting 2020","Waterloo North Hydro Inc.","Billing and Collecting",2826255]
[2021,"January 1, 2020 - December 31, 2020","Waterloo North Hydro Inc. Community Relations 2020","Waterloo North Hydro Inc.","Community Relations",241571]
[2021,"January 1, 2020 - December 31, 2020","Waterloo North Hydro Inc. Distribution Expenses - Operation 2020","Waterloo North Hydro Inc.","Distribution Expenses - Operation",5723340]
[2021,"January 1, 2020 - December 31, 2020","Waterloo North Hydro Inc. Distribution Expenses – Maintenance 2020","Waterloo North Hydro Inc.","Distribution Expenses – Maintenance",1649363]
[2021,"January 1, 2020 - December 31, 2020","Waterloo North Hydro Inc. Other Expenses 2020","Waterloo North Hydro Inc.","Other Expenses",0]
[2021,"January 1, 2020 - December 31, 2020","Welland Hydro-Electric System Corp. Administrative and General Expenses 2020","Welland Hydro-Electric System Corp.","Administrative and General Expenses",1710165.87,29311]
[2021,"January 1, 2020 - December 31, 2020","Welland Hydro-Electric System Corp. Billing and Collecting 2020","Welland Hydro-Electric System Corp.","Billing and Collecting",1500138.64]
[2021,"January 1, 2020 - December 31, 2020","Welland Hydro-Electric System Corp. Community Relations 2020","Welland Hydro-Electric System Corp.","Community Relations",60039.09]
[2021,"January 1, 2020 - December 31, 2020","Welland Hydro-Electric System Corp. Distribution Expenses - Operation 2020","Welland Hydro-Electric System Corp.","Distribution Expenses - Operation",1529536.94]
[2021,"January 1, 2020 - December 31, 2020","Welland Hydro-Electric System Corp. Distribution Expenses – Maintenance 2020","Welland Hydro-Electric System Corp.","Distribution Expenses – Maintenance",1990641.97]
[2021,"January 1, 2020 - December 31, 2020","Welland Hydro-Electric System Corp. Other Expenses 2020","Welland Hydro-Electric System Corp.","Other Expenses",0]
[2021,"January 1, 2020 - December 31, 2020","Wellington North Power Inc. Administrative and General Expenses 2020","Wellington North Power Inc.","Administrative and General Expenses",828774.15,3302.9]
[2021,"January 1, 2020 - December 31, 2020","Wellington North Power Inc. Billing and Collecting 2020","Wellington North Power Inc.","Billing and Collecting",408889.25]
[2021,"January 1, 2020 - December 31, 2020","Wellington North Power Inc. Community Relations 2020","Wellington North Power Inc.","Community Relations",5846.78]
[2021,"January 1, 2020 - December 31, 2020","Wellington North Power Inc. Distribution Expenses - Operation 2020","Wellington North Power Inc.","Distribution Expenses - Operation",400585.39]
[2021,"January 1, 2020 - December 31, 2020","Wellington North Power Inc. Distribution Expenses – Maintenance 2020","Wellington North Power Inc.","Distribution Expenses – Maintenance",223163.17]
[2021,"January 1, 2020 - December 31, 2020","Wellington North Power Inc. Other Expenses 2020","Wellington North Power Inc.","Other Expenses",0]
[2021,"January 1, 2020 - December 31, 2020","Westario Power Inc. Administrative and General Expenses 2020","Westario Power Inc.","Administrative and General Expenses",3065241.08,13357.41]
[2021,"January 1, 2020 - December 31, 2020","Westario Power Inc. Billing and Collecting 2020","Westario Power Inc.","Billing and Collecting",672592.11]
[2021,"January 1, 2020 - December 31, 2020","Westario Power Inc. Community Relations 2020","Westario Power Inc.","Community Relations",14103.82]
[2021,"January 1, 2020 - December 31, 2020","Westario Power Inc. Distribution Expenses - Operation 2020","Westario Power Inc.","Distribution Expenses - Operation",758568.2]
[2021,"January 1, 2020 - December 31, 2020","Westario Power Inc. Distribution Expenses – Maintenance 2020","Westario Power Inc.","Distribution Expenses – Maintenance",1496436]
[2021,"January 1, 2020 - December 31, 2020","Westario Power Inc. Other Expenses 2020","Westario Power Inc.","Other Expenses",0]

{"sheet":"App.2-JB_OM&A_Cost _Drivers","index":40,"n_rows":83,"n_cols":11,"rows_kept":83,"cut":false,"hidden":false,"merged":[[9,0,9,9],[10,0,10,9],[80,1,80,10],[81,1,81,10],[82,1,86,10]]}
[null,null,null,null,null,null,null,null,null,"File Number:",{"$f":"EBNUMBER","v":"EB-2021-0052"}]
[null,null,null,null,null,null,null,null,null,"Exhibit:"]
[null,null,null,null,null,null,null,null,null,"Tab:"]
[null,null,null,null,null,null,null,null,null,"Schedule:"]
[null,null,null,null,null,null,null,null,null,"Page:"]
[]
[null,null,null,null,null,null,null,null,null,"Date:"]
[]
[]
["Appendix 2-JB"]
[{"$f":"\"Recoverable OM&A Cost Driver Table\" & CHAR(185)&CHAR(183)&CHAR(179)","v":"Recoverable OM&A Cost Driver Table¹·³"}]
[]
["OM&A",{"$f":"\"Last Rebasing Year (\"&RebaseYear&\" Actuals)\"","v":"Last Rebasing Year (2016 Actuals)"},{"$f":"BridgeYear -7 & \" Actuals\"","v":"2014 Actuals"},{"$f":"BridgeYear -6 & \" Actuals\"","v":"2015 Actuals"},{"$f":"BridgeYear -5 & \" Actuals\"","v":"2016 Actuals"},{"$f":"BridgeYear -4 & \" Actuals\"","v":"2017 Actuals"},{"$f":"BridgeYear -3 & \" Actuals\"","v":"2018 Actuals"},{"$f":"BridgeYear -2 & \" Actuals\"","v":"2019 Actuals"},{"$f":"BridgeYear -1 & \" Actuals\"","v":"2020 Actuals"},{"$f":"BridgeYear & \" Bridge Year\"","v":"2021 Bridge Year"},{"$f":"TestYear & \" Test Year\"","v":"2022 Test Year"}]
["Reporting Basis"]
["Opening Balance²",2933810,{"$f":"IF(BridgeYear-7<=RebaseYear,0,B77)","v":0},{"$f":"IF(BridgeYear-6<=RebaseYear,0,IF((BridgeYear-6)=(RebaseYear+1),$B$77,C77))","v":0},{"$f":"IF(BridgeYear-5<=RebaseYear,0,IF((BridgeYear-5)=(RebaseYear+1),$B$77,D77))","v":0},{"$f":"IF(BridgeYear-4<=RebaseYear,0,IF((BridgeYear-4)=(RebaseYear+1),$B$77,E77))","v":2933810},{"$f":"IF(BridgeYear-3<=RebaseYear,0,IF((BridgeYear-3)=(RebaseYear+1),$B$77,F77))","v":3263088.0999999987},{"$f":"IF(BridgeYear-2<=RebaseYear,0,IF((BridgeYear-2)=(RebaseYear+1),$B$77,G77))","v":2801429.9799999981},{"$f":"IF(BridgeYear-1<=RebaseYear,0,IF((BridgeYear-1)=(RebaseYear+1),$B$77,H77))","v":3207075.469999996},{"$f":"I77","v":3358491.4699999951},{"$f":"J77","v":3529137.3746499955}]
["5005-Operation Supervision and Engineering\n",null,null,null,null,33065.11,-17834.14,-12277.520000000004,-12238.399999999994,66575.390000000014,100596.82999999999]
["5010-Load Dispatching\n",null,null,null,null,7078.1799999999994,434.31999999999971,-9005.39,100.9399999999996,435.26000000000022,-2622.4399999999996]
["5012-Station Buildings and Fixtures Expense\n",null,null,null,null,-36006.489999999991,-16324.479999999996,-45485.149999999994,14414.339999999997,23538.880000000005,4661.7799999999988]
["5016-Distribution Station Equipment - Operation Labour\n",null,null,null,null,0,22.11,91.66,12660.92,8171.6999999999989,554.22000000000116]
["5017-Distribution Station Equipment - Operation Supplies and Expenses\n",null,null,null,null,9270,0,-1186.6800000000003,59.130000000001019,737.54999999999927,600]
["5020-Overhead Distribution Lines and Feeders - Operation Labour\n",null,null,null,null,0,3295,-1804.75,34694.99,-19433.509999999998,443.34000000000015]
["5025-Overhead Distribution Lines and Feeders - Operation Supplies and Expenses\n",null,null,null,null,4348.4500000000007,-3752.86,-1190.0100000000002,-993.31,3500,0]
["5030-Overhead Subtransmission Feeders - Operation\n",null,null,null,null,0,584.97,-584.97,0,18079.13,478.46999999999753]
["5035-Overhead Distribution Transformers- Operation\n",null,null,null,null,0,0,105.2,6015.5,2663.0000000000009,232.38999999999942]
["5040-Underground Distribution Lines and Feeders - Operation Labour\n",null,null,null,null,0,0,0,6529.44,-6529.44,0]
["5055-Underground Distribution Transformers - Operation\n",null,null,null,null,0,0,49.85,818.3,7915.5500000000011,-227.06000000000131]
["5065-Meter Expense\n",null,null,null,null,-68512.950000000012,2735.0500000000029,30462.729999999996,-61338.409999999989,-15064.62,1541.41]
["5070-Customer Premises - Operation Labour\n",null,null,null,null,-347.55999999999767,-12964.589999999997,18561.14,18846.009999999995,-84588.88,772.41999999999825]
["5075-Customer Premises - Materials and Expenses\n",null,null,null,null,-1291.1400000000001,0,484.79,2313.8000000000002,5981.41,590]
["5085-Miscellaneous Distribution Expense\n",null,null,null,null,-12819.720000000001,-37456.310000000005,49754.27,207765.76000000001,16741.460000000021,-22420.630000000005]
["5095-Overhead Distribution Lines and Feeders - Rental Paid\n",null,null,null,null,0,0,0,37264.31,558.96464999999444,567.34535000001051]
["5096-Other Rent\n",null,null,null,null,0,0,1100,5500,300,0]
[]
["5105-Maintenance Supervision and Engineering\n",null,null,null,null,688.77,200,199.61999999999989,46118.13,15683.620000000003,1704.8799999999974]
["5110-Maintenance of Buildings and Fixtures - Distribution Stations\n",null,null,null,null,39419.730000000003,-41891,-17605.41,6797.02,51764.349999999991,1617.0200000000041]
["5114-Maintenance of Distribution Station Equipment\n",null,null,null,null,-22040.699999999997,41333.399999999994,-35301.899999999994,-71339.51999999999,43249.13,2026.6999999999971]
["5120-Maintenance of Poles, Towers and Fixtures\n",null,null,null,null,-6849.0600000000013,-20697.02,-1733.6599999999999,1406.25,10946.61,443.34000000000015]
["5125-Maintenance of Overhead Conductors and Devices\n",null,null,null,null,-4070.3299999999872,-246073.74000000002,198579.77000000002,-62080.130000000005,-29033.060000000005,1084.0099999999948]
["5130-Maintenance of Overhead Services\n",null,null,null,null,31807.599999999999,10383.479999999996,-7451.3800000000047,-24677.649999999994,-3709.3499999999985,1189.3899999999994]
["5135-Overhead Distribution Lines and Feeders - Right of Way\n",null,null,null,null,49458.210000000021,23107.76999999999,49145.489999999991,-116757.87999999999,51909.020000000004,3769.6900000000023]
["5145-Maintenance of Underground Conduit\n",null,null,null,null,0,0,0,1367.94,7504.42,203]
["5150-Maintenance of Underground Conductors and Devices\n",null,null,null,null,-6601.0599999999995,-3656.5300000000007,2454.7700000000004,-264.43000000000029,786.15999999999985,283.14999999999964]
["5155-Maintenance of Underground Services\n",null,null,null,null,-436.63000000000102,5017.59,3579.0499999999993,-11856.66,6113.77,443.34000000000015]
["5160-Maintenance of Line Transformers\n",null,null,null,null,-2164.7399999999907,38539.56,-46300.93,82320.179999999993,-101957.94,584.80999999999767]
["5175-Maintenance of Meters\n",null,null,null,null,0,1827.6,-381.74,4635.3,8482.99,422.13000000000102]
[]
["5305-Supervision\n",null,null,null,null,0,0,0,0,59554.17,1574.4199999999983]
["5310-Meter Reading Expense\n",null,null,null,null,7848.8600000000006,6148.4700000000012,1377.0299999999988,2254.5999999999985,3019.6300000000047,3143.8399999999965]
["5315-Customer Billing\n",null,null,null,null,31272.059999999998,-12146.960000000021,14029.330000000016,147868.05999999988,20803.430000000168,2170.8199999999488]
["5320-Collecting\n",null,null,null,null,-35109.489999999991,9196.039999999979,5122.6700000000128,-17443.070000000036,-18999.559999999969,3148.7799999999988]
["5325-Collecting- Cash Over and Short\n",null,null,null,null,0,0,-10.1,-1110.98,1121.08,0]
["5330-Collection Charges\n",null,null,null,null,0,0,-10775,4595,6180,0]
["5335-Bad Debt Expense\n",null,null,null,null,52984.410000000018,-139223.51,70766.19,-47291.750000000007,42140.87,1500]
["5340-Miscellaneous Customer Accounts Expenses\n",null,null,null,null,0,0,-326.79000000000002,283.88,122.91,0]
[]
["5405-Supervision\n",null,null,null,null,0,0,0,430.7,-430.7,0]
["5410-Community Relations - Sundry\n",null,null,null,null,12223.670000000002,2082.84,-4023.47,127.93,-15485.98,327.10999999999876]
["5420-Community Safety Program\n",null,null,null,null,11264.809999999998,-9928.5999999999985,-3408.2400000000052,-34367.75,26940.399999999998,629.77000000000044]
["5515-Advertising Expense\n",null,null,null,null,249.5,10,-259.5,0,0,0]
[]
["5605-Executive Salaries and Expenses\n",null,null,null,null,2362.2700000000041,1479.8399999999965,1229.4199999999983,-8439.0999999999913,4966.3399999999965,1117.5899999999965]
["5610-Management Salaries and Expenses\n",null,null,null,null,-16451.950000000012,73017.22,40689.709999999992,54178.229999999981,76596.44,203.76000000000931]
["5615-General Administrative Salaries and Expenses\n",null,null,null,null,155891.53000000003,-129793.14000000001,-3248.5400000000081,-159820.99,-54037.8,842.25999999999476]
["5620-Office Supplies and Expenses\n",null,null,null,null,8197.9199999999983,-10810.739999999991,9425.8999999999942,-7130.2100000000064,2499.4600000000064,0]
["5630-Outside Services Employed\n",null,null,null,null,32726.130000000005,-229.70000000001164,-51088.2,-3037.2700000000004,15048.79,60]
["5635-Property Insurance\n",null,null,null,null,13865.9,-1427.8899999999994,-2782.49,3084.2199999999993,10.260000000000218,250]
["5645-Employee Pensions and Benefits\n",null,null,null,null,0,29564.83,-6801.2300000000032,144021.89999999988,3335.7099999999919,3402.4242000000086]
["5655-Regulatory Expenses\n",null,null,null,null,10436.940000000002,1248.070000000007,42727.319999999992,-13404.089999999997,-42098.05,65332.36]
["5665-Miscellaneous General Expenses\n",null,null,null,null,11884.36,-1109.1699999999983,2333.0099999999948,-1799.5899999999965,141.38999999999942,2500]
["5670-Rent\n",null,null,null,null,1800,0,0,-669.23999999999978,-2330.7600000000002,0]
["5675-Maintenance of General Plant\n",null,null,null,null,13715.580000000002,-6842.8699999999953,126782.63,-39723.869999999995,-63357.690000000017,4630.2599999999948]
["5680-Electrical Safety Authority Fees\n",null,null,null,null,-1480.0699999999997,275.96999999999935,-371.96999999999935,1207.4799999999996,-612,300]
["6205-Donations\n",null,null,null,null,1600,1,-5201,0,0,0]
["6205-Sub-account LEAP Funding\n",null,null,null,null,0,0,5199.96,-479.96000000000004,14196,-11416]
[]
[]
[{"$f":"\"Closing Balance\"&CHAR(178)","v":"Closing Balance²"},{"$f":"SUM(B15:B76)","v":2933810},0,0,0,3263088.0999999987,2801429.9799999981,3207075.469999996,3358491.4699999951,3529137.3746499955,{"$f":"SUM(K15:K76)","v":3708394.3041999941}]
[]
["Notes:"]
[]
[1,"For each year, a detailed explanation for each cost driver and associated amount is requied in Exhibit 4."]
[2,"Opening Balance for \"Last Rebasing Year\" (cell B15) should be equal to the OEB-Approved amount. For purposes of assessing incremental cost drivers, the closing balance for each year becomes the opening balance for the next year."]
[3,"If it has been more than four years since the applicant last filed a cost of service application, additional years of historical actuals should be incorporated into the table, as necessary, to go back to the last cost of service application.  If the applicant last filed a cost of service application less than four years ago, a minimum of three years of actual information is required."]

{"sheet":"App.2-JC_OMA Programs","index":41,"n_rows":121,"n_cols":11,"rows_kept":121,"cut":false,"hidden":false,"merged":[[8,0,8,8],[9,0,9,8],[11,0,11,8]]}
[null,null,null,null,null,null,null,null,"File Number:",{"$f":"EBNUMBER","v":"EB-2021-0052"}]
[null,null,null,null,null,null,null,null,"Exhibit:"]
[null,null,null,null,null,null,null,null,"Tab:"]
[null,null,null,null,null,null,null,null,"Schedule:"]
[null,null,null,null,null,null,null,null,"Page:"]
[]
[null,null,null,null,null,null,null,null,"Date:"]
[]
["Appendix 2-JC"]
["OM&A Programs Table"]
[]
[]
["Programs",{"$f":"\"Last Rebasing Year (\" & RebaseYear & \" OEB-Approved)\"","v":"Last Rebasing Year (2016 OEB-Approved)"},{"$f":"\"Last Rebasing Year (\" & RebaseYear & \" Actuals)\"","v":"Last Rebasing Year (2016 Actuals)"},{"$f":"BridgeYear-4&\" Actuals\"","v":"2017 Actuals"},{"$f":"BridgeYear-3&\" Actuals\"","v":"2018 Actuals"},{"$f":"BridgeYear -2 & \" Actuals\"","v":"2019 Actuals"},{"$f":"BridgeYear -1 & \" Actuals\"","v":"2020 Actuals"},{"$f":"BridgeYear & \" Bridge Year\"","v":"2021 Bridge Year"},{"$f":"TestYear & \" Test Year\"","v":"2022 Test Year"},{"$f":"\"Variance \n(Test Year vs. \" & G13 &\")\"","v":"Variance \n(Test Year vs. 2020 Actuals)"},{"$f":"\"Variance \n(Test Year vs. \" & B13","v":"Variance \n(Test Year vs. Last Rebasing Year (2016 OEB-Approved)"}]
["Reporting Basis"]
["Operations "]
["5005-Operation Supervision and Engineering\n",91457.64507221774,93912.27,126977.38,109143.24,96865.72,84627.32,151202.71000000002,251799.54,{"$f":"I16-G16","v":167172.22},{"$f":"I16-B16","v":160341.89492778227}]
["5010-Load Dispatching\n",20986.287909170602,6910.39,13988.57,14422.89,5417.5,5518.44,5953.7,3331.26,{"$f":"I17-G17","v":-2187.1799999999994},{"$f":"I17-B17","v":-17655.027909170603}]
["5012-Station Buildings and Fixtures Expense\n",142706.75778236025,163817.10999999999,127810.62,111486.14,66000.990000000005,80415.33,103954.21,108615.99,28200.660000000003,-34090.767782360243]
["5014-Transformer Station Equipment - Operation Labour\n",0,0,0,0,0,0,0,0,0,0]
["5015-Transformer Station Equipment - Operation Supplies and Expenses\n",0,0,0,0,0,0,0,0,0,0]
["5016-Distribution Station Equipment - Operation Labour\n",0,0,0,22.11,113.77,12774.69,20946.39,21500.61,8725.92,21500.61]
["5017-Distribution Station Equipment - Operation Supplies and Expenses\n",0,120,9390,9390,8203.32,8262.4500000000007,9000,9600,1337.5499999999993,9600]
["5020-Overhead Distribution Lines and Feeders - Operation Labour\n",0,0,0,3295,1490.25,36185.24,16751.73,17195.07,-18990.169999999998,17195.07]
["5025-Overhead Distribution Lines and Feeders - Operation Supplies and Expenses\n",3357.8060654673,1587.73,5936.18,2183.3200000000002,993.31,0,3500,3500,3500,142.19393453270004]
["5030-Overhead Subtransmission Feeders - Operation\n",0,0,0,584.97,0,0,18079.13,18557.599999999999,18557.599999999999,18557.599999999999]
["5035-Overhead Distribution Transformers- Operation\n",0,0,0,0,105.2,6120.7,8783.7000000000007,9016.09,2895.3900000000003,9016.09]
["5040-Underground Distribution Lines and Feeders - Operation Labour\n",0,0,0,0,0,6529.44,0,0,-6529.44,0]
["5045-Underground Distribution Lines and Feeders - Operation Supplies and Expenses\n",0,0,0,0,0,0,0,0,0,0]
["5050-Underground Subtransmission Feeders - Operation\n",0,0,0,0,0,0,0,0,0,0]
["5055-Underground Distribution Transformers - Operation\n",0,0,0,0,49.85,868.15,8783.7000000000007,8556.64,7688.49,8556.64]
["5060-Street Lighting and Signal System Expense\n",0,0,0,0,0,0,0,0,0,0]
["5065-Meter Expense\n",92339.666800350737,179238.7,110725.75,113460.8,143923.53,82585.12000000001,67520.5,69061.91,-13523.210000000006,-23277.756800350733]
["5070-Customer Premises - Operation Labour\n",100734.18196401899,89677.28,89329.72,76365.13,94926.27,113772.28,29183.4,29955.82,-83816.459999999992,-70778.361964018986]
["5075-Customer Premises - Materials and Expenses\n",10073.418196401899,1291.1400000000001,0,0,484.79,2798.59,8780,9370,6571.41,-703.41819640189897]
["5085-Miscellaneous Distribution Expense\n",67590.339471833926,94174.55,81354.83,43898.52,93652.79,301418.55,318160.01,295739.38,-5679.1699999999837,228149.04052816608]
["5090-Underground Distribution Lines and Feeders - Rental Paid\n",0,0,0,0,0,0,0,0,0,0]
["5095-Overhead Distribution Lines and Feeders - Rental Paid\n",0,0,0,0,0,37264.31,37823.274649999992,38390.620000000003,1126.3100000000049,38390.620000000003]
["5096-Other Rent\n",0,0,0,0,1100,6600,6900,6900,300,6900]
["Total - Operations ",{"$f":"SUM(B16:B38)","v":529246.10326182144},{"$f":"SUM(C16:C38)","v":630729.17000000004},565513.04999999993,484252.12000000005,513327.29000000004,785740.6100000001,815322.4546500002,901090.53,{"$f":"SUM(J16:J38)","v":115349.92000000004},{"$f":"SUM(K16:K38)","v":371844.42673817859}]
["Maintenance "]
["5105-Maintenance Supervision and Engineering\n",8394.5151636682494,1511.23,2200,2400,2599.62,48717.75,64401.37,66106.25,{"$f":"I41-G41","v":17388.5},{"$f":"I41-B41","v":57711.734836331751}]
["5110-Maintenance of Buildings and Fixtures - Distribution Stations\n",77229.190941904293,28643.040000000001,68062.77,26171.77,8566.36,15363.380000000001,67127.73,68744.75,{"$f":"I42-G42","v":53381.369999999995},{"$f":"I42-B42","v":-8484.4409419042931}]
["5112-Maintenance of Transformer Station Equipment\n",0,0,0,0,0,0,0,0,0,0]
["5114-Maintenance of Distribution Station Equipment\n",0,120690.51,98649.81,139983.21,104681.31,33341.79,76590.92,78617.62,45275.829999999994,78617.62]
["5120-Maintenance of Poles, Towers and Fixtures\n",43651.478851074899,33928.61,27079.55,6382.53,4648.87,6055.12,17001.73,17445.07,11389.95,-26206.408851074899]
["5125-Maintenance of Overhead Conductors and Devices\n",205665.62150987211,186640.97,182570.64,-63503.1,135076.67000000001,72996.540000000008,43963.48,45047.49,-27949.05000000001,-160618.13150987212]
["5130-Maintenance of Overhead Services\n",77703.829612495145,40092.980000000003,71900.58,82284.06,74832.679999999993,50155.03,46445.68,47635.07,-2519.9599999999991,-30068.759612495145]
["5135-Overhead Distribution Lines and Feeders - Right of Way\n",168358.29749373949,95593.68,145051.89000000001,168159.66,217305.15,100547.27,152456.29,156225.98000000001,55678.710000000006,-12132.31749373948]
["5145-Maintenance of Underground Conduit\n",0,0,0,0,0,1367.94,8872.36,9075.36,7707.42,9075.36]
["5150-Maintenance of Underground Conductors and Devices\n",20986.287909170624,19179.91,12578.85,8922.32,11377.09,11112.66,11898.82,12181.97,1069.3099999999995,-8804.3179091706243]
["5155-Maintenance of Underground Services\n",20986.287909170624,15134.61,14697.98,19715.57,23294.62,11437.96,17551.73,17995.07,6557.1100000000006,-2991.2179091706239]
["5160-Maintenance of Line Transformers\n",50367.090982009497,71665.09,69500.350000000006,108039.91,61738.98,144059.16,42101.22,42686.03,-101373.13,-7681.0609820094978]
["5165-Maintenance of Street Lighting and Signal Systems\n",0,0,0,0,0,0,0,0,0,0]
["5170-Sentinel Lights - Labour\n",0,0,0,0,0,0,0,0,0,0]
["5172-Sentinel Lights - Materials and Expenses\n",0,0,0,0,0,0,0,0,0,0]
["5175-Maintenance of Meters\n",0,0,0,1827.6,1445.86,6081.16,14564.15,14986.28,8905.1200000000008,14986.28]
["5178-Customer Installations Expenses- Leased Property\n",0,0,0,0,0,0,0,0,0,0]
["5185-Water Heater Rentals - Labour\n",0,0,0,0,0,0,0,0,0,0]
["5186-Water Heater Rentals - Materials and Expenses\n",0,0,0,0,0,0,0,0,0,0]
["5190-Water Heater Controls - Labour\n",0,0,0,0,0,0,0,0,0,0]
["5192-Water Heater Controls - Materials and Expenses\n",0,0,0,0,0,0,0,0,0,0]
["5195-Maintenance of Other Installations on Customer Premises\n",0,0,0,0,0,0,0,0,{"$f":"I62-G62","v":0},{"$f":"I62-B62","v":0}]
["Total - Maintenance ",{"$f":"SUM(B41:B62)","v":673342.60037310503},{"$f":"SUM(C41:C62)","v":613080.62999999989},692292.41999999993,500383.53,645567.21,501235.75999999995,562975.4800000001,576746.93999999994,75511.179999999993,-96595.66037310494]
["Billing and Collecting "]
["5305-Supervision\n",0,0,0,0,0,0,59554.17,61128.59,{"$f":"I65-G65","v":61128.59},{"$f":"I65-B65","v":61128.59}]
["5310-Meter Reading Expense\n",50000,37383.919999999998,45232.78,51381.25,52758.28,55012.88,58032.51,61176.35,{"$f":"I66-G66","v":6163.4700000000012},{"$f":"I66-B66","v":11176.349999999999}]
["5315-Customer Billing\n",410000,407931.89,439203.95,427056.99,441086.32,588954.37999999989,609757.81000000006,611928.63,22974.250000000116,201928.63]
["5320-Collecting\n",178000,181131.38,146021.89000000001,155217.93,160340.6,142897.52999999997,123897.97,127046.75,-15850.77999999997,-50953.25]
["5325-Collecting- Cash Over and Short\n",0,0,0,0,-10.1,-1121.08,0,0,1121.08,0]
["5330-Collection Charges\n",0,0,0,0,-10775,-6180,0,0,6180,0]
["5335-Bad Debt Expense\n",95000,120623.79,173608.2,34384.69,105150.88,57859.13,100000,101500,43640.87,6500]
["5340-Miscellaneous Customer Accounts Expenses\n",0,0,0,0,-326.79000000000002,-42.91,80,80,122.91,80]
["Total - Billing and Collecting ",{"$f":"SUM(B65:B72)","v":733000},{"$f":"SUM(C65:C72)","v":747070.98},804066.82000000007,668040.85999999987,748224.19,837379.92999999982,951322.46,962860.32000000007,125480.39000000016,229860.32]
["Community Relations",null,null,null,null,null,null,null,null,0,0]
["5405-Supervision\n",0,0,0,0,0,430.7,0,0,{"$f":"I75-G75","v":-430.7},{"$f":"I75-B75","v":0}]
["5410-Community Relations - Sundry\n",32000,18084.71,30308.38,32391.22,28367.75,28495.68,13009.7,13336.81,{"$f":"I76-G76","v":-15158.87},{"$f":"I76-B76","v":-18663.190000000002}]
["5415-Energy Conservation\n",0,0,0,0,0,0,0,0,0,0]
["5420-Community Safety Program\n",35000,37851.230000000003,49116.04,39187.440000000002,35779.199999999997,1411.4499999999998,28351.85,28981.62,27570.17,-6018.380000000001]
["5425-Miscellaneous Customer Service and Informational Expenses\n",0,0,0,0,0,0,0,0,0,0]
["5505-Supervision\n",0,0,0,0,0,0,0,0,0,0]
["5510-Demonstrating and Selling Expense\n",0,0,0,0,0,0,0,0,0,0]
["5515-Advertising Expense\n",0,0,249.5,259.5,0,0,0,0,0,0]
["5520-Miscellaneous Sales Expense\n",0,0,0,0,0,0,0,0,0,0]
["Total - Community Relations ",{"$f":"SUM(B75:B83)","v":67000},{"$f":"SUM(C75:C83)","v":55935.94},79673.919999999998,71838.16,64146.95,30337.83,41361.550000000003,42318.43,11980.599999999997,-24681.570000000003]
["Adminstrative and General Expenses "]
["5605-Executive Salaries and Expenses\n",49030,43331.03,45693.3,47173.14,48402.559999999998,39963.460000000006,44929.8,46047.39,{"$f":"I86-G86","v":6083.929999999993},{"$f":"I86-B86","v":-2982.6100000000006}]
["5610-Management Salaries and Expenses\n",268000,190008.63,173556.68,246573.9,287263.61,341441.83999999997,418038.27999999997,418242.04,{"$f":"I87-G87","v":76800.200000000012},{"$f":"I87-B87","v":150242.03999999998}]
["5615-General Administrative Salaries and Expenses\n",241820.96936799999,225292.99,381184.52,251391.38,248142.84,88321.85,34284.050000000003,35126.31,-53195.540000000008,-206694.65936799999]
["5620-Office Supplies and Expenses\n",92000,79631.67,87829.59,77018.850000000006,86444.75,79314.539999999994,81814,81814,2499.4600000000064,-10186]
["5625-Administrative Expense Transferred/Credit\n",0,0,0,0,0,0,0,0,0,0]
["5630-Outside Services Employed\n",32000,38972.25,71698.38,71468.679999999993,20380.48,17343.21,32392,32452,15108.79,452]
["5635-Property Insurance\n",15000,0,13865.9,12438.01,9655.52,12739.74,12750,13000,260.26000000000022,-2000]
["5640-Injuries and Damages\n",0,0,0,0,0,0,0,0,0,0]
["5645-Employee Pensions and Benefits\n",70000,0,0,29564.83,22763.599999999999,166785.49999999988,170121.20999999988,173523.63419999988,6738.1342000000004,103523.63419999988]
["5650-Franchise Requirements\n",0,0,0,0,0,0,0,0,0,0]
["5655-Regulatory Expenses\n",105000,118819.45,129256.39,130504.46,173231.78,159827.69,117729.64,183062,23234.309999999998,78062]
["5660-General Advertising Expenses\n",0,0,0,0,0,0,0,0,0,0]
["5665-Miscellaneous General Expenses\n",75323.900000000009,67550,79434.36,78325.19,80658.2,78858.61,79000,81500,2641.3899999999994,6176.0999999999913]
["5670-Rent\n",16200,13200,15000,15000,15000,14330.76,12000,12000,-2330.7600000000002,-4200]
["5675-Maintenance of General Plant\n",90000,97606.7,111322.28,104479.41,231262.04,191538.17,128180.48,132810.74,-58727.430000000022,42810.739999999991]
["5680-Electrical Safety Authority Fees\n",8000,8980.59,7500.52,7776.49,7404.52,8612,8000,8300,-312,300]
["5681-Special Purpose Charge Expense\n",0,0,0,0,0,0,0,0,0,0]
["5685-Independent Market Operator Fees and Penalties\n",0,0,0,0,0,0,0,0,0,0]
["5695-OM&A Contra\n",0,0,0,0,0,0,0,0,0,0]
["6205-Donations\n",0,48,48,48,110,6325,110,110,-6215,110]
["6205-Sub-account LEAP Funding\n",0,3600,5200,5201,5199.96,4720,18916,7500,2780,7500]
["6210-Life Insurance\n",0,0,0,0,0,0,0,0,0,0]
["6215-Penalties\n",0,0,0,0,0,0,0,0,0,0]
["6225-Other Deductions\n",0,0,0,0,0,0,0,0,0,0]
["6305-Extraordinary Income\n",0,0,0,0,0,0,0,0,0,0]
["6310-Extraordinary Deductions\n",0,0,0,0,0,0,0,0,0,0]
["6315-Income Taxes: Extraordinary Item\n",0,0,0,0,0,0,0,0,0,0]
["6405-Discontinued Operations - Income/ Gains\n",0,0,0,0,0,0,0,0,0,0]
["6410-Discontinued Operations - Deductions/ Losses\n",0,0,0,0,0,0,0,0,0,0]
["6415-Income Taxes, Discontinued Operations\n",0,0,0,0,0,0,0,0,0,0]
[]
["Remove Disallowed Donations",0,-48,-48,-48,-110,-6325,-110,-110,6215,-110]
[]
["Total - Administrative and General Expenses",{"$f":"SUM(B86:B118)","v":1062374.869368},{"$f":"SUM(C86:C118)","v":886993.30999999994},1121541.92,1076915.3399999999,1235809.8599999999,1203797.3699999999,1158155.4599999997,1225378.1142,21580.744199999986,163003.24483199988]
["Miscellaneous",null,null,null,null,null,null,null,null,0,0]
["Total",{"$f":"B39+B63+B73+B84+B119","v":3064963.5730029265},{"$f":"C39+C63+C73+C84+C119","v":2933810.03},3263088.13,2801430.01,3207075.5,3358491.5,3529137.4046499999,3708394.3342000004,349902.83420000016,643430.7611970735]

{"sheet":"App.2-K_Employee Costs","index":42,"n_rows":31,"n_cols":26,"rows_kept":31,"cut":false,"hidden":false,"merged":[[3,0,3,23],[31,0,31,25],[24,0,24,25],[8,0,8,25],[9,0,9,25],[12,0,12,25],[16,0,16,25],[20,0,20,25],[29,0,29,25],[30,0,30,25]]}
[null,null,null,null,null,null,null,null,null,null,null,null,null,null,null,null,null,null,null,null,null,null,null,null,"File Number:",{"$f":"EBNUMBER","v":"EB-2021-0052"}]
[null,null,null,null,null,null,null,null,null,null,null,null,null,null,null,null,null,null,null,null,null,null,null,null,"Exhibit:"]
[null,null,null,null,null,null,null,null,null,null,null,null,null,null,null,null,null,null,null,null,null,null,null,null,"Tab:"]
["TO BE UPDATED AT THE DRAFT RATE ORDER STAGE",null,null,null,null,null,null,null,null,null,null,null,null,null,null,null,null,null,null,null,null,null,null,null,"Schedule:"]
[null,null,null,null,null,null,null,null,null,null,null,null,null,null,null,null,null,null,null,null,null,null,null,null,"Page:"]
[]
[null,null,null,null,null,null,null,null,null,null,null,null,null,null,null,null,null,null,null,null,null,null,null,null,"Date:"]
[]
["Appendix 2-K"]
["Employee Costs"]
[]
[null,"Last Rebasing Year (2010 OEB Approved)","Last Rebasing Year (2010 Actuals)",{"$f":"\"Last Rebasing Year (\" & TestYear -8 & \" OEB Approved)\"","v":"Last Rebasing Year (2014 OEB Approved)"},{"$f":"\"Last Rebasing Year (\" & TestYear -8 & \" Actuals)\"","v":"Last Rebasing Year (2014 Actuals)"},{"$f":"TestYear -8 & \" Actuals\"","v":"2014 Actuals"},{"$f":"\"Last Rebasing Year (\" & TestYear -7 & \" OEB Approved)\"","v":"Last Rebasing Year (2015 OEB Approved)"},{"$f":"\"Last Rebasing Year (\" & TestYear -7 & \" Actuals)\"","v":"Last Rebasing Year (2015 Actuals)"},{"$f":"TestYear -7 & \" Actuals\"","v":"2015 Actuals"},{"$f":"\"Last Rebasing Year (\" & TestYear -6 & \" OEB Approved)\"","v":"Last Rebasing Year (2016 OEB Approved)"},{"$f":"\"Last Rebasing Year (\" & TestYear -6 & \" Actuals)\"","v":"Last Rebasing Year (2016 Actuals)"},{"$f":"TestYear -6 & \" Actuals\"","v":"2016 Actuals"},{"$f":"\"Last Rebasing Year (\" & TestYear -5 & \" OEB Approved)\"","v":"Last Rebasing Year (2017 OEB Approved)"},{"$f":"\"Last Rebasing Year (\" & TestYear -5 & \" Actuals)\"","v":"Last Rebasing Year (2017 Actuals)"},{"$f":"TestYear -5 & \" Actuals\"","v":"2017 Actuals"},{"$f":"\"Last Rebasing Year (\" & TestYear -4 & \" OEB Approved)\"","v":"Last Rebasing Year (2018 OEB Approved)"},{"$f":"\"Last Rebasing Year (\" & TestYear -4 & \" Actuals)\"","v":"Last Rebasing Year (2018 Actuals)"},{"$f":"TestYear -4 & \" Actuals\"","v":"2018 Actuals"},{"$f":"\"Last Rebasing Year (\" & TestYear -3 & \" OEB Approved)\"","v":"Last Rebasing Year (2019 OEB Approved)"},{"$f":"\"Last Rebasing Year (\" & TestYear -3 & \" Actuals)\"","v":"Last Rebasing Year (2019 Actuals)"},{"$f":"TestYear -3 & \" Actuals\"","v":"2019 Actuals"},{"$f":"\"Last Rebasing Year (\" & TestYear -2 & \" OEB Approved)\"","v":"Last Rebasing Year (2020 OEB Approved)"},{"$f":"\"Last Rebasing Year (\" & TestYear -2 & \" Actuals)\"","v":"Last Rebasing Year (2020 Actuals)"},{"$f":"TestYear -2 & \" Actuals\"","v":"2020 Actuals"},{"$f":"BridgeYear & \" Bridge Year\"","v":"2021 Bridge Year"},{"$f":"TestYear & \" Test Year\"","v":"2022 Test Year"}]
["Number of Employees (FTEs including Part-Time)1"]
["Management (including executive)",null,null,null,null,null,null,null,null,6,5,null,null,null,6,null,null,6,null,null,5,null,null,6,6,6]
["Non-Management (union and non-union)",null,null,null,null,null,null,null,null,22,21,null,null,null,20,null,null,20,null,null,21,null,null,20,20,20]
["Total",null,null,null,null,null,null,null,null,{"$f":"SUM(J14:J15)","v":28},{"$f":"SUM(K14:K15)","v":26},0,0,0,26,0,0,26,0,0,26,0,0,26,{"$f":"SUM(Y14:Y15)","v":26},{"$f":"SUM(Z14:Z15)","v":26}]
["Total Salary and Wages including ovetime and incentive pay"]
["Management (including executive)",null,null,null,null,null,null,null,null,564693.98,568279.65,null,null,null,511046.98000000004,null,null,599303.62,null,null,537136.31999999995,null,null,529564.82000000007,619197.56999999995,623958.94999999995]
["Non-Management (union and non-union)",null,null,null,null,null,null,null,null,1489690.86,1222518.9700000002,null,null,null,1343179.25,null,null,1409748.0300000005,null,null,1507261.5299999998,null,null,1497540.0799999998,1455182.2,1572299]
["Total",{"$f":"SUM(B18:B19)","v":0},0,0,0,0,0,0,0,2054384.84,1790798.62,0,0,0,1854226.23,0,0,2009051.6500000004,0,0,2044397.8499999996,0,0,2027104.9,2074379.77,2196257.9500000002]
["Total Benefits (Current + Accrued)"]
["Management (including executive)",null,null,null,null,null,null,null,null,106381.73631583835,136348.71993699999,null,null,null,134518.41525799999,null,null,166733.17409399999,null,null,147629.017846,null,null,144999.62889399999,170279.33175000001,171588.71124999999]
["Non-Management (union and non-union)",null,null,null,null,null,null,null,null,276546.7636820706,312882.37901700003,null,null,null,341588.73491400003,null,null,374292.67570499994,null,null,390716.35138200002,null,null,412751.44838699989,400175.10500000004,432382]
["Total",{"$f":"SUM(B22:B23)","v":0},{"$f":"SUM(C22:C23)","v":0},0,0,0,0,0,0,382928.49999790895,449231.09895400004,0,0,0,476107.15017200005,0,0,541025.84979899996,0,0,538345.36922800005,0,0,557751.07728099986,570454.43675000011,603970.71124999993]
["Total Compensation (Salary, Wages, & Benefits)"]
["Management (including executive)",{"$f":"B18+B22","v":0},0,0,0,0,0,0,0,671075.71631583828,704628.36993699998,0,0,0,645565.395258,0,0,766036.79409400001,0,0,684765.33784599998,0,0,674564.44889400003,789476.90174999996,795547.66124999989]
["Non-Management (union and non-union)",0,0,0,0,0,0,0,0,1766237.6236820708,1535401.3490170003,0,0,0,1684767.9849140001,0,0,1784040.7057050006,0,0,1897977.8813819997,0,0,1910291.5283869999,1855357.3049999999,2004681]
["Total",{"$f":"B20+B24","v":0},0,0,0,0,0,0,0,2437313.339997909,2240029.7189540002,0,0,0,2330333.3801720003,0,0,2550077.4997990001,0,0,2582743.2192279994,0,0,2584855.9772809995,2644834.2067499999,2800228.6612499999]
[]
["Note:"]
["1.   If an applicant wishes to use headcount, it must also file the same schedule on an FTE basis."]

{"sheet":"Hidden_Employee Costs","index":43,"n_rows":201,"n_cols":9,"rows_kept":201,"cut":false,"hidden":true,"merged":[]}
["Utility Name","EB Number","Test Year","Bridge Year","Last Rebasing Year","Employee Cost Info","Heading","Year","Amount"]
[{"$f":"'LDC Info'!$E$14","v":"Ottawa River Power Corporation"},{"$f":"EBNUMBER","v":"EB-2021-0052"},{"$f":"TestYear","v":2022},{"$f":"BridgeYear","v":2021},{"$f":"RebaseYear","v":2016},"Management (including executive)","Number of Employees (FTEs including Part-Time)",{"$f":"'App.2-K_Employee Costs'!B$12","v":"Last Rebasing Year (2010 OEB Approved)"},{"$f":"'App.2-K_Employee Costs'!B$14","v":0}]
[{"$f":"'LDC Info'!$E$14","v":"Ottawa River Power Corporation"},"EB-2021-0052",2022,2021,2016,"Non-Management (union and non-union)","Number of Employees (FTEs including Part-Time)",{"$f":"'App.2-K_Employee Costs'!B$12","v":"Last Rebasing Year (2010 OEB Approved)"},{"$f":"'App.2-K_Employee Costs'!B$15","v":0}]
[{"$f":"'LDC Info'!$E$14","v":"Ottawa River Power Corporation"},"EB-2021-0052",2022,2021,2016,"Management (including executive)","Total Salary and Wages including ovetime and incentive pay",{"$f":"'App.2-K_Employee Costs'!B$12","v":"Last Rebasing Year (2010 OEB Approved)"},{"$f":"'App.2-K_Employee Costs'!B$18","v":0}]
[{"$f":"'LDC Info'!$E$14","v":"Ottawa River Power Corporation"},"EB-2021-0052",2022,2021,2016,"Non-Management (union and non-union)","Total Salary and Wages including ovetime and incentive pay",{"$f":"'App.2-K_Employee Costs'!B$12","v":"Last Rebasing Year (2010 OEB Approved)"},{"$f":"'App.2-K_Employee Costs'!B$19","v":0}]
[{"$f":"'LDC Info'!$E$14","v":"Ottawa River Power Corporation"},"EB-2021-0052",2022,2021,2016,"Management (including executive)","Total Benefits (Current + Accrued)",{"$f":"'App.2-K_Employee Costs'!B$12","v":"Last Rebasing Year (2010 OEB Approved)"},{"$f":"'App.2-K_Employee Costs'!B$22","v":0}]
[{"$f":"'LDC Info'!$E$14","v":"Ottawa River Power Corporation"},"EB-2021-0052",2022,2021,2016,"Non-Management (union and non-union)","Total Benefits (Current + Accrued)",{"$f":"'App.2-K_Employee Costs'!B$12","v":"Last Rebasing Year (2010 OEB Approved)"},{"$f":"'App.2-K_Employee Costs'!B$23","v":0}]
[{"$f":"'LDC Info'!$E$14","v":"Ottawa River Power Corporation"},"EB-2021-0052",2022,2021,2016,"Management (including executive)","Total Compensation (Salary, Wages, & Benefits)",{"$f":"'App.2-K_Employee Costs'!B$12","v":"Last Rebasing Year (2010 OEB Approved)"},{"$f":"'App.2-K_Employee Costs'!B$26","v":0}]
[{"$f":"'LDC Info'!$E$14","v":"Ottawa River Power Corporation"},"EB-2021-0052",2022,2021,2016,"Non-Management (union and non-union)","Total Compensation (Salary, Wages, & Benefits)",{"$f":"'App.2-K_Employee Costs'!B$12","v":"Last Rebasing Year (2010 OEB Approved)"},{"$f":"'App.2-K_Employee Costs'!B$27","v":0}]
[{"$f":"'LDC Info'!$E$14","v":"Ottawa River Power Corporation"},"EB-2021-0052",2022,2021,2016,"Management (including executive)","Number of Employees (FTEs including Part-Time)",{"$f":"'App.2-K_Employee Costs'!C$12","v":"Last Rebasing Year (2010 Actuals)"},{"$f":"'App.2-K_Employee Costs'!C$14","v":0}]
[{"$f":"'LDC Info'!$E$14","v":"Ottawa River Power Corporation"},"EB-2021-0052",2022,2021,2016,"Non-Management (union and non-union)","Number of Employees (FTEs including Part-Time)",{"$f":"'App.2-K_Employee Costs'!C$12","v":"Last Rebasing Year (2010 Actuals)"},{"$f":"'App.2-K_Employee Costs'!C$15","v":0}]
[{"$f":"'LDC Info'!$E$14","v":"Ottawa River Power Corporation"},"EB-2021-0052",2022,2021,2016,"Management (including executive)","Total Salary and Wages including ovetime and incentive pay",{"$f":"'App.2-K_Employee Costs'!C$12","v":"Last Rebasing Year (2010 Actuals)"},{"$f":"'App.2-K_Employee Costs'!C$18","v":0}]
[{"$f":"'LDC Info'!$E$14","v":"Ottawa River Power Corporation"},"EB-2021-0052",2022,2021,2016,"Non-Management (union and non-union)","Total Salary and Wages including ovetime and incentive pay",{"$f":"'App.2-K_Employee Costs'!C$12","v":"Last Rebasing Year (2010 Actuals)"},{"$f":"'App.2-K_Employee Costs'!C$19","v":0}]
[{"$f":"'LDC Info'!$E$14","v":"Ottawa River Power Corporation"},"EB-2021-0052",2022,2021,2016,"Management (including executive)","Total Benefits (Current + Accrued)",{"$f":"'App.2-K_Employee Costs'!C$12","v":"Last Rebasing Year (2010 Actuals)"},{"$f":"'App.2-K_Employee Costs'!C$22","v":0}]
[{"$f":"'LDC Info'!$E$14","v":"Ottawa River Power Corporation"},"EB-2021-0052",2022,2021,2016,"Non-Management (union and non-union)","Total Benefits (Current + Accrued)",{"$f":"'App.2-K_Employee Costs'!C$12","v":"Last Rebasing Year (2010 Actuals)"},{"$f":"'App.2-K_Employee Costs'!C$23","v":0}]
[{"$f":"'LDC Info'!$E$14","v":"Ottawa River Power Corporation"},"EB-2021-0052",2022,2021,2016,"Management (including executive)","Total Compensation (Salary, Wages, & Benefits)",{"$f":"'App.2-K_Employee Costs'!C$12","v":"Last Rebasing Year (2010 Actuals)"},{"$f":"'App.2-K_Employee Costs'!C$26","v":0}]
[{"$f":"'LDC Info'!$E$14","v":"Ottawa River Power Corporation"},"EB-2021-0052",2022,2021,2016,"Non-Management (union and non-union)","Total Compensation (Salary, Wages, & Benefits)",{"$f":"'App.2-K_Employee Costs'!C$12","v":"Last Rebasing Year (2010 Actuals)"},{"$f":"'App.2-K_Employee Costs'!C$27","v":0}]
[{"$f":"'LDC Info'!$E$14","v":"Ottawa River Power Corporation"},"EB-2021-0052",2022,2021,2016,"Management (including executive)","Number of Employees (FTEs including Part-Time)",{"$f":"'App.2-K_Employee Costs'!D$12","v":"Last Rebasing Year (2014 OEB Approved)"},{"$f":"'App.2-K_Employee Costs'!D$14","v":0}]
[{"$f":"'LDC Info'!$E$14","v":"Ottawa River Power Corporation"},"EB-2021-0052",2022,2021,2016,"Non-Management (union and non-union)","Number of Employees (FTEs including Part-Time)",{"$f":"'App.2-K_Employee Costs'!D$12","v":"Last Rebasing Year (2014 OEB Approved)"},{"$f":"'App.2-K_Employee Costs'!D$15","v":0}]
[{"$f":"'LDC Info'!$E$14","v":"Ottawa River Power Corporation"},"EB-2021-0052",2022,2021,2016,"Management (including executive)","Total Salary and Wages including ovetime and incentive pay",{"$f":"'App.2-K_Employee Costs'!D$12","v":"Last Rebasing Year (2014 OEB Approved)"},{"$f":"'App.2-K_Employee Costs'!D$18","v":0}]
[{"$f":"'LDC Info'!$E$14","v":"Ottawa River Power Corporation"},"EB-2021-0052",2022,2021,2016,"Non-Management (union and non-union)","Total Salary and Wages including ovetime and incentive pay",{"$f":"'App.2-K_Employee Costs'!D$12","v":"Last Rebasing Year (2014 OEB Approved)"},{"$f":"'App.2-K_Employee Costs'!D$19","v":0}]
[{"$f":"'LDC Info'!$E$14","v":"Ottawa River Power Corporation"},"EB-2021-0052",2022,2021,2016,"Management (including executive)","Total Benefits (Current + Accrued)",{"$f":"'App.2-K_Employee Costs'!D$12","v":"Last Rebasing Year (2014 OEB Approved)"},{"$f":"'App.2-K_Employee Costs'!D$22","v":0}]
[{"$f":"'LDC Info'!$E$14","v":"Ottawa River Power Corporation"},"EB-2021-0052",2022,2021,2016,"Non-Management (union and non-union)","Total Benefits (Current + Accrued)",{"$f":"'App.2-K_Employee Costs'!D$12","v":"Last Rebasing Year (2014 OEB Approved)"},{"$f":"'App.2-K_Employee Costs'!D$23","v":0}]
[{"$f":"'LDC Info'!$E$14","v":"Ottawa River Power Corporation"},"EB-2021-0052",2022,2021,2016,"Management (including executive)","Total Compensation (Salary, Wages, & Benefits)",{"$f":"'App.2-K_Employee Costs'!D$12","v":"Last Rebasing Year (2014 OEB Approved)"},{"$f":"'App.2-K_Employee Costs'!D$26","v":0}]
[{"$f":"'LDC Info'!$E$14","v":"Ottawa River Power Corporation"},"EB-2021-0052",2022,2021,2016,"Non-Management (union and non-union)","Total Compensation (Salary, Wages, & Benefits)",{"$f":"'App.2-K_Employee Costs'!D$12","v":"Last Rebasing Year (2014 OEB Approved)"},{"$f":"'App.2-K_Employee Costs'!D$27","v":0}]
[{"$f":"'LDC Info'!$E$14","v":"Ottawa River Power Corporation"},"EB-2021-0052",2022,2021,2016,"Management (including executive)","Number of Employees (FTEs including Part-Time)",{"$f":"'App.2-K_Employee Costs'!E$12","v":"Last Rebasing Year (2014 Actuals)"},{"$f":"'App.2-K_Employee Costs'!E$14","v":0}]
[{"$f":"'LDC Info'!$E$14","v":"Ottawa River Power Corporation"},"EB-2021-0052",2022,2021,2016,"Non-Management (union and non-union)","Number of Employees (FTEs including Part-Time)",{"$f":"'App.2-K_Employee Costs'!E$12","v":"Last Rebasing Year (2014 Actuals)"},{"$f":"'App.2-K_Employee Costs'!E$15","v":0}]
[{"$f":"'LDC Info'!$E$14","v":"Ottawa River Power Corporation"},"EB-2021-0052",2022,2021,2016,"Management (including executive)","Total Salary and Wages including ovetime and incentive pay",{"$f":"'App.2-K_Employee Costs'!E$12","v":"Last Rebasing Year (2014 Actuals)"},{"$f":"'App.2-K_Employee Costs'!E$18","v":0}]
[{"$f":"'LDC Info'!$E$14","v":"Ottawa River Power Corporation"},"EB-2021-0052",2022,2021,2016,"Non-Management (union and non-union)","Total Salary and Wages including ovetime and incentive pay",{"$f":"'App.2-K_Employee Costs'!E$12","v":"Last Rebasing Year (2014 Actuals)"},{"$f":"'App.2-K_Employee Costs'!E$19","v":0}]
[{"$f":"'LDC Info'!$E$14","v":"Ottawa River Power Corporation"},"EB-2021-0052",2022,2021,2016,"Management (including executive)","Total Benefits (Current + Accrued)",{"$f":"'App.2-K_Employee Costs'!E$12","v":"Last Rebasing Year (2014 Actuals)"},{"$f":"'App.2-K_Employee Costs'!E$22","v":0}]
[{"$f":"'LDC Info'!$E$14","v":"Ottawa River Power Corporation"},"EB-2021-0052",2022,2021,2016,"Non-Management (union and non-union)","Total Benefits (Current + Accrued)",{"$f":"'App.2-K_Employee Costs'!E$12","v":"Last Rebasing Year (2014 Actuals)"},{"$f":"'App.2-K_Employee Costs'!E$23","v":0}]
[{"$f":"'LDC Info'!$E$14","v":"Ottawa River Power Corporation"},"EB-2021-0052",2022,2021,2016,"Management (including executive)","Total Compensation (Salary, Wages, & Benefits)",{"$f":"'App.2-K_Employee Costs'!E$12","v":"Last Rebasing Year (2014 Actuals)"},{"$f":"'App.2-K_Employee Costs'!E$26","v":0}]
[{"$f":"'LDC Info'!$E$14","v":"Ottawa River Power Corporation"},"EB-2021-0052",2022,2021,2016,"Non-Management (union and non-union)","Total Compensation (Salary, Wages, & Benefits)",{"$f":"'App.2-K_Employee Costs'!E$12","v":"Last Rebasing Year (2014 Actuals)"},{"$f":"'App.2-K_Employee Costs'!E$27","v":0}]
[{"$f":"'LDC Info'!$E$14","v":"Ottawa River Power Corporation"},{"$f":"EBNUMBER","v":"EB-2021-0052"},{"$f":"TestYear","v":2022},{"$f":"BridgeYear","v":2021},{"$f":"RebaseYear","v":2016},"Management (including executive)","Number of Employees (FTEs including Part-Time)",{"$f":"'App.2-K_Employee Costs'!F$12","v":"2014 Actuals"},{"$f":"'App.2-K_Employee Costs'!F$14","v":0}]
[{"$f":"'LDC Info'!$E$14","v":"Ottawa River Power Corporation"},"EB-2021-0052",2022,2021,2016,"Non-Management (union and non-union)","Number of Employees (FTEs including Part-Time)",{"$f":"'App.2-K_Employee Costs'!F$12","v":"2014 Actuals"},{"$f":"'App.2-K_Employee Costs'!F$15","v":0}]
[{"$f":"'LDC Info'!$E$14","v":"Ottawa River Power Corporation"},"EB-2021-0052",2022,2021,2016,"Management (including executive)","Total Salary and Wages including ovetime and incentive pay",{"$f":"'App.2-K_Employee Costs'!F$12","v":"2014 Actuals"},{"$f":"'App.2-K_Employee Costs'!F$18","v":0}]
[{"$f":"'LDC Info'!$E$14","v":"Ottawa River Power Corporation"},"EB-2021-0052",2022,2021,2016,"Non-Management (union and non-union)","Total Salary and Wages including ovetime and incentive pay",{"$f":"'App.2-K_Employee Costs'!F$12","v":"2014 Actuals"},{"$f":"'App.2-K_Employee Costs'!F$19","v":0}]
[{"$f":"'LDC Info'!$E$14","v":"Ottawa River Power Corporation"},"EB-2021-0052",2022,2021,2016,"Management (including executive)","Total Benefits (Current + Accrued)",{"$f":"'App.2-K_Employee Costs'!F$12","v":"2014 Actuals"},{"$f":"'App.2-K_Employee Costs'!F$22","v":0}]
[{"$f":"'LDC Info'!$E$14","v":"Ottawa River Power Corporation"},"EB-2021-0052",2022,2021,2016,"Non-Management (union and non-union)","Total Benefits (Current + Accrued)",{"$f":"'App.2-K_Employee Costs'!F$12","v":"2014 Actuals"},{"$f":"'App.2-K_Employee Costs'!F$23","v":0}]
[{"$f":"'LDC Info'!$E$14","v":"Ottawa River Power Corporation"},"EB-2021-0052",2022,2021,2016,"Management (including executive)","Total Compensation (Salary, Wages, & Benefits)",{"$f":"'App.2-K_Employee Costs'!F$12","v":"2014 Actuals"},{"$f":"'App.2-K_Employee Costs'!F$26","v":0}]
[{"$f":"'LDC Info'!$E$14","v":"Ottawa River Power Corporation"},"EB-2021-0052",2022,2021,2016,"Non-Management (union and non-union)","Total Compensation (Salary, Wages, & Benefits)",{"$f":"'App.2-K_Employee Costs'!F$12","v":"2014 Actuals"},{"$f":"'App.2-K_Employee Costs'!F$27","v":0}]
[{"$f":"'LDC Info'!$E$14","v":"Ottawa River Power Corporation"},"EB-2021-0052",2022,2021,2016,"Management (including executive)","Number of Employees (FTEs including Part-Time)",{"$f":"'App.2-K_Employee Costs'!G$12","v":"Last Rebasing Year (2015 OEB Approved)"},{"$f":"'App.2-K_Employee Costs'!G$14","v":0}]
[{"$f":"'LDC Info'!$E$14","v":"Ottawa River Power Corporation"},"EB-2021-0052",2022,2021,2016,"Non-Management (union and non-union)","Number of Employees (FTEs including Part-Time)",{"$f":"'App.2-K_Employee Costs'!G$12","v":"Last Rebasing Year (2015 OEB Approved)"},{"$f":"'App.2-K_Employee Costs'!G$15","v":0}]
[{"$f":"'LDC Info'!$E$14","v":"Ottawa River Power Corporation"},"EB-2021-0052",2022,2021,2016,"Management (including executive)","Total Salary and Wages including ovetime and incentive pay",{"$f":"'App.2-K_Employee Costs'!G$12","v":"Last Rebasing Year (2015 OEB Approved)"},{"$f":"'App.2-K_Employee Costs'!G$18","v":0}]
[{"$f":"'LDC Info'!$E$14","v":"Ottawa River Power Corporation"},"EB-2021-0052",2022,2021,2016,"Non-Management (union and non-union)","Total Salary and Wages including ovetime and incentive pay",{"$f":"'App.2-K_Employee Costs'!G$12","v":"Last Rebasing Year (2015 OEB Approved)"},{"$f":"'App.2-K_Employee Costs'!G$19","v":0}]
[{"$f":"'LDC Info'!$E$14","v":"Ottawa River Power Corporation"},"EB-2021-0052",2022,2021,2016,"Management (including executive)","Total Benefits (Current + Accrued)",{"$f":"'App.2-K_Employee Costs'!G$12","v":"Last Rebasing Year (2015 OEB Approved)"},{"$f":"'App.2-K_Employee Costs'!G$22","v":0}]
[{"$f":"'LDC Info'!$E$14","v":"Ottawa River Power Corporation"},"EB-2021-0052",2022,2021,2016,"Non-Management (union and non-union)","Total Benefits (Current + Accrued)",{"$f":"'App.2-K_Employee Costs'!G$12","v":"Last Rebasing Year (2015 OEB Approved)"},{"$f":"'App.2-K_Employee Costs'!G$23","v":0}]
[{"$f":"'LDC Info'!$E$14","v":"Ottawa River Power Corporation"},"EB-2021-0052",2022,2021,2016,"Management (including executive)","Total Compensation (Salary, Wages, & Benefits)",{"$f":"'App.2-K_Employee Costs'!G$12","v":"Last Rebasing Year (2015 OEB Approved)"},{"$f":"'App.2-K_Employee Costs'!G$26","v":0}]
[{"$f":"'LDC Info'!$E$14","v":"Ottawa River Power Corporation"},"EB-2021-0052",2022,2021,2016,"Non-Management (union and non-union)","Total Compensation (Salary, Wages, & Benefits)",{"$f":"'App.2-K_Employee Costs'!G$12","v":"Last Rebasing Year (2015 OEB Approved)"},{"$f":"'App.2-K_Employee Costs'!G$27","v":0}]
[{"$f":"'LDC Info'!$E$14","v":"Ottawa River Power Corporation"},"EB-2021-0052",2022,2021,2016,"Management (including executive)","Number of Employees (FTEs including Part-Time)",{"$f":"'App.2-K_Employee Costs'!H$12","v":"Last Rebasing Year (2015 Actuals)"},{"$f":"'App.2-K_Employee Costs'!H$14","v":0}]
[{"$f":"'LDC Info'!$E$14","v":"Ottawa River Power Corporation"},"EB-2021-0052",2022,2021,2016,"Non-Management (union and non-union)","Number of Employees (FTEs including Part-Time)",{"$f":"'App.2-K_Employee Costs'!H$12","v":"Last Rebasing Year (2015 Actuals)"},{"$f":"'App.2-K_Employee Costs'!H$15","v":0}]
[{"$f":"'LDC Info'!$E$14","v":"Ottawa River Power Corporation"},"EB-2021-0052",2022,2021,2016,"Management (including executive)","Total Salary and Wages including ovetime and incentive pay",{"$f":"'App.2-K_Employee Costs'!H$12","v":"Last Rebasing Year (2015 Actuals)"},{"$f":"'App.2-K_Employee Costs'!H$18","v":0}]
[{"$f":"'LDC Info'!$E$14","v":"Ottawa River Power Corporation"},"EB-2021-0052",2022,2021,2016,"Non-Management (union and non-union)","Total Salary and Wages including ovetime and incentive pay",{"$f":"'App.2-K_Employee Costs'!H$12","v":"Last Rebasing Year (2015 Actuals)"},{"$f":"'App.2-K_Employee Costs'!H$19","v":0}]
[{"$f":"'LDC Info'!$E$14","v":"Ottawa River Power Corporation"},"EB-2021-0052",2022,2021,2016,"Management (including executive)","Total Benefits (Current + Accrued)",{"$f":"'App.2-K_Employee Costs'!H$12","v":"Last Rebasing Year (2015 Actuals)"},{"$f":"'App.2-K_Employee Costs'!H$22","v":0}]
[{"$f":"'LDC Info'!$E$14","v":"Ottawa River Power Corporation"},"EB-2021-0052",2022,2021,2016,"Non-Management (union and non-union)","Total Benefits (Current + Accrued)",{"$f":"'App.2-K_Employee Costs'!H$12","v":"Last Rebasing Year (2015 Actuals)"},{"$f":"'App.2-K_Employee Costs'!H$23","v":0}]
[{"$f":"'LDC Info'!$E$14","v":"Ottawa River Power Corporation"},"EB-2021-0052",2022,2021,2016,"Management (including executive)","Total Compensation (Salary, Wages, & Benefits)",{"$f":"'App.2-K_Employee Costs'!H$12","v":"Last Rebasing Year (2015 Actuals)"},{"$f":"'App.2-K_Employee Costs'!H$26","v":0}]
[{"$f":"'LDC Info'!$E$14","v":"Ottawa River Power Corporation"},"EB-2021-0052",2022,2021,2016,"Non-Management (union and non-union)","Total Compensation (Salary, Wages, & Benefits)",{"$f":"'App.2-K_Employee Costs'!H$12","v":"Last Rebasing Year (2015 Actuals)"},{"$f":"'App.2-K_Employee Costs'!H$27","v":0}]
[{"$f":"'LDC Info'!$E$14","v":"Ottawa River Power Corporation"},"EB-2021-0052",2022,2021,2016,"Management (including executive)","Number of Employees (FTEs including Part-Time)",{"$f":"'App.2-K_Employee Costs'!I$12","v":"2015 Actuals"},{"$f":"'App.2-K_Employee Costs'!I$14","v":0}]
[{"$f":"'LDC Info'!$E$14","v":"Ottawa River Power Corporation"},"EB-2021-0052",2022,2021,2016,"Non-Management (union and non-union)","Number of Employees (FTEs including Part-Time)",{"$f":"'App.2-K_Employee Costs'!I$12","v":"2015 Actuals"},{"$f":"'App.2-K_Employee Costs'!I$15","v":0}]
[{"$f":"'LDC Info'!$E$14","v":"Ottawa River Power Corporation"},"EB-2021-0052",2022,2021,2016,"Management (including executive)","Total Salary and Wages including ovetime and incentive pay",{"$f":"'App.2-K_Employee Costs'!I$12","v":"2015 Actuals"},{"$f":"'App.2-K_Employee Costs'!I$18","v":0}]
[{"$f":"'LDC Info'!$E$14","v":"Ottawa River Power Corporation"},"EB-2021-0052",2022,2021,2016,"Non-Management (union and non-union)","Total Salary and Wages including ovetime and incentive pay",{"$f":"'App.2-K_Employee Costs'!I$12","v":"2015 Actuals"},{"$f":"'App.2-K_Employee Costs'!I$19","v":0}]
[{"$f":"'LDC Info'!$E$14","v":"Ottawa River Power Corporation"},"EB-2021-0052",2022,2021,2016,"Management (including executive)","Total Benefits (Current + Accrued)",{"$f":"'App.2-K_Employee Costs'!I$12","v":"2015 Actuals"},{"$f":"'App.2-K_Employee Costs'!I$22","v":0}]
[{"$f":"'LDC Info'!$E$14","v":"Ottawa River Power Corporation"},"EB-2021-0052",2022,2021,2016,"Non-Management (union and non-union)","Total Benefits (Current + Accrued)",{"$f":"'App.2-K_Employee Costs'!I$12","v":"2015 Actuals"},{"$f":"'App.2-K_Employee Costs'!I$23","v":0}]
[{"$f":"'LDC Info'!$E$14","v":"Ottawa River Power Corporation"},"EB-2021-0052",2022,2021,2016,"Management (including executive)","Total Compensation (Salary, Wages, & Benefits)",{"$f":"'App.2-K_Employee Costs'!I$12","v":"2015 Actuals"},{"$f":"'App.2-K_Employee Costs'!I$26","v":0}]
[{"$f":"'LDC Info'!$E$14","v":"Ottawa River Power Corporation"},"EB-2021-0052",2022,2021,2016,"Non-Management (union and non-union)","Total Compensation (Salary, Wages, & Benefits)",{"$f":"'App.2-K_Employee Costs'!I$12","v":"2015 Actuals"},{"$f":"'App.2-K_Employee Costs'!I$27","v":0}]
[{"$f":"'LDC Info'!$E$14","v":"Ottawa River Power Corporation"},{"$f":"EBNUMBER","v":"EB-2021-0052"},{"$f":"TestYear","v":2022},{"$f":"BridgeYear","v":2021},{"$f":"RebaseYear","v":2016},"Management (including executive)","Number of Employees (FTEs including Part-Time)",{"$f":"'App.2-K_Employee Costs'!J$12","v":"Last Rebasing Year (2016 OEB Approved)"},{"$f":"'App.2-K_Employee Costs'!J$14","v":6}]
[{"$f":"'LDC Info'!$E$14","v":"Ottawa River Power Corporation"},"EB-2021-0052",2022,2021,2016,"Non-Management (union and non-union)","Number of Employees (FTEs including Part-Time)",{"$f":"'App.2-K_Employee Costs'!J$12","v":"Last Rebasing Year (2016 OEB Approved)"},{"$f":"'App.2-K_Employee Costs'!J$15","v":22}]
[{"$f":"'LDC Info'!$E$14","v":"Ottawa River Power Corporation"},"EB-2021-0052",2022,2021,2016,"Management (including executive)","Total Salary and Wages including ovetime and incentive pay",{"$f":"'App.2-K_Employee Costs'!J$12","v":"Last Rebasing Year (2016 OEB Approved)"},{"$f":"'App.2-K_Employee Costs'!J$18","v":564693.98}]
[{"$f":"'LDC Info'!$E$14","v":"Ottawa River Power Corporation"},"EB-2021-0052",2022,2021,2016,"Non-Management (union and non-union)","Total Salary and Wages including ovetime and incentive pay",{"$f":"'App.2-K_Employee Costs'!J$12","v":"Last Rebasing Year (2016 OEB Approved)"},{"$f":"'App.2-K_Employee Costs'!J$19","v":1489690.86}]
[{"$f":"'LDC Info'!$E$14","v":"Ottawa River Power Corporation"},"EB-2021-0052",2022,2021,2016,"Management (including executive)","Total Benefits (Current + Accrued)",{"$f":"'App.2-K_Employee Costs'!J$12","v":"Last Rebasing Year (2016 OEB Approved)"},{"$f":"'App.2-K_Employee Costs'!J$22","v":106381.73631583835}]
[{"$f":"'LDC Info'!$E$14","v":"Ottawa River Power Corporation"},"EB-2021-0052",2022,2021,2016,"Non-Management (union and non-union)","Total Benefits (Current + Accrued)",{"$f":"'App.2-K_Employee Costs'!J$12","v":"Last Rebasing Year (2016 OEB Approved)"},{"$f":"'App.2-K_Employee Costs'!J$23","v":276546.7636820706}]
[{"$f":"'LDC Info'!$E$14","v":"Ottawa River Power Corporation"},"EB-2021-0052",2022,2021,2016,"Management (including executive)","Total Compensation (Salary, Wages, & Benefits)",{"$f":"'App.2-K_Employee Costs'!J$12","v":"Last Rebasing Year (2016 OEB Approved)"},{"$f":"'App.2-K_Employee Costs'!J$26","v":671075.71631583828}]
[{"$f":"'LDC Info'!$E$14","v":"Ottawa River Power Corporation"},"EB-2021-0052",2022,2021,2016,"Non-Management (union and non-union)","Total Compensation (Salary, Wages, & Benefits)",{"$f":"'App.2-K_Employee Costs'!J$12","v":"Last Rebasing Year (2016 OEB Approved)"},{"$f":"'App.2-K_Employee Costs'!J$27","v":1766237.6236820708}]
[{"$f":"'LDC Info'!$E$14","v":"Ottawa River Power Corporation"},"EB-2021-0052",2022,2021,2016,"Management (including executive)","Number of Employees (FTEs including Part-Time)",{"$f":"'App.2-K_Employee Costs'!K$12","v":"Last Rebasing Year (2016 Actuals)"},{"$f":"'App.2-K_Employee Costs'!K$14","v":5}]
[{"$f":"'LDC Info'!$E$14","v":"Ottawa River Power Corporation"},"EB-2021-0052",2022,2021,2016,"Non-Management (union and non-union)","Number of Employees (FTEs including Part-Time)",{"$f":"'App.2-K_Employee Costs'!K$12","v":"Last Rebasing Year (2016 Actuals)"},{"$f":"'App.2-K_Employee Costs'!K$15","v":21}]
[{"$f":"'LDC Info'!$E$14","v":"Ottawa River Power Corporation"},"EB-2021-0052",2022,2021,2016,"Management (including executive)","Total Salary and Wages including ovetime and incentive pay",{"$f":"'App.2-K_Employee Costs'!K$12","v":"Last Rebasing Year (2016 Actuals)"},{"$f":"'App.2-K_Employee Costs'!K$18","v":568279.65}]
[{"$f":"'LDC Info'!$E$14","v":"Ottawa River Power Corporation"},"EB-2021-0052",2022,2021,2016,"Non-Management (union and non-union)","Total Salary and Wages including ovetime and incentive pay",{"$f":"'App.2-K_Employee Costs'!K$12","v":"Last Rebasing Year (2016 Actuals)"},{"$f":"'App.2-K_Employee Costs'!K$19","v":1222518.9700000002}]
[{"$f":"'LDC Info'!$E$14","v":"Ottawa River Power Corporation"},"EB-2021-0052",2022,2021,2016,"Management (including executive)","Total Benefits (Current + Accrued)",{"$f":"'App.2-K_Employee Costs'!K$12","v":"Last Rebasing Year (2016 Actuals)"},{"$f":"'App.2-K_Employee Costs'!K$22","v":136348.71993699999}]
[{"$f":"'LDC Info'!$E$14","v":"Ottawa River Power Corporation"},"EB-2021-0052",2022,2021,2016,"Non-Management (union and non-union)","Total Benefits (Current + Accrued)",{"$f":"'App.2-K_Employee Costs'!K$12","v":"Last Rebasing Year (2016 Actuals)"},{"$f":"'App.2-K_Employee Costs'!K$23","v":312882.37901700003}]
[{"$f":"'LDC Info'!$E$14","v":"Ottawa River Power Corporation"},"EB-2021-0052",2022,2021,2016,"Management (including executive)","Total Compensation (Salary, Wages, & Benefits)",{"$f":"'App.2-K_Employee Costs'!K$12","v":"Last Rebasing Year (2016 Actuals)"},{"$f":"'App.2-K_Employee Costs'!K$26","v":704628.36993699998}]
[{"$f":"'LDC Info'!$E$14","v":"Ottawa River Power Corporation"},"EB-2021-0052",2022,2021,2016,"Non-Management (union and non-union)","Total Compensation (Salary, Wages, & Benefits)",{"$f":"'App.2-K_Employee Costs'!K$12","v":"Last Rebasing Year (2016 Actuals)"},{"$f":"'App.2-K_Employee Costs'!K$27","v":1535401.3490170003}]
[{"$f":"'LDC Info'!$E$14","v":"Ottawa River Power Corporation"},"EB-2021-0052",2022,2021,2016,"Management (including executive)","Number of Employees (FTEs including Part-Time)",{"$f":"'App.2-K_Employee Costs'!L$12","v":"2016 Actuals"},{"$f":"'App.2-K_Employee Costs'!L$14","v":0}]
[{"$f":"'LDC Info'!$E$14","v":"Ottawa River Power Corporation"},"EB-2021-0052",2022,2021,2016,"Non-Management (union and non-union)","Number of Employees (FTEs including Part-Time)",{"$f":"'App.2-K_Employee Costs'!L$12","v":"2016 Actuals"},{"$f":"'App.2-K_Employee Costs'!L$15","v":0}]
[{"$f":"'LDC Info'!$E$14","v":"Ottawa River Power Corporation"},"EB-2021-0052",2022,2021,2016,"Management (including executive)","Total Salary and Wages including ovetime and incentive pay",{"$f":"'App.2-K_Employee Costs'!L$12","v":"2016 Actuals"},{"$f":"'App.2-K_Employee Costs'!L$18","v":0}]
[{"$f":"'LDC Info'!$E$14","v":"Ottawa River Power Corporation"},"EB-2021-0052",2022,2021,2016,"Non-Management (union and non-union)","Total Salary and Wages including ovetime and incentive pay",{"$f":"'App.2-K_Employee Costs'!L$12","v":"2016 Actuals"},{"$f":"'App.2-K_Employee Costs'!L$19","v":0}]
[{"$f":"'LDC Info'!$E$14","v":"Ottawa River Power Corporation"},"EB-2021-0052",2022,2021,2016,"Management (including executive)","Total Benefits (Current + Accrued)",{"$f":"'App.2-K_Employee Costs'!L$12","v":"2016 Actuals"},{"$f":"'App.2-K_Employee Costs'!L$22","v":0}]
[{"$f":"'LDC Info'!$E$14","v":"Ottawa River Power Corporation"},"EB-2021-0052",2022,2021,2016,"Non-Management (union and non-union)","Total Benefits (Current + Accrued)",{"$f":"'App.2-K_Employee Costs'!L$12","v":"2016 Actuals"},{"$f":"'App.2-K_Employee Costs'!L$23","v":0}]
[{"$f":"'LDC Info'!$E$14","v":"Ottawa River Power Corporation"},"EB-2021-0052",2022,2021,2016,"Management (including executive)","Total Compensation (Salary, Wages, & Benefits)",{"$f":"'App.2-K_Employee Costs'!L$12","v":"2016 Actuals"},{"$f":"'App.2-K_Employee Costs'!L$26","v":0}]
[{"$f":"'LDC Info'!$E$14","v":"Ottawa River Power Corporation"},"EB-2021-0052",2022,2021,2016,"Non-Management (union and non-union)","Total Compensation (Salary, Wages, & Benefits)",{"$f":"'App.2-K_Employee Costs'!L$12","v":"2016 Actuals"},{"$f":"'App.2-K_Employee Costs'!L$27","v":0}]
[{"$f":"'LDC Info'!$E$14","v":"Ottawa River Power Corporation"},"EB-2021-0052",2022,2021,2016,"Management (including executive)","Number of Employees (FTEs including Part-Time)",{"$f":"'App.2-K_Employee Costs'!M$12","v":"Last Rebasing Year (2017 OEB Approved)"},{"$f":"'App.2-K_Employee Costs'!M$14","v":0}]
[{"$f":"'LDC Info'!$E$14","v":"Ottawa River Power Corporation"},"EB-2021-0052",2022,2021,2016,"Non-Management (union and non-union)","Number of Employees (FTEs including Part-Time)",{"$f":"'App.2-K_Employee Costs'!M$12","v":"Last Rebasing Year (2017 OEB Approved)"},{"$f":"'App.2-K_Employee Costs'!M$15","v":0}]
[{"$f":"'LDC Info'!$E$14","v":"Ottawa River Power Corporation"},"EB-2021-0052",2022,2021,2016,"Management (including executive)","Total Salary and Wages including ovetime and incentive pay",{"$f":"'App.2-K_Employee Costs'!M$12","v":"Last Rebasing Year (2017 OEB Approved)"},{"$f":"'App.2-K_Employee Costs'!M$18","v":0}]
[{"$f":"'LDC Info'!$E$14","v":"Ottawa River Power Corporation"},"EB-2021-0052",2022,2021,2016,"Non-Management (union and non-union)","Total Salary and Wages including ovetime and incentive pay",{"$f":"'App.2-K_Employee Costs'!M$12","v":"Last Rebasing Year (2017 OEB Approved)"},{"$f":"'App.2-K_Employee Costs'!M$19","v":0}]
[{"$f":"'LDC Info'!$E$14","v":"Ottawa River Power Corporation"},"EB-2021-0052",2022,2021,2016,"Management (including executive)","Total Benefits (Current + Accrued)",{"$f":"'App.2-K_Employee Costs'!M$12","v":"Last Rebasing Year (2017 OEB Approved)"},{"$f":"'App.2-K_Employee Costs'!M$22","v":0}]
[{"$f":"'LDC Info'!$E$14","v":"Ottawa River Power Corporation"},"EB-2021-0052",2022,2021,2016,"Non-Management (union and non-union)","Total Benefits (Current + Accrued)",{"$f":"'App.2-K_Employee Costs'!M$12","v":"Last Rebasing Year (2017 OEB Approved)"},{"$f":"'App.2-K_Employee Costs'!M$23","v":0}]
[{"$f":"'LDC Info'!$E$14","v":"Ottawa River Power Corporation"},"EB-2021-0052",2022,2021,2016,"Management (including executive)","Total Compensation (Salary, Wages, & Benefits)",{"$f":"'App.2-K_Employee Costs'!M$12","v":"Last Rebasing Year (2017 OEB Approved)"},{"$f":"'App.2-K_Employee Costs'!M$26","v":0}]
[{"$f":"'LDC Info'!$E$14","v":"Ottawa River Power Corporation"},"EB-2021-0052",2022,2021,2016,"Non-Management (union and non-union)","Total Compensation (Salary, Wages, & Benefits)",{"$f":"'App.2-K_Employee Costs'!M$12","v":"Last Rebasing Year (2017 OEB Approved)"},{"$f":"'App.2-K_Employee Costs'!M$27","v":0}]
[{"$f":"'LDC Info'!$E$14","v":"Ottawa River Power Corporation"},{"$f":"EBNUMBER","v":"EB-2021-0052"},{"$f":"TestYear","v":2022},{"$f":"BridgeYear","v":2021},{"$f":"RebaseYear","v":2016},"Management (including executive)","Number of Employees (FTEs including Part-Time)",{"$f":"'App.2-K_Employee Costs'!N$12","v":"Last Rebasing Year (2017 Actuals)"},{"$f":"'App.2-K_Employee Costs'!N$14","v":0}]
[{"$f":"'LDC Info'!$E$14","v":"Ottawa River Power Corporation"},"EB-2021-0052",2022,2021,2016,"Non-Management (union and non-union)","Number of Employees (FTEs including Part-Time)",{"$f":"'App.2-K_Employee Costs'!N$12","v":"Last Rebasing Year (2017 Actuals)"},{"$f":"'App.2-K_Employee Costs'!N$15","v":0}]
[{"$f":"'LDC Info'!$E$14","v":"Ottawa River Power Corporation"},"EB-2021-0052",2022,2021,2016,"Management (including executive)","Total Salary and Wages including ovetime and incentive pay",{"$f":"'App.2-K_Employee Costs'!N$12","v":"Last Rebasing Year (2017 Actuals)"},{"$f":"'App.2-K_Employee Costs'!N$18","v":0}]
[{"$f":"'LDC Info'!$E$14","v":"Ottawa River Power Corporation"},"EB-2021-0052",2022,2021,2016,"Non-Management (union and non-union)","Total Salary and Wages including ovetime and incentive pay",{"$f":"'App.2-K_Employee Costs'!N$12","v":"Last Rebasing Year (2017 Actuals)"},{"$f":"'App.2-K_Employee Costs'!N$19","v":0}]
[{"$f":"'LDC Info'!$E$14","v":"Ottawa River Power Corporation"},"EB-2021-0052",2022,2021,2016,"Management (including executive)","Total Benefits (Current + Accrued)",{"$f":"'App.2-K_Employee Costs'!N$12","v":"Last Rebasing Year (2017 Actuals)"},{"$f":"'App.2-K_Employee Costs'!N$22","v":0}]
[{"$f":"'LDC Info'!$E$14","v":"Ottawa River Power Corporation"},"EB-2021-0052",2022,2021,2016,"Non-Management (union and non-union)","Total Benefits (Current + Accrued)",{"$f":"'App.2-K_Employee Costs'!N$12","v":"Last Rebasing Year (2017 Actuals)"},{"$f":"'App.2-K_Employee Costs'!N$23","v":0}]
[{"$f":"'LDC Info'!$E$14","v":"Ottawa River Power Corporation"},"EB-2021-0052",2022,2021,2016,"Management (including executive)","Total Compensation (Salary, Wages, & Benefits)",{"$f":"'App.2-K_Employee Costs'!N$12","v":"Last Rebasing Year (2017 Actuals)"},{"$f":"'App.2-K_Employee Costs'!N$26","v":0}]
[{"$f":"'LDC Info'!$E$14","v":"Ottawa River Power Corporation"},"EB-2021-0052",2022,2021,2016,"Non-Management (union and non-union)","Total Compensation (Salary, Wages, & Benefits)",{"$f":"'App.2-K_Employee Costs'!N$12","v":"Last Rebasing Year (2017 Actuals)"},{"$f":"'App.2-K_Employee Costs'!N$27","v":0}]
[{"$f":"'LDC Info'!$E$14","v":"Ottawa River Power Corporation"},"EB-2021-0052",2022,2021,2016,"Management (including executive)","Number of Employees (FTEs including Part-Time)",{"$f":"'App.2-K_Employee Costs'!O$12","v":"2017 Actuals"},{"$f":"'App.2-K_Employee Costs'!O$14","v":6}]
[{"$f":"'LDC Info'!$E$14","v":"Ottawa River Power Corporation"},"EB-2021-0052",2022,2021,2016,"Non-Management (union and non-union)","Number of Employees (FTEs including Part-Time)",{"$f":"'App.2-K_Employee Costs'!O$12","v":"2017 Actuals"},{"$f":"'App.2-K_Employee Costs'!O$15","v":20}]
[{"$f":"'LDC Info'!$E$14","v":"Ottawa River Power Corporation"},"EB-2021-0052",2022,2021,2016,"Management (including executive)","Total Salary and Wages including ovetime and incentive pay",{"$f":"'App.2-K_Employee Costs'!O$12","v":"2017 Actuals"},{"$f":"'App.2-K_Employee Costs'!O$18","v":511046.98000000004}]
[{"$f":"'LDC Info'!$E$14","v":"Ottawa River Power Corporation"},"EB-2021-0052",2022,2021,2016,"Non-Management (union and non-union)","Total Salary and Wages including ovetime and incentive pay",{"$f":"'App.2-K_Employee Costs'!O$12","v":"2017 Actuals"},{"$f":"'App.2-K_Employee Costs'!O$19","v":1343179.25}]
[{"$f":"'LDC Info'!$E$14","v":"Ottawa River Power Corporation"},"EB-2021-0052",2022,2021,2016,"Management (including executive)","Total Benefits (Current + Accrued)",{"$f":"'App.2-K_Employee Costs'!O$12","v":"2017 Actuals"},{"$f":"'App.2-K_Employee Costs'!O$22","v":134518.41525799999}]
[{"$f":"'LDC Info'!$E$14","v":"Ottawa River Power Corporation"},"EB-2021-0052",2022,2021,2016,"Non-Management (union and non-union)","Total Benefits (Current + Accrued)",{"$f":"'App.2-K_Employee Costs'!O$12","v":"2017 Actuals"},{"$f":"'App.2-K_Employee Costs'!O$23","v":341588.73491400003}]
[{"$f":"'LDC Info'!$E$14","v":"Ottawa River Power Corporation"},"EB-2021-0052",2022,2021,2016,"Management (including executive)","Total Compensation (Salary, Wages, & Benefits)",{"$f":"'App.2-K_Employee Costs'!O$12","v":"2017 Actuals"},{"$f":"'App.2-K_Employee Costs'!O$26","v":645565.395258}]
[{"$f":"'LDC Info'!$E$14","v":"Ottawa River Power Corporation"},"EB-2021-0052",2022,2021,2016,"Non-Management (union and non-union)","Total Compensation (Salary, Wages, & Benefits)",{"$f":"'App.2-K_Employee Costs'!O$12","v":"2017 Actuals"},{"$f":"'App.2-K_Employee Costs'!O$27","v":1684767.9849140001}]
[{"$f":"'LDC Info'!$E$14","v":"Ottawa River Power Corporation"},"EB-2021-0052",2022,2021,2016,"Management (including executive)","Number of Employees (FTEs including Part-Time)",{"$f":"'App.2-K_Employee Costs'!P$12","v":"Last Rebasing Year (2018 OEB Approved)"},{"$f":"'App.2-K_Employee Costs'!P$14","v":0}]
[{"$f":"'LDC Info'!$E$14","v":"Ottawa River Power Corporation"},"EB-2021-0052",2022,2021,2016,"Non-Management (union and non-union)","Number of Employees (FTEs including Part-Time)",{"$f":"'App.2-K_Employee Costs'!P$12","v":"Last Rebasing Year (2018 OEB Approved)"},{"$f":"'App.2-K_Employee Costs'!P$15","v":0}]
[{"$f":"'LDC Info'!$E$14","v":"Ottawa River Power Corporation"},"EB-2021-0052",2022,2021,2016,"Management (including executive)","Total Salary and Wages including ovetime and incentive pay",{"$f":"'App.2-K_Employee Costs'!P$12","v":"Last Rebasing Year (2018 OEB Approved)"},{"$f":"'App.2-K_Employee Costs'!P$18","v":0}]
[{"$f":"'LDC Info'!$E$14","v":"Ottawa River Power Corporation"},"EB-2021-0052",2022,2021,2016,"Non-Management (union and non-union)","Total Salary and Wages including ovetime and incentive pay",{"$f":"'App.2-K_Employee Costs'!P$12","v":"Last Rebasing Year (2018 OEB Approved)"},{"$f":"'App.2-K_Employee Costs'!P$19","v":0}]
[{"$f":"'LDC Info'!$E$14","v":"Ottawa River Power Corporation"},"EB-2021-0052",2022,2021,2016,"Management (including executive)","Total Benefits (Current + Accrued)",{"$f":"'App.2-K_Employee Costs'!P$12","v":"Last Rebasing Year (2018 OEB Approved)"},{"$f":"'App.2-K_Employee Costs'!P$22","v":0}]
[{"$f":"'LDC Info'!$E$14","v":"Ottawa River Power Corporation"},"EB-2021-0052",2022,2021,2016,"Non-Management (union and non-union)","Total Benefits (Current + Accrued)",{"$f":"'App.2-K_Employee Costs'!P$12","v":"Last Rebasing Year (2018 OEB Approved)"},{"$f":"'App.2-K_Employee Costs'!P$23","v":0}]
[{"$f":"'LDC Info'!$E$14","v":"Ottawa River Power Corporation"},"EB-2021-0052",2022,2021,2016,"Management (including executive)","Total Compensation (Salary, Wages, & Benefits)",{"$f":"'App.2-K_Employee Costs'!P$12","v":"Last Rebasing Year (2018 OEB Approved)"},{"$f":"'App.2-K_Employee Costs'!P$26","v":0}]
[{"$f":"'LDC Info'!$E$14","v":"Ottawa River Power Corporation"},"EB-2021-0052",2022,2021,2016,"Non-Management (union and non-union)","Total Compensation (Salary, Wages, & Benefits)",{"$f":"'App.2-K_Employee Costs'!P$12","v":"Last Rebasing Year (2018 OEB Approved)"},{"$f":"'App.2-K_Employee Costs'!P$27","v":0}]
[{"$f":"'LDC Info'!$E$14","v":"Ottawa River Power Corporation"},"EB-2021-0052",2022,2021,2016,"Management (including executive)","Number of Employees (FTEs including Part-Time)",{"$f":"'App.2-K_Employee Costs'!Q$12","v":"Last Rebasing Year (2018 Actuals)"},{"$f":"'App.2-K_Employee Costs'!Q$14","v":0}]
[{"$f":"'LDC Info'!$E$14","v":"Ottawa River Power Corporation"},"EB-2021-0052",2022,2021,2016,"Non-Management (union and non-union)","Number of Employees (FTEs including Part-Time)",{"$f":"'App.2-K_Employee Costs'!Q$12","v":"Last Rebasing Year (2018 Actuals)"},{"$f":"'App.2-K_Employee Costs'!Q$15","v":0}]
[{"$f":"'LDC Info'!$E$14","v":"Ottawa River Power Corporation"},"EB-2021-0052",2022,2021,2016,"Management (including executive)","Total Salary and Wages including ovetime and incentive pay",{"$f":"'App.2-K_Employee Costs'!Q$12","v":"Last Rebasing Year (2018 Actuals)"},{"$f":"'App.2-K_Employee Costs'!Q$18","v":0}]
[{"$f":"'LDC Info'!$E$14","v":"Ottawa River Power Corporation"},"EB-2021-0052",2022,2021,2016,"Non-Management (union and non-union)","Total Salary and Wages including ovetime and incentive pay",{"$f":"'App.2-K_Employee Costs'!Q$12","v":"Last Rebasing Year (2018 Actuals)"},{"$f":"'App.2-K_Employee Costs'!Q$19","v":0}]
[{"$f":"'LDC Info'!$E$14","v":"Ottawa River Power Corporation"},"EB-2021-0052",2022,2021,2016,"Management (including executive)","Total Benefits (Current + Accrued)",{"$f":"'App.2-K_Employee Costs'!Q$12","v":"Last Rebasing Year (2018 Actuals)"},{"$f":"'App.2-K_Employee Costs'!Q$22","v":0}]
[{"$f":"'LDC Info'!$E$14","v":"Ottawa River Power Corporation"},"EB-2021-0052",2022,2021,2016,"Non-Management (union and non-union)","Total Benefits (Current + Accrued)",{"$f":"'App.2-K_Employee Costs'!Q$12","v":"Last Rebasing Year (2018 Actuals)"},{"$f":"'App.2-K_Employee Costs'!Q$23","v":0}]
[{"$f":"'LDC Info'!$E$14","v":"Ottawa River Power Corporation"},"EB-2021-0052",2022,2021,2016,"Management (including executive)","Total Compensation (Salary, Wages, & Benefits)",{"$f":"'App.2-K_Employee Costs'!Q$12","v":"Last Rebasing Year (2018 Actuals)"},{"$f":"'App.2-K_Employee Costs'!Q$26","v":0}]
[{"$f":"'LDC Info'!$E$14","v":"Ottawa River Power Corporation"},"EB-2021-0052",2022,2021,2016,"Non-Management (union and non-union)","Total Compensation (Salary, Wages, & Benefits)",{"$f":"'App.2-K_Employee Costs'!Q$12","v":"Last Rebasing Year (2018 Actuals)"},{"$f":"'App.2-K_Employee Costs'!Q$27","v":0}]
[{"$f":"'LDC Info'!$E$14","v":"Ottawa River Power Corporation"},{"$f":"EBNUMBER","v":"EB-2021-0052"},{"$f":"TestYear","v":2022},{"$f":"BridgeYear","v":2021},{"$f":"RebaseYear","v":2016},"Management (including executive)","Number of Employees (FTEs including Part-Time)",{"$f":"'App.2-K_Employee Costs'!R$12","v":"2018 Actuals"},{"$f":"'App.2-K_Employee Costs'!R$14","v":6}]
[{"$f":"'LDC Info'!$E$14","v":"Ottawa River Power Corporation"},"EB-2021-0052",2022,2021,2016,"Non-Management (union and non-union)","Number of Employees (FTEs including Part-Time)",{"$f":"'App.2-K_Employee Costs'!R$12","v":"2018 Actuals"},{"$f":"'App.2-K_Employee Costs'!R$15","v":20}]
[{"$f":"'LDC Info'!$E$14","v":"Ottawa River Power Corporation"},"EB-2021-0052",2022,2021,2016,"Management (including executive)","Total Salary and Wages including ovetime and incentive pay",{"$f":"'App.2-K_Employee Costs'!R$12","v":"2018 Actuals"},{"$f":"'App.2-K_Employee Costs'!R$18","v":599303.62}]
[{"$f":"'LDC Info'!$E$14","v":"Ottawa River Power Corporation"},"EB-2021-0052",2022,2021,2016,"Non-Management (union and non-union)","Total Salary and Wages including ovetime and incentive pay",{"$f":"'App.2-K_Employee Costs'!R$12","v":"2018 Actuals"},{"$f":"'App.2-K_Employee Costs'!R$19","v":1409748.0300000005}]
[{"$f":"'LDC Info'!$E$14","v":"Ottawa River Power Corporation"},"EB-2021-0052",2022,2021,2016,"Management (including executive)","Total Benefits (Current + Accrued)",{"$f":"'App.2-K_Employee Costs'!R$12","v":"2018 Actuals"},{"$f":"'App.2-K_Employee Costs'!R$22","v":166733.17409399999}]
[{"$f":"'LDC Info'!$E$14","v":"Ottawa River Power Corporation"},"EB-2021-0052",2022,2021,2016,"Non-Management (union and non-union)","Total Benefits (Current + Accrued)",{"$f":"'App.2-K_Employee Costs'!R$12","v":"2018 Actuals"},{"$f":"'App.2-K_Employee Costs'!R$23","v":374292.67570499994}]
[{"$f":"'LDC Info'!$E$14","v":"Ottawa River Power Corporation"},"EB-2021-0052",2022,2021,2016,"Management (including executive)","Total Compensation (Salary, Wages, & Benefits)",{"$f":"'App.2-K_Employee Costs'!R$12","v":"2018 Actuals"},{"$f":"'App.2-K_Employee Costs'!R$26","v":766036.79409400001}]
[{"$f":"'LDC Info'!$E$14","v":"Ottawa River Power Corporation"},"EB-2021-0052",2022,2021,2016,"Non-Management (union and non-union)","Total Compensation (Salary, Wages, & Benefits)",{"$f":"'App.2-K_Employee Costs'!R$12","v":"2018 Actuals"},{"$f":"'App.2-K_Employee Costs'!R$27","v":1784040.7057050006}]
[{"$f":"'LDC Info'!$E$14","v":"Ottawa River Power Corporation"},"EB-2021-0052",2022,2021,2016,"Management (including executive)","Number of Employees (FTEs including Part-Time)",{"$f":"'App.2-K_Employee Costs'!S$12","v":"Last Rebasing Year (2019 OEB Approved)"},{"$f":"'App.2-K_Employee Costs'!S$14","v":0}]
[{"$f":"'LDC Info'!$E$14","v":"Ottawa River Power Corporation"},"EB-2021-0052",2022,2021,2016,"Non-Management (union and non-union)","Number of Employees (FTEs including Part-Time)",{"$f":"'App.2-K_Employee Costs'!S$12","v":"Last Rebasing Year (2019 OEB Approved)"},{"$f":"'App.2-K_Employee Costs'!S$15","v":0}]
[{"$f":"'LDC Info'!$E$14","v":"Ottawa River Power Corporation"},"EB-2021-0052",2022,2021,2016,"Management (including executive)","Total Salary and Wages including ovetime and incentive pay",{"$f":"'App.2-K_Employee Costs'!S$12","v":"Last Rebasing Year (2019 OEB Approved)"},{"$f":"'App.2-K_Employee Costs'!S$18","v":0}]
[{"$f":"'LDC Info'!$E$14","v":"Ottawa River Power Corporation"},"EB-2021-0052",2022,2021,2016,"Non-Management (union and non-union)","Total Salary and Wages including ovetime and incentive pay",{"$f":"'App.2-K_Employee Costs'!S$12","v":"Last Rebasing Year (2019 OEB Approved)"},{"$f":"'App.2-K_Employee Costs'!S$19","v":0}]
[{"$f":"'LDC Info'!$E$14","v":"Ottawa River Power Corporation"},"EB-2021-0052",2022,2021,2016,"Management (including executive)","Total Benefits (Current + Accrued)",{"$f":"'App.2-K_Employee Costs'!S$12","v":"Last Rebasing Year (2019 OEB Approved)"},{"$f":"'App.2-K_Employee Costs'!S$22","v":0}]
[{"$f":"'LDC Info'!$E$14","v":"Ottawa River Power Corporation"},"EB-2021-0052",2022,2021,2016,"Non-Management (union and non-union)","Total Benefits (Current + Accrued)",{"$f":"'App.2-K_Employee Costs'!S$12","v":"Last Rebasing Year (2019 OEB Approved)"},{"$f":"'App.2-K_Employee Costs'!S$23","v":0}]
[{"$f":"'LDC Info'!$E$14","v":"Ottawa River Power Corporation"},"EB-2021-0052",2022,2021,2016,"Management (including executive)","Total Compensation (Salary, Wages, & Benefits)",{"$f":"'App.2-K_Employee Costs'!S$12","v":"Last Rebasing Year (2019 OEB Approved)"},{"$f":"'App.2-K_Employee Costs'!S$26","v":0}]
[{"$f":"'LDC Info'!$E$14","v":"Ottawa River Power Corporation"},"EB-2021-0052",2022,2021,2016,"Non-Management (union and non-union)","Total Compensation (Salary, Wages, & Benefits)",{"$f":"'App.2-K_Employee Costs'!S$12","v":"Last Rebasing Year (2019 OEB Approved)"},{"$f":"'App.2-K_Employee Costs'!S$27","v":0}]
[{"$f":"'LDC Info'!$E$14","v":"Ottawa River Power Corporation"},"EB-2021-0052",2022,2021,2016,"Management (including executive)","Number of Employees (FTEs including Part-Time)",{"$f":"'App.2-K_Employee Costs'!T$12","v":"Last Rebasing Year (2019 Actuals)"},{"$f":"'App.2-K_Employee Costs'!T$14","v":0}]
[{"$f":"'LDC Info'!$E$14","v":"Ottawa River Power Corporation"},"EB-2021-0052",2022,2021,2016,"Non-Management (union and non-union)","Number of Employees (FTEs including Part-Time)",{"$f":"'App.2-K_Employee Costs'!T$12","v":"Last Rebasing Year (2019 Actuals)"},{"$f":"'App.2-K_Employee Costs'!T$15","v":0}]
[{"$f":"'LDC Info'!$E$14","v":"Ottawa River Power Corporation"},"EB-2021-0052",2022,2021,2016,"Management (including executive)","Total Salary and Wages including ovetime and incentive pay",{"$f":"'App.2-K_Employee Costs'!T$12","v":"Last Rebasing Year (2019 Actuals)"},{"$f":"'App.2-K_Employee Costs'!T$18","v":0}]
[{"$f":"'LDC Info'!$E$14","v":"Ottawa River Power Corporation"},"EB-2021-0052",2022,2021,2016,"Non-Management (union and non-union)","Total Salary and Wages including ovetime and incentive pay",{"$f":"'App.2-K_Employee Costs'!T$12","v":"Last Rebasing Year (2019 Actuals)"},{"$f":"'App.2-K_Employee Costs'!T$19","v":0}]
[{"$f":"'LDC Info'!$E$14","v":"Ottawa River Power Corporation"},"EB-2021-0052",2022,2021,2016,"Management (including executive)","Total Benefits (Current + Accrued)",{"$f":"'App.2-K_Employee Costs'!T$12","v":"Last Rebasing Year (2019 Actuals)"},{"$f":"'App.2-K_Employee Costs'!T$22","v":0}]
[{"$f":"'LDC Info'!$E$14","v":"Ottawa River Power Corporation"},"EB-2021-0052",2022,2021,2016,"Non-Management (union and non-union)","Total Benefits (Current + Accrued)",{"$f":"'App.2-K_Employee Costs'!T$12","v":"Last Rebasing Year (2019 Actuals)"},{"$f":"'App.2-K_Employee Costs'!T$23","v":0}]
[{"$f":"'LDC Info'!$E$14","v":"Ottawa River Power Corporation"},"EB-2021-0052",2022,2021,2016,"Management (including executive)","Total Compensation (Salary, Wages, & Benefits)",{"$f":"'App.2-K_Employee Costs'!T$12","v":"Last Rebasing Year (2019 Actuals)"},{"$f":"'App.2-K_Employee Costs'!T$26","v":0}]
[{"$f":"'LDC Info'!$E$14","v":"Ottawa River Power Corporation"},"EB-2021-0052",2022,2021,2016,"Non-Management (union and non-union)","Total Compensation (Salary, Wages, & Benefits)",{"$f":"'App.2-K_Employee Costs'!T$12","v":"Last Rebasing Year (2019 Actuals)"},{"$f":"'App.2-K_Employee Costs'!T$27","v":0}]
[{"$f":"'LDC Info'!$E$14","v":"Ottawa River Power Corporation"},"EB-2021-0052",2022,2021,2016,"Management (including executive)","Number of Employees (FTEs including Part-Time)",{"$f":"'App.2-K_Employee Costs'!U$12","v":"2019 Actuals"},{"$f":"'App.2-K_Employee Costs'!U$14","v":5}]
[{"$f":"'LDC Info'!$E$14","v":"Ottawa River Power Corporation"},"EB-2021-0052",2022,2021,2016,"Non-Management (union and non-union)","Number of Employees (FTEs including Part-Time)",{"$f":"'App.2-K_Employee Costs'!U$12","v":"2019 Actuals"},{"$f":"'App.2-K_Employee Costs'!U$15","v":21}]
[{"$f":"'LDC Info'!$E$14","v":"Ottawa River Power Corporation"},"EB-2021-0052",2022,2021,2016,"Management (including executive)","Total Salary and Wages including ovetime and incentive pay",{"$f":"'App.2-K_Employee Costs'!U$12","v":"2019 Actuals"},{"$f":"'App.2-K_Employee Costs'!U$18","v":537136.31999999995}]
[{"$f":"'LDC Info'!$E$14","v":"Ottawa River Power Corporation"},"EB-2021-0052",2022,2021,2016,"Non-Management (union and non-union)","Total Salary and Wages including ovetime and incentive pay",{"$f":"'App.2-K_Employee Costs'!U$12","v":"2019 Actuals"},{"$f":"'App.2-K_Employee Costs'!U$19","v":1507261.5299999998}]
[{"$f":"'LDC Info'!$E$14","v":"Ottawa River Power Corporation"},"EB-2021-0052",2022,2021,2016,"Management (including executive)","Total Benefits (Current + Accrued)",{"$f":"'App.2-K_Employee Costs'!U$12","v":"2019 Actuals"},{"$f":"'App.2-K_Employee Costs'!U$22","v":147629.017846}]
[{"$f":"'LDC Info'!$E$14","v":"Ottawa River Power Corporation"},"EB-2021-0052",2022,2021,2016,"Non-Management (union and non-union)","Total Benefits (Current + Accrued)",{"$f":"'App.2-K_Employee Costs'!U$12","v":"2019 Actuals"},{"$f":"'App.2-K_Employee Costs'!U$23","v":390716.35138200002}]
[{"$f":"'LDC Info'!$E$14","v":"Ottawa River Power Corporation"},"EB-2021-0052",2022,2021,2016,"Management (including executive)","Total Compensation (Salary, Wages, & Benefits)",{"$f":"'App.2-K_Employee Costs'!U$12","v":"2019 Actuals"},{"$f":"'App.2-K_Employee Costs'!U$26","v":684765.33784599998}]
[{"$f":"'LDC Info'!$E$14","v":"Ottawa River Power Corporation"},"EB-2021-0052",2022,2021,2016,"Non-Management (union and non-union)","Total Compensation (Salary, Wages, & Benefits)",{"$f":"'App.2-K_Employee Costs'!U$12","v":"2019 Actuals"},{"$f":"'App.2-K_Employee Costs'!U$27","v":1897977.8813819997}]
[{"$f":"'LDC Info'!$E$14","v":"Ottawa River Power Corporation"},{"$f":"EBNUMBER","v":"EB-2021-0052"},{"$f":"TestYear","v":2022},{"$f":"BridgeYear","v":2021},{"$f":"RebaseYear","v":2016},"Management (including executive)","Number of Employees (FTEs including Part-Time)",{"$f":"'App.2-K_Employee Costs'!V$12","v":"Last Rebasing Year (2020 OEB Approved)"},{"$f":"'App.2-K_Employee Costs'!V$14","v":0}]
[{"$f":"'LDC Info'!$E$14","v":"Ottawa River Power Corporation"},"EB-2021-0052",2022,2021,2016,"Non-Management (union and non-union)","Number of Employees (FTEs including Part-Time)",{"$f":"'App.2-K_Employee Costs'!V$12","v":"Last Rebasing Year (2020 OEB Approved)"},{"$f":"'App.2-K_Employee Costs'!V$15","v":0}]
[{"$f":"'LDC Info'!$E$14","v":"Ottawa River Power Corporation"},"EB-2021-0052",2022,2021,2016,"Management (including executive)","Total Salary and Wages including ovetime and incentive pay",{"$f":"'App.2-K_Employee Costs'!V$12","v":"Last Rebasing Year (2020 OEB Approved)"},{"$f":"'App.2-K_Employee Costs'!V$18","v":0}]
[{"$f":"'LDC Info'!$E$14","v":"Ottawa River Power Corporation"},"EB-2021-0052",2022,2021,2016,"Non-Management (union and non-union)","Total Salary and Wages including ovetime and incentive pay",{"$f":"'App.2-K_Employee Costs'!V$12","v":"Last Rebasing Year (2020 OEB Approved)"},{"$f":"'App.2-K_Employee Costs'!V$19","v":0}]
[{"$f":"'LDC Info'!$E$14","v":"Ottawa River Power Corporation"},"EB-2021-0052",2022,2021,2016,"Management (including executive)","Total Benefits (Current + Accrued)",{"$f":"'App.2-K_Employee Costs'!V$12","v":"Last Rebasing Year (2020 OEB Approved)"},{"$f":"'App.2-K_Employee Costs'!V$22","v":0}]
[{"$f":"'LDC Info'!$E$14","v":"Ottawa River Power Corporation"},"EB-2021-0052",2022,2021,2016,"Non-Management (union and non-union)","Total Benefits (Current + Accrued)",{"$f":"'App.2-K_Employee Costs'!V$12","v":"Last Rebasing Year (2020 OEB Approved)"},{"$f":"'App.2-K_Employee Costs'!V$23","v":0}]
[{"$f":"'LDC Info'!$E$14","v":"Ottawa River Power Corporation"},"EB-2021-0052",2022,2021,2016,"Management (including executive)","Total Compensation (Salary, Wages, & Benefits)",{"$f":"'App.2-K_Employee Costs'!V$12","v":"Last Rebasing Year (2020 OEB Approved)"},{"$f":"'App.2-K_Employee Costs'!V$26","v":0}]
[{"$f":"'LDC Info'!$E$14","v":"Ottawa River Power Corporation"},"EB-2021-0052",2022,2021,2016,"Non-Management (union and non-union)","Total Compensation (Salary, Wages, & Benefits)",{"$f":"'App.2-K_Employee Costs'!V$12","v":"Last Rebasing Year (2020 OEB Approved)"},{"$f":"'App.2-K_Employee Costs'!V$27","v":0}]
[{"$f":"'LDC Info'!$E$14","v":"Ottawa River Power Corporation"},"EB-2021-0052",2022,2021,2016,"Management (including executive)","Number of Employees (FTEs including Part-Time)",{"$f":"'App.2-K_Employee Costs'!W$12","v":"Last Rebasing Year (2020 Actuals)"},{"$f":"'App.2-K_Employee Costs'!W$14","v":0}]
[{"$f":"'LDC Info'!$E$14","v":"Ottawa River Power Corporation"},"EB-2021-0052",2022,2021,2016,"Non-Management (union and non-union)","Number of Employees (FTEs including Part-Time)",{"$f":"'App.2-K_Employee Costs'!W$12","v":"Last Rebasing Year (2020 Actuals)"},{"$f":"'App.2-K_Employee Costs'!W$15","v":0}]
[{"$f":"'LDC Info'!$E$14","v":"Ottawa River Power Corporation"},"EB-2021-0052",2022,2021,2016,"Management (including executive)","Total Salary and Wages including ovetime and incentive pay",{"$f":"'App.2-K_Employee Costs'!W$12","v":"Last Rebasing Year (2020 Actuals)"},{"$f":"'App.2-K_Employee Costs'!W$18","v":0}]
[{"$f":"'LDC Info'!$E$14","v":"Ottawa River Power Corporation"},"EB-2021-0052",2022,2021,2016,"Non-Management (union and non-union)","Total Salary and Wages including ovetime and incentive pay",{"$f":"'App.2-K_Employee Costs'!W$12","v":"Last Rebasing Year (2020 Actuals)"},{"$f":"'App.2-K_Employee Costs'!W$19","v":0}]
[{"$f":"'LDC Info'!$E$14","v":"Ottawa River Power Corporation"},"EB-2021-0052",2022,2021,2016,"Management (including executive)","Total Benefits (Current + Accrued)",{"$f":"'App.2-K_Employee Costs'!W$12","v":"Last Rebasing Year (2020 Actuals)"},{"$f":"'App.2-K_Employee Costs'!W$22","v":0}]
[{"$f":"'LDC Info'!$E$14","v":"Ottawa River Power Corporation"},"EB-2021-0052",2022,2021,2016,"Non-Management (union and non-union)","Total Benefits (Current + Accrued)",{"$f":"'App.2-K_Employee Costs'!W$12","v":"Last Rebasing Year (2020 Actuals)"},{"$f":"'App.2-K_Employee Costs'!W$23","v":0}]
[{"$f":"'LDC Info'!$E$14","v":"Ottawa River Power Corporation"},"EB-2021-0052",2022,2021,2016,"Management (including executive)","Total Compensation (Salary, Wages, & Benefits)",{"$f":"'App.2-K_Employee Costs'!W$12","v":"Last Rebasing Year (2020 Actuals)"},{"$f":"'App.2-K_Employee Costs'!W$26","v":0}]
[{"$f":"'LDC Info'!$E$14","v":"Ottawa River Power Corporation"},"EB-2021-0052",2022,2021,2016,"Non-Management (union and non-union)","Total Compensation (Salary, Wages, & Benefits)",{"$f":"'App.2-K_Employee Costs'!W$12","v":"Last Rebasing Year (2020 Actuals)"},{"$f":"'App.2-K_Employee Costs'!W$27","v":0}]
[{"$f":"'LDC Info'!$E$14","v":"Ottawa River Power Corporation"},"EB-2021-0052",2022,2021,2016,"Management (including executive)","Number of Employees (FTEs including Part-Time)",{"$f":"'App.2-K_Employee Costs'!X$12","v":"2020 Actuals"},{"$f":"'App.2-K_Employee Costs'!X$14","v":6}]
[{"$f":"'LDC Info'!$E$14","v":"Ottawa River Power Corporation"},"EB-2021-0052",2022,2021,2016,"Non-Management (union and non-union)","Number of Employees (FTEs including Part-Time)",{"$f":"'App.2-K_Employee Costs'!X$12","v":"2020 Actuals"},{"$f":"'App.2-K_Employee Costs'!X$15","v":20}]
[{"$f":"'LDC Info'!$E$14","v":"Ottawa River Power Corporation"},"EB-2021-0052",2022,2021,2016,"Management (including executive)","Total Salary and Wages including ovetime and incentive pay",{"$f":"'App.2-K_Employee Costs'!X$12","v":"2020 Actuals"},{"$f":"'App.2-K_Employee Costs'!X$18","v":529564.82000000007}]
[{"$f":"'LDC Info'!$E$14","v":"Ottawa River Power Corporation"},"EB-2021-0052",2022,2021,2016,"Non-Management (union and non-union)","Total Salary and Wages including ovetime and incentive pay",{"$f":"'App.2-K_Employee Costs'!X$12","v":"2020 Actuals"},{"$f":"'App.2-K_Employee Costs'!X$19","v":1497540.0799999998}]
[{"$f":"'LDC Info'!$E$14","v":"Ottawa River Power Corporation"},"EB-2021-0052",2022,2021,2016,"Management (including executive)","Total Benefits (Current + Accrued)",{"$f":"'App.2-K_Employee Costs'!X$12","v":"2020 Actuals"},{"$f":"'App.2-K_Employee Costs'!X$22","v":144999.62889399999}]
[{"$f":"'LDC Info'!$E$14","v":"Ottawa River Power Corporation"},"EB-2021-0052",2022,2021,2016,"Non-Management (union and non-union)","Total Benefits (Current + Accrued)",{"$f":"'App.2-K_Employee Costs'!X$12","v":"2020 Actuals"},{"$f":"'App.2-K_Employee Costs'!X$23","v":412751.44838699989}]
[{"$f":"'LDC Info'!$E$14","v":"Ottawa River Power Corporation"},"EB-2021-0052",2022,2021,2016,"Management (including executive)","Total Compensation (Salary, Wages, & Benefits)",{"$f":"'App.2-K_Employee Costs'!X$12","v":"2020 Actuals"},{"$f":"'App.2-K_Employee Costs'!X$26","v":674564.44889400003}]
[{"$f":"'LDC Info'!$E$14","v":"Ottawa River Power Corporation"},"EB-2021-0052",2022,2021,2016,"Non-Management (union and non-union)","Total Compensation (Salary, Wages, & Benefits)",{"$f":"'App.2-K_Employee Costs'!X$12","v":"2020 Actuals"},{"$f":"'App.2-K_Employee Costs'!X$27","v":1910291.5283869999}]
[{"$f":"'LDC Info'!$E$14","v":"Ottawa River Power Corporation"},"EB-2021-0052",2022,2021,2016,"Management (including executive)","Number of Employees (FTEs including Part-Time)",{"$f":"'App.2-K_Employee Costs'!Y$12","v":"2021 Bridge Year"},{"$f":"'App.2-K_Employee Costs'!Y$14","v":6}]
[{"$f":"'LDC Info'!$E$14","v":"Ottawa River Power Corporation"},"EB-2021-0052",2022,2021,2016,"Non-Management (union and non-union)","Number of Employees (FTEs including Part-Time)",{"$f":"'App.2-K_Employee Costs'!Y$12","v":"2021 Bridge Year"},{"$f":"'App.2-K_Employee Costs'!Y$15","v":20}]
[{"$f":"'LDC Info'!$E$14","v":"Ottawa River Power Corporation"},"EB-2021-0052",2022,2021,2016,"Management (including executive)","Total Salary and Wages including ovetime and incentive pay",{"$f":"'App.2-K_Employee Costs'!Y$12","v":"2021 Bridge Year"},{"$f":"'App.2-K_Employee Costs'!Y$18","v":619197.56999999995}]
[{"$f":"'LDC Info'!$E$14","v":"Ottawa River Power Corporation"},"EB-2021-0052",2022,2021,2016,"Non-Management (union and non-union)","Total Salary and Wages including ovetime and incentive pay",{"$f":"'App.2-K_Employee Costs'!Y$12","v":"2021 Bridge Year"},{"$f":"'App.2-K_Employee Costs'!Y$19","v":1455182.2}]
[{"$f":"'LDC Info'!$E$14","v":"Ottawa River Power Corporation"},"EB-2021-0052",2022,2021,2016,"Management (including executive)","Total Benefits (Current + Accrued)",{"$f":"'App.2-K_Employee Costs'!Y$12","v":"2021 Bridge Year"},{"$f":"'App.2-K_Employee Costs'!Y$22","v":170279.33175000001}]
[{"$f":"'LDC Info'!$E$14","v":"Ottawa River Power Corporation"},"EB-2021-0052",2022,2021,2016,"Non-Management (union and non-union)","Total Benefits (Current + Accrued)",{"$f":"'App.2-K_Employee Costs'!Y$12","v":"2021 Bridge Year"},{"$f":"'App.2-K_Employee Costs'!Y$23","v":400175.10500000004}]
[{"$f":"'LDC Info'!$E$14","v":"Ottawa River Power Corporation"},"EB-2021-0052",2022,2021,2016,"Management (including executive)","Total Compensation (Salary, Wages, & Benefits)",{"$f":"'App.2-K_Employee Costs'!Y$12","v":"2021 Bridge Year"},{"$f":"'App.2-K_Employee Costs'!Y$26","v":789476.90174999996}]
[{"$f":"'LDC Info'!$E$14","v":"Ottawa River Power Corporation"},"EB-2021-0052",2022,2021,2016,"Non-Management (union and non-union)","Total Compensation (Salary, Wages, & Benefits)",{"$f":"'App.2-K_Employee Costs'!Y$12","v":"2021 Bridge Year"},{"$f":"'App.2-K_Employee Costs'!Y$27","v":1855357.3049999999}]
[{"$f":"'LDC Info'!$E$14","v":"Ottawa River Power Corporation"},{"$f":"EBNUMBER","v":"EB-2021-0052"},{"$f":"TestYear","v":2022},{"$f":"BridgeYear","v":2021},{"$f":"RebaseYear","v":2016},"Management (including executive)","Number of Employees (FTEs including Part-Time)",{"$f":"'App.2-K_Employee Costs'!Z$12","v":"2022 Test Year"},{"$f":"'App.2-K_Employee Costs'!Z$14","v":6}]
[{"$f":"'LDC Info'!$E$14","v":"Ottawa River Power Corporation"},"EB-2021-0052",2022,2021,2016,"Non-Management (union and non-union)","Number of Employees (FTEs including Part-Time)",{"$f":"'App.2-K_Employee Costs'!Z$12","v":"2022 Test Year"},{"$f":"'App.2-K_Employee Costs'!Z$15","v":20}]
[{"$f":"'LDC Info'!$E$14","v":"Ottawa River Power Corporation"},"EB-2021-0052",2022,2021,2016,"Management (including executive)","Total Salary and Wages including ovetime and incentive pay",{"$f":"'App.2-K_Employee Costs'!Z$12","v":"2022 Test Year"},{"$f":"'App.2-K_Employee Costs'!Z$18","v":623958.94999999995}]
[{"$f":"'LDC Info'!$E$14","v":"Ottawa River Power Corporation"},"EB-2021-0052",2022,2021,2016,"Non-Management (union and non-union)","Total Salary and Wages including ovetime and incentive pay",{"$f":"'App.2-K_Employee Costs'!Z$12","v":"2022 Test Year"},{"$f":"'App.2-K_Employee Costs'!Z$19","v":1572299}]
[{"$f":"'LDC Info'!$E$14","v":"Ottawa River Power Corporation"},"EB-2021-0052",2022,2021,2016,"Management (including executive)","Total Benefits (Current + Accrued)",{"$f":"'App.2-K_Employee Costs'!Z$12","v":"2022 Test Year"},{"$f":"'App.2-K_Employee Costs'!Z$22","v":171588.71124999999}]
[{"$f":"'LDC Info'!$E$14","v":"Ottawa River Power Corporation"},"EB-2021-0052",2022,2021,2016,"Non-Management (union and non-union)","Total Benefits (Current + Accrued)",{"$f":"'App.2-K_Employee Costs'!Z$12","v":"2022 Test Year"},{"$f":"'App.2-K_Employee Costs'!Z$23","v":432382}]
[{"$f":"'LDC Info'!$E$14","v":"Ottawa River Power Corporation"},"EB-2021-0052",2022,2021,2016,"Management (including executive)","Total Compensation (Salary, Wages, & Benefits)",{"$f":"'App.2-K_Employee Costs'!Z$12","v":"2022 Test Year"},{"$f":"'App.2-K_Employee Costs'!Z$26","v":795547.66124999989}]
[{"$f":"'LDC Info'!$E$14","v":"Ottawa River Power Corporation"},"EB-2021-0052",2022,2021,2016,"Non-Management (union and non-union)","Total Compensation (Salary, Wages, & Benefits)",{"$f":"'App.2-K_Employee Costs'!Z$12","v":"2022 Test Year"},{"$f":"'App.2-K_Employee Costs'!Z$27","v":2004681}]

{"sheet":"FTE","index":44,"n_rows":80,"n_cols":11,"rows_kept":80,"cut":false,"hidden":true,"merged":[[3,1,3,5],[3,6,3,10]]}
["Full-time Employees + Total Salaries and Wages"]
["Time run: 5/31/2021 11:49:24 AM"]
[""]
[null,"Full-time Equivalent Employees",null,null,null,null,"Total Salaries and Wages"]
[null,2017,2018,2019,2020,2021,2017,2018,2019,2020,2021]
["Company Name","January 1, 2016 - December 31, 2016","January 1, 2017 - December 31, 2017","January 1, 2018 - December 31, 2018","January 1, 2019 - December 31, 2019","January 1, 2020 - December 31, 2020","January 1, 2016 - December 31, 2016","January 1, 2017 - December 31, 2017","January 1, 2018 - December 31, 2018","January 1, 2019 - December 31, 2019","January 1, 2020 - December 31, 2020"]
["1937680 Ontario Inc.",34,34,33,32,35,1979600,2593000,2888000,2459000,2814100]
["Alectra Utilities Corporation",null,1516,1533.9,1565.7,1463.8,null,118726266,133398533,149378448,146814399]
["Algoma Power Inc.",57,68,62,61,59,3698000,4040000,3978000,4142000,4227680.78]
["Atikokan Hydro Inc.",7,7,7,7,7,294131.71000000002,255498.09,300423.93,240869,332763.46000000002]
["Bluewater Power Distribution Corporation",110,119,121.2,121.8,116.51,7516465.4199999999,7828549,8051486,8033133,7994106]
["Brantford Power Inc.",57,59,63.3,60.85,63.16,5108303,5669503.2599999998,5675284,5370357,4689367]
["Burlington Hydro Inc.",91,90,92,90,97,8371068,8606638.8300000001,9448448.1199999992,9105399.2599999998,10532377.5]
["Canadian Niagara Power Inc.",84,82,84,88,87,5894000,6224000,6719000,6564000,6798217.4400000004]
["Centre Wellington Hydro Ltd.",15,15,15.05,15,13.52,941428.53,1020445.42,1011527.95,1077909.1399999999,989184.84]
["Chapleau Public Utilities Corporation",5,5,5.4,5,5,268908.63,274609.03000000003,310669.51,303549.31,321034.15999999997]
["Cooperative Hydro Embrun Inc.",3,3,3,3,null,197448,210244,217444,228433.92000000001,237060.94]
["E.L.K. Energy Inc.",18,18,18,17,14,1147137.01,1112445,1125727,1153303,1042033.92]
["ENWIN Utilities Ltd.",197,198,187.53,170,165,15028257.27,14820545,14531062.880000001,14233976.67,15909447.1]
["EPCOR Electricity Distribution Ontario Inc.",20,28,28.8,28.82,29.54,1833320.51,2101330.71,3117796.95,2350083.89,2390824.04]
["ERTH Power Corporation",45,42,39,45,44,3182316,2827901,2361257,2300785,2804415]
["Elexicon Energy Inc.",null,null,null,250.73,246.45,null,null,null,22362612,23314909]
["Energy Plus Inc.",126,126,125,119,121,10337617,10270005,10396501,10697810.07,11153432]
["Enersource Hydro Mississauga Inc.",350,null,null,null,null,33192680.18]
["Entegrus Powerlines Inc.",76,78,103.5,105.7,108,4630903,4808504,6176291,6690022,7411887]
["Espanola Regional Hydro Distribution Corporation",7,7,7,7,null,551355.05000000005,292906.84000000003,362394.76,542129.71]
["Essex Powerlines Corporation",44,46,45.87,45.77,39.97,2648391.96,2959975.06,3123275.68,3107151.12,2834391.47]
["Festival Hydro Inc.",39,39,41,41,40,2700444,2464775.23,2770324.81,2836041.26,3338229.63]
["Fort Frances Power Corporation",12,12,11.25,12.17,12.63,1064649.5,1016741,1042593.89,1194984.1399999999,1281110.79]
["Greater Sudbury Hydro Inc.",66,67,64.849999999999994,58.75,58.97,4645247.1399999997,4858966.4400000004,4853262.9400000004,3882287.46,4176695.52]
["Grimsby Power Incorporated",17,16,17.170000000000002,17.14,14.71,1468279.06,1232989.07,1345002.11,1312788.1399999999,1271966.8500000001]
["Guelph Hydro Electric Systems Inc.",124,126,120.32,null,null,7077743,7419989,7997097]
["Haldimand County Hydro Inc.",52,null,null,null,null,2935379]
["Halton Hills Hydro Inc.",54,53,50,51,49,3736937,3886774,4079271,4078557,4197114]
["Hearst Power Distribution Company Limited",7,7,7,7,7,450824.5,498954.66,517347.04,511617.59,478512.03]
["Horizon Utilities Corporation",335,null,null,null,null,31080893]
["Hydro 2000 Inc.",3,3,2.71,3,null,145094.95000000001,134105,141575,143768.5,126817.92]
["Hydro Hawkesbury Inc.",7,7,7,5,5,127652.44,128145.9,78754.47,0,0]
["Hydro One Brampton Networks Inc.",249,null,null,null,null,14647505.83]
["Hydro One Networks Inc.",4355,4187,4439,4581,4451,337742033.08999997,324531853,366358307,367924590.85000002,369595207]
["Hydro One Remote Communities Inc.",null,null,0,0,null,null,null,0,0]
["Hydro Ottawa Limited",628,628,640.54,624.44000000000005,580.6,41924329.229999997,45206602.960000001,47329230.350000001,47046251.710000001,45507050.880000003]
["Innpower Corporation",39,39,46.31,48.6,51,3535739,3688380,3619606,3896233,4475333]
["Kenora Hydro Electric Corporation Ltd.",12,11,11,null,null,1069179,1103980,1260427]
["Kingston Hydro Corporation",0,0,0,null,null,0,0,0]
["Kitchener-Wilmot Hydro Inc.",187,190,183.78,186.19,183.78,11544877.560000001,12872007.01,13289457.970000001,13554918.029999999,13801194.1]
["Lakefront Utilities Inc.",17,16,17,16,17.41,948280.67,887732,957622,879203,831304]
["Lakeland Power Distribution Ltd.",21,20,19.21,20.97,19.18,1574418.34,1394293.54,1471740.99,1431314.27,1683144.6]
["London Hydro Inc.",322,325,324,319,303,25087942,25886482,26719375,27132905,27695065]
["Midland Power Utility Corporation",17,16,null,null,null,1238956.1100000001,1351881.08]
["Milton Hydro Distribution Inc.",59,56,53,52,51,4495220,4507817,4372892,4430637,4847832]
["Newmarket-Tay Power Distribution Ltd.",44,50,56,65,58,3194625.12,3746524,5170942,4976012,5222512.07]
["Niagara Peninsula Energy Inc.",124,127,127.09,120.51,null,10977227.66,11970431,11950043.869999999,12410955.220000001,12679573.73]
["Niagara-on-the-Lake Hydro Inc.",15,17,16.850000000000001,16.04,16.43,1151892.57,1319545.42,1475038.01,1338437.98,1502517.16]
["North Bay Hydro Distribution Limited",45,47,44,45.46,43.84,3482930.73,3493548.95,3706100.47,3857167.13,4163654.36]
["Northern Ontario Wires Inc.",4,4,3.5,3.5,3.5,370832,386519,406177,452125,440113]
["Oakville Hydro Electricity Distribution Inc.",111,110,104,102,102,9605549,10345505.539999999,10003693,9801789,9911415]
["Orangeville Hydro Limited",19,15,18.559999999999999,19.760000000000002,19.940000000000001,1964153.88,1773194.55,1999551,2262159,2301138]
["Orillia Power Distribution Corporation",33,32,34.799999999999997,35,39,2234161,2442600,2577668,2569787,3202552]
["Oshawa PUC Networks Inc.",75,84,89.68,90.18,75.900000000000006,4786376.1900000004,5045183.9400000004,5829910,6002035.3899999997,5413554.9699999997]
["Ottawa River Power Corporation",26,26,27,28,null,1852589.36,1822038,1619447.07,2009756,1902249.92]
["PUC Distribution Inc.",null,84,81.83,79.849999999999994,null,null,5486892,5599349.8700000001,5341364.66]
["PowerStream Inc.",567,null,null,null,null,51118655.229999997]
["Renfrew Hydro Inc.",11,11,10.97,10.4,10.69,706434.65,653376.07999999996,685732.69,663054.07999999996,742893.95]
["Rideau St. Lawrence Distribution Inc.",15,16,14.49,15.02,14.91,791645.05,819878,757479,814030,842355]
["Sioux Lookout Hydro Inc.",9,9,8,8,8,866381.2,872366.13,826766.47,900900.79,884553.25]
["St. Thomas Energy Inc.",29,28,null,null,null,1926879,1831144]
["Synergy North Corporation",null,null,null,136,129,null,null,null,8297946,8687942]
["Thunder Bay Hydro Electricity Distribution Inc.",133,129,124,null,null,7264762,7218329,7636304]
["Tillsonburg Hydro Inc.",20,19,20.25,20.100000000000001,20.23,1856019.36,1807500.68,1434117,1435725.9,1440430.83]
["Toronto Hydro-Electric System Limited",1477,1584,1541.166667,1517.1666666599999,1431.58,96206966.174988702,92201349,97359694.280000001,89696214.270999998,97608737.159999996]
["Veridian Connections Inc.",221,221,200,null,null,15923153,17318211,16705535]
["Wasaga Distribution Inc.",18,18,18.5,18.5,21.43,1815379.67,1357822.32,1918416.72,2103947.19,1405690.09]
["Waterloo North Hydro Inc.",136,127,124,122,119,9059400.7100000009,8930959,9042120,8640866,8564540]
["Welland Hydro-Electric System Corp.",39,38,36.6,37.619999999999997,35.89,3636589,3579881,3581016,3671620.28,3526184]
["Wellington North Power Inc.",13,13,12.1,12,12,986844.69,956058.88,1009724.03,1050099.44,1048312]
["West Coast Huron Energy Inc.",9,9,9,null,null,442216,457004,263824]
["Westario Power Inc.",30,33,35.04,38.71,35.83,2249708,2193265,3263891,3675590,2842692]
["Whitby Hydro Electric Corporation",2,3,3]
["Woodstock Hydro Services Inc."]

{"sheet":"App.2-L_OM&A_per_Cust_FTE","index":45,"n_rows":39,"n_cols":14,"rows_kept":39,"cut":false,"hidden":false,"merged":[[13,1,13,2],[14,1,14,2],[15,1,15,2],[8,1,8,13],[9,1,9,13],[22,1,22,2],[25,1,25,2],[26,1,26,2],[16,1,16,2],[17,1,17,2],[18,1,18,2],[19,1,19,2],[20,1,20,2],[21,1,21,2],[37,2,37,13],[34,2,34,13],[35,2,35,13],[36,2,36,13],[32,2,33,13]]}
[null,null,null,null,null,null,null,null,null,null,null,null,"File Number:",{"$f":"EBNUMBER","v":"EB-2021-0052"}]
[null,null,null,null,null,null,null,null,null,null,null,null,"Exhibit:"]
[null,null,null,null,null,null,null,null,null,null,null,null,"Tab:"]
[null,null,null,null,null,null,null,null,null,null,null,null,"Schedule:"]
[null,null,null,null,null,null,null,null,null,null,null,null,"Page:"]
[]
[null,null,null,null,null,null,null,null,null,null,null,null,"Date:"]
[]
[null,"Appendix 2-L"]
[null,"Recoverable OM&A Cost per Customer and per FTE 1"]
[]
[]
[null,null,null,{"$f":"\"Last Rebasing Year \"&RebaseYear&\" - OEB Approved\"","v":"Last Rebasing Year 2016 - OEB Approved"},{"$f":"\"Last Rebasing Year \"&RebaseYear&\" -  Actual\"","v":"Last Rebasing Year 2016 -  Actual"},{"$f":"BridgeYear -7 & \" Actuals\"","v":"2014 Actuals"},{"$f":"BridgeYear -6 & \" Actuals\"","v":"2015 Actuals"},{"$f":"BridgeYear -5 & \" Actuals\"","v":"2016 Actuals"},{"$f":"BridgeYear -4 & \" Actuals\"","v":"2017 Actuals"},{"$f":"BridgeYear -3 & \" Actuals\"","v":"2018 Actuals"},{"$f":"BridgeYear -2 & \" Actuals\"","v":"2019 Actuals"},{"$f":"BridgeYear -1 & \" Actuals\"","v":"2020 Actuals"},{"$f":"BridgeYear & \" Bridge Year\"","v":"2021 Bridge Year"},{"$f":"TestYear & \" Test Year\"","v":"2022 Test Year"}]
[null,"Reporting Basis"]
[null,"OM&A Costs"]
[null,"     O&M",null,1202588.7036349266,{"$f":"'App.2-JA_OM&A_Summary_Analys'!C16","v":1243809.8},{"$f":"'App.2-JA_OM&A_Summary_Analys'!D16","v":{"$error":"#N/A"}},{"$f":"'App.2-JA_OM&A_Summary_Analys'!E16","v":{"$error":"#N/A"}},{"$f":"'App.2-JA_OM&A_Summary_Analys'!F16","v":1243809.8},{"$f":"'App.2-JA_OM&A_Summary_Analys'!G16","v":1257805.4700000002},{"$f":"'App.2-JA_OM&A_Summary_Analys'!H16","v":984635.65},{"$f":"'App.2-JA_OM&A_Summary_Analys'!I16","v":1158894.5},{"$f":"'App.2-JA_OM&A_Summary_Analys'!J16","v":1286976.3700000001},1378297.9346500002,1477837.47]
[null,"     Admin Expenses6",null,1862374.869368,{"$f":"'App.2-JA_OM&A_Summary_Analys'!C22","v":1690048.23},{"$f":"'App.2-JA_OM&A_Summary_Analys'!D21","v":{"$error":"#N/A"}},{"$f":"'App.2-JA_OM&A_Summary_Analys'!E21","v":{"$error":"#N/A"}},{"$f":"'App.2-JA_OM&A_Summary_Analys'!F21","v":886993.31},{"$f":"'App.2-JA_OM&A_Summary_Analys'!G22","v":2005330.66},{"$f":"'App.2-JA_OM&A_Summary_Analys'!H22","v":1816842.36},{"$f":"'App.2-JA_OM&A_Summary_Analys'!I22","v":2048291.14},{"$f":"'App.2-JA_OM&A_Summary_Analys'!J22","v":2071514.9300000002},2150839.4699999997,2230556.8642000002]
[null,"Total Recoverable OM&A from Appendix 2-JB 5",null,{"$f":"SUM(D16:D17)","v":3064963.5730029265},{"$f":"SUM(E16:E17)","v":2933858.0300000003},{"$error":"#N/A"},{"$error":"#N/A"},2130803.1100000003,3263136.13,2801478.0100000002,3207185.6399999997,3358491.3000000003,3529137.4046499999,3708394.3342000004]
[null,"Number of Customers 2,4",null,10923,10979,null,null,null,11064,11209,11323,11417,11526,11637]
[null,"Number of FTEs 3,4",null,29,{"$f":"'App.2-K_Employee Costs'!K16","v":26},{"$f":"'App.2-K_Employee Costs'!L16","v":0},{"$f":"'App.2-K_Employee Costs'!M16","v":0},{"$f":"'App.2-K_Employee Costs'!N16","v":0},{"$f":"'App.2-K_Employee Costs'!O16","v":26},{"$f":"'App.2-K_Employee Costs'!R16","v":26},{"$f":"'App.2-K_Employee Costs'!U16","v":26},{"$f":"'App.2-K_Employee Costs'!R16","v":26},26,26]
[null,"Customers/FTEs",null,{"$f":"IF(D20=0,\"\",D19/D20)","v":376.65517241379308},{"$f":"IF(E20=0,\"\",E19/E20)","v":422.26923076923077},"","","",425.53846153846155,431.11538461538464,435.5,439.11538461538464,443.30769230769232,447.57692307692309]
[null,"OM&A cost per customer"]
[null,"     O&M per customer",null,{"$f":"IF(D19=0,\"\",D16/D19)","v":110.09692425477677},{"$f":"IF(E19=0,\"\",E16/E19)","v":113.28989889789598},"","","",113.68451464208245,87.843308948166651,102.34871500485737,{"$f":"IF(L19=0,\"\",L16/L19)","v":112.72456599807306},119.58163583636997,126.99471255478215]
[null,"     Admin per customer",null,{"$f":"IF(D19=0,\"\",D17/D19)","v":170.5003084654399},{"$f":"IF(E19=0,\"\",E17/E19)","v":153.9346233718918},"","","",181.24825198843095,162.08781871710235,180.8965062262651,{"$f":"IF(L19=0,\"\",L17/L19)","v":181.44126565647719},186.60762363352418,191.67799812666496]
[null,"     Total OM&A per customer",null,{"$f":"IF(D19=0,\"\",D18/D19)","v":280.59723272021665},{"$f":"IF(E19=0,\"\",E18/E19)","v":267.22452226978783},"","","",294.93276663051336,249.931127665269,283.24522123112246,{"$f":"IF(L19=0,\"\",L18/L19)","v":294.16583165455023},306.18925946989413,318.67271068144714]
[null,"OM&A cost per FTE"]
[null,"     O&M per FTE",null,{"$f":"IF(D20=0,\"\",D16/D20)","v":41468.575987411263},{"$f":"IF(E20=0,\"\",E16/E20)","v":47838.838461538464},"","","",48377.133461538469,{"$f":"IF(J20=0,\"\",J16/J20)","v":37870.601923076923},44572.865384615383,49499.091153846159,53011.459025000004,{"$f":"IF(N20=0,\"\",N16/N20)","v":56839.902692307689}]
[null,"     Admin per FTE",null,{"$f":"IF(D20=0,\"\",D17/D20)","v":64219.823081655173},{"$f":"IF(E20=0,\"\",E17/E20)","v":65001.854999999996},"","","",77128.102307692301,69878.552307692313,78780.428461538453,79673.651153846164,82724.594999999987,{"$f":"IF(N20=0,\"\",N17/N20)","v":85790.648623076937}]
[null,"     Total OM&A per FTE",null,{"$f":"IF(D20=0,\"\",D18/D20)","v":105688.39906906644},{"$f":"IF(E20=0,\"\",E18/E20)","v":112840.69346153847},"","","",125505.23576923077,107749.15423076924,123353.29384615383,129172.74230769232,135736.05402499999,{"$f":"IF(N20=0,\"\",N18/N20)","v":142630.55131538463}]
[]
[null,"Notes:"]
[]
[null,1,"If it has been more than four years since the applicant last filed a cost of service application, additional years of historical actuals should be incorporated into the table, as necessary, to go back to the last cost of service application. If the applicant last filed a cost of service application less than four years ago, a minimum of three years of actual information is required."]
[]
[null,2,"The method of calculating the number of customers must be identified. Should correspond with data provided in Appendix 2-IB."]
[null,3,"The method of calculating the number of FTEs must be identified. See also Appendix 2-K."]
[null,4,"The number of customers and the number of FTEs should correspond to mid-year or average of January 1 and December 31 figures."]
[null,5,"For the test year, the applicant should take into account the system O&M (line 24 of Appendix 2-AB) in developing its forecasted OM&A."]
[null,6,"Includes lines 19, 20, & 21 of Appendix 2-JA"]

{"sheet":"App.2-L_OM&A_per_Cust_FTEE_exp","index":46,"n_rows":38,"n_cols":12,"rows_kept":38,"cut":false,"hidden":true,"merged":[[37,1,38,11],[36,1,36,11],[32,1,33,11],[19,0,19,1],[18,0,18,1],[20,0,20,1],[26,0,26,1],[8,0,8,11],[9,0,9,11],[34,1,34,6],[35,1,35,6],[21,0,21,1],[22,0,22,1],[25,0,25,1],[14,0,14,1],[13,0,13,1],[11,7,11,11],[15,0,15,1],[16,0,16,1],[17,0,17,1]]}
[null,null,null,null,null,null,null,null,null,null,"File Number:",{"$f":"EBNUMBER","v":"EB-2021-0052"}]
[null,null,null,null,null,null,null,null,null,null,"Exhibit:"]
[null,null,null,null,null,null,null,null,null,null,"Tab:"]
[null,null,null,null,null,null,null,null,null,null,"Schedule:"]
[null,null,null,null,null,null,null,null,null,null,"Page:"]
[]
[null,null,null,null,null,null,null,null,null,null,"Date:"]
[]
["Appendix 2-L"]
["Recoverable OM&A Cost per Customer and per FTE 1"]
[]
[null,null,null,null,null,null,null,"5-year Distribution System Plan Period"]
[null,null,{"$f":"\"Last Rebasing Year - \"&RebaseYear&\"- Board Approved\"","v":"Last Rebasing Year - 2016- Board Approved"},{"$f":"\"Last Rebasing Year - \"&RebaseYear&\"-  Actual\"","v":"Last Rebasing Year - 2016-  Actual"},{"$f":"BridgeYear -2 & \" Actuals\"","v":"2019 Actuals"},{"$f":"BridgeYear -1 & \" Actuals\"","v":"2020 Actuals"},{"$f":"BridgeYear & \" Bridge Year\"","v":"2021 Bridge Year"},{"$f":"TestYear & \" Test Year\"","v":"2022 Test Year"},{"$f":"TestYear+1 & \" Year\"","v":"2023 Year"},{"$f":"TestYear+2 & \" Year\"","v":"2024 Year"},{"$f":"TestYear+3 & \" Year\"","v":"2025 Year"},{"$f":"TestYear+4 & \" Year\"","v":"2026 Year"}]
["Reporting Basis"]
["OM&A Costs"]
["     O&M"]
["     Admin Expenses"]
["Total Recoverable OM&A from Appendix 2-JB 5",null,{"$f":"SUM(C16:C17)","v":0},{"$f":"SUM(D16:D17)","v":0},0,0,0,0,0,0,0,0]
["Number of Customers 2,4"]
["Number of FTEs 3,4"]
["Customers/FTEs",null,{"$f":"IF(C20=0,\"\",C19/C20)","v":""},{"$f":"IF(D20=0,\"\",D19/D20)","v":""},"","","","","","","",""]
["OM&A cost per customer"]
["     O&M per customer",null,{"$f":"IF(C19=0,\"\",C16/C19)","v":""},{"$f":"IF(D19=0,\"\",D16/D19)","v":""},"","","","","","","",""]
["     Admin per customer",null,{"$f":"IF(C19=0,\"\",C17/C19)","v":""},{"$f":"IF(D19=0,\"\",D17/D19)","v":""},"","","","","","","",""]
["     Total OM&A per customer",null,{"$f":"IF(C19=0,\"\",C18/C19)","v":""},{"$f":"IF(D19=0,\"\",D18/D19)","v":""},"","","","","","","",""]
["OM&A cost per FTE"]
["     O&M per FTE",null,{"$f":"IF(C20=0,\"\",C16/C20)","v":""},{"$f":"IF(D20=0,\"\",D16/D20)","v":""},"","","","","","","",""]
["     Admin per FTE",null,{"$f":"IF(C20=0,\"\",C17/C20)","v":""},{"$f":"IF(D20=0,\"\",D17/D20)","v":""},"","","","","","","",""]
["     Total OM&A per FTE",null,{"$f":"IF(C20=0,\"\",C18/C20)","v":""},{"$f":"IF(D20=0,\"\",D18/D20)","v":""},"","","","","","","",""]
[]
["Notes:"]
[]
[1,"If it has been more than three years since the applicant last filed a cost of service application, additional years of historical actuals should be incorporated into the table, as necessary, to go back to the last cost of service application.  If the applicant last filed a cost of service application less than three years ago, a minimum of three years of actual information is required."]
[]
[2,"The method of calculating the number of customers must be identified. Should be linked back to Appendix 2-IA"]
[3,"The method of calculating the number of FTEs must be identified.  See also Appendix 2-K"]
[4,"The number of customers and the number of FTEs should correspond to mid-year or average of January 1 and December 31 figures."]
[5,"For the test year and in the subsequent four years of the DSP period, the applicant should take into account the system O&M (line X of Appendix 2-AB) in developing its forecasted OM&A. Admin expenses beyond the test year also need to be forecasted (separately)."]

{"sheet":"App.2-M_Regulatory_Costs","index":47,"n_rows":96,"n_cols":11,"rows_kept":96,"cut":false,"hidden":false,"merged":[[45,0,45,1],[12,0,12,1],[13,0,13,1],[8,0,8,10],[9,0,9,10],[14,0,14,1]]}
[null,null,null,null,null,null,null,null,null,"File Number:",{"$f":"EBNUMBER","v":"EB-2021-0052"}]
[null,null,null,null,null,null,null,null,null,"Exhibit:"]
[null,null,null,null,null,null,null,null,null,"Tab:"]
["TO BE UPDATED AT THE DRAFT RATE ORDER STAGE",null,null,null,null,null,null,null,null,"Schedule:"]
[null,null,null,null,null,null,null,null,null,"Page:"]
[]
[null,null,null,null,null,null,null,null,null,"Date:"]
[]
["Appendix 2-M"]
["Regulatory Cost Schedule"]
[]
[]
["Regulatory Cost Category",null,"USoA Account","USoA Account Balance",{"$f":"\"Last Rebasing Year (\" & RebaseYear & \" OEB Approved)\"","v":"Last Rebasing Year (2016 OEB Approved)"},{"$f":"\"Last Rebasing Year (\" & RebaseYear & \" Actual)\"","v":"Last Rebasing Year (2016 Actual)"},{"$f":"\"Most Current Actuals Year \" & TestYear - 2","v":"Most Current Actuals Year 2020"},{"$f":"TestYear -1 & \" Bridge Year\"","v":"2021 Bridge Year"},"Annual % Change",{"$f":"TestYear & \" Test Year\"","v":"2022 Test Year"},"Annual % Change"]
["(A)",null,"(B)","(C )","(D)","(E)","(F)","(G)","(H)=[(G)-(F)]/(F)","(I)","(J) = [(I)-(G)]/(G)"]
["Regulatory Costs (Ongoing)"]
[1,"OEB Annual Assessment",5655,null,null,{"$f":"7875+12260+12260+12259","v":44654},{"$f":"11903+11798+11662+11662","v":47025},{"$f":"11662+11237+5581+11289-5708","v":34061},{"$f":"IF(G16=0,\"\",(H16-G16)/G16)","v":-0.27568314726209464},46000,{"$f":"IF(H16=0,\"\",(J16-H16)/H16)","v":0.35051818795690087}]
[2,"OEB Section 30 Costs (OEB-initiated)",null,null,null,null,null,null,{"$f":"IF(G17=0,\"\",(H17-G17)/G17)","v":""},null,{"$f":"IF(H17=0,\"\",(J17-H17)/H17)","v":""}]
[3,"Expert Witness costs for regulatory matters",null,null,null,null,null,null,"",null,""]
[4,"Legal costs for regulatory matters",null,null,null,null,null,null,"",null,""]
[5,"Consultants' costs for regulatory matters",null,null,null,null,null,null,"",null,""]
[6,"Operating expenses associated with staff resources allocated to regulatory matters",null,null,null,null,null,null,"",null,""]
[7,"Operating expenses associated with other resources allocated to regulatory matters 1",null,null,null,null,null,null,"",null,""]
[8,"Other regulatory agency fees or assessments",null,null,null,null,null,null,"",null,""]
[9,"Any other costs for regulatory matters (please define)",null,null,null,null,null,null,"",null,""]
[10,"Intervenor costs",null,null,null,null,2640,null,-1,null,""]
[11,"OEB and Intervenor Cost Awards for non-ORPC matters",5655,null,null,959.16,2493.71,2536.94,1.7335616410889806E-2,2500,-1.4560848896702347E-2]
[12,"Safety and Satisfaction Surveys",5655,null,null,14129.5,5641.5,9572,0.69671186741114954,10000,4.4713748432929377E-2]
[13,"Amortization of 2016 COS",5655,null,null,30376.79,52074.400000000001,21697.7,-0.58333269322354175,null,-1]
[14,"External Auditor Fees",5655,null,null,28200,49953,49862,-1.8217124096650851E-3,49862,0]
[15,null,null,null,null,null,null,null,"",null,""]
[16,null,null,null,null,null,null,null,"",null,""]
[17,null,null,null,null,null,null,null,"",null,""]
[18,null,null,null,null,null,null,null,"",null,""]
[19,null,null,null,null,null,null,null,"",null,""]
[20,null,null,null,null,null,null,null,"",null,""]
[21,null,null,null,null,null,null,null,"",null,""]
[22,null,null,null,null,null,null,null,"",null,""]
[23,null,null,null,null,null,null,null,"",null,""]
[24,null,null,null,null,null,null,null,"",null,""]
[25,null,null,null,null,null,null,null,"",null,""]
[26,null,null,null,null,null,null,null,"",null,""]
[27,null,null,null,null,null,null,null,"",null,""]
[28,null,null,null,null,null,null,null,"",null,""]
[29,null,null,null,null,null,null,null,"",null,""]
[30,null,null,null,null,null,null,null,"",null,""]
["Regulatory Costs (One-Time)"]
[1,"Expert Witness costs",null,null,null,null,null,null,{"$f":"IF(G47=0,\"\",(H47-G47)/G47)","v":""},null,{"$f":"IF(H47=0,\"\",(J47-H47)/H47)","v":""}]
[2,"Legal costs",1460,null,113302.14,null,null,null,"",30000,""]
[3,"Consultants' costs",1460,null,77434.16,null,null,null,"",30000,""]
[4,"Incremental operating expenses associated with staff resources allocated to this application.",null,null,null,null,null,null,"",null,""]
[5,"Incremental operating expenses associated with other resources allocated to this application. 1",null,null,null,null,null,null,"",null,""]
[6,"Intervenor costs",1460,null,69636.179999999993,null,null,null,"",75000,""]
[7,"OEB Section 30 Costs (application-related)",null,null,null,null,null,null,"",null,""]
[8,"DSP",1460,null,null,null,null,null,"",60000,""]
[9,"Asset Condition Assessment",1460,null,null,null,null,null,"",24000,""]
[10,"ACA/DSP",1460,null,null,null,null,null,"",120000,""]
[11,"Survey",1460,null,null,null,null,null,"",16000,""]
[12,"Accounting Assistance",1460,null,null,null,null,null,"",15500,""]
[13,null,null,null,null,null,null,null,"",null,""]
[14,null,null,null,null,null,null,null,"",null,""]
[15,"Production & Submission ",1460,null,null,null,null,null,"",1000,""]
[16,"Public Notice ",1460,null,null,null,null,null,"",2000,""]
[17,null,null,null,null,null,null,null,"",null,""]
[18,null,null,null,null,null,null,null,"",null,""]
[19,null,null,null,null,null,null,null,"",null,""]
[20,"Actuary Fees",5655,null,null,500,null,null,"",null,""]
[21,null,null,null,null,null,null,null,"",null,""]
[22,null,null,null,null,null,null,null,"",null,""]
[23,null,null,null,null,null,null,null,"",null,""]
[24,null,null,null,null,null,null,null,"",null,""]
[25,null,null,null,null,null,null,null,"",null,""]
[26,null,null,null,null,null,null,null,"",null,""]
[27,null,null,null,null,null,null,null,"",null,""]
[28,null,null,null,null,null,null,null,"",null,""]
[29,null,null,null,null,null,null,null,"",null,""]
[30,null,null,null,null,null,null,null,{"$f":"IF(G76=0,\"\",(H76-G76)/G76)","v":""},null,""]
[1,"Sub-total - Ongoing Costs 2",null,{"$f":"SUM(D16:D45)","v":0},{"$f":"SUM(E16:E45)","v":0},{"$f":"SUM(F16:F45)","v":118319.45000000001},{"$f":"SUM(G16:G45)","v":159827.60999999999},{"$f":"SUM(H16:H45)","v":117729.64},{"$f":"IF(G77=0,\"\",(H77-G77)/G77)","v":-0.26339610534124858},{"$f":"SUM(J16:J45)","v":108362},-7.956908727487827E-2]
[2,"Sub-total - One-time Costs 3",null,{"$f":"SUM(D47:D76)","v":0},{"$f":"SUM(E47:E76)","v":260372.47999999998},{"$f":"SUM(F47:F76)","v":500},{"$f":"SUM(G47:G76)","v":0},{"$f":"SUM(H47:H76)","v":0},{"$f":"IF(G78=0,\"\",(H78-G78)/G78)","v":""},{"$f":"SUM(J47:J76)","v":373500},""]
[3,"Total",null,{"$f":"D77+D78","v":0},{"$f":"E77+E78","v":260372.47999999998},118819.45000000001,159827.60999999999,117729.64,-0.26339610534124858,{"$f":"J77+C83","v":183062},0.5549355285550861]
[]
[null,"Application-Related One-Time Costs","Total"]
[null,"Total One-Time Costs Related to Application to be Amortized over IRM Period",{"$f":"J78","v":373500}]
[null,"1/5 of Total One-Time Costs",{"$f":"C82/5","v":74700}]
[]
[]
[]
[]
[]
[]
[]
[]
["Notes:"]
[]
["1","Please identify the resources involved."]
["2","Sum of all ongoing costs."]
["3","Sum of all one-time costs related to this application."]

{"sheet":"Hidden_RegulatoryCosts1","index":48,"n_rows":65,"n_cols":16,"rows_kept":65,"cut":false,"hidden":true,"merged":[]}
["Utility Name","EB Number","Test Year","Bridge Year","Last Rebasing Year","Regulatory Cost Category","Type of Cost","USoA","USoA Account Balance",{"$f":"'App.2-M_Regulatory_Costs'!E13","v":"Last Rebasing Year (2016 OEB Approved)"},{"$f":"'App.2-M_Regulatory_Costs'!F13","v":"Last Rebasing Year (2016 Actual)"},{"$f":"'App.2-M_Regulatory_Costs'!G13","v":"Most Current Actuals Year 2020"},{"$f":"'App.2-M_Regulatory_Costs'!H13","v":"2021 Bridge Year"},{"$f":"'App.2-M_Regulatory_Costs'!I13","v":"Annual % Change"},{"$f":"'App.2-M_Regulatory_Costs'!J13","v":"2022 Test Year"},{"$f":"'App.2-M_Regulatory_Costs'!K13","v":"Annual % Change"}]
[{"$f":"'LDC Info'!$E$14","v":"Ottawa River Power Corporation"},{"$f":"EBNUMBER","v":"EB-2021-0052"},{"$f":"TestYear","v":2022},{"$f":"BridgeYear","v":2021},{"$f":"RebaseYear","v":2016},{"$f":"'App.2-M_Regulatory_Costs'!B16","v":"OEB Annual Assessment"},"Ongoing",{"$f":"INDIRECT(\"'App.2-M_Regulatory_Costs'!C\" & MATCH(F2,'App.2-M_Regulatory_Costs'!$B:$B,0))","v":5655},{"$f":"INDIRECT(\"'App.2-M_Regulatory_Costs'!D\" & MATCH($F2,'App.2-M_Regulatory_Costs'!$B:$B,0))","v":0},{"$f":"INDIRECT(\"'App.2-M_Regulatory_Costs'!E\" & MATCH($F2,'App.2-M_Regulatory_Costs'!$B:$B,0))","v":0},{"$f":"INDIRECT(\"'App.2-M_Regulatory_Costs'!F\" & MATCH($F2,'App.2-M_Regulatory_Costs'!$B:$B,0))","v":44654},{"$f":"INDIRECT(\"'App.2-M_Regulatory_Costs'!G\" & MATCH($F2,'App.2-M_Regulatory_Costs'!$B:$B,0))","v":47025},{"$f":"INDIRECT(\"'App.2-M_Regulatory_Costs'!H\" & MATCH($F2,'App.2-M_Regulatory_Costs'!$B:$B,0))","v":34061},{"$f":"INDIRECT(\"'App.2-M_Regulatory_Costs'!I\" & MATCH($F2,'App.2-M_Regulatory_Costs'!$B:$B,0))","v":-0.27568314726209464},{"$f":"INDIRECT(\"'App.2-M_Regulatory_Costs'!J\" & MATCH($F2,'App.2-M_Regulatory_Costs'!$B:$B,0))","v":46000},{"$f":"INDIRECT(\"'App.2-M_Regulatory_Costs'!K\" & MATCH($F2,'App.2-M_Regulatory_Costs'!$B:$B,0))","v":0.35051818795690087}]
[{"$f":"'LDC Info'!$E$14","v":"Ottawa River Power Corporation"},"EB-2021-0052",2022,2021,2016,{"$f":"'App.2-M_Regulatory_Costs'!B17","v":"OEB Section 30 Costs (OEB-initiated)"},"Ongoing",{"$f":"INDIRECT(\"'App.2-M_Regulatory_Costs'!C\" & MATCH(F3,'App.2-M_Regulatory_Costs'!$B:$B,0))","v":0},{"$f":"INDIRECT(\"'App.2-M_Regulatory_Costs'!D\" & MATCH($F3,'App.2-M_Regulatory_Costs'!$B:$B,0))","v":0},{"$f":"INDIRECT(\"'App.2-M_Regulatory_Costs'!E\" & MATCH($F3,'App.2-M_Regulatory_Costs'!$B:$B,0))","v":0},{"$f":"INDIRECT(\"'App.2-M_Regulatory_Costs'!F\" & MATCH($F3,'App.2-M_Regulatory_Costs'!$B:$B,0))","v":0},{"$f":"INDIRECT(\"'App.2-M_Regulatory_Costs'!G\" & MATCH($F3,'App.2-M_Regulatory_Costs'!$B:$B,0))","v":0},{"$f":"INDIRECT(\"'App.2-M_Regulatory_Costs'!H\" & MATCH($F3,'App.2-M_Regulatory_Costs'!$B:$B,0))","v":0},{"$f":"INDIRECT(\"'App.2-M_Regulatory_Costs'!I\" & MATCH($F3,'App.2-M_Regulatory_Costs'!$B:$B,0))","v":""},{"$f":"INDIRECT(\"'App.2-M_Regulatory_Costs'!J\" & MATCH($F3,'App.2-M_Regulatory_Costs'!$B:$B,0))","v":0},{"$f":"INDIRECT(\"'App.2-M_Regulatory_Costs'!K\" & MATCH($F3,'App.2-M_Regulatory_Costs'!$B:$B,0))","v":""}]
[{"$f":"'LDC Info'!$E$14","v":"Ottawa River Power Corporation"},"EB-2021-0052",2022,2021,2016,{"$f":"'App.2-M_Regulatory_Costs'!B18","v":"Expert Witness costs for regulatory matters"},"Ongoing",{"$f":"INDIRECT(\"'App.2-M_Regulatory_Costs'!C\" & MATCH(F4,'App.2-M_Regulatory_Costs'!$B:$B,0))","v":0},{"$f":"INDIRECT(\"'App.2-M_Regulatory_Costs'!D\" & MATCH($F4,'App.2-M_Regulatory_Costs'!$B:$B,0))","v":0},{"$f":"INDIRECT(\"'App.2-M_Regulatory_Costs'!E\" & MATCH($F4,'App.2-M_Regulatory_Costs'!$B:$B,0))","v":0},{"$f":"INDIRECT(\"'App.2-M_Regulatory_Costs'!F\" & MATCH($F4,'App.2-M_Regulatory_Costs'!$B:$B,0))","v":0},{"$f":"INDIRECT(\"'App.2-M_Regulatory_Costs'!G\" & MATCH($F4,'App.2-M_Regulatory_Costs'!$B:$B,0))","v":0},{"$f":"INDIRECT(\"'App.2-M_Regulatory_Costs'!H\" & MATCH($F4,'App.2-M_Regulatory_Costs'!$B:$B,0))","v":0},{"$f":"INDIRECT(\"'App.2-M_Regulatory_Costs'!I\" & MATCH($F4,'App.2-M_Regulatory_Costs'!$B:$B,0))","v":""},{"$f":"INDIRECT(\"'App.2-M_Regulatory_Costs'!J\" & MATCH($F4,'App.2-M_Regulatory_Costs'!$B:$B,0))","v":0},{"$f":"INDIRECT(\"'App.2-M_Regulatory_Costs'!K\" & MATCH($F4,'App.2-M_Regulatory_Costs'!$B:$B,0))","v":""}]
[{"$f":"'LDC Info'!$E$14","v":"Ottawa River Power Corporation"},"EB-2021-0052",2022,2021,2016,{"$f":"'App.2-M_Regulatory_Costs'!B19","v":"Legal costs for regulatory matters"},"Ongoing",{"$f":"INDIRECT(\"'App.2-M_Regulatory_Costs'!C\" & MATCH(F5,'App.2-M_Regulatory_Costs'!$B:$B,0))","v":0},{"$f":"INDIRECT(\"'App.2-M_Regulatory_Costs'!D\" & MATCH($F5,'App.2-M_Regulatory_Costs'!$B:$B,0))","v":0},{"$f":"INDIRECT(\"'App.2-M_Regulatory_Costs'!E\" & MATCH($F5,'App.2-M_Regulatory_Costs'!$B:$B,0))","v":0},{"$f":"INDIRECT(\"'App.2-M_Regulatory_Costs'!F\" & MATCH($F5,'App.2-M_Regulatory_Costs'!$B:$B,0))","v":0},{"$f":"INDIRECT(\"'App.2-M_Regulatory_Costs'!G\" & MATCH($F5,'App.2-M_Regulatory_Costs'!$B:$B,0))","v":0},{"$f":"INDIRECT(\"'App.2-M_Regulatory_Costs'!H\" & MATCH($F5,'App.2-M_Regulatory_Costs'!$B:$B,0))","v":0},{"$f":"INDIRECT(\"'App.2-M_Regulatory_Costs'!I\" & MATCH($F5,'App.2-M_Regulatory_Costs'!$B:$B,0))","v":""},{"$f":"INDIRECT(\"'App.2-M_Regulatory_Costs'!J\" & MATCH($F5,'App.2-M_Regulatory_Costs'!$B:$B,0))","v":0},{"$f":"INDIRECT(\"'App.2-M_Regulatory_Costs'!K\" & MATCH($F5,'App.2-M_Regulatory_Costs'!$B:$B,0))","v":""}]
[{"$f":"'LDC Info'!$E$14","v":"Ottawa River Power Corporation"},"EB-2021-0052",2022,2021,2016,{"$f":"'App.2-M_Regulatory_Costs'!B20","v":"Consultants' costs for regulatory matters"},"Ongoing",{"$f":"INDIRECT(\"'App.2-M_Regulatory_Costs'!C\" & MATCH(F6,'App.2-M_Regulatory_Costs'!$B:$B,0))","v":0},{"$f":"INDIRECT(\"'App.2-M_Regulatory_Costs'!D\" & MATCH($F6,'App.2-M_Regulatory_Costs'!$B:$B,0))","v":0},{"$f":"INDIRECT(\"'App.2-M_Regulatory_Costs'!E\" & MATCH($F6,'App.2-M_Regulatory_Costs'!$B:$B,0))","v":0},{"$f":"INDIRECT(\"'App.2-M_Regulatory_Costs'!F\" & MATCH($F6,'App.2-M_Regulatory_Costs'!$B:$B,0))","v":0},{"$f":"INDIRECT(\"'App.2-M_Regulatory_Costs'!G\" & MATCH($F6,'App.2-M_Regulatory_Costs'!$B:$B,0))","v":0},{"$f":"INDIRECT(\"'App.2-M_Regulatory_Costs'!H\" & MATCH($F6,'App.2-M_Regulatory_Costs'!$B:$B,0))","v":0},{"$f":"INDIRECT(\"'App.2-M_Regulatory_Costs'!I\" & MATCH($F6,'App.2-M_Regulatory_Costs'!$B:$B,0))","v":""},{"$f":"INDIRECT(\"'App.2-M_Regulatory_Costs'!J\" & MATCH($F6,'App.2-M_Regulatory_Costs'!$B:$B,0))","v":0},{"$f":"INDIRECT(\"'App.2-M_Regulatory_Costs'!K\" & MATCH($F6,'App.2-M_Regulatory_Costs'!$B:$B,0))","v":""}]
[{"$f":"'LDC Info'!$E$14","v":"Ottawa River Power Corporation"},"EB-2021-0052",2022,2021,2016,{"$f":"'App.2-M_Regulatory_Costs'!B21","v":"Operating expenses associated with staff resources allocated to regulatory matters"},"Ongoing",{"$f":"INDIRECT(\"'App.2-M_Regulatory_Costs'!C\" & MATCH(F7,'App.2-M_Regulatory_Costs'!$B:$B,0))","v":0},{"$f":"INDIRECT(\"'App.2-M_Regulatory_Costs'!D\" & MATCH($F7,'App.2-M_Regulatory_Costs'!$B:$B,0))","v":0},{"$f":"INDIRECT(\"'App.2-M_Regulatory_Costs'!E\" & MATCH($F7,'App.2-M_Regulatory_Costs'!$B:$B,0))","v":0},{"$f":"INDIRECT(\"'App.2-M_Regulatory_Costs'!F\" & MATCH($F7,'App.2-M_Regulatory_Costs'!$B:$B,0))","v":0},{"$f":"INDIRECT(\"'App.2-M_Regulatory_Costs'!G\" & MATCH($F7,'App.2-M_Regulatory_Costs'!$B:$B,0))","v":0},{"$f":"INDIRECT(\"'App.2-M_Regulatory_Costs'!H\" & MATCH($F7,'App.2-M_Regulatory_Costs'!$B:$B,0))","v":0},{"$f":"INDIRECT(\"'App.2-M_Regulatory_Costs'!I\" & MATCH($F7,'App.2-M_Regulatory_Costs'!$B:$B,0))","v":""},{"$f":"INDIRECT(\"'App.2-M_Regulatory_Costs'!J\" & MATCH($F7,'App.2-M_Regulatory_Costs'!$B:$B,0))","v":0},{"$f":"INDIRECT(\"'App.2-M_Regulatory_Costs'!K\" & MATCH($F7,'App.2-M_Regulatory_Costs'!$B:$B,0))","v":""}]
[{"$f":"'LDC Info'!$E$14","v":"Ottawa River Power Corporation"},"EB-2021-0052",2022,2021,2016,{"$f":"'App.2-M_Regulatory_Costs'!B22","v":"Operating expenses associated with other resources allocated to regulatory matters 1"},"Ongoing",{"$f":"INDIRECT(\"'App.2-M_Regulatory_Costs'!C\" & MATCH(F8,'App.2-M_Regulatory_Costs'!$B:$B,0))","v":0},{"$f":"INDIRECT(\"'App.2-M_Regulatory_Costs'!D\" & MATCH($F8,'App.2-M_Regulatory_Costs'!$B:$B,0))","v":0},{"$f":"INDIRECT(\"'App.2-M_Regulatory_Costs'!E\" & MATCH($F8,'App.2-M_Regulatory_Costs'!$B:$B,0))","v":0},{"$f":"INDIRECT(\"'App.2-M_Regulatory_Costs'!F\" & MATCH($F8,'App.2-M_Regulatory_Costs'!$B:$B,0))","v":0},{"$f":"INDIRECT(\"'App.2-M_Regulatory_Costs'!G\" & MATCH($F8,'App.2-M_Regulatory_Costs'!$B:$B,0))","v":0},{"$f":"INDIRECT(\"'App.2-M_Regulatory_Costs'!H\" & MATCH($F8,'App.2-M_Regulatory_Costs'!$B:$B,0))","v":0},{"$f":"INDIRECT(\"'App.2-M_Regulatory_Costs'!I\" & MATCH($F8,'App.2-M_Regulatory_Costs'!$B:$B,0))","v":""},{"$f":"INDIRECT(\"'App.2-M_Regulatory_Costs'!J\" & MATCH($F8,'App.2-M_Regulatory_Costs'!$B:$B,0))","v":0},{"$f":"INDIRECT(\"'App.2-M_Regulatory_Costs'!K\" & MATCH($F8,'App.2-M_Regulatory_Costs'!$B:$B,0))","v":""}]
[{"$f":"'LDC Info'!$E$14","v":"Ottawa River Power Corporation"},"EB-2021-0052",2022,2021,2016,{"$f":"'App.2-M_Regulatory_Costs'!B23","v":"Other regulatory agency fees or assessments"},"Ongoing",{"$f":"INDIRECT(\"'App.2-M_Regulatory_Costs'!C\" & MATCH(F9,'App.2-M_Regulatory_Costs'!$B:$B,0))","v":0},{"$f":"INDIRECT(\"'App.2-M_Regulatory_Costs'!D\" & MATCH($F9,'App.2-M_Regulatory_Costs'!$B:$B,0))","v":0},{"$f":"INDIRECT(\"'App.2-M_Regulatory_Costs'!E\" & MATCH($F9,'App.2-M_Regulatory_Costs'!$B:$B,0))","v":0},{"$f":"INDIRECT(\"'App.2-M_Regulatory_Costs'!F\" & MATCH($F9,'App.2-M_Regulatory_Costs'!$B:$B,0))","v":0},{"$f":"INDIRECT(\"'App.2-M_Regulatory_Costs'!G\" & MATCH($F9,'App.2-M_Regulatory_Costs'!$B:$B,0))","v":0},{"$f":"INDIRECT(\"'App.2-M_Regulatory_Costs'!H\" & MATCH($F9,'App.2-M_Regulatory_Costs'!$B:$B,0))","v":0},{"$f":"INDIRECT(\"'App.2-M_Regulatory_Costs'!I\" & MATCH($F9,'App.2-M_Regulatory_Costs'!$B:$B,0))","v":""},{"$f":"INDIRECT(\"'App.2-M_Regulatory_Costs'!J\" & MATCH($F9,'App.2-M_Regulatory_Costs'!$B:$B,0))","v":0},{"$f":"INDIRECT(\"'App.2-M_Regulatory_Costs'!K\" & MATCH($F9,'App.2-M_Regulatory_Costs'!$B:$B,0))","v":""}]
[{"$f":"'LDC Info'!$E$14","v":"Ottawa River Power Corporation"},"EB-2021-0052",2022,2021,2016,{"$f":"'App.2-M_Regulatory_Costs'!B24","v":"Any other costs for regulatory matters (please define)"},"Ongoing",{"$f":"INDIRECT(\"'App.2-M_Regulatory_Costs'!C\" & MATCH(F10,'App.2-M_Regulatory_Costs'!$B:$B,0))","v":0},{"$f":"INDIRECT(\"'App.2-M_Regulatory_Costs'!D\" & MATCH($F10,'App.2-M_Regulatory_Costs'!$B:$B,0))","v":0},{"$f":"INDIRECT(\"'App.2-M_Regulatory_Costs'!E\" & MATCH($F10,'App.2-M_Regulatory_Costs'!$B:$B,0))","v":0},{"$f":"INDIRECT(\"'App.2-M_Regulatory_Costs'!F\" & MATCH($F10,'App.2-M_Regulatory_Costs'!$B:$B,0))","v":0},{"$f":"INDIRECT(\"'App.2-M_Regulatory_Costs'!G\" & MATCH($F10,'App.2-M_Regulatory_Costs'!$B:$B,0))","v":0},{"$f":"INDIRECT(\"'App.2-M_Regulatory_Costs'!H\" & MATCH($F10,'App.2-M_Regulatory_Costs'!$B:$B,0))","v":0},{"$f":"INDIRECT(\"'App.2-M_Regulatory_Costs'!I\" & MATCH($F10,'App.2-M_Regulatory_Costs'!$B:$B,0))","v":""},{"$f":"INDIRECT(\"'App.2-M_Regulatory_Costs'!J\" & MATCH($F10,'App.2-M_Regulatory_Costs'!$B:$B,0))","v":0},{"$f":"INDIRECT(\"'App.2-M_Regulatory_Costs'!K\" & MATCH($F10,'App.2-M_Regulatory_Costs'!$B:$B,0))","v":""}]
[{"$f":"'LDC Info'!$E$14","v":"Ottawa River Power Corporation"},"EB-2021-0052",2022,2021,2016,{"$f":"'App.2-M_Regulatory_Costs'!B25","v":"Intervenor costs"},"Ongoing",{"$f":"INDIRECT(\"'App.2-M_Regulatory_Costs'!C\" & MATCH(F11,'App.2-M_Regulatory_Costs'!$B:$B,0))","v":0},{"$f":"INDIRECT(\"'App.2-M_Regulatory_Costs'!D\" & MATCH($F11,'App.2-M_Regulatory_Costs'!$B:$B,0))","v":0},{"$f":"INDIRECT(\"'App.2-M_Regulatory_Costs'!E\" & MATCH($F11,'App.2-M_Regulatory_Costs'!$B:$B,0))","v":0},{"$f":"INDIRECT(\"'App.2-M_Regulatory_Costs'!F\" & MATCH($F11,'App.2-M_Regulatory_Costs'!$B:$B,0))","v":0},{"$f":"INDIRECT(\"'App.2-M_Regulatory_Costs'!G\" & MATCH($F11,'App.2-M_Regulatory_Costs'!$B:$B,0))","v":2640},{"$f":"INDIRECT(\"'App.2-M_Regulatory_Costs'!H\" & MATCH($F11,'App.2-M_Regulatory_Costs'!$B:$B,0))","v":0},{"$f":"INDIRECT(\"'App.2-M_Regulatory_Costs'!I\" & MATCH($F11,'App.2-M_Regulatory_Costs'!$B:$B,0))","v":-1},{"$f":"INDIRECT(\"'App.2-M_Regulatory_Costs'!J\" & MATCH($F11,'App.2-M_Regulatory_Costs'!$B:$B,0))","v":0},{"$f":"INDIRECT(\"'App.2-M_Regulatory_Costs'!K\" & MATCH($F11,'App.2-M_Regulatory_Costs'!$B:$B,0))","v":""}]
[{"$f":"'LDC Info'!$E$14","v":"Ottawa River Power Corporation"},"EB-2021-0052",2022,2021,2016,{"$f":"'App.2-M_Regulatory_Costs'!B26","v":"OEB and Intervenor Cost Awards for non-ORPC matters"},"Ongoing",{"$f":"INDIRECT(\"'App.2-M_Regulatory_Costs'!C\" & MATCH(F12,'App.2-M_Regulatory_Costs'!$B:$B,0))","v":5655},{"$f":"INDIRECT(\"'App.2-M_Regulatory_Costs'!D\" & MATCH($F12,'App.2-M_Regulatory_Costs'!$B:$B,0))","v":0},{"$f":"INDIRECT(\"'App.2-M_Regulatory_Costs'!E\" & MATCH($F12,'App.2-M_Regulatory_Costs'!$B:$B,0))","v":0},{"$f":"INDIRECT(\"'App.2-M_Regulatory_Costs'!F\" & MATCH($F12,'App.2-M_Regulatory_Costs'!$B:$B,0))","v":959.16},{"$f":"INDIRECT(\"'App.2-M_Regulatory_Costs'!G\" & MATCH($F12,'App.2-M_Regulatory_Costs'!$B:$B,0))","v":2493.71},{"$f":"INDIRECT(\"'App.2-M_Regulatory_Costs'!H\" & MATCH($F12,'App.2-M_Regulatory_Costs'!$B:$B,0))","v":2536.94},{"$f":"INDIRECT(\"'App.2-M_Regulatory_Costs'!I\" & MATCH($F12,'App.2-M_Regulatory_Costs'!$B:$B,0))","v":1.7335616410889806E-2},{"$f":"INDIRECT(\"'App.2-M_Regulatory_Costs'!J\" & MATCH($F12,'App.2-M_Regulatory_Costs'!$B:$B,0))","v":2500},{"$f":"INDIRECT(\"'App.2-M_Regulatory_Costs'!K\" & MATCH($F12,'App.2-M_Regulatory_Costs'!$B:$B,0))","v":-1.4560848896702347E-2}]
[{"$f":"'LDC Info'!$E$14","v":"Ottawa River Power Corporation"},"EB-2021-0052",2022,2021,2016,{"$f":"'App.2-M_Regulatory_Costs'!B27","v":"Safety and Satisfaction Surveys"},"Ongoing",{"$f":"INDIRECT(\"'App.2-M_Regulatory_Costs'!C\" & MATCH(F13,'App.2-M_Regulatory_Costs'!$B:$B,0))","v":5655},{"$f":"INDIRECT(\"'App.2-M_Regulatory_Costs'!D\" & MATCH($F13,'App.2-M_Regulatory_Costs'!$B:$B,0))","v":0},{"$f":"INDIRECT(\"'App.2-M_Regulatory_Costs'!E\" & MATCH($F13,'App.2-M_Regulatory_Costs'!$B:$B,0))","v":0},{"$f":"INDIRECT(\"'App.2-M_Regulatory_Costs'!F\" & MATCH($F13,'App.2-M_Regulatory_Costs'!$B:$B,0))","v":14129.5},{"$f":"INDIRECT(\"'App.2-M_Regulatory_Costs'!G\" & MATCH($F13,'App.2-M_Regulatory_Costs'!$B:$B,0))","v":5641.5},{"$f":"INDIRECT(\"'App.2-M_Regulatory_Costs'!H\" & MATCH($F13,'App.2-M_Regulatory_Costs'!$B:$B,0))","v":9572},{"$f":"INDIRECT(\"'App.2-M_Regulatory_Costs'!I\" & MATCH($F13,'App.2-M_Regulatory_Costs'!$B:$B,0))","v":0.69671186741114954},{"$f":"INDIRECT(\"'App.2-M_Regulatory_Costs'!J\" & MATCH($F13,'App.2-M_Regulatory_Costs'!$B:$B,0))","v":10000},{"$f":"INDIRECT(\"'App.2-M_Regulatory_Costs'!K\" & MATCH($F13,'App.2-M_Regulatory_Costs'!$B:$B,0))","v":4.4713748432929377E-2}]
[{"$f":"'LDC Info'!$E$14","v":"Ottawa River Power Corporation"},"EB-2021-0052",2022,2021,2016,{"$f":"'App.2-M_Regulatory_Costs'!B28","v":"Amortization of 2016 COS"},"Ongoing",{"$f":"INDIRECT(\"'App.2-M_Regulatory_Costs'!C\" & MATCH(F14,'App.2-M_Regulatory_Costs'!$B:$B,0))","v":5655},{"$f":"INDIRECT(\"'App.2-M_Regulatory_Costs'!D\" & MATCH($F14,'App.2-M_Regulatory_Costs'!$B:$B,0))","v":0},{"$f":"INDIRECT(\"'App.2-M_Regulatory_Costs'!E\" & MATCH($F14,'App.2-M_Regulatory_Costs'!$B:$B,0))","v":0},{"$f":"INDIRECT(\"'App.2-M_Regulatory_Costs'!F\" & MATCH($F14,'App.2-M_Regulatory_Costs'!$B:$B,0))","v":30376.79},{"$f":"INDIRECT(\"'App.2-M_Regulatory_Costs'!G\" & MATCH($F14,'App.2-M_Regulatory_Costs'!$B:$B,0))","v":52074.400000000001},{"$f":"INDIRECT(\"'App.2-M_Regulatory_Costs'!H\" & MATCH($F14,'App.2-M_Regulatory_Costs'!$B:$B,0))","v":21697.7},{"$f":"INDIRECT(\"'App.2-M_Regulatory_Costs'!I\" & MATCH($F14,'App.2-M_Regulatory_Costs'!$B:$B,0))","v":-0.58333269322354175},{"$f":"INDIRECT(\"'App.2-M_Regulatory_Costs'!J\" & MATCH($F14,'App.2-M_Regulatory_Costs'!$B:$B,0))","v":0},{"$f":"INDIRECT(\"'App.2-M_Regulatory_Costs'!K\" & MATCH($F14,'App.2-M_Regulatory_Costs'!$B:$B,0))","v":-1}]
[{"$f":"'LDC Info'!$E$14","v":"Ottawa River Power Corporation"},"EB-2021-0052",2022,2021,2016,{"$f":"'App.2-M_Regulatory_Costs'!B29","v":"External Auditor Fees"},"Ongoing",{"$f":"INDIRECT(\"'App.2-M_Regulatory_Costs'!C\" & MATCH(F15,'App.2-M_Regulatory_Costs'!$B:$B,0))","v":5655},{"$f":"INDIRECT(\"'App.2-M_Regulatory_Costs'!D\" & MATCH($F15,'App.2-M_Regulatory_Costs'!$B:$B,0))","v":0},{"$f":"INDIRECT(\"'App.2-M_Regulatory_Costs'!E\" & MATCH($F15,'App.2-M_Regulatory_Costs'!$B:$B,0))","v":0},{"$f":"INDIRECT(\"'App.2-M_Regulatory_Costs'!F\" & MATCH($F15,'App.2-M_Regulatory_Costs'!$B:$B,0))","v":28200},{"$f":"INDIRECT(\"'App.2-M_Regulatory_Costs'!G\" & MATCH($F15,'App.2-M_Regulatory_Costs'!$B:$B,0))","v":49953},{"$f":"INDIRECT(\"'App.2-M_Regulatory_Costs'!H\" & MATCH($F15,'App.2-M_Regulatory_Costs'!$B:$B,0))","v":49862},{"$f":"INDIRECT(\"'App.2-M_Regulatory_Costs'!I\" & MATCH($F15,'App.2-M_Regulatory_Costs'!$B:$B,0))","v":-1.8217124096650851E-3},{"$f":"INDIRECT(\"'App.2-M_Regulatory_Costs'!J\" & MATCH($F15,'App.2-M_Regulatory_Costs'!$B:$B,0))","v":49862},{"$f":"INDIRECT(\"'App.2-M_Regulatory_Costs'!K\" & MATCH($F15,'App.2-M_Regulatory_Costs'!$B:$B,0))","v":0}]
[{"$f":"'LDC Info'!$E$14","v":"Ottawa River Power Corporation"},"EB-2021-0052",2022,2021,2016,{"$f":"'App.2-M_Regulatory_Costs'!B30","v":0},"Ongoing",{"$f":"INDIRECT(\"'App.2-M_Regulatory_Costs'!C\" & MATCH(F16,'App.2-M_Regulatory_Costs'!$B:$B,0))","v":{"$error":"#N/A"}},{"$f":"INDIRECT(\"'App.2-M_Regulatory_Costs'!D\" & MATCH($F16,'App.2-M_Regulatory_Costs'!$B:$B,0))","v":{"$error":"#N/A"}},{"$f":"INDIRECT(\"'App.2-M_Regulatory_Costs'!E\" & MATCH($F16,'App.2-M_Regulatory_Costs'!$B:$B,0))","v":{"$error":"#N/A"}},{"$f":"INDIRECT(\"'App.2-M_Regulatory_Costs'!F\" & MATCH($F16,'App.2-M_Regulatory_Costs'!$B:$B,0))","v":{"$error":"#N/A"}},{"$f":"INDIRECT(\"'App.2-M_Regulatory_Costs'!G\" & MATCH($F16,'App.2-M_Regulatory_Costs'!$B:$B,0))","v":{"$error":"#N/A"}},{"$f":"INDIRECT(\"'App.2-M_Regulatory_Costs'!H\" & MATCH($F16,'App.2-M_Regulatory_Costs'!$B:$B,0))","v":{"$error":"#N/A"}},{"$f":"INDIRECT(\"'App.2-M_Regulatory_Costs'!I\" & MATCH($F16,'App.2-M_Regulatory_Costs'!$B:$B,0))","v":{"$error":"#N/A"}},{"$f":"INDIRECT(\"'App.2-M_Regulatory_Costs'!J\" & MATCH($F16,'App.2-M_Regulatory_Costs'!$B:$B,0))","v":{"$error":"#N/A"}},{"$f":"INDIRECT(\"'App.2-M_Regulatory_Costs'!K\" & MATCH($F16,'App.2-M_Regulatory_Costs'!$B:$B,0))","v":{"$error":"#N/A"}}]
[{"$f":"'LDC Info'!$E$14","v":"Ottawa River Power Corporation"},"EB-2021-0052",2022,2021,2016,{"$f":"'App.2-M_Regulatory_Costs'!B31","v":0},"Ongoing",{"$f":"INDIRECT(\"'App.2-M_Regulatory_Costs'!C\" & MATCH(F17,'App.2-M_Regulatory_Costs'!$B:$B,0))","v":{"$error":"#N/A"}},{"$f":"INDIRECT(\"'App.2-M_Regulatory_Costs'!D\" & MATCH($F17,'App.2-M_Regulatory_Costs'!$B:$B,0))","v":{"$error":"#N/A"}},{"$f":"INDIRECT(\"'App.2-M_Regulatory_Costs'!E\" & MATCH($F17,'App.2-M_Regulatory_Costs'!$B:$B,0))","v":{"$error":"#N/A"}},{"$f":"INDIRECT(\"'App.2-M_Regulatory_Costs'!F\" & MATCH($F17,'App.2-M_Regulatory_Costs'!$B:$B,0))","v":{"$error":"#N/A"}},{"$f":"INDIRECT(\"'App.2-M_Regulatory_Costs'!G\" & MATCH($F17,'App.2-M_Regulatory_Costs'!$B:$B,0))","v":{"$error":"#N/A"}},{"$f":"INDIRECT(\"'App.2-M_Regulatory_Costs'!H\" & MATCH($F17,'App.2-M_Regulatory_Costs'!$B:$B,0))","v":{"$error":"#N/A"}},{"$f":"INDIRECT(\"'App.2-M_Regulatory_Costs'!I\" & MATCH($F17,'App.2-M_Regulatory_Costs'!$B:$B,0))","v":{"$error":"#N/A"}},{"$f":"INDIRECT(\"'App.2-M_Regulatory_Costs'!J\" & MATCH($F17,'App.2-M_Regulatory_Costs'!$B:$B,0))","v":{"$error":"#N/A"}},{"$f":"INDIRECT(\"'App.2-M_Regulatory_Costs'!K\" & MATCH($F17,'App.2-M_Regulatory_Costs'!$B:$B,0))","v":{"$error":"#N/A"}}]
[{"$f":"'LDC Info'!$E$14","v":"Ottawa River Power Corporation"},"EB-2021-0052",2022,2021,2016,{"$f":"'App.2-M_Regulatory_Costs'!B32","v":0},"Ongoing",{"$f":"INDIRECT(\"'App.2-M_Regulatory_Costs'!C\" & MATCH(F18,'App.2-M_Regulatory_Costs'!$B:$B,0))","v":{"$error":"#N/A"}},{"$f":"INDIRECT(\"'App.2-M_Regulatory_Costs'!D\" & MATCH($F18,'App.2-M_Regulatory_Costs'!$B:$B,0))","v":{"$error":"#N/A"}},{"$f":"INDIRECT(\"'App.2-M_Regulatory_Costs'!E\" & MATCH($F18,'App.2-M_Regulatory_Costs'!$B:$B,0))","v":{"$error":"#N/A"}},{"$f":"INDIRECT(\"'App.2-M_Regulatory_Costs'!F\" & MATCH($F18,'App.2-M_Regulatory_Costs'!$B:$B,0))","v":{"$error":"#N/A"}},{"$f":"INDIRECT(\"'App.2-M_Regulatory_Costs'!G\" & MATCH($F18,'App.2-M_Regulatory_Costs'!$B:$B,0))","v":{"$error":"#N/A"}},{"$f":"INDIRECT(\"'App.2-M_Regulatory_Costs'!H\" & MATCH($F18,'App.2-M_Regulatory_Costs'!$B:$B,0))","v":{"$error":"#N/A"}},{"$f":"INDIRECT(\"'App.2-M_Regulatory_Costs'!I\" & MATCH($F18,'App.2-M_Regulatory_Costs'!$B:$B,0))","v":{"$error":"#N/A"}},{"$f":"INDIRECT(\"'App.2-M_Regulatory_Costs'!J\" & MATCH($F18,'App.2-M_Regulatory_Costs'!$B:$B,0))","v":{"$error":"#N/A"}},{"$f":"INDIRECT(\"'App.2-M_Regulatory_Costs'!K\" & MATCH($F18,'App.2-M_Regulatory_Costs'!$B:$B,0))","v":{"$error":"#N/A"}}]
[{"$f":"'LDC Info'!$E$14","v":"Ottawa River Power Corporation"},"EB-2021-0052",2022,2021,2016,{"$f":"'App.2-M_Regulatory_Costs'!B33","v":0},"Ongoing",{"$f":"INDIRECT(\"'App.2-M_Regulatory_Costs'!C\" & MATCH(F19,'App.2-M_Regulatory_Costs'!$B:$B,0))","v":{"$error":"#N/A"}},{"$f":"INDIRECT(\"'App.2-M_Regulatory_Costs'!D\" & MATCH($F19,'App.2-M_Regulatory_Costs'!$B:$B,0))","v":{"$error":"#N/A"}},{"$f":"INDIRECT(\"'App.2-M_Regulatory_Costs'!E\" & MATCH($F19,'App.2-M_Regulatory_Costs'!$B:$B,0))","v":{"$error":"#N/A"}},{"$f":"INDIRECT(\"'App.2-M_Regulatory_Costs'!F\" & MATCH($F19,'App.2-M_Regulatory_Costs'!$B:$B,0))","v":{"$error":"#N/A"}},{"$f":"INDIRECT(\"'App.2-M_Regulatory_Costs'!G\" & MATCH($F19,'App.2-M_Regulatory_Costs'!$B:$B,0))","v":{"$error":"#N/A"}},{"$f":"INDIRECT(\"'App.2-M_Regulatory_Costs'!H\" & MATCH($F19,'App.2-M_Regulatory_Costs'!$B:$B,0))","v":{"$error":"#N/A"}},{"$f":"INDIRECT(\"'App.2-M_Regulatory_Costs'!I\" & MATCH($F19,'App.2-M_Regulatory_Costs'!$B:$B,0))","v":{"$error":"#N/A"}},{"$f":"INDIRECT(\"'App.2-M_Regulatory_Costs'!J\" & MATCH($F19,'App.2-M_Regulatory_Costs'!$B:$B,0))","v":{"$error":"#N/A"}},{"$f":"INDIRECT(\"'App.2-M_Regulatory_Costs'!K\" & MATCH($F19,'App.2-M_Regulatory_Costs'!$B:$B,0))","v":{"$error":"#N/A"}}]
[{"$f":"'LDC Info'!$E$14","v":"Ottawa River Power Corporation"},"EB-2021-0052",2022,2021,2016,{"$f":"'App.2-M_Regulatory_Costs'!B34","v":0},"Ongoing",{"$f":"INDIRECT(\"'App.2-M_Regulatory_Costs'!C\" & MATCH(F20,'App.2-M_Regulatory_Costs'!$B:$B,0))","v":{"$error":"#N/A"}},{"$f":"INDIRECT(\"'App.2-M_Regulatory_Costs'!D\" & MATCH($F20,'App.2-M_Regulatory_Costs'!$B:$B,0))","v":{"$error":"#N/A"}},{"$f":"INDIRECT(\"'App.2-M_Regulatory_Costs'!E\" & MATCH($F20,'App.2-M_Regulatory_Costs'!$B:$B,0))","v":{"$error":"#N/A"}},{"$f":"INDIRECT(\"'App.2-M_Regulatory_Costs'!F\" & MATCH($F20,'App.2-M_Regulatory_Costs'!$B:$B,0))","v":{"$error":"#N/A"}},{"$f":"INDIRECT(\"'App.2-M_Regulatory_Costs'!G\" & MATCH($F20,'App.2-M_Regulatory_Costs'!$B:$B,0))","v":{"$error":"#N/A"}},{"$f":"INDIRECT(\"'App.2-M_Regulatory_Costs'!H\" & MATCH($F20,'App.2-M_Regulatory_Costs'!$B:$B,0))","v":{"$error":"#N/A"}},{"$f":"INDIRECT(\"'App.2-M_Regulatory_Costs'!I\" & MATCH($F20,'App.2-M_Regulatory_Costs'!$B:$B,0))","v":{"$error":"#N/A"}},{"$f":"INDIRECT(\"'App.2-M_Regulatory_Costs'!J\" & MATCH($F20,'App.2-M_Regulatory_Costs'!$B:$B,0))","v":{"$error":"#N/A"}},{"$f":"INDIRECT(\"'App.2-M_Regulatory_Costs'!K\" & MATCH($F20,'App.2-M_Regulatory_Costs'!$B:$B,0))","v":{"$error":"#N/A"}}]
[{"$f":"'LDC Info'!$E$14","v":"Ottawa River Power Corporation"},"EB-2021-0052",2022,2021,2016,{"$f":"'App.2-M_Regulatory_Costs'!B35","v":0},"Ongoing",{"$f":"INDIRECT(\"'App.2-M_Regulatory_Costs'!C\" & MATCH(F21,'App.2-M_Regulatory_Costs'!$B:$B,0))","v":{"$error":"#N/A"}},{"$f":"INDIRECT(\"'App.2-M_Regulatory_Costs'!D\" & MATCH($F21,'App.2-M_Regulatory_Costs'!$B:$B,0))","v":{"$error":"#N/A"}},{"$f":"INDIRECT(\"'App.2-M_Regulatory_Costs'!E\" & MATCH($F21,'App.2-M_Regulatory_Costs'!$B:$B,0))","v":{"$error":"#N/A"}},{"$f":"INDIRECT(\"'App.2-M_Regulatory_Costs'!F\" & MATCH($F21,'App.2-M_Regulatory_Costs'!$B:$B,0))","v":{"$error":"#N/A"}},{"$f":"INDIRECT(\"'App.2-M_Regulatory_Costs'!G\" & MATCH($F21,'App.2-M_Regulatory_Costs'!$B:$B,0))","v":{"$error":"#N/A"}},{"$f":"INDIRECT(\"'App.2-M_Regulatory_Costs'!H\" & MATCH($F21,'App.2-M_Regulatory_Costs'!$B:$B,0))","v":{"$error":"#N/A"}},{"$f":"INDIRECT(\"'App.2-M_Regulatory_Costs'!I\" & MATCH($F21,'App.2-M_Regulatory_Costs'!$B:$B,0))","v":{"$error":"#N/A"}},{"$f":"INDIRECT(\"'App.2-M_Regulatory_Costs'!J\" & MATCH($F21,'App.2-M_Regulatory_Costs'!$B:$B,0))","v":{"$error":"#N/A"}},{"$f":"INDIRECT(\"'App.2-M_Regulatory_Costs'!K\" & MATCH($F21,'App.2-M_Regulatory_Costs'!$B:$B,0))","v":{"$error":"#N/A"}}]
[{"$f":"'LDC Info'!$E$14","v":"Ottawa River Power Corporation"},"EB-2021-0052",2022,2021,2016,{"$f":"'App.2-M_Regulatory_Costs'!B36","v":0},"Ongoing",{"$f":"INDIRECT(\"'App.2-M_Regulatory_Costs'!C\" & MATCH(F22,'App.2-M_Regulatory_Costs'!$B:$B,0))","v":{"$error":"#N/A"}},{"$f":"INDIRECT(\"'App.2-M_Regulatory_Costs'!D\" & MATCH($F22,'App.2-M_Regulatory_Costs'!$B:$B,0))","v":{"$error":"#N/A"}},{"$f":"INDIRECT(\"'App.2-M_Regulatory_Costs'!E\" & MATCH($F22,'App.2-M_Regulatory_Costs'!$B:$B,0))","v":{"$error":"#N/A"}},{"$f":"INDIRECT(\"'App.2-M_Regulatory_Costs'!F\" & MATCH($F22,'App.2-M_Regulatory_Costs'!$B:$B,0))","v":{"$error":"#N/A"}},{"$f":"INDIRECT(\"'App.2-M_Regulatory_Costs'!G\" & MATCH($F22,'App.2-M_Regulatory_Costs'!$B:$B,0))","v":{"$error":"#N/A"}},{"$f":"INDIRECT(\"'App.2-M_Regulatory_Costs'!H\" & MATCH($F22,'App.2-M_Regulatory_Costs'!$B:$B,0))","v":{"$error":"#N/A"}},{"$f":"INDIRECT(\"'App.2-M_Regulatory_Costs'!I\" & MATCH($F22,'App.2-M_Regulatory_Costs'!$B:$B,0))","v":{"$error":"#N/A"}},{"$f":"INDIRECT(\"'App.2-M_Regulatory_Costs'!J\" & MATCH($F22,'App.2-M_Regulatory_Costs'!$B:$B,0))","v":{"$error":"#N/A"}},{"$f":"INDIRECT(\"'App.2-M_Regulatory_Costs'!K\" & MATCH($F22,'App.2-M_Regulatory_Costs'!$B:$B,0))","v":{"$error":"#N/A"}}]
[{"$f":"'LDC Info'!$E$14","v":"Ottawa River Power Corporation"},"EB-2021-0052",2022,2021,2016,{"$f":"'App.2-M_Regulatory_Costs'!B37","v":0},"Ongoing",{"$f":"INDIRECT(\"'App.2-M_Regulatory_Costs'!C\" & MATCH(F23,'App.2-M_Regulatory_Costs'!$B:$B,0))","v":{"$error":"#N/A"}},{"$f":"INDIRECT(\"'App.2-M_Regulatory_Costs'!D\" & MATCH($F23,'App.2-M_Regulatory_Costs'!$B:$B,0))","v":{"$error":"#N/A"}},{"$f":"INDIRECT(\"'App.2-M_Regulatory_Costs'!E\" & MATCH($F23,'App.2-M_Regulatory_Costs'!$B:$B,0))","v":{"$error":"#N/A"}},{"$f":"INDIRECT(\"'App.2-M_Regulatory_Costs'!F\" & MATCH($F23,'App.2-M_Regulatory_Costs'!$B:$B,0))","v":{"$error":"#N/A"}},{"$f":"INDIRECT(\"'App.2-M_Regulatory_Costs'!G\" & MATCH($F23,'App.2-M_Regulatory_Costs'!$B:$B,0))","v":{"$error":"#N/A"}},{"$f":"INDIRECT(\"'App.2-M_Regulatory_Costs'!H\" & MATCH($F23,'App.2-M_Regulatory_Costs'!$B:$B,0))","v":{"$error":"#N/A"}},{"$f":"INDIRECT(\"'App.2-M_Regulatory_Costs'!I\" & MATCH($F23,'App.2-M_Regulatory_Costs'!$B:$B,0))","v":{"$error":"#N/A"}},{"$f":"INDIRECT(\"'App.2-M_Regulatory_Costs'!J\" & MATCH($F23,'App.2-M_Regulatory_Costs'!$B:$B,0))","v":{"$error":"#N/A"}},{"$f":"INDIRECT(\"'App.2-M_Regulatory_Costs'!K\" & MATCH($F23,'App.2-M_Regulatory_Costs'!$B:$B,0))","v":{"$error":"#N/A"}}]
[{"$f":"'LDC Info'!$E$14","v":"Ottawa River Power Corporation"},"EB-2021-0052",2022,2021,2016,{"$f":"'App.2-M_Regulatory_Costs'!B38","v":0},"Ongoing",{"$f":"INDIRECT(\"'App.2-M_Regulatory_Costs'!C\" & MATCH(F24,'App.2-M_Regulatory_Costs'!$B:$B,0))","v":{"$error":"#N/A"}},{"$f":"INDIRECT(\"'App.2-M_Regulatory_Costs'!D\" & MATCH($F24,'App.2-M_Regulatory_Costs'!$B:$B,0))","v":{"$error":"#N/A"}},{"$f":"INDIRECT(\"'App.2-M_Regulatory_Costs'!E\" & MATCH($F24,'App.2-M_Regulatory_Costs'!$B:$B,0))","v":{"$error":"#N/A"}},{"$f":"INDIRECT(\"'App.2-M_Regulatory_Costs'!F\" & MATCH($F24,'App.2-M_Regulatory_Costs'!$B:$B,0))","v":{"$error":"#N/A"}},{"$f":"INDIRECT(\"'App.2-M_Regulatory_Costs'!G\" & MATCH($F24,'App.2-M_Regulatory_Costs'!$B:$B,0))","v":{"$error":"#N/A"}},{"$f":"INDIRECT(\"'App.2-M_Regulatory_Costs'!H\" & MATCH($F24,'App.2-M_Regulatory_Costs'!$B:$B,0))","v":{"$error":"#N/A"}},{"$f":"INDIRECT(\"'App.2-M_Regulatory_Costs'!I\" & MATCH($F24,'App.2-M_Regulatory_Costs'!$B:$B,0))","v":{"$error":"#N/A"}},{"$f":"INDIRECT(\"'App.2-M_Regulatory_Costs'!J\" & MATCH($F24,'App.2-M_Regulatory_Costs'!$B:$B,0))","v":{"$error":"#N/A"}},{"$f":"INDIRECT(\"'App.2-M_Regulatory_Costs'!K\" & MATCH($F24,'App.2-M_Regulatory_Costs'!$B:$B,0))","v":{"$error":"#N/A"}}]
[{"$f":"'LDC Info'!$E$14","v":"Ottawa River Power Corporation"},"EB-2021-0052",2022,2021,2016,{"$f":"'App.2-M_Regulatory_Costs'!B39","v":0},"Ongoing",{"$f":"INDIRECT(\"'App.2-M_Regulatory_Costs'!C\" & MATCH(F25,'App.2-M_Regulatory_Costs'!$B:$B,0))","v":{"$error":"#N/A"}},{"$f":"INDIRECT(\"'App.2-M_Regulatory_Costs'!D\" & MATCH($F25,'App.2-M_Regulatory_Costs'!$B:$B,0))","v":{"$error":"#N/A"}},{"$f":"INDIRECT(\"'App.2-M_Regulatory_Costs'!E\" & MATCH($F25,'App.2-M_Regulatory_Costs'!$B:$B,0))","v":{"$error":"#N/A"}},{"$f":"INDIRECT(\"'App.2-M_Regulatory_Costs'!F\" & MATCH($F25,'App.2-M_Regulatory_Costs'!$B:$B,0))","v":{"$error":"#N/A"}},{"$f":"INDIRECT(\"'App.2-M_Regulatory_Costs'!G\" & MATCH($F25,'App.2-M_Regulatory_Costs'!$B:$B,0))","v":{"$error":"#N/A"}},{"$f":"INDIRECT(\"'App.2-M_Regulatory_Costs'!H\" & MATCH($F25,'App.2-M_Regulatory_Costs'!$B:$B,0))","v":{"$error":"#N/A"}},{"$f":"INDIRECT(\"'App.2-M_Regulatory_Costs'!I\" & MATCH($F25,'App.2-M_Regulatory_Costs'!$B:$B,0))","v":{"$error":"#N/A"}},{"$f":"INDIRECT(\"'App.2-M_Regulatory_Costs'!J\" & MATCH($F25,'App.2-M_Regulatory_Costs'!$B:$B,0))","v":{"$error":"#N/A"}},{"$f":"INDIRECT(\"'App.2-M_Regulatory_Costs'!K\" & MATCH($F25,'App.2-M_Regulatory_Costs'!$B:$B,0))","v":{"$error":"#N/A"}}]
[{"$f":"'LDC Info'!$E$14","v":"Ottawa River Power Corporation"},"EB-2021-0052",2022,2021,2016,{"$f":"'App.2-M_Regulatory_Costs'!B40","v":0},"Ongoing",{"$f":"INDIRECT(\"'App.2-M_Regulatory_Costs'!C\" & MATCH(F26,'App.2-M_Regulatory_Costs'!$B:$B,0))","v":{"$error":"#N/A"}},{"$f":"INDIRECT(\"'App.2-M_Regulatory_Costs'!D\" & MATCH($F26,'App.2-M_Regulatory_Costs'!$B:$B,0))","v":{"$error":"#N/A"}},{"$f":"INDIRECT(\"'App.2-M_Regulatory_Costs'!E\" & MATCH($F26,'App.2-M_Regulatory_Costs'!$B:$B,0))","v":{"$error":"#N/A"}},{"$f":"INDIRECT(\"'App.2-M_Regulatory_Costs'!F\" & MATCH($F26,'App.2-M_Regulatory_Costs'!$B:$B,0))","v":{"$error":"#N/A"}},{"$f":"INDIRECT(\"'App.2-M_Regulatory_Costs'!G\" & MATCH($F26,'App.2-M_Regulatory_Costs'!$B:$B,0))","v":{"$error":"#N/A"}},{"$f":"INDIRECT(\"'App.2-M_Regulatory_Costs'!H\" & MATCH($F26,'App.2-M_Regulatory_Costs'!$B:$B,0))","v":{"$error":"#N/A"}},{"$f":"INDIRECT(\"'App.2-M_Regulatory_Costs'!I\" & MATCH($F26,'App.2-M_Regulatory_Costs'!$B:$B,0))","v":{"$error":"#N/A"}},{"$f":"INDIRECT(\"'App.2-M_Regulatory_Costs'!J\" & MATCH($F26,'App.2-M_Regulatory_Costs'!$B:$B,0))","v":{"$error":"#N/A"}},{"$f":"INDIRECT(\"'App.2-M_Regulatory_Costs'!K\" & MATCH($F26,'App.2-M_Regulatory_Costs'!$B:$B,0))","v":{"$error":"#N/A"}}]
[{"$f":"'LDC Info'!$E$14","v":"Ottawa River Power Corporation"},"EB-2021-0052",2022,2021,2016,{"$f":"'App.2-M_Regulatory_Costs'!B41","v":0},"Ongoing",{"$f":"INDIRECT(\"'App.2-M_Regulatory_Costs'!C\" & MATCH(F27,'App.2-M_Regulatory_Costs'!$B:$B,0))","v":{"$error":"#N/A"}},{"$f":"INDIRECT(\"'App.2-M_Regulatory_Costs'!D\" & MATCH($F27,'App.2-M_Regulatory_Costs'!$B:$B,0))","v":{"$error":"#N/A"}},{"$f":"INDIRECT(\"'App.2-M_Regulatory_Costs'!E\" & MATCH($F27,'App.2-M_Regulatory_Costs'!$B:$B,0))","v":{"$error":"#N/A"}},{"$f":"INDIRECT(\"'App.2-M_Regulatory_Costs'!F\" & MATCH($F27,'App.2-M_Regulatory_Costs'!$B:$B,0))","v":{"$error":"#N/A"}},{"$f":"INDIRECT(\"'App.2-M_Regulatory_Costs'!G\" & MATCH($F27,'App.2-M_Regulatory_Costs'!$B:$B,0))","v":{"$error":"#N/A"}},{"$f":"INDIRECT(\"'App.2-M_Regulatory_Costs'!H\" & MATCH($F27,'App.2-M_Regulatory_Costs'!$B:$B,0))","v":{"$error":"#N/A"}},{"$f":"INDIRECT(\"'App.2-M_Regulatory_Costs'!I\" & MATCH($F27,'App.2-M_Regulatory_Costs'!$B:$B,0))","v":{"$error":"#N/A"}},{"$f":"INDIRECT(\"'App.2-M_Regulatory_Costs'!J\" & MATCH($F27,'App.2-M_Regulatory_Costs'!$B:$B,0))","v":{"$error":"#N/A"}},{"$f":"INDIRECT(\"'App.2-M_Regulatory_Costs'!K\" & MATCH($F27,'App.2-M_Regulatory_Costs'!$B:$B,0))","v":{"$error":"#N/A"}}]
[{"$f":"'LDC Info'!$E$14","v":"Ottawa River Power Corporation"},"EB-2021-0052",2022,2021,2016,{"$f":"'App.2-M_Regulatory_Costs'!B42","v":0},"Ongoing",{"$f":"INDIRECT(\"'App.2-M_Regulatory_Costs'!C\" & MATCH(F28,'App.2-M_Regulatory_Costs'!$B:$B,0))","v":{"$error":"#N/A"}},{"$f":"INDIRECT(\"'App.2-M_Regulatory_Costs'!D\" & MATCH($F28,'App.2-M_Regulatory_Costs'!$B:$B,0))","v":{"$error":"#N/A"}},{"$f":"INDIRECT(\"'App.2-M_Regulatory_Costs'!E\" & MATCH($F28,'App.2-M_Regulatory_Costs'!$B:$B,0))","v":{"$error":"#N/A"}},{"$f":"INDIRECT(\"'App.2-M_Regulatory_Costs'!F\" & MATCH($F28,'App.2-M_Regulatory_Costs'!$B:$B,0))","v":{"$error":"#N/A"}},{"$f":"INDIRECT(\"'App.2-M_Regulatory_Costs'!G\" & MATCH($F28,'App.2-M_Regulatory_Costs'!$B:$B,0))","v":{"$error":"#N/A"}},{"$f":"INDIRECT(\"'App.2-M_Regulatory_Costs'!H\" & MATCH($F28,'App.2-M_Regulatory_Costs'!$B:$B,0))","v":{"$error":"#N/A"}},{"$f":"INDIRECT(\"'App.2-M_Regulatory_Costs'!I\" & MATCH($F28,'App.2-M_Regulatory_Costs'!$B:$B,0))","v":{"$error":"#N/A"}},{"$f":"INDIRECT(\"'App.2-M_Regulatory_Costs'!J\" & MATCH($F28,'App.2-M_Regulatory_Costs'!$B:$B,0))","v":{"$error":"#N/A"}},{"$f":"INDIRECT(\"'App.2-M_Regulatory_Costs'!K\" & MATCH($F28,'App.2-M_Regulatory_Costs'!$B:$B,0))","v":{"$error":"#N/A"}}]
[{"$f":"'LDC Info'!$E$14","v":"Ottawa River Power Corporation"},"EB-2021-0052",2022,2021,2016,{"$f":"'App.2-M_Regulatory_Costs'!B43","v":0},"Ongoing",{"$f":"INDIRECT(\"'App.2-M_Regulatory_Costs'!C\" & MATCH(F29,'App.2-M_Regulatory_Costs'!$B:$B,0))","v":{"$error":"#N/A"}},{"$f":"INDIRECT(\"'App.2-M_Regulatory_Costs'!D\" & MATCH($F29,'App.2-M_Regulatory_Costs'!$B:$B,0))","v":{"$error":"#N/A"}},{"$f":"INDIRECT(\"'App.2-M_Regulatory_Costs'!E\" & MATCH($F29,'App.2-M_Regulatory_Costs'!$B:$B,0))","v":{"$error":"#N/A"}},{"$f":"INDIRECT(\"'App.2-M_Regulatory_Costs'!F\" & MATCH($F29,'App.2-M_Regulatory_Costs'!$B:$B,0))","v":{"$error":"#N/A"}},{"$f":"INDIRECT(\"'App.2-M_Regulatory_Costs'!G\" & MATCH($F29,'App.2-M_Regulatory_Costs'!$B:$B,0))","v":{"$error":"#N/A"}},{"$f":"INDIRECT(\"'App.2-M_Regulatory_Costs'!H\" & MATCH($F29,'App.2-M_Regulatory_Costs'!$B:$B,0))","v":{"$error":"#N/A"}},{"$f":"INDIRECT(\"'App.2-M_Regulatory_Costs'!I\" & MATCH($F29,'App.2-M_Regulatory_Costs'!$B:$B,0))","v":{"$error":"#N/A"}},{"$f":"INDIRECT(\"'App.2-M_Regulatory_Costs'!J\" & MATCH($F29,'App.2-M_Regulatory_Costs'!$B:$B,0))","v":{"$error":"#N/A"}},{"$f":"INDIRECT(\"'App.2-M_Regulatory_Costs'!K\" & MATCH($F29,'App.2-M_Regulatory_Costs'!$B:$B,0))","v":{"$error":"#N/A"}}]
[{"$f":"'LDC Info'!$E$14","v":"Ottawa River Power Corporation"},"EB-2021-0052",2022,2021,2016,{"$f":"'App.2-M_Regulatory_Costs'!B44","v":0},"Ongoing",{"$f":"INDIRECT(\"'App.2-M_Regulatory_Costs'!C\" & MATCH(F30,'App.2-M_Regulatory_Costs'!$B:$B,0))","v":{"$error":"#N/A"}},{"$f":"INDIRECT(\"'App.2-M_Regulatory_Costs'!D\" & MATCH($F30,'App.2-M_Regulatory_Costs'!$B:$B,0))","v":{"$error":"#N/A"}},{"$f":"INDIRECT(\"'App.2-M_Regulatory_Costs'!E\" & MATCH($F30,'App.2-M_Regulatory_Costs'!$B:$B,0))","v":{"$error":"#N/A"}},{"$f":"INDIRECT(\"'App.2-M_Regulatory_Costs'!F\" & MATCH($F30,'App.2-M_Regulatory_Costs'!$B:$B,0))","v":{"$error":"#N/A"}},{"$f":"INDIRECT(\"'App.2-M_Regulatory_Costs'!G\" & MATCH($F30,'App.2-M_Regulatory_Costs'!$B:$B,0))","v":{"$error":"#N/A"}},{"$f":"INDIRECT(\"'App.2-M_Regulatory_Costs'!H\" & MATCH($F30,'App.2-M_Regulatory_Costs'!$B:$B,0))","v":{"$error":"#N/A"}},{"$f":"INDIRECT(\"'App.2-M_Regulatory_Costs'!I\" & MATCH($F30,'App.2-M_Regulatory_Costs'!$B:$B,0))","v":{"$error":"#N/A"}},{"$f":"INDIRECT(\"'App.2-M_Regulatory_Costs'!J\" & MATCH($F30,'App.2-M_Regulatory_Costs'!$B:$B,0))","v":{"$error":"#N/A"}},{"$f":"INDIRECT(\"'App.2-M_Regulatory_Costs'!K\" & MATCH($F30,'App.2-M_Regulatory_Costs'!$B:$B,0))","v":{"$error":"#N/A"}}]
[{"$f":"'LDC Info'!$E$14","v":"Ottawa River Power Corporation"},"EB-2021-0052",2022,2021,2016,{"$f":"'App.2-M_Regulatory_Costs'!B45","v":0},"Ongoing",{"$f":"INDIRECT(\"'App.2-M_Regulatory_Costs'!C\" & MATCH(F31,'App.2-M_Regulatory_Costs'!$B:$B,0))","v":{"$error":"#N/A"}},{"$f":"INDIRECT(\"'App.2-M_Regulatory_Costs'!D\" & MATCH($F31,'App.2-M_Regulatory_Costs'!$B:$B,0))","v":{"$error":"#N/A"}},{"$f":"INDIRECT(\"'App.2-M_Regulatory_Costs'!E\" & MATCH($F31,'App.2-M_Regulatory_Costs'!$B:$B,0))","v":{"$error":"#N/A"}},{"$f":"INDIRECT(\"'App.2-M_Regulatory_Costs'!F\" & MATCH($F31,'App.2-M_Regulatory_Costs'!$B:$B,0))","v":{"$error":"#N/A"}},{"$f":"INDIRECT(\"'App.2-M_Regulatory_Costs'!G\" & MATCH($F31,'App.2-M_Regulatory_Costs'!$B:$B,0))","v":{"$error":"#N/A"}},{"$f":"INDIRECT(\"'App.2-M_Regulatory_Costs'!H\" & MATCH($F31,'App.2-M_Regulatory_Costs'!$B:$B,0))","v":{"$error":"#N/A"}},{"$f":"INDIRECT(\"'App.2-M_Regulatory_Costs'!I\" & MATCH($F31,'App.2-M_Regulatory_Costs'!$B:$B,0))","v":{"$error":"#N/A"}},{"$f":"INDIRECT(\"'App.2-M_Regulatory_Costs'!J\" & MATCH($F31,'App.2-M_Regulatory_Costs'!$B:$B,0))","v":{"$error":"#N/A"}},{"$f":"INDIRECT(\"'App.2-M_Regulatory_Costs'!K\" & MATCH($F31,'App.2-M_Regulatory_Costs'!$B:$B,0))","v":{"$error":"#N/A"}}]
[{"$f":"'LDC Info'!$E$14","v":"Ottawa River Power Corporation"},"EB-2021-0052",2022,2021,2016]
[{"$f":"'LDC Info'!$E$14","v":"Ottawa River Power Corporation"},"EB-2021-0052",2022,2021,2016,{"$f":"'App.2-M_Regulatory_Costs'!B47","v":"Expert Witness costs"},"One-Time",{"$f":"INDIRECT(\"'App.2-M_Regulatory_Costs'!C\" & MATCH(F33,'App.2-M_Regulatory_Costs'!$B:$B,0))","v":0},{"$f":"INDIRECT(\"'App.2-M_Regulatory_Costs'!D\" & MATCH($F33,'App.2-M_Regulatory_Costs'!$B:$B,0))","v":0},{"$f":"INDIRECT(\"'App.2-M_Regulatory_Costs'!E\" & MATCH($F33,'App.2-M_Regulatory_Costs'!$B:$B,0))","v":0},{"$f":"INDIRECT(\"'App.2-M_Regulatory_Costs'!F\" & MATCH($F33,'App.2-M_Regulatory_Costs'!$B:$B,0))","v":0},{"$f":"INDIRECT(\"'App.2-M_Regulatory_Costs'!G\" & MATCH($F33,'App.2-M_Regulatory_Costs'!$B:$B,0))","v":0},{"$f":"INDIRECT(\"'App.2-M_Regulatory_Costs'!H\" & MATCH($F33,'App.2-M_Regulatory_Costs'!$B:$B,0))","v":0},{"$f":"INDIRECT(\"'App.2-M_Regulatory_Costs'!I\" & MATCH($F33,'App.2-M_Regulatory_Costs'!$B:$B,0))","v":""},{"$f":"INDIRECT(\"'App.2-M_Regulatory_Costs'!J\" & MATCH($F33,'App.2-M_Regulatory_Costs'!$B:$B,0))","v":0},{"$f":"INDIRECT(\"'App.2-M_Regulatory_Costs'!K\" & MATCH($F33,'App.2-M_Regulatory_Costs'!$B:$B,0))","v":""}]
[{"$f":"'LDC Info'!$E$14","v":"Ottawa River Power Corporation"},"EB-2021-0052",2022,2021,2016,{"$f":"'App.2-M_Regulatory_Costs'!B48","v":"Legal costs"},"One-Time",{"$f":"INDIRECT(\"'App.2-M_Regulatory_Costs'!C\" & MATCH(F34,'App.2-M_Regulatory_Costs'!$B:$B,0))","v":1460},{"$f":"INDIRECT(\"'App.2-M_Regulatory_Costs'!D\" & MATCH($F34,'App.2-M_Regulatory_Costs'!$B:$B,0))","v":0},{"$f":"INDIRECT(\"'App.2-M_Regulatory_Costs'!E\" & MATCH($F34,'App.2-M_Regulatory_Costs'!$B:$B,0))","v":113302.14},{"$f":"INDIRECT(\"'App.2-M_Regulatory_Costs'!F\" & MATCH($F34,'App.2-M_Regulatory_Costs'!$B:$B,0))","v":0},{"$f":"INDIRECT(\"'App.2-M_Regulatory_Costs'!G\" & MATCH($F34,'App.2-M_Regulatory_Costs'!$B:$B,0))","v":0},{"$f":"INDIRECT(\"'App.2-M_Regulatory_Costs'!H\" & MATCH($F34,'App.2-M_Regulatory_Costs'!$B:$B,0))","v":0},{"$f":"INDIRECT(\"'App.2-M_Regulatory_Costs'!I\" & MATCH($F34,'App.2-M_Regulatory_Costs'!$B:$B,0))","v":""},{"$f":"INDIRECT(\"'App.2-M_Regulatory_Costs'!J\" & MATCH($F34,'App.2-M_Regulatory_Costs'!$B:$B,0))","v":30000},{"$f":"INDIRECT(\"'App.2-M_Regulatory_Costs'!K\" & MATCH($F34,'App.2-M_Regulatory_Costs'!$B:$B,0))","v":""}]
[{"$f":"'LDC Info'!$E$14","v":"Ottawa River Power Corporation"},"EB-2021-0052",2022,2021,2016,{"$f":"'App.2-M_Regulatory_Costs'!B49","v":"Consultants' costs"},"One-Time",{"$f":"INDIRECT(\"'App.2-M_Regulatory_Costs'!C\" & MATCH(F35,'App.2-M_Regulatory_Costs'!$B:$B,0))","v":1460},{"$f":"INDIRECT(\"'App.2-M_Regulatory_Costs'!D\" & MATCH($F35,'App.2-M_Regulatory_Costs'!$B:$B,0))","v":0},{"$f":"INDIRECT(\"'App.2-M_Regulatory_Costs'!E\" & MATCH($F35,'App.2-M_Regulatory_Costs'!$B:$B,0))","v":77434.16},{"$f":"INDIRECT(\"'App.2-M_Regulatory_Costs'!F\" & MATCH($F35,'App.2-M_Regulatory_Costs'!$B:$B,0))","v":0},{"$f":"INDIRECT(\"'App.2-M_Regulatory_Costs'!G\" & MATCH($F35,'App.2-M_Regulatory_Costs'!$B:$B,0))","v":0},{"$f":"INDIRECT(\"'App.2-M_Regulatory_Costs'!H\" & MATCH($F35,'App.2-M_Regulatory_Costs'!$B:$B,0))","v":0},{"$f":"INDIRECT(\"'App.2-M_Regulatory_Costs'!I\" & MATCH($F35,'App.2-M_Regulatory_Costs'!$B:$B,0))","v":""},{"$f":"INDIRECT(\"'App.2-M_Regulatory_Costs'!J\" & MATCH($F35,'App.2-M_Regulatory_Costs'!$B:$B,0))","v":30000},{"$f":"INDIRECT(\"'App.2-M_Regulatory_Costs'!K\" & MATCH($F35,'App.2-M_Regulatory_Costs'!$B:$B,0))","v":""}]
[{"$f":"'LDC Info'!$E$14","v":"Ottawa River Power Corporation"},"EB-2021-0052",2022,2021,2016,{"$f":"'App.2-M_Regulatory_Costs'!B50","v":"Incremental operating expenses associated with staff resources allocated to this application."},"One-Time",{"$f":"INDIRECT(\"'App.2-M_Regulatory_Costs'!C\" & MATCH(F36,'App.2-M_Regulatory_Costs'!$B:$B,0))","v":0},{"$f":"INDIRECT(\"'App.2-M_Regulatory_Costs'!D\" & MATCH($F36,'App.2-M_Regulatory_Costs'!$B:$B,0))","v":0},{"$f":"INDIRECT(\"'App.2-M_Regulatory_Costs'!E\" & MATCH($F36,'App.2-M_Regulatory_Costs'!$B:$B,0))","v":0},{"$f":"INDIRECT(\"'App.2-M_Regulatory_Costs'!F\" & MATCH($F36,'App.2-M_Regulatory_Costs'!$B:$B,0))","v":0},{"$f":"INDIRECT(\"'App.2-M_Regulatory_Costs'!G\" & MATCH($F36,'App.2-M_Regulatory_Costs'!$B:$B,0))","v":0},{"$f":"INDIRECT(\"'App.2-M_Regulatory_Costs'!H\" & MATCH($F36,'App.2-M_Regulatory_Costs'!$B:$B,0))","v":0},{"$f":"INDIRECT(\"'App.2-M_Regulatory_Costs'!I\" & MATCH($F36,'App.2-M_Regulatory_Costs'!$B:$B,0))","v":""},{"$f":"INDIRECT(\"'App.2-M_Regulatory_Costs'!J\" & MATCH($F36,'App.2-M_Regulatory_Costs'!$B:$B,0))","v":0},{"$f":"INDIRECT(\"'App.2-M_Regulatory_Costs'!K\" & MATCH($F36,'App.2-M_Regulatory_Costs'!$B:$B,0))","v":""}]
[{"$f":"'LDC Info'!$E$14","v":"Ottawa River Power Corporation"},"EB-2021-0052",2022,2021,2016,{"$f":"'App.2-M_Regulatory_Costs'!B51","v":"Incremental operating expenses associated with other resources allocated to this application. 1"},"One-Time",{"$f":"INDIRECT(\"'App.2-M_Regulatory_Costs'!C\" & MATCH(F37,'App.2-M_Regulatory_Costs'!$B:$B,0))","v":0},{"$f":"INDIRECT(\"'App.2-M_Regulatory_Costs'!D\" & MATCH($F37,'App.2-M_Regulatory_Costs'!$B:$B,0))","v":0},{"$f":"INDIRECT(\"'App.2-M_Regulatory_Costs'!E\" & MATCH($F37,'App.2-M_Regulatory_Costs'!$B:$B,0))","v":0},{"$f":"INDIRECT(\"'App.2-M_Regulatory_Costs'!F\" & MATCH($F37,'App.2-M_Regulatory_Costs'!$B:$B,0))","v":0},{"$f":"INDIRECT(\"'App.2-M_Regulatory_Costs'!G\" & MATCH($F37,'App.2-M_Regulatory_Costs'!$B:$B,0))","v":0},{"$f":"INDIRECT(\"'App.2-M_Regulatory_Costs'!H\" & MATCH($F37,'App.2-M_Regulatory_Costs'!$B:$B,0))","v":0},{"$f":"INDIRECT(\"'App.2-M_Regulatory_Costs'!I\" & MATCH($F37,'App.2-M_Regulatory_Costs'!$B:$B,0))","v":""},{"$f":"INDIRECT(\"'App.2-M_Regulatory_Costs'!J\" & MATCH($F37,'App.2-M_Regulatory_Costs'!$B:$B,0))","v":0},{"$f":"INDIRECT(\"'App.2-M_Regulatory_Costs'!K\" & MATCH($F37,'App.2-M_Regulatory_Costs'!$B:$B,0))","v":""}]
[{"$f":"'LDC Info'!$E$14","v":"Ottawa River Power Corporation"},"EB-2021-0052",2022,2021,2016,{"$f":"'App.2-M_Regulatory_Costs'!B52","v":"Intervenor costs"},"One-Time",{"$f":"INDIRECT(\"'App.2-M_Regulatory_Costs'!C\" & MATCH(F38,'App.2-M_Regulatory_Costs'!$B:$B,0))","v":0},{"$f":"INDIRECT(\"'App.2-M_Regulatory_Costs'!D\" & MATCH($F38,'App.2-M_Regulatory_Costs'!$B:$B,0))","v":0},{"$f":"INDIRECT(\"'App.2-M_Regulatory_Costs'!E\" & MATCH($F38,'App.2-M_Regulatory_Costs'!$B:$B,0))","v":0},{"$f":"INDIRECT(\"'App.2-M_Regulatory_Costs'!F\" & MATCH($F38,'App.2-M_Regulatory_Costs'!$B:$B,0))","v":0},{"$f":"INDIRECT(\"'App.2-M_Regulatory_Costs'!G\" & MATCH($F38,'App.2-M_Regulatory_Costs'!$B:$B,0))","v":2640},{"$f":"INDIRECT(\"'App.2-M_Regulatory_Costs'!H\" & MATCH($F38,'App.2-M_Regulatory_Costs'!$B:$B,0))","v":0},{"$f":"INDIRECT(\"'App.2-M_Regulatory_Costs'!I\" & MATCH($F38,'App.2-M_Regulatory_Costs'!$B:$B,0))","v":-1},{"$f":"INDIRECT(\"'App.2-M_Regulatory_Costs'!J\" & MATCH($F38,'App.2-M_Regulatory_Costs'!$B:$B,0))","v":0},{"$f":"INDIRECT(\"'App.2-M_Regulatory_Costs'!K\" & MATCH($F38,'App.2-M_Regulatory_Costs'!$B:$B,0))","v":""}]
[{"$f":"'LDC Info'!$E$14","v":"Ottawa River Power Corporation"},"EB-2021-0052",2022,2021,2016,{"$f":"'App.2-M_Regulatory_Costs'!B53","v":"OEB Section 30 Costs (application-related)"},"One-Time",{"$f":"INDIRECT(\"'App.2-M_Regulatory_Costs'!C\" & MATCH(F39,'App.2-M_Regulatory_Costs'!$B:$B,0))","v":0},{"$f":"INDIRECT(\"'App.2-M_Regulatory_Costs'!D\" & MATCH($F39,'App.2-M_Regulatory_Costs'!$B:$B,0))","v":0},{"$f":"INDIRECT(\"'App.2-M_Regulatory_Costs'!E\" & MATCH($F39,'App.2-M_Regulatory_Costs'!$B:$B,0))","v":0},{"$f":"INDIRECT(\"'App.2-M_Regulatory_Costs'!F\" & MATCH($F39,'App.2-M_Regulatory_Costs'!$B:$B,0))","v":0},{"$f":"INDIRECT(\"'App.2-M_Regulatory_Costs'!G\" & MATCH($F39,'App.2-M_Regulatory_Costs'!$B:$B,0))","v":0},{"$f":"INDIRECT(\"'App.2-M_Regulatory_Costs'!H\" & MATCH($F39,'App.2-M_Regulatory_Costs'!$B:$B,0))","v":0},{"$f":"INDIRECT(\"'App.2-M_Regulatory_Costs'!I\" & MATCH($F39,'App.2-M_Regulatory_Costs'!$B:$B,0))","v":""},{"$f":"INDIRECT(\"'App.2-M_Regulatory_Costs'!J\" & MATCH($F39,'App.2-M_Regulatory_Costs'!$B:$B,0))","v":0},{"$f":"INDIRECT(\"'App.2-M_Regulatory_Costs'!K\" & MATCH($F39,'App.2-M_Regulatory_Costs'!$B:$B,0))","v":""}]
[{"$f":"'LDC Info'!$E$14","v":"Ottawa River Power Corporation"},"EB-2021-0052",2022,2021,2016,{"$f":"'App.2-M_Regulatory_Costs'!B54","v":"DSP"},"One-Time",{"$f":"INDIRECT(\"'App.2-M_Regulatory_Costs'!C\" & MATCH(F40,'App.2-M_Regulatory_Costs'!$B:$B,0))","v":1460},{"$f":"INDIRECT(\"'App.2-M_Regulatory_Costs'!D\" & MATCH($F40,'App.2-M_Regulatory_Costs'!$B:$B,0))","v":0},{"$f":"INDIRECT(\"'App.2-M_Regulatory_Costs'!E\" & MATCH($F40,'App.2-M_Regulatory_Costs'!$B:$B,0))","v":0},{"$f":"INDIRECT(\"'App.2-M_Regulatory_Costs'!F\" & MATCH($F40,'App.2-M_Regulatory_Costs'!$B:$B,0))","v":0},{"$f":"INDIRECT(\"'App.2-M_Regulatory_Costs'!G\" & MATCH($F40,'App.2-M_Regulatory_Costs'!$B:$B,0))","v":0},{"$f":"INDIRECT(\"'App.2-M_Regulatory_Costs'!H\" & MATCH($F40,'App.2-M_Regulatory_Costs'!$B:$B,0))","v":0},{"$f":"INDIRECT(\"'App.2-M_Regulatory_Costs'!I\" & MATCH($F40,'App.2-M_Regulatory_Costs'!$B:$B,0))","v":""},{"$f":"INDIRECT(\"'App.2-M_Regulatory_Costs'!J\" & MATCH($F40,'App.2-M_Regulatory_Costs'!$B:$B,0))","v":60000},{"$f":"INDIRECT(\"'App.2-M_Regulatory_Costs'!K\" & MATCH($F40,'App.2-M_Regulatory_Costs'!$B:$B,0))","v":""}]
[{"$f":"'LDC Info'!$E$14","v":"Ottawa River Power Corporation"},"EB-2021-0052",2022,2021,2016,{"$f":"'App.2-M_Regulatory_Costs'!B55","v":"Asset Condition Assessment"},"One-Time",{"$f":"INDIRECT(\"'App.2-M_Regulatory_Costs'!C\" & MATCH(F41,'App.2-M_Regulatory_Costs'!$B:$B,0))","v":1460},{"$f":"INDIRECT(\"'App.2-M_Regulatory_Costs'!D\" & MATCH($F41,'App.2-M_Regulatory_Costs'!$B:$B,0))","v":0},{"$f":"INDIRECT(\"'App.2-M_Regulatory_Costs'!E\" & MATCH($F41,'App.2-M_Regulatory_Costs'!$B:$B,0))","v":0},{"$f":"INDIRECT(\"'App.2-M_Regulatory_Costs'!F\" & MATCH($F41,'App.2-M_Regulatory_Costs'!$B:$B,0))","v":0},{"$f":"INDIRECT(\"'App.2-M_Regulatory_Costs'!G\" & MATCH($F41,'App.2-M_Regulatory_Costs'!$B:$B,0))","v":0},{"$f":"INDIRECT(\"'App.2-M_Regulatory_Costs'!H\" & MATCH($F41,'App.2-M_Regulatory_Costs'!$B:$B,0))","v":0},{"$f":"INDIRECT(\"'App.2-M_Regulatory_Costs'!I\" & MATCH($F41,'App.2-M_Regulatory_Costs'!$B:$B,0))","v":""},{"$f":"INDIRECT(\"'App.2-M_Regulatory_Costs'!J\" & MATCH($F41,'App.2-M_Regulatory_Costs'!$B:$B,0))","v":24000},{"$f":"INDIRECT(\"'App.2-M_Regulatory_Costs'!K\" & MATCH($F41,'App.2-M_Regulatory_Costs'!$B:$B,0))","v":""}]
[{"$f":"'LDC Info'!$E$14","v":"Ottawa River Power Corporation"},"EB-2021-0052",2022,2021,2016,{"$f":"'App.2-M_Regulatory_Costs'!B56","v":"ACA/DSP"},"One-Time",{"$f":"INDIRECT(\"'App.2-M_Regulatory_Costs'!C\" & MATCH(F42,'App.2-M_Regulatory_Costs'!$B:$B,0))","v":1460},{"$f":"INDIRECT(\"'App.2-M_Regulatory_Costs'!D\" & MATCH($F42,'App.2-M_Regulatory_Costs'!$B:$B,0))","v":0},{"$f":"INDIRECT(\"'App.2-M_Regulatory_Costs'!E\" & MATCH($F42,'App.2-M_Regulatory_Costs'!$B:$B,0))","v":0},{"$f":"INDIRECT(\"'App.2-M_Regulatory_Costs'!F\" & MATCH($F42,'App.2-M_Regulatory_Costs'!$B:$B,0))","v":0},{"$f":"INDIRECT(\"'App.2-M_Regulatory_Costs'!G\" & MATCH($F42,'App.2-M_Regulatory_Costs'!$B:$B,0))","v":0},{"$f":"INDIRECT(\"'App.2-M_Regulatory_Costs'!H\" & MATCH($F42,'App.2-M_Regulatory_Costs'!$B:$B,0))","v":0},{"$f":"INDIRECT(\"'App.2-M_Regulatory_Costs'!I\" & MATCH($F42,'App.2-M_Regulatory_Costs'!$B:$B,0))","v":""},{"$f":"INDIRECT(\"'App.2-M_Regulatory_Costs'!J\" & MATCH($F42,'App.2-M_Regulatory_Costs'!$B:$B,0))","v":120000},{"$f":"INDIRECT(\"'App.2-M_Regulatory_Costs'!K\" & MATCH($F42,'App.2-M_Regulatory_Costs'!$B:$B,0))","v":""}]
[{"$f":"'LDC Info'!$E$14","v":"Ottawa River Power Corporation"},"EB-2021-0052",2022,2021,2016,{"$f":"'App.2-M_Regulatory_Costs'!B57","v":"Survey"},"One-Time",{"$f":"INDIRECT(\"'App.2-M_Regulatory_Costs'!C\" & MATCH(F43,'App.2-M_Regulatory_Costs'!$B:$B,0))","v":1460},{"$f":"INDIRECT(\"'App.2-M_Regulatory_Costs'!D\" & MATCH($F43,'App.2-M_Regulatory_Costs'!$B:$B,0))","v":0},{"$f":"INDIRECT(\"'App.2-M_Regulatory_Costs'!E\" & MATCH($F43,'App.2-M_Regulatory_Costs'!$B:$B,0))","v":0},{"$f":"INDIRECT(\"'App.2-M_Regulatory_Costs'!F\" & MATCH($F43,'App.2-M_Regulatory_Costs'!$B:$B,0))","v":0},{"$f":"INDIRECT(\"'App.2-M_Regulatory_Costs'!G\" & MATCH($F43,'App.2-M_Regulatory_Costs'!$B:$B,0))","v":0},{"$f":"INDIRECT(\"'App.2-M_Regulatory_Costs'!H\" & MATCH($F43,'App.2-M_Regulatory_Costs'!$B:$B,0))","v":0},{"$f":"INDIRECT(\"'App.2-M_Regulatory_Costs'!I\" & MATCH($F43,'App.2-M_Regulatory_Costs'!$B:$B,0))","v":""},{"$f":"INDIRECT(\"'App.2-M_Regulatory_Costs'!J\" & MATCH($F43,'App.2-M_Regulatory_Costs'!$B:$B,0))","v":16000},{"$f":"INDIRECT(\"'App.2-M_Regulatory_Costs'!K\" & MATCH($F43,'App.2-M_Regulatory_Costs'!$B:$B,0))","v":""}]
[{"$f":"'LDC Info'!$E$14","v":"Ottawa River Power Corporation"},"EB-2021-0052",2022,2021,2016,{"$f":"'App.2-M_Regulatory_Costs'!B58","v":"Accounting Assistance"},"One-Time",{"$f":"INDIRECT(\"'App.2-M_Regulatory_Costs'!C\" & MATCH(F44,'App.2-M_Regulatory_Costs'!$B:$B,0))","v":1460},{"$f":"INDIRECT(\"'App.2-M_Regulatory_Costs'!D\" & MATCH($F44,'App.2-M_Regulatory_Costs'!$B:$B,0))","v":0},{"$f":"INDIRECT(\"'App.2-M_Regulatory_Costs'!E\" & MATCH($F44,'App.2-M_Regulatory_Costs'!$B:$B,0))","v":0},{"$f":"INDIRECT(\"'App.2-M_Regulatory_Costs'!F\" & MATCH($F44,'App.2-M_Regulatory_Costs'!$B:$B,0))","v":0},{"$f":"INDIRECT(\"'App.2-M_Regulatory_Costs'!G\" & MATCH($F44,'App.2-M_Regulatory_Costs'!$B:$B,0))","v":0},{"$f":"INDIRECT(\"'App.2-M_Regulatory_Costs'!H\" & MATCH($F44,'App.2-M_Regulatory_Costs'!$B:$B,0))","v":0},{"$f":"INDIRECT(\"'App.2-M_Regulatory_Costs'!I\" & MATCH($F44,'App.2-M_Regulatory_Costs'!$B:$B,0))","v":""},{"$f":"INDIRECT(\"'App.2-M_Regulatory_Costs'!J\" & MATCH($F44,'App.2-M_Regulatory_Costs'!$B:$B,0))","v":15500},{"$f":"INDIRECT(\"'App.2-M_Regulatory_Costs'!K\" & MATCH($F44,'App.2-M_Regulatory_Costs'!$B:$B,0))","v":""}]
[{"$f":"'LDC Info'!$E$14","v":"Ottawa River Power Corporation"},"EB-2021-0052",2022,2021,2016,{"$f":"'App.2-M_Regulatory_Costs'!B59","v":0},"One-Time",{"$f":"INDIRECT(\"'App.2-M_Regulatory_Costs'!C\" & MATCH(F45,'App.2-M_Regulatory_Costs'!$B:$B,0))","v":{"$error":"#N/A"}},{"$f":"INDIRECT(\"'App.2-M_Regulatory_Costs'!D\" & MATCH($F45,'App.2-M_Regulatory_Costs'!$B:$B,0))","v":{"$error":"#N/A"}},{"$f":"INDIRECT(\"'App.2-M_Regulatory_Costs'!E\" & MATCH($F45,'App.2-M_Regulatory_Costs'!$B:$B,0))","v":{"$error":"#N/A"}},{"$f":"INDIRECT(\"'App.2-M_Regulatory_Costs'!F\" & MATCH($F45,'App.2-M_Regulatory_Costs'!$B:$B,0))","v":{"$error":"#N/A"}},{"$f":"INDIRECT(\"'App.2-M_Regulatory_Costs'!G\" & MATCH($F45,'App.2-M_Regulatory_Costs'!$B:$B,0))","v":{"$error":"#N/A"}},{"$f":"INDIRECT(\"'App.2-M_Regulatory_Costs'!H\" & MATCH($F45,'App.2-M_Regulatory_Costs'!$B:$B,0))","v":{"$error":"#N/A"}},{"$f":"INDIRECT(\"'App.2-M_Regulatory_Costs'!I\" & MATCH($F45,'App.2-M_Regulatory_Costs'!$B:$B,0))","v":{"$error":"#N/A"}},{"$f":"INDIRECT(\"'App.2-M_Regulatory_Costs'!J\" & MATCH($F45,'App.2-M_Regulatory_Costs'!$B:$B,0))","v":{"$error":"#N/A"}},{"$f":"INDIRECT(\"'App.2-M_Regulatory_Costs'!K\" & MATCH($F45,'App.2-M_Regulatory_Costs'!$B:$B,0))","v":{"$error":"#N/A"}}]
[{"$f":"'LDC Info'!$E$14","v":"Ottawa River Power Corporation"},"EB-2021-0052",2022,2021,2016,{"$f":"'App.2-M_Regulatory_Costs'!B60","v":0},"One-Time",{"$f":"INDIRECT(\"'App.2-M_Regulatory_Costs'!C\" & MATCH(F46,'App.2-M_Regulatory_Costs'!$B:$B,0))","v":{"$error":"#N/A"}},{"$f":"INDIRECT(\"'App.2-M_Regulatory_Costs'!D\" & MATCH($F46,'App.2-M_Regulatory_Costs'!$B:$B,0))","v":{"$error":"#N/A"}},{"$f":"INDIRECT(\"'App.2-M_Regulatory_Costs'!E\" & MATCH($F46,'App.2-M_Regulatory_Costs'!$B:$B,0))","v":{"$error":"#N/A"}},{"$f":"INDIRECT(\"'App.2-M_Regulatory_Costs'!F\" & MATCH($F46,'App.2-M_Regulatory_Costs'!$B:$B,0))","v":{"$error":"#N/A"}},{"$f":"INDIRECT(\"'App.2-M_Regulatory_Costs'!G\" & MATCH($F46,'App.2-M_Regulatory_Costs'!$B:$B,0))","v":{"$error":"#N/A"}},{"$f":"INDIRECT(\"'App.2-M_Regulatory_Costs'!H\" & MATCH($F46,'App.2-M_Regulatory_Costs'!$B:$B,0))","v":{"$error":"#N/A"}},{"$f":"INDIRECT(\"'App.2-M_Regulatory_Costs'!I\" & MATCH($F46,'App.2-M_Regulatory_Costs'!$B:$B,0))","v":{"$error":"#N/A"}},{"$f":"INDIRECT(\"'App.2-M_Regulatory_Costs'!J\" & MATCH($F46,'App.2-M_Regulatory_Costs'!$B:$B,0))","v":{"$error":"#N/A"}},{"$f":"INDIRECT(\"'App.2-M_Regulatory_Costs'!K\" & MATCH($F46,'App.2-M_Regulatory_Costs'!$B:$B,0))","v":{"$error":"#N/A"}}]
[{"$f":"'LDC Info'!$E$14","v":"Ottawa River Power Corporation"},"EB-2021-0052",2022,2021,2016,{"$f":"'App.2-M_Regulatory_Costs'!B61","v":"Production & Submission "},"One-Time",{"$f":"INDIRECT(\"'App.2-M_Regulatory_Costs'!C\" & MATCH(F47,'App.2-M_Regulatory_Costs'!$B:$B,0))","v":1460},{"$f":"INDIRECT(\"'App.2-M_Regulatory_Costs'!D\" & MATCH($F47,'App.2-M_Regulatory_Costs'!$B:$B,0))","v":0},{"$f":"INDIRECT(\"'App.2-M_Regulatory_Costs'!E\" & MATCH($F47,'App.2-M_Regulatory_Costs'!$B:$B,0))","v":0},{"$f":"INDIRECT(\"'App.2-M_Regulatory_Costs'!F\" & MATCH($F47,'App.2-M_Regulatory_Costs'!$B:$B,0))","v":0},{"$f":"INDIRECT(\"'App.2-M_Regulatory_Costs'!G\" & MATCH($F47,'App.2-M_Regulatory_Costs'!$B:$B,0))","v":0},{"$f":"INDIRECT(\"'App.2-M_Regulatory_Costs'!H\" & MATCH($F47,'App.2-M_Regulatory_Costs'!$B:$B,0))","v":0},{"$f":"INDIRECT(\"'App.2-M_Regulatory_Costs'!I\" & MATCH($F47,'App.2-M_Regulatory_Costs'!$B:$B,0))","v":""},{"$f":"INDIRECT(\"'App.2-M_Regulatory_Costs'!J\" & MATCH($F47,'App.2-M_Regulatory_Costs'!$B:$B,0))","v":1000},{"$f":"INDIRECT(\"'App.2-M_Regulatory_Costs'!K\" & MATCH($F47,'App.2-M_Regulatory_Costs'!$B:$B,0))","v":""}]
[{"$f":"'LDC Info'!$E$14","v":"Ottawa River Power Corporation"},"EB-2021-0052",2022,2021,2016,{"$f":"'App.2-M_Regulatory_Costs'!B62","v":"Public Notice "},"One-Time",{"$f":"INDIRECT(\"'App.2-M_Regulatory_Costs'!C\" & MATCH(F48,'App.2-M_Regulatory_Costs'!$B:$B,0))","v":1460},{"$f":"INDIRECT(\"'App.2-M_Regulatory_Costs'!D\" & MATCH($F48,'App.2-M_Regulatory_Costs'!$B:$B,0))","v":0},{"$f":"INDIRECT(\"'App.2-M_Regulatory_Costs'!E\" & MATCH($F48,'App.2-M_Regulatory_Costs'!$B:$B,0))","v":0},{"$f":"INDIRECT(\"'App.2-M_Regulatory_Costs'!F\" & MATCH($F48,'App.2-M_Regulatory_Costs'!$B:$B,0))","v":0},{"$f":"INDIRECT(\"'App.2-M_Regulatory_Costs'!G\" & MATCH($F48,'App.2-M_Regulatory_Costs'!$B:$B,0))","v":0},{"$f":"INDIRECT(\"'App.2-M_Regulatory_Costs'!H\" & MATCH($F48,'App.2-M_Regulatory_Costs'!$B:$B,0))","v":0},{"$f":"INDIRECT(\"'App.2-M_Regulatory_Costs'!I\" & MATCH($F48,'App.2-M_Regulatory_Costs'!$B:$B,0))","v":""},{"$f":"INDIRECT(\"'App.2-M_Regulatory_Costs'!J\" & MATCH($F48,'App.2-M_Regulatory_Costs'!$B:$B,0))","v":2000},{"$f":"INDIRECT(\"'App.2-M_Regulatory_Costs'!K\" & MATCH($F48,'App.2-M_Regulatory_Costs'!$B:$B,0))","v":""}]
[{"$f":"'LDC Info'!$E$14","v":"Ottawa River Power Corporation"},"EB-2021-0052",2022,2021,2016,{"$f":"'App.2-M_Regulatory_Costs'!B63","v":0},"One-Time",{"$f":"INDIRECT(\"'App.2-M_Regulatory_Costs'!C\" & MATCH(F49,'App.2-M_Regulatory_Costs'!$B:$B,0))","v":{"$error":"#N/A"}},{"$f":"INDIRECT(\"'App.2-M_Regulatory_Costs'!D\" & MATCH($F49,'App.2-M_Regulatory_Costs'!$B:$B,0))","v":{"$error":"#N/A"}},{"$f":"INDIRECT(\"'App.2-M_Regulatory_Costs'!E\" & MATCH($F49,'App.2-M_Regulatory_Costs'!$B:$B,0))","v":{"$error":"#N/A"}},{"$f":"INDIRECT(\"'App.2-M_Regulatory_Costs'!F\" & MATCH($F49,'App.2-M_Regulatory_Costs'!$B:$B,0))","v":{"$error":"#N/A"}},{"$f":"INDIRECT(\"'App.2-M_Regulatory_Costs'!G\" & MATCH($F49,'App.2-M_Regulatory_Costs'!$B:$B,0))","v":{"$error":"#N/A"}},{"$f":"INDIRECT(\"'App.2-M_Regulatory_Costs'!H\" & MATCH($F49,'App.2-M_Regulatory_Costs'!$B:$B,0))","v":{"$error":"#N/A"}},{"$f":"INDIRECT(\"'App.2-M_Regulatory_Costs'!I\" & MATCH($F49,'App.2-M_Regulatory_Costs'!$B:$B,0))","v":{"$error":"#N/A"}},{"$f":"INDIRECT(\"'App.2-M_Regulatory_Costs'!J\" & MATCH($F49,'App.2-M_Regulatory_Costs'!$B:$B,0))","v":{"$error":"#N/A"}},{"$f":"INDIRECT(\"'App.2-M_Regulatory_Costs'!K\" & MATCH($F49,'App.2-M_Regulatory_Costs'!$B:$B,0))","v":{"$error":"#N/A"}}]
[{"$f":"'LDC Info'!$E$14","v":"Ottawa River Power Corporation"},"EB-2021-0052",2022,2021,2016,{"$f":"'App.2-M_Regulatory_Costs'!B64","v":0},"One-Time",{"$f":"INDIRECT(\"'App.2-M_Regulatory_Costs'!C\" & MATCH(F50,'App.2-M_Regulatory_Costs'!$B:$B,0))","v":{"$error":"#N/A"}},{"$f":"INDIRECT(\"'App.2-M_Regulatory_Costs'!D\" & MATCH($F50,'App.2-M_Regulatory_Costs'!$B:$B,0))","v":{"$error":"#N/A"}},{"$f":"INDIRECT(\"'App.2-M_Regulatory_Costs'!E\" & MATCH($F50,'App.2-M_Regulatory_Costs'!$B:$B,0))","v":{"$error":"#N/A"}},{"$f":"INDIRECT(\"'App.2-M_Regulatory_Costs'!F\" & MATCH($F50,'App.2-M_Regulatory_Costs'!$B:$B,0))","v":{"$error":"#N/A"}},{"$f":"INDIRECT(\"'App.2-M_Regulatory_Costs'!G\" & MATCH($F50,'App.2-M_Regulatory_Costs'!$B:$B,0))","v":{"$error":"#N/A"}},{"$f":"INDIRECT(\"'App.2-M_Regulatory_Costs'!H\" & MATCH($F50,'App.2-M_Regulatory_Costs'!$B:$B,0))","v":{"$error":"#N/A"}},{"$f":"INDIRECT(\"'App.2-M_Regulatory_Costs'!I\" & MATCH($F50,'App.2-M_Regulatory_Costs'!$B:$B,0))","v":{"$error":"#N/A"}},{"$f":"INDIRECT(\"'App.2-M_Regulatory_Costs'!J\" & MATCH($F50,'App.2-M_Regulatory_Costs'!$B:$B,0))","v":{"$error":"#N/A"}},{"$f":"INDIRECT(\"'App.2-M_Regulatory_Costs'!K\" & MATCH($F50,'App.2-M_Regulatory_Costs'!$B:$B,0))","v":{"$error":"#N/A"}}]
[{"$f":"'LDC Info'!$E$14","v":"Ottawa River Power Corporation"},"EB-2021-0052",2022,2021,2016,{"$f":"'App.2-M_Regulatory_Costs'!B65","v":0},"One-Time",{"$f":"INDIRECT(\"'App.2-M_Regulatory_Costs'!C\" & MATCH(F51,'App.2-M_Regulatory_Costs'!$B:$B,0))","v":{"$error":"#N/A"}},{"$f":"INDIRECT(\"'App.2-M_Regulatory_Costs'!D\" & MATCH($F51,'App.2-M_Regulatory_Costs'!$B:$B,0))","v":{"$error":"#N/A"}},{"$f":"INDIRECT(\"'App.2-M_Regulatory_Costs'!E\" & MATCH($F51,'App.2-M_Regulatory_Costs'!$B:$B,0))","v":{"$error":"#N/A"}},{"$f":"INDIRECT(\"'App.2-M_Regulatory_Costs'!F\" & MATCH($F51,'App.2-M_Regulatory_Costs'!$B:$B,0))","v":{"$error":"#N/A"}},{"$f":"INDIRECT(\"'App.2-M_Regulatory_Costs'!G\" & MATCH($F51,'App.2-M_Regulatory_Costs'!$B:$B,0))","v":{"$error":"#N/A"}},{"$f":"INDIRECT(\"'App.2-M_Regulatory_Costs'!H\" & MATCH($F51,'App.2-M_Regulatory_Costs'!$B:$B,0))","v":{"$error":"#N/A"}},{"$f":"INDIRECT(\"'App.2-M_Regulatory_Costs'!I\" & MATCH($F51,'App.2-M_Regulatory_Costs'!$B:$B,0))","v":{"$error":"#N/A"}},{"$f":"INDIRECT(\"'App.2-M_Regulatory_Costs'!J\" & MATCH($F51,'App.2-M_Regulatory_Costs'!$B:$B,0))","v":{"$error":"#N/A"}},{"$f":"INDIRECT(\"'App.2-M_Regulatory_Costs'!K\" & MATCH($F51,'App.2-M_Regulatory_Costs'!$B:$B,0))","v":{"$error":"#N/A"}}]
[{"$f":"'LDC Info'!$E$14","v":"Ottawa River Power Corporation"},"EB-2021-0052",2022,2021,2016,{"$f":"'App.2-M_Regulatory_Costs'!B66","v":"Actuary Fees"},"One-Time",{"$f":"INDIRECT(\"'App.2-M_Regulatory_Costs'!C\" & MATCH(F52,'App.2-M_Regulatory_Costs'!$B:$B,0))","v":5655},{"$f":"INDIRECT(\"'App.2-M_Regulatory_Costs'!D\" & MATCH($F52,'App.2-M_Regulatory_Costs'!$B:$B,0))","v":0},{"$f":"INDIRECT(\"'App.2-M_Regulatory_Costs'!E\" & MATCH($F52,'App.2-M_Regulatory_Costs'!$B:$B,0))","v":0},{"$f":"INDIRECT(\"'App.2-M_Regulatory_Costs'!F\" & MATCH($F52,'App.2-M_Regulatory_Costs'!$B:$B,0))","v":500},{"$f":"INDIRECT(\"'App.2-M_Regulatory_Costs'!G\" & MATCH($F52,'App.2-M_Regulatory_Costs'!$B:$B,0))","v":0},{"$f":"INDIRECT(\"'App.2-M_Regulatory_Costs'!H\" & MATCH($F52,'App.2-M_Regulatory_Costs'!$B:$B,0))","v":0},{"$f":"INDIRECT(\"'App.2-M_Regulatory_Costs'!I\" & MATCH($F52,'App.2-M_Regulatory_Costs'!$B:$B,0))","v":""},{"$f":"INDIRECT(\"'App.2-M_Regulatory_Costs'!J\" & MATCH($F52,'App.2-M_Regulatory_Costs'!$B:$B,0))","v":0},{"$f":"INDIRECT(\"'App.2-M_Regulatory_Costs'!K\" & MATCH($F52,'App.2-M_Regulatory_Costs'!$B:$B,0))","v":""}]
[{"$f":"'LDC Info'!$E$14","v":"Ottawa River Power Corporation"},"EB-2021-0052",2022,2021,2016,{"$f":"'App.2-M_Regulatory_Costs'!B67","v":0},"One-Time",{"$f":"INDIRECT(\"'App.2-M_Regulatory_Costs'!C\" & MATCH(F53,'App.2-M_Regulatory_Costs'!$B:$B,0))","v":{"$error":"#N/A"}},{"$f":"INDIRECT(\"'App.2-M_Regulatory_Costs'!D\" & MATCH($F53,'App.2-M_Regulatory_Costs'!$B:$B,0))","v":{"$error":"#N/A"}},{"$f":"INDIRECT(\"'App.2-M_Regulatory_Costs'!E\" & MATCH($F53,'App.2-M_Regulatory_Costs'!$B:$B,0))","v":{"$error":"#N/A"}},{"$f":"INDIRECT(\"'App.2-M_Regulatory_Costs'!F\" & MATCH($F53,'App.2-M_Regulatory_Costs'!$B:$B,0))","v":{"$error":"#N/A"}},{"$f":"INDIRECT(\"'App.2-M_Regulatory_Costs'!G\" & MATCH($F53,'App.2-M_Regulatory_Costs'!$B:$B,0))","v":{"$error":"#N/A"}},{"$f":"INDIRECT(\"'App.2-M_Regulatory_Costs'!H\" & MATCH($F53,'App.2-M_Regulatory_Costs'!$B:$B,0))","v":{"$error":"#N/A"}},{"$f":"INDIRECT(\"'App.2-M_Regulatory_Costs'!I\" & MATCH($F53,'App.2-M_Regulatory_Costs'!$B:$B,0))","v":{"$error":"#N/A"}},{"$f":"INDIRECT(\"'App.2-M_Regulatory_Costs'!J\" & MATCH($F53,'App.2-M_Regulatory_Costs'!$B:$B,0))","v":{"$error":"#N/A"}},{"$f":"INDIRECT(\"'App.2-M_Regulatory_Costs'!K\" & MATCH($F53,'App.2-M_Regulatory_Costs'!$B:$B,0))","v":{"$error":"#N/A"}}]
[{"$f":"'LDC Info'!$E$14","v":"Ottawa River Power Corporation"},"EB-2021-0052",2022,2021,2016,{"$f":"'App.2-M_Regulatory_Costs'!B68","v":0},"One-Time",{"$f":"INDIRECT(\"'App.2-M_Regulatory_Costs'!C\" & MATCH(F54,'App.2-M_Regulatory_Costs'!$B:$B,0))","v":{"$error":"#N/A"}},{"$f":"INDIRECT(\"'App.2-M_Regulatory_Costs'!D\" & MATCH($F54,'App.2-M_Regulatory_Costs'!$B:$B,0))","v":{"$error":"#N/A"}},{"$f":"INDIRECT(\"'App.2-M_Regulatory_Costs'!E\" & MATCH($F54,'App.2-M_Regulatory_Costs'!$B:$B,0))","v":{"$error":"#N/A"}},{"$f":"INDIRECT(\"'App.2-M_Regulatory_Costs'!F\" & MATCH($F54,'App.2-M_Regulatory_Costs'!$B:$B,0))","v":{"$error":"#N/A"}},{"$f":"INDIRECT(\"'App.2-M_Regulatory_Costs'!G\" & MATCH($F54,'App.2-M_Regulatory_Costs'!$B:$B,0))","v":{"$error":"#N/A"}},{"$f":"INDIRECT(\"'App.2-M_Regulatory_Costs'!H\" & MATCH($F54,'App.2-M_Regulatory_Costs'!$B:$B,0))","v":{"$error":"#N/A"}},{"$f":"INDIRECT(\"'App.2-M_Regulatory_Costs'!I\" & MATCH($F54,'App.2-M_Regulatory_Costs'!$B:$B,0))","v":{"$error":"#N/A"}},{"$f":"INDIRECT(\"'App.2-M_Regulatory_Costs'!J\" & MATCH($F54,'App.2-M_Regulatory_Costs'!$B:$B,0))","v":{"$error":"#N/A"}},{"$f":"INDIRECT(\"'App.2-M_Regulatory_Costs'!K\" & MATCH($F54,'App.2-M_Regulatory_Costs'!$B:$B,0))","v":{"$error":"#N/A"}}]
[{"$f":"'LDC Info'!$E$14","v":"Ottawa River Power Corporation"},"EB-2021-0052",2022,2021,2016,{"$f":"'App.2-M_Regulatory_Costs'!B69","v":0},"One-Time",{"$f":"INDIRECT(\"'App.2-M_Regulatory_Costs'!C\" & MATCH(F55,'App.2-M_Regulatory_Costs'!$B:$B,0))","v":{"$error":"#N/A"}},{"$f":"INDIRECT(\"'App.2-M_Regulatory_Costs'!D\" & MATCH($F55,'App.2-M_Regulatory_Costs'!$B:$B,0))","v":{"$error":"#N/A"}},{"$f":"INDIRECT(\"'App.2-M_Regulatory_Costs'!E\" & MATCH($F55,'App.2-M_Regulatory_Costs'!$B:$B,0))","v":{"$error":"#N/A"}},{"$f":"INDIRECT(\"'App.2-M_Regulatory_Costs'!F\" & MATCH($F55,'App.2-M_Regulatory_Costs'!$B:$B,0))","v":{"$error":"#N/A"}},{"$f":"INDIRECT(\"'App.2-M_Regulatory_Costs'!G\" & MATCH($F55,'App.2-M_Regulatory_Costs'!$B:$B,0))","v":{"$error":"#N/A"}},{"$f":"INDIRECT(\"'App.2-M_Regulatory_Costs'!H\" & MATCH($F55,'App.2-M_Regulatory_Costs'!$B:$B,0))","v":{"$error":"#N/A"}},{"$f":"INDIRECT(\"'App.2-M_Regulatory_Costs'!I\" & MATCH($F55,'App.2-M_Regulatory_Costs'!$B:$B,0))","v":{"$error":"#N/A"}},{"$f":"INDIRECT(\"'App.2-M_Regulatory_Costs'!J\" & MATCH($F55,'App.2-M_Regulatory_Costs'!$B:$B,0))","v":{"$error":"#N/A"}},{"$f":"INDIRECT(\"'App.2-M_Regulatory_Costs'!K\" & MATCH($F55,'App.2-M_Regulatory_Costs'!$B:$B,0))","v":{"$error":"#N/A"}}]
[{"$f":"'LDC Info'!$E$14","v":"Ottawa River Power Corporation"},"EB-2021-0052",2022,2021,2016,{"$f":"'App.2-M_Regulatory_Costs'!B70","v":0},"One-Time",{"$f":"INDIRECT(\"'App.2-M_Regulatory_Costs'!C\" & MATCH(F56,'App.2-M_Regulatory_Costs'!$B:$B,0))","v":{"$error":"#N/A"}},{"$f":"INDIRECT(\"'App.2-M_Regulatory_Costs'!D\" & MATCH($F56,'App.2-M_Regulatory_Costs'!$B:$B,0))","v":{"$error":"#N/A"}},{"$f":"INDIRECT(\"'App.2-M_Regulatory_Costs'!E\" & MATCH($F56,'App.2-M_Regulatory_Costs'!$B:$B,0))","v":{"$error":"#N/A"}},{"$f":"INDIRECT(\"'App.2-M_Regulatory_Costs'!F\" & MATCH($F56,'App.2-M_Regulatory_Costs'!$B:$B,0))","v":{"$error":"#N/A"}},{"$f":"INDIRECT(\"'App.2-M_Regulatory_Costs'!G\" & MATCH($F56,'App.2-M_Regulatory_Costs'!$B:$B,0))","v":{"$error":"#N/A"}},{"$f":"INDIRECT(\"'App.2-M_Regulatory_Costs'!H\" & MATCH($F56,'App.2-M_Regulatory_Costs'!$B:$B,0))","v":{"$error":"#N/A"}},{"$f":"INDIRECT(\"'App.2-M_Regulatory_Costs'!I\" & MATCH($F56,'App.2-M_Regulatory_Costs'!$B:$B,0))","v":{"$error":"#N/A"}},{"$f":"INDIRECT(\"'App.2-M_Regulatory_Costs'!J\" & MATCH($F56,'App.2-M_Regulatory_Costs'!$B:$B,0))","v":{"$error":"#N/A"}},{"$f":"INDIRECT(\"'App.2-M_Regulatory_Costs'!K\" & MATCH($F56,'App.2-M_Regulatory_Costs'!$B:$B,0))","v":{"$error":"#N/A"}}]
[{"$f":"'LDC Info'!$E$14","v":"Ottawa River Power Corporation"},"EB-2021-0052",2022,2021,2016,{"$f":"'App.2-M_Regulatory_Costs'!B71","v":0},"One-Time",{"$f":"INDIRECT(\"'App.2-M_Regulatory_Costs'!C\" & MATCH(F57,'App.2-M_Regulatory_Costs'!$B:$B,0))","v":{"$error":"#N/A"}},{"$f":"INDIRECT(\"'App.2-M_Regulatory_Costs'!D\" & MATCH($F57,'App.2-M_Regulatory_Costs'!$B:$B,0))","v":{"$error":"#N/A"}},{"$f":"INDIRECT(\"'App.2-M_Regulatory_Costs'!E\" & MATCH($F57,'App.2-M_Regulatory_Costs'!$B:$B,0))","v":{"$error":"#N/A"}},{"$f":"INDIRECT(\"'App.2-M_Regulatory_Costs'!F\" & MATCH($F57,'App.2-M_Regulatory_Costs'!$B:$B,0))","v":{"$error":"#N/A"}},{"$f":"INDIRECT(\"'App.2-M_Regulatory_Costs'!G\" & MATCH($F57,'App.2-M_Regulatory_Costs'!$B:$B,0))","v":{"$error":"#N/A"}},{"$f":"INDIRECT(\"'App.2-M_Regulatory_Costs'!H\" & MATCH($F57,'App.2-M_Regulatory_Costs'!$B:$B,0))","v":{"$error":"#N/A"}},{"$f":"INDIRECT(\"'App.2-M_Regulatory_Costs'!I\" & MATCH($F57,'App.2-M_Regulatory_Costs'!$B:$B,0))","v":{"$error":"#N/A"}},{"$f":"INDIRECT(\"'App.2-M_Regulatory_Costs'!J\" & MATCH($F57,'App.2-M_Regulatory_Costs'!$B:$B,0))","v":{"$error":"#N/A"}},{"$f":"INDIRECT(\"'App.2-M_Regulatory_Costs'!K\" & MATCH($F57,'App.2-M_Regulatory_Costs'!$B:$B,0))","v":{"$error":"#N/A"}}]
[{"$f":"'LDC Info'!$E$14","v":"Ottawa River Power Corporation"},"EB-2021-0052",2022,2021,2016,{"$f":"'App.2-M_Regulatory_Costs'!B72","v":0},"One-Time",{"$f":"INDIRECT(\"'App.2-M_Regulatory_Costs'!C\" & MATCH(F58,'App.2-M_Regulatory_Costs'!$B:$B,0))","v":{"$error":"#N/A"}},{"$f":"INDIRECT(\"'App.2-M_Regulatory_Costs'!D\" & MATCH($F58,'App.2-M_Regulatory_Costs'!$B:$B,0))","v":{"$error":"#N/A"}},{"$f":"INDIRECT(\"'App.2-M_Regulatory_Costs'!E\" & MATCH($F58,'App.2-M_Regulatory_Costs'!$B:$B,0))","v":{"$error":"#N/A"}},{"$f":"INDIRECT(\"'App.2-M_Regulatory_Costs'!F\" & MATCH($F58,'App.2-M_Regulatory_Costs'!$B:$B,0))","v":{"$error":"#N/A"}},{"$f":"INDIRECT(\"'App.2-M_Regulatory_Costs'!G\" & MATCH($F58,'App.2-M_Regulatory_Costs'!$B:$B,0))","v":{"$error":"#N/A"}},{"$f":"INDIRECT(\"'App.2-M_Regulatory_Costs'!H\" & MATCH($F58,'App.2-M_Regulatory_Costs'!$B:$B,0))","v":{"$error":"#N/A"}},{"$f":"INDIRECT(\"'App.2-M_Regulatory_Costs'!I\" & MATCH($F58,'App.2-M_Regulatory_Costs'!$B:$B,0))","v":{"$error":"#N/A"}},{"$f":"INDIRECT(\"'App.2-M_Regulatory_Costs'!J\" & MATCH($F58,'App.2-M_Regulatory_Costs'!$B:$B,0))","v":{"$error":"#N/A"}},{"$f":"INDIRECT(\"'App.2-M_Regulatory_Costs'!K\" & MATCH($F58,'App.2-M_Regulatory_Costs'!$B:$B,0))","v":{"$error":"#N/A"}}]
[{"$f":"'LDC Info'!$E$14","v":"Ottawa River Power Corporation"},"EB-2021-0052",2022,2021,2016,{"$f":"'App.2-M_Regulatory_Costs'!B73","v":0},"One-Time",{"$f":"INDIRECT(\"'App.2-M_Regulatory_Costs'!C\" & MATCH(F59,'App.2-M_Regulatory_Costs'!$B:$B,0))","v":{"$error":"#N/A"}},{"$f":"INDIRECT(\"'App.2-M_Regulatory_Costs'!D\" & MATCH($F59,'App.2-M_Regulatory_Costs'!$B:$B,0))","v":{"$error":"#N/A"}},{"$f":"INDIRECT(\"'App.2-M_Regulatory_Costs'!E\" & MATCH($F59,'App.2-M_Regulatory_Costs'!$B:$B,0))","v":{"$error":"#N/A"}},{"$f":"INDIRECT(\"'App.2-M_Regulatory_Costs'!F\" & MATCH($F59,'App.2-M_Regulatory_Costs'!$B:$B,0))","v":{"$error":"#N/A"}},{"$f":"INDIRECT(\"'App.2-M_Regulatory_Costs'!G\" & MATCH($F59,'App.2-M_Regulatory_Costs'!$B:$B,0))","v":{"$error":"#N/A"}},{"$f":"INDIRECT(\"'App.2-M_Regulatory_Costs'!H\" & MATCH($F59,'App.2-M_Regulatory_Costs'!$B:$B,0))","v":{"$error":"#N/A"}},{"$f":"INDIRECT(\"'App.2-M_Regulatory_Costs'!I\" & MATCH($F59,'App.2-M_Regulatory_Costs'!$B:$B,0))","v":{"$error":"#N/A"}},{"$f":"INDIRECT(\"'App.2-M_Regulatory_Costs'!J\" & MATCH($F59,'App.2-M_Regulatory_Costs'!$B:$B,0))","v":{"$error":"#N/A"}},{"$f":"INDIRECT(\"'App.2-M_Regulatory_Costs'!K\" & MATCH($F59,'App.2-M_Regulatory_Costs'!$B:$B,0))","v":{"$error":"#N/A"}}]
[{"$f":"'LDC Info'!$E$14","v":"Ottawa River Power Corporation"},"EB-2021-0052",2022,2021,2016,{"$f":"'App.2-M_Regulatory_Costs'!B74","v":0},"One-Time",{"$f":"INDIRECT(\"'App.2-M_Regulatory_Costs'!C\" & MATCH(F60,'App.2-M_Regulatory_Costs'!$B:$B,0))","v":{"$error":"#N/A"}},{"$f":"INDIRECT(\"'App.2-M_Regulatory_Costs'!D\" & MATCH($F60,'App.2-M_Regulatory_Costs'!$B:$B,0))","v":{"$error":"#N/A"}},{"$f":"INDIRECT(\"'App.2-M_Regulatory_Costs'!E\" & MATCH($F60,'App.2-M_Regulatory_Costs'!$B:$B,0))","v":{"$error":"#N/A"}},{"$f":"INDIRECT(\"'App.2-M_Regulatory_Costs'!F\" & MATCH($F60,'App.2-M_Regulatory_Costs'!$B:$B,0))","v":{"$error":"#N/A"}},{"$f":"INDIRECT(\"'App.2-M_Regulatory_Costs'!G\" & MATCH($F60,'App.2-M_Regulatory_Costs'!$B:$B,0))","v":{"$error":"#N/A"}},{"$f":"INDIRECT(\"'App.2-M_Regulatory_Costs'!H\" & MATCH($F60,'App.2-M_Regulatory_Costs'!$B:$B,0))","v":{"$error":"#N/A"}},{"$f":"INDIRECT(\"'App.2-M_Regulatory_Costs'!I\" & MATCH($F60,'App.2-M_Regulatory_Costs'!$B:$B,0))","v":{"$error":"#N/A"}},{"$f":"INDIRECT(\"'App.2-M_Regulatory_Costs'!J\" & MATCH($F60,'App.2-M_Regulatory_Costs'!$B:$B,0))","v":{"$error":"#N/A"}},{"$f":"INDIRECT(\"'App.2-M_Regulatory_Costs'!K\" & MATCH($F60,'App.2-M_Regulatory_Costs'!$B:$B,0))","v":{"$error":"#N/A"}}]
[{"$f":"'LDC Info'!$E$14","v":"Ottawa River Power Corporation"},"EB-2021-0052",2022,2021,2016,{"$f":"'App.2-M_Regulatory_Costs'!B75","v":0},"One-Time",{"$f":"INDIRECT(\"'App.2-M_Regulatory_Costs'!C\" & MATCH(F61,'App.2-M_Regulatory_Costs'!$B:$B,0))","v":{"$error":"#N/A"}},{"$f":"INDIRECT(\"'App.2-M_Regulatory_Costs'!D\" & MATCH($F61,'App.2-M_Regulatory_Costs'!$B:$B,0))","v":{"$error":"#N/A"}},{"$f":"INDIRECT(\"'App.2-M_Regulatory_Costs'!E\" & MATCH($F61,'App.2-M_Regulatory_Costs'!$B:$B,0))","v":{"$error":"#N/A"}},{"$f":"INDIRECT(\"'App.2-M_Regulatory_Costs'!F\" & MATCH($F61,'App.2-M_Regulatory_Costs'!$B:$B,0))","v":{"$error":"#N/A"}},{"$f":"INDIRECT(\"'App.2-M_Regulatory_Costs'!G\" & MATCH($F61,'App.2-M_Regulatory_Costs'!$B:$B,0))","v":{"$error":"#N/A"}},{"$f":"INDIRECT(\"'App.2-M_Regulatory_Costs'!H\" & MATCH($F61,'App.2-M_Regulatory_Costs'!$B:$B,0))","v":{"$error":"#N/A"}},{"$f":"INDIRECT(\"'App.2-M_Regulatory_Costs'!I\" & MATCH($F61,'App.2-M_Regulatory_Costs'!$B:$B,0))","v":{"$error":"#N/A"}},{"$f":"INDIRECT(\"'App.2-M_Regulatory_Costs'!J\" & MATCH($F61,'App.2-M_Regulatory_Costs'!$B:$B,0))","v":{"$error":"#N/A"}},{"$f":"INDIRECT(\"'App.2-M_Regulatory_Costs'!K\" & MATCH($F61,'App.2-M_Regulatory_Costs'!$B:$B,0))","v":{"$error":"#N/A"}}]
[{"$f":"'LDC Info'!$E$14","v":"Ottawa River Power Corporation"},"EB-2021-0052",2022,2021,2016,{"$f":"'App.2-M_Regulatory_Costs'!B76","v":0},"One-Time",{"$f":"INDIRECT(\"'App.2-M_Regulatory_Costs'!C\" & MATCH(F62,'App.2-M_Regulatory_Costs'!$B:$B,0))","v":{"$error":"#N/A"}},{"$f":"INDIRECT(\"'App.2-M_Regulatory_Costs'!D\" & MATCH($F62,'App.2-M_Regulatory_Costs'!$B:$B,0))","v":{"$error":"#N/A"}},{"$f":"INDIRECT(\"'App.2-M_Regulatory_Costs'!E\" & MATCH($F62,'App.2-M_Regulatory_Costs'!$B:$B,0))","v":{"$error":"#N/A"}},{"$f":"INDIRECT(\"'App.2-M_Regulatory_Costs'!F\" & MATCH($F62,'App.2-M_Regulatory_Costs'!$B:$B,0))","v":{"$error":"#N/A"}},{"$f":"INDIRECT(\"'App.2-M_Regulatory_Costs'!G\" & MATCH($F62,'App.2-M_Regulatory_Costs'!$B:$B,0))","v":{"$error":"#N/A"}},{"$f":"INDIRECT(\"'App.2-M_Regulatory_Costs'!H\" & MATCH($F62,'App.2-M_Regulatory_Costs'!$B:$B,0))","v":{"$error":"#N/A"}},{"$f":"INDIRECT(\"'App.2-M_Regulatory_Costs'!I\" & MATCH($F62,'App.2-M_Regulatory_Costs'!$B:$B,0))","v":{"$error":"#N/A"}},{"$f":"INDIRECT(\"'App.2-M_Regulatory_Costs'!J\" & MATCH($F62,'App.2-M_Regulatory_Costs'!$B:$B,0))","v":{"$error":"#N/A"}},{"$f":"INDIRECT(\"'App.2-M_Regulatory_Costs'!K\" & MATCH($F62,'App.2-M_Regulatory_Costs'!$B:$B,0))","v":{"$error":"#N/A"}}]
[{"$f":"'LDC Info'!$E$14","v":"Ottawa River Power Corporation"},"EB-2021-0052",2022,2021,2016,{"$f":"'App.2-M_Regulatory_Costs'!B77","v":"Sub-total - Ongoing Costs 2"},"One-Time",{"$f":"INDIRECT(\"'App.2-M_Regulatory_Costs'!C\" & MATCH(F63,'App.2-M_Regulatory_Costs'!$B:$B,0))","v":0},{"$f":"INDIRECT(\"'App.2-M_Regulatory_Costs'!D\" & MATCH($F63,'App.2-M_Regulatory_Costs'!$B:$B,0))","v":0},{"$f":"INDIRECT(\"'App.2-M_Regulatory_Costs'!E\" & MATCH($F63,'App.2-M_Regulatory_Costs'!$B:$B,0))","v":0},{"$f":"INDIRECT(\"'App.2-M_Regulatory_Costs'!F\" & MATCH($F63,'App.2-M_Regulatory_Costs'!$B:$B,0))","v":118319.45000000001},{"$f":"INDIRECT(\"'App.2-M_Regulatory_Costs'!G\" & MATCH($F63,'App.2-M_Regulatory_Costs'!$B:$B,0))","v":159827.60999999999},{"$f":"INDIRECT(\"'App.2-M_Regulatory_Costs'!H\" & MATCH($F63,'App.2-M_Regulatory_Costs'!$B:$B,0))","v":117729.64},{"$f":"INDIRECT(\"'App.2-M_Regulatory_Costs'!I\" & MATCH($F63,'App.2-M_Regulatory_Costs'!$B:$B,0))","v":-0.26339610534124858},{"$f":"INDIRECT(\"'App.2-M_Regulatory_Costs'!J\" & MATCH($F63,'App.2-M_Regulatory_Costs'!$B:$B,0))","v":108362},{"$f":"INDIRECT(\"'App.2-M_Regulatory_Costs'!K\" & MATCH($F63,'App.2-M_Regulatory_Costs'!$B:$B,0))","v":-7.956908727487827E-2}]
[{"$f":"'LDC Info'!$E$14","v":"Ottawa River Power Corporation"},"EB-2021-0052",2022,2021,2016,{"$f":"'App.2-M_Regulatory_Costs'!B78","v":"Sub-total - One-time Costs 3"},"One-Time",{"$f":"INDIRECT(\"'App.2-M_Regulatory_Costs'!C\" & MATCH(F64,'App.2-M_Regulatory_Costs'!$B:$B,0))","v":0},{"$f":"INDIRECT(\"'App.2-M_Regulatory_Costs'!D\" & MATCH($F64,'App.2-M_Regulatory_Costs'!$B:$B,0))","v":0},{"$f":"INDIRECT(\"'App.2-M_Regulatory_Costs'!E\" & MATCH($F64,'App.2-M_Regulatory_Costs'!$B:$B,0))","v":260372.47999999998},{"$f":"INDIRECT(\"'App.2-M_Regulatory_Costs'!F\" & MATCH($F64,'App.2-M_Regulatory_Costs'!$B:$B,0))","v":500},{"$f":"INDIRECT(\"'App.2-M_Regulatory_Costs'!G\" & MATCH($F64,'App.2-M_Regulatory_Costs'!$B:$B,0))","v":0},{"$f":"INDIRECT(\"'App.2-M_Regulatory_Costs'!H\" & MATCH($F64,'App.2-M_Regulatory_Costs'!$B:$B,0))","v":0},{"$f":"INDIRECT(\"'App.2-M_Regulatory_Costs'!I\" & MATCH($F64,'App.2-M_Regulatory_Costs'!$B:$B,0))","v":""},{"$f":"INDIRECT(\"'App.2-M_Regulatory_Costs'!J\" & MATCH($F64,'App.2-M_Regulatory_Costs'!$B:$B,0))","v":373500},{"$f":"INDIRECT(\"'App.2-M_Regulatory_Costs'!K\" & MATCH($F64,'App.2-M_Regulatory_Costs'!$B:$B,0))","v":""}]
[{"$f":"'LDC Info'!$E$14","v":"Ottawa River Power Corporation"},"EB-2021-0052",2022,2021,2016,{"$f":"'App.2-M_Regulatory_Costs'!B79","v":"Total"},"One-Time",{"$f":"INDIRECT(\"'App.2-M_Regulatory_Costs'!C\" & MATCH(F65,'App.2-M_Regulatory_Costs'!$B:$B,0))","v":0},{"$f":"INDIRECT(\"'App.2-M_Regulatory_Costs'!D\" & MATCH($F65,'App.2-M_Regulatory_Costs'!$B:$B,0))","v":0},{"$f":"INDIRECT(\"'App.2-M_Regulatory_Costs'!E\" & MATCH($F65,'App.2-M_Regulatory_Costs'!$B:$B,0))","v":260372.47999999998},{"$f":"INDIRECT(\"'App.2-M_Regulatory_Costs'!F\" & MATCH($F65,'App.2-M_Regulatory_Costs'!$B:$B,0))","v":118819.45000000001},{"$f":"INDIRECT(\"'App.2-M_Regulatory_Costs'!G\" & MATCH($F65,'App.2-M_Regulatory_Costs'!$B:$B,0))","v":159827.60999999999},{"$f":"INDIRECT(\"'App.2-M_Regulatory_Costs'!H\" & MATCH($F65,'App.2-M_Regulatory_Costs'!$B:$B,0))","v":117729.64},{"$f":"INDIRECT(\"'App.2-M_Regulatory_Costs'!I\" & MATCH($F65,'App.2-M_Regulatory_Costs'!$B:$B,0))","v":-0.26339610534124858},{"$f":"INDIRECT(\"'App.2-M_Regulatory_Costs'!J\" & MATCH($F65,'App.2-M_Regulatory_Costs'!$B:$B,0))","v":183062},{"$f":"INDIRECT(\"'App.2-M_Regulatory_Costs'!K\" & MATCH($F65,'App.2-M_Regulatory_Costs'!$B:$B,0))","v":0.5549355285550861}]

{"sheet":"Hidden_RegulatoryCosts2","index":49,"n_rows":2,"n_cols":6,"rows_kept":2,"cut":false,"hidden":true,"merged":[]}
["EB Number","Test Year","Bridge Year","Last Rebasing Year","One-Time COS Costs","Amortized Amount"]
[{"$f":"EBNUMBER","v":"EB-2021-0052"},{"$f":"TestYear","v":2022},{"$f":"BridgeYear","v":2021},{"$f":"RebaseYear","v":2016},{"$f":"'App.2-M_Regulatory_Costs'!C82","v":373500},{"$f":"'App.2-M_Regulatory_Costs'!C83","v":74700}]

{"sheet":"App.2-N_Corp_Cost_Allocation","index":50,"n_rows":231,"n_cols":8,"rows_kept":231,"cut":false,"hidden":false,"merged":[[125,1,125,2],[125,3,127,3],[125,4,127,4],[125,5,126,5],[125,6,126,6],[126,1,127,1],[126,2,127,2],[109,1,109,6],[111,1,111,2],[111,3,113,3],[111,4,113,4],[111,5,112,5],[111,6,112,6],[112,1,113,1],[112,2,113,2],[123,1,123,6],[79,1,79,2],[79,3,81,3],[79,4,81,4],[79,5,80,5],[79,6,80,6],[80,1,81,1],[80,2,81,2],[91,1,91,6],[93,1,93,2],[93,3,95,3],[93,4,95,4],[93,5,94,5],[93,6,94,6],[94,1,95,1],[94,2,95,2],[59,1,59,6],[61,1,61,2],[61,3,63,3],[61,4,63,4],[61,5,62,5],[61,6,62,6],[62,1,63,1],[62,2,63,2],[77,1,77,6],[29,5,30,5],[30,1,31,1],[30,2,31,2],[47,1,47,2],[47,3,49,3],[47,4,49,4],[47,5,48,5],[45,1,45,6],[29,1,29,2],[29,3,31,3],[29,4,31,4],[29,6,30,6],[47,6,48,6],[48,1,49,1],[48,2,49,2],[27,1,27,6],[8,1,8,6],[9,1,9,6],[16,1,17,1],[16,2,17,2],[15,3,17,3],[15,4,17,4],[15,1,15,2],[15,5,16,5],[15,6,16,6],[13,1,13,6],[154,1,154,6],[156,1,156,2],[156,4,158,4],[156,6,157,6],[157,2,158,2],[142,3,144,3],[142,5,143,5],[143,1,144,1],[140,1,140,6],[142,1,142,2],[142,4,144,4],[142,6,143,6],[143,2,144,2],[174,3,176,3],[174,5,175,5],[175,1,176,1],[172,1,172,6],[174,1,174,2],[174,4,176,4],[174,6,175,6],[175,2,176,2],[156,3,158,3],[156,5,157,5],[157,1,158,1],[204,1,204,6],[206,1,206,2],[206,4,208,4],[206,6,207,6],[207,2,208,2],[188,3,190,3],[188,5,189,5],[189,1,190,1],[186,1,186,6],[188,1,188,2],[188,4,190,4],[188,6,189,6],[189,2,190,2],[220,3,222,3],[220,5,221,5],[221,1,222,1],[218,1,218,6],[220,1,220,2],[220,4,222,4],[220,6,221,6],[221,2,222,2],[206,3,208,3],[206,5,207,5],[207,1,208,1]]}
[null,null,null,null,null,null,"File Number:",{"$f":"EBNUMBER","v":"EB-2021-0052"}]
[null,null,null,null,null,null,"Exhibit:"]
[null,null,null,null,null,null,"Tab:"]
[null,null,null,null,null,null,"Schedule:"]
[null,null,null,null,null,null,"Page:"]
[]
[null,null,null,null,null,null,"Date:"]
[]
[null,"Appendix 2-N"]
[null,"Shared Services and Corporate Cost Allocation 1"]
[]
[null,null,"Year:",2016]
[]
[null,"Shared Services"]
[]
[null,"Name of Company",null,"Service Offered","Pricing Methodology","Price for the Service","Cost for the Service"]
[null,"From","To"]
[null,null,null,null,null,"$","$"]
[null,"Ottawa River Power Corporation","Ottawa River Energy Solutions Inc.","Administration","Burdened Cost",54758.55,54758.55]
[null,"Ottawa River Power Corporation","Ottawa River Energy Solutions Inc.","Electrical Contracting","Burdened Cost + 15%",210451.49999999997,184120.27000000002]
[null,"Ottawa River Power Corporation","Ottawa River Energy Solutions Inc.","Street and Traffic Light Contracting","Burdened Cost + 15%",63902.770000000026,55373.75]
[null,"Ottawa River Power Corporation","Ottawa River Energy Solutions Inc.","Water Heater Maintenance","Burdened Cost + 15%",28559.449999999997,24834.250000000004]
[null,"Ottawa River Power Corporation","Ottawa River Energy Solutions Inc.","Fibre Maintenance","Burdened Cost + 15%",54811.689999999988,47662.269999999982]
[null,"Ottawa River Power Corporation","Ottawa River Energy Solutions Inc.","Solar Maintenance","Burdened Cost + 15%",16067.75,13971.93]
[null,"Ottawa River Power Corporation","Ottawa River Energy Solutions Inc.","Sentinel Light Maintenance","Burdened Cost + 15%",3214.72,2795.1]
[]
[]
[null,"Corporate Cost Allocation"]
[]
[null,"Name of Company",null,"Service Offered","Pricing Methodology","% of Corporate Costs Allocated","Amount Allocated"]
[null,"From","To"]
[null,null,null,null,null,"%","$"]
[null,"Ottawa River Power Corporation","Ottawa River Energy Solutions Inc.","Administration","Burdened Cost"]
[null,"Ottawa River Power Corporation","Ottawa River Energy Solutions Inc.","Electrical Contracting","Burdened Cost + 15%"]
[null,"Ottawa River Power Corporation","Ottawa River Energy Solutions Inc.","Street and Traffic Light Contracting","Burdened Cost + 15%"]
[null,"Ottawa River Power Corporation","Ottawa River Energy Solutions Inc.","Water Heater Maintenance","Burdened Cost + 15%"]
[null,"Ottawa River Power Corporation","Ottawa River Energy Solutions Inc.","Fibre Maintenance","Burdened Cost + 15%"]
[null,"Ottawa River Power Corporation","Ottawa River Energy Solutions Inc.","Solar Maintenance","Burdened Cost + 15%"]
[null,"Ottawa River Power Corporation","Ottawa River Energy Solutions Inc.","Sentinel Light Maintenance","Burdened Cost + 15%"]
[]
[]
[]
[]
[null,null,"Year:",2017]
[]
[null,"Shared Services"]
[]
[null,"Name of Company",null,"Service Offered","Pricing Methodology","Price for the Service","Cost for the Service"]
[null,"From","To"]
[null,null,null,null,null,"$","$"]
[null,"Ottawa River Power Corporation","Ottawa River Energy Solutions Inc.","Administration","Burdened Cost",50932.86,50932.86]
[null,"Ottawa River Power Corporation","Ottawa River Energy Solutions Inc.","Electrical Contracting","Burdened Cost + 15%",238168.37,192816.94]
[null,"Ottawa River Power Corporation","Ottawa River Energy Solutions Inc.","Street and Traffic Light Contracting","Burdened Cost + 15%",71778.259999999995,62220.109999999993]
[null,"Ottawa River Power Corporation","Ottawa River Energy Solutions Inc.","Water Heater Maintenance","Burdened Cost + 15%",4446.7,3866.6499999999996]
[null,"Ottawa River Power Corporation","Ottawa River Energy Solutions Inc.","Fibre Maintenance","Burdened Cost + 15%",9752.7999999999993,8480.65]
[null,"Ottawa River Power Corporation","Ottawa River Energy Solutions Inc.","Solar Maintenance","Burdened Cost + 15%",53210.35,46260.82]
[null,"Ottawa River Power Corporation","Ottawa River Energy Solutions Inc.","Sentinel Light Maintenance","Burdened Cost + 15%",1895.95,1648.63]
[]
[]
[null,"Corporate Cost Allocation"]
[]
[null,"Name of Company",null,"Service Offered","Pricing Methodology","% of Corporate Costs Allocated","Amount Allocated"]
[null,"From","To"]
[null,null,null,null,null,"%","$"]
[null,"Ottawa River Power Corporation","Ottawa River Energy Solutions Inc.","Administration","Burdened Cost"]
[null,"Ottawa River Power Corporation","Ottawa River Energy Solutions Inc.","Electrical Contracting","Burdened Cost + 15%"]
[null,"Ottawa River Power Corporation","Ottawa River Energy Solutions Inc.","Street and Traffic Light Contracting","Burdened Cost + 15%"]
[null,"Ottawa River Power Corporation","Ottawa River Energy Solutions Inc.","Water Heater Maintenance","Burdened Cost + 15%"]
[null,"Ottawa River Power Corporation","Ottawa River Energy Solutions Inc.","Fibre Maintenance","Burdened Cost + 15%"]
[null,"Ottawa River Power Corporation","Ottawa River Energy Solutions Inc.","Solar Maintenance","Burdened Cost + 15%"]
[null,"Ottawa River Power Corporation","Ottawa River Energy Solutions Inc.","Sentinel Light Maintenance","Burdened Cost + 15%"]
[]
[]
[]
[]
[null,null,"Year:",2018]
[]
[null,"Shared Services"]
[]
[null,"Name of Company",null,"Service Offered","Pricing Methodology","Price for the Service","Cost for the Service"]
[null,"From","To"]
[null,null,null,null,null,"$","$"]
[null,"Ottawa River Power Corporation","Ottawa River Energy Solutions Inc.","Administration","Burdened Cost",55140.2,55140.2]
[null,"Ottawa River Power Corporation","Ottawa River Energy Solutions Inc.","Electrical Contracting","Burdened Cost + 15%",407678.58999999991,336648.22000000009]
[null,"Ottawa River Power Corporation","Ottawa River Energy Solutions Inc.","Street and Traffic Light Contracting","Burdened Cost + 15%",64569.19999999999,54754.359999999979]
[null,"Ottawa River Power Corporation","Ottawa River Energy Solutions Inc.","Water Heater Maintenance","Burdened Cost + 15%",1939.1699999999998,1686.2100000000003]
[null,"Ottawa River Power Corporation","Ottawa River Energy Solutions Inc.","Fibre Maintenance","Burdened Cost + 15%",11659.949999999999,9736.2899999999991]
[null,"Ottawa River Power Corporation","Ottawa River Energy Solutions Inc.","Solar Maintenance","Burdened Cost + 15%",220.61,191.83]
[null,"Ottawa River Power Corporation","Ottawa River Energy Solutions Inc.","Sentinel Light Maintenance","Burdened Cost + 15%",3593.58,3124.83]
[]
[]
[null,"Corporate Cost Allocation"]
[]
[null,"Name of Company",null,"Service Offered","Pricing Methodology","% of Corporate Costs Allocated","Amount Allocated"]
[null,"From","To"]
[null,null,null,null,null,"%","$"]
[null,"Ottawa River Power Corporation","Ottawa River Energy Solutions Inc.","Administration","Burdened Cost"]
[null,"Ottawa River Power Corporation","Ottawa River Energy Solutions Inc.","Electrical Contracting","Burdened Cost + 15%"]
[null,"Ottawa River Power Corporation","Ottawa River Energy Solutions Inc.","Street and Traffic Light Contracting","Burdened Cost + 15%"]
[null,"Ottawa River Power Corporation","Ottawa River Energy Solutions Inc.","Water Heater Maintenance","Burdened Cost + 15%"]
[null,"Ottawa River Power Corporation","Ottawa River Energy Solutions Inc.","Fibre Maintenance","Burdened Cost + 15%"]
[null,"Ottawa River Power Corporation","Ottawa River Energy Solutions Inc.","Solar Maintenance","Burdened Cost + 15%"]
[null,"Ottawa River Power Corporation","Ottawa River Energy Solutions Inc.","Sentinel Light Maintenance","Burdened Cost + 15%"]
[]
[]
[]
[]
[null,null,"Year:",2019]
[]
[null,"Shared Services"]
[]
[null,"Name of Company",null,"Service Offered","Pricing Methodology","Price for the Service","Cost for the Service"]
[null,"From","To"]
[null,null,null,null,null,"$","$"]
[null,"Ottawa River Power Corporation","Ottawa River Energy Solutions Inc.","Administration","Burdened Cost",60589.959999999992,60589.959999999992]
[null,"Ottawa River Power Corporation","Ottawa River Energy Solutions Inc.","Electrical Contracting","Burdened Cost + 15%",246370.31,208265.63999999998]
[null,"Ottawa River Power Corporation","Ottawa River Energy Solutions Inc.","Street and Traffic Light Contracting","Burdened Cost + 15%",357228.07,338946.38999999984]
[null,"Ottawa River Power Corporation","Ottawa River Energy Solutions Inc.","Water Heater Maintenance","Burdened Cost + 15%",2194.52,1908.2599999999998]
[null,"Ottawa River Power Corporation","Ottawa River Energy Solutions Inc.","Fibre Maintenance","Burdened Cost + 15%",4759.21,4142.42]
[null,"Ottawa River Power Corporation","Ottawa River Energy Solutions Inc.","Solar Maintenance","Burdened Cost + 15%",494.74,430.2]
[null,"Ottawa River Power Corporation","Ottawa River Energy Solutions Inc.","Sentinel Light Maintenance","Burdened Cost + 15%",2589.58,2250.17]
[]
[]
[null,"Corporate Cost Allocation"]
[]
[null,"Name of Company",null,"Service Offered","Pricing Methodology","% of Corporate Costs Allocated","Amount Allocated"]
[null,"From","To"]
[null,null,null,null,null,"%","$"]
[null,"Ottawa River Power Corporation","Ottawa River Energy Solutions Inc.","Administration","Burdened Cost"]
[null,"Ottawa River Power Corporation","Ottawa River Energy Solutions Inc.","Electrical Contracting","Burdened Cost + 15%"]
[null,"Ottawa River Power Corporation","Ottawa River Energy Solutions Inc.","Street and Traffic Light Contracting","Burdened Cost + 15%"]
[null,"Ottawa River Power Corporation","Ottawa River Energy Solutions Inc.","Water Heater Maintenance","Burdened Cost + 15%"]
[null,"Ottawa River Power Corporation","Ottawa River Energy Solutions Inc.","Fibre Maintenance","Burdened Cost + 15%"]
[null,"Ottawa River Power Corporation","Ottawa River Energy Solutions Inc.","Solar Maintenance","Burdened Cost + 15%"]
[null,"Ottawa River Power Corporation","Ottawa River Energy Solutions Inc.","Sentinel Light Maintenance","Burdened Cost + 15%"]
[]
[]
[]
[null,null,"Year:",{"$f":"'[22]0.1 LDC Info'!$E$27+4","v":2020}]
[]
[null,"Shared Services"]
[]
[null,"Name of Company",null,"Service Offered","Pricing Methodology","Price for the Service","Cost for the Service"]
[null,"From","To"]
[null,null,null,null,null,"$","$"]
[null,"Ottawa River Power Corporation","Ottawa River Energy Solutions Inc.","Administration","Burdened Cost + 15%",94527.390000000029,91270.820000000022]
[null,"Ottawa River Power Corporation","Ottawa River Energy Solutions Inc.","Electrical Contracting","Burdened Cost + 15%",172499.14,138047.77000000002]
[null,"Ottawa River Power Corporation","Ottawa River Energy Solutions Inc.","Street and Traffic Light Contracting","Burdened Cost + 15%",163975.26,142243.26000000004]
[null,"Ottawa River Power Corporation","Ottawa River Energy Solutions Inc.","Water Heater Maintenance","Burdened Cost + 15%",9448.81,8216.35]
[null,"Ottawa River Power Corporation","Ottawa River Energy Solutions Inc.","Fibre Maintenance","Burdened Cost + 15%",8726.7800000000007,7317.23]
[null,"Ottawa River Power Corporation","Ottawa River Energy Solutions Inc.","Solar Maintenance","Burdened Cost + 15%",115,100]
[null,"Ottawa River Power Corporation","Ottawa River Energy Solutions Inc.","Sentinel Light Maintenance","Burdened Cost + 15%",3960.11,3443.5800000000004]
[null,"Ottawa River Power Corporation","Ottawa River Energy Solutions Inc.","EV Charging Station Maintenance","Burdened Cost + 15%",1537.8400000000001,1337.25]
[]
[null,"Corporate Cost Allocation"]
[]
[null,"Name of Company",null,"Service Offered","Pricing Methodology","% of Corporate Costs Allocated","Amount Allocated"]
[null,"From","To"]
[null,null,null,null,null,"%","$"]
[null,"Ottawa River Power Corporation","Ottawa River Energy Solutions Inc.","Administration","Burdened Cost + 15%"]
[null,"Ottawa River Power Corporation","Ottawa River Energy Solutions Inc.","Electrical Contracting","Burdened Cost + 15%"]
[null,"Ottawa River Power Corporation","Ottawa River Energy Solutions Inc.","Street and Traffic Light Contracting","Burdened Cost + 15%"]
[null,"Ottawa River Power Corporation","Ottawa River Energy Solutions Inc.","Water Heater Maintenance","Burdened Cost + 15%"]
[null,"Ottawa River Power Corporation","Ottawa River Energy Solutions Inc.","Fibre Maintenance","Burdened Cost + 15%"]
[null,"Ottawa River Power Corporation","Ottawa River Energy Solutions Inc.","Solar Maintenance","Burdened Cost + 15%"]
[null,"Ottawa River Power Corporation","Ottawa River Energy Solutions Inc.","Sentinel Light Maintenance","Burdened Cost + 15%"]
[null,"Ottawa River Power Corporation","Ottawa River Energy Solutions Inc.","EV Charging Station Maintenance","Burdened Cost + 15%"]
[]
[]
[]
[null,null,"Year:",2021]
[]
[null,"Shared Services"]
[]
[null,"Name of Company",null,"Service Offered","Pricing Methodology","Price for the Service","Cost for the Service"]
[null,"From","To"]
[null,null,null,null,null,"$","$"]
[null,"Ottawa River Power Corporation","Ottawa River Energy Solutions Inc.","Administration","Burdened Cost + 15%-30%",80000,65000]
[null,"Ottawa River Power Corporation","Ottawa River Energy Solutions Inc.","Electrical Contracting","Burdened Cost + 15%-30%",157000,134700]
[null,"Ottawa River Power Corporation","Ottawa River Energy Solutions Inc.","Street and Traffic Light Contracting","Burdened Cost + 15%-30%",150000,130000]
[null,"Ottawa River Power Corporation","Ottawa River Energy Solutions Inc.","Water Heater Maintenance","Burdened Cost + 15%-30%",5000,4000]
[null,"Ottawa River Power Corporation","Ottawa River Energy Solutions Inc.","Fibre Maintenance","Burdened Cost + 15%-30%",5000,4000]
[null,"Ottawa River Power Corporation","Ottawa River Energy Solutions Inc.","Solar Maintenance","Burdened Cost + 15%-30%",500,{"$f":"ROUND(F183/1.3,-2)","v":400}]
[null,"Ottawa River Power Corporation","Ottawa River Energy Solutions Inc.","Sentinel Light Maintenance","Burdened Cost + 15%-30%",2000,1500]
[null,"Ottawa River Power Corporation","Ottawa River Energy Solutions Inc.","EV Charging Station Maintenance","Burdened Cost + 15%-30%",500,400]
[]
[null,"Corporate Cost Allocation"]
[]
[null,"Name of Company",null,"Service Offered","Pricing Methodology","% of Corporate Costs Allocated","Amount Allocated"]
[null,"From","To"]
[null,null,null,null,null,"%","$"]
[null,"Ottawa River Power Corporation","Ottawa River Energy Solutions Inc.","Administration","Burdened Cost + 30%"]
[null,"Ottawa River Power Corporation","Ottawa River Energy Solutions Inc.","Electrical Contracting","Burdened Cost + 30%"]
[null,"Ottawa River Power Corporation","Ottawa River Energy Solutions Inc.","Street and Traffic Light Contracting","Burdened Cost + 30%"]
[null,"Ottawa River Power Corporation","Ottawa River Energy Solutions Inc.","Water Heater Maintenance","Burdened Cost + 30%"]
[null,"Ottawa River Power Corporation","Ottawa River Energy Solutions Inc.","Fibre Maintenance","Burdened Cost + 30%"]
[null,"Ottawa River Power Corporation","Ottawa River Energy Solutions Inc.","Solar Maintenance","Burdened Cost + 30%"]
[null,"Ottawa River Power Corporation","Ottawa River Energy Solutions Inc.","Sentinel Light Maintenance","Burdened Cost + 30%"]
[null,"Ottawa River Power Corporation","Ottawa River Energy Solutions Inc.","EV Charging Station Maintenance","Burdened Cost + 30%"]
[]
[]
[]
[null,null,"Year:",2022]
[]
[null,"Shared Services"]
[]
[null,"Name of Company",null,"Service Offered","Pricing Methodology","Price for the Service","Cost for the Service"]
[null,"From","To"]
[null,null,null,null,null,"$","$"]
[null,"Ottawa River Power Corporation","Ottawa River Energy Solutions Inc.","Administration","Burdened Cost + 30%",80000,65000]
[null,"Ottawa River Power Corporation","Ottawa River Energy Solutions Inc.","Electrical Contracting","Burdened Cost + 30%",157000,134700]
[null,"Ottawa River Power Corporation","Ottawa River Energy Solutions Inc.","Street and Traffic Light Contracting","Burdened Cost + 30%",150000,130000]
[null,"Ottawa River Power Corporation","Ottawa River Energy Solutions Inc.","Water Heater Maintenance","Burdened Cost + 30%",5000,4000]
[null,"Ottawa River Power Corporation","Ottawa River Energy Solutions Inc.","Fibre Maintenance","Burdened Cost + 30%",5000,4000]
[null,"Ottawa River Power Corporation","Ottawa River Energy Solutions Inc.","Solar Maintenance","Burdened Cost + 30%",500,{"$f":"ROUND(F215/1.3,-2)","v":400}]
[null,"Ottawa River Power Corporation","Ottawa River Energy Solutions Inc.","Sentinel Light Maintenance","Burdened Cost + 30%",2000,1500]
[null,"Ottawa River Power Corporation","Ottawa River Energy Solutions Inc.","EV Charging Station Maintenance","Burdened Cost + 30%",500,400]
[]
[null,"Corporate Cost Allocation"]
[]
[null,"Name of Company",null,"Service Offered","Pricing Methodology","% of Corporate Costs Allocated","Amount Allocated"]
[null,"From","To"]
[null,null,null,null,null,"%","$"]
[null,"Ottawa River Power Corporation","Ottawa River Energy Solutions Inc.","Administration","Burdened Cost + 30%"]
[null,"Ottawa River Power Corporation","Ottawa River Energy Solutions Inc.","Electrical Contracting","Burdened Cost + 30%"]
[null,"Ottawa River Power Corporation","Ottawa River Energy Solutions Inc.","Street and Traffic Light Contracting","Burdened Cost + 30%"]
[null,"Ottawa River Power Corporation","Ottawa River Energy Solutions Inc.","Water Heater Maintenance","Burdened Cost + 30%"]
[null,"Ottawa River Power Corporation","Ottawa River Energy Solutions Inc.","Fibre Maintenance","Burdened Cost + 30%"]
[null,"Ottawa River Power Corporation","Ottawa River Energy Solutions Inc.","Solar Maintenance","Burdened Cost + 30%"]
[null,"Ottawa River Power Corporation","Ottawa River Energy Solutions Inc.","Sentinel Light Maintenance","Burdened Cost + 30%"]
[null,"Ottawa River Power Corporation","Ottawa River Energy Solutions Inc.","EV Charging Station Maintenance","Burdened Cost + 30%"]

{"sheet":"App.2-OA Capital Structure","index":51,"n_rows":65,"n_cols":15,"rows_kept":65,"cut":false,"hidden":false,"merged":[[46,0,47,0],[47,4,47,8],[63,0,63,14],[64,2,64,14],[70,2,70,14],[65,2,65,14],[66,2,66,14],[67,2,67,14],[68,2,68,14],[69,2,69,14],[44,7,44,9],[9,2,9,14],[10,2,10,14],[16,0,17,0],[17,4,17,8],[14,7,14,9],[40,2,40,14],[12,0,12,14],[34,2,34,14],[35,2,35,14],[36,2,36,14],[37,2,37,14],[38,2,38,14],[39,2,39,14],[33,0,33,14]]}
[null,null,null,null,null,null,null,null,null,null,"File Number:",null,null,null,{"$f":"EBNUMBER","v":"EB-2021-0052"}]
[null,null,null,null,null,null,null,null,null,null,"Exhibit:"]
[null,null,null,null,null,null,null,null,null,null,"Tab:"]
[null,null,null,null,null,null,null,null,null,null,"Schedule:"]
[null,null,null,null,null,null,null,null,null,null,"Page:"]
[]
[null,null,null,null,null,null,null,null,null,null,"Date:"]
[]
[]
[null,null,"Appendix 2-OA"]
[null,null,"Capital Structure and Cost of Capital"]
[]
["This table must be completed for the last OEB-approved year and the test year."]
[]
[null,null,null,null,null,null,"Test Year:"]
[]
["Line No."]
[null,null,"Particulars",null,"Capitalization Ratio",null,null,null,null,null,"Cost Rate",null,null,null,"Return"]
[]
[null,null,null,null,"(%)",null,null,null,"($)",null,"(%)",null,null,null,"($)"]
[null,null,"Debt"]
[1,null,"  Long-term Debt",null,0.56000000000000005,null,null,null,{"$f":"$I$31*E22","v":7438142.3200000003},null,2.7300000000000001E-2,null,null,null,{"$f":"K22*I22","v":203061.28533600003}]
[2,null,"  Short-term Debt",null,0.04,null,"(1)",null,{"$f":"$I$31*E23","v":531295.88},null,1.7500000000000002E-2,null,null,null,{"$f":"K23*I23","v":9297.6779000000006}]
[3,null,"Total Debt",null,{"$f":"SUM(E22:E23)","v":0.60000000000000009},null,null,null,{"$f":"SUM(I22:I23)","v":7969438.2000000002},null,{"$f":"IF(E24=0,0,SUMPRODUCT(E22:E23,K22:K23)/E24)","v":2.6646666666666666E-2},null,null,null,{"$f":"SUM(O22:O23)","v":212358.96323600004}]
[]
[null,null,"Equity"]
[4,null,"  Common Equity",null,0.4,null,null,null,{"$f":"$I$31*E27","v":5312958.8000000007},null,8.3400000000000002E-2,null,null,null,{"$f":"K27*I27","v":443100.76392000006}]
[5,null,"  Preferred Shares",null,null,null,null,null,{"$f":"$I$31*E28","v":0},null,null,null,null,null,{"$f":"K28*I28","v":0}]
[6,null,"Total Equity",null,{"$f":"SUM(E27:E28)","v":0.4},null,null,null,{"$f":"SUM(I27:I28)","v":5312958.8000000007},null,{"$f":"IF(E29=0,0,SUMPRODUCT(E27:E28,K27:K28)/E29)","v":8.3400000000000002E-2},null,null,null,{"$f":"SUM(O27:O28)","v":443100.76392000006}]
[]
[7,null,"Total",null,1,null,null,null,13282397,null,{"$f":"(K24*E24)+(K29*E29)","v":4.9348000000000003E-2},null,null,null,{"$f":"O24+O29","v":655459.7271560001}]
[]
[]
["Notes"]
["(1)",null,"4.0% unless an applicant has proposed or been approved for a different amount."]
[]
[]
[]
[]
[]
[]
[]
[]
[]
[null,null,null,null,null,null,"Last OEB-approved year:",2016]
[]
["Line No."]
[null,null,"Particulars",null,"Capitalization Ratio",null,null,null,null,null,"Cost Rate",null,null,null,"Return"]
[]
[null,null,null,null,"(%)",null,null,null,"($)",null,"(%)",null,null,null,"($)"]
[null,null,"Debt"]
[1,null,"  Long-term Debt",null,0.56000000000000005,null,null,null,{"$f":"$I$61*E52","v":6609279.6000000006},null,4.5400000000000003E-2,null,null,null,{"$f":"K52*I52","v":300061.29384000006}]
[2,null,"  Short-term Debt",null,0.04,null,"(1)",null,{"$f":"$I$61*E53","v":472091.4},null,1.6500000000000001E-2,null,null,null,{"$f":"K53*I53","v":7789.5081000000009}]
[3,null,"Total Debt",null,{"$f":"SUM(E52:E53)","v":0.60000000000000009},null,null,null,{"$f":"SUM(I52:I53)","v":7081371.0000000009},null,{"$f":"IF(E54=0,0,SUMPRODUCT(E52:E53,K52:K53)/E54)","v":4.3473333333333336E-2},null,null,null,{"$f":"SUM(O52:O53)","v":307850.80194000003}]
[]
[null,null,"Equity"]
[4,null,"  Common Equity",null,0.4,null,null,null,{"$f":"$I$61*E57","v":4720914},null,9.1899999999999996E-2,null,null,null,{"$f":"K57*I57","v":433851.99659999995}]
[5,null,"  Preferred Shares",null,null,null,null,null,{"$f":"$I$61*E58","v":0},null,null,null,null,null,{"$f":"K58*I58","v":0}]
[6,null,"Total Equity",null,{"$f":"SUM(E57:E58)","v":0.4},null,null,null,{"$f":"SUM(I57:I58)","v":4720914},null,{"$f":"IF(E59=0,0,SUMPRODUCT(E57:E58,K57:K58)/E59)","v":9.1899999999999996E-2},null,null,null,{"$f":"SUM(O57:O58)","v":433851.99659999995}]
[]
[7,null,"Total",null,1,null,null,null,11802285,null,{"$f":"(K54*E54)+(K59*E59)","v":6.2844000000000011E-2},null,null,null,{"$f":"O54+O59","v":741702.79853999999}]
[]
[]
["Notes"]
["(1)",null,"4.0% unless an applicant has proposed or been approved for a different amount."]

{"sheet":"App.2-OB_Debt Instruments","index":52,"n_rows":145,"n_cols":12,"rows_kept":145,"cut":false,"hidden":false,"merged":[[9,0,9,10],[10,0,10,10],[10,11,10,14],[12,0,12,10]]}
[null,null,null,null,null,null,null,null,null,"File Number:",{"$f":"EBNUMBER","v":"EB-2021-0052"}]
[null,null,null,null,null,null,null,null,null,"Exhibit:"]
[null,null,null,null,null,null,null,null,null,"Tab:"]
[null,null,null,null,null,null,null,null,null,"Schedule:"]
[null,null,null,null,null,null,null,null,null,"Page:"]
[]
[null,null,null,null,null,null,null,null,null,"Date:"]
[]
[]
["Appendix 2-OB"]
["Debt Instruments"]
[]
["This table must be completed for all required historical years, the bridge year and the test year."]
[]
[null,null,null,null,"Year",2022]
[]
[null,"Row","Description","Lender","Affiliated or Third-Party Debt?","Fixed or Variable-Rate?","Start Date","Term              (years)","Principal                         ($)","Rate (%)                     (Note 2)","Interest ($)       (Note 1)","Additional Comments, if any"]
[null,1,"Promissory Note","City of Pembroke","Affiliated","Variable Rate",null,null,4364000,2.7799999999999998E-2,{"$f":"I18*J18","v":121319.2}]
[null,2,"Promissory Note","Mississippi Mills","Affiliated","Variable Rate",null,null,902490,2.7799999999999998E-2,25089.221999999998]
[null,3,"Promissory Note","Whitewater Region","Affiliated","Variable Rate",null,null,147000,2.7799999999999998E-2,4086.6]
[null,4,"Promissory Note","Killaloe, Hagarty","Affiliated","Variable Rate",null,null,172348,2.7799999999999998E-2,4791.2743999999993]
[null,5,"Capital Financing Loan - Almonte Municipal Substation #4","Infrastructure Ontario","Third-Party","Fixed Rate","2020-06-30",30,1683654.66,2.5600000000000001E-2,43101.559295999999]
[null,6,null,null,null,null,null,null,null,null,0]
[null,7,null,null,null,null,null,null,null,null,0]
[null,8,null,null,null,null,null,null,null,null,0]
[null,9,null,null,null,null,null,null,null,null,0]
[null,10,null,null,null,null,null,null,null,null,0]
[null,11,null,null,null,null,null,null,null,null,0]
[null,12,null,null,null,null,null,null,null,null,0]
[]
[null,"Total",null,null,null,null,null,null,{"$f":"SUM(I18:I29)","v":7269492.6600000001},{"$f":"IF(I31=0,\"\",K31/I31)","v":2.7290467846211426E-2},{"$f":"SUM(K18:K29)","v":198387.85569599998}]
[]
[]
[null,null,null,null,"Year",2021]
[]
[null,"Row","Description","Lender","Affiliated or Third-Party Debt?","Fixed or Variable-Rate?","Start Date","Term              (years)","Principal                         ($)","Rate (%)                     (Note 2)","Interest ($)       (Note 1)","Additional Comments, if any"]
[null,1,"Promissory Note","City of Pembroke","Affiliated","Fixed Rate",null,null,4364000,{"$f":"300060/5585838","v":5.3717991821459914E-2},{"$f":"I37*J37","v":234425.31630885106}]
[null,2,"Promissory Note","Mississippi Mills","Affiliated","Fixed Rate",null,null,902490,{"$f":"300060/5585838","v":5.3717991821459914E-2},{"$f":"I38*J38","v":48479.95043894936}]
[null,3,"Promissory Note","Whitewater Region","Affiliated","Fixed Rate",null,null,147000,{"$f":"300060/5585838","v":5.3717991821459914E-2},{"$f":"I39*J39","v":7896.5447977546073}]
[null,4,"Promissory Note","Killaloe, Hagarty","Affiliated","Fixed Rate",null,null,172348,{"$f":"300060/5585838","v":5.3717991821459914E-2},{"$f":"I40*J40","v":9258.1884544449731}]
[null,5,"Capital Financing Loan - Almonte Municipal Substation #4","Infrastructure Ontario","Third-Party","Fixed Rate","2020-06-30",30,1725318.43,2.5600000000000001E-2,{"$f":"I41*J41","v":44168.151808000002}]
[null,6,null,null,null,null,null,null,null,null,{"$f":"I42*J42","v":0}]
[null,7,null,null,null,null,null,null,null,null,0]
[null,8,null,null,null,null,null,null,null,null,0]
[null,9,null,null,null,null,null,null,null,null,0]
[null,10,null,null,null,null,null,null,null,null,0]
[null,11,null,null,null,null,null,null,null,null,0]
[null,12,null,null,null,null,null,null,null,null,0]
[]
[null,"Total",null,null,null,null,null,null,{"$f":"SUM(I37:I48)","v":7311156.4299999997},{"$f":"IF(I50=0,\"\",K50/I50)","v":4.7082586059234412E-2},{"$f":"SUM(K37:K48)","v":344228.151808}]
[]
[]
[null,null,null,null,"Year",2020]
[]
[null,"Row","Description","Lender","Affiliated or Third-Party Debt?","Fixed or Variable-Rate?","Start Date","Term              (years)","Principal                         ($)","Rate (%)                     (Note 2)","Interest ($)       (Note 1)","Additional Comments, if any"]
[null,1,"Promissory Note","City of Pembroke","Affiliated","Fixed Rate",null,null,4364000,{"$f":"300060/5585838","v":5.3717991821459914E-2},{"$f":"I56*J56","v":234425.31630885106}]
[null,2,"Promissory Note","Mississippi Mills","Affiliated","Fixed Rate",null,null,902490,{"$f":"300060/5585838","v":5.3717991821459914E-2},{"$f":"I57*J57","v":48479.95043894936}]
[null,3,"Promissory Note","Whitewater Region","Affiliated","Fixed Rate",null,null,147000,{"$f":"300060/5585838","v":5.3717991821459914E-2},{"$f":"I58*J58","v":7896.5447977546073}]
[null,4,"Promissory Note","Killaloe, Hagarty","Affiliated","Fixed Rate",null,null,172348,{"$f":"300060/5585838","v":5.3717991821459914E-2},{"$f":"I59*J59","v":9258.1884544449731}]
[null,5,"Capital Financing Loan - Almonte Municipal Substation #4","Infrastructure Ontario","Third-Party","Fixed Rate","2020-06-30",30,1765930.24,2.5600000000000001E-2,{"$f":"I60*J60","v":45207.814144000004}]
[null,6,null,null,null,null,null,null,null,null,{"$f":"I61*J61","v":0}]
[null,7,null,null,null,null,null,null,null,null,0]
[null,8,null,null,null,null,null,null,null,null,0]
[null,9,null,null,null,null,null,null,null,null,0]
[null,10,null,null,null,null,null,null,null,null,0]
[null,11,null,null,null,null,null,null,null,null,0]
[null,12,null,null,null,null,null,null,null,null,0]
[]
[null,"Total",null,null,null,null,null,null,{"$f":"SUM(I56:I67)","v":7351768.2400000002},{"$f":"IF(I69=0,\"\",K69/I69)","v":4.6963914377148537E-2},{"$f":"SUM(K56:K67)","v":345267.814144}]
[]
[]
[null,null,null,null,"Year",2019]
[]
[null,"Row","Description","Lender","Affiliated or Third-Party Debt?","Fixed or Variable-Rate?","Start Date","Term              (years)","Principal                         ($)","Rate (%)                     (Note 2)","Interest ($)       (Note 1)","Additional Comments, if any"]
[null,1,"Promissory Note","City of Pembroke","Affiliated","Fixed Rate",null,null,4364000,{"$f":"300060/5585838","v":5.3717991821459914E-2},{"$f":"I75*J75","v":234425.31630885106}]
[null,2,"Promissory Note","Mississippi Mills","Affiliated","Fixed Rate",null,null,902490,{"$f":"300060/5585838","v":5.3717991821459914E-2},48479.95043894936]
[null,3,"Promissory Note","Whitewater Region","Affiliated","Fixed Rate",null,null,147000,{"$f":"300060/5585838","v":5.3717991821459914E-2},7896.5447977546073]
[null,4,"Promissory Note","Killaloe, Hagarty","Affiliated","Fixed Rate",null,null,172348,{"$f":"300060/5585838","v":5.3717991821459914E-2},9258.1884544449731]
[null,5,null,null,null,null,null,null,null,null,0]
[null,6,null,null,null,null,null,null,null,null,0]
[null,7,null,null,null,null,null,null,null,null,0]
[null,8,null,null,null,null,null,null,null,null,0]
[null,9,null,null,null,null,null,null,null,null,0]
[null,10,null,null,null,null,null,null,null,null,0]
[null,11,null,null,null,null,null,null,null,null,0]
[null,12,null,null,null,null,null,null,null,null,0]
[]
[null,"Total",null,null,null,null,null,null,{"$f":"SUM(I75:I86)","v":5585838},{"$f":"IF(I88=0,\"\",K88/I88)","v":5.3717991821459914E-2},{"$f":"SUM(K75:K86)","v":300060}]
[]
[]
[null,null,null,null,"Year",2018]
[]
[null,"Row","Description","Lender","Affiliated or Third-Party Debt?","Fixed or Variable-Rate?","Start Date","Term              (years)","Principal                         ($)","Rate (%)                     (Note 2)","Interest ($)       (Note 1)","Additional Comments, if any"]
[null,1,"Promissory Note","City of Pembroke","Affiliated","Fixed Rate",null,null,4364000,{"$f":"300060/5585838","v":5.3717991821459914E-2},{"$f":"I94*J94","v":234425.31630885106}]
[null,2,"Promissory Note","Mississippi Mills","Affiliated","Fixed Rate",null,null,902490,{"$f":"300060/5585838","v":5.3717991821459914E-2},48479.95043894936]
[null,3,"Promissory Note","Whitewater Region","Affiliated","Fixed Rate",null,null,147000,{"$f":"300060/5585838","v":5.3717991821459914E-2},7896.5447977546073]
[null,4,"Promissory Note","Killaloe, Hagarty","Affiliated","Fixed Rate",null,null,172348,{"$f":"300060/5585838","v":5.3717991821459914E-2},9258.1884544449731]
[null,5,null,null,null,null,null,null,null,null,0]
[null,6,null,null,null,null,null,null,null,null,0]
[null,7,null,null,null,null,null,null,null,null,0]
[null,8,null,null,null,null,null,null,null,null,0]
[null,9,null,null,null,null,null,null,null,null,0]
[null,10,null,null,null,null,null,null,null,null,0]
[null,11,null,null,null,null,null,null,null,null,0]
[null,12,null,null,null,null,null,null,null,null,0]
[]
[null,"Total",null,null,null,null,null,null,{"$f":"SUM(I94:I105)","v":5585838},{"$f":"IF(I107=0,\"\",K107/I107)","v":5.3717991821459914E-2},{"$f":"SUM(K94:K105)","v":300060}]
[]
[]
[null,null,null,null,"Year",2017]
[]
[null,"Row","Description","Lender","Affiliated or Third-Party Debt?","Fixed or Variable-Rate?","Start Date","Term              (years)","Principal                         ($)","Rate (%)                     (Note 2)","Interest ($)       (Note 1)","Additional Comments, if any"]
[null,1,"Promissory Note","City of Pembroke","Affiliated","Fixed Rate",null,null,4364000,{"$f":"300060/5585838","v":5.3717991821459914E-2},{"$f":"I113*J113","v":234425.31630885106}]
[null,2,"Promissory Note","Mississippi Mills","Affiliated","Fixed Rate",null,null,902490,{"$f":"300060/5585838","v":5.3717991821459914E-2},48479.95043894936]
[null,3,"Promissory Note","Whitewater Region","Affiliated","Fixed Rate",null,null,147000,{"$f":"300060/5585838","v":5.3717991821459914E-2},7896.5447977546073]
[null,4,"Promissory Note","Killaloe, Hagarty","Affiliated","Fixed Rate",null,null,172348,{"$f":"300060/5585838","v":5.3717991821459914E-2},9258.1884544449731]
[null,5,null,null,null,null,null,null,null,null,0]
[null,6,null,null,null,null,null,null,null,null,0]
[null,7,null,null,null,null,null,null,null,null,0]
[null,8,null,null,null,null,null,null,null,null,0]
[null,9,null,null,null,null,null,null,null,null,0]
[null,10,null,null,null,null,null,null,null,null,0]
[null,11,null,null,null,null,null,null,null,null,0]
[null,12,null,null,null,null,null,null,null,null,0]
[]
[null,"Total",null,null,null,null,null,null,{"$f":"SUM(I113:I124)","v":5585838},{"$f":"IF(I126=0,\"\",K126/I126)","v":5.3717991821459914E-2},{"$f":"SUM(K113:K124)","v":300060}]
[]
[]
[null,null,null,null,"Year",2016]
[]
[null,"Row","Description","Lender","Affiliated or Third-Party Debt?","Fixed or Variable-Rate?","Start Date","Term              (years)","Principal                         ($)","Rate (%)                     (Note 2)","Interest ($)       (Note 1)","Additional Comments, if any"]
[null,1,"Promissory Note","City of Pembroke","Affiliated","Fixed Rate",null,null,4364000,{"$f":"300060/5585838","v":5.3717991821459914E-2},{"$f":"I132*J132","v":234425.31630885106}]
[null,2,"Promissory Note","Mississippi Mills","Affiliated","Fixed Rate",null,null,902490,{"$f":"300060/5585838","v":5.3717991821459914E-2},48479.95043894936]
[null,3,"Promissory Note","Whitewater Region","Affiliated","Fixed Rate",null,null,147000,{"$f":"300060/5585838","v":5.3717991821459914E-2},7896.5447977546073]
[null,4,"Promissory Note","Killaloe, Hagarty","Affiliated","Fixed Rate",null,null,172348,{"$f":"300060/5585838","v":5.3717991821459914E-2},9258.1884544449731]
[null,5,null,null,null,null,null,null,null,null,0]
[null,6,null,null,null,null,null,null,null,null,0]
[null,7,null,null,null,null,null,null,null,null,0]
[null,8,null,null,null,null,null,null,null,null,0]
[null,9,null,null,null,null,null,null,null,null,0]
[null,10,null,null,null,null,null,null,null,null,0]
[null,11,null,null,null,null,null,null,null,null,0]
[null,12,null,null,null,null,null,null,null,null,0]
[]
[null,"Total",null,null,null,null,null,null,{"$f":"SUM(I132:I143)","v":5585838},{"$f":"IF(I145=0,\"\",K145/I145)","v":5.3717991821459914E-2},{"$f":"SUM(K132:K143)","v":300060}]

{"sheet":"App.2-Q_Cost of Serv. Emb. Dx","index":53,"n_rows":60,"n_cols":7,"rows_kept":60,"cut":false,"hidden":false,"merged":[[9,7,9,11],[12,0,12,6],[11,0,11,6],[58,3,59,3],[58,4,59,4],[53,4,54,4],[8,0,8,6],[9,0,9,6],[15,0,15,1],[15,2,15,3],[53,3,54,3]]}
[null,null,null,null,null,"File Number:",{"$f":"EBNUMBER","v":"EB-2021-0052"}]
[null,null,null,null,null,"Exhibit:"]
[null,null,null,null,null,"Tab:"]
[null,null,null,null,null,"Schedule:"]
[null,null,null,null,null,"Page:"]
[]
[null,null,null,null,null,"Date:"]
[]
["Appendix 2-Q"]
["Cost of Serving Embedded Distributor(s) "]
[]
["To be completed by Host Distributors ONLY"]
["(Not required if Host Distributor has an Embedded Distributor rate class, i.e. a separate row on Sheet 11 of the RRWF.)"]
[]
[]
["Proposed Rate Class for Billing Embedded Distributor(s)"]
[]
["Host's Distribution Facilities used by Embedded Distributor(s)"]
[]
["(1)","(2)","(3)","(4)","(5)","(6) = '(3) + (4)"]
["Asset Class","Total OM&A costs asociated with asset class ","Original cost of asset class ","Accumulated amortization of asset class","Annual amortization of asset class","Net Book Value of asset class"]
["Totals for Host Distributor:","($)","($)","($)","($)"]
["Distribution Stations",null,null,null,null,{"$f":"C23+D23","v":0}]
["Low Voltage Line",null,null,null,null,0]
["LV Line category # 2 (if applcable)",null,null,null,null,0]
["TS (owned by host)",null,null,null,null,0]
["add rows if necessary... ",null,null,null,null,0]
[null,null,null,null,null,0]
[null,null,null,null,null,0]
[]
["(1)","(7)","(8)","(9)","(10)","(11)"]
[{"$f":"A21","v":"Asset Class"},"Total line length or station capacity in asset class","Line length or capacity required to provide LV service to Embedded Distributor(s)","Annual total demand on station/line providing LV services (sum of 12 monthly peaks)","Annual billed Embedded Distributor demand on station/line providing LV services","Embedded Distributor(s)' Responsibility Share "]
["Embedded Distributor's share:","kW or kVa; km","kW or kVA; km","kW or kVA","kW or kVA","percent"]
["Distribution Stations",null,null,null,null,{"$f":"IF(D34=0,0,(C34/B34)*(E34/D34))","v":0}]
["Low Voltage Line",null,null,null,null,{"$f":"IF(D35=0,0,(C35/B35)*(E35/D35))","v":0}]
["LV Line # 2 (if applicable) ",null,null,null,null,{"$f":"IF(D36=0,0,(C36/B36)*(E36/D36))","v":0}]
["TS (owned by host)",null,null,null,null,{"$f":"IF(D37=0,0,(C37/B37)*(E37/D37))","v":0}]
["add rows if necessary ",null,null,null,null,{"$f":"IF(D38=0,0,(C38/B38)*(E38/D38))","v":0}]
[]
["(1)","(12)","(12a)","(13)","(14)","(15)","(16)"]
[{"$f":"A32","v":"Asset Class"},"Return on Assets used to Provide LV services","Taxes/PILs","Annual amortization on assets used to provide LV services","OM&A costs with burden associated with assets used to provide LV services","Total annual cost associated with assets used to provide LV services","Monthly cost associated with the delivery of LV services"]
[null,"($)","($)","($)","($)","($)","$/kW or $/kVA"]
["Distribution Stations",{"$f":"E$54*(F23+B23*E$59)*F34","v":0},{"$f":"(B43-(B$54*C$54*F34*(F23+B23*E57)+B$55*C$55*F34*(F23+B23*E$57)))*E$57/(1-E$57)","v":0},{"$f":"E23*F34","v":0},{"$f":"B23*F34","v":0},{"$f":"SUM(B43:E43)","v":0},{"$f":"IF(E34=0,0,(F43/E34))","v":0}]
["Low Voltage Line",{"$f":"E$54*(F24+B24*E$59)*F35","v":0},{"$f":"(B44-(B$54*C$54*F35*(F24+B24*E58)+B$55*C$55*F35*(F24+B24*E58)))*E$57/(1-E$57)","v":0},{"$f":"E24*F35","v":0},{"$f":"B24*F35","v":0},{"$f":"SUM(B44:E44)","v":0},{"$f":"IF(E35=0,0,(F44/E35))","v":0}]
["LV Line # 2 (if applicable) ",{"$f":"E$54*(F25+B25*E$59)*F36","v":0},{"$f":"(B45-(B$54*C$54*F36*(F25+B25*E59)+B$55*C$55*F36*(F25+B25*E$59)))*E$57/(1-E$57)","v":0},{"$f":"E25*F36","v":0},{"$f":"B25*F36","v":0},{"$f":"SUM(B45:E45)","v":0},0]
["TS (owned by host)",{"$f":"E$54*(F26+B26*E$59)*F37","v":0},{"$f":"(B46-(B$54*C$54*F37*(F26+B26*E60)+B$55*C$55*F37*(F26+B26*E60)))*E$57/(1-E$57)","v":0},{"$f":"E26*F37","v":0},{"$f":"B26*F37","v":0},{"$f":"SUM(B46:E46)","v":0},0]
["add rows if necessary ",{"$f":"E$54*(F27+B27*E$59)*F38","v":0},{"$f":"(B47-(B$54*C$54*F38*(F27+B27*I61)+B$55*C$55*F38*(F27+B27*I61)))*E$57/(1-E$57)","v":0},{"$f":"E27*F38","v":0},{"$f":"B27*F38","v":0},{"$f":"SUM(B47:E47)","v":0},0]
[]
["Total",null,null,null,null,{"$f":"SUM(F43:F47)","v":0},{"$f":"SUM(G43:G47)","v":0}]
[]
["(17)","(18)","(19)","(20)","(21)"]
[null,"Capital Structure","Cost Rate"]
[null,"(%)","(%)",null,"(%)"]
["Long-Term Debt",null,null,"Weighted Average Cost of Capital",{"$f":"IF(B60=0%,0,SUMPRODUCT(B54:B58,C54:C58)/B60)","v":0}]
["Short-term Debt"]
[]
["Common Equity",null,null,"Tax/PILs Rate"]
["Preferred Shares"]
[null,null,null,"Working Capital Allowance Factor"]
["Total",{"$f":"SUM(B54:B58)","v":0}]

{"sheet":"App.2-R_Loss Factors","index":54,"n_rows":65,"n_cols":9,"rows_kept":65,"cut":false,"hidden":false,"merged":[[55,2,56,8],[58,2,58,8],[30,2,32,8],[70,2,70,8],[62,2,62,8],[64,2,64,8],[50,2,50,8],[60,2,60,8],[14,2,14,8],[23,2,23,8],[25,2,25,8],[52,2,53,8],[34,2,37,8],[41,2,43,8],[45,2,48,8],[8,1,8,8],[9,1,9,8],[10,1,10,8],[12,1,13,2],[12,3,12,7],[12,8,13,8]]}
[null,null,null,null,null,null,null,"File Number:",{"$f":"EBNUMBER","v":"EB-2021-0052"}]
[null,null,null,null,null,null,null,"Exhibit:"]
[null,null,null,null,null,null,null,"Tab:"]
[null,null,null,null,null,null,null,"Schedule:"]
[null,null,null,null,null,null,null,"Page:"]
[]
[null,null,null,null,null,null,null,"Date:"]
[]
[null,"Appendix 2-R"]
[null,"Loss Factors"]
[]
[]
[null,null,null,"Historical Years",null,null,null,null,"5-Year Average"]
[null,null,null,{"$f":"IF(ISBLANK('LDC Info'!E26-5), \"Year 5\", 'LDC Info'!E26-5)","v":2016},{"$f":"IF(ISBLANK('LDC Info'!E26-4), \"Year 5\", 'LDC Info'!E26-4)","v":2017},{"$f":"IF(ISBLANK('LDC Info'!E26-3), \"Year 5\", 'LDC Info'!E26-3)","v":2018},{"$f":"IF(ISBLANK('LDC Info'!E26-2), \"Year 5\", 'LDC Info'!E26-2)","v":2019},{"$f":"IF(ISBLANK('LDC Info'!E26-1), \"Year 5\", 'LDC Info'!E26-1)","v":2020}]
[null,null,"Losses Within Distributor's System"]
[null,"A(1)","\"Wholesale\" kWh delivered to distributor (higher value)",190198454.31999999,184181851.22999999,192794490.61000001,190916363.36000001,187587217.74000001,{"$f":"IF(SUM(D16:H16)=0,0,AVERAGE(D16:H16))","v":189135675.45199999}]
[null,"A(2)","\"Wholesale\" kWh delivered to distributor (lower value)",188885647.30000001,185970179.22,191593303.66999999,190200950.19,186713675.59999999,{"$f":"IF(SUM(D17:H17)=0,0,AVERAGE(D17:H17))","v":188672751.19599998}]
[null,"B","Portion of \"Wholesale\" kWh delivered to distributor for its Large Use Customer(s)",null,null,null,null,null,{"$f":"IF(SUM(D18:H18)=0,0,AVERAGE(D18:H18))","v":0}]
[null,"C","Net \"Wholesale\" kWh delivered to distributor  = A(2) - B",{"$f":"D17-D18","v":188885647.30000001},185970179.22,191593303.66999999,190200950.19,186713675.59999999,188672751.19599998]
[null,"D","\"Retail\" kWh delivered by distributor",183317003,177929561,185198705,183512928.40000001,178353238,{"$f":"IF(SUM(D20:H20)=0,0,AVERAGE(D20:H20))","v":181662287.07999998}]
[null,"E","Portion of \"Retail\" kWh delivered by distributor to its Large Use Customer(s)",null,null,null,null,null,{"$f":"IF(SUM(D21:H21)=0,0,AVERAGE(D21:H21))","v":0}]
[null,"F","Net \"Retail\" kWh delivered by distributor = D - E",{"$f":"D20-D21","v":183317003},177929561,185198705,183512928.40000001,178353238,181662287.07999998]
[null,"G","Loss Factor in Distributor's system = C / F",{"$f":"IF(D22=0,\"\",D19/D22)","v":1.0303771292835286},1.0451898952305063,1.034528312009525,1.0364444175585397,1.0468757264726531,1.0385906410663692]
[null,null,"Losses Upstream of Distributor's System"]
[null,"H","Supply Facilities Loss Factor",1.0068999999999999,0.99029999999999996,1.0062,1.0037,1.0046999999999999,{"$f":"IF(SUM(D25:H25)=0,0,AVERAGE(D25:H25))","v":1.0023599999999999}]
[null,null,"Total Losses"]
[null,"I","Total Loss Factor = G x H",{"$f":"IF(D23=\"\",\"\",D23*D25)","v":1.0374867314755849},1.0350515532467703,1.040942387543984,1.0402792619035064,1.0517960423870745,1.0410417149792857]
[]
[null,"Notes:"]
[]
[null,"A(1)","If directly connected to the IESO-controlled grid, kWh pertains to the virtual meter on the primary or high voltage side of the transformer at the interface with the transmission grid.  This corresponds to the \"With Losses\" kWh value provided by the IESO's MV-WEB.  It is the higher of the two values provided by MV-WEB."]
[]
[]
[]
[null,null,"If fully embedded within a host distributor, kWh pertains to the virtual meter on the primary or high voltage side of the transformer, at the interface between the host distributor and the transmission grid.  For example, if the host distributor is Hydro One Networks Inc., kWh from the Hydro One Networks' invoice corresponding to \"Total kWh w Losses\" should be reported.  This corresponds to the higher of the two kWh values provided in Hydro One Networks' invoice."]
[]
[]
[]
[]
[null,null,"If partially embedded, kWh pertains to the sum of the above."]
[]
[null,"A(2)","If directly connected to the IESO-controlled grid, kWh pertains to a metering installation on the secondary or low voltage side of the transformer at the interface with the transmission grid.  This corresponds to the \"Without Losses\" kWh value provided by the IESO's MV-WEB.  It is the lower of the two kWh values provided by MV-WEB."]
[]
[]
[]
[null,null,"If fully embedded with the host distributor, kWh pertains to a metering installation on the secondary or low voltage side of the transformer at the interface between the embedded distributor and the host distributor.  For example, if the host distributor is Hydro One Networks Inc., kWh from the Hydro One Networks' invoice corresponding to \"Total kWh\" should be reported.  This corresponds to the lower of the two kWh values provided in Hydro One Networks' invoice."]
[]
[]
[]
[]
[null,null,"If partially embedded, kWh pertains to the sum of the above."]
[]
[null,null,"Additionally, kWh pertaining to distributed generation directly connected to the distributor's own distribution network should be included in A(2)."]
[]
[]
[null,"B","If a Large Use Customer is metered on the secondary or low voltage side of the transformer, the default loss is 1%                         (i.e., B = 1.01 X E). This value should not include supply facility losses. However, the total loss factor on the tariff of rate and charges and applied to customers consumption should include the supply facility loss factor."]
[]
[]
[null,"D","kWh corresponding to D should equal metered or estimated kWh at the customer’s delivery point."]
[]
[null,"E","Metered consumption of Large Use customers."]
[]
[null,"G and I","These loss factors pertain to secondary-metered customers with demand less than 5,000 kW."]
[]
[null,"H","Actual Supply Facility Loss Factor as calculated by dividing A(1) by A(2)."]

{"sheet":"App.2-ZA_Com. Exp. Forecast","index":55,"n_rows":72,"n_cols":12,"rows_kept":72,"cut":false,"hidden":false,"merged":[[42,6,42,11],[51,6,51,11],[3,1,5,8],[16,2,16,4],[17,2,17,4],[18,2,18,4],[19,2,19,4],[25,6,25,11]]}
[]
[null,null,null,null,null,null,null,null,null,null,"File Number:"]
[null,null,null,null,null,null,null,null,null,null,"Exhibit:"]
[null,"Commodity Expense ",null,null,null,null,null,null,null,null,"Tab:"]
[null,null,null,null,null,null,null,null,null,null,"Schedule:"]
[null,null,null,null,null,null,null,null,null,null,"Page:"]
[]
[null,null,null,null,null,null,null,null,null,null,"Date:"]
[]
[]
[]
["Step 1:","Commodity Pricing"]
[]
[null," "]
[null,"Forecasted Commodity Prices"," Table 1: Average RPP Supply Cost Summary*",null,null,null,"non-RPP","RPP"]
[]
[null,"HOEP ($/MWh)","Load-Weighted Price for RPP Consumers",null,null,null,19.25,19.25]
[null,"Global Adjustment ($/MWh)","Impact of the Global Adjustment",null,null,null,85.18,85.18]
[null,"Adjustments ($/MWh)",null,null,null,null,null,-0.79]
[null,"TOTAL ($/MWh)","Average Supply Cost for RPP Consumers",null,null,null,null,{"$f":"SUM(H17:H19)","v":103.64}]
[]
[]
["Step 2:","Commodity Expense"]
[null,"(volumes for the test year is loss adjusted)"]
[]
[null,"Commodity",null,null,null,null,{"$f":"'LDC Info'!E24 & \" Test Year\"","v":"2022 Test Year"}]
[null,"Customer",null,"Revenue","Expense"]
[null,"Class Name","UoM","USA #","USA #","Class A Non-RPP Volume**",null,"Class B Non-RPP Volume**","Class B RPP Volume**","Average HOEP","Average RPP Rate","Amount"]
[null,"Residential ","kWh",4006,4705,null,null,null,83654165.138385743,{"$f":"+$G$17/1000","v":1.925E-2},{"$f":"+$H$20/1000","v":0.10364},{"$f":"(+F29+H29)*J29+(I29*K29)","v":8669917.6749422979}]
[null,"GS<50 kW","kWh",4010,4705,null,null,null,30861803.80595649,1.925E-2,0.10364,3198517.3464493304]
[null,"GS 50 to 4999 kW","kWh",4035,4705,3144375.3352311603,null,50333546.831665695,20429757.852853116,1.925E-2,0.10364,3146790.1055824612]
[null,"Sentinel Lighting","kWh",4010,4705,null,null,null,202760.65207160587,1.925E-2,0.10364,21014.113980701233]
[null,"Street Lighting","kWh",4025,4705,null,null,null,1125146.4068969446,1.925E-2,0.10364,116610.17361079933]
[null,"Unmetered Scattered Load","kWh",4025,4705,null,null,null,631786.06692337291,1.925E-2,0.10364,65478.307975938369]
[null,"other","kWh",4025,4705,null,null,null,null,1.925E-2,0.10364,0]
[null,"other","kWh",4025,4705,null,null,null,null,1.925E-2,0.10364,0]
[null,"other","kWh",4025,4705,null,null,null,null,1.925E-2,0.10364,0]
[null,null,"kWh",4025,4705,null,null,null,null,1.925E-2,0.10364,0]
[null,null,"kWh",4025,4705,null,null,null,null,1.925E-2,0.10364,0]
[null,"TOTAL",null,null,null,{"$f":"SUM(F29:F39)","v":3144375.3352311603},null,{"$f":"SUM(H29:H39)","v":50333546.831665695},{"$f":"SUM(I29:I39)","v":136905419.92308727},null,null,{"$f":"SUM(L29:L39)","v":15218327.722541528}]
[]
[]
[null,"Class A - non-RPP Global Adjustment",null,null,null,null,{"$f":"'LDC Info'!E24","v":2022}]
[null,"Customer",null,"Revenue","Expense",null,"kWh Volume",null,null,null,"Hist. Avg GA/kWh ***","Amount"]
[null,null,null,4035,4707,null,3144375,null,null,null,8.6389999999999995E-2,{"$f":"+K45*G45","v":271642.55624999997}]
[null,null,null,4010,4707,null,null,null,null,null,null,{"$f":"+K46*G46","v":0}]
[null,null,null,4010,4707,null,null,null,null,null,null,{"$f":"+K47*G47","v":0}]
[null,null,null,4010,4707,null,null,null,null,null,null,{"$f":"+K48*G48","v":0}]
[null,null,null,4010,4707,null,null,null,null,null,null,{"$f":"+K49*G49","v":0}]
[null,null,null,null,null,{"$f":"+F45+F46","v":0},{"$f":"SUM(G45:G49)","v":3144375},null,null,null,null,{"$f":"SUM(L45:L49)","v":271642.55624999997}]
[]
[null,"Class B - non-RPP Global Adjustment",null,null,null,null,{"$f":"G43","v":2022}]
[null,"Customer",null,"Revenue","Expense",null,null,null,null,null,null,"Amount"]
[null,"Class Name","UoM","USA #","USA #",null,null,"Class B Non-RPP Volume",null,null,"GA Rate/kWh"]
[null,{"$f":"IF(B29=0,\"\",B29)","v":"Residential "},"kWh",4006,4707,null,null,{"$f":"+H29","v":0},null,null,{"$f":"+$G$18/1000","v":8.5180000000000006E-2},{"$f":"+K55*H55","v":0}]
[null,{"$f":"IF(B30=0,\"\",B30)","v":"GS<50 kW"},"kWh",4010,4707,null,null,{"$f":"+H30","v":0},null,null,{"$f":"+$G$18/1000","v":8.5180000000000006E-2},0]
[null,"GS 50 to 4999 kW","kWh",4035,4707,null,null,{"$f":"+H31","v":50333546.831665695},null,null,{"$f":"+$G$18/1000","v":8.5180000000000006E-2},{"$f":"+K57*H57","v":4287411.5191212846}]
[null,{"$f":"IF(B32=0,\"\",B32)","v":"Sentinel Lighting"},"kWh",4010,4707,null,null,0,null,null,{"$f":"+$G$18/1000","v":8.5180000000000006E-2},0]
[null,"Street Lighting","kWh",4025,4707,null,null,{"$f":"+H33","v":0},null,null,{"$f":"+$G$18/1000","v":8.5180000000000006E-2},0]
[null,"Unmetered Scattered Load","kWh",4025,4707,null,null,0,null,null,8.5180000000000006E-2,0]
[null,"other","kWh",4025,4707,null,null,0,null,null,8.5180000000000006E-2,0]
[null,{"$f":"IF(B36=0,\"\",B36)","v":"other"},"kWh",4025,4707,null,null,{"$f":"+H36","v":0},null,null,8.5180000000000006E-2,0]
[null,"other","kWh",4025,4707,null,null,0,null,null,8.5180000000000006E-2,0]
[null,"","kWh",4025,4707,null,null,{"$f":"+H38","v":0},null,null,8.5180000000000006E-2,{"$f":"+K64*H64","v":0}]
[null,"","kWh",4025,4707,null,null,{"$f":"+H39","v":0},null,null,8.5180000000000006E-2,0]
[null,"Total Volume",null,null,null,null,null,{"$f":"SUM(H55:H65)","v":50333546.831665695}]
[null,"TOTAL",null,null,null,null,null,null,null,null,null,{"$f":"SUM(L55:L65)","v":4287411.5191212846}]
[]
[]
["*Regulated Price Plan Prices for the Period May 1, 2021 to April 30, 2022, p. 2"]
["** Enter 2022 load forecast data by class based on the most recent 12-month historic Class A and Class B RPP/Non-RPP proportions"]
["*** Based on average $ GA per kWh billed to class A customers for most recent 12-month historical year."]

{"sheet":"App.2-ZB_Cost of Power","index":56,"n_rows":165,"n_cols":11,"rows_kept":165,"cut":false,"hidden":false,"merged":[]}
[]
[null,null,null,null,null,null,null,null,null,"File Number:"]
[null,null,null,"Cost of Power Calculation",null,null,null,null,null,"Exhibit:"]
[null,null,null,null,null,null,null,null,null,"Tab:"]
[null,null,null,null,null,null,null,null,null,"Schedule:"]
["1. Volumns for Electricity Commodity and Global Adjustment non-RPP in kWh",null,null,null,null,null,null,null,null,"Page:"]
["2. All Volume should be loss adjusted with the exception of:"]
["  - Volume for Electricity Commodity, Wholesale Market Services, Class A and B should loss adjusted less WMP",null,null,null,null,null,null,null,null,"Date:"]
["  - Low Voltage Charges - No loss adjustment for kWh"]
[null,null,null,"2022 Test Year","RPP",null,null,{"$f":"D10","v":"2022 Test Year"},"non-RPP",null,"Total"]
["Electricity Commodity","Units",null,"Volume","Rate","$ ",null,"Volume","Rate","$ ","$"]
["Class per Load Forecast",null,null,null,null,{"$f":"D12*E12","v":0}]
[{"$f":"'[23]0.2 Customer Classes'!A13","v":"Residential "},"kWh",null,{"$f":"'[23]4.12 PowerSupplExp'!I29","v":83654165.138385743},null,{"$f":"'[23]4.12 PowerSupplExp'!L29","v":8669917.6749422979},null,{"$f":"'[23]4.12 PowerSupplExp'!H29","v":0},null,0,{"$f":"F13+J13","v":8669917.6749422979}]
[{"$f":"'[23]0.2 Customer Classes'!A14","v":"GS<50 kW"},"kWh",null,{"$f":"'[23]4.12 PowerSupplExp'!I30","v":30861803.80595649},null,{"$f":"'[23]4.12 PowerSupplExp'!L30","v":3198517.3464493304},null,{"$f":"'[23]4.12 PowerSupplExp'!H30","v":0},null,0,{"$f":"F14+J14","v":3198517.3464493304}]
[{"$f":"'[23]0.2 Customer Classes'!A15","v":"GS 50 to 4999 kW"},"kWh",null,{"$f":"'[23]4.12 PowerSupplExp'!I31","v":20429757.852853116},null,{"$f":"'[23]4.12 PowerSupplExp'!L31","v":3146790.1055824612},null,{"$f":"'[23]4.12 PowerSupplExp'!H31","v":50333546.831665695},null,249231.54042002698,3396021.6460024882]
[{"$f":"'[23]0.2 Customer Classes'!A16","v":"Sentinel Lighting"},"kWh",null,{"$f":"'[23]4.12 PowerSupplExp'!I32","v":202760.65207160587},null,{"$f":"'[23]4.12 PowerSupplExp'!L32","v":21014.113980701233},null,{"$f":"'[23]4.12 PowerSupplExp'!H32","v":0},null,0,21014.113980701233]
[{"$f":"'[23]0.2 Customer Classes'!A17","v":"Street Lighting"},"kWh",null,{"$f":"'[23]4.12 PowerSupplExp'!I33","v":1125146.4068969446},null,{"$f":"'[23]4.12 PowerSupplExp'!L33","v":116610.17361079933},null,{"$f":"'[23]4.12 PowerSupplExp'!H33","v":0},null,0,116610.17361079933]
[{"$f":"'[23]0.2 Customer Classes'!A18","v":"Unmetered Scattered Load"},"kWh",null,{"$f":"'[23]4.12 PowerSupplExp'!I34","v":631786.06692337291},null,{"$f":"'[23]4.12 PowerSupplExp'!L34","v":65478.307975938369},null,{"$f":"'[23]4.12 PowerSupplExp'!H34","v":0},null,302.65432738855185,65780.962303326916]
["other",null,null,0,null,0,null,0,null,0,0]
["other",null,null,0,null,0,null,0,null,0,0]
["other",null,null,0,null,0,null,0,null,0,0]
["SUB-TOTAL",null,null,{"$f":"SUM(D13:D19)","v":136905419.92308727},null,{"$f":"SUM(F13:F20)","v":15218327.722541528},null,{"$f":"SUM(H13:H19)","v":50333546.831665695},null,{"$f":"SUM(J13:J20)","v":249534.19474741555},{"$f":"F22+J22","v":15467861.917288944}]
[]
["Global Adjustment non-RPP","Units",null,"Volume","Rate","$ ",null,"Volume","Rate","$ ","Total"]
["Class per Load Forecast "]
[{"$f":"IF(A13=0,\"\",A13)","v":"Residential "},{"$f":"B13","v":"kWh"},null,null,null,{"$f":"D26*E26","v":0}]
["GS<50 kW","kWh",null,null,null,{"$f":"D27*E27","v":0}]
["GS 50 to 4999 kW","kWh",null,null,null,0,null,null,null,{"$f":"'[23]4.12 PowerSupplExp'!L53+'[23]4.12 PowerSupplExp'!L43","v":4559068.0118896216}]
["Sentinel Lighting","kWh",null,null,null,0,null,null,null,{"$f":"'[23]4.12 PowerSupplExp'!L54+'[23]4.12 PowerSupplExp'!L44","v":0}]
["Street Lighting","kWh",null,null,null,0]
["Unmetered Scattered Load","kWh",null,null,null,0]
["other",null,null,null,null,0]
["other",null,null,null,null,0]
["other",null,null,null,null,0]
["SUB-TOTAL",null,null,{"$f":"SUM(D26:D32)","v":0},null,{"$f":"SUM(F26:F34)","v":0},null,null,null,{"$f":"SUM(J26:J34)","v":4559068.0118896216},{"$f":"F35+J35","v":4559068.0118896216}]
[]
["Transmission - Network","Units",null," Volume","Rate","$ ",null,"Volume","Rate","$ ","Total"]
["Class per Load Forecast "]
[{"$f":"IF(A26=0,\"\",A26)","v":"Residential "},"kWh",null,{"$f":"'[23]4.12 PowerSupplExp'!I29","v":83654165.138385743},5.8210802582404804E-3,{"$f":"D39*E39","v":486957.60920664627},null,null,null,{"$f":"H39*I39","v":0}]
["GS<50 kW","kWh",null,{"$f":"D14","v":30861803.80595649},5.1419542624014077E-3,{"$f":"D40*E40","v":158689.98362543396},null,null,null,{"$f":"H40*I40","v":0}]
["GS 50 to 4999 kW","kW",null,{"$f":"'[23]3.10b LoadForecast'!I45","v":219806.6717726668},2.1474935112627977,472033.40136407351,null,null,null,0]
["Sentinel Lighting","kW",null,{"$f":"'[23]3.10b LoadForecast'!I46","v":494.88692930828944},1.6275724820691408,805.46434787786814,null,null,null,0]
["Street Lighting","kW",null,{"$f":"'[23]3.10b LoadForecast'!I47","v":3027.0558252386631},1.6195222819711086,4902.3843577444568,null,null,null,0]
["Unmetered Scattered Load","kW",null,{"$f":"D18","v":631786.06692337291},5.1419438709056371E-3,3248.6084945402158,null,null,null,0]
["other",null,null,null,null,0,null,null,null,0]
["other",null,null,null,null,0,null,null,null,0]
["other",null,null,null,null,0,null,null,null,0]
[null,null,null,null,null,0,null,null,null,0]
["SUB-TOTAL",null,null,null,null,{"$f":"SUM(F39:F48)","v":1126637.4513963161},null,null,null,{"$f":"SUM(J39:J48)","v":0},{"$f":"F49+J49","v":1126637.4513963161}]
[]
["Transmission - Connection","Units",null,"Volume","Rate","$ ",null,"Volume","Rate","$ ","Total"]
["Class per Load Forecast "]
[{"$f":"IF(A39=0,\"\",A39)","v":"Residential "},{"$f":"B39","v":"kWh"},null,{"$f":"D39","v":83654165.138385743},5.0795468667211687E-3,{"$f":"D53*E53","v":424925.25241686252},null,null,null,{"$f":"H53*I53","v":0}]
["GS<50 kW","kWh",null,{"$f":"D40","v":30861803.80595649},4.470001094796193E-3,{"$f":"D54*E54","v":137952.29680001084},null,null,null,{"$f":"H54*I54","v":0}]
["GS 50 to 4999 kW","kW",null,219806.6717726668,1.8006993869599521,395805.73911074852,null,null,null,0]
["Sentinel Lighting","kW",null,494.88692930828944,1.4215606867287551,703.51180308057678,null,null,null,0]
["Street Lighting","kW",null,3027.0558252386631,1.3922009993301208,4214.27014492533,null,null,null,0]
["Unmetered Scattered Load","kW",null,631786.06692337291,4.4699946496663534E-3,2824.0803388812255,null,null,null,0]
["other",null,null,null,null,0,null,null,null,0]
["other",null,null,null,null,0,null,null,null,0]
["other",null,null,null,null,0,null,null,null,0]
["SUB-TOTAL",null,null,null,null,{"$f":"SUM(F53:F61)","v":966425.15061450901},null,null,null,{"$f":"SUM(J53:J61)","v":0},{"$f":"F62+J62","v":966425.15061450901}]
[]
["Wholesale Market Service","Units",null," Volume","Rate","$ ",null,"Volume","Rate","$ ","Total"]
["Class per Load Forecast "]
[{"$f":"IF(A53=0,\"\",A53)","v":"Residential "},"kWh",null,{"$f":"D13","v":83654165.138385743},3.0000000000000001E-3,{"$f":"D66*E66","v":250962.49541515723},null,null,null,{"$f":"H66*I66","v":0}]
["GS<50 kW","kWh",null,{"$f":"D14","v":30861803.80595649},3.0000000000000001E-3,{"$f":"D67*E67","v":92585.411417869473},null,null,null,{"$f":"H67*I67","v":0}]
["GS 50 to 4999 kW","kWh",null,20429757.852853116,3.0000000000000001E-3,61289.273558559347,null,null,null,0]
["Sentinel Lighting","kWh",null,202760.65207160587,3.0000000000000001E-3,608.28195621481768,null,null,null,0]
["Street Lighting","kWh",null,1125146.4068969446,3.0000000000000001E-3,3375.4392206908337,null,null,null,0]
["Unmetered Scattered Load","kWh",null,631786.06692337291,3.0000000000000001E-3,1895.3582007701189,null,null,null,0]
["other",null,null,null,null,0,null,null,null,0]
["other",null,null,null,null,0,null,null,null,0]
["other",null,null,null,null,0,null,null,null,0]
["SUB-TOTAL",null,null,null,null,{"$f":"SUM(F66:F74)","v":410716.25976926176},null,null,null,{"$f":"SUM(J66:J74)","v":0},{"$f":"F75+J75","v":410716.25976926176}]
[]
["Class A CBR ","Units",null," Volume","Rate","$ ",null,"Volume","Rate4","$ ","Total"]
["Class per Load Forecast "]
[{"$f":"IF(A66=0,\"\",A66)","v":"Residential "},"kWh",null,null,null,{"$f":"D79*E79","v":0},null,null,null,{"$f":"H79*I79","v":0}]
["GS<50 kW","kWh",null,null,null,{"$f":"D80*E80","v":0},null,null,null,{"$f":"H80*I80","v":0}]
["GS 50 to 4999 kW","kWh",null,null,null,0,null,null,null,0]
["Sentinel Lighting","kWh",null,null,null,0,null,null,null,0]
["Street Lighting","kWh",null,null,null,0,null,null,null,0]
["Unmetered Scattered Load","kWh",null,null,null,0,null,null,null,0]
["other",null,null,null,null,0,null,null,null,0]
["other",null,null,null,null,0,null,null,null,0]
["other",null,null,null,null,0,null,null,null,0]
["SUB-TOTAL",null,null,null,null,{"$f":"SUM(F79:F87)","v":0},null,null,null,{"$f":"SUM(J79:J87)","v":0},{"$f":"F88+J88","v":0}]
[]
["Class B CBR ","Units",null," Volume","Rate","$ ",null,"Volume","Rate","$ ","Total"]
["Class per Load Forecast "]
[{"$f":"IF(A79=0,\"\",A79)","v":"Residential "},"kWh",null,{"$f":"D13","v":83654165.138385743},4.0000000000000002E-4,{"$f":"D92*E92","v":33461.666055354297},null,null,null,{"$f":"H92*I92","v":0}]
["GS<50 kW","kWh",null,{"$f":"D14","v":30861803.80595649},4.0000000000000002E-4,{"$f":"D93*E93","v":12344.721522382597},null,null,null,{"$f":"H93*I93","v":0}]
["GS 50 to 4999 kW","kWh",null,20429757.852853116,4.0000000000000002E-4,8171.903141141247,null,null,null,0]
["Sentinel Lighting","kWh",null,202760.65207160587,4.0000000000000002E-4,81.104260828642353,null,null,null,0]
["Street Lighting","kWh",null,1125146.4068969446,4.0000000000000002E-4,450.0585627587779,null,null,null,0]
["Unmetered Scattered Load","kWh",null,631786.06692337291,4.0000000000000002E-4,252.71442676934919,null,null,null,0]
["other",null,null,null,null,0,null,null,null,0]
["other",null,null,null,null,0,null,null,null,0]
["other",null,null,null,null,0,null,null,null,0]
["SUB-TOTAL",null,null,null,null,{"$f":"SUM(F92:F100)","v":54762.167969234913},null,null,null,{"$f":"SUM(J92:J100)","v":0},{"$f":"F101+J101","v":54762.167969234913}]
[]
["RRRP","Units",null," Volume","Rate","$ ",null,"Volume","Rate","$ ","Total"]
["Class per Load Forecast "]
[{"$f":"IF(A66=0,\"\",A66)","v":"Residential "},"kWh",null,{"$f":"D13","v":83654165.138385743},5.0000000000000001E-4,{"$f":"D105*E105","v":41827.082569192869},null,null,null,{"$f":"H105*I105","v":0}]
["GS<50 kW","kWh",null,{"$f":"D14","v":30861803.80595649},5.0000000000000001E-4,{"$f":"D106*E106","v":15430.901902978245},null,null,null,{"$f":"H106*I106","v":0}]
["GS 50 to 4999 kW","kWh",null,20429757.852853116,5.0000000000000001E-4,10214.878926426558,null,null,null,0]
["Sentinel Lighting","kWh",null,202760.65207160587,5.0000000000000001E-4,101.38032603580294,null,null,null,0]
["Street Lighting","kWh",null,1125146.4068969446,5.0000000000000001E-4,562.57320344847233,null,null,null,0]
["Unmetered Scattered Load","kWh",null,631786.06692337291,5.0000000000000001E-4,315.89303346168646,null,null,null,0]
["other",null,null,null,null,0,null,null,null,0]
["other",null,null,null,null,0,null,null,null,0]
["other",null,null,null,null,0,null,null,null,0]
["SUB-TOTAL",null,null,null,null,{"$f":"SUM(F105:F113)","v":68452.709961543616},null,null,null,{"$f":"SUM(J105:J113)","v":0},{"$f":"F114+J114","v":68452.709961543616}]
[]
["Low Voltage - No TLF adjustment","Units",null,"Volume","Rate","$ ",null,"Volume","Rate","$ ","Total"]
["Class per Load Forecast "]
[{"$f":"IF(A105=0,\"\",A105)","v":"Residential "},{"$f":"B53","v":"kWh"},null,{"$f":"D39","v":83654165.138385743},{"$f":"'[23]4.13 LV Charges'!I90","v":2.7000000000000001E-3},{"$f":"D118*E118","v":225866.24587364151},null,null,null,{"$f":"H118*I118","v":0}]
["GS<50 kW","kWh",null,{"$f":"D40","v":30861803.80595649},{"$f":"'[23]4.13 LV Charges'!I91","v":2.3E-3},{"$f":"D119*E119","v":70982.148753699919},null,null,null,{"$f":"H119*I119","v":0}]
["GS 50 to 4999 kW","kW",null,219806.6717726668,{"$f":"'[23]4.13 LV Charges'!I92","v":0.90839999999999999},199672.38063829052,null,null,null,0]
["Sentinel Lighting","kW",null,494.88692930828944,{"$f":"'[23]4.13 LV Charges'!I93","v":0.71719999999999995},354.93290569990518,null,null,null,0]
["Street Lighting","kW",null,3027.0558252386631,{"$f":"'[23]4.13 LV Charges'!I94","v":0.70240000000000002},2126.2040116476369,null,null,null,0]
["Unmetered Scattered Load","kW",null,631786.06692337291,{"$f":"'[23]4.13 LV Charges'!I95","v":2.3E-3},1453.1079539237576,null,null,null,0]
["other",null,null,null,null,0,null,null,null,0]
["other",null,null,null,null,0,null,null,null,0]
["other",null,null,null,null,0,null,null,null,0]
["SUB-TOTAL",null,null,null,null,{"$f":"SUM(F118:F126)","v":500455.02013690321},null,null,null,{"$f":"SUM(J118:J126)","v":0},{"$f":"F127+J127","v":500455.02013690321}]
[]
["Smart Meter Entity Charge",null,null,"Customers","Rate","$ ",null,"Customers","Rate","$ ","Total"]
["Class per Load Forecast "]
[{"$f":"A118","v":"Residential "},null,null,2247.8631870970212,0.56999999999999995,{"$f":"D131*E131*12","v":15375.384199743625},null,null,null,{"$f":"H131*I131*12","v":0}]
[{"$f":"A119","v":"GS<50 kW"},null,null,457.66666666666669,0.56999999999999995,{"$f":"D132*E132*12","v":3130.44},null,null,null,{"$f":"H132*I132*12","v":0}]
[null,null,null,null,null,{"$f":"D133*E133*12","v":0},null,null,null,{"$f":"H133*I133*12","v":0}]
["SUB-TOTAL",null,null,null,null,{"$f":"SUM(F131:F133)","v":18505.824199743623},null,null,null,{"$f":"SUM(J131:J133)","v":0},{"$f":"F134+J134","v":18505.824199743623}]
[]
["SUB- TOTAL",null,null,null,null,{"$f":"SUM(F22+F49+F62+F75+F101+F114+F127+F134)","v":18364282.306589041},null,null,null,{"$f":"SUM(J22+J35+J49+J62+J75+J88+J101+J114+J127+J134)","v":4808602.206637037},{"$f":"+F136+J136","v":23172884.513226077}]
["OER CREDIT3",0.18920000000000001,null,null,null,{"$f":"-F136*B137","v":-3474522.2124066465},null,null,null,0,{"$f":"+F137+J137","v":-3474522.2124066465}]
["TOTAL",null,null,null,null,{"$f":"+F136+F137","v":14889760.094182394},null,null,null,{"$f":"+J136+J137","v":4808602.206637037},{"$f":"+K136+K137","v":19698362.300819431}]
[]
["3.The OER Credit of 31.8% will only apply to RPP proportion of the listed components. Impacts on distribution charges are excluded for the purpose of calculating the cost of power. "]
[]
[]
[null,null,null,{"$f":"D10 & \" - Cop\"","v":"2022 Test Year - Cop"},"Cop"]
[null,null,null,"4705 -Power Purchased",{"$f":"K22","v":15467861.917288944}]
[null,null,null,"4707- Global Adjustment",{"$f":"K35","v":4559068.0118896216}]
[null,null,null,"4708-Charges-WMS",{"$f":"(K75+K88+K101)","v":465478.42773849668}]
[null,null,null,"4714-Charges-NW",{"$f":"K49","v":1126637.4513963161}]
[null,null,null,"4716-Charges-CN",{"$f":"K62","v":966425.15061450901}]
[null,null,null,"4730-RRRP",{"$f":"F114","v":68452.709961543616}]
[null,null,null,"4750-Charges-LV",{"$f":"K127","v":500455.02013690321}]
[null,null,null,"4751-IESO SME",{"$f":"K134","v":18505.824199743623}]
[null,null,null,"Misc A/R or A/P",{"$f":"+K137","v":-3474522.2124066465}]
[null,null,null,"TOTAL",{"$f":"SUM(E144:E152)","v":19698362.300819431}]
[null,null,null,null,null," "]
[null,null,null,"2021 Bridge Year - Cop","Cop"]
[null,null,null,"4705 -Power Purchased",{"$f":"E144+(E144*'[23]4.12 PowerSupplExp'!$O$43)","v":15860252.686774738}]
[null,null,null,"4707- Global Adjustment",{"$f":"E145+(E145*'[23]4.12 PowerSupplExp'!$O$43)","v":4674723.0529605458}]
[null,null,null,"4708-Charges-WMS",{"$f":"E146+(E146*'[23]4.12 PowerSupplExp'!$O$43)","v":477286.74613544287}]
[null,null,null,"4714-Charges-NW",{"$f":"E147+(E147*'[23]4.12 PowerSupplExp'!$O$43)","v":1155218.1394609532}]
[null,null,null,"4716-Charges-CN",{"$f":"E148+(E148*'[23]4.12 PowerSupplExp'!$O$43)","v":990941.55181642226}]
[null,null,null,"4730-RRRP",{"$f":"E149+(E149*'[23]4.12 PowerSupplExp'!$O$43)","v":70189.227372859226}]
[null,null,null,"4750-Charges-LV",{"$f":"E150+(E150*'[23]4.12 PowerSupplExp'!$O$43)","v":513150.62936166971}]
[null,null,null,"4751-IESO SME",{"$f":"E151+(E151*'[23]4.12 PowerSupplExp'!$O$43)","v":18975.282398720032}]
[null,null,null,"Misc A/R or A/P",{"$f":"E152+(E152*'[23]4.12 PowerSupplExp'!$O$43)","v":-3562664.3520127572}]
[null,null,null,"TOTAL",{"$f":"SUM(E156:E164)","v":20198072.964268595}]

{"sheet":"App.2-S_Stranded Meters","index":57,"n_rows":96,"n_cols":8,"rows_kept":96,"cut":false,"hidden":true,"merged":[[8,0,8,7],[9,0,9,7],[33,0,36,7],[38,0,39,7],[58,2,59,7],[66,2,68,7],[70,0,71,7],[41,1,42,7],[44,1,46,7],[48,1,51,7],[53,1,56,7],[61,2,64,7],[95,0,98,7],[88,1,90,7],[92,1,93,7],[73,1,74,7],[80,1,82,7],[84,1,86,7],[76,1,78,7]]}
[null,null,null,null,null,null,"File Number:",{"$f":"EBNUMBER","v":"EB-2021-0052"}]
[null,null,null,null,null,null,"Exhibit:"]
[null,null,null,null,null,null,"Tab:"]
[null,null,null,null,null,null,"Schedule:"]
[null,null,null,null,null,null,"Page:"]
[]
[null,null,null,null,null,null,"Date:"]
[]
["Appendix 2-S"]
["Stranded Meter Treatment"]
[]
["Year","Notes","Gross Asset Value","Accumulated Amortization","Contributed Capital (Net of Amortization)","Net Asset","Proceeds on Disposition","Residual Net Book Value"]
[null,null,"(A)","(B)","(C)","(D ) = (A) - (B) - (C)","(E)","(F) = (D) - (E)"]
[2006,null,null,null,null,{"$f":"C14-D14-E14","v":0},null,{"$f":"F14-G14","v":0}]
[2007,null,null,null,null,0,null,0]
[2008,null,null,null,null,0,null,0]
[2009,null,null,null,null,0,null,0]
[2010,null,null,null,null,0,null,0]
[2011,null,null,null,null,0,null,0]
[2012,null,null,null,null,0,null,0]
[2013,null,null,null,null,{"$f":"C21-D21-E21","v":0},null,{"$f":"F21-G21","v":0}]
[2014,null,null,null,null,{"$f":"C22-D22-E22","v":0},null,{"$f":"F22-G22","v":0}]
[2015,null,null,null,null,{"$f":"C23-D23-E23","v":0},null,{"$f":"F23-G23","v":0}]
[2016,null,null,null,null,{"$f":"C24-D24-E24","v":0},null,{"$f":"F24-G24","v":0}]
[2017,null,null,null,null,{"$f":"C25-D25-E25","v":0},null,{"$f":"F25-G25","v":0}]
[2018,"(1)",null,null,null,0,null,0]
[2019,null,null,null,null,{"$f":"C27-D27-E27","v":0},null,{"$f":"F27-G27","v":0}]
[2020,null,null,null,null,{"$f":"C28-D28-E28","v":0},null,{"$f":"F28-G28","v":0}]
[]
["Notes:"]
[]
["(1)","For 2018, please indicate whether the amounts provided are on a forecast or actual basis."]
[]
["Some distributors have transferred the cost of stranded meters from Account 1860 - Meters to \"Sub-account Stranded Meter Costs of Account 1555\", while in some cases distributors have left these costs in Account 1860.  Depending on which treatment the applicant has chosen. please provide the information under either of the two scenarios (A and B below), as applicable."]
[]
[]
[]
[]
["Scenario A:  If the stranded meter costs were transferred to \"Sub-account Stranded Meter Costs\" of Account 1555, the above table should be completed and the following information should be provided in Exhibit 9."]
[]
[]
[1,"A description of the accounting treatment followed by the applicant on stranded meter costs for financial accounting and reporting purposes."]
[]
[]
[2,"The amount of the pooled residual net book value of the removed from service stranded meters, less any contributed capital (net of accumulated amortization), and less any net proceeds from sales, which were transferred to this sub-account as of December 31, 2010."]
[]
[]
[]
[3,"A statement as to whether or not, since transferring the removed stranded meter costs to the sub-account, the recording of depreciation expenses was continued in order to reduce the net book value through accumulated depreciation.  If so, the total depreciation expense amount for the period from the time the costs for the stranded meters were transferred to the sub-account to December 31, 2010 should be provided."]
[]
[]
[]
[]
[null,"If no depreciation expenses were recorded to reduce the net book value of stranded meter costs through accumulated depreciation, the total depreciation expense amount that would have been applicable from the time that the stranded meter costs were transferred to the sub-account of Account 1555 to December 31, 2010 should be provided.  In addition, the following information should be provided:"]
[]
[]
[]
[]
[null,"a)","Whether or not carrying charges were recorded for the stranded meter cost balances in the sub-account, and if so, the total carrying charges recorded to December 31, 2010."]
[]
[]
[null,"b)","The estimated amount of the pooled residual net book value of the removed from service meters, less any net proceeds from sales and contributed capital, at the time when the smart meters will have been fully deployed (e.g., as of December 31, 2010).  If the smart meters have been fully deployed, the actual amount should be provided."]
[]
[]
[]
[]
[null,"c)","A description as to how the applicant intends to recover in rates the remaining costs for stranded meters, including the proposed accounting treatment, the proposed disposition period, and the associated bill impacts."]
[]
[]
[]
["Scenario B:  If the stranded meter costs remained recorded in Account 1860, the above table should be completed and the following information should be provided in Exhibit 9:"]
[]
[]
[1,"A description of the accounting treatment followed by the applicant on stranded meter costs for financial accounting and reporting purposes."]
[]
[]
[2,"The amount of the pooled residual net book value of the removed from service stranded meters, less any contributed capital (net of accumulated amortization), and less any net proceeds from sales, as of December 31, 2010."]
[]
[]
[]
[3,"A statement as to whether or not the recording of depreciation expenses continued in order to reduce the net book value through accumulated depreciation.  If so, provision of the total (cumulative) depreciation expense for the period from the time that the meters became stranded to December 31, 2010."]
[]
[]
[]
[4,"If no depreciation expenses were recorded to reduce the net book value of stranded meters through accumulated depreciation, the total (cumulative) depreciation expense amount that would have been applicable for the period from the time that the meters became stranded to December 31, 2010."]
[]
[]
[]
[5,"The estimated amount of the pooled residual net book value of the removed from service meters, less any net proceeds from sales and contributed capital, at the time when smart meters will have been fully deployed.  If the smart meters have been fully deployed, please provide the actual amount."]
[]
[]
[]
[6,"A description as to how the applicant intends to recover in rates the costs for stranded meters, including the proposed accounting treatment, the proposed disposition period and the associated bill impacts."]
[]
[]
["Distributors should also provide the Net Book Value per class of meter as of December 31, 2010 as well as the number of meters that were removed / stranded.  In preparing this information, distributors should review the OEB's letter of January 16, 2007 Stranded Meter Costs Related to the Installation of Smart Meters which stated that records were to be kept of the type and number of each meter to support the stranded meter costs."]

{"sheet":"App.2-Y_MIFRS Summary Impacts","index":58,"n_rows":37,"n_cols":9,"rows_kept":37,"cut":false,"hidden":true,"merged":[[8,0,8,8],[9,0,9,8],[10,0,10,8],[14,0,16,2],[14,6,14,8],[15,6,15,8],[17,0,17,2],[17,6,17,8],[18,0,18,2],[18,6,18,8],[19,0,19,2],[19,6,19,8],[20,0,20,2],[20,6,20,8],[21,0,21,2],[21,6,21,8],[22,0,22,2],[22,3,22,5],[22,6,22,8],[23,0,23,2],[23,6,23,8],[24,0,24,2],[24,6,24,8],[25,0,25,2],[25,6,25,8],[26,0,26,2],[26,6,26,8],[27,0,27,2],[27,6,27,8],[28,0,28,2],[28,6,28,8],[36,0,36,8],[29,0,29,2],[29,6,29,8],[30,0,30,2],[30,6,30,8],[31,0,31,2],[31,6,31,8],[32,0,32,2],[32,6,32,8],[33,0,33,2],[33,6,33,8],[34,0,34,2],[34,6,34,8]]}
[null,null,null,null,null,null,null,"File Number:",{"$f":"EBNUMBER","v":"EB-2021-0052"}]
[null,null,null,null,null,null,null,"Exhibit:"]
[null,null,null,null,null,null,null,"Tab:"]
[null,null,null,null,null,null,null,"Schedule:"]
[null,null,null,null,null,null,null,"Page:"]
[]
[null,null,null,null,null,null,null,"Date:"]
[]
["Appendix 2-Y"]
["Summary of Impacts to Revenue Requirement"]
["from Transition to MIFRS"]
[]
[]
[]
["Revenue Requirement Component",null,null,{"$f":"TestYear","v":2022},{"$f":"TestYear","v":2022},"Difference","Reasons why the revenue requirement "]
[null,null,null,"MIFRS","CGAAP 1",null,"component is different under MIFRS"]
[]
["Closing NBV 2017",null,null,null,null,{"$f":"+D18-E18","v":0}]
["Closing NBV 2018",null,null,null,null,{"$f":"+D19-E19","v":0}]
["Average NBV",null,null,{"$f":"(D18+D19)/2","v":0},{"$f":"(E18+E19)/2","v":0},{"$f":"+D20-E20","v":0}]
["Working Capital",null,null,null,null,{"$f":"+D21-E21","v":0}]
["Rate Base",null,null,{"$f":"SUM(D20:D21)","v":0},{"$f":"SUM(E20:E21)","v":0},{"$f":"+D22-E22","v":0}]
[null,null,null,null,null,{"$f":"+D23-E23","v":0}]
["Return on Rate Base",null,null,null,null,0]
[null,null,null,null,null,0]
["OM&A",null,null,null,null,0]
["Depreciation",null,null,null,null,0]
["PILs or Income Taxes",null,null,null,null,0]
[null,null,null,null,null,0]
["Less: Revenue Offsets",null,null,null,null,0]
[null,null,null,null,null,0]
[null,null,null,null,null,0]
[null,null,null,null,null,0]
["Insert description of additional item(s) and new rows if needed.",null,null,null,null,0]
["Total Base Revenue Requirement",null,null,{"$f":"SUM(D24:D34)","v":0},{"$f":"SUM(E24:E34)","v":0},{"$f":"SUM(F24:F34)","v":0}]
[]
["1.  Applicants must provide a summary of the dollar impacts of MIFRS to each component of the revenue requirement (e.g. rate base, operating costs, etc.), including the overall impact on the proposed revenue requirement.  Accordingly, the applicants must identify financial differences and resulting revenue requirement impacts arising from the adoption of  MIFRS as compared to CGAAP.  If the applicant is reflecting the changes in capitalization and depreciation policies for the first time in a rebasing application, then the comparison in the above table should be between MIFRS and CGAAP before the change in accounting policies. If the applicant changed capitalization and depreciation policies and reflected these changes in a previous rebasing application, the comparison in the above table should be between MIFRS and CGAAP after the change in accounting policies.  "]

{"sheet":"Sheet19","index":59,"n_rows":72,"n_cols":9,"rows_kept":72,"cut":false,"hidden":true,"merged":[]}
[null,"CGAAP","CGAAP","CGAAP","MIFRS","USGAAP","ASPE","ASPE","ASPE"]
[null,"N/A",2012,2013,null,null,"N/A",2012,2013]
["LDC Info","x","x","x","x","x","x","x","x"]
["Table of Contents","x","x","x","x","x","x","x","x"]
["COS Flowchart","x","x","x","x","x","x","x","x"]
["List of Key References","x","x","x","x","x","x","x","x"]
["App.2-AA_Capital Projects","x","x","x","x","x","x","x","x"]
["App.2-AB_Capital Expenditures","x","x","x","x","x","x","x","x"]
["App.2-BA1_Fix Asset Cont.CGAAP","x","x","x","n","x","x","x","x"]
["App.2-BA2_Fix Asset Cont.MIFRS","n","n","n","x","n","n","n","n"]
["Appendix 2-BB Service Life Comp","x","x","x","x","x","x","x","x"]
["Instruction for App. 2-C MIFRS","n","n","n","x","n","n","n","n"]
["App.2-CA_CGAAP_DepExp_2011","n","n","n","x","n","n","n","n"]
["App.2-CB_MIFRS_DepExp_2011","n","n","n","x","n","n","n","n"]
["App.2-CC_MIFRS_DepExp_2012","n","n","n","x","n","n","n","n"]
["App.2-CD_MIFRS_DepExp_2013","n","n","n","x","n","n","n","n"]
["App.2-CE_MIFRS_DepExp_2014","n","n","n","x","n","n","n","n"]
["App.2-CF_CGAAP_DepExp_2012","n","n","n","x","n","n","n","n"]
["App.2-CG_MIFRS_DepExp_2012","n","n","n","x","n","n","n","n"]
["App.2-CH_MIFRS_DepExp_2013","n","n","n","x","n","n","n","n"]
["App.2-CI_MIFRS_DepExp_2014","n","n","n","x","n","n","n","n"]
["App.2-CJ_CGAAP_DepExp_2012","n","n","n","x","n","n","n","n"]
["App.2-CK_CGAAP_DepExp_2013","n","n","n","x","n","n","n","n"]
["App.2-CL_MIFRS_DepExp_2013","n","n","n","x","n","n","n","n"]
["App.2-CM_MIFRS_DepExp_2014","n","n","n","x","n","n","n","n"]
["Instruction for App. 2-C CGAAP","x","x","x","n","n","x","x","x"]
["App.2-CN_OldCGAAP_DepExp_2012","x","x","n","n","n","x","x","n"]
["App.2-CO_NewCGAAP_DepExp_2012","x","x","n","n","n","x","x","n"]
["App.2-CP_NewCGAAP_DepExp_2013","x","x","n","n","n","x","x","n"]
["App.2-CQ NewCGAAP_DepExp_2014","x","x","n","n","n","x","x","n"]
["App.2-CR_OldCGAAP_DepExp_2012","x","n","x","n","n","x","n","x"]
["App.2-CS_OldCGAAP_DepExp_2013","x","n","x","n","n","x","n","x"]
["App.2-CT_NewCGAAP_DepExp_2013","x","n","x","n","n","x","n","x"]
["App.2-CU_NewCGAAP_DepExp_2014","x","n","x","n","n","x","n","x"]
["App.2-CV_USGAAP_DepExp","n","n","n","n","x","n","n","n"]
["App.2-DA_Overhead","n","n","n","x","n","n","n","n"]
["App.2-DB_Overhead","x","x","x","n","n","x","x","x"]
["App.2-EA_PP&E Deferral Account","n","n","n","x","x","n","n","n"]
["App.2-EB_PP&E Deferral Account","n","n","n","x","x","n","n","n"]
["App.2-EC_PP&E Deferral Account","n","n","n","x","x","n","n","n"]
["App.2-ED_Account 1576 (2012)","x","x","n","x","x","x","x","n"]
["App.2-EE_Account 1576 (2013)","x","n","x","x","x","x","n","x"]
["App.2-FA Proposed REG Invest.","o","o","o","o","o","o","o","o"]
["App.2-FB Calc of REG Improvemnt","o","o","o","o","o","o","o","o"]
["App.2-FC Calc of REG Expansion","o","o","o","o","o","o","o","o"]
["App.2-G SQI","x","x","x","x","x","x","x","x"]
["App.2-H_Other_Oper_Rev","x","x","x","x","x","x","x","x"]
["App.2-I LF_CDM_WF","x","x","x","x","x","x","x","x"]
["App.2-JA_OM&A_Summary_Analys","x","x","x","x","x","x","x","x"]
["App.2-JB_OM&A_Cost _Drivers","x","x","x","x","x","x","x","x"]
["App.2-JC_OMA Programs","x","x","x","x","x","x","x","x"]
["App.2-K_Employee Costs","x","x","x","x","x","x","x","x"]
["App.2-L_OM&A_per_Cust_FTEE","x","x","x","x","x","x","x","x"]
["App.2-M_Regulatory_Costs","x","x","x","x","x","x","x","x"]
["App.2-N_Corp_Cost_Allocation","x","x","x","x","x","x","x","x"]
["App.2-OA Capital Structure","x","x","x","x","x","x","x","x"]
["App.2-OB_Debt Instruments","x","x","x","x","x","x","x","x"]
["App.2-P_Cost_Allocation","x","x","x","x","x","x","x","x"]
["App.2-Q_Cost of Serv. Emb. Dx","e","e","e","e","e","e","e","e"]
["App.2-R_Loss Factors","x","x","x","x","x","x","x","x"]
["App.2-S_Stranded Meters","x","x","x","x","x","x","x","x"]
["App.2-TA_1592_Tax_Variance","x","x","x","x","x","x","x","x"]
["App.2-TB_1592_HST-OVAT","x","x","x","x","x","x","x","x"]
["App.2-U_IFRS Transition Costs","x","x","x","x","x","x","x","x"]
["App.2-V_Rev_Reconciliation","x","x","x","x","x","x","x","x"]
["App.2-W_Bill Impacts","x","x","x","x","x","x","x","x"]
["App.2-YA_MIFRS Summary Impacts","n","n","n","x","n","n","n","n"]
["App. 2-YB_CGAAP Summary Impacts","x","x","x","n","n","x","x","x"]
["App. 2-Z_Tariff","x","x","x","x","x","x","x","x"]
["lists","n","n","n","n","n","n","n","n"]
["lists2","n","n","n","n","n","n","n","n"]
["Sheet19","n","n","n","n","n","n","n","n"]

{"sheet":"App.2-YA_IFRS Transition Costs","index":60,"n_rows":34,"n_cols":15,"rows_kept":34,"cut":false,"hidden":true,"merged":[[16,0,16,2],[13,0,15,2],[13,13,15,13],[13,10,14,10],[13,12,15,12],[8,0,8,16],[9,0,9,16],[11,0,11,14],[13,11,14,11],[13,14,15,14],[28,0,28,2],[17,0,17,2],[18,0,18,2],[19,0,19,2],[20,0,20,2],[21,0,21,2],[22,0,22,2],[23,0,23,2],[24,0,24,2],[25,0,25,2],[26,0,26,2],[27,0,27,2],[44,0,45,0],[44,1,45,3],[33,0,34,0],[36,0,37,0],[36,1,37,3],[32,1,32,4],[32,5,32,6],[31,1,31,14],[33,1,33,14],[39,0,42,0],[39,1,42,3]]}
[]
[null,null,null,null,null,null,null,null,null,null,null,null,null,"File Number:",{"$f":"EBNUMBER","v":"EB-2021-0052"}]
[null,null,null,null,null,null,null,null,null,null,null,null,null,"Exhibit:"]
[null,null,null,null,null,null,null,null,null,null,null,null,null,"Tab:"]
[null,null,null,null,null,null,null,null,null,null,null,null,null,"Schedule:"]
[null,null,null,null,null,null,null,null,null,null,null,null,null,"Page:"]
[]
[null,null,null,null,null,null,null,null,null,null,null,null,null,"Date:"]
["Appendix 2-YA"]
["One-Time Incremental IFRS Transition Costs"]
[]
["The following table should be completed based on the information requested below. An explanation should be provided for any blank entries.  The entries should include one-time incremental IFRS transition costs that are currently included in Account 1508, Other Regulatory Assets, sub-account Deferred IFRS Transition Costs Account, or Account 1508, Other Regulatory Assets, sub-account IFRS Transition Costs Variance Account."]
[]
["Nature of One-Time Incremental IFRS Transition Costs 1",null,null,null,"Audited Actual Costs Incurred","Audited Actual Costs Incurred","Audited Actual Costs Incurred","Audited Actual Costs Incurred","Audited Actual Costs Incurred","Audited Carrying Charges ","Forecasted Costs ","Forecasted Costs ","Carrying Charges January 1, 2017 to December 31, 2017 or April 30, 2017 (As appropriate)","Total Costs and Carrying Charges","Reasons why the costs recorded meet the criteria of one-time IFRS administrative incremental costs"]
[]
[null,null,null,null,2012,2013,2014,2015,"2016 3","To December 31, 2016","2017 3","2018 3"]
["Professional accounting fees",null,null,null,null,null,null,null,null,null,null,null,null,{"$f":"SUM(E17:M17)","v":0}]
["Professional legal fees",null,null,null,null,null,null,null,null,null,null,null,null,0]
["Salaries, wages and benefits of staff added to support the transition to IFRS",null,null,null,null,null,null,null,null,null,null,null,null,0]
["Associated staff training and development costs",null,null,null,null,null,null,null,null,null,null,null,null,0]
["Costs related to system upgrades, or replacements or changes where IFRS was the major reason for conversion",null,null,null,null,null,null,null,null,null,null,null,null,0]
[null,null,null,null,null,null,null,null,null,null,null,null,null,0]
[null,null,null,null,null,null,null,null,null,null,null,null,null,0]
[null,null,null,null,null,null,null,null,null,null,null,null,null,0]
[null,null,null,null,null,null,null,null,null,null,null,null,null,0]
["Amounts, if any, included in previous Board approved rates (amounts should be negative) 2",null,null,null,null,null,null,null,null,null,null,null,null,0]
[null,null,null,null,null,null,null,null,null,null,null,null,null,0]
["Insert description of additional item(s) and new rows if needed.",null,null,null,null,null,null,null,null,null,null,null,null,0]
["Total",null,null,null,{"$f":"SUM(E17:E28)","v":0},0,null,{"$f":"SUM(H17:H28)","v":0},null,0,null,0,null,{"$f":"SUM(N17:N28)","v":0}]
[]
["Note:"]
[1,"The Deferred IFRS Transition Costs Account and the IFRS Transition Costs Variance Account are exclusively for necessary, incremental transition costs and shall not include ongoing IFRS compliance costs or impacts arising from adopting accounting policy changes that reflect changes in the timing of the recognition of income. The incremental costs in these accounts shall not include costs related to system upgrades, or replacements or changes where IFRS was not the major reason for conversion. In addition, incremental IFRS costs shall not include capital assets or expenditures."]
[2,"If there were any amounts approved in previous Board approved rates, please state the EB #:"]
[3,"Any forecasted One-time costs past 2015 should be fully explained in the application, since distributors were required to adopt IFRS or an alternative accounting standard by January 1, 2015."]

{"sheet":"Sheet1","index":61,"n_rows":0,"n_cols":0,"rows_kept":0,"cut":false,"hidden":true,"merged":[]}