Workbook

Sheet Xp1
A1: Enbridge: Amortization Analysis
A2: Tax as Capital Investment
D3: Scenario: | E3: Cost Recovery | G3: Expense | I3: Amortization Cost of Capital | L3: WACC
E4: Portfolio Horizon | G4: 1 | H4: years | I4: Amortiztion Life | L4: 10 | M4: years
B6: Background Data
C7: DSM Portfolio | F7: 2023 | G7: 2024 | H7: 2025 | I7: 2026 | J7: =I7+1 -> 2027 | K7: =J7+1 -> 2028 | L7: =K7+1 -> 2029 | M7: =L7+1 -> 2030 | N7: =M7+1 -> 2031 | O7: =N7+1 -> 2032 | P7: =O7+1 -> 2033 | Q7: =P7+1 -> 2034 | ... AO7: =AN7+1 -> 2058
D8: Investment (millions) | F8: ='Portfolio$'!E6/10^6 -> 142.26 | G8: =IF(G7-$F$7+1>$G$4,0,'Portfolio$'!F6/10^6) -> 0 | H8: =IF(H7-$F$7+1>$G$4,0,'Portfolio$'!G6/10^6) -> 0 | I8: =IF(I7-$F$7+1>$G$4,0,'Portfolio$'!H6/10^6) -> 0 | J8: =IF(J7-$F$7+1>$G$4,0,'Portfolio$'!I6/10^6) -> 0 | K8: =IF(K7-$F$7+1>$G$4,0,J8*1.02) -> 0 | L8: =IF(L7-$F$7+1>$G$4,0,K8*1.02) -> 0 | M8: =IF(M7-$F$7+1>$G$4,0,L8*1.02) -> 0 | N8: =IF(N7-$F$7+1>$G$4,0,M8*1.02) -> 0 | O8: =IF(O7-$F$7+1>$G$4,0,N8*1.02) -> 0 | P8: =IF(P7-$F$7+1>$G$4,0,O8*1.02) -> 0 | Q8: =IF(Q7-$F$7+1>$G$4,0,P8*1.02) -> 0 | R8: =IF(R7-$F$7+1>$G$4,0,Q8*1.02) -> 0 | ... Y8: =IF(Y7-$F$7+1>$G$4,0,X8*1.02) -> 0
C9: Enbridge Capital Structure | F9: Capitalization | G9: After-Tax Return | H9: Weighted | J9: Pre-Tax Return | K9: Weighted
D10: Debt | F10: 0.64 | G10: 0.04 | H10: =$F10*G10 -> 0.0256 | J10: 0.04 | K10: =$F10*J10 -> 0.0256
D11: Equity | F11: 0.36 | G11: 0.09 | H11: =$F11*G11 -> 0.0324 | J11: =G11*H14 -> 0.12244898 | K11: =$F11*J11 -> 0.044081633
D12: WACC | F12: =SUM(F10:F11) -> 1 | H12: =SUM(H10:H11) -> 0.058 | K12: =SUM(K10:K11) -> 0.069681633
D13: Combined Income Tax Rate | H13: 0.265
D14: Tax Gross Up Factor | H14: =1/(1-H13) -> 1.3605442
C15: Discount Rate | E15: =K12 -> 0.069681633
C16: Amortization Term | E16: =L4 -> 10 | F16: years
B17: Revenue Requirement Calcs
E18: NPV | F18: =F7 -> 2023 | G18: =F18+1 -> 2024 | H18: =G18+1 -> 2025 | I18: =H18+1 -> 2026 | J18: =I18+1 -> 2027 | K18: =J18+1 -> 2028 | L18: =K18+1 -> 2029 | M18: =L18+1 -> 2030 | N18: =M18+1 -> 2031 | ... AO18: =AN18+1 -> 2058
C19: Expenses | E19: =NPV($E$15,F19:AO19)*(1+$E$15) -> 142.26 | F19: =IF($G$3="Expense",F8,0) -> 142.26 | G19: =IF($G$3="Expense",G8,0) -> 0 | H19: =IF($G$3="Expense",H8,0) -> 0 | I19: =IF($G$3="Expense",I8,0) -> 0 | J19: =IF($G$3="Expense",J8,0) -> 0 | K19: =IF($G$3="Expense",K8,0) -> 0 | L19: =IF($G$3="Expense",L8,0) -> 0 | M19: =IF($G$3="Expense",M8,0) -> 0 | ... Y19: =IF($G$3="Expense",Y8,0) -> 0
C20: Rate Base
D21: Additions To Rate Base | E21: =NPV($E$15,F21:AO21)*(1+$E$15) -> 0 | F21: =F8-F19 -> 0 | G21: =G8-G19 -> 0 | H21: =H8-H19 -> 0 | I21: =I8-I19 -> 0 | J21: =J8-J19 -> 0 | K21: =K8-K19 -> 0 | L21: =L8-L19 -> 0 | M21: =M8-M19 -> 0 | ... Y21: =Y8-Y19 -> 0
D22: Unamortized Balance (EOY) | F22: =E22+F21-F44 -> 0 | G22: =F22+G21-G44 -> 0 | H22: =G22+H21-H44 -> 0 | I22: =H22+I21-I44 -> 0 | J22: =I22+J21-J44 -> 0 | K22: =J22+K21-K44 -> 0 | L22: =K22+L21-L44 -> 0 | M22: =L22+M21-M44 -> 0 | ... AO22: =AN22+AO21-AO44 -> 0
C23: Amortization
D24: 2023 Investment | E24: =NPV($E$15,F24:AO24)*(1+$E$15) -> 0 | G24: =IF(G$18-F$18<=$E$16,F$21/$E$16,0) -> 0 | H24: =IF(H$18-F$18<=$E$16,F$21/$E$16,0) -> 0 | I24: =IF(I$18-F$18<=$E$16,F$21/$E$16,0) -> 0 | J24: =IF(J$18-F$18<=$E$16,F$21/$E$16,0) -> 0 | K24: =IF(K$18-F$18<=$E$16,F$21/$E$16,0) -> 0 | L24: =IF(L$18-F$18<=$E$16,F$21/$E$16,0) -> 0 | M24: =IF(M$18-F$18<=$E$16,F$21/$E$16,0) -> 0 | N24: =IF(N$18-F$18<=$E$16,F$21/$E$16,0) -> 0 | O24: =IF(O$18-F$18<=$E$16,F$21/$E$16,0) -> 0 | P24: =IF(P$18-F$18<=$E$16,F$21/$E$16,0) -> 0 | Q24: =IF(Q$18-F$18<=$E$16,F$21/$E$16,0) -> 0 | R24: =IF(R$18-F$18<=$E$16,F$21/$E$16,0) -> 0 | S24: =IF(S$18-F$18<=$E$16,F$21/$E$16,0) -> 0 | T24: =IF(T$18-F$18<=$E$16,F$21/$E$16,0) -> 0 | U24: =IF(U$18-F$18<=$E$16,F$21/$E$16,0) -> 0 | V24: =IF(V$18-F$18<=$E$16,F$21/$E$16,0) -> 0
D25: 2024 Investment | E25: =NPV($E$15,F25:AO25)*(1+$E$15) -> 0 | H25: =IF(H$18-G$18<=$E$16,G$21/$E$16,0) -> 0 | I25: =IF(I$18-G$18<=$E$16,G$21/$E$16,0) -> 0 | J25: =IF(J$18-G$18<=$E$16,G$21/$E$16,0) -> 0 | K25: =IF(K$18-G$18<=$E$16,G$21/$E$16,0) -> 0 | L25: =IF(L$18-G$18<=$E$16,G$21/$E$16,0) -> 0 | M25: =IF(M$18-G$18<=$E$16,G$21/$E$16,0) -> 0 | N25: =IF(N$18-G$18<=$E$16,G$21/$E$16,0) -> 0 | O25: =IF(O$18-G$18<=$E$16,G$21/$E$16,0) -> 0 | P25: =IF(P$18-G$18<=$E$16,G$21/$E$16,0) -> 0 | Q25: =IF(Q$18-G$18<=$E$16,G$21/$E$16,0) -> 0 | R25: =IF(R$18-G$18<=$E$16,G$21/$E$16,0) -> 0 | S25: =IF(S$18-G$18<=$E$16,G$21/$E$16,0) -> 0 | T25: =IF(T$18-G$18<=$E$16,G$21/$E$16,0) -> 0 | U25: =IF(U$18-G$18<=$E$16,G$21/$E$16,0) -> 0 | V25: =IF(V$18-G$18<=$E$16,G$21/$E$16,0) -> 0 | W25: =IF(W$18-G$18<=$E$16,G$21/$E$16,0) -> 0
D26: 2025 Investment | E26: =NPV($E$15,F26:AO26)*(1+$E$15) -> 0 | I26: =IF(I$18-H$18<=$E$16,H$21/$E$16,0) -> 0 | J26: =IF(J$18-H$18<=$E$16,H$21/$E$16,0) -> 0 | K26: =IF(K$18-H$18<=$E$16,H$21/$E$16,0) -> 0 | L26: =IF(L$18-H$18<=$E$16,H$21/$E$16,0) -> 0 | M26: =IF(M$18-H$18<=$E$16,H$21/$E$16,0) -> 0 | N26: =IF(N$18-H$18<=$E$16,H$21/$E$16,0) -> 0 | O26: =IF(O$18-H$18<=$E$16,H$21/$E$16,0) -> 0 | P26: =IF(P$18-H$18<=$E$16,H$21/$E$16,0) -> 0 | Q26: =IF(Q$18-H$18<=$E$16,H$21/$E$16,0) -> 0 | R26: =IF(R$18-H$18<=$E$16,H$21/$E$16,0) -> 0 | S26: =IF(S$18-H$18<=$E$16,H$21/$E$16,0) -> 0 | T26: =IF(T$18-H$18<=$E$16,H$21/$E$16,0) -> 0 | U26: =IF(U$18-H$18<=$E$16,H$21/$E$16,0) -> 0 | V26: =IF(V$18-H$18<=$E$16,H$21/$E$16,0) -> 0 | W26: =IF(W$18-H$18<=$E$16,H$21/$E$16,0) -> 0 | X26: =IF(X$18-H$18<=$E$16,H$21/$E$16,0) -> 0
D27: 2026 Investment | E27: =NPV($E$15,F27:AO27)*(1+$E$15) -> 0 | J27: =IF(J$18-I$18<=$E$16,I$21/$E$16,0) -> 0 | K27: =IF(K$18-I$18<=$E$16,I$21/$E$16,0) -> 0 | L27: =IF(L$18-I$18<=$E$16,I$21/$E$16,0) -> 0 | M27: =IF(M$18-I$18<=$E$16,I$21/$E$16,0) -> 0 | N27: =IF(N$18-I$18<=$E$16,I$21/$E$16,0) -> 0 | O27: =IF(O$18-I$18<=$E$16,I$21/$E$16,0) -> 0 | P27: =IF(P$18-I$18<=$E$16,I$21/$E$16,0) -> 0 | Q27: =IF(Q$18-I$18<=$E$16,I$21/$E$16,0) -> 0 | R27: =IF(R$18-I$18<=$E$16,I$21/$E$16,0) -> 0 | S27: =IF(S$18-I$18<=$E$16,I$21/$E$16,0) -> 0 | T27: =IF(T$18-I$18<=$E$16,I$21/$E$16,0) -> 0 | U27: =IF(U$18-I$18<=$E$16,I$21/$E$16,0) -> 0 | V27: =IF(V$18-I$18<=$E$16,I$21/$E$16,0) -> 0 | W27: =IF(W$18-I$18<=$E$16,I$21/$E$16,0) -> 0 | X27: =IF(X$18-I$18<=$E$16,I$21/$E$16,0) -> 0 | Y27: =IF(Y$18-I$18<=$E$16,I$21/$E$16,0) -> 0
D28: 2027 Investment | E28: =NPV($E$15,F28:AO28)*(1+$E$15) -> 0 | K28: =IF(K$18-J$18<=$E$16,J$21/$E$16,0) -> 0 | L28: =IF(L$18-J$18<=$E$16,J$21/$E$16,0) -> 0 | M28: =IF(M$18-J$18<=$E$16,J$21/$E$16,0) -> 0 | N28: =IF(N$18-J$18<=$E$16,J$21/$E$16,0) -> 0 | O28: =IF(O$18-J$18<=$E$16,J$21/$E$16,0) -> 0 | P28: =IF(P$18-J$18<=$E$16,J$21/$E$16,0) -> 0 | Q28: =IF(Q$18-J$18<=$E$16,J$21/$E$16,0) -> 0 | R28: =IF(R$18-J$18<=$E$16,J$21/$E$16,0) -> 0 | S28: =IF(S$18-J$18<=$E$16,J$21/$E$16,0) -> 0 | T28: =IF(T$18-J$18<=$E$16,J$21/$E$16,0) -> 0 | U28: =IF(U$18-J$18<=$E$16,J$21/$E$16,0) -> 0 | V28: =IF(V$18-J$18<=$E$16,J$21/$E$16,0) -> 0 | W28: =IF(W$18-J$18<=$E$16,J$21/$E$16,0) -> 0 | X28: =IF(X$18-J$18<=$E$16,J$21/$E$16,0) -> 0 | Y28: =IF(Y$18-J$18<=$E$16,J$21/$E$16,0) -> 0 | Z28: =IF(Z$18-J$18<=$E$16,J$21/$E$16,0) -> 0
D29: 2028 Investment | E29: =NPV($E$15,F29:AO29)*(1+$E$15) -> 0 | L29: =IF(L$18-K$18<=$E$16,K$21/$E$16,0) -> 0 | M29: =IF(M$18-K$18<=$E$16,K$21/$E$16,0) -> 0 | N29: =IF(N$18-K$18<=$E$16,K$21/$E$16,0) -> 0 | O29: =IF(O$18-K$18<=$E$16,K$21/$E$16,0) -> 0 | P29: =IF(P$18-K$18<=$E$16,K$21/$E$16,0) -> 0 | Q29: =IF(Q$18-K$18<=$E$16,K$21/$E$16,0) -> 0 | R29: =IF(R$18-K$18<=$E$16,K$21/$E$16,0) -> 0 | S29: =IF(S$18-K$18<=$E$16,K$21/$E$16,0) -> 0 | T29: =IF(T$18-K$18<=$E$16,K$21/$E$16,0) -> 0 | U29: =IF(U$18-K$18<=$E$16,K$21/$E$16,0) -> 0 | V29: =IF(V$18-K$18<=$E$16,K$21/$E$16,0) -> 0 | W29: =IF(W$18-K$18<=$E$16,K$21/$E$16,0) -> 0 | X29: =IF(X$18-K$18<=$E$16,K$21/$E$16,0) -> 0 | Y29: =IF(Y$18-K$18<=$E$16,K$21/$E$16,0) -> 0 | Z29: =IF(Z$18-K$18<=$E$16,K$21/$E$16,0) -> 0 | AA29: =IF(AA$18-K$18<=$E$16,K$21/$E$16,0) -> 0
D30: 2029 Investment | E30: =NPV($E$15,F30:AO30)*(1+$E$15) -> 0 | M30: =IF(M$18-L$18<=$E$16,L$21/$E$16,0) -> 0 | N30: =IF(N$18-L$18<=$E$16,L$21/$E$16,0) -> 0 | O30: =IF(O$18-L$18<=$E$16,L$21/$E$16,0) -> 0 | P30: =IF(P$18-L$18<=$E$16,L$21/$E$16,0) -> 0 | Q30: =IF(Q$18-L$18<=$E$16,L$21/$E$16,0) -> 0 | R30: =IF(R$18-L$18<=$E$16,L$21/$E$16,0) -> 0 | S30: =IF(S$18-L$18<=$E$16,L$21/$E$16,0) -> 0 | T30: =IF(T$18-L$18<=$E$16,L$21/$E$16,0) -> 0 | U30: =IF(U$18-L$18<=$E$16,L$21/$E$16,0) -> 0 | V30: =IF(V$18-L$18<=$E$16,L$21/$E$16,0) -> 0 | W30: =IF(W$18-L$18<=$E$16,L$21/$E$16,0) -> 0 | X30: =IF(X$18-L$18<=$E$16,L$21/$E$16,0) -> 0 | Y30: =IF(Y$18-L$18<=$E$16,L$21/$E$16,0) -> 0 | Z30: =IF(Z$18-L$18<=$E$16,L$21/$E$16,0) -> 0 | AA30: =IF(AA$18-L$18<=$E$16,L$21/$E$16,0) -> 0 | AB30: =IF(AB$18-L$18<=$E$16,L$21/$E$16,0) -> 0
D31: 2030 Investment | E31: =NPV($E$15,F31:AO31)*(1+$E$15) -> 0 | N31: =IF(N$18-M$18<=$E$16,M$21/$E$16,0) -> 0 | O31: =IF(O$18-M$18<=$E$16,M$21/$E$16,0) -> 0 | P31: =IF(P$18-M$18<=$E$16,M$21/$E$16,0) -> 0 | Q31: =IF(Q$18-M$18<=$E$16,M$21/$E$16,0) -> 0 | R31: =IF(R$18-M$18<=$E$16,M$21/$E$16,0) -> 0 | S31: =IF(S$18-M$18<=$E$16,M$21/$E$16,0) -> 0 | T31: =IF(T$18-M$18<=$E$16,M$21/$E$16,0) -> 0 | U31: =IF(U$18-M$18<=$E$16,M$21/$E$16,0) -> 0 | V31: =IF(V$18-M$18<=$E$16,M$21/$E$16,0) -> 0 | W31: =IF(W$18-M$18<=$E$16,M$21/$E$16,0) -> 0 | X31: =IF(X$18-M$18<=$E$16,M$21/$E$16,0) -> 0 | Y31: =IF(Y$18-M$18<=$E$16,M$21/$E$16,0) -> 0 | Z31: =IF(Z$18-M$18<=$E$16,M$21/$E$16,0) -> 0 | AA31: =IF(AA$18-M$18<=$E$16,M$21/$E$16,0) -> 0 | AB31: =IF(AB$18-M$18<=$E$16,M$21/$E$16,0) -> 0 | AC31: =IF(AC$18-M$18<=$E$16,M$21/$E$16,0) -> 0
D32: 2031 Investment | E32: =NPV($E$15,F32:AO32)*(1+$E$15) -> 0 | O32: =IF(O$18-N$18<=$E$16,N$21/$E$16,0) -> 0 | P32: =IF(P$18-N$18<=$E$16,N$21/$E$16,0) -> 0 | Q32: =IF(Q$18-N$18<=$E$16,N$21/$E$16,0) -> 0 | R32: =IF(R$18-N$18<=$E$16,N$21/$E$16,0) -> 0 | S32: =IF(S$18-N$18<=$E$16,N$21/$E$16,0) -> 0 | T32: =IF(T$18-N$18<=$E$16,N$21/$E$16,0) -> 0 | U32: =IF(U$18-N$18<=$E$16,N$21/$E$16,0) -> 0 | V32: =IF(V$18-N$18<=$E$16,N$21/$E$16,0) -> 0 | W32: =IF(W$18-N$18<=$E$16,N$21/$E$16,0) -> 0 | X32: =IF(X$18-N$18<=$E$16,N$21/$E$16,0) -> 0 | Y32: =IF(Y$18-N$18<=$E$16,N$21/$E$16,0) -> 0 | Z32: =IF(Z$18-N$18<=$E$16,N$21/$E$16,0) -> 0 | AA32: =IF(AA$18-N$18<=$E$16,N$21/$E$16,0) -> 0 | AB32: =IF(AB$18-N$18<=$E$16,N$21/$E$16,0) -> 0 | AC32: =IF(AC$18-N$18<=$E$16,N$21/$E$16,0) -> 0 | AD32: =IF(AD$18-N$18<=$E$16,N$21/$E$16,0) -> 0
D33: 2032 Investment | E33: =NPV($E$15,F33:AO33)*(1+$E$15) -> 0 | P33: =IF(P$18-O$18<=$E$16,O$21/$E$16,0) -> 0 | Q33: =IF(Q$18-O$18<=$E$16,O$21/$E$16,0) -> 0 | R33: =IF(R$18-O$18<=$E$16,O$21/$E$16,0) -> 0 | S33: =IF(S$18-O$18<=$E$16,O$21/$E$16,0) -> 0 | T33: =IF(T$18-O$18<=$E$16,O$21/$E$16,0) -> 0 | U33: =IF(U$18-O$18<=$E$16,O$21/$E$16,0) -> 0 | V33: =IF(V$18-O$18<=$E$16,O$21/$E$16,0) -> 0 | W33: =IF(W$18-O$18<=$E$16,O$21/$E$16,0) -> 0 | X33: =IF(X$18-O$18<=$E$16,O$21/$E$16,0) -> 0 | Y33: =IF(Y$18-O$18<=$E$16,O$21/$E$16,0) -> 0 | Z33: =IF(Z$18-O$18<=$E$16,O$21/$E$16,0) -> 0 | AA33: =IF(AA$18-O$18<=$E$16,O$21/$E$16,0) -> 0 | AB33: =IF(AB$18-O$18<=$E$16,O$21/$E$16,0) -> 0 | AC33: =IF(AC$18-O$18<=$E$16,O$21/$E$16,0) -> 0 | AD33: =IF(AD$18-O$18<=$E$16,O$21/$E$16,0) -> 0 | AE33: =IF(AE$18-O$18<=$E$16,O$21/$E$16,0) -> 0
D34: 2033 Investment | E34: =NPV($E$15,F34:AO34)*(1+$E$15) -> 0 | Q34: =IF(Q$18-P$18<=$E$16,P$21/$E$16,0) -> 0 | R34: =IF(R$18-P$18<=$E$16,P$21/$E$16,0) -> 0 | S34: =IF(S$18-P$18<=$E$16,P$21/$E$16,0) -> 0 | T34: =IF(T$18-P$18<=$E$16,P$21/$E$16,0) -> 0 | U34: =IF(U$18-P$18<=$E$16,P$21/$E$16,0) -> 0 | V34: =IF(V$18-P$18<=$E$16,P$21/$E$16,0) -> 0 | W34: =IF(W$18-P$18<=$E$16,P$21/$E$16,0) -> 0 | X34: =IF(X$18-P$18<=$E$16,P$21/$E$16,0) -> 0 | Y34: =IF(Y$18-P$18<=$E$16,P$21/$E$16,0) -> 0 | Z34: =IF(Z$18-P$18<=$E$16,P$21/$E$16,0) -> 0 | AA34: =IF(AA$18-P$18<=$E$16,P$21/$E$16,0) -> 0 | AB34: =IF(AB$18-P$18<=$E$16,P$21/$E$16,0) -> 0 | AC34: =IF(AC$18-P$18<=$E$16,P$21/$E$16,0) -> 0 | AD34: =IF(AD$18-P$18<=$E$16,P$21/$E$16,0) -> 0 | AE34: =IF(AE$18-P$18<=$E$16,P$21/$E$16,0) -> 0 | AF34: =IF(AF$18-P$18<=$E$16,P$21/$E$16,0) -> 0
D35: 2034 Investment | E35: =NPV($E$15,F35:AO35)*(1+$E$15) -> 0 | R35: =IF(R$18-Q$18<=$E$16,Q$21/$E$16,0) -> 0 | S35: =IF(S$18-Q$18<=$E$16,Q$21/$E$16,0) -> 0 | T35: =IF(T$18-Q$18<=$E$16,Q$21/$E$16,0) -> 0 | U35: =IF(U$18-Q$18<=$E$16,Q$21/$E$16,0) -> 0 | V35: =IF(V$18-Q$18<=$E$16,Q$21/$E$16,0) -> 0 | W35: =IF(W$18-Q$18<=$E$16,Q$21/$E$16,0) -> 0 | X35: =IF(X$18-Q$18<=$E$16,Q$21/$E$16,0) -> 0 | Y35: =IF(Y$18-Q$18<=$E$16,Q$21/$E$16,0) -> 0 | Z35: =IF(Z$18-Q$18<=$E$16,Q$21/$E$16,0) -> 0 | AA35: =IF(AA$18-Q$18<=$E$16,Q$21/$E$16,0) -> 0 | AB35: =IF(AB$18-Q$18<=$E$16,Q$21/$E$16,0) -> 0 | AC35: =IF(AC$18-Q$18<=$E$16,Q$21/$E$16,0) -> 0 | AD35: =IF(AD$18-Q$18<=$E$16,Q$21/$E$16,0) -> 0 | AE35: =IF(AE$18-Q$18<=$E$16,Q$21/$E$16,0) -> 0 | AF35: =IF(AF$18-Q$18<=$E$16,Q$21/$E$16,0) -> 0 | AG35: =IF(AG$18-Q$18<=$E$16,Q$21/$E$16,0) -> 0
D36: 2035 Investment | E36: =NPV($E$15,F36:AO36)*(1+$E$15) -> 0 | S36: =IF(S$18-R$18<=$E$16,R$21/$E$16,0) -> 0 | T36: =IF(T$18-R$18<=$E$16,R$21/$E$16,0) -> 0 | U36: =IF(U$18-R$18<=$E$16,R$21/$E$16,0) -> 0 | V36: =IF(V$18-R$18<=$E$16,R$21/$E$16,0) -> 0 | W36: =IF(W$18-R$18<=$E$16,R$21/$E$16,0) -> 0 | X36: =IF(X$18-R$18<=$E$16,R$21/$E$16,0) -> 0 | Y36: =IF(Y$18-R$18<=$E$16,R$21/$E$16,0) -> 0 | Z36: =IF(Z$18-R$18<=$E$16,R$21/$E$16,0) -> 0 | AA36: =IF(AA$18-R$18<=$E$16,R$21/$E$16,0) -> 0 | AB36: =IF(AB$18-R$18<=$E$16,R$21/$E$16,0) -> 0 | AC36: =IF(AC$18-R$18<=$E$16,R$21/$E$16,0) -> 0 | AD36: =IF(AD$18-R$18<=$E$16,R$21/$E$16,0) -> 0 | AE36: =IF(AE$18-R$18<=$E$16,R$21/$E$16,0) -> 0 | AF36: =IF(AF$18-R$18<=$E$16,R$21/$E$16,0) -> 0 | AG36: =IF(AG$18-R$18<=$E$16,R$21/$E$16,0) -> 0 | AH36: =IF(AH$18-R$18<=$E$16,R$21/$E$16,0) -> 0
D37: 2036 Investment | E37: =NPV($E$15,F37:AO37)*(1+$E$15) -> 0 | T37: =IF(T$18-S$18<=$E$16,S$21/$E$16,0) -> 0 | U37: =IF(U$18-S$18<=$E$16,S$21/$E$16,0) -> 0 | V37: =IF(V$18-S$18<=$E$16,S$21/$E$16,0) -> 0 | W37: =IF(W$18-S$18<=$E$16,S$21/$E$16,0) -> 0 | X37: =IF(X$18-S$18<=$E$16,S$21/$E$16,0) -> 0 | Y37: =IF(Y$18-S$18<=$E$16,S$21/$E$16,0) -> 0 | Z37: =IF(Z$18-S$18<=$E$16,S$21/$E$16,0) -> 0 | AA37: =IF(AA$18-S$18<=$E$16,S$21/$E$16,0) -> 0 | AB37: =IF(AB$18-S$18<=$E$16,S$21/$E$16,0) -> 0 | AC37: =IF(AC$18-S$18<=$E$16,S$21/$E$16,0) -> 0 | AD37: =IF(AD$18-S$18<=$E$16,S$21/$E$16,0) -> 0 | AE37: =IF(AE$18-S$18<=$E$16,S$21/$E$16,0) -> 0 | AF37: =IF(AF$18-S$18<=$E$16,S$21/$E$16,0) -> 0 | AG37: =IF(AG$18-S$18<=$E$16,S$21/$E$16,0) -> 0 | AH37: =IF(AH$18-S$18<=$E$16,S$21/$E$16,0) -> 0 | AI37: =IF(AI$18-S$18<=$E$16,S$21/$E$16,0) -> 0
D38: 2037 Investment | E38: =NPV($E$15,F38:AO38)*(1+$E$15) -> 0 | U38: =IF(U$18-T$18<=$E$16,T$21/$E$16,0) -> 0 | V38: =IF(V$18-T$18<=$E$16,T$21/$E$16,0) -> 0 | W38: =IF(W$18-T$18<=$E$16,T$21/$E$16,0) -> 0 | X38: =IF(X$18-T$18<=$E$16,T$21/$E$16,0) -> 0 | Y38: =IF(Y$18-T$18<=$E$16,T$21/$E$16,0) -> 0 | Z38: =IF(Z$18-T$18<=$E$16,T$21/$E$16,0) -> 0 | AA38: =IF(AA$18-T$18<=$E$16,T$21/$E$16,0) -> 0 | AB38: =IF(AB$18-T$18<=$E$16,T$21/$E$16,0) -> 0 | AC38: =IF(AC$18-T$18<=$E$16,T$21/$E$16,0) -> 0 | AD38: =IF(AD$18-T$18<=$E$16,T$21/$E$16,0) -> 0 | AE38: =IF(AE$18-T$18<=$E$16,T$21/$E$16,0) -> 0 | AF38: =IF(AF$18-T$18<=$E$16,T$21/$E$16,0) -> 0 | AG38: =IF(AG$18-T$18<=$E$16,T$21/$E$16,0) -> 0 | AH38: =IF(AH$18-T$18<=$E$16,T$21/$E$16,0) -> 0 | AI38: =IF(AI$18-T$18<=$E$16,T$21/$E$16,0) -> 0 | AJ38: =IF(AJ$18-T$18<=$E$16,T$21/$E$16,0) -> 0
D39: 2038 Investment | E39: =NPV($E$15,F39:AO39)*(1+$E$15) -> 0 | V39: =IF(V$18-U$18<=$E$16,U$21/$E$16,0) -> 0 | W39: =IF(W$18-U$18<=$E$16,U$21/$E$16,0) -> 0 | X39: =IF(X$18-U$18<=$E$16,U$21/$E$16,0) -> 0 | Y39: =IF(Y$18-U$18<=$E$16,U$21/$E$16,0) -> 0 | Z39: =IF(Z$18-U$18<=$E$16,U$21/$E$16,0) -> 0 | AA39: =IF(AA$18-U$18<=$E$16,U$21/$E$16,0) -> 0 | AB39: =IF(AB$18-U$18<=$E$16,U$21/$E$16,0) -> 0 | AC39: =IF(AC$18-U$18<=$E$16,U$21/$E$16,0) -> 0 | AD39: =IF(AD$18-U$18<=$E$16,U$21/$E$16,0) -> 0 | AE39: =IF(AE$18-U$18<=$E$16,U$21/$E$16,0) -> 0 | AF39: =IF(AF$18-U$18<=$E$16,U$21/$E$16,0) -> 0 | AG39: =IF(AG$18-U$18<=$E$16,U$21/$E$16,0) -> 0 | AH39: =IF(AH$18-U$18<=$E$16,U$21/$E$16,0) -> 0 | AI39: =IF(AI$18-U$18<=$E$16,U$21/$E$16,0) -> 0 | AJ39: =IF(AJ$18-U$18<=$E$16,U$21/$E$16,0) -> 0 | AK39: =IF(AK$18-U$18<=$E$16,U$21/$E$16,0) -> 0
D40: 2039 Investment | E40: =NPV($E$15,F40:AO40)*(1+$E$15) -> 0 | W40: =IF(W$18-V$18<=$E$16,V$21/$E$16,0) -> 0 | X40: =IF(X$18-V$18<=$E$16,V$21/$E$16,0) -> 0 | Y40: =IF(Y$18-V$18<=$E$16,V$21/$E$16,0) -> 0 | Z40: =IF(Z$18-V$18<=$E$16,V$21/$E$16,0) -> 0 | AA40: =IF(AA$18-V$18<=$E$16,V$21/$E$16,0) -> 0 | AB40: =IF(AB$18-V$18<=$E$16,V$21/$E$16,0) -> 0 | AC40: =IF(AC$18-V$18<=$E$16,V$21/$E$16,0) -> 0 | AD40: =IF(AD$18-V$18<=$E$16,V$21/$E$16,0) -> 0 | AE40: =IF(AE$18-V$18<=$E$16,V$21/$E$16,0) -> 0 | AF40: =IF(AF$18-V$18<=$E$16,V$21/$E$16,0) -> 0 | AG40: =IF(AG$18-V$18<=$E$16,V$21/$E$16,0) -> 0 | AH40: =IF(AH$18-V$18<=$E$16,V$21/$E$16,0) -> 0 | AI40: =IF(AI$18-V$18<=$E$16,V$21/$E$16,0) -> 0 | AJ40: =IF(AJ$18-V$18<=$E$16,V$21/$E$16,0) -> 0 | AK40: =IF(AK$18-V$18<=$E$16,V$21/$E$16,0) -> 0 | AL40: =IF(AL$18-V$18<=$E$16,V$21/$E$16,0) -> 0
D41: 2040 Investment | E41: =NPV($E$15,F41:AO41)*(1+$E$15) -> 0 | X41: =IF(X$18-W$18<=$E$16,W$21/$E$16,0) -> 0 | Y41: =IF(Y$18-W$18<=$E$16,W$21/$E$16,0) -> 0 | Z41: =IF(Z$18-W$18<=$E$16,W$21/$E$16,0) -> 0 | AA41: =IF(AA$18-W$18<=$E$16,W$21/$E$16,0) -> 0 | AB41: =IF(AB$18-W$18<=$E$16,W$21/$E$16,0) -> 0 | AC41: =IF(AC$18-W$18<=$E$16,W$21/$E$16,0) -> 0 | AD41: =IF(AD$18-W$18<=$E$16,W$21/$E$16,0) -> 0 | AE41: =IF(AE$18-W$18<=$E$16,W$21/$E$16,0) -> 0 | AF41: =IF(AF$18-W$18<=$E$16,W$21/$E$16,0) -> 0 | AG41: =IF(AG$18-W$18<=$E$16,W$21/$E$16,0) -> 0 | AH41: =IF(AH$18-W$18<=$E$16,W$21/$E$16,0) -> 0 | AI41: =IF(AI$18-W$18<=$E$16,W$21/$E$16,0) -> 0 | AJ41: =IF(AJ$18-W$18<=$E$16,W$21/$E$16,0) -> 0 | AK41: =IF(AK$18-W$18<=$E$16,W$21/$E$16,0) -> 0 | AL41: =IF(AL$18-W$18<=$E$16,W$21/$E$16,0) -> 0 | AM41: =IF(AM$18-W$18<=$E$16,W$21/$E$16,0) -> 0
...

Sheet Xp20
A1: Enbridge: Amortization Analysis
A2: Tax as Capital Investment
D3: Scenario: | E3: Cost Recovery | G3: Expense | I3: Amortization Cost of Capital | L3: WACC
E4: Portfolio Horizon | G4: 20 | H4: years | I4: Amortiztion Life | L4: 10 | M4: years
B6: Background Data
C7: DSM Portfolio | F7: 2023 | G7: 2024 | H7: 2025 | I7: 2026 | J7: =I7+1 -> 2027 | K7: =J7+1 -> 2028 | L7: =K7+1 -> 2029 | M7: =L7+1 -> 2030 | N7: =M7+1 -> 2031 | O7: =N7+1 -> 2032 | P7: =O7+1 -> 2033 | Q7: =P7+1 -> 2034 | ... AO7: =AN7+1 -> 2058
D8: Investment (millions) | F8: ='Portfolio$'!E6/10^6 -> 142.26 | G8: =IF(G7-$F$7+1>$G$4,0,'Portfolio$'!F6/10^6) -> 148.8222 | H8: =IF(H7-$F$7+1>$G$4,0,'Portfolio$'!G6/10^6) -> 155.70149 | I8: =IF(I7-$F$7+1>$G$4,0,'Portfolio$'!H6/10^6) -> 162.91352 | J8: =IF(J7-$F$7+1>$G$4,0,'Portfolio$'!I6/10^6) -> 170.47468 | K8: =IF(K7-$F$7+1>$G$4,0,J8*1.02) -> 173.88417 | L8: =IF(L7-$F$7+1>$G$4,0,K8*1.02) -> 177.36186 | M8: =IF(M7-$F$7+1>$G$4,0,L8*1.02) -> 180.90909 | N8: =IF(N7-$F$7+1>$G$4,0,M8*1.02) -> 184.52728 | O8: =IF(O7-$F$7+1>$G$4,0,N8*1.02) -> 188.21782 | P8: =IF(P7-$F$7+1>$G$4,0,O8*1.02) -> 191.98218 | Q8: =IF(Q7-$F$7+1>$G$4,0,P8*1.02) -> 195.82182 | R8: =IF(R7-$F$7+1>$G$4,0,Q8*1.02) -> 199.73826 | ... Y8: =IF(Y7-$F$7+1>$G$4,0,X8*1.02) -> 229.43647
C9: Enbridge Capital Structure | F9: Capitalization | G9: After-Tax Return | H9: Weighted | J9: Pre-Tax Return | K9: Weighted
D10: Debt | F10: 0.64 | G10: 0.04 | H10: =F10*G10 -> 0.0256 | J10: 0.04 | K10: =$F10*J10 -> 0.0256
D11: Equity | F11: 0.36 | G11: 0.09 | H11: =F11*G11 -> 0.0324 | J11: =G11*H14 -> 0.12244898 | K11: =$F11*J11 -> 0.044081633
D12: WACC-After-Tax | F12: =SUM(F10:F11) -> 1 | H12: =SUM(H10:H11) -> 0.058 | K12: =SUM(K10:K11) -> 0.069681633
D13: Combined Income Tax Rate | H13: 0.265
D14: Tax Gross Up Factor | H14: =1/(1-H13) -> 1.3605442
C15: Discount Rate | E15: =K12 -> 0.069681633
C16: Amortization Term | E16: =L4 -> 10 | F16: years
B17: Revenue Requirement Calcs
E18: NPV | F18: =F7 -> 2023 | G18: =F18+1 -> 2024 | H18: =G18+1 -> 2025 | I18: =H18+1 -> 2026 | J18: =I18+1 -> 2027 | K18: =J18+1 -> 2028 | L18: =K18+1 -> 2029 | M18: =L18+1 -> 2030 | N18: =M18+1 -> 2031 | ... AO18: =AN18+1 -> 2058
C19: Expenses | E19: =NPV($E$15,F19:AO19)*(1+$E$15) -> 2044.1909 | F19: =IF($G$3="Expense",F8,0) -> 142.26 | G19: =IF($G$3="Expense",G8,0) -> 148.8222 | H19: =IF($G$3="Expense",H8,0) -> 155.70149 | I19: =IF($G$3="Expense",I8,0) -> 162.91352 | J19: =IF($G$3="Expense",J8,0) -> 170.47468 | K19: =IF($G$3="Expense",K8,0) -> 173.88417 | L19: =IF($G$3="Expense",L8,0) -> 177.36186 | M19: =IF($G$3="Expense",M8,0) -> 180.90909 | ... Y19: =IF($G$3="Expense",Y8,0) -> 229.43647
C20: Rate Base
D21: Additions To Rate Base | E21: =NPV($E$15,F21:AO21)*(1+$E$15) -> 0 | F21: =F8-F19 -> 0 | G21: =G8-G19 -> 0 | H21: =H8-H19 -> 0 | I21: =I8-I19 -> 0 | J21: =J8-J19 -> 0 | K21: =K8-K19 -> 0 | L21: =L8-L19 -> 0 | M21: =M8-M19 -> 0 | ... Y21: =Y8-Y19 -> 0
D22: Unamortized Balance (EOY) | F22: =E22+F21-F44 -> 0 | G22: =F22+G21-G44 -> 0 | H22: =G22+H21-H44 -> 0 | I22: =H22+I21-I44 -> 0 | J22: =I22+J21-J44 -> 0 | K22: =J22+K21-K44 -> 0 | L22: =K22+L21-L44 -> 0 | M22: =L22+M21-M44 -> 0 | ... AO22: =AN22+AO21-AO44 -> 0
C23: Amortization
D24: 2023 Investment | E24: =NPV($E$15,F24:AO24)*(1+$E$15) -> 0 | G24: =IF(G$18-F$18<=$E$16,F$21/$E$16,0) -> 0 | H24: =IF(H$18-F$18<=$E$16,F$21/$E$16,0) -> 0 | I24: =IF(I$18-F$18<=$E$16,F$21/$E$16,0) -> 0 | J24: =IF(J$18-F$18<=$E$16,F$21/$E$16,0) -> 0 | K24: =IF(K$18-F$18<=$E$16,F$21/$E$16,0) -> 0 | L24: =IF(L$18-F$18<=$E$16,F$21/$E$16,0) -> 0 | M24: =IF(M$18-F$18<=$E$16,F$21/$E$16,0) -> 0 | N24: =IF(N$18-F$18<=$E$16,F$21/$E$16,0) -> 0 | O24: =IF(O$18-F$18<=$E$16,F$21/$E$16,0) -> 0 | P24: =IF(P$18-F$18<=$E$16,F$21/$E$16,0) -> 0 | Q24: =IF(Q$18-F$18<=$E$16,F$21/$E$16,0) -> 0 | R24: =IF(R$18-F$18<=$E$16,F$21/$E$16,0) -> 0 | S24: =IF(S$18-F$18<=$E$16,F$21/$E$16,0) -> 0 | T24: =IF(T$18-F$18<=$E$16,F$21/$E$16,0) -> 0 | U24: =IF(U$18-F$18<=$E$16,F$21/$E$16,0) -> 0 | V24: =IF(V$18-F$18<=$E$16,F$21/$E$16,0) -> 0
D25: 2024 Investment | E25: =NPV($E$15,F25:AO25)*(1+$E$15) -> 0 | H25: =IF(H$18-G$18<=$E$16,G$21/$E$16,0) -> 0 | I25: =IF(I$18-G$18<=$E$16,G$21/$E$16,0) -> 0 | J25: =IF(J$18-G$18<=$E$16,G$21/$E$16,0) -> 0 | K25: =IF(K$18-G$18<=$E$16,G$21/$E$16,0) -> 0 | L25: =IF(L$18-G$18<=$E$16,G$21/$E$16,0) -> 0 | M25: =IF(M$18-G$18<=$E$16,G$21/$E$16,0) -> 0 | N25: =IF(N$18-G$18<=$E$16,G$21/$E$16,0) -> 0 | O25: =IF(O$18-G$18<=$E$16,G$21/$E$16,0) -> 0 | P25: =IF(P$18-G$18<=$E$16,G$21/$E$16,0) -> 0 | Q25: =IF(Q$18-G$18<=$E$16,G$21/$E$16,0) -> 0 | R25: =IF(R$18-G$18<=$E$16,G$21/$E$16,0) -> 0 | S25: =IF(S$18-G$18<=$E$16,G$21/$E$16,0) -> 0 | T25: =IF(T$18-G$18<=$E$16,G$21/$E$16,0) -> 0 | U25: =IF(U$18-G$18<=$E$16,G$21/$E$16,0) -> 0 | V25: =IF(V$18-G$18<=$E$16,G$21/$E$16,0) -> 0 | W25: =IF(W$18-G$18<=$E$16,G$21/$E$16,0) -> 0
D26: 2025 Investment | E26: =NPV($E$15,F26:AO26)*(1+$E$15) -> 0 | I26: =IF(I$18-H$18<=$E$16,H$21/$E$16,0) -> 0 | J26: =IF(J$18-H$18<=$E$16,H$21/$E$16,0) -> 0 | K26: =IF(K$18-H$18<=$E$16,H$21/$E$16,0) -> 0 | L26: =IF(L$18-H$18<=$E$16,H$21/$E$16,0) -> 0 | M26: =IF(M$18-H$18<=$E$16,H$21/$E$16,0) -> 0 | N26: =IF(N$18-H$18<=$E$16,H$21/$E$16,0) -> 0 | O26: =IF(O$18-H$18<=$E$16,H$21/$E$16,0) -> 0 | P26: =IF(P$18-H$18<=$E$16,H$21/$E$16,0) -> 0 | Q26: =IF(Q$18-H$18<=$E$16,H$21/$E$16,0) -> 0 | R26: =IF(R$18-H$18<=$E$16,H$21/$E$16,0) -> 0 | S26: =IF(S$18-H$18<=$E$16,H$21/$E$16,0) -> 0 | T26: =IF(T$18-H$18<=$E$16,H$21/$E$16,0) -> 0 | U26: =IF(U$18-H$18<=$E$16,H$21/$E$16,0) -> 0 | V26: =IF(V$18-H$18<=$E$16,H$21/$E$16,0) -> 0 | W26: =IF(W$18-H$18<=$E$16,H$21/$E$16,0) -> 0 | X26: =IF(X$18-H$18<=$E$16,H$21/$E$16,0) -> 0
D27: 2026 Investment | E27: =NPV($E$15,F27:AO27)*(1+$E$15) -> 0 | J27: =IF(J$18-I$18<=$E$16,I$21/$E$16,0) -> 0 | K27: =IF(K$18-I$18<=$E$16,I$21/$E$16,0) -> 0 | L27: =IF(L$18-I$18<=$E$16,I$21/$E$16,0) -> 0 | M27: =IF(M$18-I$18<=$E$16,I$21/$E$16,0) -> 0 | N27: =IF(N$18-I$18<=$E$16,I$21/$E$16,0) -> 0 | O27: =IF(O$18-I$18<=$E$16,I$21/$E$16,0) -> 0 | P27: =IF(P$18-I$18<=$E$16,I$21/$E$16,0) -> 0 | Q27: =IF(Q$18-I$18<=$E$16,I$21/$E$16,0) -> 0 | R27: =IF(R$18-I$18<=$E$16,I$21/$E$16,0) -> 0 | S27: =IF(S$18-I$18<=$E$16,I$21/$E$16,0) -> 0 | T27: =IF(T$18-I$18<=$E$16,I$21/$E$16,0) -> 0 | U27: =IF(U$18-I$18<=$E$16,I$21/$E$16,0) -> 0 | V27: =IF(V$18-I$18<=$E$16,I$21/$E$16,0) -> 0 | W27: =IF(W$18-I$18<=$E$16,I$21/$E$16,0) -> 0 | X27: =IF(X$18-I$18<=$E$16,I$21/$E$16,0) -> 0 | Y27: =IF(Y$18-I$18<=$E$16,I$21/$E$16,0) -> 0
D28: 2027 Investment | E28: =NPV($E$15,F28:AO28)*(1+$E$15) -> 0 | K28: =IF(K$18-J$18<=$E$16,J$21/$E$16,0) -> 0 | L28: =IF(L$18-J$18<=$E$16,J$21/$E$16,0) -> 0 | M28: =IF(M$18-J$18<=$E$16,J$21/$E$16,0) -> 0 | N28: =IF(N$18-J$18<=$E$16,J$21/$E$16,0) -> 0 | O28: =IF(O$18-J$18<=$E$16,J$21/$E$16,0) -> 0 | P28: =IF(P$18-J$18<=$E$16,J$21/$E$16,0) -> 0 | Q28: =IF(Q$18-J$18<=$E$16,J$21/$E$16,0) -> 0 | R28: =IF(R$18-J$18<=$E$16,J$21/$E$16,0) -> 0 | S28: =IF(S$18-J$18<=$E$16,J$21/$E$16,0) -> 0 | T28: =IF(T$18-J$18<=$E$16,J$21/$E$16,0) -> 0 | U28: =IF(U$18-J$18<=$E$16,J$21/$E$16,0) -> 0 | V28: =IF(V$18-J$18<=$E$16,J$21/$E$16,0) -> 0 | W28: =IF(W$18-J$18<=$E$16,J$21/$E$16,0) -> 0 | X28: =IF(X$18-J$18<=$E$16,J$21/$E$16,0) -> 0 | Y28: =IF(Y$18-J$18<=$E$16,J$21/$E$16,0) -> 0 | Z28: =IF(Z$18-J$18<=$E$16,J$21/$E$16,0) -> 0
D29: 2028 Investment | E29: =NPV($E$15,F29:AO29)*(1+$E$15) -> 0 | L29: =IF(L$18-K$18<=$E$16,K$21/$E$16,0) -> 0 | M29: =IF(M$18-K$18<=$E$16,K$21/$E$16,0) -> 0 | N29: =IF(N$18-K$18<=$E$16,K$21/$E$16,0) -> 0 | O29: =IF(O$18-K$18<=$E$16,K$21/$E$16,0) -> 0 | P29: =IF(P$18-K$18<=$E$16,K$21/$E$16,0) -> 0 | Q29: =IF(Q$18-K$18<=$E$16,K$21/$E$16,0) -> 0 | R29: =IF(R$18-K$18<=$E$16,K$21/$E$16,0) -> 0 | S29: =IF(S$18-K$18<=$E$16,K$21/$E$16,0) -> 0 | T29: =IF(T$18-K$18<=$E$16,K$21/$E$16,0) -> 0 | U29: =IF(U$18-K$18<=$E$16,K$21/$E$16,0) -> 0 | V29: =IF(V$18-K$18<=$E$16,K$21/$E$16,0) -> 0 | W29: =IF(W$18-K$18<=$E$16,K$21/$E$16,0) -> 0 | X29: =IF(X$18-K$18<=$E$16,K$21/$E$16,0) -> 0 | Y29: =IF(Y$18-K$18<=$E$16,K$21/$E$16,0) -> 0 | Z29: =IF(Z$18-K$18<=$E$16,K$21/$E$16,0) -> 0 | AA29: =IF(AA$18-K$18<=$E$16,K$21/$E$16,0) -> 0
D30: 2029 Investment | E30: =NPV($E$15,F30:AO30)*(1+$E$15) -> 0 | M30: =IF(M$18-L$18<=$E$16,L$21/$E$16,0) -> 0 | N30: =IF(N$18-L$18<=$E$16,L$21/$E$16,0) -> 0 | O30: =IF(O$18-L$18<=$E$16,L$21/$E$16,0) -> 0 | P30: =IF(P$18-L$18<=$E$16,L$21/$E$16,0) -> 0 | Q30: =IF(Q$18-L$18<=$E$16,L$21/$E$16,0) -> 0 | R30: =IF(R$18-L$18<=$E$16,L$21/$E$16,0) -> 0 | S30: =IF(S$18-L$18<=$E$16,L$21/$E$16,0) -> 0 | T30: =IF(T$18-L$18<=$E$16,L$21/$E$16,0) -> 0 | U30: =IF(U$18-L$18<=$E$16,L$21/$E$16,0) -> 0 | V30: =IF(V$18-L$18<=$E$16,L$21/$E$16,0) -> 0 | W30: =IF(W$18-L$18<=$E$16,L$21/$E$16,0) -> 0 | X30: =IF(X$18-L$18<=$E$16,L$21/$E$16,0) -> 0 | Y30: =IF(Y$18-L$18<=$E$16,L$21/$E$16,0) -> 0 | Z30: =IF(Z$18-L$18<=$E$16,L$21/$E$16,0) -> 0 | AA30: =IF(AA$18-L$18<=$E$16,L$21/$E$16,0) -> 0 | AB30: =IF(AB$18-L$18<=$E$16,L$21/$E$16,0) -> 0
D31: 2030 Investment | E31: =NPV($E$15,F31:AO31)*(1+$E$15) -> 0 | N31: =IF(N$18-M$18<=$E$16,M$21/$E$16,0) -> 0 | O31: =IF(O$18-M$18<=$E$16,M$21/$E$16,0) -> 0 | P31: =IF(P$18-M$18<=$E$16,M$21/$E$16,0) -> 0 | Q31: =IF(Q$18-M$18<=$E$16,M$21/$E$16,0) -> 0 | R31: =IF(R$18-M$18<=$E$16,M$21/$E$16,0) -> 0 | S31: =IF(S$18-M$18<=$E$16,M$21/$E$16,0) -> 0 | T31: =IF(T$18-M$18<=$E$16,M$21/$E$16,0) -> 0 | U31: =IF(U$18-M$18<=$E$16,M$21/$E$16,0) -> 0 | V31: =IF(V$18-M$18<=$E$16,M$21/$E$16,0) -> 0 | W31: =IF(W$18-M$18<=$E$16,M$21/$E$16,0) -> 0 | X31: =IF(X$18-M$18<=$E$16,M$21/$E$16,0) -> 0 | Y31: =IF(Y$18-M$18<=$E$16,M$21/$E$16,0) -> 0 | Z31: =IF(Z$18-M$18<=$E$16,M$21/$E$16,0) -> 0 | AA31: =IF(AA$18-M$18<=$E$16,M$21/$E$16,0) -> 0 | AB31: =IF(AB$18-M$18<=$E$16,M$21/$E$16,0) -> 0 | AC31: =IF(AC$18-M$18<=$E$16,M$21/$E$16,0) -> 0
D32: 2031 Investment | E32: =NPV($E$15,F32:AO32)*(1+$E$15) -> 0 | O32: =IF(O$18-N$18<=$E$16,N$21/$E$16,0) -> 0 | P32: =IF(P$18-N$18<=$E$16,N$21/$E$16,0) -> 0 | Q32: =IF(Q$18-N$18<=$E$16,N$21/$E$16,0) -> 0 | R32: =IF(R$18-N$18<=$E$16,N$21/$E$16,0) -> 0 | S32: =IF(S$18-N$18<=$E$16,N$21/$E$16,0) -> 0 | T32: =IF(T$18-N$18<=$E$16,N$21/$E$16,0) -> 0 | U32: =IF(U$18-N$18<=$E$16,N$21/$E$16,0) -> 0 | V32: =IF(V$18-N$18<=$E$16,N$21/$E$16,0) -> 0 | W32: =IF(W$18-N$18<=$E$16,N$21/$E$16,0) -> 0 | X32: =IF(X$18-N$18<=$E$16,N$21/$E$16,0) -> 0 | Y32: =IF(Y$18-N$18<=$E$16,N$21/$E$16,0) -> 0 | Z32: =IF(Z$18-N$18<=$E$16,N$21/$E$16,0) -> 0 | AA32: =IF(AA$18-N$18<=$E$16,N$21/$E$16,0) -> 0 | AB32: =IF(AB$18-N$18<=$E$16,N$21/$E$16,0) -> 0 | AC32: =IF(AC$18-N$18<=$E$16,N$21/$E$16,0) -> 0 | AD32: =IF(AD$18-N$18<=$E$16,N$21/$E$16,0) -> 0
D33: 2032 Investment | E33: =NPV($E$15,F33:AO33)*(1+$E$15) -> 0 | P33: =IF(P$18-O$18<=$E$16,O$21/$E$16,0) -> 0 | Q33: =IF(Q$18-O$18<=$E$16,O$21/$E$16,0) -> 0 | R33: =IF(R$18-O$18<=$E$16,O$21/$E$16,0) -> 0 | S33: =IF(S$18-O$18<=$E$16,O$21/$E$16,0) -> 0 | T33: =IF(T$18-O$18<=$E$16,O$21/$E$16,0) -> 0 | U33: =IF(U$18-O$18<=$E$16,O$21/$E$16,0) -> 0 | V33: =IF(V$18-O$18<=$E$16,O$21/$E$16,0) -> 0 | W33: =IF(W$18-O$18<=$E$16,O$21/$E$16,0) -> 0 | X33: =IF(X$18-O$18<=$E$16,O$21/$E$16,0) -> 0 | Y33: =IF(Y$18-O$18<=$E$16,O$21/$E$16,0) -> 0 | Z33: =IF(Z$18-O$18<=$E$16,O$21/$E$16,0) -> 0 | AA33: =IF(AA$18-O$18<=$E$16,O$21/$E$16,0) -> 0 | AB33: =IF(AB$18-O$18<=$E$16,O$21/$E$16,0) -> 0 | AC33: =IF(AC$18-O$18<=$E$16,O$21/$E$16,0) -> 0 | AD33: =IF(AD$18-O$18<=$E$16,O$21/$E$16,0) -> 0 | AE33: =IF(AE$18-O$18<=$E$16,O$21/$E$16,0) -> 0
D34: 2033 Investment | E34: =NPV($E$15,F34:AO34)*(1+$E$15) -> 0 | Q34: =IF(Q$18-P$18<=$E$16,P$21/$E$16,0) -> 0 | R34: =IF(R$18-P$18<=$E$16,P$21/$E$16,0) -> 0 | S34: =IF(S$18-P$18<=$E$16,P$21/$E$16,0) -> 0 | T34: =IF(T$18-P$18<=$E$16,P$21/$E$16,0) -> 0 | U34: =IF(U$18-P$18<=$E$16,P$21/$E$16,0) -> 0 | V34: =IF(V$18-P$18<=$E$16,P$21/$E$16,0) -> 0 | W34: =IF(W$18-P$18<=$E$16,P$21/$E$16,0) -> 0 | X34: =IF(X$18-P$18<=$E$16,P$21/$E$16,0) -> 0 | Y34: =IF(Y$18-P$18<=$E$16,P$21/$E$16,0) -> 0 | Z34: =IF(Z$18-P$18<=$E$16,P$21/$E$16,0) -> 0 | AA34: =IF(AA$18-P$18<=$E$16,P$21/$E$16,0) -> 0 | AB34: =IF(AB$18-P$18<=$E$16,P$21/$E$16,0) -> 0 | AC34: =IF(AC$18-P$18<=$E$16,P$21/$E$16,0) -> 0 | AD34: =IF(AD$18-P$18<=$E$16,P$21/$E$16,0) -> 0 | AE34: =IF(AE$18-P$18<=$E$16,P$21/$E$16,0) -> 0 | AF34: =IF(AF$18-P$18<=$E$16,P$21/$E$16,0) -> 0
D35: 2034 Investment | E35: =NPV($E$15,F35:AO35)*(1+$E$15) -> 0 | R35: =IF(R$18-Q$18<=$E$16,Q$21/$E$16,0) -> 0 | S35: =IF(S$18-Q$18<=$E$16,Q$21/$E$16,0) -> 0 | T35: =IF(T$18-Q$18<=$E$16,Q$21/$E$16,0) -> 0 | U35: =IF(U$18-Q$18<=$E$16,Q$21/$E$16,0) -> 0 | V35: =IF(V$18-Q$18<=$E$16,Q$21/$E$16,0) -> 0 | W35: =IF(W$18-Q$18<=$E$16,Q$21/$E$16,0) -> 0 | X35: =IF(X$18-Q$18<=$E$16,Q$21/$E$16,0) -> 0 | Y35: =IF(Y$18-Q$18<=$E$16,Q$21/$E$16,0) -> 0 | Z35: =IF(Z$18-Q$18<=$E$16,Q$21/$E$16,0) -> 0 | AA35: =IF(AA$18-Q$18<=$E$16,Q$21/$E$16,0) -> 0 | AB35: =IF(AB$18-Q$18<=$E$16,Q$21/$E$16,0) -> 0 | AC35: =IF(AC$18-Q$18<=$E$16,Q$21/$E$16,0) -> 0 | AD35: =IF(AD$18-Q$18<=$E$16,Q$21/$E$16,0) -> 0 | AE35: =IF(AE$18-Q$18<=$E$16,Q$21/$E$16,0) -> 0 | AF35: =IF(AF$18-Q$18<=$E$16,Q$21/$E$16,0) -> 0 | AG35: =IF(AG$18-Q$18<=$E$16,Q$21/$E$16,0) -> 0
D36: 2035 Investment | E36: =NPV($E$15,F36:AO36)*(1+$E$15) -> 0 | S36: =IF(S$18-R$18<=$E$16,R$21/$E$16,0) -> 0 | T36: =IF(T$18-R$18<=$E$16,R$21/$E$16,0) -> 0 | U36: =IF(U$18-R$18<=$E$16,R$21/$E$16,0) -> 0 | V36: =IF(V$18-R$18<=$E$16,R$21/$E$16,0) -> 0 | W36: =IF(W$18-R$18<=$E$16,R$21/$E$16,0) -> 0 | X36: =IF(X$18-R$18<=$E$16,R$21/$E$16,0) -> 0 | Y36: =IF(Y$18-R$18<=$E$16,R$21/$E$16,0) -> 0 | Z36: =IF(Z$18-R$18<=$E$16,R$21/$E$16,0) -> 0 | AA36: =IF(AA$18-R$18<=$E$16,R$21/$E$16,0) -> 0 | AB36: =IF(AB$18-R$18<=$E$16,R$21/$E$16,0) -> 0 | AC36: =IF(AC$18-R$18<=$E$16,R$21/$E$16,0) -> 0 | AD36: =IF(AD$18-R$18<=$E$16,R$21/$E$16,0) -> 0 | AE36: =IF(AE$18-R$18<=$E$16,R$21/$E$16,0) -> 0 | AF36: =IF(AF$18-R$18<=$E$16,R$21/$E$16,0) -> 0 | AG36: =IF(AG$18-R$18<=$E$16,R$21/$E$16,0) -> 0 | AH36: =IF(AH$18-R$18<=$E$16,R$21/$E$16,0) -> 0
D37: 2036 Investment | E37: =NPV($E$15,F37:AO37)*(1+$E$15) -> 0 | T37: =IF(T$18-S$18<=$E$16,S$21/$E$16,0) -> 0 | U37: =IF(U$18-S$18<=$E$16,S$21/$E$16,0) -> 0 | V37: =IF(V$18-S$18<=$E$16,S$21/$E$16,0) -> 0 | W37: =IF(W$18-S$18<=$E$16,S$21/$E$16,0) -> 0 | X37: =IF(X$18-S$18<=$E$16,S$21/$E$16,0) -> 0 | Y37: =IF(Y$18-S$18<=$E$16,S$21/$E$16,0) -> 0 | Z37: =IF(Z$18-S$18<=$E$16,S$21/$E$16,0) -> 0 | AA37: =IF(AA$18-S$18<=$E$16,S$21/$E$16,0) -> 0 | AB37: =IF(AB$18-S$18<=$E$16,S$21/$E$16,0) -> 0 | AC37: =IF(AC$18-S$18<=$E$16,S$21/$E$16,0) -> 0 | AD37: =IF(AD$18-S$18<=$E$16,S$21/$E$16,0) -> 0 | AE37: =IF(AE$18-S$18<=$E$16,S$21/$E$16,0) -> 0 | AF37: =IF(AF$18-S$18<=$E$16,S$21/$E$16,0) -> 0 | AG37: =IF(AG$18-S$18<=$E$16,S$21/$E$16,0) -> 0 | AH37: =IF(AH$18-S$18<=$E$16,S$21/$E$16,0) -> 0 | AI37: =IF(AI$18-S$18<=$E$16,S$21/$E$16,0) -> 0
D38: 2037 Investment | E38: =NPV($E$15,F38:AO38)*(1+$E$15) -> 0 | U38: =IF(U$18-T$18<=$E$16,T$21/$E$16,0) -> 0 | V38: =IF(V$18-T$18<=$E$16,T$21/$E$16,0) -> 0 | W38: =IF(W$18-T$18<=$E$16,T$21/$E$16,0) -> 0 | X38: =IF(X$18-T$18<=$E$16,T$21/$E$16,0) -> 0 | Y38: =IF(Y$18-T$18<=$E$16,T$21/$E$16,0) -> 0 | Z38: =IF(Z$18-T$18<=$E$16,T$21/$E$16,0) -> 0 | AA38: =IF(AA$18-T$18<=$E$16,T$21/$E$16,0) -> 0 | AB38: =IF(AB$18-T$18<=$E$16,T$21/$E$16,0) -> 0 | AC38: =IF(AC$18-T$18<=$E$16,T$21/$E$16,0) -> 0 | AD38: =IF(AD$18-T$18<=$E$16,T$21/$E$16,0) -> 0 | AE38: =IF(AE$18-T$18<=$E$16,T$21/$E$16,0) -> 0 | AF38: =IF(AF$18-T$18<=$E$16,T$21/$E$16,0) -> 0 | AG38: =IF(AG$18-T$18<=$E$16,T$21/$E$16,0) -> 0 | AH38: =IF(AH$18-T$18<=$E$16,T$21/$E$16,0) -> 0 | AI38: =IF(AI$18-T$18<=$E$16,T$21/$E$16,0) -> 0 | AJ38: =IF(AJ$18-T$18<=$E$16,T$21/$E$16,0) -> 0
D39: 2038 Investment | E39: =NPV($E$15,F39:AO39)*(1+$E$15) -> 0 | V39: =IF(V$18-U$18<=$E$16,U$21/$E$16,0) -> 0 | W39: =IF(W$18-U$18<=$E$16,U$21/$E$16,0) -> 0 | X39: =IF(X$18-U$18<=$E$16,U$21/$E$16,0) -> 0 | Y39: =IF(Y$18-U$18<=$E$16,U$21/$E$16,0) -> 0 | Z39: =IF(Z$18-U$18<=$E$16,U$21/$E$16,0) -> 0 | AA39: =IF(AA$18-U$18<=$E$16,U$21/$E$16,0) -> 0 | AB39: =IF(AB$18-U$18<=$E$16,U$21/$E$16,0) -> 0 | AC39: =IF(AC$18-U$18<=$E$16,U$21/$E$16,0) -> 0 | AD39: =IF(AD$18-U$18<=$E$16,U$21/$E$16,0) -> 0 | AE39: =IF(AE$18-U$18<=$E$16,U$21/$E$16,0) -> 0 | AF39: =IF(AF$18-U$18<=$E$16,U$21/$E$16,0) -> 0 | AG39: =IF(AG$18-U$18<=$E$16,U$21/$E$16,0) -> 0 | AH39: =IF(AH$18-U$18<=$E$16,U$21/$E$16,0) -> 0 | AI39: =IF(AI$18-U$18<=$E$16,U$21/$E$16,0) -> 0 | AJ39: =IF(AJ$18-U$18<=$E$16,U$21/$E$16,0) -> 0 | AK39: =IF(AK$18-U$18<=$E$16,U$21/$E$16,0) -> 0
D40: 2039 Investment | E40: =NPV($E$15,F40:AO40)*(1+$E$15) -> 0 | W40: =IF(W$18-V$18<=$E$16,V$21/$E$16,0) -> 0 | X40: =IF(X$18-V$18<=$E$16,V$21/$E$16,0) -> 0 | Y40: =IF(Y$18-V$18<=$E$16,V$21/$E$16,0) -> 0 | Z40: =IF(Z$18-V$18<=$E$16,V$21/$E$16,0) -> 0 | AA40: =IF(AA$18-V$18<=$E$16,V$21/$E$16,0) -> 0 | AB40: =IF(AB$18-V$18<=$E$16,V$21/$E$16,0) -> 0 | AC40: =IF(AC$18-V$18<=$E$16,V$21/$E$16,0) -> 0 | AD40: =IF(AD$18-V$18<=$E$16,V$21/$E$16,0) -> 0 | AE40: =IF(AE$18-V$18<=$E$16,V$21/$E$16,0) -> 0 | AF40: =IF(AF$18-V$18<=$E$16,V$21/$E$16,0) -> 0 | AG40: =IF(AG$18-V$18<=$E$16,V$21/$E$16,0) -> 0 | AH40: =IF(AH$18-V$18<=$E$16,V$21/$E$16,0) -> 0 | AI40: =IF(AI$18-V$18<=$E$16,V$21/$E$16,0) -> 0 | AJ40: =IF(AJ$18-V$18<=$E$16,V$21/$E$16,0) -> 0 | AK40: =IF(AK$18-V$18<=$E$16,V$21/$E$16,0) -> 0 | AL40: =IF(AL$18-V$18<=$E$16,V$21/$E$16,0) -> 0
D41: 2040 Investment | E41: =NPV($E$15,F41:AO41)*(1+$E$15) -> 0 | X41: =IF(X$18-W$18<=$E$16,W$21/$E$16,0) -> 0 | Y41: =IF(Y$18-W$18<=$E$16,W$21/$E$16,0) -> 0 | Z41: =IF(Z$18-W$18<=$E$16,W$21/$E$16,0) -> 0 | AA41: =IF(AA$18-W$18<=$E$16,W$21/$E$16,0) -> 0 | AB41: =IF(AB$18-W$18<=$E$16,W$21/$E$16,0) -> 0 | AC41: =IF(AC$18-W$18<=$E$16,W$21/$E$16,0) -> 0 | AD41: =IF(AD$18-W$18<=$E$16,W$21/$E$16,0) -> 0 | AE41: =IF(AE$18-W$18<=$E$16,W$21/$E$16,0) -> 0 | AF41: =IF(AF$18-W$18<=$E$16,W$21/$E$16,0) -> 0 | AG41: =IF(AG$18-W$18<=$E$16,W$21/$E$16,0) -> 0 | AH41: =IF(AH$18-W$18<=$E$16,W$21/$E$16,0) -> 0 | AI41: =IF(AI$18-W$18<=$E$16,W$21/$E$16,0) -> 0 | AJ41: =IF(AJ$18-W$18<=$E$16,W$21/$E$16,0) -> 0 | AK41: =IF(AK$18-W$18<=$E$16,W$21/$E$16,0) -> 0 | AL41: =IF(AL$18-W$18<=$E$16,W$21/$E$16,0) -> 0 | AM41: =IF(AM$18-W$18<=$E$16,W$21/$E$16,0) -> 0
...

Sheet Am1-10yr
A1: Enbridge: Amortization Analysis
A2: Tax as Capital Investment
D3: Scenario: | E3: Cost Recovery | G3: Amortize | I3: Amortization Cost of Capital | L3: WACC
E4: Portfolio Horizon | G4: 1 | H4: years | I4: Amortiztion Life | L4: 10 | M4: years
B6: Background Data
C7: DSM Portfolio | F7: 2023 | G7: 2024 | H7: 2025 | I7: 2026 | J7: =I7+1 -> 2027 | K7: =J7+1 -> 2028 | L7: =K7+1 -> 2029 | M7: =L7+1 -> 2030 | N7: =M7+1 -> 2031 | O7: =N7+1 -> 2032 | P7: =O7+1 -> 2033 | Q7: =P7+1 -> 2034 | ... AO7: =AN7+1 -> 2058
D8: Investment (millions) | F8: ='Portfolio$'!E6/10^6 -> 142.26 | G8: =IF(G7-$F$7+1>$G$4,0,'Portfolio$'!F6/10^6) -> 0 | H8: =IF(H7-$F$7+1>$G$4,0,'Portfolio$'!G6/10^6) -> 0 | I8: =IF(I7-$F$7+1>$G$4,0,'Portfolio$'!H6/10^6) -> 0 | J8: =IF(J7-$F$7+1>$G$4,0,'Portfolio$'!I6/10^6) -> 0 | K8: =IF(K7-$F$7+1>$G$4,0,J8*1.02) -> 0 | L8: =IF(L7-$F$7+1>$G$4,0,K8*1.02) -> 0 | M8: =IF(M7-$F$7+1>$G$4,0,L8*1.02) -> 0 | N8: =IF(N7-$F$7+1>$G$4,0,M8*1.02) -> 0 | O8: =IF(O7-$F$7+1>$G$4,0,N8*1.02) -> 0 | P8: =IF(P7-$F$7+1>$G$4,0,O8*1.02) -> 0 | Q8: =IF(Q7-$F$7+1>$G$4,0,P8*1.02) -> 0 | R8: =IF(R7-$F$7+1>$G$4,0,Q8*1.02) -> 0 | ... Y8: =IF(Y7-$F$7+1>$G$4,0,X8*1.02) -> 0
C9: Enbridge Capital Structure | F9: Capitalization | G9: After-Tax Return | H9: Weighted | J9: Pre-Tax Return | K9: Weighted
D10: Debt | F10: 0.64 | G10: 0.04 | H10: =F10*G10 -> 0.0256 | J10: 0.04 | K10: =$F10*J10 -> 0.0256
D11: Equity | F11: 0.36 | G11: 0.09 | H11: =F11*G11 -> 0.0324 | J11: =G11*H14 -> 0.12244898 | K11: =$F11*J11 -> 0.044081633
D12: WACC-After-Tax | F12: =SUM(F10:F11) -> 1 | H12: =SUM(H10:H11) -> 0.058 | K12: =SUM(K10:K11) -> 0.069681633
D13: Combined Income Tax Rate | H13: 0.265
D14: Tax Gross Up Factor | H14: =1/(1-H13) -> 1.3605442
C15: Discount Rate | E15: =K12 -> 0.069681633
C16: Amortization Term | E16: =L4 -> 10 | F16: years
B17: Revenue Requirement Calcs
E18: NPV | F18: =F7 -> 2023 | G18: =F18+1 -> 2024 | H18: =G18+1 -> 2025 | I18: =H18+1 -> 2026 | J18: =I18+1 -> 2027 | K18: =J18+1 -> 2028 | L18: =K18+1 -> 2029 | M18: =L18+1 -> 2030 | N18: =M18+1 -> 2031 | ... AO18: =AN18+1 -> 2058
C19: Expenses | E19: =NPV($E$15,F19:AO19)*(1+$E$15) -> 0 | F19: =IF($G$3="Expense",F8,0) -> 0 | G19: =IF($G$3="Expense",G8,0) -> 0 | H19: =IF($G$3="Expense",H8,0) -> 0 | I19: =IF($G$3="Expense",I8,0) -> 0 | J19: =IF($G$3="Expense",J8,0) -> 0 | K19: =IF($G$3="Expense",K8,0) -> 0 | L19: =IF($G$3="Expense",L8,0) -> 0 | M19: =IF($G$3="Expense",M8,0) -> 0 | ... Y19: =IF($G$3="Expense",Y8,0) -> 0
C20: Rate Base
D21: Additions To Rate Base | E21: =NPV($E$15,F21:AO21)*(1+$E$15) -> 142.26 | F21: =F8-F19 -> 142.26 | G21: =G8-G19 -> 0 | H21: =H8-H19 -> 0 | I21: =I8-I19 -> 0 | J21: =J8-J19 -> 0 | K21: =K8-K19 -> 0 | L21: =L8-L19 -> 0 | M21: =M8-M19 -> 0 | ... Y21: =Y8-Y19 -> 0
D22: Unamortized Balance (EOY) | F22: =E22+F21-F44 -> 142.26 | G22: =F22+G21-G44 -> 128.034 | H22: =G22+H21-H44 -> 113.808 | I22: =H22+I21-I44 -> 99.582 | J22: =I22+J21-J44 -> 85.356 | K22: =J22+K21-K44 -> 71.13 | L22: =K22+L21-L44 -> 56.904 | M22: =L22+M21-M44 -> 42.678 | ... AO22: =AN22+AO21-AO44 -> 0
C23: Amortization
D24: 2023 Investment | E24: =NPV($E$15,F24:AO24)*(1+$E$15) -> 107.03735 | G24: =IF(G$18-F$18<=$E$16,F$21/$E$16,0) -> 14.226 | H24: =IF(H$18-F$18<=$E$16,F$21/$E$16,0) -> 14.226 | I24: =IF(I$18-F$18<=$E$16,F$21/$E$16,0) -> 14.226 | J24: =IF(J$18-F$18<=$E$16,F$21/$E$16,0) -> 14.226 | K24: =IF(K$18-F$18<=$E$16,F$21/$E$16,0) -> 14.226 | L24: =IF(L$18-F$18<=$E$16,F$21/$E$16,0) -> 14.226 | M24: =IF(M$18-F$18<=$E$16,F$21/$E$16,0) -> 14.226 | N24: =IF(N$18-F$18<=$E$16,F$21/$E$16,0) -> 14.226 | O24: =IF(O$18-F$18<=$E$16,F$21/$E$16,0) -> 14.226 | P24: =IF(P$18-F$18<=$E$16,F$21/$E$16,0) -> 14.226 | Q24: =IF(Q$18-F$18<=$E$16,F$21/$E$16,0) -> 0 | R24: =IF(R$18-F$18<=$E$16,F$21/$E$16,0) -> 0 | S24: =IF(S$18-F$18<=$E$16,F$21/$E$16,0) -> 0 | T24: =IF(T$18-F$18<=$E$16,F$21/$E$16,0) -> 0 | U24: =IF(U$18-F$18<=$E$16,F$21/$E$16,0) -> 0 | V24: =IF(V$18-F$18<=$E$16,F$21/$E$16,0) -> 0
D25: 2024 Investment | E25: =NPV($E$15,F25:AO25)*(1+$E$15) -> 0 | H25: =IF(H$18-G$18<=$E$16,G$21/$E$16,0) -> 0 | I25: =IF(I$18-G$18<=$E$16,G$21/$E$16,0) -> 0 | J25: =IF(J$18-G$18<=$E$16,G$21/$E$16,0) -> 0 | K25: =IF(K$18-G$18<=$E$16,G$21/$E$16,0) -> 0 | L25: =IF(L$18-G$18<=$E$16,G$21/$E$16,0) -> 0 | M25: =IF(M$18-G$18<=$E$16,G$21/$E$16,0) -> 0 | N25: =IF(N$18-G$18<=$E$16,G$21/$E$16,0) -> 0 | O25: =IF(O$18-G$18<=$E$16,G$21/$E$16,0) -> 0 | P25: =IF(P$18-G$18<=$E$16,G$21/$E$16,0) -> 0 | Q25: =IF(Q$18-G$18<=$E$16,G$21/$E$16,0) -> 0 | R25: =IF(R$18-G$18<=$E$16,G$21/$E$16,0) -> 0 | S25: =IF(S$18-G$18<=$E$16,G$21/$E$16,0) -> 0 | T25: =IF(T$18-G$18<=$E$16,G$21/$E$16,0) -> 0 | U25: =IF(U$18-G$18<=$E$16,G$21/$E$16,0) -> 0 | V25: =IF(V$18-G$18<=$E$16,G$21/$E$16,0) -> 0 | W25: =IF(W$18-G$18<=$E$16,G$21/$E$16,0) -> 0
D26: 2025 Investment | E26: =NPV($E$15,F26:AO26)*(1+$E$15) -> 0 | I26: =IF(I$18-H$18<=$E$16,H$21/$E$16,0) -> 0 | J26: =IF(J$18-H$18<=$E$16,H$21/$E$16,0) -> 0 | K26: =IF(K$18-H$18<=$E$16,H$21/$E$16,0) -> 0 | L26: =IF(L$18-H$18<=$E$16,H$21/$E$16,0) -> 0 | M26: =IF(M$18-H$18<=$E$16,H$21/$E$16,0) -> 0 | N26: =IF(N$18-H$18<=$E$16,H$21/$E$16,0) -> 0 | O26: =IF(O$18-H$18<=$E$16,H$21/$E$16,0) -> 0 | P26: =IF(P$18-H$18<=$E$16,H$21/$E$16,0) -> 0 | Q26: =IF(Q$18-H$18<=$E$16,H$21/$E$16,0) -> 0 | R26: =IF(R$18-H$18<=$E$16,H$21/$E$16,0) -> 0 | S26: =IF(S$18-H$18<=$E$16,H$21/$E$16,0) -> 0 | T26: =IF(T$18-H$18<=$E$16,H$21/$E$16,0) -> 0 | U26: =IF(U$18-H$18<=$E$16,H$21/$E$16,0) -> 0 | V26: =IF(V$18-H$18<=$E$16,H$21/$E$16,0) -> 0 | W26: =IF(W$18-H$18<=$E$16,H$21/$E$16,0) -> 0 | X26: =IF(X$18-H$18<=$E$16,H$21/$E$16,0) -> 0
D27: 2026 Investment | E27: =NPV($E$15,F27:AO27)*(1+$E$15) -> 0 | J27: =IF(J$18-I$18<=$E$16,I$21/$E$16,0) -> 0 | K27: =IF(K$18-I$18<=$E$16,I$21/$E$16,0) -> 0 | L27: =IF(L$18-I$18<=$E$16,I$21/$E$16,0) -> 0 | M27: =IF(M$18-I$18<=$E$16,I$21/$E$16,0) -> 0 | N27: =IF(N$18-I$18<=$E$16,I$21/$E$16,0) -> 0 | O27: =IF(O$18-I$18<=$E$16,I$21/$E$16,0) -> 0 | P27: =IF(P$18-I$18<=$E$16,I$21/$E$16,0) -> 0 | Q27: =IF(Q$18-I$18<=$E$16,I$21/$E$16,0) -> 0 | R27: =IF(R$18-I$18<=$E$16,I$21/$E$16,0) -> 0 | S27: =IF(S$18-I$18<=$E$16,I$21/$E$16,0) -> 0 | T27: =IF(T$18-I$18<=$E$16,I$21/$E$16,0) -> 0 | U27: =IF(U$18-I$18<=$E$16,I$21/$E$16,0) -> 0 | V27: =IF(V$18-I$18<=$E$16,I$21/$E$16,0) -> 0 | W27: =IF(W$18-I$18<=$E$16,I$21/$E$16,0) -> 0 | X27: =IF(X$18-I$18<=$E$16,I$21/$E$16,0) -> 0 | Y27: =IF(Y$18-I$18<=$E$16,I$21/$E$16,0) -> 0
D28: 2027 Investment | E28: =NPV($E$15,F28:AO28)*(1+$E$15) -> 0 | K28: =IF(K$18-J$18<=$E$16,J$21/$E$16,0) -> 0 | L28: =IF(L$18-J$18<=$E$16,J$21/$E$16,0) -> 0 | M28: =IF(M$18-J$18<=$E$16,J$21/$E$16,0) -> 0 | N28: =IF(N$18-J$18<=$E$16,J$21/$E$16,0) -> 0 | O28: =IF(O$18-J$18<=$E$16,J$21/$E$16,0) -> 0 | P28: =IF(P$18-J$18<=$E$16,J$21/$E$16,0) -> 0 | Q28: =IF(Q$18-J$18<=$E$16,J$21/$E$16,0) -> 0 | R28: =IF(R$18-J$18<=$E$16,J$21/$E$16,0) -> 0 | S28: =IF(S$18-J$18<=$E$16,J$21/$E$16,0) -> 0 | T28: =IF(T$18-J$18<=$E$16,J$21/$E$16,0) -> 0 | U28: =IF(U$18-J$18<=$E$16,J$21/$E$16,0) -> 0 | V28: =IF(V$18-J$18<=$E$16,J$21/$E$16,0) -> 0 | W28: =IF(W$18-J$18<=$E$16,J$21/$E$16,0) -> 0 | X28: =IF(X$18-J$18<=$E$16,J$21/$E$16,0) -> 0 | Y28: =IF(Y$18-J$18<=$E$16,J$21/$E$16,0) -> 0 | Z28: =IF(Z$18-J$18<=$E$16,J$21/$E$16,0) -> 0
D29: 2028 Investment | E29: =NPV($E$15,F29:AO29)*(1+$E$15) -> 0 | L29: =IF(L$18-K$18<=$E$16,K$21/$E$16,0) -> 0 | M29: =IF(M$18-K$18<=$E$16,K$21/$E$16,0) -> 0 | N29: =IF(N$18-K$18<=$E$16,K$21/$E$16,0) -> 0 | O29: =IF(O$18-K$18<=$E$16,K$21/$E$16,0) -> 0 | P29: =IF(P$18-K$18<=$E$16,K$21/$E$16,0) -> 0 | Q29: =IF(Q$18-K$18<=$E$16,K$21/$E$16,0) -> 0 | R29: =IF(R$18-K$18<=$E$16,K$21/$E$16,0) -> 0 | S29: =IF(S$18-K$18<=$E$16,K$21/$E$16,0) -> 0 | T29: =IF(T$18-K$18<=$E$16,K$21/$E$16,0) -> 0 | U29: =IF(U$18-K$18<=$E$16,K$21/$E$16,0) -> 0 | V29: =IF(V$18-K$18<=$E$16,K$21/$E$16,0) -> 0 | W29: =IF(W$18-K$18<=$E$16,K$21/$E$16,0) -> 0 | X29: =IF(X$18-K$18<=$E$16,K$21/$E$16,0) -> 0 | Y29: =IF(Y$18-K$18<=$E$16,K$21/$E$16,0) -> 0 | Z29: =IF(Z$18-K$18<=$E$16,K$21/$E$16,0) -> 0 | AA29: =IF(AA$18-K$18<=$E$16,K$21/$E$16,0) -> 0
D30: 2029 Investment | E30: =NPV($E$15,F30:AO30)*(1+$E$15) -> 0 | M30: =IF(M$18-L$18<=$E$16,L$21/$E$16,0) -> 0 | N30: =IF(N$18-L$18<=$E$16,L$21/$E$16,0) -> 0 | O30: =IF(O$18-L$18<=$E$16,L$21/$E$16,0) -> 0 | P30: =IF(P$18-L$18<=$E$16,L$21/$E$16,0) -> 0 | Q30: =IF(Q$18-L$18<=$E$16,L$21/$E$16,0) -> 0 | R30: =IF(R$18-L$18<=$E$16,L$21/$E$16,0) -> 0 | S30: =IF(S$18-L$18<=$E$16,L$21/$E$16,0) -> 0 | T30: =IF(T$18-L$18<=$E$16,L$21/$E$16,0) -> 0 | U30: =IF(U$18-L$18<=$E$16,L$21/$E$16,0) -> 0 | V30: =IF(V$18-L$18<=$E$16,L$21/$E$16,0) -> 0 | W30: =IF(W$18-L$18<=$E$16,L$21/$E$16,0) -> 0 | X30: =IF(X$18-L$18<=$E$16,L$21/$E$16,0) -> 0 | Y30: =IF(Y$18-L$18<=$E$16,L$21/$E$16,0) -> 0 | Z30: =IF(Z$18-L$18<=$E$16,L$21/$E$16,0) -> 0 | AA30: =IF(AA$18-L$18<=$E$16,L$21/$E$16,0) -> 0 | AB30: =IF(AB$18-L$18<=$E$16,L$21/$E$16,0) -> 0
D31: 2030 Investment | E31: =NPV($E$15,F31:AO31)*(1+$E$15) -> 0 | N31: =IF(N$18-M$18<=$E$16,M$21/$E$16,0) -> 0 | O31: =IF(O$18-M$18<=$E$16,M$21/$E$16,0) -> 0 | P31: =IF(P$18-M$18<=$E$16,M$21/$E$16,0) -> 0 | Q31: =IF(Q$18-M$18<=$E$16,M$21/$E$16,0) -> 0 | R31: =IF(R$18-M$18<=$E$16,M$21/$E$16,0) -> 0 | S31: =IF(S$18-M$18<=$E$16,M$21/$E$16,0) -> 0 | T31: =IF(T$18-M$18<=$E$16,M$21/$E$16,0) -> 0 | U31: =IF(U$18-M$18<=$E$16,M$21/$E$16,0) -> 0 | V31: =IF(V$18-M$18<=$E$16,M$21/$E$16,0) -> 0 | W31: =IF(W$18-M$18<=$E$16,M$21/$E$16,0) -> 0 | X31: =IF(X$18-M$18<=$E$16,M$21/$E$16,0) -> 0 | Y31: =IF(Y$18-M$18<=$E$16,M$21/$E$16,0) -> 0 | Z31: =IF(Z$18-M$18<=$E$16,M$21/$E$16,0) -> 0 | AA31: =IF(AA$18-M$18<=$E$16,M$21/$E$16,0) -> 0 | AB31: =IF(AB$18-M$18<=$E$16,M$21/$E$16,0) -> 0 | AC31: =IF(AC$18-M$18<=$E$16,M$21/$E$16,0) -> 0
D32: 2031 Investment | E32: =NPV($E$15,F32:AO32)*(1+$E$15) -> 0 | O32: =IF(O$18-N$18<=$E$16,N$21/$E$16,0) -> 0 | P32: =IF(P$18-N$18<=$E$16,N$21/$E$16,0) -> 0 | Q32: =IF(Q$18-N$18<=$E$16,N$21/$E$16,0) -> 0 | R32: =IF(R$18-N$18<=$E$16,N$21/$E$16,0) -> 0 | S32: =IF(S$18-N$18<=$E$16,N$21/$E$16,0) -> 0 | T32: =IF(T$18-N$18<=$E$16,N$21/$E$16,0) -> 0 | U32: =IF(U$18-N$18<=$E$16,N$21/$E$16,0) -> 0 | V32: =IF(V$18-N$18<=$E$16,N$21/$E$16,0) -> 0 | W32: =IF(W$18-N$18<=$E$16,N$21/$E$16,0) -> 0 | X32: =IF(X$18-N$18<=$E$16,N$21/$E$16,0) -> 0 | Y32: =IF(Y$18-N$18<=$E$16,N$21/$E$16,0) -> 0 | Z32: =IF(Z$18-N$18<=$E$16,N$21/$E$16,0) -> 0 | AA32: =IF(AA$18-N$18<=$E$16,N$21/$E$16,0) -> 0 | AB32: =IF(AB$18-N$18<=$E$16,N$21/$E$16,0) -> 0 | AC32: =IF(AC$18-N$18<=$E$16,N$21/$E$16,0) -> 0 | AD32: =IF(AD$18-N$18<=$E$16,N$21/$E$16,0) -> 0
D33: 2032 Investment | E33: =NPV($E$15,F33:AO33)*(1+$E$15) -> 0 | P33: =IF(P$18-O$18<=$E$16,O$21/$E$16,0) -> 0 | Q33: =IF(Q$18-O$18<=$E$16,O$21/$E$16,0) -> 0 | R33: =IF(R$18-O$18<=$E$16,O$21/$E$16,0) -> 0 | S33: =IF(S$18-O$18<=$E$16,O$21/$E$16,0) -> 0 | T33: =IF(T$18-O$18<=$E$16,O$21/$E$16,0) -> 0 | U33: =IF(U$18-O$18<=$E$16,O$21/$E$16,0) -> 0 | V33: =IF(V$18-O$18<=$E$16,O$21/$E$16,0) -> 0 | W33: =IF(W$18-O$18<=$E$16,O$21/$E$16,0) -> 0 | X33: =IF(X$18-O$18<=$E$16,O$21/$E$16,0) -> 0 | Y33: =IF(Y$18-O$18<=$E$16,O$21/$E$16,0) -> 0 | Z33: =IF(Z$18-O$18<=$E$16,O$21/$E$16,0) -> 0 | AA33: =IF(AA$18-O$18<=$E$16,O$21/$E$16,0) -> 0 | AB33: =IF(AB$18-O$18<=$E$16,O$21/$E$16,0) -> 0 | AC33: =IF(AC$18-O$18<=$E$16,O$21/$E$16,0) -> 0 | AD33: =IF(AD$18-O$18<=$E$16,O$21/$E$16,0) -> 0 | AE33: =IF(AE$18-O$18<=$E$16,O$21/$E$16,0) -> 0
D34: 2033 Investment | E34: =NPV($E$15,F34:AO34)*(1+$E$15) -> 0 | Q34: =IF(Q$18-P$18<=$E$16,P$21/$E$16,0) -> 0 | R34: =IF(R$18-P$18<=$E$16,P$21/$E$16,0) -> 0 | S34: =IF(S$18-P$18<=$E$16,P$21/$E$16,0) -> 0 | T34: =IF(T$18-P$18<=$E$16,P$21/$E$16,0) -> 0 | U34: =IF(U$18-P$18<=$E$16,P$21/$E$16,0) -> 0 | V34: =IF(V$18-P$18<=$E$16,P$21/$E$16,0) -> 0 | W34: =IF(W$18-P$18<=$E$16,P$21/$E$16,0) -> 0 | X34: =IF(X$18-P$18<=$E$16,P$21/$E$16,0) -> 0 | Y34: =IF(Y$18-P$18<=$E$16,P$21/$E$16,0) -> 0 | Z34: =IF(Z$18-P$18<=$E$16,P$21/$E$16,0) -> 0 | AA34: =IF(AA$18-P$18<=$E$16,P$21/$E$16,0) -> 0 | AB34: =IF(AB$18-P$18<=$E$16,P$21/$E$16,0) -> 0 | AC34: =IF(AC$18-P$18<=$E$16,P$21/$E$16,0) -> 0 | AD34: =IF(AD$18-P$18<=$E$16,P$21/$E$16,0) -> 0 | AE34: =IF(AE$18-P$18<=$E$16,P$21/$E$16,0) -> 0 | AF34: =IF(AF$18-P$18<=$E$16,P$21/$E$16,0) -> 0
D35: 2034 Investment | E35: =NPV($E$15,F35:AO35)*(1+$E$15) -> 0 | R35: =IF(R$18-Q$18<=$E$16,Q$21/$E$16,0) -> 0 | S35: =IF(S$18-Q$18<=$E$16,Q$21/$E$16,0) -> 0 | T35: =IF(T$18-Q$18<=$E$16,Q$21/$E$16,0) -> 0 | U35: =IF(U$18-Q$18<=$E$16,Q$21/$E$16,0) -> 0 | V35: =IF(V$18-Q$18<=$E$16,Q$21/$E$16,0) -> 0 | W35: =IF(W$18-Q$18<=$E$16,Q$21/$E$16,0) -> 0 | X35: =IF(X$18-Q$18<=$E$16,Q$21/$E$16,0) -> 0 | Y35: =IF(Y$18-Q$18<=$E$16,Q$21/$E$16,0) -> 0 | Z35: =IF(Z$18-Q$18<=$E$16,Q$21/$E$16,0) -> 0 | AA35: =IF(AA$18-Q$18<=$E$16,Q$21/$E$16,0) -> 0 | AB35: =IF(AB$18-Q$18<=$E$16,Q$21/$E$16,0) -> 0 | AC35: =IF(AC$18-Q$18<=$E$16,Q$21/$E$16,0) -> 0 | AD35: =IF(AD$18-Q$18<=$E$16,Q$21/$E$16,0) -> 0 | AE35: =IF(AE$18-Q$18<=$E$16,Q$21/$E$16,0) -> 0 | AF35: =IF(AF$18-Q$18<=$E$16,Q$21/$E$16,0) -> 0 | AG35: =IF(AG$18-Q$18<=$E$16,Q$21/$E$16,0) -> 0
D36: 2035 Investment | E36: =NPV($E$15,F36:AO36)*(1+$E$15) -> 0 | S36: =IF(S$18-R$18<=$E$16,R$21/$E$16,0) -> 0 | T36: =IF(T$18-R$18<=$E$16,R$21/$E$16,0) -> 0 | U36: =IF(U$18-R$18<=$E$16,R$21/$E$16,0) -> 0 | V36: =IF(V$18-R$18<=$E$16,R$21/$E$16,0) -> 0 | W36: =IF(W$18-R$18<=$E$16,R$21/$E$16,0) -> 0 | X36: =IF(X$18-R$18<=$E$16,R$21/$E$16,0) -> 0 | Y36: =IF(Y$18-R$18<=$E$16,R$21/$E$16,0) -> 0 | Z36: =IF(Z$18-R$18<=$E$16,R$21/$E$16,0) -> 0 | AA36: =IF(AA$18-R$18<=$E$16,R$21/$E$16,0) -> 0 | AB36: =IF(AB$18-R$18<=$E$16,R$21/$E$16,0) -> 0 | AC36: =IF(AC$18-R$18<=$E$16,R$21/$E$16,0) -> 0 | AD36: =IF(AD$18-R$18<=$E$16,R$21/$E$16,0) -> 0 | AE36: =IF(AE$18-R$18<=$E$16,R$21/$E$16,0) -> 0 | AF36: =IF(AF$18-R$18<=$E$16,R$21/$E$16,0) -> 0 | AG36: =IF(AG$18-R$18<=$E$16,R$21/$E$16,0) -> 0 | AH36: =IF(AH$18-R$18<=$E$16,R$21/$E$16,0) -> 0
D37: 2036 Investment | E37: =NPV($E$15,F37:AO37)*(1+$E$15) -> 0 | T37: =IF(T$18-S$18<=$E$16,S$21/$E$16,0) -> 0 | U37: =IF(U$18-S$18<=$E$16,S$21/$E$16,0) -> 0 | V37: =IF(V$18-S$18<=$E$16,S$21/$E$16,0) -> 0 | W37: =IF(W$18-S$18<=$E$16,S$21/$E$16,0) -> 0 | X37: =IF(X$18-S$18<=$E$16,S$21/$E$16,0) -> 0 | Y37: =IF(Y$18-S$18<=$E$16,S$21/$E$16,0) -> 0 | Z37: =IF(Z$18-S$18<=$E$16,S$21/$E$16,0) -> 0 | AA37: =IF(AA$18-S$18<=$E$16,S$21/$E$16,0) -> 0 | AB37: =IF(AB$18-S$18<=$E$16,S$21/$E$16,0) -> 0 | AC37: =IF(AC$18-S$18<=$E$16,S$21/$E$16,0) -> 0 | AD37: =IF(AD$18-S$18<=$E$16,S$21/$E$16,0) -> 0 | AE37: =IF(AE$18-S$18<=$E$16,S$21/$E$16,0) -> 0 | AF37: =IF(AF$18-S$18<=$E$16,S$21/$E$16,0) -> 0 | AG37: =IF(AG$18-S$18<=$E$16,S$21/$E$16,0) -> 0 | AH37: =IF(AH$18-S$18<=$E$16,S$21/$E$16,0) -> 0 | AI37: =IF(AI$18-S$18<=$E$16,S$21/$E$16,0) -> 0
D38: 2037 Investment | E38: =NPV($E$15,F38:AO38)*(1+$E$15) -> 0 | U38: =IF(U$18-T$18<=$E$16,T$21/$E$16,0) -> 0 | V38: =IF(V$18-T$18<=$E$16,T$21/$E$16,0) -> 0 | W38: =IF(W$18-T$18<=$E$16,T$21/$E$16,0) -> 0 | X38: =IF(X$18-T$18<=$E$16,T$21/$E$16,0) -> 0 | Y38: =IF(Y$18-T$18<=$E$16,T$21/$E$16,0) -> 0 | Z38: =IF(Z$18-T$18<=$E$16,T$21/$E$16,0) -> 0 | AA38: =IF(AA$18-T$18<=$E$16,T$21/$E$16,0) -> 0 | AB38: =IF(AB$18-T$18<=$E$16,T$21/$E$16,0) -> 0 | AC38: =IF(AC$18-T$18<=$E$16,T$21/$E$16,0) -> 0 | AD38: =IF(AD$18-T$18<=$E$16,T$21/$E$16,0) -> 0 | AE38: =IF(AE$18-T$18<=$E$16,T$21/$E$16,0) -> 0 | AF38: =IF(AF$18-T$18<=$E$16,T$21/$E$16,0) -> 0 | AG38: =IF(AG$18-T$18<=$E$16,T$21/$E$16,0) -> 0 | AH38: =IF(AH$18-T$18<=$E$16,T$21/$E$16,0) -> 0 | AI38: =IF(AI$18-T$18<=$E$16,T$21/$E$16,0) -> 0 | AJ38: =IF(AJ$18-T$18<=$E$16,T$21/$E$16,0) -> 0
D39: 2038 Investment | E39: =NPV($E$15,F39:AO39)*(1+$E$15) -> 0 | V39: =IF(V$18-U$18<=$E$16,U$21/$E$16,0) -> 0 | W39: =IF(W$18-U$18<=$E$16,U$21/$E$16,0) -> 0 | X39: =IF(X$18-U$18<=$E$16,U$21/$E$16,0) -> 0 | Y39: =IF(Y$18-U$18<=$E$16,U$21/$E$16,0) -> 0 | Z39: =IF(Z$18-U$18<=$E$16,U$21/$E$16,0) -> 0 | AA39: =IF(AA$18-U$18<=$E$16,U$21/$E$16,0) -> 0 | AB39: =IF(AB$18-U$18<=$E$16,U$21/$E$16,0) -> 0 | AC39: =IF(AC$18-U$18<=$E$16,U$21/$E$16,0) -> 0 | AD39: =IF(AD$18-U$18<=$E$16,U$21/$E$16,0) -> 0 | AE39: =IF(AE$18-U$18<=$E$16,U$21/$E$16,0) -> 0 | AF39: =IF(AF$18-U$18<=$E$16,U$21/$E$16,0) -> 0 | AG39: =IF(AG$18-U$18<=$E$16,U$21/$E$16,0) -> 0 | AH39: =IF(AH$18-U$18<=$E$16,U$21/$E$16,0) -> 0 | AI39: =IF(AI$18-U$18<=$E$16,U$21/$E$16,0) -> 0 | AJ39: =IF(AJ$18-U$18<=$E$16,U$21/$E$16,0) -> 0 | AK39: =IF(AK$18-U$18<=$E$16,U$21/$E$16,0) -> 0
D40: 2039 Investment | E40: =NPV($E$15,F40:AO40)*(1+$E$15) -> 0 | W40: =IF(W$18-V$18<=$E$16,V$21/$E$16,0) -> 0 | X40: =IF(X$18-V$18<=$E$16,V$21/$E$16,0) -> 0 | Y40: =IF(Y$18-V$18<=$E$16,V$21/$E$16,0) -> 0 | Z40: =IF(Z$18-V$18<=$E$16,V$21/$E$16,0) -> 0 | AA40: =IF(AA$18-V$18<=$E$16,V$21/$E$16,0) -> 0 | AB40: =IF(AB$18-V$18<=$E$16,V$21/$E$16,0) -> 0 | AC40: =IF(AC$18-V$18<=$E$16,V$21/$E$16,0) -> 0 | AD40: =IF(AD$18-V$18<=$E$16,V$21/$E$16,0) -> 0 | AE40: =IF(AE$18-V$18<=$E$16,V$21/$E$16,0) -> 0 | AF40: =IF(AF$18-V$18<=$E$16,V$21/$E$16,0) -> 0 | AG40: =IF(AG$18-V$18<=$E$16,V$21/$E$16,0) -> 0 | AH40: =IF(AH$18-V$18<=$E$16,V$21/$E$16,0) -> 0 | AI40: =IF(AI$18-V$18<=$E$16,V$21/$E$16,0) -> 0 | AJ40: =IF(AJ$18-V$18<=$E$16,V$21/$E$16,0) -> 0 | AK40: =IF(AK$18-V$18<=$E$16,V$21/$E$16,0) -> 0 | AL40: =IF(AL$18-V$18<=$E$16,V$21/$E$16,0) -> 0
D41: 2040 Investment | E41: =NPV($E$15,F41:AO41)*(1+$E$15) -> 0 | X41: =IF(X$18-W$18<=$E$16,W$21/$E$16,0) -> 0 | Y41: =IF(Y$18-W$18<=$E$16,W$21/$E$16,0) -> 0 | Z41: =IF(Z$18-W$18<=$E$16,W$21/$E$16,0) -> 0 | AA41: =IF(AA$18-W$18<=$E$16,W$21/$E$16,0) -> 0 | AB41: =IF(AB$18-W$18<=$E$16,W$21/$E$16,0) -> 0 | AC41: =IF(AC$18-W$18<=$E$16,W$21/$E$16,0) -> 0 | AD41: =IF(AD$18-W$18<=$E$16,W$21/$E$16,0) -> 0 | AE41: =IF(AE$18-W$18<=$E$16,W$21/$E$16,0) -> 0 | AF41: =IF(AF$18-W$18<=$E$16,W$21/$E$16,0) -> 0 | AG41: =IF(AG$18-W$18<=$E$16,W$21/$E$16,0) -> 0 | AH41: =IF(AH$18-W$18<=$E$16,W$21/$E$16,0) -> 0 | AI41: =IF(AI$18-W$18<=$E$16,W$21/$E$16,0) -> 0 | AJ41: =IF(AJ$18-W$18<=$E$16,W$21/$E$16,0) -> 0 | AK41: =IF(AK$18-W$18<=$E$16,W$21/$E$16,0) -> 0 | AL41: =IF(AL$18-W$18<=$E$16,W$21/$E$16,0) -> 0 | AM41: =IF(AM$18-W$18<=$E$16,W$21/$E$16,0) -> 0
...

Sheet Am20-10yr
A1: Enbridge: Amortization Analysis
A2: Tax as Capital Investment
D3: Scenario: | E3: Cost Recovery | G3: Amortize | I3: Amortization Cost of Capital | L3: WACC
E4: Portfolio Horizon | G4: 20 | H4: years | I4: Amortiztion Life | L4: 10 | M4: years
B6: Background Data
C7: DSM Portfolio | F7: 2023 | G7: 2024 | H7: 2025 | I7: 2026 | J7: =I7+1 -> 2027 | K7: =J7+1 -> 2028 | L7: =K7+1 -> 2029 | M7: =L7+1 -> 2030 | N7: =M7+1 -> 2031 | O7: =N7+1 -> 2032 | P7: =O7+1 -> 2033 | Q7: =P7+1 -> 2034 | ... AO7: =AN7+1 -> 2058
D8: Investment (millions) | F8: ='Portfolio$'!E6/10^6 -> 142.26 | G8: =IF(G7-$F$7+1>$G$4,0,'Portfolio$'!F6/10^6) -> 148.8222 | H8: =IF(H7-$F$7+1>$G$4,0,'Portfolio$'!G6/10^6) -> 155.70149 | I8: =IF(I7-$F$7+1>$G$4,0,'Portfolio$'!H6/10^6) -> 162.91352 | J8: =IF(J7-$F$7+1>$G$4,0,'Portfolio$'!I6/10^6) -> 170.47468 | K8: =IF(K7-$F$7+1>$G$4,0,J8*1.02) -> 173.88417 | L8: =IF(L7-$F$7+1>$G$4,0,K8*1.02) -> 177.36186 | M8: =IF(M7-$F$7+1>$G$4,0,L8*1.02) -> 180.90909 | N8: =IF(N7-$F$7+1>$G$4,0,M8*1.02) -> 184.52728 | O8: =IF(O7-$F$7+1>$G$4,0,N8*1.02) -> 188.21782 | P8: =IF(P7-$F$7+1>$G$4,0,O8*1.02) -> 191.98218 | Q8: =IF(Q7-$F$7+1>$G$4,0,P8*1.02) -> 195.82182 | R8: =IF(R7-$F$7+1>$G$4,0,Q8*1.02) -> 199.73826 | ... Y8: =IF(Y7-$F$7+1>$G$4,0,X8*1.02) -> 229.43647
C9: Enbridge Capital Structure | F9: Capitalization | G9: After-Tax Return | H9: Weighted | J9: Pre-Tax Return | K9: Weighted
D10: Debt | F10: 0.64 | G10: 0.04 | H10: =F10*G10 -> 0.0256 | J10: 0.04 | K10: =$F10*J10 -> 0.0256
D11: Equity | F11: 0.36 | G11: 0.09 | H11: =F11*G11 -> 0.0324 | J11: =G11*H14 -> 0.12244898 | K11: =$F11*J11 -> 0.044081633
D12: WACC-After-Tax | F12: =SUM(F10:F11) -> 1 | H12: =SUM(H10:H11) -> 0.058 | K12: =SUM(K10:K11) -> 0.069681633
D13: Combined Income Tax Rate | H13: 0.265
D14: Tax Gross Up Factor | H14: =1/(1-H13) -> 1.3605442
C15: Discount Rate | E15: =K12 -> 0.069681633
C16: Amortization Term | E16: =L4 -> 10 | F16: years
B17: Revenue Requirement Calcs
E18: NPV | F18: =F7 -> 2023 | G18: =F18+1 -> 2024 | H18: =G18+1 -> 2025 | I18: =H18+1 -> 2026 | J18: =I18+1 -> 2027 | K18: =J18+1 -> 2028 | L18: =K18+1 -> 2029 | M18: =L18+1 -> 2030 | N18: =M18+1 -> 2031 | ... AO18: =AN18+1 -> 2058
C19: Expenses | E19: =NPV($E$15,F19:AO19)*(1+$H$12) -> 0 | F19: =IF($G$3="Expense",F8,0) -> 0 | G19: =IF($G$3="Expense",G8,0) -> 0 | H19: =IF($G$3="Expense",H8,0) -> 0 | I19: =IF($G$3="Expense",I8,0) -> 0 | J19: =IF($G$3="Expense",J8,0) -> 0 | K19: =IF($G$3="Expense",K8,0) -> 0 | L19: =IF($G$3="Expense",L8,0) -> 0 | M19: =IF($G$3="Expense",M8,0) -> 0 | ... Y19: =IF($G$3="Expense",Y8,0) -> 0
C20: Rate Base
D21: Additions To Rate Base | E21: =NPV($E$15,F21:AO21)*(1+$E$15) -> 2044.1909 | F21: =F8-F19 -> 142.26 | G21: =G8-G19 -> 148.8222 | H21: =H8-H19 -> 155.70149 | I21: =I8-I19 -> 162.91352 | J21: =J8-J19 -> 170.47468 | K21: =K8-K19 -> 173.88417 | L21: =L8-L19 -> 177.36186 | M21: =M8-M19 -> 180.90909 | ... Y21: =Y8-Y19 -> 229.43647
D22: Unamortized Balance (EOY) | F22: =E22+F21-F44 -> 142.26 | G22: =F22+G21-G44 -> 276.8562 | H22: =G22+H21-H44 -> 403.44947 | I22: =H22+I21-I44 -> 521.68462 | J22: =I22+J21-J44 -> 631.18958 | K22: =J22+K21-K44 -> 727.05657 | L22: =K22+L21-L44 -> 809.01282 | M22: =L22+M21-M44 -> 876.78012 | ... AO22: =AN22+AO21-AO44 -> 3.5527137e-14
C23: Amortization
D24: 2023 Investment | E24: =NPV($E$15,F24:AO24)*(1+$E$15) -> 107.03735 | G24: =IF(G$18-F$18<=$E$16,F$21/$E$16,0) -> 14.226 | H24: =IF(H$18-F$18<=$E$16,F$21/$E$16,0) -> 14.226 | I24: =IF(I$18-F$18<=$E$16,F$21/$E$16,0) -> 14.226 | J24: =IF(J$18-F$18<=$E$16,F$21/$E$16,0) -> 14.226 | K24: =IF(K$18-F$18<=$E$16,F$21/$E$16,0) -> 14.226 | L24: =IF(L$18-F$18<=$E$16,F$21/$E$16,0) -> 14.226 | M24: =IF(M$18-F$18<=$E$16,F$21/$E$16,0) -> 14.226 | N24: =IF(N$18-F$18<=$E$16,F$21/$E$16,0) -> 14.226 | O24: =IF(O$18-F$18<=$E$16,F$21/$E$16,0) -> 14.226 | P24: =IF(P$18-F$18<=$E$16,F$21/$E$16,0) -> 14.226 | Q24: =IF(Q$18-F$18<=$E$16,F$21/$E$16,0) -> 0 | R24: =IF(R$18-F$18<=$E$16,F$21/$E$16,0) -> 0 | S24: =IF(S$18-F$18<=$E$16,F$21/$E$16,0) -> 0 | T24: =IF(T$18-F$18<=$E$16,F$21/$E$16,0) -> 0 | U24: =IF(U$18-F$18<=$E$16,F$21/$E$16,0) -> 0 | V24: =IF(V$18-F$18<=$E$16,F$21/$E$16,0) -> 0
D25: 2024 Investment | E25: =NPV($E$15,F25:AO25)*(1+$E$15) -> 111.97479 | H25: =IF(H$18-G$18<=$E$16,G$21/$E$16,0) -> 14.88222 | I25: =IF(I$18-G$18<=$E$16,G$21/$E$16,0) -> 14.88222 | J25: =IF(J$18-G$18<=$E$16,G$21/$E$16,0) -> 14.88222 | K25: =IF(K$18-G$18<=$E$16,G$21/$E$16,0) -> 14.88222 | L25: =IF(L$18-G$18<=$E$16,G$21/$E$16,0) -> 14.88222 | M25: =IF(M$18-G$18<=$E$16,G$21/$E$16,0) -> 14.88222 | N25: =IF(N$18-G$18<=$E$16,G$21/$E$16,0) -> 14.88222 | O25: =IF(O$18-G$18<=$E$16,G$21/$E$16,0) -> 14.88222 | P25: =IF(P$18-G$18<=$E$16,G$21/$E$16,0) -> 14.88222 | Q25: =IF(Q$18-G$18<=$E$16,G$21/$E$16,0) -> 14.88222 | R25: =IF(R$18-G$18<=$E$16,G$21/$E$16,0) -> 0 | S25: =IF(S$18-G$18<=$E$16,G$21/$E$16,0) -> 0 | T25: =IF(T$18-G$18<=$E$16,G$21/$E$16,0) -> 0 | U25: =IF(U$18-G$18<=$E$16,G$21/$E$16,0) -> 0 | V25: =IF(V$18-G$18<=$E$16,G$21/$E$16,0) -> 0 | W25: =IF(W$18-G$18<=$E$16,G$21/$E$16,0) -> 0
