{"text_format":"1","workbook":"xlsx","n_sheets":63,"sheets":["LDC Info","Index","COS Flowchart","List of Key References","App.2-A_Requested_Approvals","App.2-AA_Capital Projects","App.2-AB_Capital Expenditures","Hidden_CAPEX","App.2-AC_Customer Engagement","App.2-B_Acctg Instructions","App.2-BA_Fixed Asset Cont","Appendix 2-BB Service Life  ","App.2-C_DepExp","App.2-D_Overhead","App.2-EA_Account 1575 (2015)","App.2-EB_Account 1576 (2012)","App.2-EC_Account 1576 (2013)","Hidden_REG Invest.","Hidden_REG Improvement","Hidden_REG Expansion","App.2-FA Proposed REG Invest.","App.2-FB Calc of REG Improvemnt","App.2-FC Calc of REG Expansion","App.2-G SQI","2.1.4_ServiceQuality","2016 Adjusted SAIDI and SAIFI","2017 Adjusted SAIDI and SAIFI","2018 Adjusted SAIDI and SAIFI","2019 Adjusted SAIDI and SAIFI","2020","App.2-H_Other_Oper_Rev","Hidden_Other Revenue","Several_Accounts","App_2-I LF_CDM","lists","App.2-IA_Load_Forecast_Instrct","App.2-IB_Load_Forecast_Analysis","App.2-JA_OM&A_Summary_Analys","Hidden_OM&A Summary","OM&A_Expenses","App.2-JB_OM&A_Cost _Drivers","App.2-JC_OMA Programs","App.2-JD_OMA Programs","App.2-K_Employee Costs","Hidden_Employee Costs","FTE","App.2-L_OM&A_per_Cust_FTE","App.2-L_OM&A_per_Cust_FTEE_exp","App.2-M_Regulatory_Costs","Hidden_RegulatoryCosts1","Hidden_RegulatoryCosts2","App.2-N_Corp_Cost_Allocation","App.2-OA Capital Structure","App.2-OB_Debt Instruments","App.2-Q_Cost of Serv. Emb. Dx","App.2-R_Loss Factors","App.2-ZA_Com. Exp. Forecast","App.2-ZB_Cost of Power","App.2-S_Stranded Meters","App.2-Y_MIFRS Summary Impacts","Sheet19","App.2-YA_IFRS Transition Costs","Sheet1"],"not_rendered":{"charts":4,"images":4,"macros":1,"external_links":23,"defined_names":902,"comments":3,"pivot_tables":0},"unopened":[],"bounds":{"document_bytes":16777216,"sheet_cells":100000,"rows_first":2000,"rows_last":500,"rows_between":2000,"halvings":0,"cell_chars":16384,"cell_head_chars":4096},"cells_cut":0,"cells_raw":0,"read":"whole","date_system":"1900"}

{"sheet":"LDC Info","index":0,"n_rows":77,"n_cols":27,"rows_kept":77,"cut":false,"hidden":false,"merged":[[35,0,36,3],[32,8,33,9],[36,4,36,6],[48,0,48,3],[27,4,27,6],[30,4,30,6],[29,0,30,3],[45,0,46,3],[41,0,42,3],[42,4,42,6],[32,0,33,3],[33,4,33,6],[38,0,39,3],[17,4,17,10],[13,4,13,10],[15,4,15,8],[19,4,19,8],[25,4,25,6],[23,4,23,6],[21,4,21,8]]}
[]
[]
[null,null,null,null,null,null,null,null,null,null,null,null,null,null,null,null,null,null,null,null,null,null,null,null,null,1,"Alectra Utilities Corporation-Brampton Rate Zone"]
[null,null,null,null,null,null,null,null,null,null,null,null,null,null,null,null,null,null,null,null,null,null,null,null,null,2,"Alectra Utilities Corporation-Enersource Rate Zone"]
[null,null,null,null,null,null,null,null,null,null,null,null,null,null,null,null,null,null,null,null,null,null,null,null,null,3,"Alectra Utilities Corporation-Horizon Utilities Rate Zone"]
[null,null,null,null,null,null,null,null,null,null,null,null,null,null,null,null,null,null,null,null,null,null,null,null,null,4,"Alectra Utilities Corporation-PowerStream Rate Zone"]
[null,null,null,null,null,null,null,null,null,null,null,null,null,null,null,null,null,null,null,null,null,null,null,null,null,5,"Alectra Utilities Corporation-Guelph Rate Zone"]
[null,null,null,null,null,null,null,null,null,null,null,null,null,null,null,null,null,null,null,null,null,null,null,null,null,6,"Algoma Power Inc."]
[null,null,null,null,null,null,null,null,null,null,null,null,null,null,null,null,null,null,null,null,null,null,null,null,null,7,"Atikokan Hydro Inc."]
[null,null,null,null,null,null,null,null,null,null,null,null,null,null,null,null,null,null,null,null,null,null,null,null,null,8,"Bluewater Power Distribution Corporation"]
[null,null,null,null,null,null,null,null,null,null,null,null,null,null,null,null,null,null,null,null,null,null,null,null,null,9,"Brantford Power Inc."]
[null,null,null,null,null,null,null,null,null,null,null,null,null,null,null,null,null,null,null,null,null,null,null,null,null,10,"Burlington Hydro Inc."]
[null,null,null,null,null,null,null,null,null,null,null,null,null,null,null,null,null,null,null,null,null,null,null,null,null,11,"Canadian Niagara Power Inc."]
[null,null,null,"Utility Name   ","Bluewater Power Distribution Corporation",null,null,null,null,null,null,null,null,null,null,null,null,null,null,null,null,null,null,null,null,12,"Centre Wellington Hydro Ltd."]
[null,null,null,null,null,null,null,null,null,null,null,null,null,null,null,null,null,null,null,null,null,null,null,null,null,13,"Chapleau Public Utilities Corporation"]
[null,null,null,"Assigned EB Number","EB-2022-0016",null,null,null,null,null,null,null,null,null,null,null,null,null,null,null,null,null,null,null,null,14,"Cooperative Hydro Embrun Inc."]
[null,null,null,null,null,null,null,null,null,null,null,null,null,null,null,null,null,null,null,null,null,null,null,null,null,15,"E.L.K. Energy Inc."]
[null,null,null,"Name of Contact and Title","Leslie Dugas",null,null,null,null,null,null,null,null,null,null,null,null,null,null,null,null,null,null,null,null,16,"Elexicon Energy Inc.-Whitby Rate Zone"]
[null,null,null,null,null,null,null,null,null,null,null,null,null,null,null,null,null,null,null,null,null,null,null,null,null,17,"Elexicon Energy Inc.-Veridian Rate Zone"]
[null,null,null,"Phone Number   ","519-337-8201 Ext 2255",null,null,null,null,null,null,null,null,null,null,null,null,null,null,null,null,null,null,null,null,18,"Energy+ Inc."]
[null,null,null,null,null,null,null,null,null,null,null,null,null,null,null,null,null,null,null,null,null,null,null,null,null,19,"Entegrus Powerlines Inc.-For Entegrus-Main Rate Zone"]
[null,null,null,"Email Address   ","ldugas@bluewaterpower.com",null,null,null,null,null,null,null,null,null,null,null,null,null,null,null,null,null,null,null,null,20,"Entegrus Powerlines Inc.-For Former St. Thomas Energy Rate Zone"]
[null,null,null,null,null,null,null,null,null,null,null,null,null,null,null,null,null,null,null,null,null,null,null,null,null,21,"ENWIN Utilities Ltd."]
[null,null,null,"Test Year",2023,null,null,null,null,null,null,null,null,null,null,null,null,null,null,null,null,null,null,null,null,22,"EPCOR Electricity Distribution Ontario Inc."]
[null,null,null,null,null,null,null,null,null,null,null,null,null,null,null,null,null,null,null,null,null,null,null,null,null,23,"ERTH Power Corporation - ERTH Power Main Rate Zone"]
[null,null,null,"Bridge Year",{"$f":"IF(ISBLANK(E24), \"\", E24-1)","v":2022},null,null,null,null,null,null,null,null,null,null,null,null,null,null,null,null,null,null,null,null,24,"ERTH POWER CORPORATION – GODERICH RATE ZONE"]
[null,null,null,null,null,null,null,null,null,null,null,null,null,null,null,null,null,null,null,null,null,null,null,null,null,25,"Essex Powerlines Corporation"]
[null,null,null,"Last Rebasing Year",2013,null,null,null,null,null,null,null,null,null,null,null,null,null,null,null,null,null,null,null,null,26,"Festival Hydro Inc."]
[null,null,null,null,null,null,null,null,null,null,null,null,null,null,null,null,null,null,null,null,null,null,null,null,null,27,"Fort Frances Power Corporation"]
["Identify the accounting standard used for the test year",null,null,null,null,null,null,null,null,null,null,null,null,null,null,null,null,null,null,null,null,null,null,null,null,28,"Greater Sudbury Hydro Inc."]
[null,null,null,null,"MIFRS",null,null,null,null,null,null,null,null,null,null,null,null,null,null,null,null,null,null,null,null,29,"Grimsby Power Incorporated"]
[null,null,null,null,null,null,null,null,null,null,null,null,null,null,null,null,null,null,null,null,null,null,null,null,null,30,"Halton Hills Hydro Inc."]
[{"$f":"\"Did \"& E14 &\" update its depreciation and capitalization policies?\"","v":"Did Bluewater Power Distribution Corporation update its depreciation and capitalization policies?"},null,null,null,null,null,null,null,null,null,null,null,null,null,null,null,null,null,null,null,null,null,null,null,null,31,"Hearst Power Distribution Co. Ltd."]
[null,null,null,null,"No",null,null,null,null,null,null,null,null,null,null,null,null,null,null,null,null,null,null,null,null,32,"Hydro 2000 Inc."]
[null,null,null,null,null,null,null,null,null,null,null,null,null,null,null,null,null,null,null,null,null,null,null,null,null,33,"Hydro Hawkesbury Inc."]
["If \"yes\" to cell E34, were the changes in policies reflected in a prior rebasing application?",null,null,null,null,null,null,null,null,null,null,null,null,null,null,null,null,null,null,null,null,null,null,null,null,34,"Hydro One Networks Inc."]
[null,null,null,null,"Yes",null,null,null,null,null,null,null,null,null,null,null,null,null,null,null,null,null,null,null,null,35,"Hydro One Networks Inc.-Former Haldimand County Hydro Inc. Service Area"]
[null,null,null,null,null,null,null,null,null,null,null,null,null,null,null,null,null,null,null,null,null,null,null,null,null,36,"Hydro One Networks Inc.-Former Norfolk Power Distribution Inc. Service Area"]
[{"$f":"\"When did \"&E14&\" update its actual depreciation and capitalization policies?\"","v":"When did Bluewater Power Distribution Corporation update its actual depreciation and capitalization policies?"},null,null,null,null,null,null,null,null,null,null,null,null,null,null,null,null,null,null,null,null,null,null,null,null,37,"Hydro One Networks Inc.-Former Woodstock Hydro Services Inc. Service Area"]
[null,null,null,null,"2001-01-01",2013,null,null,null,null,null,null,null,null,null,null,null,null,null,null,null,null,null,null,null,38,"Hydro One Remote Communites Inc."]
[null,null,null,null,null,null,null,null,null,null,null,null,null,null,null,null,null,null,null,null,null,null,null,null,null,39,"Hydro Ottawa Limited"]
["Identify the year the applicant adopted IFRS for financial reporting purposes",null,null,null,null,null,null,null,null,null,null,null,null,null,null,null,null,null,null,null,null,null,null,null,null,40,"InnPower Corporation"]
[null,null,null,null,2015,null,null,null,null,null,null,null,null,null,null,null,null,null,null,null,null,null,null,null,null,41,"Kingston Hydro Corporation"]
[null,null,null,null,null,null,null,null,null,null,null,null,null,null,null,null,null,null,null,null,null,null,null,null,null,42,"Kitchener-Wilmot Hydro Inc."]
[null,null,null,null,null,null,null,null,null,null,null,null,null,null,null,null,null,null,null,null,null,null,null,null,null,43,"Lakefront Utilities Inc."]
[{"$f":"\"Is \" & E14 & \" applying for cost recovery for the test and/or future year(s) for Green Energy initiatives?\"","v":"Is Bluewater Power Distribution Corporation applying for cost recovery for the test and/or future year(s) for Green Energy initiatives?"},null,null,null,null,null,null,null,null,null,null,null,null,null,null,null,null,null,null,null,null,null,null,null,null,44,"Lakeland Power Distribution Ltd."]
[null,null,null,null,"No",null,null,null,null,null,null,null,null,null,null,null,null,null,null,null,null,null,null,null,null,45,"Lakeland Power Distribution Ltd.-Parry Sound Service Area"]
[null,null,null,null,null,null,null,null,null,null,null,null,null,null,null,null,null,null,null,null,null,null,null,null,null,46,"London Hydro Inc."]
[{"$f":"\"Is \" & E14 & \" an embedded distributor?\"","v":"Is Bluewater Power Distribution Corporation an embedded distributor?"},null,null,null,"Partial",null,null,null,null,null,null,null,null,null,null,null,null,null,null,null,null,null,null,null,null,47,"Milton Hydro Distribution Inc."]
[null,null,null,null,null,null,null,null,null,null,null,null,null,null,null,null,null,null,null,null,null,null,null,null,null,48,"Newmarket-Tay Power Distribution Ltd.-For Former Midland Power Utility Rate Zone"]
[null,null,null,null,null,null,null,null,null,null,null,null,null,null,null,null,null,null,null,null,null,null,null,null,null,49,"Newmarket-Tay Power Distribution Ltd.-For Newmarket-Tay Power Main Rate Zone"]
[null,"Notes",null,null,null,null,null,null,null,null,null,null,null,null,null,null,null,null,null,null,null,null,null,null,null,50,"Niagara Peninsula Energy Inc."]
[null,null,null,null,null,null,null,null,null,null,null,null,null,null,null,null,null,null,null,null,null,null,null,null,null,51,"Niagara-on-the-Lake Hydro Inc."]
[null,null,"Pale green cells represent input cells.",null,null,null,null,null,null,null,null,null,null,null,null,null,null,null,null,null,null,null,null,null,null,52,"North Bay Hydro Distribution Limited - Espanola service territory"]
[null,null,null,null,null,null,null,null,null,null,null,null,null,null,null,null,null,null,null,null,null,null,null,null,null,53,"North Bay Hydro Distribution Limited - North Bay service territory"]
[null,null,"Pale blue cells represent drop-down lists.  The applicant should select the appropriate item from the drop-down list.",null,null,null,null,null,null,null,null,null,null,null,null,null,null,null,null,null,null,null,null,null,null,54,"Northern Ontario Wires Inc."]
[null,null,null,null,null,null,null,null,null,null,null,null,null,null,null,null,null,null,null,null,null,null,null,null,null,55,"Oakville Hydro Electricity Distribution Inc."]
[null,null,"White cells contain fixed values, automatically generated values or formulae. ",null,null,null,null,null,null,null,null,null,null,{"$f":"IF(LEN($G58)>1, (SUMPRODUCT(--($C$81:$C$1003=$C58),--($A$81:$A$1003=$D58), --($B$81:$B$1003=$B58&\"_TOTAL\"), $L$1:$L$889)), \"\")","v":""},{"$f":"IF(LEN($G58)>1, (SUMPRODUCT(--($C$81:$C$1003=$C58),--($A$81:$A$1003=$D58), --($B$81:$B$1003=$B58&\"_TOTAL\"), $M$1:$M$889)), \"\")","v":""},null,null,null,null,null,null,null,null,null,null,56,"Orangeville Hydro Limited"]
[null,null,null,null,null,null,null,null,null,null,null,null,null,"","",null,null,null,null,null,null,null,null,null,null,57,"Orillia Power Distribution Corporation"]
[null,null,null,null,null,null,null,null,null,null,null,null,null,"","",null,null,null,null,null,null,null,null,null,null,58,"Oshawa PUC Networks Inc."]
[null,null,null,null,null,null,null,null,null,null,null,null,null,"","",null,null,null,null,null,null,null,null,null,null,59,"Ottawa River Power Corporation"]
[null,null,null,null,null,null,null,null,null,null,null,null,null,"","",null,null,null,null,null,null,null,null,null,null,60,"Peterborough Distribution Incorporated"]
[null,null,null,null,null,null,null,null,null,null,null,null,null,"","",null,null,null,null,null,null,null,null,null,null,61,"PUC Distribution Inc."]
[null,null,null,null,null,null,null,null,null,null,null,null,null,"","",null,null,null,null,null,null,null,null,null,null,62,"Renfrew Hydro Inc."]
[null,null,null,null,null,null,null,null,null,null,null,null,null,"","",null,null,null,null,null,null,null,null,null,null,63,"Rideau St. Lawrence Distribution Inc."]
[null,null,null,null,null,null,null,null,null,null,null,null,null,"","",null,null,null,null,null,null,null,null,null,null,64,"Sioux Lookout Hydro Inc."]
[null,null,null,null,null,null,null,null,null,null,null,null,null,"","",null,null,null,null,null,null,null,null,null,null,65,"Synergy North Corporation-Kenora Rate Zone"]
[null,null,null,null,null,null,null,null,null,null,null,null,null,"","",null,null,null,null,null,null,null,null,null,null,66,"Synergy North Corporation-Thunder Bay Rate Zone "]
[null,null,null,null,null,null,null,null,null,null,null,null,null,"","",null,null,null,null,null,null,null,null,null,null,67,"Tillsonburg Hydro Inc."]
[null,null,null,null,null,null,null,null,null,null,null,null,null,"","",null,null,null,null,null,null,null,null,null,null,68,"Toronto Hydro-Electric System Limited"]
[null,null,null,null,null,null,null,null,null,null,null,null,null,"","",null,null,null,null,null,null,null,null,null,null,69,"Wasaga Distribution Inc."]
[null,null,null,null,null,null,null,null,null,null,null,null,null,"","",null,null,null,null,null,null,null,null,null,null,70,"Waterloo North Hydro Inc."]
[null,null,null,null,null,null,null,null,null,null,null,null,null,"","",null,null,null,null,null,null,null,null,null,null,71,"Welland Hydro-Electric System Corp."]
[null,null,null,null,null,null,null,null,null,null,null,null,null,"","",null,null,null,null,null,null,null,null,null,null,72,"Wellington North Power Inc."]
[null,null,null,null,null,null,null,null,null,null,null,null,null,"","",null,null,null,null,null,null,null,null,null,null,73,"Westario Power Inc."]
[null,null,null,null,null,null,null,null,null,null,null,null,null,"",""]
[null,null,null,null,null,null,null,null,null,null,null,null,null,"",""]

{"sheet":"Index","index":1,"n_rows":42,"n_cols":6,"rows_kept":42,"cut":false,"hidden":false,"merged":[[41,1,41,5]]}
[]
[]
[]
[]
[]
[]
[]
[]
[]
[]
[]
[]
[]
[]
[1,"LDC Information Sheet",null,null,20,"App.2-G: Service Reliability Indicators"]
[2,"Index",null,null,21,"App.2-H: Other Operating Revenue (TO BE UPDATED AT THE DRAFT RATE ORDER STAGE)"]
[3,"Cost of Service Application Flowchart",null,null,22,"App.2-I: Load Forecast CDM Adjustment Workform"]
[4,"List of Key References",null,null,23,"App.2-IA: Load Forecast Data Instructions"]
[5,"App.2-A: List of Requested Approvals",null,null,24,"App.2-IB:  Actual and Forecast Load and Customer Data"]
[6,"App.2-AA: Capital Projects Table",null,null,25,"App.2-JA: OM&A Summary Analysis (TO BE UPDATED AT THE DRAFT RATE ORDER STAGE) "]
[7,"App.2-AB: Capital Expenditures (TO BE UPDATED AT THE DRAFT RATE ORDER STAGE)",null,null,26,"App.2-JB: Recoverable OM&A Cost Driver Table"]
[8,"App. 2-AC: Customer Engagement Worksheet",null,null,27,"App.2-JC: OM&A Programs Table"]
[9,"App.2-B: General Accounting Instructions Relating to MIFRS Transition - CONTACT OEB STAFF IF TAB REQUIRED",null,null,28,"App.2-JD: OM&A Programs Table"]
[10,"App.2-BA: Fixed Asset Continuity Schedule",null,null,29,"App.2-L: Recoverable OM&A Cost per Customer and per FTE"]
[11,"Appendix 2-BB: Service Life Comparison",null,null,30,"App.2-M: Regulatory Costs Schedule (TO BE UPDATED AT THE DRAFT RATE ORDER STAGE)"]
[12,"App.2-C_DepExp: Depreciation and Amortization Expense",null,null,31,"App.2-N: Shared Services and Corporate Cost Allocation"]
[13,"App.2-D: Overhead Expenses",null,null,32,"App.2-OA: Capital Structure and Cost of Capital"]
[14,"App.2-EA: Account 1575 PP&E Deferral Account (2015 IFRS Adopters) - CONTACT OEB STAFF IF TAB REQUIRED",null,null,33,"App.2-OB: Debt Instruments"]
[15,"App.2-EB: Account 1576 - Accounting Changes Under CGAAP (2012 Changes) - CONTACT OEB STAFF IF TAB REQUIRED",null,null,34,"App.2-Q: Cost of Serving Embedded Distributor(s)"]
[16,"App.2-EC: Account 1576 - Accounting Changes Under CGAAP (2013 Changes) - CONTACT OEB STAFF IF TAB REQUIRED",null,null,35,"App.2-R: Loss Factors"]
[17,"App.2-FA: Renewable Generation Connection Investment Summary (TO BE UPDATED AT THE DRAFT RATE ORDER STAGE)",null,null,36,"App.2-S: Stranded Meter Treatment- CONTACT OEB STAFF IF TAB REQUIRED"]
[18,"App.2-FB: Calculation of Renewable Generation Connection Direct Benefits/Provincial Amount: Renewable Enabling Improvement Investments (TO BE UPDATED AT THE DRAFT RATE ORDER STAGE)",null,null,37,"App.2-Y: Transition to MIFRS Summary Impact - CONTACT OEB STAFF IF TAB REQUIRED"]
[19,"App.2-FC: Calculation of Renewable Generation Connection Direct Benefits/Provincial Amount: Renewable Expansion Investments (TO BE UPDATED AT THE DRAFT RATE ORDER STAGE)",null,null,38,"App.2-YA: One-Time Incremental IFRS Transition Costs - CONTACT OEB STAFF IF TAB REQUIRED"]
[null,null,null,null,39,"App.2-ZA: Commodity Expense"]
[null,null,null,null,40,"App.2-ZB: Cost of Power"]
[]
[]
[]
[]
[]
[]
["Note:","Appendices for the Tariff of Rates and Charges at Current and Proposed Rates, and for the Bill Impacts are now in a separate spreadsheet model. These appendices were formerly 2-Z and 2-W."]

{"sheet":"COS Flowchart","index":2,"n_rows":6,"n_cols":2,"rows_kept":6,"cut":false,"hidden":false,"merged":[[5,1,5,6],[2,1,2,6],[3,1,3,6]]}
[]
[]
[]
[null,"Cost of Service Rate Application Schematic"]
[]
[null,"The Cost of Service Rate Application Schematic is a flowchart that is included as a guide for the components of an application. The schematic demonstrates how demand and costs interrelate to derive the revenue requirement and how the revenue requirement is allocated between classes and through fixed/variable splits to derive rates that will be compensatory for the annual revenue requirement, based on the the forecasted demand.  There is no form to be filled out; therefore, this Schedule is not required to be filed."]

{"sheet":"List of Key References","index":3,"n_rows":0,"n_cols":0,"rows_kept":0,"cut":false,"hidden":false,"merged":[]}

{"sheet":"App.2-A_Requested_Approvals","index":4,"n_rows":48,"n_cols":8,"rows_kept":48,"cut":false,"hidden":false,"merged":[[41,5,41,7],[43,5,43,7],[45,5,45,7],[47,5,47,7],[8,1,8,7],[31,5,31,7],[33,5,33,7],[35,5,35,7],[37,5,37,7],[9,1,9,7],[39,5,39,7],[11,1,11,7],[27,5,27,7],[21,5,21,7],[23,5,23,7],[25,5,25,7],[29,5,29,7],[13,1,13,7],[15,1,15,7],[17,1,17,7],[19,5,19,7]]}
[" ",null,null,null,null,null,"File Number:",{"$f":"EBNUMBER","v":"EB-2022-0016"}]
[null,null,null,null,null,null,"Exhibit:"]
[null,null,null,null,null,null,"Tab:"]
[null,null,null,null,null,null,"Schedule:"]
[null,null,null,null,null,null,"Page:"]
[]
[null,null,null,null,null,null,"Date:","2022-10-24"]
[]
[null,"Appendix 2-A"]
[null,"List of Requested Approvals"]
[]
[null,"The distributor must fill out the following sheet with the complete list of specific approvals requested and relevant section(s) of the legislation must be provided. All approvals, including accounting orders (deferral and variance accounts) new rate classes, revised specific service charges or retail service charges which the applicant is seeking, must be separately identified, as well being clearly documented in the appropriate sections of the application."]
[]
[null,"Additional requests may be added by copying and pasting blank input rows, as needed."]
[]
[null,"If additional requests arise, or requested approvals are removed, during the processing of the application, the distributor should update this list."]
[]
[null,{"$f":"CONCATENATE('LDC Info'!E14,\" is seeking the following approvals in this application:\")","v":"Bluewater Power Distribution Corporation is seeking the following approvals in this application:"}]
[]
[null,1,null,null,null,"Approval of the 2023 Test Year rate base as proposed with Bluewater's average net book value of fixed assets and working capital allowance as set out in Exhibit 2 - Rate Base. "]
[]
[null,2,null,"a",null,"Approval of the 2023 Test Year revenue requirement as proposed in Exhibit 6 - Calculation of Revenue Deficiency or Sufficiency as follows:"]
[]
[null,2,null,"b",null,"Approval of the capital structure, cost of capital parameters, and deemed return on equity and debt proposed in Exhibit 5 - Cost of Capital and Capital Structure."]
[]
[null,2,null,"c",null,"Approval of test year Operations, Maintenance and Administration expenses proposed in Exhibit 4 - Operating Expenses."]
[]
[null,2,null,"d",null,"Approval of test year property taxes and payments in lieu of taxes (PILs) proposed in Exhibit 6 - Revenue Requirement and Revenue Deficiency / Sufficiency "]
[]
[null,2,null,"e",null,"Approval of the 2023 Test Year Service Revenue Requirement of $27,672,099 as proposed in Exhibit 6 - Calculation of Revenue Deficiency or Sufficiency."]
[]
[null,2,null,"f",null,"Approval of the 2023 Revenue Offsets of $1,233,238 as proposed in Exhibit 6 - Revenue Requirement and Revenue Deficiency / Sufficiency."]
[]
[null,2,null,"g",null,"Approval of the 2023 Test Year Base Revenue Requirement of $26,438,861 as proposed in Exhibit 6 - Calculation of Revenue Deficiency or Sufficiency."]
[]
[null,3,null,null,null,"Approval of Cost Allocation as filed in Exhbit 7 - Cost Allocation."]
[]
[null,4,null,null,null,"Approval of 2023 distribution rates and charges, effective May 1, 2023, as proposed in Attachment 8-2 - 2023 Proposed Tariff of Rates and Charges found in Exhibit 8 - Rate Design."]
[]
[null,5,null,null,null,"Approval of updated Retail Transmission Service Rates (“RTSRs”), as identified in Exhibit 8 - Rate Design."]
[]
[null,6,null,"a",null,"Approvals for disposition of Group 1 DVA accounts as of December 31, 2021 of $721,065.88 (including Account 1589) , and associated class specific rate riders a set out in Exhibit 9 - Deferral and Variance Accounts."]
[]
[null,6,null,"b",null,"Approvals for the disposition of Group 2 DVA accounts of ($1,308,207), exlcuding LRAM of $794,592, as of December 31, 2021 with certain adjustments for forecasted amounts as of December 31, 2022 as set out in Exhibit 9 - Deferral and Variance Accounts."]
[]
[null,6,null,"c",null,"Approval for the disposition of the balance in its Lost Revenue Adjustment Mechanism Variance Account (“LRAMVA”) of $794,592, resulting from its Conservation and Demand Management (“CDM”) activities up to December 31, 2022 as identified 9.4. Lost Revenue Adjustment Mechanism Variance Account of Exhibit 9. "]
[]
[null,7,null,null,null,"Other items or amounts that may be requested by Bluewater during the course of this proceeding, and as may be granted by the OEB. "]

{"sheet":"App.2-AA_Capital Projects","index":5,"n_rows":110,"n_cols":15,"rows_kept":110,"cut":false,"hidden":false,"merged":[[11,1,11,14],[112,1,113,15],[9,1,9,14],[8,1,8,14],[108,1,108,14],[110,1,110,14],[109,1,109,14],[13,0,13,13],[20,0,20,13],[54,0,54,13],[61,0,61,13]]}
[null,null,null,null,null,null,null,null,null,null,null,null,null,"File Number:",{"$f":"EBNUMBER","v":"EB-2022-0016"}]
[null,null,null,null,null,null,null,null,null,null,null,null,null,"Exhibit:"]
[null,null,null,null,null,null,null,null,null,null,null,null,null,"Tab:"]
[null,null,null,null,null,null,null,null,null,null,null,null,null,"Schedule:"]
[null,null,null,null,null,null,null,null,null,null,null,null,null,"Page:"]
[]
[null,null,null,null,null,null,null,null,null,null,null,null,null,"Date:","2023-02-13"]
[]
[null,"Appendix 2-AA"]
[null,"Capital Projects Table"]
[]
[]
[null,"Projects",{"$f":"D13-1","v":2013},2014,2015,2016,2017,{"$f":"I13-1","v":2018},{"$f":"J13-1","v":2019},{"$f":"K13-1","v":2020},{"$f":"BridgeYear - 1","v":2021},"2022 Actual","2022 Bridge as filed",{"$f":"TestYear & \" Test Year\"","v":"2023 Test Year"}]
["System Access"]
["UT11","New Connections, Upgrades, Subdivisions",623701.91,856828.89999999956,900248.48999999918,1028174,776707,924273,1264310,1246001,1832038.1099999985,1733217,2000000,2110000]
["M1","Single Phase Meters and Poly Phase Meters",85181,21161.329999999998,35398.639999999999,73671,115638,73241,5751,395981,94380.53,95515,100000,104500]
["M5","GS > 50 KW ",0,0,0,0,136794,150518,206387,0,0,0,0,0]
["M7","Smart Meter Replacement ESA",0,0,553048.0299999998,27010,0,0,0,0,0,0,0,0]
[null,"Miscellaneous (projects under materiality)",19154,7921.83,30635.949999999997,27103,109188,19456,53055,52228,37901.619999999995,{"$f":"14638+72152","v":86790},100000,107500]
[null,"Sub-Total",{"$f":"SUM(C15:C19)","v":728036.91},{"$f":"SUM(D15:D19)","v":885912.05999999947},1519331.1099999989,1155958,1138327,1167488,1529503,1694210,1964320.2599999984,1915522,2200000,2322000]
["System Renewal"]
["UT4 ","27.6kV Neutral Program",1991.95,43364.630000000005,139692.36000000002,64529,0,0,0,0,0,0,0,0]
["UT5","Petrolia",24165,64616.240000000005,55512.479999999996,138588,41355,38972,338871,5661,156686.03999999998,139212,100000,208000]
["UT6","Alvinston/Oil Springs Capital Items",11753,20977.090000000004,12874.62,12548,13224,14534,104412,230902,5707.43,28953,100000,20600]
["UT7","4KV Lines Rebuild/ Load Conversion",82455,3415,99241.639999999985,202065,41919,26717,308320,187281,4524.8599999999997,257512,200000,210000]
["UT8","Pt Edward upgrades",22898,8535.0400000000009,50178.450000000004,39973,92942,285557,30916,74228,82396.570000000007,66263,50000,51300]
["UT14","Cross Arm/Cap & Pin Insulator Replacement Program",75063,133907.27000000002,182129.40999999997,183116,189407,114276,62235,184601,155826.39000000004,98172,150000,153000]
["UT15","Wood Pole Replacement Program",192531,180841.47,784501.3,1151248,1911268,1706437,2040526,2316330,1563009.9700000011,2076665,1900000,1957000]
["UT16","Watford",18611,10013.150000000001,51339.64,50508,50975,7088,47904,37891,62942.859999999986,94484,100000,208000]
["UT18","Unforeseen Capital Fund",185397,350105.77,120327.96000000002,226522,180328,262327,190325,85072,140876.44,183466,200000,175000]
["UT22","8 kv Load Conversion",69534,40386.54,298385.38,163364,129147,0,256060,0,0,0,0,372500]
["UT24","Storm Restoration",275997.90999999997,200803.21,163721.10999999999,209932,256390,212537,311998,235969,568753.05999999982,214550,350000,385000.00000000006]
["UT26","Primary Underground Cable Replacements",320683,179592.94,229915.69999999998,183671,172484,539468,136001,164590,42320.86,348676,300000,322000]
["UT31","Pad Mount Transformer Replacements",58475,52777.45,64389.9,85891,45143,74475,21224,38433,11672.279999999999,34446,192000,82500]
["UT34","27.6kV Lines Upgrades",9084,134870.35999999999,72814.789999999994,357686,109055,13211,10085,0,29326.120000000003,0,0,0]
["UT35","Substation Transformer Replacements",126737.22,0,0,0,0,0,0,0,153980.4,0,0,0]
["UT36","Downtown Secondary Network Cable Replacement",0,0,0,0,0,0,115921,498990,129017.1,226776,350000,0]
["UT37","Pole Line Scott Rd./Tashmoo Ave",0,0,196022.15,74145,0,0,0,0,0,0,0,0]
["UT47","Emergency Transformer Replacement",0,0,236735.06999999995,308029,297897,217559,230866,253558,243556.51999999993,473281,250000,262500]
["UT48","Emergency Primary Line Replacement",0,0,85770.77,49353,22321,190910,57874,95998,92894.64999999998,388570,80000,83500]
["UT52","Delta/Wye Services",0,0,0,0,0,0,153904,0,0,0,0,0]
["UT53","1F8 Lead Cable Elimination",0,0,0,0,0,0,429400,2146,6531.11,0,0,0]
["UT59","Front St. Pole Line Re-build ",0,0,0,0,0,175173,0,0,0,0,0,0]
["UT60","Vault 'K' on George St. - Concrete Lid/Panel Replacement",0,0,0,0,0,9128,160118,0,0,0,0,0]
["UT63","Indian Rd. S. to Plank Rd. - Pole Line Rebuild",0,0,0,0,0,315775,-1139,0,0,0,0,0]
["UT71","PCB Tx Replacement",0,0,0,0,0,0,0,0,27793.200000000001,199338,150000,157500]
["UT72","St. Clair Parkway in Sarnia (North of LaSalle Line)",0,0,0,0,0,0,0,0,0,0,0,262500]
["UT73","Albany Substation breaker upgrade",0,0,0,0,0,0,0,0,0,0,0,210000]
["UT74","4kV System Upgrades",0,0,0,0,0,0,0,0,0,0,0,817500]
["UT75","Progress Drive Substation Upgrade",0,0,0,0,0,0,0,0,0,379260,300000,0]
["UT76","Downtown Switch Replacement",0,0,0,0,0,0,0,0,0,0,75000,131300]
["UT21","27.6 Kv Feeder Extensions",207122.41,5525,371342.63,284250,10358,0,1905,0,0,187416,250000,372500]
[null,"Miscellaneous",169729.62000000002,246300.25999999998,110783.55000000002,80871,39559,169400,95205,94719,62799.159999999996,{"$f":"23315+1391+176353+4636+537+9810+27790","v":243832},195000,217000]
[null,"Sub-Total",{"$f":"SUM(C22:C53)","v":1852228.1099999999},{"$f":"SUM(D22:D53)","v":1676031.4200000002},3325678.9099999992,3866289,3603772,4373544,5102931,4506369,3540615.0200000009,5640872,5292000,6659200]
["System Service"]
["UT25","Remote Load Break Switches",86731.82,6078.65,130503.64999999997,110405,76595,82948,82205,61661,111160.12,62571,90000,96500]
["UT28","Asset Condition Assessment (feeder & substn)",78184,185330.42999999991,138354.62,155300,158865,142095,149720,137223,150245.19999999995,34766,150000,0]
["UT67","Petrolia Wanstead TS",0,0,35000,350000,350000,455000,0,0,0,0,0,0]
[0,"Telecommunications - Operations",0,0,0,0,0,0,0,0,0,0,0,375000]
[null,"Miscellaneous",154657.44,212378.15999999995,67433.37,108916,0,109541,14406,102009,104518.19,{"$f":"128767+0+5295","v":134062},120000,42900]
[null,"Sub-Total",{"$f":"SUM(C56:C60)","v":319573.26},403787.23999999987,371291.63999999996,724621,585460,789584,246331,300893,365923.50999999995,231399,360000,514400]
["General Plant"]
["UT1","Substation Building",27594.67,28503.21,22605.89,51956,165347,92891,31240,4850,16850,31885,75000,82500]
["UT10","Vehicle Replacement",430500,63299.939999999995,77429.52,491583,1080380,551622,281054,996818,514835.77,{"$f":"528007+118844","v":646851},730000,270000]
["UT12","Transformers",80165.799999999974,80004.399999999994,55622.040000000037,18513,141354,36822,247427,63918,207063.85999999996,485126,150000,165000]
["UT19","Service Centre",465404.18000000005,89295.2,47284.28,61861,80100,87198,193164,187543,659469.07999999984,243079,200000,150000]
["UT39","Operations Technology Systems Workflow",2000.8,90919.17,137540.81,0,0,0,0,0,0,0,0,0]
["UT68","Substation #1 Restoration",0,0,303485.76,13050,438,0,0,0,0,0,0,0]
["UT70","Decommission Municipal Substation #20",0,0,0,0,0,0,0,0,85688.94,21575,150000,0]
["IT1","Data Centre Lifecycle",409122,268064.86000000004,95159.920000000013,109888.39000000001,78026,108752,306220,569290,396339.17000000051,425224,290000,185000]
["IT2","Computer Infrastructure Lifecycle",110457,109281.49000000002,130974.26000000001,117126.19,153966,210443,270811,211994,175649.48999999982,293713,200000,200000]
["IT3","Corporate IT Security",19408,71983.12999999999,15266.570000000002,141100.38,86285,137943,344624,203877,160318.04000000004,174880,240000,220000]
["IT4","Internal Technology Development ",195053,338697.35000000003,287977.19999999972,259303.40000000189,313973,346005,311763,344802,372210.02000000444,{"$f":"430955-40000","v":390955},390000,425000]
["IT5","Legislated Business Application Upgrades",189750,6277.5700000000015,157017.07000000007,223653.86000000132,119285,132652,137043,118684,80364.589999999793,172932,250000,300000]
["IT6","Software-Upgrades and Additions",220044,65737.509999999995,28136.150000000009,275625.05,54689,36267,111224,136359,210174.15999999997,162530,110000,110000]
["IT8","SCADA / ODS / OMS / GIS",111428,120118.61999999998,264124.67999999993,205617.57,61993,0,0,0,0,0,0,0]
["IT9","Disaster Recovery Plan Upgrade Phase I,II,III",42290,215542.6,12275.48,105510.53,7302,33488,58430,37058,35716,192681,150000,158000]
["IT33","Utilismart RSVA Utility Data Hub (ODS)",0,0,0,0,0,0,125035,43823,13429.629999999983,0,0,0]
["IT34","Sub 1 Datacentre Expansion",0,0,0,0,0,465234,0,0,0,0,0,0]
["IT35","Business Technology Improvements",0,0,0,0,0,0,0,0,0,217402,280000,435000]
[null,"Vacant Land",0,0,0,0,0,0,0,0,0,null,900000,900000]
["O6","CN Land Rights",null,160000]
[null,"Miscellaneous",202410.09,81365.75,55111.630000000005,224327.91999999995,193617,123382,218020,142730,208272.05,{"$f":"92883+3544+0+25433+22451+2","v":144313},185000,176000]
[null,"Sub-Total",{"$f":"SUM(C63:C83)","v":2505627.54},{"$f":"SUM(D63:D83)","v":1789090.8},1690011.2599999998,2299116.2900000033,2536755,2362699,2636055,3061746,3136380.8000000045,3603146,4300000,3776500]
[null,"Total",{"$f":"SUM(C84+C61+C54+C20)","v":5405465.8200000003},4754821.5199999996,6906312.9199999981,8045984.2900000028,7864314,8693315,9514820,9563218,9007239.5900000036,11390939,12152000,13272100]
[null,"Less Renewable Generation Facility Assets and Other Non-Rate-Regulated Utility Assets (input as negative)"]
[null,"Total",{"$f":"C85-C86","v":5405465.8200000003},{"$f":"D85-D86","v":4754821.5199999996},6906312.9199999981,8045984.2900000028,7864314,8693315,9514820,9563218,9007239.5900000036,11390939,12152000,13272100]
[]
[]
[null,"Reconciliation:"]
[null,"Per above:",{"$f":"+C87","v":5405465.8200000003},{"$f":"+D87","v":4754821.5199999996},6906312.9199999981,8045984.2900000028,7864314,8693315,9514820,9563218,9007239.5900000036,11390939,12152000,13272100]
[null,"Add smart grid",0,0,260289,44385,20206,34467,7791,0,0,0,0,0]
[null,"Misc adjustments",0,-49331,0,0,0,0,1008,0,2477,0,0,0]
[null,"Add increase in Account 1995",-537827,-221296,"n/a","n/a","n/a","n/a","n/a","n/a","n/a","n/a","n/a","n/a"]
[null,"Change in inventory capitalized",100867,71716,64975,327110,-110183,190854,120190,174373,372781,{"$f":"+'App.2-BA_Fixed Asset Cont'!E1027","v":-43351},0]
[null,"Remove meals included in above",-3449,-3421,-9506,-4839,-9172,-10683,-18199,-9058,-12744,-5905,0,0]
[null,"Agrees to audited FS",{"$f":"SUM(C91:C96)","v":4965056.82},4552489.5199999996,7222070.9199999981,8412640.2900000028,7765165,8907953,9625610,9728533,9369753.5900000036,11341683,12152000,{"$f":"SUM(N91:N96)","v":13272100}]
[null,"Remove change in CWIP",-70701,-653288,419818,-513729,-57840,333723,-66633,150341,-329801,697886,0]
[null,"Add increase in Account 2440","n/a","n/a",-360407,-272609,-204153,-364309,-330870,-481627.5,-229470,-929669,-1000000,-1000000]
[null,"Remove non-utility asset",-33157,4731,0,-68999,0,0,null,0,null,0,0]
[null,"Agrees to Appendix 2-BA",{"$f":"SUM(C97:C100)","v":4861198.82},{"$f":"SUM(D97:D100)","v":3903932.5199999996},7281481.9199999981,7557303.2900000028,7503172,8877367,9228107,9397246.5,8810482.5900000036,11109900,11152000,12272100]
[]
[null,null,{"$f":"+'App.2-BA_Fixed Asset Cont'!E151","v":4861199},{"$f":"+'App.2-BA_Fixed Asset Cont'!E233","v":3903933},{"$f":"+'App.2-BA_Fixed Asset Cont'!E405","v":7281482},{"$f":"+'App.2-BA_Fixed Asset Cont'!E495","v":7557303},{"$f":"+'App.2-BA_Fixed Asset Cont'!E585","v":7503172},{"$f":"+'App.2-BA_Fixed Asset Cont'!E675","v":8877367},{"$f":"+'App.2-BA_Fixed Asset Cont'!E765","v":9228107},{"$f":"+'App.2-BA_Fixed Asset Cont'!E855","v":9397246.3699999973},{"$f":"+'App.2-BA_Fixed Asset Cont'!E945","v":8810483.0200000014},{"$f":"+'App.2-BA_Fixed Asset Cont'!E1035","v":11283229}]
[]
[]
[]
[null,"Notes:"]
[]
[null,"1   Please provide a breakdown of the major components of each capital project undertaken in each year.  Please ensure that all projects below the materiality threshold are included in the miscellaneous line.  Add more projects as required."]
[null,"2   The applicant should group projects appropriately and avoid presentations that result in classification of significant components of the capital budget in the miscellaneous category."]

{"sheet":"App.2-AB_Capital Expenditures","index":6,"n_rows":37,"n_cols":36,"rows_kept":37,"cut":false,"hidden":false,"merged":[[15,28,15,29],[13,19,13,21],[37,0,38,35],[36,0,36,35],[29,0,29,35],[30,0,30,35],[31,0,32,35],[33,0,33,35],[34,0,35,35],[8,0,8,35],[9,0,9,35],[13,22,13,24],[13,25,13,27],[13,28,13,30],[13,31,14,31],[13,32,14,32],[13,13,13,15],[13,4,13,6],[12,0,15,0],[12,31,12,35],[13,16,13,18],[13,10,13,12],[15,10,15,11],[13,7,13,9],[13,35,14,35],[12,1,12,30],[13,1,13,3],[15,1,15,2],[27,0,27,35],[25,0,25,35],[15,4,15,5],[26,0,26,35],[13,33,14,33],[13,34,14,34],[15,16,15,17],[15,19,15,20],[15,7,15,8],[15,31,15,35],[15,13,15,14],[15,22,15,23],[15,25,15,26]]}
[null,null,null,null,null,null,null,null,null,null,null,null,null,null,null,null,null,null,null,null,null,null,null,null,null,null,null,null,null,null,null,null,null,"File Number:",null,{"$f":"EBNUMBER","v":"EB-2022-0016"}]
[null,null,null,null,null,null,null,null,null,null,null,null,null,null,null,null,null,null,null,null,null,null,null,null,null,null,null,null,null,null,null,null,null,"Exhibit:"]
[null,null,null,null,null,null,null,null,null,null,null,null,null,null,null,null,null,null,null,null,null,null,null,null,null,null,null,null,null,null,null,null,null,"Tab:"]
[null,null,null,null,null,null,null,null,null,null,null,null,null,null,null,null,null,null,null,null,null,null,null,null,null,null,null,null,null,null,null,null,null,"Schedule:"]
["TO BE UPDATED AT THE DRAFT RATE ORDER STAGE",null,null,null,null,null,null,null,null,null,null,null,null,null,null,null,null,null,null,null,null,null,null,null,null,null,null,null,null,null,null,null,null,"Page:"]
[]
[null,null,null,null,null,null,null,null,null,null,null,null,null,null,null,null,null,null,null,null,null,null,null,null,null,null,null,null,null,null,null,null,null,"Date:",null,"2023-02-13"]
[]
["Appendix 2-AB"]
["Table 2 - Capital Expenditure Summary from Chapter 5 Consolidated\nDistribution System Plan Filing Requirements"]
["First year of Forecast Period:"]
[{"$f":"TestYear","v":2023}]
["CATEGORY","Historical Period (previous plan1 & actual)",null,null,null,null,null,null,null,null,null,null,null,null,null,null,null,null,null,null,null,null,null,null,null,null,null,null,null,null,null,"Forecast Period (planned)"]
[null,{"$f":"E14-1","v":2013},null,null,{"$f":"H14-1","v":2014},null,null,{"$f":"K14-1","v":2015},null,null,{"$f":"N14-1","v":2016},null,null,{"$f":"Q14-1","v":2017},null,null,{"$f":"T14-1","v":2018},null,null,{"$f":"W14-1","v":2019},null,null,{"$f":"Z14-1","v":2020},null,null,{"$f":"AC14-1","v":2021},null,null,{"$f":"AF14-1","v":2022},null,null,{"$f":"A12","v":2023},{"$f":"AF14+1","v":2024},{"$f":"AG14+1","v":2025},{"$f":"AH14+1","v":2026},{"$f":"AI14+1","v":2027}]
[null,"Plan","Actual","Var","Plan","Actual","Var","Plan","Actual","Var","Plan","Actual","Var","Plan","Actual","Var","Plan","Actual","Var","Plan","Actual","Var","Plan","Actual","Var","Plan","Actual","Var","Plan","Actual2","Var"]
[null,"$ '000",null,"%","$ '000",null,"%","$ '000",null,"%","$ '000",null,"%","$ '000",null,"%","$ '000",null,"%","$ '000",null,"%","$ '000",null,"%","$ '000",null,"%","$ '000",null,"%","$ '000"]
["System Access",1250,728,{"$f":"IF(ISERROR((C17-B17)/B17),\"--\",(C17-B17)/B17)","v":-0.41760000000000003},785,886,{"$f":"IF(ISERROR((F17-E17)/E17),\"--\",(F17-E17)/E17)","v":0.1286624203821656},958,1519,{"$f":"IF(ISERROR((I17-H17)/H17),\"--\",(I17-H17)/H17)","v":0.58559498956158662},1230,1156,{"$f":"IF(ISERROR((L17-K17)/K17),\"--\",(L17-K17)/K17)","v":-6.0162601626016263E-2},1252,1138,{"$f":"IF(ISERROR((O17-N17)/N17),\"--\",(O17-N17)/N17)","v":-9.1054313099041537E-2},1115,1167,{"$f":"IF(ISERROR((R17-Q17)/Q17),\"--\",(R17-Q17)/Q17)","v":4.663677130044843E-2},1200,1530,{"$f":"IF(ISERROR((U17-T17)/T17),\"--\",(U17-T17)/T17)","v":0.27500000000000002},1050,1694,{"$f":"IF(ISERROR((X17-W17)/W17),\"--\",(X17-W17)/W17)","v":0.61333333333333329},1400,1964,{"$f":"IF(ISERROR((AA17-Z17)/Z17),\"--\",(AA17-Z17)/Z17)","v":0.40285714285714286},2200,1916,{"$f":"IF(ISERROR((AD17-AC17)/AC17),\"--\",(AD17-AC17)/AC17)","v":-0.12909090909090909},2322,2446,2520,2595,2642]
["System Renewal",2035,1852,{"$f":"IF(ISERROR((C18-B18)/B18),\"--\",(C18-B18)/B18)","v":-8.9926289926289926E-2},2392,1676,{"$f":"IF(ISERROR((F18-E18)/E18),\"--\",(F18-E18)/E18)","v":-0.29933110367892979},2480,3326,{"$f":"IF(ISERROR((I18-H18)/H18),\"--\",(I18-H18)/H18)","v":0.34112903225806451},3686,3866,{"$f":"IF(ISERROR((L18-K18)/K18),\"--\",(L18-K18)/K18)","v":4.8833423765599564E-2},3697,3604,{"$f":"IF(ISERROR((O18-N18)/N18),\"--\",(O18-N18)/N18)","v":-2.5155531512036786E-2},4895,4374,{"$f":"IF(ISERROR((R18-Q18)/Q18),\"--\",(R18-Q18)/Q18)","v":-0.10643513789581205},5340,5103,{"$f":"IF(ISERROR((U18-T18)/T18),\"--\",(U18-T18)/T18)","v":-4.4382022471910115E-2},5290,4506,{"$f":"IF(ISERROR((X18-W18)/W18),\"--\",(X18-W18)/W18)","v":-0.14820415879017013},5370,3541,{"$f":"IF(ISERROR((AA18-Z18)/Z18),\"--\",(AA18-Z18)/Z18)","v":-0.34059590316573557},5292,5641,{"$f":"IF(ISERROR((AD18-AC18)/AC18),\"--\",(AD18-AC18)/AC18)","v":6.5948601662887379E-2},6659,5900,5244,5401,5520]
["System Service",311,320,2.8938906752411574E-2,613,404,-0.34094616639477976,367,371,1.0899182561307902E-2,1118,725,-0.35152057245080504,719,585,-0.18636995827538247,775,790,1.935483870967742E-2,260,246,-5.3846153846153849E-2,350,301,-0.14000000000000001,410,366,-0.10731707317073171,360,231,-0.35833333333333334,514,194,200,206,211]
["General Plant",2871,2506,-0.12713340299547196,2741,1789,-0.34731849689894201,3300,1690,-0.48787878787878786,2441,2299,-5.8172879967226546E-2,3181,2537,-0.20245205910091166,2432,2363,-2.8371710526315791E-2,3099,2636,-0.1494030332365279,3292,3062,-6.9866342648845683E-2,3660,3136,-0.14316939890710381,4300,3603,-0.16209302325581396,{"$f":"2877+900","v":3777},3170,3630,3903,4257]
["TOTAL EXPENDITURE",{"$f":"SUM(B17:B20)","v":6467},{"$f":"SUM(C17:C20)","v":5406},-0.16406370805628576,{"$f":"SUM(E17:E20)","v":6531},{"$f":"SUM(F17:F20)","v":4755},-0.27193385392742309,{"$f":"SUM(H17:H20)","v":7105},{"$f":"SUM(I17:I20)","v":6906},-2.800844475721323E-2,{"$f":"SUM(K17:K20)","v":8475},{"$f":"SUM(L17:L20)","v":8046},-5.0619469026548673E-2,{"$f":"SUM(N17:N20)","v":8849},{"$f":"SUM(O17:O20)","v":7864},-0.11131201265679738,{"$f":"SUM(Q17:Q20)","v":9217},{"$f":"SUM(R17:R20)","v":8694},-5.6742974937615279E-2,9899,9515,-3.8791797151227395E-2,9982,9563,-4.1975556000801439E-2,10840,9007,-0.16909594095940961,12152,11391,-6.2623436471362745E-2,13272,11710,11594,12105,{"$f":"SUM(AJ17:AJ20)","v":12630}]
["Capital Contributions",null,538,"--",null,221,"--",null,360,"--",null,273,"--",null,204,"--",null,364,"--",null,331,"--",null,482,"--",null,229,"--",1000,930,-7.0000000000000007E-2,1000,1000,1000,1000,1000]
["Net Capital Expenditures",{"$f":"B21-B22","v":6467},{"$f":"C21-C22","v":4868},-0.24725529611875677,{"$f":"E21-E22","v":6531},{"$f":"F21-F22","v":4534},-0.30577246975960803,{"$f":"H21-H22","v":7105},{"$f":"I21-I22","v":6546},-7.8676988036593953E-2,{"$f":"K21-K22","v":8475},7773,-8.2831858407079642E-2,{"$f":"N21-N22","v":8849},7660,-0.13436546502429653,{"$f":"Q21-Q22","v":9217},8330,-9.6235217532819786E-2,{"$f":"T21-T22","v":9899},9184,-7.2229518133144766E-2,{"$f":"W21-W22","v":9982},{"$f":"X21-X22","v":9081},-9.0262472450410733E-2,{"$f":"Z21-Z22","v":10840},{"$f":"AA21-AA22","v":8778},-0.19022140221402214,{"$f":"AC21-AC22","v":11152},{"$f":"AD21-AD22","v":10461},-6.1961979913916783E-2,{"$f":"AF21-AF22","v":12272},{"$f":"AG21-AG22","v":10710},10594,11105,11630]
["System O&M",null,3696.8128400000001,"--",null,3718,"--",null,3972,"--",null,3997,"--",null,4113,"--",null,4621,"--",null,4152,"--",null,4137,"--",null,4603,"--",5773.5260003999992,4602,-0.20291343631583786,6490.4870000000001,6685.2016100000001,6885.7576583,7092.3303880490002,7305.1002996904708]
[]
["Notes to the Table:"]
["1. Historical “previous plan” data is not required unless a plan has previously been filed. However, use the last OEB-approved, at least on a Total (Capital) Expenditure basis for the last cost of service rebasing year, and the applicant should include their planned budget in each subsequent historical year up to and including the Bridge Year."]
["2. Indicate the number of months of 'actual' data included in the last year of the Historical Period (normally a 'bridge' year):"]
[]
["Explanatory Notes on Variances (complete only if applicable)"]
["Notes on shifts in forecast vs. historical budgets by category"]
["Note 2 - 2022 'Actual' contains budget figures only "]
[]
["Notes on year over year Plan vs. Actual variances for Total Expenditures"]
[]
[]
["Notes on Plan vs. Actual variance trends for individual expenditure categories"]

{"sheet":"Hidden_CAPEX","index":7,"n_rows":113,"n_cols":9,"rows_kept":113,"cut":false,"hidden":true,"merged":[]}
["Utility Name","EB Number","Test Year","Bridge Year","Last Rebasing Year","Category","Year","Plan","Actual"]
[{"$f":"'LDC Info'!$E$14","v":"Bluewater Power Distribution Corporation"},{"$f":"EBNUMBER","v":"EB-2022-0016"},{"$f":"TestYear","v":2023},{"$f":"BridgeYear","v":2022},{"$f":"RebaseYear","v":2013},"System Access",{"$f":"'App.2-AB_Capital Expenditures'!E14","v":2014},{"$f":"'App.2-AB_Capital Expenditures'!E17","v":785},{"$f":"'App.2-AB_Capital Expenditures'!F17","v":886}]
[{"$f":"'LDC Info'!$E$14","v":"Bluewater Power Distribution Corporation"},"EB-2022-0016",2023,2022,2013,"System Renewal",{"$f":"'App.2-AB_Capital Expenditures'!E14","v":2014},{"$f":"'App.2-AB_Capital Expenditures'!E18","v":2392},{"$f":"'App.2-AB_Capital Expenditures'!F18","v":1676}]
[{"$f":"'LDC Info'!$E$14","v":"Bluewater Power Distribution Corporation"},"EB-2022-0016",2023,2022,2013,"System Service",{"$f":"'App.2-AB_Capital Expenditures'!E14","v":2014},{"$f":"'App.2-AB_Capital Expenditures'!E19","v":613},{"$f":"'App.2-AB_Capital Expenditures'!F19","v":404}]
[{"$f":"'LDC Info'!$E$14","v":"Bluewater Power Distribution Corporation"},"EB-2022-0016",2023,2022,2013,"General Plant",{"$f":"'App.2-AB_Capital Expenditures'!E14","v":2014},{"$f":"'App.2-AB_Capital Expenditures'!E20","v":2741},{"$f":"'App.2-AB_Capital Expenditures'!F20","v":1789}]
[{"$f":"'LDC Info'!$E$14","v":"Bluewater Power Distribution Corporation"},"EB-2022-0016",2023,2022,2013,"Total Expenditure",{"$f":"'App.2-AB_Capital Expenditures'!E14","v":2014},{"$f":"'App.2-AB_Capital Expenditures'!E21","v":6531},{"$f":"'App.2-AB_Capital Expenditures'!F21","v":4755}]
[{"$f":"'LDC Info'!$E$14","v":"Bluewater Power Distribution Corporation"},"EB-2022-0016",2023,2022,2013,"Capital Contributions",{"$f":"'App.2-AB_Capital Expenditures'!E14","v":2014},{"$f":"'App.2-AB_Capital Expenditures'!E22","v":0},{"$f":"'App.2-AB_Capital Expenditures'!F22","v":221}]
[{"$f":"'LDC Info'!$E$14","v":"Bluewater Power Distribution Corporation"},"EB-2022-0016",2023,2022,2013,"Net Capital Expenditures ",{"$f":"'App.2-AB_Capital Expenditures'!E14","v":2014},{"$f":"'App.2-AB_Capital Expenditures'!E23","v":6531},{"$f":"'App.2-AB_Capital Expenditures'!F23","v":4534}]
[{"$f":"'LDC Info'!$E$14","v":"Bluewater Power Distribution Corporation"},"EB-2022-0016",2023,2022,2013,"System O&M",{"$f":"'App.2-AB_Capital Expenditures'!E14","v":2014},{"$f":"'App.2-AB_Capital Expenditures'!E24","v":0},{"$f":"'App.2-AB_Capital Expenditures'!F24","v":3718}]
[{"$f":"'LDC Info'!$E$14","v":"Bluewater Power Distribution Corporation"},"EB-2022-0016",2023,2022,2013,"System Access",{"$f":"'App.2-AB_Capital Expenditures'!H14","v":2015},{"$f":"'App.2-AB_Capital Expenditures'!H17","v":958},{"$f":"'App.2-AB_Capital Expenditures'!I17","v":1519}]
[{"$f":"'LDC Info'!$E$14","v":"Bluewater Power Distribution Corporation"},"EB-2022-0016",2023,2022,2013,"System Renewal",{"$f":"'App.2-AB_Capital Expenditures'!H14","v":2015},{"$f":"'App.2-AB_Capital Expenditures'!H18","v":2480},{"$f":"'App.2-AB_Capital Expenditures'!I18","v":3326}]
[{"$f":"'LDC Info'!$E$14","v":"Bluewater Power Distribution Corporation"},"EB-2022-0016",2023,2022,2013,"System Service",{"$f":"'App.2-AB_Capital Expenditures'!H14","v":2015},{"$f":"'App.2-AB_Capital Expenditures'!H19","v":367},{"$f":"'App.2-AB_Capital Expenditures'!I19","v":371}]
[{"$f":"'LDC Info'!$E$14","v":"Bluewater Power Distribution Corporation"},"EB-2022-0016",2023,2022,2013,"General Plant",{"$f":"'App.2-AB_Capital Expenditures'!H14","v":2015},{"$f":"'App.2-AB_Capital Expenditures'!H20","v":3300},{"$f":"'App.2-AB_Capital Expenditures'!I20","v":1690}]
[{"$f":"'LDC Info'!$E$14","v":"Bluewater Power Distribution Corporation"},"EB-2022-0016",2023,2022,2013,"Total Expenditure",{"$f":"'App.2-AB_Capital Expenditures'!H14","v":2015},{"$f":"'App.2-AB_Capital Expenditures'!H21","v":7105},{"$f":"'App.2-AB_Capital Expenditures'!I21","v":6906}]
[{"$f":"'LDC Info'!$E$14","v":"Bluewater Power Distribution Corporation"},"EB-2022-0016",2023,2022,2013,"Capital Contributions",{"$f":"'App.2-AB_Capital Expenditures'!H14","v":2015},{"$f":"'App.2-AB_Capital Expenditures'!H22","v":0},{"$f":"'App.2-AB_Capital Expenditures'!I22","v":360}]
[{"$f":"'LDC Info'!$E$14","v":"Bluewater Power Distribution Corporation"},"EB-2022-0016",2023,2022,2013,"Net Capital Expenditures ",{"$f":"'App.2-AB_Capital Expenditures'!H14","v":2015},{"$f":"'App.2-AB_Capital Expenditures'!H23","v":7105},{"$f":"'App.2-AB_Capital Expenditures'!I23","v":6546}]
[{"$f":"'LDC Info'!$E$14","v":"Bluewater Power Distribution Corporation"},"EB-2022-0016",2023,2022,2013,"System O&M",{"$f":"'App.2-AB_Capital Expenditures'!H14","v":2015},{"$f":"'App.2-AB_Capital Expenditures'!H24","v":0},{"$f":"'App.2-AB_Capital Expenditures'!I24","v":3972}]
[{"$f":"'LDC Info'!$E$14","v":"Bluewater Power Distribution Corporation"},"EB-2022-0016",2023,2022,2013,"System Access",{"$f":"'App.2-AB_Capital Expenditures'!K14","v":2016},{"$f":"'App.2-AB_Capital Expenditures'!K17","v":1230},{"$f":"'App.2-AB_Capital Expenditures'!L17","v":1156}]
[{"$f":"'LDC Info'!$E$14","v":"Bluewater Power Distribution Corporation"},"EB-2022-0016",2023,2022,2013,"System Renewal",{"$f":"'App.2-AB_Capital Expenditures'!K14","v":2016},{"$f":"'App.2-AB_Capital Expenditures'!K18","v":3686},{"$f":"'App.2-AB_Capital Expenditures'!L18","v":3866}]
[{"$f":"'LDC Info'!$E$14","v":"Bluewater Power Distribution Corporation"},"EB-2022-0016",2023,2022,2013,"System Service",{"$f":"'App.2-AB_Capital Expenditures'!K14","v":2016},{"$f":"'App.2-AB_Capital Expenditures'!K19","v":1118},{"$f":"'App.2-AB_Capital Expenditures'!L19","v":725}]
[{"$f":"'LDC Info'!$E$14","v":"Bluewater Power Distribution Corporation"},"EB-2022-0016",2023,2022,2013,"General Plant",{"$f":"'App.2-AB_Capital Expenditures'!K14","v":2016},{"$f":"'App.2-AB_Capital Expenditures'!K20","v":2441},{"$f":"'App.2-AB_Capital Expenditures'!L20","v":2299}]
[{"$f":"'LDC Info'!$E$14","v":"Bluewater Power Distribution Corporation"},"EB-2022-0016",2023,2022,2013,"Total Expenditure",{"$f":"'App.2-AB_Capital Expenditures'!K14","v":2016},{"$f":"'App.2-AB_Capital Expenditures'!K21","v":8475},{"$f":"'App.2-AB_Capital Expenditures'!L21","v":8046}]
[{"$f":"'LDC Info'!$E$14","v":"Bluewater Power Distribution Corporation"},"EB-2022-0016",2023,2022,2013,"Capital Contributions",{"$f":"'App.2-AB_Capital Expenditures'!K14","v":2016},{"$f":"'App.2-AB_Capital Expenditures'!K22","v":0},{"$f":"'App.2-AB_Capital Expenditures'!L22","v":273}]
[{"$f":"'LDC Info'!$E$14","v":"Bluewater Power Distribution Corporation"},"EB-2022-0016",2023,2022,2013,"Net Capital Expenditures ",{"$f":"'App.2-AB_Capital Expenditures'!K14","v":2016},{"$f":"'App.2-AB_Capital Expenditures'!K23","v":8475},{"$f":"'App.2-AB_Capital Expenditures'!L23","v":7773}]
[{"$f":"'LDC Info'!$E$14","v":"Bluewater Power Distribution Corporation"},"EB-2022-0016",2023,2022,2013,"System O&M",{"$f":"'App.2-AB_Capital Expenditures'!K14","v":2016},{"$f":"'App.2-AB_Capital Expenditures'!K24","v":0},{"$f":"'App.2-AB_Capital Expenditures'!L24","v":3997}]
[{"$f":"'LDC Info'!$E$14","v":"Bluewater Power Distribution Corporation"},"EB-2022-0016",2023,2022,2013,"System Access",{"$f":"'App.2-AB_Capital Expenditures'!N14","v":2017},{"$f":"'App.2-AB_Capital Expenditures'!N17","v":1252},{"$f":"'App.2-AB_Capital Expenditures'!O17","v":1138}]
[{"$f":"'LDC Info'!$E$14","v":"Bluewater Power Distribution Corporation"},"EB-2022-0016",2023,2022,2013,"System Renewal",{"$f":"'App.2-AB_Capital Expenditures'!N14","v":2017},{"$f":"'App.2-AB_Capital Expenditures'!N18","v":3697},{"$f":"'App.2-AB_Capital Expenditures'!O18","v":3604}]
[{"$f":"'LDC Info'!$E$14","v":"Bluewater Power Distribution Corporation"},"EB-2022-0016",2023,2022,2013,"System Service",{"$f":"'App.2-AB_Capital Expenditures'!N14","v":2017},{"$f":"'App.2-AB_Capital Expenditures'!N19","v":719},{"$f":"'App.2-AB_Capital Expenditures'!O19","v":585}]
[{"$f":"'LDC Info'!$E$14","v":"Bluewater Power Distribution Corporation"},"EB-2022-0016",2023,2022,2013,"General Plant",{"$f":"'App.2-AB_Capital Expenditures'!N14","v":2017},{"$f":"'App.2-AB_Capital Expenditures'!N20","v":3181},{"$f":"'App.2-AB_Capital Expenditures'!O20","v":2537}]
[{"$f":"'LDC Info'!$E$14","v":"Bluewater Power Distribution Corporation"},"EB-2022-0016",2023,2022,2013,"Total Expenditure",{"$f":"'App.2-AB_Capital Expenditures'!N14","v":2017},{"$f":"'App.2-AB_Capital Expenditures'!N21","v":8849},{"$f":"'App.2-AB_Capital Expenditures'!O21","v":7864}]
[{"$f":"'LDC Info'!$E$14","v":"Bluewater Power Distribution Corporation"},"EB-2022-0016",2023,2022,2013,"Capital Contributions",{"$f":"'App.2-AB_Capital Expenditures'!N14","v":2017},{"$f":"'App.2-AB_Capital Expenditures'!N22","v":0},{"$f":"'App.2-AB_Capital Expenditures'!O22","v":204}]
[{"$f":"'LDC Info'!$E$14","v":"Bluewater Power Distribution Corporation"},"EB-2022-0016",2023,2022,2013,"Net Capital Expenditures ",{"$f":"'App.2-AB_Capital Expenditures'!N14","v":2017},{"$f":"'App.2-AB_Capital Expenditures'!N23","v":8849},{"$f":"'App.2-AB_Capital Expenditures'!O23","v":7660}]
[{"$f":"'LDC Info'!$E$14","v":"Bluewater Power Distribution Corporation"},"EB-2022-0016",2023,2022,2013,"System O&M",{"$f":"'App.2-AB_Capital Expenditures'!N14","v":2017},{"$f":"'App.2-AB_Capital Expenditures'!N24","v":0},{"$f":"'App.2-AB_Capital Expenditures'!O24","v":4113}]
[{"$f":"'LDC Info'!$E$14","v":"Bluewater Power Distribution Corporation"},{"$f":"EBNUMBER","v":"EB-2022-0016"},{"$f":"TestYear","v":2023},{"$f":"BridgeYear","v":2022},{"$f":"RebaseYear","v":2013},"System Access",{"$f":"'App.2-AB_Capital Expenditures'!Q14","v":2018},{"$f":"'App.2-AB_Capital Expenditures'!Q17","v":1115},{"$f":"'App.2-AB_Capital Expenditures'!R17","v":1167}]
[{"$f":"'LDC Info'!$E$14","v":"Bluewater Power Distribution Corporation"},"EB-2022-0016",2023,2022,2013,"System Renewal",{"$f":"'App.2-AB_Capital Expenditures'!Q14","v":2018},{"$f":"'App.2-AB_Capital Expenditures'!Q18","v":4895},{"$f":"'App.2-AB_Capital Expenditures'!R18","v":4374}]
[{"$f":"'LDC Info'!$E$14","v":"Bluewater Power Distribution Corporation"},"EB-2022-0016",2023,2022,2013,"System Service",{"$f":"'App.2-AB_Capital Expenditures'!Q14","v":2018},{"$f":"'App.2-AB_Capital Expenditures'!Q19","v":775},{"$f":"'App.2-AB_Capital Expenditures'!R19","v":790}]
[{"$f":"'LDC Info'!$E$14","v":"Bluewater Power Distribution Corporation"},"EB-2022-0016",2023,2022,2013,"General Plant",{"$f":"'App.2-AB_Capital Expenditures'!Q14","v":2018},{"$f":"'App.2-AB_Capital Expenditures'!Q20","v":2432},{"$f":"'App.2-AB_Capital Expenditures'!R20","v":2363}]
[{"$f":"'LDC Info'!$E$14","v":"Bluewater Power Distribution Corporation"},"EB-2022-0016",2023,2022,2013,"Total Expenditure",{"$f":"'App.2-AB_Capital Expenditures'!Q14","v":2018},{"$f":"'App.2-AB_Capital Expenditures'!Q21","v":9217},{"$f":"'App.2-AB_Capital Expenditures'!R21","v":8694}]
[{"$f":"'LDC Info'!$E$14","v":"Bluewater Power Distribution Corporation"},"EB-2022-0016",2023,2022,2013,"Capital Contributions",{"$f":"'App.2-AB_Capital Expenditures'!Q14","v":2018},{"$f":"'App.2-AB_Capital Expenditures'!Q22","v":0},{"$f":"'App.2-AB_Capital Expenditures'!R22","v":364}]
[{"$f":"'LDC Info'!$E$14","v":"Bluewater Power Distribution Corporation"},"EB-2022-0016",2023,2022,2013,"Net Capital Expenditures ",{"$f":"'App.2-AB_Capital Expenditures'!Q14","v":2018},{"$f":"'App.2-AB_Capital Expenditures'!Q23","v":9217},{"$f":"'App.2-AB_Capital Expenditures'!R23","v":8330}]
[{"$f":"'LDC Info'!$E$14","v":"Bluewater Power Distribution Corporation"},"EB-2022-0016",2023,2022,2013,"System O&M",{"$f":"'App.2-AB_Capital Expenditures'!Q14","v":2018},{"$f":"'App.2-AB_Capital Expenditures'!Q24","v":0},{"$f":"'App.2-AB_Capital Expenditures'!R24","v":4621}]
[{"$f":"'LDC Info'!$E$14","v":"Bluewater Power Distribution Corporation"},"EB-2022-0016",2023,2022,2013,"System Access",{"$f":"'App.2-AB_Capital Expenditures'!T14","v":2019},{"$f":"'App.2-AB_Capital Expenditures'!T17","v":1200},{"$f":"'App.2-AB_Capital Expenditures'!U17","v":1530}]
[{"$f":"'LDC Info'!$E$14","v":"Bluewater Power Distribution Corporation"},"EB-2022-0016",2023,2022,2013,"System Renewal",{"$f":"'App.2-AB_Capital Expenditures'!T14","v":2019},{"$f":"'App.2-AB_Capital Expenditures'!T18","v":5340},{"$f":"'App.2-AB_Capital Expenditures'!U18","v":5103}]
[{"$f":"'LDC Info'!$E$14","v":"Bluewater Power Distribution Corporation"},"EB-2022-0016",2023,2022,2013,"System Service",{"$f":"'App.2-AB_Capital Expenditures'!T14","v":2019},{"$f":"'App.2-AB_Capital Expenditures'!T19","v":260},{"$f":"'App.2-AB_Capital Expenditures'!U19","v":246}]
[{"$f":"'LDC Info'!$E$14","v":"Bluewater Power Distribution Corporation"},"EB-2022-0016",2023,2022,2013,"General Plant",{"$f":"'App.2-AB_Capital Expenditures'!T14","v":2019},{"$f":"'App.2-AB_Capital Expenditures'!T20","v":3099},{"$f":"'App.2-AB_Capital Expenditures'!U20","v":2636}]
[{"$f":"'LDC Info'!$E$14","v":"Bluewater Power Distribution Corporation"},"EB-2022-0016",2023,2022,2013,"Total Expenditure",{"$f":"'App.2-AB_Capital Expenditures'!T14","v":2019},{"$f":"'App.2-AB_Capital Expenditures'!T21","v":9899},{"$f":"'App.2-AB_Capital Expenditures'!U21","v":9515}]
[{"$f":"'LDC Info'!$E$14","v":"Bluewater Power Distribution Corporation"},"EB-2022-0016",2023,2022,2013,"Capital Contributions",{"$f":"'App.2-AB_Capital Expenditures'!T14","v":2019},{"$f":"'App.2-AB_Capital Expenditures'!T22","v":0},{"$f":"'App.2-AB_Capital Expenditures'!U22","v":331}]
[{"$f":"'LDC Info'!$E$14","v":"Bluewater Power Distribution Corporation"},"EB-2022-0016",2023,2022,2013,"Net Capital Expenditures ",{"$f":"'App.2-AB_Capital Expenditures'!T14","v":2019},{"$f":"'App.2-AB_Capital Expenditures'!T23","v":9899},{"$f":"'App.2-AB_Capital Expenditures'!U23","v":9184}]
[{"$f":"'LDC Info'!$E$14","v":"Bluewater Power Distribution Corporation"},"EB-2022-0016",2023,2022,2013,"System O&M",{"$f":"'App.2-AB_Capital Expenditures'!T14","v":2019},{"$f":"'App.2-AB_Capital Expenditures'!T24","v":0},{"$f":"'App.2-AB_Capital Expenditures'!U24","v":4152}]
[{"$f":"'LDC Info'!$E$14","v":"Bluewater Power Distribution Corporation"},"EB-2022-0016",2023,2022,2013,"System Access",{"$f":"'App.2-AB_Capital Expenditures'!W14","v":2020},{"$f":"'App.2-AB_Capital Expenditures'!W17","v":1050},{"$f":"'App.2-AB_Capital Expenditures'!X17","v":1694}]
[{"$f":"'LDC Info'!$E$14","v":"Bluewater Power Distribution Corporation"},"EB-2022-0016",2023,2022,2013,"System Renewal",{"$f":"'App.2-AB_Capital Expenditures'!W14","v":2020},{"$f":"'App.2-AB_Capital Expenditures'!W18","v":5290},{"$f":"'App.2-AB_Capital Expenditures'!X18","v":4506}]
[{"$f":"'LDC Info'!$E$14","v":"Bluewater Power Distribution Corporation"},"EB-2022-0016",2023,2022,2013,"System Service",{"$f":"'App.2-AB_Capital Expenditures'!W14","v":2020},{"$f":"'App.2-AB_Capital Expenditures'!W19","v":350},{"$f":"'App.2-AB_Capital Expenditures'!X19","v":301}]
[{"$f":"'LDC Info'!$E$14","v":"Bluewater Power Distribution Corporation"},"EB-2022-0016",2023,2022,2013,"General Plant",{"$f":"'App.2-AB_Capital Expenditures'!W14","v":2020},{"$f":"'App.2-AB_Capital Expenditures'!W20","v":3292},{"$f":"'App.2-AB_Capital Expenditures'!X20","v":3062}]
[{"$f":"'LDC Info'!$E$14","v":"Bluewater Power Distribution Corporation"},"EB-2022-0016",2023,2022,2013,"Total Expenditure",{"$f":"'App.2-AB_Capital Expenditures'!W14","v":2020},{"$f":"'App.2-AB_Capital Expenditures'!W21","v":9982},{"$f":"'App.2-AB_Capital Expenditures'!X21","v":9563}]
[{"$f":"'LDC Info'!$E$14","v":"Bluewater Power Distribution Corporation"},"EB-2022-0016",2023,2022,2013,"Capital Contributions",{"$f":"'App.2-AB_Capital Expenditures'!W14","v":2020},{"$f":"'App.2-AB_Capital Expenditures'!W22","v":0},{"$f":"'App.2-AB_Capital Expenditures'!X22","v":482}]
[{"$f":"'LDC Info'!$E$14","v":"Bluewater Power Distribution Corporation"},"EB-2022-0016",2023,2022,2013,"Net Capital Expenditures ",{"$f":"'App.2-AB_Capital Expenditures'!W14","v":2020},{"$f":"'App.2-AB_Capital Expenditures'!W23","v":9982},{"$f":"'App.2-AB_Capital Expenditures'!X23","v":9081}]
[{"$f":"'LDC Info'!$E$14","v":"Bluewater Power Distribution Corporation"},"EB-2022-0016",2023,2022,2013,"System O&M",{"$f":"'App.2-AB_Capital Expenditures'!W14","v":2020},{"$f":"'App.2-AB_Capital Expenditures'!W24","v":0},{"$f":"'App.2-AB_Capital Expenditures'!X24","v":4137}]
[{"$f":"'LDC Info'!$E$14","v":"Bluewater Power Distribution Corporation"},"EB-2022-0016",2023,2022,2013,"System Access",{"$f":"'App.2-AB_Capital Expenditures'!Z14","v":2021},{"$f":"'App.2-AB_Capital Expenditures'!Z17","v":1400},{"$f":"'App.2-AB_Capital Expenditures'!AA17","v":1964}]
[{"$f":"'LDC Info'!$E$14","v":"Bluewater Power Distribution Corporation"},"EB-2022-0016",2023,2022,2013,"System Renewal",{"$f":"'App.2-AB_Capital Expenditures'!Z14","v":2021},{"$f":"'App.2-AB_Capital Expenditures'!Z18","v":5370},{"$f":"'App.2-AB_Capital Expenditures'!AA18","v":3541}]
[{"$f":"'LDC Info'!$E$14","v":"Bluewater Power Distribution Corporation"},"EB-2022-0016",2023,2022,2013,"System Service",{"$f":"'App.2-AB_Capital Expenditures'!Z14","v":2021},{"$f":"'App.2-AB_Capital Expenditures'!Z19","v":410},{"$f":"'App.2-AB_Capital Expenditures'!AA19","v":366}]
[{"$f":"'LDC Info'!$E$14","v":"Bluewater Power Distribution Corporation"},"EB-2022-0016",2023,2022,2013,"General Plant",{"$f":"'App.2-AB_Capital Expenditures'!Z14","v":2021},{"$f":"'App.2-AB_Capital Expenditures'!Z20","v":3660},{"$f":"'App.2-AB_Capital Expenditures'!AA20","v":3136}]
[{"$f":"'LDC Info'!$E$14","v":"Bluewater Power Distribution Corporation"},"EB-2022-0016",2023,2022,2013,"Total Expenditure",{"$f":"'App.2-AB_Capital Expenditures'!Z14","v":2021},{"$f":"'App.2-AB_Capital Expenditures'!Z21","v":10840},{"$f":"'App.2-AB_Capital Expenditures'!AA21","v":9007}]
[{"$f":"'LDC Info'!$E$14","v":"Bluewater Power Distribution Corporation"},"EB-2022-0016",2023,2022,2013,"Capital Contributions",{"$f":"'App.2-AB_Capital Expenditures'!Z14","v":2021},{"$f":"'App.2-AB_Capital Expenditures'!Z22","v":0},{"$f":"'App.2-AB_Capital Expenditures'!AA22","v":229}]
[{"$f":"'LDC Info'!$E$14","v":"Bluewater Power Distribution Corporation"},"EB-2022-0016",2023,2022,2013,"Net Capital Expenditures ",{"$f":"'App.2-AB_Capital Expenditures'!Z14","v":2021},{"$f":"'App.2-AB_Capital Expenditures'!Z23","v":10840},{"$f":"'App.2-AB_Capital Expenditures'!AA23","v":8778}]
[{"$f":"'LDC Info'!$E$14","v":"Bluewater Power Distribution Corporation"},"EB-2022-0016",2023,2022,2013,"System O&M",{"$f":"'App.2-AB_Capital Expenditures'!Z14","v":2021},{"$f":"'App.2-AB_Capital Expenditures'!Z24","v":0},{"$f":"'App.2-AB_Capital Expenditures'!AA24","v":4603}]
[{"$f":"'LDC Info'!$E$14","v":"Bluewater Power Distribution Corporation"},{"$f":"EBNUMBER","v":"EB-2022-0016"},{"$f":"TestYear","v":2023},{"$f":"BridgeYear","v":2022},{"$f":"RebaseYear","v":2013},"System Access",{"$f":"'App.2-AB_Capital Expenditures'!AC14","v":2022},{"$f":"'App.2-AB_Capital Expenditures'!AC17","v":2200},{"$f":"'App.2-AB_Capital Expenditures'!AD17","v":1916}]
[{"$f":"'LDC Info'!$E$14","v":"Bluewater Power Distribution Corporation"},"EB-2022-0016",2023,2022,2013,"System Renewal",{"$f":"'App.2-AB_Capital Expenditures'!AC14","v":2022},{"$f":"'App.2-AB_Capital Expenditures'!AC18","v":5292},{"$f":"'App.2-AB_Capital Expenditures'!AD18","v":5641}]
[{"$f":"'LDC Info'!$E$14","v":"Bluewater Power Distribution Corporation"},"EB-2022-0016",2023,2022,2013,"System Service",{"$f":"'App.2-AB_Capital Expenditures'!AC14","v":2022},{"$f":"'App.2-AB_Capital Expenditures'!AC19","v":360},{"$f":"'App.2-AB_Capital Expenditures'!AD19","v":231}]
[{"$f":"'LDC Info'!$E$14","v":"Bluewater Power Distribution Corporation"},"EB-2022-0016",2023,2022,2013,"General Plant",{"$f":"'App.2-AB_Capital Expenditures'!AC14","v":2022},{"$f":"'App.2-AB_Capital Expenditures'!AC20","v":4300},{"$f":"'App.2-AB_Capital Expenditures'!AD20","v":3603}]
[{"$f":"'LDC Info'!$E$14","v":"Bluewater Power Distribution Corporation"},"EB-2022-0016",2023,2022,2013,"Total Expenditure",{"$f":"'App.2-AB_Capital Expenditures'!AC14","v":2022},{"$f":"'App.2-AB_Capital Expenditures'!AC21","v":12152},{"$f":"'App.2-AB_Capital Expenditures'!AD21","v":11391}]
[{"$f":"'LDC Info'!$E$14","v":"Bluewater Power Distribution Corporation"},"EB-2022-0016",2023,2022,2013,"Capital Contributions",{"$f":"'App.2-AB_Capital Expenditures'!AC14","v":2022},{"$f":"'App.2-AB_Capital Expenditures'!AC22","v":1000},{"$f":"'App.2-AB_Capital Expenditures'!AD22","v":930}]
[{"$f":"'LDC Info'!$E$14","v":"Bluewater Power Distribution Corporation"},"EB-2022-0016",2023,2022,2013,"Net Capital Expenditures ",{"$f":"'App.2-AB_Capital Expenditures'!AC14","v":2022},{"$f":"'App.2-AB_Capital Expenditures'!AC23","v":11152},{"$f":"'App.2-AB_Capital Expenditures'!AD23","v":10461}]
[{"$f":"'LDC Info'!$E$14","v":"Bluewater Power Distribution Corporation"},"EB-2022-0016",2023,2022,2013,"System O&M",{"$f":"'App.2-AB_Capital Expenditures'!AC14","v":2022},{"$f":"'App.2-AB_Capital Expenditures'!AC24","v":5773.5260003999992},{"$f":"'App.2-AB_Capital Expenditures'!AD24","v":4602}]
[{"$f":"'LDC Info'!$E$14","v":"Bluewater Power Distribution Corporation"},"EB-2022-0016",2023,2022,2013,"System Access",{"$f":"'App.2-AB_Capital Expenditures'!AF14","v":2023},{"$f":"'App.2-AB_Capital Expenditures'!AF17","v":2322}]
[{"$f":"'LDC Info'!$E$14","v":"Bluewater Power Distribution Corporation"},"EB-2022-0016",2023,2022,2013,"System Renewal",{"$f":"'App.2-AB_Capital Expenditures'!AF14","v":2023},{"$f":"'App.2-AB_Capital Expenditures'!AF18","v":6659}]
[{"$f":"'LDC Info'!$E$14","v":"Bluewater Power Distribution Corporation"},"EB-2022-0016",2023,2022,2013,"System Service",{"$f":"'App.2-AB_Capital Expenditures'!AF14","v":2023},{"$f":"'App.2-AB_Capital Expenditures'!AF19","v":514}]
[{"$f":"'LDC Info'!$E$14","v":"Bluewater Power Distribution Corporation"},"EB-2022-0016",2023,2022,2013,"General Plant",{"$f":"'App.2-AB_Capital Expenditures'!AF14","v":2023},{"$f":"'App.2-AB_Capital Expenditures'!AF20","v":3777}]
[{"$f":"'LDC Info'!$E$14","v":"Bluewater Power Distribution Corporation"},"EB-2022-0016",2023,2022,2013,"Total Expenditure",{"$f":"'App.2-AB_Capital Expenditures'!AF14","v":2023},{"$f":"'App.2-AB_Capital Expenditures'!AF21","v":13272}]
[{"$f":"'LDC Info'!$E$14","v":"Bluewater Power Distribution Corporation"},"EB-2022-0016",2023,2022,2013,"Capital Contributions",{"$f":"'App.2-AB_Capital Expenditures'!AF14","v":2023},{"$f":"'App.2-AB_Capital Expenditures'!AF22","v":1000}]
[{"$f":"'LDC Info'!$E$14","v":"Bluewater Power Distribution Corporation"},"EB-2022-0016",2023,2022,2013,"Net Capital Expenditures ",{"$f":"'App.2-AB_Capital Expenditures'!AF14","v":2023},{"$f":"'App.2-AB_Capital Expenditures'!AF23","v":12272}]
[{"$f":"'LDC Info'!$E$14","v":"Bluewater Power Distribution Corporation"},"EB-2022-0016",2023,2022,2013,"System O&M",{"$f":"'App.2-AB_Capital Expenditures'!AF14","v":2023},{"$f":"'App.2-AB_Capital Expenditures'!AF24","v":6490.4870000000001}]
[{"$f":"'LDC Info'!$E$14","v":"Bluewater Power Distribution Corporation"},"EB-2022-0016",2023,2022,2013,"System Access",{"$f":"'App.2-AB_Capital Expenditures'!AG14","v":2024},{"$f":"'App.2-AB_Capital Expenditures'!AG17","v":2446}]
[{"$f":"'LDC Info'!$E$14","v":"Bluewater Power Distribution Corporation"},"EB-2022-0016",2023,2022,2013,"System Renewal",{"$f":"'App.2-AB_Capital Expenditures'!AG14","v":2024},{"$f":"'App.2-AB_Capital Expenditures'!AG18","v":5900}]
[{"$f":"'LDC Info'!$E$14","v":"Bluewater Power Distribution Corporation"},"EB-2022-0016",2023,2022,2013,"System Service",{"$f":"'App.2-AB_Capital Expenditures'!AG14","v":2024},{"$f":"'App.2-AB_Capital Expenditures'!AG19","v":194}]
[{"$f":"'LDC Info'!$E$14","v":"Bluewater Power Distribution Corporation"},"EB-2022-0016",2023,2022,2013,"General Plant",{"$f":"'App.2-AB_Capital Expenditures'!AG14","v":2024},{"$f":"'App.2-AB_Capital Expenditures'!AG20","v":3170}]
[{"$f":"'LDC Info'!$E$14","v":"Bluewater Power Distribution Corporation"},"EB-2022-0016",2023,2022,2013,"Total Expenditure",{"$f":"'App.2-AB_Capital Expenditures'!AG14","v":2024},{"$f":"'App.2-AB_Capital Expenditures'!AG21","v":11710}]
[{"$f":"'LDC Info'!$E$14","v":"Bluewater Power Distribution Corporation"},"EB-2022-0016",2023,2022,2013,"Capital Contributions",{"$f":"'App.2-AB_Capital Expenditures'!AG14","v":2024},{"$f":"'App.2-AB_Capital Expenditures'!AG22","v":1000}]
[{"$f":"'LDC Info'!$E$14","v":"Bluewater Power Distribution Corporation"},"EB-2022-0016",2023,2022,2013,"Net Capital Expenditures ",{"$f":"'App.2-AB_Capital Expenditures'!AG14","v":2024},{"$f":"'App.2-AB_Capital Expenditures'!AG23","v":10710}]
[{"$f":"'LDC Info'!$E$14","v":"Bluewater Power Distribution Corporation"},"EB-2022-0016",2023,2022,2013,"System O&M",{"$f":"'App.2-AB_Capital Expenditures'!AG14","v":2024},{"$f":"'App.2-AB_Capital Expenditures'!AG24","v":6685.2016100000001}]
[{"$f":"'LDC Info'!$E$14","v":"Bluewater Power Distribution Corporation"},"EB-2022-0016",2023,2022,2013,"System Access",{"$f":"'App.2-AB_Capital Expenditures'!AH14","v":2025},{"$f":"'App.2-AB_Capital Expenditures'!AH17","v":2520}]
[{"$f":"'LDC Info'!$E$14","v":"Bluewater Power Distribution Corporation"},"EB-2022-0016",2023,2022,2013,"System Renewal",{"$f":"'App.2-AB_Capital Expenditures'!AH14","v":2025},{"$f":"'App.2-AB_Capital Expenditures'!AH18","v":5244}]
[{"$f":"'LDC Info'!$E$14","v":"Bluewater Power Distribution Corporation"},"EB-2022-0016",2023,2022,2013,"System Service",{"$f":"'App.2-AB_Capital Expenditures'!AH14","v":2025},{"$f":"'App.2-AB_Capital Expenditures'!AH19","v":200}]
[{"$f":"'LDC Info'!$E$14","v":"Bluewater Power Distribution Corporation"},"EB-2022-0016",2023,2022,2013,"General Plant",{"$f":"'App.2-AB_Capital Expenditures'!AH14","v":2025},{"$f":"'App.2-AB_Capital Expenditures'!AH20","v":3630}]
[{"$f":"'LDC Info'!$E$14","v":"Bluewater Power Distribution Corporation"},"EB-2022-0016",2023,2022,2013,"Total Expenditure",{"$f":"'App.2-AB_Capital Expenditures'!AH14","v":2025},{"$f":"'App.2-AB_Capital Expenditures'!AH21","v":11594}]
[{"$f":"'LDC Info'!$E$14","v":"Bluewater Power Distribution Corporation"},"EB-2022-0016",2023,2022,2013,"Capital Contributions",{"$f":"'App.2-AB_Capital Expenditures'!AH14","v":2025},{"$f":"'App.2-AB_Capital Expenditures'!AH22","v":1000}]
[{"$f":"'LDC Info'!$E$14","v":"Bluewater Power Distribution Corporation"},"EB-2022-0016",2023,2022,2013,"Net Capital Expenditures ",{"$f":"'App.2-AB_Capital Expenditures'!AH14","v":2025},{"$f":"'App.2-AB_Capital Expenditures'!AH23","v":10594}]
[{"$f":"'LDC Info'!$E$14","v":"Bluewater Power Distribution Corporation"},"EB-2022-0016",2023,2022,2013,"System O&M",{"$f":"'App.2-AB_Capital Expenditures'!AH14","v":2025},{"$f":"'App.2-AB_Capital Expenditures'!AH24","v":6885.7576583}]
[{"$f":"'LDC Info'!$E$14","v":"Bluewater Power Distribution Corporation"},{"$f":"EBNUMBER","v":"EB-2022-0016"},{"$f":"TestYear","v":2023},{"$f":"BridgeYear","v":2022},{"$f":"RebaseYear","v":2013},"System Access",{"$f":"'App.2-AB_Capital Expenditures'!AI14","v":2026},{"$f":"'App.2-AB_Capital Expenditures'!AI17","v":2595}]
[{"$f":"'LDC Info'!$E$14","v":"Bluewater Power Distribution Corporation"},"EB-2022-0016",2023,2022,2013,"System Renewal",{"$f":"'App.2-AB_Capital Expenditures'!AI14","v":2026},{"$f":"'App.2-AB_Capital Expenditures'!AI18","v":5401}]
[{"$f":"'LDC Info'!$E$14","v":"Bluewater Power Distribution Corporation"},"EB-2022-0016",2023,2022,2013,"System Service",{"$f":"'App.2-AB_Capital Expenditures'!AI14","v":2026},{"$f":"'App.2-AB_Capital Expenditures'!AI19","v":206}]
[{"$f":"'LDC Info'!$E$14","v":"Bluewater Power Distribution Corporation"},"EB-2022-0016",2023,2022,2013,"General Plant",{"$f":"'App.2-AB_Capital Expenditures'!AI14","v":2026},{"$f":"'App.2-AB_Capital Expenditures'!AI20","v":3903}]
[{"$f":"'LDC Info'!$E$14","v":"Bluewater Power Distribution Corporation"},"EB-2022-0016",2023,2022,2013,"Total Expenditure",{"$f":"'App.2-AB_Capital Expenditures'!AI14","v":2026},{"$f":"'App.2-AB_Capital Expenditures'!AI21","v":12105}]
[{"$f":"'LDC Info'!$E$14","v":"Bluewater Power Distribution Corporation"},"EB-2022-0016",2023,2022,2013,"Capital Contributions",{"$f":"'App.2-AB_Capital Expenditures'!AI14","v":2026},{"$f":"'App.2-AB_Capital Expenditures'!AI22","v":1000}]
[{"$f":"'LDC Info'!$E$14","v":"Bluewater Power Distribution Corporation"},"EB-2022-0016",2023,2022,2013,"Net Capital Expenditures ",{"$f":"'App.2-AB_Capital Expenditures'!AI14","v":2026},{"$f":"'App.2-AB_Capital Expenditures'!AI23","v":11105}]
[{"$f":"'LDC Info'!$E$14","v":"Bluewater Power Distribution Corporation"},"EB-2022-0016",2023,2022,2013,"System O&M",{"$f":"'App.2-AB_Capital Expenditures'!AI14","v":2026},{"$f":"'App.2-AB_Capital Expenditures'!AI24","v":7092.3303880490002}]
[{"$f":"'LDC Info'!$E$14","v":"Bluewater Power Distribution Corporation"},"EB-2022-0016",2023,2022,2013,"System Access",{"$f":"'App.2-AB_Capital Expenditures'!AJ14","v":2027},{"$f":"'App.2-AB_Capital Expenditures'!AJ17","v":2642}]
[{"$f":"'LDC Info'!$E$14","v":"Bluewater Power Distribution Corporation"},"EB-2022-0016",2023,2022,2013,"System Renewal",{"$f":"'App.2-AB_Capital Expenditures'!AJ14","v":2027},{"$f":"'App.2-AB_Capital Expenditures'!AJ18","v":5520}]
[{"$f":"'LDC Info'!$E$14","v":"Bluewater Power Distribution Corporation"},"EB-2022-0016",2023,2022,2013,"System Service",{"$f":"'App.2-AB_Capital Expenditures'!AJ14","v":2027},{"$f":"'App.2-AB_Capital Expenditures'!AJ19","v":211}]
[{"$f":"'LDC Info'!$E$14","v":"Bluewater Power Distribution Corporation"},"EB-2022-0016",2023,2022,2013,"General Plant",{"$f":"'App.2-AB_Capital Expenditures'!AJ14","v":2027},{"$f":"'App.2-AB_Capital Expenditures'!AJ20","v":4257}]
[{"$f":"'LDC Info'!$E$14","v":"Bluewater Power Distribution Corporation"},"EB-2022-0016",2023,2022,2013,"Total Expenditure",{"$f":"'App.2-AB_Capital Expenditures'!AJ14","v":2027},{"$f":"'App.2-AB_Capital Expenditures'!AJ21","v":12630}]
[{"$f":"'LDC Info'!$E$14","v":"Bluewater Power Distribution Corporation"},"EB-2022-0016",2023,2022,2013,"Capital Contributions",{"$f":"'App.2-AB_Capital Expenditures'!AJ14","v":2027},{"$f":"'App.2-AB_Capital Expenditures'!AJ22","v":1000}]
[{"$f":"'LDC Info'!$E$14","v":"Bluewater Power Distribution Corporation"},"EB-2022-0016",2023,2022,2013,"Net Capital Expenditures ",{"$f":"'App.2-AB_Capital Expenditures'!AJ14","v":2027},{"$f":"'App.2-AB_Capital Expenditures'!AJ23","v":11630}]
[{"$f":"'LDC Info'!$E$14","v":"Bluewater Power Distribution Corporation"},"EB-2022-0016",2023,2022,2013,"System O&M",{"$f":"'App.2-AB_Capital Expenditures'!AJ14","v":2027},{"$f":"'App.2-AB_Capital Expenditures'!AJ24","v":7305.1002996904708}]

{"sheet":"App.2-AC_Customer Engagement","index":8,"n_rows":88,"n_cols":3,"rows_kept":88,"cut":false,"hidden":false,"merged":[[84,0,84,2],[74,2,76,2],[77,1,80,1],[77,2,80,2],[81,1,83,1],[81,2,83,2],[9,0,9,2],[8,0,8,2],[12,0,12,2],[14,0,16,0],[14,1,16,1],[14,2,16,2],[20,0,20,2],[21,0,23,0],[21,1,23,1],[25,2,31,2],[32,1,36,1],[32,2,36,2],[37,1,40,1],[37,2,40,2],[41,0,41,2],[46,0,47,0],[46,1,47,1],[46,2,47,2],[48,0,50,0],[48,1,50,1],[48,2,50,2],[51,0,57,0],[58,1,62,1],[58,2,62,2],[63,0,63,2],[66,0,66,2],[71,1,73,1],[71,2,73,2],[74,1,76,1]]}
[null,"File Number:",{"$f":"EBNUMBER","v":"EB-2022-0016"}]
[null,"Exhibit:"]
[null,"Tab:"]
[null,"Schedule:"]
[null,"Page:"]
[]
[null,"Date:","2022-10-24"]
[]
["Appendix 2-AC"]
["Customer Engagement Activities Summary"]
[]
["Provide a list of customer engagement activities","Provide a list of customer needs and preferences identified through each engagement activity","Actions taken to respond to identified needs and preferences.  If no action was taken, explain why."]
["CUSTOMER SERVICE"]
["Arrears support","Bluewater receives customer inquiries about bill amounts and assistance with arrears. Bluewater identified a need for augmented customer care with regard to financial assistance. ","Bluewater works closely with its customers to offer education on financial assistance programs such as LEAP and OESP, as well as local community offerings through the Inn of the Good Shepherd and other social service agencies. Bluewater has a dedicated Credit and Collections department that offers custom payment arrangements based on the customer’s individual situation. "]
["Bill Inserts","Customers have expressed interest in education concerning offerings from Bluewater and the IESO. Bill inserts provide the opportunity to frequently interact with and educate customers.","Bill inserts share important information with customers, including media releases and information about OESP and conservation initiatives. Inserts are also available online, through ebilling emails, and at reception."]
[]
[]
["Customer walk-ins to office","Identified the need to explain: the bill; payment arrangements; account balances; billing inquiries; services such as ebilling; TOU rates; outages; conservation programs; low income assistance programs available, etc.","Bluewater takes the action to maintain this service option including an ability to make payment in-person. Front office staff are trained to handle majority of issues."]
["Customer phone calls related to service","Identified the need to explain: the bill; payment arrangements; account balances; billing inquiries; services such as ebilling; TOU rates; outages; conservation programs; low income assistance programs available, etc. Reminded of the need to focus on affordable rates and to assist customers with billing and energy literacy information. Identified need for ebilling and self-service options.","Trained all customer service staff to handle inquiries; increased CDM activities to assist with conservation; continued promotion of MyAccount to assist customers with consumption management."]
["Customer phone calls related to storms and outages, maintenance projects and vegetation management ","Identified the need for social media information source on storm outages.","Launched social media channels (Twitter and Facebook) in 2015. Implemented OMS with linkage to distribution system mapping in order to display the outage geographically on the Bluewater website."]
["INFORMATION SESSIONS"]
["Annual General Meeting – Public Information Session","Survey results indicated that customers are interested in being educated about the topics presented, including the electrical industry, rates, conservation, and safety, as well as cybersecurity.","Bluewater invites all customers to its Annual General Meeting informational sessions. Customers are educated about topics including the electrical industry, rates, conservation, and safety."]
[]
[null,null,"In 2016, a survey was conducted at the Annual General Meeting to garner customer feedback."]
["Shareholder Meetings","Bluewater regularly meets with its shareholders to discuss plans, rates, and the impact on customers. ","Bluewater takes shareholder feedback and integrates into strategic planning."]
["Large User Information Sessions, including:","Identified customer preferences, including increased reliability, even if it requires higher costs and information about global adjustment, pole replacement, and conservation.","Meeting the individualized needs of large customers initiatives specific to them."]
[]
["January 2017 – Individual customer meetings ","Customers valued Bluewater’s networking events, face-to-face interaction with the utility, reliable service, and conservation advice. "]
[]
["June 2018 – Large Customer Breakfast; Survey conducted"]
[]
["January 2022 – Large and Intermediate Lunch and Learn"]
["Customer Letters, Unmetered Scattered Load and Sentinel","January 2020, Bluewater sent letters to customers in the Unmetered Scattered Load and Sentinel lighting rate categories.  The purpose of the letter was to advise of our rebasing application and to provide the customer with their current billing information (kWh) so that they may review and provide an update to Bluewater Power if needed.  ","Bluewater did not receive any discrepancies to the information provided to customers."]
[]
[]
["2020-01-01"]
["2022-02-01"]
["Customer Letters, General Service >50, General Service 50-4,99 kW, Large","In February 2020, Bluewater sent letters to all customers in the General Service > 50 kW, General Service 50-4999 kW (Intermediate), and Large Use rate categories.  The purpose of the letter was to advise of our rebasing application, and to provide an overview of the Distribution System Plan.  ","Outcomes:  No customer feedback."]
[]
[]
["2020-02-01"]
["COMMUNITY ENGAGEMENT"]
["Emergency Preparedness Day (annually)","Through feedback from customer care, Bluewater identified a need for Bluewater to be part of the communities it serves, which value safety education","Schools in our communities and the general public attend the Community Awareness Emergency Response event, where Bluewater provides information about safety around power lines. "]
["Power Line Safety campaigns","Through feedback from customer care, Bluewater identified an interest in and need for safety education. ","Through social media, Bluewater promotes power line safety. In partnership with other utilities, an educational video was created and is promoted."]
["Participation in community events, including the Sarnia Home Show, Degroots Garden Show, Seniors Information Fair","Bluewater meets with customers that may not come into the office. Customers appreciate additional dialogue regarding the composition of their invoices.","Community events allow Bluewater staff, including customer service and CDM, to meet face-to-face with its customers and introduce them to Energy Conservation Programs, learn about online resources, such as consumption data, and engage with customers about their electrical bills, generally . Also, promotions are on-going to encourage customers to enrol with e-billing."]
["100 Year Community Celebration BBQs","Survey results identified a need to maintain effective customer service and competitive distribution rates. ","To celebrate to utility’s 100 year anniversary, staff interacted with customers face-to-face at events held in each of the communities served by Bluewater. A survey was conducted to gather feedback on customer experiences. "]
["Take Your Kids to Work Day","Local high school students need information about electricity and careers. ","The students learn about possible jobs at the Bluewater and several topics including safety, health, and wellness. "]
[]
["Charitable donations","Some customers face challenging personal and financial circumstances.","Bluewater supports local charities, which support our customers. "]
[]
[]
["Employee charitable efforts","Some customers face challenging personal and financial circumstances. ","Bluewater employees fundraise internally weekly for charities. Employees also support charitable events, including the Big Bike for Heart and Stroke, the Ontario Utility Hockey Tournament for KidSport Ontario, and a bake sale for Canadian Breast Cancer Foundation."]
[]
[null,"Social media feedback from customers demonstrates support of Bluewater’s relief efforts. ","During the holidays, employees collect funds and non-perishable food to donate to the food local bank. "]
[]
[null,null,"Employees also respond to emergencies, including volunteering to assist with relief efforts to restore power after hurricanes and storms throughout Canada and the United States. Employees also gathered supplies for the victims of Hurricane Harvey. "]
[]
[null,null,"These efforts allow for continued employee empathy and sensitivity to community interaction and account collection activities, as well as continued focus on monitoring of bill impacts and maintaining competitive distribution rates."]
["Networking Events, including:","Bluewater actively participates in its local Chamber of Commerce, as well as other networking events to interact with local businesses and community members.","Staff are able to hear customers’ electricity concerns, provide industry education, and assistance where needed. "]
[]
["Chamber of Commerce events;  Bluewater Power hosted a Business After 5 Event (2016)"]
[]
["Enbridge Famous 5 Speaker Series (2016)"]
["CONSERVATION PROGRAMS"]
["Individual meetings with individual commercial customers ","Customers want to learn more about the conservation programs offered by Bluewater.","The Conservation Demand Management team regularly conduct one-on-one meetings and information sessions with commercial customers to discuss conservation options."]
["Community Events","Customers want to learn more about the conservation programs offered by Bluewater.","The Conservation Demand Management team attended various community events, including the Point Edward Farmers Market, DeGroots Garden Show, Sarnia Kinsmen Ribfest, and CHOK Garden Show, as well as Instant Savings Events in different municipalities served by Bluewater. These events allow for customers to interact with staff and learn about programs that will help the reduce their energy consumption and manage their bills."]
["SURVEYS"]
["Customer Satisfaction Bi-Annual Telephone Survey (Oraclepoll Research),","As required by the OEB, customer satisfaction surveys are conducted bi-annually. ","Bluewater closely monitors the results of the surveys and takes actions to investigate and implement solutions for identified issues. Bluewater considers customers’ desires for new technology and methods to improve service to them. "]
["400 participants per survey"]
[null,"Overall customers satisfaction improved. There was a slight decrease in satisfaction with respect to the reliability of electricity service. Customer service satisfaction increased. ","The slight decrease in reliability satisfaction supports the action to focus on increasing reliability through a pole replacement program. "]
["Conducted in 2014, 2017, 2019, 2021"]
["Public Safety Awareness Survey – Bi-Annual Telephone Survey","As required by OEB, public safety awareness surveys are conducted bi-annually. ","Bluewater closely monitors the results of the surveys, and promotes power line safety through social media."]
[]
["Conducted in 2016, 2018, 2020, 2022"]
["Online Customer Satisfaction Survey","Customers support investing in aging infrastructure and automated switches/modernizing technology. They were interested in usage comparisons, a mobile app, and the promotion of conservation.","Bluewater followed up directly with any customer-specific queries. Bluewater has budgeted to replace aging infrastructure, including wood poles."]
[]
["Conducted in summer of 2018"]
["Home Show Survey ","Results from the 2016 survey indicated that 96% of customers are satisfied with the current level of service. Customers prioritize lowering electricity bills.","Bluewater followed up directly with any customer-specific queries. "]
[]
["Conducted in 2016"]
[]
["Customer Survey on DSP","Customers were satisfied with the service from Bluewater and supported the proposed investments in all four categories.","Bluewater followed up directly with any customer-specific queries. Bluewater proposed the investments that its customers supported in this DSP."]
[]
["Conducted in January 2022"]
["ONLINE COMMUNICATION"]
["Website ","Through ongoing customer feedback, Bluewater identified a need to provide customers with easily accessible information on billing, operations, conservation, and self-service options. ","Detailed billing and account transaction information; Tools to view and manage consumption"]
["MyAccount","Through ongoing customer feedback, Bluewater identified a need to provide customers with easily accessible information on billing and usage.","The MyAccount portal allows customers access to hourly consumption data and monthly bills with ebilling"]
["Outage map","Customer phone calls related to storms and outages identified need for online information source on outages. Customers continuously express interest in outage notification systems.","An outage management system was implemented in 2018, which includes an outage map available on our website. Through our increased use of social media, customers are notified of outages and provided with links to the live outage map. "]

{"sheet":"App.2-B_Acctg Instructions","index":9,"n_rows":56,"n_cols":8,"rows_kept":56,"cut":false,"hidden":true,"merged":[[21,0,21,8],[22,0,22,8],[28,0,30,10],[32,0,32,9],[38,0,38,10],[39,0,39,11],[0,0,0,10],[1,0,1,10],[5,0,5,10],[8,4,8,5],[20,0,20,9],[11,0,18,0],[59,0,59,10],[59,11,59,18],[60,0,60,10],[60,11,60,18],[61,11,61,18],[62,0,62,10],[62,11,62,18],[44,1,44,12],[45,1,45,12],[48,1,48,11],[49,0,50,12],[55,0,55,12],[58,0,58,10],[58,11,58,18],[66,0,66,10],[66,11,66,18],[67,0,67,10],[67,11,67,18],[68,0,68,10],[68,11,68,18],[63,0,63,10],[63,11,63,18],[64,0,64,10],[64,11,64,18],[65,0,65,10],[65,11,65,18],[72,0,72,10],[72,11,72,18],[73,0,73,10],[73,11,73,18],[74,0,74,10],[74,11,74,18],[69,0,69,10],[69,11,69,18],[70,0,70,10],[70,11,70,18],[71,0,71,10],[71,11,71,18],[78,11,78,18],[79,0,79,10],[79,11,79,18],[80,0,80,10],[80,11,80,18],[81,0,81,10],[81,11,81,18],[75,0,75,10],[75,11,75,18],[76,0,76,10],[76,11,76,18],[77,0,77,10],[77,11,77,18],[85,0,85,10],[85,11,85,18],[86,0,86,10],[86,11,86,18],[87,0,87,10],[87,11,87,18],[82,0,82,10],[82,11,82,18],[83,0,83,10],[83,11,83,18],[84,0,84,10],[84,11,84,18],[91,0,91,10],[91,11,91,18],[92,0,92,10],[92,11,92,18],[93,0,93,10],[93,11,93,18],[88,0,88,10],[88,11,88,18],[89,0,89,10],[89,11,89,18],[90,0,90,10],[90,11,90,18],[97,0,97,10],[97,11,97,18],[98,0,98,10],[98,11,98,18],[99,0,99,10],[99,11,99,18],[94,0,94,10],[94,11,94,18],[95,0,95,10],[95,11,95,18],[96,0,96,10],[96,11,96,18],[103,0,103,10],[103,11,103,18],[104,0,104,10],[104,11,104,18],[105,0,105,10],[105,11,105,18],[100,0,100,10],[100,11,100,18],[101,0,101,10],[101,11,101,18],[102,0,102,10],[102,11,102,18],[109,0,109,10],[109,11,109,18],[110,0,110,10],[110,11,110,18],[111,0,111,10],[111,11,111,18],[106,0,106,10],[106,11,106,18],[107,0,107,10],[107,11,107,18],[108,0,108,10],[108,11,108,18]]}
["General Instructions to MIFRS Appendices"]
["Types of Schedules to File"]
[]
["The purpose of this tab is to provide general instructions. The specific instructions to each appendix are listed in footnotes of each appendix."]
[]
["The typical applicant is expected to have made capitalization and depreciation policy changes under CGAAP as permitted by the OEB on January 1, 2012 or mandated by the OEB by January 1, 2013, and adopted IFRS for reporting purposes on January 1, 2015 (transition date January 1, 2014).  Most distributors filing for 2021 rates have rebased with these accounting changes reflected in a prior rebasing application.  If that is the case, information relating to pre-accounting policy changes is not generally required.  Most distributors may have rebased under MIFRS. If that is the case, information related to the accounting standard used prior to IFRS is not generally required. The information to be provided by applicants will depend on when the accounting policy changes were made and when they last rebased.  In general, applicants should provide the following information in the appendices: "]
[]
[]
[null,null,null,null,"Reflecting Accounting Policy Changes in Current Application",null,"Reflected Accounting Policy Changes in Prior Application3","Rebased under MIFRS in Prior Application3"]
[null,null,null,null,"Accounting Policy Changes in 2012 and Adopted IFRS in 2015","Accounting Policy Changes in 2013 and Adopted IFRS in 2015","Adopted IFRS in 2015","IFRS Since 2015"]
[null,2021,"Test",null,"MIFRS","MIFRS","MIFRS","MIFRS"]
["Information to be filed in 2019 CoS Application",2020,"Bridge",null,"MIFRS","MIFRS","MIFRS","MIFRS"]
[null,2019,"Bridge",null,"MIFRS","MIFRS","MIFRS","MIFRS"]
[null,2018,"Bridge",null,"MIFRS","MIFRS","MIFRS","MIFRS"]
[null,2017,"Historical",null,"MIFRS","MIFRS","MIFRS","MIFRS"]
[null,2016,"Historical",null,"MIFRS","MIFRS","MIFRS","MIFRS"]
[null,2015,"Historical",null," MIFRS and Revised CGAAP1"," MIFRS and Revised CGAAP1"," MIFRS and Revised CGAAP1","N/A"]
[null,2014,"Historical",null,"Revised CGAAP","CGAAP and Revised CGAAP2","N/A","N/A"]
[null,2013,"Historical",null,"CGAAP and Revised CGAAP2","N/A","N/A","N/A"]
[]
["1) For the transition year (2014), the applicant may file two appendices, one under Revised CGAAP and one under MIFRS, depending on the materiality of impacts. See the specific instructions under each appendix below for further details."]
["2) For applicants that are reflecting accounting policy changes for the first time in a rebasing application, the applicant must file two appendices in the year that the applicant implemented changes to its capitalization and depreciation policies (2012 or 2013), one before and one after the policy changes."]
["3) Applicants should provide CGAAP and Revised CGAAP schedules (i.e. as indicated in the first two columns of the above table) to support balances in Account 1576 if the account has yet to be disposed of."]
[]
[]
["Appendix 2-BA - Fixed Asset Schedule "]
[]
["Applicants are to provide Appendix 2-BA in accordance with the years and corresponding accounting standards noted in the above table to provide a year over year continuity in fixed assets."]
["If this is the first application where the applicant is rebasing under MIFRS, the applicant should file two appendices, one under Revised CGAAP and one under MIFRS for the transition year (2014), if the change between Revised CGAAP and MIFRS is material.  If the change from the accounting standards is not material, the applicant may choose to only provide one appendix under MIFRS.  However, the applicant must also indicate the fixed asset net book value balance under Revised CGAAP, the total dollar value of the change and explain why it is not material."]
[]
[]
[]
["The applicant must establish the continuity of historical cost for gross assets and accumulated depreciation by asset class by ensuring that the opening balance in the year agrees to the closing balance in the prior year."]
[]
[]
["Appendix 2-Cx - Depreciation and Amortization "]
[]
["Applicants are to provide Appendix 2-C in accordance with the years and corresponding accounting standards listed in the above table. "]
["Appendix 2-C is to be used under all of the scenarios presented in the table above. In the appendix, the applicant will need to indicate which scenario applies. The appendix is to be duplicated for each year and for each accounting standard required as per the above table."]
["Depreciation accounting policy changes were mandated by the OEB by January 1, 2013. In general, no further changes to an applicant's depreciation policy (i.e.  assets' service lives) are expected after the OEB mandated changes by January 1, 2013, unless a change is determined to be necessary in accordance with the depreciation review required under IFRS. If the applicant has made any changes to its depreciation policy subsequent to the OEB mandated changes, for the year of the change, applicants must quantify the change in depreciation. If there are significant changes to multiple asset classes, the applicant must complete Appendix 2-C before and after the change. Applicants must also  explain the nature of the change, the reason for the change, quantify the impact of the change."]
[]
["Appendix 2-E - Account 1575, IFRS-CGAAP Transitional PP&E Amounts (2-EA), Account 1576, Accounting Changes Under CGAAP (2-EB, 2-EC) CONTACT OEB STAFF IF TAB REQUIRED"]
[]
["1) For an applicant that has a balance in Account 1576 to dispose:"]
["·       ","If an applicant changed capitalization and depreciation policies effective January 1, 2012, the applicant must complete Appendix 2-EB "]
["·       ","If an applicant changed capitalization and depreciation policies effective January 1, 2013, the applicant must complete Appendix 2-EC"]
[]
["2) For an applicant that has a balance in Account 1575 to dispose:"]
["·       ","The applicant must complete 2-EA"]
[" If the applicant did not make any further PP&E accounting policy changes beyond the capitalization and depreciation policy changes as mandated by the OEB by January 1, 2013 (i.e. no further changes made on transition to IFRS), the applicant must indicate this and does not need to complete Appendix 2-EA."]
[]
[]
[]
["Appendix 2-Y - Summary of Impacts to Revenue Requirement from Transition to MIFRS CONTACT OEB STAFF IF TAB REQUIRED"]
[]
["Applicants must complete Appendix 2-Y if this is the first rebasing application under MIFRS. An applicant must provide a summary of the dollar impacts of MIFRS to each component of the revenue requirement (e.g. rate base, operating costs, etc.), including the overall impact on the proposed revenue requirement.  Accordingly,  the applicant must identify financial differences and resulting revenue requirement impacts arising from the adoption of MIFRS as compared to CGAAP.  If the applicant is reflecting the changes in capitalization and depreciation policies for the first time in a rebasing application as well, then a comparison between MIFRS and CGAAP before the change in accounting policies should be completed.  If the applicant changed capitalization and depreciation policies and reflected these changes in a prior rebasing application, then a comparison between MIFRS and CGAAP after the change in accounting policies should be completed.  "]

{"sheet":"App.2-BA_Fixed Asset Cont","index":10,"n_rows":1166,"n_cols":19,"rows_kept":1166,"cut":false,"hidden":false,"merged":[[8,0,8,14],[9,0,9,14],[14,3,14,7],[98,0,98,14],[99,0,99,14],[71,1,72,14],[74,1,75,14],[77,1,77,14],[81,1,81,14],[83,1,85,14],[104,3,104,7],[151,2,151,9],[152,2,152,9],[180,0,180,14],[181,0,181,14],[186,3,186,7],[233,2,233,9],[234,2,234,9],[262,0,262,14],[263,0,263,14],[268,3,268,7],[315,2,315,9],[316,2,316,9],[351,0,351,14],[352,0,352,14],[357,3,357,7],[405,2,405,9],[406,2,406,9],[441,0,441,14],[442,0,442,14],[447,3,447,7],[495,2,495,9],[496,2,496,9],[531,0,531,14],[532,0,532,14],[537,3,537,7],[585,2,585,9],[586,2,586,9],[621,0,621,14],[622,0,622,14],[627,3,627,7],[675,2,675,9],[676,2,676,9],[711,0,711,14],[712,0,712,14],[717,3,717,7],[765,2,765,9],[766,2,766,9],[801,0,801,14],[802,0,802,14],[807,3,807,7],[855,2,855,9],[856,2,856,9],[891,0,891,14],[892,0,892,14],[897,3,897,7],[1035,2,1035,9],[1036,2,1036,9],[945,2,945,9],[946,2,946,9],[981,0,981,14],[982,0,982,14],[987,3,987,7],[1079,0,1079,14],[1080,0,1080,14],[1085,3,1085,7],[1134,2,1134,9],[1135,2,1135,9]]}
[null,null,null,null,null,null,null,null,null,null,null,null,null,"File Number:",{"$f":"EBNUMBER","v":"EB-2022-0016"}]
[null,null,null,null,null,null,null,null,null,null,null,null,null,"Exhibit:"]
[null,null,null,null,null,null,null,null,null,null,null,null,null,"Tab:"]
[null,null,null,null,null,null,null,null,null,null,null,null,null,"Schedule:"]
[null,null,null,null,null,null,null,null,null,null,null,null,null,"Page:"]
[]
[null,null,null,null,null,null,null,null,null,null,null,null,null,"Date:","2023-02-13"]
[]
["Appendix 2-BA"]
["Fixed Asset Continuity Schedule 1 "]
[]
[null,null,null,null,"Accounting Standard",null,"MIFRS"]
[null,null,null,null,"Year ",null,2013,"OEB Approved"]
[]
[null,null,null,"Cost",null,null,null,null,null,null,"Accumulated Depreciation"]
["CCA Class 2","OEB Account 3","Description 3","Opening Balance 8","Additions 4","Disposals (NBV = nil)","Disposals 6","Closing Balance",null,"Opening Balance 8","Additions","Disposals (NBV = nil)","Disposals 6","Closing Balance","Net Book Value"]
[null,1609,"Capital Contributions Paid",null,null,null,null,{"$f":"D17+E17+F17+G17","v":0},null,null,null,null,null,{"$f":"J17+K17+M17+L17","v":0},{"$f":"H17+N17","v":0}]
[12,1611,"Computer Software (Formally known as Account 1925)",14938463,799935,null,null,{"$f":"D18+E18+F18+G18","v":15738398},null,-8251501,-2146488,null,null,{"$f":"J18+K18+M18+L18","v":-10397989},{"$f":"H18+N18","v":5340409}]
["CEC",1612,"Land Rights (Formally known as Account 1906)",283160,257200,null,null,540360,null,-268534,-1125,null,null,-269659,{"$f":"H19+N19","v":270701}]
["N/A",1805,"Land",497489,null,null,null,497489,null,null,null,null,null,0,{"$f":"H20+N20","v":497489}]
[47,1808,"Buildings",null,null,null,null,0,null,null,null,null,null,0,{"$f":"H21+N21","v":0}]
[13,1810,"Leasehold Improvements",null,null,null,null,0,null,null,null,null,null,0,0]
[47,1815,"Transformer Station Equipment >50 kV",null,null,null,null,0,null,null,null,null,null,0,0]
[47,1820,"Distribution Station Equipment <50 kV",6674639,355000,null,null,7029639,null,-3382452,-191728,null,null,-3574180,3455459]
[47,1825,"Storage Battery Equipment",null,null,null,null,0,null,null,null,null,null,0,0]
[47,1830,"Poles, Towers & Fixtures",3288021,774250,null,null,4062271,null,-357747,-77886,null,null,-435633,3626638]
[47,1835,"Overhead Conductors & Devices",28062510,477000,null,null,28539510,null,-18207109,-289132,null,null,-18496241,10043269]
[47,1840,"Underground Conduit",1335143,130000,null,null,1465143,null,-153090,-25482,null,null,-178572,1286571]
[47,1845,"Underground Conductors & Devices",20729936,1185000,null,null,21914936,null,-12636534,-368512,null,null,-13005046,8909890]
[47,1850,"Line Transformers",16293962,704750,null,null,16998712,null,-9036347,-242286,null,null,-9278633,7720079]
[47,1855,"Services (Overhead & Underground)",747806,55000,null,null,802806,null,-82027,-32046,null,null,-114073,688733]
[47,1860,"Meters",1216228,50000,null,null,1266228,null,-243109,-59359,null,null,-302468,963760]
[47,1860,"Meters (Smart Meters)",4661948,null,null,null,4661948,null,-729238,-310797,null,null,-1040035,3621913]
["N/A",1905,"Land",null,null,null,null,0,null,null,null,null,null,0,0]
["1b",1908,"Buildings & Fixtures",8157820,212500,null,null,8370320,null,-2035157,-170983,null,null,-2206140,6164180]
[13,1910,"Leasehold Improvements",null,null,null,null,0,null,null,null,null,null,0,0]
[8,1915,"Office Furniture & Equipment (10 years)",968617,10000,null,null,978617,null,-725421,-50860,null,null,-776281,202336]
[8,1915,"Office Furniture & Equipment (5 years)",null,null,null,null,0,null,null,null,null,null,0,0]
[50,1920,"Computer Equip.-Hardware(Post Mar. 19/07)",6320946,881590,null,null,7202536,null,-4583528,-699342,null,null,-5282870,1919666]
[45,1920,"Computer Equip.-Hardware(Post Mar. 22/04)",null,null,null,null,0,null,null,null,null,null,0,0]
[10,1920,"Computer Equip.-Hardware",null,null,null,null,0,null,null,null,null,null,0,0]
[10,1930,"Transportation Equipment",4941416,502500,null,null,5443916,null,-3059881,-328742,null,null,-3388623,2055293]
[8,1935,"Stores Equipment",81138,null,null,null,81138,null,-76074,-5063,null,null,-81137,1]
[8,1940,"Tools, Shop & Garage Equipment",969840,42000,null,null,1011840,null,-707292,-58911,null,null,-766203,245637]
[8,1945,"Measurement & Testing Equipment",361635,10000,null,null,371635,null,-236674,-21282,null,null,-257956,113679]
[8,1950,"Power Operated Equipment",null,null,null,null,0,null,null,null,null,null,0,0]
[8,1955,"Communications Equipment",252975,null,null,null,252975,null,-175060,-13288,null,null,-188348,64627]
[8,1955,"Communication Equipment (Smart Meters)",null,null,null,null,0,null,null,null,null,null,0,0]
[8,1960,"Miscellaneous Equipment ",784532,null,null,null,784532,null,-718014,-13303,null,null,-731317,53215]
[47,1970,"Load Management Controls Customer Premises",464917,null,null,null,464917,null,-464917,0,null,null,-464917,0]
[47,1975,"Load Management Controls Utility Premises",null,null,null,null,0,null,null,null,null,null,0,0]
[47,1980,"System Supervisor Equipment",1313760,20000,null,null,1333760,null,-835238,-47235,null,null,-882473,451287]
[47,1985,"Miscellaneous Fixed Assets",null,null,null,null,0,null,null,null,null,null,0,0]
[47,1990,"Other Tangible Property",645280,null,null,null,645280,null,null,null,null,null,0,645280]
[47,1995,"Contributions & Grants",-6805427,-675457,null,null,-7480884,null,1678529,143820,null,null,1822349,-5658535]
[47,2440,"Deferred Revenue5",null,null,null,null,0,null,null,null,null,null,0,0]
[null,2005,"Property Under Finance Lease7",null,null,null,null,0,null,null,null,null,null,{"$f":"J57+K57+M57+L57","v":0},{"$f":"H57+N57","v":0}]
[null,null,"Reconciling item",null,null,null,-30,-30,null,null,null,null,null,0,-30]
[null,null,"Sub-Total",{"$f":"SUM(D17:D58)","v":117186754},{"$f":"SUM(E17:E58)","v":5791268},{"$f":"SUM(F17:F58)","v":0},{"$f":"SUM(G17:G58)","v":-30},{"$f":"SUM(H17:H58)","v":122977992},null,{"$f":"SUM(J17:J58)","v":-65286415},-5010030,0,0,-70296445,52681547]
[null,null,"Less Socialized Renewable Energy Generation Investments (input as negative)",null,null,null,null,{"$f":"D60+E60+G60","v":0},null,null,null,null,null,{"$f":"J60+K60+M60","v":0},{"$f":"H60+N60","v":0}]
[null,null,"Less Other Non Rate-Regulated Utility Assets (input as negative)",null,null,null,null,{"$f":"D61+E61+G61","v":0},null,null,null,null,null,{"$f":"J61+K61+M61","v":0},{"$f":"H61+N61","v":0}]
[null,null,"Total PP&E",{"$f":"SUM(D59:D61)","v":117186754},{"$f":"SUM(E59:E61)","v":5791268},{"$f":"SUM(F59:F61)","v":0},{"$f":"SUM(G59:G61)","v":-30},{"$f":"SUM(H59:H61)","v":122977992},null,{"$f":"SUM(J59:J61)","v":-65286415},-5010030,0,0,-70296445,52681547]
[null,null,null,"add back cont capital",675457,null,null,null,null,"less:  Overhead Adjustment",62000]
[null,null,null,"total gross capital additions",{"$f":"+E62+E63","v":6466725},null,null,null,null,"Net Depreciation Expense for 2013",{"$f":"+K62+K63","v":-4948030}]
[]
[]
[]
[]
[]
["Notes:"]
[]
[1,"Tables in the format outlined above covering all fixed asset accounts should be submitted for the Test Year, Bridge Year and all relevant historical years.  At a minimum , the applicant must provide data for the earlier of: 1) all historical years back to its last rebasing; or 2) at least three years of historical actuals, in addition to Bridge Year and Test Year forecasts. If this is the first application where the applicant is rebasing under MIFRS, contact OEB staff for further guidance on the appropriate fixed asset continuity schedules to complete (i.e. applicable years and accounting standard for each schedule)."]
[]
[]
[2,"The \"CCA Class\" for fixed assets should generally agree with the CCA Class used for tax purposes in Tax Returns. Fixed Assets sub-components may be used where the underlying asset components are classified under multiple CCA Classes for tax purposes. If an applicant uses any different classes from those shown in the table, an explanation should be provided. (also see note 3)."]
[]
[]
[3,"The table may need to be customized for a utility's asset categories or for any new asset accounts announced or authorized by the OEB."]
[]
[4,"The additions in column (E) must not include construction work in progress (CWIP)."]
[]
[5,"Effective on the date of IFRS adoption, customer contributions will no longer be recorded in Account 1995 Contributions & Grants, but will be recorded in Account 2440, Deferred Revenues.\nAmortization of deferred revenue will be removed from the depreciation expense shown on this fixed asset continuity schedule as it should be included as income in Appendix 2-H Other Revenues."]
[]
[6,"The applicant must ensure that all asset disposals have been clearly identified in the Chapter 2 Appendices for all historic, bridge and test years.  Where a distributor for general financial reporting purposes under IFRS has accounted for the amount of gain or loss on the retirement of assets in a pool of like assets as a charge or credit to income, for reporting and rate application filings, the distributor shall reclassify such gains and losses as depreciation expense, and disclose the amount separately."]
[]
[]
[7,"This account includes the amount recorded under finance leases for plant leased from others and used by the utility in its utility operations."]
[8,"The applicant must establish the continuity of historical cost for gross assets and accumulated depreciation by asset class by ensuring that the opening balance in the year agrees to the closing balance in the prior year."]
[]
[]
[null,null,null,null,null,null,null,null,null,null,null,null,"File Number:",{"$f":"EBNUMBER","v":"EB-2022-0016"}]
[null,null,null,null,null,null,null,null,null,null,null,null,"Exhibit:"]
[null,null,null,null,null,null,null,null,null,null,null,null,"Tab:"]
[null,null,null,null,null,null,null,null,null,null,null,null,"Schedule:"]
[null,null,null,null,null,null,null,null,null,null,null,null,"Page:"]
[]
[null,null,null,null,null,null,null,null,null,null,null,null,"Date:","2022-10-24"]
[]
["Appendix 2-BA"]
["Fixed Asset Continuity Schedule 1 "]
[]
[null,null,null,null,"Accounting Standard",null,"CGAAP"]
[null,null,null,null,"Year ",null,2013]
[]
[null,null,null,"Cost",null,null,null,null,null,null,"Accumulated Depreciation"]
["CCA Class 2","OEB Account 3","Description 3","Opening Balance 8","Additions 4","Disposals (NBV = nil)","Disposals 6","Closing Balance",null,"Opening Balance 8","Additions","Disposals (NBV = nil)","Disposals 6","Closing Balance","Net Book Value"]
[null,1609,"Capital Contributions Paid",null,null,null,null,{"$f":"D107+E107+F107+G107","v":0},null,null,null,null,null,{"$f":"J107+K107+M107+L107","v":0},{"$f":"H107+N107","v":0}]
[12,1611,"Computer Software (Formally known as Account 1925)",14938462,{"$f":"989451+184","v":989635},{"$f":"-4565555-1037528-184","v":-5603267},null,{"$f":"D108+E108+F108+G108","v":10324830},null,-8251683,-2116810,{"$f":"4565555+1037528+184","v":5603267},null,{"$f":"J108+K108+M108+L108","v":-4765226},{"$f":"H108+N108","v":5559604}]
["CEC",1612,"Land Rights (Formally known as Account 1906)",283160,null,-253355,null,29805,null,-268535,-1192,253355,null,-16372,{"$f":"H109+N109","v":13433}]
["N/A",1805,"Land",497489,null,null,null,497489,null,null,null,null,null,0,{"$f":"H110+N110","v":497489}]
[47,1808,"Buildings",null,null,null,null,0,null,null,null,null,null,0,{"$f":"H111+N111","v":0}]
[13,1810,"Leasehold Improvements",null,null,null,null,0,null,null,null,null,null,0,0]
[47,1815,"Transformer Station Equipment >50 kV",null,null,null,null,0,null,null,null,null,null,0,0]
[47,1820,"Distribution Station Equipment <50 kV",6674639,167402,-1539401,null,5302640,null,-3382453,-220406,1539401,null,-2063458,3239182]
[47,1825,"Storage Battery Equipment",null,null,null,null,0,null,null,null,null,null,0,0]
[47,1830,"Poles, Towers & Fixtures",3288021,535801,null,null,3823822,null,-357749,-74568,null,null,-432317,3391505]
[47,1835,"Overhead Conductors & Devices",28062511,553800,-7208233,null,21408078,null,-18207110,-292374,7208233,null,-11291251,10116827]
[47,1840,"Underground Conduit",1335143,211686,null,null,1546829,null,-153091,-25598,null,null,-178689,1368140]
[47,1845,"Underground Conductors & Devices",20729936,259635,-4048327,null,16941244,null,-12636534,-355853,4048327,null,-8944060,7997184]
[47,1850,"Line Transformers",16293962,512341,-3943044,null,12863259,null,-9036347,-239910,3943044,null,-5333213,7530046]
[47,1855,"Services (Overhead & Underground)",747807,175147,null,null,922954,null,-82028,-32945,null,null,-114973,807981]
[47,1860,"Meters",{"$f":"5878176-D123","v":884156},{"$f":"13134","v":13134},null,null,897290,null,{"$f":"-221286","v":-221286},{"$f":"-35854","v":-35854},null,null,-257140,640150]
[47,1860,"Meters (Smart Meters)",4994020,93902,-729238,null,4358684,null,-751060,-337523,729238,null,-359345,3999339]
["N/A",1905,"Land",null,null,null,null,0,null,null,null,null,null,0,0]
["1b",1908,"Buildings & Fixtures",8157821,515860,-768716,null,7904965,null,-2035157,-178130,768716,null,-1444571,6460394]
[13,1910,"Leasehold Improvements",null,null,null,null,0,null,null,null,null,null,0,0]
[8,1915,"Office Furniture & Equipment (10 years)",968617,64833,-568839,null,464611,null,-725206,-43493,568839,null,-199860,264751]
[8,1915,"Office Furniture & Equipment (5 years)",null,null,null,null,0,null,null,null,null,null,0,0]
[50,1920,"Computer Equip.-Hardware(Post Mar. 19/07)",6320945,554938,{"$f":"-3259977-174816","v":-3434793},null,3441090,null,-4583529,-628644,{"$f":"3259977+174816","v":3434793},null,-1777380,1663710]
[45,1920,"Computer Equip.-Hardware(Post Mar. 22/04)",null,null,null,null,0,null,null,null,null,null,0,0]
[10,1920,"Computer Equip.-Hardware",null,null,null,null,0,null,null,null,null,null,0,0]
[10,1930,"Transportation Equipment",4941416,488549,null,-582500,4847465,null,-3059880,-320365,null,574238,-2806007,2041458]
[8,1935,"Stores Equipment",81138,null,-42590,null,38548,null,-76075,-4790,42590,null,-38275,273]
[8,1940,"Tools, Shop & Garage Equipment",969840,{"$f":"28166-37128","v":-8962},{"$f":"-496299-49820+37128","v":-508991},null,451887,null,-707291,-43018,{"$f":"496299+49820-37128","v":508991},null,-241318,210569]
[8,1945,"Measurement & Testing Equipment",361635,null,-194133,null,167502,null,-236673,-16750,194133,null,-59290,108212]
[8,1950,"Power Operated Equipment",null,null,null,null,0,null,null,null,null,null,0,0]
[8,1955,"Communications Equipment",252975,null,-122390,null,130585,null,-175060,-12953,122390,null,-65623,64962]
[8,1955,"Communication Equipment (Smart Meters)",null,null,null,null,0,null,null,null,null,null,0,0]
[8,1960,"Miscellaneous Equipment ",784532,{"$f":"34748+36945","v":71693},{"$f":"-675138","v":-675138},null,181087,null,-718014,-15925,{"$f":"675138","v":675138},null,-58801,122286]
[47,1970,"Load Management Controls Customer Premises",464917,null,-464917,null,0,null,-464917,null,464917,null,0,0]
[47,1975,"Load Management Controls Utility Premises",null,null,null,null,0,null,null,null,null,null,0,0]
[47,1980,"System Supervisor Equipment",1313759,98765,-266928,null,1145596,null,-835237,-44425,266928,null,-612734,532862]
[47,1985,"Miscellaneous Fixed Assets",null,null,null,null,0,null,null,null,null,null,0,0]
[47,1990,"Other Tangible Property",645280,100867,null,null,746147,null,null,null,null,null,0,746147]
[47,1995,"Contributions & Grants",-6805427,-537827,null,null,-7343254,null,1678528,284056,null,null,1962584,-5380670]
[47,2440,"Deferred Revenue5",null,null,null,null,0,null,null,null,null,null,0,{"$f":"H146+N146","v":0}]
[null,2005,"Property Under Finance Lease7",null,null,null,null,0,null,null,null,null,null,0,0]
[null,null,"Sub-Total",{"$f":"SUM(D107:D147)","v":117186754},{"$f":"SUM(E107:E147)","v":4861199},{"$f":"SUM(F107:F147)","v":-30372300},{"$f":"SUM(G107:G147)","v":-582500},{"$f":"SUM(H107:H147)","v":91093153},null,{"$f":"SUM(J107:J147)","v":-65286387},-4757470,30372300,574238,-39097319,51995834]
[null,null,"Less Socialized Renewable Energy Generation Investments (input as negative)",null,null,null,null,{"$f":"D149+E149+G149","v":0},null,null,null,null,null,{"$f":"J149+K149+M149","v":0},{"$f":"H149+N149","v":0}]
[null,null,"Less Other Non Rate-Regulated Utility Assets (input as negative)",null,null,null,null,{"$f":"D150+E150+G150","v":0},null,null,null,null,null,{"$f":"J150+K150+M150","v":0},0]
[null,null,"Total PP&E",{"$f":"SUM(D148:D150)","v":117186754},{"$f":"SUM(E148:E150)","v":4861199},{"$f":"SUM(F148:F150)","v":-30372300},{"$f":"SUM(G148:G150)","v":-582500},{"$f":"SUM(H148:H150)","v":91093153},null,{"$f":"SUM(J148:J150)","v":-65286387},-4757470,30372300,574238,-39097319,51995834]
[null,null,"Depreciation Expense adj. from gain or loss on the retirement of assets (pool of like assets), if applicable6"]
[null,null,"Total",null,null,null,null,null,null,null,{"$f":"K151+K152","v":-4757470}]
[]
[null,null,null,null,null,null,null,null,null,"Less: Fully Allocated Depreciation"]
[10,null,"Transportation",null,null,null,null,null,null,"Transportation"]
[8,null,"Stores Equipment",null,null,null,null,null,null,"Stores Equipment"]
[47,null,"Deferred Revenue",null,null,null,null,null,null,"Deferred Revenue"]
[null,null,null,null,null,null,null,null,null,"Net Depreciation",null,null,{"$f":"K153-M156-M157-M158","v":-4757470}]
[]
[]
[]
[null,null,"per above",{"$f":"+D151","v":117186754},{"$f":"+E151","v":4861199},{"$f":"+F151","v":-30372300},{"$f":"+G151","v":-582500},{"$f":"+H151","v":91093153},null,{"$f":"+J151","v":-65286387},-4757470,30372300,574238,-39097319,51995834]
[null,null,"remove GL 1995"]
[null,null,"GL 2075 - Non Utility Assets",0,33157,0,0,{"$f":"SUM(D165:G165)","v":33157},null,0,-8289,0,0,{"$f":"SUM(J165:M165)","v":-8289},{"$f":"+H165+N165","v":24868}]
[null,null,"GL 2055 - CWIP",240893,70701,0,0,{"$f":"SUM(D166:G166)","v":311594},null,0,0,0,0,{"$f":"SUM(J166:M166)","v":0},{"$f":"+H166+N166","v":311594}]
[null,null,"Total Cost =",{"$f":"SUM(D163:D166)","v":117427647},{"$f":"SUM(E163:E166)","v":4965057},-30372300,-582500,{"$f":"SUM(H163:H166)","v":91437904},null,{"$f":"SUM(J163:J166)","v":-65286387},-4765759,30372300,574238,-39105608,52332296]
[null,null,null,"agrees to audited FS","agrees to audited FS",null,"agrees to audited FS","  agrees to audited FS",null,"agrees to audited FS","agrees to audited FS",null,"agrees to audited FS","agrees to audited FS","agrees to audited FS"]
[]
[null,null,"Per Audited FS =",117427647,{"$f":"5502883-537827","v":4965056},-30372300,-582500,91437901,null,-65286387,-4765762,30372300,574238,-39105610,{"$f":"+H170+N170","v":52332291}]
[]
[]
[null,null,null,null,null,null,null,null,null,null,null,null,null,"File Number:",{"$f":"EBNUMBER","v":"EB-2022-0016"}]
[null,null,null,null,null,null,null,null,null,null,null,null,null,"Exhibit:"]
[null,null,null,null,null,null,null,null,null,null,null,null,null,"Tab:"]
[null,null,null,null,null,null,null,null,null,null,null,null,null,"Schedule:"]
[null,null,null,null,null,null,null,null,null,null,null,null,null,"Page:"]
[]
[null,null,null,null,null,null,null,null,null,null,null,null,null,"Date:","2022-10-24"]
[]
["Appendix 2-BA"]
["Fixed Asset Continuity Schedule 1 "]
[]
[null,null,null,null,"Accounting Standard",null,"CGAAP"]
[null,null,null,null,"Year ",null,2014]
[]
[null,null,null,"Cost",null,null,null,null,null,null,"Accumulated Depreciation"]
["CCA Class 2","OEB Account 3","Description 3","Opening Balance","Additions 4","Disposals (NBV = nil)","Disposals 6","Closing Balance",null,"Opening Balance","Additions","Disposals (NBV = nil)","Disposals 6","Closing Balance","Net Book Value"]
[null,1609,"Capital Contributions Paid",{"$f":"+H107","v":0},null,null,null,{"$f":"SUM(D189:G189)","v":0},null,{"$f":"+N107","v":0},null,null,null,{"$f":"SUM(J189:M189)","v":0},{"$f":"H189+N189","v":0}]
[12,1611,"Computer Software (Formally known as Account 1925)",10324830,{"$f":"692351-40831","v":651520},null,null,{"$f":"SUM(D190:G190)","v":10976350},null,-4765226,-2180898,null,null,{"$f":"SUM(J190:M190)","v":-6946124},{"$f":"H190+N190","v":4030226}]
["CEC",1612,"Land Rights (Formally known as Account 1906)",29805,160000,null,null,189805,null,-16372,-1192,null,null,-17564,{"$f":"H191+N191","v":172241}]
["N/A",1805,"Land",497489,null,null,null,497489,null,0,null,null,null,0,{"$f":"H192+N192","v":497489}]
[47,1808,"Buildings",0,null,null,null,0,null,0,null,null,null,0,{"$f":"H193+N193","v":0}]
[13,1810,"Leasehold Improvements",0,null,null,null,0,null,0,null,null,null,0,0]
[47,1815,"Transformer Station Equipment >50 kV",0,null,null,null,0,null,0,null,null,null,0,0]
[47,1820,"Distribution Station Equipment <50 kV",5302640,79308,null,null,5381948,null,-2063458,-126280,null,null,-2189738,3192210]
[47,1825,"Storage Battery Equipment",0,null,null,null,0,null,0,null,null,null,0,0]
[47,1830,"Poles, Towers & Fixtures",3823822,385717,null,null,4209539,null,-432317,-86341,null,null,-518658,3690881]
[47,1835,"Overhead Conductors & Devices",21408078,428401,null,null,21836479,null,-11291251,-302663,null,null,-11593914,10242565]
[47,1840,"Underground Conduit",1546829,168721,null,null,1715550,null,-178689,-33388,null,null,-212077,1503473]
[47,1845,"Underground Conductors & Devices",16941244,560925,null,null,17502169,null,-8944060,-367474,null,null,-9311534,8190635]
[47,1850,"Line Transformers",12863259,578441,null,null,13441700,null,-5333213,-252284,null,null,-5585497,7856203]
[47,1855,"Services (Overhead & Underground)",922954,192720,null,null,1115674,null,-114973,-39203,null,null,-154176,961498]
[47,1860,"Meters",897290,{"$f":"22896","v":22896},null,null,920186,null,-257140,{"$f":"-378723-K205","v":-36748},null,null,-293888,626298]
[47,1860,"Meters (Smart Meters)",4358684,26175,null,null,4384859,null,-359345,-341975,null,null,-701320,3683539]
["N/A",1905,"Land",0,null,null,null,0,null,0,null,null,null,0,0]
["1b",1908,"Buildings & Fixtures",7904965,128296,null,null,8033261,null,-1444571,-176464,null,null,-1621035,6412226]
[13,1910,"Leasehold Improvements",0,null,null,null,0,null,0,null,null,null,0,0]
[8,1915,"Office Furniture & Equipment (10 years)",464611,9849,null,null,474460,null,-199860,-45826,null,null,-245686,228774]
[8,1915,"Office Furniture & Equipment (5 years)",0,null,null,null,0,null,0,null,null,null,0,0]
[50,1920,"Computer Equip.-Hardware(Post Mar. 19/07)",3441090,401543,null,null,3842633,null,-1777380,-625036,null,null,-2402416,1440217]
[45,1920,"Computer Equip.-Hardware(Post Mar. 22/04)",0,null,null,null,0,null,0,null,null,null,0,0]
[10,1920,"Computer Equip.-Hardware",0,null,null,null,0,null,0,null,null,null,0,0]
[10,1930,"Transportation Equipment",4847465,59530,null,-175913,4731082,null,-2806007,-346069,null,165303,-2986773,1744309]
[8,1935,"Stores Equipment",38548,null,null,null,38548,null,-38275,-113,null,null,-38388,160]
[8,1940,"Tools, Shop & Garage Equipment",451887,59439,null,null,511326,null,-241318,-44674,null,null,-285992,225334]
[8,1945,"Measurement & Testing Equipment",167502,null,null,null,167502,null,-59290,-16750,null,null,-76040,91462]
[8,1950,"Power Operated Equipment",0,null,null,null,0,null,0,null,null,null,0,0]
[8,1955,"Communications Equipment",130585,null,null,null,130585,null,-65623,-11288,null,null,-76911,53674]
[8,1955,"Communication Equipment (Smart Meters)",0,null,null,null,0,null,0,null,null,null,0,0]
[8,1960,"Miscellaneous Equipment ",181087,6270,null,null,187357,null,-58801,-17977,null,null,-76778,110579]
[47,1970,"Load Management Controls Customer Premises",0,null,null,null,0,null,0,null,null,null,0,0]
[47,1975,"Load Management Controls Utility Premises",0,null,null,null,0,null,0,null,null,null,0,0]
[47,1980,"System Supervisor Equipment",1145596,133760,null,null,1279356,null,-612734,-44669,null,null,-657403,621953]
[47,1985,"Miscellaneous Fixed Assets",0,null,null,null,0,null,0,null,null,null,0,0]
[47,1990,"Other Tangible Property",746147,71716,null,null,817863,null,0,null,null,null,0,817863]
[47,1995,"Contributions & Grants",-7343254,-221294,null,null,-7564548,null,1962584,298087,null,null,2260671,-5303877]
[47,2440,"Deferred Revenue5",0,null,null,null,0,null,0,null,null,null,0,0]
[null,2005,"Property Under Finance Lease7",0,null,null,null,0,null,0,null,null,null,0,0]
[null,null,"Sub-Total",{"$f":"SUM(D189:D229)","v":91093153},{"$f":"SUM(E189:E229)","v":3903933},{"$f":"SUM(F189:F229)","v":0},{"$f":"SUM(G189:G229)","v":-175913},{"$f":"SUM(H189:H229)","v":94821173},null,{"$f":"SUM(J189:J229)","v":-39097319},-4799225,0,165303,-43731241,51089932]
[null,null,"Less Socialized Renewable Energy Generation Investments (input as negative)",{"$f":"+H149","v":0},null,null,null,{"$f":"SUM(D231:G231)","v":0},null,{"$f":"+N149","v":0},null,null,null,{"$f":"SUM(J231:M231)","v":0},{"$f":"H231+N231","v":0}]
[null,null,"Less Other Non Rate-Regulated Utility Assets (input as negative)",{"$f":"+H150","v":0},null,null,null,0,null,{"$f":"+N150","v":0},null,null,null,0,{"$f":"H232+N232","v":0}]
[null,null,"Total PP&E",{"$f":"SUM(D230:D232)","v":91093153},{"$f":"SUM(E230:E232)","v":3903933},{"$f":"SUM(F230:F232)","v":0},{"$f":"SUM(G230:G232)","v":-175913},{"$f":"SUM(H230:H232)","v":94821173},null,{"$f":"SUM(J230:J232)","v":-39097319},-4799225,0,165303,-43731241,51089932]
[null,null,"Depreciation Expense adj. from gain or loss on the retirement of assets (pool of like assets), if applicable6"]
[null,null,"Total",null,null,null,null,null,null,null,{"$f":"K233+K234","v":-4799225}]
[]
[null,null,null,null,null,null,null,null,null,"Less: Fully Allocated Depreciation"]
[10,null,"Transportation",null,null,null,null,null,null,"Transportation"]
[8,null,"Stores Equipment",null,null,null,null,null,null,"Stores Equipment"]
[47,null,"Deferred Revenue",null,null,null,null,null,null,"Deferred Revenue"]
[null,null,null,null,null,null,null,null,null,"Net Depreciation",null,null,{"$f":"K235-M238-M239-M240","v":-4799225}]
[]
[]
[]
[null,null,"per above",{"$f":"+D233","v":91093153},{"$f":"+E233","v":3903933},{"$f":"+F233","v":0},{"$f":"+G233","v":-175913},{"$f":"+H233","v":94821173},null,{"$f":"+N163","v":-39097319},{"$f":"+K233","v":-4799225},{"$f":"+L233","v":0},{"$f":"+M233","v":165303},{"$f":"+N233","v":-43731241},{"$f":"+O233","v":51089932}]
[null,null,"remove GL 1995"]
[null,null,"GL 2075 - Non Utility Assets",{"$f":"+H165","v":33157},-4731,0,0,{"$f":"SUM(D247:G247)","v":28426},null,{"$f":"+N165","v":-8289},-6243,0,0,{"$f":"SUM(J247:M247)","v":-14532},{"$f":"+H247+N247","v":13894}]
[null,null,"GL 2055 - CWIP",{"$f":"+H166","v":311594},653288,0,0,{"$f":"SUM(D248:G248)","v":964882},null,{"$f":"+N166","v":0},0,0,0,{"$f":"SUM(J248:M248)","v":0},{"$f":"+H248+N248","v":964882}]
[null,null,"Total Cost =",{"$f":"SUM(D245:D248)","v":91437904},{"$f":"SUM(E245:E248)","v":4552490},{"$f":"SUM(F245:F248)","v":0},{"$f":"SUM(G245:G248)","v":-175913},{"$f":"SUM(H245:H248)","v":95814481},null,{"$f":"SUM(J245:J248)","v":-39105608},-4805468,0,165303,-43745773,52068708]
[null,null,null,"agrees to audited FS","agrees to audited FS",null,"agrees to audited FS","  agrees to audited FS",null,"agrees to audited FS","agrees to audited FS",null,"agrees to audited FS","agrees to audited FS","agrees to audited FS"]
[]
[null,null,"Per Audited FS =",{"$f":"+H170","v":91437901},{"$f":"4773786-221294","v":4552492},null,-175913,95814480,null,{"$f":"+N170","v":-39105610},-4805468,null,165304,-43745774,{"$f":"+H252+N252","v":52068706}]
[]
[]
[null,null,null,null,null,null,null,null,null,null,null,null,null,"File Number:",{"$f":"EBNUMBER","v":"EB-2022-0016"}]
[null,null,null,null,null,null,null,null,null,null,null,null,null,"Exhibit:"]
[null,null,null,null,null,null,null,null,null,null,null,null,null,"Tab:"]
[null,null,null,null,null,null,null,null,null,null,null,null,null,"Schedule:"]
[null,null,null,null,null,null,null,null,null,null,null,null,null,"Page:"]
[]
[null,null,null,null,null,null,null,null,null,null,null,null,null,"Date:","2022-10-24"]
[]
["Appendix 2-BA"]
["Fixed Asset Continuity Schedule 1 "]
[]
[null,null,null,null,"Accounting Standard",null,"MIFRS"]
[null,null,null,null,"Year ",null,2014]
[]
[null,null,null,"Cost",null,null,null,null,null,null,"Accumulated Depreciation"]
["CCA Class 2","OEB Account 3","Description 3","Opening Balance","Additions 4","IFRS Opening Adjustment","Disposals 6","Closing Balance",null,"Opening Balance","Additions","IFRS Opening Adjustment","Disposals 6","Closing Balance","Net Book Value"]
[null,1609,"Capital Contributions Paid",{"$f":"+H107","v":0},null,null,null,{"$f":"SUM(D271:G271)","v":0},null,{"$f":"+N107","v":0},null,null,null,{"$f":"SUM(J271:M271)","v":0},{"$f":"H271+N271","v":0}]
[12,1611,"Computer Software (Formally known as Account 1925)",10324830,{"$f":"692351-40831","v":651520},-4765227,null,{"$f":"SUM(D272:G272)","v":6211123},null,-4765226,-2180898,4765227,null,{"$f":"SUM(J272:M272)","v":-2180897},{"$f":"H272+N272","v":4030226}]
["CEC",1612,"Land Rights (Formally known as Account 1906)",29805,160000,-16372,null,173433,null,-16372,-1192,16372,null,-1192,{"$f":"H273+N273","v":172241}]
["N/A",1805,"Land",497489,null,null,null,497489,null,0,null,null,null,0,{"$f":"H274+N274","v":497489}]
[47,1808,"Buildings",0,null,null,null,0,null,0,null,null,null,0,{"$f":"H275+N275","v":0}]
[13,1810,"Leasehold Improvements",0,null,null,null,0,null,0,null,null,null,0,0]
[47,1815,"Transformer Station Equipment >50 kV",0,null,null,null,0,null,0,null,null,null,0,0]
[47,1820,"Distribution Station Equipment <50 kV",5302640,79308,-2063460,null,3318488,null,-2063458,-126280,2063460,null,-126278,3192210]
[47,1825,"Storage Battery Equipment",0,null,null,null,0,null,0,null,null,null,0,0]
[47,1830,"Poles, Towers & Fixtures",3823822,385717,-432317,null,3777222,null,-432317,-86341,432317,null,-86341,3690881]
[47,1835,"Overhead Conductors & Devices",21408078,428402,-11291251,null,10545229,null,-11291251,-302663,11291251,null,-302663,10242566]
[47,1840,"Underground Conduit",1546829,168722,-178689,null,1536862,null,-178689,-33388,178689,null,-33388,1503474]
[47,1845,"Underground Conductors & Devices",16941244,560924,-8944060,null,8558108,null,-8944060,-367474,8944060,null,-367474,8190634]
[47,1850,"Line Transformers",12863259,578441,-5333213,null,8108487,null,-5333213,-252284,5333213,null,-252284,7856203]
[47,1855,"Services (Overhead & Underground)",922954,192720,-114973,null,1000701,null,-114973,-39203,114973,null,-39203,961498]
[47,1860,"Meters",897290,{"$f":"22895","v":22895},{"$f":"-257140","v":-257140},null,663045,null,-257140,{"$f":"-378723-K287","v":-36748},{"$f":"257140","v":257140},null,-36748,626297]
[47,1860,"Meters (Smart Meters)",4358684,26175,-359345,null,4025514,null,-359345,-341975,359345,null,-341975,3683539]
["N/A",1905,"Land",0,null,null,null,0,null,0,null,null,null,0,0]
["1b",1908,"Buildings & Fixtures",7904965,128295,-1444571,null,6588689,null,-1444571,-176464,1444571,null,-176464,6412225]
[13,1910,"Leasehold Improvements",0,null,null,null,0,null,0,null,null,null,0,0]
[8,1915,"Office Furniture & Equipment (10 years)",464611,9848,-199860,null,274599,null,-199860,-45826,199860,null,-45826,228773]
[8,1915,"Office Furniture & Equipment (5 years)",0,null,null,null,0,null,0,null,null,null,0,0]
[50,1920,"Computer Equip.-Hardware(Post Mar. 19/07)",3441090,401544,-1777380,null,2065254,null,-1777380,-625036,1777380,null,-625036,1440218]
[45,1920,"Computer Equip.-Hardware(Post Mar. 22/04)",0,null,null,null,0,null,0,null,null,null,0,0]
[10,1920,"Computer Equip.-Hardware",0,null,null,null,0,null,0,null,null,null,0,0]
[10,1930,"Transportation Equipment",4847465,59531,{"$f":"-2806007+163183","v":-2642824},-175914,2088258,null,-2806007,-346069,2642824,165304,-343948,1744310]
[8,1935,"Stores Equipment",38548,null,-38274,null,274,null,-38275,-113,38274,null,-114,160]
[8,1940,"Tools, Shop & Garage Equipment",451887,59439,-241318,null,270008,null,-241318,-44674,241318,null,-44674,225334]
[8,1945,"Measurement & Testing Equipment",167502,null,-59290,null,108212,null,-59290,-16750,59290,null,-16750,91462]
[8,1950,"Power Operated Equipment",0,null,null,null,0,null,0,null,null,null,0,0]
[8,1955,"Communications Equipment",130585,null,-65623,null,64962,null,-65623,-11288,65623,null,-11288,53674]
[8,1955,"Communication Equipment (Smart Meters)",0,null,null,null,0,null,0,null,null,null,0,0]
[8,1960,"Miscellaneous Equipment ",181087,6270,-58802,null,128555,null,-58801,-17977,58802,null,-17976,110579]
[47,1970,"Load Management Controls Customer Premises",0,null,null,null,0,null,0,null,null,null,0,0]
[47,1975,"Load Management Controls Utility Premises",0,null,null,null,0,null,0,null,null,null,0,0]
[47,1980,"System Supervisor Equipment",1145596,133760,-612734,null,666622,null,-612734,-44669,612734,null,-44669,621953]
[47,1985,"Miscellaneous Fixed Assets",0,null,null,null,0,null,0,null,null,null,0,0]
[47,1990,"Other Tangible Property",746147,71716,null,null,817863,null,0,null,null,null,0,817863]
[47,1995,"Contributions & Grants",-7343254,0,{"$f":"1962584","v":1962584},null,-5380670,null,1962584,{"$f":"298087-8852","v":289235},-1962584,null,289235,-5091435]
[47,2440,"Deferred Revenue5",0,-221294,null,null,-221294,null,0,8852,null,null,8852,-212442]
[null,2005,"Property Under Finance Lease7",0,null,null,null,0,null,0,null,null,null,0,0]
[null,null,"Sub-Total",{"$f":"SUM(D271:D311)","v":91093153},{"$f":"SUM(E271:E311)","v":3903933},{"$f":"SUM(F271:F311)","v":-38934139},{"$f":"SUM(G271:G311)","v":-175914},{"$f":"SUM(H271:H311)","v":55887033},null,{"$f":"SUM(J271:J311)","v":-39097319},-4799225,38934139,165304,-4797101,51089932]
[null,null,"Less Socialized Renewable Energy Generation Investments (input as negative)",{"$f":"+H149","v":0},null,null,null,{"$f":"SUM(D313:G313)","v":0},null,{"$f":"+N149","v":0},null,null,null,{"$f":"SUM(J313:M313)","v":0},{"$f":"H313+N313","v":0}]
[null,null,"Less Other Non Rate-Regulated Utility Assets (input as negative)",{"$f":"+H150","v":0},null,null,null,0,null,{"$f":"+N150","v":0},null,null,null,0,{"$f":"H314+N314","v":0}]
[null,null,"Total PP&E",{"$f":"SUM(D312:D314)","v":91093153},{"$f":"SUM(E312:E314)","v":3903933},{"$f":"SUM(F312:F314)","v":-38934139},{"$f":"SUM(G312:G314)","v":-175914},{"$f":"SUM(H312:H314)","v":55887033},null,{"$f":"SUM(J312:J314)","v":-39097319},-4799225,38934139,165304,-4797101,51089932]
[null,null,"Depreciation Expense adj. from gain or loss on the retirement of assets (pool of like assets), if applicable6"]
[null,null,"Total",null,null,null,null,null,null,null,{"$f":"K315+K316","v":-4799225}]
[]
[null,null,null,null,null,null,null,null,null,"Less: Fully Allocated Depreciation"]
[10,null,"Transportation",null,null,null,null,null,null,"Transportation"]
[8,null,"Stores Equipment",null,null,null,null,null,null,"Stores Equipment"]
[47,null,"Deferred Revenue",null,null,null,null,null,null,"Deferred Revenue",null,null,{"$f":"-K310","v":-8852}]
[null,null,null,null,null,null,null,null,null,"Net Depreciation",null,null,{"$f":"K317-M320-M321-M322","v":-4790373}]
[]
[]
[]
[null,null,null,"CGAAP",null,null,null,"IFRS",null,"CGAAP",null,null,null,"IFRS","IFRS"]
[null,null,"per above",{"$f":"+D315","v":91093153},3903933,-38934139,-175914,55887033,null,{"$f":"+J315","v":-39097319},-4799225,38934139,165304,-4797101,51089932]
[null,null,"remove GL 2440",0,{"$f":"-E310","v":221294},{"$f":"-F310","v":0},0,{"$f":"SUM(D329:G329)","v":221294},null,0,{"$f":"-K310","v":-8852},{"$f":"-L310","v":0},0,{"$f":"SUM(J329:M329)","v":-8852},{"$f":"+H329+N329","v":212442}]
[null,null,"GL 2075 - Non Utility Assets",{"$f":"+H165","v":33157},{"$f":"3769-8500","v":-4731},-8289,0,{"$f":"SUM(D330:G330)","v":20137},null,{"$f":"+N165","v":-8289},-6243,8289,0,{"$f":"SUM(J330:M330)","v":-6243},{"$f":"+H330+N330","v":13894}]
[null,null,"GL 2055 - CWIP",{"$f":"+H166","v":311594},653288,0,0,{"$f":"SUM(D331:G331)","v":964882},null,{"$f":"+N166","v":0},0,0,0,{"$f":"SUM(J331:M331)","v":0},{"$f":"+H331+N331","v":964882}]
[null,null,"Total Cost =",{"$f":"SUM(D328:D331)","v":91437904},{"$f":"SUM(E328:E331)","v":4773784},{"$f":"SUM(F328:F331)","v":-38942428},{"$f":"SUM(G328:G331)","v":-175914},57093346,null,{"$f":"SUM(J328:J331)","v":-39105608},-4814320,38942428,165304,-4812196,52281150]
[null,null,null,"agrees to  CGAAP audited FS","agrees to IFRS audited FS",null,"agrees to IFRS audited FS",null,null,"agrees to  CGAAP audited FS",null,null,"agrees to IFRS audited FS"]
[]
[]
[null,null,null,"Note 8 =",3962266,null,"Note 8 =",50708790,null,"Note 8 =",-2632230,null,"Note 8 =",-2630108,{"$f":"+H336+N336","v":48078682}]
[null,null,null,"Note 9 =",811520,null,"Note 9 =",6384556,null,"Note 9 =",-2182090,null,"Note 9 =",-2182090,{"$f":"+H337+N337","v":4202466}]
[null,null,null,null,{"$f":"+E336+E337","v":4773786},null,null,{"$f":"+H336+H337","v":57093346},null,null,{"$f":"+K336+K337","v":-4814320},null,null,{"$f":"+N336+N337","v":-4812198},{"$f":"+O336+O337","v":52281148}]
[]
[null,null,null,null,{"$f":"+E332-E338","v":-2},null,null,{"$f":"+H338-H332","v":0},null,null,{"$f":"+K332-K338","v":0},null,null,{"$f":"+N332-N338","v":2},{"$f":"+O332-O338","v":2}]
[]
[]
[]
[null,null,null,null,null,null,null,null,null,null,null,null,null,"File Number:",{"$f":"EBNUMBER","v":"EB-2022-0016"}]
[null,null,null,null,null,null,null,null,null,null,null,null,null,"Exhibit:"]
[null,null,null,null,null,null,null,null,null,null,null,null,null,"Tab:"]
[null,null,null,null,null,null,null,null,null,null,null,null,null,"Schedule:"]
[null,null,null,null,null,null,null,null,null,null,null,null,null,"Page:"]
[]
[null,null,null,null,null,null,null,null,null,null,null,null,null,"Date:","2022-10-24"]
[]
["Appendix 2-BA"]
["Fixed Asset Continuity Schedule 1 "]
[]
[null,null,null,null,"Accounting Standard",null,"MIFRS"]
[null,null,null,null,"Year ",null,2015]
[]
[null,null,null,"Cost",null,null,null,null,null,null,"Accumulated Depreciation"]
["CCA Class 2","OEB Account 3","Description 3","Opening Balance","Additions 4","Disposals (NBV = nil)","Disposals 6","Closing Balance",null,"Opening Balance","Additions","Disposals (NBV = nil)","Disposals 6","Closing Balance","Net Book Value"]
[null,1609,"Capital Contributions Paid",{"$f":"+H271","v":0},null,null,null,{"$f":"SUM(D360:G360)","v":0},null,{"$f":"+N271","v":0},null,null,null,{"$f":"SUM(J360:M360)","v":0},{"$f":"H360+N360","v":0}]
[12,1611,"Computer Software (Formally known as Account 1925)",{"$f":"+H272","v":6211123},994604,null,null,{"$f":"SUM(D361:G361)","v":7205727},null,{"$f":"+N272","v":-2180897},-1946660,null,null,{"$f":"SUM(J361:M361)","v":-4127557},{"$f":"H361+N361","v":3078170}]
["CEC",1612,"Land Rights (Formally known as Account 1906)",173433,null,null,null,173433,null,-1192,-1192,null,null,-2384,{"$f":"H362+N362","v":171049}]
["N/A",1805,"Land",497489,null,null,null,497489,null,0,null,null,null,0,{"$f":"H363+N363","v":497489}]
[47,1808,"Buildings",0,null,null,null,0,null,0,null,null,null,0,{"$f":"H364+N364","v":0}]
[13,1810,"Leasehold Improvements",0,null,null,null,0,null,0,null,null,null,0,0]
[47,1815,"Transformer Station Equipment >50 kV",0,null,null,null,0,null,0,null,null,null,0,0]
[47,1820,"Distribution Station Equipment <50 kV",3318488,441280,null,null,3759768,null,-126278,-136378,null,null,-262656,3497112]
[47,1825,"Storage Battery Equipment",0,null,null,null,0,null,0,null,null,null,0,0]
[47,1830,"Poles, Towers & Fixtures",3777222,1494255,null,null,5271477,null,-86341,-106376,null,null,-192717,5078760]
[47,1835,"Overhead Conductors & Devices",10545229,1114705,null,null,11659934,null,-302663,-317574,null,null,-620237,11039697]
[47,1840,"Underground Conduit",1536862,150691,null,null,1687553,null,-33388,-39658,null,null,-73046,1614507]
[47,1845,"Underground Conductors & Devices",8558108,740129,null,null,9298237,null,-367474,-379270,null,null,-746744,8551493]
[47,1850,"Line Transformers",8108487,1103952,null,null,9212439,null,-252284,-276760,null,null,-529044,8683395]
[47,1855,"Services (Overhead & Underground)",1000701,172600,null,null,1173301,null,-39203,-47669,null,null,-86872,1086429]
[47,1860,"Meters",663045,{"$f":"649837-E376","v":19599},null,null,682644,null,-36748,{"$f":"-253687-123731-K376","v":-38600.450000000012},null,null,-75348.450000000012,607295.55000000005]
[47,1860,"Meters (Smart Meters)",4025514,630238,null,{"$f":"-555700","v":-555700},4100052,null,-341975,-338817.55,null,{"$f":"56734","v":56734},-624058.55000000005,3475993.45]
["N/A",1905,"Land",0,null,null,null,0,null,0,null,null,null,0,0]
["1b",1908,"Buildings & Fixtures",6588689,53172,null,null,6641861,null,-176464,-178014,null,null,-354478,6287383]
[13,1910,"Leasehold Improvements",0,null,null,null,0,null,0,null,null,null,0,0]
[8,1915,"Office Furniture & Equipment (10 years)",274599,9645,null,null,284244,null,-45826,-43579,null,null,-89405,194839]
[8,1915,"Office Furniture & Equipment (5 years)",0,null,null,null,0,null,0,null,null,null,0,0]
[50,1920,"Computer Equip.-Hardware(Post Mar. 19/07)",2065254,177871,null,null,2243125,null,-625036,-527358,null,null,-1152394,1090731]
[45,1920,"Computer Equip.-Hardware(Post Mar. 22/04)",0,null,null,null,0,null,0,null,null,null,0,0]
[10,1920,"Computer Equip.-Hardware",0,null,null,null,0,null,0,null,null,null,0,0]
[10,1930,"Transportation Equipment",2088258,131389,null,null,2219647,null,-343948,-353733,null,null,-697681,1521966]
[8,1935,"Stores Equipment",274,null,null,null,274,null,-114,-53,null,null,-167,107]
[8,1940,"Tools, Shop & Garage Equipment",270008,17543,null,null,287551,null,-44674,-43745,null,null,-88419,199132]
[8,1945,"Measurement & Testing Equipment",108212,null,null,null,108212,null,-16750,-14377,null,null,-31127,77085]
[8,1950,"Power Operated Equipment",0,null,null,null,0,null,0,null,null,null,0,0]
[8,1955,"Communications Equipment",64962,null,null,null,64962,null,-11288,-9433,null,null,-20721,44241]
[8,1955,"Communication Equipment (Smart Meters)",0,null,null,null,0,null,0,null,null,null,0,0]
[8,1960,"Miscellaneous Equipment ",128555,null,null,null,128555,null,-17976,-18708,null,null,-36684,91871]
[47,1970,"Load Management Controls Customer Premises",0,null,null,null,0,null,0,null,null,null,0,0]
[47,1975,"Load Management Controls Utility Premises",0,null,null,null,0,null,0,null,null,null,0,0]
[47,1980,"System Supervisor Equipment",666622,64952,null,null,731574,null,-44669,-48752,null,null,-93421,638153]
[47,1985,"Miscellaneous Fixed Assets",0,null,null,null,0,null,0,null,null,null,0,0]
[47,1990,"Other Tangible Property",817863,64975,null,null,882838,null,0,null,null,null,0,882838]
[47,1995,"Contributions & Grants",-5380670,null,null,null,-5380670,null,289235,288808,null,null,578043,-4802627]
[47,2440,"Deferred Revenue5",-221294,-360407,null,null,-581701,null,8852,23268,null,null,32120,-549581]
[null,1534,"Smart Grid",0,260289,null,null,260289,null,0,0,null,null,{"$f":"SUM(J400:M400)","v":0},260289]
[null,2005,"Property Under Finance Lease7",{"$f":"+H311","v":0},null,null,null,0,null,{"$f":"+N311","v":0},null,null,null,0,0]
[null,null,"Sub-Total",{"$f":"SUM(D360:D401)","v":55887033},{"$f":"SUM(E360:E401)","v":7281482},{"$f":"SUM(F360:F401)","v":0},{"$f":"SUM(G360:G401)","v":-555700},{"$f":"SUM(H360:H401)","v":62612815},null,{"$f":"SUM(J360:J401)","v":-4797101},-4554631,0,56734,-9294998,53317817]
[null,null,"Less Socialized Renewable Energy Generation Investments (input as negative)",{"$f":"+H313","v":0},null,null,null,{"$f":"SUM(D403:G403)","v":0},null,{"$f":"+N313","v":0},null,null,null,{"$f":"SUM(J403:M403)","v":0},{"$f":"H403+N403","v":0}]
[null,null,"Less Other Non Rate-Regulated Utility Assets (input as negative)",{"$f":"+H314","v":0},null,null,null,0,null,{"$f":"+N314","v":0},null,null,null,0,{"$f":"H404+N404","v":0}]
[null,null,"Total PP&E",{"$f":"SUM(D402:D404)","v":55887033},{"$f":"SUM(E402:E404)","v":7281482},{"$f":"SUM(F402:F404)","v":0},{"$f":"SUM(G402:G404)","v":-555700},{"$f":"SUM(H402:H404)","v":62612815},null,{"$f":"SUM(J402:J404)","v":-4797101},-4554631,0,56734,-9294998,53317817]
[null,null,"Depreciation Expense adj. from gain or loss on the retirement of assets (pool of like assets), if applicable6"]
[null,null,"Total",null,null,null,null,null,null,null,{"$f":"K405+K406","v":-4554631}]
[]
[null,null,null,null,null,null,null,null,null,"Less: Fully Allocated Depreciation"]
[10,null,"Transportation",null,null,null,null,null,null,"Transportation"]
[8,null,"Stores Equipment",null,null,null,null,null,null,"Stores Equipment"]
[47,null,"Deferred Revenue",null,null,null,null,null,null,"Deferred Revenue",null,null,{"$f":"-K399","v":-23268}]
[null,null,null,null,null,null,null,null,null,"Net Depreciation",null,null,{"$f":"K407-M410-M411-M412","v":-4531363}]
[]
[]
[]
[]
[null,null,"per above",{"$f":"+D405","v":55887033},7281482,0,-555700,62612815,null,{"$f":"+J405","v":-4797101},-4554631,0,56734,-9294998,53317817]
[null,null,"remove GL 2440",{"$f":"-D399","v":221294},{"$f":"-E399","v":360407},{"$f":"-F399","v":0},{"$f":"-G399","v":0},{"$f":"SUM(D419:G419)","v":581701},null,{"$f":"-J399","v":-8852},{"$f":"-K399","v":-23268},{"$f":"-L399","v":0},{"$f":"-M399","v":0},{"$f":"SUM(J419:M419)","v":-32120},{"$f":"+H419+N419","v":549581}]
[null,null,"GL 2075 - Non Utility Assets",{"$f":"+H330","v":20137},0,0,0,{"$f":"SUM(D420:G420)","v":20137},null,{"$f":"+N330","v":-6243},-6635,0,0,{"$f":"SUM(J420:M420)","v":-12878},{"$f":"+H420+N420","v":7259}]
[null,null,"GL 2055 - CWIP",{"$f":"+H331","v":964882},-419818,0,0,{"$f":"SUM(D421:G421)","v":545064},null,{"$f":"+N331","v":0},0,0,0,{"$f":"SUM(J421:M421)","v":0},{"$f":"+H421+N421","v":545064}]
[null,null,"Total Cost =",{"$f":"SUM(D418:D421)","v":57093346},{"$f":"SUM(E418:E421)","v":7222071},{"$f":"SUM(F418:F421)","v":0},{"$f":"SUM(G418:G421)","v":-555700},63759717,null,{"$f":"SUM(J418:J421)","v":-4812196},-4584534,0,56734,-9339996,54419721]
[null,null,null,"agrees to audited FS","agrees to audited FS",null,"agrees to audited FS","  agrees to audited FS",null,"agrees to audited FS","agrees to audited FS",null,"agrees to audited FS","agrees to audited FS","agrees to audited FS"]
[]
[]
[null,null,null,"Note 8 =",{"$f":"6647285-419817","v":6227468},null,"Note 8 =",56380557,null,"Note 8 =",-2636682,null,"Note 8 =",-5210056,{"$f":"+H426+N426","v":51170501}]
[null,null,null,"Note 9 =",994604,null,"Note 9 =",7379160,null,"Note 9 =",-1947852,null,"Note 9 =",-4129942,{"$f":"+H427+N427","v":3249218}]
[null,null,null,null,{"$f":"+E426+E427","v":7222072},null,null,{"$f":"+H426+H427","v":63759717},null,null,{"$f":"+K426+K427","v":-4584534},null,null,{"$f":"+N426+N427","v":-9339998},{"$f":"+O426+O427","v":54419719}]
[]
[null,null,null,null,{"$f":"+E422-E428","v":-1},null,null,{"$f":"+H428-H422","v":0},null,null,{"$f":"+K422-K428","v":0},null,null,{"$f":"+N422-N428","v":2},{"$f":"+O422-O428","v":2}]
[]
[]
[]
[null,null,null,null,null,null,null,null,null,null,null,null,null,"File Number:",{"$f":"EBNUMBER","v":"EB-2022-0016"}]
[null,null,null,null,null,null,null,null,null,null,null,null,null,"Exhibit:"]
[null,null,null,null,null,null,null,null,null,null,null,null,null,"Tab:"]
[null,null,null,null,null,null,null,null,null,null,null,null,null,"Schedule:"]
[null,null,null,null,null,null,null,null,null,null,null,null,null,"Page:"]
[]
[null,null,null,null,null,null,null,null,null,null,null,null,null,"Date:","2022-10-24"]
[]
["Appendix 2-BA"]
["Fixed Asset Continuity Schedule 1 "]
[]
[null,null,null,null,"Accounting Standard",null,"MIFRS"]
[null,null,null,null,"Year ",null,2016]
[]
[null,null,null,"Cost",null,null,null,null,null,null,"Accumulated Depreciation"]
["CCA Class 2","OEB Account 3","Description 3","Opening Balance","Additions 4","Disposals (NBV = nil)","Disposals 6","Closing Balance",null,"Opening Balance","Additions","Disposals (NBV = nil)","Disposals 6","Closing Balance","Net Book Value"]
[null,1609,"Capital Contributions Paid",{"$f":"+H360","v":0},null,null,null,{"$f":"SUM(D450:G450)","v":0},null,{"$f":"+N360","v":0},null,null,null,{"$f":"SUM(J450:M450)","v":0},{"$f":"H450+N450","v":0}]
[12,1611,"Computer Software (Formally known as Account 1925)",{"$f":"+H361","v":7205727},1110282,null,null,{"$f":"SUM(D451:G451)","v":8316009},null,{"$f":"+N361","v":-4127557},-1456969,null,null,{"$f":"SUM(J451:M451)","v":-5584526},{"$f":"H451+N451","v":2731483}]
["CEC",1612,"Land Rights (Formally known as Account 1906)",173433,null,null,null,173433,null,-2384,-1192,null,null,-3576,{"$f":"H452+N452","v":169857}]
["N/A",1805,"Land",497489,null,null,null,497489,null,0,null,null,null,0,{"$f":"H453+N453","v":497489}]
[47,1808,"Buildings",0,null,null,null,0,null,0,null,null,null,0,{"$f":"H454+N454","v":0}]
[13,1810,"Leasehold Improvements",0,null,null,null,0,null,0,null,null,null,0,0]
[47,1815,"Transformer Station Equipment >50 kV",0,null,null,null,0,null,0,null,null,null,0,0]
[47,1820,"Distribution Station Equipment <50 kV",3759768,98036,null,null,3857804,null,-262656,-139319,null,null,-401975,3455829]
[47,1825,"Storage Battery Equipment",0,null,null,null,0,null,0,null,null,null,0,0]
[47,1830,"Poles, Towers & Fixtures",5271477,2069153,null,null,7340630,null,-192717,-142927,null,null,-335644,7004986]
[47,1835,"Overhead Conductors & Devices",11659934,895151,null,null,12555085,null,-620237,-336370,null,null,-956607,11598478]
[47,1840,"Underground Conduit",1687553,284077,null,null,1971630,null,-73046,-45733,null,null,-118779,1852851]
[47,1845,"Underground Conductors & Devices",9298237,440868,null,null,9739105,null,-746744,-382801,null,null,-1129545,8609560]
[47,1850,"Line Transformers",9212439,1122373,null,{"$f":"-7737+1547","v":-6190},10328622,null,-529044,-301949,null,{"$f":"1901-1547","v":354},-830639,9497983]
[47,1855,"Services (Overhead & Underground)",1173301,200440,null,null,1373741,null,-86872,-54989,null,null,-141861,1231880]
[47,1860,"Meters",682644,{"$f":"195765-E466","v":19970},null,null,702614,null,-75348.450000000012,{"$f":"-386366-K466","v":-39797},null,null,-115145.45000000001,587468.55000000005]
[47,1860,"Meters (Smart Meters)",4100052,175795,null,null,4275847,null,-624058.55000000005,-346569,null,null,-970627.55,3305219.45]
["N/A",1905,"Land",0,null,null,null,0,null,0,null,null,null,0,0]
["1b",1908,"Buildings & Fixtures",6641861,109510,null,null,6751371,null,-354478,-180382,null,null,-534860,6216511]
[13,1910,"Leasehold Improvements",0,null,null,null,0,null,0,null,null,null,0,0]
[8,1915,"Office Furniture & Equipment (10 years)",284244,79006,null,null,363250,null,-89405,-47354,null,null,-136759,226491]
[8,1915,"Office Furniture & Equipment (5 years)",0,null,null,null,0,null,0,null,null,null,0,0]
[50,1920,"Computer Equip.-Hardware(Post Mar. 19/07)",2243125,261921,null,null,2505046,null,-1152394,-475441,null,null,-1627835,877211]
[45,1920,"Computer Equip.-Hardware(Post Mar. 22/04)",0,null,null,null,0,null,0,null,null,null,0,0]
[10,1920,"Computer Equip.-Hardware",0,null,null,null,0,null,0,null,null,null,0,0]
[10,1930,"Transportation Equipment",2219647,453484,null,{"$f":"-121862+84896","v":-36966},2636165,null,-697681,-372951,null,{"$f":"106261-84896","v":21365},-1049267,1586898]
[8,1935,"Stores Equipment",274,null,null,null,274,null,-167,-53,null,null,-220,54]
[8,1940,"Tools, Shop & Garage Equipment",287551,84648,null,null,372199,null,-88419,-45619,null,null,-134038,238161]
[8,1945,"Measurement & Testing Equipment",108212,null,null,null,108212,null,-31127,-13224,null,null,-44351,63861]
[8,1950,"Power Operated Equipment",0,null,null,null,0,null,0,null,null,null,0,0]
[8,1955,"Communications Equipment",64962,null,null,null,64962,null,-20721,-9289,null,null,-30010,34952]
[8,1955,"Communication Equipment (Smart Meters)",0,null,null,null,0,null,0,null,null,null,0,0]
[8,1960,"Miscellaneous Equipment ",128555,14187,null,null,142742,null,-36684,-20026,null,null,-56710,86032]
[47,1970,"Load Management Controls Customer Premises",0,null,null,null,0,null,0,null,null,null,0,0]
[47,1975,"Load Management Controls Utility Premises",0,null,null,null,0,null,0,null,null,null,0,0]
[47,1980,"System Supervisor Equipment",731574,39516,null,null,771090,null,-93421,-50625,null,null,-144046,627044]
[47,1985,"Miscellaneous Fixed Assets",0,null,null,null,0,null,0,null,null,null,0,0]
[47,1990,"Other Tangible Property",882838,327110,null,null,1209948,null,0,null,null,null,0,1209948]
[47,1995,"Contributions & Grants",-5380670,null,null,null,-5380670,null,578043,293730,null,null,871773,-4508897]
[47,2440,"Deferred Revenue5",-581701,-272609,null,null,-854310,null,32120,34173,null,null,66293,-788017]
[null,1534,"Smart Grid",260289,{"$f":"41522+2863","v":44385},null,null,304674,null,0,0,null,null,0,304674]
[null,2005,"Property Under Finance Lease7",0,null,null,null,0,null,0,null,null,null,0,0]
[null,null,"Sub-Total",{"$f":"SUM(D450:D491)","v":62612815},{"$f":"SUM(E450:E491)","v":7557303},{"$f":"SUM(F450:F491)","v":0},{"$f":"SUM(G450:G491)","v":-43156},{"$f":"SUM(H450:H491)","v":70126962},null,{"$f":"SUM(J450:J491)","v":-9294998},-4135676,0,21719,-13408955,56718007]
[null,null,"Less Socialized Renewable Energy Generation Investments (input as negative)",0,null,null,null,{"$f":"SUM(D493:G493)","v":0},null,0,null,null,null,{"$f":"SUM(J493:M493)","v":0},{"$f":"H493+N493","v":0}]
[null,null,"Less Other Non Rate-Regulated Utility Assets (input as negative)",0,null,null,null,0,null,0,null,null,null,0,{"$f":"H494+N494","v":0}]
[null,null,"Total PP&E",{"$f":"SUM(D492:D494)","v":62612815},{"$f":"SUM(E492:E494)","v":7557303},{"$f":"SUM(F492:F494)","v":0},{"$f":"SUM(G492:G494)","v":-43156},{"$f":"SUM(H492:H494)","v":70126962},null,{"$f":"SUM(J492:J494)","v":-9294998},-4135676,0,21719,-13408955,56718007]
[null,null,"Depreciation Expense adj. from gain or loss on the retirement of assets (pool of like assets), if applicable6"]
[null,null,"Total",null,null,null,null,null,null,null,{"$f":"K495+K496","v":-4135676}]
[]
[null,null,null,null,null,null,null,null,null,"Less: Fully Allocated Depreciation"]
[10,null,"Transportation",null,null,null,null,null,null,"Transportation"]
[8,null,"Stores Equipment",null,null,null,null,null,null,"Stores Equipment"]
[47,null,"Deferred Revenue",null,null,null,null,null,null,"Deferred Revenue",null,null,{"$f":"-K489","v":-34173}]
[null,null,null,null,null,null,null,null,null,"Net Depreciation",null,null,{"$f":"K497-M500-M501-M502","v":-4101503}]
[]
[]
[]
[]
[null,null,"per above",{"$f":"+D495","v":62612815},7557303,0,-43156,70126962,null,{"$f":"+J495","v":-9294998},-4135676,0,21719,-13408955,56718007]
[null,null,"remove GL 2440",{"$f":"-D489","v":581701},{"$f":"-E489","v":272609},{"$f":"-F489","v":0},{"$f":"-G489","v":0},{"$f":"SUM(D509:G509)","v":854310},null,{"$f":"-J489","v":-32120},{"$f":"-K489","v":-34173},{"$f":"-L489","v":0},{"$f":"-M489","v":0},{"$f":"SUM(J509:M509)","v":-66293},{"$f":"+H509+N509","v":788017}]
[null,null,"GL 2075 - Non Utility Assets",{"$f":"+H420","v":20137},{"$f":"69000-1","v":68999},0,0,{"$f":"SUM(D510:G510)","v":89136},null,{"$f":"+N420","v":-12878},-7385,0,0,{"$f":"SUM(J510:M510)","v":-20263},{"$f":"+H510+N510","v":68873}]
[null,null,"GL 2055 - CWIP",{"$f":"+H421","v":545064},513729,0,0,{"$f":"SUM(D511:G511)","v":1058793},null,{"$f":"+N421","v":0},0,0,0,{"$f":"SUM(J511:M511)","v":0},{"$f":"+H511+N511","v":1058793}]
[null,null,"Total Cost =",{"$f":"SUM(D508:D511)","v":63759717},{"$f":"SUM(E508:E511)","v":8412640},{"$f":"SUM(F508:F511)","v":0},{"$f":"SUM(G508:G511)","v":-43156},72129201,null,{"$f":"SUM(J508:J511)","v":-9339996},-4177234,0,21719,-13495511,58633690]
[null,null,null,"agrees to audited FS","agrees to audited FS",null,"agrees to audited FS","  agrees to audited FS",null,"agrees to audited FS","agrees to audited FS",null,"agrees to audited FS","agrees to audited FS","agrees to audited FS"]
[]
[]
[null,null,null,"Note 8 =",7302356,null,"Note 8 =",63639756,null,"Note 8 =",-2719073,null,"Note 8 =",-7907409,{"$f":"+H516+N516","v":55732347}]
[null,null,null,"Note 9 =",1110282,null,"Note 9 =",8489442,null,"Note 9 =",-1458161,null,"Note 9 =",-5588103,{"$f":"+H517+N517","v":2901339}]
[null,null,null,null,{"$f":"+E516+E517","v":8412638},null,null,{"$f":"+H516+H517","v":72129198},null,null,{"$f":"+K516+K517","v":-4177234},null,null,{"$f":"+N516+N517","v":-13495512},{"$f":"+O516+O517","v":58633686}]
[]
[null,null,null,null,{"$f":"+E512-E518","v":2},null,null,{"$f":"+H518-H512","v":-3},null,null,{"$f":"+K512-K518","v":0},null,null,{"$f":"+N512-N518","v":1},{"$f":"+O512-O518","v":4}]
[]
[]
[]
[null,null,null,null,null,null,null,null,null,null,null,null,null,"File Number:",{"$f":"EBNUMBER","v":"EB-2022-0016"}]
[null,null,null,null,null,null,null,null,null,null,null,null,null,"Exhibit:"]
[null,null,null,null,null,null,null,null,null,null,null,null,null,"Tab:"]
[null,null,null,null,null,null,null,null,null,null,null,null,null,"Schedule:"]
[null,null,null,null,null,null,null,null,null,null,null,null,null,"Page:"]
[]
[null,null,null,null,null,null,null,null,null,null,null,null,null,"Date:","2022-10-24"]
[]
["Appendix 2-BA"]
["Fixed Asset Continuity Schedule 1 "]
[]
[null,null,null,null,"Accounting Standard",null,"MIFRS"]
[null,null,null,null,"Year ",null,2017]
[]
[null,null,null,"Cost",null,null,null,null,null,null,"Accumulated Depreciation"]
["CCA Class 2","OEB Account 3","Description 3","Opening Balance","Additions 4","Disposals (NBV = nil)","Disposals 6","Closing Balance",null,"Opening Balance","Additions","Disposals (NBV = nil)","Disposals 6","Closing Balance","Net Book Value"]
[null,1609,"Capital Contributions Paid",{"$f":"+H450","v":0},null,null,null,{"$f":"SUM(D540:G540)","v":0},null,{"$f":"+N450","v":0},null,null,null,{"$f":"SUM(J540:M540)","v":0},{"$f":"H540+N540","v":0}]
[12,1611,"Computer Software (Formally known as Account 1925)",{"$f":"+H451","v":8316009},676507,null,null,{"$f":"SUM(D541:G541)","v":8992516},null,{"$f":"+N451","v":-5584526},-1134358,null,null,{"$f":"SUM(J541:M541)","v":-6718884},{"$f":"H541+N541","v":2273632}]
["CEC",1612,"Land Rights (Formally known as Account 1906)",173433,null,null,null,173433,null,-3576,-1192,null,null,-4768,{"$f":"H542+N542","v":168665}]
["N/A",1805,"Land",497489,null,null,null,497489,null,0,null,null,null,0,{"$f":"H543+N543","v":497489}]
[47,1808,"Buildings",0,null,null,null,0,null,0,null,null,null,0,{"$f":"H544+N544","v":0}]
[13,1810,"Leasehold Improvements",0,null,null,null,0,null,0,null,null,null,0,0]
[47,1815,"Transformer Station Equipment >50 kV",0,null,null,null,0,null,0,null,null,null,0,0]
[47,1820,"Distribution Station Equipment <50 kV",3857804,215025,null,null,4072829,null,-401975,-144262,null,null,-546237,3526592]
[47,1825,"Storage Battery Equipment",0,null,null,null,0,null,0,null,null,null,0,0]
[47,1830,"Poles, Towers & Fixtures",7340630,2077654,null,{"$f":"-12474+2423","v":-10051},9408233,null,-335644,-192314,null,{"$f":"3325-2423","v":902},-527056,8881177]
[47,1835,"Overhead Conductors & Devices",12555085,709093,null,{"$f":"-25383+9659","v":-15724},13248454,null,-956607,-351197,null,{"$f":"10963-9659","v":1304},-1306500,11941954]
[47,1840,"Underground Conduit",1971630,283912,null,null,2255542,null,-118779,-57318,null,null,-176097,2079445]
[47,1845,"Underground Conductors & Devices",9739105,391841,null,null,10130946,null,-1129545,-389956,null,null,-1519501,8611445]
[47,1850,"Line Transformers",10328622,985822,null,{"$f":"-77806+46791","v":-31015},11283429,null,-830639,-328401,null,{"$f":"51133-46791","v":4342},-1154698,10128731]
[47,1855,"Services (Overhead & Underground)",1373741,228947,null,null,1602688,null,-141861,-64085,null,null,-205946,1396742]
[47,1860,"Meters",702614,{"$f":"372618-E556","v":155147},null,null,857761,null,-115145.45000000001,{"$f":"-403805-K556","v":-46213},null,null,-161358.45000000001,696402.55]
[47,1860,"Meters (Smart Meters)",4275847,217471,null,null,4493318,null,-970627.55,-357592,null,null,-1328219.55,3165098.45]
["N/A",1905,"Land",0,null,null,null,0,null,0,null,null,null,0,0]
["1b",1908,"Buildings & Fixtures",6751371,86507,null,null,6837878,null,-534860,-183558,null,null,-718418,6119460]
[13,1910,"Leasehold Improvements",0,null,null,null,0,null,0,null,null,null,0,0]
[8,1915,"Office Furniture & Equipment (10 years)",363250,38361,null,null,401611,null,-136759,-47282,null,null,-184041,217570]
[8,1915,"Office Furniture & Equipment (5 years)",0,null,null,null,0,null,0,null,null,null,0,0]
[50,1920,"Computer Equip.-Hardware(Post Mar. 19/07)",2505046,340751,null,null,2845797,null,-1627835,-451341,null,null,-2079176,766621]
[45,1920,"Computer Equip.-Hardware(Post Mar. 22/04)",0,null,null,null,0,null,0,null,null,null,0,0]
[10,1920,"Computer Equip.-Hardware",0,null,null,null,0,null,0,null,null,null,0,0]
[10,1930,"Transportation Equipment",2636165,1219505,null,{"$f":"-445338+377208","v":-68130},3787540,null,-1049267,-439852,null,{"$f":"409604-377208","v":32396},-1456723,2330817]
[8,1935,"Stores Equipment",274,null,null,null,274,null,-220,-53,null,null,-273,1]
[8,1940,"Tools, Shop & Garage Equipment",372199,157579,null,null,529778,null,-134038,-53470,null,null,-187508,342270]
[8,1945,"Measurement & Testing Equipment",108212,null,null,null,108212,null,-44351,-13224,null,null,-57575,50637]
[8,1950,"Power Operated Equipment",0,null,null,null,0,null,0,null,null,null,0,0]
[8,1955,"Communications Equipment",64962,null,null,null,64962,null,-30010,-9185,null,null,-39195,25767]
[8,1955,"Communication Equipment (Smart Meters)",0,null,null,null,0,null,0,null,null,null,0,0]
[8,1960,"Miscellaneous Equipment ",142742,null,null,null,142742,null,-56710,-20997,null,null,-77707,65035]
[47,1970,"Load Management Controls Customer Premises",0,null,null,null,0,null,0,null,null,null,0,0]
[47,1975,"Load Management Controls Utility Premises",0,null,null,null,0,null,0,null,null,null,0,0]
[47,1980,"System Supervisor Equipment",771090,13180,null,{"$f":"-33559+37","v":-33522},750748,null,-144046,-50421,null,{"$f":"2874-37","v":2837},-191630,559118]
[47,1985,"Miscellaneous Fixed Assets",0,null,null,null,0,null,0,null,null,null,0,0]
[47,1990,"Other Tangible Property",1209948,-110183,null,null,1099765,null,0,null,null,null,0,1099765]
[47,1995,"Contributions & Grants",-5380670,null,null,null,-5380670,null,871773,293730,null,null,1165503,-4215167]
[47,2440,"Deferred Revenue5",-854310,-204153,null,null,-1058463,null,66293,42338,null,null,108631,-949832]
[null,1534,"Smart Grid",304674,20206,null,null,324880,null,0,0,null,null,0,324880]
[null,2005,"Property Under Finance Lease7",0,null,null,null,0,null,0,null,null,null,0,0]
[null,null,"Sub-Total",{"$f":"SUM(D540:D581)","v":70126962},{"$f":"SUM(E540:E581)","v":7503172},{"$f":"SUM(F540:F581)","v":0},{"$f":"SUM(G540:G581)","v":-158442},{"$f":"SUM(H540:H581)","v":77471692},null,{"$f":"SUM(J540:J581)","v":-13408955},-4000203,0,41781,-17367377,60104315]
[null,null,"Less Socialized Renewable Energy Generation Investments (input as negative)",{"$f":"+H493","v":0},null,null,null,{"$f":"SUM(D583:G583)","v":0},null,{"$f":"+N493","v":0},null,null,null,{"$f":"SUM(J583:M583)","v":0},{"$f":"H583+N583","v":0}]
[null,null,"Less Other Non Rate-Regulated Utility Assets (input as negative)",0,null,null,null,0,null,0,null,null,null,0,{"$f":"H584+N584","v":0}]
[null,null,"Total PP&E",{"$f":"SUM(D582:D584)","v":70126962},{"$f":"SUM(E582:E584)","v":7503172},{"$f":"SUM(F582:F584)","v":0},{"$f":"SUM(G582:G584)","v":-158442},{"$f":"SUM(H582:H584)","v":77471692},null,{"$f":"SUM(J582:J584)","v":-13408955},-4000203,0,41781,-17367377,60104315]
[null,null,"Depreciation Expense adj. from gain or loss on the retirement of assets (pool of like assets), if applicable6"]
[null,null,"Total",null,null,null,null,null,null,null,{"$f":"K585+K586","v":-4000203}]
[]
[null,null,null,null,null,null,null,null,null,"Less: Fully Allocated Depreciation"]
[10,null,"Transportation",null,null,null,null,null,null,"Transportation"]
[8,null,"Stores Equipment",null,null,null,null,null,null,"Stores Equipment"]
[47,null,"Deferred Revenue",null,null,null,null,null,null,"Deferred Revenue",null,null,{"$f":"-K579","v":-42338}]
[null,null,null,null,null,null,null,null,null,"Net Depreciation",null,null,{"$f":"K587-M590-M591-M592","v":-3957865}]
[]
[]
[]
[]
[null,null,"per above",{"$f":"+D585","v":70126962},7503172,0,-158442,77471692,null,{"$f":"+J585","v":-13408955},-4000203,0,41781,-17367377,60104315]
[null,null,"remove GL 2440",{"$f":"-D579","v":854310},{"$f":"-E579","v":204153},{"$f":"-F579","v":0},{"$f":"-G579","v":0},{"$f":"SUM(D599:G599)","v":1058463},null,{"$f":"-J579","v":-66293},{"$f":"-K579","v":-42338},{"$f":"-L579","v":0},{"$f":"-M579","v":0},{"$f":"SUM(J599:M599)","v":-108631},{"$f":"+H599+N599","v":949832}]
[null,null,"GL 2075 - Non Utility Assets",{"$f":"+H510","v":89136},0,0,0,{"$f":"SUM(D600:G600)","v":89136},null,{"$f":"+N510","v":-20263},-3921,0,0,{"$f":"SUM(J600:M600)","v":-24184},{"$f":"+H600+N600","v":64952}]
[null,null,"GL 2055 - CWIP",{"$f":"+H511","v":1058793},57840,0,0,{"$f":"SUM(D601:G601)","v":1116633},null,{"$f":"+N511","v":0},0,0,0,{"$f":"SUM(J601:M601)","v":0},{"$f":"+H601+N601","v":1116633}]
[null,null,"Total Cost =",{"$f":"SUM(D598:D601)","v":72129201},{"$f":"SUM(E598:E601)","v":7765165},{"$f":"SUM(F598:F601)","v":0},{"$f":"SUM(G598:G601)","v":-158442},79735924,null,{"$f":"SUM(J598:J601)","v":-13495511},-4046462,0,41781,-17500192,62235732]
[null,null,null,"agrees to audited FS","agrees to audited FS",null,"agrees to audited FS","  agrees to audited FS",null,"agrees to audited FS","agrees to audited FS",null,"agrees to audited FS","agrees to audited FS","agrees to audited FS"]
[]
[]
[null,null,null,"Note 8 =",7088660,null,"Note 8 =",70569975,null,"Note 8 =",-2910912,null,"Note 8 =",-10776540,{"$f":"+H606+N606","v":59793435}]
[null,null,null,"Note 9 =",676507,null,"Note 9 =",9165949,null,"Note 9 =",-1135550,null,"Note 9 =",-6723653,{"$f":"+H607+N607","v":2442296}]
[null,null,null,null,{"$f":"+E606+E607","v":7765167},null,null,{"$f":"+H606+H607","v":79735924},null,null,{"$f":"+K606+K607","v":-4046462},null,null,{"$f":"+N606+N607","v":-17500193},{"$f":"+O606+O607","v":62235731}]
[]
[null,null,null,null,{"$f":"+E602-E608","v":-2},null,null,{"$f":"+H608-H602","v":0},null,null,{"$f":"+K602-K608","v":0},null,null,{"$f":"+N602-N608","v":1},{"$f":"+O602-O608","v":1}]
[]
[]
[]
[null,null,null,null,null,null,null,null,null,null,null,null,null,"File Number:",{"$f":"EBNUMBER","v":"EB-2022-0016"}]
[null,null,null,null,null,null,null,null,null,null,null,null,null,"Exhibit:"]
[null,null,null,null,null,null,null,null,null,null,null,null,null,"Tab:"]
[null,null,null,null,null,null,null,null,null,null,null,null,null,"Schedule:"]
[null,null,null,null,null,null,null,null,null,null,null,null,null,"Page:"]
[]
[null,null,null,null,null,null,null,null,null,null,null,null,null,"Date:","2022-10-24"]
[]
["Appendix 2-BA"]
["Fixed Asset Continuity Schedule 1 "]
[]
[null,null,null,null,"Accounting Standard",null,"MIFRS"]
[null,null,null,null,"Year ",null,2018]
[]
[null,null,null,"Cost",null,null,null,null,null,null,"Accumulated Depreciation"]
["CCA Class 2","OEB Account 3","Description 3","Opening Balance","Additions 4","Disposals (NBV = nil)","Disposals 6","Closing Balance",null,"Opening Balance","Additions","Disposals (NBV = nil)","Disposals 6","Closing Balance","Net Book Value"]
[null,1609,"Capital Contributions Paid",{"$f":"+H540","v":0},1190000,null,null,{"$f":"SUM(D630:G630)","v":1190000},null,{"$f":"+N540","v":0},null,null,null,{"$f":"SUM(J630:M630)","v":0},{"$f":"H630+N630","v":1190000}]
[12,1611,"Computer Software (Formally known as Account 1925)",{"$f":"+H541","v":8992516},606370,null,null,{"$f":"SUM(D631:G631)","v":9598886},null,{"$f":"+N541","v":-6718884},-867902,null,null,{"$f":"SUM(J631:M631)","v":-7586786},{"$f":"H631+N631","v":2012100}]
["CEC",1612,"Land Rights (Formally known as Account 1906)",173433,null,null,null,173433,null,-4768,-1192,null,null,-5960,{"$f":"H632+N632","v":167473}]
["N/A",1805,"Land",497489,null,null,null,497489,null,0,null,null,null,0,{"$f":"H633+N633","v":497489}]
[47,1808,"Buildings",0,null,null,null,0,null,0,null,null,null,0,{"$f":"H634+N634","v":0}]
[13,1810,"Leasehold Improvements",0,null,null,null,0,null,0,null,null,null,0,0]
[47,1815,"Transformer Station Equipment >50 kV",0,null,null,null,0,null,0,null,null,null,0,0]
[47,1820,"Distribution Station Equipment <50 kV",4072829,621956,null,null,4694785,null,-546237,-157880,null,null,-704117,3990668]
[47,1825,"Storage Battery Equipment",0,null,null,null,0,null,0,null,null,null,0,0]
[47,1830,"Poles, Towers & Fixtures",9408233,2268677,null,null,11676910,null,-527056,-237465,null,null,-764521,10912389]
[47,1835,"Overhead Conductors & Devices",13248454,606308,null,null,13854762,null,-1306500,-365788,null,null,-1672288,12182474]
[47,1840,"Underground Conduit",2255542,520811,null,null,2776353,null,-176097,-70880,null,null,-246977,2529376]
[47,1845,"Underground Conductors & Devices",10130946,548355,null,null,10679301,null,-1519501,-400287,null,null,-1919788,8759513]
[47,1850,"Line Transformers",11283429,731696,null,null,12015125,null,-1154698,-347966,null,null,-1502664,10512461]
[47,1855,"Services (Overhead & Underground)",1602688,212043,null,null,1814731,null,-205946,-72037,null,null,-277983,1536748]
[47,1860,"Meters",857761,{"$f":"274283-E646","v":168726},null,null,1026487,null,-161358.45000000001,{"$f":"-423985-K646","v":-53932},null,null,-215290.45,811196.55]
[47,1860,"Meters (Smart Meters)",4493318,105557,null,null,4598875,null,-1328219.55,-370053,null,null,-1698272.55,2900602.45]
["N/A",1905,"Land",0,null,null,null,0,null,0,null,null,null,0,0]
["1b",1908,"Buildings & Fixtures",6837878,134144,null,null,6972022,null,-718418,-189284,null,null,-907702,6064320]
[13,1910,"Leasehold Improvements",0,null,null,null,0,null,0,null,null,null,0,0]
[8,1915,"Office Furniture & Equipment (10 years)",401611,26291,null,null,427902,null,-184041,-47547,null,null,-231588,196314]
[8,1915,"Office Furniture & Equipment (5 years)",0,null,null,null,0,null,0,null,null,null,0,0]
[50,1920,"Computer Equip.-Hardware(Post Mar. 19/07)",2845797,526822,null,null,3372619,null,-2079176,-328981,null,null,-2408157,964462]
[45,1920,"Computer Equip.-Hardware(Post Mar. 22/04)",0,null,null,null,0,null,0,null,null,null,0,0]
[10,1920,"Computer Equip.-Hardware",0,null,null,null,0,null,0,null,null,null,0,0]
[10,1930,"Transportation Equipment",3787540,600856,null,{"$f":"-311971+134187+1","v":-177783},4210613,null,-1456723,-465949,null,{"$f":"263298-134187-1","v":129110},-1793562,2417051]
[8,1935,"Stores Equipment",274,null,null,null,274,null,-273,null,null,null,-273,1]
[8,1940,"Tools, Shop & Garage Equipment",529778,129588,null,null,659366,null,-187508,-62794,null,null,-250302,409064]
[8,1945,"Measurement & Testing Equipment",108212,null,null,null,108212,null,-57575,-13224,null,null,-70799,37413]
[8,1950,"Power Operated Equipment",0,null,null,null,0,null,0,null,null,null,0,0]
[8,1955,"Communications Equipment",64962,null,null,null,64962,null,-39195,-8979,null,null,-48174,16788]
[8,1955,"Communication Equipment (Smart Meters)",0,null,null,null,0,null,0,null,null,null,0,0]
[8,1960,"Miscellaneous Equipment ",142742,10933,null,null,153675,null,-77707,-16669,null,null,-94376,59299]
[47,1970,"Load Management Controls Customer Premises",0,null,null,null,0,null,0,null,null,null,0,0]
[47,1975,"Load Management Controls Utility Premises",0,null,null,null,0,null,0,null,null,null,0,0]
[47,1980,"System Supervisor Equipment",750748,7222,null,null,757970,null,-191630,-49467,null,null,-241097,516873]
[47,1985,"Miscellaneous Fixed Assets",0,null,null,null,0,null,0,null,null,null,0,0]
[47,1990,"Other Tangible Property",1099765,190854,null,null,1290619,null,0,null,null,null,0,1290619]
[47,1995,"Contributions & Grants",-5380670,null,null,null,-5380670,null,1165503,293730,null,null,1459233,-3921437]
[47,2440,"Deferred Revenue5",-1058463,-364309,null,null,-1422772,null,108631,56911,null,null,165542,-1257230]
[null,1534,"Smart Grid",324880,34467,null,null,359347,null,0,0,null,null,0,359347]
[null,2005,"Property Under Finance Lease7",0,null,null,null,0,null,0,null,null,null,0,0]
[null,null,"Sub-Total",{"$f":"SUM(D630:D671)","v":77471692},{"$f":"SUM(E630:E671)","v":8877367},{"$f":"SUM(F630:F671)","v":0},{"$f":"SUM(G630:G671)","v":-177783},{"$f":"SUM(H630:H671)","v":86171276},null,{"$f":"SUM(J630:J671)","v":-17367377},-3777635,0,129110,-21015902,65155374]
[null,null,"Less Socialized Renewable Energy Generation Investments (input as negative)",{"$f":"+H583","v":0},null,null,null,{"$f":"SUM(D673:G673)","v":0},null,{"$f":"+N583","v":0},null,null,null,{"$f":"SUM(J673:M673)","v":0},{"$f":"H673+N673","v":0}]
[null,null,"Less Other Non Rate-Regulated Utility Assets (input as negative)",0,null,null,null,0,null,0,null,null,null,0,{"$f":"H674+N674","v":0}]
[null,null,"Total PP&E",{"$f":"SUM(D672:D674)","v":77471692},{"$f":"SUM(E672:E674)","v":8877367},{"$f":"SUM(F672:F674)","v":0},{"$f":"SUM(G672:G674)","v":-177783},{"$f":"SUM(H672:H674)","v":86171276},null,{"$f":"SUM(J672:J674)","v":-17367377},-3777635,0,129110,-21015902,65155374]
[null,null,"Depreciation Expense adj. from gain or loss on the retirement of assets (pool of like assets), if applicable6"]
[null,null,"Total",null,null,null,null,null,null,null,{"$f":"K675+K676","v":-3777635}]
[]
[null,null,null,null,null,null,null,null,null,"Less: Fully Allocated Depreciation"]
[10,null,"Transportation",null,null,null,null,null,null,"Transportation"]
[8,null,"Stores Equipment",null,null,null,null,null,null,"Stores Equipment"]
[47,null,"Deferred Revenue",null,null,null,null,null,null,"Deferred Revenue",null,null,{"$f":"-K669","v":-56911}]
[null,null,null,null,null,null,null,null,null,"Net Depreciation",null,null,{"$f":"K677-M680-M681-M682","v":-3720724}]
[]
[]
[]
[]
[null,null,"per above",{"$f":"+D675","v":77471692},8877367,0,-177783,86171276,null,{"$f":"+J675","v":-17367377},-3777635,0,129110,-21015902,65155374]
[null,null,"remove GL 2440",{"$f":"-D669","v":1058463},{"$f":"-E669","v":364309},{"$f":"-F669","v":0},{"$f":"-G669","v":0},{"$f":"SUM(D689:G689)","v":1422772},null,{"$f":"-J669","v":-108631},{"$f":"-K669","v":-56911},{"$f":"-L669","v":0},{"$f":"-M669","v":0},{"$f":"SUM(J689:M689)","v":-165542},{"$f":"+H689+N689","v":1257230}]
[null,null,"GL 2075 - Non Utility Assets",{"$f":"+H600","v":89136},0,0,0,{"$f":"SUM(D690:G690)","v":89136},null,{"$f":"+N600","v":-24184},-3921,0,0,{"$f":"SUM(J690:M690)","v":-28105},{"$f":"+H690+N690","v":61031}]
[null,null,"GL 2055 - CWIP",{"$f":"+H601","v":1116633},-333723,0,0,{"$f":"SUM(D691:G691)","v":782910},null,{"$f":"+N601","v":0},0,0,0,{"$f":"SUM(J691:M691)","v":0},{"$f":"+H691+N691","v":782910}]
[null,null,"Total Cost =",{"$f":"SUM(D688:D691)","v":79735924},{"$f":"SUM(E688:E691)","v":8907953},{"$f":"SUM(F688:F691)","v":0},{"$f":"SUM(G688:G691)","v":-177783},88466094,null,{"$f":"SUM(J688:J691)","v":-17500192},-3838467,0,129110,-21209549,67256545]
[null,null,null,"agrees to audited FS","agrees to audited FS",null,"agrees to audited FS","  agrees to audited FS",null,"agrees to audited FS","agrees to audited FS",null,"agrees to audited FS","agrees to audited FS","agrees to audited FS"]
[]
[]
[null,null,null,"Note 8 =",{"$f":"7445307-333723","v":7111584},null,"Note 8 =",77503775,null,"Note 8 =",-2969373,null,"Note 8 =",-13616803,{"$f":"+H696+N696","v":63886972}]
[null,null,null,"Note 9 =",1796370,null,"Note 9 =",10962319,null,"Note 9 =",-869094,null,"Note 9 =",-7592747,{"$f":"+H697+N697","v":3369572}]
[null,null,null,null,{"$f":"+E696+E697","v":8907954},null,null,{"$f":"+H696+H697","v":88466094},null,null,{"$f":"+K696+K697","v":-3838467},null,null,{"$f":"+N696+N697","v":-21209550},{"$f":"+O696+O697","v":67256544}]
[]
[null,null,null,null,{"$f":"+E692-E698","v":-1},null,null,{"$f":"+H698-H692","v":0},null,null,{"$f":"+K692-K698","v":0},null,null,{"$f":"+N692-N698","v":1},{"$f":"+O692-O698","v":1}]
[]
[]
[]
[null,null,null,null,null,null,null,null,null,null,null,null,null,"File Number:",{"$f":"EBNUMBER","v":"EB-2022-0016"}]
[null,null,null,null,null,null,null,null,null,null,null,null,null,"Exhibit:"]
[null,null,null,null,null,null,null,null,null,null,null,null,null,"Tab:"]
[null,null,null,null,null,null,null,null,null,null,null,null,null,"Schedule:"]
[null,null,null,null,null,null,null,null,null,null,null,null,null,"Page:"]
[]
[null,null,null,null,null,null,null,null,null,null,null,null,null,"Date:","2022-10-24"]
[]
["Appendix 2-BA"]
["Fixed Asset Continuity Schedule 1 "]
[]
[null,null,null,null,"Accounting Standard",null,"MIFRS"]
[null,null,null,null,"Year ",null,2019]
[]
[null,null,null,"Cost",null,null,null,null,null,null,"Accumulated Depreciation"]
["CCA Class 2","OEB Account 3","Description 3","Opening Balance","Additions 4","Disposals (NBV = nil)","Disposals 6","Closing Balance",null,"Opening Balance","Additions","Disposals (NBV = nil)","Disposals 6","Closing Balance","Net Book Value"]
[null,1609,"Capital Contributions Paid",{"$f":"+H630","v":1190000},null,null,null,{"$f":"SUM(D720:G720)","v":1190000},null,{"$f":"+N630","v":0},-26444,null,null,{"$f":"SUM(J720:M720)","v":-26444},{"$f":"H720+N720","v":1163556}]
[12,1611,"Computer Software (Formally known as Account 1925)",{"$f":"+H631","v":9598886},929373,-5518772,null,{"$f":"SUM(D721:G721)","v":5009487},null,{"$f":"+N631","v":-7586786},-822468,5518772,null,{"$f":"SUM(J721:M721)","v":-2890482},{"$f":"H721+N721","v":2119005}]
["CEC",1612,"Land Rights (Formally known as Account 1906)",173433,null,null,null,173433,null,-5960,-1192,null,null,-7152,{"$f":"H722+N722","v":166281}]
["N/A",1805,"Land",497489,null,null,null,497489,null,0,null,null,null,0,{"$f":"H723+N723","v":497489}]
[47,1808,"Buildings",0,null,null,null,0,null,0,null,null,null,0,{"$f":"H724+N724","v":0}]
[13,1810,"Leasehold Improvements",0,null,null,null,0,null,0,null,null,null,0,0]
[47,1815,"Transformer Station Equipment >50 kV",0,null,null,null,0,null,0,null,null,null,0,0]
[47,1820,"Distribution Station Equipment <50 kV",4694785,80682,null,null,4775467,null,-704117,-172043,null,null,-876160,3899307]
[47,1825,"Storage Battery Equipment",0,null,null,null,0,null,0,null,null,null,0,0]
[47,1830,"Poles, Towers & Fixtures",11676910,2742059,null,null,14418969,null,-764521,-297915,null,null,-1062436,13356533]
[47,1835,"Overhead Conductors & Devices",13854762,1170522,null,null,15025284,null,-1672288,-380186,null,null,-2052474,12972810]
[47,1840,"Underground Conduit",2776353,308346,null,null,3084699,null,-246977,-56448,null,null,-303425,2781274]
[47,1845,"Underground Conductors & Devices",10679301,651572,{"$f":"-100599+71773-1","v":-28827},null,11302046,null,-1919788,-416648,{"$f":"-F732","v":28827},null,-2307609,8994437]
[47,1850,"Line Transformers",12015125,1527895,null,{"$f":"-22791+9412","v":-13379},13529641,null,-1502664,-380666,null,{"$f":"11790-9412","v":2378},-1880952,11648689]
[47,1855,"Services (Overhead & Underground)",1814731,205473,null,null,2020204,null,-277983,-81189,null,null,-359172,1661032]
[47,1860,"Meters",1026487,{"$f":"292140-E736","v":218986},null,null,1245473,null,-215290.45,{"$f":"-448404-K736","v":-73246},null,null,-288536.45,956936.55]
[47,1860,"Meters (Smart Meters)",4598875,73154,null,null,4672029,null,-1698272.55,-375158,null,null,-2073430.55,2598598.4500000002]
["N/A",1905,"Land",0,null,null,null,0,null,0,null,null,null,0,0]
["1b",1908,"Buildings & Fixtures",6972022,217530,null,null,7189552,null,-907702,-191897,null,null,-1099599,6089953]
[13,1910,"Leasehold Improvements",0,null,null,null,0,null,0,null,null,null,0,0]
[8,1915,"Office Furniture & Equipment (10 years)",427902,37679,-69668,null,395913,null,-231588,-43142,{"$f":"-F740","v":69668},null,-205062,190851]
[8,1915,"Office Furniture & Equipment (5 years)",0,null,null,null,0,null,0,null,null,null,0,0]
[50,1920,"Computer Equip.-Hardware(Post Mar. 19/07)",3372619,809945,-1663710,null,2518854,null,-2408157,-371018,{"$f":"-F742","v":1663710},null,-1115465,1403389]
[45,1920,"Computer Equip.-Hardware(Post Mar. 22/04)",0,null,null,null,0,null,0,null,null,null,0,0]
[10,1920,"Computer Equip.-Hardware",0,null,null,null,0,null,0,null,null,null,0,0]
[10,1930,"Transportation Equipment",4210613,274622,-301719,null,4183516,null,-1793562,-506662,{"$f":"-F745","v":301719},null,-1998505,2185011]
[8,1935,"Stores Equipment",274,null,-274,null,0,null,-273,null,273,null,0,0]
[8,1940,"Tools, Shop & Garage Equipment",659366,180262,-55677,null,783951,null,-250302,-71746,{"$f":"-F747","v":55677},null,-266371,517580]
[8,1945,"Measurement & Testing Equipment",108212,null,-4679,null,103533,null,-70799,-13224,4679,null,-79344,24189]
[8,1950,"Power Operated Equipment",0,null,null,null,0,null,0,null,null,null,0,0]
[8,1955,"Communications Equipment",64962,null,{"$f":"-3278-1","v":-3279},null,61683,null,-48174,-8979,3279,null,-53874,7809]
[8,1955,"Communication Equipment (Smart Meters)",0,null,null,null,0,null,0,null,null,null,0,0]
[8,1960,"Miscellaneous Equipment ",153675,2896,-30976,null,125595,null,-94376,-15904,30976,null,-79304,46291]
[47,1970,"Load Management Controls Customer Premises",0,null,null,null,0,null,0,null,null,null,0,0]
[47,1975,"Load Management Controls Utility Premises",0,null,null,null,0,null,0,null,null,null,0,0]
[47,1980,"System Supervisor Equipment",757970,null,{"$f":"-5125+1","v":-5124},null,752846,null,-241097,-49609,{"$f":"-F755","v":5124},null,-285582,467264]
[47,1985,"Miscellaneous Fixed Assets",0,null,null,null,0,null,0,null,null,null,0,0]
[47,1990,"Other Tangible Property",1290619,120190,null,null,1410809,null,0,null,null,null,0,1410809]
[47,1995,"Contributions & Grants",-5380670,null,null,null,-5380670,null,1459233,{"$f":"293730","v":293730},null,null,1752963,-3627707]
[47,2440,"Deferred Revenue5",-1422772,-330870,null,null,-1753642,null,165542,{"$f":"70146","v":70146},null,null,235688,-1517954]
[null,1534,"Smart Grid",359347,7791,null,null,367138,null,0,null,null,null,0,367138]
[null,2005,"Property Under Finance Lease7",0,null,null,null,0,null,0,null,null,null,0,0]
[null,null,"Sub-Total",{"$f":"SUM(D720:D761)","v":86171276},{"$f":"SUM(E720:E761)","v":9228107},{"$f":"SUM(F720:F761)","v":-7682705},{"$f":"SUM(G720:G761)","v":-13379},{"$f":"SUM(H720:H761)","v":87703299},null,{"$f":"SUM(J720:J761)","v":-21015902},-3991908,7682704,2378,-17322728,70380571]
[null,null,"Less Socialized Renewable Energy Generation Investments (input as negative)",{"$f":"+H673","v":0},null,null,null,{"$f":"SUM(D763:G763)","v":0},null,{"$f":"+N673","v":0},null,null,null,{"$f":"SUM(J763:M763)","v":0},{"$f":"H763+N763","v":0}]
[null,null,"Less Other Non Rate-Regulated Utility Assets (input as negative)",0,null,null,null,0,null,0,null,null,null,0,{"$f":"H764+N764","v":0}]
[null,null,"Total PP&E",{"$f":"SUM(D762:D764)","v":86171276},{"$f":"SUM(E762:E764)","v":9228107},{"$f":"SUM(F762:F764)","v":-7682705},{"$f":"SUM(G762:G764)","v":-13379},{"$f":"SUM(H762:H764)","v":87703299},null,{"$f":"SUM(J762:J764)","v":-21015902},-3991908,7682704,2378,-17322728,70380571]
[null,null,"Depreciation Expense adj. from gain or loss on the retirement of assets (pool of like assets), if applicable6"]
[null,null,"Total",null,null,null,null,null,null,null,{"$f":"K765+K766","v":-3991908}]
[]
[null,null,null,null,null,null,null,null,null,"Less: Fully Allocated Depreciation"]
[10,null,"Transportation",null,null,null,null,null,null,"Transportation"]
[8,null,"Stores Equipment",null,null,null,null,null,null,"Stores Equipment"]
[47,null,"Deferred Revenue",null,null,null,null,null,null,"Deferred Revenue",null,null,{"$f":"-K759","v":-70146}]
[null,null,null,null,null,null,null,null,null,"Net Depreciation",null,null,{"$f":"K767-M770-M771-M772","v":-3921762}]
[]
[]
[]
[]
[null,null,"per above",{"$f":"+D765","v":86171276},9228107,-7682705,-13379,87703299,null,{"$f":"+J765","v":-21015902},-3991908,7682704,2378,-17322728,70380571]
[null,null,"remove GL 2440",{"$f":"-D759","v":1422772},{"$f":"-E759","v":330870},{"$f":"-F759","v":0},{"$f":"-G759","v":0},{"$f":"SUM(D779:G779)","v":1753642},null,{"$f":"-J759","v":-165542},{"$f":"-K759","v":-70146},{"$f":"-L759","v":0},{"$f":"-M759","v":0},{"$f":"SUM(J779:M779)","v":-235688},{"$f":"+H779+N779","v":1517954}]
[null,null,"GL 2075 - Non Utility Assets",{"$f":"+H690","v":89136},0,0,0,{"$f":"SUM(D780:G780)","v":89136},null,{"$f":"+N690","v":-28105},-3921,0,0,{"$f":"SUM(J780:M780)","v":-32026},{"$f":"+H780+N780","v":57110}]
[null,null,"GL 2055 - CWIP",{"$f":"+H691","v":782910},{"$f":"66633","v":66633},0,0,{"$f":"SUM(D781:G781)","v":849543},null,{"$f":"+N691","v":0},0,0,0,{"$f":"SUM(J781:M781)","v":0},{"$f":"+H781+N781","v":849543}]
[null,null,"Total Cost =",{"$f":"SUM(D778:D781)","v":88466094},{"$f":"SUM(E778:E781)","v":9625610},{"$f":"SUM(F778:F781)","v":-7682705},{"$f":"SUM(G778:G781)","v":-13379},90395620,null,{"$f":"SUM(J778:J781)","v":-21209549},-4065975,7682704,2378,-17590442,72805178]
[null,null,null,"agrees to audited FS","agrees to audited FS",null,"agrees to audited FS","   agrees to audited FS",null,"agrees to audited FS","agrees to audited FS",null,"agrees to audited FS","agrees to audited FS","agrees to audited FS"]
[]
[]
[null,null,null,"Note 8 =",{"$f":"8696238","v":8696238},null,"Note 8 =",84022700,null,"Note 8 =",-3215871,null,"Note 8 =",-14666362,{"$f":"+H786+N786","v":69356338}]
[null,null,null,"Note 9 =",929373,null,"Note 9 =",6372920,null,"Note 9 =",-850104,null,"Note 9 =",-2924079,{"$f":"+H787+N787","v":3448841}]
[null,null,null,null,{"$f":"+E786+E787","v":9625611},null,null,{"$f":"+H786+H787","v":90395620},null,null,{"$f":"+K786+K787","v":-4065975},null,null,{"$f":"+N786+N787","v":-17590441},{"$f":"+O786+O787","v":72805179}]
[]
[null,null,null,null,{"$f":"+E782-E788","v":-1},null,null,{"$f":"+H788-H782","v":0},null,null,{"$f":"+K782-K788","v":0},null,null,{"$f":"+N782-N788","v":-1},{"$f":"+O782-O788","v":-1}]
[]
[]
[]
[null,null,null,null,null,null,null,null,null,null,null,null,null,"File Number:",{"$f":"EBNUMBER","v":"EB-2022-0016"}]
[null,null,null,null,null,null,null,null,null,null,null,null,null,"Exhibit:"]
[null,null,null,null,null,null,null,null,null,null,null,null,null,"Tab:"]
[null,null,null,null,null,null,null,null,null,null,null,null,null,"Schedule:"]
[null,null,null,null,null,null,null,null,null,null,null,null,null,"Page:"]
[]
[null,null,null,null,null,null,null,null,null,null,null,null,null,"Date:","2022-10-24"]
[]
["Appendix 2-BA"]
["Fixed Asset Continuity Schedule 1 "]
[]
[null,null,null,null,"Accounting Standard",null,"MIFRS"]
[null,null,null,null,"Year ",null,2020]
[]
[null,null,null,"Cost",null,null,null,null,null,null,"Accumulated Depreciation"]
["CCA Class 2","OEB Account 3","Description 3","Opening Balance","Additions 4","Disposals (NBV = nil)","Disposals 6","Closing Balance",null,"Opening Balance","Additions","Disposals (NBV = nil)","Disposals 6","Closing Balance","Net Book Value"]
[null,1609,"Capital Contributions Paid",{"$f":"+H720","v":1190000},null,null,-20279.54,{"$f":"SUM(D810:G810)","v":1169720.46},null,{"$f":"+N720","v":-26444},-25544,null,null,{"$f":"SUM(J810:M810)","v":-51988},{"$f":"H810+N810","v":1117732.46}]
[12,1611,"Computer Software (Formally known as Account 1925)",{"$f":"+H721","v":5009487},1036528.5199999992,-692351,null,{"$f":"SUM(D811:G811)","v":5353664.5199999996},null,{"$f":"+N721","v":-2890482},-881375.69,692351,null,-3079506.69,{"$f":"H811+N811","v":2274157.8299999996}]
["CEC",1612,"Land Rights (Formally known as Account 1906)",173433,0,null,0,173433,null,-7152,-1192.2,null,null,-8344.2000000000007,{"$f":"H812+N812","v":165088.79999999999}]
["N/A",1805,"Land",497489,0,null,0,497489,null,0,null,null,null,0,{"$f":"H813+N813","v":497489}]
[47,1808,"Buildings",0,null,null,null,0,null,0,null,null,null,0,{"$f":"H814+N814","v":0}]
[13,1810,"Leasehold Improvements",0,null,null,null,0,null,0,null,null,null,0,0]
[47,1815,"Transformer Station Equipment >50 kV",0,null,null,null,0,null,0,null,null,null,0,0]
[47,1820,"Distribution Station Equipment <50 kV",4775467,31673.360000000102,null,0,4807140.3600000003,null,-876160,-173321.32,null,null,-1049481.32,3757659.04]
[47,1825,"Storage Battery Equipment",0,null,null,null,0,null,0,null,null,null,0,0]
[47,1830,"Poles, Towers & Fixtures",14418969,2750319.91,null,null,17169288.91,null,-1062436,-354757.04,null,null,-1417193.04,15752095.870000001]
[47,1835,"Overhead Conductors & Devices",15025284,684951.55000000121,null,null,15710235.550000001,null,-2052474,-401191.34,null,null,-2453665.34,13256570.210000001]
[47,1840,"Underground Conduit",3084699,261903.95000000019,null,null,3346602.95,null,-303425,-62598.46,null,null,-366023.46,2980579.49]
[47,1845,"Underground Conductors & Devices",11302046,893312.74999999837,null,null,12195358.749999998,null,-2307609,-431503.52,null,null,-2739112.52,9456246.2299999986]
[47,1850,"Line Transformers",13529641,1142633.3499999987,null,null,14672274.349999998,null,-1880952,-410760.38,null,null,-2291712.38,12380561.969999999]
[47,1855,"Services (Overhead & Underground)",2020204,245647.84999999986,null,null,2265851.8499999996,null,-359172,-90509.01,null,null,-449681.01,1816170.8399999996]
[47,1860,"Meters",1245473,{"$f":"491658.66-E826","v":466.65999999997439},null,null,1245939.6599999999,null,-288536.45,{"$f":"-472725.14-K826","v":-76612.140000000014},null,null,-365148.59,880791.06999999983]
[47,1860,"Meters (Smart Meters)",4672029,491192,null,null,5163221,null,-2073430.55,-396113,null,null,-2469543.5499999998,2693677.45]
["N/A",1905,"Land",0,null,null,null,0,null,0,null,null,null,0,0]
["1b",1908,"Buildings & Fixtures",7189552,192393.14,null,null,7381945.1399999997,null,-1099599,-174464.61,null,null,-1274063.6099999999,6107881.5299999993]
[13,1910,"Leasehold Improvements",0,null,null,null,0,null,0,null,null,null,0,0]
[8,1915,"Office Furniture & Equipment (10 years)",395913,17659.460000000057,-17758,null,395814.46000000008,null,-205062,-43808.29,17758,null,-231112.29,164702.17000000007]
[8,1915,"Office Furniture & Equipment (5 years)",0,null,null,0,0,null,0,null,null,null,0,0]
[50,1920,"Computer Equip.-Hardware(Post Mar. 19/07)",2518854,823843.28999999992,-401543,null,2941154.29,null,-1115465,-439870.43,401543,null,-1153792.43,1787361.86]
[45,1920,"Computer Equip.-Hardware(Post Mar. 22/04)",0,null,null,null,0,null,0,null,null,null,0,0]
[10,1920,"Computer Equip.-Hardware",0,null,null,null,0,null,0,null,null,null,0,0]
[10,1930,"Transportation Equipment",4183516,957740.62999999989,-19145,{"$f":"-213248+19145","v":-194103},4928008.63,null,-1998505,-434127.76,19145,{"$f":"145530-19145","v":126385},-2287102.7599999998,2640905.87]
[8,1935,"Stores Equipment",0,null,null,null,0,null,0,null,null,null,0,0]
[8,1940,"Tools, Shop & Garage Equipment",783951,174234.44999999995,-26677,null,931508.45,null,-266371,-81612.039999999994,26677,null,-321306.03999999998,610202.40999999992]
[8,1945,"Measurement & Testing Equipment",103533,null,null,null,103533,null,-79344,-11912.48,null,null,-91256.48,12276.520000000004]
[8,1950,"Power Operated Equipment",0,null,null,null,0,null,0,null,null,null,0,0]
[8,1955,"Communications Equipment",61683,null,null,null,61683,null,-53874,-7782.84,null,null,-61656.84,26.160000000003492]
[8,1955,"Communication Equipment (Smart Meters)",0,null,null,null,0,null,0,null,null,null,0,0]
[8,1960,"Miscellaneous Equipment ",125595,null,-6270,null,119325,null,-79304,-13565.97,6270,null,-86599.97,32725.03]
[47,1970,"Load Management Controls Customer Premises",0,null,null,null,0,null,0,null,null,null,0,0]
[47,1975,"Load Management Controls Utility Premises",0,null,null,null,0,null,0,null,null,null,0,0]
[47,1980,"System Supervisor Equipment",752846,null,-46841,null,706005,null,-285582,-41803.760000000002,46841,null,-280544.76,425460.24]
[47,1985,"Miscellaneous Fixed Assets",0,null,null,null,0,null,0,null,null,null,0,0]
[47,1990,"Other Tangible Property",1410809,174373,null,null,1585182,null,0,null,null,null,0,1585182]
[47,1995,"Contributions & Grants",-5380670,null,null,null,-5380670,null,1752963,293730.17,null,null,2046693.17,-3333976.83]
[47,2440,"Deferred Revenue5",-1753642,-481627.5,null,null,-2235269.5,null,235688,89410.803599999999,null,null,325098.80359999998,-1910170.6964]
[null,1534,"Smart Grid",367138,null,null,-367137.73,0.27000000001862645,null,0,null,null,null,0,0.27000000001862645]
[null,2005,"Property Under Finance Lease7",0,null,null,null,0,null,0,null,null,null,0,0]
[null,null,"Sub-Total",{"$f":"SUM(D810:D851)","v":87703299},{"$f":"SUM(E810:E851)","v":9397246.3699999973},{"$f":"SUM(F810:F851)","v":-1210585},{"$f":"SUM(G810:G851)","v":-581520.27},{"$f":"SUM(H810:H851)","v":95308440.099999979},null,{"$f":"SUM(J810:J851)","v":-17322728},-4171285.3064000001,1210585,{"$f":"SUM(M810:M851)","v":126385},-20157043.306400001,75151396.793599978]
[null,null,"Less Socialized Renewable Energy Generation Investments (input as negative)",{"$f":"+H763","v":0},null,null,null,{"$f":"SUM(D853:G853)","v":0},null,{"$f":"+N763","v":0},null,null,null,{"$f":"SUM(J853:M853)","v":0},{"$f":"H853+N853","v":0}]
[null,null,"Less Other Non Rate-Regulated Utility Assets (input as negative)",0,null,null,null,0,null,0,null,null,null,0,{"$f":"H854+N854","v":0}]
[null,null,"Total PP&E",{"$f":"SUM(D852:D854)","v":87703299},{"$f":"SUM(E852:E854)","v":9397246.3699999973},{"$f":"SUM(F852:F854)","v":-1210585},{"$f":"SUM(G852:G854)","v":-581520.27},{"$f":"SUM(H852:H854)","v":95308440.099999979},null,{"$f":"SUM(J852:J854)","v":-17322728},-4171285.3064000001,1210585,126385,-20157043.306400001,75151396.793599978]
[null,null,"Depreciation Expense adj. from gain or loss on the retirement of assets (pool of like assets), if applicable6"]
[null,null,"Total",null,null,null,null,null,null,null,{"$f":"K855+K856","v":-4171285.3064000001}]
[]
[null,null,null,null,null,null,null,null,null,"Less: Fully Allocated Depreciation"]
[10,null,"Transportation",null,null,null,null,null,null,"Transportation"]
[8,null,"Stores Equipment",null,null,null,null,null,null,"Stores Equipment"]
[47,null,"Deferred Revenue",null,null,null,null,null,null,"Deferred Revenue",null,null,{"$f":"-K849","v":-89410.803599999999}]
[null,null,null,null,null,null,null,null,null,"Net Depreciation",null,null,{"$f":"K857-M860-M861-M862","v":-4081874.5027999999}]
[]
[]
[]
[]
[null,null,"per above",{"$f":"+D855","v":87703299},9397246.3699999973,-1210585,-581520.27,95308440.099999979,null,{"$f":"+J855","v":-17322728},-4171285.3064000001,1210585,126385,-20157043.306400001,75151396.793599978]
[null,null,"remove GL 2440",{"$f":"-D849","v":1753642},{"$f":"-E849","v":481627.5},{"$f":"-F849","v":0},{"$f":"-G849","v":0},{"$f":"SUM(D869:G869)","v":2235269.5},null,{"$f":"-J849","v":-235688},{"$f":"-K849","v":-89410.803599999999},{"$f":"-M849","v":0},{"$f":"-M849","v":0},-325098.80359999998,1910170.6964]
[null,null,"GL 2075 - Non Utility Assets",{"$f":"+H780","v":89136},0,-16367,0,{"$f":"SUM(D870:G870)","v":72769},null,{"$f":"+N780","v":-32026},-3921,16367,0,{"$f":"SUM(J870:M870)","v":-19580},{"$f":"+H870+N870","v":53189}]
[null,null,"GL 2055 - CWIP",{"$f":"+H781","v":849543},-150341,0,0,{"$f":"SUM(D871:G871)","v":699202},null,{"$f":"+N781","v":0},0,0,0,{"$f":"SUM(J871:M871)","v":0},{"$f":"+H871+N871","v":699202}]
[null,null,"Total Cost =",{"$f":"SUM(D868:D871)","v":90395620},{"$f":"SUM(E868:E871)","v":9728532.8699999973},{"$f":"SUM(F868:F871)","v":-1226952},{"$f":"SUM(G868:G871)","v":-581520.27},98315680.599999979,null,{"$f":"SUM(J868:J871)","v":-17590442},-4264617.1100000003,1226952,126385,-20501722.109999999,77813958.48999998]
[null,null,null,"agrees to audited FS","agrees to audited FS","agrees to audited FS","agrees to audited FS","  agrees to audited FS",null,"  agrees to audited FS","  agrees to audited FS","agrees to audited FS","agrees to audited FS","agrees to audited FS","agrees to audited FS"]
[]
[]
[null,null,null,"Note 8 =",{"$f":"8842345-150341","v":8692004},null,"Note 8 =",91618863,null,"Note 8 =",-3356505,null,"Note 8 =",-17361882,{"$f":"+H876+N876","v":74256981}]
[null,null,null,"Note 9 =",1036529,null,"Note 9 =",6696818,null,"Note 9 =",-908112,null,"Note 9 =",-3139840,{"$f":"+H877+N877","v":3556978}]
[null,null,null,null,{"$f":"+E876+E877","v":9728533},null,null,{"$f":"+H876+H877","v":98315681},null,null,{"$f":"+K876+K877","v":-4264617},null,null,{"$f":"+N876+N877","v":-20501722},{"$f":"+O876+O877","v":77813959}]
[]
[null,null,null,null,{"$f":"+E872-E878","v":-0.13000000268220901},null,null,{"$f":"+H878-H872","v":0.40000002086162567},null,null,{"$f":"+K872-K878","v":-0.11000000033527613},null,null,{"$f":"+N872-N878","v":-0.10999999940395355},{"$f":"+O872-O878","v":-0.51000002026557922}]
[]
[]
[]
[null,null,null,null,null,null,null,null,null,null,null,null,null,"File Number:",{"$f":"EBNUMBER","v":"EB-2022-0016"}]
[null,null,null,null,null,null,null,null,null,null,null,null,null,"Exhibit:"]
[null,null,null,null,null,null,null,null,null,null,null,null,null,"Tab:"]
[null,null,null,null,null,null,null,null,null,null,null,null,null,"Schedule:"]
[null,null,null,null,null,null,null,null,null,null,null,null,null,"Page:"]
[]
[null,null,null,null,null,null,null,null,null,null,null,null,null,"Date:","2022-10-24"]
[]
["Appendix 2-BA"]
["Fixed Asset Continuity Schedule 1 "]
[]
[null,null,null,null,"Accounting Standard",null,"MIFRS"]
[null,null,null,null,"Year ",null,2021]
[]
[null,null,null,"Cost",null,null,null,null,null,null,"Accumulated Depreciation"]
["CCA Class 2","OEB Account 3","Description 3","Opening Balance","Additions 4","Disposals (NBV = nil)","Disposals 6","Closing Balance",null,"Opening Balance","Additions","Disposals (NBV = nil)","Disposals 6","Closing Balance","Net Book Value"]
[null,1609,"Capital Contributions Paid",{"$f":"+H810","v":1169720.46},0,null,null,{"$f":"SUM(D900:G900)","v":1169720.46},null,{"$f":"+N810","v":-51988},-25994.04,null,null,{"$f":"SUM(J900:M900)","v":-77982.040000000008},{"$f":"H900+N900","v":1091738.42}]
[12,1611,"Computer Software (Formally known as Account 1925)",{"$f":"+H811","v":5353664.5199999996},942642.47000000055,-996105,null,{"$f":"SUM(D901:G901)","v":5300201.99},null,{"$f":"+N811","v":-3079506.69},-920667.94,996105,null,{"$f":"SUM(J901:M901)","v":-3004069.63},{"$f":"H901+N901","v":2296132.3600000003}]
["CEC",1612,"Land Rights (Formally known as Account 1906)",173433,null,null,null,173433,null,-8344.2000000000007,-1192.2,null,null,-9536.4000000000015,{"$f":"H902+N902","v":163896.6}]
["N/A",1805,"Land",497489,null,null,null,497489,null,0,null,null,null,0,{"$f":"H903+N903","v":497489}]
[47,1808,"Buildings",0,null,null,null,0,null,0,null,null,null,0,{"$f":"H904+N904","v":0}]
[13,1810,"Leasehold Improvements",0,null,null,null,0,null,0,null,null,null,0,0]
[47,1815,"Transformer Station Equipment >50 kV",0,null,null,null,0,null,0,null,null,null,0,0,null,null,null,"                                                                                                                                                                                                                                                                                                                                                                                                                                                                                                                                                                                                                                                                                                                                                                                                                                                                                                                                                                                                                                                                                                                                                                                                                                               "]
[47,1820,"Distribution Station Equipment <50 kV",4807140.3600000003,293229.29999999981,-3875,null,5096494.66,null,-1049481.32,-179627.63,3875,null,-1225233.9500000002,3871260.71]
[47,1825,"Storage Battery Equipment",0,null,null,null,0,null,0,null,null,null,0,0]
[47,1830,"Poles, Towers & Fixtures",17169288.91,2331237.4200000018,null,null,19500526.330000002,null,-1417193.04,-418769.72,null,null,-1835962.76,17664563.57]
[47,1835,"Overhead Conductors & Devices",15710235.550000001,1047681.9000000004,null,null,16757917.450000001,null,-2453665.34,-419085.9,null,null,-2872751.2399999998,13885166.210000001]
[47,1840,"Underground Conduit",3346602.95,296833.66999999969,null,null,3643436.62,null,-366023.46,-68196.56,null,null,-434220.02,3209216.6]
[47,1845,"Underground Conductors & Devices",12195358.749999998,668089.0400000005,null,null,12863447.789999999,null,-2739112.52,-450723.12,null,null,-3189835.64,9673612.1499999985]
[47,1850,"Line Transformers",14672274.349999998,1263423.8000000003,null,null,15935698.149999999,null,-2291712.38,-443597.97,null,null,-2735310.3499999996,13200387.799999999]
[47,1855,"Services (Overhead & Underground)",2265851.8499999996,331514.60000000003,null,null,2597366.4499999997,null,-449681.01,-103072.72,null,null,-552753.73,2044612.7199999997]
[47,1860,"Meters",1245939.6599999999,{"$f":"181828.1-E916","v":9274.1000000000058},null,null,1255213.76,null,-365148.59,{"$f":"-493826.65-K916","v":-76984.030000000028},null,null,-442132.62000000005,813081.1399999999]
[47,1860,"Meters (Smart Meters)",5163221,172554,null,null,5335775,null,-2469543.5499999998,-416842.62,null,null,-2886386.17,2449388.83]
["N/A",1905,"Land",0,null,null,null,0,null,0,null,null,null,0,0]
["1b",1908,"Buildings & Fixtures",7381945.1399999997,231962.6999999999,-128294,null,7485613.8399999999,null,-1274063.6099999999,-182898.93,128294,null,-1328668.5399999998,6156945.2999999998]
[13,1910,"Leasehold Improvements",0,null,null,null,0,null,0,null,null,null,0,0]
[8,1915,"Office Furniture & Equipment (10 years)",395814.46000000008,47360.36,-13619,null,429555.82000000007,null,-231112.29,-39041.19,13619,null,-256534.47999999998,173021.34000000008]
[8,1915,"Office Furniture & Equipment (5 years)",0,null,null,null,0,null,0,null,null,null,0,0]
[50,1920,"Computer Equip.-Hardware(Post Mar. 19/07)",2941154.29,607520.93000000005,-177871,null,3370804.22,null,-1153792.43,-598094.63,177871,null,-1574016.06,1796788.1600000001]
[45,1920,"Computer Equip.-Hardware(Post Mar. 22/04)",0,null,null,null,0,null,0,null,null,null,0,0]
[10,1920,"Computer Equip.-Hardware",0,null,null,null,0,null,0,null,null,null,0,0]
[10,1930,"Transportation Equipment",4928008.63,275216.20000000007,-656334,null,4546890.83,null,-2287102.7599999998,-470645.92,656334,null,-2101414.6799999997,2445476.1500000004]
[8,1935,"Stores Equipment",0,49921.84,null,null,49921.84,null,0,-2080.08,null,null,-2080.08,47841.759999999995]
[8,1940,"Tools, Shop & Garage Equipment",931508.45,84941.170000000027,-49195,null,967254.62,null,-321306.03999999998,-92823.57,49195,null,-364934.61,602320.01]
[8,1945,"Measurement & Testing Equipment",103533,null,-10927,null,92606,null,-91256.48,-8270.89,10927,null,-88600.37,4005.6300000000047]
[8,1950,"Power Operated Equipment",0,null,null,null,0,null,0,null,null,null,0,0]
[8,1955,"Communications Equipment",61683,null,-60602,null,1081,null,-61656.84,-25.149999999994201,60602,null,-1079.9899999999907,1.0100000000093132]
[8,1955,"Communication Equipment (Smart Meters)",0,null,null,null,0,null,0,null,null,null,0,0]
[8,1960,"Miscellaneous Equipment ",119325,11291.110000000015,-25904,null,104712.11000000002,null,-86599.97,-11121.81,25904,null,-71817.78,32894.330000000016]
[47,1970,"Load Management Controls Customer Premises",0,null,null,null,0,null,0,null,null,null,0,0]
[47,1975,"Load Management Controls Utility Premises",0,null,null,null,0,null,0,null,null,null,0,0]
[47,1980,"System Supervisor Equipment",706005,2477.4100000000326,null,null,708482.41,null,-280544.76,-36267.57,null,null,-316812.33,391670.08]
[47,1985,"Miscellaneous Fixed Assets",0,null,null,null,0,null,0,null,null,null,0,0]
[47,1990,"Other Tangible Property",1585182,372781,null,null,1957963,null,0,null,null,null,0,1957963]
[47,1995,"Contributions & Grants",-5380670,null,null,null,-5380670,null,2046693.17,293730.12,null,null,2340423.29,-3040246.71]
[47,2440,"Deferred Revenue5",-2235269.5,-229470,null,null,-2464739.5,null,325098.80359999998,98589.583599999998,null,null,423688.3872,-2041051.1128]
[null,1534,"Smart Grid",0.27000000001862645,null,null,null,0.27000000001862645,null,0,null,null,null,0,0.27000000001862645]
[null,2005,"Property Under Finance Lease7",0,null,null,null,0,null,0,null,null,null,0,0]
[null,null,"Sub-Total",{"$f":"SUM(D900:D941)","v":95308440.099999979},{"$f":"SUM(E900:E941)","v":8810483.0200000014},{"$f":"SUM(F900:F941)","v":-2122726},{"$f":"SUM(G900:G941)","v":0},{"$f":"SUM(H900:H941)","v":101996197.11999999},null,{"$f":"SUM(J900:J941)","v":-20157043.306400001},-4573704.4864000008,2122726,0,-22608021.792799991,79388175.32720001]
[null,null,"Less Socialized Renewable Energy Generation Investments (input as negative)",{"$f":"+H853","v":0},null,null,null,{"$f":"SUM(D943:G943)","v":0},null,{"$f":"+N853","v":0},null,null,null,{"$f":"SUM(J943:M943)","v":0},{"$f":"H943+N943","v":0}]
[null,null,"Less Other Non Rate-Regulated Utility Assets (input as negative)",0,null,null,null,0,null,0,null,null,null,0,{"$f":"H944+N944","v":0}]
[null,null,"Total PP&E",{"$f":"SUM(D942:D944)","v":95308440.099999979},{"$f":"SUM(E942:E944)","v":8810483.0200000014},{"$f":"SUM(F942:F944)","v":-2122726},{"$f":"SUM(G942:G944)","v":0},{"$f":"SUM(H942:H944)","v":101996197.11999999},null,{"$f":"SUM(J942:J944)","v":-20157043.306400001},-4573704.4864000008,2122726,0,-22608021.792799991,79388175.32720001]
[null,null,"Depreciation Expense adj. from gain or loss on the retirement of assets (pool of like assets), if applicable6"]
[null,null,"Total",null,null,null,null,null,null,null,{"$f":"K945+K946","v":-4573704.4864000008}]
[]
[null,null,null,null,null,null,null,null,null,"Less: Fully Allocated Depreciation"]
[10,null,"Transportation",null,null,null,null,null,null,"Transportation"]
[8,null,"Stores Equipment",null,null,null,null,null,null,"Stores Equipment"]
[47,null,"Deferred Revenue",null,null,null,null,null,null,"Deferred Revenue",null,null,{"$f":"+K939","v":98589.583599999998}]
[null,null,null,null,null,null,null,null,null,"Net Depreciation",null,null,{"$f":"K947-M950-M951-M952","v":-4672294.07}]
[]
[]
[]
[]
[null,null,"per above",{"$f":"+D945","v":95308440.099999979},8810483.0200000014,-2122726,0,101996197.11999999,null,{"$f":"+J945","v":-20157043.306400001},-4573704.4864000008,2122726,0,-22608021.792799991,79388175.32720001]
[null,null,"remove GL 2440",{"$f":"-D939","v":2235269.5},{"$f":"-E939","v":229470},{"$f":"-F939","v":0},{"$f":"-G939","v":0},{"$f":"SUM(D959:G959)","v":2464739.5},null,{"$f":"-J939","v":-325098.80359999998},{"$f":"-K939","v":-98589.583599999998},{"$f":"-L939","v":0},{"$f":"-M939","v":0},{"$f":"SUM(J959:M959)","v":-423688.3872},{"$f":"+H959+N959","v":2041051.1128}]
[null,null,"GL 2075 - Non Utility Assets",{"$f":"+H870","v":72769},0,0,0,{"$f":"SUM(D960:G960)","v":72769},null,{"$f":"+N870","v":-19580},-3921,0,0,{"$f":"SUM(J960:M960)","v":-23501},{"$f":"+H960+N960","v":49268}]
[null,null,"GL 2055 - CWIP",{"$f":"+H871","v":699202},329801,0,0,{"$f":"SUM(D961:G961)","v":1029003},null,{"$f":"+N871","v":0},0,0,0,{"$f":"SUM(J961:M961)","v":0},{"$f":"+H961+N961","v":1029003}]
[null,null,"Total Cost =",{"$f":"SUM(D958:D961)","v":98315680.599999979},{"$f":"SUM(E958:E961)","v":9369754.0200000014},{"$f":"SUM(F958:F961)","v":-2122726},{"$f":"SUM(G958:G961)","v":0},105562708.61999999,null,{"$f":"SUM(J958:J961)","v":-20501722.109999999},-4676215.07,2122726,0,-23055211.179999992,82507497.440000013]
[null,null,null,"agrees to audited FS","agrees to audited FS","agrees to audited FS","agrees to audited FS","  agrees to audited FS",null,"  agrees to audited FS","  agrees to audited FS","agrees to audited FS","agrees to audited FS","agrees to audited FS"]
[]
[]
[null,null,null,"Note 8 =",8427112,null,"Note 8 =",98919354,null,"Note 8 =",-3728361,null,"Note 8 =",-19963622,{"$f":"+H966+N966","v":78955732}]
[null,null,null,"Note 9 =",942642,null,"Note 9 =",6643355,null,"Note 9 =",-947854,null,"Note 9 =",-3091589,{"$f":"+H967+N967","v":3551766}]
[null,null,null,null,{"$f":"+E966+E967","v":9369754},null,null,{"$f":"+H966+H967","v":105562709},null,null,{"$f":"+K966+K967","v":-4676215},null,null,{"$f":"+N966+N967","v":-23055211},{"$f":"+O966+O967","v":82507498}]
[]
[null,null,null,null,{"$f":"+E962-E968","v":2.0000001415610313E-2},null,null,{"$f":"+H968-H962","v":0.38000001013278961},null,null,{"$f":"+K962-K968","v":-7.0000000298023224E-2},null,null,{"$f":"+N962-N968","v":-0.17999999225139618},{"$f":"+O962-O968","v":-0.5599999874830246}]
[]
[]
[]
[null,null,null,null,null,null,null,null,null,null,null,null,null,"File Number:",{"$f":"EBNUMBER","v":"EB-2022-0016"}]
[null,null,null,null,null,null,null,null,null,null,null,null,null,"Exhibit:"]
[null,null,null,null,null,null,null,null,null,null,null,null,null,"Tab:"]
[null,null,null,null,null,null,null,null,null,null,null,null,null,"Schedule:"]
[null,null,null,null,null,null,null,null,null,null,null,null,null,"Page:"]
[]
[null,null,null,null,null,null,null,null,null,null,null,null,null,"Date:","2022-10-24"]
[]
["Appendix 2-BA"]
["Fixed Asset Continuity Schedule 1 "]
[]
[null,null,null,null,"Accounting Standard",null,"MIFRS"]
[null,null,null,null,"Year ",null,2022]
[]
[null,null,null,"Cost",null,null,null,null,null,null,"Accumulated Depreciation"]
["CCA Class 2","OEB Account 3","Description 3","Opening Balance","Additions 4","Disposals (NBV = nil)","Disposals 6","Closing Balance",null,"Opening Balance","Additions","Disposals (NBV = nil)","Disposals 6","Closing Balance","Net Book Value"]
[null,1609,"Capital Contributions Paid",{"$f":"+H900","v":1169720.46},null,null,null,{"$f":"SUM(D990:G990)","v":1169720.46},null,{"$f":"+N900","v":-77982.040000000008},-25994,null,null,{"$f":"SUM(J990:M990)","v":-103976.04000000001},{"$f":"H990+N990","v":1065744.42}]
[12,1611,"Computer Software (Formally known as Account 1925)",{"$f":"+H901","v":5300201.99},1058699,-1108782,null,{"$f":"SUM(D991:G991)","v":5250118.99},null,{"$f":"+N901","v":-3004069.63},-894273,{"$f":"-F991","v":1108782},null,{"$f":"SUM(J991:M991)","v":-2789560.63},{"$f":"H991+N991","v":2460558.3600000003}]
["CEC",1612,"Land Rights (Formally known as Account 1906)",173433,null,null,null,173433,null,-9536.4000000000015,-1192,null,null,-10728.400000000001,{"$f":"H992+N992","v":162704.6}]
["N/A",1805,"Land",497489,null,null,null,497489,null,0,null,null,null,0,{"$f":"H993+N993","v":497489}]
[47,1808,"Buildings",0,null,null,null,0,null,0,null,null,null,0,{"$f":"H994+N994","v":0}]
[13,1810,"Leasehold Improvements",0,null,null,null,0,null,0,null,null,null,0,0]
[47,1815,"Transformer Station Equipment >50 kV",0,null,null,null,0,null,0,null,null,null,0,0]
[47,1820,"Distribution Station Equipment <50 kV",5096494.66,405884,null,null,5502378.6600000001,null,-1225233.9500000002,-186732,null,null,-1411965.9500000002,4090412.71]
[47,1825,"Storage Battery Equipment",0,null,null,null,0,null,0,null,null,null,0,0]
[47,1830,"Poles, Towers & Fixtures",19500526.330000002,3059951,null,null,22560477.330000002,null,-1835962.76,-469887,null,null,-2305849.7599999998,20254627.57]
[47,1835,"Overhead Conductors & Devices",16757917.450000001,997913,null,null,17755830.450000003,null,-2872751.2399999998,-434227,null,null,-3306978.2399999998,14448852.210000003]
[47,1840,"Underground Conduit",3643436.62,536608,null,null,4180044.62,null,-434220.02,-73326,null,null,-507546.02,3672498.6]
[47,1845,"Underground Conductors & Devices",12863447.789999999,1635517,-575207,null,13923757.789999999,null,-3189835.64,-404490,{"$f":"-F1002","v":575207},null,-3019118.64,10904639.149999999]
[47,1850,"Line Transformers",15935698.149999999,1783108,null,null,17718806.149999999,null,-2735310.3499999996,-479084,null,null,-3214394.3499999996,14504411.799999999]
[47,1855,"Services (Overhead & Underground)",2597366.4499999997,198861,null,null,2796227.4499999997,null,-552753.73,-112690,null,null,-665443.73,2130783.7199999997]
[47,1860,"Meters",1255213.76,13517,null,null,1268730.76,null,-442132.62000000005,-77767,null,null,-519899.62000000005,748831.1399999999]
[47,1860,"Meters (Smart Meters)",5335775,177894,null,null,5513669,null,-2886386.17,-428554,null,null,-3314940.17,2198728.83]
["N/A",1905,"Land",0,null,null,null,0,null,0,null,null,null,0,0]
["1b",1908,"Buildings & Fixtures",7485613.8399999999,218620,null,null,7704233.8399999999,null,-1328668.5399999998,-190569,null,null,-1519237.5399999998,6184996.2999999998]
[13,1910,"Leasehold Improvements",0,null,null,null,0,null,0,null,null,null,0,0]
[8,1915,"Office Furniture & Equipment (10 years)",429555.82000000007,60522,-52673,null,437404.82000000007,null,-256534.47999999998,-39710,{"$f":"-F1010","v":52673},null,-243571.47999999998,193833.34000000008]
[8,1915,"Office Furniture & Equipment (5 years)",0,null,null,null,0,null,0,null,null,null,0,0]
[50,1920,"Computer Equip.-Hardware(Post Mar. 19/07)",3370804.22,997052,-261921,null,4105935.2200000007,null,-1574016.06,-698803,{"$f":"-F1012","v":261921},null,-2010898.06,2095037.1600000006]
[45,1920,"Computer Equip.-Hardware(Post Mar. 22/04)",0,null,null,null,0,null,0,null,null,null,0,0]
[10,1920,"Computer Equip.-Hardware",0,null,null,null,0,null,0,null,null,null,0,0]
[10,1930,"Transportation Equipment",4546890.83,860212,-276701,-70504,5059897.83,null,-2101414.6799999997,-452645,{"$f":"-F1015","v":276701},53106,-2224252.6799999997,2835645.1500000004]
[8,1935,"Stores Equipment",49921.84,null,null,null,49921.84,null,-2080.08,-6240,null,null,-8320.08,41601.759999999995]
[8,1940,"Tools, Shop & Garage Equipment",967254.62,210238,-29014,null,1148478.6200000001,null,-364934.61,-108003,{"$f":"-F1017","v":29014},null,-443923.61,704555.01000000013]
[8,1945,"Measurement & Testing Equipment",92606,null,-49755,null,42851,null,-88600.37,-4008,{"$f":"-F1018","v":49755},null,-42853.369999999995,-2.3699999999953434]
[8,1950,"Power Operated Equipment",0,null,null,null,0,null,0,null,null,null,0,0]
[8,1955,"Communications Equipment",1081,18489,-1081,null,18489,null,-1079.9899999999907,-1013,{"$f":"-F1020-1","v":1080},null,-1012.9899999999907,17476.010000000009]
[8,1955,"Communication Equipment (Smart Meters)",0,null,null,null,0,null,0,null,null,null,0,0]
[8,1960,"Miscellaneous Equipment ",104712.11000000002,23164,-20412,null,107464.11000000002,null,-71817.78,-11559,{"$f":"-F1022","v":20412},null,-62964.78,44499.330000000016]
[47,1970,"Load Management Controls Customer Premises",0,null,null,null,0,null,0,null,null,null,0,0]
[47,1975,"Load Management Controls Utility Premises",0,null,null,null,0,null,0,null,null,null,0,0]
[8,1980,"System Supervisor Equipment",708482.41,null,-39196,null,669286.41,null,-316812.33,-33644,{"$f":"-F1025","v":39196},null,-311260.33,358026.08]
[47,1985,"Miscellaneous Fixed Assets",{"$f":"+H936","v":0},null,null,null,0,null,{"$f":"+N936","v":0},null,null,null,0,0]
[47,1990,"Other Tangible Property",1957963,-43351,null,null,1914612,null,0,null,null,null,0,1914612]
[47,1995,"Contributions & Grants",-5380670,null,null,null,-5380670,null,2340423.29,82713,null,null,2423136.29,-2957533.71]
[47,2440,"Deferred Revenue5",-2464739.5,-929669,null,null,-3394408.5,null,423688.3872,63124,null,null,486812.3872,-2907596.1128000002]
[null,1534,"Smart Grid",0.27000000001862645,null,null,null,0.27000000001862645,null,0,null,null,null,0,0.27000000001862645]
[null,2005,"Property Under Finance Lease7",0,null,null,null,0,null,0,null,null,null,0,0]
[null,null,"Sub-Total",{"$f":"SUM(D990:D1031)","v":101996197.11999999},{"$f":"SUM(E990:E1031)","v":11283229},{"$f":"SUM(F990:F1031)","v":-2414742},{"$f":"SUM(G990:G1031)","v":-70504},{"$f":"SUM(H990:H1031)","v":110794180.11999999},null,{"$f":"SUM(J990:J1031)","v":-22608021.792799991},-4988573,2414741,53106,-25128747.792799991,85665432.32720001]
[null,null,"Less Socialized Renewable Energy Generation Investments (input as negative)",{"$f":"+H943","v":0},null,null,null,{"$f":"SUM(D1033:G1033)","v":0},null,{"$f":"+N943","v":0},null,null,null,{"$f":"SUM(J1033:M1033)","v":0},{"$f":"H1033+N1033","v":0}]
[null,null,"Less Other Non Rate-Regulated Utility Assets (input as negative)",{"$f":"+H944","v":0},null,null,null,0,null,{"$f":"+N944","v":0},null,null,null,0,{"$f":"H1034+N1034","v":0}]
[null,null,"Total PP&E",{"$f":"SUM(D1032:D1034)","v":101996197.11999999},{"$f":"SUM(E1032:E1034)","v":11283229},{"$f":"SUM(F1032:F1034)","v":-2414742},{"$f":"SUM(G1032:G1034)","v":-70504},{"$f":"SUM(H1032:H1034)","v":110794180.11999999},null,{"$f":"SUM(J1032:J1034)","v":-22608021.792799991},-4988573,2414741,53106,-25128747.792799991,85665432.32720001]
[null,null,"Depreciation Expense adj. from gain or loss on the retirement of assets (pool of like assets), if applicable6"]
[null,null,"Total",null,null,null,null,null,null,null,{"$f":"K1035+K1036","v":-4988573}]
[]
[null,null,null,null,null,null,null,null,null,"Less: Fully Allocated Depreciation"]
[10,null,"Transportation",null,null,null,null,null,null,"Transportation"]
[8,null,"Stores Equipment",null,null,null,null,null,null,"Stores Equipment"]
[47,null,"Deferred Revenue",null,null,null,null,null,null,"Deferred Revenue",null,null,{"$f":"+K1029","v":63124}]
[null,null,null,null,null,null,null,null,null,"Net Depreciation",null,null,{"$f":"K1037-M1040-M1041-M1042","v":-5051697}]
[]
[]
[]
[]
[]
[]
[]
[]
[]
[]
[]
[]
[null,null,"per above",{"$f":"+D1035","v":101996197.11999999},{"$f":"+E1035","v":11283229},{"$f":"+F1035","v":-2414742},{"$f":"+G1035","v":-70504},{"$f":"+H1035","v":110794180.11999999},null,{"$f":"+J1035","v":-22608021.792799991},-4988573,2414741,53106,-25128747.792799991,85665432.32720001]
[null,null,"remove GL 2440",{"$f":"-D1029","v":2464739.5},{"$f":"-E1029","v":929669},{"$f":"-F1029","v":0},{"$f":"-G1029","v":0},{"$f":"SUM(D1057:G1057)","v":3394408.5},null,{"$f":"-J1029","v":-423688.3872},{"$f":"-K1029","v":-63124},{"$f":"-L1029","v":0},{"$f":"-M1029","v":0},{"$f":"SUM(J1057:M1057)","v":-486812.3872},{"$f":"+H1057+N1057","v":2907596.1128000002}]
[null,null,"GL 2075 - Non Utility Assets",{"$f":"+H960","v":72769},0,0,0,{"$f":"SUM(D1058:G1058)","v":72769},null,{"$f":"+N960","v":-23501},-3843,0,0,{"$f":"SUM(J1058:M1058)","v":-27344},{"$f":"+H1058+N1058","v":45425}]
[null,null,"GL 2055 - CWIP",{"$f":"+H961","v":1029003},null,0,0,{"$f":"SUM(D1059:G1059)","v":1029003},null,{"$f":"+N961","v":0},null,0,0,{"$f":"SUM(J1059:M1059)","v":0},{"$f":"+H1059+N1059","v":1029003}]
[null,null,"Total Cost =",{"$f":"SUM(D1056:D1059)","v":105562708.61999999},{"$f":"SUM(E1056:E1059)","v":12212898},{"$f":"SUM(F1056:F1059)","v":-2414742},{"$f":"SUM(G1056:G1059)","v":-70504},115290360.61999999,null,{"$f":"SUM(J1056:J1059)","v":-23055211.179999992},-5055540,2414741,53106,-25642904.179999992,89647456.440000013]
[]
[]
[]
[null,null,null,"Note 8 =",null,null,"Note 8 =",null,null,"Note 8 =",null,null,"Note 8 =",null,{"$f":"+H1064+N1064","v":0}]
[null,null,null,"Note 9 =",null,null,"Note 9 =",null,null,"Note 9 =",null,null,"Note 9 =",null,{"$f":"+H1065+N1065","v":0}]
[null,null,null,null,{"$f":"+E1064+E1065","v":0},null,null,{"$f":"+H1064+H1065","v":0},null,null,{"$f":"+K1064+K1065","v":0},null,null,{"$f":"+N1064+N1065","v":0},{"$f":"+O1064+O1065","v":0}]
[]
[null,null,null,null,{"$f":"+E1060-E1066","v":12212898},null,null,{"$f":"+H1066-H1060","v":-115290360.61999999},null,null,{"$f":"+K1060-K1066","v":-5055540},null,null,{"$f":"+N1060-N1066","v":-25642904.179999992},{"$f":"+O1060-O1066","v":89647456.440000013}]
[]
[]
[]
[null,null,null,null,null,null,null,null,null,null,null,null,null,"File Number:",{"$f":"EBNUMBER","v":"EB-2022-0016"}]
[null,null,null,null,null,null,null,null,null,null,null,null,null,"Exhibit:"]
[null,null,null,null,null,null,null,null,null,null,null,null,null,"Tab:"]
[null,null,null,null,null,null,null,null,null,null,null,null,null,"Schedule:"]
[null,null,null,null,null,null,null,null,null,null,null,null,null,"Page:"]
[]
[null,null,null,null,null,null,null,null,null,null,null,null,null,"Date:","2022-10-24"]
[]
["Appendix 2-BA"]
["Fixed Asset Continuity Schedule 1 "]
[]
[null,null,null,null,"Accounting Standard",null,"MIFRS"]
[null,null,null,null,"Year ",null,2023]
[]
[null,null,null,"Cost",null,null,null,null,null,null,"Accumulated Depreciation"]
["CCA Class 2","OEB Account 3","Description 3","Opening Balance","Additions 4","Disposals (NBV = nil)","Disposals 6","Closing Balance",null,"Opening Balance","Additions","Disposals (NBV = nil)","Disposals 6","Closing Balance","Net Book Value"]
[null,1609,"Capital Contributions Paid",{"$f":"+H990","v":1169720.46},null,null,null,{"$f":"SUM(D1088:G1088)","v":1169720.46},null,{"$f":"+N990","v":-103976.04000000001},-25994,null,null,{"$f":"SUM(J1088:M1088)","v":-129970.04000000001},{"$f":"H1088+N1088","v":1039750.4199999999}]
[12,1611,"Computer Software (Formally known as Account 1925)",5250118.99,1490000,-676507,null,{"$f":"SUM(D1089:G1089)","v":6063611.9900000002},null,-2789560.63,-1002882,{"$f":"-F1089","v":676507},null,{"$f":"SUM(J1089:M1089)","v":-3115935.63},{"$f":"H1089+N1089","v":2947676.3600000003}]
["CEC",1612,"Land Rights (Formally known as Account 1906)",173433,null,null,null,173433,null,-10728.400000000001,-1192,null,null,-11920.400000000001,{"$f":"H1090+N1090","v":161512.6}]
["N/A",1805,"Land",497489,900000,null,null,1397489,null,0,null,null,null,0,{"$f":"H1091+N1091","v":1397489}]
[47,1808,"Buildings",0,null,null,null,0,null,0,null,null,null,0,{"$f":"H1092+N1092","v":0}]
[13,1810,"Leasehold Improvements",0,null,null,null,0,null,0,null,null,null,0,0]
[47,1815,"Transformer Station Equipment >50 kV",0,null,null,null,0,null,0,null,null,null,0,0]
[47,1820,"Distribution Station Equipment <50 kV",5502378.6600000001,1147820,null,null,6650198.6600000001,null,-1411965.9500000002,-209847,null,null,-1621812.9500000002,5028385.71]
[47,1825,"Storage Battery Equipment",0,null,null,null,0,null,0,null,null,null,0,0]
[47,1830,"Poles, Towers & Fixtures",22560477.330000002,2962961,null,null,25523438.330000002,null,-2305849.7599999998,-540867,null,null,-2846716.76,22676721.57]
[47,1835,"Overhead Conductors & Devices",17755830.450000003,1565939,null,null,19321769.450000003,null,-3306978.2399999998,-461919,null,null,-3768897.2399999998,15552872.210000003]
[47,1840,"Underground Conduit",4180044.62,506561,null,null,4686605.62,null,-507546.02,-84451,null,null,-591997.02,4094608.6]
[47,1845,"Underground Conductors & Devices",13923757.789999999,882089,null,null,14805846.789999999,null,-3019118.64,-441832,null,null,-3460950.64,11344896.149999999]
[47,1850,"Line Transformers",17718806.149999999,1423770,null,null,19142576.149999999,null,-3214394.3499999996,-519201,null,null,-3733595.3499999996,15408980.799999999]
[47,1855,"Services (Overhead & Underground)",2796227.4499999997,577803,null,null,3374030.4499999997,null,-665443.73,-128004,null,null,-793447.73,2580582.7199999997]
[47,1860,"Meters",1268730.76,{"$f":"261757-E1104","v":9073},null,null,1277803.76,null,-519899.62000000005,-78325,null,null,-598224.62000000011,679579.1399999999]
[47,1860,"Meters (Smart Meters)",5513669,252684,null,null,5766353,null,-3314940.17,-441918,null,null,-3756858.17,2009494.83]
["N/A",1905,"Land",0,null,null,null,0,null,0,null,null,null,0,0]
["1b",1908,"Buildings & Fixtures",7704233.8399999999,122400,null,null,7826633.8399999999,null,-1519237.5399999998,-194738,null,null,-1713975.5399999998,6112658.2999999998]
[13,1910,"Leasehold Improvements",0,null,null,null,0,null,0,null,null,null,0,0]
[8,1915,"Office Furniture & Equipment (10 years)",437404.82000000007,32500,null,null,469904.82000000007,null,-243571.47999999998,-34086,null,null,-277657.48,192247.34000000008]
[8,1915,"Office Furniture & Equipment (5 years)",0,null,null,null,0,null,0,null,null,null,0,0]
[50,1920,"Computer Equip.-Hardware(Post Mar. 19/07)",4105935.2200000007,550590,-340752,null,4315773.2200000007,null,-2010898.06,-783860,{"$f":"-F1110","v":340752},null,-2454006.06,1861767.1600000006]
[45,1920,"Computer Equip.-Hardware(Post Mar. 22/04)",0,null,null,null,0,null,0,null,null,null,0,0]
[10,1920,"Computer Equip.-Hardware",0,null,null,null,0,null,0,null,null,null,0,0]
[10,1930,"Transportation Equipment",5059897.83,285750,-319342,null,5026305.83,null,-2224252.6799999997,-510424,{"$f":"-F1113","v":319342},null,-2415334.6799999997,2610971.1500000004]
[8,1935,"Stores Equipment",49921.84,null,null,null,49921.84,null,-8320.08,-6240,null,null,-14560.08,35361.759999999995]
[8,1940,"Tools, Shop & Garage Equipment",1148478.6200000001,159550,-27076,null,1280952.6200000001,null,-443923.61,-119032,{"$f":"-F1115","v":27076},null,-535879.61,745073.01000000013]
[8,1945,"Measurement & Testing Equipment",42851,null,{"$f":"-42852+1","v":-42851},null,0,null,-42853.369999999995,null,42853,null,-0.36999999999534339,-0.36999999999534339]
[8,1950,"Power Operated Equipment",0,null,null,null,0,null,0,null,null,null,0,0]
[8,1955,"Communications Equipment",18489,375000,null,null,393489,null,-1012.9899999999907,-20599,null,null,-21611.989999999991,371877.01]
[8,1955,"Communication Equipment (Smart Meters)",0,null,null,null,0,null,0,null,null,null,0,0]
[8,1960,"Miscellaneous Equipment ",107464.11000000002,24200,null,null,131664.11000000002,null,-62964.78,-14309,null,null,-77273.78,54390.330000000016]
[47,1970,"Load Management Controls Customer Premises",0,null,null,null,0,null,0,null,null,null,0,0]
[47,1975,"Load Management Controls Utility Premises",0,null,null,null,0,null,0,null,null,null,0,0]
[8,1980,"System Supervisor Equipment",669286.41,3410,-56796,null,615900.41,null,-311260.33,-27710,{"$f":"-F1123","v":56796},null,-282174.33,333726.08000000002]
[47,1980,"System Supervisor Equipment (smart grid)",56969,null,null,null,56969,null,-15533,-2279,null,null,{"$f":"SUM(J1124:M1124)","v":-17812},{"$f":"H1124+N1124","v":39157}]
[47,1985,"Miscellaneous Fixed Assets ",{"$f":"+H1026","v":0},null,null,null,0,null,{"$f":"+N1026","v":0},null,null,null,0,0]
[47,1990,"Other Tangible Property",1914612,null,null,null,1914612,null,0,null,null,null,0,1914612]
[47,1995,"Contributions & Grants",-5380670,null,null,null,-5380670,null,2423136.29,82713,null,null,2505849.29,-2874820.71]
[47,2440,"Deferred Revenue5",-3394408.5,-1000000,null,null,-4394408.5,null,486812.3872,83124,null,null,569936.3872,-3824472.1128000002]
[null,1534,"Smart Grid",0.27000000001862645,null,null,null,0.27000000001862645,null,0,null,null,null,0,0.27000000001862645]
[null,2005,"Property Under Finance Lease7",0,null,null,null,0,null,0,null,null,null,0,0]
[null,null,"Sub-Total",{"$f":"SUM(D1088:D1130)","v":110851149.11999999},{"$f":"SUM(E1088:E1130)","v":12272100},{"$f":"SUM(F1088:F1130)","v":-1463324},{"$f":"SUM(G1088:G1130)","v":0},{"$f":"SUM(H1088:H1130)","v":121659925.11999999},null,{"$f":"SUM(J1088:J1130)","v":-25144280.792799991},-5483872,1463326,0,-29164826.792799998,92495098.32720001]
[null,null,"Less Socialized Renewable Energy Generation Investments (input as negative)",{"$f":"+H1033","v":0},null,null,null,{"$f":"SUM(D1132:G1132)","v":0},null,{"$f":"+N1033","v":0},null,null,null,{"$f":"SUM(J1132:M1132)","v":0},{"$f":"H1132+N1132","v":0}]
[null,null,"Less Other Non Rate-Regulated Utility Assets (input as negative)",{"$f":"+H1034","v":0},null,null,null,0,null,{"$f":"+N1034","v":0},null,null,null,0,{"$f":"H1133+N1133","v":0}]
[null,null,"Total PP&E",{"$f":"SUM(D1131:D1133)","v":110851149.11999999},{"$f":"SUM(E1131:E1133)","v":12272100},{"$f":"SUM(F1131:F1133)","v":-1463324},{"$f":"SUM(G1131:G1133)","v":0},{"$f":"SUM(H1131:H1133)","v":121659925.11999999},null,{"$f":"SUM(J1131:J1133)","v":-25144280.792799991},-5483872,1463326,0,-29164826.792799998,92495098.32720001]
[null,null,"Depreciation Expense adj. from gain or loss on the retirement of assets (pool of like assets), if applicable6"]
[null,null,"Total",null,null,null,null,null,null,null,{"$f":"K1134+K1135","v":-5483872}]
[]
[null,null,null,null,null,null,null,null,null,"Less: Fully Allocated Depreciation"]
[10,null,"Transportation",null,null,null,null,null,null,"Transportation"]
[8,null,"Stores Equipment",null,null,null,null,null,null,"Stores Equipment"]
[47,null,"Deferred Revenue",null,null,null,null,null,null,"Deferred Revenue",null,null,{"$f":"K1128","v":83124}]
[null,null,null,null,null,null,null,null,null,"Net Depreciation",null,null,{"$f":"K1136-M1139-M1140-M1141","v":-5566996}]
[null,null,null,"per above",{"$f":"+E1134","v":12272100}]
[null,null,null,"add back deferred revenue addition",{"$f":"-E1128","v":1000000}]
[null,null,null,"2023 capital additions =",{"$f":"SUM(E1143:E1144)","v":13272100}]
[]
[]
[]
[]
[]
[]
[]
[]
[null,null,"per above",{"$f":"+D1134","v":110851149.11999999},{"$f":"+E1134","v":12272100},{"$f":"+F1134","v":-1463324},{"$f":"+G1134","v":0},{"$f":"+H1134","v":121659925.11999999},null,{"$f":"+J1134","v":-25144280.792799991},-5483872,1463326,0,-29164826.792799998,92495098.32720001]
[null,null,"remove GL 2440",{"$f":"-D1128","v":3394408.5},{"$f":"-E1128","v":1000000},{"$f":"-F1128","v":0},{"$f":"-G1128","v":0},{"$f":"SUM(D1155:G1155)","v":4394408.5},null,{"$f":"-J1128","v":-486812.3872},{"$f":"-K1128","v":-83124},{"$f":"-L1128","v":0},{"$f":"-M1128","v":0},{"$f":"SUM(J1155:M1155)","v":-569936.3872},{"$f":"+H1155+N1155","v":3824472.1128000002}]
[null,null,"GL 2075 - Non Utility Assets",{"$f":"+H1058","v":72769},0,0,-3768.96,{"$f":"SUM(D1156:G1156)","v":69000.039999999994},null,{"$f":"+N1058","v":-27344},-3450,0,0,{"$f":"SUM(J1156:M1156)","v":-30794},{"$f":"+H1156+N1156","v":38206.039999999994}]
[null,null,"GL 2055 - CWIP",{"$f":"+H1059","v":1029003},null,0,0,{"$f":"SUM(D1157:G1157)","v":1029003},null,{"$f":"+N1059","v":0},0,0,0,{"$f":"SUM(J1157:M1157)","v":0},{"$f":"+H1157+N1157","v":1029003}]
[null,null,"Total Cost =",{"$f":"SUM(D1154:D1157)","v":115347329.61999999},{"$f":"SUM(E1154:E1157)","v":13272100},{"$f":"SUM(F1154:F1157)","v":-1463324},{"$f":"SUM(G1154:G1157)","v":-3768.96},127152336.66,null,{"$f":"SUM(J1154:J1157)","v":-25658437.179999992},-5570446,1463326,0,-29765557.18,97386779.480000019]
[]
[]
[]
[null,null,null,"Note 8 =",null,null,"Note 8 =",null,null,"Note 8 =",null,null,"Note 8 =",null,{"$f":"+H1162+N1162","v":0}]
[null,null,null,"Note 9 =",null,null,"Note 9 =",null,null,"Note 9 =",null,null,"Note 9 =",null,{"$f":"+H1163+N1163","v":0}]
[null,null,null,null,{"$f":"+E1162+E1163","v":0},null,null,{"$f":"+H1162+H1163","v":0},null,null,{"$f":"+K1162+K1163","v":0},null,null,{"$f":"+N1162+N1163","v":0},{"$f":"+O1162+O1163","v":0}]
[]
[null,null,null,null,{"$f":"+E1158-E1164","v":13272100},null,null,{"$f":"+H1164-H1158","v":-127152336.66},null,null,{"$f":"+K1158-K1164","v":-5570446},null,null,{"$f":"+N1158-N1164","v":-29765557.18},{"$f":"+O1158-O1164","v":97386779.480000019}]

{"sheet":"Appendix 2-BB Service Life  ","index":11,"n_rows":111,"n_cols":17,"rows_kept":111,"cut":false,"hidden":false,"merged":[[104,2,104,4],[104,6,104,7],[107,0,107,7],[101,2,101,4],[101,6,101,7],[102,2,102,4],[102,6,102,7],[103,2,103,4],[103,6,103,7],[98,2,98,4],[98,6,98,7],[99,2,99,4],[99,6,99,7],[100,2,100,4],[100,6,100,7],[96,1,97,1],[96,2,97,2],[96,3,96,4],[96,6,96,7],[97,3,97,4],[97,6,97,7],[90,1,95,1],[90,2,95,2],[90,3,90,4],[90,6,90,7],[91,3,91,4],[91,6,91,7],[95,3,95,4],[95,6,95,7],[94,3,94,4],[94,6,94,7],[92,3,93,4],[92,5,93,5],[92,6,93,7],[88,1,89,1],[88,2,89,2],[88,3,88,4],[88,6,88,7],[89,3,89,4],[89,6,89,7],[84,1,87,1],[84,2,87,2],[84,3,84,4],[84,6,84,7],[85,3,85,4],[85,6,85,7],[86,3,86,4],[86,6,86,7],[87,3,87,4],[87,6,87,7],[82,2,82,4],[82,6,82,7],[83,2,83,4],[83,5,83,7],[76,13,76,14],[76,15,76,16],[77,2,77,4],[78,2,78,4],[78,6,78,7],[76,10,77,10],[76,11,76,12],[79,6,79,7],[80,3,80,4],[74,0,74,7],[76,2,76,4],[76,5,77,7],[76,9,77,9],[80,6,80,7],[81,3,81,4],[81,6,81,7],[71,2,71,4],[62,2,62,4],[63,2,63,4],[64,1,65,1],[64,2,65,2],[64,3,64,4],[65,3,65,4],[79,1,81,1],[79,2,81,2],[79,3,79,4],[61,2,61,4],[49,2,49,4],[50,0,70,0],[50,2,50,4],[51,2,51,4],[52,2,52,4],[53,2,53,4],[56,2,56,4],[57,2,57,4],[66,2,66,4],[67,2,67,4],[68,2,68,4],[69,2,69,4],[70,2,70,4],[33,0,49,0],[33,1,35,1],[33,2,35,2],[33,3,33,4],[34,3,34,4],[43,2,43,4],[44,2,44,4],[45,2,45,4],[46,2,46,4],[47,2,47,4],[48,2,48,4],[58,2,58,4],[59,1,60,1],[59,2,60,2],[59,3,59,4],[60,3,60,4],[38,1,40,1],[38,2,40,2],[38,3,38,4],[39,3,39,4],[40,3,40,4],[41,1,42,1],[41,3,41,4],[42,3,42,4],[54,2,54,4],[55,2,55,4],[19,1,21,1],[19,2,21,2],[19,3,19,4],[20,3,21,3],[22,1,24,1],[22,2,24,2],[22,3,22,4],[23,3,24,3],[32,2,32,4],[16,2,18,2],[16,3,16,4],[17,3,18,3],[25,2,25,4],[26,2,26,4],[27,2,27,4],[28,2,28,4],[29,2,29,4],[30,2,30,4],[110,1,110,2],[0,15,0,16],[1,15,1,16],[2,15,2,16],[3,15,3,16],[4,15,4,16],[6,15,6,16],[14,11,14,12],[14,13,14,14],[31,2,31,4],[14,2,14,4],[14,5,14,7],[14,9,15,9],[14,10,15,10],[8,0,8,16],[9,0,9,16],[10,0,10,16],[14,15,14,16],[15,2,15,4],[35,3,35,4],[36,2,36,4],[37,2,37,4],[16,0,32,0],[16,1,18,1]]}
[null,null,null,null,null,null,null,null,null,null,null,null,null,"File Number:",null,{"$f":"'LDC Info'!E16","v":"EB-2022-0016"}]
[null,null,null,null,null,null,null,null,null,null,null,null,null,"Exhibit:"]
[null,null,null,null,null,null,null,null,null,null,null,null,null,"Tab:"]
[null,null,null,null,null,null,null,null,null,null,null,null,null,"Schedule:"]
[null,null,null,null,null,null,null,null,null,null,null,null,null,"Page:"]
[]
[null,null,null,null,null,null,null,null,null,null,null,null,null,"Date:",null,"2022-10-24"]
[]
["Appendix 2-BB"]
["Service Life Comparison"]
["Table F-1 from Kinetrics Report1"]
[]
[]
[]
[null,null,"Asset Details",null,null,"Useful Life",null,null,null,"USoA Account Number","USoA Account Description","Current",null,"Proposed",null,"Outside Range of Min, Max TUL?"]
["Parent*","#","Category| Component | Type",null,null,"MIN UL","TUL","MAX UL",null,null,null,"Years","Rate","Years","Rate","Below Min TUL","Above Max TUL"]
["OH",1,"Fully Dressed Wood Poles","Overall",null,35,45,75,null,1830,"Poles, Towers & Fixtures",45,{"$f":"IF(ISERROR(1/L17), \"\", 1/L17)","v":2.2222222222222223E-2},45,{"$f":"IF(ISERROR(1/N17), \"\", 1/N17)","v":2.2222222222222223E-2},{"$f":"IF(ISBLANK(N17),\"\",IF(N17<F17,\"Yes\",\"No\"))","v":"No"},{"$f":"IF(ISBLANK(N17),\"\",IF(N17>H17,\"Yes\",\"No\"))","v":"No"}]
[null,null,null,"Cross Arm","Wood",20,40,55,null,null,null,null,{"$f":"IF(ISERROR(1/L18), \"\", 1/L18)","v":""},null,{"$f":"IF(ISERROR(1/N18), \"\", 1/N18)","v":""},{"$f":"IF(ISBLANK(N18),\"\",IF(N18<F18,\"Yes\",\"No\"))","v":""},{"$f":"IF(ISBLANK(N18),\"\",IF(N18>H18,\"Yes\",\"No\"))","v":""}]
[null,null,null,null,"Steel",30,70,95,null,null,null,null,"",null,"","",""]
[null,2,"Fully Dressed Concrete Poles","Overall",null,50,60,80,null,1830,"Poles, Towers & Fixtures",60,1.6666666666666666E-2,60,1.6666666666666666E-2,"No","No"]
[null,null,null,"Cross Arm","Wood",20,40,55,null,null,null,null,"",null,"","",""]
[null,null,null,null,"Steel",30,70,95,null,null,null,null,"",null,"","",""]
[null,3,"Fully Dressed Steel Poles","Overall",null,60,60,80,null,1830,"Poles, Towers & Fixtures",60,1.6666666666666666E-2,60,1.6666666666666666E-2,"No","No"]
[null,null,null,"Cross Arm","Wood",20,40,55,null,null,null,null,"",null,"","",""]
[null,null,null,null,"Steel",30,70,95,null,null,null,null,"",null,"","",""]
[null,4,"OH Line Switch",null,null,30,45,55,null,1835,"Overhead Conductors & Devices",40,2.5000000000000001E-2,40,2.5000000000000001E-2,"No","No"]
[null,5,"OH Line Switch Motor",null,null,15,25,25,null,null,null,null,"",null,"","",""]
[null,6,"OH Line Switch RTU",null,null,15,20,20,null,null,null,null,"",null,"","",""]
[null,7,"OH Integral Switches",null,null,35,45,60,null,1835,"Overhead Conductors & Devices",40,2.5000000000000001E-2,40,2.5000000000000001E-2,"No","No"]
[null,8,"OH Conductors",null,null,50,60,75,null,1835,"Overhead Conductors & Devices",60,1.6666666666666666E-2,60,1.6666666666666666E-2,"No","No"]
[null,9,"OH Transformers & Voltage Regulators",null,null,30,40,60,null,1850,"Line Transformers",40,2.5000000000000001E-2,40,2.5000000000000001E-2,"No","No"]
[null,10,"OH Shunt Capacitor Banks",null,null,25,30,40,null,null,null,null,"",null,"","",""]
[null,11,"Reclosers",null,null,25,40,55,null,1835,"Overhead Conductors & Devices",40,2.5000000000000001E-2,40,2.5000000000000001E-2,"No","No"]
["TS & MS",12,"Power Transformers","Overall",null,30,45,60,null,1820,"Distribution Station Equipment <50 kV",45,2.2222222222222223E-2,45,2.2222222222222223E-2,"No","No"]
[null,null,null,"Bushing",null,10,20,30,null,null,null,null,"",null,"","",""]
[null,null,null,"Tap Changer",null,20,30,60,null,null,null,null,"",null,"","",""]
[null,13,"Station Service Transformer",null,null,30,45,55,null,1820,"Distribution Station Equipment <50 kV",45,2.2222222222222223E-2,45,2.2222222222222223E-2,"No","No"]
[null,14,"Station Grounding Transformer",null,null,30,40,40,null,null,null,null,"",null,"","",""]
[null,15,"Station DC System","Overall",null,10,20,30,null,null,null,null,"",null,"","",""]
[null,null,null,"Battery Bank",null,10,15,15,null,null,null,null,"",null,"","",""]
[null,null,null,"Charger",null,20,20,30,null,null,null,null,"",null,"","",""]
[null,16,"Station Metal Clad Switchgear","Overall",null,30,40,60,null,1820,"Distribution Station Equipment <50 kV",40,2.5000000000000001E-2,40,2.5000000000000001E-2,"No","No"]
[null,null,null,"Removable Breaker",null,25,40,60,null,1820,"Distribution Station Equipment <50 kV",40,2.5000000000000001E-2,40,2.5000000000000001E-2,"No","No"]
[null,17,"Station Independent Breakers",null,null,35,45,65,null,1820,"Distribution Station Equipment <50 kV",40,2.5000000000000001E-2,40,2.5000000000000001E-2,"No","No"]
[null,18,"Station Switch",null,null,30,50,60,null,1820,"Distribution Station Equipment <50 kV",40,2.5000000000000001E-2,40,2.5000000000000001E-2,"No","No"]
[null,19,"Electromechanical Relays",null,null,25,35,50,null,null,null,null,"",null,"","",""]
[null,20,"Solid State Relays",null,null,10,30,45,null,1820,"Distribution Station Equipment <50 kV",20,0.05,20,0.05,"No","No"]
[null,21,"Digital & Numeric Relays",null,null,15,20,20,null,1820,"Distribution Station Equipment <50 kV",20,0.05,20,0.05,"No","No"]
[null,22,"Rigid Busbars",null,null,30,55,60,null,null,null,null,"",null,"","",""]
[null,23,"Steel Structure",null,null,35,50,90,null,1820,"Distribution Station Equipment <50 kV",50,0.02,50,0.02,"No","No"]
["UG",24,"Primary Paper Insulated Lead Covered (PILC) Cables",null,null,60,65,75,null,null,null,null,"",null,"","",""]
[null,25,"Primary Ethylene-Propylene Rubber (EPR) Cables",null,null,20,25,25,null,null,null,null,"",null,"","",""]
[null,26,"Primary Non-Tree Retardant (TR) Cross Linked \nPolyethylene (XLPE) Cables Direct Buried",null,null,20,25,30,null,null,null,null,"",null,"","",""]
[null,27,"Primary Non-TR XLPE Cables in Duct",null,null,20,25,30,null,null,null,null,"",null,"","",""]
[null,28,"Primary TR XLPE Cables Direct Buried",null,null,25,30,35,null,1845,"Underground Conductors & Devices",35,2.8571428571428571E-2,35,2.8571428571428571E-2,{"$f":"IF(ISBLANK(N55),\"\",IF(N55<F55,\"Yes\",\"No\"))","v":"No"},{"$f":"IF(ISBLANK(N55),\"\",IF(N55>H55,\"Yes\",\"No\"))","v":"No"}]
[null,29,"Primary TR XLPE Cables in Duct",null,null,35,40,55,null,1845,"Underground Conductors & Devices",40,2.5000000000000001E-2,40,2.5000000000000001E-2,{"$f":"IF(ISBLANK(N56),\"\",IF(N56<F56,\"Yes\",\"No\"))","v":"No"},{"$f":"IF(ISBLANK(N56),\"\",IF(N56>H56,\"Yes\",\"No\"))","v":"No"}]
[null,30,"Secondary PILC Cables",null,null,70,75,80,null,null,null,null,"",null,"","",""]
[null,31,"Secondary Cables Direct Buried",null,null,25,35,40,null,1855,"Services",25,0.04,25,0.04,"No","No"]
[null,32,"Secondary Cables in Duct",null,null,35,40,60,null,1845,"Underground Conductors & Devices",50,0.02,50,0.02,"No","No"]
[null,33,"Network Tranformers","Overall",null,20,35,50,null,null,null,null,"",null,"","",""]
[null,null,null,"Protector",null,20,35,40,null,null,null,null,"",null,"","",""]
[null,34,"Pad-Mounted Transformers",null,null,25,40,45,null,1850,"Line Transformers",40,2.5000000000000001E-2,40,2.5000000000000001E-2,"No","No"]
[null,35,"Submersible/Vault Transformers",null,null,25,35,45,null,1850,"Line Transformers",40,2.5000000000000001E-2,40,2.5000000000000001E-2,"No","No"]
[null,36,"UG Foundation",null,null,35,55,70,null,1840,"Underground Conduit",60,1.6666666666666666E-2,60,1.6666666666666666E-2,"No","No"]
[null,37,"UG Vaults","Overall",null,40,60,80,null,1840,"Underground Conduit",60,1.6666666666666666E-2,60,1.6666666666666666E-2,"No","No"]
[null,null,null,"Roof",null,20,30,45,null,null,null,null,"",null,"","",""]
[null,38,"UG Vault Switches",null,null,20,35,50,null,null,null,null,"",null,"","",""]
[null,39,"Pad-Mounted Switchgear",null,null,20,30,45,null,null,null,null,"",null,"","",""]
[null,40,"Ducts",null,null,30,50,85,null,1840,"Underground Conduit",50,0.02,50,0.02,"No","No"]
[null,41,"Concrete Encased Duct Banks",null,null,35,55,80,null,1840,"Underground Conduit",60,1.6666666666666666E-2,60,1.6666666666666666E-2,"No","No"]
[null,42,"Cable Chambers",null,null,50,60,80,null,1840,"Underground Conduit",60,1.6666666666666666E-2,60,1.6666666666666666E-2,"No","No"]
["S",43,"Remote SCADA",null,null,15,20,30,null,1980,"System Supervisor Equipment",25,0.04,25,0.04,"No","No"]
[]
[]
["Table F-2 from Kinetrics Report1"]
[]
[null,null,"Asset Details",null,null,"Useful Life Range",null,null,null,"USoA Account Number","USoA Account Description","Current",null,"Proposed",null,"Outside Range of Min, Max TUL?"]
[null,"#","Category| Component | Type",null,null,null,null,null,null,null,null,"Years","Rate","Years","Rate","Below Min Range","Above Max Range"]
[null,1,"Office Equipment",null,null,5,15,null,null,1915,"Office Furniture & Equipment",10,{"$f":"IF(ISERROR(1/L79), \"\", 1/L79)","v":0.1},10,{"$f":"IF(ISERROR(1/N79), \"\", 1/N79)","v":0.1},{"$f":"IF(ISBLANK(N79),\"\",IF(N79<F79,\"Yes\",\"No\"))","v":"No"},{"$f":"IF(ISBLANK(N79),\"\",IF(N79>G79,\"Yes\",\"No\"))","v":"No"}]
[null,2,"Vehicles","Trucks & Buckets",null,5,15,null,null,1930,"Transportation Equipment",10,{"$f":"IF(ISERROR(1/L80), \"\", 1/L80)","v":0.1},10,{"$f":"IF(ISERROR(1/N80), \"\", 1/N80)","v":0.1},{"$f":"IF(ISBLANK(N80),\"\",IF(N80<F80,\"Yes\",\"No\"))","v":"No"},{"$f":"IF(ISBLANK(N80),\"\",IF(N80>G80,\"Yes\",\"No\"))","v":"No"}]
[null,null,null,"Trailers",null,5,20,null,null,1930,"Transportation Equipment",8,0.125,8,0.125,"No","No"]
[null,null,null,"Vans",null,5,10,null,null,1930,"Transportation Equipment",8,0.125,8,0.125,"No","No"]
[null,3,"Administrative Buildings",null,null,50,75,null,null,1908,"Buildings & Fixtures",60,1.6666666666666666E-2,60,1.6666666666666666E-2,"No","No"]
[null,4,"Leasehold Improvements",null,null,"Lease dependent",null,null,null,null,null,null,"",null,"",{"$f":"IF(ISBLANK(N84),\"\",IF(N84<F84,\"Yes\",\"No\"))","v":""},{"$f":"IF(ISBLANK(N84),\"\",IF(N84>G84,\"Yes\",\"No\"))","v":""}]
[null,5,"Station Buildings","Station Buildings",null,50,75,null,null,1820,"Distribution Station Equipment <50 kV",50,0.02,50,0.02,"No","No"]
[null,null,null,"Parking",null,25,30,null,null,1820,"Distribution Station Equipment <50 kV",30,3.3333333333333333E-2,30,3.3333333333333333E-2,"No","No"]
[null,null,null,"Fence",null,25,60,null,null,1820,"Distribution Station Equipment <50 kV",30,3.3333333333333333E-2,30,3.3333333333333333E-2,"No","No"]
[null,null,null,"Roof",null,20,30,null,null,1820,"Distribution Station Equipment <50 kV",30,3.3333333333333333E-2,30,3.3333333333333333E-2,"No","No"]
[null,6,"Computer Equipment","Hardware",null,3,5,null,null,1920,"Computer Equipment - Hardware",5,0.2,5,0.2,"No","No"]
[null,null,null,"Software",null,2,5,null,null,1611,"Computer Software",5,0.2,5,0.2,"No","No"]
[null,7,"Equipment","Power Operated",null,5,10,null,null,null,null,null,"",null,"","",""]
[null,null,null,"Stores",null,5,10,null,null,1935,"Stores Equipment",10,0.1,10,0.1,"No","No"]
[null,null,null,"Tools, Shop, Garage Equipment",null,5,10,null,null,1940,"Tools, Shop & Garage Equipment",10,0.1,10,0.1,{"$f":"IF(ISBLANK(N93),\"\",IF(N93<F93,\"Yes\",\"No\"))","v":"No"},{"$f":"IF(ISBLANK(N93),\"\",IF(N93>G93,\"Yes\",\"No\"))","v":"No"}]
[null,null,null,null,null,null,null,null,null,1960,"Miscellaneous Equipment ",10,0.1,10,0.1,"No",{"$f":"IF(ISBLANK(N94),\"\",IF(N94>G93,\"Yes\",\"No\"))","v":"No"}]
[null,null,null,"System Supervisor Equipment",null,5,10,null,null,1980,"System Supervisor Equipment",10,0.1,10,0.1,"No","No"]
[null,null,null,"Measurement & Testing Equipment",null,5,10,null,null,1945,"Measurement & Testing Equipment",10,0.1,10,0.1,"No","No"]
[null,8,"Communication","Towers",null,60,70,null,null,1980,"System Supervisor Equipment",60,1.6666666666666666E-2,60,1.6666666666666666E-2,"No","No"]
[null,null,null,"Wireless",null,2,10,null,null,1955,"Communications Equipment",10,0.1,10,0.1,"No","No"]
[null,9,"Residential Energy Meters",null,null,25,35,null,null,null,null,null,"",null,"","",""]
[null,10,"Industrial/Commercial Energy Meters",null,null,25,35,null,null,1860,"Meters",25,0.04,25,0.04,"No","No"]
[null,11,"Wholesale Energy Meters",null,null,15,30,null,null,1860,"Meters",25,0.04,25,0.04,"No","No"]
[null,12,"Current & Potential Transformer (CT & PT)",null,null,35,50,null,null,1850,"Line Transformers",40,2.5000000000000001E-2,40,2.5000000000000001E-2,"No","No"]
[null,13,"Smart Meters",null,null,5,15,null,null,1860,"Meters",15,6.6666666666666666E-2,15,6.6666666666666666E-2,"No","No"]
[null,14,"Repeaters - Smart Metering",null,null,10,15,null,null,1860,"Meters",15,6.6666666666666666E-2,15,6.6666666666666666E-2,"No","No"]
[null,15,"Data Collectors - Smart Metering",null,null,15,20,null,null,1860,"Meters",15,6.6666666666666666E-2,15,6.6666666666666666E-2,"No","No"]
[]
[]
["* TS & MS = Transformer and Municipal Stations UG = Underground Systems S = Monitoring and Control Systems"]
[]
["Note 1:","Tables F-1 and F-2 above are to be used as a reference in order to complete columns J, K, L and N."]
[null,"See pages 17-19 of Kinetrics Report"]

{"sheet":"App.2-C_DepExp","index":12,"n_rows":579,"n_cols":25,"rows_kept":579,"cut":false,"hidden":false,"merged":[[533,2,533,8],[533,9,533,12],[533,13,533,16],[534,0,535,0],[534,1,535,1],[482,2,482,8],[482,9,482,12],[482,13,482,16],[483,0,484,0],[483,1,484,1],[431,2,431,8],[431,9,431,12],[431,13,431,16],[432,0,433,0],[432,1,433,1],[380,2,380,8],[380,9,380,12],[380,13,380,16],[381,0,382,0],[381,1,382,1],[14,0,14,1],[14,2,14,16],[8,0,8,18],[9,0,9,18],[10,0,10,18],[13,0,13,1],[13,2,13,16],[15,0,15,1],[15,2,15,16],[16,0,16,1],[16,2,16,16],[19,2,19,8],[19,9,19,12],[19,13,19,16],[17,0,17,1],[17,2,17,16],[72,1,72,18],[74,1,74,18],[20,0,21,0],[20,1,21,1],[65,1,65,18],[69,1,69,18],[70,1,70,18],[71,1,71,18],[66,1,66,18],[80,2,80,8],[80,9,80,12],[80,13,80,16],[81,0,82,0],[81,1,82,1],[130,2,130,8],[130,9,130,12],[130,13,130,16],[131,0,132,0],[131,1,132,1],[179,2,179,8],[179,9,179,12],[179,13,179,16],[180,0,181,0],[180,1,181,1],[228,2,228,8],[228,9,228,12],[228,13,228,16],[229,0,230,0],[229,1,230,1],[278,2,278,8],[278,9,278,12],[278,13,278,16],[279,0,280,0],[279,1,280,1],[329,2,329,8],[329,9,329,12],[329,13,329,16],[330,0,331,0],[330,1,331,1]]}
[]
[]
[]
[]
[]
[]
[]
[]
["Appendix 2-C",null,null,null,null,null,null,null,null,null,null,null,null,null,null,null,null,null,null,null,null,null,null,null,"CGAAP"]
["Depreciation and Amortization Expense",null,null,null,null,null,null,null,null,null,null,null,null,null,null,null,null,null,null,null,null,null,null,null,"Revised CGAAP"]
[null,null,null,null,null,null,null,null,null,null,null,null,null,null,null,null,null,null,null,null,null,null,null,null,"MIFRS"]
["This appendix is to be completed in conjunction with the accounting instructions in Appendix 2-B"]
[]
["Scenario that applies",null,"Applicable Years and Accounting Standard",null,null,null,null,null,null,null,null,null,null,null,null,null,null,"Year Reflected in Schedule Below","Accounting Standard Reflected in Schedule Below",null,null,null,null,null,2012]
["Rebasing for the first time with depreciation policy changes made in 2012.",null,{"$f":"\"This appendix must be duplicated and completed for the years 2012 to \" & TestYear & \". The appendix for 2012 is to be completed under CGAAP (prior to changes in depreciation policies).\" &\" The appendix for 2012 to 2014 must be completed under Revised CGAAP (after changes in depreciation policies). The appendix for 2014 to \" & TestYear & \" is to be completed under MIFRS (2014 if changes to MIFRS are material).\"","v":"This appendix must be duplicated and completed for the years 2012 to 2023. The appendix for 2012 is to be completed under CGAAP (prior to changes in depreciation policies). The appendix for 2012 to 2014 must be completed under Revised CGAAP (after changes in depreciation policies). The appendix for 2014 to 2023 is to be completed under MIFRS (2014 if changes to MIFRS are material)."},null,null,null,null,null,null,null,null,null,null,null,null,null,null,null,null,null,null,null,null,null,2013]
["Rebasing for the first time with depreciation policy changes made in 2013.",null,{"$f":"\"This appendix must be duplicated and completed for the years 2013 to \" & TestYear & \". The appendix for 2013 is to be completed under CGAAP (prior to changes in depreciation policies).\"&\" The appendix for 2013 to 2014 must be completed under Revised CGAAP (after changes in depreciation policies). The appendix for 2014 to \" & TestYear & \" is to be completed under MIFRS (2014 if changes to MIFRS are material).\"","v":"This appendix must be duplicated and completed for the years 2013 to 2023. The appendix for 2013 is to be completed under CGAAP (prior to changes in depreciation policies). The appendix for 2013 to 2014 must be completed under Revised CGAAP (after changes in depreciation policies). The appendix for 2014 to 2023 is to be completed under MIFRS (2014 if changes to MIFRS are material)."},null,null,null,null,null,null,null,null,null,null,null,null,null,null,null,null,null,null,null,null,null,2014]
["Already rebased with depreciation policy changes in a prior rate application and rebasing MIFRS for the first time.",null,"This appendix must be completed for 2014 to the test year. The appendix for 2014 is to be completed under Revised CGAAP (after changes in depreciation policies). The appendix for 2014 to the test year is to be completed under MIFRS (2014 if changes to MIFRS are material).",null,null,null,null,null,null,null,null,null,null,null,null,null,null,null,null,null,null,null,null,null,2015]
["Already rebased under MIFRS in a prior rate application",null,{"$f":"\"This appendix must be completed under MIFRS for each year for the earlier of: 1) all historical years back to its last rebasing; or 2) at least three years of historical actuals, in addition to Bridge Year and Test Year forecasts.\"","v":"This appendix must be completed under MIFRS for each year for the earlier of: 1) all historical years back to its last rebasing; or 2) at least three years of historical actuals, in addition to Bridge Year and Test Year forecasts."},null,null,null,null,null,null,null,null,null,null,null,null,null,null,null,null,null,null,null,null,null,2016]
[null,null,null,null,null,null,null,null,null,null,null,null,null,null,null,null,null,null,null,null,null,null,null,null,2017]
[null,"2013 CGAAP","Book Values",null,null,null,null,null,null,"Service Lives",null,null,null,"Depreciation Expense",null,null,null,null,null,null,null,null,null,null,2018]
["Account","Description","Opening Net  Book Value of Existing Assets as at Date of Policy Change (Jan. 1) 1","Less Fully Depreciated 7","Net Amount of Existing Assets Before Policy Change to be Depreciated ","Opening Gross Book Value of Assets Acquired After Policy Change 2","Less Fully Depreciated 8","Net Amount of Assets Acquired After Policy Change to be Depreciated ","Current Year Additions","Average Remaining Life of Assets Existing Before Policy Change 3","Depreciation Rate Assets Acquired After Policy Change","Life of Assets Acquired After Policy Change 4","Depreciation Rate on New Additions","Depreciation Expense on Assets Existing Before Policy Change","Depreciation Expense on Assets Acquired After Policy Change","Depreciation Expense on Current Year Additions 5","Total Current Year Depreciation Expense ","Depreciation Expense per Appendix 2-BA Fixed Assets, Column J \n ","Variance 6"]
[null,null,"a","b","c = a-b","d","e","f = d- e","g","h","i = 1/h","j","k = 1/j","l = c/h","m = f/j","n = g*0.5/j","o = l+m+n","p","q = p-o"]
[1611,"Computer Software (Formally known as Account 1925)",{"$f":"'App.2-BA_Fixed Asset Cont'!D108+'App.2-BA_Fixed Asset Cont'!J108","v":6686779},null,{"$f":"C23-D23","v":6686779},null,null,{"$f":"F23-G23","v":0},{"$f":"'App.2-BA_Fixed Asset Cont'!E108","v":989635},3.2679854091866001,{"$f":"IF(J23=0,0,1/J23)","v":0.30599891822922781},5,{"$f":"IF(L23=0,0,1/L23)","v":0.2},{"$f":"IF(J23=0,0,+E23/J23)","v":2046147.1404379176},{"$f":"IF(L23=0,0,+H23/L23)","v":0},{"$f":"IF(L23=0,0,+(I23*0.5)/L23)","v":98963.5},{"$f":"IF(ISERROR(+N23+O23+P23), 0, +N23+O23+P23)","v":2145110.6404379178},{"$f":"-'App.2-BA_Fixed Asset Cont'!K108","v":2116810},{"$f":"IF(ISERROR(+R23-Q23), 0, +R23-Q23)","v":-28300.640437917784}]
[1612,"Land Rights (Formally known as Account 1906)",{"$f":"'App.2-BA_Fixed Asset Cont'!D109+'App.2-BA_Fixed Asset Cont'!J109","v":14625},null,{"$f":"C24-D24","v":14625},null,null,{"$f":"F24-G24","v":0},{"$f":"'App.2-BA_Fixed Asset Cont'!E109","v":0},13,{"$f":"IF(J24=0,0,1/J24)","v":7.6923076923076927E-2},25,{"$f":"IF(L24=0,0,1/L24)","v":0.04},{"$f":"IF(J24=0,0,+E24/J24)","v":1125},{"$f":"IF(L24=0,0,+H24/L24)","v":0},{"$f":"IF(L24=0,0,+(I24*0.5)/L24)","v":0},{"$f":"IF(ISERROR(+N24+O24+P24), 0, +N24+O24+P24)","v":1125},{"$f":"-'App.2-BA_Fixed Asset Cont'!K109","v":1192},{"$f":"IF(ISERROR(+R24-Q24), 0, +R24-Q24)","v":67}]
[1805,"Land",{"$f":"'App.2-BA_Fixed Asset Cont'!D110+'App.2-BA_Fixed Asset Cont'!J110","v":497489},null,497489,null,null,0,{"$f":"'App.2-BA_Fixed Asset Cont'!E110","v":0},0,0,null,0,0,{"$f":"IF(L25=0,0,+H25/L25)","v":0},0,0,{"$f":"-'App.2-BA_Fixed Asset Cont'!K110","v":0},0]
[1808,"Buildings",{"$f":"'App.2-BA_Fixed Asset Cont'!D111+'App.2-BA_Fixed Asset Cont'!J111","v":0},null,0,null,null,0,{"$f":"'App.2-BA_Fixed Asset Cont'!E111","v":0},0,0,null,0,0,0,0,0,{"$f":"-'App.2-BA_Fixed Asset Cont'!K111","v":0},0]
[1810,"Leasehold Improvements",{"$f":"'App.2-BA_Fixed Asset Cont'!D112+'App.2-BA_Fixed Asset Cont'!J112","v":0},null,0,null,null,0,{"$f":"'App.2-BA_Fixed Asset Cont'!E112","v":0},0,0,null,0,0,0,0,0,{"$f":"-'App.2-BA_Fixed Asset Cont'!K112","v":0},0]
[1815,"Transformer Station Equipment >50 kV",{"$f":"'App.2-BA_Fixed Asset Cont'!D113+'App.2-BA_Fixed Asset Cont'!J113","v":0},null,0,null,null,0,{"$f":"'App.2-BA_Fixed Asset Cont'!E113","v":0},0,0,null,0,0,0,0,0,{"$f":"-'App.2-BA_Fixed Asset Cont'!K113","v":0},0]
[1820,"Distribution Station Equipment <50 kV",{"$f":"'App.2-BA_Fixed Asset Cont'!D114+'App.2-BA_Fixed Asset Cont'!J114","v":3292186},null,3292186,null,null,0,{"$f":"'App.2-BA_Fixed Asset Cont'!E114","v":167402},15.0152402094905,6.6599001151373002E-2,40,2.5000000000000001E-2,219256.29920453407,0,2092.5250000000001,221348.82420453406,{"$f":"-'App.2-BA_Fixed Asset Cont'!K114","v":220406},-942.82420453405939]
[1825,"Storage Battery Equipment",{"$f":"'App.2-BA_Fixed Asset Cont'!D115+'App.2-BA_Fixed Asset Cont'!J115","v":0},null,0,null,null,0,{"$f":"'App.2-BA_Fixed Asset Cont'!E115","v":0},0,0,null,0,0,0,0,0,{"$f":"-'App.2-BA_Fixed Asset Cont'!K115","v":0},0]
[1830,"Poles, Towers & Fixtures",{"$f":"'App.2-BA_Fixed Asset Cont'!D116+'App.2-BA_Fixed Asset Cont'!J116","v":2930272},null,2930272,null,null,0,{"$f":"'App.2-BA_Fixed Asset Cont'!E116","v":535801},41.752743418487,2.3950522004674468E-2,45,2.2222222222222223E-2,70181.544015681458,0,5953.3444444444449,76134.888460125905,{"$f":"-'App.2-BA_Fixed Asset Cont'!K116","v":74568},-1566.8884601259051]
[1835,"Overhead Conductors & Devices",{"$f":"'App.2-BA_Fixed Asset Cont'!D117+'App.2-BA_Fixed Asset Cont'!J117","v":9855401},null,9855401,null,null,0,{"$f":"'App.2-BA_Fixed Asset Cont'!E117","v":553800},34.260180727682901,2.9188404111131272E-2,60,1.6666666666666666E-2,287663.42706524726,0,4615,292278.42706524726,{"$f":"-'App.2-BA_Fixed Asset Cont'!K117","v":292374},95.572934752737638]
[1840,"Underground Conduit",{"$f":"'App.2-BA_Fixed Asset Cont'!D118+'App.2-BA_Fixed Asset Cont'!J118","v":1182052},null,1182052,null,null,0,{"$f":"'App.2-BA_Fixed Asset Cont'!E118","v":211686},48.880589453278901,2.04580184319549E-2,60,1.6666666666666666E-2,24182.441603529151,0,1764.05,25946.49160352915,{"$f":"-'App.2-BA_Fixed Asset Cont'!K118","v":25598},-348.49160352914987]
[1845,"Underground Conductors & Devices",{"$f":"'App.2-BA_Fixed Asset Cont'!D119+'App.2-BA_Fixed Asset Cont'!J119","v":8093402},null,8093402,null,null,0,{"$f":"'App.2-BA_Fixed Asset Cont'!E119","v":259635},21.804794096044802,4.5861474114144062E-2,40,2.5000000000000001E-2,371175.34631836182,0,3245.4375,374420.78381836182,{"$f":"-'App.2-BA_Fixed Asset Cont'!K119","v":355853},-18567.783818361815]
[1850,"Line Transformers",{"$f":"'App.2-BA_Fixed Asset Cont'!D120+'App.2-BA_Fixed Asset Cont'!J120","v":7257615},null,7257615,null,null,0,{"$f":"'App.2-BA_Fixed Asset Cont'!E120","v":512341},31.084101332679701,3.2170786901555629E-2,40,2.5000000000000001E-2,233483.18557853365,0,6404.2624999999998,239887.44807853366,{"$f":"-'App.2-BA_Fixed Asset Cont'!K120","v":239910},22.551921466336353]
[1855,"Services (Overhead & Underground)",{"$f":"'App.2-BA_Fixed Asset Cont'!D121+'App.2-BA_Fixed Asset Cont'!J121","v":665779},null,665779,null,null,0,{"$f":"'App.2-BA_Fixed Asset Cont'!E121","v":175147},21.514436301568999,4.6480418356444335E-2,25,0.04,30945.686452935151,0,3502.94,34448.626452935154,{"$f":"-'App.2-BA_Fixed Asset Cont'!K121","v":32945},-1503.6264529351538]
[1860,"Meters",{"$f":"'App.2-BA_Fixed Asset Cont'!D122+'App.2-BA_Fixed Asset Cont'!J122","v":662870},null,662870,null,null,0,{"$f":"'App.2-BA_Fixed Asset Cont'!E122","v":13134},13.289325261945701,7.524836515692214E-2,15,6.6666666666666666E-2,49879.88381156898,0,437.8,50317.683811568982,{"$f":"-'App.2-BA_Fixed Asset Cont'!K122","v":35854},-14463.683811568982]
[1860,"Meters (Smart Meters)",{"$f":"'App.2-BA_Fixed Asset Cont'!D123+'App.2-BA_Fixed Asset Cont'!J123","v":4242960},null,4242960,null,null,0,{"$f":"'App.2-BA_Fixed Asset Cont'!E123","v":93902},13.289325261945701,7.524836515692214E-2,15,6.6666666666666666E-2,319275.80342621438,0,3130.0666666666666,322405.87009288103,{"$f":"-'App.2-BA_Fixed Asset Cont'!K123","v":337523},15117.129907118971]
[1905,"Land",{"$f":"'App.2-BA_Fixed Asset Cont'!D124+'App.2-BA_Fixed Asset Cont'!J124","v":0},null,0,null,null,0,{"$f":"'App.2-BA_Fixed Asset Cont'!E124","v":0},0,0,null,0,0,0,0,0,{"$f":"-'App.2-BA_Fixed Asset Cont'!K124","v":0},0]
[1908,"Buildings & Fixtures",{"$f":"'App.2-BA_Fixed Asset Cont'!D125+'App.2-BA_Fixed Asset Cont'!J125","v":6122664},null,6122664,null,null,0,{"$f":"'App.2-BA_Fixed Asset Cont'!E125","v":515860},34.815534090708397,2.8722810840546058E-2,60,1.6666666666666666E-2,175860.1199122211,0,4298.833333333333,180158.95324555444,{"$f":"-'App.2-BA_Fixed Asset Cont'!K125","v":178130},-2028.9532455544395]
[1910,"Leasehold Improvements",{"$f":"'App.2-BA_Fixed Asset Cont'!D126+'App.2-BA_Fixed Asset Cont'!J126","v":0},null,0,null,null,0,{"$f":"'App.2-BA_Fixed Asset Cont'!E126","v":0},0,0,null,0,0,0,0,0,{"$f":"-'App.2-BA_Fixed Asset Cont'!K126","v":0},0]
[1915,"Office Furniture & Equipment (10 years)",{"$f":"'App.2-BA_Fixed Asset Cont'!D127+'App.2-BA_Fixed Asset Cont'!J127","v":243411},null,243411,null,null,0,{"$f":"'App.2-BA_Fixed Asset Cont'!E127","v":64833},4.83346857975822,0.20689076250290264,10,0.1,50359.487391594033,0,3241.65,53601.137391594035,{"$f":"-'App.2-BA_Fixed Asset Cont'!K127","v":43493},-10108.137391594035]
[1915,"Office Furniture & Equipment (5 years)",{"$f":"'App.2-BA_Fixed Asset Cont'!D128+'App.2-BA_Fixed Asset Cont'!J128","v":0},null,0,null,null,0,{"$f":"'App.2-BA_Fixed Asset Cont'!E128","v":0},0,0,null,0,0,0,0,0,{"$f":"-'App.2-BA_Fixed Asset Cont'!K128","v":0},0]
[1920,"Computer Equipment - Hardware",{"$f":"'App.2-BA_Fixed Asset Cont'!D129+'App.2-BA_Fixed Asset Cont'!J129","v":1737416},null,1737416,null,null,0,{"$f":"'App.2-BA_Fixed Asset Cont'!E129","v":554938},2.9649575606832101,0.33727295569437143,5,0.2,585983.42959069205,0,55493.8,641477.22959069209,{"$f":"-'App.2-BA_Fixed Asset Cont'!K129","v":628644},-12833.229590692092]
[1920,"Computer Equip.-Hardware(Post Mar. 22/04)",{"$f":"'App.2-BA_Fixed Asset Cont'!D130+'App.2-BA_Fixed Asset Cont'!J130","v":0},null,0,null,null,0,{"$f":"'App.2-BA_Fixed Asset Cont'!E130","v":0},0,0,null,0,0,0,0,0,{"$f":"-'App.2-BA_Fixed Asset Cont'!K130","v":0},0]
[1920,"Computer Equip.-Hardware(Post Mar. 19/07)",{"$f":"'App.2-BA_Fixed Asset Cont'!D131+'App.2-BA_Fixed Asset Cont'!J131","v":0},null,0,null,null,0,{"$f":"'App.2-BA_Fixed Asset Cont'!E131","v":0},0,0,null,0,0,0,0,0,{"$f":"-'App.2-BA_Fixed Asset Cont'!K131","v":0},0]
[1930,"Transportation Equipment",{"$f":"'App.2-BA_Fixed Asset Cont'!D132+'App.2-BA_Fixed Asset Cont'!J132","v":1881536},null,1881536,null,null,0,{"$f":"'App.2-BA_Fixed Asset Cont'!E132","v":488549},6.2264609227024499,0.16060487850391478,10,0.1,302183.86068074178,0,24427.45,326611.31068074179,{"$f":"-'App.2-BA_Fixed Asset Cont'!K132","v":320365},-6246.3106807417935]
[1935,"Stores Equipment",{"$f":"'App.2-BA_Fixed Asset Cont'!D133+'App.2-BA_Fixed Asset Cont'!J133","v":5063},null,5063,null,null,0,{"$f":"'App.2-BA_Fixed Asset Cont'!E133","v":0},1,1,10,0.1,5063,0,0,5063,{"$f":"-'App.2-BA_Fixed Asset Cont'!K133","v":4790},-273]
[1940,"Tools, Shop & Garage Equipment",{"$f":"'App.2-BA_Fixed Asset Cont'!D134+'App.2-BA_Fixed Asset Cont'!J134","v":262549},37128,225421,null,null,0,{"$f":"'App.2-BA_Fixed Asset Cont'!E134","v":-8962},4.3374114522707901,0.230552257032582,10,0.1,51971.320332541669,0,-448.1,51523.22033254167,{"$f":"-'App.2-BA_Fixed Asset Cont'!K134","v":43018},-8505.2203325416704]
[1945,"Measurement & Testing Equipment",{"$f":"'App.2-BA_Fixed Asset Cont'!D135+'App.2-BA_Fixed Asset Cont'!J135","v":124962},null,124962,null,null,0,{"$f":"'App.2-BA_Fixed Asset Cont'!E135","v":0},6.0128847034436399,0.16630952518136427,10,0.1,20782.370885713641,0,0,20782.370885713641,{"$f":"-'App.2-BA_Fixed Asset Cont'!K135","v":16750},-4032.3708857136407]
[1950,"Power Operated Equipment",{"$f":"'App.2-BA_Fixed Asset Cont'!D136+'App.2-BA_Fixed Asset Cont'!J136","v":0},null,0,null,null,0,{"$f":"'App.2-BA_Fixed Asset Cont'!E136","v":0},0,0,null,0,0,0,0,0,{"$f":"-'App.2-BA_Fixed Asset Cont'!K136","v":0},0]
[1955,"Communications Equipment",{"$f":"'App.2-BA_Fixed Asset Cont'!D137+'App.2-BA_Fixed Asset Cont'!J137","v":77915},null,77915,null,null,0,{"$f":"'App.2-BA_Fixed Asset Cont'!E137","v":0},5.8636362414657102,0.17054263921222268,10,0.1,13287.82973422033,0,0,13287.82973422033,{"$f":"-'App.2-BA_Fixed Asset Cont'!K137","v":12953},-334.82973422032956]
[1955,"Communication Equipment (Smart Meters)",{"$f":"'App.2-BA_Fixed Asset Cont'!D138+'App.2-BA_Fixed Asset Cont'!J138","v":0},null,0,null,null,0,{"$f":"'App.2-BA_Fixed Asset Cont'!E138","v":0},0,0,null,0,0,0,0,0,{"$f":"-'App.2-BA_Fixed Asset Cont'!K138","v":0},0]
[1960,"Miscellaneous Equipment ",{"$f":"'App.2-BA_Fixed Asset Cont'!D139+'App.2-BA_Fixed Asset Cont'!J139","v":66518},null,66518,null,null,0,{"$f":"'App.2-BA_Fixed Asset Cont'!E139","v":71693},5,0.2,10,0.1,13303.6,0,3584.65,16888.25,{"$f":"-'App.2-BA_Fixed Asset Cont'!K139","v":15925},-963.25]
[1970,"Load Management Controls Customer Premises",{"$f":"'App.2-BA_Fixed Asset Cont'!D140+'App.2-BA_Fixed Asset Cont'!J140","v":0},null,0,null,null,0,{"$f":"'App.2-BA_Fixed Asset Cont'!E140","v":0},0,0,null,0,0,0,0,0,{"$f":"-'App.2-BA_Fixed Asset Cont'!K140","v":0},0]
[1975,"Load Management Controls Utility Premises",{"$f":"'App.2-BA_Fixed Asset Cont'!D141+'App.2-BA_Fixed Asset Cont'!J141","v":0},null,0,null,null,0,{"$f":"'App.2-BA_Fixed Asset Cont'!E141","v":0},0,0,null,0,0,0,0,0,{"$f":"-'App.2-BA_Fixed Asset Cont'!K141","v":0},0]
[1980,"System Supervisor Equipment",{"$f":"'App.2-BA_Fixed Asset Cont'!D142+'App.2-BA_Fixed Asset Cont'!J142","v":478522},null,478522,null,null,0,{"$f":"'App.2-BA_Fixed Asset Cont'!E142","v":98765},12.1568368904274,8.2258239459264706E-2,10,0.1,39362.377262526265,0,4938.25,44300.627262526265,{"$f":"-'App.2-BA_Fixed Asset Cont'!K142","v":44425},124.37273747373547]
[1985,"Miscellaneous Fixed Assets",{"$f":"'App.2-BA_Fixed Asset Cont'!D143+'App.2-BA_Fixed Asset Cont'!J143","v":0},null,0,null,null,0,{"$f":"'App.2-BA_Fixed Asset Cont'!E143","v":0},0,0,null,0,0,0,0,0,{"$f":"-'App.2-BA_Fixed Asset Cont'!K143","v":0},0]
[1990,"Other Tangible Property",{"$f":"'App.2-BA_Fixed Asset Cont'!D144+'App.2-BA_Fixed Asset Cont'!J144","v":645280},null,645280,null,null,0,{"$f":"'App.2-BA_Fixed Asset Cont'!E144","v":100867},0,0,null,0,0,0,0,0,{"$f":"-'App.2-BA_Fixed Asset Cont'!K144","v":0},0]
[1995,"Contributions & Grants",{"$f":"'App.2-BA_Fixed Asset Cont'!D145+'App.2-BA_Fixed Asset Cont'!J145","v":-5126899},null,-5126899,null,null,0,{"$f":"'App.2-BA_Fixed Asset Cont'!E145","v":-537827},18.759272338115853,5.3306971719162009E-2,25,0.04,-273299.46000000002,0,-10756.54,-284056,{"$f":"-'App.2-BA_Fixed Asset Cont'!K145","v":-284056},0]
[2005,"Property Under Finance Lease",{"$f":"'App.2-BA_Fixed Asset Cont'!D146+'App.2-BA_Fixed Asset Cont'!J146","v":0},null,0,null,null,0,{"$f":"'App.2-BA_Fixed Asset Cont'!E146","v":0},null,0,null,0,0,{"$f":"IF(L61=0,0,+H61/L61)","v":0},{"$f":"IF(L61=0,0,+(I61*0.5)/L61)","v":0},{"$f":"IF(ISERROR(+N61+O61+P61), 0, +N61+O61+P61)","v":0},{"$f":"-'App.2-BA_Fixed Asset Cont'!K146","v":0},0]
[null,"Total",{"$f":"SUM(C23:C61)","v":51900367},{"$f":"SUM(D23:D61)","v":37128},{"$f":"SUM(E23:E61)","v":51863239},0,0,0,4861199,null,null,null,null,{"$f":"SUM(N23:N61)","v":4638173.6937047746},{"$f":"SUM(O23:O61)","v":0},214888.91944444444,4853062.6131492183,4757470,-95592.613149219076]
[]
[]
["General:","Applicants are to complete this appendix to show the reasonability of the depreciation expense that is included in rate base via. Accumulated depreciation and the revenue requirement."]
[null,"Applicants must provide a breakdown of depreciation and amortization expense in the above format for all relevant accounts.  Balances presented in the table should exclude asset retirement obligations (AROs) and the related depreciation and accretion expense. These should be disclosed separately consistent with the Notes of historical Audited Financial Statements."]
[null,"This appendix must be completed under MIFRS for each year for the earlier of: \n1) all historical years back to its last rebasing; or \n2) at least three years of historical actuals, in addition to Bridge Year and Test Year forecasts. If this is the first application where the applicant is rebasing under MIFRS, contact OEB staff for further guidance on the appropriate depreciation schedules to complete (i.e. applicable years and accounting standard for each schedule)."]
[]
["Notes:"]
[1,"This is the net book value of assets that existed as at the date of the utility's change in depreciation policies (i.e. as at Jan. 1, 2012 or Jan. 1, 2013).  These assets are to be depreciated at the average remaining service life. This amount will not change in years subsequent to the date of the utility's change in depreciation policies.  This column is expected to be used until the assets that existed as at the date of the utility's change in depreciation policies are fully depreciated."]
[2,"This is the opening gross book value of assets that have been acquired after the date of the utility's change in depreciation policies (i.e. additions starting in 2012/2013 for those who changed policies Jan. 1, 2012/2013). These assets are to be depreciated at the revised service life. The amount is expected to be equal to the opening gross book value of the prior year plus the prior year's additions."]
[3,"A recalculation should be performed to determine the average remaining life of opening balance of assets (i.e. excluding current year's additions) under the change in policies under CGAAP.  For example, Asset A had a useful life of 20 years under CGAAP without the change in policies.  On January 1 of the year of policy changes, Asset A was 3 years depreciated. As a result, Asset A would have a remaining service life of 17 years (20 years less 3 years) as at January 1 of the year of policy changes.  Due to making the change in policies under CGAAP, management re-assessed the asset useful lives and concluded that the revised useful life of Asset A is now 30 years. Therefore, the average remaining useful life of the opening balance of Asset A is determined to be 27 years (30 years less 3 years) under the revised CGAAP as at January 1 of the year of policy changes."]
[4,"The useful life used should be consistent with the OEB's regulatory accounting policies as set out in the  Accounting Procedures Handbook for Electricity Distributors, effective Jan. 1, 2012 and also with the Report of the Board, Transition to International Financial Reporting Standards, EB-2008-0408, and the Kinectrics Report."]
[5,"OEB policy of the \"half-year\" rule - the applicant must ensure that additions in the year attract a half-year depreciation expense in the first year.  Deviations from this standard practice must be supported in the application."]
[6,"The applicant must provide an explanation of material variances in evidence."]
[7,"This should include assets in column A (excel column C) that become fully depreciated since the date of the policy change.  The amount input in b (excel column D) should equal the net book value of the asset as at the date of depreciation policy change"]
[8,"This should include assets in column D (excel column F) that have become fully depreciated.  The amount input in e (excel column G) should equal the gross book value of the asset"]
[]
[]
[]
[null,"2014 CGAAP","Book Values",null,null,null,null,null,null,"Service Lives",null,null,null,"Depreciation Expense"]
["Account","Description","Opening Net  Book Value of Existing Assets as at Date of Policy Change (Jan. 1) 1","Less Fully Depreciated 7","Net Amount of Existing Assets Before Policy Change to be Depreciated ","Opening Gross Book Value of Assets Acquired After Policy Change 2","Less Fully Depreciated 8","Net Amount of Assets Acquired After Policy Change to be Depreciated ","Current Year Additions","Average Remaining Life of Assets Existing Before Policy Change 3","Depreciation Rate Assets Acquired After Policy Change","Life of Assets Acquired After Policy Change 4","Depreciation Rate on New Additions","Depreciation Expense on Assets Existing Before Policy Change","Depreciation Expense on Assets Acquired After Policy Change","Depreciation Expense on Current Year Additions 5","Total Current Year Depreciation Expense ","Depreciation Expense per Appendix 2-BA Fixed Assets, Column J \n ","Variance 6"]
[null,null,"a","b","c = a-b","d","e","f = d- e","g","h","i = 1/h","j","k = 1/j","l = c/h","m = f/j","n = g*0.5/j","o = l+m+n","p","q = p-o"]
[1611,"Computer Software (Formally known as Account 1925)",{"$f":"E23","v":6686779},68831,{"$f":"C84-D84","v":6617948},{"$f":"+H23+I23","v":989635},null,{"$f":"F84-G84","v":989635},{"$f":"'App.2-BA_Fixed Asset Cont'!E272","v":651520},3.44490719952584,{"$f":"IF(J84=0,0,1/J84)","v":0.29028358155413908},{"$f":"+L23","v":5},{"$f":"IF(L84=0,0,1/L84)","v":0.2},{"$f":"IF(J84=0,0,+E84/J84)","v":1921081.6479790516},{"$f":"IF(L84=0,0,+H84/L84)","v":197927},{"$f":"IF(L84=0,0,+(I84*0.5)/L84)","v":65152},{"$f":"IF(ISERROR(+N84+O84+P84), 0, +N84+O84+P84)","v":2184160.6479790518},{"$f":"-'App.2-BA_Fixed Asset Cont'!K272","v":2180898},{"$f":"IF(ISERROR(+R84-Q84), 0, +R84-Q84)","v":-3262.647979051806}]
[1612,"Land Rights (Formally known as Account 1906)",{"$f":"E24","v":14625},null,{"$f":"C85-D85","v":14625},0,null,{"$f":"F85-G85","v":0},{"$f":"'App.2-BA_Fixed Asset Cont'!E273","v":160000},{"$f":"+J24","v":13},{"$f":"IF(J85=0,0,1/J85)","v":7.6923076923076927E-2},{"$f":"+L24","v":25},{"$f":"IF(L85=0,0,1/L85)","v":0.04},{"$f":"IF(J85=0,0,+E85/J85)","v":1125},{"$f":"IF(L85=0,0,+H85/L85)","v":0},{"$f":"IF(L85=0,0,+(I85*0.5)/L85)","v":3200},{"$f":"IF(ISERROR(+N85+O85+P85), 0, +N85+O85+P85)","v":4325},{"$f":"-'App.2-BA_Fixed Asset Cont'!K273","v":1192},{"$f":"IF(ISERROR(+R85-Q85), 0, +R85-Q85)","v":-3133}]
[1805,"Land",{"$f":"E25","v":497489},null,497489,0,null,0,{"$f":"'App.2-BA_Fixed Asset Cont'!E274","v":0},0,0,0,0,0,{"$f":"IF(L86=0,0,+H86/L86)","v":0},0,0,{"$f":"-'App.2-BA_Fixed Asset Cont'!K274","v":0},0]
[1808,"Buildings",{"$f":"E26","v":0},null,0,0,null,0,{"$f":"'App.2-BA_Fixed Asset Cont'!E275","v":0},0,0,0,0,0,0,0,0,{"$f":"-'App.2-BA_Fixed Asset Cont'!K275","v":0},0]
[1810,"Leasehold Improvements",0,null,0,0,null,0,{"$f":"'App.2-BA_Fixed Asset Cont'!E276","v":0},0,0,0,0,0,0,0,0,{"$f":"-'App.2-BA_Fixed Asset Cont'!K276","v":0},0]
[1815,"Transformer Station Equipment >50 kV",0,null,0,0,null,0,{"$f":"'App.2-BA_Fixed Asset Cont'!E277","v":0},0,0,0,0,0,0,0,0,{"$f":"-'App.2-BA_Fixed Asset Cont'!K277","v":0},0]
[1820,"Distribution Station Equipment <50 kV",3292186,99127,3193059,167402,null,167402,{"$f":"'App.2-BA_Fixed Asset Cont'!E278","v":79308},26.580263384325601,3.7621899585453346E-2,40,2.5000000000000001E-2,120128.94506842806,4185.05,991.35,125305.34506842807,{"$f":"-'App.2-BA_Fixed Asset Cont'!K278","v":126280},974.65493157193123]
[1825,"Storage Battery Equipment",{"$f":"E30","v":0},null,0,0,null,0,{"$f":"'App.2-BA_Fixed Asset Cont'!E279","v":0},0,0,0,0,0,0,0,0,{"$f":"-'App.2-BA_Fixed Asset Cont'!K279","v":0},0]
[1830,"Poles, Towers & Fixtures",2930272,null,2930272,535801,null,535801,{"$f":"'App.2-BA_Fixed Asset Cont'!E280","v":385717},41.752743418487,2.3950522004674468E-2,45,2.2222222222222223E-2,70181.544015681458,11906.68888888889,4285.7444444444445,86373.977349014793,{"$f":"-'App.2-BA_Fixed Asset Cont'!K280","v":86341},-32.977349014792708]
[1835,"Overhead Conductors & Devices",9855401,null,9855401,553800,null,553800,{"$f":"'App.2-BA_Fixed Asset Cont'!E281","v":428402},34.260180727682901,2.9188404111131272E-2,60,1.6666666666666666E-2,287663.42706524726,9230,3570.0166666666669,300463.44373191393,{"$f":"-'App.2-BA_Fixed Asset Cont'!K281","v":302663},2199.5562680860749]
[1840,"Underground Conduit",1182052,null,1182052,{"$f":"+H33+I33","v":211686},null,211686,{"$f":"'App.2-BA_Fixed Asset Cont'!E282","v":168722},48.880589453278901,2.04580184319549E-2,60,1.6666666666666666E-2,24182.441603529151,3528.1,1406.0166666666667,29116.558270195816,{"$f":"-'App.2-BA_Fixed Asset Cont'!K282","v":33388},4271.4417298041844]
[1845,"Underground Conductors & Devices",8093402,null,8093402,259635,null,259635,{"$f":"'App.2-BA_Fixed Asset Cont'!E283","v":560924},23.0746669649571,4.3337570224466257E-2,40,2.5000000000000001E-2,350748.37752983568,6490.875,7011.55,364250.80252983567,{"$f":"-'App.2-BA_Fixed Asset Cont'!K283","v":367474},3223.1974701643339]
[1850,"Line Transformers",7257615,null,7257615,512341,null,512341,{"$f":"'App.2-BA_Fixed Asset Cont'!E284","v":578441},31.084101332679701,3.2170786901555629E-2,40,2.5000000000000001E-2,233483.18557853365,12808.525,7230.5124999999998,253522.22307853366,{"$f":"-'App.2-BA_Fixed Asset Cont'!K284","v":252284},-1238.2230785336578]
[1855,"Services (Overhead & Underground)",665779,null,665779,175147,null,175147,{"$f":"'App.2-BA_Fixed Asset Cont'!E285","v":192720},21.514436301568999,4.6480418356444335E-2,25,0.04,30945.686452935151,7005.88,3854.4,41805.96645293515,{"$f":"-'App.2-BA_Fixed Asset Cont'!K285","v":39203},-2602.9664529351503]
[1860,"Meters",662870,null,662870,13134,null,13134,{"$f":"'App.2-BA_Fixed Asset Cont'!E286","v":22895},13.289325261945701,7.524836515692214E-2,15,6.6666666666666666E-2,49879.88381156898,875.6,763.16666666666663,51518.650478235642,{"$f":"-'App.2-BA_Fixed Asset Cont'!K286","v":36748},-14770.650478235642]
[1860,"Meters (Smart Meters)",4242960,null,4242960,93902,null,93902,{"$f":"'App.2-BA_Fixed Asset Cont'!E287","v":26175},13.289325261945701,7.524836515692214E-2,15,6.6666666666666666E-2,319275.80342621438,6260.1333333333332,872.5,326408.43675954774,{"$f":"-'App.2-BA_Fixed Asset Cont'!K287","v":341975},15566.563240452262]
[1905,"Land",0,null,0,0,null,0,{"$f":"'App.2-BA_Fixed Asset Cont'!E288","v":0},0,0,0,0,0,0,0,0,{"$f":"-'App.2-BA_Fixed Asset Cont'!K288","v":0},0]
[1908,"Buildings & Fixtures",6122664,19456,6103208,515860,null,515860,{"$f":"'App.2-BA_Fixed Asset Cont'!E289","v":128295},34.815534090708397,2.8722810840546058E-2,60,1.6666666666666666E-2,175301.28890450744,8597.6666666666661,1069.125,184968.0805711741,{"$f":"-'App.2-BA_Fixed Asset Cont'!K289","v":176464},-8504.0805711740977]
[1910,"Leasehold Improvements",{"$f":"E41","v":0},null,0,0,null,0,{"$f":"'App.2-BA_Fixed Asset Cont'!E290","v":0},0,0,0,0,0,0,0,0,{"$f":"-'App.2-BA_Fixed Asset Cont'!K290","v":0},0]
[1915,"Office Furniture & Equipment (10 years)",{"$f":"E42","v":243411},null,243411,64833,null,64833,{"$f":"'App.2-BA_Fixed Asset Cont'!E291","v":9848},4.83346857975822,0.20689076250290264,10,0.1,50359.487391594033,6483.3,492.4,57335.187391594038,{"$f":"-'App.2-BA_Fixed Asset Cont'!K291","v":45826},-11509.187391594038]
[1915,"Office Furniture & Equipment (5 years)",0,null,0,0,null,0,{"$f":"'App.2-BA_Fixed Asset Cont'!E292","v":0},0,0,0,0,0,0,0,0,{"$f":"-'App.2-BA_Fixed Asset Cont'!K292","v":0},0]
[1920,"Computer Equipment - Hardware",1737416,47385,1690031,554938,null,554938,{"$f":"'App.2-BA_Fixed Asset Cont'!E293","v":401544},3.5181436832814299,0.28424080709156363,5,0.2,480375.77544976235,110987.6,40154.400000000001,631517.77544976235,{"$f":"-'App.2-BA_Fixed Asset Cont'!K293","v":625036},-6481.7754497623537]
[1920,"Computer Equip.-Hardware(Post Mar. 22/04)",0,null,0,0,null,0,{"$f":"'App.2-BA_Fixed Asset Cont'!E294","v":0},0,0,0,0,0,0,0,0,{"$f":"-'App.2-BA_Fixed Asset Cont'!K294","v":0},0]
[1920,"Computer Equip.-Hardware(Post Mar. 19/07)",0,null,0,0,null,0,{"$f":"'App.2-BA_Fixed Asset Cont'!E295","v":0},0,0,0,0,0,0,0,0,{"$f":"-'App.2-BA_Fixed Asset Cont'!K295","v":0},0]
[1930,"Transportation Equipment",1881536,15613,1865923,488549,null,488549,{"$f":"'App.2-BA_Fixed Asset Cont'!E296","v":59531},6.5112009163759303,0.15358149945656877,10,0.1,286571.25221049914,48854.9,2976.55,338402.70221049915,{"$f":"-'App.2-BA_Fixed Asset Cont'!K296","v":346069},7666.2977895008516]
[1935,"Stores Equipment",5063,5063,0,0,null,0,{"$f":"'App.2-BA_Fixed Asset Cont'!E297","v":0},0,0,10,0.1,0,0,0,0,{"$f":"-'App.2-BA_Fixed Asset Cont'!K297","v":113},113]
[1940,"Tools, Shop & Garage Equipment",225421,null,225421,-8962,null,-8962,{"$f":"'App.2-BA_Fixed Asset Cont'!E298","v":59439},4.3374114522707901,0.230552257032582,10,0.1,51971.320332541669,-896.2,2971.95,54047.070332541669,{"$f":"-'App.2-BA_Fixed Asset Cont'!K298","v":44674},-9373.0703325416689]
[1945,"Measurement & Testing Equipment",124962,null,124962,0,null,0,{"$f":"'App.2-BA_Fixed Asset Cont'!E299","v":0},6.0128847034436399,0.16630952518136427,10,0.1,20782.370885713641,0,0,20782.370885713641,{"$f":"-'App.2-BA_Fixed Asset Cont'!K299","v":16750},-4032.3708857136407]
[1950,"Power Operated Equipment",0,null,0,0,null,0,{"$f":"'App.2-BA_Fixed Asset Cont'!E300","v":0},0,0,0,0,0,0,0,0,{"$f":"-'App.2-BA_Fixed Asset Cont'!K300","v":0},0]
[1955,"Communications Equipment",77915,null,77915,0,null,0,{"$f":"'App.2-BA_Fixed Asset Cont'!E301","v":0},5.8636362414657102,0.17054263921222268,10,0.1,13287.82973422033,0,0,13287.82973422033,{"$f":"-'App.2-BA_Fixed Asset Cont'!K301","v":11288},-1999.8297342203296]
[1955,"Communication Equipment (Smart Meters)",0,null,0,0,null,0,{"$f":"'App.2-BA_Fixed Asset Cont'!E302","v":0},0,0,0,0,0,0,0,0,{"$f":"-'App.2-BA_Fixed Asset Cont'!K302","v":0},0]
[1960,"Miscellaneous Equipment ",66518,null,66518,71693,null,71693,{"$f":"'App.2-BA_Fixed Asset Cont'!E303","v":6270},5,0.2,10,0.1,13303.6,7169.3,313.5,20786.400000000001,{"$f":"-'App.2-BA_Fixed Asset Cont'!K303","v":17977},-2809.4000000000015]
[1970,"Load Management Controls Customer Premises",0,null,0,{"$f":"+H55+I55","v":0},null,0,{"$f":"'App.2-BA_Fixed Asset Cont'!E304","v":0},0,0,0,0,0,0,0,0,{"$f":"-'App.2-BA_Fixed Asset Cont'!K304","v":0},0]
[1975,"Load Management Controls Utility Premises",0,null,0,{"$f":"+H56+I56","v":0},null,0,{"$f":"'App.2-BA_Fixed Asset Cont'!E305","v":0},0,0,0,0,0,0,0,0,{"$f":"-'App.2-BA_Fixed Asset Cont'!K305","v":0},0]
[1980,"System Supervisor Equipment",478522,null,478522,{"$f":"+H57+I57","v":98765},null,98765,{"$f":"'App.2-BA_Fixed Asset Cont'!E306","v":133760},12.1568368904274,8.2258239459264706E-2,10,0.1,39362.377262526265,9876.5,6688,55926.877262526265,{"$f":"-'App.2-BA_Fixed Asset Cont'!K306","v":44669},-11257.877262526265]
[1985,"Miscellaneous Fixed Assets",0,null,0,{"$f":"+H58+I58","v":0},null,0,{"$f":"'App.2-BA_Fixed Asset Cont'!E307","v":0},0,0,0,0,0,0,0,0,{"$f":"-'App.2-BA_Fixed Asset Cont'!K307","v":0},0]
[1990,"Other Tangible Property",645280,null,645280,100867,null,100867,{"$f":"'App.2-BA_Fixed Asset Cont'!E308","v":71716},0,0,0,0,0,0,0,0,{"$f":"-'App.2-BA_Fixed Asset Cont'!K308","v":0},0]
[1995,"Contributions & Grants",{"$f":"E60","v":-5126899},null,-5126899,-537827,null,-537827,{"$f":"'App.2-BA_Fixed Asset Cont'!E309","v":0},18.759272338115853,5.3306971719162009E-2,25,0.04,-273299.46000000002,-21513.08,0,-294812.54000000004,{"$f":"-'App.2-BA_Fixed Asset Cont'!K309","v":-289235},5577.5400000000373]
[2440,"Deferred Revenue",0,null,0,null,null,0,{"$f":"'App.2-BA_Fixed Asset Cont'!E310","v":-221294},0,0,25,0.04,0,0,-4425.88,-4425.88,{"$f":"-'App.2-BA_Fixed Asset Cont'!K310","v":-8852},-4426.12]
[2005,"Property Under Finance Lease",0,null,0,{"$f":"+H61+I61","v":0},null,0,{"$f":"'App.2-BA_Fixed Asset Cont'!E311","v":0},null,0,null,0,0,0,0,0,{"$f":"-'App.2-BA_Fixed Asset Cont'!K311","v":0},0]
[null,"Total",{"$f":"SUM(C84:C123)","v":51863239},255475,51607764,4861199,0,4861199,3903933,null,null,null,null,{"$f":"SUM(N84:N123)","v":4266711.7847023895},429777.83888888889,148577.30194444442,4845066.9255357245,4799225,-45841.925535723771]
[]
[]
[]
[]
[]
[]
[null,"2015 MIFRS","Book Values",null,null,null,null,null,null,"Service Lives",null,null,null,"Depreciation Expense"]
["Account","Description","Opening Net  Book Value of Existing Assets as at Date of Policy Change (Jan. 1) 1","Less Fully Depreciated 7","Net Amount of Existing Assets Before Policy Change to be Depreciated ","Opening Gross Book Value of Assets Acquired After Policy Change 2","Less Fully Depreciated 8","Net Amount of Assets Acquired After Policy Change to be Depreciated ","Current Year Additions","Average Remaining Life of Assets Existing Before Policy Change 3","Depreciation Rate Assets Acquired After Policy Change","Life of Assets Acquired After Policy Change 4","Depreciation Rate on New Additions","Depreciation Expense on Assets Existing Before Policy Change","Depreciation Expense on Assets Acquired After Policy Change","Depreciation Expense on Current Year Additions 5","Total Current Year Depreciation Expense ","Depreciation Expense per Appendix 2-BA Fixed Assets, Column J \n ","Variance 6"]
[null,null,"a","b","c = a-b","d","e","f = d- e","g","h","i = 1/h","j","k = 1/j","l = c/h","m = f/j","n = g*0.5/j","o = l+m+n","p","q = p-o"]
[1611,"Computer Software (Formally known as Account 1925)",{"$f":"E84","v":6617948},186218,{"$f":"C134-D134","v":6431730},{"$f":"+H84+I84","v":1641155},null,{"$f":"F134-G134","v":1641155},{"$f":"'App.2-BA_Fixed Asset Cont'!E361","v":994604},4.2017441943885601,{"$f":"IF(J134=0,0,1/J134)","v":0.2379964019074513},{"$f":"+L84","v":5},{"$f":"IF(L134=0,0,1/L134)","v":0.2},{"$f":"IF(J134=0,0,+E134/J134)","v":1530728.5980402119},{"$f":"IF(L134=0,0,+H134/L134)","v":328231},{"$f":"IF(L134=0,0,+(I134*0.5)/L134)","v":99460.4},{"$f":"IF(ISERROR(+N134+O134+P134), 0, +N134+O134+P134)","v":1958419.9980402119},{"$f":"-'App.2-BA_Fixed Asset Cont'!K361","v":1946660},{"$f":"IF(ISERROR(+R134-Q134), 0, +R134-Q134)","v":-11759.998040211853}]
[1612,"Land Rights (Formally known as Account 1906)",{"$f":"E85","v":14625},null,{"$f":"C135-D135","v":14625},{"$f":"+H85+I85","v":160000},null,{"$f":"F135-G135","v":160000},{"$f":"'App.2-BA_Fixed Asset Cont'!E362","v":0},{"$f":"+J85","v":13},{"$f":"IF(J135=0,0,1/J135)","v":7.6923076923076927E-2},{"$f":"+L85","v":25},{"$f":"IF(L135=0,0,1/L135)","v":0.04},{"$f":"IF(J135=0,0,+E135/J135)","v":1125},{"$f":"IF(L135=0,0,+H135/L135)","v":6400},{"$f":"IF(L135=0,0,+(I135*0.5)/L135)","v":0},{"$f":"IF(ISERROR(+N135+O135+P135), 0, +N135+O135+P135)","v":7525},{"$f":"-'App.2-BA_Fixed Asset Cont'!K362","v":1192},{"$f":"IF(ISERROR(+R135-Q135), 0, +R135-Q135)","v":-6333}]
[1805,"Land",497489,null,497489,0,null,0,{"$f":"'App.2-BA_Fixed Asset Cont'!E363","v":0},{"$f":"+J86","v":0},0,0,0,0,{"$f":"IF(L136=0,0,+H136/L136)","v":0},0,0,{"$f":"-'App.2-BA_Fixed Asset Cont'!K363","v":0},0]
[1808,"Buildings",0,null,0,0,null,0,{"$f":"'App.2-BA_Fixed Asset Cont'!E364","v":0},0,{"$f":"IF(J137=0,0,1/J137)","v":0},0,0,0,0,0,0,{"$f":"-'App.2-BA_Fixed Asset Cont'!K364","v":0},0]
[1810,"Leasehold Improvements",0,null,0,0,null,0,{"$f":"'App.2-BA_Fixed Asset Cont'!E365","v":0},0,0,0,0,0,0,0,0,{"$f":"-'App.2-BA_Fixed Asset Cont'!K365","v":0},0]
[1815,"Transformer Station Equipment >50 kV",0,null,0,0,null,0,{"$f":"'App.2-BA_Fixed Asset Cont'!E366","v":0},0,0,0,0,0,0,0,0,{"$f":"-'App.2-BA_Fixed Asset Cont'!K366","v":0},0]
[1820,"Distribution Station Equipment <50 kV",3193059,null,3193059,246710,null,246710,{"$f":"'App.2-BA_Fixed Asset Cont'!E367","v":441280},26.580263384325601,3.7621899585453346E-2,40,2.5000000000000001E-2,120128.94506842806,6167.75,5516,131812.69506842806,{"$f":"-'App.2-BA_Fixed Asset Cont'!K367","v":136378},4565.30493157194]
[1825,"Storage Battery Equipment",0,null,0,0,null,0,{"$f":"'App.2-BA_Fixed Asset Cont'!E368","v":0},0,0,0,0,0,0,0,0,{"$f":"-'App.2-BA_Fixed Asset Cont'!K368","v":0},0]
[1830,"Poles, Towers & Fixtures",2930272,null,2930272,921518,null,921518,{"$f":"'App.2-BA_Fixed Asset Cont'!E369","v":1494255},41.752743418487,2.3950522004674468E-2,45,2.2222222222222223E-2,70181.544015681458,20478.177777777779,16602.833333333332,107262.55512679256,{"$f":"-'App.2-BA_Fixed Asset Cont'!K369","v":106376},-886.55512679256208]
[1835,"Overhead Conductors & Devices",9855401,null,9855401,982202,null,982202,{"$f":"'App.2-BA_Fixed Asset Cont'!E370","v":1114705},34.260180727682901,2.9188404111131272E-2,60,1.6666666666666666E-2,287663.42706524726,16370.033333333333,9289.2083333333339,313322.6687319139,{"$f":"-'App.2-BA_Fixed Asset Cont'!K370","v":317574},4251.3312680860981]
[1840,"Underground Conduit",1182052,null,1182052,380408,null,380408,{"$f":"'App.2-BA_Fixed Asset Cont'!E371","v":150691},48.880589453278901,2.04580184319549E-2,60,1.6666666666666666E-2,24182.441603529151,6340.1333333333332,1255.7583333333334,31778.333270195817,{"$f":"-'App.2-BA_Fixed Asset Cont'!K371","v":39658},7879.666729804183]
[1845,"Underground Conductors & Devices",8093402,null,8093402,820559,null,820559,{"$f":"'App.2-BA_Fixed Asset Cont'!E372","v":740129},23.408201454923599,4.2720069798000797E-2,40,2.5000000000000001E-2,345750.69834327925,20513.974999999999,9251.6124999999993,375516.28584327921,{"$f":"-'App.2-BA_Fixed Asset Cont'!K372","v":379270},3753.7141567207873]
[1850,"Line Transformers",7257615,null,7257615,1090782,null,1090782,{"$f":"'App.2-BA_Fixed Asset Cont'!E373","v":1103952},31.084101332679701,3.2170786901555629E-2,40,2.5000000000000001E-2,233483.18557853365,27269.55,13799.4,274552.13557853363,{"$f":"-'App.2-BA_Fixed Asset Cont'!K373","v":276760},2207.8644214663655]
[1855,"Services (Overhead & Underground)",665779,null,665779,367867,null,367867,{"$f":"'App.2-BA_Fixed Asset Cont'!E374","v":172600},21.514436301568999,4.6480418356444335E-2,25,0.04,30945.686452935151,14714.68,3452,49112.366452935152,{"$f":"-'App.2-BA_Fixed Asset Cont'!K374","v":47669},-1443.3664529351518]
[1860,"Meters",662870,null,662870,36029,null,36029,{"$f":"'App.2-BA_Fixed Asset Cont'!E375","v":19599},13.289325261945701,7.524836515692214E-2,15,6.6666666666666666E-2,49879.88381156898,2401.9333333333334,653.29999999999995,52935.117144902317,{"$f":"-'App.2-BA_Fixed Asset Cont'!K375","v":38600.450000000012},-14334.667144902305]
[1860,"Meters (Smart Meters)",4242960,null,4242960,120077,null,120077,{"$f":"'App.2-BA_Fixed Asset Cont'!E376","v":630238},13.289325261945701,7.524836515692214E-2,15,6.6666666666666666E-2,319275.80342621438,8005.1333333333332,21007.933333333334,348288.87009288109,{"$f":"-'App.2-BA_Fixed Asset Cont'!K376","v":338817.55},-9471.3200928810984]
[1905,"Land",0,null,0,0,null,0,{"$f":"'App.2-BA_Fixed Asset Cont'!E377","v":0},0,0,0,0,0,0,0,0,{"$f":"-'App.2-BA_Fixed Asset Cont'!K377","v":0},0]
[1908,"Buildings & Fixtures",6103208,null,6103208,644155,null,644155,{"$f":"'App.2-BA_Fixed Asset Cont'!E378","v":53172},39.022101997375401,2.5626502643739162E-2,60,1.6666666666666666E-2,156403.87594729001,10735.916666666666,443.1,167582.89261395668,{"$f":"-'App.2-BA_Fixed Asset Cont'!K378","v":178014},10431.107386043324]
[1910,"Leasehold Improvements",0,null,0,0,null,0,{"$f":"'App.2-BA_Fixed Asset Cont'!E379","v":0},0,0,0,0,0,0,0,0,{"$f":"-'App.2-BA_Fixed Asset Cont'!K379","v":0},0]
[1915,"Office Furniture & Equipment (10 years)",243411,43642,199769,74681,null,74681,{"$f":"'App.2-BA_Fixed Asset Cont'!E380","v":9645},7,0.14285714285714285,10,0.1,28538.428571428572,7468.1,482.25,36488.778571428571,{"$f":"-'App.2-BA_Fixed Asset Cont'!K380","v":43579},7090.221428571429]
[1915,"Office Furniture & Equipment (5 years)",0,null,0,0,null,0,{"$f":"'App.2-BA_Fixed Asset Cont'!E381","v":0},0,0,0,0,0,0,0,0,{"$f":"-'App.2-BA_Fixed Asset Cont'!K381","v":0},0]
[1920,"Computer Equipment - Hardware",1690031,258079,1431952,956482,null,956482,{"$f":"'App.2-BA_Fixed Asset Cont'!E382","v":177871},4.54391032108507,0.22007476585964036,5,0.2,315136.5011222437,191296.4,17787.099999999999,524220.0011222437,{"$f":"-'App.2-BA_Fixed Asset Cont'!K382","v":527358},3137.9988777562976]
[1920,"Computer Equip.-Hardware(Post Mar. 22/04)",0,null,0,0,null,0,{"$f":"'App.2-BA_Fixed Asset Cont'!E383","v":0},0,0,0,0,0,0,0,0,{"$f":"-'App.2-BA_Fixed Asset Cont'!K383","v":0},0]
[1920,"Computer Equip.-Hardware(Post Mar. 19/07)",0,null,0,0,null,0,{"$f":"'App.2-BA_Fixed Asset Cont'!E384","v":0},0,0,0,0,0,0,0,0,{"$f":"-'App.2-BA_Fixed Asset Cont'!K384","v":0},0]
[1930,"Transportation Equipment",1865923,9504,1856419,548080,null,548080,{"$f":"'App.2-BA_Fixed Asset Cont'!E385","v":131389},6.5872688254403498,0.15180798393075318,10,0.1,281819.22572074487,54808,6569.45,343196.67572074488,{"$f":"-'App.2-BA_Fixed Asset Cont'!K385","v":353733},10536.324279255117]
[1935,"Stores Equipment",0,null,0,0,null,0,{"$f":"'App.2-BA_Fixed Asset Cont'!E386","v":0},0,0,10,0.1,0,0,0,0,{"$f":"-'App.2-BA_Fixed Asset Cont'!K386","v":53},53]
[1940,"Tools, Shop & Garage Equipment",225421,55465,169956,50477,null,50477,{"$f":"'App.2-BA_Fixed Asset Cont'!E387","v":17543},7.0117365788252304,0.14261802176366747,10,0.1,24238.788506865869,5047.7,877.15,30163.638506865871,{"$f":"-'App.2-BA_Fixed Asset Cont'!K387","v":43745},13581.361493134129]
[1945,"Measurement & Testing Equipment",124962,8206,116756,0,null,0,{"$f":"'App.2-BA_Fixed Asset Cont'!E388","v":0},7,0.14285714285714285,10,0.1,16679.428571428572,0,0,16679.428571428572,{"$f":"-'App.2-BA_Fixed Asset Cont'!K388","v":14377},-2302.4285714285725]
[1950,"Power Operated Equipment",0,null,0,0,null,0,{"$f":"'App.2-BA_Fixed Asset Cont'!E389","v":0},0,0,0,0,0,0,0,0,{"$f":"-'App.2-BA_Fixed Asset Cont'!K389","v":0},0]
[1955,"Communications Equipment",77915,6040,71875,0,null,0,{"$f":"'App.2-BA_Fixed Asset Cont'!E390","v":0},7,0.14285714285714285,10,0.1,10267.857142857143,0,0,10267.857142857143,{"$f":"-'App.2-BA_Fixed Asset Cont'!K390","v":9433},-834.85714285714312]
[1955,"Communication Equipment (Smart Meters)",0,null,0,0,null,0,{"$f":"'App.2-BA_Fixed Asset Cont'!E391","v":0},0,0,0,0,0,0,0,0,{"$f":"-'App.2-BA_Fixed Asset Cont'!K391","v":0},0]
[1960,"Miscellaneous Equipment ",66518,null,66518,77963,null,77963,{"$f":"'App.2-BA_Fixed Asset Cont'!E392","v":0},5,0.2,10,0.1,13303.6,7796.3,0,21099.9,{"$f":"-'App.2-BA_Fixed Asset Cont'!K392","v":18708},-2391.9000000000015]
[1970,"Load Management Controls Customer Premises",0,null,0,0,null,0,{"$f":"'App.2-BA_Fixed Asset Cont'!E393","v":0},0,0,0,0,0,0,0,0,{"$f":"-'App.2-BA_Fixed Asset Cont'!K393","v":0},0]
[1975,"Load Management Controls Utility Premises",0,null,0,0,null,0,{"$f":"'App.2-BA_Fixed Asset Cont'!E394","v":0},0,0,0,0,0,0,0,0,{"$f":"-'App.2-BA_Fixed Asset Cont'!K394","v":0},0]
[1980,"System Supervisor Equipment",478522,null,478522,232525,null,232525,{"$f":"'App.2-BA_Fixed Asset Cont'!E395","v":64952},12.1568368904274,8.2258239459264706E-2,10,0.1,39362.377262526265,23252.5,3247.6,65862.47726252627,{"$f":"-'App.2-BA_Fixed Asset Cont'!K395","v":48752},-17110.47726252627]
[1985,"Miscellaneous Fixed Assets",0,null,0,0,null,0,{"$f":"'App.2-BA_Fixed Asset Cont'!E396","v":0},0,0,0,0,0,0,0,0,{"$f":"-'App.2-BA_Fixed Asset Cont'!K396","v":0},0]
[1990,"Other Tangible Property",645280,null,645280,172583,null,172583,{"$f":"'App.2-BA_Fixed Asset Cont'!E397","v":64975},0,0,0,0,0,0,0,0,{"$f":"-'App.2-BA_Fixed Asset Cont'!K397","v":0},0]
[1995,"Contributions & Grants",-5126899,null,-5126899,-537827,null,-537827,{"$f":"'App.2-BA_Fixed Asset Cont'!E398","v":0},18.759272338115853,5.3306971719162009E-2,25,0.04,-273299.46000000002,-21513.08,0,-294812.54000000004,{"$f":"-'App.2-BA_Fixed Asset Cont'!K398","v":-288808},6004.5400000000373]
[2440,"Deferred Revenue",0,null,0,-221294,null,-221294,{"$f":"'App.2-BA_Fixed Asset Cont'!E399","v":-360407},0,0,25,0.04,0,-8851.76,-7208.14,-16059.900000000001,{"$f":"-'App.2-BA_Fixed Asset Cont'!K399","v":-23268},-7208.0999999999985]
[2005,"Property Under Finance Lease",null,null,0,null,null,0,null,null,0,null,0,0,0,0,0,{"$f":"-'App.2-BA_Fixed Asset Cont'!K400","v":0},0]
[null,"Total",{"$f":"SUM(C134:C173)","v":51607764},567154,51040610,8765132,0,8765132,7021193,null,null,null,null,{"$f":"SUM(N134:N173)","v":3625795.8362510144},726932.44277777779,202486.95583333331,4555215.2348621245,4554631,-584.23486212524585]
[]
[]
[]
[]
[]
[null,2016,"Book Values",null,null,null,null,null,null,"Service Lives",null,null,null,"Depreciation Expense"]
["Account","Description","Opening Net  Book Value of Existing Assets as at Date of Policy Change (Jan. 1) 1","Less Fully Depreciated 7","Net Amount of Existing Assets Before Policy Change to be Depreciated ","Opening Gross Book Value of Assets Acquired After Policy Change 2","Less Fully Depreciated 8","Net Amount of Assets Acquired After Policy Change to be Depreciated ","Current Year Additions","Average Remaining Life of Assets Existing Before Policy Change 3","Depreciation Rate Assets Acquired After Policy Change","Life of Assets Acquired After Policy Change 4","Depreciation Rate on New Additions","Depreciation Expense on Assets Existing Before Policy Change","Depreciation Expense on Assets Acquired After Policy Change","Depreciation Expense on Current Year Additions 5","Total Current Year Depreciation Expense ","Depreciation Expense per Appendix 2-BA Fixed Assets, Column J \n ","Variance 6"]
[null,null,"a","b","c = a-b","d","e","f = d- e","g","h","i = 1/h","j","k = 1/j","l = c/h","m = f/j","n = g*0.5/j","o = l+m+n","p","q = p-o"]
[1611,"Computer Software (Formally known as Account 1925)",{"$f":"E134","v":6431730},1729770,{"$f":"C183-D183","v":4701960},{"$f":"+H134+I134","v":2635759},null,{"$f":"F183-G183","v":2635759},{"$f":"'App.2-BA_Fixed Asset Cont'!E451","v":1110282},5.4126382344628903,{"$f":"IF(J183=0,0,1/J183)","v":0.18475278721435417},{"$f":"+L134","v":5},{"$f":"IF(L183=0,0,1/L183)","v":0.2},{"$f":"IF(J183=0,0,+E183/J183)","v":868700.21537040477},{"$f":"IF(L183=0,0,+H183/L183)","v":527151.80000000005},{"$f":"IF(L183=0,0,+(I183*0.5)/L183)","v":111028.2},{"$f":"IF(ISERROR(+N183+O183+P183), 0, +N183+O183+P183)","v":1506880.2153704048},{"$f":"-'App.2-BA_Fixed Asset Cont'!K451","v":1456969},{"$f":"IF(ISERROR(+R183-Q183), 0, +R183-Q183)","v":-49911.215370404767}]
[1612,"Land Rights (Formally known as Account 1906)",{"$f":"E135","v":14625},null,{"$f":"C184-D184","v":14625},{"$f":"+H135+I135","v":160000},null,{"$f":"F184-G184","v":160000},{"$f":"'App.2-BA_Fixed Asset Cont'!E452","v":0},{"$f":"+J135","v":13},{"$f":"IF(J184=0,0,1/J184)","v":7.6923076923076927E-2},{"$f":"+L135","v":25},{"$f":"IF(L184=0,0,1/L184)","v":0.04},{"$f":"IF(J184=0,0,+E184/J184)","v":1125},{"$f":"IF(L184=0,0,+H184/L184)","v":6400},{"$f":"IF(L184=0,0,+(I184*0.5)/L184)","v":0},{"$f":"IF(ISERROR(+N184+O184+P184), 0, +N184+O184+P184)","v":7525},{"$f":"-'App.2-BA_Fixed Asset Cont'!K452","v":1192},{"$f":"IF(ISERROR(+R184-Q184), 0, +R184-Q184)","v":-6333}]
[1805,"Land",497489,null,497489,0,null,0,{"$f":"'App.2-BA_Fixed Asset Cont'!E453","v":0},{"$f":"+J136","v":0},0,0,0,0,{"$f":"IF(L185=0,0,+H185/L185)","v":0},0,0,{"$f":"-'App.2-BA_Fixed Asset Cont'!K453","v":0},0]
[1808,"Buildings",0,null,0,0,null,0,{"$f":"'App.2-BA_Fixed Asset Cont'!E454","v":0},0,{"$f":"IF(J186=0,0,1/J186)","v":0},0,0,0,0,0,0,{"$f":"-'App.2-BA_Fixed Asset Cont'!K454","v":0},0]
[1810,"Leasehold Improvements",0,null,0,0,null,0,{"$f":"'App.2-BA_Fixed Asset Cont'!E455","v":0},0,{"$f":"IF(J187=0,0,1/J187)","v":0},0,0,0,0,0,0,{"$f":"-'App.2-BA_Fixed Asset Cont'!K455","v":0},0]
[1815,"Transformer Station Equipment >50 kV",0,null,0,0,null,0,{"$f":"'App.2-BA_Fixed Asset Cont'!E456","v":0},0,0,0,0,0,0,0,0,{"$f":"-'App.2-BA_Fixed Asset Cont'!K456","v":0},0]
[1820,"Distribution Station Equipment <50 kV",3193059,null,3193059,687990,null,687990,{"$f":"'App.2-BA_Fixed Asset Cont'!E457","v":98036},26.580263384325601,3.7621899585453346E-2,40,2.5000000000000001E-2,120128.94506842806,17199.75,1225.45,138554.14506842807,{"$f":"-'App.2-BA_Fixed Asset Cont'!K457","v":139319},764.85493157192832]
[1825,"Storage Battery Equipment",0,null,0,0,null,0,{"$f":"'App.2-BA_Fixed Asset Cont'!E458","v":0},0,0,0,0,0,0,0,0,{"$f":"-'App.2-BA_Fixed Asset Cont'!K458","v":0},0]
[1830,"Poles, Towers & Fixtures",2930272,null,2930272,2415773,null,2415773,{"$f":"'App.2-BA_Fixed Asset Cont'!E459","v":2069153},41.752743418487,2.3950522004674468E-2,45,2.2222222222222223E-2,70181.544015681458,53683.844444444447,22990.588888888888,146855.97734901478,{"$f":"-'App.2-BA_Fixed Asset Cont'!K459","v":142927},-3928.9773490147782]
[1835,"Overhead Conductors & Devices",9855401,null,9855401,2096907,null,2096907,{"$f":"'App.2-BA_Fixed Asset Cont'!E460","v":895151},34.260180727682901,2.9188404111131272E-2,60,1.6666666666666666E-2,287663.42706524726,34948.449999999997,7459.5916666666662,330071.46873191395,{"$f":"-'App.2-BA_Fixed Asset Cont'!K460","v":336370},6298.5312680860516]
[1840,"Underground Conduit",1182052,null,1182052,531099,null,531099,{"$f":"'App.2-BA_Fixed Asset Cont'!E461","v":284077},48.880589453278901,2.04580184319549E-2,60,1.6666666666666666E-2,24182.441603529151,8851.65,2367.3083333333334,35401.399936862486,{"$f":"-'App.2-BA_Fixed Asset Cont'!K461","v":45733},10331.600063137514]
[1845,"Underground Conductors & Devices",8093402,30640.47,8062761.5300000003,1560688,null,1560688,{"$f":"'App.2-BA_Fixed Asset Cont'!E462","v":440868},23.6895277836445,4.2212745189898239E-2,40,2.5000000000000001E-2,340351.29799280403,39017.199999999997,5510.85,384879.34799280402,{"$f":"-'App.2-BA_Fixed Asset Cont'!K462","v":382801},-2078.3479928040178]
[1850,"Line Transformers",7257615,null,7257615,2194734,null,2194734,{"$f":"'App.2-BA_Fixed Asset Cont'!E463","v":1122373},31.084101332679701,3.2170786901555629E-2,40,2.5000000000000001E-2,233483.18557853365,54868.35,14029.6625,302381.19807853363,{"$f":"-'App.2-BA_Fixed Asset Cont'!K463","v":301949},-432.19807853363454]
[1855,"Services (Overhead & Underground)",665779,null,665779,540467,null,540467,{"$f":"'App.2-BA_Fixed Asset Cont'!E464","v":200440},21.514436301568999,4.6480418356444335E-2,25,0.04,30945.686452935151,21618.68,4008.8,56573.166452935155,{"$f":"-'App.2-BA_Fixed Asset Cont'!K464","v":54989},-1584.1664529351547]
[1860,"Meters",662870,null,662870,55628,null,55628,{"$f":"'App.2-BA_Fixed Asset Cont'!E465","v":19970},13.289325261945701,7.524836515692214E-2,15,6.6666666666666666E-2,49879.88381156898,3708.5333333333333,665.66666666666663,54254.083811568977,{"$f":"-'App.2-BA_Fixed Asset Cont'!K465","v":39797},-14457.083811568977]
[1860,"Meters (Smart Meters)",4242960,null,4242960,750315,null,750315,{"$f":"'App.2-BA_Fixed Asset Cont'!E466","v":175795},13.289325261945701,7.524836515692214E-2,15,6.6666666666666666E-2,319275.80342621438,50021,5859.833333333333,375156.63675954769,{"$f":"-'App.2-BA_Fixed Asset Cont'!K466","v":346569},-28587.636759547691]
[1905,"Land",0,null,0,0,null,0,{"$f":"'App.2-BA_Fixed Asset Cont'!E467","v":0},0,0,0,0,0,0,0,0,{"$f":"-'App.2-BA_Fixed Asset Cont'!K467","v":0},0]
[1908,"Buildings & Fixtures",6103208,null,6103208,697327,null,697327,{"$f":"'App.2-BA_Fixed Asset Cont'!E468","v":109510},39.022101997375401,2.5626502643739162E-2,60,1.6666666666666666E-2,156403.87594729001,11622.116666666667,912.58333333333337,168938.57594729002,{"$f":"-'App.2-BA_Fixed Asset Cont'!K468","v":180382},11443.424052709976]
[1910,"Leasehold Improvements",0,null,0,0,null,0,{"$f":"'App.2-BA_Fixed Asset Cont'!E469","v":0},0,0,0,0,0,0,0,0,{"$f":"-'App.2-BA_Fixed Asset Cont'!K469","v":0},0]
[1915,"Office Furniture & Equipment (10 years)",199769,null,199769,84326,null,84326,{"$f":"'App.2-BA_Fixed Asset Cont'!E470","v":79006},7,0.14285714285714285,10,0.1,28538.428571428572,8432.6,3950.3,40921.328571428574,{"$f":"-'App.2-BA_Fixed Asset Cont'!K470","v":47354},6432.6714285714261]
[1915,"Office Furniture & Equipment (5 years)",0,null,0,0,null,0,{"$f":"'App.2-BA_Fixed Asset Cont'!E471","v":0},0,0,0,0,0,0,0,0,{"$f":"-'App.2-BA_Fixed Asset Cont'!K471","v":0},0]
[1920,"Computer Equipment - Hardware",1431952,317599,1114353,1134353,null,1134353,{"$f":"'App.2-BA_Fixed Asset Cont'!E472","v":261921},4.9941696589667499,0.2002334859018168,5,0.2,223130.78571514727,226870.6,26192.1,476193.48571514722,{"$f":"-'App.2-BA_Fixed Asset Cont'!K472","v":475441},-752.48571514722425]
[1920,"Computer Equip.-Hardware(Post Mar. 22/04)",0,null,0,0,null,0,{"$f":"'App.2-BA_Fixed Asset Cont'!E473","v":0},0,0,0,0,0,0,0,0,{"$f":"-'App.2-BA_Fixed Asset Cont'!K473","v":0},0]
[1920,"Computer Equip.-Hardware(Post Mar. 19/07)",0,null,0,0,null,0,{"$f":"'App.2-BA_Fixed Asset Cont'!E474","v":0},0,0,0,0,0,0,0,0,{"$f":"-'App.2-BA_Fixed Asset Cont'!K474","v":0},0]
[1930,"Transportation Equipment",1856419,25756,1830663,679469,null,679469,{"$f":"'App.2-BA_Fixed Asset Cont'!E475","v":453484},6.6999838546107702,0.14925409100976023,10,0.1,273233.9420102007,67946.899999999994,22674.2,363855.04201020073,{"$f":"-'App.2-BA_Fixed Asset Cont'!K475","v":372951},9095.9579897992662]
[1935,"Stores Equipment",0,null,0,0,null,0,{"$f":"'App.2-BA_Fixed Asset Cont'!E476","v":0},0,0,10,0.1,0,0,0,0,{"$f":"-'App.2-BA_Fixed Asset Cont'!K476","v":53},53]
[1940,"Tools, Shop & Garage Equipment",169956,null,169956,68020,null,68020,{"$f":"'App.2-BA_Fixed Asset Cont'!E477","v":84648},7.0117365788252304,0.14261802176366747,10,0.1,24238.788506865869,6802,4232.3999999999996,35273.188506865867,{"$f":"-'App.2-BA_Fixed Asset Cont'!K477","v":45619},10345.811493134133]
[1945,"Measurement & Testing Equipment",116756,null,116756,0,null,0,{"$f":"'App.2-BA_Fixed Asset Cont'!E478","v":0},7,0.14285714285714285,10,0.1,16679.428571428572,0,0,16679.428571428572,{"$f":"-'App.2-BA_Fixed Asset Cont'!K478","v":13224},-3455.4285714285725]
[1950,"Power Operated Equipment",0,null,0,0,null,0,{"$f":"'App.2-BA_Fixed Asset Cont'!E479","v":0},0,0,0,0,0,0,0,0,{"$f":"-'App.2-BA_Fixed Asset Cont'!K479","v":0},0]
[1955,"Communications Equipment",71875,null,71875,0,null,0,{"$f":"'App.2-BA_Fixed Asset Cont'!E480","v":0},7,0.14285714285714285,10,0.1,10267.857142857143,0,0,10267.857142857143,{"$f":"-'App.2-BA_Fixed Asset Cont'!K480","v":9289},-978.85714285714312]
[1955,"Communication Equipment (Smart Meters)",0,null,0,0,null,0,{"$f":"'App.2-BA_Fixed Asset Cont'!E481","v":0},0,0,0,0,0,0,0,0,{"$f":"-'App.2-BA_Fixed Asset Cont'!K481","v":0},0]
[1960,"Miscellaneous Equipment ",66518,null,66518,77963,null,77963,{"$f":"'App.2-BA_Fixed Asset Cont'!E482","v":14187},5,0.2,10,0.1,13303.6,7796.3,709.35,21809.25,{"$f":"-'App.2-BA_Fixed Asset Cont'!K482","v":20026},-1783.25]
[1970,"Load Management Controls Customer Premises",0,null,0,0,null,0,{"$f":"'App.2-BA_Fixed Asset Cont'!E483","v":0},0,0,0,0,0,0,0,0,{"$f":"-'App.2-BA_Fixed Asset Cont'!K483","v":0},0]
[1975,"Load Management Controls Utility Premises",0,null,0,0,null,0,{"$f":"'App.2-BA_Fixed Asset Cont'!E484","v":0},0,0,0,0,0,0,0,0,{"$f":"-'App.2-BA_Fixed Asset Cont'!K484","v":0},0]
[1980,"System Supervisor Equipment",478522,null,478522,297477,null,297477,{"$f":"'App.2-BA_Fixed Asset Cont'!E485","v":39516},12.1568368904274,8.2258239459264706E-2,10,0.1,39362.377262526265,29747.7,1975.8,71085.877262526265,{"$f":"-'App.2-BA_Fixed Asset Cont'!K485","v":50625},-20460.877262526265]
[1985,"Miscellaneous Fixed Assets",0,null,0,0,null,0,{"$f":"'App.2-BA_Fixed Asset Cont'!E486","v":0},0,0,0,0,0,0,0,0,{"$f":"-'App.2-BA_Fixed Asset Cont'!K486","v":0},0]
[1990,"Other Tangible Property",645280,null,645280,237558,null,237558,{"$f":"'App.2-BA_Fixed Asset Cont'!E487","v":327110},0,0,0,0,0,0,0,0,{"$f":"-'App.2-BA_Fixed Asset Cont'!K487","v":0},0]
[1995,"Contributions & Grants",-5126899,null,-5126899,-537827,null,-537827,{"$f":"'App.2-BA_Fixed Asset Cont'!E488","v":0},18.759272338115853,5.3306971719162009E-2,25,0.04,-273299.46000000002,-21513.08,0,-294812.54000000004,{"$f":"-'App.2-BA_Fixed Asset Cont'!K488","v":-293730},1082.5400000000373]
[2440,"Deferred Revenue",0,null,0,-581701,null,-581701,{"$f":"'App.2-BA_Fixed Asset Cont'!E489","v":-272609},0,0,25,0.04,0,-23268.04,-5452.18,-28720.22,{"$f":"-'App.2-BA_Fixed Asset Cont'!K489","v":-34173},-5452.7799999999988]
[2005,"Property Under Finance Lease",null,null,0,null,null,0,null,null,0,null,0,0,0,0,0,{"$f":"-'App.2-BA_Fixed Asset Cont'!K490","v":0},0]
[null,"Total",{"$f":"SUM(C183:C222)","v":51040610},2103765.4699999997,48936844.530000001,15786325,0,15786325,7512918,null,null,null,null,{"$f":"SUM(N183:N222)","v":2857777.0541130919},1131906.3544444442,230340.50472222222,4220023.9132797569,4135676,-84347.913279757893]
[]
[]
[]
[]
[]
[null,2017,"Book Values",null,null,null,null,null,null,"Service Lives",null,null,null,"Depreciation Expense"]
["Account","Description","Opening Net  Book Value of Existing Assets as at Date of Policy Change (Jan. 1) 1","Less Fully Depreciated 7","Net Amount of Existing Assets Before Policy Change to be Depreciated ","Opening Gross Book Value of Assets Acquired After Policy Change 2","Less Fully Depreciated 8","Net Amount of Assets Acquired After Policy Change to be Depreciated ","Current Year Additions","Average Remaining Life of Assets Existing Before Policy Change 3","Depreciation Rate Assets Acquired After Policy Change","Life of Assets Acquired After Policy Change 4","Depreciation Rate on New Additions","Depreciation Expense on Assets Existing Before Policy Change","Depreciation Expense on Assets Acquired After Policy Change","Depreciation Expense on Current Year Additions 5","Total Current Year Depreciation Expense ","Depreciation Expense per Appendix 2-BA Fixed Assets, Column J \n ","Variance 6"]
[null,null,"a","b","c = a-b","d","e","f = d- e","g","h","i = 1/h","j","k = 1/j","l = c/h","m = f/j","n = g*0.5/j","o = l+m+n","p","q = p-o"]
[1611,"Computer Software (Formally known as Account 1925)",{"$f":"E183","v":4701960},2245552,{"$f":"C232-D232","v":2456408},{"$f":"+H183+I183","v":3746041},null,{"$f":"F232-G232","v":3746041},{"$f":"'App.2-BA_Fixed Asset Cont'!E541","v":676507},7.67402771125274,{"$f":"IF(J232=0,0,1/J232)","v":0.13030966757308671},{"$f":"+L183","v":5},{"$f":"IF(L232=0,0,1/L232)","v":0.2},{"$f":"IF(J232=0,0,+E232/J232)","v":320093.70990387077},{"$f":"IF(L232=0,0,+H232/L232)","v":749208.2},{"$f":"IF(L232=0,0,+(I232*0.5)/L232)","v":67650.7},{"$f":"IF(ISERROR(+N232+O232+P232), 0, +N232+O232+P232)","v":1136952.6099038706},{"$f":"-'App.2-BA_Fixed Asset Cont'!K541","v":1134358},{"$f":"IF(ISERROR(+R232-Q232), 0, +R232-Q232)","v":-2594.6099038706161}]
[1612,"Land Rights (Formally known as Account 1906)",{"$f":"E184","v":14625},null,{"$f":"C233-D233","v":14625},{"$f":"+H184+I184","v":160000},null,{"$f":"F233-G233","v":160000},{"$f":"'App.2-BA_Fixed Asset Cont'!E542","v":0},{"$f":"+J184","v":13},{"$f":"IF(J233=0,0,1/J233)","v":7.6923076923076927E-2},{"$f":"+L184","v":25},{"$f":"IF(L233=0,0,1/L233)","v":0.04},{"$f":"IF(J233=0,0,+E233/J233)","v":1125},{"$f":"IF(L233=0,0,+H233/L233)","v":6400},{"$f":"IF(L233=0,0,+(I233*0.5)/L233)","v":0},{"$f":"IF(ISERROR(+N233+O233+P233), 0, +N233+O233+P233)","v":7525},{"$f":"-'App.2-BA_Fixed Asset Cont'!K542","v":1192},{"$f":"IF(ISERROR(+R233-Q233), 0, +R233-Q233)","v":-6333}]
[1805,"Land",497489,null,497489,0,null,0,{"$f":"'App.2-BA_Fixed Asset Cont'!E543","v":0},{"$f":"+J185","v":0},0,0,0,0,{"$f":"IF(L234=0,0,+H234/L234)","v":0},0,0,{"$f":"-'App.2-BA_Fixed Asset Cont'!K543","v":0},0]
[1808,"Buildings",0,null,0,0,null,0,{"$f":"'App.2-BA_Fixed Asset Cont'!E544","v":0},0,{"$f":"IF(J235=0,0,1/J235)","v":0},0,0,0,0,0,0,{"$f":"-'App.2-BA_Fixed Asset Cont'!K544","v":0},0]
[1810,"Leasehold Improvements",0,null,0,0,null,0,{"$f":"'App.2-BA_Fixed Asset Cont'!E545","v":0},0,{"$f":"IF(J236=0,0,1/J236)","v":0},0,0,0,0,0,0,{"$f":"-'App.2-BA_Fixed Asset Cont'!K545","v":0},0]
[1815,"Transformer Station Equipment >50 kV",0,null,0,0,null,0,{"$f":"'App.2-BA_Fixed Asset Cont'!E546","v":0},0,0,0,0,0,0,0,0,{"$f":"-'App.2-BA_Fixed Asset Cont'!K546","v":0},0]
[1820,"Distribution Station Equipment <50 kV",3193059,null,3193059,786026,null,786026,{"$f":"'App.2-BA_Fixed Asset Cont'!E547","v":215025},26.580263384325601,3.7621899585453346E-2,40,2.5000000000000001E-2,120128.94506842806,19650.650000000001,2687.8125,142467.40756842805,{"$f":"-'App.2-BA_Fixed Asset Cont'!K547","v":144262},1794.5924315719458]
[1825,"Storage Battery Equipment",0,null,0,0,null,0,{"$f":"'App.2-BA_Fixed Asset Cont'!E548","v":0},0,0,0,0,0,0,0,0,{"$f":"-'App.2-BA_Fixed Asset Cont'!K548","v":0},0]
[1830,"Poles, Towers & Fixtures",2930272,null,2930272,4484926,null,4484926,{"$f":"'App.2-BA_Fixed Asset Cont'!E549","v":2077654},41.752743418487,2.3950522004674468E-2,45,2.2222222222222223E-2,70181.544015681458,99665.022222222222,23085.044444444444,192931.61068234811,{"$f":"-'App.2-BA_Fixed Asset Cont'!K549","v":192314},-617.61068234810955]
[1835,"Overhead Conductors & Devices",9855401,null,9855401,2992058,null,2992058,{"$f":"'App.2-BA_Fixed Asset Cont'!E550","v":709093},34.260180727682901,2.9188404111131272E-2,60,1.6666666666666666E-2,287663.42706524726,49867.633333333331,5909.1083333333336,343440.16873191396,{"$f":"-'App.2-BA_Fixed Asset Cont'!K550","v":351197},7756.8312680860399]
[1840,"Underground Conduit",1182052,null,1182052,815176,null,815176,{"$f":"'App.2-BA_Fixed Asset Cont'!E551","v":283912},48.880589453278901,2.04580184319549E-2,60,1.6666666666666666E-2,24182.441603529151,13586.266666666666,2365.9333333333334,40134.641603529148,{"$f":"-'App.2-BA_Fixed Asset Cont'!K551","v":57318},17183.358396470852]
[1845,"Underground Conductors & Devices",8062761.5300000003,16798,8045963.5300000003,2001556,null,2001556,{"$f":"'App.2-BA_Fixed Asset Cont'!E552","v":391841},23.6895277836445,4.2212745189898239E-2,40,2.5000000000000001E-2,339642.20829910412,50038.9,4898.0124999999998,394579.12079910416,{"$f":"-'App.2-BA_Fixed Asset Cont'!K552","v":389956},-4623.1207991041592]
[1850,"Line Transformers",7257615,null,7257615,3317107,null,3317107,{"$f":"'App.2-BA_Fixed Asset Cont'!E553","v":985822},31.084101332679701,3.2170786901555629E-2,40,2.5000000000000001E-2,233483.18557853365,82927.675000000003,12322.775,328733.63557853369,{"$f":"-'App.2-BA_Fixed Asset Cont'!K553","v":328401},-332.63557853369275]
[1855,"Services (Overhead & Underground)",665779,null,665779,740907,null,740907,{"$f":"'App.2-BA_Fixed Asset Cont'!E554","v":228947},21.514436301568999,4.6480418356444335E-2,25,0.04,30945.686452935151,29636.28,4578.9399999999996,65160.906452935153,{"$f":"-'App.2-BA_Fixed Asset Cont'!K554","v":64085},-1075.9064529351526]
[1860,"Meters",662870,null,662870,75598,null,75598,{"$f":"'App.2-BA_Fixed Asset Cont'!E555","v":155147},13.289325261945701,7.524836515692214E-2,15,6.6666666666666666E-2,49879.88381156898,5039.8666666666668,5171.5666666666666,60091.317144902314,{"$f":"-'App.2-BA_Fixed Asset Cont'!K555","v":46213},-13878.317144902314]
[1860,"Meters (Smart Meters)",4242960,null,4242960,926110,null,926110,{"$f":"'App.2-BA_Fixed Asset Cont'!E556","v":217471},13.289325261945701,7.524836515692214E-2,15,6.6666666666666666E-2,319275.80342621438,61740.666666666664,7249.0333333333338,388265.50342621439,{"$f":"-'App.2-BA_Fixed Asset Cont'!K556","v":357592},-30673.503426214389]
[1905,"Land",0,null,0,0,null,0,{"$f":"'App.2-BA_Fixed Asset Cont'!E557","v":0},0,0,0,0,0,0,0,0,{"$f":"-'App.2-BA_Fixed Asset Cont'!K557","v":0},0]
[1908,"Buildings & Fixtures",6103208,null,6103208,806837,null,806837,{"$f":"'App.2-BA_Fixed Asset Cont'!E558","v":86507},39.022101997375401,2.5626502643739162E-2,60,1.6666666666666666E-2,156403.87594729001,13447.283333333333,720.89166666666665,170572.05094729,{"$f":"-'App.2-BA_Fixed Asset Cont'!K558","v":183558},12985.949052709999]
[1910,"Leasehold Improvements",0,null,0,0,null,0,{"$f":"'App.2-BA_Fixed Asset Cont'!E559","v":0},0,0,0,0,0,0,0,0,{"$f":"-'App.2-BA_Fixed Asset Cont'!K559","v":0},0]
[1915,"Office Furniture & Equipment (10 years)",199769,null,199769,163332,null,163332,{"$f":"'App.2-BA_Fixed Asset Cont'!E560","v":38361},7,0.14285714285714285,10,0.1,28538.428571428572,16333.2,1918.05,46789.67857142858,{"$f":"-'App.2-BA_Fixed Asset Cont'!K560","v":47282},492.32142857142026]
[1915,"Office Furniture & Equipment (5 years)",0,null,0,0,null,0,{"$f":"'App.2-BA_Fixed Asset Cont'!E561","v":0},0,0,0,0,0,0,0,0,{"$f":"-'App.2-BA_Fixed Asset Cont'!K561","v":0},0]
[1920,"Computer Equipment - Hardware",1114353,268881,845472,1396274,null,1396274,{"$f":"'App.2-BA_Fixed Asset Cont'!E562","v":340751},6.3670204498188996,0.15705933534867844,5,0.2,132789.27037591787,279254.8,34075.1,446119.17037591781,{"$f":"-'App.2-BA_Fixed Asset Cont'!K562","v":451341},5221.8296240821946]
[1920,"Computer Equip.-Hardware(Post Mar. 22/04)",0,null,0,0,null,0,{"$f":"'App.2-BA_Fixed Asset Cont'!E563","v":0},0,0,0,0,0,0,0,0,{"$f":"-'App.2-BA_Fixed Asset Cont'!K563","v":0},0]
[1920,"Computer Equip.-Hardware(Post Mar. 19/07)",0,null,0,0,null,0,{"$f":"'App.2-BA_Fixed Asset Cont'!E564","v":0},0,0,0,0,0,0,0,0,{"$f":"-'App.2-BA_Fixed Asset Cont'!K564","v":0},0]
[1930,"Transportation Equipment",1830663,154842,1675821,1132953,null,1132953,{"$f":"'App.2-BA_Fixed Asset Cont'!E565","v":1219505},7.14564261261925,0.13994542607462535,10,0.1,234523.48386980474,113295.3,60975.25,408794.03386980476,{"$f":"-'App.2-BA_Fixed Asset Cont'!K565","v":439852},31057.966130195244]
[1935,"Stores Equipment",0,null,0,0,null,0,{"$f":"'App.2-BA_Fixed Asset Cont'!E566","v":0},0,0,10,0.1,0,0,0,0,{"$f":"-'App.2-BA_Fixed Asset Cont'!K566","v":53},53]
[1940,"Tools, Shop & Garage Equipment",169956,null,169956,152668,null,152668,{"$f":"'App.2-BA_Fixed Asset Cont'!E567","v":157579},7.0117365788252304,0.14261802176366747,10,0.1,24238.788506865869,15266.8,7878.95,47384.538506865865,{"$f":"-'App.2-BA_Fixed Asset Cont'!K567","v":53470},6085.4614931341348]
[1945,"Measurement & Testing Equipment",116756,null,116756,0,null,0,{"$f":"'App.2-BA_Fixed Asset Cont'!E568","v":0},7,0.14285714285714285,10,0.1,16679.428571428572,0,0,16679.428571428572,{"$f":"-'App.2-BA_Fixed Asset Cont'!K568","v":13224},-3455.4285714285725]
[1950,"Power Operated Equipment",0,null,0,0,null,0,{"$f":"'App.2-BA_Fixed Asset Cont'!E569","v":0},0,0,0,0,0,0,0,0,{"$f":"-'App.2-BA_Fixed Asset Cont'!K569","v":0},0]
[1955,"Communications Equipment",71875,null,71875,0,null,0,{"$f":"'App.2-BA_Fixed Asset Cont'!E570","v":0},7,0.14285714285714285,10,0.1,10267.857142857143,0,0,10267.857142857143,{"$f":"-'App.2-BA_Fixed Asset Cont'!K570","v":9185},-1082.8571428571431]
[1955,"Communication Equipment (Smart Meters)",0,null,0,0,null,0,{"$f":"'App.2-BA_Fixed Asset Cont'!E571","v":0},0,0,0,0,0,0,0,0,{"$f":"-'App.2-BA_Fixed Asset Cont'!K571","v":0},0]
[1960,"Miscellaneous Equipment ",66518,null,66518,92150,null,92150,{"$f":"'App.2-BA_Fixed Asset Cont'!E572","v":0},5,0.2,10,0.1,13303.6,9215,0,22518.6,{"$f":"-'App.2-BA_Fixed Asset Cont'!K572","v":20997},-1521.5999999999985]
[1970,"Load Management Controls Customer Premises",0,null,0,0,null,0,{"$f":"'App.2-BA_Fixed Asset Cont'!E573","v":0},0,0,0,0,0,0,0,0,{"$f":"-'App.2-BA_Fixed Asset Cont'!K573","v":0},0]
[1975,"Load Management Controls Utility Premises",0,null,0,0,null,0,{"$f":"'App.2-BA_Fixed Asset Cont'!E574","v":0},0,0,0,0,0,0,0,0,{"$f":"-'App.2-BA_Fixed Asset Cont'!K574","v":0},0]
[1980,"System Supervisor Equipment",478522,null,478522,336993,null,336993,{"$f":"'App.2-BA_Fixed Asset Cont'!E575","v":13180},12.1568368904274,8.2258239459264706E-2,10,0.1,39362.377262526265,33699.300000000003,659,73720.677262526267,{"$f":"-'App.2-BA_Fixed Asset Cont'!K575","v":50421},-23299.677262526267]
[1985,"Miscellaneous Fixed Assets",0,null,0,0,null,0,{"$f":"'App.2-BA_Fixed Asset Cont'!E576","v":0},0,0,0,0,0,0,0,0,{"$f":"-'App.2-BA_Fixed Asset Cont'!K576","v":0},0]
[1990,"Other Tangible Property",645280,null,645280,564668,null,564668,{"$f":"'App.2-BA_Fixed Asset Cont'!E577","v":-110183},0,0,0,0,0,0,0,0,{"$f":"-'App.2-BA_Fixed Asset Cont'!K577","v":0},0]
[1995,"Contributions & Grants",-5126899,null,-5126899,-537827,null,-537827,{"$f":"'App.2-BA_Fixed Asset Cont'!E578","v":0},18.759272338115853,5.3306971719162009E-2,25,0.04,-273299.46000000002,-21513.08,0,-294812.54000000004,{"$f":"-'App.2-BA_Fixed Asset Cont'!K578","v":-293730},1082.5400000000373]
[2440,"Deferred Revenue",0,null,0,-854310,null,-854310,{"$f":"'App.2-BA_Fixed Asset Cont'!E579","v":-204153},0,0,25,0.04,0,-34172.400000000001,-4083.06,-38255.46,{"$f":"-'App.2-BA_Fixed Asset Cont'!K579","v":-42338},-4082.5400000000009]
[2005,"Property Under Finance Lease",null,null,0,null,null,0,null,null,0,null,0,0,0,0,0,0,0]
[null,"Total",{"$f":"SUM(C232:C271)","v":48936844.530000001},2686073,46250771.530000001,23299243,0,23299243,7482966,null,null,null,null,{"$f":"SUM(N232:N271)","v":2179409.4854732323},1592587.3638888893,238063.10777777777,4010059.9571398972,4000203,-9856.9571398985499]
[]
[]
[]
[]
[]
[]
[null,2018,"Book Values",null,null,null,null,null,null,"Service Lives",null,null,null,"Depreciation Expense"]
["Account","Description","Opening Net  Book Value of Existing Assets as at Date of Policy Change (Jan. 1) 1","Less Fully Depreciated 7","Net Amount of Existing Assets Before Policy Change to be Depreciated ","Opening Gross Book Value of Assets Acquired After Policy Change 2","Less Fully Depreciated 8","Net Amount of Assets Acquired After Policy Change to be Depreciated ","Current Year Additions","Average Remaining Life of Assets Existing Before Policy Change 3","Depreciation Rate Assets Acquired After Policy Change","Life of Assets Acquired After Policy Change 4","Depreciation Rate on New Additions","Depreciation Expense on Assets Existing Before Policy Change","Depreciation Expense on Assets Acquired After Policy Change","Depreciation Expense on Current Year Additions 5","Total Current Year Depreciation Expense ","Depreciation Expense per Appendix 2-BA Fixed Assets, Column J \n ","Variance 6"]
[null,null,"a","b","c = a-b","d","e","f = d- e","g","h","i = 1/h","j","k = 1/j","l = c/h","m = f/j","n = g*0.5/j","o = l+m+n","p","q = p-o"]
[1609,"Capital Contributions Paid",0,null,{"$f":"C282-D282","v":0},0,null,{"$f":"F282-G282","v":0},{"$f":"'App.2-BA_Fixed Asset Cont'!E630","v":1190000},0,{"$f":"IF(J282=0,0,1/J282)","v":0},50,{"$f":"IF(L282=0,0,1/L282)","v":0.02},{"$f":"IF(J282=0,0,+E282/J282)","v":0},{"$f":"IF(L282=0,0,+H282/L282)","v":0},{"$f":"IF(L282=0,0,+(I282*0.5)/L282)","v":11900},{"$f":"IF(ISERROR(+N282+O282+P282), 0, +N282+O282+P282)","v":11900},{"$f":"-'App.2-BA_Fixed Asset Cont'!K630","v":0},{"$f":"IF(ISERROR(+R282-Q282), 0, +R282-Q282)","v":-11900}]
[1611,"Computer Software (Formally known as Account 1925)",{"$f":"E232","v":2456408},{"$f":"2456591-183","v":2456408},{"$f":"C283-D283","v":0},{"$f":"+H232+I232","v":4422548},null,{"$f":"F283-G283","v":4422548},{"$f":"'App.2-BA_Fixed Asset Cont'!E631","v":606370},0,{"$f":"IF(J283=0,0,1/J283)","v":0},{"$f":"+L232","v":5},{"$f":"IF(L283=0,0,1/L283)","v":0.2},{"$f":"IF(J283=0,0,+E283/J283)","v":0},{"$f":"IF(L283=0,0,+H283/L283)","v":884509.6},{"$f":"IF(L283=0,0,+(I283*0.5)/L283)","v":60637},{"$f":"IF(ISERROR(+N283+O283+P283), 0, +N283+O283+P283)","v":945146.6},{"$f":"-'App.2-BA_Fixed Asset Cont'!K631","v":867902},{"$f":"IF(ISERROR(+R283-Q283), 0, +R283-Q283)","v":-77244.599999999977}]
[1612,"Land Rights (Formally known as Account 1906)",{"$f":"E233","v":14625},null,{"$f":"C284-D284","v":14625},{"$f":"+H233+I233","v":160000},null,{"$f":"F284-G284","v":160000},{"$f":"'App.2-BA_Fixed Asset Cont'!E632","v":0},{"$f":"+J233","v":13},{"$f":"IF(J284=0,0,1/J284)","v":7.6923076923076927E-2},{"$f":"+L233","v":25},{"$f":"IF(L284=0,0,1/L284)","v":0.04},{"$f":"IF(J284=0,0,+E284/J284)","v":1125},{"$f":"IF(L284=0,0,+H284/L284)","v":6400},{"$f":"IF(L284=0,0,+(I284*0.5)/L284)","v":0},{"$f":"IF(ISERROR(+N284+O284+P284), 0, +N284+O284+P284)","v":7525},{"$f":"-'App.2-BA_Fixed Asset Cont'!K632","v":1192},{"$f":"IF(ISERROR(+R284-Q284), 0, +R284-Q284)","v":-6333}]
[1805,"Land",497489,null,497489,0,null,0,{"$f":"'App.2-BA_Fixed Asset Cont'!E633","v":0},{"$f":"+J234","v":0},0,0,0,0,{"$f":"IF(L285=0,0,+H285/L285)","v":0},0,0,{"$f":"-'App.2-BA_Fixed Asset Cont'!K633","v":0},0]
[1808,"Buildings",0,null,0,0,null,0,{"$f":"'App.2-BA_Fixed Asset Cont'!E634","v":0},0,{"$f":"IF(J286=0,0,1/J286)","v":0},0,0,0,0,0,0,{"$f":"-'App.2-BA_Fixed Asset Cont'!K634","v":0},0]
[1810,"Leasehold Improvements",0,null,0,0,null,0,{"$f":"'App.2-BA_Fixed Asset Cont'!E635","v":0},0,{"$f":"IF(J287=0,0,1/J287)","v":0},0,0,0,0,0,0,{"$f":"-'App.2-BA_Fixed Asset Cont'!K635","v":0},0]
[1815,"Transformer Station Equipment >50 kV",0,null,0,0,null,0,{"$f":"'App.2-BA_Fixed Asset Cont'!E636","v":0},0,0,0,0,0,0,0,0,{"$f":"-'App.2-BA_Fixed Asset Cont'!K636","v":0},0]
[1820,"Distribution Station Equipment <50 kV",3193059,null,3193059,1001051,null,1001051,{"$f":"'App.2-BA_Fixed Asset Cont'!E637","v":621956},26.580263384325601,3.7621899585453346E-2,40,2.5000000000000001E-2,120128.94506842806,25026.275000000001,7774.45,152929.67006842807,{"$f":"-'App.2-BA_Fixed Asset Cont'!K637","v":157880},4950.3299315719341]
[1825,"Storage Battery Equipment",0,null,0,0,null,0,{"$f":"'App.2-BA_Fixed Asset Cont'!E638","v":0},0,0,0,0,0,0,0,0,{"$f":"-'App.2-BA_Fixed Asset Cont'!K638","v":0},0]
[1830,"Poles, Towers & Fixtures",2930272,null,2930272,6562580,null,6562580,{"$f":"'App.2-BA_Fixed Asset Cont'!E639","v":2268677},41.752743418487,2.3950522004674468E-2,45,2.2222222222222223E-2,70181.544015681458,145835.11111111112,25207.522222222222,241224.17734901479,{"$f":"-'App.2-BA_Fixed Asset Cont'!K639","v":237465},-3759.1773490147898]
[1835,"Overhead Conductors & Devices",9855401,null,9855401,3701151,null,3701151,{"$f":"'App.2-BA_Fixed Asset Cont'!E640","v":606308},34.260180727682901,2.9188404111131272E-2,60,1.6666666666666666E-2,287663.42706524726,61685.85,5052.5666666666666,354401.84373191389,{"$f":"-'App.2-BA_Fixed Asset Cont'!K640","v":365788},11386.15626808611]
[1840,"Underground Conduit",1182052,null,1182052,1099088,null,1099088,{"$f":"'App.2-BA_Fixed Asset Cont'!E641","v":520811},48.880589453278901,2.04580184319549E-2,60,1.6666666666666666E-2,24182.441603529151,18318.133333333335,4340.0916666666662,46840.666603529149,{"$f":"-'App.2-BA_Fixed Asset Cont'!K641","v":70880},24039.333396470851]
[1845,"Underground Conductors & Devices",8045963.5300000003,null,8045963.5300000003,2393397,null,2393397,{"$f":"'App.2-BA_Fixed Asset Cont'!E642","v":548355},23.6895277836445,4.2212745189898239E-2,40,2.5000000000000001E-2,339642.20829910412,59834.925000000003,6854.4375,406331.57079910411,{"$f":"-'App.2-BA_Fixed Asset Cont'!K642","v":400287},-6044.5707991041127]
[1850,"Line Transformers",7257615,null,7257615,4302929,null,4302929,{"$f":"'App.2-BA_Fixed Asset Cont'!E643","v":731696},31.084101332679701,3.2170786901555629E-2,40,2.5000000000000001E-2,233483.18557853365,107573.22500000001,9146.2000000000007,350202.61057853367,{"$f":"-'App.2-BA_Fixed Asset Cont'!K643","v":347966},-2236.6105785336695]
[1855,"Services (Overhead & Underground)",665779,null,665779,969854,null,969854,{"$f":"'App.2-BA_Fixed Asset Cont'!E644","v":212043},21.514436301568999,4.6480418356444335E-2,25,0.04,30945.686452935151,38794.160000000003,4240.8599999999997,73980.706452935163,{"$f":"-'App.2-BA_Fixed Asset Cont'!K644","v":72037},-1943.7064529351628]
[1860,"Meters",662870,null,662870,230745,null,230745,{"$f":"'App.2-BA_Fixed Asset Cont'!E645","v":168726},13.289325261945701,7.524836515692214E-2,15,6.6666666666666666E-2,49879.88381156898,15383,5624.2,70887.083811568984,{"$f":"-'App.2-BA_Fixed Asset Cont'!K645","v":53932},-16955.083811568984]
[1860,"Meters (Smart Meters)",4242960,null,4242960,1143581,null,1143581,{"$f":"'App.2-BA_Fixed Asset Cont'!E646","v":105557},13.289325261945701,7.524836515692214E-2,15,6.6666666666666666E-2,319275.80342621438,76238.733333333337,3518.5666666666666,399033.10342621437,{"$f":"-'App.2-BA_Fixed Asset Cont'!K646","v":370053},-28980.103426214366]
[1905,"Land",0,null,0,0,null,0,{"$f":"'App.2-BA_Fixed Asset Cont'!E647","v":0},0,0,0,0,0,0,0,0,{"$f":"-'App.2-BA_Fixed Asset Cont'!K647","v":0},0]
[1908,"Buildings & Fixtures",6103208,null,6103208,893344,null,893344,{"$f":"'App.2-BA_Fixed Asset Cont'!E648","v":134144},39.022101997375401,2.5626502643739162E-2,60,1.6666666666666666E-2,156403.87594729001,14889.066666666668,1117.8666666666666,172410.80928062336,{"$f":"-'App.2-BA_Fixed Asset Cont'!K648","v":189284},16873.190719376638]
[1910,"Leasehold Improvements",0,null,0,0,null,0,{"$f":"'App.2-BA_Fixed Asset Cont'!E649","v":0},0,0,0,0,0,0,0,0,{"$f":"-'App.2-BA_Fixed Asset Cont'!K649","v":0},0]
[1915,"Office Furniture & Equipment (10 years)",199769,null,199769,201693,null,201693,{"$f":"'App.2-BA_Fixed Asset Cont'!E650","v":26291},7,0.14285714285714285,10,0.1,28538.428571428572,20169.3,1314.55,50022.278571428571,{"$f":"-'App.2-BA_Fixed Asset Cont'!K650","v":47547},-2475.278571428571]
[1915,"Office Furniture & Equipment (5 years)",0,null,0,0,null,0,{"$f":"'App.2-BA_Fixed Asset Cont'!E651","v":0},0,0,0,0,0,0,0,0,{"$f":"-'App.2-BA_Fixed Asset Cont'!K651","v":0},0]
[1920,"Computer Equipment - Hardware",845472,845472,0,1737025,null,1737025,{"$f":"'App.2-BA_Fixed Asset Cont'!E652","v":526822},0,0,5,0.2,0,347405,52682.2,400087.2,{"$f":"-'App.2-BA_Fixed Asset Cont'!K652","v":328981},-71106.200000000012]
[1920,"Computer Equip.-Hardware(Post Mar. 22/04)",0,null,0,0,null,0,{"$f":"'App.2-BA_Fixed Asset Cont'!E653","v":0},0,0,0,0,0,0,0,0,{"$f":"-'App.2-BA_Fixed Asset Cont'!K653","v":0},0]
[1920,"Computer Equip.-Hardware(Post Mar. 19/07)",0,null,0,0,null,0,{"$f":"'App.2-BA_Fixed Asset Cont'!E654","v":0},0,0,0,0,0,0,0,0,{"$f":"-'App.2-BA_Fixed Asset Cont'!K654","v":0},0]
[1930,"Transportation Equipment",1675821,204755,1471066,2352458,17350,2335108,{"$f":"'App.2-BA_Fixed Asset Cont'!E655","v":600856},7.5995606276383603,0.13158655467043232,10,0.1,193572.50663281418,233510.8,30042.799999999999,457126.10663281416,{"$f":"-'App.2-BA_Fixed Asset Cont'!K655","v":465949},8822.8933671858395]
[1935,"Stores Equipment",0,null,0,0,null,0,{"$f":"'App.2-BA_Fixed Asset Cont'!E656","v":0},0,0,10,0.1,0,0,0,0,{"$f":"-'App.2-BA_Fixed Asset Cont'!K656","v":0},0]
[1940,"Tools, Shop & Garage Equipment",169956,null,169956,310247,null,310247,{"$f":"'App.2-BA_Fixed Asset Cont'!E657","v":129588},7.0117365788252304,0.14261802176366747,10,0.1,24238.788506865869,31024.7,6479.4,61742.888506865871,{"$f":"-'App.2-BA_Fixed Asset Cont'!K657","v":62794},1051.111493134129]
[1945,"Measurement & Testing Equipment",116756,null,116756,0,null,0,{"$f":"'App.2-BA_Fixed Asset Cont'!E658","v":0},7,0.14285714285714285,10,0.1,16679.428571428572,0,0,16679.428571428572,{"$f":"-'App.2-BA_Fixed Asset Cont'!K658","v":13224},-3455.4285714285725]
[1950,"Power Operated Equipment",0,null,0,0,null,0,{"$f":"'App.2-BA_Fixed Asset Cont'!E659","v":0},0,0,0,0,0,0,0,0,{"$f":"-'App.2-BA_Fixed Asset Cont'!K659","v":0},0]
[1955,"Communications Equipment",71875,null,71875,0,null,0,{"$f":"'App.2-BA_Fixed Asset Cont'!E660","v":0},7,0.14285714285714285,10,0.1,10267.857142857143,0,0,10267.857142857143,{"$f":"-'App.2-BA_Fixed Asset Cont'!K660","v":8979},-1288.8571428571431]
[1955,"Communication Equipment (Smart Meters)",0,null,0,0,null,0,{"$f":"'App.2-BA_Fixed Asset Cont'!E661","v":0},0,0,0,0,0,0,0,0,{"$f":"-'App.2-BA_Fixed Asset Cont'!K661","v":0},0]
[1960,"Miscellaneous Equipment ",66518,66518,0,92150,null,92150,{"$f":"'App.2-BA_Fixed Asset Cont'!E662","v":10933},0,0,10,0.1,0,9215,546.65,9761.65,{"$f":"-'App.2-BA_Fixed Asset Cont'!K662","v":16669},6907.35]
[1970,"Load Management Controls Customer Premises",0,null,0,0,null,0,{"$f":"'App.2-BA_Fixed Asset Cont'!E663","v":0},0,0,0,0,0,0,0,0,{"$f":"-'App.2-BA_Fixed Asset Cont'!K663","v":0},0]
[1975,"Load Management Controls Utility Premises",0,null,0,0,null,0,{"$f":"'App.2-BA_Fixed Asset Cont'!E664","v":0},0,0,0,0,0,0,0,0,{"$f":"-'App.2-BA_Fixed Asset Cont'!K664","v":0},0]
[1980,"System Supervisor Equipment",478522,null,478522,350173,null,350173,{"$f":"'App.2-BA_Fixed Asset Cont'!E665","v":7222},12.1568368904274,8.2258239459264706E-2,10,0.1,39362.377262526265,35017.300000000003,361.1,74740.777262526273,{"$f":"-'App.2-BA_Fixed Asset Cont'!K665","v":49467},-25273.777262526273]
[1985,"Miscellaneous Fixed Assets",0,null,0,0,null,0,{"$f":"'App.2-BA_Fixed Asset Cont'!E666","v":0},0,0,0,0,0,0,0,0,{"$f":"-'App.2-BA_Fixed Asset Cont'!K666","v":0},0]
[1990,"Other Tangible Property",645280,null,645280,454485,null,454485,{"$f":"'App.2-BA_Fixed Asset Cont'!E667","v":190854},0,0,0,0,0,0,0,0,{"$f":"-'App.2-BA_Fixed Asset Cont'!K667","v":0},0]
[1995,"Contributions & Grants",-5126899,null,-5126899,-537827,null,-537827,{"$f":"'App.2-BA_Fixed Asset Cont'!E668","v":0},18.759272338115853,5.3306971719162009E-2,25,0.04,-273299.46000000002,-21513.08,0,-294812.54000000004,{"$f":"-'App.2-BA_Fixed Asset Cont'!K668","v":-293730},1082.5400000000373]
[2440,"Deferred Revenue",0,null,0,-1058463,null,-1058463,{"$f":"'App.2-BA_Fixed Asset Cont'!E669","v":-364309},0,0,25,0.04,0,-42338.52,-7286.18,-49624.7,{"$f":"-'App.2-BA_Fixed Asset Cont'!K669","v":-56911},-7286.3000000000029]
[2005,"Property Under Finance Lease",null,null,0,null,null,0,null,null,0,null,0,0,0,0,0,{"$f":"-'App.2-BA_Fixed Asset Cont'!K670","v":0},0]
[null,"Total",{"$f":"SUM(C282:C322)","v":46250771.530000001},{"$f":"SUM(D282:D322)","v":3573153},42677618.530000001,30782209,17350,30764859,8842900,null,null,null,null,{"$f":"SUM(N282:N322)","v":1672271.9279564533},2066978.5794444443,229554.28138888886,3968804.7887897864,3777635,-191169.78878978611]
[]
[]
[]
[]
[]
[]
[null,2019,"Book Values",null,null,null,null,null,null,"Service Lives",null,null,null,"Depreciation Expense"]
["Account","Description","Opening Net  Book Value of Existing Assets as at Date of Policy Change (Jan. 1) 1","Less Fully Depreciated 7","Net Amount of Existing Assets Before Policy Change to be Depreciated ","Opening Gross Book Value of Assets Acquired After Policy Change 2","Less Fully Depreciated 8","Net Amount of Assets Acquired After Policy Change to be Depreciated ","Current Year Additions","Average Remaining Life of Assets Existing Before Policy Change 3","Depreciation Rate Assets Acquired After Policy Change","Life of Assets Acquired After Policy Change 4","Depreciation Rate on New Additions","Depreciation Expense on Assets Existing Before Policy Change","Depreciation Expense on Assets Acquired After Policy Change","Depreciation Expense on Current Year Additions 5","Total Current Year Depreciation Expense ","Depreciation Expense per Appendix 2-BA Fixed Assets, Column J \n ","Variance 6"]
[null,null,"a","b","c = a-b","d","e","f = d- e","g","h","i = 1/h","j","k = 1/j","l = c/h","m = f/j","n = g*0.5/j","o = l+m+n","p","q = p-o"]
[1609,"Capital Contributions Paid",{"$f":"+C282","v":0},null,{"$f":"C333-D333","v":0},{"$f":"+H282+I282","v":1190000},null,{"$f":"F333-G333","v":1190000},{"$f":"'App.2-BA_Fixed Asset Cont'!E720","v":0},{"$f":"+J282","v":0},{"$f":"IF(J333=0,0,1/J333)","v":0},{"$f":"+L282","v":50},{"$f":"IF(L333=0,0,1/L333)","v":0.02},{"$f":"IF(J333=0,0,+E333/J333)","v":0},{"$f":"IF(L333=0,0,+H333/L333)","v":23800},{"$f":"IF(L333=0,0,+(I333*0.5)/L333)","v":0},{"$f":"IF(ISERROR(+N333+O333+P333), 0, +N333+O333+P333)","v":23800},{"$f":"-'App.2-BA_Fixed Asset Cont'!K720","v":26444},{"$f":"IF(ISERROR(+R333-Q333), 0, +R333-Q333)","v":2644}]
[1611,"Computer Software (Formally known as Account 1925)",{"$f":"E283","v":0},null,{"$f":"C334-D334","v":0},{"$f":"+H283+I283","v":5028918},989635,{"$f":"F334-G334","v":4039283},{"$f":"'App.2-BA_Fixed Asset Cont'!E721","v":929373},{"$f":"+J283","v":0},{"$f":"IF(J334=0,0,1/J334)","v":0},{"$f":"+L283","v":5},{"$f":"IF(L334=0,0,1/L334)","v":0.2},{"$f":"IF(J334=0,0,+E334/J334)","v":0},{"$f":"IF(L334=0,0,+H334/L334)","v":807856.6},{"$f":"IF(L334=0,0,+(I334*0.5)/L334)","v":92937.3},{"$f":"IF(ISERROR(+N334+O334+P334), 0, +N334+O334+P334)","v":900793.9},{"$f":"-'App.2-BA_Fixed Asset Cont'!K721","v":822468},{"$f":"IF(ISERROR(+R334-Q334), 0, +R334-Q334)","v":-78325.900000000023}]
[1612,"Land Rights (Formally known as Account 1906)",{"$f":"E284","v":14625},null,{"$f":"C335-D335","v":14625},160000,null,{"$f":"F335-G335","v":160000},{"$f":"'App.2-BA_Fixed Asset Cont'!E722","v":0},13,{"$f":"IF(J335=0,0,1/J335)","v":7.6923076923076927E-2},25,{"$f":"IF(L335=0,0,1/L335)","v":0.04},{"$f":"IF(J335=0,0,+E335/J335)","v":1125},{"$f":"IF(L335=0,0,+H335/L335)","v":6400},{"$f":"IF(L335=0,0,+(I335*0.5)/L335)","v":0},{"$f":"IF(ISERROR(+N335+O335+P335), 0, +N335+O335+P335)","v":7525},{"$f":"-'App.2-BA_Fixed Asset Cont'!K722","v":1192},{"$f":"IF(ISERROR(+R335-Q335), 0, +R335-Q335)","v":-6333}]
[1805,"Land",497489,null,497489,0,null,0,{"$f":"'App.2-BA_Fixed Asset Cont'!E723","v":0},0,0,0,0,0,{"$f":"IF(L336=0,0,+H336/L336)","v":0},0,0,{"$f":"-'App.2-BA_Fixed Asset Cont'!K723","v":0},0]
[1808,"Buildings",0,null,0,0,null,0,{"$f":"'App.2-BA_Fixed Asset Cont'!E724","v":0},0,{"$f":"IF(J337=0,0,1/J337)","v":0},0,0,0,0,0,0,{"$f":"-'App.2-BA_Fixed Asset Cont'!K724","v":0},0]
[1810,"Leasehold Improvements",0,null,0,0,null,0,{"$f":"'App.2-BA_Fixed Asset Cont'!E725","v":0},0,{"$f":"IF(J338=0,0,1/J338)","v":0},0,0,0,0,0,0,{"$f":"-'App.2-BA_Fixed Asset Cont'!K725","v":0},0]
[1815,"Transformer Station Equipment >50 kV",0,null,0,0,null,0,{"$f":"'App.2-BA_Fixed Asset Cont'!E726","v":0},0,0,0,0,0,0,0,0,{"$f":"-'App.2-BA_Fixed Asset Cont'!K726","v":0},0]
[1820,"Distribution Station Equipment <50 kV",3193059,null,3193059,1623007,null,1623007,{"$f":"'App.2-BA_Fixed Asset Cont'!E727","v":80682},26.580263384325601,3.7621899585453346E-2,40,2.5000000000000001E-2,120128.94506842806,40575.175000000003,1008.525,161712.64506842804,{"$f":"-'App.2-BA_Fixed Asset Cont'!K727","v":172043},10330.354931571957]
[1825,"Storage Battery Equipment",0,null,0,0,null,0,{"$f":"'App.2-BA_Fixed Asset Cont'!E728","v":0},0,0,0,0,0,0,0,0,{"$f":"-'App.2-BA_Fixed Asset Cont'!K728","v":0},0]
[1830,"Poles, Towers & Fixtures",2930272,null,2930272,8831257,null,8831257,{"$f":"'App.2-BA_Fixed Asset Cont'!E729","v":2742059},41.752743418487,2.3950522004674468E-2,45,2.2222222222222223E-2,70181.544015681458,196250.15555555557,30467.322222222221,296899.02179345925,{"$f":"-'App.2-BA_Fixed Asset Cont'!K729","v":297915},1015.9782065407489]
[1835,"Overhead Conductors & Devices",9855401,null,9855401,4307459,null,4307459,{"$f":"'App.2-BA_Fixed Asset Cont'!E730","v":1170522},34.260180727682901,2.9188404111131272E-2,60,1.6666666666666666E-2,287663.42706524726,71790.983333333337,9754.35,369208.76039858058,{"$f":"-'App.2-BA_Fixed Asset Cont'!K730","v":380186},10977.239601419424]
[1840,"Underground Conduit",1182052,null,1182052,1619899,null,1619899,{"$f":"'App.2-BA_Fixed Asset Cont'!E731","v":308346},48.880589453278901,2.04580184319549E-2,60,1.6666666666666666E-2,24182.441603529151,26998.316666666666,2569.5500000000002,53750.308270195819,{"$f":"-'App.2-BA_Fixed Asset Cont'!K731","v":56448},2697.6917298041808]
[1845,"Underground Conductors & Devices",8045963.5300000003,null,8045963.5300000003,2941752,null,2941752,{"$f":"'App.2-BA_Fixed Asset Cont'!E732","v":651572},23.6895277836445,4.2212745189898239E-2,40,2.5000000000000001E-2,339642.20829910412,73543.8,8144.65,421330.65829910414,{"$f":"-'App.2-BA_Fixed Asset Cont'!K732","v":416648},-4682.6582991041359]
[1850,"Line Transformers",7257615,null,7257615,5034625,null,5034625,{"$f":"'App.2-BA_Fixed Asset Cont'!E733","v":1527895},31.084101332679701,3.2170786901555629E-2,40,2.5000000000000001E-2,233483.18557853365,125865.625,19098.6875,378447.49807853368,{"$f":"-'App.2-BA_Fixed Asset Cont'!K733","v":380666},2218.5019214663189]
[1855,"Services (Overhead & Underground)",665779,null,665779,1181897,null,1181897,{"$f":"'App.2-BA_Fixed Asset Cont'!E734","v":205473},21.514436301568999,4.6480418356444335E-2,25,0.04,30945.686452935151,47275.88,4109.46,82331.026452935155,{"$f":"-'App.2-BA_Fixed Asset Cont'!K734","v":81189},-1142.0264529351552]
[1860,"Meters",662870,null,662870,399471,null,399471,{"$f":"'App.2-BA_Fixed Asset Cont'!E735","v":218986},13.289325261945701,7.524836515692214E-2,15,6.6666666666666666E-2,49879.88381156898,26631.4,7299.5333333333338,83810.817144902321,{"$f":"-'App.2-BA_Fixed Asset Cont'!K735","v":73246},-10564.817144902321]
[1860,"Meters (Smart Meters)",4242960,null,4242960,1249138,null,1249138,{"$f":"'App.2-BA_Fixed Asset Cont'!E736","v":73154},13.289325261945701,7.524836515692214E-2,15,6.6666666666666666E-2,319275.80342621438,83275.866666666669,2438.4666666666667,404990.13675954775,{"$f":"-'App.2-BA_Fixed Asset Cont'!K736","v":375158},-29832.13675954775]
[1905,"Land",0,null,0,0,null,0,{"$f":"'App.2-BA_Fixed Asset Cont'!E737","v":0},0,0,0,0,0,0,0,0,{"$f":"-'App.2-BA_Fixed Asset Cont'!K737","v":0},0]
[1908,"Buildings & Fixtures",6103208,null,6103208,1027488,null,1027488,{"$f":"'App.2-BA_Fixed Asset Cont'!E738","v":217530},39.022101997375401,2.5626502643739162E-2,60,1.6666666666666666E-2,156403.87594729001,17124.8,1812.75,175341.42594729,{"$f":"-'App.2-BA_Fixed Asset Cont'!K738","v":191897},16555.574052709999]
[1910,"Leasehold Improvements",0,null,0,0,null,0,{"$f":"'App.2-BA_Fixed Asset Cont'!E739","v":0},0,0,0,0,0,0,0,0,{"$f":"-'App.2-BA_Fixed Asset Cont'!K739","v":0},0]
[1915,"Office Furniture & Equipment (10 years)",199769,null,199769,227984,null,227984,{"$f":"'App.2-BA_Fixed Asset Cont'!E740","v":37679},7,0.14285714285714285,10,0.1,28538.428571428572,22798.400000000001,1883.95,53220.778571428571,{"$f":"-'App.2-BA_Fixed Asset Cont'!K740","v":43142},-10078.778571428571]
[1915,"Office Furniture & Equipment (5 years)",0,null,0,0,null,0,{"$f":"'App.2-BA_Fixed Asset Cont'!E741","v":0},0,0,0,0,0,0,0,0,{"$f":"-'App.2-BA_Fixed Asset Cont'!K741","v":0},0]
[1920,"Computer Equipment - Hardware",0,null,0,2263847,554938,1708909,{"$f":"'App.2-BA_Fixed Asset Cont'!E742","v":809945},0,0,5,0.2,0,341781.8,80994.5,422776.3,{"$f":"-'App.2-BA_Fixed Asset Cont'!K742","v":371018},-51758.299999999988]
[1920,"Computer Equip.-Hardware(Post Mar. 22/04)",0,null,0,0,null,0,{"$f":"'App.2-BA_Fixed Asset Cont'!E743","v":0},0,0,0,0,0,0,0,0,{"$f":"-'App.2-BA_Fixed Asset Cont'!K743","v":0},0]
[1920,"Computer Equip.-Hardware(Post Mar. 19/07)",0,null,0,0,null,0,{"$f":"'App.2-BA_Fixed Asset Cont'!E744","v":0},0,0,0,0,0,0,0,0,{"$f":"-'App.2-BA_Fixed Asset Cont'!K744","v":0},0]
[1930,"Transportation Equipment",1471066,45258,1425808,2935964,null,2935964,{"$f":"'App.2-BA_Fixed Asset Cont'!E745","v":274622},7.6644185062431998,0.13047304230391787,10,0.1,186029.50750126454,293596.40000000002,13731.1,493357.00750126457,{"$f":"-'App.2-BA_Fixed Asset Cont'!K745","v":506662},13304.992498735432]
[1935,"Stores Equipment",0,null,0,0,null,0,{"$f":"'App.2-BA_Fixed Asset Cont'!E746","v":0},0,0,10,0.1,0,0,0,0,{"$f":"-'App.2-BA_Fixed Asset Cont'!K746","v":0},0]
[1940,"Tools, Shop & Garage Equipment",169956,null,169956,439835,null,439835,{"$f":"'App.2-BA_Fixed Asset Cont'!E747","v":180262},7.0117365788252304,0.14261802176366747,10,0.1,24238.788506865869,43983.5,9013.1,77235.388506865871,{"$f":"-'App.2-BA_Fixed Asset Cont'!K747","v":71746},-5489.388506865871]
[1945,"Measurement & Testing Equipment",116756,null,116756,0,null,0,{"$f":"'App.2-BA_Fixed Asset Cont'!E748","v":0},7,0.14285714285714285,10,0.1,16679.428571428572,0,0,16679.428571428572,{"$f":"-'App.2-BA_Fixed Asset Cont'!K748","v":13224},-3455.4285714285725]
[1950,"Power Operated Equipment",0,null,0,0,null,0,{"$f":"'App.2-BA_Fixed Asset Cont'!E749","v":0},0,0,0,0,0,0,0,0,{"$f":"-'App.2-BA_Fixed Asset Cont'!K749","v":0},0]
[1955,"Communications Equipment",71875,null,71875,0,null,0,{"$f":"'App.2-BA_Fixed Asset Cont'!E750","v":0},7,0.14285714285714285,10,0.1,10267.857142857143,0,0,10267.857142857143,{"$f":"-'App.2-BA_Fixed Asset Cont'!K750","v":8979},-1288.8571428571431]
[1955,"Communication Equipment (Smart Meters)",0,null,0,0,null,0,{"$f":"'App.2-BA_Fixed Asset Cont'!E751","v":0},0,0,0,0,0,0,0,0,{"$f":"-'App.2-BA_Fixed Asset Cont'!K751","v":0},0]
[1960,"Miscellaneous Equipment ",0,null,0,103083,null,103083,{"$f":"'App.2-BA_Fixed Asset Cont'!E752","v":2896},0,0,10,0.1,0,10308.299999999999,144.80000000000001,10453.099999999999,{"$f":"-'App.2-BA_Fixed Asset Cont'!K752","v":15904},5450.9000000000015]
[1970,"Load Management Controls Customer Premises",0,null,0,0,null,0,{"$f":"'App.2-BA_Fixed Asset Cont'!E753","v":0},0,0,0,0,0,0,0,0,{"$f":"-'App.2-BA_Fixed Asset Cont'!K753","v":0},0]
[1975,"Load Management Controls Utility Premises",0,null,0,0,null,0,{"$f":"'App.2-BA_Fixed Asset Cont'!E754","v":0},0,0,0,0,0,0,0,0,{"$f":"-'App.2-BA_Fixed Asset Cont'!K754","v":0},0]
[1980,"System Supervisor Equipment",478522,null,478522,357395,null,357395,{"$f":"'App.2-BA_Fixed Asset Cont'!E755","v":0},12.1568368904274,8.2258239459264706E-2,10,0.1,39362.377262526265,35739.5,0,75101.877262526265,{"$f":"-'App.2-BA_Fixed Asset Cont'!K755","v":49609},-25492.877262526265]
[1985,"Miscellaneous Fixed Assets",0,null,0,0,null,0,{"$f":"'App.2-BA_Fixed Asset Cont'!E756","v":0},0,0,0,0,0,0,0,0,{"$f":"-'App.2-BA_Fixed Asset Cont'!K756","v":0},0]
[1990,"Other Tangible Property",645280,null,645280,645339,null,645339,{"$f":"'App.2-BA_Fixed Asset Cont'!E757","v":120190},0,0,0,0,0,0,0,0,{"$f":"-'App.2-BA_Fixed Asset Cont'!K757","v":0},0]
[1995,"Contributions & Grants",-5126899,null,-5126899,-537827,null,-537827,{"$f":"'App.2-BA_Fixed Asset Cont'!E758","v":0},18.759272338115853,5.3306971719162009E-2,25,0.04,-273299.46000000002,-21513.08,0,-294812.54000000004,{"$f":"-'App.2-BA_Fixed Asset Cont'!K758","v":-293730},1082.5400000000373]
[2440,"Deferred Revenue",0,null,0,-1422772,null,-1422772,{"$f":"'App.2-BA_Fixed Asset Cont'!E759","v":-330870},0,0,25,0.04,0,-56910.879999999997,-6617.4,-63528.28,{"$f":"-'App.2-BA_Fixed Asset Cont'!K759","v":-70146},-6617.7200000000012]
[2005,"Property Under Finance Lease",null,null,0,null,null,0,null,null,0,null,0,0,0,0,0,{"$f":"-'App.2-BA_Fixed Asset Cont'!K760","v":0},0]
[null,"Total",{"$f":"SUM(C333:C373)","v":42677618.530000001},{"$f":"SUM(D333:D373)","v":45258},42632360.530000001,39607759,1544573,38063186,9220316,null,null,null,null,{"$f":"SUM(N333:N373)","v":1664728.9288249037},2217172.5422222218,278790.64472222212,4160692.1157693476,3991908,-168784.11576934767]
[]
[]
[]
[]
[]
[]
[null,2020,"Book Values",null,null,null,null,null,null,"Service Lives",null,null,null,"Depreciation Expense"]
["Account","Description","Opening Net  Book Value of Existing Assets as at Date of Policy Change (Jan. 1) 1","Less Fully Depreciated 7","Net Amount of Existing Assets Before Policy Change to be Depreciated ","Opening Gross Book Value of Assets Acquired After Policy Change 2","Less Fully Depreciated 8","Net Amount of Assets Acquired After Policy Change to be Depreciated ","Current Year Additions","Average Remaining Life of Assets Existing Before Policy Change 3","Depreciation Rate Assets Acquired After Policy Change","Life of Assets Acquired After Policy Change 4","Depreciation Rate on New Additions","Depreciation Expense on Assets Existing Before Policy Change","Depreciation Expense on Assets Acquired After Policy Change","Depreciation Expense on Current Year Additions 5","Total Current Year Depreciation Expense ","Depreciation Expense per Appendix 2-BA Fixed Assets, Column J \n ","Variance 6"]
[null,null,"a","b","c = a-b","d","e","f = d- e","g","h","i = 1/h","j","k = 1/j","l = c/h","m = f/j","n = g*0.5/j","o = l+m+n","p","q = p-o"]
[1609,"Capital Contributions Paid",{"$f":"+C333","v":0},null,{"$f":"C384-D384","v":0},{"$f":"+H333+I333","v":1190000},null,{"$f":"F384-G384","v":1190000},{"$f":"+'App.2-BA_Fixed Asset Cont'!E810","v":0},{"$f":"+J333","v":0},{"$f":"IF(J384=0,0,1/J384)","v":0},{"$f":"+L333","v":50},{"$f":"IF(L384=0,0,1/L384)","v":0.02},{"$f":"IF(J384=0,0,+E384/J384)","v":0},{"$f":"IF(L384=0,0,+H384/L384)","v":23800},{"$f":"IF(L384=0,0,+(I384*0.5)/L384)","v":0},{"$f":"IF(ISERROR(+N384+O384+P384), 0, +N384+O384+P384)","v":23800},{"$f":"-'App.2-BA_Fixed Asset Cont'!K810","v":25544},{"$f":"IF(ISERROR(+R384-Q384), 0, +R384-Q384)","v":1744}]
[1611,"Computer Software (Formally known as Account 1925)",{"$f":"E334","v":0},null,{"$f":"C385-D385","v":0},{"$f":"+H334+I334","v":4968656},651520,{"$f":"F385-G385","v":4317136},{"$f":"+'App.2-BA_Fixed Asset Cont'!E811","v":1036528.5199999992},{"$f":"+J334","v":0},{"$f":"IF(J385=0,0,1/J385)","v":0},{"$f":"+L334","v":5},{"$f":"IF(L385=0,0,1/L385)","v":0.2},{"$f":"IF(J385=0,0,+E385/J385)","v":0},{"$f":"IF(L385=0,0,+H385/L385)","v":863427.2},{"$f":"IF(L385=0,0,+(I385*0.5)/L385)","v":103652.85199999993},{"$f":"IF(ISERROR(+N385+O385+P385), 0, +N385+O385+P385)","v":967080.05199999991},{"$f":"-'App.2-BA_Fixed Asset Cont'!K811","v":881375.69},-85704.361999999965]
[1612,"Land Rights (Formally known as Account 1906)",{"$f":"E335","v":14625},null,{"$f":"C386-D386","v":14625},160000,null,{"$f":"F386-G386","v":160000},{"$f":"+'App.2-BA_Fixed Asset Cont'!E812","v":0},13,{"$f":"IF(J386=0,0,1/J386)","v":7.6923076923076927E-2},25,{"$f":"IF(L386=0,0,1/L386)","v":0.04},{"$f":"IF(J386=0,0,+E386/J386)","v":1125},{"$f":"IF(L386=0,0,+H386/L386)","v":6400},{"$f":"IF(L386=0,0,+(I386*0.5)/L386)","v":0},{"$f":"IF(ISERROR(+N386+O386+P386), 0, +N386+O386+P386)","v":7525},{"$f":"-'App.2-BA_Fixed Asset Cont'!K812","v":1192.2},-6332.8]
[1805,"Land",497489,null,497489,0,null,0,{"$f":"+'App.2-BA_Fixed Asset Cont'!E813","v":0},0,0,0,0,0,{"$f":"IF(L387=0,0,+H387/L387)","v":0},0,0,{"$f":"-'App.2-BA_Fixed Asset Cont'!K813","v":0},0]
[1808,"Buildings",0,null,0,0,null,0,{"$f":"+'App.2-BA_Fixed Asset Cont'!E814","v":0},0,{"$f":"IF(J388=0,0,1/J388)","v":0},0,0,0,0,0,0,{"$f":"-'App.2-BA_Fixed Asset Cont'!L814","v":0},0]
[1810,"Leasehold Improvements",0,null,0,0,null,0,{"$f":"+'App.2-BA_Fixed Asset Cont'!E815","v":0},0,{"$f":"IF(J389=0,0,1/J389)","v":0},0,0,0,0,0,0,{"$f":"-'App.2-BA_Fixed Asset Cont'!K815","v":0},0]
[1815,"Transformer Station Equipment >50 kV",0,null,0,0,null,0,{"$f":"+'App.2-BA_Fixed Asset Cont'!E816","v":0},0,0,0,0,0,0,0,0,{"$f":"-'App.2-BA_Fixed Asset Cont'!K816","v":0},0]
[1820,"Distribution Station Equipment <50 kV",3193059,null,3193059,1703689,null,1703689,{"$f":"+'App.2-BA_Fixed Asset Cont'!E817","v":31673.360000000102},26.580263384325601,3.7621899585453346E-2,40,2.5000000000000001E-2,120128.94506842806,42592.224999999999,395.91700000000128,163117.08706842805,{"$f":"-'App.2-BA_Fixed Asset Cont'!K817","v":173321.32},10204.232931571954]
[1825,"Storage Battery Equipment",0,null,0,0,null,0,{"$f":"+'App.2-BA_Fixed Asset Cont'!E818","v":0},0,0,0,0,0,0,0,0,{"$f":"-'App.2-BA_Fixed Asset Cont'!K818","v":0},0]
[1830,"Poles, Towers & Fixtures",2930272,null,2930272,11573316,null,11573316,{"$f":"+'App.2-BA_Fixed Asset Cont'!E819","v":2750319.91},41.752743418487,2.3950522004674468E-2,45,2.2222222222222223E-2,70181.544015681458,257184.8,30559.110111111113,357925.45412679255,{"$f":"-'App.2-BA_Fixed Asset Cont'!K819","v":354757.04},-3168.4141267925734]
[1835,"Overhead Conductors & Devices",9855401,null,9855401,5477981,null,5477981,{"$f":"+'App.2-BA_Fixed Asset Cont'!E820","v":684951.55000000121},34.260180727682901,2.9188404111131272E-2,60,1.6666666666666666E-2,287663.42706524726,91299.683333333334,5707.9295833333435,384671.03998191393,{"$f":"-'App.2-BA_Fixed Asset Cont'!K820","v":401191.34},16520.300018086098]
[1840,"Underground Conduit",1182052,null,1182052,1928245,null,1928245,{"$f":"+'App.2-BA_Fixed Asset Cont'!E821","v":261903.95000000019},48.880589453278901,2.04580184319549E-2,60,1.6666666666666666E-2,24182.441603529151,32137.416666666668,2182.5329166666684,58502.391186862493,{"$f":"-'App.2-BA_Fixed Asset Cont'!K821","v":62598.46},4096.0688131375064]
[1845,"Underground Conductors & Devices",8045963.5300000003,null,8045963.5300000003,3593324,null,3593324,{"$f":"+'App.2-BA_Fixed Asset Cont'!E822","v":893312.74999999837},23.6895277836445,4.2212745189898239E-2,40,2.5000000000000001E-2,339642.20829910412,89833.1,11166.409374999979,440641.71767410409,{"$f":"-'App.2-BA_Fixed Asset Cont'!K822","v":431503.52},-9138.1976741040708]
[1850,"Line Transformers",7257615,null,7257615,6562520,null,6562520,{"$f":"+'App.2-BA_Fixed Asset Cont'!E823","v":1142633.3499999987},31.084101332679701,3.2170786901555629E-2,40,2.5000000000000001E-2,233483.18557853365,164063,14282.916874999984,411829.10245353368,{"$f":"-'App.2-BA_Fixed Asset Cont'!K823","v":410760.38},-1068.7224535336718]
[1855,"Services (Overhead & Underground)",665779,null,665779,1387370,null,1387370,{"$f":"+'App.2-BA_Fixed Asset Cont'!E824","v":245647.84999999986},21.514436301568999,4.6480418356444335E-2,25,0.04,30945.686452935151,55494.8,4912.9569999999976,91353.443452935142,{"$f":"-'App.2-BA_Fixed Asset Cont'!K824","v":90509.01},-844.43345293514722]
[1860,"Meters",662870,null,662870,618457,null,618457,{"$f":"+'App.2-BA_Fixed Asset Cont'!E825","v":466.65999999997439},13.289325261945701,7.524836515692214E-2,15,6.6666666666666666E-2,49879.88381156898,41230.466666666667,15.555333333332479,91125.905811568984,{"$f":"-'App.2-BA_Fixed Asset Cont'!K825","v":76612.140000000014},-14513.76581156897]
[1860,"Meters (Smart Meters)",4242960,null,4242960,1322292,null,1322292,{"$f":"+'App.2-BA_Fixed Asset Cont'!E826","v":491192},13.289325261945701,7.524836515692214E-2,15,6.6666666666666666E-2,319275.80342621438,88152.8,16373.066666666668,423801.67009288102,{"$f":"-'App.2-BA_Fixed Asset Cont'!K826","v":396113},-27688.670092881017]
[1905,"Land",0,null,0,0,null,0,{"$f":"+'App.2-BA_Fixed Asset Cont'!E827","v":0},0,0,0,0,0,0,0,0,{"$f":"-'App.2-BA_Fixed Asset Cont'!K827","v":0},0]
[1908,"Buildings & Fixtures",6103208,149677,5953531,1245018,null,1245018,{"$f":"+'App.2-BA_Fixed Asset Cont'!E828","v":192393.14},44.093218247580403,2.2679224600596591E-2,60,1.6666666666666666E-2,135021.46671561443,20750.3,1603.2761666666668,157375.04288228109,{"$f":"-'App.2-BA_Fixed Asset Cont'!K828","v":174464.61},17089.567117718892]
[1910,"Leasehold Improvements",0,null,0,0,null,0,{"$f":"+'App.2-BA_Fixed Asset Cont'!E829","v":0},0,0,0,0,0,0,0,0,{"$f":"-'App.2-BA_Fixed Asset Cont'!K829","v":0},0]
[1915,"Office Furniture & Equipment (10 years)",199769,199769,0,265663,null,265663,{"$f":"+'App.2-BA_Fixed Asset Cont'!E830","v":17659.460000000057},0,0,10,0.1,0,26566.3,882.97300000000291,27449.273000000001,{"$f":"-'App.2-BA_Fixed Asset Cont'!K830","v":43808.29},16359.017]
[1915,"Office Furniture & Equipment (5 years)",0,null,0,0,null,0,{"$f":"+'App.2-BA_Fixed Asset Cont'!E831","v":0},0,0,0,0,0,0,0,0,{"$f":"-'App.2-BA_Fixed Asset Cont'!K831","v":0},0]
[1920,"Computer Equip.-Hardware(Post Mar. 19/07)",0,null,0,2518854,401544,2117310,{"$f":"+'App.2-BA_Fixed Asset Cont'!E832","v":823843.28999999992},0,0,5,0.2,0,423462,82384.328999999998,505846.32900000003,{"$f":"-'App.2-BA_Fixed Asset Cont'!K832","v":439870.43},-65975.899000000034]
[1920,"Computer Equip.-Hardware(Post Mar. 22/04)",0,null,0,0,null,0,{"$f":"+'App.2-BA_Fixed Asset Cont'!E833","v":0},0,0,0,0,0,0,0,0,{"$f":"-'App.2-BA_Fixed Asset Cont'!K833","v":0},0]
[1920,"Computer Equip.-Hardware",0,null,0,0,null,0,{"$f":"+'App.2-BA_Fixed Asset Cont'!E834","v":0},0,0,0,0,0,0,0,0,{"$f":"-'App.2-BA_Fixed Asset Cont'!K834","v":0},0]
[1930,"Transportation Equipment",1425808,778947,646861,3210586,null,3210586,{"$f":"+'App.2-BA_Fixed Asset Cont'!E835","v":957740.62999999989},8.6534988918454001,0.11556019276114395,10,0.1,74751.38184966633,321058.59999999998,47887.031499999997,443697.01334966632,{"$f":"-'App.2-BA_Fixed Asset Cont'!K835","v":434127.76},-9569.2533496663091]
[1935,"Stores Equipment",0,null,0,0,null,0,{"$f":"+'App.2-BA_Fixed Asset Cont'!E836","v":0},0,0,10,0.1,0,0,0,0,{"$f":"-'App.2-BA_Fixed Asset Cont'!K836","v":0},0]
[1940,"Tools, Shop & Garage Equipment",169956,165689,4267,620097,null,620097,{"$f":"+'App.2-BA_Fixed Asset Cont'!E837","v":174234.44999999995},14.9995078740157,6.666885396502531E-2,10,0.1,284.47599986876298,62009.7,8711.722499999998,71005.898499868767,{"$f":"-'App.2-BA_Fixed Asset Cont'!K837","v":81612.039999999994},10606.141500131227]
[1945,"Measurement & Testing Equipment",116756,116756,0,0,null,0,{"$f":"+'App.2-BA_Fixed Asset Cont'!E838","v":0},0,0,10,0.1,0,0,0,0,{"$f":"-'App.2-BA_Fixed Asset Cont'!K838","v":11912.48},11912.48]
[1950,"Power Operated Equipment",0,null,0,0,null,0,{"$f":"+'App.2-BA_Fixed Asset Cont'!E839","v":0},0,0,0,0,0,0,0,0,{"$f":"-'App.2-BA_Fixed Asset Cont'!K839","v":0},0]
[1955,"Communications Equipment",71875,71875,0,0,null,0,{"$f":"+'App.2-BA_Fixed Asset Cont'!E840","v":0},0,0,10,0.1,0,0,0,0,{"$f":"-'App.2-BA_Fixed Asset Cont'!K840","v":7782.84},7782.84]
[1955,"Communication Equipment (Smart Meters)",0,null,0,0,null,0,{"$f":"+'App.2-BA_Fixed Asset Cont'!E841","v":0},0,0,0,0,0,0,0,0,{"$f":"-'App.2-BA_Fixed Asset Cont'!K841","v":0},0]
[1960,"Miscellaneous Equipment ",0,null,0,105979,null,105979,{"$f":"+'App.2-BA_Fixed Asset Cont'!E842","v":0},0,0,10,0.1,0,10597.9,0,10597.9,{"$f":"-'App.2-BA_Fixed Asset Cont'!K842","v":13565.97},2968.0699999999997]
[1970,"Load Management Controls Customer Premises",0,null,0,0,null,0,{"$f":"+'App.2-BA_Fixed Asset Cont'!E843","v":0},0,0,0,0,0,0,0,0,{"$f":"-'App.2-BA_Fixed Asset Cont'!K843","v":0},0]
[1975,"Load Management Controls Utility Premises",0,null,0,0,null,0,{"$f":"+'App.2-BA_Fixed Asset Cont'!E844","v":0},0,0,0,0,0,0,0,0,{"$f":"-'App.2-BA_Fixed Asset Cont'!K844","v":0},0]
[1980,"System Supervisor Equipment",478522,132697,345825,357395,null,357395,{"$f":"+'App.2-BA_Fixed Asset Cont'!E845","v":0},16.9475082785046,5.9005724237842776E-2,10,0.1,20405.654584551979,35739.5,0,56145.154584551979,{"$f":"-'App.2-BA_Fixed Asset Cont'!K845","v":41803.760000000002},-14341.394584551977]
[1985,"Miscellaneous Fixed Assets",0,null,0,0,null,0,{"$f":"+'App.2-BA_Fixed Asset Cont'!E846","v":0},0,0,0,0,0,0,0,0,{"$f":"-'App.2-BA_Fixed Asset Cont'!K846","v":0},0]
[1990,"Other Tangible Property",645280,null,645280,765529,null,765529,{"$f":"+'App.2-BA_Fixed Asset Cont'!E847","v":174373},0,0,0,0,0,0,0,0,{"$f":"-'App.2-BA_Fixed Asset Cont'!K847","v":0},0]
[1995,"Contributions & Grants",-5126899,null,-5126899,-537827,null,-537827,{"$f":"+'App.2-BA_Fixed Asset Cont'!E848","v":0},18.759272338115853,5.3306971719162009E-2,25,0.04,-273299.46000000002,-21513.08,0,-294812.54000000004,{"$f":"-'App.2-BA_Fixed Asset Cont'!K848","v":-293730.17},1082.3700000000536]
[2440,"Deferred Revenue",0,null,0,-1753642,null,-1753642,{"$f":"+'App.2-BA_Fixed Asset Cont'!E849","v":-481627.5},0,0,25,0.04,0,-70145.679999999993,-9632.5499999999993,-79778.23,{"$f":"-'App.2-BA_Fixed Asset Cont'!K849","v":-89410.803599999999},-9632.5736000000034]
[2005,"Property Under Finance Lease",null,null,0,null,null,0,null,null,0,null,0,0,0,0,0,{"$f":"-'App.2-BA_Fixed Asset Cont'!K851","v":0},0]
[null,"Total",{"$f":"SUM(C384:C424)","v":42632360.530000001},{"$f":"SUM(D384:D424)","v":1615410},41016950.530000001,47283502,1053064,46230438,9397246.3699999973,null,null,null,null,{"$f":"SUM(N384:N424)","v":1433671.6444709438},2564141.0316666667,321086.02902777767,4318898.7051653881,4171285.3064000001,-147613.398765388]
[]
[]
[]
[]
[]
[]
[null,2021,"Book Values",null,null,null,null,null,null,"Service Lives",null,null,null,"Depreciation Expense"]
["Account","Description","Opening Net  Book Value of Existing Assets as at Date of Policy Change (Jan. 1) 1","Less Fully Depreciated 7","Net Amount of Existing Assets Before Policy Change to be Depreciated ","Opening Gross Book Value of Assets Acquired After Policy Change 2","Less Fully Depreciated 8","Net Amount of Assets Acquired After Policy Change to be Depreciated ","Current Year Additions","Average Remaining Life of Assets Existing Before Policy Change 3","Depreciation Rate Assets Acquired After Policy Change","Life of Assets Acquired After Policy Change 4","Depreciation Rate on New Additions","Depreciation Expense on Assets Existing Before Policy Change","Depreciation Expense on Assets Acquired After Policy Change","Depreciation Expense on Current Year Additions 5","Total Current Year Depreciation Expense ","Depreciation Expense per Appendix 2-BA Fixed Assets, Column J \n ","Variance 6"]
[null,null,"a","b","c = a-b","d","e","f = d- e","g","h","i = 1/h","j","k = 1/j","l = c/h","m = f/j","n = g*0.5/j","o = l+m+n","p","q = p-o"]
[1609,"Capital Contributions Paid",{"$f":"+C384","v":0},null,{"$f":"C435-D435","v":0},{"$f":"+H384+I384","v":1190000},null,{"$f":"F435-G435","v":1190000},{"$f":"+'App.2-BA_Fixed Asset Cont'!E900","v":0},{"$f":"+J384","v":0},{"$f":"IF(J435=0,0,1/J435)","v":0},{"$f":"+L384","v":50},{"$f":"IF(L435=0,0,1/L435)","v":0.02},{"$f":"IF(J435=0,0,+E435/J435)","v":0},{"$f":"IF(L435=0,0,+H435/L435)","v":23800},{"$f":"IF(L435=0,0,+(I435*0.5)/L435)","v":0},{"$f":"IF(ISERROR(+N435+O435+P435), 0, +N435+O435+P435)","v":23800},{"$f":"-'App.2-BA_Fixed Asset Cont'!K900","v":25994.04},{"$f":"IF(ISERROR(+R435-Q435), 0, +R435-Q435)","v":2194.0400000000009}]
[1611,"Computer Software (Formally known as Account 1925)",{"$f":"E385","v":0},null,{"$f":"C436-D436","v":0},{"$f":"+H385+I385","v":5353664.5199999996},994604,{"$f":"F436-G436","v":4359060.5199999996},{"$f":"+'App.2-BA_Fixed Asset Cont'!E901","v":942642.47000000055},{"$f":"+J385","v":0},{"$f":"IF(J436=0,0,1/J436)","v":0},{"$f":"+L385","v":5},{"$f":"IF(L436=0,0,1/L436)","v":0.2},{"$f":"IF(J436=0,0,+E436/J436)","v":0},{"$f":"IF(L436=0,0,+H436/L436)","v":871812.10399999993},{"$f":"IF(L436=0,0,+(I436*0.5)/L436)","v":94264.247000000061},{"$f":"IF(ISERROR(+N436+O436+P436), 0, +N436+O436+P436)","v":966076.35100000002},{"$f":"-'App.2-BA_Fixed Asset Cont'!K901","v":920667.94},-45408.41100000008]
[1612,"Land Rights (Formally known as Account 1906)",{"$f":"E386","v":14625},null,{"$f":"C437-D437","v":14625},160000,null,{"$f":"F437-G437","v":160000},{"$f":"+'App.2-BA_Fixed Asset Cont'!E902","v":0},13,{"$f":"IF(J437=0,0,1/J437)","v":7.6923076923076927E-2},25,{"$f":"IF(L437=0,0,1/L437)","v":0.04},{"$f":"IF(J437=0,0,+E437/J437)","v":1125},{"$f":"IF(L437=0,0,+H437/L437)","v":6400},{"$f":"IF(L437=0,0,+(I437*0.5)/L437)","v":0},{"$f":"IF(ISERROR(+N437+O437+P437), 0, +N437+O437+P437)","v":7525},{"$f":"-'App.2-BA_Fixed Asset Cont'!K902","v":1192.2},-6332.8]
[1805,"Land",497489,null,497489,0,null,0,{"$f":"+'App.2-BA_Fixed Asset Cont'!E903","v":0},0,0,0,0,0,{"$f":"IF(L438=0,0,+H438/L438)","v":0},0,0,{"$f":"-'App.2-BA_Fixed Asset Cont'!K903","v":0},0]
[1808,"Buildings",0,null,0,0,null,0,{"$f":"+'App.2-BA_Fixed Asset Cont'!E904","v":0},0,{"$f":"IF(J439=0,0,1/J439)","v":0},0,0,0,0,0,0,{"$f":"-'App.2-BA_Fixed Asset Cont'!K904","v":0},0]
[1810,"Leasehold Improvements",0,null,0,0,null,0,{"$f":"+'App.2-BA_Fixed Asset Cont'!E905","v":0},0,{"$f":"IF(J440=0,0,1/J440)","v":0},0,0,0,0,0,0,{"$f":"-'App.2-BA_Fixed Asset Cont'!K905","v":0},0]
[1815,"Transformer Station Equipment >50 kV",0,null,0,0,null,0,{"$f":"+'App.2-BA_Fixed Asset Cont'!E906","v":0},0,0,0,0,0,0,0,0,{"$f":"-'App.2-BA_Fixed Asset Cont'!K906","v":0},0]
[1820,"Distribution Station Equipment <50 kV",3193059,null,3193059,1735362.36,null,1735362.36,{"$f":"+'App.2-BA_Fixed Asset Cont'!E907","v":293229.29999999981},26.580263384325601,3.7621899585453346E-2,40,2.5000000000000001E-2,120128.94506842806,43384.059000000001,3665.3662499999978,167178.37031842806,{"$f":"-'App.2-BA_Fixed Asset Cont'!K907","v":179627.63},12449.259681571944]
[1825,"Storage Battery Equipment",0,null,0,0,null,0,{"$f":"+'App.2-BA_Fixed Asset Cont'!E908","v":0},0,0,0,0,0,0,0,0,{"$f":"-'App.2-BA_Fixed Asset Cont'!K908","v":0},0]
[1830,"Poles, Towers & Fixtures",2930272,null,2930272,14323635.91,null,14323635.91,{"$f":"+'App.2-BA_Fixed Asset Cont'!E909","v":2331237.4200000018},41.752743418487,2.3950522004674468E-2,45,2.2222222222222223E-2,70181.544015681458,318303.0202222222,25902.638000000021,414387.20223790372,{"$f":"-'App.2-BA_Fixed Asset Cont'!K909","v":418769.72},4382.5177620962495]
[1835,"Overhead Conductors & Devices",9855401,null,9855401,6162932.5500000007,null,6162932.5500000007,{"$f":"+'App.2-BA_Fixed Asset Cont'!E910","v":1047681.9000000004},34.260180727682901,2.9188404111131272E-2,60,1.6666666666666666E-2,287663.42706524726,102715.54250000001,8730.6825000000026,399109.6520652473,{"$f":"-'App.2-BA_Fixed Asset Cont'!K910","v":419085.9},19976.247934752726]
[1840,"Underground Conduit",1182052,null,1182052,2190148.9500000002,null,2190148.9500000002,{"$f":"+'App.2-BA_Fixed Asset Cont'!E911","v":296833.66999999969},48.880589453278901,2.04580184319549E-2,60,1.6666666666666666E-2,24182.441603529151,36502.482500000006,2473.613916666664,63158.538020195818,{"$f":"-'App.2-BA_Fixed Asset Cont'!K911","v":68196.56},5038.0219798041799]
[1845,"Underground Conductors & Devices",8045963.5300000003,null,8045963.5300000003,4486636.7499999981,null,4486636.7499999981,{"$f":"+'App.2-BA_Fixed Asset Cont'!E912","v":668089.0400000005},23.6895277836445,4.2212745189898239E-2,40,2.5000000000000001E-2,339642.20829910412,112165.91874999995,8351.1130000000067,460159.24004910409,{"$f":"-'App.2-BA_Fixed Asset Cont'!K912","v":450723.12},-9436.1200491040945]
[1850,"Line Transformers",7257615,null,7257615,7705153.3499999987,null,7705153.3499999987,{"$f":"+'App.2-BA_Fixed Asset Cont'!E913","v":1263423.8000000003},31.084101332679701,3.2170786901555629E-2,40,2.5000000000000001E-2,233483.18557853365,192628.83374999996,15792.797500000004,441904.8168285336,{"$f":"-'App.2-BA_Fixed Asset Cont'!K913","v":443597.97},1693.1531714663724]
[1855,"Services (Overhead & Underground)",665779,null,665779,1633017.8499999999,null,1633017.8499999999,{"$f":"+'App.2-BA_Fixed Asset Cont'!E914","v":331514.60000000003},21.514436301568999,4.6480418356444335E-2,25,0.04,30945.686452935151,65320.713999999993,6630.2920000000004,102896.69245293514,{"$f":"-'App.2-BA_Fixed Asset Cont'!K914","v":103072.72},176.02754706486303]
[1860,"Meters",662870,null,662870,618923.65999999992,null,618923.65999999992,{"$f":"+'App.2-BA_Fixed Asset Cont'!E915","v":9274.1000000000058},13.289325261945701,7.524836515692214E-2,15,6.6666666666666666E-2,49879.88381156898,41261.577333333327,309.13666666666688,91450.59781156898,{"$f":"-'App.2-BA_Fixed Asset Cont'!K915","v":76984.030000000028},-14466.567811568952]
[1860,"Meters (Smart Meters)",4242960,null,4242960,1813484,null,1813484,{"$f":"+'App.2-BA_Fixed Asset Cont'!E916","v":172554},13.289325261945701,7.524836515692214E-2,15,6.6666666666666666E-2,319275.80342621438,120898.93333333333,5751.8,445926.53675954771,{"$f":"-'App.2-BA_Fixed Asset Cont'!K916","v":416842.62},-29083.916759547719]
[1905,"Land",0,null,0,0,null,0,{"$f":"+'App.2-BA_Fixed Asset Cont'!E917","v":0},0,0,0,0,0,0,0,0,{"$f":"-'App.2-BA_Fixed Asset Cont'!K917","v":0},0]
[1908,"Buildings & Fixtures",5953531,null,5953531,1437411.1400000001,null,1437411.1400000001,{"$f":"+'App.2-BA_Fixed Asset Cont'!E918","v":231962.6999999999},44.093218247580403,2.2679224600596591E-2,60,1.6666666666666666E-2,135021.46671561443,23956.852333333336,1933.0224999999991,160911.34154894776,{"$f":"-'App.2-BA_Fixed Asset Cont'!K918","v":182898.93},21987.58845105223]
[1910,"Leasehold Improvements",0,null,0,0,null,0,{"$f":"+'App.2-BA_Fixed Asset Cont'!E919","v":0},0,0,0,0,0,0,0,0,{"$f":"-'App.2-BA_Fixed Asset Cont'!K919","v":0},0]
[1915,"Office Furniture & Equipment (10 years)",0,null,0,283322.46000000008,null,283322.46000000008,{"$f":"+'App.2-BA_Fixed Asset Cont'!E920","v":47360.36},0,0,10,0.1,0,28332.246000000006,2368.018,30700.264000000006,{"$f":"-'App.2-BA_Fixed Asset Cont'!K920","v":39041.19},8340.9259999999958]
[1915,"Office Furniture & Equipment (5 years)",0,null,0,0,null,0,{"$f":"+'App.2-BA_Fixed Asset Cont'!E921","v":0},0,0,0,0,0,0,0,0,{"$f":"-'App.2-BA_Fixed Asset Cont'!K921","v":0},0]
[1920,"Computer Equip.-Hardware(Post Mar. 19/07)",0,null,0,2941153.29,177871,2763282.29,{"$f":"+'App.2-BA_Fixed Asset Cont'!E922","v":607520.93000000005},0,0,5,0.2,0,552656.45799999998,60752.093000000008,613408.55099999998,{"$f":"-'App.2-BA_Fixed Asset Cont'!K922","v":598094.63},-15313.920999999973]
[1920,"Computer Equip.-Hardware(Post Mar. 22/04)",0,null,0,0,null,0,{"$f":"+'App.2-BA_Fixed Asset Cont'!E923","v":0},0,0,0,0,0,0,0,0,{"$f":"-'App.2-BA_Fixed Asset Cont'!K923","v":0},0]
[1920,"Computer Equip.-Hardware",0,null,0,0,null,0,{"$f":"+'App.2-BA_Fixed Asset Cont'!E924","v":0},0,0,0,0,0,0,0,0,{"$f":"-'App.2-BA_Fixed Asset Cont'!K924","v":0},0]
[1930,"Transportation Equipment",646861,207212,439649,4168326.63,22892,4145434.63,{"$f":"+'App.2-BA_Fixed Asset Cont'!E925","v":275216.20000000007},9.0000000000000107,0.11111111111111098,10,0.1,48849.888888888832,414543.46299999999,13760.810000000003,477154.1618888888,{"$f":"-'App.2-BA_Fixed Asset Cont'!K925","v":470645.92},-6508.2418888888205]
[1935,"Stores Equipment",0,null,0,0,null,0,{"$f":"+'App.2-BA_Fixed Asset Cont'!E926","v":49921.84},0,0,10,0.1,0,0,2496.0919999999996,2496.0919999999996,{"$f":"-'App.2-BA_Fixed Asset Cont'!K926","v":2080.08},-416.01199999999972]
[1940,"Tools, Shop & Garage Equipment",4267,4267,0,794331.45,null,794331.45,{"$f":"+'App.2-BA_Fixed Asset Cont'!E927","v":84941.170000000027},0,0,10,0.1,0,79433.14499999999,4247.058500000001,83680.203499999989,{"$f":"-'App.2-BA_Fixed Asset Cont'!K927","v":92823.57},9143.3665000000183]
[1945,"Measurement & Testing Equipment",0,null,0,0,null,0,{"$f":"+'App.2-BA_Fixed Asset Cont'!E928","v":0},0,0,10,0.1,0,0,0,0,{"$f":"-'App.2-BA_Fixed Asset Cont'!K928","v":8270.89},8270.89]
[1950,"Power Operated Equipment",0,null,0,0,null,0,{"$f":"+'App.2-BA_Fixed Asset Cont'!E929","v":0},0,0,0,0,0,0,0,0,{"$f":"-'App.2-BA_Fixed Asset Cont'!K929","v":0},0]
[1955,"Communications Equipment",0,null,0,0,null,0,{"$f":"+'App.2-BA_Fixed Asset Cont'!E930","v":0},0,0,10,0.1,0,0,0,0,{"$f":"-'App.2-BA_Fixed Asset Cont'!K930","v":25.149999999994201},25.149999999994201]
[1955,"Communication Equipment (Smart Meters)",0,null,0,0,null,0,{"$f":"+'App.2-BA_Fixed Asset Cont'!E931","v":0},0,0,0,0,0,0,0,0,{"$f":"-'App.2-BA_Fixed Asset Cont'!K931","v":0},0]
[1960,"Miscellaneous Equipment ",0,null,0,105979,null,105979,{"$f":"+'App.2-BA_Fixed Asset Cont'!E932","v":11291.110000000015},0,0,10,0.1,0,10597.9,564.55550000000073,11162.4555,{"$f":"-'App.2-BA_Fixed Asset Cont'!K932","v":11121.81},-40.645500000000538]
[1970,"Load Management Controls Customer Premises",0,null,0,0,null,0,{"$f":"+'App.2-BA_Fixed Asset Cont'!E933","v":0},0,0,0,0,0,0,0,0,{"$f":"-'App.2-BA_Fixed Asset Cont'!K933","v":0},0]
[1975,"Load Management Controls Utility Premises",0,null,0,0,null,0,{"$f":"+'App.2-BA_Fixed Asset Cont'!E934","v":0},0,0,0,0,0,0,0,0,{"$f":"-'App.2-BA_Fixed Asset Cont'!K934","v":0},0]
[1980,"System Supervisor Equipment",345825,null,345825,357395,null,357395,{"$f":"+'App.2-BA_Fixed Asset Cont'!E935","v":2477.4100000000326},16.9475082785046,5.9005724237842776E-2,10,0.1,20405.654584551979,35739.5,123.87050000000163,56269.025084551984,{"$f":"-'App.2-BA_Fixed Asset Cont'!K935","v":36267.57},-20001.455084551984]
[1985,"Miscellaneous Fixed Assets",0,null,0,0,null,0,{"$f":"+'App.2-BA_Fixed Asset Cont'!E936","v":0},0,0,0,0,0,0,0,0,{"$f":"-'App.2-BA_Fixed Asset Cont'!K936","v":0},0]
[1990,"Other Tangible Property",645280,null,645280,939902,null,939902,{"$f":"+'App.2-BA_Fixed Asset Cont'!E937","v":372781},0,0,0,0,0,0,0,0,{"$f":"-'App.2-BA_Fixed Asset Cont'!K937","v":0},0]
[1995,"Contributions & Grants",-5126899,null,-5126899,-537827,null,-537827,{"$f":"+'App.2-BA_Fixed Asset Cont'!E938","v":0},18.759272338115853,5.3306971719162009E-2,25,0.04,-273299.46000000002,-21513.08,0,-294812.54000000004,{"$f":"-'App.2-BA_Fixed Asset Cont'!K938","v":-293730.12},1082.4200000000419]
[2440,"Deferred Revenue",0,null,0,-2235269.5,null,-2235269.5,{"$f":"+'App.2-BA_Fixed Asset Cont'!E939","v":-229470},0,0,25,0.04,0,-89410.78,-4589.3999999999996,-94000.18,{"$f":"-'App.2-BA_Fixed Asset Cont'!K939","v":-98589.583599999998},-4589.4036000000051]
[2005,"Property Under Finance Lease",null,null,0,null,null,0,{"$f":"+'App.2-BA_Fixed Asset Cont'!E941","v":0},null,0,null,0,0,0,0,0,{"$f":"-'App.2-BA_Fixed Asset Cont'!K941","v":0},0]
[null,"Total",{"$f":"SUM(C435:C475)","v":41016950.530000001},{"$f":"SUM(D435:D475)","v":211479},40805471.530000001,55627684.370000005,1195367,54432317.370000005,8810483.0200000014,null,null,null,null,{"$f":"SUM(N435:N475)","v":1407485.6755102975},2969528.889722222,253527.80683333339,4630542.3720658543,4573704.4864000008,-56837.885665853013]
[]
[]
[]
[]
[]
[]
[null,2022,"Book Values",null,null,null,null,null,null,"Service Lives",null,null,null,"Depreciation Expense"]
["Account","Description","Opening Net  Book Value of Existing Assets as at Date of Policy Change (Jan. 1) 1","Less Fully Depreciated 7","Net Amount of Existing Assets Before Policy Change to be Depreciated ","Opening Gross Book Value of Assets Acquired After Policy Change 2","Less Fully Depreciated 8","Net Amount of Assets Acquired After Policy Change to be Depreciated ","Current Year Additions","Average Remaining Life of Assets Existing Before Policy Change 3","Depreciation Rate Assets Acquired After Policy Change","Life of Assets Acquired After Policy Change 4","Depreciation Rate on New Additions","Depreciation Expense on Assets Existing Before Policy Change","Depreciation Expense on Assets Acquired After Policy Change","Depreciation Expense on Current Year Additions 5","Total Current Year Depreciation Expense ","Depreciation Expense per Appendix 2-BA Fixed Assets, Column J \n ","Variance 6"]
[null,null,"a","b","c = a-b","d","e","f = d- e","g","h","i = 1/h","j","k = 1/j","l = c/h","m = f/j","n = g*0.5/j","o = l+m+n","p","q = p-o"]
[1609,"Capital Contributions Paid",{"$f":"+C435","v":0},null,{"$f":"C486-D486","v":0},{"$f":"+H435+I435","v":1190000},null,{"$f":"F486-G486","v":1190000},{"$f":"+'App.2-BA_Fixed Asset Cont'!E990","v":0},{"$f":"+J435","v":0},{"$f":"IF(J486=0,0,1/J486)","v":0},{"$f":"+L435","v":50},{"$f":"IF(L486=0,0,1/L486)","v":0.02},{"$f":"IF(J486=0,0,+E486/J486)","v":0},{"$f":"IF(L486=0,0,+H486/L486)","v":23800},{"$f":"IF(L486=0,0,+(I486*0.5)/L486)","v":0},{"$f":"IF(ISERROR(+N486+O486+P486), 0, +N486+O486+P486)","v":23800},{"$f":"-'App.2-BA_Fixed Asset Cont'!K990","v":25994},{"$f":"IF(ISERROR(+R486-Q486), 0, +R486-Q486)","v":2194}]
[1611,"Computer Software (Formally known as Account 1925)",{"$f":"E436","v":0},null,{"$f":"C487-D487","v":0},{"$f":"+H436+I436","v":5301702.99},1108782,{"$f":"F487-G487","v":4192920.99},{"$f":"+'App.2-BA_Fixed Asset Cont'!E991","v":1058699},{"$f":"+J436","v":0},{"$f":"IF(J487=0,0,1/J487)","v":0},{"$f":"+L436","v":5},{"$f":"IF(L487=0,0,1/L487)","v":0.2},{"$f":"IF(J487=0,0,+E487/J487)","v":0},{"$f":"IF(L487=0,0,+H487/L487)","v":838584.19800000009},{"$f":"IF(L487=0,0,+(I487*0.5)/L487)","v":105869.9},{"$f":"IF(ISERROR(+N487+O487+P487), 0, +N487+O487+P487)","v":944454.09800000011},{"$f":"-'App.2-BA_Fixed Asset Cont'!K991","v":894273},-50181.098000000115]
[1612,"Land Rights (Formally known as Account 1906)",{"$f":"E437","v":14625},null,{"$f":"C488-D488","v":14625},160000,null,{"$f":"F488-G488","v":160000},{"$f":"+'App.2-BA_Fixed Asset Cont'!E992","v":0},13,{"$f":"IF(J488=0,0,1/J488)","v":7.6923076923076927E-2},25,{"$f":"IF(L488=0,0,1/L488)","v":0.04},{"$f":"IF(J488=0,0,+E488/J488)","v":1125},{"$f":"IF(L488=0,0,+H488/L488)","v":6400},{"$f":"IF(L488=0,0,+(I488*0.5)/L488)","v":0},{"$f":"IF(ISERROR(+N488+O488+P488), 0, +N488+O488+P488)","v":7525},{"$f":"-'App.2-BA_Fixed Asset Cont'!K992","v":1192},-6333]
[1805,"Land",497489,null,497489,0,null,0,{"$f":"+'App.2-BA_Fixed Asset Cont'!E993","v":0},0,0,0,0,0,{"$f":"IF(L489=0,0,+H489/L489)","v":0},0,0,{"$f":"-'App.2-BA_Fixed Asset Cont'!K993","v":0},0]
[1808,"Buildings",0,null,0,0,null,0,{"$f":"+'App.2-BA_Fixed Asset Cont'!E994","v":0},0,{"$f":"IF(J490=0,0,1/J490)","v":0},0,0,0,0,0,0,{"$f":"-'App.2-BA_Fixed Asset Cont'!K994","v":0},0]
[1810,"Leasehold Improvements",0,null,0,0,null,0,{"$f":"+'App.2-BA_Fixed Asset Cont'!E995","v":0},0,{"$f":"IF(J491=0,0,1/J491)","v":0},0,0,0,0,0,0,{"$f":"-'App.2-BA_Fixed Asset Cont'!K995","v":0},0]
[1815,"Transformer Station Equipment >50 kV",0,null,0,0,null,0,{"$f":"+'App.2-BA_Fixed Asset Cont'!E996","v":0},0,0,0,0,0,0,0,0,{"$f":"-'App.2-BA_Fixed Asset Cont'!K996","v":0},0]
[1820,"Distribution Station Equipment <50 kV",3193059,null,3193059,2028591.66,null,2028591.66,{"$f":"+'App.2-BA_Fixed Asset Cont'!E997","v":405884},26.580263384325601,3.7621899585453346E-2,40,2.5000000000000001E-2,120128.94506842806,50714.791499999999,5073.55,175917.28656842804,{"$f":"-'App.2-BA_Fixed Asset Cont'!K997","v":186732},10814.71343157196]
[1825,"Storage Battery Equipment",0,null,0,0,null,0,{"$f":"+'App.2-BA_Fixed Asset Cont'!E998","v":0},0,0,0,0,0,0,0,0,{"$f":"-'App.2-BA_Fixed Asset Cont'!K998","v":0},0]
[1830,"Poles, Towers & Fixtures",2930272,null,2930272,16654873.330000002,null,16654873.330000002,{"$f":"+'App.2-BA_Fixed Asset Cont'!E999","v":3059951},41.752743418487,2.3950522004674468E-2,45,2.2222222222222223E-2,70181.544015681458,370108.29622222227,33999.455555555556,474289.29579345929,{"$f":"-'App.2-BA_Fixed Asset Cont'!K999","v":469887},-4402.2957934592851]
[1835,"Overhead Conductors & Devices",9855401,null,9855401,7210614.4500000011,null,7210614.4500000011,{"$f":"+'App.2-BA_Fixed Asset Cont'!E1000","v":997913},34.260180727682901,2.9188404111131272E-2,60,1.6666666666666666E-2,287663.42706524726,120176.90750000002,8315.9416666666675,416156.27623191394,{"$f":"-'App.2-BA_Fixed Asset Cont'!K1000","v":434227},18070.723768086056]
[1840,"Underground Conduit",1182052,null,1182052,2486982.62,null,2486982.62,{"$f":"+'App.2-BA_Fixed Asset Cont'!E1001","v":536608},48.880589453278901,2.04580184319549E-2,60,1.6666666666666666E-2,24182.441603529151,41449.710333333336,4471.7333333333336,70103.885270195824,{"$f":"-'App.2-BA_Fixed Asset Cont'!K1001","v":73326},3222.114729804176]
[1845,"Underground Conductors & Devices",8045963.5300000003,647109,7398854.5300000003,5154725.7899999991,null,5154725.7899999991,{"$f":"+'App.2-BA_Fixed Asset Cont'!E1002","v":1635517},27.634354615076699,3.6186841123274215E-2,40,2.5000000000000001E-2,267741.17337132769,128868.14474999998,20443.962500000001,417053.28062132769,{"$f":"-'App.2-BA_Fixed Asset Cont'!K1002","v":404490},-12563.280621327693]
[1850,"Line Transformers",7257615,null,7257615,8968577.1499999985,null,8968577.1499999985,{"$f":"+'App.2-BA_Fixed Asset Cont'!E1003","v":1783108},31.084101332679701,3.2170786901555629E-2,40,2.5000000000000001E-2,233483.18557853365,224214.42874999996,22288.85,479986.46432853362,{"$f":"-'App.2-BA_Fixed Asset Cont'!K1003","v":479084},-902.46432853362057]
[1855,"Services (Overhead & Underground)",665779,null,665779,1964532.45,null,1964532.45,{"$f":"+'App.2-BA_Fixed Asset Cont'!E1004","v":198861},21.514436301568999,4.6480418356444335E-2,25,0.04,30945.686452935151,78581.297999999995,3977.22,113504.20445293514,{"$f":"-'App.2-BA_Fixed Asset Cont'!K1004","v":112690},-814.20445293514058]
[1860,"Meters",662870,null,662870,628197.75999999989,null,628197.75999999989,{"$f":"+'App.2-BA_Fixed Asset Cont'!E1005","v":13517},13.289325261945701,7.524836515692214E-2,15,6.6666666666666666E-2,49879.88381156898,41879.850666666658,450.56666666666666,92210.301144902303,{"$f":"-'App.2-BA_Fixed Asset Cont'!K1005","v":77767},-14443.301144902303]
[1860,"Meters (Smart Meters)",4242960,null,4242960,1986038,null,1986038,{"$f":"+'App.2-BA_Fixed Asset Cont'!E1006","v":177894},13.289325261945701,7.524836515692214E-2,15,6.6666666666666666E-2,319275.80342621438,132402.53333333333,5929.8,457608.13675954769,{"$f":"-'App.2-BA_Fixed Asset Cont'!K1006","v":428554},-29054.136759547691]
[1905,"Land",0,null,0,0,null,0,{"$f":"+'App.2-BA_Fixed Asset Cont'!E1007","v":0},0,0,0,0,0,0,0,0,{"$f":"-'App.2-BA_Fixed Asset Cont'!K1007","v":0},0]
[1908,"Buildings & Fixtures",5953531,null,5953531,1669373.84,null,1669373.84,{"$f":"+'App.2-BA_Fixed Asset Cont'!E1008","v":218620},44.093218247580403,2.2679224600596591E-2,60,1.6666666666666666E-2,135021.46671561443,27822.897333333334,1821.8333333333333,164666.1973822811,{"$f":"-'App.2-BA_Fixed Asset Cont'!K1008","v":190569},25902.802617718902]
[1910,"Leasehold Improvements",0,null,0,0,null,0,{"$f":"+'App.2-BA_Fixed Asset Cont'!E1009","v":0},0,0,0,0,0,0,0,0,{"$f":"-'App.2-BA_Fixed Asset Cont'!K1009","v":0},0]
[1915,"Office Furniture & Equipment (10 years)",0,null,0,330682.82000000007,52673,278009.82000000007,{"$f":"+'App.2-BA_Fixed Asset Cont'!E1010","v":60522},0,0,10,0.1,0,27800.982000000007,3026.1,30827.082000000006,{"$f":"-'App.2-BA_Fixed Asset Cont'!K1010","v":39710},8882.9179999999942]
[1915,"Office Furniture & Equipment (5 years)",0,null,0,0,null,0,{"$f":"+'App.2-BA_Fixed Asset Cont'!E1011","v":0},0,0,0,0,0,0,0,0,{"$f":"-'App.2-BA_Fixed Asset Cont'!K1011","v":0},0]
[1920,"Computer Equip.-Hardware(Post Mar. 19/07)",0,null,0,3370803.22,261921,3108882.22,{"$f":"+'App.2-BA_Fixed Asset Cont'!E1012","v":997052},0,0,5,0.2,0,621776.44400000002,99705.2,721481.64399999997,{"$f":"-'App.2-BA_Fixed Asset Cont'!K1012","v":698803},-22678.643999999971]
[1920,"Computer Equip.-Hardware(Post Mar. 22/04)",0,null,0,0,null,0,{"$f":"+'App.2-BA_Fixed Asset Cont'!E1013","v":0},0,0,0,0,0,0,0,0,{"$f":"-'App.2-BA_Fixed Asset Cont'!K1013","v":0},0]
[1920,"Computer Equip.-Hardware",0,null,0,0,null,0,{"$f":"+'App.2-BA_Fixed Asset Cont'!E1014","v":0},0,0,0,0,0,0,0,0,{"$f":"-'App.2-BA_Fixed Asset Cont'!K1014","v":0},0]
[1930,"Transportation Equipment",439649,439649,0,4420650.83,342652,4077998.83,{"$f":"+'App.2-BA_Fixed Asset Cont'!E1015","v":860212},0,0,10,0.1,0,407799.88300000003,43010.6,450810.48300000001,{"$f":"-'App.2-BA_Fixed Asset Cont'!K1015","v":452645},1834.5169999999925]
[1935,"Stores Equipment",0,null,0,49921.84,null,49921.84,{"$f":"+'App.2-BA_Fixed Asset Cont'!E1016","v":0},0,0,10,0.1,0,4992.1839999999993,0,4992.1839999999993,{"$f":"-'App.2-BA_Fixed Asset Cont'!K1016","v":6240},1247.8160000000007]
[1940,"Tools, Shop & Garage Equipment",0,null,0,879272.62,null,879272.62,{"$f":"+'App.2-BA_Fixed Asset Cont'!E1017","v":210238},0,0,10,0.1,0,87927.262000000002,10511.9,98439.161999999997,{"$f":"-'App.2-BA_Fixed Asset Cont'!K1017","v":108003},9563.8380000000034]
[1945,"Measurement & Testing Equipment",0,null,0,0,null,0,{"$f":"+'App.2-BA_Fixed Asset Cont'!E1018","v":0},0,0,10,0.1,0,0,0,0,{"$f":"-'App.2-BA_Fixed Asset Cont'!K1018","v":4008},4008]
[1950,"Power Operated Equipment",0,null,0,0,null,0,{"$f":"+'App.2-BA_Fixed Asset Cont'!E1019","v":0},0,0,0,0,0,0,0,0,{"$f":"-'App.2-BA_Fixed Asset Cont'!K1019","v":0},0]
[1955,"Communications Equipment",0,null,0,0,null,0,{"$f":"+'App.2-BA_Fixed Asset Cont'!E1020","v":18489},0,0,10,0.1,0,0,924.45,924.45,{"$f":"-'App.2-BA_Fixed Asset Cont'!K1020","v":1013},88.549999999999955]
[1955,"Communication Equipment (Smart Meters)",0,null,0,0,null,0,{"$f":"+'App.2-BA_Fixed Asset Cont'!E1021","v":0},0,0,0,0,0,0,0,0,{"$f":"-'App.2-BA_Fixed Asset Cont'!K1021","v":0},0]
[1960,"Miscellaneous Equipment ",0,null,0,117270.11000000002,null,117270.11000000002,{"$f":"+'App.2-BA_Fixed Asset Cont'!E1022","v":23164},0,0,10,0.1,0,11727.011000000002,1158.2,12885.211000000003,{"$f":"-'App.2-BA_Fixed Asset Cont'!K1022","v":11559},-1326.211000000003]
[1970,"Load Management Controls Customer Premises",0,null,0,0,null,0,{"$f":"+'App.2-BA_Fixed Asset Cont'!E1023","v":0},0,0,0,0,0,0,0,0,{"$f":"-'App.2-BA_Fixed Asset Cont'!K1023","v":0},0]
[1975,"Load Management Controls Utility Premises",0,null,0,0,null,0,{"$f":"+'App.2-BA_Fixed Asset Cont'!E1024","v":0},0,0,0,0,0,0,0,0,{"$f":"-'App.2-BA_Fixed Asset Cont'!K1024","v":0},0]
[1980,"System Supervisor Equipment",345825,39196,306629,359872.41000000003,null,359872.41000000003,{"$f":"+'App.2-BA_Fixed Asset Cont'!E1025","v":0},16.9475082785046,5.9005724237842776E-2,10,0.1,18092.866217325492,35987.241000000002,0,54080.107217325494,{"$f":"-'App.2-BA_Fixed Asset Cont'!K1025","v":33644},-20436.107217325494]
[1985,"Miscellaneous Fixed Assets",0,null,0,0,null,0,{"$f":"+'App.2-BA_Fixed Asset Cont'!E1026","v":0},0,0,0,0,0,0,0,0,{"$f":"-'App.2-BA_Fixed Asset Cont'!K1026","v":0},0]
[1990,"Other Tangible Property",645280,null,645280,1312683,null,1312683,{"$f":"+'App.2-BA_Fixed Asset Cont'!E1027","v":-43351},0,0,0,0,0,0,0,0,{"$f":"-'App.2-BA_Fixed Asset Cont'!K1027","v":0},0]
[1995,"Contributions & Grants",-5126899,null,-5126899,-537827,null,-537827,{"$f":"+'App.2-BA_Fixed Asset Cont'!E1028","v":0},{"$f":"+J473+25","v":43.759272338115849},2.2852299560040108E-2,50,0.02,-117161.43176207006,-10756.54,0,-127917.97176207005,{"$f":"-'App.2-BA_Fixed Asset Cont'!K1028","v":-82713},45204.971762070054]
[2440,"Deferred Revenue",0,null,0,-2464739.5,null,-2464739.5,{"$f":"+'App.2-BA_Fixed Asset Cont'!E1029","v":-929669},0,0,50,0.02,0,-49294.79,-9296.69,-58591.48,{"$f":"-'App.2-BA_Fixed Asset Cont'!K1029","v":-63124},-4532.5199999999968]
[2005,"Property Under Finance Lease",null,null,0,null,null,0,{"$f":"+'App.2-BA_Fixed Asset Cont'!E1031","v":0},null,0,null,0,0,0,0,0,{"$f":"-'App.2-BA_Fixed Asset Cont'!K1031","v":0},0]
[null,"Total",{"$f":"SUM(C486:C526)","v":40805471.530000001},{"$f":"SUM(D486:D526)","v":1125954},39679517.530000001,63242800.390000001,1766028,61476772.390000001,11283229,null,null,null,null,{"$f":"SUM(N486:N526)","v":1440559.9915643355},3222962.7333888886,361682.57305555558,5025205.2980087791,4988573,-36632.298008780177]
[]
[]
[]
[]
[]
[]
[null,2023,"Book Values",null,null,null,null,null,null,"Service Lives",null,null,null,"Depreciation Expense"]
["Account","Description","Opening Net  Book Value of Existing Assets as at Date of Policy Change (Jan. 1) 1","Less Fully Depreciated 7","Net Amount of Existing Assets Before Policy Change to be Depreciated ","Opening Gross Book Value of Assets Acquired After Policy Change 2","Less Fully Depreciated 8","Net Amount of Assets Acquired After Policy Change to be Depreciated ","Current Year Additions","Average Remaining Life of Assets Existing Before Policy Change 3","Depreciation Rate Assets Acquired After Policy Change","Life of Assets Acquired After Policy Change 4","Depreciation Rate on New Additions","Depreciation Expense on Assets Existing Before Policy Change","Depreciation Expense on Assets Acquired After Policy Change","Depreciation Expense on Current Year Additions 5","Total Current Year Depreciation Expense ","Depreciation Expense per Appendix 2-BA Fixed Assets, Column J \n ","Variance 6"]
[null,null,"a","b","c = a-b","d","e","f = d- e","g","h","i = 1/h","j","k = 1/j","l = c/h","m = f/j","n = g*0.5/j","o = l+m+n","p","q = p-o"]
[1609,"Capital Contributions Paid",{"$f":"+C486","v":0},null,{"$f":"C537-D537","v":0},{"$f":"+H486+I486","v":1190000},null,{"$f":"F537-G537","v":1190000},{"$f":"+'App.2-BA_Fixed Asset Cont'!E1088","v":0},{"$f":"+J486","v":0},{"$f":"IF(J537=0,0,1/J537)","v":0},{"$f":"+L486","v":50},{"$f":"IF(L537=0,0,1/L537)","v":0.02},{"$f":"IF(J537=0,0,+E537/J537)","v":0},{"$f":"IF(L537=0,0,+H537/L537)","v":23800},{"$f":"IF(L537=0,0,+(I537*0.5)/L537)","v":0},{"$f":"IF(ISERROR(+N537+O537+P537), 0, +N537+O537+P537)","v":23800},{"$f":"-'App.2-BA_Fixed Asset Cont'!K1088","v":25994},{"$f":"IF(ISERROR(+R537-Q537), 0, +R537-Q537)","v":2194}]
[1611,"Computer Software (Formally known as Account 1925)",{"$f":"E487","v":0},null,{"$f":"C538-D538","v":0},{"$f":"+H487+I487","v":5251619.99},676507,{"$f":"F538-G538","v":4575112.99},{"$f":"+'App.2-BA_Fixed Asset Cont'!E1089","v":1490000},{"$f":"+J487","v":0},{"$f":"IF(J538=0,0,1/J538)","v":0},{"$f":"+L487","v":5},{"$f":"IF(L538=0,0,1/L538)","v":0.2},{"$f":"IF(J538=0,0,+E538/J538)","v":0},{"$f":"IF(L538=0,0,+H538/L538)","v":915022.598},{"$f":"IF(L538=0,0,+(I538*0.5)/L538)","v":149000},{"$f":"IF(ISERROR(+N538+O538+P538), 0, +N538+O538+P538)","v":1064022.598},{"$f":"-'App.2-BA_Fixed Asset Cont'!K1089","v":1002882},-61140.597999999998]
[1612,"Land Rights (Formally known as Account 1906)",{"$f":"E488","v":14625},null,{"$f":"C539-D539","v":14625},160000,null,{"$f":"F539-G539","v":160000},{"$f":"+'App.2-BA_Fixed Asset Cont'!E1090","v":0},13,{"$f":"IF(J539=0,0,1/J539)","v":7.6923076923076927E-2},25,{"$f":"IF(L539=0,0,1/L539)","v":0.04},{"$f":"IF(J539=0,0,+E539/J539)","v":1125},{"$f":"IF(L539=0,0,+H539/L539)","v":6400},{"$f":"IF(L539=0,0,+(I539*0.5)/L539)","v":0},{"$f":"IF(ISERROR(+N539+O539+P539), 0, +N539+O539+P539)","v":7525},{"$f":"-'App.2-BA_Fixed Asset Cont'!K1090","v":1192},-6333]
[1805,"Land",497489,null,497489,0,null,0,{"$f":"+'App.2-BA_Fixed Asset Cont'!E1091","v":900000},0,0,0,0,0,{"$f":"IF(L540=0,0,+H540/L540)","v":0},0,0,{"$f":"-'App.2-BA_Fixed Asset Cont'!K1091","v":0},0]
[1808,"Buildings",0,null,0,0,null,0,{"$f":"+'App.2-BA_Fixed Asset Cont'!E1092","v":0},0,{"$f":"IF(J541=0,0,1/J541)","v":0},0,0,0,0,0,0,{"$f":"-'App.2-BA_Fixed Asset Cont'!K1092","v":0},0]
[1810,"Leasehold Improvements",0,null,0,0,null,0,{"$f":"+'App.2-BA_Fixed Asset Cont'!E1093","v":0},0,{"$f":"IF(J542=0,0,1/J542)","v":0},0,0,0,0,0,0,{"$f":"-'App.2-BA_Fixed Asset Cont'!K1093","v":0},0]
[1815,"Transformer Station Equipment >50 kV",0,null,0,0,null,0,{"$f":"+'App.2-BA_Fixed Asset Cont'!E1094","v":0},0,0,0,0,0,0,0,0,{"$f":"-'App.2-BA_Fixed Asset Cont'!K1094","v":0},0]
[1820,"Distribution Station Equipment <50 kV",3193059,null,3193059,2434475.66,null,2434475.66,{"$f":"+'App.2-BA_Fixed Asset Cont'!E1095","v":1147820},26.580263384325601,3.7621899585453346E-2,40,2.5000000000000001E-2,120128.94506842806,60861.891500000005,14347.75,195338.58656842806,{"$f":"-'App.2-BA_Fixed Asset Cont'!K1095","v":209847},14508.413431571942]
[1825,"Storage Battery Equipment",0,null,0,0,null,0,{"$f":"+'App.2-BA_Fixed Asset Cont'!E1096","v":0},0,0,0,0,0,0,0,0,{"$f":"-'App.2-BA_Fixed Asset Cont'!K1096","v":0},0]
[1830,"Poles, Towers & Fixtures",2930272,null,2930272,19714824.330000002,null,19714824.330000002,{"$f":"+'App.2-BA_Fixed Asset Cont'!E1097","v":2962961},41.752743418487,2.3950522004674468E-2,45,2.2222222222222223E-2,70181.544015681458,438107.20733333338,32921.788888888892,541210.54023790371,{"$f":"-'App.2-BA_Fixed Asset Cont'!K1097","v":540867},-343.54023790371139]
[1835,"Overhead Conductors & Devices",9855401,null,9855401,8208527.4500000011,null,8208527.4500000011,{"$f":"+'App.2-BA_Fixed Asset Cont'!E1098","v":1565939},34.260180727682901,2.9188404111131272E-2,60,1.6666666666666666E-2,287663.42706524726,136808.79083333336,13049.491666666667,437521.70956524723,{"$f":"-'App.2-BA_Fixed Asset Cont'!K1098","v":461919},24397.290434752766]
[1840,"Underground Conduit",1182052,null,1182052,3023590.62,null,3023590.62,{"$f":"+'App.2-BA_Fixed Asset Cont'!E1099","v":506561},48.880589453278901,2.04580184319549E-2,60,1.6666666666666666E-2,24182.441603529151,50393.177000000003,4221.3416666666662,78796.960270195807,{"$f":"-'App.2-BA_Fixed Asset Cont'!K1099","v":84451},5654.0397298041935]
[1845,"Underground Conductors & Devices",7398854.5300000003,null,7398854.5300000003,6790242.7899999991,null,6790242.7899999991,{"$f":"+'App.2-BA_Fixed Asset Cont'!E1100","v":882089},27.634354615076699,3.6186841123274215E-2,40,2.5000000000000001E-2,267741.17337132769,169756.06974999997,11026.112499999999,448523.35562132765,{"$f":"-'App.2-BA_Fixed Asset Cont'!K1100","v":441832},-6691.3556213276461]
[1850,"Line Transformers",7257615,null,7257615,10751685.149999999,null,10751685.149999999,{"$f":"+'App.2-BA_Fixed Asset Cont'!E1101","v":1423770},31.084101332679701,3.2170786901555629E-2,40,2.5000000000000001E-2,233483.18557853365,268792.12874999997,17797.125,520072.4393285336,{"$f":"-'App.2-BA_Fixed Asset Cont'!K1101","v":519201},-871.43932853359729]
[1855,"Services (Overhead & Underground)",665779,null,665779,2163393.4500000002,null,2163393.4500000002,{"$f":"+'App.2-BA_Fixed Asset Cont'!E1102","v":577803},21.514436301568999,4.6480418356444335E-2,25,0.04,30945.686452935151,86535.738000000012,11556.06,129037.48445293517,{"$f":"-'App.2-BA_Fixed Asset Cont'!K1102","v":128004},-1033.4844529351685]
[1860,"Meters",662870,null,662870,641714.75999999989,null,641714.75999999989,{"$f":"+'App.2-BA_Fixed Asset Cont'!E1103","v":9073},13.289325261945701,7.524836515692214E-2,15,6.6666666666666666E-2,49879.88381156898,42780.983999999989,302.43333333333334,92963.301144902303,{"$f":"-'App.2-BA_Fixed Asset Cont'!K1103","v":78325},-14638.301144902303]
[1860,"Meters (Smart Meters)",4242960,null,4242960,2163932,null,2163932,{"$f":"+'App.2-BA_Fixed Asset Cont'!E1104","v":252684},13.289325261945701,7.524836515692214E-2,15,6.6666666666666666E-2,319275.80342621438,144262.13333333333,8422.7999999999993,471960.73675954767,{"$f":"-'App.2-BA_Fixed Asset Cont'!K1104","v":441918},-30042.736759547668]
[1905,"Land",{"$f":"E503","v":0},null,0,0,null,0,{"$f":"+'App.2-BA_Fixed Asset Cont'!E1105","v":0},0,0,0,0,0,0,0,0,{"$f":"-'App.2-BA_Fixed Asset Cont'!K1105","v":0},0]
[1908,"Buildings & Fixtures",5953531,null,5953531,1887993.84,null,1887993.84,{"$f":"+'App.2-BA_Fixed Asset Cont'!E1106","v":122400},44.093218247580403,2.2679224600596591E-2,60,1.6666666666666666E-2,135021.46671561443,31466.564000000002,1020,167508.03071561444,{"$f":"-'App.2-BA_Fixed Asset Cont'!K1106","v":194738},27229.969284385559]
[1910,"Leasehold Improvements",0,null,0,0,null,0,{"$f":"+'App.2-BA_Fixed Asset Cont'!E1107","v":0},0,0,0,0,0,0,0,0,{"$f":"-'App.2-BA_Fixed Asset Cont'!K1107","v":0},0]
[1915,"Office Furniture & Equipment (10 years)",0,null,0,338531.82000000007,null,338531.82000000007,{"$f":"+'App.2-BA_Fixed Asset Cont'!E1108","v":32500},0,0,10,0.1,0,33853.182000000008,1625,35478.182000000008,{"$f":"-'App.2-BA_Fixed Asset Cont'!K1108","v":34086},-1392.182000000008]
[1915,"Office Furniture & Equipment (5 years)",0,null,0,0,null,0,{"$f":"+'App.2-BA_Fixed Asset Cont'!E1109","v":0},0,0,0,0,0,0,0,0,{"$f":"-'App.2-BA_Fixed Asset Cont'!K1109","v":0},0]
[1920,"Computer Equip.-Hardware(Post Mar. 19/07)",0,null,0,4105934.22,340751,3765183.22,{"$f":"+'App.2-BA_Fixed Asset Cont'!E1110","v":550590},0,0,5,0.2,0,753036.64400000009,55059,808095.64400000009,{"$f":"-'App.2-BA_Fixed Asset Cont'!K1110","v":783860},-24235.644000000088]
[1920,"Computer Equip.-Hardware(Post Mar. 22/04)",0,null,0,0,null,0,{"$f":"+'App.2-BA_Fixed Asset Cont'!E1111","v":0},0,0,0,0,0,0,0,0,{"$f":"-'App.2-BA_Fixed Asset Cont'!K1111","v":0},0]
[1920,"Computer Equip.-Hardware",0,null,0,0,null,0,{"$f":"+'App.2-BA_Fixed Asset Cont'!E1112","v":0},0,0,0,0,0,0,0,0,{"$f":"-'App.2-BA_Fixed Asset Cont'!K1112","v":0},0]
[1930,"Transportation Equipment",0,null,0,4938210.83,{"$f":"260558+58784","v":319342},4618868.83,{"$f":"+'App.2-BA_Fixed Asset Cont'!E1113","v":285750},0,0,10,0.1,0,461886.88300000003,14287.5,476174.38300000003,{"$f":"-'App.2-BA_Fixed Asset Cont'!K1113","v":510424},34249.616999999969]
[1935,"Stores Equipment",0,null,0,49921.84,null,49921.84,{"$f":"+'App.2-BA_Fixed Asset Cont'!E1114","v":0},0,0,10,0.1,0,4992.1839999999993,0,4992.1839999999993,{"$f":"-'App.2-BA_Fixed Asset Cont'!K1114","v":6240},1247.8160000000007]
[1940,"Tools, Shop & Garage Equipment",0,null,0,1089510.6200000001,27076,1062434.6200000001,{"$f":"+'App.2-BA_Fixed Asset Cont'!E1115","v":159550},0,0,10,0.1,0,106243.46200000001,7977.5,114220.96200000001,{"$f":"-'App.2-BA_Fixed Asset Cont'!K1115","v":119032},4811.0379999999859]
[1945,"Measurement & Testing Equipment",0,null,0,0,null,0,{"$f":"+'App.2-BA_Fixed Asset Cont'!E1116","v":0},0,0,10,0.1,0,0,0,0,{"$f":"-'App.2-BA_Fixed Asset Cont'!K1116","v":0},0]
[1950,"Power Operated Equipment",{"$f":"E515","v":0},null,0,0,null,0,{"$f":"+'App.2-BA_Fixed Asset Cont'!E1117","v":0},0,0,0,0,0,0,0,0,{"$f":"-'App.2-BA_Fixed Asset Cont'!K1117","v":0},0]
[1955,"Communications Equipment",0,null,0,18489,null,18489,{"$f":"+'App.2-BA_Fixed Asset Cont'!E1118","v":375000},0,0,10,0.1,0,1848.9,18750,20598.900000000001,{"$f":"-'App.2-BA_Fixed Asset Cont'!K1118","v":20599},9.9999999998544808E-2]
[1955,"Communication Equipment (Smart Meters)",0,null,0,0,null,0,{"$f":"+'App.2-BA_Fixed Asset Cont'!E1119","v":0},0,0,0,0,0,0,0,0,{"$f":"-'App.2-BA_Fixed Asset Cont'!K1119","v":0},0]
[1960,"Miscellaneous Equipment ",0,null,0,140434.11000000002,null,140434.11000000002,{"$f":"+'App.2-BA_Fixed Asset Cont'!E1120","v":24200},0,0,10,0.1,0,14043.411000000002,1210,15253.411000000002,{"$f":"-'App.2-BA_Fixed Asset Cont'!K1120","v":14309},-944.41100000000188]
[1970,"Load Management Controls Customer Premises",0,null,0,0,null,0,{"$f":"+'App.2-BA_Fixed Asset Cont'!E1121","v":0},0,0,0,0,0,0,0,0,{"$f":"-'App.2-BA_Fixed Asset Cont'!K1121","v":0},0]
[1975,"Load Management Controls Utility Premises",0,null,0,0,null,0,{"$f":"+'App.2-BA_Fixed Asset Cont'!E1122","v":0},0,0,0,0,0,0,0,0,{"$f":"-'App.2-BA_Fixed Asset Cont'!K1122","v":0},0]
[1980,"System Supervisor Equipment",306629,56796,249833,359872.41000000003,null,359872.41000000003,{"$f":"+'App.2-BA_Fixed Asset Cont'!E1123","v":3410},16.9475082785046,5.9005724237842776E-2,10,0.1,14741.577103512975,35987.241000000002,170.5,50899.318103512975,{"$f":"-'App.2-BA_Fixed Asset Cont'!K1123","v":27710},-23189.318103512975]
[1980,"System Supervisor Equipment (smart grid)",0,null,0,0,null,0,{"$f":"+'App.2-BA_Fixed Asset Cont'!E1124","v":0},null,0,0,0,0,0,0,0,{"$f":"-'App.2-BA_Fixed Asset Cont'!K1124","v":2279},2279]
[1985,"Miscellaneous Fixed Assets",0,null,0,{"$f":"+H522+I522","v":0},null,0,{"$f":"+'App.2-BA_Fixed Asset Cont'!E1125","v":0},{"$f":"+J522","v":0},0,{"$f":"+L522","v":0},0,0,0,0,0,{"$f":"-'App.2-BA_Fixed Asset Cont'!K1125","v":0},0]
[1990,"Other Tangible Property",{"$f":"E523","v":645280},null,645280,{"$f":"+H523+I523","v":1269332},null,1269332,{"$f":"+'App.2-BA_Fixed Asset Cont'!E1126","v":0},{"$f":"+J523","v":0},0,{"$f":"+L523","v":0},0,0,0,0,0,{"$f":"-'App.2-BA_Fixed Asset Cont'!K1126","v":0},0]
[1995,"Contributions & Grants",{"$f":"E524","v":-5126899},null,-5126899,{"$f":"+H524+I524","v":-537827},null,-537827,{"$f":"+'App.2-BA_Fixed Asset Cont'!E1127","v":0},{"$f":"+J524","v":43.759272338115849},2.2852299560040108E-2,50,0.02,-117161.43176207006,-10756.54,0,-127917.97176207005,{"$f":"-'App.2-BA_Fixed Asset Cont'!K1127","v":-82713},45204.971762070054]
[2440,"Deferred Revenue",{"$f":"+C525","v":0},null,0,{"$f":"+H525+I525","v":-3394408.5},null,-3394408.5,{"$f":"+'App.2-BA_Fixed Asset Cont'!E1128","v":-1000000},{"$f":"+J525","v":0},0,50,0.02,0,-67888.17,-10000,-77888.17,{"$f":"-'App.2-BA_Fixed Asset Cont'!K1128","v":-83124},-5235.8300000000017]
[2005,"Property Under Finance Lease",null,null,0,null,null,0,null,null,0,null,0,0,0,0,0,{"$f":"-'App.2-BA_Fixed Asset Cont'!K1130","v":0},0]
[null,"Total",{"$f":"SUM(C537:C578)","v":39679517.530000001},{"$f":"SUM(D537:D578)","v":56796},39622721.530000001,72760001.390000015,1363676,71396325.390000015,12272100,null,null,null,null,{"$f":"SUM(N537:N578)","v":1437208.7024505232},3708234.4794999994,352744.40305555554,5498187.5850060796,5483872,-14315.585006078705]

{"sheet":"App.2-D_Overhead","index":13,"n_rows":53,"n_cols":16,"rows_kept":53,"cut":false,"hidden":false,"merged":[[6,8,6,9],[8,0,8,8],[9,0,9,8],[13,0,15,0],[30,0,32,0],[30,15,32,15],[11,0,11,6],[28,0,28,6],[63,0,64,0],[49,0,50,0],[49,2,50,2],[52,0,53,0],[55,0,56,0],[58,0,61,0]]}
[null,null,null,null,null,null,null,"File Number:",{"$f":"EBNUMBER","v":"EB-2022-0016"}]
[null,null,null,null,null,null,null,"Exhibit:"]
[null,null,null,null,null,null,null,"Tab:"]
[null,null,null,null,null,null,null,"Schedule:"]
[null,null,null,null,null,null,null,"Page:"]
[]
[null,null,null,null,null,null,null,"Date:","2023-02-13"]
[]
["Appendix 2-D"]
["Overhead Expense"]
[]
["Applicants are to provide a breakdown of OM&A before capitalization in the below table.  OM&A before capitalization may be broken down by cost center, program, drivers or another format best suited to focus on capitalized vs. uncapitalized OM&A."]
[]
[" OM&A Before Capitalization"]
[null,2013,{"$f":"G15-4","v":2013},{"$f":"G15-3","v":2014},{"$f":"G15-2","v":2015},{"$f":"G15-1","v":2016},{"$f":"K15-4","v":2017},{"$f":"M15-4","v":2018},{"$f":"N15-4","v":2019},{"$f":"N15-3","v":2020},{"$f":"N15-2","v":2021},2022,{"$f":"N15-1","v":2022},{"$f":"TestYear","v":2023}]
[null,"OEB Approved","Historical Year","Historical Year","Historical Year","Historical Year","Historical Year","Historical Year","Historical Year","Historical Year","Historical Year","Actual","Bridge Year","Test Year"]
["Operations Expense",4673625.0288247103,4843527.1000000015,4991530.6999999983,5552568.7799999993,5777384.370000001,5826448.1300000027,6478363.0100000007,6837712.429999996,6688684.5069999993,6512023.0999999996,7327083.629999999,7790914.0001999997,8367844]
["Maintenance Expense",136331.41606079505,132433.91999999998,98269.309999999983,180124.80000000002,163254.70000000001,496689.13999999996,475522.22,494281.89,400271.31000000006,1082631.54,1359441.12,1294093.0002000001,1453769]
["Billing & Collections Expense",1859428.7904348574,2032298.56,2008834.8300000003,2118001.3400000003,2642769.14,2011201.7500000007,1886244.75,1927257.0699999994,1830895.9000000004,2144914.629999999,2026549.62,1956293.0001000001,2036929]
["Community Relations Expense",245980.15218627726,265912.68,228805.58000000005,258257.09999999998,330038.43,370674.23,459107.18,387826.74,360960.36,171438.12000000002,26723.840000000011,142483,176527]
["Administration & General",7165191.1265982296,6968549.1199999973,6512091.6999999993,6733888.7800000003,7432610.4199999999,7934561.879999998,7853254.0700000012,8258504.1799999978,8171379.0800000019,7794530.8999999994,8451618.6500000022,8142063.0000999998,8619764]
["LEAP",0,24000,24848,24848,24848,24848,24848,24848,24848,66280,24848,24848,29999.999999999996]
[]
[]
[]
[]
["Total OM&A Before Capitalization (B)",{"$f":"SUM(B17:B26)","v":14080556.514104869},14266721.379999999,13864380.119999997,14867688.800000001,16370905.060000001,16664423.130000003,17177339.23,17930430.309999995,17477039.157000002,17771818.289999999,19216264.860000003,19350694.000599999,20684833]
[]
["Applicants are to provide a breakdown of capitalized OM&A in the below table. Capitalized OM&A may be broken down using the categories listed in the table below if possible. Otherwise, applicants are to provide its own break down of capitalized OM&A."]
[]
["Capitalized OM&A",null,null,null,null,null,null,null,null,null,null,null,null,null,"Directly","Explanation for Change in Overhead Capitalized"]
[null,2013,{"$f":"G32-4","v":2013},2014,2015,2016,2017,{"$f":"M32-4","v":2018},{"$f":"N32-4","v":2019},{"$f":"N32-3","v":2020},{"$f":"N32-2","v":2021},2022,{"$f":"N32-1","v":2022},{"$f":"TestYear","v":2023},"Attributable?"]
[null,"OEB Approved","Historical Year","Historical Year","Historical Year","Historical Year","Historical Year","Historical Year","Historical Year","Historical Year","Historical Year","Actual","Bridge Year","Test Year","(Yes/No)"]
["employee benefits"]
["costs of site preparation"]
["initial delivery and handling costs"]
["costs of testing whether the asset is functioning properly"]
["professional fees"]
[]
["costs of opening a new facility"]
["costs of introducing a new product or service (including costs of advertising and promotional activities)"]
["costs of conducting business in a new location or with a new class of customer (including costs of staff training)"]
["administration and other general overhead costs"]
[]
["Capitalized Directly attributed labour (including benefits)",1583834.5314630684,1775604.87,1929074.52,2341234.94,2516046.6700000004,2674518.8800000004,2918323.0799999996,4015670.5199999996,4132585.6200000006,4154925.87,4595179,4539828,4550412,"Yes"]
["Capitalized Vehicle Costs",219162.78974597933,189595.03,153178.20000000001,283809.5,315411.76,396187.2,373195.4,499332.75,416314.57,424390,433265,369972,370588,"Yes"]
["Total Capitalized OM&A (A)",{"$f":"(SUM(B34:B46))","v":1802997.3212090477},{"$f":"(SUM(C34:C46))","v":1965199.9000000001},2082252.72,2625044.44,2831458.4300000006,3070706.0800000005,3291518.4799999995,4515003.2699999996,4548900.1900000004,4579315.87,5028444,{"$f":"(SUM(M34:M46))","v":4909800},{"$f":"(SUM(N34:N46))","v":4921000}]
[]
["% of Capitalized OM&A (=A/B)",{"$f":"IF(ISERROR(B47/B27),\"0%\",B47/B27)","v":0.12804872587265548},{"$f":"IF(ISERROR(C47/C27),\"0%\",C47/C27)","v":0.13774712827538238},0.15018722091990655,0.17656035684577953,0.17295674366338304,0.18426716940906193,{"$f":"IF(ISERROR(H47/H27),\"0%\",H47/H27)","v":0.19161981002572304},{"$f":"IF(ISERROR(I47/I27),\"0%\",I47/I27)","v":0.25180674372783646},0.26027865184349885,0.25767289510138247,0.26167645151826863,0.253727334009197,0.23790378196430206]
[]
[]
[-1]
["Net OM&A after Capitalization",{"$f":"B27-B47","v":12277559.192895822},{"$f":"C27-C47","v":12301521.479999999},11782127.399999997,12242644.360000001,13539446.629999999,13593717.050000003,13885820.75,13415427.039999995,12928138.967,13192502.419999998,null,14440894.000599999,15763833]

{"sheet":"App.2-EA_Account 1575 (2015)","index":14,"n_rows":47,"n_cols":9,"rows_kept":47,"cut":false,"hidden":true,"merged":[[20,1,20,5],[8,0,8,8],[9,0,9,8],[10,0,10,8],[12,0,12,8],[14,0,14,8],[47,0,47,9],[52,0,53,8],[25,1,26,5],[31,1,31,5],[37,6,38,7],[37,8,38,8]]}
[null,null,null,null,null,null,null,"File Number:",{"$f":"EBNUMBER","v":"EB-2022-0016"}]
[null,null,null,null,null,null,null,"Exhibit:"]
[null,null,null,null,null,null,null,"Tab:"]
[null,null,null,null,null,null,null,"Schedule:"]
[null,null,null,null,null,null,null,"Page:"]
[]
[null,null,null,null,null,null,null,"Date:"]
[]
["Appendix 2-EA"]
["Account 1575 - IFRS-CGAAP Transitional PP&E Amounts"]
["2015 Adopters of IFRS for Financial Reporting Purposes"]
[]
["For applicants that adopted IFRS on January 1, 2015 for financial reporting purposes"]
[]
[]
[]
[null,2014,{"$f":"TestYear-3","v":2020},{"$f":"TestYear-2","v":2021},{"$f":"CONCATENATE(TestYear-1,\" Bridge Year\")","v":"2022 Bridge Year"},{"$f":"CONCATENATE(TestYear,\" Rebasing Year\")","v":"2023 Rebasing Year"}]
["Reporting Basis","CGAAP","CGAAP","CGAAP","MIFRS","MIFRS"]
[null,"Actual","Actual","Actual","Forecast","Forecast"]
[null,null,null,"$","$"]
["PP&E Values under CGAAP"]
["            Opening net PP&E - Note 1",null,{"$f":"+B25","v":0},{"$f":"+C25","v":0},{"$f":"+D25","v":0}]
["            Net Additions - Note 4"]
["            Net Depreciation (amounts should be negative) - Note 4"]
["            Closing net PP&E (1)",{"$f":"SUM(B22:B24)","v":0},{"$f":"SUM(C22:C24)","v":0},{"$f":"SUM(D22:D24)","v":0},{"$f":"SUM(E22:E24)","v":0}]
[]
["PP&E Values under MIFRS (Starts from 2014, the transition year)"]
["            Opening net PP&E  - Note 1",null,{"$f":"+B31","v":0},{"$f":"+C31","v":0},{"$f":"+D31","v":0}]
["            Net Additions - Note 4"]
["            Net Depreciation (amounts should be negative) - Note 4"]
["            Closing net PP&E (2)",{"$f":"SUM(B28:B30)","v":0},{"$f":"SUM(C28:C30)","v":0},{"$f":"SUM(D28:D30)","v":0},{"$f":"SUM(E28:E30)","v":0}]
[]
["Difference in Closing net PP&E, former CGAAP vs. revised CGAAP ",{"$f":"B25-B31","v":0},{"$f":"C25-C31","v":0},{"$f":"D25-D31","v":0},{"$f":"E25-E31","v":0}]
[]
[]
["Effect on Deferral and Variance Account Rate Riders"]
["Closing balance in Account 1575",null,null,null,null,{"$f":"IF(ISERROR(E33), 0, E33)","v":0},null,"WACC"]
["Return on Rate Base Associated with Account 1575 balance at WACC  - Note 2",null,null,null,null,{"$f":"E33*I37*I38","v":0},"# of years of rate rider disposition period"]
["     Amount included in Deferral and Variance Account Rate Rider Calculation",null,null,null,null,{"$f":"F37+F38","v":0}]
[]
["Notes:"]
["1  For an applicant that adopted IFRS on January 1, 2015, the PP&E values as of January 1, 2014 under both CGAAP and MIFRS should be the same. "]
["2 Return on rate base associated with deferred balance is calculated as:"]
["     the deferral account closing balance as of 2017 x WACC X # of years of rate rider disposition period"]
["     * Please note that the calculation should be adjusted once WACC is updated and finalized in the rate application."]
["3  The  PP&E deferral account is cleared by including the total balance in the deferral and variance account rate rider calculation."]
["4  Net additions are additions net of disposals; Net depreciation is additions to depreciation net of disposals."]

{"sheet":"App.2-EB_Account 1576 (2012)","index":15,"n_rows":48,"n_cols":12,"rows_kept":48,"cut":false,"hidden":true,"merged":[[41,0,41,12],[45,0,45,10],[8,0,8,11],[9,0,9,11],[10,0,10,11],[12,0,13,11],[14,0,14,11],[20,1,20,8],[25,1,26,8],[31,1,31,8],[37,9,38,10],[37,11,38,11]]}
[null,null,null,null,null,null,null,null,null,null,"File Number:",{"$f":"EBNUMBER","v":"EB-2022-0016"}]
[null,null,null,null,null,null,null,null,null,null,"Exhibit:"]
[null,null,null,null,null,null,null,null,null,null,"Tab:"]
[null,null,null,null,null,null,null,null,null,null,"Schedule:"]
[null,null,null,null,null,null,null,null,null,null,"Page:"]
[]
[null,null,null,null,null,null,null,null,null,null,"Date:"]
[]
["Appendix 2-EB"]
["Account 1576 - Accounting Changes under CGAAP"]
["2012 Changes in Accounting Policies under CGAAP"]
[]
["For applicants with a balance in Account 1576 and made capitalization and depreciation expense accounting policy changes under CGAAP effective January 1, 2012.  This is the first time the applicant is rebasing with changes in these accounting policies."]
[]
[]
[]
[null,"Prior Years Rebasing",2012,2013,2014,2015,2016,2017,"2018 Rebasing Year"]
["Reporting Basis","CGAAP","CGAAP","CGAAP","CGAAP","MIFRS - Note 5","MIFRS","MIFRS","MIFRS"]
[null,"Forecast","Actual","Actual","Actual","Actual","Actual","Forecast","Forecast"]
[null,null,"$","$","$","$","$","$"]
["PP&E Values under former CGAAP"]
["            Opening net PP&E - Note 1",null,null,{"$f":"+C25","v":0},{"$f":"+D25","v":0},{"$f":"+E25","v":0},{"$f":"+F25","v":0},{"$f":"+G25","v":0}]
["            Net Additions - Note 4"]
["            Net Depreciation (amounts should be negative) - Note 4"]
["            Closing net PP&E (1)",null,{"$f":"C22+C23+C24","v":0},0,0,0,0,0]
[]
["PP&E Values under revised CGAAP (Starts from 2012)"]
["            Opening net PP&E  - Note 1",null,null,{"$f":"+C31","v":0},{"$f":"+D31","v":0},{"$f":"+E31","v":0},{"$f":"+F31","v":0},{"$f":"+G31","v":0}]
["            Net Additions - Note 4"]
["            Net Depreciation (amounts should be negative) - Note 4"]
["            Closing net PP&E (2)",null,{"$f":"SUM(C28:C30)","v":0},0,0,0,0,0]
[]
["Difference in Closing net PP&E, former CGAAP vs. revised CGAAP ",null,{"$f":"C25-C31","v":0},0,0,0,0,0]
[]
[]
["Effect on Deferral and Variance Account Rate Riders"]
["Closing balance in Account 1576",null,null,null,null,null,null,null,{"$f":"IF(ISERROR(H33), 0, H33)","v":0},null,"WACC"]
["Return on Rate Base Associated with Account 1576 balance at WACC  - Note 2",null,null,null,null,null,null,null,{"$f":"H33*L37*L38","v":0},"# of years of rate rider disposition period"]
["     Amount included in Deferral and Variance Account Rate Rider Calculation",null,null,null,null,null,null,null,{"$f":"I37+I38","v":0}]
[]
["Notes:"]
["1  For an applicant that made the capitalization and depreciation expense accounting policy changes on January 1, 2012, the PP&E values as of January 1, 2012 under both former CGAAP and revised CGAAP should be the same. "]
["2 Return on rate base associated with Account 1576 balance is calculated as:"]
["     the variance account ending balance as of 2017 x WACC X # of years of rate rider disposition period"]
["     * Please note that the calculation should be adjusted once WACC is updated and finalized in the rate application."]
["3  Account 1576 is cleared by including the total balance in the deferral and variance account rate rider calculation."]
["4  Net additions are additions net of disposals; Net depreciation is additions to depreciation net of disposals."]
["5 Differences due to the adoption of MIFRS are to be shown separately in Account 1575 in Appendix 2-EA as Accounts 1575 and 1576 cannot be used interchangably."]

{"sheet":"App.2-EC_Account 1576 (2013)","index":16,"n_rows":48,"n_cols":11,"rows_kept":48,"cut":false,"hidden":true,"merged":[[45,0,45,9],[8,0,8,10],[9,0,9,10],[10,0,10,10],[12,0,12,10],[14,0,14,10],[37,10,38,10],[20,1,20,7],[25,1,26,7],[31,1,31,7],[37,8,38,9],[41,0,41,11]]}
[null,null,null,null,null,null,null,null,null,"File Number:",{"$f":"EBNUMBER","v":"EB-2022-0016"}]
[null,null,null,null,null,null,null,null,null,"Exhibit:"]
[null,null,null,null,null,null,null,null,null,"Tab:"]
[null,null,null,null,null,null,null,null,null,"Schedule:"]
[null,null,null,null,null,null,null,null,null,"Page:"]
[]
[null,null,null,null,null,null,null,null,null,"Date:"]
[]
["Appendix 2-EC"]
["Account 1576 - Accounting Changes under CGAAP"]
["2013 Changes in Accounting Policies under CGAAP"]
[]
["For applicants with a balance in Account 1576 and made capitalization and depreciation expense accounting policy changes under CGAAP effective January 1, 2013.  This is the first time the applicant is rebasing with changes in these accounting policies."]
[]
[]
[]
[null,"Prior Years Rebasing",2013,2014,2015,2016,2017,"2018 Rebasing Year"]
["Reporting Basis","CGAAP","CGAAP","CGAAP","MIFRS - Note 5","MIFRS","MIFRS","MIFRS"]
[null,"Actual","Actual","Actual","Actual","Actual","Forecast","Forecast"]
[null,null,"$","$",null,"$"]
["PP&E Values under former CGAAP"]
["            Opening net PP&E - Note 1",null,null,{"$f":"+C25","v":0},{"$f":"+D25","v":0},{"$f":"+E25","v":0},{"$f":"+F25","v":0}]
["            Net Additions - Note 4"]
["            Net Depreciation (amounts should be negative) - Note 4"]
["            Closing net PP&E (1)",null,{"$f":"C22+C23+C24","v":0},{"$f":"D22+D23+D24","v":0},{"$f":"E22+E23+E24","v":0},{"$f":"F22+F23+F24","v":0},{"$f":"G22+G23+G24","v":0}]
[]
["PP&E Values under revised CGAAP (Starts from 2012)"]
["            Opening net PP&E  - Note 1",null,null,{"$f":"+C31","v":0},{"$f":"+D31","v":0},{"$f":"+E31","v":0},{"$f":"+F31","v":0}]
["            Net Additions - Note 4"]
["            Net Depreciation (amounts should be negative) - Note 4"]
["            Closing net PP&E (2)",null,{"$f":"SUM(C28:C30)","v":0},{"$f":"SUM(D28:D30)","v":0},{"$f":"SUM(E28:E30)","v":0},{"$f":"SUM(F28:F30)","v":0},{"$f":"SUM(G28:G30)","v":0}]
[]
["Difference in Closing net PP&E, former CGAAP vs. revised CGAAP ",null,{"$f":"C25-C31","v":0},{"$f":"D25-D31","v":0},{"$f":"E25-E31","v":0},{"$f":"F25-F31","v":0},{"$f":"G25-G31","v":0}]
[]
[]
["Effect on Deferral and Variance Account Rate Riders"]
["Closing balance in Account 1576",null,null,null,null,null,null,{"$f":"IF(ISERROR(G33), 0, G33)","v":0},null,"WACC"]
["Return on Rate Base Associated with Account 1576 balance at WACC  - Note 2",null,null,null,null,null,null,{"$f":"G33*K37*K38","v":0},"# of years of rate rider disposition period"]
["     Amount included in Deferral and Variance Account Rate Rider Calculation",null,null,null,null,null,null,{"$f":"H37+H38","v":0}]
[]
["Notes:"]
["1  For an applicant that made the capitalization and depreciation expense accounting policy changes on January 1, 2013, the PP&E values as of January 1, 2013 under both former CGAAP and revised CGAAP should be the same. "]
["2 Return on rate base associated with Account 1576 balance is calculated as:"]
["     the variance account ending balance as of 2017 x WACC X # of years of rate rider disposition period"]
["     * Please note that the calculation should be adjusted once WACC is updated and finalized in the rate application."]
["3  Account 1576 is cleared by including the total balance in the deferral and variance account rate rider calculation."]
["4  Net additions are additions net of disposals; Net depreciation is additions to depreciation net of disposals."]
["5 Differences due to the adoption of MIFRS are to be shown separately in Account 1575 in Appendix 2-EA as Accounts 1575 and 1576 cannot be used interchangably."]

{"sheet":"Hidden_REG Invest.","index":17,"n_rows":61,"n_cols":8,"rows_kept":61,"cut":false,"hidden":true,"merged":[]}
["Utility Name","EB Number","Test Year","Bridge Year","Last Rebasing Year","Renewable Generation Connection Investment Summary","Year","Amount"]
[{"$f":"'LDC Info'!$E$14","v":"Bluewater Power Distribution Corporation"},{"$f":"EBNUMBER","v":"EB-2022-0016"},{"$f":"TestYear","v":2023},{"$f":"BridgeYear","v":2022},{"$f":"RebaseYear","v":2013},"REI Investments_A_Total Capital Costs",{"$f":"'App.2-FA Proposed REG Invest.'!$C$31","v":2018},{"$f":"'App.2-FA Proposed REG Invest.'!C62","v":0}]
[{"$f":"'LDC Info'!$E$14","v":"Bluewater Power Distribution Corporation"},"EB-2022-0016",2023,2022,2013,"REI Investments_A_Total OM&A Start-Up",{"$f":"'App.2-FA Proposed REG Invest.'!$C$31","v":2018},{"$f":"'App.2-FA Proposed REG Invest.'!$C63","v":0}]
[{"$f":"'LDC Info'!$E$14","v":"Bluewater Power Distribution Corporation"},"EB-2022-0016",2023,2022,2013,"REI Investments_A_Total OM&A Ongoing",{"$f":"'App.2-FA Proposed REG Invest.'!$C$31","v":2018},{"$f":"'App.2-FA Proposed REG Invest.'!$C64","v":0}]
[{"$f":"'LDC Info'!$E$14","v":"Bluewater Power Distribution Corporation"},"EB-2022-0016",2023,2022,2013,"REI Investments_A_Total Capital Costs",{"$f":"'App.2-FA Proposed REG Invest.'!$D$31","v":2019},{"$f":"'App.2-FA Proposed REG Invest.'!D62","v":0}]
[{"$f":"'LDC Info'!$E$14","v":"Bluewater Power Distribution Corporation"},"EB-2022-0016",2023,2022,2013,"REI Investments_A_Total OM&A Start-Up",{"$f":"'App.2-FA Proposed REG Invest.'!$D$31","v":2019},{"$f":"'App.2-FA Proposed REG Invest.'!D63","v":0}]
[{"$f":"'LDC Info'!$E$14","v":"Bluewater Power Distribution Corporation"},"EB-2022-0016",2023,2022,2013,"REI Investments_A_Total OM&A Ongoing",{"$f":"'App.2-FA Proposed REG Invest.'!$D$31","v":2019},{"$f":"'App.2-FA Proposed REG Invest.'!D64","v":0}]
[{"$f":"'LDC Info'!$E$14","v":"Bluewater Power Distribution Corporation"},"EB-2022-0016",2023,2022,2013,"REI Investments_A_Total Capital Costs",{"$f":"'App.2-FA Proposed REG Invest.'!$E$31","v":2020},{"$f":"'App.2-FA Proposed REG Invest.'!E62","v":0}]
[{"$f":"'LDC Info'!$E$14","v":"Bluewater Power Distribution Corporation"},"EB-2022-0016",2023,2022,2013,"REI Investments_A_Total OM&A Start-Up",{"$f":"'App.2-FA Proposed REG Invest.'!$E$31","v":2020},{"$f":"'App.2-FA Proposed REG Invest.'!E63","v":0}]
[{"$f":"'LDC Info'!$E$14","v":"Bluewater Power Distribution Corporation"},"EB-2022-0016",2023,2022,2013,"REI Investments_A_Total OM&A Ongoing",{"$f":"'App.2-FA Proposed REG Invest.'!$E$31","v":2020},{"$f":"'App.2-FA Proposed REG Invest.'!E64","v":0}]
[{"$f":"'LDC Info'!$E$14","v":"Bluewater Power Distribution Corporation"},"EB-2022-0016",2023,2022,2013,"REI Investments_A_Total Capital Costs",{"$f":"'App.2-FA Proposed REG Invest.'!$F$31","v":2021},{"$f":"'App.2-FA Proposed REG Invest.'!F62","v":0}]
[{"$f":"'LDC Info'!$E$14","v":"Bluewater Power Distribution Corporation"},"EB-2022-0016",2023,2022,2013,"REI Investments_A_Total OM&A Start-Up",{"$f":"'App.2-FA Proposed REG Invest.'!$F$31","v":2021},{"$f":"'App.2-FA Proposed REG Invest.'!F63","v":0}]
[{"$f":"'LDC Info'!$E$14","v":"Bluewater Power Distribution Corporation"},"EB-2022-0016",2023,2022,2013,"REI Investments_A_Total OM&A Ongoing",{"$f":"'App.2-FA Proposed REG Invest.'!$F$31","v":2021},{"$f":"'App.2-FA Proposed REG Invest.'!F64","v":0}]
[{"$f":"'LDC Info'!$E$14","v":"Bluewater Power Distribution Corporation"},"EB-2022-0016",2023,2022,2013,"REI Investments_A_Total Capital Costs",{"$f":"'App.2-FA Proposed REG Invest.'!$G$31","v":2022},{"$f":"'App.2-FA Proposed REG Invest.'!G62","v":0}]
[{"$f":"'LDC Info'!$E$14","v":"Bluewater Power Distribution Corporation"},"EB-2022-0016",2023,2022,2013,"REI Investments_A_Total OM&A Start-Up",{"$f":"'App.2-FA Proposed REG Invest.'!$G$31","v":2022},{"$f":"'App.2-FA Proposed REG Invest.'!G63","v":0}]
[{"$f":"'LDC Info'!$E$14","v":"Bluewater Power Distribution Corporation"},"EB-2022-0016",2023,2022,2013,"REI Investments_A_Total OM&A Ongoing",{"$f":"'App.2-FA Proposed REG Invest.'!$G$31","v":2022},{"$f":"'App.2-FA Proposed REG Invest.'!G64","v":0}]
[{"$f":"'LDC Info'!$E$14","v":"Bluewater Power Distribution Corporation"},"EB-2022-0016",2023,2022,2013,"REI Investments_A_Total Capital Costs",{"$f":"'App.2-FA Proposed REG Invest.'!$H$31","v":2023},{"$f":"'App.2-FA Proposed REG Invest.'!H62","v":0}]
[{"$f":"'LDC Info'!$E$14","v":"Bluewater Power Distribution Corporation"},"EB-2022-0016",2023,2022,2013,"REI Investments_A_Total OM&A Start-Up",{"$f":"'App.2-FA Proposed REG Invest.'!$H$31","v":2023},{"$f":"'App.2-FA Proposed REG Invest.'!H63","v":0}]
[{"$f":"'LDC Info'!$E$14","v":"Bluewater Power Distribution Corporation"},"EB-2022-0016",2023,2022,2013,"REI Investments_A_Total OM&A Ongoing",{"$f":"'App.2-FA Proposed REG Invest.'!$H$31","v":2023},{"$f":"'App.2-FA Proposed REG Invest.'!H64","v":0}]
[{"$f":"'LDC Info'!$E$14","v":"Bluewater Power Distribution Corporation"},"EB-2022-0016",2023,2022,2013,"REI Investments_A_Total Capital Costs",{"$f":"'App.2-FA Proposed REG Invest.'!$I$31","v":2024},{"$f":"'App.2-FA Proposed REG Invest.'!I62","v":0}]
[{"$f":"'LDC Info'!$E$14","v":"Bluewater Power Distribution Corporation"},"EB-2022-0016",2023,2022,2013,"REI Investments_A_Total OM&A Start-Up",{"$f":"'App.2-FA Proposed REG Invest.'!$I$31","v":2024},{"$f":"'App.2-FA Proposed REG Invest.'!I63","v":0}]
[{"$f":"'LDC Info'!$E$14","v":"Bluewater Power Distribution Corporation"},"EB-2022-0016",2023,2022,2013,"REI Investments_A_Total OM&A Ongoing",{"$f":"'App.2-FA Proposed REG Invest.'!$I$31","v":2024},{"$f":"'App.2-FA Proposed REG Invest.'!I64","v":0}]
[{"$f":"'LDC Info'!$E$14","v":"Bluewater Power Distribution Corporation"},"EB-2022-0016",2023,2022,2013,"REI Investments_A_Total Capital Costs",{"$f":"'App.2-FA Proposed REG Invest.'!$J$31","v":2025},{"$f":"'App.2-FA Proposed REG Invest.'!J62","v":0}]
[{"$f":"'LDC Info'!$E$14","v":"Bluewater Power Distribution Corporation"},"EB-2022-0016",2023,2022,2013,"REI Investments_A_Total OM&A Start-Up",{"$f":"'App.2-FA Proposed REG Invest.'!$J$31","v":2025},{"$f":"'App.2-FA Proposed REG Invest.'!J63","v":0}]
[{"$f":"'LDC Info'!$E$14","v":"Bluewater Power Distribution Corporation"},"EB-2022-0016",2023,2022,2013,"REI Investments_A_Total OM&A Ongoing",{"$f":"'App.2-FA Proposed REG Invest.'!$J$31","v":2025},{"$f":"'App.2-FA Proposed REG Invest.'!J64","v":0}]
[{"$f":"'LDC Info'!$E$14","v":"Bluewater Power Distribution Corporation"},"EB-2022-0016",2023,2022,2013,"REI Investments_A_Total Capital Costs",{"$f":"'App.2-FA Proposed REG Invest.'!$K$31","v":2026},{"$f":"'App.2-FA Proposed REG Invest.'!K62","v":0}]
[{"$f":"'LDC Info'!$E$14","v":"Bluewater Power Distribution Corporation"},"EB-2022-0016",2023,2022,2013,"REI Investments_A_Total OM&A Start-Up",{"$f":"'App.2-FA Proposed REG Invest.'!$K$31","v":2026},{"$f":"'App.2-FA Proposed REG Invest.'!K63","v":0}]
[{"$f":"'LDC Info'!$E$14","v":"Bluewater Power Distribution Corporation"},"EB-2022-0016",2023,2022,2013,"REI Investments_A_Total OM&A Ongoing",{"$f":"'App.2-FA Proposed REG Invest.'!$K$31","v":2026},{"$f":"'App.2-FA Proposed REG Invest.'!K64","v":0}]
[{"$f":"'LDC Info'!$E$14","v":"Bluewater Power Distribution Corporation"},"EB-2022-0016",2023,2022,2013,"REI Investments_A_Total Capital Costs",{"$f":"'App.2-FA Proposed REG Invest.'!$L$31","v":2027},{"$f":"'App.2-FA Proposed REG Invest.'!L62","v":0}]
[{"$f":"'LDC Info'!$E$14","v":"Bluewater Power Distribution Corporation"},"EB-2022-0016",2023,2022,2013,"REI Investments_A_Total OM&A Start-Up",{"$f":"'App.2-FA Proposed REG Invest.'!$L$31","v":2027},{"$f":"'App.2-FA Proposed REG Invest.'!L63","v":0}]
[{"$f":"'LDC Info'!$E$14","v":"Bluewater Power Distribution Corporation"},"EB-2022-0016",2023,2022,2013,"REI Investments_A_Total OM&A Ongoing",{"$f":"'App.2-FA Proposed REG Invest.'!$L$31","v":2027},{"$f":"'App.2-FA Proposed REG Invest.'!L64","v":0}]
[{"$f":"'LDC Info'!$E$14","v":"Bluewater Power Distribution Corporation"},"EB-2022-0016",2023,2022,2013,"Expansion Investments_B_Total Capital Costs",{"$f":"'App.2-FA Proposed REG Invest.'!$C$31","v":2018},{"$f":"'App.2-FA Proposed REG Invest.'!C99","v":0}]
[{"$f":"'LDC Info'!$E$14","v":"Bluewater Power Distribution Corporation"},"EB-2022-0016",2023,2022,2013,"Expansion Investments_B_Total OM&A Start-Up",{"$f":"'App.2-FA Proposed REG Invest.'!$C$31","v":2018},{"$f":"'App.2-FA Proposed REG Invest.'!C100","v":0}]
[{"$f":"'LDC Info'!$E$14","v":"Bluewater Power Distribution Corporation"},"EB-2022-0016",2023,2022,2013,"Expansion Investments_B_Total OM&A Ongoing",{"$f":"'App.2-FA Proposed REG Invest.'!$C$31","v":2018},{"$f":"'App.2-FA Proposed REG Invest.'!C101","v":0}]
[{"$f":"'LDC Info'!$E$14","v":"Bluewater Power Distribution Corporation"},"EB-2022-0016",2023,2022,2013,"Expansion Investments_B_Total Capital Costs",{"$f":"'App.2-FA Proposed REG Invest.'!$D$31","v":2019},{"$f":"'App.2-FA Proposed REG Invest.'!D99","v":0}]
[{"$f":"'LDC Info'!$E$14","v":"Bluewater Power Distribution Corporation"},"EB-2022-0016",2023,2022,2013,"Expansion Investments_B_Total OM&A Start-Up",{"$f":"'App.2-FA Proposed REG Invest.'!$D$31","v":2019},{"$f":"'App.2-FA Proposed REG Invest.'!D100","v":0}]
[{"$f":"'LDC Info'!$E$14","v":"Bluewater Power Distribution Corporation"},"EB-2022-0016",2023,2022,2013,"Expansion Investments_B_Total OM&A Ongoing",{"$f":"'App.2-FA Proposed REG Invest.'!$D$31","v":2019},{"$f":"'App.2-FA Proposed REG Invest.'!D101","v":0}]
[{"$f":"'LDC Info'!$E$14","v":"Bluewater Power Distribution Corporation"},"EB-2022-0016",2023,2022,2013,"Expansion Investments_B_Total Capital Costs",{"$f":"'App.2-FA Proposed REG Invest.'!$E$31","v":2020},{"$f":"'App.2-FA Proposed REG Invest.'!E99","v":0}]
[{"$f":"'LDC Info'!$E$14","v":"Bluewater Power Distribution Corporation"},"EB-2022-0016",2023,2022,2013,"Expansion Investments_B_Total OM&A Start-Up",{"$f":"'App.2-FA Proposed REG Invest.'!$E$31","v":2020},{"$f":"'App.2-FA Proposed REG Invest.'!E100","v":0}]
[{"$f":"'LDC Info'!$E$14","v":"Bluewater Power Distribution Corporation"},"EB-2022-0016",2023,2022,2013,"Expansion Investments_B_Total OM&A Ongoing",{"$f":"'App.2-FA Proposed REG Invest.'!$E$31","v":2020},{"$f":"'App.2-FA Proposed REG Invest.'!E101","v":0}]
[{"$f":"'LDC Info'!$E$14","v":"Bluewater Power Distribution Corporation"},"EB-2022-0016",2023,2022,2013,"Expansion Investments_B_Total Capital Costs",{"$f":"'App.2-FA Proposed REG Invest.'!$F$31","v":2021},{"$f":"'App.2-FA Proposed REG Invest.'!F99","v":0}]
[{"$f":"'LDC Info'!$E$14","v":"Bluewater Power Distribution Corporation"},"EB-2022-0016",2023,2022,2013,"Expansion Investments_B_Total OM&A Start-Up",{"$f":"'App.2-FA Proposed REG Invest.'!$F$31","v":2021},{"$f":"'App.2-FA Proposed REG Invest.'!F100","v":0}]
[{"$f":"'LDC Info'!$E$14","v":"Bluewater Power Distribution Corporation"},"EB-2022-0016",2023,2022,2013,"Expansion Investments_B_Total OM&A Ongoing",{"$f":"'App.2-FA Proposed REG Invest.'!$F$31","v":2021},{"$f":"'App.2-FA Proposed REG Invest.'!F101","v":0}]
[{"$f":"'LDC Info'!$E$14","v":"Bluewater Power Distribution Corporation"},"EB-2022-0016",2023,2022,2013,"Expansion Investments_B_Total Capital Costs",{"$f":"'App.2-FA Proposed REG Invest.'!$G$31","v":2022},{"$f":"'App.2-FA Proposed REG Invest.'!G99","v":0}]
[{"$f":"'LDC Info'!$E$14","v":"Bluewater Power Distribution Corporation"},"EB-2022-0016",2023,2022,2013,"Expansion Investments_B_Total OM&A Start-Up",{"$f":"'App.2-FA Proposed REG Invest.'!$G$31","v":2022},{"$f":"'App.2-FA Proposed REG Invest.'!G100","v":0}]
[{"$f":"'LDC Info'!$E$14","v":"Bluewater Power Distribution Corporation"},"EB-2022-0016",2023,2022,2013,"Expansion Investments_B_Total OM&A Ongoing",{"$f":"'App.2-FA Proposed REG Invest.'!$G$31","v":2022},{"$f":"'App.2-FA Proposed REG Invest.'!G101","v":0}]
[{"$f":"'LDC Info'!$E$14","v":"Bluewater Power Distribution Corporation"},"EB-2022-0016",2023,2022,2013,"Expansion Investments_B_Total Capital Costs",{"$f":"'App.2-FA Proposed REG Invest.'!$H$31","v":2023},{"$f":"'App.2-FA Proposed REG Invest.'!H99","v":0}]
[{"$f":"'LDC Info'!$E$14","v":"Bluewater Power Distribution Corporation"},"EB-2022-0016",2023,2022,2013,"Expansion Investments_B_Total OM&A Start-Up",{"$f":"'App.2-FA Proposed REG Invest.'!$H$31","v":2023},{"$f":"'App.2-FA Proposed REG Invest.'!H100","v":0}]
[{"$f":"'LDC Info'!$E$14","v":"Bluewater Power Distribution Corporation"},"EB-2022-0016",2023,2022,2013,"Expansion Investments_B_Total OM&A Ongoing",{"$f":"'App.2-FA Proposed REG Invest.'!$H$31","v":2023},{"$f":"'App.2-FA Proposed REG Invest.'!H101","v":0}]
[{"$f":"'LDC Info'!$E$14","v":"Bluewater Power Distribution Corporation"},"EB-2022-0016",2023,2022,2013,"Expansion Investments_B_Total Capital Costs",{"$f":"'App.2-FA Proposed REG Invest.'!$I$31","v":2024},{"$f":"'App.2-FA Proposed REG Invest.'!I99","v":0}]
[{"$f":"'LDC Info'!$E$14","v":"Bluewater Power Distribution Corporation"},"EB-2022-0016",2023,2022,2013,"Expansion Investments_B_Total OM&A Start-Up",{"$f":"'App.2-FA Proposed REG Invest.'!$I$31","v":2024},{"$f":"'App.2-FA Proposed REG Invest.'!I100","v":0}]
[{"$f":"'LDC Info'!$E$14","v":"Bluewater Power Distribution Corporation"},"EB-2022-0016",2023,2022,2013,"Expansion Investments_B_Total OM&A Ongoing",{"$f":"'App.2-FA Proposed REG Invest.'!$I$31","v":2024},{"$f":"'App.2-FA Proposed REG Invest.'!I101","v":0}]
[{"$f":"'LDC Info'!$E$14","v":"Bluewater Power Distribution Corporation"},"EB-2022-0016",2023,2022,2013,"Expansion Investments_B_Total Capital Costs",{"$f":"'App.2-FA Proposed REG Invest.'!$J$31","v":2025},{"$f":"'App.2-FA Proposed REG Invest.'!J99","v":0}]
[{"$f":"'LDC Info'!$E$14","v":"Bluewater Power Distribution Corporation"},"EB-2022-0016",2023,2022,2013,"Expansion Investments_B_Total OM&A Start-Up",{"$f":"'App.2-FA Proposed REG Invest.'!$J$31","v":2025},{"$f":"'App.2-FA Proposed REG Invest.'!J100","v":0}]
[{"$f":"'LDC Info'!$E$14","v":"Bluewater Power Distribution Corporation"},"EB-2022-0016",2023,2022,2013,"Expansion Investments_B_Total OM&A Ongoing",{"$f":"'App.2-FA Proposed REG Invest.'!$J$31","v":2025},{"$f":"'App.2-FA Proposed REG Invest.'!J101","v":0}]
[{"$f":"'LDC Info'!$E$14","v":"Bluewater Power Distribution Corporation"},"EB-2022-0016",2023,2022,2013,"Expansion Investments_B_Total Capital Costs",{"$f":"'App.2-FA Proposed REG Invest.'!$K$31","v":2026},{"$f":"'App.2-FA Proposed REG Invest.'!K99","v":0}]
[{"$f":"'LDC Info'!$E$14","v":"Bluewater Power Distribution Corporation"},"EB-2022-0016",2023,2022,2013,"Expansion Investments_B_Total OM&A Start-Up",{"$f":"'App.2-FA Proposed REG Invest.'!$K$31","v":2026},{"$f":"'App.2-FA Proposed REG Invest.'!K100","v":0}]
[{"$f":"'LDC Info'!$E$14","v":"Bluewater Power Distribution Corporation"},"EB-2022-0016",2023,2022,2013,"Expansion Investments_B_Total OM&A Ongoing",{"$f":"'App.2-FA Proposed REG Invest.'!$K$31","v":2026},{"$f":"'App.2-FA Proposed REG Invest.'!K101","v":0}]
[{"$f":"'LDC Info'!$E$14","v":"Bluewater Power Distribution Corporation"},"EB-2022-0016",2023,2022,2013,"Expansion Investments_B_Total Capital Costs",{"$f":"'App.2-FA Proposed REG Invest.'!$L$31","v":2027},{"$f":"'App.2-FA Proposed REG Invest.'!L99","v":0}]
[{"$f":"'LDC Info'!$E$14","v":"Bluewater Power Distribution Corporation"},"EB-2022-0016",2023,2022,2013,"Expansion Investments_B_Total OM&A Start-Up",{"$f":"'App.2-FA Proposed REG Invest.'!$L$31","v":2027},{"$f":"'App.2-FA Proposed REG Invest.'!L100","v":0}]
[{"$f":"'LDC Info'!$E$14","v":"Bluewater Power Distribution Corporation"},"EB-2022-0016",2023,2022,2013,"Expansion Investments_B_Total OM&A Ongoing",{"$f":"'App.2-FA Proposed REG Invest.'!$L$31","v":2027},{"$f":"'App.2-FA Proposed REG Invest.'!L101","v":0}]

{"sheet":"Hidden_REG Improvement","index":18,"n_rows":11,"n_cols":8,"rows_kept":11,"cut":false,"hidden":true,"merged":[]}
["Utility Name","EB Number","Test Year","Bridge Year","Last Rebasing Year","Renewable Generation Connection Direct Benefits/Provincial Amount Renewable Enabling Improvement Investments","Year","Amount"]
[{"$f":"'LDC Info'!$E$14","v":"Bluewater Power Distribution Corporation"},{"$f":"EBNUMBER","v":"EB-2022-0016"},{"$f":"TestYear","v":2023},{"$f":"BridgeYear","v":2022},{"$f":"RebaseYear","v":2013},"Provincial Rate Protection",{"$f":"'App.2-FB Calc of REG Improvemnt'!D17","v":2018},{"$f":"'App.2-FB Calc of REG Improvemnt'!F$44","v":0}]
[{"$f":"'LDC Info'!$E$14","v":"Bluewater Power Distribution Corporation"},"EB-2022-0016",2023,2022,2013,"Provincial Rate Protection",{"$f":"'App.2-FB Calc of REG Improvemnt'!G17","v":2019},{"$f":"'App.2-FB Calc of REG Improvemnt'!I$44","v":0}]
[{"$f":"'LDC Info'!$E$14","v":"Bluewater Power Distribution Corporation"},"EB-2022-0016",2023,2022,2013,"Provincial Rate Protection",{"$f":"'App.2-FB Calc of REG Improvemnt'!J17","v":2020},{"$f":"'App.2-FB Calc of REG Improvemnt'!L$44","v":0}]
[{"$f":"'LDC Info'!$E$14","v":"Bluewater Power Distribution Corporation"},"EB-2022-0016",2023,2022,2013,"Provincial Rate Protection",{"$f":"'App.2-FB Calc of REG Improvemnt'!M17","v":2021},{"$f":"'App.2-FB Calc of REG Improvemnt'!O$44","v":0}]
[{"$f":"'LDC Info'!$E$14","v":"Bluewater Power Distribution Corporation"},"EB-2022-0016",2023,2022,2013,"Provincial Rate Protection",{"$f":"'App.2-FB Calc of REG Improvemnt'!P17","v":2022},{"$f":"'App.2-FB Calc of REG Improvemnt'!R$44","v":0}]
[{"$f":"'LDC Info'!$E$14","v":"Bluewater Power Distribution Corporation"},"EB-2022-0016",2023,2022,2013,"Provincial Rate Protection",{"$f":"'App.2-FB Calc of REG Improvemnt'!S17","v":2023},{"$f":"'App.2-FB Calc of REG Improvemnt'!U$44","v":0}]
[{"$f":"'LDC Info'!$E$14","v":"Bluewater Power Distribution Corporation"},"EB-2022-0016",2023,2022,2013,"Provincial Rate Protection",{"$f":"'App.2-FB Calc of REG Improvemnt'!V17","v":2024},{"$f":"'App.2-FB Calc of REG Improvemnt'!X$44","v":0}]
[{"$f":"'LDC Info'!$E$14","v":"Bluewater Power Distribution Corporation"},"EB-2022-0016",2023,2022,2013,"Provincial Rate Protection",{"$f":"'App.2-FB Calc of REG Improvemnt'!Y17","v":2025},{"$f":"'App.2-FB Calc of REG Improvemnt'!AA$44","v":0}]
[{"$f":"'LDC Info'!$E$14","v":"Bluewater Power Distribution Corporation"},"EB-2022-0016",2023,2022,2013,"Provincial Rate Protection",{"$f":"'App.2-FB Calc of REG Improvemnt'!AB17","v":2026},{"$f":"'App.2-FB Calc of REG Improvemnt'!AD$44","v":0}]
[{"$f":"'LDC Info'!$E$14","v":"Bluewater Power Distribution Corporation"},"EB-2022-0016",2023,2022,2013,"Provincial Rate Protection",{"$f":"'App.2-FB Calc of REG Improvemnt'!AE17","v":2027},{"$f":"'App.2-FB Calc of REG Improvemnt'!AG$44","v":0}]

{"sheet":"Hidden_REG Expansion","index":19,"n_rows":11,"n_cols":8,"rows_kept":11,"cut":false,"hidden":true,"merged":[]}
["Utility Name","EB Number","Test Year","Bridge Year","Last Rebasing Year","Calculation of Renewable Generation Connection Direct Benefits/Provincial Amount Renewable Expansion Investments","Year","Amount"]
[{"$f":"'LDC Info'!$E$14","v":"Bluewater Power Distribution Corporation"},{"$f":"EBNUMBER","v":"EB-2022-0016"},{"$f":"TestYear","v":2023},{"$f":"BridgeYear","v":2022},{"$f":"RebaseYear","v":2013},"Provincial Rate Protection",{"$f":"'App.2-FC Calc of REG Expansion'!D$17","v":2018},{"$f":"'App.2-FC Calc of REG Expansion'!F$44","v":0}]
[{"$f":"'LDC Info'!$E$14","v":"Bluewater Power Distribution Corporation"},"EB-2022-0016",2023,2022,2013,"Provincial Rate Protection",{"$f":"'App.2-FC Calc of REG Expansion'!G$17","v":2019},{"$f":"'App.2-FC Calc of REG Expansion'!I$44","v":0}]
[{"$f":"'LDC Info'!$E$14","v":"Bluewater Power Distribution Corporation"},"EB-2022-0016",2023,2022,2013,"Provincial Rate Protection",{"$f":"'App.2-FC Calc of REG Expansion'!J$17","v":2020},{"$f":"'App.2-FC Calc of REG Expansion'!L$44","v":0}]
[{"$f":"'LDC Info'!$E$14","v":"Bluewater Power Distribution Corporation"},"EB-2022-0016",2023,2022,2013,"Provincial Rate Protection",{"$f":"'App.2-FC Calc of REG Expansion'!M$17","v":2021},{"$f":"'App.2-FC Calc of REG Expansion'!O$44","v":0}]
[{"$f":"'LDC Info'!$E$14","v":"Bluewater Power Distribution Corporation"},"EB-2022-0016",2023,2022,2013,"Provincial Rate Protection",{"$f":"'App.2-FC Calc of REG Expansion'!P$17","v":2022},{"$f":"'App.2-FC Calc of REG Expansion'!R$44","v":0}]
[{"$f":"'LDC Info'!$E$14","v":"Bluewater Power Distribution Corporation"},"EB-2022-0016",2023,2022,2013,"Provincial Rate Protection",{"$f":"'App.2-FC Calc of REG Expansion'!S$17","v":2023},{"$f":"'App.2-FC Calc of REG Expansion'!U$44","v":0}]
[{"$f":"'LDC Info'!$E$14","v":"Bluewater Power Distribution Corporation"},"EB-2022-0016",2023,2022,2013,"Provincial Rate Protection",{"$f":"'App.2-FC Calc of REG Expansion'!V$17","v":2024},{"$f":"'App.2-FC Calc of REG Expansion'!X$44","v":0}]
[{"$f":"'LDC Info'!$E$14","v":"Bluewater Power Distribution Corporation"},"EB-2022-0016",2023,2022,2013,"Provincial Rate Protection",{"$f":"'App.2-FC Calc of REG Expansion'!Y$17","v":2025},{"$f":"'App.2-FC Calc of REG Expansion'!AA$44","v":0}]
[{"$f":"'LDC Info'!$E$14","v":"Bluewater Power Distribution Corporation"},"EB-2022-0016",2023,2022,2013,"Provincial Rate Protection",{"$f":"'App.2-FC Calc of REG Expansion'!AB$17","v":2026},{"$f":"'App.2-FC Calc of REG Expansion'!AD$44","v":0}]
[{"$f":"'LDC Info'!$E$14","v":"Bluewater Power Distribution Corporation"},"EB-2022-0016",2023,2022,2013,"Provincial Rate Protection",{"$f":"'App.2-FC Calc of REG Expansion'!AE$17","v":2027},{"$f":"'App.2-FC Calc of REG Expansion'!AG$44","v":0}]

{"sheet":"App.2-FA Proposed REG Invest.","index":20,"n_rows":101,"n_cols":12,"rows_kept":101,"cut":false,"hidden":false,"merged":[[16,0,16,10],[17,0,17,9],[18,0,18,8],[8,0,8,11],[9,0,9,11],[11,0,11,7],[12,0,12,7],[13,0,13,6],[14,0,14,6]]}
[null,null,null,null,null,null,null,null,null,null,"File Number:",0]
[null,null,null,null,null,null,null,null,null,null,"Exhibit:"]
[null,null,null,null,null,null,null,null,null,null,"Tab:"]
["TO BE UPDATED AT DRAFT RATE ORDER STAGE",null,null,null,null,null,null,null,null,null,"Schedule:"]
[null,null,null,null,null,null,null,null,null,null,"Page:"]
[]
[null,null,null,null,null,null,null,null,null,null,"Date:"]
[]
["Appendix 2-FA"]
["Renewable Generation Connection Investment Summary (past investments or over the future rate setting period)"]
[]
["Enter the details of the Renewable Generation Connection projects as described in the appropriate section of the Filing Requirements."]
["All costs entered on this page will be transferred to the appropriate cells in the appendices that follow."]
["For Part A, Renewable Enabling Improvements (REI), these amounts will be transferred to Appendix 2 - FB"]
["For Part B, Expansions, these amounts will be transferred to Appendix 2 - FC"]
[]
["If there are more than five projects proposed to be in-service in a certain year, please amend the tables below and ensure that the formulae for the Total Amounts in any given rate year are updated."]
["Based on the current methodology and allocation, amounts allocated represent 6% for REI Connection Investments and 17% for Expansion Investments. (EB-2009-0349, 6-10-2010, p. 15, note 9)"]
["Ensure that OM&A costs below are not included in Recoverable OM&A (App. 2-JA)"]
["There are two scenarios described below.  Separate sets of spreadsheets (2-FA, 2-FB, 2-FC) should be submited for each scenario as required."]
["Scenario 1:  ","Past Investments with No Recovery.  The distributor has made investments in the past (during the IRM Years), but has not received approval for these projects and therefore did not receive"]
[null,"revenue from the IESO under Regulation 330/09 and did not receive ratepayer revenue for the direct benefit portion of the investment."]
[null,"The WCA percentage, debt percentages, interest rates, kWh, tax rates, amortization period, CCA Class and percentage should correspond to the distributor's last Cost of Service approval. "]
[null,"The Direct Benefit portion of the calculated Revenue Requirement for each year should be summed and can be applied for recovery from the distributor's ratepayers through a rate rider."]
[null,"The Provincial Recovery portion of the calculated Revenue Requirement for each year should be summed and can be applied for recovery from the IESO through a separate order."]
[]
["Scenario 2:","Investments in the Test Year and Beyond.  Distributor plans to make investments in 2023 and/or beyond.  These investments should be added to 2-FA in the appropriate year."]
[null,"The WCA percentage, debt percentages, interest rates, kWh, tax rates, amortization period, CCA Class and percentage should correspond to the distributor's current application. "]
[]
["Part A",null,"","","","","","Test Year","","","",""]
["REI Investments (Direct Benefit at 6%)",null,{"$f":"D31-1","v":2018},{"$f":"E31-1","v":2019},{"$f":"F31-1","v":2020},{"$f":"G31-1","v":2021},{"$f":"H31-1","v":2022},{"$f":"'LDC Info'!$E$24","v":2023},{"$f":"H31+1","v":2024},{"$f":"I31+1","v":2025},{"$f":"J31+1","v":2026},{"$f":"K31+1","v":2027}]
["Project 1"]
["Name: REI Connection Project"]
["Capital Costs",null,0,0,0,0,0,0,0,0,0,0]
["Incremental OM&A (Start-Up)",null,0,0,0,0,0,0,0,0,0,0]
["Incremental OM&A (Ongoing)",null,0,0,0,0,0,0,0,0,0,0]
[]
["Project 2"]
["Name: REI Connection Project"]
["Capital Costs",null,0,0,0,0,0,0,0,0,0,0]
["Incremental OM&A (Start-Up)",null,0,0,0,0,0,0,0,0,0,0]
["Incremental OM&A (Ongoing)",null,0,0,0,0,0,0,0,0,0,0]
[]
["Project 3"]
["Name: REI Connection Project"]
["Capital Costs",null,0,0,0,0,0,0,0,0,0,0]
["Incremental OM&A (Start-Up)",null,0,0,0,0,0,0,0,0,0,0]
["Incremental OM&A (Ongoing)",null,0,0,0,0,0,0,0,0,0,0]
[]
["Project 4"]
["Name: REI Connection Project"]
["Capital Costs",null,0,0,0,0,0,0,0,0,0,0]
["Incremental OM&A (Start-Up)",null,0,0,0,0,0,0,0,0,0,0]
["Incremental OM&A (Ongoing)",null,0,0,0,0,0,0,0,0,0,0]
[]
["Project 5"]
["Name: REI Connection Project"]
["Capital Costs",null,0,0,0,0,0,0,0,0,0,0]
["Incremental OM&A (Start-Up)",null,0,0,0,0,0,0,0,0,0,0]
["Incremental OM&A (Ongoing)",null,0,0,0,0,0,0,0,0,0,0]
[]
["Total Capital Costs",null,{"$f":"SUM(C58,C52,C46,C40,C34)","v":0},0,0,0,0,0,0,0,0,0]
["Total Incremental OM&A (Start-Up)",null,0,0,0,0,0,0,0,0,0,0]
["Total Incremental OM&A (Ongoing)",null,0,0,0,0,0,0,0,0,0,0]
[]
[]
["Part B",null,"","","","","","Test Year","","","",""]
["Expansion Investments (Direct Benefit at 17%)",null,{"$f":"D68-1","v":2018},{"$f":"E68-1","v":2019},{"$f":"F68-1","v":2020},{"$f":"G68-1","v":2021},{"$f":"H68-1","v":2022},{"$f":"H31","v":2023},{"$f":"H68+1","v":2024},{"$f":"I68+1","v":2025},{"$f":"J68+1","v":2026},{"$f":"K68+1","v":2027}]
["Project 1"]
["Name: Expansion Connection Project"]
["Capital Costs",null,0,0,0,0,0,0,0,0,0,0]
["Incremental OM&A (Start-Up)",null,0,0,0,0,0,0,0,0,0,0]
["Incremental OM&A (Ongoing)",null,0,0,0,0,0,0,0,0,0,0]
[]
["Project 2"]
["Name: Expansion Connection Project"]
["Capital Costs",null,0,0,0,0,0,0,0,0,0,0]
["Incremental OM&A (Start-Up)",null,0,0,0,0,0,0,0,0,0,0]
["Incremental OM&A (Ongoing)",null,0,0,0,0,0,0,0,0,0,0]
[]
["Project 3"]
["Name: Expansion Connection Project"]
["Capital Costs",null,0,0,0,0,0,0,0,0,0,0]
["Incremental OM&A (Start-Up)",null,0,0,0,0,0,0,0,0,0,0]
["Incremental OM&A (Ongoing)",null,0,0,0,0,0,0,0,0,0,0]
[]
["Project 4"]
["Name: Expansion Connection Project"]
["Capital Costs",null,0,0,0,0,0,0,0,0,0,0]
["Incremental OM&A (Start-Up)",null,0,0,0,0,0,0,0,0,0,0]
["Incremental OM&A (Ongoing)",null,0,0,0,0,0,0,0,0,0,0]
[]
["Project 5"]
["Name: Expansion Connection Project"]
["Capital Costs",null,0,0,0,0,0,0,0,0,0,0]
["Incremental OM&A (Start-Up)",null,0,0,0,0,0,0,0,0,0,0]
["Incremental OM&A (Ongoing)",null,0,0,0,0,0,0,0,0,0,0]
[]
["Total Capital Costs",null,{"$f":"SUM(C95,C89,C83,C77,C71)","v":0},0,0,0,0,0,0,0,0,0]
["Total Incremental OM&A (Start-Up)",null,0,0,0,0,0,0,0,0,0,0]
["Total Incremental OM&A (Ongoing)",null,0,0,0,0,0,0,0,0,0,0]

{"sheet":"App.2-FB Calc of REG Improvemnt","index":21,"n_rows":96,"n_cols":36,"rows_kept":96,"cut":false,"hidden":false,"merged":[[15,18,15,20],[16,30,16,32],[47,0,48,15],[8,0,8,21],[9,0,9,21],[11,0,11,21],[12,0,12,21],[14,0,14,21],[16,3,16,5],[16,6,16,8],[16,9,16,11],[16,12,16,14],[16,15,16,17],[16,18,16,20],[16,21,16,23],[16,24,16,26],[16,33,16,35],[52,34,52,35],[52,31,52,32],[52,16,52,17],[50,0,50,1],[52,4,52,5],[52,7,52,8],[52,10,52,11],[52,13,52,14],[51,16,51,17],[16,27,16,29],[52,19,52,20],[52,22,52,23],[52,25,52,26],[52,28,52,29],[51,19,51,20]]}
[null,null,null,null,null,null,null,null,null,null,null,null,null,null,null,null,null,"File Number:",0]
[null,null,null,null,null,null,null,null,null,null,null,null,null,null,null,null,null,"Exhibit:"]
[null,null,null,null,null,null,null,null,null,null,null,null,null,null,null,null,null,"Tab:"]
["TO BE UPDATED AT DRAFT RATE ORDER STAGE",null,null,null,null,null,null,null,null,null,null,null,null,null,null,null,null,"Schedule:"]
[null,null,null,null,null,null,null,null,null,null,null,null,null,null,null,null,null,"Page:"]
[]
[null,null,null,null,null,null,null,null,null,null,null,null,null,null,null,null,null,"Date:"]
[]
["Appendix 2-FB"]
["Calculation of Renewable Generation Connection Direct Benefits/Provincial Amount: Renewable Enabling Improvement Investments"]
[]
["This table will calculate the distributor/provincial shares of the investments entered in Part A of Appendix 2-FA."]
["Enter values in green shaded cells: WCA percentage, debt percentages, interest rates, kWh, tax rates, amortization period, CCA Class and percentage."]
["For historical investments, enter these variables that were approved in your last cost of service test year.  For test year and beyond, enter variables as in the application."]
["Rate Riders related to the direct benefit portion of the renewable investments are not calculated for the Test Year as these assets and costs are already in the distributor's rate base/revenue requirement."]
[null,null,null,null,null,null,null,null,null,null,null,null,null,null,null,null,null,null,"Test Year"]
[null,null,null,{"$f":"G17-1","v":2018},null,null,{"$f":"J17-1","v":2019},null,null,{"$f":"M17-1","v":2020},null,null,{"$f":"P17-1","v":2021},null,null,{"$f":"S17-1","v":2022},null,null,{"$f":"'LDC Info'!$E$24","v":2023},null,null,{"$f":"S17+1","v":2024},null,null,{"$f":"V17+1","v":2025},2016,null,{"$f":"Y17+1","v":2026},null,null,{"$f":"AB17+1","v":2027},null,null,{"$f":"AE17+1","v":2028}]
[null,null,null,null,"Direct Benefit","Provincial",null,"Direct Benefit","Provincial",null,"Direct Benefit","Provincial",null,"Direct Benefit","Provincial",null,"Direct Benefit","Provincial",null,"Direct Benefit","Provincial",null,"Direct Benefit","Provincial",null,"Direct Benefit","Provincial",null,"Direct Benefit","Provincial",null,"Direct Benefit","Provincial",null,"Direct Benefit","Provincial"]
[null,null,null,"Total",0.06,0.94,"Total",0.06,0.94,"Total",0.06,0.94,"Total",0.06,0.94,"Total",0.06,0.94,"Total",0.06,0.94,"Total",0.06,0.94,"Total",0.06,0.94,"Total",0.06,0.94,"Total",0.06,0.94,"Total",0.06,0.94]
["Net Fixed Assets (average)",null,null,{"$f":"E83","v":0},{"$f":"D20*E19","v":0},{"$f":"D20*F19","v":0},{"$f":"F83","v":0},{"$f":"G20*H19","v":0},{"$f":"G20*I19","v":0},{"$f":"G83","v":0},{"$f":"J20*K19","v":0},{"$f":"J20*L19","v":0},{"$f":"H83","v":0},{"$f":"M20*N19","v":0},{"$f":"M20*O19","v":0},{"$f":"I83","v":0},{"$f":"P20*Q19","v":0},{"$f":"P20*R19","v":0},{"$f":"J83","v":0},{"$f":"S20*T19","v":0},{"$f":"S20*U19","v":0},{"$f":"K83","v":0},{"$f":"V20*W19","v":0},{"$f":"V20*X19","v":0},{"$f":"L83","v":0},{"$f":"Y20*Z19","v":0},{"$f":"Y20*AA19","v":0},{"$f":"M83","v":0},{"$f":"AB20*AC19","v":0},{"$f":"AB20*AD19","v":0},{"$f":"N83","v":0},{"$f":"AE20*AF19","v":0},{"$f":"AE20*AG19","v":0},{"$f":"O83","v":0},{"$f":"AH20*AI19","v":0},{"$f":"AH20*AJ19","v":0}]
["Incremental OM&A (on-going, N/A for Provincial Recovery)",null,null,0,{"$f":"D21*E19","v":0},{"$f":"D21*F19","v":0},0,{"$f":"G21*H19","v":0},{"$f":"G21*I19","v":0},0,{"$f":"J21*K19","v":0},{"$f":"J21*L19","v":0},0,{"$f":"M21*N19","v":0},{"$f":"M21*O19","v":0},0,{"$f":"P21*Q19","v":0},{"$f":"P21*R19","v":0},0,{"$f":"S21*T19","v":0},{"$f":"S21*U19","v":0},0,{"$f":"V21*W19","v":0},{"$f":"V21*X19","v":0},0,{"$f":"Y21*Z19","v":0},{"$f":"Y21*AA19","v":0},0,{"$f":"AB21*AC19","v":0},{"$f":"AB21*AD19","v":0},0,{"$f":"AE21*AF19","v":0},{"$f":"AE21*AG19","v":0},0,{"$f":"AH21*AI19","v":0},{"$f":"AH21*AJ19","v":0}]
["Incremental OM&A (start-up, applicable for Provincial Recovery)",null,null,0,{"$f":"D22*E19","v":0},{"$f":"D22*F19","v":0},0,{"$f":"G22*H19","v":0},{"$f":"G22*I19","v":0},0,{"$f":"J22*K19","v":0},{"$f":"J22*L19","v":0},0,{"$f":"M22*N19","v":0},{"$f":"M22*O19","v":0},0,{"$f":"P22*Q19","v":0},{"$f":"P22*R19","v":0},0,{"$f":"S22*T19","v":0},{"$f":"S22*U19","v":0},0,{"$f":"V22*W19","v":0},{"$f":"V22*X19","v":0},0,{"$f":"Y22*Z19","v":0},{"$f":"Y22*AA19","v":0},0,{"$f":"AB22*AC19","v":0},{"$f":"AB22*AD19","v":0},0,{"$f":"AE22*AF19","v":0},{"$f":"AE22*AG19","v":0},0,{"$f":"AH22*AI19","v":0},{"$f":"AH22*AJ19","v":0}]
["Rebasing Year vs. Test Year",{"$f":"'LDC Info'!E28","v":2013},{"$f":"'LDC Info'!E24","v":2023}]
["Allowance for Working Capital (enter rate)",null,null,null,{"$f":"IF(AND(D$17>=$B$23, D$17<$C$23),(E21+E22)*$B$24,(E21+E22)*$C$24)","v":0},{"$f":"IF(AND(D$17>=$B$23, D$17<$C$23),(F22)*$B$24,(F22)*$C$24)","v":0},null,{"$f":"IF(AND(G$17>=$B$23, G$17<$C$23),(H21+H22)*$B$24,(H21+H22)*$C$24)","v":0},{"$f":"IF(AND(G$17>=$B$23, G$17<$C$23),(I22)*$B$24,(I22)*$C$24)","v":0},null,{"$f":"IF(AND(J$17>=$B$23, J$17<$C$23),(K21+K22)*$B$24,(K21+K22)*$C$24)","v":0},{"$f":"IF(AND(J$17>=$B$23, J$17<$C$23),(L22)*$B$24,(L22)*$C$24)","v":0},null,{"$f":"IF(AND(M$17>=$B$23, M$17<$C$23),(N21+N22)*$B$24,(N21+N22)*$C$24)","v":0},{"$f":"IF(AND(M$17>=$B$23, M$17<$C$23),(O22)*$B$24,(O22)*$C$24)","v":0},null,{"$f":"IF(AND(P$17>=$B$23, P$17<$C$23),(Q21+Q22)*$B$24,(Q21+Q22)*$C$24)","v":0},{"$f":"IF(AND(P$17>=$B$23, P$17<$C$23),(R22)*$B$24,(R22)*$C$24)","v":0},null,{"$f":"IF(AND(S$17>=$B$23, S$17<$C$23),(T21+T22)*$B$24,(T21+T22)*$C$24)","v":0},{"$f":"IF(AND(S$17>=$B$23, S$17<$C$23),(U22)*$B$24,(U22)*$C$24)","v":0},null,{"$f":"IF(AND(V$17>=$B$23, V$17<$C$23),(W21+W22)*$B$24,(W21+W22)*$C$24)","v":0},{"$f":"IF(AND(V$17>=$B$23, V$17<$C$23),(X22)*$B$24,(X22)*$C$24)","v":0},null,{"$f":"IF(AND(Y$17>=$B$23, Y$17<$C$23),(Z21+Z22)*$B$24,(Z21+Z22)*$C$24)","v":0},{"$f":"IF(AND(Y$17>=$B$23, Y$17<$C$23),(AA22)*$B$24,(AA22)*$C$24)","v":0},null,{"$f":"IF(AND(AB$17>=$B$23, AB$17<$C$23),(AC21+AC22)*$B$24,(AC21+AC22)*$C$24)","v":0},{"$f":"IF(AND(AB$17>=$B$23, AB$17<$C$23),(AD22)*$B$24,(AD22)*$C$24)","v":0},null,{"$f":"IF(AND(AE$17>=$B$23, AE$17<$C$23),(AF21+AF22)*$B$24,(AF21+AF22)*$C$24)","v":0},{"$f":"IF(AND(AE$17>=$B$23, AE$17<$C$23),(AG22)*$B$24,(AG22)*$C$24)","v":0},null,{"$f":"IF(AND(AH$17>=$B$23, AH$17<$C$23),(AI21+AI22)*$B$24,(AI21+AI22)*$C$24)","v":0},{"$f":"IF(AND(AH$17>=$B$23, AH$17<$C$23),(AJ22)*$B$24,(AJ22)*$C$24)","v":0}]
["Rate Base",null,null,null,{"$f":"SUM(E20+E24)","v":0},{"$f":"SUM(F20+F24)","v":0},null,{"$f":"SUM(H20+H24)","v":0},{"$f":"SUM(I20+I24)","v":0},null,{"$f":"SUM(K20+K24)","v":0},{"$f":"SUM(L20+L24)","v":0},null,{"$f":"SUM(N20+N24)","v":0},{"$f":"SUM(O20+O24)","v":0},null,{"$f":"SUM(Q20+Q24)","v":0},{"$f":"SUM(R20+R24)","v":0},null,{"$f":"SUM(T20+T24)","v":0},{"$f":"SUM(U20+U24)","v":0},null,{"$f":"SUM(W20+W24)","v":0},{"$f":"SUM(X20+X24)","v":0},null,{"$f":"SUM(Z20+Z24)","v":0},{"$f":"SUM(AA20+AA24)","v":0},null,{"$f":"SUM(AC20+AC24)","v":0},{"$f":"SUM(AD20+AD24)","v":0},null,{"$f":"SUM(AF20+AF24)","v":0},{"$f":"SUM(AG20+AG24)","v":0},null,{"$f":"SUM(AI20+AI24)","v":0},{"$f":"SUM(AJ20+AJ24)","v":0}]
[]
["Rebasing Year vs. Test Year",{"$f":"B23","v":2013},{"$f":"C23","v":2023}]
["Deemed ST Debt ",0.04,0.04,null,{"$f":"E25*$B$28","v":0},{"$f":"F25*$B$28","v":0},null,{"$f":"H25*$B$28","v":0},{"$f":"I25*$B$28","v":0},null,{"$f":"K25*$B$28","v":0},{"$f":"L25*$B$28","v":0},null,{"$f":"N25*$B$28","v":0},{"$f":"O25*$B$28","v":0},null,{"$f":"Q25*$B$28","v":0},{"$f":"R25*$B$28","v":0},null,{"$f":"T25*$C$28","v":0},{"$f":"U25*$C$28","v":0},null,{"$f":"W25*$C$28","v":0},{"$f":"X25*$C$28","v":0},null,{"$f":"Z25*$C$28","v":0},{"$f":"AA25*$C$28","v":0},null,{"$f":"AC25*$C$28","v":0},{"$f":"AD25*$C$28","v":0},null,{"$f":"AF25*$C$28","v":0},{"$f":"AG25*$C$28","v":0},null,{"$f":"AI25*$C$28","v":0},{"$f":"AJ25*$C$28","v":0}]
["Deemed LT Debt ",0.56000000000000005,0.56000000000000005,null,{"$f":"E25*$B$29","v":0},{"$f":"F25*$B$29","v":0},null,{"$f":"H25*$B$29","v":0},{"$f":"I25*$B$29","v":0},null,{"$f":"K25*$B$29","v":0},{"$f":"L25*$B$29","v":0},null,{"$f":"N25*$B$29","v":0},{"$f":"O25*$B$29","v":0},null,{"$f":"Q25*$B$29","v":0},{"$f":"R25*$B$29","v":0},null,{"$f":"T25*$C$29","v":0},{"$f":"U25*$C$29","v":0},null,{"$f":"W25*$C$29","v":0},{"$f":"X25*$C$29","v":0},null,{"$f":"Z25*$C$29","v":0},{"$f":"AA25*$C$29","v":0},null,{"$f":"AC25*$C$29","v":0},{"$f":"AD25*$C$29","v":0},null,{"$f":"AF25*$C$29","v":0},{"$f":"AG25*$C$29","v":0},null,{"$f":"AI25*$C$29","v":0},{"$f":"AJ25*$C$29","v":0}]
["Deemed Equity ",0.4,0.4,null,{"$f":"E25*$B$30","v":0},{"$f":"F25*$B$30","v":0},null,{"$f":"H25*$B$30","v":0},{"$f":"I25*$B$30","v":0},null,{"$f":"K25*$B$30","v":0},{"$f":"L25*$B$30","v":0},null,{"$f":"N25*$B$30","v":0},{"$f":"O25*$B$30","v":0},null,{"$f":"Q25*$B$30","v":0},{"$f":"R25*$B$30","v":0},null,{"$f":"T25*$C$30","v":0},{"$f":"U25*$C$30","v":0},null,{"$f":"W25*$C$30","v":0},{"$f":"X25*$C$30","v":0},null,{"$f":"Z25*$C$30","v":0},{"$f":"AA25*$C$30","v":0},null,{"$f":"AC25*$C$30","v":0},{"$f":"AD25*$C$30","v":0},null,{"$f":"AF25*$C$30","v":0},{"$f":"AG25*$C$30","v":0},null,{"$f":"AI25*$C$30","v":0},{"$f":"AJ25*$C$30","v":0}]
[]
["ST Interest (enter rate)",null,null,null,{"$f":"E28*$B32","v":0},0,null,0,0,null,0,0,null,0,0,null,0,0,null,{"$f":"T28*$C32","v":0},0,null,{"$f":"W28*$C32","v":0},0,null,{"$f":"Z28*$C32","v":0},0,null,{"$f":"AC28*$C32","v":0},0,null,{"$f":"AF28*$C32","v":0},0,null,{"$f":"AI28*$C32","v":0},0]
["LT Interest (enter rate)",null,null,null,0,0,null,0,0,null,0,0,null,0,0,null,0,0,null,0,0,null,0,0,null,0,0,null,0,0,null,0,0,null,{"$f":"AI29*$C33","v":0},0]
["Return on Equity (enter rate)",null,null,null,0,0,null,0,0,null,0,0,null,0,0,null,0,0,null,0,0,null,0,0,null,0,0,null,0,0,null,0,0,null,{"$f":"AI30*$C34","v":0},0]
["Cost of Capital Total",null,null,null,{"$f":"SUM(E32:E34)","v":0},{"$f":"SUM(F32:F34)","v":0},null,{"$f":"SUM(H32:H34)","v":0},{"$f":"SUM(I32:I34)","v":0},null,{"$f":"SUM(K32:K34)","v":0},{"$f":"SUM(L32:L34)","v":0},null,{"$f":"SUM(N32:N34)","v":0},{"$f":"SUM(O32:O34)","v":0},null,{"$f":"SUM(Q32:Q34)","v":0},{"$f":"SUM(R32:R34)","v":0},null,{"$f":"SUM(T32:T34)","v":0},{"$f":"SUM(U32:U34)","v":0},null,{"$f":"SUM(W32:W34)","v":0},{"$f":"SUM(X32:X34)","v":0},null,{"$f":"SUM(Z32:Z34)","v":0},{"$f":"SUM(AA32:AA34)","v":0},null,{"$f":"SUM(AC32:AC34)","v":0},{"$f":"SUM(AD32:AD34)","v":0},null,{"$f":"SUM(AF32:AF34)","v":0},{"$f":"SUM(AG32:AG34)","v":0},null,{"$f":"SUM(AI32:AI34)","v":0},{"$f":"SUM(AJ32:AJ34)","v":0}]
[]
["OM&A",null,null,null,{"$f":"E21+E22","v":0},{"$f":"F22","v":0},null,{"$f":"H21+H22","v":0},{"$f":"I22","v":0},null,{"$f":"K21+K22","v":0},{"$f":"L22","v":0},null,{"$f":"N21+N22","v":0},{"$f":"O22","v":0},null,{"$f":"Q21+Q22","v":0},{"$f":"R22","v":0},null,{"$f":"T21+T22","v":0},{"$f":"U22","v":0},null,{"$f":"W21+W22","v":0},{"$f":"X22","v":0},null,{"$f":"Z21+Z22","v":0},{"$f":"AA22","v":0},null,{"$f":"AC21+AC22","v":0},{"$f":"AD22","v":0},null,{"$f":"AF21+AF22","v":0},{"$f":"AG22","v":0},null,{"$f":"AI21+AI22","v":0},{"$f":"AJ22","v":0}]
["Amortization",null,null,{"$f":"+E77+E78","v":0},{"$f":"D38*E$19","v":0},{"$f":"D38*F$19","v":0},{"$f":"+F77+F78","v":0},{"$f":"G38*H$19","v":0},{"$f":"G38*I$19","v":0},{"$f":"+G77+G78","v":0},{"$f":"J38*K$19","v":0},{"$f":"J38*L$19","v":0},{"$f":"+H77+H78","v":0},{"$f":"M38*N$19","v":0},{"$f":"M38*O$19","v":0},{"$f":"+I77+I78","v":0},{"$f":"P38*Q$19","v":0},{"$f":"P38*R$19","v":0},{"$f":"+J77+J78","v":0},{"$f":"S38*T$19","v":0},{"$f":"S38*U$19","v":0},{"$f":"+K77+K78","v":0},{"$f":"V38*W$19","v":0},{"$f":"V38*X$19","v":0},{"$f":"+L77+L78","v":0},{"$f":"Y38*Z$19","v":0},{"$f":"Y38*AA$19","v":0},{"$f":"+M77+M78","v":0},{"$f":"AB38*AC$19","v":0},{"$f":"AB38*AD$19","v":0},{"$f":"+N77+N78","v":0},{"$f":"AE38*AF$19","v":0},{"$f":"AE38*AG$19","v":0},{"$f":"+O77+O78","v":0},{"$f":"AH38*AI$19","v":0},{"$f":"AH38*AJ$19","v":0}]
["Grossed-up PILs",null,null,null,{"$f":"+E66","v":0},{"$f":"+F66","v":0},null,{"$f":"+H66","v":0},{"$f":"+I66","v":0},null,{"$f":"+K66","v":0},{"$f":"+L66","v":0},null,{"$f":"+N66","v":0},{"$f":"+O66","v":0},null,{"$f":"+Q66","v":0},{"$f":"+R66","v":0},null,{"$f":"+T66","v":0},{"$f":"+U66","v":0},null,{"$f":"+W66","v":0},{"$f":"+X66","v":0},null,{"$f":"+Z66","v":0},{"$f":"+AA66","v":0},null,{"$f":"+AC66","v":0},{"$f":"+AD66","v":0},null,{"$f":"+AF66","v":0},{"$f":"+AG66","v":0},null,{"$f":"+AI66","v":0},{"$f":"+AJ66","v":0}]
[]
["Revenue Requirement",null,null,null,{"$f":"SUM(E35:E39)","v":0},{"$f":"SUM(F35:F39)","v":0},null,{"$f":"SUM(H35:H39)","v":0},0,null,{"$f":"SUM(K35:K39)","v":0},0,null,{"$f":"SUM(N35:N39)","v":0},0,null,{"$f":"SUM(Q35:Q39)","v":0},0,null,{"$f":"SUM(T35:T39)","v":0},0,null,{"$f":"SUM(W35:W39)","v":0},0,null,{"$f":"SUM(Z35:Z39)","v":0},0,null,{"$f":"SUM(AC35:AC39)","v":0},0,null,{"$f":"SUM(AF35:AF39)","v":0},0,null,{"$f":"SUM(AI35:AI39)","v":0},0]
[]
[]
["Provincial Rate Protection",null,null,null,null,{"$f":"F41","v":0},null,null,{"$f":"I41","v":0},null,null,{"$f":"L41","v":0},null,null,{"$f":"O41","v":0},null,null,{"$f":"R41","v":0},null,null,{"$f":"U41","v":0},null,null,{"$f":"X41","v":0},null,null,{"$f":"AA41","v":0},null,null,{"$f":"AD41","v":0},null,null,{"$f":"AG41","v":0},null,null,{"$f":"AJ41","v":0}]
[]
["Monthly Amount Paid by IESO",null,null,null,null,{"$f":"F44/12","v":0},null,null,{"$f":"I44/12","v":0},null,null,{"$f":"L44/12","v":0},null,null,{"$f":"O44/12","v":0},null,null,{"$f":"R44/12","v":0},null,null,{"$f":"U44/12","v":0},null,null,{"$f":"X44/12","v":0},null,null,{"$f":"AA44/12","v":0},null,null,{"$f":"AD44/12","v":0},null,null,{"$f":"AG44/12","v":0},null,null,{"$f":"AJ44/12","v":0}]
[]
["Note 1: The distributor should follow the regulatory accounting set out in the Accounting Procedure Handbook Guidance FAQs issued in March 2015. Q10 of the APH FAQs states that: “For approved eligible investments as defined under O.Reg. 330/09 under the OEB Act, a variance account will continue to be used for the purpose of recording variances between the revenue requirement based on actual costs of approved eligible investments and the revenue received from the IESO.” The answer for Q10 provides the accounting guidance for this variance account: “Distributors that have included eligible investments to connect qualifying facilities in their DS plans are to establish the variance Account 1533 Renewable Generation Connection Funding Adder Deferral Account, Sub-account Provincial Rate Protection Payment Variances following OEB approval for investments forecast to enter service beyond the test year for purposes of implementing rate protection pursuant to O.Reg. 330/09. The purpose of this variance account is to track the variance between the distributor’s revenue requirement associated with the portion of the actual capital and/or operating costs that are eligible for rate protection, as incurred by the distributor for eligible renewable enabling and expansion investments, and the rate protection payments collected from the IESO.” The answer further provides the journal entries to record the variances. Distributors should follow the instructions in the answer for recording the journal entries in the variance account 1533."]
[]
["Note 2: For the Test Year, Costs and Revenues of the Direct Benefit are to be included in the test year applicant Rate Base and Revenues."]
[]
["PILs Calculation",null,null,null,null,null,null,null,null,null,null,null,null,null,null,null,null,null,null,"Test Year"]
[null,null,null,null,{"$f":"G17-1","v":2018},null,null,{"$f":"G17","v":2019},null,null,{"$f":"J17","v":2020},null,null,{"$f":"M17","v":2021},null,null,{"$f":"P17","v":2022},null,null,{"$f":"S17","v":2023},null,null,{"$f":"V17","v":2024},null,null,{"$f":"Y17","v":2025},null,null,{"$f":"AB17","v":2026},null,null,{"$f":"AE17","v":2027},null,null,{"$f":"AH17","v":2028}]
["Income Tax",null,null,null,"Direct Benefit","Provincial",null,"Direct Benefit","Provincial",null,"Direct Benefit","Provincial",null,"Direct Benefit","Provincial",null,"Direct Benefit","Provincial",null,"Direct Benefit","Provincial",null,"Direct Benefit","Provincial",null,"Direct Benefit","Provincial",null,"Direct Benefit","Provincial",null,"Direct Benefit","Provincial",null,"Direct Benefit","Provincial"]
[null,null,null,null,null,null,null,null,null,null,null,null,null,null,null,null,null,null,null,null,null,null,null,null,null,null,null,"Total",null,null,"Total",null,null,"Total"]
["Net Income - ROE on Rate Base",null,null,null,{"$f":"E34","v":0},{"$f":"F34","v":0},null,{"$f":"H34","v":0},{"$f":"I34","v":0},null,{"$f":"K34","v":0},{"$f":"L34","v":0},null,{"$f":"N34","v":0},{"$f":"O34","v":0},null,{"$f":"Q34","v":0},{"$f":"R34","v":0},null,{"$f":"T34","v":0},{"$f":"U34","v":0},null,{"$f":"W34","v":0},{"$f":"X34","v":0},null,{"$f":"Z34","v":0},{"$f":"AA34","v":0},null,{"$f":"AC34","v":0},{"$f":"AD34","v":0},null,{"$f":"AF34","v":0},{"$f":"AG34","v":0},null,{"$f":"AI34","v":0},{"$f":"AJ34","v":0}]
["Amortization (6% DB and 94% P)",null,null,null,{"$f":"E38","v":0},{"$f":"F38","v":0},null,{"$f":"H38","v":0},{"$f":"I38","v":0},null,{"$f":"K38","v":0},{"$f":"L38","v":0},null,{"$f":"N38","v":0},{"$f":"O38","v":0},null,{"$f":"Q38","v":0},{"$f":"R38","v":0},null,{"$f":"T38","v":0},{"$f":"U38","v":0},null,{"$f":"W38","v":0},{"$f":"X38","v":0},null,{"$f":"Z38","v":0},{"$f":"AA38","v":0},null,{"$f":"AC38","v":0},{"$f":"AD38","v":0},null,{"$f":"AF38","v":0},{"$f":"AG38","v":0},null,{"$f":"AI38","v":0},{"$f":"AJ38","v":0}]
["CCA (6% DB and 94% P)",null,null,null,{"$f":"-E95*$E$19","v":0},{"$f":"-E95*$F$19","v":0},null,{"$f":"-F95*$E$19","v":0},{"$f":"-F95*$F$19","v":0},null,{"$f":"-G95*$E$19","v":0},{"$f":"-G95*$F$19","v":0},null,{"$f":"-H95*$E$19","v":0},{"$f":"-H95*$F$19","v":0},null,{"$f":"-I95*$E$19","v":0},{"$f":"-I95*$F$19","v":0},null,{"$f":"-J95*$E$19","v":0},{"$f":"-J95*$F$19","v":0},null,{"$f":"-K95*$E$19","v":0},{"$f":"-K95*$F$19","v":0},null,{"$f":"-L95*$E$19","v":0},{"$f":"-L95*$F$19","v":0},null,{"$f":"-M95*$E$19","v":0},{"$f":"-M95*$F$19","v":0},null,{"$f":"-N95*$E$19","v":0},{"$f":"-N95*$F$19","v":0},null,{"$f":"-Q95*$E$19","v":0},{"$f":"-Q95*$F$19","v":0}]
["Taxable income",null,null,null,{"$f":"SUM(E56:E58)","v":0},{"$f":"SUM(F56:F58)","v":0},null,{"$f":"SUM(H56:H58)","v":0},0,null,{"$f":"SUM(K56:K58)","v":0},0,null,{"$f":"SUM(N56:N58)","v":0},0,null,{"$f":"SUM(Q56:Q58)","v":0},0,null,{"$f":"SUM(T56:T58)","v":0},0,null,{"$f":"SUM(W56:W58)","v":0},0,null,{"$f":"SUM(Z56:Z58)","v":0},{"$f":"SUM(AA56:AA58)","v":0},null,{"$f":"SUM(AC56:AC58)","v":0},{"$f":"SUM(AD56:AD58)","v":0},null,{"$f":"SUM(AF56:AF58)","v":0},{"$f":"SUM(AG56:AG58)","v":0},null,{"$f":"SUM(AI56:AI58)","v":0},{"$f":"SUM(AJ56:AJ58)","v":0}]
[null,{"$f":"B27","v":2013},{"$f":"C27","v":2023}]
["Tax Rate  (to be entered)",null,null,null,{"$f":"IF(AND(E$53>=$B$60, E$53<$C$60),$B$61,$C$61)","v":0},{"$f":"IF(AND(E$53>=$B$60, E$53<$C$60),$B$61,$C$61)","v":0},null,{"$f":"IF(AND(H$53>=$B$60, H$53<$C$60),$B$61,$C$61)","v":0},{"$f":"IF(AND(H$53>=$B$60, H$53<$C$60),$B$61,$C$61)","v":0},null,{"$f":"IF(AND(K$53>=$B$60, K$53<$C$60),$B$61,$C$61)","v":0},{"$f":"IF(AND(K$53>=$B$60, K$53<$C$60),$B$61,$C$61)","v":0},null,{"$f":"IF(AND(N$53>=$B$60, N$53<$C$60),$B$61,$C$61)","v":0},{"$f":"IF(AND(N$53>=$B$60, N$53<$C$60),$B$61,$C$61)","v":0},null,{"$f":"IF(AND(Q$53>=$B$60, Q$53<$C$60),$B$61,$C$61)","v":0},{"$f":"IF(AND(Q$53>=$B$60, Q$53<$C$60),$B$61,$C$61)","v":0},null,{"$f":"IF(AND(T$53>=$B$60, T$53<$C$60),$B$61,$C$61)","v":0},{"$f":"IF(AND(T$53>=$B$60, T$53<$C$60),$B$61,$C$61)","v":0},null,{"$f":"IF(AND(W$53>=$B$60, W$53<$C$60),$B$61,$C$61)","v":0},{"$f":"IF(AND(W$53>=$B$60, W$53<$C$60),$B$61,$C$61)","v":0},null,{"$f":"IF(AND(Z$53>=$B$60, Z$53<$C$60),$B$61,$C$61)","v":0},{"$f":"IF(AND(Z$53>=$B$60, Z$53<$C$60),$B$61,$C$61)","v":0},null,{"$f":"IF(AND(AC$53>=$B$60, AC$53<$C$60),$B$61,$C$61)","v":0},{"$f":"IF(AND(AC$53>=$B$60, AC$53<$C$60),$B$61,$C$61)","v":0},null,{"$f":"IF(AND(AF$53>=$B$60, AF$53<$C$60),$B$61,$C$61)","v":0},{"$f":"IF(AND(AF$53>=$B$60, AF$53<$C$60),$B$61,$C$61)","v":0},null,{"$f":"IF(AND(AI$53>=$B$60, AI$53<$C$60),$B$61,$C$61)","v":0},{"$f":"IF(AND(AI$53>=$B$60, AI$53<$C$60),$B$61,$C$61)","v":0}]
[]
["Income Taxes Payable",null,null,null,{"$f":"E59*E61","v":0},{"$f":"F59*F61","v":0},null,{"$f":"H59*H61","v":0},{"$f":"I59*I61","v":0},null,{"$f":"K59*K61","v":0},{"$f":"L59*L61","v":0},null,{"$f":"N59*N61","v":0},{"$f":"O59*O61","v":0},null,{"$f":"Q59*Q61","v":0},{"$f":"R59*R61","v":0},null,{"$f":"T59*T61","v":0},{"$f":"U59*U61","v":0},null,{"$f":"W59*W61","v":0},{"$f":"X59*X61","v":0},null,{"$f":"Z59*Z61","v":0},{"$f":"AA59*AA61","v":0},null,{"$f":"AC59*AC61","v":0},{"$f":"AD59*AD61","v":0},null,{"$f":"AF59*AF61","v":0},{"$f":"AG59*AG61","v":0},null,{"$f":"AI59*AI61","v":0},{"$f":"AJ59*AJ61","v":0}]
["Gross Up"]
["Income Taxes Payable",null,null,null,{"$f":"E63/(1-E61)","v":0},{"$f":"F63/(1-F61)","v":0},null,{"$f":"H63/(1-H61)","v":0},{"$f":"I63/(1-I61)","v":0},null,{"$f":"K63/(1-K61)","v":0},{"$f":"L63/(1-L61)","v":0},null,{"$f":"N63/(1-N61)","v":0},{"$f":"O63/(1-O61)","v":0},null,{"$f":"Q63/(1-Q61)","v":0},{"$f":"R63/(1-R61)","v":0},null,{"$f":"T63/(1-T61)","v":0},{"$f":"U63/(1-U61)","v":0},null,{"$f":"W63/(1-W61)","v":0},{"$f":"X63/(1-X61)","v":0},null,{"$f":"Z63/(1-Z61)","v":0},{"$f":"AA63/(1-AA61)","v":0},null,{"$f":"AC63/(1-AC61)","v":0},{"$f":"AD63/(1-AD61)","v":0},null,{"$f":"AF63/(1-AF61)","v":0},{"$f":"AG63/(1-AG61)","v":0},null,{"$f":"AI63/(1-AI61)","v":0},{"$f":"AJ63/(1-AJ61)","v":0}]
["Grossed Up PILs",null,null,null,{"$f":"+E65","v":0},{"$f":"+F65","v":0},null,{"$f":"+H65","v":0},{"$f":"+I65","v":0},null,{"$f":"+K65","v":0},0,null,{"$f":"+N65","v":0},0,null,{"$f":"+Q65","v":0},0,null,{"$f":"+T65","v":0},0,null,{"$f":"+W65","v":0},0,null,{"$f":"+Z65","v":0},0,null,{"$f":"+AC65","v":0},0,null,{"$f":"+AF65","v":0},0,null,{"$f":"+AI65","v":0},0]
[]
[null,null,null,null,null,null,null,null,null,"Test Year"]
[null,null,null,null,{"$f":"F69-1","v":2018},{"$f":"G69-1","v":2019},{"$f":"H69-1","v":2020},{"$f":"I69-1","v":2021},{"$f":"J69-1","v":2022},{"$f":"'LDC Info'!E24","v":2023},{"$f":"J69+1","v":2024},{"$f":"K69+1","v":2025},{"$f":"L69+1","v":2026},{"$f":"M69+1","v":2027},{"$f":"N69+1","v":2028}]
["Net Fixed Assets"]
["Enter applicable amortization in years:",40]
["Opening Gross Fixed Assets",null,null,null,null,{"$f":"E74","v":0},0,0,0,0,0,0,0,0,0]
["Capital Additions",null,null,null,{"$f":"'App.2-FA Proposed REG Invest.'!C62","v":0},{"$f":"'App.2-FA Proposed REG Invest.'!D62","v":0},{"$f":"'App.2-FA Proposed REG Invest.'!E62","v":0},{"$f":"'App.2-FA Proposed REG Invest.'!F62","v":0},{"$f":"'App.2-FA Proposed REG Invest.'!G62","v":0},{"$f":"'App.2-FA Proposed REG Invest.'!H62","v":0},{"$f":"'App.2-FA Proposed REG Invest.'!I62","v":0},{"$f":"'App.2-FA Proposed REG Invest.'!J62","v":0},{"$f":"'App.2-FA Proposed REG Invest.'!K62","v":0},{"$f":"'App.2-FA Proposed REG Invest.'!L62","v":0},{"$f":"'App.2-FA Proposed REG Invest.'!M62","v":0}]
["Closing Gross Fixed Assets",null,null,null,{"$f":"SUM(E72:E73)","v":0},0,0,0,0,0,0,0,0,0,{"$f":"SUM(O72:O73)","v":0}]
[]
["Opening Accumulated Amortization",null,null,null,null,{"$f":"+E79","v":0},{"$f":"+F79","v":0},0,0,0,0,0,0,0,0]
["Current Year Amortization (before additions)",null,null,null,{"$f":"IF(ISERROR(E72/$B$71), 0, E72/$B$71)","v":0},{"$f":"IF(ISERROR(F72/$B$71), 0, F72/$B$71)","v":0},0,0,0,0,0,0,0,0,{"$f":"IF(ISERROR(O72/$B$71), 0, O72/$B$71)","v":0}]
["Capital Additions Amortization (half year)",null,null,null,{"$f":"E73/$B$71/2","v":0},{"$f":"F73/$B$71/2","v":0},0,0,0,0,0,0,0,0,{"$f":"O73/$B$71/2","v":0}]
["Closing Accumulated Amortization",null,null,null,{"$f":"SUM(E76+E77+E78)","v":0},0,0,0,0,0,0,0,0,0,{"$f":"SUM(O76+O77+O78)","v":0}]
[]
["Opening Net Fixed Assets",null,null,null,{"$f":"E72-E76","v":0},0,0,0,0,0,0,0,0,0,{"$f":"O72-O76","v":0}]
["Closing Net Fixed Assets",null,null,null,{"$f":"E74-E79","v":0},0,0,0,0,0,0,0,0,0,{"$f":"O74-O79","v":0}]
["Average Net Fixed Assets",null,null,null,{"$f":"SUM(E81:E82)/2","v":0},0,0,0,0,0,0,0,0,0,{"$f":"SUM(O81:O82)/2","v":0}]
[]
["UCC for PILs Calculation",null,null,null,null,null,null,null,null,"Test Year"]
[null,null,null,null,{"$f":"E69","v":2018},{"$f":"F69","v":2019},{"$f":"G69","v":2020},2021,2022,2023,2024,2025,2026,2027,{"$f":"O69","v":2028}]
[]
["Opening UCC",null,null,null,{"$f":"E72","v":0},{"$f":"E96","v":0},0,0,0,0,0,0,0,0,0]
["Capital Additions",null,null,null,{"$f":"E73","v":0},0,0,0,0,0,0,0,0,0,{"$f":"O73","v":0}]
["UCC Before Half Year Rule",null,null,null,{"$f":"SUM(E88:E89)","v":0},0,0,0,0,0,0,0,0,0,{"$f":"SUM(O88:O89)","v":0}]
["Capital Additions (half year)",null,null,null,{"$f":"E89/2","v":0},0,0,0,0,0,0,0,0,0,{"$f":"O89/2","v":0}]
["Reduced UCC",null,null,null,{"$f":"E90-E91","v":0},0,0,0,0,0,0,0,0,0,{"$f":"O90-O91","v":0}]
["CCA Rate Class (to be entered)"]
["CCA Rate  (to be entered)"]
["CCA",null,null,null,{"$f":"E92*$B$94","v":0},{"$f":"F92*$B$94","v":0},0,0,0,0,0,0,0,0,{"$f":"O92*$B$94","v":0}]
["Closing UCC",null,null,null,{"$f":"E90-E95","v":0},0,0,0,0,0,0,0,0,0,{"$f":"O90-O95","v":0}]

{"sheet":"App.2-FC Calc of REG Expansion","index":22,"n_rows":96,"n_cols":36,"rows_kept":96,"cut":false,"hidden":false,"merged":[[15,18,15,20],[51,19,51,20],[16,30,16,32],[47,0,48,15],[8,0,8,21],[9,0,9,21],[11,0,11,21],[12,0,12,21],[14,0,14,21],[16,3,16,5],[16,6,16,8],[16,9,16,11],[16,12,16,14],[16,15,16,17],[16,18,16,20],[16,21,16,23],[16,33,16,35],[52,34,52,35],[52,31,52,32],[52,16,52,17],[50,0,50,1],[52,4,52,5],[52,7,52,8],[52,10,52,11],[52,13,52,14],[16,24,16,26],[16,27,16,29],[52,19,52,20],[52,22,52,23],[52,25,52,26],[52,28,52,29]]}
[null,null,null,null,null,null,null,null,null,null,null,null,null,null,null,null,null,"File Number:",0]
[null,null,null,null,null,null,null,null,null,null,null,null,null,null,null,null,null,"Exhibit:"]
[null,null,null,null,null,null,null,null,null,null,null,null,null,null,null,null,null,"Tab:"]
["TO BE UPDATED AT DRAFT RATE ORDER STAGE",null,null,null,null,null,null,null,null,null,null,null,null,null,null,null,null,"Schedule:"]
[null,null,null,null,null,null,null,null,null,null,null,null,null,null,null,null,null,"Page:"]
[]
[null,null,null,null,null,null,null,null,null,null,null,null,null,null,null,null,null,"Date:"]
[]
["Appendix 2-FC"]
["Calculation of Renewable Generation Connection Direct Benefits/Provincial Amount: Renewable Expansion Investments"]
[]
["This table will calculate the distributor/provincial shares of the investments entered in Part B of Appendix 2-FA."]
["Enter values in green shaded cells: WCA percentage, debt percentages, interest rates, kWh, tax rates, amortization period, CCA Class and percentage."]
["For historical investments, enter these variables that were approved in your last cost of service test year.  For test year and beyond, enter variables as in the application."]
["Rate Riders related to the direct benefit portion of the renewable investments are not calculated for the Test Year as these assets and costs are already in the distributor's rate base/revenue requirement."]
[null,null,null,null,null,null,null,null,null,null,null,null,null,null,null,null,null,null,"Test Year"]
[null,null,null,{"$f":"G17-1","v":2018},null,null,{"$f":"J17-1","v":2019},null,null,{"$f":"M17-1","v":2020},null,null,{"$f":"P17-1","v":2021},null,null,{"$f":"S17-1","v":2022},null,null,{"$f":"'LDC Info'!$E$24","v":2023},null,null,{"$f":"S17+1","v":2024},null,null,{"$f":"V17+1","v":2025},2016,null,{"$f":"Y17+1","v":2026},null,null,{"$f":"AB17+1","v":2027},null,null,{"$f":"AE17+1","v":2028}]
[null,null,null,null,"Direct Benefit","Provincial",null,"Direct Benefit","Provincial",null,"Direct Benefit","Provincial",null,"Direct Benefit","Provincial",null,"Direct Benefit","Provincial",null,"Direct Benefit","Provincial",null,"Direct Benefit","Provincial",null,"Direct Benefit","Provincial",null,"Direct Benefit","Provincial",null,"Direct Benefit","Provincial",null,"Direct Benefit","Provincial"]
[null,null,null,"Total",0.17,0.83,"Total",0.17,0.83,"Total",0.17,0.83,"Total",0.17,0.83,"Total",0.17,0.83,"Total",0.17,0.83,"Total",0.17,0.83,"Total",0.17,0.83,"Total",0.17,0.83,"Total",0.17,0.83,"Total",0.17,0.83]
["Net Fixed Assets (average)",null,null,{"$f":"E83","v":0},{"$f":"D20*E19","v":0},{"$f":"D20*F19","v":0},{"$f":"F83","v":0},{"$f":"G20*H19","v":0},{"$f":"G20*I19","v":0},{"$f":"G83","v":0},{"$f":"J20*K19","v":0},{"$f":"J20*L19","v":0},{"$f":"H83","v":0},{"$f":"M20*N19","v":0},{"$f":"M20*O19","v":0},{"$f":"I83","v":0},{"$f":"P20*Q19","v":0},{"$f":"P20*R19","v":0},{"$f":"J83","v":0},{"$f":"S20*T19","v":0},{"$f":"S20*U19","v":0},{"$f":"K83","v":0},{"$f":"V20*W19","v":0},{"$f":"V20*X19","v":0},{"$f":"L83","v":0},{"$f":"Y20*Z19","v":0},{"$f":"Y20*AA19","v":0},{"$f":"M83","v":0},{"$f":"AB20*AC19","v":0},{"$f":"AB20*AD19","v":0},{"$f":"N83","v":0},{"$f":"AE20*AF19","v":0},{"$f":"AE20*AG19","v":0},{"$f":"O83","v":0},{"$f":"AH20*AI19","v":0},{"$f":"AH20*AJ19","v":0}]
["Incremental OM&A (on-going, N/A for Provincial Recovery)",null,null,0,{"$f":"D21*E19","v":0},{"$f":"D21*F19","v":0},0,{"$f":"G21*H19","v":0},{"$f":"G21*I19","v":0},0,{"$f":"J21*K19","v":0},{"$f":"J21*L19","v":0},0,{"$f":"M21*N19","v":0},{"$f":"M21*O19","v":0},0,{"$f":"P21*Q19","v":0},{"$f":"P21*R19","v":0},0,{"$f":"S21*T19","v":0},{"$f":"S21*U19","v":0},0,{"$f":"V21*W19","v":0},{"$f":"V21*X19","v":0},0,{"$f":"Y21*Z19","v":0},{"$f":"Y21*AA19","v":0},0,{"$f":"AB21*AC19","v":0},{"$f":"AB21*AD19","v":0},0,{"$f":"AE21*AF19","v":0},{"$f":"AE21*AG19","v":0},0,{"$f":"AH21*AI19","v":0},{"$f":"AH21*AJ19","v":0}]
["Incremental OM&A (start-up, applicable for Provincial Recovery)",null,null,0,{"$f":"D22*E19","v":0},{"$f":"D22*F19","v":0},0,{"$f":"G22*H19","v":0},{"$f":"G22*I19","v":0},0,{"$f":"J22*K19","v":0},{"$f":"J22*L19","v":0},0,{"$f":"M22*N19","v":0},{"$f":"M22*O19","v":0},0,{"$f":"P22*Q19","v":0},{"$f":"P22*R19","v":0},0,{"$f":"S22*T19","v":0},{"$f":"S22*U19","v":0},0,{"$f":"V22*W19","v":0},{"$f":"V22*X19","v":0},0,{"$f":"Y22*Z19","v":0},{"$f":"Y22*AA19","v":0},0,{"$f":"AB22*AC19","v":0},{"$f":"AB22*AD19","v":0},0,{"$f":"AE22*AF19","v":0},{"$f":"AE22*AG19","v":0},0,{"$f":"AH22*AI19","v":0},{"$f":"AH22*AJ19","v":0}]
["Rebasing Year vs. Test Year",{"$f":"'LDC Info'!E28","v":2013},{"$f":"'LDC Info'!E24","v":2023}]
["Allowance for Working Capital (enter rate)",null,null,null,{"$f":"IF(AND(D$17>=$B$23, D$17<$C$23),(E21+E22)*$B$24,(E21+E22)*$C$24)","v":0},{"$f":"IF(AND(D$17>=$B$23, D$17<$C$23),(F22)*$B$24,(F22)*$C$24)","v":0},null,{"$f":"IF(AND(G$17>=$B$23, G$17<$C$23),(H21+H22)*$B$24,(H21+H22)*$C$24)","v":0},{"$f":"IF(AND(G$17>=$B$23, G$17<$C$23),(I22)*$B$24,(I22)*$C$24)","v":0},null,{"$f":"IF(AND(J$17>=$B$23, J$17<$C$23),(K21+K22)*$B$24,(K21+K22)*$C$24)","v":0},{"$f":"IF(AND(J$17>=$B$23, J$17<$C$23),(L22)*$B$24,(L22)*$C$24)","v":0},null,{"$f":"IF(AND(M$17>=$B$23, M$17<$C$23),(N21+N22)*$B$24,(N21+N22)*$C$24)","v":0},{"$f":"IF(AND(M$17>=$B$23, M$17<$C$23),(O22)*$B$24,(O22)*$C$24)","v":0},null,{"$f":"IF(AND(P$17>=$B$23, P$17<$C$23),(Q21+Q22)*$B$24,(Q21+Q22)*$C$24)","v":0},{"$f":"IF(AND(P$17>=$B$23, P$17<$C$23),(R22)*$B$24,(R22)*$C$24)","v":0},null,{"$f":"IF(AND(S$17>=$B$23, S$17<$C$23),(T21+T22)*$B$24,(T21+T22)*$C$24)","v":0},{"$f":"IF(AND(S$17>=$B$23, S$17<$C$23),(U22)*$B$24,(U22)*$C$24)","v":0},null,{"$f":"IF(AND(V$17>=$B$23, V$17<$C$23),(W21+W22)*$B$24,(W21+W22)*$C$24)","v":0},{"$f":"IF(AND(V$17>=$B$23, V$17<$C$23),(X22)*$B$24,(X22)*$C$24)","v":0},null,{"$f":"IF(AND(Y$17>=$B$23, Y$17<$C$23),(Z21+Z22)*$B$24,(Z21+Z22)*$C$24)","v":0},{"$f":"IF(AND(Y$17>=$B$23, Y$17<$C$23),(AA22)*$B$24,(AA22)*$C$24)","v":0},null,{"$f":"IF(AND(AB$17>=$B$23, AB$17<$C$23),(AC21+AC22)*$B$24,(AC21+AC22)*$C$24)","v":0},{"$f":"IF(AND(AB$17>=$B$23, AB$17<$C$23),(AD22)*$B$24,(AD22)*$C$24)","v":0},null,{"$f":"IF(AND(AE$17>=$B$23, AE$17<$C$23),(AF21+AF22)*$B$24,(AF21+AF22)*$C$24)","v":0},{"$f":"IF(AND(AE$17>=$B$23, AE$17<$C$23),(AG22)*$B$24,(AG22)*$C$24)","v":0},null,{"$f":"IF(AND(AH$17>=$B$23, AH$17<$C$23),(AI21+AI22)*$B$24,(AI21+AI22)*$C$24)","v":0},{"$f":"IF(AND(AH$17>=$B$23, AH$17<$C$23),(AJ22)*$B$24,(AJ22)*$C$24)","v":0}]
["Rate Base",null,null,null,{"$f":"SUM(E20+E24)","v":0},{"$f":"SUM(F20+F24)","v":0},null,{"$f":"SUM(H20+H24)","v":0},{"$f":"SUM(I20+I24)","v":0},null,{"$f":"SUM(K20+K24)","v":0},{"$f":"SUM(L20+L24)","v":0},null,{"$f":"SUM(N20+N24)","v":0},{"$f":"SUM(O20+O24)","v":0},null,{"$f":"SUM(Q20+Q24)","v":0},{"$f":"SUM(R20+R24)","v":0},null,{"$f":"SUM(T20+T24)","v":0},{"$f":"SUM(U20+U24)","v":0},null,{"$f":"SUM(W20+W24)","v":0},{"$f":"SUM(X20+X24)","v":0},null,{"$f":"SUM(Z20+Z24)","v":0},{"$f":"SUM(AA20+AA24)","v":0},null,{"$f":"SUM(AC20+AC24)","v":0},{"$f":"SUM(AD20+AD24)","v":0},null,{"$f":"SUM(AF20+AF24)","v":0},{"$f":"SUM(AG20+AG24)","v":0},null,{"$f":"SUM(AI20+AI24)","v":0},{"$f":"SUM(AJ20+AJ24)","v":0}]
[]
[null,{"$f":"B23","v":2013},{"$f":"C23","v":2023}]
["Deemed ST Debt ",0.04,0.04,null,{"$f":"E25*$B$28","v":0},{"$f":"F25*$B$28","v":0},null,{"$f":"H25*$B$28","v":0},{"$f":"I25*$B$28","v":0},null,{"$f":"K25*$B$28","v":0},{"$f":"L25*$B$28","v":0},null,{"$f":"N25*$B$28","v":0},{"$f":"O25*$B$28","v":0},null,{"$f":"Q25*$B$28","v":0},{"$f":"R25*$B$28","v":0},null,{"$f":"T25*$C$28","v":0},{"$f":"U25*$C$28","v":0},null,{"$f":"W25*$C$28","v":0},{"$f":"X25*$C$28","v":0},null,{"$f":"Z25*$C$28","v":0},{"$f":"AA25*$C$28","v":0},null,{"$f":"AC25*$C$28","v":0},{"$f":"AD25*$C$28","v":0},null,{"$f":"AF25*$C$28","v":0},{"$f":"AG25*$C$28","v":0},null,{"$f":"AI25*$C$28","v":0},{"$f":"AJ25*$C$28","v":0}]
["Deemed LT Debt ",0.56000000000000005,0.56000000000000005,null,{"$f":"E25*$B$29","v":0},{"$f":"F25*$B$29","v":0},null,{"$f":"H25*$B$29","v":0},{"$f":"I25*$B$29","v":0},null,{"$f":"K25*$B$29","v":0},{"$f":"L25*$B$29","v":0},null,{"$f":"N25*$B$29","v":0},{"$f":"O25*$B$29","v":0},null,{"$f":"Q25*$B$29","v":0},{"$f":"R25*$B$29","v":0},null,{"$f":"T25*$C$29","v":0},{"$f":"U25*$C$29","v":0},null,{"$f":"W25*$C$29","v":0},{"$f":"X25*$C$29","v":0},null,{"$f":"Z25*$C$29","v":0},{"$f":"AA25*$C$29","v":0},null,{"$f":"AC25*$C$29","v":0},{"$f":"AD25*$C$29","v":0},null,{"$f":"AF25*$C$29","v":0},{"$f":"AG25*$C$29","v":0},null,{"$f":"AI25*$C$29","v":0},{"$f":"AJ25*$C$29","v":0}]
["Deemed Equity ",0.4,0.4,null,{"$f":"E25*$B$30","v":0},{"$f":"F25*$B$30","v":0},null,{"$f":"H25*$B$30","v":0},{"$f":"I25*$B$30","v":0},null,{"$f":"K25*$B$30","v":0},{"$f":"L25*$B$30","v":0},null,{"$f":"N25*$B$30","v":0},{"$f":"O25*$B$30","v":0},null,{"$f":"Q25*$B$30","v":0},{"$f":"R25*$B$30","v":0},null,{"$f":"T25*$C$30","v":0},{"$f":"U25*$C$30","v":0},null,{"$f":"W25*$C$30","v":0},{"$f":"X25*$C$30","v":0},null,{"$f":"Z25*$C$30","v":0},{"$f":"AA25*$C$30","v":0},null,{"$f":"AC25*$C$30","v":0},{"$f":"AD25*$C$30","v":0},null,{"$f":"AF25*$C$30","v":0},{"$f":"AG25*$C$30","v":0},null,{"$f":"AI25*$C$30","v":0},{"$f":"AJ25*$C$30","v":0}]
[]
["ST Interest (enter rate)",null,null,null,{"$f":"E28*$B32","v":0},0,null,0,0,null,0,0,null,0,0,null,0,0,null,{"$f":"T28*$C32","v":0},0,null,{"$f":"W28*$C32","v":0},0,null,{"$f":"Z28*$C32","v":0},0,null,{"$f":"AC28*$C32","v":0},0,null,{"$f":"AF28*$C32","v":0},0,null,{"$f":"AI28*$C32","v":0},0]
["LT Interest (enter rate)",null,null,null,0,0,null,0,0,null,0,0,null,0,0,null,0,0,null,0,0,null,0,0,null,0,0,null,0,0,null,0,0,null,{"$f":"AI29*$C33","v":0},0]
["Return on Equity (enter rate)",null,null,null,0,0,null,0,0,null,0,0,null,0,0,null,0,0,null,0,0,null,0,0,null,0,0,null,0,0,null,0,0,null,{"$f":"AI30*$C34","v":0},0]
["Cost of Capital Total",null,null,null,{"$f":"SUM(E32:E34)","v":0},{"$f":"SUM(F32:F34)","v":0},null,{"$f":"SUM(H32:H34)","v":0},{"$f":"SUM(I32:I34)","v":0},null,{"$f":"SUM(K32:K34)","v":0},{"$f":"SUM(L32:L34)","v":0},null,{"$f":"SUM(N32:N34)","v":0},{"$f":"SUM(O32:O34)","v":0},null,{"$f":"SUM(Q32:Q34)","v":0},{"$f":"SUM(R32:R34)","v":0},null,{"$f":"SUM(T32:T34)","v":0},{"$f":"SUM(U32:U34)","v":0},null,{"$f":"SUM(W32:W34)","v":0},{"$f":"SUM(X32:X34)","v":0},null,{"$f":"SUM(Z32:Z34)","v":0},{"$f":"SUM(AA32:AA34)","v":0},null,{"$f":"SUM(AC32:AC34)","v":0},{"$f":"SUM(AD32:AD34)","v":0},null,{"$f":"SUM(AF32:AF34)","v":0},{"$f":"SUM(AG32:AG34)","v":0},null,{"$f":"SUM(AI32:AI34)","v":0},{"$f":"SUM(AJ32:AJ34)","v":0}]
[]
["OM&A",null,null,null,{"$f":"E21+E22","v":0},{"$f":"F22","v":0},null,{"$f":"H21+H22","v":0},{"$f":"I22","v":0},null,{"$f":"K21+K22","v":0},{"$f":"L22","v":0},null,{"$f":"N21+N22","v":0},{"$f":"O22","v":0},null,{"$f":"Q21+Q22","v":0},{"$f":"R22","v":0},null,{"$f":"T21+T22","v":0},{"$f":"U22","v":0},null,{"$f":"W21+W22","v":0},{"$f":"X22","v":0},null,{"$f":"Z21+Z22","v":0},{"$f":"AA22","v":0},null,{"$f":"AC21+AC22","v":0},{"$f":"AD22","v":0},null,{"$f":"AF21+AF22","v":0},{"$f":"AG22","v":0},null,{"$f":"AI21+AI22","v":0},{"$f":"AJ22","v":0}]
["Amortization",null,null,{"$f":"+E77+E78","v":0},{"$f":"D38*E$19","v":0},{"$f":"D38*F$19","v":0},{"$f":"+F77+F78","v":0},{"$f":"G38*H$19","v":0},{"$f":"G38*I$19","v":0},{"$f":"+G77+G78","v":0},{"$f":"J38*K$19","v":0},{"$f":"J38*L$19","v":0},{"$f":"+H77+H78","v":0},{"$f":"M38*N$19","v":0},{"$f":"M38*O$19","v":0},{"$f":"+I77+I78","v":0},{"$f":"P38*Q$19","v":0},{"$f":"P38*R$19","v":0},{"$f":"+J77+J78","v":0},{"$f":"S38*T$19","v":0},{"$f":"S38*U$19","v":0},{"$f":"+K77+K78","v":0},{"$f":"V38*W$19","v":0},{"$f":"V38*X$19","v":0},{"$f":"+L77+L78","v":0},{"$f":"Y38*Z$19","v":0},{"$f":"Y38*AA$19","v":0},{"$f":"+M77+M78","v":0},{"$f":"AB38*AC$19","v":0},{"$f":"AB38*AD$19","v":0},{"$f":"+N77+N78","v":0},{"$f":"AE38*AF$19","v":0},{"$f":"AE38*AG$19","v":0},{"$f":"+O77+O78","v":0},{"$f":"AH38*AI$19","v":0},{"$f":"AH38*AJ$19","v":0}]
["Grossed-up PILs",null,null,null,{"$f":"+E66","v":0},{"$f":"+F66","v":0},null,{"$f":"+H66","v":0},{"$f":"+I66","v":0},null,{"$f":"+K66","v":0},{"$f":"+L66","v":0},null,{"$f":"+N66","v":0},{"$f":"+O66","v":0},null,{"$f":"+Q66","v":0},{"$f":"+R66","v":0},null,{"$f":"+T66","v":0},{"$f":"+U66","v":0},null,{"$f":"+W66","v":0},{"$f":"+X66","v":0},null,{"$f":"+Z66","v":0},{"$f":"+AA66","v":0},null,{"$f":"+AC66","v":0},{"$f":"+AD66","v":0},null,{"$f":"+AF66","v":0},{"$f":"+AG66","v":0},null,{"$f":"+AI66","v":0},{"$f":"+AJ66","v":0}]
[]
["Revenue Requirement",null,null,null,{"$f":"SUM(E35:E39)","v":0},{"$f":"SUM(F35:F39)","v":0},null,{"$f":"SUM(H35:H39)","v":0},0,null,{"$f":"SUM(K35:K39)","v":0},0,null,{"$f":"SUM(N35:N39)","v":0},0,null,{"$f":"SUM(Q35:Q39)","v":0},0,null,{"$f":"SUM(T35:T39)","v":0},0,null,{"$f":"SUM(W35:W39)","v":0},0,null,{"$f":"SUM(Z35:Z39)","v":0},0,null,{"$f":"SUM(AC35:AC39)","v":0},0,null,{"$f":"SUM(AF35:AF39)","v":0},0,null,{"$f":"SUM(AI35:AI39)","v":0},0]
[]
[]
["Provincial Rate Protection",null,null,null,null,{"$f":"F41","v":0},null,null,{"$f":"I41","v":0},null,null,{"$f":"L41","v":0},null,null,{"$f":"O41","v":0},null,null,{"$f":"R41","v":0},null,null,{"$f":"U41","v":0},null,null,{"$f":"X41","v":0},null,null,{"$f":"AA41","v":0},null,null,{"$f":"AD41","v":0},null,null,{"$f":"AG41","v":0},null,null,{"$f":"AJ41","v":0}]
[]
["Monthly Amount Paid by IESO",null,null,null,null,{"$f":"F44/12","v":0},null,null,{"$f":"I44/12","v":0},null,null,{"$f":"L44/12","v":0},null,null,{"$f":"O44/12","v":0},null,null,{"$f":"R44/12","v":0},null,null,{"$f":"U44/12","v":0},null,null,{"$f":"X44/12","v":0},null,null,{"$f":"AA44/12","v":0},null,null,{"$f":"AD44/12","v":0},null,null,{"$f":"AG44/12","v":0},null,null,{"$f":"AJ44/12","v":0}]
[]
["Note 1: The distributor should follow the regulatory accounting set out in the Accounting Procedure Handbook Guidance FAQs issued in March 2015. Q10 of the APH FAQs states that: “For approved eligible investments as defined under O.Reg. 330/09 under the OEB Act, a variance account will continue to be used for the purpose of recording variances between the revenue requirement based on actual costs of approved eligible investments and the revenue received from the IESO.” The answer for Q10 provides the accounting guidance for this variance account: “Distributors that have included eligible investments to connect qualifying facilities in their DS plans are to establish the variance Account 1533 Renewable Generation Connection Funding Adder Deferral Account, Sub-account Provincial Rate Protection Payment Variances following OEB approval for investments forecast to enter service beyond the test year for purposes of implementing rate protection pursuant to O.Reg. 330/09. The purpose of this variance account is to track the variance between the distributor’s revenue requirement associated with the portion of the actual capital and/or operating costs that are eligible for rate protection, as incurred by the distributor for eligible renewable enabling and expansion investments, and the rate protection payments collected from the IESO.” The answer further provides the journal entries to record the variances. Distributors should follow the instructions in the answer for recording the journal entries in the variance account 1533."]
[]
["Note 2: For the Test Year, Costs and Revenues of the Direct Benefit are to be included in the test year applicant Rate Base and Revenues."]
[]
["PILs Calculation",null,null,null,null,null,null,null,null,null,null,null,null,null,null,null,null,null,null,"Test Year"]
[null,null,null,null,{"$f":"G17-1","v":2018},null,null,{"$f":"G17","v":2019},null,null,{"$f":"J17","v":2020},null,null,{"$f":"M17","v":2021},null,null,{"$f":"P17","v":2022},null,null,{"$f":"S17","v":2023},null,null,{"$f":"V17","v":2024},null,null,{"$f":"Y17","v":2025},null,null,{"$f":"AB17","v":2026},null,null,{"$f":"AE17","v":2027},null,null,{"$f":"AH17","v":2028}]
["Income Tax",null,null,null,"Direct Benefit","Provincial",null,"Direct Benefit","Provincial",null,"Direct Benefit","Provincial",null,"Direct Benefit","Provincial",null,"Direct Benefit","Provincial",null,"Direct Benefit","Provincial",null,"Direct Benefit","Provincial",null,"Direct Benefit","Provincial",null,"Direct Benefit","Provincial",null,"Direct Benefit","Provincial",null,"Direct Benefit","Provincial"]
[null,null,null,null,null,null,null,null,null,null,null,null,null,null,null,null,null,null,null,null,null,null,null,null,null,null,null,"Total",null,null,"Total",null,null,"Total"]
["Net Income - ROE on Rate Base",null,null,null,{"$f":"E34","v":0},{"$f":"F34","v":0},null,{"$f":"H34","v":0},{"$f":"I34","v":0},null,{"$f":"K34","v":0},{"$f":"L34","v":0},null,{"$f":"N34","v":0},{"$f":"O34","v":0},null,{"$f":"Q34","v":0},{"$f":"R34","v":0},null,{"$f":"T34","v":0},{"$f":"U34","v":0},null,{"$f":"W34","v":0},{"$f":"X34","v":0},null,{"$f":"Z34","v":0},{"$f":"AA34","v":0},null,{"$f":"AC34","v":0},{"$f":"AD34","v":0},null,{"$f":"AF34","v":0},{"$f":"AG34","v":0},null,{"$f":"AI34","v":0},{"$f":"AJ34","v":0}]
["Amortization (6% DB and 94% P)",null,null,null,{"$f":"E38","v":0},{"$f":"F38","v":0},null,{"$f":"H38","v":0},{"$f":"I38","v":0},null,{"$f":"K38","v":0},{"$f":"L38","v":0},null,{"$f":"N38","v":0},{"$f":"O38","v":0},null,{"$f":"Q38","v":0},{"$f":"R38","v":0},null,{"$f":"T38","v":0},{"$f":"U38","v":0},null,{"$f":"W38","v":0},{"$f":"X38","v":0},null,{"$f":"Z38","v":0},{"$f":"AA38","v":0},null,{"$f":"AC38","v":0},{"$f":"AD38","v":0},null,{"$f":"AF38","v":0},{"$f":"AG38","v":0},null,{"$f":"AI38","v":0},{"$f":"AJ38","v":0}]
["CCA (6% DB and 94% P)",null,null,null,{"$f":"-E95*$E$19","v":0},{"$f":"-E95*$F$19","v":0},null,{"$f":"-F95*$E$19","v":0},{"$f":"-F95*$F$19","v":0},null,{"$f":"-G95*$E$19","v":0},{"$f":"-G95*$F$19","v":0},null,{"$f":"-H95*$E$19","v":0},{"$f":"-H95*$F$19","v":0},null,{"$f":"-I95*$E$19","v":0},{"$f":"-I95*$F$19","v":0},null,{"$f":"-J95*$E$19","v":0},{"$f":"-J95*$F$19","v":0},null,{"$f":"-K95*$E$19","v":0},{"$f":"-K95*$F$19","v":0},null,{"$f":"-L95*$E$19","v":0},{"$f":"-L95*$F$19","v":0},null,{"$f":"-M95*$E$19","v":0},{"$f":"-M95*$F$19","v":0},null,{"$f":"-N95*$E$19","v":0},{"$f":"-N95*$F$19","v":0},null,{"$f":"-Q95*$E$19","v":0},{"$f":"-Q95*$F$19","v":0}]
["Taxable income",null,null,null,{"$f":"SUM(E56:E58)","v":0},{"$f":"SUM(F56:F58)","v":0},null,{"$f":"SUM(H56:H58)","v":0},0,null,{"$f":"SUM(K56:K58)","v":0},0,null,{"$f":"SUM(N56:N58)","v":0},0,null,{"$f":"SUM(Q56:Q58)","v":0},0,null,{"$f":"SUM(T56:T58)","v":0},0,null,{"$f":"SUM(W56:W58)","v":0},0,null,{"$f":"SUM(Z56:Z58)","v":0},{"$f":"SUM(AA56:AA58)","v":0},null,{"$f":"SUM(AC56:AC58)","v":0},{"$f":"SUM(AD56:AD58)","v":0},null,{"$f":"SUM(AF56:AF58)","v":0},{"$f":"SUM(AG56:AG58)","v":0},null,{"$f":"SUM(AI56:AI58)","v":0},{"$f":"SUM(AJ56:AJ58)","v":0}]
[null,{"$f":"B27","v":2013},{"$f":"C27","v":2023}]
["Tax Rate  (to be entered)",null,null,null,{"$f":"IF(AND(E$53>=$B$60, E$53<$C$60),$B$61,$C$61)","v":0},{"$f":"IF(AND(E$53>=$B$60, E$53<$C$60),$B$61,$C$61)","v":0},null,{"$f":"IF(AND(H$53>=$B$60, H$53<$C$60),$B$61,$C$61)","v":0},{"$f":"IF(AND(H$53>=$B$60, H$53<$C$60),$B$61,$C$61)","v":0},null,{"$f":"IF(AND(K$53>=$B$60, K$53<$C$60),$B$61,$C$61)","v":0},{"$f":"IF(AND(K$53>=$B$60, K$53<$C$60),$B$61,$C$61)","v":0},null,{"$f":"IF(AND(N$53>=$B$60, N$53<$C$60),$B$61,$C$61)","v":0},{"$f":"IF(AND(N$53>=$B$60, N$53<$C$60),$B$61,$C$61)","v":0},null,{"$f":"IF(AND(Q$53>=$B$60, Q$53<$C$60),$B$61,$C$61)","v":0},{"$f":"IF(AND(Q$53>=$B$60, Q$53<$C$60),$B$61,$C$61)","v":0},null,{"$f":"IF(AND(T$53>=$B$60, T$53<$C$60),$B$61,$C$61)","v":0},{"$f":"IF(AND(T$53>=$B$60, T$53<$C$60),$B$61,$C$61)","v":0},null,{"$f":"IF(AND(W$53>=$B$60, W$53<$C$60),$B$61,$C$61)","v":0},{"$f":"IF(AND(W$53>=$B$60, W$53<$C$60),$B$61,$C$61)","v":0},null,{"$f":"IF(AND(Z$53>=$B$60, Z$53<$C$60),$B$61,$C$61)","v":0},{"$f":"IF(AND(Z$53>=$B$60, Z$53<$C$60),$B$61,$C$61)","v":0},null,{"$f":"IF(AND(AC$53>=$B$60, AC$53<$C$60),$B$61,$C$61)","v":0},{"$f":"IF(AND(AC$53>=$B$60, AC$53<$C$60),$B$61,$C$61)","v":0},null,{"$f":"IF(AND(AF$53>=$B$60, AF$53<$C$60),$B$61,$C$61)","v":0},{"$f":"IF(AND(AF$53>=$B$60, AF$53<$C$60),$B$61,$C$61)","v":0},null,{"$f":"IF(AND(AI$53>=$B$60, AI$53<$C$60),$B$61,$C$61)","v":0},{"$f":"IF(AND(AI$53>=$B$60, AI$53<$C$60),$B$61,$C$61)","v":0}]
[]
["Income Taxes Payable",null,null,null,{"$f":"E59*E61","v":0},{"$f":"F59*F61","v":0},null,{"$f":"H59*H61","v":0},{"$f":"I59*I61","v":0},null,{"$f":"K59*K61","v":0},{"$f":"L59*L61","v":0},null,{"$f":"N59*N61","v":0},{"$f":"O59*O61","v":0},null,{"$f":"Q59*Q61","v":0},{"$f":"R59*R61","v":0},null,{"$f":"T59*T61","v":0},{"$f":"U59*U61","v":0},null,{"$f":"W59*W61","v":0},{"$f":"X59*X61","v":0},null,{"$f":"Z59*Z61","v":0},{"$f":"AA59*AA61","v":0},null,{"$f":"AC59*AC61","v":0},{"$f":"AD59*AD61","v":0},null,{"$f":"AF59*AF61","v":0},{"$f":"AG59*AG61","v":0},null,{"$f":"AI59*AI61","v":0},{"$f":"AJ59*AJ61","v":0}]
["Gross Up"]
["Income Taxes Payable",null,null,null,{"$f":"E63/(1-E61)","v":0},{"$f":"F63/(1-F61)","v":0},null,{"$f":"H63/(1-H61)","v":0},{"$f":"I63/(1-I61)","v":0},null,{"$f":"K63/(1-K61)","v":0},{"$f":"L63/(1-L61)","v":0},null,{"$f":"N63/(1-N61)","v":0},{"$f":"O63/(1-O61)","v":0},null,{"$f":"Q63/(1-Q61)","v":0},{"$f":"R63/(1-R61)","v":0},null,{"$f":"T63/(1-T61)","v":0},{"$f":"U63/(1-U61)","v":0},null,{"$f":"W63/(1-W61)","v":0},{"$f":"X63/(1-X61)","v":0},null,{"$f":"Z63/(1-Z61)","v":0},{"$f":"AA63/(1-AA61)","v":0},null,{"$f":"AC63/(1-AC61)","v":0},{"$f":"AD63/(1-AD61)","v":0},null,{"$f":"AF63/(1-AF61)","v":0},{"$f":"AG63/(1-AG61)","v":0},null,{"$f":"AI63/(1-AI61)","v":0},{"$f":"AJ63/(1-AJ61)","v":0}]
["Grossed Up PILs",null,null,null,{"$f":"+E65","v":0},{"$f":"+F65","v":0},null,{"$f":"+H65","v":0},{"$f":"+I65","v":0},null,{"$f":"+K65","v":0},0,null,{"$f":"+N65","v":0},0,null,{"$f":"+Q65","v":0},0,null,{"$f":"+T65","v":0},0,null,{"$f":"+W65","v":0},0,null,{"$f":"+Z65","v":0},0,null,{"$f":"+AC65","v":0},0,null,{"$f":"+AF65","v":0},0,null,{"$f":"+AI65","v":0},0]
[]
[null,null,null,null,null,null,null,null,null,"Test Year"]
[null,null,null,null,{"$f":"F69-1","v":2018},{"$f":"G69-1","v":2019},{"$f":"H69-1","v":2020},{"$f":"I69-1","v":2021},{"$f":"J69-1","v":2022},{"$f":"'LDC Info'!E24","v":2023},{"$f":"J69+1","v":2024},{"$f":"K69+1","v":2025},{"$f":"L69+1","v":2026},{"$f":"M69+1","v":2027},{"$f":"N69+1","v":2028}]
["Net Fixed Assets"]
["Enter applicable amortization in years:",40]
["Opening Gross Fixed Assets",null,null,null,null,{"$f":"E74","v":0},0,0,0,0,0,0,0,0,0]
["Capital Additions",null,null,null,{"$f":"'App.2-FA Proposed REG Invest.'!C99","v":0},{"$f":"'App.2-FA Proposed REG Invest.'!D99","v":0},{"$f":"'App.2-FA Proposed REG Invest.'!E99","v":0},{"$f":"'App.2-FA Proposed REG Invest.'!F99","v":0},{"$f":"'App.2-FA Proposed REG Invest.'!G99","v":0},{"$f":"'App.2-FA Proposed REG Invest.'!H99","v":0},{"$f":"'App.2-FA Proposed REG Invest.'!I99","v":0},{"$f":"'App.2-FA Proposed REG Invest.'!J99","v":0},{"$f":"'App.2-FA Proposed REG Invest.'!K99","v":0},{"$f":"'App.2-FA Proposed REG Invest.'!L99","v":0},{"$f":"'App.2-FA Proposed REG Invest.'!M99","v":0}]
["Closing Gross Fixed Assets",null,null,null,{"$f":"SUM(E72:E73)","v":0},0,0,0,0,0,0,0,0,0,{"$f":"SUM(O72:O73)","v":0}]
[]
["Opening Accumulated Amortization",null,null,null,0,{"$f":"+E79","v":0},{"$f":"+F79","v":0},0,0,0,0,0,0,0,0]
["Current Year Amortization (before additions)",null,null,null,{"$f":"IF(ISERROR(E72/$B$71), 0, E72/$B$71)","v":0},{"$f":"IF(ISERROR(F72/$B$71), 0, F72/$B$71)","v":0},0,0,0,0,0,0,0,0,{"$f":"IF(ISERROR(O72/$B$71), 0, O72/$B$71)","v":0}]
["Capital Additions Amortization (half year)",null,null,null,{"$f":"E73/$B$71/2","v":0},{"$f":"F73/$B$71/2","v":0},0,0,0,0,0,0,0,0,{"$f":"O73/$B$71/2","v":0}]
["Closing Accumulated Amortization",null,null,null,{"$f":"SUM(E76+E77+E78)","v":0},0,0,0,0,0,0,0,0,0,{"$f":"SUM(O76+O77+O78)","v":0}]
[]
["Opening Net Fixed Assets",null,null,null,{"$f":"E72-E76","v":0},0,0,0,0,0,0,0,0,0,{"$f":"O72-O76","v":0}]
["Closing Net Fixed Assets",null,null,null,{"$f":"E74-E79","v":0},0,0,0,0,0,0,0,0,0,{"$f":"O74-O79","v":0}]
["Average Net Fixed Assets",null,null,null,{"$f":"SUM(E81:E82)/2","v":0},0,0,0,0,0,0,0,0,0,{"$f":"SUM(O81:O82)/2","v":0}]
[]
["UCC for PILs Calculation",null,null,null,null,null,null,null,null,{"$f":"J68","v":"Test Year"}]
[null,null,null,null,{"$f":"E69","v":2018},{"$f":"F69","v":2019},{"$f":"G69","v":2020},2021,2022,2023,2024,2025,2026,2027,{"$f":"O69","v":2028}]
[]
["Opening UCC",null,null,null,{"$f":"E72","v":0},{"$f":"E96","v":0},0,0,0,0,0,0,0,0,0]
["Capital Additions",null,null,null,{"$f":"E73","v":0},0,0,0,0,0,0,0,0,0,{"$f":"O73","v":0}]
["UCC Before Half Year Rule",null,null,null,{"$f":"SUM(E88:E89)","v":0},0,0,0,0,0,0,0,0,0,{"$f":"SUM(O88:O89)","v":0}]
["Capital Additions (half year)",null,null,null,{"$f":"E89/2","v":0},0,0,0,0,0,0,0,0,0,{"$f":"O89/2","v":0}]
["Reduced UCC",null,null,null,{"$f":"E90-E91","v":0},0,0,0,0,0,0,0,0,0,{"$f":"O90-O91","v":0}]
["CCA Rate Class (to be entered)"]
["CCA Rate  (to be entered)"]
["CCA",null,null,null,{"$f":"E92*$B$94","v":0},{"$f":"F92*$B$94","v":0},0,0,0,0,0,0,0,0,{"$f":"O92*$B$94","v":0}]
["Closing UCC",null,null,null,{"$f":"E90-E95","v":0},0,0,0,0,0,0,0,0,0,{"$f":"O90-O95","v":0}]

{"sheet":"App.2-G SQI","index":23,"n_rows":40,"n_cols":21,"rows_kept":40,"cut":false,"hidden":false,"merged":[[0,14,0,15],[1,14,1,15],[2,14,2,15],[3,14,3,15],[4,14,4,15],[28,0,28,3],[6,14,6,15],[20,11,20,14],[21,11,21,14],[19,0,19,15],[8,0,8,15],[9,0,9,15],[10,0,10,15],[11,0,11,15],[20,1,20,4],[20,6,20,9],[23,0,23,10],[24,0,24,10],[26,0,26,10],[21,1,21,4],[21,6,21,9],[34,4,34,5],[35,4,35,5],[36,4,36,5],[28,4,28,5],[29,4,29,5],[30,4,30,5],[31,4,31,5],[37,4,37,5],[38,4,38,5],[39,4,39,5],[29,0,29,3],[30,0,30,3],[31,0,31,3],[32,0,32,3],[33,0,33,3],[34,0,34,3],[35,0,35,3],[36,0,36,3],[37,0,37,3],[38,0,38,3],[39,0,39,3],[32,4,32,5],[33,4,33,5],[20,16,20,19],[21,16,21,19],[13,1,14,5],[13,0,15,0],[13,16,14,20],[13,11,14,15],[13,6,14,10]]}
[null,null,null,null,null,null,null,null,null,null,null,null,"File Number:",null,{"$f":"EBNUMBER","v":"EB-2022-0016"}]
[null,null,null,null,null,null,null,null,null,null,null,null,"Exhibit:"]
[null,null,null,null,null,null,null,null,null,null,null,null,"Tab:"]
[null,null,null,null,null,null,null,null,null,null,null,null,"Schedule:"]
[null,null,null,null,null,null,null,null,null,null,null,null,"Page:"]
[]
[null,null,null,null,null,null,null,null,null,null,null,null,"Date:",null,"2022-10-24"]
[]
["Appendix 2-G"]
["Service Reliability and Quality Indicators"]
[]
["Service Reliability"]
[]
["Index","Excluding Loss of Supply and Major Event Days",null,null,null,null,"Including Major Event Days, Excluding Loss of Supply",null,null,null,null,"Including Loss of Supply, Excluding Major Event Days",null,null,null,null,"Including Loss of Supply and Major Event Days"]
[]
[null,{"$f":"TestYear-6","v":2017},{"$f":"TestYear-5","v":2018},{"$f":"TestYear-4","v":2019},{"$f":"TestYear-3","v":2020},{"$f":"TestYear-2","v":2021},{"$f":"B16","v":2017},2018,2019,2020,2021,2017,2018,2019,2020,2021,{"$f":"L16","v":2017},{"$f":"M16","v":2018},{"$f":"N16","v":2019},{"$f":"O16","v":2020},{"$f":"P16","v":2021}]
["SAIDI ",{"$f":"VLOOKUP('LDC Info'!$E$14,'2017 Adjusted SAIDI and SAIFI'!$A:$Q,6,FALSE)","v":1.3058922798750756},{"$f":"VLOOKUP('LDC Info'!$E$14,'2018 Adjusted SAIDI and SAIFI'!$A:$Q,6,FALSE)","v":1.5969437414833543},{"$f":"VLOOKUP('LDC Info'!$E$14,'2019 Adjusted SAIDI and SAIFI'!$A:$Q,6,FALSE)","v":1.8775668987586356},1.95,1.86,1.31,2.2000000000000002,1.88,2.29,2.92,1.31,2.72,3.35,2.11,1.92,3.13,3.69,3.35,2.4500000000000002,2.97]
["SAIFI",{"$f":"VLOOKUP('LDC Info'!$E$14,'2017 Adjusted SAIDI and SAIFI'!$A:$Q,14,FALSE)","v":0.96375541066242942},{"$f":"VLOOKUP('LDC Info'!$E$14,'2018 Adjusted SAIDI and SAIFI'!$A:$Q,14,FALSE)","v":1.6737666994128311},{"$f":"VLOOKUP('LDC Info'!$E$14,'2019 Adjusted SAIDI and SAIFI'!$A:$Q,14,FALSE)","v":1.8698974230333765},2.02,1.59,0.96,1.98,1.87,2.2200000000000002,1.98,0.96,3.32,2.93,2.15,1.79,2.2000000000000002,3.75,2.93,2.34,2.17]
[]
["5 Year Historical Average"]
["SAIDI ",null,null,null,null,{"$f":"IF(ISERROR(AVERAGE(B17:F17)), \"\", AVERAGE(B17:F17))","v":1.7180805840234132},null,null,null,null,{"$f":"IF(ISERROR(AVERAGE(G17:K17)), \"\", AVERAGE(G17:K17))","v":2.12},null,null,null,null,{"$f":"IF(ISERROR(AVERAGE(L17:P17)), \"\", AVERAGE(L17:P17))","v":2.282},null,null,null,null,{"$f":"IF(ISERROR(AVERAGE(Q17:U17)), \"\", AVERAGE(Q17:U17))","v":3.1180000000000003}]
["SAIFI",null,null,null,null,{"$f":"IF(ISERROR(AVERAGE(B18:F18)), \"\", AVERAGE(B18:F18))","v":1.6234839066217273},null,null,null,null,{"$f":"IF(ISERROR(AVERAGE(G18:K18)), \"\", AVERAGE(G18:K18))","v":1.8020000000000003},null,null,null,null,{"$f":"IF(ISERROR(AVERAGE(L18:P18)), \"\", AVERAGE(L18:P18))","v":2.2299999999999995},null,null,null,null,{"$f":"IF(ISERROR(AVERAGE(Q18:U18)), \"\", AVERAGE(Q18:U18))","v":2.6779999999999999}]
[]
["SAIDI = System Average Interruption Duration Index"]
["SAIFI = System Average Interruption Frequency Index "]
[]
["Service Quality"]
[]
["Indicator",null,null,null,"OEB Minimum Standard",null,{"$f":"B16","v":2017},{"$f":"C16","v":2018},{"$f":"D16","v":2019},{"$f":"E16","v":2020},{"$f":"F16","v":2021}]
["Low Voltage Connections",null,null,null,0.9,null,0.99270000000000003,0.96889999999999998,0.99770000000000003,1,0.93920000000000003]
["High Voltage Connections",null,null,null,0.9,null,{"$f":"IFERROR(VLOOKUP('LDC Info'!$E$14,'2.1.4_ServiceQuality'!$A:$FY,7,FALSE),\"\")","v":"N/A"},{"$f":"IFERROR(VLOOKUP('LDC Info'!$E$14,'2.1.4_ServiceQuality'!$A:$FY,43,FALSE),\"\")","v":"N/A"},{"$f":"IFERROR(VLOOKUP('LDC Info'!$E$14,'2.1.4_ServiceQuality'!$A:$FY,79,FALSE),\"\")","v":"N/A"},{"$f":"IFERROR(VLOOKUP('LDC Info'!$E$14,'2.1.4_ServiceQuality'!$A:$FY,115,FALSE),\"\")","v":"N/A"},{"$f":"IFERROR(VLOOKUP('LDC Info'!$E$14,'2.1.4_ServiceQuality'!$A:$FY,151,FALSE),\"\")","v":"N/A"}]
["Telephone Accessibility",null,null,null,0.65,null,0.78010000000000002,0.82310000000000005,0.874,0.82669999999999999,0.86260000000000003]
["Appointments Met",null,null,null,0.9,null,0.99819999999999998,0.99719999999999998,1,1,0.99409999999999998]
["Written Response to Enquires",null,null,null,0.8,null,0.99990000000000001,0.99819999999999998,0.99590000000000001,0.99839999999999995,0.99909999999999999]
["Emergency Urban Response",null,null,null,0.8,null,{"$f":"IFERROR(VLOOKUP('LDC Info'!$E$14,'2.1.4_ServiceQuality'!$A:$FY,28,FALSE),\"\")","v":1},{"$f":"IFERROR(VLOOKUP('LDC Info'!$E$14,'2.1.4_ServiceQuality'!$A:$FY,64,FALSE),\"\")","v":1},{"$f":"IFERROR(VLOOKUP('LDC Info'!$E$14,'2.1.4_ServiceQuality'!$A:$FY,100,FALSE),\"\")","v":1},{"$f":"IFERROR(VLOOKUP('LDC Info'!$E$14,'2.1.4_ServiceQuality'!$A:$FY,136,FALSE),\"\")","v":1},{"$f":"IFERROR(VLOOKUP('LDC Info'!$E$14,'2.1.4_ServiceQuality'!$A:$FY,172,FALSE),\"\")","v":1}]
["Emergency Rural Response",null,null,null,0.8,null,{"$f":"IFERROR(VLOOKUP('LDC Info'!$E$14,'2.1.4_ServiceQuality'!$A:$FY,31,FALSE),\"\")","v":1},"N/A",{"$f":"IFERROR(VLOOKUP('LDC Info'!$E$14,'2.1.4_ServiceQuality'!$A:$FY,103,FALSE),\"\")","v":"N/A"},1,{"$f":"IFERROR(VLOOKUP('LDC Info'!$E$14,'2.1.4_ServiceQuality'!$A:$FY,175,FALSE),\"\")","v":1}]
["Telephone Call Abandon Rate",null,null,null,0.1,null,3.6200000000000003E-2,2.9700000000000001E-2,2.8500000000000001E-2,2.6499999999999999E-2,3.6400000000000002E-2]
["Appointment Scheduling",null,null,null,0.9,null,0.99970000000000003,0.99890000000000001,0.99199999999999999,0.98829999999999996,0.95450000000000002]
["Rescheduling a Missed Appointment",null,null,null,1,null,{"$f":"IFERROR(VLOOKUP('LDC Info'!$E$14,'2.1.4_ServiceQuality'!$A:$FY,16,FALSE),\"\")","v":1},{"$f":"IFERROR(VLOOKUP('LDC Info'!$E$14,'2.1.4_ServiceQuality'!$A:$FY,52,FALSE),\"\")","v":1},{"$f":"IFERROR(VLOOKUP('LDC Info'!$E$14,'2.1.4_ServiceQuality'!$A:$FY,88,FALSE),\"\")","v":1},{"$f":"IFERROR(VLOOKUP('LDC Info'!$E$14,'2.1.4_ServiceQuality'!$A:$FY,124,FALSE),\"\")","v":1},{"$f":"IFERROR(VLOOKUP('LDC Info'!$E$14,'2.1.4_ServiceQuality'!$A:$FY,160,FALSE),\"\")","v":1}]
["Reconnection Performance Standard",null,null,null,0.85,null,0.99390000000000001,1,{"$f":"IFERROR(VLOOKUP('LDC Info'!$E$14,'2.1.4_ServiceQuality'!$A:$FY,106,FALSE),\"\")","v":1},{"$f":"IFERROR(VLOOKUP('LDC Info'!$E$14,'2.1.4_ServiceQuality'!$A:$FY,142,FALSE),\"\")","v":1},{"$f":"IFERROR(VLOOKUP('LDC Info'!$E$14,'2.1.4_ServiceQuality'!$A:$FY,178,FALSE),\"\")","v":1}]

{"sheet":"2.1.4_ServiceQuality","index":24,"n_rows":81,"n_cols":181,"rows_kept":81,"cut":false,"hidden":true,"merged":[[4,1,4,36],[4,37,4,72],[4,73,4,108],[4,109,4,144],[4,145,4,180],[3,1,3,36],[3,37,3,72],[3,73,3,108],[3,109,3,144],[3,145,3,180]]}
["Low Voltage Services"]
["Time run: 5/31/2021 2:22:17 PM"]
[""]
[null,2017,null,null,null,null,null,null,null,null,null,null,null,null,null,null,null,null,null,null,null,null,null,null,null,null,null,null,null,null,null,null,null,null,null,null,null,2018,null,null,null,null,null,null,null,null,null,null,null,null,null,null,null,null,null,null,null,null,null,null,null,null,null,null,null,null,null,null,null,null,null,null,null,2019,null,null,null,null,null,null,null,null,null,null,null,null,null,null,null,null,null,null,null,null,null,null,null,null,null,null,null,null,null,null,null,null,null,null,null,2020,null,null,null,null,null,null,null,null,null,null,null,null,null,null,null,null,null,null,null,null,null,null,null,null,null,null,null,null,null,null,null,null,null,null,null,2021]
[null,"January 1, 2016 - December 31, 2016",null,null,null,null,null,null,null,null,null,null,null,null,null,null,null,null,null,null,null,null,null,null,null,null,null,null,null,null,null,null,null,null,null,null,null,"January 1, 2017 - December 31, 2017",null,null,null,null,null,null,null,null,null,null,null,null,null,null,null,null,null,null,null,null,null,null,null,null,null,null,null,null,null,null,null,null,null,null,null,"January 1, 2018 - December 31, 2018",null,null,null,null,null,null,null,null,null,null,null,null,null,null,null,null,null,null,null,null,null,null,null,null,null,null,null,null,null,null,null,null,null,null,null,"January 1, 2019 - December 31, 2019",null,null,null,null,null,null,null,null,null,null,null,null,null,null,null,null,null,null,null,null,null,null,null,null,null,null,null,null,null,null,null,null,null,null,null,"January 1, 2020 - December 31, 2020"]
["Company Name","LV services connected within 5 days","New LV services requested","Low Voltage Connections (OEB Min. Standard: 90%)","HV services connected within 10 days","New HV services requested","High Voltage Connections (OEB Min. Standard: 90%)","Number of appointments scheduled","Number of appointments requested","Appointments Scheduling (OEB Min. Standard: 90%)","Number of appointments completed","Number of appointments scheduled with customer / rep","Appointments met (OEB Min Standard: 90%)","Number of appointments rescheduled as required","Number of missed appointments","Rescheduled a Missed Appointment (OEB Standard: 100%)","Qualified incoming calls answered within 30 sec","Qualified incoming calls","Telephone Accessibility (OEB Min. Standard: 65%)","Qualified incoming calls in each month that were abandoned after 30 sec","Number of qualified incoming calls","Telephone Call Abandon Rate (OEB Standard: not exceed 10%)","Written responses provided within 10 days","Number of qualified enquiries received","Written Responses to Enquiries (OEB Min. Standard: 80%)","Number of emergency urban calls responded within 60 min","Number of emergency urban calls received","Emergency Urban Response (OEB Min. Standard: 80%)","Number of emergency rural calls responded within 120 min","Number of emergency rural calls received","Emergency Rural Response (OEB Min. Standard: 80%)","Number of reconnections completed in 2 days","Number of reconnections for customers disconnected for non payment","Reconnection Performance Standards (OEB Min. Standard: 85%)","Micro-embedded generation facilities connected within 5 days","Number of new micro-embedded generation facilities connected","New Micro-embedded Generation Facilities Connected (OEB Min. Standard: 90%)","LV services connected within 5 days","New LV services requested","Low Voltage Connections (OEB Min. Standard: 90%)","HV services connected within 10 days","New HV services requested","High Voltage Connections (OEB Min. Standard: 90%)","Number of appointments scheduled","Number of appointments requested","Appointments Scheduling (OEB Min. Standard: 90%)","Number of appointments completed","Number of appointments scheduled with customer / rep","Appointments met (OEB Min Standard: 90%)","Number of appointments rescheduled as required","Number of missed appointments","Rescheduled a Missed Appointment (OEB Standard: 100%)","Qualified incoming calls answered within 30 sec","Qualified incoming calls","Telephone Accessibility (OEB Min. Standard: 65%)","Qualified incoming calls in each month that were abandoned after 30 sec","Number of qualified incoming calls","Telephone Call Abandon Rate (OEB Standard: not exceed 10%)","Written responses provided within 10 days","Number of qualified enquiries received","Written Responses to Enquiries (OEB Min. Standard: 80%)","Number of emergency urban calls responded within 60 min","Number of emergency urban calls received","Emergency Urban Response (OEB Min. Standard: 80%)","Number of emergency rural calls responded within 120 min","Number of emergency rural calls received","Emergency Rural Response (OEB Min. Standard: 80%)","Number of reconnections completed in 2 days","Number of reconnections for customers disconnected for non payment","Reconnection Performance Standards (OEB Min. Standard: 85%)","Micro-embedded generation facilities connected within 5 days","Number of new micro-embedded generation facilities connected","New Micro-embedded Generation Facilities Connected (OEB Min. Standard: 90%)","LV services connected within 5 days","New LV services requested","Low Voltage Connections (OEB Min. Standard: 90%)","HV services connected within 10 days","New HV services requested","High Voltage Connections (OEB Min. Standard: 90%)","Number of appointments scheduled","Number of appointments requested","Appointments Scheduling (OEB Min. Standard: 90%)","Number of appointments completed","Number of appointments scheduled with customer / rep","Appointments met (OEB Min Standard: 90%)","Number of appointments rescheduled as required","Number of missed appointments","Rescheduled a Missed Appointment (OEB Standard: 100%)","Qualified incoming calls answered within 30 sec","Qualified incoming calls","Telephone Accessibility (OEB Min. Standard: 65%)","Qualified incoming calls in each month that were abandoned after 30 sec","Number of qualified incoming calls","Telephone Call Abandon Rate (OEB Standard: not exceed 10%)","Written responses provided within 10 days","Number of qualified enquiries received","Written Responses to Enquiries (OEB Min. Standard: 80%)","Number of emergency urban calls responded within 60 min","Number of emergency urban calls received","Emergency Urban Response (OEB Min. Standard: 80%)","Number of emergency rural calls responded within 120 min","Number of emergency rural calls received","Emergency Rural Response (OEB Min. Standard: 80%)","Number of reconnections completed in 2 days","Number of reconnections for customers disconnected for non payment","Reconnection Performance Standards (OEB Min. Standard: 85%)","Micro-embedded generation facilities connected within 5 days","Number of new micro-embedded generation facilities connected","New Micro-embedded Generation Facilities Connected (OEB Min. Standard: 90%)","LV services connected within 5 days","New LV services requested","Low Voltage Connections (OEB Min. Standard: 90%)","HV services connected within 10 days","New HV services requested","High Voltage Connections (OEB Min. Standard: 90%)","Number of appointments scheduled","Number of appointments requested","Appointments Scheduling (OEB Min. Standard: 90%)","Number of appointments completed","Number of appointments scheduled with customer / rep","Appointments met (OEB Min Standard: 90%)","Number of appointments rescheduled as required","Number of missed appointments","Rescheduled a Missed Appointment (OEB Standard: 100%)","Qualified incoming calls answered within 30 sec","Qualified incoming calls","Telephone Accessibility (OEB Min. Standard: 65%)","Qualified incoming calls in each month that were abandoned after 30 sec","Number of qualified incoming calls","Telephone Call Abandon Rate (OEB Standard: not exceed 10%)","Written responses provided within 10 days","Number of qualified enquiries received","Written Responses to Enquiries (OEB Min. Standard: 80%)","Number of emergency urban calls responded within 60 min","Number of emergency urban calls received","Emergency Urban Response (OEB Min. Standard: 80%)","Number of emergency rural calls responded within 120 min","Number of emergency rural calls received","Emergency Rural Response (OEB Min. Standard: 80%)","Number of reconnections completed in 2 days","Number of reconnections for customers disconnected for non payment","Reconnection Performance Standards (OEB Min. Standard: 85%)","Micro-embedded generation facilities connected within 5 days","Number of new micro-embedded generation facilities connected","New Micro-embedded Generation Facilities Connected (OEB Min. Standard: 90%)","LV services connected within 5 days","New LV services requested","Low Voltage Connections (OEB Min. Standard: 90%)","HV services connected within 10 days","New HV services requested","High Voltage Connections (OEB Min. Standard: 90%)","Number of appointments scheduled","Number of appointments requested","Appointments Scheduling (OEB Min. Standard: 90%)","Number of appointments completed","Number of appointments scheduled with customer / rep","Appointments met (OEB Min Standard: 90%)","Number of appointments rescheduled as required","Number of missed appointments","Rescheduled a Missed Appointment (OEB Standard: 100%)","Qualified incoming calls answered within 30 sec","Qualified incoming calls","Telephone Accessibility (OEB Min. Standard: 65%)","Qualified incoming calls in each month that were abandoned after 30 sec","Number of qualified incoming calls","Telephone Call Abandon Rate (OEB Standard: not exceed 10%)","Written responses provided within 10 days","Number of qualified enquiries received","Written Responses to Enquiries (OEB Min. Standard: 80%)","Number of emergency urban calls responded within 60 min","Number of emergency urban calls received","Emergency Urban Response (OEB Min. Standard: 80%)","Number of emergency rural calls responded within 120 min","Number of emergency rural calls received","Emergency Rural Response (OEB Min. Standard: 80%)","Number of reconnections completed in 2 days","Number of reconnections for customers disconnected for non payment","Reconnection Performance Standards (OEB Min. Standard: 85%)","Micro-embedded generation facilities connected within 5 days","Number of new micro-embedded generation facilities connected","New Micro-embedded Generation Facilities Connected (OEB Min. Standard: 90%)"]
["1937680 Ontario Inc.",324,334,0.97,4,4,1,5913,6315,0.93634206056594804,1404,1410,0.996,402,402,1,57774,68322,0.84599999999999997,900,68322,1.2999999999999999E-2,960,960,1,13,13,1,0,0,"N/A",1007,1007,1,20,17,0.85,393,403,0.97519999999999996,2,2,1,5046,5601,0.90091055631637595,975,976,0.999,555,555,1,51109,56521,0.9042,424,56521,7.4999999999999997E-3,1126,1126,1,11,11,1,0,0,"N/A",627,627,1,21,20,0.95240000000000002,245,247,0.9919,3,3,1,5272,6017,0.87618416547775302,1120,1121,0.99909999999999999,609,745,0.81740000000000002,45830,52394,0.87470000000000003,623,52394,1.1900000000000001E-2,970,970,1,36,36,1,0,0,"N/A",564,564,1,37,37,1,228,234,0.97440000000000004,4,4,1,6218,6957,0.89377605915069602,765,765,1,739,739,1,48838,64604,0.75600000000000001,1875,64604,2.9000000000000001E-2,1191,1191,1,29,31,0.9355,0,0,"N/A",569,569,1,0,0,"N/A",232,236,0.98309999999999997,13,13,1,5682,6114,0.92934250831604004,558,559,0.99819999999999998,432,432,1,46164,54947,0.84019999999999995,925,54947,1.6799999999999999E-2,2731,2731,1,26,26,1,0,0,"N/A",0,0,"N/A",1,1,1]
["Alectra Utilities Corporation",null,null,"N/A",null,null,"N/A",null,null,"N/A",null,null,"N/A",null,null,"N/A",null,null,"N/A",null,null,"N/A",null,null,"N/A",null,null,"N/A",null,null,"N/A",null,null,"N/A",null,null,"N/A",15779,16263,0.97019999999999995,11,11,1,174399,182193,0.95722121000289895,22869,23036,0.99280000000000002,81,81,1,610848,771885,0.79139999999999999,11663,771885,1.5100000000000001E-2,72704,73496,0.98919999999999997,810,859,0.94299999999999995,0,0,"N/A",4764,4793,0.99390000000000001,901,886,0.98340000000000005,11779,12438,0.94699999999999995,9,9,1,158185,175278,0.90248060226440396,19729,19805,0.99619999999999997,14393,14416,0.99839999999999995,567239,727400,0.77980000000000005,11310,727400,1.55E-2,115387,118999,0.96960000000000002,942,989,0.95250000000000001,0,0,"N/A",5183,5243,0.98860000000000003,737,713,0.96740000000000004,7448,8044,0.92589999999999995,4,4,1,164856,186943,0.88185167312622104,10391,10523,0.98750000000000004,20716,20749,0.99839999999999995,583422,769870,0.75780000000000003,16047,769870,2.0799999999999999E-2,104527,120888,0.86470000000000002,864,894,0.96640000000000004,0,0,"N/A",4915,4934,0.99609999999999999,23,18,0.78259999999999996,6329,7006,0.90339999999999998,1,1,1,172361,176198,0.97822338342666604,10534,10701,0.98440000000000005,3401,3401,1,409953,612466,0.66930000000000001,26252,612466,4.2900000000000001E-2,135616,146999,0.92259999999999998,815,896,0.90959999999999996,0,0,"N/A",628,631,0.99519999999999997,62,61,0.9839]
["Algoma Power Inc.",161,162,0.99399999999999999,0,0,"N/A",1289,1313,0.98172122240066495,364,364,1,0,0,"N/A",13092,15125,0.86599999999999999,570,15125,3.7999999999999999E-2,276,276,1,0,0,"N/A",13,13,1,139,139,1,2,2,1,131,132,0.99239999999999995,0,0,"N/A",1410,1452,0.97107440233230602,342,342,1,0,0,"N/A",14613,18253,0.80059999999999998,1349,18253,7.3899999999999993E-2,324,389,0.83289999999999997,0,0,"N/A",17,17,1,59,59,1,1,1,1,144,146,0.98629999999999995,0,0,"N/A",1109,1120,0.99017858505249001,220,220,1,0,0,"N/A",12263,14250,0.86060000000000003,1188,14250,8.3400000000000002E-2,539,664,0.81169999999999998,0,0,"N/A",22,23,0.95650000000000002,52,52,1,1,1,1,134,138,0.97099999999999997,0,0,"N/A",1233,1236,0.99757283926010099,112,112,1,0,0,"N/A",12376,15164,0.81610000000000005,1020,15164,6.7299999999999999E-2,308,308,1,0,0,"N/A",14,15,0.93330000000000002,73,73,1,0,0,"N/A",205,205,1,0,0,"N/A",1464,1466,0.99863576889038097,170,170,1,0,0,"N/A",9355,11026,0.84840000000000004,224,11026,2.0299999999999999E-2,1121,1121,1,0,0,"N/A",17,18,0.94440000000000002,27,27,1,0,0,"N/A"]
["Atikokan Hydro Inc.",1,1,1,0,0,"N/A",220,220,1,0,0,"N/A",0,0,"N/A",1715,1715,1,0,1715,0,21,21,1,3,3,1,0,0,"N/A",4,4,1,0,0,"N/A",4,4,1,0,0,"N/A",263,263,1,0,null,"N/A",0,0,"N/A",1500,1500,1,0,1500,0,15,15,1,0,0,"N/A",0,0,"N/A",1,1,1,0,0,"N/A",3,3,1,0,0,"N/A",161,161,1,0,0,"N/A",0,0,"N/A",996,996,1,0,0,"N/A",22,22,1,0,0,"N/A",0,0,"N/A",0,0,"N/A",0,0,"N/A",2,2,1,0,0,"N/A",186,186,1,0,0,"N/A",0,0,"N/A",1275,1275,1,0,1275,0,19,19,1,0,0,"N/A",1,1,1,1,1,1,0,0,"N/A",4,4,1,0,0,"N/A",162,162,1,0,0,"N/A",0,0,"N/A",1854,1854,1,0,1854,0,39,39,1,0,0,"N/A",1,1,1,0,0,"N/A",0,0,"N/A"]
["Bluewater Power Distribution Corporation",474,482,0.98299999999999998,0,0,"N/A",7206,7235,0.99599170684814498,475,477,0.996,2,2,1,33399,48319,0.69099999999999995,2332,48319,4.8000000000000001E-2,6225,6225,1,25,25,1,1,1,1,159,159,1,28,27,0.96430000000000005,406,409,0.99270000000000003,0,0,"N/A",8801,8804,0.99965924024581898,567,568,0.99819999999999998,4,4,1,33491,42933,0.78010000000000002,1554,42933,3.6200000000000003E-2,7070,7071,0.99990000000000001,26,26,1,3,3,1,162,163,0.99390000000000001,22,22,1,218,225,0.96889999999999998,0,0,"N/A",8467,8476,0.99893820285797097,719,721,0.99719999999999998,9,9,1,29035,35274,0.82310000000000005,1049,35274,2.9700000000000001E-2,6842,6854,0.99819999999999998,14,14,1,0,0,"N/A",136,136,1,5,5,1,443,444,0.99770000000000003,0,0,"N/A",8035,8100,0.99197530746460005,278,278,1,65,65,1,28607,32730,0.874,934,32730,2.8500000000000001E-2,8163,8197,0.99590000000000001,11,11,1,0,0,"N/A",155,155,1,0,0,"N/A",158,158,1,0,0,"N/A",8867,8972,0.98829692602157604,402,402,1,105,105,1,24356,29462,0.82669999999999999,782,29462,2.6499999999999999E-2,11103,11121,0.99839999999999995,6,6,1,2,2,1,120,120,1,0,0,"N/A"]
["Brantford Power Inc.",286,287,0.997,1,1,1,14962,14965,0.99979954957962003,1086,1088,0.998,2,2,1,25316,37736,0.67100000000000004,1929,37736,5.0999999999999997E-2,3976,4005,0.99299999999999999,35,35,1,0,0,"N/A",292,292,1,11,11,1,243,244,0.99590000000000001,0,0,"N/A",14392,14394,0.99986106157302901,765,765,1,0,0,"N/A",27676,37819,0.73180000000000001,1444,37819,3.8199999999999998E-2,5131,5142,0.99790000000000001,29,29,1,0,0,"N/A",232,232,1,25,25,1,206,207,0.99519999999999997,0,0,"N/A",14169,14169,1,672,672,1,0,0,"N/A",30227,35459,0.85240000000000005,650,35459,1.83E-2,4703,4723,0.99580000000000002,51,52,0.98080000000000001,0,0,"N/A",107,107,1,5,5,1,406,406,1,0,0,"N/A",6945,6951,0.99913680553436302,568,569,0.99819999999999998,1,1,1,27053,37814,0.71540000000000004,1545,37814,4.0899999999999999E-2,4432,4432,1,51,51,1,0,0,"N/A",27,27,1,0,0,"N/A",515,515,1,0,0,"N/A",4608,4608,1,803,804,0.99880000000000002,1,1,1,27903,34404,0.81100000000000005,716,34404,2.0799999999999999E-2,5567,5577,0.99819999999999998,23,23,1,0,0,"N/A",85,85,1,0,0,"N/A"]
["Burlington Hydro Inc.",235,243,0.96709999999999996,0,0,"N/A",672,672,1,81,81,1,0,0,"N/A",38312,51304,0.74680000000000002,3274,51304,6.3799999999999996E-2,9434,9434,1,802,836,0.95930000000000004,802,836,0.95930000000000004,219,219,1,12,12,1,257,263,0.97719999999999996,0,0,"N/A",734,734,1,142,142,1,0,0,"N/A",37620,46951,0.80130000000000001,2346,46951,0.05,9740,9740,1,1118,1165,0.9597,1118,1165,0.9597,316,316,1,47,46,0.97870000000000001,872,887,0.98309999999999997,0,0,"N/A",13648,15073,0.90546011924743697,1608,1611,0.99809999999999999,1142,1145,0.99739999999999995,35423,42533,0.83279999999999998,2498,42533,5.8700000000000002E-2,11507,11622,0.99009999999999998,72,78,0.92310000000000003,0,0,"N/A",446,446,1,38,37,0.97370000000000001,400,400,1,3,3,1,6356,13856,0.45871824026107799,1121,1121,1,7458,7458,1,35279,43324,0.81430000000000002,2300,43324,5.3100000000000001E-2,10519,10643,0.98829999999999996,42,45,0.93330000000000002,0,0,"N/A",198,198,1,4,4,1,605,605,1,0,0,"N/A",13454,13548,0.99306172132492099,904,904,1,88,88,1,33079,53223,0.62150000000000005,4341,53223,8.1600000000000006E-2,16385,16420,0.99790000000000001,58,60,0.9667,0,0,"N/A",95,95,1,4,4,1]
["Canadian Niagara Power Inc.",247,271,0.91100000000000003,0,0,"N/A",7411,7413,0.99973022937774703,37,37,1,0,0,"N/A",33678,44492,0.75700000000000001,2369,44492,5.2999999999999999E-2,541,541,1,25,25,1,2,2,1,277,277,1,18,18,1,326,359,0.90810000000000002,0,0,"N/A",6518,7188,0.90678906440734897,57,57,1,0,0,"N/A",36135,46729,0.77329999999999999,3087,46729,6.6100000000000006E-2,539,558,0.96589999999999998,20,20,1,3,3,1,186,186,1,10,10,1,292,323,0.90400000000000003,0,0,"N/A",7032,7986,0.88054096698760997,63,63,1,0,0,"N/A",29020,35837,0.80979999999999996,1804,35837,5.0299999999999997E-2,721,864,0.83450000000000002,33,33,1,13,13,1,190,190,1,35,35,1,277,297,0.93269999999999997,0,0,"N/A",6908,8246,0.83773952722549405,56,56,1,0,0,"N/A",27026,33897,0.79730000000000001,2251,33897,6.6400000000000001E-2,1054,1271,0.82930000000000004,23,23,1,10,11,0.90910000000000002,236,236,1,0,0,"N/A",317,334,0.94910000000000005,0,0,"N/A",8640,8668,0.99676972627639804,38,38,1,0,0,"N/A",21464,26900,0.79790000000000005,433,26900,1.61E-2,846,1037,0.81579999999999997,41,42,0.97619999999999996,7,7,1,120,120,1,0,0,"N/A"]
["Centre Wellington Hydro Ltd.",150,151,0.99299999999999999,0,0,"N/A",3332,3356,0.99284863471984897,280,283,0.98899999999999999,3,3,1,6891,6938,0.99299999999999999,0,2495,0,637,637,1,6,6,1,0,0,"N/A",39,40,0.97499999999999998,4,4,1,219,219,1,0,0,"N/A",3201,3256,0.98310810327529896,149,149,1,4,4,1,5471,5537,0.98809999999999998,1,5537,2.0000000000000001E-4,394,394,1,2,2,1,0,0,"N/A",26,26,1,1,1,1,213,214,0.99529999999999996,0,0,"N/A",1849,2286,0.80883640050888095,202,203,0.99509999999999998,1,1,1,5503,5622,0.9788,0,5622,0,486,486,1,1,1,1,0,0,"N/A",18,18,1,1,1,1,209,209,1,1,1,1,1500,1844,0.81344902515411399,329,329,1,8,8,1,5665,5771,0.98160000000000003,5,5771,8.9999999999999998E-4,343,343,1,1,1,1,0,0,"N/A",29,29,1,0,0,"N/A",218,218,1,0,0,"N/A",1888,1892,0.99788582324981701,319,320,0.99690000000000001,0,0,"N/A",3455,4943,0.69899999999999995,4,4943,8.0000000000000004E-4,442,442,1,2,2,1,0,0,"N/A",11,11,1,0,0,"N/A"]
["Chapleau Public Utilities Corporation",11,11,1,0,0,"N/A",48,48,1,11,11,1,0,0,"N/A",765,765,1,0,0,"N/A",8,8,1,0,0,"N/A",0,0,"N/A",3,3,1,0,0,"N/A",10,10,1,0,0,"N/A",47,47,1,10,10,1,0,0,"N/A",620,622,0.99680000000000002,0,622,0,36,36,1,0,0,"N/A",0,0,"N/A",11,11,1,0,0,"N/A",8,8,1,0,0,"N/A",51,51,1,8,8,1,0,0,"N/A",333,345,0.96519999999999995,0,345,0,39,39,1,0,0,"N/A",0,0,"N/A",4,4,1,0,0,"N/A",11,11,1,0,0,"N/A",17,17,1,11,11,1,0,0,"N/A",326,333,0.97899999999999998,0,333,0,35,35,1,1,1,1,0,0,"N/A",9,9,1,0,0,"N/A",6,6,1,0,0,"N/A",78,78,1,6,6,1,0,0,"N/A",482,494,0.97570000000000001,0,494,0,41,41,1,1,1,1,0,0,"N/A",0,0,"N/A",0,0,"N/A"]
["Cooperative Hydro Embrun Inc.",92,92,1,0,0,"N/A",11,11,1,11,11,1,0,0,"N/A",1361,1429,0.95199999999999996,68,1429,4.8000000000000001E-2,249,249,1,2,2,1,2,2,1,2,2,1,1,1,1,112,112,1,0,0,"N/A",4,4,1,4,4,1,0,0,"N/A",1448,1550,0.93420000000000003,102,1550,6.5799999999999997E-2,368,368,1,5,5,1,0,0,"N/A",3,3,1,1,1,1,112,112,1,0,0,"N/A",4,4,1,4,4,1,0,0,"N/A",1479,1569,0.94259999999999999,90,1569,5.74E-2,364,364,1,7,7,1,0,0,"N/A",5,5,1,0,0,"N/A",27,27,1,0,0,"N/A",4,4,1,4,4,1,0,0,"N/A",1491,1547,0.96379999999999999,56,1547,3.6200000000000003E-2,419,419,1,7,7,1,0,0,"N/A",3,3,1,0,0,"N/A",49,49,1,0,0,"N/A",7,7,1,8,8,1,0,0,"N/A",1346,1410,0.9546,64,1410,4.5400000000000003E-2,463,463,1,5,6,0.83330000000000004,0,0,"N/A",0,0,"N/A",0,0,"N/A"]
["Cornwall Street Railway Light and Power Company Limited",186,188,0.98899999999999999,0,0,"N/A",5451,5506,0.99001091718673695,246,246,1,0,0,"N/A",30745,34641,0.88800000000000001,1139,34641,3.3000000000000002E-2,223,223,1,42,44,0.95499999999999996,7,7,1,463,463,1,0,0,"N/A",154,161,0.95650000000000002,0,0,"N/A",5681,5740,0.989721238613129,168,168,1,0,0,"N/A",31234,34819,0.89700000000000002,488,34819,1.4E-2,559,566,0.98760000000000003,35,35,1,6,6,1,330,330,1,0,0,"N/A",207,219,0.94520000000000004,0,0,"N/A",5378,5431,0.99024122953414895,215,215,1,0,0,"N/A",30256,33591,0.90069999999999995,465,33591,1.38E-2,731,758,0.96440000000000003,23,23,1,6,6,1,484,484,1,0,0,"N/A",205,213,0.96240000000000003,0,0,"N/A",5370,5409,0.99278980493545499,195,195,1,0,0,"N/A",32080,36801,0.87170000000000003,734,36801,1.9900000000000001E-2,834,863,0.96640000000000004,27,27,1,3,3,1,358,358,1,0,0,"N/A",218,229,0.95199999999999996,0,0,"N/A",5405,5431,0.99521267414092995,213,213,1,0,0,"N/A",22196,26592,0.8347,316,26592,1.1900000000000001E-2,566,608,0.93089999999999995,21,21,1,4,4,1,272,272,1,0,0,"N/A"]
["E.L.K. Energy Inc.",93,99,0.93899999999999995,0,0,"N/A",103,107,0.96261680126190197,93,94,0.98899999999999999,1,1,1,12274,12629,0.97199999999999998,15,12629,1E-3,1040,1062,0.97899999999999998,26,26,1,0,0,"N/A",156,156,1,4,4,1,136,144,0.94440000000000002,1,1,1,75,76,0.98684209585189797,72,73,0.98629999999999995,1,1,1,10216,10576,0.96599999999999997,9,10576,8.9999999999999998E-4,1079,1091,0.98899999999999999,8,9,0.88890000000000002,1,1,1,103,103,1,9,9,1,207,209,0.99039999999999995,1,1,1,77,78,0.98717945814132702,78,78,1,1,1,1,6678,6938,0.96250000000000002,11,6938,1.6000000000000001E-3,900,907,0.99229999999999996,14,14,1,1,1,1,93,99,0.93940000000000001,2,2,1,150,151,0.99339999999999995,0,0,"N/A",94,95,0.98947370052337602,95,95,1,0,0,"N/A",8934,9145,0.97689999999999999,31,9145,3.3999999999999998E-3,1224,1249,0.98,17,17,1,1,1,1,93,93,1,0,0,"N/A",200,201,0.995,0,0,"N/A",107,108,0.99074071645736705,107,108,0.99070000000000003,0,0,"N/A",9483,9974,0.95079999999999998,29,9974,2.8999999999999998E-3,1328,1346,0.98660000000000003,13,13,1,0,0,"N/A",12,12,1,0,0,"N/A"]
["ENWIN Utilities Ltd.",821,821,1,0,0,"N/A",23398,23398,1,3919,3919,1,0,0,"N/A",90394,127896,0.70699999999999996,4890,127896,3.7999999999999999E-2,12957,12958,1,301,301,1,0,0,"N/A",1961,1961,1,133,133,1,698,698,1,0,0,"N/A",26047,26435,0.98532247543335005,3339,3347,0.99760000000000004,388,388,1,88276,112872,0.78210000000000002,4379,112872,3.8800000000000001E-2,9795,9796,0.99990000000000001,287,287,1,0,0,"N/A",710,710,1,93,93,1,701,701,1,0,0,"N/A",25173,26542,0.94842135906219505,3112,3121,0.99709999999999999,1369,1370,0.99929999999999997,79570,103429,0.76929999999999998,2960,103429,2.86E-2,9450,9452,0.99980000000000002,279,279,1,0,0,"N/A",531,531,1,105,105,1,674,674,1,0,0,"N/A",14864,15827,0.93915462493896495,3101,3103,0.99939999999999996,963,963,1,79277,102703,0.77190000000000003,2322,102703,2.2599999999999999E-2,10408,10408,1,288,293,0.9829,0,0,"N/A",623,623,1,4,4,1,680,680,1,0,0,"N/A",15388,15745,0.97732615470886197,2872,2872,1,357,357,1,64616,99808,0.64739999999999998,4705,99808,4.7100000000000003E-2,13842,13845,0.99980000000000002,274,287,0.95469999999999999,0,0,"N/A",381,381,1,7,7,1]
["EPCOR Electricity Distribution Ontario Inc.",136,136,1,2,2,1,4002,4002,1,183,183,1,0,0,"N/A",16461,23897,0.68899999999999995,65,23897,3.0000000000000001E-3,3125,3280,0.95299999999999996,0,0,"N/A",0,0,"N/A",358,365,0.98099999999999998,8,8,1,274,274,1,0,0,"N/A",3529,3529,1,197,197,1,0,0,"N/A",13002,15872,0.81920000000000004,216,15872,1.3599999999999999E-2,3150,3309,0.95189999999999997,0,0,"N/A",0,0,"N/A",329,338,0.97340000000000004,6,6,1,306,319,0.95920000000000005,0,0,"N/A",4010,4079,0.98308408260345503,186,186,1,0,0,"N/A",12376,15290,0.80940000000000001,288,15290,1.8800000000000001E-2,3019,3180,0.94940000000000002,0,0,"N/A",0,0,"N/A",225,226,0.99560000000000004,11,11,1,452,484,0.93389999999999995,0,0,"N/A",4267,4440,0.96103602647781405,165,166,0.99399999999999999,1,1,1,10460,13675,0.76490000000000002,226,13675,1.6500000000000001E-2,3713,3886,0.95550000000000002,0,0,"N/A",0,0,"N/A",239,244,0.97950000000000004,0,0,"N/A",354,386,0.91710000000000003,2,2,1,3472,3514,0.98804783821106001,202,203,0.99509999999999998,1,1,1,13563,17921,0.75680000000000003,327,17921,1.8200000000000001E-2,4261,4448,0.95799999999999996,0,0,"N/A",0,0,"N/A",47,48,0.97919999999999996,2,2,1]
["ERTH Power Corporation",229,230,0.996,0,0,"N/A",4379,4413,0.99229550361633301,268,268,1,0,0,"N/A",29630,30125,0.98399999999999999,495,30125,1.6E-2,2475,2475,1,11,11,1,0,0,"N/A",249,249,1,5,5,1,342,346,0.98839999999999995,0,0,"N/A",4670,4836,0.96567410230636597,216,217,0.99539999999999995,1,1,1,25298,26288,0.96230000000000004,438,26288,1.67E-2,2991,2991,1,12,12,1,0,0,"N/A",117,117,1,5,5,1,290,300,0.9667,1,1,1,3207,4434,0.72327470779418901,214,214,1,0,0,"N/A",22258,23679,0.94,917,23679,3.8699999999999998E-2,2840,2840,1,27,27,1,0,0,"N/A",115,115,1,4,4,1,285,292,0.97599999999999998,2,2,1,4017,5446,0.73760557174682595,254,254,1,0,0,"N/A",25316,26230,0.96519999999999995,914,26230,3.4799999999999998E-2,3163,3163,1,8,9,0.88890000000000002,0,0,"N/A",116,116,1,0,0,"N/A",280,284,0.9859,0,0,"N/A",5127,5431,0.94402503967285201,261,261,1,0,0,"N/A",18933,19738,0.95920000000000005,912,19738,4.6199999999999998E-2,5164,5164,1,11,13,0.84619999999999995,0,0,"N/A",71,71,1,0,0,"N/A"]
["Elexicon Energy Inc.",null,null,"N/A",null,null,"N/A",null,null,"N/A",null,null,"N/A",null,null,"N/A",null,null,"N/A",null,null,"N/A",null,null,"N/A",null,null,"N/A",null,null,"N/A",null,null,"N/A",null,null,"N/A",null,null,"N/A",null,null,"N/A",null,null,"N/A",null,null,"N/A",null,null,"N/A",null,null,"N/A",null,null,"N/A",null,null,"N/A",null,null,"N/A",null,null,"N/A",null,null,"N/A",null,null,"N/A",null,null,"N/A",null,null,"N/A",null,null,"N/A",null,null,"N/A",null,null,"N/A",null,null,"N/A",null,null,"N/A",null,null,"N/A",null,null,"N/A",null,null,"N/A",null,null,"N/A",null,null,"N/A",3187,3306,0.96399999999999997,3,3,1,35664,37911,0.94072961807250999,2299,2305,0.99739999999999995,2085,2152,0.96889999999999998,92993,122338,0.7601,2189,122338,1.7899999999999999E-2,18921,18964,0.99770000000000003,108,109,0.99080000000000001,16,16,1,1780,1780,1,5,5,1,2140,2283,0.93740000000000001,1,1,1,25196,27667,0.91068780422210704,2214,2241,0.98799999999999999,2468,2471,0.99880000000000002,71241,115108,0.61890000000000001,5582,115108,4.8500000000000001E-2,20664,21230,0.97330000000000005,101,101,1,7,7,1,39,39,1,4,4,1]
["Energy Plus Inc.",609,609,1,0,0,"N/A",13311,13725,0.96983605623245195,1038,1038,1,0,0,"N/A",54901,76740,0.71499999999999997,3864,76740,0.05,7094,7112,0.997,69,69,1,24,24,1,434,434,1,30,30,1,471,471,1,0,0,"N/A",14056,14420,0.97475725412368797,1261,1275,0.98899999999999999,15,15,1,50910,63539,0.80120000000000002,2131,63539,3.3500000000000002E-2,13891,13910,0.99860000000000004,63,63,1,18,18,1,617,617,1,47,47,1,771,778,0.99099999999999999,0,0,"N/A",12879,13203,0.97546011209487904,1678,1679,0.99939999999999996,2,2,1,47310,53226,0.88890000000000002,1053,53226,1.9800000000000002E-2,14899,14900,0.99990000000000001,74,74,1,21,21,1,614,614,1,160,160,1,1071,1102,0.97189999999999999,0,0,"N/A",12859,13318,0.96553534269332897,1590,1591,0.99939999999999996,1,1,1,41481,48862,0.84889999999999999,1331,48862,2.7199999999999998E-2,13412,13434,0.99839999999999995,62,62,1,19,19,1,622,622,1,3,3,1,686,715,0.95940000000000003,0,0,"N/A",9039,15294,0.59101611375808705,1739,1740,0.99939999999999996,1,1,1,39988,45904,0.87109999999999999,1470,45904,3.2000000000000001E-2,14711,14736,0.99829999999999997,69,69,1,24,24,1,89,89,1,0,0,"N/A"]
["Enersource Hydro Mississauga Inc.",1685,1695,0.99399999999999999,0,0,"N/A",39883,40771,0.97821980714797996,1869,1871,0.999,2,2,1,127711,153116,0.83399999999999996,2719,153116,1.7999999999999999E-2,19228,19337,0.99399999999999999,154,156,0.98699999999999999,0,0,"N/A",1747,1758,0.99399999999999999,121,120,0.99170000000000003,null,null,"N/A",null,null,"N/A",null,null,"N/A",null,null,"N/A",null,null,"N/A",null,null,"N/A",null,null,"N/A",null,null,"N/A",null,null,"N/A",null,null,"N/A",null,null,"N/A",null,null,"N/A",null,null,"N/A",null,null,"N/A",null,null,"N/A",null,null,"N/A",null,null,"N/A",null,null,"N/A",null,null,"N/A",null,null,"N/A",null,null,"N/A",null,null,"N/A",null,null,"N/A",null,null,"N/A",null,null,"N/A",null,null,"N/A",null,null,"N/A",null,null,"N/A",null,null,"N/A",null,null,"N/A",null,null,"N/A",null,null,"N/A",null,null,"N/A",null,null,"N/A",null,null,"N/A",null,null,"N/A",null,null,"N/A",null,null,"N/A",null,null,"N/A",null,null,"N/A",null,null,"N/A",null,null,"N/A",null,null,"N/A",null,null,"N/A",null,null,"N/A",null,null,"N/A",null,null,"N/A",null,null,"N/A"]
["Entegrus Powerlines Inc.",336,340,0.98799999999999999,1,1,1,935,935,1,586,599,0.97799999999999998,13,13,1,40981,59667,0.68700000000000006,1202,59667,0.02,258,259,0.996,75,80,0.93799999999999994,0,0,"N/A",1958,1958,1,24,24,1,777,789,0.98480000000000001,0,0,"N/A",3109,3146,0.98823904991149902,2550,2566,0.99380000000000002,16,16,1,40149,53108,0.75600000000000001,500,53108,9.4000000000000004E-3,295,295,1,89,101,0.88119999999999998,0,0,"N/A",1424,1424,1,15,15,1,1097,1120,0.97950000000000004,1,1,1,5948,6426,0.925614714622498,2548,2555,0.99729999999999996,14,14,1,53023,74666,0.71009999999999995,1968,74666,2.64E-2,1143,1143,1,127,145,0.87590000000000001,0,0,"N/A",1217,1217,1,19,19,1,1348,1375,0.98040000000000005,0,0,"N/A",14230,16388,0.86831825971603405,2349,2360,0.99529999999999996,14,14,1,48854,74458,0.65610000000000002,2260,74458,3.04E-2,1190,1190,1,102,122,0.83609999999999995,0,0,"N/A",1050,1050,1,2,2,1,1413,1458,0.96909999999999996,1,1,1,14398,15406,0.93457096815109297,1730,1733,0.99829999999999997,22,22,1,46990,59401,0.79110000000000003,1584,59401,2.6700000000000002E-2,3262,3479,0.93759999999999999,99,105,0.94289999999999996,0,0,"N/A",424,424,1,2,2,1]
["Espanola Regional Hydro Distribution Corporation",14,14,1,0,0,"N/A",1003,1033,0.970958352088928,37,37,1,1,1,1,3226,4235,0.76200000000000001,171,4235,0.04,100,102,0.98,0,0,"N/A",0,0,"N/A",39,39,1,1,1,1,21,21,1,2,2,1,1000,1021,0.97943192720413197,54,55,0.98180000000000001,1,1,1,2872,3955,0.72619999999999996,185,3955,4.6800000000000001E-2,104,115,0.90429999999999999,3,3,1,0,0,"N/A",33,33,1,1,1,1,11,11,1,4,4,1,776,776,1,66,66,1,0,0,"N/A",2380,3368,0.70669999999999999,241,3368,7.1599999999999997E-2,130,134,0.97009999999999996,1,1,1,0,0,"N/A",38,38,1,0,0,"N/A",12,12,1,1,1,1,719,721,0.99722605943679798,68,69,0.98550000000000004,1,1,1,2280,3617,0.63039999999999996,302,3617,8.3500000000000005E-2,75,75,1,0,0,"N/A",0,0,"N/A",30,30,1,0,0,"N/A",null,null,"N/A",null,null,"N/A",null,null,"N/A",null,null,"N/A",null,null,"N/A",null,null,"N/A",null,null,"N/A",null,null,"N/A",null,null,"N/A",null,null,"N/A",null,null,"N/A",null,null,"N/A"]
["Essex Powerlines Corporation",313,346,0.90500000000000003,0,0,"N/A",8129,8229,0.98784786462783802,1142,1258,0.90800000000000003,116,116,1,24847,33765,0.73599999999999999,260,33765,8.0000000000000002E-3,1812,1882,0.96299999999999997,42,43,0.97699999999999998,0,0,"N/A",159,163,0.97499999999999998,19,18,0.94740000000000002,337,373,0.90349999999999997,0,0,"N/A",8169,8746,0.93402695655822798,839,901,0.93120000000000003,613,613,1,21443,26984,0.79469999999999996,193,26984,7.1999999999999998E-3,2014,2039,0.98770000000000002,24,30,0.8,0,0,"N/A",173,178,0.97189999999999999,20,20,1,186,204,0.91180000000000005,0,0,"N/A",6004,7922,0.75788944959640503,600,633,0.94789999999999996,1936,1936,1,20021,22837,0.87670000000000003,136,22837,6.0000000000000001E-3,2163,2207,0.98009999999999997,12,12,1,0,0,"N/A",138,141,0.97870000000000001,21,21,1,218,230,0.94779999999999998,0,0,"N/A",8930,9591,0.93108123540878296,598,642,0.93149999999999999,673,673,1,22027,26662,0.82620000000000005,250,26662,9.4000000000000004E-3,2031,2080,0.97640000000000005,23,23,1,0,0,"N/A",115,118,0.97460000000000002,1,1,1,208,223,0.93269999999999997,1,1,1,10242,10412,0.98367267847061202,512,542,0.9446,185,185,1,17079,26206,0.65169999999999995,1038,26206,3.9600000000000003E-2,4006,4090,0.97950000000000004,16,16,1,0,0,"N/A",121,126,0.96030000000000004,0,0,"N/A"]
["Festival Hydro Inc.",294,295,0.997,0,0,"N/A",5069,5093,0.99528765678405795,594,594,1,24,24,1,19251,22136,0.87,182,22136,8.0000000000000002E-3,1606,1606,1,14,14,1,0,0,"N/A",373,374,0.997,8,8,1,295,299,0.98660000000000003,2,2,1,4930,5091,0.968375563621521,518,521,0.99419999999999997,161,161,1,17734,20936,0.84709999999999996,229,20936,1.09E-2,1861,1861,1,9,9,1,0,0,"N/A",225,225,1,8,8,1,264,266,0.99250000000000005,1,1,1,5679,5851,0.970603287220001,650,657,0.98929999999999996,82,82,1,16840,19226,0.87590000000000001,208,19226,1.0800000000000001E-2,2370,2370,1,19,21,0.90480000000000005,0,0,"N/A",177,177,1,28,28,1,258,266,0.96989999999999998,1,1,1,7424,7582,0.97916114330291704,722,733,0.98499999999999999,166,166,1,17108,19342,0.88449999999999995,177,19342,9.1999999999999998E-3,4501,4501,1,7,7,1,0,0,"N/A",186,186,1,0,0,"N/A",244,256,0.95309999999999995,0,0,"N/A",7360,7554,0.97431826591491699,633,648,0.97689999999999999,194,194,1,19062,19282,0.98860000000000003,330,19282,1.7100000000000001E-2,5892,5894,0.99970000000000003,7,7,1,4,4,1,92,92,1,0,0,"N/A"]
["Fort Frances Power Corporation",29,29,1,0,0,"N/A",621,621,1,91,92,0.98899999999999999,1,1,1,1219,1248,0.97699999999999998,19,1248,1.4999999999999999E-2,42,42,1,5,5,1,0,0,"N/A",43,43,1,0,0,"N/A",26,26,1,0,0,"N/A",782,782,1,72,72,1,0,0,"N/A",2438,2516,0.96899999999999997,57,2516,2.2700000000000001E-2,18,19,0.94740000000000002,6,6,1,0,0,"N/A",27,27,1,0,0,"N/A",32,32,1,0,0,"N/A",723,724,0.99861878156661998,85,85,1,0,0,"N/A",2543,2640,0.96330000000000005,97,2640,3.6700000000000003E-2,21,21,1,10,10,1,0,0,"N/A",27,27,1,1,1,1,39,39,1,0,0,"N/A",629,629,1,85,85,1,0,0,"N/A",2458,2518,0.97619999999999996,58,2518,2.3E-2,37,37,1,16,16,1,0,0,"N/A",28,28,1,0,0,"N/A",24,24,1,0,0,"N/A",617,617,1,63,63,1,0,0,"N/A",3220,3331,0.9667,56,3331,1.6799999999999999E-2,46,47,0.97870000000000001,9,9,1,0,0,"N/A",0,0,"N/A",0,0,"N/A"]
["Greater Sudbury Hydro Inc.",519,522,0.99399999999999999,0,0,"N/A",11798,11945,0.98769360780715898,976,976,1,0,0,"N/A",41113,61427,0.66900000000000004,1629,61427,2.7E-2,642,648,0.99099999999999999,41,41,1,0,0,"N/A",714,714,1,5,5,1,484,490,0.98780000000000001,0,0,"N/A",11028,11541,0.955549776554108,805,805,1,0,0,"N/A",40179,59828,0.67159999999999997,900,59828,1.4999999999999999E-2,896,923,0.97070000000000001,55,58,0.94830000000000003,0,0,"N/A",428,428,1,8,8,1,497,501,0.99199999999999999,0,0,"N/A",11452,11808,0.96985095739364602,880,881,0.99890000000000001,1,1,1,36307,50958,0.71250000000000002,633,50958,1.24E-2,1163,1166,0.99739999999999995,57,61,0.93440000000000001,0,0,"N/A",213,213,1,8,8,1,484,487,0.99380000000000002,0,0,"N/A",10245,10383,0.98670905828475997,895,897,0.99780000000000002,0,0,"N/A",34825,48873,0.71260000000000001,643,48873,1.32E-2,1331,1342,0.99180000000000001,55,60,0.91669999999999996,0,0,"N/A",315,315,1,2,2,1,541,543,0.99629999999999996,0,0,"N/A",10008,10166,0.98445796966552701,830,830,1,0,0,"N/A",30155,44755,0.67379999999999995,726,44755,1.6199999999999999E-2,1427,1431,0.99719999999999998,42,43,0.97670000000000001,0,0,"N/A",223,223,1,1,1,1]
["Grimsby Power Incorporated",72,73,0.98599999999999999,0,0,"N/A",2628,2628,1,124,124,1,0,0,"N/A",5523,7893,0.7,329,7893,4.2000000000000003E-2,1460,1460,1,10,10,1,10,10,1,23,23,1,3,3,1,198,202,0.98019999999999996,0,0,"N/A",2382,2821,0.84438145160675004,129,129,1,439,439,1,5342,7088,0.75370000000000004,102,7088,1.44E-2,1468,1468,1,10,10,1,2,2,1,16,16,1,3,3,1,235,243,0.96709999999999996,0,0,"N/A",2201,2413,0.91214257478714,210,211,0.99529999999999996,212,212,1,6383,7209,0.88539999999999996,64,7209,8.8999999999999999E-3,1556,1556,1,7,7,1,0,0,"N/A",7,7,1,2,2,1,108,108,1,0,0,"N/A",2166,2412,0.89800995588302601,95,95,1,252,252,1,7136,7908,0.90239999999999998,40,7908,5.1000000000000004E-3,1591,1593,0.99870000000000003,6,6,1,1,1,1,10,10,1,1,1,1,52,52,1,0,0,"N/A",2589,2589,1,46,46,1,6,6,1,6296,7044,0.89380000000000004,127,7044,1.7999999999999999E-2,1613,1622,0.99450000000000005,4,4,1,1,1,1,12,12,1,0,0,"N/A"]
["Guelph Hydro Electric Systems Inc.",1582,1590,0.995,1,1,1,8472,8566,0.98902636766433705,1824,1830,0.997,6,6,1,29429,33958,0.86699999999999999,1711,33958,0.05,6969,6969,1,80,90,0.88900000000000001,0,0,"N/A",141,141,1,46,46,1,1217,1255,0.96970000000000001,0,0,"N/A",11640,11737,0.99173551797866799,3257,3271,0.99570000000000003,15,15,1,32239,36856,0.87470000000000003,1819,36856,4.9399999999999999E-2,8902,8902,1,61,63,0.96830000000000005,0,0,"N/A",109,109,1,36,36,1,656,711,0.92259999999999998,2,2,1,12586,13943,0.90267515182495095,2306,2382,0.96809999999999996,22,22,1,26964,37599,0.71709999999999996,2751,37599,7.3200000000000001E-2,6348,6348,1,83,92,0.9022,0,0,"N/A",112,112,1,29,29,1,null,null,"N/A",null,null,"N/A",null,null,"N/A",null,null,"N/A",null,null,"N/A",null,null,"N/A",null,null,"N/A",null,null,"N/A",null,null,"N/A",null,null,"N/A",null,null,"N/A",null,null,"N/A",null,null,"N/A",null,null,"N/A",null,null,"N/A",null,null,"N/A",null,null,"N/A",null,null,"N/A",null,null,"N/A",null,null,"N/A",null,null,"N/A",null,null,"N/A",null,null,"N/A",null,null,"N/A"]
["Haldimand County Hydro Inc.",8,8,1,0,0,"N/A",3866,3917,0.98697984218597401,249,249,1,52,52,1,19126,22625,0.84499999999999997,847,22625,3.6999999999999998E-2,1242,1243,0.999,15,15,1,22,22,1,191,191,1,0,0,"N/A",null,null,"N/A",null,null,"N/A",null,null,"N/A",null,null,"N/A",null,null,"N/A",null,null,"N/A",null,null,"N/A",null,null,"N/A",null,null,"N/A",null,null,"N/A",null,null,"N/A",null,null,"N/A",null,null,"N/A",null,null,"N/A",null,null,"N/A",null,null,"N/A",null,null,"N/A",null,null,"N/A",null,null,"N/A",null,null,"N/A",null,null,"N/A",null,null,"N/A",null,null,"N/A",null,null,"N/A",null,null,"N/A",null,null,"N/A",null,null,"N/A",null,null,"N/A",null,null,"N/A",null,null,"N/A",null,null,"N/A",null,null,"N/A",null,null,"N/A",null,null,"N/A",null,null,"N/A",null,null,"N/A",null,null,"N/A",null,null,"N/A",null,null,"N/A",null,null,"N/A",null,null,"N/A",null,null,"N/A",null,null,"N/A",null,null,"N/A",null,null,"N/A",null,null,"N/A",null,null,"N/A",null,null,"N/A"]
["Halton Hills Hydro Inc.",589,589,1,0,0,"N/A",5684,5684,1,5668,5668,1,15,15,1,23603,25007,0.94399999999999995,340,25007,1.4E-2,2383,2383,1,4,4,1,9,9,1,102,102,1,19,19,1,541,541,1,0,0,"N/A",5803,5803,1,5787,5787,1,11,11,1,19534,20379,0.95850000000000002,224,20379,1.0999999999999999E-2,2052,2060,0.99609999999999999,19,19,1,16,16,1,45,45,1,18,18,1,678,678,1,0,0,"N/A",5645,5645,1,5624,5625,0.99980000000000002,17,17,1,17165,17764,0.96630000000000005,145,17764,8.2000000000000007E-3,1925,1928,0.99839999999999995,16,17,0.94120000000000004,17,17,1,36,36,1,34,34,1,414,414,1,0,0,"N/A",5755,5755,1,751,769,0.97660000000000002,18,18,1,18332,19010,0.96430000000000005,667,19010,3.5099999999999999E-2,2180,2183,0.99860000000000004,11,11,1,12,12,1,35,35,1,0,0,"N/A",432,432,1,0,0,"N/A",933,974,0.95790553092956499,719,719,1,21,21,1,17927,18692,0.95909999999999995,938,18692,5.0200000000000002E-2,3804,3804,1,13,13,1,19,19,1,25,25,1,0,0,"N/A"]
["Hearst Power Distribution Company Limited",7,7,1,1,1,1,259,259,1,4,4,1,0,0,"N/A",992,1136,0.873,0,0,"N/A",72,72,1,3,3,1,0,0,"N/A",17,17,1,0,0,"N/A",6,6,1,0,0,"N/A",439,439,1,151,151,1,0,0,"N/A",818,937,0.873,0,937,0,60,60,1,0,0,"N/A",0,0,"N/A",5,5,1,0,0,"N/A",15,15,1,0,0,"N/A",640,640,1,211,211,1,0,0,"N/A",820,931,0.88080000000000003,0,931,0,64,64,1,0,0,"N/A",0,0,"N/A",3,3,1,0,0,"N/A",9,9,1,0,0,"N/A",493,493,1,210,210,1,0,0,"N/A",844,916,0.9214,0,916,0,288,289,0.99650000000000005,0,0,"N/A",0,0,"N/A",14,14,1,0,0,"N/A",11,11,1,0,0,"N/A",384,384,1,195,195,1,0,0,"N/A",858,905,0.94810000000000005,0,905,0,193,193,1,0,0,"N/A",0,0,"N/A",3,3,1,0,0,"N/A"]
["Horizon Utilities Corporation",2908,2918,0.997,3,3,1,54151,56045,0.96620571613311801,15626,15731,0.99299999999999999,1894,1894,1,275421,335078,0.82199999999999995,4246,335078,1.2999999999999999E-2,28552,28686,0.995,176,189,0.93100000000000005,0,0,"N/A",3059,3059,1,101,101,1,null,null,"N/A",null,null,"N/A",null,null,"N/A",null,null,"N/A",null,null,"N/A",null,null,"N/A",null,null,"N/A",null,null,"N/A",null,null,"N/A",null,null,"N/A",null,null,"N/A",null,null,"N/A",null,null,"N/A",null,null,"N/A",null,null,"N/A",null,null,"N/A",null,null,"N/A",null,null,"N/A",null,null,"N/A",null,null,"N/A",null,null,"N/A",null,null,"N/A",null,null,"N/A",null,null,"N/A",null,null,"N/A",null,null,"N/A",null,null,"N/A",null,null,"N/A",null,null,"N/A",null,null,"N/A",null,null,"N/A",null,null,"N/A",null,null,"N/A",null,null,"N/A",null,null,"N/A",null,null,"N/A",null,null,"N/A",null,null,"N/A",null,null,"N/A",null,null,"N/A",null,null,"N/A",null,null,"N/A",null,null,"N/A",null,null,"N/A",null,null,"N/A",null,null,"N/A",null,null,"N/A",null,null,"N/A"]
["Hydro 2000 Inc.",1,1,1,1,1,1,164,164,1,160,162,0.98799999999999999,1,1,1,4171,4184,0.997,0,0,"N/A",38,38,1,6,6,1,0,0,"N/A",0,0,"N/A",0,0,"N/A",6,6,1,0,0,"N/A",112,112,1,112,112,1,0,0,"N/A",2777,2777,1,0,0,"N/A",49,49,1,0,0,"N/A",0,0,"N/A",2,2,1,0,0,"N/A",8,8,1,0,0,"N/A",56,56,1,56,56,1,0,0,"N/A",2208,2209,0.99950000000000006,1,2209,5.0000000000000001E-4,9,9,1,0,0,"N/A",8,8,1,13,13,1,0,0,"N/A",5,5,1,0,0,"N/A",42,42,1,42,42,1,0,0,"N/A",2306,2312,0.99739999999999995,6,2312,2.5999999999999999E-3,275,275,1,17,17,1,0,0,"N/A",10,10,1,0,0,"N/A",16,16,1,0,0,"N/A",0,0,"N/A",0,0,"N/A",0,0,"N/A",2896,2896,1,0,2896,0,182,182,1,3,3,1,0,0,"N/A",12,12,1,0,0,"N/A"]
["Hydro Hawkesbury Inc.",20,20,1,0,0,"N/A",59,60,0.98333334922790505,40,42,0.95199999999999996,2,2,1,7084,7085,1,1,7085,0,239,240,0.996,3,3,1,0,0,"N/A",39,39,1,0,0,"N/A",13,13,1,0,0,"N/A",119,122,0.97540986537933405,81,83,0.97589999999999999,3,3,1,6745,6746,0.99990000000000001,0,6746,0,410,412,0.99509999999999998,2,2,1,0,0,"N/A",34,37,0.91890000000000005,0,0,"N/A",17,18,0.94440000000000002,0,0,"N/A",115,118,0.97457629442214999,57,59,0.96609999999999996,2,2,1,7233,7234,0.99990000000000001,0,7234,0,326,327,0.99690000000000001,2,2,1,0,0,"N/A",36,36,1,0,0,"N/A",21,23,0.91300000000000003,1,1,1,165,169,0.97633135318756104,87,88,0.98860000000000003,5,5,1,6338,6340,0.99970000000000003,0,6340,0,487,488,0.998,7,7,1,0,0,"N/A",31,31,1,0,0,"N/A",21,21,1,1,1,1,339,343,0.98833817243576105,103,105,0.98099999999999998,2,2,1,7337,7340,0.99960000000000004,0,7340,0,795,798,0.99619999999999997,5,5,1,0,0,"N/A",21,21,1,0,0,"N/A"]
["Hydro One Brampton Networks Inc.",4533,4541,0.998,6,6,1,30667,31562,0.97164309024810802,3784,3788,0.999,4,4,1,130405,158415,0.82299999999999995,2404,158415,1.4999999999999999E-2,7349,7349,1,122,122,1,0,0,"N/A",1578,1578,1,308,308,1,null,null,"N/A",null,null,"N/A",null,null,"N/A",null,null,"N/A",null,null,"N/A",null,null,"N/A",null,null,"N/A",null,null,"N/A",null,null,"N/A",null,null,"N/A",null,null,"N/A",null,null,"N/A",null,null,"N/A",null,null,"N/A",null,null,"N/A",null,null,"N/A",null,null,"N/A",null,null,"N/A",null,null,"N/A",null,null,"N/A",null,null,"N/A",null,null,"N/A",null,null,"N/A",null,null,"N/A",null,null,"N/A",null,null,"N/A",null,null,"N/A",null,null,"N/A",null,null,"N/A",null,null,"N/A",null,null,"N/A",null,null,"N/A",null,null,"N/A",null,null,"N/A",null,null,"N/A",null,null,"N/A",null,null,"N/A",null,null,"N/A",null,null,"N/A",null,null,"N/A",null,null,"N/A",null,null,"N/A",null,null,"N/A",null,null,"N/A",null,null,"N/A",null,null,"N/A",null,null,"N/A",null,null,"N/A"]
["Hydro One Networks Inc.",16203,16439,0.98599999999999999,0,0,"N/A",30634,30780,0.99525666236877397,26656,26778,0.995,533,541,0.98499999999999999,1154373,1555350,0.74199999999999999,41339,1555350,2.7E-2,360735,360735,1,0,0,"N/A",3487,4632,0.753,11541,11719,0.98499999999999999,637,632,0.99219999999999997,18691,19061,0.98060000000000003,0,0,"N/A",29637,29949,0.989582300186157,26374,26656,0.98939999999999995,851,854,0.99650000000000005,1100363,1344362,0.81850000000000001,28763,1344362,2.1399999999999999E-2,279974,279974,1,0,0,"N/A",3286,4252,0.77280000000000004,4980,5072,0.9819,881,879,0.99770000000000003,17658,17779,0.99319999999999997,0,0,"N/A",32247,32262,0.99953508377075195,27572,27585,0.99950000000000006,433,445,0.97299999999999998,907569,1162816,0.78049999999999997,35388,1162816,3.04E-2,240861,240861,1,0,0,"N/A",3837,5855,0.65529999999999999,800,814,0.98280000000000001,724,720,0.99450000000000005,14104,14131,0.99809999999999999,0,0,"N/A",31563,31564,0.99996829032897905,27068,27069,1,217,217,1,715370,931048,0.76829999999999998,18749,931048,2.01E-2,175382,175384,1,0,0,"N/A",3792,4383,0.86519999999999997,3027,3034,0.99770000000000003,168,162,0.96430000000000005,14123,14154,0.99780000000000002,0,0,"N/A",29548,29552,0.99986463785171498,25811,25815,0.99980000000000002,263,263,1,670704,955720,0.70179999999999998,37496,955720,3.9199999999999999E-2,156007,157054,0.99329999999999996,0,0,"N/A",3721,4867,0.76449999999999996,135,137,0.98540000000000005,138,134,0.97099999999999997]
["Hydro One Remote Communities Inc.",36,36,1,0,0,"N/A",0,0,"N/A",0,0,"N/A",0,0,"N/A",6666,6666,1,0,0,"N/A",702,703,0.999,0,0,"N/A",284,286,0.99299999999999999,56,59,0.94899999999999995,5,5,1,77,85,0.90590000000000004,0,0,"N/A",0,0,"N/A",0,null,"N/A",0,0,"N/A",6092,6092,1,0,0,"N/A",701,701,1,0,0,"N/A",254,257,0.98829999999999996,51,55,0.92730000000000001,0,0,"N/A",102,107,0.95330000000000004,0,0,"N/A",0,0,"N/A",0,0,"N/A",0,0,"N/A",6071,6071,1,0,6071,0,732,732,1,0,0,"N/A",252,256,0.98440000000000005,28,30,0.93330000000000002,0,0,"N/A",96,96,1,0,0,"N/A",0,0,"N/A",0,0,"N/A",0,0,"N/A",6255,6255,1,0,6255,0,862,862,1,0,0,"N/A",282,285,0.98950000000000005,20,21,0.95240000000000002,0,0,"N/A",69,69,1,0,0,"N/A",0,0,"N/A",0,0,"N/A",0,0,"N/A",4190,4190,1,0,6255,0,580,580,1,0,0,"N/A",451,453,0.99560000000000004,0,0,"N/A",0,0,"N/A"]
["Hydro Ottawa Limited",3408,3408,1,68,68,1,81943,81943,1,2363,2373,0.996,3446,3446,1,244332,291644,0.83799999999999997,5312,291644,1.7999999999999999E-2,23092,23097,1,182,186,0.97799999999999998,0,0,"N/A",5763,5763,1,16,16,1,4310,4310,1,46,46,1,5097,5097,1,5068,5097,0.99429999999999996,29,29,1,208293,244858,0.85070000000000001,4251,244858,1.7399999999999999E-2,14321,14337,0.99890000000000001,210,211,0.99529999999999996,0,0,"N/A",3385,3385,1,57,57,1,4860,4860,1,38,38,1,6020,6020,1,5999,6020,0.99650000000000005,21,21,1,199255,224545,0.88739999999999997,1012,224545,4.4999999999999997E-3,28162,28179,0.99939999999999996,201,208,0.96630000000000005,0,0,"N/A",2916,2916,1,133,133,1,4835,4835,1,53,53,1,6883,6883,1,6855,6883,0.99590000000000001,28,28,1,181014,210116,0.86150000000000004,1683,210116,8.0000000000000002E-3,25860,25877,0.99929999999999997,206,211,0.97629999999999995,0,0,"N/A",2962,2962,1,30,30,1,5301,5301,1,44,44,1,8359,8359,1,8322,8359,0.99560000000000004,37,37,1,141256,189358,0.746,6977,189358,3.6799999999999999E-2,18781,18804,0.99880000000000002,193,197,0.97970000000000002,0,0,"N/A",1186,1186,1,17,17,1]
["Innpower Corporation",345,364,0.94799999999999995,0,0,"N/A",4581,4827,0.94903665781021096,323,338,0.95599999999999996,15,15,1,19057,23798,0.80100000000000005,2439,26237,9.2999999999999999E-2,437,441,0.99099999999999999,0,0,"N/A",30,30,1,360,362,0.99399999999999999,13,13,1,666,714,0.93279999999999996,0,0,"N/A",4731,4836,0.97828781604766801,331,354,0.93500000000000005,23,23,1,18633,23225,0.80230000000000001,1288,23225,5.5500000000000001E-2,556,559,0.99460000000000004,0,0,"N/A",22,23,0.95650000000000002,193,196,0.98470000000000002,21,21,1,664,723,0.91839999999999999,0,0,"N/A",5317,5582,0.95252597332000699,334,383,0.87209999999999999,52,52,1,19537,23300,0.83850000000000002,927,23300,3.9800000000000002E-2,1609,1614,0.99690000000000001,0,0,"N/A",45,47,0.95740000000000003,179,181,0.98899999999999999,25,25,1,452,454,0.99560000000000004,0,0,"N/A",5115,5335,0.95876288414001498,369,375,0.98399999999999999,6,6,1,20692,22889,0.90400000000000003,506,22889,2.2100000000000002E-2,1051,1052,0.999,0,0,"N/A",141,144,0.97919999999999996,158,158,1,0,0,"N/A",419,419,1,0,0,"N/A",5286,5288,0.99962180852890004,407,409,0.99509999999999998,2,2,1,21902,23670,0.92530000000000001,593,23670,2.5100000000000001E-2,1847,1857,0.99460000000000004,0,0,"N/A",48,48,1,50,50,1,0,0,"N/A"]
["Kenora Hydro Electric Corporation Ltd.",6,6,1,0,0,"N/A",983,987,0.99594730138778698,536,541,0.99099999999999999,5,5,1,4264,4306,0.99,3,4306,1E-3,16,16,1,0,0,"N/A",0,0,"N/A",60,60,1,1,1,1,19,19,1,0,0,"N/A",1083,1086,0.99723756313323997,576,579,0.99480000000000002,3,3,1,4127,4128,0.99980000000000002,1,4128,2.0000000000000001E-4,17,17,1,1,1,1,0,0,"N/A",49,49,1,0,0,"N/A",5,5,1,0,0,"N/A",1384,1384,1,406,406,1,3,3,1,3559,3669,0.97,110,3669,0.03,8,8,1,5,5,1,0,0,"N/A",79,79,1,1,1,1,null,null,"N/A",null,null,"N/A",null,null,"N/A",null,null,"N/A",null,null,"N/A",null,null,"N/A",null,null,"N/A",null,null,"N/A",null,null,"N/A",null,null,"N/A",null,null,"N/A",null,null,"N/A",null,null,"N/A",null,null,"N/A",null,null,"N/A",null,null,"N/A",null,null,"N/A",null,null,"N/A",null,null,"N/A",null,null,"N/A",null,null,"N/A",null,null,"N/A",null,null,"N/A",null,null,"N/A"]
["Kingston Hydro Corporation",153,153,1,2,2,1,7160,7486,0.95645207166671797,549,561,0.97899999999999998,12,12,1,44397,67244,0.66,2435,67244,3.5999999999999997E-2,4469,4469,1,28,28,1,0,0,"N/A",646,648,0.997,7,7,1,107,107,1,0,0,"N/A",7370,7492,0.98371595144271895,610,610,1,21,21,1,44315,64449,0.68759999999999999,1965,64449,3.0499999999999999E-2,4364,4364,1,17,17,1,0,0,"N/A",576,578,0.99650000000000005,21,21,1,220,220,1,4,4,1,8153,8317,0.98028135299682595,449,455,0.98680000000000001,6,6,1,38016,62551,0.60780000000000001,3552,62551,5.6800000000000003E-2,4522,4522,1,20,21,0.95240000000000002,0,0,"N/A",447,449,0.99550000000000005,5,5,1,172,172,1,0,0,"N/A",8224,8497,0.96787101030349698,373,374,0.99729999999999996,11,11,1,39305,60820,0.64629999999999999,2580,60820,4.24E-2,5567,5567,1,24,26,0.92310000000000003,0,0,"N/A",257,257,1,1,1,1,215,215,1,4,4,1,7578,7658,0.98955339193344105,209,210,0.99519999999999997,1,1,1,33288,51490,0.64649999999999996,2354,51490,4.5699999999999998E-2,7610,7610,1,24,24,1,0,0,"N/A",128,128,1,1,1,1]
["Kitchener-Wilmot Hydro Inc.",1723,1863,0.92500000000000004,3,3,1,27169,28172,0.96439725160598799,2927,3001,0.97499999999999998,49,49,1,70095,89427,0.78400000000000003,3746,89427,4.2000000000000003E-2,15362,15371,0.999,21,26,0.80800000000000005,18,19,0.94699999999999995,1550,1550,1,67,67,1,1943,1964,0.98929999999999996,7,7,1,26067,27176,0.95919191837310802,3174,3241,0.97929999999999995,71,71,1,66020,71139,0.92800000000000005,481,71139,6.7999999999999996E-3,16633,16635,0.99990000000000001,18,19,0.94740000000000002,9,9,1,904,904,1,132,132,1,1383,1395,0.99139999999999995,1,1,1,20431,22440,0.910472393035889,2422,2442,0.99180000000000001,14,14,1,58729,63908,0.91900000000000004,935,63908,1.46E-2,17196,17205,0.99950000000000006,15,17,0.88239999999999996,4,4,1,871,871,1,133,133,1,1003,1018,0.98529999999999995,0,0,"N/A",23323,24128,0.96663630008697499,2103,2116,0.99390000000000001,7,7,1,56536,62720,0.90139999999999998,1172,62720,1.8700000000000001E-2,17511,17743,0.9869,21,23,0.91300000000000003,4,4,1,712,712,1,0,0,"N/A",1445,1462,0.98839999999999995,0,0,"N/A",22045,23300,0.94613736867904696,1639,1662,0.98619999999999997,23,23,1,63582,72280,0.87970000000000004,2359,72280,3.2599999999999997E-2,23215,23232,0.99929999999999997,12,14,0.85709999999999997,11,11,1,217,217,1,0,0,"N/A"]
["Lakefront Utilities Inc.",200,203,0.98499999999999999,1,1,1,656,682,0.96187680959701505,203,205,0.99,2,2,1,10927,11979,0.91200000000000003,69,11979,6.0000000000000001E-3,477,543,0.878,4,4,1,0,0,"N/A",111,116,0.95699999999999996,3,3,1,179,180,0.99439999999999995,0,0,"N/A",837,866,0.96651268005371105,96,96,1,0,0,"N/A",4399,4784,0.91949999999999998,12,4784,2.5000000000000001E-3,361,361,1,1,1,1,0,0,"N/A",92,92,1,3,3,1,196,198,0.9899,0,0,"N/A",949,962,0.98648649454116799,109,110,0.9909,0,0,"N/A",4086,4280,0.95469999999999999,168,4280,3.9300000000000002E-2,313,313,1,2,2,1,0,0,"N/A",106,106,1,6,6,1,201,206,0.97570000000000001,0,0,"N/A",909,937,0.97011739015579201,142,142,1,0,0,"N/A",3492,3711,0.94099999999999995,39,3711,1.0500000000000001E-2,289,292,0.98970000000000002,0,0,"N/A",0,0,"N/A",109,109,1,0,0,"N/A",258,283,0.91169999999999995,0,0,"N/A",715,784,0.91198980808258101,103,103,1,0,0,"N/A",5340,6491,0.82269999999999999,40,6491,6.1999999999999998E-3,342,342,1,0,0,"N/A",0,0,"N/A",51,51,1,0,0,"N/A"]
["Lakeland Power Distribution Ltd.",118,119,0.99199999999999999,1,1,1,2341,2346,0.99786871671676602,584,592,0.98599999999999999,8,8,1,14864,16408,0.90600000000000003,323,16408,0.02,71,74,0.95899999999999996,5,5,1,5,5,1,399,399,1,3,3,1,134,134,1,0,0,"N/A",2622,2622,1,599,599,1,0,0,"N/A",13104,14857,0.88200000000000001,251,14857,1.6899999999999998E-2,57,59,0.96609999999999996,3,3,1,6,6,1,193,193,1,1,1,1,251,251,1,0,0,"N/A",2529,2686,0.94154876470565796,501,501,1,0,0,"N/A",11419,12278,0.93,155,12278,1.26E-2,11,11,1,8,8,1,2,2,1,156,156,1,2,2,1,166,166,1,0,0,"N/A",2169,2678,0.80993276834487904,447,447,1,0,0,"N/A",11330,12644,0.89610000000000001,133,12644,1.0500000000000001E-2,27,28,0.96430000000000005,14,14,1,8,8,1,149,149,1,0,0,"N/A",205,205,1,0,0,"N/A",2223,2591,0.85796988010406505,605,605,1,0,0,"N/A",12071,13427,0.89900000000000002,145,13427,1.0800000000000001E-2,15,16,0.9375,3,3,1,2,2,1,99,99,1,0,0,"N/A"]
["London Hydro Inc.",1870,1936,0.96599999999999997,1,1,1,26134,26454,0.98790353536605802,1010,1011,0.999,1,1,1,121718,181789,0.67,5604,181789,3.1E-2,21566,21566,1,107,110,0.97299999999999998,0,0,"N/A",4388,4422,0.99199999999999999,35,32,0.9143,1796,1841,0.97560000000000002,2,2,1,26560,27896,0.95210784673690796,744,745,0.99870000000000003,1,1,1,118834,173303,0.68569999999999998,5112,173303,2.9499999999999998E-2,22470,22470,1,109,113,0.96460000000000001,0,0,"N/A",2440,2442,0.99919999999999998,36,36,1,2300,2312,0.99480000000000002,1,1,1,23068,27877,0.82749217748642001,348,348,1,0,0,"N/A",102529,145788,0.70330000000000004,4403,145788,3.0200000000000001E-2,22055,22056,1,131,135,0.97040000000000004,0,0,"N/A",2031,2032,0.99950000000000006,18,18,1,2328,2344,0.99319999999999997,3,3,1,1594,1594,1,270,270,1,0,0,"N/A",97195,126567,0.76790000000000003,3608,126567,2.8500000000000001E-2,24500,24500,1,172,175,0.9829,0,0,"N/A",2298,2304,0.99739999999999995,5,5,1,2340,2367,0.98860000000000003,1,1,1,1612,1612,1,303,303,1,0,0,"N/A",78982,107594,0.73409999999999997,4113,107594,3.8199999999999998E-2,29627,29627,1,136,146,0.93149999999999999,0,0,"N/A",796,796,1,14,14,1]
["Midland Power Utility Corporation",155,155,1,0,0,"N/A",932,987,0.94427555799484297,170,171,0.99399999999999999,1,1,1,10867,10873,0.999,0,0,"N/A",100,100,1,8,8,1,0,0,"N/A",92,93,0.98899999999999999,0,0,"N/A",63,63,1,0,0,"N/A",1406,1436,0.97910863161087003,216,216,1,0,0,"N/A",9437,9437,1,0,0,"N/A",196,197,0.99490000000000001,2,2,1,0,0,"N/A",55,55,1,2,2,1,null,null,"N/A",null,null,"N/A",null,null,"N/A",null,null,"N/A",null,null,"N/A",null,null,"N/A",null,null,"N/A",null,null,"N/A",null,null,"N/A",null,null,"N/A",null,null,"N/A",null,null,"N/A",null,null,"N/A",null,null,"N/A",null,null,"N/A",null,null,"N/A",null,null,"N/A",null,null,"N/A",null,null,"N/A",null,null,"N/A",null,null,"N/A",null,null,"N/A",null,null,"N/A",null,null,"N/A",null,null,"N/A",null,null,"N/A",null,null,"N/A",null,null,"N/A",null,null,"N/A",null,null,"N/A",null,null,"N/A",null,null,"N/A",null,null,"N/A",null,null,"N/A",null,null,"N/A",null,null,"N/A"]
["Milton Hydro Distribution Inc.",994,998,0.996,0,0,"N/A",498,498,1,498,498,1,0,0,"N/A",27971,28931,0.96699999999999997,457,28931,1.6E-2,2014,2014,1,3,3,1,8,8,1,197,197,1,27,27,1,1017,1051,0.96760000000000002,0,0,"N/A",379,379,1,379,379,1,0,0,"N/A",25577,26498,0.96519999999999995,434,26498,1.6400000000000001E-2,1738,1738,1,10,10,1,8,8,1,122,122,1,16,16,1,1782,1789,0.99609999999999999,0,0,"N/A",396,396,1,396,396,1,0,0,"N/A",20204,21523,0.93869999999999998,255,21523,1.18E-2,1353,1353,1,13,13,1,9,9,1,47,47,1,10,10,1,861,862,0.99880000000000002,0,0,"N/A",351,351,1,351,351,1,0,0,"N/A",24097,28539,0.84440000000000004,195,28539,6.7999999999999996E-3,928,928,1,7,7,1,6,6,1,146,147,0.99319999999999997,0,0,"N/A",855,855,1,0,0,"N/A",375,375,1,375,375,1,0,0,"N/A",25076,34270,0.73170000000000002,359,34270,1.0500000000000001E-2,753,753,1,6,6,1,13,13,1,29,29,1,0,0,"N/A"]
["Newmarket-Tay Power Distribution Ltd.",525,525,1,0,0,"N/A",6722,6724,0.99970257282257102,1332,1335,0.998,3,3,1,30442,37214,0.81799999999999995,546,37214,1.4999999999999999E-2,1361,1361,1,27,28,0.96399999999999997,0,0,"N/A",383,383,1,20,20,1,428,429,0.99770000000000003,1,1,1,7361,7382,0.99715524911880504,1066,1067,0.99909999999999999,1,1,1,30020,39168,0.76639999999999997,339,39168,8.6999999999999994E-3,1094,1094,1,19,20,0.95,0,0,"N/A",37,37,1,27,27,1,625,625,1,0,0,"N/A",8053,8104,0.99370682239532504,7190,7191,0.99990000000000001,1,1,1,24088,33993,0.70860000000000001,391,33993,1.15E-2,2203,2204,0.99950000000000006,31,33,0.93940000000000001,0,0,"N/A",296,296,1,10,10,1,495,495,1,2,2,1,8188,8283,0.98853075504303001,990,991,0.999,1,1,1,20601,30039,0.68579999999999997,1495,30039,4.9799999999999997E-2,2065,2066,0.99950000000000006,20,20,1,0,0,"N/A",181,181,1,0,0,"N/A",313,319,0.98119999999999996,3,4,0.75,6330,6603,0.95865517854690596,615,622,0.98870000000000002,10,10,1,21484,29173,0.73640000000000005,966,29173,3.3099999999999997E-2,2238,2239,0.99960000000000004,34,35,0.97140000000000004,0,0,"N/A",63,63,1,1,1,1]
["Niagara Peninsula Energy Inc.",872,941,0.92700000000000005,43,43,1,913,913,1,911,913,0.998,2,2,1,47395,57097,0.83,532,57097,8.9999999999999993E-3,10065,10065,1,67,69,0.97099999999999997,43,46,0.93500000000000005,450,450,1,24,24,1,848,927,0.91479999999999995,57,57,1,241,241,1,237,241,0.98340000000000005,4,4,1,42599,48412,0.87990000000000002,452,48412,9.2999999999999992E-3,9228,9916,0.93059999999999998,66,68,0.97060000000000002,69,69,1,144,144,1,30,30,1,434,465,0.93330000000000002,49,54,0.90739999999999998,898,898,1,888,898,0.9889,10,10,1,36531,42540,0.85870000000000002,539,42540,1.2699999999999999E-2,7610,8822,0.86260000000000003,63,63,1,46,46,1,136,136,1,23,23,1,786,840,0.93569999999999998,1,1,1,595,595,1,592,595,0.995,3,3,1,38085,44979,0.84670000000000001,425,44979,9.4000000000000004E-3,9818,11047,0.88870000000000005,83,85,0.97650000000000003,50,53,0.94340000000000002,485,485,1,11,11,1,911,1060,0.85940000000000005,1,1,1,346,346,1,346,346,1,0,0,"N/A",38782,46817,0.82840000000000003,580,46817,1.24E-2,18767,18896,0.99319999999999997,49,50,0.98,33,34,0.97060000000000002,416,416,1,4,4,1]
["Niagara-on-the-Lake Hydro Inc.",274,277,0.98899999999999999,5,5,1,8721,8721,1,202,203,0.995,1,1,1,8023,9308,0.86199999999999999,35,9308,4.0000000000000001E-3,3767,3767,1,2,2,1,5,5,1,30,30,1,8,8,1,187,189,0.98939999999999995,6,6,1,8044,8044,1,367,367,1,0,0,"N/A",6637,7606,0.87260000000000004,37,7606,4.8999999999999998E-3,3555,3555,1,5,5,1,10,10,1,37,37,1,2,2,1,172,173,0.99419999999999997,10,10,1,6058,6058,1,260,260,1,0,0,"N/A",5871,6525,0.89980000000000004,17,6525,2.5999999999999999E-3,4016,4016,1,3,3,1,6,6,1,31,31,1,16,16,1,144,144,1,9,9,1,5465,5465,1,160,160,1,0,0,"N/A",6276,7230,0.86799999999999999,43,7230,5.8999999999999999E-3,3751,3751,1,6,6,1,4,4,1,31,31,1,1,1,1,126,127,0.99209999999999998,11,11,1,7389,7389,1,7389,7389,1,0,0,"N/A",8024,8392,0.95609999999999995,37,8392,4.4000000000000003E-3,7067,7067,1,1,1,1,9,9,1,22,22,1,1,1,1]
["North Bay Hydro Distribution Limited",37,37,1,4,4,1,3748,3749,0.99973326921463002,729,730,0.999,1,1,1,23949,28642,0.83599999999999997,1740,28642,6.0999999999999999E-2,3642,3642,1,27,27,1,3,3,1,589,589,1,3,3,1,43,43,1,0,0,"N/A",3768,3768,1,688,688,1,0,0,"N/A",20401,23569,0.86560000000000004,1147,23569,4.87E-2,4271,4271,1,33,33,1,0,0,"N/A",500,500,1,4,4,1,44,44,1,3,3,1,3621,3621,1,535,535,1,0,0,"N/A",19335,21218,0.9113,1193,21218,5.62E-2,2667,2667,1,46,46,1,4,4,1,396,396,1,1,1,1,57,57,1,2,2,1,4010,4010,1,534,534,1,0,0,"N/A",18452,19292,0.95650000000000002,304,19292,1.5800000000000002E-2,3114,3114,1,17,17,1,0,0,"N/A",360,360,1,0,0,"N/A",90,90,1,0,0,"N/A",4012,4012,1,389,389,1,0,0,"N/A",16279,19796,0.82230000000000003,862,19796,4.3499999999999997E-2,4028,4028,1,15,15,1,0,0,"N/A",112,112,1,0,0,"N/A"]
["Northern Ontario Wires Inc.",14,14,1,1,1,1,683,683,1,683,683,1,0,0,"N/A",5680,5680,1,0,0,"N/A",247,247,1,2,2,1,0,0,"N/A",111,113,0.98199999999999998,0,0,"N/A",14,14,1,0,0,"N/A",713,713,1,23,23,1,0,0,"N/A",6154,6154,1,0,0,"N/A",255,255,1,0,0,"N/A",0,0,"N/A",94,94,1,0,0,"N/A",5,5,1,0,0,"N/A",717,717,1,25,25,1,0,0,"N/A",4931,4931,1,0,0,"N/A",224,224,1,5,5,1,0,0,"N/A",75,75,1,0,0,"N/A",1,1,1,0,0,"N/A",600,600,1,23,23,1,0,0,"N/A",5332,5332,1,0,5332,0,257,257,1,5,5,1,0,0,"N/A",127,127,1,0,0,"N/A",0,0,"N/A",0,0,"N/A",660,660,1,29,29,1,0,0,"N/A",4809,4809,1,0,0,"N/A",408,408,1,0,0,"N/A",0,0,"N/A",62,63,0.98409999999999997,0,0,"N/A"]
["Oakville Hydro Electricity Distribution Inc.",1296,1597,0.81200000000000006,0,0,"N/A",19132,19132,1,1407,1407,1,0,0,"N/A",52091,71525,0.72799999999999998,1938,71525,2.7E-2,2054,2385,0.86099999999999999,0,0,"N/A",0,0,"N/A",391,395,0.99,5,5,1,1762,1816,0.97030000000000005,0,0,"N/A",1220,1220,1,1220,1220,1,0,0,"N/A",46962,58249,0.80620000000000003,1232,58249,2.12E-2,2850,2974,0.95830000000000004,0,0,"N/A",0,0,"N/A",201,205,0.98050000000000004,24,24,1,1514,1591,0.9516,0,0,"N/A",18657,18657,1,746,746,1,0,0,"N/A",43698,51290,0.85199999999999998,656,51290,1.2800000000000001E-2,4069,4152,0.98,0,0,"N/A",0,0,"N/A",177,178,0.99439999999999995,24,24,1,897,947,0.94720000000000004,0,0,"N/A",18762,18762,1,722,722,1,0,0,"N/A",39333,45789,0.85899999999999999,426,45789,9.2999999999999992E-3,3567,3569,0.99939999999999996,0,0,"N/A",0,0,"N/A",179,179,1,0,0,"N/A",944,1136,0.83099999999999996,0,0,"N/A",19388,19388,1,259,259,1,0,0,"N/A",37323,47039,0.79339999999999999,1469,47039,3.1199999999999999E-2,4895,4897,0.99960000000000004,0,0,"N/A",0,0,"N/A",85,86,0.98839999999999995,12,12,1]
["Orangeville Hydro Limited",273,273,1,0,0,"N/A",2855,2856,0.99964988231658902,435,436,0.998,1,1,1,23427,23539,0.995,91,23539,4.0000000000000001E-3,2060,2061,1,5,5,1,0,0,"N/A",215,215,1,4,4,1,355,355,1,0,0,"N/A",2608,2608,1,594,595,0.99829999999999997,39,39,1,22477,22480,0.99990000000000001,3,22480,1E-4,1857,1857,1,5,5,1,0,0,"N/A",114,114,1,2,2,1,326,326,1,6,6,1,2354,2357,0.99872720241546598,410,411,0.99760000000000004,3,4,0.75,21443,21455,0.99939999999999996,8,21455,4.0000000000000002E-4,1593,1622,0.98209999999999997,3,3,1,0,0,"N/A",79,81,0.97529999999999994,9,9,1,106,106,1,0,0,"N/A",2333,2333,1,272,272,1,0,0,"N/A",22747,22769,0.999,13,22769,5.9999999999999995E-4,3346,3360,0.99580000000000002,0,0,"N/A",0,0,"N/A",93,97,0.95879999999999999,0,0,"N/A",214,214,1,1,1,1,2457,2472,0.99393206834793102,320,320,1,0,0,"N/A",17971,18133,0.99109999999999998,0,0,"N/A",3693,3710,0.99539999999999995,0,0,"N/A",0,0,"N/A",41,42,0.97619999999999996,0,0,"N/A"]
["Orillia Power Distribution Corporation",242,242,1,1,1,1,2575,2654,0.97023361921310403,308,308,1,0,0,"N/A",11484,11892,0.96599999999999997,8,11892,1E-3,12,12,1,19,19,1,0,0,"N/A",179,179,1,3,3,1,357,357,1,1,1,1,2448,2505,0.97724550962448098,394,394,1,0,0,"N/A",9489,9739,0.97430000000000005,3,9739,2.9999999999999997E-4,20,20,1,5,5,1,0,0,"N/A",158,158,1,7,7,1,415,415,1,2,2,1,2738,2777,0.98595607280731201,456,457,0.99780000000000002,1,1,1,10821,11161,0.96950000000000003,1,11161,1E-4,19,19,1,6,6,1,0,0,"N/A",135,135,1,17,17,1,400,400,1,11,11,1,2589,2651,0.97661262750625599,456,456,1,0,0,"N/A",13203,13359,0.98829999999999996,0,13359,0,15,15,1,5,5,1,0,0,"N/A",91,91,1,0,0,"N/A",351,351,1,0,0,"N/A",2302,2370,0.971307992935181,383,383,1,0,0,"N/A",12234,12403,0.98640000000000005,0,12403,0,14,14,1,4,4,1,0,0,"N/A",3,3,1,0,0,"N/A"]
["Oshawa PUC Networks Inc.",957,1033,0.92600000000000005,0,0,"N/A",7914,7914,1,774,774,1,0,0,"N/A",46713,63383,0.73699999999999999,821,63383,1.2999999999999999E-2,2083,2094,0.995,35,35,1,4,4,1,772,772,1,45,45,1,939,944,0.99470000000000003,0,0,"N/A",7251,7815,0.92783111333847001,7862,7979,0.98529999999999995,117,117,1,51705,57117,0.9052,238,57117,4.1999999999999997E-3,2251,2253,0.99909999999999999,37,37,1,7,7,1,557,558,0.99819999999999998,55,55,1,1375,1378,0.99780000000000002,0,0,"N/A",9877,10130,0.97502470016479503,969,969,1,253,253,1,52552,58328,0.90100000000000002,252,58328,4.3E-3,8015,8017,0.99980000000000002,75,75,1,3,3,1,801,801,1,56,56,1,509,509,1,0,0,"N/A",9235,9983,0.92507261037826505,884,884,1,748,748,1,45863,48721,0.94130000000000003,111,48721,2.3E-3,21050,21050,1,68,69,0.98550000000000004,4,4,1,1284,1284,1,0,0,"N/A",411,411,1,0,0,"N/A",10175,11535,0.88209795951843295,981,981,1,1360,1360,1,33208,36084,0.92030000000000001,186,36084,5.1999999999999998E-3,20638,20638,1,58,58,1,3,3,1,3,3,1,0,0,"N/A"]
["Ottawa River Power Corporation",139,139,1,0,0,"N/A",2802,2812,0.99644380807876598,2812,2812,1,0,0,"N/A",22200,22224,0.999,0,22224,0,468,468,1,54,54,1,11,11,1,155,155,1,0,0,"N/A",69,70,0.98570000000000002,6,6,1,3378,3383,0.99852204322814897,579,584,0.99139999999999995,5,5,1,17637,17660,0.99870000000000003,0,17660,0,1075,1075,1,47,47,1,3,3,1,140,140,1,0,0,"N/A",130,130,1,1,1,1,3667,3674,0.99809473752975497,290,294,0.98640000000000005,4,4,1,17837,17852,0.99919999999999998,0,17852,0,250,250,1,70,70,1,1,1,1,97,97,1,0,0,"N/A",93,93,1,0,0,"N/A",3764,3843,0.97944313287734996,319,325,0.98150000000000004,6,6,1,17032,17041,0.99950000000000006,9,17041,5.0000000000000001E-4,634,634,1,45,45,1,0,0,"N/A",136,136,1,0,0,"N/A",81,81,1,0,0,"N/A",3256,3321,0.98042756319045998,172,175,0.9829,3,3,1,15186,15555,0.97629999999999995,369,15555,2.3699999999999999E-2,72,73,0.98629999999999995,10,10,1,0,0,"N/A",61,61,1,0,0,"N/A"]
["PUC Distribution Inc.",345,349,0.98899999999999999,19,19,1,11442,11615,0.98510545492172197,1443,1468,0.98299999999999998,1,1,1,33153,40787,0.81299999999999994,607,40787,1.4999999999999999E-2,868,875,0.99199999999999999,44,49,0.89800000000000002,0,0,"N/A",369,369,1,0,0,"N/A",232,240,0.9667,39,39,1,10123,11116,0.91066932678222701,1229,1259,0.97619999999999996,1,1,1,37396,46817,0.79879999999999995,1435,46817,3.0700000000000002E-2,1110,1118,0.99280000000000002,71,82,0.8659,0,0,"N/A",354,355,0.99719999999999998,0,0,"N/A",113,114,0.99119999999999997,65,65,1,10394,10976,0.94697523117065396,1102,1119,0.98480000000000001,1,1,1,35218,45328,0.77700000000000002,1659,45328,3.6600000000000001E-2,1194,1213,0.98429999999999995,47,51,0.92159999999999997,0,0,"N/A",385,385,1,0,0,"N/A",176,176,1,61,61,1,9223,11757,0.78446882963180498,1020,1034,0.98650000000000004,10,10,1,39905,55098,0.72430000000000005,2560,55098,4.65E-2,780,780,1,62,62,1,0,0,"N/A",213,213,1,0,0,"N/A",null,null,"N/A",null,null,"N/A",null,null,"N/A",null,null,"N/A",null,null,"N/A",null,null,"N/A",null,null,"N/A",null,null,"N/A",null,null,"N/A",null,null,"N/A",null,null,"N/A",null,null,"N/A"]
["PowerStream Inc.",8470,8513,0.995,4,4,1,45348,45348,1,2110,2127,0.99199999999999999,17,17,1,229574,302552,0.75900000000000001,3805,302552,1.2999999999999999E-2,45904,46078,0.996,368,383,0.96099999999999997,0,0,"N/A",2281,2281,1,323,298,0.92259999999999998,null,null,"N/A",null,null,"N/A",null,null,"N/A",null,null,"N/A",null,null,"N/A",null,null,"N/A",null,null,"N/A",null,null,"N/A",null,null,"N/A",null,null,"N/A",null,null,"N/A",null,null,"N/A",null,null,"N/A",null,null,"N/A",null,null,"N/A",null,null,"N/A",null,null,"N/A",null,null,"N/A",null,null,"N/A",null,null,"N/A",null,null,"N/A",null,null,"N/A",null,null,"N/A",null,null,"N/A",null,null,"N/A",null,null,"N/A",null,null,"N/A",null,null,"N/A",null,null,"N/A",null,null,"N/A",null,null,"N/A",null,null,"N/A",null,null,"N/A",null,null,"N/A",null,null,"N/A",null,null,"N/A",null,null,"N/A",null,null,"N/A",null,null,"N/A",null,null,"N/A",null,null,"N/A",null,null,"N/A",null,null,"N/A",null,null,"N/A",null,null,"N/A",null,null,"N/A",null,null,"N/A",null,null,"N/A"]
["Renfrew Hydro Inc.",70,70,1,0,0,"N/A",739,751,0.98402130603790305,111,116,0.95699999999999996,5,5,1,7259,7902,0.91900000000000004,2,7902,0,169,170,0.99399999999999999,7,7,1,0,0,"N/A",14,14,1,0,0,"N/A",81,81,1,0,0,"N/A",872,887,0.98308908939361594,193,198,0.97470000000000001,3,3,1,6972,7066,0.98670000000000002,5,7066,6.9999999999999999E-4,416,421,0.98809999999999998,3,3,1,0,0,"N/A",25,25,1,1,1,1,54,54,1,0,0,"N/A",767,773,0.99223804473876998,153,160,0.95630000000000004,13,13,1,6501,6594,0.9859,4,6594,5.9999999999999995E-4,456,480,0.95,1,1,1,0,0,"N/A",25,25,1,1,1,1,67,67,1,0,0,"N/A",808,814,0.99262899160385099,170,170,1,6,6,1,5726,5797,0.98780000000000001,4,5797,6.9999999999999999E-4,327,329,0.99390000000000001,2,2,1,0,0,"N/A",37,37,1,0,0,"N/A",77,77,1,0,0,"N/A",799,802,0.99625933170318604,190,191,0.99480000000000002,1,1,1,6317,6429,0.98260000000000003,6,6429,8.9999999999999998E-4,643,643,1,3,3,1,0,0,"N/A",13,13,1,0,0,"N/A"]
["Rideau St. Lawrence Distribution Inc.",89,89,1,0,0,"N/A",878,886,0.99097067117690996,69,73,0.94499999999999995,4,4,1,6505,8764,0.74199999999999999,202,8764,2.3E-2,208,208,1,2,2,1,0,0,"N/A",81,81,1,0,0,"N/A",88,90,0.9778,0,0,"N/A",897,900,0.99666666984558105,68,71,0.9577,3,3,1,6383,8760,0.72870000000000001,140,8760,1.6E-2,63,73,0.86299999999999999,5,5,1,0,0,"N/A",60,60,1,0,0,"N/A",77,77,1,0,0,"N/A",737,739,0.99729365110397294,197,197,1,2,2,1,6321,8235,0.76759999999999995,54,8235,6.6E-3,160,188,0.85109999999999997,4,4,1,0,0,"N/A",51,52,0.98080000000000001,0,0,"N/A",62,62,1,0,0,"N/A",723,723,1,190,190,1,0,0,"N/A",5766,7175,0.80359999999999998,23,7175,3.2000000000000002E-3,304,362,0.83979999999999999,4,4,1,0,0,"N/A",32,32,1,0,0,"N/A",115,115,1,0,0,"N/A",772,772,1,173,173,1,0,0,"N/A",5785,7435,0.77810000000000001,31,7435,4.1999999999999997E-3,608,746,0.81499999999999995,3,3,1,0,0,"N/A",8,8,1,0,0,"N/A"]
["Sioux Lookout Hydro Inc.",17,17,1,0,0,"N/A",126,135,0.93333333730697599,100,109,0.91739999999999999,9,9,1,3769,4009,0.94010000000000005,112,4009,2.7900000000000001E-2,110,110,1,39,39,1,54,54,1,17,17,1,0,0,"N/A",18,18,1,0,0,"N/A",183,186,0.98387098312377896,38,38,1,3,3,1,3968,4242,0.93540000000000001,131,4242,3.09E-2,97,97,1,1,1,1,2,2,1,23,23,1,0,0,"N/A",23,23,1,0,0,"N/A",218,221,0.986425340175629,54,54,1,3,3,1,3425,3676,0.93169999999999997,128,3676,3.4799999999999998E-2,103,103,1,1,1,1,6,6,1,12,12,1,0,0,"N/A",29,29,1,0,0,"N/A",143,144,0.99305558204650901,81,81,1,1,1,1,2366,2506,0.94410000000000005,0,2506,0,109,110,0.9909,1,1,1,0,0,"N/A",12,12,1,1,1,1,40,40,1,0,0,"N/A",241,241,1,32,32,1,0,0,"N/A",2772,3029,0.91520000000000001,0,3029,0,84,84,1,0,0,"N/A",4,4,1,11,11,1,0,0,"N/A"]
["St. Thomas Energy Inc.",188,191,0.98399999999999999,0,0,"N/A",3333,3536,0.94259047508239702,482,482,1,0,0,"N/A",19289,25438,0.75800000000000001,523,25438,2.1000000000000001E-2,1137,1137,1,13,13,1,0,0,"N/A",581,581,1,4,4,1,291,304,0.95720000000000005,0,0,"N/A",3660,3990,0.91729325056076105,620,620,1,0,0,"N/A",18238,23607,0.77259999999999995,482,23607,2.0400000000000001E-2,953,953,1,23,23,1,0,0,"N/A",327,327,1,13,13,1,null,null,"N/A",null,null,"N/A",null,null,"N/A",null,null,"N/A",null,null,"N/A",null,null,"N/A",null,null,"N/A",null,null,"N/A",null,null,"N/A",null,null,"N/A",null,null,"N/A",null,null,"N/A",null,null,"N/A",null,null,"N/A",null,null,"N/A",null,null,"N/A",null,null,"N/A",null,null,"N/A",null,null,"N/A",null,null,"N/A",null,null,"N/A",null,null,"N/A",null,null,"N/A",null,null,"N/A",null,null,"N/A",null,null,"N/A",null,null,"N/A",null,null,"N/A",null,null,"N/A",null,null,"N/A",null,null,"N/A",null,null,"N/A",null,null,"N/A",null,null,"N/A",null,null,"N/A",null,null,"N/A"]
["Synergy North Corporation",null,null,"N/A",null,null,"N/A",null,null,"N/A",null,null,"N/A",null,null,"N/A",null,null,"N/A",null,null,"N/A",null,null,"N/A",null,null,"N/A",null,null,"N/A",null,null,"N/A",null,null,"N/A",null,null,"N/A",null,null,"N/A",null,null,"N/A",null,null,"N/A",null,null,"N/A",null,null,"N/A",null,null,"N/A",null,null,"N/A",null,null,"N/A",null,null,"N/A",null,null,"N/A",null,null,"N/A",null,null,"N/A",null,null,"N/A",null,null,"N/A",null,null,"N/A",null,null,"N/A",null,null,"N/A",null,null,"N/A",null,null,"N/A",null,null,"N/A",null,null,"N/A",null,null,"N/A",null,null,"N/A",302,303,0.99670000000000003,20,20,1,9978,10057,0.99214476346969604,886,886,1,3,3,1,46353,51014,0.90859999999999996,212,51014,4.1999999999999997E-3,714,724,0.98619999999999997,92,92,1,34,34,1,522,522,1,1,1,1,235,238,0.98740000000000006,17,18,0.94440000000000002,9162,10351,0.885131895542145,415,415,1,2,2,1,42031,48032,0.87509999999999999,231,48032,4.7999999999999996E-3,589,605,0.97360000000000002,85,86,0.98839999999999995,26,26,1,40,41,0.97560000000000002,0,0,"N/A"]
["Thunder Bay Hydro Electricity Distribution Inc.",774,774,1,19,19,1,7875,7940,0.99181360006332397,1094,1094,1,0,0,"N/A",49395,52950,0.93300000000000005,140,52950,3.0000000000000001E-3,167,167,1,66,69,0.95699999999999996,39,39,1,808,808,1,3,3,1,818,818,1,22,22,1,8610,8954,0.96158140897750899,1086,1086,1,0,0,"N/A",44306,46733,0.94810000000000005,110,46733,2.3999999999999998E-3,268,268,1,56,60,0.93330000000000002,24,25,0.96,716,716,1,1,1,1,461,465,0.99139999999999995,24,24,1,8678,9293,0.933821141719818,858,858,1,4,4,1,40606,42837,0.94789999999999996,103,42837,2.3999999999999998E-3,425,441,0.9637,80,88,0.90910000000000002,38,42,0.90480000000000005,455,455,1,0,0,"N/A",null,null,"N/A",null,null,"N/A",null,null,"N/A",null,null,"N/A",null,null,"N/A",null,null,"N/A",null,null,"N/A",null,null,"N/A",null,null,"N/A",null,null,"N/A",null,null,"N/A",null,null,"N/A",null,null,"N/A",null,null,"N/A",null,null,"N/A",null,null,"N/A",null,null,"N/A",null,null,"N/A",null,null,"N/A",null,null,"N/A",null,null,"N/A",null,null,"N/A",null,null,"N/A",null,null,"N/A"]
["Tillsonburg Hydro Inc.",160,164,0.97599999999999998,0,0,"N/A",265,268,0.98880594968795799,230,234,0.98299999999999998,4,4,1,4271,6678,0.64,547,6678,8.2000000000000003E-2,62,62,1,5,5,1,0,0,"N/A",107,107,1,0,0,"N/A",188,189,0.99470000000000003,0,0,"N/A",438,442,0.990950226783752,238,238,1,0,0,"N/A",5503,6507,0.84570000000000001,167,6507,2.5700000000000001E-2,49,49,1,10,10,1,0,0,"N/A",121,121,1,0,0,"N/A",192,196,0.97960000000000003,0,0,"N/A",305,309,0.987055003643036,138,138,1,0,0,"N/A",4932,5593,0.88180000000000003,137,5593,2.4500000000000001E-2,20,20,1,10,10,1,0,0,"N/A",76,76,1,0,0,"N/A",227,228,0.99560000000000004,0,0,"N/A",233,240,0.97083336114883401,126,128,0.98440000000000005,2,2,1,3738,4419,0.84589999999999999,126,4419,2.8500000000000001E-2,9,9,1,8,8,1,0,0,"N/A",35,35,1,1,1,1,284,284,1,0,0,"N/A",327,331,0.98791539669036899,156,157,0.99360000000000004,1,1,1,0,0,"N/A",0,0,"N/A",12,13,0.92310000000000003,9,9,1,0,0,"N/A",29,33,0.87880000000000003,0,0,"N/A"]
["Toronto Hydro-Electric System Limited",2973,3044,0.97699999999999998,69,69,1,81894,113715,0.72016882896423295,11029,11086,0.995,4167,4167,1,371345,573631,0.64700000000000002,17637,573631,3.1E-2,40007,42967,0.93100000000000005,1090,1187,0.91800000000000004,0,0,"N/A",7647,7670,0.997,124,124,1,2577,2621,0.98319999999999996,62,63,0.98409999999999997,143448,175348,0.81807607412338301,14473,14565,0.99370000000000003,93,93,1,379426,486943,0.7792,9204,486943,1.89E-2,47302,47800,0.98960000000000004,1141,1219,0.93600000000000005,0,0,"N/A",6115,6153,0.99380000000000002,158,146,0.92410000000000003,5564,5575,0.998,117,117,1,153334,188033,0.81546324491500899,19680,19747,0.99660000000000004,77,77,1,346131,431878,0.80149999999999999,6009,431878,1.3899999999999999E-2,53678,54565,0.98370000000000002,1089,1257,0.86629999999999996,0,0,"N/A",5167,5185,0.99650000000000005,269,269,1,5811,5826,0.99739999999999995,138,139,0.99280000000000002,172379,187762,0.91807180643081698,17995,18170,0.99039999999999995,175,175,1,331870,443881,0.74770000000000003,15487,443881,3.49E-2,58162,58542,0.99350000000000005,1011,1094,0.92410000000000003,0,0,"N/A",5159,5162,0.99939999999999996,22,22,1,7022,7041,0.99729999999999996,87,87,1,160185,170184,0.94124597311019897,16435,16459,0.99850000000000005,24,24,1,286336,409721,0.69889999999999997,10964,409721,2.6800000000000001E-2,64726,67243,0.96260000000000001,1020,1155,0.8831,0,0,"N/A",193,194,0.99480000000000002,27,27,1]
["Veridian Connections Inc.",1285,1310,0.98099999999999998,12,12,1,18829,20155,0.93420988321304299,1285,1285,1,0,0,"N/A",108877,142867,0.76200000000000001,3399,142867,2.4E-2,16381,16410,0.998,26,27,0.96299999999999997,4,4,1,3572,3573,1,38,37,0.97370000000000001,1286,1304,0.98619999999999997,18,18,1,22627,24299,0.93119060993194602,1577,1584,0.99560000000000004,7,7,1,87364,108080,0.80830000000000002,1977,108080,1.83E-2,18586,18596,0.99950000000000006,34,34,1,4,4,1,1594,1594,1,19,19,1,1603,1675,0.95699999999999996,4,4,1,25376,26143,0.97066134214401201,1249,1261,0.99050000000000005,10,10,1,74417,92019,0.80869999999999997,2320,92019,2.52E-2,12708,12732,0.99809999999999999,108,121,0.89259999999999995,2,2,1,1823,1823,1,50,50,1,null,null,"N/A",null,null,"N/A",null,null,"N/A",null,null,"N/A",null,null,"N/A",null,null,"N/A",null,null,"N/A",null,null,"N/A",null,null,"N/A",null,null,"N/A",null,null,"N/A",null,null,"N/A",null,null,"N/A",null,null,"N/A",null,null,"N/A",null,null,"N/A",null,null,"N/A",null,null,"N/A",null,null,"N/A",null,null,"N/A",null,null,"N/A",null,null,"N/A",null,null,"N/A",null,null,"N/A"]
["Wasaga Distribution Inc.",209,209,1,0,0,"N/A",4166,4166,1,26,26,1,0,0,"N/A",22781,22785,1,0,0,"N/A",179,184,0.97299999999999998,14,14,1,0,0,"N/A",172,172,1,2,2,1,290,290,1,0,0,"N/A",3902,4200,0.92904764413833596,17,17,1,0,0,"N/A",20534,20536,0.99990000000000001,0,0,"N/A",145,146,0.99319999999999997,12,12,1,1,1,1,92,92,1,5,5,1,241,241,1,0,0,"N/A",3546,3554,0.99774903059005704,4,4,1,0,0,"N/A",15547,15548,0.99990000000000001,0,0,"N/A",96,96,1,17,17,1,0,0,"N/A",93,93,1,6,6,1,262,262,1,0,0,"N/A",3619,3626,0.99806952476501498,28,28,1,0,0,"N/A",17612,17615,0.99980000000000002,0,17615,0,134,134,1,7,7,1,0,0,"N/A",64,64,1,4,4,1,250,250,1,0,0,"N/A",2214,2237,0.989718377590179,41,41,1,0,0,"N/A",20929,20935,0.99970000000000003,0,0,"N/A",518,520,0.99619999999999997,10,10,1,0,0,"N/A",21,21,1,0,0,"N/A"]
["Waterloo North Hydro Inc.",845,845,1,43,43,1,13105,13123,0.99862837791442904,577,588,0.98099999999999998,11,11,1,42625,49192,0.86699999999999999,2261,49192,4.5999999999999999E-2,6959,6959,1,52,52,1,36,36,1,263,263,1,30,30,1,700,700,1,8,8,1,13263,13313,0.99624425172805797,616,639,0.96399999999999997,50,50,1,30625,42087,0.72770000000000001,1559,42087,3.6999999999999998E-2,7159,7159,1,56,58,0.96550000000000002,31,31,1,173,173,1,76,76,1,635,635,1,9,9,1,12945,12966,0.99838036298751798,1043,1050,0.99329999999999996,21,21,1,29462,31774,0.92720000000000002,325,31774,1.0200000000000001E-2,8133,8133,1,56,59,0.94920000000000004,44,44,1,145,145,1,73,73,1,499,499,1,12,12,1,11811,13994,0.84400457143783603,418,424,0.98580000000000001,2183,2183,1,23619,26032,0.9073,149,26032,5.7000000000000002E-3,8526,8526,1,70,76,0.92110000000000003,43,43,1,128,128,1,8,8,1,600,600,1,12,12,1,11954,12871,0.92875456809997603,316,317,0.99680000000000002,917,917,1,22098,25520,0.8659,193,25520,7.6E-3,8460,8482,0.99739999999999995,38,39,0.97440000000000004,38,40,0.95,53,53,1,1,1,1]
["Welland Hydro-Electric System Corp.",211,211,1,0,0,"N/A",7260,7285,0.996568262577057,1615,1639,0.98499999999999999,2,2,1,34068,34561,0.98599999999999999,340,34561,0.01,3454,3454,1,27,27,1,0,0,"N/A",654,655,0.998,13,13,1,226,226,1,0,0,"N/A",1546,1557,0.99293512105941795,798,809,0.98640000000000005,1110,1110,1,15637,16257,0.96189999999999998,151,16257,9.2999999999999992E-3,3656,3657,0.99970000000000003,16,16,1,0,0,"N/A",232,232,1,23,23,1,310,310,1,0,0,"N/A",2067,2096,0.98616409301757801,856,902,0.94899999999999995,4,4,1,12167,12506,0.97289999999999999,97,12506,7.7999999999999996E-3,4684,4684,1,23,23,1,0,0,"N/A",280,280,1,3,3,1,366,386,0.94820000000000004,0,0,"N/A",1673,1728,0.96817129850387595,1048,1125,0.93159999999999998,22,22,1,10872,12229,0.88900000000000001,402,12229,3.2899999999999999E-2,7500,7500,1,14,14,1,0,0,"N/A",241,241,1,0,0,"N/A",414,438,0.94520000000000004,0,0,"N/A",2093,2102,0.99571835994720503,685,697,0.98280000000000001,9,9,1,11019,12790,0.86150000000000004,473,12790,3.6999999999999998E-2,10953,10953,1,23,23,1,0,0,"N/A",99,99,1,0,0,"N/A"]
["Wellington North Power Inc.",22,22,1,0,0,"N/A",949,952,0.99684876203536998,194,196,0.99,2,2,1,5241,5245,0.999,0,5245,0,416,416,1,4,4,1,0,0,"N/A",37,37,1,1,1,1,35,35,1,0,0,"N/A",994,994,1,170,171,0.99419999999999997,1,1,1,4970,4984,0.99719999999999998,0,4984,0,405,405,1,8,8,1,0,0,"N/A",29,29,1,0,0,"N/A",49,49,1,0,0,"N/A",1067,1072,0.99533581733703602,218,220,0.9909,2,2,1,4830,4879,0.99,0,4879,0,350,361,0.96950000000000003,11,11,1,0,0,"N/A",36,36,1,2,2,1,42,42,1,0,0,"N/A",1096,1103,0.99365365505218495,260,265,0.98109999999999997,5,5,1,4872,4921,0.99,2,4921,4.0000000000000002E-4,368,378,0.97350000000000003,10,10,1,0,0,"N/A",58,58,1,0,0,"N/A",31,32,0.96879999999999999,1,1,1,1334,1338,0.99701046943664595,197,198,0.99490000000000001,1,1,1,5047,5846,0.86329999999999996,15,5846,2.5999999999999999E-3,522,522,1,7,7,1,0,0,"N/A",21,21,1,0,0,"N/A"]
["West Coast Huron Energy Inc.",67,67,1,2,2,1,1099,1155,0.95151513814926103,169,173,0.97699999999999998,4,4,1,3833,3893,0.98499999999999999,46,3893,1.2E-2,548,548,1,2,2,1,0,0,"N/A",34,34,1,1,1,1,71,71,1,0,0,"N/A",1765,1780,0.99157303571701105,192,195,0.98460000000000003,3,3,1,3260,3310,0.9849,38,3310,1.15E-2,408,408,1,1,1,1,0,0,"N/A",27,27,1,0,0,"N/A",75,75,1,0,0,"N/A",1654,1688,0.97985780239105202,164,164,1,8,8,1,3056,3092,0.98839999999999995,35,3092,1.1299999999999999E-2,559,559,1,1,1,1,0,0,"N/A",38,38,1,0,0,"N/A",null,null,"N/A",null,null,"N/A",null,null,"N/A",null,null,"N/A",null,null,"N/A",null,null,"N/A",null,null,"N/A",null,null,"N/A",null,null,"N/A",null,null,"N/A",null,null,"N/A",null,null,"N/A",null,null,"N/A",null,null,"N/A",null,null,"N/A",null,null,"N/A",null,null,"N/A",null,null,"N/A",null,null,"N/A",null,null,"N/A",null,null,"N/A",null,null,"N/A",null,null,"N/A",null,null,"N/A"]
["Westario Power Inc.",117,127,0.92100000000000004,0,0,"N/A",4598,4614,0.99653232097625699,314,314,1,0,0,"N/A",18820,22701,0.82899999999999996,374,22701,1.6E-2,1520,1577,0.96399999999999997,4,7,0.57099999999999995,0,0,"N/A",194,194,1,0,0,"N/A",131,142,0.92249999999999999,0,0,"N/A",4597,4614,0.99631553888320901,203,214,0.9486,18,18,1,17269,20985,0.82289999999999996,628,20985,2.9899999999999999E-2,1766,1811,0.97519999999999996,5,10,0.5,0,0,"N/A",134,134,1,4,4,1,164,181,0.90610000000000002,0,0,"N/A",3017,3962,0.76148408651351895,402,417,0.96399999999999997,952,952,1,17560,20202,0.86919999999999997,265,20202,1.3100000000000001E-2,1790,1816,0.98570000000000002,0,0,"N/A",16,16,1,145,145,1,4,4,1,191,208,0.91830000000000001,0,0,"N/A",2205,3822,0.57692307233810403,420,442,0.95020000000000004,1539,1539,1,16243,18917,0.85860000000000003,331,18917,1.7500000000000002E-2,2559,2619,0.97709999999999997,0,0,"N/A",7,7,1,159,159,1,4,4,1,209,219,0.95430000000000004,0,0,"N/A",2883,3946,0.73061329126357999,620,637,0.97330000000000005,1085,1085,1,14135,16298,0.86729999999999996,245,16298,1.4999999999999999E-2,2857,2867,0.99650000000000005,0,0,"N/A",30,34,0.88239999999999996,90,90,1,7,7,1]
["Whitby Hydro Electric Corporation",522,549,0.95099999999999996,4,4,1,6628,6857,0.96660345792770397,777,780,0.996,0,3,0,28541,35397,0.80600000000000005,378,35397,1.0999999999999999E-2,2600,2600,1,25,25,1,3,3,1,210,211,0.995,38,30,0.78949999999999998,413,432,0.95599999999999996,4,4,1,4253,6383,0.66630113124847401,1111,1117,0.99460000000000004,3,6,0.5,28654,32587,0.87929999999999997,296,32587,9.1000000000000004E-3,3795,3795,1,38,38,1,3,3,1,216,216,1,37,34,0.91890000000000005,499,505,0.98809999999999998,4,4,1,6970,7259,0.96018737554550204,739,741,0.99729999999999996,289,291,0.99309999999999998,26882,30770,0.87360000000000004,314,30770,1.0200000000000001E-2,4480,4480,1,37,37,1,9,9,1,255,256,0.99609999999999999,33,33,1,null,null,"N/A",null,null,"N/A",null,null,"N/A",null,null,"N/A",null,null,"N/A",null,null,"N/A",null,null,"N/A",null,null,"N/A",null,null,"N/A",null,null,"N/A",null,null,"N/A",null,null,"N/A",null,null,"N/A",null,null,"N/A",null,null,"N/A",null,null,"N/A",null,null,"N/A",null,null,"N/A",null,null,"N/A",null,null,"N/A",null,null,"N/A",null,null,"N/A",null,null,"N/A",null,null,"N/A"]
["Woodstock Hydro Services Inc.",149,149,1,0,0,"N/A",2277,2401,0.94835484027862504,376,376,1,0,0,"N/A",9687,13338,0.72599999999999998,678,13338,5.0999999999999997E-2,57,57,1,3,3,1,0,0,"N/A",282,282,1,9,9,1,null,null,"N/A",null,null,"N/A",null,null,"N/A",null,null,"N/A",null,null,"N/A",null,null,"N/A",null,null,"N/A",null,null,"N/A",null,null,"N/A",null,null,"N/A",null,null,"N/A",null,null,"N/A",null,null,"N/A",null,null,"N/A",null,null,"N/A",null,null,"N/A",null,null,"N/A",null,null,"N/A",null,null,"N/A",null,null,"N/A",null,null,"N/A",null,null,"N/A",null,null,"N/A",null,null,"N/A",null,null,"N/A",null,null,"N/A",null,null,"N/A",null,null,"N/A",null,null,"N/A",null,null,"N/A",null,null,"N/A",null,null,"N/A",null,null,"N/A",null,null,"N/A",null,null,"N/A",null,null,"N/A",null,null,"N/A",null,null,"N/A",null,null,"N/A",null,null,"N/A",null,null,"N/A",null,null,"N/A",null,null,"N/A",null,null,"N/A",null,null,"N/A",null,null,"N/A",null,null,"N/A",null,null,"N/A"]

{"sheet":"2016 Adjusted SAIDI and SAIFI","index":25,"n_rows":60,"n_cols":17,"rows_kept":60,"cut":false,"hidden":true,"merged":[[0,13,0,15]]}
[]
[null,null,null,null,null,"SAIDI","SAIDI","SAIDI","SAIDI",null,null,null,null,"SAIFI","SAIFI","SAIFI","SAIFI"]
[2016,"Total Events Sub Total","Non-Major Events Sub Total","Loss of Supply Non-Major Events","Average Number of Customers","Excluding loss of supply (LOS) and major event days (MED)","Including MED, excluding LOS","Including LOS, excluding MED","Including LOS and MED","Total Events Sub Total","Non-Major Events Sub Total","Loss of Supply Non-Major Events","Average Number of Customers","Excluding loss of supply (LOS) and major event days (MED)","Including MED, excluding LOS","Including LOS, excluding MED","Including LOS and MED"]
["Alectra Utilities Corporation",1626271.94,909287.78,123071,1024463.41666667,{"$f":"(C4-D4)/E4","v":0.76744251401200758},{"$f":"(B4-D4)/E4","v":1.4673056309721764},{"$f":"(C4)/E4","v":0.88757467100053145},{"$f":"B4/E4","v":1.5874377879607005},1460921,1270178,156104,1024463.41666667,{"$f":"(K4-L4)/M4","v":1.087470749931607},{"$f":"(J4-L4)/M4","v":1.2736589504050086},{"$f":"(K4)/M4","v":1.2398471036992413},{"$f":"J4/M4","v":1.4260353041726432}]
["Algoma Power Inc.",72720.03,72720.03,8827.369999999999,11692.916666666701,{"$f":"(C5-D5)/E5","v":5.4642192210383627},{"$f":"(B5-D5)/E5","v":5.4642192210383627},{"$f":"(C5)/E5","v":6.2191523358158252},{"$f":"B5/E5","v":6.2191523358158252},45043,45043,14968,11692.916666666701,{"$f":"(K5-L5)/M5","v":2.5720699853900078},{"$f":"(J5-L5)/M5","v":2.5720699853900078},{"$f":"(K5)/M5","v":3.8521612087089649},{"$f":"J5/M5","v":3.8521612087089649}]
["Atikokan Hydro Inc.",11561.5,1661.5,0,1650,1.0069696969696971,7.0069696969696968,1.0069696969696971,7.0069696969696968,2008,358,0,1650,0.21696969696969698,1.216969696969697,0.21696969696969698,1.216969696969697]
["Bluewater Power Distribution Corporation",63583.350000000006,63583.350000000006,13420.031999999999,36275.333333333299,1.3828492639626575,1.3828492639626575,1.7527985040339642,1.7527985040339642,97067,97067,47055,36275.333333333299,1.378677889474943,1.378677889474943,2.6758403322735402,2.6758403322735402]
["Brantford Power Inc.",25419.260000000002,19572.68,2048.58,39253.5,0.44643407594227263,0.59537824652578752,0.49862254321270716,0.64756671379622199,75757,65758,17173,39253.5,1.2377240246092704,1.4924529022889679,1.6752136752136753,1.9299425528933725]
["Burlington Hydro Inc.",84037,84037,18471,66783.833333333299,0.98176454880547492,0.98176454880547492,1.2583434613666487,1.2583434613666487,48667,48667,8758,66783.833333333299,0.59758474481099499,0.59758474481099499,0.72872426710057114,0.72872426710057114]
["Canadian Niagara Power Inc.",164796.58999999997,164796.58999999997,64791.56,28854,3.4658983156581398,3.4658983156581398,5.7113949539058702,5.7113949539058702,116172,116172,50042,28854,2.2918832744160254,2.2918832744160254,4.0262008733624457,4.0262008733624457]
["Centre Wellington Hydro Ltd.",26134.84,686.34,0,6830.75,0.10047798557991436,3.8260571679537385,0.10047798557991436,3.8260571679537385,11538,781,0,6830.75,0.114335907477217,1.6891263770449805,0.114335907477217,1.6891263770449805]
["Chapleau Public Utilities Corporation",20599,20599,18321,1250,1.8224,1.8224,16.479199999999999,16.479199999999999,3602,3602,2811,1250,0.63280000000000003,0.63280000000000003,2.8816000000000002,2.8816000000000002]
["Cooperative Hydro Embrun Inc.",53158,53158,53070,2117.3333333333298,4.1561712846347673E-2,4.1561712846347673E-2,25.106108312342609,25.106108312342609,11107,11107,10622,2117.3333333333298,0.22906171284634799,0.22906171284634799,5.2457493702770863,5.2457493702770863]
["E.L.K. Energy Inc.",4917.5200000000004,4917.5200000000004,2000,11655.416666666701,0.25031451757051371,0.25031451757051371,0.42190855467772376,0.42190855467772376,2018,2018,1000,11655.416666666701,8.7341364887569897E-2,8.7341364887569897E-2,0.17313838344117491,0.17313838344117491]
["Elexicon Energy Inc.",277759,277759,87574,87826,2.1654749163117981,2.1654749163117981,3.1626056065402044,3.1626056065402044,287623,287623,80732,87826,2.3556919363286499,2.3556919363286499,3.2749185890283061,3.2749185890283061]
["Energy Plus Inc.",122628.8,45182.399999999994,5280.7000000000007,16791.166666666701,2.3763506605655702,6.9886805562448373,2.6908433998034624,7.3031732954827291,128838,83883,3057,16791.166666666701,4.8136023901456024,7.4909029549266828,4.9956624018581097,7.6729629666391892]
["Entegrus Powerlines Inc.",58634.080000000002,58634.080000000002,20119.86,23002.666666666701,1.674337178298166,1.674337178298166,2.549012288430323,2.549012288430323,57547,57547,15338,23002.666666666701,1.8349611639230208,1.8349611639230208,2.5017534198933422,2.5017534198933422]
["EnWin Utilities Ltd.",85037.24,70436.02,14416.830000000004,161956,0.34589141495220926,0.43604688927856949,0.43490837017461537,0.52506384450097565,186063,165256,36414,161956,0.79553705944824515,0.92401022499938257,1.0203759045666725,1.1488490701178098]
["EPCOR Electricity Distribution Ontario Inc.",99992.219999999987,34976.389999999985,9105.41,63653.166666666701,0.40643665279810598,1.4278442811171992,0.54948389579989421,1.5708915241189876,34626,20813,6718,63653.166666666701,0.22143438791995149,0.438438517067755,0.3269750915770096,0.54397922072481308]
["ERTH Power Corporation",109152.70000000001,90752.700000000012,62139.3,57665.333333333299,0.49619759994450785,0.81528012208374823,1.5737826308122742,1.8928651529515146,29541,22041,17284,57665.333333333299,8.2493236837846012E-2,0.21255404749242771,0.38222271035168465,0.5122835210062664]
["Espanola Regional Hydro Distribution Corporation",34264.799999999996,27410.3,25587,3285.5,0.55495358392938643,2.6412418201187022,8.3428093136508892,10.429097549840206,15181,9302,5686,3285.5,1.1005935169684979,2.8899710850707656,2.8312281235732764,4.6206056916755438]
["Essex Powerlines Corporation",73838.000000000015,73838.000000000015,55502.2,29095,0.63020450249183768,0.63020450249183768,2.5378243684481876,2.5378243684481876,93238,93238,78593,29095,0.50335109125279254,0.50335109125279254,3.2046056023371712,3.2046056023371712]
["Festival Hydro Inc.",81787.5,33650.86,6293.0500000000029,20782.5,1.3163868639480332,3.6325971370143146,1.6191921087453387,3.9354023818116204,35897,21814,2554,20782.5,0.92674124864669793,1.6043786839889329,1.0496331047756526,1.7272705401178876]
["Fort Frances Power Corporation",23447.64,23447.64,22201.93,3742.5833333333298,0.33284763198325584,0.33284763198325584,6.2650949655986343,6.2650949655986343,12600,12600,11291,3742.5833333333298,0.34975841107969124,0.34975841107969124,3.3666585023713598,3.3666585023713598]
["Greater Sudbury Hydro Inc.",61581.8,61581.8,4682.62,47774.75,1.1909885452043183,1.1909885452043183,1.2890030821720679,1.2890030821720679,43395,43395,1881,47774.75,0.86895274177258908,0.86895274177258908,0.90832500431713403,0.90832500431713403]
["Grimsby Power Incorporated",13318.639999999998,13318.639999999998,7197,11228.666666666701,0.54517959983375697,0.54517959983375697,1.1861283619307685,1.1861283619307685,15790,15790,8010,11228.666666666701,0.69286944131092831,0.69286944131092831,1.4062221694472439,1.4062221694472439]
["Halton Hills Hydro Inc.",78206.799999999988,39411.799999999996,8406.73,22460.666666666701,1.380416283280399,3.1076579798759263,1.7547030364192189,3.4819447330147457,72302,47085,10054,22460.666666666701,1.648704401769016,2.7714226351251035,2.0963313644593482,3.2190495978154354]
["Hearst Power Distribution Company Limited",9070,9070,2998.59,2768,2.1934284682080922,2.1934284682080922,3.276734104046243,3.276734104046243,4790,4790,1271,2768,1.2713150289017341,1.2713150289017341,1.7304913294797688,1.7304913294797688]
["Hydro 2000 Inc.",18,18,18,1222,0,0,1.4729950900163666E-2,1.4729950900163666E-2,195,195,195,1222,0,0,0.15957446808510639,0.15957446808510639]
["Hydro Hawkesbury Inc.",42366.23,42366.23,34654.730000000003,5534.9166666666697,1.3932459085502635,1.3932459085502635,7.6543573375088414,7.6543573375088414,10092,10092,6751,5534.9166666666697,0.60362245742934972,0.60362245742934972,1.8233336846384307,1.8233336846384307]
["Hydro One Networks Inc. 2020",17776522.040000003,11177025.269999998,589075.25,1416529.4166666635,7.4745712269888891,12.133490902324507,7.8904293398307637,12.549349015166381,4687189,4037739,619378,1416529.4166666635,2.4131945018438019,2.8716742145547931,2.8504448636876827,3.3089245763986739]
["Hydro Ottawa Limited",394088,352297,26002,325886.83333333302,1.0012524797718645,1.1294902473813773,1.0810409134868402,1.2092786810963532,311092,298795,58466,325886.83333333302,0.73746152166319567,0.77519547941233258,0.91686735835190325,0.95460131610104004]
["Innpower Corporation",266231.40000000002,18349.200000000012,0,16330.416666666701,1.1236210547801888,16.302792845661184,1.1236210547801888,16.302792845661184,58353,22071,0,16330.416666666701,1.3515270584032835,3.5732707371214172,1.3515270584032835,3.5732707371214172]
["Kingston Hydro Corporation",51599,51599,15433,27403.583333333299,1.3197544116797393,1.3197544116797393,1.882928935692719,1.882928935692719,26454,26454,10388,27403.583333333299,0.58627369291728948,0.58627369291728948,0.96534820567869895,0.96534820567869895]
["Kitchener-Wilmot Hydro Inc.",253123,105215,800,93804.833333333299,1.1131089549401332,2.6898720570546302,1.1216373001391191,2.6984004022536161,169540,112168,8000,93804.833333333299,1.1104758283599463,1.7220861043052158,1.1957592803498047,1.8073695562950742]
["Lakefront Utilities Inc.",6915.4699999999993,6915.4699999999993,1.25,10270.666666666701,0.67320070102557217,0.67320070102557217,0.67332240685446998,0.67332240685446998,3810,3810,1,10270.666666666701,0.37086200181747248,0.37086200181747248,0.37095936648059075,0.37095936648059075]
["Lakeland Power Distribution Ltd.",96839.83600000001,96839.83600000001,69875.59,13424.416666666701,2.0085972202392366,2.0085972202392366,7.2137090500518157,7.2137090500518157,35683,35683,25907,13424.416666666701,0.7282253108452863,0.7282253108452863,2.6580670792647658,2.6580670792647658]
["London Hydro Inc.",152760.95999999999,152760.95999999999,3083.75,154722.5,0.96739136195446684,0.96739136195446684,0.98732220588472908,0.98732220588472908,192051,192051,33231,154722.5,1.026482896799108,1.026482896799108,1.2412609672154986,1.2412609672154986]
["Milton Hydro Distribution Inc.",30007,30007,2604,36920.916666666701,0.74220800765600281,0.74220800765600281,0.81273713409968529,0.81273713409968529,26755,26755,4803,36920.916666666701,0.59456811969728041,0.59456811969728041,0.72465698079904961,0.72465698079904961]
["Newmarket-Tay Power Distribution Ltd.",87357.489999999991,42535.839999999997,22995.420000000002,42267,0.46230913005417923,1.5227498994487423,1.0063605176615324,2.0668012870560957,50111,29863,4803,42267,0.59289753235384579,1.0719473821184375,0.70653228286843162,1.1855821326330234]
["Niagara Peninsula Energy Inc.",90448,90448,8885.58,53670.833333333299,1.5196786584892488,1.5196786584892488,1.6852356183526134,1.6852356183526134,75931,75931,1923,53670.833333333299,1.3789239965841169,1.3789239965841169,1.414753512926016,1.414753512926016]
["Niagara-on-the-Lake Hydro Inc.",3083.6000000000004,3083.6000000000004,6.3,9138.0833333333303,0.33675551948348043,0.33675551948348043,0.33744494195537006,0.33744494195537006,9377,9377,5,9138.0833333333303,1.0255980010396057,1.0255980010396057,1.0261451617315815,1.0261451617315815]
["North Bay Hydro Distribution Limited",57234.516999999993,57234.516999999993,1703.45,24199.583333333299,2.2947116995816073,2.2947116995816073,2.3651034074278168,2.3651034074278168,48623,48623,651,24199.583333333299,1.9823481809259829,1.9823481809259829,2.0092494705487383,2.0092494705487383]
["Northern Ontario Wires Inc.",27202.25,27202.25,6272.75,6047,3.4611377542583099,3.4611377542583099,4.4984703158591035,4.4984703158591035,16051,16051,4562,6047,1.8999503886224574,1.8999503886224574,2.6543740697866709,2.6543740697866709]
["Oakville Hydro Electricity Distribution Inc.",34595.729999999996,34595.729999999996,0,68795.666666666701,0.50287658621909292,0.50287658621909292,0.50287658621909292,0.50287658621909292,61741,61741,0,68795.666666666701,0.89745478155116309,0.89745478155116309,0.89745478155116309,0.89745478155116309]
["Orangeville Hydro Limited",18857.820000000003,18857.820000000003,10626.67,12005.833333333299,0.68559589088637685,0.68559589088637685,1.5707214548483424,1.5707214548483424,15890,15890,2400,12005.833333333299,1.1236204622752861,1.1236204622752861,1.323523287290904,1.323523287290904]
["Oshawa PUC Networks Inc.",149128,149128,22,57078.5,2.6122970996084338,2.6122970996084338,2.6126825337035835,2.6126825337035835,118940,118940,1176,57078.5,2.0631936718729471,2.0631936718729471,2.0837968762318559,2.0837968762318559]
["Ottawa River Power Corporation",36777.78,17464.739999999998,496.32,10956.666666666701,1.5486845147550909,3.31135929418922,1.5939829631883125,3.3566577426224415,12961,9532,376,10956.666666666701,0.83565561302098923,1.1486157590508026,0.86997261940979342,1.1829327654396069]
["PUC Distribution Inc.",84823.849999999991,52519.850000000006,2486.75,33519.5,1.4926565133728129,2.4563940392905619,1.566844672504065,2.530582198421814,73927,50287,3045,33519.5,1.4093885648652278,2.1146496815286624,1.5002312086994138,2.2054923253628487]
["Renfrew Hydro Inc.",1434.75,1434.75,0,4276.0833333333303,0.33552900824352527,0.33552900824352527,0.33552900824352527,0.33552900824352527,1183,1183,0,4276.0833333333303,0.27665503868415431,0.27665503868415431,0.27665503868415431,0.27665503868415431]
["Rideau St. Lawrence Distribution Inc.",14429.67,14429.67,8522.67,5858,1.0083646295664048,1.0083646295664048,2.4632417207237967,2.4632417207237967,6136,6136,3886,5858,0.38409013315124618,0.38409013315124618,1.0474564697849096,1.0474564697849096]
["Sioux Lookout Hydro Inc.",70507.149999999994,52112.479999999989,50237.569999999992,2794.1666666666702,0.67100864897106849,7.2542487324783691,18.65045511482252,25.233695198329819,14442,9972,8384,2794.1666666666702,0.56832687145839478,2.1680882791529945,3.5688637041455369,5.1686251118401367]
["Synergy North Corporation",109872.03,109872.03,21162.23,56188.583333333299,1.5787869125252323,1.5787869125252323,1.9554155574308554,1.9554155574308554,162900,162900,23627,56188.583333333299,2.4786707857319783,2.4786707857319783,2.8991654591754275,2.8991654591754275]
["Tillsonburg Hydro Inc.",45657,45657,30761,7122.8333333333303,2.0913026183400811,2.0913026183400811,6.4099492243255289,6.4099492243255289,22150,22150,14231,7122.8333333333303,1.1117766806280278,1.1117766806280278,3.1097175749350692,3.1097175749350692]
["Toronto Hydro-Electric System Limited",722807.79999999993,722807.79999999993,35866,758624.41666666698,0.90550974224948555,0.90550974224948555,0.95278741907089903,0.95278741907089903,1059187,1059187,91577,758624.41666666698,1.2754796428140269,1.2754796428140269,1.3961941861217442,1.3961941861217442]
["Wasaga Distribution Inc.",38013.646000000001,16843.175999999999,2061.4499999999998,13270,1.113920572720422,2.7092837980406936,1.2692672192916352,2.8646304446119064,34126,18306,366,13270,1.3519216277317256,2.5440844009042953,1.3795026375282593,2.5716654107008288]
["Waterloo North Hydro Inc.",159521.15,40934.180000000008,1582.8099999999995,55703.583333333299,0.70644234437341769,2.8353353689095422,0.73485721295607909,2.8637502374922037,166453,68714,4802,55703.583333333299,1.147358862311372,2.901985659211034,1.2335651656162163,2.9881919625158782]
["Welland Hydro-Electric System Corp.",18775.770000000004,18775.770000000004,4497.42,22744.666666666701,0.62776694902834285,0.62776694902834285,0.8255020957294007,0.8255020957294007,28861,28861,12505,22744.666666666701,0.71911363836210584,0.71911363836210584,1.2689128586921457,1.2689128586921457]
["Wellington North Power Inc.",18915.57,17594.57,16330.52,3748.3333333333298,0.33722987994664305,0.68965317919075186,4.6939715429079634,5.0463948421520719,11270,10986,10230,3748.3333333333298,0.20168963983992905,0.27745664739884418,2.9309026233881754,3.0066696309470906]
["Westario Power Inc.",138474,138474,82623.75,23200.5,2.4072864808948085,2.4072864808948085,5.9685782633994959,5.9685782633994959,38853,38853,24345,23200.5,0.6253313506174436,0.6253313506174436,1.6746621840046552,1.6746621840046552]

{"sheet":"2017 Adjusted SAIDI and SAIFI","index":26,"n_rows":59,"n_cols":17,"rows_kept":59,"cut":false,"hidden":true,"merged":[]}
[null,null,null,null,null,"SAIDI","SAIDI","SAIDI","SAIDI",null,null,null,null,"SAIFI","SAIFI","SAIFI","SAIFI"]
[2017,"Total Events Sub Total","Non-Major Events Sub Total","Loss of Supply Non-Major Events","Average Number of Customers","Excluding loss of supply (LOS) and major event days (MED)","Including MED, excluding LOS","Including LOS, excluding MED","Including LOS and MED","Total Events Sub Total","Non-Major Events Sub Total","Loss of Supply Non-Major Events","Average Number of Customers","Excluding loss of supply (LOS) and major event days (MED)","Including MED, excluding LOS","Including LOS, excluding MED","Including LOS and MED"]
["Alectra Utilities Corporation",1138848,903052.59000000008,71417,1034326.25,{"$f":"(C3-D3)/E3","v":0.80403604762037129},{"$f":"(B3-D3)/E3","v":1.032006100589635},{"$f":"(C3)/E3","v":0.87308292717119007},{"$f":"B3/E3","v":1.1010529801404538},1382350,1267750,116138,1034326.25,{"$f":"(K3-L3)/M3","v":1.1133933804735208},{"$f":"(J3-L3)/M3","v":1.2241901431003999},{"$f":"(K3)/M3","v":1.2256771013981325},{"$f":"J3/M3","v":1.3364738640250116}]
["Algoma Power Inc.",186319.81,142926.07,52956.87,11719.833333333299,{"$f":"(C4-D4)/E4","v":7.6766620685732398},{"$f":"(B4-D4)/E4","v":11.379252264679565},{"$f":"(C4)/E4","v":12.195230592016419},{"$f":"B4/E4","v":15.897820788122743},70002,60368,14055,11719.833333333299,{"$f":"(K4-L4)/M4","v":3.9516773560488745},{"$f":"(J4-L4)/M4","v":4.7737026977061818},{"$f":"(K4)/M4","v":5.1509264921287423},{"$f":"J4/M4","v":5.9729518337860492}]
["Atikokan Hydro Inc.",4314.32,4314.32,20.5,1567.5,2.7392791068580542,2.7392791068580542,2.7523572567783092,2.7523572567783092,3786,3786,41,1567.5,2.3891547049441786,2.3891547049441786,2.4153110047846891,2.4153110047846891]
["Bluewater Power Distribution Corporation",114413.36000000002,87512.44,39844.759999999995,36502,1.3058922798750756,2.0428634047449461,2.3974697276861541,3.1344408525560246,80137,68062,32883,36502,0.96375541066242942,1.2945592022354939,1.8646101583474879,2.1954139499205523]
["Brantford Power Inc.",23955,23955,12348,39469.083333333299,0.2940782764568895,0.2940782764568895,0.60693074114971901,0.60693074114971901,62685,62685,20609,39469.083333333299,1.0660495873352358,1.0660495873352358,1.5882051141294149,1.5882051141294149]
["Burlington Hydro Inc.",101496,70807,1110,66984.75,1.0404905594183751,1.4986396157334319,1.0570614953403574,1.5152105516554142,64578,46693,3574,66984.75,0.64371368109905613,0.91071475223838261,0.69706910901361874,0.96407018015294521]
["Canadian Niagara Power Inc.",280125.30999999994,259159.48999999996,168833.12,29036.666666666701,3.1107692572609298,3.8328156354035063,8.9252493399150374,9.6472957180576149,153195,144959,85614,29036.666666666701,2.0437952014694041,2.3274365744461001,4.9922741361496898,5.2759155091263858]
["Centre Wellington Hydro Ltd.",883.15299999999991,883.15299999999991,0,6886.1666666666697,0.12825030858968456,0.12825030858968456,0.12825030858968456,0.12825030858968456,565,565,0,6886.1666666666697,8.2048551443715631E-2,8.2048551443715631E-2,8.2048551443715631E-2,8.2048551443715631E-2]
["Chapleau Public Utilities Corporation",20875,20875,19705,1246.9166666666699,0.9383145091224997,0.9383145091224997,16.74129519481383,16.74129519481383,4001,4001,3140,1246.9166666666699,0.69050324132860874,0.69050324132860874,3.2087148299137791,3.2087148299137791]
["Cooperative Hydro Embrun Inc.",206.3,206.3,2.2999999999999998,2185.4166666666702,9.3346043851286795E-2,9.3346043851286795E-2,9.439847473784542E-2,9.439847473784542E-2,2190,2190,2175,2185.4166666666702,6.863679694947558E-3,6.863679694947558E-3,1.0020972354623434,1.0020972354623434]
["E.L.K. Energy Inc.",7396.68,7396.68,0,11743.5,0.62985311023119173,0.62985311023119173,0.62985311023119173,0.62985311023119173,2409,2409,0,11743.5,0.20513475539660236,0.20513475539660236,0.20513475539660236,0.20513475539660236]
["Elexicon Energy Inc.",308401,281995,122637,88292.083333333299,1.8048956824177336,2.1039711940953567,3.1938877117144338,3.4929632233920569,328455,266118,84022,88292.083333333299,2.0624272655626927,2.7684588557864296,3.0140641148460849,3.7200957050698218]
["Energy Plus Inc.",101426,101426,2882,17022.083333333299,5.7891856167233859,5.7891856167233859,5.9584950921597066,5.9584950921597066,156979,156979,16414,17022.083333333299,8.2578023645754453,8.2578023645754453,9.2220791618730757,9.2220791618730757]
["Entegrus Powerlines Inc.",160559.08999999997,160559.08999999997,82677.939999999988,23283.583333333299,3.3448953661914906,3.3448953661914906,6.8958067021470866,6.8958067021470866,116727,116727,63518,23283.583333333299,2.2852582112575774,2.2852582112575774,5.0132747321968703,5.0132747321968703]
["EnWin Utilities Ltd.",64468.239999999991,64468.239999999991,514.12,163321.75,0.39158360720479657,0.39158360720479657,0.39473150391787981,0.39473150391787981,154589,154589,4746,163321.75,0.91747118800772098,0.91747118800772098,0.94653039169614583,0.94653039169614583]
["EPCOR Electricity Distribution Ontario Inc.",76995.820000000007,76995.820000000007,51349.560000000005,64602.833333333299,0.39698351723479647,0.39698351723479647,1.1918334851154626,1.1918334851154626,36463,36463,22243,64602.833333333299,0.22011418487837231,0.22011418487837231,0.56441796928411325,0.56441796928411325]
["ERTH Power Corporation",77647.299999999988,77647.299999999988,59270.7,57890.25,0.31743860149161546,0.31743860149161546,1.341284585919045,1.341284585919045,22870,22870,14170,57890.25,0.15028437431173644,0.15028437431173644,0.39505788971372552,0.39505788971372552]
["Espanola Regional Hydro Distribution Corporation",31146.74,17964.59,16821,3286,0.34801886792452835,4.3596287279367019,5.4670085209981742,9.4786183810103477,15744,5881,5541,3286,0.10346926354230067,3.1049908703590994,1.7897139379184419,4.7912355447352404]
["Essex Powerlines Corporation",97660.67,97660.67,73066.569999999992,29669.916666666701,0.8289237976738496,0.8289237976738496,3.2915721030561222,3.2915721030561222,39186,39186,22416,29669.916666666701,0.56521897881973537,0.56521897881973537,1.3207317175927342,1.3207317175927342]
["Festival Hydro Inc.",58197.899999999994,44924.97,9257.89,21077.25,1.6922074748840574,2.3219352619530533,2.1314436181190621,2.7611714051880578,53210,48659,8147,21077.25,1.9220723766145964,2.1379923851546097,2.3086028775101117,2.524522886050125]
["Fort Frances Power Corporation",437.09000000000003,437.09000000000003,0,3750.6666666666702,0.11653661571276208,0.11653661571276208,0.11653661571276208,0.11653661571276208,685,685,0,3750.6666666666702,0.18263419836473499,0.18263419836473499,0.18263419836473499,0.18263419836473499]
["Greater Sudbury Hydro Inc.",120808.12,120808.12,42058.340000000004,47791.416666666701,1.6477808253574113,1.6477808253574113,2.5278204419552308,2.5278204419552308,94629,94629,30610,47791.416666666701,1.3395501632964069,1.3395501632964069,1.9800417438975255,1.9800417438975255]
["Grimsby Power Incorporated",13594.78,13594.78,0,11321.75,1.2007666659306204,1.2007666659306204,1.2007666659306204,1.2007666659306204,11259,11259,0,11321.75,0.99445757060525097,0.99445757060525097,0.99445757060525097,0.99445757060525097]
["Halton Hills Hydro Inc.",38000.61,38000.61,766.38,22618.25,1.6462029555779074,1.6462029555779074,1.6800862135664785,1.6800862135664785,36483,36483,10846,22618.25,1.1334652327213643,1.1334652327213643,1.6129895106827452,1.6129895106827452]
["Hearst Power Distribution Company Limited",36997.130000000005,36997.130000000005,25047.1,2763,4.3250199058993868,4.3250199058993868,13.390202678248283,13.390202678248283,13437,13437,8550,2763,1.768729641693811,1.768729641693811,4.8631921824104234,4.8631921824104234]
["Hydro 2000 Inc.",0,0,0,0,"N/A","N/A","N/A","N/A",0,0,0,0,"n/a","n/a","n/a","n/a"]
["Hydro Hawkesbury Inc.",23298.159999999996,23298.159999999996,341.08,5553.6666666666697,4.1336798511493873,4.1336798511493873,4.1950951323449948,4.1950951323449948,12601,12601,4093,5553.6666666666697,1.5319608666946753,1.5319608666946753,2.2689514434907858,2.2689514434907858]
["Hydro One Networks Inc. 2020",18153825.549999997,11916996.913999999,840738.14000000013,1430504.7500000035,7.7429024783035301,12.102782189293642,8.3306237983480802,12.690503509338193,4932857,3998186,701075,1430504.7500000035,2.3048584774010656,2.9582439345272986,2.7949477273668544,3.4483331844930873]
["Hydro Ottawa Limited",520304,388183,21772,329901.08333333302,1.110669283949508,1.5111559954966314,1.1766648235215971,1.5771515350687204,338614,308093,65781,329901.08333333302,0.7344989520848807,0.8270145621932643,0.9338950842083229,1.0264106943167064]
["Innpower Corporation",26040.449999999997,26040.449999999997,0,16935.083333333299,1.5376629383774343,1.5376629383774343,1.5376629383774343,1.5376629383774343,17825,17825,0,16935.083333333299,1.052548703135997,1.052548703135997,1.052548703135997,1.052548703135997]
["Kingston Hydro Corporation",38973,38973,355,27499.666666666701,1.4043079310052227,1.4043079310052227,1.4172171783900394,1.4172171783900394,53217,53217,23738,27499.666666666701,1.0719766300197564,1.0719766300197564,1.9351870931768846,1.9351870931768846]
["Kitchener-Wilmot Hydro Inc.",87578,87578,0,95504.916666666701,0.91699991012679072,0.91699991012679072,0.91699991012679072,0.91699991012679072,97935,97935,0,95504.916666666701,1.0254445888038919,1.0254445888038919,1.0254445888038919,1.0254445888038919]
["Lakefront Utilities Inc.",4672.6400000000003,4672.6400000000003,1348.5,10381.333333333299,0.32020357051117498,0.32020357051117498,0.45010017980991673,0.45010017980991673,1887,1887,78,10381.333333333299,0.1742550732083232,0.1742550732083232,0.18176855895196567,0.18176855895196567]
["Lakeland Power Distribution Ltd.",311171.83,142340.09,122669.44,13510.083333333299,1.4559976807446322,13.952718525052312,10.535841007642466,23.032561851950145,74826,56283,45102,13510.083333333299,0.82760407350065901,2.2001344674656638,4.1659994695320268,5.5385298634970317]
["London Hydro Inc.",221774.98300000001,146475.04300000001,1694.33,156313,0.92622311004203117,1.4079484943670713,0.93706245161950708,1.4187878359445472,236386,179693,23370,156313,1.0000639742056003,1.3627529380153922,1.149571692693506,1.5122606565032979]
["Milton Hydro Distribution Inc.",40303,40303,17228,37829.083333333299,0.6099804163022724,0.6099804163022724,1.0653972142245063,1.0653972142245063,29470,29470,11074,37829.083333333299,0.48629251303560578,0.48629251303560578,0.77903024348550243,0.77903024348550243]
["Newmarket-Tay Power Distribution Ltd.",44989.57,18592.27,2475.25,42832.833333333299,0.37627723280816538,0.99256380424674295,0.43406584512659718,1.0503524165651748,38979,21667,1494,42832.833333333299,0.47097047825461036,0.87514640248718922,0.50585026284353551,0.91002618707611449]
["Niagara Peninsula Energy Inc.",82960.320000000007,82960.320000000007,7628.5,55012.666666666701,1.3693540881493951,1.3693540881493951,1.508022152473975,1.508022152473975,92866,92866,7866,55012.666666666701,1.5450987045407716,1.5450987045407716,1.6880839564221564,1.6880839564221564]
["Niagara-on-the-Lake Hydro Inc.",4688.2000000000007,4688.2000000000007,0,9326.0833333333303,0.50269763119566113,0.50269763119566113,0.50269763119566113,0.50269763119566113,8166,8166,0,9326.0833333333303,0.87560873178272436,0.87560873178272436,0.87560873178272436,0.87560873178272436]
["North Bay Hydro Distribution Limited",32130.79,32130.79,5355.23,24223.416666666701,1.1053585201647151,1.1053585201647151,1.3264350955170769,1.3264350955170769,27124,27124,4368,24223.416666666701,0.93942156522097975,0.93942156522097975,1.1197429484555219,1.1197429484555219]
["Northern Ontario Wires Inc.",59704.85,59704.85,39075.35,6021,3.4262580966616842,3.4262580966616842,9.9161019764158773,9.9161019764158773,27134,27134,17748,6021,1.5588772629131373,1.5588772629131373,4.5065603720312239,4.5065603720312239]
["Oakville Hydro Electricity Distribution Inc.",43853.86,36031.289999999994,1111.33,70157.75,0.49773489030078633,0.60923461770082421,0.51357533558302526,0.62507506298306315,87131,58165,2476,70157.75,0.79376832922948637,1.2066378981652062,0.82906022499296228,1.2419297939286822]
["Orangeville Hydro Limited",11961.54,9381.5,5491.3,12266.5,0.31714017853503446,0.52747238413565412,0.76480658704601967,0.97513879264663927,16182,11941,6479,12266.5,0.44527778910039539,0.79101618228508541,0.973464313373823,1.319202706558513]
["Oshawa PUC Networks Inc.",42791,42791,1122,57345,0.72663702153631526,0.72663702153631526,0.74620280756822743,0.74620280756822743,67507,67507,11218,57345,0.9815851425582004,0.9815851425582004,1.1772081262533787,1.1772081262533787]
["Ottawa River Power Corporation",48188.03,48188.03,37714.58,11067.5,0.94632482493788095,0.94632482493788095,4.3540121978766662,4.3540121978766662,28177,28177,21363,11067.5,0.61567653038174841,0.61567653038174841,2.5459227467811161,2.5459227467811161]
["PUC Distribution Inc.",65951.840000000011,48109.49,0,33644.166666666701,1.4299504124043281,1.9602756297525556,1.4299504124043281,1.9602756297525556,54002,40866,0,33644.166666666701,1.2146533574418534,1.6050925123225903,1.2146533574418534,1.6050925123225903]
["Renfrew Hydro Inc.",11271.13,11271.13,9371.9,4285.9166666666697,0.44313274095389898,0.44313274095389898,2.6298061480430071,2.6298061480430071,17974,17974,17172,4285.9166666666697,0.18712449689875743,0.18712449689875743,4.1937352958332497,4.1937352958332497]
["Rideau St. Lawrence Distribution Inc.",22542.1,22542.1,19890.599999999999,5888,0.4503226902173913,0.4503226902173913,3.8284816576086955,3.8284816576086955,9877,9877,8163,5888,0.29110054347826086,0.29110054347826086,1.6774796195652173,1.6774796195652173]
["Sioux Lookout Hydro Inc.",46618.839999999989,27067.260000000002,22934.94,2829.0833333333298,1.4606568676544258,8.3715809007629165,9.5675018409968011,16.478425874105291,9740,6618,2842,2829.0833333333298,1.3347079442693468,2.43824560369967,2.3392736163068162,3.4428112757371392]
["Synergy North Corporation",198675.18,119717.08,15678.26,56311.25,1.8475672267974872,3.2497399720304556,2.1259886789939841,3.5281614242269526,252571,202391,37087,56311.25,2.9355412994739063,3.8266598592643568,3.5941485937534683,4.4852671535439192]
["Tillsonburg Hydro Inc.",21539.822999999997,8748.7429999999986,549.31299999999999,7190.75,1.1402746584153249,2.9190988422626289,1.2166662726419357,2.9954904564892391,16397,13169,5230,7190.75,1.1040572958314501,1.5529673538921531,1.8313805931231095,2.2802906511838126]
["Toronto Hydro-Electric System Limited",860306.8899999999,752460.49666999991,59009.17,762333.41666666698,0.90964309252261721,1.0511118920953326,0.98704907881404857,1.128517878386764,1134017,1090842,191909,762333.41666666698,1.1791861413220217,1.2358214652578192,1.4309250731389289,1.4875603970747264]
["Wasaga Distribution Inc.",35237.550000000003,13956.25,7916,13490.833333333299,0.44772994008277339,2.0251936500092707,1.034498733708076,2.6119624436345736,32456,18664,12499,13490.833333333299,0.45697695966397051,1.4793007597751597,1.3834579035147356,2.4057817036259248]
["Waterloo North Hydro Inc.",48814.93,43243.79,185.60000000000002,56578.083333333299,0.76104009650379978,0.85950826070754782,0.76432051869319295,0.86278868289694088,91158,86370,1711,56578.083333333299,1.4963214554516848,1.5809478640875378,1.5265628475101529,1.6111892561460057]
["Welland Hydro-Electric System Corp.",44656,44656,2746,22929.666666666701,1.8277631598075246,1.8277631598075246,1.9475206791783541,1.9475206791783541,52182,52182,16477,22929.666666666701,1.5571530331884436,1.5571530331884436,2.2757417610373718,2.2757417610373718]
["Wellington North Power Inc.",14403,14403,14029,3796.3333333333298,9.8516112037931425E-2,9.8516112037931425E-2,3.7939239617174501,3.7939239617174501,15345,15345,14745,3796.3333333333298,0.15804723856352634,0.15804723856352634,4.0420581262621864,4.0420581262621864]
["Westario Power Inc.",49089,49089,20880,23421.666666666701,1.2043976375151195,1.2043976375151195,2.0958798832989367,2.0958798832989367,16668,16668,10645,23421.666666666701,0.25715505585995835,0.25715505585995835,0.71164875827225405,0.71164875827225405]

{"sheet":"2018 Adjusted SAIDI and SAIFI","index":27,"n_rows":59,"n_cols":17,"rows_kept":59,"cut":false,"hidden":true,"merged":[]}
[null,null,null,null,null,"SAIDI","SAIDI","SAIDI","SAIDI",null,null,null,null,"SAIFI","SAIFI","SAIFI","SAIFI"]
[2018,"Total Events Sub Total","Non-Major Events Sub Total","Loss of Supply Non-Major Events","Average Number of Customers","Excluding loss of supply (LOS) and major event days (MED)","Including MED, excluding LOS","Including LOS, excluding MED","Including LOS and MED","Total Events Sub Total","Non-Major Events Sub Total","Loss of Supply Non-Major Events","Average Number of Customers","Excluding loss of supply (LOS) and major event days (MED)","Including MED, excluding LOS","Including LOS, excluding MED","Including LOS and MED"]
["Alectra Utilities Corporation",1959068.79,1190589.7799999998,102122.68000000001,1046296.16666667,{"$f":"(C3-D3)/E3","v":1.0403049678253908},{"$f":"(B3-D3)/E3","v":1.7747805728046673},{"$f":"(C3)/E3","v":1.1379089572630527},{"$f":"B3/E3","v":1.8723845622423292},1880490,1596544,203288,1046296.16666667,{"$f":"(K3-L3)/M3","v":1.3316076694027159},{"$f":"(J3-L3)/M3","v":1.6029897207243851},{"$f":"(K3)/M3","v":1.5259006492266243},{"$f":"J3/M3","v":1.7972827005482934}]
["Algoma Power Inc.",162206.64000000001,110061.85000000003,21905.55,11732.166666666701,{"$f":"(C4-D4)/E4","v":7.5140681601863628},{"$f":"(B4-D4)/E4","v":11.958668333499038},{"$f":"(C4)/E4","v":9.3812040969982569},{"$f":"B4/E4","v":13.825804270310929},49921,38848,13070,11732.166666666701,{"$f":"(K4-L4)/M4","v":2.1972071086613663},{"$f":"(J4-L4)/M4","v":3.1410225448553031},{"$f":"(K4)/M4","v":3.3112383333570001},{"$f":"J4/M4","v":4.2550537695509369}]
["Atikokan Hydro Inc.",1906.75,1906.75,0,1636.0833333333301,1.1654357459379638,1.1654357459379638,1.1654357459379638,1.1654357459379638,989,989,0,1636.0833333333301,0.604492436204351,0.604492436204351,0.604492436204351,0.604492436204351]
["Bluewater Power Distribution Corporation",135856.75999999995,100321.07999999999,41529.33,36815.166666666701,1.5969437414833543,2.5621894056344496,2.7249932319560299,3.6902388961071249,138037,122298,60678,36815.166666666701,1.6737666994128311,2.1012807221661345,3.3219461182212009,3.7494601409745045]
["Brantford Power Inc.",53676,53676,26482,39760.5,0.68394512141446917,0.68394512141446917,1.349983023352322,1.349983023352322,61956,61956,26447,39760.5,0.8930722702179299,0.8930722702179299,1.5582299015354435,1.5582299015354435]
["Burlington Hydro Inc.",249253.2,100311.3,3294.3999999999996,67501.666666666701,1.4372519197056857,3.6437441050838237,1.4860566405767752,3.6925488259549129,110334,72469,15048,67501.666666666701,0.85066047751907314,1.4116095898866687,1.0735883064615683,1.6345374188291639]
["Canadian Niagara Power Inc.",342312.73,304515.52999999997,232912.37,29253.75,2.4476574798102799,3.7397037986582911,10.409452805195913,11.701499124043925,190933,173705,111074,29253.75,2.1409562876554289,2.7298722386018888,5.9378712130923388,6.5267871640387982]
["Centre Wellington Hydro Ltd.",8835.4600000000009,2153.46,0,7011.3333333333303,0.30713986878387389,1.2601682989445666,0.30713986878387389,1.2601682989445666,11570,4888,0,7011.3333333333303,0.69715698393077907,1.6501854140914716,0.69715698393077907,1.6501854140914716]
["Chapleau Public Utilities Corporation",28236.25,28236.25,12890,1226.25,12.514780835881753,12.514780835881753,23.026503567787973,23.026503567787973,9185,9185,3680,1226.25,4.4892966360856272,4.4892966360856272,7.4903160040774717,7.4903160040774717]
["Cooperative Hydro Embrun Inc.",65022.25,65022.25,63651,2286.1666666666702,0.59980316395713262,0.59980316395713262,28.441605307282892,28.441605307282892,6958,6958,6830,2286.1666666666702,5.598891885980891E-2,5.598891885980891E-2,3.043522636144925,3.043522636144925]
["E.L.K. Energy Inc.",35253.9,35253.9,15803.279999999999,11952.583333333299,1.6273151550222804,1.6273151550222804,2.9494795406850765,2.9494795406850765,13507,13507,7751,11952.583333333299,0.48156953517719459,0.48156953517719459,1.1300485947947128,1.1300485947947128]
["Elexicon Energy Inc.",873265,325790.63,107242,90677.166666666701,2.4101837103423676,8.447804757904871,3.5928629221248261,9.6304839696873312,424779,313263,122709,90677.166666666701,2.1014551623617108,3.3312686214647922,3.45470653214793,4.6845199912510118]
["Energy Plus Inc.",107876,41550,11217,17223.333333333299,1.7611573446874429,5.6120959938068626,2.4124250048384024,6.2633636539578212,156587,120799,42374,17223.333333333299,4.5534159086510639,6.6312947551770982,7.0136829881943239,9.0915618347203591]
["Entegrus Powerlines Inc.",246150.06999999998,205371.56999999998,95646.26999999999,23656.333333333299,4.6383054573123541,6.3620933083459059,8.6814624695289613,10.405250320562514,136448,120258,50138,23656.333333333299,2.9641110907579407,3.6484944130535921,5.0835435190012612,5.7679268412969122]
["EnWin Utilities Ltd.",120107.87999999999,104795.28000000001,4346.49,164964.25,0.60891247649111857,0.70173622466685959,0.63526054887649908,0.72808429705224009,269263,221709,20027,164964.25,1.2225800438579875,1.5108485626431181,1.3439821052137053,1.6322506239988361]
["EPCOR Electricity Distribution Ontario Inc.",33259.227999999996,33259.227999999996,24627.07,65819.583333333299,0.13114877917539738,0.13114877917539738,0.50530900251318334,0.50530900251318334,18524,18524,15095,65819.583333333299,5.2096956959364955E-2,5.2096956959364955E-2,0.28143599612577325,0.28143599612577325]
["ERTH Power Corporation",62239.35,62239.35,39803.1,58173.75,0.38567652936247021,0.38567652936247021,1.0698871913878683,1.0698871913878683,19900,19900,11728,58173.75,0.14047573003287564,0.14047573003287564,0.34207868669288122,0.34207868669288122]
["Espanola Regional Hydro Distribution Corporation",920.75,920.75,377,3297,0.16492265696087352,0.16492265696087352,0.27926903245374585,0.27926903245374585,221,221,13,3297,6.3087655444343346E-2,6.3087655444343346E-2,6.7030633909614806E-2,6.7030633909614806E-2]
["Essex Powerlines Corporation",243696.53,243696.53,188982.67,30051.5,1.8206698500906773,1.8206698500906773,8.1092967073191016,8.1092967073191016,173225,173225,134448,30051.5,1.2903515631499261,1.2903515631499261,5.7642713342096066,5.7642713342096066]
["Festival Hydro Inc.",99634.44,35710.200000000004,16105.630000000005,21258,0.92222081098880415,3.9292882679461849,1.6798475867908553,4.6869150437482361,66354,32881,17295,21258,0.73318280176874584,2.3077900084674003,1.5467588672499766,3.1213660739486313]
["Fort Frances Power Corporation",20260.37,20260.37,19608.75,3744.3333333333298,0.17402830944538403,0.17402830944538403,5.4109418677112124,5.4109418677112124,4291,4291,3735,3744.3333333333298,0.1484910531469778,0.1484910531469778,1.1459983975785641,1.1459983975785641]
["Greater Sudbury Hydro Inc.",127678.42,69187.62,2475.92,47908.333333333299,1.3924863454513838,2.6133762393459752,1.4441667072534363,2.6650566011480277,75982,69210,1835,47908.333333333299,1.4063315359192914,1.5476848147503925,1.4446338493651081,1.5859871281962092]
["Grimsby Power Incorporated",23170.62,23170.62,3253,11543.416666666701,1.7254527472368759,1.7254527472368759,2.0072583940341118,2.0072583940341118,15790,15790,2271,11543.416666666701,1.1711437255001012,1.1711437255001012,1.3678792385270062,1.3678792385270062]
["Halton Hills Hydro Inc.",35039.089999999997,35039.089999999997,1378.04,22814.833333333299,1.4754019680178851,1.4754019680178851,1.5358030228871589,1.5358030228871589,39507,39507,2982,22814.833333333299,1.6009321421005365,1.6009321421005365,1.7316365814638164,1.7316365814638164]
["Hearst Power Distribution Company Limited",12667.188799999998,12667.188799999998,5263.7404000000006,2768,2.6746562138728316,2.6746562138728316,4.5762965317919067,4.5762965317919067,11728,11728,5930,2768,2.0946531791907512,2.0946531791907512,4.2369942196531793,4.2369942196531793]
["Hydro 2000 Inc.",50,50,3,1260.25,3.7294187661178341E-2,3.7294187661178341E-2,3.9674667724657803E-2,3.9674667724657803E-2,2287,2287,1267,1260.25,0.80936322158301921,0.80936322158301921,1.8147193017258481,1.8147193017258481]
["Hydro Hawkesbury Inc.",62435.757999999994,62435.757999999994,46176.95,5560,2.9242460431654673,2.9242460431654673,11.22945287769784,11.22945287769784,31030,31030,20359,5560,1.9192446043165468,1.9192446043165468,5.5809352517985609,5.5809352517985609]
["Hydro One Networks Inc. 2020",31802101.560000006,10653138.060000002,1161443.6299999997,1428716.58333333,6.6435110649132305,21.446281430087748,7.4564390056600525,22.259209370834569,6066921,4072629,935755,1428716.58333333,2.1955887098905076,3.5914512786213399,2.8505506602983317,4.2464132290291641]
["Hydro Ottawa Limited",7615767,304803,21123,333610.66666666698,0.85033252334057985,22.764991527049474,0.9136488441616567,22.828307847870551,677019,342048,80678,333610.66666666698,0.78345816280854252,1.7875357702391594,1.0252909579230072,2.0293685653536238]
["Innpower Corporation",92313.241361100008,54397.241361099994,6929.62,17874.333333333299,2.6556303094437133,4.7768842489845875,3.0433158175279318,5.1645697570688052,24013,17275,1501,17874.333333333299,0.88249445200753573,1.2594595602633223,0.96646961192025993,1.3434347201760464]
["Kingston Hydro Corporation",49182,49182,7810,27560.583333333299,1.5011293302330944,1.5011293302330944,1.7845050449464384,1.7845050449464384,42083,42083,14400,27560.583333333299,1.0044417298859798,1.0044417298859798,1.5269270425456665,1.5269270425456665]
["Kitchener-Wilmot Hydro Inc.",165072.08000000002,68660.640000000014,1105.18,97119.583333333299,0.69559050483295981,1.6882990471369068,0.7069700841316765,1.6996786264356236,143504,100931,6545,97119.583333333299,0.97185342811911468,1.4102099216172508,1.0392445739144616,1.4776010674125974]
["Lakefront Utilities Inc.",5573.02,5573.02,2164.67,10508.5,0.32434219917209883,0.32434219917209883,0.53033449112623121,0.53033449112623121,2879,2879,1585,10508.5,0.12313841176190703,0.12313841176190703,0.27396869201122903,0.27396869201122903]
["Lakeland Power Distribution Ltd.",127783.07800000001,101939.24800000002,63458.290000000008,13644,2.820357519788919,4.7145109938434473,7.4713608912342435,9.3655143652887727,57074,54448,33966,13644,1.501172676634418,1.6936382292582821,3.9906185869246555,4.1830841395485194]
["London Hydro Inc.",226899.56,142088.24,11823.439999999999,158106.58333333299,0.82390497127728879,1.3603236213545848,0.8986864240841772,1.4351050741614733,348412,283494,62633,158106.58333333299,1.3969121041238561,1.8075085424969166,1.7930562663688405,2.2036527047419008]
["Milton Hydro Distribution Inc.",118001,34424,5221,39319.75,0.74270563775202025,2.868278664030163,0.87548878108329786,3.0010618073614403,71993,38279,5587,39319.75,0.83143967090329918,1.6888713687141959,0.97353111349894139,1.830962811309838]
["Newmarket-Tay Power Distribution Ltd.",61497.84,42132.57,13542.899999999998,43261,0.6608647511615543,1.1085028085342457,0.97391576708813943,1.4215538244608308,62360,41139,7225,43261,0.78393934490649775,1.2744735443008715,0.95094889161138207,1.4414830910057557]
["Niagara Peninsula Energy Inc.",131271.247,131271.247,20672.05,55810.833333333299,1.9816797276514428,1.9816797276514428,2.3520746629238665,2.3520746629238665,110389,110389,18202,55810.833333333299,1.6517760888716357,1.6517760888716357,1.9779134875248245,1.9779134875248245]
["Niagara-on-the-Lake Hydro Inc.",11698.699999999999,11698.699999999999,4510,9422.1666666666697,0.76295614950559809,0.76295614950559809,1.2416146321617456,1.2416146321617456,6807,6807,2255,9422.1666666666697,0.48311605610882125,0.48311605610882125,0.72244529743689501,0.72244529743689501]
["North Bay Hydro Distribution Limited",53302.85,53302.85,5914.33,24262,1.9531992416123978,1.9531992416123978,2.1969685104278294,2.1969685104278294,38030,38030,3966,24262,1.4040062649410601,1.4040062649410601,1.5674717665485121,1.5674717665485121]
["Northern Ontario Wires Inc.",72398.350000000006,72398.350000000006,44221.5,5961.5,4.7264698481925702,4.7264698481925702,12.144317705275519,12.144317705275519,15355,15355,6586,5961.5,1.4709385221840141,1.4709385221840141,2.5756940367357211,2.5756940367357211]
["Oakville Hydro Electricity Distribution Inc.",55499.31,47274.86,2269.1800000000003,72059,0.62456709085610407,0.73870203583174898,0.65605767496079603,0.77019261993644095,102335,72830,14985,72059,0.80274497286945423,1.2122011129768662,1.0106995656337168,1.4201557057411287]
["Orangeville Hydro Limited",4924.8,4924.8,1215.7,12602.333333333299,0.29431851244478618,0.29431851244478618,0.39078477530616129,0.39078477530616129,4409,4409,2353,12602.333333333299,0.163144391250298,0.163144391250298,0.34985584680085791,0.34985584680085791]
["Oshawa PUC Networks Inc.",114547,78874,716,58325.75,1.3400256319035759,1.9516422849256116,1.352301513482467,1.9639181665045027,99919,79339,4297,58325.75,1.2866015439149947,1.6394474138780899,1.3602739784743445,1.7131198484374397]
["Ottawa River Power Corporation",19422.650000000005,19422.650000000005,13474.41,11233.25,0.52952084214274631,0.52952084214274631,1.7290321144815619,1.7290321144815619,14477,14477,11750,11233.25,0.2427614448178399,0.2427614448178399,1.288763269757194,1.288763269757194]
["PUC Distribution Inc.",78698.84,42903.040000000008,0,33653.916666666701,1.2748305174979624,2.3384749174811228,1.2748305174979624,2.3384749174811228,58920,43221,0,33653.916666666701,1.2842784519880042,1.7507620460223781,1.2842784519880042,1.7507620460223781]
["Renfrew Hydro Inc.",14016.4,14016.4,6374.06,4307.0833333333303,1.7743654832156341,1.7743654832156341,3.2542671955112725,3.2542671955112725,16433,16433,12918,4307.0833333333303,0.81609751378543161,0.81609751378543161,3.8153429428267418,3.8153429428267418]
["Rideau St. Lawrence Distribution Inc.",19686,19686,16963,5996.75,0.4540792929503481,0.4540792929503481,3.2827781715095679,3.2827781715095679,10577,10577,9007,5996.75,0.26180847959311293,0.26180847959311293,1.7637887188893984,1.7637887188893984]
["Sioux Lookout Hydro Inc.",3999.03,3999.03,0,2843.9166666666702,1.4061698948046983,1.4061698948046983,1.4061698948046983,1.4061698948046983,2205,2205,0,2843.9166666666702,0.7753391742608482,0.7753391742608482,0.7753391742608482,0.7753391742608482]
["Synergy North Corporation",145367.21,145367.21,25747.75,56420.75,2.1201323980982174,2.1201323980982174,2.5764848925262425,2.5764848925262425,185834,185834,38748,56420.75,2.6069486846594558,2.6069486846594558,3.2937172937261558,3.2937172937261558]
["Tillsonburg Hydro Inc.",14939.606,14939.606,1651.05,7280.8333333333303,1.8251421769486103,1.8251421769486103,2.0519088016481639,2.0519088016481639,31305,31305,14676,7280.8333333333303,2.2839418564724743,2.2839418564724743,4.299645187135174,4.299645187135174]
["Toronto Hydro-Electric System Limited",2117233.1733299997,751700.35659999982,131948.78330000001,764126.41666666698,0.8110589554062656,2.5981098764918573,0.98373821425926733,2.770789135344859,1560818,1133057,263344,764126.41666666698,1.1381794700855012,1.6979834379498935,1.4828135440503567,2.0426175119147487]
["Wasaga Distribution Inc.",52954.2,10735.2,0,13729.166666666701,0.781926555386948,3.8570585735963485,0.781926555386948,3.8570585735963485,35795,8489,0,13729.166666666701,0.61831866464339758,2.607223065250373,0.61831866464339758,2.607223065250373]
["Waterloo North Hydro Inc.",119365.89,52970.14,367.56000000000131,57196.916666666701,0.91967509903651512,2.0805025329162543,0.92610131956413677,2.0869287534438761,106624,81290,5812,57196.916666666701,1.3196165877239878,1.7625425612977379,1.4212304567699592,1.864156430343709]
["Welland Hydro-Electric System Corp.",33947.47,33947.47,0,23191.666666666701,1.4637787998562681,1.4637787998562681,1.4637787998562681,1.4637787998562681,39537,39537,0,23191.666666666701,1.7047933884297495,1.7047933884297495,1.7047933884297495,1.7047933884297495]
["Wellington North Power Inc.",38394.210000000006,16518.580000000005,15919.380000000005,3826.75,0.15658195596785804,5.8730855164303915,4.3166080878029671,10.033111648265502,17241,11824,10554,3826.75,0.33187430587312994,1.7474358136800157,3.0898281831841641,4.5053896909910502]
["Westario Power Inc.",35819.58,35819.58,22188,23536.666666666701,0.57916357456450851,0.57916357456450851,1.5218629089364091,1.5218629089364091,11660,11660,6709,23536.666666666701,0.21035264126894176,0.21035264126894176,0.49539725251380751,0.49539725251380751]

{"sheet":"2019 Adjusted SAIDI and SAIFI","index":28,"n_rows":59,"n_cols":17,"rows_kept":59,"cut":false,"hidden":true,"merged":[]}
[null,null,null,null,null,"SAIDI","SAIDI","SAIDI","SAIDI",null,null,null,null,"SAIFI","SAIFI","SAIFI","SAIFI"]
[2019,"Total Events Sub Total","Non-Major Events Sub Total","Loss of Supply Non-Major Events","Average Number of Customers","Excluding loss of supply (LOS) and major event days (MED)","Including MED, excluding LOS","Including LOS, excluding MED","Including LOS and MED","Total Events Sub Total","Non-Major Events Sub Total","Loss of Supply Non-Major Events","Average Number of Customers","Excluding loss of supply (LOS) and major event days (MED)","Including MED, excluding LOS","Including LOS, excluding MED","Including LOS and MED"]
["Alectra Utilities Corporation",1475040,1210854.3299999998,77603,1056131.83333333,{"$f":"(C3-D3)/E3","v":1.0730207103248348},{"$f":"(B3-D3)/E3","v":1.3231653055939554},{"$f":"(C3)/E3","v":1.1464992265012404},{"$f":"B3/E3","v":1.3966438217703609},1626406,1587227,254378,1056131.83333333,{"$f":"(K3-L3)/M3","v":1.2620100615595535},{"$f":"(J3-L3)/M3","v":1.2991067560852214},{"$f":"(K3)/M3","v":1.5028682498760066},{"$f":"J3/M3","v":1.5399649444016743}]
["Algoma Power Inc.",190657.25999999998,116580.95000000001,30521.919999999998,11744,{"$f":"(C4-D4)/E4","v":7.3279146798365131},{"$f":"(B4-D4)/E4","v":13.635502384196183},{"$f":"(C4)/E4","v":9.9268520095367858},{"$f":"B4/E4","v":16.234439713896457},57770,47552,7708,11744,{"$f":"(K4-L4)/M4","v":3.3927111716621252},{"$f":"(J4-L4)/M4","v":4.2627724795640329},{"$f":"(K4)/M4","v":4.0490463215258856},{"$f":"J4/M4","v":4.9191076294277929}]
["Atikokan Hydro Inc.",1017.4967,1017.4967,330,1632.6666666666699,0.42108821968150184,0.42108821968150184,0.62321153532053775,0.62321153532053775,1954,1954,1650,1632.6666666666699,0.18619844834626342,0.18619844834626342,1.196815026541443,1.196815026541443]
["Bluewater Power Distribution Corporation",123487.83,123487.83,54253.02,36874.75,1.8775668987586356,1.8775668987586356,3.3488452125099153,3.3488452125099153,107941,107941,38989,36874.75,1.8698974230333765,1.8698974230333765,2.9272334049722373,2.9272334049722373]
["Brantford Power Inc.",43907,43907,18999,39993,0.62280899157352532,0.62280899157352532,1.0978671267471807,1.0978671267471807,54653,54653,10655,39993,1.1001425249418648,1.1001425249418648,1.3665641487260272,1.3665641487260272]
["Burlington Hydro Inc.",142592.10000000003,72145.400000000009,451.1,68111.916666666701,1.0525955443430721,2.0868741764473415,1.0592184676445502,2.0934970997488196,96540,51381,134,68111.916666666701,0.75239403775403924,1.4154057721177027,0.75436138805862374,1.4173731224222872]
["Canadian Niagara Power Inc.",334811.64999999997,122511.04000000001,34034.240000000005,29431,3.0062451156943362,10.219748224661071,4.1626529849478446,11.376156093914579,102466,70577,11680,29431,2.0011892222486494,3.084706601882369,2.3980496755122149,3.4815670551459346]
["Centre Wellington Hydro Ltd.",3168.52,3168.52,0,7113.3333333333303,0.44543392689784461,0.44543392689784461,0.44543392689784461,0.44543392689784461,3415,3415,0,7113.3333333333303,0.48008434864104987,0.48008434864104987,0.48008434864104987,0.48008434864104987]
["Chapleau Public Utilities Corporation",47472.5,47472.5,38942,1233.6666666666699,6.9147527695217326,6.9147527695217326,38.480815995676743,38.480815995676743,6243,6243,3082,1233.6666666666699,2.5622804647392527,2.5622804647392527,5.0605241826533236,5.0605241826533236]
["Cooperative Hydro Embrun Inc.",62.5,62.5,0,2335.4166666666702,2.6761819803746614E-2,2.6761819803746614E-2,2.6761819803746614E-2,2.6761819803746614E-2,204,204,0,2335.4166666666702,8.7350579839428955E-2,8.7350579839428955E-2,8.7350579839428955E-2,8.7350579839428955E-2]
["E.L.K. Energy Inc.",32152.466999999997,32152.466999999997,9784.07,12105.583333333299,1.8477752276842003,1.8477752276842003,2.6560031115119127,2.6560031115119127,15895,15895,7154,12105.583333333299,0.72206351063903218,0.72206351063903218,1.3130304886863537,1.3130304886863537]
["Elexicon Energy Inc.",273498.3,273498.3,49447.5,91263.583333333299,2.4549857875037788,2.4549857875037788,2.9967955455032733,2.9967955455032733,213415,213415,37442,91263.583333333299,1.9281842063692809,1.9281842063692809,2.3384464230438766,2.3384464230438766]
["Energy Plus Inc.",74913.110000000015,74913.110000000015,13319.999999999998,17670.416666666701,3.485662571623942,3.485662571623942,4.2394648305784077,4.2394648305784077,129928,129928,28020,17670.416666666701,5.7671531986134905,5.7671531986134905,7.3528543469546417,7.3528543469546417]
["Entegrus Powerlines Inc.",200185.74000000002,200185.74000000002,97182.200000000012,23925.75,4.305133172418838,4.305133172418838,8.3669577756183209,8.3669577756183209,118419,118419,57545,23925.75,2.5442880578456264,2.5442880578456264,4.9494373217140533,4.9494373217140533]
["EnWin Utilities Ltd.",88240.639999999999,88240.639999999999,8333.5,167322,0.47756505420685863,0.47756505420685863,0.52737022029380476,0.52737022029380476,230034,230034,26577,167322,1.2159608419693764,1.2159608419693764,1.3747982931114857,1.3747982931114857]
["EPCOR Electricity Distribution Ontario Inc.",62952.88,62952.88,33792.1,66749.583333333299,0.43686834499591154,0.43686834499591154,0.94312019425839155,0.94312019425839155,29945,29945,15502,66749.583333333299,0.21637588249614553,0.21637588249614553,0.44861703256574659,0.44861703256574659]
["ERTH Power Corporation",65078.200000000012,65078.200000000012,42636.200000000004,59441.083333333299,0.37755031943394962,0.37755031943394962,1.0948353621863673,1.0948353621863673,29218,29218,15830,59441.083333333299,0.22523142663673987,0.22523142663673987,0.49154555000539779,0.49154555000539779]
["Espanola Regional Hydro Distribution Corporation",1793.4,1793.4,635.20000000000005,3292,0.35182260024301337,0.35182260024301337,0.54477521263669504,0.54477521263669504,866,866,320,3292,0.16585662211421628,0.16585662211421628,0.26306196840826246,0.26306196840826246]
["Essex Powerlines Corporation",94893.23000000001,94893.23000000001,56317.75,30364.583333333299,1.2704103190394529,1.2704103190394529,3.1251286723842235,3.1251286723842235,70912,70912,45323,30364.583333333299,0.84272521440823422,0.84272521440823422,2.335352315608922,2.335352315608922]
["Festival Hydro Inc.",47684.549000000006,47684.549000000006,9236.3170000000009,21515.5,1.7870015570170343,1.7870015570170343,2.2162882108247546,2.2162882108247546,58778,58778,20431,21515.5,1.7822964839301898,1.7822964839301898,2.7318909623294836,2.7318909623294836]
["Fort Frances Power Corporation",2036.8666663920001,2036.8666663920001,0,3756.3333333333298,0.54224864665684669,0.54224864665684669,0.54224864665684669,0.54224864665684669,5232,5232,0,3756.3333333333298,1.3928476351051571,1.3928476351051571,1.3928476351051571,1.3928476351051571]
["Greater Sudbury Hydro Inc.",115271.58000000002,115271.58000000002,24622.97,48072.333333333299,1.8856711067349914,1.8856711067349914,2.3978777813988663,2.3978777813988663,54976,54976,5515,48072.333333333299,1.0288870244145982,1.0288870244145982,1.1436099766324366,1.1436099766324366]
["Grimsby Power Incorporated",64665.369999999995,64665.369999999995,6257.58,11679.25,5.0009880771453643,5.0009880771453643,5.5367741935483865,5.5367741935483865,46371,46371,6155,11679.25,3.4433717918530728,3.4433717918530728,3.9703748100263287,3.9703748100263287]
["Halton Hills Hydro Inc.",37140.950000000004,37140.950000000004,200.2,23046.083333333299,1.6029079416965311,1.6029079416965311,1.6115948841632552,1.6115948841632552,42148,42148,3003,23046.083333333299,1.6985532610385738,1.6985532610385738,1.8288573980394383,1.8288573980394383]
["Hearst Power Distribution Company Limited",30366.613899999997,30366.613899999997,23508.137999999999,2760,2.4849550362318831,2.4849550362318831,11.002396340579709,11.002396340579709,11904,11904,8656,2760,1.1768115942028985,1.1768115942028985,4.3130434782608695,4.3130434782608695]
["Hydro 2000 Inc.",29.274999999999999,29.274999999999999,4,1228.9166666666699,2.0566894961687066E-2,2.0566894961687066E-2,2.3821794263239916E-2,2.3821794263239916E-2,2079,2079,725,1228.9166666666699,1.1017834135756397,1.1017834135756397,1.6917339119820936,1.6917339119820936]
["Hydro Hawkesbury Inc.",21803.63,21803.63,16169.5,5578.1666666666697,1.0100325674504762,1.0100325674504762,3.9087448086288785,3.9087448086288785,6447,6447,2658,5578.1666666666697,0.67925543039827863,0.67925543039827863,1.1557560727837695,1.1557560727837695]
["Hydro One Networks Inc. 2020",13922803.419,11211993.698999999,1375845.4667,1440289.91666667,6.8292835480402818,8.711411367329438,7.7845394661572289,9.6666672854463851,4920855,4473506,935434,1440289.91666667,2.4564998748226503,2.7670963698917266,3.1059760595653154,3.4165725546343917]
["Hydro Ottawa Limited",438470,301361,42548,337403.25,0.76707322765859542,1.1734386079565031,0.89317752570551712,1.2995429060034247,365026,296730,44089,337403.25,0.74878057635781514,0.95119712095245079,0.8794521096047534,1.0818686541993889]
["Innpower Corporation",29280.240000000005,29280.240000000005,784.7,18705,1.5234183373429566,1.5234183373429566,1.5653696872493987,1.5653696872493987,11845,11845,413,18705,0.61117348302592889,0.61117348302592889,0.6332531408714247,0.6332531408714247]
["Kingston Hydro Corporation",59971,24201,0,27657,0.87504067686300036,2.1683841342155694,0.87504067686300036,2.1683841342155694,26832,20057,0,27657,0.72520519217557944,0.97017030046642805,0.72520519217557944,0.97017030046642805]
["Kitchener-Wilmot Hydro Inc.",114778.88999999998,99692.56,47.55,98095.833333333299,1.0157924818417368,1.1695842331053818,1.0162772119101222,1.1700689631737673,112838,104093,1214,98095.833333333299,1.0487601410185621,1.1379076583273164,1.0611357940789199,1.150283311387674]
["Lakefront Utilities Inc.",35942.58,35942.58,27885.82,10596.75,0.76030481043716258,0.76030481043716258,3.3918493877839904,3.3918493877839904,15975,15975,8732,10596.75,0.68351145398353264,0.68351145398353264,1.5075376884422111,1.5075376884422111]
["Lakeland Power Distribution Ltd.",105695.43700000001,105695.43700000001,87915.81700000001,13783.333333333299,1.2899361547763026,1.2899361547763026,7.6683509310761986,7.6683509310761986,51209,51209,42095,13783.333333333299,0.66123337363966306,0.66123337363966306,3.7152841596130686,3.7152841596130686]
["London Hydro Inc.",218878.1,142280.70000000001,15037.349999999999,159806.25,0.79623512847588884,1.2755492979780203,0.89033251202628194,1.3696466815284134,334525,274059,91800,159806.25,1.1404998240056319,1.5188705072548789,1.7149454417458641,2.0933161249951113]
["Milton Hydro Distribution Inc.",15199,15199,1828,40562.166666666701,0.32964215422417414,0.32964215422417414,0.37470878034950433,0.37470878034950433,33725,33725,10218,40562.166666666701,0.57953018617512986,0.57953018617512986,0.83143980638772519,0.83143980638772519]
["Newmarket-Tay Power Distribution Ltd.",66628.87,61300.92,26958.14,43892.5,0.78242934442102863,0.90381568605114759,1.396614911431338,1.5180012530614568,51556,46923,16028,43892.5,0.70387879478270776,0.8094321353306374,1.0690436862789769,1.1745970268269066]
["Niagara Peninsula Energy Inc.",136032.21000000002,136032.21000000002,22408.83,56024.833333333299,2.0280895674239714,2.0280895674239714,2.4280698737762143,2.4280698737762143,102548,102548,11432,56024.833333333299,1.6263502196942436,1.6263502196942436,1.8304025893279479,1.8304025893279479]
["Niagara-on-the-Lake Hydro Inc.",4798.8999999999996,4798.8999999999996,0,9537.25,0.50317439513486584,0.50317439513486584,0.50317439513486584,0.50317439513486584,3653,3653,0,9537.25,0.38302445673543212,0.38302445673543212,0.38302445673543212,0.38302445673543212]
["North Bay Hydro Distribution Limited",42626.98,42626.98,14488.57,24325.416666666701,1.1567493533855178,1.1567493533855178,1.7523638169952529,1.7523638169952529,93620,93620,60864,24325.416666666701,1.3465750843596356,1.3465750843596356,3.8486493893561207,3.8486493893561207]
["Northern Ontario Wires Inc.",27273.5,27273.5,10182,5961.25,2.8671000209687567,2.8671000209687567,4.5751310547284545,4.5751310547284545,16521,16521,6787,5961.25,1.6328790102746906,1.6328790102746906,2.7713986160620676,2.7713986160620676]
["Oakville Hydro Electricity Distribution Inc.",58015.840000000004,58015.840000000004,3708.6,73316.916666666701,0.74071909279690995,0.74071909279690995,0.79130223470481431,0.79130223470481431,98884,98884,11364,73316.916666666701,1.1937217763522057,1.1937217763522057,1.3487201112067126,1.3487201112067126]
["Orangeville Hydro Limited",13307.390000000001,13307.390000000001,9147.35,12697.666666666701,0.32762239781587088,0.32762239781587088,1.0480185335888457,1.0480185335888457,13582,13674,8779,12697.666666666701,0.38550389835402726,0.37825847268526924,1.0768907673325778,1.0696453416638199]
["Oshawa PUC Networks Inc.",58245,58245,0,59316.25,0.98194002486671017,0.98194002486671017,0.98194002486671017,0.98194002486671017,64505,64505,0,59316.25,1.0874760289128189,1.0874760289128189,1.0874760289128189,1.0874760289128189]
["Ottawa River Power Corporation",245269.87,245269.87,159734.69,11358.25,7.5306653753879331,7.5306653753879331,21.593984108467414,21.593984108467414,37804,37804,22510,11358.25,1.3465102458565359,1.3465102458565359,3.3283296282437878,3.3283296282437878]
["PUC Distribution Inc.",437843.98,41591.089999999989,2868.56,33587.333333333299,1.1528908715587234,12.950579186598135,1.2382968777912318,13.035985192830644,115191,44429,4465,33587.333333333299,1.1898533177189825,3.2966594549532595,1.3227903376272814,3.4295964748615586]
["Renfrew Hydro Inc.",2357.5500000000002,2357.5500000000002,360.02,4317.5,0.46265894614939207,0.46265894614939207,0.54604516502605682,0.54604516502605682,5314,5314,4322,4317.5,0.22976259409380428,0.22976259409380428,1.2308048639258831,1.2308048639258831]
["Rideau St. Lawrence Distribution Inc.",25100.5,25100.5,16650,5917,1.4281730606726382,1.4281730606726382,4.2420990366739906,4.2420990366739906,10654,10654,6395,5917,0.71979043434172718,0.71979043434172718,1.8005746155146189,1.8005746155146189]
["Sioux Lookout Hydro Inc.",8912.3610000000008,8912.3610000000008,6498.4,2847.1666666666702,0.84784674822923312,0.84784674822923312,3.1302561610958226,3.1302561610958226,5679,5679,4344,2847.1666666666702,0.46888719779898086,0.46888719779898086,1.9946145290639794,1.9946145290639794]
["Synergy North Corporation",109602.62,109602.62,30181.33,56520.083333333299,1.4051870647749112,1.4051870647749112,1.939180084955054,1.939180084955054,157964,157964,30973,56520.083333333299,2.2468296667408798,2.2468296667408798,2.7948295664815328,2.7948295664815328]
["Tillsonburg Hydro Inc.",61632.273000000001,61632.273000000001,54547.32,7412.25,0.95584377213396765,0.95584377213396765,8.3149209754123241,8.3149209754123241,19046,19046,14860,7412.25,0.56474080070154131,0.56474080070154131,2.5695301696515904,2.5695301696515904]
["Toronto Hydro-Electric System Limited",628362.14633332845,628362.14633332845,68436.046666666254,769119.83333333302,0.72800892058649169,0.72800892058649169,0.81698861360788644,0.81698861360788644,999099,999099,162433,769119.83333333302,1.0878226821611461,1.0878226821611461,1.2990160397632018,1.2990160397632018]
["Wasaga Distribution Inc.",66330.600000000006,30098.6,10720,13940.25,1.3901185416330408,3.9892110973619559,2.1591147934936603,4.7582073492225749,30213,17251,8692,13940.25,0.61397751116371657,1.5438030164451857,1.2374957407507039,2.1673212460321731]
["Waterloo North Hydro Inc.",64851.67,51538.35,2597.85,57584.333333333299,0.84989262125693965,1.081089532453851,0.89500645430180714,1.1262033654987185,105869,94871,20767,57584.333333333299,1.2868777966229248,1.4778672439841865,1.64751408079744,1.8385035281587017]
["Welland Hydro-Electric System Corp.",42141.079999999994,42141.079999999994,1822.83,23531.166666666701,1.7133978340782055,1.7133978340782055,1.7908623315177714,1.7908623315177714,58424,58424,1645,23531.166666666701,2.4129275358212832,2.4129275358212832,2.4828348219028626,2.4828348219028626]
["Wellington North Power Inc.",3217.52,3217.52,2288.58,3834,0.24229003651538863,0.24229003651538863,0.83920709441836205,0.83920709441836205,7867,7867,7115,3834,0.1961398017736046,0.1961398017736046,2.0519040166927489,2.0519040166927489]
["Westario Power Inc.",108507.91,108507.91,82068,23658.5,1.1175649343787646,1.1175649343787646,4.5864239068410928,4.5864239068410928,28966,28966,19902,23658.5,0.38311811822389413,0.38311811822389413,1.224337975780375,1.224337975780375]

{"sheet":"2020","index":29,"n_rows":7,"n_cols":17,"rows_kept":7,"cut":false,"hidden":true,"merged":[[0,0,1,0],[0,1,0,8],[0,9,0,15]]}
["Distributor","SAIDI",null,null,null,null,null,null,null,"SAIFI"]
[null,"Total Events Sub Total","Non-Major Events Sub Total","Loss of Supply Non-Major Events","Average Number of Customers","Excluding loss of supply (LOS) and major event days (MED)","Including MED, excluding LOS","Including LOS, excluding MED","Including LOS and MED","Total Events Sub Total","Non-Major Events Sub Total","Loss of Supply Non-Major Events","Average Number of Customers","Excluding loss of supply (LOS) and major event days (MED)","Including MED, excluding LOS","Including LOS, excluding MED","Including LOS and MED"]
["E.L.K. Energy Inc.",71744.41,71744.41,27719.83,13169.1,{"$f":"(C3-D3)/E3","v":3.343021163177438},{"$f":"(B3-D3)/E3","v":3.343021163177438},{"$f":"(C3)/E3","v":5.4479356979596174},{"$f":"B3/E3","v":5.4479356979596174},28595,28595,13503,13169.1,{"$f":"(K3-L3)/M3","v":1.1460160527294956},{"$f":"(J3-L3)/M3","v":1.1460160527294956},{"$f":"(K3)/M3","v":2.1713708605751343},{"$f":"J3/M3","v":2.1713708605751343}]
["Grimsby Power Incorporated",7520.63,7520.63,0,11774,{"$f":"(C4-D4)/E4","v":0.63874893833871238},{"$f":"(B4-D4)/E4","v":0.63874893833871238},{"$f":"(C4)/E4","v":0.63874893833871238},{"$f":"B4/E4","v":0.63874893833871238},10887,10887,0,11774,{"$f":"(K4-L4)/M4","v":0.92466451503312386},{"$f":"(J4-L4)/M4","v":0.92466451503312386},{"$f":"(K4)/M4","v":0.92466451503312386},{"$f":"J4/M4","v":0.92466451503312386}]
["London Hydro Inc.",153227.57,153227.57,14930.11,161352,0.85711649065397411,0.85711649065397411,0.94964778868560662,0.94964778868560662,238675,238675,69357,161352,1.0493703207893301,1.0493703207893301,1.4792193465218901,1.4792193465218901]
["Ottawa River Power Corporation",30052.76,30052.76,23607.4,11411,0.56483743756024862,0.56483743756024862,2.6336657611077028,2.6336657611077028,69384,69384,63303,11411,0.53290684427306989,0.53290684427306989,6.0804486898606607,6.0804486898606607]
["Rideau St. Lawrence Distribution Inc.",12394.25,12394.25,11693.75,5912,0.11848782138024357,0.11848782138024357,2.096456359945873,2.096456359945873,8146,8146,7666,5912,8.1190798376184037E-2,8.1190798376184037E-2,1.3778755074424898,1.3778755074424898]

{"sheet":"App.2-H_Other_Oper_Rev","index":30,"n_rows":588,"n_cols":22,"rows_kept":588,"cut":false,"hidden":false,"merged":[[8,0,8,12],[9,0,9,12],[63,0,63,12],[64,0,64,1],[103,1,103,12],[88,0,88,1],[81,0,82,12],[87,0,87,1],[94,0,94,1],[89,0,89,1],[90,0,90,1],[91,0,91,1],[93,0,93,1],[99,1,99,12],[67,0,67,1],[68,0,68,1],[74,0,74,12],[65,0,65,1],[66,0,66,1],[73,0,73,12],[72,0,72,12],[71,0,71,12],[70,0,70,12],[100,3,100,10],[124,0,124,1],[125,0,125,1],[126,0,126,1],[127,0,127,1],[128,0,128,1],[78,0,78,12],[115,0,115,1],[107,0,107,1],[108,0,108,1],[109,0,109,1],[112,0,112,1],[113,0,113,1],[114,0,114,1],[110,0,110,1],[111,0,111,1],[116,0,116,1],[121,0,121,1],[92,0,92,1],[104,0,104,3],[118,0,118,3],[100,1,100,2],[144,0,144,1],[149,0,149,1],[150,0,150,1],[151,0,151,1],[152,0,152,1],[129,0,129,1],[130,0,130,1],[136,0,136,1],[142,0,142,1],[143,0,143,1],[140,0,140,1],[141,0,141,1],[137,0,137,1],[138,0,138,1],[139,0,139,1],[135,0,135,1],[132,0,132,3],[146,0,146,3],[153,0,153,1],[154,0,154,1],[155,0,155,1],[156,0,156,1],[157,0,157,1],[160,0,160,3],[173,0,173,1],[174,0,174,1],[175,0,175,1],[181,0,181,1],[186,0,186,1],[187,0,187,1],[188,0,188,1],[189,0,189,1],[180,0,180,1],[183,0,183,3],[158,0,158,1],[163,0,163,1],[178,0,178,1],[179,0,179,1],[176,0,176,1],[177,0,177,1],[164,0,164,1],[165,0,165,1],[166,0,166,1],[167,0,167,1],[168,0,168,1],[169,0,169,1],[170,0,170,1],[171,0,171,1],[172,0,172,1],[195,0,195,1],[200,0,200,1],[201,0,201,1],[202,0,202,1],[203,0,203,1],[190,0,190,1],[191,0,191,1],[192,0,192,1],[193,0,193,1],[194,0,194,1],[197,0,197,3],[209,0,209,1],[214,0,214,1],[215,0,215,1],[216,0,216,1],[217,0,217,1],[204,0,204,1],[205,0,205,1],[206,0,206,1],[207,0,207,1],[208,0,208,1],[211,0,211,3],[223,0,223,1],[228,0,228,1],[229,0,229,1],[230,0,230,1],[231,0,231,1],[218,0,218,1],[219,0,219,1],[220,0,220,1],[221,0,221,1],[222,0,222,1],[225,0,225,3],[237,0,237,1],[242,0,242,1],[243,0,243,1],[244,0,244,1],[245,0,245,1],[232,0,232,1],[233,0,233,1],[234,0,234,1],[235,0,235,1],[236,0,236,1],[239,0,239,3],[251,0,251,1],[256,0,256,1],[257,0,257,1],[258,0,258,1],[259,0,259,1],[246,0,246,1],[247,0,247,1],[248,0,248,1],[249,0,249,1],[250,0,250,1],[253,0,253,3],[265,0,265,1],[270,0,270,1],[271,0,271,1],[272,0,272,1],[273,0,273,1],[260,0,260,1],[261,0,261,1],[262,0,262,1],[263,0,263,1],[264,0,264,1],[267,0,267,3],[279,0,279,1],[284,0,284,1],[285,0,285,1],[286,0,286,1],[287,0,287,1],[274,0,274,1],[275,0,275,1],[276,0,276,1],[277,0,277,1],[278,0,278,1],[281,0,281,3],[293,0,293,1],[298,0,298,1],[299,0,299,1],[300,0,300,1],[301,0,301,1],[288,0,288,1],[289,0,289,1],[290,0,290,1],[291,0,291,1],[292,0,292,1],[295,0,295,3],[307,0,307,1],[312,0,312,1],[313,0,313,1],[314,0,314,1],[315,0,315,1],[302,0,302,1],[303,0,303,1],[304,0,304,1],[305,0,305,1],[306,0,306,1],[309,0,309,3],[321,0,321,1],[326,0,326,1],[327,0,327,1],[328,0,328,1],[329,0,329,1],[316,0,316,1],[317,0,317,1],[318,0,318,1],[319,0,319,1],[320,0,320,1],[323,0,323,3],[335,0,335,1],[340,0,340,1],[341,0,341,1],[342,0,342,1],[343,0,343,1],[330,0,330,1],[331,0,331,1],[332,0,332,1],[333,0,333,1],[334,0,334,1],[337,0,337,3],[349,0,349,1],[354,0,354,1],[355,0,355,1],[356,0,356,1],[357,0,357,1],[344,0,344,1],[345,0,345,1],[346,0,346,1],[347,0,347,1],[348,0,348,1],[351,0,351,3],[363,0,363,1],[368,0,368,1],[369,0,369,1],[370,0,370,1],[371,0,371,1],[358,0,358,1],[359,0,359,1],[360,0,360,1],[361,0,361,1],[362,0,362,1],[365,0,365,3],[377,0,377,1],[382,0,382,1],[383,0,383,1],[384,0,384,1],[385,0,385,1],[372,0,372,1],[373,0,373,1],[374,0,374,1],[375,0,375,1],[376,0,376,1],[379,0,379,3],[391,0,391,1],[396,0,396,1],[397,0,397,1],[398,0,398,1],[399,0,399,1],[386,0,386,1],[387,0,387,1],[388,0,388,1],[389,0,389,1],[390,0,390,1],[393,0,393,3],[405,0,405,1],[410,0,410,1],[411,0,411,1],[412,0,412,1],[413,0,413,1],[400,0,400,1],[401,0,401,1],[402,0,402,1],[403,0,403,1],[404,0,404,1],[407,0,407,3],[419,0,419,1],[424,0,424,1],[425,0,425,1],[426,0,426,1],[427,0,427,1],[414,0,414,1],[415,0,415,1],[416,0,416,1],[417,0,417,1],[418,0,418,1],[421,0,421,3],[433,0,433,1],[438,0,438,1],[439,0,439,1],[440,0,440,1],[441,0,441,1],[428,0,428,1],[429,0,429,1],[430,0,430,1],[431,0,431,1],[432,0,432,1],[435,0,435,3],[447,0,447,1],[452,0,452,1],[453,0,453,1],[454,0,454,1],[455,0,455,1],[442,0,442,1],[443,0,443,1],[444,0,444,1],[445,0,445,1],[446,0,446,1],[449,0,449,3],[461,0,461,1],[466,0,466,1],[467,0,467,1],[468,0,468,1],[469,0,469,1],[456,0,456,1],[457,0,457,1],[458,0,458,1],[459,0,459,1],[460,0,460,1],[463,0,463,3],[475,0,475,1],[480,0,480,1],[481,0,481,1],[482,0,482,1],[483,0,483,1],[470,0,470,1],[471,0,471,1],[472,0,472,1],[473,0,473,1],[474,0,474,1],[477,0,477,3],[489,0,489,1],[494,0,494,1],[495,0,495,1],[496,0,496,1],[497,0,497,1],[484,0,484,1],[485,0,485,1],[486,0,486,1],[487,0,487,1],[488,0,488,1],[491,0,491,3],[503,0,503,1],[508,0,508,1],[509,0,509,1],[510,0,510,1],[511,0,511,1],[498,0,498,1],[499,0,499,1],[500,0,500,1],[501,0,501,1],[502,0,502,1],[505,0,505,3],[517,0,517,1],[522,0,522,1],[523,0,523,1],[524,0,524,1],[525,0,525,1],[512,0,512,1],[513,0,513,1],[514,0,514,1],[515,0,515,1],[516,0,516,1],[519,0,519,3],[531,0,531,1],[536,0,536,1],[537,0,537,1],[538,0,538,1],[539,0,539,1],[526,0,526,1],[527,0,527,1],[528,0,528,1],[529,0,529,1],[530,0,530,1],[533,0,533,3],[556,0,556,1],[557,0,557,1],[558,0,558,1],[545,0,545,1],[550,0,550,1],[551,0,551,1],[552,0,552,1],[553,0,553,1],[540,0,540,1],[541,0,541,1],[542,0,542,1],[543,0,543,1],[544,0,544,1],[547,0,547,3],[554,0,554,1],[555,0,555,1],[587,0,587,1],[582,0,582,1],[583,0,583,1],[584,0,584,1],[585,0,585,1],[586,0,586,1],[573,0,573,1],[578,0,578,1],[579,0,579,1],[580,0,580,1],[581,0,581,1],[575,0,575,3],[568,0,568,1],[569,0,569,1],[570,0,570,1],[571,0,571,1],[572,0,572,1],[559,0,559,1],[564,0,564,1],[565,0,565,1],[566,0,566,1],[567,0,567,1],[561,0,561,3]]}
[null,null,null,null,null,null,null,null,null,null,null,"File Number:",{"$f":"EBNUMBER","v":"EB-2022-0016"}]
[null,null,null,null,null,null,null,null,null,null,null,"Exhibit:"]
[null,null,null,null,null,null,null,null,null,null,null,"Tab:"]
["TO BE UPDATED AT THE DRAFT RATE ORDER STAGE",null,null,null,null,null,null,null,null,null,null,"Schedule:"]
[null,null,null,null,null,null,null,null,null,null,null,"Page:"]
[]
[null,null,null,null,null,null,null,null,null,null,null,"Date:","2023-02-13"]
[]
["Appendix 2-H"]
["Other Operating Revenue"]
[]
["USoA #","USoA Description",{"$f":"D13 - 1 &\" Actual\"&CHAR(178)","v":"2013 Actual²"},"2014 Actual²","2015 Actual²","2016 Actual²","2017 Actual²",{"$f":"I13 - 1 &\" Actual\"&CHAR(178)","v":"2018 Actual²"},{"$f":"J13 - 1 &\" Actual\"&CHAR(178)","v":"2019 Actual²"},{"$f":"J13 & \" Actual\" & CHAR(178)","v":"2020 Actual²"},{"$f":"K13& \" Actual\"","v":"2021 Actual"},"Actual","Test Year",null,"CGAAP"]
[null,null,{"$f":"D13-1","v":2013},2014,{"$f":"F13-1","v":2015},{"$f":"G13-1","v":2016},{"$f":"H13-1","v":2017},{"$f":"I13-1","v":2018},{"$f":"J13-1","v":2019},{"$f":"K13-1","v":2020},2021,{"$f":"BridgeYear","v":2022},{"$f":"TestYear","v":2023},null,"Enter Transition Year"]
[null,"Reporting Basis","MIFRS","MIFRS","MIFRS","MIFRS","MIFRS","MIFRS","MIFRS","MIFRS","MIFRS","MIFRS","MIFRS"]
[4082,"Retail Services Revenues",-32315,-28477,-25698,{"$f":"IFERROR(VLOOKUP($V15,Several_Accounts!$A:$I,5,FALSE),0)","v":-23046.400000000001},{"$f":"IFERROR(VLOOKUP($V15,Several_Accounts!$A:$I,6,FALSE),0)","v":-20102.400000000001},{"$f":"IFERROR(VLOOKUP($V15,Several_Accounts!$A:$I,7,FALSE),0)","v":-18406},{"$f":"IFERROR(VLOOKUP($V15,Several_Accounts!$A:$I,8,FALSE),0)","v":-17422},{"$f":"IFERROR(VLOOKUP($V15,Several_Accounts!$A:$I,9,FALSE),0)","v":-15095},-14230,-13982,-30538,null,null,null,null,null,null,null,null,{"$f":"'LDC Info'!$E$14 & \" \" &'App.2-H_Other_Oper_Rev'!A15","v":"Bluewater Power Distribution Corporation 4082"}]
[4084,"Service Transaction Requests (STR) Revenues",-977,-782,-729,{"$f":"IFERROR(VLOOKUP($V16,Several_Accounts!$A:$I,5,FALSE),0)","v":-1298.4100000000001},{"$f":"IFERROR(VLOOKUP($V16,Several_Accounts!$A:$I,6,FALSE),0)","v":15.84},{"$f":"IFERROR(VLOOKUP($V16,Several_Accounts!$A:$I,7,FALSE),0)","v":-70},{"$f":"IFERROR(VLOOKUP($V16,Several_Accounts!$A:$I,8,FALSE),0)","v":-344},{"$f":"IFERROR(VLOOKUP($V16,Several_Accounts!$A:$I,9,FALSE),0)","v":-484},-170,-158,-255,null,null,null,null,null,null,null,null,{"$f":"'LDC Info'!$E$14 & \" \" &'App.2-H_Other_Oper_Rev'!A16","v":"Bluewater Power Distribution Corporation 4084"}]
["4086","SSS Administration Revenue",-99876,-101103,-102682,{"$f":"IFERROR(VLOOKUP($V17,Several_Accounts!$A:$I,5,FALSE),0)","v":-104266.14},{"$f":"IFERROR(VLOOKUP($V17,Several_Accounts!$A:$I,6,FALSE),0)","v":-109147.93},{"$f":"IFERROR(VLOOKUP($V17,Several_Accounts!$A:$I,7,FALSE),0)","v":-105909},{"$f":"IFERROR(VLOOKUP($V17,Several_Accounts!$A:$I,8,FALSE),0)","v":-107433},{"$f":"IFERROR(VLOOKUP($V17,Several_Accounts!$A:$I,9,FALSE),0)","v":-107878},-110070,-109227,-108000,null,null,null,null,null,null,null,null,{"$f":"'LDC Info'!$E$14 & \" \" &'App.2-H_Other_Oper_Rev'!A17","v":"Bluewater Power Distribution Corporation 4086"}]
[4090,"Electric Services Incidental to Energy Sales",0,0,0,{"$f":"IFERROR(VLOOKUP($V18,Several_Accounts!$A:$I,5,FALSE),0)","v":0},{"$f":"IFERROR(VLOOKUP($V18,Several_Accounts!$A:$I,6,FALSE),0)","v":0},{"$f":"IFERROR(VLOOKUP($V18,Several_Accounts!$A:$I,7,FALSE),0)","v":0},{"$f":"IFERROR(VLOOKUP($V18,Several_Accounts!$A:$I,8,FALSE),0)","v":0},{"$f":"IFERROR(VLOOKUP($V18,Several_Accounts!$A:$I,9,FALSE),0)","v":0},0,0,0,null,null,null,null,null,null,null,null,{"$f":"'LDC Info'!$E$14 & \" \" &'App.2-H_Other_Oper_Rev'!A18","v":"Bluewater Power Distribution Corporation 4090"}]
[4205,"Interdepartmental Rents",0,0,0,{"$f":"IFERROR(VLOOKUP($V19,Several_Accounts!$A:$I,5,FALSE),0)","v":0},{"$f":"IFERROR(VLOOKUP($V19,Several_Accounts!$A:$I,6,FALSE),0)","v":0},{"$f":"IFERROR(VLOOKUP($V19,Several_Accounts!$A:$I,7,FALSE),0)","v":0},{"$f":"IFERROR(VLOOKUP($V19,Several_Accounts!$A:$I,8,FALSE),0)","v":0},{"$f":"IFERROR(VLOOKUP($V19,Several_Accounts!$A:$I,9,FALSE),0)","v":0},0,0,0,null,null,null,null,null,null,null,null,{"$f":"'LDC Info'!$E$14 & \" \" &'App.2-H_Other_Oper_Rev'!A19","v":"Bluewater Power Distribution Corporation 4205"}]
[4210,"Rent from Electric Property",-333732,-337726,-404639,{"$f":"IFERROR(VLOOKUP($V20,Several_Accounts!$A:$I,5,FALSE),0)","v":-400732.83},{"$f":"IFERROR(VLOOKUP($V20,Several_Accounts!$A:$I,6,FALSE),0)","v":-354614.73},{"$f":"IFERROR(VLOOKUP($V20,Several_Accounts!$A:$I,7,FALSE),0)","v":-381949},{"$f":"IFERROR(VLOOKUP($V20,Several_Accounts!$A:$I,8,FALSE),0)","v":-415964},{"$f":"IFERROR(VLOOKUP($V20,Several_Accounts!$A:$I,9,FALSE),0)","v":-361066},-342105,-365202,{"$f":"-426790+(249669-251413)","v":-428534},null,null,null,null,null,null,null,null,{"$f":"'LDC Info'!$E$14 & \" \" &'App.2-H_Other_Oper_Rev'!A20","v":"Bluewater Power Distribution Corporation 4210"}]
[4215,"Other Utility Operating Income",0,0,0,{"$f":"IFERROR(VLOOKUP($V21,Several_Accounts!$A:$I,5,FALSE),0)","v":0},{"$f":"IFERROR(VLOOKUP($V21,Several_Accounts!$A:$I,6,FALSE),0)","v":0},{"$f":"IFERROR(VLOOKUP($V21,Several_Accounts!$A:$I,7,FALSE),0)","v":0},{"$f":"IFERROR(VLOOKUP($V21,Several_Accounts!$A:$I,8,FALSE),0)","v":0},{"$f":"IFERROR(VLOOKUP($V21,Several_Accounts!$A:$I,9,FALSE),0)","v":0},0,0,0,null,null,null,null,null,null,null,null,{"$f":"'LDC Info'!$E$14 & \" \" &'App.2-H_Other_Oper_Rev'!A21","v":"Bluewater Power Distribution Corporation 4215"}]
[4220,"Other Electric Revenues",-26521,-27763,-53696,{"$f":"IFERROR(VLOOKUP($V22,Several_Accounts!$A:$I,5,FALSE),0)","v":-88148.17},{"$f":"IFERROR(VLOOKUP($V22,Several_Accounts!$A:$I,6,FALSE),0)","v":-74154.850000000006},{"$f":"IFERROR(VLOOKUP($V22,Several_Accounts!$A:$I,7,FALSE),0)","v":-79656},{"$f":"IFERROR(VLOOKUP($V22,Several_Accounts!$A:$I,8,FALSE),0)","v":-33643},{"$f":"IFERROR(VLOOKUP($V22,Several_Accounts!$A:$I,9,FALSE),0)","v":-76239},-72915,-94429,-70000,null,null,null,null,null,null,null,null,{"$f":"'LDC Info'!$E$14 & \" \" &'App.2-H_Other_Oper_Rev'!A22","v":"Bluewater Power Distribution Corporation 4220"}]
[4225,"Late Payment Charges",-322067,-326487,-356006,{"$f":"IFERROR(VLOOKUP($V23,Several_Accounts!$A:$I,5,FALSE),0)","v":-449993.72},{"$f":"IFERROR(VLOOKUP($V23,Several_Accounts!$A:$I,6,FALSE),0)","v":-319593.3},{"$f":"IFERROR(VLOOKUP($V23,Several_Accounts!$A:$I,7,FALSE),0)","v":-240000},{"$f":"IFERROR(VLOOKUP($V23,Several_Accounts!$A:$I,8,FALSE),0)","v":-247289},{"$f":"IFERROR(VLOOKUP($V23,Several_Accounts!$A:$I,9,FALSE),0)","v":-241882},-209893,-206232,-200000,null,null,null,null,null,null,null,null,{"$f":"'LDC Info'!$E$14 & \" \" &'App.2-H_Other_Oper_Rev'!A23","v":"Bluewater Power Distribution Corporation 4225"}]
[4230,"Sales of Water and Water Power",0,0,0,{"$f":"IFERROR(VLOOKUP($V24,Several_Accounts!$A:$I,5,FALSE),0)","v":0},{"$f":"IFERROR(VLOOKUP($V24,Several_Accounts!$A:$I,6,FALSE),0)","v":0},{"$f":"IFERROR(VLOOKUP($V24,Several_Accounts!$A:$I,7,FALSE),0)","v":0},{"$f":"IFERROR(VLOOKUP($V24,Several_Accounts!$A:$I,8,FALSE),0)","v":0},{"$f":"IFERROR(VLOOKUP($V24,Several_Accounts!$A:$I,9,FALSE),0)","v":0},0,0,0,null,null,null,null,null,null,null,null,{"$f":"'LDC Info'!$E$14 & \" \" &'App.2-H_Other_Oper_Rev'!A24","v":"Bluewater Power Distribution Corporation 4230"}]
[4235,"Miscellaneous Service Revenues",-183392,-197117,-277024,{"$f":"IFERROR(VLOOKUP($V25,Several_Accounts!$A:$I,5,FALSE),0)","v":-287412.62},{"$f":"IFERROR(VLOOKUP($V25,Several_Accounts!$A:$I,6,FALSE),0)","v":-205310.04},{"$f":"IFERROR(VLOOKUP($V25,Several_Accounts!$A:$I,7,FALSE),0)","v":-162145},{"$f":"IFERROR(VLOOKUP($V25,Several_Accounts!$A:$I,8,FALSE),0)","v":-209010},{"$f":"IFERROR(VLOOKUP($V25,Several_Accounts!$A:$I,9,FALSE),0)","v":-188586},-72642,-84222,-71875,null,null,null,null,null,null,null,null,{"$f":"'LDC Info'!$E$14 & \" \" &'App.2-H_Other_Oper_Rev'!A25","v":"Bluewater Power Distribution Corporation 4235"}]
[4240,"Provision for Rate Refunds",0,0,0,{"$f":"IFERROR(VLOOKUP($V26,Several_Accounts!$A:$I,5,FALSE),0)","v":0},{"$f":"IFERROR(VLOOKUP($V26,Several_Accounts!$A:$I,6,FALSE),0)","v":0},{"$f":"IFERROR(VLOOKUP($V26,Several_Accounts!$A:$I,7,FALSE),0)","v":0},{"$f":"IFERROR(VLOOKUP($V26,Several_Accounts!$A:$I,8,FALSE),0)","v":0},{"$f":"IFERROR(VLOOKUP($V26,Several_Accounts!$A:$I,9,FALSE),0)","v":0},0,0,0,null,null,null,null,null,null,null,null,{"$f":"'LDC Info'!$E$14 & \" \" &'App.2-H_Other_Oper_Rev'!A26","v":"Bluewater Power Distribution Corporation 4240"}]
[4245,"Government and Other Assistance Directly Credited to Income",0,-8852,-23268,{"$f":"IFERROR(VLOOKUP($V27,Several_Accounts!$A:$I,5,FALSE),0)","v":-34172},{"$f":"IFERROR(VLOOKUP($V27,Several_Accounts!$A:$I,6,FALSE),0)","v":-42338.5},{"$f":"IFERROR(VLOOKUP($V27,Several_Accounts!$A:$I,7,FALSE),0)","v":-56911},{"$f":"IFERROR(VLOOKUP($V27,Several_Accounts!$A:$I,8,FALSE),0)","v":-70146},{"$f":"IFERROR(VLOOKUP($V27,Several_Accounts!$A:$I,9,FALSE),0)","v":-89411},-98590,-63124,-83124,null,null,null,null,null,null,null,null,{"$f":"'LDC Info'!$E$14 & \" \" &'App.2-H_Other_Oper_Rev'!A27","v":"Bluewater Power Distribution Corporation 4245"}]
[4305,"Regulatory Debits",0,0,0,{"$f":"IFERROR(VLOOKUP($V28,Several_Accounts!$A:$I,5,FALSE),0)","v":0},{"$f":"IFERROR(VLOOKUP($V28,Several_Accounts!$A:$I,6,FALSE),0)","v":0},{"$f":"IFERROR(VLOOKUP($V28,Several_Accounts!$A:$I,7,FALSE),0)","v":0},{"$f":"IFERROR(VLOOKUP($V28,Several_Accounts!$A:$I,8,FALSE),0)","v":0},{"$f":"IFERROR(VLOOKUP($V28,Several_Accounts!$A:$I,9,FALSE),0)","v":0},0,0,0,null,null,null,null,null,null,null,null,{"$f":"'LDC Info'!$E$14 & \" \" &'App.2-H_Other_Oper_Rev'!A28","v":"Bluewater Power Distribution Corporation 4305"}]
[4310,"Regulatory Credits",0,0,0,{"$f":"IFERROR(VLOOKUP($V29,Several_Accounts!$A:$I,5,FALSE),0)","v":0},{"$f":"IFERROR(VLOOKUP($V29,Several_Accounts!$A:$I,6,FALSE),0)","v":0},{"$f":"IFERROR(VLOOKUP($V29,Several_Accounts!$A:$I,7,FALSE),0)","v":0},{"$f":"IFERROR(VLOOKUP($V29,Several_Accounts!$A:$I,8,FALSE),0)","v":0},{"$f":"IFERROR(VLOOKUP($V29,Several_Accounts!$A:$I,9,FALSE),0)","v":0},0,0,0,null,null,null,null,null,null,null,null,{"$f":"'LDC Info'!$E$14 & \" \" &'App.2-H_Other_Oper_Rev'!A29","v":"Bluewater Power Distribution Corporation 4310"}]
[4315,"Revenues from Electric Plant Leased to Others",0,0,0,{"$f":"IFERROR(VLOOKUP($V30,Several_Accounts!$A:$I,5,FALSE),0)","v":0},{"$f":"IFERROR(VLOOKUP($V30,Several_Accounts!$A:$I,6,FALSE),0)","v":0},{"$f":"IFERROR(VLOOKUP($V30,Several_Accounts!$A:$I,7,FALSE),0)","v":0},{"$f":"IFERROR(VLOOKUP($V30,Several_Accounts!$A:$I,8,FALSE),0)","v":0},{"$f":"IFERROR(VLOOKUP($V30,Several_Accounts!$A:$I,9,FALSE),0)","v":0},0,0,0,null,null,null,null,null,null,null,null,{"$f":"'LDC Info'!$E$14 & \" \" &'App.2-H_Other_Oper_Rev'!A30","v":"Bluewater Power Distribution Corporation 4315"}]
[4320,"Expenses of Electric Plant Leased to Others",0,0,0,{"$f":"IFERROR(VLOOKUP($V31,Several_Accounts!$A:$I,5,FALSE),0)","v":0},{"$f":"IFERROR(VLOOKUP($V31,Several_Accounts!$A:$I,6,FALSE),0)","v":0},{"$f":"IFERROR(VLOOKUP($V31,Several_Accounts!$A:$I,7,FALSE),0)","v":0},{"$f":"IFERROR(VLOOKUP($V31,Several_Accounts!$A:$I,8,FALSE),0)","v":0},{"$f":"IFERROR(VLOOKUP($V31,Several_Accounts!$A:$I,9,FALSE),0)","v":0},0,0,0,null,null,null,null,null,null,null,null,{"$f":"'LDC Info'!$E$14 & \" \" &'App.2-H_Other_Oper_Rev'!A31","v":"Bluewater Power Distribution Corporation 4320"}]
[4325,"Revenues from Merchandise",-549373,-777775,-638038,{"$f":"IFERROR(VLOOKUP($V32,Several_Accounts!$A:$I,5,FALSE),0)","v":-765615},{"$f":"IFERROR(VLOOKUP($V32,Several_Accounts!$A:$I,6,FALSE),0)","v":-719440.02},{"$f":"IFERROR(VLOOKUP($V32,Several_Accounts!$A:$I,7,FALSE),0)","v":-902636},{"$f":"IFERROR(VLOOKUP($V32,Several_Accounts!$A:$I,8,FALSE),0)","v":-1249589},{"$f":"IFERROR(VLOOKUP($V32,Several_Accounts!$A:$I,9,FALSE),0)","v":-3155980},-2312241.4,-1811670,-915000,null,null,null,null,null,null,null,null,{"$f":"'LDC Info'!$E$14 & \" \" &'App.2-H_Other_Oper_Rev'!A32","v":"Bluewater Power Distribution Corporation 4325"}]
[4330,"Costs and Expenses of Merchandising",387267,526450,492138,{"$f":"IFERROR(VLOOKUP($V33,Several_Accounts!$A:$I,5,FALSE),0)","v":467099.75},{"$f":"IFERROR(VLOOKUP($V33,Several_Accounts!$A:$I,6,FALSE),0)","v":607346.32999999996},{"$f":"IFERROR(VLOOKUP($V33,Several_Accounts!$A:$I,7,FALSE),0)","v":678867},{"$f":"IFERROR(VLOOKUP($V33,Several_Accounts!$A:$I,8,FALSE),0)","v":1037440},{"$f":"IFERROR(VLOOKUP($V33,Several_Accounts!$A:$I,9,FALSE),0)","v":2678982},2019252,1549266,777750,null,null,null,null,null,null,null,null,{"$f":"'LDC Info'!$E$14 & \" \" &'App.2-H_Other_Oper_Rev'!A33","v":"Bluewater Power Distribution Corporation 4330"}]
[4335,"Profits and Losses from Financial Instrument Hedges",0,0,0,{"$f":"IFERROR(VLOOKUP($V34,Several_Accounts!$A:$I,5,FALSE),0)","v":0},{"$f":"IFERROR(VLOOKUP($V34,Several_Accounts!$A:$I,6,FALSE),0)","v":0},{"$f":"IFERROR(VLOOKUP($V34,Several_Accounts!$A:$I,7,FALSE),0)","v":0},{"$f":"IFERROR(VLOOKUP($V34,Several_Accounts!$A:$I,8,FALSE),0)","v":0},{"$f":"IFERROR(VLOOKUP($V34,Several_Accounts!$A:$I,9,FALSE),0)","v":0},0,0,0,null,null,null,null,null,null,null,null,{"$f":"'LDC Info'!$E$14 & \" \" &'App.2-H_Other_Oper_Rev'!A34","v":"Bluewater Power Distribution Corporation 4335"}]
[4340,"Profits and Losses from Financial Instrument Investments",0,0,0,{"$f":"IFERROR(VLOOKUP($V35,Several_Accounts!$A:$I,5,FALSE),0)","v":0},{"$f":"IFERROR(VLOOKUP($V35,Several_Accounts!$A:$I,6,FALSE),0)","v":0},{"$f":"IFERROR(VLOOKUP($V35,Several_Accounts!$A:$I,7,FALSE),0)","v":0},{"$f":"IFERROR(VLOOKUP($V35,Several_Accounts!$A:$I,8,FALSE),0)","v":0},{"$f":"IFERROR(VLOOKUP($V35,Several_Accounts!$A:$I,9,FALSE),0)","v":0},0,0,0,null,null,null,null,null,null,null,null,{"$f":"'LDC Info'!$E$14 & \" \" &'App.2-H_Other_Oper_Rev'!A35","v":"Bluewater Power Distribution Corporation 4340"}]
[4345,"Gains from Disposition of Future Use Utility Plant",0,0,0,{"$f":"IFERROR(VLOOKUP($V36,Several_Accounts!$A:$I,5,FALSE),0)","v":0},{"$f":"IFERROR(VLOOKUP($V36,Several_Accounts!$A:$I,6,FALSE),0)","v":0},{"$f":"IFERROR(VLOOKUP($V36,Several_Accounts!$A:$I,7,FALSE),0)","v":0},{"$f":"IFERROR(VLOOKUP($V36,Several_Accounts!$A:$I,8,FALSE),0)","v":0},{"$f":"IFERROR(VLOOKUP($V36,Several_Accounts!$A:$I,9,FALSE),0)","v":0},0,0,0,null,null,null,null,null,null,null,null,{"$f":"'LDC Info'!$E$14 & \" \" &'App.2-H_Other_Oper_Rev'!A36","v":"Bluewater Power Distribution Corporation 4345"}]
[4350,"Losses from Disposition of Future Use Utility Plant",0,0,0,{"$f":"IFERROR(VLOOKUP($V37,Several_Accounts!$A:$I,5,FALSE),0)","v":0},{"$f":"IFERROR(VLOOKUP($V37,Several_Accounts!$A:$I,6,FALSE),0)","v":0},{"$f":"IFERROR(VLOOKUP($V37,Several_Accounts!$A:$I,7,FALSE),0)","v":0},{"$f":"IFERROR(VLOOKUP($V37,Several_Accounts!$A:$I,8,FALSE),0)","v":0},{"$f":"IFERROR(VLOOKUP($V37,Several_Accounts!$A:$I,9,FALSE),0)","v":0},0,0,0,null,null,null,null,null,null,null,null,{"$f":"'LDC Info'!$E$14 & \" \" &'App.2-H_Other_Oper_Rev'!A37","v":"Bluewater Power Distribution Corporation 4350"}]
[4355,"Gain on Disposition of Utility and Other Property",-31915,0,0,{"$f":"IFERROR(VLOOKUP($V38,Several_Accounts!$A:$I,5,FALSE),0)","v":-5685.27},{"$f":"IFERROR(VLOOKUP($V38,Several_Accounts!$A:$I,6,FALSE),0)","v":-22522.54},{"$f":"IFERROR(VLOOKUP($V38,Several_Accounts!$A:$I,7,FALSE),0)","v":-5030},{"$f":"IFERROR(VLOOKUP($V38,Several_Accounts!$A:$I,8,FALSE),0)","v":0},{"$f":"IFERROR(VLOOKUP($V38,Several_Accounts!$A:$I,9,FALSE),0)","v":-58232},-6825,0,-5000,null,null,null,null,null,null,null,null,{"$f":"'LDC Info'!$E$14 & \" \" &'App.2-H_Other_Oper_Rev'!A38","v":"Bluewater Power Distribution Corporation 4355"}]
[4357,"Gain from Retirement of Utility and Other Property",0,0,0,{"$f":"IFERROR(VLOOKUP($V39,Several_Accounts!$A:$I,5,FALSE),0)","v":0},{"$f":"IFERROR(VLOOKUP($V39,Several_Accounts!$A:$I,6,FALSE),0)","v":0},{"$f":"IFERROR(VLOOKUP($V39,Several_Accounts!$A:$I,7,FALSE),0)","v":0},{"$f":"IFERROR(VLOOKUP($V39,Several_Accounts!$A:$I,8,FALSE),0)","v":0},{"$f":"IFERROR(VLOOKUP($V39,Several_Accounts!$A:$I,9,FALSE),0)","v":0},0,0,0,null,null,null,-1,null,null,null,null,{"$f":"'LDC Info'!$E$14 & \" \" &'App.2-H_Other_Oper_Rev'!A39","v":"Bluewater Power Distribution Corporation 4357"}]
[4360,"Loss on Disposition of Utility and Other Property",0,2012,10823,{"$f":"IFERROR(VLOOKUP($V40,Several_Accounts!$A:$I,5,FALSE),0)","v":0},{"$f":"IFERROR(VLOOKUP($V40,Several_Accounts!$A:$I,6,FALSE),0)","v":0},{"$f":"IFERROR(VLOOKUP($V40,Several_Accounts!$A:$I,7,FALSE),0)","v":0},{"$f":"IFERROR(VLOOKUP($V40,Several_Accounts!$A:$I,8,FALSE),0)","v":0},{"$f":"IFERROR(VLOOKUP($V40,Several_Accounts!$A:$I,9,FALSE),0)","v":0},0,10399,0,null,null,null,null,null,null,null,null,{"$f":"'LDC Info'!$E$14 & \" \" &'App.2-H_Other_Oper_Rev'!A40","v":"Bluewater Power Distribution Corporation 4360"}]
[4362,"Loss from Retirement of Utility and Other Property",0,0,0,{"$f":"IFERROR(VLOOKUP($V41,Several_Accounts!$A:$I,5,FALSE),0)","v":0},{"$f":"IFERROR(VLOOKUP($V41,Several_Accounts!$A:$I,6,FALSE),0)","v":0},{"$f":"IFERROR(VLOOKUP($V41,Several_Accounts!$A:$I,7,FALSE),0)","v":0},{"$f":"IFERROR(VLOOKUP($V41,Several_Accounts!$A:$I,8,FALSE),0)","v":0},{"$f":"IFERROR(VLOOKUP($V41,Several_Accounts!$A:$I,9,FALSE),0)","v":0},0,0,0,null,null,null,null,null,null,null,null,{"$f":"'LDC Info'!$E$14 & \" \" &'App.2-H_Other_Oper_Rev'!A41","v":"Bluewater Power Distribution Corporation 4362"}]
[4365,"Gains from Disposition of Allowances for Emission",0,0,0,{"$f":"IFERROR(VLOOKUP($V42,Several_Accounts!$A:$I,5,FALSE),0)","v":0},{"$f":"IFERROR(VLOOKUP($V42,Several_Accounts!$A:$I,6,FALSE),0)","v":0},{"$f":"IFERROR(VLOOKUP($V42,Several_Accounts!$A:$I,7,FALSE),0)","v":0},{"$f":"IFERROR(VLOOKUP($V42,Several_Accounts!$A:$I,8,FALSE),0)","v":0},{"$f":"IFERROR(VLOOKUP($V42,Several_Accounts!$A:$I,9,FALSE),0)","v":0},0,0,0,null,null,null,null,null,null,null,null,{"$f":"'LDC Info'!$E$14 & \" \" &'App.2-H_Other_Oper_Rev'!A42","v":"Bluewater Power Distribution Corporation 4365"}]
[4370,"Losses from Disposition of Allowances for Emission",0,0,0,{"$f":"IFERROR(VLOOKUP($V43,Several_Accounts!$A:$I,5,FALSE),0)","v":0},{"$f":"IFERROR(VLOOKUP($V43,Several_Accounts!$A:$I,6,FALSE),0)","v":0},{"$f":"IFERROR(VLOOKUP($V43,Several_Accounts!$A:$I,7,FALSE),0)","v":0},{"$f":"IFERROR(VLOOKUP($V43,Several_Accounts!$A:$I,8,FALSE),0)","v":0},{"$f":"IFERROR(VLOOKUP($V43,Several_Accounts!$A:$I,9,FALSE),0)","v":0},0,0,0,null,null,null,null,null,null,null,null,{"$f":"'LDC Info'!$E$14 & \" \" &'App.2-H_Other_Oper_Rev'!A43","v":"Bluewater Power Distribution Corporation 4370"}]
[4375,"Revenues from Non Rate-Regulated Utility Operations",-542821,-1186192,-1476185,{"$f":"IFERROR(VLOOKUP($V44,Several_Accounts!$A:$I,5,FALSE),0)","v":-910581.39},{"$f":"IFERROR(VLOOKUP($V44,Several_Accounts!$A:$I,6,FALSE),0)","v":-857531.27},{"$f":"IFERROR(VLOOKUP($V44,Several_Accounts!$A:$I,7,FALSE),0)","v":-780295},{"$f":"IFERROR(VLOOKUP($V44,Several_Accounts!$A:$I,8,FALSE),0)","v":-879554},{"$f":"IFERROR(VLOOKUP($V44,Several_Accounts!$A:$I,9,FALSE),0)","v":-513305},-199566,-508915,-8300,null,null,null,null,null,null,null,null,{"$f":"'LDC Info'!$E$14 & \" \" &'App.2-H_Other_Oper_Rev'!A44","v":"Bluewater Power Distribution Corporation 4375"}]
[4380,"Expenses of Non Rate-Regulated Utility Operations",533335,1196581,1100330,{"$f":"IFERROR(VLOOKUP($V45,Several_Accounts!$A:$I,5,FALSE),0)","v":968896.98},{"$f":"IFERROR(VLOOKUP($V45,Several_Accounts!$A:$I,6,FALSE),0)","v":828438.93},{"$f":"IFERROR(VLOOKUP($V45,Several_Accounts!$A:$I,7,FALSE),0)","v":774475},{"$f":"IFERROR(VLOOKUP($V45,Several_Accounts!$A:$I,8,FALSE),0)","v":873911},{"$f":"IFERROR(VLOOKUP($V45,Several_Accounts!$A:$I,9,FALSE),0)","v":511493},193549,485652,0,null,null,null,null,null,null,null,null,{"$f":"'LDC Info'!$E$14 & \" \" &'App.2-H_Other_Oper_Rev'!A45","v":"Bluewater Power Distribution Corporation 4380"}]
[4385,"Non Rate-Regulated Utility Rental Income",0,0,0,{"$f":"IFERROR(VLOOKUP($V46,Several_Accounts!$A:$I,5,FALSE),0)","v":0},{"$f":"IFERROR(VLOOKUP($V46,Several_Accounts!$A:$I,6,FALSE),0)","v":0},{"$f":"IFERROR(VLOOKUP($V46,Several_Accounts!$A:$I,7,FALSE),0)","v":0},{"$f":"IFERROR(VLOOKUP($V46,Several_Accounts!$A:$I,8,FALSE),0)","v":0},{"$f":"IFERROR(VLOOKUP($V46,Several_Accounts!$A:$I,9,FALSE),0)","v":0},0,0,0,null,null,null,null,null,null,null,null,{"$f":"'LDC Info'!$E$14 & \" \" &'App.2-H_Other_Oper_Rev'!A46","v":"Bluewater Power Distribution Corporation 4385"}]
[4390,"Miscellaneous Non-Operating Income",-45209,-40902,-44164,{"$f":"IFERROR(VLOOKUP($V47,Several_Accounts!$A:$I,5,FALSE),0)","v":-33889.870000000003},{"$f":"IFERROR(VLOOKUP($V47,Several_Accounts!$A:$I,6,FALSE),0)","v":-29759.73},{"$f":"IFERROR(VLOOKUP($V47,Several_Accounts!$A:$I,7,FALSE),0)","v":-43214},{"$f":"IFERROR(VLOOKUP($V47,Several_Accounts!$A:$I,8,FALSE),0)","v":-22946},{"$f":"IFERROR(VLOOKUP($V47,Several_Accounts!$A:$I,9,FALSE),0)+359628","v":-85444},-68212,-88150,-40000,null,null,null,null,null,null,null,null,{"$f":"'LDC Info'!$E$14 & \" \" &'App.2-H_Other_Oper_Rev'!A47","v":"Bluewater Power Distribution Corporation 4390"}]
[4395,"Rate-Payer Benefit Including Interest",0,0,0,{"$f":"IFERROR(VLOOKUP($V48,Several_Accounts!$A:$I,5,FALSE),0)","v":0},{"$f":"IFERROR(VLOOKUP($V48,Several_Accounts!$A:$I,6,FALSE),0)","v":0},{"$f":"IFERROR(VLOOKUP($V48,Several_Accounts!$A:$I,7,FALSE),0)","v":0},{"$f":"IFERROR(VLOOKUP($V48,Several_Accounts!$A:$I,8,FALSE),0)","v":0},{"$f":"IFERROR(VLOOKUP($V48,Several_Accounts!$A:$I,9,FALSE),0)","v":0},0,0,0,null,null,null,null,null,null,null,null,{"$f":"'LDC Info'!$E$14 & \" \" &'App.2-H_Other_Oper_Rev'!A48","v":"Bluewater Power Distribution Corporation 4395"}]
[4398,"Foreign Exchange Gains and Losses, Including Amortization",0,0,0,{"$f":"IFERROR(VLOOKUP($V49,Several_Accounts!$A:$I,5,FALSE),0)","v":0},{"$f":"IFERROR(VLOOKUP($V49,Several_Accounts!$A:$I,6,FALSE),0)","v":0},{"$f":"IFERROR(VLOOKUP($V49,Several_Accounts!$A:$I,7,FALSE),0)","v":0},{"$f":"IFERROR(VLOOKUP($V49,Several_Accounts!$A:$I,8,FALSE),0)","v":0},{"$f":"IFERROR(VLOOKUP($V49,Several_Accounts!$A:$I,9,FALSE),0)","v":0},0,0,0,null,null,null,null,null,null,null,null,{"$f":"'LDC Info'!$E$14 & \" \" &'App.2-H_Other_Oper_Rev'!A49","v":"Bluewater Power Distribution Corporation 4398"}]
[4405,"Interest and Dividend Income",-97423,-165021,-98391,{"$f":"IFERROR(VLOOKUP($V50,Several_Accounts!$A:$I,5,FALSE),0)","v":-62498.6},{"$f":"IFERROR(VLOOKUP($V50,Several_Accounts!$A:$I,6,FALSE),0)","v":-94473.29},{"$f":"IFERROR(VLOOKUP($V50,Several_Accounts!$A:$I,7,FALSE),0)","v":-149773},{"$f":"IFERROR(VLOOKUP($V50,Several_Accounts!$A:$I,8,FALSE),0)","v":-104379},{"$f":"IFERROR(VLOOKUP($V50,Several_Accounts!$A:$I,9,FALSE),0)","v":-74276},-38307,-92269,-59000,null,null,null,null,null,null,null,null,{"$f":"'LDC Info'!$E$14 & \" \" &'App.2-H_Other_Oper_Rev'!A50","v":"Bluewater Power Distribution Corporation 4405"}]
[4410,"Lessor's Net Investment in Finance Lease",0,0,0,{"$f":"IFERROR(VLOOKUP($V51,Several_Accounts!$A:$I,5,FALSE),0)","v":0},{"$f":"IFERROR(VLOOKUP($V51,Several_Accounts!$A:$I,6,FALSE),0)","v":0},{"$f":"IFERROR(VLOOKUP($V51,Several_Accounts!$A:$I,7,FALSE),0)","v":0},{"$f":"IFERROR(VLOOKUP($V51,Several_Accounts!$A:$I,8,FALSE),0)","v":0},{"$f":"IFERROR(VLOOKUP($V51,Several_Accounts!$A:$I,9,FALSE),0)","v":0},0,0,0,null,null,null,null,null,null,null,null,{"$f":"'LDC Info'!$E$14 & \" \" &'App.2-H_Other_Oper_Rev'!A51","v":"Bluewater Power Distribution Corporation 4410"}]
[4415,"Equity in Earnings of Subsidiary Companies",0,0,0,{"$f":"IFERROR(VLOOKUP($V52,Several_Accounts!$A:$I,5,FALSE),0)","v":0},{"$f":"IFERROR(VLOOKUP($V52,Several_Accounts!$A:$I,6,FALSE),0)","v":0},{"$f":"IFERROR(VLOOKUP($V52,Several_Accounts!$A:$I,7,FALSE),0)","v":0},{"$f":"IFERROR(VLOOKUP($V52,Several_Accounts!$A:$I,8,FALSE),0)","v":0},{"$f":"IFERROR(VLOOKUP($V52,Several_Accounts!$A:$I,9,FALSE),0)","v":0},0,0,0,null,null,null,null,null,null,null,null,{"$f":"'LDC Info'!$E$14 & \" \" &'App.2-H_Other_Oper_Rev'!A52","v":"Bluewater Power Distribution Corporation 4415"}]
[4420,"Share of Profit or Loss of Joint Venture",0,0,0,{"$f":"IFERROR(VLOOKUP($V53,Several_Accounts!$A:$I,5,FALSE),0)","v":0},{"$f":"IFERROR(VLOOKUP($V53,Several_Accounts!$A:$I,6,FALSE),0)","v":0},{"$f":"IFERROR(VLOOKUP($V53,Several_Accounts!$A:$I,7,FALSE),0)","v":0},{"$f":"IFERROR(VLOOKUP($V53,Several_Accounts!$A:$I,8,FALSE),0)","v":0},{"$f":"IFERROR(VLOOKUP($V53,Several_Accounts!$A:$I,9,FALSE),0)","v":0},0,0,0,null,null,null,null,null,null,null,null,{"$f":"'LDC Info'!$E$14 & \" \" &'App.2-H_Other_Oper_Rev'!A53","v":"Bluewater Power Distribution Corporation 4420"}]
[4375,"Revenues from Non Rate-Regulated Utility Operations",{"$f":"-C44","v":542821},{"$f":"-D44","v":1186192},1476185,910581.39,857531.27,780295,879554,513305,{"$f":"-K44","v":199566},508915,8300]
[4380,"Expenses of Non Rate-Regulated Utility Operations",{"$f":"-C45","v":-533335},{"$f":"-D45","v":-1196581},-1100330,-968896.98,-828438.93,-774475,-873911,-511493,-193549,-485652,0]
[]
[]
[]
[]
[]
[]
[]
[]
[]
["Miscellaneous Service Revenues",null,{"$f":"C25","v":-183392},-197117,-277024,{"$f":"F25","v":-287412.62},{"$f":"G25","v":-205310.04},-162145,-209010,-188586,-72642,-84222,-71875,null,{"$f":"O25","v":0}]
["Late Payment Charges",null,{"$f":"C23","v":-322067},-326487,-356006,{"$f":"F23","v":-449993.72},{"$f":"G23","v":-319593.3},-240000,-247289,-241882,-209893,-206232,-200000,null,{"$f":"O23","v":0}]
["Other Operating Revenues",null,{"$f":"C15+C16+C17+C18+C19+C20+C21+C22+C24+C26+C27","v":-493421},-504703,-610712,{"$f":"F15+F16+F17+F18+F19+F20+F21+F22+F24+F26+F27","v":-651663.95000000007},{"$f":"G15+G16+G17+G18+G19+G20+G21+G22+G24+G26+G27","v":-600342.56999999995},-642901,-644952,-650173,-638080,-646122,-720451,null,{"$f":"SUM(O15:O24,O26,O27)","v":0}]
["Other Income or Deductions",null,{"$f":"C28+C29+C30+C31+C32+C33+C34+C35+C36+C37+C38+C39+C40+C41+C42+C43+C44+C45+C46+C47+C48+C49+C50+C51+C52+C53+C54+C55","v":-336653},{"$f":"D28+D29+D30+D31+D32+D33+D34+D35+D36+D37+D38+D39+D40+D41+D42+D43+D44+D45+D46+D47+D48+D49+D50+D51+D52+D53+D54+D55","v":-455236},-277632,-400588.99000000011,-258849.25000000012,-421786,-339474,-694950,-406333.39999999991,-432424,-241250,null,{"$f":"SUM(O28:O53)","v":0}]
["Total",null,{"$f":"SUM(C65:C68)","v":-1335533},{"$f":"SUM(D65:D68)","v":-1483543},{"$f":"SUM(E65:E68)","v":-1521374},{"$f":"SUM(F65:F68)","v":-1789659.2800000003},{"$f":"SUM(G65:G68)","v":-1384095.1600000001},{"$f":"SUM(H65:H68)","v":-1466832},-1440725,-1775591,-1326948.3999999999,-1369000,-1233576,null,{"$f":"SUM(O65:O68)","v":0}]
[]
["Description                          Account(s)"]
["Specific Service Charges:       4235"]
["Late Payment Charges:          4225"]
["Other Distribution Revenues:   4082, 4084, 4086, 4090, 4205, 4210, 4215, 4220, 4230, 4240, 4245"]
["Other Income and Expenses:  4305, 4310, 4315, 4320, 4325, 4330, 4335, 4340, 4345, 4350, 4355, 4357, 4360, 4362, 4365, 4370, 4375, 4380, 4385, 4390, 4395, 4398, 4405, 4410, 4415, 4420"]
[]
[]
["Note: Add all applicable accounts listed above to the table and include all relevant information."]
[]
["Account Breakdown Details"]
[]
["For each \"Other Operating Revenue\" and \"Other Income or Deductions\" Account, a detailed breakdown of the account components is required.  See the example below for Account 4405, Interest and Dividend Income.  Tables for the detailed breakdowns will be generated after cell B101 is filled in."]
[]
[]
["Example: Account 4405 - Interest and Dividend Income"]
[null,null,{"$f":"C12","v":"2013 Actual²"},{"$f":"D12","v":"2014 Actual²"},"2015 Actual²","2016 Actual²","2017 Actual²","2018 Actual²","2019 Actual²","2020 Actual²","2021 Actual","Actual","Test Year",null,{"$f":"O12","v":"CGAAP"}]
[null,null,{"$f":"C13","v":2013},{"$f":"D13","v":2014},2015,2016,2017,2018,2019,2020,2021,2022,2023,null,{"$f":"O13","v":"Enter Transition Year"}]
["Reporting Basis",null,{"$f":"IF(C14=0, \"\", C14)","v":"MIFRS"},{"$f":"IF(D14=0, \"\", D14)","v":"MIFRS"},"MIFRS","MIFRS",{"$f":"IF($G$14=0, \"\", $G$14)","v":"MIFRS"},{"$f":"IF($H$14=0, \"\", $H$14)","v":"MIFRS"},{"$f":"IF($I$14=0, \"\", $I$14)","v":"MIFRS"},{"$f":"IF($J$14=0, \"\", $J$14)","v":"MIFRS"},{"$f":"IF($K$14=0, \"\", $K$14)","v":"MIFRS"},{"$f":"IF($L$14=0, \"\", $L$14)","v":"MIFRS"},{"$f":"IF($M$14=0, \"\", $M$14)","v":"MIFRS"},null,{"$f":"IF($O$14=0, \"\", $O$14)","v":""}]
["Short-term Investment Interest"]
["Bank Deposit Interest"]
["Miscellaneous Interest Revenue"]
["etc.1"]
[]
[]
["Total",null,{"$f":"SUM(C89:C94)","v":0},{"$f":"SUM(D89:D94)","v":0},0,0,0,0,0,0,0,0,0,null,{"$f":"SUM(O89:O94)","v":0}]
[]
[]
["Notes:"]
[1,"List and specify any other interest revenue."]
[2,"For applicants rebasing under IFRS for the first time, in the transition year (2014) to IFRS, the applicant is to present information in both MIFRS and CGAAP. In column N, present CGAAP transition year information."]
[null,6,null,"Enter the number of \"Other Operating Revenue\" and \"Other Income or Deductions\" Accounts that require a detailed breakdown of the account components."]
[]
[]
[]
["4082 - Retail Services Revenue"]
[null,null,{"$f":"C$12","v":"2013 Actual²"},"2014 Actual²","2015 Actual²","2016 Actual²","2017 Actual²","2018 Actual²","2019 Actual²","2020 Actual²","2021 Actual","Actual","Test Year",null,{"$f":"O$12","v":"CGAAP"}]
[null,null,{"$f":"C$13","v":2013},2014,2015,2016,2017,2018,2019,2020,2021,2022,2023,null,{"$f":"O$13","v":"Enter Transition Year"}]
["Reporting Basis",null,{"$f":"IF($G$14=0, \"\", $G$14)","v":"MIFRS"},{"$f":"IF($G$14=0, \"\", $G$14)","v":"MIFRS"},{"$f":"IF($G$14=0, \"\", $G$14)","v":"MIFRS"},{"$f":"IF($G$14=0, \"\", $G$14)","v":"MIFRS"},{"$f":"IF($G$14=0, \"\", $G$14)","v":"MIFRS"},{"$f":"IF($H$14=0, \"\", $H$14)","v":"MIFRS"},{"$f":"IF($I$14=0, \"\", $I$14)","v":"MIFRS"},{"$f":"IF($J$14=0, \"\", $J$14)","v":"MIFRS"},{"$f":"IF($K$14=0, \"\", $K$14)","v":"MIFRS"},{"$f":"IF($L$14=0, \"\", $L$14)","v":"MIFRS"},{"$f":"IF($M$14=0, \"\", $M$14)","v":"MIFRS"},null,{"$f":"IF($O$14=0, \"\", $O$14)","v":""}]
["Retailer Service Agreement -- standard charge",null,-100,-100,-200,0,0,0,0,0,0,0,0]
["Retailer Service Agreement -- monthly fixed charge (per retailer)",null,-3820,-3840,-4320,-4400,-4320,-4320,-4100,-3198,-4401,-3720.88,-8277]
["Retailer Service Agreement -- monthly variable charge (per customer)",null,-17807.099999999999,-15404.400000000001,-13244.5,-11678.2,-9856.4,-8803.9,-8277.1999999999989,-7436,-5933,-6488,-13835]
["Distributor-Consolidated Billing -- monthly charge (per customer)",null,-10587.9,-9132.6,-7933.5,-6967.8,-5925.6,-5282.1,-5044.8,-4461,-3896,-3773,-8426]
[]
[]
[]
[]
["Total",null,{"$f":"SUM(C109:C116)","v":-32315},-28477,-25698,-23046,-20102,-18406,-17422,-15095,-14230,-13981.880000000001,-30538,null,{"$f":"SUM(O109:O116)","v":0}]
[]
["4084 - Service Transaction Requests (STR) Revenues"]
[null,null,{"$f":"C$12","v":"2013 Actual²"},"2014 Actual²","2015 Actual²","2016 Actual²","2017 Actual²","2018 Actual²","2019 Actual²","2020 Actual²","2021 Actual","Actual","Test Year",null,{"$f":"O$12","v":"CGAAP"}]
[null,null,{"$f":"C$13","v":2013},2014,2015,2016,2017,2018,2019,2020,2021,2022,2023,null,{"$f":"O$13","v":"Enter Transition Year"}]
["Reporting Basis",null,{"$f":"IF($G$14=0, \"\", $G$14)","v":"MIFRS"},"MIFRS","MIFRS","MIFRS",{"$f":"IF($G$14=0, \"\", $G$14)","v":"MIFRS"},{"$f":"IF($H$14=0, \"\", $H$14)","v":"MIFRS"},{"$f":"IF($I$14=0, \"\", $I$14)","v":"MIFRS"},{"$f":"IF($J$14=0, \"\", $J$14)","v":"MIFRS"},{"$f":"IF($K$14=0, \"\", $K$14)","v":"MIFRS"},{"$f":"IF($L$14=0, \"\", $L$14)","v":"MIFRS"},{"$f":"IF($M$14=0, \"\", $M$14)","v":"MIFRS"},null,{"$f":"IF($O$14=0, \"\", $O$14)","v":""}]
["Service Transaction Request -- request fee (per request)","Service Transaction Request -- request fee (per request)",-391.25,-271.5,-258,-174.5,-149.75,-146,-99,-78,-57,-43,-98]
["Service Transaction Request -- processing fee (per processed request)","Service Transaction Request -- processing fee (per processed request)",-585.75,-510.5,-471,-311.5,-234.25,-216,-214,-176,-113,-115,-157]
[]
[]
[]
[]
[]
[]
["Total",null,{"$f":"SUM(C123:C130)","v":-977},-782,{"$f":"SUM(E123:E130)","v":-729},{"$f":"SUM(F123:F130)","v":-486},{"$f":"SUM(G123:G130)","v":-384},{"$f":"SUM(H123:H130)","v":-362},{"$f":"SUM(I123:I130)","v":-313},{"$f":"SUM(J123:J130)","v":-254},{"$f":"SUM(K123:K130)","v":-170},{"$f":"SUM(L123:L130)","v":-158},{"$f":"SUM(M123:M130)","v":-255},null,{"$f":"SUM(O123:O130)","v":0}]
[]
["4210 - Rent from Electric Property"]
[null,null,{"$f":"C$12","v":"2013 Actual²"},"2014 Actual²","2015 Actual²","2016 Actual²","2017 Actual²","2018 Actual²","2019 Actual²","2020 Actual²","2021 Actual","Actual","Test Year",null,{"$f":"O$12","v":"CGAAP"}]
[null,null,{"$f":"C$13","v":2013},2014,2015,2016,2017,2018,2019,2020,2021,2022,2023,null,{"$f":"O$13","v":"Enter Transition Year"}]
["Reporting Basis",null,{"$f":"IF($G$14=0, \"\", $G$14)","v":"MIFRS"},"MIFRS","MIFRS","MIFRS",{"$f":"IF($G$14=0, \"\", $G$14)","v":"MIFRS"},{"$f":"IF($H$14=0, \"\", $H$14)","v":"MIFRS"},{"$f":"IF($I$14=0, \"\", $I$14)","v":"MIFRS"},{"$f":"IF($J$14=0, \"\", $J$14)","v":"MIFRS"},{"$f":"IF($K$14=0, \"\", $K$14)","v":"MIFRS"},{"$f":"IF($L$14=0, \"\", $L$14)","v":"MIFRS"},{"$f":"IF($M$14=0, \"\", $M$14)","v":"MIFRS"},null,{"$f":"IF($O$14=0, \"\", $O$14)","v":""}]
["Rent from Electric Property - building","Rent from Electric Property - building",-17200,-18400,-18402,-19281,-20848,-21268,-21693,-22128,-22570,-23022,-23482.44]
["Rent from Electric Property - vehicles","Rent from Electric Property - vehicles",-107162.67,-111466.91,-178894.07,-173761.18,-121645.54,-141466.5,-168209.25,-112835,-90945,-127249.5,-90000]
["Infrastructure revenue - computer software","Infrastructure revenue - computer software",-55402,-55404,-55404,-55402,-56510,-57640,-58793,-59969,-61167,-62391,-63638.82]
["Pole Rentals","Pole Rentals",-153967.35,-152455.10999999999,-151939.18,-152288.65,-155611.19,-161574.75,-167269.18,-166133,-167423,-152539.14000000001,-251413]
[null,null,0,0,0,0,0,0,0,0,0,0,0]
[]
[]
[]
["Total",null,{"$f":"SUM(C137:C144)","v":-333732.02},-337726.02,{"$f":"SUM(E137:E144)","v":-404639.25},{"$f":"SUM(F137:F144)","v":-400732.82999999996},{"$f":"SUM(G137:G144)","v":-354614.73},{"$f":"SUM(H137:H144)","v":-381949.25},{"$f":"SUM(I137:I144)","v":-415964.43},{"$f":"SUM(J137:J144)","v":-361065},{"$f":"SUM(K137:K144)","v":-342105},{"$f":"SUM(L137:L144)","v":-365201.64},{"$f":"SUM(M137:M144)","v":-428534.26},null,{"$f":"SUM(O137:O144)","v":0}]
[]
["4220 - Other Electric Revenue"]
[null,null,{"$f":"C$12","v":"2013 Actual²"},"2014 Actual²","2015 Actual²","2016 Actual²","2017 Actual²","2018 Actual²","2019 Actual²","2020 Actual²","2021 Actual","Actual","Test Year",null,{"$f":"O$12","v":"CGAAP"}]
[null,null,{"$f":"C$13","v":2013},2014,2015,2016,2017,2018,2019,2020,2021,2022,2023,null,{"$f":"O$13","v":"Enter Transition Year"}]
["Reporting Basis",null,{"$f":"IF(C88=0, \"\", C88)","v":"MIFRS"},"MIFRS","MIFRS","MIFRS",{"$f":"IF($G$14=0, \"\", $G$14)","v":"MIFRS"},{"$f":"IF($H$14=0, \"\", $H$14)","v":"MIFRS"},{"$f":"IF($I$14=0, \"\", $I$14)","v":"MIFRS"},{"$f":"IF($J$14=0, \"\", $J$14)","v":"MIFRS"},{"$f":"IF($K$14=0, \"\", $K$14)","v":"MIFRS"},{"$f":"IF($L$14=0, \"\", $L$14)","v":"MIFRS"},{"$f":"IF($M$14=0, \"\", $M$14)","v":"MIFRS"},null,{"$f":"IF($O$14=0, \"\", $O$14)","v":""}]
["Expansion Deposit Income",null,-26520.94,-27762.880000000001,-29661.62,-20725.400000000001,-6077.38,-10539.65,-2289.5700000000002,-5114,-6988,-5847.75,0]
["Other Contracted Revenue",null,0,0,-24034.1,-67422.77,-68077.47,-69116.820000000007,-31353.89,-71125,-65927,-88581.1,-70000]
[]
[]
[]
[]
[]
[]
["Total",null,{"$f":"SUM(C151:C158)","v":-26520.94},-27762.880000000001,{"$f":"SUM(E151:E158)","v":-53695.72},{"$f":"SUM(F151:F158)","v":-88148.170000000013},{"$f":"SUM(G151:G158)","v":-74154.850000000006},{"$f":"SUM(H151:H158)","v":-79656.47},{"$f":"SUM(I151:I158)","v":-33643.46},{"$f":"SUM(J151:J158)","v":-76239},{"$f":"SUM(K151:K158)","v":-72915},{"$f":"SUM(L151:L158)","v":-94428.85},{"$f":"SUM(M151:M158)","v":-70000},null,{"$f":"SUM(O151:O158)","v":0}]
[]
["4235 - Miscellaneous Service Revenue"]
[null,null,{"$f":"C$12","v":"2013 Actual²"},"2014 Actual²","2015 Actual²","2016 Actual²","2017 Actual²","2018 Actual²","2019 Actual²","2020 Actual²","2021 Actual","Actual","Test Year",null,{"$f":"O$12","v":"CGAAP"}]
[null,null,{"$f":"C$13","v":2013},2014,2015,2016,2017,2018,2019,2020,2021,2022,2023,null,{"$f":"O$13","v":"Enter Transition Year"}]
["Reporting Basis",null,{"$f":"IF($G$14=0, \"\", $G$14)","v":"MIFRS"},"MIFRS","MIFRS","MIFRS",{"$f":"IF($G$14=0, \"\", $G$14)","v":"MIFRS"},{"$f":"IF($H$14=0, \"\", $H$14)","v":"MIFRS"},{"$f":"IF($I$14=0, \"\", $I$14)","v":"MIFRS"},{"$f":"IF($J$14=0, \"\", $J$14)","v":"MIFRS"},{"$f":"IF($K$14=0, \"\", $K$14)","v":"MIFRS"},{"$f":"IF($L$14=0, \"\", $L$14)","v":"MIFRS"},{"$f":"IF($M$14=0, \"\", $M$14)","v":"MIFRS"},null,{"$f":"IF($O$14=0, \"\", $O$14)","v":""}]
["Duplicate invoices for previous billing","Duplicate invoices for previous billing",-150,-150,-120,-30,-30,-30,-30,-30,-30,-30,-30]
["Income tax letter","Income tax letter",-1434,-856,-737,-482,-623,-589,-617,-557,-409,-1201.95,-495]
["Account history","Account history",0,-30,0,-15,0,-15,-15,-15,-15,-15,-15]
["Returned Cheque charge (plus bank charges)","Returned Cheque charge (plus bank charges)",-4343,-4040,-3319,-3248,-3820,-2690,-2840,-2645,-2728,-2850,-2700]
["Legal letter charge","Legal letter charge",-2603,-3137,-1839,-1783,-1530,-885,-750,-1050,-690,-915,-830]
["Account set up charge / change of occupancy charge","Account set up charge / change of occupancy charge",-47115,-49569,-50456,-49018,-49481,-44600,-42058,-41662,-43282,-38894.82,-42000]
["Special Meter reads","Special Meter reads",-60,-1292,-1140,-278,-219,-510,-1797,-900,-240,-780,-240]
["Meter dispute charge plus Measurement Canada fees (if meter found correct)","Meter dispute charge plus Measurement Canada fees (if meter found correct)",0,-30,0,-30,0,-30,-30,0,0,0,0]
["Collection of account charge – no disconnection","Collection of account charge – no disconnection",-81170,-98531,-96944,-118667,-81316,-57686,-14539,0,0,0,0]
["Collection of account charge – no disconnection – after regular hours","Collection of account charge – no disconnection – after regular hours",0,0,0,0,0,0,0,0,0,0,0]
["Disconnect/Reconnect at meter – during regular hours","Disconnect/Reconnect at meter – during regular hours",-14099,-19737,-18648,-20766,-14342,-11187,-10434,-7110,-7916,-15597.22,-8385]
["Disconnect/Reconnect at meter – after regular hours","Disconnect/Reconnect at meter – after regular hours",-925,0,-1089,-1459,-370,-185,-555,-555,-185,-555,0]
["MicroFit/FIT Monthly Fee","MicroFit/FIT Monthly Fee",-7634.47,-10149.1,-11188.369999999999,-13485.94,-14631.28,-16062.109999999999,-16149.17,-14962.8,{"$f":"-14248.64+1","v":-14247.64},-14330.080000000002,-14180]
["Benefit Refund","Benefit Refund",0,0,0,-73337.89,-27693.34,-26810.79,-117511.85,0,0,0,0]
["Miscellaneous One Time","Miscellaneous One Time",-23859.1,-9596.1699999999983,-91544.76999999999,-5625.5,-10853.84,{"$f":"-573","v":-573},-1714.4299999999998,-119330,-2899,-9053.1799999999985,-3000]
[]
[]
["Total",null,{"$f":"SUM(C165:C181)","v":-183392.57},-197117.27000000002,-277025.14,-288225.33,-204909.46,-161852.9,-209040.45,-188816.8,-72641.64,-84222.25,-71875,null,{"$f":"SUM(O179:O181)","v":0}]
[]
["4405 - Interest and Dividend Income"]
[null,null,{"$f":"C$12","v":"2013 Actual²"},"2014 Actual²","2015 Actual²","2016 Actual²","2017 Actual²","2018 Actual²","2019 Actual²","2020 Actual²","2021 Actual","Actual","Test Year",null,{"$f":"O$12","v":"CGAAP"}]
[null,null,{"$f":"C$13","v":2013},2014,2015,2016,2017,2018,2019,2020,2021,2022,2023,null,{"$f":"O$13","v":"Enter Transition Year"}]
["Reporting Basis",null,{"$f":"IF($G$14=0, \"\", $G$14)","v":"MIFRS"},"MIFRS","MIFRS","MIFRS",{"$f":"IF($G$14=0, \"\", $G$14)","v":"MIFRS"},{"$f":"IF($H$14=0, \"\", $H$14)","v":"MIFRS"},{"$f":"IF($I$14=0, \"\", $I$14)","v":"MIFRS"},{"$f":"IF($J$14=0, \"\", $J$14)","v":"MIFRS"},{"$f":"IF($K$14=0, \"\", $K$14)","v":"MIFRS"},{"$f":"IF($L$14=0, \"\", $L$14)","v":"MIFRS"},{"$f":"IF($M$14=0, \"\", $M$14)","v":"MIFRS"},null,{"$f":"IF($O$14=0, \"\", $O$14)","v":""}]
["Interest and Dividend Income",null,-47261.62,-94519.91,-43537.4,-14989.18,-56940.46,-112418.01,-20982.59,-45358.41,-20769.29,-14944,-20000]
["Interest Income - water",null,-3600,-3600,-3600,-3600,-9720,-9720,0,0,0,0,0]
["Carrying Charges income",null,-46561,-66901,-51254,-43910,-27813,-27635,-83396,-28917,-17538,-77324,-39000]
[]
[]
[]
[]
[]
["Total",null,{"$f":"SUM(C188:C195)","v":-97422.62},-165020.91,{"$f":"SUM(E188:E195)","v":-98391.4},{"$f":"SUM(F188:F195)","v":-62499.18},{"$f":"SUM(G188:G195)","v":-94473.459999999992},{"$f":"SUM(H188:H195)","v":-149773.01},{"$f":"SUM(I188:I195)","v":-104378.59},{"$f":"SUM(J188:J195)","v":-74275.41},{"$f":"SUM(K188:K195)","v":-38307.29},{"$f":"SUM(L188:L195)","v":-92268},{"$f":"SUM(M188:M195)","v":-59000},null,{"$f":"SUM(O188:O195)","v":0}]
[]
[]
[null,null,null,{"$f":"D$12","v":"2014 Actual²"},"2015 Actual²","2016 Actual²","2017 Actual²","2018 Actual²","2019 Actual²","2020 Actual²","2021 Actual","Actual","Test Year",null,{"$f":"O$12","v":"CGAAP"}]
[null,null,null,{"$f":"D$13","v":2014},2015,2016,2017,2018,2019,2020,2021,2022,2023,null,{"$f":"O$13","v":"Enter Transition Year"}]
["Reporting Basis",null,null,{"$f":"IF(D130=0, \"\", D130)","v":""},{"$f":"IF(E130=0, \"\", E130)","v":""},{"$f":"IF(F130=0, \"\", F130)","v":""},{"$f":"IF($G$14=0, \"\", $G$14)","v":"MIFRS"},{"$f":"IF($H$14=0, \"\", $H$14)","v":"MIFRS"},{"$f":"IF($I$14=0, \"\", $I$14)","v":"MIFRS"},{"$f":"IF($J$14=0, \"\", $J$14)","v":"MIFRS"},{"$f":"IF($K$14=0, \"\", $K$14)","v":"MIFRS"},{"$f":"IF($L$14=0, \"\", $L$14)","v":"MIFRS"},{"$f":"IF($M$14=0, \"\", $M$14)","v":"MIFRS"},null,{"$f":"IF($O$14=0, \"\", $O$14)","v":""}]
[]
[]
[]
[]
[]
[]
[]
[]
["Total",null,null,{"$f":"SUM(D202:D209)","v":0},{"$f":"SUM(E202:E209)","v":0},{"$f":"SUM(F202:F209)","v":0},{"$f":"SUM(G202:G209)","v":0},{"$f":"SUM(H202:H209)","v":0},{"$f":"SUM(I202:I209)","v":0},{"$f":"SUM(J202:J209)","v":0},{"$f":"SUM(K202:K209)","v":0},{"$f":"SUM(L202:L209)","v":0},{"$f":"SUM(M202:M209)","v":0},null,{"$f":"SUM(O202:O209)","v":0}]
[]
[]
[null,null,null,{"$f":"D$12","v":"2014 Actual²"},"2015 Actual²","2016 Actual²","2017 Actual²","2018 Actual²","2019 Actual²","2020 Actual²","2021 Actual","Actual","Test Year",null,{"$f":"O$12","v":"CGAAP"}]
[null,null,null,{"$f":"D$13","v":2014},2015,2016,2017,2018,2019,2020,2021,2022,2023,null,{"$f":"O$13","v":"Enter Transition Year"}]
["Reporting Basis",null,null,{"$f":"IF(D144=0, \"\", D144)","v":""},{"$f":"IF(E144=0, \"\", E144)","v":""},{"$f":"IF(F144=0, \"\", F144)","v":""},{"$f":"IF($G$14=0, \"\", $G$14)","v":"MIFRS"},{"$f":"IF($H$14=0, \"\", $H$14)","v":"MIFRS"},{"$f":"IF($I$14=0, \"\", $I$14)","v":"MIFRS"},{"$f":"IF($J$14=0, \"\", $J$14)","v":"MIFRS"},{"$f":"IF($K$14=0, \"\", $K$14)","v":"MIFRS"},{"$f":"IF($L$14=0, \"\", $L$14)","v":"MIFRS"},{"$f":"IF($M$14=0, \"\", $M$14)","v":"MIFRS"},null,{"$f":"IF($O$14=0, \"\", $O$14)","v":""}]
[]
[]
[]
[]
[]
[]
[]
[]
["Total",null,null,{"$f":"SUM(D216:D223)","v":0},{"$f":"SUM(E216:E223)","v":0},{"$f":"SUM(F216:F223)","v":0},{"$f":"SUM(G216:G223)","v":0},{"$f":"SUM(H216:H223)","v":0},{"$f":"SUM(I216:I223)","v":0},{"$f":"SUM(J216:J223)","v":0},{"$f":"SUM(K216:K223)","v":0},{"$f":"SUM(L216:L223)","v":0},{"$f":"SUM(M216:M223)","v":0},null,{"$f":"SUM(O216:O223)","v":0}]
[]
[]
[null,null,null,{"$f":"D$12","v":"2014 Actual²"},"2015 Actual²","2016 Actual²","2017 Actual²","2018 Actual²","2019 Actual²","2020 Actual²","2021 Actual","Actual","Test Year",null,{"$f":"O$12","v":"CGAAP"}]
[null,null,null,{"$f":"D$13","v":2014},2015,2016,2017,2018,2019,2020,2021,2022,2023,null,{"$f":"O$13","v":"Enter Transition Year"}]
["Reporting Basis",null,null,{"$f":"IF(D158=0, \"\", D158)","v":""},{"$f":"IF(E158=0, \"\", E158)","v":""},{"$f":"IF(F158=0, \"\", F158)","v":""},{"$f":"IF($G$14=0, \"\", $G$14)","v":"MIFRS"},{"$f":"IF($H$14=0, \"\", $H$14)","v":"MIFRS"},{"$f":"IF($I$14=0, \"\", $I$14)","v":"MIFRS"},{"$f":"IF($J$14=0, \"\", $J$14)","v":"MIFRS"},{"$f":"IF($K$14=0, \"\", $K$14)","v":"MIFRS"},{"$f":"IF($L$14=0, \"\", $L$14)","v":"MIFRS"},{"$f":"IF($M$14=0, \"\", $M$14)","v":"MIFRS"},null,{"$f":"IF($O$14=0, \"\", $O$14)","v":""}]
[]
[]
[]
[]
[]
[]
[]
[]
["Total",null,null,{"$f":"SUM(D230:D237)","v":0},{"$f":"SUM(E230:E237)","v":0},{"$f":"SUM(F230:F237)","v":0},{"$f":"SUM(G230:G237)","v":0},{"$f":"SUM(H230:H237)","v":0},{"$f":"SUM(I230:I237)","v":0},{"$f":"SUM(J230:J237)","v":0},{"$f":"SUM(K230:K237)","v":0},{"$f":"SUM(L230:L237)","v":0},{"$f":"SUM(M230:M237)","v":0},null,{"$f":"SUM(O230:O237)","v":0}]
[]
[]
[null,null,null,{"$f":"D$12","v":"2014 Actual²"},"2015 Actual²","2016 Actual²","2017 Actual²","2018 Actual²","2019 Actual²","2020 Actual²","2021 Actual","Actual","Test Year",null,{"$f":"O$12","v":"CGAAP"}]
[null,null,null,{"$f":"D$13","v":2014},2015,2016,2017,2018,2019,2020,2021,2022,2023,null,{"$f":"O$13","v":"Enter Transition Year"}]
["Reporting Basis",null,null,{"$f":"IF(D181=0, \"\", D181)","v":""},"","",{"$f":"IF($G$14=0, \"\", $G$14)","v":"MIFRS"},{"$f":"IF($H$14=0, \"\", $H$14)","v":"MIFRS"},{"$f":"IF($I$14=0, \"\", $I$14)","v":"MIFRS"},{"$f":"IF($J$14=0, \"\", $J$14)","v":"MIFRS"},{"$f":"IF($K$14=0, \"\", $K$14)","v":"MIFRS"},{"$f":"IF($L$14=0, \"\", $L$14)","v":"MIFRS"},{"$f":"IF($M$14=0, \"\", $M$14)","v":"MIFRS"},null,{"$f":"IF($O$14=0, \"\", $O$14)","v":""}]
[]
[]
[]
[]
[]
[]
[]
[]
["Total",null,null,{"$f":"SUM(D244:D251)","v":0},{"$f":"SUM(E244:E251)","v":0},{"$f":"SUM(F244:F251)","v":0},{"$f":"SUM(G244:G251)","v":0},{"$f":"SUM(H244:H251)","v":0},{"$f":"SUM(I244:I251)","v":0},{"$f":"SUM(J244:J251)","v":0},{"$f":"SUM(K244:K251)","v":0},{"$f":"SUM(L244:L251)","v":0},{"$f":"SUM(M244:M251)","v":0},null,{"$f":"SUM(O244:O251)","v":0}]
[]
[]
[null,null,null,{"$f":"D$12","v":"2014 Actual²"},"2015 Actual²","2016 Actual²","2017 Actual²","2018 Actual²","2019 Actual²","2020 Actual²","2021 Actual","Actual","Test Year",null,{"$f":"O$12","v":"CGAAP"}]
[null,null,null,{"$f":"D$13","v":2014},2015,2016,2017,2018,2019,2020,2021,2022,2023,null,{"$f":"O$13","v":"Enter Transition Year"}]
["Reporting Basis",null,null,{"$f":"IF(D195=0, \"\", D195)","v":""},"","",{"$f":"IF($G$14=0, \"\", $G$14)","v":"MIFRS"},{"$f":"IF($H$14=0, \"\", $H$14)","v":"MIFRS"},{"$f":"IF($I$14=0, \"\", $I$14)","v":"MIFRS"},{"$f":"IF($J$14=0, \"\", $J$14)","v":"MIFRS"},{"$f":"IF($K$14=0, \"\", $K$14)","v":"MIFRS"},{"$f":"IF($L$14=0, \"\", $L$14)","v":"MIFRS"},{"$f":"IF($M$14=0, \"\", $M$14)","v":"MIFRS"},null,{"$f":"IF($O$14=0, \"\", $O$14)","v":""}]
[]
[]
[]
[]
[]
[]
[]
[]
["Total",null,null,{"$f":"SUM(D258:D265)","v":0},{"$f":"SUM(E258:E265)","v":0},{"$f":"SUM(F258:F265)","v":0},{"$f":"SUM(G258:G265)","v":0},{"$f":"SUM(H258:H265)","v":0},{"$f":"SUM(I258:I265)","v":0},{"$f":"SUM(J258:J265)","v":0},{"$f":"SUM(K258:K265)","v":0},{"$f":"SUM(L258:L265)","v":0},{"$f":"SUM(M258:M265)","v":0},null,{"$f":"SUM(O258:O265)","v":0}]
[]
[]
[null,null,null,{"$f":"D$12","v":"2014 Actual²"},"2015 Actual²","2016 Actual²","2017 Actual²","2018 Actual²","2019 Actual²","2020 Actual²","2021 Actual","Actual","Test Year",null,{"$f":"O$12","v":"CGAAP"}]
[null,null,null,{"$f":"D$13","v":2014},2015,2016,2017,2018,2019,2020,2021,2022,2023,null,{"$f":"O$13","v":"Enter Transition Year"}]
["Reporting Basis",null,null,{"$f":"IF(D209=0, \"\", D209)","v":""},"","",{"$f":"IF($G$14=0, \"\", $G$14)","v":"MIFRS"},{"$f":"IF($H$14=0, \"\", $H$14)","v":"MIFRS"},{"$f":"IF($I$14=0, \"\", $I$14)","v":"MIFRS"},{"$f":"IF($J$14=0, \"\", $J$14)","v":"MIFRS"},{"$f":"IF($K$14=0, \"\", $K$14)","v":"MIFRS"},{"$f":"IF($L$14=0, \"\", $L$14)","v":"MIFRS"},{"$f":"IF($M$14=0, \"\", $M$14)","v":"MIFRS"},null,{"$f":"IF($O$14=0, \"\", $O$14)","v":""}]
[]
[]
[]
[]
[]
[]
[]
[]
["Total",null,null,{"$f":"SUM(D272:D279)","v":0},{"$f":"SUM(E272:E279)","v":0},{"$f":"SUM(F272:F279)","v":0},{"$f":"SUM(G272:G279)","v":0},{"$f":"SUM(H272:H279)","v":0},{"$f":"SUM(I272:I279)","v":0},{"$f":"SUM(J272:J279)","v":0},{"$f":"SUM(K272:K279)","v":0},{"$f":"SUM(L272:L279)","v":0},{"$f":"SUM(M272:M279)","v":0},null,{"$f":"SUM(O272:O279)","v":0}]
[]
[]
[null,null,null,{"$f":"D$12","v":"2014 Actual²"},"2015 Actual²","2016 Actual²","2017 Actual²","2018 Actual²","2019 Actual²","2020 Actual²","2021 Actual","Actual","Test Year",null,{"$f":"O$12","v":"CGAAP"}]
[null,null,null,{"$f":"D$13","v":2014},2015,2016,2017,2018,2019,2020,2021,2022,2023,null,{"$f":"O$13","v":"Enter Transition Year"}]
["Reporting Basis",null,null,{"$f":"IF(D223=0, \"\", D223)","v":""},"","",{"$f":"IF($G$14=0, \"\", $G$14)","v":"MIFRS"},{"$f":"IF($H$14=0, \"\", $H$14)","v":"MIFRS"},{"$f":"IF($I$14=0, \"\", $I$14)","v":"MIFRS"},{"$f":"IF($J$14=0, \"\", $J$14)","v":"MIFRS"},{"$f":"IF($K$14=0, \"\", $K$14)","v":"MIFRS"},{"$f":"IF($L$14=0, \"\", $L$14)","v":"MIFRS"},{"$f":"IF($M$14=0, \"\", $M$14)","v":"MIFRS"},null,{"$f":"IF($O$14=0, \"\", $O$14)","v":""}]
[]
[]
[]
[]
[]
[]
[]
[]
["Total",null,null,{"$f":"SUM(D286:D293)","v":0},{"$f":"SUM(E286:E293)","v":0},{"$f":"SUM(F286:F293)","v":0},{"$f":"SUM(G286:G293)","v":0},{"$f":"SUM(H286:H293)","v":0},{"$f":"SUM(I286:I293)","v":0},{"$f":"SUM(J286:J293)","v":0},{"$f":"SUM(K286:K293)","v":0},{"$f":"SUM(L286:L293)","v":0},{"$f":"SUM(M286:M293)","v":0},null,{"$f":"SUM(O286:O293)","v":0}]
[]
[]
[null,null,null,{"$f":"D$12","v":"2014 Actual²"},"2015 Actual²","2016 Actual²","2017 Actual²","2018 Actual²","2019 Actual²","2020 Actual²","2021 Actual","Actual","Test Year",null,{"$f":"O$12","v":"CGAAP"}]
[null,null,null,{"$f":"D$13","v":2014},2015,2016,2017,2018,2019,2020,2021,2022,2023,null,{"$f":"O$13","v":"Enter Transition Year"}]
["Reporting Basis",null,null,{"$f":"IF(D237=0, \"\", D237)","v":""},"","",{"$f":"IF($G$14=0, \"\", $G$14)","v":"MIFRS"},{"$f":"IF($H$14=0, \"\", $H$14)","v":"MIFRS"},{"$f":"IF($I$14=0, \"\", $I$14)","v":"MIFRS"},{"$f":"IF($J$14=0, \"\", $J$14)","v":"MIFRS"},{"$f":"IF($K$14=0, \"\", $K$14)","v":"MIFRS"},{"$f":"IF($L$14=0, \"\", $L$14)","v":"MIFRS"},{"$f":"IF($M$14=0, \"\", $M$14)","v":"MIFRS"},null,{"$f":"IF($O$14=0, \"\", $O$14)","v":""}]
[]
[]
[]
[]
[]
[]
[]
[]
["Total",null,null,{"$f":"SUM(D300:D307)","v":0},{"$f":"SUM(E300:E307)","v":0},{"$f":"SUM(F300:F307)","v":0},{"$f":"SUM(G300:G307)","v":0},{"$f":"SUM(H300:H307)","v":0},{"$f":"SUM(I300:I307)","v":0},{"$f":"SUM(J300:J307)","v":0},{"$f":"SUM(K300:K307)","v":0},{"$f":"SUM(L300:L307)","v":0},{"$f":"SUM(M300:M307)","v":0},null,{"$f":"SUM(O300:O307)","v":0}]
[]
[]
[null,null,null,{"$f":"D$12","v":"2014 Actual²"},"2015 Actual²","2016 Actual²","2017 Actual²","2018 Actual²","2019 Actual²","2020 Actual²","2021 Actual","Actual","Test Year",null,{"$f":"O$12","v":"CGAAP"}]
[null,null,null,{"$f":"D$13","v":2014},2015,2016,2017,2018,2019,2020,2021,2022,2023,null,{"$f":"O$13","v":"Enter Transition Year"}]
["Reporting Basis",null,null,{"$f":"IF(D251=0, \"\", D251)","v":""},"","",{"$f":"IF($G$14=0, \"\", $G$14)","v":"MIFRS"},{"$f":"IF($H$14=0, \"\", $H$14)","v":"MIFRS"},{"$f":"IF($I$14=0, \"\", $I$14)","v":"MIFRS"},{"$f":"IF($J$14=0, \"\", $J$14)","v":"MIFRS"},{"$f":"IF($K$14=0, \"\", $K$14)","v":"MIFRS"},{"$f":"IF($L$14=0, \"\", $L$14)","v":"MIFRS"},{"$f":"IF($M$14=0, \"\", $M$14)","v":"MIFRS"},null,{"$f":"IF($O$14=0, \"\", $O$14)","v":""}]
[]
[]
[]
[]
[]
[]
[]
[]
["Total",null,null,{"$f":"SUM(D314:D321)","v":0},{"$f":"SUM(E314:E321)","v":0},{"$f":"SUM(F314:F321)","v":0},{"$f":"SUM(G314:G321)","v":0},{"$f":"SUM(H314:H321)","v":0},{"$f":"SUM(I314:I321)","v":0},{"$f":"SUM(J314:J321)","v":0},{"$f":"SUM(K314:K321)","v":0},{"$f":"SUM(L314:L321)","v":0},{"$f":"SUM(M314:M321)","v":0},null,{"$f":"SUM(O314:O321)","v":0}]
[]
[]
[null,null,null,{"$f":"D$12","v":"2014 Actual²"},"2015 Actual²","2016 Actual²","2017 Actual²","2018 Actual²","2019 Actual²","2020 Actual²","2021 Actual","Actual","Test Year",null,{"$f":"O$12","v":"CGAAP"}]
[null,null,null,{"$f":"D$13","v":2014},2015,2016,2017,2018,2019,2020,2021,2022,2023,null,{"$f":"O$13","v":"Enter Transition Year"}]
["Reporting Basis",null,null,{"$f":"IF(D265=0, \"\", D265)","v":""},"","",{"$f":"IF($G$14=0, \"\", $G$14)","v":"MIFRS"},{"$f":"IF($H$14=0, \"\", $H$14)","v":"MIFRS"},{"$f":"IF($I$14=0, \"\", $I$14)","v":"MIFRS"},{"$f":"IF($J$14=0, \"\", $J$14)","v":"MIFRS"},{"$f":"IF($K$14=0, \"\", $K$14)","v":"MIFRS"},{"$f":"IF($L$14=0, \"\", $L$14)","v":"MIFRS"},{"$f":"IF($M$14=0, \"\", $M$14)","v":"MIFRS"},null,{"$f":"IF($O$14=0, \"\", $O$14)","v":""}]
[]
[]
[]
[]
[]
[]
[]
[]
["Total",null,null,{"$f":"SUM(D328:D335)","v":0},{"$f":"SUM(E328:E335)","v":0},{"$f":"SUM(F328:F335)","v":0},{"$f":"SUM(G328:G335)","v":0},{"$f":"SUM(H328:H335)","v":0},{"$f":"SUM(I328:I335)","v":0},{"$f":"SUM(J328:J335)","v":0},{"$f":"SUM(K328:K335)","v":0},{"$f":"SUM(L328:L335)","v":0},{"$f":"SUM(M328:M335)","v":0},null,{"$f":"SUM(O328:O335)","v":0}]
[]
[]
[null,null,null,{"$f":"D$12","v":"2014 Actual²"},"2015 Actual²","2016 Actual²","2017 Actual²","2018 Actual²","2019 Actual²","2020 Actual²","2021 Actual","Actual","Test Year",null,{"$f":"O$12","v":"CGAAP"}]
[null,null,null,{"$f":"D$13","v":2014},2015,2016,2017,2018,2019,2020,2021,2022,2023,null,{"$f":"O$13","v":"Enter Transition Year"}]
["Reporting Basis",null,null,{"$f":"IF(D279=0, \"\", D279)","v":""},"","",{"$f":"IF($G$14=0, \"\", $G$14)","v":"MIFRS"},{"$f":"IF($H$14=0, \"\", $H$14)","v":"MIFRS"},{"$f":"IF($I$14=0, \"\", $I$14)","v":"MIFRS"},{"$f":"IF($J$14=0, \"\", $J$14)","v":"MIFRS"},{"$f":"IF($K$14=0, \"\", $K$14)","v":"MIFRS"},{"$f":"IF($L$14=0, \"\", $L$14)","v":"MIFRS"},{"$f":"IF($M$14=0, \"\", $M$14)","v":"MIFRS"},null,{"$f":"IF($O$14=0, \"\", $O$14)","v":""}]
[]
[]
[]
[]
[]
[]
[]
[]
["Total",null,null,{"$f":"SUM(D342:D349)","v":0},{"$f":"SUM(E342:E349)","v":0},{"$f":"SUM(F342:F349)","v":0},{"$f":"SUM(G342:G349)","v":0},{"$f":"SUM(H342:H349)","v":0},{"$f":"SUM(I342:I349)","v":0},{"$f":"SUM(J342:J349)","v":0},{"$f":"SUM(K342:K349)","v":0},{"$f":"SUM(L342:L349)","v":0},{"$f":"SUM(M342:M349)","v":0},null,{"$f":"SUM(O342:O349)","v":0}]
[]
[]
[null,null,null,{"$f":"D$12","v":"2014 Actual²"},"2015 Actual²","2016 Actual²","2017 Actual²","2018 Actual²","2019 Actual²","2020 Actual²","2021 Actual","Actual","Test Year",null,{"$f":"O$12","v":"CGAAP"}]
[null,null,null,{"$f":"D$13","v":2014},2015,2016,2017,2018,2019,2020,2021,2022,2023,null,{"$f":"O$13","v":"Enter Transition Year"}]
["Reporting Basis",null,null,{"$f":"IF(D293=0, \"\", D293)","v":""},"","",{"$f":"IF($G$14=0, \"\", $G$14)","v":"MIFRS"},{"$f":"IF($H$14=0, \"\", $H$14)","v":"MIFRS"},{"$f":"IF($I$14=0, \"\", $I$14)","v":"MIFRS"},{"$f":"IF($J$14=0, \"\", $J$14)","v":"MIFRS"},{"$f":"IF($K$14=0, \"\", $K$14)","v":"MIFRS"},{"$f":"IF($L$14=0, \"\", $L$14)","v":"MIFRS"},{"$f":"IF($M$14=0, \"\", $M$14)","v":"MIFRS"},null,{"$f":"IF($O$14=0, \"\", $O$14)","v":""}]
[]
[]
[]
[]
[]
[]
[]
[]
["Total",null,null,{"$f":"SUM(D356:D363)","v":0},{"$f":"SUM(E356:E363)","v":0},{"$f":"SUM(F356:F363)","v":0},{"$f":"SUM(G356:G363)","v":0},{"$f":"SUM(H356:H363)","v":0},{"$f":"SUM(I356:I363)","v":0},{"$f":"SUM(J356:J363)","v":0},{"$f":"SUM(K356:K363)","v":0},{"$f":"SUM(L356:L363)","v":0},{"$f":"SUM(M356:M363)","v":0},null,{"$f":"SUM(O356:O363)","v":0}]
[]
[]
[null,null,null,{"$f":"D$12","v":"2014 Actual²"},"2015 Actual²","2016 Actual²","2017 Actual²","2018 Actual²","2019 Actual²","2020 Actual²","2021 Actual","Actual","Test Year",null,{"$f":"O$12","v":"CGAAP"}]
[null,null,null,{"$f":"D$13","v":2014},2015,2016,2017,2018,2019,2020,2021,2022,2023,null,{"$f":"O$13","v":"Enter Transition Year"}]
["Reporting Basis",null,null,{"$f":"IF(D307=0, \"\", D307)","v":""},"","",{"$f":"IF($G$14=0, \"\", $G$14)","v":"MIFRS"},{"$f":"IF($H$14=0, \"\", $H$14)","v":"MIFRS"},{"$f":"IF($I$14=0, \"\", $I$14)","v":"MIFRS"},{"$f":"IF($J$14=0, \"\", $J$14)","v":"MIFRS"},{"$f":"IF($K$14=0, \"\", $K$14)","v":"MIFRS"},{"$f":"IF($L$14=0, \"\", $L$14)","v":"MIFRS"},{"$f":"IF($M$14=0, \"\", $M$14)","v":"MIFRS"},null,{"$f":"IF($O$14=0, \"\", $O$14)","v":""}]
[]
[]
[]
[]
[]
[]
[]
[]
["Total",null,null,{"$f":"SUM(D370:D377)","v":0},{"$f":"SUM(E370:E377)","v":0},{"$f":"SUM(F370:F377)","v":0},{"$f":"SUM(G370:G377)","v":0},{"$f":"SUM(H370:H377)","v":0},{"$f":"SUM(I370:I377)","v":0},{"$f":"SUM(J370:J377)","v":0},{"$f":"SUM(K370:K377)","v":0},{"$f":"SUM(L370:L377)","v":0},{"$f":"SUM(M370:M377)","v":0},null,{"$f":"SUM(O370:O377)","v":0}]
[]
[]
[null,null,null,{"$f":"D$12","v":"2014 Actual²"},"2015 Actual²","2016 Actual²","2017 Actual²","2018 Actual²","2019 Actual²","2020 Actual²","2021 Actual","Actual","Test Year",null,{"$f":"O$12","v":"CGAAP"}]
[null,null,null,{"$f":"D$13","v":2014},2015,2016,2017,2018,2019,2020,2021,2022,2023,null,{"$f":"O$13","v":"Enter Transition Year"}]
["Reporting Basis",null,null,{"$f":"IF(D321=0, \"\", D321)","v":""},"","",{"$f":"IF($G$14=0, \"\", $G$14)","v":"MIFRS"},{"$f":"IF($H$14=0, \"\", $H$14)","v":"MIFRS"},{"$f":"IF($I$14=0, \"\", $I$14)","v":"MIFRS"},{"$f":"IF($J$14=0, \"\", $J$14)","v":"MIFRS"},{"$f":"IF($K$14=0, \"\", $K$14)","v":"MIFRS"},{"$f":"IF($L$14=0, \"\", $L$14)","v":"MIFRS"},{"$f":"IF($M$14=0, \"\", $M$14)","v":"MIFRS"},null,{"$f":"IF($O$14=0, \"\", $O$14)","v":""}]
[]
[]
[]
[]
[]
[]
[]
[]
["Total",null,null,{"$f":"SUM(D384:D391)","v":0},{"$f":"SUM(E384:E391)","v":0},{"$f":"SUM(F384:F391)","v":0},{"$f":"SUM(G384:G391)","v":0},{"$f":"SUM(H384:H391)","v":0},{"$f":"SUM(I384:I391)","v":0},{"$f":"SUM(J384:J391)","v":0},{"$f":"SUM(K384:K391)","v":0},{"$f":"SUM(L384:L391)","v":0},{"$f":"SUM(M384:M391)","v":0},null,{"$f":"SUM(O384:O391)","v":0}]
[]
[]
[null,null,null,{"$f":"D$12","v":"2014 Actual²"},"2015 Actual²","2016 Actual²","2017 Actual²","2018 Actual²","2019 Actual²","2020 Actual²","2021 Actual","Actual","Test Year",null,{"$f":"O$12","v":"CGAAP"}]
[null,null,null,{"$f":"D$13","v":2014},2015,2016,2017,2018,2019,2020,2021,2022,2023,null,{"$f":"O$13","v":"Enter Transition Year"}]
["Reporting Basis",null,null,{"$f":"IF(D335=0, \"\", D335)","v":""},"","",{"$f":"IF($G$14=0, \"\", $G$14)","v":"MIFRS"},{"$f":"IF($H$14=0, \"\", $H$14)","v":"MIFRS"},{"$f":"IF($I$14=0, \"\", $I$14)","v":"MIFRS"},{"$f":"IF($J$14=0, \"\", $J$14)","v":"MIFRS"},{"$f":"IF($K$14=0, \"\", $K$14)","v":"MIFRS"},{"$f":"IF($L$14=0, \"\", $L$14)","v":"MIFRS"},{"$f":"IF($M$14=0, \"\", $M$14)","v":"MIFRS"},null,{"$f":"IF($O$14=0, \"\", $O$14)","v":""}]
[]
[]
[]
[]
[]
[]
[]
[]
["Total",null,null,{"$f":"SUM(D398:D405)","v":0},{"$f":"SUM(E398:E405)","v":0},{"$f":"SUM(F398:F405)","v":0},{"$f":"SUM(G398:G405)","v":0},{"$f":"SUM(H398:H405)","v":0},{"$f":"SUM(I398:I405)","v":0},{"$f":"SUM(J398:J405)","v":0},{"$f":"SUM(K398:K405)","v":0},{"$f":"SUM(L398:L405)","v":0},{"$f":"SUM(M398:M405)","v":0},null,{"$f":"SUM(O398:O405)","v":0}]
[]
[]
[null,null,null,{"$f":"D$12","v":"2014 Actual²"},"2015 Actual²","2016 Actual²","2017 Actual²","2018 Actual²","2019 Actual²","2020 Actual²","2021 Actual","Actual","Test Year",null,{"$f":"O$12","v":"CGAAP"}]
[null,null,null,{"$f":"D$13","v":2014},2015,2016,2017,2018,2019,2020,2021,2022,2023,null,{"$f":"O$13","v":"Enter Transition Year"}]
["Reporting Basis",null,null,{"$f":"IF(D349=0, \"\", D349)","v":""},"","",{"$f":"IF($G$14=0, \"\", $G$14)","v":"MIFRS"},{"$f":"IF($H$14=0, \"\", $H$14)","v":"MIFRS"},{"$f":"IF($I$14=0, \"\", $I$14)","v":"MIFRS"},{"$f":"IF($J$14=0, \"\", $J$14)","v":"MIFRS"},{"$f":"IF($K$14=0, \"\", $K$14)","v":"MIFRS"},{"$f":"IF($L$14=0, \"\", $L$14)","v":"MIFRS"},{"$f":"IF($M$14=0, \"\", $M$14)","v":"MIFRS"},null,{"$f":"IF($O$14=0, \"\", $O$14)","v":""}]
[]
[]
[]
[]
[]
[]
[]
[]
["Total",null,null,{"$f":"SUM(D412:D419)","v":0},{"$f":"SUM(E412:E419)","v":0},{"$f":"SUM(F412:F419)","v":0},{"$f":"SUM(G412:G419)","v":0},{"$f":"SUM(H412:H419)","v":0},{"$f":"SUM(I412:I419)","v":0},{"$f":"SUM(J412:J419)","v":0},{"$f":"SUM(K412:K419)","v":0},{"$f":"SUM(L412:L419)","v":0},{"$f":"SUM(M412:M419)","v":0},null,{"$f":"SUM(O412:O419)","v":0}]
[]
[]
[null,null,null,{"$f":"D$12","v":"2014 Actual²"},"2015 Actual²","2016 Actual²","2017 Actual²","2018 Actual²","2019 Actual²","2020 Actual²","2021 Actual","Actual","Test Year",null,{"$f":"O$12","v":"CGAAP"}]
[null,null,null,{"$f":"D$13","v":2014},2015,2016,2017,2018,2019,2020,2021,2022,2023,null,{"$f":"O$13","v":"Enter Transition Year"}]
["Reporting Basis",null,null,{"$f":"IF(D363=0, \"\", D363)","v":""},"","",{"$f":"IF($G$14=0, \"\", $G$14)","v":"MIFRS"},{"$f":"IF($H$14=0, \"\", $H$14)","v":"MIFRS"},{"$f":"IF($I$14=0, \"\", $I$14)","v":"MIFRS"},{"$f":"IF($J$14=0, \"\", $J$14)","v":"MIFRS"},{"$f":"IF($K$14=0, \"\", $K$14)","v":"MIFRS"},{"$f":"IF($L$14=0, \"\", $L$14)","v":"MIFRS"},{"$f":"IF($M$14=0, \"\", $M$14)","v":"MIFRS"},null,{"$f":"IF($O$14=0, \"\", $O$14)","v":""}]
[]
[]
[]
[]
[]
[]
[]
[]
["Total",null,null,{"$f":"SUM(D426:D433)","v":0},{"$f":"SUM(E426:E433)","v":0},{"$f":"SUM(F426:F433)","v":0},{"$f":"SUM(G426:G433)","v":0},{"$f":"SUM(H426:H433)","v":0},{"$f":"SUM(I426:I433)","v":0},{"$f":"SUM(J426:J433)","v":0},{"$f":"SUM(K426:K433)","v":0},{"$f":"SUM(L426:L433)","v":0},{"$f":"SUM(M426:M433)","v":0},null,{"$f":"SUM(O426:O433)","v":0}]
[]
[]
[null,null,null,{"$f":"D$12","v":"2014 Actual²"},"2015 Actual²","2016 Actual²","2017 Actual²","2018 Actual²","2019 Actual²","2020 Actual²","2021 Actual","Actual","Test Year",null,{"$f":"O$12","v":"CGAAP"}]
[null,null,null,{"$f":"D$13","v":2014},2015,2016,2017,2018,2019,2020,2021,2022,2023,null,{"$f":"O$13","v":"Enter Transition Year"}]
["Reporting Basis",null,null,{"$f":"IF(D377=0, \"\", D377)","v":""},"","",{"$f":"IF($G$14=0, \"\", $G$14)","v":"MIFRS"},{"$f":"IF($H$14=0, \"\", $H$14)","v":"MIFRS"},{"$f":"IF($I$14=0, \"\", $I$14)","v":"MIFRS"},{"$f":"IF($J$14=0, \"\", $J$14)","v":"MIFRS"},{"$f":"IF($K$14=0, \"\", $K$14)","v":"MIFRS"},{"$f":"IF($L$14=0, \"\", $L$14)","v":"MIFRS"},{"$f":"IF($M$14=0, \"\", $M$14)","v":"MIFRS"},null,{"$f":"IF($O$14=0, \"\", $O$14)","v":""}]
[]
[]
[]
[]
[]
[]
[]
[]
["Total",null,null,{"$f":"SUM(D440:D447)","v":0},{"$f":"SUM(E440:E447)","v":0},{"$f":"SUM(F440:F447)","v":0},{"$f":"SUM(G440:G447)","v":0},{"$f":"SUM(H440:H447)","v":0},{"$f":"SUM(I440:I447)","v":0},{"$f":"SUM(J440:J447)","v":0},{"$f":"SUM(K440:K447)","v":0},{"$f":"SUM(L440:L447)","v":0},{"$f":"SUM(M440:M447)","v":0},null,{"$f":"SUM(O440:O447)","v":0}]
[]
[]
[null,null,null,{"$f":"D$12","v":"2014 Actual²"},"2015 Actual²","2016 Actual²","2017 Actual²","2018 Actual²","2019 Actual²","2020 Actual²","2021 Actual","Actual","Test Year",null,{"$f":"O$12","v":"CGAAP"}]
[null,null,null,{"$f":"D$13","v":2014},2015,2016,2017,2018,2019,2020,2021,2022,2023,null,{"$f":"O$13","v":"Enter Transition Year"}]
["Reporting Basis",null,null,{"$f":"IF(D391=0, \"\", D391)","v":""},"","",{"$f":"IF($G$14=0, \"\", $G$14)","v":"MIFRS"},{"$f":"IF($H$14=0, \"\", $H$14)","v":"MIFRS"},{"$f":"IF($I$14=0, \"\", $I$14)","v":"MIFRS"},{"$f":"IF($J$14=0, \"\", $J$14)","v":"MIFRS"},{"$f":"IF($K$14=0, \"\", $K$14)","v":"MIFRS"},{"$f":"IF($L$14=0, \"\", $L$14)","v":"MIFRS"},{"$f":"IF($M$14=0, \"\", $M$14)","v":"MIFRS"},null,{"$f":"IF($O$14=0, \"\", $O$14)","v":""}]
[]
[]
[]
[]
[]
[]
[]
[]
["Total",null,null,{"$f":"SUM(D454:D461)","v":0},{"$f":"SUM(E454:E461)","v":0},{"$f":"SUM(F454:F461)","v":0},{"$f":"SUM(G454:G461)","v":0},{"$f":"SUM(H454:H461)","v":0},{"$f":"SUM(I454:I461)","v":0},{"$f":"SUM(J454:J461)","v":0},{"$f":"SUM(K454:K461)","v":0},{"$f":"SUM(L454:L461)","v":0},{"$f":"SUM(M454:M461)","v":0},null,{"$f":"SUM(O454:O461)","v":0}]
[]
[]
[null,null,null,{"$f":"D$12","v":"2014 Actual²"},"2015 Actual²","2016 Actual²","2017 Actual²","2018 Actual²","2019 Actual²","2020 Actual²","2021 Actual","Actual","Test Year",null,{"$f":"O$12","v":"CGAAP"}]
[null,null,null,{"$f":"D$13","v":2014},2015,2016,2017,2018,2019,2020,2021,2022,2023,null,{"$f":"O$13","v":"Enter Transition Year"}]
["Reporting Basis",null,null,{"$f":"IF(D405=0, \"\", D405)","v":""},"","",{"$f":"IF($G$14=0, \"\", $G$14)","v":"MIFRS"},{"$f":"IF($H$14=0, \"\", $H$14)","v":"MIFRS"},{"$f":"IF($I$14=0, \"\", $I$14)","v":"MIFRS"},{"$f":"IF($J$14=0, \"\", $J$14)","v":"MIFRS"},{"$f":"IF($K$14=0, \"\", $K$14)","v":"MIFRS"},{"$f":"IF($L$14=0, \"\", $L$14)","v":"MIFRS"},{"$f":"IF($M$14=0, \"\", $M$14)","v":"MIFRS"},null,{"$f":"IF($O$14=0, \"\", $O$14)","v":""}]
[]
[]
[]
[]
[]
[]
[]
[]
["Total",null,null,{"$f":"SUM(D468:D475)","v":0},{"$f":"SUM(E468:E475)","v":0},{"$f":"SUM(F468:F475)","v":0},{"$f":"SUM(G468:G475)","v":0},{"$f":"SUM(H468:H475)","v":0},{"$f":"SUM(I468:I475)","v":0},{"$f":"SUM(J468:J475)","v":0},{"$f":"SUM(K468:K475)","v":0},{"$f":"SUM(L468:L475)","v":0},{"$f":"SUM(M468:M475)","v":0},null,{"$f":"SUM(O468:O475)","v":0}]
[]
[]
[null,null,null,{"$f":"D$12","v":"2014 Actual²"},"2015 Actual²","2016 Actual²","2017 Actual²","2018 Actual²","2019 Actual²","2020 Actual²","2021 Actual","Actual","Test Year",null,{"$f":"O$12","v":"CGAAP"}]
[null,null,null,{"$f":"D$13","v":2014},2015,2016,2017,2018,2019,2020,2021,2022,2023,null,{"$f":"O$13","v":"Enter Transition Year"}]
["Reporting Basis",null,null,{"$f":"IF(D419=0, \"\", D419)","v":""},"","",{"$f":"IF($G$14=0, \"\", $G$14)","v":"MIFRS"},{"$f":"IF($H$14=0, \"\", $H$14)","v":"MIFRS"},{"$f":"IF($I$14=0, \"\", $I$14)","v":"MIFRS"},{"$f":"IF($J$14=0, \"\", $J$14)","v":"MIFRS"},{"$f":"IF($K$14=0, \"\", $K$14)","v":"MIFRS"},{"$f":"IF($L$14=0, \"\", $L$14)","v":"MIFRS"},{"$f":"IF($M$14=0, \"\", $M$14)","v":"MIFRS"},null,{"$f":"IF($O$14=0, \"\", $O$14)","v":""}]
[]
[]
[]
[]
[]
[]
[]
[]
["Total",null,null,{"$f":"SUM(D482:D489)","v":0},{"$f":"SUM(E482:E489)","v":0},{"$f":"SUM(F482:F489)","v":0},{"$f":"SUM(G482:G489)","v":0},{"$f":"SUM(H482:H489)","v":0},{"$f":"SUM(I482:I489)","v":0},{"$f":"SUM(J482:J489)","v":0},{"$f":"SUM(K482:K489)","v":0},{"$f":"SUM(L482:L489)","v":0},{"$f":"SUM(M482:M489)","v":0},null,{"$f":"SUM(O482:O489)","v":0}]
[]
[]
[null,null,null,{"$f":"D$12","v":"2014 Actual²"},"2015 Actual²","2016 Actual²","2017 Actual²","2018 Actual²","2019 Actual²","2020 Actual²","2021 Actual","Actual","Test Year",null,{"$f":"O$12","v":"CGAAP"}]
[null,null,null,{"$f":"D$13","v":2014},2015,2016,2017,2018,2019,2020,2021,2022,2023,null,{"$f":"O$13","v":"Enter Transition Year"}]
["Reporting Basis",null,null,{"$f":"IF(D433=0, \"\", D433)","v":""},"","",{"$f":"IF($G$14=0, \"\", $G$14)","v":"MIFRS"},{"$f":"IF($H$14=0, \"\", $H$14)","v":"MIFRS"},{"$f":"IF($I$14=0, \"\", $I$14)","v":"MIFRS"},{"$f":"IF($J$14=0, \"\", $J$14)","v":"MIFRS"},{"$f":"IF($K$14=0, \"\", $K$14)","v":"MIFRS"},{"$f":"IF($L$14=0, \"\", $L$14)","v":"MIFRS"},{"$f":"IF($M$14=0, \"\", $M$14)","v":"MIFRS"},null,{"$f":"IF($O$14=0, \"\", $O$14)","v":""}]
[]
[]
[]
[]
[]
[]
[]
[]
["Total",null,null,{"$f":"SUM(D496:D503)","v":0},{"$f":"SUM(E496:E503)","v":0},{"$f":"SUM(F496:F503)","v":0},{"$f":"SUM(G496:G503)","v":0},{"$f":"SUM(H496:H503)","v":0},{"$f":"SUM(I496:I503)","v":0},{"$f":"SUM(J496:J503)","v":0},{"$f":"SUM(K496:K503)","v":0},{"$f":"SUM(L496:L503)","v":0},{"$f":"SUM(M496:M503)","v":0},null,{"$f":"SUM(O496:O503)","v":0}]
[]
[]
[null,null,null,{"$f":"D$12","v":"2014 Actual²"},"2015 Actual²","2016 Actual²","2017 Actual²","2018 Actual²","2019 Actual²","2020 Actual²","2021 Actual","Actual","Test Year",null,{"$f":"O$12","v":"CGAAP"}]
[null,null,null,{"$f":"D$13","v":2014},2015,2016,2017,2018,2019,2020,2021,2022,2023,null,{"$f":"O$13","v":"Enter Transition Year"}]
["Reporting Basis",null,null,{"$f":"IF(D447=0, \"\", D447)","v":""},"","",{"$f":"IF($G$14=0, \"\", $G$14)","v":"MIFRS"},{"$f":"IF($H$14=0, \"\", $H$14)","v":"MIFRS"},{"$f":"IF($I$14=0, \"\", $I$14)","v":"MIFRS"},{"$f":"IF($J$14=0, \"\", $J$14)","v":"MIFRS"},{"$f":"IF($K$14=0, \"\", $K$14)","v":"MIFRS"},{"$f":"IF($L$14=0, \"\", $L$14)","v":"MIFRS"},{"$f":"IF($M$14=0, \"\", $M$14)","v":"MIFRS"},null,{"$f":"IF($O$14=0, \"\", $O$14)","v":""}]
[]
[]
[]
[]
[]
[]
[]
[]
["Total",null,null,{"$f":"SUM(D510:D517)","v":0},{"$f":"SUM(E510:E517)","v":0},{"$f":"SUM(F510:F517)","v":0},{"$f":"SUM(G510:G517)","v":0},{"$f":"SUM(H510:H517)","v":0},{"$f":"SUM(I510:I517)","v":0},{"$f":"SUM(J510:J517)","v":0},{"$f":"SUM(K510:K517)","v":0},{"$f":"SUM(L510:L517)","v":0},{"$f":"SUM(M510:M517)","v":0},null,{"$f":"SUM(O510:O517)","v":0}]
[]
[]
[null,null,null,{"$f":"D$12","v":"2014 Actual²"},"2015 Actual²","2016 Actual²","2017 Actual²","2018 Actual²","2019 Actual²","2020 Actual²","2021 Actual","Actual","Test Year",null,{"$f":"O$12","v":"CGAAP"}]
[null,null,null,{"$f":"D$13","v":2014},2015,2016,2017,2018,2019,2020,2021,2022,2023,null,{"$f":"O$13","v":"Enter Transition Year"}]
["Reporting Basis",null,null,{"$f":"IF(D461=0, \"\", D461)","v":""},"","",{"$f":"IF($G$14=0, \"\", $G$14)","v":"MIFRS"},{"$f":"IF($H$14=0, \"\", $H$14)","v":"MIFRS"},{"$f":"IF($I$14=0, \"\", $I$14)","v":"MIFRS"},{"$f":"IF($J$14=0, \"\", $J$14)","v":"MIFRS"},{"$f":"IF($K$14=0, \"\", $K$14)","v":"MIFRS"},{"$f":"IF($L$14=0, \"\", $L$14)","v":"MIFRS"},{"$f":"IF($M$14=0, \"\", $M$14)","v":"MIFRS"},null,{"$f":"IF($O$14=0, \"\", $O$14)","v":""}]
[]
[]
[]
[]
[]
[]
[]
[]
["Total",null,null,{"$f":"SUM(D524:D531)","v":0},{"$f":"SUM(E524:E531)","v":0},{"$f":"SUM(F524:F531)","v":0},{"$f":"SUM(G524:G531)","v":0},{"$f":"SUM(H524:H531)","v":0},{"$f":"SUM(I524:I531)","v":0},{"$f":"SUM(J524:J531)","v":0},{"$f":"SUM(K524:K531)","v":0},{"$f":"SUM(L524:L531)","v":0},{"$f":"SUM(M524:M531)","v":0},null,{"$f":"SUM(O524:O531)","v":0}]
[]
[]
[null,null,null,{"$f":"D$12","v":"2014 Actual²"},"2015 Actual²","2016 Actual²","2017 Actual²","2018 Actual²","2019 Actual²","2020 Actual²","2021 Actual","Actual","Test Year",null,{"$f":"O$12","v":"CGAAP"}]
[null,null,null,{"$f":"D$13","v":2014},2015,2016,2017,2018,2019,2020,2021,2022,2023,null,{"$f":"O$13","v":"Enter Transition Year"}]
["Reporting Basis",null,null,{"$f":"IF(D475=0, \"\", D475)","v":""},"","",{"$f":"IF($G$14=0, \"\", $G$14)","v":"MIFRS"},{"$f":"IF($H$14=0, \"\", $H$14)","v":"MIFRS"},{"$f":"IF($I$14=0, \"\", $I$14)","v":"MIFRS"},{"$f":"IF($J$14=0, \"\", $J$14)","v":"MIFRS"},{"$f":"IF($K$14=0, \"\", $K$14)","v":"MIFRS"},{"$f":"IF($L$14=0, \"\", $L$14)","v":"MIFRS"},{"$f":"IF($M$14=0, \"\", $M$14)","v":"MIFRS"},null,{"$f":"IF($O$14=0, \"\", $O$14)","v":""}]
[]
[]
[]
[]
[]
[]
[]
[]
["Total",null,null,{"$f":"SUM(D538:D545)","v":0},{"$f":"SUM(E538:E545)","v":0},{"$f":"SUM(F538:F545)","v":0},{"$f":"SUM(G538:G545)","v":0},{"$f":"SUM(H538:H545)","v":0},{"$f":"SUM(I538:I545)","v":0},{"$f":"SUM(J538:J545)","v":0},{"$f":"SUM(K538:K545)","v":0},{"$f":"SUM(L538:L545)","v":0},{"$f":"SUM(M538:M545)","v":0},null,{"$f":"SUM(O538:O545)","v":0}]
[]
[]
[null,null,null,{"$f":"D$12","v":"2014 Actual²"},"2015 Actual²","2016 Actual²","2017 Actual²","2018 Actual²","2019 Actual²","2020 Actual²","2021 Actual","Actual","Test Year",null,{"$f":"O$12","v":"CGAAP"}]
[null,null,null,{"$f":"D$13","v":2014},2015,2016,2017,2018,2019,2020,2021,2022,2023,null,{"$f":"O$13","v":"Enter Transition Year"}]
["Reporting Basis",null,null,{"$f":"IF(D489=0, \"\", D489)","v":""},"","",{"$f":"IF($G$14=0, \"\", $G$14)","v":"MIFRS"},{"$f":"IF($H$14=0, \"\", $H$14)","v":"MIFRS"},{"$f":"IF($I$14=0, \"\", $I$14)","v":"MIFRS"},{"$f":"IF($J$14=0, \"\", $J$14)","v":"MIFRS"},{"$f":"IF($K$14=0, \"\", $K$14)","v":"MIFRS"},{"$f":"IF($L$14=0, \"\", $L$14)","v":"MIFRS"},{"$f":"IF($M$14=0, \"\", $M$14)","v":"MIFRS"},null,{"$f":"IF($O$14=0, \"\", $O$14)","v":""}]
[]
[]
[]
[]
[]
[]
[]
[]
["Total",null,null,{"$f":"SUM(D552:D559)","v":0},{"$f":"SUM(E552:E559)","v":0},{"$f":"SUM(F552:F559)","v":0},{"$f":"SUM(G552:G559)","v":0},{"$f":"SUM(H552:H559)","v":0},{"$f":"SUM(I552:I559)","v":0},{"$f":"SUM(J552:J559)","v":0},{"$f":"SUM(K552:K559)","v":0},{"$f":"SUM(L552:L559)","v":0},{"$f":"SUM(M552:M559)","v":0},null,{"$f":"SUM(O552:O559)","v":0}]
[]
[]
[null,null,null,{"$f":"D$12","v":"2014 Actual²"},"2015 Actual²","2016 Actual²","2017 Actual²","2018 Actual²","2019 Actual²","2020 Actual²","2021 Actual","Actual","Test Year",null,{"$f":"O$12","v":"CGAAP"}]
[null,null,null,{"$f":"D$13","v":2014},2015,2016,2017,2018,2019,2020,2021,2022,2023,null,{"$f":"O$13","v":"Enter Transition Year"}]
["Reporting Basis",null,null,{"$f":"IF(D503=0, \"\", D503)","v":""},"","",{"$f":"IF($G$14=0, \"\", $G$14)","v":"MIFRS"},{"$f":"IF($H$14=0, \"\", $H$14)","v":"MIFRS"},{"$f":"IF($I$14=0, \"\", $I$14)","v":"MIFRS"},{"$f":"IF($J$14=0, \"\", $J$14)","v":"MIFRS"},{"$f":"IF($K$14=0, \"\", $K$14)","v":"MIFRS"},{"$f":"IF($L$14=0, \"\", $L$14)","v":"MIFRS"},{"$f":"IF($M$14=0, \"\", $M$14)","v":"MIFRS"},null,{"$f":"IF($O$14=0, \"\", $O$14)","v":""}]
[]
[]
[]
[]
[]
[]
[]
[]
["Total",null,null,{"$f":"SUM(D566:D573)","v":0},{"$f":"SUM(E566:E573)","v":0},{"$f":"SUM(F566:F573)","v":0},{"$f":"SUM(G566:G573)","v":0},{"$f":"SUM(H566:H573)","v":0},{"$f":"SUM(I566:I573)","v":0},{"$f":"SUM(J566:J573)","v":0},{"$f":"SUM(K566:K573)","v":0},{"$f":"SUM(L566:L573)","v":0},{"$f":"SUM(M566:M573)","v":0},null,{"$f":"SUM(O566:O573)","v":0}]
[]
[]
[null,null,null,{"$f":"D$12","v":"2014 Actual²"},"2015 Actual²","2016 Actual²","2017 Actual²","2018 Actual²","2019 Actual²","2020 Actual²","2021 Actual","Actual","Test Year",null,{"$f":"O$12","v":"CGAAP"}]
[null,null,null,{"$f":"D$13","v":2014},2015,2016,2017,2018,2019,2020,2021,2022,2023,null,{"$f":"O$13","v":"Enter Transition Year"}]
["Reporting Basis",null,null,{"$f":"IF(D517=0, \"\", D517)","v":""},"","",{"$f":"IF($G$14=0, \"\", $G$14)","v":"MIFRS"},{"$f":"IF($H$14=0, \"\", $H$14)","v":"MIFRS"},{"$f":"IF($I$14=0, \"\", $I$14)","v":"MIFRS"},{"$f":"IF($J$14=0, \"\", $J$14)","v":"MIFRS"},{"$f":"IF($K$14=0, \"\", $K$14)","v":"MIFRS"},{"$f":"IF($L$14=0, \"\", $L$14)","v":"MIFRS"},{"$f":"IF($M$14=0, \"\", $M$14)","v":"MIFRS"},null,{"$f":"IF($O$14=0, \"\", $O$14)","v":""}]
[]
[]
[]
[]
[]
[]
[]
[]
["Total",null,null,{"$f":"SUM(D580:D587)","v":0},{"$f":"SUM(E580:E587)","v":0},{"$f":"SUM(F580:F587)","v":0},{"$f":"SUM(G580:G587)","v":0},{"$f":"SUM(H580:H587)","v":0},{"$f":"SUM(I580:I587)","v":0},{"$f":"SUM(J580:J587)","v":0},{"$f":"SUM(K580:K587)","v":0},{"$f":"SUM(L580:L587)","v":0},{"$f":"SUM(M580:M587)","v":0},null,{"$f":"SUM(O580:O587)","v":0}]

{"sheet":"Hidden_Other Revenue","index":31,"n_rows":41,"n_cols":8,"rows_kept":41,"cut":false,"hidden":true,"merged":[]}
["Utility Name","EB Number","Test Year","Bridge Year","Last Rebasing Year","Heading ","Year","Amount "]
[{"$f":"'LDC Info'!$E$14","v":"Bluewater Power Distribution Corporation"},{"$f":"EBNUMBER","v":"EB-2022-0016"},{"$f":"TestYear","v":2023},{"$f":"BridgeYear","v":2022},{"$f":"RebaseYear","v":2013},"Specific Service Charges",{"$f":"'App.2-H_Other_Oper_Rev'!D13","v":2014},{"$f":"'App.2-H_Other_Oper_Rev'!D65","v":-197117}]
[{"$f":"'LDC Info'!$E$14","v":"Bluewater Power Distribution Corporation"},"EB-2022-0016",2023,2022,2013,"Late Payment Charges",{"$f":"'App.2-H_Other_Oper_Rev'!D13","v":2014},{"$f":"'App.2-H_Other_Oper_Rev'!D66","v":-326487}]
[{"$f":"'LDC Info'!$E$14","v":"Bluewater Power Distribution Corporation"},"EB-2022-0016",2023,2022,2013,"Other Operating Revenues",{"$f":"'App.2-H_Other_Oper_Rev'!D13","v":2014},{"$f":"'App.2-H_Other_Oper_Rev'!D67","v":-504703}]
[{"$f":"'LDC Info'!$E$14","v":"Bluewater Power Distribution Corporation"},"EB-2022-0016",2023,2022,2013,"Other Income or Deductions",{"$f":"'App.2-H_Other_Oper_Rev'!D13","v":2014},{"$f":"'App.2-H_Other_Oper_Rev'!D68","v":-455236}]
[{"$f":"'LDC Info'!$E$14","v":"Bluewater Power Distribution Corporation"},"EB-2022-0016",2023,2022,2013,"Specific Service Charges",{"$f":"'App.2-H_Other_Oper_Rev'!E13","v":2015},{"$f":"'App.2-H_Other_Oper_Rev'!E65","v":-277024}]
[{"$f":"'LDC Info'!$E$14","v":"Bluewater Power Distribution Corporation"},"EB-2022-0016",2023,2022,2013,"Late Payment Charges",{"$f":"'App.2-H_Other_Oper_Rev'!E13","v":2015},{"$f":"'App.2-H_Other_Oper_Rev'!E66","v":-356006}]
[{"$f":"'LDC Info'!$E$14","v":"Bluewater Power Distribution Corporation"},"EB-2022-0016",2023,2022,2013,"Other Operating Revenues",{"$f":"'App.2-H_Other_Oper_Rev'!E13","v":2015},{"$f":"'App.2-H_Other_Oper_Rev'!E67","v":-610712}]
[{"$f":"'LDC Info'!$E$14","v":"Bluewater Power Distribution Corporation"},"EB-2022-0016",2023,2022,2013,"Other Income or Deductions",{"$f":"'App.2-H_Other_Oper_Rev'!E13","v":2015},{"$f":"'App.2-H_Other_Oper_Rev'!E68","v":-277632}]
[{"$f":"'LDC Info'!$E$14","v":"Bluewater Power Distribution Corporation"},"EB-2022-0016",2023,2022,2013,"Specific Service Charges",{"$f":"'App.2-H_Other_Oper_Rev'!F13","v":2016},{"$f":"'App.2-H_Other_Oper_Rev'!#REF!","v":{"$error":"#REF!"}}]
[{"$f":"'LDC Info'!$E$14","v":"Bluewater Power Distribution Corporation"},"EB-2022-0016",2023,2022,2013,"Late Payment Charges",{"$f":"'App.2-H_Other_Oper_Rev'!F13","v":2016},{"$f":"'App.2-H_Other_Oper_Rev'!#REF!","v":{"$error":"#REF!"}}]
[{"$f":"'LDC Info'!$E$14","v":"Bluewater Power Distribution Corporation"},"EB-2022-0016",2023,2022,2013,"Other Operating Revenues",{"$f":"'App.2-H_Other_Oper_Rev'!F13","v":2016},{"$f":"'App.2-H_Other_Oper_Rev'!F67","v":-651663.95000000007}]
[{"$f":"'LDC Info'!$E$14","v":"Bluewater Power Distribution Corporation"},"EB-2022-0016",2023,2022,2013,"Other Income or Deductions",{"$f":"'App.2-H_Other_Oper_Rev'!F13","v":2016},{"$f":"'App.2-H_Other_Oper_Rev'!F68","v":-400588.99000000011}]
[{"$f":"'LDC Info'!$E$14","v":"Bluewater Power Distribution Corporation"},"EB-2022-0016",2023,2022,2013,"Specific Service Charges",{"$f":"'App.2-H_Other_Oper_Rev'!G13","v":2017},{"$f":"'App.2-H_Other_Oper_Rev'!F65","v":-287412.62}]
[{"$f":"'LDC Info'!$E$14","v":"Bluewater Power Distribution Corporation"},"EB-2022-0016",2023,2022,2013,"Late Payment Charges",{"$f":"'App.2-H_Other_Oper_Rev'!G13","v":2017},{"$f":"'App.2-H_Other_Oper_Rev'!F66","v":-449993.72}]
[{"$f":"'LDC Info'!$E$14","v":"Bluewater Power Distribution Corporation"},"EB-2022-0016",2023,2022,2013,"Other Operating Revenues",{"$f":"'App.2-H_Other_Oper_Rev'!G13","v":2017},{"$f":"'App.2-H_Other_Oper_Rev'!G67","v":-600342.56999999995}]
[{"$f":"'LDC Info'!$E$14","v":"Bluewater Power Distribution Corporation"},"EB-2022-0016",2023,2022,2013,"Other Income or Deductions",{"$f":"'App.2-H_Other_Oper_Rev'!G13","v":2017},{"$f":"'App.2-H_Other_Oper_Rev'!G68","v":-258849.25000000012}]
[{"$f":"'LDC Info'!$E$14","v":"Bluewater Power Distribution Corporation"},"EB-2022-0016",2023,2022,2013,"Specific Service Charges",{"$f":"'App.2-H_Other_Oper_Rev'!H13","v":2018},{"$f":"'App.2-H_Other_Oper_Rev'!G65","v":-205310.04}]
[{"$f":"'LDC Info'!$E$14","v":"Bluewater Power Distribution Corporation"},"EB-2022-0016",2023,2022,2013,"Late Payment Charges",{"$f":"'App.2-H_Other_Oper_Rev'!H13","v":2018},{"$f":"'App.2-H_Other_Oper_Rev'!G66","v":-319593.3}]
[{"$f":"'LDC Info'!$E$14","v":"Bluewater Power Distribution Corporation"},"EB-2022-0016",2023,2022,2013,"Other Operating Revenues",{"$f":"'App.2-H_Other_Oper_Rev'!H13","v":2018},{"$f":"'App.2-H_Other_Oper_Rev'!H67","v":-642901}]
[{"$f":"'LDC Info'!$E$14","v":"Bluewater Power Distribution Corporation"},"EB-2022-0016",2023,2022,2013,"Other Income or Deductions",{"$f":"'App.2-H_Other_Oper_Rev'!H13","v":2018},{"$f":"'App.2-H_Other_Oper_Rev'!H68","v":-421786}]
[{"$f":"'LDC Info'!$E$14","v":"Bluewater Power Distribution Corporation"},"EB-2022-0016",2023,2022,2013,"Specific Service Charges",{"$f":"'App.2-H_Other_Oper_Rev'!I13","v":2019},{"$f":"'App.2-H_Other_Oper_Rev'!H65","v":-162145}]
[{"$f":"'LDC Info'!$E$14","v":"Bluewater Power Distribution Corporation"},"EB-2022-0016",2023,2022,2013,"Late Payment Charges",{"$f":"'App.2-H_Other_Oper_Rev'!I13","v":2019},{"$f":"'App.2-H_Other_Oper_Rev'!H66","v":-240000}]
[{"$f":"'LDC Info'!$E$14","v":"Bluewater Power Distribution Corporation"},"EB-2022-0016",2023,2022,2013,"Other Operating Revenues",{"$f":"'App.2-H_Other_Oper_Rev'!I13","v":2019},{"$f":"'App.2-H_Other_Oper_Rev'!I67","v":-644952}]
[{"$f":"'LDC Info'!$E$14","v":"Bluewater Power Distribution Corporation"},"EB-2022-0016",2023,2022,2013,"Other Income or Deductions",{"$f":"'App.2-H_Other_Oper_Rev'!I13","v":2019},{"$f":"'App.2-H_Other_Oper_Rev'!I68","v":-339474}]
[{"$f":"'LDC Info'!$E$14","v":"Bluewater Power Distribution Corporation"},"EB-2022-0016",2023,2022,2013,"Specific Service Charges",{"$f":"'App.2-H_Other_Oper_Rev'!J13","v":2020},{"$f":"'App.2-H_Other_Oper_Rev'!I65","v":-209010}]
[{"$f":"'LDC Info'!$E$14","v":"Bluewater Power Distribution Corporation"},"EB-2022-0016",2023,2022,2013,"Late Payment Charges",{"$f":"'App.2-H_Other_Oper_Rev'!J13","v":2020},{"$f":"'App.2-H_Other_Oper_Rev'!I66","v":-247289}]
[{"$f":"'LDC Info'!$E$14","v":"Bluewater Power Distribution Corporation"},"EB-2022-0016",2023,2022,2013,"Other Operating Revenues",{"$f":"'App.2-H_Other_Oper_Rev'!J13","v":2020},{"$f":"'App.2-H_Other_Oper_Rev'!J67","v":-650173}]
[{"$f":"'LDC Info'!$E$14","v":"Bluewater Power Distribution Corporation"},"EB-2022-0016",2023,2022,2013,"Other Income or Deductions",{"$f":"'App.2-H_Other_Oper_Rev'!J13","v":2020},{"$f":"'App.2-H_Other_Oper_Rev'!J68","v":-694950}]
[{"$f":"'LDC Info'!$E$14","v":"Bluewater Power Distribution Corporation"},"EB-2022-0016",2023,2022,2013,"Specific Service Charges",{"$f":"'App.2-H_Other_Oper_Rev'!K13","v":2021},{"$f":"'App.2-H_Other_Oper_Rev'!J65","v":-188586}]
[{"$f":"'LDC Info'!$E$14","v":"Bluewater Power Distribution Corporation"},"EB-2022-0016",2023,2022,2013,"Late Payment Charges",{"$f":"'App.2-H_Other_Oper_Rev'!K13","v":2021},{"$f":"'App.2-H_Other_Oper_Rev'!J66","v":-241882}]
[{"$f":"'LDC Info'!$E$14","v":"Bluewater Power Distribution Corporation"},"EB-2022-0016",2023,2022,2013,"Other Operating Revenues",{"$f":"'App.2-H_Other_Oper_Rev'!K13","v":2021},{"$f":"'App.2-H_Other_Oper_Rev'!K67","v":-638080}]
[{"$f":"'LDC Info'!$E$14","v":"Bluewater Power Distribution Corporation"},"EB-2022-0016",2023,2022,2013,"Other Income or Deductions",{"$f":"'App.2-H_Other_Oper_Rev'!K13","v":2021},{"$f":"'App.2-H_Other_Oper_Rev'!K68","v":-406333.39999999991}]
[{"$f":"'LDC Info'!$E$14","v":"Bluewater Power Distribution Corporation"},"EB-2022-0016",2023,2022,2013,"Specific Service Charges",{"$f":"'App.2-H_Other_Oper_Rev'!L13","v":2022},{"$f":"'App.2-H_Other_Oper_Rev'!L65","v":-84222}]
[{"$f":"'LDC Info'!$E$14","v":"Bluewater Power Distribution Corporation"},"EB-2022-0016",2023,2022,2013,"Late Payment Charges",{"$f":"'App.2-H_Other_Oper_Rev'!L13","v":2022},{"$f":"'App.2-H_Other_Oper_Rev'!L66","v":-206232}]
[{"$f":"'LDC Info'!$E$14","v":"Bluewater Power Distribution Corporation"},"EB-2022-0016",2023,2022,2013,"Other Operating Revenues",{"$f":"'App.2-H_Other_Oper_Rev'!L13","v":2022},{"$f":"'App.2-H_Other_Oper_Rev'!L67","v":-646122}]
[{"$f":"'LDC Info'!$E$14","v":"Bluewater Power Distribution Corporation"},"EB-2022-0016",2023,2022,2013,"Other Income or Deductions",{"$f":"'App.2-H_Other_Oper_Rev'!L13","v":2022},{"$f":"'App.2-H_Other_Oper_Rev'!L68","v":-432424}]
[{"$f":"'LDC Info'!$E$14","v":"Bluewater Power Distribution Corporation"},"EB-2022-0016",2023,2022,2013,"Specific Service Charges",{"$f":"'App.2-H_Other_Oper_Rev'!M13","v":2023},{"$f":"'App.2-H_Other_Oper_Rev'!M65","v":-71875}]
[{"$f":"'LDC Info'!$E$14","v":"Bluewater Power Distribution Corporation"},"EB-2022-0016",2023,2022,2013,"Late Payment Charges",{"$f":"'App.2-H_Other_Oper_Rev'!M13","v":2023},{"$f":"'App.2-H_Other_Oper_Rev'!M66","v":-200000}]
[{"$f":"'LDC Info'!$E$14","v":"Bluewater Power Distribution Corporation"},"EB-2022-0016",2023,2022,2013,"Other Operating Revenues",{"$f":"'App.2-H_Other_Oper_Rev'!M13","v":2023},{"$f":"'App.2-H_Other_Oper_Rev'!M67","v":-720451}]
[{"$f":"'LDC Info'!$E$14","v":"Bluewater Power Distribution Corporation"},"EB-2022-0016",2023,2022,2013,"Other Income or Deductions",{"$f":"'App.2-H_Other_Oper_Rev'!M13","v":2023},{"$f":"'App.2-H_Other_Oper_Rev'!M68","v":-241250}]

{"sheet":"Several_Accounts","index":32,"n_rows":3089,"n_cols":11,"rows_kept":3089,"cut":false,"hidden":true,"merged":[[2962,1,2962,3],[3004,1,3004,3],[2710,1,2710,3],[3046,1,3046,3],[3088,1,3088,3],[2752,1,2752,3],[2794,1,2794,3],[2836,1,2836,3],[2878,1,2878,3],[2920,1,2920,3],[2458,1,2458,3],[2500,1,2500,3],[2542,1,2542,3],[2584,1,2584,3],[2626,1,2626,3],[1332,1,1332,3],[1374,1,1374,3],[1412,1,1412,3],[1454,1,1454,3],[1786,1,1786,3],[1702,1,1702,3],[1496,1,1496,3],[1534,1,1534,3],[1576,1,1576,3],[1618,1,1618,3],[1660,1,1660,3],[1744,1,1744,3],[1122,1,1122,3],[1164,1,1164,3],[1206,1,1206,3],[1248,1,1248,3],[1290,1,1290,3],[874,1,874,3],[916,1,916,3],[958,1,958,3],[1000,1,1000,3],[1084,1,1084,3],[1042,1,1042,3],[832,1,832,3],[664,1,664,3],[706,1,706,3],[748,1,748,3],[790,1,790,3],[46,1,46,3],[84,1,84,3],[126,1,126,3],[168,1,168,3],[622,1,622,3],[210,1,210,3],[252,1,252,3],[290,1,290,3],[332,1,332,3],[374,1,374,3],[416,1,416,3],[454,1,454,3],[496,1,496,3],[538,1,538,3],[580,1,580,3],[1996,1,1996,3],[2668,1,2668,3],[1828,1,1828,3],[1870,1,1870,3],[1912,1,1912,3],[1954,1,1954,3],[2038,1,2038,3],[2080,1,2080,3],[2122,1,2122,3],[2164,1,2164,3],[2206,1,2206,3],[2248,1,2248,3],[2290,1,2290,3],[2332,1,2332,3],[2374,1,2374,3],[2416,1,2416,3]]}
[null,"Several Accounts - Rates Group"]
[null,"Time run: 6/8/2021 12:36:20 PM"]
[null,""]
[null,null,null,null,2017,2018,2019,2020,2021]
["A+B","Company Name","Account Number","Account Description","January 1, 2016 - December 31, 2016","January 1, 2017 - December 31, 2017","January 1, 2018 - December 31, 2018","January 1, 2019 - December 31, 2019","January 1, 2020 - December 31, 2020"]
["Alectra Utilities Corporation 4082","Alectra Utilities Corporation","4082","Retail Services Revenues",null,-758572.38,-663750.22,-470501.08,-352727.91,null,{"$f":"B6 & \" \" &C6","v":"Alectra Utilities Corporation 4082"}]
["Alectra Utilities Corporation 4084","Alectra Utilities Corporation","4084","Service Transaction Requests (STR) Revenues",null,-24656.63,-43131.8,-8823.75,-13983.09,null,"Alectra Utilities Corporation 4084"]
["Alectra Utilities Corporation 4086","Alectra Utilities Corporation","4086","SSS Administration Revenue",null,-540507.44999999995,-597648.29,-3204121.15,-3131232.89,null,"Alectra Utilities Corporation 4086"]
["Alectra Utilities Corporation 4090","Alectra Utilities Corporation","4090","Electric Services Incidental to Energy Sales",null,1.55,0,0,0,null,"Alectra Utilities Corporation 4090"]
["Alectra Utilities Corporation 4205","Alectra Utilities Corporation","4205","Interdepartmental Rents",null,0,0,0,0,null,"Alectra Utilities Corporation 4205"]
["Alectra Utilities Corporation 4210","Alectra Utilities Corporation","4210","Rent from Electric Property",null,-2937904.95,-3075116.2,-3917802.29,-3553620.07,null,"Alectra Utilities Corporation 4210"]
["Alectra Utilities Corporation 4215","Alectra Utilities Corporation","4215","Other Utility Operating Income",null,0,0,0,0,null,"Alectra Utilities Corporation 4215"]
["Alectra Utilities Corporation 4220","Alectra Utilities Corporation","4220","Other Electric Revenues",null,-15400,-16800,0,0,null,"Alectra Utilities Corporation 4220"]
["Alectra Utilities Corporation 4225","Alectra Utilities Corporation","4225","Late Payment Charges",null,-5063281.0599999996,-5777388.0099999998,-6914200.6500000004,-6011376.5800000001,null,"Alectra Utilities Corporation 4225"]
["Alectra Utilities Corporation 4230","Alectra Utilities Corporation","4230","Sales of Water and Water Power",null,0,0,0,0,null,"Alectra Utilities Corporation 4230"]
["Alectra Utilities Corporation 4235","Alectra Utilities Corporation","4235","Miscellaneous Service Revenues",null,-9257004.4600000009,-15745220.789999999,-10881927.07,-8768811.7200000007,null,"Alectra Utilities Corporation 4235"]
["Alectra Utilities Corporation 4240","Alectra Utilities Corporation","4240","Provision for Rate Refunds",null,0,0,0,0,null,"Alectra Utilities Corporation 4240"]
["Alectra Utilities Corporation 4245","Alectra Utilities Corporation","4245","Government and Other Assistance Directly Credited to Income",null,-5873983.6100000003,-8713799.5700000003,-10305195.550000001,0,null,"Alectra Utilities Corporation 4245"]
["Alectra Utilities Corporation 4305","Alectra Utilities Corporation","4305","Regulatory Debits",null,0,0,1664748.06,7676245.71,null,"Alectra Utilities Corporation 4305"]
["Alectra Utilities Corporation 4310","Alectra Utilities Corporation","4310","Regulatory Credits",null,0,0,-2193284.9700000002,-2090468.73,null,"Alectra Utilities Corporation 4310"]
["Alectra Utilities Corporation 4315","Alectra Utilities Corporation","4315","Revenues from Electric Plant Leased to Others",null,0,0,0,0,null,"Alectra Utilities Corporation 4315"]
["Alectra Utilities Corporation 4320","Alectra Utilities Corporation","4320","Expenses of Electric Plant Leased to Others",null,0,0,0,0,null,"Alectra Utilities Corporation 4320"]
["Alectra Utilities Corporation 4325","Alectra Utilities Corporation","4325","Revenues from Merchandise",null,-333361.65000000002,-99211.94,-296272.67,0,null,"Alectra Utilities Corporation 4325"]
["Alectra Utilities Corporation 4330","Alectra Utilities Corporation","4330","Costs and Expenses of Merchandising",null,0,0,0,0,null,"Alectra Utilities Corporation 4330"]
["Alectra Utilities Corporation 4335","Alectra Utilities Corporation","4335","Profits and Losses from Financial Instrument Hedges",null,0,0,0,0,null,"Alectra Utilities Corporation 4335"]
["Alectra Utilities Corporation 4340","Alectra Utilities Corporation","4340","Profits and Losses from Financial Instrument Investments",null,0,0,0,0,null,"Alectra Utilities Corporation 4340"]
["Alectra Utilities Corporation 4345","Alectra Utilities Corporation","4345","Gains from Disposition of Future Use Utility Plant",null,0,0,0,0,null,"Alectra Utilities Corporation 4345"]
["Alectra Utilities Corporation 4350","Alectra Utilities Corporation","4350","Losses from Disposition of Future Use Utility Plant",null,0,0,0,0,null,"Alectra Utilities Corporation 4350"]
["Alectra Utilities Corporation 4355","Alectra Utilities Corporation","4355","Gain on Disposition of Utility and Other Property",null,1043202.39,-305471.56,-73154.899999999994,-9354.76,null,"Alectra Utilities Corporation 4355"]
["Alectra Utilities Corporation 4357","Alectra Utilities Corporation","4357","Gain from Retirement of Utility and Other Property",null,0,0,0,0,null,"Alectra Utilities Corporation 4357"]
["Alectra Utilities Corporation 4360","Alectra Utilities Corporation","4360","Loss on Disposition of Utility and Other Property",null,2835.31,21320.98,-1973535.76,-524896.13,null,"Alectra Utilities Corporation 4360"]
["Alectra Utilities Corporation 4362","Alectra Utilities Corporation","4362","Loss from Retirement of Utility and Other Property",null,2143536.2200000002,4748776,0,0,null,"Alectra Utilities Corporation 4362"]
["Alectra Utilities Corporation 4365","Alectra Utilities Corporation","4365","Gains from Disposition of Allowances for Emission",null,0,0,0,0,null,"Alectra Utilities Corporation 4365"]
["Alectra Utilities Corporation 4370","Alectra Utilities Corporation","4370","Losses from Disposition of Allowances for Emission",null,0,0,0,0,null,"Alectra Utilities Corporation 4370"]
["Alectra Utilities Corporation 4375","Alectra Utilities Corporation","4375","Revenues from Non Rate-Regulated Utility Operations",null,-59919126.780000001,-85264691.129999995,-65916424.990000002,-34976061.43,null,"Alectra Utilities Corporation 4375"]
["Alectra Utilities Corporation 4375","Alectra Utilities Corporation","4375","Sub-account Generation Facility Revenues",null,0,0,0,0,null,"Alectra Utilities Corporation 4375"]
["Alectra Utilities Corporation 4380","Alectra Utilities Corporation","4380","Expenses of Non Rate-Regulated Utility Operations",null,71438170.340000004,71558824.159999996,60922046.859999999,27389981.699999999,null,"Alectra Utilities Corporation 4380"]
["Alectra Utilities Corporation 4380","Alectra Utilities Corporation","4380","Sub-account Generation Facility Expenses",null,0,0,0,0,null,"Alectra Utilities Corporation 4380"]
["Alectra Utilities Corporation 4385","Alectra Utilities Corporation","4385","Non Rate-Regulated Utility Rental Income",null,0,0,-143733.23000000001,-203650.19,null,"Alectra Utilities Corporation 4385"]
["Alectra Utilities Corporation 4390","Alectra Utilities Corporation","4390","Miscellaneous Non-Operating Income",null,-5401988.6900000004,-4840053.3600000003,-8650763.7400000002,-5240980.4800000004,null,"Alectra Utilities Corporation 4390"]
["Alectra Utilities Corporation 4395","Alectra Utilities Corporation","4395","Rate-Payer Benefit Including Interest",null,0,0,0,0,null,"Alectra Utilities Corporation 4395"]
["Alectra Utilities Corporation 4398","Alectra Utilities Corporation","4398","Foreign Exchange Gains and Losses, Including Amortization",null,0,0,0,0,null,"Alectra Utilities Corporation 4398"]
["Alectra Utilities Corporation 4405","Alectra Utilities Corporation","4405","Interest and Dividend Income",null,-2422889.58,-1994082.72,-2576284.37,-1784566.84,null,"Alectra Utilities Corporation 4405"]
["Alectra Utilities Corporation 4410","Alectra Utilities Corporation","4410","Lessor's Net Investment in Finance Lease",null,0,0,0,0,null,"Alectra Utilities Corporation 4410"]
["Alectra Utilities Corporation 4415","Alectra Utilities Corporation","4415","Equity in Earnings of Subsidiary Companies",null,0,0,0,0,null,"Alectra Utilities Corporation 4415"]
["Alectra Utilities Corporation 4420","Alectra Utilities Corporation","4420","Share of Profit or Loss of Joint Venture",null,-559101.18000000005,0,0,0,null,"Alectra Utilities Corporation 4420"]
["Alectra Utilities Corporation Total ","Alectra Utilities Corporation Total",null,null,null,-18480032.609999999,-50807444.450000003,-54939231.25,-31595503.41,null,"Alectra Utilities Corporation Total "]
["Algoma Power Inc. 4082","Algoma Power Inc.","4082","Retail Services Revenues",-5060.8,-4710,-4598.8999999999996,-4621.3999999999996,-8762.65,null,"Algoma Power Inc. 4082"]
["Algoma Power Inc. 4084","Algoma Power Inc.","4084","Service Transaction Requests (STR) Revenues",-56.25,-19.25,-33.75,-25.5,-102.96,null,"Algoma Power Inc. 4084"]
["Algoma Power Inc. 4086","Algoma Power Inc.","4086","SSS Administration Revenue",-34805.56,-34958.19,-35033,-35094.25,-36277.75,null,"Algoma Power Inc. 4086"]
["Algoma Power Inc. 4090","Algoma Power Inc.","4090","Electric Services Incidental to Energy Sales",0,0,0,0,0,null,"Algoma Power Inc. 4090"]
["Algoma Power Inc. 4205","Algoma Power Inc.","4205","Interdepartmental Rents",0,0,0,0,0,null,"Algoma Power Inc. 4205"]
["Algoma Power Inc. 4210","Algoma Power Inc.","4210","Rent from Electric Property",-238620.21,-238620.21,-239514.21,-239034.2,-475949.75,null,"Algoma Power Inc. 4210"]
["Algoma Power Inc. 4215","Algoma Power Inc.","4215","Other Utility Operating Income",0,0,0,0,0,null,"Algoma Power Inc. 4215"]
["Algoma Power Inc. 4220","Algoma Power Inc.","4220","Other Electric Revenues",-13298.71,-5719.77,-77845.59,-1969.53,-7743.76,null,"Algoma Power Inc. 4220"]
["Algoma Power Inc. 4225","Algoma Power Inc.","4225","Late Payment Charges",-105293.31,-57095.19,-42165.09,-47638.62,-22104.44,null,"Algoma Power Inc. 4225"]
["Algoma Power Inc. 4230","Algoma Power Inc.","4230","Sales of Water and Water Power",0,0,0,0,0,null,"Algoma Power Inc. 4230"]
["Algoma Power Inc. 4235","Algoma Power Inc.","4235","Miscellaneous Service Revenues",-87798.36,-73789.67,-63492.24,-73538.100000000006,-86849.27,null,"Algoma Power Inc. 4235"]
["Algoma Power Inc. 4240","Algoma Power Inc.","4240","Provision for Rate Refunds",0,0,0,0,0,null,"Algoma Power Inc. 4240"]
["Algoma Power Inc. 4245","Algoma Power Inc.","4245","Government Assistance Directly Credited to Income",0,0,0,0,0,null,"Algoma Power Inc. 4245"]
["Algoma Power Inc. 4305","Algoma Power Inc.","4305","Regulatory Debits",92978.64,92978.64,92978.64,362920.44,123552,null,"Algoma Power Inc. 4305"]
["Algoma Power Inc. 4310","Algoma Power Inc.","4310","Regulatory Credits",0,0,0,0,0,null,"Algoma Power Inc. 4310"]
["Algoma Power Inc. 4315","Algoma Power Inc.","4315","Revenues from Electric Plant Leased to Others",0,0,0,0,0,null,"Algoma Power Inc. 4315"]
["Algoma Power Inc. 4320","Algoma Power Inc.","4320","Expenses of Electric Plant Leased to Others",0,0,0,0,0,null,"Algoma Power Inc. 4320"]
["Algoma Power Inc. 4325","Algoma Power Inc.","4325","Revenues from Merchandise Jobbing, Etc.",-35533.550000000003,-55106.63,-104784.31,-43377.34,-36994.11,null,"Algoma Power Inc. 4325"]
["Algoma Power Inc. 4330","Algoma Power Inc.","4330","Costs and Expenses of Merchandising Jobbing, Etc.",71693.5,72271.539999999994,99063.15,41468.75,36269.19,null,"Algoma Power Inc. 4330"]
["Algoma Power Inc. 4335","Algoma Power Inc.","4335","Profits and Losses from Financial Instrument Hedges",0,0,0,0,0,null,"Algoma Power Inc. 4335"]
["Algoma Power Inc. 4340","Algoma Power Inc.","4340","Profits and Losses from Financial Instrument Investments",0,0,0,0,0,null,"Algoma Power Inc. 4340"]
["Algoma Power Inc. 4345","Algoma Power Inc.","4345","Gains from Disposition of Future Use Utility Plant",0,0,0,0,0,null,"Algoma Power Inc. 4345"]
["Algoma Power Inc. 4350","Algoma Power Inc.","4350","Losses from Disposition of Future Use Utility Plant",0,0,0,0,0,null,{"$f":"B70 & \" \" &C70","v":"Algoma Power Inc. 4350"}]
["Algoma Power Inc. 4355","Algoma Power Inc.","4355","Gain on Disposition of Utility and Other Property",0,0,0,0,0,null,"Algoma Power Inc. 4355"]
["Algoma Power Inc. 4360","Algoma Power Inc.","4360","Loss on Disposition of Utility and Other Property",-59563.3,200066.77,22190.22,166290.26,94774.27,null,"Algoma Power Inc. 4360"]
["Algoma Power Inc. 4365","Algoma Power Inc.","4365","Gains from Disposition of Allowances for Emission",0,0,0,0,0,null,"Algoma Power Inc. 4365"]
["Algoma Power Inc. 4370","Algoma Power Inc.","4370","Losses from Disposition of Allowances for Emission",0,0,0,0,0,null,"Algoma Power Inc. 4370"]
["Algoma Power Inc. 4375","Algoma Power Inc.","4375","Revenues from Non-Utility Operations",0,0,0,0,0,null,"Algoma Power Inc. 4375"]
["Algoma Power Inc. 4375","Algoma Power Inc.","4375","Sub-account Generation Facility Revenues",0,0,0,0,0,null,"Algoma Power Inc. 4375"]
["Algoma Power Inc. 4380","Algoma Power Inc.","4380","Expenses of Non-Utility Operations",584953.80000000005,571402.07999999996,572282.04,546529.31999999995,0,null,"Algoma Power Inc. 4380"]
["Algoma Power Inc. 4380","Algoma Power Inc.","4380","Sub-account Generation Facility Expenses",0,0,0,0,0,null,"Algoma Power Inc. 4380"]
["Algoma Power Inc. 4385","Algoma Power Inc.","4385","Non-Utility Rental Income",0,0,0,0,0,null,"Algoma Power Inc. 4385"]
["Algoma Power Inc. 4390","Algoma Power Inc.","4390","Miscellaneous Non-Operating Income",0,0,0,0,0,null,"Algoma Power Inc. 4390"]
["Algoma Power Inc. 4395","Algoma Power Inc.","4395","Rate-Payer Benefit Including Interest",0,0,0,0,0,null,"Algoma Power Inc. 4395"]
["Algoma Power Inc. 4398","Algoma Power Inc.","4398","Foreign Exchange Gains and Losses, Including Amortization",-93.72,-365.59,-463.07,247.96,551.91999999999996,null,"Algoma Power Inc. 4398"]
["Algoma Power Inc. 4405","Algoma Power Inc.","4405","Interest and Dividend Income",-24662.3,-31953.8,-54424.75,-114633.46,-24403.5,null,"Algoma Power Inc. 4405"]
["Algoma Power Inc. 4415","Algoma Power Inc.","4415","Equity in Earnings of Subsidiary Companies",0,0,0,0,0,null,"Algoma Power Inc. 4415"]
["Algoma Power Inc. Total ","Algoma Power Inc. Total",null,null,144839.87,434380.73,164159.14000000001,557524.32999999996,-444040.81,null,"Algoma Power Inc. Total "]
["Atikokan Hydro Inc. 4082","Atikokan Hydro Inc.","4082","Retail Services Revenues",-1732.93,-1844.88,-1844.88,-1844.88,-2072.38,null,"Atikokan Hydro Inc. 4082"]
["Atikokan Hydro Inc. 4084","Atikokan Hydro Inc.","4084","Service Transaction Requests (STR) Revenues",-1200,-1200,-1200,-1197,-1099.96,null,"Atikokan Hydro Inc. 4084"]
["Atikokan Hydro Inc. 4086","Atikokan Hydro Inc.","4086","SSS Administration Revenue",-4877,-4877.74,-4871,-4870.01,-4869.75,null,"Atikokan Hydro Inc. 4086"]
["Atikokan Hydro Inc. 4090","Atikokan Hydro Inc.","4090","Electric Services Incidental to Energy Sales",0,0,0,0,0,null,"Atikokan Hydro Inc. 4090"]
["Atikokan Hydro Inc. 4205","Atikokan Hydro Inc.","4205","Interdepartmental Rents",0,0,0,0,0,null,"Atikokan Hydro Inc. 4205"]
["Atikokan Hydro Inc. 4210","Atikokan Hydro Inc.","4210","Rent from Electric Property",-32608.65,-32608.65,-32608.65,-32608.69,-32608.959999999999,null,"Atikokan Hydro Inc. 4210"]
["Atikokan Hydro Inc. 4215","Atikokan Hydro Inc.","4215","Other Utility Operating Income",0,0,0,0,0,null,"Atikokan Hydro Inc. 4215"]
["Atikokan Hydro Inc. 4220","Atikokan Hydro Inc.","4220","Other Electric Revenues",0,0,0,0,0,null,"Atikokan Hydro Inc. 4220"]
["Atikokan Hydro Inc. 4225","Atikokan Hydro Inc.","4225","Late Payment Charges",-10898.42,-9252.91,-7947.93,-7072.88,-10781.98,null,"Atikokan Hydro Inc. 4225"]
["Atikokan Hydro Inc. 4230","Atikokan Hydro Inc.","4230","Sales of Water and Water Power",0,0,0,0,0,null,"Atikokan Hydro Inc. 4230"]
["Atikokan Hydro Inc. 4235","Atikokan Hydro Inc.","4235","Miscellaneous Service Revenues",-8029.4,-6252.4,-5434.58,-4446.3999999999996,-3935,null,"Atikokan Hydro Inc. 4235"]
["Atikokan Hydro Inc. 4240","Atikokan Hydro Inc.","4240","Provision for Rate Refunds",0,0,0,0,0,null,"Atikokan Hydro Inc. 4240"]
["Atikokan Hydro Inc. 4245","Atikokan Hydro Inc.","4245","Government and Other Assistance Directly Credited to Income",0,0,0,0,0,null,"Atikokan Hydro Inc. 4245"]
["Atikokan Hydro Inc. 4305","Atikokan Hydro Inc.","4305","Regulatory Debits",0,0,0,0,0,null,"Atikokan Hydro Inc. 4305"]
["Atikokan Hydro Inc. 4310","Atikokan Hydro Inc.","4310","Regulatory Credits",0,0,0,0,0,null,"Atikokan Hydro Inc. 4310"]
["Atikokan Hydro Inc. 4315","Atikokan Hydro Inc.","4315","Revenues from Electric Plant Leased to Others",0,0,0,0,0,null,"Atikokan Hydro Inc. 4315"]
["Atikokan Hydro Inc. 4320","Atikokan Hydro Inc.","4320","Expenses of Electric Plant Leased to Others",0,0,0,0,0,null,"Atikokan Hydro Inc. 4320"]
["Atikokan Hydro Inc. 4325","Atikokan Hydro Inc.","4325","Revenues from Merchandise",-73862.58,-110840.12,-54406.43,-58722.66,-53609.73,null,"Atikokan Hydro Inc. 4325"]
["Atikokan Hydro Inc. 4330","Atikokan Hydro Inc.","4330","Costs and Expenses of Merchandising",21716.25,7125.31,21301.06,27586.47,12875.17,null,"Atikokan Hydro Inc. 4330"]
["Atikokan Hydro Inc. 4335","Atikokan Hydro Inc.","4335","Profits and Losses from Financial Instrument Hedges",0,0,0,0,0,null,"Atikokan Hydro Inc. 4335"]
["Atikokan Hydro Inc. 4340","Atikokan Hydro Inc.","4340","Profits and Losses from Financial Instrument Investments",0,0,0,0,0,null,"Atikokan Hydro Inc. 4340"]
["Atikokan Hydro Inc. 4345","Atikokan Hydro Inc.","4345","Gains from Disposition of Future Use Utility Plant",0,0,0,0,0,null,"Atikokan Hydro Inc. 4345"]
["Atikokan Hydro Inc. 4350","Atikokan Hydro Inc.","4350","Losses from Disposition of Future Use Utility Plant",0,0,0,0,0,null,"Atikokan Hydro Inc. 4350"]
["Atikokan Hydro Inc. 4355","Atikokan Hydro Inc.","4355","Gain on Disposition of Utility and Other Property",0,0,0,0,0,null,"Atikokan Hydro Inc. 4355"]
["Atikokan Hydro Inc. 4357","Atikokan Hydro Inc.","4357","Gain from Retirement of Utility and Other Property",0,0,0,0,0,null,"Atikokan Hydro Inc. 4357"]
["Atikokan Hydro Inc. 4360","Atikokan Hydro Inc.","4360","Loss on Disposition of Utility and Other Property",22431.95,7064.86,6755.52,12876.49,23146.33,null,"Atikokan Hydro Inc. 4360"]
["Atikokan Hydro Inc. 4362","Atikokan Hydro Inc.","4362","Loss from Retirement of Utility and Other Property",0,0,0,0,0,null,"Atikokan Hydro Inc. 4362"]
["Atikokan Hydro Inc. 4365","Atikokan Hydro Inc.","4365","Gains from Disposition of Allowances for Emission",0,0,0,0,0,null,"Atikokan Hydro Inc. 4365"]
["Atikokan Hydro Inc. 4370","Atikokan Hydro Inc.","4370","Losses from Disposition of Allowances for Emission",0,0,0,0,0,null,"Atikokan Hydro Inc. 4370"]
["Atikokan Hydro Inc. 4375","Atikokan Hydro Inc.","4375","Revenues from Non Rate-Regulated Utility Operations",-30603.06,-50771.47,-29637.27,-4426.71,0,null,"Atikokan Hydro Inc. 4375"]
["Atikokan Hydro Inc. 4375","Atikokan Hydro Inc.","4375","Sub-account Generation Facility Revenues",0,0,0,0,0,null,"Atikokan Hydro Inc. 4375"]
["Atikokan Hydro Inc. 4380","Atikokan Hydro Inc.","4380","Expenses of Non Rate-Regulated Utility Operations",30603.06,50771.47,29637.27,4426.71,0,null,"Atikokan Hydro Inc. 4380"]
["Atikokan Hydro Inc. 4380","Atikokan Hydro Inc.","4380","Sub-account Generation Facility Expenses",0,0,0,0,0,null,"Atikokan Hydro Inc. 4380"]
["Atikokan Hydro Inc. 4385","Atikokan Hydro Inc.","4385","Non Rate-Regulated Utility Rental Income",0,0,0,0,0,null,"Atikokan Hydro Inc. 4385"]
["Atikokan Hydro Inc. 4390","Atikokan Hydro Inc.","4390","Miscellaneous Non-Operating Income",-2675.52,-5469.65,-17467.560000000001,-6070.58,-1813.29,null,"Atikokan Hydro Inc. 4390"]
["Atikokan Hydro Inc. 4395","Atikokan Hydro Inc.","4395","Rate-Payer Benefit Including Interest",0,0,0,0,0,null,"Atikokan Hydro Inc. 4395"]
["Atikokan Hydro Inc. 4398","Atikokan Hydro Inc.","4398","Foreign Exchange Gains and Losses, Including Amortization",0,0,0,0,0,null,"Atikokan Hydro Inc. 4398"]
["Atikokan Hydro Inc. 4405","Atikokan Hydro Inc.","4405","Interest and Dividend Income",-8395.7999999999993,-7634.27,-13438.24,-10615.99,-6272.2,null,"Atikokan Hydro Inc. 4405"]
["Atikokan Hydro Inc. 4410","Atikokan Hydro Inc.","4410","Lessor's Net Investment in Finance Lease",0,0,0,0,0,null,"Atikokan Hydro Inc. 4410"]
["Atikokan Hydro Inc. 4415","Atikokan Hydro Inc.","4415","Equity in Earnings of Subsidiary Companies",0,0,0,0,0,null,"Atikokan Hydro Inc. 4415"]
["Atikokan Hydro Inc. 4420","Atikokan Hydro Inc.","4420","Share of Profit or Loss of Joint Venture",0,0,0,0,0,null,"Atikokan Hydro Inc. 4420"]
["Atikokan Hydro Inc. Total ","Atikokan Hydro Inc. Total",null,null,-100132.1,-165790.45000000001,-111162.69,-86986.13,-81041.75,null,"Atikokan Hydro Inc. Total "]
["Bluewater Power Distribution Corporation 4082","Bluewater Power Distribution Corporation","4082","Retail Services Revenues",-23046.400000000001,-20102.400000000001,-18406,-17422,-15095,null,"Bluewater Power Distribution Corporation 4082"]
["Bluewater Power Distribution Corporation 4084","Bluewater Power Distribution Corporation","4084","Service Transaction Requests (STR) Revenues",-1298.4100000000001,15.84,-70,-344,-484,null,"Bluewater Power Distribution Corporation 4084"]
["Bluewater Power Distribution Corporation 4086","Bluewater Power Distribution Corporation","4086","SSS Administration Revenue",-104266.14,-109147.93,-105909,-107433,-107878,null,"Bluewater Power Distribution Corporation 4086"]
["Bluewater Power Distribution Corporation 4090","Bluewater Power Distribution Corporation","4090","Electric Services Incidental to Energy Sales",0,0,0,0,0,null,"Bluewater Power Distribution Corporation 4090"]
["Bluewater Power Distribution Corporation 4205","Bluewater Power Distribution Corporation","4205","Interdepartmental Rents",0,0,0,0,0,null,"Bluewater Power Distribution Corporation 4205"]
["Bluewater Power Distribution Corporation 4210","Bluewater Power Distribution Corporation","4210","Rent from Electric Property",-400732.83,-354614.73,-381949,-415964,-361066,null,"Bluewater Power Distribution Corporation 4210"]
["Bluewater Power Distribution Corporation 4215","Bluewater Power Distribution Corporation","4215","Other Utility Operating Income",0,0,0,0,0,null,{"$f":"B134 & \" \" &C134","v":"Bluewater Power Distribution Corporation 4215"}]
["Bluewater Power Distribution Corporation 4220","Bluewater Power Distribution Corporation","4220","Other Electric Revenues",-88148.17,-74154.850000000006,-79656,-33643,-76239,null,"Bluewater Power Distribution Corporation 4220"]
["Bluewater Power Distribution Corporation 4225","Bluewater Power Distribution Corporation","4225","Late Payment Charges",-449993.72,-319593.3,-240000,-247289,-241882,null,"Bluewater Power Distribution Corporation 4225"]
["Bluewater Power Distribution Corporation 4230","Bluewater Power Distribution Corporation","4230","Sales of Water and Water Power",0,0,0,0,0,null,"Bluewater Power Distribution Corporation 4230"]
["Bluewater Power Distribution Corporation 4235","Bluewater Power Distribution Corporation","4235","Miscellaneous Service Revenues",-287412.62,-205310.04,-162145,-209010,-188586,null,"Bluewater Power Distribution Corporation 4235"]
["Bluewater Power Distribution Corporation 4240","Bluewater Power Distribution Corporation","4240","Provision for Rate Refunds",0,0,0,0,0,null,"Bluewater Power Distribution Corporation 4240"]
["Bluewater Power Distribution Corporation 4245","Bluewater Power Distribution Corporation","4245","Government and Other Assistance Directly Credited to Income",-34172,-42338.5,-56911,-70146,-89411,null,"Bluewater Power Distribution Corporation 4245"]
["Bluewater Power Distribution Corporation 4305","Bluewater Power Distribution Corporation","4305","Regulatory Debits",0,0,0,0,0,null,"Bluewater Power Distribution Corporation 4305"]
["Bluewater Power Distribution Corporation 4310","Bluewater Power Distribution Corporation","4310","Regulatory Credits",0,0,0,0,0,null,"Bluewater Power Distribution Corporation 4310"]
["Bluewater Power Distribution Corporation 4315","Bluewater Power Distribution Corporation","4315","Revenues from Electric Plant Leased to Others",0,0,0,0,0,null,"Bluewater Power Distribution Corporation 4315"]
["Bluewater Power Distribution Corporation 4320","Bluewater Power Distribution Corporation","4320","Expenses of Electric Plant Leased to Others",0,0,0,0,0,null,"Bluewater Power Distribution Corporation 4320"]
["Bluewater Power Distribution Corporation 4325","Bluewater Power Distribution Corporation","4325","Revenues from Merchandise",-765615,-719440.02,-902636,-1249589,-3155980,null,"Bluewater Power Distribution Corporation 4325"]
["Bluewater Power Distribution Corporation 4330","Bluewater Power Distribution Corporation","4330","Costs and Expenses of Merchandising",467099.75,607346.32999999996,678867,1037440,2678982,null,"Bluewater Power Distribution Corporation 4330"]
["Bluewater Power Distribution Corporation 4335","Bluewater Power Distribution Corporation","4335","Profits and Losses from Financial Instrument Hedges",0,0,0,0,0,null,"Bluewater Power Distribution Corporation 4335"]
["Bluewater Power Distribution Corporation 4340","Bluewater Power Distribution Corporation","4340","Profits and Losses from Financial Instrument Investments",0,0,0,0,0,null,"Bluewater Power Distribution Corporation 4340"]
["Bluewater Power Distribution Corporation 4345","Bluewater Power Distribution Corporation","4345","Gains from Disposition of Future Use Utility Plant",0,0,0,0,0,null,"Bluewater Power Distribution Corporation 4345"]
["Bluewater Power Distribution Corporation 4350","Bluewater Power Distribution Corporation","4350","Losses from Disposition of Future Use Utility Plant",0,0,0,0,0,null,"Bluewater Power Distribution Corporation 4350"]
["Bluewater Power Distribution Corporation 4355","Bluewater Power Distribution Corporation","4355","Gain on Disposition of Utility and Other Property",-5685.27,-22522.54,-5030,0,-58232,null,"Bluewater Power Distribution Corporation 4355"]
["Bluewater Power Distribution Corporation 4357","Bluewater Power Distribution Corporation","4357","Gain from Retirement of Utility and Other Property",0,0,0,0,0,null,"Bluewater Power Distribution Corporation 4357"]
["Bluewater Power Distribution Corporation 4360","Bluewater Power Distribution Corporation","4360","Loss on Disposition of Utility and Other Property",0,0,0,0,0,null,"Bluewater Power Distribution Corporation 4360"]
["Bluewater Power Distribution Corporation 4362","Bluewater Power Distribution Corporation","4362","Loss from Retirement of Utility and Other Property",0,0,0,0,0,null,"Bluewater Power Distribution Corporation 4362"]
["Bluewater Power Distribution Corporation 4365","Bluewater Power Distribution Corporation","4365","Gains from Disposition of Allowances for Emission",0,0,0,0,0,null,"Bluewater Power Distribution Corporation 4365"]
["Bluewater Power Distribution Corporation 4370","Bluewater Power Distribution Corporation","4370","Losses from Disposition of Allowances for Emission",0,0,0,0,0,null,"Bluewater Power Distribution Corporation 4370"]
["Bluewater Power Distribution Corporation 4375","Bluewater Power Distribution Corporation","4375","Revenues from Non Rate-Regulated Utility Operations",-910581.39,-857531.27,-780295,-879554,-513305,null,"Bluewater Power Distribution Corporation 4375"]
["Bluewater Power Distribution Corporation 4375","Bluewater Power Distribution Corporation","4375","Sub-account Generation Facility Revenues",0,0,0,0,0,null,"Bluewater Power Distribution Corporation 4375"]
["Bluewater Power Distribution Corporation 4380","Bluewater Power Distribution Corporation","4380","Expenses of Non Rate-Regulated Utility Operations",968896.98,828438.93,774475,873911,511493,null,"Bluewater Power Distribution Corporation 4380"]
["Bluewater Power Distribution Corporation 4380","Bluewater Power Distribution Corporation","4380","Sub-account Generation Facility Expenses",0,0,0,0,0,null,"Bluewater Power Distribution Corporation 4380"]
["Bluewater Power Distribution Corporation 4385","Bluewater Power Distribution Corporation","4385","Non Rate-Regulated Utility Rental Income",0,0,0,0,0,null,"Bluewater Power Distribution Corporation 4385"]
["Bluewater Power Distribution Corporation 4390","Bluewater Power Distribution Corporation","4390","Miscellaneous Non-Operating Income",-33889.870000000003,-29759.73,-43214,-22946,-445072,null,"Bluewater Power Distribution Corporation 4390"]
["Bluewater Power Distribution Corporation 4395","Bluewater Power Distribution Corporation","4395","Rate-Payer Benefit Including Interest",0,0,0,0,0,null,"Bluewater Power Distribution Corporation 4395"]
["Bluewater Power Distribution Corporation 4398","Bluewater Power Distribution Corporation","4398","Foreign Exchange Gains and Losses, Including Amortization",0,0,0,0,0,null,"Bluewater Power Distribution Corporation 4398"]
["Bluewater Power Distribution Corporation 4405","Bluewater Power Distribution Corporation","4405","Interest and Dividend Income",-62498.6,-94473.29,-149773,-104379,-74276,null,"Bluewater Power Distribution Corporation 4405"]
["Bluewater Power Distribution Corporation 4410","Bluewater Power Distribution Corporation","4410","Lessor's Net Investment in Finance Lease",0,0,0,0,0,null,"Bluewater Power Distribution Corporation 4410"]
["Bluewater Power Distribution Corporation 4415","Bluewater Power Distribution Corporation","4415","Equity in Earnings of Subsidiary Companies",0,0,0,0,0,null,"Bluewater Power Distribution Corporation 4415"]
["Bluewater Power Distribution Corporation 4420","Bluewater Power Distribution Corporation","4420","Share of Profit or Loss of Joint Venture",0,0,0,0,0,null,"Bluewater Power Distribution Corporation 4420"]
["Bluewater Power Distribution Corporation Total ","Bluewater Power Distribution Corporation Total",null,null,-1731343.69,-1413187.5,-1472652,-1446368,-2137031,null,"Bluewater Power Distribution Corporation Total "]
["Brantford Power Inc. 4082","Brantford Power Inc.","4082","Retail Services Revenues",-61036.02,-16290.1,-11858.67,-10828.29,-8789.2900000000009,null,"Brantford Power Inc. 4082"]
["Brantford Power Inc. 4084","Brantford Power Inc.","4084","Service Transaction Requests (STR) Revenues",-14641.95,-7072.04,-5124.78,-5624.31,-6056.78,null,"Brantford Power Inc. 4084"]
["Brantford Power Inc. 4086","Brantford Power Inc.","4086","SSS Administration Revenue",0,-115298.98,-117153.51,-117890.76,-121152.68,null,"Brantford Power Inc. 4086"]
["Brantford Power Inc. 4090","Brantford Power Inc.","4090","Electric Services Incidental to Energy Sales",0,0,0,0,0,null,"Brantford Power Inc. 4090"]
["Brantford Power Inc. 4205","Brantford Power Inc.","4205","Interdepartmental Rents",0,0,0,0,0,null,"Brantford Power Inc. 4205"]
["Brantford Power Inc. 4210","Brantford Power Inc.","4210","Rent from Electric Property",-110160.8,-113252.63,-123555.98,-147805.73000000001,-259429.33,null,"Brantford Power Inc. 4210"]
["Brantford Power Inc. 4215","Brantford Power Inc.","4215","Other Utility Operating Income",0,0,0,0,0,null,"Brantford Power Inc. 4215"]
["Brantford Power Inc. 4220","Brantford Power Inc.","4220","Other Electric Revenues",-35,-90,180,-34269.769999999997,-14733,null,"Brantford Power Inc. 4220"]
["Brantford Power Inc. 4225","Brantford Power Inc.","4225","Late Payment Charges",-280225.88,-281545.71999999997,-235597.58,-326283.18,-359302.38,null,"Brantford Power Inc. 4225"]
["Brantford Power Inc. 4230","Brantford Power Inc.","4230","Sales of Water and Water Power",0,0,0,0,0,null,"Brantford Power Inc. 4230"]
["Brantford Power Inc. 4235","Brantford Power Inc.","4235","Miscellaneous Service Revenues",-554230.86,-356654.95,-335683.38,-603135.87,-640437.1,null,"Brantford Power Inc. 4235"]
["Brantford Power Inc. 4240","Brantford Power Inc.","4240","Provision for Rate Refunds",0,0,0,0,0,null,"Brantford Power Inc. 4240"]
["Brantford Power Inc. 4245","Brantford Power Inc.","4245","Government and Other Assistance Directly Credited to Income",0,0,0,0,0,null,"Brantford Power Inc. 4245"]
["Brantford Power Inc. 4305","Brantford Power Inc.","4305","Regulatory Debits",0,0,0,0,0,null,"Brantford Power Inc. 4305"]
["Brantford Power Inc. 4310","Brantford Power Inc.","4310","Regulatory Credits",0,0,0,0,0,null,"Brantford Power Inc. 4310"]
["Brantford Power Inc. 4315","Brantford Power Inc.","4315","Revenues from Electric Plant Leased to Others",0,0,0,0,0,null,"Brantford Power Inc. 4315"]
["Brantford Power Inc. 4320","Brantford Power Inc.","4320","Expenses of Electric Plant Leased to Others",0,0,0,0,0,null,"Brantford Power Inc. 4320"]
["Brantford Power Inc. 4325","Brantford Power Inc.","4325","Revenues from Merchandise",0,0,0,0,0,null,"Brantford Power Inc. 4325"]
["Brantford Power Inc. 4330","Brantford Power Inc.","4330","Costs and Expenses of Merchandising",0,0,0,0,0,null,"Brantford Power Inc. 4330"]
["Brantford Power Inc. 4335","Brantford Power Inc.","4335","Profits and Losses from Financial Instrument Hedges",0,0,0,0,0,null,"Brantford Power Inc. 4335"]
["Brantford Power Inc. 4340","Brantford Power Inc.","4340","Profits and Losses from Financial Instrument Investments",0,0,0,0,0,null,"Brantford Power Inc. 4340"]
["Brantford Power Inc. 4345","Brantford Power Inc.","4345","Gains from Disposition of Future Use Utility Plant",0,0,0,0,0,null,"Brantford Power Inc. 4345"]
["Brantford Power Inc. 4350","Brantford Power Inc.","4350","Losses from Disposition of Future Use Utility Plant",0,0,0,0,0,null,"Brantford Power Inc. 4350"]
["Brantford Power Inc. 4355","Brantford Power Inc.","4355","Gain on Disposition of Utility and Other Property",-1551.45,60527.43,213960.79,110194.72,289330.58,null,"Brantford Power Inc. 4355"]
["Brantford Power Inc. 4357","Brantford Power Inc.","4357","Gain from Retirement of Utility and Other Property",0,0,0,0,0,null,"Brantford Power Inc. 4357"]
["Brantford Power Inc. 4360","Brantford Power Inc.","4360","Loss on Disposition of Utility and Other Property",0,0,0,0,0,null,"Brantford Power Inc. 4360"]
["Brantford Power Inc. 4362","Brantford Power Inc.","4362","Loss from Retirement of Utility and Other Property",0,0,0,0,0,null,"Brantford Power Inc. 4362"]
["Brantford Power Inc. 4365","Brantford Power Inc.","4365","Gains from Disposition of Allowances for Emission",0,0,0,0,0,null,"Brantford Power Inc. 4365"]
["Brantford Power Inc. 4370","Brantford Power Inc.","4370","Losses from Disposition of Allowances for Emission",0,0,0,0,0,null,{"$f":"B198 & \" \" &C198","v":"Brantford Power Inc. 4370"}]
["Brantford Power Inc. 4375","Brantford Power Inc.","4375","Revenues from Non Rate-Regulated Utility Operations",-2445283.3199999998,-1631477.04,-1929362.64,-1864025.71,-1152865.19,null,"Brantford Power Inc. 4375"]
["Brantford Power Inc. 4375","Brantford Power Inc.","4375","Sub-account Generation Facility Revenues",0,0,0,0,0,null,"Brantford Power Inc. 4375"]
["Brantford Power Inc. 4380","Brantford Power Inc.","4380","Expenses of Non Rate-Regulated Utility Operations",2298911.9300000002,1673836.99,1912722.11,2243844.61,1165528.1000000001,null,"Brantford Power Inc. 4380"]
["Brantford Power Inc. 4380","Brantford Power Inc.","4380","Sub-account Generation Facility Expenses",0,0,0,0,0,null,"Brantford Power Inc. 4380"]
["Brantford Power Inc. 4385","Brantford Power Inc.","4385","Non Rate-Regulated Utility Rental Income",0,0,0,0,0,null,"Brantford Power Inc. 4385"]
["Brantford Power Inc. 4390","Brantford Power Inc.","4390","Miscellaneous Non-Operating Income",-105988.42,-130030.29,-45904.89,-28356.86,-34795.06,null,"Brantford Power Inc. 4390"]
["Brantford Power Inc. 4395","Brantford Power Inc.","4395","Rate-Payer Benefit Including Interest",0,0,0,0,0,null,"Brantford Power Inc. 4395"]
["Brantford Power Inc. 4398","Brantford Power Inc.","4398","Foreign Exchange Gains and Losses, Including Amortization",0,0,0,0,0,null,"Brantford Power Inc. 4398"]
["Brantford Power Inc. 4405","Brantford Power Inc.","4405","Interest and Dividend Income",-181760.46,-210204.99,-349446.41,-371017.38,-212680.01,null,"Brantford Power Inc. 4405"]
["Brantford Power Inc. 4410","Brantford Power Inc.","4410","Lessor's Net Investment in Finance Lease",0,0,0,0,0,null,"Brantford Power Inc. 4410"]
["Brantford Power Inc. 4415","Brantford Power Inc.","4415","Equity in Earnings of Subsidiary Companies",0,0,0,0,0,null,"Brantford Power Inc. 4415"]
["Brantford Power Inc. 4420","Brantford Power Inc.","4420","Share of Profit or Loss of Joint Venture",0,0,0,0,0,null,"Brantford Power Inc. 4420"]
["Brantford Power Inc. Total ","Brantford Power Inc. Total",null,null,-1456002.23,-1127552.32,-1026824.94,-1155198.53,-1355382.14,null,"Brantford Power Inc. Total "]
["Burlington Hydro Inc. 4082","Burlington Hydro Inc.","4082","Retail Services Revenues",-26345,-22661.1,-19868.900000000001,-22890.21,-23173.19,null,"Burlington Hydro Inc. 4082"]
["Burlington Hydro Inc. 4084","Burlington Hydro Inc.","4084","Service Transaction Requests (STR) Revenues",-589.5,-443.5,-401,-476.75,-511.02,null,"Burlington Hydro Inc. 4084"]
["Burlington Hydro Inc. 4086","Burlington Hydro Inc.","4086","SSS Administration Revenue",0,0,0,0,0,null,"Burlington Hydro Inc. 4086"]
["Burlington Hydro Inc. 4090","Burlington Hydro Inc.","4090","Electric Services Incidental to Energy Sales",0,0,0,0,0,null,"Burlington Hydro Inc. 4090"]
["Burlington Hydro Inc. 4205","Burlington Hydro Inc.","4205","Interdepartmental Rents",0,0,0,0,0,null,"Burlington Hydro Inc. 4205"]
["Burlington Hydro Inc. 4210","Burlington Hydro Inc.","4210","Rent from Electric Property",-329782.13,-329782.13,-329782.14,-329782.13,-329782.13,null,"Burlington Hydro Inc. 4210"]
["Burlington Hydro Inc. 4215","Burlington Hydro Inc.","4215","Other Utility Operating Income",0,0,0,0,0,null,"Burlington Hydro Inc. 4215"]
["Burlington Hydro Inc. 4220","Burlington Hydro Inc.","4220","Other Electric Revenues",-150106.26999999999,-11077.62,-22527.18,-9952.7199999999993,1574.35,null,"Burlington Hydro Inc. 4220"]
["Burlington Hydro Inc. 4225","Burlington Hydro Inc.","4225","Late Payment Charges",-278227.17,-271656.45,-304816.42,-263964.77,-344989.71,null,"Burlington Hydro Inc. 4225"]
["Burlington Hydro Inc. 4230","Burlington Hydro Inc.","4230","Sales of Water and Water Power",0,0,0,0,0,null,"Burlington Hydro Inc. 4230"]
["Burlington Hydro Inc. 4235","Burlington Hydro Inc.","4235","Miscellaneous Service Revenues",-918255.81,-784543.73,-797598.17,-727126.54,-820384.78,null,"Burlington Hydro Inc. 4235"]
["Burlington Hydro Inc. 4240","Burlington Hydro Inc.","4240","Provision for Rate Refunds",0,0,0,0,0,null,"Burlington Hydro Inc. 4240"]
["Burlington Hydro Inc. 4245","Burlington Hydro Inc.","4245","Government and Other Assistance Directly Credited to Income",-188415.52,-289166.86,-375497.3,-477935.69,-614938.21,null,"Burlington Hydro Inc. 4245"]
["Burlington Hydro Inc. 4305","Burlington Hydro Inc.","4305","Regulatory Debits",0,0,0,0,0,null,"Burlington Hydro Inc. 4305"]
["Burlington Hydro Inc. 4310","Burlington Hydro Inc.","4310","Regulatory Credits",-33020.870000000003,-21400.12,-332135.15999999997,-70261.98,-144424,null,"Burlington Hydro Inc. 4310"]
["Burlington Hydro Inc. 4315","Burlington Hydro Inc.","4315","Revenues from Electric Plant Leased to Others",0,0,0,0,0,null,"Burlington Hydro Inc. 4315"]
["Burlington Hydro Inc. 4320","Burlington Hydro Inc.","4320","Expenses of Electric Plant Leased to Others",0,0,0,0,0,null,"Burlington Hydro Inc. 4320"]
["Burlington Hydro Inc. 4325","Burlington Hydro Inc.","4325","Revenues from Merchandise",0,0,0,0,0,null,"Burlington Hydro Inc. 4325"]
["Burlington Hydro Inc. 4330","Burlington Hydro Inc.","4330","Costs and Expenses of Merchandising",0,0,0,0,0,null,"Burlington Hydro Inc. 4330"]
["Burlington Hydro Inc. 4335","Burlington Hydro Inc.","4335","Profits and Losses from Financial Instrument Hedges",0,0,0,0,0,null,"Burlington Hydro Inc. 4335"]
["Burlington Hydro Inc. 4340","Burlington Hydro Inc.","4340","Profits and Losses from Financial Instrument Investments",0,0,0,0,0,null,"Burlington Hydro Inc. 4340"]
["Burlington Hydro Inc. 4345","Burlington Hydro Inc.","4345","Gains from Disposition of Future Use Utility Plant",0,0,0,0,0,null,"Burlington Hydro Inc. 4345"]
["Burlington Hydro Inc. 4350","Burlington Hydro Inc.","4350","Losses from Disposition of Future Use Utility Plant",0,0,0,0,0,null,"Burlington Hydro Inc. 4350"]
["Burlington Hydro Inc. 4355","Burlington Hydro Inc.","4355","Gain on Disposition of Utility and Other Property",-24500,-9181.07,-35975.69,0,0,null,"Burlington Hydro Inc. 4355"]
["Burlington Hydro Inc. 4357","Burlington Hydro Inc.","4357","Gain from Retirement of Utility and Other Property",0,0,0,0,0,null,"Burlington Hydro Inc. 4357"]
["Burlington Hydro Inc. 4360","Burlington Hydro Inc.","4360","Loss on Disposition of Utility and Other Property",0,0,0,12278.12,45953.23,null,"Burlington Hydro Inc. 4360"]
["Burlington Hydro Inc. 4362","Burlington Hydro Inc.","4362","Loss from Retirement of Utility and Other Property",0,0,0,0,0,null,"Burlington Hydro Inc. 4362"]
["Burlington Hydro Inc. 4365","Burlington Hydro Inc.","4365","Gains from Disposition of Allowances for Emission",0,0,0,0,0,null,"Burlington Hydro Inc. 4365"]
["Burlington Hydro Inc. 4370","Burlington Hydro Inc.","4370","Losses from Disposition of Allowances for Emission",0,0,0,0,0,null,"Burlington Hydro Inc. 4370"]
["Burlington Hydro Inc. 4375","Burlington Hydro Inc.","4375","Revenues from Non Rate-Regulated Utility Operations",-491154.64,-470881.72,-1588314.94,-600835.12,-626809.77,null,"Burlington Hydro Inc. 4375"]
["Burlington Hydro Inc. 4375","Burlington Hydro Inc.","4375","Sub-account Generation Facility Revenues",0,0,0,0,0,null,"Burlington Hydro Inc. 4375"]
["Burlington Hydro Inc. 4380","Burlington Hydro Inc.","4380","Expenses of Non Rate-Regulated Utility Operations",541508.71,556359.31000000006,757751.07,883510.73,652643.34,null,"Burlington Hydro Inc. 4380"]
["Burlington Hydro Inc. 4380","Burlington Hydro Inc.","4380","Sub-account Generation Facility Expenses",0,0,0,0,0,null,"Burlington Hydro Inc. 4380"]
["Burlington Hydro Inc. 4385","Burlington Hydro Inc.","4385","Non Rate-Regulated Utility Rental Income",0,0,0,0,0,null,"Burlington Hydro Inc. 4385"]
["Burlington Hydro Inc. 4390","Burlington Hydro Inc.","4390","Miscellaneous Non-Operating Income",-191673.87,-114773.74,-169556.36,-1003988.79,-340921.43,null,"Burlington Hydro Inc. 4390"]
["Burlington Hydro Inc. 4395","Burlington Hydro Inc.","4395","Rate-Payer Benefit Including Interest",0,0,0,0,0,null,"Burlington Hydro Inc. 4395"]
["Burlington Hydro Inc. 4398","Burlington Hydro Inc.","4398","Foreign Exchange Gains and Losses, Including Amortization",0,0,0,0,0,null,"Burlington Hydro Inc. 4398"]
["Burlington Hydro Inc. 4405","Burlington Hydro Inc.","4405","Interest and Dividend Income",-197760.5,-192876.58,-389823.17,-508015.6,-303095.78999999998,null,"Burlington Hydro Inc. 4405"]
["Burlington Hydro Inc. 4410","Burlington Hydro Inc.","4410","Lessor's Net Investment in Finance Lease",0,0,0,0,0,null,"Burlington Hydro Inc. 4410"]
["Burlington Hydro Inc. 4415","Burlington Hydro Inc.","4415","Equity in Earnings of Subsidiary Companies",0,0,0,0,0,null,"Burlington Hydro Inc. 4415"]
["Burlington Hydro Inc. 4420","Burlington Hydro Inc.","4420","Share of Profit or Loss of Joint Venture",0,0,0,0,0,null,"Burlington Hydro Inc. 4420"]
["Burlington Hydro Inc. Total ","Burlington Hydro Inc. Total",null,null,-2288322.5699999998,-1962085.31,-3608545.36,-3119441.45,-2848859.11,null,"Burlington Hydro Inc. Total "]
["Canadian Niagara Power Inc. 4082","Canadian Niagara Power Inc.","4082","Retail Services Revenues",-18616.5,-16040.21,-13670.7,-12078.2,-10397.540000000001,null,"Canadian Niagara Power Inc. 4082"]
["Canadian Niagara Power Inc. 4084","Canadian Niagara Power Inc.","4084","Service Transaction Requests (STR) Revenues",-499.5,-312.5,-213.25,-197.25,-173,null,"Canadian Niagara Power Inc. 4084"]
["Canadian Niagara Power Inc. 4086","Canadian Niagara Power Inc.","4086","SSS Administration Revenue",-82715.350000000006,-84355.07,-85295.5,-86451.5,-87559,null,"Canadian Niagara Power Inc. 4086"]
["Canadian Niagara Power Inc. 4090","Canadian Niagara Power Inc.","4090","Electric Services Incidental to Energy Sales",0,0,0,0,0,null,"Canadian Niagara Power Inc. 4090"]
["Canadian Niagara Power Inc. 4205","Canadian Niagara Power Inc.","4205","Interdepartmental Rents",0,0,0,0,0,null,"Canadian Niagara Power Inc. 4205"]
["Canadian Niagara Power Inc. 4210","Canadian Niagara Power Inc.","4210","Rent from Electric Property",-321042.12,-320187.23,-320298.96999999997,-322568.28999999998,-319890.62,null,"Canadian Niagara Power Inc. 4210"]
["Canadian Niagara Power Inc. 4215","Canadian Niagara Power Inc.","4215","Other Utility Operating Income",0,0,0,0,0,null,"Canadian Niagara Power Inc. 4215"]
["Canadian Niagara Power Inc. 4220","Canadian Niagara Power Inc.","4220","Other Electric Revenues",7557.25,-43594.14,-372289.67,-12745.04,-12320.45,null,"Canadian Niagara Power Inc. 4220"]
["Canadian Niagara Power Inc. 4225","Canadian Niagara Power Inc.","4225","Late Payment Charges",-422165.41,-213486.76,-170637.99,-161060.60999999999,-76808.479999999996,null,{"$f":"B262 & \" \" &C262","v":"Canadian Niagara Power Inc. 4225"}]
["Canadian Niagara Power Inc. 4230","Canadian Niagara Power Inc.","4230","Sales of Water and Water Power",0,0,0,0,0,null,"Canadian Niagara Power Inc. 4230"]
["Canadian Niagara Power Inc. 4235","Canadian Niagara Power Inc.","4235","Miscellaneous Service Revenues",-164355.07999999999,-142910.54,-131952.32999999999,-129838.61,-129160.98,null,"Canadian Niagara Power Inc. 4235"]
["Canadian Niagara Power Inc. 4240","Canadian Niagara Power Inc.","4240","Provision for Rate Refunds",0,0,0,0,0,null,"Canadian Niagara Power Inc. 4240"]
["Canadian Niagara Power Inc. 4245","Canadian Niagara Power Inc.","4245","Government Assistance Directly Credited to Income",0,0,0,0,0,null,"Canadian Niagara Power Inc. 4245"]
["Canadian Niagara Power Inc. 4305","Canadian Niagara Power Inc.","4305","Regulatory Debits",0,0,0,534514,417273.52,null,"Canadian Niagara Power Inc. 4305"]
["Canadian Niagara Power Inc. 4310","Canadian Niagara Power Inc.","4310","Regulatory Credits",0,0,0,0,0,null,"Canadian Niagara Power Inc. 4310"]
["Canadian Niagara Power Inc. 4315","Canadian Niagara Power Inc.","4315","Revenues from Electric Plant Leased to Others",0,0,0,0,0,null,"Canadian Niagara Power Inc. 4315"]
["Canadian Niagara Power Inc. 4320","Canadian Niagara Power Inc.","4320","Expenses of Electric Plant Leased to Others",0,0,0,0,0,null,"Canadian Niagara Power Inc. 4320"]
["Canadian Niagara Power Inc. 4325","Canadian Niagara Power Inc.","4325","Revenues from Merchandise Jobbing, Etc.",-561880.99,-476738.18,-449523.97,-489247.82,-559750.81000000006,null,"Canadian Niagara Power Inc. 4325"]
["Canadian Niagara Power Inc. 4330","Canadian Niagara Power Inc.","4330","Costs and Expenses of Merchandising Jobbing, Etc.",91748.800000000003,63974.33,133329.1,191243.13,292055.03999999998,null,"Canadian Niagara Power Inc. 4330"]
["Canadian Niagara Power Inc. 4335","Canadian Niagara Power Inc.","4335","Profits and Losses from Financial Instrument Hedges",0,0,0,0,0,null,"Canadian Niagara Power Inc. 4335"]
["Canadian Niagara Power Inc. 4340","Canadian Niagara Power Inc.","4340","Profits and Losses from Financial Instrument Investments",0,0,0,0,0,null,"Canadian Niagara Power Inc. 4340"]
["Canadian Niagara Power Inc. 4345","Canadian Niagara Power Inc.","4345","Gains from Disposition of Future Use Utility Plant",0,0,0,0,0,null,"Canadian Niagara Power Inc. 4345"]
["Canadian Niagara Power Inc. 4350","Canadian Niagara Power Inc.","4350","Losses from Disposition of Future Use Utility Plant",0,0,0,0,0,null,"Canadian Niagara Power Inc. 4350"]
["Canadian Niagara Power Inc. 4355","Canadian Niagara Power Inc.","4355","Gain on Disposition of Utility and Other Property",0,0,0,0,0,null,"Canadian Niagara Power Inc. 4355"]
["Canadian Niagara Power Inc. 4360","Canadian Niagara Power Inc.","4360","Loss on Disposition of Utility and Other Property",-56838.69,-42942.28,30405.21,169862.39999999999,694.48,null,"Canadian Niagara Power Inc. 4360"]
["Canadian Niagara Power Inc. 4365","Canadian Niagara Power Inc.","4365","Gains from Disposition of Allowances for Emission",0,0,0,0,0,null,"Canadian Niagara Power Inc. 4365"]
["Canadian Niagara Power Inc. 4370","Canadian Niagara Power Inc.","4370","Losses from Disposition of Allowances for Emission",0,0,0,0,0,null,"Canadian Niagara Power Inc. 4370"]
["Canadian Niagara Power Inc. 4375","Canadian Niagara Power Inc.","4375","Revenues from Non-Utility Operations",-1419965.88,-1314416.26,-1253511.3600000001,-1193792.52,0,null,"Canadian Niagara Power Inc. 4375"]
["Canadian Niagara Power Inc. 4375","Canadian Niagara Power Inc.","4375","Sub-account Generation Facility Revenues",0,0,0,0,0,null,"Canadian Niagara Power Inc. 4375"]
["Canadian Niagara Power Inc. 4380","Canadian Niagara Power Inc.","4380","Expenses of Non-Utility Operations",132249.72,122633.04,122214,116586.96,0,null,"Canadian Niagara Power Inc. 4380"]
["Canadian Niagara Power Inc. 4380","Canadian Niagara Power Inc.","4380","Sub-account Generation Facility Expenses",0,0,0,0,0,null,"Canadian Niagara Power Inc. 4380"]
["Canadian Niagara Power Inc. 4385","Canadian Niagara Power Inc.","4385","Non-Utility Rental Income",0,0,0,0,0,null,"Canadian Niagara Power Inc. 4385"]
["Canadian Niagara Power Inc. 4390","Canadian Niagara Power Inc.","4390","Miscellaneous Non-Operating Income",0,0,0,-50000,0,null,"Canadian Niagara Power Inc. 4390"]
["Canadian Niagara Power Inc. 4395","Canadian Niagara Power Inc.","4395","Rate-Payer Benefit Including Interest",0,0,0,0,0,null,"Canadian Niagara Power Inc. 4395"]
["Canadian Niagara Power Inc. 4398","Canadian Niagara Power Inc.","4398","Foreign Exchange Gains and Losses, Including Amortization",-52510.9,807.97,2859.66,-1337.33,556.76,null,"Canadian Niagara Power Inc. 4398"]
["Canadian Niagara Power Inc. 4405","Canadian Niagara Power Inc.","4405","Interest and Dividend Income",-72244.41,-83680.11,-135984,-144026.26999999999,-74989.02,null,"Canadian Niagara Power Inc. 4405"]
["Canadian Niagara Power Inc. 4415","Canadian Niagara Power Inc.","4415","Equity in Earnings of Subsidiary Companies",0,0,0,0,0,null,"Canadian Niagara Power Inc. 4415"]
["Canadian Niagara Power Inc. Total ","Canadian Niagara Power Inc. Total",null,null,-2941279.06,-2551247.94,-2644569.77,-1591136.95,-560470.1,null,"Canadian Niagara Power Inc. Total "]
["Centre Wellington Hydro Ltd. 4082","Centre Wellington Hydro Ltd.","4082","Retail Services Revenues",-7172.09,-6776.6,-6508.2,-9821.4,-10847.41,null,"Centre Wellington Hydro Ltd. 4082"]
["Centre Wellington Hydro Ltd. 4084","Centre Wellington Hydro Ltd.","4084","Service Transaction Requests (STR) Revenues",-60.23,-46.75,-46.75,-93.5,-67.41,null,"Centre Wellington Hydro Ltd. 4084"]
["Centre Wellington Hydro Ltd. 4086","Centre Wellington Hydro Ltd.","4086","SSS Administration Revenue",-19327.240000000002,-19687.259999999998,-20177.759999999998,-20554.740000000002,-21030,null,"Centre Wellington Hydro Ltd. 4086"]
["Centre Wellington Hydro Ltd. 4090","Centre Wellington Hydro Ltd.","4090","Electric Services Incidental to Energy Sales",0,0,0,0,0,null,"Centre Wellington Hydro Ltd. 4090"]
["Centre Wellington Hydro Ltd. 4205","Centre Wellington Hydro Ltd.","4205","Interdepartmental Rents",0,0,0,0,0,null,"Centre Wellington Hydro Ltd. 4205"]
["Centre Wellington Hydro Ltd. 4210","Centre Wellington Hydro Ltd.","4210","Rent from Electric Property",-79841.88,-79805.100000000006,-79642.41,-79609.08,-79902.94,null,"Centre Wellington Hydro Ltd. 4210"]
["Centre Wellington Hydro Ltd. 4215","Centre Wellington Hydro Ltd.","4215","Other Utility Operating Income",0,-11684.66,0,0,0,null,"Centre Wellington Hydro Ltd. 4215"]
["Centre Wellington Hydro Ltd. 4220","Centre Wellington Hydro Ltd.","4220","Other Electric Revenues",0,0,0,0,0,null,"Centre Wellington Hydro Ltd. 4220"]
["Centre Wellington Hydro Ltd. 4225","Centre Wellington Hydro Ltd.","4225","Late Payment Charges",-12908.31,0,-10834.45,-8700.5300000000007,-6790.34,null,"Centre Wellington Hydro Ltd. 4225"]
["Centre Wellington Hydro Ltd. 4230","Centre Wellington Hydro Ltd.","4230","Sales of Water and Water Power",0,0,0,0,0,null,"Centre Wellington Hydro Ltd. 4230"]
["Centre Wellington Hydro Ltd. 4235","Centre Wellington Hydro Ltd.","4235","Miscellaneous Service Revenues",-150907.35,-130095.78,-126029.8,-105907.78,-97032,null,"Centre Wellington Hydro Ltd. 4235"]
["Centre Wellington Hydro Ltd. 4240","Centre Wellington Hydro Ltd.","4240","Provision for Rate Refunds",0,0,0,0,0,null,"Centre Wellington Hydro Ltd. 4240"]
["Centre Wellington Hydro Ltd. 4245","Centre Wellington Hydro Ltd.","4245","Government and Other Assistance Directly Credited to Income",0,-5092.59,-11095.55,-20674.04,-21300.83,null,"Centre Wellington Hydro Ltd. 4245"]
["Centre Wellington Hydro Ltd. 4305","Centre Wellington Hydro Ltd.","4305","Regulatory Debits",0,0,0,0,0,null,"Centre Wellington Hydro Ltd. 4305"]
["Centre Wellington Hydro Ltd. 4310","Centre Wellington Hydro Ltd.","4310","Regulatory Credits",0,0,0,0,0,null,"Centre Wellington Hydro Ltd. 4310"]
["Centre Wellington Hydro Ltd. 4315","Centre Wellington Hydro Ltd.","4315","Revenues from Electric Plant Leased to Others",0,0,0,0,0,null,"Centre Wellington Hydro Ltd. 4315"]
["Centre Wellington Hydro Ltd. 4320","Centre Wellington Hydro Ltd.","4320","Expenses of Electric Plant Leased to Others",0,0,0,0,0,null,"Centre Wellington Hydro Ltd. 4320"]
["Centre Wellington Hydro Ltd. 4325","Centre Wellington Hydro Ltd.","4325","Revenues from Merchandise",0,-207.48,0,0,-317.85000000000002,null,"Centre Wellington Hydro Ltd. 4325"]
["Centre Wellington Hydro Ltd. 4330","Centre Wellington Hydro Ltd.","4330","Costs and Expenses of Merchandising",0,172.9,0,0,0,null,"Centre Wellington Hydro Ltd. 4330"]
["Centre Wellington Hydro Ltd. 4335","Centre Wellington Hydro Ltd.","4335","Profits and Losses from Financial Instrument Hedges",0,0,0,0,0,null,"Centre Wellington Hydro Ltd. 4335"]
["Centre Wellington Hydro Ltd. 4340","Centre Wellington Hydro Ltd.","4340","Profits and Losses from Financial Instrument Investments",0,0,0,0,0,null,"Centre Wellington Hydro Ltd. 4340"]
["Centre Wellington Hydro Ltd. 4345","Centre Wellington Hydro Ltd.","4345","Gains from Disposition of Future Use Utility Plant",0,0,0,0,0,null,"Centre Wellington Hydro Ltd. 4345"]
["Centre Wellington Hydro Ltd. 4350","Centre Wellington Hydro Ltd.","4350","Losses from Disposition of Future Use Utility Plant",0,0,0,0,0,null,"Centre Wellington Hydro Ltd. 4350"]
["Centre Wellington Hydro Ltd. 4355","Centre Wellington Hydro Ltd.","4355","Gain on Disposition of Utility and Other Property",0,0,-29031.21,-24000,-36500,null,"Centre Wellington Hydro Ltd. 4355"]
["Centre Wellington Hydro Ltd. 4357","Centre Wellington Hydro Ltd.","4357","Gain from Retirement of Utility and Other Property",0,0,0,0,0,null,"Centre Wellington Hydro Ltd. 4357"]
["Centre Wellington Hydro Ltd. 4360","Centre Wellington Hydro Ltd.","4360","Loss on Disposition of Utility and Other Property",47701.06,39527.06,30579.09,40311.85,26304.1,null,"Centre Wellington Hydro Ltd. 4360"]
["Centre Wellington Hydro Ltd. 4362","Centre Wellington Hydro Ltd.","4362","Loss from Retirement of Utility and Other Property",0,0,0,0,0,null,"Centre Wellington Hydro Ltd. 4362"]
["Centre Wellington Hydro Ltd. 4365","Centre Wellington Hydro Ltd.","4365","Gains from Disposition of Allowances for Emission",0,0,0,0,0,null,"Centre Wellington Hydro Ltd. 4365"]
["Centre Wellington Hydro Ltd. 4370","Centre Wellington Hydro Ltd.","4370","Losses from Disposition of Allowances for Emission",0,0,0,0,0,null,"Centre Wellington Hydro Ltd. 4370"]
["Centre Wellington Hydro Ltd. 4375","Centre Wellington Hydro Ltd.","4375","Revenues from Non Rate-Regulated Utility Operations",-625842.22,-359957.39,-445139.24,-335359.8,-226233.49,null,"Centre Wellington Hydro Ltd. 4375"]
["Centre Wellington Hydro Ltd. 4375","Centre Wellington Hydro Ltd.","4375","Sub-account Generation Facility Revenues",0,0,0,0,0,null,"Centre Wellington Hydro Ltd. 4375"]
["Centre Wellington Hydro Ltd. 4380","Centre Wellington Hydro Ltd.","4380","Expenses of Non Rate-Regulated Utility Operations",595618.91,324742.15999999997,334518.76,317130.57,220988.9,null,"Centre Wellington Hydro Ltd. 4380"]
["Centre Wellington Hydro Ltd. 4380","Centre Wellington Hydro Ltd.","4380","Sub-account Generation Facility Expenses",0,0,0,0,0,null,"Centre Wellington Hydro Ltd. 4380"]
["Centre Wellington Hydro Ltd. 4385","Centre Wellington Hydro Ltd.","4385","Non Rate-Regulated Utility Rental Income",0,0,0,0,0,null,"Centre Wellington Hydro Ltd. 4385"]
["Centre Wellington Hydro Ltd. 4390","Centre Wellington Hydro Ltd.","4390","Miscellaneous Non-Operating Income",-12050.32,-5380.16,-6057.96,-7341.7,-5349.8,null,{"$f":"B326 & \" \" &C326","v":"Centre Wellington Hydro Ltd. 4390"}]
["Centre Wellington Hydro Ltd. 4395","Centre Wellington Hydro Ltd.","4395","Rate-Payer Benefit Including Interest",0,0,0,0,0,null,"Centre Wellington Hydro Ltd. 4395"]
["Centre Wellington Hydro Ltd. 4398","Centre Wellington Hydro Ltd.","4398","Foreign Exchange Gains and Losses, Including Amortization",0,0,0,0,0,null,"Centre Wellington Hydro Ltd. 4398"]
["Centre Wellington Hydro Ltd. 4405","Centre Wellington Hydro Ltd.","4405","Interest and Dividend Income",-35355.89,-31978.82,-53463.46,-43784.47,-21541.64,null,"Centre Wellington Hydro Ltd. 4405"]
["Centre Wellington Hydro Ltd. 4410","Centre Wellington Hydro Ltd.","4410","Lessor's Net Investment in Finance Lease",0,0,0,0,0,null,"Centre Wellington Hydro Ltd. 4410"]
["Centre Wellington Hydro Ltd. 4415","Centre Wellington Hydro Ltd.","4415","Equity in Earnings of Subsidiary Companies",0,0,0,0,0,null,"Centre Wellington Hydro Ltd. 4415"]
["Centre Wellington Hydro Ltd. 4420","Centre Wellington Hydro Ltd.","4420","Share of Profit or Loss of Joint Venture",0,0,0,0,0,null,"Centre Wellington Hydro Ltd. 4420"]
["Centre Wellington Hydro Ltd. Total ","Centre Wellington Hydro Ltd. Total",null,null,-300145.56,-286270.46999999997,-422928.94,-298404.62,-279620.71000000002,null,"Centre Wellington Hydro Ltd. Total "]
["Chapleau Public Utilities Corporation 4082","Chapleau Public Utilities Corporation","4082","Retail Services Revenues",-3089.58,-2748.98,-2723.28,-4524.8,-5630.64,null,"Chapleau Public Utilities Corporation 4082"]
["Chapleau Public Utilities Corporation 4084","Chapleau Public Utilities Corporation","4084","Service Transaction Requests (STR) Revenues",0,0,0,0,0,null,"Chapleau Public Utilities Corporation 4084"]
["Chapleau Public Utilities Corporation 4086","Chapleau Public Utilities Corporation","4086","SSS Administration Revenue",0,0,-4642.74,-4681.91,-4667.5600000000004,null,"Chapleau Public Utilities Corporation 4086"]
["Chapleau Public Utilities Corporation 4090","Chapleau Public Utilities Corporation","4090","Electric Services Incidental to Energy Sales",0,0,0,0,0,null,"Chapleau Public Utilities Corporation 4090"]
["Chapleau Public Utilities Corporation 4205","Chapleau Public Utilities Corporation","4205","Interdepartmental Rents",0,0,0,0,0,null,"Chapleau Public Utilities Corporation 4205"]
["Chapleau Public Utilities Corporation 4210","Chapleau Public Utilities Corporation","4210","Rent from Electric Property",-13519.11,-13608.51,-17944.39,-3926.13,-26308.89,null,"Chapleau Public Utilities Corporation 4210"]
["Chapleau Public Utilities Corporation 4215","Chapleau Public Utilities Corporation","4215","Other Utility Operating Income",0,0,0,-23811.17,-9769.19,null,"Chapleau Public Utilities Corporation 4215"]
["Chapleau Public Utilities Corporation 4220","Chapleau Public Utilities Corporation","4220","Other Electric Revenues",0,0,0,0,0,null,"Chapleau Public Utilities Corporation 4220"]
["Chapleau Public Utilities Corporation 4225","Chapleau Public Utilities Corporation","4225","Late Payment Charges",-5781.98,-5682.43,-5114.87,-5173.45,-2860.4,null,"Chapleau Public Utilities Corporation 4225"]
["Chapleau Public Utilities Corporation 4230","Chapleau Public Utilities Corporation","4230","Sales of Water and Water Power",0,0,0,0,0,null,"Chapleau Public Utilities Corporation 4230"]
["Chapleau Public Utilities Corporation 4235","Chapleau Public Utilities Corporation","4235","Miscellaneous Service Revenues",-5580,-9731,-10324.07,-5895,-12169.35,null,"Chapleau Public Utilities Corporation 4235"]
["Chapleau Public Utilities Corporation 4240","Chapleau Public Utilities Corporation","4240","Provision for Rate Refunds",0,0,0,0,0,null,"Chapleau Public Utilities Corporation 4240"]
["Chapleau Public Utilities Corporation 4245","Chapleau Public Utilities Corporation","4245","Government and Other Assistance Directly Credited to Income",0,0,0,0,0,null,"Chapleau Public Utilities Corporation 4245"]
["Chapleau Public Utilities Corporation 4305","Chapleau Public Utilities Corporation","4305","Regulatory Debits",0,0,12435,0,0,null,"Chapleau Public Utilities Corporation 4305"]
["Chapleau Public Utilities Corporation 4310","Chapleau Public Utilities Corporation","4310","Regulatory Credits",0,0,0,0,0,null,"Chapleau Public Utilities Corporation 4310"]
["Chapleau Public Utilities Corporation 4315","Chapleau Public Utilities Corporation","4315","Revenues from Electric Plant Leased to Others",0,0,0,0,0,null,"Chapleau Public Utilities Corporation 4315"]
["Chapleau Public Utilities Corporation 4320","Chapleau Public Utilities Corporation","4320","Expenses of Electric Plant Leased to Others",0,0,0,0,0,null,"Chapleau Public Utilities Corporation 4320"]
["Chapleau Public Utilities Corporation 4325","Chapleau Public Utilities Corporation","4325","Revenues from Merchandise",-418.84,-14.98,-0.02,0,0,null,"Chapleau Public Utilities Corporation 4325"]
["Chapleau Public Utilities Corporation 4330","Chapleau Public Utilities Corporation","4330","Costs and Expenses of Merchandising",-1496.24,0,0,0,0,null,"Chapleau Public Utilities Corporation 4330"]
["Chapleau Public Utilities Corporation 4335","Chapleau Public Utilities Corporation","4335","Profits and Losses from Financial Instrument Hedges",0,0,0,0,0,null,"Chapleau Public Utilities Corporation 4335"]
["Chapleau Public Utilities Corporation 4340","Chapleau Public Utilities Corporation","4340","Profits and Losses from Financial Instrument Investments",0,0,0,0,-3259.3,null,"Chapleau Public Utilities Corporation 4340"]
["Chapleau Public Utilities Corporation 4345","Chapleau Public Utilities Corporation","4345","Gains from Disposition of Future Use Utility Plant",0,0,0,0,0,null,"Chapleau Public Utilities Corporation 4345"]
["Chapleau Public Utilities Corporation 4350","Chapleau Public Utilities Corporation","4350","Losses from Disposition of Future Use Utility Plant",0,0,0,0,0,null,"Chapleau Public Utilities Corporation 4350"]
["Chapleau Public Utilities Corporation 4355","Chapleau Public Utilities Corporation","4355","Gain on Disposition of Utility and Other Property",0,0,-50000,0,0,null,"Chapleau Public Utilities Corporation 4355"]
["Chapleau Public Utilities Corporation 4357","Chapleau Public Utilities Corporation","4357","Gain from Retirement of Utility and Other Property",0,0,0,0,0,null,"Chapleau Public Utilities Corporation 4357"]
["Chapleau Public Utilities Corporation 4360","Chapleau Public Utilities Corporation","4360","Loss on Disposition of Utility and Other Property",0,0,0,0,0,null,"Chapleau Public Utilities Corporation 4360"]
["Chapleau Public Utilities Corporation 4362","Chapleau Public Utilities Corporation","4362","Loss from Retirement of Utility and Other Property",0,0,0,0,0,null,"Chapleau Public Utilities Corporation 4362"]
["Chapleau Public Utilities Corporation 4365","Chapleau Public Utilities Corporation","4365","Gains from Disposition of Allowances for Emission",0,0,0,0,0,null,"Chapleau Public Utilities Corporation 4365"]
["Chapleau Public Utilities Corporation 4370","Chapleau Public Utilities Corporation","4370","Losses from Disposition of Allowances for Emission",0,0,0,0,0,null,"Chapleau Public Utilities Corporation 4370"]
["Chapleau Public Utilities Corporation 4375","Chapleau Public Utilities Corporation","4375","Revenues from Non Rate-Regulated Utility Operations",-53710.68,-16951.900000000001,-150106.84,-251751.37,-184985.32,null,"Chapleau Public Utilities Corporation 4375"]
["Chapleau Public Utilities Corporation 4375","Chapleau Public Utilities Corporation","4375","Sub-account Generation Facility Revenues",0,0,0,0,0,null,"Chapleau Public Utilities Corporation 4375"]
["Chapleau Public Utilities Corporation 4380","Chapleau Public Utilities Corporation","4380","Expenses of Non Rate-Regulated Utility Operations",36723.1,18360.12,127249.89,175587.33,202881.77,null,"Chapleau Public Utilities Corporation 4380"]
["Chapleau Public Utilities Corporation 4380","Chapleau Public Utilities Corporation","4380","Sub-account Generation Facility Expenses",0,0,0,0,0,null,"Chapleau Public Utilities Corporation 4380"]
["Chapleau Public Utilities Corporation 4385","Chapleau Public Utilities Corporation","4385","Non Rate-Regulated Utility Rental Income",0,0,0,0,0,null,"Chapleau Public Utilities Corporation 4385"]
["Chapleau Public Utilities Corporation 4390","Chapleau Public Utilities Corporation","4390","Miscellaneous Non-Operating Income",0,0,0,0,0,null,"Chapleau Public Utilities Corporation 4390"]
["Chapleau Public Utilities Corporation 4395","Chapleau Public Utilities Corporation","4395","Rate-Payer Benefit Including Interest",0,0,0,0,0,null,"Chapleau Public Utilities Corporation 4395"]
["Chapleau Public Utilities Corporation 4398","Chapleau Public Utilities Corporation","4398","Foreign Exchange Gains and Losses, Including Amortization",0,0,0,0,0,null,"Chapleau Public Utilities Corporation 4398"]
["Chapleau Public Utilities Corporation 4405","Chapleau Public Utilities Corporation","4405","Interest and Dividend Income",-3649.56,-9313.2999999999993,-3021.43,-17973.43,-11099.13,null,"Chapleau Public Utilities Corporation 4405"]
["Chapleau Public Utilities Corporation 4410","Chapleau Public Utilities Corporation","4410","Lessor's Net Investment in Finance Lease",0,0,0,0,0,null,"Chapleau Public Utilities Corporation 4410"]
["Chapleau Public Utilities Corporation 4415","Chapleau Public Utilities Corporation","4415","Equity in Earnings of Subsidiary Companies",0,0,0,0,0,null,"Chapleau Public Utilities Corporation 4415"]
["Chapleau Public Utilities Corporation 4420","Chapleau Public Utilities Corporation","4420","Share of Profit or Loss of Joint Venture",0,0,0,0,0,null,"Chapleau Public Utilities Corporation 4420"]
["Chapleau Public Utilities Corporation Total ","Chapleau Public Utilities Corporation Total",null,null,-50522.89,-39690.980000000003,-104192.75,-142149.93,-57868.01,null,"Chapleau Public Utilities Corporation Total "]
["Cooperative Hydro Embrun Inc. 4082","Cooperative Hydro Embrun Inc.","4082","Retail Services Revenues",-3151.2,-2784,-2238.4,-2740.3,-2452.11,null,"Cooperative Hydro Embrun Inc. 4082"]
["Cooperative Hydro Embrun Inc. 4084","Cooperative Hydro Embrun Inc.","4084","Service Transaction Requests (STR) Revenues",-7.75,-2.5,-0.25,-9,-2.54,null,"Cooperative Hydro Embrun Inc. 4084"]
["Cooperative Hydro Embrun Inc. 4086","Cooperative Hydro Embrun Inc.","4086","SSS Administration Revenue",0,0,0,-6911.3,-7040.74,null,"Cooperative Hydro Embrun Inc. 4086"]
["Cooperative Hydro Embrun Inc. 4090","Cooperative Hydro Embrun Inc.","4090","Electric Services Incidental to Energy Sales",0,0,0,0,0,null,"Cooperative Hydro Embrun Inc. 4090"]
["Cooperative Hydro Embrun Inc. 4205","Cooperative Hydro Embrun Inc.","4205","Interdepartmental Rents",0,0,0,0,0,null,"Cooperative Hydro Embrun Inc. 4205"]
["Cooperative Hydro Embrun Inc. 4210","Cooperative Hydro Embrun Inc.","4210","Rent from Electric Property",-6451.64,-6448.88,-6988.91,-6665.02,-6934.75,null,"Cooperative Hydro Embrun Inc. 4210"]
["Cooperative Hydro Embrun Inc. 4215","Cooperative Hydro Embrun Inc.","4215","Other Utility Operating Income",0,0,0,0,0,null,"Cooperative Hydro Embrun Inc. 4215"]
["Cooperative Hydro Embrun Inc. 4220","Cooperative Hydro Embrun Inc.","4220","Other Electric Revenues",0,0,0,0,0,null,"Cooperative Hydro Embrun Inc. 4220"]
["Cooperative Hydro Embrun Inc. 4225","Cooperative Hydro Embrun Inc.","4225","Late Payment Charges",-11282.8,-12084.01,-12495.49,-12599.66,-11634.27,null,"Cooperative Hydro Embrun Inc. 4225"]
["Cooperative Hydro Embrun Inc. 4230","Cooperative Hydro Embrun Inc.","4230","Sales of Water and Water Power",0,0,0,0,0,null,"Cooperative Hydro Embrun Inc. 4230"]
["Cooperative Hydro Embrun Inc. 4235","Cooperative Hydro Embrun Inc.","4235","Miscellaneous Service Revenues",-18595,-13079.04,-13655,-8800,-6810,null,"Cooperative Hydro Embrun Inc. 4235"]
["Cooperative Hydro Embrun Inc. 4240","Cooperative Hydro Embrun Inc.","4240","Provision for Rate Refunds",20000,0,35000,45000,50000,null,"Cooperative Hydro Embrun Inc. 4240"]
["Cooperative Hydro Embrun Inc. 4245","Cooperative Hydro Embrun Inc.","4245","Government and Other Assistance Directly Credited to Income",0,0,0,0,-10000,null,"Cooperative Hydro Embrun Inc. 4245"]
["Cooperative Hydro Embrun Inc. 4305","Cooperative Hydro Embrun Inc.","4305","Regulatory Debits",0,0,0,0,0,null,"Cooperative Hydro Embrun Inc. 4305"]
["Cooperative Hydro Embrun Inc. 4310","Cooperative Hydro Embrun Inc.","4310","Regulatory Credits",0,0,0,0,0,null,{"$f":"B390 & \" \" &C390","v":"Cooperative Hydro Embrun Inc. 4310"}]
["Cooperative Hydro Embrun Inc. 4315","Cooperative Hydro Embrun Inc.","4315","Revenues from Electric Plant Leased to Others",0,0,0,0,0,null,"Cooperative Hydro Embrun Inc. 4315"]
["Cooperative Hydro Embrun Inc. 4320","Cooperative Hydro Embrun Inc.","4320","Expenses of Electric Plant Leased to Others",0,0,0,0,0,null,"Cooperative Hydro Embrun Inc. 4320"]
["Cooperative Hydro Embrun Inc. 4325","Cooperative Hydro Embrun Inc.","4325","Revenues from Merchandise",0,0,0,0,0,null,"Cooperative Hydro Embrun Inc. 4325"]
["Cooperative Hydro Embrun Inc. 4330","Cooperative Hydro Embrun Inc.","4330","Costs and Expenses of Merchandising",0,0,0,0,0,null,"Cooperative Hydro Embrun Inc. 4330"]
["Cooperative Hydro Embrun Inc. 4335","Cooperative Hydro Embrun Inc.","4335","Profits and Losses from Financial Instrument Hedges",0,0,0,0,0,null,"Cooperative Hydro Embrun Inc. 4335"]
["Cooperative Hydro Embrun Inc. 4340","Cooperative Hydro Embrun Inc.","4340","Profits and Losses from Financial Instrument Investments",0,0,0,0,0,null,"Cooperative Hydro Embrun Inc. 4340"]
["Cooperative Hydro Embrun Inc. 4345","Cooperative Hydro Embrun Inc.","4345","Gains from Disposition of Future Use Utility Plant",0,0,0,0,0,null,"Cooperative Hydro Embrun Inc. 4345"]
["Cooperative Hydro Embrun Inc. 4350","Cooperative Hydro Embrun Inc.","4350","Losses from Disposition of Future Use Utility Plant",0,0,0,0,0,null,"Cooperative Hydro Embrun Inc. 4350"]
["Cooperative Hydro Embrun Inc. 4355","Cooperative Hydro Embrun Inc.","4355","Gain on Disposition of Utility and Other Property",0,0,0,0,0,null,"Cooperative Hydro Embrun Inc. 4355"]
["Cooperative Hydro Embrun Inc. 4357","Cooperative Hydro Embrun Inc.","4357","Gain from Retirement of Utility and Other Property",0,0,0,0,0,null,"Cooperative Hydro Embrun Inc. 4357"]
["Cooperative Hydro Embrun Inc. 4360","Cooperative Hydro Embrun Inc.","4360","Loss on Disposition of Utility and Other Property",11858,0,10481.36,6065.9,-28405,null,"Cooperative Hydro Embrun Inc. 4360"]
["Cooperative Hydro Embrun Inc. 4362","Cooperative Hydro Embrun Inc.","4362","Loss from Retirement of Utility and Other Property",0,0,0,0,0,null,"Cooperative Hydro Embrun Inc. 4362"]
["Cooperative Hydro Embrun Inc. 4365","Cooperative Hydro Embrun Inc.","4365","Gains from Disposition of Allowances for Emission",0,0,0,0,0,null,"Cooperative Hydro Embrun Inc. 4365"]
["Cooperative Hydro Embrun Inc. 4370","Cooperative Hydro Embrun Inc.","4370","Losses from Disposition of Allowances for Emission",0,0,0,0,0,null,"Cooperative Hydro Embrun Inc. 4370"]
["Cooperative Hydro Embrun Inc. 4375","Cooperative Hydro Embrun Inc.","4375","Revenues from Non Rate-Regulated Utility Operations",-3214.85,-13354.35,-22814.83,-16065.07,-1160,null,"Cooperative Hydro Embrun Inc. 4375"]
["Cooperative Hydro Embrun Inc. 4375","Cooperative Hydro Embrun Inc.","4375","Sub-account Generation Facility Revenues",0,0,0,0,0,null,"Cooperative Hydro Embrun Inc. 4375"]
["Cooperative Hydro Embrun Inc. 4380","Cooperative Hydro Embrun Inc.","4380","Expenses of Non Rate-Regulated Utility Operations",3214.85,0,22814.83,16065.07,1160,null,"Cooperative Hydro Embrun Inc. 4380"]
["Cooperative Hydro Embrun Inc. 4380","Cooperative Hydro Embrun Inc.","4380","Sub-account Generation Facility Expenses",0,0,0,0,0,null,"Cooperative Hydro Embrun Inc. 4380"]
["Cooperative Hydro Embrun Inc. 4385","Cooperative Hydro Embrun Inc.","4385","Non Rate-Regulated Utility Rental Income",0,0,0,0,0,null,"Cooperative Hydro Embrun Inc. 4385"]
["Cooperative Hydro Embrun Inc. 4390","Cooperative Hydro Embrun Inc.","4390","Miscellaneous Non-Operating Income",-12330.66,-5723.59,-24977.89,-3974.29,-1417.21,null,"Cooperative Hydro Embrun Inc. 4390"]
["Cooperative Hydro Embrun Inc. 4395","Cooperative Hydro Embrun Inc.","4395","Rate-Payer Benefit Including Interest",0,0,0,0,0,null,"Cooperative Hydro Embrun Inc. 4395"]
["Cooperative Hydro Embrun Inc. 4398","Cooperative Hydro Embrun Inc.","4398","Foreign Exchange Gains and Losses, Including Amortization",0,0,0,0,0,null,"Cooperative Hydro Embrun Inc. 4398"]
["Cooperative Hydro Embrun Inc. 4405","Cooperative Hydro Embrun Inc.","4405","Interest and Dividend Income",-22160.59,-13394.79,-13755.76,-18819.91,-7954.18,null,"Cooperative Hydro Embrun Inc. 4405"]
["Cooperative Hydro Embrun Inc. 4410","Cooperative Hydro Embrun Inc.","4410","Lessor's Net Investment in Finance Lease",0,0,0,0,0,null,"Cooperative Hydro Embrun Inc. 4410"]
["Cooperative Hydro Embrun Inc. 4415","Cooperative Hydro Embrun Inc.","4415","Equity in Earnings of Subsidiary Companies",0,0,0,0,0,null,"Cooperative Hydro Embrun Inc. 4415"]
["Cooperative Hydro Embrun Inc. 4420","Cooperative Hydro Embrun Inc.","4420","Share of Profit or Loss of Joint Venture",0,0,0,0,0,null,"Cooperative Hydro Embrun Inc. 4420"]
["Cooperative Hydro Embrun Inc. Total ","Cooperative Hydro Embrun Inc. Total",null,null,-42121.64,-66871.16,-28630.34,-9453.58,-32650.799999999999,null,"Cooperative Hydro Embrun Inc. Total "]
["Cornwall Street Railway Light and Power Company Limited 4082","Cornwall Street Railway Light and Power Company Limited","4082","Retail Services Revenues",null,null,null,null,0,null,"Cornwall Street Railway Light and Power Company Limited 4082"]
["Cornwall Street Railway Light and Power Company Limited 4084","Cornwall Street Railway Light and Power Company Limited","4084","Service Transaction Requests (STR) Revenues",null,null,null,null,0,null,"Cornwall Street Railway Light and Power Company Limited 4084"]
["Cornwall Street Railway Light and Power Company Limited 4086","Cornwall Street Railway Light and Power Company Limited","4086","SSS Administration Revenue",null,null,null,null,0,null,"Cornwall Street Railway Light and Power Company Limited 4086"]
["Cornwall Street Railway Light and Power Company Limited 4090","Cornwall Street Railway Light and Power Company Limited","4090","Electric Services Incidental to Energy Sales",null,null,null,null,0,null,"Cornwall Street Railway Light and Power Company Limited 4090"]
["Cornwall Street Railway Light and Power Company Limited 4205","Cornwall Street Railway Light and Power Company Limited","4205","Interdepartmental Rents",null,null,null,null,0,null,"Cornwall Street Railway Light and Power Company Limited 4205"]
["Cornwall Street Railway Light and Power Company Limited 4210","Cornwall Street Railway Light and Power Company Limited","4210","Rent from Electric Property",null,null,null,null,0,null,"Cornwall Street Railway Light and Power Company Limited 4210"]
["Cornwall Street Railway Light and Power Company Limited 4215","Cornwall Street Railway Light and Power Company Limited","4215","Other Utility Operating Income",null,null,null,null,0,null,"Cornwall Street Railway Light and Power Company Limited 4215"]
["Cornwall Street Railway Light and Power Company Limited 4220","Cornwall Street Railway Light and Power Company Limited","4220","Other Electric Revenues",null,null,null,null,0,null,"Cornwall Street Railway Light and Power Company Limited 4220"]
["Cornwall Street Railway Light and Power Company Limited 4225","Cornwall Street Railway Light and Power Company Limited","4225","Late Payment Charges",null,null,null,null,0,null,"Cornwall Street Railway Light and Power Company Limited 4225"]
["Cornwall Street Railway Light and Power Company Limited 4230","Cornwall Street Railway Light and Power Company Limited","4230","Sales of Water and Water Power",null,null,null,null,0,null,"Cornwall Street Railway Light and Power Company Limited 4230"]
["Cornwall Street Railway Light and Power Company Limited 4235","Cornwall Street Railway Light and Power Company Limited","4235","Miscellaneous Service Revenues",null,null,null,null,0,null,"Cornwall Street Railway Light and Power Company Limited 4235"]
["Cornwall Street Railway Light and Power Company Limited 4240","Cornwall Street Railway Light and Power Company Limited","4240","Provision for Rate Refunds",null,null,null,null,0,null,"Cornwall Street Railway Light and Power Company Limited 4240"]
["Cornwall Street Railway Light and Power Company Limited 4245","Cornwall Street Railway Light and Power Company Limited","4245","Government Assistance Directly Credited to Income",null,null,null,null,0,null,"Cornwall Street Railway Light and Power Company Limited 4245"]
["Cornwall Street Railway Light and Power Company Limited 4305","Cornwall Street Railway Light and Power Company Limited","4305","Regulatory Debits",null,null,null,null,0,null,"Cornwall Street Railway Light and Power Company Limited 4305"]
["Cornwall Street Railway Light and Power Company Limited 4310","Cornwall Street Railway Light and Power Company Limited","4310","Regulatory Credits",null,null,null,null,0,null,"Cornwall Street Railway Light and Power Company Limited 4310"]
["Cornwall Street Railway Light and Power Company Limited 4315","Cornwall Street Railway Light and Power Company Limited","4315","Revenues from Electric Plant Leased to Others",null,null,null,null,0,null,"Cornwall Street Railway Light and Power Company Limited 4315"]
["Cornwall Street Railway Light and Power Company Limited 4320","Cornwall Street Railway Light and Power Company Limited","4320","Expenses of Electric Plant Leased to Others",null,null,null,null,0,null,"Cornwall Street Railway Light and Power Company Limited 4320"]
["Cornwall Street Railway Light and Power Company Limited 4325","Cornwall Street Railway Light and Power Company Limited","4325","Revenues from Merchandise Jobbing, Etc.",null,null,null,null,0,null,"Cornwall Street Railway Light and Power Company Limited 4325"]
["Cornwall Street Railway Light and Power Company Limited 4330","Cornwall Street Railway Light and Power Company Limited","4330","Costs and Expenses of Merchandising Jobbing, Etc.",null,null,null,null,0,null,"Cornwall Street Railway Light and Power Company Limited 4330"]
["Cornwall Street Railway Light and Power Company Limited 4335","Cornwall Street Railway Light and Power Company Limited","4335","Profits and Losses from Financial Instrument Hedges",null,null,null,null,0,null,"Cornwall Street Railway Light and Power Company Limited 4335"]
["Cornwall Street Railway Light and Power Company Limited 4340","Cornwall Street Railway Light and Power Company Limited","4340","Profits and Losses from Financial Instrument Investments",null,null,null,null,0,null,"Cornwall Street Railway Light and Power Company Limited 4340"]
["Cornwall Street Railway Light and Power Company Limited 4345","Cornwall Street Railway Light and Power Company Limited","4345","Gains from Disposition of Future Use Utility Plant",null,null,null,null,0,null,"Cornwall Street Railway Light and Power Company Limited 4345"]
["Cornwall Street Railway Light and Power Company Limited 4350","Cornwall Street Railway Light and Power Company Limited","4350","Losses from Disposition of Future Use Utility Plant",null,null,null,null,0,null,"Cornwall Street Railway Light and Power Company Limited 4350"]
["Cornwall Street Railway Light and Power Company Limited 4355","Cornwall Street Railway Light and Power Company Limited","4355","Gain on Disposition of Utility and Other Property",null,null,null,null,0,null,"Cornwall Street Railway Light and Power Company Limited 4355"]
["Cornwall Street Railway Light and Power Company Limited 4360","Cornwall Street Railway Light and Power Company Limited","4360","Loss on Disposition of Utility and Other Property",null,null,null,null,0,null,"Cornwall Street Railway Light and Power Company Limited 4360"]
["Cornwall Street Railway Light and Power Company Limited 4365","Cornwall Street Railway Light and Power Company Limited","4365","Gains from Disposition of Allowances for Emission",null,null,null,null,0,null,"Cornwall Street Railway Light and Power Company Limited 4365"]
["Cornwall Street Railway Light and Power Company Limited 4370","Cornwall Street Railway Light and Power Company Limited","4370","Losses from Disposition of Allowances for Emission",null,null,null,null,0,null,"Cornwall Street Railway Light and Power Company Limited 4370"]
["Cornwall Street Railway Light and Power Company Limited 4375","Cornwall Street Railway Light and Power Company Limited","4375","Revenues from Non-Utility Operations",null,null,null,null,0,null,"Cornwall Street Railway Light and Power Company Limited 4375"]
["Cornwall Street Railway Light and Power Company Limited 4375","Cornwall Street Railway Light and Power Company Limited","4375","Sub-account Generation Facility Revenues",null,null,null,null,0,null,"Cornwall Street Railway Light and Power Company Limited 4375"]
["Cornwall Street Railway Light and Power Company Limited 4380","Cornwall Street Railway Light and Power Company Limited","4380","Expenses of Non-Utility Operations",null,null,null,null,0,null,"Cornwall Street Railway Light and Power Company Limited 4380"]
["Cornwall Street Railway Light and Power Company Limited 4380","Cornwall Street Railway Light and Power Company Limited","4380","Sub-account Generation Facility Expenses",null,null,null,null,0,null,"Cornwall Street Railway Light and Power Company Limited 4380"]
["Cornwall Street Railway Light and Power Company Limited 4385","Cornwall Street Railway Light and Power Company Limited","4385","Non-Utility Rental Income",null,null,null,null,0,null,"Cornwall Street Railway Light and Power Company Limited 4385"]
["Cornwall Street Railway Light and Power Company Limited 4390","Cornwall Street Railway Light and Power Company Limited","4390","Miscellaneous Non-Operating Income",null,null,null,null,0,null,"Cornwall Street Railway Light and Power Company Limited 4390"]
["Cornwall Street Railway Light and Power Company Limited 4395","Cornwall Street Railway Light and Power Company Limited","4395","Rate-Payer Benefit Including Interest",null,null,null,null,0,null,"Cornwall Street Railway Light and Power Company Limited 4395"]
["Cornwall Street Railway Light and Power Company Limited 4398","Cornwall Street Railway Light and Power Company Limited","4398","Foreign Exchange Gains and Losses, Including Amortization",null,null,null,null,0,null,"Cornwall Street Railway Light and Power Company Limited 4398"]
["Cornwall Street Railway Light and Power Company Limited 4405","Cornwall Street Railway Light and Power Company Limited","4405","Interest and Dividend Income",null,null,null,null,0,null,"Cornwall Street Railway Light and Power Company Limited 4405"]
["Cornwall Street Railway Light and Power Company Limited 4415","Cornwall Street Railway Light and Power Company Limited","4415","Equity in Earnings of Subsidiary Companies",null,null,null,null,0,null,{"$f":"B454 & \" \" &C454","v":"Cornwall Street Railway Light and Power Company Limited 4415"}]
["Cornwall Street Railway Light and Power Company Limited Total ","Cornwall Street Railway Light and Power Company Limited Total",null,null,null,null,null,null,0,null,"Cornwall Street Railway Light and Power Company Limited Total "]
["E.L.K. Energy Inc. 4082","E.L.K. Energy Inc.","4082","Retail Services Revenues",0,0,0,0,0,null,"E.L.K. Energy Inc. 4082"]
["E.L.K. Energy Inc. 4084","E.L.K. Energy Inc.","4084","Service Transaction Requests (STR) Revenues",0,0,0,0,0,null,"E.L.K. Energy Inc. 4084"]
["E.L.K. Energy Inc. 4086","E.L.K. Energy Inc.","4086","SSS Administration Revenue",0,0,0,0,0,null,"E.L.K. Energy Inc. 4086"]
["E.L.K. Energy Inc. 4090","E.L.K. Energy Inc.","4090","Electric Services Incidental to Energy Sales",0,0,0,0,0,null,"E.L.K. Energy Inc. 4090"]
["E.L.K. Energy Inc. 4205","E.L.K. Energy Inc.","4205","Interdepartmental Rents",0,0,0,0,0,null,"E.L.K. Energy Inc. 4205"]
["E.L.K. Energy Inc. 4210","E.L.K. Energy Inc.","4210","Rent from Electric Property",-46278.77,-46329.18,-49745.29,0,0,null,"E.L.K. Energy Inc. 4210"]
["E.L.K. Energy Inc. 4215","E.L.K. Energy Inc.","4215","Other Utility Operating Income",-10444.969999999999,5126.3500000000004,0,-2314,-6928,null,"E.L.K. Energy Inc. 4215"]
["E.L.K. Energy Inc. 4220","E.L.K. Energy Inc.","4220","Other Electric Revenues",17998.310000000001,0,0,0,-9740.7099999999991,null,"E.L.K. Energy Inc. 4220"]
["E.L.K. Energy Inc. 4225","E.L.K. Energy Inc.","4225","Late Payment Charges",-122162.82,-42629.55,-97310.01,-93142.78,-86402.91,null,"E.L.K. Energy Inc. 4225"]
["E.L.K. Energy Inc. 4230","E.L.K. Energy Inc.","4230","Sales of Water and Water Power",0,0,0,0,0,null,"E.L.K. Energy Inc. 4230"]
["E.L.K. Energy Inc. 4235","E.L.K. Energy Inc.","4235","Miscellaneous Service Revenues",-65796.02,0,-117559.9,-108675.66,-163732.79999999999,null,"E.L.K. Energy Inc. 4235"]
["E.L.K. Energy Inc. 4240","E.L.K. Energy Inc.","4240","Provision for Rate Refunds",0,0,0,0,0,null,"E.L.K. Energy Inc. 4240"]
["E.L.K. Energy Inc. 4245","E.L.K. Energy Inc.","4245","Government and Other Assistance Directly Credited to Income",0,0,0,0,0,null,"E.L.K. Energy Inc. 4245"]
["E.L.K. Energy Inc. 4305","E.L.K. Energy Inc.","4305","Regulatory Debits",163488.69,0,0,0,0,null,"E.L.K. Energy Inc. 4305"]
["E.L.K. Energy Inc. 4310","E.L.K. Energy Inc.","4310","Regulatory Credits",0,0,0,0,0,null,"E.L.K. Energy Inc. 4310"]
["E.L.K. Energy Inc. 4315","E.L.K. Energy Inc.","4315","Revenues from Electric Plant Leased to Others",0,0,0,0,0,null,"E.L.K. Energy Inc. 4315"]
["E.L.K. Energy Inc. 4320","E.L.K. Energy Inc.","4320","Expenses of Electric Plant Leased to Others",12.41,0,0,0,0,null,"E.L.K. Energy Inc. 4320"]
["E.L.K. Energy Inc. 4325","E.L.K. Energy Inc.","4325","Revenues from Merchandise",0,-108780.72,0,0,0,null,"E.L.K. Energy Inc. 4325"]
["E.L.K. Energy Inc. 4330","E.L.K. Energy Inc.","4330","Costs and Expenses of Merchandising",0,0,0,0,0,null,"E.L.K. Energy Inc. 4330"]
["E.L.K. Energy Inc. 4335","E.L.K. Energy Inc.","4335","Profits and Losses from Financial Instrument Hedges",0,0,0,0,0,null,"E.L.K. Energy Inc. 4335"]
["E.L.K. Energy Inc. 4340","E.L.K. Energy Inc.","4340","Profits and Losses from Financial Instrument Investments",0,0,0,0,0,null,"E.L.K. Energy Inc. 4340"]
["E.L.K. Energy Inc. 4345","E.L.K. Energy Inc.","4345","Gains from Disposition of Future Use Utility Plant",0,0,0,0,0,null,"E.L.K. Energy Inc. 4345"]
["E.L.K. Energy Inc. 4350","E.L.K. Energy Inc.","4350","Losses from Disposition of Future Use Utility Plant",0,0,0,0,0,null,"E.L.K. Energy Inc. 4350"]
["E.L.K. Energy Inc. 4355","E.L.K. Energy Inc.","4355","Gain on Disposition of Utility and Other Property",-50384.75,0,0,0,0,null,"E.L.K. Energy Inc. 4355"]
["E.L.K. Energy Inc. 4357","E.L.K. Energy Inc.","4357","Gain from Retirement of Utility and Other Property",0,0,0,0,0,null,"E.L.K. Energy Inc. 4357"]
["E.L.K. Energy Inc. 4360","E.L.K. Energy Inc.","4360","Loss on Disposition of Utility and Other Property",0,0,0,0,0,null,"E.L.K. Energy Inc. 4360"]
["E.L.K. Energy Inc. 4362","E.L.K. Energy Inc.","4362","Loss from Retirement of Utility and Other Property",0,0,0,0,0,null,"E.L.K. Energy Inc. 4362"]
["E.L.K. Energy Inc. 4365","E.L.K. Energy Inc.","4365","Gains from Disposition of Allowances for Emission",0,0,0,0,0,null,"E.L.K. Energy Inc. 4365"]
["E.L.K. Energy Inc. 4370","E.L.K. Energy Inc.","4370","Losses from Disposition of Allowances for Emission",0,0,0,0,0,null,"E.L.K. Energy Inc. 4370"]
["E.L.K. Energy Inc. 4375","E.L.K. Energy Inc.","4375","Revenues from Non Rate-Regulated Utility Operations",-917618.47,-721597.88,-816571.96,-711014.07,-651522.32999999996,null,"E.L.K. Energy Inc. 4375"]
["E.L.K. Energy Inc. 4375","E.L.K. Energy Inc.","4375","Sub-account Generation Facility Revenues",0,0,0,0,0,null,"E.L.K. Energy Inc. 4375"]
["E.L.K. Energy Inc. 4380","E.L.K. Energy Inc.","4380","Expenses of Non Rate-Regulated Utility Operations",470223.39,257651.05,418032.07,342822.40000000002,225374.96,null,"E.L.K. Energy Inc. 4380"]
["E.L.K. Energy Inc. 4380","E.L.K. Energy Inc.","4380","Sub-account Generation Facility Expenses",0,0,0,0,0,null,"E.L.K. Energy Inc. 4380"]
["E.L.K. Energy Inc. 4385","E.L.K. Energy Inc.","4385","Non Rate-Regulated Utility Rental Income",0,0,0,-65905.11,-66362.73,null,"E.L.K. Energy Inc. 4385"]
["E.L.K. Energy Inc. 4390","E.L.K. Energy Inc.","4390","Miscellaneous Non-Operating Income",0,0,0,0,0,null,"E.L.K. Energy Inc. 4390"]
["E.L.K. Energy Inc. 4395","E.L.K. Energy Inc.","4395","Rate-Payer Benefit Including Interest",0,0,0,0,0,null,"E.L.K. Energy Inc. 4395"]
["E.L.K. Energy Inc. 4398","E.L.K. Energy Inc.","4398","Foreign Exchange Gains and Losses, Including Amortization",0,0,0,0,0,null,"E.L.K. Energy Inc. 4398"]
["E.L.K. Energy Inc. 4405","E.L.K. Energy Inc.","4405","Interest and Dividend Income",-56444.14,-77374.03,-128219.96,-196292.76,-141845.97,null,"E.L.K. Energy Inc. 4405"]
["E.L.K. Energy Inc. 4410","E.L.K. Energy Inc.","4410","Lessor's Net Investment in Finance Lease",0,0,0,0,0,null,"E.L.K. Energy Inc. 4410"]
["E.L.K. Energy Inc. 4415","E.L.K. Energy Inc.","4415","Equity in Earnings of Subsidiary Companies",0,0,0,0,0,null,"E.L.K. Energy Inc. 4415"]
["E.L.K. Energy Inc. 4420","E.L.K. Energy Inc.","4420","Share of Profit or Loss of Joint Venture",0,0,0,0,0,null,"E.L.K. Energy Inc. 4420"]
["E.L.K. Energy Inc. Total ","E.L.K. Energy Inc. Total",null,null,-617407.14,-733933.96,-791375.05,-834521.98,-901160.49,null,"E.L.K. Energy Inc. Total "]
["ENWIN Utilities Ltd. 4082","ENWIN Utilities Ltd.","4082","Retail Services Revenues",0,0,0,0,0,null,"ENWIN Utilities Ltd. 4082"]
["ENWIN Utilities Ltd. 4084","ENWIN Utilities Ltd.","4084","Service Transaction Requests (STR) Revenues",0,0,0,0,0,null,"ENWIN Utilities Ltd. 4084"]
["ENWIN Utilities Ltd. 4086","ENWIN Utilities Ltd.","4086","SSS Administration Revenue",-250519.9,-254636.48,-258321.98,-259961.38,-262749.65999999997,null,"ENWIN Utilities Ltd. 4086"]
["ENWIN Utilities Ltd. 4090","ENWIN Utilities Ltd.","4090","Electric Services Incidental to Energy Sales",0,0,0,0,0,null,"ENWIN Utilities Ltd. 4090"]
["ENWIN Utilities Ltd. 4205","ENWIN Utilities Ltd.","4205","Interdepartmental Rents",0,0,0,0,0,null,"ENWIN Utilities Ltd. 4205"]
["ENWIN Utilities Ltd. 4210","ENWIN Utilities Ltd.","4210","Rent from Electric Property",-599025.19999999995,-628275.04,-732128.84,-853894.75,-1591990.69,null,"ENWIN Utilities Ltd. 4210"]
["ENWIN Utilities Ltd. 4215","ENWIN Utilities Ltd.","4215","Other Utility Operating Income",-2369.1999999999998,-1459.28,-2779.79,-1547.64,-1076.44,null,"ENWIN Utilities Ltd. 4215"]
["ENWIN Utilities Ltd. 4220","ENWIN Utilities Ltd.","4220","Other Electric Revenues",0,0,0,0,0,null,"ENWIN Utilities Ltd. 4220"]
["ENWIN Utilities Ltd. 4225","ENWIN Utilities Ltd.","4225","Late Payment Charges",-404244.82,-365696.31,-378243.38,-377758.95,-452399.72,null,"ENWIN Utilities Ltd. 4225"]
["ENWIN Utilities Ltd. 4230","ENWIN Utilities Ltd.","4230","Sales of Water and Water Power",0,0,0,0,0,null,"ENWIN Utilities Ltd. 4230"]
["ENWIN Utilities Ltd. 4235","ENWIN Utilities Ltd.","4235","Miscellaneous Service Revenues",-1152888.08,-903510.82,-768761.77,-945550.38,-881614.75,null,"ENWIN Utilities Ltd. 4235"]
["ENWIN Utilities Ltd. 4240","ENWIN Utilities Ltd.","4240","Provision for Rate Refunds",0,0,0,0,0,null,"ENWIN Utilities Ltd. 4240"]
["ENWIN Utilities Ltd. 4245","ENWIN Utilities Ltd.","4245","Government and Other Assistance Directly Credited to Income",-269948.81,-316767.84000000003,-353872.1,-417047.97,-492349.39,null,"ENWIN Utilities Ltd. 4245"]
["ENWIN Utilities Ltd. 4305","ENWIN Utilities Ltd.","4305","Regulatory Debits",0,0,0,0,0,null,"ENWIN Utilities Ltd. 4305"]
["ENWIN Utilities Ltd. 4310","ENWIN Utilities Ltd.","4310","Regulatory Credits",2371364.09,2280327.7200000002,2373768.48,2061977.59,4322672.12,null,"ENWIN Utilities Ltd. 4310"]
["ENWIN Utilities Ltd. 4315","ENWIN Utilities Ltd.","4315","Revenues from Electric Plant Leased to Others",0,0,0,0,0,null,"ENWIN Utilities Ltd. 4315"]
["ENWIN Utilities Ltd. 4320","ENWIN Utilities Ltd.","4320","Expenses of Electric Plant Leased to Others",0,0,0,0,0,null,"ENWIN Utilities Ltd. 4320"]
["ENWIN Utilities Ltd. 4325","ENWIN Utilities Ltd.","4325","Revenues from Merchandise",0,0,0,0,0,null,"ENWIN Utilities Ltd. 4325"]
["ENWIN Utilities Ltd. 4330","ENWIN Utilities Ltd.","4330","Costs and Expenses of Merchandising",0,0,0,0,0,null,"ENWIN Utilities Ltd. 4330"]
["ENWIN Utilities Ltd. 4335","ENWIN Utilities Ltd.","4335","Profits and Losses from Financial Instrument Hedges",0,0,0,0,0,null,"ENWIN Utilities Ltd. 4335"]
["ENWIN Utilities Ltd. 4340","ENWIN Utilities Ltd.","4340","Profits and Losses from Financial Instrument Investments",0,0,0,0,0,null,{"$f":"B518 & \" \" &C518","v":"ENWIN Utilities Ltd. 4340"}]
["ENWIN Utilities Ltd. 4345","ENWIN Utilities Ltd.","4345","Gains from Disposition of Future Use Utility Plant",0,0,0,0,0,null,"ENWIN Utilities Ltd. 4345"]
["ENWIN Utilities Ltd. 4350","ENWIN Utilities Ltd.","4350","Losses from Disposition of Future Use Utility Plant",0,0,0,0,0,null,"ENWIN Utilities Ltd. 4350"]
["ENWIN Utilities Ltd. 4355","ENWIN Utilities Ltd.","4355","Gain on Disposition of Utility and Other Property",-614523.05000000005,-522381.71,-346960.63,-59368.15,-631613.43999999994,null,"ENWIN Utilities Ltd. 4355"]
["ENWIN Utilities Ltd. 4357","ENWIN Utilities Ltd.","4357","Gain from Retirement of Utility and Other Property",0,0,0,0,0,null,"ENWIN Utilities Ltd. 4357"]
["ENWIN Utilities Ltd. 4360","ENWIN Utilities Ltd.","4360","Loss on Disposition of Utility and Other Property",477104.53,458577.04,509809.02,436205.89,547781.34,null,"ENWIN Utilities Ltd. 4360"]
["ENWIN Utilities Ltd. 4362","ENWIN Utilities Ltd.","4362","Loss from Retirement of Utility and Other Property",0,0,0,0,0,null,"ENWIN Utilities Ltd. 4362"]
["ENWIN Utilities Ltd. 4365","ENWIN Utilities Ltd.","4365","Gains from Disposition of Allowances for Emission",0,0,0,0,0,null,"ENWIN Utilities Ltd. 4365"]
["ENWIN Utilities Ltd. 4370","ENWIN Utilities Ltd.","4370","Losses from Disposition of Allowances for Emission",0,0,0,0,0,null,"ENWIN Utilities Ltd. 4370"]
["ENWIN Utilities Ltd. 4375","ENWIN Utilities Ltd.","4375","Revenues from Non Rate-Regulated Utility Operations",-24617951.010000002,-23066217.079999998,-23529194.539999999,-22850123.93,-22557081.350000001,null,"ENWIN Utilities Ltd. 4375"]
["ENWIN Utilities Ltd. 4375","ENWIN Utilities Ltd.","4375","Sub-account Generation Facility Revenues",0,0,0,0,0,null,"ENWIN Utilities Ltd. 4375"]
["ENWIN Utilities Ltd. 4380","ENWIN Utilities Ltd.","4380","Expenses of Non Rate-Regulated Utility Operations",23528544.780825801,22038804.190000001,22773953.059999999,22277244.690000001,21173634.489999998,null,"ENWIN Utilities Ltd. 4380"]
["ENWIN Utilities Ltd. 4380","ENWIN Utilities Ltd.","4380","Sub-account Generation Facility Expenses",0,0,0,0,0,null,"ENWIN Utilities Ltd. 4380"]
["ENWIN Utilities Ltd. 4385","ENWIN Utilities Ltd.","4385","Non Rate-Regulated Utility Rental Income",0,0,0,0,0,null,"ENWIN Utilities Ltd. 4385"]
["ENWIN Utilities Ltd. 4390","ENWIN Utilities Ltd.","4390","Miscellaneous Non-Operating Income",-131893.32999999999,-85943.67,-123539.06,-96481.74,-76688,null,"ENWIN Utilities Ltd. 4390"]
["ENWIN Utilities Ltd. 4395","ENWIN Utilities Ltd.","4395","Rate-Payer Benefit Including Interest",0,0,0,0,0,null,"ENWIN Utilities Ltd. 4395"]
["ENWIN Utilities Ltd. 4398","ENWIN Utilities Ltd.","4398","Foreign Exchange Gains and Losses, Including Amortization",14237.93,-2754.28,471.22,1438.94,9601.65,null,"ENWIN Utilities Ltd. 4398"]
["ENWIN Utilities Ltd. 4405","ENWIN Utilities Ltd.","4405","Interest and Dividend Income",-568506.72,-641052.36,-973931.26,-1249348.7,-528685.38,null,"ENWIN Utilities Ltd. 4405"]
["ENWIN Utilities Ltd. 4410","ENWIN Utilities Ltd.","4410","Lessor's Net Investment in Finance Lease",0,0,0,0,0,null,"ENWIN Utilities Ltd. 4410"]
["ENWIN Utilities Ltd. 4415","ENWIN Utilities Ltd.","4415","Equity in Earnings of Subsidiary Companies",0,0,0,0,0,null,"ENWIN Utilities Ltd. 4415"]
["ENWIN Utilities Ltd. 4420","ENWIN Utilities Ltd.","4420","Share of Profit or Loss of Joint Venture",0,0,0,0,0,null,"ENWIN Utilities Ltd. 4420"]
["ENWIN Utilities Ltd. Total ","ENWIN Utilities Ltd. Total",null,null,-2220618.7891741898,-2010985.92,-1809731.57,-2334216.4799999902,-1422559.22000001,null,"ENWIN Utilities Ltd. Total "]
["EPCOR Electricity Distribution Ontario Inc. 4082","EPCOR Electricity Distribution Ontario Inc.","4082","Retail Services Revenues",-13803,-11066.3,-9736.5,-9982.1,-8034.81,null,"EPCOR Electricity Distribution Ontario Inc. 4082"]
["EPCOR Electricity Distribution Ontario Inc. 4084","EPCOR Electricity Distribution Ontario Inc.","4084","Service Transaction Requests (STR) Revenues",-187,-169.5,-142.5,-110.5,-110.88,null,"EPCOR Electricity Distribution Ontario Inc. 4084"]
["EPCOR Electricity Distribution Ontario Inc. 4086","EPCOR Electricity Distribution Ontario Inc.","4086","SSS Administration Revenue",-47488.800000000003,-48632.65,-49907.73,-51726.25,-53964.23,null,"EPCOR Electricity Distribution Ontario Inc. 4086"]
["EPCOR Electricity Distribution Ontario Inc. 4090","EPCOR Electricity Distribution Ontario Inc.","4090","Electric Services Incidental to Energy Sales",0,0,0,0,0,null,"EPCOR Electricity Distribution Ontario Inc. 4090"]
["EPCOR Electricity Distribution Ontario Inc. 4205","EPCOR Electricity Distribution Ontario Inc.","4205","Interdepartmental Rents",0,0,0,0,0,null,"EPCOR Electricity Distribution Ontario Inc. 4205"]
["EPCOR Electricity Distribution Ontario Inc. 4210","EPCOR Electricity Distribution Ontario Inc.","4210","Rent from Electric Property",-149575.09,-141528.49,-144665.51999999999,-142732.56,-136505.32,null,"EPCOR Electricity Distribution Ontario Inc. 4210"]
["EPCOR Electricity Distribution Ontario Inc. 4215","EPCOR Electricity Distribution Ontario Inc.","4215","Other Utility Operating Income",0,0,0,0,0,null,"EPCOR Electricity Distribution Ontario Inc. 4215"]
["EPCOR Electricity Distribution Ontario Inc. 4220","EPCOR Electricity Distribution Ontario Inc.","4220","Other Electric Revenues",0,0,0,0,0,null,"EPCOR Electricity Distribution Ontario Inc. 4220"]
["EPCOR Electricity Distribution Ontario Inc. 4225","EPCOR Electricity Distribution Ontario Inc.","4225","Late Payment Charges",-56927.02,-53070.37,-50125.9,-57434.720000000001,-76022.45,null,"EPCOR Electricity Distribution Ontario Inc. 4225"]
["EPCOR Electricity Distribution Ontario Inc. 4230","EPCOR Electricity Distribution Ontario Inc.","4230","Sales of Water and Water Power",-71259.350000000006,0,0,0,0,null,"EPCOR Electricity Distribution Ontario Inc. 4230"]
["EPCOR Electricity Distribution Ontario Inc. 4235","EPCOR Electricity Distribution Ontario Inc.","4235","Miscellaneous Service Revenues",-215076.58,-168175.39,-105550.88,-85413.59,-79835.37,null,"EPCOR Electricity Distribution Ontario Inc. 4235"]
["EPCOR Electricity Distribution Ontario Inc. 4240","EPCOR Electricity Distribution Ontario Inc.","4240","Provision for Rate Refunds",0,0,0,0,0,null,"EPCOR Electricity Distribution Ontario Inc. 4240"]
["EPCOR Electricity Distribution Ontario Inc. 4245","EPCOR Electricity Distribution Ontario Inc.","4245","Government and Other Assistance Directly Credited to Income",-45635.35,-72284.960000000006,-84825.86,-102381.57,-121960.09,null,"EPCOR Electricity Distribution Ontario Inc. 4245"]
["EPCOR Electricity Distribution Ontario Inc. 4305","EPCOR Electricity Distribution Ontario Inc.","4305","Regulatory Debits",0,0,0,0,0,null,"EPCOR Electricity Distribution Ontario Inc. 4305"]
["EPCOR Electricity Distribution Ontario Inc. 4310","EPCOR Electricity Distribution Ontario Inc.","4310","Regulatory Credits",0,0,0,0,0,null,"EPCOR Electricity Distribution Ontario Inc. 4310"]
["EPCOR Electricity Distribution Ontario Inc. 4315","EPCOR Electricity Distribution Ontario Inc.","4315","Revenues from Electric Plant Leased to Others",0,0,0,0,0,null,"EPCOR Electricity Distribution Ontario Inc. 4315"]
["EPCOR Electricity Distribution Ontario Inc. 4320","EPCOR Electricity Distribution Ontario Inc.","4320","Expenses of Electric Plant Leased to Others",0,0,0,0,0,null,"EPCOR Electricity Distribution Ontario Inc. 4320"]
["EPCOR Electricity Distribution Ontario Inc. 4325","EPCOR Electricity Distribution Ontario Inc.","4325","Revenues from Merchandise",0,0,0,0,0,null,"EPCOR Electricity Distribution Ontario Inc. 4325"]
["EPCOR Electricity Distribution Ontario Inc. 4330","EPCOR Electricity Distribution Ontario Inc.","4330","Costs and Expenses of Merchandising",0,0,0,0,0,null,"EPCOR Electricity Distribution Ontario Inc. 4330"]
["EPCOR Electricity Distribution Ontario Inc. 4335","EPCOR Electricity Distribution Ontario Inc.","4335","Profits and Losses from Financial Instrument Hedges",0,0,0,0,0,null,"EPCOR Electricity Distribution Ontario Inc. 4335"]
["EPCOR Electricity Distribution Ontario Inc. 4340","EPCOR Electricity Distribution Ontario Inc.","4340","Profits and Losses from Financial Instrument Investments",0,0,0,0,0,null,"EPCOR Electricity Distribution Ontario Inc. 4340"]
["EPCOR Electricity Distribution Ontario Inc. 4345","EPCOR Electricity Distribution Ontario Inc.","4345","Gains from Disposition of Future Use Utility Plant",0,0,0,0,0,null,"EPCOR Electricity Distribution Ontario Inc. 4345"]
["EPCOR Electricity Distribution Ontario Inc. 4350","EPCOR Electricity Distribution Ontario Inc.","4350","Losses from Disposition of Future Use Utility Plant",0,0,0,0,0,null,"EPCOR Electricity Distribution Ontario Inc. 4350"]
["EPCOR Electricity Distribution Ontario Inc. 4355","EPCOR Electricity Distribution Ontario Inc.","4355","Gain on Disposition of Utility and Other Property",-23506.07,-10000,-9194.64,-106781.16,-11935.81,null,"EPCOR Electricity Distribution Ontario Inc. 4355"]
["EPCOR Electricity Distribution Ontario Inc. 4357","EPCOR Electricity Distribution Ontario Inc.","4357","Gain from Retirement of Utility and Other Property",0,0,0,0,0,null,"EPCOR Electricity Distribution Ontario Inc. 4357"]
["EPCOR Electricity Distribution Ontario Inc. 4360","EPCOR Electricity Distribution Ontario Inc.","4360","Loss on Disposition of Utility and Other Property",62919.45,25935.19,58949.53,7755.16,75154.179999999993,null,"EPCOR Electricity Distribution Ontario Inc. 4360"]
["EPCOR Electricity Distribution Ontario Inc. 4362","EPCOR Electricity Distribution Ontario Inc.","4362","Loss from Retirement of Utility and Other Property",0,0,0,0,0,null,"EPCOR Electricity Distribution Ontario Inc. 4362"]
["EPCOR Electricity Distribution Ontario Inc. 4365","EPCOR Electricity Distribution Ontario Inc.","4365","Gains from Disposition of Allowances for Emission",0,0,0,0,0,null,"EPCOR Electricity Distribution Ontario Inc. 4365"]
["EPCOR Electricity Distribution Ontario Inc. 4370","EPCOR Electricity Distribution Ontario Inc.","4370","Losses from Disposition of Allowances for Emission",0,0,0,0,0,null,"EPCOR Electricity Distribution Ontario Inc. 4370"]
["EPCOR Electricity Distribution Ontario Inc. 4375","EPCOR Electricity Distribution Ontario Inc.","4375","Revenues from Non Rate-Regulated Utility Operations",-95225.4,-658540.42000000004,-908252.82,-679304.6,-861383.19,null,"EPCOR Electricity Distribution Ontario Inc. 4375"]
["EPCOR Electricity Distribution Ontario Inc. 4375","EPCOR Electricity Distribution Ontario Inc.","4375","Sub-account Generation Facility Revenues",0,0,0,0,0,null,"EPCOR Electricity Distribution Ontario Inc. 4375"]
["EPCOR Electricity Distribution Ontario Inc. 4380","EPCOR Electricity Distribution Ontario Inc.","4380","Expenses of Non Rate-Regulated Utility Operations",61322.44,614545.75,709034.74,631253.66,825080.95,null,"EPCOR Electricity Distribution Ontario Inc. 4380"]
["EPCOR Electricity Distribution Ontario Inc. 4380","EPCOR Electricity Distribution Ontario Inc.","4380","Sub-account Generation Facility Expenses",0,0,0,0,0,null,"EPCOR Electricity Distribution Ontario Inc. 4380"]
["EPCOR Electricity Distribution Ontario Inc. 4385","EPCOR Electricity Distribution Ontario Inc.","4385","Non Rate-Regulated Utility Rental Income",0,0,0,0,-2580,null,"EPCOR Electricity Distribution Ontario Inc. 4385"]
["EPCOR Electricity Distribution Ontario Inc. 4390","EPCOR Electricity Distribution Ontario Inc.","4390","Miscellaneous Non-Operating Income",0,0,0,0,0,null,"EPCOR Electricity Distribution Ontario Inc. 4390"]
["EPCOR Electricity Distribution Ontario Inc. 4395","EPCOR Electricity Distribution Ontario Inc.","4395","Rate-Payer Benefit Including Interest",0,0,0,0,0,null,"EPCOR Electricity Distribution Ontario Inc. 4395"]
["EPCOR Electricity Distribution Ontario Inc. 4398","EPCOR Electricity Distribution Ontario Inc.","4398","Foreign Exchange Gains and Losses, Including Amortization",0,0,0,0,0,null,"EPCOR Electricity Distribution Ontario Inc. 4398"]
["EPCOR Electricity Distribution Ontario Inc. 4405","EPCOR Electricity Distribution Ontario Inc.","4405","Interest and Dividend Income",-38619.71,-96200.88,-179897.11,-158465.1,-69517.2,null,"EPCOR Electricity Distribution Ontario Inc. 4405"]
["EPCOR Electricity Distribution Ontario Inc. 4410","EPCOR Electricity Distribution Ontario Inc.","4410","Lessor's Net Investment in Finance Lease",0,0,0,0,0,null,"EPCOR Electricity Distribution Ontario Inc. 4410"]
["EPCOR Electricity Distribution Ontario Inc. 4415","EPCOR Electricity Distribution Ontario Inc.","4415","Equity in Earnings of Subsidiary Companies",0,0,0,0,0,null,"EPCOR Electricity Distribution Ontario Inc. 4415"]
["EPCOR Electricity Distribution Ontario Inc. 4420","EPCOR Electricity Distribution Ontario Inc.","4420","Share of Profit or Loss of Joint Venture",0,0,0,0,0,null,"EPCOR Electricity Distribution Ontario Inc. 4420"]
["EPCOR Electricity Distribution Ontario Inc. Total ","EPCOR Electricity Distribution Ontario Inc. Total",null,null,-633061.48,-619188.02,-774315.19,-755323.33,-521614.22,null,"EPCOR Electricity Distribution Ontario Inc. Total "]
["ERTH Power Corporation 4082","ERTH Power Corporation","4082","Retail Services Revenues",-14779,-12567,-12185.5,-20457.5,-21170,null,{"$f":"B582 & \" \" &C582","v":"ERTH Power Corporation 4082"}]
["ERTH Power Corporation 4084","ERTH Power Corporation","4084","Service Transaction Requests (STR) Revenues",-6461.05,-5229.8500000000004,-4829.2,-8012.45,-8202,null,"ERTH Power Corporation 4084"]
["ERTH Power Corporation 4086","ERTH Power Corporation","4086","SSS Administration Revenue",-66018.63,-69313.64,-71052.66,-82987.520000000004,-83801,null,"ERTH Power Corporation 4086"]
["ERTH Power Corporation 4090","ERTH Power Corporation","4090","Electric Services Incidental to Energy Sales",0,0,0,0,0,null,"ERTH Power Corporation 4090"]
["ERTH Power Corporation 4205","ERTH Power Corporation","4205","Interdepartmental Rents",0,0,0,0,0,null,"ERTH Power Corporation 4205"]
["ERTH Power Corporation 4210","ERTH Power Corporation","4210","Rent from Electric Property",-103987.32,-104817.27,-114495.9,-254741.41,-239702,null,"ERTH Power Corporation 4210"]
["ERTH Power Corporation 4215","ERTH Power Corporation","4215","Other Utility Operating Income",0,-40060.480000000003,-62321.87,-88243.28,-62561,null,"ERTH Power Corporation 4215"]
["ERTH Power Corporation 4220","ERTH Power Corporation","4220","Other Electric Revenues",4862.55,-17697.12,-159.63,-1078.6600000000001,-323,null,"ERTH Power Corporation 4220"]
["ERTH Power Corporation 4225","ERTH Power Corporation","4225","Late Payment Charges",-134656.29,-113049.86,-107449.51,-100604.2,-87496,null,"ERTH Power Corporation 4225"]
["ERTH Power Corporation 4230","ERTH Power Corporation","4230","Sales of Water and Water Power",0,0,0,0,0,null,"ERTH Power Corporation 4230"]
["ERTH Power Corporation 4235","ERTH Power Corporation","4235","Miscellaneous Service Revenues",-105040,-97745,-90750,-99720,-94025,null,"ERTH Power Corporation 4235"]
["ERTH Power Corporation 4240","ERTH Power Corporation","4240","Provision for Rate Refunds",0,0,0,0,0,null,"ERTH Power Corporation 4240"]
["ERTH Power Corporation 4245","ERTH Power Corporation","4245","Government and Other Assistance Directly Credited to Income",0,0,0,0,-120897,null,"ERTH Power Corporation 4245"]
["ERTH Power Corporation 4305","ERTH Power Corporation","4305","Regulatory Debits",-33088.18,0,0,0,0,null,"ERTH Power Corporation 4305"]
["ERTH Power Corporation 4310","ERTH Power Corporation","4310","Regulatory Credits",0,-38153.56,-198017.09,-802235.93,0,null,"ERTH Power Corporation 4310"]
["ERTH Power Corporation 4315","ERTH Power Corporation","4315","Revenues from Electric Plant Leased to Others",0,0,0,0,0,null,"ERTH Power Corporation 4315"]
["ERTH Power Corporation 4320","ERTH Power Corporation","4320","Expenses of Electric Plant Leased to Others",0,0,0,0,0,null,"ERTH Power Corporation 4320"]
["ERTH Power Corporation 4325","ERTH Power Corporation","4325","Revenues from Merchandise",0,0,0,0,0,null,"ERTH Power Corporation 4325"]
["ERTH Power Corporation 4330","ERTH Power Corporation","4330","Costs and Expenses of Merchandising",0,0,0,0,0,null,"ERTH Power Corporation 4330"]
["ERTH Power Corporation 4335","ERTH Power Corporation","4335","Profits and Losses from Financial Instrument Hedges",0,0,0,0,0,null,"ERTH Power Corporation 4335"]
["ERTH Power Corporation 4340","ERTH Power Corporation","4340","Profits and Losses from Financial Instrument Investments",0,0,0,0,0,null,"ERTH Power Corporation 4340"]
["ERTH Power Corporation 4345","ERTH Power Corporation","4345","Gains from Disposition of Future Use Utility Plant",0,0,0,0,0,null,"ERTH Power Corporation 4345"]
["ERTH Power Corporation 4350","ERTH Power Corporation","4350","Losses from Disposition of Future Use Utility Plant",0,0,0,0,0,null,"ERTH Power Corporation 4350"]
["ERTH Power Corporation 4355","ERTH Power Corporation","4355","Gain on Disposition of Utility and Other Property",-61533.56,0,-4908.1000000000004,-14943.95,-38836,null,"ERTH Power Corporation 4355"]
["ERTH Power Corporation 4357","ERTH Power Corporation","4357","Gain from Retirement of Utility and Other Property",0,0,0,0,0,null,"ERTH Power Corporation 4357"]
["ERTH Power Corporation 4360","ERTH Power Corporation","4360","Loss on Disposition of Utility and Other Property",0,28957.77,0,0,0,null,"ERTH Power Corporation 4360"]
["ERTH Power Corporation 4362","ERTH Power Corporation","4362","Loss from Retirement of Utility and Other Property",0,0,0,0,0,null,"ERTH Power Corporation 4362"]
["ERTH Power Corporation 4365","ERTH Power Corporation","4365","Gains from Disposition of Allowances for Emission",0,0,0,0,0,null,"ERTH Power Corporation 4365"]
["ERTH Power Corporation 4370","ERTH Power Corporation","4370","Losses from Disposition of Allowances for Emission",0,0,0,0,0,null,"ERTH Power Corporation 4370"]
["ERTH Power Corporation 4375","ERTH Power Corporation","4375","Revenues from Non Rate-Regulated Utility Operations",-45230.95,-183947.74,-795812.19,-784078.97,-753844.03,null,"ERTH Power Corporation 4375"]
["ERTH Power Corporation 4375","ERTH Power Corporation","4375","Sub-account Generation Facility Revenues",0,0,0,0,0,null,"ERTH Power Corporation 4375"]
["ERTH Power Corporation 4380","ERTH Power Corporation","4380","Expenses of Non Rate-Regulated Utility Operations",267250,428780.1,648603.31999999995,677045.84,685817.26,null,"ERTH Power Corporation 4380"]
["ERTH Power Corporation 4380","ERTH Power Corporation","4380","Sub-account Generation Facility Expenses",0,0,0,0,0,null,"ERTH Power Corporation 4380"]
["ERTH Power Corporation 4385","ERTH Power Corporation","4385","Non Rate-Regulated Utility Rental Income",0,0,0,0,0,null,"ERTH Power Corporation 4385"]
["ERTH Power Corporation 4390","ERTH Power Corporation","4390","Miscellaneous Non-Operating Income",-27347.360000000001,-7897.1,-8414.74,-24996.48,-8134.02,null,"ERTH Power Corporation 4390"]
["ERTH Power Corporation 4395","ERTH Power Corporation","4395","Rate-Payer Benefit Including Interest",0,0,0,0,0,null,"ERTH Power Corporation 4395"]
["ERTH Power Corporation 4398","ERTH Power Corporation","4398","Foreign Exchange Gains and Losses, Including Amortization",0,0,0,0,0,null,"ERTH Power Corporation 4398"]
["ERTH Power Corporation 4405","ERTH Power Corporation","4405","Interest and Dividend Income",-66707.12,-58550.75,-110900.94,-12909.15,-86456,null,"ERTH Power Corporation 4405"]
["ERTH Power Corporation 4410","ERTH Power Corporation","4410","Lessor's Net Investment in Finance Lease",0,0,0,0,0,null,"ERTH Power Corporation 4410"]
["ERTH Power Corporation 4415","ERTH Power Corporation","4415","Equity in Earnings of Subsidiary Companies",0,0,0,0,0,null,"ERTH Power Corporation 4415"]
["ERTH Power Corporation 4420","ERTH Power Corporation","4420","Share of Profit or Loss of Joint Venture",0,0,0,0,0,null,"ERTH Power Corporation 4420"]
["ERTH Power Corporation Total ","ERTH Power Corporation Total",null,null,-392736.91,-291291.5,-932694.01,-1617963.66,-919629.79,null,"ERTH Power Corporation Total "]
["Elexicon Energy Inc. 4082","Elexicon Energy Inc.","4082","Retail Services Revenues",null,null,null,-31121.43,-33194.28,null,"Elexicon Energy Inc. 4082"]
["Elexicon Energy Inc. 4084","Elexicon Energy Inc.","4084","Service Transaction Requests (STR) Revenues",null,null,null,-1601.75,-1969.95,null,"Elexicon Energy Inc. 4084"]
["Elexicon Energy Inc. 4086","Elexicon Energy Inc.","4086","SSS Administration Revenue",null,null,null,-445933.11,-641969.61,null,"Elexicon Energy Inc. 4086"]
["Elexicon Energy Inc. 4090","Elexicon Energy Inc.","4090","Electric Services Incidental to Energy Sales",null,null,null,0,0,null,"Elexicon Energy Inc. 4090"]
["Elexicon Energy Inc. 4205","Elexicon Energy Inc.","4205","Interdepartmental Rents",null,null,null,0,0,null,"Elexicon Energy Inc. 4205"]
["Elexicon Energy Inc. 4210","Elexicon Energy Inc.","4210","Rent from Electric Property",null,null,null,-488885.57,-682436.48,null,"Elexicon Energy Inc. 4210"]
["Elexicon Energy Inc. 4215","Elexicon Energy Inc.","4215","Other Utility Operating Income",null,null,null,0,0,null,"Elexicon Energy Inc. 4215"]
["Elexicon Energy Inc. 4220","Elexicon Energy Inc.","4220","Other Electric Revenues",null,null,null,0,0,null,"Elexicon Energy Inc. 4220"]
["Elexicon Energy Inc. 4225","Elexicon Energy Inc.","4225","Late Payment Charges",null,null,null,-497453.79,-1175795.95,null,"Elexicon Energy Inc. 4225"]
["Elexicon Energy Inc. 4230","Elexicon Energy Inc.","4230","Sales of Water and Water Power",null,null,null,0,0,null,"Elexicon Energy Inc. 4230"]
["Elexicon Energy Inc. 4235","Elexicon Energy Inc.","4235","Miscellaneous Service Revenues",null,null,null,-955195.15,-1325339.17,null,"Elexicon Energy Inc. 4235"]
["Elexicon Energy Inc. 4240","Elexicon Energy Inc.","4240","Provision for Rate Refunds",null,null,null,0,0,null,"Elexicon Energy Inc. 4240"]
["Elexicon Energy Inc. 4245","Elexicon Energy Inc.","4245","Government and Other Assistance Directly Credited to Income",null,null,null,-1043816.05,-1767067.76,null,"Elexicon Energy Inc. 4245"]
["Elexicon Energy Inc. 4305","Elexicon Energy Inc.","4305","Regulatory Debits",null,null,null,665342.07999999996,153849.57,null,"Elexicon Energy Inc. 4305"]
["Elexicon Energy Inc. 4310","Elexicon Energy Inc.","4310","Regulatory Credits",null,null,null,-1362430.05,-364183.99,null,"Elexicon Energy Inc. 4310"]
["Elexicon Energy Inc. 4315","Elexicon Energy Inc.","4315","Revenues from Electric Plant Leased to Others",null,null,null,0,0,null,"Elexicon Energy Inc. 4315"]
["Elexicon Energy Inc. 4320","Elexicon Energy Inc.","4320","Expenses of Electric Plant Leased to Others",null,null,null,0,0,null,"Elexicon Energy Inc. 4320"]
["Elexicon Energy Inc. 4325","Elexicon Energy Inc.","4325","Revenues from Merchandise",null,null,null,-1046872.39,-1222721.49,null,"Elexicon Energy Inc. 4325"]
["Elexicon Energy Inc. 4330","Elexicon Energy Inc.","4330","Costs and Expenses of Merchandising",null,null,null,443211.99,889377.49,null,"Elexicon Energy Inc. 4330"]
["Elexicon Energy Inc. 4335","Elexicon Energy Inc.","4335","Profits and Losses from Financial Instrument Hedges",null,null,null,82435.67,3465540.53,null,"Elexicon Energy Inc. 4335"]
["Elexicon Energy Inc. 4340","Elexicon Energy Inc.","4340","Profits and Losses from Financial Instrument Investments",null,null,null,0,0,null,"Elexicon Energy Inc. 4340"]
["Elexicon Energy Inc. 4345","Elexicon Energy Inc.","4345","Gains from Disposition of Future Use Utility Plant",null,null,null,0,0,null,"Elexicon Energy Inc. 4345"]
["Elexicon Energy Inc. 4350","Elexicon Energy Inc.","4350","Losses from Disposition of Future Use Utility Plant",null,null,null,0,0,null,{"$f":"B646 & \" \" &C646","v":"Elexicon Energy Inc. 4350"}]
["Elexicon Energy Inc. 4355","Elexicon Energy Inc.","4355","Gain on Disposition of Utility and Other Property",null,null,null,-99066,-23167.45,null,"Elexicon Energy Inc. 4355"]
["Elexicon Energy Inc. 4357","Elexicon Energy Inc.","4357","Gain from Retirement of Utility and Other Property",null,null,null,0,0,null,"Elexicon Energy Inc. 4357"]
["Elexicon Energy Inc. 4360","Elexicon Energy Inc.","4360","Loss on Disposition of Utility and Other Property",null,null,null,259055.23,0,null,"Elexicon Energy Inc. 4360"]
["Elexicon Energy Inc. 4362","Elexicon Energy Inc.","4362","Loss from Retirement of Utility and Other Property",null,null,null,1091477.3600000001,861890.02,null,"Elexicon Energy Inc. 4362"]
["Elexicon Energy Inc. 4365","Elexicon Energy Inc.","4365","Gains from Disposition of Allowances for Emission",null,null,null,0,0,null,"Elexicon Energy Inc. 4365"]
["Elexicon Energy Inc. 4370","Elexicon Energy Inc.","4370","Losses from Disposition of Allowances for Emission",null,null,null,0,0,null,"Elexicon Energy Inc. 4370"]
["Elexicon Energy Inc. 4375","Elexicon Energy Inc.","4375","Revenues from Non Rate-Regulated Utility Operations",null,null,null,-2442466.86,-7891218.9699999997,null,"Elexicon Energy Inc. 4375"]
["Elexicon Energy Inc. 4375","Elexicon Energy Inc.","4375","Sub-account Generation Facility Revenues",null,null,null,0,0,null,"Elexicon Energy Inc. 4375"]
["Elexicon Energy Inc. 4380","Elexicon Energy Inc.","4380","Expenses of Non Rate-Regulated Utility Operations",null,null,null,5957598.3799999999,7766903.1299999999,null,"Elexicon Energy Inc. 4380"]
["Elexicon Energy Inc. 4380","Elexicon Energy Inc.","4380","Sub-account Generation Facility Expenses",null,null,null,0,0,null,"Elexicon Energy Inc. 4380"]
["Elexicon Energy Inc. 4385","Elexicon Energy Inc.","4385","Non Rate-Regulated Utility Rental Income",null,null,null,0,0,null,"Elexicon Energy Inc. 4385"]
["Elexicon Energy Inc. 4390","Elexicon Energy Inc.","4390","Miscellaneous Non-Operating Income",null,null,null,-259164.72,-589005.42000000004,null,"Elexicon Energy Inc. 4390"]
["Elexicon Energy Inc. 4395","Elexicon Energy Inc.","4395","Rate-Payer Benefit Including Interest",null,null,null,0,0,null,"Elexicon Energy Inc. 4395"]
["Elexicon Energy Inc. 4398","Elexicon Energy Inc.","4398","Foreign Exchange Gains and Losses, Including Amortization",null,null,null,7385.69,-4610.05,null,"Elexicon Energy Inc. 4398"]
["Elexicon Energy Inc. 4405","Elexicon Energy Inc.","4405","Interest and Dividend Income",null,null,null,-305349.46999999997,-257052.12,null,"Elexicon Energy Inc. 4405"]
["Elexicon Energy Inc. 4410","Elexicon Energy Inc.","4410","Lessor's Net Investment in Finance Lease",null,null,null,0,0,null,"Elexicon Energy Inc. 4410"]
["Elexicon Energy Inc. 4415","Elexicon Energy Inc.","4415","Equity in Earnings of Subsidiary Companies",null,null,null,0,0,null,"Elexicon Energy Inc. 4415"]
["Elexicon Energy Inc. 4420","Elexicon Energy Inc.","4420","Share of Profit or Loss of Joint Venture",null,null,null,0,0,null,"Elexicon Energy Inc. 4420"]
["Elexicon Energy Inc. Total ","Elexicon Energy Inc. Total",null,null,null,null,null,-472849.93999999802,-2842171.95,null,"Elexicon Energy Inc. Total "]
["Energy Plus Inc. 4082","Energy Plus Inc.","4082","Retail Services Revenues",-32123.200000000001,-27596.7,-23595.1,-35561,-39693.39,null,"Energy Plus Inc. 4082"]
["Energy Plus Inc. 4084","Energy Plus Inc.","4084","Service Transaction Requests (STR) Revenues",-731.25,-370,-265.25,-545.5,-585.48,null,"Energy Plus Inc. 4084"]
["Energy Plus Inc. 4086","Energy Plus Inc.","4086","SSS Administration Revenue",-185010.56,-187328.8,-189668.28,-192169.23,-195349.85,null,"Energy Plus Inc. 4086"]
["Energy Plus Inc. 4090","Energy Plus Inc.","4090","Electric Services Incidental to Energy Sales",0,0,0,0,0,null,"Energy Plus Inc. 4090"]
["Energy Plus Inc. 4205","Energy Plus Inc.","4205","Interdepartmental Rents",0,0,0,0,0,null,"Energy Plus Inc. 4205"]
["Energy Plus Inc. 4210","Energy Plus Inc.","4210","Rent from Electric Property",-270750.64,-275747.55,-286563.93,-531673.94999999995,-543317.55000000005,null,"Energy Plus Inc. 4210"]
["Energy Plus Inc. 4215","Energy Plus Inc.","4215","Other Utility Operating Income",0,0,0,0,0,null,"Energy Plus Inc. 4215"]
["Energy Plus Inc. 4220","Energy Plus Inc.","4220","Other Electric Revenues",0,0,0,0,0,null,"Energy Plus Inc. 4220"]
["Energy Plus Inc. 4225","Energy Plus Inc.","4225","Late Payment Charges",-225148,-170943.98,-160420.46,-156525.28,-120906.82,null,"Energy Plus Inc. 4225"]
["Energy Plus Inc. 4230","Energy Plus Inc.","4230","Sales of Water and Water Power",0,0,0,0,0,null,"Energy Plus Inc. 4230"]
["Energy Plus Inc. 4235","Energy Plus Inc.","4235","Miscellaneous Service Revenues",-809687.6,-799990.8,-701527.3,-713058.12,-674902.97,null,"Energy Plus Inc. 4235"]
["Energy Plus Inc. 4240","Energy Plus Inc.","4240","Provision for Rate Refunds",0,0,0,0,0,null,"Energy Plus Inc. 4240"]
["Energy Plus Inc. 4245","Energy Plus Inc.","4245","Government and Other Assistance Directly Credited to Income",-146348.74,0,0,0,0,null,"Energy Plus Inc. 4245"]
["Energy Plus Inc. 4305","Energy Plus Inc.","4305","Regulatory Debits",0,876810,979288.23,110491.39,0,null,"Energy Plus Inc. 4305"]
["Energy Plus Inc. 4310","Energy Plus Inc.","4310","Regulatory Credits",-133063.65,-465923.87,-468068.53,0,0,null,"Energy Plus Inc. 4310"]
["Energy Plus Inc. 4315","Energy Plus Inc.","4315","Revenues from Electric Plant Leased to Others",0,0,0,0,0,null,"Energy Plus Inc. 4315"]
["Energy Plus Inc. 4320","Energy Plus Inc.","4320","Expenses of Electric Plant Leased to Others",0,0,0,0,0,null,"Energy Plus Inc. 4320"]
["Energy Plus Inc. 4325","Energy Plus Inc.","4325","Revenues from Merchandise",-23904.65,-26265.59,-27219.52,-26484.43,-34464.9,null,"Energy Plus Inc. 4325"]
["Energy Plus Inc. 4330","Energy Plus Inc.","4330","Costs and Expenses of Merchandising",0,0,0,0,0,null,"Energy Plus Inc. 4330"]
["Energy Plus Inc. 4335","Energy Plus Inc.","4335","Profits and Losses from Financial Instrument Hedges",0,0,0,0,0,null,"Energy Plus Inc. 4335"]
["Energy Plus Inc. 4340","Energy Plus Inc.","4340","Profits and Losses from Financial Instrument Investments",0,0,0,0,0,null,"Energy Plus Inc. 4340"]
["Energy Plus Inc. 4345","Energy Plus Inc.","4345","Gains from Disposition of Future Use Utility Plant",0,0,0,0,0,null,"Energy Plus Inc. 4345"]
["Energy Plus Inc. 4350","Energy Plus Inc.","4350","Losses from Disposition of Future Use Utility Plant",0,0,0,0,0,null,"Energy Plus Inc. 4350"]
["Energy Plus Inc. 4355","Energy Plus Inc.","4355","Gain on Disposition of Utility and Other Property",-6012.39,-45767.360000000001,-200465.56,0,0,null,"Energy Plus Inc. 4355"]
["Energy Plus Inc. 4357","Energy Plus Inc.","4357","Gain from Retirement of Utility and Other Property",0,0,0,0,0,null,"Energy Plus Inc. 4357"]
["Energy Plus Inc. 4360","Energy Plus Inc.","4360","Loss on Disposition of Utility and Other Property",275018.40000000002,465924,490678.14,465248.26,459485.73,null,"Energy Plus Inc. 4360"]
["Energy Plus Inc. 4362","Energy Plus Inc.","4362","Loss from Retirement of Utility and Other Property",0,0,0,0,0,null,"Energy Plus Inc. 4362"]
["Energy Plus Inc. 4365","Energy Plus Inc.","4365","Gains from Disposition of Allowances for Emission",0,0,0,0,0,null,"Energy Plus Inc. 4365"]
["Energy Plus Inc. 4370","Energy Plus Inc.","4370","Losses from Disposition of Allowances for Emission",0,0,0,0,0,null,"Energy Plus Inc. 4370"]
["Energy Plus Inc. 4375","Energy Plus Inc.","4375","Revenues from Non Rate-Regulated Utility Operations",-698392.83,-564799.76,-511563.04,-611266.16,-860397.01,null,"Energy Plus Inc. 4375"]
["Energy Plus Inc. 4375","Energy Plus Inc.","4375","Sub-account Generation Facility Revenues",0,0,0,0,0,null,"Energy Plus Inc. 4375"]
["Energy Plus Inc. 4380","Energy Plus Inc.","4380","Expenses of Non Rate-Regulated Utility Operations",550032.80000000005,302095.88,219202.47,248521.92,346140.79,null,"Energy Plus Inc. 4380"]
["Energy Plus Inc. 4380","Energy Plus Inc.","4380","Sub-account Generation Facility Expenses",0,0,0,0,0,null,"Energy Plus Inc. 4380"]
["Energy Plus Inc. 4385","Energy Plus Inc.","4385","Non Rate-Regulated Utility Rental Income",0,0,0,0,0,null,"Energy Plus Inc. 4385"]
["Energy Plus Inc. 4390","Energy Plus Inc.","4390","Miscellaneous Non-Operating Income",-77718.259999999995,-90942.11,-106656.02,-78803.45,-84582.3,null,"Energy Plus Inc. 4390"]
["Energy Plus Inc. 4395","Energy Plus Inc.","4395","Rate-Payer Benefit Including Interest",0,0,0,0,0,null,"Energy Plus Inc. 4395"]
["Energy Plus Inc. 4398","Energy Plus Inc.","4398","Foreign Exchange Gains and Losses, Including Amortization",-17160.61,5579.45,-1928.76,4736.3599999999997,50.49,null,"Energy Plus Inc. 4398"]
["Energy Plus Inc. 4405","Energy Plus Inc.","4405","Interest and Dividend Income",-226616.31,-221990.08,-129707.16,-154334.71,-133041.94,null,"Energy Plus Inc. 4405"]
["Energy Plus Inc. 4410","Energy Plus Inc.","4410","Lessor's Net Investment in Finance Lease",0,0,0,0,0,null,"Energy Plus Inc. 4410"]
["Energy Plus Inc. 4415","Energy Plus Inc.","4415","Equity in Earnings of Subsidiary Companies",0,0,0,0,0,null,"Energy Plus Inc. 4415"]
["Energy Plus Inc. 4420","Energy Plus Inc.","4420","Share of Profit or Loss of Joint Venture",0,0,0,0,0,null,"Energy Plus Inc. 4420"]
["Energy Plus Inc. Total ","Energy Plus Inc. Total",null,null,-2027617.49,-1227257.27,-1118480.07,-1671423.9,-1881565.2,null,"Energy Plus Inc. Total "]
["Enersource Hydro Mississauga Inc. 4082","Enersource Hydro Mississauga Inc.","4082","Retail Services Revenues",-110823.7,null,null,null,null,null,"Enersource Hydro Mississauga Inc. 4082"]
["Enersource Hydro Mississauga Inc. 4084","Enersource Hydro Mississauga Inc.","4084","Service Transaction Requests (STR) Revenues",-2961.25,null,null,null,null,null,"Enersource Hydro Mississauga Inc. 4084"]
["Enersource Hydro Mississauga Inc. 4086","Enersource Hydro Mississauga Inc.","4086","SSS Administration Revenue",-593798.6,null,null,null,null,null,{"$f":"B710 & \" \" &C710","v":"Enersource Hydro Mississauga Inc. 4086"}]
["Enersource Hydro Mississauga Inc. 4090","Enersource Hydro Mississauga Inc.","4090","Electric Services Incidental to Energy Sales",0,null,null,null,null,null,"Enersource Hydro Mississauga Inc. 4090"]
["Enersource Hydro Mississauga Inc. 4205","Enersource Hydro Mississauga Inc.","4205","Interdepartmental Rents",0,null,null,null,null,null,"Enersource Hydro Mississauga Inc. 4205"]
["Enersource Hydro Mississauga Inc. 4210","Enersource Hydro Mississauga Inc.","4210","Rent from Electric Property",-527966.4,null,null,null,null,null,"Enersource Hydro Mississauga Inc. 4210"]
["Enersource Hydro Mississauga Inc. 4215","Enersource Hydro Mississauga Inc.","4215","Other Utility Operating Income",0,null,null,null,null,null,"Enersource Hydro Mississauga Inc. 4215"]
["Enersource Hydro Mississauga Inc. 4220","Enersource Hydro Mississauga Inc.","4220","Other Electric Revenues",0,null,null,null,null,null,"Enersource Hydro Mississauga Inc. 4220"]
["Enersource Hydro Mississauga Inc. 4225","Enersource Hydro Mississauga Inc.","4225","Late Payment Charges",-1489787.54,null,null,null,null,null,"Enersource Hydro Mississauga Inc. 4225"]
["Enersource Hydro Mississauga Inc. 4230","Enersource Hydro Mississauga Inc.","4230","Sales of Water and Water Power",0,null,null,null,null,null,"Enersource Hydro Mississauga Inc. 4230"]
["Enersource Hydro Mississauga Inc. 4235","Enersource Hydro Mississauga Inc.","4235","Miscellaneous Service Revenues",-1363726.68,null,null,null,null,null,"Enersource Hydro Mississauga Inc. 4235"]
["Enersource Hydro Mississauga Inc. 4240","Enersource Hydro Mississauga Inc.","4240","Provision for Rate Refunds",0,null,null,null,null,null,"Enersource Hydro Mississauga Inc. 4240"]
["Enersource Hydro Mississauga Inc. 4245","Enersource Hydro Mississauga Inc.","4245","Government and Other Assistance Directly Credited to Income",-574785.78,null,null,null,null,null,"Enersource Hydro Mississauga Inc. 4245"]
["Enersource Hydro Mississauga Inc. 4305","Enersource Hydro Mississauga Inc.","4305","Regulatory Debits",0,null,null,null,null,null,"Enersource Hydro Mississauga Inc. 4305"]
["Enersource Hydro Mississauga Inc. 4310","Enersource Hydro Mississauga Inc.","4310","Regulatory Credits",0,null,null,null,null,null,"Enersource Hydro Mississauga Inc. 4310"]
["Enersource Hydro Mississauga Inc. 4315","Enersource Hydro Mississauga Inc.","4315","Revenues from Electric Plant Leased to Others",0,null,null,null,null,null,"Enersource Hydro Mississauga Inc. 4315"]
["Enersource Hydro Mississauga Inc. 4320","Enersource Hydro Mississauga Inc.","4320","Expenses of Electric Plant Leased to Others",0,null,null,null,null,null,"Enersource Hydro Mississauga Inc. 4320"]
["Enersource Hydro Mississauga Inc. 4325","Enersource Hydro Mississauga Inc.","4325","Revenues from Merchandise",44910.71,null,null,null,null,null,"Enersource Hydro Mississauga Inc. 4325"]
["Enersource Hydro Mississauga Inc. 4330","Enersource Hydro Mississauga Inc.","4330","Costs and Expenses of Merchandising",0,null,null,null,null,null,"Enersource Hydro Mississauga Inc. 4330"]
["Enersource Hydro Mississauga Inc. 4335","Enersource Hydro Mississauga Inc.","4335","Profits and Losses from Financial Instrument Hedges",0,null,null,null,null,null,"Enersource Hydro Mississauga Inc. 4335"]
["Enersource Hydro Mississauga Inc. 4340","Enersource Hydro Mississauga Inc.","4340","Profits and Losses from Financial Instrument Investments",0,null,null,null,null,null,"Enersource Hydro Mississauga Inc. 4340"]
["Enersource Hydro Mississauga Inc. 4345","Enersource Hydro Mississauga Inc.","4345","Gains from Disposition of Future Use Utility Plant",0,null,null,null,null,null,"Enersource Hydro Mississauga Inc. 4345"]
["Enersource Hydro Mississauga Inc. 4350","Enersource Hydro Mississauga Inc.","4350","Losses from Disposition of Future Use Utility Plant",0,null,null,null,null,null,"Enersource Hydro Mississauga Inc. 4350"]
["Enersource Hydro Mississauga Inc. 4355","Enersource Hydro Mississauga Inc.","4355","Gain on Disposition of Utility and Other Property",-104285.5,null,null,null,null,null,"Enersource Hydro Mississauga Inc. 4355"]
["Enersource Hydro Mississauga Inc. 4357","Enersource Hydro Mississauga Inc.","4357","Gain from Retirement of Utility and Other Property",0,null,null,null,null,null,"Enersource Hydro Mississauga Inc. 4357"]
["Enersource Hydro Mississauga Inc. 4360","Enersource Hydro Mississauga Inc.","4360","Loss on Disposition of Utility and Other Property",0,null,null,null,null,null,"Enersource Hydro Mississauga Inc. 4360"]
["Enersource Hydro Mississauga Inc. 4362","Enersource Hydro Mississauga Inc.","4362","Loss from Retirement of Utility and Other Property",0,null,null,null,null,null,"Enersource Hydro Mississauga Inc. 4362"]
["Enersource Hydro Mississauga Inc. 4365","Enersource Hydro Mississauga Inc.","4365","Gains from Disposition of Allowances for Emission",0,null,null,null,null,null,"Enersource Hydro Mississauga Inc. 4365"]
["Enersource Hydro Mississauga Inc. 4370","Enersource Hydro Mississauga Inc.","4370","Losses from Disposition of Allowances for Emission",0,null,null,null,null,null,"Enersource Hydro Mississauga Inc. 4370"]
["Enersource Hydro Mississauga Inc. 4375","Enersource Hydro Mississauga Inc.","4375","Revenues from Non Rate-Regulated Utility Operations",-17790175.420000002,null,null,null,null,null,"Enersource Hydro Mississauga Inc. 4375"]
["Enersource Hydro Mississauga Inc. 4375","Enersource Hydro Mississauga Inc.","4375","Sub-account Generation Facility Revenues",0,null,null,null,null,null,"Enersource Hydro Mississauga Inc. 4375"]
["Enersource Hydro Mississauga Inc. 4380","Enersource Hydro Mississauga Inc.","4380","Expenses of Non Rate-Regulated Utility Operations",16466770.279999999,null,null,null,null,null,"Enersource Hydro Mississauga Inc. 4380"]
["Enersource Hydro Mississauga Inc. 4380","Enersource Hydro Mississauga Inc.","4380","Sub-account Generation Facility Expenses",0,null,null,null,null,null,"Enersource Hydro Mississauga Inc. 4380"]
["Enersource Hydro Mississauga Inc. 4385","Enersource Hydro Mississauga Inc.","4385","Non Rate-Regulated Utility Rental Income",0,null,null,null,null,null,"Enersource Hydro Mississauga Inc. 4385"]
["Enersource Hydro Mississauga Inc. 4390","Enersource Hydro Mississauga Inc.","4390","Miscellaneous Non-Operating Income",-1776907.04,null,null,null,null,null,"Enersource Hydro Mississauga Inc. 4390"]
["Enersource Hydro Mississauga Inc. 4395","Enersource Hydro Mississauga Inc.","4395","Rate-Payer Benefit Including Interest",0,null,null,null,null,null,"Enersource Hydro Mississauga Inc. 4395"]
["Enersource Hydro Mississauga Inc. 4398","Enersource Hydro Mississauga Inc.","4398","Foreign Exchange Gains and Losses, Including Amortization",0,null,null,null,null,null,"Enersource Hydro Mississauga Inc. 4398"]
["Enersource Hydro Mississauga Inc. 4405","Enersource Hydro Mississauga Inc.","4405","Interest and Dividend Income",-413833.11,null,null,null,null,null,"Enersource Hydro Mississauga Inc. 4405"]
["Enersource Hydro Mississauga Inc. 4410","Enersource Hydro Mississauga Inc.","4410","Lessor's Net Investment in Finance Lease",0,null,null,null,null,null,"Enersource Hydro Mississauga Inc. 4410"]
["Enersource Hydro Mississauga Inc. 4415","Enersource Hydro Mississauga Inc.","4415","Equity in Earnings of Subsidiary Companies",0,null,null,null,null,null,"Enersource Hydro Mississauga Inc. 4415"]
["Enersource Hydro Mississauga Inc. 4420","Enersource Hydro Mississauga Inc.","4420","Share of Profit or Loss of Joint Venture",0,null,null,null,null,null,"Enersource Hydro Mississauga Inc. 4420"]
["Enersource Hydro Mississauga Inc. Total ","Enersource Hydro Mississauga Inc. Total",null,null,-8237370.0300000003,null,null,null,null,null,"Enersource Hydro Mississauga Inc. Total "]
["Entegrus Powerlines Inc. 4082","Entegrus Powerlines Inc.","4082","Retail Services Revenues",-31490.3,-27576,-39426,-57457.1,-58613.4,null,"Entegrus Powerlines Inc. 4082"]
["Entegrus Powerlines Inc. 4084","Entegrus Powerlines Inc.","4084","Service Transaction Requests (STR) Revenues",-723.75,-455,-643.75,-785.75,-858.5,null,"Entegrus Powerlines Inc. 4084"]
["Entegrus Powerlines Inc. 4086","Entegrus Powerlines Inc.","4086","SSS Administration Revenue",-153718.56,-156414.79999999999,-207672.17,-210034.68,-213433.75,null,"Entegrus Powerlines Inc. 4086"]
["Entegrus Powerlines Inc. 4090","Entegrus Powerlines Inc.","4090","Electric Services Incidental to Energy Sales",0,0,0,0,0,null,"Entegrus Powerlines Inc. 4090"]
["Entegrus Powerlines Inc. 4205","Entegrus Powerlines Inc.","4205","Interdepartmental Rents",-66701.759999999995,-69269.009999999995,-70330.080000000002,-67847.53,-56604.72,null,"Entegrus Powerlines Inc. 4205"]
["Entegrus Powerlines Inc. 4210","Entegrus Powerlines Inc.","4210","Rent from Electric Property",-178671.01,-176851.47,-203796.88,-233895.12,-424619.97,null,"Entegrus Powerlines Inc. 4210"]
["Entegrus Powerlines Inc. 4215","Entegrus Powerlines Inc.","4215","Other Utility Operating Income",0,0,0,0,0,null,"Entegrus Powerlines Inc. 4215"]
["Entegrus Powerlines Inc. 4220","Entegrus Powerlines Inc.","4220","Other Electric Revenues",-8659.42,-8909.1200000000008,-5318.8,-18826.63,-11723.46,null,"Entegrus Powerlines Inc. 4220"]
["Entegrus Powerlines Inc. 4225","Entegrus Powerlines Inc.","4225","Late Payment Charges",-323062.03000000003,-283586.84999999998,-365706.87,-290261.43,-234732.51,null,"Entegrus Powerlines Inc. 4225"]
["Entegrus Powerlines Inc. 4230","Entegrus Powerlines Inc.","4230","Sales of Water and Water Power",0,0,0,0,0,null,"Entegrus Powerlines Inc. 4230"]
["Entegrus Powerlines Inc. 4235","Entegrus Powerlines Inc.","4235","Miscellaneous Service Revenues",-368865.83,-469566.36,-712358.5,-547283.80000000005,-492108.85,null,"Entegrus Powerlines Inc. 4235"]
["Entegrus Powerlines Inc. 4240","Entegrus Powerlines Inc.","4240","Provision for Rate Refunds",0,0,0,0,0,null,"Entegrus Powerlines Inc. 4240"]
["Entegrus Powerlines Inc. 4245","Entegrus Powerlines Inc.","4245","Government and Other Assistance Directly Credited to Income",-47023.01,-74642.149999999994,-115260.04,-177374.96,-253916.18,null,"Entegrus Powerlines Inc. 4245"]
["Entegrus Powerlines Inc. 4305","Entegrus Powerlines Inc.","4305","Regulatory Debits",0,0,0,0,0,null,"Entegrus Powerlines Inc. 4305"]
["Entegrus Powerlines Inc. 4310","Entegrus Powerlines Inc.","4310","Regulatory Credits",0,0,0,0,0,null,"Entegrus Powerlines Inc. 4310"]
["Entegrus Powerlines Inc. 4315","Entegrus Powerlines Inc.","4315","Revenues from Electric Plant Leased to Others",0,0,0,0,0,null,"Entegrus Powerlines Inc. 4315"]
["Entegrus Powerlines Inc. 4320","Entegrus Powerlines Inc.","4320","Expenses of Electric Plant Leased to Others",0,0,0,0,0,null,"Entegrus Powerlines Inc. 4320"]
["Entegrus Powerlines Inc. 4325","Entegrus Powerlines Inc.","4325","Revenues from Merchandise",-8496.9500000000007,-8141.91,-7863.79,-7817.8,-7980.74,null,"Entegrus Powerlines Inc. 4325"]
["Entegrus Powerlines Inc. 4330","Entegrus Powerlines Inc.","4330","Costs and Expenses of Merchandising",0,0,0,0,0,null,"Entegrus Powerlines Inc. 4330"]
["Entegrus Powerlines Inc. 4335","Entegrus Powerlines Inc.","4335","Profits and Losses from Financial Instrument Hedges",0,0,0,0,0,null,"Entegrus Powerlines Inc. 4335"]
["Entegrus Powerlines Inc. 4340","Entegrus Powerlines Inc.","4340","Profits and Losses from Financial Instrument Investments",0,0,0,0,0,null,"Entegrus Powerlines Inc. 4340"]
["Entegrus Powerlines Inc. 4345","Entegrus Powerlines Inc.","4345","Gains from Disposition of Future Use Utility Plant",0,0,0,0,0,null,"Entegrus Powerlines Inc. 4345"]
["Entegrus Powerlines Inc. 4350","Entegrus Powerlines Inc.","4350","Losses from Disposition of Future Use Utility Plant",0,0,0,0,0,null,"Entegrus Powerlines Inc. 4350"]
["Entegrus Powerlines Inc. 4355","Entegrus Powerlines Inc.","4355","Gain on Disposition of Utility and Other Property",-24666.799999999999,-36800.31,-8459.66,-43318.19,-7805.32,null,"Entegrus Powerlines Inc. 4355"]
["Entegrus Powerlines Inc. 4357","Entegrus Powerlines Inc.","4357","Gain from Retirement of Utility and Other Property",0,0,0,0,0,null,{"$f":"B774 & \" \" &C774","v":"Entegrus Powerlines Inc. 4357"}]
["Entegrus Powerlines Inc. 4360","Entegrus Powerlines Inc.","4360","Loss on Disposition of Utility and Other Property",1257.27,0,5357.89,17150.669999999998,8977.4699999999993,null,"Entegrus Powerlines Inc. 4360"]
["Entegrus Powerlines Inc. 4362","Entegrus Powerlines Inc.","4362","Loss from Retirement of Utility and Other Property",0,0,0,0,0,null,"Entegrus Powerlines Inc. 4362"]
["Entegrus Powerlines Inc. 4365","Entegrus Powerlines Inc.","4365","Gains from Disposition of Allowances for Emission",0,0,0,0,0,null,"Entegrus Powerlines Inc. 4365"]
["Entegrus Powerlines Inc. 4370","Entegrus Powerlines Inc.","4370","Losses from Disposition of Allowances for Emission",0,0,0,0,0,null,"Entegrus Powerlines Inc. 4370"]
["Entegrus Powerlines Inc. 4375","Entegrus Powerlines Inc.","4375","Revenues from Non Rate-Regulated Utility Operations",-734206.17,-674827.66,-857524.45,-503526.53,-521412.56,null,"Entegrus Powerlines Inc. 4375"]
["Entegrus Powerlines Inc. 4375","Entegrus Powerlines Inc.","4375","Sub-account Generation Facility Revenues",0,0,0,0,0,null,"Entegrus Powerlines Inc. 4375"]
["Entegrus Powerlines Inc. 4380","Entegrus Powerlines Inc.","4380","Expenses of Non Rate-Regulated Utility Operations",67462.429999999993,44523.51,466621.8,447939.81,387788.03,null,"Entegrus Powerlines Inc. 4380"]
["Entegrus Powerlines Inc. 4380","Entegrus Powerlines Inc.","4380","Sub-account Generation Facility Expenses",0,0,0,0,0,null,"Entegrus Powerlines Inc. 4380"]
["Entegrus Powerlines Inc. 4385","Entegrus Powerlines Inc.","4385","Non Rate-Regulated Utility Rental Income",0,0,0,0,0,null,"Entegrus Powerlines Inc. 4385"]
["Entegrus Powerlines Inc. 4390","Entegrus Powerlines Inc.","4390","Miscellaneous Non-Operating Income",-33808.589999999997,-41901.629999999997,-71301.240000000005,-85449.73,-74312.62,null,"Entegrus Powerlines Inc. 4390"]
["Entegrus Powerlines Inc. 4395","Entegrus Powerlines Inc.","4395","Rate-Payer Benefit Including Interest",0,0,0,0,0,null,"Entegrus Powerlines Inc. 4395"]
["Entegrus Powerlines Inc. 4398","Entegrus Powerlines Inc.","4398","Foreign Exchange Gains and Losses, Including Amortization",0,0,0,0,0,null,"Entegrus Powerlines Inc. 4398"]
["Entegrus Powerlines Inc. 4405","Entegrus Powerlines Inc.","4405","Interest and Dividend Income",-103511.33,-55569.919999999998,-156510.29999999999,-166024.95000000001,-93512.09,null,"Entegrus Powerlines Inc. 4405"]
["Entegrus Powerlines Inc. 4410","Entegrus Powerlines Inc.","4410","Lessor's Net Investment in Finance Lease",0,0,0,0,0,null,"Entegrus Powerlines Inc. 4410"]
["Entegrus Powerlines Inc. 4415","Entegrus Powerlines Inc.","4415","Equity in Earnings of Subsidiary Companies",0,0,0,0,0,null,"Entegrus Powerlines Inc. 4415"]
["Entegrus Powerlines Inc. 4420","Entegrus Powerlines Inc.","4420","Share of Profit or Loss of Joint Venture",0,0,0,0,0,null,"Entegrus Powerlines Inc. 4420"]
["Entegrus Powerlines Inc. Total ","Entegrus Powerlines Inc. Total",null,null,-2014885.81,-2039988.68,-2350192.84,-1944813.72,-2054869.17,null,"Entegrus Powerlines Inc. Total "]
["Espanola Regional Hydro Distribution Corporation 4082","Espanola Regional Hydro Distribution Corporation","4082","Retail Services Revenues",-5348,-5356.8,-4621.6000000000004,-8188,-9451.43,null,"Espanola Regional Hydro Distribution Corporation 4082"]
["Espanola Regional Hydro Distribution Corporation 4084","Espanola Regional Hydro Distribution Corporation","4084","Service Transaction Requests (STR) Revenues",-23.75,-12.5,-7.75,-9.25,-9.18,null,"Espanola Regional Hydro Distribution Corporation 4084"]
["Espanola Regional Hydro Distribution Corporation 4086","Espanola Regional Hydro Distribution Corporation","4086","SSS Administration Revenue",0,0,0,0,-10658,null,"Espanola Regional Hydro Distribution Corporation 4086"]
["Espanola Regional Hydro Distribution Corporation 4090","Espanola Regional Hydro Distribution Corporation","4090","Electric Services Incidental to Energy Sales",0,0,0,0,0,null,"Espanola Regional Hydro Distribution Corporation 4090"]
["Espanola Regional Hydro Distribution Corporation 4205","Espanola Regional Hydro Distribution Corporation","4205","Interdepartmental Rents",0,0,0,0,0,null,"Espanola Regional Hydro Distribution Corporation 4205"]
["Espanola Regional Hydro Distribution Corporation 4210","Espanola Regional Hydro Distribution Corporation","4210","Rent from Electric Property",-38682.29,-38440.75,-39674.49,-39327.97,-36846.080000000002,null,"Espanola Regional Hydro Distribution Corporation 4210"]
["Espanola Regional Hydro Distribution Corporation 4215","Espanola Regional Hydro Distribution Corporation","4215","Other Utility Operating Income",0,0,0,0,0,null,"Espanola Regional Hydro Distribution Corporation 4215"]
["Espanola Regional Hydro Distribution Corporation 4220","Espanola Regional Hydro Distribution Corporation","4220","Other Electric Revenues",0,0,0,0,0,null,"Espanola Regional Hydro Distribution Corporation 4220"]
["Espanola Regional Hydro Distribution Corporation 4225","Espanola Regional Hydro Distribution Corporation","4225","Late Payment Charges",-16757.54,-15606.89,-14549.46,-16295.88,-30530.38,null,"Espanola Regional Hydro Distribution Corporation 4225"]
["Espanola Regional Hydro Distribution Corporation 4230","Espanola Regional Hydro Distribution Corporation","4230","Sales of Water and Water Power",0,0,0,0,0,null,"Espanola Regional Hydro Distribution Corporation 4230"]
["Espanola Regional Hydro Distribution Corporation 4235","Espanola Regional Hydro Distribution Corporation","4235","Miscellaneous Service Revenues",-39349.64,-37567.699999999997,-33631.199999999997,-35872.49,-13687.36,null,"Espanola Regional Hydro Distribution Corporation 4235"]
["Espanola Regional Hydro Distribution Corporation 4240","Espanola Regional Hydro Distribution Corporation","4240","Provision for Rate Refunds",0,0,0,0,0,null,"Espanola Regional Hydro Distribution Corporation 4240"]
["Espanola Regional Hydro Distribution Corporation 4245","Espanola Regional Hydro Distribution Corporation","4245","Government and Other Assistance Directly Credited to Income",-1256.76,-1430.07,0,0,0,null,"Espanola Regional Hydro Distribution Corporation 4245"]
["Espanola Regional Hydro Distribution Corporation 4305","Espanola Regional Hydro Distribution Corporation","4305","Regulatory Debits",0,0,0,0,0,null,"Espanola Regional Hydro Distribution Corporation 4305"]
["Espanola Regional Hydro Distribution Corporation 4310","Espanola Regional Hydro Distribution Corporation","4310","Regulatory Credits",0,0,0,0,0,null,"Espanola Regional Hydro Distribution Corporation 4310"]
["Espanola Regional Hydro Distribution Corporation 4315","Espanola Regional Hydro Distribution Corporation","4315","Revenues from Electric Plant Leased to Others",0,0,0,0,0,null,"Espanola Regional Hydro Distribution Corporation 4315"]
["Espanola Regional Hydro Distribution Corporation 4320","Espanola Regional Hydro Distribution Corporation","4320","Expenses of Electric Plant Leased to Others",0,0,0,0,0,null,"Espanola Regional Hydro Distribution Corporation 4320"]
["Espanola Regional Hydro Distribution Corporation 4325","Espanola Regional Hydro Distribution Corporation","4325","Revenues from Merchandise",-1721.71,-2213.65,-5944.5,-1970.06,-23291.29,null,"Espanola Regional Hydro Distribution Corporation 4325"]
["Espanola Regional Hydro Distribution Corporation 4330","Espanola Regional Hydro Distribution Corporation","4330","Costs and Expenses of Merchandising",0,0,0,0,0,null,"Espanola Regional Hydro Distribution Corporation 4330"]
["Espanola Regional Hydro Distribution Corporation 4335","Espanola Regional Hydro Distribution Corporation","4335","Profits and Losses from Financial Instrument Hedges",0,0,0,0,759473,null,"Espanola Regional Hydro Distribution Corporation 4335"]
["Espanola Regional Hydro Distribution Corporation 4340","Espanola Regional Hydro Distribution Corporation","4340","Profits and Losses from Financial Instrument Investments",0,0,0,0,0,null,"Espanola Regional Hydro Distribution Corporation 4340"]
["Espanola Regional Hydro Distribution Corporation 4345","Espanola Regional Hydro Distribution Corporation","4345","Gains from Disposition of Future Use Utility Plant",0,0,0,0,0,null,"Espanola Regional Hydro Distribution Corporation 4345"]
["Espanola Regional Hydro Distribution Corporation 4350","Espanola Regional Hydro Distribution Corporation","4350","Losses from Disposition of Future Use Utility Plant",0,0,0,0,0,null,"Espanola Regional Hydro Distribution Corporation 4350"]
["Espanola Regional Hydro Distribution Corporation 4355","Espanola Regional Hydro Distribution Corporation","4355","Gain on Disposition of Utility and Other Property",0,0,0,0,0,null,"Espanola Regional Hydro Distribution Corporation 4355"]
["Espanola Regional Hydro Distribution Corporation 4357","Espanola Regional Hydro Distribution Corporation","4357","Gain from Retirement of Utility and Other Property",0,0,0,0,0,null,"Espanola Regional Hydro Distribution Corporation 4357"]
["Espanola Regional Hydro Distribution Corporation 4360","Espanola Regional Hydro Distribution Corporation","4360","Loss on Disposition of Utility and Other Property",0,0,0,0,0,null,"Espanola Regional Hydro Distribution Corporation 4360"]
["Espanola Regional Hydro Distribution Corporation 4362","Espanola Regional Hydro Distribution Corporation","4362","Loss from Retirement of Utility and Other Property",0,0,0,0,0,null,"Espanola Regional Hydro Distribution Corporation 4362"]
["Espanola Regional Hydro Distribution Corporation 4365","Espanola Regional Hydro Distribution Corporation","4365","Gains from Disposition of Allowances for Emission",0,0,0,0,0,null,"Espanola Regional Hydro Distribution Corporation 4365"]
["Espanola Regional Hydro Distribution Corporation 4370","Espanola Regional Hydro Distribution Corporation","4370","Losses from Disposition of Allowances for Emission",0,0,0,0,0,null,"Espanola Regional Hydro Distribution Corporation 4370"]
["Espanola Regional Hydro Distribution Corporation 4375","Espanola Regional Hydro Distribution Corporation","4375","Revenues from Non Rate-Regulated Utility Operations",-15554.02,-13553.25,-174825.5,-225890.11,-389484.74,null,"Espanola Regional Hydro Distribution Corporation 4375"]
["Espanola Regional Hydro Distribution Corporation 4375","Espanola Regional Hydro Distribution Corporation","4375","Sub-account Generation Facility Revenues",0,0,0,0,0,null,"Espanola Regional Hydro Distribution Corporation 4375"]
["Espanola Regional Hydro Distribution Corporation 4380","Espanola Regional Hydro Distribution Corporation","4380","Expenses of Non Rate-Regulated Utility Operations",14457.57,12952.05,174392.41,201611.4,385805.76,null,"Espanola Regional Hydro Distribution Corporation 4380"]
["Espanola Regional Hydro Distribution Corporation 4380","Espanola Regional Hydro Distribution Corporation","4380","Sub-account Generation Facility Expenses",0,0,0,0,0,null,"Espanola Regional Hydro Distribution Corporation 4380"]
["Espanola Regional Hydro Distribution Corporation 4385","Espanola Regional Hydro Distribution Corporation","4385","Non Rate-Regulated Utility Rental Income",0,0,0,0,0,null,"Espanola Regional Hydro Distribution Corporation 4385"]
["Espanola Regional Hydro Distribution Corporation 4390","Espanola Regional Hydro Distribution Corporation","4390","Miscellaneous Non-Operating Income",0,-1327.43,0,-98.31,0,null,"Espanola Regional Hydro Distribution Corporation 4390"]
["Espanola Regional Hydro Distribution Corporation 4395","Espanola Regional Hydro Distribution Corporation","4395","Rate-Payer Benefit Including Interest",0,0,0,0,0,null,"Espanola Regional Hydro Distribution Corporation 4395"]
["Espanola Regional Hydro Distribution Corporation 4398","Espanola Regional Hydro Distribution Corporation","4398","Foreign Exchange Gains and Losses, Including Amortization",-263.52999999999997,0,0,0,0,null,"Espanola Regional Hydro Distribution Corporation 4398"]
["Espanola Regional Hydro Distribution Corporation 4405","Espanola Regional Hydro Distribution Corporation","4405","Interest and Dividend Income",-30926.15,-35378.160000000003,-61217.41,-97825.95,-69325.89,null,"Espanola Regional Hydro Distribution Corporation 4405"]
["Espanola Regional Hydro Distribution Corporation 4410","Espanola Regional Hydro Distribution Corporation","4410","Lessor's Net Investment in Finance Lease",0,0,0,0,0,null,"Espanola Regional Hydro Distribution Corporation 4410"]
["Espanola Regional Hydro Distribution Corporation 4415","Espanola Regional Hydro Distribution Corporation","4415","Equity in Earnings of Subsidiary Companies",0,0,0,0,0,null,"Espanola Regional Hydro Distribution Corporation 4415"]
["Espanola Regional Hydro Distribution Corporation 4420","Espanola Regional Hydro Distribution Corporation","4420","Share of Profit or Loss of Joint Venture",0,0,0,0,0,null,"Espanola Regional Hydro Distribution Corporation 4420"]
["Espanola Regional Hydro Distribution Corporation Total ","Espanola Regional Hydro Distribution Corporation Total",null,null,-135425.82,-137935.15,-160079.5,-223866.62,561994.41,null,"Espanola Regional Hydro Distribution Corporation Total "]
["Essex Powerlines Corporation 4082","Essex Powerlines Corporation","4082","Retail Services Revenues",0,0,-16352.8,-24834.400000000001,-27615.13,null,"Essex Powerlines Corporation 4082"]
["Essex Powerlines Corporation 4084","Essex Powerlines Corporation","4084","Service Transaction Requests (STR) Revenues",0,0,-107.75,-155.25,-209.1,null,"Essex Powerlines Corporation 4084"]
["Essex Powerlines Corporation 4086","Essex Powerlines Corporation","4086","SSS Administration Revenue",0,0,0,0,0,null,"Essex Powerlines Corporation 4086"]
["Essex Powerlines Corporation 4090","Essex Powerlines Corporation","4090","Electric Services Incidental to Energy Sales",0,0,0,0,0,null,"Essex Powerlines Corporation 4090"]
["Essex Powerlines Corporation 4205","Essex Powerlines Corporation","4205","Interdepartmental Rents",0,0,0,0,0,null,{"$f":"B838 & \" \" &C838","v":"Essex Powerlines Corporation 4205"}]
["Essex Powerlines Corporation 4210","Essex Powerlines Corporation","4210","Rent from Electric Property",-117192.79,-115363.93,-117775.75,-141660.87,-149853.5,null,"Essex Powerlines Corporation 4210"]
["Essex Powerlines Corporation 4215","Essex Powerlines Corporation","4215","Other Utility Operating Income",0,0,0,0,0,null,"Essex Powerlines Corporation 4215"]
["Essex Powerlines Corporation 4220","Essex Powerlines Corporation","4220","Other Electric Revenues",0,0,0,0,0,null,"Essex Powerlines Corporation 4220"]
["Essex Powerlines Corporation 4225","Essex Powerlines Corporation","4225","Late Payment Charges",-239495.17,-181231.82,-185473.97,-207040,-172925.42,null,"Essex Powerlines Corporation 4225"]
["Essex Powerlines Corporation 4230","Essex Powerlines Corporation","4230","Sales of Water and Water Power",0,0,0,0,0,null,"Essex Powerlines Corporation 4230"]
["Essex Powerlines Corporation 4235","Essex Powerlines Corporation","4235","Miscellaneous Service Revenues",-177950.18,-122448.85,-151048.53,-134907.85999999999,-144212.82999999999,null,"Essex Powerlines Corporation 4235"]
["Essex Powerlines Corporation 4240","Essex Powerlines Corporation","4240","Provision for Rate Refunds",0,0,0,0,0,null,"Essex Powerlines Corporation 4240"]
["Essex Powerlines Corporation 4245","Essex Powerlines Corporation","4245","Government and Other Assistance Directly Credited to Income",0,0,-118980.69,-143665.57,-161913.06,null,"Essex Powerlines Corporation 4245"]
["Essex Powerlines Corporation 4305","Essex Powerlines Corporation","4305","Regulatory Debits",781899.77,325846.59999999998,455490.78,1821963.12,607321.04,null,"Essex Powerlines Corporation 4305"]
["Essex Powerlines Corporation 4310","Essex Powerlines Corporation","4310","Regulatory Credits",0,0,0,0,0,null,"Essex Powerlines Corporation 4310"]
["Essex Powerlines Corporation 4315","Essex Powerlines Corporation","4315","Revenues from Electric Plant Leased to Others",0,0,0,0,0,null,"Essex Powerlines Corporation 4315"]
["Essex Powerlines Corporation 4320","Essex Powerlines Corporation","4320","Expenses of Electric Plant Leased to Others",0,0,0,0,0,null,"Essex Powerlines Corporation 4320"]
["Essex Powerlines Corporation 4325","Essex Powerlines Corporation","4325","Revenues from Merchandise",0,0,0,0,0,null,"Essex Powerlines Corporation 4325"]
["Essex Powerlines Corporation 4330","Essex Powerlines Corporation","4330","Costs and Expenses of Merchandising",0,0,0,0,0,null,"Essex Powerlines Corporation 4330"]
["Essex Powerlines Corporation 4335","Essex Powerlines Corporation","4335","Profits and Losses from Financial Instrument Hedges",0,0,0,0,0,null,"Essex Powerlines Corporation 4335"]
["Essex Powerlines Corporation 4340","Essex Powerlines Corporation","4340","Profits and Losses from Financial Instrument Investments",0,0,0,0,0,null,"Essex Powerlines Corporation 4340"]
["Essex Powerlines Corporation 4345","Essex Powerlines Corporation","4345","Gains from Disposition of Future Use Utility Plant",0,0,0,0,0,null,"Essex Powerlines Corporation 4345"]
["Essex Powerlines Corporation 4350","Essex Powerlines Corporation","4350","Losses from Disposition of Future Use Utility Plant",0,0,0,0,0,null,"Essex Powerlines Corporation 4350"]
["Essex Powerlines Corporation 4355","Essex Powerlines Corporation","4355","Gain on Disposition of Utility and Other Property",-122721.27,-36897.519999999997,-28147.33,0,-7500,null,"Essex Powerlines Corporation 4355"]
["Essex Powerlines Corporation 4357","Essex Powerlines Corporation","4357","Gain from Retirement of Utility and Other Property",0,-11180.29,-33181.480000000003,-22550.9,-12154.14,null,"Essex Powerlines Corporation 4357"]
["Essex Powerlines Corporation 4360","Essex Powerlines Corporation","4360","Loss on Disposition of Utility and Other Property",85458.05,0,0,0,0,null,"Essex Powerlines Corporation 4360"]
["Essex Powerlines Corporation 4362","Essex Powerlines Corporation","4362","Loss from Retirement of Utility and Other Property",0,39104.800000000003,57311.11,25846.959999999999,32233.99,null,"Essex Powerlines Corporation 4362"]
["Essex Powerlines Corporation 4365","Essex Powerlines Corporation","4365","Gains from Disposition of Allowances for Emission",0,0,0,0,0,null,"Essex Powerlines Corporation 4365"]
["Essex Powerlines Corporation 4370","Essex Powerlines Corporation","4370","Losses from Disposition of Allowances for Emission",0,0,0,0,0,null,"Essex Powerlines Corporation 4370"]
["Essex Powerlines Corporation 4375","Essex Powerlines Corporation","4375","Revenues from Non Rate-Regulated Utility Operations",-3256956.94,-2583019.38,-3232132.48,-2064343.54,-1828726.78,null,"Essex Powerlines Corporation 4375"]
["Essex Powerlines Corporation 4375","Essex Powerlines Corporation","4375","Sub-account Generation Facility Revenues",0,0,0,0,0,null,"Essex Powerlines Corporation 4375"]
["Essex Powerlines Corporation 4380","Essex Powerlines Corporation","4380","Expenses of Non Rate-Regulated Utility Operations",3315821.02,2453874.04,2510650.39,1806870.67,1584172.36,null,"Essex Powerlines Corporation 4380"]
["Essex Powerlines Corporation 4380","Essex Powerlines Corporation","4380","Sub-account Generation Facility Expenses",0,0,0,0,0,null,"Essex Powerlines Corporation 4380"]
["Essex Powerlines Corporation 4385","Essex Powerlines Corporation","4385","Non Rate-Regulated Utility Rental Income",0,0,0,0,0,null,"Essex Powerlines Corporation 4385"]
["Essex Powerlines Corporation 4390","Essex Powerlines Corporation","4390","Miscellaneous Non-Operating Income",-12175.55,-22160.57,-35139.949999999997,-37723.879999999997,-32188.81,null,"Essex Powerlines Corporation 4390"]
["Essex Powerlines Corporation 4395","Essex Powerlines Corporation","4395","Rate-Payer Benefit Including Interest",0,0,0,0,0,null,"Essex Powerlines Corporation 4395"]
["Essex Powerlines Corporation 4398","Essex Powerlines Corporation","4398","Foreign Exchange Gains and Losses, Including Amortization",7335.18,10428.27,-10928.11,5757.07,1786.75,null,"Essex Powerlines Corporation 4398"]
["Essex Powerlines Corporation 4405","Essex Powerlines Corporation","4405","Interest and Dividend Income",-141379.56,-141560.04999999999,-246168.34,-292990.21999999997,-202749.05,null,"Essex Powerlines Corporation 4405"]
["Essex Powerlines Corporation 4410","Essex Powerlines Corporation","4410","Lessor's Net Investment in Finance Lease",0,0,0,0,0,null,"Essex Powerlines Corporation 4410"]
["Essex Powerlines Corporation 4415","Essex Powerlines Corporation","4415","Equity in Earnings of Subsidiary Companies",0,0,0,0,0,null,"Essex Powerlines Corporation 4415"]
["Essex Powerlines Corporation 4420","Essex Powerlines Corporation","4420","Share of Profit or Loss of Joint Venture",0,0,0,0,0,null,"Essex Powerlines Corporation 4420"]
["Essex Powerlines Corporation Total ","Essex Powerlines Corporation Total",null,null,122642.56,-384608.7,-1151984.8999999999,590565.32999999996,-514533.68,null,"Essex Powerlines Corporation Total "]
["Festival Hydro Inc. 4082","Festival Hydro Inc.","4082","Retail Services Revenues",-17808.28,-20457.52,-25986.77,-26184.61,-26820.22,null,"Festival Hydro Inc. 4082"]
["Festival Hydro Inc. 4084","Festival Hydro Inc.","4084","Service Transaction Requests (STR) Revenues",0,10.5,0.75,0,0,null,"Festival Hydro Inc. 4084"]
["Festival Hydro Inc. 4086","Festival Hydro Inc.","4086","SSS Administration Revenue",-57407.16,-63499.4,-61327.64,-61137.85,-62603.91,null,"Festival Hydro Inc. 4086"]
["Festival Hydro Inc. 4090","Festival Hydro Inc.","4090","Electric Services Incidental to Energy Sales",0,0,0,0,0,null,"Festival Hydro Inc. 4090"]
["Festival Hydro Inc. 4205","Festival Hydro Inc.","4205","Interdepartmental Rents",0,0,0,0,0,null,"Festival Hydro Inc. 4205"]
["Festival Hydro Inc. 4210","Festival Hydro Inc.","4210","Rent from Electric Property",-188906.98,-187133.49,-176242.53,-179766.44,-155582.39999999999,null,"Festival Hydro Inc. 4210"]
["Festival Hydro Inc. 4215","Festival Hydro Inc.","4215","Other Utility Operating Income",0,0,0,0,0,null,"Festival Hydro Inc. 4215"]
["Festival Hydro Inc. 4220","Festival Hydro Inc.","4220","Other Electric Revenues",-33848.03,-54510.43,-228425.13,-208055.61,-142452.63,null,"Festival Hydro Inc. 4220"]
["Festival Hydro Inc. 4225","Festival Hydro Inc.","4225","Late Payment Charges",-145303.81,-139278.51999999999,-121053.84,-112696.76,-97899.74,null,"Festival Hydro Inc. 4225"]
["Festival Hydro Inc. 4230","Festival Hydro Inc.","4230","Sales of Water and Water Power",0,0,0,0,0,null,"Festival Hydro Inc. 4230"]
["Festival Hydro Inc. 4235","Festival Hydro Inc.","4235","Miscellaneous Service Revenues",-126348.84,-118047.49,-110824.72,-103104.46,-83265.11,null,"Festival Hydro Inc. 4235"]
["Festival Hydro Inc. 4240","Festival Hydro Inc.","4240","Provision for Rate Refunds",0,0,0,0,0,null,"Festival Hydro Inc. 4240"]
["Festival Hydro Inc. 4245","Festival Hydro Inc.","4245","Government and Other Assistance Directly Credited to Income",-10791.19,-12238.56,-47984.67,-45912.05,-57126.720000000001,null,"Festival Hydro Inc. 4245"]
["Festival Hydro Inc. 4305","Festival Hydro Inc.","4305","Regulatory Debits",0,0,0,0,0,null,"Festival Hydro Inc. 4305"]
["Festival Hydro Inc. 4310","Festival Hydro Inc.","4310","Regulatory Credits",0,0,0,0,0,null,"Festival Hydro Inc. 4310"]
["Festival Hydro Inc. 4315","Festival Hydro Inc.","4315","Revenues from Electric Plant Leased to Others",0,0,-48174.02,-60386.01,-60870.22,null,"Festival Hydro Inc. 4315"]
["Festival Hydro Inc. 4320","Festival Hydro Inc.","4320","Expenses of Electric Plant Leased to Others",0,0,0,0,0,null,"Festival Hydro Inc. 4320"]
["Festival Hydro Inc. 4325","Festival Hydro Inc.","4325","Revenues from Merchandise",0,0,0,0,0,null,"Festival Hydro Inc. 4325"]
["Festival Hydro Inc. 4330","Festival Hydro Inc.","4330","Costs and Expenses of Merchandising",0,0,0,0,0,null,"Festival Hydro Inc. 4330"]
["Festival Hydro Inc. 4335","Festival Hydro Inc.","4335","Profits and Losses from Financial Instrument Hedges",0,0,0,0,0,null,"Festival Hydro Inc. 4335"]
["Festival Hydro Inc. 4340","Festival Hydro Inc.","4340","Profits and Losses from Financial Instrument Investments",0,0,0,0,0,null,"Festival Hydro Inc. 4340"]
["Festival Hydro Inc. 4345","Festival Hydro Inc.","4345","Gains from Disposition of Future Use Utility Plant",0,0,0,0,0,null,"Festival Hydro Inc. 4345"]
["Festival Hydro Inc. 4350","Festival Hydro Inc.","4350","Losses from Disposition of Future Use Utility Plant",0,0,0,0,0,null,"Festival Hydro Inc. 4350"]
["Festival Hydro Inc. 4355","Festival Hydro Inc.","4355","Gain on Disposition of Utility and Other Property",0,-29519,-8040,0,-2654.87,null,"Festival Hydro Inc. 4355"]
["Festival Hydro Inc. 4357","Festival Hydro Inc.","4357","Gain from Retirement of Utility and Other Property",0,0,0,0,0,null,"Festival Hydro Inc. 4357"]
["Festival Hydro Inc. 4360","Festival Hydro Inc.","4360","Loss on Disposition of Utility and Other Property",20779.97,1608.09,0,0,0,null,"Festival Hydro Inc. 4360"]
["Festival Hydro Inc. 4362","Festival Hydro Inc.","4362","Loss from Retirement of Utility and Other Property",0,0,0,0,0,null,{"$f":"B902 & \" \" &C902","v":"Festival Hydro Inc. 4362"}]
["Festival Hydro Inc. 4365","Festival Hydro Inc.","4365","Gains from Disposition of Allowances for Emission",0,0,0,0,0,null,"Festival Hydro Inc. 4365"]
["Festival Hydro Inc. 4370","Festival Hydro Inc.","4370","Losses from Disposition of Allowances for Emission",0,0,0,0,0,null,"Festival Hydro Inc. 4370"]
["Festival Hydro Inc. 4375","Festival Hydro Inc.","4375","Revenues from Non Rate-Regulated Utility Operations",-770087.87,-815446.18,-1282505.95,-898612.89,-841732.18,null,"Festival Hydro Inc. 4375"]
["Festival Hydro Inc. 4375","Festival Hydro Inc.","4375","Sub-account Generation Facility Revenues",0,0,0,0,0,null,"Festival Hydro Inc. 4375"]
["Festival Hydro Inc. 4380","Festival Hydro Inc.","4380","Expenses of Non Rate-Regulated Utility Operations",555314.25,533084.25,517400.65,553523.73,519594.31,null,"Festival Hydro Inc. 4380"]
["Festival Hydro Inc. 4380","Festival Hydro Inc.","4380","Sub-account Generation Facility Expenses",0,0,0,0,0,null,"Festival Hydro Inc. 4380"]
["Festival Hydro Inc. 4385","Festival Hydro Inc.","4385","Non Rate-Regulated Utility Rental Income",0,0,0,0,0,null,"Festival Hydro Inc. 4385"]
["Festival Hydro Inc. 4390","Festival Hydro Inc.","4390","Miscellaneous Non-Operating Income",-38683,-44560.58,-21132.59,-15994.84,-14955.67,null,"Festival Hydro Inc. 4390"]
["Festival Hydro Inc. 4395","Festival Hydro Inc.","4395","Rate-Payer Benefit Including Interest",0,0,0,0,0,null,"Festival Hydro Inc. 4395"]
["Festival Hydro Inc. 4398","Festival Hydro Inc.","4398","Foreign Exchange Gains and Losses, Including Amortization",0,0,0,0,0,null,"Festival Hydro Inc. 4398"]
["Festival Hydro Inc. 4405","Festival Hydro Inc.","4405","Interest and Dividend Income",-28414.44,-27023.73,-45357.52,-53530.69,-43770.67,null,"Festival Hydro Inc. 4405"]
["Festival Hydro Inc. 4410","Festival Hydro Inc.","4410","Lessor's Net Investment in Finance Lease",0,0,0,0,0,null,"Festival Hydro Inc. 4410"]
["Festival Hydro Inc. 4415","Festival Hydro Inc.","4415","Equity in Earnings of Subsidiary Companies",0,0,0,0,0,null,"Festival Hydro Inc. 4415"]
["Festival Hydro Inc. 4420","Festival Hydro Inc.","4420","Share of Profit or Loss of Joint Venture",0,0,0,0,0,null,"Festival Hydro Inc. 4420"]
["Festival Hydro Inc. Total ","Festival Hydro Inc. Total",null,null,-841505.38,-977012.06,-1659653.98,-1211858.48,-1070140.03,null,"Festival Hydro Inc. Total "]
["Fort Frances Power Corporation 4082","Fort Frances Power Corporation","4082","Retail Services Revenues",-1333.14,-1362.56,-1030.8,-1576.3,-1695.29,null,"Fort Frances Power Corporation 4082"]
["Fort Frances Power Corporation 4084","Fort Frances Power Corporation","4084","Service Transaction Requests (STR) Revenues",-204,-175,-121.75,-164.25,-197.28,null,"Fort Frances Power Corporation 4084"]
["Fort Frances Power Corporation 4086","Fort Frances Power Corporation","4086","SSS Administration Revenue",-11122.99,-11257.25,-11249.25,-11292,-11306.26,null,"Fort Frances Power Corporation 4086"]
["Fort Frances Power Corporation 4090","Fort Frances Power Corporation","4090","Electric Services Incidental to Energy Sales",0,0,0,0,0,null,"Fort Frances Power Corporation 4090"]
["Fort Frances Power Corporation 4205","Fort Frances Power Corporation","4205","Interdepartmental Rents",0,0,0,0,0,null,"Fort Frances Power Corporation 4205"]
["Fort Frances Power Corporation 4210","Fort Frances Power Corporation","4210","Rent from Electric Property",-47420.29,-74805.509999999995,-101303.22,-96914.41,-95934.62,null,"Fort Frances Power Corporation 4210"]
["Fort Frances Power Corporation 4215","Fort Frances Power Corporation","4215","Other Utility Operating Income",0,0,0,0,0,null,"Fort Frances Power Corporation 4215"]
["Fort Frances Power Corporation 4220","Fort Frances Power Corporation","4220","Other Electric Revenues",0,0,0,0,0,null,"Fort Frances Power Corporation 4220"]
["Fort Frances Power Corporation 4225","Fort Frances Power Corporation","4225","Late Payment Charges",-25737.97,-22609.599999999999,-23417.82,-20869.48,-28604.19,null,"Fort Frances Power Corporation 4225"]
["Fort Frances Power Corporation 4230","Fort Frances Power Corporation","4230","Sales of Water and Water Power",-5989.48,-5182.2,-5255.2,-3131.31,-3101.39,null,"Fort Frances Power Corporation 4230"]
["Fort Frances Power Corporation 4235","Fort Frances Power Corporation","4235","Miscellaneous Service Revenues",-23362.89,-19397.8,-23914.959999999999,-19680.830000000002,-11885.06,null,"Fort Frances Power Corporation 4235"]
["Fort Frances Power Corporation 4240","Fort Frances Power Corporation","4240","Provision for Rate Refunds",0,0,0,0,0,null,"Fort Frances Power Corporation 4240"]
["Fort Frances Power Corporation 4245","Fort Frances Power Corporation","4245","Government and Other Assistance Directly Credited to Income",-1606,-1616,-1616,-1616,-1616,null,"Fort Frances Power Corporation 4245"]
["Fort Frances Power Corporation 4305","Fort Frances Power Corporation","4305","Regulatory Debits",0,0,0,0,0,null,"Fort Frances Power Corporation 4305"]
["Fort Frances Power Corporation 4310","Fort Frances Power Corporation","4310","Regulatory Credits",0,0,0,0,0,null,"Fort Frances Power Corporation 4310"]
["Fort Frances Power Corporation 4315","Fort Frances Power Corporation","4315","Revenues from Electric Plant Leased to Others",0,0,0,0,0,null,"Fort Frances Power Corporation 4315"]
["Fort Frances Power Corporation 4320","Fort Frances Power Corporation","4320","Expenses of Electric Plant Leased to Others",0,0,0,0,0,null,"Fort Frances Power Corporation 4320"]
["Fort Frances Power Corporation 4325","Fort Frances Power Corporation","4325","Revenues from Merchandise",-44102.67,-42770.39,-68379.67,-115411.28,-143817.04999999999,null,"Fort Frances Power Corporation 4325"]
["Fort Frances Power Corporation 4330","Fort Frances Power Corporation","4330","Costs and Expenses of Merchandising",44400.800000000003,7521.58,12666.76,13870.51,4492.1899999999996,null,"Fort Frances Power Corporation 4330"]
["Fort Frances Power Corporation 4335","Fort Frances Power Corporation","4335","Profits and Losses from Financial Instrument Hedges",0,0,0,0,0,null,"Fort Frances Power Corporation 4335"]
["Fort Frances Power Corporation 4340","Fort Frances Power Corporation","4340","Profits and Losses from Financial Instrument Investments",0,0,0,0,0,null,"Fort Frances Power Corporation 4340"]
["Fort Frances Power Corporation 4345","Fort Frances Power Corporation","4345","Gains from Disposition of Future Use Utility Plant",0,0,0,0,0,null,"Fort Frances Power Corporation 4345"]
["Fort Frances Power Corporation 4350","Fort Frances Power Corporation","4350","Losses from Disposition of Future Use Utility Plant",0,0,0,0,0,null,"Fort Frances Power Corporation 4350"]
["Fort Frances Power Corporation 4355","Fort Frances Power Corporation","4355","Gain on Disposition of Utility and Other Property",0,0,0,0,-8772.99,null,"Fort Frances Power Corporation 4355"]
["Fort Frances Power Corporation 4357","Fort Frances Power Corporation","4357","Gain from Retirement of Utility and Other Property",0,0,0,0,0,null,"Fort Frances Power Corporation 4357"]
["Fort Frances Power Corporation 4360","Fort Frances Power Corporation","4360","Loss on Disposition of Utility and Other Property",14643.3,8090.5,13871.3,6881.39,0,null,"Fort Frances Power Corporation 4360"]
["Fort Frances Power Corporation 4362","Fort Frances Power Corporation","4362","Loss from Retirement of Utility and Other Property",0,0,0,0,0,null,"Fort Frances Power Corporation 4362"]
["Fort Frances Power Corporation 4365","Fort Frances Power Corporation","4365","Gains from Disposition of Allowances for Emission",0,0,0,0,0,null,"Fort Frances Power Corporation 4365"]
["Fort Frances Power Corporation 4370","Fort Frances Power Corporation","4370","Losses from Disposition of Allowances for Emission",0,0,0,0,0,null,"Fort Frances Power Corporation 4370"]
["Fort Frances Power Corporation 4375","Fort Frances Power Corporation","4375","Revenues from Non Rate-Regulated Utility Operations",-97950.15,-149520.85999999999,-76306.66,-57274.67,-3837,null,"Fort Frances Power Corporation 4375"]
["Fort Frances Power Corporation 4375","Fort Frances Power Corporation","4375","Sub-account Generation Facility Revenues",0,0,0,0,0,null,"Fort Frances Power Corporation 4375"]
["Fort Frances Power Corporation 4380","Fort Frances Power Corporation","4380","Expenses of Non Rate-Regulated Utility Operations",66713,168853.77,109294.78,94875.38,34162.17,null,"Fort Frances Power Corporation 4380"]
["Fort Frances Power Corporation 4380","Fort Frances Power Corporation","4380","Sub-account Generation Facility Expenses",0,0,0,0,0,null,"Fort Frances Power Corporation 4380"]
["Fort Frances Power Corporation 4385","Fort Frances Power Corporation","4385","Non Rate-Regulated Utility Rental Income",0,0,0,0,0,null,"Fort Frances Power Corporation 4385"]
["Fort Frances Power Corporation 4390","Fort Frances Power Corporation","4390","Miscellaneous Non-Operating Income",-19083.05,-19075.18,-2185.5700000000002,10327.549999999999,-15594.39,null,"Fort Frances Power Corporation 4390"]
["Fort Frances Power Corporation 4395","Fort Frances Power Corporation","4395","Rate-Payer Benefit Including Interest",0,0,0,0,0,null,"Fort Frances Power Corporation 4395"]
["Fort Frances Power Corporation 4398","Fort Frances Power Corporation","4398","Foreign Exchange Gains and Losses, Including Amortization",0,0,0,0,0,null,"Fort Frances Power Corporation 4398"]
["Fort Frances Power Corporation 4405","Fort Frances Power Corporation","4405","Interest and Dividend Income",-27024.880000000001,-23392.11,-58370.38,-79464.210000000006,-51625.23,null,"Fort Frances Power Corporation 4405"]
["Fort Frances Power Corporation 4410","Fort Frances Power Corporation","4410","Lessor's Net Investment in Finance Lease",0,0,0,0,0,null,"Fort Frances Power Corporation 4410"]
["Fort Frances Power Corporation 4415","Fort Frances Power Corporation","4415","Equity in Earnings of Subsidiary Companies",0,0,0,0,0,null,"Fort Frances Power Corporation 4415"]
["Fort Frances Power Corporation 4420","Fort Frances Power Corporation","4420","Share of Profit or Loss of Joint Venture",0,0,0,0,0,null,"Fort Frances Power Corporation 4420"]
["Fort Frances Power Corporation Total ","Fort Frances Power Corporation Total",null,null,-179180.41,-186698.61,-237318.44,-281439.90999999997,-339332.39,null,"Fort Frances Power Corporation Total "]
["Greater Sudbury Hydro Inc. 4082","Greater Sudbury Hydro Inc.","4082","Retail Services Revenues",-30665.8,-21848,-20810.099999999999,-30028.5,-34335.1,null,"Greater Sudbury Hydro Inc. 4082"]
["Greater Sudbury Hydro Inc. 4084","Greater Sudbury Hydro Inc.","4084","Service Transaction Requests (STR) Revenues",-642.5,-305.75,-301.75,-496,-474.87,null,"Greater Sudbury Hydro Inc. 4084"]
["Greater Sudbury Hydro Inc. 4086","Greater Sudbury Hydro Inc.","4086","SSS Administration Revenue",-157978.57999999999,-139356.18,-140733.35,-141749.87,-141075.87,null,"Greater Sudbury Hydro Inc. 4086"]
["Greater Sudbury Hydro Inc. 4090","Greater Sudbury Hydro Inc.","4090","Electric Services Incidental to Energy Sales",0,0,0,0,0,null,"Greater Sudbury Hydro Inc. 4090"]
["Greater Sudbury Hydro Inc. 4205","Greater Sudbury Hydro Inc.","4205","Interdepartmental Rents",0,0,0,0,0,null,"Greater Sudbury Hydro Inc. 4205"]
["Greater Sudbury Hydro Inc. 4210","Greater Sudbury Hydro Inc.","4210","Rent from Electric Property",-61233.9,-59806.92,-59806.92,-1095852.56,-1160456.3600000001,null,"Greater Sudbury Hydro Inc. 4210"]
["Greater Sudbury Hydro Inc. 4215","Greater Sudbury Hydro Inc.","4215","Other Utility Operating Income",0,0,0,0,0,null,{"$f":"B966 & \" \" &C966","v":"Greater Sudbury Hydro Inc. 4215"}]
["Greater Sudbury Hydro Inc. 4220","Greater Sudbury Hydro Inc.","4220","Other Electric Revenues",-1268.3599999999999,-121902.54,0,0,0,null,"Greater Sudbury Hydro Inc. 4220"]
["Greater Sudbury Hydro Inc. 4225","Greater Sudbury Hydro Inc.","4225","Late Payment Charges",-195236.33,-166760.54,-148898.01,-155234.51999999999,-197952.47,null,"Greater Sudbury Hydro Inc. 4225"]
["Greater Sudbury Hydro Inc. 4230","Greater Sudbury Hydro Inc.","4230","Sales of Water and Water Power",0,0,0,0,0,null,"Greater Sudbury Hydro Inc. 4230"]
["Greater Sudbury Hydro Inc. 4235","Greater Sudbury Hydro Inc.","4235","Miscellaneous Service Revenues",-1042953.5,-958828.42,-879807.1,-279819.7,-100145.36,null,"Greater Sudbury Hydro Inc. 4235"]
["Greater Sudbury Hydro Inc. 4240","Greater Sudbury Hydro Inc.","4240","Provision for Rate Refunds",0,0,0,0,0,null,"Greater Sudbury Hydro Inc. 4240"]
["Greater Sudbury Hydro Inc. 4245","Greater Sudbury Hydro Inc.","4245","Government and Other Assistance Directly Credited to Income",0,0,0,-147734.85,-241984.63,null,"Greater Sudbury Hydro Inc. 4245"]
["Greater Sudbury Hydro Inc. 4305","Greater Sudbury Hydro Inc.","4305","Regulatory Debits",0,0,0,507988.99,174698.87,null,"Greater Sudbury Hydro Inc. 4305"]
["Greater Sudbury Hydro Inc. 4310","Greater Sudbury Hydro Inc.","4310","Regulatory Credits",-987000.26,-6998.28,38524.97,-515798.59,-516769.65,null,"Greater Sudbury Hydro Inc. 4310"]
["Greater Sudbury Hydro Inc. 4315","Greater Sudbury Hydro Inc.","4315","Revenues from Electric Plant Leased to Others",0,0,0,0,0,null,"Greater Sudbury Hydro Inc. 4315"]
["Greater Sudbury Hydro Inc. 4320","Greater Sudbury Hydro Inc.","4320","Expenses of Electric Plant Leased to Others",0,0,0,0,0,null,"Greater Sudbury Hydro Inc. 4320"]
["Greater Sudbury Hydro Inc. 4325","Greater Sudbury Hydro Inc.","4325","Revenues from Merchandise",0,0,0,0,0,null,"Greater Sudbury Hydro Inc. 4325"]
["Greater Sudbury Hydro Inc. 4330","Greater Sudbury Hydro Inc.","4330","Costs and Expenses of Merchandising",0,0,0,0,0,null,"Greater Sudbury Hydro Inc. 4330"]
["Greater Sudbury Hydro Inc. 4335","Greater Sudbury Hydro Inc.","4335","Profits and Losses from Financial Instrument Hedges",0,0,0,0,0,null,"Greater Sudbury Hydro Inc. 4335"]
["Greater Sudbury Hydro Inc. 4340","Greater Sudbury Hydro Inc.","4340","Profits and Losses from Financial Instrument Investments",0,0,0,0,0,null,"Greater Sudbury Hydro Inc. 4340"]
["Greater Sudbury Hydro Inc. 4345","Greater Sudbury Hydro Inc.","4345","Gains from Disposition of Future Use Utility Plant",0,0,0,0,0,null,"Greater Sudbury Hydro Inc. 4345"]
["Greater Sudbury Hydro Inc. 4350","Greater Sudbury Hydro Inc.","4350","Losses from Disposition of Future Use Utility Plant",0,0,0,0,0,null,"Greater Sudbury Hydro Inc. 4350"]
["Greater Sudbury Hydro Inc. 4355","Greater Sudbury Hydro Inc.","4355","Gain on Disposition of Utility and Other Property",0,0,0,-2696,0,null,"Greater Sudbury Hydro Inc. 4355"]
["Greater Sudbury Hydro Inc. 4357","Greater Sudbury Hydro Inc.","4357","Gain from Retirement of Utility and Other Property",0,0,0,0,0,null,"Greater Sudbury Hydro Inc. 4357"]
["Greater Sudbury Hydro Inc. 4360","Greater Sudbury Hydro Inc.","4360","Loss on Disposition of Utility and Other Property",0,0,0,515798.59,566699.86,null,"Greater Sudbury Hydro Inc. 4360"]
["Greater Sudbury Hydro Inc. 4362","Greater Sudbury Hydro Inc.","4362","Loss from Retirement of Utility and Other Property",0,0,0,0,0,null,"Greater Sudbury Hydro Inc. 4362"]
["Greater Sudbury Hydro Inc. 4365","Greater Sudbury Hydro Inc.","4365","Gains from Disposition of Allowances for Emission",0,0,0,0,0,null,"Greater Sudbury Hydro Inc. 4365"]
["Greater Sudbury Hydro Inc. 4370","Greater Sudbury Hydro Inc.","4370","Losses from Disposition of Allowances for Emission",0,0,0,0,0,null,"Greater Sudbury Hydro Inc. 4370"]
["Greater Sudbury Hydro Inc. 4375","Greater Sudbury Hydro Inc.","4375","Revenues from Non Rate-Regulated Utility Operations",-1383431.7,-2033251.98,-3188325.93,-3162744.17,-1443874.86,null,"Greater Sudbury Hydro Inc. 4375"]
["Greater Sudbury Hydro Inc. 4375","Greater Sudbury Hydro Inc.","4375","Sub-account Generation Facility Revenues",0,0,0,0,0,null,"Greater Sudbury Hydro Inc. 4375"]
["Greater Sudbury Hydro Inc. 4380","Greater Sudbury Hydro Inc.","4380","Expenses of Non Rate-Regulated Utility Operations",1383431.7,2033251.98,2725752.47,3162744.19,1443874.86,null,"Greater Sudbury Hydro Inc. 4380"]
["Greater Sudbury Hydro Inc. 4380","Greater Sudbury Hydro Inc.","4380","Sub-account Generation Facility Expenses",0,0,0,0,0,null,"Greater Sudbury Hydro Inc. 4380"]
["Greater Sudbury Hydro Inc. 4385","Greater Sudbury Hydro Inc.","4385","Non Rate-Regulated Utility Rental Income",-19259.86,-18247.04,-16984.63,-39082.589999999997,-39445.07,null,"Greater Sudbury Hydro Inc. 4385"]
["Greater Sudbury Hydro Inc. 4390","Greater Sudbury Hydro Inc.","4390","Miscellaneous Non-Operating Income",-202201.38,-130581.07,-147480.03,-117097.83,-54711.81,null,"Greater Sudbury Hydro Inc. 4390"]
["Greater Sudbury Hydro Inc. 4395","Greater Sudbury Hydro Inc.","4395","Rate-Payer Benefit Including Interest",0,0,0,0,0,null,"Greater Sudbury Hydro Inc. 4395"]
["Greater Sudbury Hydro Inc. 4398","Greater Sudbury Hydro Inc.","4398","Foreign Exchange Gains and Losses, Including Amortization",0,0,0,0,0,null,"Greater Sudbury Hydro Inc. 4398"]
["Greater Sudbury Hydro Inc. 4405","Greater Sudbury Hydro Inc.","4405","Interest and Dividend Income",-196989.04,-290797.59999999998,-233287.24,-123120.53,-73012.960000000006,null,"Greater Sudbury Hydro Inc. 4405"]
["Greater Sudbury Hydro Inc. 4410","Greater Sudbury Hydro Inc.","4410","Lessor's Net Investment in Finance Lease",0,0,0,0,0,null,"Greater Sudbury Hydro Inc. 4410"]
["Greater Sudbury Hydro Inc. 4415","Greater Sudbury Hydro Inc.","4415","Equity in Earnings of Subsidiary Companies",0,0,0,0,0,null,"Greater Sudbury Hydro Inc. 4415"]
["Greater Sudbury Hydro Inc. 4420","Greater Sudbury Hydro Inc.","4420","Share of Profit or Loss of Joint Venture",0,0,0,0,0,null,"Greater Sudbury Hydro Inc. 4420"]
["Greater Sudbury Hydro Inc. Total ","Greater Sudbury Hydro Inc. Total",null,null,-2895429.51,-1915432.34,-2072157.62,-1624923.94,-1818965.42,null,"Greater Sudbury Hydro Inc. Total "]
["Grimsby Power Incorporated 4082","Grimsby Power Incorporated","4082","Retail Services Revenues",-8903.6,-8046.3,-7561.7,-11537.6,-13400.2,null,"Grimsby Power Incorporated 4082"]
["Grimsby Power Incorporated 4084","Grimsby Power Incorporated","4084","Service Transaction Requests (STR) Revenues",-131.75,-81.5,-55.25,-116,-84.5,null,"Grimsby Power Incorporated 4084"]
["Grimsby Power Incorporated 4086","Grimsby Power Incorporated","4086","SSS Administration Revenue",-32383.75,-32894.75,-33605,-34109,-34495.75,null,"Grimsby Power Incorporated 4086"]
["Grimsby Power Incorporated 4090","Grimsby Power Incorporated","4090","Electric Services Incidental to Energy Sales",0,0,0,0,0,null,"Grimsby Power Incorporated 4090"]
["Grimsby Power Incorporated 4205","Grimsby Power Incorporated","4205","Interdepartmental Rents",0,0,0,0,0,null,"Grimsby Power Incorporated 4205"]
["Grimsby Power Incorporated 4210","Grimsby Power Incorporated","4210","Rent from Electric Property",-80316.11,-82830.45,-81467.16,-81556,-82449.710000000006,null,"Grimsby Power Incorporated 4210"]
["Grimsby Power Incorporated 4215","Grimsby Power Incorporated","4215","Other Utility Operating Income",0,0,0,0,0,null,"Grimsby Power Incorporated 4215"]
["Grimsby Power Incorporated 4220","Grimsby Power Incorporated","4220","Other Electric Revenues",11263.05,-2233.85,6187.41,-7269.02,12254.58,null,"Grimsby Power Incorporated 4220"]
["Grimsby Power Incorporated 4225","Grimsby Power Incorporated","4225","Late Payment Charges",-63560.69,-47476.14,-44219.91,-38435.64,-21617.78,null,"Grimsby Power Incorporated 4225"]
["Grimsby Power Incorporated 4230","Grimsby Power Incorporated","4230","Sales of Water and Water Power",0,0,0,0,0,null,"Grimsby Power Incorporated 4230"]
["Grimsby Power Incorporated 4235","Grimsby Power Incorporated","4235","Miscellaneous Service Revenues",-67402.78,-77513.25,-83475.58,-77977.179999999993,-75349.63,null,"Grimsby Power Incorporated 4235"]
["Grimsby Power Incorporated 4240","Grimsby Power Incorporated","4240","Provision for Rate Refunds",0,0,0,0,0,null,"Grimsby Power Incorporated 4240"]
["Grimsby Power Incorporated 4245","Grimsby Power Incorporated","4245","Government and Other Assistance Directly Credited to Income",-107794.7,-121588.1,-136816.29,-145597.93,-154859.29,null,"Grimsby Power Incorporated 4245"]
["Grimsby Power Incorporated 4305","Grimsby Power Incorporated","4305","Regulatory Debits",0,0,0,0,0,null,"Grimsby Power Incorporated 4305"]
["Grimsby Power Incorporated 4310","Grimsby Power Incorporated","4310","Regulatory Credits",0,0,0,0,0,null,"Grimsby Power Incorporated 4310"]
["Grimsby Power Incorporated 4315","Grimsby Power Incorporated","4315","Revenues from Electric Plant Leased to Others",0,0,0,0,0,null,"Grimsby Power Incorporated 4315"]
["Grimsby Power Incorporated 4320","Grimsby Power Incorporated","4320","Expenses of Electric Plant Leased to Others",0,0,0,0,0,null,"Grimsby Power Incorporated 4320"]
["Grimsby Power Incorporated 4325","Grimsby Power Incorporated","4325","Revenues from Merchandise",-5728.89,-4866.78,-2936.79,0,0,null,"Grimsby Power Incorporated 4325"]
["Grimsby Power Incorporated 4330","Grimsby Power Incorporated","4330","Costs and Expenses of Merchandising",0,0,0,0,0,null,"Grimsby Power Incorporated 4330"]
["Grimsby Power Incorporated 4335","Grimsby Power Incorporated","4335","Profits and Losses from Financial Instrument Hedges",0,0,0,0,0,null,"Grimsby Power Incorporated 4335"]
["Grimsby Power Incorporated 4340","Grimsby Power Incorporated","4340","Profits and Losses from Financial Instrument Investments",0,0,0,0,0,null,"Grimsby Power Incorporated 4340"]
["Grimsby Power Incorporated 4345","Grimsby Power Incorporated","4345","Gains from Disposition of Future Use Utility Plant",0,0,0,0,0,null,"Grimsby Power Incorporated 4345"]
["Grimsby Power Incorporated 4350","Grimsby Power Incorporated","4350","Losses from Disposition of Future Use Utility Plant",0,0,0,0,0,null,"Grimsby Power Incorporated 4350"]
["Grimsby Power Incorporated 4355","Grimsby Power Incorporated","4355","Gain on Disposition of Utility and Other Property",0,-5278.23,-5000,-1716.36,0,null,"Grimsby Power Incorporated 4355"]
["Grimsby Power Incorporated 4357","Grimsby Power Incorporated","4357","Gain from Retirement of Utility and Other Property",0,0,0,0,0,null,"Grimsby Power Incorporated 4357"]
["Grimsby Power Incorporated 4360","Grimsby Power Incorporated","4360","Loss on Disposition of Utility and Other Property",4947.6099999999997,220,0,0,18732.61,null,"Grimsby Power Incorporated 4360"]
["Grimsby Power Incorporated 4362","Grimsby Power Incorporated","4362","Loss from Retirement of Utility and Other Property",830.32,0,1244.51,0,0,null,"Grimsby Power Incorporated 4362"]
["Grimsby Power Incorporated 4365","Grimsby Power Incorporated","4365","Gains from Disposition of Allowances for Emission",0,0,0,0,0,null,"Grimsby Power Incorporated 4365"]
["Grimsby Power Incorporated 4370","Grimsby Power Incorporated","4370","Losses from Disposition of Allowances for Emission",0,0,0,0,0,null,{"$f":"B1030 & \" \" &C1030","v":"Grimsby Power Incorporated 4370"}]
["Grimsby Power Incorporated 4375","Grimsby Power Incorporated","4375","Revenues from Non Rate-Regulated Utility Operations",-472077.35,-302036.53000000003,-419180.51,-119010.36,-4847.3900000000003,null,"Grimsby Power Incorporated 4375"]
["Grimsby Power Incorporated 4375","Grimsby Power Incorporated","4375","Sub-account Generation Facility Revenues",0,0,0,0,0,null,"Grimsby Power Incorporated 4375"]
["Grimsby Power Incorporated 4380","Grimsby Power Incorporated","4380","Expenses of Non Rate-Regulated Utility Operations",427461.35,297836.53000000003,294125.81,117810.36,6469.5,null,"Grimsby Power Incorporated 4380"]
["Grimsby Power Incorporated 4380","Grimsby Power Incorporated","4380","Sub-account Generation Facility Expenses",0,0,0,0,0,null,"Grimsby Power Incorporated 4380"]
["Grimsby Power Incorporated 4385","Grimsby Power Incorporated","4385","Non Rate-Regulated Utility Rental Income",0,0,0,0,0,null,"Grimsby Power Incorporated 4385"]
["Grimsby Power Incorporated 4390","Grimsby Power Incorporated","4390","Miscellaneous Non-Operating Income",-5399.61,-6281.5,-5129.99,-5528.92,-6365.78,null,"Grimsby Power Incorporated 4390"]
["Grimsby Power Incorporated 4395","Grimsby Power Incorporated","4395","Rate-Payer Benefit Including Interest",0,0,0,0,0,null,"Grimsby Power Incorporated 4395"]
["Grimsby Power Incorporated 4398","Grimsby Power Incorporated","4398","Foreign Exchange Gains and Losses, Including Amortization",2388.86,5255.73,-272.95,1863.73,18761.599999999999,null,"Grimsby Power Incorporated 4398"]
["Grimsby Power Incorporated 4405","Grimsby Power Incorporated","4405","Interest and Dividend Income",-16441.400000000001,-19341.73,-28767.86,-35142.239999999998,-21758.97,null,"Grimsby Power Incorporated 4405"]
["Grimsby Power Incorporated 4410","Grimsby Power Incorporated","4410","Lessor's Net Investment in Finance Lease",0,0,0,0,0,null,"Grimsby Power Incorporated 4410"]
["Grimsby Power Incorporated 4415","Grimsby Power Incorporated","4415","Equity in Earnings of Subsidiary Companies",0,0,0,0,0,null,"Grimsby Power Incorporated 4415"]
["Grimsby Power Incorporated 4420","Grimsby Power Incorporated","4420","Share of Profit or Loss of Joint Venture",0,0,0,0,0,null,"Grimsby Power Incorporated 4420"]
["Grimsby Power Incorporated Total ","Grimsby Power Incorporated Total",null,null,-413249.44,-407156.85,-546931.26,-438322.16,-359010.71,null,"Grimsby Power Incorporated Total "]
["Guelph Hydro Electric Systems Inc. 4082","Guelph Hydro Electric Systems Inc.","4082","Retail Services Revenues",-44577.02,-48460.01,-49009.97,null,null,null,"Guelph Hydro Electric Systems Inc. 4082"]
["Guelph Hydro Electric Systems Inc. 4084","Guelph Hydro Electric Systems Inc.","4084","Service Transaction Requests (STR) Revenues",-39214.370000000003,-42630.239999999998,-43114.04,null,null,null,"Guelph Hydro Electric Systems Inc. 4084"]
["Guelph Hydro Electric Systems Inc. 4086","Guelph Hydro Electric Systems Inc.","4086","SSS Administration Revenue",-156612.04,-160684.35999999999,-163555.38,null,null,null,"Guelph Hydro Electric Systems Inc. 4086"]
["Guelph Hydro Electric Systems Inc. 4090","Guelph Hydro Electric Systems Inc.","4090","Electric Services Incidental to Energy Sales",0,0,0,null,null,null,"Guelph Hydro Electric Systems Inc. 4090"]
["Guelph Hydro Electric Systems Inc. 4205","Guelph Hydro Electric Systems Inc.","4205","Interdepartmental Rents",0,0,0,null,null,null,"Guelph Hydro Electric Systems Inc. 4205"]
["Guelph Hydro Electric Systems Inc. 4210","Guelph Hydro Electric Systems Inc.","4210","Rent from Electric Property",-326702.43,-341967.12,-339859.15,null,null,null,"Guelph Hydro Electric Systems Inc. 4210"]
["Guelph Hydro Electric Systems Inc. 4215","Guelph Hydro Electric Systems Inc.","4215","Other Utility Operating Income",0,0,0,null,null,null,"Guelph Hydro Electric Systems Inc. 4215"]
["Guelph Hydro Electric Systems Inc. 4220","Guelph Hydro Electric Systems Inc.","4220","Other Electric Revenues",0,0,0,null,null,null,"Guelph Hydro Electric Systems Inc. 4220"]
["Guelph Hydro Electric Systems Inc. 4225","Guelph Hydro Electric Systems Inc.","4225","Late Payment Charges",-163280.39000000001,-166574.53,-133115.31,null,null,null,"Guelph Hydro Electric Systems Inc. 4225"]
["Guelph Hydro Electric Systems Inc. 4230","Guelph Hydro Electric Systems Inc.","4230","Sales of Water and Water Power",0,0,0,null,null,null,"Guelph Hydro Electric Systems Inc. 4230"]
["Guelph Hydro Electric Systems Inc. 4235","Guelph Hydro Electric Systems Inc.","4235","Miscellaneous Service Revenues",-524217.47,-496661.13,-444987.26,null,null,null,"Guelph Hydro Electric Systems Inc. 4235"]
["Guelph Hydro Electric Systems Inc. 4240","Guelph Hydro Electric Systems Inc.","4240","Provision for Rate Refunds",0,0,0,null,null,null,"Guelph Hydro Electric Systems Inc. 4240"]
["Guelph Hydro Electric Systems Inc. 4245","Guelph Hydro Electric Systems Inc.","4245","Government and Other Assistance Directly Credited to Income",0,0,0,null,null,null,"Guelph Hydro Electric Systems Inc. 4245"]
["Guelph Hydro Electric Systems Inc. 4305","Guelph Hydro Electric Systems Inc.","4305","Regulatory Debits",0,0,0,null,null,null,"Guelph Hydro Electric Systems Inc. 4305"]
["Guelph Hydro Electric Systems Inc. 4310","Guelph Hydro Electric Systems Inc.","4310","Regulatory Credits",0,0,0,null,null,null,"Guelph Hydro Electric Systems Inc. 4310"]
["Guelph Hydro Electric Systems Inc. 4315","Guelph Hydro Electric Systems Inc.","4315","Revenues from Electric Plant Leased to Others",0,0,0,null,null,null,"Guelph Hydro Electric Systems Inc. 4315"]
["Guelph Hydro Electric Systems Inc. 4320","Guelph Hydro Electric Systems Inc.","4320","Expenses of Electric Plant Leased to Others",0,0,0,null,null,null,"Guelph Hydro Electric Systems Inc. 4320"]
["Guelph Hydro Electric Systems Inc. 4325","Guelph Hydro Electric Systems Inc.","4325","Revenues from Merchandise",0,0,0,null,null,null,"Guelph Hydro Electric Systems Inc. 4325"]
["Guelph Hydro Electric Systems Inc. 4330","Guelph Hydro Electric Systems Inc.","4330","Costs and Expenses of Merchandising",0,0,0,null,null,null,"Guelph Hydro Electric Systems Inc. 4330"]
["Guelph Hydro Electric Systems Inc. 4335","Guelph Hydro Electric Systems Inc.","4335","Profits and Losses from Financial Instrument Hedges",0,0,0,null,null,null,"Guelph Hydro Electric Systems Inc. 4335"]
["Guelph Hydro Electric Systems Inc. 4340","Guelph Hydro Electric Systems Inc.","4340","Profits and Losses from Financial Instrument Investments",0,0,0,null,null,null,"Guelph Hydro Electric Systems Inc. 4340"]
["Guelph Hydro Electric Systems Inc. 4345","Guelph Hydro Electric Systems Inc.","4345","Gains from Disposition of Future Use Utility Plant",0,0,0,null,null,null,"Guelph Hydro Electric Systems Inc. 4345"]
["Guelph Hydro Electric Systems Inc. 4350","Guelph Hydro Electric Systems Inc.","4350","Losses from Disposition of Future Use Utility Plant",0,0,0,null,null,null,"Guelph Hydro Electric Systems Inc. 4350"]
["Guelph Hydro Electric Systems Inc. 4355","Guelph Hydro Electric Systems Inc.","4355","Gain on Disposition of Utility and Other Property",-47775,-16995,-22305,null,null,null,"Guelph Hydro Electric Systems Inc. 4355"]
["Guelph Hydro Electric Systems Inc. 4357","Guelph Hydro Electric Systems Inc.","4357","Gain from Retirement of Utility and Other Property",0,0,0,null,null,null,"Guelph Hydro Electric Systems Inc. 4357"]
["Guelph Hydro Electric Systems Inc. 4360","Guelph Hydro Electric Systems Inc.","4360","Loss on Disposition of Utility and Other Property",0,0,0,null,null,null,"Guelph Hydro Electric Systems Inc. 4360"]
["Guelph Hydro Electric Systems Inc. 4362","Guelph Hydro Electric Systems Inc.","4362","Loss from Retirement of Utility and Other Property",0,0,0,null,null,null,"Guelph Hydro Electric Systems Inc. 4362"]
["Guelph Hydro Electric Systems Inc. 4365","Guelph Hydro Electric Systems Inc.","4365","Gains from Disposition of Allowances for Emission",0,0,0,null,null,null,"Guelph Hydro Electric Systems Inc. 4365"]
["Guelph Hydro Electric Systems Inc. 4370","Guelph Hydro Electric Systems Inc.","4370","Losses from Disposition of Allowances for Emission",0,0,0,null,null,null,"Guelph Hydro Electric Systems Inc. 4370"]
["Guelph Hydro Electric Systems Inc. 4375","Guelph Hydro Electric Systems Inc.","4375","Revenues from Non Rate-Regulated Utility Operations",-16952022.350000001,-5871829.9400000004,-7482994.6100000003,null,null,null,"Guelph Hydro Electric Systems Inc. 4375"]
["Guelph Hydro Electric Systems Inc. 4375","Guelph Hydro Electric Systems Inc.","4375","Sub-account Generation Facility Revenues",0,0,0,null,null,null,"Guelph Hydro Electric Systems Inc. 4375"]
["Guelph Hydro Electric Systems Inc. 4380","Guelph Hydro Electric Systems Inc.","4380","Expenses of Non Rate-Regulated Utility Operations",15619319.32,4377585.37,5148682.08,null,null,null,"Guelph Hydro Electric Systems Inc. 4380"]
["Guelph Hydro Electric Systems Inc. 4380","Guelph Hydro Electric Systems Inc.","4380","Sub-account Generation Facility Expenses",0,0,0,null,null,null,"Guelph Hydro Electric Systems Inc. 4380"]
["Guelph Hydro Electric Systems Inc. 4385","Guelph Hydro Electric Systems Inc.","4385","Non Rate-Regulated Utility Rental Income",0,0,0,null,null,null,"Guelph Hydro Electric Systems Inc. 4385"]
["Guelph Hydro Electric Systems Inc. 4390","Guelph Hydro Electric Systems Inc.","4390","Miscellaneous Non-Operating Income",0,0,0,null,null,null,"Guelph Hydro Electric Systems Inc. 4390"]
["Guelph Hydro Electric Systems Inc. 4395","Guelph Hydro Electric Systems Inc.","4395","Rate-Payer Benefit Including Interest",0,0,0,null,null,null,"Guelph Hydro Electric Systems Inc. 4395"]
["Guelph Hydro Electric Systems Inc. 4398","Guelph Hydro Electric Systems Inc.","4398","Foreign Exchange Gains and Losses, Including Amortization",0,0,0,null,null,null,"Guelph Hydro Electric Systems Inc. 4398"]
["Guelph Hydro Electric Systems Inc. 4405","Guelph Hydro Electric Systems Inc.","4405","Interest and Dividend Income",-289162.12,-340861.69,-580579.35,null,null,null,"Guelph Hydro Electric Systems Inc. 4405"]
["Guelph Hydro Electric Systems Inc. 4410","Guelph Hydro Electric Systems Inc.","4410","Lessor's Net Investment in Finance Lease",0,0,0,null,null,null,"Guelph Hydro Electric Systems Inc. 4410"]
["Guelph Hydro Electric Systems Inc. 4415","Guelph Hydro Electric Systems Inc.","4415","Equity in Earnings of Subsidiary Companies",0,0,0,null,null,null,"Guelph Hydro Electric Systems Inc. 4415"]
["Guelph Hydro Electric Systems Inc. 4420","Guelph Hydro Electric Systems Inc.","4420","Share of Profit or Loss of Joint Venture",0,0,0,null,null,null,"Guelph Hydro Electric Systems Inc. 4420"]
["Guelph Hydro Electric Systems Inc. Total ","Guelph Hydro Electric Systems Inc. Total",null,null,-2924243.87,-3109078.65,-4110837.99,null,null,null,"Guelph Hydro Electric Systems Inc. Total "]
["Haldimand County Hydro Inc. 4082","Haldimand County Hydro Inc.","4082","Retail Services Revenues",-12154.6,null,null,null,null,null,"Haldimand County Hydro Inc. 4082"]
["Haldimand County Hydro Inc. 4084","Haldimand County Hydro Inc.","4084","Service Transaction Requests (STR) Revenues",-184.25,null,null,null,null,null,"Haldimand County Hydro Inc. 4084"]
["Haldimand County Hydro Inc. 4086","Haldimand County Hydro Inc.","4086","SSS Administration Revenue",-41087,null,null,null,null,null,"Haldimand County Hydro Inc. 4086"]
["Haldimand County Hydro Inc. 4090","Haldimand County Hydro Inc.","4090","Electric Services Incidental to Energy Sales",0,null,null,null,null,null,"Haldimand County Hydro Inc. 4090"]
["Haldimand County Hydro Inc. 4205","Haldimand County Hydro Inc.","4205","Interdepartmental Rents",0,null,null,null,null,null,"Haldimand County Hydro Inc. 4205"]
["Haldimand County Hydro Inc. 4210","Haldimand County Hydro Inc.","4210","Rent from Electric Property",-26177.29,null,null,null,null,null,"Haldimand County Hydro Inc. 4210"]
["Haldimand County Hydro Inc. 4215","Haldimand County Hydro Inc.","4215","Other Utility Operating Income",0,null,null,null,null,null,"Haldimand County Hydro Inc. 4215"]
["Haldimand County Hydro Inc. 4220","Haldimand County Hydro Inc.","4220","Other Electric Revenues",0,null,null,null,null,null,"Haldimand County Hydro Inc. 4220"]
["Haldimand County Hydro Inc. 4225","Haldimand County Hydro Inc.","4225","Late Payment Charges",-171485.68,null,null,null,null,null,{"$f":"B1094 & \" \" &C1094","v":"Haldimand County Hydro Inc. 4225"}]
["Haldimand County Hydro Inc. 4230","Haldimand County Hydro Inc.","4230","Sales of Water and Water Power",0,null,null,null,null,null,"Haldimand County Hydro Inc. 4230"]
["Haldimand County Hydro Inc. 4235","Haldimand County Hydro Inc.","4235","Miscellaneous Service Revenues",-73532,null,null,null,null,null,"Haldimand County Hydro Inc. 4235"]
["Haldimand County Hydro Inc. 4240","Haldimand County Hydro Inc.","4240","Provision for Rate Refunds",0,null,null,null,null,null,"Haldimand County Hydro Inc. 4240"]
["Haldimand County Hydro Inc. 4245","Haldimand County Hydro Inc.","4245","Government Assistance Directly Credited to Income",0,null,null,null,null,null,"Haldimand County Hydro Inc. 4245"]
["Haldimand County Hydro Inc. 4305","Haldimand County Hydro Inc.","4305","Regulatory Debits",48865.79,null,null,null,null,null,"Haldimand County Hydro Inc. 4305"]
["Haldimand County Hydro Inc. 4310","Haldimand County Hydro Inc.","4310","Regulatory Credits",0,null,null,null,null,null,"Haldimand County Hydro Inc. 4310"]
["Haldimand County Hydro Inc. 4315","Haldimand County Hydro Inc.","4315","Revenues from Electric Plant Leased to Others",0,null,null,null,null,null,"Haldimand County Hydro Inc. 4315"]
["Haldimand County Hydro Inc. 4320","Haldimand County Hydro Inc.","4320","Expenses of Electric Plant Leased to Others",0,null,null,null,null,null,"Haldimand County Hydro Inc. 4320"]
["Haldimand County Hydro Inc. 4325","Haldimand County Hydro Inc.","4325","Revenues from Merchandise Jobbing, Etc.",-18391.34,null,null,null,null,null,"Haldimand County Hydro Inc. 4325"]
["Haldimand County Hydro Inc. 4330","Haldimand County Hydro Inc.","4330","Costs and Expenses of Merchandising Jobbing, Etc.",0,null,null,null,null,null,"Haldimand County Hydro Inc. 4330"]
["Haldimand County Hydro Inc. 4335","Haldimand County Hydro Inc.","4335","Profits and Losses from Financial Instrument Hedges",0,null,null,null,null,null,"Haldimand County Hydro Inc. 4335"]
["Haldimand County Hydro Inc. 4340","Haldimand County Hydro Inc.","4340","Profits and Losses from Financial Instrument Investments",0,null,null,null,null,null,"Haldimand County Hydro Inc. 4340"]
["Haldimand County Hydro Inc. 4345","Haldimand County Hydro Inc.","4345","Gains from Disposition of Future Use Utility Plant",0,null,null,null,null,null,"Haldimand County Hydro Inc. 4345"]
["Haldimand County Hydro Inc. 4350","Haldimand County Hydro Inc.","4350","Losses from Disposition of Future Use Utility Plant",0,null,null,null,null,null,"Haldimand County Hydro Inc. 4350"]
["Haldimand County Hydro Inc. 4355","Haldimand County Hydro Inc.","4355","Gain on Disposition of Utility and Other Property",-49,null,null,null,null,null,"Haldimand County Hydro Inc. 4355"]
["Haldimand County Hydro Inc. 4360","Haldimand County Hydro Inc.","4360","Loss on Disposition of Utility and Other Property",4308.17,null,null,null,null,null,"Haldimand County Hydro Inc. 4360"]
["Haldimand County Hydro Inc. 4365","Haldimand County Hydro Inc.","4365","Gains from Disposition of Allowances for Emission",0,null,null,null,null,null,"Haldimand County Hydro Inc. 4365"]
["Haldimand County Hydro Inc. 4370","Haldimand County Hydro Inc.","4370","Losses from Disposition of Allowances for Emission",0,null,null,null,null,null,"Haldimand County Hydro Inc. 4370"]
["Haldimand County Hydro Inc. 4375","Haldimand County Hydro Inc.","4375","Revenues from Non-Utility Operations",-84501.85,null,null,null,null,null,"Haldimand County Hydro Inc. 4375"]
["Haldimand County Hydro Inc. 4375","Haldimand County Hydro Inc.","4375","Sub-account Generation Facility Revenues",0,null,null,null,null,null,"Haldimand County Hydro Inc. 4375"]
["Haldimand County Hydro Inc. 4380","Haldimand County Hydro Inc.","4380","Expenses of Non-Utility Operations",7900.1,null,null,null,null,null,"Haldimand County Hydro Inc. 4380"]
["Haldimand County Hydro Inc. 4380","Haldimand County Hydro Inc.","4380","Sub-account Generation Facility Expenses",0,null,null,null,null,null,"Haldimand County Hydro Inc. 4380"]
["Haldimand County Hydro Inc. 4385","Haldimand County Hydro Inc.","4385","Non-Utility Rental Income",0,null,null,null,null,null,"Haldimand County Hydro Inc. 4385"]
["Haldimand County Hydro Inc. 4390","Haldimand County Hydro Inc.","4390","Miscellaneous Non-Operating Income",-73633.740000000005,null,null,null,null,null,"Haldimand County Hydro Inc. 4390"]
["Haldimand County Hydro Inc. 4395","Haldimand County Hydro Inc.","4395","Rate-Payer Benefit Including Interest",0,null,null,null,null,null,"Haldimand County Hydro Inc. 4395"]
["Haldimand County Hydro Inc. 4398","Haldimand County Hydro Inc.","4398","Foreign Exchange Gains and Losses, Including Amortization",0,null,null,null,null,null,"Haldimand County Hydro Inc. 4398"]
["Haldimand County Hydro Inc. 4405","Haldimand County Hydro Inc.","4405","Interest and Dividend Income",-41631.449999999997,null,null,null,null,null,"Haldimand County Hydro Inc. 4405"]
["Haldimand County Hydro Inc. 4415","Haldimand County Hydro Inc.","4415","Equity in Earnings of Subsidiary Companies",0,null,null,null,null,null,"Haldimand County Hydro Inc. 4415"]
["Haldimand County Hydro Inc. Total ","Haldimand County Hydro Inc. Total",null,null,-481754.14,null,null,null,null,null,"Haldimand County Hydro Inc. Total "]
["Halton Hills Hydro Inc. 4082","Halton Hills Hydro Inc.","4082","Retail Services Revenues",-12989.4,-12521.4,-10060.799999999999,-14509.6,-16559,null,"Halton Hills Hydro Inc. 4082"]
["Halton Hills Hydro Inc. 4084","Halton Hills Hydro Inc.","4084","Service Transaction Requests (STR) Revenues",-220,-185.5,-95.5,-139.25,-167,null,"Halton Hills Hydro Inc. 4084"]
["Halton Hills Hydro Inc. 4086","Halton Hills Hydro Inc.","4086","SSS Administration Revenue",-67497.149999999994,-65794.22,-67383.7,-68310.460000000006,-68140.72,null,"Halton Hills Hydro Inc. 4086"]
["Halton Hills Hydro Inc. 4090","Halton Hills Hydro Inc.","4090","Electric Services Incidental to Energy Sales",0,0,0,0,0,null,"Halton Hills Hydro Inc. 4090"]
["Halton Hills Hydro Inc. 4205","Halton Hills Hydro Inc.","4205","Interdepartmental Rents",0,0,0,0,0,null,"Halton Hills Hydro Inc. 4205"]
["Halton Hills Hydro Inc. 4210","Halton Hills Hydro Inc.","4210","Rent from Electric Property",-191536.4,-167839.59,-193924.4,-195051.03,-196674.33,null,"Halton Hills Hydro Inc. 4210"]
["Halton Hills Hydro Inc. 4215","Halton Hills Hydro Inc.","4215","Other Utility Operating Income",0,0,0,0,0,null,"Halton Hills Hydro Inc. 4215"]
["Halton Hills Hydro Inc. 4220","Halton Hills Hydro Inc.","4220","Other Electric Revenues",0,0,0,0,0,null,"Halton Hills Hydro Inc. 4220"]
["Halton Hills Hydro Inc. 4225","Halton Hills Hydro Inc.","4225","Late Payment Charges",-233309.69,-192146.31,-159358.74,-162093.66,-162753.32999999999,null,"Halton Hills Hydro Inc. 4225"]
["Halton Hills Hydro Inc. 4230","Halton Hills Hydro Inc.","4230","Sales of Water and Water Power",0,0,0,0,0,null,"Halton Hills Hydro Inc. 4230"]
["Halton Hills Hydro Inc. 4235","Halton Hills Hydro Inc.","4235","Miscellaneous Service Revenues",-301128.93,-260396.9,-306110.65000000002,-224049.46,-325045.96999999997,null,"Halton Hills Hydro Inc. 4235"]
["Halton Hills Hydro Inc. 4240","Halton Hills Hydro Inc.","4240","Provision for Rate Refunds",0,0,0,0,0,null,"Halton Hills Hydro Inc. 4240"]
["Halton Hills Hydro Inc. 4245","Halton Hills Hydro Inc.","4245","Government and Other Assistance Directly Credited to Income",0,0,0,-329196.08,-350838.23,null,"Halton Hills Hydro Inc. 4245"]
["Halton Hills Hydro Inc. 4305","Halton Hills Hydro Inc.","4305","Regulatory Debits",0,0,0,0,0,null,"Halton Hills Hydro Inc. 4305"]
["Halton Hills Hydro Inc. 4310","Halton Hills Hydro Inc.","4310","Regulatory Credits",0,0,0,0,0,null,"Halton Hills Hydro Inc. 4310"]
["Halton Hills Hydro Inc. 4315","Halton Hills Hydro Inc.","4315","Revenues from Electric Plant Leased to Others",0,0,0,0,0,null,"Halton Hills Hydro Inc. 4315"]
["Halton Hills Hydro Inc. 4320","Halton Hills Hydro Inc.","4320","Expenses of Electric Plant Leased to Others",0,0,0,0,0,null,"Halton Hills Hydro Inc. 4320"]
["Halton Hills Hydro Inc. 4325","Halton Hills Hydro Inc.","4325","Revenues from Merchandise",0,0,0,0,0,null,"Halton Hills Hydro Inc. 4325"]
["Halton Hills Hydro Inc. 4330","Halton Hills Hydro Inc.","4330","Costs and Expenses of Merchandising",0,0,0,0,0,null,"Halton Hills Hydro Inc. 4330"]
["Halton Hills Hydro Inc. 4335","Halton Hills Hydro Inc.","4335","Profits and Losses from Financial Instrument Hedges",0,0,0,0,0,null,"Halton Hills Hydro Inc. 4335"]
["Halton Hills Hydro Inc. 4340","Halton Hills Hydro Inc.","4340","Profits and Losses from Financial Instrument Investments",0,0,0,0,0,null,"Halton Hills Hydro Inc. 4340"]
["Halton Hills Hydro Inc. 4345","Halton Hills Hydro Inc.","4345","Gains from Disposition of Future Use Utility Plant",0,0,0,0,0,null,"Halton Hills Hydro Inc. 4345"]
["Halton Hills Hydro Inc. 4350","Halton Hills Hydro Inc.","4350","Losses from Disposition of Future Use Utility Plant",0,0,0,0,0,null,"Halton Hills Hydro Inc. 4350"]
["Halton Hills Hydro Inc. 4355","Halton Hills Hydro Inc.","4355","Gain on Disposition of Utility and Other Property",-13898.28,-45296.44,-15486.72,-1000,0,null,"Halton Hills Hydro Inc. 4355"]
["Halton Hills Hydro Inc. 4357","Halton Hills Hydro Inc.","4357","Gain from Retirement of Utility and Other Property",0,0,0,0,0,null,"Halton Hills Hydro Inc. 4357"]
["Halton Hills Hydro Inc. 4360","Halton Hills Hydro Inc.","4360","Loss on Disposition of Utility and Other Property",0,0,0,0,0,null,"Halton Hills Hydro Inc. 4360"]
["Halton Hills Hydro Inc. 4362","Halton Hills Hydro Inc.","4362","Loss from Retirement of Utility and Other Property",0,0,0,0,0,null,"Halton Hills Hydro Inc. 4362"]
["Halton Hills Hydro Inc. 4365","Halton Hills Hydro Inc.","4365","Gains from Disposition of Allowances for Emission",0,0,0,0,0,null,"Halton Hills Hydro Inc. 4365"]
["Halton Hills Hydro Inc. 4370","Halton Hills Hydro Inc.","4370","Losses from Disposition of Allowances for Emission",0,0,0,0,0,null,"Halton Hills Hydro Inc. 4370"]
["Halton Hills Hydro Inc. 4375","Halton Hills Hydro Inc.","4375","Revenues from Non Rate-Regulated Utility Operations",-659407.32999999996,-1738744.89,-1219755.1499999999,-1096492.1299999999,-915789.57,null,"Halton Hills Hydro Inc. 4375"]
["Halton Hills Hydro Inc. 4375","Halton Hills Hydro Inc.","4375","Sub-account Generation Facility Revenues",0,0,0,0,0,null,"Halton Hills Hydro Inc. 4375"]
["Halton Hills Hydro Inc. 4380","Halton Hills Hydro Inc.","4380","Expenses of Non Rate-Regulated Utility Operations",631821.43000000005,1488660.14,1129275.72,1042320.75,891136,null,"Halton Hills Hydro Inc. 4380"]
["Halton Hills Hydro Inc. 4380","Halton Hills Hydro Inc.","4380","Sub-account Generation Facility Expenses",0,0,0,0,0,null,"Halton Hills Hydro Inc. 4380"]
["Halton Hills Hydro Inc. 4385","Halton Hills Hydro Inc.","4385","Non Rate-Regulated Utility Rental Income",-56118.61,-35874.26,-38791.43,-39174.959999999999,-37795,null,"Halton Hills Hydro Inc. 4385"]
["Halton Hills Hydro Inc. 4390","Halton Hills Hydro Inc.","4390","Miscellaneous Non-Operating Income",-27941.61,-99157.83,-39227.379999999997,-45401.59,-13912.88,null,{"$f":"B1158 & \" \" &C1158","v":"Halton Hills Hydro Inc. 4390"}]
["Halton Hills Hydro Inc. 4395","Halton Hills Hydro Inc.","4395","Rate-Payer Benefit Including Interest",0,0,0,0,0,null,"Halton Hills Hydro Inc. 4395"]
["Halton Hills Hydro Inc. 4398","Halton Hills Hydro Inc.","4398","Foreign Exchange Gains and Losses, Including Amortization",402.14,-3825.72,-2034.93,812.12,-2173.81,null,"Halton Hills Hydro Inc. 4398"]
["Halton Hills Hydro Inc. 4405","Halton Hills Hydro Inc.","4405","Interest and Dividend Income",-29494.080000000002,-28473.38,-80372.98,-24698.639999999999,-30310.16,null,"Halton Hills Hydro Inc. 4405"]
["Halton Hills Hydro Inc. 4410","Halton Hills Hydro Inc.","4410","Lessor's Net Investment in Finance Lease",0,0,0,0,0,null,"Halton Hills Hydro Inc. 4410"]
["Halton Hills Hydro Inc. 4415","Halton Hills Hydro Inc.","4415","Equity in Earnings of Subsidiary Companies",0,0,0,0,0,null,"Halton Hills Hydro Inc. 4415"]
["Halton Hills Hydro Inc. 4420","Halton Hills Hydro Inc.","4420","Share of Profit or Loss of Joint Venture",0,0,0,0,0,null,"Halton Hills Hydro Inc. 4420"]
["Halton Hills Hydro Inc. Total ","Halton Hills Hydro Inc. Total",null,null,-961317.91,-1161596.3,-1003326.66,-1156983.99,-1229024,null,"Halton Hills Hydro Inc. Total "]
["Hearst Power Distribution Company Limited 4082","Hearst Power Distribution Company Limited","4082","Retail Services Revenues",-4156.8,-4146.1899999999996,-3334.42,-5624.64,-6783.71,null,"Hearst Power Distribution Company Limited 4082"]
["Hearst Power Distribution Company Limited 4084","Hearst Power Distribution Company Limited","4084","Service Transaction Requests (STR) Revenues",-12.75,-6,-14.25,-3.25,-18.3,null,"Hearst Power Distribution Company Limited 4084"]
["Hearst Power Distribution Company Limited 4086","Hearst Power Distribution Company Limited","4086","SSS Administration Revenue",-8056.75,-8077.71,-8207.49,-7581.75,-8950.25,null,"Hearst Power Distribution Company Limited 4086"]
["Hearst Power Distribution Company Limited 4090","Hearst Power Distribution Company Limited","4090","Electric Services Incidental to Energy Sales",0,0,0,0,0,null,"Hearst Power Distribution Company Limited 4090"]
["Hearst Power Distribution Company Limited 4205","Hearst Power Distribution Company Limited","4205","Interdepartmental Rents",0,0,0,0,0,null,"Hearst Power Distribution Company Limited 4205"]
["Hearst Power Distribution Company Limited 4210","Hearst Power Distribution Company Limited","4210","Rent from Electric Property",-29006.73,-29006.73,-37045.480000000003,-40214.46,-33882.6,null,"Hearst Power Distribution Company Limited 4210"]
["Hearst Power Distribution Company Limited 4215","Hearst Power Distribution Company Limited","4215","Other Utility Operating Income",0,0,0,0,0,null,"Hearst Power Distribution Company Limited 4215"]
["Hearst Power Distribution Company Limited 4220","Hearst Power Distribution Company Limited","4220","Other Electric Revenues",0,0,0,0,0,null,"Hearst Power Distribution Company Limited 4220"]
["Hearst Power Distribution Company Limited 4225","Hearst Power Distribution Company Limited","4225","Late Payment Charges",-12427.19,-11678.5,-12107.8,-12807.26,-13234.33,null,"Hearst Power Distribution Company Limited 4225"]
["Hearst Power Distribution Company Limited 4230","Hearst Power Distribution Company Limited","4230","Sales of Water and Water Power",0,0,0,0,0,null,"Hearst Power Distribution Company Limited 4230"]
["Hearst Power Distribution Company Limited 4235","Hearst Power Distribution Company Limited","4235","Miscellaneous Service Revenues",-16365,-14085,-14355,-9110,-8060,null,"Hearst Power Distribution Company Limited 4235"]
["Hearst Power Distribution Company Limited 4240","Hearst Power Distribution Company Limited","4240","Provision for Rate Refunds",0,0,0,0,0,null,"Hearst Power Distribution Company Limited 4240"]
["Hearst Power Distribution Company Limited 4245","Hearst Power Distribution Company Limited","4245","Government and Other Assistance Directly Credited to Income",-958.78,-1474.12,-2045.93,-2681.69,-2919.66,null,"Hearst Power Distribution Company Limited 4245"]
["Hearst Power Distribution Company Limited 4305","Hearst Power Distribution Company Limited","4305","Regulatory Debits",37088,37087.99,0,0,0,null,"Hearst Power Distribution Company Limited 4305"]
["Hearst Power Distribution Company Limited 4310","Hearst Power Distribution Company Limited","4310","Regulatory Credits",0,0,0,0,0,null,"Hearst Power Distribution Company Limited 4310"]
["Hearst Power Distribution Company Limited 4315","Hearst Power Distribution Company Limited","4315","Revenues from Electric Plant Leased to Others",0,0,0,0,0,null,"Hearst Power Distribution Company Limited 4315"]
["Hearst Power Distribution Company Limited 4320","Hearst Power Distribution Company Limited","4320","Expenses of Electric Plant Leased to Others",0,0,0,0,0,null,"Hearst Power Distribution Company Limited 4320"]
["Hearst Power Distribution Company Limited 4325","Hearst Power Distribution Company Limited","4325","Revenues from Merchandise",-126941.58,-124494.67,-137241.24,-93937.35,-87763.37,null,"Hearst Power Distribution Company Limited 4325"]
["Hearst Power Distribution Company Limited 4330","Hearst Power Distribution Company Limited","4330","Costs and Expenses of Merchandising",66176.17,77211.48,82330.27,48070.13,50555.199999999997,null,"Hearst Power Distribution Company Limited 4330"]
["Hearst Power Distribution Company Limited 4335","Hearst Power Distribution Company Limited","4335","Profits and Losses from Financial Instrument Hedges",0,0,0,0,0,null,"Hearst Power Distribution Company Limited 4335"]
["Hearst Power Distribution Company Limited 4340","Hearst Power Distribution Company Limited","4340","Profits and Losses from Financial Instrument Investments",2286.7600000000002,13219.8,56168.65,-4546.08,-8055.09,null,"Hearst Power Distribution Company Limited 4340"]
["Hearst Power Distribution Company Limited 4345","Hearst Power Distribution Company Limited","4345","Gains from Disposition of Future Use Utility Plant",0,0,0,0,0,null,"Hearst Power Distribution Company Limited 4345"]
["Hearst Power Distribution Company Limited 4350","Hearst Power Distribution Company Limited","4350","Losses from Disposition of Future Use Utility Plant",0,0,0,0,0,null,"Hearst Power Distribution Company Limited 4350"]
["Hearst Power Distribution Company Limited 4355","Hearst Power Distribution Company Limited","4355","Gain on Disposition of Utility and Other Property",0,-17101,-34739.61,0,0,null,"Hearst Power Distribution Company Limited 4355"]
["Hearst Power Distribution Company Limited 4357","Hearst Power Distribution Company Limited","4357","Gain from Retirement of Utility and Other Property",0,0,0,0,0,null,"Hearst Power Distribution Company Limited 4357"]
["Hearst Power Distribution Company Limited 4360","Hearst Power Distribution Company Limited","4360","Loss on Disposition of Utility and Other Property",832.41,4495.5,333.04,736.8,805.37,null,"Hearst Power Distribution Company Limited 4360"]
["Hearst Power Distribution Company Limited 4362","Hearst Power Distribution Company Limited","4362","Loss from Retirement of Utility and Other Property",0,0,0,0,0,null,"Hearst Power Distribution Company Limited 4362"]
["Hearst Power Distribution Company Limited 4365","Hearst Power Distribution Company Limited","4365","Gains from Disposition of Allowances for Emission",0,0,0,0,0,null,"Hearst Power Distribution Company Limited 4365"]
["Hearst Power Distribution Company Limited 4370","Hearst Power Distribution Company Limited","4370","Losses from Disposition of Allowances for Emission",0,0,0,0,0,null,"Hearst Power Distribution Company Limited 4370"]
["Hearst Power Distribution Company Limited 4375","Hearst Power Distribution Company Limited","4375","Revenues from Non Rate-Regulated Utility Operations",-104479.29,-97121.64,-489411.3,-832845.79,-931553.56,null,"Hearst Power Distribution Company Limited 4375"]
["Hearst Power Distribution Company Limited 4375","Hearst Power Distribution Company Limited","4375","Sub-account Generation Facility Revenues",0,0,0,0,0,null,"Hearst Power Distribution Company Limited 4375"]
["Hearst Power Distribution Company Limited 4380","Hearst Power Distribution Company Limited","4380","Expenses of Non Rate-Regulated Utility Operations",95940.63,91079.79,380889.72,741367.15,859840.63,null,"Hearst Power Distribution Company Limited 4380"]
["Hearst Power Distribution Company Limited 4380","Hearst Power Distribution Company Limited","4380","Sub-account Generation Facility Expenses",0,0,0,0,0,null,"Hearst Power Distribution Company Limited 4380"]
["Hearst Power Distribution Company Limited 4385","Hearst Power Distribution Company Limited","4385","Non Rate-Regulated Utility Rental Income",0,0,0,0,0,null,"Hearst Power Distribution Company Limited 4385"]
["Hearst Power Distribution Company Limited 4390","Hearst Power Distribution Company Limited","4390","Miscellaneous Non-Operating Income",0,0,0,0,-223.23,null,"Hearst Power Distribution Company Limited 4390"]
["Hearst Power Distribution Company Limited 4395","Hearst Power Distribution Company Limited","4395","Rate-Payer Benefit Including Interest",0,0,0,0,0,null,"Hearst Power Distribution Company Limited 4395"]
["Hearst Power Distribution Company Limited 4398","Hearst Power Distribution Company Limited","4398","Foreign Exchange Gains and Losses, Including Amortization",0,0,0,0,0,null,"Hearst Power Distribution Company Limited 4398"]
["Hearst Power Distribution Company Limited 4405","Hearst Power Distribution Company Limited","4405","Interest and Dividend Income",-82977.929999999993,-83465.14,-70363.33,-80552.06,-63024.91,null,"Hearst Power Distribution Company Limited 4405"]
["Hearst Power Distribution Company Limited 4410","Hearst Power Distribution Company Limited","4410","Lessor's Net Investment in Finance Lease",0,0,0,0,0,null,"Hearst Power Distribution Company Limited 4410"]
["Hearst Power Distribution Company Limited 4415","Hearst Power Distribution Company Limited","4415","Equity in Earnings of Subsidiary Companies",0,0,0,0,0,null,"Hearst Power Distribution Company Limited 4415"]
["Hearst Power Distribution Company Limited 4420","Hearst Power Distribution Company Limited","4420","Share of Profit or Loss of Joint Venture",0,0,0,0,0,null,"Hearst Power Distribution Company Limited 4420"]
["Hearst Power Distribution Company Limited Total ","Hearst Power Distribution Company Limited Total",null,null,-183058.83,-167562.14000000001,-289144.17,-299730.25,-253267.81,null,"Hearst Power Distribution Company Limited Total "]
["Horizon Utilities Corporation 4082","Horizon Utilities Corporation","4082","Retail Services Revenues",-151392.79999999999,null,null,null,null,null,"Horizon Utilities Corporation 4082"]
["Horizon Utilities Corporation 4084","Horizon Utilities Corporation","4084","Service Transaction Requests (STR) Revenues",0,null,null,null,null,null,"Horizon Utilities Corporation 4084"]
["Horizon Utilities Corporation 4086","Horizon Utilities Corporation","4086","SSS Administration Revenue",0,null,null,null,null,null,"Horizon Utilities Corporation 4086"]
["Horizon Utilities Corporation 4090","Horizon Utilities Corporation","4090","Electric Services Incidental to Energy Sales",0,null,null,null,null,null,"Horizon Utilities Corporation 4090"]
["Horizon Utilities Corporation 4205","Horizon Utilities Corporation","4205","Interdepartmental Rents",0,null,null,null,null,null,"Horizon Utilities Corporation 4205"]
["Horizon Utilities Corporation 4210","Horizon Utilities Corporation","4210","Rent from Electric Property",-1528998.53,null,null,null,null,null,"Horizon Utilities Corporation 4210"]
["Horizon Utilities Corporation 4215","Horizon Utilities Corporation","4215","Other Utility Operating Income",0,null,null,null,null,null,"Horizon Utilities Corporation 4215"]
["Horizon Utilities Corporation 4220","Horizon Utilities Corporation","4220","Other Electric Revenues",-16800,null,null,null,null,null,"Horizon Utilities Corporation 4220"]
["Horizon Utilities Corporation 4225","Horizon Utilities Corporation","4225","Late Payment Charges",-967718.11,null,null,null,null,null,"Horizon Utilities Corporation 4225"]
["Horizon Utilities Corporation 4230","Horizon Utilities Corporation","4230","Sales of Water and Water Power",0,null,null,null,null,null,"Horizon Utilities Corporation 4230"]
["Horizon Utilities Corporation 4235","Horizon Utilities Corporation","4235","Miscellaneous Service Revenues",-1429380.03,null,null,null,null,null,"Horizon Utilities Corporation 4235"]
["Horizon Utilities Corporation 4240","Horizon Utilities Corporation","4240","Provision for Rate Refunds",0,null,null,null,null,null,"Horizon Utilities Corporation 4240"]
["Horizon Utilities Corporation 4245","Horizon Utilities Corporation","4245","Government and Other Assistance Directly Credited to Income",-933365.86,null,null,null,null,null,"Horizon Utilities Corporation 4245"]
["Horizon Utilities Corporation 4305","Horizon Utilities Corporation","4305","Regulatory Debits",0,null,null,null,null,null,"Horizon Utilities Corporation 4305"]
["Horizon Utilities Corporation 4310","Horizon Utilities Corporation","4310","Regulatory Credits",-83658.25,null,null,null,null,null,{"$f":"B1222 & \" \" &C1222","v":"Horizon Utilities Corporation 4310"}]
["Horizon Utilities Corporation 4315","Horizon Utilities Corporation","4315","Revenues from Electric Plant Leased to Others",0,null,null,null,null,null,"Horizon Utilities Corporation 4315"]
["Horizon Utilities Corporation 4320","Horizon Utilities Corporation","4320","Expenses of Electric Plant Leased to Others",0,null,null,null,null,null,"Horizon Utilities Corporation 4320"]
["Horizon Utilities Corporation 4325","Horizon Utilities Corporation","4325","Revenues from Merchandise",-400502.59,null,null,null,null,null,"Horizon Utilities Corporation 4325"]
["Horizon Utilities Corporation 4330","Horizon Utilities Corporation","4330","Costs and Expenses of Merchandising",0,null,null,null,null,null,"Horizon Utilities Corporation 4330"]
["Horizon Utilities Corporation 4335","Horizon Utilities Corporation","4335","Profits and Losses from Financial Instrument Hedges",0,null,null,null,null,null,"Horizon Utilities Corporation 4335"]
["Horizon Utilities Corporation 4340","Horizon Utilities Corporation","4340","Profits and Losses from Financial Instrument Investments",0,null,null,null,null,null,"Horizon Utilities Corporation 4340"]
["Horizon Utilities Corporation 4345","Horizon Utilities Corporation","4345","Gains from Disposition of Future Use Utility Plant",0,null,null,null,null,null,"Horizon Utilities Corporation 4345"]
["Horizon Utilities Corporation 4350","Horizon Utilities Corporation","4350","Losses from Disposition of Future Use Utility Plant",0,null,null,null,null,null,"Horizon Utilities Corporation 4350"]
["Horizon Utilities Corporation 4355","Horizon Utilities Corporation","4355","Gain on Disposition of Utility and Other Property",-280768.84999999998,null,null,null,null,null,"Horizon Utilities Corporation 4355"]
["Horizon Utilities Corporation 4357","Horizon Utilities Corporation","4357","Gain from Retirement of Utility and Other Property",0,null,null,null,null,null,"Horizon Utilities Corporation 4357"]
["Horizon Utilities Corporation 4360","Horizon Utilities Corporation","4360","Loss on Disposition of Utility and Other Property",0,null,null,null,null,null,"Horizon Utilities Corporation 4360"]
["Horizon Utilities Corporation 4362","Horizon Utilities Corporation","4362","Loss from Retirement of Utility and Other Property",2395714.15,null,null,null,null,null,"Horizon Utilities Corporation 4362"]
["Horizon Utilities Corporation 4365","Horizon Utilities Corporation","4365","Gains from Disposition of Allowances for Emission",0,null,null,null,null,null,"Horizon Utilities Corporation 4365"]
["Horizon Utilities Corporation 4370","Horizon Utilities Corporation","4370","Losses from Disposition of Allowances for Emission",0,null,null,null,null,null,"Horizon Utilities Corporation 4370"]
["Horizon Utilities Corporation 4375","Horizon Utilities Corporation","4375","Revenues from Non Rate-Regulated Utility Operations",-440900.64,null,null,null,null,null,"Horizon Utilities Corporation 4375"]
["Horizon Utilities Corporation 4375","Horizon Utilities Corporation","4375","Sub-account Generation Facility Revenues",0,null,null,null,null,null,"Horizon Utilities Corporation 4375"]
["Horizon Utilities Corporation 4380","Horizon Utilities Corporation","4380","Expenses of Non Rate-Regulated Utility Operations",0,null,null,null,null,null,"Horizon Utilities Corporation 4380"]
["Horizon Utilities Corporation 4380","Horizon Utilities Corporation","4380","Sub-account Generation Facility Expenses",0,null,null,null,null,null,"Horizon Utilities Corporation 4380"]
["Horizon Utilities Corporation 4385","Horizon Utilities Corporation","4385","Non Rate-Regulated Utility Rental Income",0,null,null,null,null,null,"Horizon Utilities Corporation 4385"]
["Horizon Utilities Corporation 4390","Horizon Utilities Corporation","4390","Miscellaneous Non-Operating Income",-639918.82999999996,null,null,null,null,null,"Horizon Utilities Corporation 4390"]
["Horizon Utilities Corporation 4395","Horizon Utilities Corporation","4395","Rate-Payer Benefit Including Interest",0,null,null,null,null,null,"Horizon Utilities Corporation 4395"]
["Horizon Utilities Corporation 4398","Horizon Utilities Corporation","4398","Foreign Exchange Gains and Losses, Including Amortization",0,null,null,null,null,null,"Horizon Utilities Corporation 4398"]
["Horizon Utilities Corporation 4405","Horizon Utilities Corporation","4405","Interest and Dividend Income",-281411.34000000003,null,null,null,null,null,"Horizon Utilities Corporation 4405"]
["Horizon Utilities Corporation 4410","Horizon Utilities Corporation","4410","Lessor's Net Investment in Finance Lease",0,null,null,null,null,null,"Horizon Utilities Corporation 4410"]
["Horizon Utilities Corporation 4415","Horizon Utilities Corporation","4415","Equity in Earnings of Subsidiary Companies",0,null,null,null,null,null,"Horizon Utilities Corporation 4415"]
["Horizon Utilities Corporation 4420","Horizon Utilities Corporation","4420","Share of Profit or Loss of Joint Venture",0,null,null,null,null,null,"Horizon Utilities Corporation 4420"]
["Horizon Utilities Corporation Total ","Horizon Utilities Corporation Total",null,null,-4759101.68,null,null,null,null,null,"Horizon Utilities Corporation Total "]
["Hydro 2000 Inc. 4082","Hydro 2000 Inc.","4082","Retail Services Revenues",-2080,-5760.93,-5758.06,-3563.2,-3345.78,null,"Hydro 2000 Inc. 4082"]
["Hydro 2000 Inc. 4084","Hydro 2000 Inc.","4084","Service Transaction Requests (STR) Revenues",-1.5,-0.25,0,-1,-0.51,null,"Hydro 2000 Inc. 4084"]
["Hydro 2000 Inc. 4086","Hydro 2000 Inc.","4086","SSS Administration Revenue",-3631.16,0,0,-3680.96,-3741.8,null,"Hydro 2000 Inc. 4086"]
["Hydro 2000 Inc. 4090","Hydro 2000 Inc.","4090","Electric Services Incidental to Energy Sales",0,0,0,0,0,null,"Hydro 2000 Inc. 4090"]
["Hydro 2000 Inc. 4205","Hydro 2000 Inc.","4205","Interdepartmental Rents",0,0,0,0,0,null,"Hydro 2000 Inc. 4205"]
["Hydro 2000 Inc. 4210","Hydro 2000 Inc.","4210","Rent from Electric Property",-4872.3,-5209.95,-18984.91,-15856.92,-15076.14,null,"Hydro 2000 Inc. 4210"]
["Hydro 2000 Inc. 4215","Hydro 2000 Inc.","4215","Other Utility Operating Income",0,0,0,0,0,null,"Hydro 2000 Inc. 4215"]
["Hydro 2000 Inc. 4220","Hydro 2000 Inc.","4220","Other Electric Revenues",0,0,0,-19365.05,0,null,"Hydro 2000 Inc. 4220"]
["Hydro 2000 Inc. 4225","Hydro 2000 Inc.","4225","Late Payment Charges",-10384.85,-10604.1,-7952.79,-5452.84,-6178.69,null,"Hydro 2000 Inc. 4225"]
["Hydro 2000 Inc. 4230","Hydro 2000 Inc.","4230","Sales of Water and Water Power",0,0,0,0,0,null,"Hydro 2000 Inc. 4230"]
["Hydro 2000 Inc. 4235","Hydro 2000 Inc.","4235","Miscellaneous Service Revenues",-15136.86,-7243.1,-19683.22,-5306.66,-3637.2,null,"Hydro 2000 Inc. 4235"]
["Hydro 2000 Inc. 4240","Hydro 2000 Inc.","4240","Provision for Rate Refunds",0,0,0,0,0,null,"Hydro 2000 Inc. 4240"]
["Hydro 2000 Inc. 4245","Hydro 2000 Inc.","4245","Government and Other Assistance Directly Credited to Income",0,0,0,0,0,null,"Hydro 2000 Inc. 4245"]
["Hydro 2000 Inc. 4305","Hydro 2000 Inc.","4305","Regulatory Debits",0,0,0,0,0,null,"Hydro 2000 Inc. 4305"]
["Hydro 2000 Inc. 4310","Hydro 2000 Inc.","4310","Regulatory Credits",0,0,0,0,0,null,"Hydro 2000 Inc. 4310"]
["Hydro 2000 Inc. 4315","Hydro 2000 Inc.","4315","Revenues from Electric Plant Leased to Others",0,0,0,0,0,null,"Hydro 2000 Inc. 4315"]
["Hydro 2000 Inc. 4320","Hydro 2000 Inc.","4320","Expenses of Electric Plant Leased to Others",0,0,0,0,0,null,"Hydro 2000 Inc. 4320"]
["Hydro 2000 Inc. 4325","Hydro 2000 Inc.","4325","Revenues from Merchandise",-2400,0,0,-7299.26,-15729.75,null,"Hydro 2000 Inc. 4325"]
["Hydro 2000 Inc. 4330","Hydro 2000 Inc.","4330","Costs and Expenses of Merchandising",2750,0,0,7299.25,15729.75,null,"Hydro 2000 Inc. 4330"]
["Hydro 2000 Inc. 4335","Hydro 2000 Inc.","4335","Profits and Losses from Financial Instrument Hedges",0,0,0,0,0,null,"Hydro 2000 Inc. 4335"]
["Hydro 2000 Inc. 4340","Hydro 2000 Inc.","4340","Profits and Losses from Financial Instrument Investments",0,0,0,0,0,null,"Hydro 2000 Inc. 4340"]
["Hydro 2000 Inc. 4345","Hydro 2000 Inc.","4345","Gains from Disposition of Future Use Utility Plant",0,0,0,0,0,null,"Hydro 2000 Inc. 4345"]
["Hydro 2000 Inc. 4350","Hydro 2000 Inc.","4350","Losses from Disposition of Future Use Utility Plant",0,0,0,0,0,null,"Hydro 2000 Inc. 4350"]
["Hydro 2000 Inc. 4355","Hydro 2000 Inc.","4355","Gain on Disposition of Utility and Other Property",0,0,0,0,0,null,"Hydro 2000 Inc. 4355"]
["Hydro 2000 Inc. 4357","Hydro 2000 Inc.","4357","Gain from Retirement of Utility and Other Property",0,0,0,0,0,null,"Hydro 2000 Inc. 4357"]
["Hydro 2000 Inc. 4360","Hydro 2000 Inc.","4360","Loss on Disposition of Utility and Other Property",6441.51,1778.7,5517.07,8081.02,1992.1,null,"Hydro 2000 Inc. 4360"]
["Hydro 2000 Inc. 4362","Hydro 2000 Inc.","4362","Loss from Retirement of Utility and Other Property",0,0,0,0,0,null,"Hydro 2000 Inc. 4362"]
["Hydro 2000 Inc. 4365","Hydro 2000 Inc.","4365","Gains from Disposition of Allowances for Emission",0,0,0,0,0,null,"Hydro 2000 Inc. 4365"]
["Hydro 2000 Inc. 4370","Hydro 2000 Inc.","4370","Losses from Disposition of Allowances for Emission",0,0,0,0,0,null,"Hydro 2000 Inc. 4370"]
["Hydro 2000 Inc. 4375","Hydro 2000 Inc.","4375","Revenues from Non Rate-Regulated Utility Operations",-41393.620000000003,-19744.88,-29687.49,-28135.61,-3584.5,null,"Hydro 2000 Inc. 4375"]
["Hydro 2000 Inc. 4375","Hydro 2000 Inc.","4375","Sub-account Generation Facility Revenues",0,0,0,0,0,null,"Hydro 2000 Inc. 4375"]
["Hydro 2000 Inc. 4380","Hydro 2000 Inc.","4380","Expenses of Non Rate-Regulated Utility Operations",31456.01,18531.87,29844.93,28135.61,3584.5,null,"Hydro 2000 Inc. 4380"]
["Hydro 2000 Inc. 4380","Hydro 2000 Inc.","4380","Sub-account Generation Facility Expenses",0,0,0,0,0,null,"Hydro 2000 Inc. 4380"]
["Hydro 2000 Inc. 4385","Hydro 2000 Inc.","4385","Non Rate-Regulated Utility Rental Income",-6538.5,-5874.02,1460.98,-2000,0,null,"Hydro 2000 Inc. 4385"]
["Hydro 2000 Inc. 4390","Hydro 2000 Inc.","4390","Miscellaneous Non-Operating Income",-2135.42,0,-597.5,-1856.66,-13853.46,null,"Hydro 2000 Inc. 4390"]
["Hydro 2000 Inc. 4395","Hydro 2000 Inc.","4395","Rate-Payer Benefit Including Interest",0,0,0,0,0,null,"Hydro 2000 Inc. 4395"]
["Hydro 2000 Inc. 4398","Hydro 2000 Inc.","4398","Foreign Exchange Gains and Losses, Including Amortization",0,0,0,0,0,null,{"$f":"B1286 & \" \" &C1286","v":"Hydro 2000 Inc. 4398"}]
["Hydro 2000 Inc. 4405","Hydro 2000 Inc.","4405","Interest and Dividend Income",-6584.16,-7993.42,-13059.33,-17107.36,-7434.84,null,"Hydro 2000 Inc. 4405"]
["Hydro 2000 Inc. 4410","Hydro 2000 Inc.","4410","Lessor's Net Investment in Finance Lease",0,0,0,0,0,null,"Hydro 2000 Inc. 4410"]
["Hydro 2000 Inc. 4415","Hydro 2000 Inc.","4415","Equity in Earnings of Subsidiary Companies",0,0,0,0,0,null,"Hydro 2000 Inc. 4415"]
["Hydro 2000 Inc. 4420","Hydro 2000 Inc.","4420","Share of Profit or Loss of Joint Venture",0,0,0,0,0,null,"Hydro 2000 Inc. 4420"]
["Hydro 2000 Inc. Total ","Hydro 2000 Inc. Total",null,null,-54510.85,-42120.08,-58900.32,-66109.64,-51276.32,null,"Hydro 2000 Inc. Total "]
["Hydro Hawkesbury Inc. 4082","Hydro Hawkesbury Inc.","4082","Retail Services Revenues",0,0,0,0,0,null,"Hydro Hawkesbury Inc. 4082"]
["Hydro Hawkesbury Inc. 4084","Hydro Hawkesbury Inc.","4084","Service Transaction Requests (STR) Revenues",0,0,0,0,0,null,"Hydro Hawkesbury Inc. 4084"]
["Hydro Hawkesbury Inc. 4086","Hydro Hawkesbury Inc.","4086","SSS Administration Revenue",0,0,0,0,0,null,"Hydro Hawkesbury Inc. 4086"]
["Hydro Hawkesbury Inc. 4090","Hydro Hawkesbury Inc.","4090","Electric Services Incidental to Energy Sales",0,0,0,0,0,null,"Hydro Hawkesbury Inc. 4090"]
["Hydro Hawkesbury Inc. 4205","Hydro Hawkesbury Inc.","4205","Interdepartmental Rents",0,0,0,0,0,null,"Hydro Hawkesbury Inc. 4205"]
["Hydro Hawkesbury Inc. 4210","Hydro Hawkesbury Inc.","4210","Rent from Electric Property",-26790.7,-35114.99,-44902.74,-17387.849999999999,-14179.74,null,"Hydro Hawkesbury Inc. 4210"]
["Hydro Hawkesbury Inc. 4215","Hydro Hawkesbury Inc.","4215","Other Utility Operating Income",0,0,0,0,0,null,"Hydro Hawkesbury Inc. 4215"]
["Hydro Hawkesbury Inc. 4220","Hydro Hawkesbury Inc.","4220","Other Electric Revenues",0,0,0,0,0,null,"Hydro Hawkesbury Inc. 4220"]
["Hydro Hawkesbury Inc. 4225","Hydro Hawkesbury Inc.","4225","Late Payment Charges",-29444.89,-28240.78,-22900.959999999999,-26691.61,-30972.240000000002,null,"Hydro Hawkesbury Inc. 4225"]
["Hydro Hawkesbury Inc. 4230","Hydro Hawkesbury Inc.","4230","Sales of Water and Water Power",0,0,0,0,0,null,"Hydro Hawkesbury Inc. 4230"]
["Hydro Hawkesbury Inc. 4235","Hydro Hawkesbury Inc.","4235","Miscellaneous Service Revenues",-64302.879999999997,-57912.54,-80771.09,-49033.95,-63277.42,null,"Hydro Hawkesbury Inc. 4235"]
["Hydro Hawkesbury Inc. 4240","Hydro Hawkesbury Inc.","4240","Provision for Rate Refunds",0,0,0,0,0,null,"Hydro Hawkesbury Inc. 4240"]
["Hydro Hawkesbury Inc. 4245","Hydro Hawkesbury Inc.","4245","Government and Other Assistance Directly Credited to Income",0,0,0,0,0,null,"Hydro Hawkesbury Inc. 4245"]
["Hydro Hawkesbury Inc. 4305","Hydro Hawkesbury Inc.","4305","Regulatory Debits",0,0,0,0,0,null,"Hydro Hawkesbury Inc. 4305"]
["Hydro Hawkesbury Inc. 4310","Hydro Hawkesbury Inc.","4310","Regulatory Credits",0,0,0,0,0,null,"Hydro Hawkesbury Inc. 4310"]
["Hydro Hawkesbury Inc. 4315","Hydro Hawkesbury Inc.","4315","Revenues from Electric Plant Leased to Others",0,0,0,0,0,null,"Hydro Hawkesbury Inc. 4315"]
["Hydro Hawkesbury Inc. 4320","Hydro Hawkesbury Inc.","4320","Expenses of Electric Plant Leased to Others",0,0,0,0,0,null,"Hydro Hawkesbury Inc. 4320"]
["Hydro Hawkesbury Inc. 4325","Hydro Hawkesbury Inc.","4325","Revenues from Merchandise",-33006.730000000003,-48680.21,-58353.73,-43643.96,-200685.77,null,"Hydro Hawkesbury Inc. 4325"]
["Hydro Hawkesbury Inc. 4330","Hydro Hawkesbury Inc.","4330","Costs and Expenses of Merchandising",26809.86,37870.47,36236.92,35458.75,171728.69,null,"Hydro Hawkesbury Inc. 4330"]
["Hydro Hawkesbury Inc. 4335","Hydro Hawkesbury Inc.","4335","Profits and Losses from Financial Instrument Hedges",0,0,0,0,0,null,"Hydro Hawkesbury Inc. 4335"]
["Hydro Hawkesbury Inc. 4340","Hydro Hawkesbury Inc.","4340","Profits and Losses from Financial Instrument Investments",0,0,0,0,0,null,"Hydro Hawkesbury Inc. 4340"]
["Hydro Hawkesbury Inc. 4345","Hydro Hawkesbury Inc.","4345","Gains from Disposition of Future Use Utility Plant",0,0,0,0,0,null,"Hydro Hawkesbury Inc. 4345"]
["Hydro Hawkesbury Inc. 4350","Hydro Hawkesbury Inc.","4350","Losses from Disposition of Future Use Utility Plant",0,0,0,0,0,null,"Hydro Hawkesbury Inc. 4350"]
["Hydro Hawkesbury Inc. 4355","Hydro Hawkesbury Inc.","4355","Gain on Disposition of Utility and Other Property",0,0,-46234,0,0,null,"Hydro Hawkesbury Inc. 4355"]
["Hydro Hawkesbury Inc. 4357","Hydro Hawkesbury Inc.","4357","Gain from Retirement of Utility and Other Property",0,0,0,0,0,null,"Hydro Hawkesbury Inc. 4357"]
["Hydro Hawkesbury Inc. 4360","Hydro Hawkesbury Inc.","4360","Loss on Disposition of Utility and Other Property",6186.81,0,-0.02,3982.91,486.72,null,"Hydro Hawkesbury Inc. 4360"]
["Hydro Hawkesbury Inc. 4362","Hydro Hawkesbury Inc.","4362","Loss from Retirement of Utility and Other Property",0,0,0,0,0,null,"Hydro Hawkesbury Inc. 4362"]
["Hydro Hawkesbury Inc. 4365","Hydro Hawkesbury Inc.","4365","Gains from Disposition of Allowances for Emission",0,0,0,0,0,null,"Hydro Hawkesbury Inc. 4365"]
["Hydro Hawkesbury Inc. 4370","Hydro Hawkesbury Inc.","4370","Losses from Disposition of Allowances for Emission",0,0,0,0,0,null,"Hydro Hawkesbury Inc. 4370"]
["Hydro Hawkesbury Inc. 4375","Hydro Hawkesbury Inc.","4375","Revenues from Non Rate-Regulated Utility Operations",-307341.57,-144477.79,-223374.54,-103553.27,-2412.9499999999998,null,"Hydro Hawkesbury Inc. 4375"]
["Hydro Hawkesbury Inc. 4375","Hydro Hawkesbury Inc.","4375","Sub-account Generation Facility Revenues",0,0,0,0,0,null,"Hydro Hawkesbury Inc. 4375"]
["Hydro Hawkesbury Inc. 4380","Hydro Hawkesbury Inc.","4380","Expenses of Non Rate-Regulated Utility Operations",223797.72,150145.78,219271.44,142015.29999999999,7865,null,"Hydro Hawkesbury Inc. 4380"]
["Hydro Hawkesbury Inc. 4380","Hydro Hawkesbury Inc.","4380","Sub-account Generation Facility Expenses",0,0,0,0,0,null,"Hydro Hawkesbury Inc. 4380"]
["Hydro Hawkesbury Inc. 4385","Hydro Hawkesbury Inc.","4385","Non Rate-Regulated Utility Rental Income",0,0,0,0,0,null,"Hydro Hawkesbury Inc. 4385"]
["Hydro Hawkesbury Inc. 4390","Hydro Hawkesbury Inc.","4390","Miscellaneous Non-Operating Income",-1269.3800000000001,-1074.79,-97.34,-44.25,0,null,"Hydro Hawkesbury Inc. 4390"]
["Hydro Hawkesbury Inc. 4395","Hydro Hawkesbury Inc.","4395","Rate-Payer Benefit Including Interest",0,0,0,0,0,null,"Hydro Hawkesbury Inc. 4395"]
["Hydro Hawkesbury Inc. 4398","Hydro Hawkesbury Inc.","4398","Foreign Exchange Gains and Losses, Including Amortization",0,0,0,0,0,null,"Hydro Hawkesbury Inc. 4398"]
["Hydro Hawkesbury Inc. 4405","Hydro Hawkesbury Inc.","4405","Interest and Dividend Income",-8175.3,-26875.42,-32373.09,-40466.83,-12574.93,null,"Hydro Hawkesbury Inc. 4405"]
["Hydro Hawkesbury Inc. 4410","Hydro Hawkesbury Inc.","4410","Lessor's Net Investment in Finance Lease",0,0,0,0,0,null,"Hydro Hawkesbury Inc. 4410"]
["Hydro Hawkesbury Inc. 4415","Hydro Hawkesbury Inc.","4415","Equity in Earnings of Subsidiary Companies",0,0,0,0,0,null,"Hydro Hawkesbury Inc. 4415"]
["Hydro Hawkesbury Inc. 4420","Hydro Hawkesbury Inc.","4420","Share of Profit or Loss of Joint Venture",0,0,0,0,0,null,"Hydro Hawkesbury Inc. 4420"]
["Hydro Hawkesbury Inc. Total ","Hydro Hawkesbury Inc. Total",null,null,-213537.06,-154360.26999999999,-253499.15,-99364.76,-144022.64000000001,null,"Hydro Hawkesbury Inc. Total "]
["Hydro One Brampton Networks Inc. 4082","Hydro One Brampton Networks Inc.","4082","Retail Services Revenues",-110142.45,null,null,null,null,null,"Hydro One Brampton Networks Inc. 4082"]
["Hydro One Brampton Networks Inc. 4084","Hydro One Brampton Networks Inc.","4084","Service Transaction Requests (STR) Revenues",-2286.5,null,null,null,null,null,"Hydro One Brampton Networks Inc. 4084"]
["Hydro One Brampton Networks Inc. 4086","Hydro One Brampton Networks Inc.","4086","SSS Administration Revenue",0,null,null,null,null,null,"Hydro One Brampton Networks Inc. 4086"]
["Hydro One Brampton Networks Inc. 4090","Hydro One Brampton Networks Inc.","4090","Electric Services Incidental to Energy Sales",5381.58,null,null,null,null,null,"Hydro One Brampton Networks Inc. 4090"]
["Hydro One Brampton Networks Inc. 4205","Hydro One Brampton Networks Inc.","4205","Interdepartmental Rents",0,null,null,null,null,null,"Hydro One Brampton Networks Inc. 4205"]
["Hydro One Brampton Networks Inc. 4210","Hydro One Brampton Networks Inc.","4210","Rent from Electric Property",-453891.63,null,null,null,null,null,"Hydro One Brampton Networks Inc. 4210"]
["Hydro One Brampton Networks Inc. 4215","Hydro One Brampton Networks Inc.","4215","Other Utility Operating Income",0,null,null,null,null,null,"Hydro One Brampton Networks Inc. 4215"]
["Hydro One Brampton Networks Inc. 4220","Hydro One Brampton Networks Inc.","4220","Other Electric Revenues",0,null,null,null,null,null,"Hydro One Brampton Networks Inc. 4220"]
["Hydro One Brampton Networks Inc. 4225","Hydro One Brampton Networks Inc.","4225","Late Payment Charges",-1621317.16,null,null,null,null,null,"Hydro One Brampton Networks Inc. 4225"]
["Hydro One Brampton Networks Inc. 4230","Hydro One Brampton Networks Inc.","4230","Sales of Water and Water Power",0,null,null,null,null,null,"Hydro One Brampton Networks Inc. 4230"]
["Hydro One Brampton Networks Inc. 4235","Hydro One Brampton Networks Inc.","4235","Miscellaneous Service Revenues",-1770532.67,null,null,null,null,null,"Hydro One Brampton Networks Inc. 4235"]
["Hydro One Brampton Networks Inc. 4240","Hydro One Brampton Networks Inc.","4240","Provision for Rate Refunds",0,null,null,null,null,null,"Hydro One Brampton Networks Inc. 4240"]
["Hydro One Brampton Networks Inc. 4245","Hydro One Brampton Networks Inc.","4245","Government and Other Assistance Directly Credited to Income",-735610.02,null,null,null,null,null,"Hydro One Brampton Networks Inc. 4245"]
["Hydro One Brampton Networks Inc. 4305","Hydro One Brampton Networks Inc.","4305","Regulatory Debits",-1555642.82,null,null,null,null,null,"Hydro One Brampton Networks Inc. 4305"]
["Hydro One Brampton Networks Inc. 4310","Hydro One Brampton Networks Inc.","4310","Regulatory Credits",0,null,null,null,null,null,"Hydro One Brampton Networks Inc. 4310"]
["Hydro One Brampton Networks Inc. 4315","Hydro One Brampton Networks Inc.","4315","Revenues from Electric Plant Leased to Others",0,null,null,null,null,null,"Hydro One Brampton Networks Inc. 4315"]
["Hydro One Brampton Networks Inc. 4320","Hydro One Brampton Networks Inc.","4320","Expenses of Electric Plant Leased to Others",0,null,null,null,null,null,{"$f":"B1350 & \" \" &C1350","v":"Hydro One Brampton Networks Inc. 4320"}]
["Hydro One Brampton Networks Inc. 4325","Hydro One Brampton Networks Inc.","4325","Revenues from Merchandise",0,null,null,null,null,null,"Hydro One Brampton Networks Inc. 4325"]
["Hydro One Brampton Networks Inc. 4330","Hydro One Brampton Networks Inc.","4330","Costs and Expenses of Merchandising",0,null,null,null,null,null,"Hydro One Brampton Networks Inc. 4330"]
["Hydro One Brampton Networks Inc. 4335","Hydro One Brampton Networks Inc.","4335","Profits and Losses from Financial Instrument Hedges",0,null,null,null,null,null,"Hydro One Brampton Networks Inc. 4335"]
["Hydro One Brampton Networks Inc. 4340","Hydro One Brampton Networks Inc.","4340","Profits and Losses from Financial Instrument Investments",0,null,null,null,null,null,"Hydro One Brampton Networks Inc. 4340"]
["Hydro One Brampton Networks Inc. 4345","Hydro One Brampton Networks Inc.","4345","Gains from Disposition of Future Use Utility Plant",0,null,null,null,null,null,"Hydro One Brampton Networks Inc. 4345"]
["Hydro One Brampton Networks Inc. 4350","Hydro One Brampton Networks Inc.","4350","Losses from Disposition of Future Use Utility Plant",0,null,null,null,null,null,"Hydro One Brampton Networks Inc. 4350"]
["Hydro One Brampton Networks Inc. 4355","Hydro One Brampton Networks Inc.","4355","Gain on Disposition of Utility and Other Property",0,null,null,null,null,null,"Hydro One Brampton Networks Inc. 4355"]
["Hydro One Brampton Networks Inc. 4357","Hydro One Brampton Networks Inc.","4357","Gain from Retirement of Utility and Other Property",0,null,null,null,null,null,"Hydro One Brampton Networks Inc. 4357"]
["Hydro One Brampton Networks Inc. 4360","Hydro One Brampton Networks Inc.","4360","Loss on Disposition of Utility and Other Property",71169.64,null,null,null,null,null,"Hydro One Brampton Networks Inc. 4360"]
["Hydro One Brampton Networks Inc. 4362","Hydro One Brampton Networks Inc.","4362","Loss from Retirement of Utility and Other Property",665191.98,null,null,null,null,null,"Hydro One Brampton Networks Inc. 4362"]
["Hydro One Brampton Networks Inc. 4365","Hydro One Brampton Networks Inc.","4365","Gains from Disposition of Allowances for Emission",0,null,null,null,null,null,"Hydro One Brampton Networks Inc. 4365"]
["Hydro One Brampton Networks Inc. 4370","Hydro One Brampton Networks Inc.","4370","Losses from Disposition of Allowances for Emission",0,null,null,null,null,null,"Hydro One Brampton Networks Inc. 4370"]
["Hydro One Brampton Networks Inc. 4375","Hydro One Brampton Networks Inc.","4375","Revenues from Non Rate-Regulated Utility Operations",171122.3,null,null,null,null,null,"Hydro One Brampton Networks Inc. 4375"]
["Hydro One Brampton Networks Inc. 4375","Hydro One Brampton Networks Inc.","4375","Sub-account Generation Facility Revenues",0,null,null,null,null,null,"Hydro One Brampton Networks Inc. 4375"]
["Hydro One Brampton Networks Inc. 4380","Hydro One Brampton Networks Inc.","4380","Expenses of Non Rate-Regulated Utility Operations",0,null,null,null,null,null,"Hydro One Brampton Networks Inc. 4380"]
["Hydro One Brampton Networks Inc. 4380","Hydro One Brampton Networks Inc.","4380","Sub-account Generation Facility Expenses",0,null,null,null,null,null,"Hydro One Brampton Networks Inc. 4380"]
["Hydro One Brampton Networks Inc. 4385","Hydro One Brampton Networks Inc.","4385","Non Rate-Regulated Utility Rental Income",0,null,null,null,null,null,"Hydro One Brampton Networks Inc. 4385"]
["Hydro One Brampton Networks Inc. 4390","Hydro One Brampton Networks Inc.","4390","Miscellaneous Non-Operating Income",-109668.22,null,null,null,null,null,"Hydro One Brampton Networks Inc. 4390"]
["Hydro One Brampton Networks Inc. 4395","Hydro One Brampton Networks Inc.","4395","Rate-Payer Benefit Including Interest",0,null,null,null,null,null,"Hydro One Brampton Networks Inc. 4395"]
["Hydro One Brampton Networks Inc. 4398","Hydro One Brampton Networks Inc.","4398","Foreign Exchange Gains and Losses, Including Amortization",0,null,null,null,null,null,"Hydro One Brampton Networks Inc. 4398"]
["Hydro One Brampton Networks Inc. 4405","Hydro One Brampton Networks Inc.","4405","Interest and Dividend Income",-491620.2,null,null,null,null,null,"Hydro One Brampton Networks Inc. 4405"]
["Hydro One Brampton Networks Inc. 4410","Hydro One Brampton Networks Inc.","4410","Lessor's Net Investment in Finance Lease",0,null,null,null,null,null,"Hydro One Brampton Networks Inc. 4410"]
["Hydro One Brampton Networks Inc. 4415","Hydro One Brampton Networks Inc.","4415","Equity in Earnings of Subsidiary Companies",0,null,null,null,null,null,"Hydro One Brampton Networks Inc. 4415"]
["Hydro One Brampton Networks Inc. 4420","Hydro One Brampton Networks Inc.","4420","Share of Profit or Loss of Joint Venture",0,null,null,null,null,null,"Hydro One Brampton Networks Inc. 4420"]
["Hydro One Brampton Networks Inc. Total ","Hydro One Brampton Networks Inc. Total",null,null,-5937846.1699999999,null,null,null,null,null,"Hydro One Brampton Networks Inc. Total "]
["Hydro One Networks Inc. 4082","Hydro One Networks Inc.","4082","Retail Services Revenues",0,0,0,0,0,null,"Hydro One Networks Inc. 4082"]
["Hydro One Networks Inc. 4084","Hydro One Networks Inc.","4084","Service Transaction Requests (STR) Revenues",0,0,0,0,0,null,"Hydro One Networks Inc. 4084"]
["Hydro One Networks Inc. 4086","Hydro One Networks Inc.","4086","SSS Administration Revenue",-3750925.18,-3853923.99,-3922884.62,-3966489.55,-4018601.59,null,"Hydro One Networks Inc. 4086"]
["Hydro One Networks Inc. 4090","Hydro One Networks Inc.","4090","Electric Services Incidental to Energy Sales",0,0,0,0,0,null,"Hydro One Networks Inc. 4090"]
["Hydro One Networks Inc. 4205","Hydro One Networks Inc.","4205","Interdepartmental Rents",0,0,0,0,0,null,"Hydro One Networks Inc. 4205"]
["Hydro One Networks Inc. 4210","Hydro One Networks Inc.","4210","Rent from Electric Property",0,0,0,0,0,null,"Hydro One Networks Inc. 4210"]
["Hydro One Networks Inc. 4215","Hydro One Networks Inc.","4215","Other Utility Operating Income",0,0,0,0,0,null,"Hydro One Networks Inc. 4215"]
["Hydro One Networks Inc. 4220","Hydro One Networks Inc.","4220","Other Electric Revenues",0,0,0,0,0,null,"Hydro One Networks Inc. 4220"]
["Hydro One Networks Inc. 4225","Hydro One Networks Inc.","4225","Late Payment Charges",-17184094.199999999,-12108516.6,-10901430.76,-11969585.08,-2640977.1,null,"Hydro One Networks Inc. 4225"]
["Hydro One Networks Inc. 4230","Hydro One Networks Inc.","4230","Sales of Water and Water Power",0,0,0,0,0,null,"Hydro One Networks Inc. 4230"]
["Hydro One Networks Inc. 4235","Hydro One Networks Inc.","4235","Miscellaneous Service Revenues",-498218.68,-443244.27,-299993.14,-294294.7,-221554.56,null,"Hydro One Networks Inc. 4235"]
["Hydro One Networks Inc. 4240","Hydro One Networks Inc.","4240","Provision for Rate Refunds",0,0,0,0,0,null,"Hydro One Networks Inc. 4240"]
["Hydro One Networks Inc. 4245","Hydro One Networks Inc.","4245","Government Assistance Directly Credited to Income",0,0,0,0,0,null,"Hydro One Networks Inc. 4245"]
["Hydro One Networks Inc. 4305","Hydro One Networks Inc.","4305","Regulatory Debits",0,0,0,0,0,null,"Hydro One Networks Inc. 4305"]
["Hydro One Networks Inc. 4310","Hydro One Networks Inc.","4310","Regulatory Credits",0,0,0,0,0,null,"Hydro One Networks Inc. 4310"]
["Hydro One Networks Inc. 4315","Hydro One Networks Inc.","4315","Revenues from Electric Plant Leased to Others",0,0,0,0,0,null,"Hydro One Networks Inc. 4315"]
["Hydro One Networks Inc. 4320","Hydro One Networks Inc.","4320","Expenses of Electric Plant Leased to Others",0,0,0,0,0,null,"Hydro One Networks Inc. 4320"]
["Hydro One Networks Inc. 4325","Hydro One Networks Inc.","4325","Revenues from Merchandise Jobbing, Etc.",-39429008.5,-40595090.659999996,-36264900.460000001,-29891264.300000001,-26858038.09,null,"Hydro One Networks Inc. 4325"]
["Hydro One Networks Inc. 4330","Hydro One Networks Inc.","4330","Costs and Expenses of Merchandising Jobbing, Etc.",0,10214186.91,10380880.35,5255073.6900000004,4123348.73,null,"Hydro One Networks Inc. 4330"]
["Hydro One Networks Inc. 4335","Hydro One Networks Inc.","4335","Profits and Losses from Financial Instrument Hedges",0,0,0,0,0,null,"Hydro One Networks Inc. 4335"]
["Hydro One Networks Inc. 4340","Hydro One Networks Inc.","4340","Profits and Losses from Financial Instrument Investments",0,0,0,0,0,null,"Hydro One Networks Inc. 4340"]
["Hydro One Networks Inc. 4345","Hydro One Networks Inc.","4345","Gains from Disposition of Future Use Utility Plant",0,0,0,0,0,null,"Hydro One Networks Inc. 4345"]
["Hydro One Networks Inc. 4350","Hydro One Networks Inc.","4350","Losses from Disposition of Future Use Utility Plant",0,0,0,0,0,null,"Hydro One Networks Inc. 4350"]
["Hydro One Networks Inc. 4355","Hydro One Networks Inc.","4355","Gain on Disposition of Utility and Other Property",-327740.65999999997,-254108.93,-1339766.9099999999,-1184144.81,-472846.47,null,"Hydro One Networks Inc. 4355"]
["Hydro One Networks Inc. 4360","Hydro One Networks Inc.","4360","Loss on Disposition of Utility and Other Property",0,0,0,0,0,null,"Hydro One Networks Inc. 4360"]
["Hydro One Networks Inc. 4365","Hydro One Networks Inc.","4365","Gains from Disposition of Allowances for Emission",0,0,0,0,0,null,"Hydro One Networks Inc. 4365"]
["Hydro One Networks Inc. 4370","Hydro One Networks Inc.","4370","Losses from Disposition of Allowances for Emission",0,0,0,0,0,null,"Hydro One Networks Inc. 4370"]
["Hydro One Networks Inc. 4375","Hydro One Networks Inc.","4375","Revenues from Non-Utility Operations",-874855.6,-9994745.8599999994,-4138519.32,0,-735608.79,null,"Hydro One Networks Inc. 4375"]
["Hydro One Networks Inc. 4375","Hydro One Networks Inc.","4375","Sub-account Generation Facility Revenues",0,0,0,0,0,null,"Hydro One Networks Inc. 4375"]
["Hydro One Networks Inc. 4380","Hydro One Networks Inc.","4380","Expenses of Non-Utility Operations",4268231.37,0,0,0,0,null,"Hydro One Networks Inc. 4380"]
["Hydro One Networks Inc. 4380","Hydro One Networks Inc.","4380","Sub-account Generation Facility Expenses",0,0,0,0,0,null,"Hydro One Networks Inc. 4380"]
["Hydro One Networks Inc. 4385","Hydro One Networks Inc.","4385","Non-Utility Rental Income",0,0,0,0,0,null,"Hydro One Networks Inc. 4385"]
["Hydro One Networks Inc. 4390","Hydro One Networks Inc.","4390","Miscellaneous Non-Operating Income",0,0,0,0,0,null,"Hydro One Networks Inc. 4390"]
["Hydro One Networks Inc. 4395","Hydro One Networks Inc.","4395","Rate-Payer Benefit Including Interest",0,0,0,21420529.239999998,14920514.48,null,"Hydro One Networks Inc. 4395"]
["Hydro One Networks Inc. 4398","Hydro One Networks Inc.","4398","Foreign Exchange Gains and Losses, Including Amortization",0,0,0,0,0,null,"Hydro One Networks Inc. 4398"]
["Hydro One Networks Inc. 4405","Hydro One Networks Inc.","4405","Interest and Dividend Income",0,0,0,0,0,null,"Hydro One Networks Inc. 4405"]
["Hydro One Networks Inc. 4415","Hydro One Networks Inc.","4415","Equity in Earnings of Subsidiary Companies",0,0,0,0,0,null,"Hydro One Networks Inc. 4415"]
["Hydro One Networks Inc. Total ","Hydro One Networks Inc. Total",null,null,-57796611.450000003,-57035443.399999999,-46486614.859999999,-20630175.510000002,-15903763.390000001,null,"Hydro One Networks Inc. Total "]
["Hydro One Networks Inc. - 1937680 Ontario Inc. (Peterborough Distribution) 4082","Hydro One Networks Inc. - 1937680 Ontario Inc. (Peterborough Distribution)","4082","Retail Services Revenues",-14317,-12698.5,-9998.5,-15337,-19116.099999999999,null,{"$f":"B1414 & \" \" &C1414","v":"Hydro One Networks Inc. - 1937680 Ontario Inc. (Peterborough Distribution) 4082"}]
["Hydro One Networks Inc. - 1937680 Ontario Inc. (Peterborough Distribution) 4084","Hydro One Networks Inc. - 1937680 Ontario Inc. (Peterborough Distribution)","4084","Service Transaction Requests (STR) Revenues",-6228.45,-5080.1000000000004,-3977.9,-5582.05,-6756.74,null,"Hydro One Networks Inc. - 1937680 Ontario Inc. (Peterborough Distribution) 4084"]
["Hydro One Networks Inc. - 1937680 Ontario Inc. (Peterborough Distribution) 4086","Hydro One Networks Inc. - 1937680 Ontario Inc. (Peterborough Distribution)","4086","SSS Administration Revenue",-105791,-105736.77,-108690.78,-110092.29,-110736.49,null,"Hydro One Networks Inc. - 1937680 Ontario Inc. (Peterborough Distribution) 4086"]
["Hydro One Networks Inc. - 1937680 Ontario Inc. (Peterborough Distribution) 4090","Hydro One Networks Inc. - 1937680 Ontario Inc. (Peterborough Distribution)","4090","Electric Services Incidental to Energy Sales",0,0,0,0,0,null,"Hydro One Networks Inc. - 1937680 Ontario Inc. (Peterborough Distribution) 4090"]
["Hydro One Networks Inc. - 1937680 Ontario Inc. (Peterborough Distribution) 4205","Hydro One Networks Inc. - 1937680 Ontario Inc. (Peterborough Distribution)","4205","Interdepartmental Rents",0,0,0,0,0,null,"Hydro One Networks Inc. - 1937680 Ontario Inc. (Peterborough Distribution) 4205"]
["Hydro One Networks Inc. - 1937680 Ontario Inc. (Peterborough Distribution) 4210","Hydro One Networks Inc. - 1937680 Ontario Inc. (Peterborough Distribution)","4210","Rent from Electric Property",-207869.51,-261172.61,-252127.35999999999,-245322.26,-244183.23,null,"Hydro One Networks Inc. - 1937680 Ontario Inc. (Peterborough Distribution) 4210"]
["Hydro One Networks Inc. - 1937680 Ontario Inc. (Peterborough Distribution) 4215","Hydro One Networks Inc. - 1937680 Ontario Inc. (Peterborough Distribution)","4215","Other Utility Operating Income",0,0,0,0,0,null,"Hydro One Networks Inc. - 1937680 Ontario Inc. (Peterborough Distribution) 4215"]
["Hydro One Networks Inc. - 1937680 Ontario Inc. (Peterborough Distribution) 4220","Hydro One Networks Inc. - 1937680 Ontario Inc. (Peterborough Distribution)","4220","Other Electric Revenues",0,0,0,0,0,null,"Hydro One Networks Inc. - 1937680 Ontario Inc. (Peterborough Distribution) 4220"]
["Hydro One Networks Inc. - 1937680 Ontario Inc. (Peterborough Distribution) 4225","Hydro One Networks Inc. - 1937680 Ontario Inc. (Peterborough Distribution)","4225","Late Payment Charges",-245878.71,-228697.59,-232325.49,-157035.54999999999,-76650.13,null,"Hydro One Networks Inc. - 1937680 Ontario Inc. (Peterborough Distribution) 4225"]
["Hydro One Networks Inc. - 1937680 Ontario Inc. (Peterborough Distribution) 4230","Hydro One Networks Inc. - 1937680 Ontario Inc. (Peterborough Distribution)","4230","Sales of Water and Water Power",0,0,0,0,0,null,"Hydro One Networks Inc. - 1937680 Ontario Inc. (Peterborough Distribution) 4230"]
["Hydro One Networks Inc. - 1937680 Ontario Inc. (Peterborough Distribution) 4235","Hydro One Networks Inc. - 1937680 Ontario Inc. (Peterborough Distribution)","4235","Miscellaneous Service Revenues",-828850.6,-614223.53,-719611.32,-365205.55,-199333.44,null,"Hydro One Networks Inc. - 1937680 Ontario Inc. (Peterborough Distribution) 4235"]
["Hydro One Networks Inc. - 1937680 Ontario Inc. (Peterborough Distribution) 4240","Hydro One Networks Inc. - 1937680 Ontario Inc. (Peterborough Distribution)","4240","Provision for Rate Refunds",0,0,0,0,0,null,"Hydro One Networks Inc. - 1937680 Ontario Inc. (Peterborough Distribution) 4240"]
["Hydro One Networks Inc. - 1937680 Ontario Inc. (Peterborough Distribution) 4245","Hydro One Networks Inc. - 1937680 Ontario Inc. (Peterborough Distribution)","4245","Government and Other Assistance Directly Credited to Income",-428146.03,-470386.32,-501546.03,-524594.39,-550672.92000000004,null,"Hydro One Networks Inc. - 1937680 Ontario Inc. (Peterborough Distribution) 4245"]
["Hydro One Networks Inc. - 1937680 Ontario Inc. (Peterborough Distribution) 4305","Hydro One Networks Inc. - 1937680 Ontario Inc. (Peterborough Distribution)","4305","Regulatory Debits",0,0,0,0,0,null,"Hydro One Networks Inc. - 1937680 Ontario Inc. (Peterborough Distribution) 4305"]
["Hydro One Networks Inc. - 1937680 Ontario Inc. (Peterborough Distribution) 4310","Hydro One Networks Inc. - 1937680 Ontario Inc. (Peterborough Distribution)","4310","Regulatory Credits",0,0,0,0,0,null,"Hydro One Networks Inc. - 1937680 Ontario Inc. (Peterborough Distribution) 4310"]
["Hydro One Networks Inc. - 1937680 Ontario Inc. (Peterborough Distribution) 4315","Hydro One Networks Inc. - 1937680 Ontario Inc. (Peterborough Distribution)","4315","Revenues from Electric Plant Leased to Others",0,0,0,0,0,null,"Hydro One Networks Inc. - 1937680 Ontario Inc. (Peterborough Distribution) 4315"]
["Hydro One Networks Inc. - 1937680 Ontario Inc. (Peterborough Distribution) 4320","Hydro One Networks Inc. - 1937680 Ontario Inc. (Peterborough Distribution)","4320","Expenses of Electric Plant Leased to Others",0,0,0,0,0,null,"Hydro One Networks Inc. - 1937680 Ontario Inc. (Peterborough Distribution) 4320"]
["Hydro One Networks Inc. - 1937680 Ontario Inc. (Peterborough Distribution) 4325","Hydro One Networks Inc. - 1937680 Ontario Inc. (Peterborough Distribution)","4325","Revenues from Merchandise",0,0,0,0,0,null,"Hydro One Networks Inc. - 1937680 Ontario Inc. (Peterborough Distribution) 4325"]
["Hydro One Networks Inc. - 1937680 Ontario Inc. (Peterborough Distribution) 4330","Hydro One Networks Inc. - 1937680 Ontario Inc. (Peterborough Distribution)","4330","Costs and Expenses of Merchandising",0,0,0,0,0,null,"Hydro One Networks Inc. - 1937680 Ontario Inc. (Peterborough Distribution) 4330"]
["Hydro One Networks Inc. - 1937680 Ontario Inc. (Peterborough Distribution) 4335","Hydro One Networks Inc. - 1937680 Ontario Inc. (Peterborough Distribution)","4335","Profits and Losses from Financial Instrument Hedges",0,0,0,0,0,null,"Hydro One Networks Inc. - 1937680 Ontario Inc. (Peterborough Distribution) 4335"]
["Hydro One Networks Inc. - 1937680 Ontario Inc. (Peterborough Distribution) 4340","Hydro One Networks Inc. - 1937680 Ontario Inc. (Peterborough Distribution)","4340","Profits and Losses from Financial Instrument Investments",0,0,0,0,0,null,"Hydro One Networks Inc. - 1937680 Ontario Inc. (Peterborough Distribution) 4340"]
["Hydro One Networks Inc. - 1937680 Ontario Inc. (Peterborough Distribution) 4345","Hydro One Networks Inc. - 1937680 Ontario Inc. (Peterborough Distribution)","4345","Gains from Disposition of Future Use Utility Plant",0,0,0,0,0,null,"Hydro One Networks Inc. - 1937680 Ontario Inc. (Peterborough Distribution) 4345"]
["Hydro One Networks Inc. - 1937680 Ontario Inc. (Peterborough Distribution) 4350","Hydro One Networks Inc. - 1937680 Ontario Inc. (Peterborough Distribution)","4350","Losses from Disposition of Future Use Utility Plant",0,0,0,0,0,null,"Hydro One Networks Inc. - 1937680 Ontario Inc. (Peterborough Distribution) 4350"]
["Hydro One Networks Inc. - 1937680 Ontario Inc. (Peterborough Distribution) 4355","Hydro One Networks Inc. - 1937680 Ontario Inc. (Peterborough Distribution)","4355","Gain on Disposition of Utility and Other Property",0,0,0,0,0,null,"Hydro One Networks Inc. - 1937680 Ontario Inc. (Peterborough Distribution) 4355"]
["Hydro One Networks Inc. - 1937680 Ontario Inc. (Peterborough Distribution) 4357","Hydro One Networks Inc. - 1937680 Ontario Inc. (Peterborough Distribution)","4357","Gain from Retirement of Utility and Other Property",0,0,0,0,0,null,"Hydro One Networks Inc. - 1937680 Ontario Inc. (Peterborough Distribution) 4357"]
["Hydro One Networks Inc. - 1937680 Ontario Inc. (Peterborough Distribution) 4360","Hydro One Networks Inc. - 1937680 Ontario Inc. (Peterborough Distribution)","4360","Loss on Disposition of Utility and Other Property",0,0,0,0,0,null,"Hydro One Networks Inc. - 1937680 Ontario Inc. (Peterborough Distribution) 4360"]
["Hydro One Networks Inc. - 1937680 Ontario Inc. (Peterborough Distribution) 4362","Hydro One Networks Inc. - 1937680 Ontario Inc. (Peterborough Distribution)","4362","Loss from Retirement of Utility and Other Property",0,0,0,0,0,null,"Hydro One Networks Inc. - 1937680 Ontario Inc. (Peterborough Distribution) 4362"]
["Hydro One Networks Inc. - 1937680 Ontario Inc. (Peterborough Distribution) 4365","Hydro One Networks Inc. - 1937680 Ontario Inc. (Peterborough Distribution)","4365","Gains from Disposition of Allowances for Emission",0,0,0,0,0,null,"Hydro One Networks Inc. - 1937680 Ontario Inc. (Peterborough Distribution) 4365"]
["Hydro One Networks Inc. - 1937680 Ontario Inc. (Peterborough Distribution) 4370","Hydro One Networks Inc. - 1937680 Ontario Inc. (Peterborough Distribution)","4370","Losses from Disposition of Allowances for Emission",0,0,0,0,0,null,"Hydro One Networks Inc. - 1937680 Ontario Inc. (Peterborough Distribution) 4370"]
["Hydro One Networks Inc. - 1937680 Ontario Inc. (Peterborough Distribution) 4375","Hydro One Networks Inc. - 1937680 Ontario Inc. (Peterborough Distribution)","4375","Revenues from Non Rate-Regulated Utility Operations",-60000,0,-235106.75,0,-316979.5,null,"Hydro One Networks Inc. - 1937680 Ontario Inc. (Peterborough Distribution) 4375"]
["Hydro One Networks Inc. - 1937680 Ontario Inc. (Peterborough Distribution) 4375","Hydro One Networks Inc. - 1937680 Ontario Inc. (Peterborough Distribution)","4375","Sub-account Generation Facility Revenues",0,0,0,0,0,null,"Hydro One Networks Inc. - 1937680 Ontario Inc. (Peterborough Distribution) 4375"]
["Hydro One Networks Inc. - 1937680 Ontario Inc. (Peterborough Distribution) 4380","Hydro One Networks Inc. - 1937680 Ontario Inc. (Peterborough Distribution)","4380","Expenses of Non Rate-Regulated Utility Operations",0,0,0,0,0,null,"Hydro One Networks Inc. - 1937680 Ontario Inc. (Peterborough Distribution) 4380"]
["Hydro One Networks Inc. - 1937680 Ontario Inc. (Peterborough Distribution) 4380","Hydro One Networks Inc. - 1937680 Ontario Inc. (Peterborough Distribution)","4380","Sub-account Generation Facility Expenses",0,0,0,0,0,null,"Hydro One Networks Inc. - 1937680 Ontario Inc. (Peterborough Distribution) 4380"]
["Hydro One Networks Inc. - 1937680 Ontario Inc. (Peterborough Distribution) 4385","Hydro One Networks Inc. - 1937680 Ontario Inc. (Peterborough Distribution)","4385","Non Rate-Regulated Utility Rental Income",0,0,0,0,0,null,"Hydro One Networks Inc. - 1937680 Ontario Inc. (Peterborough Distribution) 4385"]
["Hydro One Networks Inc. - 1937680 Ontario Inc. (Peterborough Distribution) 4390","Hydro One Networks Inc. - 1937680 Ontario Inc. (Peterborough Distribution)","4390","Miscellaneous Non-Operating Income",0,0,0,0,0,null,"Hydro One Networks Inc. - 1937680 Ontario Inc. (Peterborough Distribution) 4390"]
["Hydro One Networks Inc. - 1937680 Ontario Inc. (Peterborough Distribution) 4395","Hydro One Networks Inc. - 1937680 Ontario Inc. (Peterborough Distribution)","4395","Rate-Payer Benefit Including Interest",0,0,0,0,0,null,"Hydro One Networks Inc. - 1937680 Ontario Inc. (Peterborough Distribution) 4395"]
["Hydro One Networks Inc. - 1937680 Ontario Inc. (Peterborough Distribution) 4398","Hydro One Networks Inc. - 1937680 Ontario Inc. (Peterborough Distribution)","4398","Foreign Exchange Gains and Losses, Including Amortization",0,0,0,0,0,null,"Hydro One Networks Inc. - 1937680 Ontario Inc. (Peterborough Distribution) 4398"]
["Hydro One Networks Inc. - 1937680 Ontario Inc. (Peterborough Distribution) 4405","Hydro One Networks Inc. - 1937680 Ontario Inc. (Peterborough Distribution)","4405","Interest and Dividend Income",-106119.2,-125368.18,-256715.48,-238004.41,-255455.97,null,"Hydro One Networks Inc. - 1937680 Ontario Inc. (Peterborough Distribution) 4405"]
["Hydro One Networks Inc. - 1937680 Ontario Inc. (Peterborough Distribution) 4410","Hydro One Networks Inc. - 1937680 Ontario Inc. (Peterborough Distribution)","4410","Lessor's Net Investment in Finance Lease",0,0,0,0,0,null,"Hydro One Networks Inc. - 1937680 Ontario Inc. (Peterborough Distribution) 4410"]
["Hydro One Networks Inc. - 1937680 Ontario Inc. (Peterborough Distribution) 4415","Hydro One Networks Inc. - 1937680 Ontario Inc. (Peterborough Distribution)","4415","Equity in Earnings of Subsidiary Companies",0,0,0,0,0,null,"Hydro One Networks Inc. - 1937680 Ontario Inc. (Peterborough Distribution) 4415"]
["Hydro One Networks Inc. - 1937680 Ontario Inc. (Peterborough Distribution) 4420","Hydro One Networks Inc. - 1937680 Ontario Inc. (Peterborough Distribution)","4420","Share of Profit or Loss of Joint Venture",0,0,0,0,0,null,"Hydro One Networks Inc. - 1937680 Ontario Inc. (Peterborough Distribution) 4420"]
["Hydro One Networks Inc. - 1937680 Ontario Inc. (Peterborough Distribution) Total ","Hydro One Networks Inc. - 1937680 Ontario Inc. (Peterborough Distribution) Total",null,null,-2003200.5,-1823363.6,-2320099.61,-1661173.5,-1779884.52,null,"Hydro One Networks Inc. - 1937680 Ontario Inc. (Peterborough Distribution) Total "]
["Hydro One Networks Inc. - Orillia Power Distribution Corporation 4082","Hydro One Networks Inc. - Orillia Power Distribution Corporation","4082","Retail Services Revenues",0,0,0,0,0,null,"Hydro One Networks Inc. - Orillia Power Distribution Corporation 4082"]
["Hydro One Networks Inc. - Orillia Power Distribution Corporation 4084","Hydro One Networks Inc. - Orillia Power Distribution Corporation","4084","Service Transaction Requests (STR) Revenues",-241,-119,-110,-208,-163,null,"Hydro One Networks Inc. - Orillia Power Distribution Corporation 4084"]
["Hydro One Networks Inc. - Orillia Power Distribution Corporation 4086","Hydro One Networks Inc. - Orillia Power Distribution Corporation","4086","SSS Administration Revenue",-39165,-39870,-41079,-41979,-42828,null,"Hydro One Networks Inc. - Orillia Power Distribution Corporation 4086"]
["Hydro One Networks Inc. - Orillia Power Distribution Corporation 4090","Hydro One Networks Inc. - Orillia Power Distribution Corporation","4090","Electric Services Incidental to Energy Sales",0,0,0,0,0,null,"Hydro One Networks Inc. - Orillia Power Distribution Corporation 4090"]
["Hydro One Networks Inc. - Orillia Power Distribution Corporation 4205","Hydro One Networks Inc. - Orillia Power Distribution Corporation","4205","Interdepartmental Rents",-47797,-44801,-3917,-3376,-3138,null,"Hydro One Networks Inc. - Orillia Power Distribution Corporation 4205"]
["Hydro One Networks Inc. - Orillia Power Distribution Corporation 4210","Hydro One Networks Inc. - Orillia Power Distribution Corporation","4210","Rent from Electric Property",0,0,0,0,0,null,"Hydro One Networks Inc. - Orillia Power Distribution Corporation 4210"]
["Hydro One Networks Inc. - Orillia Power Distribution Corporation 4215","Hydro One Networks Inc. - Orillia Power Distribution Corporation","4215","Other Utility Operating Income",0,0,0,0,0,null,"Hydro One Networks Inc. - Orillia Power Distribution Corporation 4215"]
["Hydro One Networks Inc. - Orillia Power Distribution Corporation 4220","Hydro One Networks Inc. - Orillia Power Distribution Corporation","4220","Other Electric Revenues",-96216,-111440,-146399,-155758,-119422,null,"Hydro One Networks Inc. - Orillia Power Distribution Corporation 4220"]
["Hydro One Networks Inc. - Orillia Power Distribution Corporation 4225","Hydro One Networks Inc. - Orillia Power Distribution Corporation","4225","Late Payment Charges",-62741,-62347,-60525,-53412,-24614,null,"Hydro One Networks Inc. - Orillia Power Distribution Corporation 4225"]
["Hydro One Networks Inc. - Orillia Power Distribution Corporation 4230","Hydro One Networks Inc. - Orillia Power Distribution Corporation","4230","Sales of Water and Water Power",0,0,0,0,0,null,"Hydro One Networks Inc. - Orillia Power Distribution Corporation 4230"]
["Hydro One Networks Inc. - Orillia Power Distribution Corporation 4235","Hydro One Networks Inc. - Orillia Power Distribution Corporation","4235","Miscellaneous Service Revenues",-306483,-229290,-224385,-197771,-145003,null,"Hydro One Networks Inc. - Orillia Power Distribution Corporation 4235"]
["Hydro One Networks Inc. - Orillia Power Distribution Corporation 4240","Hydro One Networks Inc. - Orillia Power Distribution Corporation","4240","Provision for Rate Refunds",0,0,0,0,0,null,"Hydro One Networks Inc. - Orillia Power Distribution Corporation 4240"]
["Hydro One Networks Inc. - Orillia Power Distribution Corporation 4245","Hydro One Networks Inc. - Orillia Power Distribution Corporation","4245","Government and Other Assistance Directly Credited to Income",-35877,-45658,-52526,-58732,-65089,null,"Hydro One Networks Inc. - Orillia Power Distribution Corporation 4245"]
["Hydro One Networks Inc. - Orillia Power Distribution Corporation 4305","Hydro One Networks Inc. - Orillia Power Distribution Corporation","4305","Regulatory Debits",2054286,698027,692679,699981,299952,null,"Hydro One Networks Inc. - Orillia Power Distribution Corporation 4305"]
["Hydro One Networks Inc. - Orillia Power Distribution Corporation 4310","Hydro One Networks Inc. - Orillia Power Distribution Corporation","4310","Regulatory Credits",0,0,0,0,0,null,"Hydro One Networks Inc. - Orillia Power Distribution Corporation 4310"]
["Hydro One Networks Inc. - Orillia Power Distribution Corporation 4315","Hydro One Networks Inc. - Orillia Power Distribution Corporation","4315","Revenues from Electric Plant Leased to Others",0,0,0,0,0,null,"Hydro One Networks Inc. - Orillia Power Distribution Corporation 4315"]
["Hydro One Networks Inc. - Orillia Power Distribution Corporation 4320","Hydro One Networks Inc. - Orillia Power Distribution Corporation","4320","Expenses of Electric Plant Leased to Others",0,0,0,0,0,null,"Hydro One Networks Inc. - Orillia Power Distribution Corporation 4320"]
["Hydro One Networks Inc. - Orillia Power Distribution Corporation 4325","Hydro One Networks Inc. - Orillia Power Distribution Corporation","4325","Revenues from Merchandise",-30804,-24271,-26440,-20760,-2725,null,"Hydro One Networks Inc. - Orillia Power Distribution Corporation 4325"]
["Hydro One Networks Inc. - Orillia Power Distribution Corporation 4330","Hydro One Networks Inc. - Orillia Power Distribution Corporation","4330","Costs and Expenses of Merchandising",0,0,0,0,0,null,"Hydro One Networks Inc. - Orillia Power Distribution Corporation 4330"]
["Hydro One Networks Inc. - Orillia Power Distribution Corporation 4335","Hydro One Networks Inc. - Orillia Power Distribution Corporation","4335","Profits and Losses from Financial Instrument Hedges",0,0,0,0,0,null,"Hydro One Networks Inc. - Orillia Power Distribution Corporation 4335"]
["Hydro One Networks Inc. - Orillia Power Distribution Corporation 4340","Hydro One Networks Inc. - Orillia Power Distribution Corporation","4340","Profits and Losses from Financial Instrument Investments",0,0,0,0,0,null,"Hydro One Networks Inc. - Orillia Power Distribution Corporation 4340"]
["Hydro One Networks Inc. - Orillia Power Distribution Corporation 4345","Hydro One Networks Inc. - Orillia Power Distribution Corporation","4345","Gains from Disposition of Future Use Utility Plant",0,0,0,0,0,null,"Hydro One Networks Inc. - Orillia Power Distribution Corporation 4345"]
["Hydro One Networks Inc. - Orillia Power Distribution Corporation 4350","Hydro One Networks Inc. - Orillia Power Distribution Corporation","4350","Losses from Disposition of Future Use Utility Plant",0,0,0,0,0,null,{"$f":"B1478 & \" \" &C1478","v":"Hydro One Networks Inc. - Orillia Power Distribution Corporation 4350"}]
["Hydro One Networks Inc. - Orillia Power Distribution Corporation 4355","Hydro One Networks Inc. - Orillia Power Distribution Corporation","4355","Gain on Disposition of Utility and Other Property",0,-197972,0,0,-2751498,null,"Hydro One Networks Inc. - Orillia Power Distribution Corporation 4355"]
["Hydro One Networks Inc. - Orillia Power Distribution Corporation 4357","Hydro One Networks Inc. - Orillia Power Distribution Corporation","4357","Gain from Retirement of Utility and Other Property",0,0,0,0,0,null,"Hydro One Networks Inc. - Orillia Power Distribution Corporation 4357"]
["Hydro One Networks Inc. - Orillia Power Distribution Corporation 4360","Hydro One Networks Inc. - Orillia Power Distribution Corporation","4360","Loss on Disposition of Utility and Other Property",72658,138270,147190,104060,130114,null,"Hydro One Networks Inc. - Orillia Power Distribution Corporation 4360"]
["Hydro One Networks Inc. - Orillia Power Distribution Corporation 4362","Hydro One Networks Inc. - Orillia Power Distribution Corporation","4362","Loss from Retirement of Utility and Other Property",34093,34093,34093,34093,34093,null,"Hydro One Networks Inc. - Orillia Power Distribution Corporation 4362"]
["Hydro One Networks Inc. - Orillia Power Distribution Corporation 4365","Hydro One Networks Inc. - Orillia Power Distribution Corporation","4365","Gains from Disposition of Allowances for Emission",0,0,0,0,0,null,"Hydro One Networks Inc. - Orillia Power Distribution Corporation 4365"]
["Hydro One Networks Inc. - Orillia Power Distribution Corporation 4370","Hydro One Networks Inc. - Orillia Power Distribution Corporation","4370","Losses from Disposition of Allowances for Emission",0,0,0,0,0,null,"Hydro One Networks Inc. - Orillia Power Distribution Corporation 4370"]
["Hydro One Networks Inc. - Orillia Power Distribution Corporation 4375","Hydro One Networks Inc. - Orillia Power Distribution Corporation","4375","Revenues from Non Rate-Regulated Utility Operations",-468496,-393557,-349916,-336118,-79268,null,"Hydro One Networks Inc. - Orillia Power Distribution Corporation 4375"]
["Hydro One Networks Inc. - Orillia Power Distribution Corporation 4375","Hydro One Networks Inc. - Orillia Power Distribution Corporation","4375","Sub-account Generation Facility Revenues",0,0,0,0,0,null,"Hydro One Networks Inc. - Orillia Power Distribution Corporation 4375"]
["Hydro One Networks Inc. - Orillia Power Distribution Corporation 4380","Hydro One Networks Inc. - Orillia Power Distribution Corporation","4380","Expenses of Non Rate-Regulated Utility Operations",422929,398173,349916,336118,79268,null,"Hydro One Networks Inc. - Orillia Power Distribution Corporation 4380"]
["Hydro One Networks Inc. - Orillia Power Distribution Corporation 4380","Hydro One Networks Inc. - Orillia Power Distribution Corporation","4380","Sub-account Generation Facility Expenses",0,0,0,0,0,null,"Hydro One Networks Inc. - Orillia Power Distribution Corporation 4380"]
["Hydro One Networks Inc. - Orillia Power Distribution Corporation 4385","Hydro One Networks Inc. - Orillia Power Distribution Corporation","4385","Non Rate-Regulated Utility Rental Income",-12507,-11784,-11400,-5671,0,null,"Hydro One Networks Inc. - Orillia Power Distribution Corporation 4385"]
["Hydro One Networks Inc. - Orillia Power Distribution Corporation 4390","Hydro One Networks Inc. - Orillia Power Distribution Corporation","4390","Miscellaneous Non-Operating Income",0,0,-11880,-11880,-12417,null,"Hydro One Networks Inc. - Orillia Power Distribution Corporation 4390"]
["Hydro One Networks Inc. - Orillia Power Distribution Corporation 4395","Hydro One Networks Inc. - Orillia Power Distribution Corporation","4395","Rate-Payer Benefit Including Interest",0,0,0,0,0,null,"Hydro One Networks Inc. - Orillia Power Distribution Corporation 4395"]
["Hydro One Networks Inc. - Orillia Power Distribution Corporation 4398","Hydro One Networks Inc. - Orillia Power Distribution Corporation","4398","Foreign Exchange Gains and Losses, Including Amortization",0,0,0,0,0,null,"Hydro One Networks Inc. - Orillia Power Distribution Corporation 4398"]
["Hydro One Networks Inc. - Orillia Power Distribution Corporation 4405","Hydro One Networks Inc. - Orillia Power Distribution Corporation","4405","Interest and Dividend Income",-41360,-34967,-49500,-68385,-50814,null,"Hydro One Networks Inc. - Orillia Power Distribution Corporation 4405"]
["Hydro One Networks Inc. - Orillia Power Distribution Corporation 4410","Hydro One Networks Inc. - Orillia Power Distribution Corporation","4410","Lessor's Net Investment in Finance Lease",0,0,0,0,0,null,"Hydro One Networks Inc. - Orillia Power Distribution Corporation 4410"]
["Hydro One Networks Inc. - Orillia Power Distribution Corporation 4415","Hydro One Networks Inc. - Orillia Power Distribution Corporation","4415","Equity in Earnings of Subsidiary Companies",0,0,0,0,0,null,"Hydro One Networks Inc. - Orillia Power Distribution Corporation 4415"]
["Hydro One Networks Inc. - Orillia Power Distribution Corporation 4420","Hydro One Networks Inc. - Orillia Power Distribution Corporation","4420","Share of Profit or Loss of Joint Venture",0,0,0,0,0,null,"Hydro One Networks Inc. - Orillia Power Distribution Corporation 4420"]
["Hydro One Networks Inc. - Orillia Power Distribution Corporation Total ","Hydro One Networks Inc. - Orillia Power Distribution Corporation Total",null,null,1442279,72487,245801,220202,-2753552,null,"Hydro One Networks Inc. - Orillia Power Distribution Corporation Total "]
["Hydro One Remote Communities Inc. 4082","Hydro One Remote Communities Inc.","4082","Retail Services Revenues",0,0,0,0,0,null,"Hydro One Remote Communities Inc. 4082"]
["Hydro One Remote Communities Inc. 4084","Hydro One Remote Communities Inc.","4084","Service Transaction Requests (STR) Revenues",0,0,0,0,0,null,"Hydro One Remote Communities Inc. 4084"]
["Hydro One Remote Communities Inc. 4086","Hydro One Remote Communities Inc.","4086","SSS Administration Revenue",0,0,0,0,0,null,"Hydro One Remote Communities Inc. 4086"]
["Hydro One Remote Communities Inc. 4090","Hydro One Remote Communities Inc.","4090","Electric Services Incidental to Energy Sales",0,0,0,0,0,null,"Hydro One Remote Communities Inc. 4090"]
["Hydro One Remote Communities Inc. 4205","Hydro One Remote Communities Inc.","4205","Interdepartmental Rents",0,0,0,0,0,null,"Hydro One Remote Communities Inc. 4205"]
["Hydro One Remote Communities Inc. 4210","Hydro One Remote Communities Inc.","4210","Rent from Electric Property",0,0,0,0,0,null,"Hydro One Remote Communities Inc. 4210"]
["Hydro One Remote Communities Inc. 4215","Hydro One Remote Communities Inc.","4215","Other Utility Operating Income",0,0,0,0,0,null,"Hydro One Remote Communities Inc. 4215"]
["Hydro One Remote Communities Inc. 4220","Hydro One Remote Communities Inc.","4220","Other Electric Revenues",0,0,0,0,0,null,"Hydro One Remote Communities Inc. 4220"]
["Hydro One Remote Communities Inc. 4225","Hydro One Remote Communities Inc.","4225","Late Payment Charges",-382972.91,-301556.03000000003,-270452.5,-411771.4,-144988.34,null,"Hydro One Remote Communities Inc. 4225"]
["Hydro One Remote Communities Inc. 4230","Hydro One Remote Communities Inc.","4230","Sales of Water and Water Power",0,0,0,0,0,null,"Hydro One Remote Communities Inc. 4230"]
["Hydro One Remote Communities Inc. 4235","Hydro One Remote Communities Inc.","4235","Miscellaneous Service Revenues",-479516.74,-622577.12,-72017.09,-92881.43,-167689.81,null,"Hydro One Remote Communities Inc. 4235"]
["Hydro One Remote Communities Inc. 4240","Hydro One Remote Communities Inc.","4240","Provision for Rate Refunds",0,0,0,0,0,null,"Hydro One Remote Communities Inc. 4240"]
["Hydro One Remote Communities Inc. 4245","Hydro One Remote Communities Inc.","4245","Government Assistance Directly Credited to Income",0,0,0,0,0,null,"Hydro One Remote Communities Inc. 4245"]
["Hydro One Remote Communities Inc. 4305","Hydro One Remote Communities Inc.","4305","Regulatory Debits",0,0,0,0,0,null,"Hydro One Remote Communities Inc. 4305"]
["Hydro One Remote Communities Inc. 4310","Hydro One Remote Communities Inc.","4310","Regulatory Credits",0,0,0,0,0,null,"Hydro One Remote Communities Inc. 4310"]
["Hydro One Remote Communities Inc. 4315","Hydro One Remote Communities Inc.","4315","Revenues from Electric Plant Leased to Others",0,0,0,0,0,null,"Hydro One Remote Communities Inc. 4315"]
["Hydro One Remote Communities Inc. 4320","Hydro One Remote Communities Inc.","4320","Expenses of Electric Plant Leased to Others",0,0,0,0,0,null,"Hydro One Remote Communities Inc. 4320"]
["Hydro One Remote Communities Inc. 4325","Hydro One Remote Communities Inc.","4325","Revenues from Merchandise Jobbing, Etc.",-692264.58,-724975.55,-1051717.3400000001,-734886.73,-526599.37,null,"Hydro One Remote Communities Inc. 4325"]
["Hydro One Remote Communities Inc. 4330","Hydro One Remote Communities Inc.","4330","Costs and Expenses of Merchandising Jobbing, Etc.",341893.73,275123.53000000003,588600.81999999995,690783.42,489608.24,null,"Hydro One Remote Communities Inc. 4330"]
["Hydro One Remote Communities Inc. 4335","Hydro One Remote Communities Inc.","4335","Profits and Losses from Financial Instrument Hedges",0,0,0,0,0,null,"Hydro One Remote Communities Inc. 4335"]
["Hydro One Remote Communities Inc. 4340","Hydro One Remote Communities Inc.","4340","Profits and Losses from Financial Instrument Investments",0,0,0,0,0,null,"Hydro One Remote Communities Inc. 4340"]
["Hydro One Remote Communities Inc. 4345","Hydro One Remote Communities Inc.","4345","Gains from Disposition of Future Use Utility Plant",0,0,0,0,0,null,"Hydro One Remote Communities Inc. 4345"]
["Hydro One Remote Communities Inc. 4350","Hydro One Remote Communities Inc.","4350","Losses from Disposition of Future Use Utility Plant",0,0,0,0,0,null,"Hydro One Remote Communities Inc. 4350"]
["Hydro One Remote Communities Inc. 4355","Hydro One Remote Communities Inc.","4355","Gain on Disposition of Utility and Other Property",0,0,0,-0.01,-86200,null,"Hydro One Remote Communities Inc. 4355"]
["Hydro One Remote Communities Inc. 4360","Hydro One Remote Communities Inc.","4360","Loss on Disposition of Utility and Other Property",0,0,0,0,0,null,"Hydro One Remote Communities Inc. 4360"]
["Hydro One Remote Communities Inc. 4365","Hydro One Remote Communities Inc.","4365","Gains from Disposition of Allowances for Emission",0,0,0,0,0,null,"Hydro One Remote Communities Inc. 4365"]
["Hydro One Remote Communities Inc. 4370","Hydro One Remote Communities Inc.","4370","Losses from Disposition of Allowances for Emission",0,0,0,0,0,null,"Hydro One Remote Communities Inc. 4370"]
["Hydro One Remote Communities Inc. 4375","Hydro One Remote Communities Inc.","4375","Revenues from Non-Utility Operations",-14375.95,-15190.16,-16093.17,-17049.7,-18114.22,null,"Hydro One Remote Communities Inc. 4375"]
["Hydro One Remote Communities Inc. 4375","Hydro One Remote Communities Inc.","4375","Sub-account Generation Facility Revenues",0,0,0,0,0,null,"Hydro One Remote Communities Inc. 4375"]
["Hydro One Remote Communities Inc. 4380","Hydro One Remote Communities Inc.","4380","Expenses of Non-Utility Operations",0,0,0,0,0,null,"Hydro One Remote Communities Inc. 4380"]
["Hydro One Remote Communities Inc. 4380","Hydro One Remote Communities Inc.","4380","Sub-account Generation Facility Expenses",0,0,0,0,0,null,"Hydro One Remote Communities Inc. 4380"]
["Hydro One Remote Communities Inc. 4385","Hydro One Remote Communities Inc.","4385","Non-Utility Rental Income",0,0,0,0,0,null,"Hydro One Remote Communities Inc. 4385"]
["Hydro One Remote Communities Inc. 4390","Hydro One Remote Communities Inc.","4390","Miscellaneous Non-Operating Income",0,0,0,0,0,null,"Hydro One Remote Communities Inc. 4390"]
["Hydro One Remote Communities Inc. 4395","Hydro One Remote Communities Inc.","4395","Rate-Payer Benefit Including Interest",0,0,0,0,0,null,"Hydro One Remote Communities Inc. 4395"]
["Hydro One Remote Communities Inc. 4398","Hydro One Remote Communities Inc.","4398","Foreign Exchange Gains and Losses, Including Amortization",0,0,0,0,0,null,"Hydro One Remote Communities Inc. 4398"]
["Hydro One Remote Communities Inc. 4405","Hydro One Remote Communities Inc.","4405","Interest and Dividend Income",0,0,0,0,0,null,"Hydro One Remote Communities Inc. 4405"]
["Hydro One Remote Communities Inc. 4415","Hydro One Remote Communities Inc.","4415","Equity in Earnings of Subsidiary Companies",0,0,0,0,0,null,"Hydro One Remote Communities Inc. 4415"]
["Hydro One Remote Communities Inc. Total ","Hydro One Remote Communities Inc. Total",null,null,-1227236.45,-1389175.33,-821679.28,-565805.85,-453983.5,null,"Hydro One Remote Communities Inc. Total "]
["Hydro Ottawa Limited 4082","Hydro Ottawa Limited","4082","Retail Services Revenues",-153633.79999999999,-132517,-119505.25,-105191.5,-188094.07999999999,null,"Hydro Ottawa Limited 4082"]
["Hydro Ottawa Limited 4084","Hydro Ottawa Limited","4084","Service Transaction Requests (STR) Revenues",-6010.5,-2845.5,-2538.6999999999998,-2780.75,-6141.39,null,"Hydro Ottawa Limited 4084"]
["Hydro Ottawa Limited 4086","Hydro Ottawa Limited","4086","SSS Administration Revenue",-951237.57,-960079.11,-973146.58,-996280.07,-1017500.54,null,"Hydro Ottawa Limited 4086"]
["Hydro Ottawa Limited 4090","Hydro Ottawa Limited","4090","Electric Services Incidental to Energy Sales",-257117.11,-316105.57,-342351.1,-386619.26,-397209.37,null,"Hydro Ottawa Limited 4090"]
["Hydro Ottawa Limited 4205","Hydro Ottawa Limited","4205","Interdepartmental Rents",0,0,0,0,0,null,"Hydro Ottawa Limited 4205"]
["Hydro Ottawa Limited 4210","Hydro Ottawa Limited","4210","Rent from Electric Property",0,0,0,0,0,null,"Hydro Ottawa Limited 4210"]
["Hydro Ottawa Limited 4215","Hydro Ottawa Limited","4215","Other Utility Operating Income",0,0,0,0,0,null,{"$f":"B1542 & \" \" &C1542","v":"Hydro Ottawa Limited 4215"}]
["Hydro Ottawa Limited 4220","Hydro Ottawa Limited","4220","Other Electric Revenues",0,0,0,0,0,null,"Hydro Ottawa Limited 4220"]
["Hydro Ottawa Limited 4225","Hydro Ottawa Limited","4225","Late Payment Charges",-1029256.87,-1071780.99,-1041348.01,-993548.71,-1780460.02,null,"Hydro Ottawa Limited 4225"]
["Hydro Ottawa Limited 4230","Hydro Ottawa Limited","4230","Sales of Water and Water Power",0,0,0,0,0,null,"Hydro Ottawa Limited 4230"]
["Hydro Ottawa Limited 4235","Hydro Ottawa Limited","4235","Miscellaneous Service Revenues",-6143933.8399999999,-5621634.29,-5648709.9400000004,-5522196.8099999996,-5371378.6600000001,null,"Hydro Ottawa Limited 4235"]
["Hydro Ottawa Limited 4240","Hydro Ottawa Limited","4240","Provision for Rate Refunds",0,0,0,0,0,null,"Hydro Ottawa Limited 4240"]
["Hydro Ottawa Limited 4245","Hydro Ottawa Limited","4245","Government and Other Assistance Directly Credited to Income",0,0,0,0,0,null,"Hydro Ottawa Limited 4245"]
["Hydro Ottawa Limited 4305","Hydro Ottawa Limited","4305","Regulatory Debits",0,0,0,0,0,null,"Hydro Ottawa Limited 4305"]
["Hydro Ottawa Limited 4310","Hydro Ottawa Limited","4310","Regulatory Credits",0,0,0,0,0,null,"Hydro Ottawa Limited 4310"]
["Hydro Ottawa Limited 4315","Hydro Ottawa Limited","4315","Revenues from Electric Plant Leased to Others",-1611576.15,-1648672.26,-1579126.86,-1586138.78,-1377499.49,null,"Hydro Ottawa Limited 4315"]
["Hydro Ottawa Limited 4320","Hydro Ottawa Limited","4320","Expenses of Electric Plant Leased to Others",0,0,0,0,0,null,"Hydro Ottawa Limited 4320"]
["Hydro Ottawa Limited 4325","Hydro Ottawa Limited","4325","Revenues from Merchandise",-5966347.3300000001,-7333598.0999999996,-10338836.960000001,-13315105.210000001,-9834978.8300000001,null,"Hydro Ottawa Limited 4325"]
["Hydro Ottawa Limited 4330","Hydro Ottawa Limited","4330","Costs and Expenses of Merchandising",3911728.45,4062736.34,7267852.8099999996,13304887.390000001,10947338.970000001,null,"Hydro Ottawa Limited 4330"]
["Hydro Ottawa Limited 4335","Hydro Ottawa Limited","4335","Profits and Losses from Financial Instrument Hedges",0,0,0,0,0,null,"Hydro Ottawa Limited 4335"]
["Hydro Ottawa Limited 4340","Hydro Ottawa Limited","4340","Profits and Losses from Financial Instrument Investments",0,0,0,0,0,null,"Hydro Ottawa Limited 4340"]
["Hydro Ottawa Limited 4345","Hydro Ottawa Limited","4345","Gains from Disposition of Future Use Utility Plant",0,0,0,0,0,null,"Hydro Ottawa Limited 4345"]
["Hydro Ottawa Limited 4350","Hydro Ottawa Limited","4350","Losses from Disposition of Future Use Utility Plant",0,0,0,0,0,null,"Hydro Ottawa Limited 4350"]
["Hydro Ottawa Limited 4355","Hydro Ottawa Limited","4355","Gain on Disposition of Utility and Other Property",0,0,0,0,0,null,"Hydro Ottawa Limited 4355"]
["Hydro Ottawa Limited 4357","Hydro Ottawa Limited","4357","Gain from Retirement of Utility and Other Property",0,0,0,0,0,null,"Hydro Ottawa Limited 4357"]
["Hydro Ottawa Limited 4360","Hydro Ottawa Limited","4360","Loss on Disposition of Utility and Other Property",0,0,0,0,0,null,"Hydro Ottawa Limited 4360"]
["Hydro Ottawa Limited 4362","Hydro Ottawa Limited","4362","Loss from Retirement of Utility and Other Property",-140117.12,-198349,-198349,-198349,-198349,null,"Hydro Ottawa Limited 4362"]
["Hydro Ottawa Limited 4365","Hydro Ottawa Limited","4365","Gains from Disposition of Allowances for Emission",0,0,0,0,0,null,"Hydro Ottawa Limited 4365"]
["Hydro Ottawa Limited 4370","Hydro Ottawa Limited","4370","Losses from Disposition of Allowances for Emission",0,0,0,0,0,null,"Hydro Ottawa Limited 4370"]
["Hydro Ottawa Limited 4375","Hydro Ottawa Limited","4375","Revenues from Non Rate-Regulated Utility Operations",-19676147.329999998,-24007240.48,-24956837.379999999,-13364148.810000001,-7622991.9199999999,null,"Hydro Ottawa Limited 4375"]
["Hydro Ottawa Limited 4375","Hydro Ottawa Limited","4375","Sub-account Generation Facility Revenues",0,0,0,0,0,null,"Hydro Ottawa Limited 4375"]
["Hydro Ottawa Limited 4380","Hydro Ottawa Limited","4380","Expenses of Non Rate-Regulated Utility Operations",19014846.010000002,23976559.140000001,20812162.289999999,14257874.91,8235025.2000000002,null,"Hydro Ottawa Limited 4380"]
["Hydro Ottawa Limited 4380","Hydro Ottawa Limited","4380","Sub-account Generation Facility Expenses",0,0,0,0,0,null,"Hydro Ottawa Limited 4380"]
["Hydro Ottawa Limited 4385","Hydro Ottawa Limited","4385","Non Rate-Regulated Utility Rental Income",-123309.65,-71098.460000000006,233787.99,114372.22,212889.37,null,"Hydro Ottawa Limited 4385"]
["Hydro Ottawa Limited 4390","Hydro Ottawa Limited","4390","Miscellaneous Non-Operating Income",0,0,0,0,0,null,"Hydro Ottawa Limited 4390"]
["Hydro Ottawa Limited 4395","Hydro Ottawa Limited","4395","Rate-Payer Benefit Including Interest",0,0,0,0,0,null,"Hydro Ottawa Limited 4395"]
["Hydro Ottawa Limited 4398","Hydro Ottawa Limited","4398","Foreign Exchange Gains and Losses, Including Amortization",0,0,0,0,0,null,"Hydro Ottawa Limited 4398"]
["Hydro Ottawa Limited 4405","Hydro Ottawa Limited","4405","Interest and Dividend Income",-38905.17,-75768.2,-116864.26,-33096.980000000003,-65839.710000000006,null,"Hydro Ottawa Limited 4405"]
["Hydro Ottawa Limited 4410","Hydro Ottawa Limited","4410","Lessor's Net Investment in Finance Lease",0,0,0,0,0,null,"Hydro Ottawa Limited 4410"]
["Hydro Ottawa Limited 4415","Hydro Ottawa Limited","4415","Equity in Earnings of Subsidiary Companies",0,0,0,0,0,null,"Hydro Ottawa Limited 4415"]
["Hydro Ottawa Limited 4420","Hydro Ottawa Limited","4420","Share of Profit or Loss of Joint Venture",0,0,0,0,0,null,"Hydro Ottawa Limited 4420"]
["Hydro Ottawa Limited Total ","Hydro Ottawa Limited Total",null,null,-13171017.98,-13400393.48,-17003810.949999999,-8826321.3600000106,-8465189.4700000007,null,"Hydro Ottawa Limited Total "]
["Innpower Corporation 4082","Innpower Corporation","4082","Retail Services Revenues",-13533,-10932.2,-11568.3,-14908.6,-15343.77,null,"Innpower Corporation 4082"]
["Innpower Corporation 4084","Innpower Corporation","4084","Service Transaction Requests (STR) Revenues",-166.25,-134,-47.82,0,0,null,"Innpower Corporation 4084"]
["Innpower Corporation 4086","Innpower Corporation","4086","SSS Administration Revenue",0,0,0,0,0,null,"Innpower Corporation 4086"]
["Innpower Corporation 4090","Innpower Corporation","4090","Electric Services Incidental to Energy Sales",0,0,0,0,0,null,"Innpower Corporation 4090"]
["Innpower Corporation 4205","Innpower Corporation","4205","Interdepartmental Rents",0,0,0,0,0,null,"Innpower Corporation 4205"]
["Innpower Corporation 4210","Innpower Corporation","4210","Rent from Electric Property",-162033.75,-166018.95000000001,-234376.45,-322911.18,-283788.27,null,"Innpower Corporation 4210"]
["Innpower Corporation 4215","Innpower Corporation","4215","Other Utility Operating Income",0,0,0,0,0,null,"Innpower Corporation 4215"]
["Innpower Corporation 4220","Innpower Corporation","4220","Other Electric Revenues",0,0,0,0,0,null,"Innpower Corporation 4220"]
["Innpower Corporation 4225","Innpower Corporation","4225","Late Payment Charges",-109070.66,-106918.33,-105418.6,-89306.37,-117180.53,null,"Innpower Corporation 4225"]
["Innpower Corporation 4230","Innpower Corporation","4230","Sales of Water and Water Power",0,0,0,0,0,null,"Innpower Corporation 4230"]
["Innpower Corporation 4235","Innpower Corporation","4235","Miscellaneous Service Revenues",-159222.53,-106847.97,-161691.09,-140414.26999999999,-115277.3,null,"Innpower Corporation 4235"]
["Innpower Corporation 4240","Innpower Corporation","4240","Provision for Rate Refunds",0,0,0,0,0,null,"Innpower Corporation 4240"]
["Innpower Corporation 4245","Innpower Corporation","4245","Government and Other Assistance Directly Credited to Income",-376050.59,-419068.63,-446326.66,-540494.19999999995,-742273.5,null,"Innpower Corporation 4245"]
["Innpower Corporation 4305","Innpower Corporation","4305","Regulatory Debits",0,0,0,0,0,null,"Innpower Corporation 4305"]
["Innpower Corporation 4310","Innpower Corporation","4310","Regulatory Credits",0,0,0,0,0,null,"Innpower Corporation 4310"]
["Innpower Corporation 4315","Innpower Corporation","4315","Revenues from Electric Plant Leased to Others",0,0,0,0,0,null,"Innpower Corporation 4315"]
["Innpower Corporation 4320","Innpower Corporation","4320","Expenses of Electric Plant Leased to Others",0,0,0,0,0,null,"Innpower Corporation 4320"]
["Innpower Corporation 4325","Innpower Corporation","4325","Revenues from Merchandise",0,0,0,0,0,null,"Innpower Corporation 4325"]
["Innpower Corporation 4330","Innpower Corporation","4330","Costs and Expenses of Merchandising",0,0,0,0,0,null,"Innpower Corporation 4330"]
["Innpower Corporation 4335","Innpower Corporation","4335","Profits and Losses from Financial Instrument Hedges",0,0,0,0,0,null,"Innpower Corporation 4335"]
["Innpower Corporation 4340","Innpower Corporation","4340","Profits and Losses from Financial Instrument Investments",0,0,0,0,0,null,"Innpower Corporation 4340"]
["Innpower Corporation 4345","Innpower Corporation","4345","Gains from Disposition of Future Use Utility Plant",0,0,0,0,0,null,"Innpower Corporation 4345"]
["Innpower Corporation 4350","Innpower Corporation","4350","Losses from Disposition of Future Use Utility Plant",0,0,0,0,0,null,"Innpower Corporation 4350"]
["Innpower Corporation 4355","Innpower Corporation","4355","Gain on Disposition of Utility and Other Property",8790.77,48934.74,11423.77,59812.97,6270.09,null,"Innpower Corporation 4355"]
["Innpower Corporation 4357","Innpower Corporation","4357","Gain from Retirement of Utility and Other Property",0,0,0,0,0,null,"Innpower Corporation 4357"]
["Innpower Corporation 4360","Innpower Corporation","4360","Loss on Disposition of Utility and Other Property",0,0,0,0,0,null,"Innpower Corporation 4360"]
["Innpower Corporation 4362","Innpower Corporation","4362","Loss from Retirement of Utility and Other Property",0,0,0,0,0,null,"Innpower Corporation 4362"]
["Innpower Corporation 4365","Innpower Corporation","4365","Gains from Disposition of Allowances for Emission",0,0,0,0,0,null,"Innpower Corporation 4365"]
["Innpower Corporation 4370","Innpower Corporation","4370","Losses from Disposition of Allowances for Emission",0,0,0,0,0,null,{"$f":"B1606 & \" \" &C1606","v":"Innpower Corporation 4370"}]
["Innpower Corporation 4375","Innpower Corporation","4375","Revenues from Non Rate-Regulated Utility Operations",-1354977.71,-927386.88,-1565066.45,-1217885.46,-1569563.82,null,"Innpower Corporation 4375"]
["Innpower Corporation 4375","Innpower Corporation","4375","Sub-account Generation Facility Revenues",0,0,0,0,0,null,"Innpower Corporation 4375"]
["Innpower Corporation 4380","Innpower Corporation","4380","Expenses of Non Rate-Regulated Utility Operations",1250846.58,1171944.57,1226993.05,985242.28,1266622.4099999999,null,"Innpower Corporation 4380"]
["Innpower Corporation 4380","Innpower Corporation","4380","Sub-account Generation Facility Expenses",0,0,0,0,0,null,"Innpower Corporation 4380"]
["Innpower Corporation 4385","Innpower Corporation","4385","Non Rate-Regulated Utility Rental Income",0,0,0,0,-106843.38,null,"Innpower Corporation 4385"]
["Innpower Corporation 4390","Innpower Corporation","4390","Miscellaneous Non-Operating Income",-57992.32,-99701.96,-148026.97,-157734.59,-22912,null,"Innpower Corporation 4390"]
["Innpower Corporation 4395","Innpower Corporation","4395","Rate-Payer Benefit Including Interest",0,0,0,0,0,null,"Innpower Corporation 4395"]
["Innpower Corporation 4398","Innpower Corporation","4398","Foreign Exchange Gains and Losses, Including Amortization",0,0,0,0,0,null,"Innpower Corporation 4398"]
["Innpower Corporation 4405","Innpower Corporation","4405","Interest and Dividend Income",-29388.06,-40534.559999999998,-606204.74,-817670.51,-96644.64,null,"Innpower Corporation 4405"]
["Innpower Corporation 4410","Innpower Corporation","4410","Lessor's Net Investment in Finance Lease",0,0,0,0,0,null,"Innpower Corporation 4410"]
["Innpower Corporation 4415","Innpower Corporation","4415","Equity in Earnings of Subsidiary Companies",0,0,0,0,0,null,"Innpower Corporation 4415"]
["Innpower Corporation 4420","Innpower Corporation","4420","Share of Profit or Loss of Joint Venture",0,0,0,0,0,null,"Innpower Corporation 4420"]
["Innpower Corporation Total ","Innpower Corporation Total",null,null,-1002797.52,-656664.17000000004,-2040310.26,-2256269.9300000002,-1796934.71,null,"Innpower Corporation Total "]
["Kenora Hydro Electric Corporation Ltd. 4082","Kenora Hydro Electric Corporation Ltd.","4082","Retail Services Revenues",-5297,-4755,-5821,null,null,null,"Kenora Hydro Electric Corporation Ltd. 4082"]
["Kenora Hydro Electric Corporation Ltd. 4084","Kenora Hydro Electric Corporation Ltd.","4084","Service Transaction Requests (STR) Revenues",-111,-31,-16,null,null,null,"Kenora Hydro Electric Corporation Ltd. 4084"]
["Kenora Hydro Electric Corporation Ltd. 4086","Kenora Hydro Electric Corporation Ltd.","4086","SSS Administration Revenue",-15920,-16088,-16035,null,null,null,"Kenora Hydro Electric Corporation Ltd. 4086"]
["Kenora Hydro Electric Corporation Ltd. 4090","Kenora Hydro Electric Corporation Ltd.","4090","Electric Services Incidental to Energy Sales",0,0,0,null,null,null,"Kenora Hydro Electric Corporation Ltd. 4090"]
["Kenora Hydro Electric Corporation Ltd. 4205","Kenora Hydro Electric Corporation Ltd.","4205","Interdepartmental Rents",0,0,0,null,null,null,"Kenora Hydro Electric Corporation Ltd. 4205"]
["Kenora Hydro Electric Corporation Ltd. 4210","Kenora Hydro Electric Corporation Ltd.","4210","Rent from Electric Property",-108040,-108040,-108040,null,null,null,"Kenora Hydro Electric Corporation Ltd. 4210"]
["Kenora Hydro Electric Corporation Ltd. 4215","Kenora Hydro Electric Corporation Ltd.","4215","Other Utility Operating Income",0,0,0,null,null,null,"Kenora Hydro Electric Corporation Ltd. 4215"]
["Kenora Hydro Electric Corporation Ltd. 4220","Kenora Hydro Electric Corporation Ltd.","4220","Other Electric Revenues",-59915,-52547,-37279,null,null,null,"Kenora Hydro Electric Corporation Ltd. 4220"]
["Kenora Hydro Electric Corporation Ltd. 4225","Kenora Hydro Electric Corporation Ltd.","4225","Late Payment Charges",-39747,-30082,-29640,null,null,null,"Kenora Hydro Electric Corporation Ltd. 4225"]
["Kenora Hydro Electric Corporation Ltd. 4230","Kenora Hydro Electric Corporation Ltd.","4230","Sales of Water and Water Power",0,0,0,null,null,null,"Kenora Hydro Electric Corporation Ltd. 4230"]
["Kenora Hydro Electric Corporation Ltd. 4235","Kenora Hydro Electric Corporation Ltd.","4235","Miscellaneous Service Revenues",-24092,-24968,-26001,null,null,null,"Kenora Hydro Electric Corporation Ltd. 4235"]
["Kenora Hydro Electric Corporation Ltd. 4240","Kenora Hydro Electric Corporation Ltd.","4240","Provision for Rate Refunds",0,0,0,null,null,null,"Kenora Hydro Electric Corporation Ltd. 4240"]
["Kenora Hydro Electric Corporation Ltd. 4245","Kenora Hydro Electric Corporation Ltd.","4245","Government and Other Assistance Directly Credited to Income",-60368,-9666,-7276,null,null,null,"Kenora Hydro Electric Corporation Ltd. 4245"]
["Kenora Hydro Electric Corporation Ltd. 4305","Kenora Hydro Electric Corporation Ltd.","4305","Regulatory Debits",0,1138,-2978,null,null,null,"Kenora Hydro Electric Corporation Ltd. 4305"]
["Kenora Hydro Electric Corporation Ltd. 4310","Kenora Hydro Electric Corporation Ltd.","4310","Regulatory Credits",-18090,0,0,null,null,null,"Kenora Hydro Electric Corporation Ltd. 4310"]
["Kenora Hydro Electric Corporation Ltd. 4315","Kenora Hydro Electric Corporation Ltd.","4315","Revenues from Electric Plant Leased to Others",0,0,0,null,null,null,"Kenora Hydro Electric Corporation Ltd. 4315"]
["Kenora Hydro Electric Corporation Ltd. 4320","Kenora Hydro Electric Corporation Ltd.","4320","Expenses of Electric Plant Leased to Others",0,0,0,null,null,null,"Kenora Hydro Electric Corporation Ltd. 4320"]
["Kenora Hydro Electric Corporation Ltd. 4325","Kenora Hydro Electric Corporation Ltd.","4325","Revenues from Merchandise",-91972,-63317,-96487,null,null,null,"Kenora Hydro Electric Corporation Ltd. 4325"]
["Kenora Hydro Electric Corporation Ltd. 4330","Kenora Hydro Electric Corporation Ltd.","4330","Costs and Expenses of Merchandising",0,0,0,null,null,null,"Kenora Hydro Electric Corporation Ltd. 4330"]
["Kenora Hydro Electric Corporation Ltd. 4335","Kenora Hydro Electric Corporation Ltd.","4335","Profits and Losses from Financial Instrument Hedges",0,0,0,null,null,null,"Kenora Hydro Electric Corporation Ltd. 4335"]
["Kenora Hydro Electric Corporation Ltd. 4340","Kenora Hydro Electric Corporation Ltd.","4340","Profits and Losses from Financial Instrument Investments",0,0,0,null,null,null,"Kenora Hydro Electric Corporation Ltd. 4340"]
["Kenora Hydro Electric Corporation Ltd. 4345","Kenora Hydro Electric Corporation Ltd.","4345","Gains from Disposition of Future Use Utility Plant",0,0,0,null,null,null,"Kenora Hydro Electric Corporation Ltd. 4345"]
["Kenora Hydro Electric Corporation Ltd. 4350","Kenora Hydro Electric Corporation Ltd.","4350","Losses from Disposition of Future Use Utility Plant",0,0,0,null,null,null,"Kenora Hydro Electric Corporation Ltd. 4350"]
["Kenora Hydro Electric Corporation Ltd. 4355","Kenora Hydro Electric Corporation Ltd.","4355","Gain on Disposition of Utility and Other Property",-10700,0,0,null,null,null,"Kenora Hydro Electric Corporation Ltd. 4355"]
["Kenora Hydro Electric Corporation Ltd. 4357","Kenora Hydro Electric Corporation Ltd.","4357","Gain from Retirement of Utility and Other Property",0,0,0,null,null,null,"Kenora Hydro Electric Corporation Ltd. 4357"]
["Kenora Hydro Electric Corporation Ltd. 4360","Kenora Hydro Electric Corporation Ltd.","4360","Loss on Disposition of Utility and Other Property",0,0,7242,null,null,null,"Kenora Hydro Electric Corporation Ltd. 4360"]
["Kenora Hydro Electric Corporation Ltd. 4362","Kenora Hydro Electric Corporation Ltd.","4362","Loss from Retirement of Utility and Other Property",0,0,0,null,null,null,"Kenora Hydro Electric Corporation Ltd. 4362"]
["Kenora Hydro Electric Corporation Ltd. 4365","Kenora Hydro Electric Corporation Ltd.","4365","Gains from Disposition of Allowances for Emission",0,0,0,null,null,null,"Kenora Hydro Electric Corporation Ltd. 4365"]
["Kenora Hydro Electric Corporation Ltd. 4370","Kenora Hydro Electric Corporation Ltd.","4370","Losses from Disposition of Allowances for Emission",0,0,0,null,null,null,"Kenora Hydro Electric Corporation Ltd. 4370"]
["Kenora Hydro Electric Corporation Ltd. 4375","Kenora Hydro Electric Corporation Ltd.","4375","Revenues from Non Rate-Regulated Utility Operations",-34942,-96192,-51752,null,null,null,"Kenora Hydro Electric Corporation Ltd. 4375"]
["Kenora Hydro Electric Corporation Ltd. 4375","Kenora Hydro Electric Corporation Ltd.","4375","Sub-account Generation Facility Revenues",0,0,0,null,null,null,"Kenora Hydro Electric Corporation Ltd. 4375"]
["Kenora Hydro Electric Corporation Ltd. 4380","Kenora Hydro Electric Corporation Ltd.","4380","Expenses of Non Rate-Regulated Utility Operations",34942,54480,44753,null,null,null,"Kenora Hydro Electric Corporation Ltd. 4380"]
["Kenora Hydro Electric Corporation Ltd. 4380","Kenora Hydro Electric Corporation Ltd.","4380","Sub-account Generation Facility Expenses",0,0,0,null,null,null,"Kenora Hydro Electric Corporation Ltd. 4380"]
["Kenora Hydro Electric Corporation Ltd. 4385","Kenora Hydro Electric Corporation Ltd.","4385","Non Rate-Regulated Utility Rental Income",0,0,0,null,null,null,"Kenora Hydro Electric Corporation Ltd. 4385"]
["Kenora Hydro Electric Corporation Ltd. 4390","Kenora Hydro Electric Corporation Ltd.","4390","Miscellaneous Non-Operating Income",-35,0,0,null,null,null,"Kenora Hydro Electric Corporation Ltd. 4390"]
["Kenora Hydro Electric Corporation Ltd. 4395","Kenora Hydro Electric Corporation Ltd.","4395","Rate-Payer Benefit Including Interest",0,0,0,null,null,null,"Kenora Hydro Electric Corporation Ltd. 4395"]
["Kenora Hydro Electric Corporation Ltd. 4398","Kenora Hydro Electric Corporation Ltd.","4398","Foreign Exchange Gains and Losses, Including Amortization",0,0,0,null,null,null,"Kenora Hydro Electric Corporation Ltd. 4398"]
["Kenora Hydro Electric Corporation Ltd. 4405","Kenora Hydro Electric Corporation Ltd.","4405","Interest and Dividend Income",-25442,-30838,-46737,null,null,null,"Kenora Hydro Electric Corporation Ltd. 4405"]
["Kenora Hydro Electric Corporation Ltd. 4410","Kenora Hydro Electric Corporation Ltd.","4410","Lessor's Net Investment in Finance Lease",0,0,0,null,null,null,"Kenora Hydro Electric Corporation Ltd. 4410"]
["Kenora Hydro Electric Corporation Ltd. 4415","Kenora Hydro Electric Corporation Ltd.","4415","Equity in Earnings of Subsidiary Companies",0,0,0,null,null,null,"Kenora Hydro Electric Corporation Ltd. 4415"]
["Kenora Hydro Electric Corporation Ltd. 4420","Kenora Hydro Electric Corporation Ltd.","4420","Share of Profit or Loss of Joint Venture",0,0,0,null,null,null,"Kenora Hydro Electric Corporation Ltd. 4420"]
["Kenora Hydro Electric Corporation Ltd. Total ","Kenora Hydro Electric Corporation Ltd. Total",null,null,-459729,-380906,-376067,null,null,null,"Kenora Hydro Electric Corporation Ltd. Total "]
["Kingston Hydro Corporation 4082","Kingston Hydro Corporation","4082","Retail Services Revenues",-14572,-13192,-11688,-16745.599999999999,-18420.8,null,"Kingston Hydro Corporation 4082"]
["Kingston Hydro Corporation 4084","Kingston Hydro Corporation","4084","Service Transaction Requests (STR) Revenues",-2803,-2127,-2634,-2533.44,-2610.5,null,"Kingston Hydro Corporation 4084"]
["Kingston Hydro Corporation 4086","Kingston Hydro Corporation","4086","SSS Administration Revenue",0,0,0,0,0,null,"Kingston Hydro Corporation 4086"]
["Kingston Hydro Corporation 4090","Kingston Hydro Corporation","4090","Electric Services Incidental to Energy Sales",0,0,0,0,0,null,"Kingston Hydro Corporation 4090"]
["Kingston Hydro Corporation 4205","Kingston Hydro Corporation","4205","Interdepartmental Rents",0,0,0,0,0,null,"Kingston Hydro Corporation 4205"]
["Kingston Hydro Corporation 4210","Kingston Hydro Corporation","4210","Rent from Electric Property",-175695,-171648,-180275,-175754.37,-175425.15,null,"Kingston Hydro Corporation 4210"]
["Kingston Hydro Corporation 4215","Kingston Hydro Corporation","4215","Other Utility Operating Income",0,0,0,0,0,null,"Kingston Hydro Corporation 4215"]
["Kingston Hydro Corporation 4220","Kingston Hydro Corporation","4220","Other Electric Revenues",0,0,0,0,0,null,"Kingston Hydro Corporation 4220"]
["Kingston Hydro Corporation 4225","Kingston Hydro Corporation","4225","Late Payment Charges",-47264,-74806,-76495,-44385.09,-109964.84,null,{"$f":"B1670 & \" \" &C1670","v":"Kingston Hydro Corporation 4225"}]
["Kingston Hydro Corporation 4230","Kingston Hydro Corporation","4230","Sales of Water and Water Power",0,0,0,0,0,null,"Kingston Hydro Corporation 4230"]
["Kingston Hydro Corporation 4235","Kingston Hydro Corporation","4235","Miscellaneous Service Revenues",-119388,-137339,-128302,-174321.79,-153687.26999999999,null,"Kingston Hydro Corporation 4235"]
["Kingston Hydro Corporation 4240","Kingston Hydro Corporation","4240","Provision for Rate Refunds",0,0,0,0,0,null,"Kingston Hydro Corporation 4240"]
["Kingston Hydro Corporation 4245","Kingston Hydro Corporation","4245","Government and Other Assistance Directly Credited to Income",-14571,-186740,-127877,-133875.87,-140161.65,null,"Kingston Hydro Corporation 4245"]
["Kingston Hydro Corporation 4305","Kingston Hydro Corporation","4305","Regulatory Debits",3394083,0,0,0,0,null,"Kingston Hydro Corporation 4305"]
["Kingston Hydro Corporation 4310","Kingston Hydro Corporation","4310","Regulatory Credits",0,0,0,0,0,null,"Kingston Hydro Corporation 4310"]
["Kingston Hydro Corporation 4315","Kingston Hydro Corporation","4315","Revenues from Electric Plant Leased to Others",0,0,0,0,0,null,"Kingston Hydro Corporation 4315"]
["Kingston Hydro Corporation 4320","Kingston Hydro Corporation","4320","Expenses of Electric Plant Leased to Others",0,0,0,0,0,null,"Kingston Hydro Corporation 4320"]
["Kingston Hydro Corporation 4325","Kingston Hydro Corporation","4325","Revenues from Merchandise",-4990,-4104,-2385,-3420,-4465.6499999999996,null,"Kingston Hydro Corporation 4325"]
["Kingston Hydro Corporation 4330","Kingston Hydro Corporation","4330","Costs and Expenses of Merchandising",0,0,0,0,0,null,"Kingston Hydro Corporation 4330"]
["Kingston Hydro Corporation 4335","Kingston Hydro Corporation","4335","Profits and Losses from Financial Instrument Hedges",0,0,0,0,0,null,"Kingston Hydro Corporation 4335"]
["Kingston Hydro Corporation 4340","Kingston Hydro Corporation","4340","Profits and Losses from Financial Instrument Investments",0,0,0,0,0,null,"Kingston Hydro Corporation 4340"]
["Kingston Hydro Corporation 4345","Kingston Hydro Corporation","4345","Gains from Disposition of Future Use Utility Plant",0,0,0,0,0,null,"Kingston Hydro Corporation 4345"]
["Kingston Hydro Corporation 4350","Kingston Hydro Corporation","4350","Losses from Disposition of Future Use Utility Plant",0,0,0,0,0,null,"Kingston Hydro Corporation 4350"]
["Kingston Hydro Corporation 4355","Kingston Hydro Corporation","4355","Gain on Disposition of Utility and Other Property",0,0,0,0,0,null,"Kingston Hydro Corporation 4355"]
["Kingston Hydro Corporation 4357","Kingston Hydro Corporation","4357","Gain from Retirement of Utility and Other Property",0,0,0,0,0,null,"Kingston Hydro Corporation 4357"]
["Kingston Hydro Corporation 4360","Kingston Hydro Corporation","4360","Loss on Disposition of Utility and Other Property",0,0,0,0,0,null,"Kingston Hydro Corporation 4360"]
["Kingston Hydro Corporation 4362","Kingston Hydro Corporation","4362","Loss from Retirement of Utility and Other Property",0,0,0,0,0,null,"Kingston Hydro Corporation 4362"]
["Kingston Hydro Corporation 4365","Kingston Hydro Corporation","4365","Gains from Disposition of Allowances for Emission",0,0,0,0,0,null,"Kingston Hydro Corporation 4365"]
["Kingston Hydro Corporation 4370","Kingston Hydro Corporation","4370","Losses from Disposition of Allowances for Emission",0,0,0,0,0,null,"Kingston Hydro Corporation 4370"]
["Kingston Hydro Corporation 4375","Kingston Hydro Corporation","4375","Revenues from Non Rate-Regulated Utility Operations",-680012,-1227933,-1118609,-1490196.55,-189489,null,"Kingston Hydro Corporation 4375"]
["Kingston Hydro Corporation 4375","Kingston Hydro Corporation","4375","Sub-account Generation Facility Revenues",0,0,0,0,0,null,"Kingston Hydro Corporation 4375"]
["Kingston Hydro Corporation 4380","Kingston Hydro Corporation","4380","Expenses of Non Rate-Regulated Utility Operations",429063,1229827,1109828,1198954.02,165528.54999999999,null,"Kingston Hydro Corporation 4380"]
["Kingston Hydro Corporation 4380","Kingston Hydro Corporation","4380","Sub-account Generation Facility Expenses",0,0,0,0,0,null,"Kingston Hydro Corporation 4380"]
["Kingston Hydro Corporation 4385","Kingston Hydro Corporation","4385","Non Rate-Regulated Utility Rental Income",0,0,0,0,0,null,"Kingston Hydro Corporation 4385"]
["Kingston Hydro Corporation 4390","Kingston Hydro Corporation","4390","Miscellaneous Non-Operating Income",-81007,-47339,-69473,-51773.37,-47281.25,null,"Kingston Hydro Corporation 4390"]
["Kingston Hydro Corporation 4395","Kingston Hydro Corporation","4395","Rate-Payer Benefit Including Interest",0,0,0,0,0,null,"Kingston Hydro Corporation 4395"]
["Kingston Hydro Corporation 4398","Kingston Hydro Corporation","4398","Foreign Exchange Gains and Losses, Including Amortization",0,0,0,0,0,null,"Kingston Hydro Corporation 4398"]
["Kingston Hydro Corporation 4405","Kingston Hydro Corporation","4405","Interest and Dividend Income",-28414,-205413,-105124,-106887.87,-117193.60000000001,null,"Kingston Hydro Corporation 4405"]
["Kingston Hydro Corporation 4410","Kingston Hydro Corporation","4410","Lessor's Net Investment in Finance Lease",0,0,0,0,0,null,"Kingston Hydro Corporation 4410"]
["Kingston Hydro Corporation 4415","Kingston Hydro Corporation","4415","Equity in Earnings of Subsidiary Companies",0,0,0,0,0,null,"Kingston Hydro Corporation 4415"]
["Kingston Hydro Corporation 4420","Kingston Hydro Corporation","4420","Share of Profit or Loss of Joint Venture",0,0,0,0,0,null,"Kingston Hydro Corporation 4420"]
["Kingston Hydro Corporation Total ","Kingston Hydro Corporation Total",null,null,2654430,-840814,-713034,-1000939.93,-793171.16,null,"Kingston Hydro Corporation Total "]
["Kitchener-Wilmot Hydro Inc. 4082","Kitchener-Wilmot Hydro Inc.","4082","Retail Services Revenues",-37847.5,-33820.199999999997,-27973.1,-41918.879999999997,-46676.01,null,"Kitchener-Wilmot Hydro Inc. 4082"]
["Kitchener-Wilmot Hydro Inc. 4084","Kitchener-Wilmot Hydro Inc.","4084","Service Transaction Requests (STR) Revenues",-807.25,-700.5,-409.5,-1803,-1584.08,null,"Kitchener-Wilmot Hydro Inc. 4084"]
["Kitchener-Wilmot Hydro Inc. 4086","Kitchener-Wilmot Hydro Inc.","4086","SSS Administration Revenue",-269834.5,-276203.5,-282309.5,-285880.25,-290001.25,null,"Kitchener-Wilmot Hydro Inc. 4086"]
["Kitchener-Wilmot Hydro Inc. 4090","Kitchener-Wilmot Hydro Inc.","4090","Electric Services Incidental to Energy Sales",0,0,0,0,0,null,"Kitchener-Wilmot Hydro Inc. 4090"]
["Kitchener-Wilmot Hydro Inc. 4205","Kitchener-Wilmot Hydro Inc.","4205","Interdepartmental Rents",0,0,0,0,0,null,"Kitchener-Wilmot Hydro Inc. 4205"]
["Kitchener-Wilmot Hydro Inc. 4210","Kitchener-Wilmot Hydro Inc.","4210","Rent from Electric Property",-519579.03,-509641.06,-528858.42000000004,-547585.27,-890840.78,null,"Kitchener-Wilmot Hydro Inc. 4210"]
["Kitchener-Wilmot Hydro Inc. 4215","Kitchener-Wilmot Hydro Inc.","4215","Other Utility Operating Income",0,0,0,0,0,null,"Kitchener-Wilmot Hydro Inc. 4215"]
["Kitchener-Wilmot Hydro Inc. 4220","Kitchener-Wilmot Hydro Inc.","4220","Other Electric Revenues",-42000,-43900,-68891.13,-71294.7,-73659.17,null,"Kitchener-Wilmot Hydro Inc. 4220"]
["Kitchener-Wilmot Hydro Inc. 4225","Kitchener-Wilmot Hydro Inc.","4225","Late Payment Charges",-228268.04,-196977.69,-203653.22,-202611.46,-338524.42,null,"Kitchener-Wilmot Hydro Inc. 4225"]
["Kitchener-Wilmot Hydro Inc. 4230","Kitchener-Wilmot Hydro Inc.","4230","Sales of Water and Water Power",0,0,0,0,0,null,"Kitchener-Wilmot Hydro Inc. 4230"]
["Kitchener-Wilmot Hydro Inc. 4235","Kitchener-Wilmot Hydro Inc.","4235","Miscellaneous Service Revenues",-483537.76,-443222.8,-405358.83,-347209.99,-327259.59999999998,null,"Kitchener-Wilmot Hydro Inc. 4235"]
["Kitchener-Wilmot Hydro Inc. 4240","Kitchener-Wilmot Hydro Inc.","4240","Provision for Rate Refunds",0,0,0,0,0,null,"Kitchener-Wilmot Hydro Inc. 4240"]
["Kitchener-Wilmot Hydro Inc. 4245","Kitchener-Wilmot Hydro Inc.","4245","Government and Other Assistance Directly Credited to Income",-480409.26,-658473.48,-781551.87,-908405.09,-1015519.94,null,"Kitchener-Wilmot Hydro Inc. 4245"]
["Kitchener-Wilmot Hydro Inc. 4305","Kitchener-Wilmot Hydro Inc.","4305","Regulatory Debits",0,0,0,0,0,null,"Kitchener-Wilmot Hydro Inc. 4305"]
["Kitchener-Wilmot Hydro Inc. 4310","Kitchener-Wilmot Hydro Inc.","4310","Regulatory Credits",0,0,0,0,0,null,"Kitchener-Wilmot Hydro Inc. 4310"]
["Kitchener-Wilmot Hydro Inc. 4315","Kitchener-Wilmot Hydro Inc.","4315","Revenues from Electric Plant Leased to Others",0,0,0,0,0,null,"Kitchener-Wilmot Hydro Inc. 4315"]
["Kitchener-Wilmot Hydro Inc. 4320","Kitchener-Wilmot Hydro Inc.","4320","Expenses of Electric Plant Leased to Others",0,0,0,0,0,null,"Kitchener-Wilmot Hydro Inc. 4320"]
["Kitchener-Wilmot Hydro Inc. 4325","Kitchener-Wilmot Hydro Inc.","4325","Revenues from Merchandise",0,-3662.4,0,0,0,null,"Kitchener-Wilmot Hydro Inc. 4325"]
["Kitchener-Wilmot Hydro Inc. 4330","Kitchener-Wilmot Hydro Inc.","4330","Costs and Expenses of Merchandising",0,0,0,0,0,null,"Kitchener-Wilmot Hydro Inc. 4330"]
["Kitchener-Wilmot Hydro Inc. 4335","Kitchener-Wilmot Hydro Inc.","4335","Profits and Losses from Financial Instrument Hedges",0,0,0,0,0,null,"Kitchener-Wilmot Hydro Inc. 4335"]
["Kitchener-Wilmot Hydro Inc. 4340","Kitchener-Wilmot Hydro Inc.","4340","Profits and Losses from Financial Instrument Investments",0,0,0,0,0,null,"Kitchener-Wilmot Hydro Inc. 4340"]
["Kitchener-Wilmot Hydro Inc. 4345","Kitchener-Wilmot Hydro Inc.","4345","Gains from Disposition of Future Use Utility Plant",0,0,0,0,0,null,"Kitchener-Wilmot Hydro Inc. 4345"]
["Kitchener-Wilmot Hydro Inc. 4350","Kitchener-Wilmot Hydro Inc.","4350","Losses from Disposition of Future Use Utility Plant",0,0,0,0,0,null,"Kitchener-Wilmot Hydro Inc. 4350"]
["Kitchener-Wilmot Hydro Inc. 4355","Kitchener-Wilmot Hydro Inc.","4355","Gain on Disposition of Utility and Other Property",-53831.88,-28575,-128387.15,-36118.949999999997,-149309.23000000001,null,"Kitchener-Wilmot Hydro Inc. 4355"]
["Kitchener-Wilmot Hydro Inc. 4357","Kitchener-Wilmot Hydro Inc.","4357","Gain from Retirement of Utility and Other Property",0,0,0,0,0,null,"Kitchener-Wilmot Hydro Inc. 4357"]
["Kitchener-Wilmot Hydro Inc. 4360","Kitchener-Wilmot Hydro Inc.","4360","Loss on Disposition of Utility and Other Property",0,0,0,0,0,null,"Kitchener-Wilmot Hydro Inc. 4360"]
["Kitchener-Wilmot Hydro Inc. 4362","Kitchener-Wilmot Hydro Inc.","4362","Loss from Retirement of Utility and Other Property",0,0,0,0,0,null,"Kitchener-Wilmot Hydro Inc. 4362"]
["Kitchener-Wilmot Hydro Inc. 4365","Kitchener-Wilmot Hydro Inc.","4365","Gains from Disposition of Allowances for Emission",0,0,0,0,0,null,"Kitchener-Wilmot Hydro Inc. 4365"]
["Kitchener-Wilmot Hydro Inc. 4370","Kitchener-Wilmot Hydro Inc.","4370","Losses from Disposition of Allowances for Emission",0,0,0,0,0,null,"Kitchener-Wilmot Hydro Inc. 4370"]
["Kitchener-Wilmot Hydro Inc. 4375","Kitchener-Wilmot Hydro Inc.","4375","Revenues from Non Rate-Regulated Utility Operations",-3438664.28,-4628441.8499999996,-5801968.0499999998,-2681852.56,-1783297.61,null,"Kitchener-Wilmot Hydro Inc. 4375"]
["Kitchener-Wilmot Hydro Inc. 4375","Kitchener-Wilmot Hydro Inc.","4375","Sub-account Generation Facility Revenues",0,0,0,0,0,null,{"$f":"B1734 & \" \" &C1734","v":"Kitchener-Wilmot Hydro Inc. 4375"}]
["Kitchener-Wilmot Hydro Inc. 4380","Kitchener-Wilmot Hydro Inc.","4380","Expenses of Non Rate-Regulated Utility Operations",3448373.22,4615757.37,4491926.68,2669168.08,1856548.63,null,"Kitchener-Wilmot Hydro Inc. 4380"]
["Kitchener-Wilmot Hydro Inc. 4380","Kitchener-Wilmot Hydro Inc.","4380","Sub-account Generation Facility Expenses",0,0,0,0,0,null,"Kitchener-Wilmot Hydro Inc. 4380"]
["Kitchener-Wilmot Hydro Inc. 4385","Kitchener-Wilmot Hydro Inc.","4385","Non Rate-Regulated Utility Rental Income",0,0,0,0,0,null,"Kitchener-Wilmot Hydro Inc. 4385"]
["Kitchener-Wilmot Hydro Inc. 4390","Kitchener-Wilmot Hydro Inc.","4390","Miscellaneous Non-Operating Income",-225414.33,-417210.92,-227055.97,-245257.02,-184607.6,null,"Kitchener-Wilmot Hydro Inc. 4390"]
["Kitchener-Wilmot Hydro Inc. 4395","Kitchener-Wilmot Hydro Inc.","4395","Rate-Payer Benefit Including Interest",0,0,0,0,0,null,"Kitchener-Wilmot Hydro Inc. 4395"]
["Kitchener-Wilmot Hydro Inc. 4398","Kitchener-Wilmot Hydro Inc.","4398","Foreign Exchange Gains and Losses, Including Amortization",446.36,732.39,-1171.78,1081.42,236.36,null,"Kitchener-Wilmot Hydro Inc. 4398"]
["Kitchener-Wilmot Hydro Inc. 4405","Kitchener-Wilmot Hydro Inc.","4405","Interest and Dividend Income",-288299.84000000003,-359724.04,-564982.15,-553667.11,-456193.34,null,"Kitchener-Wilmot Hydro Inc. 4405"]
["Kitchener-Wilmot Hydro Inc. 4410","Kitchener-Wilmot Hydro Inc.","4410","Lessor's Net Investment in Finance Lease",0,0,0,0,0,null,"Kitchener-Wilmot Hydro Inc. 4410"]
["Kitchener-Wilmot Hydro Inc. 4415","Kitchener-Wilmot Hydro Inc.","4415","Equity in Earnings of Subsidiary Companies",0,0,0,0,0,null,"Kitchener-Wilmot Hydro Inc. 4415"]
["Kitchener-Wilmot Hydro Inc. 4420","Kitchener-Wilmot Hydro Inc.","4420","Share of Profit or Loss of Joint Venture",0,0,0,0,0,null,"Kitchener-Wilmot Hydro Inc. 4420"]
["Kitchener-Wilmot Hydro Inc. Total ","Kitchener-Wilmot Hydro Inc. Total",null,null,-2619674.09,-2984063.68,-4530643.99,-3253354.78,-3700688.04,null,"Kitchener-Wilmot Hydro Inc. Total "]
["Lakefront Utilities Inc. 4082","Lakefront Utilities Inc.","4082","Retail Services Revenues",-7765,-7043,-6572,-9909,-11400,null,"Lakefront Utilities Inc. 4082"]
["Lakefront Utilities Inc. 4084","Lakefront Utilities Inc.","4084","Service Transaction Requests (STR) Revenues",-2462.3000000000002,-2123.5500000000002,-1866.45,-2616.0500000000002,-3538.12,null,"Lakefront Utilities Inc. 4084"]
["Lakefront Utilities Inc. 4086","Lakefront Utilities Inc.","4086","SSS Administration Revenue",-36376.949999999997,-37913.57,-38614.54,-38720.68,-38907.910000000003,null,"Lakefront Utilities Inc. 4086"]
["Lakefront Utilities Inc. 4090","Lakefront Utilities Inc.","4090","Electric Services Incidental to Energy Sales",0,0,0,0,0,null,"Lakefront Utilities Inc. 4090"]
["Lakefront Utilities Inc. 4205","Lakefront Utilities Inc.","4205","Interdepartmental Rents",-50193,-50946,-51965,-53004,-54064,null,"Lakefront Utilities Inc. 4205"]
["Lakefront Utilities Inc. 4210","Lakefront Utilities Inc.","4210","Rent from Electric Property",-69099.58,-64254.39,-71521.820000000007,-61781.27,-61002.13,null,"Lakefront Utilities Inc. 4210"]
["Lakefront Utilities Inc. 4215","Lakefront Utilities Inc.","4215","Other Utility Operating Income",0,0,0,0,0,null,"Lakefront Utilities Inc. 4215"]
["Lakefront Utilities Inc. 4220","Lakefront Utilities Inc.","4220","Other Electric Revenues",0,0,0,0,0,null,"Lakefront Utilities Inc. 4220"]
["Lakefront Utilities Inc. 4225","Lakefront Utilities Inc.","4225","Late Payment Charges",-66022.59,-49525.51,-55945.07,-40863.21,-25328.62,null,"Lakefront Utilities Inc. 4225"]
["Lakefront Utilities Inc. 4230","Lakefront Utilities Inc.","4230","Sales of Water and Water Power",0,0,0,0,0,null,"Lakefront Utilities Inc. 4230"]
["Lakefront Utilities Inc. 4235","Lakefront Utilities Inc.","4235","Miscellaneous Service Revenues",-346754.64,-296048.59000000003,-296405.49,-243694.11,-22994.25,null,"Lakefront Utilities Inc. 4235"]
["Lakefront Utilities Inc. 4240","Lakefront Utilities Inc.","4240","Provision for Rate Refunds",0,0,0,0,0,null,"Lakefront Utilities Inc. 4240"]
["Lakefront Utilities Inc. 4245","Lakefront Utilities Inc.","4245","Government and Other Assistance Directly Credited to Income",0,0,0,0,0,null,"Lakefront Utilities Inc. 4245"]
["Lakefront Utilities Inc. 4305","Lakefront Utilities Inc.","4305","Regulatory Debits",0,0,0,0,0,null,"Lakefront Utilities Inc. 4305"]
["Lakefront Utilities Inc. 4310","Lakefront Utilities Inc.","4310","Regulatory Credits",0,0,0,0,0,null,"Lakefront Utilities Inc. 4310"]
["Lakefront Utilities Inc. 4315","Lakefront Utilities Inc.","4315","Revenues from Electric Plant Leased to Others",0,0,0,0,0,null,"Lakefront Utilities Inc. 4315"]
["Lakefront Utilities Inc. 4320","Lakefront Utilities Inc.","4320","Expenses of Electric Plant Leased to Others",0,0,0,0,0,null,"Lakefront Utilities Inc. 4320"]
["Lakefront Utilities Inc. 4325","Lakefront Utilities Inc.","4325","Revenues from Merchandise",0,0,0,0,0,null,"Lakefront Utilities Inc. 4325"]
["Lakefront Utilities Inc. 4330","Lakefront Utilities Inc.","4330","Costs and Expenses of Merchandising",0,0,0,0,0,null,"Lakefront Utilities Inc. 4330"]
["Lakefront Utilities Inc. 4335","Lakefront Utilities Inc.","4335","Profits and Losses from Financial Instrument Hedges",0,0,0,0,0,null,"Lakefront Utilities Inc. 4335"]
["Lakefront Utilities Inc. 4340","Lakefront Utilities Inc.","4340","Profits and Losses from Financial Instrument Investments",0,0,0,0,0,null,"Lakefront Utilities Inc. 4340"]
["Lakefront Utilities Inc. 4345","Lakefront Utilities Inc.","4345","Gains from Disposition of Future Use Utility Plant",0,0,0,0,0,null,"Lakefront Utilities Inc. 4345"]
["Lakefront Utilities Inc. 4350","Lakefront Utilities Inc.","4350","Losses from Disposition of Future Use Utility Plant",0,0,0,0,0,null,"Lakefront Utilities Inc. 4350"]
["Lakefront Utilities Inc. 4355","Lakefront Utilities Inc.","4355","Gain on Disposition of Utility and Other Property",-30000,0,0,0,0,null,"Lakefront Utilities Inc. 4355"]
["Lakefront Utilities Inc. 4357","Lakefront Utilities Inc.","4357","Gain from Retirement of Utility and Other Property",0,0,0,0,0,null,"Lakefront Utilities Inc. 4357"]
["Lakefront Utilities Inc. 4360","Lakefront Utilities Inc.","4360","Loss on Disposition of Utility and Other Property",0,0,0,0,0,null,"Lakefront Utilities Inc. 4360"]
["Lakefront Utilities Inc. 4362","Lakefront Utilities Inc.","4362","Loss from Retirement of Utility and Other Property",0,0,0,0,0,null,"Lakefront Utilities Inc. 4362"]
["Lakefront Utilities Inc. 4365","Lakefront Utilities Inc.","4365","Gains from Disposition of Allowances for Emission",0,0,0,0,0,null,"Lakefront Utilities Inc. 4365"]
["Lakefront Utilities Inc. 4370","Lakefront Utilities Inc.","4370","Losses from Disposition of Allowances for Emission",0,0,0,0,0,null,"Lakefront Utilities Inc. 4370"]
["Lakefront Utilities Inc. 4375","Lakefront Utilities Inc.","4375","Revenues from Non Rate-Regulated Utility Operations",-477311.99,-325502.49,-483181.9,-384152.88,-102520.48,null,"Lakefront Utilities Inc. 4375"]
["Lakefront Utilities Inc. 4375","Lakefront Utilities Inc.","4375","Sub-account Generation Facility Revenues",0,0,0,0,0,null,"Lakefront Utilities Inc. 4375"]
["Lakefront Utilities Inc. 4380","Lakefront Utilities Inc.","4380","Expenses of Non Rate-Regulated Utility Operations",475987.46,323051.28999999998,382901.99,333801.39,76603,null,"Lakefront Utilities Inc. 4380"]
["Lakefront Utilities Inc. 4380","Lakefront Utilities Inc.","4380","Sub-account Generation Facility Expenses",0,0,0,0,0,null,"Lakefront Utilities Inc. 4380"]
["Lakefront Utilities Inc. 4385","Lakefront Utilities Inc.","4385","Non Rate-Regulated Utility Rental Income",0,0,0,0,0,null,"Lakefront Utilities Inc. 4385"]
["Lakefront Utilities Inc. 4390","Lakefront Utilities Inc.","4390","Miscellaneous Non-Operating Income",0,0,0,0,0,null,"Lakefront Utilities Inc. 4390"]
["Lakefront Utilities Inc. 4395","Lakefront Utilities Inc.","4395","Rate-Payer Benefit Including Interest",0,0,0,0,0,null,"Lakefront Utilities Inc. 4395"]
["Lakefront Utilities Inc. 4398","Lakefront Utilities Inc.","4398","Foreign Exchange Gains and Losses, Including Amortization",0,0,-46560.24,-8635.4,0,null,"Lakefront Utilities Inc. 4398"]
["Lakefront Utilities Inc. 4405","Lakefront Utilities Inc.","4405","Interest and Dividend Income",-28555.48,-30562.9,-35444.06,-51626.61,-39235.9,null,"Lakefront Utilities Inc. 4405"]
["Lakefront Utilities Inc. 4410","Lakefront Utilities Inc.","4410","Lessor's Net Investment in Finance Lease",0,0,0,0,0,null,"Lakefront Utilities Inc. 4410"]
["Lakefront Utilities Inc. 4415","Lakefront Utilities Inc.","4415","Equity in Earnings of Subsidiary Companies",0,0,0,0,0,null,"Lakefront Utilities Inc. 4415"]
["Lakefront Utilities Inc. 4420","Lakefront Utilities Inc.","4420","Share of Profit or Loss of Joint Venture",0,0,0,0,0,null,"Lakefront Utilities Inc. 4420"]
["Lakefront Utilities Inc. Total ","Lakefront Utilities Inc. Total",null,null,-638554.06999999995,-540868.71,-705174.58,-561201.81999999995,-282388.40999999997,null,"Lakefront Utilities Inc. Total "]
["Lakeland Power Distribution Ltd. 4082","Lakeland Power Distribution Ltd.","4082","Retail Services Revenues",-7500.34,-6899.4,-7060.7,-13251.6,-12381.52,null,"Lakeland Power Distribution Ltd. 4082"]
["Lakeland Power Distribution Ltd. 4084","Lakeland Power Distribution Ltd.","4084","Service Transaction Requests (STR) Revenues",0,0,0,0,0,null,"Lakeland Power Distribution Ltd. 4084"]
["Lakeland Power Distribution Ltd. 4086","Lakeland Power Distribution Ltd.","4086","SSS Administration Revenue",-45230.46,-46267.5,-46986.99,-47508.5,-48083.06,null,"Lakeland Power Distribution Ltd. 4086"]
["Lakeland Power Distribution Ltd. 4090","Lakeland Power Distribution Ltd.","4090","Electric Services Incidental to Energy Sales",0,0,0,0,0,null,"Lakeland Power Distribution Ltd. 4090"]
["Lakeland Power Distribution Ltd. 4205","Lakeland Power Distribution Ltd.","4205","Interdepartmental Rents",0,0,0,0,0,null,"Lakeland Power Distribution Ltd. 4205"]
["Lakeland Power Distribution Ltd. 4210","Lakeland Power Distribution Ltd.","4210","Rent from Electric Property",-216154.16,-223999.71,-230635.61,-341633.74,-398956.44,null,"Lakeland Power Distribution Ltd. 4210"]
["Lakeland Power Distribution Ltd. 4215","Lakeland Power Distribution Ltd.","4215","Other Utility Operating Income",0,0,0,0,0,null,"Lakeland Power Distribution Ltd. 4215"]
["Lakeland Power Distribution Ltd. 4220","Lakeland Power Distribution Ltd.","4220","Other Electric Revenues",0,0,0,0,0,null,"Lakeland Power Distribution Ltd. 4220"]
["Lakeland Power Distribution Ltd. 4225","Lakeland Power Distribution Ltd.","4225","Late Payment Charges",-84071.93,-93225.13,-77352.58,-76717.19,-122603.72,null,"Lakeland Power Distribution Ltd. 4225"]
["Lakeland Power Distribution Ltd. 4230","Lakeland Power Distribution Ltd.","4230","Sales of Water and Water Power",0,0,0,0,0,null,"Lakeland Power Distribution Ltd. 4230"]
["Lakeland Power Distribution Ltd. 4235","Lakeland Power Distribution Ltd.","4235","Miscellaneous Service Revenues",-91164.3,-77169.38,-72963.360000000001,-72303.63,-65493,null,{"$f":"B1798 & \" \" &C1798","v":"Lakeland Power Distribution Ltd. 4235"}]
["Lakeland Power Distribution Ltd. 4240","Lakeland Power Distribution Ltd.","4240","Provision for Rate Refunds",0,0,0,0,0,null,"Lakeland Power Distribution Ltd. 4240"]
["Lakeland Power Distribution Ltd. 4245","Lakeland Power Distribution Ltd.","4245","Government and Other Assistance Directly Credited to Income",-174304.71,-185052.39,-193446.69,-208153.56,-227815.46,null,"Lakeland Power Distribution Ltd. 4245"]
["Lakeland Power Distribution Ltd. 4305","Lakeland Power Distribution Ltd.","4305","Regulatory Debits",0,0,0,262292.64,131146.32,null,"Lakeland Power Distribution Ltd. 4305"]
["Lakeland Power Distribution Ltd. 4310","Lakeland Power Distribution Ltd.","4310","Regulatory Credits",0,0,0,0,0,null,"Lakeland Power Distribution Ltd. 4310"]
["Lakeland Power Distribution Ltd. 4315","Lakeland Power Distribution Ltd.","4315","Revenues from Electric Plant Leased to Others",0,0,0,0,0,null,"Lakeland Power Distribution Ltd. 4315"]
["Lakeland Power Distribution Ltd. 4320","Lakeland Power Distribution Ltd.","4320","Expenses of Electric Plant Leased to Others",0,0,0,0,0,null,"Lakeland Power Distribution Ltd. 4320"]
["Lakeland Power Distribution Ltd. 4325","Lakeland Power Distribution Ltd.","4325","Revenues from Merchandise",0,0,0,0,0,null,"Lakeland Power Distribution Ltd. 4325"]
["Lakeland Power Distribution Ltd. 4330","Lakeland Power Distribution Ltd.","4330","Costs and Expenses of Merchandising",0,0,0,0,0,null,"Lakeland Power Distribution Ltd. 4330"]
["Lakeland Power Distribution Ltd. 4335","Lakeland Power Distribution Ltd.","4335","Profits and Losses from Financial Instrument Hedges",0,0,0,0,0,null,"Lakeland Power Distribution Ltd. 4335"]
["Lakeland Power Distribution Ltd. 4340","Lakeland Power Distribution Ltd.","4340","Profits and Losses from Financial Instrument Investments",0,0,0,0,0,null,"Lakeland Power Distribution Ltd. 4340"]
["Lakeland Power Distribution Ltd. 4345","Lakeland Power Distribution Ltd.","4345","Gains from Disposition of Future Use Utility Plant",0,0,0,0,0,null,"Lakeland Power Distribution Ltd. 4345"]
["Lakeland Power Distribution Ltd. 4350","Lakeland Power Distribution Ltd.","4350","Losses from Disposition of Future Use Utility Plant",0,0,0,0,0,null,"Lakeland Power Distribution Ltd. 4350"]
["Lakeland Power Distribution Ltd. 4355","Lakeland Power Distribution Ltd.","4355","Gain on Disposition of Utility and Other Property",-10141.67,-1282.08,-31186.99,-807.19,-29550.5,null,"Lakeland Power Distribution Ltd. 4355"]
["Lakeland Power Distribution Ltd. 4357","Lakeland Power Distribution Ltd.","4357","Gain from Retirement of Utility and Other Property",0,0,0,0,0,null,"Lakeland Power Distribution Ltd. 4357"]
["Lakeland Power Distribution Ltd. 4360","Lakeland Power Distribution Ltd.","4360","Loss on Disposition of Utility and Other Property",0,8736.2900000000009,23630.61,0,0,null,"Lakeland Power Distribution Ltd. 4360"]
["Lakeland Power Distribution Ltd. 4362","Lakeland Power Distribution Ltd.","4362","Loss from Retirement of Utility and Other Property",0,0,0,0,0,null,"Lakeland Power Distribution Ltd. 4362"]
["Lakeland Power Distribution Ltd. 4365","Lakeland Power Distribution Ltd.","4365","Gains from Disposition of Allowances for Emission",0,0,0,0,0,null,"Lakeland Power Distribution Ltd. 4365"]
["Lakeland Power Distribution Ltd. 4370","Lakeland Power Distribution Ltd.","4370","Losses from Disposition of Allowances for Emission",0,0,0,0,0,null,"Lakeland Power Distribution Ltd. 4370"]
["Lakeland Power Distribution Ltd. 4375","Lakeland Power Distribution Ltd.","4375","Revenues from Non Rate-Regulated Utility Operations",-614064.88,-73621.320000000007,-260306.07,-107291.23,-301456.7,null,"Lakeland Power Distribution Ltd. 4375"]
["Lakeland Power Distribution Ltd. 4375","Lakeland Power Distribution Ltd.","4375","Sub-account Generation Facility Revenues",0,0,0,0,0,null,"Lakeland Power Distribution Ltd. 4375"]
["Lakeland Power Distribution Ltd. 4380","Lakeland Power Distribution Ltd.","4380","Expenses of Non Rate-Regulated Utility Operations",615054.21,62149.74,70925.78,104605.75999999999,294498.25,null,"Lakeland Power Distribution Ltd. 4380"]
["Lakeland Power Distribution Ltd. 4380","Lakeland Power Distribution Ltd.","4380","Sub-account Generation Facility Expenses",0,0,0,0,0,null,"Lakeland Power Distribution Ltd. 4380"]
["Lakeland Power Distribution Ltd. 4385","Lakeland Power Distribution Ltd.","4385","Non Rate-Regulated Utility Rental Income",0,0,0,0,0,null,"Lakeland Power Distribution Ltd. 4385"]
["Lakeland Power Distribution Ltd. 4390","Lakeland Power Distribution Ltd.","4390","Miscellaneous Non-Operating Income",-71251.399999999994,-129141.13,-131617.29,-107584.81,-122518.86,null,"Lakeland Power Distribution Ltd. 4390"]
["Lakeland Power Distribution Ltd. 4395","Lakeland Power Distribution Ltd.","4395","Rate-Payer Benefit Including Interest",0,0,0,0,0,null,"Lakeland Power Distribution Ltd. 4395"]
["Lakeland Power Distribution Ltd. 4398","Lakeland Power Distribution Ltd.","4398","Foreign Exchange Gains and Losses, Including Amortization",0,0,0,0,0,null,"Lakeland Power Distribution Ltd. 4398"]
["Lakeland Power Distribution Ltd. 4405","Lakeland Power Distribution Ltd.","4405","Interest and Dividend Income",-61066.76,-52851.19,-130515.28,-125961.16,-39309.11,null,"Lakeland Power Distribution Ltd. 4405"]
["Lakeland Power Distribution Ltd. 4410","Lakeland Power Distribution Ltd.","4410","Lessor's Net Investment in Finance Lease",0,0,0,0,0,null,"Lakeland Power Distribution Ltd. 4410"]
["Lakeland Power Distribution Ltd. 4415","Lakeland Power Distribution Ltd.","4415","Equity in Earnings of Subsidiary Companies",0,0,0,0,0,null,"Lakeland Power Distribution Ltd. 4415"]
["Lakeland Power Distribution Ltd. 4420","Lakeland Power Distribution Ltd.","4420","Share of Profit or Loss of Joint Venture",0,0,0,0,0,null,"Lakeland Power Distribution Ltd. 4420"]
["Lakeland Power Distribution Ltd. Total ","Lakeland Power Distribution Ltd. Total",null,null,-759896.4,-818623.2,-1087515.17,-734314.21,-942523.8,null,"Lakeland Power Distribution Ltd. Total "]
["London Hydro Inc. 4082","London Hydro Inc.","4082","Retail Services Revenues",-77802.3,-64993.599999999999,-54314.7,-80321.100000000006,-87331.21,null,"London Hydro Inc. 4082"]
["London Hydro Inc. 4084","London Hydro Inc.","4084","Service Transaction Requests (STR) Revenues",-2171.75,-1380,-809.25,-1435.25,-1609.05,null,"London Hydro Inc. 4084"]
["London Hydro Inc. 4086","London Hydro Inc.","4086","SSS Administration Revenue",-447988.03,-456154.22,-464004.03,-475084.32,-482462.39,null,"London Hydro Inc. 4086"]
["London Hydro Inc. 4090","London Hydro Inc.","4090","Electric Services Incidental to Energy Sales",0,0,0,0,0,null,"London Hydro Inc. 4090"]
["London Hydro Inc. 4205","London Hydro Inc.","4205","Interdepartmental Rents",0,0,0,0,0,null,"London Hydro Inc. 4205"]
["London Hydro Inc. 4210","London Hydro Inc.","4210","Rent from Electric Property",-442632.44,-445976.78,-493781.08,-528654.07999999996,-556669.93999999994,null,"London Hydro Inc. 4210"]
["London Hydro Inc. 4215","London Hydro Inc.","4215","Other Utility Operating Income",0,0,0,0,0,null,"London Hydro Inc. 4215"]
["London Hydro Inc. 4220","London Hydro Inc.","4220","Other Electric Revenues",0,0,0,0,0,null,"London Hydro Inc. 4220"]
["London Hydro Inc. 4225","London Hydro Inc.","4225","Late Payment Charges",-1914935.19,-1543276.14,-1561023.47,-1698897.12,-2154520.85,null,"London Hydro Inc. 4225"]
["London Hydro Inc. 4230","London Hydro Inc.","4230","Sales of Water and Water Power",0,0,0,0,0,null,"London Hydro Inc. 4230"]
["London Hydro Inc. 4235","London Hydro Inc.","4235","Miscellaneous Service Revenues",-814535.75,-1143654.3999999999,-1278949.3600000001,-1207707.51,-1208102.43,null,"London Hydro Inc. 4235"]
["London Hydro Inc. 4240","London Hydro Inc.","4240","Provision for Rate Refunds",0,0,0,0,0,null,"London Hydro Inc. 4240"]
["London Hydro Inc. 4245","London Hydro Inc.","4245","Government and Other Assistance Directly Credited to Income",-172619.73,-279828.57,-411679.93,-524628.51,-678149.82,null,"London Hydro Inc. 4245"]
["London Hydro Inc. 4305","London Hydro Inc.","4305","Regulatory Debits",0,0,0,0,0,null,"London Hydro Inc. 4305"]
["London Hydro Inc. 4310","London Hydro Inc.","4310","Regulatory Credits",0,0,0,0,0,null,"London Hydro Inc. 4310"]
["London Hydro Inc. 4315","London Hydro Inc.","4315","Revenues from Electric Plant Leased to Others",0,0,0,0,0,null,"London Hydro Inc. 4315"]
["London Hydro Inc. 4320","London Hydro Inc.","4320","Expenses of Electric Plant Leased to Others",0,0,0,0,0,null,"London Hydro Inc. 4320"]
["London Hydro Inc. 4325","London Hydro Inc.","4325","Revenues from Merchandise",0,-197122.87,-312486.09999999998,-227533.48,-210923.4,null,"London Hydro Inc. 4325"]
["London Hydro Inc. 4330","London Hydro Inc.","4330","Costs and Expenses of Merchandising",-121565.33,87912.06,117517.9,114853.34,82753.86,null,"London Hydro Inc. 4330"]
["London Hydro Inc. 4335","London Hydro Inc.","4335","Profits and Losses from Financial Instrument Hedges",-1528737,-3519571,341274,419013,6629973.0300000003,null,"London Hydro Inc. 4335"]
["London Hydro Inc. 4340","London Hydro Inc.","4340","Profits and Losses from Financial Instrument Investments",0,0,0,0,0,null,"London Hydro Inc. 4340"]
["London Hydro Inc. 4345","London Hydro Inc.","4345","Gains from Disposition of Future Use Utility Plant",0,0,0,0,0,null,"London Hydro Inc. 4345"]
["London Hydro Inc. 4350","London Hydro Inc.","4350","Losses from Disposition of Future Use Utility Plant",0,0,0,0,0,null,"London Hydro Inc. 4350"]
["London Hydro Inc. 4355","London Hydro Inc.","4355","Gain on Disposition of Utility and Other Property",-234175.44,-137770.9,-219887.98,-30880.47,-28107.56,null,"London Hydro Inc. 4355"]
["London Hydro Inc. 4357","London Hydro Inc.","4357","Gain from Retirement of Utility and Other Property",0,0,0,0,0,null,"London Hydro Inc. 4357"]
["London Hydro Inc. 4360","London Hydro Inc.","4360","Loss on Disposition of Utility and Other Property",0,0,0,0,0,null,"London Hydro Inc. 4360"]
["London Hydro Inc. 4362","London Hydro Inc.","4362","Loss from Retirement of Utility and Other Property",0,0,0,0,0,null,"London Hydro Inc. 4362"]
["London Hydro Inc. 4365","London Hydro Inc.","4365","Gains from Disposition of Allowances for Emission",0,0,0,0,0,null,"London Hydro Inc. 4365"]
["London Hydro Inc. 4370","London Hydro Inc.","4370","Losses from Disposition of Allowances for Emission",0,0,0,0,0,null,"London Hydro Inc. 4370"]
["London Hydro Inc. 4375","London Hydro Inc.","4375","Revenues from Non Rate-Regulated Utility Operations",-2702906.43,-3258709.45,-9623660.5399999991,-10967161.310000001,-5869667.6500000004,null,"London Hydro Inc. 4375"]
["London Hydro Inc. 4375","London Hydro Inc.","4375","Sub-account Generation Facility Revenues",0,0,0,0,0,null,"London Hydro Inc. 4375"]
["London Hydro Inc. 4380","London Hydro Inc.","4380","Expenses of Non Rate-Regulated Utility Operations",2421279.85,2992068.68,7613569.4199999999,10749921.119999999,5529314.1200000001,null,"London Hydro Inc. 4380"]
["London Hydro Inc. 4380","London Hydro Inc.","4380","Sub-account Generation Facility Expenses",0,0,0,0,0,null,{"$f":"B1862 & \" \" &C1862","v":"London Hydro Inc. 4380"}]
["London Hydro Inc. 4385","London Hydro Inc.","4385","Non Rate-Regulated Utility Rental Income",0,0,0,0,0,null,"London Hydro Inc. 4385"]
["London Hydro Inc. 4390","London Hydro Inc.","4390","Miscellaneous Non-Operating Income",-617303.68000000005,-514590.67,-584005.18000000005,-865098.58,-850160.02,null,"London Hydro Inc. 4390"]
["London Hydro Inc. 4395","London Hydro Inc.","4395","Rate-Payer Benefit Including Interest",0,0,0,0,0,null,"London Hydro Inc. 4395"]
["London Hydro Inc. 4398","London Hydro Inc.","4398","Foreign Exchange Gains and Losses, Including Amortization",0,19952.12,-8592.64,11300.33,-13325.93,null,"London Hydro Inc. 4398"]
["London Hydro Inc. 4405","London Hydro Inc.","4405","Interest and Dividend Income",-291263.73,-257442,-428017.28,-783770.95,-526821.25,null,"London Hydro Inc. 4405"]
["London Hydro Inc. 4410","London Hydro Inc.","4410","Lessor's Net Investment in Finance Lease",0,0,0,0,0,null,"London Hydro Inc. 4410"]
["London Hydro Inc. 4415","London Hydro Inc.","4415","Equity in Earnings of Subsidiary Companies",0,0,0,0,0,null,"London Hydro Inc. 4415"]
["London Hydro Inc. 4420","London Hydro Inc.","4420","Share of Profit or Loss of Joint Venture",0,0,0,0,0,null,"London Hydro Inc. 4420"]
["London Hydro Inc. Total ","London Hydro Inc. Total",null,null,-6947356.9500000002,-8720537.7400000002,-7368850.2199999997,-6096084.8899999997,-425810.49,null,"London Hydro Inc. Total "]
["Midland Power Utility Corporation 4082","Midland Power Utility Corporation","4082","Retail Services Revenues",0,0,null,null,null,null,"Midland Power Utility Corporation 4082"]
["Midland Power Utility Corporation 4084","Midland Power Utility Corporation","4084","Service Transaction Requests (STR) Revenues",0,0,null,null,null,null,"Midland Power Utility Corporation 4084"]
["Midland Power Utility Corporation 4086","Midland Power Utility Corporation","4086","SSS Administration Revenue",-19460.990000000002,-20038.3,null,null,null,null,"Midland Power Utility Corporation 4086"]
["Midland Power Utility Corporation 4090","Midland Power Utility Corporation","4090","Electric Services Incidental to Energy Sales",0,0,null,null,null,null,"Midland Power Utility Corporation 4090"]
["Midland Power Utility Corporation 4205","Midland Power Utility Corporation","4205","Interdepartmental Rents",0,0,null,null,null,null,"Midland Power Utility Corporation 4205"]
["Midland Power Utility Corporation 4210","Midland Power Utility Corporation","4210","Rent from Electric Property",-58559.62,-64397.41,null,null,null,null,"Midland Power Utility Corporation 4210"]
["Midland Power Utility Corporation 4215","Midland Power Utility Corporation","4215","Other Utility Operating Income",0,0,null,null,null,null,"Midland Power Utility Corporation 4215"]
["Midland Power Utility Corporation 4220","Midland Power Utility Corporation","4220","Other Electric Revenues",-37306.32,-5380.58,null,null,null,null,"Midland Power Utility Corporation 4220"]
["Midland Power Utility Corporation 4225","Midland Power Utility Corporation","4225","Late Payment Charges",-21095.27,-22647.96,null,null,null,null,"Midland Power Utility Corporation 4225"]
["Midland Power Utility Corporation 4230","Midland Power Utility Corporation","4230","Sales of Water and Water Power",0,0,null,null,null,null,"Midland Power Utility Corporation 4230"]
["Midland Power Utility Corporation 4235","Midland Power Utility Corporation","4235","Miscellaneous Service Revenues",-109543.38,-88584.72,null,null,null,null,"Midland Power Utility Corporation 4235"]
["Midland Power Utility Corporation 4240","Midland Power Utility Corporation","4240","Provision for Rate Refunds",0,0,null,null,null,null,"Midland Power Utility Corporation 4240"]
["Midland Power Utility Corporation 4245","Midland Power Utility Corporation","4245","Government and Other Assistance Directly Credited to Income",-79807.31,-82192.31,null,null,null,null,"Midland Power Utility Corporation 4245"]
["Midland Power Utility Corporation 4305","Midland Power Utility Corporation","4305","Regulatory Debits",0,0,null,null,null,null,"Midland Power Utility Corporation 4305"]
["Midland Power Utility Corporation 4310","Midland Power Utility Corporation","4310","Regulatory Credits",0,0,null,null,null,null,"Midland Power Utility Corporation 4310"]
["Midland Power Utility Corporation 4315","Midland Power Utility Corporation","4315","Revenues from Electric Plant Leased to Others",0,0,null,null,null,null,"Midland Power Utility Corporation 4315"]
["Midland Power Utility Corporation 4320","Midland Power Utility Corporation","4320","Expenses of Electric Plant Leased to Others",0,0,null,null,null,null,"Midland Power Utility Corporation 4320"]
["Midland Power Utility Corporation 4325","Midland Power Utility Corporation","4325","Revenues from Merchandise",-143050.25,-196843.74,null,null,null,null,"Midland Power Utility Corporation 4325"]
["Midland Power Utility Corporation 4330","Midland Power Utility Corporation","4330","Costs and Expenses of Merchandising",101100.52,123662.68,null,null,null,null,"Midland Power Utility Corporation 4330"]
["Midland Power Utility Corporation 4335","Midland Power Utility Corporation","4335","Profits and Losses from Financial Instrument Hedges",0,0,null,null,null,null,"Midland Power Utility Corporation 4335"]
["Midland Power Utility Corporation 4340","Midland Power Utility Corporation","4340","Profits and Losses from Financial Instrument Investments",0,0,null,null,null,null,"Midland Power Utility Corporation 4340"]
["Midland Power Utility Corporation 4345","Midland Power Utility Corporation","4345","Gains from Disposition of Future Use Utility Plant",0,0,null,null,null,null,"Midland Power Utility Corporation 4345"]
["Midland Power Utility Corporation 4350","Midland Power Utility Corporation","4350","Losses from Disposition of Future Use Utility Plant",0,0,null,null,null,null,"Midland Power Utility Corporation 4350"]
["Midland Power Utility Corporation 4355","Midland Power Utility Corporation","4355","Gain on Disposition of Utility and Other Property",0,-10540.23,null,null,null,null,"Midland Power Utility Corporation 4355"]
["Midland Power Utility Corporation 4357","Midland Power Utility Corporation","4357","Gain from Retirement of Utility and Other Property",0,0,null,null,null,null,"Midland Power Utility Corporation 4357"]
["Midland Power Utility Corporation 4360","Midland Power Utility Corporation","4360","Loss on Disposition of Utility and Other Property",62210.32,0,null,null,null,null,"Midland Power Utility Corporation 4360"]
["Midland Power Utility Corporation 4362","Midland Power Utility Corporation","4362","Loss from Retirement of Utility and Other Property",0,53500.160000000003,null,null,null,null,"Midland Power Utility Corporation 4362"]
["Midland Power Utility Corporation 4365","Midland Power Utility Corporation","4365","Gains from Disposition of Allowances for Emission",0,0,null,null,null,null,"Midland Power Utility Corporation 4365"]
["Midland Power Utility Corporation 4370","Midland Power Utility Corporation","4370","Losses from Disposition of Allowances for Emission",0,0,null,null,null,null,"Midland Power Utility Corporation 4370"]
["Midland Power Utility Corporation 4375","Midland Power Utility Corporation","4375","Revenues from Non Rate-Regulated Utility Operations",-115066.7,-103648.51,null,null,null,null,"Midland Power Utility Corporation 4375"]
["Midland Power Utility Corporation 4375","Midland Power Utility Corporation","4375","Sub-account Generation Facility Revenues",0,0,null,null,null,null,"Midland Power Utility Corporation 4375"]
["Midland Power Utility Corporation 4380","Midland Power Utility Corporation","4380","Expenses of Non Rate-Regulated Utility Operations",69502.740000000005,8740.23,null,null,null,null,"Midland Power Utility Corporation 4380"]
["Midland Power Utility Corporation 4380","Midland Power Utility Corporation","4380","Sub-account Generation Facility Expenses",0,0,null,null,null,null,"Midland Power Utility Corporation 4380"]
["Midland Power Utility Corporation 4385","Midland Power Utility Corporation","4385","Non Rate-Regulated Utility Rental Income",0,0,null,null,null,null,"Midland Power Utility Corporation 4385"]
["Midland Power Utility Corporation 4390","Midland Power Utility Corporation","4390","Miscellaneous Non-Operating Income",0,0,null,null,null,null,"Midland Power Utility Corporation 4390"]
["Midland Power Utility Corporation 4395","Midland Power Utility Corporation","4395","Rate-Payer Benefit Including Interest",0,0,null,null,null,null,"Midland Power Utility Corporation 4395"]
["Midland Power Utility Corporation 4398","Midland Power Utility Corporation","4398","Foreign Exchange Gains and Losses, Including Amortization",0,0,null,null,null,null,"Midland Power Utility Corporation 4398"]
["Midland Power Utility Corporation 4405","Midland Power Utility Corporation","4405","Interest and Dividend Income",-51412.89,-40570.959999999999,null,null,null,null,"Midland Power Utility Corporation 4405"]
["Midland Power Utility Corporation 4410","Midland Power Utility Corporation","4410","Lessor's Net Investment in Finance Lease",0,0,null,null,null,null,"Midland Power Utility Corporation 4410"]
["Midland Power Utility Corporation 4415","Midland Power Utility Corporation","4415","Equity in Earnings of Subsidiary Companies",0,0,null,null,null,null,"Midland Power Utility Corporation 4415"]
["Midland Power Utility Corporation 4420","Midland Power Utility Corporation","4420","Share of Profit or Loss of Joint Venture",0,0,null,null,null,null,"Midland Power Utility Corporation 4420"]
["Midland Power Utility Corporation Total ","Midland Power Utility Corporation Total",null,null,-402489.15,-448941.65,null,null,null,null,"Midland Power Utility Corporation Total "]
["Milton Hydro Distribution Inc. 4082","Milton Hydro Distribution Inc.","4082","Retail Services Revenues",-19449,-17422,-15313,-21651,-24541,null,"Milton Hydro Distribution Inc. 4082"]
["Milton Hydro Distribution Inc. 4084","Milton Hydro Distribution Inc.","4084","Service Transaction Requests (STR) Revenues",-350,-214,-215,-262,-278,null,"Milton Hydro Distribution Inc. 4084"]
["Milton Hydro Distribution Inc. 4086","Milton Hydro Distribution Inc.","4086","SSS Administration Revenue",0,0,0,0,0,null,"Milton Hydro Distribution Inc. 4086"]
["Milton Hydro Distribution Inc. 4090","Milton Hydro Distribution Inc.","4090","Electric Services Incidental to Energy Sales",0,0,0,0,0,null,"Milton Hydro Distribution Inc. 4090"]
["Milton Hydro Distribution Inc. 4205","Milton Hydro Distribution Inc.","4205","Interdepartmental Rents",0,0,0,0,0,null,"Milton Hydro Distribution Inc. 4205"]
["Milton Hydro Distribution Inc. 4210","Milton Hydro Distribution Inc.","4210","Rent from Electric Property",-151974,-260595,-183640,-179053,-224033,null,"Milton Hydro Distribution Inc. 4210"]
["Milton Hydro Distribution Inc. 4215","Milton Hydro Distribution Inc.","4215","Other Utility Operating Income",0,0,0,0,0,null,"Milton Hydro Distribution Inc. 4215"]
["Milton Hydro Distribution Inc. 4220","Milton Hydro Distribution Inc.","4220","Other Electric Revenues",0,0,0,0,0,null,"Milton Hydro Distribution Inc. 4220"]
["Milton Hydro Distribution Inc. 4225","Milton Hydro Distribution Inc.","4225","Late Payment Charges",-246978,-287540,-296551,-304211,-333754,null,"Milton Hydro Distribution Inc. 4225"]
["Milton Hydro Distribution Inc. 4230","Milton Hydro Distribution Inc.","4230","Sales of Water and Water Power",0,0,0,0,0,null,"Milton Hydro Distribution Inc. 4230"]
["Milton Hydro Distribution Inc. 4235","Milton Hydro Distribution Inc.","4235","Miscellaneous Service Revenues",-593192,-459077,-503032,-349701,-262637,null,"Milton Hydro Distribution Inc. 4235"]
["Milton Hydro Distribution Inc. 4240","Milton Hydro Distribution Inc.","4240","Provision for Rate Refunds",0,0,0,0,0,null,"Milton Hydro Distribution Inc. 4240"]
["Milton Hydro Distribution Inc. 4245","Milton Hydro Distribution Inc.","4245","Government and Other Assistance Directly Credited to Income",-214162,-295202,-368975,-431291,-484446,null,{"$f":"B1926 & \" \" &C1926","v":"Milton Hydro Distribution Inc. 4245"}]
["Milton Hydro Distribution Inc. 4305","Milton Hydro Distribution Inc.","4305","Regulatory Debits",0,0,0,0,0,null,"Milton Hydro Distribution Inc. 4305"]
["Milton Hydro Distribution Inc. 4310","Milton Hydro Distribution Inc.","4310","Regulatory Credits",0,0,0,0,0,null,"Milton Hydro Distribution Inc. 4310"]
["Milton Hydro Distribution Inc. 4315","Milton Hydro Distribution Inc.","4315","Revenues from Electric Plant Leased to Others",0,0,0,0,0,null,"Milton Hydro Distribution Inc. 4315"]
["Milton Hydro Distribution Inc. 4320","Milton Hydro Distribution Inc.","4320","Expenses of Electric Plant Leased to Others",0,0,0,0,0,null,"Milton Hydro Distribution Inc. 4320"]
["Milton Hydro Distribution Inc. 4325","Milton Hydro Distribution Inc.","4325","Revenues from Merchandise",0,0,0,0,0,null,"Milton Hydro Distribution Inc. 4325"]
["Milton Hydro Distribution Inc. 4330","Milton Hydro Distribution Inc.","4330","Costs and Expenses of Merchandising",0,0,0,0,0,null,"Milton Hydro Distribution Inc. 4330"]
["Milton Hydro Distribution Inc. 4335","Milton Hydro Distribution Inc.","4335","Profits and Losses from Financial Instrument Hedges",0,0,0,0,0,null,"Milton Hydro Distribution Inc. 4335"]
["Milton Hydro Distribution Inc. 4340","Milton Hydro Distribution Inc.","4340","Profits and Losses from Financial Instrument Investments",0,0,0,0,0,null,"Milton Hydro Distribution Inc. 4340"]
["Milton Hydro Distribution Inc. 4345","Milton Hydro Distribution Inc.","4345","Gains from Disposition of Future Use Utility Plant",0,0,0,0,0,null,"Milton Hydro Distribution Inc. 4345"]
["Milton Hydro Distribution Inc. 4350","Milton Hydro Distribution Inc.","4350","Losses from Disposition of Future Use Utility Plant",0,0,0,0,0,null,"Milton Hydro Distribution Inc. 4350"]
["Milton Hydro Distribution Inc. 4355","Milton Hydro Distribution Inc.","4355","Gain on Disposition of Utility and Other Property",-4305,-103951,0,-26549,0,null,"Milton Hydro Distribution Inc. 4355"]
["Milton Hydro Distribution Inc. 4357","Milton Hydro Distribution Inc.","4357","Gain from Retirement of Utility and Other Property",-3,-154,-65061,0,-114,null,"Milton Hydro Distribution Inc. 4357"]
["Milton Hydro Distribution Inc. 4360","Milton Hydro Distribution Inc.","4360","Loss on Disposition of Utility and Other Property",0,0,0,2582,0,null,"Milton Hydro Distribution Inc. 4360"]
["Milton Hydro Distribution Inc. 4362","Milton Hydro Distribution Inc.","4362","Loss from Retirement of Utility and Other Property",148481,463209,91026,73258,484856,null,"Milton Hydro Distribution Inc. 4362"]
["Milton Hydro Distribution Inc. 4365","Milton Hydro Distribution Inc.","4365","Gains from Disposition of Allowances for Emission",0,0,0,0,0,null,"Milton Hydro Distribution Inc. 4365"]
["Milton Hydro Distribution Inc. 4370","Milton Hydro Distribution Inc.","4370","Losses from Disposition of Allowances for Emission",0,0,0,0,0,null,"Milton Hydro Distribution Inc. 4370"]
["Milton Hydro Distribution Inc. 4375","Milton Hydro Distribution Inc.","4375","Revenues from Non Rate-Regulated Utility Operations",-1306454,-1922546,-3809452,-503434,-1120312,null,"Milton Hydro Distribution Inc. 4375"]
["Milton Hydro Distribution Inc. 4375","Milton Hydro Distribution Inc.","4375","Sub-account Generation Facility Revenues",0,0,0,0,0,null,"Milton Hydro Distribution Inc. 4375"]
["Milton Hydro Distribution Inc. 4380","Milton Hydro Distribution Inc.","4380","Expenses of Non Rate-Regulated Utility Operations",1306454,1936468,3282013,503434,1120312,null,"Milton Hydro Distribution Inc. 4380"]
["Milton Hydro Distribution Inc. 4380","Milton Hydro Distribution Inc.","4380","Sub-account Generation Facility Expenses",0,0,0,0,0,null,"Milton Hydro Distribution Inc. 4380"]
["Milton Hydro Distribution Inc. 4385","Milton Hydro Distribution Inc.","4385","Non Rate-Regulated Utility Rental Income",0,0,0,0,0,null,"Milton Hydro Distribution Inc. 4385"]
["Milton Hydro Distribution Inc. 4390","Milton Hydro Distribution Inc.","4390","Miscellaneous Non-Operating Income",-696592,-668233,-697169,-751650,-760809,null,"Milton Hydro Distribution Inc. 4390"]
["Milton Hydro Distribution Inc. 4395","Milton Hydro Distribution Inc.","4395","Rate-Payer Benefit Including Interest",0,0,0,0,0,null,"Milton Hydro Distribution Inc. 4395"]
["Milton Hydro Distribution Inc. 4398","Milton Hydro Distribution Inc.","4398","Foreign Exchange Gains and Losses, Including Amortization",0,0,0,0,0,null,"Milton Hydro Distribution Inc. 4398"]
["Milton Hydro Distribution Inc. 4405","Milton Hydro Distribution Inc.","4405","Interest and Dividend Income",-98601,-171966,-197251,-290705,-107431,null,"Milton Hydro Distribution Inc. 4405"]
["Milton Hydro Distribution Inc. 4410","Milton Hydro Distribution Inc.","4410","Lessor's Net Investment in Finance Lease",0,0,0,0,0,null,"Milton Hydro Distribution Inc. 4410"]
["Milton Hydro Distribution Inc. 4415","Milton Hydro Distribution Inc.","4415","Equity in Earnings of Subsidiary Companies",0,0,0,0,0,null,"Milton Hydro Distribution Inc. 4415"]
["Milton Hydro Distribution Inc. 4420","Milton Hydro Distribution Inc.","4420","Share of Profit or Loss of Joint Venture",0,0,0,0,0,null,"Milton Hydro Distribution Inc. 4420"]
["Milton Hydro Distribution Inc. Total ","Milton Hydro Distribution Inc. Total",null,null,-1877125,-1787223,-2763620,-2279233,-1713187,null,"Milton Hydro Distribution Inc. Total "]
["Newmarket-Tay Power Distribution Ltd. 4082","Newmarket-Tay Power Distribution Ltd.","4082","Retail Services Revenues",-28033.4,-22690.5,-21201.4,-38512.800000000003,-42285.68,null,"Newmarket-Tay Power Distribution Ltd. 4082"]
["Newmarket-Tay Power Distribution Ltd. 4084","Newmarket-Tay Power Distribution Ltd.","4084","Service Transaction Requests (STR) Revenues",-238.5,-64.25,1421.69,7563.47,-302.14,null,"Newmarket-Tay Power Distribution Ltd. 4084"]
["Newmarket-Tay Power Distribution Ltd. 4086","Newmarket-Tay Power Distribution Ltd.","4086","SSS Administration Revenue",-127976.62,-129988.5,-132502.22,-146700.60999999999,-157519.42000000001,null,"Newmarket-Tay Power Distribution Ltd. 4086"]
["Newmarket-Tay Power Distribution Ltd. 4090","Newmarket-Tay Power Distribution Ltd.","4090","Electric Services Incidental to Energy Sales",0,0,0,0,0,null,"Newmarket-Tay Power Distribution Ltd. 4090"]
["Newmarket-Tay Power Distribution Ltd. 4205","Newmarket-Tay Power Distribution Ltd.","4205","Interdepartmental Rents",0,0,0,0,0,null,"Newmarket-Tay Power Distribution Ltd. 4205"]
["Newmarket-Tay Power Distribution Ltd. 4210","Newmarket-Tay Power Distribution Ltd.","4210","Rent from Electric Property",-141015.46,-137535.45000000001,-237278.05,-153227.88,-147025.34,null,"Newmarket-Tay Power Distribution Ltd. 4210"]
["Newmarket-Tay Power Distribution Ltd. 4215","Newmarket-Tay Power Distribution Ltd.","4215","Other Utility Operating Income",0,0,0,0,0,null,"Newmarket-Tay Power Distribution Ltd. 4215"]
["Newmarket-Tay Power Distribution Ltd. 4220","Newmarket-Tay Power Distribution Ltd.","4220","Other Electric Revenues",0,0,0,0,0,null,"Newmarket-Tay Power Distribution Ltd. 4220"]
["Newmarket-Tay Power Distribution Ltd. 4225","Newmarket-Tay Power Distribution Ltd.","4225","Late Payment Charges",-306201.53999999998,-213639.76,-201462.53,-244910.42,-275832.69,null,"Newmarket-Tay Power Distribution Ltd. 4225"]
["Newmarket-Tay Power Distribution Ltd. 4230","Newmarket-Tay Power Distribution Ltd.","4230","Sales of Water and Water Power",0,0,0,0,0,null,"Newmarket-Tay Power Distribution Ltd. 4230"]
["Newmarket-Tay Power Distribution Ltd. 4235","Newmarket-Tay Power Distribution Ltd.","4235","Miscellaneous Service Revenues",-514481.71,-378295.64,-371443.22,-282308.05,-217309.08,null,"Newmarket-Tay Power Distribution Ltd. 4235"]
["Newmarket-Tay Power Distribution Ltd. 4240","Newmarket-Tay Power Distribution Ltd.","4240","Provision for Rate Refunds",0,0,0,0,0,null,"Newmarket-Tay Power Distribution Ltd. 4240"]
["Newmarket-Tay Power Distribution Ltd. 4245","Newmarket-Tay Power Distribution Ltd.","4245","Government and Other Assistance Directly Credited to Income",0,-707027.64,-822847.97,-852529.54,-994507.47,null,"Newmarket-Tay Power Distribution Ltd. 4245"]
["Newmarket-Tay Power Distribution Ltd. 4305","Newmarket-Tay Power Distribution Ltd.","4305","Regulatory Debits",1489063.95,0,0,0,0,null,"Newmarket-Tay Power Distribution Ltd. 4305"]
["Newmarket-Tay Power Distribution Ltd. 4310","Newmarket-Tay Power Distribution Ltd.","4310","Regulatory Credits",0,0,0,0,0,null,"Newmarket-Tay Power Distribution Ltd. 4310"]
["Newmarket-Tay Power Distribution Ltd. 4315","Newmarket-Tay Power Distribution Ltd.","4315","Revenues from Electric Plant Leased to Others",0,0,0,0,0,null,"Newmarket-Tay Power Distribution Ltd. 4315"]
["Newmarket-Tay Power Distribution Ltd. 4320","Newmarket-Tay Power Distribution Ltd.","4320","Expenses of Electric Plant Leased to Others",0,0,0,0,0,null,"Newmarket-Tay Power Distribution Ltd. 4320"]
["Newmarket-Tay Power Distribution Ltd. 4325","Newmarket-Tay Power Distribution Ltd.","4325","Revenues from Merchandise",0,0,0,-102424.05,-1025466.47,null,"Newmarket-Tay Power Distribution Ltd. 4325"]
["Newmarket-Tay Power Distribution Ltd. 4330","Newmarket-Tay Power Distribution Ltd.","4330","Costs and Expenses of Merchandising",0,0,0,100207.25,970691.2,null,"Newmarket-Tay Power Distribution Ltd. 4330"]
["Newmarket-Tay Power Distribution Ltd. 4335","Newmarket-Tay Power Distribution Ltd.","4335","Profits and Losses from Financial Instrument Hedges",0,148392.82,132571.79999999999,116360.32000000001,1076899.1599999999,null,"Newmarket-Tay Power Distribution Ltd. 4335"]
["Newmarket-Tay Power Distribution Ltd. 4340","Newmarket-Tay Power Distribution Ltd.","4340","Profits and Losses from Financial Instrument Investments",-52740.69,0,0,0,0,null,"Newmarket-Tay Power Distribution Ltd. 4340"]
["Newmarket-Tay Power Distribution Ltd. 4345","Newmarket-Tay Power Distribution Ltd.","4345","Gains from Disposition of Future Use Utility Plant",0,0,0,0,0,null,"Newmarket-Tay Power Distribution Ltd. 4345"]
["Newmarket-Tay Power Distribution Ltd. 4350","Newmarket-Tay Power Distribution Ltd.","4350","Losses from Disposition of Future Use Utility Plant",0,0,0,0,0,null,"Newmarket-Tay Power Distribution Ltd. 4350"]
["Newmarket-Tay Power Distribution Ltd. 4355","Newmarket-Tay Power Distribution Ltd.","4355","Gain on Disposition of Utility and Other Property",18489.509999999998,-23480,-527631.32999999996,204969.36,483362.24,null,"Newmarket-Tay Power Distribution Ltd. 4355"]
["Newmarket-Tay Power Distribution Ltd. 4357","Newmarket-Tay Power Distribution Ltd.","4357","Gain from Retirement of Utility and Other Property",0,0,0,0,0,null,"Newmarket-Tay Power Distribution Ltd. 4357"]
["Newmarket-Tay Power Distribution Ltd. 4360","Newmarket-Tay Power Distribution Ltd.","4360","Loss on Disposition of Utility and Other Property",5744.76,0,0,0,0,null,"Newmarket-Tay Power Distribution Ltd. 4360"]
["Newmarket-Tay Power Distribution Ltd. 4362","Newmarket-Tay Power Distribution Ltd.","4362","Loss from Retirement of Utility and Other Property",0,0,0,0,0,null,"Newmarket-Tay Power Distribution Ltd. 4362"]
["Newmarket-Tay Power Distribution Ltd. 4365","Newmarket-Tay Power Distribution Ltd.","4365","Gains from Disposition of Allowances for Emission",0,0,0,0,0,null,"Newmarket-Tay Power Distribution Ltd. 4365"]
["Newmarket-Tay Power Distribution Ltd. 4370","Newmarket-Tay Power Distribution Ltd.","4370","Losses from Disposition of Allowances for Emission",0,0,0,0,0,null,"Newmarket-Tay Power Distribution Ltd. 4370"]
["Newmarket-Tay Power Distribution Ltd. 4375","Newmarket-Tay Power Distribution Ltd.","4375","Revenues from Non Rate-Regulated Utility Operations",0,0,-2980908.55,-2007232.36,-1718882.2,null,"Newmarket-Tay Power Distribution Ltd. 4375"]
["Newmarket-Tay Power Distribution Ltd. 4375","Newmarket-Tay Power Distribution Ltd.","4375","Sub-account Generation Facility Revenues",0,0,0,0,0,null,"Newmarket-Tay Power Distribution Ltd. 4375"]
["Newmarket-Tay Power Distribution Ltd. 4380","Newmarket-Tay Power Distribution Ltd.","4380","Expenses of Non Rate-Regulated Utility Operations",0,0,2766875.68,1451052.67,1585919.08,null,"Newmarket-Tay Power Distribution Ltd. 4380"]
["Newmarket-Tay Power Distribution Ltd. 4380","Newmarket-Tay Power Distribution Ltd.","4380","Sub-account Generation Facility Expenses",0,0,0,0,0,null,"Newmarket-Tay Power Distribution Ltd. 4380"]
["Newmarket-Tay Power Distribution Ltd. 4385","Newmarket-Tay Power Distribution Ltd.","4385","Non Rate-Regulated Utility Rental Income",0,0,0,0,0,null,"Newmarket-Tay Power Distribution Ltd. 4385"]
["Newmarket-Tay Power Distribution Ltd. 4390","Newmarket-Tay Power Distribution Ltd.","4390","Miscellaneous Non-Operating Income",-35099.08,-16010.33,-129209.38,-267453.78000000003,-44963.42,null,{"$f":"B1990 & \" \" &C1990","v":"Newmarket-Tay Power Distribution Ltd. 4390"}]
["Newmarket-Tay Power Distribution Ltd. 4395","Newmarket-Tay Power Distribution Ltd.","4395","Rate-Payer Benefit Including Interest",0,0,0,0,0,null,"Newmarket-Tay Power Distribution Ltd. 4395"]
["Newmarket-Tay Power Distribution Ltd. 4398","Newmarket-Tay Power Distribution Ltd.","4398","Foreign Exchange Gains and Losses, Including Amortization",0,0,0,0,0,null,"Newmarket-Tay Power Distribution Ltd. 4398"]
["Newmarket-Tay Power Distribution Ltd. 4405","Newmarket-Tay Power Distribution Ltd.","4405","Interest and Dividend Income",-99352.7,-90223.4,-577820.25,-507382.53,-175159.49,null,"Newmarket-Tay Power Distribution Ltd. 4405"]
["Newmarket-Tay Power Distribution Ltd. 4410","Newmarket-Tay Power Distribution Ltd.","4410","Lessor's Net Investment in Finance Lease",0,0,0,0,0,null,"Newmarket-Tay Power Distribution Ltd. 4410"]
["Newmarket-Tay Power Distribution Ltd. 4415","Newmarket-Tay Power Distribution Ltd.","4415","Equity in Earnings of Subsidiary Companies",0,0,0,0,0,null,"Newmarket-Tay Power Distribution Ltd. 4415"]
["Newmarket-Tay Power Distribution Ltd. 4420","Newmarket-Tay Power Distribution Ltd.","4420","Share of Profit or Loss of Joint Venture",0,0,0,0,0,null,"Newmarket-Tay Power Distribution Ltd. 4420"]
["Newmarket-Tay Power Distribution Ltd. Total ","Newmarket-Tay Power Distribution Ltd. Total",null,null,208158.52,-1570562.65,-3101435.73,-2722528.95,-682381.72,null,"Newmarket-Tay Power Distribution Ltd. Total "]
["Niagara Peninsula Energy Inc. 4082","Niagara Peninsula Energy Inc.","4082","Retail Services Revenues",-34360.800000000003,-30252.799999999999,-26297.599999999999,-38661.599999999999,-42487.8,null,"Niagara Peninsula Energy Inc. 4082"]
["Niagara Peninsula Energy Inc. 4084","Niagara Peninsula Energy Inc.","4084","Service Transaction Requests (STR) Revenues",-656.5,-368,-348.25,-585.5,-638.01,null,"Niagara Peninsula Energy Inc. 4084"]
["Niagara Peninsula Energy Inc. 4086","Niagara Peninsula Energy Inc.","4086","SSS Administration Revenue",-149418.99,-156050.21,-158073.44,-160439.85,-165529.4,null,"Niagara Peninsula Energy Inc. 4086"]
["Niagara Peninsula Energy Inc. 4090","Niagara Peninsula Energy Inc.","4090","Electric Services Incidental to Energy Sales",0,0,0,0,0,null,"Niagara Peninsula Energy Inc. 4090"]
["Niagara Peninsula Energy Inc. 4205","Niagara Peninsula Energy Inc.","4205","Interdepartmental Rents",0,0,0,0,0,null,"Niagara Peninsula Energy Inc. 4205"]
["Niagara Peninsula Energy Inc. 4210","Niagara Peninsula Energy Inc.","4210","Rent from Electric Property",0,0,0,0,0,null,"Niagara Peninsula Energy Inc. 4210"]
["Niagara Peninsula Energy Inc. 4215","Niagara Peninsula Energy Inc.","4215","Other Utility Operating Income",-41441.699999999997,-29140.73,-28867.35,-19293.919999999998,-25634.84,null,"Niagara Peninsula Energy Inc. 4215"]
["Niagara Peninsula Energy Inc. 4220","Niagara Peninsula Energy Inc.","4220","Other Electric Revenues",0,0,0,0,0,null,"Niagara Peninsula Energy Inc. 4220"]
["Niagara Peninsula Energy Inc. 4225","Niagara Peninsula Energy Inc.","4225","Late Payment Charges",-429277.11,-372953.63,-372405.41,-336173.09,-391364.08,null,"Niagara Peninsula Energy Inc. 4225"]
["Niagara Peninsula Energy Inc. 4230","Niagara Peninsula Energy Inc.","4230","Sales of Water and Water Power",0,0,0,0,0,null,"Niagara Peninsula Energy Inc. 4230"]
["Niagara Peninsula Energy Inc. 4235","Niagara Peninsula Energy Inc.","4235","Miscellaneous Service Revenues",-1665729.36,-1574465.37,-1576385.84,-1659526.07,-1973721.6,null,"Niagara Peninsula Energy Inc. 4235"]
["Niagara Peninsula Energy Inc. 4240","Niagara Peninsula Energy Inc.","4240","Provision for Rate Refunds",0,0,0,0,0,null,"Niagara Peninsula Energy Inc. 4240"]
["Niagara Peninsula Energy Inc. 4245","Niagara Peninsula Energy Inc.","4245","Government and Other Assistance Directly Credited to Income",0,0,0,0,0,null,"Niagara Peninsula Energy Inc. 4245"]
["Niagara Peninsula Energy Inc. 4305","Niagara Peninsula Energy Inc.","4305","Regulatory Debits",0,0,0,0,0,null,"Niagara Peninsula Energy Inc. 4305"]
["Niagara Peninsula Energy Inc. 4310","Niagara Peninsula Energy Inc.","4310","Regulatory Credits",0,0,0,0,0,null,"Niagara Peninsula Energy Inc. 4310"]
["Niagara Peninsula Energy Inc. 4315","Niagara Peninsula Energy Inc.","4315","Revenues from Electric Plant Leased to Others",0,0,0,0,0,null,"Niagara Peninsula Energy Inc. 4315"]
["Niagara Peninsula Energy Inc. 4320","Niagara Peninsula Energy Inc.","4320","Expenses of Electric Plant Leased to Others",0,0,0,0,0,null,"Niagara Peninsula Energy Inc. 4320"]
["Niagara Peninsula Energy Inc. 4325","Niagara Peninsula Energy Inc.","4325","Revenues from Merchandise",0,0,0,0,0,null,"Niagara Peninsula Energy Inc. 4325"]
["Niagara Peninsula Energy Inc. 4330","Niagara Peninsula Energy Inc.","4330","Costs and Expenses of Merchandising",0,0,0,0,0,null,"Niagara Peninsula Energy Inc. 4330"]
["Niagara Peninsula Energy Inc. 4335","Niagara Peninsula Energy Inc.","4335","Profits and Losses from Financial Instrument Hedges",0,0,0,0,0,null,"Niagara Peninsula Energy Inc. 4335"]
["Niagara Peninsula Energy Inc. 4340","Niagara Peninsula Energy Inc.","4340","Profits and Losses from Financial Instrument Investments",0,0,0,0,0,null,"Niagara Peninsula Energy Inc. 4340"]
["Niagara Peninsula Energy Inc. 4345","Niagara Peninsula Energy Inc.","4345","Gains from Disposition of Future Use Utility Plant",0,0,0,0,0,null,"Niagara Peninsula Energy Inc. 4345"]
["Niagara Peninsula Energy Inc. 4350","Niagara Peninsula Energy Inc.","4350","Losses from Disposition of Future Use Utility Plant",0,0,0,0,0,null,"Niagara Peninsula Energy Inc. 4350"]
["Niagara Peninsula Energy Inc. 4355","Niagara Peninsula Energy Inc.","4355","Gain on Disposition of Utility and Other Property",-3010.18,-7522.21,-5152.74,-265.49,-22600,null,"Niagara Peninsula Energy Inc. 4355"]
["Niagara Peninsula Energy Inc. 4357","Niagara Peninsula Energy Inc.","4357","Gain from Retirement of Utility and Other Property",0,0,0,0,0,null,"Niagara Peninsula Energy Inc. 4357"]
["Niagara Peninsula Energy Inc. 4360","Niagara Peninsula Energy Inc.","4360","Loss on Disposition of Utility and Other Property",7884.54,2047.85,73229.539999999994,68274.8,98041.32,null,"Niagara Peninsula Energy Inc. 4360"]
["Niagara Peninsula Energy Inc. 4362","Niagara Peninsula Energy Inc.","4362","Loss from Retirement of Utility and Other Property",0,100430.97,28012.99,6135.26,2471.1999999999998,null,"Niagara Peninsula Energy Inc. 4362"]
["Niagara Peninsula Energy Inc. 4365","Niagara Peninsula Energy Inc.","4365","Gains from Disposition of Allowances for Emission",0,0,0,0,0,null,"Niagara Peninsula Energy Inc. 4365"]
["Niagara Peninsula Energy Inc. 4370","Niagara Peninsula Energy Inc.","4370","Losses from Disposition of Allowances for Emission",0,0,0,0,0,null,"Niagara Peninsula Energy Inc. 4370"]
["Niagara Peninsula Energy Inc. 4375","Niagara Peninsula Energy Inc.","4375","Revenues from Non Rate-Regulated Utility Operations",-4591717.2300000004,-3314050.91,-2739666.6,-1604938.35,-779721.75,null,"Niagara Peninsula Energy Inc. 4375"]
["Niagara Peninsula Energy Inc. 4375","Niagara Peninsula Energy Inc.","4375","Sub-account Generation Facility Revenues",0,0,0,0,0,null,"Niagara Peninsula Energy Inc. 4375"]
["Niagara Peninsula Energy Inc. 4380","Niagara Peninsula Energy Inc.","4380","Expenses of Non Rate-Regulated Utility Operations",4607804.13,3320281.42,2302136.7799999998,1604938.35,779721.75,null,"Niagara Peninsula Energy Inc. 4380"]
["Niagara Peninsula Energy Inc. 4380","Niagara Peninsula Energy Inc.","4380","Sub-account Generation Facility Expenses",0,0,0,0,0,null,"Niagara Peninsula Energy Inc. 4380"]
["Niagara Peninsula Energy Inc. 4385","Niagara Peninsula Energy Inc.","4385","Non Rate-Regulated Utility Rental Income",0,0,0,0,0,null,"Niagara Peninsula Energy Inc. 4385"]
["Niagara Peninsula Energy Inc. 4390","Niagara Peninsula Energy Inc.","4390","Miscellaneous Non-Operating Income",-95183.29,-63464,-38875,-34166,-2000,null,"Niagara Peninsula Energy Inc. 4390"]
["Niagara Peninsula Energy Inc. 4395","Niagara Peninsula Energy Inc.","4395","Rate-Payer Benefit Including Interest",0,0,0,0,0,null,"Niagara Peninsula Energy Inc. 4395"]
["Niagara Peninsula Energy Inc. 4398","Niagara Peninsula Energy Inc.","4398","Foreign Exchange Gains and Losses, Including Amortization",0,0,0,0,0,null,"Niagara Peninsula Energy Inc. 4398"]
["Niagara Peninsula Energy Inc. 4405","Niagara Peninsula Energy Inc.","4405","Interest and Dividend Income",-185198.79,-278532.59000000003,-357053.48,-311867.81,-227315.65,null,"Niagara Peninsula Energy Inc. 4405"]
["Niagara Peninsula Energy Inc. 4410","Niagara Peninsula Energy Inc.","4410","Lessor's Net Investment in Finance Lease",0,0,0,0,0,null,"Niagara Peninsula Energy Inc. 4410"]
["Niagara Peninsula Energy Inc. 4415","Niagara Peninsula Energy Inc.","4415","Equity in Earnings of Subsidiary Companies",0,0,0,0,0,null,"Niagara Peninsula Energy Inc. 4415"]
["Niagara Peninsula Energy Inc. 4420","Niagara Peninsula Energy Inc.","4420","Share of Profit or Loss of Joint Venture",0,0,0,0,0,null,"Niagara Peninsula Energy Inc. 4420"]
["Niagara Peninsula Energy Inc. Total ","Niagara Peninsula Energy Inc. Total",null,null,-2580305.2799999998,-2404040.21,-2899746.4,-2486569.27,-2750778.86,null,"Niagara Peninsula Energy Inc. Total "]
["Niagara-on-the-Lake Hydro Inc. 4082","Niagara-on-the-Lake Hydro Inc.","4082","Retail Services Revenues",-6962,-7099.6,-6170.9,-9852,-10641.84,null,"Niagara-on-the-Lake Hydro Inc. 4082"]
["Niagara-on-the-Lake Hydro Inc. 4084","Niagara-on-the-Lake Hydro Inc.","4084","Service Transaction Requests (STR) Revenues",-48.75,-39.25,-30.5,-103.75,-133.87,null,"Niagara-on-the-Lake Hydro Inc. 4084"]
["Niagara-on-the-Lake Hydro Inc. 4086","Niagara-on-the-Lake Hydro Inc.","4086","SSS Administration Revenue",-26735.8,-27714.32,-27980,-28408.080000000002,-28835.71,null,"Niagara-on-the-Lake Hydro Inc. 4086"]
["Niagara-on-the-Lake Hydro Inc. 4090","Niagara-on-the-Lake Hydro Inc.","4090","Electric Services Incidental to Energy Sales",0,0,0,0,0,null,"Niagara-on-the-Lake Hydro Inc. 4090"]
["Niagara-on-the-Lake Hydro Inc. 4205","Niagara-on-the-Lake Hydro Inc.","4205","Interdepartmental Rents",0,0,0,0,0,null,"Niagara-on-the-Lake Hydro Inc. 4205"]
["Niagara-on-the-Lake Hydro Inc. 4210","Niagara-on-the-Lake Hydro Inc.","4210","Rent from Electric Property",-78236.710000000006,-77598.539999999994,-80905.899999999994,-127664.93,-149230.38,null,"Niagara-on-the-Lake Hydro Inc. 4210"]
["Niagara-on-the-Lake Hydro Inc. 4215","Niagara-on-the-Lake Hydro Inc.","4215","Other Utility Operating Income",0,0,0,0,0,null,"Niagara-on-the-Lake Hydro Inc. 4215"]
["Niagara-on-the-Lake Hydro Inc. 4220","Niagara-on-the-Lake Hydro Inc.","4220","Other Electric Revenues",0,0,0,0,0,null,"Niagara-on-the-Lake Hydro Inc. 4220"]
["Niagara-on-the-Lake Hydro Inc. 4225","Niagara-on-the-Lake Hydro Inc.","4225","Late Payment Charges",-64838.15,-45412.42,-48345.35,-49816.77,-16564.080000000002,null,"Niagara-on-the-Lake Hydro Inc. 4225"]
["Niagara-on-the-Lake Hydro Inc. 4230","Niagara-on-the-Lake Hydro Inc.","4230","Sales of Water and Water Power",0,0,0,0,0,null,"Niagara-on-the-Lake Hydro Inc. 4230"]
["Niagara-on-the-Lake Hydro Inc. 4235","Niagara-on-the-Lake Hydro Inc.","4235","Miscellaneous Service Revenues",-125120.2,-148207.47,-139489.18,-213704.1,-213119.12,null,"Niagara-on-the-Lake Hydro Inc. 4235"]
["Niagara-on-the-Lake Hydro Inc. 4240","Niagara-on-the-Lake Hydro Inc.","4240","Provision for Rate Refunds",0,0,0,0,0,null,"Niagara-on-the-Lake Hydro Inc. 4240"]
["Niagara-on-the-Lake Hydro Inc. 4245","Niagara-on-the-Lake Hydro Inc.","4245","Government and Other Assistance Directly Credited to Income",0,0,0,0,0,null,"Niagara-on-the-Lake Hydro Inc. 4245"]
["Niagara-on-the-Lake Hydro Inc. 4305","Niagara-on-the-Lake Hydro Inc.","4305","Regulatory Debits",200949.82,239781.83,258239.22,119596.47,50387.66,null,"Niagara-on-the-Lake Hydro Inc. 4305"]
["Niagara-on-the-Lake Hydro Inc. 4310","Niagara-on-the-Lake Hydro Inc.","4310","Regulatory Credits",0,0,0,0,0,null,{"$f":"B2054 & \" \" &C2054","v":"Niagara-on-the-Lake Hydro Inc. 4310"}]
["Niagara-on-the-Lake Hydro Inc. 4315","Niagara-on-the-Lake Hydro Inc.","4315","Revenues from Electric Plant Leased to Others",0,0,0,0,0,null,"Niagara-on-the-Lake Hydro Inc. 4315"]
["Niagara-on-the-Lake Hydro Inc. 4320","Niagara-on-the-Lake Hydro Inc.","4320","Expenses of Electric Plant Leased to Others",0,0,0,0,0,null,"Niagara-on-the-Lake Hydro Inc. 4320"]
["Niagara-on-the-Lake Hydro Inc. 4325","Niagara-on-the-Lake Hydro Inc.","4325","Revenues from Merchandise",-139972.87,-37213.35,-153091.29999999999,-62360.46,-48450.080000000002,null,"Niagara-on-the-Lake Hydro Inc. 4325"]
["Niagara-on-the-Lake Hydro Inc. 4330","Niagara-on-the-Lake Hydro Inc.","4330","Costs and Expenses of Merchandising",0,0,0,0,0,null,"Niagara-on-the-Lake Hydro Inc. 4330"]
["Niagara-on-the-Lake Hydro Inc. 4335","Niagara-on-the-Lake Hydro Inc.","4335","Profits and Losses from Financial Instrument Hedges",0,0,0,0,0,null,"Niagara-on-the-Lake Hydro Inc. 4335"]
["Niagara-on-the-Lake Hydro Inc. 4340","Niagara-on-the-Lake Hydro Inc.","4340","Profits and Losses from Financial Instrument Investments",-62352,-46137,-16833,50364,255112,null,"Niagara-on-the-Lake Hydro Inc. 4340"]
["Niagara-on-the-Lake Hydro Inc. 4345","Niagara-on-the-Lake Hydro Inc.","4345","Gains from Disposition of Future Use Utility Plant",0,0,0,0,0,null,"Niagara-on-the-Lake Hydro Inc. 4345"]
["Niagara-on-the-Lake Hydro Inc. 4350","Niagara-on-the-Lake Hydro Inc.","4350","Losses from Disposition of Future Use Utility Plant",0,0,0,0,0,null,"Niagara-on-the-Lake Hydro Inc. 4350"]
["Niagara-on-the-Lake Hydro Inc. 4355","Niagara-on-the-Lake Hydro Inc.","4355","Gain on Disposition of Utility and Other Property",0,-9413.44,-52926.39,-15000,-950,null,"Niagara-on-the-Lake Hydro Inc. 4355"]
["Niagara-on-the-Lake Hydro Inc. 4357","Niagara-on-the-Lake Hydro Inc.","4357","Gain from Retirement of Utility and Other Property",0,0,0,0,0,null,"Niagara-on-the-Lake Hydro Inc. 4357"]
["Niagara-on-the-Lake Hydro Inc. 4360","Niagara-on-the-Lake Hydro Inc.","4360","Loss on Disposition of Utility and Other Property",0,0,0,0,0,null,"Niagara-on-the-Lake Hydro Inc. 4360"]
["Niagara-on-the-Lake Hydro Inc. 4362","Niagara-on-the-Lake Hydro Inc.","4362","Loss from Retirement of Utility and Other Property",8509.75,33070.660000000003,268989.98,61710.78,39079.760000000002,null,"Niagara-on-the-Lake Hydro Inc. 4362"]
["Niagara-on-the-Lake Hydro Inc. 4365","Niagara-on-the-Lake Hydro Inc.","4365","Gains from Disposition of Allowances for Emission",0,0,0,0,0,null,"Niagara-on-the-Lake Hydro Inc. 4365"]
["Niagara-on-the-Lake Hydro Inc. 4370","Niagara-on-the-Lake Hydro Inc.","4370","Losses from Disposition of Allowances for Emission",0,0,0,0,0,null,"Niagara-on-the-Lake Hydro Inc. 4370"]
["Niagara-on-the-Lake Hydro Inc. 4375","Niagara-on-the-Lake Hydro Inc.","4375","Revenues from Non Rate-Regulated Utility Operations",-371343.55,-597786.59,-333183.25,-171642.6,-230499.17,null,"Niagara-on-the-Lake Hydro Inc. 4375"]
["Niagara-on-the-Lake Hydro Inc. 4375","Niagara-on-the-Lake Hydro Inc.","4375","Sub-account Generation Facility Revenues",0,0,0,0,0,null,"Niagara-on-the-Lake Hydro Inc. 4375"]
["Niagara-on-the-Lake Hydro Inc. 4380","Niagara-on-the-Lake Hydro Inc.","4380","Expenses of Non Rate-Regulated Utility Operations",381147.39,512228.8,305333.06,192557.45,208753.52,null,"Niagara-on-the-Lake Hydro Inc. 4380"]
["Niagara-on-the-Lake Hydro Inc. 4380","Niagara-on-the-Lake Hydro Inc.","4380","Sub-account Generation Facility Expenses",0,0,0,0,0,null,"Niagara-on-the-Lake Hydro Inc. 4380"]
["Niagara-on-the-Lake Hydro Inc. 4385","Niagara-on-the-Lake Hydro Inc.","4385","Non Rate-Regulated Utility Rental Income",0,0,0,0,0,null,"Niagara-on-the-Lake Hydro Inc. 4385"]
["Niagara-on-the-Lake Hydro Inc. 4390","Niagara-on-the-Lake Hydro Inc.","4390","Miscellaneous Non-Operating Income",-13217.08,-7397.46,-21932.39,-23972.87,-16390.849999999999,null,"Niagara-on-the-Lake Hydro Inc. 4390"]
["Niagara-on-the-Lake Hydro Inc. 4395","Niagara-on-the-Lake Hydro Inc.","4395","Rate-Payer Benefit Including Interest",0,0,0,0,0,null,"Niagara-on-the-Lake Hydro Inc. 4395"]
["Niagara-on-the-Lake Hydro Inc. 4398","Niagara-on-the-Lake Hydro Inc.","4398","Foreign Exchange Gains and Losses, Including Amortization",0,0,0,0,0,null,"Niagara-on-the-Lake Hydro Inc. 4398"]
["Niagara-on-the-Lake Hydro Inc. 4405","Niagara-on-the-Lake Hydro Inc.","4405","Interest and Dividend Income",-56869.35,-45799.18,-59901.32,-41383.620000000003,129098.19,null,"Niagara-on-the-Lake Hydro Inc. 4405"]
["Niagara-on-the-Lake Hydro Inc. 4410","Niagara-on-the-Lake Hydro Inc.","4410","Lessor's Net Investment in Finance Lease",0,0,0,0,0,null,"Niagara-on-the-Lake Hydro Inc. 4410"]
["Niagara-on-the-Lake Hydro Inc. 4415","Niagara-on-the-Lake Hydro Inc.","4415","Equity in Earnings of Subsidiary Companies",0,0,0,0,0,null,"Niagara-on-the-Lake Hydro Inc. 4415"]
["Niagara-on-the-Lake Hydro Inc. 4420","Niagara-on-the-Lake Hydro Inc.","4420","Share of Profit or Loss of Joint Venture",0,0,0,0,0,null,"Niagara-on-the-Lake Hydro Inc. 4420"]
["Niagara-on-the-Lake Hydro Inc. Total ","Niagara-on-the-Lake Hydro Inc. Total",null,null,-355089.5,-264737.33,-108227.22,-319680.48,-32383.970000000099,null,"Niagara-on-the-Lake Hydro Inc. Total "]
["North Bay Hydro Distribution Limited 4082","North Bay Hydro Distribution Limited","4082","Retail Services Revenues",0,0,0,0,0,null,"North Bay Hydro Distribution Limited 4082"]
["North Bay Hydro Distribution Limited 4084","North Bay Hydro Distribution Limited","4084","Service Transaction Requests (STR) Revenues",0,0,0,0,0,null,"North Bay Hydro Distribution Limited 4084"]
["North Bay Hydro Distribution Limited 4086","North Bay Hydro Distribution Limited","4086","SSS Administration Revenue",-85403.35,-86269.23,-86924.160000000003,-87409.87,-88041.06,null,"North Bay Hydro Distribution Limited 4086"]
["North Bay Hydro Distribution Limited 4090","North Bay Hydro Distribution Limited","4090","Electric Services Incidental to Energy Sales",0,0,0,0,0,null,"North Bay Hydro Distribution Limited 4090"]
["North Bay Hydro Distribution Limited 4205","North Bay Hydro Distribution Limited","4205","Interdepartmental Rents",0,0,0,0,0,null,"North Bay Hydro Distribution Limited 4205"]
["North Bay Hydro Distribution Limited 4210","North Bay Hydro Distribution Limited","4210","Rent from Electric Property",-260463.76,-260447.6,-245584.35,-266287.89,-264730.55,null,"North Bay Hydro Distribution Limited 4210"]
["North Bay Hydro Distribution Limited 4215","North Bay Hydro Distribution Limited","4215","Other Utility Operating Income",0,0,0,0,0,null,"North Bay Hydro Distribution Limited 4215"]
["North Bay Hydro Distribution Limited 4220","North Bay Hydro Distribution Limited","4220","Other Electric Revenues",0,0,0,0,0,null,"North Bay Hydro Distribution Limited 4220"]
["North Bay Hydro Distribution Limited 4225","North Bay Hydro Distribution Limited","4225","Late Payment Charges",-145466.06,-161684.59,-152361.89000000001,-134993.53,-53634.41,null,"North Bay Hydro Distribution Limited 4225"]
["North Bay Hydro Distribution Limited 4230","North Bay Hydro Distribution Limited","4230","Sales of Water and Water Power",0,0,0,0,0,null,"North Bay Hydro Distribution Limited 4230"]
["North Bay Hydro Distribution Limited 4235","North Bay Hydro Distribution Limited","4235","Miscellaneous Service Revenues",-579683.51,-437296.79,-358851.77,-214871.43,-130237.46,null,"North Bay Hydro Distribution Limited 4235"]
["North Bay Hydro Distribution Limited 4240","North Bay Hydro Distribution Limited","4240","Provision for Rate Refunds",0,0,0,0,0,null,"North Bay Hydro Distribution Limited 4240"]
["North Bay Hydro Distribution Limited 4245","North Bay Hydro Distribution Limited","4245","Government and Other Assistance Directly Credited to Income",-48689.32,-71269.17,-80619.399999999994,-93371.27,-104191.6091,null,"North Bay Hydro Distribution Limited 4245"]
["North Bay Hydro Distribution Limited 4305","North Bay Hydro Distribution Limited","4305","Regulatory Debits",1628473.37,811985.24,272.89999999999998,0,0,null,"North Bay Hydro Distribution Limited 4305"]
["North Bay Hydro Distribution Limited 4310","North Bay Hydro Distribution Limited","4310","Regulatory Credits",0,0,0,0,0,null,"North Bay Hydro Distribution Limited 4310"]
["North Bay Hydro Distribution Limited 4315","North Bay Hydro Distribution Limited","4315","Revenues from Electric Plant Leased to Others",0,0,0,0,0,null,"North Bay Hydro Distribution Limited 4315"]
["North Bay Hydro Distribution Limited 4320","North Bay Hydro Distribution Limited","4320","Expenses of Electric Plant Leased to Others",0,0,0,0,0,null,"North Bay Hydro Distribution Limited 4320"]
["North Bay Hydro Distribution Limited 4325","North Bay Hydro Distribution Limited","4325","Revenues from Merchandise",0,0,0,0,0,null,"North Bay Hydro Distribution Limited 4325"]
["North Bay Hydro Distribution Limited 4330","North Bay Hydro Distribution Limited","4330","Costs and Expenses of Merchandising",0,0,0,0,0,null,"North Bay Hydro Distribution Limited 4330"]
["North Bay Hydro Distribution Limited 4335","North Bay Hydro Distribution Limited","4335","Profits and Losses from Financial Instrument Hedges",-672578,-890292,140775,681401,2102924,null,"North Bay Hydro Distribution Limited 4335"]
["North Bay Hydro Distribution Limited 4340","North Bay Hydro Distribution Limited","4340","Profits and Losses from Financial Instrument Investments",0,0,0,0,0,null,"North Bay Hydro Distribution Limited 4340"]
["North Bay Hydro Distribution Limited 4345","North Bay Hydro Distribution Limited","4345","Gains from Disposition of Future Use Utility Plant",0,0,0,0,0,null,"North Bay Hydro Distribution Limited 4345"]
["North Bay Hydro Distribution Limited 4350","North Bay Hydro Distribution Limited","4350","Losses from Disposition of Future Use Utility Plant",0,0,0,0,0,null,"North Bay Hydro Distribution Limited 4350"]
["North Bay Hydro Distribution Limited 4355","North Bay Hydro Distribution Limited","4355","Gain on Disposition of Utility and Other Property",-137183.1,-30000,-3432,-90253.35,2153.5700000000002,null,"North Bay Hydro Distribution Limited 4355"]
["North Bay Hydro Distribution Limited 4357","North Bay Hydro Distribution Limited","4357","Gain from Retirement of Utility and Other Property",0,0,0,0,0,null,"North Bay Hydro Distribution Limited 4357"]
["North Bay Hydro Distribution Limited 4360","North Bay Hydro Distribution Limited","4360","Loss on Disposition of Utility and Other Property",0,0,0,0,0,null,"North Bay Hydro Distribution Limited 4360"]
["North Bay Hydro Distribution Limited 4362","North Bay Hydro Distribution Limited","4362","Loss from Retirement of Utility and Other Property",21639.5,184022.54,29351.73,180525.43,42614.6,null,"North Bay Hydro Distribution Limited 4362"]
["North Bay Hydro Distribution Limited 4365","North Bay Hydro Distribution Limited","4365","Gains from Disposition of Allowances for Emission",0,0,0,0,0,null,"North Bay Hydro Distribution Limited 4365"]
["North Bay Hydro Distribution Limited 4370","North Bay Hydro Distribution Limited","4370","Losses from Disposition of Allowances for Emission",0,0,0,0,0,null,"North Bay Hydro Distribution Limited 4370"]
["North Bay Hydro Distribution Limited 4375","North Bay Hydro Distribution Limited","4375","Revenues from Non Rate-Regulated Utility Operations",-1103429.8999999999,-1237152.53,-1155267.9099999999,-864459,-1449596.83,null,"North Bay Hydro Distribution Limited 4375"]
["North Bay Hydro Distribution Limited 4375","North Bay Hydro Distribution Limited","4375","Sub-account Generation Facility Revenues",0,0,0,0,0,null,"North Bay Hydro Distribution Limited 4375"]
["North Bay Hydro Distribution Limited 4380","North Bay Hydro Distribution Limited","4380","Expenses of Non Rate-Regulated Utility Operations",1091120,1316876.98,1320283.83,876802.04,1397521.73,null,"North Bay Hydro Distribution Limited 4380"]
["North Bay Hydro Distribution Limited 4380","North Bay Hydro Distribution Limited","4380","Sub-account Generation Facility Expenses",0,0,0,0,0,null,"North Bay Hydro Distribution Limited 4380"]
["North Bay Hydro Distribution Limited 4385","North Bay Hydro Distribution Limited","4385","Non Rate-Regulated Utility Rental Income",0,0,0,0,0,null,"North Bay Hydro Distribution Limited 4385"]
["North Bay Hydro Distribution Limited 4390","North Bay Hydro Distribution Limited","4390","Miscellaneous Non-Operating Income",-3198.64,-14685.36,-9196.6299999999992,-3042.29,-9994.9500000000007,null,"North Bay Hydro Distribution Limited 4390"]
["North Bay Hydro Distribution Limited 4395","North Bay Hydro Distribution Limited","4395","Rate-Payer Benefit Including Interest",0,0,0,0,0,null,"North Bay Hydro Distribution Limited 4395"]
["North Bay Hydro Distribution Limited 4398","North Bay Hydro Distribution Limited","4398","Foreign Exchange Gains and Losses, Including Amortization",13352.3,10733.17,-914.97,1406.14,2783.33,null,{"$f":"B2118 & \" \" &C2118","v":"North Bay Hydro Distribution Limited 4398"}]
["North Bay Hydro Distribution Limited 4405","North Bay Hydro Distribution Limited","4405","Interest and Dividend Income",-125146.15,-153260.22,-248275.24,-893411.06,-415844.66,null,"North Bay Hydro Distribution Limited 4405"]
["North Bay Hydro Distribution Limited 4410","North Bay Hydro Distribution Limited","4410","Lessor's Net Investment in Finance Lease",0,0,0,0,0,null,"North Bay Hydro Distribution Limited 4410"]
["North Bay Hydro Distribution Limited 4415","North Bay Hydro Distribution Limited","4415","Equity in Earnings of Subsidiary Companies",0,0,0,0,0,null,"North Bay Hydro Distribution Limited 4415"]
["North Bay Hydro Distribution Limited 4420","North Bay Hydro Distribution Limited","4420","Share of Profit or Loss of Joint Venture",0,0,0,0,0,null,"North Bay Hydro Distribution Limited 4420"]
["North Bay Hydro Distribution Limited Total ","North Bay Hydro Distribution Limited Total",null,null,-406656.62,-1018739.56,-850744.86,-907965.08,1031725.7009000001,null,"North Bay Hydro Distribution Limited Total "]
["Northern Ontario Wires Inc. 4082","Northern Ontario Wires Inc.","4082","Retail Services Revenues",-0.01,0.01,0,-685.72,0,null,"Northern Ontario Wires Inc. 4082"]
["Northern Ontario Wires Inc. 4084","Northern Ontario Wires Inc.","4084","Service Transaction Requests (STR) Revenues",0,0,-15,-150,0,null,"Northern Ontario Wires Inc. 4084"]
["Northern Ontario Wires Inc. 4086","Northern Ontario Wires Inc.","4086","SSS Administration Revenue",0,0,0,0,0,null,"Northern Ontario Wires Inc. 4086"]
["Northern Ontario Wires Inc. 4090","Northern Ontario Wires Inc.","4090","Electric Services Incidental to Energy Sales",0,0,0,0,0,null,"Northern Ontario Wires Inc. 4090"]
["Northern Ontario Wires Inc. 4205","Northern Ontario Wires Inc.","4205","Interdepartmental Rents",0,0,0,0,0,null,"Northern Ontario Wires Inc. 4205"]
["Northern Ontario Wires Inc. 4210","Northern Ontario Wires Inc.","4210","Rent from Electric Property",-92825.61,-115766.16,-107629.91,-104340.86,-105847.52,null,"Northern Ontario Wires Inc. 4210"]
["Northern Ontario Wires Inc. 4215","Northern Ontario Wires Inc.","4215","Other Utility Operating Income",-773.71,-14228.7,-730.73,-2906.39,-9750.6299999999992,null,"Northern Ontario Wires Inc. 4215"]
["Northern Ontario Wires Inc. 4220","Northern Ontario Wires Inc.","4220","Other Electric Revenues",0,0,0,0,0,null,"Northern Ontario Wires Inc. 4220"]
["Northern Ontario Wires Inc. 4225","Northern Ontario Wires Inc.","4225","Late Payment Charges",-96517.63,-78937.16,-95545.55,-89058.3,-44206.03,null,"Northern Ontario Wires Inc. 4225"]
["Northern Ontario Wires Inc. 4230","Northern Ontario Wires Inc.","4230","Sales of Water and Water Power",0,0,0,0,0,null,"Northern Ontario Wires Inc. 4230"]
["Northern Ontario Wires Inc. 4235","Northern Ontario Wires Inc.","4235","Miscellaneous Service Revenues",-167896.11,-179238.33,-187269.45,-196906,-191227.2,null,"Northern Ontario Wires Inc. 4235"]
["Northern Ontario Wires Inc. 4240","Northern Ontario Wires Inc.","4240","Provision for Rate Refunds",0,0,0,0,0,null,"Northern Ontario Wires Inc. 4240"]
["Northern Ontario Wires Inc. 4245","Northern Ontario Wires Inc.","4245","Government and Other Assistance Directly Credited to Income",-3111.28,-3471.33,-3565.9,-3565.89,-3565.9,null,"Northern Ontario Wires Inc. 4245"]
["Northern Ontario Wires Inc. 4305","Northern Ontario Wires Inc.","4305","Regulatory Debits",0,0,0,0,0,null,"Northern Ontario Wires Inc. 4305"]
["Northern Ontario Wires Inc. 4310","Northern Ontario Wires Inc.","4310","Regulatory Credits",0,0,0,0,0,null,"Northern Ontario Wires Inc. 4310"]
["Northern Ontario Wires Inc. 4315","Northern Ontario Wires Inc.","4315","Revenues from Electric Plant Leased to Others",0,0,0,0,0,null,"Northern Ontario Wires Inc. 4315"]
["Northern Ontario Wires Inc. 4320","Northern Ontario Wires Inc.","4320","Expenses of Electric Plant Leased to Others",0,0,0,0,0,null,"Northern Ontario Wires Inc. 4320"]
["Northern Ontario Wires Inc. 4325","Northern Ontario Wires Inc.","4325","Revenues from Merchandise",-10717.6,-23504.84,-12211.41,-17795.14,-8890.17,null,"Northern Ontario Wires Inc. 4325"]
["Northern Ontario Wires Inc. 4330","Northern Ontario Wires Inc.","4330","Costs and Expenses of Merchandising",0,0,0,0,0,null,"Northern Ontario Wires Inc. 4330"]
["Northern Ontario Wires Inc. 4335","Northern Ontario Wires Inc.","4335","Profits and Losses from Financial Instrument Hedges",0,0,0,0,0,null,"Northern Ontario Wires Inc. 4335"]
["Northern Ontario Wires Inc. 4340","Northern Ontario Wires Inc.","4340","Profits and Losses from Financial Instrument Investments",0,0,0,0,0,null,"Northern Ontario Wires Inc. 4340"]
["Northern Ontario Wires Inc. 4345","Northern Ontario Wires Inc.","4345","Gains from Disposition of Future Use Utility Plant",0,0,0,0,0,null,"Northern Ontario Wires Inc. 4345"]
["Northern Ontario Wires Inc. 4350","Northern Ontario Wires Inc.","4350","Losses from Disposition of Future Use Utility Plant",0,0,0,0,0,null,"Northern Ontario Wires Inc. 4350"]
["Northern Ontario Wires Inc. 4355","Northern Ontario Wires Inc.","4355","Gain on Disposition of Utility and Other Property",0,0,0,0,0,null,"Northern Ontario Wires Inc. 4355"]
["Northern Ontario Wires Inc. 4357","Northern Ontario Wires Inc.","4357","Gain from Retirement of Utility and Other Property",0,0,0,0,0,null,"Northern Ontario Wires Inc. 4357"]
["Northern Ontario Wires Inc. 4360","Northern Ontario Wires Inc.","4360","Loss on Disposition of Utility and Other Property",16969.95,8431.09,9965.08,18509.46,5323.74,null,"Northern Ontario Wires Inc. 4360"]
["Northern Ontario Wires Inc. 4362","Northern Ontario Wires Inc.","4362","Loss from Retirement of Utility and Other Property",0,0,0,0,0,null,"Northern Ontario Wires Inc. 4362"]
["Northern Ontario Wires Inc. 4365","Northern Ontario Wires Inc.","4365","Gains from Disposition of Allowances for Emission",0,0,0,0,0,null,"Northern Ontario Wires Inc. 4365"]
["Northern Ontario Wires Inc. 4370","Northern Ontario Wires Inc.","4370","Losses from Disposition of Allowances for Emission",0,0,0,0,0,null,"Northern Ontario Wires Inc. 4370"]
["Northern Ontario Wires Inc. 4375","Northern Ontario Wires Inc.","4375","Revenues from Non Rate-Regulated Utility Operations",-842.4,-842.4,-56076.15,-17152.03,-765.05,null,"Northern Ontario Wires Inc. 4375"]
["Northern Ontario Wires Inc. 4375","Northern Ontario Wires Inc.","4375","Sub-account Generation Facility Revenues",0,0,0,0,0,null,"Northern Ontario Wires Inc. 4375"]
["Northern Ontario Wires Inc. 4380","Northern Ontario Wires Inc.","4380","Expenses of Non Rate-Regulated Utility Operations",0,0,0,0,0,null,"Northern Ontario Wires Inc. 4380"]
["Northern Ontario Wires Inc. 4380","Northern Ontario Wires Inc.","4380","Sub-account Generation Facility Expenses",0,0,0,0,0,null,"Northern Ontario Wires Inc. 4380"]
["Northern Ontario Wires Inc. 4385","Northern Ontario Wires Inc.","4385","Non Rate-Regulated Utility Rental Income",0,0,0,0,0,null,"Northern Ontario Wires Inc. 4385"]
["Northern Ontario Wires Inc. 4390","Northern Ontario Wires Inc.","4390","Miscellaneous Non-Operating Income",-224.64,-3098.73,-5080.55,-25045.29,-280.58999999999997,null,"Northern Ontario Wires Inc. 4390"]
["Northern Ontario Wires Inc. 4395","Northern Ontario Wires Inc.","4395","Rate-Payer Benefit Including Interest",0,0,0,0,0,null,"Northern Ontario Wires Inc. 4395"]
["Northern Ontario Wires Inc. 4398","Northern Ontario Wires Inc.","4398","Foreign Exchange Gains and Losses, Including Amortization",0,0,0,0,0,null,"Northern Ontario Wires Inc. 4398"]
["Northern Ontario Wires Inc. 4405","Northern Ontario Wires Inc.","4405","Interest and Dividend Income",-11466.89,-7817.87,-11310.48,-11184.69,-5890.12,null,"Northern Ontario Wires Inc. 4405"]
["Northern Ontario Wires Inc. 4410","Northern Ontario Wires Inc.","4410","Lessor's Net Investment in Finance Lease",0,0,0,0,0,null,"Northern Ontario Wires Inc. 4410"]
["Northern Ontario Wires Inc. 4415","Northern Ontario Wires Inc.","4415","Equity in Earnings of Subsidiary Companies",0,0,0,0,0,null,"Northern Ontario Wires Inc. 4415"]
["Northern Ontario Wires Inc. 4420","Northern Ontario Wires Inc.","4420","Share of Profit or Loss of Joint Venture",0,0,0,0,0,null,"Northern Ontario Wires Inc. 4420"]
["Northern Ontario Wires Inc. Total ","Northern Ontario Wires Inc. Total",null,null,-367405.93,-418474.42,-469470.05,-450280.85,-365099.47,null,"Northern Ontario Wires Inc. Total "]
["Oakville Hydro Electricity Distribution Inc. 4082","Oakville Hydro Electricity Distribution Inc.","4082","Retail Services Revenues",0,0,0,0,0,null,"Oakville Hydro Electricity Distribution Inc. 4082"]
["Oakville Hydro Electricity Distribution Inc. 4084","Oakville Hydro Electricity Distribution Inc.","4084","Service Transaction Requests (STR) Revenues",0,0,0,0,0,null,"Oakville Hydro Electricity Distribution Inc. 4084"]
["Oakville Hydro Electricity Distribution Inc. 4086","Oakville Hydro Electricity Distribution Inc.","4086","SSS Administration Revenue",-223104.17,-202405.4,-214665.71,-216673.7,-227320.09,null,"Oakville Hydro Electricity Distribution Inc. 4086"]
["Oakville Hydro Electricity Distribution Inc. 4090","Oakville Hydro Electricity Distribution Inc.","4090","Electric Services Incidental to Energy Sales",0,0,0,0,0,null,"Oakville Hydro Electricity Distribution Inc. 4090"]
["Oakville Hydro Electricity Distribution Inc. 4205","Oakville Hydro Electricity Distribution Inc.","4205","Interdepartmental Rents",0,0,0,0,0,null,"Oakville Hydro Electricity Distribution Inc. 4205"]
["Oakville Hydro Electricity Distribution Inc. 4210","Oakville Hydro Electricity Distribution Inc.","4210","Rent from Electric Property",-156093.6,-164507.9,-169632.52,-167106.89000000001,-194137.03,null,"Oakville Hydro Electricity Distribution Inc. 4210"]
["Oakville Hydro Electricity Distribution Inc. 4215","Oakville Hydro Electricity Distribution Inc.","4215","Other Utility Operating Income",0,0,0,0,0,null,"Oakville Hydro Electricity Distribution Inc. 4215"]
["Oakville Hydro Electricity Distribution Inc. 4220","Oakville Hydro Electricity Distribution Inc.","4220","Other Electric Revenues",-24654.62,-24063.65,-21181.75,1725.64,11174.18,null,"Oakville Hydro Electricity Distribution Inc. 4220"]
["Oakville Hydro Electricity Distribution Inc. 4225","Oakville Hydro Electricity Distribution Inc.","4225","Late Payment Charges",-369606.31,-320603.15000000002,-251566.74,-218176.88,-242376.9,null,"Oakville Hydro Electricity Distribution Inc. 4225"]
["Oakville Hydro Electricity Distribution Inc. 4230","Oakville Hydro Electricity Distribution Inc.","4230","Sales of Water and Water Power",0,0,0,0,0,null,"Oakville Hydro Electricity Distribution Inc. 4230"]
["Oakville Hydro Electricity Distribution Inc. 4235","Oakville Hydro Electricity Distribution Inc.","4235","Miscellaneous Service Revenues",-368939.9,-637367.52,-382527.63,-361594.68,-316295.07,null,"Oakville Hydro Electricity Distribution Inc. 4235"]
["Oakville Hydro Electricity Distribution Inc. 4240","Oakville Hydro Electricity Distribution Inc.","4240","Provision for Rate Refunds",0,0,0,0,0,null,"Oakville Hydro Electricity Distribution Inc. 4240"]
["Oakville Hydro Electricity Distribution Inc. 4245","Oakville Hydro Electricity Distribution Inc.","4245","Government and Other Assistance Directly Credited to Income",-280860.18,-450392.11,-674288.73,-827582.12,-1020460.39,null,"Oakville Hydro Electricity Distribution Inc. 4245"]
["Oakville Hydro Electricity Distribution Inc. 4305","Oakville Hydro Electricity Distribution Inc.","4305","Regulatory Debits",0,0,0,0,0,null,"Oakville Hydro Electricity Distribution Inc. 4305"]
["Oakville Hydro Electricity Distribution Inc. 4310","Oakville Hydro Electricity Distribution Inc.","4310","Regulatory Credits",0,0,0,0,0,null,"Oakville Hydro Electricity Distribution Inc. 4310"]
["Oakville Hydro Electricity Distribution Inc. 4315","Oakville Hydro Electricity Distribution Inc.","4315","Revenues from Electric Plant Leased to Others",0,0,0,0,0,null,"Oakville Hydro Electricity Distribution Inc. 4315"]
["Oakville Hydro Electricity Distribution Inc. 4320","Oakville Hydro Electricity Distribution Inc.","4320","Expenses of Electric Plant Leased to Others",0,0,0,0,0,null,{"$f":"B2182 & \" \" &C2182","v":"Oakville Hydro Electricity Distribution Inc. 4320"}]
["Oakville Hydro Electricity Distribution Inc. 4325","Oakville Hydro Electricity Distribution Inc.","4325","Revenues from Merchandise",0,0,0,0,0,null,"Oakville Hydro Electricity Distribution Inc. 4325"]
["Oakville Hydro Electricity Distribution Inc. 4330","Oakville Hydro Electricity Distribution Inc.","4330","Costs and Expenses of Merchandising",0,0,0,0,0,null,"Oakville Hydro Electricity Distribution Inc. 4330"]
["Oakville Hydro Electricity Distribution Inc. 4335","Oakville Hydro Electricity Distribution Inc.","4335","Profits and Losses from Financial Instrument Hedges",0,0,0,0,0,null,"Oakville Hydro Electricity Distribution Inc. 4335"]
["Oakville Hydro Electricity Distribution Inc. 4340","Oakville Hydro Electricity Distribution Inc.","4340","Profits and Losses from Financial Instrument Investments",0,0,0,0,0,null,"Oakville Hydro Electricity Distribution Inc. 4340"]
["Oakville Hydro Electricity Distribution Inc. 4345","Oakville Hydro Electricity Distribution Inc.","4345","Gains from Disposition of Future Use Utility Plant",0,0,0,0,0,null,"Oakville Hydro Electricity Distribution Inc. 4345"]
["Oakville Hydro Electricity Distribution Inc. 4350","Oakville Hydro Electricity Distribution Inc.","4350","Losses from Disposition of Future Use Utility Plant",0,0,0,0,0,null,"Oakville Hydro Electricity Distribution Inc. 4350"]
["Oakville Hydro Electricity Distribution Inc. 4355","Oakville Hydro Electricity Distribution Inc.","4355","Gain on Disposition of Utility and Other Property",0,0,0,0,0,null,"Oakville Hydro Electricity Distribution Inc. 4355"]
["Oakville Hydro Electricity Distribution Inc. 4357","Oakville Hydro Electricity Distribution Inc.","4357","Gain from Retirement of Utility and Other Property",0,0,0,0,0,null,"Oakville Hydro Electricity Distribution Inc. 4357"]
["Oakville Hydro Electricity Distribution Inc. 4360","Oakville Hydro Electricity Distribution Inc.","4360","Loss on Disposition of Utility and Other Property",0,0,0,0,0,null,"Oakville Hydro Electricity Distribution Inc. 4360"]
["Oakville Hydro Electricity Distribution Inc. 4362","Oakville Hydro Electricity Distribution Inc.","4362","Loss from Retirement of Utility and Other Property",0,0,0,0,0,null,"Oakville Hydro Electricity Distribution Inc. 4362"]
["Oakville Hydro Electricity Distribution Inc. 4365","Oakville Hydro Electricity Distribution Inc.","4365","Gains from Disposition of Allowances for Emission",0,0,0,0,0,null,"Oakville Hydro Electricity Distribution Inc. 4365"]
["Oakville Hydro Electricity Distribution Inc. 4370","Oakville Hydro Electricity Distribution Inc.","4370","Losses from Disposition of Allowances for Emission",0,0,0,0,0,null,"Oakville Hydro Electricity Distribution Inc. 4370"]
["Oakville Hydro Electricity Distribution Inc. 4375","Oakville Hydro Electricity Distribution Inc.","4375","Revenues from Non Rate-Regulated Utility Operations",-233898.76,-708925.71,-290344.71999999997,-50592.85,-4949.05,null,"Oakville Hydro Electricity Distribution Inc. 4375"]
["Oakville Hydro Electricity Distribution Inc. 4375","Oakville Hydro Electricity Distribution Inc.","4375","Sub-account Generation Facility Revenues",0,0,0,0,0,null,"Oakville Hydro Electricity Distribution Inc. 4375"]
["Oakville Hydro Electricity Distribution Inc. 4380","Oakville Hydro Electricity Distribution Inc.","4380","Expenses of Non Rate-Regulated Utility Operations",17909.79,5837.01,4479.07,5132.63,0,null,"Oakville Hydro Electricity Distribution Inc. 4380"]
["Oakville Hydro Electricity Distribution Inc. 4380","Oakville Hydro Electricity Distribution Inc.","4380","Sub-account Generation Facility Expenses",0,0,0,0,0,null,"Oakville Hydro Electricity Distribution Inc. 4380"]
["Oakville Hydro Electricity Distribution Inc. 4385","Oakville Hydro Electricity Distribution Inc.","4385","Non Rate-Regulated Utility Rental Income",-8802.94,-8665.6200000000008,-17406.98,-36116.46,-46895.67,null,"Oakville Hydro Electricity Distribution Inc. 4385"]
["Oakville Hydro Electricity Distribution Inc. 4390","Oakville Hydro Electricity Distribution Inc.","4390","Miscellaneous Non-Operating Income",-341393.07,-65403.49,57241.91,326276.40000000002,207323.54,null,"Oakville Hydro Electricity Distribution Inc. 4390"]
["Oakville Hydro Electricity Distribution Inc. 4395","Oakville Hydro Electricity Distribution Inc.","4395","Rate-Payer Benefit Including Interest",0,0,0,0,0,null,"Oakville Hydro Electricity Distribution Inc. 4395"]
["Oakville Hydro Electricity Distribution Inc. 4398","Oakville Hydro Electricity Distribution Inc.","4398","Foreign Exchange Gains and Losses, Including Amortization",-8136.06,-24997.87,17114.93,10567.4,13380.64,null,"Oakville Hydro Electricity Distribution Inc. 4398"]
["Oakville Hydro Electricity Distribution Inc. 4405","Oakville Hydro Electricity Distribution Inc.","4405","Interest and Dividend Income",-545364.41,-394076.13,-756989.43999999994,-801416.43,-349853.9,null,"Oakville Hydro Electricity Distribution Inc. 4405"]
["Oakville Hydro Electricity Distribution Inc. 4410","Oakville Hydro Electricity Distribution Inc.","4410","Lessor's Net Investment in Finance Lease",0,0,0,0,0,null,"Oakville Hydro Electricity Distribution Inc. 4410"]
["Oakville Hydro Electricity Distribution Inc. 4415","Oakville Hydro Electricity Distribution Inc.","4415","Equity in Earnings of Subsidiary Companies",0,0,0,0,0,null,"Oakville Hydro Electricity Distribution Inc. 4415"]
["Oakville Hydro Electricity Distribution Inc. 4420","Oakville Hydro Electricity Distribution Inc.","4420","Share of Profit or Loss of Joint Venture",0,0,0,0,0,null,"Oakville Hydro Electricity Distribution Inc. 4420"]
["Oakville Hydro Electricity Distribution Inc. Total ","Oakville Hydro Electricity Distribution Inc. Total",null,null,-2542944.23,-2995571.54,-2699768.31,-2335557.94,-2170409.7400000002,null,"Oakville Hydro Electricity Distribution Inc. Total "]
["Orangeville Hydro Limited 4082","Orangeville Hydro Limited","4082","Retail Services Revenues",-11641.2,-10084.9,-8808.5,-12642.9,-14960.47,null,"Orangeville Hydro Limited 4082"]
["Orangeville Hydro Limited 4084","Orangeville Hydro Limited","4084","Service Transaction Requests (STR) Revenues",-176.5,-125.75,-109.5,-162,-129.79,null,"Orangeville Hydro Limited 4084"]
["Orangeville Hydro Limited 4086","Orangeville Hydro Limited","4086","SSS Administration Revenue",-33824.57,-35032.85,-36894.35,-37475.9,-37884.959999999999,null,"Orangeville Hydro Limited 4086"]
["Orangeville Hydro Limited 4090","Orangeville Hydro Limited","4090","Electric Services Incidental to Energy Sales",0,0,0,0,0,null,"Orangeville Hydro Limited 4090"]
["Orangeville Hydro Limited 4205","Orangeville Hydro Limited","4205","Interdepartmental Rents",0,0,0,0,0,null,"Orangeville Hydro Limited 4205"]
["Orangeville Hydro Limited 4210","Orangeville Hydro Limited","4210","Rent from Electric Property",-56124.63,-54053.48,-58769.1,-60002.95,-64049.21,null,"Orangeville Hydro Limited 4210"]
["Orangeville Hydro Limited 4215","Orangeville Hydro Limited","4215","Other Utility Operating Income",0,0,0,0,0,null,"Orangeville Hydro Limited 4215"]
["Orangeville Hydro Limited 4220","Orangeville Hydro Limited","4220","Other Electric Revenues",0,0,0,0,0,null,"Orangeville Hydro Limited 4220"]
["Orangeville Hydro Limited 4225","Orangeville Hydro Limited","4225","Late Payment Charges",-43413,-38260.04,-37488.870000000003,-46086.8,-29396.720000000001,null,"Orangeville Hydro Limited 4225"]
["Orangeville Hydro Limited 4230","Orangeville Hydro Limited","4230","Sales of Water and Water Power",0,0,0,0,0,null,"Orangeville Hydro Limited 4230"]
["Orangeville Hydro Limited 4235","Orangeville Hydro Limited","4235","Miscellaneous Service Revenues",-149824.20000000001,-117440,-102540.72,-69097.820000000007,-16783.400000000001,null,"Orangeville Hydro Limited 4235"]
["Orangeville Hydro Limited 4240","Orangeville Hydro Limited","4240","Provision for Rate Refunds",0,0,0,0,0,null,"Orangeville Hydro Limited 4240"]
["Orangeville Hydro Limited 4245","Orangeville Hydro Limited","4245","Government and Other Assistance Directly Credited to Income",-23430.58,-36512.82,-47366.39,-49035.41,-54747.85,null,"Orangeville Hydro Limited 4245"]
["Orangeville Hydro Limited 4305","Orangeville Hydro Limited","4305","Regulatory Debits",142132.19,138725.46,150363.22,51214.080000000002,9.0500000000000007,null,"Orangeville Hydro Limited 4305"]
["Orangeville Hydro Limited 4310","Orangeville Hydro Limited","4310","Regulatory Credits",0,0,0,0,0,null,"Orangeville Hydro Limited 4310"]
["Orangeville Hydro Limited 4315","Orangeville Hydro Limited","4315","Revenues from Electric Plant Leased to Others",0,0,0,0,0,null,"Orangeville Hydro Limited 4315"]
["Orangeville Hydro Limited 4320","Orangeville Hydro Limited","4320","Expenses of Electric Plant Leased to Others",0,0,0,0,0,null,"Orangeville Hydro Limited 4320"]
["Orangeville Hydro Limited 4325","Orangeville Hydro Limited","4325","Revenues from Merchandise",0,0,0,0,0,null,"Orangeville Hydro Limited 4325"]
["Orangeville Hydro Limited 4330","Orangeville Hydro Limited","4330","Costs and Expenses of Merchandising",0,0,0,0,0,null,"Orangeville Hydro Limited 4330"]
["Orangeville Hydro Limited 4335","Orangeville Hydro Limited","4335","Profits and Losses from Financial Instrument Hedges",0,0,0,0,0,null,"Orangeville Hydro Limited 4335"]
["Orangeville Hydro Limited 4340","Orangeville Hydro Limited","4340","Profits and Losses from Financial Instrument Investments",0,0,0,0,0,null,"Orangeville Hydro Limited 4340"]
["Orangeville Hydro Limited 4345","Orangeville Hydro Limited","4345","Gains from Disposition of Future Use Utility Plant",0,0,0,0,0,null,"Orangeville Hydro Limited 4345"]
["Orangeville Hydro Limited 4350","Orangeville Hydro Limited","4350","Losses from Disposition of Future Use Utility Plant",0,0,0,0,0,null,"Orangeville Hydro Limited 4350"]
["Orangeville Hydro Limited 4355","Orangeville Hydro Limited","4355","Gain on Disposition of Utility and Other Property",-22069.62,-117387.89,-8000,-1000,-102795.92,null,"Orangeville Hydro Limited 4355"]
["Orangeville Hydro Limited 4357","Orangeville Hydro Limited","4357","Gain from Retirement of Utility and Other Property",0,0,0,0,0,null,"Orangeville Hydro Limited 4357"]
["Orangeville Hydro Limited 4360","Orangeville Hydro Limited","4360","Loss on Disposition of Utility and Other Property",32429.27,168.36,22502.33,0,3379.12,null,"Orangeville Hydro Limited 4360"]
["Orangeville Hydro Limited 4362","Orangeville Hydro Limited","4362","Loss from Retirement of Utility and Other Property",0,38154.61,25348.45,39417.97,50202.98,null,"Orangeville Hydro Limited 4362"]
["Orangeville Hydro Limited 4365","Orangeville Hydro Limited","4365","Gains from Disposition of Allowances for Emission",0,0,0,0,0,null,"Orangeville Hydro Limited 4365"]
["Orangeville Hydro Limited 4370","Orangeville Hydro Limited","4370","Losses from Disposition of Allowances for Emission",0,0,0,0,0,null,"Orangeville Hydro Limited 4370"]
["Orangeville Hydro Limited 4375","Orangeville Hydro Limited","4375","Revenues from Non Rate-Regulated Utility Operations",-440292.69,-572796.96,-513042.38,-483552.34,-470613.7,null,"Orangeville Hydro Limited 4375"]
["Orangeville Hydro Limited 4375","Orangeville Hydro Limited","4375","Sub-account Generation Facility Revenues",0,0,0,0,0,null,"Orangeville Hydro Limited 4375"]
["Orangeville Hydro Limited 4380","Orangeville Hydro Limited","4380","Expenses of Non Rate-Regulated Utility Operations",363690.34,409839.98,388683.56,455995.56,460941.06,null,"Orangeville Hydro Limited 4380"]
["Orangeville Hydro Limited 4380","Orangeville Hydro Limited","4380","Sub-account Generation Facility Expenses",0,0,0,0,0,null,"Orangeville Hydro Limited 4380"]
["Orangeville Hydro Limited 4385","Orangeville Hydro Limited","4385","Non Rate-Regulated Utility Rental Income",0,0,0,0,0,null,"Orangeville Hydro Limited 4385"]
["Orangeville Hydro Limited 4390","Orangeville Hydro Limited","4390","Miscellaneous Non-Operating Income",-2663.26,-4227.1499999999996,-260,-8724.7800000000007,-11127.25,null,"Orangeville Hydro Limited 4390"]
["Orangeville Hydro Limited 4395","Orangeville Hydro Limited","4395","Rate-Payer Benefit Including Interest",0,0,0,0,0,null,"Orangeville Hydro Limited 4395"]
["Orangeville Hydro Limited 4398","Orangeville Hydro Limited","4398","Foreign Exchange Gains and Losses, Including Amortization",0,0,0,0,0,null,"Orangeville Hydro Limited 4398"]
["Orangeville Hydro Limited 4405","Orangeville Hydro Limited","4405","Interest and Dividend Income",-37372.28,-49725.3,-61682.73,-101143.22,-62433.9,null,"Orangeville Hydro Limited 4405"]
["Orangeville Hydro Limited 4410","Orangeville Hydro Limited","4410","Lessor's Net Investment in Finance Lease",0,0,0,0,0,null,{"$f":"B2246 & \" \" &C2246","v":"Orangeville Hydro Limited 4410"}]
["Orangeville Hydro Limited 4415","Orangeville Hydro Limited","4415","Equity in Earnings of Subsidiary Companies",0,0,0,0,0,null,"Orangeville Hydro Limited 4415"]
["Orangeville Hydro Limited 4420","Orangeville Hydro Limited","4420","Share of Profit or Loss of Joint Venture",0,0,0,0,0,null,"Orangeville Hydro Limited 4420"]
["Orangeville Hydro Limited Total ","Orangeville Hydro Limited Total",null,null,-282580.73,-448758.73,-288064.98,-322296.51,-350390.96,null,"Orangeville Hydro Limited Total "]
["Oshawa PUC Networks Inc. 4082","Oshawa PUC Networks Inc.","4082","Retail Services Revenues",0,0,0,0,0,null,"Oshawa PUC Networks Inc. 4082"]
["Oshawa PUC Networks Inc. 4084","Oshawa PUC Networks Inc.","4084","Service Transaction Requests (STR) Revenues",-770.25,-365,-257,-494,-517.5,null,"Oshawa PUC Networks Inc. 4084"]
["Oshawa PUC Networks Inc. 4086","Oshawa PUC Networks Inc.","4086","SSS Administration Revenue",-161806.15,-165528.67000000001,-169810,-195617.56,-197843.49,null,"Oshawa PUC Networks Inc. 4086"]
["Oshawa PUC Networks Inc. 4090","Oshawa PUC Networks Inc.","4090","Electric Services Incidental to Energy Sales",0,0,0,0,0,null,"Oshawa PUC Networks Inc. 4090"]
["Oshawa PUC Networks Inc. 4205","Oshawa PUC Networks Inc.","4205","Interdepartmental Rents",0,0,0,0,0,null,"Oshawa PUC Networks Inc. 4205"]
["Oshawa PUC Networks Inc. 4210","Oshawa PUC Networks Inc.","4210","Rent from Electric Property",-184007.15,-183912.82,-194697,-293620,-85420.66,null,"Oshawa PUC Networks Inc. 4210"]
["Oshawa PUC Networks Inc. 4215","Oshawa PUC Networks Inc.","4215","Other Utility Operating Income",0,0,0,0,0,null,"Oshawa PUC Networks Inc. 4215"]
["Oshawa PUC Networks Inc. 4220","Oshawa PUC Networks Inc.","4220","Other Electric Revenues",0,0,0,0,0,null,"Oshawa PUC Networks Inc. 4220"]
["Oshawa PUC Networks Inc. 4225","Oshawa PUC Networks Inc.","4225","Late Payment Charges",-326017.82,-308614.15000000002,-254142,-247470,-88413.07,null,"Oshawa PUC Networks Inc. 4225"]
["Oshawa PUC Networks Inc. 4230","Oshawa PUC Networks Inc.","4230","Sales of Water and Water Power",0,0,0,0,0,null,"Oshawa PUC Networks Inc. 4230"]
["Oshawa PUC Networks Inc. 4235","Oshawa PUC Networks Inc.","4235","Miscellaneous Service Revenues",-1077943.3999999999,-696833.08,-719470,-469443,-450162.99,null,"Oshawa PUC Networks Inc. 4235"]
["Oshawa PUC Networks Inc. 4240","Oshawa PUC Networks Inc.","4240","Provision for Rate Refunds",0,0,0,0,0,null,"Oshawa PUC Networks Inc. 4240"]
["Oshawa PUC Networks Inc. 4245","Oshawa PUC Networks Inc.","4245","Government and Other Assistance Directly Credited to Income",0,0,0,0,0,null,"Oshawa PUC Networks Inc. 4245"]
["Oshawa PUC Networks Inc. 4305","Oshawa PUC Networks Inc.","4305","Regulatory Debits",0,0,0,0,0,null,"Oshawa PUC Networks Inc. 4305"]
["Oshawa PUC Networks Inc. 4310","Oshawa PUC Networks Inc.","4310","Regulatory Credits",0,0,0,0,0,null,"Oshawa PUC Networks Inc. 4310"]
["Oshawa PUC Networks Inc. 4315","Oshawa PUC Networks Inc.","4315","Revenues from Electric Plant Leased to Others",0,0,0,0,0,null,"Oshawa PUC Networks Inc. 4315"]
["Oshawa PUC Networks Inc. 4320","Oshawa PUC Networks Inc.","4320","Expenses of Electric Plant Leased to Others",0,0,0,0,0,null,"Oshawa PUC Networks Inc. 4320"]
["Oshawa PUC Networks Inc. 4325","Oshawa PUC Networks Inc.","4325","Revenues from Merchandise",-48352.63,-185118.81,-175831,-182826,-97378.64,null,"Oshawa PUC Networks Inc. 4325"]
["Oshawa PUC Networks Inc. 4330","Oshawa PUC Networks Inc.","4330","Costs and Expenses of Merchandising",67996.960000000006,203663.01,118523,199582,57485.42,null,"Oshawa PUC Networks Inc. 4330"]
["Oshawa PUC Networks Inc. 4335","Oshawa PUC Networks Inc.","4335","Profits and Losses from Financial Instrument Hedges",0,0,0,0,0,null,"Oshawa PUC Networks Inc. 4335"]
["Oshawa PUC Networks Inc. 4340","Oshawa PUC Networks Inc.","4340","Profits and Losses from Financial Instrument Investments",0,0,0,0,0,null,"Oshawa PUC Networks Inc. 4340"]
["Oshawa PUC Networks Inc. 4345","Oshawa PUC Networks Inc.","4345","Gains from Disposition of Future Use Utility Plant",0,0,0,0,0,null,"Oshawa PUC Networks Inc. 4345"]
["Oshawa PUC Networks Inc. 4350","Oshawa PUC Networks Inc.","4350","Losses from Disposition of Future Use Utility Plant",0,0,0,0,0,null,"Oshawa PUC Networks Inc. 4350"]
["Oshawa PUC Networks Inc. 4355","Oshawa PUC Networks Inc.","4355","Gain on Disposition of Utility and Other Property",-7875,73591.09,-33661,-10400,-15735.88,null,"Oshawa PUC Networks Inc. 4355"]
["Oshawa PUC Networks Inc. 4357","Oshawa PUC Networks Inc.","4357","Gain from Retirement of Utility and Other Property",0,0,0,0,0,null,"Oshawa PUC Networks Inc. 4357"]
["Oshawa PUC Networks Inc. 4360","Oshawa PUC Networks Inc.","4360","Loss on Disposition of Utility and Other Property",429437,439947,386552,-189483,91753.31,null,"Oshawa PUC Networks Inc. 4360"]
["Oshawa PUC Networks Inc. 4362","Oshawa PUC Networks Inc.","4362","Loss from Retirement of Utility and Other Property",0,0,0,0,0,null,"Oshawa PUC Networks Inc. 4362"]
["Oshawa PUC Networks Inc. 4365","Oshawa PUC Networks Inc.","4365","Gains from Disposition of Allowances for Emission",0,0,0,0,0,null,"Oshawa PUC Networks Inc. 4365"]
["Oshawa PUC Networks Inc. 4370","Oshawa PUC Networks Inc.","4370","Losses from Disposition of Allowances for Emission",0,0,0,0,0,null,"Oshawa PUC Networks Inc. 4370"]
["Oshawa PUC Networks Inc. 4375","Oshawa PUC Networks Inc.","4375","Revenues from Non Rate-Regulated Utility Operations",-3345688.75,-2851178.74,-2918149,-4098998.76,988296.42,null,"Oshawa PUC Networks Inc. 4375"]
["Oshawa PUC Networks Inc. 4375","Oshawa PUC Networks Inc.","4375","Sub-account Generation Facility Revenues",0,0,0,0,0,null,"Oshawa PUC Networks Inc. 4375"]
["Oshawa PUC Networks Inc. 4380","Oshawa PUC Networks Inc.","4380","Expenses of Non Rate-Regulated Utility Operations",3069748.16,2706242.19,2371942,4097171.71,-988120.36,null,"Oshawa PUC Networks Inc. 4380"]
["Oshawa PUC Networks Inc. 4380","Oshawa PUC Networks Inc.","4380","Sub-account Generation Facility Expenses",0,0,0,0,0,null,"Oshawa PUC Networks Inc. 4380"]
["Oshawa PUC Networks Inc. 4385","Oshawa PUC Networks Inc.","4385","Non Rate-Regulated Utility Rental Income",0,0,0,0,0,null,"Oshawa PUC Networks Inc. 4385"]
["Oshawa PUC Networks Inc. 4390","Oshawa PUC Networks Inc.","4390","Miscellaneous Non-Operating Income",-122787.74,-205677.19,-189621,-145804,-171796.88,null,"Oshawa PUC Networks Inc. 4390"]
["Oshawa PUC Networks Inc. 4395","Oshawa PUC Networks Inc.","4395","Rate-Payer Benefit Including Interest",0,0,0,0,0,null,"Oshawa PUC Networks Inc. 4395"]
["Oshawa PUC Networks Inc. 4398","Oshawa PUC Networks Inc.","4398","Foreign Exchange Gains and Losses, Including Amortization",0,-1795.17,-10,0,0,null,"Oshawa PUC Networks Inc. 4398"]
["Oshawa PUC Networks Inc. 4405","Oshawa PUC Networks Inc.","4405","Interest and Dividend Income",-145297.53,-159458.09,-168840,-131553,-83390.19,null,"Oshawa PUC Networks Inc. 4405"]
["Oshawa PUC Networks Inc. 4410","Oshawa PUC Networks Inc.","4410","Lessor's Net Investment in Finance Lease",0,0,0,0,0,null,"Oshawa PUC Networks Inc. 4410"]
["Oshawa PUC Networks Inc. 4415","Oshawa PUC Networks Inc.","4415","Equity in Earnings of Subsidiary Companies",0,0,0,0,0,null,"Oshawa PUC Networks Inc. 4415"]
["Oshawa PUC Networks Inc. 4420","Oshawa PUC Networks Inc.","4420","Share of Profit or Loss of Joint Venture",0,0,0,0,0,null,"Oshawa PUC Networks Inc. 4420"]
["Oshawa PUC Networks Inc. Total ","Oshawa PUC Networks Inc. Total",null,null,-1853364.3,-1335038.43,-1947471,-1668955.61,-1041244.51,null,"Oshawa PUC Networks Inc. Total "]
["Ottawa River Power Corporation 4082","Ottawa River Power Corporation","4082","Retail Services Revenues",-8024.3,-8138.5,-5933.5,-11640.1,-12251,null,"Ottawa River Power Corporation 4082"]
["Ottawa River Power Corporation 4084","Ottawa River Power Corporation","4084","Service Transaction Requests (STR) Revenues",-17.75,-14.75,-7,-30.25,-24.89,null,"Ottawa River Power Corporation 4084"]
["Ottawa River Power Corporation 4086","Ottawa River Power Corporation","4086","SSS Administration Revenue",-31503.81,-31843.07,-32852.71,-32916.44,-33163.65,null,"Ottawa River Power Corporation 4086"]
["Ottawa River Power Corporation 4090","Ottawa River Power Corporation","4090","Electric Services Incidental to Energy Sales",0,0,0,0,0,null,"Ottawa River Power Corporation 4090"]
["Ottawa River Power Corporation 4205","Ottawa River Power Corporation","4205","Interdepartmental Rents",0,0,0,0,0,null,"Ottawa River Power Corporation 4205"]
["Ottawa River Power Corporation 4210","Ottawa River Power Corporation","4210","Rent from Electric Property",-57774.83,-57774.83,-36428.15,-44436.01,-83946.6,null,"Ottawa River Power Corporation 4210"]
["Ottawa River Power Corporation 4215","Ottawa River Power Corporation","4215","Other Utility Operating Income",0,0,0,0,0,null,"Ottawa River Power Corporation 4215"]
["Ottawa River Power Corporation 4220","Ottawa River Power Corporation","4220","Other Electric Revenues",0,0,0,0,0,null,"Ottawa River Power Corporation 4220"]
["Ottawa River Power Corporation 4225","Ottawa River Power Corporation","4225","Late Payment Charges",-57075.93,-55610.62,-86747.77,-47920.46,-29687.91,null,"Ottawa River Power Corporation 4225"]
["Ottawa River Power Corporation 4230","Ottawa River Power Corporation","4230","Sales of Water and Water Power",0,0,0,0,0,null,"Ottawa River Power Corporation 4230"]
["Ottawa River Power Corporation 4235","Ottawa River Power Corporation","4235","Miscellaneous Service Revenues",-74072.759999999995,-64248.07,-61507.85,-51647.33,-49101.760000000002,null,"Ottawa River Power Corporation 4235"]
["Ottawa River Power Corporation 4240","Ottawa River Power Corporation","4240","Provision for Rate Refunds",0,0,0,0,0,null,"Ottawa River Power Corporation 4240"]
["Ottawa River Power Corporation 4245","Ottawa River Power Corporation","4245","Government and Other Assistance Directly Credited to Income",0,0,0,0,0,null,"Ottawa River Power Corporation 4245"]
["Ottawa River Power Corporation 4305","Ottawa River Power Corporation","4305","Regulatory Debits",0,0,0,0,0,null,"Ottawa River Power Corporation 4305"]
["Ottawa River Power Corporation 4310","Ottawa River Power Corporation","4310","Regulatory Credits",0,0,0,0,0,null,"Ottawa River Power Corporation 4310"]
["Ottawa River Power Corporation 4315","Ottawa River Power Corporation","4315","Revenues from Electric Plant Leased to Others",0,0,0,0,0,null,"Ottawa River Power Corporation 4315"]
["Ottawa River Power Corporation 4320","Ottawa River Power Corporation","4320","Expenses of Electric Plant Leased to Others",0,0,0,0,0,null,"Ottawa River Power Corporation 4320"]
["Ottawa River Power Corporation 4325","Ottawa River Power Corporation","4325","Revenues from Merchandise",-53948.23,-75818.44,-405067.35,0,0,null,"Ottawa River Power Corporation 4325"]
["Ottawa River Power Corporation 4330","Ottawa River Power Corporation","4330","Costs and Expenses of Merchandising",0,0,325881.59999999998,0,0,null,{"$f":"B2310 & \" \" &C2310","v":"Ottawa River Power Corporation 4330"}]
["Ottawa River Power Corporation 4335","Ottawa River Power Corporation","4335","Profits and Losses from Financial Instrument Hedges",0,0,0,0,0,null,"Ottawa River Power Corporation 4335"]
["Ottawa River Power Corporation 4340","Ottawa River Power Corporation","4340","Profits and Losses from Financial Instrument Investments",0,0,0,0,0,null,"Ottawa River Power Corporation 4340"]
["Ottawa River Power Corporation 4345","Ottawa River Power Corporation","4345","Gains from Disposition of Future Use Utility Plant",0,0,0,0,0,null,"Ottawa River Power Corporation 4345"]
["Ottawa River Power Corporation 4350","Ottawa River Power Corporation","4350","Losses from Disposition of Future Use Utility Plant",0,0,0,0,0,null,"Ottawa River Power Corporation 4350"]
["Ottawa River Power Corporation 4355","Ottawa River Power Corporation","4355","Gain on Disposition of Utility and Other Property",0,-25000,-3404.59,-43872,0,null,"Ottawa River Power Corporation 4355"]
["Ottawa River Power Corporation 4357","Ottawa River Power Corporation","4357","Gain from Retirement of Utility and Other Property",0,0,0,0,0,null,"Ottawa River Power Corporation 4357"]
["Ottawa River Power Corporation 4360","Ottawa River Power Corporation","4360","Loss on Disposition of Utility and Other Property",0,0,0,0,0,null,"Ottawa River Power Corporation 4360"]
["Ottawa River Power Corporation 4362","Ottawa River Power Corporation","4362","Loss from Retirement of Utility and Other Property",0,0,0,0,0,null,"Ottawa River Power Corporation 4362"]
["Ottawa River Power Corporation 4365","Ottawa River Power Corporation","4365","Gains from Disposition of Allowances for Emission",0,0,0,0,0,null,"Ottawa River Power Corporation 4365"]
["Ottawa River Power Corporation 4370","Ottawa River Power Corporation","4370","Losses from Disposition of Allowances for Emission",0,0,0,0,0,null,"Ottawa River Power Corporation 4370"]
["Ottawa River Power Corporation 4375","Ottawa River Power Corporation","4375","Revenues from Non Rate-Regulated Utility Operations",-1191.32,-1372.37,-147118.99,-769422.36,-481912.58,null,"Ottawa River Power Corporation 4375"]
["Ottawa River Power Corporation 4375","Ottawa River Power Corporation","4375","Sub-account Generation Facility Revenues",0,0,0,0,0,null,"Ottawa River Power Corporation 4375"]
["Ottawa River Power Corporation 4380","Ottawa River Power Corporation","4380","Expenses of Non Rate-Regulated Utility Operations",0,0,38142.11,682198.15,436181.77,null,"Ottawa River Power Corporation 4380"]
["Ottawa River Power Corporation 4380","Ottawa River Power Corporation","4380","Sub-account Generation Facility Expenses",0,0,0,0,0,null,"Ottawa River Power Corporation 4380"]
["Ottawa River Power Corporation 4385","Ottawa River Power Corporation","4385","Non Rate-Regulated Utility Rental Income",0,0,0,0,0,null,"Ottawa River Power Corporation 4385"]
["Ottawa River Power Corporation 4390","Ottawa River Power Corporation","4390","Miscellaneous Non-Operating Income",-4646.83,-19821.13,-5663.23,-1284.47,-20728.68,null,"Ottawa River Power Corporation 4390"]
["Ottawa River Power Corporation 4395","Ottawa River Power Corporation","4395","Rate-Payer Benefit Including Interest",0,0,0,0,0,null,"Ottawa River Power Corporation 4395"]
["Ottawa River Power Corporation 4398","Ottawa River Power Corporation","4398","Foreign Exchange Gains and Losses, Including Amortization",0,0,0,0,0,null,"Ottawa River Power Corporation 4398"]
["Ottawa River Power Corporation 4405","Ottawa River Power Corporation","4405","Interest and Dividend Income",-40862.300000000003,-44341.41,-75878.39,-53014.49,-21611.7,null,"Ottawa River Power Corporation 4405"]
["Ottawa River Power Corporation 4410","Ottawa River Power Corporation","4410","Lessor's Net Investment in Finance Lease",0,0,0,0,0,null,"Ottawa River Power Corporation 4410"]
["Ottawa River Power Corporation 4415","Ottawa River Power Corporation","4415","Equity in Earnings of Subsidiary Companies",0,0,0,0,0,null,"Ottawa River Power Corporation 4415"]
["Ottawa River Power Corporation 4420","Ottawa River Power Corporation","4420","Share of Profit or Loss of Joint Venture",0,0,0,0,0,null,"Ottawa River Power Corporation 4420"]
["Ottawa River Power Corporation Total ","Ottawa River Power Corporation Total",null,null,-329118.06,-383983.19,-496585.82,-373985.76,-296247,null,"Ottawa River Power Corporation Total "]
["PUC Distribution Inc. 4082","PUC Distribution Inc.","4082","Retail Services Revenues",-23850.400000000001,-18457.599999999999,-17492,-25441.599999999999,-26764.06,null,"PUC Distribution Inc. 4082"]
["PUC Distribution Inc. 4084","PUC Distribution Inc.","4084","Service Transaction Requests (STR) Revenues",-274.75,-125.5,-117.5,-219.5,-236.25,null,"PUC Distribution Inc. 4084"]
["PUC Distribution Inc. 4086","PUC Distribution Inc.","4086","SSS Administration Revenue",0,0,0,0,0,null,"PUC Distribution Inc. 4086"]
["PUC Distribution Inc. 4090","PUC Distribution Inc.","4090","Electric Services Incidental to Energy Sales",0,0,0,0,0,null,"PUC Distribution Inc. 4090"]
["PUC Distribution Inc. 4205","PUC Distribution Inc.","4205","Interdepartmental Rents",0,0,0,0,0,null,"PUC Distribution Inc. 4205"]
["PUC Distribution Inc. 4210","PUC Distribution Inc.","4210","Rent from Electric Property",-1731776.77,-1708952.42,-1816885.93,-2019859.85,-835932.68,null,"PUC Distribution Inc. 4210"]
["PUC Distribution Inc. 4215","PUC Distribution Inc.","4215","Other Utility Operating Income",0,0,0,0,0,null,"PUC Distribution Inc. 4215"]
["PUC Distribution Inc. 4220","PUC Distribution Inc.","4220","Other Electric Revenues",0,0,0,0,0,null,"PUC Distribution Inc. 4220"]
["PUC Distribution Inc. 4225","PUC Distribution Inc.","4225","Late Payment Charges",-177224.77,-244224.23,-221083.59,-173678.62,-1491385.15,null,"PUC Distribution Inc. 4225"]
["PUC Distribution Inc. 4230","PUC Distribution Inc.","4230","Sales of Water and Water Power",0,0,0,0,0,null,"PUC Distribution Inc. 4230"]
["PUC Distribution Inc. 4235","PUC Distribution Inc.","4235","Miscellaneous Service Revenues",-316018.59999999998,-218200.62,-193432.19,-161185.42000000001,-128941.99,null,"PUC Distribution Inc. 4235"]
["PUC Distribution Inc. 4240","PUC Distribution Inc.","4240","Provision for Rate Refunds",0,0,0,0,0,null,"PUC Distribution Inc. 4240"]
["PUC Distribution Inc. 4245","PUC Distribution Inc.","4245","Government and Other Assistance Directly Credited to Income",0,0,0,0,0,null,"PUC Distribution Inc. 4245"]
["PUC Distribution Inc. 4305","PUC Distribution Inc.","4305","Regulatory Debits",0,0,0,0,0,null,"PUC Distribution Inc. 4305"]
["PUC Distribution Inc. 4310","PUC Distribution Inc.","4310","Regulatory Credits",0,0,0,0,0,null,"PUC Distribution Inc. 4310"]
["PUC Distribution Inc. 4315","PUC Distribution Inc.","4315","Revenues from Electric Plant Leased to Others",0,0,0,0,0,null,"PUC Distribution Inc. 4315"]
["PUC Distribution Inc. 4320","PUC Distribution Inc.","4320","Expenses of Electric Plant Leased to Others",0,0,0,0,0,null,"PUC Distribution Inc. 4320"]
["PUC Distribution Inc. 4325","PUC Distribution Inc.","4325","Revenues from Merchandise",-229684.76,-111200.85,-150893.42000000001,-94078.79,-113248.02,null,"PUC Distribution Inc. 4325"]
["PUC Distribution Inc. 4330","PUC Distribution Inc.","4330","Costs and Expenses of Merchandising",2507.11,18759.64,475.95,0,0,null,"PUC Distribution Inc. 4330"]
["PUC Distribution Inc. 4335","PUC Distribution Inc.","4335","Profits and Losses from Financial Instrument Hedges",0,0,0,0,0,null,"PUC Distribution Inc. 4335"]
["PUC Distribution Inc. 4340","PUC Distribution Inc.","4340","Profits and Losses from Financial Instrument Investments",0,0,0,0,0,null,"PUC Distribution Inc. 4340"]
["PUC Distribution Inc. 4345","PUC Distribution Inc.","4345","Gains from Disposition of Future Use Utility Plant",0,0,0,0,0,null,"PUC Distribution Inc. 4345"]
["PUC Distribution Inc. 4350","PUC Distribution Inc.","4350","Losses from Disposition of Future Use Utility Plant",0,0,0,0,0,null,"PUC Distribution Inc. 4350"]
["PUC Distribution Inc. 4355","PUC Distribution Inc.","4355","Gain on Disposition of Utility and Other Property",0,0,-80255.73,-500,0,null,"PUC Distribution Inc. 4355"]
["PUC Distribution Inc. 4357","PUC Distribution Inc.","4357","Gain from Retirement of Utility and Other Property",0,0,0,0,0,null,"PUC Distribution Inc. 4357"]
["PUC Distribution Inc. 4360","PUC Distribution Inc.","4360","Loss on Disposition of Utility and Other Property",0,0,0,0,0,null,"PUC Distribution Inc. 4360"]
["PUC Distribution Inc. 4362","PUC Distribution Inc.","4362","Loss from Retirement of Utility and Other Property",0,0,0,0,0,null,"PUC Distribution Inc. 4362"]
["PUC Distribution Inc. 4365","PUC Distribution Inc.","4365","Gains from Disposition of Allowances for Emission",0,0,0,0,0,null,"PUC Distribution Inc. 4365"]
["PUC Distribution Inc. 4370","PUC Distribution Inc.","4370","Losses from Disposition of Allowances for Emission",0,0,0,0,0,null,"PUC Distribution Inc. 4370"]
["PUC Distribution Inc. 4375","PUC Distribution Inc.","4375","Revenues from Non Rate-Regulated Utility Operations",-766821.92,-1822766.81,-1222816.29,-4031627.51,-4731173.32,null,"PUC Distribution Inc. 4375"]
["PUC Distribution Inc. 4375","PUC Distribution Inc.","4375","Sub-account Generation Facility Revenues",0,0,0,0,0,null,"PUC Distribution Inc. 4375"]
["PUC Distribution Inc. 4380","PUC Distribution Inc.","4380","Expenses of Non Rate-Regulated Utility Operations",762272.73,1822766.81,739618.36,4039776.84,4733225.5199999996,null,"PUC Distribution Inc. 4380"]
["PUC Distribution Inc. 4380","PUC Distribution Inc.","4380","Sub-account Generation Facility Expenses",0,0,0,0,0,null,"PUC Distribution Inc. 4380"]
["PUC Distribution Inc. 4385","PUC Distribution Inc.","4385","Non Rate-Regulated Utility Rental Income",0,0,0,0,0,null,"PUC Distribution Inc. 4385"]
["PUC Distribution Inc. 4390","PUC Distribution Inc.","4390","Miscellaneous Non-Operating Income",-19337.84,-25859.13,-9449.06,-14377.57,-56059.55,null,"PUC Distribution Inc. 4390"]
["PUC Distribution Inc. 4395","PUC Distribution Inc.","4395","Rate-Payer Benefit Including Interest",0,-22621.82,0,0,0,null,"PUC Distribution Inc. 4395"]
["PUC Distribution Inc. 4398","PUC Distribution Inc.","4398","Foreign Exchange Gains and Losses, Including Amortization",0,0,0,0,0,null,"PUC Distribution Inc. 4398"]
["PUC Distribution Inc. 4405","PUC Distribution Inc.","4405","Interest and Dividend Income",-33313.18,0,-10150.719999999999,-2918.88,-458.8,null,"PUC Distribution Inc. 4405"]
["PUC Distribution Inc. 4410","PUC Distribution Inc.","4410","Lessor's Net Investment in Finance Lease",0,0,0,0,0,null,"PUC Distribution Inc. 4410"]
["PUC Distribution Inc. 4415","PUC Distribution Inc.","4415","Equity in Earnings of Subsidiary Companies",0,0,0,0,0,null,"PUC Distribution Inc. 4415"]
["PUC Distribution Inc. 4420","PUC Distribution Inc.","4420","Share of Profit or Loss of Joint Venture",0,0,0,0,0,null,{"$f":"B2374 & \" \" &C2374","v":"PUC Distribution Inc. 4420"}]
["PUC Distribution Inc. Total ","PUC Distribution Inc. Total",null,null,-2533523.15,-2330882.5299999998,-2982482.12,-2484110.9,-2650974.2999999998,null,"PUC Distribution Inc. Total "]
["PowerStream Inc. 4082","PowerStream Inc.","4082","Retail Services Revenues",-169195.9,null,null,null,null,null,"PowerStream Inc. 4082"]
["PowerStream Inc. 4084","PowerStream Inc.","4084","Service Transaction Requests (STR) Revenues",0,null,null,null,null,null,"PowerStream Inc. 4084"]
["PowerStream Inc. 4086","PowerStream Inc.","4086","SSS Administration Revenue",0,null,null,null,null,null,"PowerStream Inc. 4086"]
["PowerStream Inc. 4090","PowerStream Inc.","4090","Electric Services Incidental to Energy Sales",0,null,null,null,null,null,"PowerStream Inc. 4090"]
["PowerStream Inc. 4205","PowerStream Inc.","4205","Interdepartmental Rents",0,null,null,null,null,null,"PowerStream Inc. 4205"]
["PowerStream Inc. 4210","PowerStream Inc.","4210","Rent from Electric Property",-758643.42,null,null,null,null,null,"PowerStream Inc. 4210"]
["PowerStream Inc. 4215","PowerStream Inc.","4215","Other Utility Operating Income",0,null,null,null,null,null,"PowerStream Inc. 4215"]
["PowerStream Inc. 4220","PowerStream Inc.","4220","Other Electric Revenues",0,null,null,null,null,null,"PowerStream Inc. 4220"]
["PowerStream Inc. 4225","PowerStream Inc.","4225","Late Payment Charges",-2069274.45,null,null,null,null,null,"PowerStream Inc. 4225"]
["PowerStream Inc. 4230","PowerStream Inc.","4230","Sales of Water and Water Power",0,null,null,null,null,null,"PowerStream Inc. 4230"]
["PowerStream Inc. 4235","PowerStream Inc.","4235","Miscellaneous Service Revenues",-6524433.5599999996,null,null,null,null,null,"PowerStream Inc. 4235"]
["PowerStream Inc. 4240","PowerStream Inc.","4240","Provision for Rate Refunds",0,null,null,null,null,null,"PowerStream Inc. 4240"]
["PowerStream Inc. 4245","PowerStream Inc.","4245","Government and Other Assistance Directly Credited to Income",-3658832.51,null,null,null,null,null,"PowerStream Inc. 4245"]
["PowerStream Inc. 4305","PowerStream Inc.","4305","Regulatory Debits",0,null,null,null,null,null,"PowerStream Inc. 4305"]
["PowerStream Inc. 4310","PowerStream Inc.","4310","Regulatory Credits",0,null,null,null,null,null,"PowerStream Inc. 4310"]
["PowerStream Inc. 4315","PowerStream Inc.","4315","Revenues from Electric Plant Leased to Others",0,null,null,null,null,null,"PowerStream Inc. 4315"]
["PowerStream Inc. 4320","PowerStream Inc.","4320","Expenses of Electric Plant Leased to Others",0,null,null,null,null,null,"PowerStream Inc. 4320"]
["PowerStream Inc. 4325","PowerStream Inc.","4325","Revenues from Merchandise",0,null,null,null,null,null,"PowerStream Inc. 4325"]
["PowerStream Inc. 4330","PowerStream Inc.","4330","Costs and Expenses of Merchandising",0,null,null,null,null,null,"PowerStream Inc. 4330"]
["PowerStream Inc. 4335","PowerStream Inc.","4335","Profits and Losses from Financial Instrument Hedges",0,null,null,null,null,null,"PowerStream Inc. 4335"]
["PowerStream Inc. 4340","PowerStream Inc.","4340","Profits and Losses from Financial Instrument Investments",0,null,null,null,null,null,"PowerStream Inc. 4340"]
["PowerStream Inc. 4345","PowerStream Inc.","4345","Gains from Disposition of Future Use Utility Plant",0,null,null,null,null,null,"PowerStream Inc. 4345"]
["PowerStream Inc. 4350","PowerStream Inc.","4350","Losses from Disposition of Future Use Utility Plant",0,null,null,null,null,null,"PowerStream Inc. 4350"]
["PowerStream Inc. 4355","PowerStream Inc.","4355","Gain on Disposition of Utility and Other Property",-116258.05,null,null,null,null,null,"PowerStream Inc. 4355"]
["PowerStream Inc. 4357","PowerStream Inc.","4357","Gain from Retirement of Utility and Other Property",0,null,null,null,null,null,"PowerStream Inc. 4357"]
["PowerStream Inc. 4360","PowerStream Inc.","4360","Loss on Disposition of Utility and Other Property",0,null,null,null,null,null,"PowerStream Inc. 4360"]
["PowerStream Inc. 4362","PowerStream Inc.","4362","Loss from Retirement of Utility and Other Property",1524877.77,null,null,null,null,null,"PowerStream Inc. 4362"]
["PowerStream Inc. 4365","PowerStream Inc.","4365","Gains from Disposition of Allowances for Emission",0,null,null,null,null,null,"PowerStream Inc. 4365"]
["PowerStream Inc. 4370","PowerStream Inc.","4370","Losses from Disposition of Allowances for Emission",0,null,null,null,null,null,"PowerStream Inc. 4370"]
["PowerStream Inc. 4375","PowerStream Inc.","4375","Revenues from Non Rate-Regulated Utility Operations",-46595756.450000003,null,null,null,null,null,"PowerStream Inc. 4375"]
["PowerStream Inc. 4375","PowerStream Inc.","4375","Sub-account Generation Facility Revenues",0,null,null,null,null,null,"PowerStream Inc. 4375"]
["PowerStream Inc. 4380","PowerStream Inc.","4380","Expenses of Non Rate-Regulated Utility Operations",41316802.100000001,null,null,null,null,null,"PowerStream Inc. 4380"]
["PowerStream Inc. 4380","PowerStream Inc.","4380","Sub-account Generation Facility Expenses",0,null,null,null,null,null,"PowerStream Inc. 4380"]
["PowerStream Inc. 4385","PowerStream Inc.","4385","Non Rate-Regulated Utility Rental Income",0,null,null,null,null,null,"PowerStream Inc. 4385"]
["PowerStream Inc. 4390","PowerStream Inc.","4390","Miscellaneous Non-Operating Income",-1280200.03,null,null,null,null,null,"PowerStream Inc. 4390"]
["PowerStream Inc. 4395","PowerStream Inc.","4395","Rate-Payer Benefit Including Interest",0,null,null,null,null,null,"PowerStream Inc. 4395"]
["PowerStream Inc. 4398","PowerStream Inc.","4398","Foreign Exchange Gains and Losses, Including Amortization",0,null,null,null,null,null,"PowerStream Inc. 4398"]
["PowerStream Inc. 4405","PowerStream Inc.","4405","Interest and Dividend Income",-728548.78,null,null,null,null,null,"PowerStream Inc. 4405"]
["PowerStream Inc. 4410","PowerStream Inc.","4410","Lessor's Net Investment in Finance Lease",0,null,null,null,null,null,"PowerStream Inc. 4410"]
["PowerStream Inc. 4415","PowerStream Inc.","4415","Equity in Earnings of Subsidiary Companies",0,null,null,null,null,null,"PowerStream Inc. 4415"]
["PowerStream Inc. 4420","PowerStream Inc.","4420","Share of Profit or Loss of Joint Venture",-350000,null,null,null,null,null,"PowerStream Inc. 4420"]
["PowerStream Inc. Total ","PowerStream Inc. Total",null,null,-19409463.280000001,null,null,null,null,null,"PowerStream Inc. Total "]
["Renfrew Hydro Inc. 4082","Renfrew Hydro Inc.","4082","Retail Services Revenues",-4760.3999999999996,-4968,-4787.91,-8199.6,-5660.56,null,"Renfrew Hydro Inc. 4082"]
["Renfrew Hydro Inc. 4084","Renfrew Hydro Inc.","4084","Service Transaction Requests (STR) Revenues",-62.75,-33.5,-20.75,0,-41.31,null,"Renfrew Hydro Inc. 4084"]
["Renfrew Hydro Inc. 4086","Renfrew Hydro Inc.","4086","SSS Administration Revenue",-12451.93,-12540.83,-12670.23,-12727.96,-12830.29,null,"Renfrew Hydro Inc. 4086"]
["Renfrew Hydro Inc. 4090","Renfrew Hydro Inc.","4090","Electric Services Incidental to Energy Sales",0,0,0,0,0,null,"Renfrew Hydro Inc. 4090"]
["Renfrew Hydro Inc. 4205","Renfrew Hydro Inc.","4205","Interdepartmental Rents",0,0,0,0,0,null,"Renfrew Hydro Inc. 4205"]
["Renfrew Hydro Inc. 4210","Renfrew Hydro Inc.","4210","Rent from Electric Property",-37648.160000000003,-37648.160000000003,-46443.27,-41995.65,-41995.65,null,"Renfrew Hydro Inc. 4210"]
["Renfrew Hydro Inc. 4215","Renfrew Hydro Inc.","4215","Other Utility Operating Income",0,0,0,0,0,null,"Renfrew Hydro Inc. 4215"]
["Renfrew Hydro Inc. 4220","Renfrew Hydro Inc.","4220","Other Electric Revenues",0,0,0,0,0,null,"Renfrew Hydro Inc. 4220"]
["Renfrew Hydro Inc. 4225","Renfrew Hydro Inc.","4225","Late Payment Charges",-20235.96,-22681.97,-22173.17,-17932.2,-23866.73,null,"Renfrew Hydro Inc. 4225"]
["Renfrew Hydro Inc. 4230","Renfrew Hydro Inc.","4230","Sales of Water and Water Power",0,0,0,0,0,null,"Renfrew Hydro Inc. 4230"]
["Renfrew Hydro Inc. 4235","Renfrew Hydro Inc.","4235","Miscellaneous Service Revenues",-33147.230000000003,-45881.2,-36381.599999999999,-31363.200000000001,-36135.64,null,"Renfrew Hydro Inc. 4235"]
["Renfrew Hydro Inc. 4240","Renfrew Hydro Inc.","4240","Provision for Rate Refunds",0,0,0,0,0,null,"Renfrew Hydro Inc. 4240"]
["Renfrew Hydro Inc. 4245","Renfrew Hydro Inc.","4245","Government and Other Assistance Directly Credited to Income",-1507.83,-2160.11,-4414.29,-3674.39,-19235.95,null,"Renfrew Hydro Inc. 4245"]
["Renfrew Hydro Inc. 4305","Renfrew Hydro Inc.","4305","Regulatory Debits",169789.48,162681.45000000001,154341.72,148035.56,146813.56,null,"Renfrew Hydro Inc. 4305"]
["Renfrew Hydro Inc. 4310","Renfrew Hydro Inc.","4310","Regulatory Credits",0,0,0,0,0,null,"Renfrew Hydro Inc. 4310"]
["Renfrew Hydro Inc. 4315","Renfrew Hydro Inc.","4315","Revenues from Electric Plant Leased to Others",0,0,0,0,0,null,"Renfrew Hydro Inc. 4315"]
["Renfrew Hydro Inc. 4320","Renfrew Hydro Inc.","4320","Expenses of Electric Plant Leased to Others",0,0,0,0,0,null,"Renfrew Hydro Inc. 4320"]
["Renfrew Hydro Inc. 4325","Renfrew Hydro Inc.","4325","Revenues from Merchandise",-14260.23,-10576.36,-17495.21,-6756.2,-3223.5,null,"Renfrew Hydro Inc. 4325"]
["Renfrew Hydro Inc. 4330","Renfrew Hydro Inc.","4330","Costs and Expenses of Merchandising",0,0,0,0,90.61,null,"Renfrew Hydro Inc. 4330"]
["Renfrew Hydro Inc. 4335","Renfrew Hydro Inc.","4335","Profits and Losses from Financial Instrument Hedges",0,0,0,0,0,null,"Renfrew Hydro Inc. 4335"]
["Renfrew Hydro Inc. 4340","Renfrew Hydro Inc.","4340","Profits and Losses from Financial Instrument Investments",0,0,0,0,0,null,{"$f":"B2438 & \" \" &C2438","v":"Renfrew Hydro Inc. 4340"}]
["Renfrew Hydro Inc. 4345","Renfrew Hydro Inc.","4345","Gains from Disposition of Future Use Utility Plant",0,0,0,0,0,null,"Renfrew Hydro Inc. 4345"]
["Renfrew Hydro Inc. 4350","Renfrew Hydro Inc.","4350","Losses from Disposition of Future Use Utility Plant",0,0,0,0,0,null,"Renfrew Hydro Inc. 4350"]
["Renfrew Hydro Inc. 4355","Renfrew Hydro Inc.","4355","Gain on Disposition of Utility and Other Property",0,0,-42847.49,-5750,0,null,"Renfrew Hydro Inc. 4355"]
["Renfrew Hydro Inc. 4357","Renfrew Hydro Inc.","4357","Gain from Retirement of Utility and Other Property",0,0,0,0,0,null,"Renfrew Hydro Inc. 4357"]
["Renfrew Hydro Inc. 4360","Renfrew Hydro Inc.","4360","Loss on Disposition of Utility and Other Property",0,0,0,0,0,null,"Renfrew Hydro Inc. 4360"]
["Renfrew Hydro Inc. 4362","Renfrew Hydro Inc.","4362","Loss from Retirement of Utility and Other Property",4631.29,7555.29,6770.66,6662.41,3959.07,null,"Renfrew Hydro Inc. 4362"]
["Renfrew Hydro Inc. 4365","Renfrew Hydro Inc.","4365","Gains from Disposition of Allowances for Emission",0,0,0,0,0,null,"Renfrew Hydro Inc. 4365"]
["Renfrew Hydro Inc. 4370","Renfrew Hydro Inc.","4370","Losses from Disposition of Allowances for Emission",0,0,0,0,0,null,"Renfrew Hydro Inc. 4370"]
["Renfrew Hydro Inc. 4375","Renfrew Hydro Inc.","4375","Revenues from Non Rate-Regulated Utility Operations",-18172.84,-10409.69,-105074.71,-73365.34,-220908.7,null,"Renfrew Hydro Inc. 4375"]
["Renfrew Hydro Inc. 4375","Renfrew Hydro Inc.","4375","Sub-account Generation Facility Revenues",0,0,0,0,0,null,"Renfrew Hydro Inc. 4375"]
["Renfrew Hydro Inc. 4380","Renfrew Hydro Inc.","4380","Expenses of Non Rate-Regulated Utility Operations",0,46163.97,43305.26,32144.31,148912.48000000001,null,"Renfrew Hydro Inc. 4380"]
["Renfrew Hydro Inc. 4380","Renfrew Hydro Inc.","4380","Sub-account Generation Facility Expenses",0,0,0,0,0,null,"Renfrew Hydro Inc. 4380"]
["Renfrew Hydro Inc. 4385","Renfrew Hydro Inc.","4385","Non Rate-Regulated Utility Rental Income",0,0,0,0,0,null,"Renfrew Hydro Inc. 4385"]
["Renfrew Hydro Inc. 4390","Renfrew Hydro Inc.","4390","Miscellaneous Non-Operating Income",-2932.94,-11089.85,-6667.11,-4070.57,-3349.48,null,"Renfrew Hydro Inc. 4390"]
["Renfrew Hydro Inc. 4395","Renfrew Hydro Inc.","4395","Rate-Payer Benefit Including Interest",0,0,0,0,0,null,"Renfrew Hydro Inc. 4395"]
["Renfrew Hydro Inc. 4398","Renfrew Hydro Inc.","4398","Foreign Exchange Gains and Losses, Including Amortization",0,0,0,0,0,null,"Renfrew Hydro Inc. 4398"]
["Renfrew Hydro Inc. 4405","Renfrew Hydro Inc.","4405","Interest and Dividend Income",-10525.69,27393.49,-15339.51,-18594,-7680.43,null,"Renfrew Hydro Inc. 4405"]
["Renfrew Hydro Inc. 4410","Renfrew Hydro Inc.","4410","Lessor's Net Investment in Finance Lease",0,0,0,0,0,null,"Renfrew Hydro Inc. 4410"]
["Renfrew Hydro Inc. 4415","Renfrew Hydro Inc.","4415","Equity in Earnings of Subsidiary Companies",0,0,0,0,0,null,"Renfrew Hydro Inc. 4415"]
["Renfrew Hydro Inc. 4420","Renfrew Hydro Inc.","4420","Share of Profit or Loss of Joint Venture",0,0,0,0,0,null,"Renfrew Hydro Inc. 4420"]
["Renfrew Hydro Inc. Total ","Renfrew Hydro Inc. Total",null,null,18714.810000000001,85804.53,-109897.61,-37586.83,-75152.52,null,"Renfrew Hydro Inc. Total "]
["Rideau St. Lawrence Distribution Inc. 4082","Rideau St. Lawrence Distribution Inc.","4082","Retail Services Revenues",-6755.64,-6491.6,-6160.2,-7044.88,-7151.58,null,"Rideau St. Lawrence Distribution Inc. 4082"]
["Rideau St. Lawrence Distribution Inc. 4084","Rideau St. Lawrence Distribution Inc.","4084","Service Transaction Requests (STR) Revenues",-45,-27.5,-31.25,-35.5,-34,null,"Rideau St. Lawrence Distribution Inc. 4084"]
["Rideau St. Lawrence Distribution Inc. 4086","Rideau St. Lawrence Distribution Inc.","4086","SSS Administration Revenue",-21243.06,-22042.61,-21942.45,-21856.18,-21747.82,null,"Rideau St. Lawrence Distribution Inc. 4086"]
["Rideau St. Lawrence Distribution Inc. 4090","Rideau St. Lawrence Distribution Inc.","4090","Electric Services Incidental to Energy Sales",0,0,0,0,0,null,"Rideau St. Lawrence Distribution Inc. 4090"]
["Rideau St. Lawrence Distribution Inc. 4205","Rideau St. Lawrence Distribution Inc.","4205","Interdepartmental Rents",0,0,0,0,0,null,"Rideau St. Lawrence Distribution Inc. 4205"]
["Rideau St. Lawrence Distribution Inc. 4210","Rideau St. Lawrence Distribution Inc.","4210","Rent from Electric Property",-43738.83,-43738.83,-42401.86,-44208.3,-44409.45,null,"Rideau St. Lawrence Distribution Inc. 4210"]
["Rideau St. Lawrence Distribution Inc. 4215","Rideau St. Lawrence Distribution Inc.","4215","Other Utility Operating Income",0,0,0,0,0,null,"Rideau St. Lawrence Distribution Inc. 4215"]
["Rideau St. Lawrence Distribution Inc. 4220","Rideau St. Lawrence Distribution Inc.","4220","Other Electric Revenues",-2233.71,-3953.95,-7283.88,-7688.02,-11968.3,null,"Rideau St. Lawrence Distribution Inc. 4220"]
["Rideau St. Lawrence Distribution Inc. 4225","Rideau St. Lawrence Distribution Inc.","4225","Late Payment Charges",-75313.67,-70389.820000000007,-58515.08,-55105.61,-69106.820000000007,null,"Rideau St. Lawrence Distribution Inc. 4225"]
["Rideau St. Lawrence Distribution Inc. 4230","Rideau St. Lawrence Distribution Inc.","4230","Sales of Water and Water Power",0,0,0,0,0,null,"Rideau St. Lawrence Distribution Inc. 4230"]
["Rideau St. Lawrence Distribution Inc. 4235","Rideau St. Lawrence Distribution Inc.","4235","Miscellaneous Service Revenues",-116375.67,-97263.67,-81166.87,-78315.3,-106103.75,null,"Rideau St. Lawrence Distribution Inc. 4235"]
["Rideau St. Lawrence Distribution Inc. 4240","Rideau St. Lawrence Distribution Inc.","4240","Provision for Rate Refunds",0,0,0,0,0,null,"Rideau St. Lawrence Distribution Inc. 4240"]
["Rideau St. Lawrence Distribution Inc. 4245","Rideau St. Lawrence Distribution Inc.","4245","Government and Other Assistance Directly Credited to Income",0,0,0,0,0,null,"Rideau St. Lawrence Distribution Inc. 4245"]
["Rideau St. Lawrence Distribution Inc. 4305","Rideau St. Lawrence Distribution Inc.","4305","Regulatory Debits",0,0,0,0,0,null,"Rideau St. Lawrence Distribution Inc. 4305"]
["Rideau St. Lawrence Distribution Inc. 4310","Rideau St. Lawrence Distribution Inc.","4310","Regulatory Credits",0,0,0,0,0,null,"Rideau St. Lawrence Distribution Inc. 4310"]
["Rideau St. Lawrence Distribution Inc. 4315","Rideau St. Lawrence Distribution Inc.","4315","Revenues from Electric Plant Leased to Others",0,0,0,0,0,null,"Rideau St. Lawrence Distribution Inc. 4315"]
["Rideau St. Lawrence Distribution Inc. 4320","Rideau St. Lawrence Distribution Inc.","4320","Expenses of Electric Plant Leased to Others",0,0,0,0,0,null,"Rideau St. Lawrence Distribution Inc. 4320"]
["Rideau St. Lawrence Distribution Inc. 4325","Rideau St. Lawrence Distribution Inc.","4325","Revenues from Merchandise",0,0,0,0,0,null,"Rideau St. Lawrence Distribution Inc. 4325"]
["Rideau St. Lawrence Distribution Inc. 4330","Rideau St. Lawrence Distribution Inc.","4330","Costs and Expenses of Merchandising",0,0,0,0,0,null,"Rideau St. Lawrence Distribution Inc. 4330"]
["Rideau St. Lawrence Distribution Inc. 4335","Rideau St. Lawrence Distribution Inc.","4335","Profits and Losses from Financial Instrument Hedges",0,0,0,0,0,null,"Rideau St. Lawrence Distribution Inc. 4335"]
["Rideau St. Lawrence Distribution Inc. 4340","Rideau St. Lawrence Distribution Inc.","4340","Profits and Losses from Financial Instrument Investments",0,0,0,0,0,null,"Rideau St. Lawrence Distribution Inc. 4340"]
["Rideau St. Lawrence Distribution Inc. 4345","Rideau St. Lawrence Distribution Inc.","4345","Gains from Disposition of Future Use Utility Plant",0,0,0,0,0,null,"Rideau St. Lawrence Distribution Inc. 4345"]
["Rideau St. Lawrence Distribution Inc. 4350","Rideau St. Lawrence Distribution Inc.","4350","Losses from Disposition of Future Use Utility Plant",0,0,0,0,0,null,"Rideau St. Lawrence Distribution Inc. 4350"]
["Rideau St. Lawrence Distribution Inc. 4355","Rideau St. Lawrence Distribution Inc.","4355","Gain on Disposition of Utility and Other Property",-3285,-5007.93,0,0,0,null,"Rideau St. Lawrence Distribution Inc. 4355"]
["Rideau St. Lawrence Distribution Inc. 4357","Rideau St. Lawrence Distribution Inc.","4357","Gain from Retirement of Utility and Other Property",0,0,0,0,0,null,"Rideau St. Lawrence Distribution Inc. 4357"]
["Rideau St. Lawrence Distribution Inc. 4360","Rideau St. Lawrence Distribution Inc.","4360","Loss on Disposition of Utility and Other Property",8789.7999999999993,5278.18,8613.94,7731.31,4075.61,null,"Rideau St. Lawrence Distribution Inc. 4360"]
["Rideau St. Lawrence Distribution Inc. 4362","Rideau St. Lawrence Distribution Inc.","4362","Loss from Retirement of Utility and Other Property",0,0,0,0,0,null,"Rideau St. Lawrence Distribution Inc. 4362"]
["Rideau St. Lawrence Distribution Inc. 4365","Rideau St. Lawrence Distribution Inc.","4365","Gains from Disposition of Allowances for Emission",0,0,0,0,0,null,"Rideau St. Lawrence Distribution Inc. 4365"]
["Rideau St. Lawrence Distribution Inc. 4370","Rideau St. Lawrence Distribution Inc.","4370","Losses from Disposition of Allowances for Emission",0,0,0,0,0,null,"Rideau St. Lawrence Distribution Inc. 4370"]
["Rideau St. Lawrence Distribution Inc. 4375","Rideau St. Lawrence Distribution Inc.","4375","Revenues from Non Rate-Regulated Utility Operations",-6799.02,-39528.86,-5063.54,0,0,null,"Rideau St. Lawrence Distribution Inc. 4375"]
["Rideau St. Lawrence Distribution Inc. 4375","Rideau St. Lawrence Distribution Inc.","4375","Sub-account Generation Facility Revenues",0,0,0,0,0,null,"Rideau St. Lawrence Distribution Inc. 4375"]
["Rideau St. Lawrence Distribution Inc. 4380","Rideau St. Lawrence Distribution Inc.","4380","Expenses of Non Rate-Regulated Utility Operations",0,0,0,0,0,null,"Rideau St. Lawrence Distribution Inc. 4380"]
["Rideau St. Lawrence Distribution Inc. 4380","Rideau St. Lawrence Distribution Inc.","4380","Sub-account Generation Facility Expenses",0,0,0,0,0,null,"Rideau St. Lawrence Distribution Inc. 4380"]
["Rideau St. Lawrence Distribution Inc. 4385","Rideau St. Lawrence Distribution Inc.","4385","Non Rate-Regulated Utility Rental Income",0,0,0,0,0,null,"Rideau St. Lawrence Distribution Inc. 4385"]
["Rideau St. Lawrence Distribution Inc. 4390","Rideau St. Lawrence Distribution Inc.","4390","Miscellaneous Non-Operating Income",0,0,0,0,0,null,"Rideau St. Lawrence Distribution Inc. 4390"]
["Rideau St. Lawrence Distribution Inc. 4395","Rideau St. Lawrence Distribution Inc.","4395","Rate-Payer Benefit Including Interest",0,0,0,0,0,null,"Rideau St. Lawrence Distribution Inc. 4395"]
["Rideau St. Lawrence Distribution Inc. 4398","Rideau St. Lawrence Distribution Inc.","4398","Foreign Exchange Gains and Losses, Including Amortization",0,0,0,0,0,null,"Rideau St. Lawrence Distribution Inc. 4398"]
["Rideau St. Lawrence Distribution Inc. 4405","Rideau St. Lawrence Distribution Inc.","4405","Interest and Dividend Income",-17299.689999999999,-17346.830000000002,-17944.849999999999,-20164.45,-10282.26,null,"Rideau St. Lawrence Distribution Inc. 4405"]
["Rideau St. Lawrence Distribution Inc. 4410","Rideau St. Lawrence Distribution Inc.","4410","Lessor's Net Investment in Finance Lease",0,0,0,0,0,null,"Rideau St. Lawrence Distribution Inc. 4410"]
["Rideau St. Lawrence Distribution Inc. 4415","Rideau St. Lawrence Distribution Inc.","4415","Equity in Earnings of Subsidiary Companies",0,0,0,0,0,null,"Rideau St. Lawrence Distribution Inc. 4415"]
["Rideau St. Lawrence Distribution Inc. 4420","Rideau St. Lawrence Distribution Inc.","4420","Share of Profit or Loss of Joint Venture",0,0,0,0,0,null,"Rideau St. Lawrence Distribution Inc. 4420"]
["Rideau St. Lawrence Distribution Inc. Total ","Rideau St. Lawrence Distribution Inc. Total",null,null,-284299.49,-300513.42,-231896.04,-226686.93,-266728.37,null,"Rideau St. Lawrence Distribution Inc. Total "]
["Sioux Lookout Hydro Inc. 4082","Sioux Lookout Hydro Inc.","4082","Retail Services Revenues",0,0,0,0,0,null,{"$f":"B2502 & \" \" &C2502","v":"Sioux Lookout Hydro Inc. 4082"}]
["Sioux Lookout Hydro Inc. 4084","Sioux Lookout Hydro Inc.","4084","Service Transaction Requests (STR) Revenues",0,0,0,0,0,null,"Sioux Lookout Hydro Inc. 4084"]
["Sioux Lookout Hydro Inc. 4086","Sioux Lookout Hydro Inc.","4086","SSS Administration Revenue",-8140.02,-8286.7900000000009,-8384.25,-8405.75,-8502.01,null,"Sioux Lookout Hydro Inc. 4086"]
["Sioux Lookout Hydro Inc. 4090","Sioux Lookout Hydro Inc.","4090","Electric Services Incidental to Energy Sales",0,0,0,0,0,null,"Sioux Lookout Hydro Inc. 4090"]
["Sioux Lookout Hydro Inc. 4205","Sioux Lookout Hydro Inc.","4205","Interdepartmental Rents",0,0,0,0,0,null,"Sioux Lookout Hydro Inc. 4205"]
["Sioux Lookout Hydro Inc. 4210","Sioux Lookout Hydro Inc.","4210","Rent from Electric Property",-45333.14,-45377.84,-50392.639999999999,-46774.89,-46775.09,null,"Sioux Lookout Hydro Inc. 4210"]
["Sioux Lookout Hydro Inc. 4215","Sioux Lookout Hydro Inc.","4215","Other Utility Operating Income",0,0,0,0,0,null,"Sioux Lookout Hydro Inc. 4215"]
["Sioux Lookout Hydro Inc. 4220","Sioux Lookout Hydro Inc.","4220","Other Electric Revenues",0,0,0,0,0,null,"Sioux Lookout Hydro Inc. 4220"]
["Sioux Lookout Hydro Inc. 4225","Sioux Lookout Hydro Inc.","4225","Late Payment Charges",-48896.78,-43413.77,-38489.25,-33847.660000000003,-36050.97,null,"Sioux Lookout Hydro Inc. 4225"]
["Sioux Lookout Hydro Inc. 4230","Sioux Lookout Hydro Inc.","4230","Sales of Water and Water Power",0,0,0,0,0,null,"Sioux Lookout Hydro Inc. 4230"]
["Sioux Lookout Hydro Inc. 4235","Sioux Lookout Hydro Inc.","4235","Miscellaneous Service Revenues",-17965,-18050,-15175,-13960,-15338.75,null,"Sioux Lookout Hydro Inc. 4235"]
["Sioux Lookout Hydro Inc. 4240","Sioux Lookout Hydro Inc.","4240","Provision for Rate Refunds",0,0,0,0,0,null,"Sioux Lookout Hydro Inc. 4240"]
["Sioux Lookout Hydro Inc. 4245","Sioux Lookout Hydro Inc.","4245","Government and Other Assistance Directly Credited to Income",-2477.2600000000002,-4233.93,-6649.86,-8286.02,-10163.76,null,"Sioux Lookout Hydro Inc. 4245"]
["Sioux Lookout Hydro Inc. 4305","Sioux Lookout Hydro Inc.","4305","Regulatory Debits",0,0,0,0,0,null,"Sioux Lookout Hydro Inc. 4305"]
["Sioux Lookout Hydro Inc. 4310","Sioux Lookout Hydro Inc.","4310","Regulatory Credits",0,0,-2648.45,-10593.8,-10593.8,null,"Sioux Lookout Hydro Inc. 4310"]
["Sioux Lookout Hydro Inc. 4315","Sioux Lookout Hydro Inc.","4315","Revenues from Electric Plant Leased to Others",0,0,0,0,0,null,"Sioux Lookout Hydro Inc. 4315"]
["Sioux Lookout Hydro Inc. 4320","Sioux Lookout Hydro Inc.","4320","Expenses of Electric Plant Leased to Others",0,0,0,0,0,null,"Sioux Lookout Hydro Inc. 4320"]
["Sioux Lookout Hydro Inc. 4325","Sioux Lookout Hydro Inc.","4325","Revenues from Merchandise",0,0,0,0,0,null,"Sioux Lookout Hydro Inc. 4325"]
["Sioux Lookout Hydro Inc. 4330","Sioux Lookout Hydro Inc.","4330","Costs and Expenses of Merchandising",0,0,0,0,0,null,"Sioux Lookout Hydro Inc. 4330"]
["Sioux Lookout Hydro Inc. 4335","Sioux Lookout Hydro Inc.","4335","Profits and Losses from Financial Instrument Hedges",0,0,0,0,0,null,"Sioux Lookout Hydro Inc. 4335"]
["Sioux Lookout Hydro Inc. 4340","Sioux Lookout Hydro Inc.","4340","Profits and Losses from Financial Instrument Investments",0,0,0,0,0,null,"Sioux Lookout Hydro Inc. 4340"]
["Sioux Lookout Hydro Inc. 4345","Sioux Lookout Hydro Inc.","4345","Gains from Disposition of Future Use Utility Plant",0,0,0,0,0,null,"Sioux Lookout Hydro Inc. 4345"]
["Sioux Lookout Hydro Inc. 4350","Sioux Lookout Hydro Inc.","4350","Losses from Disposition of Future Use Utility Plant",0,0,0,0,0,null,"Sioux Lookout Hydro Inc. 4350"]
["Sioux Lookout Hydro Inc. 4355","Sioux Lookout Hydro Inc.","4355","Gain on Disposition of Utility and Other Property",0,0,0,0,0,null,"Sioux Lookout Hydro Inc. 4355"]
["Sioux Lookout Hydro Inc. 4357","Sioux Lookout Hydro Inc.","4357","Gain from Retirement of Utility and Other Property",0,0,0,0,0,null,"Sioux Lookout Hydro Inc. 4357"]
["Sioux Lookout Hydro Inc. 4360","Sioux Lookout Hydro Inc.","4360","Loss on Disposition of Utility and Other Property",0,0,12449.23,0,8228.1200000000008,null,"Sioux Lookout Hydro Inc. 4360"]
["Sioux Lookout Hydro Inc. 4362","Sioux Lookout Hydro Inc.","4362","Loss from Retirement of Utility and Other Property",1337.33,1952.16,12392.32,11747.81,10046.780000000001,null,"Sioux Lookout Hydro Inc. 4362"]
["Sioux Lookout Hydro Inc. 4365","Sioux Lookout Hydro Inc.","4365","Gains from Disposition of Allowances for Emission",0,0,0,0,0,null,"Sioux Lookout Hydro Inc. 4365"]
["Sioux Lookout Hydro Inc. 4370","Sioux Lookout Hydro Inc.","4370","Losses from Disposition of Allowances for Emission",0,0,0,0,0,null,"Sioux Lookout Hydro Inc. 4370"]
["Sioux Lookout Hydro Inc. 4375","Sioux Lookout Hydro Inc.","4375","Revenues from Non Rate-Regulated Utility Operations",-87632.72,-60479.32,-57905.15,-16914,-16770.27,null,"Sioux Lookout Hydro Inc. 4375"]
["Sioux Lookout Hydro Inc. 4375","Sioux Lookout Hydro Inc.","4375","Sub-account Generation Facility Revenues",0,0,0,0,0,null,"Sioux Lookout Hydro Inc. 4375"]
["Sioux Lookout Hydro Inc. 4380","Sioux Lookout Hydro Inc.","4380","Expenses of Non Rate-Regulated Utility Operations",87365.74,55313.38,30591.48,16116.21,2292.7199999999998,null,"Sioux Lookout Hydro Inc. 4380"]
["Sioux Lookout Hydro Inc. 4380","Sioux Lookout Hydro Inc.","4380","Sub-account Generation Facility Expenses",0,0,0,0,0,null,"Sioux Lookout Hydro Inc. 4380"]
["Sioux Lookout Hydro Inc. 4385","Sioux Lookout Hydro Inc.","4385","Non Rate-Regulated Utility Rental Income",-11364.86,-11723.19,-7149.38,0,0,null,"Sioux Lookout Hydro Inc. 4385"]
["Sioux Lookout Hydro Inc. 4390","Sioux Lookout Hydro Inc.","4390","Miscellaneous Non-Operating Income",0,0,0,0,0,null,"Sioux Lookout Hydro Inc. 4390"]
["Sioux Lookout Hydro Inc. 4395","Sioux Lookout Hydro Inc.","4395","Rate-Payer Benefit Including Interest",0,0,0,0,0,null,"Sioux Lookout Hydro Inc. 4395"]
["Sioux Lookout Hydro Inc. 4398","Sioux Lookout Hydro Inc.","4398","Foreign Exchange Gains and Losses, Including Amortization",0,0,0,0,0,null,"Sioux Lookout Hydro Inc. 4398"]
["Sioux Lookout Hydro Inc. 4405","Sioux Lookout Hydro Inc.","4405","Interest and Dividend Income",-3492.78,-2251.41,-5662.34,-26807.27,-5276.41,null,"Sioux Lookout Hydro Inc. 4405"]
["Sioux Lookout Hydro Inc. 4410","Sioux Lookout Hydro Inc.","4410","Lessor's Net Investment in Finance Lease",0,0,0,0,0,null,"Sioux Lookout Hydro Inc. 4410"]
["Sioux Lookout Hydro Inc. 4415","Sioux Lookout Hydro Inc.","4415","Equity in Earnings of Subsidiary Companies",0,0,0,0,0,null,"Sioux Lookout Hydro Inc. 4415"]
["Sioux Lookout Hydro Inc. 4420","Sioux Lookout Hydro Inc.","4420","Share of Profit or Loss of Joint Venture",0,0,0,0,0,null,"Sioux Lookout Hydro Inc. 4420"]
["Sioux Lookout Hydro Inc. Total ","Sioux Lookout Hydro Inc. Total",null,null,-136599.49,-136550.71,-137023.29,-137725.37,-128903.44,null,"Sioux Lookout Hydro Inc. Total "]
["St. Thomas Energy Inc. 4082","St. Thomas Energy Inc.","4082","Retail Services Revenues",-18509.400000000001,-15715.8,null,null,null,null,"St. Thomas Energy Inc. 4082"]
["St. Thomas Energy Inc. 4084","St. Thomas Energy Inc.","4084","Service Transaction Requests (STR) Revenues",-368.25,-256.5,null,null,null,null,"St. Thomas Energy Inc. 4084"]
["St. Thomas Energy Inc. 4086","St. Thomas Energy Inc.","4086","SSS Administration Revenue",0,0,null,null,null,null,"St. Thomas Energy Inc. 4086"]
["St. Thomas Energy Inc. 4090","St. Thomas Energy Inc.","4090","Electric Services Incidental to Energy Sales",0,0,null,null,null,null,"St. Thomas Energy Inc. 4090"]
["St. Thomas Energy Inc. 4205","St. Thomas Energy Inc.","4205","Interdepartmental Rents",0,0,null,null,null,null,"St. Thomas Energy Inc. 4205"]
["St. Thomas Energy Inc. 4210","St. Thomas Energy Inc.","4210","Rent from Electric Property",-35734.33,-35600.230000000003,null,null,null,null,"St. Thomas Energy Inc. 4210"]
["St. Thomas Energy Inc. 4215","St. Thomas Energy Inc.","4215","Other Utility Operating Income",0,0,null,null,null,null,"St. Thomas Energy Inc. 4215"]
["St. Thomas Energy Inc. 4220","St. Thomas Energy Inc.","4220","Other Electric Revenues",-69935.16,-69935.16,null,null,null,null,"St. Thomas Energy Inc. 4220"]
["St. Thomas Energy Inc. 4225","St. Thomas Energy Inc.","4225","Late Payment Charges",-157602.29,-130922.32,null,null,null,null,"St. Thomas Energy Inc. 4225"]
["St. Thomas Energy Inc. 4230","St. Thomas Energy Inc.","4230","Sales of Water and Water Power",0,0,null,null,null,null,"St. Thomas Energy Inc. 4230"]
["St. Thomas Energy Inc. 4235","St. Thomas Energy Inc.","4235","Miscellaneous Service Revenues",-172059.41,-182913.98,null,null,null,null,"St. Thomas Energy Inc. 4235"]
["St. Thomas Energy Inc. 4240","St. Thomas Energy Inc.","4240","Provision for Rate Refunds",0,0,null,null,null,null,"St. Thomas Energy Inc. 4240"]
["St. Thomas Energy Inc. 4245","St. Thomas Energy Inc.","4245","Government and Other Assistance Directly Credited to Income",0,0,null,null,null,null,"St. Thomas Energy Inc. 4245"]
["St. Thomas Energy Inc. 4305","St. Thomas Energy Inc.","4305","Regulatory Debits",0,0,null,null,null,null,"St. Thomas Energy Inc. 4305"]
["St. Thomas Energy Inc. 4310","St. Thomas Energy Inc.","4310","Regulatory Credits",0,0,null,null,null,null,"St. Thomas Energy Inc. 4310"]
["St. Thomas Energy Inc. 4315","St. Thomas Energy Inc.","4315","Revenues from Electric Plant Leased to Others",0,0,null,null,null,null,"St. Thomas Energy Inc. 4315"]
["St. Thomas Energy Inc. 4320","St. Thomas Energy Inc.","4320","Expenses of Electric Plant Leased to Others",0,0,null,null,null,null,"St. Thomas Energy Inc. 4320"]
["St. Thomas Energy Inc. 4325","St. Thomas Energy Inc.","4325","Revenues from Merchandise",0,0,null,null,null,null,"St. Thomas Energy Inc. 4325"]
["St. Thomas Energy Inc. 4330","St. Thomas Energy Inc.","4330","Costs and Expenses of Merchandising",0,0,null,null,null,null,"St. Thomas Energy Inc. 4330"]
["St. Thomas Energy Inc. 4335","St. Thomas Energy Inc.","4335","Profits and Losses from Financial Instrument Hedges",0,0,null,null,null,null,"St. Thomas Energy Inc. 4335"]
["St. Thomas Energy Inc. 4340","St. Thomas Energy Inc.","4340","Profits and Losses from Financial Instrument Investments",0,0,null,null,null,null,"St. Thomas Energy Inc. 4340"]
["St. Thomas Energy Inc. 4345","St. Thomas Energy Inc.","4345","Gains from Disposition of Future Use Utility Plant",0,0,null,null,null,null,"St. Thomas Energy Inc. 4345"]
["St. Thomas Energy Inc. 4350","St. Thomas Energy Inc.","4350","Losses from Disposition of Future Use Utility Plant",0,0,null,null,null,null,{"$f":"B2566 & \" \" &C2566","v":"St. Thomas Energy Inc. 4350"}]
["St. Thomas Energy Inc. 4355","St. Thomas Energy Inc.","4355","Gain on Disposition of Utility and Other Property",0,-21800,null,null,null,null,"St. Thomas Energy Inc. 4355"]
["St. Thomas Energy Inc. 4357","St. Thomas Energy Inc.","4357","Gain from Retirement of Utility and Other Property",0,0,null,null,null,null,"St. Thomas Energy Inc. 4357"]
["St. Thomas Energy Inc. 4360","St. Thomas Energy Inc.","4360","Loss on Disposition of Utility and Other Property",0,0,null,null,null,null,"St. Thomas Energy Inc. 4360"]
["St. Thomas Energy Inc. 4362","St. Thomas Energy Inc.","4362","Loss from Retirement of Utility and Other Property",0,0,null,null,null,null,"St. Thomas Energy Inc. 4362"]
["St. Thomas Energy Inc. 4365","St. Thomas Energy Inc.","4365","Gains from Disposition of Allowances for Emission",0,0,null,null,null,null,"St. Thomas Energy Inc. 4365"]
["St. Thomas Energy Inc. 4370","St. Thomas Energy Inc.","4370","Losses from Disposition of Allowances for Emission",0,0,null,null,null,null,"St. Thomas Energy Inc. 4370"]
["St. Thomas Energy Inc. 4375","St. Thomas Energy Inc.","4375","Revenues from Non Rate-Regulated Utility Operations",-1056924.94,-1348492.64,null,null,null,null,"St. Thomas Energy Inc. 4375"]
["St. Thomas Energy Inc. 4375","St. Thomas Energy Inc.","4375","Sub-account Generation Facility Revenues",0,0,null,null,null,null,"St. Thomas Energy Inc. 4375"]
["St. Thomas Energy Inc. 4380","St. Thomas Energy Inc.","4380","Expenses of Non Rate-Regulated Utility Operations",929503.94,865031.99,null,null,null,null,"St. Thomas Energy Inc. 4380"]
["St. Thomas Energy Inc. 4380","St. Thomas Energy Inc.","4380","Sub-account Generation Facility Expenses",0,0,null,null,null,null,"St. Thomas Energy Inc. 4380"]
["St. Thomas Energy Inc. 4385","St. Thomas Energy Inc.","4385","Non Rate-Regulated Utility Rental Income",0,0,null,null,null,null,"St. Thomas Energy Inc. 4385"]
["St. Thomas Energy Inc. 4390","St. Thomas Energy Inc.","4390","Miscellaneous Non-Operating Income",-66345.38,-50444.36,null,null,null,null,"St. Thomas Energy Inc. 4390"]
["St. Thomas Energy Inc. 4395","St. Thomas Energy Inc.","4395","Rate-Payer Benefit Including Interest",0,0,null,null,null,null,"St. Thomas Energy Inc. 4395"]
["St. Thomas Energy Inc. 4398","St. Thomas Energy Inc.","4398","Foreign Exchange Gains and Losses, Including Amortization",0,0,null,null,null,null,"St. Thomas Energy Inc. 4398"]
["St. Thomas Energy Inc. 4405","St. Thomas Energy Inc.","4405","Interest and Dividend Income",-39689.599999999999,-35832.57,null,null,null,null,"St. Thomas Energy Inc. 4405"]
["St. Thomas Energy Inc. 4410","St. Thomas Energy Inc.","4410","Lessor's Net Investment in Finance Lease",0,0,null,null,null,null,"St. Thomas Energy Inc. 4410"]
["St. Thomas Energy Inc. 4415","St. Thomas Energy Inc.","4415","Equity in Earnings of Subsidiary Companies",0,0,null,null,null,null,"St. Thomas Energy Inc. 4415"]
["St. Thomas Energy Inc. 4420","St. Thomas Energy Inc.","4420","Share of Profit or Loss of Joint Venture",0,0,null,null,null,null,"St. Thomas Energy Inc. 4420"]
["St. Thomas Energy Inc. Total ","St. Thomas Energy Inc. Total",null,null,-687664.82,-1026881.57,null,null,null,null,"St. Thomas Energy Inc. Total "]
["Synergy North Corporation 4082","Synergy North Corporation","4082","Retail Services Revenues",null,null,null,-26681.26,-33108.129999999997,null,"Synergy North Corporation 4082"]
["Synergy North Corporation 4084","Synergy North Corporation","4084","Service Transaction Requests (STR) Revenues",null,null,null,-500.5,-552.16,null,"Synergy North Corporation 4084"]
["Synergy North Corporation 4086","Synergy North Corporation","4086","SSS Administration Revenue",null,null,null,0,0,null,"Synergy North Corporation 4086"]
["Synergy North Corporation 4090","Synergy North Corporation","4090","Electric Services Incidental to Energy Sales",null,null,null,0,0,null,"Synergy North Corporation 4090"]
["Synergy North Corporation 4205","Synergy North Corporation","4205","Interdepartmental Rents",null,null,null,0,0,null,"Synergy North Corporation 4205"]
["Synergy North Corporation 4210","Synergy North Corporation","4210","Rent from Electric Property",null,null,null,-723112,-795153.15,null,"Synergy North Corporation 4210"]
["Synergy North Corporation 4215","Synergy North Corporation","4215","Other Utility Operating Income",null,null,null,0,0,null,"Synergy North Corporation 4215"]
["Synergy North Corporation 4220","Synergy North Corporation","4220","Other Electric Revenues",null,null,null,-10415.43,-11822.82,null,"Synergy North Corporation 4220"]
["Synergy North Corporation 4225","Synergy North Corporation","4225","Late Payment Charges",null,null,null,-361873.4,-273761.75,null,"Synergy North Corporation 4225"]
["Synergy North Corporation 4230","Synergy North Corporation","4230","Sales of Water and Water Power",null,null,null,0,0,null,"Synergy North Corporation 4230"]
["Synergy North Corporation 4235","Synergy North Corporation","4235","Miscellaneous Service Revenues",null,null,null,-261461.32,-197197.2,null,"Synergy North Corporation 4235"]
["Synergy North Corporation 4240","Synergy North Corporation","4240","Provision for Rate Refunds",null,null,null,0,0,null,"Synergy North Corporation 4240"]
["Synergy North Corporation 4245","Synergy North Corporation","4245","Government and Other Assistance Directly Credited to Income",null,null,null,0,0,null,"Synergy North Corporation 4245"]
["Synergy North Corporation 4305","Synergy North Corporation","4305","Regulatory Debits",null,null,null,0,-121030.83,null,"Synergy North Corporation 4305"]
["Synergy North Corporation 4310","Synergy North Corporation","4310","Regulatory Credits",null,null,null,0,0,null,"Synergy North Corporation 4310"]
["Synergy North Corporation 4315","Synergy North Corporation","4315","Revenues from Electric Plant Leased to Others",null,null,null,0,0,null,"Synergy North Corporation 4315"]
["Synergy North Corporation 4320","Synergy North Corporation","4320","Expenses of Electric Plant Leased to Others",null,null,null,0,0,null,"Synergy North Corporation 4320"]
["Synergy North Corporation 4325","Synergy North Corporation","4325","Revenues from Merchandise",null,null,null,0,0,null,"Synergy North Corporation 4325"]
["Synergy North Corporation 4330","Synergy North Corporation","4330","Costs and Expenses of Merchandising",null,null,null,0,0,null,"Synergy North Corporation 4330"]
["Synergy North Corporation 4335","Synergy North Corporation","4335","Profits and Losses from Financial Instrument Hedges",null,null,null,0,0,null,"Synergy North Corporation 4335"]
["Synergy North Corporation 4340","Synergy North Corporation","4340","Profits and Losses from Financial Instrument Investments",null,null,null,0,0,null,"Synergy North Corporation 4340"]
["Synergy North Corporation 4345","Synergy North Corporation","4345","Gains from Disposition of Future Use Utility Plant",null,null,null,0,0,null,"Synergy North Corporation 4345"]
["Synergy North Corporation 4350","Synergy North Corporation","4350","Losses from Disposition of Future Use Utility Plant",null,null,null,0,0,null,"Synergy North Corporation 4350"]
["Synergy North Corporation 4355","Synergy North Corporation","4355","Gain on Disposition of Utility and Other Property",null,null,null,-117341.5,-19602,null,"Synergy North Corporation 4355"]
["Synergy North Corporation 4357","Synergy North Corporation","4357","Gain from Retirement of Utility and Other Property",null,null,null,0,0,null,"Synergy North Corporation 4357"]
["Synergy North Corporation 4360","Synergy North Corporation","4360","Loss on Disposition of Utility and Other Property",null,null,null,364825.44,137477.41,null,"Synergy North Corporation 4360"]
["Synergy North Corporation 4362","Synergy North Corporation","4362","Loss from Retirement of Utility and Other Property",null,null,null,0,0,null,"Synergy North Corporation 4362"]
["Synergy North Corporation 4365","Synergy North Corporation","4365","Gains from Disposition of Allowances for Emission",null,null,null,0,0,null,"Synergy North Corporation 4365"]
["Synergy North Corporation 4370","Synergy North Corporation","4370","Losses from Disposition of Allowances for Emission",null,null,null,0,0,null,"Synergy North Corporation 4370"]
["Synergy North Corporation 4375","Synergy North Corporation","4375","Revenues from Non Rate-Regulated Utility Operations",null,null,null,-2550753.5499999998,-1510032.29,null,"Synergy North Corporation 4375"]
["Synergy North Corporation 4375","Synergy North Corporation","4375","Sub-account Generation Facility Revenues",null,null,null,0,0,null,"Synergy North Corporation 4375"]
["Synergy North Corporation 4380","Synergy North Corporation","4380","Expenses of Non Rate-Regulated Utility Operations",null,null,null,2328064.5299999998,1190552.1299999999,null,"Synergy North Corporation 4380"]
["Synergy North Corporation 4380","Synergy North Corporation","4380","Sub-account Generation Facility Expenses",null,null,null,0,0,null,"Synergy North Corporation 4380"]
["Synergy North Corporation 4385","Synergy North Corporation","4385","Non Rate-Regulated Utility Rental Income",null,null,null,0,0,null,"Synergy North Corporation 4385"]
["Synergy North Corporation 4390","Synergy North Corporation","4390","Miscellaneous Non-Operating Income",null,null,null,-12132.79,-29630.37,null,"Synergy North Corporation 4390"]
["Synergy North Corporation 4395","Synergy North Corporation","4395","Rate-Payer Benefit Including Interest",null,null,null,0,0,null,"Synergy North Corporation 4395"]
["Synergy North Corporation 4398","Synergy North Corporation","4398","Foreign Exchange Gains and Losses, Including Amortization",null,null,null,0,0,null,"Synergy North Corporation 4398"]
["Synergy North Corporation 4405","Synergy North Corporation","4405","Interest and Dividend Income",null,null,null,-322006.09999999998,-107207.21,null,"Synergy North Corporation 4405"]
["Synergy North Corporation 4410","Synergy North Corporation","4410","Lessor's Net Investment in Finance Lease",null,null,null,0,0,null,"Synergy North Corporation 4410"]
["Synergy North Corporation 4415","Synergy North Corporation","4415","Equity in Earnings of Subsidiary Companies",null,null,null,0,0,null,"Synergy North Corporation 4415"]
["Synergy North Corporation 4420","Synergy North Corporation","4420","Share of Profit or Loss of Joint Venture",null,null,null,0,0,null,"Synergy North Corporation 4420"]
["Synergy North Corporation Total ","Synergy North Corporation Total",null,null,null,null,null,-1693387.88,-1771068.37,null,"Synergy North Corporation Total "]
["Thunder Bay Hydro Electricity Distribution Inc. 4082","Thunder Bay Hydro Electricity Distribution Inc.","4082","Retail Services Revenues",-20643.2,-17669.599999999999,-13768,null,null,null,"Thunder Bay Hydro Electricity Distribution Inc. 4082"]
["Thunder Bay Hydro Electricity Distribution Inc. 4084","Thunder Bay Hydro Electricity Distribution Inc.","4084","Service Transaction Requests (STR) Revenues",-471.5,-284,-443.25,null,null,null,"Thunder Bay Hydro Electricity Distribution Inc. 4084"]
["Thunder Bay Hydro Electricity Distribution Inc. 4086","Thunder Bay Hydro Electricity Distribution Inc.","4086","SSS Administration Revenue",0,0,0,null,null,null,{"$f":"B2630 & \" \" &C2630","v":"Thunder Bay Hydro Electricity Distribution Inc. 4086"}]
["Thunder Bay Hydro Electricity Distribution Inc. 4090","Thunder Bay Hydro Electricity Distribution Inc.","4090","Electric Services Incidental to Energy Sales",0,0,0,null,null,null,"Thunder Bay Hydro Electricity Distribution Inc. 4090"]
["Thunder Bay Hydro Electricity Distribution Inc. 4205","Thunder Bay Hydro Electricity Distribution Inc.","4205","Interdepartmental Rents",0,0,0,null,null,null,"Thunder Bay Hydro Electricity Distribution Inc. 4205"]
["Thunder Bay Hydro Electricity Distribution Inc. 4210","Thunder Bay Hydro Electricity Distribution Inc.","4210","Rent from Electric Property",-534239.80000000005,-575196.01,-578856.41,null,null,null,"Thunder Bay Hydro Electricity Distribution Inc. 4210"]
["Thunder Bay Hydro Electricity Distribution Inc. 4215","Thunder Bay Hydro Electricity Distribution Inc.","4215","Other Utility Operating Income",0,0,0,null,null,null,"Thunder Bay Hydro Electricity Distribution Inc. 4215"]
["Thunder Bay Hydro Electricity Distribution Inc. 4220","Thunder Bay Hydro Electricity Distribution Inc.","4220","Other Electric Revenues",6446.91,-17741.39,-18494.810000000001,null,null,null,"Thunder Bay Hydro Electricity Distribution Inc. 4220"]
["Thunder Bay Hydro Electricity Distribution Inc. 4225","Thunder Bay Hydro Electricity Distribution Inc.","4225","Late Payment Charges",-349829.25,-340805.88,-334888.67,null,null,null,"Thunder Bay Hydro Electricity Distribution Inc. 4225"]
["Thunder Bay Hydro Electricity Distribution Inc. 4230","Thunder Bay Hydro Electricity Distribution Inc.","4230","Sales of Water and Water Power",0,0,0,null,null,null,"Thunder Bay Hydro Electricity Distribution Inc. 4230"]
["Thunder Bay Hydro Electricity Distribution Inc. 4235","Thunder Bay Hydro Electricity Distribution Inc.","4235","Miscellaneous Service Revenues",-159842.22,-297219.65000000002,-350140.03,null,null,null,"Thunder Bay Hydro Electricity Distribution Inc. 4235"]
["Thunder Bay Hydro Electricity Distribution Inc. 4240","Thunder Bay Hydro Electricity Distribution Inc.","4240","Provision for Rate Refunds",0,0,0,null,null,null,"Thunder Bay Hydro Electricity Distribution Inc. 4240"]
["Thunder Bay Hydro Electricity Distribution Inc. 4245","Thunder Bay Hydro Electricity Distribution Inc.","4245","Government and Other Assistance Directly Credited to Income",0,0,0,null,null,null,"Thunder Bay Hydro Electricity Distribution Inc. 4245"]
["Thunder Bay Hydro Electricity Distribution Inc. 4305","Thunder Bay Hydro Electricity Distribution Inc.","4305","Regulatory Debits",0,0,0,null,null,null,"Thunder Bay Hydro Electricity Distribution Inc. 4305"]
["Thunder Bay Hydro Electricity Distribution Inc. 4310","Thunder Bay Hydro Electricity Distribution Inc.","4310","Regulatory Credits",0,0,0,null,null,null,"Thunder Bay Hydro Electricity Distribution Inc. 4310"]
["Thunder Bay Hydro Electricity Distribution Inc. 4315","Thunder Bay Hydro Electricity Distribution Inc.","4315","Revenues from Electric Plant Leased to Others",0,0,0,null,null,null,"Thunder Bay Hydro Electricity Distribution Inc. 4315"]
["Thunder Bay Hydro Electricity Distribution Inc. 4320","Thunder Bay Hydro Electricity Distribution Inc.","4320","Expenses of Electric Plant Leased to Others",0,0,0,null,null,null,"Thunder Bay Hydro Electricity Distribution Inc. 4320"]
["Thunder Bay Hydro Electricity Distribution Inc. 4325","Thunder Bay Hydro Electricity Distribution Inc.","4325","Revenues from Merchandise",0,0,0,null,null,null,"Thunder Bay Hydro Electricity Distribution Inc. 4325"]
["Thunder Bay Hydro Electricity Distribution Inc. 4330","Thunder Bay Hydro Electricity Distribution Inc.","4330","Costs and Expenses of Merchandising",0,0,0,null,null,null,"Thunder Bay Hydro Electricity Distribution Inc. 4330"]
["Thunder Bay Hydro Electricity Distribution Inc. 4335","Thunder Bay Hydro Electricity Distribution Inc.","4335","Profits and Losses from Financial Instrument Hedges",0,0,0,null,null,null,"Thunder Bay Hydro Electricity Distribution Inc. 4335"]
["Thunder Bay Hydro Electricity Distribution Inc. 4340","Thunder Bay Hydro Electricity Distribution Inc.","4340","Profits and Losses from Financial Instrument Investments",0,0,0,null,null,null,"Thunder Bay Hydro Electricity Distribution Inc. 4340"]
["Thunder Bay Hydro Electricity Distribution Inc. 4345","Thunder Bay Hydro Electricity Distribution Inc.","4345","Gains from Disposition of Future Use Utility Plant",0,0,0,null,null,null,"Thunder Bay Hydro Electricity Distribution Inc. 4345"]
["Thunder Bay Hydro Electricity Distribution Inc. 4350","Thunder Bay Hydro Electricity Distribution Inc.","4350","Losses from Disposition of Future Use Utility Plant",0,0,0,null,null,null,"Thunder Bay Hydro Electricity Distribution Inc. 4350"]
["Thunder Bay Hydro Electricity Distribution Inc. 4355","Thunder Bay Hydro Electricity Distribution Inc.","4355","Gain on Disposition of Utility and Other Property",-8650,-22267.53,-130,null,null,null,"Thunder Bay Hydro Electricity Distribution Inc. 4355"]
["Thunder Bay Hydro Electricity Distribution Inc. 4357","Thunder Bay Hydro Electricity Distribution Inc.","4357","Gain from Retirement of Utility and Other Property",0,0,0,null,null,null,"Thunder Bay Hydro Electricity Distribution Inc. 4357"]
["Thunder Bay Hydro Electricity Distribution Inc. 4360","Thunder Bay Hydro Electricity Distribution Inc.","4360","Loss on Disposition of Utility and Other Property",510484.58,386126.62,174220.12,null,null,null,"Thunder Bay Hydro Electricity Distribution Inc. 4360"]
["Thunder Bay Hydro Electricity Distribution Inc. 4362","Thunder Bay Hydro Electricity Distribution Inc.","4362","Loss from Retirement of Utility and Other Property",0,0,0,null,null,null,"Thunder Bay Hydro Electricity Distribution Inc. 4362"]
["Thunder Bay Hydro Electricity Distribution Inc. 4365","Thunder Bay Hydro Electricity Distribution Inc.","4365","Gains from Disposition of Allowances for Emission",0,0,0,null,null,null,"Thunder Bay Hydro Electricity Distribution Inc. 4365"]
["Thunder Bay Hydro Electricity Distribution Inc. 4370","Thunder Bay Hydro Electricity Distribution Inc.","4370","Losses from Disposition of Allowances for Emission",0,0,0,null,null,null,"Thunder Bay Hydro Electricity Distribution Inc. 4370"]
["Thunder Bay Hydro Electricity Distribution Inc. 4375","Thunder Bay Hydro Electricity Distribution Inc.","4375","Revenues from Non Rate-Regulated Utility Operations",-3027945.92,-2997607.64,-3200002.81,null,null,null,"Thunder Bay Hydro Electricity Distribution Inc. 4375"]
["Thunder Bay Hydro Electricity Distribution Inc. 4375","Thunder Bay Hydro Electricity Distribution Inc.","4375","Sub-account Generation Facility Revenues",0,0,0,null,null,null,"Thunder Bay Hydro Electricity Distribution Inc. 4375"]
["Thunder Bay Hydro Electricity Distribution Inc. 4380","Thunder Bay Hydro Electricity Distribution Inc.","4380","Expenses of Non Rate-Regulated Utility Operations",2826044.76,2708972.07,2205618.36,null,null,null,"Thunder Bay Hydro Electricity Distribution Inc. 4380"]
["Thunder Bay Hydro Electricity Distribution Inc. 4380","Thunder Bay Hydro Electricity Distribution Inc.","4380","Sub-account Generation Facility Expenses",0,0,0,null,null,null,"Thunder Bay Hydro Electricity Distribution Inc. 4380"]
["Thunder Bay Hydro Electricity Distribution Inc. 4385","Thunder Bay Hydro Electricity Distribution Inc.","4385","Non Rate-Regulated Utility Rental Income",-15142.76,0,0,null,null,null,"Thunder Bay Hydro Electricity Distribution Inc. 4385"]
["Thunder Bay Hydro Electricity Distribution Inc. 4390","Thunder Bay Hydro Electricity Distribution Inc.","4390","Miscellaneous Non-Operating Income",-52503.42,-37967.81,-3329.85,null,null,null,"Thunder Bay Hydro Electricity Distribution Inc. 4390"]
["Thunder Bay Hydro Electricity Distribution Inc. 4395","Thunder Bay Hydro Electricity Distribution Inc.","4395","Rate-Payer Benefit Including Interest",0,0,0,null,null,null,"Thunder Bay Hydro Electricity Distribution Inc. 4395"]
["Thunder Bay Hydro Electricity Distribution Inc. 4398","Thunder Bay Hydro Electricity Distribution Inc.","4398","Foreign Exchange Gains and Losses, Including Amortization",0,0,0,null,null,null,"Thunder Bay Hydro Electricity Distribution Inc. 4398"]
["Thunder Bay Hydro Electricity Distribution Inc. 4405","Thunder Bay Hydro Electricity Distribution Inc.","4405","Interest and Dividend Income",-135192.46,-157533.51999999999,-171398,null,null,null,"Thunder Bay Hydro Electricity Distribution Inc. 4405"]
["Thunder Bay Hydro Electricity Distribution Inc. 4410","Thunder Bay Hydro Electricity Distribution Inc.","4410","Lessor's Net Investment in Finance Lease",0,0,0,null,null,null,"Thunder Bay Hydro Electricity Distribution Inc. 4410"]
["Thunder Bay Hydro Electricity Distribution Inc. 4415","Thunder Bay Hydro Electricity Distribution Inc.","4415","Equity in Earnings of Subsidiary Companies",0,0,0,null,null,null,"Thunder Bay Hydro Electricity Distribution Inc. 4415"]
["Thunder Bay Hydro Electricity Distribution Inc. 4420","Thunder Bay Hydro Electricity Distribution Inc.","4420","Share of Profit or Loss of Joint Venture",0,0,0,null,null,null,"Thunder Bay Hydro Electricity Distribution Inc. 4420"]
["Thunder Bay Hydro Electricity Distribution Inc. Total ","Thunder Bay Hydro Electricity Distribution Inc. Total",null,null,-961484.28,-1369194.34,-2291613.35,null,null,null,"Thunder Bay Hydro Electricity Distribution Inc. Total "]
["Tillsonburg Hydro Inc. 4082","Tillsonburg Hydro Inc.","4082","Retail Services Revenues",-11445.2,-8343.5,-6771.1,-10381.700000000001,-13962.41,null,"Tillsonburg Hydro Inc. 4082"]
["Tillsonburg Hydro Inc. 4084","Tillsonburg Hydro Inc.","4084","Service Transaction Requests (STR) Revenues",-134.75,-197.25,-45.25,-56,-64.2,null,"Tillsonburg Hydro Inc. 4084"]
["Tillsonburg Hydro Inc. 4086","Tillsonburg Hydro Inc.","4086","SSS Administration Revenue",-19990.419999999998,-20643.86,-20926.849999999999,0,0,null,"Tillsonburg Hydro Inc. 4086"]
["Tillsonburg Hydro Inc. 4090","Tillsonburg Hydro Inc.","4090","Electric Services Incidental to Energy Sales",0,0,0,0,0,null,"Tillsonburg Hydro Inc. 4090"]
["Tillsonburg Hydro Inc. 4205","Tillsonburg Hydro Inc.","4205","Interdepartmental Rents",0,0,0,0,0,null,"Tillsonburg Hydro Inc. 4205"]
["Tillsonburg Hydro Inc. 4210","Tillsonburg Hydro Inc.","4210","Rent from Electric Property",0,0,-71174.55,-24875.55,-24875.55,null,"Tillsonburg Hydro Inc. 4210"]
["Tillsonburg Hydro Inc. 4215","Tillsonburg Hydro Inc.","4215","Other Utility Operating Income",0,0,0,0,0,null,"Tillsonburg Hydro Inc. 4215"]
["Tillsonburg Hydro Inc. 4220","Tillsonburg Hydro Inc.","4220","Other Electric Revenues",0,0,-3856.05,-2559.19,-18168.52,null,"Tillsonburg Hydro Inc. 4220"]
["Tillsonburg Hydro Inc. 4225","Tillsonburg Hydro Inc.","4225","Late Payment Charges",-21805.19,-19918.23,-18494.28,-21511.42,-18671.78,null,"Tillsonburg Hydro Inc. 4225"]
["Tillsonburg Hydro Inc. 4230","Tillsonburg Hydro Inc.","4230","Sales of Water and Water Power",0,0,0,0,0,null,"Tillsonburg Hydro Inc. 4230"]
["Tillsonburg Hydro Inc. 4235","Tillsonburg Hydro Inc.","4235","Miscellaneous Service Revenues",-112198.84,-100382.92,-74821.23,-77983.02,-79798.23,null,"Tillsonburg Hydro Inc. 4235"]
["Tillsonburg Hydro Inc. 4240","Tillsonburg Hydro Inc.","4240","Provision for Rate Refunds",0,0,0,0,0,null,"Tillsonburg Hydro Inc. 4240"]
["Tillsonburg Hydro Inc. 4245","Tillsonburg Hydro Inc.","4245","Government and Other Assistance Directly Credited to Income",-71107.320000000007,-77405.48,-83887.82,-92096.21,-104345.27,null,"Tillsonburg Hydro Inc. 4245"]
["Tillsonburg Hydro Inc. 4305","Tillsonburg Hydro Inc.","4305","Regulatory Debits",0,0,0,0,0,null,"Tillsonburg Hydro Inc. 4305"]
["Tillsonburg Hydro Inc. 4310","Tillsonburg Hydro Inc.","4310","Regulatory Credits",0,0,0,0,0,null,"Tillsonburg Hydro Inc. 4310"]
["Tillsonburg Hydro Inc. 4315","Tillsonburg Hydro Inc.","4315","Revenues from Electric Plant Leased to Others",0,0,0,0,0,null,"Tillsonburg Hydro Inc. 4315"]
["Tillsonburg Hydro Inc. 4320","Tillsonburg Hydro Inc.","4320","Expenses of Electric Plant Leased to Others",0,0,0,0,0,null,"Tillsonburg Hydro Inc. 4320"]
["Tillsonburg Hydro Inc. 4325","Tillsonburg Hydro Inc.","4325","Revenues from Merchandise",0,0,0,0,0,null,"Tillsonburg Hydro Inc. 4325"]
["Tillsonburg Hydro Inc. 4330","Tillsonburg Hydro Inc.","4330","Costs and Expenses of Merchandising",0,0,0,0,0,null,"Tillsonburg Hydro Inc. 4330"]
["Tillsonburg Hydro Inc. 4335","Tillsonburg Hydro Inc.","4335","Profits and Losses from Financial Instrument Hedges",0,0,0,0,0,null,"Tillsonburg Hydro Inc. 4335"]
["Tillsonburg Hydro Inc. 4340","Tillsonburg Hydro Inc.","4340","Profits and Losses from Financial Instrument Investments",0,0,0,0,0,null,"Tillsonburg Hydro Inc. 4340"]
["Tillsonburg Hydro Inc. 4345","Tillsonburg Hydro Inc.","4345","Gains from Disposition of Future Use Utility Plant",0,0,0,0,0,null,"Tillsonburg Hydro Inc. 4345"]
["Tillsonburg Hydro Inc. 4350","Tillsonburg Hydro Inc.","4350","Losses from Disposition of Future Use Utility Plant",0,0,0,0,0,null,"Tillsonburg Hydro Inc. 4350"]
["Tillsonburg Hydro Inc. 4355","Tillsonburg Hydro Inc.","4355","Gain on Disposition of Utility and Other Property",7760.97,0,0,0,0,null,"Tillsonburg Hydro Inc. 4355"]
["Tillsonburg Hydro Inc. 4357","Tillsonburg Hydro Inc.","4357","Gain from Retirement of Utility and Other Property",0,0,0,0,0,null,{"$f":"B2694 & \" \" &C2694","v":"Tillsonburg Hydro Inc. 4357"}]
["Tillsonburg Hydro Inc. 4360","Tillsonburg Hydro Inc.","4360","Loss on Disposition of Utility and Other Property",0,26384.240000000002,2199.46,6187,0,null,"Tillsonburg Hydro Inc. 4360"]
["Tillsonburg Hydro Inc. 4362","Tillsonburg Hydro Inc.","4362","Loss from Retirement of Utility and Other Property",0,0,0,0,0,null,"Tillsonburg Hydro Inc. 4362"]
["Tillsonburg Hydro Inc. 4365","Tillsonburg Hydro Inc.","4365","Gains from Disposition of Allowances for Emission",0,0,0,0,0,null,"Tillsonburg Hydro Inc. 4365"]
["Tillsonburg Hydro Inc. 4370","Tillsonburg Hydro Inc.","4370","Losses from Disposition of Allowances for Emission",0,0,0,0,0,null,"Tillsonburg Hydro Inc. 4370"]
["Tillsonburg Hydro Inc. 4375","Tillsonburg Hydro Inc.","4375","Revenues from Non Rate-Regulated Utility Operations",-697686.33,-20451.560000000001,-123683.12,-20399.939999999999,-16786.75,null,"Tillsonburg Hydro Inc. 4375"]
["Tillsonburg Hydro Inc. 4375","Tillsonburg Hydro Inc.","4375","Sub-account Generation Facility Revenues",0,0,0,0,0,null,"Tillsonburg Hydro Inc. 4375"]
["Tillsonburg Hydro Inc. 4380","Tillsonburg Hydro Inc.","4380","Expenses of Non Rate-Regulated Utility Operations",679468.09,30817.52,21775.61,15103.64,26945.37,null,"Tillsonburg Hydro Inc. 4380"]
["Tillsonburg Hydro Inc. 4380","Tillsonburg Hydro Inc.","4380","Sub-account Generation Facility Expenses",0,0,0,0,0,null,"Tillsonburg Hydro Inc. 4380"]
["Tillsonburg Hydro Inc. 4385","Tillsonburg Hydro Inc.","4385","Non Rate-Regulated Utility Rental Income",0,0,0,0,0,null,"Tillsonburg Hydro Inc. 4385"]
["Tillsonburg Hydro Inc. 4390","Tillsonburg Hydro Inc.","4390","Miscellaneous Non-Operating Income",-21587.59,-10678.84,0,-30545.9,-2591.14,null,"Tillsonburg Hydro Inc. 4390"]
["Tillsonburg Hydro Inc. 4395","Tillsonburg Hydro Inc.","4395","Rate-Payer Benefit Including Interest",0,0,0,0,0,null,"Tillsonburg Hydro Inc. 4395"]
["Tillsonburg Hydro Inc. 4398","Tillsonburg Hydro Inc.","4398","Foreign Exchange Gains and Losses, Including Amortization",0,0,0,0,0,null,"Tillsonburg Hydro Inc. 4398"]
["Tillsonburg Hydro Inc. 4405","Tillsonburg Hydro Inc.","4405","Interest and Dividend Income",-22397.5,-16624.82,-28466.77,-30663.39,-16518.11,null,"Tillsonburg Hydro Inc. 4405"]
["Tillsonburg Hydro Inc. 4410","Tillsonburg Hydro Inc.","4410","Lessor's Net Investment in Finance Lease",0,0,0,0,0,null,"Tillsonburg Hydro Inc. 4410"]
["Tillsonburg Hydro Inc. 4415","Tillsonburg Hydro Inc.","4415","Equity in Earnings of Subsidiary Companies",0,0,0,0,0,null,"Tillsonburg Hydro Inc. 4415"]
["Tillsonburg Hydro Inc. 4420","Tillsonburg Hydro Inc.","4420","Share of Profit or Loss of Joint Venture",0,0,0,0,0,null,"Tillsonburg Hydro Inc. 4420"]
["Tillsonburg Hydro Inc. Total ","Tillsonburg Hydro Inc. Total",null,null,-291124.08,-217444.7,-408151.95,-289781.68,-268836.59000000003,null,"Tillsonburg Hydro Inc. Total "]
["Toronto Hydro-Electric System Limited 4082","Toronto Hydro-Electric System Limited","4082","Retail Services Revenues",-347875.3,-289665.59999999998,-238363.6,-320958.2,-360129.52,null,"Toronto Hydro-Electric System Limited 4082"]
["Toronto Hydro-Electric System Limited 4084","Toronto Hydro-Electric System Limited","4084","Service Transaction Requests (STR) Revenues",-18378.25,-14834.5,-11491.75,-16230.25,-13589.58,null,"Toronto Hydro-Electric System Limited 4084"]
["Toronto Hydro-Electric System Limited 4086","Toronto Hydro-Electric System Limited","4086","SSS Administration Revenue",-2317538.7400000002,-2269960.0299999998,-2313557.5699999998,-2352893.75,-2365454.59,null,"Toronto Hydro-Electric System Limited 4086"]
["Toronto Hydro-Electric System Limited 4090","Toronto Hydro-Electric System Limited","4090","Electric Services Incidental to Energy Sales",0,0,0,0,0,null,"Toronto Hydro-Electric System Limited 4090"]
["Toronto Hydro-Electric System Limited 4205","Toronto Hydro-Electric System Limited","4205","Interdepartmental Rents",0,0,0,0,0,null,"Toronto Hydro-Electric System Limited 4205"]
["Toronto Hydro-Electric System Limited 4210","Toronto Hydro-Electric System Limited","4210","Rent from Electric Property",-11868495.869999999,-14763363.77,-15325971.75,-14838726.119999999,-15699035.15,null,"Toronto Hydro-Electric System Limited 4210"]
["Toronto Hydro-Electric System Limited 4215","Toronto Hydro-Electric System Limited","4215","Other Utility Operating Income",-1102336.8799999999,-1564163.62,-1106826.07,-627039.9,-668539.75,null,"Toronto Hydro-Electric System Limited 4215"]
["Toronto Hydro-Electric System Limited 4220","Toronto Hydro-Electric System Limited","4220","Other Electric Revenues",-8200259.46,-9229601.0899999999,-8035738.8099999996,-6536128.1500000004,-6903518.3099999996,null,"Toronto Hydro-Electric System Limited 4220"]
["Toronto Hydro-Electric System Limited 4225","Toronto Hydro-Electric System Limited","4225","Late Payment Charges",-4540397.71,-3696195.82,-3323432.67,-3272741.5,-2080398.57,null,"Toronto Hydro-Electric System Limited 4225"]
["Toronto Hydro-Electric System Limited 4230","Toronto Hydro-Electric System Limited","4230","Sales of Water and Water Power",0,0,0,0,0,null,"Toronto Hydro-Electric System Limited 4230"]
["Toronto Hydro-Electric System Limited 4235","Toronto Hydro-Electric System Limited","4235","Miscellaneous Service Revenues",-9496222.6500000004,-7179527.6600000001,-5961505.25,-4337843.5999999996,-2757785.75,null,"Toronto Hydro-Electric System Limited 4235"]
["Toronto Hydro-Electric System Limited 4240","Toronto Hydro-Electric System Limited","4240","Provision for Rate Refunds",0,0,0,0,0,null,"Toronto Hydro-Electric System Limited 4240"]
["Toronto Hydro-Electric System Limited 4245","Toronto Hydro-Electric System Limited","4245","Government and Other Assistance Directly Credited to Income",-3765318.13,-4710955.18,-5263536.82,-5856131.9699999997,-8153454.1799999997,null,"Toronto Hydro-Electric System Limited 4245"]
["Toronto Hydro-Electric System Limited 4305","Toronto Hydro-Electric System Limited","4305","Regulatory Debits",0,0,0,0,0,null,"Toronto Hydro-Electric System Limited 4305"]
["Toronto Hydro-Electric System Limited 4310","Toronto Hydro-Electric System Limited","4310","Regulatory Credits",-5179079.28,-6583042.6200000001,-6740859.8899999997,-6617193.3200000003,0,null,"Toronto Hydro-Electric System Limited 4310"]
["Toronto Hydro-Electric System Limited 4315","Toronto Hydro-Electric System Limited","4315","Revenues from Electric Plant Leased to Others",0,0,0,0,0,null,"Toronto Hydro-Electric System Limited 4315"]
["Toronto Hydro-Electric System Limited 4320","Toronto Hydro-Electric System Limited","4320","Expenses of Electric Plant Leased to Others",0,0,0,0,0,null,"Toronto Hydro-Electric System Limited 4320"]
["Toronto Hydro-Electric System Limited 4325","Toronto Hydro-Electric System Limited","4325","Revenues from Merchandise",-20950567.620000001,-31227688.489999998,-32130502.390000001,-32351968.129999999,-33056497.510000002,null,"Toronto Hydro-Electric System Limited 4325"]
["Toronto Hydro-Electric System Limited 4330","Toronto Hydro-Electric System Limited","4330","Costs and Expenses of Merchandising",19805703.66,29913621.390000001,27406949.260000002,22853105.870000001,25024784.100000001,null,"Toronto Hydro-Electric System Limited 4330"]
["Toronto Hydro-Electric System Limited 4335","Toronto Hydro-Electric System Limited","4335","Profits and Losses from Financial Instrument Hedges",0,0,0,0,0,null,"Toronto Hydro-Electric System Limited 4335"]
["Toronto Hydro-Electric System Limited 4340","Toronto Hydro-Electric System Limited","4340","Profits and Losses from Financial Instrument Investments",0,0,0,0,0,null,"Toronto Hydro-Electric System Limited 4340"]
["Toronto Hydro-Electric System Limited 4345","Toronto Hydro-Electric System Limited","4345","Gains from Disposition of Future Use Utility Plant",0,0,0,0,0,null,"Toronto Hydro-Electric System Limited 4345"]
["Toronto Hydro-Electric System Limited 4350","Toronto Hydro-Electric System Limited","4350","Losses from Disposition of Future Use Utility Plant",0,0,0,0,0,null,"Toronto Hydro-Electric System Limited 4350"]
["Toronto Hydro-Electric System Limited 4355","Toronto Hydro-Electric System Limited","4355","Gain on Disposition of Utility and Other Property",-2132159.61,-515157.5,-576204.93999999994,-2244598.2400000002,-493255.27,null,"Toronto Hydro-Electric System Limited 4355"]
["Toronto Hydro-Electric System Limited 4357","Toronto Hydro-Electric System Limited","4357","Gain from Retirement of Utility and Other Property",0,0,0,0,0,null,"Toronto Hydro-Electric System Limited 4357"]
["Toronto Hydro-Electric System Limited 4360","Toronto Hydro-Electric System Limited","4360","Loss on Disposition of Utility and Other Property",0,0,0,0,0,null,"Toronto Hydro-Electric System Limited 4360"]
["Toronto Hydro-Electric System Limited 4362","Toronto Hydro-Electric System Limited","4362","Loss from Retirement of Utility and Other Property",0,0,0,0,0,null,"Toronto Hydro-Electric System Limited 4362"]
["Toronto Hydro-Electric System Limited 4365","Toronto Hydro-Electric System Limited","4365","Gains from Disposition of Allowances for Emission",0,0,0,0,0,null,"Toronto Hydro-Electric System Limited 4365"]
["Toronto Hydro-Electric System Limited 4370","Toronto Hydro-Electric System Limited","4370","Losses from Disposition of Allowances for Emission",0,0,0,0,0,null,"Toronto Hydro-Electric System Limited 4370"]
["Toronto Hydro-Electric System Limited 4375","Toronto Hydro-Electric System Limited","4375","Revenues from Non Rate-Regulated Utility Operations",-3212613.1,-4829010.01,-5670326.5999999996,-4130908.61,-3823640.39,null,"Toronto Hydro-Electric System Limited 4375"]
["Toronto Hydro-Electric System Limited 4375","Toronto Hydro-Electric System Limited","4375","Sub-account Generation Facility Revenues",0,0,0,0,0,null,"Toronto Hydro-Electric System Limited 4375"]
["Toronto Hydro-Electric System Limited 4380","Toronto Hydro-Electric System Limited","4380","Expenses of Non Rate-Regulated Utility Operations",3486726.49,5282483.84,6383822.7800000003,4688365.32,5359606.34,null,"Toronto Hydro-Electric System Limited 4380"]
["Toronto Hydro-Electric System Limited 4380","Toronto Hydro-Electric System Limited","4380","Sub-account Generation Facility Expenses",0,0,0,0,0,null,"Toronto Hydro-Electric System Limited 4380"]
["Toronto Hydro-Electric System Limited 4385","Toronto Hydro-Electric System Limited","4385","Non Rate-Regulated Utility Rental Income",0,0,0,0,0,null,"Toronto Hydro-Electric System Limited 4385"]
["Toronto Hydro-Electric System Limited 4390","Toronto Hydro-Electric System Limited","4390","Miscellaneous Non-Operating Income",0,0,0,-546269.24,-98136.89,null,"Toronto Hydro-Electric System Limited 4390"]
["Toronto Hydro-Electric System Limited 4395","Toronto Hydro-Electric System Limited","4395","Rate-Payer Benefit Including Interest",0,0,0,0,0,null,"Toronto Hydro-Electric System Limited 4395"]
["Toronto Hydro-Electric System Limited 4398","Toronto Hydro-Electric System Limited","4398","Foreign Exchange Gains and Losses, Including Amortization",-162382.76,-54783.97,128336.34,67753.94,207044.1,null,"Toronto Hydro-Electric System Limited 4398"]
["Toronto Hydro-Electric System Limited 4405","Toronto Hydro-Electric System Limited","4405","Interest and Dividend Income",-186387.64,-9.06,0,-68609.320000000007,-28346.33,null,"Toronto Hydro-Electric System Limited 4405"]
["Toronto Hydro-Electric System Limited 4410","Toronto Hydro-Electric System Limited","4410","Lessor's Net Investment in Finance Lease",0,0,0,0,0,null,"Toronto Hydro-Electric System Limited 4410"]
["Toronto Hydro-Electric System Limited 4415","Toronto Hydro-Electric System Limited","4415","Equity in Earnings of Subsidiary Companies",0,0,0,0,0,null,"Toronto Hydro-Electric System Limited 4415"]
["Toronto Hydro-Electric System Limited 4420","Toronto Hydro-Electric System Limited","4420","Share of Profit or Loss of Joint Venture",0,0,0,0,0,null,"Toronto Hydro-Electric System Limited 4420"]
["Toronto Hydro-Electric System Limited Total ","Toronto Hydro-Electric System Limited Total",null,null,-50187582.850000001,-51731853.689999998,-52779209.729999997,-56509015.170000002,-45910347.25,null,"Toronto Hydro-Electric System Limited Total "]
["Veridian Connections Inc. 4082","Veridian Connections Inc.","4082","Retail Services Revenues",-17286,-16890,-18011,null,null,null,"Veridian Connections Inc. 4082"]
["Veridian Connections Inc. 4084","Veridian Connections Inc.","4084","Service Transaction Requests (STR) Revenues",-1935,-1086,-872,null,null,null,"Veridian Connections Inc. 4084"]
["Veridian Connections Inc. 4086","Veridian Connections Inc.","4086","SSS Administration Revenue",-426968,-415306,-421129,null,null,null,"Veridian Connections Inc. 4086"]
["Veridian Connections Inc. 4090","Veridian Connections Inc.","4090","Electric Services Incidental to Energy Sales",0,0,0,null,null,null,"Veridian Connections Inc. 4090"]
["Veridian Connections Inc. 4205","Veridian Connections Inc.","4205","Interdepartmental Rents",0,0,0,null,null,null,{"$f":"B2758 & \" \" &C2758","v":"Veridian Connections Inc. 4205"}]
["Veridian Connections Inc. 4210","Veridian Connections Inc.","4210","Rent from Electric Property",-486774,-493394,-509546,null,null,null,"Veridian Connections Inc. 4210"]
["Veridian Connections Inc. 4215","Veridian Connections Inc.","4215","Other Utility Operating Income",0,0,0,null,null,null,"Veridian Connections Inc. 4215"]
["Veridian Connections Inc. 4220","Veridian Connections Inc.","4220","Other Electric Revenues",0,0,0,null,null,null,"Veridian Connections Inc. 4220"]
["Veridian Connections Inc. 4225","Veridian Connections Inc.","4225","Late Payment Charges",-509977,-412715,-428419,null,null,null,"Veridian Connections Inc. 4225"]
["Veridian Connections Inc. 4230","Veridian Connections Inc.","4230","Sales of Water and Water Power",0,0,0,null,null,null,"Veridian Connections Inc. 4230"]
["Veridian Connections Inc. 4235","Veridian Connections Inc.","4235","Miscellaneous Service Revenues",-1815882,-1098430,-901020,null,null,null,"Veridian Connections Inc. 4235"]
["Veridian Connections Inc. 4240","Veridian Connections Inc.","4240","Provision for Rate Refunds",0,0,0,null,null,null,"Veridian Connections Inc. 4240"]
["Veridian Connections Inc. 4245","Veridian Connections Inc.","4245","Government and Other Assistance Directly Credited to Income",-317435,-457735,-561224,null,null,null,"Veridian Connections Inc. 4245"]
["Veridian Connections Inc. 4305","Veridian Connections Inc.","4305","Regulatory Debits",79734,75599,65558,null,null,null,"Veridian Connections Inc. 4305"]
["Veridian Connections Inc. 4310","Veridian Connections Inc.","4310","Regulatory Credits",-347138,-231116,-316822,null,null,null,"Veridian Connections Inc. 4310"]
["Veridian Connections Inc. 4315","Veridian Connections Inc.","4315","Revenues from Electric Plant Leased to Others",0,0,0,null,null,null,"Veridian Connections Inc. 4315"]
["Veridian Connections Inc. 4320","Veridian Connections Inc.","4320","Expenses of Electric Plant Leased to Others",0,0,0,null,null,null,"Veridian Connections Inc. 4320"]
["Veridian Connections Inc. 4325","Veridian Connections Inc.","4325","Revenues from Merchandise",-518666,-1035772,-1169094,null,null,null,"Veridian Connections Inc. 4325"]
["Veridian Connections Inc. 4330","Veridian Connections Inc.","4330","Costs and Expenses of Merchandising",494854,954886,1030806,null,null,null,"Veridian Connections Inc. 4330"]
["Veridian Connections Inc. 4335","Veridian Connections Inc.","4335","Profits and Losses from Financial Instrument Hedges",-49507,-85887,-50444,null,null,null,"Veridian Connections Inc. 4335"]
["Veridian Connections Inc. 4340","Veridian Connections Inc.","4340","Profits and Losses from Financial Instrument Investments",264433,-1629220,-470746,null,null,null,"Veridian Connections Inc. 4340"]
["Veridian Connections Inc. 4345","Veridian Connections Inc.","4345","Gains from Disposition of Future Use Utility Plant",0,0,0,null,null,null,"Veridian Connections Inc. 4345"]
["Veridian Connections Inc. 4350","Veridian Connections Inc.","4350","Losses from Disposition of Future Use Utility Plant",0,0,0,null,null,null,"Veridian Connections Inc. 4350"]
["Veridian Connections Inc. 4355","Veridian Connections Inc.","4355","Gain on Disposition of Utility and Other Property",-15537,-37584,-45228,null,null,null,"Veridian Connections Inc. 4355"]
["Veridian Connections Inc. 4357","Veridian Connections Inc.","4357","Gain from Retirement of Utility and Other Property",0,0,0,null,null,null,"Veridian Connections Inc. 4357"]
["Veridian Connections Inc. 4360","Veridian Connections Inc.","4360","Loss on Disposition of Utility and Other Property",0,0,0,null,null,null,"Veridian Connections Inc. 4360"]
["Veridian Connections Inc. 4362","Veridian Connections Inc.","4362","Loss from Retirement of Utility and Other Property",377529,231116,316822,null,null,null,"Veridian Connections Inc. 4362"]
["Veridian Connections Inc. 4365","Veridian Connections Inc.","4365","Gains from Disposition of Allowances for Emission",0,0,0,null,null,null,"Veridian Connections Inc. 4365"]
["Veridian Connections Inc. 4370","Veridian Connections Inc.","4370","Losses from Disposition of Allowances for Emission",0,0,0,null,null,null,"Veridian Connections Inc. 4370"]
["Veridian Connections Inc. 4375","Veridian Connections Inc.","4375","Revenues from Non Rate-Regulated Utility Operations",-6933349,-2184377,-6632144,null,null,null,"Veridian Connections Inc. 4375"]
["Veridian Connections Inc. 4375","Veridian Connections Inc.","4375","Sub-account Generation Facility Revenues",0,0,0,null,null,null,"Veridian Connections Inc. 4375"]
["Veridian Connections Inc. 4380","Veridian Connections Inc.","4380","Expenses of Non Rate-Regulated Utility Operations",6712862,2078678,8573272,null,null,null,"Veridian Connections Inc. 4380"]
["Veridian Connections Inc. 4380","Veridian Connections Inc.","4380","Sub-account Generation Facility Expenses",0,0,0,null,null,null,"Veridian Connections Inc. 4380"]
["Veridian Connections Inc. 4385","Veridian Connections Inc.","4385","Non Rate-Regulated Utility Rental Income",0,0,0,null,null,null,"Veridian Connections Inc. 4385"]
["Veridian Connections Inc. 4390","Veridian Connections Inc.","4390","Miscellaneous Non-Operating Income",-292028,-277923,-273483,null,null,null,"Veridian Connections Inc. 4390"]
["Veridian Connections Inc. 4395","Veridian Connections Inc.","4395","Rate-Payer Benefit Including Interest",0,0,0,null,null,null,"Veridian Connections Inc. 4395"]
["Veridian Connections Inc. 4398","Veridian Connections Inc.","4398","Foreign Exchange Gains and Losses, Including Amortization",7054,-2968,-26097,null,null,null,"Veridian Connections Inc. 4398"]
["Veridian Connections Inc. 4405","Veridian Connections Inc.","4405","Interest and Dividend Income",-162195,-237827,-279911,null,null,null,"Veridian Connections Inc. 4405"]
["Veridian Connections Inc. 4410","Veridian Connections Inc.","4410","Lessor's Net Investment in Finance Lease",0,0,0,null,null,null,"Veridian Connections Inc. 4410"]
["Veridian Connections Inc. 4415","Veridian Connections Inc.","4415","Equity in Earnings of Subsidiary Companies",0,0,0,null,null,null,"Veridian Connections Inc. 4415"]
["Veridian Connections Inc. 4420","Veridian Connections Inc.","4420","Share of Profit or Loss of Joint Venture",0,0,0,null,null,null,"Veridian Connections Inc. 4420"]
["Veridian Connections Inc. Total ","Veridian Connections Inc. Total",null,null,-3958211,-5277951,-2117732,null,null,null,"Veridian Connections Inc. Total "]
["Wasaga Distribution Inc. 4082","Wasaga Distribution Inc.","4082","Retail Services Revenues",-7690,-6498.8,-5962.8,-8985.7000000000007,-10525.32,null,"Wasaga Distribution Inc. 4082"]
["Wasaga Distribution Inc. 4084","Wasaga Distribution Inc.","4084","Service Transaction Requests (STR) Revenues",-245.25,-62.75,-35,-72.25,-44.76,null,"Wasaga Distribution Inc. 4084"]
["Wasaga Distribution Inc. 4086","Wasaga Distribution Inc.","4086","SSS Administration Revenue",-39444.46,-40332.620000000003,-41237.75,-41786.21,-42898.58,null,"Wasaga Distribution Inc. 4086"]
["Wasaga Distribution Inc. 4090","Wasaga Distribution Inc.","4090","Electric Services Incidental to Energy Sales",0,0,0,0,0,null,"Wasaga Distribution Inc. 4090"]
["Wasaga Distribution Inc. 4205","Wasaga Distribution Inc.","4205","Interdepartmental Rents",0,0,0,0,0,null,"Wasaga Distribution Inc. 4205"]
["Wasaga Distribution Inc. 4210","Wasaga Distribution Inc.","4210","Rent from Electric Property",-314425.71999999997,-329468.65000000002,-322477.15999999997,-325225.12,-323479.02,null,"Wasaga Distribution Inc. 4210"]
["Wasaga Distribution Inc. 4215","Wasaga Distribution Inc.","4215","Other Utility Operating Income",-6911.27,-3247.28,-3500,-1889.74,-2067.71,null,"Wasaga Distribution Inc. 4215"]
["Wasaga Distribution Inc. 4220","Wasaga Distribution Inc.","4220","Other Electric Revenues",0,0,0,0,0,null,"Wasaga Distribution Inc. 4220"]
["Wasaga Distribution Inc. 4225","Wasaga Distribution Inc.","4225","Late Payment Charges",-39409.089999999997,-34094.14,-32810.300000000003,-35444.92,-50318.6,null,"Wasaga Distribution Inc. 4225"]
["Wasaga Distribution Inc. 4230","Wasaga Distribution Inc.","4230","Sales of Water and Water Power",0,0,0,0,0,null,"Wasaga Distribution Inc. 4230"]
["Wasaga Distribution Inc. 4235","Wasaga Distribution Inc.","4235","Miscellaneous Service Revenues",-133018.79999999999,-98745,-83528.44,-59864.54,-67940.92,null,"Wasaga Distribution Inc. 4235"]
["Wasaga Distribution Inc. 4240","Wasaga Distribution Inc.","4240","Provision for Rate Refunds",0,0,0,0,0,null,"Wasaga Distribution Inc. 4240"]
["Wasaga Distribution Inc. 4245","Wasaga Distribution Inc.","4245","Government and Other Assistance Directly Credited to Income",0,0,0,0,0,null,"Wasaga Distribution Inc. 4245"]
["Wasaga Distribution Inc. 4305","Wasaga Distribution Inc.","4305","Regulatory Debits",0,0,0,0,0,null,"Wasaga Distribution Inc. 4305"]
["Wasaga Distribution Inc. 4310","Wasaga Distribution Inc.","4310","Regulatory Credits",0,0,0,0,0,null,"Wasaga Distribution Inc. 4310"]
["Wasaga Distribution Inc. 4315","Wasaga Distribution Inc.","4315","Revenues from Electric Plant Leased to Others",0,0,0,0,0,null,"Wasaga Distribution Inc. 4315"]
["Wasaga Distribution Inc. 4320","Wasaga Distribution Inc.","4320","Expenses of Electric Plant Leased to Others",0,0,0,0,0,null,"Wasaga Distribution Inc. 4320"]
["Wasaga Distribution Inc. 4325","Wasaga Distribution Inc.","4325","Revenues from Merchandise",0,0,0,0,0,null,"Wasaga Distribution Inc. 4325"]
["Wasaga Distribution Inc. 4330","Wasaga Distribution Inc.","4330","Costs and Expenses of Merchandising",0,0,0,0,0,null,"Wasaga Distribution Inc. 4330"]
["Wasaga Distribution Inc. 4335","Wasaga Distribution Inc.","4335","Profits and Losses from Financial Instrument Hedges",0,0,0,0,0,null,"Wasaga Distribution Inc. 4335"]
["Wasaga Distribution Inc. 4340","Wasaga Distribution Inc.","4340","Profits and Losses from Financial Instrument Investments",0,0,0,0,0,null,"Wasaga Distribution Inc. 4340"]
["Wasaga Distribution Inc. 4345","Wasaga Distribution Inc.","4345","Gains from Disposition of Future Use Utility Plant",0,0,0,0,0,null,"Wasaga Distribution Inc. 4345"]
["Wasaga Distribution Inc. 4350","Wasaga Distribution Inc.","4350","Losses from Disposition of Future Use Utility Plant",0,0,0,0,0,null,"Wasaga Distribution Inc. 4350"]
["Wasaga Distribution Inc. 4355","Wasaga Distribution Inc.","4355","Gain on Disposition of Utility and Other Property",-2353.75,0,-450,-4725,-29500,null,"Wasaga Distribution Inc. 4355"]
["Wasaga Distribution Inc. 4357","Wasaga Distribution Inc.","4357","Gain from Retirement of Utility and Other Property",0,0,0,0,0,null,"Wasaga Distribution Inc. 4357"]
["Wasaga Distribution Inc. 4360","Wasaga Distribution Inc.","4360","Loss on Disposition of Utility and Other Property",35157.31,23938.47,32030.18,18862.43,73203.75,null,"Wasaga Distribution Inc. 4360"]
["Wasaga Distribution Inc. 4362","Wasaga Distribution Inc.","4362","Loss from Retirement of Utility and Other Property",0,0,0,0,0,null,{"$f":"B2822 & \" \" &C2822","v":"Wasaga Distribution Inc. 4362"}]
["Wasaga Distribution Inc. 4365","Wasaga Distribution Inc.","4365","Gains from Disposition of Allowances for Emission",0,0,0,0,0,null,"Wasaga Distribution Inc. 4365"]
["Wasaga Distribution Inc. 4370","Wasaga Distribution Inc.","4370","Losses from Disposition of Allowances for Emission",0,0,0,0,0,null,"Wasaga Distribution Inc. 4370"]
["Wasaga Distribution Inc. 4375","Wasaga Distribution Inc.","4375","Revenues from Non Rate-Regulated Utility Operations",0,0,-180033.98,-125807.18,-99473.12,null,"Wasaga Distribution Inc. 4375"]
["Wasaga Distribution Inc. 4375","Wasaga Distribution Inc.","4375","Sub-account Generation Facility Revenues",0,0,0,0,0,null,"Wasaga Distribution Inc. 4375"]
["Wasaga Distribution Inc. 4380","Wasaga Distribution Inc.","4380","Expenses of Non Rate-Regulated Utility Operations",0,0,78368.42,81171.149999999994,57290.27,null,"Wasaga Distribution Inc. 4380"]
["Wasaga Distribution Inc. 4380","Wasaga Distribution Inc.","4380","Sub-account Generation Facility Expenses",0,0,0,0,0,null,"Wasaga Distribution Inc. 4380"]
["Wasaga Distribution Inc. 4385","Wasaga Distribution Inc.","4385","Non Rate-Regulated Utility Rental Income",0,0,0,0,0,null,"Wasaga Distribution Inc. 4385"]
["Wasaga Distribution Inc. 4390","Wasaga Distribution Inc.","4390","Miscellaneous Non-Operating Income",-1588.96,0,-717.93,-2170.5100000000002,-28236.98,null,"Wasaga Distribution Inc. 4390"]
["Wasaga Distribution Inc. 4395","Wasaga Distribution Inc.","4395","Rate-Payer Benefit Including Interest",0,0,0,0,0,null,"Wasaga Distribution Inc. 4395"]
["Wasaga Distribution Inc. 4398","Wasaga Distribution Inc.","4398","Foreign Exchange Gains and Losses, Including Amortization",0,0,0,0,0,null,"Wasaga Distribution Inc. 4398"]
["Wasaga Distribution Inc. 4405","Wasaga Distribution Inc.","4405","Interest and Dividend Income",-11037.74,-23648.16,-39809.86,-34783.43,-12136.15,null,"Wasaga Distribution Inc. 4405"]
["Wasaga Distribution Inc. 4410","Wasaga Distribution Inc.","4410","Lessor's Net Investment in Finance Lease",0,0,0,0,0,null,"Wasaga Distribution Inc. 4410"]
["Wasaga Distribution Inc. 4415","Wasaga Distribution Inc.","4415","Equity in Earnings of Subsidiary Companies",0,0,0,0,0,null,"Wasaga Distribution Inc. 4415"]
["Wasaga Distribution Inc. 4420","Wasaga Distribution Inc.","4420","Share of Profit or Loss of Joint Venture",0,0,0,0,0,null,"Wasaga Distribution Inc. 4420"]
["Wasaga Distribution Inc. Total ","Wasaga Distribution Inc. Total",null,null,-520967.73,-512158.93,-600164.62,-540721.02,-536127.14,null,"Wasaga Distribution Inc. Total "]
["Waterloo North Hydro Inc. 4082","Waterloo North Hydro Inc.","4082","Retail Services Revenues",-56603,-48776,-54417,-57302,-69793,null,"Waterloo North Hydro Inc. 4082"]
["Waterloo North Hydro Inc. 4084","Waterloo North Hydro Inc.","4084","Service Transaction Requests (STR) Revenues",28866,25036,26457,28651,34897,null,"Waterloo North Hydro Inc. 4084"]
["Waterloo North Hydro Inc. 4086","Waterloo North Hydro Inc.","4086","SSS Administration Revenue",-160364,-160567,-168054,-170109,-169882,null,"Waterloo North Hydro Inc. 4086"]
["Waterloo North Hydro Inc. 4090","Waterloo North Hydro Inc.","4090","Electric Services Incidental to Energy Sales",0,0,0,0,0,null,"Waterloo North Hydro Inc. 4090"]
["Waterloo North Hydro Inc. 4205","Waterloo North Hydro Inc.","4205","Interdepartmental Rents",0,0,0,0,0,null,"Waterloo North Hydro Inc. 4205"]
["Waterloo North Hydro Inc. 4210","Waterloo North Hydro Inc.","4210","Rent from Electric Property",-259370,-264430,-277568,-284725,-279413,null,"Waterloo North Hydro Inc. 4210"]
["Waterloo North Hydro Inc. 4215","Waterloo North Hydro Inc.","4215","Other Utility Operating Income",0,0,0,0,0,null,"Waterloo North Hydro Inc. 4215"]
["Waterloo North Hydro Inc. 4220","Waterloo North Hydro Inc.","4220","Other Electric Revenues",0,0,-2,-23,-198,null,"Waterloo North Hydro Inc. 4220"]
["Waterloo North Hydro Inc. 4225","Waterloo North Hydro Inc.","4225","Late Payment Charges",-271402,-149436,-139850,-139736,-156251,null,"Waterloo North Hydro Inc. 4225"]
["Waterloo North Hydro Inc. 4230","Waterloo North Hydro Inc.","4230","Sales of Water and Water Power",0,0,0,0,0,null,"Waterloo North Hydro Inc. 4230"]
["Waterloo North Hydro Inc. 4235","Waterloo North Hydro Inc.","4235","Miscellaneous Service Revenues",-372400,-359970,-403891,-325427,-353700,null,"Waterloo North Hydro Inc. 4235"]
["Waterloo North Hydro Inc. 4240","Waterloo North Hydro Inc.","4240","Provision for Rate Refunds",0,0,0,0,0,null,"Waterloo North Hydro Inc. 4240"]
["Waterloo North Hydro Inc. 4245","Waterloo North Hydro Inc.","4245","Government and Other Assistance Directly Credited to Income",-482437,-598687,-673002,-725656,-791716,null,"Waterloo North Hydro Inc. 4245"]
["Waterloo North Hydro Inc. 4305","Waterloo North Hydro Inc.","4305","Regulatory Debits",0,0,0,0,0,null,"Waterloo North Hydro Inc. 4305"]
["Waterloo North Hydro Inc. 4310","Waterloo North Hydro Inc.","4310","Regulatory Credits",0,0,0,0,0,null,"Waterloo North Hydro Inc. 4310"]
["Waterloo North Hydro Inc. 4315","Waterloo North Hydro Inc.","4315","Revenues from Electric Plant Leased to Others",0,0,0,0,0,null,"Waterloo North Hydro Inc. 4315"]
["Waterloo North Hydro Inc. 4320","Waterloo North Hydro Inc.","4320","Expenses of Electric Plant Leased to Others",0,0,0,0,0,null,"Waterloo North Hydro Inc. 4320"]
["Waterloo North Hydro Inc. 4325","Waterloo North Hydro Inc.","4325","Revenues from Merchandise",0,0,0,0,0,null,"Waterloo North Hydro Inc. 4325"]
["Waterloo North Hydro Inc. 4330","Waterloo North Hydro Inc.","4330","Costs and Expenses of Merchandising",0,0,0,0,0,null,"Waterloo North Hydro Inc. 4330"]
["Waterloo North Hydro Inc. 4335","Waterloo North Hydro Inc.","4335","Profits and Losses from Financial Instrument Hedges",-963028,-2485079,-429267,1493869,5643429,null,"Waterloo North Hydro Inc. 4335"]
["Waterloo North Hydro Inc. 4340","Waterloo North Hydro Inc.","4340","Profits and Losses from Financial Instrument Investments",0,0,0,0,0,null,"Waterloo North Hydro Inc. 4340"]
["Waterloo North Hydro Inc. 4345","Waterloo North Hydro Inc.","4345","Gains from Disposition of Future Use Utility Plant",0,0,0,0,0,null,"Waterloo North Hydro Inc. 4345"]
["Waterloo North Hydro Inc. 4350","Waterloo North Hydro Inc.","4350","Losses from Disposition of Future Use Utility Plant",0,0,0,0,0,null,"Waterloo North Hydro Inc. 4350"]
["Waterloo North Hydro Inc. 4355","Waterloo North Hydro Inc.","4355","Gain on Disposition of Utility and Other Property",29382,-8592,-72578,54685,0,null,"Waterloo North Hydro Inc. 4355"]
["Waterloo North Hydro Inc. 4357","Waterloo North Hydro Inc.","4357","Gain from Retirement of Utility and Other Property",0,0,0,0,0,null,"Waterloo North Hydro Inc. 4357"]
["Waterloo North Hydro Inc. 4360","Waterloo North Hydro Inc.","4360","Loss on Disposition of Utility and Other Property",14796,13675,0,0,50762,null,"Waterloo North Hydro Inc. 4360"]
["Waterloo North Hydro Inc. 4362","Waterloo North Hydro Inc.","4362","Loss from Retirement of Utility and Other Property",0,0,0,0,0,null,"Waterloo North Hydro Inc. 4362"]
["Waterloo North Hydro Inc. 4365","Waterloo North Hydro Inc.","4365","Gains from Disposition of Allowances for Emission",0,0,0,0,0,null,"Waterloo North Hydro Inc. 4365"]
["Waterloo North Hydro Inc. 4370","Waterloo North Hydro Inc.","4370","Losses from Disposition of Allowances for Emission",0,0,0,0,0,null,"Waterloo North Hydro Inc. 4370"]
["Waterloo North Hydro Inc. 4375","Waterloo North Hydro Inc.","4375","Revenues from Non Rate-Regulated Utility Operations",-3872183,-6419050,-8666881,-11420249,-12760747,null,"Waterloo North Hydro Inc. 4375"]
["Waterloo North Hydro Inc. 4375","Waterloo North Hydro Inc.","4375","Sub-account Generation Facility Revenues",0,0,0,0,0,null,{"$f":"B2868 & \" \" &C2868","v":"Waterloo North Hydro Inc. 4375"}]
["Waterloo North Hydro Inc. 4380","Waterloo North Hydro Inc.","4380","Expenses of Non Rate-Regulated Utility Operations",3809120,6355377,8064916,11385858,12741577,null,"Waterloo North Hydro Inc. 4380"]
["Waterloo North Hydro Inc. 4380","Waterloo North Hydro Inc.","4380","Sub-account Generation Facility Expenses",0,0,0,0,0,null,"Waterloo North Hydro Inc. 4380"]
["Waterloo North Hydro Inc. 4385","Waterloo North Hydro Inc.","4385","Non Rate-Regulated Utility Rental Income",0,0,0,0,0,null,"Waterloo North Hydro Inc. 4385"]
["Waterloo North Hydro Inc. 4390","Waterloo North Hydro Inc.","4390","Miscellaneous Non-Operating Income",-188802,-124925,-104609,-78149,-83910,null,"Waterloo North Hydro Inc. 4390"]
["Waterloo North Hydro Inc. 4395","Waterloo North Hydro Inc.","4395","Rate-Payer Benefit Including Interest",0,0,0,0,0,null,"Waterloo North Hydro Inc. 4395"]
["Waterloo North Hydro Inc. 4398","Waterloo North Hydro Inc.","4398","Foreign Exchange Gains and Losses, Including Amortization",0,0,0,0,0,null,"Waterloo North Hydro Inc. 4398"]
["Waterloo North Hydro Inc. 4405","Waterloo North Hydro Inc.","4405","Interest and Dividend Income",-71229,-51816,-173898,-133723,-90530,null,"Waterloo North Hydro Inc. 4405"]
["Waterloo North Hydro Inc. 4410","Waterloo North Hydro Inc.","4410","Lessor's Net Investment in Finance Lease",0,0,0,0,0,null,"Waterloo North Hydro Inc. 4410"]
["Waterloo North Hydro Inc. 4415","Waterloo North Hydro Inc.","4415","Equity in Earnings of Subsidiary Companies",0,0,0,0,0,null,"Waterloo North Hydro Inc. 4415"]
["Waterloo North Hydro Inc. 4420","Waterloo North Hydro Inc.","4420","Share of Profit or Loss of Joint Venture",0,0,0,0,0,null,"Waterloo North Hydro Inc. 4420"]
["Waterloo North Hydro Inc. Total ","Waterloo North Hydro Inc. Total",null,null,-2815654,-4277240,-3072644,-372036,3714525,null,"Waterloo North Hydro Inc. Total "]
["Welland Hydro-Electric System Corp. 4082","Welland Hydro-Electric System Corp.","4082","Retail Services Revenues",-14840.8,-13136.6,-11073.5,-9752.1,-8601,null,"Welland Hydro-Electric System Corp. 4082"]
["Welland Hydro-Electric System Corp. 4084","Welland Hydro-Electric System Corp.","4084","Service Transaction Requests (STR) Revenues",-250.75,-169.25,-113.75,-142.5,-177.25,null,"Welland Hydro-Electric System Corp. 4084"]
["Welland Hydro-Electric System Corp. 4086","Welland Hydro-Electric System Corp.","4086","SSS Administration Revenue",-72294.41,-77540.070000000007,-83515.149999999994,-85077.96,-86157.4,null,"Welland Hydro-Electric System Corp. 4086"]
["Welland Hydro-Electric System Corp. 4090","Welland Hydro-Electric System Corp.","4090","Electric Services Incidental to Energy Sales",0,0,0,0,0,null,"Welland Hydro-Electric System Corp. 4090"]
["Welland Hydro-Electric System Corp. 4205","Welland Hydro-Electric System Corp.","4205","Interdepartmental Rents",0,0,0,0,0,null,"Welland Hydro-Electric System Corp. 4205"]
["Welland Hydro-Electric System Corp. 4210","Welland Hydro-Electric System Corp.","4210","Rent from Electric Property",-165334.39999999999,-165502.03,-177330.6,-208101.9,-179839.63,null,"Welland Hydro-Electric System Corp. 4210"]
["Welland Hydro-Electric System Corp. 4215","Welland Hydro-Electric System Corp.","4215","Other Utility Operating Income",0,0,0,0,0,null,"Welland Hydro-Electric System Corp. 4215"]
["Welland Hydro-Electric System Corp. 4220","Welland Hydro-Electric System Corp.","4220","Other Electric Revenues",0,0,0,0,0,null,"Welland Hydro-Electric System Corp. 4220"]
["Welland Hydro-Electric System Corp. 4225","Welland Hydro-Electric System Corp.","4225","Late Payment Charges",-77312.899999999994,-87563.51,-101837.67,-119799.81,-92830.85,null,"Welland Hydro-Electric System Corp. 4225"]
["Welland Hydro-Electric System Corp. 4230","Welland Hydro-Electric System Corp.","4230","Sales of Water and Water Power",0,0,0,0,0,null,"Welland Hydro-Electric System Corp. 4230"]
["Welland Hydro-Electric System Corp. 4235","Welland Hydro-Electric System Corp.","4235","Miscellaneous Service Revenues",-197742.73,-135668.71,-134017.32999999999,-146946.28,-142254.68,null,"Welland Hydro-Electric System Corp. 4235"]
["Welland Hydro-Electric System Corp. 4240","Welland Hydro-Electric System Corp.","4240","Provision for Rate Refunds",0,0,0,0,0,null,"Welland Hydro-Electric System Corp. 4240"]
["Welland Hydro-Electric System Corp. 4245","Welland Hydro-Electric System Corp.","4245","Government and Other Assistance Directly Credited to Income",0,0,0,0,0,null,"Welland Hydro-Electric System Corp. 4245"]
["Welland Hydro-Electric System Corp. 4305","Welland Hydro-Electric System Corp.","4305","Regulatory Debits",0,0,0,0,0,null,"Welland Hydro-Electric System Corp. 4305"]
["Welland Hydro-Electric System Corp. 4310","Welland Hydro-Electric System Corp.","4310","Regulatory Credits",-143352,-47821.5,0,0,0,null,"Welland Hydro-Electric System Corp. 4310"]
["Welland Hydro-Electric System Corp. 4315","Welland Hydro-Electric System Corp.","4315","Revenues from Electric Plant Leased to Others",0,0,0,0,0,null,"Welland Hydro-Electric System Corp. 4315"]
["Welland Hydro-Electric System Corp. 4320","Welland Hydro-Electric System Corp.","4320","Expenses of Electric Plant Leased to Others",0,0,0,0,0,null,"Welland Hydro-Electric System Corp. 4320"]
["Welland Hydro-Electric System Corp. 4325","Welland Hydro-Electric System Corp.","4325","Revenues from Merchandise",0,0,0,0,0,null,"Welland Hydro-Electric System Corp. 4325"]
["Welland Hydro-Electric System Corp. 4330","Welland Hydro-Electric System Corp.","4330","Costs and Expenses of Merchandising",0,0,0,0,0,null,"Welland Hydro-Electric System Corp. 4330"]
["Welland Hydro-Electric System Corp. 4335","Welland Hydro-Electric System Corp.","4335","Profits and Losses from Financial Instrument Hedges",0,0,0,0,0,null,"Welland Hydro-Electric System Corp. 4335"]
["Welland Hydro-Electric System Corp. 4340","Welland Hydro-Electric System Corp.","4340","Profits and Losses from Financial Instrument Investments",0,0,0,0,0,null,"Welland Hydro-Electric System Corp. 4340"]
["Welland Hydro-Electric System Corp. 4345","Welland Hydro-Electric System Corp.","4345","Gains from Disposition of Future Use Utility Plant",0,0,0,0,0,null,"Welland Hydro-Electric System Corp. 4345"]
["Welland Hydro-Electric System Corp. 4350","Welland Hydro-Electric System Corp.","4350","Losses from Disposition of Future Use Utility Plant",0,0,0,0,0,null,"Welland Hydro-Electric System Corp. 4350"]
["Welland Hydro-Electric System Corp. 4355","Welland Hydro-Electric System Corp.","4355","Gain on Disposition of Utility and Other Property",-7933.69,-16831.03,-3697.11,1593.68,0,null,"Welland Hydro-Electric System Corp. 4355"]
["Welland Hydro-Electric System Corp. 4357","Welland Hydro-Electric System Corp.","4357","Gain from Retirement of Utility and Other Property",0,0,0,0,0,null,"Welland Hydro-Electric System Corp. 4357"]
["Welland Hydro-Electric System Corp. 4360","Welland Hydro-Electric System Corp.","4360","Loss on Disposition of Utility and Other Property",0,0,0,0,7977.17,null,"Welland Hydro-Electric System Corp. 4360"]
["Welland Hydro-Electric System Corp. 4362","Welland Hydro-Electric System Corp.","4362","Loss from Retirement of Utility and Other Property",0,0,0,0,0,null,"Welland Hydro-Electric System Corp. 4362"]
["Welland Hydro-Electric System Corp. 4365","Welland Hydro-Electric System Corp.","4365","Gains from Disposition of Allowances for Emission",0,0,0,0,0,null,"Welland Hydro-Electric System Corp. 4365"]
["Welland Hydro-Electric System Corp. 4370","Welland Hydro-Electric System Corp.","4370","Losses from Disposition of Allowances for Emission",0,0,0,0,0,null,"Welland Hydro-Electric System Corp. 4370"]
["Welland Hydro-Electric System Corp. 4375","Welland Hydro-Electric System Corp.","4375","Revenues from Non Rate-Regulated Utility Operations",-44018.31,-86242.29,-139398.56,-115577.26,-74954.84,null,"Welland Hydro-Electric System Corp. 4375"]
["Welland Hydro-Electric System Corp. 4375","Welland Hydro-Electric System Corp.","4375","Sub-account Generation Facility Revenues",0,0,0,0,0,null,"Welland Hydro-Electric System Corp. 4375"]
["Welland Hydro-Electric System Corp. 4380","Welland Hydro-Electric System Corp.","4380","Expenses of Non Rate-Regulated Utility Operations",12373.66,27395.17,18461.66,12373.66,35853.57,null,"Welland Hydro-Electric System Corp. 4380"]
["Welland Hydro-Electric System Corp. 4380","Welland Hydro-Electric System Corp.","4380","Sub-account Generation Facility Expenses",0,0,0,0,0,null,"Welland Hydro-Electric System Corp. 4380"]
["Welland Hydro-Electric System Corp. 4385","Welland Hydro-Electric System Corp.","4385","Non Rate-Regulated Utility Rental Income",0,0,0,0,0,null,"Welland Hydro-Electric System Corp. 4385"]
["Welland Hydro-Electric System Corp. 4390","Welland Hydro-Electric System Corp.","4390","Miscellaneous Non-Operating Income",-33058.04,-44799.23,-33445.370000000003,-36345.61,-17496.53,null,"Welland Hydro-Electric System Corp. 4390"]
["Welland Hydro-Electric System Corp. 4395","Welland Hydro-Electric System Corp.","4395","Rate-Payer Benefit Including Interest",0,0,0,0,0,null,"Welland Hydro-Electric System Corp. 4395"]
["Welland Hydro-Electric System Corp. 4398","Welland Hydro-Electric System Corp.","4398","Foreign Exchange Gains and Losses, Including Amortization",0,0,0,0,0,null,"Welland Hydro-Electric System Corp. 4398"]
["Welland Hydro-Electric System Corp. 4405","Welland Hydro-Electric System Corp.","4405","Interest and Dividend Income",-24254.33,-30577.08,-45054.6,-44500.78,-21518.51,null,"Welland Hydro-Electric System Corp. 4405"]
["Welland Hydro-Electric System Corp. 4410","Welland Hydro-Electric System Corp.","4410","Lessor's Net Investment in Finance Lease",0,0,0,0,0,null,"Welland Hydro-Electric System Corp. 4410"]
["Welland Hydro-Electric System Corp. 4415","Welland Hydro-Electric System Corp.","4415","Equity in Earnings of Subsidiary Companies",0,0,0,0,0,null,"Welland Hydro-Electric System Corp. 4415"]
["Welland Hydro-Electric System Corp. 4420","Welland Hydro-Electric System Corp.","4420","Share of Profit or Loss of Joint Venture",0,0,0,0,0,null,"Welland Hydro-Electric System Corp. 4420"]
["Welland Hydro-Electric System Corp. Total ","Welland Hydro-Electric System Corp. Total",null,null,-768018.7,-678456.13,-711021.98,-752276.86,-579999.94999999995,null,"Welland Hydro-Electric System Corp. Total "]
["Wellington North Power Inc. 4082","Wellington North Power Inc.","4082","Retail Services Revenues",-5689.3,-5619.1,-5595.8,-7615.5,-8264.83,null,"Wellington North Power Inc. 4082"]
["Wellington North Power Inc. 4084","Wellington North Power Inc.","4084","Service Transaction Requests (STR) Revenues",-41,-37.75,-52.25,-220.75,-456.39,null,"Wellington North Power Inc. 4084"]
["Wellington North Power Inc. 4086","Wellington North Power Inc.","4086","SSS Administration Revenue",0,0,0,0,0,null,"Wellington North Power Inc. 4086"]
["Wellington North Power Inc. 4090","Wellington North Power Inc.","4090","Electric Services Incidental to Energy Sales",0,0,0,0,0,null,"Wellington North Power Inc. 4090"]
["Wellington North Power Inc. 4205","Wellington North Power Inc.","4205","Interdepartmental Rents",0,0,0,0,0,null,"Wellington North Power Inc. 4205"]
["Wellington North Power Inc. 4210","Wellington North Power Inc.","4210","Rent from Electric Property",-30420.46,-27938.37,-29624.44,-29224.7,-29163.15,null,"Wellington North Power Inc. 4210"]
["Wellington North Power Inc. 4215","Wellington North Power Inc.","4215","Other Utility Operating Income",0,0,0,0,0,null,"Wellington North Power Inc. 4215"]
["Wellington North Power Inc. 4220","Wellington North Power Inc.","4220","Other Electric Revenues",0,0,0,0,0,null,"Wellington North Power Inc. 4220"]
["Wellington North Power Inc. 4225","Wellington North Power Inc.","4225","Late Payment Charges",-32462.85,-25259.01,-26043.49,-26204.18,-22403.65,null,"Wellington North Power Inc. 4225"]
["Wellington North Power Inc. 4230","Wellington North Power Inc.","4230","Sales of Water and Water Power",0,0,0,0,0,null,"Wellington North Power Inc. 4230"]
["Wellington North Power Inc. 4235","Wellington North Power Inc.","4235","Miscellaneous Service Revenues",-65689.350000000006,-56991.4,-49669.38,-49666.19,-35941.79,null,{"$f":"B2932 & \" \" &C2932","v":"Wellington North Power Inc. 4235"}]
["Wellington North Power Inc. 4240","Wellington North Power Inc.","4240","Provision for Rate Refunds",0,0,0,0,0,null,"Wellington North Power Inc. 4240"]
["Wellington North Power Inc. 4245","Wellington North Power Inc.","4245","Government and Other Assistance Directly Credited to Income",-11709.67,-11854.1,-11854.1,-12503.01,-13437,null,"Wellington North Power Inc. 4245"]
["Wellington North Power Inc. 4305","Wellington North Power Inc.","4305","Regulatory Debits",0,0,0,0,0,null,"Wellington North Power Inc. 4305"]
["Wellington North Power Inc. 4310","Wellington North Power Inc.","4310","Regulatory Credits",0,0,0,0,0,null,"Wellington North Power Inc. 4310"]
["Wellington North Power Inc. 4315","Wellington North Power Inc.","4315","Revenues from Electric Plant Leased to Others",0,0,0,0,0,null,"Wellington North Power Inc. 4315"]
["Wellington North Power Inc. 4320","Wellington North Power Inc.","4320","Expenses of Electric Plant Leased to Others",0,0,0,0,0,null,"Wellington North Power Inc. 4320"]
["Wellington North Power Inc. 4325","Wellington North Power Inc.","4325","Revenues from Merchandise",0,0,0,0,0,null,"Wellington North Power Inc. 4325"]
["Wellington North Power Inc. 4330","Wellington North Power Inc.","4330","Costs and Expenses of Merchandising",0,0,0,0,0,null,"Wellington North Power Inc. 4330"]
["Wellington North Power Inc. 4335","Wellington North Power Inc.","4335","Profits and Losses from Financial Instrument Hedges",0,0,0,0,0,null,"Wellington North Power Inc. 4335"]
["Wellington North Power Inc. 4340","Wellington North Power Inc.","4340","Profits and Losses from Financial Instrument Investments",0,0,0,0,0,null,"Wellington North Power Inc. 4340"]
["Wellington North Power Inc. 4345","Wellington North Power Inc.","4345","Gains from Disposition of Future Use Utility Plant",0,0,0,0,0,null,"Wellington North Power Inc. 4345"]
["Wellington North Power Inc. 4350","Wellington North Power Inc.","4350","Losses from Disposition of Future Use Utility Plant",0,0,0,0,0,null,"Wellington North Power Inc. 4350"]
["Wellington North Power Inc. 4355","Wellington North Power Inc.","4355","Gain on Disposition of Utility and Other Property",0,-9862.83,-2497.5300000000002,-10000,0,null,"Wellington North Power Inc. 4355"]
["Wellington North Power Inc. 4357","Wellington North Power Inc.","4357","Gain from Retirement of Utility and Other Property",0,0,0,0,0,null,"Wellington North Power Inc. 4357"]
["Wellington North Power Inc. 4360","Wellington North Power Inc.","4360","Loss on Disposition of Utility and Other Property",20210.150000000001,17502.98,30374.86,51691.62,25505.99,null,"Wellington North Power Inc. 4360"]
["Wellington North Power Inc. 4362","Wellington North Power Inc.","4362","Loss from Retirement of Utility and Other Property",0,0,0,0,0,null,"Wellington North Power Inc. 4362"]
["Wellington North Power Inc. 4365","Wellington North Power Inc.","4365","Gains from Disposition of Allowances for Emission",0,0,0,0,0,null,"Wellington North Power Inc. 4365"]
["Wellington North Power Inc. 4370","Wellington North Power Inc.","4370","Losses from Disposition of Allowances for Emission",0,0,0,0,0,null,"Wellington North Power Inc. 4370"]
["Wellington North Power Inc. 4375","Wellington North Power Inc.","4375","Revenues from Non Rate-Regulated Utility Operations",-150225.56,-160998.95000000001,-181570.48,-537757.38,-188257.25,null,"Wellington North Power Inc. 4375"]
["Wellington North Power Inc. 4375","Wellington North Power Inc.","4375","Sub-account Generation Facility Revenues",0,0,0,0,0,null,"Wellington North Power Inc. 4375"]
["Wellington North Power Inc. 4380","Wellington North Power Inc.","4380","Expenses of Non Rate-Regulated Utility Operations",155562.79999999999,142554.23999999999,140574.23000000001,471517.26,152733.29999999999,null,"Wellington North Power Inc. 4380"]
["Wellington North Power Inc. 4380","Wellington North Power Inc.","4380","Sub-account Generation Facility Expenses",0,0,0,0,0,null,"Wellington North Power Inc. 4380"]
["Wellington North Power Inc. 4385","Wellington North Power Inc.","4385","Non Rate-Regulated Utility Rental Income",0,0,0,0,0,null,"Wellington North Power Inc. 4385"]
["Wellington North Power Inc. 4390","Wellington North Power Inc.","4390","Miscellaneous Non-Operating Income",-170,-470,-2786.7,-2750,-1588.44,null,"Wellington North Power Inc. 4390"]
["Wellington North Power Inc. 4395","Wellington North Power Inc.","4395","Rate-Payer Benefit Including Interest",0,0,0,0,0,null,"Wellington North Power Inc. 4395"]
["Wellington North Power Inc. 4398","Wellington North Power Inc.","4398","Foreign Exchange Gains and Losses, Including Amortization",0,0,0,0,0,null,"Wellington North Power Inc. 4398"]
["Wellington North Power Inc. 4405","Wellington North Power Inc.","4405","Interest and Dividend Income",-12121.89,-11923.76,-27582.38,-28105.45,-15734.65,null,"Wellington North Power Inc. 4405"]
["Wellington North Power Inc. 4410","Wellington North Power Inc.","4410","Lessor's Net Investment in Finance Lease",0,0,0,0,0,null,"Wellington North Power Inc. 4410"]
["Wellington North Power Inc. 4415","Wellington North Power Inc.","4415","Equity in Earnings of Subsidiary Companies",0,0,0,0,0,null,"Wellington North Power Inc. 4415"]
["Wellington North Power Inc. 4420","Wellington North Power Inc.","4420","Share of Profit or Loss of Joint Venture",0,0,0,0,0,null,"Wellington North Power Inc. 4420"]
["Wellington North Power Inc. Total ","Wellington North Power Inc. Total",null,null,-132757.13,-150898.04999999999,-166327.46,-180838.28,-137007.85999999999,null,"Wellington North Power Inc. Total "]
["West Coast Huron Energy Inc. 4082","West Coast Huron Energy Inc.","4082","Retail Services Revenues",-3640,-4240,-3820,null,null,null,"West Coast Huron Energy Inc. 4082"]
["West Coast Huron Energy Inc. 4084","West Coast Huron Energy Inc.","4084","Service Transaction Requests (STR) Revenues",-2364,-2312,-1842,null,null,null,"West Coast Huron Energy Inc. 4084"]
["West Coast Huron Energy Inc. 4086","West Coast Huron Energy Inc.","4086","SSS Administration Revenue",-11084,-11274,-11436,null,null,null,"West Coast Huron Energy Inc. 4086"]
["West Coast Huron Energy Inc. 4090","West Coast Huron Energy Inc.","4090","Electric Services Incidental to Energy Sales",0,0,0,null,null,null,"West Coast Huron Energy Inc. 4090"]
["West Coast Huron Energy Inc. 4205","West Coast Huron Energy Inc.","4205","Interdepartmental Rents",0,0,0,null,null,null,"West Coast Huron Energy Inc. 4205"]
["West Coast Huron Energy Inc. 4210","West Coast Huron Energy Inc.","4210","Rent from Electric Property",-16599,-14060,-4273,null,null,null,"West Coast Huron Energy Inc. 4210"]
["West Coast Huron Energy Inc. 4215","West Coast Huron Energy Inc.","4215","Other Utility Operating Income",0,0,0,null,null,null,"West Coast Huron Energy Inc. 4215"]
["West Coast Huron Energy Inc. 4220","West Coast Huron Energy Inc.","4220","Other Electric Revenues",0,0,0,null,null,null,"West Coast Huron Energy Inc. 4220"]
["West Coast Huron Energy Inc. 4225","West Coast Huron Energy Inc.","4225","Late Payment Charges",-11009,-10682,-7056,null,null,null,"West Coast Huron Energy Inc. 4225"]
["West Coast Huron Energy Inc. 4230","West Coast Huron Energy Inc.","4230","Sales of Water and Water Power",0,0,0,null,null,null,"West Coast Huron Energy Inc. 4230"]
["West Coast Huron Energy Inc. 4235","West Coast Huron Energy Inc.","4235","Miscellaneous Service Revenues",-21480,-21435,-17205,null,null,null,"West Coast Huron Energy Inc. 4235"]
["West Coast Huron Energy Inc. 4240","West Coast Huron Energy Inc.","4240","Provision for Rate Refunds",0,0,0,null,null,null,"West Coast Huron Energy Inc. 4240"]
["West Coast Huron Energy Inc. 4245","West Coast Huron Energy Inc.","4245","Government and Other Assistance Directly Credited to Income",-8899,-13063,-16891,null,null,null,"West Coast Huron Energy Inc. 4245"]
["West Coast Huron Energy Inc. 4305","West Coast Huron Energy Inc.","4305","Regulatory Debits",0,0,0,null,null,null,"West Coast Huron Energy Inc. 4305"]
["West Coast Huron Energy Inc. 4310","West Coast Huron Energy Inc.","4310","Regulatory Credits",0,0,0,null,null,null,"West Coast Huron Energy Inc. 4310"]
["West Coast Huron Energy Inc. 4315","West Coast Huron Energy Inc.","4315","Revenues from Electric Plant Leased to Others",0,0,0,null,null,null,"West Coast Huron Energy Inc. 4315"]
["West Coast Huron Energy Inc. 4320","West Coast Huron Energy Inc.","4320","Expenses of Electric Plant Leased to Others",0,0,0,null,null,null,"West Coast Huron Energy Inc. 4320"]
["West Coast Huron Energy Inc. 4325","West Coast Huron Energy Inc.","4325","Revenues from Merchandise",0,0,0,null,null,null,"West Coast Huron Energy Inc. 4325"]
["West Coast Huron Energy Inc. 4330","West Coast Huron Energy Inc.","4330","Costs and Expenses of Merchandising",0,0,0,null,null,null,"West Coast Huron Energy Inc. 4330"]
["West Coast Huron Energy Inc. 4335","West Coast Huron Energy Inc.","4335","Profits and Losses from Financial Instrument Hedges",0,0,0,null,null,null,"West Coast Huron Energy Inc. 4335"]
["West Coast Huron Energy Inc. 4340","West Coast Huron Energy Inc.","4340","Profits and Losses from Financial Instrument Investments",0,-49960,0,null,null,null,"West Coast Huron Energy Inc. 4340"]
["West Coast Huron Energy Inc. 4345","West Coast Huron Energy Inc.","4345","Gains from Disposition of Future Use Utility Plant",0,0,0,null,null,null,"West Coast Huron Energy Inc. 4345"]
["West Coast Huron Energy Inc. 4350","West Coast Huron Energy Inc.","4350","Losses from Disposition of Future Use Utility Plant",0,0,0,null,null,null,"West Coast Huron Energy Inc. 4350"]
["West Coast Huron Energy Inc. 4355","West Coast Huron Energy Inc.","4355","Gain on Disposition of Utility and Other Property",0,-3754,0,null,null,null,"West Coast Huron Energy Inc. 4355"]
["West Coast Huron Energy Inc. 4357","West Coast Huron Energy Inc.","4357","Gain from Retirement of Utility and Other Property",0,0,0,null,null,null,"West Coast Huron Energy Inc. 4357"]
["West Coast Huron Energy Inc. 4360","West Coast Huron Energy Inc.","4360","Loss on Disposition of Utility and Other Property",42509,25149,56139,null,null,null,"West Coast Huron Energy Inc. 4360"]
["West Coast Huron Energy Inc. 4362","West Coast Huron Energy Inc.","4362","Loss from Retirement of Utility and Other Property",0,0,0,null,null,null,"West Coast Huron Energy Inc. 4362"]
["West Coast Huron Energy Inc. 4365","West Coast Huron Energy Inc.","4365","Gains from Disposition of Allowances for Emission",0,0,0,null,null,null,"West Coast Huron Energy Inc. 4365"]
["West Coast Huron Energy Inc. 4370","West Coast Huron Energy Inc.","4370","Losses from Disposition of Allowances for Emission",0,0,0,null,null,null,"West Coast Huron Energy Inc. 4370"]
["West Coast Huron Energy Inc. 4375","West Coast Huron Energy Inc.","4375","Revenues from Non Rate-Regulated Utility Operations",-129592,-197938,-284786,null,null,null,"West Coast Huron Energy Inc. 4375"]
["West Coast Huron Energy Inc. 4375","West Coast Huron Energy Inc.","4375","Sub-account Generation Facility Revenues",0,0,0,null,null,null,"West Coast Huron Energy Inc. 4375"]
["West Coast Huron Energy Inc. 4380","West Coast Huron Energy Inc.","4380","Expenses of Non Rate-Regulated Utility Operations",96422,157923,203122,null,null,null,"West Coast Huron Energy Inc. 4380"]
["West Coast Huron Energy Inc. 4380","West Coast Huron Energy Inc.","4380","Sub-account Generation Facility Expenses",0,0,0,null,null,null,{"$f":"B2996 & \" \" &C2996","v":"West Coast Huron Energy Inc. 4380"}]
["West Coast Huron Energy Inc. 4385","West Coast Huron Energy Inc.","4385","Non Rate-Regulated Utility Rental Income",0,0,0,null,null,null,"West Coast Huron Energy Inc. 4385"]
["West Coast Huron Energy Inc. 4390","West Coast Huron Energy Inc.","4390","Miscellaneous Non-Operating Income",-114600,-22351,-98229,null,null,null,"West Coast Huron Energy Inc. 4390"]
["West Coast Huron Energy Inc. 4395","West Coast Huron Energy Inc.","4395","Rate-Payer Benefit Including Interest",0,0,0,null,null,null,"West Coast Huron Energy Inc. 4395"]
["West Coast Huron Energy Inc. 4398","West Coast Huron Energy Inc.","4398","Foreign Exchange Gains and Losses, Including Amortization",0,0,0,null,null,null,"West Coast Huron Energy Inc. 4398"]
["West Coast Huron Energy Inc. 4405","West Coast Huron Energy Inc.","4405","Interest and Dividend Income",-14917,-32376,-27522,null,null,null,"West Coast Huron Energy Inc. 4405"]
["West Coast Huron Energy Inc. 4410","West Coast Huron Energy Inc.","4410","Lessor's Net Investment in Finance Lease",0,0,0,null,null,null,"West Coast Huron Energy Inc. 4410"]
["West Coast Huron Energy Inc. 4415","West Coast Huron Energy Inc.","4415","Equity in Earnings of Subsidiary Companies",0,0,0,null,null,null,"West Coast Huron Energy Inc. 4415"]
["West Coast Huron Energy Inc. 4420","West Coast Huron Energy Inc.","4420","Share of Profit or Loss of Joint Venture",0,0,0,null,null,null,"West Coast Huron Energy Inc. 4420"]
["West Coast Huron Energy Inc. Total ","West Coast Huron Energy Inc. Total",null,null,-195253,-200373,-213799,null,null,null,"West Coast Huron Energy Inc. Total "]
["Westario Power Inc. 4082","Westario Power Inc.","4082","Retail Services Revenues",-12037,-14249,-4845.79,-16788.07,-27275.13,null,"Westario Power Inc. 4082"]
["Westario Power Inc. 4084","Westario Power Inc.","4084","Service Transaction Requests (STR) Revenues",-327,-195,-285.25,-407.5,-455.43,null,"Westario Power Inc. 4084"]
["Westario Power Inc. 4086","Westario Power Inc.","4086","SSS Administration Revenue",-66102,-67143,-67643.08,-68573.48,-68953,null,"Westario Power Inc. 4086"]
["Westario Power Inc. 4090","Westario Power Inc.","4090","Electric Services Incidental to Energy Sales",0,0,0,0,0,null,"Westario Power Inc. 4090"]
["Westario Power Inc. 4205","Westario Power Inc.","4205","Interdepartmental Rents",0,0,0,0,0,null,"Westario Power Inc. 4205"]
["Westario Power Inc. 4210","Westario Power Inc.","4210","Rent from Electric Property",-92373,-121998,-158916.04,-165763.28,-147507.24,null,"Westario Power Inc. 4210"]
["Westario Power Inc. 4215","Westario Power Inc.","4215","Other Utility Operating Income",0,0,0,0,0,null,"Westario Power Inc. 4215"]
["Westario Power Inc. 4220","Westario Power Inc.","4220","Other Electric Revenues",-113382,1529,32.340000000000003,-199.17,0,null,"Westario Power Inc. 4220"]
["Westario Power Inc. 4225","Westario Power Inc.","4225","Late Payment Charges",-204775,-117923,-111644.25,-99699.09,-73839.48,null,"Westario Power Inc. 4225"]
["Westario Power Inc. 4230","Westario Power Inc.","4230","Sales of Water and Water Power",0,0,0,0,0,null,"Westario Power Inc. 4230"]
["Westario Power Inc. 4235","Westario Power Inc.","4235","Miscellaneous Service Revenues",-99504,-97985,-88590.11,-106081.13,-243741.11,null,"Westario Power Inc. 4235"]
["Westario Power Inc. 4240","Westario Power Inc.","4240","Provision for Rate Refunds",0,0,0,0,0,null,"Westario Power Inc. 4240"]
["Westario Power Inc. 4245","Westario Power Inc.","4245","Government and Other Assistance Directly Credited to Income",-57851,-6436,-48553.81,-253172.34,-179819.57,null,"Westario Power Inc. 4245"]
["Westario Power Inc. 4305","Westario Power Inc.","4305","Regulatory Debits",0,0,0,0,0,null,"Westario Power Inc. 4305"]
["Westario Power Inc. 4310","Westario Power Inc.","4310","Regulatory Credits",0,0,0,0,0,null,"Westario Power Inc. 4310"]
["Westario Power Inc. 4315","Westario Power Inc.","4315","Revenues from Electric Plant Leased to Others",0,0,0,0,0,null,"Westario Power Inc. 4315"]
["Westario Power Inc. 4320","Westario Power Inc.","4320","Expenses of Electric Plant Leased to Others",0,0,0,0,0,null,"Westario Power Inc. 4320"]
["Westario Power Inc. 4325","Westario Power Inc.","4325","Revenues from Merchandise",-46084,-34123,-257999.31,-203892.38,2952.3,null,"Westario Power Inc. 4325"]
["Westario Power Inc. 4330","Westario Power Inc.","4330","Costs and Expenses of Merchandising",28050,44227,160580.12,33496.39,696.84,null,"Westario Power Inc. 4330"]
["Westario Power Inc. 4335","Westario Power Inc.","4335","Profits and Losses from Financial Instrument Hedges",0,0,0,0,0,null,"Westario Power Inc. 4335"]
["Westario Power Inc. 4340","Westario Power Inc.","4340","Profits and Losses from Financial Instrument Investments",0,0,0,0,0,null,"Westario Power Inc. 4340"]
["Westario Power Inc. 4345","Westario Power Inc.","4345","Gains from Disposition of Future Use Utility Plant",0,0,0,0,0,null,"Westario Power Inc. 4345"]
["Westario Power Inc. 4350","Westario Power Inc.","4350","Losses from Disposition of Future Use Utility Plant",0,0,0,0,0,null,"Westario Power Inc. 4350"]
["Westario Power Inc. 4355","Westario Power Inc.","4355","Gain on Disposition of Utility and Other Property",-3750,-805,-15278.81,-26818.59,-10320.66,null,"Westario Power Inc. 4355"]
["Westario Power Inc. 4357","Westario Power Inc.","4357","Gain from Retirement of Utility and Other Property",0,0,0,0,0,null,"Westario Power Inc. 4357"]
["Westario Power Inc. 4360","Westario Power Inc.","4360","Loss on Disposition of Utility and Other Property",0,0,24289.9,181103.39,13233,null,"Westario Power Inc. 4360"]
["Westario Power Inc. 4362","Westario Power Inc.","4362","Loss from Retirement of Utility and Other Property",146493,103677,192206.7,-34491.660000000003,107793.51,null,"Westario Power Inc. 4362"]
["Westario Power Inc. 4365","Westario Power Inc.","4365","Gains from Disposition of Allowances for Emission",0,0,0,0,0,null,"Westario Power Inc. 4365"]
["Westario Power Inc. 4370","Westario Power Inc.","4370","Losses from Disposition of Allowances for Emission",0,0,0,0,0,null,"Westario Power Inc. 4370"]
["Westario Power Inc. 4375","Westario Power Inc.","4375","Revenues from Non Rate-Regulated Utility Operations",0,0,-2794.28,-1397.14,0,null,"Westario Power Inc. 4375"]
["Westario Power Inc. 4375","Westario Power Inc.","4375","Sub-account Generation Facility Revenues",0,0,0,0,0,null,"Westario Power Inc. 4375"]
["Westario Power Inc. 4380","Westario Power Inc.","4380","Expenses of Non Rate-Regulated Utility Operations",0,0,3058.63,156486.15,0,null,"Westario Power Inc. 4380"]
["Westario Power Inc. 4380","Westario Power Inc.","4380","Sub-account Generation Facility Expenses",0,0,0,0,0,null,"Westario Power Inc. 4380"]
["Westario Power Inc. 4385","Westario Power Inc.","4385","Non Rate-Regulated Utility Rental Income",0,0,0,0,0,null,"Westario Power Inc. 4385"]
["Westario Power Inc. 4390","Westario Power Inc.","4390","Miscellaneous Non-Operating Income",-5021,-12712,-27052.75,-3980.3,-14897.54,null,"Westario Power Inc. 4390"]
["Westario Power Inc. 4395","Westario Power Inc.","4395","Rate-Payer Benefit Including Interest",0,0,0,0,0,null,"Westario Power Inc. 4395"]
["Westario Power Inc. 4398","Westario Power Inc.","4398","Foreign Exchange Gains and Losses, Including Amortization",0,0,0,0,0,null,"Westario Power Inc. 4398"]
["Westario Power Inc. 4405","Westario Power Inc.","4405","Interest and Dividend Income",-37792,-48741,-87153.96,-130753.31,-58517.42,null,"Westario Power Inc. 4405"]
["Westario Power Inc. 4410","Westario Power Inc.","4410","Lessor's Net Investment in Finance Lease",0,0,0,0,0,null,"Westario Power Inc. 4410"]
["Westario Power Inc. 4415","Westario Power Inc.","4415","Equity in Earnings of Subsidiary Companies",0,0,0,0,0,null,"Westario Power Inc. 4415"]
["Westario Power Inc. 4420","Westario Power Inc.","4420","Share of Profit or Loss of Joint Venture",0,0,0,0,0,null,"Westario Power Inc. 4420"]
["Westario Power Inc. Total ","Westario Power Inc. Total",null,null,-564455,-372877,-490589.75,-740931.51,-700650.93,null,"Westario Power Inc. Total "]
["Whitby Hydro Electric Corporation 4082","Whitby Hydro Electric Corporation","4082","Retail Services Revenues",-22382.1,-19716.8,-17394.8,null,null,null,"Whitby Hydro Electric Corporation 4082"]
["Whitby Hydro Electric Corporation 4084","Whitby Hydro Electric Corporation","4084","Service Transaction Requests (STR) Revenues",-276.25,-167,-111.5,null,null,null,"Whitby Hydro Electric Corporation 4084"]
["Whitby Hydro Electric Corporation 4086","Whitby Hydro Electric Corporation","4086","SSS Administration Revenue",-149759.16,-159197.87,-164547,null,null,null,"Whitby Hydro Electric Corporation 4086"]
["Whitby Hydro Electric Corporation 4090","Whitby Hydro Electric Corporation","4090","Electric Services Incidental to Energy Sales",0,0,0,null,null,null,"Whitby Hydro Electric Corporation 4090"]
["Whitby Hydro Electric Corporation 4205","Whitby Hydro Electric Corporation","4205","Interdepartmental Rents",0,0,0,null,null,null,"Whitby Hydro Electric Corporation 4205"]
["Whitby Hydro Electric Corporation 4210","Whitby Hydro Electric Corporation","4210","Rent from Electric Property",-134512.56,-134306.43,-134328.78,null,null,null,"Whitby Hydro Electric Corporation 4210"]
["Whitby Hydro Electric Corporation 4215","Whitby Hydro Electric Corporation","4215","Other Utility Operating Income",0,0,0,null,null,null,"Whitby Hydro Electric Corporation 4215"]
["Whitby Hydro Electric Corporation 4220","Whitby Hydro Electric Corporation","4220","Other Electric Revenues",0,0,0,null,null,null,"Whitby Hydro Electric Corporation 4220"]
["Whitby Hydro Electric Corporation 4225","Whitby Hydro Electric Corporation","4225","Late Payment Charges",-388632.04,-220780.97,-199854.47,null,null,null,"Whitby Hydro Electric Corporation 4225"]
["Whitby Hydro Electric Corporation 4230","Whitby Hydro Electric Corporation","4230","Sales of Water and Water Power",0,0,0,null,null,null,"Whitby Hydro Electric Corporation 4230"]
["Whitby Hydro Electric Corporation 4235","Whitby Hydro Electric Corporation","4235","Miscellaneous Service Revenues",-164532.22,-172671.98,-158106.32,null,null,null,"Whitby Hydro Electric Corporation 4235"]
["Whitby Hydro Electric Corporation 4240","Whitby Hydro Electric Corporation","4240","Provision for Rate Refunds",0,0,0,null,null,null,"Whitby Hydro Electric Corporation 4240"]
["Whitby Hydro Electric Corporation 4245","Whitby Hydro Electric Corporation","4245","Government and Other Assistance Directly Credited to Income",-852858,-1016988,-1046167.82,null,null,null,{"$f":"B3060 & \" \" &C3060","v":"Whitby Hydro Electric Corporation 4245"}]
["Whitby Hydro Electric Corporation 4305","Whitby Hydro Electric Corporation","4305","Regulatory Debits",2031669.83,1102560.29,873928.27,null,null,null,"Whitby Hydro Electric Corporation 4305"]
["Whitby Hydro Electric Corporation 4310","Whitby Hydro Electric Corporation","4310","Regulatory Credits",0,0,0,null,null,null,"Whitby Hydro Electric Corporation 4310"]
["Whitby Hydro Electric Corporation 4315","Whitby Hydro Electric Corporation","4315","Revenues from Electric Plant Leased to Others",0,0,0,null,null,null,"Whitby Hydro Electric Corporation 4315"]
["Whitby Hydro Electric Corporation 4320","Whitby Hydro Electric Corporation","4320","Expenses of Electric Plant Leased to Others",0,0,0,null,null,null,"Whitby Hydro Electric Corporation 4320"]
["Whitby Hydro Electric Corporation 4325","Whitby Hydro Electric Corporation","4325","Revenues from Merchandise",0,0,0,null,null,null,"Whitby Hydro Electric Corporation 4325"]
["Whitby Hydro Electric Corporation 4330","Whitby Hydro Electric Corporation","4330","Costs and Expenses of Merchandising",0,0,0,null,null,null,"Whitby Hydro Electric Corporation 4330"]
["Whitby Hydro Electric Corporation 4335","Whitby Hydro Electric Corporation","4335","Profits and Losses from Financial Instrument Hedges",0,0,0,null,null,null,"Whitby Hydro Electric Corporation 4335"]
["Whitby Hydro Electric Corporation 4340","Whitby Hydro Electric Corporation","4340","Profits and Losses from Financial Instrument Investments",0,0,0,null,null,null,"Whitby Hydro Electric Corporation 4340"]
["Whitby Hydro Electric Corporation 4345","Whitby Hydro Electric Corporation","4345","Gains from Disposition of Future Use Utility Plant",0,0,0,null,null,null,"Whitby Hydro Electric Corporation 4345"]
["Whitby Hydro Electric Corporation 4350","Whitby Hydro Electric Corporation","4350","Losses from Disposition of Future Use Utility Plant",0,0,0,null,null,null,"Whitby Hydro Electric Corporation 4350"]
["Whitby Hydro Electric Corporation 4355","Whitby Hydro Electric Corporation","4355","Gain on Disposition of Utility and Other Property",0,0,0,null,null,null,"Whitby Hydro Electric Corporation 4355"]
["Whitby Hydro Electric Corporation 4357","Whitby Hydro Electric Corporation","4357","Gain from Retirement of Utility and Other Property",0,0,0,null,null,null,"Whitby Hydro Electric Corporation 4357"]
["Whitby Hydro Electric Corporation 4360","Whitby Hydro Electric Corporation","4360","Loss on Disposition of Utility and Other Property",0,0,0,null,null,null,"Whitby Hydro Electric Corporation 4360"]
["Whitby Hydro Electric Corporation 4362","Whitby Hydro Electric Corporation","4362","Loss from Retirement of Utility and Other Property",0,0,212921.33,null,null,null,"Whitby Hydro Electric Corporation 4362"]
["Whitby Hydro Electric Corporation 4365","Whitby Hydro Electric Corporation","4365","Gains from Disposition of Allowances for Emission",0,0,0,null,null,null,"Whitby Hydro Electric Corporation 4365"]
["Whitby Hydro Electric Corporation 4370","Whitby Hydro Electric Corporation","4370","Losses from Disposition of Allowances for Emission",0,0,0,null,null,null,"Whitby Hydro Electric Corporation 4370"]
["Whitby Hydro Electric Corporation 4375","Whitby Hydro Electric Corporation","4375","Revenues from Non Rate-Regulated Utility Operations",-1403993.57,-1383878.16,-1994237.06,null,null,null,"Whitby Hydro Electric Corporation 4375"]
["Whitby Hydro Electric Corporation 4375","Whitby Hydro Electric Corporation","4375","Sub-account Generation Facility Revenues",0,0,0,null,null,null,"Whitby Hydro Electric Corporation 4375"]
["Whitby Hydro Electric Corporation 4380","Whitby Hydro Electric Corporation","4380","Expenses of Non Rate-Regulated Utility Operations",1748597.6,2037863.03,2151917.9300000002,null,null,null,"Whitby Hydro Electric Corporation 4380"]
["Whitby Hydro Electric Corporation 4380","Whitby Hydro Electric Corporation","4380","Sub-account Generation Facility Expenses",0,0,0,null,null,null,"Whitby Hydro Electric Corporation 4380"]
["Whitby Hydro Electric Corporation 4385","Whitby Hydro Electric Corporation","4385","Non Rate-Regulated Utility Rental Income",0,0,0,null,null,null,"Whitby Hydro Electric Corporation 4385"]
["Whitby Hydro Electric Corporation 4390","Whitby Hydro Electric Corporation","4390","Miscellaneous Non-Operating Income",3686.33,-4756.93,-56563.99,null,null,null,"Whitby Hydro Electric Corporation 4390"]
["Whitby Hydro Electric Corporation 4395","Whitby Hydro Electric Corporation","4395","Rate-Payer Benefit Including Interest",0,0,0,null,null,null,"Whitby Hydro Electric Corporation 4395"]
["Whitby Hydro Electric Corporation 4398","Whitby Hydro Electric Corporation","4398","Foreign Exchange Gains and Losses, Including Amortization",0,0,0,null,null,null,"Whitby Hydro Electric Corporation 4398"]
["Whitby Hydro Electric Corporation 4405","Whitby Hydro Electric Corporation","4405","Interest and Dividend Income",-21827.11,-50750,-70985,null,null,null,"Whitby Hydro Electric Corporation 4405"]
["Whitby Hydro Electric Corporation 4410","Whitby Hydro Electric Corporation","4410","Lessor's Net Investment in Finance Lease",0,0,0,null,null,null,"Whitby Hydro Electric Corporation 4410"]
["Whitby Hydro Electric Corporation 4415","Whitby Hydro Electric Corporation","4415","Equity in Earnings of Subsidiary Companies",0,0,0,null,null,null,"Whitby Hydro Electric Corporation 4415"]
["Whitby Hydro Electric Corporation 4420","Whitby Hydro Electric Corporation","4420","Share of Profit or Loss of Joint Venture",0,0,0,null,null,null,"Whitby Hydro Electric Corporation 4420"]
["Whitby Hydro Electric Corporation Total ","Whitby Hydro Electric Corporation Total",null,null,645180.75,-22790.819999999901,-603529.21,null,null,null,"Whitby Hydro Electric Corporation Total "]

{"sheet":"App_2-I LF_CDM","index":33,"n_rows":106,"n_cols":15,"rows_kept":106,"cut":false,"hidden":false,"merged":[[20,0,20,8],[28,0,28,8],[92,0,92,8],[69,0,69,8],[82,0,82,8],[84,0,84,8],[86,0,86,8],[88,0,88,8],[90,0,90,8],[39,0,39,8],[44,0,44,8],[46,0,46,8],[74,0,74,5],[37,6,38,8],[40,0,40,8],[41,0,41,8],[17,0,17,8],[18,0,18,8],[8,0,8,8],[9,0,9,8],[11,0,11,8],[13,0,13,8],[15,0,15,8],[42,0,42,8],[48,0,48,8],[80,0,80,8],[105,0,105,8],[50,0,50,5],[52,0,52,4],[55,0,55,1],[66,0,66,1],[71,0,72,8]]}
[null,null,null,null,null,null,"File Number:",null,{"$f":"EBNUMBER","v":"EB-2022-0016"}]
[null,null,null,null,null,null,"Exhibit:"]
[null,null,null,null,null,null,"Tab:"]
[null,null,null,null,null,null,"Schedule:"]
[null,null,null,null,null,null,"Page:"]
[]
[null,null,null,null,null,null,"Date:"]
[]
["Appendix 2-I"]
["Load Forecast CDM Adjustment Work Form"]
[]
["Appendix 2-I was initially developed to help determine what would be the amount of CDM savings needed in each year to cumulatively achieve the four year 2011-2014 CDM target.  This determined the amount of kWh (and with translation, kW of demand) savings that were converted into dollar balances for the LRAMVA, and also to determine the related adjustment to the load forecast to account for OPA-reported savings.  Beginning in the 2015 year, it was adjusted because the persistence of 2011-2014 CDM programs will be an adjustment to the load forecast in addition to the estimated savings for the first year (2015) for the new 2015-2020 CDM plan. This appendix has been updated for 2022 rate applications to acknowledge that in accordance with the Minister of Energy's March 20, 2019 Directive to the IESO, the Conservation First Framework (CFF) is no longer in effect. As distributors are no longer working towards the former 2015-2020 CDM targets, for 2019 and 2020 CDM activity, distributors may propose a CDM manual adjustment to the load forecast. If a distributor elects to propose a CDM manual adjustment to the load forecast, only CDM projects that are subject to a contractual agreement entered into between the distributor and a customer by April 30, 2019 under a former CFF program should be included in the proposed CDM manual adjustment to the load forecast. Distributors should provide relevant documentation to support the CDM manual adjustments for 2019 and 2020 CDM projects, if any, including the corresponding CFF program, project timelines and projected savings. "]
[]
["2019-2020 CDM Activities (and beyond, if applicable)"]
[]
["For the first year of the new 2015-2020 CDM plan, for simplicity, it was assumed that each year's program will achieve an equal amount of new CDM savings. This resulted in each year's program being about 1/6 (or 16.67%) of the cumulative 2015-2020 CDM target for kWh savings.\n\nFor 2022 rate applications, distributors should ensure that the sum of the results for the 2015 to 2019 program years is consistent with the results provided by the IESO. For the 2020 and 2021 program year (as applicable), distributors that elect to propose a CDM manual adjustment, should only include the projected CDM savings from projects that are subject to contractual agreements between the distributor and customer made on or before April 30, 2019 under the former CFF. "]
[]
["Former CFF 6 Year (2015-2020) kWh Target*"]
[]
[null,2015,2016,2017,2018,2019,2020,"2021**","Total for 2022**"]
["%"]
["2015 CDM Programs",null,null,null,null,null,{"$f":"G30/$G$37","v":{"$error":"#DIV/0!"}}]
["2016 CDM Programs",null,null,null,null,null,{"$error":"#DIV/0!"}]
["2017 CDM Programs",null,null,null,null,null,{"$error":"#DIV/0!"}]
["2018 CDM Programs",null,null,null,null,null,{"$error":"#DIV/0!"}]
["2019 CDM Programs",null,null,null,null,null,{"$error":"#DIV/0!"}]
["2020 CDM Programs",null,null,null,null,null,{"$error":"#DIV/0!"}]
["Total in Year",{"$f":"SUM(B22:B27)","v":0},{"$f":"SUM(C22:C27)","v":0},{"$f":"SUM(D22:D27)","v":0},{"$f":"SUM(E22:E25)","v":0},{"$f":"SUM(F22:F26)","v":0},{"$f":"SUM(G22:G27)","v":{"$error":"#DIV/0!"}}]
["kWh"]
[{"$f":"A22","v":"2015 CDM Programs"}]
["2016 CDM Programs",null,null,null,null,null,null,null,null,null,null,2011,2012,2013,2014]
["2017 CDM Programs",null,null,null,null,null,null,null,null,null,"2011 CDM Programs",{"$f":"50%","v":0.5},1,1,1]
["2018 CDM Programs",null,null,null,null,null,null,null,null,null,"2012 CDM Programs",null,0.5,1,1]
["2019 CDM Programs",null,null,null,null,null,null,null,null,null,"2013 CDM Programs",null,null,0.5,1]
[{"$f":"A27","v":"2020 CDM Programs"}]
["2021 CDM Programs (if applicable)***",null,null,null,null,null,null,null,null,null,"2014 CDM Programs",null,null,null,0.5]
["Total in Year",{"$f":"SUM(B30:B36)","v":0},{"$f":"SUM(C30:C36)","v":0},{"$f":"SUM(D30:D36)","v":0},{"$f":"SUM(E30:E33)","v":0},{"$f":"SUM(F30:F34)","v":0},{"$f":"SUM(G30:G36)","v":0},{"$f":"SUM(H30:H36)","v":0},{"$f":"SUM(I30:I36)","v":0}]
[null,null,null,null,null,null,{"$f":"IF(G37-I37<>0,\"Inputs do no match 2015-20 CDM target\",\"\")","v":""}]
[]
["*This total will not equal the distributor's former CFF CDM target. Rather, for 2019 and 2020, if the distributor elects to propose a CDM manual adjustment, it should only include the projected savings from projects that are subject to contractual agreements made between the LDC and a customer on or before April 30, 2019 under the former CFF."]
["** If a distributor wishes to include projected savings that persist from former Conservation First programs into the 2022 test year, you may do so.  Please provide relevant supporting documentation to show the savings persistence into 2022.  "]
["*** If a distributor expects impacts from any CFF-related projects not deployed by April 2019, but for which a distributor is contractually obligated to complete (or for other programs delivered by the distributor after April 2019), a distributor may include these amounts as part of a CDM manual adjustment to the 2022 load forecast, but must ensure that sufficient supporting evidence is provided in support of all estimated CDM savings."]
["Note: The default formulae in the above table assume that the 2015-2020 kWh CDM target is achieved through persistence of CDM savings to the end of 2020. Distributors should rely on the Participant and Cost monthly reports provided by the IESO for 2018 and 2019 CDM savings."]
[]
["Determination of 2022 Load Forecast Adjustment"]
[]
["The OEB determined that the \"net\" number should be used in its Decision and Order with respect to Centre Wellington Hydro Ltd.'s 2013 Cost of Service rates (EB-2012-0113).  This approach has also been used in Settlement Agreements accepted by the OEB in other 2013 and 2014 applications.  The distributor should select whether the adjustment is done on a \"net\" or \"gross\" basis, but must support a proposal for the adjustment being done on a \"gross\" basis.  Sheet 2-I defaults to the adjustment being done on a \"net\" basis consistent with OEB policy and practice."]
[]
["From each of the 2006-2010 CDM Final Report,  and the 2011 to 2017 CDM Final Reports, issued by the OPA/IESO for the distributor, the distributor should input the \"gross\" and \"net\" results of the cumulative CDM savings for 2019 into cells C57 to C66 and D57 to D66.  The model will calculate the cumulative savings for all programs from 2006 to 2019 and determine the \"net\" to \"gross\" factor \"g\"."]
[]
["Net-to-Gross Conversion"]
[]
["Is CDM adjustment being done on a \"net\" or \"gross\" basis?",null,null,null,null,"net"]
[]
[null,null,"\"Gross\"","\"Net\"","Difference","\"Net-to-Gross\" Conversion Factor"]
["Persistence of Historical CDM programs",null,"kWh","kWh","kWh","('g')"]
["2006-2010 CDM programs",null,null,null,{"$f":"C57-D57","v":0}]
["2011 CDM program",null,null,null,0]
["2012 CDM program",null,null,null,0]
["2013 CDM program",null,null,null,0]
["2014 CDM program",null,null,null,0]
["2015 CDM program",null,null,null,0]
["2016 CDM program",null,null,null,{"$f":"C63-D63","v":0}]
["2017 CDM program",null,null,null,0]
["2018 CDM program*",null,null,null,{"$f":"C65-D65","v":0}]
["2019 CDM program (if applicable)*",null,null,null,{"$f":"C66-D66","v":0}]
["2006 to 2019 OPA CDM programs:  Persistence to 2022.",null,{"$f":"SUM(C57:C66)","v":0},{"$f":"SUM(D57:D66)","v":0},{"$f":"C67-D67","v":0},{"$f":"IF(D67=0,0,IF(F53=\"net\",0,E67/D67))","v":0}]
["*CDM programs distributors should rely on the results made available by the IESO in the Participant and Cost monthly reports"]
[]
["The default values below represent the factor used for how each year's CDM program is factored into the manual CDM adjustment.  Distributors can choose alternative weights of \"0\", \"0.5\" or \"1\" from the drop-down menu for each cell, but must support its alternatives."]
[]
["These factors do not mean that CDM programs are excluded, but the assumption that impacts of previous year CDM programs are already implicitly reflected in the actual data for historical years that are used to derive the load forecast prior to any manual CDM adjustment for the 2022 test year."]
[]
[]
["Weight Factor for Inclusion in CDM Adjustment to 2022 Load Forecast"]
[null,2015,2016,2017,"2018*","2019**","2020**","2021***"]
["Weight Factor for each year's CDM program impact on 2022 load forecast",0,0,0,0,0,0.5,1,"Distributor can select \"0\", \"0.5\", or \"1\" from drop-down list"]
["Default Value selection rationale.  ","Full year impact of 2015 CDM is assumed to be reflected in the base forecast, as the full year persistence of 2015 CDM programs is in the 2018 historical actual data. No further impact is necessary for the manual adjustment to the load forecast.","Full year impact of 2016 CDM is assumed to be reflected in the base forecast, as the full year persistence of 2016 CDM programs is in the 2018 historical actual data. No further impact is necessary for the manual adjustment to the load forecast.","Full year impact of 2017 CDM is assumed to be reflected in the base forecast, as the full year persistence of 2017 CDM programs is in the 2018 historical actual data. No further impact is necessary for the manual adjustment to the load forecast.","Default is 0. Full year impact of 2018 CDM is assumed to be reflected in the base forecast. ","Default is 0. Full year impact of 2019 CDM is assumed to be reflected in the base forecast. Adjust based on distributor's circumstance","Default is 0.5. Adjust based on distributor's circumstance","Default is 1.  Adjust based on distributor's circumstance"]
["* For 2018 CDM programs distributors should rely on the results made available by the IESO in the Participant and Cost monthly reports"]
["** For 2019 and 2020 CDM program activity, the distributor should include only those projected CDM savings from projects that it has contractual obligations with a customer under the former CFF. "]
["*** This may include the persistence of any remaining CDM projects that the distributor is contractually obligated to complete under the former CFF, as applicable. If this includes CDM activity that is beyond the CFF framework or other programs, please file project-level supporting documentation in accordance with section 2.3.1.3 of Chapter 2 Filing Requirements to support the breakdown of your proposal."]
[]
["2022 LRAMVA and 2022 CDM adjustment to Load Forecast"]
[]
["One manual adjustment for CDM impacts to the 2022 load forecast is made.  There is a different but related threshold amount that is used for the 2022 LRAMVA amount for Account 1568."]
[]
["The amount used for the CDM threshold and the LRAMVA is the kWh that will be used to determine the base amount for the LRAMVA balance for 2022. This allows for a comparison between projected CDM savings and actual CDM savings."]
[]
["If used to determine the manual CDM adjustment for the system purchased kWh, the proposed loss factor should correspond with the proposed total loss factor calculated in Appendix 2-R ."]
[]
["The Manual Adjustment for the 2022 Load Forecast is the amount manually subtracted from the system-wide load forecast (either based on a purchased or billed basis) derived from the base forecast from historical data. If the distributor has developed their load forecast on a system purchased basis, then the manual adjustment should be on a system purchased basis, including the adjustment for losses.  If the load forecast has been developed on a billed basis, either on a system basis or on a class-specific basis, the manual adjustment should be on a billed basis, excluding losses."]
[]
["The distributor should determine the allocation of the savings to all customer classes in a reasonable manner (e.g. taking into account what programs and what IESO-measured impacts were directed at specific customer classes), for both the LRAMVA and for the load forecast adjustment."]
[]
[null,2015,2016,2017,2018,2019,2020,2021,"Total for 2022"]
[]
["Amount used for CDM threshold for LRAMVA (2022)",{"$f":"H30","v":0},{"$f":"H31","v":0},{"$f":"H32","v":0},{"$f":"H33","v":0},{"$f":"H34","v":0},{"$f":"H35","v":0},{"$f":"H36","v":0},{"$f":"SUM(B97:H97)","v":0}]
[]
["Manual Adjustment for 2022 Load Forecast (billed basis)",null,null,null,null,{"$f":"F97*(1+F67)*F77","v":0},{"$f":"G97*(1+F67)*G77","v":0},{"$f":"H97*(1+F67)*H77","v":0},{"$f":"SUM(F99:H99)","v":0}]
["Manual Adjustment for 2022 LDC-only CDM programs (billed basis)"]
["Total Manual Forecast to Load Forecast",null,null,null,null,null,null,{"$f":"H99+H100","v":0},{"$f":"SUM(F101:H101)","v":0}]
[]
["Proposed Loss Factor (TLF)",null," Format: X.XX%"]
["Manual Adjustment for 2022 Load Forecast (system purchased basis)",{"$f":"B101*(1+$B103)","v":0},0,0,0,0,0,{"$f":"H101*(1+$B103)","v":0},{"$f":"SUM(B104:H104)","v":0}]
[]
["Manual adjustment uses \"gross\" versus \"net\" (i.e. numbers multiplied by (1 + g).  The Weight factor is also used to calculate the impact of each year's program on the CDM adjustment to the 2022 load forecast."]

{"sheet":"lists","index":34,"n_rows":50,"n_cols":1,"rows_kept":50,"cut":false,"hidden":true,"merged":[]}
["COMPETITIVE SECTOR MULTI-UNIT RESIDENTIAL SERVICE CLASSIFICATION"]
["DISTRIBUTED GENERATION [DGEN] SERVICE CLASSIFICATION"]
["DISTRIBUTED GENERATION SERVICE CLASSIFICATION"]
["EMBEDDED DISTRIBUTOR SERVICE CLASSIFICATION"]
["EMBEDDED DISTRIBUTOR SERVICE CLASSIFICATION FOR HYDRO ONE NETWORKS INC."]
["ENERGY FROM WASTE SERVICE CLASSIFICATION"]
["GENERAL SERVICE 1,000 KW AND GREATER SERVICE CLASSIFICATION"]
["GENERAL SERVICE 1,000 KW OR GREATER SERVICE CLASSIFICATION"]
["GENERAL SERVICE 1,000 TO 4,999 KW (CO-GENERATION) SERVICE CLASSIFICATION"]
["GENERAL SERVICE 1,000 TO 4,999 KW SERVICE CLASSIFICATION"]
["GENERAL SERVICE 1,500 TO 4,999 KW SERVICE CLASSIFICATION"]
["GENERAL SERVICE 3,000 TO 4,999 KW - INTERMEDIATE USE SERVICE CLASSIFICATION"]
["GENERAL SERVICE 3,000 TO 4,999 KW SERVICE CLASSIFICATION"]
["GENERAL SERVICE 50 TO 1,499 KW SERVICE CLASSIFICATION"]
["GENERAL SERVICE 50 TO 2,999 KW SERVICE CLASSIFICATION"]
["GENERAL SERVICE 50 to 4,999 kW SERVICE CLASSIFICATION"]
["GENERAL SERVICE 50 TO 499 KW SERVICE CLASSIFICATION"]
["GENERAL SERVICE 50 TO 699 KW SERVICE CLASSIFICATION"]
["GENERAL SERVICE 50 TO 999 KW SERVICE CLASSIFICATION"]
["GENERAL SERVICE 500 TO 1,499 KW SERVICE CLASSIFICATION"]
["GENERAL SERVICE 500 TO 4,999 KW SERVICE CLASSIFICATION"]
["GENERAL SERVICE 700 TO 4,999 KW SERVICE CLASSIFICATION"]
["GENERAL SERVICE DEMAND BILLED SERVICE CLASSIFICATION"]
["GENERAL SERVICE ENERGY BILLED SERVICE CLASSIFICATION"]
["GENERAL SERVICE EQUAL TO OR GREATER THAN 1,500 KW SERVICE CLASSIFICATION"]
["GENERAL SERVICE GREATER THAN 1,000 KW SERVICE CLASSIFICATION"]
["GENERAL SERVICE LESS THAN 50 KW SERVICE CLASSIFICATION"]
["HCI, RESOP, OTHER ENERGY RESOURCE SERVICE CLASSIFICATION"]
["INTERMEDIATE USER SERVICE CLASSIFICATION"]
["LARGE USE - 3TS SERVICE CLASSIFICATION"]
["LARGE USE - FORD ANNEX SERVICE CLASSIFICATION"]
["LARGE USE - REGULAR SERVICE CLASSIFICATION"]
["LARGE USE SERVICE CLASSIFICATION"]
["LARGE USE WITH DEDICATED ASSETS SERVICE CLASSIFICATION"]
["ONTARIO ELECTRICITY SUPPORT PROGRAM RECIPIENTS"]
["R1  RESIDENTIAL SERVICE CLASSIFICATION"]
["R2  RESIDENTIAL SERVICE CLASSIFICATION"]
["RESIDENTIAL R1 SERVICE CLASSIFICATION"]
["RESIDENTIAL R2 SERVICE CLASSIFICATION"]
["RESIDENTIAL SERVICE CLASSIFICATION"]
["SEASONAL CUSTOMERS SERVICE CLASSIFICATION"]
["SEASONAL RESIDENTIAL SERVICE CLASSIFICATION"]
["SEASONAL SERVICE CLASSIFICATION"]
["SENTINEL LIGHTING SERVICE CLASSIFICATION"]
["STANDBY POWER SERVICE CLASSIFICATION "]
["SUB TRANSMISSION SERVICE CLASSIFICATION"]
["UNMETERED SCATTERED LOAD SERVICE CLASSIFICATION"]
["UR RESIDENTIAL SERVICE CLASSIFICATION"]
["URBAN GENERAL SERVICE DEMAND BILLED SERVICE CLASSIFICATION"]
["URBAN GENERAL SERVICE ENERGY BILLED SERVICE CLASSIFICATION"]

{"sheet":"App.2-IA_Load_Forecast_Instrct","index":35,"n_rows":45,"n_cols":18,"rows_kept":45,"cut":false,"hidden":false,"merged":[[24,1,24,17],[26,1,26,17],[43,2,43,17],[44,2,44,17],[28,8,28,10],[28,12,28,14],[29,13,29,14],[29,9,29,10],[41,2,41,17],[42,2,42,17],[28,16,28,17],[9,1,9,17],[8,1,8,17],[18,1,18,17],[20,1,20,17],[22,1,22,17]]}
[null,null,null,null,null,null,null,null,null,null,null,null,null,null,null,null,"File Number:",{"$f":"EBNUMBER","v":"EB-2022-0016"}]
[null,null,null,null,null,null,null,null,null,null,null,null,null,null,null,null,"Exhibit:"]
[null,null,null,null,null,null,null,null,null,null,null,null,null,null,null,null,"Tab:"]
[null,null,null,null,null,null,null,null,null,null,null,null,null,null,null,null,"Schedule:"]
[null,null,null,null,null,null,null,null,null,null,null,null,null,null,null,null,"Page:"]
[]
[null,null,null,null,null,null,null,null,null,null,null,null,null,null,null,null,"Date:"]
[]
[null,"Appendix 2-IA"]
[null,"Instructions on Customer, Connections, Load Forecast and Revenues Data and Analysis"]
[]
[null,"This sheet requires no inputs, but serves as a summary of the hiostorical and forecasted data to be provided with respect to:"]
[]
[null,"1)","Customers and connections"]
[null,"2)","Consumption (kWh)"]
[null,"3)","Demand (kW or kCA) for applicable demand-billed customer classes"]
[null,"4)","Revenues"]
[]
[null,"The spreadsheet summarizes the data provided and the analyses (variance or year-over-year) that are required. Data are required to be provided on a customer class level. Consumption (kWh) must also be provided on a total distribution system level."]
[]
[null,"Appendix 2-IB (formerly 2-IA) is the appendix spreadsheet that the distributor populates, and the spreadsheet is laid out for inputting the necessary data. The spreadsheet also calculates necessary statistics such as average consumption per customer/connection per year, and variances and % annual changes, as necessary."]
[]
[null,"The distributor is required to provide suitable documentation in Exhibit 3 of its Application, in accordance with section 2.3.2 of Chaoter 2 of the Filing Requirements. This would include explanations for material variations or of trends in the data."]
[]
[null,"The distributor is also required to input its test year customer/connection and load forecast in Sheet 10 - Load Forecast of the Revenue Requirement Work Form. This sheet should also be updated to reflect changes in the load forecast made through the stages of processing of the rates application."]
[]
[null,"The applicant must demonstrate the historical accuracy of its load forecast approach for at least the past 5 years. Such analysis will cover both customer/connections and consumption (kWh) and demand (kW or kVA) by providing the following, as shown in the following table:"]
[]
[null,null,null,"Calendar Year",null,"Customers / Connections",null,null,"Consumption (kWh) (3)",null,null,null,"Demand (kW or kVA)",null,null,null,"Revenues"]
[null,null,null,{"$f":"\"(for \"&TestYear&\" Cost of Service)\"","v":"(for 2023 Cost of Service)"},null,null,null,null,"Weather-actual","Weather-normalized",null,null,"Weather-actual","Weather-normalized",null,null,"Weather-actual","Weather-normalized"]
[null,null,"Historical",{"$f":"D32-1","v":2017},null,"Actual",null,null,"Actual","Actual (1)",null,null,"Actual","Actual (1)",null,null,"Actual"]
[null,null,"Historical",2018,null,"Actual",null,null,"Actual","Actual (1)",null,null,"Actual","Actual (1)",null,null,"Actual"]
[null,null,"Historical",2019,null,"Actual","OEB-approved (2)",null,"Actual","Actual (1)","OEB-approved (2)",null,"Actual","Actual (1)","OEB-approved (2)",null,"Actual"]
[null,null,"Historical",2020,null,"Actual",null,null,"Actual","Actual (1)",null,null,"Actual","Actual (1)",null,null,"Actual"]
[null,null,"Historical",2021,null,"Actual",null,null,"Actual","Actual (1)",null,null,"Actual","Actual (1)",null,null,"Actual"]
[null,null,"Bridge Year (Forecast)",2022,null,"Forecast",null,null,null,"Forecast",null,null,null,"Forecast",null,null,null,"Forecast"]
[null,null,"Test Year (Forecast)",{"$f":"TestYear","v":2023},null,"Forecast",null,null,null,"Forecast",null,null,null,"Forecast",null,null,null,"Forecast"]
[]
[]
[null,"Notes:"]
[]
[null,"(1)","“Weather-normalized actuals” are estimated by replacing the actual weather-related values (typically Heating Degree Days (HDD) and Cooling Degree Days (CDD)) by the “typical” or “weather-normalized” values. These “weather-normalized HDD and CDD values would be the same as used to estimate the Bridge Year and Test Year forecasts."]
[null,"(2)",{"$f":"\"For \"&TestYear&\" Cost of Service rebasers, the typical situation is that \"& TestYear - 4 & \" would have been the most recent cost of service rebasing application. If the most recent rebasing application was for a rate year other than \"& TestYear - 4& \", that year should be used.\"&\" An applicant must provide historical information back to the greater of: a) at least five (5) historical actual years; or b) to its last cost of service application.\"","v":"For 2023 Cost of Service rebasers, the typical situation is that 2019 would have been the most recent cost of service rebasing application. If the most recent rebasing application was for a rate year other than 2019, that year should be used. An applicant must provide historical information back to the greater of: a) at least five (5) historical actual years; or b) to its last cost of service application."}]
[null,"(3)","Consumption must be provided on a total distribution system basis as well as at a customer class level."]
[null,"(4)","Revenues exclude commodity charges."]

{"sheet":"App.2-IB_Load_Forecast_Analysis","index":36,"n_rows":91,"n_cols":25,"rows_kept":91,"cut":false,"hidden":false,"merged":[[3,0,3,22],[11,0,11,24]]}
[null,null,null,null,null,null,null,null,null,null,null,null,null,null,null,null,null,null,null,null,null,null,null,"File Number:",{"$f":"EBNUMBER","v":"EB-2022-0016"}]
[null,null,null,null,null,null,null,null,null,null,null,null,null,null,null,null,null,null,null,null,null,null,null,"Exhibit:"]
[null,null,null,null,null,null,null,null,null,null,null,null,null,null,null,null,null,null,null,null,null,null,null,"Tab:"]
["Customer, Connections, Load Forecast and Revenues Data and Analysis",null,null,null,null,null,null,null,null,null,null,null,null,null,null,null,null,null,null,null,null,null,null,"Schedule:"]
[null,null,null,null,null,null,null,null,null,null,null,null,null,null,null,null,null,null,null,null,null,null,null,"Page:"]
[]
[null,null,null,null,null,null,null,null,null,null,null,null,null,null,null,null,null,null,null,null,null,null,null,"Date:","2023-02-13"]
[]
[]
[]
[]
["This sheet is to be filled in accordance with the instructions documented in section 2.3.2 of Chapter 2 of the Filing Requirements for Distribution Rate Applications, in terms of one set of tables per customer class."]
[]
[null,null,null,null,null,"Customers/Connections",null,null,null,null,null,null,null,null,null,null,null,null,"Costumers/Connections Variance Analysis"]
["Rate Class","Historical 2013","Historical 2014","Historical 2015","Historical 2016","Historical 2017","Historical 2018","Historical 2019","Historical 2020","Historical 2021","Actual 2022","Test Year 2023",null,"Rate Class","Historical 2013","Historical 2014","Historical 2015","Historical 2016","Historical 2017","Historical 2018","Historical 2019","Historical 2020","Historical 2021","Bridge Year 2022","Test Year 2023"]
["Residential",32001.75,32139,32276.666666666668,32434.25,32604.666666666668,32755.333333333332,32861.75,32990.166666666664,33113,33273.25,33418,null,{"$f":"A16","v":"Residential"},null,{"$f":"IFERROR((C16-B16)/B16,)","v":4.288827954721226E-3},4.2834769802006251E-3,4.8822678921821372E-3,5.2542194336748305E-3,4.6210153965689236E-3,3.2488347953514305E-3,3.9077853938595556E-3,3.7233316998500289E-3,4.8394890224383175E-3,4.3503414905366926E-3]
["General Service < 50 kW",3471.5833333333335,3494.5,3497.0833333333335,3474.75,3477.75,3468.0833333333335,3485.0833333333335,3490.4166666666665,3459.1666666666665,3455.1666666666665,3451,null,{"$f":"A17","v":"General Service < 50 kW"},null,6.6012146234906786E-3,7.3925692755286447E-4,-6.3862742761825759E-3,8.6337146557306278E-4,-2.7795749167325184E-3,4.9018429968522475E-3,1.5303316515625251E-3,-8.9530858302494937E-3,-1.1563478679836184E-3,-1.2059234962133564E-3]
["General Service 50 - 999 kW",428.33333333333331,393.16666666666669,376.91666666666669,373,382.16666666666669,389.41666666666669,372.33333333333331,368.5,372.25,370,364,null,"General Service 50 - 999 kW",null,-8.2101167315175014E-2,{"$f":"IFERROR((D18-C18)/C18,)","v":-4.1331072488342516E-2},{"$f":"IFERROR((E18-D18)/D18,)","v":-1.0391333185938587E-2},{"$f":"IFERROR((F18-E18)/E18,)","v":2.4575513851653314E-2},{"$f":"IFERROR((G18-F18)/F18,)","v":1.8970780636720454E-2},{"$f":"IFERROR((H18-G18)/G18,)","v":-4.3869034881232706E-2},{"$f":"IFERROR((I18-H18)/H18,)","v":-1.0295434198746593E-2},{"$f":"IFERROR((J18-I18)/I18,)","v":1.0176390773405699E-2},{"$f":"IFERROR((K18-J18)/J18,)","v":-6.044325050369375E-3},{"$f":"IFERROR((L18-K18)/K18,)","v":-1.6216216216216217E-2}]
["General Service 1000 - 4999 kW",12.5,12,12,11.583333333333334,11,11,11,10,9,9,8,null,"General Service 1000 - 4999 kW",null,-0.04,0,-3.4722222222222175E-2,-5.0359712230215875E-2,0,0,-9.0909090909090912E-2,-0.1,0,-0.1111111111111111]
["Large User",3,3,3,3.4166666666666665,4,4,4,4,4,4,4,null,"Large User",null,0,0,0.13888888888888884,0.17073170731707321,0,0,0,0,0,0]
["Unmetered Scattered Load Connections",262.08333333333331,261.91666666666669,262.41666666666669,261.08333333333331,258.41666666666669,256.41666666666669,256.58333333333331,253.25,242.91666666666666,236.33333333333334,337,null,"Unmetered Scattered Load Connections",null,-6.3593004769460905E-4,1.9090041361756282E-3,-5.0809780882821384E-3,-1.0213852537503846E-2,-7.7394388906804248E-3,6.49983750406092E-4,-1.2991230919129515E-2,-4.0802895689371538E-2,-2.7101200686106268E-2,0.42595204513399149]
["Sentinel Lighting Connections",427.58333333333331,417.91666666666669,412.25,407.33333333333331,391.33333333333331,384.5,385.16666666666669,370.58333333333331,366.91666666666669,364.16666666666669,358,null,"Sentinel Lighting Connections",null,-2.2607678815045714E-2,-1.355932203389835E-2,-1.1926420052557151E-2,-3.927986906710311E-2,-1.7461669505962472E-2,1.7338534893801966E-3,-3.7862397230636183E-2,-9.8943107713063971E-3,-7.4948898478310235E-3,-1.6933638443935979E-2]
["Street Lighting Connections",10029.5,10050.833333333334,10012.833333333334,10018.083333333334,10042,10067.666666666666,10100.416666666666,10136.333333333334,10161,10176.860000000002,10192.748634015779,null,"Street Lighting Connections",null,2.1270585107267502E-3,-3.780781029765359E-3,5.2432711353762667E-4,2.3873495429098438E-3,2.5559317533027344E-3,3.2529881137635338E-3,3.5559589125862346E-3,2.4334900851720929E-3,1.5608699931111505E-3,1.5612511143689616E-3]
["Wholesale Market Participants",null,null,null,null,{"$f":"IFERROR(VLOOKUP('[22]LDC Info'!$E$14&$A24,'[22]2.1.2'!$D:$H,2,FALSE),)","v":0},{"$f":"IFERROR(VLOOKUP('[22]LDC Info'!$E$14&$A24,'[22]2.1.2'!$D:$H,3,FALSE),)","v":0},{"$f":"IFERROR(VLOOKUP('[22]LDC Info'!$E$14&$A24,'[22]2.1.2'!$D:$H,4,FALSE),)","v":0},{"$f":"IFERROR(VLOOKUP('[22]LDC Info'!$E$14&$A24,'[22]2.1.2'!$D:$H,5,FALSE),)","v":0},null,null,null,null,"Wholesale Market Participants",null,0,0,0,0,0,0,0,0,0,0]
["Embedded Distributor(s)",null,null,null,null,{"$f":"IFERROR(VLOOKUP('[22]LDC Info'!$E$14&$A25,'[22]2.1.2'!$D:$H,2,FALSE),)","v":0},{"$f":"IFERROR(VLOOKUP('[22]LDC Info'!$E$14&$A25,'[22]2.1.2'!$D:$H,3,FALSE),)","v":0},{"$f":"IFERROR(VLOOKUP('[22]LDC Info'!$E$14&$A25,'[22]2.1.2'!$D:$H,4,FALSE),)","v":0},{"$f":"IFERROR(VLOOKUP('[22]LDC Info'!$E$14&$A25,'[22]2.1.2'!$D:$H,5,FALSE),)","v":0},null,null,null,null,"Embedded Distributor(s)",null,0,0,0,0,0,0,0,0,0,0]
["Sub Transmission Customers",null,null,null,null,{"$f":"IFERROR(VLOOKUP('[22]LDC Info'!$E$14&$A26,'[22]2.1.2'!$D:$H,2,FALSE),)","v":0},{"$f":"IFERROR(VLOOKUP('[22]LDC Info'!$E$14&$A26,'[22]2.1.2'!$D:$H,3,FALSE),)","v":0},{"$f":"IFERROR(VLOOKUP('[22]LDC Info'!$E$14&$A26,'[22]2.1.2'!$D:$H,4,FALSE),)","v":0},{"$f":"IFERROR(VLOOKUP('[22]LDC Info'!$E$14&$A26,'[22]2.1.2'!$D:$H,5,FALSE),)","v":0},null,null,null,null,"Sub Transmission Customers",null,0,0,0,0,0,0,0,0,0,0]
["Total",null,null,null,null,{"$f":"SUM(F16:F26)","v":47171.333333333336},{"$f":"SUM(G16:G26)","v":47336.416666666657},{"$f":"SUM(H16:H26)","v":47476.333333333336},{"$f":"SUM(I16:I26)","v":47623.25}]
["Total Pre-Populated Data",null,null,null,null,47261,47425,47508,47681]
["Variance",null,null,null,null,{"$f":"(F27-F28)/F27","v":-1.9008719985301292E-3},{"$f":"(G27-G28)/G27","v":-1.8713569714650922E-3},-6.6699899599093385E-4,-1.2126429842566394E-3]
[]
[null,null,null,null,null,"Consumption (Actual)",null,null,null,null,null,null,null,null,null,null,null,null,"Consumption (Actual) Variance Analysis"]
["Rate Class","Historical 2013","Historical 2014","Historical 2015","Historical 2016","Historical 2017","Historical 2018","Historical 2019","Historical 2020","Historical 2021","Actual 2022","Test Year 2023",null,"Rate Class","Historical 2013","Historical 2014","Historical 2015","Historical 2016","Historical 2017","Historical 2018","Historical 2019","Historical 2020","Historical 2021","Bridge Year 2022","Test Year 2023"]
[{"$f":"A16","v":"Residential"},255389581.63213682,248491220.29588568,247531814.84014043,254829614.94449431,243695247.75932932,259006063.99240005,251122549,270338602,275475848.21988314,274162832,267876214.36046657,null,{"$f":"A33","v":"Residential"},null,{"$f":"IFERROR((C33-B33)/B33,)","v":-2.7011130572223343E-2},-3.8609229517359133E-3,2.9482271234778035E-2,-4.3693379937768298E-2,{"$f":"IF(ISERROR((G33-F33)/F33), \"\", (G33-F33)/F33)","v":6.2827717708272751E-2},{"$f":"IF(ISERROR((H33-G33)/G33), \"\", (H33-G33)/G33)","v":-3.0437569186146058E-2},7.6520619420759384E-2,1.9003006532833752E-2,-4.7663569360719502E-3,-2.2930233079637253E-2]
[{"$f":"A17","v":"General Service < 50 kW"},103284258.79809758,103923430.55572671,104997600.1746619,103858080.64192553,99503004.427166715,101399119.8590284,101723563,94820549.66929999,98943526.028734013,103737562,104759996.1112988,null,{"$f":"A34","v":"General Service < 50 kW"},null,6.1884721357065046E-3,{"$f":"IFERROR((D34-C34)/C34,)","v":1.0336163973717142E-2},{"$f":"IFERROR((E34-D34)/D34,)","v":-1.0852815024732019E-2},{"$f":"IFERROR((F34-E34)/E34,)","v":-4.1932954930815003E-2},{"$f":"IFERROR((G34-F34)/F34,)","v":1.905586110467232E-2},{"$f":"IFERROR((H34-G34)/G34,)","v":3.1996642714716144E-3},{"$f":"IFERROR((I34-H34)/H34,)","v":-6.7860514585986437E-2},{"$f":"IFERROR((J34-I34)/I34,)","v":4.348188629799641E-2},{"$f":"IFERROR((K34-J34)/J34,)","v":4.8452245070321823E-2},{"$f":"IFERROR((L34-K34)/K34,)","v":9.8559681911437203E-3}]
["General Service 50 - 999 kW",222721187.63730961,216401666.1707685,210203756.6353825,207887226.69478989,196589569.31987116,198076032.21402586,193322392,182593245.67520002,185117330.57710001,192460921,188002725.02673304,null,"General Service 50 - 999 kW",null,-2.8374136890973022E-2,-2.8640766242969014E-2,-1.1020402192958179E-2,-5.4345125261136946E-2,7.5612500668134222E-3,-2.3999068241075398E-2,-5.5498725283721836E-2,1.3823539269299582E-2,3.9669923934223111E-2,-2.3164162106794443E-2]
["General Service 1000 - 4999 kW",161171662.80959997,159033210.38159999,158080304.69489998,156593665.49840003,137456442.62400001,136386985.12989998,131667230,121864255.22920004,126088597.00819999,118197172,114192586.84808928,null,"General Service 1000 - 4999 kW",null,-1.326816631858066E-2,-5.991866003418533E-3,-9.4043290172624895E-3,-0.12220943173844763,-7.780337346758209E-3,-3.4605612298011505E-2,-7.4452654398516352E-2,3.4664321962620544E-2,-6.2586349562496771E-2,-3.3880549628638512E-2]
[{"$f":"A20","v":"Large User"},251680101.073695,255196632.46968001,255903895.89022502,281637470.56549501,289478993.77460253,287387431.13281,290955053,281204845.03435504,266221942.0420725,269705145,280213318.66733831,null,"Large User",null,1.397222657247473E-2,2.7714449587380114E-3,0.10055952679324941,2.7842613390053034E-2,{"$f":"IF(ISERROR((G37-F37)/F37), \"\", (G37-F37)/F37)","v":-7.2252656903356947E-3},1.2413980156081713E-2,-3.3511045314772232E-2,-5.3281098305585972E-2,1.3083831224463931E-2,3.8961710082832536E-2]
["Unmetered Scattered Load Connections",2183026.2609067005,2203828.4995907997,2211250.1011378998,2221666.6957900003,2156982.068929255,2052963.2462899708,2202858,2209114,2181430.8754999968,2168627,2198298.2178996359,null,"Unmetered Scattered Load Connections",null,9.5290831157748609E-3,3.3675948688739331E-3,4.7107265915963693E-3,-2.9115360545900477E-2,-4.8224240774945366E-2,7.3013851553802869E-2,2.8399470142878025E-3,-1.2531324549119319E-2,-5.8694848614270663E-3,1.3682029182351736E-2]
["Sentinel Lighting Connections",547347.48,536887.44000000006,507379.83599999995,497068.96799999988,476322.47087148222,453200.06129471678,474592,439110,433167.95999999985,428801,421220.07259579725,null,"Sentinel Lighting Connections",null,-1.911041958209056E-2,-5.4960503453014481E-2,-2.0321793000855626E-2,-4.1737663109393031E-2,-4.8543604366303665E-2,4.7201976637359727E-2,-7.4763164992245973E-2,-1.3532007925121619E-2,-1.0081447390522254E-2,-1.7679360365770495E-2]
["Street Lighting Connections",9144166.018151382,8086583.2770350762,6427056.8045899998,5119606.1326600015,4349789.3748699967,3664817.2994635967,3457005,3449208.3879999998,3351424.9544093632,3056605,3061561.7829879471,null,"Street Lighting Connections",null,-0.11565655512126305,-0.20521973441588512,-0.20342914520317582,-0.15036640277443178,-0.15747246967029799,-5.6704681975282438E-2,-2.2553082798550182E-3,-2.8349529106687477E-2,-8.7968538284432712E-2,1.6216629194636238E-3]
["Wholesale Market Participants",null,null,null,null,{"$f":"IFERROR(VLOOKUP(RIGHT(F$32,4) & '[22]LDC Info'!$E$14&$A41,'[22]2.1.5.4'!$E:$H,3,FALSE),)","v":0},{"$f":"IFERROR(VLOOKUP(RIGHT(G$32,4) & '[22]LDC Info'!$E$14&$A41,'[22]2.1.5.4'!$E:$H,3,FALSE),)","v":0},{"$f":"IFERROR(VLOOKUP(RIGHT(H$32,4) & '[22]LDC Info'!$E$14&$A41,'[22]2.1.5.4'!$E:$H,3,FALSE),)","v":0},{"$f":"IFERROR(VLOOKUP(RIGHT(I$32,4) & '[22]LDC Info'!$E$14&$A41,'[22]2.1.5.4'!$E:$H,3,FALSE),)","v":0},null,null,null,null,"Wholesale Market Participants",null,0,0,0,0,{"$f":"IFERROR((G41-F41)/F41,)","v":0},{"$f":"IFERROR((H41-G41)/G41,)","v":0},{"$f":"IFERROR((I41-H41)/H41,)","v":0},{"$f":"IFERROR((J41-I41)/I41,)","v":0},{"$f":"IFERROR((K41-J41)/J41,)","v":0},{"$f":"IFERROR((L41-K41)/K41,)","v":0}]
["Embedded Distributor(s)",null,null,null,null,{"$f":"IFERROR(VLOOKUP(RIGHT(F$32,4) & '[22]LDC Info'!$E$14&$A42,'[22]2.1.5.4'!$E:$H,3,FALSE),)","v":0},{"$f":"IFERROR(VLOOKUP(RIGHT(G$32,4) & '[22]LDC Info'!$E$14&$A42,'[22]2.1.5.4'!$E:$H,3,FALSE),)","v":0},{"$f":"IFERROR(VLOOKUP(RIGHT(H$32,4) & '[22]LDC Info'!$E$14&$A42,'[22]2.1.5.4'!$E:$H,3,FALSE),)","v":0},{"$f":"IFERROR(VLOOKUP(RIGHT(I$32,4) & '[22]LDC Info'!$E$14&$A42,'[22]2.1.5.4'!$E:$H,3,FALSE),)","v":0},null,null,null,null,"Embedded Distributor(s)",null,0,0,0,0,0,0,0,0,0,0]
["Sub Transmission Customers",null,null,null,null,{"$f":"IFERROR(VLOOKUP(RIGHT(F$32,4) & '[22]LDC Info'!$E$14&$A43,'[22]2.1.5.4'!$E:$H,3,FALSE),)","v":0},{"$f":"IFERROR(VLOOKUP(RIGHT(G$32,4) & '[22]LDC Info'!$E$14&$A43,'[22]2.1.5.4'!$E:$H,3,FALSE),)","v":0},{"$f":"IFERROR(VLOOKUP(RIGHT(H$32,4) & '[22]LDC Info'!$E$14&$A43,'[22]2.1.5.4'!$E:$H,3,FALSE),)","v":0},{"$f":"IFERROR(VLOOKUP(RIGHT(I$32,4) & '[22]LDC Info'!$E$14&$A43,'[22]2.1.5.4'!$E:$H,3,FALSE),)","v":0},null,null,null,null,"Sub Transmission Customers",null,0,0,0,0,0,0,0,0,0,0]
["Total",null,null,null,null,{"$f":"SUM(F33:F43)","v":973706351.81964052},{"$f":"SUM(G33:G43)","v":988426612.93521249},{"$f":"SUM(H33:H43)","v":974925242},{"$f":"SUM(I33:I43)","v":956918929.99605501}]
["Total OEB pre-populated data",null,null,null,null,977522794,991435681,974925248,956918930]
["Variance",null,null,null,null,{"$f":"(F44-F45)/F44","v":-3.9195001380317599E-3},{"$f":"(G44-G45)/G44","v":-3.0443009378833263E-3},-6.1543180353925021E-9,-4.1225989950060526E-12]
[]
[null,null,null,null,null,"Demand (Actual)",null,null,null,null,null,null,null,null,null,null,null,null,"Demand (Actual) Variance Analysis"]
["Rate Class","Historical 2013","Historical 2014","Historical 2015","Historical 2016","Historical 2017","Historical 2018","Historical 2019","Historical 2020","Historical 2021","Bridge Year 2022","Test Year 2023",null,"Rate Class","Historical 2013","Historical 2014","Historical 2015","Historical 2016","Historical 2017","Historical 2018","Historical 2019","Historical 2020","Historical 2021","Bridge Year 2022","Test Year 2023"]
[{"$f":"A33","v":"Residential"},0,0,0,0,0,0,0,0,null,null,null,null,{"$f":"A50","v":"Residential"},null,{"$f":"IFERROR((C50-B50)/B50,)","v":0},0,0,0,{"$f":"IFERROR((G50-F50)/F50,)","v":0},{"$f":"IFERROR((H50-G50)/G50,)","v":0},{"$f":"IFERROR((I50-H50)/H50,)","v":0},{"$f":"IFERROR((J50-I50)/I50,)","v":0},{"$f":"IFERROR((K50-J50)/J50,)","v":0},{"$f":"IFERROR((L50-K50)/K50,)","v":0}]
[{"$f":"A34","v":"General Service < 50 kW"},0,0,0,0,0,0,0,0,null,null,null,null,{"$f":"A51","v":"General Service < 50 kW"},null,0,{"$f":"IFERROR((D51-C51)/C51,)","v":0},{"$f":"IFERROR((E51-D51)/D51,)","v":0},{"$f":"IFERROR((F51-E51)/E51,)","v":0},{"$f":"IFERROR((G51-F51)/F51,)","v":0},{"$f":"IFERROR((H51-G51)/G51,)","v":0},{"$f":"IFERROR((I51-H51)/H51,)","v":0},{"$f":"IFERROR((J51-I51)/I51,)","v":0},{"$f":"IFERROR((K51-J51)/J51,)","v":0},{"$f":"IFERROR((L51-K51)/K51,)","v":0}]
["General Service 50 - 999 kW",622926.36540000001,607208.4791,582473.47649999999,575500.88030000008,560226.11819999991,559687.67699999991,528420,511400.64709999994,522128.64825299999,517343.49320147402,524760.32148041343,null,"General Service 50 - 999 kW",null,-2.5232334306330217E-2,-4.0735601447236126E-2,-1.1970667302994203E-2,-2.65416832934081E-2,-9.6111406181847883E-4,-5.5866295230223399E-2,-3.2208002914348541E-2,2.0977683962340159E-2,-9.1647050349309752E-3,1.4336371050193161E-2]
["General Service 1000 - 4999 kW",346643.00034970703,359106.53127523244,346801.92660000001,320386.04587388254,281957.11378646491,279318.17774451163,265775,241408.06541339,245050.35692944867,228541.24081292099,221950.39878743488,null,"General Service 1000 - 4999 kW",null,3.5954947634747311E-2,-3.4264497032502401E-2,-7.6169936496879503E-2,-0.11994571106428549,-9.3593525856269944E-3,-4.8486560573581368E-2,-9.1682568287498836E-2,1.5087696054485868E-2,-6.7370300224784962E-2,-2.8838742635869538E-2]
[{"$f":"A37","v":"Large User"},396800.29181011702,404063.79547965137,400651.24060000008,436453.20965768601,479867.14926132001,486458.82030932442,477956,461492.62948073435,471315.371652,463614.038696245,471570.95486783021,null,{"$f":"N37","v":"Large User"},null,1.8305187318285007E-2,-8.4455843800614518E-3,8.9359436411753673E-2,9.9469859868103458E-2,1.373644988649724E-2,-1.7479013545108991E-2,-3.4445368442420743E-2,2.1284721670025535E-2,-1.6340084408367973E-2,1.7162802476735389E-2]
["Unmetered Scattered Load Connections",0,0,0,0,0,0,0,0,null,null,null,null,"Unmetered Scattered Load Connections",null,0,0,0,0,0,0,0,0,0,0]
["Sentinel Lighting Connections",1313.0620000000001,1278.0620000000001,1253.884,1204.954,1323.6390000000001,1301.942,1302,1195.5739999999983,1187.4598680000001,1114,1152.266834347349,null,"Sentinel Lighting Connections",null,-2.6655253141131187E-2,-1.8917705087859671E-2,-3.9022748515811723E-2,9.8497536005524008E-2,-1.6391931636949436E-2,4.4548835508795878E-5,-8.1740399385562018E-2,-6.7868086793440802E-3,-6.1863032157647733E-2,3.4350838731911137E-2]
["Street Lighting Connections",24350.724000000002,21697.097001631322,17286.991099999996,13685.656021495031,11694.634499999998,10173.279999999999,9620,9568.6293999999998,9337.8753449999986,9227,8430.0804711743476,null,"Street Lighting Connections",null,-0.10897528132505134,-0.2032578782912639,-0.20832631067328802,-0.14548235892878539,-0.13008995706535331,-5.4385606215497748E-2,-5.3399792099792301E-3,-2.4115685262092106E-2,-1.1873722972685343E-2,-8.6368215977636539E-2]
["Wholesale Market Participants",0,0,0,0,0,0,0,0,null,null,null,null,"Wholesale Market Participants",null,0,0,0,0,0,0,0,0,0,0]
["Embedded Distributor(s)",null,null,null,null,{"$f":"IFERROR(VLOOKUP(RIGHT(F$32,4) & '[22]LDC Info'!$E$14&$A59,'[22]2.1.5.4'!$E:$H,2,FALSE),)","v":0},{"$f":"IFERROR(VLOOKUP(RIGHT(G$32,4) & '[22]LDC Info'!$E$14&$A59,'[22]2.1.5.4'!$E:$H,2,FALSE),)","v":0},{"$f":"IFERROR(VLOOKUP(RIGHT(H$32,4) & '[22]LDC Info'!$E$14&$A59,'[22]2.1.5.4'!$E:$H,2,FALSE),)","v":0},{"$f":"IFERROR(VLOOKUP(RIGHT(I$32,4) & '[22]LDC Info'!$E$14&$A59,'[22]2.1.5.4'!$E:$H,2,FALSE),)","v":0},null,null,null,null,"Embedded Distributor(s)",null,0,0,0,0,0,0,0,0,0,0]
["Sub Transmission Customers",null,null,null,null,{"$f":"IFERROR(VLOOKUP(RIGHT(F$32,4) & '[22]LDC Info'!$E$14&$A60,'[22]2.1.5.4'!$E:$H,2,FALSE),)","v":0},{"$f":"IFERROR(VLOOKUP(RIGHT(G$32,4) & '[22]LDC Info'!$E$14&$A60,'[22]2.1.5.4'!$E:$H,2,FALSE),)","v":0},{"$f":"IFERROR(VLOOKUP(RIGHT(H$32,4) & '[22]LDC Info'!$E$14&$A60,'[22]2.1.5.4'!$E:$H,2,FALSE),)","v":0},{"$f":"IFERROR(VLOOKUP(RIGHT(I$32,4) & '[22]LDC Info'!$E$14&$A60,'[22]2.1.5.4'!$E:$H,2,FALSE),)","v":0},null,null,null,null,"Sub Transmission Customers",null,0,0,0,0,0,0,0,0,0,0]
["Total",null,null,null,null,{"$f":"SUM(F50:F60)","v":1335068.6547477848},{"$f":"SUM(G50:G60)","v":1336939.8970538359},{"$f":"SUM(H50:H60)","v":1283073},{"$f":"SUM(I50:I60)","v":1225065.5453941245}]
["Total OEB pre-populated data",null,null,null,null,1324681,1321217,1283067,1225066]
["Variance",null,null,null,null,{"$f":"(F61-F62)/F61","v":7.7806146604102733E-3},{"$f":"(G61-G62)/G61","v":1.1760361919398074E-2},4.6762732907636585E-6,-3.710869816280279E-7]
[]
[null,null,null,null,null,"Consumption (Weather Normalized)",null,null,null,null,null,null,null,null,null,null,null,null,"Consumption (Weather Normalized) Variance Analysis"]
["Rate Class","Historical 2013","Historical 2014","Historical 2015","Historical 2016","Historical 2017","Historical 2018","Historical 2019","Historical 2020","Historical 2021","Actual 2022","Test Year 2023",null,"Rate Class","Historical 2013","Historical 2014","Historical 2015","Historical 2016","Historical 2017","Historical 2018","Historical 2019","Historical 2020","Historical 2021","Bridge Year 2022","Test Year 2023"]
[{"$f":"A50","v":"Residential"},257191615.99110249,256654700.64492267,255929907.1209977,255612609.74852669,251746281.61521718,250858539.40848425,253014791.40228099,268658692.15583903,276876446.76609135,{"$f":"K33","v":274162832},267876214.36046657,null,{"$f":"A67","v":"Residential"},null,{"$f":"IF(ISERROR((C67-B67)/B67), \"\", (C67-B67)/B67)","v":-2.0876082764625875E-3},-2.8240025298726787E-3,-1.2397823139950342E-3,-1.51257331831682E-2,{"$f":"IF(ISERROR((G67-F67)/F67), \"\", (G67-F67)/F67)","v":-3.5263369176185195E-3},{"$f":"IF(ISERROR((H67-G67)/G67), \"\", (H67-G67)/G67)","v":8.5954897085867739E-3},6.1829984985680195E-2,3.0588083878133016E-2,-9.8008147597467617E-3,-2.2930233079637253E-2]
[{"$f":"A51","v":"General Service < 50 kW"},103586472.11950836,102963703.99324125,103401744.84940733,102494426.80640285,102851116.63655356,103120444.33308679,102594393.55710991,96441463.238222241,98811855.120834291,{"$f":"K34","v":103737562},104759996.1112988,null,{"$f":"A68","v":"General Service < 50 kW"},null,-6.0120603928726707E-3,4.2543230204192496E-3,-8.7746879351589917E-3,3.4800900035710631E-3,2.6186171365057708E-3,-5.1013237906316405E-3,-5.997335824654583E-2,2.4578555768662396E-2,4.9849351306502629E-2,9.8559681911437203E-3]
["General Service 50 - 999 kW",232486658.4700135,224067296.03340444,217340623.6401054,212289090.08938569,209918237.87642497,206894479.84448969,199328833.33247694,191997137.05954626,194871445.0400705,192460921,188002725.02673304,null,"General Service 50 - 999 kW",null,{"$f":"IF(ISERROR((C69-B69)/B69), \"\", (C69-B69)/B69)","v":-3.6214389642900746E-2},{"$f":"IF(ISERROR((D69-C69)/C69), \"\", (D69-C69)/C69)","v":-3.0020768369053805E-2},{"$f":"IF(ISERROR((E69-D69)/D69), \"\", (E69-D69)/D69)","v":-2.3242472880194494E-2},{"$f":"IF(ISERROR((F69-E69)/E69), \"\", (F69-E69)/E69)","v":-1.1168036058576809E-2},{"$f":"IF(ISERROR((G69-F69)/F69), \"\", (G69-F69)/F69)","v":-1.4404456051671441E-2},{"$f":"IF(ISERROR((H69-G69)/G69), \"\", (H69-G69)/G69)","v":-3.6567657666359187E-2},{"$f":"IF(ISERROR((I69-H69)/H69), \"\", (I69-H69)/H69)","v":-3.6781915342380712E-2},{"$f":"IF(ISERROR((J69-I69)/I69), \"\", (J69-I69)/I69)","v":1.4970577293727041E-2},{"$f":"IF(ISERROR((K69-J69)/J69), \"\", (K69-J69)/J69)","v":-1.2369816622311387E-2},{"$f":"IF(ISERROR((L69-K69)/K69), \"\", (L69-K69)/K69)","v":-2.3164162106794443E-2}]
["General Service 1000 - 4999 kW",131526745.82060516,127723821.24853657,126064028.16159898,125515912.82997003,124716867.84014983,123807609.83782385,122448592.76844855,111386160.30813922,118748106.98473269,118197172,114192586.84808928,null,"General Service 1000 - 4999 kW",null,-2.8913697730008125E-2,-1.2995172480063964E-2,-4.347912244453511E-3,-6.3660851584820361E-3,-7.2905775944548407E-3,-1.0976846020656477E-2,-9.0343483826135038E-2,6.6093908401432838E-2,-4.639526462544119E-3,-3.3880549628638512E-2]
[{"$f":"A54","v":"Large User"},269774317.62223935,269474047.62117624,269243199.86952227,297430531.29539883,289538805.55001217,288630385.40746218,287896819.15708661,276643616.52654433,274384896.30145359,269705145,280213318.66733831,null,"Large User",null,-1.1130414626182902E-3,-8.5666042311611623E-4,0.10469096875812053,-2.6533004903752943E-2,-3.1374728538523301E-3,-2.5415420117323637E-3,-3.908762404353671E-2,-8.1647292406402394E-3,-1.7055426025753877E-2,3.8961710082832536E-2]
["Unmetered Scattered Load Connections",2183026.2609067005,2203828.4995907997,2211250.1011378998,2221666.6957900003,2156982.068929255,2052963.2462899708,2202858,2209114,2181430.8754999968,2168627,2198298.2178996359,null,"Unmetered Scattered Load Connections",null,9.5290831157748609E-3,3.3675948688739331E-3,4.7107265915963693E-3,-2.9115360545900477E-2,-4.8224240774945366E-2,7.3013851553802869E-2,2.8399470142878025E-3,-1.2531324549119319E-2,-5.8694848614270663E-3,1.3682029182351736E-2]
["Sentinel Lighting Connections",547347.48,536887.44000000006,507379.83599999995,497068.96799999988,476322.47087148222,453200.06129471684,474591.99999999994,439110.00000000006,433167.9599999999,428801,421220.07259579725,null,"Sentinel Lighting Connections",null,-1.911041958209056E-2,-5.4960503453014481E-2,-2.0321793000855626E-2,-4.1737663109393031E-2,-4.8543604366303547E-2,4.7201976637359463E-2,-7.4763164992245737E-2,-1.3532007925121617E-2,-1.0081447390522387E-2,-1.7679360365770495E-2]
["Street Lighting Connections",9144166.018151382,8086583.2770350762,6427056.8045899998,5119606.1326600015,4349789.3748699967,3664817.2994635962,3457005,3449208.3879999998,3351424.9544093632,3056605,3061561.7829879471,null,"Street Lighting Connections",null,-0.11565655512126305,-0.20521973441588512,-0.20342914520317582,-0.15036640277443178,-0.1574724696702981,-5.6704681975282313E-2,-2.2553082798550182E-3,-2.8349529106687477E-2,-8.7968538284432712E-2,1.6216629194636238E-3]
["Wholesale Market Participants",null,null,null,null,null,null,null,null,null,null,null,null,"Wholesale Market Participants",null,"","","","","","","","","",""]
["Embedded Distributor(s)",null,null,null,null,null,null,null,null,null,null,null,null,"Embedded Distributor(s)",null,"","","","","","","","","",""]
["Sub Transmission Customers",null,null,null,null,null,null,null,null,null,null,null,null,"Sub Transmission Customers",null,"","","","","","","","","",""]
[]
[null,null,null,null,null,"Demand (Weather Normalized)",null,null,null,null,null,null,null,null,null,null,null,null,"Demand (Weather Normalized) Variance Analysis"]
["Rate Class","Historical 2013","Historical 2014","Historical 2015","Historical 2016","Historical 2017","Historical 2018","Historical 2019","Historical 2020","Historical 2021","Actual 2022","Test Year 2023",null,"Rate Class","Historical 2013","Historical 2014","Historical 2015","Historical 2016","Historical 2017","Historical 2018","Historical 2019","Historical 2020","Historical 2021","Bridge Year 2022","Test Year 2023"]
[{"$f":"A67","v":"Residential"},null,null,null,null,null,null,null,null,null,null,null,null,{"$f":"A81","v":"Residential"},null,{"$f":"IF(ISERROR((C81-B81)/B81), \"\", (C81-B81)/B81)","v":""},{"$f":"IF(ISERROR((D81-C81)/C81), \"\", (D81-C81)/C81)","v":""},{"$f":"IF(ISERROR((E81-D81)/D81), \"\", (E81-D81)/D81)","v":""},{"$f":"IF(ISERROR((F81-E81)/E81), \"\", (F81-E81)/E81)","v":""},{"$f":"IF(ISERROR((G81-F81)/F81), \"\", (G81-F81)/F81)","v":""},{"$f":"IF(ISERROR((H81-G81)/G81), \"\", (H81-G81)/G81)","v":""},{"$f":"IF(ISERROR((I81-H81)/H81), \"\", (I81-H81)/H81)","v":""},{"$f":"IF(ISERROR((J81-I81)/I81), \"\", (J81-I81)/I81)","v":""},{"$f":"IF(ISERROR((K81-J81)/J81), \"\", (K81-J81)/J81)","v":""},{"$f":"IF(ISERROR((L81-K81)/K81), \"\", (L81-K81)/K81)","v":""}]
[{"$f":"A68","v":"General Service < 50 kW"},null,null,null,null,null,null,null,null,null,null,null,null,{"$f":"A82","v":"General Service < 50 kW"},null,{"$f":"IF(ISERROR((C82-B82)/B82), \"\", (C82-B82)/B82)","v":""},{"$f":"IF(ISERROR((D82-C82)/C82), \"\", (D82-C82)/C82)","v":""},{"$f":"IF(ISERROR((E82-D82)/D82), \"\", (E82-D82)/D82)","v":""},{"$f":"IF(ISERROR((F82-E82)/E82), \"\", (F82-E82)/E82)","v":""},{"$f":"IF(ISERROR((G82-F82)/F82), \"\", (G82-F82)/F82)","v":""},{"$f":"IF(ISERROR((H82-G82)/G82), \"\", (H82-G82)/G82)","v":""},{"$f":"IF(ISERROR((I82-H82)/H82), \"\", (I82-H82)/H82)","v":""},{"$f":"IF(ISERROR((J82-I82)/I82), \"\", (J82-I82)/I82)","v":""},{"$f":"IF(ISERROR((K82-J82)/J82), \"\", (K82-J82)/J82)","v":""},{"$f":"IF(ISERROR((L82-K82)/K82), \"\", (L82-K82)/K82)","v":""}]
["General Service 50 - 999 kW",652427.8242865029,628800.54884392151,609923.47321674426,595747.34343151003,589094.01561826561,580608.43675998959,559376.94620635035,538801.9907265089,546868.16757469415,531362.40789306688,524760.32148041343,null,"General Service 50 - 999 kW",null,-3.6214389642900732E-2,-3.002076836905378E-2,-2.3242472880194518E-2,-1.1168036058576773E-2,-1.440445605167154E-2,-3.6567657666359173E-2,-3.6781915342380747E-2,1.4970577293727128E-2,-2.8353743371814399E-2,-1.2424827790945401E-2]
["General Service 1000 - 4999 kW",255690.11256621094,248297.16593891976,245070.50144123242,244004.95640726172,242451.6000756814,240683.98787242992,238042.03679791669,216536.48989652388,230848.2328253125,226758.21191458165,221950.39878743488,null,"General Service 1000 - 4999 kW",null,-2.891369773000815E-2,-1.2995172480064005E-2,-4.3479122444535353E-3,-6.3660851584820093E-3,-7.290577594454819E-3,-1.0976846020656536E-2,-9.0343483826134954E-2,6.6093908401432755E-2,-1.7717358546235216E-2,-2.120237713356923E-2]
[{"$f":"A71","v":"Large User"},453328.59500422503,452824.02148179489,452436.10506395512,499802.07920425141,486540.82818581909,485014.31954509526,483781.63527567958,464871.76059685642,461076.20853996335,470273.23201569769,471570.95486783021,null,"Large User",null,-1.1130414626181777E-3,-8.5666042311617488E-4,0.10469096875812058,-2.6533004903752939E-2,-3.1374728538523071E-3,-2.5415420117324366E-3,-3.9087624043536717E-2,-8.1647292406402464E-3,1.9946861940366632E-2,2.7595082258247651E-3]
["Unmetered Scattered Load Connections",null,null,null,null,null,null,null,null,null,null,null,null,"Unmetered Scattered Load Connections",null,"","","","","","","","","",""]
["Sentinel Lighting Connections",1313.0620000000001,1278.0620000000001,1253.884,1204.954,1323.6390000000001,1301.942,1302,1195.5739999999983,1200.6649379263838,1174.6869613862616,1152.266834347349,null,"Sentinel Lighting Connections",null,-2.6655253141131187E-2,-1.8917705087859671E-2,-3.9022748515811723E-2,9.8497536005524008E-2,-1.6391931636949436E-2,4.4548835508795878E-5,-8.1740399385562018E-2,4.2581537624484618E-3,-2.1636324772661083E-2,-1.9086044006527789E-2]
["Street Lighting Connections",24350.724000000002,21697.097001631322,17286.991099999996,13685.656021495031,11694.634499999998,10173.279999999999,9620,9568.6293999999998,9118.609147127554,9132.8455858200032,8430.0804711743476,null,"Street Lighting Connections",null,-0.10897528132505134,-0.2032578782912639,-0.20832631067328802,-0.14548235892878539,-0.13008995706535331,-5.4385606215497748E-2,-5.3399792099792301E-3,-4.7030795536134547E-2,1.5612511143690993E-3,-7.6949194863952908E-2]
["Wholesale Market Participants",null,null,null,null,null,null,null,null,null,null,null,null,"Wholesale Market Participants",null,"","","","","","","","","",""]
["Embedded Distributor(s)",null,null,null,null,null,null,null,null,null,null,null,null,"Embedded Distributor(s)",null,"","","","","","","","","",""]
["Sub Transmission Customers",null,null,null,null,null,null,null,null,null,null,null,null,"Sub Transmission Customers",null,"","","","","","","","","",""]

{"sheet":"App.2-JA_OM&A_Summary_Analys","index":37,"n_rows":47,"n_cols":31,"rows_kept":47,"cut":false,"hidden":false,"merged":[[46,0,47,12],[39,0,39,44],[8,0,8,12],[9,0,9,12],[11,13,11,14],[40,0,40,44],[41,0,41,44]]}
[null,null,null,null,null,null,null,null,null,null,null,"File Number:",{"$f":"EBNUMBER","v":"EB-2022-0016"},{"$f":"'LDC Info'!$E$28","v":2013},"Last Rebasing Year","Column"]
[null,null,null,null,null,null,null,null,null,null,null,"Exhibit:",null,{"$f":"TestYear","v":2023},2010,"B","ae"]
[null,null,null,null,null,null,null,null,null,null,null,"Tab:",null,{"$f":"'LDC Info'!$E$28","v":2013},2011,"D","ah"]
["TO BE UPDATED AT THE DRAFT RATE ORDER STAGE",null,null,null,null,null,null,null,null,null,null,"Schedule:",null,null,2012,"G","ak"]
[null,null,null,null,null,null,null,null,null,null,null,"Page:",null,null,2013,"J","an"]
[null,null,null,null,null,null,null,null,null,null,null,null,null,null,2014,"M","aq"]
[null,null,null,null,null,null,null,null,null,null,null,"Date:","2023-02-13",null,2015,"P","at"]
[null,null,null,null,null,null,null,null,null,null,null,null,null,null,2016,"S","aw"]
["Appendix 2-JA",null,null,null,null,null,null,null,null,null,null,null,null,null,2017,"V","az"]
["Summary of Recoverable OM&A Expenses"]
[null,null,{"$f":"RebaseYear","v":2013},{"$f":"TestYear-9","v":2014},{"$f":"TestYear-8","v":2015},{"$f":"TestYear-7","v":2016},{"$f":"TestYear-6","v":2017},{"$f":"TestYear-5","v":2018},{"$f":"TestYear-4","v":2019},{"$f":"TestYear-3","v":2020},{"$f":"TestYear-2","v":2021},{"$f":"BridgeYear","v":2022},{"$f":"TestYear","v":2023},null,null,null,{"$f":"C11","v":2013},null,null,{"$f":"D11","v":2014},2015,2016,2017,2018,2019,2020,2021,2022,null,{"$f":"M11","v":2023}]
[null,{"$f":"CONCATENATE(C11,\" \",IF($N1=C11,\"Last Rebasing Year \",\"\"),\"OEB Approved\")","v":"2013 Last Rebasing Year OEB Approved"},{"$f":"CONCATENATE(C11,\" \",IF($N1=C11,\"Last Rebasing Year \",\"\"),\"Actuals\")","v":"2013 Last Rebasing Year Actuals"},"2014 Actuals","2015 Actuals","2016 Actuals","2017 Actuals","2018 Actuals","2019 Actuals","2020 Actuals","2021 Actuals","2022 Actual",{"$f":"TestYear & \" Test Year\"","v":"2023 Test Year"},null,null,null,{"$f":"CONCATENATE(IF($N1=Q11,\"Last Rebasing Year \",\"\"),,Q11,\" OEB Approved\")","v":"Last Rebasing Year 2013 OEB Approved"},{"$f":"CONCATENATE(IF($N1=Q11,\"Last Rebasing Year \",\"\"),Q11,\" Actuals\")","v":"Last Rebasing Year 2013 Actuals"},{"$f":"CONCATENATE(\"Variance \",Q11,\" OEB Approved - \",Q11,\" Actuals\")","v":"Variance 2013 OEB Approved - 2013 Actuals"},"2014 Actuals",{"$f":"CONCATENATE(IF($N1=U11,\"Last Rebasing Year \",\"\"),U11,\" Actuals\")","v":"2015 Actuals"},"2016 Actuals","2017 Actuals","2018 Actuals","2019 Actuals","2020 Actuals","2021 Actuals",{"$f":"CONCATENATE(AB11,\" Bridge Year\")","v":"2022 Bridge Year"},{"$f":"CONCATENATE(\"Variance \",AB11,\" Bridge vs. \",AB11-1,\" Actuals\")","v":"Variance 2022 Bridge vs. 2021 Actuals"},{"$f":"CONCATENATE(AD11,\" Test Year\")","v":"2023 Test Year"},{"$f":"CONCATENATE(\"Variance \",AD11,\" Test vs. \",AD11-1,\" Bridge\")","v":"Variance 2023 Test vs. 2022 Bridge"}]
["Reporting Basis","MIFRS","MIFRS","MIFRS","MIFRS","MIFRS","MIFRS","MIFRS","MIFRS","MIFRS","MIFRS","MIFRS","MIFRS",null,null,"Operations",{"$f":"B14","v":3494495.9465787485},{"$f":"C14","v":3564378.9200000013},{"$f":"Q13-R13","v":-69882.973421252798},{"$f":"D14","v":3619465.3399999985},3791562.4799999991,3833860.54,3616748.5600000024,4145464.2300000009,3657458.2199999969,3736729.5069999984,3520216.0699999994,3936106,{"$f":"AB13-AA13","v":415889.93000000063},{"$f":"M14","v":5036718},{"$f":"AD13-AB13","v":1100612}]
["Operations",3494495.9465787485,3564378.9200000013,3619465.3399999985,3791562.4799999991,{"$f":"VLOOKUP('LDC Info'!$E$14 & \" Distribution Expenses - Operation \" & LEFT(F12,4),'OM&A_Expenses'!$C:$F,4,FALSE)","v":3833860.54},3616748.5600000024,4145464.2300000009,3657458.2199999969,3736729.5069999984,3520216.0699999994,3936106,5036718,null,null,"Maintenance ",{"$f":"B15","v":136331.41606079505},{"$f":"C15","v":132433.91999999998},3897.4960607950634,98269.309999999983,180124.80000000002,163254.70000000001,496689.13999999996,475522.22,494281.89,400271.31000000006,1082631.54,1359441,276809.45999999996,{"$f":"M15","v":1453769},{"$f":"AD14-AB14","v":94328}]
["Maintenance",136331.41606079505,132433.91999999998,98269.309999999983,180124.80000000002,{"$f":"VLOOKUP('LDC Info'!$E$14 & \" Distribution Expenses – Maintenance \" & LEFT(F12,4),'OM&A_Expenses'!$C:$F,4,FALSE)","v":163254.70000000001},496689.13999999996,475522.22,494281.89,400271.31000000006,1082631.54,1359441,1453769,null,null,"Billing and Collecting ",{"$f":"B19","v":1737462.8432220954},1997174.55,-259711.70677790465,{"$f":"D19","v":2006891.5900000003},2055458.4300000002,2601284.4900000002,1978681.89,1858241,1890446,1788955,2121802.0999999992,2006222,-115580.09999999916,{"$f":"M19","v":2013816},7594]
["SubTotal",{"$f":"SUM(B14:B15)","v":3630827.3626395436},{"$f":"SUM(C14:C15)","v":3696812.8400000012},{"$f":"SUM(D14:D15)","v":3717734.6499999985},3971687.2799999989,3997115.24,4113437.7000000025,{"$f":"SUM(H14:H15)","v":4620986.4500000011},4151740.1099999971,4137000.8169999984,4602847.6099999994,5295547,6490487,null,null,"Community Relations ",245981.152186277,264755.86,-18774.707813722984,228805.58000000005,257543.81999999998,330038.43,370674.23,456175,385093,360258,171438.12000000002,26724,-144714.12000000002,{"$f":"M20","v":176527},{"$f":"AD16-AB16","v":149803}]
["%Change (year over year)",null,{"$f":"IF(ISERROR((C16-B16)/B16), \"\", (C16-B16)/B16)","v":1.8173675245326849E-2},{"$f":"IF(ISERROR((D16-C16)/C16), \"\", (D16-C16)/C16)","v":5.6594182355191279E-3},{"$f":"IF(ISERROR((E16-D16)/D16), \"\", (E16-D16)/D16)","v":6.8308433470366275E-2},{"$f":"IF(ISERROR((F16-HLOOKUP(F11-1,$A$11:E26,6,FALSE))/HLOOKUP(F11-1,$A$11:E26,6,FALSE)), \"\", (F16-HLOOKUP(F11-1,$A$11:E26,6,FALSE))/HLOOKUP(F11-1,$A$11:E26,6,FALSE))","v":6.4023066790901443E-3},{"$f":"IF(ISERROR((G16-HLOOKUP(G11-1,$A$11:F26,6,FALSE))/HLOOKUP(G11-1,$A$11:F26,6,FALSE)), \"\", (G16-HLOOKUP(G11-1,$A$11:F26,6,FALSE))/HLOOKUP(G11-1,$A$11:F26,6,FALSE))","v":2.9101602784913024E-2},{"$f":"IF(ISERROR((H16-HLOOKUP(H11-1,$A$11:G26,6,FALSE))/HLOOKUP(H11-1,$A$11:G26,6,FALSE)), \"\", (H16-HLOOKUP(H11-1,$A$11:G26,6,FALSE))/HLOOKUP(H11-1,$A$11:G26,6,FALSE))","v":0.12338797546392845},{"$f":"IF(ISERROR((I16-HLOOKUP(I11-1,$A$11:H26,6,FALSE))/HLOOKUP(I11-1,$A$11:H26,6,FALSE)), \"\", (I16-HLOOKUP(I11-1,$A$11:H26,6,FALSE))/HLOOKUP(I11-1,$A$11:H26,6,FALSE))","v":-0.10154678986345089},{"$f":"IF(ISERROR((J16-HLOOKUP(J11-1,$A$11:I26,6,FALSE))/HLOOKUP(J11-1,$A$11:I26,6,FALSE)), \"\", (J16-HLOOKUP(J11-1,$A$11:I26,6,FALSE))/HLOOKUP(J11-1,$A$11:I26,6,FALSE))","v":-3.5501482774649585E-3},{"$f":"IF(ISERROR((K16-HLOOKUP(K11-1,$A$11:J26,6,FALSE))/HLOOKUP(K11-1,$A$11:J26,6,FALSE)), \"\", (K16-HLOOKUP(K11-1,$A$11:J26,6,FALSE))/HLOOKUP(K11-1,$A$11:J26,6,FALSE))","v":0.1126049555237497},{"$f":"IF(ISERROR((L16-HLOOKUP(L11-1,$A$11:K26,6,FALSE))/HLOOKUP(L11-1,$A$11:K26,6,FALSE)), \"\", (L16-HLOOKUP(L11-1,$A$11:K26,6,FALSE))/HLOOKUP(L11-1,$A$11:K26,6,FALSE))","v":0.15049366146623322},{"$f":"IF(ISERROR((M16-L16)/L16), \"\", (M16-L16)/L16)","v":0.2256499659053163},null,null,"Administrative and General ",6663288.8348479057,6351918.3999999976,311370.43484790809,5828695.5800000001,5957954.8300000001,6611009.0999999996,7130923.2299999977,6950418.9100000011,6988147.7899999982,6641925.6600000001,6296414.5899999999,6859329,562914.41000000015,{"$f":"M21","v":7083003},223674]
["%Change (Test Year vs \nLast Rebasing Year - Actual)",null,null,null,null,null,null,null,null,null,null,null,{"$f":"IF(ISERROR((M16-C16)/C16), \"\", (M16-C16)/C16)","v":0.7556980244636885},null,null,"Total OM&A Expenses ",{"$f":"B25","v":12277560.192895822},{"$f":"C25","v":12310661.65},{"$f":"Q18-R18","v":-33101.457104178146},{"$f":"D25","v":11782127.399999999},12242644.359999999,13539447.26,13593717.050000001,13885821.360000001,13415426.899999997,12928139.476999998,13192502.419999998,14187822,995319.58000000194,{"$f":"M25","v":15763833},1576011]
["Billing and Collecting",1737462.8432220954,1997174.55,2006891.5900000003,2055458.4300000002,{"$f":"VLOOKUP('LDC Info'!$E$14 & \" \" &$A$19 & \" \" & LEFT(F12,4),'OM&A_Expenses'!$C:$F,4,FALSE)","v":2601284.4900000002},{"$f":"VLOOKUP('LDC Info'!$E$14 & \" \" &$A$19 & \" \" & LEFT(G12,4),'OM&A_Expenses'!$C:$F,4,FALSE)","v":1978681.89},{"$f":"VLOOKUP('LDC Info'!$E$14 & \" \" &$A$19 & \" \" & LEFT(H12,4),'OM&A_Expenses'!$C:$F,4,FALSE)-1","v":1858241},{"$f":"VLOOKUP('LDC Info'!$E$14 & \" \" &$A$19 & \" \" & LEFT(I12,4),'OM&A_Expenses'!$C:$F,4,FALSE)-2","v":1890446},{"$f":"VLOOKUP('LDC Info'!$E$14 & \" \" &$A$19 & \" \" & LEFT(J12,4),'OM&A_Expenses'!$C:$F,4,FALSE)+1","v":1788955},2121802.0999999992,2006222,2013816,null,null,"Adjustments for Total non-recoverable items3"]
["Community Relations",245981.152186277,264755.86,228805.58000000005,257543.81999999998,{"$f":"VLOOKUP('LDC Info'!$E$14 & \" \" &$A$20 & \" \" & LEFT(F12,4),'OM&A_Expenses'!$C:$F,4,FALSE)","v":330038.43},{"$f":"VLOOKUP('LDC Info'!$E$14 & \" \" &$A$20 & \" \" & LEFT(G12,4),'OM&A_Expenses'!$C:$F,4,FALSE)","v":370674.23},{"$f":"VLOOKUP('LDC Info'!$E$14 & \" \" &$A$20 & \" \" & LEFT(H12,4),'OM&A_Expenses'!$C:$F,4,FALSE)","v":456175},{"$f":"VLOOKUP('LDC Info'!$E$14 & \" \" &$A$20 & \" \" & LEFT(I12,4),'OM&A_Expenses'!$C:$F,4,FALSE)","v":385093},{"$f":"VLOOKUP('LDC Info'!$E$14 & \" \" &$A$20 & \" \" & LEFT(J12,4),'OM&A_Expenses'!$C:$F,4,FALSE)","v":360258},171438.12000000002,26724,176527,null,null,"Total Recoverable OM&A Expenses ",{"$f":"Q18-Q19","v":12277560.192895822},12310661.65,-33101.457104178146,{"$f":"IF(T11<=RebaseYear, 0, T18-T19)","v":11782127.399999999},{"$f":"IF(U11<=RebaseYear, 0, U18-U19)","v":12242644.359999999},13539447.26,13593717.050000001,13885821.360000001,13415426.899999997,12928139.476999998,13192502.419999998,14187822,{"$f":"AC18-AC19","v":995319.58000000194},15763833,1576011]
["Administrative and General",6663288.8348479057,6351918.3999999976,{"$f":"5803847.58+24848","v":5828695.5800000001},{"$f":"5933106.83+24848","v":5957954.8300000001},{"$f":"VLOOKUP('LDC Info'!$E$14 & \" Administrative and General Expenses \" & LEFT(F12,4),'OM&A_Expenses'!$C:$F,4,FALSE)+VLOOKUP('LDC Info'!$E$14 & \" Administrative and General Expenses \" & LEFT(F12,4),'OM&A_Expenses'!$C:$G,5,FALSE)+1","v":6611009.0999999996},7130923.2299999977,6950418.9100000011,6988147.7899999982,{"$f":"6641924.66+1","v":6641925.6600000001},6296414.5899999999,6859329,7083003,null,null,"Variance from previous year ",null,null,null,{"$f":"IF(T11<=RebaseYear, 0, T20-Q20)","v":-495432.79289582372},{"$f":"IF(U11<=RebaseYear, 0, U20-R20)","v":-68017.290000000969},{"$f":"IF(V11<=RebaseYear, 0, IF(V11=RebaseYear+1, V20-$R$20, V20-U20))","v":1296802.9000000004},54269.790000000969,292104.31000000052,-470394.46000000462,-487287.42299999855,264362.94299999997,995319.58000000194,null,{"$f":"AD20-AB20","v":1576011}]
["SubTotal",{"$f":"SUM(B19:B21)","v":8646732.8302562777},{"$f":"SUM(C19:C21)","v":8613848.8099999987},{"$f":"SUM(D19:D21)","v":8064392.75},8270957.0800000001,9542332.0199999996,9480279.3499999978,9264834.9100000001,9263686.7899999991,8791138.6600000001,{"$f":"SUM(K19:K21)","v":8589654.8099999987},{"$f":"SUM(L19:L21)","v":8892275},{"$f":"SUM(M19:M21)","v":9273346},null,null,"Percent change (year over year) ",null,null,null,{"$f":"IF(T11<=RebaseYear, 0, IF(ISERROR(T21/Q20), \"\", T21/Q20))","v":-4.0352707306008283E-2},{"$f":"IF(U11<=RebaseYear, 0, IF(ISERROR(U21/R20), \"\", U21/R20))","v":-5.5250718388479931E-3},{"$f":"IF(U11<=RebaseYear, 0, IF(V11=RebaseYear+1, IF(ISERROR(V21/$R$20), \"\", V21/$R$20),IF(ISERROR(V21/U20), \"\", V21/U20)))","v":0.10592506503227384},4.0082721958917674E-3,2.1488185234810407E-2,-3.3875883017985518E-2,-3.6322915896176117E-2,2.0448645643893218E-2,7.5445851614253642E-2,null,{"$f":"IF(ISERROR(AD21/AB20), \"\", AD21/AB20)","v":0.11108195465096757}]
["%Change (year over year)",null,{"$f":"IF(ISERROR((C22-B22)/B22), \"\", (C22-B22)/B22)","v":-3.8030572820768418E-3},{"$f":"IF(ISERROR((D22-C22)/C22), \"\", (D22-C22)/C22)","v":-6.3787520784219426E-2},{"$f":"IF(ISERROR((E22-D22)/D22), \"\", (E22-D22)/D22)","v":2.5614368794228192E-2},{"$f":"IF(ISERROR((F22-HLOOKUP(F11-1,$A$11:E26,12,FALSE))/HLOOKUP(F11-1,$A$11:E26,12,FALSE)), \"\", (F22-HLOOKUP(F11-1,$A$11:E26,12,FALSE))/HLOOKUP(F11-1,$A$11:E26,12,FALSE))","v":0.15371557701276325},{"$f":"IF(ISERROR((G22-HLOOKUP(G11-1,$A$11:F26,12,FALSE))/HLOOKUP(G11-1,$A$11:F26,12,FALSE)), \"\", (G22-HLOOKUP(G11-1,$A$11:F26,12,FALSE))/HLOOKUP(G11-1,$A$11:F26,12,FALSE))","v":-6.5028831390423359E-3},{"$f":"IF(ISERROR((H22-HLOOKUP(H11-1,$A$11:G26,12,FALSE))/HLOOKUP(H11-1,$A$11:G26,12,FALSE)), \"\", (H22-HLOOKUP(H11-1,$A$11:G26,12,FALSE))/HLOOKUP(H11-1,$A$11:G26,12,FALSE))","v":-2.2725537090845079E-2},{"$f":"IF(ISERROR((I22-HLOOKUP(I11-1,$A$11:H26,12,FALSE))/HLOOKUP(I11-1,$A$11:H26,12,FALSE)), \"\", (I22-HLOOKUP(I11-1,$A$11:H26,12,FALSE))/HLOOKUP(I11-1,$A$11:H26,12,FALSE))","v":-1.2392233765135089E-4},{"$f":"IF(ISERROR((J22-HLOOKUP(J11-1,$A$11:I26,12,FALSE))/HLOOKUP(J11-1,$A$11:I26,12,FALSE)), \"\", (J22-HLOOKUP(J11-1,$A$11:I26,12,FALSE))/HLOOKUP(J11-1,$A$11:I26,12,FALSE))","v":-5.1010806033522968E-2},{"$f":"IF(ISERROR((K22-HLOOKUP(K11-1,$A$11:J26,12,FALSE))/HLOOKUP(K11-1,$A$11:J26,12,FALSE)), \"\", (K22-HLOOKUP(K11-1,$A$11:J26,12,FALSE))/HLOOKUP(K11-1,$A$11:J26,12,FALSE))","v":-2.2918970771870578E-2},{"$f":"IF(ISERROR((L22-HLOOKUP(L11-1,$A$11:K26,12,FALSE))/HLOOKUP(L11-1,$A$11:K26,12,FALSE)), \"\", (L22-HLOOKUP(L11-1,$A$11:K26,12,FALSE))/HLOOKUP(L11-1,$A$11:K26,12,FALSE))","v":3.5230774308612919E-2},{"$f":"IF(ISERROR((M22-L22)/L22), \"\", (M22-L22)/L22)","v":4.2854162742380325E-2},null,null,"Percent Change:                                                    Test year vs. Most Current Actual ",null,null,null,null,null,null,null,null,null,null,null,null,null,{"$f":"IF(ISERROR((AD20-AA20)/AA20), \"\", (AD20-AA20)/AA20)","v":0.19490847893283936}]
["%Change (Test Year vs \nLast Rebasing Year - Actual)",null,null,null,null,null,null,null,null,null,null,null,{"$f":"IF(ISERROR((M22-C22)/C22), \"\", (M22-C22)/C22)","v":7.656242924003695E-2},null,null,"Simple average of % variance for all years",null,null,null,null,null,null,null,null,null,null,null,null,null,{"$f":"IF(ISERROR(AVERAGEIF(T22:AD22,\"<>0\")),0,AVERAGEIF(U22:AD22,\"<>0\"))","v":2.9186011513231205E-2}]
["Total",{"$f":"SUM(B22,B16)","v":12277560.192895822},{"$f":"SUM(C22,C16)","v":12310661.65},{"$f":"SUM(D22,D16)","v":11782127.399999999},12242644.359999999,13539447.26,13593717.050000001,{"$f":"SUM(H22,H16)","v":13885821.360000001},{"$f":"SUM(I22,I16)","v":13415426.899999997},12928139.476999998,{"$f":"SUM(K22,K16)","v":13192502.419999998},{"$f":"SUM(L22,L16)","v":14187822},{"$f":"SUM(M22,M16)","v":15763833},null,null,"Compound Annual Growth Rate for all years",null,null,null,null,null,null,null,null,null,null,null,null,null,null,{"$f":"IF((AD20-R20)=0, \"\", (AD20/R20)^(1/(TestYear-RebaseYear))-1)","v":2.5033461863727346E-2}]
["%Change (year over year)",null,{"$f":"IF(ISERROR((C25-B25)/B25), \"\", (C25-B25)/B25)","v":2.696094059740931E-3},{"$f":"IF(ISERROR((D25-C25)/C25), \"\", (D25-C25)/C25)","v":-4.2933049825149068E-2},{"$f":"IF(ISERROR((E25-D25)/D25), \"\", (E25-D25)/D25)","v":3.9086061826152124E-2},{"$f":"IF(ISERROR((F25-HLOOKUP(F11-1,$A$11:E26,15,FALSE))/HLOOKUP(F11-1,$A$11:E26,15,FALSE)), \"\", (F25-HLOOKUP(F11-1,$A$11:E26,15,FALSE))/HLOOKUP(F11-1,$A$11:E26,15,FALSE))","v":0.10592506503227384},{"$f":"IF(ISERROR((G25-HLOOKUP(G11-1,$A$11:F26,15,FALSE))/HLOOKUP(G11-1,$A$11:F26,15,FALSE)), \"\", (G25-HLOOKUP(G11-1,$A$11:F26,15,FALSE))/HLOOKUP(G11-1,$A$11:F26,15,FALSE))","v":4.0082721958917674E-3},{"$f":"IF(ISERROR((H25-HLOOKUP(H11-1,$A$11:G26,15,FALSE))/HLOOKUP(H11-1,$A$11:G26,15,FALSE)), \"\", (H25-HLOOKUP(H11-1,$A$11:G26,15,FALSE))/HLOOKUP(H11-1,$A$11:G26,15,FALSE))","v":2.1488185234810407E-2},{"$f":"IF(ISERROR((I25-HLOOKUP(I11-1,$A$11:H26,15,FALSE))/HLOOKUP(I11-1,$A$11:H26,15,FALSE)), \"\", (I25-HLOOKUP(I11-1,$A$11:H26,15,FALSE))/HLOOKUP(I11-1,$A$11:H26,15,FALSE))","v":-3.3875883017985518E-2},{"$f":"IF(ISERROR((J25-HLOOKUP(J11-1,$A$11:I26,15,FALSE))/HLOOKUP(J11-1,$A$11:I26,15,FALSE)), \"\", (J25-HLOOKUP(J11-1,$A$11:I26,15,FALSE))/HLOOKUP(J11-1,$A$11:I26,15,FALSE))","v":-3.6322915896176117E-2},{"$f":"IF(ISERROR((K25-HLOOKUP(K11-1,$A$11:J26,15,FALSE))/HLOOKUP(K11-1,$A$11:J26,15,FALSE)), \"\", (K25-HLOOKUP(K11-1,$A$11:J26,15,FALSE))/HLOOKUP(K11-1,$A$11:J26,15,FALSE))","v":2.0448645643893218E-2},{"$f":"IF(ISERROR((L25-HLOOKUP(L11-1,$A$11:K26,15,FALSE))/HLOOKUP(L11-1,$A$11:K26,15,FALSE)), \"\", (L25-HLOOKUP(L11-1,$A$11:K26,15,FALSE))/HLOOKUP(L11-1,$A$11:K26,15,FALSE))","v":7.5445851614253642E-2},{"$f":"IF(ISERROR((M25-L25)/L25), \"\", (M25-L25)/L25)","v":0.11108195465096757},null,null,{"$f":"\"Compound Growth Rate                                                            (\" & TestYear - 2 & \" vs. \" & 'LDC Info'!E28 & \" Actuals)\"","v":"Compound Growth Rate                                                            (2021 vs. 2013 Actuals)"},null,null,null,null,null,null,null,null,null,null,null,null,null,{"$f":"IF((AA20-R20)=0, \"\", (AA20/R20)^(1/(TestYear-2-RebaseYear))-1)","v":8.6853736243712731E-3}]
[]
[]
[null,{"$f":"B12","v":"2013 Last Rebasing Year OEB Approved"},"2013 Last Rebasing Year Actuals","2014 Actuals","2015 Actuals","2016 Actuals","2017 Actuals","2018 Actuals","2019 Actuals","2020 Actuals","2021 Actuals","2022 Actual","2023 Test Year"]
["Operations4",{"$f":"B14","v":3494495.9465787485},3564378.9200000013,{"$f":"D14","v":3619465.3399999985},3791562.4799999991,3833860.54,3616748.5600000024,4145464.2300000009,3657458.2199999969,3736729.5069999984,3520216.0699999994,3936106,5036718]
["Maintenance5",{"$f":"B15","v":136331.41606079505},132433.91999999998,{"$f":"D15","v":98269.309999999983},180124.80000000002,163254.70000000001,496689.13999999996,475522.22,494281.89,400271.31000000006,1082631.54,1359441,1453769]
["Billing and Collecting6",{"$f":"B19","v":1737462.8432220954},1997174.55,{"$f":"D19","v":2006891.5900000003},2055458.4300000002,2601284.4900000002,1978681.89,1858241,1890446,1788955,2121802.0999999992,2006222,2013816]
["Community Relations7",{"$f":"B20","v":245981.152186277},264755.86,{"$f":"D20","v":228805.58000000005},257543.81999999998,330038.43,370674.23,456175,385093,360258,171438.12000000002,26724,176527]
["Administrative and General8",{"$f":"B21","v":6663288.8348479057},6351918.3999999976,{"$f":"D21","v":5828695.5800000001},5957954.8300000001,6611009.0999999996,7130923.2299999977,6950418.9100000011,6988147.7899999982,6641925.6600000001,6296414.5899999999,6859329,7083003]
["Total",{"$f":"SUM(B30:B34)","v":12277560.192895822},{"$f":"SUM(C30:C34)","v":12310661.649999999},{"$f":"SUM(D30:D34)","v":11782127.399999999},{"$f":"SUM(E30:E34)","v":12242644.359999999},{"$f":"SUM(F30:F34)","v":13539447.26},13593717.050000001,13885821.360000003,13415426.899999995,12928139.476999998,13192502.419999998,14187822,15763833]
["%Change (year over year)",null,{"$f":"IF(ISERROR((C35-B35)/B35), \"\", (C35-B35)/B35)","v":2.6960940597407792E-3},{"$f":"IF(ISERROR((D35-C35)/C35), \"\", (D35-C35)/C35)","v":-4.2933049825148922E-2},{"$f":"IF(ISERROR((E35-D35)/D35), \"\", (E35-D35)/D35)","v":3.9086061826152124E-2},{"$f":"IF(U11<=RebaseYear,\"\",IF(U11=RebaseYear+1,IF(ISERROR((F35-$C$35)/$C$35),\"\",(F35-$C$35)/$C$35),IF(ISERROR((F35-E35)/E35),\"\",(F35-E35)/E35)))","v":0.10592506503227384},{"$f":"IF(V11<=RebaseYear,\"\",IF(V11=RebaseYear+1,IF(ISERROR((G35-$C$35)/$C$35),\"\",(G35-$C$35)/$C$35),IF(ISERROR((G35-F35)/F35),\"\",(G35-F35)/F35)))","v":4.0082721958917674E-3},{"$f":"IF(W11<=RebaseYear,\"\",IF(W11=RebaseYear+1,IF(ISERROR((H35-$C$35)/$C$35),\"\",(H35-$C$35)/$C$35),IF(ISERROR((H35-G35)/G35),\"\",(H35-G35)/G35)))","v":2.1488185234810546E-2},{"$f":"IF(Y11<=RebaseYear,\"\",IF(Y11=RebaseYear+1,IF(ISERROR((I35-$C$35)/$C$35),\"\",(I35-$C$35)/$C$35),IF(ISERROR((I35-H35)/H35),\"\",(I35-H35)/H35)))","v":-3.3875883017985782E-2},{"$f":"IF(Z11<=RebaseYear,\"\",IF(Z11=RebaseYear+1,IF(ISERROR((J35-$C$35)/$C$35),\"\",(J35-$C$35)/$C$35),IF(ISERROR((J35-I35)/I35),\"\",(J35-I35)/I35)))","v":-3.6322915896175985E-2},{"$f":"IF(AA11<=RebaseYear,\"\",IF(AA11=RebaseYear+1,IF(ISERROR((K35-$C$35)/$C$35),\"\",(K35-$C$35)/$C$35),IF(ISERROR((K35-J35)/J35),\"\",(K35-J35)/J35)))","v":2.0448645643893218E-2},{"$f":"IF(AB11<=RebaseYear,\"\",IF(AB11=RebaseYear+1,IF(ISERROR((L35-$C$35)/$C$35),\"\",(L35-$C$35)/$C$35),IF(ISERROR((L35-K35)/K35),\"\",(L35-K35)/K35)))","v":7.5445851614253642E-2},{"$f":"IF(AB11<=RebaseYear,0,IF(AB11=RebaseYear+1,IF(ISERROR((M35-$C$35)/$C$35),\"\",(M35-$C$35)/$C$35),IF(ISERROR((M35-L35)/L35),\"\",(M35-L35)/L35)))","v":0.11108195465096757}]
[]
["Note:"]
[]
["1     Historical actuals going back to the last cost of service application are required to be entered by the applicant."]
["2     Recoverable OM&A that is included on these tables should be identical to the recoverable OM&A that is shown for the corresponding periods on Appendix 2-JB."]
["3     For unrecoverable OM&A Expenses see Section 2.4.3.7"]
["4     USoA included in Operations: 5005, 5010, 5012, 5014, 5015, 5016, 5017, 5020, 5025, 5030, 5035, 5040, 5045, 5050, 5055, 5060, 5065, 5070, 5075, 5085, 5090, 5095, 5096"]
["5     USoA included in Maintenance: 5305, 5310, 5315, 5320, 5325, 5330, 5335, 5340"]
["6     USoA included in Billing and Collecting: 5105, 5110, 5112, 5114, 5120, 5125, 5130, 5135, 5145, 5150, 5155, 5160, 5165, 5170, 5172, 5175, 5178, 5195"]
["7     USoA included in Community Relations: 5405, 5410, 5415, 5420, 5425"]
["8     USoA included in Administrative and General: 5505, 5510, 5515, 5520, 5605, 5610, 5615, 5620, 5625, 5630, 5635, 5640, 5645, 5646, 5647, 5650, 5655, 5660, 5665, 5670, \n       5672, 5675, 5680, 5681, 5685, 5695 & 6205 (sub-account LEAP funding)"]

{"sheet":"Hidden_OM&A Summary","index":38,"n_rows":56,"n_cols":8,"rows_kept":56,"cut":false,"hidden":true,"merged":[]}
["Utility Name","EB Number","Test Year","Bridge Year","Last Rebasing Year","Heading","Year","Amount"]
[{"$f":"'LDC Info'!$E$14","v":"Bluewater Power Distribution Corporation"},{"$f":"EBNUMBER","v":"EB-2022-0016"},{"$f":"TestYear","v":2023},{"$f":"BridgeYear","v":2022},{"$f":"RebaseYear","v":2013},"Operations",{"$f":"'App.2-JA_OM&A_Summary_Analys'!$B$12","v":"2013 Last Rebasing Year OEB Approved"},{"$f":"'App.2-JA_OM&A_Summary_Analys'!B$14","v":3494495.9465787485}]
[{"$f":"'LDC Info'!$E$14","v":"Bluewater Power Distribution Corporation"},"EB-2022-0016",2023,2022,2013,"Maintenance",{"$f":"'App.2-JA_OM&A_Summary_Analys'!$B$12","v":"2013 Last Rebasing Year OEB Approved"},{"$f":"'App.2-JA_OM&A_Summary_Analys'!B$15","v":136331.41606079505}]
[{"$f":"'LDC Info'!$E$14","v":"Bluewater Power Distribution Corporation"},"EB-2022-0016",2023,2022,2013,"Billing and Collecting",{"$f":"'App.2-JA_OM&A_Summary_Analys'!$B$12","v":"2013 Last Rebasing Year OEB Approved"},{"$f":"'App.2-JA_OM&A_Summary_Analys'!B$19","v":1737462.8432220954}]
[{"$f":"'LDC Info'!$E$14","v":"Bluewater Power Distribution Corporation"},"EB-2022-0016",2023,2022,2013,"Community Relations",{"$f":"'App.2-JA_OM&A_Summary_Analys'!$B$12","v":"2013 Last Rebasing Year OEB Approved"},{"$f":"'App.2-JA_OM&A_Summary_Analys'!B$20","v":245981.152186277}]
[{"$f":"'LDC Info'!$E$14","v":"Bluewater Power Distribution Corporation"},"EB-2022-0016",2023,2022,2013,"Administrative and General",{"$f":"'App.2-JA_OM&A_Summary_Analys'!$B$12","v":"2013 Last Rebasing Year OEB Approved"},{"$f":"'App.2-JA_OM&A_Summary_Analys'!B$21","v":6663288.8348479057}]
[{"$f":"'LDC Info'!$E$14","v":"Bluewater Power Distribution Corporation"},"EB-2022-0016",2023,2022,2013,"Operations",{"$f":"'App.2-JA_OM&A_Summary_Analys'!$C$12","v":"2013 Last Rebasing Year Actuals"},{"$f":"'App.2-JA_OM&A_Summary_Analys'!C$14","v":3564378.9200000013}]
[{"$f":"'LDC Info'!$E$14","v":"Bluewater Power Distribution Corporation"},"EB-2022-0016",2023,2022,2013,"Maintenance",{"$f":"'App.2-JA_OM&A_Summary_Analys'!$C$12","v":"2013 Last Rebasing Year Actuals"},{"$f":"'App.2-JA_OM&A_Summary_Analys'!C$15","v":132433.91999999998}]
[{"$f":"'LDC Info'!$E$14","v":"Bluewater Power Distribution Corporation"},"EB-2022-0016",2023,2022,2013,"Billing and Collecting",{"$f":"'App.2-JA_OM&A_Summary_Analys'!$C$12","v":"2013 Last Rebasing Year Actuals"},{"$f":"'App.2-JA_OM&A_Summary_Analys'!C$19","v":1997174.55}]
[{"$f":"'LDC Info'!$E$14","v":"Bluewater Power Distribution Corporation"},"EB-2022-0016",2023,2022,2013,"Community Relations",{"$f":"'App.2-JA_OM&A_Summary_Analys'!$C$12","v":"2013 Last Rebasing Year Actuals"},{"$f":"'App.2-JA_OM&A_Summary_Analys'!C$20","v":264755.86}]
[{"$f":"'LDC Info'!$E$14","v":"Bluewater Power Distribution Corporation"},"EB-2022-0016",2023,2022,2013,"Administrative and General",{"$f":"'App.2-JA_OM&A_Summary_Analys'!$C$12","v":"2013 Last Rebasing Year Actuals"},{"$f":"'App.2-JA_OM&A_Summary_Analys'!C$21","v":6351918.3999999976}]
[{"$f":"'LDC Info'!$E$14","v":"Bluewater Power Distribution Corporation"},"EB-2022-0016",2023,2022,2013,"Operations",{"$f":"'App.2-JA_OM&A_Summary_Analys'!$E$12","v":"2015 Actuals"},{"$f":"'App.2-JA_OM&A_Summary_Analys'!E$14","v":3791562.4799999991}]
[{"$f":"'LDC Info'!$E$14","v":"Bluewater Power Distribution Corporation"},"EB-2022-0016",2023,2022,2013,"Maintenance",{"$f":"'App.2-JA_OM&A_Summary_Analys'!$E$12","v":"2015 Actuals"},{"$f":"'App.2-JA_OM&A_Summary_Analys'!E$15","v":180124.80000000002}]
[{"$f":"'LDC Info'!$E$14","v":"Bluewater Power Distribution Corporation"},"EB-2022-0016",2023,2022,2013,"Billing and Collecting",{"$f":"'App.2-JA_OM&A_Summary_Analys'!$E$12","v":"2015 Actuals"},{"$f":"'App.2-JA_OM&A_Summary_Analys'!E$19","v":2055458.4300000002}]
[{"$f":"'LDC Info'!$E$14","v":"Bluewater Power Distribution Corporation"},"EB-2022-0016",2023,2022,2013,"Community Relations",{"$f":"'App.2-JA_OM&A_Summary_Analys'!$E$12","v":"2015 Actuals"},{"$f":"'App.2-JA_OM&A_Summary_Analys'!E$20","v":257543.81999999998}]
[{"$f":"'LDC Info'!$E$14","v":"Bluewater Power Distribution Corporation"},"EB-2022-0016",2023,2022,2013,"Administrative and General",{"$f":"'App.2-JA_OM&A_Summary_Analys'!$E$12","v":"2015 Actuals"},{"$f":"'App.2-JA_OM&A_Summary_Analys'!E$21","v":5957954.8300000001}]
[{"$f":"'LDC Info'!$E$14","v":"Bluewater Power Distribution Corporation"},"EB-2022-0016",2023,2022,2013,"Operations",{"$f":"'App.2-JA_OM&A_Summary_Analys'!$F$12","v":"2016 Actuals"},{"$f":"'App.2-JA_OM&A_Summary_Analys'!F$14","v":3833860.54}]
[{"$f":"'LDC Info'!$E$14","v":"Bluewater Power Distribution Corporation"},"EB-2022-0016",2023,2022,2013,"Maintenance",{"$f":"'App.2-JA_OM&A_Summary_Analys'!$F$12","v":"2016 Actuals"},{"$f":"'App.2-JA_OM&A_Summary_Analys'!F$15","v":163254.70000000001}]
[{"$f":"'LDC Info'!$E$14","v":"Bluewater Power Distribution Corporation"},{"$f":"EBNUMBER","v":"EB-2022-0016"},{"$f":"TestYear","v":2023},{"$f":"BridgeYear","v":2022},{"$f":"RebaseYear","v":2013},"Billing and Collecting",{"$f":"'App.2-JA_OM&A_Summary_Analys'!$F$12","v":"2016 Actuals"},{"$f":"'App.2-JA_OM&A_Summary_Analys'!F$19","v":2601284.4900000002}]
[{"$f":"'LDC Info'!$E$14","v":"Bluewater Power Distribution Corporation"},"EB-2022-0016",2023,2022,2013,"Community Relations",{"$f":"'App.2-JA_OM&A_Summary_Analys'!$F$12","v":"2016 Actuals"},{"$f":"'App.2-JA_OM&A_Summary_Analys'!F$20","v":330038.43}]
[{"$f":"'LDC Info'!$E$14","v":"Bluewater Power Distribution Corporation"},"EB-2022-0016",2023,2022,2013,"Administrative and General",{"$f":"'App.2-JA_OM&A_Summary_Analys'!$F$12","v":"2016 Actuals"},{"$f":"'App.2-JA_OM&A_Summary_Analys'!F$21","v":6611009.0999999996}]
[{"$f":"'LDC Info'!$E$14","v":"Bluewater Power Distribution Corporation"},"EB-2022-0016",2023,2022,2013,"Operations",{"$f":"'App.2-JA_OM&A_Summary_Analys'!$G$12","v":"2017 Actuals"},{"$f":"'App.2-JA_OM&A_Summary_Analys'!G$14","v":3616748.5600000024}]
[{"$f":"'LDC Info'!$E$14","v":"Bluewater Power Distribution Corporation"},"EB-2022-0016",2023,2022,2013,"Maintenance",{"$f":"'App.2-JA_OM&A_Summary_Analys'!$G$12","v":"2017 Actuals"},{"$f":"'App.2-JA_OM&A_Summary_Analys'!G$15","v":496689.13999999996}]
[{"$f":"'LDC Info'!$E$14","v":"Bluewater Power Distribution Corporation"},"EB-2022-0016",2023,2022,2013,"Billing and Collecting",{"$f":"'App.2-JA_OM&A_Summary_Analys'!$G$12","v":"2017 Actuals"},{"$f":"'App.2-JA_OM&A_Summary_Analys'!G$19","v":1978681.89}]
[{"$f":"'LDC Info'!$E$14","v":"Bluewater Power Distribution Corporation"},"EB-2022-0016",2023,2022,2013,"Community Relations",{"$f":"'App.2-JA_OM&A_Summary_Analys'!$G$12","v":"2017 Actuals"},{"$f":"'App.2-JA_OM&A_Summary_Analys'!G$20","v":370674.23}]
[{"$f":"'LDC Info'!$E$14","v":"Bluewater Power Distribution Corporation"},"EB-2022-0016",2023,2022,2013,"Administrative and General",{"$f":"'App.2-JA_OM&A_Summary_Analys'!$G$12","v":"2017 Actuals"},{"$f":"'App.2-JA_OM&A_Summary_Analys'!G$21","v":7130923.2299999977}]
[{"$f":"'LDC Info'!$E$14","v":"Bluewater Power Distribution Corporation"},"EB-2022-0016",2023,2022,2013,"Operations",{"$f":"'App.2-JA_OM&A_Summary_Analys'!$H$12","v":"2018 Actuals"},{"$f":"'App.2-JA_OM&A_Summary_Analys'!H$14","v":4145464.2300000009}]
[{"$f":"'LDC Info'!$E$14","v":"Bluewater Power Distribution Corporation"},"EB-2022-0016",2023,2022,2013,"Maintenance",{"$f":"'App.2-JA_OM&A_Summary_Analys'!$H$12","v":"2018 Actuals"},{"$f":"'App.2-JA_OM&A_Summary_Analys'!H$15","v":475522.22}]
[{"$f":"'LDC Info'!$E$14","v":"Bluewater Power Distribution Corporation"},"EB-2022-0016",2023,2022,2013,"Billing and Collecting",{"$f":"'App.2-JA_OM&A_Summary_Analys'!$H$12","v":"2018 Actuals"},{"$f":"'App.2-JA_OM&A_Summary_Analys'!H$19","v":1858241}]
[{"$f":"'LDC Info'!$E$14","v":"Bluewater Power Distribution Corporation"},"EB-2022-0016",2023,2022,2013,"Community Relations",{"$f":"'App.2-JA_OM&A_Summary_Analys'!$H$12","v":"2018 Actuals"},{"$f":"'App.2-JA_OM&A_Summary_Analys'!H$20","v":456175}]
[{"$f":"'LDC Info'!$E$14","v":"Bluewater Power Distribution Corporation"},{"$f":"EBNUMBER","v":"EB-2022-0016"},{"$f":"TestYear","v":2023},{"$f":"BridgeYear","v":2022},{"$f":"RebaseYear","v":2013},"Administrative and General",{"$f":"'App.2-JA_OM&A_Summary_Analys'!$H$12","v":"2018 Actuals"},{"$f":"'App.2-JA_OM&A_Summary_Analys'!H$21","v":6950418.9100000011}]
[{"$f":"'LDC Info'!$E$14","v":"Bluewater Power Distribution Corporation"},"EB-2022-0016",2023,2022,2013,"Operations",{"$f":"'App.2-JA_OM&A_Summary_Analys'!$I$12","v":"2019 Actuals"},{"$f":"'App.2-JA_OM&A_Summary_Analys'!I$14","v":3657458.2199999969}]
[{"$f":"'LDC Info'!$E$14","v":"Bluewater Power Distribution Corporation"},"EB-2022-0016",2023,2022,2013,"Maintenance",{"$f":"'App.2-JA_OM&A_Summary_Analys'!$I$12","v":"2019 Actuals"},{"$f":"'App.2-JA_OM&A_Summary_Analys'!I$15","v":494281.89}]
[{"$f":"'LDC Info'!$E$14","v":"Bluewater Power Distribution Corporation"},"EB-2022-0016",2023,2022,2013,"Billing and Collecting",{"$f":"'App.2-JA_OM&A_Summary_Analys'!$I$12","v":"2019 Actuals"},{"$f":"'App.2-JA_OM&A_Summary_Analys'!I$19","v":1890446}]
[{"$f":"'LDC Info'!$E$14","v":"Bluewater Power Distribution Corporation"},"EB-2022-0016",2023,2022,2013,"Community Relations",{"$f":"'App.2-JA_OM&A_Summary_Analys'!$I$12","v":"2019 Actuals"},{"$f":"'App.2-JA_OM&A_Summary_Analys'!I$20","v":385093}]
[{"$f":"'LDC Info'!$E$14","v":"Bluewater Power Distribution Corporation"},"EB-2022-0016",2023,2022,2013,"Administrative and General",{"$f":"'App.2-JA_OM&A_Summary_Analys'!$I$12","v":"2019 Actuals"},{"$f":"'App.2-JA_OM&A_Summary_Analys'!I$21","v":6988147.7899999982}]
[{"$f":"'LDC Info'!$E$14","v":"Bluewater Power Distribution Corporation"},"EB-2022-0016",2023,2022,2013,"Operations",{"$f":"'App.2-JA_OM&A_Summary_Analys'!$J$12","v":"2020 Actuals"},{"$f":"'App.2-JA_OM&A_Summary_Analys'!J$14","v":3736729.5069999984}]
[{"$f":"'LDC Info'!$E$14","v":"Bluewater Power Distribution Corporation"},"EB-2022-0016",2023,2022,2013,"Maintenance",{"$f":"'App.2-JA_OM&A_Summary_Analys'!$J$12","v":"2020 Actuals"},{"$f":"'App.2-JA_OM&A_Summary_Analys'!J$15","v":400271.31000000006}]
[{"$f":"'LDC Info'!$E$14","v":"Bluewater Power Distribution Corporation"},"EB-2022-0016",2023,2022,2013,"Billing and Collecting",{"$f":"'App.2-JA_OM&A_Summary_Analys'!$J$12","v":"2020 Actuals"},{"$f":"'App.2-JA_OM&A_Summary_Analys'!J$19","v":1788955}]
[{"$f":"'LDC Info'!$E$14","v":"Bluewater Power Distribution Corporation"},"EB-2022-0016",2023,2022,2013,"Community Relations",{"$f":"'App.2-JA_OM&A_Summary_Analys'!$J$12","v":"2020 Actuals"},{"$f":"'App.2-JA_OM&A_Summary_Analys'!J$20","v":360258}]
[{"$f":"'LDC Info'!$E$14","v":"Bluewater Power Distribution Corporation"},"EB-2022-0016",2023,2022,2013,"Administrative and General",{"$f":"'App.2-JA_OM&A_Summary_Analys'!$J$12","v":"2020 Actuals"},{"$f":"'App.2-JA_OM&A_Summary_Analys'!J$21","v":6641925.6600000001}]
[{"$f":"'LDC Info'!$E$14","v":"Bluewater Power Distribution Corporation"},{"$f":"EBNUMBER","v":"EB-2022-0016"},{"$f":"TestYear","v":2023},{"$f":"BridgeYear","v":2022},{"$f":"RebaseYear","v":2013},"Operations",{"$f":"'App.2-JA_OM&A_Summary_Analys'!$K$12","v":"2021 Actuals"},{"$f":"'App.2-JA_OM&A_Summary_Analys'!K$14","v":3520216.0699999994}]
[{"$f":"'LDC Info'!$E$14","v":"Bluewater Power Distribution Corporation"},"EB-2022-0016",2023,2022,2013,"Maintenance",{"$f":"'App.2-JA_OM&A_Summary_Analys'!$K$12","v":"2021 Actuals"},{"$f":"'App.2-JA_OM&A_Summary_Analys'!K$15","v":1082631.54}]
[{"$f":"'LDC Info'!$E$14","v":"Bluewater Power Distribution Corporation"},"EB-2022-0016",2023,2022,2013,"Billing and Collecting",{"$f":"'App.2-JA_OM&A_Summary_Analys'!$K$12","v":"2021 Actuals"},{"$f":"'App.2-JA_OM&A_Summary_Analys'!K$19","v":2121802.0999999992}]
[{"$f":"'LDC Info'!$E$14","v":"Bluewater Power Distribution Corporation"},"EB-2022-0016",2023,2022,2013,"Community Relations",{"$f":"'App.2-JA_OM&A_Summary_Analys'!$K$12","v":"2021 Actuals"},{"$f":"'App.2-JA_OM&A_Summary_Analys'!K$20","v":171438.12000000002}]
[{"$f":"'LDC Info'!$E$14","v":"Bluewater Power Distribution Corporation"},"EB-2022-0016",2023,2022,2013,"Administrative and General",{"$f":"'App.2-JA_OM&A_Summary_Analys'!$K$12","v":"2021 Actuals"},{"$f":"'App.2-JA_OM&A_Summary_Analys'!K$21","v":6296414.5899999999}]
[{"$f":"'LDC Info'!$E$14","v":"Bluewater Power Distribution Corporation"},"EB-2022-0016",2023,2022,2013,"Operations",{"$f":"'App.2-JA_OM&A_Summary_Analys'!$L$12","v":"2022 Actual"},{"$f":"'App.2-JA_OM&A_Summary_Analys'!L$14","v":3936106}]
[{"$f":"'LDC Info'!$E$14","v":"Bluewater Power Distribution Corporation"},"EB-2022-0016",2023,2022,2013,"Maintenance",{"$f":"'App.2-JA_OM&A_Summary_Analys'!$L$12","v":"2022 Actual"},{"$f":"'App.2-JA_OM&A_Summary_Analys'!L$15","v":1359441}]
[{"$f":"'LDC Info'!$E$14","v":"Bluewater Power Distribution Corporation"},"EB-2022-0016",2023,2022,2013,"Billing and Collecting",{"$f":"'App.2-JA_OM&A_Summary_Analys'!$L$12","v":"2022 Actual"},{"$f":"'App.2-JA_OM&A_Summary_Analys'!L$19","v":2006222}]
[{"$f":"'LDC Info'!$E$14","v":"Bluewater Power Distribution Corporation"},"EB-2022-0016",2023,2022,2013,"Community Relations",{"$f":"'App.2-JA_OM&A_Summary_Analys'!$L$12","v":"2022 Actual"},{"$f":"'App.2-JA_OM&A_Summary_Analys'!L$20","v":26724}]
[{"$f":"'LDC Info'!$E$14","v":"Bluewater Power Distribution Corporation"},"EB-2022-0016",2023,2022,2013,"Administrative and General",{"$f":"'App.2-JA_OM&A_Summary_Analys'!$L$12","v":"2022 Actual"},{"$f":"'App.2-JA_OM&A_Summary_Analys'!L$21","v":6859329}]
[{"$f":"'LDC Info'!$E$14","v":"Bluewater Power Distribution Corporation"},"EB-2022-0016",2023,2022,2013,"Operations",{"$f":"'App.2-JA_OM&A_Summary_Analys'!$M$12","v":"2023 Test Year"},{"$f":"'App.2-JA_OM&A_Summary_Analys'!M14","v":5036718}]
[{"$f":"'LDC Info'!$E$14","v":"Bluewater Power Distribution Corporation"},"EB-2022-0016",2023,2022,2013,"Maintenance",{"$f":"'App.2-JA_OM&A_Summary_Analys'!$M$12","v":"2023 Test Year"},{"$f":"'App.2-JA_OM&A_Summary_Analys'!M15","v":1453769}]
[{"$f":"'LDC Info'!$E$14","v":"Bluewater Power Distribution Corporation"},"EB-2022-0016",2023,2022,2013,"Billing and Collecting",{"$f":"'App.2-JA_OM&A_Summary_Analys'!$M$12","v":"2023 Test Year"},{"$f":"'App.2-JA_OM&A_Summary_Analys'!M19","v":2013816}]
[{"$f":"'LDC Info'!$E$14","v":"Bluewater Power Distribution Corporation"},"EB-2022-0016",2023,2022,2013,"Community Relations",{"$f":"'App.2-JA_OM&A_Summary_Analys'!$M$12","v":"2023 Test Year"},{"$f":"'App.2-JA_OM&A_Summary_Analys'!M20","v":176527}]
[{"$f":"'LDC Info'!$E$14","v":"Bluewater Power Distribution Corporation"},"EB-2022-0016",2023,2022,2013,"Administrative and General",{"$f":"'App.2-JA_OM&A_Summary_Analys'!$M$12","v":"2023 Test Year"},{"$f":"'App.2-JA_OM&A_Summary_Analys'!M21","v":7083003}]

{"sheet":"OM&A_Expenses","index":39,"n_rows":30434,"n_cols":8,"rows_kept":4500,"cut":true,"hidden":true,"merged":[],"bounds":{"rows_first":2000,"rows_last":500,"rows_between":2000,"halvings":0}}
["Rates - Report 2"]
[""]
["Filing Year","Reporting Period",null,"Company Name","Category","Account No","Account Description","Amount"]
[2017,"January 1, 2016 - December 31, 2016",null,"1937680 Ontario Inc.","Administrative and General Expenses","5505","Supervision",0]
[2017,"January 1, 2016 - December 31, 2016",null,"1937680 Ontario Inc.","Administrative and General Expenses","5510","Demonstrating and Selling Expense",0]
[2017,"January 1, 2016 - December 31, 2016",null,"1937680 Ontario Inc.","Administrative and General Expenses","5515","Advertising Expense",0]
[2017,"January 1, 2016 - December 31, 2016",null,"1937680 Ontario Inc.","Administrative and General Expenses","5520","Miscellaneous Sales Expense",0]
[2017,"January 1, 2016 - December 31, 2016",null,"1937680 Ontario Inc.","Administrative and General Expenses","5605","Executive Salaries and Expenses",191914.68]
[2017,"January 1, 2016 - December 31, 2016",null,"1937680 Ontario Inc.","Administrative and General Expenses","5610","Management Salaries and Expenses",0]
[2017,"January 1, 2016 - December 31, 2016",null,"1937680 Ontario Inc.","Administrative and General Expenses","5615","General Administrative Salaries and Expenses",1244925.42]
[2017,"January 1, 2016 - December 31, 2016",null,"1937680 Ontario Inc.","Administrative and General Expenses","5620","Office Supplies and Expenses",5154.6400000000003]
[2017,"January 1, 2016 - December 31, 2016",null,"1937680 Ontario Inc.","Administrative and General Expenses","5625","Administrative Expense Transferred/Credit",0]
[2017,"January 1, 2016 - December 31, 2016",null,"1937680 Ontario Inc.","Administrative and General Expenses","5630","Outside Services Employed",427397.55]
[2017,"January 1, 2016 - December 31, 2016",null,"1937680 Ontario Inc.","Administrative and General Expenses","5635","Property Insurance",145291.20000000001]
[2017,"January 1, 2016 - December 31, 2016",null,"1937680 Ontario Inc.","Administrative and General Expenses","5640","Injuries and Damages",0]
[2017,"January 1, 2016 - December 31, 2016",null,"1937680 Ontario Inc.","Administrative and General Expenses","5645","OMERS Pensions and Benefits",587120.18999999994]
[2017,"January 1, 2016 - December 31, 2016",null,"1937680 Ontario Inc.","Administrative and General Expenses","5646","Employee Pensions and OPEB",0]
[2017,"January 1, 2016 - December 31, 2016",null,"1937680 Ontario Inc.","Administrative and General Expenses","5647","Employee Sick Leave",0]
[2017,"January 1, 2016 - December 31, 2016",null,"1937680 Ontario Inc.","Administrative and General Expenses","5650","Franchise Requirements",0]
[2017,"January 1, 2016 - December 31, 2016",null,"1937680 Ontario Inc.","Administrative and General Expenses","5655","Regulatory Expenses",267979.33]
[2017,"January 1, 2016 - December 31, 2016",null,"1937680 Ontario Inc.","Administrative and General Expenses","5660","General Advertising Expenses",72430.42]
[2017,"January 1, 2016 - December 31, 2016",null,"1937680 Ontario Inc.","Administrative and General Expenses","5665","Miscellaneous General Expenses",87434.28]
[2017,"January 1, 2016 - December 31, 2016",null,"1937680 Ontario Inc.","Administrative and General Expenses","5670","Rent",687883]
[2017,"January 1, 2016 - December 31, 2016",null,"1937680 Ontario Inc.","Administrative and General Expenses","5672","Lease Payment Expense",0]
[2017,"January 1, 2016 - December 31, 2016",null,"1937680 Ontario Inc.","Administrative and General Expenses","5675","Maintenance of General Plant",0]
[2017,"January 1, 2016 - December 31, 2016",null,"1937680 Ontario Inc.","Administrative and General Expenses","5680","Electrical Safety Authority Fees",23343.11]
[2017,"January 1, 2016 - December 31, 2016",null,"1937680 Ontario Inc.","Administrative and General Expenses","5681","Special Purpose Charge Expense",0]
[2017,"January 1, 2016 - December 31, 2016",null,"1937680 Ontario Inc.","Administrative and General Expenses","5685","Independent Market Operator Fees and Penalties",0]
[2017,"January 1, 2016 - December 31, 2016",null,"1937680 Ontario Inc.","Administrative and General Expenses","5695","OM&A Contra",0]
[2017,"January 1, 2016 - December 31, 2016",null,"1937680 Ontario Inc.","Administrative and General Expenses Total",null,null,3740873.82]
[2017,"January 1, 2016 - December 31, 2016",null,"1937680 Ontario Inc.","Billing and Collecting","5305","Supervision",334621.03999999998]
[2017,"January 1, 2016 - December 31, 2016",null,"1937680 Ontario Inc.","Billing and Collecting","5310","Meter Reading Expense",286006]
[2017,"January 1, 2016 - December 31, 2016",null,"1937680 Ontario Inc.","Billing and Collecting","5315","Customer Billing",737378]
[2017,"January 1, 2016 - December 31, 2016",null,"1937680 Ontario Inc.","Billing and Collecting","5320","Collecting",693782]
[2017,"January 1, 2016 - December 31, 2016",null,"1937680 Ontario Inc.","Billing and Collecting","5325","Collecting- Cash Over and Short",1424]
[2017,"January 1, 2016 - December 31, 2016",null,"1937680 Ontario Inc.","Billing and Collecting","5330","Collection Charges",0]
[2017,"January 1, 2016 - December 31, 2016",null,"1937680 Ontario Inc.","Billing and Collecting","5335","Bad Debt Expense",181287.65]
[2017,"January 1, 2016 - December 31, 2016",null,"1937680 Ontario Inc.","Billing and Collecting","5340","Miscellaneous Customer Accounts Expenses",0]
[2017,"January 1, 2016 - December 31, 2016",null,"1937680 Ontario Inc.","Billing and Collecting Total",null,null,2234498.69]
[2017,"January 1, 2016 - December 31, 2016",null,"1937680 Ontario Inc.","Community Relations","5405","Supervision",0]
[2017,"January 1, 2016 - December 31, 2016",null,"1937680 Ontario Inc.","Community Relations","5410","Community Relations - Sundry",0]
[2017,"January 1, 2016 - December 31, 2016",null,"1937680 Ontario Inc.","Community Relations","5415","Energy Conservation",0]
[2017,"January 1, 2016 - December 31, 2016",null,"1937680 Ontario Inc.","Community Relations","5420","Community Safety Program",0]
[2017,"January 1, 2016 - December 31, 2016",null,"1937680 Ontario Inc.","Community Relations","5425","Miscellaneous Customer Service and Informational Expenses",0]
[2017,"January 1, 2016 - December 31, 2016",null,"1937680 Ontario Inc.","Community Relations Total",null,null,0]
[2017,"January 1, 2016 - December 31, 2016",null,"1937680 Ontario Inc.","Distribution Expenses - Operation","5005","Operation Supervision and Engineering",1029528.75]
[2017,"January 1, 2016 - December 31, 2016",null,"1937680 Ontario Inc.","Distribution Expenses - Operation","5010","Load Dispatching",326839.90999999997]
[2017,"January 1, 2016 - December 31, 2016",null,"1937680 Ontario Inc.","Distribution Expenses - Operation","5012","Station Buildings and Fixtures Expense",14603.57]
[2017,"January 1, 2016 - December 31, 2016",null,"1937680 Ontario Inc.","Distribution Expenses - Operation","5014","Transformer Station Equipment - Operation Labour",0]
[2017,"January 1, 2016 - December 31, 2016",null,"1937680 Ontario Inc.","Distribution Expenses - Operation","5015","Transformer Station Equipment - Operation Supplies and Expenses",0]
[2017,"January 1, 2016 - December 31, 2016",null,"1937680 Ontario Inc.","Distribution Expenses - Operation","5016","Distribution Station Equipment - Operation Labour",161588.84]
[2017,"January 1, 2016 - December 31, 2016",null,"1937680 Ontario Inc.","Distribution Expenses - Operation","5017","Distribution Station Equipment - Operation Supplies and Expenses",126482.29]
[2017,"January 1, 2016 - December 31, 2016",null,"1937680 Ontario Inc.","Distribution Expenses - Operation","5020","Overhead Distribution Lines and Feeders - Operation Labour",190954.4]
[2017,"January 1, 2016 - December 31, 2016",null,"1937680 Ontario Inc.","Distribution Expenses - Operation","5025","Overhead Distribution Lines and Feeders - Operation Supplies and Expenses",249007.13]
[2017,"January 1, 2016 - December 31, 2016",null,"1937680 Ontario Inc.","Distribution Expenses - Operation","5030","Overhead Subtransmission Feeders - Operation",5762.73]
[2017,"January 1, 2016 - December 31, 2016",null,"1937680 Ontario Inc.","Distribution Expenses - Operation","5035","Overhead Distribution Transformers- Operation",2071.63]
[2017,"January 1, 2016 - December 31, 2016",null,"1937680 Ontario Inc.","Distribution Expenses - Operation","5040","Underground Distribution Lines and Feeders - Operation Labour",72020.649999999994]
[2017,"January 1, 2016 - December 31, 2016",null,"1937680 Ontario Inc.","Distribution Expenses - Operation","5045","Underground Distribution Lines and Feeders - Operation Supplies and Expenses",25465.34]
[2017,"January 1, 2016 - December 31, 2016",null,"1937680 Ontario Inc.","Distribution Expenses - Operation","5050","Underground Subtransmission Feeders - Operation",0]
[2017,"January 1, 2016 - December 31, 2016",null,"1937680 Ontario Inc.","Distribution Expenses - Operation","5055","Underground Distribution Transformers - Operation",1694.15]
[2017,"January 1, 2016 - December 31, 2016",null,"1937680 Ontario Inc.","Distribution Expenses - Operation","5060","Street Lighting and Signal System Expense",0]
[2017,"January 1, 2016 - December 31, 2016",null,"1937680 Ontario Inc.","Distribution Expenses - Operation","5065","Meter Expense",44850.25]
[2017,"January 1, 2016 - December 31, 2016",null,"1937680 Ontario Inc.","Distribution Expenses - Operation","5070","Customer Premises - Operation Labour",0]
[2017,"January 1, 2016 - December 31, 2016",null,"1937680 Ontario Inc.","Distribution Expenses - Operation","5075","Customer Premises - Materials and Expenses",0]
[2017,"January 1, 2016 - December 31, 2016",null,"1937680 Ontario Inc.","Distribution Expenses - Operation","5085","Miscellaneous Distribution Expense",260815.27]
[2017,"January 1, 2016 - December 31, 2016",null,"1937680 Ontario Inc.","Distribution Expenses - Operation","5090","Underground Distribution Lines and Feeders - Rental Paid",0]
[2017,"January 1, 2016 - December 31, 2016",null,"1937680 Ontario Inc.","Distribution Expenses - Operation","5095","Overhead Distribution Lines and Feeders - Rental Paid",0]
[2017,"January 1, 2016 - December 31, 2016",null,"1937680 Ontario Inc.","Distribution Expenses - Operation","5096","Other Rent",0]
[2017,"January 1, 2016 - December 31, 2016",null,"1937680 Ontario Inc.","Distribution Expenses - Operation Total",null,null,2511684.91]
[2017,"January 1, 2016 - December 31, 2016",null,"1937680 Ontario Inc.","Distribution Expenses – Maintenance","5105","Maintenance Supervision and Engineering",0]
[2017,"January 1, 2016 - December 31, 2016",null,"1937680 Ontario Inc.","Distribution Expenses – Maintenance","5110","Maintenance of Buildings and Fixtures - Distribution Stations",33366.03]
[2017,"January 1, 2016 - December 31, 2016",null,"1937680 Ontario Inc.","Distribution Expenses – Maintenance","5112","Maintenance of Transformer Station Equipment",0]
[2017,"January 1, 2016 - December 31, 2016",null,"1937680 Ontario Inc.","Distribution Expenses – Maintenance","5114","Maintenance of Distribution Station Equipment",0]
[2017,"January 1, 2016 - December 31, 2016",null,"1937680 Ontario Inc.","Distribution Expenses – Maintenance","5120","Maintenance of Poles, Towers and Fixtures",0]
[2017,"January 1, 2016 - December 31, 2016",null,"1937680 Ontario Inc.","Distribution Expenses – Maintenance","5125","Maintenance of Overhead Conductors and Devices",77636.649999999994]
[2017,"January 1, 2016 - December 31, 2016",null,"1937680 Ontario Inc.","Distribution Expenses – Maintenance","5130","Maintenance of Overhead Services",180434.28]
[2017,"January 1, 2016 - December 31, 2016",null,"1937680 Ontario Inc.","Distribution Expenses – Maintenance","5135","Overhead Distribution Lines and Feeders - Right of Way",44296.22]
[2017,"January 1, 2016 - December 31, 2016",null,"1937680 Ontario Inc.","Distribution Expenses – Maintenance","5145","Maintenance of Underground Conduit",0]
[2017,"January 1, 2016 - December 31, 2016",null,"1937680 Ontario Inc.","Distribution Expenses – Maintenance","5150","Maintenance of Underground Conductors and Devices",17100.34]
[2017,"January 1, 2016 - December 31, 2016",null,"1937680 Ontario Inc.","Distribution Expenses – Maintenance","5155","Maintenance of Underground Services",188004.39]
[2017,"January 1, 2016 - December 31, 2016",null,"1937680 Ontario Inc.","Distribution Expenses – Maintenance","5160","Maintenance of Line Transformers",23461.64]
[2017,"January 1, 2016 - December 31, 2016",null,"1937680 Ontario Inc.","Distribution Expenses – Maintenance","5165","Maintenance of Street Lighting and Signal Systems",8980.9699999999993]
[2017,"January 1, 2016 - December 31, 2016",null,"1937680 Ontario Inc.","Distribution Expenses – Maintenance","5170","Sentinel Lights - Labour",0]
[2017,"January 1, 2016 - December 31, 2016",null,"1937680 Ontario Inc.","Distribution Expenses – Maintenance","5172","Sentinel Lights - Materials and Expenses",0]
[2017,"January 1, 2016 - December 31, 2016",null,"1937680 Ontario Inc.","Distribution Expenses – Maintenance","5175","Maintenance of Meters",5496]
[2017,"January 1, 2016 - December 31, 2016",null,"1937680 Ontario Inc.","Distribution Expenses – Maintenance","5178","Customer Installations Expenses- Leased Property",0]
[2017,"January 1, 2016 - December 31, 2016",null,"1937680 Ontario Inc.","Distribution Expenses – Maintenance","5195","Maintenance of Other Installations on Customer Premises",0]
[2017,"January 1, 2016 - December 31, 2016",null,"1937680 Ontario Inc.","Distribution Expenses – Maintenance Total",null,null,578776.52]
[2017,"January 1, 2016 - December 31, 2016",null,"1937680 Ontario Inc.","Other Expenses","5205","Purchase of Transmission and System Services",0]
[2017,"January 1, 2016 - December 31, 2016",null,"1937680 Ontario Inc.","Other Expenses","5210","Transmission Charges",0]
[2017,"January 1, 2016 - December 31, 2016",null,"1937680 Ontario Inc.","Other Expenses","5215","Transmission Charges Recovered",0]
[2017,"January 1, 2016 - December 31, 2016",null,"1937680 Ontario Inc.","Other Expenses Total",null,null,0]
[2017,"January 1, 2016 - December 31, 2016",null,"Algoma Power Inc.","Administrative and General Expenses","5505","Supervision",0]
[2017,"January 1, 2016 - December 31, 2016",null,"Algoma Power Inc.","Administrative and General Expenses","5510","Demonstrating and Selling Expense",0]
[2017,"January 1, 2016 - December 31, 2016",null,"Algoma Power Inc.","Administrative and General Expenses","5515","Advertising Expense",0]
[2017,"January 1, 2016 - December 31, 2016",null,"Algoma Power Inc.","Administrative and General Expenses","5520","Miscellaneous Sales Expense",0]
[2017,"January 1, 2016 - December 31, 2016",null,"Algoma Power Inc.","Administrative and General Expenses","5605","Executive Salaries and Expenses",475379.64]
[2017,"January 1, 2016 - December 31, 2016",null,"Algoma Power Inc.","Administrative and General Expenses","5610","Management Salaries and Expenses",612058.82999999996]
[2017,"January 1, 2016 - December 31, 2016",null,"Algoma Power Inc.","Administrative and General Expenses","5615","General Administrative Salaries and Expenses",1791771.82]
[2017,"January 1, 2016 - December 31, 2016",null,"Algoma Power Inc.","Administrative and General Expenses","5620","Office Supplies and Expenses",176493.9]
[2017,"January 1, 2016 - December 31, 2016",null,"Algoma Power Inc.","Administrative and General Expenses","5625","Administrative Expense Transferred/Credit",-549618.75]
[2017,"January 1, 2016 - December 31, 2016",null,"Algoma Power Inc.","Administrative and General Expenses","5630","Outside Services Employed",629515.54]
[2017,"January 1, 2016 - December 31, 2016",null,"Algoma Power Inc.","Administrative and General Expenses","5635","Property Insurance",45719.18]
[2017,"January 1, 2016 - December 31, 2016",null,"Algoma Power Inc.","Administrative and General Expenses","5640","Injuries and Damages",0]
[2017,"January 1, 2016 - December 31, 2016",null,"Algoma Power Inc.","Administrative and General Expenses","5645","Employee Pensions and Benefits",191583.02]
[2017,"January 1, 2016 - December 31, 2016",null,"Algoma Power Inc.","Administrative and General Expenses","5650","Franchise Requirements",0]
[2017,"January 1, 2016 - December 31, 2016",null,"Algoma Power Inc.","Administrative and General Expenses","5655","Regulatory Expenses",198062.24]
[2017,"January 1, 2016 - December 31, 2016",null,"Algoma Power Inc.","Administrative and General Expenses","5660","General Advertising Expenses",12416.33]
[2017,"January 1, 2016 - December 31, 2016",null,"Algoma Power Inc.","Administrative and General Expenses","5665","Miscellaneous General Expenses",49773.69]
[2017,"January 1, 2016 - December 31, 2016",null,"Algoma Power Inc.","Administrative and General Expenses","5670","Rent",236986.57]
[2017,"January 1, 2016 - December 31, 2016",null,"Algoma Power Inc.","Administrative and General Expenses","5675","Maintenance of General Plant",617269.99]
[2017,"January 1, 2016 - December 31, 2016",null,"Algoma Power Inc.","Administrative and General Expenses","5680","Electrical Safety Authority Fees",15454]
[2017,"January 1, 2016 - December 31, 2016",null,"Algoma Power Inc.","Administrative and General Expenses","5681","Special Purpose Charge Expense",0]
[2017,"January 1, 2016 - December 31, 2016",null,"Algoma Power Inc.","Administrative and General Expenses","5685","Independent Market Operator Fees and Penalties",0]
[2017,"January 1, 2016 - December 31, 2016",null,"Algoma Power Inc.","Administrative and General Expenses","5695","OM&A Contra",0]
[2017,"January 1, 2016 - December 31, 2016",null,"Algoma Power Inc.","Administrative and General Expenses Total",null,null,4502866]
[2017,"January 1, 2016 - December 31, 2016",null,"Algoma Power Inc.","Billing and Collecting","5305","Supervision",85719]
[2017,"January 1, 2016 - December 31, 2016",null,"Algoma Power Inc.","Billing and Collecting","5310","Meter Reading Expense",117110.78]
[2017,"January 1, 2016 - December 31, 2016",null,"Algoma Power Inc.","Billing and Collecting","5315","Customer Billing",145876.24]
[2017,"January 1, 2016 - December 31, 2016",null,"Algoma Power Inc.","Billing and Collecting","5320","Collecting",233095.83]
[2017,"January 1, 2016 - December 31, 2016",null,"Algoma Power Inc.","Billing and Collecting","5325","Collecting- Cash Over and Short",0]
[2017,"January 1, 2016 - December 31, 2016",null,"Algoma Power Inc.","Billing and Collecting","5330","Collection Charges",0]
[2017,"January 1, 2016 - December 31, 2016",null,"Algoma Power Inc.","Billing and Collecting","5335","Bad Debt Expense",62003.59]
[2017,"January 1, 2016 - December 31, 2016",null,"Algoma Power Inc.","Billing and Collecting","5340","Miscellaneous Customer Accounts Expenses",231796.27]
[2017,"January 1, 2016 - December 31, 2016",null,"Algoma Power Inc.","Billing and Collecting Total",null,null,875601.71]
[2017,"January 1, 2016 - December 31, 2016",null,"Algoma Power Inc.","Community Relations","5405","Supervision",1225.56]
[2017,"January 1, 2016 - December 31, 2016",null,"Algoma Power Inc.","Community Relations","5410","Community Relations - Sundry",19685.46]
[2017,"January 1, 2016 - December 31, 2016",null,"Algoma Power Inc.","Community Relations","5415","Energy Conservation",0]
[2017,"January 1, 2016 - December 31, 2016",null,"Algoma Power Inc.","Community Relations","5420","Community Safety Program",0]
[2017,"January 1, 2016 - December 31, 2016",null,"Algoma Power Inc.","Community Relations","5425","Miscellaneous Customer Service and Informational Expenses",11397.37]
[2017,"January 1, 2016 - December 31, 2016",null,"Algoma Power Inc.","Community Relations Total",null,null,32308.39]
[2017,"January 1, 2016 - December 31, 2016",null,"Algoma Power Inc.","Distribution Expenses - Operation","5005","Operation Supervision and Engineering",114093.57]
[2017,"January 1, 2016 - December 31, 2016",null,"Algoma Power Inc.","Distribution Expenses - Operation","5010","Load Dispatching",40668.49]
[2017,"January 1, 2016 - December 31, 2016",null,"Algoma Power Inc.","Distribution Expenses - Operation","5012","Station Buildings and Fixtures Expense",85555.56]
[2017,"January 1, 2016 - December 31, 2016",null,"Algoma Power Inc.","Distribution Expenses - Operation","5014","Transformer Station Equipment - Operation Labour",0]
[2017,"January 1, 2016 - December 31, 2016",null,"Algoma Power Inc.","Distribution Expenses - Operation","5015","Transformer Station Equipment - Operation Supplies and Expenses",0]
[2017,"January 1, 2016 - December 31, 2016",null,"Algoma Power Inc.","Distribution Expenses - Operation","5016","Distribution Station Equipment - Operation Labour",42193.03]
[2017,"January 1, 2016 - December 31, 2016",null,"Algoma Power Inc.","Distribution Expenses - Operation","5017","Distribution Station Equipment - Operation Supplies and Expenses",16554.830000000002]
[2017,"January 1, 2016 - December 31, 2016",null,"Algoma Power Inc.","Distribution Expenses - Operation","5020","Overhead Distribution Lines and Feeders - Operation Labour",77475.44]
[2017,"January 1, 2016 - December 31, 2016",null,"Algoma Power Inc.","Distribution Expenses - Operation","5025","Overhead Distribution Lines and Feeders - Operation Supplies and Expenses",70523.179999999993]
[2017,"January 1, 2016 - December 31, 2016",null,"Algoma Power Inc.","Distribution Expenses - Operation","5030","Overhead Subtransmission Feeders - Operation",76130.179999999993]
[2017,"January 1, 2016 - December 31, 2016",null,"Algoma Power Inc.","Distribution Expenses - Operation","5035","Overhead Distribution Transformers- Operation",2970.97]
[2017,"January 1, 2016 - December 31, 2016",null,"Algoma Power Inc.","Distribution Expenses - Operation","5040","Underground Distribution Lines and Feeders - Operation Labour",2552.62]
[2017,"January 1, 2016 - December 31, 2016",null,"Algoma Power Inc.","Distribution Expenses - Operation","5045","Underground Distribution Lines and Feeders - Operation Supplies and Expenses",0]
[2017,"January 1, 2016 - December 31, 2016",null,"Algoma Power Inc.","Distribution Expenses - Operation","5050","Underground Subtransmission Feeders - Operation",0]
[2017,"January 1, 2016 - December 31, 2016",null,"Algoma Power Inc.","Distribution Expenses - Operation","5055","Underground Distribution Transformers - Operation",0]
[2017,"January 1, 2016 - December 31, 2016",null,"Algoma Power Inc.","Distribution Expenses - Operation","5060","Street Lighting and Signal System Expense",0]
[2017,"January 1, 2016 - December 31, 2016",null,"Algoma Power Inc.","Distribution Expenses - Operation","5065","Meter Expense",353615.85]
[2017,"January 1, 2016 - December 31, 2016",null,"Algoma Power Inc.","Distribution Expenses - Operation","5070","Customer Premises - Operation Labour",84095.91]
[2017,"January 1, 2016 - December 31, 2016",null,"Algoma Power Inc.","Distribution Expenses - Operation","5075","Customer Premises - Materials and Expenses",21132.53]
[2017,"January 1, 2016 - December 31, 2016",null,"Algoma Power Inc.","Distribution Expenses - Operation","5085","Miscellaneous Distribution Expense",280419.07]
[2017,"January 1, 2016 - December 31, 2016",null,"Algoma Power Inc.","Distribution Expenses - Operation","5090","Underground Distribution Lines and Feeders - Rental Paid",0]
[2017,"January 1, 2016 - December 31, 2016",null,"Algoma Power Inc.","Distribution Expenses - Operation","5095","Overhead Distribution Lines and Feeders - Rental Paid",25176.87]
[2017,"January 1, 2016 - December 31, 2016",null,"Algoma Power Inc.","Distribution Expenses - Operation","5096","Other Rent",3413.64]
[2017,"January 1, 2016 - December 31, 2016",null,"Algoma Power Inc.","Distribution Expenses - Operation Total",null,null,1296571.74]
[2017,"January 1, 2016 - December 31, 2016",null,"Algoma Power Inc.","Distribution Expenses – Maintenance","5105","Maintenance Supervision and Engineering",52621.98]
[2017,"January 1, 2016 - December 31, 2016",null,"Algoma Power Inc.","Distribution Expenses – Maintenance","5110","Maintenance of Buildings and Fixtures - Distribution Stations",1362.5]
[2017,"January 1, 2016 - December 31, 2016",null,"Algoma Power Inc.","Distribution Expenses – Maintenance","5112","Maintenance of Transformer Station Equipment",0]
[2017,"January 1, 2016 - December 31, 2016",null,"Algoma Power Inc.","Distribution Expenses – Maintenance","5114","Maintenance of Distribution Station Equipment",24115.42]
[2017,"January 1, 2016 - December 31, 2016",null,"Algoma Power Inc.","Distribution Expenses – Maintenance","5120","Maintenance of Poles, Towers and Fixtures",150750.29]
[2017,"January 1, 2016 - December 31, 2016",null,"Algoma Power Inc.","Distribution Expenses – Maintenance","5125","Maintenance of Overhead Conductors and Devices",803434.09]
[2017,"January 1, 2016 - December 31, 2016",null,"Algoma Power Inc.","Distribution Expenses – Maintenance","5130","Maintenance of Overhead Services",254819.96]
[2017,"January 1, 2016 - December 31, 2016",null,"Algoma Power Inc.","Distribution Expenses – Maintenance","5135","Overhead Distribution Lines and Feeders - Right of Way",3346740.7]
[2017,"January 1, 2016 - December 31, 2016",null,"Algoma Power Inc.","Distribution Expenses – Maintenance","5145","Maintenance of Underground Conduit",0]
[2017,"January 1, 2016 - December 31, 2016",null,"Algoma Power Inc.","Distribution Expenses – Maintenance","5150","Maintenance of Underground Conductors and Devices",0]
[2017,"January 1, 2016 - December 31, 2016",null,"Algoma Power Inc.","Distribution Expenses – Maintenance","5155","Maintenance of Underground Services",410.97]
[2017,"January 1, 2016 - December 31, 2016",null,"Algoma Power Inc.","Distribution Expenses – Maintenance","5160","Maintenance of Line Transformers",7965.86]
[2017,"January 1, 2016 - December 31, 2016",null,"Algoma Power Inc.","Distribution Expenses – Maintenance","5165","Maintenance of Street Lighting and Signal Systems",0]
[2017,"January 1, 2016 - December 31, 2016",null,"Algoma Power Inc.","Distribution Expenses – Maintenance","5170","Sentinel Lights - Labour",0]
[2017,"January 1, 2016 - December 31, 2016",null,"Algoma Power Inc.","Distribution Expenses – Maintenance","5172","Sentinel Lights - Materials and Expenses",0]
[2017,"January 1, 2016 - December 31, 2016",null,"Algoma Power Inc.","Distribution Expenses – Maintenance","5175","Maintenance of Meters",422693.07]
[2017,"January 1, 2016 - December 31, 2016",null,"Algoma Power Inc.","Distribution Expenses – Maintenance","5178","Customer Installations Expenses- Leased Property",0]
[2017,"January 1, 2016 - December 31, 2016",null,"Algoma Power Inc.","Distribution Expenses – Maintenance","5195","Maintenance of Other Installations on Customer Premises",0]
[2017,"January 1, 2016 - December 31, 2016",null,"Algoma Power Inc.","Distribution Expenses – Maintenance Total",null,null,5064914.84]
[2017,"January 1, 2016 - December 31, 2016",null,"Algoma Power Inc.","Other Expenses","5205","Purchase of Transmission and System Services",0]
[2017,"January 1, 2016 - December 31, 2016",null,"Algoma Power Inc.","Other Expenses","5210","Transmission Charges",0]
[2017,"January 1, 2016 - December 31, 2016",null,"Algoma Power Inc.","Other Expenses","5215","Transmission Charges Recovered",0]
[2017,"January 1, 2016 - December 31, 2016",null,"Algoma Power Inc.","Other Expenses Total",null,null,0]
[2017,"January 1, 2016 - December 31, 2016",null,"Atikokan Hydro Inc.","Administrative and General Expenses","5505","Supervision",0]
[2017,"January 1, 2016 - December 31, 2016",null,"Atikokan Hydro Inc.","Administrative and General Expenses","5510","Demonstrating and Selling Expense",0]
[2017,"January 1, 2016 - December 31, 2016",null,"Atikokan Hydro Inc.","Administrative and General Expenses","5515","Advertising Expense",0]
[2017,"January 1, 2016 - December 31, 2016",null,"Atikokan Hydro Inc.","Administrative and General Expenses","5520","Miscellaneous Sales Expense",0]
[2017,"January 1, 2016 - December 31, 2016",null,"Atikokan Hydro Inc.","Administrative and General Expenses","5605","Executive Salaries and Expenses",8360.36]
[2017,"January 1, 2016 - December 31, 2016",null,"Atikokan Hydro Inc.","Administrative and General Expenses","5610","Management Salaries and Expenses",110571.81]
[2017,"January 1, 2016 - December 31, 2016",null,"Atikokan Hydro Inc.","Administrative and General Expenses","5615","General Administrative Salaries and Expenses",92720.68]
[2017,"January 1, 2016 - December 31, 2016",null,"Atikokan Hydro Inc.","Administrative and General Expenses","5620","Office Supplies and Expenses",3945.45]
[2017,"January 1, 2016 - December 31, 2016",null,"Atikokan Hydro Inc.","Administrative and General Expenses","5625","Administrative Expense Transferred/Credit",0]
[2017,"January 1, 2016 - December 31, 2016",null,"Atikokan Hydro Inc.","Administrative and General Expenses","5630","Outside Services Employed",62105.48]
[2017,"January 1, 2016 - December 31, 2016",null,"Atikokan Hydro Inc.","Administrative and General Expenses","5635","Property Insurance",7041.15]
[2017,"January 1, 2016 - December 31, 2016",null,"Atikokan Hydro Inc.","Administrative and General Expenses","5640","Injuries and Damages",0]
[2017,"January 1, 2016 - December 31, 2016",null,"Atikokan Hydro Inc.","Administrative and General Expenses","5645","OMERS Pensions and Benefits",58222.15]
[2017,"January 1, 2016 - December 31, 2016",null,"Atikokan Hydro Inc.","Administrative and General Expenses","5646","Employee Pensions and OPEB",0]
[2017,"January 1, 2016 - December 31, 2016",null,"Atikokan Hydro Inc.","Administrative and General Expenses","5647","Employee Sick Leave",0]
[2017,"January 1, 2016 - December 31, 2016",null,"Atikokan Hydro Inc.","Administrative and General Expenses","5650","Franchise Requirements",0]
[2017,"January 1, 2016 - December 31, 2016",null,"Atikokan Hydro Inc.","Administrative and General Expenses","5655","Regulatory Expenses",23751.57]
[2017,"January 1, 2016 - December 31, 2016",null,"Atikokan Hydro Inc.","Administrative and General Expenses","5660","General Advertising Expenses",421.5]
[2017,"January 1, 2016 - December 31, 2016",null,"Atikokan Hydro Inc.","Administrative and General Expenses","5665","Miscellaneous General Expenses",29051.38]
[2017,"January 1, 2016 - December 31, 2016",null,"Atikokan Hydro Inc.","Administrative and General Expenses","5670","Rent",0]
[2017,"January 1, 2016 - December 31, 2016",null,"Atikokan Hydro Inc.","Administrative and General Expenses","5672","Lease Payment Expense",0]
[2017,"January 1, 2016 - December 31, 2016",null,"Atikokan Hydro Inc.","Administrative and General Expenses","5675","Maintenance of General Plant",21900.5]
[2017,"January 1, 2016 - December 31, 2016",null,"Atikokan Hydro Inc.","Administrative and General Expenses","5680","Electrical Safety Authority Fees",0]
[2017,"January 1, 2016 - December 31, 2016",null,"Atikokan Hydro Inc.","Administrative and General Expenses","5681","Special Purpose Charge Expense",0]
[2017,"January 1, 2016 - December 31, 2016",null,"Atikokan Hydro Inc.","Administrative and General Expenses","5685","Independent Market Operator Fees and Penalties",0]
[2017,"January 1, 2016 - December 31, 2016",null,"Atikokan Hydro Inc.","Administrative and General Expenses","5695","OM&A Contra",0]
[2017,"January 1, 2016 - December 31, 2016",null,"Atikokan Hydro Inc.","Administrative and General Expenses Total",null,null,418092.03]
[2017,"January 1, 2016 - December 31, 2016",null,"Atikokan Hydro Inc.","Billing and Collecting","5305","Supervision",3060.11]
[2017,"January 1, 2016 - December 31, 2016",null,"Atikokan Hydro Inc.","Billing and Collecting","5310","Meter Reading Expense",29682.95]
[2017,"January 1, 2016 - December 31, 2016",null,"Atikokan Hydro Inc.","Billing and Collecting","5315","Customer Billing",124760.03]
[2017,"January 1, 2016 - December 31, 2016",null,"Atikokan Hydro Inc.","Billing and Collecting","5320","Collecting",151.22999999999999]
[2017,"January 1, 2016 - December 31, 2016",null,"Atikokan Hydro Inc.","Billing and Collecting","5325","Collecting- Cash Over and Short",0]
[2017,"January 1, 2016 - December 31, 2016",null,"Atikokan Hydro Inc.","Billing and Collecting","5330","Collection Charges",0]
[2017,"January 1, 2016 - December 31, 2016",null,"Atikokan Hydro Inc.","Billing and Collecting","5335","Bad Debt Expense",1141.3]
[2017,"January 1, 2016 - December 31, 2016",null,"Atikokan Hydro Inc.","Billing and Collecting","5340","Miscellaneous Customer Accounts Expenses",4242.62]
[2017,"January 1, 2016 - December 31, 2016",null,"Atikokan Hydro Inc.","Billing and Collecting Total",null,null,163038.24]
[2017,"January 1, 2016 - December 31, 2016",null,"Atikokan Hydro Inc.","Community Relations","5405","Supervision",0]
[2017,"January 1, 2016 - December 31, 2016",null,"Atikokan Hydro Inc.","Community Relations","5410","Community Relations - Sundry",0]
[2017,"January 1, 2016 - December 31, 2016",null,"Atikokan Hydro Inc.","Community Relations","5415","Energy Conservation",0]
[2017,"January 1, 2016 - December 31, 2016",null,"Atikokan Hydro Inc.","Community Relations","5420","Community Safety Program",0]
[2017,"January 1, 2016 - December 31, 2016",null,"Atikokan Hydro Inc.","Community Relations","5425","Miscellaneous Customer Service and Informational Expenses",0]
[2017,"January 1, 2016 - December 31, 2016",null,"Atikokan Hydro Inc.","Community Relations Total",null,null,0]
[2017,"January 1, 2016 - December 31, 2016",null,"Atikokan Hydro Inc.","Distribution Expenses - Operation","5005","Operation Supervision and Engineering",0]
[2017,"January 1, 2016 - December 31, 2016",null,"Atikokan Hydro Inc.","Distribution Expenses - Operation","5010","Load Dispatching",0]
[2017,"January 1, 2016 - December 31, 2016",null,"Atikokan Hydro Inc.","Distribution Expenses - Operation","5012","Station Buildings and Fixtures Expense",0]
[2017,"January 1, 2016 - December 31, 2016",null,"Atikokan Hydro Inc.","Distribution Expenses - Operation","5014","Transformer Station Equipment - Operation Labour",0]
[2017,"January 1, 2016 - December 31, 2016",null,"Atikokan Hydro Inc.","Distribution Expenses - Operation","5015","Transformer Station Equipment - Operation Supplies and Expenses",0]
[2017,"January 1, 2016 - December 31, 2016",null,"Atikokan Hydro Inc.","Distribution Expenses - Operation","5016","Distribution Station Equipment - Operation Labour",32872.97]
[2017,"January 1, 2016 - December 31, 2016",null,"Atikokan Hydro Inc.","Distribution Expenses - Operation","5017","Distribution Station Equipment - Operation Supplies and Expenses",0]
[2017,"January 1, 2016 - December 31, 2016",null,"Atikokan Hydro Inc.","Distribution Expenses - Operation","5020","Overhead Distribution Lines and Feeders - Operation Labour",261509.27]
[2017,"January 1, 2016 - December 31, 2016",null,"Atikokan Hydro Inc.","Distribution Expenses - Operation","5025","Overhead Distribution Lines and Feeders - Operation Supplies and Expenses",49598.17]
[2017,"January 1, 2016 - December 31, 2016",null,"Atikokan Hydro Inc.","Distribution Expenses - Operation","5030","Overhead Subtransmission Feeders - Operation",7946.86]
[2017,"January 1, 2016 - December 31, 2016",null,"Atikokan Hydro Inc.","Distribution Expenses - Operation","5035","Overhead Distribution Transformers- Operation",0]
[2017,"January 1, 2016 - December 31, 2016",null,"Atikokan Hydro Inc.","Distribution Expenses - Operation","5040","Underground Distribution Lines and Feeders - Operation Labour",0]
[2017,"January 1, 2016 - December 31, 2016",null,"Atikokan Hydro Inc.","Distribution Expenses - Operation","5045","Underground Distribution Lines and Feeders - Operation Supplies and Expenses",0]
[2017,"January 1, 2016 - December 31, 2016",null,"Atikokan Hydro Inc.","Distribution Expenses - Operation","5050","Underground Subtransmission Feeders - Operation",0]
[2017,"January 1, 2016 - December 31, 2016",null,"Atikokan Hydro Inc.","Distribution Expenses - Operation","5055","Underground Distribution Transformers - Operation",0]
[2017,"January 1, 2016 - December 31, 2016",null,"Atikokan Hydro Inc.","Distribution Expenses - Operation","5060","Street Lighting and Signal System Expense",0]
[2017,"January 1, 2016 - December 31, 2016",null,"Atikokan Hydro Inc.","Distribution Expenses - Operation","5065","Meter Expense",13584.38]
[2017,"January 1, 2016 - December 31, 2016",null,"Atikokan Hydro Inc.","Distribution Expenses - Operation","5070","Customer Premises - Operation Labour",0]
[2017,"January 1, 2016 - December 31, 2016",null,"Atikokan Hydro Inc.","Distribution Expenses - Operation","5075","Customer Premises - Materials and Expenses",0]
[2017,"January 1, 2016 - December 31, 2016",null,"Atikokan Hydro Inc.","Distribution Expenses - Operation","5085","Miscellaneous Distribution Expense",33306.61]
[2017,"January 1, 2016 - December 31, 2016",null,"Atikokan Hydro Inc.","Distribution Expenses - Operation","5090","Underground Distribution Lines and Feeders - Rental Paid",0]
[2017,"January 1, 2016 - December 31, 2016",null,"Atikokan Hydro Inc.","Distribution Expenses - Operation","5095","Overhead Distribution Lines and Feeders - Rental Paid",175.16]
[2017,"January 1, 2016 - December 31, 2016",null,"Atikokan Hydro Inc.","Distribution Expenses - Operation","5096","Other Rent",50]
[2017,"January 1, 2016 - December 31, 2016",null,"Atikokan Hydro Inc.","Distribution Expenses - Operation Total",null,null,399043.42]
[2017,"January 1, 2016 - December 31, 2016",null,"Atikokan Hydro Inc.","Distribution Expenses – Maintenance","5105","Maintenance Supervision and Engineering",0]
[2017,"January 1, 2016 - December 31, 2016",null,"Atikokan Hydro Inc.","Distribution Expenses – Maintenance","5110","Maintenance of Buildings and Fixtures - Distribution Stations",0]
[2017,"January 1, 2016 - December 31, 2016",null,"Atikokan Hydro Inc.","Distribution Expenses – Maintenance","5112","Maintenance of Transformer Station Equipment",0]
[2017,"January 1, 2016 - December 31, 2016",null,"Atikokan Hydro Inc.","Distribution Expenses – Maintenance","5114","Maintenance of Distribution Station Equipment",9305.48]
[2017,"January 1, 2016 - December 31, 2016",null,"Atikokan Hydro Inc.","Distribution Expenses – Maintenance","5120","Maintenance of Poles, Towers and Fixtures",0]
[2017,"January 1, 2016 - December 31, 2016",null,"Atikokan Hydro Inc.","Distribution Expenses – Maintenance","5125","Maintenance of Overhead Conductors and Devices",375.24]
[2017,"January 1, 2016 - December 31, 2016",null,"Atikokan Hydro Inc.","Distribution Expenses – Maintenance","5130","Maintenance of Overhead Services",0]
[2017,"January 1, 2016 - December 31, 2016",null,"Atikokan Hydro Inc.","Distribution Expenses – Maintenance","5135","Overhead Distribution Lines and Feeders - Right of Way",50240]
[2017,"January 1, 2016 - December 31, 2016",null,"Atikokan Hydro Inc.","Distribution Expenses – Maintenance","5145","Maintenance of Underground Conduit",0]
[2017,"January 1, 2016 - December 31, 2016",null,"Atikokan Hydro Inc.","Distribution Expenses – Maintenance","5150","Maintenance of Underground Conductors and Devices",0]
[2017,"January 1, 2016 - December 31, 2016",null,"Atikokan Hydro Inc.","Distribution Expenses – Maintenance","5155","Maintenance of Underground Services",0]
[2017,"January 1, 2016 - December 31, 2016",null,"Atikokan Hydro Inc.","Distribution Expenses – Maintenance","5160","Maintenance of Line Transformers",3557.21]
[2017,"January 1, 2016 - December 31, 2016",null,"Atikokan Hydro Inc.","Distribution Expenses – Maintenance","5165","Maintenance of Street Lighting and Signal Systems",0]
[2017,"January 1, 2016 - December 31, 2016",null,"Atikokan Hydro Inc.","Distribution Expenses – Maintenance","5170","Sentinel Lights - Labour",0]
[2017,"January 1, 2016 - December 31, 2016",null,"Atikokan Hydro Inc.","Distribution Expenses – Maintenance","5172","Sentinel Lights - Materials and Expenses",0]
[2017,"January 1, 2016 - December 31, 2016",null,"Atikokan Hydro Inc.","Distribution Expenses – Maintenance","5175","Maintenance of Meters",29937.78]
[2017,"January 1, 2016 - December 31, 2016",null,"Atikokan Hydro Inc.","Distribution Expenses – Maintenance","5178","Customer Installations Expenses- Leased Property",0]
[2017,"January 1, 2016 - December 31, 2016",null,"Atikokan Hydro Inc.","Distribution Expenses – Maintenance","5195","Maintenance of Other Installations on Customer Premises",0]
[2017,"January 1, 2016 - December 31, 2016",null,"Atikokan Hydro Inc.","Distribution Expenses – Maintenance Total",null,null,93415.71]
[2017,"January 1, 2016 - December 31, 2016",null,"Atikokan Hydro Inc.","Other Expenses","5205","Purchase of Transmission and System Services",0]
[2017,"January 1, 2016 - December 31, 2016",null,"Atikokan Hydro Inc.","Other Expenses","5210","Transmission Charges",0]
[2017,"January 1, 2016 - December 31, 2016",null,"Atikokan Hydro Inc.","Other Expenses","5215","Transmission Charges Recovered",0]
[2017,"January 1, 2016 - December 31, 2016",null,"Atikokan Hydro Inc.","Other Expenses Total",null,null,0]
[2017,"January 1, 2016 - December 31, 2016",null,"Bluewater Power Distribution Corporation","Administrative and General Expenses","5505","Supervision",0]
[2017,"January 1, 2016 - December 31, 2016",null,"Bluewater Power Distribution Corporation","Administrative and General Expenses","5510","Demonstrating and Selling Expense",0]
[2017,"January 1, 2016 - December 31, 2016",null,"Bluewater Power Distribution Corporation","Administrative and General Expenses","5515","Advertising Expense",0]
[2017,"January 1, 2016 - December 31, 2016",null,"Bluewater Power Distribution Corporation","Administrative and General Expenses","5520","Miscellaneous Sales Expense",0]
[2017,"January 1, 2016 - December 31, 2016",null,"Bluewater Power Distribution Corporation","Administrative and General Expenses","5605","Executive Salaries and Expenses",1599396.28]
[2017,"January 1, 2016 - December 31, 2016",null,"Bluewater Power Distribution Corporation","Administrative and General Expenses","5610","Management Salaries and Expenses",90737.02]
[2017,"January 1, 2016 - December 31, 2016",null,"Bluewater Power Distribution Corporation","Administrative and General Expenses","5615","General Administrative Salaries and Expenses",1612790.22]
[2017,"January 1, 2016 - December 31, 2016",null,"Bluewater Power Distribution Corporation","Administrative and General Expenses","5620","Office Supplies and Expenses",3048.89]
[2017,"January 1, 2016 - December 31, 2016",null,"Bluewater Power Distribution Corporation","Administrative and General Expenses","5625","Administrative Expense Transferred/Credit",0]
[2017,"January 1, 2016 - December 31, 2016",null,"Bluewater Power Distribution Corporation","Administrative and General Expenses","5630","Outside Services Employed",2722.37]
[2017,"January 1, 2016 - December 31, 2016",null,"Bluewater Power Distribution Corporation","Administrative and General Expenses","5635","Property Insurance",168113.2]
[2017,"January 1, 2016 - December 31, 2016",null,"Bluewater Power Distribution Corporation","Administrative and General Expenses","5640","Injuries and Damages",0]
[2017,"January 1, 2016 - December 31, 2016",null,"Bluewater Power Distribution Corporation","Administrative and General Expenses","5645","OMERS Pensions and Benefits",1237513]
[2017,"January 1, 2016 - December 31, 2016",null,"Bluewater Power Distribution Corporation","Administrative and General Expenses","5646","Employee Pensions and OPEB",353420]
[2017,"January 1, 2016 - December 31, 2016",null,"Bluewater Power Distribution Corporation","Administrative and General Expenses","5647","Employee Sick Leave",0]
[2017,"January 1, 2016 - December 31, 2016",null,"Bluewater Power Distribution Corporation","Administrative and General Expenses","5650","Franchise Requirements",0]
[2017,"January 1, 2016 - December 31, 2016",null,"Bluewater Power Distribution Corporation","Administrative and General Expenses","5655","Regulatory Expenses",374508.49]
[2017,"January 1, 2016 - December 31, 2016",null,"Bluewater Power Distribution Corporation","Administrative and General Expenses","5660","General Advertising Expenses",13026.61]
[2017,"January 1, 2016 - December 31, 2016",null,"Bluewater Power Distribution Corporation","Administrative and General Expenses","5665","Miscellaneous General Expenses",907509.45]
[2017,"January 1, 2016 - December 31, 2016",null,"Bluewater Power Distribution Corporation","Administrative and General Expenses","5670","Rent",0]
[2017,"January 1, 2016 - December 31, 2016",null,"Bluewater Power Distribution Corporation","Administrative and General Expenses","5672","Lease Payment Expense",0]
[2017,"January 1, 2016 - December 31, 2016",null,"Bluewater Power Distribution Corporation","Administrative and General Expenses","5675","Maintenance of General Plant",222558.57]
[2017,"January 1, 2016 - December 31, 2016",null,"Bluewater Power Distribution Corporation","Administrative and General Expenses","5680","Electrical Safety Authority Fees",816]
[2017,"January 1, 2016 - December 31, 2016",null,"Bluewater Power Distribution Corporation","Administrative and General Expenses","5681","Special Purpose Charge Expense",0]
[2017,"January 1, 2016 - December 31, 2016",null,"Bluewater Power Distribution Corporation","Administrative and General Expenses","5685","Independent Market Operator Fees and Penalties",0]
[2017,"January 1, 2016 - December 31, 2016",null,"Bluewater Power Distribution Corporation","Administrative and General Expenses","5695","OM&A Contra",0]
[2017,"January 1, 2016 - December 31, 2016",null,"Bluewater Power Distribution Corporation","Administrative and General Expenses Total",null,null,6586160.0999999996]
[2017,"January 1, 2016 - December 31, 2016",null,"Bluewater Power Distribution Corporation","Billing and Collecting","5305","Supervision",145922.96]
[2017,"January 1, 2016 - December 31, 2016",null,"Bluewater Power Distribution Corporation","Billing and Collecting","5310","Meter Reading Expense",284123.19]
[2017,"January 1, 2016 - December 31, 2016",null,"Bluewater Power Distribution Corporation","Billing and Collecting","5315","Customer Billing",950207.09]
[2017,"January 1, 2016 - December 31, 2016",null,"Bluewater Power Distribution Corporation","Billing and Collecting","5320","Collecting",276939.96999999997]
[2017,"January 1, 2016 - December 31, 2016",null,"Bluewater Power Distribution Corporation","Billing and Collecting","5325","Collecting- Cash Over and Short",0.02]
[2017,"January 1, 2016 - December 31, 2016",null,"Bluewater Power Distribution Corporation","Billing and Collecting","5330","Collection Charges",0]
[2017,"January 1, 2016 - December 31, 2016",null,"Bluewater Power Distribution Corporation","Billing and Collecting","5335","Bad Debt Expense",944091.26]
[2017,"January 1, 2016 - December 31, 2016",null,"Bluewater Power Distribution Corporation","Billing and Collecting","5340","Miscellaneous Customer Accounts Expenses",0]
[2017,"January 1, 2016 - December 31, 2016",null,"Bluewater Power Distribution Corporation","Billing and Collecting Total",null,null,2601284.4900000002]
[2017,"January 1, 2016 - December 31, 2016",null,"Bluewater Power Distribution Corporation","Community Relations","5405","Supervision",0]
[2017,"January 1, 2016 - December 31, 2016",null,"Bluewater Power Distribution Corporation","Community Relations","5410","Community Relations - Sundry",135356.62]
[2017,"January 1, 2016 - December 31, 2016",null,"Bluewater Power Distribution Corporation","Community Relations","5415","Energy Conservation",69726.11]
[2017,"January 1, 2016 - December 31, 2016",null,"Bluewater Power Distribution Corporation","Community Relations","5420","Community Safety Program",122166.56]
[2017,"January 1, 2016 - December 31, 2016",null,"Bluewater Power Distribution Corporation","Community Relations","5425","Miscellaneous Customer Service and Informational Expenses",2789.14]
[2017,"January 1, 2016 - December 31, 2016",null,"Bluewater Power Distribution Corporation","Community Relations Total",null,null,330038.43]
[2017,"January 1, 2016 - December 31, 2016",null,"Bluewater Power Distribution Corporation","Distribution Expenses - Operation","5005","Operation Supervision and Engineering",527557.71]
[2017,"January 1, 2016 - December 31, 2016",null,"Bluewater Power Distribution Corporation","Distribution Expenses - Operation","5010","Load Dispatching",386768.12]
[2017,"January 1, 2016 - December 31, 2016",null,"Bluewater Power Distribution Corporation","Distribution Expenses - Operation","5012","Station Buildings and Fixtures Expense",7671.3]
[2017,"January 1, 2016 - December 31, 2016",null,"Bluewater Power Distribution Corporation","Distribution Expenses - Operation","5014","Transformer Station Equipment - Operation Labour",0]
[2017,"January 1, 2016 - December 31, 2016",null,"Bluewater Power Distribution Corporation","Distribution Expenses - Operation","5015","Transformer Station Equipment - Operation Supplies and Expenses",0]
[2017,"January 1, 2016 - December 31, 2016",null,"Bluewater Power Distribution Corporation","Distribution Expenses - Operation","5016","Distribution Station Equipment - Operation Labour",24291]
[2017,"January 1, 2016 - December 31, 2016",null,"Bluewater Power Distribution Corporation","Distribution Expenses - Operation","5017","Distribution Station Equipment - Operation Supplies and Expenses",0]
[2017,"January 1, 2016 - December 31, 2016",null,"Bluewater Power Distribution Corporation","Distribution Expenses - Operation","5020","Overhead Distribution Lines and Feeders - Operation Labour",720068]
[2017,"January 1, 2016 - December 31, 2016",null,"Bluewater Power Distribution Corporation","Distribution Expenses - Operation","5025","Overhead Distribution Lines and Feeders - Operation Supplies and Expenses",417318.08]
[2017,"January 1, 2016 - December 31, 2016",null,"Bluewater Power Distribution Corporation","Distribution Expenses - Operation","5030","Overhead Subtransmission Feeders - Operation",0]
[2017,"January 1, 2016 - December 31, 2016",null,"Bluewater Power Distribution Corporation","Distribution Expenses - Operation","5035","Overhead Distribution Transformers- Operation",145.22999999999999]
[2017,"January 1, 2016 - December 31, 2016",null,"Bluewater Power Distribution Corporation","Distribution Expenses - Operation","5040","Underground Distribution Lines and Feeders - Operation Labour",360033.75]
[2017,"January 1, 2016 - December 31, 2016",null,"Bluewater Power Distribution Corporation","Distribution Expenses - Operation","5045","Underground Distribution Lines and Feeders - Operation Supplies and Expenses",132242]
[2017,"January 1, 2016 - December 31, 2016",null,"Bluewater Power Distribution Corporation","Distribution Expenses - Operation","5050","Underground Subtransmission Feeders - Operation",0]
[2017,"January 1, 2016 - December 31, 2016",null,"Bluewater Power Distribution Corporation","Distribution Expenses - Operation","5055","Underground Distribution Transformers - Operation",0]
[2017,"January 1, 2016 - December 31, 2016",null,"Bluewater Power Distribution Corporation","Distribution Expenses - Operation","5060","Street Lighting and Signal System Expense",174.49]
[2017,"January 1, 2016 - December 31, 2016",null,"Bluewater Power Distribution Corporation","Distribution Expenses - Operation","5065","Meter Expense",480061.75]
[2017,"January 1, 2016 - December 31, 2016",null,"Bluewater Power Distribution Corporation","Distribution Expenses - Operation","5070","Customer Premises - Operation Labour",315780]
[2017,"January 1, 2016 - December 31, 2016",null,"Bluewater Power Distribution Corporation","Distribution Expenses - Operation","5075","Customer Premises - Materials and Expenses",0]
[2017,"January 1, 2016 - December 31, 2016",null,"Bluewater Power Distribution Corporation","Distribution Expenses - Operation","5085","Miscellaneous Distribution Expense",446362.71]
[2017,"January 1, 2016 - December 31, 2016",null,"Bluewater Power Distribution Corporation","Distribution Expenses - Operation","5090","Underground Distribution Lines and Feeders - Rental Paid",0]
[2017,"January 1, 2016 - December 31, 2016",null,"Bluewater Power Distribution Corporation","Distribution Expenses - Operation","5095","Overhead Distribution Lines and Feeders - Rental Paid",15386.4]
[2017,"January 1, 2016 - December 31, 2016",null,"Bluewater Power Distribution Corporation","Distribution Expenses - Operation","5096","Other Rent",0]
[2017,"January 1, 2016 - December 31, 2016",null,"Bluewater Power Distribution Corporation","Distribution Expenses - Operation Total",null,null,3833860.54]
[2017,"January 1, 2016 - December 31, 2016",null,"Bluewater Power Distribution Corporation","Distribution Expenses – Maintenance","5105","Maintenance Supervision and Engineering",0]
[2017,"January 1, 2016 - December 31, 2016",null,"Bluewater Power Distribution Corporation","Distribution Expenses – Maintenance","5110","Maintenance of Buildings and Fixtures - Distribution Stations",0]
[2017,"January 1, 2016 - December 31, 2016",null,"Bluewater Power Distribution Corporation","Distribution Expenses – Maintenance","5112","Maintenance of Transformer Station Equipment",0]
[2017,"January 1, 2016 - December 31, 2016",null,"Bluewater Power Distribution Corporation","Distribution Expenses – Maintenance","5114","Maintenance of Distribution Station Equipment",63047.92]
[2017,"January 1, 2016 - December 31, 2016",null,"Bluewater Power Distribution Corporation","Distribution Expenses – Maintenance","5120","Maintenance of Poles, Towers and Fixtures",8752.08]
[2017,"January 1, 2016 - December 31, 2016",null,"Bluewater Power Distribution Corporation","Distribution Expenses – Maintenance","5125","Maintenance of Overhead Conductors and Devices",67852.63]
[2017,"January 1, 2016 - December 31, 2016",null,"Bluewater Power Distribution Corporation","Distribution Expenses – Maintenance","5130","Maintenance of Overhead Services",0]
[2017,"January 1, 2016 - December 31, 2016",null,"Bluewater Power Distribution Corporation","Distribution Expenses – Maintenance","5135","Overhead Distribution Lines and Feeders - Right of Way",0]
[2017,"January 1, 2016 - December 31, 2016",null,"Bluewater Power Distribution Corporation","Distribution Expenses – Maintenance","5145","Maintenance of Underground Conduit",491.64]
[2017,"January 1, 2016 - December 31, 2016",null,"Bluewater Power Distribution Corporation","Distribution Expenses – Maintenance","5150","Maintenance of Underground Conductors and Devices",12445.51]
[2017,"January 1, 2016 - December 31, 2016",null,"Bluewater Power Distribution Corporation","Distribution Expenses – Maintenance","5155","Maintenance of Underground Services",488]
[2017,"January 1, 2016 - December 31, 2016",null,"Bluewater Power Distribution Corporation","Distribution Expenses – Maintenance","5160","Maintenance of Line Transformers",2618.1999999999998]
[2017,"January 1, 2016 - December 31, 2016",null,"Bluewater Power Distribution Corporation","Distribution Expenses – Maintenance","5165","Maintenance of Street Lighting and Signal Systems",0]
[2017,"January 1, 2016 - December 31, 2016",null,"Bluewater Power Distribution Corporation","Distribution Expenses – Maintenance","5170","Sentinel Lights - Labour",0]
[2017,"January 1, 2016 - December 31, 2016",null,"Bluewater Power Distribution Corporation","Distribution Expenses – Maintenance","5172","Sentinel Lights - Materials and Expenses",0]
[2017,"January 1, 2016 - December 31, 2016",null,"Bluewater Power Distribution Corporation","Distribution Expenses – Maintenance","5175","Maintenance of Meters",7558.72]
[2017,"January 1, 2016 - December 31, 2016",null,"Bluewater Power Distribution Corporation","Distribution Expenses – Maintenance","5178","Customer Installations Expenses- Leased Property",0]
[2017,"January 1, 2016 - December 31, 2016",null,"Bluewater Power Distribution Corporation","Distribution Expenses – Maintenance","5195","Maintenance of Other Installations on Customer Premises",0]
[2017,"January 1, 2016 - December 31, 2016",null,"Bluewater Power Distribution Corporation","Distribution Expenses – Maintenance Total",null,null,163254.70000000001]
[2017,"January 1, 2016 - December 31, 2016",null,"Bluewater Power Distribution Corporation","Other Expenses","5205","Purchase of Transmission and System Services",0]
[2017,"January 1, 2016 - December 31, 2016",null,"Bluewater Power Distribution Corporation","Other Expenses","5210","Transmission Charges",0]
[2017,"January 1, 2016 - December 31, 2016",null,"Bluewater Power Distribution Corporation","Other Expenses","5215","Transmission Charges Recovered",0]
[2017,"January 1, 2016 - December 31, 2016",null,"Bluewater Power Distribution Corporation","Other Expenses Total",null,null,0]
[2017,"January 1, 2016 - December 31, 2016",null,"Brantford Power Inc.","Administrative and General Expenses","5505","Supervision",0]
[2017,"January 1, 2016 - December 31, 2016",null,"Brantford Power Inc.","Administrative and General Expenses","5510","Demonstrating and Selling Expense",0]
[2017,"January 1, 2016 - December 31, 2016",null,"Brantford Power Inc.","Administrative and General Expenses","5515","Advertising Expense",0]
[2017,"January 1, 2016 - December 31, 2016",null,"Brantford Power Inc.","Administrative and General Expenses","5520","Miscellaneous Sales Expense",0]
[2017,"January 1, 2016 - December 31, 2016",null,"Brantford Power Inc.","Administrative and General Expenses","5605","Executive Salaries and Expenses",1247156.29]
[2017,"January 1, 2016 - December 31, 2016",null,"Brantford Power Inc.","Administrative and General Expenses","5610","Management Salaries and Expenses",611878.24]
[2017,"January 1, 2016 - December 31, 2016",null,"Brantford Power Inc.","Administrative and General Expenses","5615","General Administrative Salaries and Expenses",1073212.25]
[2017,"January 1, 2016 - December 31, 2016",null,"Brantford Power Inc.","Administrative and General Expenses","5620","Office Supplies and Expenses",68040.42]
[2017,"January 1, 2016 - December 31, 2016",null,"Brantford Power Inc.","Administrative and General Expenses","5625","Administrative Expense Transferred/Credit",-93379.88]
[2017,"January 1, 2016 - December 31, 2016",null,"Brantford Power Inc.","Administrative and General Expenses","5630","Outside Services Employed",159514.6]
[2017,"January 1, 2016 - December 31, 2016",null,"Brantford Power Inc.","Administrative and General Expenses","5635","Property Insurance",113726.84]
[2017,"January 1, 2016 - December 31, 2016",null,"Brantford Power Inc.","Administrative and General Expenses","5640","Injuries and Damages",0]
[2017,"January 1, 2016 - December 31, 2016",null,"Brantford Power Inc.","Administrative and General Expenses","5645","OMERS Pensions and Benefits",77146.320000000007]
[2017,"January 1, 2016 - December 31, 2016",null,"Brantford Power Inc.","Administrative and General Expenses","5646","Employee Pensions and OPEB",0]
[2017,"January 1, 2016 - December 31, 2016",null,"Brantford Power Inc.","Administrative and General Expenses","5647","Employee Sick Leave",0]
[2017,"January 1, 2016 - December 31, 2016",null,"Brantford Power Inc.","Administrative and General Expenses","5650","Franchise Requirements",62800]
[2017,"January 1, 2016 - December 31, 2016",null,"Brantford Power Inc.","Administrative and General Expenses","5655","Regulatory Expenses",314076.11]
[2017,"January 1, 2016 - December 31, 2016",null,"Brantford Power Inc.","Administrative and General Expenses","5660","General Advertising Expenses",399]
[2017,"January 1, 2016 - December 31, 2016",null,"Brantford Power Inc.","Administrative and General Expenses","5665","Miscellaneous General Expenses",15648.74]
[2017,"January 1, 2016 - December 31, 2016",null,"Brantford Power Inc.","Administrative and General Expenses","5670","Rent",0]
[2017,"January 1, 2016 - December 31, 2016",null,"Brantford Power Inc.","Administrative and General Expenses","5672","Lease Payment Expense",0]
[2017,"January 1, 2016 - December 31, 2016",null,"Brantford Power Inc.","Administrative and General Expenses","5675","Maintenance of General Plant",0]
[2017,"January 1, 2016 - December 31, 2016",null,"Brantford Power Inc.","Administrative and General Expenses","5680","Electrical Safety Authority Fees",17676.18]
[2017,"January 1, 2016 - December 31, 2016",null,"Brantford Power Inc.","Administrative and General Expenses","5681","Special Purpose Charge Expense",0]
[2017,"January 1, 2016 - December 31, 2016",null,"Brantford Power Inc.","Administrative and General Expenses","5685","Independent Market Operator Fees and Penalties",58968.12]
[2017,"January 1, 2016 - December 31, 2016",null,"Brantford Power Inc.","Administrative and General Expenses","5695","OM&A Contra",0]
[2017,"January 1, 2016 - December 31, 2016",null,"Brantford Power Inc.","Administrative and General Expenses Total",null,null,3726863.23]
[2017,"January 1, 2016 - December 31, 2016",null,"Brantford Power Inc.","Billing and Collecting","5305","Supervision",168107.75]
[2017,"January 1, 2016 - December 31, 2016",null,"Brantford Power Inc.","Billing and Collecting","5310","Meter Reading Expense",580983.80000000005]
[2017,"January 1, 2016 - December 31, 2016",null,"Brantford Power Inc.","Billing and Collecting","5315","Customer Billing",949917.38]
[2017,"January 1, 2016 - December 31, 2016",null,"Brantford Power Inc.","Billing and Collecting","5320","Collecting",423132]
[2017,"January 1, 2016 - December 31, 2016",null,"Brantford Power Inc.","Billing and Collecting","5325","Collecting- Cash Over and Short",-9902.64]
[2017,"January 1, 2016 - December 31, 2016",null,"Brantford Power Inc.","Billing and Collecting","5330","Collection Charges",493.13]
[2017,"January 1, 2016 - December 31, 2016",null,"Brantford Power Inc.","Billing and Collecting","5335","Bad Debt Expense",528913]
[2017,"January 1, 2016 - December 31, 2016",null,"Brantford Power Inc.","Billing and Collecting","5340","Miscellaneous Customer Accounts Expenses",519668.26]
[2017,"January 1, 2016 - December 31, 2016",null,"Brantford Power Inc.","Billing and Collecting Total",null,null,3161312.68]
[2017,"January 1, 2016 - December 31, 2016",null,"Brantford Power Inc.","Community Relations","5405","Supervision",0]
[2017,"January 1, 2016 - December 31, 2016",null,"Brantford Power Inc.","Community Relations","5410","Community Relations - Sundry",7176.99]
[2017,"January 1, 2016 - December 31, 2016",null,"Brantford Power Inc.","Community Relations","5415","Energy Conservation",0]
[2017,"January 1, 2016 - December 31, 2016",null,"Brantford Power Inc.","Community Relations","5420","Community Safety Program",0]
[2017,"January 1, 2016 - December 31, 2016",null,"Brantford Power Inc.","Community Relations","5425","Miscellaneous Customer Service and Informational Expenses",0]
[2017,"January 1, 2016 - December 31, 2016",null,"Brantford Power Inc.","Community Relations Total",null,null,7176.99]
[2017,"January 1, 2016 - December 31, 2016",null,"Brantford Power Inc.","Distribution Expenses - Operation","5005","Operation Supervision and Engineering",539255.61]
[2017,"January 1, 2016 - December 31, 2016",null,"Brantford Power Inc.","Distribution Expenses - Operation","5010","Load Dispatching",108246.11]
[2017,"January 1, 2016 - December 31, 2016",null,"Brantford Power Inc.","Distribution Expenses - Operation","5012","Station Buildings and Fixtures Expense",35988.97]
[2017,"January 1, 2016 - December 31, 2016",null,"Brantford Power Inc.","Distribution Expenses - Operation","5014","Transformer Station Equipment - Operation Labour",26184.66]
[2017,"January 1, 2016 - December 31, 2016",null,"Brantford Power Inc.","Distribution Expenses - Operation","5015","Transformer Station Equipment - Operation Supplies and Expenses",96479.29]
[2017,"January 1, 2016 - December 31, 2016",null,"Brantford Power Inc.","Distribution Expenses - Operation","5016","Distribution Station Equipment - Operation Labour",0]
[2017,"January 1, 2016 - December 31, 2016",null,"Brantford Power Inc.","Distribution Expenses - Operation","5017","Distribution Station Equipment - Operation Supplies and Expenses",0]
[2017,"January 1, 2016 - December 31, 2016",null,"Brantford Power Inc.","Distribution Expenses - Operation","5020","Overhead Distribution Lines and Feeders - Operation Labour",6820.05]
[2017,"January 1, 2016 - December 31, 2016",null,"Brantford Power Inc.","Distribution Expenses - Operation","5025","Overhead Distribution Lines and Feeders - Operation Supplies and Expenses",11883.83]
[2017,"January 1, 2016 - December 31, 2016",null,"Brantford Power Inc.","Distribution Expenses - Operation","5030","Overhead Subtransmission Feeders - Operation",0]
[2017,"January 1, 2016 - December 31, 2016",null,"Brantford Power Inc.","Distribution Expenses - Operation","5035","Overhead Distribution Transformers- Operation",18564.39]
[2017,"January 1, 2016 - December 31, 2016",null,"Brantford Power Inc.","Distribution Expenses - Operation","5040","Underground Distribution Lines and Feeders - Operation Labour",83357.100000000006]
[2017,"January 1, 2016 - December 31, 2016",null,"Brantford Power Inc.","Distribution Expenses - Operation","5045","Underground Distribution Lines and Feeders - Operation Supplies and Expenses",14148.61]
[2017,"January 1, 2016 - December 31, 2016",null,"Brantford Power Inc.","Distribution Expenses - Operation","5050","Underground Subtransmission Feeders - Operation",0]
[2017,"January 1, 2016 - December 31, 2016",null,"Brantford Power Inc.","Distribution Expenses - Operation","5055","Underground Distribution Transformers - Operation",-426.23]
[2017,"January 1, 2016 - December 31, 2016",null,"Brantford Power Inc.","Distribution Expenses - Operation","5060","Street Lighting and Signal System Expense",0]
[2017,"January 1, 2016 - December 31, 2016",null,"Brantford Power Inc.","Distribution Expenses - Operation","5065","Meter Expense",326330.23]
[2017,"January 1, 2016 - December 31, 2016",null,"Brantford Power Inc.","Distribution Expenses - Operation","5070","Customer Premises - Operation Labour",513.71]
[2017,"January 1, 2016 - December 31, 2016",null,"Brantford Power Inc.","Distribution Expenses - Operation","5075","Customer Premises - Materials and Expenses",379.13]
[2017,"January 1, 2016 - December 31, 2016",null,"Brantford Power Inc.","Distribution Expenses - Operation","5085","Miscellaneous Distribution Expense",418109.48]
[2017,"January 1, 2016 - December 31, 2016",null,"Brantford Power Inc.","Distribution Expenses - Operation","5090","Underground Distribution Lines and Feeders - Rental Paid",0]
[2017,"January 1, 2016 - December 31, 2016",null,"Brantford Power Inc.","Distribution Expenses - Operation","5095","Overhead Distribution Lines and Feeders - Rental Paid",6755]
[2017,"January 1, 2016 - December 31, 2016",null,"Brantford Power Inc.","Distribution Expenses - Operation","5096","Other Rent",1120]
[2017,"January 1, 2016 - December 31, 2016",null,"Brantford Power Inc.","Distribution Expenses - Operation Total",null,null,1693709.94]
[2017,"January 1, 2016 - December 31, 2016",null,"Brantford Power Inc.","Distribution Expenses – Maintenance","5105","Maintenance Supervision and Engineering",129741.69]
[2017,"January 1, 2016 - December 31, 2016",null,"Brantford Power Inc.","Distribution Expenses – Maintenance","5110","Maintenance of Buildings and Fixtures - Distribution Stations",10168.469999999999]
[2017,"January 1, 2016 - December 31, 2016",null,"Brantford Power Inc.","Distribution Expenses – Maintenance","5112","Maintenance of Transformer Station Equipment",0]
[2017,"January 1, 2016 - December 31, 2016",null,"Brantford Power Inc.","Distribution Expenses – Maintenance","5114","Maintenance of Distribution Station Equipment",2929.76]
[2017,"January 1, 2016 - December 31, 2016",null,"Brantford Power Inc.","Distribution Expenses – Maintenance","5120","Maintenance of Poles, Towers and Fixtures",86687.03]
[2017,"January 1, 2016 - December 31, 2016",null,"Brantford Power Inc.","Distribution Expenses – Maintenance","5125","Maintenance of Overhead Conductors and Devices",138574.99]
[2017,"January 1, 2016 - December 31, 2016",null,"Brantford Power Inc.","Distribution Expenses – Maintenance","5130","Maintenance of Overhead Services",327923.11]
[2017,"January 1, 2016 - December 31, 2016",null,"Brantford Power Inc.","Distribution Expenses – Maintenance","5135","Overhead Distribution Lines and Feeders - Right of Way",463192.49]
[2017,"January 1, 2016 - December 31, 2016",null,"Brantford Power Inc.","Distribution Expenses – Maintenance","5145","Maintenance of Underground Conduit",7366.86]
[2017,"January 1, 2016 - December 31, 2016",null,"Brantford Power Inc.","Distribution Expenses – Maintenance","5150","Maintenance of Underground Conductors and Devices",352686.9]
[2017,"January 1, 2016 - December 31, 2016",null,"Brantford Power Inc.","Distribution Expenses – Maintenance","5155","Maintenance of Underground Services",246424.06]
[2017,"January 1, 2016 - December 31, 2016",null,"Brantford Power Inc.","Distribution Expenses – Maintenance","5160","Maintenance of Line Transformers",41424.160000000003]
[2017,"January 1, 2016 - December 31, 2016",null,"Brantford Power Inc.","Distribution Expenses – Maintenance","5165","Maintenance of Street Lighting and Signal Systems",0]
[2017,"January 1, 2016 - December 31, 2016",null,"Brantford Power Inc.","Distribution Expenses – Maintenance","5170","Sentinel Lights - Labour",0]
[2017,"January 1, 2016 - December 31, 2016",null,"Brantford Power Inc.","Distribution Expenses – Maintenance","5172","Sentinel Lights - Materials and Expenses",0]
[2017,"January 1, 2016 - December 31, 2016",null,"Brantford Power Inc.","Distribution Expenses – Maintenance","5175","Maintenance of Meters",0]
[2017,"January 1, 2016 - December 31, 2016",null,"Brantford Power Inc.","Distribution Expenses – Maintenance","5178","Customer Installations Expenses- Leased Property",0]
[2017,"January 1, 2016 - December 31, 2016",null,"Brantford Power Inc.","Distribution Expenses – Maintenance","5195","Maintenance of Other Installations on Customer Premises",0]
[2017,"January 1, 2016 - December 31, 2016",null,"Brantford Power Inc.","Distribution Expenses – Maintenance Total",null,null,1807119.52]
[2017,"January 1, 2016 - December 31, 2016",null,"Brantford Power Inc.","Other Expenses","5205","Purchase of Transmission and System Services",0]
[2017,"January 1, 2016 - December 31, 2016",null,"Brantford Power Inc.","Other Expenses","5210","Transmission Charges",0]
[2017,"January 1, 2016 - December 31, 2016",null,"Brantford Power Inc.","Other Expenses","5215","Transmission Charges Recovered",0]
[2017,"January 1, 2016 - December 31, 2016",null,"Brantford Power Inc.","Other Expenses Total",null,null,0]
[2017,"January 1, 2016 - December 31, 2016",null,"Burlington Hydro Inc.","Administrative and General Expenses","5505","Supervision",0]
[2017,"January 1, 2016 - December 31, 2016",null,"Burlington Hydro Inc.","Administrative and General Expenses","5510","Demonstrating and Selling Expense",0]
[2017,"January 1, 2016 - December 31, 2016",null,"Burlington Hydro Inc.","Administrative and General Expenses","5515","Advertising Expense",0]
[2017,"January 1, 2016 - December 31, 2016",null,"Burlington Hydro Inc.","Administrative and General Expenses","5520","Miscellaneous Sales Expense",0]
[2017,"January 1, 2016 - December 31, 2016",null,"Burlington Hydro Inc.","Administrative and General Expenses","5605","Executive Salaries and Expenses",1744247.97]
[2017,"January 1, 2016 - December 31, 2016",null,"Burlington Hydro Inc.","Administrative and General Expenses","5610","Management Salaries and Expenses",103980.9]
[2017,"January 1, 2016 - December 31, 2016",null,"Burlington Hydro Inc.","Administrative and General Expenses","5615","General Administrative Salaries and Expenses",1916794.97]
[2017,"January 1, 2016 - December 31, 2016",null,"Burlington Hydro Inc.","Administrative and General Expenses","5620","Office Supplies and Expenses",440393.55]
[2017,"January 1, 2016 - December 31, 2016",null,"Burlington Hydro Inc.","Administrative and General Expenses","5625","Administrative Expense Transferred/Credit",-312436.93]
[2017,"January 1, 2016 - December 31, 2016",null,"Burlington Hydro Inc.","Administrative and General Expenses","5630","Outside Services Employed",529874.28]
[2017,"January 1, 2016 - December 31, 2016",null,"Burlington Hydro Inc.","Administrative and General Expenses","5635","Property Insurance",15647.84]
[2017,"January 1, 2016 - December 31, 2016",null,"Burlington Hydro Inc.","Administrative and General Expenses","5640","Injuries and Damages",155309.65]
[2017,"January 1, 2016 - December 31, 2016",null,"Burlington Hydro Inc.","Administrative and General Expenses","5645","OMERS Pensions and Benefits",346855.74]
[2017,"January 1, 2016 - December 31, 2016",null,"Burlington Hydro Inc.","Administrative and General Expenses","5646","Employee Pensions and OPEB",0]
[2017,"January 1, 2016 - December 31, 2016",null,"Burlington Hydro Inc.","Administrative and General Expenses","5647","Employee Sick Leave",0]
[2017,"January 1, 2016 - December 31, 2016",null,"Burlington Hydro Inc.","Administrative and General Expenses","5650","Franchise Requirements",0]
[2017,"January 1, 2016 - December 31, 2016",null,"Burlington Hydro Inc.","Administrative and General Expenses","5655","Regulatory Expenses",283769.84000000003]
[2017,"January 1, 2016 - December 31, 2016",null,"Burlington Hydro Inc.","Administrative and General Expenses","5660","General Advertising Expenses",99545.919999999998]
[2017,"January 1, 2016 - December 31, 2016",null,"Burlington Hydro Inc.","Administrative and General Expenses","5665","Miscellaneous General Expenses",708981.98]
[2017,"January 1, 2016 - December 31, 2016",null,"Burlington Hydro Inc.","Administrative and General Expenses","5670","Rent",53390.879999999997]
[2017,"January 1, 2016 - December 31, 2016",null,"Burlington Hydro Inc.","Administrative and General Expenses","5672","Lease Payment Expense",0]
[2017,"January 1, 2016 - December 31, 2016",null,"Burlington Hydro Inc.","Administrative and General Expenses","5675","Maintenance of General Plant",310435.77]
[2017,"January 1, 2016 - December 31, 2016",null,"Burlington Hydro Inc.","Administrative and General Expenses","5680","Electrical Safety Authority Fees",0]
[2017,"January 1, 2016 - December 31, 2016",null,"Burlington Hydro Inc.","Administrative and General Expenses","5681","Special Purpose Charge Expense",0]
[2017,"January 1, 2016 - December 31, 2016",null,"Burlington Hydro Inc.","Administrative and General Expenses","5685","Independent Market Operator Fees and Penalties",0]
[2017,"January 1, 2016 - December 31, 2016",null,"Burlington Hydro Inc.","Administrative and General Expenses","5695","OM&A Contra",0]
[2017,"January 1, 2016 - December 31, 2016",null,"Burlington Hydro Inc.","Administrative and General Expenses Total",null,null,6396792.3600000003]
[2017,"January 1, 2016 - December 31, 2016",null,"Burlington Hydro Inc.","Billing and Collecting","5305","Supervision",0]
[2017,"January 1, 2016 - December 31, 2016",null,"Burlington Hydro Inc.","Billing and Collecting","5310","Meter Reading Expense",322243.59999999998]
[2017,"January 1, 2016 - December 31, 2016",null,"Burlington Hydro Inc.","Billing and Collecting","5315","Customer Billing",806881.05]
[2017,"January 1, 2016 - December 31, 2016",null,"Burlington Hydro Inc.","Billing and Collecting","5320","Collecting",185436.07]
[2017,"January 1, 2016 - December 31, 2016",null,"Burlington Hydro Inc.","Billing and Collecting","5325","Collecting- Cash Over and Short",0]
[2017,"January 1, 2016 - December 31, 2016",null,"Burlington Hydro Inc.","Billing and Collecting","5330","Collection Charges",100296.56]
[2017,"January 1, 2016 - December 31, 2016",null,"Burlington Hydro Inc.","Billing and Collecting","5335","Bad Debt Expense",199040.78]
[2017,"January 1, 2016 - December 31, 2016",null,"Burlington Hydro Inc.","Billing and Collecting","5340","Miscellaneous Customer Accounts Expenses",652377.36]
[2017,"January 1, 2016 - December 31, 2016",null,"Burlington Hydro Inc.","Billing and Collecting Total",null,null,2266275.42]
[2017,"January 1, 2016 - December 31, 2016",null,"Burlington Hydro Inc.","Community Relations","5405","Supervision",0]
[2017,"January 1, 2016 - December 31, 2016",null,"Burlington Hydro Inc.","Community Relations","5410","Community Relations - Sundry",0]
[2017,"January 1, 2016 - December 31, 2016",null,"Burlington Hydro Inc.","Community Relations","5415","Energy Conservation",0]
[2017,"January 1, 2016 - December 31, 2016",null,"Burlington Hydro Inc.","Community Relations","5420","Community Safety Program",54320.31]
[2017,"January 1, 2016 - December 31, 2016",null,"Burlington Hydro Inc.","Community Relations","5425","Miscellaneous Customer Service and Informational Expenses",0]
[2017,"January 1, 2016 - December 31, 2016",null,"Burlington Hydro Inc.","Community Relations Total",null,null,54320.31]
[2017,"January 1, 2016 - December 31, 2016",null,"Burlington Hydro Inc.","Distribution Expenses - Operation","5005","Operation Supervision and Engineering",0]
[2017,"January 1, 2016 - December 31, 2016",null,"Burlington Hydro Inc.","Distribution Expenses - Operation","5010","Load Dispatching",1559079.96]
[2017,"January 1, 2016 - December 31, 2016",null,"Burlington Hydro Inc.","Distribution Expenses - Operation","5012","Station Buildings and Fixtures Expense",129969.26]
[2017,"January 1, 2016 - December 31, 2016",null,"Burlington Hydro Inc.","Distribution Expenses - Operation","5014","Transformer Station Equipment - Operation Labour",0]
[2017,"January 1, 2016 - December 31, 2016",null,"Burlington Hydro Inc.","Distribution Expenses - Operation","5015","Transformer Station Equipment - Operation Supplies and Expenses",0]
[2017,"January 1, 2016 - December 31, 2016",null,"Burlington Hydro Inc.","Distribution Expenses - Operation","5016","Distribution Station Equipment - Operation Labour",587817.22]
[2017,"January 1, 2016 - December 31, 2016",null,"Burlington Hydro Inc.","Distribution Expenses - Operation","5017","Distribution Station Equipment - Operation Supplies and Expenses",452258.44]
[2017,"January 1, 2016 - December 31, 2016",null,"Burlington Hydro Inc.","Distribution Expenses - Operation","5020","Overhead Distribution Lines and Feeders - Operation Labour",432443.64]
[2017,"January 1, 2016 - December 31, 2016",null,"Burlington Hydro Inc.","Distribution Expenses - Operation","5025","Overhead Distribution Lines and Feeders - Operation Supplies and Expenses",549805]
[2017,"January 1, 2016 - December 31, 2016",null,"Burlington Hydro Inc.","Distribution Expenses - Operation","5030","Overhead Subtransmission Feeders - Operation",0]
[2017,"January 1, 2016 - December 31, 2016",null,"Burlington Hydro Inc.","Distribution Expenses - Operation","5035","Overhead Distribution Transformers- Operation",15142.47]
[2017,"January 1, 2016 - December 31, 2016",null,"Burlington Hydro Inc.","Distribution Expenses - Operation","5040","Underground Distribution Lines and Feeders - Operation Labour",87718.81]
[2017,"January 1, 2016 - December 31, 2016",null,"Burlington Hydro Inc.","Distribution Expenses - Operation","5045","Underground Distribution Lines and Feeders - Operation Supplies and Expenses",588253.39]
[2017,"January 1, 2016 - December 31, 2016",null,"Burlington Hydro Inc.","Distribution Expenses - Operation","5050","Underground Subtransmission Feeders - Operation",0]
[2017,"January 1, 2016 - December 31, 2016",null,"Burlington Hydro Inc.","Distribution Expenses - Operation","5055","Underground Distribution Transformers - Operation",178186.12]
[2017,"January 1, 2016 - December 31, 2016",null,"Burlington Hydro Inc.","Distribution Expenses - Operation","5060","Street Lighting and Signal System Expense",0]
[2017,"January 1, 2016 - December 31, 2016",null,"Burlington Hydro Inc.","Distribution Expenses - Operation","5065","Meter Expense",169689.42]
[2017,"January 1, 2016 - December 31, 2016",null,"Burlington Hydro Inc.","Distribution Expenses - Operation","5070","Customer Premises - Operation Labour",286228.39]
[2017,"January 1, 2016 - December 31, 2016",null,"Burlington Hydro Inc.","Distribution Expenses - Operation","5075","Customer Premises - Materials and Expenses",101653.72]
[2017,"January 1, 2016 - December 31, 2016",null,"Burlington Hydro Inc.","Distribution Expenses - Operation","5085","Miscellaneous Distribution Expense",0]
[2017,"January 1, 2016 - December 31, 2016",null,"Burlington Hydro Inc.","Distribution Expenses - Operation","5090","Underground Distribution Lines and Feeders - Rental Paid",0]
[2017,"January 1, 2016 - December 31, 2016",null,"Burlington Hydro Inc.","Distribution Expenses - Operation","5095","Overhead Distribution Lines and Feeders - Rental Paid",0]
[2017,"January 1, 2016 - December 31, 2016",null,"Burlington Hydro Inc.","Distribution Expenses - Operation","5096","Other Rent",0]
[2017,"January 1, 2016 - December 31, 2016",null,"Burlington Hydro Inc.","Distribution Expenses - Operation Total",null,null,5138245.84]
[2017,"January 1, 2016 - December 31, 2016",null,"Burlington Hydro Inc.","Distribution Expenses – Maintenance","5105","Maintenance Supervision and Engineering",0]
[2017,"January 1, 2016 - December 31, 2016",null,"Burlington Hydro Inc.","Distribution Expenses – Maintenance","5110","Maintenance of Buildings and Fixtures - Distribution Stations",256144.04]
[2017,"January 1, 2016 - December 31, 2016",null,"Burlington Hydro Inc.","Distribution Expenses – Maintenance","5112","Maintenance of Transformer Station Equipment",0]
[2017,"January 1, 2016 - December 31, 2016",null,"Burlington Hydro Inc.","Distribution Expenses – Maintenance","5114","Maintenance of Distribution Station Equipment",16869.64]
[2017,"January 1, 2016 - December 31, 2016",null,"Burlington Hydro Inc.","Distribution Expenses – Maintenance","5120","Maintenance of Poles, Towers and Fixtures",115354.73]
[2017,"January 1, 2016 - December 31, 2016",null,"Burlington Hydro Inc.","Distribution Expenses – Maintenance","5125","Maintenance of Overhead Conductors and Devices",1424883.88]
[2017,"January 1, 2016 - December 31, 2016",null,"Burlington Hydro Inc.","Distribution Expenses – Maintenance","5130","Maintenance of Overhead Services",341707.17]
[2017,"January 1, 2016 - December 31, 2016",null,"Burlington Hydro Inc.","Distribution Expenses – Maintenance","5135","Overhead Distribution Lines and Feeders - Right of Way",741468.39]
[2017,"January 1, 2016 - December 31, 2016",null,"Burlington Hydro Inc.","Distribution Expenses – Maintenance","5145","Maintenance of Underground Conduit",13348.05]
[2017,"January 1, 2016 - December 31, 2016",null,"Burlington Hydro Inc.","Distribution Expenses – Maintenance","5150","Maintenance of Underground Conductors and Devices",609964.12]
[2017,"January 1, 2016 - December 31, 2016",null,"Burlington Hydro Inc.","Distribution Expenses – Maintenance","5155","Maintenance of Underground Services",496480.54]
[2017,"January 1, 2016 - December 31, 2016",null,"Burlington Hydro Inc.","Distribution Expenses – Maintenance","5160","Maintenance of Line Transformers",39759.199999999997]
[2017,"January 1, 2016 - December 31, 2016",null,"Burlington Hydro Inc.","Distribution Expenses – Maintenance","5165","Maintenance of Street Lighting and Signal Systems",0]
[2017,"January 1, 2016 - December 31, 2016",null,"Burlington Hydro Inc.","Distribution Expenses – Maintenance","5170","Sentinel Lights - Labour",0]
[2017,"January 1, 2016 - December 31, 2016",null,"Burlington Hydro Inc.","Distribution Expenses – Maintenance","5172","Sentinel Lights - Materials and Expenses",0]
[2017,"January 1, 2016 - December 31, 2016",null,"Burlington Hydro Inc.","Distribution Expenses – Maintenance","5175","Maintenance of Meters",142667.75]
[2017,"January 1, 2016 - December 31, 2016",null,"Burlington Hydro Inc.","Distribution Expenses – Maintenance","5178","Customer Installations Expenses- Leased Property",0]
[2017,"January 1, 2016 - December 31, 2016",null,"Burlington Hydro Inc.","Distribution Expenses – Maintenance","5195","Maintenance of Other Installations on Customer Premises",0]
[2017,"January 1, 2016 - December 31, 2016",null,"Burlington Hydro Inc.","Distribution Expenses – Maintenance Total",null,null,4198647.51]
[2017,"January 1, 2016 - December 31, 2016",null,"Burlington Hydro Inc.","Other Expenses","5205","Purchase of Transmission and System Services",0]
[2017,"January 1, 2016 - December 31, 2016",null,"Burlington Hydro Inc.","Other Expenses","5210","Transmission Charges",0]
[2017,"January 1, 2016 - December 31, 2016",null,"Burlington Hydro Inc.","Other Expenses","5215","Transmission Charges Recovered",0]
[2017,"January 1, 2016 - December 31, 2016",null,"Burlington Hydro Inc.","Other Expenses Total",null,null,0]
[2017,"January 1, 2016 - December 31, 2016",null,"Canadian Niagara Power Inc.","Administrative and General Expenses","5505","Supervision",0]
[2017,"January 1, 2016 - December 31, 2016",null,"Canadian Niagara Power Inc.","Administrative and General Expenses","5510","Demonstrating and Selling Expense",0]
[2017,"January 1, 2016 - December 31, 2016",null,"Canadian Niagara Power Inc.","Administrative and General Expenses","5515","Advertising Expense",0]
[2017,"January 1, 2016 - December 31, 2016",null,"Canadian Niagara Power Inc.","Administrative and General Expenses","5520","Miscellaneous Sales Expense",0]
[2017,"January 1, 2016 - December 31, 2016",null,"Canadian Niagara Power Inc.","Administrative and General Expenses","5605","Executive Salaries and Expenses",530707.56000000006]
[2017,"January 1, 2016 - December 31, 2016",null,"Canadian Niagara Power Inc.","Administrative and General Expenses","5610","Management Salaries and Expenses",468924.64]
[2017,"January 1, 2016 - December 31, 2016",null,"Canadian Niagara Power Inc.","Administrative and General Expenses","5615","General Administrative Salaries and Expenses",3293813.07]
[2017,"January 1, 2016 - December 31, 2016",null,"Canadian Niagara Power Inc.","Administrative and General Expenses","5620","Office Supplies and Expenses",514222.86]
[2017,"January 1, 2016 - December 31, 2016",null,"Canadian Niagara Power Inc.","Administrative and General Expenses","5625","Administrative Expense Transferred/Credit",-3834162.78]
[2017,"January 1, 2016 - December 31, 2016",null,"Canadian Niagara Power Inc.","Administrative and General Expenses","5630","Outside Services Employed",539445.72]
[2017,"January 1, 2016 - December 31, 2016",null,"Canadian Niagara Power Inc.","Administrative and General Expenses","5635","Property Insurance",56749.03]
[2017,"January 1, 2016 - December 31, 2016",null,"Canadian Niagara Power Inc.","Administrative and General Expenses","5640","Injuries and Damages",436]
[2017,"January 1, 2016 - December 31, 2016",null,"Canadian Niagara Power Inc.","Administrative and General Expenses","5645","Employee Pensions and Benefits",865101.55]
[2017,"January 1, 2016 - December 31, 2016",null,"Canadian Niagara Power Inc.","Administrative and General Expenses","5650","Franchise Requirements",0]
[2017,"January 1, 2016 - December 31, 2016",null,"Canadian Niagara Power Inc.","Administrative and General Expenses","5655","Regulatory Expenses",251574.01]
[2017,"January 1, 2016 - December 31, 2016",null,"Canadian Niagara Power Inc.","Administrative and General Expenses","5660","General Advertising Expenses",3775.02]
[2017,"January 1, 2016 - December 31, 2016",null,"Canadian Niagara Power Inc.","Administrative and General Expenses","5665","Miscellaneous General Expenses",387586.04]
[2017,"January 1, 2016 - December 31, 2016",null,"Canadian Niagara Power Inc.","Administrative and General Expenses","5670","Rent",349436.88]
[2017,"January 1, 2016 - December 31, 2016",null,"Canadian Niagara Power Inc.","Administrative and General Expenses","5675","Maintenance of General Plant",639801.59999999998]
[2017,"January 1, 2016 - December 31, 2016",null,"Canadian Niagara Power Inc.","Administrative and General Expenses","5680","Electrical Safety Authority Fees",14279.07]
[2017,"January 1, 2016 - December 31, 2016",null,"Canadian Niagara Power Inc.","Administrative and General Expenses","5681","Special Purpose Charge Expense",0]
[2017,"January 1, 2016 - December 31, 2016",null,"Canadian Niagara Power Inc.","Administrative and General Expenses","5685","Independent Market Operator Fees and Penalties",0]
[2017,"January 1, 2016 - December 31, 2016",null,"Canadian Niagara Power Inc.","Administrative and General Expenses","5695","OM&A Contra",0]
[2017,"January 1, 2016 - December 31, 2016",null,"Canadian Niagara Power Inc.","Administrative and General Expenses Total",null,null,4081690.27]
[2017,"January 1, 2016 - December 31, 2016",null,"Canadian Niagara Power Inc.","Billing and Collecting","5305","Supervision",142188.94]
[2017,"January 1, 2016 - December 31, 2016",null,"Canadian Niagara Power Inc.","Billing and Collecting","5310","Meter Reading Expense",79325.91]
[2017,"January 1, 2016 - December 31, 2016",null,"Canadian Niagara Power Inc.","Billing and Collecting","5315","Customer Billing",451200.76]
[2017,"January 1, 2016 - December 31, 2016",null,"Canadian Niagara Power Inc.","Billing and Collecting","5320","Collecting",363495.73]
[2017,"January 1, 2016 - December 31, 2016",null,"Canadian Niagara Power Inc.","Billing and Collecting","5325","Collecting- Cash Over and Short",0]
[2017,"January 1, 2016 - December 31, 2016",null,"Canadian Niagara Power Inc.","Billing and Collecting","5330","Collection Charges",0]
[2017,"January 1, 2016 - December 31, 2016",null,"Canadian Niagara Power Inc.","Billing and Collecting","5335","Bad Debt Expense",164541.96]
[2017,"January 1, 2016 - December 31, 2016",null,"Canadian Niagara Power Inc.","Billing and Collecting","5340","Miscellaneous Customer Accounts Expenses",570432.31999999995]
[2017,"January 1, 2016 - December 31, 2016",null,"Canadian Niagara Power Inc.","Billing and Collecting Total",null,null,1771185.62]
[2017,"January 1, 2016 - December 31, 2016",null,"Canadian Niagara Power Inc.","Community Relations","5405","Supervision",0]
[2017,"January 1, 2016 - December 31, 2016",null,"Canadian Niagara Power Inc.","Community Relations","5410","Community Relations - Sundry",346.67]
[2017,"January 1, 2016 - December 31, 2016",null,"Canadian Niagara Power Inc.","Community Relations","5415","Energy Conservation",0]
[2017,"January 1, 2016 - December 31, 2016",null,"Canadian Niagara Power Inc.","Community Relations","5420","Community Safety Program",45.71]
[2017,"January 1, 2016 - December 31, 2016",null,"Canadian Niagara Power Inc.","Community Relations","5425","Miscellaneous Customer Service and Informational Expenses",19350]
[2017,"January 1, 2016 - December 31, 2016",null,"Canadian Niagara Power Inc.","Community Relations Total",null,null,19742.38]
[2017,"January 1, 2016 - December 31, 2016",null,"Canadian Niagara Power Inc.","Distribution Expenses - Operation","5005","Operation Supervision and Engineering",69548.539999999994]
[2017,"January 1, 2016 - December 31, 2016",null,"Canadian Niagara Power Inc.","Distribution Expenses - Operation","5010","Load Dispatching",282269.33]
[2017,"January 1, 2016 - December 31, 2016",null,"Canadian Niagara Power Inc.","Distribution Expenses - Operation","5012","Station Buildings and Fixtures Expense",150584.29999999999]
[2017,"January 1, 2016 - December 31, 2016",null,"Canadian Niagara Power Inc.","Distribution Expenses - Operation","5014","Transformer Station Equipment - Operation Labour",0]
[2017,"January 1, 2016 - December 31, 2016",null,"Canadian Niagara Power Inc.","Distribution Expenses - Operation","5015","Transformer Station Equipment - Operation Supplies and Expenses",0]
[2017,"January 1, 2016 - December 31, 2016",null,"Canadian Niagara Power Inc.","Distribution Expenses - Operation","5016","Distribution Station Equipment - Operation Labour",91863.96]
[2017,"January 1, 2016 - December 31, 2016",null,"Canadian Niagara Power Inc.","Distribution Expenses - Operation","5017","Distribution Station Equipment - Operation Supplies and Expenses",10468.4]
[2017,"January 1, 2016 - December 31, 2016",null,"Canadian Niagara Power Inc.","Distribution Expenses - Operation","5020","Overhead Distribution Lines and Feeders - Operation Labour",104340.98]
[2017,"January 1, 2016 - December 31, 2016",null,"Canadian Niagara Power Inc.","Distribution Expenses - Operation","5025","Overhead Distribution Lines and Feeders - Operation Supplies and Expenses",9925.91]
[2017,"January 1, 2016 - December 31, 2016",null,"Canadian Niagara Power Inc.","Distribution Expenses - Operation","5030","Overhead Subtransmission Feeders - Operation",0]
[2017,"January 1, 2016 - December 31, 2016",null,"Canadian Niagara Power Inc.","Distribution Expenses - Operation","5035","Overhead Distribution Transformers- Operation",35590.44]
[2017,"January 1, 2016 - December 31, 2016",null,"Canadian Niagara Power Inc.","Distribution Expenses - Operation","5040","Underground Distribution Lines and Feeders - Operation Labour",134152.44]
[2017,"January 1, 2016 - December 31, 2016",null,"Canadian Niagara Power Inc.","Distribution Expenses - Operation","5045","Underground Distribution Lines and Feeders - Operation Supplies and Expenses",15593.15]
[2017,"January 1, 2016 - December 31, 2016",null,"Canadian Niagara Power Inc.","Distribution Expenses - Operation","5050","Underground Subtransmission Feeders - Operation",0]
[2017,"January 1, 2016 - December 31, 2016",null,"Canadian Niagara Power Inc.","Distribution Expenses - Operation","5055","Underground Distribution Transformers - Operation",1850.15]
[2017,"January 1, 2016 - December 31, 2016",null,"Canadian Niagara Power Inc.","Distribution Expenses - Operation","5060","Street Lighting and Signal System Expense",0]
[2017,"January 1, 2016 - December 31, 2016",null,"Canadian Niagara Power Inc.","Distribution Expenses - Operation","5065","Meter Expense",355389.43]
[2017,"January 1, 2016 - December 31, 2016",null,"Canadian Niagara Power Inc.","Distribution Expenses - Operation","5070","Customer Premises - Operation Labour",3617.23]
[2017,"January 1, 2016 - December 31, 2016",null,"Canadian Niagara Power Inc.","Distribution Expenses - Operation","5075","Customer Premises - Materials and Expenses",0]
[2017,"January 1, 2016 - December 31, 2016",null,"Canadian Niagara Power Inc.","Distribution Expenses - Operation","5085","Miscellaneous Distribution Expense",391147.95]
[2017,"January 1, 2016 - December 31, 2016",null,"Canadian Niagara Power Inc.","Distribution Expenses - Operation","5090","Underground Distribution Lines and Feeders - Rental Paid",863]
[2017,"January 1, 2016 - December 31, 2016",null,"Canadian Niagara Power Inc.","Distribution Expenses - Operation","5095","Overhead Distribution Lines and Feeders - Rental Paid",35891]
[2017,"January 1, 2016 - December 31, 2016",null,"Canadian Niagara Power Inc.","Distribution Expenses - Operation","5096","Other Rent",0]
[2017,"January 1, 2016 - December 31, 2016",null,"Canadian Niagara Power Inc.","Distribution Expenses - Operation Total",null,null,1693096.21]
[2017,"January 1, 2016 - December 31, 2016",null,"Canadian Niagara Power Inc.","Distribution Expenses – Maintenance","5105","Maintenance Supervision and Engineering",23271.84]
[2017,"January 1, 2016 - December 31, 2016",null,"Canadian Niagara Power Inc.","Distribution Expenses – Maintenance","5110","Maintenance of Buildings and Fixtures - Distribution Stations",46510.84]
[2017,"January 1, 2016 - December 31, 2016",null,"Canadian Niagara Power Inc.","Distribution Expenses – Maintenance","5112","Maintenance of Transformer Station Equipment",0]
[2017,"January 1, 2016 - December 31, 2016",null,"Canadian Niagara Power Inc.","Distribution Expenses – Maintenance","5114","Maintenance of Distribution Station Equipment",77657.649999999994]
[2017,"January 1, 2016 - December 31, 2016",null,"Canadian Niagara Power Inc.","Distribution Expenses – Maintenance","5120","Maintenance of Poles, Towers and Fixtures",160800.48000000001]
[2017,"January 1, 2016 - December 31, 2016",null,"Canadian Niagara Power Inc.","Distribution Expenses – Maintenance","5125","Maintenance of Overhead Conductors and Devices",305892.46999999997]
[2017,"January 1, 2016 - December 31, 2016",null,"Canadian Niagara Power Inc.","Distribution Expenses – Maintenance","5130","Maintenance of Overhead Services",262509.95]
[2017,"January 1, 2016 - December 31, 2016",null,"Canadian Niagara Power Inc.","Distribution Expenses – Maintenance","5135","Overhead Distribution Lines and Feeders - Right of Way",447394.32]
[2017,"January 1, 2016 - December 31, 2016",null,"Canadian Niagara Power Inc.","Distribution Expenses – Maintenance","5145","Maintenance of Underground Conduit",7806.84]
[2017,"January 1, 2016 - December 31, 2016",null,"Canadian Niagara Power Inc.","Distribution Expenses – Maintenance","5150","Maintenance of Underground Conductors and Devices",37001.440000000002]
[2017,"January 1, 2016 - December 31, 2016",null,"Canadian Niagara Power Inc.","Distribution Expenses – Maintenance","5155","Maintenance of Underground Services",72415.960000000006]
[2017,"January 1, 2016 - December 31, 2016",null,"Canadian Niagara Power Inc.","Distribution Expenses – Maintenance","5160","Maintenance of Line Transformers",46438.26]
[2017,"January 1, 2016 - December 31, 2016",null,"Canadian Niagara Power Inc.","Distribution Expenses – Maintenance","5165","Maintenance of Street Lighting and Signal Systems",0]
[2017,"January 1, 2016 - December 31, 2016",null,"Canadian Niagara Power Inc.","Distribution Expenses – Maintenance","5170","Sentinel Lights - Labour",0]
[2017,"January 1, 2016 - December 31, 2016",null,"Canadian Niagara Power Inc.","Distribution Expenses – Maintenance","5172","Sentinel Lights - Materials and Expenses",0]
[2017,"January 1, 2016 - December 31, 2016",null,"Canadian Niagara Power Inc.","Distribution Expenses – Maintenance","5175","Maintenance of Meters",415023.58]
[2017,"January 1, 2016 - December 31, 2016",null,"Canadian Niagara Power Inc.","Distribution Expenses – Maintenance","5178","Customer Installations Expenses- Leased Property",0]
[2017,"January 1, 2016 - December 31, 2016",null,"Canadian Niagara Power Inc.","Distribution Expenses – Maintenance","5195","Maintenance of Other Installations on Customer Premises",0]
[2017,"January 1, 2016 - December 31, 2016",null,"Canadian Niagara Power Inc.","Distribution Expenses – Maintenance Total",null,null,1902723.63]
[2017,"January 1, 2016 - December 31, 2016",null,"Canadian Niagara Power Inc.","Other Expenses","5205","Purchase of Transmission and System Services",0]
[2017,"January 1, 2016 - December 31, 2016",null,"Canadian Niagara Power Inc.","Other Expenses","5210","Transmission Charges",0]
[2017,"January 1, 2016 - December 31, 2016",null,"Canadian Niagara Power Inc.","Other Expenses","5215","Transmission Charges Recovered",0]
[2017,"January 1, 2016 - December 31, 2016",null,"Canadian Niagara Power Inc.","Other Expenses Total",null,null,0]
[2017,"January 1, 2016 - December 31, 2016",null,"Centre Wellington Hydro Ltd.","Administrative and General Expenses","5505","Supervision",0]
[2017,"January 1, 2016 - December 31, 2016",null,"Centre Wellington Hydro Ltd.","Administrative and General Expenses","5510","Demonstrating and Selling Expense",0]
[2017,"January 1, 2016 - December 31, 2016",null,"Centre Wellington Hydro Ltd.","Administrative and General Expenses","5515","Advertising Expense",0]
[2017,"January 1, 2016 - December 31, 2016",null,"Centre Wellington Hydro Ltd.","Administrative and General Expenses","5520","Miscellaneous Sales Expense",0]
[2017,"January 1, 2016 - December 31, 2016",null,"Centre Wellington Hydro Ltd.","Administrative and General Expenses","5605","Executive Salaries and Expenses",0]
[2017,"January 1, 2016 - December 31, 2016",null,"Centre Wellington Hydro Ltd.","Administrative and General Expenses","5610","Management Salaries and Expenses",360770.12]
[2017,"January 1, 2016 - December 31, 2016",null,"Centre Wellington Hydro Ltd.","Administrative and General Expenses","5615","General Administrative Salaries and Expenses",208942.81]
[2017,"January 1, 2016 - December 31, 2016",null,"Centre Wellington Hydro Ltd.","Administrative and General Expenses","5620","Office Supplies and Expenses",67518.28]
[2017,"January 1, 2016 - December 31, 2016",null,"Centre Wellington Hydro Ltd.","Administrative and General Expenses","5625","Administrative Expense Transferred/Credit",0]
[2017,"January 1, 2016 - December 31, 2016",null,"Centre Wellington Hydro Ltd.","Administrative and General Expenses","5630","Outside Services Employed",53214.51]
[2017,"January 1, 2016 - December 31, 2016",null,"Centre Wellington Hydro Ltd.","Administrative and General Expenses","5635","Property Insurance",5579.28]
[2017,"January 1, 2016 - December 31, 2016",null,"Centre Wellington Hydro Ltd.","Administrative and General Expenses","5640","Injuries and Damages",42093.93]
[2017,"January 1, 2016 - December 31, 2016",null,"Centre Wellington Hydro Ltd.","Administrative and General Expenses","5645","OMERS Pensions and Benefits",0]
[2017,"January 1, 2016 - December 31, 2016",null,"Centre Wellington Hydro Ltd.","Administrative and General Expenses","5646","Employee Pensions and OPEB",16744.34]
[2017,"January 1, 2016 - December 31, 2016",null,"Centre Wellington Hydro Ltd.","Administrative and General Expenses","5647","Employee Sick Leave",0]
[2017,"January 1, 2016 - December 31, 2016",null,"Centre Wellington Hydro Ltd.","Administrative and General Expenses","5650","Franchise Requirements",0]
[2017,"January 1, 2016 - December 31, 2016",null,"Centre Wellington Hydro Ltd.","Administrative and General Expenses","5655","Regulatory Expenses",77609.94]
[2017,"January 1, 2016 - December 31, 2016",null,"Centre Wellington Hydro Ltd.","Administrative and General Expenses","5660","General Advertising Expenses",0]
[2017,"January 1, 2016 - December 31, 2016",null,"Centre Wellington Hydro Ltd.","Administrative and General Expenses","5665","Miscellaneous General Expenses",87624.95]
[2017,"January 1, 2016 - December 31, 2016",null,"Centre Wellington Hydro Ltd.","Administrative and General Expenses","5670","Rent",0]
[2017,"January 1, 2016 - December 31, 2016",null,"Centre Wellington Hydro Ltd.","Administrative and General Expenses","5672","Lease Payment Expense",0]
[2017,"January 1, 2016 - December 31, 2016",null,"Centre Wellington Hydro Ltd.","Administrative and General Expenses","5675","Maintenance of General Plant",22486.639999999999]
[2017,"January 1, 2016 - December 31, 2016",null,"Centre Wellington Hydro Ltd.","Administrative and General Expenses","5680","Electrical Safety Authority Fees",10223.27]
[2017,"January 1, 2016 - December 31, 2016",null,"Centre Wellington Hydro Ltd.","Administrative and General Expenses","5681","Special Purpose Charge Expense",0]
[2017,"January 1, 2016 - December 31, 2016",null,"Centre Wellington Hydro Ltd.","Administrative and General Expenses","5685","Independent Market Operator Fees and Penalties",0]
[2017,"January 1, 2016 - December 31, 2016",null,"Centre Wellington Hydro Ltd.","Administrative and General Expenses","5695","OM&A Contra",0]
[2017,"January 1, 2016 - December 31, 2016",null,"Centre Wellington Hydro Ltd.","Administrative and General Expenses Total",null,null,952808.07]
[2017,"January 1, 2016 - December 31, 2016",null,"Centre Wellington Hydro Ltd.","Billing and Collecting","5305","Supervision",57885.78]
[2017,"January 1, 2016 - December 31, 2016",null,"Centre Wellington Hydro Ltd.","Billing and Collecting","5310","Meter Reading Expense",106918.86]
[2017,"January 1, 2016 - December 31, 2016",null,"Centre Wellington Hydro Ltd.","Billing and Collecting","5315","Customer Billing",210220.11]
[2017,"January 1, 2016 - December 31, 2016",null,"Centre Wellington Hydro Ltd.","Billing and Collecting","5320","Collecting",84530.3]
[2017,"January 1, 2016 - December 31, 2016",null,"Centre Wellington Hydro Ltd.","Billing and Collecting","5325","Collecting- Cash Over and Short",0.55000000000000004]
[2017,"January 1, 2016 - December 31, 2016",null,"Centre Wellington Hydro Ltd.","Billing and Collecting","5330","Collection Charges",0]
[2017,"January 1, 2016 - December 31, 2016",null,"Centre Wellington Hydro Ltd.","Billing and Collecting","5335","Bad Debt Expense",2132.87]
[2017,"January 1, 2016 - December 31, 2016",null,"Centre Wellington Hydro Ltd.","Billing and Collecting","5340","Miscellaneous Customer Accounts Expenses",0]
[2017,"January 1, 2016 - December 31, 2016",null,"Centre Wellington Hydro Ltd.","Billing and Collecting Total",null,null,461688.47]
[2017,"January 1, 2016 - December 31, 2016",null,"Centre Wellington Hydro Ltd.","Community Relations","5405","Supervision",0]
[2017,"January 1, 2016 - December 31, 2016",null,"Centre Wellington Hydro Ltd.","Community Relations","5410","Community Relations - Sundry",31323.69]
[2017,"January 1, 2016 - December 31, 2016",null,"Centre Wellington Hydro Ltd.","Community Relations","5415","Energy Conservation",6744.83]
[2017,"January 1, 2016 - December 31, 2016",null,"Centre Wellington Hydro Ltd.","Community Relations","5420","Community Safety Program",0]
[2017,"January 1, 2016 - December 31, 2016",null,"Centre Wellington Hydro Ltd.","Community Relations","5425","Miscellaneous Customer Service and Informational Expenses",13519.8]
[2017,"January 1, 2016 - December 31, 2016",null,"Centre Wellington Hydro Ltd.","Community Relations Total",null,null,51588.32]
[2017,"January 1, 2016 - December 31, 2016",null,"Centre Wellington Hydro Ltd.","Distribution Expenses - Operation","5005","Operation Supervision and Engineering",71727.41]
[2017,"January 1, 2016 - December 31, 2016",null,"Centre Wellington Hydro Ltd.","Distribution Expenses - Operation","5010","Load Dispatching",15500.36]
[2017,"January 1, 2016 - December 31, 2016",null,"Centre Wellington Hydro Ltd.","Distribution Expenses - Operation","5012","Station Buildings and Fixtures Expense",75720.899999999994]
[2017,"January 1, 2016 - December 31, 2016",null,"Centre Wellington Hydro Ltd.","Distribution Expenses - Operation","5014","Transformer Station Equipment - Operation Labour",0]
[2017,"January 1, 2016 - December 31, 2016",null,"Centre Wellington Hydro Ltd.","Distribution Expenses - Operation","5015","Transformer Station Equipment - Operation Supplies and Expenses",0]
[2017,"January 1, 2016 - December 31, 2016",null,"Centre Wellington Hydro Ltd.","Distribution Expenses - Operation","5016","Distribution Station Equipment - Operation Labour",1305.17]
[2017,"January 1, 2016 - December 31, 2016",null,"Centre Wellington Hydro Ltd.","Distribution Expenses - Operation","5017","Distribution Station Equipment - Operation Supplies and Expenses",12483.68]
[2017,"January 1, 2016 - December 31, 2016",null,"Centre Wellington Hydro Ltd.","Distribution Expenses - Operation","5020","Overhead Distribution Lines and Feeders - Operation Labour",2346.7800000000002]
[2017,"January 1, 2016 - December 31, 2016",null,"Centre Wellington Hydro Ltd.","Distribution Expenses - Operation","5025","Overhead Distribution Lines and Feeders - Operation Supplies and Expenses",5198.53]
[2017,"January 1, 2016 - December 31, 2016",null,"Centre Wellington Hydro Ltd.","Distribution Expenses - Operation","5030","Overhead Subtransmission Feeders - Operation",0]
[2017,"January 1, 2016 - December 31, 2016",null,"Centre Wellington Hydro Ltd.","Distribution Expenses - Operation","5035","Overhead Distribution Transformers- Operation",0]
[2017,"January 1, 2016 - December 31, 2016",null,"Centre Wellington Hydro Ltd.","Distribution Expenses - Operation","5040","Underground Distribution Lines and Feeders - Operation Labour",0]
[2017,"January 1, 2016 - December 31, 2016",null,"Centre Wellington Hydro Ltd.","Distribution Expenses - Operation","5045","Underground Distribution Lines and Feeders - Operation Supplies and Expenses",0]
[2017,"January 1, 2016 - December 31, 2016",null,"Centre Wellington Hydro Ltd.","Distribution Expenses - Operation","5050","Underground Subtransmission Feeders - Operation",0]
[2017,"January 1, 2016 - December 31, 2016",null,"Centre Wellington Hydro Ltd.","Distribution Expenses - Operation","5055","Underground Distribution Transformers - Operation",4555.24]
[2017,"January 1, 2016 - December 31, 2016",null,"Centre Wellington Hydro Ltd.","Distribution Expenses - Operation","5060","Street Lighting and Signal System Expense",0]
[2017,"January 1, 2016 - December 31, 2016",null,"Centre Wellington Hydro Ltd.","Distribution Expenses - Operation","5065","Meter Expense",59018.69]
[2017,"January 1, 2016 - December 31, 2016",null,"Centre Wellington Hydro Ltd.","Distribution Expenses - Operation","5070","Customer Premises - Operation Labour",0]
[2017,"January 1, 2016 - December 31, 2016",null,"Centre Wellington Hydro Ltd.","Distribution Expenses - Operation","5075","Customer Premises - Materials and Expenses",0]
[2017,"January 1, 2016 - December 31, 2016",null,"Centre Wellington Hydro Ltd.","Distribution Expenses - Operation","5085","Miscellaneous Distribution Expense",58407.31]
[2017,"January 1, 2016 - December 31, 2016",null,"Centre Wellington Hydro Ltd.","Distribution Expenses - Operation","5090","Underground Distribution Lines and Feeders - Rental Paid",0]
[2017,"January 1, 2016 - December 31, 2016",null,"Centre Wellington Hydro Ltd.","Distribution Expenses - Operation","5095","Overhead Distribution Lines and Feeders - Rental Paid",6304.25]
[2017,"January 1, 2016 - December 31, 2016",null,"Centre Wellington Hydro Ltd.","Distribution Expenses - Operation","5096","Other Rent",0]
[2017,"January 1, 2016 - December 31, 2016",null,"Centre Wellington Hydro Ltd.","Distribution Expenses - Operation Total",null,null,312568.32000000001]
[2017,"January 1, 2016 - December 31, 2016",null,"Centre Wellington Hydro Ltd.","Distribution Expenses – Maintenance","5105","Maintenance Supervision and Engineering",26845.09]
[2017,"January 1, 2016 - December 31, 2016",null,"Centre Wellington Hydro Ltd.","Distribution Expenses – Maintenance","5110","Maintenance of Buildings and Fixtures - Distribution Stations",0]
[2017,"January 1, 2016 - December 31, 2016",null,"Centre Wellington Hydro Ltd.","Distribution Expenses – Maintenance","5112","Maintenance of Transformer Station Equipment",0]
[2017,"January 1, 2016 - December 31, 2016",null,"Centre Wellington Hydro Ltd.","Distribution Expenses – Maintenance","5114","Maintenance of Distribution Station Equipment",5735.53]
[2017,"January 1, 2016 - December 31, 2016",null,"Centre Wellington Hydro Ltd.","Distribution Expenses – Maintenance","5120","Maintenance of Poles, Towers and Fixtures",26822.22]
[2017,"January 1, 2016 - December 31, 2016",null,"Centre Wellington Hydro Ltd.","Distribution Expenses – Maintenance","5125","Maintenance of Overhead Conductors and Devices",41708.68]
[2017,"January 1, 2016 - December 31, 2016",null,"Centre Wellington Hydro Ltd.","Distribution Expenses – Maintenance","5130","Maintenance of Overhead Services",52958.98]
[2017,"January 1, 2016 - December 31, 2016",null,"Centre Wellington Hydro Ltd.","Distribution Expenses – Maintenance","5135","Overhead Distribution Lines and Feeders - Right of Way",66114.570000000007]
[2017,"January 1, 2016 - December 31, 2016",null,"Centre Wellington Hydro Ltd.","Distribution Expenses – Maintenance","5145","Maintenance of Underground Conduit",3227.96]
[2017,"January 1, 2016 - December 31, 2016",null,"Centre Wellington Hydro Ltd.","Distribution Expenses – Maintenance","5150","Maintenance of Underground Conductors and Devices",2503.14]
[2017,"January 1, 2016 - December 31, 2016",null,"Centre Wellington Hydro Ltd.","Distribution Expenses – Maintenance","5155","Maintenance of Underground Services",114268.19]
[2017,"January 1, 2016 - December 31, 2016",null,"Centre Wellington Hydro Ltd.","Distribution Expenses – Maintenance","5160","Maintenance of Line Transformers",14202.1]
[2017,"January 1, 2016 - December 31, 2016",null,"Centre Wellington Hydro Ltd.","Distribution Expenses – Maintenance","5165","Maintenance of Street Lighting and Signal Systems",0]
[2017,"January 1, 2016 - December 31, 2016",null,"Centre Wellington Hydro Ltd.","Distribution Expenses – Maintenance","5170","Sentinel Lights - Labour",0]
[2017,"January 1, 2016 - December 31, 2016",null,"Centre Wellington Hydro Ltd.","Distribution Expenses – Maintenance","5172","Sentinel Lights - Materials and Expenses",0]
[2017,"January 1, 2016 - December 31, 2016",null,"Centre Wellington Hydro Ltd.","Distribution Expenses – Maintenance","5175","Maintenance of Meters",0]
[2017,"January 1, 2016 - December 31, 2016",null,"Centre Wellington Hydro Ltd.","Distribution Expenses – Maintenance","5178","Customer Installations Expenses- Leased Property",0]
[2017,"January 1, 2016 - December 31, 2016",null,"Centre Wellington Hydro Ltd.","Distribution Expenses – Maintenance","5195","Maintenance of Other Installations on Customer Premises",0]
[2017,"January 1, 2016 - December 31, 2016",null,"Centre Wellington Hydro Ltd.","Distribution Expenses – Maintenance Total",null,null,354386.46]
[2017,"January 1, 2016 - December 31, 2016",null,"Centre Wellington Hydro Ltd.","Other Expenses","5205","Purchase of Transmission and System Services",0]
[2017,"January 1, 2016 - December 31, 2016",null,"Centre Wellington Hydro Ltd.","Other Expenses","5210","Transmission Charges",0]
[2017,"January 1, 2016 - December 31, 2016",null,"Centre Wellington Hydro Ltd.","Other Expenses","5215","Transmission Charges Recovered",0]
[2017,"January 1, 2016 - December 31, 2016",null,"Centre Wellington Hydro Ltd.","Other Expenses Total",null,null,0]
[2017,"January 1, 2016 - December 31, 2016",null,"Chapleau Public Utilities Corporation","Administrative and General Expenses","5505","Supervision",0]
[2017,"January 1, 2016 - December 31, 2016",null,"Chapleau Public Utilities Corporation","Administrative and General Expenses","5510","Demonstrating and Selling Expense",0]
[2017,"January 1, 2016 - December 31, 2016",null,"Chapleau Public Utilities Corporation","Administrative and General Expenses","5515","Advertising Expense",0]
[2017,"January 1, 2016 - December 31, 2016",null,"Chapleau Public Utilities Corporation","Administrative and General Expenses","5520","Miscellaneous Sales Expense",0]
[2017,"January 1, 2016 - December 31, 2016",null,"Chapleau Public Utilities Corporation","Administrative and General Expenses","5605","Executive Salaries and Expenses",13200]
[2017,"January 1, 2016 - December 31, 2016",null,"Chapleau Public Utilities Corporation","Administrative and General Expenses","5610","Management Salaries and Expenses",87775.03]
[2017,"January 1, 2016 - December 31, 2016",null,"Chapleau Public Utilities Corporation","Administrative and General Expenses","5615","General Administrative Salaries and Expenses",17664.240000000002]
[2017,"January 1, 2016 - December 31, 2016",null,"Chapleau Public Utilities Corporation","Administrative and General Expenses","5620","Office Supplies and Expenses",26671.68]
[2017,"January 1, 2016 - December 31, 2016",null,"Chapleau Public Utilities Corporation","Administrative and General Expenses","5625","Administrative Expense Transferred/Credit",0]
[2017,"January 1, 2016 - December 31, 2016",null,"Chapleau Public Utilities Corporation","Administrative and General Expenses","5630","Outside Services Employed",76785.06]
[2017,"January 1, 2016 - December 31, 2016",null,"Chapleau Public Utilities Corporation","Administrative and General Expenses","5635","Property Insurance",4421.41]
[2017,"January 1, 2016 - December 31, 2016",null,"Chapleau Public Utilities Corporation","Administrative and General Expenses","5640","Injuries and Damages",7533.53]
[2017,"January 1, 2016 - December 31, 2016",null,"Chapleau Public Utilities Corporation","Administrative and General Expenses","5645","OMERS Pensions and Benefits",73205.460000000006]
[2017,"January 1, 2016 - December 31, 2016",null,"Chapleau Public Utilities Corporation","Administrative and General Expenses","5646","Employee Pensions and OPEB",0]
[2017,"January 1, 2016 - December 31, 2016",null,"Chapleau Public Utilities Corporation","Administrative and General Expenses","5647","Employee Sick Leave",0]
[2017,"January 1, 2016 - December 31, 2016",null,"Chapleau Public Utilities Corporation","Administrative and General Expenses","5650","Franchise Requirements",0]
[2017,"January 1, 2016 - December 31, 2016",null,"Chapleau Public Utilities Corporation","Administrative and General Expenses","5655","Regulatory Expenses",8933.7900000000009]
[2017,"January 1, 2016 - December 31, 2016",null,"Chapleau Public Utilities Corporation","Administrative and General Expenses","5660","General Advertising Expenses",0]
[2017,"January 1, 2016 - December 31, 2016",null,"Chapleau Public Utilities Corporation","Administrative and General Expenses","5665","Miscellaneous General Expenses",67942.44]
[2017,"January 1, 2016 - December 31, 2016",null,"Chapleau Public Utilities Corporation","Administrative and General Expenses","5670","Rent",0]
[2017,"January 1, 2016 - December 31, 2016",null,"Chapleau Public Utilities Corporation","Administrative and General Expenses","5672","Lease Payment Expense",0]
[2017,"January 1, 2016 - December 31, 2016",null,"Chapleau Public Utilities Corporation","Administrative and General Expenses","5675","Maintenance of General Plant",0]
[2017,"January 1, 2016 - December 31, 2016",null,"Chapleau Public Utilities Corporation","Administrative and General Expenses","5680","Electrical Safety Authority Fees",0]
[2017,"January 1, 2016 - December 31, 2016",null,"Chapleau Public Utilities Corporation","Administrative and General Expenses","5681","Special Purpose Charge Expense",0]
[2017,"January 1, 2016 - December 31, 2016",null,"Chapleau Public Utilities Corporation","Administrative and General Expenses","5685","Independent Market Operator Fees and Penalties",0]
[2017,"January 1, 2016 - December 31, 2016",null,"Chapleau Public Utilities Corporation","Administrative and General Expenses","5695","OM&A Contra",0]
[2017,"January 1, 2016 - December 31, 2016",null,"Chapleau Public Utilities Corporation","Administrative and General Expenses Total",null,null,384132.64]
[2017,"January 1, 2016 - December 31, 2016",null,"Chapleau Public Utilities Corporation","Billing and Collecting","5305","Supervision",0]
[2017,"January 1, 2016 - December 31, 2016",null,"Chapleau Public Utilities Corporation","Billing and Collecting","5310","Meter Reading Expense",35466.49]
[2017,"January 1, 2016 - December 31, 2016",null,"Chapleau Public Utilities Corporation","Billing and Collecting","5315","Customer Billing",78927.149999999994]
[2017,"January 1, 2016 - December 31, 2016",null,"Chapleau Public Utilities Corporation","Billing and Collecting","5320","Collecting",0]
[2017,"January 1, 2016 - December 31, 2016",null,"Chapleau Public Utilities Corporation","Billing and Collecting","5325","Collecting- Cash Over and Short",0]
[2017,"January 1, 2016 - December 31, 2016",null,"Chapleau Public Utilities Corporation","Billing and Collecting","5330","Collection Charges",0]
[2017,"January 1, 2016 - December 31, 2016",null,"Chapleau Public Utilities Corporation","Billing and Collecting","5335","Bad Debt Expense",6763.22]
[2017,"January 1, 2016 - December 31, 2016",null,"Chapleau Public Utilities Corporation","Billing and Collecting","5340","Miscellaneous Customer Accounts Expenses",0]
[2017,"January 1, 2016 - December 31, 2016",null,"Chapleau Public Utilities Corporation","Billing and Collecting Total",null,null,121156.86]
[2017,"January 1, 2016 - December 31, 2016",null,"Chapleau Public Utilities Corporation","Community Relations","5405","Supervision",0]
[2017,"January 1, 2016 - December 31, 2016",null,"Chapleau Public Utilities Corporation","Community Relations","5410","Community Relations - Sundry",415]
[2017,"January 1, 2016 - December 31, 2016",null,"Chapleau Public Utilities Corporation","Community Relations","5415","Energy Conservation",0]
[2017,"January 1, 2016 - December 31, 2016",null,"Chapleau Public Utilities Corporation","Community Relations","5420","Community Safety Program",0]
[2017,"January 1, 2016 - December 31, 2016",null,"Chapleau Public Utilities Corporation","Community Relations","5425","Miscellaneous Customer Service and Informational Expenses",0]
[2017,"January 1, 2016 - December 31, 2016",null,"Chapleau Public Utilities Corporation","Community Relations Total",null,null,415]
[2017,"January 1, 2016 - December 31, 2016",null,"Chapleau Public Utilities Corporation","Distribution Expenses - Operation","5005","Operation Supervision and Engineering",0]
[2017,"January 1, 2016 - December 31, 2016",null,"Chapleau Public Utilities Corporation","Distribution Expenses - Operation","5010","Load Dispatching",0]
[2017,"January 1, 2016 - December 31, 2016",null,"Chapleau Public Utilities Corporation","Distribution Expenses - Operation","5012","Station Buildings and Fixtures Expense",0]
[2017,"January 1, 2016 - December 31, 2016",null,"Chapleau Public Utilities Corporation","Distribution Expenses - Operation","5014","Transformer Station Equipment - Operation Labour",0]
[2017,"January 1, 2016 - December 31, 2016",null,"Chapleau Public Utilities Corporation","Distribution Expenses - Operation","5015","Transformer Station Equipment - Operation Supplies and Expenses",0]
[2017,"January 1, 2016 - December 31, 2016",null,"Chapleau Public Utilities Corporation","Distribution Expenses - Operation","5016","Distribution Station Equipment - Operation Labour",2991.14]
[2017,"January 1, 2016 - December 31, 2016",null,"Chapleau Public Utilities Corporation","Distribution Expenses - Operation","5017","Distribution Station Equipment - Operation Supplies and Expenses",0]
[2017,"January 1, 2016 - December 31, 2016",null,"Chapleau Public Utilities Corporation","Distribution Expenses - Operation","5020","Overhead Distribution Lines and Feeders - Operation Labour",178142.46]
[2017,"January 1, 2016 - December 31, 2016",null,"Chapleau Public Utilities Corporation","Distribution Expenses - Operation","5025","Overhead Distribution Lines and Feeders - Operation Supplies and Expenses",53230.89]
[2017,"January 1, 2016 - December 31, 2016",null,"Chapleau Public Utilities Corporation","Distribution Expenses - Operation","5030","Overhead Subtransmission Feeders - Operation",0]
[2017,"January 1, 2016 - December 31, 2016",null,"Chapleau Public Utilities Corporation","Distribution Expenses - Operation","5035","Overhead Distribution Transformers- Operation",0]
[2017,"January 1, 2016 - December 31, 2016",null,"Chapleau Public Utilities Corporation","Distribution Expenses - Operation","5040","Underground Distribution Lines and Feeders - Operation Labour",0]
[2017,"January 1, 2016 - December 31, 2016",null,"Chapleau Public Utilities Corporation","Distribution Expenses - Operation","5045","Underground Distribution Lines and Feeders - Operation Supplies and Expenses",0]
[2017,"January 1, 2016 - December 31, 2016",null,"Chapleau Public Utilities Corporation","Distribution Expenses - Operation","5050","Underground Subtransmission Feeders - Operation",0]
[2017,"January 1, 2016 - December 31, 2016",null,"Chapleau Public Utilities Corporation","Distribution Expenses - Operation","5055","Underground Distribution Transformers - Operation",0]
[2017,"January 1, 2016 - December 31, 2016",null,"Chapleau Public Utilities Corporation","Distribution Expenses - Operation","5060","Street Lighting and Signal System Expense",0]
[2017,"January 1, 2016 - December 31, 2016",null,"Chapleau Public Utilities Corporation","Distribution Expenses - Operation","5065","Meter Expense",514.32000000000005]
[2017,"January 1, 2016 - December 31, 2016",null,"Chapleau Public Utilities Corporation","Distribution Expenses - Operation","5070","Customer Premises - Operation Labour",0]
[2017,"January 1, 2016 - December 31, 2016",null,"Chapleau Public Utilities Corporation","Distribution Expenses - Operation","5075","Customer Premises - Materials and Expenses",0]
[2017,"January 1, 2016 - December 31, 2016",null,"Chapleau Public Utilities Corporation","Distribution Expenses - Operation","5085","Miscellaneous Distribution Expense",0]
[2017,"January 1, 2016 - December 31, 2016",null,"Chapleau Public Utilities Corporation","Distribution Expenses - Operation","5090","Underground Distribution Lines and Feeders - Rental Paid",0]
[2017,"January 1, 2016 - December 31, 2016",null,"Chapleau Public Utilities Corporation","Distribution Expenses - Operation","5095","Overhead Distribution Lines and Feeders - Rental Paid",1453.28]
[2017,"January 1, 2016 - December 31, 2016",null,"Chapleau Public Utilities Corporation","Distribution Expenses - Operation","5096","Other Rent",0]
[2017,"January 1, 2016 - December 31, 2016",null,"Chapleau Public Utilities Corporation","Distribution Expenses - Operation Total",null,null,236332.09]
[2017,"January 1, 2016 - December 31, 2016",null,"Chapleau Public Utilities Corporation","Distribution Expenses – Maintenance","5105","Maintenance Supervision and Engineering",0]
[2017,"January 1, 2016 - December 31, 2016",null,"Chapleau Public Utilities Corporation","Distribution Expenses – Maintenance","5110","Maintenance of Buildings and Fixtures - Distribution Stations",0]
[2017,"January 1, 2016 - December 31, 2016",null,"Chapleau Public Utilities Corporation","Distribution Expenses – Maintenance","5112","Maintenance of Transformer Station Equipment",0]
[2017,"January 1, 2016 - December 31, 2016",null,"Chapleau Public Utilities Corporation","Distribution Expenses – Maintenance","5114","Maintenance of Distribution Station Equipment",0]
[2017,"January 1, 2016 - December 31, 2016",null,"Chapleau Public Utilities Corporation","Distribution Expenses – Maintenance","5120","Maintenance of Poles, Towers and Fixtures",0]
[2017,"January 1, 2016 - December 31, 2016",null,"Chapleau Public Utilities Corporation","Distribution Expenses – Maintenance","5125","Maintenance of Overhead Conductors and Devices",0]
[2017,"January 1, 2016 - December 31, 2016",null,"Chapleau Public Utilities Corporation","Distribution Expenses – Maintenance","5130","Maintenance of Overhead Services",0]
[2017,"January 1, 2016 - December 31, 2016",null,"Chapleau Public Utilities Corporation","Distribution Expenses – Maintenance","5135","Overhead Distribution Lines and Feeders - Right of Way",0]
[2017,"January 1, 2016 - December 31, 2016",null,"Chapleau Public Utilities Corporation","Distribution Expenses – Maintenance","5145","Maintenance of Underground Conduit",0]
[2017,"January 1, 2016 - December 31, 2016",null,"Chapleau Public Utilities Corporation","Distribution Expenses – Maintenance","5150","Maintenance of Underground Conductors and Devices",0]
[2017,"January 1, 2016 - December 31, 2016",null,"Chapleau Public Utilities Corporation","Distribution Expenses – Maintenance","5155","Maintenance of Underground Services",0]
[2017,"January 1, 2016 - December 31, 2016",null,"Chapleau Public Utilities Corporation","Distribution Expenses – Maintenance","5160","Maintenance of Line Transformers",0]
[2017,"January 1, 2016 - December 31, 2016",null,"Chapleau Public Utilities Corporation","Distribution Expenses – Maintenance","5165","Maintenance of Street Lighting and Signal Systems",0]
[2017,"January 1, 2016 - December 31, 2016",null,"Chapleau Public Utilities Corporation","Distribution Expenses – Maintenance","5170","Sentinel Lights - Labour",0]
[2017,"January 1, 2016 - December 31, 2016",null,"Chapleau Public Utilities Corporation","Distribution Expenses – Maintenance","5172","Sentinel Lights - Materials and Expenses",0]
[2017,"January 1, 2016 - December 31, 2016",null,"Chapleau Public Utilities Corporation","Distribution Expenses – Maintenance","5175","Maintenance of Meters",0]
[2017,"January 1, 2016 - December 31, 2016",null,"Chapleau Public Utilities Corporation","Distribution Expenses – Maintenance","5178","Customer Installations Expenses- Leased Property",0]
[2017,"January 1, 2016 - December 31, 2016",null,"Chapleau Public Utilities Corporation","Distribution Expenses – Maintenance","5195","Maintenance of Other Installations on Customer Premises",0]
[2017,"January 1, 2016 - December 31, 2016",null,"Chapleau Public Utilities Corporation","Distribution Expenses – Maintenance Total",null,null,0]
[2017,"January 1, 2016 - December 31, 2016",null,"Chapleau Public Utilities Corporation","Other Expenses","5205","Purchase of Transmission and System Services",0]
[2017,"January 1, 2016 - December 31, 2016",null,"Chapleau Public Utilities Corporation","Other Expenses","5210","Transmission Charges",0]
[2017,"January 1, 2016 - December 31, 2016",null,"Chapleau Public Utilities Corporation","Other Expenses","5215","Transmission Charges Recovered",0]
[2017,"January 1, 2016 - December 31, 2016",null,"Chapleau Public Utilities Corporation","Other Expenses Total",null,null,0]
[2017,"January 1, 2016 - December 31, 2016",null,"Cooperative Hydro Embrun Inc.","Administrative and General Expenses","5505","Supervision",0]
[2017,"January 1, 2016 - December 31, 2016",null,"Cooperative Hydro Embrun Inc.","Administrative and General Expenses","5510","Demonstrating and Selling Expense",0]
[2017,"January 1, 2016 - December 31, 2016",null,"Cooperative Hydro Embrun Inc.","Administrative and General Expenses","5515","Advertising Expense",0]
[2017,"January 1, 2016 - December 31, 2016",null,"Cooperative Hydro Embrun Inc.","Administrative and General Expenses","5520","Miscellaneous Sales Expense",0]
[2017,"January 1, 2016 - December 31, 2016",null,"Cooperative Hydro Embrun Inc.","Administrative and General Expenses","5605","Executive Salaries and Expenses",29694]
[2017,"January 1, 2016 - December 31, 2016",null,"Cooperative Hydro Embrun Inc.","Administrative and General Expenses","5610","Management Salaries and Expenses",93979.87]
[2017,"January 1, 2016 - December 31, 2016",null,"Cooperative Hydro Embrun Inc.","Administrative and General Expenses","5615","General Administrative Salaries and Expenses",65744.33]
[2017,"January 1, 2016 - December 31, 2016",null,"Cooperative Hydro Embrun Inc.","Administrative and General Expenses","5620","Office Supplies and Expenses",37793.61]
[2017,"January 1, 2016 - December 31, 2016",null,"Cooperative Hydro Embrun Inc.","Administrative and General Expenses","5625","Administrative Expense Transferred/Credit",0]
[2017,"January 1, 2016 - December 31, 2016",null,"Cooperative Hydro Embrun Inc.","Administrative and General Expenses","5630","Outside Services Employed",45071.360000000001]
[2017,"January 1, 2016 - December 31, 2016",null,"Cooperative Hydro Embrun Inc.","Administrative and General Expenses","5635","Property Insurance",1957.01]
[2017,"January 1, 2016 - December 31, 2016",null,"Cooperative Hydro Embrun Inc.","Administrative and General Expenses","5640","Injuries and Damages",2772.15]
[2017,"January 1, 2016 - December 31, 2016",null,"Cooperative Hydro Embrun Inc.","Administrative and General Expenses","5645","OMERS Pensions and Benefits",0]
[2017,"January 1, 2016 - December 31, 2016",null,"Cooperative Hydro Embrun Inc.","Administrative and General Expenses","5646","Employee Pensions and OPEB",0]
[2017,"January 1, 2016 - December 31, 2016",null,"Cooperative Hydro Embrun Inc.","Administrative and General Expenses","5647","Employee Sick Leave",0]
[2017,"January 1, 2016 - December 31, 2016",null,"Cooperative Hydro Embrun Inc.","Administrative and General Expenses","5650","Franchise Requirements",0]
[2017,"January 1, 2016 - December 31, 2016",null,"Cooperative Hydro Embrun Inc.","Administrative and General Expenses","5655","Regulatory Expenses",39811.699999999997]
[2017,"January 1, 2016 - December 31, 2016",null,"Cooperative Hydro Embrun Inc.","Administrative and General Expenses","5660","General Advertising Expenses",0]
[2017,"January 1, 2016 - December 31, 2016",null,"Cooperative Hydro Embrun Inc.","Administrative and General Expenses","5665","Miscellaneous General Expenses",0]
[2017,"January 1, 2016 - December 31, 2016",null,"Cooperative Hydro Embrun Inc.","Administrative and General Expenses","5670","Rent",14252.75]
[2017,"January 1, 2016 - December 31, 2016",null,"Cooperative Hydro Embrun Inc.","Administrative and General Expenses","5672","Lease Payment Expense",0]
[2017,"January 1, 2016 - December 31, 2016",null,"Cooperative Hydro Embrun Inc.","Administrative and General Expenses","5675","Maintenance of General Plant",0]
[2017,"January 1, 2016 - December 31, 2016",null,"Cooperative Hydro Embrun Inc.","Administrative and General Expenses","5680","Electrical Safety Authority Fees",1875.14]
[2017,"January 1, 2016 - December 31, 2016",null,"Cooperative Hydro Embrun Inc.","Administrative and General Expenses","5681","Special Purpose Charge Expense",0]
[2017,"January 1, 2016 - December 31, 2016",null,"Cooperative Hydro Embrun Inc.","Administrative and General Expenses","5685","Independent Market Operator Fees and Penalties",0]
[2017,"January 1, 2016 - December 31, 2016",null,"Cooperative Hydro Embrun Inc.","Administrative and General Expenses","5695","OM&A Contra",0]
[2017,"January 1, 2016 - December 31, 2016",null,"Cooperative Hydro Embrun Inc.","Administrative and General Expenses Total",null,null,332951.92]
[2017,"January 1, 2016 - December 31, 2016",null,"Cooperative Hydro Embrun Inc.","Billing and Collecting","5305","Supervision",0]
[2017,"January 1, 2016 - December 31, 2016",null,"Cooperative Hydro Embrun Inc.","Billing and Collecting","5310","Meter Reading Expense",168889.18]
[2017,"January 1, 2016 - December 31, 2016",null,"Cooperative Hydro Embrun Inc.","Billing and Collecting","5315","Customer Billing",0]
[2017,"January 1, 2016 - December 31, 2016",null,"Cooperative Hydro Embrun Inc.","Billing and Collecting","5320","Collecting",0]
[2017,"January 1, 2016 - December 31, 2016",null,"Cooperative Hydro Embrun Inc.","Billing and Collecting","5325","Collecting- Cash Over and Short",0]
[2017,"January 1, 2016 - December 31, 2016",null,"Cooperative Hydro Embrun Inc.","Billing and Collecting","5330","Collection Charges",3930]
[2017,"January 1, 2016 - December 31, 2016",null,"Cooperative Hydro Embrun Inc.","Billing and Collecting","5335","Bad Debt Expense",4959.84]
[2017,"January 1, 2016 - December 31, 2016",null,"Cooperative Hydro Embrun Inc.","Billing and Collecting","5340","Miscellaneous Customer Accounts Expenses",0]
[2017,"January 1, 2016 - December 31, 2016",null,"Cooperative Hydro Embrun Inc.","Billing and Collecting Total",null,null,177779.02]
[2017,"January 1, 2016 - December 31, 2016",null,"Cooperative Hydro Embrun Inc.","Community Relations","5405","Supervision",0]
[2017,"January 1, 2016 - December 31, 2016",null,"Cooperative Hydro Embrun Inc.","Community Relations","5410","Community Relations - Sundry",7862.84]
[2017,"January 1, 2016 - December 31, 2016",null,"Cooperative Hydro Embrun Inc.","Community Relations","5415","Energy Conservation",0]
[2017,"January 1, 2016 - December 31, 2016",null,"Cooperative Hydro Embrun Inc.","Community Relations","5420","Community Safety Program",0]
[2017,"January 1, 2016 - December 31, 2016",null,"Cooperative Hydro Embrun Inc.","Community Relations","5425","Miscellaneous Customer Service and Informational Expenses",0]
[2017,"January 1, 2016 - December 31, 2016",null,"Cooperative Hydro Embrun Inc.","Community Relations Total",null,null,7862.84]
[2017,"January 1, 2016 - December 31, 2016",null,"Cooperative Hydro Embrun Inc.","Distribution Expenses - Operation","5005","Operation Supervision and Engineering",0]
[2017,"January 1, 2016 - December 31, 2016",null,"Cooperative Hydro Embrun Inc.","Distribution Expenses - Operation","5010","Load Dispatching",0]
[2017,"January 1, 2016 - December 31, 2016",null,"Cooperative Hydro Embrun Inc.","Distribution Expenses - Operation","5012","Station Buildings and Fixtures Expense",1306.48]
[2017,"January 1, 2016 - December 31, 2016",null,"Cooperative Hydro Embrun Inc.","Distribution Expenses - Operation","5014","Transformer Station Equipment - Operation Labour",0]
[2017,"January 1, 2016 - December 31, 2016",null,"Cooperative Hydro Embrun Inc.","Distribution Expenses - Operation","5015","Transformer Station Equipment - Operation Supplies and Expenses",0]
[2017,"January 1, 2016 - December 31, 2016",null,"Cooperative Hydro Embrun Inc.","Distribution Expenses - Operation","5016","Distribution Station Equipment - Operation Labour",0]
[2017,"January 1, 2016 - December 31, 2016",null,"Cooperative Hydro Embrun Inc.","Distribution Expenses - Operation","5017","Distribution Station Equipment - Operation Supplies and Expenses",0]
[2017,"January 1, 2016 - December 31, 2016",null,"Cooperative Hydro Embrun Inc.","Distribution Expenses - Operation","5020","Overhead Distribution Lines and Feeders - Operation Labour",0]
[2017,"January 1, 2016 - December 31, 2016",null,"Cooperative Hydro Embrun Inc.","Distribution Expenses - Operation","5025","Overhead Distribution Lines and Feeders - Operation Supplies and Expenses",0]
[2017,"January 1, 2016 - December 31, 2016",null,"Cooperative Hydro Embrun Inc.","Distribution Expenses - Operation","5030","Overhead Subtransmission Feeders - Operation",0]
[2017,"January 1, 2016 - December 31, 2016",null,"Cooperative Hydro Embrun Inc.","Distribution Expenses - Operation","5035","Overhead Distribution Transformers- Operation",3185.14]
[2017,"January 1, 2016 - December 31, 2016",null,"Cooperative Hydro Embrun Inc.","Distribution Expenses - Operation","5040","Underground Distribution Lines and Feeders - Operation Labour",0]
[2017,"January 1, 2016 - December 31, 2016",null,"Cooperative Hydro Embrun Inc.","Distribution Expenses - Operation","5045","Underground Distribution Lines and Feeders - Operation Supplies and Expenses",0]
[2017,"January 1, 2016 - December 31, 2016",null,"Cooperative Hydro Embrun Inc.","Distribution Expenses - Operation","5050","Underground Subtransmission Feeders - Operation",0]
[2017,"January 1, 2016 - December 31, 2016",null,"Cooperative Hydro Embrun Inc.","Distribution Expenses - Operation","5055","Underground Distribution Transformers - Operation",0]
[2017,"January 1, 2016 - December 31, 2016",null,"Cooperative Hydro Embrun Inc.","Distribution Expenses - Operation","5060","Street Lighting and Signal System Expense",0]
[2017,"January 1, 2016 - December 31, 2016",null,"Cooperative Hydro Embrun Inc.","Distribution Expenses - Operation","5065","Meter Expense",907.5]
[2017,"January 1, 2016 - December 31, 2016",null,"Cooperative Hydro Embrun Inc.","Distribution Expenses - Operation","5070","Customer Premises - Operation Labour",0]
[2017,"January 1, 2016 - December 31, 2016",null,"Cooperative Hydro Embrun Inc.","Distribution Expenses - Operation","5075","Customer Premises - Materials and Expenses",19441.63]
[2017,"January 1, 2016 - December 31, 2016",null,"Cooperative Hydro Embrun Inc.","Distribution Expenses - Operation","5085","Miscellaneous Distribution Expense",9368.08]
[2017,"January 1, 2016 - December 31, 2016",null,"Cooperative Hydro Embrun Inc.","Distribution Expenses - Operation","5090","Underground Distribution Lines and Feeders - Rental Paid",0]
[2017,"January 1, 2016 - December 31, 2016",null,"Cooperative Hydro Embrun Inc.","Distribution Expenses - Operation","5095","Overhead Distribution Lines and Feeders - Rental Paid",0]
[2017,"January 1, 2016 - December 31, 2016",null,"Cooperative Hydro Embrun Inc.","Distribution Expenses - Operation","5096","Other Rent",0]
[2017,"January 1, 2016 - December 31, 2016",null,"Cooperative Hydro Embrun Inc.","Distribution Expenses - Operation Total",null,null,34208.83]
[2017,"January 1, 2016 - December 31, 2016",null,"Cooperative Hydro Embrun Inc.","Distribution Expenses – Maintenance","5105","Maintenance Supervision and Engineering",0]
[2017,"January 1, 2016 - December 31, 2016",null,"Cooperative Hydro Embrun Inc.","Distribution Expenses – Maintenance","5110","Maintenance of Buildings and Fixtures - Distribution Stations",8420.64]
[2017,"January 1, 2016 - December 31, 2016",null,"Cooperative Hydro Embrun Inc.","Distribution Expenses – Maintenance","5112","Maintenance of Transformer Station Equipment",0]
[2017,"January 1, 2016 - December 31, 2016",null,"Cooperative Hydro Embrun Inc.","Distribution Expenses – Maintenance","5114","Maintenance of Distribution Station Equipment",6133.54]
[2017,"January 1, 2016 - December 31, 2016",null,"Cooperative Hydro Embrun Inc.","Distribution Expenses – Maintenance","5120","Maintenance of Poles, Towers and Fixtures",6652.08]
[2017,"January 1, 2016 - December 31, 2016",null,"Cooperative Hydro Embrun Inc.","Distribution Expenses – Maintenance","5125","Maintenance of Overhead Conductors and Devices",5419.25]
[2017,"January 1, 2016 - December 31, 2016",null,"Cooperative Hydro Embrun Inc.","Distribution Expenses – Maintenance","5130","Maintenance of Overhead Services",0]
[2017,"January 1, 2016 - December 31, 2016",null,"Cooperative Hydro Embrun Inc.","Distribution Expenses – Maintenance","5135","Overhead Distribution Lines and Feeders - Right of Way",7672.5]
[2017,"January 1, 2016 - December 31, 2016",null,"Cooperative Hydro Embrun Inc.","Distribution Expenses – Maintenance","5145","Maintenance of Underground Conduit",0]
[2017,"January 1, 2016 - December 31, 2016",null,"Cooperative Hydro Embrun Inc.","Distribution Expenses – Maintenance","5150","Maintenance of Underground Conductors and Devices",9924.75]
[2017,"January 1, 2016 - December 31, 2016",null,"Cooperative Hydro Embrun Inc.","Distribution Expenses – Maintenance","5155","Maintenance of Underground Services",2000]
[2017,"January 1, 2016 - December 31, 2016",null,"Cooperative Hydro Embrun Inc.","Distribution Expenses – Maintenance","5160","Maintenance of Line Transformers",0]
[2017,"January 1, 2016 - December 31, 2016",null,"Cooperative Hydro Embrun Inc.","Distribution Expenses – Maintenance","5165","Maintenance of Street Lighting and Signal Systems",0]
[2017,"January 1, 2016 - December 31, 2016",null,"Cooperative Hydro Embrun Inc.","Distribution Expenses – Maintenance","5170","Sentinel Lights - Labour",0]
[2017,"January 1, 2016 - December 31, 2016",null,"Cooperative Hydro Embrun Inc.","Distribution Expenses – Maintenance","5172","Sentinel Lights - Materials and Expenses",0]
[2017,"January 1, 2016 - December 31, 2016",null,"Cooperative Hydro Embrun Inc.","Distribution Expenses – Maintenance","5175","Maintenance of Meters",0]
[2017,"January 1, 2016 - December 31, 2016",null,"Cooperative Hydro Embrun Inc.","Distribution Expenses – Maintenance","5178","Customer Installations Expenses- Leased Property",0]
[2017,"January 1, 2016 - December 31, 2016",null,"Cooperative Hydro Embrun Inc.","Distribution Expenses – Maintenance","5195","Maintenance of Other Installations on Customer Premises",0]
[2017,"January 1, 2016 - December 31, 2016",null,"Cooperative Hydro Embrun Inc.","Distribution Expenses – Maintenance Total",null,null,46222.76]
[2017,"January 1, 2016 - December 31, 2016",null,"Cooperative Hydro Embrun Inc.","Other Expenses","5205","Purchase of Transmission and System Services",0]
[2017,"January 1, 2016 - December 31, 2016",null,"Cooperative Hydro Embrun Inc.","Other Expenses","5210","Transmission Charges",0]
[2017,"January 1, 2016 - December 31, 2016",null,"Cooperative Hydro Embrun Inc.","Other Expenses","5215","Transmission Charges Recovered",0]
[2017,"January 1, 2016 - December 31, 2016",null,"Cooperative Hydro Embrun Inc.","Other Expenses Total",null,null,0]
[2017,"January 1, 2016 - December 31, 2016",null,"E.L.K. Energy Inc.","Administrative and General Expenses","5505","Supervision",0]
[2017,"January 1, 2016 - December 31, 2016",null,"E.L.K. Energy Inc.","Administrative and General Expenses","5510","Demonstrating and Selling Expense",0]
[2017,"January 1, 2016 - December 31, 2016",null,"E.L.K. Energy Inc.","Administrative and General Expenses","5515","Advertising Expense",0]
[2017,"January 1, 2016 - December 31, 2016",null,"E.L.K. Energy Inc.","Administrative and General Expenses","5520","Miscellaneous Sales Expense",0]
[2017,"January 1, 2016 - December 31, 2016",null,"E.L.K. Energy Inc.","Administrative and General Expenses","5605","Executive Salaries and Expenses",21158.09]
[2017,"January 1, 2016 - December 31, 2016",null,"E.L.K. Energy Inc.","Administrative and General Expenses","5610","Management Salaries and Expenses",349192.03]
[2017,"January 1, 2016 - December 31, 2016",null,"E.L.K. Energy Inc.","Administrative and General Expenses","5615","General Administrative Salaries and Expenses",76792.570000000007]
[2017,"January 1, 2016 - December 31, 2016",null,"E.L.K. Energy Inc.","Administrative and General Expenses","5620","Office Supplies and Expenses",78465.460000000006]
[2017,"January 1, 2016 - December 31, 2016",null,"E.L.K. Energy Inc.","Administrative and General Expenses","5625","Administrative Expense Transferred/Credit",0]
[2017,"January 1, 2016 - December 31, 2016",null,"E.L.K. Energy Inc.","Administrative and General Expenses","5630","Outside Services Employed",125353.78]
[2017,"January 1, 2016 - December 31, 2016",null,"E.L.K. Energy Inc.","Administrative and General Expenses","5635","Property Insurance",29282.13]
[2017,"January 1, 2016 - December 31, 2016",null,"E.L.K. Energy Inc.","Administrative and General Expenses","5640","Injuries and Damages",62193.48]
[2017,"January 1, 2016 - December 31, 2016",null,"E.L.K. Energy Inc.","Administrative and General Expenses","5645","OMERS Pensions and Benefits",0]
[2017,"January 1, 2016 - December 31, 2016",null,"E.L.K. Energy Inc.","Administrative and General Expenses","5646","Employee Pensions and OPEB",0]
[2017,"January 1, 2016 - December 31, 2016",null,"E.L.K. Energy Inc.","Administrative and General Expenses","5647","Employee Sick Leave",0]
[2017,"January 1, 2016 - December 31, 2016",null,"E.L.K. Energy Inc.","Administrative and General Expenses","5650","Franchise Requirements",0]
[2017,"January 1, 2016 - December 31, 2016",null,"E.L.K. Energy Inc.","Administrative and General Expenses","5655","Regulatory Expenses",170076.15]
[2017,"January 1, 2016 - December 31, 2016",null,"E.L.K. Energy Inc.","Administrative and General Expenses","5660","General Advertising Expenses",0]
[2017,"January 1, 2016 - December 31, 2016",null,"E.L.K. Energy Inc.","Administrative and General Expenses","5665","Miscellaneous General Expenses",7581.46]
[2017,"January 1, 2016 - December 31, 2016",null,"E.L.K. Energy Inc.","Administrative and General Expenses","5670","Rent",0]
[2017,"January 1, 2016 - December 31, 2016",null,"E.L.K. Energy Inc.","Administrative and General Expenses","5672","Lease Payment Expense",0]
[2017,"January 1, 2016 - December 31, 2016",null,"E.L.K. Energy Inc.","Administrative and General Expenses","5675","Maintenance of General Plant",71515.28]
[2017,"January 1, 2016 - December 31, 2016",null,"E.L.K. Energy Inc.","Administrative and General Expenses","5680","Electrical Safety Authority Fees",5325.79]
[2017,"January 1, 2016 - December 31, 2016",null,"E.L.K. Energy Inc.","Administrative and General Expenses","5681","Special Purpose Charge Expense",0]
[2017,"January 1, 2016 - December 31, 2016",null,"E.L.K. Energy Inc.","Administrative and General Expenses","5685","Independent Market Operator Fees and Penalties",0]
[2017,"January 1, 2016 - December 31, 2016",null,"E.L.K. Energy Inc.","Administrative and General Expenses","5695","OM&A Contra",0]
[2017,"January 1, 2016 - December 31, 2016",null,"E.L.K. Energy Inc.","Administrative and General Expenses Total",null,null,996936.22]
[2017,"January 1, 2016 - December 31, 2016",null,"E.L.K. Energy Inc.","Billing and Collecting","5305","Supervision",105532.27]
[2017,"January 1, 2016 - December 31, 2016",null,"E.L.K. Energy Inc.","Billing and Collecting","5310","Meter Reading Expense",59514.6]
[2017,"January 1, 2016 - December 31, 2016",null,"E.L.K. Energy Inc.","Billing and Collecting","5315","Customer Billing",270365.13]
[2017,"January 1, 2016 - December 31, 2016",null,"E.L.K. Energy Inc.","Billing and Collecting","5320","Collecting",98126.59]
[2017,"January 1, 2016 - December 31, 2016",null,"E.L.K. Energy Inc.","Billing and Collecting","5325","Collecting- Cash Over and Short",701.22]
[2017,"January 1, 2016 - December 31, 2016",null,"E.L.K. Energy Inc.","Billing and Collecting","5330","Collection Charges",20553.89]
[2017,"January 1, 2016 - December 31, 2016",null,"E.L.K. Energy Inc.","Billing and Collecting","5335","Bad Debt Expense",50393.86]
[2017,"January 1, 2016 - December 31, 2016",null,"E.L.K. Energy Inc.","Billing and Collecting","5340","Miscellaneous Customer Accounts Expenses",48.32]
[2017,"January 1, 2016 - December 31, 2016",null,"E.L.K. Energy Inc.","Billing and Collecting Total",null,null,605235.88]
[2017,"January 1, 2016 - December 31, 2016",null,"E.L.K. Energy Inc.","Community Relations","5405","Supervision",0]
[2017,"January 1, 2016 - December 31, 2016",null,"E.L.K. Energy Inc.","Community Relations","5410","Community Relations - Sundry",4839.8599999999997]
[2017,"January 1, 2016 - December 31, 2016",null,"E.L.K. Energy Inc.","Community Relations","5415","Energy Conservation",0]
[2017,"January 1, 2016 - December 31, 2016",null,"E.L.K. Energy Inc.","Community Relations","5420","Community Safety Program",2745]
[2017,"January 1, 2016 - December 31, 2016",null,"E.L.K. Energy Inc.","Community Relations","5425","Miscellaneous Customer Service and Informational Expenses",0]
[2017,"January 1, 2016 - December 31, 2016",null,"E.L.K. Energy Inc.","Community Relations Total",null,null,7584.86]
[2017,"January 1, 2016 - December 31, 2016",null,"E.L.K. Energy Inc.","Distribution Expenses - Operation","5005","Operation Supervision and Engineering",18442.36]
[2017,"January 1, 2016 - December 31, 2016",null,"E.L.K. Energy Inc.","Distribution Expenses - Operation","5010","Load Dispatching",582.84]
[2017,"January 1, 2016 - December 31, 2016",null,"E.L.K. Energy Inc.","Distribution Expenses - Operation","5012","Station Buildings and Fixtures Expense",0]
[2017,"January 1, 2016 - December 31, 2016",null,"E.L.K. Energy Inc.","Distribution Expenses - Operation","5014","Transformer Station Equipment - Operation Labour",0]
[2017,"January 1, 2016 - December 31, 2016",null,"E.L.K. Energy Inc.","Distribution Expenses - Operation","5015","Transformer Station Equipment - Operation Supplies and Expenses",0]
[2017,"January 1, 2016 - December 31, 2016",null,"E.L.K. Energy Inc.","Distribution Expenses - Operation","5016","Distribution Station Equipment - Operation Labour",7845.16]
[2017,"January 1, 2016 - December 31, 2016",null,"E.L.K. Energy Inc.","Distribution Expenses - Operation","5017","Distribution Station Equipment - Operation Supplies and Expenses",0]
[2017,"January 1, 2016 - December 31, 2016",null,"E.L.K. Energy Inc.","Distribution Expenses - Operation","5020","Overhead Distribution Lines and Feeders - Operation Labour",26610.58]
[2017,"January 1, 2016 - December 31, 2016",null,"E.L.K. Energy Inc.","Distribution Expenses - Operation","5025","Overhead Distribution Lines and Feeders - Operation Supplies and Expenses",0]
[2017,"January 1, 2016 - December 31, 2016",null,"E.L.K. Energy Inc.","Distribution Expenses - Operation","5030","Overhead Subtransmission Feeders - Operation",0]
[2017,"January 1, 2016 - December 31, 2016",null,"E.L.K. Energy Inc.","Distribution Expenses - Operation","5035","Overhead Distribution Transformers- Operation",2395.34]
[2017,"January 1, 2016 - December 31, 2016",null,"E.L.K. Energy Inc.","Distribution Expenses - Operation","5040","Underground Distribution Lines and Feeders - Operation Labour",182862.15]
[2017,"January 1, 2016 - December 31, 2016",null,"E.L.K. Energy Inc.","Distribution Expenses - Operation","5045","Underground Distribution Lines and Feeders - Operation Supplies and Expenses",275.60000000000002]
[2017,"January 1, 2016 - December 31, 2016",null,"E.L.K. Energy Inc.","Distribution Expenses - Operation","5050","Underground Subtransmission Feeders - Operation",0]
[2017,"January 1, 2016 - December 31, 2016",null,"E.L.K. Energy Inc.","Distribution Expenses - Operation","5055","Underground Distribution Transformers - Operation",12226.57]
[2017,"January 1, 2016 - December 31, 2016",null,"E.L.K. Energy Inc.","Distribution Expenses - Operation","5060","Street Lighting and Signal System Expense",0]
[2017,"January 1, 2016 - December 31, 2016",null,"E.L.K. Energy Inc.","Distribution Expenses - Operation","5065","Meter Expense",15234.71]
[2017,"January 1, 2016 - December 31, 2016",null,"E.L.K. Energy Inc.","Distribution Expenses - Operation","5070","Customer Premises - Operation Labour",0]
[2017,"January 1, 2016 - December 31, 2016",null,"E.L.K. Energy Inc.","Distribution Expenses - Operation","5075","Customer Premises - Materials and Expenses",0]
[2017,"January 1, 2016 - December 31, 2016",null,"E.L.K. Energy Inc.","Distribution Expenses - Operation","5085","Miscellaneous Distribution Expense",0]
[2017,"January 1, 2016 - December 31, 2016",null,"E.L.K. Energy Inc.","Distribution Expenses - Operation","5090","Underground Distribution Lines and Feeders - Rental Paid",0]
[2017,"January 1, 2016 - December 31, 2016",null,"E.L.K. Energy Inc.","Distribution Expenses - Operation","5095","Overhead Distribution Lines and Feeders - Rental Paid",17813.36]
[2017,"January 1, 2016 - December 31, 2016",null,"E.L.K. Energy Inc.","Distribution Expenses - Operation","5096","Other Rent",0]
[2017,"January 1, 2016 - December 31, 2016",null,"E.L.K. Energy Inc.","Distribution Expenses - Operation Total",null,null,284288.67]
[2017,"January 1, 2016 - December 31, 2016",null,"E.L.K. Energy Inc.","Distribution Expenses – Maintenance","5105","Maintenance Supervision and Engineering",0]
[2017,"January 1, 2016 - December 31, 2016",null,"E.L.K. Energy Inc.","Distribution Expenses – Maintenance","5110","Maintenance of Buildings and Fixtures - Distribution Stations",0]
[2017,"January 1, 2016 - December 31, 2016",null,"E.L.K. Energy Inc.","Distribution Expenses – Maintenance","5112","Maintenance of Transformer Station Equipment",0]
[2017,"January 1, 2016 - December 31, 2016",null,"E.L.K. Energy Inc.","Distribution Expenses – Maintenance","5114","Maintenance of Distribution Station Equipment",0]
[2017,"January 1, 2016 - December 31, 2016",null,"E.L.K. Energy Inc.","Distribution Expenses – Maintenance","5120","Maintenance of Poles, Towers and Fixtures",24259.599999999999]
[2017,"January 1, 2016 - December 31, 2016",null,"E.L.K. Energy Inc.","Distribution Expenses – Maintenance","5125","Maintenance of Overhead Conductors and Devices",153532.12]
[2017,"January 1, 2016 - December 31, 2016",null,"E.L.K. Energy Inc.","Distribution Expenses – Maintenance","5130","Maintenance of Overhead Services",49444.77]
[2017,"January 1, 2016 - December 31, 2016",null,"E.L.K. Energy Inc.","Distribution Expenses – Maintenance","5135","Overhead Distribution Lines and Feeders - Right of Way",74828.460000000006]
[2017,"January 1, 2016 - December 31, 2016",null,"E.L.K. Energy Inc.","Distribution Expenses – Maintenance","5145","Maintenance of Underground Conduit",0]
[2017,"January 1, 2016 - December 31, 2016",null,"E.L.K. Energy Inc.","Distribution Expenses – Maintenance","5150","Maintenance of Underground Conductors and Devices",62020.67]
[2017,"January 1, 2016 - December 31, 2016",null,"E.L.K. Energy Inc.","Distribution Expenses – Maintenance","5155","Maintenance of Underground Services",104205.75999999999]
[2017,"January 1, 2016 - December 31, 2016",null,"E.L.K. Energy Inc.","Distribution Expenses – Maintenance","5160","Maintenance of Line Transformers",13360.91]
[2017,"January 1, 2016 - December 31, 2016",null,"E.L.K. Energy Inc.","Distribution Expenses – Maintenance","5165","Maintenance of Street Lighting and Signal Systems",0]
[2017,"January 1, 2016 - December 31, 2016",null,"E.L.K. Energy Inc.","Distribution Expenses – Maintenance","5170","Sentinel Lights - Labour",2058.0500000000002]
[2017,"January 1, 2016 - December 31, 2016",null,"E.L.K. Energy Inc.","Distribution Expenses – Maintenance","5172","Sentinel Lights - Materials and Expenses",0]
[2017,"January 1, 2016 - December 31, 2016",null,"E.L.K. Energy Inc.","Distribution Expenses – Maintenance","5175","Maintenance of Meters",163335.1]
[2017,"January 1, 2016 - December 31, 2016",null,"E.L.K. Energy Inc.","Distribution Expenses – Maintenance","5178","Customer Installations Expenses- Leased Property",0]
[2017,"January 1, 2016 - December 31, 2016",null,"E.L.K. Energy Inc.","Distribution Expenses – Maintenance","5195","Maintenance of Other Installations on Customer Premises",0]
[2017,"January 1, 2016 - December 31, 2016",null,"E.L.K. Energy Inc.","Distribution Expenses – Maintenance Total",null,null,647045.43999999994]
[2017,"January 1, 2016 - December 31, 2016",null,"E.L.K. Energy Inc.","Other Expenses","5205","Purchase of Transmission and System Services",0]
[2017,"January 1, 2016 - December 31, 2016",null,"E.L.K. Energy Inc.","Other Expenses","5210","Transmission Charges",0]
[2017,"January 1, 2016 - December 31, 2016",null,"E.L.K. Energy Inc.","Other Expenses","5215","Transmission Charges Recovered",0]
[2017,"January 1, 2016 - December 31, 2016",null,"E.L.K. Energy Inc.","Other Expenses Total",null,null,0]
[2017,"January 1, 2016 - December 31, 2016",null,"ENWIN Utilities Ltd.","Administrative and General Expenses","5505","Supervision",0]
[2017,"January 1, 2016 - December 31, 2016",null,"ENWIN Utilities Ltd.","Administrative and General Expenses","5510","Demonstrating and Selling Expense",0]
[2017,"January 1, 2016 - December 31, 2016",null,"ENWIN Utilities Ltd.","Administrative and General Expenses","5515","Advertising Expense",0]
[2017,"January 1, 2016 - December 31, 2016",null,"ENWIN Utilities Ltd.","Administrative and General Expenses","5520","Miscellaneous Sales Expense",0]
[2017,"January 1, 2016 - December 31, 2016",null,"ENWIN Utilities Ltd.","Administrative and General Expenses","5605","Executive Salaries and Expenses",0]
[2017,"January 1, 2016 - December 31, 2016",null,"ENWIN Utilities Ltd.","Administrative and General Expenses","5610","Management Salaries and Expenses",6824284.8600000003]
[2017,"January 1, 2016 - December 31, 2016",null,"ENWIN Utilities Ltd.","Administrative and General Expenses","5615","General Administrative Salaries and Expenses",2727821.6912163501]
[2017,"January 1, 2016 - December 31, 2016",null,"ENWIN Utilities Ltd.","Administrative and General Expenses","5620","Office Supplies and Expenses",125814.37]
[2017,"January 1, 2016 - December 31, 2016",null,"ENWIN Utilities Ltd.","Administrative and General Expenses","5625","Administrative Expense Transferred/Credit",0]
[2017,"January 1, 2016 - December 31, 2016",null,"ENWIN Utilities Ltd.","Administrative and General Expenses","5630","Outside Services Employed",818672.46]
[2017,"January 1, 2016 - December 31, 2016",null,"ENWIN Utilities Ltd.","Administrative and General Expenses","5635","Property Insurance",466505.02]
[2017,"January 1, 2016 - December 31, 2016",null,"ENWIN Utilities Ltd.","Administrative and General Expenses","5640","Injuries and Damages",391133.86]
[2017,"January 1, 2016 - December 31, 2016",null,"ENWIN Utilities Ltd.","Administrative and General Expenses","5645","OMERS Pensions and Benefits",3875733.47]
[2017,"January 1, 2016 - December 31, 2016",null,"ENWIN Utilities Ltd.","Administrative and General Expenses","5646","Employee Pensions and OPEB",2780980.8617125102]
[2017,"January 1, 2016 - December 31, 2016",null,"ENWIN Utilities Ltd.","Administrative and General Expenses","5647","Employee Sick Leave",0]
[2017,"January 1, 2016 - December 31, 2016",null,"ENWIN Utilities Ltd.","Administrative and General Expenses","5650","Franchise Requirements",0]
[2017,"January 1, 2016 - December 31, 2016",null,"ENWIN Utilities Ltd.","Administrative and General Expenses","5655","Regulatory Expenses",412951.97]
[2017,"January 1, 2016 - December 31, 2016",null,"ENWIN Utilities Ltd.","Administrative and General Expenses","5660","General Advertising Expenses",74393.63]
[2017,"January 1, 2016 - December 31, 2016",null,"ENWIN Utilities Ltd.","Administrative and General Expenses","5665","Miscellaneous General Expenses",114208.74]
[2017,"January 1, 2016 - December 31, 2016",null,"ENWIN Utilities Ltd.","Administrative and General Expenses","5670","Rent",0]
[2017,"January 1, 2016 - December 31, 2016",null,"ENWIN Utilities Ltd.","Administrative and General Expenses","5672","Lease Payment Expense",0]
[2017,"January 1, 2016 - December 31, 2016",null,"ENWIN Utilities Ltd.","Administrative and General Expenses","5675","Maintenance of General Plant",1432111.15]
[2017,"January 1, 2016 - December 31, 2016",null,"ENWIN Utilities Ltd.","Administrative and General Expenses","5680","Electrical Safety Authority Fees",43907.67]
[2017,"January 1, 2016 - December 31, 2016",null,"ENWIN Utilities Ltd.","Administrative and General Expenses","5681","Special Purpose Charge Expense",0]
[2017,"January 1, 2016 - December 31, 2016",null,"ENWIN Utilities Ltd.","Administrative and General Expenses","5685","Independent Market Operator Fees and Penalties",0]
[2017,"January 1, 2016 - December 31, 2016",null,"ENWIN Utilities Ltd.","Administrative and General Expenses","5695","OM&A Contra",0]
[2017,"January 1, 2016 - December 31, 2016",null,"ENWIN Utilities Ltd.","Administrative and General Expenses Total",null,null,20088519.752928901]
[2017,"January 1, 2016 - December 31, 2016",null,"ENWIN Utilities Ltd.","Billing and Collecting","5305","Supervision",0]
[2017,"January 1, 2016 - December 31, 2016",null,"ENWIN Utilities Ltd.","Billing and Collecting","5310","Meter Reading Expense",330298.03000000003]
[2017,"January 1, 2016 - December 31, 2016",null,"ENWIN Utilities Ltd.","Billing and Collecting","5315","Customer Billing",378243.28]
[2017,"January 1, 2016 - December 31, 2016",null,"ENWIN Utilities Ltd.","Billing and Collecting","5320","Collecting",49166.51]
[2017,"January 1, 2016 - December 31, 2016",null,"ENWIN Utilities Ltd.","Billing and Collecting","5325","Collecting- Cash Over and Short",0]
[2017,"January 1, 2016 - December 31, 2016",null,"ENWIN Utilities Ltd.","Billing and Collecting","5330","Collection Charges",0]
[2017,"January 1, 2016 - December 31, 2016",null,"ENWIN Utilities Ltd.","Billing and Collecting","5335","Bad Debt Expense",860381.66]
[2017,"January 1, 2016 - December 31, 2016",null,"ENWIN Utilities Ltd.","Billing and Collecting","5340","Miscellaneous Customer Accounts Expenses",0]
[2017,"January 1, 2016 - December 31, 2016",null,"ENWIN Utilities Ltd.","Billing and Collecting Total",null,null,1618089.48]
[2017,"January 1, 2016 - December 31, 2016",null,"ENWIN Utilities Ltd.","Community Relations","5405","Supervision",0]
[2017,"January 1, 2016 - December 31, 2016",null,"ENWIN Utilities Ltd.","Community Relations","5410","Community Relations - Sundry",55286.49]
[2017,"January 1, 2016 - December 31, 2016",null,"ENWIN Utilities Ltd.","Community Relations","5415","Energy Conservation",0]
[2017,"January 1, 2016 - December 31, 2016",null,"ENWIN Utilities Ltd.","Community Relations","5420","Community Safety Program",0]
[2017,"January 1, 2016 - December 31, 2016",null,"ENWIN Utilities Ltd.","Community Relations","5425","Miscellaneous Customer Service and Informational Expenses",0]
[2017,"January 1, 2016 - December 31, 2016",null,"ENWIN Utilities Ltd.","Community Relations Total",null,null,55286.49]
[2017,"January 1, 2016 - December 31, 2016",null,"ENWIN Utilities Ltd.","Distribution Expenses - Operation","5005","Operation Supervision and Engineering",445328.6]
[2017,"January 1, 2016 - December 31, 2016",null,"ENWIN Utilities Ltd.","Distribution Expenses - Operation","5010","Load Dispatching",143141.29999999999]
[2017,"January 1, 2016 - December 31, 2016",null,"ENWIN Utilities Ltd.","Distribution Expenses - Operation","5012","Station Buildings and Fixtures Expense",0]
[2017,"January 1, 2016 - December 31, 2016",null,"ENWIN Utilities Ltd.","Distribution Expenses - Operation","5014","Transformer Station Equipment - Operation Labour",126410.4]
[2017,"January 1, 2016 - December 31, 2016",null,"ENWIN Utilities Ltd.","Distribution Expenses - Operation","5015","Transformer Station Equipment - Operation Supplies and Expenses",1104.51]
[2017,"January 1, 2016 - December 31, 2016",null,"ENWIN Utilities Ltd.","Distribution Expenses - Operation","5016","Distribution Station Equipment - Operation Labour",0]
[2017,"January 1, 2016 - December 31, 2016",null,"ENWIN Utilities Ltd.","Distribution Expenses - Operation","5017","Distribution Station Equipment - Operation Supplies and Expenses",0]
[2017,"January 1, 2016 - December 31, 2016",null,"ENWIN Utilities Ltd.","Distribution Expenses - Operation","5020","Overhead Distribution Lines and Feeders - Operation Labour",0]
[2017,"January 1, 2016 - December 31, 2016",null,"ENWIN Utilities Ltd.","Distribution Expenses - Operation","5025","Overhead Distribution Lines and Feeders - Operation Supplies and Expenses",781340.96]
[2017,"January 1, 2016 - December 31, 2016",null,"ENWIN Utilities Ltd.","Distribution Expenses - Operation","5030","Overhead Subtransmission Feeders - Operation",0]
[2017,"January 1, 2016 - December 31, 2016",null,"ENWIN Utilities Ltd.","Distribution Expenses - Operation","5035","Overhead Distribution Transformers- Operation",34444.22]
[2017,"January 1, 2016 - December 31, 2016",null,"ENWIN Utilities Ltd.","Distribution Expenses - Operation","5040","Underground Distribution Lines and Feeders - Operation Labour",0]
[2017,"January 1, 2016 - December 31, 2016",null,"ENWIN Utilities Ltd.","Distribution Expenses - Operation","5045","Underground Distribution Lines and Feeders - Operation Supplies and Expenses",490863.72]
[2017,"January 1, 2016 - December 31, 2016",null,"ENWIN Utilities Ltd.","Distribution Expenses - Operation","5050","Underground Subtransmission Feeders - Operation",0]
[2017,"January 1, 2016 - December 31, 2016",null,"ENWIN Utilities Ltd.","Distribution Expenses - Operation","5055","Underground Distribution Transformers - Operation",75319.539999999994]
[2017,"January 1, 2016 - December 31, 2016",null,"ENWIN Utilities Ltd.","Distribution Expenses - Operation","5060","Street Lighting and Signal System Expense",0]
[2017,"January 1, 2016 - December 31, 2016",null,"ENWIN Utilities Ltd.","Distribution Expenses - Operation","5065","Meter Expense",331573.09000000003]
[2017,"January 1, 2016 - December 31, 2016",null,"ENWIN Utilities Ltd.","Distribution Expenses - Operation","5070","Customer Premises - Operation Labour",0]
[2017,"January 1, 2016 - December 31, 2016",null,"ENWIN Utilities Ltd.","Distribution Expenses - Operation","5075","Customer Premises - Materials and Expenses",1132.25]
[2017,"January 1, 2016 - December 31, 2016",null,"ENWIN Utilities Ltd.","Distribution Expenses - Operation","5085","Miscellaneous Distribution Expense",14767.45]
[2017,"January 1, 2016 - December 31, 2016",null,"ENWIN Utilities Ltd.","Distribution Expenses - Operation","5090","Underground Distribution Lines and Feeders - Rental Paid",0]
[2017,"January 1, 2016 - December 31, 2016",null,"ENWIN Utilities Ltd.","Distribution Expenses - Operation","5095","Overhead Distribution Lines and Feeders - Rental Paid",0]
[2017,"January 1, 2016 - December 31, 2016",null,"ENWIN Utilities Ltd.","Distribution Expenses - Operation","5096","Other Rent",0]
[2017,"January 1, 2016 - December 31, 2016",null,"ENWIN Utilities Ltd.","Distribution Expenses - Operation Total",null,null,2445426.04]
[2017,"January 1, 2016 - December 31, 2016",null,"ENWIN Utilities Ltd.","Distribution Expenses – Maintenance","5105","Maintenance Supervision and Engineering",0]
[2017,"January 1, 2016 - December 31, 2016",null,"ENWIN Utilities Ltd.","Distribution Expenses – Maintenance","5110","Maintenance of Buildings and Fixtures - Distribution Stations",0]
[2017,"January 1, 2016 - December 31, 2016",null,"ENWIN Utilities Ltd.","Distribution Expenses – Maintenance","5112","Maintenance of Transformer Station Equipment",153603.14000000001]
[2017,"January 1, 2016 - December 31, 2016",null,"ENWIN Utilities Ltd.","Distribution Expenses – Maintenance","5114","Maintenance of Distribution Station Equipment",320031.46000000002]
[2017,"January 1, 2016 - December 31, 2016",null,"ENWIN Utilities Ltd.","Distribution Expenses – Maintenance","5120","Maintenance of Poles, Towers and Fixtures",0]
[2017,"January 1, 2016 - December 31, 2016",null,"ENWIN Utilities Ltd.","Distribution Expenses – Maintenance","5125","Maintenance of Overhead Conductors and Devices",0]
[2017,"January 1, 2016 - December 31, 2016",null,"ENWIN Utilities Ltd.","Distribution Expenses – Maintenance","5130","Maintenance of Overhead Services",361665.78]
[2017,"January 1, 2016 - December 31, 2016",null,"ENWIN Utilities Ltd.","Distribution Expenses – Maintenance","5135","Overhead Distribution Lines and Feeders - Right of Way",889122.93]
[2017,"January 1, 2016 - December 31, 2016",null,"ENWIN Utilities Ltd.","Distribution Expenses – Maintenance","5145","Maintenance of Underground Conduit",0]
[2017,"January 1, 2016 - December 31, 2016",null,"ENWIN Utilities Ltd.","Distribution Expenses – Maintenance","5150","Maintenance of Underground Conductors and Devices",0]
[2017,"January 1, 2016 - December 31, 2016",null,"ENWIN Utilities Ltd.","Distribution Expenses – Maintenance","5155","Maintenance of Underground Services",272476.07]
[2017,"January 1, 2016 - December 31, 2016",null,"ENWIN Utilities Ltd.","Distribution Expenses – Maintenance","5160","Maintenance of Line Transformers",32085.83]
[2017,"January 1, 2016 - December 31, 2016",null,"ENWIN Utilities Ltd.","Distribution Expenses – Maintenance","5165","Maintenance of Street Lighting and Signal Systems",0]
[2017,"January 1, 2016 - December 31, 2016",null,"ENWIN Utilities Ltd.","Distribution Expenses – Maintenance","5170","Sentinel Lights - Labour",0]
[2017,"January 1, 2016 - December 31, 2016",null,"ENWIN Utilities Ltd.","Distribution Expenses – Maintenance","5172","Sentinel Lights - Materials and Expenses",0]
[2017,"January 1, 2016 - December 31, 2016",null,"ENWIN Utilities Ltd.","Distribution Expenses – Maintenance","5175","Maintenance of Meters",0]
[2017,"January 1, 2016 - December 31, 2016",null,"ENWIN Utilities Ltd.","Distribution Expenses – Maintenance","5178","Customer Installations Expenses- Leased Property",0]
[2017,"January 1, 2016 - December 31, 2016",null,"ENWIN Utilities Ltd.","Distribution Expenses – Maintenance","5195","Maintenance of Other Installations on Customer Premises",0]
[2017,"January 1, 2016 - December 31, 2016",null,"ENWIN Utilities Ltd.","Distribution Expenses – Maintenance Total",null,null,2028985.21]
[2017,"January 1, 2016 - December 31, 2016",null,"ENWIN Utilities Ltd.","Other Expenses","5205","Purchase of Transmission and System Services",0]
[2017,"January 1, 2016 - December 31, 2016",null,"ENWIN Utilities Ltd.","Other Expenses","5210","Transmission Charges",0]
[2017,"January 1, 2016 - December 31, 2016",null,"ENWIN Utilities Ltd.","Other Expenses","5215","Transmission Charges Recovered",0]
[2017,"January 1, 2016 - December 31, 2016",null,"ENWIN Utilities Ltd.","Other Expenses Total",null,null,0]
[2017,"January 1, 2016 - December 31, 2016",null,"EPCOR Electricity Distribution Ontario Inc.","Administrative and General Expenses","5505","Supervision",0]
[2017,"January 1, 2016 - December 31, 2016",null,"EPCOR Electricity Distribution Ontario Inc.","Administrative and General Expenses","5510","Demonstrating and Selling Expense",0]
[2017,"January 1, 2016 - December 31, 2016",null,"EPCOR Electricity Distribution Ontario Inc.","Administrative and General Expenses","5515","Advertising Expense",0]
[2017,"January 1, 2016 - December 31, 2016",null,"EPCOR Electricity Distribution Ontario Inc.","Administrative and General Expenses","5520","Miscellaneous Sales Expense",0]
[2017,"January 1, 2016 - December 31, 2016",null,"EPCOR Electricity Distribution Ontario Inc.","Administrative and General Expenses","5605","Executive Salaries and Expenses",307948.99]
[2017,"January 1, 2016 - December 31, 2016",null,"EPCOR Electricity Distribution Ontario Inc.","Administrative and General Expenses","5610","Management Salaries and Expenses",176362.68]
[2017,"January 1, 2016 - December 31, 2016",null,"EPCOR Electricity Distribution Ontario Inc.","Administrative and General Expenses","5615","General Administrative Salaries and Expenses",392529.22]
[2017,"January 1, 2016 - December 31, 2016",null,"EPCOR Electricity Distribution Ontario Inc.","Administrative and General Expenses","5620","Office Supplies and Expenses",0]
[2017,"January 1, 2016 - December 31, 2016",null,"EPCOR Electricity Distribution Ontario Inc.","Administrative and General Expenses","5625","Administrative Expense Transferred/Credit",0]
[2017,"January 1, 2016 - December 31, 2016",null,"EPCOR Electricity Distribution Ontario Inc.","Administrative and General Expenses","5630","Outside Services Employed",122247.73]
[2017,"January 1, 2016 - December 31, 2016",null,"EPCOR Electricity Distribution Ontario Inc.","Administrative and General Expenses","5635","Property Insurance",17561.02]
[2017,"January 1, 2016 - December 31, 2016",null,"EPCOR Electricity Distribution Ontario Inc.","Administrative and General Expenses","5640","Injuries and Damages",55422.52]
[2017,"January 1, 2016 - December 31, 2016",null,"EPCOR Electricity Distribution Ontario Inc.","Administrative and General Expenses","5645","OMERS Pensions and Benefits",0]
[2017,"January 1, 2016 - December 31, 2016",null,"EPCOR Electricity Distribution Ontario Inc.","Administrative and General Expenses","5646","Employee Pensions and OPEB",2961]
[2017,"January 1, 2016 - December 31, 2016",null,"EPCOR Electricity Distribution Ontario Inc.","Administrative and General Expenses","5647","Employee Sick Leave",0]
[2017,"January 1, 2016 - December 31, 2016",null,"EPCOR Electricity Distribution Ontario Inc.","Administrative and General Expenses","5650","Franchise Requirements",0]
[2017,"January 1, 2016 - December 31, 2016",null,"EPCOR Electricity Distribution Ontario Inc.","Administrative and General Expenses","5655","Regulatory Expenses",125797.48]
[2017,"January 1, 2016 - December 31, 2016",null,"EPCOR Electricity Distribution Ontario Inc.","Administrative and General Expenses","5660","General Advertising Expenses",13571.81]
[2017,"January 1, 2016 - December 31, 2016",null,"EPCOR Electricity Distribution Ontario Inc.","Administrative and General Expenses","5665","Miscellaneous General Expenses",89742.12]
[2017,"January 1, 2016 - December 31, 2016",null,"EPCOR Electricity Distribution Ontario Inc.","Administrative and General Expenses","5670","Rent",64992]
[2017,"January 1, 2016 - December 31, 2016",null,"EPCOR Electricity Distribution Ontario Inc.","Administrative and General Expenses","5672","Lease Payment Expense",0]
[2017,"January 1, 2016 - December 31, 2016",null,"EPCOR Electricity Distribution Ontario Inc.","Administrative and General Expenses","5675","Maintenance of General Plant",393.07]
[2017,"January 1, 2016 - December 31, 2016",null,"EPCOR Electricity Distribution Ontario Inc.","Administrative and General Expenses","5680","Electrical Safety Authority Fees",7629.57]
[2017,"January 1, 2016 - December 31, 2016",null,"EPCOR Electricity Distribution Ontario Inc.","Administrative and General Expenses","5681","Special Purpose Charge Expense",0]
[2017,"January 1, 2016 - December 31, 2016",null,"EPCOR Electricity Distribution Ontario Inc.","Administrative and General Expenses","5685","Independent Market Operator Fees and Penalties",0]
[2017,"January 1, 2016 - December 31, 2016",null,"EPCOR Electricity Distribution Ontario Inc.","Administrative and General Expenses","5695","OM&A Contra",0]
[2017,"January 1, 2016 - December 31, 2016",null,"EPCOR Electricity Distribution Ontario Inc.","Administrative and General Expenses Total",null,null,1377159.21]
[2017,"January 1, 2016 - December 31, 2016",null,"EPCOR Electricity Distribution Ontario Inc.","Billing and Collecting","5305","Supervision",92517.28]
[2017,"January 1, 2016 - December 31, 2016",null,"EPCOR Electricity Distribution Ontario Inc.","Billing and Collecting","5310","Meter Reading Expense",201708.19]
[2017,"January 1, 2016 - December 31, 2016",null,"EPCOR Electricity Distribution Ontario Inc.","Billing and Collecting","5315","Customer Billing",425281.14]
[2017,"January 1, 2016 - December 31, 2016",null,"EPCOR Electricity Distribution Ontario Inc.","Billing and Collecting","5320","Collecting",114295.91]
[2017,"January 1, 2016 - December 31, 2016",null,"EPCOR Electricity Distribution Ontario Inc.","Billing and Collecting","5325","Collecting- Cash Over and Short",-11.71]
[2017,"January 1, 2016 - December 31, 2016",null,"EPCOR Electricity Distribution Ontario Inc.","Billing and Collecting","5330","Collection Charges",0]
[2017,"January 1, 2016 - December 31, 2016",null,"EPCOR Electricity Distribution Ontario Inc.","Billing and Collecting","5335","Bad Debt Expense",58382.32]
[2017,"January 1, 2016 - December 31, 2016",null,"EPCOR Electricity Distribution Ontario Inc.","Billing and Collecting","5340","Miscellaneous Customer Accounts Expenses",0]
[2017,"January 1, 2016 - December 31, 2016",null,"EPCOR Electricity Distribution Ontario Inc.","Billing and Collecting Total",null,null,892173.13]
[2017,"January 1, 2016 - December 31, 2016",null,"EPCOR Electricity Distribution Ontario Inc.","Community Relations","5405","Supervision",0]
[2017,"January 1, 2016 - December 31, 2016",null,"EPCOR Electricity Distribution Ontario Inc.","Community Relations","5410","Community Relations - Sundry",0]
[2017,"January 1, 2016 - December 31, 2016",null,"EPCOR Electricity Distribution Ontario Inc.","Community Relations","5415","Energy Conservation",0]
[2017,"January 1, 2016 - December 31, 2016",null,"EPCOR Electricity Distribution Ontario Inc.","Community Relations","5420","Community Safety Program",9700]
[2017,"January 1, 2016 - December 31, 2016",null,"EPCOR Electricity Distribution Ontario Inc.","Community Relations","5425","Miscellaneous Customer Service and Informational Expenses",149239.29999999999]
[2017,"January 1, 2016 - December 31, 2016",null,"EPCOR Electricity Distribution Ontario Inc.","Community Relations Total",null,null,158939.29999999999]
[2017,"January 1, 2016 - December 31, 2016",null,"EPCOR Electricity Distribution Ontario Inc.","Distribution Expenses - Operation","5005","Operation Supervision and Engineering",205247.01]
[2017,"January 1, 2016 - December 31, 2016",null,"EPCOR Electricity Distribution Ontario Inc.","Distribution Expenses - Operation","5010","Load Dispatching",84385.46]
[2017,"January 1, 2016 - December 31, 2016",null,"EPCOR Electricity Distribution Ontario Inc.","Distribution Expenses - Operation","5012","Station Buildings and Fixtures Expense",36801.980000000003]
[2017,"January 1, 2016 - December 31, 2016",null,"EPCOR Electricity Distribution Ontario Inc.","Distribution Expenses - Operation","5014","Transformer Station Equipment - Operation Labour",0]
[2017,"January 1, 2016 - December 31, 2016",null,"EPCOR Electricity Distribution Ontario Inc.","Distribution Expenses - Operation","5015","Transformer Station Equipment - Operation Supplies and Expenses",0]
[2017,"January 1, 2016 - December 31, 2016",null,"EPCOR Electricity Distribution Ontario Inc.","Distribution Expenses - Operation","5016","Distribution Station Equipment - Operation Labour",0]
[2017,"January 1, 2016 - December 31, 2016",null,"EPCOR Electricity Distribution Ontario Inc.","Distribution Expenses - Operation","5017","Distribution Station Equipment - Operation Supplies and Expenses",0]
[2017,"January 1, 2016 - December 31, 2016",null,"EPCOR Electricity Distribution Ontario Inc.","Distribution Expenses - Operation","5020","Overhead Distribution Lines and Feeders - Operation Labour",31186.69]
[2017,"January 1, 2016 - December 31, 2016",null,"EPCOR Electricity Distribution Ontario Inc.","Distribution Expenses - Operation","5025","Overhead Distribution Lines and Feeders - Operation Supplies and Expenses",72594.13]
[2017,"January 1, 2016 - December 31, 2016",null,"EPCOR Electricity Distribution Ontario Inc.","Distribution Expenses - Operation","5030","Overhead Subtransmission Feeders - Operation",0]
[2017,"January 1, 2016 - December 31, 2016",null,"EPCOR Electricity Distribution Ontario Inc.","Distribution Expenses - Operation","5035","Overhead Distribution Transformers- Operation",614.22]
[2017,"January 1, 2016 - December 31, 2016",null,"EPCOR Electricity Distribution Ontario Inc.","Distribution Expenses - Operation","5040","Underground Distribution Lines and Feeders - Operation Labour",3596.3]
[2017,"January 1, 2016 - December 31, 2016",null,"EPCOR Electricity Distribution Ontario Inc.","Distribution Expenses - Operation","5045","Underground Distribution Lines and Feeders - Operation Supplies and Expenses",1381.95]
[2017,"January 1, 2016 - December 31, 2016",null,"EPCOR Electricity Distribution Ontario Inc.","Distribution Expenses - Operation","5050","Underground Subtransmission Feeders - Operation",0]
[2017,"January 1, 2016 - December 31, 2016",null,"EPCOR Electricity Distribution Ontario Inc.","Distribution Expenses - Operation","5055","Underground Distribution Transformers - Operation",0]
[2017,"January 1, 2016 - December 31, 2016",null,"EPCOR Electricity Distribution Ontario Inc.","Distribution Expenses - Operation","5060","Street Lighting and Signal System Expense",0]
[2017,"January 1, 2016 - December 31, 2016",null,"EPCOR Electricity Distribution Ontario Inc.","Distribution Expenses - Operation","5065","Meter Expense",753.95]
[2017,"January 1, 2016 - December 31, 2016",null,"EPCOR Electricity Distribution Ontario Inc.","Distribution Expenses - Operation","5070","Customer Premises - Operation Labour",0]
[2017,"January 1, 2016 - December 31, 2016",null,"EPCOR Electricity Distribution Ontario Inc.","Distribution Expenses - Operation","5075","Customer Premises - Materials and Expenses",0]
[2017,"January 1, 2016 - December 31, 2016",null,"EPCOR Electricity Distribution Ontario Inc.","Distribution Expenses - Operation","5085","Miscellaneous Distribution Expense",145033.88]
[2017,"January 1, 2016 - December 31, 2016",null,"EPCOR Electricity Distribution Ontario Inc.","Distribution Expenses - Operation","5090","Underground Distribution Lines and Feeders - Rental Paid",0]
[2017,"January 1, 2016 - December 31, 2016",null,"EPCOR Electricity Distribution Ontario Inc.","Distribution Expenses - Operation","5095","Overhead Distribution Lines and Feeders - Rental Paid",0]
[2017,"January 1, 2016 - December 31, 2016",null,"EPCOR Electricity Distribution Ontario Inc.","Distribution Expenses - Operation","5096","Other Rent",172800]
[2017,"January 1, 2016 - December 31, 2016",null,"EPCOR Electricity Distribution Ontario Inc.","Distribution Expenses - Operation Total",null,null,754395.57]
[2017,"January 1, 2016 - December 31, 2016",null,"EPCOR Electricity Distribution Ontario Inc.","Distribution Expenses – Maintenance","5105","Maintenance Supervision and Engineering",164017.62]
[2017,"January 1, 2016 - December 31, 2016",null,"EPCOR Electricity Distribution Ontario Inc.","Distribution Expenses – Maintenance","5110","Maintenance of Buildings and Fixtures - Distribution Stations",3589.55]
[2017,"January 1, 2016 - December 31, 2016",null,"EPCOR Electricity Distribution Ontario Inc.","Distribution Expenses – Maintenance","5112","Maintenance of Transformer Station Equipment",0]
[2017,"January 1, 2016 - December 31, 2016",null,"EPCOR Electricity Distribution Ontario Inc.","Distribution Expenses – Maintenance","5114","Maintenance of Distribution Station Equipment",29841.02]
[2017,"January 1, 2016 - December 31, 2016",null,"EPCOR Electricity Distribution Ontario Inc.","Distribution Expenses – Maintenance","5120","Maintenance of Poles, Towers and Fixtures",135211.12]
[2017,"January 1, 2016 - December 31, 2016",null,"EPCOR Electricity Distribution Ontario Inc.","Distribution Expenses – Maintenance","5125","Maintenance of Overhead Conductors and Devices",425737.36]
[2017,"January 1, 2016 - December 31, 2016",null,"EPCOR Electricity Distribution Ontario Inc.","Distribution Expenses – Maintenance","5130","Maintenance of Overhead Services",155657.97]
[2017,"January 1, 2016 - December 31, 2016",null,"EPCOR Electricity Distribution Ontario Inc.","Distribution Expenses – Maintenance","5135","Overhead Distribution Lines and Feeders - Right of Way",97947.69]
[2017,"January 1, 2016 - December 31, 2016",null,"EPCOR Electricity Distribution Ontario Inc.","Distribution Expenses – Maintenance","5145","Maintenance of Underground Conduit",534.22]
[2017,"January 1, 2016 - December 31, 2016",null,"EPCOR Electricity Distribution Ontario Inc.","Distribution Expenses – Maintenance","5150","Maintenance of Underground Conductors and Devices",83053.440000000002]
[2017,"January 1, 2016 - December 31, 2016",null,"EPCOR Electricity Distribution Ontario Inc.","Distribution Expenses – Maintenance","5155","Maintenance of Underground Services",279864.71999999997]
[2017,"January 1, 2016 - December 31, 2016",null,"EPCOR Electricity Distribution Ontario Inc.","Distribution Expenses – Maintenance","5160","Maintenance of Line Transformers",71049.36]
[2017,"January 1, 2016 - December 31, 2016",null,"EPCOR Electricity Distribution Ontario Inc.","Distribution Expenses – Maintenance","5165","Maintenance of Street Lighting and Signal Systems",0]
[2017,"January 1, 2016 - December 31, 2016",null,"EPCOR Electricity Distribution Ontario Inc.","Distribution Expenses – Maintenance","5170","Sentinel Lights - Labour",0]
[2017,"January 1, 2016 - December 31, 2016",null,"EPCOR Electricity Distribution Ontario Inc.","Distribution Expenses – Maintenance","5172","Sentinel Lights - Materials and Expenses",0]
[2017,"January 1, 2016 - December 31, 2016",null,"EPCOR Electricity Distribution Ontario Inc.","Distribution Expenses – Maintenance","5175","Maintenance of Meters",281231.5]
[2017,"January 1, 2016 - December 31, 2016",null,"EPCOR Electricity Distribution Ontario Inc.","Distribution Expenses – Maintenance","5178","Customer Installations Expenses- Leased Property",0]
[2017,"January 1, 2016 - December 31, 2016",null,"EPCOR Electricity Distribution Ontario Inc.","Distribution Expenses – Maintenance","5195","Maintenance of Other Installations on Customer Premises",0]
[2017,"January 1, 2016 - December 31, 2016",null,"EPCOR Electricity Distribution Ontario Inc.","Distribution Expenses – Maintenance Total",null,null,1727735.57]
[2017,"January 1, 2016 - December 31, 2016",null,"EPCOR Electricity Distribution Ontario Inc.","Other Expenses","5205","Purchase of Transmission and System Services",0]
[2017,"January 1, 2016 - December 31, 2016",null,"EPCOR Electricity Distribution Ontario Inc.","Other Expenses","5210","Transmission Charges",0]
[2017,"January 1, 2016 - December 31, 2016",null,"EPCOR Electricity Distribution Ontario Inc.","Other Expenses","5215","Transmission Charges Recovered",0]
[2017,"January 1, 2016 - December 31, 2016",null,"EPCOR Electricity Distribution Ontario Inc.","Other Expenses Total",null,null,0]
[2017,"January 1, 2016 - December 31, 2016",null,"ERTH Power Corporation","Administrative and General Expenses","5505","Supervision",0]
[2017,"January 1, 2016 - December 31, 2016",null,"ERTH Power Corporation","Administrative and General Expenses","5510","Demonstrating and Selling Expense",0]
[2017,"January 1, 2016 - December 31, 2016",null,"ERTH Power Corporation","Administrative and General Expenses","5515","Advertising Expense",5969.01]
[2017,"January 1, 2016 - December 31, 2016",null,"ERTH Power Corporation","Administrative and General Expenses","5520","Miscellaneous Sales Expense",0]
[2017,"January 1, 2016 - December 31, 2016",null,"ERTH Power Corporation","Administrative and General Expenses","5605","Executive Salaries and Expenses",322273.8]
[2017,"January 1, 2016 - December 31, 2016",null,"ERTH Power Corporation","Administrative and General Expenses","5610","Management Salaries and Expenses",1265951.1299999999]
[2017,"January 1, 2016 - December 31, 2016",null,"ERTH Power Corporation","Administrative and General Expenses","5615","General Administrative Salaries and Expenses",141562.65]
[2017,"January 1, 2016 - December 31, 2016",null,"ERTH Power Corporation","Administrative and General Expenses","5620","Office Supplies and Expenses",139937.45000000001]
[2017,"January 1, 2016 - December 31, 2016",null,"ERTH Power Corporation","Administrative and General Expenses","5625","Administrative Expense Transferred/Credit",0]
[2017,"January 1, 2016 - December 31, 2016",null,"ERTH Power Corporation","Administrative and General Expenses","5630","Outside Services Employed",315346.3]
[2017,"January 1, 2016 - December 31, 2016",null,"ERTH Power Corporation","Administrative and General Expenses","5635","Property Insurance",28197.49]
[2017,"January 1, 2016 - December 31, 2016",null,"ERTH Power Corporation","Administrative and General Expenses","5640","Injuries and Damages",0]
[2017,"January 1, 2016 - December 31, 2016",null,"ERTH Power Corporation","Administrative and General Expenses","5645","OMERS Pensions and Benefits",1128552.48]
[2017,"January 1, 2016 - December 31, 2016",null,"ERTH Power Corporation","Administrative and General Expenses","5646","Employee Pensions and OPEB",0]
[2017,"January 1, 2016 - December 31, 2016",null,"ERTH Power Corporation","Administrative and General Expenses","5647","Employee Sick Leave",0]
[2017,"January 1, 2016 - December 31, 2016",null,"ERTH Power Corporation","Administrative and General Expenses","5650","Franchise Requirements",0]
[2017,"January 1, 2016 - December 31, 2016",null,"ERTH Power Corporation","Administrative and General Expenses","5655","Regulatory Expenses",71081.259999999995]
[2017,"January 1, 2016 - December 31, 2016",null,"ERTH Power Corporation","Administrative and General Expenses","5660","General Advertising Expenses",0]
[2017,"January 1, 2016 - December 31, 2016",null,"ERTH Power Corporation","Administrative and General Expenses","5665","Miscellaneous General Expenses",692968.33]
[2017,"January 1, 2016 - December 31, 2016",null,"ERTH Power Corporation","Administrative and General Expenses","5670","Rent",238525.16]
[2017,"January 1, 2016 - December 31, 2016",null,"ERTH Power Corporation","Administrative and General Expenses","5672","Lease Payment Expense",0]
[2017,"January 1, 2016 - December 31, 2016",null,"ERTH Power Corporation","Administrative and General Expenses","5675","Maintenance of General Plant",298563.39]
[2017,"January 1, 2016 - December 31, 2016",null,"ERTH Power Corporation","Administrative and General Expenses","5680","Electrical Safety Authority Fees",0]
[2017,"January 1, 2016 - December 31, 2016",null,"ERTH Power Corporation","Administrative and General Expenses","5681","Special Purpose Charge Expense",0]
[2017,"January 1, 2016 - December 31, 2016",null,"ERTH Power Corporation","Administrative and General Expenses","5685","Independent Market Operator Fees and Penalties",0]
[2017,"January 1, 2016 - December 31, 2016",null,"ERTH Power Corporation","Administrative and General Expenses","5695","OM&A Contra",0]
[2017,"January 1, 2016 - December 31, 2016",null,"ERTH Power Corporation","Administrative and General Expenses Total",null,null,4648928.45]
[2017,"January 1, 2016 - December 31, 2016",null,"ERTH Power Corporation","Billing and Collecting","5305","Supervision",0]
[2017,"January 1, 2016 - December 31, 2016",null,"ERTH Power Corporation","Billing and Collecting","5310","Meter Reading Expense",0]
[2017,"January 1, 2016 - December 31, 2016",null,"ERTH Power Corporation","Billing and Collecting","5315","Customer Billing",799615.21]
[2017,"January 1, 2016 - December 31, 2016",null,"ERTH Power Corporation","Billing and Collecting","5320","Collecting",155827.64000000001]
[2017,"January 1, 2016 - December 31, 2016",null,"ERTH Power Corporation","Billing and Collecting","5325","Collecting- Cash Over and Short",0]
[2017,"January 1, 2016 - December 31, 2016",null,"ERTH Power Corporation","Billing and Collecting","5330","Collection Charges",0]
[2017,"January 1, 2016 - December 31, 2016",null,"ERTH Power Corporation","Billing and Collecting","5335","Bad Debt Expense",26204.23]
[2017,"January 1, 2016 - December 31, 2016",null,"ERTH Power Corporation","Billing and Collecting","5340","Miscellaneous Customer Accounts Expenses",0]
[2017,"January 1, 2016 - December 31, 2016",null,"ERTH Power Corporation","Billing and Collecting Total",null,null,981647.08]
[2017,"January 1, 2016 - December 31, 2016",null,"ERTH Power Corporation","Community Relations","5405","Supervision",0]
[2017,"January 1, 2016 - December 31, 2016",null,"ERTH Power Corporation","Community Relations","5410","Community Relations - Sundry",24584.33]
[2017,"January 1, 2016 - December 31, 2016",null,"ERTH Power Corporation","Community Relations","5415","Energy Conservation",0]
[2017,"January 1, 2016 - December 31, 2016",null,"ERTH Power Corporation","Community Relations","5420","Community Safety Program",0]
[2017,"January 1, 2016 - December 31, 2016",null,"ERTH Power Corporation","Community Relations","5425","Miscellaneous Customer Service and Informational Expenses",14840.32]
[2017,"January 1, 2016 - December 31, 2016",null,"ERTH Power Corporation","Community Relations Total",null,null,39424.65]
[2017,"January 1, 2016 - December 31, 2016",null,"ERTH Power Corporation","Distribution Expenses - Operation","5005","Operation Supervision and Engineering",0]
[2017,"January 1, 2016 - December 31, 2016",null,"ERTH Power Corporation","Distribution Expenses - Operation","5010","Load Dispatching",0]
[2017,"January 1, 2016 - December 31, 2016",null,"ERTH Power Corporation","Distribution Expenses - Operation","5012","Station Buildings and Fixtures Expense",0]
[2017,"January 1, 2016 - December 31, 2016",null,"ERTH Power Corporation","Distribution Expenses - Operation","5014","Transformer Station Equipment - Operation Labour",0]
[2017,"January 1, 2016 - December 31, 2016",null,"ERTH Power Corporation","Distribution Expenses - Operation","5015","Transformer Station Equipment - Operation Supplies and Expenses",0]
[2017,"January 1, 2016 - December 31, 2016",null,"ERTH Power Corporation","Distribution Expenses - Operation","5016","Distribution Station Equipment - Operation Labour",0]
[2017,"January 1, 2016 - December 31, 2016",null,"ERTH Power Corporation","Distribution Expenses - Operation","5017","Distribution Station Equipment - Operation Supplies and Expenses",0]
[2017,"January 1, 2016 - December 31, 2016",null,"ERTH Power Corporation","Distribution Expenses - Operation","5020","Overhead Distribution Lines and Feeders - Operation Labour",0]
[2017,"January 1, 2016 - December 31, 2016",null,"ERTH Power Corporation","Distribution Expenses - Operation","5025","Overhead Distribution Lines and Feeders - Operation Supplies and Expenses",0]
[2017,"January 1, 2016 - December 31, 2016",null,"ERTH Power Corporation","Distribution Expenses - Operation","5030","Overhead Subtransmission Feeders - Operation",0]
[2017,"January 1, 2016 - December 31, 2016",null,"ERTH Power Corporation","Distribution Expenses - Operation","5035","Overhead Distribution Transformers- Operation",0]
[2017,"January 1, 2016 - December 31, 2016",null,"ERTH Power Corporation","Distribution Expenses - Operation","5040","Underground Distribution Lines and Feeders - Operation Labour",0]
[2017,"January 1, 2016 - December 31, 2016",null,"ERTH Power Corporation","Distribution Expenses - Operation","5045","Underground Distribution Lines and Feeders - Operation Supplies and Expenses",0]
[2017,"January 1, 2016 - December 31, 2016",null,"ERTH Power Corporation","Distribution Expenses - Operation","5050","Underground Subtransmission Feeders - Operation",0]
[2017,"January 1, 2016 - December 31, 2016",null,"ERTH Power Corporation","Distribution Expenses - Operation","5055","Underground Distribution Transformers - Operation",0]
[2017,"January 1, 2016 - December 31, 2016",null,"ERTH Power Corporation","Distribution Expenses - Operation","5060","Street Lighting and Signal System Expense",0]
[2017,"January 1, 2016 - December 31, 2016",null,"ERTH Power Corporation","Distribution Expenses - Operation","5065","Meter Expense",0]
[2017,"January 1, 2016 - December 31, 2016",null,"ERTH Power Corporation","Distribution Expenses - Operation","5070","Customer Premises - Operation Labour",0]
[2017,"January 1, 2016 - December 31, 2016",null,"ERTH Power Corporation","Distribution Expenses - Operation","5075","Customer Premises - Materials and Expenses",0]
[2017,"January 1, 2016 - December 31, 2016",null,"ERTH Power Corporation","Distribution Expenses - Operation","5085","Miscellaneous Distribution Expense",90763.77]
[2017,"January 1, 2016 - December 31, 2016",null,"ERTH Power Corporation","Distribution Expenses - Operation","5090","Underground Distribution Lines and Feeders - Rental Paid",0]
[2017,"January 1, 2016 - December 31, 2016",null,"ERTH Power Corporation","Distribution Expenses - Operation","5095","Overhead Distribution Lines and Feeders - Rental Paid",0]
[2017,"January 1, 2016 - December 31, 2016",null,"ERTH Power Corporation","Distribution Expenses - Operation","5096","Other Rent",810]
[2017,"January 1, 2016 - December 31, 2016",null,"ERTH Power Corporation","Distribution Expenses - Operation Total",null,null,91573.77]
[2017,"January 1, 2016 - December 31, 2016",null,"ERTH Power Corporation","Distribution Expenses – Maintenance","5105","Maintenance Supervision and Engineering",0]
[2017,"January 1, 2016 - December 31, 2016",null,"ERTH Power Corporation","Distribution Expenses – Maintenance","5110","Maintenance of Buildings and Fixtures - Distribution Stations",22883.599999999999]
[2017,"January 1, 2016 - December 31, 2016",null,"ERTH Power Corporation","Distribution Expenses – Maintenance","5112","Maintenance of Transformer Station Equipment",0]
[2017,"January 1, 2016 - December 31, 2016",null,"ERTH Power Corporation","Distribution Expenses – Maintenance","5114","Maintenance of Distribution Station Equipment",10735.22]
[2017,"January 1, 2016 - December 31, 2016",null,"ERTH Power Corporation","Distribution Expenses – Maintenance","5120","Maintenance of Poles, Towers and Fixtures",16572.689999999999]
[2017,"January 1, 2016 - December 31, 2016",null,"ERTH Power Corporation","Distribution Expenses – Maintenance","5125","Maintenance of Overhead Conductors and Devices",0]
[2017,"January 1, 2016 - December 31, 2016",null,"ERTH Power Corporation","Distribution Expenses – Maintenance","5130","Maintenance of Overhead Services",33201.839999999997]
[2017,"January 1, 2016 - December 31, 2016",null,"ERTH Power Corporation","Distribution Expenses – Maintenance","5135","Overhead Distribution Lines and Feeders - Right of Way",71793.78]
[2017,"January 1, 2016 - December 31, 2016",null,"ERTH Power Corporation","Distribution Expenses – Maintenance","5145","Maintenance of Underground Conduit",0]
[2017,"January 1, 2016 - December 31, 2016",null,"ERTH Power Corporation","Distribution Expenses – Maintenance","5150","Maintenance of Underground Conductors and Devices",7066.34]
[2017,"January 1, 2016 - December 31, 2016",null,"ERTH Power Corporation","Distribution Expenses – Maintenance","5155","Maintenance of Underground Services",64649.08]
[2017,"January 1, 2016 - December 31, 2016",null,"ERTH Power Corporation","Distribution Expenses – Maintenance","5160","Maintenance of Line Transformers",12367.97]
[2017,"January 1, 2016 - December 31, 2016",null,"ERTH Power Corporation","Distribution Expenses – Maintenance","5165","Maintenance of Street Lighting and Signal Systems",0]
[2017,"January 1, 2016 - December 31, 2016",null,"ERTH Power Corporation","Distribution Expenses – Maintenance","5170","Sentinel Lights - Labour",0]
[2017,"January 1, 2016 - December 31, 2016",null,"ERTH Power Corporation","Distribution Expenses – Maintenance","5172","Sentinel Lights - Materials and Expenses",0]
[2017,"January 1, 2016 - December 31, 2016",null,"ERTH Power Corporation","Distribution Expenses – Maintenance","5175","Maintenance of Meters",47531.29]
[2017,"January 1, 2016 - December 31, 2016",null,"ERTH Power Corporation","Distribution Expenses – Maintenance","5178","Customer Installations Expenses- Leased Property",0]
[2017,"January 1, 2016 - December 31, 2016",null,"ERTH Power Corporation","Distribution Expenses – Maintenance","5195","Maintenance of Other Installations on Customer Premises",0]
[2017,"January 1, 2016 - December 31, 2016",null,"ERTH Power Corporation","Distribution Expenses – Maintenance Total",null,null,286801.81]
[2017,"January 1, 2016 - December 31, 2016",null,"ERTH Power Corporation","Other Expenses","5205","Purchase of Transmission and System Services",0]
[2017,"January 1, 2016 - December 31, 2016",null,"ERTH Power Corporation","Other Expenses","5210","Transmission Charges",0]
[2017,"January 1, 2016 - December 31, 2016",null,"ERTH Power Corporation","Other Expenses","5215","Transmission Charges Recovered",0]
[2017,"January 1, 2016 - December 31, 2016",null,"ERTH Power Corporation","Other Expenses Total",null,null,0]
[2017,"January 1, 2016 - December 31, 2016",null,"Energy Plus Inc.","Administrative and General Expenses","5505","Supervision",0]
[2017,"January 1, 2016 - December 31, 2016",null,"Energy Plus Inc.","Administrative and General Expenses","5510","Demonstrating and Selling Expense",0]
[2017,"January 1, 2016 - December 31, 2016",null,"Energy Plus Inc.","Administrative and General Expenses","5515","Advertising Expense",0]
[2017,"January 1, 2016 - December 31, 2016",null,"Energy Plus Inc.","Administrative and General Expenses","5520","Miscellaneous Sales Expense",0]
[2017,"January 1, 2016 - December 31, 2016",null,"Energy Plus Inc.","Administrative and General Expenses","5605","Executive Salaries and Expenses",1794287.99]
[2017,"January 1, 2016 - December 31, 2016",null,"Energy Plus Inc.","Administrative and General Expenses","5610","Management Salaries and Expenses",2463134.73]
[2017,"January 1, 2016 - December 31, 2016",null,"Energy Plus Inc.","Administrative and General Expenses","5615","General Administrative Salaries and Expenses",1336153.6100000001]
[2017,"January 1, 2016 - December 31, 2016",null,"Energy Plus Inc.","Administrative and General Expenses","5620","Office Supplies and Expenses",512121.13]
[2017,"January 1, 2016 - December 31, 2016",null,"Energy Plus Inc.","Administrative and General Expenses","5625","Administrative Expense Transferred/Credit",-248988.9]
[2017,"January 1, 2016 - December 31, 2016",null,"Energy Plus Inc.","Administrative and General Expenses","5630","Outside Services Employed",498970.94]
[2017,"January 1, 2016 - December 31, 2016",null,"Energy Plus Inc.","Administrative and General Expenses","5635","Property Insurance",33076.589999999997]
[2017,"January 1, 2016 - December 31, 2016",null,"Energy Plus Inc.","Administrative and General Expenses","5640","Injuries and Damages",148566.64000000001]
[2017,"January 1, 2016 - December 31, 2016",null,"Energy Plus Inc.","Administrative and General Expenses","5645","OMERS Pensions and Benefits",288928.36]
[2017,"January 1, 2016 - December 31, 2016",null,"Energy Plus Inc.","Administrative and General Expenses","5646","Employee Pensions and OPEB",0]
[2017,"January 1, 2016 - December 31, 2016",null,"Energy Plus Inc.","Administrative and General Expenses","5647","Employee Sick Leave",0]
[2017,"January 1, 2016 - December 31, 2016",null,"Energy Plus Inc.","Administrative and General Expenses","5650","Franchise Requirements",0]
[2017,"January 1, 2016 - December 31, 2016",null,"Energy Plus Inc.","Administrative and General Expenses","5655","Regulatory Expenses",242454.12]
[2017,"January 1, 2016 - December 31, 2016",null,"Energy Plus Inc.","Administrative and General Expenses","5660","General Advertising Expenses",34171.11]
[2017,"January 1, 2016 - December 31, 2016",null,"Energy Plus Inc.","Administrative and General Expenses","5665","Miscellaneous General Expenses",972.43]
[2017,"January 1, 2016 - December 31, 2016",null,"Energy Plus Inc.","Administrative and General Expenses","5670","Rent",0]
[2017,"January 1, 2016 - December 31, 2016",null,"Energy Plus Inc.","Administrative and General Expenses","5672","Lease Payment Expense",34613.64]
[2017,"January 1, 2016 - December 31, 2016",null,"Energy Plus Inc.","Administrative and General Expenses","5675","Maintenance of General Plant",1074556.43]
[2017,"January 1, 2016 - December 31, 2016",null,"Energy Plus Inc.","Administrative and General Expenses","5680","Electrical Safety Authority Fees",0]
[2017,"January 1, 2016 - December 31, 2016",null,"Energy Plus Inc.","Administrative and General Expenses","5681","Special Purpose Charge Expense",0]
[2017,"January 1, 2016 - December 31, 2016",null,"Energy Plus Inc.","Administrative and General Expenses","5685","Independent Market Operator Fees and Penalties",0]
[2017,"January 1, 2016 - December 31, 2016",null,"Energy Plus Inc.","Administrative and General Expenses","5695","OM&A Contra",-307679.28999999998]
[2017,"January 1, 2016 - December 31, 2016",null,"Energy Plus Inc.","Administrative and General Expenses Total",null,null,7905339.5300000003]
[2017,"January 1, 2016 - December 31, 2016",null,"Energy Plus Inc.","Billing and Collecting","5305","Supervision",915849.25]
[2017,"January 1, 2016 - December 31, 2016",null,"Energy Plus Inc.","Billing and Collecting","5310","Meter Reading Expense",374157.31]
[2017,"January 1, 2016 - December 31, 2016",null,"Energy Plus Inc.","Billing and Collecting","5315","Customer Billing",1401714.96]
[2017,"January 1, 2016 - December 31, 2016",null,"Energy Plus Inc.","Billing and Collecting","5320","Collecting",305336.12]
[2017,"January 1, 2016 - December 31, 2016",null,"Energy Plus Inc.","Billing and Collecting","5325","Collecting- Cash Over and Short",112.92]
[2017,"January 1, 2016 - December 31, 2016",null,"Energy Plus Inc.","Billing and Collecting","5330","Collection Charges",23538.46]
[2017,"January 1, 2016 - December 31, 2016",null,"Energy Plus Inc.","Billing and Collecting","5335","Bad Debt Expense",527589.09]
[2017,"January 1, 2016 - December 31, 2016",null,"Energy Plus Inc.","Billing and Collecting","5340","Miscellaneous Customer Accounts Expenses",0]
[2017,"January 1, 2016 - December 31, 2016",null,"Energy Plus Inc.","Billing and Collecting Total",null,null,3548298.11]
[2017,"January 1, 2016 - December 31, 2016",null,"Energy Plus Inc.","Community Relations","5405","Supervision",1597.28]
[2017,"January 1, 2016 - December 31, 2016",null,"Energy Plus Inc.","Community Relations","5410","Community Relations - Sundry",17823.29]
[2017,"January 1, 2016 - December 31, 2016",null,"Energy Plus Inc.","Community Relations","5415","Energy Conservation",0]
[2017,"January 1, 2016 - December 31, 2016",null,"Energy Plus Inc.","Community Relations","5420","Community Safety Program",78417.97]
[2017,"January 1, 2016 - December 31, 2016",null,"Energy Plus Inc.","Community Relations","5425","Miscellaneous Customer Service and Informational Expenses",0]
[2017,"January 1, 2016 - December 31, 2016",null,"Energy Plus Inc.","Community Relations Total",null,null,97838.54]
[2017,"January 1, 2016 - December 31, 2016",null,"Energy Plus Inc.","Distribution Expenses - Operation","5005","Operation Supervision and Engineering",367153.78]
[2017,"January 1, 2016 - December 31, 2016",null,"Energy Plus Inc.","Distribution Expenses - Operation","5010","Load Dispatching",585602.68000000005]
[2017,"January 1, 2016 - December 31, 2016",null,"Energy Plus Inc.","Distribution Expenses - Operation","5012","Station Buildings and Fixtures Expense",0]
[2017,"January 1, 2016 - December 31, 2016",null,"Energy Plus Inc.","Distribution Expenses - Operation","5014","Transformer Station Equipment - Operation Labour",17501.78]
[2017,"January 1, 2016 - December 31, 2016",null,"Energy Plus Inc.","Distribution Expenses - Operation","5015","Transformer Station Equipment - Operation Supplies and Expenses",208915.59]
[2017,"January 1, 2016 - December 31, 2016",null,"Energy Plus Inc.","Distribution Expenses - Operation","5016","Distribution Station Equipment - Operation Labour",0]
[2017,"January 1, 2016 - December 31, 2016",null,"Energy Plus Inc.","Distribution Expenses - Operation","5017","Distribution Station Equipment - Operation Supplies and Expenses",1200]
[2017,"January 1, 2016 - December 31, 2016",null,"Energy Plus Inc.","Distribution Expenses - Operation","5020","Overhead Distribution Lines and Feeders - Operation Labour",182546.67]
[2017,"January 1, 2016 - December 31, 2016",null,"Energy Plus Inc.","Distribution Expenses - Operation","5025","Overhead Distribution Lines and Feeders - Operation Supplies and Expenses",214661.63]
[2017,"January 1, 2016 - December 31, 2016",null,"Energy Plus Inc.","Distribution Expenses - Operation","5030","Overhead Subtransmission Feeders - Operation",0]
[2017,"January 1, 2016 - December 31, 2016",null,"Energy Plus Inc.","Distribution Expenses - Operation","5035","Overhead Distribution Transformers- Operation",27866.03]
[2017,"January 1, 2016 - December 31, 2016",null,"Energy Plus Inc.","Distribution Expenses - Operation","5040","Underground Distribution Lines and Feeders - Operation Labour",50231.35]
[2017,"January 1, 2016 - December 31, 2016",null,"Energy Plus Inc.","Distribution Expenses - Operation","5045","Underground Distribution Lines and Feeders - Operation Supplies and Expenses",97261.28]
[2017,"January 1, 2016 - December 31, 2016",null,"Energy Plus Inc.","Distribution Expenses - Operation","5050","Underground Subtransmission Feeders - Operation",0]
[2017,"January 1, 2016 - December 31, 2016",null,"Energy Plus Inc.","Distribution Expenses - Operation","5055","Underground Distribution Transformers - Operation",74106.45]
[2017,"January 1, 2016 - December 31, 2016",null,"Energy Plus Inc.","Distribution Expenses - Operation","5060","Street Lighting and Signal System Expense",0]
[2017,"January 1, 2016 - December 31, 2016",null,"Energy Plus Inc.","Distribution Expenses - Operation","5065","Meter Expense",1040768.36]
[2017,"January 1, 2016 - December 31, 2016",null,"Energy Plus Inc.","Distribution Expenses - Operation","5070","Customer Premises - Operation Labour",2532.0700000000002]
[2017,"January 1, 2016 - December 31, 2016",null,"Energy Plus Inc.","Distribution Expenses - Operation","5075","Customer Premises - Materials and Expenses",3948.91]
[2017,"January 1, 2016 - December 31, 2016",null,"Energy Plus Inc.","Distribution Expenses - Operation","5085","Miscellaneous Distribution Expense",0]
[2017,"January 1, 2016 - December 31, 2016",null,"Energy Plus Inc.","Distribution Expenses - Operation","5090","Underground Distribution Lines and Feeders - Rental Paid",0]
[2017,"January 1, 2016 - December 31, 2016",null,"Energy Plus Inc.","Distribution Expenses - Operation","5095","Overhead Distribution Lines and Feeders - Rental Paid",60128.46]
[2017,"January 1, 2016 - December 31, 2016",null,"Energy Plus Inc.","Distribution Expenses - Operation","5096","Other Rent",0]
[2017,"January 1, 2016 - December 31, 2016",null,"Energy Plus Inc.","Distribution Expenses - Operation Total",null,null,2934425.04]
[2017,"January 1, 2016 - December 31, 2016",null,"Energy Plus Inc.","Distribution Expenses – Maintenance","5105","Maintenance Supervision and Engineering",0]
[2017,"January 1, 2016 - December 31, 2016",null,"Energy Plus Inc.","Distribution Expenses – Maintenance","5110","Maintenance of Buildings and Fixtures - Distribution Stations",0]
[2017,"January 1, 2016 - December 31, 2016",null,"Energy Plus Inc.","Distribution Expenses – Maintenance","5112","Maintenance of Transformer Station Equipment",17968.73]
[2017,"January 1, 2016 - December 31, 2016",null,"Energy Plus Inc.","Distribution Expenses – Maintenance","5114","Maintenance of Distribution Station Equipment",165.37]
[2017,"January 1, 2016 - December 31, 2016",null,"Energy Plus Inc.","Distribution Expenses – Maintenance","5120","Maintenance of Poles, Towers and Fixtures",73355.44]
[2017,"January 1, 2016 - December 31, 2016",null,"Energy Plus Inc.","Distribution Expenses – Maintenance","5125","Maintenance of Overhead Conductors and Devices",801180.08]
[2017,"January 1, 2016 - December 31, 2016",null,"Energy Plus Inc.","Distribution Expenses – Maintenance","5130","Maintenance of Overhead Services",371102.38]
[2017,"January 1, 2016 - December 31, 2016",null,"Energy Plus Inc.","Distribution Expenses – Maintenance","5135","Overhead Distribution Lines and Feeders - Right of Way",509893.59]
[2017,"January 1, 2016 - December 31, 2016",null,"Energy Plus Inc.","Distribution Expenses – Maintenance","5145","Maintenance of Underground Conduit",40997.800000000003]
[2017,"January 1, 2016 - December 31, 2016",null,"Energy Plus Inc.","Distribution Expenses – Maintenance","5150","Maintenance of Underground Conductors and Devices",560996.25]
[2017,"January 1, 2016 - December 31, 2016",null,"Energy Plus Inc.","Distribution Expenses – Maintenance","5155","Maintenance of Underground Services",109421.08]
[2017,"January 1, 2016 - December 31, 2016",null,"Energy Plus Inc.","Distribution Expenses – Maintenance","5160","Maintenance of Line Transformers",186092.61]
[2017,"January 1, 2016 - December 31, 2016",null,"Energy Plus Inc.","Distribution Expenses – Maintenance","5165","Maintenance of Street Lighting and Signal Systems",0]
[2017,"January 1, 2016 - December 31, 2016",null,"Energy Plus Inc.","Distribution Expenses – Maintenance","5170","Sentinel Lights - Labour",0]
[2017,"January 1, 2016 - December 31, 2016",null,"Energy Plus Inc.","Distribution Expenses – Maintenance","5172","Sentinel Lights - Materials and Expenses",0]
[2017,"January 1, 2016 - December 31, 2016",null,"Energy Plus Inc.","Distribution Expenses – Maintenance","5175","Maintenance of Meters",0]
[2017,"January 1, 2016 - December 31, 2016",null,"Energy Plus Inc.","Distribution Expenses – Maintenance","5178","Customer Installations Expenses- Leased Property",0]
[2017,"January 1, 2016 - December 31, 2016",null,"Energy Plus Inc.","Distribution Expenses – Maintenance","5195","Maintenance of Other Installations on Customer Premises",0]
[2017,"January 1, 2016 - December 31, 2016",null,"Energy Plus Inc.","Distribution Expenses – Maintenance Total",null,null,2671173.33]
[2017,"January 1, 2016 - December 31, 2016",null,"Energy Plus Inc.","Other Expenses","5205","Purchase of Transmission and System Services",0]
[2017,"January 1, 2016 - December 31, 2016",null,"Energy Plus Inc.","Other Expenses","5210","Transmission Charges",0]
[2017,"January 1, 2016 - December 31, 2016",null,"Energy Plus Inc.","Other Expenses","5215","Transmission Charges Recovered",0]
[2017,"January 1, 2016 - December 31, 2016",null,"Energy Plus Inc.","Other Expenses Total",null,null,0]
[2017,"January 1, 2016 - December 31, 2016",null,"Enersource Hydro Mississauga Inc.","Administrative and General Expenses","5505","Supervision",0]
[2017,"January 1, 2016 - December 31, 2016",null,"Enersource Hydro Mississauga Inc.","Administrative and General Expenses","5510","Demonstrating and Selling Expense",0]
[2017,"January 1, 2016 - December 31, 2016",null,"Enersource Hydro Mississauga Inc.","Administrative and General Expenses","5515","Advertising Expense",0]
[2017,"January 1, 2016 - December 31, 2016",null,"Enersource Hydro Mississauga Inc.","Administrative and General Expenses","5520","Miscellaneous Sales Expense",0]
[2017,"January 1, 2016 - December 31, 2016",null,"Enersource Hydro Mississauga Inc.","Administrative and General Expenses","5605","Executive Salaries and Expenses",0]
[2017,"January 1, 2016 - December 31, 2016",null,"Enersource Hydro Mississauga Inc.","Administrative and General Expenses","5610","Management Salaries and Expenses",3064485.31]
[2017,"January 1, 2016 - December 31, 2016",null,"Enersource Hydro Mississauga Inc.","Administrative and General Expenses","5615","General Administrative Salaries and Expenses",2156006.04]
[2017,"January 1, 2016 - December 31, 2016",null,"Enersource Hydro Mississauga Inc.","Administrative and General Expenses","5620","Office Supplies and Expenses",285200.7]
[2017,"January 1, 2016 - December 31, 2016",null,"Enersource Hydro Mississauga Inc.","Administrative and General Expenses","5625","Administrative Expense Transferred/Credit",-7201742.5999999996]
[2017,"January 1, 2016 - December 31, 2016",null,"Enersource Hydro Mississauga Inc.","Administrative and General Expenses","5630","Outside Services Employed",0]
[2017,"January 1, 2016 - December 31, 2016",null,"Enersource Hydro Mississauga Inc.","Administrative and General Expenses","5635","Property Insurance",0]
[2017,"January 1, 2016 - December 31, 2016",null,"Enersource Hydro Mississauga Inc.","Administrative and General Expenses","5640","Injuries and Damages",0]
[2017,"January 1, 2016 - December 31, 2016",null,"Enersource Hydro Mississauga Inc.","Administrative and General Expenses","5645","OMERS Pensions and Benefits",62510.19]
[2017,"January 1, 2016 - December 31, 2016",null,"Enersource Hydro Mississauga Inc.","Administrative and General Expenses","5646","Employee Pensions and OPEB",0]
[2017,"January 1, 2016 - December 31, 2016",null,"Enersource Hydro Mississauga Inc.","Administrative and General Expenses","5647","Employee Sick Leave",0]
[2017,"January 1, 2016 - December 31, 2016",null,"Enersource Hydro Mississauga Inc.","Administrative and General Expenses","5650","Franchise Requirements",0]
[2017,"January 1, 2016 - December 31, 2016",null,"Enersource Hydro Mississauga Inc.","Administrative and General Expenses","5655","Regulatory Expenses",943296.71]
[2017,"January 1, 2016 - December 31, 2016",null,"Enersource Hydro Mississauga Inc.","Administrative and General Expenses","5660","General Advertising Expenses",0]
[2017,"January 1, 2016 - December 31, 2016",null,"Enersource Hydro Mississauga Inc.","Administrative and General Expenses","5665","Miscellaneous General Expenses",16558501.4]
[2017,"January 1, 2016 - December 31, 2016",null,"Enersource Hydro Mississauga Inc.","Administrative and General Expenses","5670","Rent",0]
[2017,"January 1, 2016 - December 31, 2016",null,"Enersource Hydro Mississauga Inc.","Administrative and General Expenses","5672","Lease Payment Expense",0]
[2017,"January 1, 2016 - December 31, 2016",null,"Enersource Hydro Mississauga Inc.","Administrative and General Expenses","5675","Maintenance of General Plant",13144112.029999999]
[2017,"January 1, 2016 - December 31, 2016",null,"Enersource Hydro Mississauga Inc.","Administrative and General Expenses","5680","Electrical Safety Authority Fees",104065.14]
[2017,"January 1, 2016 - December 31, 2016",null,"Enersource Hydro Mississauga Inc.","Administrative and General Expenses","5681","Special Purpose Charge Expense",0]
[2017,"January 1, 2016 - December 31, 2016",null,"Enersource Hydro Mississauga Inc.","Administrative and General Expenses","5685","Independent Market Operator Fees and Penalties",0]
[2017,"January 1, 2016 - December 31, 2016",null,"Enersource Hydro Mississauga Inc.","Administrative and General Expenses","5695","OM&A Contra",0]
[2017,"January 1, 2016 - December 31, 2016",null,"Enersource Hydro Mississauga Inc.","Administrative and General Expenses Total",null,null,29116434.920000002]
[2017,"January 1, 2016 - December 31, 2016",null,"Enersource Hydro Mississauga Inc.","Billing and Collecting","5305","Supervision",3190114.12]
[2017,"January 1, 2016 - December 31, 2016",null,"Enersource Hydro Mississauga Inc.","Billing and Collecting","5310","Meter Reading Expense",2194533.88]
[2017,"January 1, 2016 - December 31, 2016",null,"Enersource Hydro Mississauga Inc.","Billing and Collecting","5315","Customer Billing",763936.69]
[2017,"January 1, 2016 - December 31, 2016",null,"Enersource Hydro Mississauga Inc.","Billing and Collecting","5320","Collecting",991800.91]
[2017,"January 1, 2016 - December 31, 2016",null,"Enersource Hydro Mississauga Inc.","Billing and Collecting","5325","Collecting- Cash Over and Short",0]
[2017,"January 1, 2016 - December 31, 2016",null,"Enersource Hydro Mississauga Inc.","Billing and Collecting","5330","Collection Charges",-365479.25]
[2017,"January 1, 2016 - December 31, 2016",null,"Enersource Hydro Mississauga Inc.","Billing and Collecting","5335","Bad Debt Expense",1024535.65]
[2017,"January 1, 2016 - December 31, 2016",null,"Enersource Hydro Mississauga Inc.","Billing and Collecting","5340","Miscellaneous Customer Accounts Expenses",237537.23]
[2017,"January 1, 2016 - December 31, 2016",null,"Enersource Hydro Mississauga Inc.","Billing and Collecting Total",null,null,8036979.2300000004]
[2017,"January 1, 2016 - December 31, 2016",null,"Enersource Hydro Mississauga Inc.","Community Relations","5405","Supervision",0]
[2017,"January 1, 2016 - December 31, 2016",null,"Enersource Hydro Mississauga Inc.","Community Relations","5410","Community Relations - Sundry",0]
[2017,"January 1, 2016 - December 31, 2016",null,"Enersource Hydro Mississauga Inc.","Community Relations","5415","Energy Conservation",0]
[2017,"January 1, 2016 - December 31, 2016",null,"Enersource Hydro Mississauga Inc.","Community Relations","5420","Community Safety Program",0]
[2017,"January 1, 2016 - December 31, 2016",null,"Enersource Hydro Mississauga Inc.","Community Relations","5425","Miscellaneous Customer Service and Informational Expenses",0]
[2017,"January 1, 2016 - December 31, 2016",null,"Enersource Hydro Mississauga Inc.","Community Relations Total",null,null,0]
[2017,"January 1, 2016 - December 31, 2016",null,"Enersource Hydro Mississauga Inc.","Distribution Expenses - Operation","5005","Operation Supervision and Engineering",1883054.57]
[2017,"January 1, 2016 - December 31, 2016",null,"Enersource Hydro Mississauga Inc.","Distribution Expenses - Operation","5010","Load Dispatching",2311567.31]
[2017,"January 1, 2016 - December 31, 2016",null,"Enersource Hydro Mississauga Inc.","Distribution Expenses - Operation","5012","Station Buildings and Fixtures Expense",0]
[2017,"January 1, 2016 - December 31, 2016",null,"Enersource Hydro Mississauga Inc.","Distribution Expenses - Operation","5014","Transformer Station Equipment - Operation Labour",0]
[2017,"January 1, 2016 - December 31, 2016",null,"Enersource Hydro Mississauga Inc.","Distribution Expenses - Operation","5015","Transformer Station Equipment - Operation Supplies and Expenses",0]
[2017,"January 1, 2016 - December 31, 2016",null,"Enersource Hydro Mississauga Inc.","Distribution Expenses - Operation","5016","Distribution Station Equipment - Operation Labour",899647.09]
[2017,"January 1, 2016 - December 31, 2016",null,"Enersource Hydro Mississauga Inc.","Distribution Expenses - Operation","5017","Distribution Station Equipment - Operation Supplies and Expenses",280642.2]
[2017,"January 1, 2016 - December 31, 2016",null,"Enersource Hydro Mississauga Inc.","Distribution Expenses - Operation","5020","Overhead Distribution Lines and Feeders - Operation Labour",2700134.77]
[2017,"January 1, 2016 - December 31, 2016",null,"Enersource Hydro Mississauga Inc.","Distribution Expenses - Operation","5025","Overhead Distribution Lines and Feeders - Operation Supplies and Expenses",252225.23]
[2017,"January 1, 2016 - December 31, 2016",null,"Enersource Hydro Mississauga Inc.","Distribution Expenses - Operation","5030","Overhead Subtransmission Feeders - Operation",0]
[2017,"January 1, 2016 - December 31, 2016",null,"Enersource Hydro Mississauga Inc.","Distribution Expenses - Operation","5035","Overhead Distribution Transformers- Operation",0]
[2017,"January 1, 2016 - December 31, 2016",null,"Enersource Hydro Mississauga Inc.","Distribution Expenses - Operation","5040","Underground Distribution Lines and Feeders - Operation Labour",0]
[2017,"January 1, 2016 - December 31, 2016",null,"Enersource Hydro Mississauga Inc.","Distribution Expenses - Operation","5045","Underground Distribution Lines and Feeders - Operation Supplies and Expenses",0]
[2017,"January 1, 2016 - December 31, 2016",null,"Enersource Hydro Mississauga Inc.","Distribution Expenses - Operation","5050","Underground Subtransmission Feeders - Operation",0]
[2017,"January 1, 2016 - December 31, 2016",null,"Enersource Hydro Mississauga Inc.","Distribution Expenses - Operation","5055","Underground Distribution Transformers - Operation",0]
[2017,"January 1, 2016 - December 31, 2016",null,"Enersource Hydro Mississauga Inc.","Distribution Expenses - Operation","5060","Street Lighting and Signal System Expense",0]
[2017,"January 1, 2016 - December 31, 2016",null,"Enersource Hydro Mississauga Inc.","Distribution Expenses - Operation","5065","Meter Expense",0]
[2017,"January 1, 2016 - December 31, 2016",null,"Enersource Hydro Mississauga Inc.","Distribution Expenses - Operation","5070","Customer Premises - Operation Labour",1305968.1299999999]
[2017,"January 1, 2016 - December 31, 2016",null,"Enersource Hydro Mississauga Inc.","Distribution Expenses - Operation","5075","Customer Premises - Materials and Expenses",20963]
[2017,"January 1, 2016 - December 31, 2016",null,"Enersource Hydro Mississauga Inc.","Distribution Expenses - Operation","5085","Miscellaneous Distribution Expense",2908606.37]
[2017,"January 1, 2016 - December 31, 2016",null,"Enersource Hydro Mississauga Inc.","Distribution Expenses - Operation","5090","Underground Distribution Lines and Feeders - Rental Paid",0]
[2017,"January 1, 2016 - December 31, 2016",null,"Enersource Hydro Mississauga Inc.","Distribution Expenses - Operation","5095","Overhead Distribution Lines and Feeders - Rental Paid",0]
[2017,"January 1, 2016 - December 31, 2016",null,"Enersource Hydro Mississauga Inc.","Distribution Expenses - Operation","5096","Other Rent",-186504.67]
[2017,"January 1, 2016 - December 31, 2016",null,"Enersource Hydro Mississauga Inc.","Distribution Expenses - Operation Total",null,null,12376304]
[2017,"January 1, 2016 - December 31, 2016",null,"Enersource Hydro Mississauga Inc.","Distribution Expenses – Maintenance","5105","Maintenance Supervision and Engineering",0]
[2017,"January 1, 2016 - December 31, 2016",null,"Enersource Hydro Mississauga Inc.","Distribution Expenses – Maintenance","5110","Maintenance of Buildings and Fixtures - Distribution Stations",0]
[2017,"January 1, 2016 - December 31, 2016",null,"Enersource Hydro Mississauga Inc.","Distribution Expenses – Maintenance","5112","Maintenance of Transformer Station Equipment",0]
[2017,"January 1, 2016 - December 31, 2016",null,"Enersource Hydro Mississauga Inc.","Distribution Expenses – Maintenance","5114","Maintenance of Distribution Station Equipment",0]
[2017,"January 1, 2016 - December 31, 2016",null,"Enersource Hydro Mississauga Inc.","Distribution Expenses – Maintenance","5120","Maintenance of Poles, Towers and Fixtures",0]
[2017,"January 1, 2016 - December 31, 2016",null,"Enersource Hydro Mississauga Inc.","Distribution Expenses – Maintenance","5125","Maintenance of Overhead Conductors and Devices",4182582.11]
[2017,"January 1, 2016 - December 31, 2016",null,"Enersource Hydro Mississauga Inc.","Distribution Expenses – Maintenance","5130","Maintenance of Overhead Services",0]
[2017,"January 1, 2016 - December 31, 2016",null,"Enersource Hydro Mississauga Inc.","Distribution Expenses – Maintenance","5135","Overhead Distribution Lines and Feeders - Right of Way",1006903.62]
[2017,"January 1, 2016 - December 31, 2016",null,"Enersource Hydro Mississauga Inc.","Distribution Expenses – Maintenance","5145","Maintenance of Underground Conduit",0]
[2017,"January 1, 2016 - December 31, 2016",null,"Enersource Hydro Mississauga Inc.","Distribution Expenses – Maintenance","5150","Maintenance of Underground Conductors and Devices",5286652.2]
[2017,"January 1, 2016 - December 31, 2016",null,"Enersource Hydro Mississauga Inc.","Distribution Expenses – Maintenance","5155","Maintenance of Underground Services",0]
[2017,"January 1, 2016 - December 31, 2016",null,"Enersource Hydro Mississauga Inc.","Distribution Expenses – Maintenance","5160","Maintenance of Line Transformers",0]
[2017,"January 1, 2016 - December 31, 2016",null,"Enersource Hydro Mississauga Inc.","Distribution Expenses – Maintenance","5165","Maintenance of Street Lighting and Signal Systems",0]
[2017,"January 1, 2016 - December 31, 2016",null,"Enersource Hydro Mississauga Inc.","Distribution Expenses – Maintenance","5170","Sentinel Lights - Labour",0]
[2017,"January 1, 2016 - December 31, 2016",null,"Enersource Hydro Mississauga Inc.","Distribution Expenses – Maintenance","5172","Sentinel Lights - Materials and Expenses",0]
[2017,"January 1, 2016 - December 31, 2016",null,"Enersource Hydro Mississauga Inc.","Distribution Expenses – Maintenance","5175","Maintenance of Meters",1580972.98]
[2017,"January 1, 2016 - December 31, 2016",null,"Enersource Hydro Mississauga Inc.","Distribution Expenses – Maintenance","5178","Customer Installations Expenses- Leased Property",0]
[2017,"January 1, 2016 - December 31, 2016",null,"Enersource Hydro Mississauga Inc.","Distribution Expenses – Maintenance","5195","Maintenance of Other Installations on Customer Premises",0]
[2017,"January 1, 2016 - December 31, 2016",null,"Enersource Hydro Mississauga Inc.","Distribution Expenses – Maintenance Total",null,null,12057110.91]
[2017,"January 1, 2016 - December 31, 2016",null,"Enersource Hydro Mississauga Inc.","Other Expenses","5205","Purchase of Transmission and System Services",0]
[2017,"January 1, 2016 - December 31, 2016",null,"Enersource Hydro Mississauga Inc.","Other Expenses","5210","Transmission Charges",0]
[2017,"January 1, 2016 - December 31, 2016",null,"Enersource Hydro Mississauga Inc.","Other Expenses","5215","Transmission Charges Recovered",0]
[2017,"January 1, 2016 - December 31, 2016",null,"Enersource Hydro Mississauga Inc.","Other Expenses Total",null,null,0]
[2017,"January 1, 2016 - December 31, 2016",null,"Entegrus Powerlines Inc.","Administrative and General Expenses","5505","Supervision",0]
[2017,"January 1, 2016 - December 31, 2016",null,"Entegrus Powerlines Inc.","Administrative and General Expenses","5510","Demonstrating and Selling Expense",0]
[2017,"January 1, 2016 - December 31, 2016",null,"Entegrus Powerlines Inc.","Administrative and General Expenses","5515","Advertising Expense",0]
[2017,"January 1, 2016 - December 31, 2016",null,"Entegrus Powerlines Inc.","Administrative and General Expenses","5520","Miscellaneous Sales Expense",0]
[2017,"January 1, 2016 - December 31, 2016",null,"Entegrus Powerlines Inc.","Administrative and General Expenses","5605","Executive Salaries and Expenses",0]
[2017,"January 1, 2016 - December 31, 2016",null,"Entegrus Powerlines Inc.","Administrative and General Expenses","5610","Management Salaries and Expenses",1761711.36]
[2017,"January 1, 2016 - December 31, 2016",null,"Entegrus Powerlines Inc.","Administrative and General Expenses","5615","General Administrative Salaries and Expenses",133271.93]
[2017,"January 1, 2016 - December 31, 2016",null,"Entegrus Powerlines Inc.","Administrative and General Expenses","5620","Office Supplies and Expenses",245804.45]
[2017,"January 1, 2016 - December 31, 2016",null,"Entegrus Powerlines Inc.","Administrative and General Expenses","5625","Administrative Expense Transferred/Credit",0]
[2017,"January 1, 2016 - December 31, 2016",null,"Entegrus Powerlines Inc.","Administrative and General Expenses","5630","Outside Services Employed",292858.96000000002]
[2017,"January 1, 2016 - December 31, 2016",null,"Entegrus Powerlines Inc.","Administrative and General Expenses","5635","Property Insurance",125160.72]
[2017,"January 1, 2016 - December 31, 2016",null,"Entegrus Powerlines Inc.","Administrative and General Expenses","5640","Injuries and Damages",0]
[2017,"January 1, 2016 - December 31, 2016",null,"Entegrus Powerlines Inc.","Administrative and General Expenses","5645","OMERS Pensions and Benefits",88692.49]
[2017,"January 1, 2016 - December 31, 2016",null,"Entegrus Powerlines Inc.","Administrative and General Expenses","5646","Employee Pensions and OPEB",134316.89000000001]
[2017,"January 1, 2016 - December 31, 2016",null,"Entegrus Powerlines Inc.","Administrative and General Expenses","5647","Employee Sick Leave",0]
[2017,"January 1, 2016 - December 31, 2016",null,"Entegrus Powerlines Inc.","Administrative and General Expenses","5650","Franchise Requirements",0]
[2017,"January 1, 2016 - December 31, 2016",null,"Entegrus Powerlines Inc.","Administrative and General Expenses","5655","Regulatory Expenses",601683.35]
[2017,"January 1, 2016 - December 31, 2016",null,"Entegrus Powerlines Inc.","Administrative and General Expenses","5660","General Advertising Expenses",0]
[2017,"January 1, 2016 - December 31, 2016",null,"Entegrus Powerlines Inc.","Administrative and General Expenses","5665","Miscellaneous General Expenses",23116.49]
[2017,"January 1, 2016 - December 31, 2016",null,"Entegrus Powerlines Inc.","Administrative and General Expenses","5670","Rent",0]
[2017,"January 1, 2016 - December 31, 2016",null,"Entegrus Powerlines Inc.","Administrative and General Expenses","5672","Lease Payment Expense",0]
[2017,"January 1, 2016 - December 31, 2016",null,"Entegrus Powerlines Inc.","Administrative and General Expenses","5675","Maintenance of General Plant",491661.07]
[2017,"January 1, 2016 - December 31, 2016",null,"Entegrus Powerlines Inc.","Administrative and General Expenses","5680","Electrical Safety Authority Fees",18585.669999999998]
[2017,"January 1, 2016 - December 31, 2016",null,"Entegrus Powerlines Inc.","Administrative and General Expenses","5681","Special Purpose Charge Expense",0]
[2017,"January 1, 2016 - December 31, 2016",null,"Entegrus Powerlines Inc.","Administrative and General Expenses","5685","Independent Market Operator Fees and Penalties",0]
[2017,"January 1, 2016 - December 31, 2016",null,"Entegrus Powerlines Inc.","Administrative and General Expenses","5695","OM&A Contra",0]
[2017,"January 1, 2016 - December 31, 2016",null,"Entegrus Powerlines Inc.","Administrative and General Expenses Total",null,null,3916863.38]
[2017,"January 1, 2016 - December 31, 2016",null,"Entegrus Powerlines Inc.","Billing and Collecting","5305","Supervision",487264.74]
[2017,"January 1, 2016 - December 31, 2016",null,"Entegrus Powerlines Inc.","Billing and Collecting","5310","Meter Reading Expense",254379.51]
[2017,"January 1, 2016 - December 31, 2016",null,"Entegrus Powerlines Inc.","Billing and Collecting","5315","Customer Billing",2615870.86]
[2017,"January 1, 2016 - December 31, 2016",null,"Entegrus Powerlines Inc.","Billing and Collecting","5320","Collecting",-1128087.71]
[2017,"January 1, 2016 - December 31, 2016",null,"Entegrus Powerlines Inc.","Billing and Collecting","5325","Collecting- Cash Over and Short",0]
[2017,"January 1, 2016 - December 31, 2016",null,"Entegrus Powerlines Inc.","Billing and Collecting","5330","Collection Charges",0]
[2017,"January 1, 2016 - December 31, 2016",null,"Entegrus Powerlines Inc.","Billing and Collecting","5335","Bad Debt Expense",266052.8]
[2017,"January 1, 2016 - December 31, 2016",null,"Entegrus Powerlines Inc.","Billing and Collecting","5340","Miscellaneous Customer Accounts Expenses",0]
[2017,"January 1, 2016 - December 31, 2016",null,"Entegrus Powerlines Inc.","Billing and Collecting Total",null,null,2495480.2000000002]
[2017,"January 1, 2016 - December 31, 2016",null,"Entegrus Powerlines Inc.","Community Relations","5405","Supervision",0]
[2017,"January 1, 2016 - December 31, 2016",null,"Entegrus Powerlines Inc.","Community Relations","5410","Community Relations - Sundry",30398.43]
[2017,"January 1, 2016 - December 31, 2016",null,"Entegrus Powerlines Inc.","Community Relations","5415","Energy Conservation",0]
[2017,"January 1, 2016 - December 31, 2016",null,"Entegrus Powerlines Inc.","Community Relations","5420","Community Safety Program",0]
[2017,"January 1, 2016 - December 31, 2016",null,"Entegrus Powerlines Inc.","Community Relations","5425","Miscellaneous Customer Service and Informational Expenses",0]
[2017,"January 1, 2016 - December 31, 2016",null,"Entegrus Powerlines Inc.","Community Relations Total",null,null,30398.43]
[2017,"January 1, 2016 - December 31, 2016",null,"Entegrus Powerlines Inc.","Distribution Expenses - Operation","5005","Operation Supervision and Engineering",502735.84]
[2017,"January 1, 2016 - December 31, 2016",null,"Entegrus Powerlines Inc.","Distribution Expenses - Operation","5010","Load Dispatching",42117.14]
[2017,"January 1, 2016 - December 31, 2016",null,"Entegrus Powerlines Inc.","Distribution Expenses - Operation","5012","Station Buildings and Fixtures Expense",0]
[2017,"January 1, 2016 - December 31, 2016",null,"Entegrus Powerlines Inc.","Distribution Expenses - Operation","5014","Transformer Station Equipment - Operation Labour",0]
[2017,"January 1, 2016 - December 31, 2016",null,"Entegrus Powerlines Inc.","Distribution Expenses - Operation","5015","Transformer Station Equipment - Operation Supplies and Expenses",0]
[2017,"January 1, 2016 - December 31, 2016",null,"Entegrus Powerlines Inc.","Distribution Expenses - Operation","5016","Distribution Station Equipment - Operation Labour",52061.47]
[2017,"January 1, 2016 - December 31, 2016",null,"Entegrus Powerlines Inc.","Distribution Expenses - Operation","5017","Distribution Station Equipment - Operation Supplies and Expenses",55374.41]
[2017,"January 1, 2016 - December 31, 2016",null,"Entegrus Powerlines Inc.","Distribution Expenses - Operation","5020","Overhead Distribution Lines and Feeders - Operation Labour",45941.41]
[2017,"January 1, 2016 - December 31, 2016",null,"Entegrus Powerlines Inc.","Distribution Expenses - Operation","5025","Overhead Distribution Lines and Feeders - Operation Supplies and Expenses",18206.87]
[2017,"January 1, 2016 - December 31, 2016",null,"Entegrus Powerlines Inc.","Distribution Expenses - Operation","5030","Overhead Subtransmission Feeders - Operation",0]
[2017,"January 1, 2016 - December 31, 2016",null,"Entegrus Powerlines Inc.","Distribution Expenses - Operation","5035","Overhead Distribution Transformers- Operation",253.4]
[2017,"January 1, 2016 - December 31, 2016",null,"Entegrus Powerlines Inc.","Distribution Expenses - Operation","5040","Underground Distribution Lines and Feeders - Operation Labour",197917.61]
[2017,"January 1, 2016 - December 31, 2016",null,"Entegrus Powerlines Inc.","Distribution Expenses - Operation","5045","Underground Distribution Lines and Feeders - Operation Supplies and Expenses",72003.86]
[2017,"January 1, 2016 - December 31, 2016",null,"Entegrus Powerlines Inc.","Distribution Expenses - Operation","5050","Underground Subtransmission Feeders - Operation",0]
[2017,"January 1, 2016 - December 31, 2016",null,"Entegrus Powerlines Inc.","Distribution Expenses - Operation","5055","Underground Distribution Transformers - Operation",297.41000000000003]
[2017,"January 1, 2016 - December 31, 2016",null,"Entegrus Powerlines Inc.","Distribution Expenses - Operation","5060","Street Lighting and Signal System Expense",0]
[2017,"January 1, 2016 - December 31, 2016",null,"Entegrus Powerlines Inc.","Distribution Expenses - Operation","5065","Meter Expense",235670.75]
[2017,"January 1, 2016 - December 31, 2016",null,"Entegrus Powerlines Inc.","Distribution Expenses - Operation","5070","Customer Premises - Operation Labour",45184.32]
[2017,"January 1, 2016 - December 31, 2016",null,"Entegrus Powerlines Inc.","Distribution Expenses - Operation","5075","Customer Premises - Materials and Expenses",13911.63]
[2017,"January 1, 2016 - December 31, 2016",null,"Entegrus Powerlines Inc.","Distribution Expenses - Operation","5085","Miscellaneous Distribution Expense",0]
[2017,"January 1, 2016 - December 31, 2016",null,"Entegrus Powerlines Inc.","Distribution Expenses - Operation","5090","Underground Distribution Lines and Feeders - Rental Paid",0]
[2017,"January 1, 2016 - December 31, 2016",null,"Entegrus Powerlines Inc.","Distribution Expenses - Operation","5095","Overhead Distribution Lines and Feeders - Rental Paid",0]
[2017,"January 1, 2016 - December 31, 2016",null,"Entegrus Powerlines Inc.","Distribution Expenses - Operation","5096","Other Rent",0]
[2017,"January 1, 2016 - December 31, 2016",null,"Entegrus Powerlines Inc.","Distribution Expenses - Operation Total",null,null,1281676.1200000001]
[2017,"January 1, 2016 - December 31, 2016",null,"Entegrus Powerlines Inc.","Distribution Expenses – Maintenance","5105","Maintenance Supervision and Engineering",511463.88]
[2017,"January 1, 2016 - December 31, 2016",null,"Entegrus Powerlines Inc.","Distribution Expenses – Maintenance","5110","Maintenance of Buildings and Fixtures - Distribution Stations",0]
[2017,"January 1, 2016 - December 31, 2016",null,"Entegrus Powerlines Inc.","Distribution Expenses – Maintenance","5112","Maintenance of Transformer Station Equipment",0]
[2017,"January 1, 2016 - December 31, 2016",null,"Entegrus Powerlines Inc.","Distribution Expenses – Maintenance","5114","Maintenance of Distribution Station Equipment",88990.3]
[2017,"January 1, 2016 - December 31, 2016",null,"Entegrus Powerlines Inc.","Distribution Expenses – Maintenance","5120","Maintenance of Poles, Towers and Fixtures",53518.34]
[2017,"January 1, 2016 - December 31, 2016",null,"Entegrus Powerlines Inc.","Distribution Expenses – Maintenance","5125","Maintenance of Overhead Conductors and Devices",380869.88]
[2017,"January 1, 2016 - December 31, 2016",null,"Entegrus Powerlines Inc.","Distribution Expenses – Maintenance","5130","Maintenance of Overhead Services",195420.84]
[2017,"January 1, 2016 - December 31, 2016",null,"Entegrus Powerlines Inc.","Distribution Expenses – Maintenance","5135","Overhead Distribution Lines and Feeders - Right of Way",112288.05]
[2017,"January 1, 2016 - December 31, 2016",null,"Entegrus Powerlines Inc.","Distribution Expenses – Maintenance","5145","Maintenance of Underground Conduit",3444.53]
[2017,"January 1, 2016 - December 31, 2016",null,"Entegrus Powerlines Inc.","Distribution Expenses – Maintenance","5150","Maintenance of Underground Conductors and Devices",13694.61]
[2017,"January 1, 2016 - December 31, 2016",null,"Entegrus Powerlines Inc.","Distribution Expenses – Maintenance","5155","Maintenance of Underground Services",126550.18]
[2017,"January 1, 2016 - December 31, 2016",null,"Entegrus Powerlines Inc.","Distribution Expenses – Maintenance","5160","Maintenance of Line Transformers",39703.35]
[2017,"January 1, 2016 - December 31, 2016",null,"Entegrus Powerlines Inc.","Distribution Expenses – Maintenance","5165","Maintenance of Street Lighting and Signal Systems",0]
[2017,"January 1, 2016 - December 31, 2016",null,"Entegrus Powerlines Inc.","Distribution Expenses – Maintenance","5170","Sentinel Lights - Labour",0]
[2017,"January 1, 2016 - December 31, 2016",null,"Entegrus Powerlines Inc.","Distribution Expenses – Maintenance","5172","Sentinel Lights - Materials and Expenses",0]
[2017,"January 1, 2016 - December 31, 2016",null,"Entegrus Powerlines Inc.","Distribution Expenses – Maintenance","5175","Maintenance of Meters",221904.38]
[2017,"January 1, 2016 - December 31, 2016",null,"Entegrus Powerlines Inc.","Distribution Expenses – Maintenance","5178","Customer Installations Expenses- Leased Property",0]
[2017,"January 1, 2016 - December 31, 2016",null,"Entegrus Powerlines Inc.","Distribution Expenses – Maintenance","5195","Maintenance of Other Installations on Customer Premises",0]
[2017,"January 1, 2016 - December 31, 2016",null,"Entegrus Powerlines Inc.","Distribution Expenses – Maintenance Total",null,null,1747848.34]
[2017,"January 1, 2016 - December 31, 2016",null,"Entegrus Powerlines Inc.","Other Expenses","5205","Purchase of Transmission and System Services",0]
[2017,"January 1, 2016 - December 31, 2016",null,"Entegrus Powerlines Inc.","Other Expenses","5210","Transmission Charges",0]
[2017,"January 1, 2016 - December 31, 2016",null,"Entegrus Powerlines Inc.","Other Expenses","5215","Transmission Charges Recovered",0]
[2017,"January 1, 2016 - December 31, 2016",null,"Entegrus Powerlines Inc.","Other Expenses Total",null,null,0]
[2017,"January 1, 2016 - December 31, 2016",null,"Espanola Regional Hydro Distribution Corporation","Administrative and General Expenses","5505","Supervision",0]
[2017,"January 1, 2016 - December 31, 2016",null,"Espanola Regional Hydro Distribution Corporation","Administrative and General Expenses","5510","Demonstrating and Selling Expense",0]
[2017,"January 1, 2016 - December 31, 2016",null,"Espanola Regional Hydro Distribution Corporation","Administrative and General Expenses","5515","Advertising Expense",0]
[2017,"January 1, 2016 - December 31, 2016",null,"Espanola Regional Hydro Distribution Corporation","Administrative and General Expenses","5520","Miscellaneous Sales Expense",0]
[2017,"January 1, 2016 - December 31, 2016",null,"Espanola Regional Hydro Distribution Corporation","Administrative and General Expenses","5605","Executive Salaries and Expenses",18540]
[2017,"January 1, 2016 - December 31, 2016",null,"Espanola Regional Hydro Distribution Corporation","Administrative and General Expenses","5610","Management Salaries and Expenses",71198.600000000006]
[2017,"January 1, 2016 - December 31, 2016",null,"Espanola Regional Hydro Distribution Corporation","Administrative and General Expenses","5615","General Administrative Salaries and Expenses",32625.43]
[2017,"January 1, 2016 - December 31, 2016",null,"Espanola Regional Hydro Distribution Corporation","Administrative and General Expenses","5620","Office Supplies and Expenses",77183.41]
[2017,"January 1, 2016 - December 31, 2016",null,"Espanola Regional Hydro Distribution Corporation","Administrative and General Expenses","5625","Administrative Expense Transferred/Credit",0]
[2017,"January 1, 2016 - December 31, 2016",null,"Espanola Regional Hydro Distribution Corporation","Administrative and General Expenses","5630","Outside Services Employed",69985.600000000006]
[2017,"January 1, 2016 - December 31, 2016",null,"Espanola Regional Hydro Distribution Corporation","Administrative and General Expenses","5635","Property Insurance",5789.88]
[2017,"January 1, 2016 - December 31, 2016",null,"Espanola Regional Hydro Distribution Corporation","Administrative and General Expenses","5640","Injuries and Damages",9535.2000000000007]
[2017,"January 1, 2016 - December 31, 2016",null,"Espanola Regional Hydro Distribution Corporation","Administrative and General Expenses","5645","OMERS Pensions and Benefits",3073.53]
[2017,"January 1, 2016 - December 31, 2016",null,"Espanola Regional Hydro Distribution Corporation","Administrative and General Expenses","5646","Employee Pensions and OPEB",0]
[2017,"January 1, 2016 - December 31, 2016",null,"Espanola Regional Hydro Distribution Corporation","Administrative and General Expenses","5647","Employee Sick Leave",0]
[2017,"January 1, 2016 - December 31, 2016",null,"Espanola Regional Hydro Distribution Corporation","Administrative and General Expenses","5650","Franchise Requirements",0]
[2017,"January 1, 2016 - December 31, 2016",null,"Espanola Regional Hydro Distribution Corporation","Administrative and General Expenses","5655","Regulatory Expenses",55465.9]
[2017,"January 1, 2016 - December 31, 2016",null,"Espanola Regional Hydro Distribution Corporation","Administrative and General Expenses","5660","General Advertising Expenses",1015]
[2017,"January 1, 2016 - December 31, 2016",null,"Espanola Regional Hydro Distribution Corporation","Administrative and General Expenses","5665","Miscellaneous General Expenses",1517.31]
[2017,"January 1, 2016 - December 31, 2016",null,"Espanola Regional Hydro Distribution Corporation","Administrative and General Expenses","5670","Rent",0]
[2017,"January 1, 2016 - December 31, 2016",null,"Espanola Regional Hydro Distribution Corporation","Administrative and General Expenses","5672","Lease Payment Expense",0]
[2017,"January 1, 2016 - December 31, 2016",null,"Espanola Regional Hydro Distribution Corporation","Administrative and General Expenses","5675","Maintenance of General Plant",0]
[2017,"January 1, 2016 - December 31, 2016",null,"Espanola Regional Hydro Distribution Corporation","Administrative and General Expenses","5680","Electrical Safety Authority Fees",3199.45]
[2017,"January 1, 2016 - December 31, 2016",null,"Espanola Regional Hydro Distribution Corporation","Administrative and General Expenses","5681","Special Purpose Charge Expense",0]
[2017,"January 1, 2016 - December 31, 2016",null,"Espanola Regional Hydro Distribution Corporation","Administrative and General Expenses","5685","Independent Market Operator Fees and Penalties",0]
[2017,"January 1, 2016 - December 31, 2016",null,"Espanola Regional Hydro Distribution Corporation","Administrative and General Expenses","5695","OM&A Contra",0]
[2017,"January 1, 2016 - December 31, 2016",null,"Espanola Regional Hydro Distribution Corporation","Administrative and General Expenses Total",null,null,349129.31]
[2017,"January 1, 2016 - December 31, 2016",null,"Espanola Regional Hydro Distribution Corporation","Billing and Collecting","5305","Supervision",0]
[2017,"January 1, 2016 - December 31, 2016",null,"Espanola Regional Hydro Distribution Corporation","Billing and Collecting","5310","Meter Reading Expense",64727]
[2017,"January 1, 2016 - December 31, 2016",null,"Espanola Regional Hydro Distribution Corporation","Billing and Collecting","5315","Customer Billing",170325.42]
[2017,"January 1, 2016 - December 31, 2016",null,"Espanola Regional Hydro Distribution Corporation","Billing and Collecting","5320","Collecting",112099.9]
[2017,"January 1, 2016 - December 31, 2016",null,"Espanola Regional Hydro Distribution Corporation","Billing and Collecting","5325","Collecting- Cash Over and Short",0]
[2017,"January 1, 2016 - December 31, 2016",null,"Espanola Regional Hydro Distribution Corporation","Billing and Collecting","5330","Collection Charges",0]
[2017,"January 1, 2016 - December 31, 2016",null,"Espanola Regional Hydro Distribution Corporation","Billing and Collecting","5335","Bad Debt Expense",40952.03]
[2017,"January 1, 2016 - December 31, 2016",null,"Espanola Regional Hydro Distribution Corporation","Billing and Collecting","5340","Miscellaneous Customer Accounts Expenses",0]
[2017,"January 1, 2016 - December 31, 2016",null,"Espanola Regional Hydro Distribution Corporation","Billing and Collecting Total",null,null,388104.35]
[2017,"January 1, 2016 - December 31, 2016",null,"Espanola Regional Hydro Distribution Corporation","Community Relations","5405","Supervision",0]
[2017,"January 1, 2016 - December 31, 2016",null,"Espanola Regional Hydro Distribution Corporation","Community Relations","5410","Community Relations - Sundry",0]
[2017,"January 1, 2016 - December 31, 2016",null,"Espanola Regional Hydro Distribution Corporation","Community Relations","5415","Energy Conservation",0]
[2017,"January 1, 2016 - December 31, 2016",null,"Espanola Regional Hydro Distribution Corporation","Community Relations","5420","Community Safety Program",0]
[2017,"January 1, 2016 - December 31, 2016",null,"Espanola Regional Hydro Distribution Corporation","Community Relations","5425","Miscellaneous Customer Service and Informational Expenses",0]
[2017,"January 1, 2016 - December 31, 2016",null,"Espanola Regional Hydro Distribution Corporation","Community Relations Total",null,null,0]
[2017,"January 1, 2016 - December 31, 2016",null,"Espanola Regional Hydro Distribution Corporation","Distribution Expenses - Operation","5005","Operation Supervision and Engineering",51581.25]
[2017,"January 1, 2016 - December 31, 2016",null,"Espanola Regional Hydro Distribution Corporation","Distribution Expenses - Operation","5010","Load Dispatching",0]
[2017,"January 1, 2016 - December 31, 2016",null,"Espanola Regional Hydro Distribution Corporation","Distribution Expenses - Operation","5012","Station Buildings and Fixtures Expense",1478]
[2017,"January 1, 2016 - December 31, 2016",null,"Espanola Regional Hydro Distribution Corporation","Distribution Expenses - Operation","5014","Transformer Station Equipment - Operation Labour",0]
[2017,"January 1, 2016 - December 31, 2016",null,"Espanola Regional Hydro Distribution Corporation","Distribution Expenses - Operation","5015","Transformer Station Equipment - Operation Supplies and Expenses",0]
[2017,"January 1, 2016 - December 31, 2016",null,"Espanola Regional Hydro Distribution Corporation","Distribution Expenses - Operation","5016","Distribution Station Equipment - Operation Labour",1655.42]
[2017,"January 1, 2016 - December 31, 2016",null,"Espanola Regional Hydro Distribution Corporation","Distribution Expenses - Operation","5017","Distribution Station Equipment - Operation Supplies and Expenses",11396.71]
[2017,"January 1, 2016 - December 31, 2016",null,"Espanola Regional Hydro Distribution Corporation","Distribution Expenses - Operation","5020","Overhead Distribution Lines and Feeders - Operation Labour",37475.199999999997]
[2017,"January 1, 2016 - December 31, 2016",null,"Espanola Regional Hydro Distribution Corporation","Distribution Expenses - Operation","5025","Overhead Distribution Lines and Feeders - Operation Supplies and Expenses",59263.57]
[2017,"January 1, 2016 - December 31, 2016",null,"Espanola Regional Hydro Distribution Corporation","Distribution Expenses - Operation","5030","Overhead Subtransmission Feeders - Operation",0]
[2017,"January 1, 2016 - December 31, 2016",null,"Espanola Regional Hydro Distribution Corporation","Distribution Expenses - Operation","5035","Overhead Distribution Transformers- Operation",9433.19]
[2017,"January 1, 2016 - December 31, 2016",null,"Espanola Regional Hydro Distribution Corporation","Distribution Expenses - Operation","5040","Underground Distribution Lines and Feeders - Operation Labour",33181.4]
[2017,"January 1, 2016 - December 31, 2016",null,"Espanola Regional Hydro Distribution Corporation","Distribution Expenses - Operation","5045","Underground Distribution Lines and Feeders - Operation Supplies and Expenses",19995.509999999998]
[2017,"January 1, 2016 - December 31, 2016",null,"Espanola Regional Hydro Distribution Corporation","Distribution Expenses - Operation","5050","Underground Subtransmission Feeders - Operation",0]
[2017,"January 1, 2016 - December 31, 2016",null,"Espanola Regional Hydro Distribution Corporation","Distribution Expenses - Operation","5055","Underground Distribution Transformers - Operation",2902.38]
[2017,"January 1, 2016 - December 31, 2016",null,"Espanola Regional Hydro Distribution Corporation","Distribution Expenses - Operation","5060","Street Lighting and Signal System Expense",0]
[2017,"January 1, 2016 - December 31, 2016",null,"Espanola Regional Hydro Distribution Corporation","Distribution Expenses - Operation","5065","Meter Expense",4796.26]
[2017,"January 1, 2016 - December 31, 2016",null,"Espanola Regional Hydro Distribution Corporation","Distribution Expenses - Operation","5070","Customer Premises - Operation Labour",33515.919999999998]
[2017,"January 1, 2016 - December 31, 2016",null,"Espanola Regional Hydro Distribution Corporation","Distribution Expenses - Operation","5075","Customer Premises - Materials and Expenses",1543.39]
[2017,"January 1, 2016 - December 31, 2016",null,"Espanola Regional Hydro Distribution Corporation","Distribution Expenses - Operation","5085","Miscellaneous Distribution Expense",11093.29]
[2017,"January 1, 2016 - December 31, 2016",null,"Espanola Regional Hydro Distribution Corporation","Distribution Expenses - Operation","5090","Underground Distribution Lines and Feeders - Rental Paid",0]
[2017,"January 1, 2016 - December 31, 2016",null,"Espanola Regional Hydro Distribution Corporation","Distribution Expenses - Operation","5095","Overhead Distribution Lines and Feeders - Rental Paid",14556]
[2017,"January 1, 2016 - December 31, 2016",null,"Espanola Regional Hydro Distribution Corporation","Distribution Expenses - Operation","5096","Other Rent",0]
[2017,"January 1, 2016 - December 31, 2016",null,"Espanola Regional Hydro Distribution Corporation","Distribution Expenses - Operation Total",null,null,293867.49]
[2017,"January 1, 2016 - December 31, 2016",null,"Espanola Regional Hydro Distribution Corporation","Distribution Expenses – Maintenance","5105","Maintenance Supervision and Engineering",83753.289999999994]
[2017,"January 1, 2016 - December 31, 2016",null,"Espanola Regional Hydro Distribution Corporation","Distribution Expenses – Maintenance","5110","Maintenance of Buildings and Fixtures - Distribution Stations",6489.51]
[2017,"January 1, 2016 - December 31, 2016",null,"Espanola Regional Hydro Distribution Corporation","Distribution Expenses – Maintenance","5112","Maintenance of Transformer Station Equipment",0]
[2017,"January 1, 2016 - December 31, 2016",null,"Espanola Regional Hydro Distribution Corporation","Distribution Expenses – Maintenance","5114","Maintenance of Distribution Station Equipment",17755.95]
[2017,"January 1, 2016 - December 31, 2016",null,"Espanola Regional Hydro Distribution Corporation","Distribution Expenses – Maintenance","5120","Maintenance of Poles, Towers and Fixtures",10053.780000000001]
[2017,"January 1, 2016 - December 31, 2016",null,"Espanola Regional Hydro Distribution Corporation","Distribution Expenses – Maintenance","5125","Maintenance of Overhead Conductors and Devices",91015.19]
[2017,"January 1, 2016 - December 31, 2016",null,"Espanola Regional Hydro Distribution Corporation","Distribution Expenses – Maintenance","5130","Maintenance of Overhead Services",42973.35]
[2017,"January 1, 2016 - December 31, 2016",null,"Espanola Regional Hydro Distribution Corporation","Distribution Expenses – Maintenance","5135","Overhead Distribution Lines and Feeders - Right of Way",76406.820000000007]
[2017,"January 1, 2016 - December 31, 2016",null,"Espanola Regional Hydro Distribution Corporation","Distribution Expenses – Maintenance","5145","Maintenance of Underground Conduit",172.67]
[2017,"January 1, 2016 - December 31, 2016",null,"Espanola Regional Hydro Distribution Corporation","Distribution Expenses – Maintenance","5150","Maintenance of Underground Conductors and Devices",15737.05]
[2017,"January 1, 2016 - December 31, 2016",null,"Espanola Regional Hydro Distribution Corporation","Distribution Expenses – Maintenance","5155","Maintenance of Underground Services",0]
[2017,"January 1, 2016 - December 31, 2016",null,"Espanola Regional Hydro Distribution Corporation","Distribution Expenses – Maintenance","5160","Maintenance of Line Transformers",5468.67]
[2017,"January 1, 2016 - December 31, 2016",null,"Espanola Regional Hydro Distribution Corporation","Distribution Expenses – Maintenance","5165","Maintenance of Street Lighting and Signal Systems",0]
[2017,"January 1, 2016 - December 31, 2016",null,"Espanola Regional Hydro Distribution Corporation","Distribution Expenses – Maintenance","5170","Sentinel Lights - Labour",175.28]
[2017,"January 1, 2016 - December 31, 2016",null,"Espanola Regional Hydro Distribution Corporation","Distribution Expenses – Maintenance","5172","Sentinel Lights - Materials and Expenses",21]
[2017,"January 1, 2016 - December 31, 2016",null,"Espanola Regional Hydro Distribution Corporation","Distribution Expenses – Maintenance","5175","Maintenance of Meters",3192.58]
[2017,"January 1, 2016 - December 31, 2016",null,"Espanola Regional Hydro Distribution Corporation","Distribution Expenses – Maintenance","5178","Customer Installations Expenses- Leased Property",0]
[2017,"January 1, 2016 - December 31, 2016",null,"Espanola Regional Hydro Distribution Corporation","Distribution Expenses – Maintenance","5195","Maintenance of Other Installations on Customer Premises",0]
[2017,"January 1, 2016 - December 31, 2016",null,"Espanola Regional Hydro Distribution Corporation","Distribution Expenses – Maintenance Total",null,null,353215.14]
[2017,"January 1, 2016 - December 31, 2016",null,"Espanola Regional Hydro Distribution Corporation","Other Expenses","5205","Purchase of Transmission and System Services",0]
[2017,"January 1, 2016 - December 31, 2016",null,"Espanola Regional Hydro Distribution Corporation","Other Expenses","5210","Transmission Charges",0]
[2017,"January 1, 2016 - December 31, 2016",null,"Espanola Regional Hydro Distribution Corporation","Other Expenses","5215","Transmission Charges Recovered",0]
[2017,"January 1, 2016 - December 31, 2016",null,"Espanola Regional Hydro Distribution Corporation","Other Expenses Total",null,null,0]
[2017,"January 1, 2016 - December 31, 2016",null,"Essex Powerlines Corporation","Administrative and General Expenses","5505","Supervision",0]
[2017,"January 1, 2016 - December 31, 2016",null,"Essex Powerlines Corporation","Administrative and General Expenses","5510","Demonstrating and Selling Expense",0]
[2017,"January 1, 2016 - December 31, 2016",null,"Essex Powerlines Corporation","Administrative and General Expenses","5515","Advertising Expense",0]
[2017,"January 1, 2016 - December 31, 2016",null,"Essex Powerlines Corporation","Administrative and General Expenses","5520","Miscellaneous Sales Expense",0]
[2017,"January 1, 2016 - December 31, 2016",null,"Essex Powerlines Corporation","Administrative and General Expenses","5605","Executive Salaries and Expenses",371115]
[2017,"January 1, 2016 - December 31, 2016",null,"Essex Powerlines Corporation","Administrative and General Expenses","5610","Management Salaries and Expenses",1344337.14]
[2017,"January 1, 2016 - December 31, 2016",null,"Essex Powerlines Corporation","Administrative and General Expenses","5615","General Administrative Salaries and Expenses",234839.49]
[2017,"January 1, 2016 - December 31, 2016",null,"Essex Powerlines Corporation","Administrative and General Expenses","5620","Office Supplies and Expenses",402557.75]
[2017,"January 1, 2016 - December 31, 2016",null,"Essex Powerlines Corporation","Administrative and General Expenses","5625","Administrative Expense Transferred/Credit",0]
[2017,"January 1, 2016 - December 31, 2016",null,"Essex Powerlines Corporation","Administrative and General Expenses","5630","Outside Services Employed",64134.5]
[2017,"January 1, 2016 - December 31, 2016",null,"Essex Powerlines Corporation","Administrative and General Expenses","5635","Property Insurance",18943.52]
[2017,"January 1, 2016 - December 31, 2016",null,"Essex Powerlines Corporation","Administrative and General Expenses","5640","Injuries and Damages",42396.17]
[2017,"January 1, 2016 - December 31, 2016",null,"Essex Powerlines Corporation","Administrative and General Expenses","5645","OMERS Pensions and Benefits",203371]
[2017,"January 1, 2016 - December 31, 2016",null,"Essex Powerlines Corporation","Administrative and General Expenses","5646","Employee Pensions and OPEB",0]
[2017,"January 1, 2016 - December 31, 2016",null,"Essex Powerlines Corporation","Administrative and General Expenses","5647","Employee Sick Leave",0]
[2017,"January 1, 2016 - December 31, 2016",null,"Essex Powerlines Corporation","Administrative and General Expenses","5650","Franchise Requirements",0]
[2017,"January 1, 2016 - December 31, 2016",null,"Essex Powerlines Corporation","Administrative and General Expenses","5655","Regulatory Expenses",124953.32]
[2017,"January 1, 2016 - December 31, 2016",null,"Essex Powerlines Corporation","Administrative and General Expenses","5660","General Advertising Expenses",0]
[2017,"January 1, 2016 - December 31, 2016",null,"Essex Powerlines Corporation","Administrative and General Expenses","5665","Miscellaneous General Expenses",95944.09]
[2017,"January 1, 2016 - December 31, 2016",null,"Essex Powerlines Corporation","Administrative and General Expenses","5670","Rent",0]
[2017,"January 1, 2016 - December 31, 2016",null,"Essex Powerlines Corporation","Administrative and General Expenses","5672","Lease Payment Expense",0]
[2017,"January 1, 2016 - December 31, 2016",null,"Essex Powerlines Corporation","Administrative and General Expenses","5675","Maintenance of General Plant",208500.9]
[2017,"January 1, 2016 - December 31, 2016",null,"Essex Powerlines Corporation","Administrative and General Expenses","5680","Electrical Safety Authority Fees",12375.76]
[2017,"January 1, 2016 - December 31, 2016",null,"Essex Powerlines Corporation","Administrative and General Expenses","5681","Special Purpose Charge Expense",0]
[2017,"January 1, 2016 - December 31, 2016",null,"Essex Powerlines Corporation","Administrative and General Expenses","5685","Independent Market Operator Fees and Penalties",0]
[2017,"January 1, 2016 - December 31, 2016",null,"Essex Powerlines Corporation","Administrative and General Expenses","5695","OM&A Contra",0]
[2017,"January 1, 2016 - December 31, 2016",null,"Essex Powerlines Corporation","Administrative and General Expenses Total",null,null,3123468.64]
[2017,"January 1, 2016 - December 31, 2016",null,"Essex Powerlines Corporation","Billing and Collecting","5305","Supervision",187518.75]
[2017,"January 1, 2016 - December 31, 2016",null,"Essex Powerlines Corporation","Billing and Collecting","5310","Meter Reading Expense",234570.62]
[2017,"January 1, 2016 - December 31, 2016",null,"Essex Powerlines Corporation","Billing and Collecting","5315","Customer Billing",623072.77]
[2017,"January 1, 2016 - December 31, 2016",null,"Essex Powerlines Corporation","Billing and Collecting","5320","Collecting",122141.97]
[2017,"January 1, 2016 - December 31, 2016",null,"Essex Powerlines Corporation","Billing and Collecting","5325","Collecting- Cash Over and Short",0]
[2017,"January 1, 2016 - December 31, 2016",null,"Essex Powerlines Corporation","Billing and Collecting","5330","Collection Charges",63.9]
[2017,"January 1, 2016 - December 31, 2016",null,"Essex Powerlines Corporation","Billing and Collecting","5335","Bad Debt Expense",150478.15]
[2017,"January 1, 2016 - December 31, 2016",null,"Essex Powerlines Corporation","Billing and Collecting","5340","Miscellaneous Customer Accounts Expenses",30402.9]
[2017,"January 1, 2016 - December 31, 2016",null,"Essex Powerlines Corporation","Billing and Collecting Total",null,null,1348249.06]
[2017,"January 1, 2016 - December 31, 2016",null,"Essex Powerlines Corporation","Community Relations","5405","Supervision",0]
[2017,"January 1, 2016 - December 31, 2016",null,"Essex Powerlines Corporation","Community Relations","5410","Community Relations - Sundry",6482.32]
[2017,"January 1, 2016 - December 31, 2016",null,"Essex Powerlines Corporation","Community Relations","5415","Energy Conservation",0]
[2017,"January 1, 2016 - December 31, 2016",null,"Essex Powerlines Corporation","Community Relations","5420","Community Safety Program",0]
[2017,"January 1, 2016 - December 31, 2016",null,"Essex Powerlines Corporation","Community Relations","5425","Miscellaneous Customer Service and Informational Expenses",0]
[2017,"January 1, 2016 - December 31, 2016",null,"Essex Powerlines Corporation","Community Relations Total",null,null,6482.32]
[2017,"January 1, 2016 - December 31, 2016",null,"Essex Powerlines Corporation","Distribution Expenses - Operation","5005","Operation Supervision and Engineering",74046.03327]
[2017,"January 1, 2016 - December 31, 2016",null,"Essex Powerlines Corporation","Distribution Expenses - Operation","5010","Load Dispatching",11704.879349999999]
[2017,"January 1, 2016 - December 31, 2016",null,"Essex Powerlines Corporation","Distribution Expenses - Operation","5012","Station Buildings and Fixtures Expense",0]
[2017,"January 1, 2016 - December 31, 2016",null,"Essex Powerlines Corporation","Distribution Expenses - Operation","5014","Transformer Station Equipment - Operation Labour",0]
[2017,"January 1, 2016 - December 31, 2016",null,"Essex Powerlines Corporation","Distribution Expenses - Operation","5015","Transformer Station Equipment - Operation Supplies and Expenses",0]
[2017,"January 1, 2016 - December 31, 2016",null,"Essex Powerlines Corporation","Distribution Expenses - Operation","5016","Distribution Station Equipment - Operation Labour",0]
[2017,"January 1, 2016 - December 31, 2016",null,"Essex Powerlines Corporation","Distribution Expenses - Operation","5017","Distribution Station Equipment - Operation Supplies and Expenses",0]
[2017,"January 1, 2016 - December 31, 2016",null,"Essex Powerlines Corporation","Distribution Expenses - Operation","5020","Overhead Distribution Lines and Feeders - Operation Labour",93011.045329999994]
[2017,"January 1, 2016 - December 31, 2016",null,"Essex Powerlines Corporation","Distribution Expenses - Operation","5025","Overhead Distribution Lines and Feeders - Operation Supplies and Expenses",38431.01311]
[2017,"January 1, 2016 - December 31, 2016",null,"Essex Powerlines Corporation","Distribution Expenses - Operation","5030","Overhead Subtransmission Feeders - Operation",0]
[2017,"January 1, 2016 - December 31, 2016",null,"Essex Powerlines Corporation","Distribution Expenses - Operation","5035","Overhead Distribution Transformers- Operation",1859.30195]
[2017,"January 1, 2016 - December 31, 2016",null,"Essex Powerlines Corporation","Distribution Expenses - Operation","5040","Underground Distribution Lines and Feeders - Operation Labour",43027.008580000002]
[2017,"January 1, 2016 - December 31, 2016",null,"Essex Powerlines Corporation","Distribution Expenses - Operation","5045","Underground Distribution Lines and Feeders - Operation Supplies and Expenses",44330.553679999997]
[2017,"January 1, 2016 - December 31, 2016",null,"Essex Powerlines Corporation","Distribution Expenses - Operation","5050","Underground Subtransmission Feeders - Operation",0]
[2017,"January 1, 2016 - December 31, 2016",null,"Essex Powerlines Corporation","Distribution Expenses - Operation","5055","Underground Distribution Transformers - Operation",39665.818550000004]
[2017,"January 1, 2016 - December 31, 2016",null,"Essex Powerlines Corporation","Distribution Expenses - Operation","5060","Street Lighting and Signal System Expense",0]
[2017,"January 1, 2016 - December 31, 2016",null,"Essex Powerlines Corporation","Distribution Expenses - Operation","5065","Meter Expense",167380.23730000001]
[2017,"January 1, 2016 - December 31, 2016",null,"Essex Powerlines Corporation","Distribution Expenses - Operation","5070","Customer Premises - Operation Labour",378711.62]
[2017,"January 1, 2016 - December 31, 2016",null,"Essex Powerlines Corporation","Distribution Expenses - Operation","5075","Customer Premises - Materials and Expenses",3503]
[2017,"January 1, 2016 - December 31, 2016",null,"Essex Powerlines Corporation","Distribution Expenses - Operation","5085","Miscellaneous Distribution Expense",48172.112159999997]
[2017,"January 1, 2016 - December 31, 2016",null,"Essex Powerlines Corporation","Distribution Expenses - Operation","5090","Underground Distribution Lines and Feeders - Rental Paid",0]
[2017,"January 1, 2016 - December 31, 2016",null,"Essex Powerlines Corporation","Distribution Expenses - Operation","5095","Overhead Distribution Lines and Feeders - Rental Paid",0]
[2017,"January 1, 2016 - December 31, 2016",null,"Essex Powerlines Corporation","Distribution Expenses - Operation","5096","Other Rent",106446.6618]
[2017,"January 1, 2016 - December 31, 2016",null,"Essex Powerlines Corporation","Distribution Expenses - Operation Total",null,null,1050289.2850800001]
[2017,"January 1, 2016 - December 31, 2016",null,"Essex Powerlines Corporation","Distribution Expenses – Maintenance","5105","Maintenance Supervision and Engineering",42109.131150000001]
[2017,"January 1, 2016 - December 31, 2016",null,"Essex Powerlines Corporation","Distribution Expenses – Maintenance","5110","Maintenance of Buildings and Fixtures - Distribution Stations",0]
[2017,"January 1, 2016 - December 31, 2016",null,"Essex Powerlines Corporation","Distribution Expenses – Maintenance","5112","Maintenance of Transformer Station Equipment",0]
[2017,"January 1, 2016 - December 31, 2016",null,"Essex Powerlines Corporation","Distribution Expenses – Maintenance","5114","Maintenance of Distribution Station Equipment",0]
[2017,"January 1, 2016 - December 31, 2016",null,"Essex Powerlines Corporation","Distribution Expenses – Maintenance","5120","Maintenance of Poles, Towers and Fixtures",141755.82620000001]
[2017,"January 1, 2016 - December 31, 2016",null,"Essex Powerlines Corporation","Distribution Expenses – Maintenance","5125","Maintenance of Overhead Conductors and Devices",142107.09030000001]
[2017,"January 1, 2016 - December 31, 2016",null,"Essex Powerlines Corporation","Distribution Expenses – Maintenance","5130","Maintenance of Overhead Services",174752.13089999999]
[2017,"January 1, 2016 - December 31, 2016",null,"Essex Powerlines Corporation","Distribution Expenses – Maintenance","5135","Overhead Distribution Lines and Feeders - Right of Way",593112.93909999996]
[2017,"January 1, 2016 - December 31, 2016",null,"Essex Powerlines Corporation","Distribution Expenses – Maintenance","5145","Maintenance of Underground Conduit",0]
[2017,"January 1, 2016 - December 31, 2016",null,"Essex Powerlines Corporation","Distribution Expenses – Maintenance","5150","Maintenance of Underground Conductors and Devices",94057.298840000003]
[2017,"January 1, 2016 - December 31, 2016",null,"Essex Powerlines Corporation","Distribution Expenses – Maintenance","5155","Maintenance of Underground Services",187508.2133]
[2017,"January 1, 2016 - December 31, 2016",null,"Essex Powerlines Corporation","Distribution Expenses – Maintenance","5160","Maintenance of Line Transformers",64304.138529999997]
[2017,"January 1, 2016 - December 31, 2016",null,"Essex Powerlines Corporation","Distribution Expenses – Maintenance","5165","Maintenance of Street Lighting and Signal Systems",0]
[2017,"January 1, 2016 - December 31, 2016",null,"Essex Powerlines Corporation","Distribution Expenses – Maintenance","5170","Sentinel Lights - Labour",0]
[2017,"January 1, 2016 - December 31, 2016",null,"Essex Powerlines Corporation","Distribution Expenses – Maintenance","5172","Sentinel Lights - Materials and Expenses",0]
[2017,"January 1, 2016 - December 31, 2016",null,"Essex Powerlines Corporation","Distribution Expenses – Maintenance","5175","Maintenance of Meters",0]
[2017,"January 1, 2016 - December 31, 2016",null,"Essex Powerlines Corporation","Distribution Expenses – Maintenance","5178","Customer Installations Expenses- Leased Property",0]
[2017,"January 1, 2016 - December 31, 2016",null,"Essex Powerlines Corporation","Distribution Expenses – Maintenance","5195","Maintenance of Other Installations on Customer Premises",0]
[2017,"January 1, 2016 - December 31, 2016",null,"Essex Powerlines Corporation","Distribution Expenses – Maintenance Total",null,null,1439706.76832]
[2017,"January 1, 2016 - December 31, 2016",null,"Essex Powerlines Corporation","Other Expenses","5205","Purchase of Transmission and System Services",0]
[2017,"January 1, 2016 - December 31, 2016",null,"Essex Powerlines Corporation","Other Expenses","5210","Transmission Charges",0]
[2017,"January 1, 2016 - December 31, 2016",null,"Essex Powerlines Corporation","Other Expenses","5215","Transmission Charges Recovered",0]
[2017,"January 1, 2016 - December 31, 2016",null,"Essex Powerlines Corporation","Other Expenses Total",null,null,0]
[2017,"January 1, 2016 - December 31, 2016",null,"Festival Hydro Inc.","Administrative and General Expenses","5505","Supervision",0]
[2017,"January 1, 2016 - December 31, 2016",null,"Festival Hydro Inc.","Administrative and General Expenses","5510","Demonstrating and Selling Expense",0]
[2017,"January 1, 2016 - December 31, 2016",null,"Festival Hydro Inc.","Administrative and General Expenses","5515","Advertising Expense",0]
[2017,"January 1, 2016 - December 31, 2016",null,"Festival Hydro Inc.","Administrative and General Expenses","5520","Miscellaneous Sales Expense",0]
[2017,"January 1, 2016 - December 31, 2016",null,"Festival Hydro Inc.","Administrative and General Expenses","5605","Executive Salaries and Expenses",686040.34]
[2017,"January 1, 2016 - December 31, 2016",null,"Festival Hydro Inc.","Administrative and General Expenses","5610","Management Salaries and Expenses",0]
[2017,"January 1, 2016 - December 31, 2016",null,"Festival Hydro Inc.","Administrative and General Expenses","5615","General Administrative Salaries and Expenses",445575.11]
[2017,"January 1, 2016 - December 31, 2016",null,"Festival Hydro Inc.","Administrative and General Expenses","5620","Office Supplies and Expenses",197716.79]
[2017,"January 1, 2016 - December 31, 2016",null,"Festival Hydro Inc.","Administrative and General Expenses","5625","Administrative Expense Transferred/Credit",0]
[2017,"January 1, 2016 - December 31, 2016",null,"Festival Hydro Inc.","Administrative and General Expenses","5630","Outside Services Employed",371172.1]
[2017,"January 1, 2016 - December 31, 2016",null,"Festival Hydro Inc.","Administrative and General Expenses","5635","Property Insurance",0]
[2017,"January 1, 2016 - December 31, 2016",null,"Festival Hydro Inc.","Administrative and General Expenses","5640","Injuries and Damages",47179.71]
[2017,"January 1, 2016 - December 31, 2016",null,"Festival Hydro Inc.","Administrative and General Expenses","5645","OMERS Pensions and Benefits",84099.75]
[2017,"January 1, 2016 - December 31, 2016",null,"Festival Hydro Inc.","Administrative and General Expenses","5646","Employee Pensions and OPEB",0]
[2017,"January 1, 2016 - December 31, 2016",null,"Festival Hydro Inc.","Administrative and General Expenses","5647","Employee Sick Leave",0]
[2017,"January 1, 2016 - December 31, 2016",null,"Festival Hydro Inc.","Administrative and General Expenses","5650","Franchise Requirements",0]
[2017,"January 1, 2016 - December 31, 2016",null,"Festival Hydro Inc.","Administrative and General Expenses","5655","Regulatory Expenses",165982.26999999999]
[2017,"January 1, 2016 - December 31, 2016",null,"Festival Hydro Inc.","Administrative and General Expenses","5660","General Advertising Expenses",2028.05]
[2017,"January 1, 2016 - December 31, 2016",null,"Festival Hydro Inc.","Administrative and General Expenses","5665","Miscellaneous General Expenses",67743.070000000007]
[2017,"January 1, 2016 - December 31, 2016",null,"Festival Hydro Inc.","Administrative and General Expenses","5670","Rent",0]
[2017,"January 1, 2016 - December 31, 2016",null,"Festival Hydro Inc.","Administrative and General Expenses","5672","Lease Payment Expense",0]
[2017,"January 1, 2016 - December 31, 2016",null,"Festival Hydro Inc.","Administrative and General Expenses","5675","Maintenance of General Plant",156157.32999999999]
[2017,"January 1, 2016 - December 31, 2016",null,"Festival Hydro Inc.","Administrative and General Expenses","5680","Electrical Safety Authority Fees",10483.629999999999]
[2017,"January 1, 2016 - December 31, 2016",null,"Festival Hydro Inc.","Administrative and General Expenses","5681","Special Purpose Charge Expense",0]
[2017,"January 1, 2016 - December 31, 2016",null,"Festival Hydro Inc.","Administrative and General Expenses","5685","Independent Market Operator Fees and Penalties",0]
[2017,"January 1, 2016 - December 31, 2016",null,"Festival Hydro Inc.","Administrative and General Expenses","5695","OM&A Contra",0]
[2017,"January 1, 2016 - December 31, 2016",null,"Festival Hydro Inc.","Administrative and General Expenses Total",null,null,2234178.15]
[2017,"January 1, 2016 - December 31, 2016",null,"Festival Hydro Inc.","Billing and Collecting","5305","Supervision",27534.62]
[2017,"January 1, 2016 - December 31, 2016",null,"Festival Hydro Inc.","Billing and Collecting","5310","Meter Reading Expense",234863.39]
[2017,"January 1, 2016 - December 31, 2016",null,"Festival Hydro Inc.","Billing and Collecting","5315","Customer Billing",623205.30000000005]
[2017,"January 1, 2016 - December 31, 2016",null,"Festival Hydro Inc.","Billing and Collecting","5320","Collecting",182156.22]
[2017,"January 1, 2016 - December 31, 2016",null,"Festival Hydro Inc.","Billing and Collecting","5325","Collecting- Cash Over and Short",0]
[2017,"January 1, 2016 - December 31, 2016",null,"Festival Hydro Inc.","Billing and Collecting","5330","Collection Charges",0]
[2017,"January 1, 2016 - December 31, 2016",null,"Festival Hydro Inc.","Billing and Collecting","5335","Bad Debt Expense",73502]
[2017,"January 1, 2016 - December 31, 2016",null,"Festival Hydro Inc.","Billing and Collecting","5340","Miscellaneous Customer Accounts Expenses",154477.18]
[2017,"January 1, 2016 - December 31, 2016",null,"Festival Hydro Inc.","Billing and Collecting Total",null,null,1295738.71]
[2017,"January 1, 2016 - December 31, 2016",null,"Festival Hydro Inc.","Community Relations","5405","Supervision",1431.67]
[2017,"January 1, 2016 - December 31, 2016",null,"Festival Hydro Inc.","Community Relations","5410","Community Relations - Sundry",0]
[2017,"January 1, 2016 - December 31, 2016",null,"Festival Hydro Inc.","Community Relations","5415","Energy Conservation",0]
[2017,"January 1, 2016 - December 31, 2016",null,"Festival Hydro Inc.","Community Relations","5420","Community Safety Program",8468.36]
[2017,"January 1, 2016 - December 31, 2016",null,"Festival Hydro Inc.","Community Relations","5425","Miscellaneous Customer Service and Informational Expenses",0]
[2017,"January 1, 2016 - December 31, 2016",null,"Festival Hydro Inc.","Community Relations Total",null,null,9900.0300000000007]
[2017,"January 1, 2016 - December 31, 2016",null,"Festival Hydro Inc.","Distribution Expenses - Operation","5005","Operation Supervision and Engineering",199214.17]
[2017,"January 1, 2016 - December 31, 2016",null,"Festival Hydro Inc.","Distribution Expenses - Operation","5010","Load Dispatching",54776.63]
[2017,"January 1, 2016 - December 31, 2016",null,"Festival Hydro Inc.","Distribution Expenses - Operation","5012","Station Buildings and Fixtures Expense",18169.73]
[2017,"January 1, 2016 - December 31, 2016",null,"Festival Hydro Inc.","Distribution Expenses - Operation","5014","Transformer Station Equipment - Operation Labour",603.22]
[2017,"January 1, 2016 - December 31, 2016",null,"Festival Hydro Inc.","Distribution Expenses - Operation","5015","Transformer Station Equipment - Operation Supplies and Expenses",90762.16]
[2017,"January 1, 2016 - December 31, 2016",null,"Festival Hydro Inc.","Distribution Expenses - Operation","5016","Distribution Station Equipment - Operation Labour",82.6]
[2017,"January 1, 2016 - December 31, 2016",null,"Festival Hydro Inc.","Distribution Expenses - Operation","5017","Distribution Station Equipment - Operation Supplies and Expenses",0]
[2017,"January 1, 2016 - December 31, 2016",null,"Festival Hydro Inc.","Distribution Expenses - Operation","5020","Overhead Distribution Lines and Feeders - Operation Labour",11928.54]
[2017,"January 1, 2016 - December 31, 2016",null,"Festival Hydro Inc.","Distribution Expenses - Operation","5025","Overhead Distribution Lines and Feeders - Operation Supplies and Expenses",43541.97]
[2017,"January 1, 2016 - December 31, 2016",null,"Festival Hydro Inc.","Distribution Expenses - Operation","5030","Overhead Subtransmission Feeders - Operation",0]
[2017,"January 1, 2016 - December 31, 2016",null,"Festival Hydro Inc.","Distribution Expenses - Operation","5035","Overhead Distribution Transformers- Operation",5639.91]
[2017,"January 1, 2016 - December 31, 2016",null,"Festival Hydro Inc.","Distribution Expenses - Operation","5040","Underground Distribution Lines and Feeders - Operation Labour",3731.97]
[2017,"January 1, 2016 - December 31, 2016",null,"Festival Hydro Inc.","Distribution Expenses - Operation","5045","Underground Distribution Lines and Feeders - Operation Supplies and Expenses",222.96]
[2017,"January 1, 2016 - December 31, 2016",null,"Festival Hydro Inc.","Distribution Expenses - Operation","5050","Underground Subtransmission Feeders - Operation",0]
[2017,"January 1, 2016 - December 31, 2016",null,"Festival Hydro Inc.","Distribution Expenses - Operation","5055","Underground Distribution Transformers - Operation",6515.72]
[2017,"January 1, 2016 - December 31, 2016",null,"Festival Hydro Inc.","Distribution Expenses - Operation","5060","Street Lighting and Signal System Expense",0]
[2017,"January 1, 2016 - December 31, 2016",null,"Festival Hydro Inc.","Distribution Expenses - Operation","5065","Meter Expense",264761.08]
[2017,"January 1, 2016 - December 31, 2016",null,"Festival Hydro Inc.","Distribution Expenses - Operation","5070","Customer Premises - Operation Labour",182948.88]
[2017,"January 1, 2016 - December 31, 2016",null,"Festival Hydro Inc.","Distribution Expenses - Operation","5075","Customer Premises - Materials and Expenses",7057.68]
[2017,"January 1, 2016 - December 31, 2016",null,"Festival Hydro Inc.","Distribution Expenses - Operation","5085","Miscellaneous Distribution Expense",6372.53]
[2017,"January 1, 2016 - December 31, 2016",null,"Festival Hydro Inc.","Distribution Expenses - Operation","5090","Underground Distribution Lines and Feeders - Rental Paid",0]
[2017,"January 1, 2016 - December 31, 2016",null,"Festival Hydro Inc.","Distribution Expenses - Operation","5095","Overhead Distribution Lines and Feeders - Rental Paid",7988.51]
[2017,"January 1, 2016 - December 31, 2016",null,"Festival Hydro Inc.","Distribution Expenses - Operation","5096","Other Rent",0]
[2017,"January 1, 2016 - December 31, 2016",null,"Festival Hydro Inc.","Distribution Expenses - Operation Total",null,null,904318.26]
[2017,"January 1, 2016 - December 31, 2016",null,"Festival Hydro Inc.","Distribution Expenses – Maintenance","5105","Maintenance Supervision and Engineering",0]
[2017,"January 1, 2016 - December 31, 2016",null,"Festival Hydro Inc.","Distribution Expenses – Maintenance","5110","Maintenance of Buildings and Fixtures - Distribution Stations",8741.2999999999993]
[2017,"January 1, 2016 - December 31, 2016",null,"Festival Hydro Inc.","Distribution Expenses – Maintenance","5112","Maintenance of Transformer Station Equipment",0]
[2017,"January 1, 2016 - December 31, 2016",null,"Festival Hydro Inc.","Distribution Expenses – Maintenance","5114","Maintenance of Distribution Station Equipment",702.86]
[2017,"January 1, 2016 - December 31, 2016",null,"Festival Hydro Inc.","Distribution Expenses – Maintenance","5120","Maintenance of Poles, Towers and Fixtures",11218.16]
[2017,"January 1, 2016 - December 31, 2016",null,"Festival Hydro Inc.","Distribution Expenses – Maintenance","5125","Maintenance of Overhead Conductors and Devices",97042.29]
[2017,"January 1, 2016 - December 31, 2016",null,"Festival Hydro Inc.","Distribution Expenses – Maintenance","5130","Maintenance of Overhead Services",685194.61]
[2017,"January 1, 2016 - December 31, 2016",null,"Festival Hydro Inc.","Distribution Expenses – Maintenance","5135","Overhead Distribution Lines and Feeders - Right of Way",146265.51]
[2017,"January 1, 2016 - December 31, 2016",null,"Festival Hydro Inc.","Distribution Expenses – Maintenance","5145","Maintenance of Underground Conduit",11088.33]
[2017,"January 1, 2016 - December 31, 2016",null,"Festival Hydro Inc.","Distribution Expenses – Maintenance","5150","Maintenance of Underground Conductors and Devices",99791.8]
[2017,"January 1, 2016 - December 31, 2016",null,"Festival Hydro Inc.","Distribution Expenses – Maintenance","5155","Maintenance of Underground Services",54669.760000000002]
[2017,"January 1, 2016 - December 31, 2016",null,"Festival Hydro Inc.","Distribution Expenses – Maintenance","5160","Maintenance of Line Transformers",18146.55]
[2017,"January 1, 2016 - December 31, 2016",null,"Festival Hydro Inc.","Distribution Expenses – Maintenance","5165","Maintenance of Street Lighting and Signal Systems",0]
[2017,"January 1, 2016 - December 31, 2016",null,"Festival Hydro Inc.","Distribution Expenses – Maintenance","5170","Sentinel Lights - Labour",0]
[2017,"January 1, 2016 - December 31, 2016",null,"Festival Hydro Inc.","Distribution Expenses – Maintenance","5172","Sentinel Lights - Materials and Expenses",0]
[2017,"January 1, 2016 - December 31, 2016",null,"Festival Hydro Inc.","Distribution Expenses – Maintenance","5175","Maintenance of Meters",95891.04]
[2017,"January 1, 2016 - December 31, 2016",null,"Festival Hydro Inc.","Distribution Expenses – Maintenance","5178","Customer Installations Expenses- Leased Property",0]
[2017,"January 1, 2016 - December 31, 2016",null,"Festival Hydro Inc.","Distribution Expenses – Maintenance","5195","Maintenance of Other Installations on Customer Premises",0]
[2017,"January 1, 2016 - December 31, 2016",null,"Festival Hydro Inc.","Distribution Expenses – Maintenance Total",null,null,1228752.21]
[2017,"January 1, 2016 - December 31, 2016",null,"Festival Hydro Inc.","Other Expenses","5205","Purchase of Transmission and System Services",0]
[2017,"January 1, 2016 - December 31, 2016",null,"Festival Hydro Inc.","Other Expenses","5210","Transmission Charges",0]
[2017,"January 1, 2016 - December 31, 2016",null,"Festival Hydro Inc.","Other Expenses","5215","Transmission Charges Recovered",0]
[2017,"January 1, 2016 - December 31, 2016",null,"Festival Hydro Inc.","Other Expenses Total",null,null,0]
[2017,"January 1, 2016 - December 31, 2016",null,"Fort Frances Power Corporation","Administrative and General Expenses","5505","Supervision",0]
[2017,"January 1, 2016 - December 31, 2016",null,"Fort Frances Power Corporation","Administrative and General Expenses","5510","Demonstrating and Selling Expense",0]
[2017,"January 1, 2016 - December 31, 2016",null,"Fort Frances Power Corporation","Administrative and General Expenses","5515","Advertising Expense",0]
[2017,"January 1, 2016 - December 31, 2016",null,"Fort Frances Power Corporation","Administrative and General Expenses","5520","Miscellaneous Sales Expense",0]
[2017,"January 1, 2016 - December 31, 2016",null,"Fort Frances Power Corporation","Administrative and General Expenses","5605","Executive Salaries and Expenses",179509.03]
[2017,"January 1, 2016 - December 31, 2016",null,"Fort Frances Power Corporation","Administrative and General Expenses","5610","Management Salaries and Expenses",0]
[2017,"January 1, 2016 - December 31, 2016",null,"Fort Frances Power Corporation","Administrative and General Expenses","5615","General Administrative Salaries and Expenses",158489.64000000001]
[2017,"January 1, 2016 - December 31, 2016",null,"Fort Frances Power Corporation","Administrative and General Expenses","5620","Office Supplies and Expenses",13126.44]
[2017,"January 1, 2016 - December 31, 2016",null,"Fort Frances Power Corporation","Administrative and General Expenses","5625","Administrative Expense Transferred/Credit",-4310.88]
[2017,"January 1, 2016 - December 31, 2016",null,"Fort Frances Power Corporation","Administrative and General Expenses","5630","Outside Services Employed",92600.71]
[2017,"January 1, 2016 - December 31, 2016",null,"Fort Frances Power Corporation","Administrative and General Expenses","5635","Property Insurance",13329.79]
[2017,"January 1, 2016 - December 31, 2016",null,"Fort Frances Power Corporation","Administrative and General Expenses","5640","Injuries and Damages",0]
[2017,"January 1, 2016 - December 31, 2016",null,"Fort Frances Power Corporation","Administrative and General Expenses","5645","OMERS Pensions and Benefits",0]
[2017,"January 1, 2016 - December 31, 2016",null,"Fort Frances Power Corporation","Administrative and General Expenses","5646","Employee Pensions and OPEB",0]
[2017,"January 1, 2016 - December 31, 2016",null,"Fort Frances Power Corporation","Administrative and General Expenses","5647","Employee Sick Leave",0]
[2017,"January 1, 2016 - December 31, 2016",null,"Fort Frances Power Corporation","Administrative and General Expenses","5650","Franchise Requirements",0]
[2017,"January 1, 2016 - December 31, 2016",null,"Fort Frances Power Corporation","Administrative and General Expenses","5655","Regulatory Expenses",17371.87]
[2017,"January 1, 2016 - December 31, 2016",null,"Fort Frances Power Corporation","Administrative and General Expenses","5660","General Advertising Expenses",6283.78]
[2017,"January 1, 2016 - December 31, 2016",null,"Fort Frances Power Corporation","Administrative and General Expenses","5665","Miscellaneous General Expenses",69127.100000000006]
[2017,"January 1, 2016 - December 31, 2016",null,"Fort Frances Power Corporation","Administrative and General Expenses","5670","Rent",13284]
[2017,"January 1, 2016 - December 31, 2016",null,"Fort Frances Power Corporation","Administrative and General Expenses","5672","Lease Payment Expense",0]
[2017,"January 1, 2016 - December 31, 2016",null,"Fort Frances Power Corporation","Administrative and General Expenses","5675","Maintenance of General Plant",0]
[2017,"January 1, 2016 - December 31, 2016",null,"Fort Frances Power Corporation","Administrative and General Expenses","5680","Electrical Safety Authority Fees",4966.8999999999996]
[2017,"January 1, 2016 - December 31, 2016",null,"Fort Frances Power Corporation","Administrative and General Expenses","5681","Special Purpose Charge Expense",0]
[2017,"January 1, 2016 - December 31, 2016",null,"Fort Frances Power Corporation","Administrative and General Expenses","5685","Independent Market Operator Fees and Penalties",4389.45]
[2017,"January 1, 2016 - December 31, 2016",null,"Fort Frances Power Corporation","Administrative and General Expenses","5695","OM&A Contra",0]
[2017,"January 1, 2016 - December 31, 2016",null,"Fort Frances Power Corporation","Administrative and General Expenses Total",null,null,568167.82999999996]
[2017,"January 1, 2016 - December 31, 2016",null,"Fort Frances Power Corporation","Billing and Collecting","5305","Supervision",0]
[2017,"January 1, 2016 - December 31, 2016",null,"Fort Frances Power Corporation","Billing and Collecting","5310","Meter Reading Expense",8176.76]
[2017,"January 1, 2016 - December 31, 2016",null,"Fort Frances Power Corporation","Billing and Collecting","5315","Customer Billing",159312.92000000001]
[2017,"January 1, 2016 - December 31, 2016",null,"Fort Frances Power Corporation","Billing and Collecting","5320","Collecting",102510.12]
[2017,"January 1, 2016 - December 31, 2016",null,"Fort Frances Power Corporation","Billing and Collecting","5325","Collecting- Cash Over and Short",0]
[2017,"January 1, 2016 - December 31, 2016",null,"Fort Frances Power Corporation","Billing and Collecting","5330","Collection Charges",0]
[2017,"January 1, 2016 - December 31, 2016",null,"Fort Frances Power Corporation","Billing and Collecting","5335","Bad Debt Expense",8764.4599999999991]
[2017,"January 1, 2016 - December 31, 2016",null,"Fort Frances Power Corporation","Billing and Collecting","5340","Miscellaneous Customer Accounts Expenses",0]
[2017,"January 1, 2016 - December 31, 2016",null,"Fort Frances Power Corporation","Billing and Collecting Total",null,null,278764.26]
[2017,"January 1, 2016 - December 31, 2016",null,"Fort Frances Power Corporation","Community Relations","5405","Supervision",30894.52]
[2017,"January 1, 2016 - December 31, 2016",null,"Fort Frances Power Corporation","Community Relations","5410","Community Relations - Sundry",30508.41]
[2017,"January 1, 2016 - December 31, 2016",null,"Fort Frances Power Corporation","Community Relations","5415","Energy Conservation",517.09]
[2017,"January 1, 2016 - December 31, 2016",null,"Fort Frances Power Corporation","Community Relations","5420","Community Safety Program",1944.8]
[2017,"January 1, 2016 - December 31, 2016",null,"Fort Frances Power Corporation","Community Relations","5425","Miscellaneous Customer Service and Informational Expenses",0]
[2017,"January 1, 2016 - December 31, 2016",null,"Fort Frances Power Corporation","Community Relations Total",null,null,63864.82]
[2017,"January 1, 2016 - December 31, 2016",null,"Fort Frances Power Corporation","Distribution Expenses - Operation","5005","Operation Supervision and Engineering",147824.32000000001]
[2017,"January 1, 2016 - December 31, 2016",null,"Fort Frances Power Corporation","Distribution Expenses - Operation","5010","Load Dispatching",0]
[2017,"January 1, 2016 - December 31, 2016",null,"Fort Frances Power Corporation","Distribution Expenses - Operation","5012","Station Buildings and Fixtures Expense",66895.460000000006]
[2017,"January 1, 2016 - December 31, 2016",null,"Fort Frances Power Corporation","Distribution Expenses - Operation","5014","Transformer Station Equipment - Operation Labour",6703.74]
[2017,"January 1, 2016 - December 31, 2016",null,"Fort Frances Power Corporation","Distribution Expenses - Operation","5015","Transformer Station Equipment - Operation Supplies and Expenses",8164.78]
[2017,"January 1, 2016 - December 31, 2016",null,"Fort Frances Power Corporation","Distribution Expenses - Operation","5016","Distribution Station Equipment - Operation Labour",0]
[2017,"January 1, 2016 - December 31, 2016",null,"Fort Frances Power Corporation","Distribution Expenses - Operation","5017","Distribution Station Equipment - Operation Supplies and Expenses",568.74]
[2017,"January 1, 2016 - December 31, 2016",null,"Fort Frances Power Corporation","Distribution Expenses - Operation","5020","Overhead Distribution Lines and Feeders - Operation Labour",10076.64]
[2017,"January 1, 2016 - December 31, 2016",null,"Fort Frances Power Corporation","Distribution Expenses - Operation","5025","Overhead Distribution Lines and Feeders - Operation Supplies and Expenses",5022]
[2017,"January 1, 2016 - December 31, 2016",null,"Fort Frances Power Corporation","Distribution Expenses - Operation","5030","Overhead Subtransmission Feeders - Operation",0]
[2017,"January 1, 2016 - December 31, 2016",null,"Fort Frances Power Corporation","Distribution Expenses - Operation","5035","Overhead Distribution Transformers- Operation",0]
[2017,"January 1, 2016 - December 31, 2016",null,"Fort Frances Power Corporation","Distribution Expenses - Operation","5040","Underground Distribution Lines and Feeders - Operation Labour",33300.71]
[2017,"January 1, 2016 - December 31, 2016",null,"Fort Frances Power Corporation","Distribution Expenses - Operation","5045","Underground Distribution Lines and Feeders - Operation Supplies and Expenses",5028.7299999999996]
[2017,"January 1, 2016 - December 31, 2016",null,"Fort Frances Power Corporation","Distribution Expenses - Operation","5050","Underground Subtransmission Feeders - Operation",0]
[2017,"January 1, 2016 - December 31, 2016",null,"Fort Frances Power Corporation","Distribution Expenses - Operation","5055","Underground Distribution Transformers - Operation",0]
[2017,"January 1, 2016 - December 31, 2016",null,"Fort Frances Power Corporation","Distribution Expenses - Operation","5060","Street Lighting and Signal System Expense",0]
[2017,"January 1, 2016 - December 31, 2016",null,"Fort Frances Power Corporation","Distribution Expenses - Operation","5065","Meter Expense",12451.86]
[2017,"January 1, 2016 - December 31, 2016",null,"Fort Frances Power Corporation","Distribution Expenses - Operation","5070","Customer Premises - Operation Labour",0]
[2017,"January 1, 2016 - December 31, 2016",null,"Fort Frances Power Corporation","Distribution Expenses - Operation","5075","Customer Premises - Materials and Expenses",590]
[2017,"January 1, 2016 - December 31, 2016",null,"Fort Frances Power Corporation","Distribution Expenses - Operation","5085","Miscellaneous Distribution Expense",218294.86]
[2017,"January 1, 2016 - December 31, 2016",null,"Fort Frances Power Corporation","Distribution Expenses - Operation","5090","Underground Distribution Lines and Feeders - Rental Paid",0]
[2017,"January 1, 2016 - December 31, 2016",null,"Fort Frances Power Corporation","Distribution Expenses - Operation","5095","Overhead Distribution Lines and Feeders - Rental Paid",0]
[2017,"January 1, 2016 - December 31, 2016",null,"Fort Frances Power Corporation","Distribution Expenses - Operation","5096","Other Rent",0]
[2017,"January 1, 2016 - December 31, 2016",null,"Fort Frances Power Corporation","Distribution Expenses - Operation Total",null,null,514921.84]
[2017,"January 1, 2016 - December 31, 2016",null,"Fort Frances Power Corporation","Distribution Expenses – Maintenance","5105","Maintenance Supervision and Engineering",64690.720000000001]
[2017,"January 1, 2016 - December 31, 2016",null,"Fort Frances Power Corporation","Distribution Expenses – Maintenance","5110","Maintenance of Buildings and Fixtures - Distribution Stations",0]
[2017,"January 1, 2016 - December 31, 2016",null,"Fort Frances Power Corporation","Distribution Expenses – Maintenance","5112","Maintenance of Transformer Station Equipment",24152.43]
[2017,"January 1, 2016 - December 31, 2016",null,"Fort Frances Power Corporation","Distribution Expenses – Maintenance","5114","Maintenance of Distribution Station Equipment",0]
[2017,"January 1, 2016 - December 31, 2016",null,"Fort Frances Power Corporation","Distribution Expenses – Maintenance","5120","Maintenance of Poles, Towers and Fixtures",75123.929999999993]
[2017,"January 1, 2016 - December 31, 2016",null,"Fort Frances Power Corporation","Distribution Expenses – Maintenance","5125","Maintenance of Overhead Conductors and Devices",58120.58]
[2017,"January 1, 2016 - December 31, 2016",null,"Fort Frances Power Corporation","Distribution Expenses – Maintenance","5130","Maintenance of Overhead Services",148.83000000000001]
[2017,"January 1, 2016 - December 31, 2016",null,"Fort Frances Power Corporation","Distribution Expenses – Maintenance","5135","Overhead Distribution Lines and Feeders - Right of Way",30752.27]
[2017,"January 1, 2016 - December 31, 2016",null,"Fort Frances Power Corporation","Distribution Expenses – Maintenance","5145","Maintenance of Underground Conduit",0]
[2017,"January 1, 2016 - December 31, 2016",null,"Fort Frances Power Corporation","Distribution Expenses – Maintenance","5150","Maintenance of Underground Conductors and Devices",12601.6]
[2017,"January 1, 2016 - December 31, 2016",null,"Fort Frances Power Corporation","Distribution Expenses – Maintenance","5155","Maintenance of Underground Services",0]
[2017,"January 1, 2016 - December 31, 2016",null,"Fort Frances Power Corporation","Distribution Expenses – Maintenance","5160","Maintenance of Line Transformers",0]
[2017,"January 1, 2016 - December 31, 2016",null,"Fort Frances Power Corporation","Distribution Expenses – Maintenance","5165","Maintenance of Street Lighting and Signal Systems",0]
[2017,"January 1, 2016 - December 31, 2016",null,"Fort Frances Power Corporation","Distribution Expenses – Maintenance","5170","Sentinel Lights - Labour",0]
[2017,"January 1, 2016 - December 31, 2016",null,"Fort Frances Power Corporation","Distribution Expenses – Maintenance","5172","Sentinel Lights - Materials and Expenses",0]
[2017,"January 1, 2016 - December 31, 2016",null,"Fort Frances Power Corporation","Distribution Expenses – Maintenance","5175","Maintenance of Meters",41600.620000000003]
[2017,"January 1, 2016 - December 31, 2016",null,"Fort Frances Power Corporation","Distribution Expenses – Maintenance","5178","Customer Installations Expenses- Leased Property",0]
[2017,"January 1, 2016 - December 31, 2016",null,"Fort Frances Power Corporation","Distribution Expenses – Maintenance","5195","Maintenance of Other Installations on Customer Premises",0]
[2017,"January 1, 2016 - December 31, 2016",null,"Fort Frances Power Corporation","Distribution Expenses – Maintenance Total",null,null,307190.98]
[2017,"January 1, 2016 - December 31, 2016",null,"Fort Frances Power Corporation","Other Expenses","5205","Purchase of Transmission and System Services",0]
[2017,"January 1, 2016 - December 31, 2016",null,"Fort Frances Power Corporation","Other Expenses","5210","Transmission Charges",0]
[2017,"January 1, 2016 - December 31, 2016",null,"Fort Frances Power Corporation","Other Expenses","5215","Transmission Charges Recovered",0]
[2017,"January 1, 2016 - December 31, 2016",null,"Fort Frances Power Corporation","Other Expenses Total",null,null,0]
[2017,"January 1, 2016 - December 31, 2016",null,"Greater Sudbury Hydro Inc.","Administrative and General Expenses","5505","Supervision",0]
[2017,"January 1, 2016 - December 31, 2016",null,"Greater Sudbury Hydro Inc.","Administrative and General Expenses","5510","Demonstrating and Selling Expense",0]
[2017,"January 1, 2016 - December 31, 2016",null,"Greater Sudbury Hydro Inc.","Administrative and General Expenses","5515","Advertising Expense",0]
[2017,"January 1, 2016 - December 31, 2016",null,"Greater Sudbury Hydro Inc.","Administrative and General Expenses","5520","Miscellaneous Sales Expense",0]
[2017,"January 1, 2016 - December 31, 2016",null,"Greater Sudbury Hydro Inc.","Administrative and General Expenses","5605","Executive Salaries and Expenses",818992.19]
[2017,"January 1, 2016 - December 31, 2016",null,"Greater Sudbury Hydro Inc.","Administrative and General Expenses","5610","Management Salaries and Expenses",477575.6]
[2017,"January 1, 2016 - December 31, 2016",null,"Greater Sudbury Hydro Inc.","Administrative and General Expenses","5615","General Administrative Salaries and Expenses",814680.32]
[2017,"January 1, 2016 - December 31, 2016",null,"Greater Sudbury Hydro Inc.","Administrative and General Expenses","5620","Office Supplies and Expenses",214321.43]
[2017,"January 1, 2016 - December 31, 2016",null,"Greater Sudbury Hydro Inc.","Administrative and General Expenses","5625","Administrative Expense Transferred/Credit",0]
[2017,"January 1, 2016 - December 31, 2016",null,"Greater Sudbury Hydro Inc.","Administrative and General Expenses","5630","Outside Services Employed",34332.480000000003]
[2017,"January 1, 2016 - December 31, 2016",null,"Greater Sudbury Hydro Inc.","Administrative and General Expenses","5635","Property Insurance",0]
[2017,"January 1, 2016 - December 31, 2016",null,"Greater Sudbury Hydro Inc.","Administrative and General Expenses","5640","Injuries and Damages",0]
[2017,"January 1, 2016 - December 31, 2016",null,"Greater Sudbury Hydro Inc.","Administrative and General Expenses","5645","OMERS Pensions and Benefits",0]
[2017,"January 1, 2016 - December 31, 2016",null,"Greater Sudbury Hydro Inc.","Administrative and General Expenses","5646","Employee Pensions and OPEB",920549]
[2017,"January 1, 2016 - December 31, 2016",null,"Greater Sudbury Hydro Inc.","Administrative and General Expenses","5647","Employee Sick Leave",0]
[2017,"January 1, 2016 - December 31, 2016",null,"Greater Sudbury Hydro Inc.","Administrative and General Expenses","5650","Franchise Requirements",0]
[2017,"January 1, 2016 - December 31, 2016",null,"Greater Sudbury Hydro Inc.","Administrative and General Expenses","5655","Regulatory Expenses",444376.89]
[2017,"January 1, 2016 - December 31, 2016",null,"Greater Sudbury Hydro Inc.","Administrative and General Expenses","5660","General Advertising Expenses",62253.61]
[2017,"January 1, 2016 - December 31, 2016",null,"Greater Sudbury Hydro Inc.","Administrative and General Expenses","5665","Miscellaneous General Expenses",500156.18]
[2017,"January 1, 2016 - December 31, 2016",null,"Greater Sudbury Hydro Inc.","Administrative and General Expenses","5670","Rent",42000]
[2017,"January 1, 2016 - December 31, 2016",null,"Greater Sudbury Hydro Inc.","Administrative and General Expenses","5672","Lease Payment Expense",0]
[2017,"January 1, 2016 - December 31, 2016",null,"Greater Sudbury Hydro Inc.","Administrative and General Expenses","5675","Maintenance of General Plant",619142.51]
[2017,"January 1, 2016 - December 31, 2016",null,"Greater Sudbury Hydro Inc.","Administrative and General Expenses","5680","Electrical Safety Authority Fees",0]
[2017,"January 1, 2016 - December 31, 2016",null,"Greater Sudbury Hydro Inc.","Administrative and General Expenses","5681","Special Purpose Charge Expense",0]
[2017,"January 1, 2016 - December 31, 2016",null,"Greater Sudbury Hydro Inc.","Administrative and General Expenses","5685","Independent Market Operator Fees and Penalties",0]
[2017,"January 1, 2016 - December 31, 2016",null,"Greater Sudbury Hydro Inc.","Administrative and General Expenses","5695","OM&A Contra",0]
[2017,"January 1, 2016 - December 31, 2016",null,"Greater Sudbury Hydro Inc.","Administrative and General Expenses Total",null,null,4948380.21]
[2017,"January 1, 2016 - December 31, 2016",null,"Greater Sudbury Hydro Inc.","Billing and Collecting","5305","Supervision",0]
[2017,"January 1, 2016 - December 31, 2016",null,"Greater Sudbury Hydro Inc.","Billing and Collecting","5310","Meter Reading Expense",19419.900000000001]
[2017,"January 1, 2016 - December 31, 2016",null,"Greater Sudbury Hydro Inc.","Billing and Collecting","5315","Customer Billing",1637728.85]
[2017,"January 1, 2016 - December 31, 2016",null,"Greater Sudbury Hydro Inc.","Billing and Collecting","5320","Collecting",199013.83]
[2017,"January 1, 2016 - December 31, 2016",null,"Greater Sudbury Hydro Inc.","Billing and Collecting","5325","Collecting- Cash Over and Short",0]
[2017,"January 1, 2016 - December 31, 2016",null,"Greater Sudbury Hydro Inc.","Billing and Collecting","5330","Collection Charges",0]
[2017,"January 1, 2016 - December 31, 2016",null,"Greater Sudbury Hydro Inc.","Billing and Collecting","5335","Bad Debt Expense",381999.96]
[2017,"January 1, 2016 - December 31, 2016",null,"Greater Sudbury Hydro Inc.","Billing and Collecting","5340","Miscellaneous Customer Accounts Expenses",67722.92]
[2017,"January 1, 2016 - December 31, 2016",null,"Greater Sudbury Hydro Inc.","Billing and Collecting Total",null,null,2305885.46]
[2017,"January 1, 2016 - December 31, 2016",null,"Greater Sudbury Hydro Inc.","Community Relations","5405","Supervision",0]
[2017,"January 1, 2016 - December 31, 2016",null,"Greater Sudbury Hydro Inc.","Community Relations","5410","Community Relations - Sundry",0]
[2017,"January 1, 2016 - December 31, 2016",null,"Greater Sudbury Hydro Inc.","Community Relations","5415","Energy Conservation",-0.01]
[2017,"January 1, 2016 - December 31, 2016",null,"Greater Sudbury Hydro Inc.","Community Relations","5420","Community Safety Program",0]
[2017,"January 1, 2016 - December 31, 2016",null,"Greater Sudbury Hydro Inc.","Community Relations","5425","Miscellaneous Customer Service and Informational Expenses",0]
[2017,"January 1, 2016 - December 31, 2016",null,"Greater Sudbury Hydro Inc.","Community Relations Total",null,null,-0.01]
[2017,"January 1, 2016 - December 31, 2016",null,"Greater Sudbury Hydro Inc.","Distribution Expenses - Operation","5005","Operation Supervision and Engineering",966814.32]
[2017,"January 1, 2016 - December 31, 2016",null,"Greater Sudbury Hydro Inc.","Distribution Expenses - Operation","5010","Load Dispatching",662620.19999999995]
[2017,"January 1, 2016 - December 31, 2016",null,"Greater Sudbury Hydro Inc.","Distribution Expenses - Operation","5012","Station Buildings and Fixtures Expense",299571.86]
[2017,"January 1, 2016 - December 31, 2016",null,"Greater Sudbury Hydro Inc.","Distribution Expenses - Operation","5014","Transformer Station Equipment - Operation Labour",0]
[2017,"January 1, 2016 - December 31, 2016",null,"Greater Sudbury Hydro Inc.","Distribution Expenses - Operation","5015","Transformer Station Equipment - Operation Supplies and Expenses",0]
[2017,"January 1, 2016 - December 31, 2016",null,"Greater Sudbury Hydro Inc.","Distribution Expenses - Operation","5016","Distribution Station Equipment - Operation Labour",314732.05]
[2017,"January 1, 2016 - December 31, 2016",null,"Greater Sudbury Hydro Inc.","Distribution Expenses - Operation","5017","Distribution Station Equipment - Operation Supplies and Expenses",149153.94]
[2017,"January 1, 2016 - December 31, 2016",null,"Greater Sudbury Hydro Inc.","Distribution Expenses - Operation","5020","Overhead Distribution Lines and Feeders - Operation Labour",137060.95000000001]
[2017,"January 1, 2016 - December 31, 2016",null,"Greater Sudbury Hydro Inc.","Distribution Expenses - Operation","5025","Overhead Distribution Lines and Feeders - Operation Supplies and Expenses",452578.7]
[2017,"January 1, 2016 - December 31, 2016",null,"Greater Sudbury Hydro Inc.","Distribution Expenses - Operation","5030","Overhead Subtransmission Feeders - Operation",35653.120000000003]
[2017,"January 1, 2016 - December 31, 2016",null,"Greater Sudbury Hydro Inc.","Distribution Expenses - Operation","5035","Overhead Distribution Transformers- Operation",119894.74]
[2017,"January 1, 2016 - December 31, 2016",null,"Greater Sudbury Hydro Inc.","Distribution Expenses - Operation","5040","Underground Distribution Lines and Feeders - Operation Labour",9027.3799999999992]
[2017,"January 1, 2016 - December 31, 2016",null,"Greater Sudbury Hydro Inc.","Distribution Expenses - Operation","5045","Underground Distribution Lines and Feeders - Operation Supplies and Expenses",10863.16]
[2017,"January 1, 2016 - December 31, 2016",null,"Greater Sudbury Hydro Inc.","Distribution Expenses - Operation","5050","Underground Subtransmission Feeders - Operation",0]
[2017,"January 1, 2016 - December 31, 2016",null,"Greater Sudbury Hydro Inc.","Distribution Expenses - Operation","5055","Underground Distribution Transformers - Operation",135473.04999999999]
[2017,"January 1, 2016 - December 31, 2016",null,"Greater Sudbury Hydro Inc.","Distribution Expenses - Operation","5060","Street Lighting and Signal System Expense",0]
[2017,"January 1, 2016 - December 31, 2016",null,"Greater Sudbury Hydro Inc.","Distribution Expenses - Operation","5065","Meter Expense",684735.64]
[2017,"January 1, 2016 - December 31, 2016",null,"Greater Sudbury Hydro Inc.","Distribution Expenses - Operation","5070","Customer Premises - Operation Labour",617858.05000000005]
[2017,"January 1, 2016 - December 31, 2016",null,"Greater Sudbury Hydro Inc.","Distribution Expenses - Operation","5075","Customer Premises - Materials and Expenses",0]
[2017,"January 1, 2016 - December 31, 2016",null,"Greater Sudbury Hydro Inc.","Distribution Expenses - Operation","5085","Miscellaneous Distribution Expense",1282455.3700000001]
[2017,"January 1, 2016 - December 31, 2016",null,"Greater Sudbury Hydro Inc.","Distribution Expenses - Operation","5090","Underground Distribution Lines and Feeders - Rental Paid",0]
[2017,"January 1, 2016 - December 31, 2016",null,"Greater Sudbury Hydro Inc.","Distribution Expenses - Operation","5095","Overhead Distribution Lines and Feeders - Rental Paid",75781.5]
[2017,"January 1, 2016 - December 31, 2016",null,"Greater Sudbury Hydro Inc.","Distribution Expenses - Operation","5096","Other Rent",0]
[2017,"January 1, 2016 - December 31, 2016",null,"Greater Sudbury Hydro Inc.","Distribution Expenses - Operation Total",null,null,5954274.0300000003]
[2017,"January 1, 2016 - December 31, 2016",null,"Greater Sudbury Hydro Inc.","Distribution Expenses – Maintenance","5105","Maintenance Supervision and Engineering",0]
[2017,"January 1, 2016 - December 31, 2016",null,"Greater Sudbury Hydro Inc.","Distribution Expenses – Maintenance","5110","Maintenance of Buildings and Fixtures - Distribution Stations",23528.84]
[2017,"January 1, 2016 - December 31, 2016",null,"Greater Sudbury Hydro Inc.","Distribution Expenses – Maintenance","5112","Maintenance of Transformer Station Equipment",0]
[2017,"January 1, 2016 - December 31, 2016",null,"Greater Sudbury Hydro Inc.","Distribution Expenses – Maintenance","5114","Maintenance of Distribution Station Equipment",118301.28]
[2017,"January 1, 2016 - December 31, 2016",null,"Greater Sudbury Hydro Inc.","Distribution Expenses – Maintenance","5120","Maintenance of Poles, Towers and Fixtures",322912.96999999997]
[2017,"January 1, 2016 - December 31, 2016",null,"Greater Sudbury Hydro Inc.","Distribution Expenses – Maintenance","5125","Maintenance of Overhead Conductors and Devices",338685.17]
[2017,"January 1, 2016 - December 31, 2016",null,"Greater Sudbury Hydro Inc.","Distribution Expenses – Maintenance","5130","Maintenance of Overhead Services",201097.86]
[2017,"January 1, 2016 - December 31, 2016",null,"Greater Sudbury Hydro Inc.","Distribution Expenses – Maintenance","5135","Overhead Distribution Lines and Feeders - Right of Way",618115.72]
[2017,"January 1, 2016 - December 31, 2016",null,"Greater Sudbury Hydro Inc.","Distribution Expenses – Maintenance","5145","Maintenance of Underground Conduit",109314.9]
[2017,"January 1, 2016 - December 31, 2016",null,"Greater Sudbury Hydro Inc.","Distribution Expenses – Maintenance","5150","Maintenance of Underground Conductors and Devices",102164.62]
[2017,"January 1, 2016 - December 31, 2016",null,"Greater Sudbury Hydro Inc.","Distribution Expenses – Maintenance","5155","Maintenance of Underground Services",123355.45]
[2017,"January 1, 2016 - December 31, 2016",null,"Greater Sudbury Hydro Inc.","Distribution Expenses – Maintenance","5160","Maintenance of Line Transformers",166675.35]
[2017,"January 1, 2016 - December 31, 2016",null,"Greater Sudbury Hydro Inc.","Distribution Expenses – Maintenance","5165","Maintenance of Street Lighting and Signal Systems",0]
[2017,"January 1, 2016 - December 31, 2016",null,"Greater Sudbury Hydro Inc.","Distribution Expenses – Maintenance","5170","Sentinel Lights - Labour",0]
[2017,"January 1, 2016 - December 31, 2016",null,"Greater Sudbury Hydro Inc.","Distribution Expenses – Maintenance","5172","Sentinel Lights - Materials and Expenses",0]
[2017,"January 1, 2016 - December 31, 2016",null,"Greater Sudbury Hydro Inc.","Distribution Expenses – Maintenance","5175","Maintenance of Meters",38010.800000000003]
[2017,"January 1, 2016 - December 31, 2016",null,"Greater Sudbury Hydro Inc.","Distribution Expenses – Maintenance","5178","Customer Installations Expenses- Leased Property",0]
[2017,"January 1, 2016 - December 31, 2016",null,"Greater Sudbury Hydro Inc.","Distribution Expenses – Maintenance","5195","Maintenance of Other Installations on Customer Premises",0]
[2017,"January 1, 2016 - December 31, 2016",null,"Greater Sudbury Hydro Inc.","Distribution Expenses – Maintenance Total",null,null,2162162.96]
[2017,"January 1, 2016 - December 31, 2016",null,"Greater Sudbury Hydro Inc.","Other Expenses","5205","Purchase of Transmission and System Services",0]
[2017,"January 1, 2016 - December 31, 2016",null,"Greater Sudbury Hydro Inc.","Other Expenses","5210","Transmission Charges",0]
[2017,"January 1, 2016 - December 31, 2016",null,"Greater Sudbury Hydro Inc.","Other Expenses","5215","Transmission Charges Recovered",0]
[2017,"January 1, 2016 - December 31, 2016",null,"Greater Sudbury Hydro Inc.","Other Expenses Total",null,null,0]
[2017,"January 1, 2016 - December 31, 2016",null,"Grimsby Power Incorporated","Administrative and General Expenses","5505","Supervision",0]
[2017,"January 1, 2016 - December 31, 2016",null,"Grimsby Power Incorporated","Administrative and General Expenses","5510","Demonstrating and Selling Expense",0]
[2017,"January 1, 2016 - December 31, 2016",null,"Grimsby Power Incorporated","Administrative and General Expenses","5515","Advertising Expense",0]
[2017,"January 1, 2016 - December 31, 2016",null,"Grimsby Power Incorporated","Administrative and General Expenses","5520","Miscellaneous Sales Expense",0]
[2017,"January 1, 2016 - December 31, 2016",null,"Grimsby Power Incorporated","Administrative and General Expenses","5605","Executive Salaries and Expenses",260429.87]
[2017,"January 1, 2016 - December 31, 2016",null,"Grimsby Power Incorporated","Administrative and General Expenses","5610","Management Salaries and Expenses",266649.53999999998]
[2017,"January 1, 2016 - December 31, 2016",null,"Grimsby Power Incorporated","Administrative and General Expenses","5615","General Administrative Salaries and Expenses",358183.04]
[2017,"January 1, 2016 - December 31, 2016",null,"Grimsby Power Incorporated","Administrative and General Expenses","5620","Office Supplies and Expenses",45122.98]
[2017,"January 1, 2016 - December 31, 2016",null,"Grimsby Power Incorporated","Administrative and General Expenses","5625","Administrative Expense Transferred/Credit",0]
[2017,"January 1, 2016 - December 31, 2016",null,"Grimsby Power Incorporated","Administrative and General Expenses","5630","Outside Services Employed",155248.38]
[2017,"January 1, 2016 - December 31, 2016",null,"Grimsby Power Incorporated","Administrative and General Expenses","5635","Property Insurance",31567.56]
[2017,"January 1, 2016 - December 31, 2016",null,"Grimsby Power Incorporated","Administrative and General Expenses","5640","Injuries and Damages",0]
[2017,"January 1, 2016 - December 31, 2016",null,"Grimsby Power Incorporated","Administrative and General Expenses","5645","OMERS Pensions and Benefits",7861.67]
[2017,"January 1, 2016 - December 31, 2016",null,"Grimsby Power Incorporated","Administrative and General Expenses","5646","Employee Pensions and OPEB",0]
[2017,"January 1, 2016 - December 31, 2016",null,"Grimsby Power Incorporated","Administrative and General Expenses","5647","Employee Sick Leave",0]
[2017,"January 1, 2016 - December 31, 2016",null,"Grimsby Power Incorporated","Administrative and General Expenses","5650","Franchise Requirements",0]
[2017,"January 1, 2016 - December 31, 2016",null,"Grimsby Power Incorporated","Administrative and General Expenses","5655","Regulatory Expenses",110366.83]
[2017,"January 1, 2016 - December 31, 2016",null,"Grimsby Power Incorporated","Administrative and General Expenses","5660","General Advertising Expenses",3787.32]
[2017,"January 1, 2016 - December 31, 2016",null,"Grimsby Power Incorporated","Administrative and General Expenses","5665","Miscellaneous General Expenses",92765.82]
[2017,"January 1, 2016 - December 31, 2016",null,"Grimsby Power Incorporated","Administrative and General Expenses","5670","Rent",0]
[2017,"January 1, 2016 - December 31, 2016",null,"Grimsby Power Incorporated","Administrative and General Expenses","5672","Lease Payment Expense",0]
[2017,"January 1, 2016 - December 31, 2016",null,"Grimsby Power Incorporated","Administrative and General Expenses","5675","Maintenance of General Plant",133653.14000000001]
[2017,"January 1, 2016 - December 31, 2016",null,"Grimsby Power Incorporated","Administrative and General Expenses","5680","Electrical Safety Authority Fees",0]
[2017,"January 1, 2016 - December 31, 2016",null,"Grimsby Power Incorporated","Administrative and General Expenses","5681","Special Purpose Charge Expense",0]
[2017,"January 1, 2016 - December 31, 2016",null,"Grimsby Power Incorporated","Administrative and General Expenses","5685","Independent Market Operator Fees and Penalties",0]
[2017,"January 1, 2016 - December 31, 2016",null,"Grimsby Power Incorporated","Administrative and General Expenses","5695","OM&A Contra",0]
[2017,"January 1, 2016 - December 31, 2016",null,"Grimsby Power Incorporated","Administrative and General Expenses Total",null,null,1465636.15]
[2017,"January 1, 2016 - December 31, 2016",null,"Grimsby Power Incorporated","Billing and Collecting","5305","Supervision",39984.47]
[2017,"January 1, 2016 - December 31, 2016",null,"Grimsby Power Incorporated","Billing and Collecting","5310","Meter Reading Expense",62006.52]
[2017,"January 1, 2016 - December 31, 2016",null,"Grimsby Power Incorporated","Billing and Collecting","5315","Customer Billing",442413.75]
[2017,"January 1, 2016 - December 31, 2016",null,"Grimsby Power Incorporated","Billing and Collecting","5320","Collecting",24340.05]
[2017,"January 1, 2016 - December 31, 2016",null,"Grimsby Power Incorporated","Billing and Collecting","5325","Collecting- Cash Over and Short",0]
[2017,"January 1, 2016 - December 31, 2016",null,"Grimsby Power Incorporated","Billing and Collecting","5330","Collection Charges",1278.95]
[2017,"January 1, 2016 - December 31, 2016",null,"Grimsby Power Incorporated","Billing and Collecting","5335","Bad Debt Expense",20106.509999999998]
[2017,"January 1, 2016 - December 31, 2016",null,"Grimsby Power Incorporated","Billing and Collecting","5340","Miscellaneous Customer Accounts Expenses",723.13]
[2017,"January 1, 2016 - December 31, 2016",null,"Grimsby Power Incorporated","Billing and Collecting Total",null,null,590853.38]
[2017,"January 1, 2016 - December 31, 2016",null,"Grimsby Power Incorporated","Community Relations","5405","Supervision",0]
[2017,"January 1, 2016 - December 31, 2016",null,"Grimsby Power Incorporated","Community Relations","5410","Community Relations - Sundry",0]
[2017,"January 1, 2016 - December 31, 2016",null,"Grimsby Power Incorporated","Community Relations","5415","Energy Conservation",0]
[2017,"January 1, 2016 - December 31, 2016",null,"Grimsby Power Incorporated","Community Relations","5420","Community Safety Program",0]
[2017,"January 1, 2016 - December 31, 2016",null,"Grimsby Power Incorporated","Community Relations","5425","Miscellaneous Customer Service and Informational Expenses",0]
[2017,"January 1, 2016 - December 31, 2016",null,"Grimsby Power Incorporated","Community Relations Total",null,null,0]
[2017,"January 1, 2016 - December 31, 2016",null,"Grimsby Power Incorporated","Distribution Expenses - Operation","5005","Operation Supervision and Engineering",177026.42]
[2017,"January 1, 2016 - December 31, 2016",null,"Grimsby Power Incorporated","Distribution Expenses - Operation","5010","Load Dispatching",76503.12]
[2017,"January 1, 2016 - December 31, 2016",null,"Grimsby Power Incorporated","Distribution Expenses - Operation","5012","Station Buildings and Fixtures Expense",23719.32]
[2017,"January 1, 2016 - December 31, 2016",null,"Grimsby Power Incorporated","Distribution Expenses - Operation","5040","Underground Distribution Lines and Feeders - Operation Labour",7416.94]
[2017,"January 1, 2016 - December 31, 2016",null,"Grimsby Power Incorporated","Distribution Expenses - Operation","5075","Customer Premises - Materials and Expenses",9606.42]
[2017,"January 1, 2016 - December 31, 2016",null,"Grimsby Power Incorporated","Distribution Expenses – Maintenance","5150","Maintenance of Underground Conductors and Devices",18219.57]
[2017,"January 1, 2016 - December 31, 2016",null,"Guelph Hydro Electric Systems Inc.","Administrative and General Expenses","5610","Management Salaries and Expenses",2602274.6]
[2017,"January 1, 2016 - December 31, 2016",null,"Guelph Hydro Electric Systems Inc.","Administrative and General Expenses","5672","Lease Payment Expense",0]
[2017,"January 1, 2016 - December 31, 2016",null,"Guelph Hydro Electric Systems Inc.","Billing and Collecting Total",null,null,2684781.83]
[2017,"January 1, 2016 - December 31, 2016",null,"Guelph Hydro Electric Systems Inc.","Community Relations","5425","Miscellaneous Customer Service and Informational Expenses",29086.66]
[2017,"January 1, 2016 - December 31, 2016",null,"Guelph Hydro Electric Systems Inc.","Distribution Expenses - Operation","5050","Underground Subtransmission Feeders - Operation",0]
[2017,"January 1, 2016 - December 31, 2016",null,"Guelph Hydro Electric Systems Inc.","Distribution Expenses – Maintenance","5145","Maintenance of Underground Conduit",79699.13]
[2017,"January 1, 2016 - December 31, 2016",null,"Haldimand County Hydro Inc.","Administrative and General Expenses","5505","Supervision",0]
[2017,"January 1, 2016 - December 31, 2016",null,"Haldimand County Hydro Inc.","Administrative and General Expenses","5660","General Advertising Expenses",0]
[2017,"January 1, 2016 - December 31, 2016",null,"Haldimand County Hydro Inc.","Administrative and General Expenses","5681","Special Purpose Charge Expense",0]
[2017,"January 1, 2016 - December 31, 2016",null,"Haldimand County Hydro Inc.","Community Relations","5415","Energy Conservation",0]
[2017,"January 1, 2016 - December 31, 2016",null,"Haldimand County Hydro Inc.","Distribution Expenses - Operation","5040","Underground Distribution Lines and Feeders - Operation Labour",71139.42]
[2017,"January 1, 2016 - December 31, 2016",null,"Haldimand County Hydro Inc.","Distribution Expenses – Maintenance","5130","Maintenance of Overhead Services",123747.73]
[2017,"January 1, 2016 - December 31, 2016",null,"Haldimand County Hydro Inc.","Other Expenses","5215","Transmission Charges Recovered",0]
[2017,"January 1, 2016 - December 31, 2016",null,"Halton Hills Hydro Inc.","Administrative and General Expenses","5660","General Advertising Expenses",11350.08]
[2017,"January 1, 2016 - December 31, 2016",null,"Halton Hills Hydro Inc.","Administrative and General Expenses","5665","Miscellaneous General Expenses",452944.67]
[2017,"January 1, 2016 - December 31, 2016",null,"Halton Hills Hydro Inc.","Billing and Collecting","5335","Bad Debt Expense",-24506.58]
[2017,"January 1, 2016 - December 31, 2016",null,"Halton Hills Hydro Inc.","Distribution Expenses - Operation","5035","Overhead Distribution Transformers- Operation",60478.1]
[2017,"January 1, 2016 - December 31, 2016",null,"Halton Hills Hydro Inc.","Distribution Expenses – Maintenance","5110","Maintenance of Buildings and Fixtures - Distribution Stations",0]
[2017,"January 1, 2016 - December 31, 2016",null,"Halton Hills Hydro Inc.","Other Expenses","5210","Transmission Charges",0]
[2017,"January 1, 2016 - December 31, 2016",null,"Hearst Power Distribution Company Limited","Administrative and General Expenses","5645","OMERS Pensions and Benefits",0]
[2017,"January 1, 2016 - December 31, 2016",null,"Hearst Power Distribution Company Limited","Administrative and General Expenses","5646","Employee Pensions and OPEB",0]
[2017,"January 1, 2016 - December 31, 2016",null,"Hearst Power Distribution Company Limited","Billing and Collecting","5330","Collection Charges",1138.97]
[2017,"January 1, 2016 - December 31, 2016",null,"Hearst Power Distribution Company Limited","Distribution Expenses - Operation","5016","Distribution Station Equipment - Operation Labour",0]
[2017,"January 1, 2016 - December 31, 2016",null,"Hearst Power Distribution Company Limited","Distribution Expenses - Operation","5090","Underground Distribution Lines and Feeders - Rental Paid",0]
[2017,"January 1, 2016 - December 31, 2016",null,"Hearst Power Distribution Company Limited","Distribution Expenses – Maintenance","5175","Maintenance of Meters",6599.45]
[2017,"January 1, 2016 - December 31, 2016",null,"Horizon Utilities Corporation","Administrative and General Expenses","5620","Office Supplies and Expenses",1953211.88]
[2017,"January 1, 2016 - December 31, 2016",null,"Horizon Utilities Corporation","Administrative and General Expenses","5645","OMERS Pensions and Benefits",1588855.94]
[2017,"January 1, 2016 - December 31, 2016",null,"Horizon Utilities Corporation","Administrative and General Expenses","5681","Special Purpose Charge Expense",0]
[2017,"January 1, 2016 - December 31, 2016",null,"Horizon Utilities Corporation","Community Relations Total",null,null,0]
[2017,"January 1, 2016 - December 31, 2016",null,"Horizon Utilities Corporation","Distribution Expenses - Operation","5075","Customer Premises - Materials and Expenses",76983.89]
[2017,"January 1, 2016 - December 31, 2016",null,"Horizon Utilities Corporation","Distribution Expenses – Maintenance","5150","Maintenance of Underground Conductors and Devices",686638.97]
[2017,"January 1, 2016 - December 31, 2016",null,"Hydro 2000 Inc.","Administrative and General Expenses","5510","Demonstrating and Selling Expense",0]
[2017,"January 1, 2016 - December 31, 2016",null,"Hydro 2000 Inc.","Administrative and General Expenses","5615","General Administrative Salaries and Expenses",6035.18]
[2017,"January 1, 2016 - December 31, 2016",null,"Hydro 2000 Inc.","Administrative and General Expenses","5675","Maintenance of General Plant",0]
[2017,"January 1, 2016 - December 31, 2016",null,"Hydro 2000 Inc.","Community Relations","5425","Miscellaneous Customer Service and Informational Expenses",0]
[2017,"January 1, 2016 - December 31, 2016",null,"Hydro 2000 Inc.","Distribution Expenses - Operation","5050","Underground Subtransmission Feeders - Operation",0]
[2017,"January 1, 2016 - December 31, 2016",null,"Hydro 2000 Inc.","Distribution Expenses – Maintenance","5120","Maintenance of Poles, Towers and Fixtures",5000]
[2017,"January 1, 2016 - December 31, 2016",null,"Hydro 2000 Inc.","Distribution Expenses – Maintenance","5150","Maintenance of Underground Conductors and Devices",0]
[2017,"January 1, 2016 - December 31, 2016",null,"Hydro Hawkesbury Inc.","Administrative and General Expenses","5510","Demonstrating and Selling Expense",0]
[2017,"January 1, 2016 - December 31, 2016",null,"Hydro Hawkesbury Inc.","Administrative and General Expenses","5672","Lease Payment Expense",0]
[2017,"January 1, 2016 - December 31, 2016",null,"Hydro Hawkesbury Inc.","Billing and Collecting Total",null,null,418864.38]
[2017,"January 1, 2016 - December 31, 2016",null,"Hydro Hawkesbury Inc.","Distribution Expenses - Operation","5025","Overhead Distribution Lines and Feeders - Operation Supplies and Expenses",969.65]
[2017,"January 1, 2016 - December 31, 2016",null,"Hydro Hawkesbury Inc.","Distribution Expenses - Operation","5050","Underground Subtransmission Feeders - Operation",0]
[2017,"January 1, 2016 - December 31, 2016",null,"Hydro Hawkesbury Inc.","Distribution Expenses – Maintenance","5120","Maintenance of Poles, Towers and Fixtures",14590.44]
[2017,"January 1, 2016 - December 31, 2016",null,"Hydro Hawkesbury Inc.","Other Expenses","5205","Purchase of Transmission and System Services",0]
[2017,"January 1, 2016 - December 31, 2016",null,"Hydro One Brampton Networks Inc.","Administrative and General Expenses","5650","Franchise Requirements",0]
[2017,"January 1, 2016 - December 31, 2016",null,"Hydro One Brampton Networks Inc.","Billing and Collecting","5320","Collecting",1225782.6100000001]
[2017,"January 1, 2016 - December 31, 2016",null,"Hydro One Brampton Networks Inc.","Billing and Collecting Total",null,null,6816342.3899999997]
[2017,"January 1, 2016 - December 31, 2016",null,"Hydro One Brampton Networks Inc.","Distribution Expenses - Operation","5025","Overhead Distribution Lines and Feeders - Operation Supplies and Expenses",82090.210000000006]
[2017,"January 1, 2016 - December 31, 2016",null,"Hydro One Brampton Networks Inc.","Distribution Expenses - Operation Total",null,null,7229707.6299999999]
[2017,"January 1, 2016 - December 31, 2016",null,"Hydro One Brampton Networks Inc.","Distribution Expenses – Maintenance Total",null,null,4995779.34]
[2017,"January 1, 2016 - December 31, 2016",null,"Hydro One Networks Inc.","Administrative and General Expenses","5635","Property Insurance",2920225.39]
[2017,"January 1, 2016 - December 31, 2016",null,"Hydro One Networks Inc.","Administrative and General Expenses","5660","General Advertising Expenses",0]
[2017,"January 1, 2016 - December 31, 2016",null,"Hydro One Networks Inc.","Billing and Collecting","5335","Bad Debt Expense",6785400.9900000002]
[2017,"January 1, 2016 - December 31, 2016",null,"Hydro One Networks Inc.","Distribution Expenses - Operation","5017","Distribution Station Equipment - Operation Supplies and Expenses",1545148.7]
[2017,"January 1, 2016 - December 31, 2016",null,"Hydro One Networks Inc.","Distribution Expenses – Maintenance","5110","Maintenance of Buildings and Fixtures - Distribution Stations",640722.29]
[2017,"January 1, 2016 - December 31, 2016",null,"Hydro One Networks Inc.","Distribution Expenses – Maintenance","5178","Customer Installations Expenses- Leased Property",0]
[2017,"January 1, 2016 - December 31, 2016",null,"Hydro One Remote Communities Inc.","Administrative and General Expenses","5635","Property Insurance",0]
[2017,"January 1, 2016 - December 31, 2016",null,"Hydro One Remote Communities Inc.","Administrative and General Expenses","5645","Employee Pensions and Benefits",0]
[2017,"January 1, 2016 - December 31, 2016",null,"Hydro One Remote Communities Inc.","Billing and Collecting","5320","Collecting",360201.11]
[2017,"January 1, 2016 - December 31, 2016",null,"Hydro One Remote Communities Inc.","Distribution Expenses - Operation","5020","Overhead Distribution Lines and Feeders - Operation Labour",0]
[2017,"January 1, 2016 - December 31, 2016",null,"Hydro One Remote Communities Inc.","Distribution Expenses - Operation","5096","Other Rent",0]
[2017,"January 1, 2016 - December 31, 2016",null,"Hydro One Remote Communities Inc.","Distribution Expenses – Maintenance","5170","Sentinel Lights - Labour",0]
[2017,"January 1, 2016 - December 31, 2016",null,"Hydro Ottawa Limited","Administrative and General Expenses","5630","Outside Services Employed",615749.6]
[2017,"January 1, 2016 - December 31, 2016",null,"Hydro Ottawa Limited","Administrative and General Expenses","5635","Property Insurance",621099.93000000005]
[2017,"January 1, 2016 - December 31, 2016",null,"Hydro Ottawa Limited","Administrative and General Expenses","5695","OM&A Contra",0]
[2017,"January 1, 2016 - December 31, 2016",null,"Hydro Ottawa Limited","Distribution Expenses - Operation","5012","Station Buildings and Fixtures Expense",572664.21]
[2017,"January 1, 2016 - December 31, 2016",null,"Hydro Ottawa Limited","Distribution Expenses - Operation","5070","Customer Premises - Operation Labour",0]
[2017,"January 1, 2016 - December 31, 2016",null,"Hydro Ottawa Limited","Distribution Expenses – Maintenance","5165","Maintenance of Street Lighting and Signal Systems",0]
[2017,"January 1, 2016 - December 31, 2016",null,"Innpower Corporation","Administrative and General Expenses","5605","Executive Salaries and Expenses",303507.81]
[2017,"January 1, 2016 - December 31, 2016",null,"Innpower Corporation","Administrative and General Expenses","5610","Management Salaries and Expenses",265824.53000000003]
[2017,"January 1, 2016 - December 31, 2016",null,"Innpower Corporation","Administrative and General Expenses","5685","Independent Market Operator Fees and Penalties",0]
[2017,"January 1, 2016 - December 31, 2016",null,"Innpower Corporation","Community Relations","5420","Community Safety Program",0]
[2017,"January 1, 2016 - December 31, 2016",null,"Innpower Corporation","Distribution Expenses - Operation","5065","Meter Expense",239834.51]
[2017,"January 1, 2016 - December 31, 2016",null,"Innpower Corporation","Distribution Expenses – Maintenance","5135","Overhead Distribution Lines and Feeders - Right of Way",383563.22]
[2017,"January 1, 2016 - December 31, 2016",null,"Innpower Corporation","Other Expenses Total",null,null,0]
[2017,"January 1, 2016 - December 31, 2016",null,"Kenora Hydro Electric Corporation Ltd.","Administrative and General Expenses","5605","Executive Salaries and Expenses",8160]
[2017,"January 1, 2016 - December 31, 2016",null,"Kenora Hydro Electric Corporation Ltd.","Administrative and General Expenses","5670","Rent",0]
[2017,"January 1, 2016 - December 31, 2016",null,"Kenora Hydro Electric Corporation Ltd.","Billing and Collecting","5340","Miscellaneous Customer Accounts Expenses",0]
[2017,"January 1, 2016 - December 31, 2016",null,"Kenora Hydro Electric Corporation Ltd.","Distribution Expenses - Operation","5040","Underground Distribution Lines and Feeders - Operation Labour",30097]
[2017,"January 1, 2016 - December 31, 2016",null,"Kenora Hydro Electric Corporation Ltd.","Distribution Expenses – Maintenance","5112","Maintenance of Transformer Station Equipment",0]
[2017,"January 1, 2016 - December 31, 2016",null,"Kenora Hydro Electric Corporation Ltd.","Distribution Expenses – Maintenance","5135","Overhead Distribution Lines and Feeders - Right of Way",118737]
[2017,"January 1, 2016 - December 31, 2016",null,"Kenora Hydro Electric Corporation Ltd.","Other Expenses Total",null,null,0]
[2017,"January 1, 2016 - December 31, 2016",null,"Kingston Hydro Corporation","Administrative and General Expenses","5647","Employee Sick Leave",0]
[2017,"January 1, 2016 - December 31, 2016",null,"Kingston Hydro Corporation","Billing and Collecting","5335","Bad Debt Expense",421215]
[2017,"January 1, 2016 - December 31, 2016",null,"Kingston Hydro Corporation","Distribution Expenses - Operation","5017","Distribution Station Equipment - Operation Supplies and Expenses",44777]
[2017,"January 1, 2016 - December 31, 2016",null,"Kingston Hydro Corporation","Distribution Expenses - Operation","5095","Overhead Distribution Lines and Feeders - Rental Paid",89997]
[2017,"January 1, 2016 - December 31, 2016",null,"Kingston Hydro Corporation","Distribution Expenses – Maintenance","5114","Maintenance of Distribution Station Equipment",259370]
[2017,"January 1, 2016 - December 31, 2016",null,"Kingston Hydro Corporation","Distribution Expenses – Maintenance","5178","Customer Installations Expenses- Leased Property",0]
[2017,"January 1, 2016 - December 31, 2016",null,"Kitchener-Wilmot Hydro Inc.","Administrative and General Expenses","5645","OMERS Pensions and Benefits",2218.64]
[2017,"January 1, 2016 - December 31, 2016",null,"Kitchener-Wilmot Hydro Inc.","Billing and Collecting","5305","Supervision",579453.15]
[2017,"January 1, 2016 - December 31, 2016",null,"Kitchener-Wilmot Hydro Inc.","Distribution Expenses - Operation","5005","Operation Supervision and Engineering",1086533.58]
[2017,"January 1, 2016 - December 31, 2016",null,"Kitchener-Wilmot Hydro Inc.","Distribution Expenses - Operation","5016","Distribution Station Equipment - Operation Labour",6831.17]
[2017,"January 1, 2016 - December 31, 2016",null,"Kitchener-Wilmot Hydro Inc.","Distribution Expenses - Operation","5090","Underground Distribution Lines and Feeders - Rental Paid",11550.18]
[2017,"January 1, 2016 - December 31, 2016",null,"Kitchener-Wilmot Hydro Inc.","Distribution Expenses – Maintenance","5175","Maintenance of Meters",0]
[2017,"January 1, 2016 - December 31, 2016",null,"Lakefront Utilities Inc.","Administrative and General Expenses","5620","Office Supplies and Expenses",87098.91]
[2017,"January 1, 2016 - December 31, 2016",null,"Lakefront Utilities Inc.","Administrative and General Expenses","5680","Electrical Safety Authority Fees",0]
[2017,"January 1, 2016 - December 31, 2016",null,"Lakefront Utilities Inc.","Billing and Collecting","5305","Supervision",0]
[2017,"January 1, 2016 - December 31, 2016",null,"Lakefront Utilities Inc.","Distribution Expenses - Operation","5005","Operation Supervision and Engineering",34600.83]
[2017,"January 1, 2016 - December 31, 2016",null,"Lakefront Utilities Inc.","Distribution Expenses - Operation","5060","Street Lighting and Signal System Expense",0]
[2017,"January 1, 2016 - December 31, 2016",null,"Lakefront Utilities Inc.","Distribution Expenses – Maintenance","5155","Maintenance of Underground Services",31872.6]
[2017,"January 1, 2016 - December 31, 2016",null,"Lakeland Power Distribution Ltd.","Administrative and General Expenses","5515","Advertising Expense",0]
[2017,"January 1, 2016 - December 31, 2016",null,"Lakeland Power Distribution Ltd.","Administrative and General Expenses","5620","Office Supplies and Expenses",164634.78]
[2017,"January 1, 2016 - December 31, 2016",null,"Lakeland Power Distribution Ltd.","Administrative and General Expenses","5680","Electrical Safety Authority Fees",19992.71]
[2017,"January 1, 2016 - December 31, 2016",null,"Lakeland Power Distribution Ltd.","Community Relations","5410","Community Relations - Sundry",57855.08]
[2017,"January 1, 2016 - December 31, 2016",null,"Lakeland Power Distribution Ltd.","Distribution Expenses - Operation","5055","Underground Distribution Transformers - Operation",0]
[2017,"January 1, 2016 - December 31, 2016",null,"Lakeland Power Distribution Ltd.","Distribution Expenses – Maintenance","5125","Maintenance of Overhead Conductors and Devices",0]
[2017,"January 1, 2016 - December 31, 2016",null,"London Hydro Inc.","Administrative and General Expenses","5510","Demonstrating and Selling Expense",0]
[2017,"January 1, 2016 - December 31, 2016",null,"London Hydro Inc.","Administrative and General Expenses","5515","Advertising Expense",0]
[2017,"January 1, 2016 - December 31, 2016",null,"London Hydro Inc.","Administrative and General Expenses","5660","General Advertising Expenses",528313.03]
[2017,"January 1, 2016 - December 31, 2016",null,"London Hydro Inc.","Community Relations","5405","Supervision",0]
[2017,"January 1, 2016 - December 31, 2016",null,"London Hydro Inc.","Distribution Expenses - Operation","5030","Overhead Subtransmission Feeders - Operation",0]
[2017,"January 1, 2016 - December 31, 2016",null,"London Hydro Inc.","Distribution Expenses – Maintenance","5105","Maintenance Supervision and Engineering",1799061.01]
[2017,"January 1, 2016 - December 31, 2016",null,"London Hydro Inc.","Other Expenses","5205","Purchase of Transmission and System Services",0]
[2017,"January 1, 2016 - December 31, 2016",null,"London Hydro Inc.","Other Expenses","5210","Transmission Charges",0]
[2017,"January 1, 2016 - December 31, 2016",null,"Midland Power Utility Corporation","Administrative and General Expenses","5655","Regulatory Expenses",59243.22]
[2017,"January 1, 2016 - December 31, 2016",null,"Midland Power Utility Corporation","Billing and Collecting","5325","Collecting- Cash Over and Short",88.49]
[2017,"January 1, 2016 - December 31, 2016",null,"Midland Power Utility Corporation","Distribution Expenses - Operation","5015","Transformer Station Equipment - Operation Supplies and Expenses",0]
[2017,"January 1, 2016 - December 31, 2016",null,"Midland Power Utility Corporation","Distribution Expenses - Operation","5060","Street Lighting and Signal System Expense",0]
[2017,"January 1, 2016 - December 31, 2016",null,"Midland Power Utility Corporation","Distribution Expenses – Maintenance","5170","Sentinel Lights - Labour",0]
[2017,"January 1, 2016 - December 31, 2016",null,"Midland Power Utility Corporation","Distribution Expenses – Maintenance","5172","Sentinel Lights - Materials and Expenses",0]
[2017,"January 1, 2016 - December 31, 2016",null,"Milton Hydro Distribution Inc.","Administrative and General Expenses","5635","Property Insurance",114824]
[2017,"January 1, 2016 - December 31, 2016",null,"Milton Hydro Distribution Inc.","Administrative and General Expenses","5695","OM&A Contra",0]
[2017,"January 1, 2016 - December 31, 2016",null,"Milton Hydro Distribution Inc.","Distribution Expenses - Operation","5012","Station Buildings and Fixtures Expense",0]
[2017,"January 1, 2016 - December 31, 2016",null,"Milton Hydro Distribution Inc.","Distribution Expenses - Operation","5070","Customer Premises - Operation Labour",283441]
[2017,"January 1, 2016 - December 31, 2016",null,"Milton Hydro Distribution Inc.","Distribution Expenses – Maintenance","5145","Maintenance of Underground Conduit",0]
[2017,"January 1, 2016 - December 31, 2016",null,"Milton Hydro Distribution Inc.","Distribution Expenses – Maintenance","5170","Sentinel Lights - Labour",0]
[2017,"January 1, 2016 - December 31, 2016",null,"Newmarket-Tay Power Distribution Ltd.","Administrative and General Expenses","5610","Management Salaries and Expenses",763918.54]
[2017,"January 1, 2016 - December 31, 2016",null,"Newmarket-Tay Power Distribution Ltd.","Administrative and General Expenses","5685","Independent Market Operator Fees and Penalties",0]
[2017,"January 1, 2016 - December 31, 2016",null,"Newmarket-Tay Power Distribution Ltd.","Community Relations","5420","Community Safety Program",0]
[2017,"January 1, 2016 - December 31, 2016",null,"Newmarket-Tay Power Distribution Ltd.","Distribution Expenses - Operation","5045","Underground Distribution Lines and Feeders - Operation Supplies and Expenses",34383.019999999997]
[2017,"January 1, 2016 - December 31, 2016",null,"Newmarket-Tay Power Distribution Ltd.","Distribution Expenses - Operation","5070","Customer Premises - Operation Labour",74431.759999999995]
[2017,"January 1, 2016 - December 31, 2016",null,"Newmarket-Tay Power Distribution Ltd.","Distribution Expenses – Maintenance","5145","Maintenance of Underground Conduit",7025.73]
[2017,"January 1, 2016 - December 31, 2016",null,"Niagara Peninsula Energy Inc.","Administrative and General Expenses","5505","Supervision",0]
[2017,"January 1, 2016 - December 31, 2016",null,"Niagara Peninsula Energy Inc.","Administrative and General Expenses","5670","Rent",0]
[2017,"January 1, 2016 - December 31, 2016",null,"Niagara Peninsula Energy Inc.","Billing and Collecting","5340","Miscellaneous Customer Accounts Expenses",234978.73]
[2017,"January 1, 2016 - December 31, 2016",null,"Niagara Peninsula Energy Inc.","Community Relations","5420","Community Safety Program",0]
[2017,"January 1, 2016 - December 31, 2016",null,"Niagara Peninsula Energy Inc.","Distribution Expenses - Operation","5045","Underground Distribution Lines and Feeders - Operation Supplies and Expenses",373440.45]
[2017,"January 1, 2016 - December 31, 2016",null,"Niagara Peninsula Energy Inc.","Distribution Expenses – Maintenance","5114","Maintenance of Distribution Station Equipment",19894.2]
[2017,"January 1, 2016 - December 31, 2016",null,"Niagara Peninsula Energy Inc.","Other Expenses Total",null,null,0]
[2017,"January 1, 2016 - December 31, 2016",null,"Niagara-on-the-Lake Hydro Inc.","Administrative and General Expenses","5647","Employee Sick Leave",0]
[2017,"January 1, 2016 - December 31, 2016",null,"Niagara-on-the-Lake Hydro Inc.","Administrative and General Expenses","5670","Rent",0]
[2017,"January 1, 2016 - December 31, 2016",null,"Niagara-on-the-Lake Hydro Inc.","Billing and Collecting","5340","Miscellaneous Customer Accounts Expenses",4727.25]
[2017,"January 1, 2016 - December 31, 2016",null,"Niagara-on-the-Lake Hydro Inc.","Distribution Expenses - Operation","5020","Overhead Distribution Lines and Feeders - Operation Labour",73395.399999999994]
[2017,"January 1, 2016 - December 31, 2016",null,"Niagara-on-the-Lake Hydro Inc.","Distribution Expenses – Maintenance","5112","Maintenance of Transformer Station Equipment",62531.79]
[2017,"January 1, 2016 - December 31, 2016",null,"Niagara-on-the-Lake Hydro Inc.","Distribution Expenses – Maintenance","5195","Maintenance of Other Installations on Customer Premises",0]
[2017,"January 1, 2016 - December 31, 2016",null,"North Bay Hydro Distribution Limited","Administrative and General Expenses","5630","Outside Services Employed",316594.03999999998]
[2017,"January 1, 2016 - December 31, 2016",null,"North Bay Hydro Distribution Limited","Administrative and General Expenses","5647","Employee Sick Leave",-44800]
[2017,"January 1, 2016 - December 31, 2016",null,"North Bay Hydro Distribution Limited","Billing and Collecting","5310","Meter Reading Expense",301782.02]
[2017,"January 1, 2016 - December 31, 2016",null,"North Bay Hydro Distribution Limited","Distribution Expenses - Operation","5016","Distribution Station Equipment - Operation Labour",863.45]
[2017,"January 1, 2016 - December 31, 2016",null,"North Bay Hydro Distribution Limited","Distribution Expenses - Operation","5090","Underground Distribution Lines and Feeders - Rental Paid",0]
[2017,"January 1, 2016 - December 31, 2016",null,"North Bay Hydro Distribution Limited","Distribution Expenses – Maintenance","5160","Maintenance of Line Transformers",223329.19]
[2017,"January 1, 2016 - December 31, 2016",null,"North Bay Hydro Distribution Limited","Distribution Expenses – Maintenance","5178","Customer Installations Expenses- Leased Property",0]
[2017,"January 1, 2016 - December 31, 2016",null,"Northern Ontario Wires Inc.","Administrative and General Expenses","5625","Administrative Expense Transferred/Credit",0]
[2017,"January 1, 2016 - December 31, 2016",null,"Northern Ontario Wires Inc.","Administrative and General Expenses","5681","Special Purpose Charge Expense",0]
[2017,"January 1, 2016 - December 31, 2016",null,"Northern Ontario Wires Inc.","Distribution Expenses - Operation","5005","Operation Supervision and Engineering",101769.4]
[2017,"January 1, 2016 - December 31, 2016",null,"Northern Ontario Wires Inc.","Distribution Expenses - Operation","5060","Street Lighting and Signal System Expense",0]
[2017,"January 1, 2016 - December 31, 2016",null,"Northern Ontario Wires Inc.","Distribution Expenses – Maintenance","5155","Maintenance of Underground Services",2982.22]
[2017,"January 1, 2016 - December 31, 2016",null,"Northern Ontario Wires Inc.","Distribution Expenses – Maintenance","5160","Maintenance of Line Transformers",17652.98]
[2017,"January 1, 2016 - December 31, 2016",null,"Oakville Hydro Electricity Distribution Inc.","Administrative and General Expenses","5520","Miscellaneous Sales Expense",0]
[2017,"January 1, 2016 - December 31, 2016",null,"Oakville Hydro Electricity Distribution Inc.","Administrative and General Expenses","5680","Electrical Safety Authority Fees",35386.480000000003]
[2017,"January 1, 2016 - December 31, 2016",null,"Oakville Hydro Electricity Distribution Inc.","Community Relations","5410","Community Relations - Sundry",154612.45000000001]
[2017,"January 1, 2016 - December 31, 2016",null,"Oakville Hydro Electricity Distribution Inc.","Distribution Expenses - Operation","5055","Underground Distribution Transformers - Operation",43181.36]
[2017,"January 1, 2016 - December 31, 2016",null,"Oakville Hydro Electricity Distribution Inc.","Distribution Expenses – Maintenance","5125","Maintenance of Overhead Conductors and Devices",56444.28]
[2017,"January 1, 2016 - December 31, 2016",null,"Oakville Hydro Electricity Distribution Inc.","Distribution Expenses – Maintenance","5130","Maintenance of Overhead Services",158625.66]
[2017,"January 1, 2016 - December 31, 2016",null,"Orangeville Hydro Limited","Administrative and General Expenses","5515","Advertising Expense",0]
[2017,"January 1, 2016 - December 31, 2016",null,"Orangeville Hydro Limited","Administrative and General Expenses","5660","General Advertising Expenses",0]
[2017,"January 1, 2016 - December 31, 2016",null,"Orangeville Hydro Limited","Billing and Collecting","5330","Collection Charges",0]
[2017,"January 1, 2016 - December 31, 2016",null,"Orangeville Hydro Limited","Distribution Expenses - Operation","5030","Overhead Subtransmission Feeders - Operation",0]
[2017,"January 1, 2016 - December 31, 2016",null,"Orangeville Hydro Limited","Distribution Expenses – Maintenance","5105","Maintenance Supervision and Engineering",145575.20000000001]
[2017,"January 1, 2016 - December 31, 2016",null,"Orangeville Hydro Limited","Distribution Expenses – Maintenance","5125","Maintenance of Overhead Conductors and Devices",77158.77]
[2017,"January 1, 2016 - December 31, 2016",null,"Orangeville Hydro Limited","Other Expenses","5210","Transmission Charges",0]
[2017,"January 1, 2016 - December 31, 2016",null,"Orillia Power Distribution Corporation","Administrative and General Expenses","5645","OMERS Pensions and Benefits",0]
[2017,"January 1, 2016 - December 31, 2016",null,"Orillia Power Distribution Corporation","Billing and Collecting","5325","Collecting- Cash Over and Short",0]
[2017,"January 1, 2016 - December 31, 2016",null,"Orillia Power Distribution Corporation","Distribution Expenses - Operation","5015","Transformer Station Equipment - Operation Supplies and Expenses",0]
[2017,"January 1, 2016 - December 31, 2016",null,"Orillia Power Distribution Corporation","Distribution Expenses - Operation","5085","Miscellaneous Distribution Expense",0]
[2017,"January 1, 2016 - December 31, 2016",null,"Orillia Power Distribution Corporation","Distribution Expenses – Maintenance","5105","Maintenance Supervision and Engineering",0]
[2017,"January 1, 2016 - December 31, 2016",null,"Orillia Power Distribution Corporation","Distribution Expenses – Maintenance","5175","Maintenance of Meters",109132]
[2017,"January 1, 2016 - December 31, 2016",null,"Oshawa PUC Networks Inc.","Administrative and General Expenses","5625","Administrative Expense Transferred/Credit",-173663.08]
[2017,"January 1, 2016 - December 31, 2016",null,"Oshawa PUC Networks Inc.","Administrative and General Expenses","5695","OM&A Contra",2497.5]
[2017,"January 1, 2016 - December 31, 2016",null,"Oshawa PUC Networks Inc.","Community Relations","5425","Miscellaneous Customer Service and Informational Expenses",773909.91]
[2017,"January 1, 2016 - December 31, 2016",null,"Oshawa PUC Networks Inc.","Distribution Expenses - Operation","5014","Transformer Station Equipment - Operation Labour",0]
[2017,"January 1, 2016 - December 31, 2016",null,"Oshawa PUC Networks Inc.","Distribution Expenses - Operation","5075","Customer Premises - Materials and Expenses",0]
[2017,"January 1, 2016 - December 31, 2016",null,"Oshawa PUC Networks Inc.","Distribution Expenses – Maintenance","5170","Sentinel Lights - Labour",0]
[2017,"January 1, 2016 - December 31, 2016",null,"Ottawa River Power Corporation","Administrative and General Expenses","5610","Management Salaries and Expenses",190008.63]
[2017,"January 1, 2016 - December 31, 2016",null,"Ottawa River Power Corporation","Administrative and General Expenses","5672","Lease Payment Expense",0]
[2017,"January 1, 2016 - December 31, 2016",null,"Ottawa River Power Corporation","Administrative and General Expenses","5695","OM&A Contra",0]
[2017,"January 1, 2016 - December 31, 2016",null,"Ottawa River Power Corporation","Community Relations","5425","Miscellaneous Customer Service and Informational Expenses",0]
[2017,"January 1, 2016 - December 31, 2016",null,"Ottawa River Power Corporation","Distribution Expenses - Operation","5050","Underground Subtransmission Feeders - Operation",0]
[2017,"January 1, 2016 - December 31, 2016",null,"Ottawa River Power Corporation","Distribution Expenses – Maintenance","5145","Maintenance of Underground Conduit",0]
[2017,"January 1, 2016 - December 31, 2016",null,"PUC Distribution Inc.","Administrative and General Expenses","5505","Supervision",0]
[2017,"January 1, 2016 - December 31, 2016",null,"PUC Distribution Inc.","Administrative and General Expenses","5610","Management Salaries and Expenses",530930.17000000004]
[2017,"January 1, 2016 - December 31, 2016",null,"PUC Distribution Inc.","Administrative and General Expenses","5672","Lease Payment Expense",0]
[2017,"January 1, 2016 - December 31, 2016",null,"PUC Distribution Inc.","Billing and Collecting Total",null,null,1572172.9]
[2017,"January 1, 2016 - December 31, 2016",null,"PUC Distribution Inc.","Distribution Expenses - Operation","5045","Underground Distribution Lines and Feeders - Operation Supplies and Expenses",22823.74]
[2017,"January 1, 2016 - December 31, 2016",null,"PUC Distribution Inc.","Distribution Expenses – Maintenance","5114","Maintenance of Distribution Station Equipment",36394.68]
[2017,"January 1, 2016 - December 31, 2016",null,"PUC Distribution Inc.","Distribution Expenses – Maintenance","5145","Maintenance of Underground Conduit",83892.88]
[2017,"January 1, 2016 - December 31, 2016",null,"PowerStream Inc.","Administrative and General Expenses","5505","Supervision",0]
[2017,"January 1, 2016 - December 31, 2016",null,"PowerStream Inc.","Administrative and General Expenses","5650","Franchise Requirements",0]
[2017,"January 1, 2016 - December 31, 2016",null,"PowerStream Inc.","Billing and Collecting","5340","Miscellaneous Customer Accounts Expenses",0]
[2017,"January 1, 2016 - December 31, 2016",null,"PowerStream Inc.","Distribution Expenses - Operation","5020","Overhead Distribution Lines and Feeders - Operation Labour",889119.04]
[2017,"January 1, 2016 - December 31, 2016",null,"PowerStream Inc.","Distribution Expenses - Operation","5096","Other Rent",123200.49]
[2017,"January 1, 2016 - December 31, 2016",null,"PowerStream Inc.","Distribution Expenses – Maintenance","5114","Maintenance of Distribution Station Equipment",335234.11]
[2017,"January 1, 2016 - December 31, 2016",null,"PowerStream Inc.","Distribution Expenses – Maintenance Total",null,null,8547936.25]
[2017,"January 1, 2016 - December 31, 2016",null,"Renfrew Hydro Inc.","Administrative and General Expenses","5647","Employee Sick Leave",0]
[2017,"January 1, 2016 - December 31, 2016",null,"Renfrew Hydro Inc.","Billing and Collecting","5315","Customer Billing",271007.37]
[2017,"January 1, 2016 - December 31, 2016",null,"Renfrew Hydro Inc.","Distribution Expenses - Operation","5012","Station Buildings and Fixtures Expense",1047.05]
[2017,"January 1, 2016 - December 31, 2016",null,"Renfrew Hydro Inc.","Distribution Expenses - Operation","5095","Overhead Distribution Lines and Feeders - Rental Paid",9843.9500000000007]
[2017,"January 1, 2016 - December 31, 2016",null,"Renfrew Hydro Inc.","Distribution Expenses - Operation","5096","Other Rent",34175.519999999997]
[2017,"January 1, 2016 - December 31, 2016",null,"Rideau St. Lawrence Distribution Inc.","Administrative and General Expenses","5505","Supervision",0]
[2017,"January 1, 2016 - December 31, 2016",null,"Rideau St. Lawrence Distribution Inc.","Administrative and General Expenses","5625","Administrative Expense Transferred/Credit",57006.05]
[2017,"January 1, 2016 - December 31, 2016",null,"Rideau St. Lawrence Distribution Inc.","Administrative and General Expenses","5681","Special Purpose Charge Expense",0]
[2017,"January 1, 2016 - December 31, 2016",null,"Rideau St. Lawrence Distribution Inc.","Distribution Expenses - Operation","5005","Operation Supervision and Engineering",80799.48]
[2017,"January 1, 2016 - December 31, 2016",null,"Rideau St. Lawrence Distribution Inc.","Distribution Expenses - Operation","5060","Street Lighting and Signal System Expense",0]
[2017,"January 1, 2016 - December 31, 2016",null,"Rideau St. Lawrence Distribution Inc.","Distribution Expenses - Operation","5065","Meter Expense",2322.5100000000002]
[2017,"January 1, 2016 - December 31, 2016",null,"Rideau St. Lawrence Distribution Inc.","Distribution Expenses – Maintenance","5160","Maintenance of Line Transformers",13601.64]
[2017,"January 1, 2016 - December 31, 2016",null,"Sioux Lookout Hydro Inc.","Administrative and General Expenses","5520","Miscellaneous Sales Expense",0]
[2017,"January 1, 2016 - December 31, 2016",null,"Sioux Lookout Hydro Inc.","Administrative and General Expenses","5680","Electrical Safety Authority Fees",2614.33]
[2017,"January 1, 2016 - December 31, 2016",null,"Sioux Lookout Hydro Inc.","Community Relations","5410","Community Relations - Sundry",0]
[2017,"January 1, 2016 - December 31, 2016",null,"Sioux Lookout Hydro Inc.","Distribution Expenses - Operation","5035","Overhead Distribution Transformers- Operation",0]
[2017,"January 1, 2016 - December 31, 2016",null,"Sioux Lookout Hydro Inc.","Distribution Expenses - Operation","5060","Street Lighting and Signal System Expense",0]
[2017,"January 1, 2016 - December 31, 2016",null,"Sioux Lookout Hydro Inc.","Distribution Expenses – Maintenance","5130","Maintenance of Overhead Services",0]
[2017,"January 1, 2016 - December 31, 2016",null,"Sioux Lookout Hydro Inc.","Other Expenses","5215","Transmission Charges Recovered",0]
[2017,"January 1, 2016 - December 31, 2016",null,"St. Thomas Energy Inc.","Administrative and General Expenses","5660","General Advertising Expenses",0]
[2017,"January 1, 2016 - December 31, 2016",null,"St. Thomas Energy Inc.","Billing and Collecting","5330","Collection Charges",-283131.90000000002]
[2017,"January 1, 2016 - December 31, 2016",null,"St. Thomas Energy Inc.","Community Relations","5410","Community Relations - Sundry",4613.8]
[2017,"January 1, 2016 - December 31, 2016",null,"St. Thomas Energy Inc.","Distribution Expenses - Operation","5035","Overhead Distribution Transformers- Operation",0]
[2017,"January 1, 2016 - December 31, 2016",null,"St. Thomas Energy Inc.","Distribution Expenses – Maintenance","5110","Maintenance of Buildings and Fixtures - Distribution Stations",489.42]
[2017,"January 1, 2016 - December 31, 2016",null,"St. Thomas Energy Inc.","Other Expenses","5210","Transmission Charges",0]
[2017,"January 1, 2016 - December 31, 2016",null,"Thunder Bay Hydro Electricity Distribution Inc.","Administrative and General Expenses","5645","OMERS Pensions and Benefits",906126.8]
[2017,"January 1, 2016 - December 31, 2016",null,"Thunder Bay Hydro Electricity Distribution Inc.","Billing and Collecting","5305","Supervision",0]
[2017,"January 1, 2016 - December 31, 2016",null,"Thunder Bay Hydro Electricity Distribution Inc.","Billing and Collecting","5330","Collection Charges",0]
[2017,"January 1, 2016 - December 31, 2016",null,"Thunder Bay Hydro Electricity Distribution Inc.","Distribution Expenses - Operation","5016","Distribution Station Equipment - Operation Labour",0]
[2017,"January 1, 2016 - December 31, 2016",null,"Thunder Bay Hydro Electricity Distribution Inc.","Distribution Expenses – Maintenance","5105","Maintenance Supervision and Engineering",1163436.1100000001]
[2017,"January 1, 2016 - December 31, 2016",null,"Thunder Bay Hydro Electricity Distribution Inc.","Distribution Expenses – Maintenance","5175","Maintenance of Meters",59782.400000000001]
[2017,"January 1, 2016 - December 31, 2016",null,"Tillsonburg Hydro Inc.","Administrative and General Expenses","5620","Office Supplies and Expenses",1554]
[2017,"January 1, 2016 - December 31, 2016",null,"Tillsonburg Hydro Inc.","Administrative and General Expenses","5645","OMERS Pensions and Benefits",0]
[2017,"January 1, 2016 - December 31, 2016",null,"Tillsonburg Hydro Inc.","Billing and Collecting","5305","Supervision",0]
[2017,"January 1, 2016 - December 31, 2016",null,"Tillsonburg Hydro Inc.","Distribution Expenses - Operation","5015","Transformer Station Equipment - Operation Supplies and Expenses",0]
[2017,"January 1, 2016 - December 31, 2016",null,"Tillsonburg Hydro Inc.","Distribution Expenses - Operation","5055","Underground Distribution Transformers - Operation",3470.78]
[2017,"January 1, 2016 - December 31, 2016",null,"Tillsonburg Hydro Inc.","Distribution Expenses – Maintenance","5150","Maintenance of Underground Conductors and Devices",10131.59]
[2017,"January 1, 2016 - December 31, 2016",null,"Tillsonburg Hydro Inc.","Distribution Expenses – Maintenance","5172","Sentinel Lights - Materials and Expenses",0]
[2017,"January 1, 2016 - December 31, 2016",null,"Toronto Hydro-Electric System Limited","Administrative and General Expenses","5615","General Administrative Salaries and Expenses",54544883.939999998]
[2017,"January 1, 2016 - December 31, 2016",null,"Toronto Hydro-Electric System Limited","Administrative and General Expenses","5675","Maintenance of General Plant",10393073.539999999]
[2017,"January 1, 2016 - December 31, 2016",null,"Toronto Hydro-Electric System Limited","Community Relations","5425","Miscellaneous Customer Service and Informational Expenses",0]
[2017,"January 1, 2016 - December 31, 2016",null,"Toronto Hydro-Electric System Limited","Distribution Expenses - Operation","5050","Underground Subtransmission Feeders - Operation",0]
[2017,"January 1, 2016 - December 31, 2016",null,"Toronto Hydro-Electric System Limited","Distribution Expenses - Operation","5075","Customer Premises - Materials and Expenses",1542691.02]
[2017,"January 1, 2016 - December 31, 2016",null,"Toronto Hydro-Electric System Limited","Distribution Expenses – Maintenance","5150","Maintenance of Underground Conductors and Devices",6024818.9199999999]
[2017,"January 1, 2016 - December 31, 2016",null,"Veridian Connections Inc.","Administrative and General Expenses","5510","Demonstrating and Selling Expense",0]
[2017,"January 1, 2016 - December 31, 2016",null,"Veridian Connections Inc.","Administrative and General Expenses","5672","Lease Payment Expense",0]
[2017,"January 1, 2016 - December 31, 2016",null,"Veridian Connections Inc.","Billing and Collecting Total",null,null,6676359]
[2017,"January 1, 2016 - December 31, 2016",null,"Veridian Connections Inc.","Distribution Expenses - Operation","5045","Underground Distribution Lines and Feeders - Operation Supplies and Expenses",557622]
[2017,"January 1, 2016 - December 31, 2016",null,"Veridian Connections Inc.","Distribution Expenses - Operation","5050","Underground Subtransmission Feeders - Operation",397]
[2017,"January 1, 2016 - December 31, 2016",null,"Veridian Connections Inc.","Distribution Expenses – Maintenance","5120","Maintenance of Poles, Towers and Fixtures",122668]
[2017,"January 1, 2016 - December 31, 2016",null,"Wasaga Distribution Inc.","Administrative and General Expenses","5505","Supervision",0]
[2017,"January 1, 2016 - December 31, 2016",null,"Wasaga Distribution Inc.","Administrative and General Expenses","5650","Franchise Requirements",0]
[2017,"January 1, 2016 - December 31, 2016",null,"Wasaga Distribution Inc.","Billing and Collecting","5320","Collecting",333887.59999999998]
[2017,"January 1, 2016 - December 31, 2016",null,"Wasaga Distribution Inc.","Distribution Expenses - Operation","5020","Overhead Distribution Lines and Feeders - Operation Labour",0]
[2017,"January 1, 2016 - December 31, 2016",null,"Wasaga Distribution Inc.","Distribution Expenses - Operation","5025","Overhead Distribution Lines and Feeders - Operation Supplies and Expenses",0]
[2017,"January 1, 2016 - December 31, 2016",null,"Wasaga Distribution Inc.","Distribution Expenses – Maintenance","5114","Maintenance of Distribution Station Equipment",0]
[2017,"January 1, 2016 - December 31, 2016",null,"Wasaga Distribution Inc.","Distribution Expenses – Maintenance Total",null,null,732972.09]
[2017,"January 1, 2016 - December 31, 2016",null,"Waterloo North Hydro Inc.","Administrative and General Expenses","5635","Property Insurance",167343]
[2017,"January 1, 2016 - December 31, 2016",null,"Waterloo North Hydro Inc.","Billing and Collecting","5315","Customer Billing",1451875]
[2017,"January 1, 2016 - December 31, 2016",null,"Waterloo North Hydro Inc.","Distribution Expenses - Operation","5012","Station Buildings and Fixtures Expense",240717]
[2017,"January 1, 2016 - December 31, 2016",null,"Waterloo North Hydro Inc.","Distribution Expenses - Operation","5014","Transformer Station Equipment - Operation Labour",261558]
[2017,"January 1, 2016 - December 31, 2016",null,"Waterloo North Hydro Inc.","Distribution Expenses - Operation","5096","Other Rent",0]
[2017,"January 1, 2016 - December 31, 2016",null,"Waterloo North Hydro Inc.","Distribution Expenses – Maintenance","5170","Sentinel Lights - Labour",0]
[2017,"January 1, 2016 - December 31, 2016",null,"Welland Hydro-Electric System Corp.","Administrative and General Expenses","5630","Outside Services Employed",162617.01999999999]
[2017,"January 1, 2016 - December 31, 2016",null,"Welland Hydro-Electric System Corp.","Administrative and General Expenses","5685","Independent Market Operator Fees and Penalties",0]
[2017,"January 1, 2016 - December 31, 2016",null,"Welland Hydro-Electric System Corp.","Billing and Collecting","5305","Supervision",0]
[2017,"January 1, 2016 - December 31, 2016",null,"Welland Hydro-Electric System Corp.","Distribution Expenses - Operation","5010","Load Dispatching",203957.89]
[2017,"January 1, 2016 - December 31, 2016",null,"Welland Hydro-Electric System Corp.","Distribution Expenses - Operation","5065","Meter Expense",299880.84999999998]
[2017,"January 1, 2016 - December 31, 2016",null,"Welland Hydro-Electric System Corp.","Distribution Expenses – Maintenance","5160","Maintenance of Line Transformers",101545.11]
[2017,"January 1, 2016 - December 31, 2016",null,"Wellington North Power Inc.","Administrative and General Expenses","5520","Miscellaneous Sales Expense",0]
[2017,"January 1, 2016 - December 31, 2016",null,"Wellington North Power Inc.","Administrative and General Expenses","5665","Miscellaneous General Expenses",66630.22]
[2017,"January 1, 2016 - December 31, 2016",null,"Wellington North Power Inc.","Administrative and General Expenses","5681","Special Purpose Charge Expense",0]
[2017,"January 1, 2016 - December 31, 2016",null,"Wellington North Power Inc.","Community Relations","5415","Energy Conservation",865]
[2017,"January 1, 2016 - December 31, 2016",null,"Wellington North Power Inc.","Distribution Expenses - Operation","5040","Underground Distribution Lines and Feeders - Operation Labour",194.71]
[2017,"January 1, 2016 - December 31, 2016",null,"Wellington North Power Inc.","Distribution Expenses – Maintenance","5130","Maintenance of Overhead Services",18031.560000000001]
[2017,"January 1, 2016 - December 31, 2016",null,"Wellington North Power Inc.","Other Expenses","5215","Transmission Charges Recovered",0]
[2017,"January 1, 2016 - December 31, 2016",null,"West Coast Huron Energy Inc.","Administrative and General Expenses","5520","Miscellaneous Sales Expense",0]
[2017,"January 1, 2016 - December 31, 2016",null,"West Coast Huron Energy Inc.","Administrative and General Expenses","5665","Miscellaneous General Expenses",33419]
[2017,"January 1, 2016 - December 31, 2016",null,"West Coast Huron Energy Inc.","Billing and Collecting","5335","Bad Debt Expense",19871]
[2017,"January 1, 2016 - December 31, 2016",null,"West Coast Huron Energy Inc.","Distribution Expenses - Operation","5035","Overhead Distribution Transformers- Operation",0]
[2017,"January 1, 2016 - December 31, 2016",null,"West Coast Huron Energy Inc.","Distribution Expenses – Maintenance","5110","Maintenance of Buildings and Fixtures - Distribution Stations",8671]
[2017,"January 1, 2016 - December 31, 2016",null,"West Coast Huron Energy Inc.","Distribution Expenses – Maintenance","5130","Maintenance of Overhead Services",10220]
[2017,"January 1, 2016 - December 31, 2016",null,"West Coast Huron Energy Inc.","Other Expenses","5215","Transmission Charges Recovered",0]
[2017,"January 1, 2016 - December 31, 2016",null,"Westario Power Inc.","Administrative and General Expenses","5646","Employee Pensions and OPEB",0]
[2017,"January 1, 2016 - December 31, 2016",null,"Westario Power Inc.","Billing and Collecting","5330","Collection Charges",42700]
[2017,"January 1, 2016 - December 31, 2016",null,"Westario Power Inc.","Distribution Expenses - Operation","5016","Distribution Station Equipment - Operation Labour",2241]
[2017,"January 1, 2016 - December 31, 2016",null,"Westario Power Inc.","Distribution Expenses - Operation","5090","Underground Distribution Lines and Feeders - Rental Paid",0]
[2017,"January 1, 2016 - December 31, 2016",null,"Westario Power Inc.","Distribution Expenses – Maintenance","5110","Maintenance of Buildings and Fixtures - Distribution Stations",10194]
[2017,"January 1, 2016 - December 31, 2016",null,"Westario Power Inc.","Distribution Expenses – Maintenance","5178","Customer Installations Expenses- Leased Property",0]
[2017,"January 1, 2016 - December 31, 2016",null,"Whitby Hydro Electric Corporation","Administrative and General Expenses","5645","OMERS Pensions and Benefits",0]
[2017,"January 1, 2016 - December 31, 2016",null,"Whitby Hydro Electric Corporation","Billing and Collecting","5305","Supervision",122755.67]
[2017,"January 1, 2016 - December 31, 2016",null,"Whitby Hydro Electric Corporation","Distribution Expenses - Operation","5005","Operation Supervision and Engineering",277549.98]
[2017,"January 1, 2016 - December 31, 2016",null,"Whitby Hydro Electric Corporation","Distribution Expenses - Operation","5016","Distribution Station Equipment - Operation Labour",0]
[2017,"January 1, 2016 - December 31, 2016",null,"Whitby Hydro Electric Corporation","Distribution Expenses - Operation","5090","Underground Distribution Lines and Feeders - Rental Paid",0]
[2017,"January 1, 2016 - December 31, 2016",null,"Whitby Hydro Electric Corporation","Distribution Expenses – Maintenance","5160","Maintenance of Line Transformers",198597.58]
[2018,"January 1, 2017 - December 31, 2017",null,"1937680 Ontario Inc.","Administrative and General Expenses","5620","Office Supplies and Expenses",5187.01]
[2018,"January 1, 2017 - December 31, 2017",null,"1937680 Ontario Inc.","Administrative and General Expenses","5650","Franchise Requirements",0]
[2018,"January 1, 2017 - December 31, 2017",null,"1937680 Ontario Inc.","Community Relations","5425","Miscellaneous Customer Service and Informational Expenses",0]
[2018,"January 1, 2017 - December 31, 2017",null,"1937680 Ontario Inc.","Community Relations Total",null,null,0]
[2018,"January 1, 2017 - December 31, 2017",null,"1937680 Ontario Inc.","Distribution Expenses - Operation","5055","Underground Distribution Transformers - Operation",5776.66]
[2018,"January 1, 2017 - December 31, 2017",null,"1937680 Ontario Inc.","Distribution Expenses – Maintenance","5150","Maintenance of Underground Conductors and Devices",24597.01]
[2018,"January 1, 2017 - December 31, 2017",null,"Alectra Utilities Corporation","Administrative and General Expenses","5510","Demonstrating and Selling Expense",0]
[2018,"January 1, 2017 - December 31, 2017",null,"Alectra Utilities Corporation","Administrative and General Expenses","5672","Lease Payment Expense",0]
[2018,"January 1, 2017 - December 31, 2017",null,"Alectra Utilities Corporation","Billing and Collecting Total",null,null,44060910.869999997]
[2018,"January 1, 2017 - December 31, 2017",null,"Alectra Utilities Corporation","Community Relations","5405","Supervision",1411461.15]
[2018,"January 1, 2017 - December 31, 2017",null,"Alectra Utilities Corporation","Distribution Expenses - Operation","5050","Underground Subtransmission Feeders - Operation",0]
[2018,"January 1, 2017 - December 31, 2017",null,"Alectra Utilities Corporation","Distribution Expenses – Maintenance","5120","Maintenance of Poles, Towers and Fixtures",317016.68]
[2018,"January 1, 2017 - December 31, 2017",null,"Alectra Utilities Corporation","Other Expenses","5205","Purchase of Transmission and System Services",0]
[2018,"January 1, 2017 - December 31, 2017",null,"Algoma Power Inc.","Administrative and General Expenses","5660","General Advertising Expenses",14979.33]
[2018,"January 1, 2017 - December 31, 2017",null,"Algoma Power Inc.","Billing and Collecting","5335","Bad Debt Expense",49190.36]
[2018,"January 1, 2017 - December 31, 2017",null,"Algoma Power Inc.","Community Relations","5415","Energy Conservation",0]
[2018,"January 1, 2017 - December 31, 2017",null,"Algoma Power Inc.","Distribution Expenses - Operation","5040","Underground Distribution Lines and Feeders - Operation Labour",4251.5600000000004]
[2018,"January 1, 2017 - December 31, 2017",null,"Algoma Power Inc.","Distribution Expenses – Maintenance","5112","Maintenance of Transformer Station Equipment",0]
[2018,"January 1, 2017 - December 31, 2017",null,"Algoma Power Inc.","Other Expenses","5215","Transmission Charges Recovered",0]
[2018,"January 1, 2017 - December 31, 2017",null,"Atikokan Hydro Inc.","Administrative and General Expenses","5646","Employee Pensions and OPEB",0]
[2018,"January 1, 2017 - December 31, 2017",null,"Atikokan Hydro Inc.","Billing and Collecting","5310","Meter Reading Expense",30322.86]
[2018,"January 1, 2017 - December 31, 2017",null,"Atikokan Hydro Inc.","Billing and Collecting","5335","Bad Debt Expense",2980.65]
[2018,"January 1, 2017 - December 31, 2017",null,"Atikokan Hydro Inc.","Distribution Expenses - Operation","5017","Distribution Station Equipment - Operation Supplies and Expenses",0]
[2018,"January 1, 2017 - December 31, 2017",null,"Atikokan Hydro Inc.","Distribution Expenses – Maintenance","5110","Maintenance of Buildings and Fixtures - Distribution Stations",0]
[2018,"January 1, 2017 - December 31, 2017",null,"Atikokan Hydro Inc.","Distribution Expenses – Maintenance","5178","Customer Installations Expenses- Leased Property",0]
[2018,"January 1, 2017 - December 31, 2017",null,"Bluewater Power Distribution Corporation","Administrative and General Expenses","5625","Administrative Expense Transferred/Credit",0]
[2018,"January 1, 2017 - December 31, 2017",null,"Bluewater Power Distribution Corporation","Administrative and General Expenses","5646","Employee Pensions and OPEB",435404]
[2018,"January 1, 2017 - December 31, 2017",null,"Bluewater Power Distribution Corporation","Billing and Collecting","5310","Meter Reading Expense",291163.78999999998]
[2018,"January 1, 2017 - December 31, 2017",null,"Bluewater Power Distribution Corporation","Distribution Expenses - Operation","5016","Distribution Station Equipment - Operation Labour",24789]
[2018,"January 1, 2017 - December 31, 2017",null,"Bluewater Power Distribution Corporation","Distribution Expenses - Operation","5090","Underground Distribution Lines and Feeders - Rental Paid",0]
[2018,"January 1, 2017 - December 31, 2017",null,"Bluewater Power Distribution Corporation","Distribution Expenses – Maintenance","5160","Maintenance of Line Transformers",15174.41]
[2018,"January 1, 2017 - December 31, 2017",null,"Bluewater Power Distribution Corporation","Other Expenses","5215","Transmission Charges Recovered",0]
[2018,"January 1, 2017 - December 31, 2017",null,"Brantford Power Inc.","Administrative and General Expenses","5620","Office Supplies and Expenses",75543.72]
[2018,"January 1, 2017 - December 31, 2017",null,"Brantford Power Inc.","Administrative and General Expenses","5680","Electrical Safety Authority Fees",17222]
[2018,"January 1, 2017 - December 31, 2017",null,"Brantford Power Inc.","Community Relations Total",null,null,38460.53]
[2018,"January 1, 2017 - December 31, 2017",null,"Brantford Power Inc.","Distribution Expenses - Operation","5055","Underground Distribution Transformers - Operation",0]
[2018,"January 1, 2017 - December 31, 2017",null,"Brantford Power Inc.","Distribution Expenses - Operation","5085","Miscellaneous Distribution Expense",162030.32]
[2018,"January 1, 2017 - December 31, 2017",null,"Brantford Power Inc.","Distribution Expenses – Maintenance","5155","Maintenance of Underground Services",180315.76]
[2018,"January 1, 2017 - December 31, 2017",null,"Burlington Hydro Inc.","Administrative and General Expenses","5515","Advertising Expense",0]
[2018,"January 1, 2017 - December 31, 2017",null,"Burlington Hydro Inc.","Administrative and General Expenses","5675","Maintenance of General Plant",348211.78]
[2018,"January 1, 2017 - December 31, 2017",null,"Burlington Hydro Inc.","Community Relations","5405","Supervision",0]
[2018,"January 1, 2017 - December 31, 2017",null,"Burlington Hydro Inc.","Community Relations Total",null,null,35025.9]
[2018,"January 1, 2017 - December 31, 2017",null,"Burlington Hydro Inc.","Distribution Expenses - Operation","5055","Underground Distribution Transformers - Operation",9622.44]
[2018,"January 1, 2017 - December 31, 2017",null,"Burlington Hydro Inc.","Distribution Expenses – Maintenance","5125","Maintenance of Overhead Conductors and Devices",1565791]
[2018,"January 1, 2017 - December 31, 2017",null,"Canadian Niagara Power Inc.","Administrative and General Expenses","5510","Demonstrating and Selling Expense",0]
[2018,"January 1, 2017 - December 31, 2017",null,"Canadian Niagara Power Inc.","Administrative and General Expenses","5665","Miscellaneous General Expenses",385580.74]
[2018,"January 1, 2017 - December 31, 2017",null,"Canadian Niagara Power Inc.","Billing and Collecting","5340","Miscellaneous Customer Accounts Expenses",482190.56]
[2018,"January 1, 2017 - December 31, 2017",null,"Canadian Niagara Power Inc.","Community Relations","5420","Community Safety Program",9670]
[2018,"January 1, 2017 - December 31, 2017",null,"Canadian Niagara Power Inc.","Distribution Expenses - Operation","5045","Underground Distribution Lines and Feeders - Operation Supplies and Expenses",104181.04]
[2018,"January 1, 2017 - December 31, 2017",null,"Canadian Niagara Power Inc.","Distribution Expenses – Maintenance","5135","Overhead Distribution Lines and Feeders - Right of Way",442526.91]
[2018,"January 1, 2017 - December 31, 2017",null,"Canadian Niagara Power Inc.","Other Expenses Total",null,null,0]
[2018,"January 1, 2017 - December 31, 2017",null,"Centre Wellington Hydro Ltd.","Administrative and General Expenses","5647","Employee Sick Leave",0]
[2018,"January 1, 2017 - December 31, 2017",null,"Centre Wellington Hydro Ltd.","Billing and Collecting","5335","Bad Debt Expense",13332.57]
[2018,"January 1, 2017 - December 31, 2017",null,"Centre Wellington Hydro Ltd.","Billing and Collecting","5340","Miscellaneous Customer Accounts Expenses",0]
[2018,"January 1, 2017 - December 31, 2017",null,"Centre Wellington Hydro Ltd.","Distribution Expenses - Operation","5020","Overhead Distribution Lines and Feeders - Operation Labour",4917.1899999999996]
[2018,"January 1, 2017 - December 31, 2017",null,"Centre Wellington Hydro Ltd.","Distribution Expenses – Maintenance","5112","Maintenance of Transformer Station Equipment",0]
[2018,"January 1, 2017 - December 31, 2017",null,"Centre Wellington Hydro Ltd.","Distribution Expenses – Maintenance","5195","Maintenance of Other Installations on Customer Premises",0]
[2018,"January 1, 2017 - December 31, 2017",null,"Chapleau Public Utilities Corporation","Administrative and General Expenses","5646","Employee Pensions and OPEB",0]
[2018,"January 1, 2017 - December 31, 2017",null,"Chapleau Public Utilities Corporation","Billing and Collecting","5310","Meter Reading Expense",41027.29]
[2018,"January 1, 2017 - December 31, 2017",null,"Chapleau Public Utilities Corporation","Billing and Collecting","5315","Customer Billing",80401.11]
[2018,"January 1, 2017 - December 31, 2017",null,"Chapleau Public Utilities Corporation","Distribution Expenses - Operation","5017","Distribution Station Equipment - Operation Supplies and Expenses",50]
[2018,"January 1, 2017 - December 31, 2017",null,"Chapleau Public Utilities Corporation","Distribution Expenses - Operation","5085","Miscellaneous Distribution Expense",0]
[2018,"January 1, 2017 - December 31, 2017",null,"Chapleau Public Utilities Corporation","Distribution Expenses – Maintenance","5175","Maintenance of Meters",0]
[2018,"January 1, 2017 - December 31, 2017",null,"Cooperative Hydro Embrun Inc.","Administrative and General Expenses","5620","Office Supplies and Expenses",37011.75]
[2018,"January 1, 2017 - December 31, 2017",null,"Cooperative Hydro Embrun Inc.","Administrative and General Expenses","5680","Electrical Safety Authority Fees",1898]
[2018,"January 1, 2017 - December 31, 2017",null,"Cooperative Hydro Embrun Inc.","Billing and Collecting","5305","Supervision",0]
[2018,"January 1, 2017 - December 31, 2017",null,"Cooperative Hydro Embrun Inc.","Distribution Expenses - Operation","5005","Operation Supervision and Engineering",0]
[2018,"January 1, 2017 - December 31, 2017",null,"Cooperative Hydro Embrun Inc.","Distribution Expenses - Operation","5060","Street Lighting and Signal System Expense",0]
[2018,"January 1, 2017 - December 31, 2017",null,"Cooperative Hydro Embrun Inc.","Distribution Expenses – Maintenance","5155","Maintenance of Underground Services",1800]
[2018,"January 1, 2017 - December 31, 2017",null,"E.L.K. Energy Inc.","Administrative and General Expenses","5515","Advertising Expense",0]
[2018,"January 1, 2017 - December 31, 2017",null,"E.L.K. Energy Inc.","Administrative and General Expenses","5620","Office Supplies and Expenses",82549.14]
[2018,"January 1, 2017 - December 31, 2017",null,"E.L.K. Energy Inc.","Administrative and General Expenses","5680","Electrical Safety Authority Fees",5129]
[2018,"January 1, 2017 - December 31, 2017",null,"E.L.K. Energy Inc.","Community Relations","5410","Community Relations - Sundry",3497.13]
[2018,"January 1, 2017 - December 31, 2017",null,"E.L.K. Energy Inc.","Distribution Expenses - Operation","5055","Underground Distribution Transformers - Operation",10981.54]
[2018,"January 1, 2017 - December 31, 2017",null,"E.L.K. Energy Inc.","Distribution Expenses – Maintenance","5125","Maintenance of Overhead Conductors and Devices",122561.37]
[2018,"January 1, 2017 - December 31, 2017",null,"E.L.K. Energy Inc.","Distribution Expenses – Maintenance","5155","Maintenance of Underground Services",101913.43]
[2018,"January 1, 2017 - December 31, 2017",null,"ENWIN Utilities Ltd.","Administrative and General Expenses","5515","Advertising Expense",0]
[2018,"January 1, 2017 - December 31, 2017",null,"ENWIN Utilities Ltd.","Administrative and General Expenses","5660","General Advertising Expenses",105513.83]
[2018,"January 1, 2017 - December 31, 2017",null,"ENWIN Utilities Ltd.","Community Relations","5405","Supervision",0]
[2018,"January 1, 2017 - December 31, 2017",null,"ENWIN Utilities Ltd.","Distribution Expenses - Operation","5030","Overhead Subtransmission Feeders - Operation",0]
[2018,"January 1, 2017 - December 31, 2017",null,"ENWIN Utilities Ltd.","Distribution Expenses – Maintenance","5105","Maintenance Supervision and Engineering",0]
[2018,"January 1, 2017 - December 31, 2017",null,"ENWIN Utilities Ltd.","Distribution Expenses – Maintenance","5125","Maintenance of Overhead Conductors and Devices",0]
[2018,"January 1, 2017 - December 31, 2017",null,"ENWIN Utilities Ltd.","Other Expenses","5210","Transmission Charges",0]
[2018,"January 1, 2017 - December 31, 2017",null,"EPCOR Electricity Distribution Ontario Inc.","Administrative and General Expenses","5655","Regulatory Expenses",150823.12]
[2018,"January 1, 2017 - December 31, 2017",null,"EPCOR Electricity Distribution Ontario Inc.","Billing and Collecting","5325","Collecting- Cash Over and Short",19.04]
[2018,"January 1, 2017 - December 31, 2017",null,"EPCOR Electricity Distribution Ontario Inc.","Distribution Expenses - Operation","5015","Transformer Station Equipment - Operation Supplies and Expenses",0]
[2018,"January 1, 2017 - December 31, 2017",null,"EPCOR Electricity Distribution Ontario Inc.","Distribution Expenses - Operation","5030","Overhead Subtransmission Feeders - Operation",0]
[2018,"January 1, 2017 - December 31, 2017",null,"EPCOR Electricity Distribution Ontario Inc.","Distribution Expenses – Maintenance","5105","Maintenance Supervision and Engineering",174452.92]
[2018,"January 1, 2017 - December 31, 2017",null,"EPCOR Electricity Distribution Ontario Inc.","Distribution Expenses – Maintenance","5175","Maintenance of Meters",286680.90999999997]
[2018,"January 1, 2017 - December 31, 2017",null,"ERTH Power Corporation","Administrative and General Expenses","5640","Injuries and Damages",0]
[2018,"January 1, 2017 - December 31, 2017",null,"ERTH Power Corporation","Administrative and General Expenses Total",null,null,3302780.35]
[2018,"January 1, 2017 - December 31, 2017",null,"ERTH Power Corporation","Community Relations Total",null,null,65038.21]
[2018,"January 1, 2017 - December 31, 2017",null,"ERTH Power Corporation","Distribution Expenses - Operation","5014","Transformer Station Equipment - Operation Labour",0]
[2018,"January 1, 2017 - December 31, 2017",null,"ERTH Power Corporation","Distribution Expenses - Operation","5075","Customer Premises - Materials and Expenses",0]
[2018,"January 1, 2017 - December 31, 2017",null,"ERTH Power Corporation","Distribution Expenses – Maintenance","5170","Sentinel Lights - Labour",0]
[2018,"January 1, 2017 - December 31, 2017",null,"Energy Plus Inc.","Administrative and General Expenses","5610","Management Salaries and Expenses",2211518.94]
[2018,"January 1, 2017 - December 31, 2017",null,"Energy Plus Inc.","Administrative and General Expenses","5685","Independent Market Operator Fees and Penalties",0]
[2018,"January 1, 2017 - December 31, 2017",null,"Energy Plus Inc.","Administrative and General Expenses","5695","OM&A Contra",-302169.09000000003]
[2018,"January 1, 2017 - December 31, 2017",null,"Energy Plus Inc.","Community Relations","5425","Miscellaneous Customer Service and Informational Expenses",0]
[2018,"January 1, 2017 - December 31, 2017",null,"Energy Plus Inc.","Distribution Expenses - Operation","5070","Customer Premises - Operation Labour",1987.06]
[2018,"January 1, 2017 - December 31, 2017",null,"Energy Plus Inc.","Distribution Expenses – Maintenance","5145","Maintenance of Underground Conduit",30605.360000000001]
[2018,"January 1, 2017 - December 31, 2017",null,"Entegrus Powerlines Inc.","Administrative and General Expenses","5505","Supervision",0]
[2018,"January 1, 2017 - December 31, 2017",null,"Entegrus Powerlines Inc.","Administrative and General Expenses","5670","Rent",0]
[2018,"January 1, 2017 - December 31, 2017",null,"Entegrus Powerlines Inc.","Administrative and General Expenses","5672","Lease Payment Expense",0]
[2018,"January 1, 2017 - December 31, 2017",null,"Entegrus Powerlines Inc.","Community Relations","5420","Community Safety Program",0]
[2018,"January 1, 2017 - December 31, 2017",null,"Entegrus Powerlines Inc.","Distribution Expenses - Operation","5045","Underground Distribution Lines and Feeders - Operation Supplies and Expenses",158660.76999999999]
[2018,"January 1, 2017 - December 31, 2017",null,"Entegrus Powerlines Inc.","Distribution Expenses – Maintenance","5114","Maintenance of Distribution Station Equipment",135679.70000000001]
[2018,"January 1, 2017 - December 31, 2017",null,"Entegrus Powerlines Inc.","Other Expenses Total",null,null,0]
[2018,"January 1, 2017 - December 31, 2017",null,"Espanola Regional Hydro Distribution Corporation","Administrative and General Expenses","5647","Employee Sick Leave",0]
[2018,"January 1, 2017 - December 31, 2017",null,"Espanola Regional Hydro Distribution Corporation","Administrative and General Expenses","5650","Franchise Requirements",0]
[2018,"January 1, 2017 - December 31, 2017",null,"Espanola Regional Hydro Distribution Corporation","Billing and Collecting","5340","Miscellaneous Customer Accounts Expenses",0]
[2018,"January 1, 2017 - December 31, 2017",null,"Espanola Regional Hydro Distribution Corporation","Distribution Expenses - Operation","5020","Overhead Distribution Lines and Feeders - Operation Labour",53406.66]
[2018,"January 1, 2017 - December 31, 2017",null,"Espanola Regional Hydro Distribution Corporation","Distribution Expenses – Maintenance","5112","Maintenance of Transformer Station Equipment",0]
[2018,"January 1, 2017 - December 31, 2017",null,"Espanola Regional Hydro Distribution Corporation","Distribution Expenses – Maintenance","5195","Maintenance of Other Installations on Customer Premises",0]
[2018,"January 1, 2017 - December 31, 2017",null,"Essex Powerlines Corporation","Administrative and General Expenses","5630","Outside Services Employed",91820.04]
[2018,"January 1, 2017 - December 31, 2017",null,"Essex Powerlines Corporation","Administrative and General Expenses","5647","Employee Sick Leave",0]
[2018,"January 1, 2017 - December 31, 2017",null,"Essex Powerlines Corporation","Billing and Collecting","5315","Customer Billing",597990.51]
[2018,"January 1, 2017 - December 31, 2017",null,"Essex Powerlines Corporation","Distribution Expenses - Operation","5017","Distribution Station Equipment - Operation Supplies and Expenses",0]
[2018,"January 1, 2017 - December 31, 2017",null,"Essex Powerlines Corporation","Distribution Expenses - Operation","5095","Overhead Distribution Lines and Feeders - Rental Paid",0]
[2018,"January 1, 2017 - December 31, 2017",null,"Essex Powerlines Corporation","Distribution Expenses – Maintenance","5165","Maintenance of Street Lighting and Signal Systems",0]
[2018,"January 1, 2017 - December 31, 2017",null,"Essex Powerlines Corporation","Distribution Expenses – Maintenance","5195","Maintenance of Other Installations on Customer Premises",0]
[2018,"January 1, 2017 - December 31, 2017",null,"Festival Hydro Inc.","Administrative and General Expenses","5630","Outside Services Employed",101581.12]
[2018,"January 1, 2017 - December 31, 2017",null,"Festival Hydro Inc.","Administrative and General Expenses","5672","Lease Payment Expense",0]
[2018,"January 1, 2017 - December 31, 2017",null,"Festival Hydro Inc.","Distribution Expenses - Operation","5005","Operation Supervision and Engineering",110235.42]
[2018,"January 1, 2017 - December 31, 2017",null,"Festival Hydro Inc.","Distribution Expenses - Operation","5060","Street Lighting and Signal System Expense",0]
[2018,"January 1, 2017 - December 31, 2017",null,"Festival Hydro Inc.","Distribution Expenses - Operation","5090","Underground Distribution Lines and Feeders - Rental Paid",0]
[2018,"January 1, 2017 - December 31, 2017",null,"Festival Hydro Inc.","Distribution Expenses – Maintenance","5160","Maintenance of Line Transformers",13962.88]
[2018,"January 1, 2017 - December 31, 2017",null,"Fort Frances Power Corporation","Administrative and General Expenses","5520","Miscellaneous Sales Expense",0]
[2018,"January 1, 2017 - December 31, 2017",null,"Fort Frances Power Corporation","Administrative and General Expenses","5680","Electrical Safety Authority Fees",5416]
[2018,"January 1, 2017 - December 31, 2017",null,"Fort Frances Power Corporation","Community Relations","5410","Community Relations - Sundry",13365.82]
[2018,"January 1, 2017 - December 31, 2017",null,"Fort Frances Power Corporation","Distribution Expenses - Operation","5005","Operation Supervision and Engineering",97663.96]
[2018,"January 1, 2017 - December 31, 2017",null,"Fort Frances Power Corporation","Distribution Expenses - Operation","5060","Street Lighting and Signal System Expense",0]
[2018,"January 1, 2017 - December 31, 2017",null,"Fort Frances Power Corporation","Distribution Expenses – Maintenance","5130","Maintenance of Overhead Services",4214.92]
[2018,"January 1, 2017 - December 31, 2017",null,"Greater Sudbury Hydro Inc.","Administrative and General Expenses","5515","Advertising Expense",0]
[2018,"January 1, 2017 - December 31, 2017",null,"Greater Sudbury Hydro Inc.","Administrative and General Expenses","5660","General Advertising Expenses",294774.56]
[2018,"January 1, 2017 - December 31, 2017",null,"Greater Sudbury Hydro Inc.","Billing and Collecting","5330","Collection Charges",0]
[2018,"January 1, 2017 - December 31, 2017",null,"Greater Sudbury Hydro Inc.","Community Relations","5410","Community Relations - Sundry",0]
[2018,"January 1, 2017 - December 31, 2017",null,"Greater Sudbury Hydro Inc.","Distribution Expenses - Operation","5035","Overhead Distribution Transformers- Operation",104177.93]
[2018,"January 1, 2017 - December 31, 2017",null,"Greater Sudbury Hydro Inc.","Distribution Expenses – Maintenance","5125","Maintenance of Overhead Conductors and Devices",210041.82]
[2018,"January 1, 2017 - December 31, 2017",null,"Greater Sudbury Hydro Inc.","Other Expenses","5210","Transmission Charges",0]
[2018,"January 1, 2017 - December 31, 2017",null,"Grimsby Power Incorporated","Administrative and General Expenses","5645","OMERS Pensions and Benefits",11532.42]
[2018,"January 1, 2017 - December 31, 2017",null,"Grimsby Power Incorporated","Administrative and General Expenses","5660","General Advertising Expenses",10763.15]
[2018,"January 1, 2017 - December 31, 2017",null,"Grimsby Power Incorporated","Billing and Collecting","5330","Collection Charges",1004.8]
[2018,"January 1, 2017 - December 31, 2017",null,"Grimsby Power Incorporated","Distribution Expenses - Operation","5016","Distribution Station Equipment - Operation Labour",0]
[2018,"January 1, 2017 - December 31, 2017",null,"Grimsby Power Incorporated","Distribution Expenses – Maintenance","5105","Maintenance Supervision and Engineering",228276.83]
[2018,"January 1, 2017 - December 31, 2017",null,"Grimsby Power Incorporated","Distribution Expenses – Maintenance","5175","Maintenance of Meters",0]
[2018,"January 1, 2017 - December 31, 2017",null,"Guelph Hydro Electric Systems Inc.","Administrative and General Expenses","5640","Injuries and Damages",164642.04]
[2018,"January 1, 2017 - December 31, 2017",null,"Guelph Hydro Electric Systems Inc.","Administrative and General Expenses","5645","OMERS Pensions and Benefits",757709.62]
[2018,"January 1, 2017 - December 31, 2017",null,"Guelph Hydro Electric Systems Inc.","Billing and Collecting","5305","Supervision",724509.63]
[2018,"January 1, 2017 - December 31, 2017",null,"Guelph Hydro Electric Systems Inc.","Distribution Expenses - Operation","5015","Transformer Station Equipment - Operation Supplies and Expenses",0]
[2018,"January 1, 2017 - December 31, 2017",null,"Guelph Hydro Electric Systems Inc.","Distribution Expenses - Operation","5085","Miscellaneous Distribution Expense",1684589.33]
[2018,"January 1, 2017 - December 31, 2017",null,"Guelph Hydro Electric Systems Inc.","Distribution Expenses – Maintenance","5172","Sentinel Lights - Materials and Expenses",0]
[2018,"January 1, 2017 - December 31, 2017",null,"Halton Hills Hydro Inc.","Administrative and General Expenses","5505","Supervision",0]
[2018,"January 1, 2017 - December 31, 2017",null,"Halton Hills Hydro Inc.","Administrative and General Expenses","5615","General Administrative Salaries and Expenses",859977.63]
[2018,"January 1, 2017 - December 31, 2017",null,"Halton Hills Hydro Inc.","Administrative and General Expenses","5695","OM&A Contra",0]
[2018,"January 1, 2017 - December 31, 2017",null,"Halton Hills Hydro Inc.","Community Relations","5425","Miscellaneous Customer Service and Informational Expenses",0]
[2018,"January 1, 2017 - December 31, 2017",null,"Halton Hills Hydro Inc.","Distribution Expenses - Operation","5050","Underground Subtransmission Feeders - Operation",0]
[2018,"January 1, 2017 - December 31, 2017",null,"Halton Hills Hydro Inc.","Distribution Expenses – Maintenance","5145","Maintenance of Underground Conduit",0]
[2018,"January 1, 2017 - December 31, 2017",null,"Hearst Power Distribution Company Limited","Administrative and General Expenses","5505","Supervision",0]
[2018,"January 1, 2017 - December 31, 2017",null,"Hearst Power Distribution Company Limited","Administrative and General Expenses","5610","Management Salaries and Expenses",0]
[2018,"January 1, 2017 - December 31, 2017",null,"Hearst Power Distribution Company Limited","Administrative and General Expenses","5672","Lease Payment Expense",0]
[2018,"January 1, 2017 - December 31, 2017",null,"Hearst Power Distribution Company Limited","Billing and Collecting Total",null,null,311124.59000000003]
[2018,"January 1, 2017 - December 31, 2017",null,"Hearst Power Distribution Company Limited","Distribution Expenses - Operation","5045","Underground Distribution Lines and Feeders - Operation Supplies and Expenses",38.97]
[2018,"January 1, 2017 - December 31, 2017",null,"Hearst Power Distribution Company Limited","Distribution Expenses – Maintenance","5114","Maintenance of Distribution Station Equipment",0]
[2018,"January 1, 2017 - December 31, 2017",null,"Hearst Power Distribution Company Limited","Distribution Expenses – Maintenance Total",null,null,257745.32]
[2018,"January 1, 2017 - December 31, 2017",null,"Hydro 2000 Inc.","Administrative and General Expenses","5505","Supervision",0]
[2018,"January 1, 2017 - December 31, 2017",null,"Hydro 2000 Inc.","Administrative and General Expenses","5650","Franchise Requirements",0]
[2018,"January 1, 2017 - December 31, 2017",null,"Hydro 2000 Inc.","Billing and Collecting","5340","Miscellaneous Customer Accounts Expenses",0]
[2018,"January 1, 2017 - December 31, 2017",null,"Hydro 2000 Inc.","Distribution Expenses - Operation","5020","Overhead Distribution Lines and Feeders - Operation Labour",19714.96]
[2018,"January 1, 2017 - December 31, 2017",null,"Hydro 2000 Inc.","Distribution Expenses - Operation","5096","Other Rent",0]
[2018,"January 1, 2017 - December 31, 2017",null,"Hydro 2000 Inc.","Distribution Expenses – Maintenance","5114","Maintenance of Distribution Station Equipment",0]
[2018,"January 1, 2017 - December 31, 2017",null,"Hydro 2000 Inc.","Distribution Expenses – Maintenance Total",null,null,43625.14]
[2018,"January 1, 2017 - December 31, 2017",null,"Hydro Hawkesbury Inc.","Administrative and General Expenses","5647","Employee Sick Leave",0]
[2018,"January 1, 2017 - December 31, 2017",null,"Hydro Hawkesbury Inc.","Billing and Collecting","5315","Customer Billing",239970.67]
[2018,"January 1, 2017 - December 31, 2017",null,"Hydro Hawkesbury Inc.","Distribution Expenses - Operation","5012","Station Buildings and Fixtures Expense",0]
[2018,"January 1, 2017 - December 31, 2017",null,"Hydro Hawkesbury Inc.","Distribution Expenses - Operation","5020","Overhead Distribution Lines and Feeders - Operation Labour",14300.89]
[2018,"January 1, 2017 - December 31, 2017",null,"Hydro Hawkesbury Inc.","Distribution Expenses - Operation","5096","Other Rent",0]
[2018,"January 1, 2017 - December 31, 2017",null,"Hydro Hawkesbury Inc.","Distribution Expenses – Maintenance","5170","Sentinel Lights - Labour",0]
[2018,"January 1, 2017 - December 31, 2017",null,"Hydro One Networks Inc.","Administrative and General Expenses","5630","Outside Services Employed",19475017.16]
[2018,"January 1, 2017 - December 31, 2017",null,"Hydro One Networks Inc.","Billing and Collecting","5305","Supervision",0]
[2018,"January 1, 2017 - December 31, 2017",null,"Hydro One Networks Inc.","Billing and Collecting","5330","Collection Charges",0]
[2018,"January 1, 2017 - December 31, 2017",null,"Hydro One Networks Inc.","Distribution Expenses - Operation","5016","Distribution Station Equipment - Operation Labour",3493253.04]
[2018,"January 1, 2017 - December 31, 2017",null,"Hydro One Networks Inc.","Distribution Expenses - Operation","5095","Overhead Distribution Lines and Feeders - Rental Paid",0]
[2018,"January 1, 2017 - December 31, 2017",null,"Hydro One Networks Inc.","Distribution Expenses – Maintenance","5172","Sentinel Lights - Materials and Expenses",99631.2]
[2018,"January 1, 2017 - December 31, 2017",null,"Hydro One Remote Communities Inc.","Administrative and General Expenses","5615","General Administrative Salaries and Expenses",1579009.06]
[2018,"January 1, 2017 - December 31, 2017",null,"Hydro One Remote Communities Inc.","Administrative and General Expenses","5640","Injuries and Damages",0]
[2018,"January 1, 2017 - December 31, 2017",null,"Hydro One Remote Communities Inc.","Billing and Collecting","5315","Customer Billing",1167319.46]
[2018,"January 1, 2017 - December 31, 2017",null,"Hydro One Remote Communities Inc.","Distribution Expenses - Operation","5012","Station Buildings and Fixtures Expense",0]
[2018,"January 1, 2017 - December 31, 2017",null,"Hydro One Remote Communities Inc.","Distribution Expenses - Operation","5095","Overhead Distribution Lines and Feeders - Rental Paid",0]
[2018,"January 1, 2017 - December 31, 2017",null,"Hydro One Remote Communities Inc.","Distribution Expenses – Maintenance","5165","Maintenance of Street Lighting and Signal Systems",0]
[2018,"January 1, 2017 - December 31, 2017",null,"Hydro Ottawa Limited","Administrative and General Expenses","5605","Executive Salaries and Expenses",2516469.4700000002]
[2018,"January 1, 2017 - December 31, 2017",null,"Hydro Ottawa Limited","Administrative and General Expenses","5630","Outside Services Employed",1140959.6599999999]
[2018,"January 1, 2017 - December 31, 2017",null,"Hydro Ottawa Limited","Administrative and General Expenses","5685","Independent Market Operator Fees and Penalties",0]
[2018,"January 1, 2017 - December 31, 2017",null,"Hydro Ottawa Limited","Distribution Expenses - Operation","5010","Load Dispatching",3079818.01]
[2018,"January 1, 2017 - December 31, 2017",null,"Hydro Ottawa Limited","Distribution Expenses - Operation","5065","Meter Expense",572913.30000000005]
[2018,"January 1, 2017 - December 31, 2017",null,"Hydro Ottawa Limited","Distribution Expenses – Maintenance","5135","Overhead Distribution Lines and Feeders - Right of Way",4394454.17]
[2018,"January 1, 2017 - December 31, 2017",null,"Innpower Corporation","Administrative and General Expenses","5520","Miscellaneous Sales Expense",0]
[2018,"January 1, 2017 - December 31, 2017",null,"Innpower Corporation","Administrative and General Expenses","5605","Executive Salaries and Expenses",214215.43]
[2018,"January 1, 2017 - December 31, 2017",null,"Innpower Corporation","Administrative and General Expenses","5670","Rent",732.31]
[2018,"January 1, 2017 - December 31, 2017",null,"Innpower Corporation","Community Relations","5415","Energy Conservation",0]
[2018,"January 1, 2017 - December 31, 2017",null,"Innpower Corporation","Distribution Expenses - Operation","5040","Underground Distribution Lines and Feeders - Operation Labour",15503.6]
[2018,"January 1, 2017 - December 31, 2017",null,"Innpower Corporation","Distribution Expenses – Maintenance","5130","Maintenance of Overhead Services",93011.05]
[2018,"January 1, 2017 - December 31, 2017",null,"Innpower Corporation","Other Expenses","5215","Transmission Charges Recovered",0]
[2018,"January 1, 2017 - December 31, 2017",null,"Innpower Corporation","Other Expenses Total",null,null,0]
[2018,"January 1, 2017 - December 31, 2017",null,"Kenora Hydro Electric Corporation Ltd.","Administrative and General Expenses","5665","Miscellaneous General Expenses",27600]
[2018,"January 1, 2017 - December 31, 2017",null,"Kenora Hydro Electric Corporation Ltd.","Billing and Collecting","5335","Bad Debt Expense",-4602]
[2018,"January 1, 2017 - December 31, 2017",null,"Kenora Hydro Electric Corporation Ltd.","Distribution Expenses - Operation","5035","Overhead Distribution Transformers- Operation",2367]
[2018,"January 1, 2017 - December 31, 2017",null,"Kenora Hydro Electric Corporation Ltd.","Distribution Expenses – Maintenance","5110","Maintenance of Buildings and Fixtures - Distribution Stations",0]
[2018,"January 1, 2017 - December 31, 2017",null,"Kenora Hydro Electric Corporation Ltd.","Distribution Expenses – Maintenance","5178","Customer Installations Expenses- Leased Property",0]
[2018,"January 1, 2017 - December 31, 2017",null,"Kenora Hydro Electric Corporation Ltd.","Other Expenses","5215","Transmission Charges Recovered",0]
[2018,"January 1, 2017 - December 31, 2017",null,"Kingston Hydro Corporation","Administrative and General Expenses","5646","Employee Pensions and OPEB",0]
[2018,"January 1, 2017 - December 31, 2017",null,"Kingston Hydro Corporation","Billing and Collecting","5310","Meter Reading Expense",192274]
[2018,"January 1, 2017 - December 31, 2017",null,"Kingston Hydro Corporation","Distribution Expenses - Operation","5016","Distribution Station Equipment - Operation Labour",77239]
[2018,"January 1, 2017 - December 31, 2017",null,"Kingston Hydro Corporation","Distribution Expenses - Operation","5045","Underground Distribution Lines and Feeders - Operation Supplies and Expenses",32033]
[2018,"January 1, 2017 - December 31, 2017",null,"Kingston Hydro Corporation","Distribution Expenses – Maintenance","5105","Maintenance Supervision and Engineering",41520]
[2018,"January 1, 2017 - December 31, 2017",null,"Kingston Hydro Corporation","Distribution Expenses – Maintenance","5175","Maintenance of Meters",0]
[2018,"January 1, 2017 - December 31, 2017",null,"Kitchener-Wilmot Hydro Inc.","Administrative and General Expenses","5620","Office Supplies and Expenses",164824.46]
[2018,"January 1, 2017 - December 31, 2017",null,"Kitchener-Wilmot Hydro Inc.","Administrative and General Expenses Total",null,null,2733194.53]
[2018,"January 1, 2017 - December 31, 2017",null,"Kitchener-Wilmot Hydro Inc.","Community Relations Total",null,null,220472.62]
[2018,"January 1, 2017 - December 31, 2017",null,"Kitchener-Wilmot Hydro Inc.","Distribution Expenses - Operation","5015","Transformer Station Equipment - Operation Supplies and Expenses",612847.06999999995]
[2018,"January 1, 2017 - December 31, 2017",null,"Kitchener-Wilmot Hydro Inc.","Distribution Expenses - Operation","5085","Miscellaneous Distribution Expense",0]
[2018,"January 1, 2017 - December 31, 2017",null,"Kitchener-Wilmot Hydro Inc.","Distribution Expenses – Maintenance","5155","Maintenance of Underground Services",250723.6]
[2018,"January 1, 2017 - December 31, 2017",null,"Lakefront Utilities Inc.","Administrative and General Expenses","5615","General Administrative Salaries and Expenses",324071.94]
[2018,"January 1, 2017 - December 31, 2017",null,"Lakefront Utilities Inc.","Administrative and General Expenses","5675","Maintenance of General Plant",55742.75]
[2018,"January 1, 2017 - December 31, 2017",null,"Lakefront Utilities Inc.","Community Relations","5405","Supervision",0]
[2018,"January 1, 2017 - December 31, 2017",null,"Lakefront Utilities Inc.","Community Relations Total",null,null,15276.12]
[2018,"January 1, 2017 - December 31, 2017",null,"Lakefront Utilities Inc.","Distribution Expenses - Operation","5055","Underground Distribution Transformers - Operation",0]
[2018,"January 1, 2017 - December 31, 2017",null,"Lakefront Utilities Inc.","Distribution Expenses – Maintenance","5150","Maintenance of Underground Conductors and Devices",0]
[2018,"January 1, 2017 - December 31, 2017",null,"Lakeland Power Distribution Ltd.","Administrative and General Expenses","5510","Demonstrating and Selling Expense",0]
[2018,"January 1, 2017 - December 31, 2017",null,"Lakeland Power Distribution Ltd.","Administrative and General Expenses","5655","Regulatory Expenses",73517.990000000005]
[2018,"January 1, 2017 - December 31, 2017",null,"Lakeland Power Distribution Ltd.","Administrative and General Expenses","5675","Maintenance of General Plant",443875.65]
[2018,"January 1, 2017 - December 31, 2017",null,"Lakeland Power Distribution Ltd.","Community Relations","5405","Supervision",0]
[2018,"January 1, 2017 - December 31, 2017",null,"Lakeland Power Distribution Ltd.","Distribution Expenses - Operation","5030","Overhead Subtransmission Feeders - Operation",0]
[2018,"January 1, 2017 - December 31, 2017",null,"Lakeland Power Distribution Ltd.","Distribution Expenses – Maintenance","5120","Maintenance of Poles, Towers and Fixtures",169.92]
[2018,"January 1, 2017 - December 31, 2017",null,"Lakeland Power Distribution Ltd.","Other Expenses","5205","Purchase of Transmission and System Services",0]
[2018,"January 1, 2017 - December 31, 2017",null,"London Hydro Inc.","Administrative and General Expenses","5510","Demonstrating and Selling Expense",0]
[2018,"January 1, 2017 - December 31, 2017",null,"London Hydro Inc.","Administrative and General Expenses","5655","Regulatory Expenses",820573.1]
[2018,"January 1, 2017 - December 31, 2017",null,"London Hydro Inc.","Billing and Collecting","5325","Collecting- Cash Over and Short",0]
[2018,"January 1, 2017 - December 31, 2017",null,"London Hydro Inc.","Distribution Expenses - Operation","5025","Overhead Distribution Lines and Feeders - Operation Supplies and Expenses",295355.49]
[2018,"January 1, 2017 - December 31, 2017",null,"London Hydro Inc.","Distribution Expenses - Operation Total",null,null,9494979.9499999993]
[2018,"January 1, 2017 - December 31, 2017",null,"London Hydro Inc.","Distribution Expenses – Maintenance Total",null,null,8484781.3200000003]
[2018,"January 1, 2017 - December 31, 2017",null,"London Hydro Inc.","Other Expenses","5205","Purchase of Transmission and System Services",0]
[2018,"January 1, 2017 - December 31, 2017",null,"Midland Power Utility Corporation","Administrative and General Expenses","5640","Injuries and Damages",20562.96]
[2018,"January 1, 2017 - December 31, 2017",null,"Midland Power Utility Corporation","Billing and Collecting","5340","Miscellaneous Customer Accounts Expenses",0]
[2018,"January 1, 2017 - December 31, 2017",null,"Midland Power Utility Corporation","Distribution Expenses - Operation","5012","Station Buildings and Fixtures Expense",77477.14]
[2018,"January 1, 2017 - December 31, 2017",null,"Midland Power Utility Corporation","Distribution Expenses - Operation","5070","Customer Premises - Operation Labour",35798.660000000003]
[2018,"January 1, 2017 - December 31, 2017",null,"Midland Power Utility Corporation","Distribution Expenses – Maintenance","5165","Maintenance of Street Lighting and Signal Systems",0]
[2018,"January 1, 2017 - December 31, 2017",null,"Midland Power Utility Corporation","Distribution Expenses – Maintenance","5170","Sentinel Lights - Labour",0]
[2018,"January 1, 2017 - December 31, 2017",null,"Milton Hydro Distribution Inc.","Administrative and General Expenses","5630","Outside Services Employed",326825]
[2018,"January 1, 2017 - December 31, 2017",null,"Milton Hydro Distribution Inc.","Administrative and General Expenses","5685","Independent Market Operator Fees and Penalties",0]
[2018,"January 1, 2017 - December 31, 2017",null,"Milton Hydro Distribution Inc.","Community Relations","5420","Community Safety Program",0]
[2018,"January 1, 2017 - December 31, 2017",null,"Milton Hydro Distribution Inc.","Distribution Expenses - Operation","5065","Meter Expense",334074]
[2018,"January 1, 2017 - December 31, 2017",null,"Milton Hydro Distribution Inc.","Distribution Expenses – Maintenance","5135","Overhead Distribution Lines and Feeders - Right of Way",259508]
[2018,"January 1, 2017 - December 31, 2017",null,"Milton Hydro Distribution Inc.","Distribution Expenses – Maintenance","5145","Maintenance of Underground Conduit",0]
[2018,"January 1, 2017 - December 31, 2017",null,"Newmarket-Tay Power Distribution Ltd.","Administrative and General Expenses","5605","Executive Salaries and Expenses",133275.85999999999]
[2018,"January 1, 2017 - December 31, 2017",null,"Newmarket-Tay Power Distribution Ltd.","Administrative and General Expenses","5670","Rent",250976.59]
[2018,"January 1, 2017 - December 31, 2017",null,"Newmarket-Tay Power Distribution Ltd.","Community Relations","5415","Energy Conservation",0]
[2018,"January 1, 2017 - December 31, 2017",null,"Newmarket-Tay Power Distribution Ltd.","Distribution Expenses - Operation","5040","Underground Distribution Lines and Feeders - Operation Labour",329717.34000000003]
[2018,"January 1, 2017 - December 31, 2017",null,"Newmarket-Tay Power Distribution Ltd.","Distribution Expenses – Maintenance","5112","Maintenance of Transformer Station Equipment",0]
[2018,"January 1, 2017 - December 31, 2017",null,"Newmarket-Tay Power Distribution Ltd.","Distribution Expenses – Maintenance","5135","Overhead Distribution Lines and Feeders - Right of Way",110687.75]
[2018,"January 1, 2017 - December 31, 2017",null,"Newmarket-Tay Power Distribution Ltd.","Other Expenses Total",null,null,0]
[2018,"January 1, 2017 - December 31, 2017",null,"Niagara Peninsula Energy Inc.","Administrative and General Expenses","5665","Miscellaneous General Expenses",83824.41]
[2018,"January 1, 2017 - December 31, 2017",null,"Niagara Peninsula Energy Inc.","Billing and Collecting","5335","Bad Debt Expense",263168.46000000002]
[2018,"January 1, 2017 - December 31, 2017",null,"Niagara Peninsula Energy Inc.","Distribution Expenses - Operation","5017","Distribution Station Equipment - Operation Supplies and Expenses",0]
[2018,"January 1, 2017 - December 31, 2017",null,"Niagara Peninsula Energy Inc.","Distribution Expenses - Operation","5040","Underground Distribution Lines and Feeders - Operation Labour",120416.18]
[2018,"January 1, 2017 - December 31, 2017",null,"Niagara Peninsula Energy Inc.","Distribution Expenses – Maintenance","5112","Maintenance of Transformer Station Equipment",0]
[2018,"January 1, 2017 - December 31, 2017",null,"Niagara Peninsula Energy Inc.","Distribution Expenses – Maintenance","5195","Maintenance of Other Installations on Customer Premises",0]
[2018,"January 1, 2017 - December 31, 2017",null,"Niagara-on-the-Lake Hydro Inc.","Administrative and General Expenses","5646","Employee Pensions and OPEB",0]
[2018,"January 1, 2017 - December 31, 2017",null,"Niagara-on-the-Lake Hydro Inc.","Billing and Collecting","5310","Meter Reading Expense",96976.82]
[2018,"January 1, 2017 - December 31, 2017",null,"Niagara-on-the-Lake Hydro Inc.","Billing and Collecting","5335","Bad Debt Expense",17788.759999999998]
[2018,"January 1, 2017 - December 31, 2017",null,"Niagara-on-the-Lake Hydro Inc.","Distribution Expenses - Operation","5017","Distribution Station Equipment - Operation Supplies and Expenses",0]
[2018,"January 1, 2017 - December 31, 2017",null,"Niagara-on-the-Lake Hydro Inc.","Distribution Expenses - Operation","5095","Overhead Distribution Lines and Feeders - Rental Paid",16653.12]
[2018,"January 1, 2017 - December 31, 2017",null,"Niagara-on-the-Lake Hydro Inc.","Distribution Expenses – Maintenance","5178","Customer Installations Expenses- Leased Property",0]
[2018,"January 1, 2017 - December 31, 2017",null,"North Bay Hydro Distribution Limited","Administrative and General Expenses","5610","Management Salaries and Expenses",945876.22]
[2018,"January 1, 2017 - December 31, 2017",null,"North Bay Hydro Distribution Limited","Administrative and General Expenses","5645","OMERS Pensions and Benefits",361084.94]
[2018,"January 1, 2017 - December 31, 2017",null,"North Bay Hydro Distribution Limited","Billing and Collecting","5305","Supervision",0]
[2018,"January 1, 2017 - December 31, 2017",null,"North Bay Hydro Distribution Limited","Distribution Expenses - Operation","5005","Operation Supervision and Engineering",0]
[2018,"January 1, 2017 - December 31, 2017",null,"North Bay Hydro Distribution Limited","Distribution Expenses - Operation","5085","Miscellaneous Distribution Expense",-130561.45]
[2018,"January 1, 2017 - December 31, 2017",null,"North Bay Hydro Distribution Limited","Distribution Expenses – Maintenance","5155","Maintenance of Underground Services",128545.60000000001]
[2018,"January 1, 2017 - December 31, 2017",null,"Northern Ontario Wires Inc.","Administrative and General Expenses","5515","Advertising Expense",0]
[2018,"January 1, 2017 - December 31, 2017",null,"Northern Ontario Wires Inc.","Administrative and General Expenses","5620","Office Supplies and Expenses",97269.09]
[2018,"January 1, 2017 - December 31, 2017",null,"Northern Ontario Wires Inc.","Administrative and General Expenses","5680","Electrical Safety Authority Fees",3788.04]
[2018,"January 1, 2017 - December 31, 2017",null,"Northern Ontario Wires Inc.","Community Relations Total",null,null,0]
[2018,"January 1, 2017 - December 31, 2017",null,"Northern Ontario Wires Inc.","Distribution Expenses - Operation","5055","Underground Distribution Transformers - Operation",1282.68]
[2018,"January 1, 2017 - December 31, 2017",null,"Northern Ontario Wires Inc.","Distribution Expenses – Maintenance","5125","Maintenance of Overhead Conductors and Devices",219416.95999999999]
[2018,"January 1, 2017 - December 31, 2017",null,"Northern Ontario Wires Inc.","Distribution Expenses – Maintenance","5155","Maintenance of Underground Services",2807.04]
[2018,"January 1, 2017 - December 31, 2017",null,"Oakville Hydro Electricity Distribution Inc.","Administrative and General Expenses","5515","Advertising Expense",64.900000000000006]
[2018,"January 1, 2017 - December 31, 2017",null,"Oakville Hydro Electricity Distribution Inc.","Administrative and General Expenses","5660","General Advertising Expenses",0]
[2018,"January 1, 2017 - December 31, 2017",null,"Oakville Hydro Electricity Distribution Inc.","Community Relations","5405","Supervision",0]
[2018,"January 1, 2017 - December 31, 2017",null,"Oakville Hydro Electricity Distribution Inc.","Distribution Expenses - Operation","5030","Overhead Subtransmission Feeders - Operation",0]
[2018,"January 1, 2017 - December 31, 2017",null,"Oakville Hydro Electricity Distribution Inc.","Distribution Expenses – Maintenance","5120","Maintenance of Poles, Towers and Fixtures",52380.91]
[2018,"January 1, 2017 - December 31, 2017",null,"Oakville Hydro Electricity Distribution Inc.","Distribution Expenses – Maintenance","5125","Maintenance of Overhead Conductors and Devices",67314.73]
[2018,"January 1, 2017 - December 31, 2017",null,"Oakville Hydro Electricity Distribution Inc.","Other Expenses","5210","Transmission Charges",0]
[2018,"January 1, 2017 - December 31, 2017",null,"Orangeville Hydro Limited","Administrative and General Expenses","5655","Regulatory Expenses",78777.59]
[2018,"January 1, 2017 - December 31, 2017",null,"Orangeville Hydro Limited","Billing and Collecting","5325","Collecting- Cash Over and Short",-25.16]
[2018,"January 1, 2017 - December 31, 2017",null,"Orangeville Hydro Limited","Distribution Expenses - Operation","5025","Overhead Distribution Lines and Feeders - Operation Supplies and Expenses",8051.91]
[2018,"January 1, 2017 - December 31, 2017",null,"Orangeville Hydro Limited","Distribution Expenses - Operation Total",null,null,446425.49]
[2018,"January 1, 2017 - December 31, 2017",null,"Orangeville Hydro Limited","Distribution Expenses – Maintenance","5105","Maintenance Supervision and Engineering",159959.03]
[2018,"January 1, 2017 - December 31, 2017",null,"Orangeville Hydro Limited","Other Expenses","5205","Purchase of Transmission and System Services",0]
[2018,"January 1, 2017 - December 31, 2017",null,"Orillia Power Distribution Corporation","Administrative and General Expenses","5640","Injuries and Damages",29775]
[2018,"January 1, 2017 - December 31, 2017",null,"Orillia Power Distribution Corporation","Administrative and General Expenses Total",null,null,1499445]
[2018,"January 1, 2017 - December 31, 2017",null,"Orillia Power Distribution Corporation","Distribution Expenses - Operation","5014","Transformer Station Equipment - Operation Labour",0]
[2018,"January 1, 2017 - December 31, 2017",null,"Orillia Power Distribution Corporation","Distribution Expenses - Operation","5075","Customer Premises - Materials and Expenses",0]
[2018,"January 1, 2017 - December 31, 2017",null,"Orillia Power Distribution Corporation","Distribution Expenses - Operation Total",null,null,1009373]
[2018,"January 1, 2017 - December 31, 2017",null,"Orillia Power Distribution Corporation","Distribution Expenses – Maintenance","5178","Customer Installations Expenses- Leased Property",0]
[2018,"January 1, 2017 - December 31, 2017",null,"Oshawa PUC Networks Inc.","Administrative and General Expenses","5610","Management Salaries and Expenses",911577.29]
[2018,"January 1, 2017 - December 31, 2017",null,"Oshawa PUC Networks Inc.","Administrative and General Expenses","5685","Independent Market Operator Fees and Penalties",0]
[2018,"January 1, 2017 - December 31, 2017",null,"Oshawa PUC Networks Inc.","Community Relations","5420","Community Safety Program",157200.48000000001]
[2018,"January 1, 2017 - December 31, 2017",null,"Oshawa PUC Networks Inc.","Distribution Expenses - Operation","5045","Underground Distribution Lines and Feeders - Operation Supplies and Expenses",1101.3]
[2018,"January 1, 2017 - December 31, 2017",null,"Oshawa PUC Networks Inc.","Distribution Expenses - Operation","5070","Customer Premises - Operation Labour",0]
[2018,"January 1, 2017 - December 31, 2017",null,"Oshawa PUC Networks Inc.","Distribution Expenses – Maintenance","5145","Maintenance of Underground Conduit",201203.64]
[2018,"January 1, 2017 - December 31, 2017",null,"Ottawa River Power Corporation","Administrative and General Expenses","5605","Executive Salaries and Expenses",45693.3]
[2018,"January 1, 2017 - December 31, 2017",null,"Ottawa River Power Corporation","Administrative and General Expenses","5670","Rent",15000]
[2018,"January 1, 2017 - December 31, 2017",null,"Ottawa River Power Corporation","Billing and Collecting","5340","Miscellaneous Customer Accounts Expenses",0]
[2018,"January 1, 2017 - December 31, 2017",null,"Ottawa River Power Corporation","Community Relations","5420","Community Safety Program",49116.04]
[2018,"January 1, 2017 - December 31, 2017",null,"Ottawa River Power Corporation","Distribution Expenses - Operation","5045","Underground Distribution Lines and Feeders - Operation Supplies and Expenses",0]
[2018,"January 1, 2017 - December 31, 2017",null,"Ottawa River Power Corporation","Distribution Expenses – Maintenance","5135","Overhead Distribution Lines and Feeders - Right of Way",145051.89000000001]
[2018,"January 1, 2017 - December 31, 2017",null,"Ottawa River Power Corporation","Other Expenses Total",null,null,0]
[2018,"January 1, 2017 - December 31, 2017",null,"PUC Distribution Inc.","Administrative and General Expenses","5647","Employee Sick Leave",0]
[2018,"January 1, 2017 - December 31, 2017",null,"PUC Distribution Inc.","Administrative and General Expenses","5670","Rent",0]
[2018,"January 1, 2017 - December 31, 2017",null,"PUC Distribution Inc.","Billing and Collecting","5340","Miscellaneous Customer Accounts Expenses",0]
[2018,"January 1, 2017 - December 31, 2017",null,"PUC Distribution Inc.","Distribution Expenses - Operation","5020","Overhead Distribution Lines and Feeders - Operation Labour",625727.12]
[2018,"January 1, 2017 - December 31, 2017",null,"PUC Distribution Inc.","Distribution Expenses – Maintenance","5112","Maintenance of Transformer Station Equipment",96293.71]
[2018,"January 1, 2017 - December 31, 2017",null,"PUC Distribution Inc.","Distribution Expenses – Maintenance","5195","Maintenance of Other Installations on Customer Premises",0]
[2018,"January 1, 2017 - December 31, 2017",null,"PUC Distribution Inc.","Other Expenses Total",null,null,0]
[2018,"January 1, 2017 - December 31, 2017",null,"Renfrew Hydro Inc.","Administrative and General Expenses","5647","Employee Sick Leave",0]
[2018,"January 1, 2017 - December 31, 2017",null,"Renfrew Hydro Inc.","Billing and Collecting","5315","Customer Billing",279483.34999999998]
[2018,"January 1, 2017 - December 31, 2017",null,"Renfrew Hydro Inc.","Distribution Expenses - Operation","5017","Distribution Station Equipment - Operation Supplies and Expenses",44958.95]
[2018,"January 1, 2017 - December 31, 2017",null,"Renfrew Hydro Inc.","Distribution Expenses - Operation","5095","Overhead Distribution Lines and Feeders - Rental Paid",9375.15]
[2018,"January 1, 2017 - December 31, 2017",null,"Renfrew Hydro Inc.","Distribution Expenses – Maintenance","5112","Maintenance of Transformer Station Equipment",0]
[2018,"January 1, 2017 - December 31, 2017",null,"Renfrew Hydro Inc.","Distribution Expenses – Maintenance","5195","Maintenance of Other Installations on Customer Premises",0]
[2018,"January 1, 2017 - December 31, 2017",null,"Rideau St. Lawrence Distribution Inc.","Administrative and General Expenses","5630","Outside Services Employed",68135.75]
[2018,"January 1, 2017 - December 31, 2017",null,"Rideau St. Lawrence Distribution Inc.","Billing and Collecting","5310","Meter Reading Expense",73079.05]
[2018,"January 1, 2017 - December 31, 2017",null,"Rideau St. Lawrence Distribution Inc.","Distribution Expenses - Operation","5010","Load Dispatching",0]
[2018,"January 1, 2017 - December 31, 2017",null,"Rideau St. Lawrence Distribution Inc.","Distribution Expenses - Operation","5040","Underground Distribution Lines and Feeders - Operation Labour",0]
[2018,"January 1, 2017 - December 31, 2017",null,"Rideau St. Lawrence Distribution Inc.","Distribution Expenses - Operation","5090","Underground Distribution Lines and Feeders - Rental Paid",28764]
[2018,"January 1, 2017 - December 31, 2017",null,"Rideau St. Lawrence Distribution Inc.","Distribution Expenses – Maintenance","5160","Maintenance of Line Transformers",14428.5]
[2018,"January 1, 2017 - December 31, 2017",null,"Sioux Lookout Hydro Inc.","Administrative and General Expenses","5620","Office Supplies and Expenses",7731.13]
[2018,"January 1, 2017 - December 31, 2017",null,"Sioux Lookout Hydro Inc.","Administrative and General Expenses","5680","Electrical Safety Authority Fees",2554]
[2018,"January 1, 2017 - December 31, 2017",null,"Sioux Lookout Hydro Inc.","Community Relations","5410","Community Relations - Sundry",0]
[2018,"January 1, 2017 - December 31, 2017",null,"Sioux Lookout Hydro Inc.","Distribution Expenses - Operation","5055","Underground Distribution Transformers - Operation",0]
[2018,"January 1, 2017 - December 31, 2017",null,"Sioux Lookout Hydro Inc.","Distribution Expenses - Operation","5060","Street Lighting and Signal System Expense",0]
[2018,"January 1, 2017 - December 31, 2017",null,"Sioux Lookout Hydro Inc.","Distribution Expenses – Maintenance","5130","Maintenance of Overhead Services",0]
[2018,"January 1, 2017 - December 31, 2017",null,"St. Thomas Energy Inc.","Administrative and General Expenses","5515","Advertising Expense",0]
[2018,"January 1, 2017 - December 31, 2017",null,"St. Thomas Energy Inc.","Administrative and General Expenses","5660","General Advertising Expenses",209]
[2018,"January 1, 2017 - December 31, 2017",null,"St. Thomas Energy Inc.","Community Relations","5405","Supervision",0]
[2018,"January 1, 2017 - December 31, 2017",null,"St. Thomas Energy Inc.","Distribution Expenses - Operation","5030","Overhead Subtransmission Feeders - Operation",0]
[2018,"January 1, 2017 - December 31, 2017",null,"St. Thomas Energy Inc.","Distribution Expenses - Operation","5035","Overhead Distribution Transformers- Operation",194.27]
[2018,"January 1, 2017 - December 31, 2017",null,"St. Thomas Energy Inc.","Distribution Expenses – Maintenance","5125","Maintenance of Overhead Conductors and Devices",9398.9]
[2018,"January 1, 2017 - December 31, 2017",null,"St. Thomas Energy Inc.","Other Expenses","5210","Transmission Charges",0]
[2018,"January 1, 2017 - December 31, 2017",null,"Thunder Bay Hydro Electricity Distribution Inc.","Administrative and General Expenses","5655","Regulatory Expenses",580165.87]
[2018,"January 1, 2017 - December 31, 2017",null,"Thunder Bay Hydro Electricity Distribution Inc.","Billing and Collecting","5325","Collecting- Cash Over and Short",0]
[2018,"January 1, 2017 - December 31, 2017",null,"Thunder Bay Hydro Electricity Distribution Inc.","Distribution Expenses - Operation","5015","Transformer Station Equipment - Operation Supplies and Expenses",0]
[2018,"January 1, 2017 - December 31, 2017",null,"Thunder Bay Hydro Electricity Distribution Inc.","Distribution Expenses - Operation","5030","Overhead Subtransmission Feeders - Operation",0]
[2018,"January 1, 2017 - December 31, 2017",null,"Thunder Bay Hydro Electricity Distribution Inc.","Distribution Expenses – Maintenance","5105","Maintenance Supervision and Engineering",1409015.41]
[2018,"January 1, 2017 - December 31, 2017",null,"Thunder Bay Hydro Electricity Distribution Inc.","Distribution Expenses – Maintenance","5175","Maintenance of Meters",50980.46]
[2018,"January 1, 2017 - December 31, 2017",null,"Tillsonburg Hydro Inc.","Administrative and General Expenses","5640","Injuries and Damages",0]
[2018,"January 1, 2017 - December 31, 2017",null,"Tillsonburg Hydro Inc.","Administrative and General Expenses Total",null,null,1373041.94]
[2018,"January 1, 2017 - December 31, 2017",null,"Tillsonburg Hydro Inc.","Billing and Collecting","5325","Collecting- Cash Over and Short",0]
[2018,"January 1, 2017 - December 31, 2017",null,"Tillsonburg Hydro Inc.","Distribution Expenses - Operation","5015","Transformer Station Equipment - Operation Supplies and Expenses",0]
[2018,"January 1, 2017 - December 31, 2017",null,"Tillsonburg Hydro Inc.","Distribution Expenses - Operation","5085","Miscellaneous Distribution Expense",336825.23]
[2018,"January 1, 2017 - December 31, 2017",null,"Tillsonburg Hydro Inc.","Distribution Expenses – Maintenance","5172","Sentinel Lights - Materials and Expenses",0]
[2018,"January 1, 2017 - December 31, 2017",null,"Toronto Hydro-Electric System Limited","Administrative and General Expenses","5615","General Administrative Salaries and Expenses",54962033.909999996]
[2018,"January 1, 2017 - December 31, 2017",null,"Toronto Hydro-Electric System Limited","Administrative and General Expenses","5640","Injuries and Damages",1585785.93]
[2018,"January 1, 2017 - December 31, 2017",null,"Toronto Hydro-Electric System Limited","Billing and Collecting","5335","Bad Debt Expense",5299255.47]
[2018,"January 1, 2017 - December 31, 2017",null,"Toronto Hydro-Electric System Limited","Community Relations","5425","Miscellaneous Customer Service and Informational Expenses",0]
[2018,"January 1, 2017 - December 31, 2017",null,"Toronto Hydro-Electric System Limited","Distribution Expenses - Operation","5070","Customer Premises - Operation Labour",1345681.86]
[2018,"January 1, 2017 - December 31, 2017",null,"Toronto Hydro-Electric System Limited","Distribution Expenses – Maintenance","5145","Maintenance of Underground Conduit",3879.61]
[2018,"January 1, 2017 - December 31, 2017",null,"Veridian Connections Inc.","Administrative and General Expenses","5505","Supervision",0]
[2018,"January 1, 2017 - December 31, 2017",null,"Veridian Connections Inc.","Administrative and General Expenses","5610","Management Salaries and Expenses",0]
[2018,"January 1, 2017 - December 31, 2017",null,"Veridian Connections Inc.","Administrative and General Expenses","5672","Lease Payment Expense",0]
[2018,"January 1, 2017 - December 31, 2017",null,"Veridian Connections Inc.","Community Relations","5420","Community Safety Program",32718]
[2018,"January 1, 2017 - December 31, 2017",null,"Veridian Connections Inc.","Distribution Expenses - Operation","5045","Underground Distribution Lines and Feeders - Operation Supplies and Expenses",604387]
[2018,"January 1, 2017 - December 31, 2017",null,"Veridian Connections Inc.","Distribution Expenses – Maintenance","5114","Maintenance of Distribution Station Equipment",378607]
[2018,"January 1, 2017 - December 31, 2017",null,"Veridian Connections Inc.","Distribution Expenses – Maintenance","5145","Maintenance of Underground Conduit",24863]
[2018,"January 1, 2017 - December 31, 2017",null,"Wasaga Distribution Inc.","Administrative and General Expenses","5505","Supervision",0]
[2018,"January 1, 2017 - December 31, 2017",null,"Wasaga Distribution Inc.","Administrative and General Expenses","5650","Franchise Requirements",0]
[2018,"January 1, 2017 - December 31, 2017",null,"Wasaga Distribution Inc.","Billing and Collecting","5340","Miscellaneous Customer Accounts Expenses",0]
[2018,"January 1, 2017 - December 31, 2017",null,"Wasaga Distribution Inc.","Distribution Expenses - Operation","5020","Overhead Distribution Lines and Feeders - Operation Labour",0]
[2018,"January 1, 2017 - December 31, 2017",null,"Wasaga Distribution Inc.","Distribution Expenses - Operation","5045","Underground Distribution Lines and Feeders - Operation Supplies and Expenses",0]
[2018,"January 1, 2017 - December 31, 2017",null,"Wasaga Distribution Inc.","Distribution Expenses – Maintenance","5114","Maintenance of Distribution Station Equipment",0]
[2018,"January 1, 2017 - December 31, 2017",null,"Wasaga Distribution Inc.","Distribution Expenses – Maintenance Total",null,null,755901.64]
[2018,"January 1, 2017 - December 31, 2017",null,"Waterloo North Hydro Inc.","Administrative and General Expenses","5647","Employee Sick Leave",0]
[2018,"January 1, 2017 - December 31, 2017",null,"Waterloo North Hydro Inc.","Billing and Collecting","5315","Customer Billing",1576427]
[2018,"January 1, 2017 - December 31, 2017",null,"Waterloo North Hydro Inc.","Distribution Expenses - Operation","5017","Distribution Station Equipment - Operation Supplies and Expenses",97999]
[2018,"January 1, 2017 - December 31, 2017",null,"Waterloo North Hydro Inc.","Distribution Expenses - Operation","5020","Overhead Distribution Lines and Feeders - Operation Labour",1052680]
[2018,"January 1, 2017 - December 31, 2017",null,"Waterloo North Hydro Inc.","Distribution Expenses - Operation","5096","Other Rent",0]
[2018,"January 1, 2017 - December 31, 2017",null,"Waterloo North Hydro Inc.","Distribution Expenses – Maintenance","5195","Maintenance of Other Installations on Customer Premises",0]
[2018,"January 1, 2017 - December 31, 2017",null,"Welland Hydro-Electric System Corp.","Administrative and General Expenses","5630","Outside Services Employed",154656.23000000001]
[2018,"January 1, 2017 - December 31, 2017",null,"Welland Hydro-Electric System Corp.","Administrative and General Expenses","5685","Independent Market Operator Fees and Penalties",0]
[2018,"January 1, 2017 - December 31, 2017",null,"Welland Hydro-Electric System Corp.","Distribution Expenses - Operation","5010","Load Dispatching",204381.23]
[2018,"January 1, 2017 - December 31, 2017",null,"Welland Hydro-Electric System Corp.","Distribution Expenses - Operation","5012","Station Buildings and Fixtures Expense",11502.79]
[2018,"January 1, 2017 - December 31, 2017",null,"Welland Hydro-Electric System Corp.","Distribution Expenses - Operation","5095","Overhead Distribution Lines and Feeders - Rental Paid",24817.82]
[2018,"January 1, 2017 - December 31, 2017",null,"Welland Hydro-Electric System Corp.","Distribution Expenses – Maintenance","5165","Maintenance of Street Lighting and Signal Systems",0]
[2018,"January 1, 2017 - December 31, 2017",null,"Wellington North Power Inc.","Administrative and General Expenses","5605","Executive Salaries and Expenses",152797.12]
[2018,"January 1, 2017 - December 31, 2017",null,"Wellington North Power Inc.","Administrative and General Expenses","5680","Electrical Safety Authority Fees",4428.78]
[2018,"January 1, 2017 - December 31, 2017",null,"Wellington North Power Inc.","Community Relations","5410","Community Relations - Sundry",5860.4]
[2018,"January 1, 2017 - December 31, 2017",null,"Wellington North Power Inc.","Community Relations","5415","Energy Conservation",0]
[2018,"January 1, 2017 - December 31, 2017",null,"Wellington North Power Inc.","Distribution Expenses - Operation","5060","Street Lighting and Signal System Expense",0]
[2018,"January 1, 2017 - December 31, 2017",null,"Wellington North Power Inc.","Distribution Expenses – Maintenance","5130","Maintenance of Overhead Services",9707.5499999999993]
[2018,"January 1, 2017 - December 31, 2017",null,"West Coast Huron Energy Inc.","Administrative and General Expenses","5515","Advertising Expense",2073]
[2018,"January 1, 2017 - December 31, 2017",null,"West Coast Huron Energy Inc.","Administrative and General Expenses","5660","General Advertising Expenses",0]
[2018,"January 1, 2017 - December 31, 2017",null,"West Coast Huron Energy Inc.","Billing and Collecting","5330","Collection Charges",0]
[2018,"January 1, 2017 - December 31, 2017",null,"West Coast Huron Energy Inc.","Community Relations","5410","Community Relations - Sundry",239]
[2018,"January 1, 2017 - December 31, 2017",null,"West Coast Huron Energy Inc.","Distribution Expenses - Operation","5035","Overhead Distribution Transformers- Operation",0]
[2018,"January 1, 2017 - December 31, 2017",null,"West Coast Huron Energy Inc.","Distribution Expenses – Maintenance","5125","Maintenance of Overhead Conductors and Devices",20529]
[2018,"January 1, 2017 - December 31, 2017",null,"West Coast Huron Energy Inc.","Other Expenses","5210","Transmission Charges",0]
[2018,"January 1, 2017 - December 31, 2017",null,"Westario Power Inc.","Administrative and General Expenses","5645","OMERS Pensions and Benefits",0]
[2018,"January 1, 2017 - December 31, 2017",null,"Westario Power Inc.","Administrative and General Expenses","5660","General Advertising Expenses",15754]
[2018,"January 1, 2017 - December 31, 2017",null,"Westario Power Inc.","Billing and Collecting","5330","Collection Charges",10733]
[2018,"January 1, 2017 - December 31, 2017",null,"Westario Power Inc.","Distribution Expenses - Operation","5016","Distribution Station Equipment - Operation Labour",6076]
[2018,"January 1, 2017 - December 31, 2017",null,"Westario Power Inc.","Distribution Expenses – Maintenance","5105","Maintenance Supervision and Engineering",0]
[2018,"January 1, 2017 - December 31, 2017",null,"Westario Power Inc.","Distribution Expenses – Maintenance","5175","Maintenance of Meters",183450]
[2018,"January 1, 2017 - December 31, 2017",null,"Westario Power Inc.","Other Expenses","5210","Transmission Charges",0]
[2018,"January 1, 2017 - December 31, 2017",null,"Whitby Hydro Electric Corporation","Administrative and General Expenses","5645","OMERS Pensions and Benefits",0]
[2018,"January 1, 2017 - December 31, 2017",null,"Whitby Hydro Electric Corporation","Billing and Collecting","5305","Supervision",131941.35999999999]
[2018,"January 1, 2017 - December 31, 2017",null,"Whitby Hydro Electric Corporation","Distribution Expenses - Operation","5015","Transformer Station Equipment - Operation Supplies and Expenses",0]
[2018,"January 1, 2017 - December 31, 2017",null,"Whitby Hydro Electric Corporation","Distribution Expenses - Operation","5085","Miscellaneous Distribution Expense",961634.33]
[2018,"January 1, 2017 - December 31, 2017",null,"Whitby Hydro Electric Corporation","Distribution Expenses – Maintenance","5105","Maintenance Supervision and Engineering",193857.43]
[2018,"January 1, 2017 - December 31, 2017",null,"Whitby Hydro Electric Corporation","Distribution Expenses – Maintenance","5175","Maintenance of Meters",26969.65]
[2019,"January 1, 2018 - December 31, 2018",null,"1937680 Ontario Inc.","Administrative and General Expenses","5620","Office Supplies and Expenses",5403.51]
[2019,"January 1, 2018 - December 31, 2018",null,"1937680 Ontario Inc.","Administrative and General Expenses Total",null,null,3252847.32]
[2019,"January 1, 2018 - December 31, 2018",null,"1937680 Ontario Inc.","Community Relations Total",null,null,0]
[2019,"January 1, 2018 - December 31, 2018",null,"1937680 Ontario Inc.","Distribution Expenses - Operation","5055","Underground Distribution Transformers - Operation",2166.87]
[2019,"January 1, 2018 - December 31, 2018",null,"1937680 Ontario Inc.","Distribution Expenses - Operation","5085","Miscellaneous Distribution Expense",192010.7]
[2019,"January 1, 2018 - December 31, 2018",null,"1937680 Ontario Inc.","Distribution Expenses – Maintenance","5175","Maintenance of Meters",3795]
[2019,"January 1, 2018 - December 31, 2018",null,"Alectra Utilities Corporation","Administrative and General Expenses","5610","Management Salaries and Expenses",14532860.48]
[2019,"January 1, 2018 - December 31, 2018",null,"Alectra Utilities Corporation","Administrative and General Expenses","5672","Lease Payment Expense",0]
[2019,"January 1, 2018 - December 31, 2018",null,"Alectra Utilities Corporation","Billing and Collecting Total",null,null,37645860.689999998]
[2019,"January 1, 2018 - December 31, 2018",null,"Alectra Utilities Corporation","Community Relations","5425","Miscellaneous Customer Service and Informational Expenses",1563.96]
[2019,"January 1, 2018 - December 31, 2018",null,"Alectra Utilities Corporation","Distribution Expenses - Operation","5050","Underground Subtransmission Feeders - Operation",0]
[2019,"January 1, 2018 - December 31, 2018",null,"Alectra Utilities Corporation","Distribution Expenses – Maintenance","5120","Maintenance of Poles, Towers and Fixtures",349748.76]
[2019,"January 1, 2018 - December 31, 2018",null,"Algoma Power Inc.","Administrative and General Expenses","5505","Supervision",0]
[2019,"January 1, 2018 - December 31, 2018",null,"Algoma Power Inc.","Administrative and General Expenses","5660","General Advertising Expenses",14903.21]
[2019,"January 1, 2018 - December 31, 2018",null,"Algoma Power Inc.","Community Relations","5410","Community Relations - Sundry",8457.25]
[2019,"January 1, 2018 - December 31, 2018",null,"Algoma Power Inc.","Community Relations","5415","Energy Conservation",0]
[2019,"January 1, 2018 - December 31, 2018",null,"Algoma Power Inc.","Distribution Expenses - Operation","5040","Underground Distribution Lines and Feeders - Operation Labour",10075.18]
[2019,"January 1, 2018 - December 31, 2018",null,"Algoma Power Inc.","Distribution Expenses – Maintenance","5130","Maintenance of Overhead Services",197283.93]
[2019,"January 1, 2018 - December 31, 2018",null,"Algoma Power Inc.","Other Expenses","5215","Transmission Charges Recovered",0]
[2019,"January 1, 2018 - December 31, 2018",null,"Atikokan Hydro Inc.","Administrative and General Expenses","5660","General Advertising Expenses",1093.5]
[2019,"January 1, 2018 - December 31, 2018",null,"Atikokan Hydro Inc.","Billing and Collecting","5330","Collection Charges",0]
[2019,"January 1, 2018 - December 31, 2018",null,"Atikokan Hydro Inc.","Billing and Collecting","5335","Bad Debt Expense",3955.34]
[2019,"January 1, 2018 - December 31, 2018",null,"Atikokan Hydro Inc.","Distribution Expenses - Operation","5035","Overhead Distribution Transformers- Operation",0]
[2019,"January 1, 2018 - December 31, 2018",null,"Atikokan Hydro Inc.","Distribution Expenses – Maintenance","5110","Maintenance of Buildings and Fixtures - Distribution Stations",0]
[2019,"January 1, 2018 - December 31, 2018",null,"Atikokan Hydro Inc.","Distribution Expenses – Maintenance","5178","Customer Installations Expenses- Leased Property",0]
[2019,"January 1, 2018 - December 31, 2018",null,"Bluewater Power Distribution Corporation","Administrative and General Expenses","5645","OMERS Pensions and Benefits",1348741]
[2019,"January 1, 2018 - December 31, 2018",null,"Bluewater Power Distribution Corporation","Billing and Collecting","5305","Supervision",204127]
[2019,"January 1, 2018 - December 31, 2018",null,"Bluewater Power Distribution Corporation","Billing and Collecting","5330","Collection Charges",0]
[2019,"January 1, 2018 - December 31, 2018",null,"Bluewater Power Distribution Corporation","Distribution Expenses - Operation","5016","Distribution Station Equipment - Operation Labour",27097]
[2019,"January 1, 2018 - December 31, 2018",null,"Bluewater Power Distribution Corporation","Distribution Expenses - Operation","5090","Underground Distribution Lines and Feeders - Rental Paid",0]
[2019,"January 1, 2018 - December 31, 2018",null,"Bluewater Power Distribution Corporation","Distribution Expenses – Maintenance","5175","Maintenance of Meters",512]
[2019,"January 1, 2018 - December 31, 2018",null,"Brantford Power Inc.","Administrative and General Expenses","5620","Office Supplies and Expenses",95263.84]
[2019,"January 1, 2018 - December 31, 2018",null,"Brantford Power Inc.","Administrative and General Expenses","5645","OMERS Pensions and Benefits",112484.93]
[2019,"January 1, 2018 - December 31, 2018",null,"Brantford Power Inc.","Billing and Collecting","5305","Supervision",354110.2]
[2019,"January 1, 2018 - December 31, 2018",null,"Brantford Power Inc.","Distribution Expenses - Operation","5005","Operation Supervision and Engineering",671930.77]
[2019,"January 1, 2018 - December 31, 2018",null,"Brantford Power Inc.","Distribution Expenses - Operation","5030","Overhead Subtransmission Feeders - Operation",0]
[2019,"January 1, 2018 - December 31, 2018",null,"Brantford Power Inc.","Distribution Expenses – Maintenance","5150","Maintenance of Underground Conductors and Devices",56176.02]
[2019,"January 1, 2018 - December 31, 2018",null,"Burlington Hydro Inc.","Administrative and General Expenses","5510","Demonstrating and Selling Expense",0]
[2019,"January 1, 2018 - December 31, 2018",null,"Burlington Hydro Inc.","Administrative and General Expenses","5615","General Administrative Salaries and Expenses",2063148.88]
[2019,"January 1, 2018 - December 31, 2018",null,"Burlington Hydro Inc.","Administrative and General Expenses","5675","Maintenance of General Plant",241356.75]
[2019,"January 1, 2018 - December 31, 2018",null,"Burlington Hydro Inc.","Community Relations","5425","Miscellaneous Customer Service and Informational Expenses",0]
[2019,"January 1, 2018 - December 31, 2018",null,"Burlington Hydro Inc.","Distribution Expenses - Operation","5050","Underground Subtransmission Feeders - Operation",0]
[2019,"January 1, 2018 - December 31, 2018",null,"Burlington Hydro Inc.","Distribution Expenses – Maintenance","5120","Maintenance of Poles, Towers and Fixtures",86137.74]
[2019,"January 1, 2018 - December 31, 2018",null,"Burlington Hydro Inc.","Distribution Expenses – Maintenance","5150","Maintenance of Underground Conductors and Devices",562091.61]
[2019,"January 1, 2018 - December 31, 2018",null,"Canadian Niagara Power Inc.","Administrative and General Expenses","5510","Demonstrating and Selling Expense",0]
[2019,"January 1, 2018 - December 31, 2018",null,"Canadian Niagara Power Inc.","Administrative and General Expenses","5665","Miscellaneous General Expenses",513632.37]
[2019,"January 1, 2018 - December 31, 2018",null,"Canadian Niagara Power Inc.","Community Relations","5415","Energy Conservation",0]
[2019,"January 1, 2018 - December 31, 2018",null,"Canadian Niagara Power Inc.","Distribution Expenses - Operation","5040","Underground Distribution Lines and Feeders - Operation Labour",140058.54]
[2019,"January 1, 2018 - December 31, 2018",null,"Canadian Niagara Power Inc.","Distribution Expenses - Operation","5065","Meter Expense",306813.24]
[2019,"January 1, 2018 - December 31, 2018",null,"Canadian Niagara Power Inc.","Distribution Expenses – Maintenance","5135","Overhead Distribution Lines and Feeders - Right of Way",478200.74]
[2019,"January 1, 2018 - December 31, 2018",null,"Canadian Niagara Power Inc.","Other Expenses Total",null,null,0]
[2019,"January 1, 2018 - December 31, 2018",null,"Centre Wellington Hydro Ltd.","Administrative and General Expenses","5665","Miscellaneous General Expenses",90731.43]
[2019,"January 1, 2018 - December 31, 2018",null,"Centre Wellington Hydro Ltd.","Billing and Collecting","5335","Bad Debt Expense",9744]
[2019,"January 1, 2018 - December 31, 2018",null,"Centre Wellington Hydro Ltd.","Community Relations","5415","Energy Conservation",0]
[2019,"January 1, 2018 - December 31, 2018",null,"Centre Wellington Hydro Ltd.","Distribution Expenses - Operation","5040","Underground Distribution Lines and Feeders - Operation Labour",0]
[2019,"January 1, 2018 - December 31, 2018",null,"Centre Wellington Hydro Ltd.","Distribution Expenses – Maintenance","5112","Maintenance of Transformer Station Equipment",0]
[2019,"January 1, 2018 - December 31, 2018",null,"Centre Wellington Hydro Ltd.","Other Expenses","5215","Transmission Charges Recovered",0]
[2019,"January 1, 2018 - December 31, 2018",null,"Chapleau Public Utilities Corporation","Administrative and General Expenses","5646","Employee Pensions and OPEB",0]
[2019,"January 1, 2018 - December 31, 2018",null,"Chapleau Public Utilities Corporation","Billing and Collecting","5310","Meter Reading Expense",41226.620000000003]
[2019,"January 1, 2018 - December 31, 2018",null,"Chapleau Public Utilities Corporation","Billing and Collecting","5335","Bad Debt Expense",24887.86]
[2019,"January 1, 2018 - December 31, 2018",null,"Chapleau Public Utilities Corporation","Distribution Expenses - Operation","5017","Distribution Station Equipment - Operation Supplies and Expenses",50]
[2019,"January 1, 2018 - December 31, 2018",null,"Chapleau Public Utilities Corporation","Distribution Expenses – Maintenance","5110","Maintenance of Buildings and Fixtures - Distribution Stations",0]
[2019,"January 1, 2018 - December 31, 2018",null,"Chapleau Public Utilities Corporation","Distribution Expenses – Maintenance","5178","Customer Installations Expenses- Leased Property",0]
[2019,"January 1, 2018 - December 31, 2018",null,"Cooperative Hydro Embrun Inc.","Administrative and General Expenses","5625","Administrative Expense Transferred/Credit",0]
[2019,"January 1, 2018 - December 31, 2018",null,"Cooperative Hydro Embrun Inc.","Billing and Collecting","5305","Supervision",0]
[2019,"January 1, 2018 - December 31, 2018",null,"Cooperative Hydro Embrun Inc.","Community Relations","5415","Energy Conservation",0]
[2019,"January 1, 2018 - December 31, 2018",null,"Cooperative Hydro Embrun Inc.","Distribution Expenses - Operation","5005","Operation Supervision and Engineering",0]
[2019,"January 1, 2018 - December 31, 2018",null,"Cooperative Hydro Embrun Inc.","Distribution Expenses - Operation","5085","Miscellaneous Distribution Expense",8275.4699999999993]
[2019,"January 1, 2018 - December 31, 2018",null,"Cooperative Hydro Embrun Inc.","Distribution Expenses – Maintenance","5155","Maintenance of Underground Services",325]
[2019,"January 1, 2018 - December 31, 2018",null,"E.L.K. Energy Inc.","Administrative and General Expenses","5615","General Administrative Salaries and Expenses",47153.15]
[2019,"January 1, 2018 - December 31, 2018",null,"E.L.K. Energy Inc.","Administrative and General Expenses","5675","Maintenance of General Plant",54306.73]
[2019,"January 1, 2018 - December 31, 2018",null,"E.L.K. Energy Inc.","Administrative and General Expenses","5680","Electrical Safety Authority Fees",5076]
[2019,"January 1, 2018 - December 31, 2018",null,"E.L.K. Energy Inc.","Community Relations Total",null,null,20966.53]
[2019,"January 1, 2018 - December 31, 2018",null,"E.L.K. Energy Inc.","Distribution Expenses - Operation","5055","Underground Distribution Transformers - Operation",16252.02]
[2019,"January 1, 2018 - December 31, 2018",null,"E.L.K. Energy Inc.","Distribution Expenses – Maintenance","5150","Maintenance of Underground Conductors and Devices",76419.95]
[2019,"January 1, 2018 - December 31, 2018",null,"ENWIN Utilities Ltd.","Administrative and General Expenses","5510","Demonstrating and Selling Expense",0]
[2019,"January 1, 2018 - December 31, 2018",null,"ENWIN Utilities Ltd.","Administrative and General Expenses","5655","Regulatory Expenses",378796.51]
[2019,"January 1, 2018 - December 31, 2018",null,"ENWIN Utilities Ltd.","Administrative and General Expenses","5675","Maintenance of General Plant",2129635.39]
[2019,"January 1, 2018 - December 31, 2018",null,"ENWIN Utilities Ltd.","Community Relations","5405","Supervision",0]
[2019,"January 1, 2018 - December 31, 2018",null,"ENWIN Utilities Ltd.","Distribution Expenses - Operation","5030","Overhead Subtransmission Feeders - Operation",0]
[2019,"January 1, 2018 - December 31, 2018",null,"ENWIN Utilities Ltd.","Distribution Expenses – Maintenance","5120","Maintenance of Poles, Towers and Fixtures",554347.02]
[2019,"January 1, 2018 - December 31, 2018",null,"ENWIN Utilities Ltd.","Other Expenses","5205","Purchase of Transmission and System Services",0]
[2019,"January 1, 2018 - December 31, 2018",null,"EPCOR Electricity Distribution Ontario Inc.","Administrative and General Expenses","5510","Demonstrating and Selling Expense",0]
[2019,"January 1, 2018 - December 31, 2018",null,"EPCOR Electricity Distribution Ontario Inc.","Administrative and General Expenses","5655","Regulatory Expenses",49217.29]
[2019,"January 1, 2018 - December 31, 2018",null,"EPCOR Electricity Distribution Ontario Inc.","Billing and Collecting","5325","Collecting- Cash Over and Short",8.84]
[2019,"January 1, 2018 - December 31, 2018",null,"EPCOR Electricity Distribution Ontario Inc.","Distribution Expenses - Operation","5025","Overhead Distribution Lines and Feeders - Operation Supplies and Expenses",60435.85]
[2019,"January 1, 2018 - December 31, 2018",null,"EPCOR Electricity Distribution Ontario Inc.","Distribution Expenses - Operation Total",null,null,885793.99]
[2019,"January 1, 2018 - December 31, 2018",null,"EPCOR Electricity Distribution Ontario Inc.","Distribution Expenses – Maintenance","5120","Maintenance of Poles, Towers and Fixtures",101513.21]
[2019,"January 1, 2018 - December 31, 2018",null,"EPCOR Electricity Distribution Ontario Inc.","Other Expenses","5205","Purchase of Transmission and System Services",0]
[2019,"January 1, 2018 - December 31, 2018",null,"ERTH Power Corporation","Administrative and General Expenses","5640","Injuries and Damages",0]
[2019,"January 1, 2018 - December 31, 2018",null,"ERTH Power Corporation","Billing and Collecting","5320","Collecting",133326.85]
[2019,"January 1, 2018 - December 31, 2018",null,"ERTH Power Corporation","Distribution Expenses - Operation","5014","Transformer Station Equipment - Operation Labour",0]
[2019,"January 1, 2018 - December 31, 2018",null,"ERTH Power Corporation","Distribution Expenses - Operation","5075","Customer Premises - Materials and Expenses",0]
[2019,"January 1, 2018 - December 31, 2018",null,"ERTH Power Corporation","Distribution Expenses - Operation Total",null,null,424645.66]
[2019,"January 1, 2018 - December 31, 2018",null,"ERTH Power Corporation","Distribution Expenses – Maintenance","5172","Sentinel Lights - Materials and Expenses",0]
[2019,"January 1, 2018 - December 31, 2018",null,"Energy Plus Inc.","Administrative and General Expenses","5635","Property Insurance",21433.919999999998]
[2019,"January 1, 2018 - December 31, 2018",null,"Energy Plus Inc.","Administrative and General Expenses Total",null,null,8440098.6300000008]
[2019,"January 1, 2018 - December 31, 2018",null,"Energy Plus Inc.","Community Relations","5420","Community Safety Program",78340.22]
[2019,"January 1, 2018 - December 31, 2018",null,"Energy Plus Inc.","Distribution Expenses - Operation","5012","Station Buildings and Fixtures Expense",0]
[2019,"January 1, 2018 - December 31, 2018",null,"Energy Plus Inc.","Distribution Expenses - Operation","5070","Customer Premises - Operation Labour",0]
[2019,"January 1, 2018 - December 31, 2018",null,"Energy Plus Inc.","Distribution Expenses – Maintenance","5145","Maintenance of Underground Conduit",45364.23]
[2019,"January 1, 2018 - December 31, 2018",null,"Entegrus Powerlines Inc.","Administrative and General Expenses","5605","Executive Salaries and Expenses",612519.46]
[2019,"January 1, 2018 - December 31, 2018",null,"Entegrus Powerlines Inc.","Administrative and General Expenses","5670","Rent",0]
[2019,"January 1, 2018 - December 31, 2018",null,"Entegrus Powerlines Inc.","Administrative and General Expenses","5685","Independent Market Operator Fees and Penalties",0]
[2019,"January 1, 2018 - December 31, 2018",null,"Entegrus Powerlines Inc.","Community Relations","5420","Community Safety Program",0]
[2019,"January 1, 2018 - December 31, 2018",null,"Entegrus Powerlines Inc.","Distribution Expenses - Operation","5045","Underground Distribution Lines and Feeders - Operation Supplies and Expenses",343336.06]
[2019,"January 1, 2018 - December 31, 2018",null,"Entegrus Powerlines Inc.","Distribution Expenses – Maintenance","5135","Overhead Distribution Lines and Feeders - Right of Way",280247.74]
[2019,"January 1, 2018 - December 31, 2018",null,"Entegrus Powerlines Inc.","Other Expenses Total",null,null,0]
[2019,"January 1, 2018 - December 31, 2018",null,"Espanola Regional Hydro Distribution Corporation","Administrative and General Expenses","5665","Miscellaneous General Expenses",1135.94]
[2019,"January 1, 2018 - December 31, 2018",null,"Espanola Regional Hydro Distribution Corporation","Administrative and General Expenses","5670","Rent",0]
[2019,"January 1, 2018 - December 31, 2018",null,"Espanola Regional Hydro Distribution Corporation","Billing and Collecting","5340","Miscellaneous Customer Accounts Expenses",0]
[2019,"January 1, 2018 - December 31, 2018",null,"Espanola Regional Hydro Distribution Corporation","Distribution Expenses - Operation","5040","Underground Distribution Lines and Feeders - Operation Labour",41263.32]
[2019,"January 1, 2018 - December 31, 2018",null,"Espanola Regional Hydro Distribution Corporation","Distribution Expenses – Maintenance","5112","Maintenance of Transformer Station Equipment",0]
[2019,"January 1, 2018 - December 31, 2018",null,"Espanola Regional Hydro Distribution Corporation","Distribution Expenses – Maintenance","5195","Maintenance of Other Installations on Customer Premises",0]
[2019,"January 1, 2018 - December 31, 2018",null,"Essex Powerlines Corporation","Administrative and General Expenses","5646","Employee Pensions and OPEB",0]
[2019,"January 1, 2018 - December 31, 2018",null,"Essex Powerlines Corporation","Administrative and General Expenses","5647","Employee Sick Leave",0]
[2019,"January 1, 2018 - December 31, 2018",null,"Essex Powerlines Corporation","Billing and Collecting","5335","Bad Debt Expense",96659.63]
[2019,"January 1, 2018 - December 31, 2018",null,"Essex Powerlines Corporation","Distribution Expenses - Operation","5017","Distribution Station Equipment - Operation Supplies and Expenses",0]
[2019,"January 1, 2018 - December 31, 2018",null,"Essex Powerlines Corporation","Distribution Expenses - Operation","5095","Overhead Distribution Lines and Feeders - Rental Paid",0]
[2019,"January 1, 2018 - December 31, 2018",null,"Essex Powerlines Corporation","Distribution Expenses – Maintenance","5178","Customer Installations Expenses- Leased Property",0]
[2019,"January 1, 2018 - December 31, 2018",null,"Festival Hydro Inc.","Administrative and General Expenses","5625","Administrative Expense Transferred/Credit",0]
[2019,"January 1, 2018 - December 31, 2018",null,"Festival Hydro Inc.","Administrative and General Expenses","5630","Outside Services Employed",363437.86]
[2019,"January 1, 2018 - December 31, 2018",null,"Festival Hydro Inc.","Billing and Collecting","5310","Meter Reading Expense",220672.38]
[2019,"January 1, 2018 - December 31, 2018",null,"Festival Hydro Inc.","Distribution Expenses - Operation","5010","Load Dispatching",60698.21]
[2019,"January 1, 2018 - December 31, 2018",null,"Festival Hydro Inc.","Distribution Expenses - Operation","5090","Underground Distribution Lines and Feeders - Rental Paid",0]
[2019,"January 1, 2018 - December 31, 2018",null,"Festival Hydro Inc.","Distribution Expenses – Maintenance","5160","Maintenance of Line Transformers",77667.59]
[2019,"January 1, 2018 - December 31, 2018",null,"Festival Hydro Inc.","Other Expenses","5210","Transmission Charges",0]
[2019,"January 1, 2018 - December 31, 2018",null,"Fort Frances Power Corporation","Administrative and General Expenses","5620","Office Supplies and Expenses",21550.38]
[2019,"January 1, 2018 - December 31, 2018",null,"Fort Frances Power Corporation","Administrative and General Expenses","5680","Electrical Safety Authority Fees",4637]
[2019,"January 1, 2018 - December 31, 2018",null,"Fort Frances Power Corporation","Community Relations Total",null,null,44459.94]
[2019,"January 1, 2018 - December 31, 2018",null,"Fort Frances Power Corporation","Distribution Expenses - Operation","5055","Underground Distribution Transformers - Operation",0]
[2019,"January 1, 2018 - December 31, 2018",null,"Fort Frances Power Corporation","Distribution Expenses – Maintenance","5125","Maintenance of Overhead Conductors and Devices",9810.17]
[2019,"January 1, 2018 - December 31, 2018",null,"Fort Frances Power Corporation","Distribution Expenses – Maintenance","5155","Maintenance of Underground Services",133.63]
[2019,"January 1, 2018 - December 31, 2018",null,"Greater Sudbury Hydro Inc.","Administrative and General Expenses","5515","Advertising Expense",0]
[2019,"January 1, 2018 - December 31, 2018",null,"Greater Sudbury Hydro Inc.","Administrative and General Expenses","5660","General Advertising Expenses",398598.9]
[2019,"January 1, 2018 - December 31, 2018",null,"Greater Sudbury Hydro Inc.","Community Relations","5405","Supervision",0]
[2019,"January 1, 2018 - December 31, 2018",null,"Greater Sudbury Hydro Inc.","Distribution Expenses - Operation","5030","Overhead Subtransmission Feeders - Operation",49133.24]
[2019,"January 1, 2018 - December 31, 2018",null,"Greater Sudbury Hydro Inc.","Distribution Expenses - Operation","5055","Underground Distribution Transformers - Operation",127112.2]
[2019,"January 1, 2018 - December 31, 2018",null,"Greater Sudbury Hydro Inc.","Distribution Expenses – Maintenance","5125","Maintenance of Overhead Conductors and Devices",255743.1]
[2019,"January 1, 2018 - December 31, 2018",null,"Greater Sudbury Hydro Inc.","Other Expenses","5210","Transmission Charges",0]
[2019,"January 1, 2018 - December 31, 2018",null,"Grimsby Power Incorporated","Administrative and General Expenses","5655","Regulatory Expenses",110755.23]
[2019,"January 1, 2018 - December 31, 2018",null,"Grimsby Power Incorporated","Billing and Collecting","5325","Collecting- Cash Over and Short",0]
[2019,"January 1, 2018 - December 31, 2018",null,"Grimsby Power Incorporated","Community Relations","5405","Supervision",0]
[2019,"January 1, 2018 - December 31, 2018",null,"Grimsby Power Incorporated","Distribution Expenses - Operation","5030","Overhead Subtransmission Feeders - Operation",0]
[2019,"January 1, 2018 - December 31, 2018",null,"Grimsby Power Incorporated","Distribution Expenses – Maintenance","5105","Maintenance Supervision and Engineering",267618.86]
[2019,"January 1, 2018 - December 31, 2018",null,"Grimsby Power Incorporated","Other Expenses","5205","Purchase of Transmission and System Services",0]
[2019,"January 1, 2018 - December 31, 2018",null,"Guelph Hydro Electric Systems Inc.","Administrative and General Expenses","5640","Injuries and Damages",227309]
[2019,"January 1, 2018 - December 31, 2018",null,"Guelph Hydro Electric Systems Inc.","Administrative and General Expenses Total",null,null,7767886.9500000002]
[2019,"January 1, 2018 - December 31, 2018",null,"Guelph Hydro Electric Systems Inc.","Billing and Collecting","5325","Collecting- Cash Over and Short",2227.29]
[2019,"January 1, 2018 - December 31, 2018",null,"Guelph Hydro Electric Systems Inc.","Distribution Expenses - Operation","5015","Transformer Station Equipment - Operation Supplies and Expenses",0]
[2019,"January 1, 2018 - December 31, 2018",null,"Guelph Hydro Electric Systems Inc.","Distribution Expenses - Operation Total",null,null,4884148.2]
[2019,"January 1, 2018 - December 31, 2018",null,"Guelph Hydro Electric Systems Inc.","Distribution Expenses – Maintenance","5172","Sentinel Lights - Materials and Expenses",0]
[2019,"January 1, 2018 - December 31, 2018",null,"Halton Hills Hydro Inc.","Administrative and General Expenses","5615","General Administrative Salaries and Expenses",863607.18]
[2019,"January 1, 2018 - December 31, 2018",null,"Halton Hills Hydro Inc.","Administrative and General Expenses","5640","Injuries and Damages",85187.28]
[2019,"January 1, 2018 - December 31, 2018",null,"Halton Hills Hydro Inc.","Administrative and General Expenses Total",null,null,3360814.24]
[2019,"January 1, 2018 - December 31, 2018",null,"Halton Hills Hydro Inc.","Community Relations Total",null,null,386]
[2019,"January 1, 2018 - December 31, 2018",null,"Halton Hills Hydro Inc.","Distribution Expenses - Operation","5040","Underground Distribution Lines and Feeders - Operation Labour",29338.23]
[2019,"January 1, 2018 - December 31, 2018",null,"Halton Hills Hydro Inc.","Distribution Expenses – Maintenance","5145","Maintenance of Underground Conduit",0]
[2019,"January 1, 2018 - December 31, 2018",null,"Hearst Power Distribution Company Limited","Administrative and General Expenses","5605","Executive Salaries and Expenses",11937.39]
[2019,"January 1, 2018 - December 31, 2018",null,"Hearst Power Distribution Company Limited","Administrative and General Expenses","5610","Management Salaries and Expenses",88686.5]
[2019,"January 1, 2018 - December 31, 2018",null,"Hearst Power Distribution Company Limited","Administrative and General Expenses","5672","Lease Payment Expense",0]
[2019,"January 1, 2018 - December 31, 2018",null,"Hearst Power Distribution Company Limited","Community Relations","5420","Community Safety Program",1372.23]
[2019,"January 1, 2018 - December 31, 2018",null,"Hearst Power Distribution Company Limited","Distribution Expenses - Operation","5045","Underground Distribution Lines and Feeders - Operation Supplies and Expenses",239.95]
[2019,"January 1, 2018 - December 31, 2018",null,"Hearst Power Distribution Company Limited","Distribution Expenses – Maintenance","5135","Overhead Distribution Lines and Feeders - Right of Way",2571.9499999999998]
[2019,"January 1, 2018 - December 31, 2018",null,"Hearst Power Distribution Company Limited","Other Expenses Total",null,null,0]
[2019,"January 1, 2018 - December 31, 2018",null,"Hydro 2000 Inc.","Administrative and General Expenses","5505","Supervision",0]
[2019,"January 1, 2018 - December 31, 2018",null,"Hydro 2000 Inc.","Administrative and General Expenses","5670","Rent",11896.18]
[2019,"January 1, 2018 - December 31, 2018",null,"Hydro 2000 Inc.","Billing and Collecting","5340","Miscellaneous Customer Accounts Expenses",0]
[2019,"January 1, 2018 - December 31, 2018",null,"Hydro 2000 Inc.","Distribution Expenses - Operation","5020","Overhead Distribution Lines and Feeders - Operation Labour",1401.5]
[2019,"January 1, 2018 - December 31, 2018",null,"Hydro 2000 Inc.","Distribution Expenses – Maintenance","5112","Maintenance of Transformer Station Equipment",0]
[2019,"January 1, 2018 - December 31, 2018",null,"Hydro 2000 Inc.","Distribution Expenses – Maintenance","5195","Maintenance of Other Installations on Customer Premises",0]
[2019,"January 1, 2018 - December 31, 2018",null,"Hydro 2000 Inc.","Other Expenses Total",null,null,0]
[2019,"January 1, 2018 - December 31, 2018",null,"Hydro Hawkesbury Inc.","Administrative and General Expenses","5647","Employee Sick Leave",0]
[2019,"January 1, 2018 - December 31, 2018",null,"Hydro Hawkesbury Inc.","Billing and Collecting","5315","Customer Billing",230859.97]
[2019,"January 1, 2018 - December 31, 2018",null,"Hydro Hawkesbury Inc.","Distribution Expenses - Operation","5017","Distribution Station Equipment - Operation Supplies and Expenses",1368.28]
[2019,"January 1, 2018 - December 31, 2018",null,"Hydro Hawkesbury Inc.","Distribution Expenses - Operation","5095","Overhead Distribution Lines and Feeders - Rental Paid",1482.42]
[2019,"January 1, 2018 - December 31, 2018",null,"Hydro Hawkesbury Inc.","Distribution Expenses – Maintenance","5112","Maintenance of Transformer Station Equipment",0]
[2019,"January 1, 2018 - December 31, 2018",null,"Hydro Hawkesbury Inc.","Distribution Expenses – Maintenance","5195","Maintenance of Other Installations on Customer Premises",0]
[2019,"January 1, 2018 - December 31, 2018",null,"Hydro One Networks Inc.","Administrative and General Expenses","5630","Outside Services Employed",14440168.17]
[2019,"January 1, 2018 - December 31, 2018",null,"Hydro One Networks Inc.","Billing and Collecting","5325","Collecting- Cash Over and Short",0]
[2019,"January 1, 2018 - December 31, 2018",null,"Hydro One Networks Inc.","Distribution Expenses - Operation","5015","Transformer Station Equipment - Operation Supplies and Expenses",102951.5]
[2019,"January 1, 2018 - December 31, 2018",null,"Hydro One Networks Inc.","Distribution Expenses - Operation","5085","Miscellaneous Distribution Expense",18998812.149999999]
[2019,"January 1, 2018 - December 31, 2018",null,"Hydro One Networks Inc.","Distribution Expenses – Maintenance","5105","Maintenance Supervision and Engineering",11384493.99]
[2019,"January 1, 2018 - December 31, 2018",null,"Hydro One Networks Inc.","Distribution Expenses – Maintenance","5175","Maintenance of Meters",7285028.7400000002]
[2019,"January 1, 2018 - December 31, 2018",null,"Hydro One Remote Communities Inc.","Administrative and General Expenses","5640","Injuries and Damages",0]
[2019,"January 1, 2018 - December 31, 2018",null,"Hydro One Remote Communities Inc.","Billing and Collecting","5315","Customer Billing",1027138.49]
[2019,"January 1, 2018 - December 31, 2018",null,"Hydro One Remote Communities Inc.","Distribution Expenses - Operation","5012","Station Buildings and Fixtures Expense",0]
[2019,"January 1, 2018 - December 31, 2018",null,"Hydro One Remote Communities Inc.","Distribution Expenses - Operation","5016","Distribution Station Equipment - Operation Labour",0]
[2019,"January 1, 2018 - December 31, 2018",null,"Hydro One Remote Communities Inc.","Distribution Expenses - Operation","5095","Overhead Distribution Lines and Feeders - Rental Paid",0]
[2019,"January 1, 2018 - December 31, 2018",null,"Hydro One Remote Communities Inc.","Distribution Expenses – Maintenance","5165","Maintenance of Street Lighting and Signal Systems",0]
[2019,"January 1, 2018 - December 31, 2018",null,"Hydro Ottawa Limited","Administrative and General Expenses","5625","Administrative Expense Transferred/Credit",683203.22]
[2019,"January 1, 2018 - December 31, 2018",null,"Hydro Ottawa Limited","Administrative and General Expenses","5681","Special Purpose Charge Expense",0]
[2019,"January 1, 2018 - December 31, 2018",null,"Hydro Ottawa Limited","Billing and Collecting","5310","Meter Reading Expense",335160.51]
[2019,"January 1, 2018 - December 31, 2018",null,"Hydro Ottawa Limited","Distribution Expenses - Operation","5010","Load Dispatching",3155270.75]
[2019,"January 1, 2018 - December 31, 2018",null,"Hydro Ottawa Limited","Distribution Expenses - Operation","5065","Meter Expense",633384.61]
[2019,"January 1, 2018 - December 31, 2018",null,"Hydro Ottawa Limited","Distribution Expenses – Maintenance","5160","Maintenance of Line Transformers",420148.95]
[2019,"January 1, 2018 - December 31, 2018",null,"Innpower Corporation","Administrative and General Expenses","5520","Miscellaneous Sales Expense",0]
[2019,"January 1, 2018 - December 31, 2018",null,"Innpower Corporation","Administrative and General Expenses","5625","Administrative Expense Transferred/Credit",0]
[2019,"January 1, 2018 - December 31, 2018",null,"Innpower Corporation","Administrative and General Expenses","5681","Special Purpose Charge Expense",0]
[2019,"January 1, 2018 - December 31, 2018",null,"Innpower Corporation","Community Relations","5415","Energy Conservation",0]
[2019,"January 1, 2018 - December 31, 2018",null,"Innpower Corporation","Distribution Expenses - Operation","5060","Street Lighting and Signal System Expense",0]
[2019,"January 1, 2018 - December 31, 2018",null,"Innpower Corporation","Distribution Expenses – Maintenance","5130","Maintenance of Overhead Services",108302.07]
[2019,"January 1, 2018 - December 31, 2018",null,"Innpower Corporation","Other Expenses","5215","Transmission Charges Recovered",0]
[2019,"January 1, 2018 - December 31, 2018",null,"Kenora Hydro Electric Corporation Ltd.","Administrative and General Expenses","5520","Miscellaneous Sales Expense",0]
[2019,"January 1, 2018 - December 31, 2018",null,"Kenora Hydro Electric Corporation Ltd.","Administrative and General Expenses","5665","Miscellaneous General Expenses",25950]
[2019,"January 1, 2018 - December 31, 2018",null,"Kenora Hydro Electric Corporation Ltd.","Community Relations","5410","Community Relations - Sundry",0]
[2019,"January 1, 2018 - December 31, 2018",null,"Kenora Hydro Electric Corporation Ltd.","Distribution Expenses - Operation","5035","Overhead Distribution Transformers- Operation",2829]
[2019,"January 1, 2018 - December 31, 2018",null,"Kenora Hydro Electric Corporation Ltd.","Distribution Expenses – Maintenance","5110","Maintenance of Buildings and Fixtures - Distribution Stations",0]
[2019,"January 1, 2018 - December 31, 2018",null,"Kenora Hydro Electric Corporation Ltd.","Other Expenses","5210","Transmission Charges",0]
[2019,"January 1, 2018 - December 31, 2018",null,"Kenora Hydro Electric Corporation Ltd.","Other Expenses","5215","Transmission Charges Recovered",0]
[2019,"January 1, 2018 - December 31, 2018",null,"Kingston Hydro Corporation","Administrative and General Expenses","5646","Employee Pensions and OPEB",0]
[2019,"January 1, 2018 - December 31, 2018",null,"Kingston Hydro Corporation","Billing and Collecting","5330","Collection Charges",0]
[2019,"January 1, 2018 - December 31, 2018",null,"Kingston Hydro Corporation","Distribution Expenses - Operation","5016","Distribution Station Equipment - Operation Labour",76824]
[2019,"January 1, 2018 - December 31, 2018",null,"Kingston Hydro Corporation","Distribution Expenses – Maintenance","5105","Maintenance Supervision and Engineering",108639]
[2019,"January 1, 2018 - December 31, 2018",null,"Kingston Hydro Corporation","Distribution Expenses – Maintenance","5175","Maintenance of Meters",0]
[2019,"January 1, 2018 - December 31, 2018",null,"Kingston Hydro Corporation","Distribution Expenses – Maintenance","5178","Customer Installations Expenses- Leased Property",0]
[2019,"January 1, 2018 - December 31, 2018",null,"Kitchener-Wilmot Hydro Inc.","Administrative and General Expenses","5645","OMERS Pensions and Benefits",3023.14]
[2019,"January 1, 2018 - December 31, 2018",null,"Kitchener-Wilmot Hydro Inc.","Billing and Collecting","5325","Collecting- Cash Over and Short",-28.05]
[2019,"January 1, 2018 - December 31, 2018",null,"Kitchener-Wilmot Hydro Inc.","Distribution Expenses - Operation","5014","Transformer Station Equipment - Operation Labour",333989.43]
[2019,"January 1, 2018 - December 31, 2018",null,"Kitchener-Wilmot Hydro Inc.","Distribution Expenses - Operation","5075","Customer Premises - Materials and Expenses",16807.23]
[2019,"January 1, 2018 - December 31, 2018",null,"Kitchener-Wilmot Hydro Inc.","Distribution Expenses – Maintenance","5150","Maintenance of Underground Conductors and Devices",782777.95]
[2019,"January 1, 2018 - December 31, 2018",null,"Kitchener-Wilmot Hydro Inc.","Distribution Expenses – Maintenance","5172","Sentinel Lights - Materials and Expenses",0]
[2019,"January 1, 2018 - December 31, 2018",null,"Lakefront Utilities Inc.","Administrative and General Expenses","5615","General Administrative Salaries and Expenses",336864.6]
[2019,"January 1, 2018 - December 31, 2018",null,"Lakefront Utilities Inc.","Administrative and General Expenses","5675","Maintenance of General Plant",60478.39]
[2019,"January 1, 2018 - December 31, 2018",null,"Lakefront Utilities Inc.","Community Relations","5425","Miscellaneous Customer Service and Informational Expenses",0]
[2019,"January 1, 2018 - December 31, 2018",null,"Lakefront Utilities Inc.","Distribution Expenses - Operation","5050","Underground Subtransmission Feeders - Operation",0]
[2019,"January 1, 2018 - December 31, 2018",null,"Lakefront Utilities Inc.","Distribution Expenses - Operation","5075","Customer Premises - Materials and Expenses",0]
[2019,"January 1, 2018 - December 31, 2018",null,"Lakefront Utilities Inc.","Distribution Expenses – Maintenance","5150","Maintenance of Underground Conductors and Devices",0]
[2019,"January 1, 2018 - December 31, 2018",null,"Lakeland Power Distribution Ltd.","Administrative and General Expenses","5510","Demonstrating and Selling Expense",0]
[2019,"January 1, 2018 - December 31, 2018",null,"Lakeland Power Distribution Ltd.","Administrative and General Expenses","5672","Lease Payment Expense",0]
[2019,"January 1, 2018 - December 31, 2018",null,"Lakeland Power Distribution Ltd.","Billing and Collecting Total",null,null,903973.02]
[2019,"January 1, 2018 - December 31, 2018",null,"Lakeland Power Distribution Ltd.","Community Relations","5425","Miscellaneous Customer Service and Informational Expenses",15616]
[2019,"January 1, 2018 - December 31, 2018",null,"Lakeland Power Distribution Ltd.","Distribution Expenses - Operation","5050","Underground Subtransmission Feeders - Operation",0]
[2019,"January 1, 2018 - December 31, 2018",null,"Lakeland Power Distribution Ltd.","Distribution Expenses – Maintenance","5120","Maintenance of Poles, Towers and Fixtures",3596.31]
[2019,"January 1, 2018 - December 31, 2018",null,"London Hydro Inc.","Administrative and General Expenses","5505","Supervision",0]
[2019,"January 1, 2018 - December 31, 2018",null,"London Hydro Inc.","Administrative and General Expenses","5650","Franchise Requirements",0]
[2019,"January 1, 2018 - December 31, 2018",null,"London Hydro Inc.","Billing and Collecting","5320","Collecting",1270964.7]
[2019,"January 1, 2018 - December 31, 2018",null,"London Hydro Inc.","Billing and Collecting Total",null,null,4969447.9800000004]
[2019,"January 1, 2018 - December 31, 2018",null,"London Hydro Inc.","Distribution Expenses - Operation","5025","Overhead Distribution Lines and Feeders - Operation Supplies and Expenses",320163.84999999998]
[2019,"January 1, 2018 - December 31, 2018",null,"London Hydro Inc.","Distribution Expenses – Maintenance","5114","Maintenance of Distribution Station Equipment",752286.49]
[2019,"January 1, 2018 - December 31, 2018",null,"London Hydro Inc.","Distribution Expenses – Maintenance Total",null,null,9017046.2100000009]
[2019,"January 1, 2018 - December 31, 2018",null,"Milton Hydro Distribution Inc.","Administrative and General Expenses","5635","Property Insurance",123816]
[2019,"January 1, 2018 - December 31, 2018",null,"Milton Hydro Distribution Inc.","Administrative and General Expenses","5650","Franchise Requirements",0]
[2019,"January 1, 2018 - December 31, 2018",null,"Milton Hydro Distribution Inc.","Billing and Collecting","5320","Collecting",266118]
[2019,"January 1, 2018 - December 31, 2018",null,"Milton Hydro Distribution Inc.","Distribution Expenses - Operation","5014","Transformer Station Equipment - Operation Labour",0]
[2019,"January 1, 2018 - December 31, 2018",null,"Milton Hydro Distribution Inc.","Distribution Expenses - Operation","5096","Other Rent",0]
[2019,"January 1, 2018 - December 31, 2018",null,"Milton Hydro Distribution Inc.","Distribution Expenses – Maintenance","5170","Sentinel Lights - Labour",0]
[2019,"January 1, 2018 - December 31, 2018",null,"Milton Hydro Distribution Inc.","Other Expenses","5215","Transmission Charges Recovered",0]
[2019,"January 1, 2018 - December 31, 2018",null,"Newmarket-Tay Power Distribution Ltd.","Administrative and General Expenses","5630","Outside Services Employed",1479696.55]
[2019,"January 1, 2018 - December 31, 2018",null,"Newmarket-Tay Power Distribution Ltd.","Administrative and General Expenses","5685","Independent Market Operator Fees and Penalties",0]
[2019,"January 1, 2018 - December 31, 2018",null,"Newmarket-Tay Power Distribution Ltd.","Distribution Expenses - Operation","5010","Load Dispatching",0]
[2019,"January 1, 2018 - December 31, 2018",null,"Newmarket-Tay Power Distribution Ltd.","Distribution Expenses - Operation","5065","Meter Expense",147483.59]
[2019,"January 1, 2018 - December 31, 2018",null,"Newmarket-Tay Power Distribution Ltd.","Distribution Expenses – Maintenance","5160","Maintenance of Line Transformers",119820.01]
[2019,"January 1, 2018 - December 31, 2018",null,"Newmarket-Tay Power Distribution Ltd.","Distribution Expenses – Maintenance","5165","Maintenance of Street Lighting and Signal Systems",14378.34]
[2019,"January 1, 2018 - December 31, 2018",null,"Niagara Peninsula Energy Inc.","Administrative and General Expenses","5605","Executive Salaries and Expenses",449088.22]
[2019,"January 1, 2018 - December 31, 2018",null,"Niagara Peninsula Energy Inc.","Administrative and General Expenses","5681","Special Purpose Charge Expense",0]
[2019,"January 1, 2018 - December 31, 2018",null,"Niagara Peninsula Energy Inc.","Community Relations","5415","Energy Conservation",0]
[2019,"January 1, 2018 - December 31, 2018",null,"Niagara Peninsula Energy Inc.","Distribution Expenses - Operation","5040","Underground Distribution Lines and Feeders - Operation Labour",119802.25]
[2019,"January 1, 2018 - December 31, 2018",null,"Niagara Peninsula Energy Inc.","Distribution Expenses – Maintenance","5130","Maintenance of Overhead Services",241563.45]
[2019,"January 1, 2018 - December 31, 2018",null,"Niagara Peninsula Energy Inc.","Distribution Expenses – Maintenance","5135","Overhead Distribution Lines and Feeders - Right of Way",346945.05]
[2019,"January 1, 2018 - December 31, 2018",null,"Niagara-on-the-Lake Hydro Inc.","Administrative and General Expenses","5520","Miscellaneous Sales Expense",0]
[2019,"January 1, 2018 - December 31, 2018",null,"Niagara-on-the-Lake Hydro Inc.","Administrative and General Expenses","5665","Miscellaneous General Expenses",57157.52]
[2019,"January 1, 2018 - December 31, 2018",null,"Niagara-on-the-Lake Hydro Inc.","Billing and Collecting","5335","Bad Debt Expense",18000]
[2019,"January 1, 2018 - December 31, 2018",null,"Niagara-on-the-Lake Hydro Inc.","Distribution Expenses - Operation","5035","Overhead Distribution Transformers- Operation",0]
[2019,"January 1, 2018 - December 31, 2018",null,"Niagara-on-the-Lake Hydro Inc.","Distribution Expenses – Maintenance","5110","Maintenance of Buildings and Fixtures - Distribution Stations",0]
[2019,"January 1, 2018 - December 31, 2018",null,"Niagara-on-the-Lake Hydro Inc.","Distribution Expenses – Maintenance","5130","Maintenance of Overhead Services",41043.43]
[2019,"January 1, 2018 - December 31, 2018",null,"Niagara-on-the-Lake Hydro Inc.","Other Expenses","5215","Transmission Charges Recovered",0]
[2019,"January 1, 2018 - December 31, 2018",null,"North Bay Hydro Distribution Limited","Administrative and General Expenses","5646","Employee Pensions and OPEB",0]
[2019,"January 1, 2018 - December 31, 2018",null,"North Bay Hydro Distribution Limited","Billing and Collecting","5330","Collection Charges",0]
[2019,"January 1, 2018 - December 31, 2018",null,"North Bay Hydro Distribution Limited","Distribution Expenses - Operation","5016","Distribution Station Equipment - Operation Labour",0]
[2019,"January 1, 2018 - December 31, 2018",null,"North Bay Hydro Distribution Limited","Distribution Expenses - Operation","5090","Underground Distribution Lines and Feeders - Rental Paid",0]
[2019,"January 1, 2018 - December 31, 2018",null,"North Bay Hydro Distribution Limited","Distribution Expenses – Maintenance","5110","Maintenance of Buildings and Fixtures - Distribution Stations",34657.980000000003]
[2019,"January 1, 2018 - December 31, 2018",null,"North Bay Hydro Distribution Limited","Distribution Expenses – Maintenance","5178","Customer Installations Expenses- Leased Property",0]
[2019,"January 1, 2018 - December 31, 2018",null,"Northern Ontario Wires Inc.","Administrative and General Expenses","5645","OMERS Pensions and Benefits",-9129]
[2019,"January 1, 2018 - December 31, 2018",null,"Northern Ontario Wires Inc.","Billing and Collecting","5305","Supervision",79384.259999999995]
[2019,"January 1, 2018 - December 31, 2018",null,"Northern Ontario Wires Inc.","Distribution Expenses - Operation","5005","Operation Supervision and Engineering",224272.94]
[2019,"January 1, 2018 - December 31, 2018",null,"Northern Ontario Wires Inc.","Distribution Expenses - Operation","5016","Distribution Station Equipment - Operation Labour",6818.07]
[2019,"January 1, 2018 - December 31, 2018",null,"Northern Ontario Wires Inc.","Distribution Expenses - Operation","5090","Underground Distribution Lines and Feeders - Rental Paid",0]
[2019,"January 1, 2018 - December 31, 2018",null,"Northern Ontario Wires Inc.","Distribution Expenses – Maintenance","5170","Sentinel Lights - Labour",0]
[2019,"January 1, 2018 - December 31, 2018",null,"Oakville Hydro Electricity Distribution Inc.","Administrative and General Expenses","5615","General Administrative Salaries and Expenses",0]
[2019,"January 1, 2018 - December 31, 2018",null,"Oakville Hydro Electricity Distribution Inc.","Administrative and General Expenses","5675","Maintenance of General Plant",363546.79]
[2019,"January 1, 2018 - December 31, 2018",null,"Oakville Hydro Electricity Distribution Inc.","Administrative and General Expenses Total",null,null,6004476.6600000001]
[2019,"January 1, 2018 - December 31, 2018",null,"Oakville Hydro Electricity Distribution Inc.","Community Relations Total",null,null,245768.21]
[2019,"January 1, 2018 - December 31, 2018",null,"Oakville Hydro Electricity Distribution Inc.","Distribution Expenses - Operation","5055","Underground Distribution Transformers - Operation",96757.5]
[2019,"January 1, 2018 - December 31, 2018",null,"Oakville Hydro Electricity Distribution Inc.","Distribution Expenses – Maintenance","5150","Maintenance of Underground Conductors and Devices",432703.81]
[2019,"January 1, 2018 - December 31, 2018",null,"Orangeville Hydro Limited","Administrative and General Expenses","5510","Demonstrating and Selling Expense",0]
[2019,"January 1, 2018 - December 31, 2018",null,"Orangeville Hydro Limited","Administrative and General Expenses","5615","General Administrative Salaries and Expenses",228977.22]
[2019,"January 1, 2018 - December 31, 2018",null,"Orangeville Hydro Limited","Administrative and General Expenses","5675","Maintenance of General Plant",69873.279999999999]
[2019,"January 1, 2018 - December 31, 2018",null,"Orangeville Hydro Limited","Community Relations","5405","Supervision",0]
[2019,"January 1, 2018 - December 31, 2018",null,"Orangeville Hydro Limited","Distribution Expenses - Operation","5050","Underground Subtransmission Feeders - Operation",0]
[2019,"January 1, 2018 - December 31, 2018",null,"Orangeville Hydro Limited","Distribution Expenses – Maintenance","5120","Maintenance of Poles, Towers and Fixtures",5471.4]
[2019,"January 1, 2018 - December 31, 2018",null,"Orangeville Hydro Limited","Other Expenses","5205","Purchase of Transmission and System Services",0]
[2019,"January 1, 2018 - December 31, 2018",null,"Orillia Power Distribution Corporation","Administrative and General Expenses","5510","Demonstrating and Selling Expense",0]
[2019,"January 1, 2018 - December 31, 2018",null,"Orillia Power Distribution Corporation","Administrative and General Expenses","5655","Regulatory Expenses",96516]
[2019,"January 1, 2018 - December 31, 2018",null,"Orillia Power Distribution Corporation","Billing and Collecting Total",null,null,1181307]
[2019,"January 1, 2018 - December 31, 2018",null,"Orillia Power Distribution Corporation","Distribution Expenses - Operation","5025","Overhead Distribution Lines and Feeders - Operation Supplies and Expenses",0]
[2019,"January 1, 2018 - December 31, 2018",null,"Orillia Power Distribution Corporation","Distribution Expenses - Operation Total",null,null,1105352]
[2019,"January 1, 2018 - December 31, 2018",null,"Orillia Power Distribution Corporation","Distribution Expenses – Maintenance","5120","Maintenance of Poles, Towers and Fixtures",678421]
[2019,"January 1, 2018 - December 31, 2018",null,"Orillia Power Distribution Corporation","Other Expenses","5205","Purchase of Transmission and System Services",0]
[2019,"January 1, 2018 - December 31, 2018",null,"Oshawa PUC Networks Inc.","Administrative and General Expenses","5640","Injuries and Damages",211855]
[2019,"January 1, 2018 - December 31, 2018",null,"Oshawa PUC Networks Inc.","Billing and Collecting","5320","Collecting",289135]
[2019,"January 1, 2018 - December 31, 2018",null,"Oshawa PUC Networks Inc.","Distribution Expenses - Operation","5014","Transformer Station Equipment - Operation Labour",0]
[2019,"January 1, 2018 - December 31, 2018",null,"Oshawa PUC Networks Inc.","Distribution Expenses - Operation","5096","Other Rent",0]
[2019,"January 1, 2018 - December 31, 2018",null,"Oshawa PUC Networks Inc.","Distribution Expenses - Operation Total",null,null,2070198]
[2019,"January 1, 2018 - December 31, 2018",null,"Oshawa PUC Networks Inc.","Distribution Expenses – Maintenance","5172","Sentinel Lights - Materials and Expenses",0]
[2019,"January 1, 2018 - December 31, 2018",null,"Ottawa River Power Corporation","Administrative and General Expenses","5635","Property Insurance",12438.01]
[2019,"January 1, 2018 - December 31, 2018",null,"Ottawa River Power Corporation","Administrative and General Expenses","5695","OM&A Contra",0]
[2019,"January 1, 2018 - December 31, 2018",null,"Ottawa River Power Corporation","Distribution Expenses - Operation","5012","Station Buildings and Fixtures Expense",111486.14]
[2019,"January 1, 2018 - December 31, 2018",null,"Ottawa River Power Corporation","Distribution Expenses - Operation","5015","Transformer Station Equipment - Operation Supplies and Expenses",0]
[2019,"January 1, 2018 - December 31, 2018",null,"Ottawa River Power Corporation","Distribution Expenses - Operation","5070","Customer Premises - Operation Labour",76365.13]
[2019,"January 1, 2018 - December 31, 2018",null,"Ottawa River Power Corporation","Distribution Expenses – Maintenance","5165","Maintenance of Street Lighting and Signal Systems",0]
[2019,"January 1, 2018 - December 31, 2018",null,"PUC Distribution Inc.","Administrative and General Expenses","5605","Executive Salaries and Expenses",437067.34]
[2019,"January 1, 2018 - December 31, 2018",null,"PUC Distribution Inc.","Administrative and General Expenses","5670","Rent",0]
[2019,"January 1, 2018 - December 31, 2018",null,"PUC Distribution Inc.","Community Relations","5415","Energy Conservation",0]
[2019,"January 1, 2018 - December 31, 2018",null,"PUC Distribution Inc.","Distribution Expenses - Operation","5040","Underground Distribution Lines and Feeders - Operation Labour",209103.31]
[2019,"January 1, 2018 - December 31, 2018",null,"PUC Distribution Inc.","Distribution Expenses - Operation","5065","Meter Expense",303711.58]
[2019,"January 1, 2018 - December 31, 2018",null,"PUC Distribution Inc.","Distribution Expenses – Maintenance","5135","Overhead Distribution Lines and Feeders - Right of Way",621969.55000000005]
[2019,"January 1, 2018 - December 31, 2018",null,"PUC Distribution Inc.","Other Expenses Total",null,null,0]
[2019,"January 1, 2018 - December 31, 2018",null,"Renfrew Hydro Inc.","Administrative and General Expenses","5665","Miscellaneous General Expenses",30830]
[2019,"January 1, 2018 - December 31, 2018",null,"Renfrew Hydro Inc.","Billing and Collecting","5335","Bad Debt Expense",26754.02]
[2019,"January 1, 2018 - December 31, 2018",null,"Renfrew Hydro Inc.","Community Relations","5415","Energy Conservation",0]
[2019,"January 1, 2018 - December 31, 2018",null,"Renfrew Hydro Inc.","Distribution Expenses - Operation","5040","Underground Distribution Lines and Feeders - Operation Labour",1144.71]
[2019,"January 1, 2018 - December 31, 2018",null,"Renfrew Hydro Inc.","Distribution Expenses – Maintenance","5112","Maintenance of Transformer Station Equipment",0]
[2019,"January 1, 2018 - December 31, 2018",null,"Renfrew Hydro Inc.","Other Expenses","5215","Transmission Charges Recovered",0]
[2019,"January 1, 2018 - December 31, 2018",null,"Rideau St. Lawrence Distribution Inc.","Administrative and General Expenses","5646","Employee Pensions and OPEB",1098.98]
[2019,"January 1, 2018 - December 31, 2018",null,"Rideau St. Lawrence Distribution Inc.","Billing and Collecting","5310","Meter Reading Expense",67094.649999999994]
[2019,"January 1, 2018 - December 31, 2018",null,"Rideau St. Lawrence Distribution Inc.","Billing and Collecting","5335","Bad Debt Expense",48434.36]
[2019,"January 1, 2018 - December 31, 2018",null,"Rideau St. Lawrence Distribution Inc.","Distribution Expenses - Operation","5017","Distribution Station Equipment - Operation Supplies and Expenses",0]
[2019,"January 1, 2018 - December 31, 2018",null,"Rideau St. Lawrence Distribution Inc.","Distribution Expenses – Maintenance","5110","Maintenance of Buildings and Fixtures - Distribution Stations",6.18]
[2019,"January 1, 2018 - December 31, 2018",null,"Rideau St. Lawrence Distribution Inc.","Distribution Expenses – Maintenance","5178","Customer Installations Expenses- Leased Property",0]
[2019,"January 1, 2018 - December 31, 2018",null,"Sioux Lookout Hydro Inc.","Administrative and General Expenses","5625","Administrative Expense Transferred/Credit",0]
[2019,"January 1, 2018 - December 31, 2018",null,"Sioux Lookout Hydro Inc.","Administrative and General Expenses","5646","Employee Pensions and OPEB",17109.37]
[2019,"January 1, 2018 - December 31, 2018",null,"Sioux Lookout Hydro Inc.","Billing and Collecting","5310","Meter Reading Expense",5957.78]
[2019,"January 1, 2018 - December 31, 2018",null,"Sioux Lookout Hydro Inc.","Distribution Expenses - Operation","5010","Load Dispatching",0]
[2019,"January 1, 2018 - December 31, 2018",null,"Sioux Lookout Hydro Inc.","Distribution Expenses - Operation","5090","Underground Distribution Lines and Feeders - Rental Paid",0]
[2019,"January 1, 2018 - December 31, 2018",null,"Sioux Lookout Hydro Inc.","Distribution Expenses – Maintenance","5160","Maintenance of Line Transformers",3154.66]
[2019,"January 1, 2018 - December 31, 2018",null,"Sioux Lookout Hydro Inc.","Distribution Expenses – Maintenance","5178","Customer Installations Expenses- Leased Property",0]
[2019,"January 1, 2018 - December 31, 2018",null,"Thunder Bay Hydro Electricity Distribution Inc.","Administrative and General Expenses","5625","Administrative Expense Transferred/Credit",0]
[2019,"January 1, 2018 - December 31, 2018",null,"Thunder Bay Hydro Electricity Distribution Inc.","Billing and Collecting","5320","Collecting",398942.71]
[2019,"January 1, 2018 - December 31, 2018",null,"Thunder Bay Hydro Electricity Distribution Inc.","Community Relations Total",null,null,13670.2]
[2019,"January 1, 2018 - December 31, 2018",null,"Thunder Bay Hydro Electricity Distribution Inc.","Distribution Expenses - Operation","5055","Underground Distribution Transformers - Operation",126959.67]
[2019,"January 1, 2018 - December 31, 2018",null,"Thunder Bay Hydro Electricity Distribution Inc.","Distribution Expenses - Operation","5085","Miscellaneous Distribution Expense",0]
[2019,"January 1, 2018 - December 31, 2018",null,"Thunder Bay Hydro Electricity Distribution Inc.","Distribution Expenses – Maintenance","5155","Maintenance of Underground Services",253121]
[2019,"January 1, 2018 - December 31, 2018",null,"Tillsonburg Hydro Inc.","Administrative and General Expenses","5515","Advertising Expense",0]
[2019,"January 1, 2018 - December 31, 2018",null,"Tillsonburg Hydro Inc.","Administrative and General Expenses","5675","Maintenance of General Plant",0]
[2019,"January 1, 2018 - December 31, 2018",null,"Tillsonburg Hydro Inc.","Community Relations","5405","Supervision",0]
[2019,"January 1, 2018 - December 31, 2018",null,"Tillsonburg Hydro Inc.","Distribution Expenses - Operation","5030","Overhead Subtransmission Feeders - Operation",0]
[2019,"January 1, 2018 - December 31, 2018",null,"Tillsonburg Hydro Inc.","Distribution Expenses - Operation","5055","Underground Distribution Transformers - Operation",728.14]
[2019,"January 1, 2018 - December 31, 2018",null,"Tillsonburg Hydro Inc.","Distribution Expenses – Maintenance","5125","Maintenance of Overhead Conductors and Devices",32248.73]
[2019,"January 1, 2018 - December 31, 2018",null,"Toronto Hydro-Electric System Limited","Administrative and General Expenses","5510","Demonstrating and Selling Expense",0]
[2019,"January 1, 2018 - December 31, 2018",null,"Toronto Hydro-Electric System Limited","Administrative and General Expenses","5655","Regulatory Expenses",4924577.18]
[2019,"January 1, 2018 - December 31, 2018",null,"Toronto Hydro-Electric System Limited","Billing and Collecting","5325","Collecting- Cash Over and Short",0]
[2019,"January 1, 2018 - December 31, 2018",null,"Toronto Hydro-Electric System Limited","Distribution Expenses - Operation","5025","Overhead Distribution Lines and Feeders - Operation Supplies and Expenses",2442860.4500000002]
[2019,"January 1, 2018 - December 31, 2018",null,"Toronto Hydro-Electric System Limited","Distribution Expenses - Operation","5030","Overhead Subtransmission Feeders - Operation",0]
[2019,"January 1, 2018 - December 31, 2018",null,"Toronto Hydro-Electric System Limited","Distribution Expenses – Maintenance","5105","Maintenance Supervision and Engineering",18384919.800000001]
[2019,"January 1, 2018 - December 31, 2018",null,"Toronto Hydro-Electric System Limited","Other Expenses","5205","Purchase of Transmission and System Services",0]
[2019,"January 1, 2018 - December 31, 2018",null,"Veridian Connections Inc.","Administrative and General Expenses","5640","Injuries and Damages",324540]
[2019,"January 1, 2018 - December 31, 2018",null,"Veridian Connections Inc.","Billing and Collecting","5320","Collecting",1033366]
[2019,"January 1, 2018 - December 31, 2018",null,"Veridian Connections Inc.","Distribution Expenses - Operation","5014","Transformer Station Equipment - Operation Labour",103274]
[2019,"January 1, 2018 - December 31, 2018",null,"Veridian Connections Inc.","Distribution Expenses - Operation","5015","Transformer Station Equipment - Operation Supplies and Expenses",0]
[2019,"January 1, 2018 - December 31, 2018",null,"Veridian Connections Inc.","Distribution Expenses - Operation Total",null,null,7127730]
[2019,"January 1, 2018 - December 31, 2018",null,"Veridian Connections Inc.","Distribution Expenses – Maintenance","5172","Sentinel Lights - Materials and Expenses",0]
[2019,"January 1, 2018 - December 31, 2018",null,"Wasaga Distribution Inc.","Administrative and General Expenses","5635","Property Insurance",12727.08]
[2019,"January 1, 2018 - December 31, 2018",null,"Wasaga Distribution Inc.","Administrative and General Expenses","5695","OM&A Contra",0]
[2019,"January 1, 2018 - December 31, 2018",null,"Wasaga Distribution Inc.","Community Relations","5425","Miscellaneous Customer Service and Informational Expenses",0]
[2019,"January 1, 2018 - December 31, 2018",null,"Wasaga Distribution Inc.","Distribution Expenses - Operation","5014","Transformer Station Equipment - Operation Labour",0]
[2019,"January 1, 2018 - December 31, 2018",null,"Wasaga Distribution Inc.","Distribution Expenses - Operation","5075","Customer Premises - Materials and Expenses",40.380000000000003]
[2019,"January 1, 2018 - December 31, 2018",null,"Wasaga Distribution Inc.","Distribution Expenses – Maintenance","5150","Maintenance of Underground Conductors and Devices",163398.9]
[2019,"January 1, 2018 - December 31, 2018",null,"Wasaga Distribution Inc.","Other Expenses","5210","Transmission Charges",0]
[2019,"January 1, 2018 - December 31, 2018",null,"Waterloo North Hydro Inc.","Administrative and General Expenses","5670","Rent",0]
[2019,"January 1, 2018 - December 31, 2018",null,"Waterloo North Hydro Inc.","Administrative and General Expenses","5685","Independent Market Operator Fees and Penalties",0]
[2019,"January 1, 2018 - December 31, 2018",null,"Waterloo North Hydro Inc.","Community Relations","5420","Community Safety Program",24155]
[2019,"January 1, 2018 - December 31, 2018",null,"Waterloo North Hydro Inc.","Distribution Expenses - Operation","5045","Underground Distribution Lines and Feeders - Operation Supplies and Expenses",30008]
[2019,"January 1, 2018 - December 31, 2018",null,"Waterloo North Hydro Inc.","Distribution Expenses – Maintenance","5135","Overhead Distribution Lines and Feeders - Right of Way",316476]
[2019,"January 1, 2018 - December 31, 2018",null,"Waterloo North Hydro Inc.","Other Expenses Total",null,null,0]
[2019,"January 1, 2018 - December 31, 2018",null,"Welland Hydro-Electric System Corp.","Administrative and General Expenses","5605","Executive Salaries and Expenses",420894.03]
[2019,"January 1, 2018 - December 31, 2018",null,"Welland Hydro-Electric System Corp.","Administrative and General Expenses","5670","Rent",0]
[2019,"January 1, 2018 - December 31, 2018",null,"Welland Hydro-Electric System Corp.","Billing and Collecting","5340","Miscellaneous Customer Accounts Expenses",24869.05]
[2019,"January 1, 2018 - December 31, 2018",null,"Welland Hydro-Electric System Corp.","Distribution Expenses - Operation","5040","Underground Distribution Lines and Feeders - Operation Labour",210688.94]
[2019,"January 1, 2018 - December 31, 2018",null,"Welland Hydro-Electric System Corp.","Distribution Expenses – Maintenance","5112","Maintenance of Transformer Station Equipment",0]
[2019,"January 1, 2018 - December 31, 2018",null,"Welland Hydro-Electric System Corp.","Distribution Expenses – Maintenance","5195","Maintenance of Other Installations on Customer Premises",0]
[2019,"January 1, 2018 - December 31, 2018",null,"Welland Hydro-Electric System Corp.","Other Expenses Total",null,null,0]
[2019,"January 1, 2018 - December 31, 2018",null,"Wellington North Power Inc.","Administrative and General Expenses","5647","Employee Sick Leave",0]
[2019,"January 1, 2018 - December 31, 2018",null,"Wellington North Power Inc.","Billing and Collecting","5335","Bad Debt Expense",12047.89]
[2019,"January 1, 2018 - December 31, 2018",null,"Wellington North Power Inc.","Distribution Expenses - Operation","5017","Distribution Station Equipment - Operation Supplies and Expenses",17819.64]
[2019,"January 1, 2018 - December 31, 2018",null,"Wellington North Power Inc.","Distribution Expenses - Operation","5095","Overhead Distribution Lines and Feeders - Rental Paid",0]
[2019,"January 1, 2018 - December 31, 2018",null,"Wellington North Power Inc.","Distribution Expenses – Maintenance","5112","Maintenance of Transformer Station Equipment",0]
[2019,"January 1, 2018 - December 31, 2018",null,"Wellington North Power Inc.","Distribution Expenses – Maintenance","5195","Maintenance of Other Installations on Customer Premises",0]
[2019,"January 1, 2018 - December 31, 2018",null,"West Coast Huron Energy Inc.","Administrative and General Expenses","5630","Outside Services Employed",286087]
[2019,"January 1, 2018 - December 31, 2018",null,"West Coast Huron Energy Inc.","Billing and Collecting","5310","Meter Reading Expense",71079]
[2019,"January 1, 2018 - December 31, 2018",null,"West Coast Huron Energy Inc.","Distribution Expenses - Operation","5010","Load Dispatching",5220]
[2019,"January 1, 2018 - December 31, 2018",null,"West Coast Huron Energy Inc.","Distribution Expenses - Operation","5017","Distribution Station Equipment - Operation Supplies and Expenses",3245]
[2019,"January 1, 2018 - December 31, 2018",null,"West Coast Huron Energy Inc.","Distribution Expenses - Operation","5095","Overhead Distribution Lines and Feeders - Rental Paid",0]
[2019,"January 1, 2018 - December 31, 2018",null,"West Coast Huron Energy Inc.","Distribution Expenses – Maintenance","5165","Maintenance of Street Lighting and Signal Systems",0]
[2019,"January 1, 2018 - December 31, 2018",null,"Westario Power Inc.","Administrative and General Expenses","5625","Administrative Expense Transferred/Credit",0]
[2019,"January 1, 2018 - December 31, 2018",null,"Westario Power Inc.","Administrative and General Expenses","5681","Special Purpose Charge Expense",0]
[2019,"January 1, 2018 - December 31, 2018",null,"Westario Power Inc.","Distribution Expenses - Operation","5005","Operation Supervision and Engineering",0]
[2019,"January 1, 2018 - December 31, 2018",null,"Westario Power Inc.","Distribution Expenses - Operation","5010","Load Dispatching",0]
[2019,"January 1, 2018 - December 31, 2018",null,"Westario Power Inc.","Distribution Expenses - Operation","5065","Meter Expense",69876.06]
[2019,"January 1, 2018 - December 31, 2018",null,"Westario Power Inc.","Distribution Expenses – Maintenance","5145","Maintenance of Underground Conduit",43.27]
[2019,"January 1, 2018 - December 31, 2018",null,"Whitby Hydro Electric Corporation","Administrative and General Expenses","5515","Advertising Expense",0]
[2019,"January 1, 2018 - December 31, 2018",null,"Whitby Hydro Electric Corporation","Administrative and General Expenses","5660","General Advertising Expenses",464.56]
[2019,"January 1, 2018 - December 31, 2018",null,"Whitby Hydro Electric Corporation","Community Relations","5405","Supervision",0]
[2019,"January 1, 2018 - December 31, 2018",null,"Whitby Hydro Electric Corporation","Community Relations","5410","Community Relations - Sundry",23500]
[2019,"January 1, 2018 - December 31, 2018",null,"Whitby Hydro Electric Corporation","Distribution Expenses - Operation","5055","Underground Distribution Transformers - Operation",10560.9]
[2019,"January 1, 2018 - December 31, 2018",null,"Whitby Hydro Electric Corporation","Distribution Expenses – Maintenance","5125","Maintenance of Overhead Conductors and Devices",496185.81]
[2019,"January 1, 2018 - December 31, 2018",null,"Whitby Hydro Electric Corporation","Other Expenses","5210","Transmission Charges",0]
[2020,"January 1, 2019 - December 31, 2019",null,"1937680 Ontario Inc.","Administrative and General Expenses","5655","Regulatory Expenses",238552.1]
[2020,"January 1, 2019 - December 31, 2019",null,"1937680 Ontario Inc.","Billing and Collecting","5325","Collecting- Cash Over and Short",-200]
[2020,"January 1, 2019 - December 31, 2019",null,"1937680 Ontario Inc.","Community Relations","5405","Supervision",0]
[2020,"January 1, 2019 - December 31, 2019",null,"1937680 Ontario Inc.","Distribution Expenses - Operation","5030","Overhead Subtransmission Feeders - Operation",5846.43]
[2020,"January 1, 2019 - December 31, 2019",null,"1937680 Ontario Inc.","Distribution Expenses – Maintenance","5105","Maintenance Supervision and Engineering",0]
[2020,"January 1, 2019 - December 31, 2019",null,"1937680 Ontario Inc.","Other Expenses","5205","Purchase of Transmission and System Services",0]
[2020,"January 1, 2019 - December 31, 2019",null,"Alectra Utilities Corporation","Administrative and General Expenses","5640","Injuries and Damages",0]
[2020,"January 1, 2019 - December 31, 2019",null,"Alectra Utilities Corporation","Administrative and General Expenses Total",null,null,96853226.540000007]
[2020,"January 1, 2019 - December 31, 2019",null,"Alectra Utilities Corporation","Billing and Collecting","5325","Collecting- Cash Over and Short",1810.71]
[2020,"January 1, 2019 - December 31, 2019",null,"Alectra Utilities Corporation","Distribution Expenses - Operation","5015","Transformer Station Equipment - Operation Supplies and Expenses",0]
[2020,"January 1, 2019 - December 31, 2019",null,"Alectra Utilities Corporation","Distribution Expenses - Operation Total",null,null,89969073.260000005]
[2020,"January 1, 2019 - December 31, 2019",null,"Alectra Utilities Corporation","Distribution Expenses – Maintenance","5172","Sentinel Lights - Materials and Expenses",0]
[2020,"January 1, 2019 - December 31, 2019",null,"Algoma Power Inc.","Administrative and General Expenses","5615","General Administrative Salaries and Expenses",2195745.17]
[2020,"January 1, 2019 - December 31, 2019",null,"Algoma Power Inc.","Administrative and General Expenses","5640","Injuries and Damages",0]
[2020,"January 1, 2019 - December 31, 2019",null,"Algoma Power Inc.","Billing and Collecting","5315","Customer Billing",190152.28]
[2020,"January 1, 2019 - December 31, 2019",null,"Algoma Power Inc.","Distribution Expenses - Operation","5012","Station Buildings and Fixtures Expense",68738.7]
[2020,"January 1, 2019 - December 31, 2019",null,"Algoma Power Inc.","Distribution Expenses - Operation","5095","Overhead Distribution Lines and Feeders - Rental Paid",54789.75]
[2020,"January 1, 2019 - December 31, 2019",null,"Algoma Power Inc.","Distribution Expenses – Maintenance","5165","Maintenance of Street Lighting and Signal Systems",0]
[2020,"January 1, 2019 - December 31, 2019",null,"Algoma Power Inc.","Distribution Expenses – Maintenance","5195","Maintenance of Other Installations on Customer Premises",0]
[2020,"January 1, 2019 - December 31, 2019",null,"Atikokan Hydro Inc.","Administrative and General Expenses","5630","Outside Services Employed",55873.760000000002]
[2020,"January 1, 2019 - December 31, 2019",null,"Atikokan Hydro Inc.","Administrative and General Expenses","5685","Independent Market Operator Fees and Penalties",0]
[2020,"January 1, 2019 - December 31, 2019",null,"Atikokan Hydro Inc.","Distribution Expenses - Operation","5010","Load Dispatching",0]
[2020,"January 1, 2019 - December 31, 2019",null,"Atikokan Hydro Inc.","Distribution Expenses - Operation","5017","Distribution Station Equipment - Operation Supplies and Expenses",0]
[2020,"January 1, 2019 - December 31, 2019",null,"Atikokan Hydro Inc.","Distribution Expenses - Operation","5090","Underground Distribution Lines and Feeders - Rental Paid",0]
[2020,"January 1, 2019 - December 31, 2019",null,"Atikokan Hydro Inc.","Distribution Expenses – Maintenance","5160","Maintenance of Line Transformers",1144.1199999999999]
[2020,"January 1, 2019 - December 31, 2019",null,"Bluewater Power Distribution Corporation","Administrative and General Expenses","5520","Miscellaneous Sales Expense",0]
[2020,"January 1, 2019 - December 31, 2019",null,"Bluewater Power Distribution Corporation","Administrative and General Expenses","5680","Electrical Safety Authority Fees",0]
[2020,"January 1, 2019 - December 31, 2019",null,"Bluewater Power Distribution Corporation","Community Relations","5410","Community Relations - Sundry",199619]
[2020,"January 1, 2019 - December 31, 2019",null,"Bluewater Power Distribution Corporation","Distribution Expenses - Operation","5035","Overhead Distribution Transformers- Operation",0]
[2020,"January 1, 2019 - December 31, 2019",null,"Bluewater Power Distribution Corporation","Distribution Expenses - Operation","5060","Street Lighting and Signal System Expense",507]
[2020,"January 1, 2019 - December 31, 2019",null,"Bluewater Power Distribution Corporation","Distribution Expenses – Maintenance","5130","Maintenance of Overhead Services",0]
[2020,"January 1, 2019 - December 31, 2019",null,"Brantford Power Inc.","Administrative and General Expenses","5515","Advertising Expense",0]
[2020,"January 1, 2019 - December 31, 2019",null,"Brantford Power Inc.","Administrative and General Expenses","5660","General Advertising Expenses",0]
[2020,"January 1, 2019 - December 31, 2019",null,"Brantford Power Inc.","Billing and Collecting","5330","Collection Charges",0]
[2020,"January 1, 2019 - December 31, 2019",null,"Brantford Power Inc.","Community Relations","5410","Community Relations - Sundry",46539.49]
[2020,"January 1, 2019 - December 31, 2019",null,"Brantford Power Inc.","Distribution Expenses - Operation","5035","Overhead Distribution Transformers- Operation",902.43]
[2020,"January 1, 2019 - December 31, 2019",null,"Brantford Power Inc.","Distribution Expenses – Maintenance","5110","Maintenance of Buildings and Fixtures - Distribution Stations",26426.03]
[2020,"January 1, 2019 - December 31, 2019",null,"Brantford Power Inc.","Other Expenses","5210","Transmission Charges",0]
[2020,"January 1, 2019 - December 31, 2019",null,"Burlington Hydro Inc.","Administrative and General Expenses","5645","OMERS Pensions and Benefits",372199.49]
[2020,"January 1, 2019 - December 31, 2019",null,"Burlington Hydro Inc.","Billing and Collecting","5325","Collecting- Cash Over and Short",0]
[2020,"January 1, 2019 - December 31, 2019",null,"Burlington Hydro Inc.","Billing and Collecting","5330","Collection Charges",149447.04000000001]
[2020,"January 1, 2019 - December 31, 2019",null,"Burlington Hydro Inc.","Distribution Expenses - Operation","5016","Distribution Station Equipment - Operation Labour",227546.04]
[2020,"January 1, 2019 - December 31, 2019",null,"Burlington Hydro Inc.","Distribution Expenses – Maintenance","5105","Maintenance Supervision and Engineering",0]
[2020,"January 1, 2019 - December 31, 2019",null,"Burlington Hydro Inc.","Distribution Expenses – Maintenance","5175","Maintenance of Meters",175851.78]
[2020,"January 1, 2019 - December 31, 2019",null,"Canadian Niagara Power Inc.","Administrative and General Expenses","5640","Injuries and Damages",0]
[2020,"January 1, 2019 - December 31, 2019",null,"Canadian Niagara Power Inc.","Billing and Collecting","5315","Customer Billing",423352.82]
[2020,"January 1, 2019 - December 31, 2019",null,"Canadian Niagara Power Inc.","Billing and Collecting","5320","Collecting",280542.68]
[2020,"January 1, 2019 - December 31, 2019",null,"Canadian Niagara Power Inc.","Distribution Expenses - Operation","5020","Overhead Distribution Lines and Feeders - Operation Labour",166598.13]
[2020,"January 1, 2019 - December 31, 2019",null,"Canadian Niagara Power Inc.","Distribution Expenses - Operation","5096","Other Rent",0]
[2020,"January 1, 2019 - December 31, 2019",null,"Canadian Niagara Power Inc.","Distribution Expenses – Maintenance","5170","Sentinel Lights - Labour",0]
[2020,"January 1, 2019 - December 31, 2019",null,"Centre Wellington Hydro Ltd.","Administrative and General Expenses","5630","Outside Services Employed",59370.400000000001]
[2020,"January 1, 2019 - December 31, 2019",null,"Centre Wellington Hydro Ltd.","Administrative and General Expenses","5685","Independent Market Operator Fees and Penalties",0]
[2020,"January 1, 2019 - December 31, 2019",null,"Centre Wellington Hydro Ltd.","Billing and Collecting","5325","Collecting- Cash Over and Short",-110.56]
[2020,"January 1, 2019 - December 31, 2019",null,"Centre Wellington Hydro Ltd.","Distribution Expenses - Operation","5010","Load Dispatching",13532.76]
[2020,"January 1, 2019 - December 31, 2019",null,"Centre Wellington Hydro Ltd.","Distribution Expenses - Operation","5065","Meter Expense",97098.21]
[2020,"January 1, 2019 - December 31, 2019",null,"Centre Wellington Hydro Ltd.","Distribution Expenses – Maintenance","5160","Maintenance of Line Transformers",52054.6]
[2020,"January 1, 2019 - December 31, 2019",null,"Chapleau Public Utilities Corporation","Administrative and General Expenses","5520","Miscellaneous Sales Expense",0]
[2020,"January 1, 2019 - December 31, 2019",null,"Chapleau Public Utilities Corporation","Administrative and General Expenses","5625","Administrative Expense Transferred/Credit",0]
[2020,"January 1, 2019 - December 31, 2019",null,"Chapleau Public Utilities Corporation","Administrative and General Expenses","5681","Special Purpose Charge Expense",0]
[2020,"January 1, 2019 - December 31, 2019",null,"Chapleau Public Utilities Corporation","Community Relations","5415","Energy Conservation",0]
[2020,"January 1, 2019 - December 31, 2019",null,"Chapleau Public Utilities Corporation","Distribution Expenses - Operation","5060","Street Lighting and Signal System Expense",0]
[2020,"January 1, 2019 - December 31, 2019",null,"Chapleau Public Utilities Corporation","Distribution Expenses – Maintenance","5130","Maintenance of Overhead Services",0]
[2020,"January 1, 2019 - December 31, 2019",null,"Chapleau Public Utilities Corporation","Other Expenses","5215","Transmission Charges Recovered",0]
[2020,"January 1, 2019 - December 31, 2019",null,"Cooperative Hydro Embrun Inc.","Administrative and General Expenses","5520","Miscellaneous Sales Expense",0]
[2020,"January 1, 2019 - December 31, 2019",null,"Cooperative Hydro Embrun Inc.","Administrative and General Expenses","5665","Miscellaneous General Expenses",0]
[2020,"January 1, 2019 - December 31, 2019",null,"Cooperative Hydro Embrun Inc.","Community Relations","5410","Community Relations - Sundry",2385]
[2020,"January 1, 2019 - December 31, 2019",null,"Cooperative Hydro Embrun Inc.","Distribution Expenses - Operation","5035","Overhead Distribution Transformers- Operation",2651.01]
[2020,"January 1, 2019 - December 31, 2019",null,"Cooperative Hydro Embrun Inc.","Distribution Expenses – Maintenance","5110","Maintenance of Buildings and Fixtures - Distribution Stations",8581.83]
[2020,"January 1, 2019 - December 31, 2019",null,"Cooperative Hydro Embrun Inc.","Distribution Expenses – Maintenance","5130","Maintenance of Overhead Services",0]
[2020,"January 1, 2019 - December 31, 2019",null,"Cooperative Hydro Embrun Inc.","Other Expenses","5215","Transmission Charges Recovered",0]
[2020,"January 1, 2019 - December 31, 2019",null,"E.L.K. Energy Inc.","Administrative and General Expenses","5646","Employee Pensions and OPEB",0]
[2020,"January 1, 2019 - December 31, 2019",null,"E.L.K. Energy Inc.","Billing and Collecting","5330","Collection Charges",11314.68]
[2020,"January 1, 2019 - December 31, 2019",null,"E.L.K. Energy Inc.","Distribution Expenses - Operation","5016","Distribution Station Equipment - Operation Labour",0]
[2020,"January 1, 2019 - December 31, 2019",null,"E.L.K. Energy Inc.","Distribution Expenses - Operation","5035","Overhead Distribution Transformers- Operation",4401.92]
[2020,"January 1, 2019 - December 31, 2019",null,"E.L.K. Energy Inc.","Distribution Expenses – Maintenance","5110","Maintenance of Buildings and Fixtures - Distribution Stations",0]
[2020,"January 1, 2019 - December 31, 2019",null,"E.L.K. Energy Inc.","Distribution Expenses – Maintenance","5178","Customer Installations Expenses- Leased Property",0]
[2020,"January 1, 2019 - December 31, 2019",null,"ENWIN Utilities Ltd.","Administrative and General Expenses","5645","OMERS Pensions and Benefits",0]
[2020,"January 1, 2019 - December 31, 2019",null,"ENWIN Utilities Ltd.","Billing and Collecting","5305","Supervision",0]
[2020,"January 1, 2019 - December 31, 2019",null,"ENWIN Utilities Ltd.","Billing and Collecting","5330","Collection Charges",0]
[2020,"January 1, 2019 - December 31, 2019",null,"ENWIN Utilities Ltd.","Distribution Expenses - Operation","5016","Distribution Station Equipment - Operation Labour",0]
[2020,"January 1, 2019 - December 31, 2019",null,"ENWIN Utilities Ltd.","Distribution Expenses - Operation","5090","Underground Distribution Lines and Feeders - Rental Paid",0]
[2020,"January 1, 2019 - December 31, 2019",null,"ENWIN Utilities Ltd.","Distribution Expenses – Maintenance","5175","Maintenance of Meters",0]
[2020,"January 1, 2019 - December 31, 2019",null,"EPCOR Electricity Distribution Ontario Inc.","Administrative and General Expenses","5620","Office Supplies and Expenses",0]
[2020,"January 1, 2019 - December 31, 2019",null,"EPCOR Electricity Distribution Ontario Inc.","Administrative and General Expenses","5681","Special Purpose Charge Expense",0]
[2020,"January 1, 2019 - December 31, 2019",null,"EPCOR Electricity Distribution Ontario Inc.","Administrative and General Expenses Total",null,null,3072514.16]
[2020,"January 1, 2019 - December 31, 2019",null,"EPCOR Electricity Distribution Ontario Inc.","Community Relations Total",null,null,241736.02]
[2020,"January 1, 2019 - December 31, 2019",null,"EPCOR Electricity Distribution Ontario Inc.","Distribution Expenses - Operation","5075","Customer Premises - Materials and Expenses",654]
[2020,"January 1, 2019 - December 31, 2019",null,"EPCOR Electricity Distribution Ontario Inc.","Distribution Expenses – Maintenance","5150","Maintenance of Underground Conductors and Devices",75307.62]
[2020,"January 1, 2019 - December 31, 2019",null,"ERTH Power Corporation","Administrative and General Expenses","5510","Demonstrating and Selling Expense",0]
[2020,"January 1, 2019 - December 31, 2019",null,"ERTH Power Corporation","Administrative and General Expenses","5672","Lease Payment Expense",0]
[2020,"January 1, 2019 - December 31, 2019",null,"ERTH Power Corporation","Administrative and General Expenses","5675","Maintenance of General Plant",98615.92]
[2020,"January 1, 2019 - December 31, 2019",null,"ERTH Power Corporation","Community Relations","5405","Supervision",65008.95]
[2020,"January 1, 2019 - December 31, 2019",null,"ERTH Power Corporation","Distribution Expenses - Operation","5050","Underground Subtransmission Feeders - Operation",0]
[2020,"January 1, 2019 - December 31, 2019",null,"ERTH Power Corporation","Distribution Expenses – Maintenance","5120","Maintenance of Poles, Towers and Fixtures",85386.98]
[2020,"January 1, 2019 - December 31, 2019",null,"Elexicon Energy Inc.","Administrative and General Expenses","5505","Supervision",0]
[2020,"January 1, 2019 - December 31, 2019",null,"Elexicon Energy Inc.","Administrative and General Expenses","5650","Franchise Requirements",0]
[2020,"January 1, 2019 - December 31, 2019",null,"Elexicon Energy Inc.","Administrative and General Expenses","5655","Regulatory Expenses",1012719.72]
[2020,"January 1, 2019 - December 31, 2019",null,"Elexicon Energy Inc.","Billing and Collecting Total",null,null,7534069.1500000004]
[2020,"January 1, 2019 - December 31, 2019",null,"Elexicon Energy Inc.","Distribution Expenses - Operation","5025","Overhead Distribution Lines and Feeders - Operation Supplies and Expenses",280398.64]
[2020,"January 1, 2019 - December 31, 2019",null,"Elexicon Energy Inc.","Distribution Expenses – Maintenance","5114","Maintenance of Distribution Station Equipment",331316.96000000002]
[2020,"January 1, 2019 - December 31, 2019",null,"Elexicon Energy Inc.","Distribution Expenses – Maintenance Total",null,null,3924652.42]
[2020,"January 1, 2019 - December 31, 2019",null,"Energy Plus Inc.","Administrative and General Expenses","5635","Property Insurance",21912.48]
[2020,"January 1, 2019 - December 31, 2019",null,"Energy Plus Inc.","Administrative and General Expenses","5650","Franchise Requirements",0]
[2020,"January 1, 2019 - December 31, 2019",null,"Energy Plus Inc.","Billing and Collecting","5320","Collecting",310463.69]
[2020,"January 1, 2019 - December 31, 2019",null,"Energy Plus Inc.","Distribution Expenses - Operation","5014","Transformer Station Equipment - Operation Labour",205.05]
[2020,"January 1, 2019 - December 31, 2019",null,"Energy Plus Inc.","Distribution Expenses - Operation","5096","Other Rent",3015.67]
[2020,"January 1, 2019 - December 31, 2019",null,"Energy Plus Inc.","Distribution Expenses – Maintenance","5170","Sentinel Lights - Labour",0]
[2020,"January 1, 2019 - December 31, 2019",null,"Energy Plus Inc.","Distribution Expenses – Maintenance Total",null,null,2629707.4700000002]
[2020,"January 1, 2019 - December 31, 2019",null,"Entegrus Powerlines Inc.","Administrative and General Expenses","5635","Property Insurance",173601.84]
[2020,"January 1, 2019 - December 31, 2019",null,"Entegrus Powerlines Inc.","Administrative and General Expenses","5695","OM&A Contra",0]
[2020,"January 1, 2019 - December 31, 2019",null,"Entegrus Powerlines Inc.","Distribution Expenses - Operation","5012","Station Buildings and Fixtures Expense",0]
[2020,"January 1, 2019 - December 31, 2019",null,"Entegrus Powerlines Inc.","Distribution Expenses - Operation","5070","Customer Premises - Operation Labour",33905.800000000003]
[2020,"January 1, 2019 - December 31, 2019",null,"Entegrus Powerlines Inc.","Distribution Expenses - Operation","5096","Other Rent",0]
[2020,"January 1, 2019 - December 31, 2019",null,"Entegrus Powerlines Inc.","Distribution Expenses – Maintenance","5170","Sentinel Lights - Labour",2729.67]
[2020,"January 1, 2019 - December 31, 2019",null,"Espanola Regional Hydro Distribution Corporation","Administrative and General Expenses","5605","Executive Salaries and Expenses",15405]
[2020,"January 1, 2019 - December 31, 2019",null,"Espanola Regional Hydro Distribution Corporation","Administrative and General Expenses","5681","Special Purpose Charge Expense",0]
[2020,"January 1, 2019 - December 31, 2019",null,"Espanola Regional Hydro Distribution Corporation","Community Relations","5415","Energy Conservation",0]
[2020,"January 1, 2019 - December 31, 2019",null,"Espanola Regional Hydro Distribution Corporation","Distribution Expenses - Operation","5040","Underground Distribution Lines and Feeders - Operation Labour",23333.599999999999]
[2020,"January 1, 2019 - December 31, 2019",null,"Espanola Regional Hydro Distribution Corporation","Distribution Expenses - Operation","5065","Meter Expense",32296.13]
[2020,"January 1, 2019 - December 31, 2019",null,"Espanola Regional Hydro Distribution Corporation","Distribution Expenses – Maintenance","5135","Overhead Distribution Lines and Feeders - Right of Way",91525.37]
[2020,"January 1, 2019 - December 31, 2019",null,"Essex Powerlines Corporation","Administrative and General Expenses","5520","Miscellaneous Sales Expense",0]
[2020,"January 1, 2019 - December 31, 2019",null,"Essex Powerlines Corporation","Administrative and General Expenses","5665","Miscellaneous General Expenses",138540.01999999999]
[2020,"January 1, 2019 - December 31, 2019",null,"Essex Powerlines Corporation","Billing and Collecting","5335","Bad Debt Expense",29699.03]
[2020,"January 1, 2019 - December 31, 2019",null,"Essex Powerlines Corporation","Community Relations","5415","Energy Conservation",0]
[2020,"January 1, 2019 - December 31, 2019",null,"Essex Powerlines Corporation","Distribution Expenses - Operation","5040","Underground Distribution Lines and Feeders - Operation Labour",63653.07]
[2020,"January 1, 2019 - December 31, 2019",null,"Essex Powerlines Corporation","Distribution Expenses – Maintenance","5112","Maintenance of Transformer Station Equipment",0]
[2020,"January 1, 2019 - December 31, 2019",null,"Essex Powerlines Corporation","Other Expenses","5215","Transmission Charges Recovered",0]
[2020,"January 1, 2019 - December 31, 2019",null,"Festival Hydro Inc.","Administrative and General Expenses","5646","Employee Pensions and OPEB",0]
[2020,"January 1, 2019 - December 31, 2019",null,"Festival Hydro Inc.","Administrative and General Expenses","5665","Miscellaneous General Expenses",81995.77]
[2020,"January 1, 2019 - December 31, 2019",null,"Festival Hydro Inc.","Billing and Collecting","5335","Bad Debt Expense",104032.2]
[2020,"January 1, 2019 - December 31, 2019",null,"Festival Hydro Inc.","Distribution Expenses - Operation","5017","Distribution Station Equipment - Operation Supplies and Expenses",0]
[2020,"January 1, 2019 - December 31, 2019",null,"Festival Hydro Inc.","Distribution Expenses – Maintenance","5110","Maintenance of Buildings and Fixtures - Distribution Stations",11534.3]
[2020,"January 1, 2019 - December 31, 2019",null,"Festival Hydro Inc.","Distribution Expenses – Maintenance","5178","Customer Installations Expenses- Leased Property",0]
[2020,"January 1, 2019 - December 31, 2019",null,"Fort Frances Power Corporation","Administrative and General Expenses","5645","OMERS Pensions and Benefits",65448.3]
[2020,"January 1, 2019 - December 31, 2019",null,"Fort Frances Power Corporation","Administrative and General Expenses","5646","Employee Pensions and OPEB",0]
[2020,"January 1, 2019 - December 31, 2019",null,"Fort Frances Power Corporation","Billing and Collecting","5310","Meter Reading Expense",20533.07]
[2020,"January 1, 2019 - December 31, 2019",null,"Fort Frances Power Corporation","Distribution Expenses - Operation","5016","Distribution Station Equipment - Operation Labour",0]
[2020,"January 1, 2019 - December 31, 2019",null,"Fort Frances Power Corporation","Distribution Expenses - Operation","5090","Underground Distribution Lines and Feeders - Rental Paid",0]
[2020,"January 1, 2019 - December 31, 2019",null,"Fort Frances Power Corporation","Distribution Expenses – Maintenance","5160","Maintenance of Line Transformers",7336.07]
[2020,"January 1, 2019 - December 31, 2019",null,"Greater Sudbury Hydro Inc.","Administrative and General Expenses","5620","Office Supplies and Expenses",67315.289999999994]
[2020,"January 1, 2019 - December 31, 2019",null,"Greater Sudbury Hydro Inc.","Administrative and General Expenses","5625","Administrative Expense Transferred/Credit",0]
[2020,"January 1, 2019 - December 31, 2019",null,"Greater Sudbury Hydro Inc.","Billing and Collecting","5305","Supervision",237913.2]
[2020,"January 1, 2019 - December 31, 2019",null,"Greater Sudbury Hydro Inc.","Distribution Expenses - Operation","5005","Operation Supervision and Engineering",1499963.7]
[2020,"January 1, 2019 - December 31, 2019",null,"Greater Sudbury Hydro Inc.","Distribution Expenses - Operation","5025","Overhead Distribution Lines and Feeders - Operation Supplies and Expenses",372508.15]
[2020,"January 1, 2019 - December 31, 2019",null,"Greater Sudbury Hydro Inc.","Distribution Expenses – Maintenance","5150","Maintenance of Underground Conductors and Devices",35155.17]
[2020,"January 1, 2019 - December 31, 2019",null,"Grimsby Power Incorporated","Administrative and General Expenses","5510","Demonstrating and Selling Expense",0]
[2020,"January 1, 2019 - December 31, 2019",null,"Grimsby Power Incorporated","Administrative and General Expenses","5615","General Administrative Salaries and Expenses",252039.15]
[2020,"January 1, 2019 - December 31, 2019",null,"Grimsby Power Incorporated","Administrative and General Expenses","5675","Maintenance of General Plant",104483.95]
[2020,"January 1, 2019 - December 31, 2019",null,"Grimsby Power Incorporated","Community Relations","5405","Supervision",0]
[2020,"January 1, 2019 - December 31, 2019",null,"Grimsby Power Incorporated","Distribution Expenses - Operation","5050","Underground Subtransmission Feeders - Operation",0]
[2020,"January 1, 2019 - December 31, 2019",null,"Grimsby Power Incorporated","Distribution Expenses – Maintenance","5120","Maintenance of Poles, Towers and Fixtures",75843.31]
[2020,"January 1, 2019 - December 31, 2019",null,"Grimsby Power Incorporated","Other Expenses","5205","Purchase of Transmission and System Services",0]
[2020,"January 1, 2019 - December 31, 2019",null,"Halton Hills Hydro Inc.","Administrative and General Expenses","5510","Demonstrating and Selling Expense",0]
[2020,"January 1, 2019 - December 31, 2019",null,"Halton Hills Hydro Inc.","Administrative and General Expenses","5655","Regulatory Expenses",130481.1]
[2020,"January 1, 2019 - December 31, 2019",null,"Halton Hills Hydro Inc.","Billing and Collecting Total",null,null,1125654]
[2020,"January 1, 2019 - December 31, 2019",null,"Halton Hills Hydro Inc.","Distribution Expenses - Operation","5025","Overhead Distribution Lines and Feeders - Operation Supplies and Expenses",19798.240000000002]
[2020,"January 1, 2019 - December 31, 2019",null,"Halton Hills Hydro Inc.","Distribution Expenses - Operation Total",null,null,1264253.74]
[2020,"January 1, 2019 - December 31, 2019",null,"Halton Hills Hydro Inc.","Distribution Expenses – Maintenance","5120","Maintenance of Poles, Towers and Fixtures",1682.16]
[2020,"January 1, 2019 - December 31, 2019",null,"Halton Hills Hydro Inc.","Other Expenses","5205","Purchase of Transmission and System Services",0]
[2020,"January 1, 2019 - December 31, 2019",null,"Hearst Power Distribution Company Limited","Administrative and General Expenses","5640","Injuries and Damages",0]
[2020,"January 1, 2019 - December 31, 2019",null,"Hearst Power Distribution Company Limited","Billing and Collecting","5320","Collecting",44427.21]
[2020,"January 1, 2019 - December 31, 2019",null,"Hearst Power Distribution Company Limited","Distribution Expenses - Operation","5014","Transformer Station Equipment - Operation Labour",0]
[2020,"January 1, 2019 - December 31, 2019",null,"Hearst Power Distribution Company Limited","Distribution Expenses - Operation","5025","Overhead Distribution Lines and Feeders - Operation Supplies and Expenses",64376.87]
[2020,"January 1, 2019 - December 31, 2019",null,"Hearst Power Distribution Company Limited","Distribution Expenses - Operation Total",null,null,169073.18]
[2020,"January 1, 2019 - December 31, 2019",null,"Hearst Power Distribution Company Limited","Distribution Expenses – Maintenance","5172","Sentinel Lights - Materials and Expenses",0]
[2020,"January 1, 2019 - December 31, 2019",null,"Hydro 2000 Inc.","Administrative and General Expenses","5635","Property Insurance",5163.04]
[2020,"January 1, 2019 - December 31, 2019",null,"Hydro 2000 Inc.","Administrative and General Expenses","5695","OM&A Contra",0]
[2020,"January 1, 2019 - December 31, 2019",null,"Hydro 2000 Inc.","Billing and Collecting","5320","Collecting",4748.53]
[2020,"January 1, 2019 - December 31, 2019",null,"Hydro 2000 Inc.","Distribution Expenses - Operation","5014","Transformer Station Equipment - Operation Labour",0]
[2020,"January 1, 2019 - December 31, 2019",null,"Hydro 2000 Inc.","Distribution Expenses - Operation","5075","Customer Premises - Materials and Expenses",0]
[2020,"January 1, 2019 - December 31, 2019",null,"Hydro 2000 Inc.","Distribution Expenses – Maintenance","5170","Sentinel Lights - Labour",0]
[2020,"January 1, 2019 - December 31, 2019",null,"Hydro Hawkesbury Inc.","Administrative and General Expenses","5610","Management Salaries and Expenses",77836.820000000007]
[2020,"January 1, 2019 - December 31, 2019",null,"Hydro Hawkesbury Inc.","Administrative and General Expenses","5672","Lease Payment Expense",0]
[2020,"January 1, 2019 - December 31, 2019",null,"Hydro Hawkesbury Inc.","Administrative and General Expenses","5695","OM&A Contra",0]
[2020,"January 1, 2019 - December 31, 2019",null,"Hydro Hawkesbury Inc.","Community Relations","5415","Energy Conservation",0]
[2020,"January 1, 2019 - December 31, 2019",null,"Hydro Hawkesbury Inc.","Distribution Expenses - Operation","5065","Meter Expense",1638.3]
[2020,"January 1, 2019 - December 31, 2019",null,"Hydro Hawkesbury Inc.","Distribution Expenses – Maintenance","5135","Overhead Distribution Lines and Feeders - Right of Way",31561.53]
[2020,"January 1, 2019 - December 31, 2019",null,"Hydro Hawkesbury Inc.","Other Expenses Total",null,null,0]
[2020,"January 1, 2019 - December 31, 2019",null,"Hydro One Networks Inc.","Administrative and General Expenses","5605","Executive Salaries and Expenses",7267434.1699999999]
[2020,"January 1, 2019 - December 31, 2019",null,"Hydro One Networks Inc.","Administrative and General Expenses","5680","Electrical Safety Authority Fees",0]
[2020,"January 1, 2019 - December 31, 2019",null,"Hydro One Networks Inc.","Community Relations","5410","Community Relations - Sundry",637242.81999999995]
[2020,"January 1, 2019 - December 31, 2019",null,"Hydro One Networks Inc.","Distribution Expenses - Operation","5055","Underground Distribution Transformers - Operation",0]
[2020,"January 1, 2019 - December 31, 2019",null,"Hydro One Networks Inc.","Distribution Expenses – Maintenance","5125","Maintenance of Overhead Conductors and Devices",38071270.299999997]
[2020,"January 1, 2019 - December 31, 2019",null,"Hydro One Remote Communities Inc.","Administrative and General Expenses","5510","Demonstrating and Selling Expense",0]
[2020,"January 1, 2019 - December 31, 2019",null,"Hydro One Remote Communities Inc.","Administrative and General Expenses","5515","Advertising Expense",0]
[2020,"January 1, 2019 - December 31, 2019",null,"Hydro One Remote Communities Inc.","Administrative and General Expenses","5670","Rent",0]
[2020,"January 1, 2019 - December 31, 2019",null,"Hydro One Remote Communities Inc.","Community Relations","5420","Community Safety Program",40231.61]
[2020,"January 1, 2019 - December 31, 2019",null,"Hydro One Remote Communities Inc.","Distribution Expenses - Operation","5045","Underground Distribution Lines and Feeders - Operation Supplies and Expenses",0]
[2020,"January 1, 2019 - December 31, 2019",null,"Hydro One Remote Communities Inc.","Distribution Expenses – Maintenance","5135","Overhead Distribution Lines and Feeders - Right of Way",253543.38]
[2020,"January 1, 2019 - December 31, 2019",null,"Hydro One Remote Communities Inc.","Other Expenses Total",null,null,0]
[2020,"January 1, 2019 - December 31, 2019",null,"Hydro Ottawa Limited","Administrative and General Expenses","5505","Supervision",0]
[2020,"January 1, 2019 - December 31, 2019",null,"Hydro Ottawa Limited","Administrative and General Expenses","5670","Rent",0]
[2020,"January 1, 2019 - December 31, 2019",null,"Hydro Ottawa Limited","Billing and Collecting","5340","Miscellaneous Customer Accounts Expenses",0]
[2020,"January 1, 2019 - December 31, 2019",null,"Hydro Ottawa Limited","Distribution Expenses - Operation","5020","Overhead Distribution Lines and Feeders - Operation Labour",190847.78]
[2020,"January 1, 2019 - December 31, 2019",null,"Hydro Ottawa Limited","Distribution Expenses – Maintenance","5112","Maintenance of Transformer Station Equipment",401487.41]
[2020,"January 1, 2019 - December 31, 2019",null,"Hydro Ottawa Limited","Distribution Expenses – Maintenance","5195","Maintenance of Other Installations on Customer Premises",0]
[2020,"January 1, 2019 - December 31, 2019",null,"Hydro Ottawa Limited","Other Expenses Total",null,null,0]
[2020,"January 1, 2019 - December 31, 2019",null,"Innpower Corporation","Administrative and General Expenses","5647","Employee Sick Leave",0]
[2020,"January 1, 2019 - December 31, 2019",null,"Innpower Corporation","Billing and Collecting","5315","Customer Billing",395347.3]
[2020,"January 1, 2019 - December 31, 2019",null,"Innpower Corporation","Distribution Expenses - Operation","5017","Distribution Station Equipment - Operation Supplies and Expenses",1140.44]
[2020,"January 1, 2019 - December 31, 2019",null,"Innpower Corporation","Distribution Expenses - Operation","5095","Overhead Distribution Lines and Feeders - Rental Paid",19240.91]
[2020,"January 1, 2019 - December 31, 2019",null,"Innpower Corporation","Distribution Expenses – Maintenance","5112","Maintenance of Transformer Station Equipment",0]
[2020,"January 1, 2019 - December 31, 2019",null,"Innpower Corporation","Distribution Expenses – Maintenance","5195","Maintenance of Other Installations on Customer Premises",0]
[2020,"January 1, 2019 - December 31, 2019",null,"Kingston Hydro Corporation","Administrative and General Expenses","5630","Outside Services Employed",522659.13]
[2020,"January 1, 2019 - December 31, 2019",null,"Kingston Hydro Corporation","Administrative and General Expenses","5685","Independent Market Operator Fees and Penalties",0]
[2020,"January 1, 2019 - December 31, 2019",null,"Kingston Hydro Corporation","Distribution Expenses - Operation","5005","Operation Supervision and Engineering",145872.04]
[2020,"January 1, 2019 - December 31, 2019",null,"Kingston Hydro Corporation","Distribution Expenses - Operation","5060","Street Lighting and Signal System Expense",0]
[2020,"January 1, 2019 - December 31, 2019",null,"Kingston Hydro Corporation","Distribution Expenses - Operation","5090","Underground Distribution Lines and Feeders - Rental Paid",0]
[2020,"January 1, 2019 - December 31, 2019",null,"Kingston Hydro Corporation","Distribution Expenses – Maintenance","5160","Maintenance of Line Transformers",50910.05]
[2020,"January 1, 2019 - December 31, 2019",null,"Kitchener-Wilmot Hydro Inc.","Administrative and General Expenses","5620","Office Supplies and Expenses",164699.12]
[2020,"January 1, 2019 - December 31, 2019",null,"Kitchener-Wilmot Hydro Inc.","Administrative and General Expenses","5680","Electrical Safety Authority Fees",43145.8]
[2020,"January 1, 2019 - December 31, 2019",null,"Kitchener-Wilmot Hydro Inc.","Community Relations","5410","Community Relations - Sundry",159536.95000000001]
[2020,"January 1, 2019 - December 31, 2019",null,"Kitchener-Wilmot Hydro Inc.","Distribution Expenses - Operation","5005","Operation Supervision and Engineering",2015445.79]
[2020,"January 1, 2019 - December 31, 2019",null,"Kitchener-Wilmot Hydro Inc.","Distribution Expenses - Operation","5060","Street Lighting and Signal System Expense",0]
[2020,"January 1, 2019 - December 31, 2019",null,"Kitchener-Wilmot Hydro Inc.","Distribution Expenses – Maintenance","5130","Maintenance of Overhead Services",1895103.96]
[2020,"January 1, 2019 - December 31, 2019",null,"Lakefront Utilities Inc.","Administrative and General Expenses","5515","Advertising Expense",0]
[2020,"January 1, 2019 - December 31, 2019",null,"Lakefront Utilities Inc.","Administrative and General Expenses","5660","General Advertising Expenses",2817.57]
[2020,"January 1, 2019 - December 31, 2019",null,"Lakefront Utilities Inc.","Administrative and General Expenses","5680","Electrical Safety Authority Fees",0]
[2020,"January 1, 2019 - December 31, 2019",null,"Lakefront Utilities Inc.","Community Relations","5410","Community Relations - Sundry",16140.66]
[2020,"January 1, 2019 - December 31, 2019",null,"Lakefront Utilities Inc.","Distribution Expenses - Operation","5035","Overhead Distribution Transformers- Operation",0]
[2020,"January 1, 2019 - December 31, 2019",null,"Lakefront Utilities Inc.","Distribution Expenses – Maintenance","5125","Maintenance of Overhead Conductors and Devices",0]
[2020,"January 1, 2019 - December 31, 2019",null,"Lakefront Utilities Inc.","Other Expenses","5210","Transmission Charges",0]
[2020,"January 1, 2019 - December 31, 2019",null,"Lakeland Power Distribution Ltd.","Administrative and General Expenses","5515","Advertising Expense",0]
[2020,"January 1, 2019 - December 31, 2019",null,"Lakeland Power Distribution Ltd.","Administrative and General Expenses","5660","General Advertising Expenses",0]
[2020,"January 1, 2019 - December 31, 2019",null,"Lakeland Power Distribution Ltd.","Billing and Collecting","5330","Collection Charges",-7800]
[2020,"January 1, 2019 - December 31, 2019",null,"Lakeland Power Distribution Ltd.","Distribution Expenses - Operation","5030","Overhead Subtransmission Feeders - Operation",0]
[2020,"January 1, 2019 - December 31, 2019",null,"Lakeland Power Distribution Ltd.","Distribution Expenses – Maintenance","5105","Maintenance Supervision and Engineering",341766.31]
[2020,"January 1, 2019 - December 31, 2019",null,"Lakeland Power Distribution Ltd.","Distribution Expenses – Maintenance","5175","Maintenance of Meters",56945.37]
[2020,"January 1, 2019 - December 31, 2019",null,"Lakeland Power Distribution Ltd.","Other Expenses","5210","Transmission Charges",0]
[2020,"January 1, 2019 - December 31, 2019",null,"London Hydro Inc.","Administrative and General Expenses","5645","OMERS Pensions and Benefits",81628.039999999994]
[2020,"January 1, 2019 - December 31, 2019",null,"London Hydro Inc.","Billing and Collecting","5325","Collecting- Cash Over and Short",0]
[2020,"January 1, 2019 - December 31, 2019",null,"London Hydro Inc.","Distribution Expenses - Operation","5015","Transformer Station Equipment - Operation Supplies and Expenses",0]
[2020,"January 1, 2019 - December 31, 2019",null,"London Hydro Inc.","Distribution Expenses - Operation","5085","Miscellaneous Distribution Expense",3061014.35]
[2020,"January 1, 2019 - December 31, 2019",null,"London Hydro Inc.","Distribution Expenses – Maintenance","5172","Sentinel Lights - Materials and Expenses",0]
[2020,"January 1, 2019 - December 31, 2019",null,"London Hydro Inc.","Distribution Expenses – Maintenance Total",null,null,8519922.4900000002]
[2020,"January 1, 2019 - December 31, 2019",null,"Milton Hydro Distribution Inc.","Administrative and General Expenses","5635","Property Insurance",117026]
[2020,"January 1, 2019 - December 31, 2019",null,"Milton Hydro Distribution Inc.","Administrative and General Expenses","5695","OM&A Contra",0]
[2020,"January 1, 2019 - December 31, 2019",null,"Milton Hydro Distribution Inc.","Community Relations","5425","Miscellaneous Customer Service and Informational Expenses",0]
[2020,"January 1, 2019 - December 31, 2019",null,"Milton Hydro Distribution Inc.","Distribution Expenses - Operation","5070","Customer Premises - Operation Labour",296641]
[2020,"January 1, 2019 - December 31, 2019",null,"Milton Hydro Distribution Inc.","Distribution Expenses – Maintenance","5145","Maintenance of Underground Conduit",0]
[2020,"January 1, 2019 - December 31, 2019",null,"Milton Hydro Distribution Inc.","Distribution Expenses – Maintenance","5150","Maintenance of Underground Conductors and Devices",103220]
[2020,"January 1, 2019 - December 31, 2019",null,"Newmarket-Tay Power Distribution Ltd.","Administrative and General Expenses","5610","Management Salaries and Expenses",1432220.98]
[2020,"January 1, 2019 - December 31, 2019",null,"Newmarket-Tay Power Distribution Ltd.","Administrative and General Expenses","5672","Lease Payment Expense",0]
[2020,"January 1, 2019 - December 31, 2019",null,"Newmarket-Tay Power Distribution Ltd.","Community Relations","5420","Community Safety Program",0]
[2020,"January 1, 2019 - December 31, 2019",null,"Newmarket-Tay Power Distribution Ltd.","Distribution Expenses - Operation","5045","Underground Distribution Lines and Feeders - Operation Supplies and Expenses",6600.43]
[2020,"January 1, 2019 - December 31, 2019",null,"Newmarket-Tay Power Distribution Ltd.","Distribution Expenses – Maintenance","5114","Maintenance of Distribution Station Equipment",55226.57]
[2020,"January 1, 2019 - December 31, 2019",null,"Newmarket-Tay Power Distribution Ltd.","Distribution Expenses – Maintenance","5145","Maintenance of Underground Conduit",1665.43]
[2020,"January 1, 2019 - December 31, 2019",null,"Niagara Peninsula Energy Inc.","Administrative and General Expenses","5505","Supervision",0]
[2020,"January 1, 2019 - December 31, 2019",null,"Niagara Peninsula Energy Inc.","Administrative and General Expenses","5650","Franchise Requirements",0]
[2020,"January 1, 2019 - December 31, 2019",null,"Niagara Peninsula Energy Inc.","Billing and Collecting","5340","Miscellaneous Customer Accounts Expenses",237356.49]
[2020,"January 1, 2019 - December 31, 2019",null,"Niagara Peninsula Energy Inc.","Distribution Expenses - Operation","5020","Overhead Distribution Lines and Feeders - Operation Labour",293751.3]
[2020,"January 1, 2019 - December 31, 2019",null,"Niagara Peninsula Energy Inc.","Distribution Expenses - Operation","5045","Underground Distribution Lines and Feeders - Operation Supplies and Expenses",379342.57]
[2020,"January 1, 2019 - December 31, 2019",null,"Niagara Peninsula Energy Inc.","Distribution Expenses – Maintenance","5114","Maintenance of Distribution Station Equipment",22933.119999999999]
[2020,"January 1, 2019 - December 31, 2019",null,"Niagara Peninsula Energy Inc.","Distribution Expenses – Maintenance Total",null,null,2678573.4900000002]
[2020,"January 1, 2019 - December 31, 2019",null,"Niagara-on-the-Lake Hydro Inc.","Administrative and General Expenses","5647","Employee Sick Leave",0]
[2020,"January 1, 2019 - December 31, 2019",null,"Niagara-on-the-Lake Hydro Inc.","Billing and Collecting","5315","Customer Billing",286456.96000000002]
[2020,"January 1, 2019 - December 31, 2019",null,"Niagara-on-the-Lake Hydro Inc.","Billing and Collecting","5340","Miscellaneous Customer Accounts Expenses",5496.33]
[2020,"January 1, 2019 - December 31, 2019",null,"Niagara-on-the-Lake Hydro Inc.","Distribution Expenses - Operation","5020","Overhead Distribution Lines and Feeders - Operation Labour",122254.92]
[2020,"January 1, 2019 - December 31, 2019",null,"Niagara-on-the-Lake Hydro Inc.","Distribution Expenses - Operation","5096","Other Rent",0]
[2020,"January 1, 2019 - December 31, 2019",null,"Niagara-on-the-Lake Hydro Inc.","Distribution Expenses – Maintenance","5195","Maintenance of Other Installations on Customer Premises",0]
[2020,"January 1, 2019 - December 31, 2019",null,"North Bay Hydro Distribution Limited","Administrative and General Expenses","5630","Outside Services Employed",271180.76]
[2020,"January 1, 2019 - December 31, 2019",null,"North Bay Hydro Distribution Limited","Administrative and General Expenses","5685","Independent Market Operator Fees and Penalties",0]
[2020,"January 1, 2019 - December 31, 2019",null,"North Bay Hydro Distribution Limited","Billing and Collecting","5315","Customer Billing",383049.63]
[2020,"January 1, 2019 - December 31, 2019",null,"North Bay Hydro Distribution Limited","Distribution Expenses - Operation","5012","Station Buildings and Fixtures Expense",37442.339999999997]
[2020,"January 1, 2019 - December 31, 2019",null,"North Bay Hydro Distribution Limited","Distribution Expenses - Operation","5096","Other Rent",0]
[2020,"January 1, 2019 - December 31, 2019",null,"North Bay Hydro Distribution Limited","Distribution Expenses – Maintenance","5160","Maintenance of Line Transformers",155198.20000000001]
[2020,"January 1, 2019 - December 31, 2019",null,"Northern Ontario Wires Inc.","Administrative and General Expenses","5520","Miscellaneous Sales Expense",0]
[2020,"January 1, 2019 - December 31, 2019",null,"Northern Ontario Wires Inc.","Administrative and General Expenses","5625","Administrative Expense Transferred/Credit",0]
[2020,"January 1, 2019 - December 31, 2019",null,"Northern Ontario Wires Inc.","Administrative and General Expenses","5681","Special Purpose Charge Expense",0]
[2020,"January 1, 2019 - December 31, 2019",null,"Northern Ontario Wires Inc.","Community Relations","5415","Energy Conservation",0]
[2020,"January 1, 2019 - December 31, 2019",null,"Northern Ontario Wires Inc.","Distribution Expenses - Operation","5060","Street Lighting and Signal System Expense",0]
[2020,"January 1, 2019 - December 31, 2019",null,"Northern Ontario Wires Inc.","Distribution Expenses – Maintenance","5130","Maintenance of Overhead Services",187142.68]
[2020,"January 1, 2019 - December 31, 2019",null,"Northern Ontario Wires Inc.","Distribution Expenses – Maintenance","5160","Maintenance of Line Transformers",19928.169999999998]
[2020,"January 1, 2019 - December 31, 2019",null,"Oakville Hydro Electricity Distribution Inc.","Administrative and General Expenses","5520","Miscellaneous Sales Expense",0]
[2020,"January 1, 2019 - December 31, 2019",null,"Oakville Hydro Electricity Distribution Inc.","Administrative and General Expenses","5665","Miscellaneous General Expenses",332047.86]
[2020,"January 1, 2019 - December 31, 2019",null,"Oakville Hydro Electricity Distribution Inc.","Community Relations","5410","Community Relations - Sundry",128724.12]
[2020,"January 1, 2019 - December 31, 2019",null,"Oakville Hydro Electricity Distribution Inc.","Distribution Expenses - Operation","5035","Overhead Distribution Transformers- Operation",38686.49]
[2020,"January 1, 2019 - December 31, 2019",null,"Oakville Hydro Electricity Distribution Inc.","Distribution Expenses – Maintenance","5125","Maintenance of Overhead Conductors and Devices",67895.34]
[2020,"January 1, 2019 - December 31, 2019",null,"Oakville Hydro Electricity Distribution Inc.","Distribution Expenses – Maintenance","5130","Maintenance of Overhead Services",22598.12]
[2020,"January 1, 2019 - December 31, 2019",null,"Oakville Hydro Electricity Distribution Inc.","Other Expenses","5215","Transmission Charges Recovered",0]
[2020,"January 1, 2019 - December 31, 2019",null,"Orangeville Hydro Limited","Administrative and General Expenses","5660","General Advertising Expenses",0]
[2020,"January 1, 2019 - December 31, 2019",null,"Orangeville Hydro Limited","Billing and Collecting","5330","Collection Charges",0]
[2020,"January 1, 2019 - December 31, 2019",null,"Orangeville Hydro Limited","Distribution Expenses - Operation","5016","Distribution Station Equipment - Operation Labour",3728.36]
[2020,"January 1, 2019 - December 31, 2019",null,"Orangeville Hydro Limited","Distribution Expenses – Maintenance","5105","Maintenance Supervision and Engineering",132622.79]
[2020,"January 1, 2019 - December 31, 2019",null,"Orangeville Hydro Limited","Distribution Expenses – Maintenance","5110","Maintenance of Buildings and Fixtures - Distribution Stations",0]
[2020,"January 1, 2019 - December 31, 2019",null,"Orangeville Hydro Limited","Other Expenses","5210","Transmission Charges",0]
[2020,"January 1, 2019 - December 31, 2019",null,"Orillia Power Distribution Corporation","Administrative and General Expenses","5645","OMERS Pensions and Benefits",0]
[2020,"January 1, 2019 - December 31, 2019",null,"Orillia Power Distribution Corporation","Billing and Collecting","5305","Supervision",0]
[2020,"January 1, 2019 - December 31, 2019",null,"Orillia Power Distribution Corporation","Distribution Expenses - Operation","5015","Transformer Station Equipment - Operation Supplies and Expenses",0]
[2020,"January 1, 2019 - December 31, 2019",null,"Orillia Power Distribution Corporation","Distribution Expenses - Operation","5085","Miscellaneous Distribution Expense",0]
[2020,"January 1, 2019 - December 31, 2019",null,"Orillia Power Distribution Corporation","Distribution Expenses – Maintenance","5105","Maintenance Supervision and Engineering",0]
[2020,"January 1, 2019 - December 31, 2019",null,"Orillia Power Distribution Corporation","Distribution Expenses – Maintenance","5175","Maintenance of Meters",127096]
[2020,"January 1, 2019 - December 31, 2019",null,"Oshawa PUC Networks Inc.","Administrative and General Expenses","5620","Office Supplies and Expenses",369892.76]
[2020,"January 1, 2019 - December 31, 2019",null,"Oshawa PUC Networks Inc.","Administrative and General Expenses Total",null,null,6516450.8200000003]
[2020,"January 1, 2019 - December 31, 2019",null,"Oshawa PUC Networks Inc.","Community Relations Total",null,null,1166681.3799999999]
[2020,"January 1, 2019 - December 31, 2019",null,"Oshawa PUC Networks Inc.","Distribution Expenses - Operation","5010","Load Dispatching",0]
[2020,"January 1, 2019 - December 31, 2019",null,"Oshawa PUC Networks Inc.","Distribution Expenses - Operation","5075","Customer Premises - Materials and Expenses",0]
[2020,"January 1, 2019 - December 31, 2019",null,"Oshawa PUC Networks Inc.","Distribution Expenses – Maintenance","5150","Maintenance of Underground Conductors and Devices",0]
[2020,"January 1, 2019 - December 31, 2019",null,"Ottawa River Power Corporation","Administrative and General Expenses","5610","Management Salaries and Expenses",287263.61]
[2020,"January 1, 2019 - December 31, 2019",null,"Ottawa River Power Corporation","Administrative and General Expenses","5672","Lease Payment Expense",0]
[2020,"January 1, 2019 - December 31, 2019",null,"Ottawa River Power Corporation","Billing and Collecting Total",null,null,748224.19]
[2020,"January 1, 2019 - December 31, 2019",null,"Ottawa River Power Corporation","Community Relations","5425","Miscellaneous Customer Service and Informational Expenses",0]
[2020,"January 1, 2019 - December 31, 2019",null,"Ottawa River Power Corporation","Distribution Expenses - Operation","5050","Underground Subtransmission Feeders - Operation",0]
[2020,"January 1, 2019 - December 31, 2019",null,"Ottawa River Power Corporation","Distribution Expenses – Maintenance","5120","Maintenance of Poles, Towers and Fixtures",4648.87]
[2020,"January 1, 2019 - December 31, 2019",null,"PUC Distribution Inc.","Administrative and General Expenses","5505","Supervision",0]
[2020,"January 1, 2019 - December 31, 2019",null,"PUC Distribution Inc.","Administrative and General Expenses","5650","Franchise Requirements",0]
[2020,"January 1, 2019 - December 31, 2019",null,"PUC Distribution Inc.","Administrative and General Expenses","5672","Lease Payment Expense",0]
[2020,"January 1, 2019 - December 31, 2019",null,"PUC Distribution Inc.","Billing and Collecting Total",null,null,1354435.06]
[2020,"January 1, 2019 - December 31, 2019",null,"PUC Distribution Inc.","Distribution Expenses - Operation","5025","Overhead Distribution Lines and Feeders - Operation Supplies and Expenses",263183.09999999998]
[2020,"January 1, 2019 - December 31, 2019",null,"PUC Distribution Inc.","Distribution Expenses – Maintenance","5114","Maintenance of Distribution Station Equipment",153294.76999999999]
[2020,"January 1, 2019 - December 31, 2019",null,"PUC Distribution Inc.","Distribution Expenses – Maintenance Total",null,null,2150490.12]
[2020,"January 1, 2019 - December 31, 2019",null,"Renfrew Hydro Inc.","Administrative and General Expenses","5505","Supervision",0]
[2020,"January 1, 2019 - December 31, 2019",null,"Renfrew Hydro Inc.","Administrative and General Expenses","5650","Franchise Requirements",0]
[2020,"January 1, 2019 - December 31, 2019",null,"Renfrew Hydro Inc.","Billing and Collecting","5320","Collecting",81257.05]
[2020,"January 1, 2019 - December 31, 2019",null,"Renfrew Hydro Inc.","Distribution Expenses - Operation","5020","Overhead Distribution Lines and Feeders - Operation Labour",19786.759999999998]
[2020,"January 1, 2019 - December 31, 2019",null,"Renfrew Hydro Inc.","Distribution Expenses - Operation","5096","Other Rent",1904.24]
[2020,"January 1, 2019 - December 31, 2019",null,"Renfrew Hydro Inc.","Distribution Expenses – Maintenance","5170","Sentinel Lights - Labour",0]
[2020,"January 1, 2019 - December 31, 2019",null,"Renfrew Hydro Inc.","Distribution Expenses – Maintenance Total",null,null,149456.35999999999]
[2020,"January 1, 2019 - December 31, 2019",null,"Rideau St. Lawrence Distribution Inc.","Administrative and General Expenses","5635","Property Insurance",15177.62]
[2020,"January 1, 2019 - December 31, 2019",null,"Rideau St. Lawrence Distribution Inc.","Billing and Collecting","5315","Customer Billing",383244.75]
[2020,"January 1, 2019 - December 31, 2019",null,"Rideau St. Lawrence Distribution Inc.","Distribution Expenses - Operation","5012","Station Buildings and Fixtures Expense",10425.81]
[2020,"January 1, 2019 - December 31, 2019",null,"Rideau St. Lawrence Distribution Inc.","Distribution Expenses - Operation","5070","Customer Premises - Operation Labour",32346.83]
[2020,"January 1, 2019 - December 31, 2019",null,"Rideau St. Lawrence Distribution Inc.","Distribution Expenses - Operation","5096","Other Rent",0]
[2020,"January 1, 2019 - December 31, 2019",null,"Rideau St. Lawrence Distribution Inc.","Distribution Expenses – Maintenance","5170","Sentinel Lights - Labour",0]
[2020,"January 1, 2019 - December 31, 2019",null,"Sioux Lookout Hydro Inc.","Administrative and General Expenses","5610","Management Salaries and Expenses",2748.94]
[2020,"January 1, 2019 - December 31, 2019",null,"Sioux Lookout Hydro Inc.","Administrative and General Expenses","5681","Special Purpose Charge Expense",0]
[2020,"January 1, 2019 - December 31, 2019",null,"Sioux Lookout Hydro Inc.","Community Relations","5415","Energy Conservation",0]
[2020,"January 1, 2019 - December 31, 2019",null,"Sioux Lookout Hydro Inc.","Distribution Expenses - Operation","5060","Street Lighting and Signal System Expense",0]
[2020,"January 1, 2019 - December 31, 2019",null,"Sioux Lookout Hydro Inc.","Distribution Expenses - Operation","5065","Meter Expense",57491.89]
[2020,"January 1, 2019 - December 31, 2019",null,"Sioux Lookout Hydro Inc.","Distribution Expenses – Maintenance","5135","Overhead Distribution Lines and Feeders - Right of Way",88046.22]
[2020,"January 1, 2019 - December 31, 2019",null,"Synergy North Corporation","Administrative and General Expenses","5520","Miscellaneous Sales Expense",0]
[2020,"January 1, 2019 - December 31, 2019",null,"Synergy North Corporation","Administrative and General Expenses","5665","Miscellaneous General Expenses",176613.72]
[2020,"January 1, 2019 - December 31, 2019",null,"Synergy North Corporation","Community Relations","5410","Community Relations - Sundry",0]
[2020,"January 1, 2019 - December 31, 2019",null,"Synergy North Corporation","Distribution Expenses - Operation","5035","Overhead Distribution Transformers- Operation",213783.5]
[2020,"January 1, 2019 - December 31, 2019",null,"Synergy North Corporation","Distribution Expenses - Operation","5040","Underground Distribution Lines and Feeders - Operation Labour",20282.849999999999]
[2020,"January 1, 2019 - December 31, 2019",null,"Synergy North Corporation","Distribution Expenses – Maintenance","5130","Maintenance of Overhead Services",664692.53]
[2020,"January 1, 2019 - December 31, 2019",null,"Synergy North Corporation","Other Expenses","5215","Transmission Charges Recovered",0]
[2020,"January 1, 2019 - December 31, 2019",null,"Tillsonburg Hydro Inc.","Administrative and General Expenses","5646","Employee Pensions and OPEB",0]
[2020,"January 1, 2019 - December 31, 2019",null,"Tillsonburg Hydro Inc.","Billing and Collecting","5330","Collection Charges",0]
[2020,"January 1, 2019 - December 31, 2019",null,"Tillsonburg Hydro Inc.","Distribution Expenses - Operation","5016","Distribution Station Equipment - Operation Labour",205.65]
[2020,"January 1, 2019 - December 31, 2019",null,"Tillsonburg Hydro Inc.","Distribution Expenses - Operation","5035","Overhead Distribution Transformers- Operation",1483.67]
[2020,"January 1, 2019 - December 31, 2019",null,"Tillsonburg Hydro Inc.","Distribution Expenses – Maintenance","5110","Maintenance of Buildings and Fixtures - Distribution Stations",0]
[2020,"January 1, 2019 - December 31, 2019",null,"Tillsonburg Hydro Inc.","Distribution Expenses – Maintenance","5178","Customer Installations Expenses- Leased Property",0]
[2020,"January 1, 2019 - December 31, 2019",null,"Toronto Hydro-Electric System Limited","Administrative and General Expenses","5645","OMERS Pensions and Benefits",0]
[2020,"January 1, 2019 - December 31, 2019",null,"Toronto Hydro-Electric System Limited","Billing and Collecting","5305","Supervision",2146843.54]
[2020,"January 1, 2019 - December 31, 2019",null,"Toronto Hydro-Electric System Limited","Billing and Collecting","5330","Collection Charges",0]
[2020,"January 1, 2019 - December 31, 2019",null,"Toronto Hydro-Electric System Limited","Distribution Expenses - Operation","5016","Distribution Station Equipment - Operation Labour",3519103.81]
[2020,"January 1, 2019 - December 31, 2019",null,"Toronto Hydro-Electric System Limited","Distribution Expenses - Operation","5090","Underground Distribution Lines and Feeders - Rental Paid",0]
[2020,"January 1, 2019 - December 31, 2019",null,"Toronto Hydro-Electric System Limited","Distribution Expenses – Maintenance","5175","Maintenance of Meters",56750.22]
[2020,"January 1, 2019 - December 31, 2019",null,"Wasaga Distribution Inc.","Administrative and General Expenses","5620","Office Supplies and Expenses",84674.1]
[2020,"January 1, 2019 - December 31, 2019",null,"Wasaga Distribution Inc.","Administrative and General Expenses","5680","Electrical Safety Authority Fees",6415.2]
[2020,"January 1, 2019 - December 31, 2019",null,"Wasaga Distribution Inc.","Billing and Collecting","5305","Supervision",0]
[2020,"January 1, 2019 - December 31, 2019",null,"Wasaga Distribution Inc.","Distribution Expenses - Operation","5005","Operation Supervision and Engineering",0]
[2020,"January 1, 2019 - December 31, 2019",null,"Wasaga Distribution Inc.","Distribution Expenses - Operation","5085","Miscellaneous Distribution Expense",0]
[2020,"January 1, 2019 - December 31, 2019",null,"Wasaga Distribution Inc.","Distribution Expenses – Maintenance","5155","Maintenance of Underground Services",105367.02]
[2020,"January 1, 2019 - December 31, 2019",null,"Wasaga Distribution Inc.","Distribution Expenses – Maintenance","5195","Maintenance of Other Installations on Customer Premises",0]
[2020,"January 1, 2019 - December 31, 2019",null,"Waterloo North Hydro Inc.","Administrative and General Expenses","5615","General Administrative Salaries and Expenses",995304]
[2020,"January 1, 2019 - December 31, 2019",null,"Waterloo North Hydro Inc.","Administrative and General Expenses","5675","Maintenance of General Plant",596738]
[2020,"January 1, 2019 - December 31, 2019",null,"Waterloo North Hydro Inc.","Community Relations","5405","Supervision",0]
[2020,"January 1, 2019 - December 31, 2019",null,"Waterloo North Hydro Inc.","Distribution Expenses - Operation","5050","Underground Subtransmission Feeders - Operation",0]
[2020,"January 1, 2019 - December 31, 2019",null,"Waterloo North Hydro Inc.","Distribution Expenses – Maintenance","5120","Maintenance of Poles, Towers and Fixtures",114092]
[2020,"January 1, 2019 - December 31, 2019",null,"Waterloo North Hydro Inc.","Distribution Expenses – Maintenance","5150","Maintenance of Underground Conductors and Devices",0]
[2020,"January 1, 2019 - December 31, 2019",null,"Welland Hydro-Electric System Corp.","Administrative and General Expenses","5510","Demonstrating and Selling Expense",0]
[2020,"January 1, 2019 - December 31, 2019",null,"Welland Hydro-Electric System Corp.","Administrative and General Expenses","5655","Regulatory Expenses",101347.99]
[2020,"January 1, 2019 - December 31, 2019",null,"Welland Hydro-Electric System Corp.","Billing and Collecting Total",null,null,1320953.42]
[2020,"January 1, 2019 - December 31, 2019",null,"Welland Hydro-Electric System Corp.","Distribution Expenses - Operation","5025","Overhead Distribution Lines and Feeders - Operation Supplies and Expenses",48524.12]
[2020,"January 1, 2019 - December 31, 2019",null,"Welland Hydro-Electric System Corp.","Distribution Expenses - Operation","5050","Underground Subtransmission Feeders - Operation",0]
[2020,"January 1, 2019 - December 31, 2019",null,"Welland Hydro-Electric System Corp.","Distribution Expenses – Maintenance","5120","Maintenance of Poles, Towers and Fixtures",143516.19]
[2020,"January 1, 2019 - December 31, 2019",null,"Welland Hydro-Electric System Corp.","Other Expenses","5205","Purchase of Transmission and System Services",0]
[2020,"January 1, 2019 - December 31, 2019",null,"Wellington North Power Inc.","Administrative and General Expenses","5650","Franchise Requirements",0]
[2020,"January 1, 2019 - December 31, 2019",null,"Wellington North Power Inc.","Billing and Collecting","5320","Collecting",98361.59]
[2020,"January 1, 2019 - December 31, 2019",null,"Wellington North Power Inc.","Distribution Expenses - Operation","5014","Transformer Station Equipment - Operation Labour",0]
[2020,"January 1, 2019 - December 31, 2019",null,"Wellington North Power Inc.","Distribution Expenses - Operation","5025","Overhead Distribution Lines and Feeders - Operation Supplies and Expenses",9857.7800000000007]
[2020,"January 1, 2019 - December 31, 2019",null,"Wellington North Power Inc.","Distribution Expenses - Operation Total",null,null,407116.83]
[2020,"January 1, 2019 - December 31, 2019",null,"Wellington North Power Inc.","Distribution Expenses – Maintenance Total",null,null,214208.63]
[2020,"January 1, 2019 - December 31, 2019",null,"Westario Power Inc.","Administrative and General Expenses","5635","Property Insurance",88596.33]
[2020,"January 1, 2019 - December 31, 2019",null,"Westario Power Inc.","Administrative and General Expenses","5695","OM&A Contra",0]
[2020,"January 1, 2019 - December 31, 2019",null,"Westario Power Inc.","Distribution Expenses - Operation","5012","Station Buildings and Fixtures Expense",0]
[2020,"January 1, 2019 - December 31, 2019",null,"Westario Power Inc.","Distribution Expenses - Operation","5014","Transformer Station Equipment - Operation Labour",0]
[2020,"January 1, 2019 - December 31, 2019",null,"Westario Power Inc.","Distribution Expenses - Operation","5096","Other Rent",0]
[2020,"January 1, 2019 - December 31, 2019",null,"Westario Power Inc.","Distribution Expenses – Maintenance","5170","Sentinel Lights - Labour",598.05999999999995]
[2021,"January 1, 2020 - December 31, 2020",null,"1937680 Ontario Inc.","Administrative and General Expenses","5610","Management Salaries and Expenses",0]
[2021,"January 1, 2020 - December 31, 2020",null,"1937680 Ontario Inc.","Administrative and General Expenses","5685","Independent Market Operator Fees and Penalties",0]
[2021,"January 1, 2020 - December 31, 2020",null,"1937680 Ontario Inc.","Community Relations","5420","Community Safety Program",0]
[2021,"January 1, 2020 - December 31, 2020",null,"1937680 Ontario Inc.","Community Relations","5425","Miscellaneous Customer Service and Informational Expenses",0]
[2021,"January 1, 2020 - December 31, 2020",null,"1937680 Ontario Inc.","Distribution Expenses - Operation","5070","Customer Premises - Operation Labour",0]
[2021,"January 1, 2020 - December 31, 2020",null,"1937680 Ontario Inc.","Distribution Expenses – Maintenance","5125","Maintenance of Overhead Conductors and Devices",175130.93]
[2021,"January 1, 2020 - December 31, 2020",null,"Alectra Utilities Corporation","Administrative and General Expenses","5520","Miscellaneous Sales Expense",0]
[2021,"January 1, 2020 - December 31, 2020",null,"Alectra Utilities Corporation","Administrative and General Expenses","5665","Miscellaneous General Expenses",4010036.85]
[2021,"January 1, 2020 - December 31, 2020",null,"Alectra Utilities Corporation","Billing and Collecting","5335","Bad Debt Expense",27409815.050000001]
[2021,"January 1, 2020 - December 31, 2020",null,"Alectra Utilities Corporation","Community Relations","5415","Energy Conservation",182058.47]
[2021,"January 1, 2020 - December 31, 2020",null,"Alectra Utilities Corporation","Distribution Expenses - Operation","5040","Underground Distribution Lines and Feeders - Operation Labour",9561286.8900000006]
[2021,"January 1, 2020 - December 31, 2020",null,"Alectra Utilities Corporation","Distribution Expenses – Maintenance","5112","Maintenance of Transformer Station Equipment",0]
[2021,"January 1, 2020 - December 31, 2020",null,"Alectra Utilities Corporation","Other Expenses","5215","Transmission Charges Recovered",0]
[2021,"January 1, 2020 - December 31, 2020",null,"Algoma Power Inc.","Administrative and General Expenses","5650","Franchise Requirements",0]
[2021,"January 1, 2020 - December 31, 2020",null,"Algoma Power Inc.","Administrative and General Expenses","5675","Maintenance of General Plant",1144471.73]
[2021,"January 1, 2020 - December 31, 2020",null,"Algoma Power Inc.","Community Relations","5405","Supervision",0]
[2021,"January 1, 2020 - December 31, 2020",null,"Algoma Power Inc.","Distribution Expenses - Operation","5030","Overhead Subtransmission Feeders - Operation",99782.95]
[2021,"January 1, 2020 - December 31, 2020",null,"Algoma Power Inc.","Distribution Expenses – Maintenance","5120","Maintenance of Poles, Towers and Fixtures",113694.48]
[2021,"January 1, 2020 - December 31, 2020",null,"Algoma Power Inc.","Other Expenses","5205","Purchase of Transmission and System Services",0]
[2021,"January 1, 2020 - December 31, 2020",null,"Atikokan Hydro Inc.","Administrative and General Expenses","5510","Demonstrating and Selling Expense",0]
[2021,"January 1, 2020 - December 31, 2020",null,"Atikokan Hydro Inc.","Administrative and General Expenses","5655","Regulatory Expenses",12332.02]
[2021,"January 1, 2020 - December 31, 2020",null,"Atikokan Hydro Inc.","Billing and Collecting","5325","Collecting- Cash Over and Short",0]
[2021,"January 1, 2020 - December 31, 2020",null,"Atikokan Hydro Inc.","Distribution Expenses - Operation","5025","Overhead Distribution Lines and Feeders - Operation Supplies and Expenses",32120.54]
[2021,"January 1, 2020 - December 31, 2020",null,"Atikokan Hydro Inc.","Distribution Expenses - Operation Total",null,null,438047.77]
[2021,"January 1, 2020 - December 31, 2020",null,"Atikokan Hydro Inc.","Distribution Expenses – Maintenance","5172","Sentinel Lights - Materials and Expenses",0]
[2021,"January 1, 2020 - December 31, 2020",null,"Atikokan Hydro Inc.","Other Expenses","5205","Purchase of Transmission and System Services",0]
[2021,"January 1, 2020 - December 31, 2020",null,"Bluewater Power Distribution Corporation","Administrative and General Expenses","5640","Injuries and Damages",0]
[2021,"January 1, 2020 - December 31, 2020",null,"Bluewater Power Distribution Corporation","Billing and Collecting","5320","Collecting",302029]
[2021,"January 1, 2020 - December 31, 2020",null,"Bluewater Power Distribution Corporation","Distribution Expenses - Operation","5014","Transformer Station Equipment - Operation Labour",0]
[2021,"January 1, 2020 - December 31, 2020",null,"Bluewater Power Distribution Corporation","Distribution Expenses - Operation","5075","Customer Premises - Materials and Expenses",0]
[2021,"January 1, 2020 - December 31, 2020",null,"Bluewater Power Distribution Corporation","Distribution Expenses - Operation Total",null,null,3911905]
[2021,"January 1, 2020 - December 31, 2020",null,"Bluewater Power Distribution Corporation","Distribution Expenses – Maintenance","5172","Sentinel Lights - Materials and Expenses",0]
[2021,"January 1, 2020 - December 31, 2020",null,"Brantford Power Inc.","Administrative and General Expenses","5615","General Administrative Salaries and Expenses",1338072.18]
[2021,"January 1, 2020 - December 31, 2020",null,"Brantford Power Inc.","Administrative and General Expenses","5695","OM&A Contra",0]
[2021,"January 1, 2020 - December 31, 2020",null,"Brantford Power Inc.","Community Relations","5425","Miscellaneous Customer Service and Informational Expenses",0]
[2021,"January 1, 2020 - December 31, 2020",null,"Brantford Power Inc.","Distribution Expenses - Operation","5045","Underground Distribution Lines and Feeders - Operation Supplies and Expenses",0]
[2021,"January 1, 2020 - December 31, 2020",null,"Brantford Power Inc.","Distribution Expenses - Operation","5070","Customer Premises - Operation Labour",0]
[2021,"January 1, 2020 - December 31, 2020",null,"Brantford Power Inc.","Distribution Expenses – Maintenance","5145","Maintenance of Underground Conduit",9970.32]
[2021,"January 1, 2020 - December 31, 2020",null,"Burlington Hydro Inc.","Administrative and General Expenses","5605","Executive Salaries and Expenses",2051538.95]
[2021,"January 1, 2020 - December 31, 2020",null,"Burlington Hydro Inc.","Administrative and General Expenses","5670","Rent",0]
[2021,"January 1, 2020 - December 31, 2020",null,"Burlington Hydro Inc.","Community Relations","5415","Energy Conservation",0]
[2021,"January 1, 2020 - December 31, 2020",null,"Burlington Hydro Inc.","Community Relations","5420","Community Safety Program",29372.5]
[2021,"January 1, 2020 - December 31, 2020",null,"Burlington Hydro Inc.","Distribution Expenses - Operation","5045","Underground Distribution Lines and Feeders - Operation Supplies and Expenses",376148.56]
[2021,"January 1, 2020 - December 31, 2020",null,"Burlington Hydro Inc.","Distribution Expenses – Maintenance","5135","Overhead Distribution Lines and Feeders - Right of Way",802353.4]
[2021,"January 1, 2020 - December 31, 2020",null,"Burlington Hydro Inc.","Other Expenses Total",null,null,0]
[2021,"January 1, 2020 - December 31, 2020",null,"Canadian Niagara Power Inc.","Administrative and General Expenses","5655","Regulatory Expenses",250938.5]
[2021,"January 1, 2020 - December 31, 2020",null,"Canadian Niagara Power Inc.","Community Relations","5405","Supervision",0]
[2021,"January 1, 2020 - December 31, 2020",null,"Canadian Niagara Power Inc.","Community Relations","5410","Community Relations - Sundry",0]
[2021,"January 1, 2020 - December 31, 2020",null,"Canadian Niagara Power Inc.","Distribution Expenses - Operation","5055","Underground Distribution Transformers - Operation",7767.07]
[2021,"January 1, 2020 - December 31, 2020",null,"Canadian Niagara Power Inc.","Distribution Expenses – Maintenance","5125","Maintenance of Overhead Conductors and Devices",455368.55]
[2021,"January 1, 2020 - December 31, 2020",null,"Canadian Niagara Power Inc.","Other Expenses","5210","Transmission Charges",0]
[2021,"January 1, 2020 - December 31, 2020",null,"Centre Wellington Hydro Ltd.","Administrative and General Expenses","5655","Regulatory Expenses",111825.95]
[2021,"January 1, 2020 - December 31, 2020",null,"Centre Wellington Hydro Ltd.","Billing and Collecting","5325","Collecting- Cash Over and Short",-0.06]
[2021,"January 1, 2020 - December 31, 2020",null,"Centre Wellington Hydro Ltd.","Community Relations","5405","Supervision",0]
[2021,"January 1, 2020 - December 31, 2020",null,"Centre Wellington Hydro Ltd.","Distribution Expenses - Operation","5030","Overhead Subtransmission Feeders - Operation",0]
[2021,"January 1, 2020 - December 31, 2020",null,"Centre Wellington Hydro Ltd.","Distribution Expenses – Maintenance","5105","Maintenance Supervision and Engineering",18800.919999999998]
[2021,"January 1, 2020 - December 31, 2020",null,"Centre Wellington Hydro Ltd.","Other Expenses","5205","Purchase of Transmission and System Services",0]
[2021,"January 1, 2020 - December 31, 2020",null,"Chapleau Public Utilities Corporation","Administrative and General Expenses","5640","Injuries and Damages",3620.67]
[2021,"January 1, 2020 - December 31, 2020",null,"Chapleau Public Utilities Corporation","Administrative and General Expenses Total",null,null,482928.33]
[2021,"January 1, 2020 - December 31, 2020",null,"Chapleau Public Utilities Corporation","Billing and Collecting","5325","Collecting- Cash Over and Short",0]
[2021,"January 1, 2020 - December 31, 2020",null,"Chapleau Public Utilities Corporation","Distribution Expenses - Operation","5015","Transformer Station Equipment - Operation Supplies and Expenses",0]
[2021,"January 1, 2020 - December 31, 2020",null,"Chapleau Public Utilities Corporation","Distribution Expenses - Operation Total",null,null,212012.46]
[2021,"January 1, 2020 - December 31, 2020",null,"Chapleau Public Utilities Corporation","Distribution Expenses – Maintenance","5172","Sentinel Lights - Materials and Expenses",0]
[2021,"January 1, 2020 - December 31, 2020",null,"Cooperative Hydro Embrun Inc.","Administrative and General Expenses","5615","General Administrative Salaries and Expenses",64134.19]
[2021,"January 1, 2020 - December 31, 2020",null,"Cooperative Hydro Embrun Inc.","Administrative and General Expenses","5640","Injuries and Damages",3861.65]
[2021,"January 1, 2020 - December 31, 2020",null,"Cooperative Hydro Embrun Inc.","Billing and Collecting","5310","Meter Reading Expense",0]
[2021,"January 1, 2020 - December 31, 2020",null,"Cooperative Hydro Embrun Inc.","Community Relations","5425","Miscellaneous Customer Service and Informational Expenses",0]
[2021,"January 1, 2020 - December 31, 2020",null,"Cooperative Hydro Embrun Inc.","Distribution Expenses - Operation","5070","Customer Premises - Operation Labour",0]
[2021,"January 1, 2020 - December 31, 2020",null,"Cooperative Hydro Embrun Inc.","Distribution Expenses – Maintenance","5145","Maintenance of Underground Conduit",0]
[2021,"January 1, 2020 - December 31, 2020",null,"Cooperative Hydro Embrun Inc.","Distribution Expenses – Maintenance","5170","Sentinel Lights - Labour",0]
[2021,"January 1, 2020 - December 31, 2020",null,"Cornwall Street Railway Light and Power Company Limited","Administrative and General Expenses","5610","Management Salaries and Expenses",0]
[2021,"January 1, 2020 - December 31, 2020",null,"Cornwall Street Railway Light and Power Company Limited","Administrative and General Expenses","5681","Special Purpose Charge Expense",0]
[2021,"January 1, 2020 - December 31, 2020",null,"Cornwall Street Railway Light and Power Company Limited","Distribution Expenses - Operation","5005","Operation Supervision and Engineering",0]
[2021,"January 1, 2020 - December 31, 2020",null,"Cornwall Street Railway Light and Power Company Limited","Distribution Expenses - Operation","5060","Street Lighting and Signal System Expense",0]
[2021,"January 1, 2020 - December 31, 2020",null,"Cornwall Street Railway Light and Power Company Limited","Distribution Expenses - Operation","5090","Underground Distribution Lines and Feeders - Rental Paid",0]
[2021,"January 1, 2020 - December 31, 2020",null,"Cornwall Street Railway Light and Power Company Limited","Distribution Expenses – Maintenance","5160","Maintenance of Line Transformers",0]
[2021,"January 1, 2020 - December 31, 2020",null,"E.L.K. Energy Inc.","Administrative and General Expenses","5520","Miscellaneous Sales Expense",0]
[2021,"January 1, 2020 - December 31, 2020",null,"E.L.K. Energy Inc.","Administrative and General Expenses","5680","Electrical Safety Authority Fees",5292]
[2021,"January 1, 2020 - December 31, 2020",null,"E.L.K. Energy Inc.","Community Relations","5410","Community Relations - Sundry",2777.29]
[2021,"January 1, 2020 - December 31, 2020",null,"E.L.K. Energy Inc.","Distribution Expenses - Operation","5035","Overhead Distribution Transformers- Operation",7161.94]
[2021,"January 1, 2020 - December 31, 2020",null,"E.L.K. Energy Inc.","Distribution Expenses - Operation","5060","Street Lighting and Signal System Expense",0]
[2021,"January 1, 2020 - December 31, 2020",null,"E.L.K. Energy Inc.","Distribution Expenses – Maintenance","5130","Maintenance of Overhead Services",47763.15]
[2021,"January 1, 2020 - December 31, 2020",null,"ENWIN Utilities Ltd.","Administrative and General Expenses","5515","Advertising Expense",0]
[2021,"January 1, 2020 - December 31, 2020",null,"ENWIN Utilities Ltd.","Administrative and General Expenses","5660","General Advertising Expenses",46810.44]
[2021,"January 1, 2020 - December 31, 2020",null,"ENWIN Utilities Ltd.","Billing and Collecting","5330","Collection Charges",0]
[2021,"January 1, 2020 - December 31, 2020",null,"ENWIN Utilities Ltd.","Community Relations","5410","Community Relations - Sundry",102480.5]
[2021,"January 1, 2020 - December 31, 2020",null,"ENWIN Utilities Ltd.","Distribution Expenses - Operation","5035","Overhead Distribution Transformers- Operation",68010.37]
[2021,"January 1, 2020 - December 31, 2020",null,"ENWIN Utilities Ltd.","Distribution Expenses – Maintenance","5110","Maintenance of Buildings and Fixtures - Distribution Stations",0]
[2021,"January 1, 2020 - December 31, 2020",null,"ENWIN Utilities Ltd.","Other Expenses","5210","Transmission Charges",0]
[2021,"January 1, 2020 - December 31, 2020",null,"EPCOR Electricity Distribution Ontario Inc.","Administrative and General Expenses","5645","OMERS Pensions and Benefits",0]
[2021,"January 1, 2020 - December 31, 2020",null,"EPCOR Electricity Distribution Ontario Inc.","Billing and Collecting","5325","Collecting- Cash Over and Short",0]
[2021,"January 1, 2020 - December 31, 2020",null,"EPCOR Electricity Distribution Ontario Inc.","Billing and Collecting","5330","Collection Charges",0]
[2021,"January 1, 2020 - December 31, 2020",null,"EPCOR Electricity Distribution Ontario Inc.","Distribution Expenses - Operation","5016","Distribution Station Equipment - Operation Labour",5728.94]
[2021,"January 1, 2020 - December 31, 2020",null,"EPCOR Electricity Distribution Ontario Inc.","Distribution Expenses – Maintenance","5105","Maintenance Supervision and Engineering",219836.66]
[2021,"January 1, 2020 - December 31, 2020",null,"EPCOR Electricity Distribution Ontario Inc.","Distribution Expenses – Maintenance","5175","Maintenance of Meters",245618.68]
[2021,"January 1, 2020 - December 31, 2020",null,"ERTH Power Corporation","Administrative and General Expenses","5640","Injuries and Damages",0]
[2021,"January 1, 2020 - December 31, 2020",null,"ERTH Power Corporation","Administrative and General Expenses","5670","Rent",0]
[2021,"January 1, 2020 - December 31, 2020",null,"ERTH Power Corporation","Administrative and General Expenses Total",null,null,3189047.79]
[2021,"January 1, 2020 - December 31, 2020",null,"ERTH Power Corporation","Distribution Expenses - Operation","5014","Transformer Station Equipment - Operation Labour",0]
[2021,"January 1, 2020 - December 31, 2020",null,"ERTH Power Corporation","Distribution Expenses - Operation","5075","Customer Premises - Materials and Expenses",0]
[2021,"January 1, 2020 - December 31, 2020",null,"ERTH Power Corporation","Distribution Expenses – Maintenance","5150","Maintenance of Underground Conductors and Devices",46467]
[2021,"January 1, 2020 - December 31, 2020",null,"Elexicon Energy Inc.","Administrative and General Expenses","5610","Management Salaries and Expenses",1547169.72]
[2021,"January 1, 2020 - December 31, 2020",null,"Elexicon Energy Inc.","Administrative and General Expenses","5672","Lease Payment Expense",0]
[2021,"January 1, 2020 - December 31, 2020",null,"Elexicon Energy Inc.","Administrative and General Expenses","5695","OM&A Contra",0]
[2021,"January 1, 2020 - December 31, 2020",null,"Elexicon Energy Inc.","Community Relations","5425","Miscellaneous Customer Service and Informational Expenses",5]
[2021,"January 1, 2020 - December 31, 2020",null,"Elexicon Energy Inc.","Distribution Expenses - Operation","5050","Underground Subtransmission Feeders - Operation",2648.89]
[2021,"January 1, 2020 - December 31, 2020",null,"Elexicon Energy Inc.","Distribution Expenses – Maintenance","5145","Maintenance of Underground Conduit",32096.91]
[2021,"January 1, 2020 - December 31, 2020",null,"Energy Plus Inc.","Administrative and General Expenses","5505","Supervision",0]
[2021,"January 1, 2020 - December 31, 2020",null,"Energy Plus Inc.","Administrative and General Expenses","5610","Management Salaries and Expenses",2382259.0499999998]
[2021,"January 1, 2020 - December 31, 2020",null,"Energy Plus Inc.","Administrative and General Expenses","5672","Lease Payment Expense",35845.360000000001]
[2021,"January 1, 2020 - December 31, 2020",null,"Energy Plus Inc.","Billing and Collecting Total",null,null,3607402.31]
[2021,"January 1, 2020 - December 31, 2020",null,"Energy Plus Inc.","Distribution Expenses - Operation","5045","Underground Distribution Lines and Feeders - Operation Supplies and Expenses",111332.49]
[2021,"January 1, 2020 - December 31, 2020",null,"Energy Plus Inc.","Distribution Expenses – Maintenance","5114","Maintenance of Distribution Station Equipment",0]
[2021,"January 1, 2020 - December 31, 2020",null,"Energy Plus Inc.","Distribution Expenses – Maintenance Total",null,null,3114754.84]
[2021,"January 1, 2020 - December 31, 2020",null,"Entegrus Powerlines Inc.","Administrative and General Expenses","5505","Supervision",0]
[2021,"January 1, 2020 - December 31, 2020",null,"Entegrus Powerlines Inc.","Administrative and General Expenses","5650","Franchise Requirements",0]
[2021,"January 1, 2020 - December 31, 2020",null,"Entegrus Powerlines Inc.","Billing and Collecting","5340","Miscellaneous Customer Accounts Expenses",0]
[2021,"January 1, 2020 - December 31, 2020",null,"Entegrus Powerlines Inc.","Distribution Expenses - Operation","5020","Overhead Distribution Lines and Feeders - Operation Labour",129916.68]
[2021,"January 1, 2020 - December 31, 2020",null,"Entegrus Powerlines Inc.","Distribution Expenses - Operation","5096","Other Rent",0]
[2021,"January 1, 2020 - December 31, 2020",null,"Entegrus Powerlines Inc.","Distribution Expenses – Maintenance","5114","Maintenance of Distribution Station Equipment",61621.37]
[2021,"January 1, 2020 - December 31, 2020",null,"Entegrus Powerlines Inc.","Distribution Expenses – Maintenance Total",null,null,2143023.96]
[2021,"January 1, 2020 - December 31, 2020",null,"Espanola Regional Hydro Distribution Corporation","Administrative and General Expenses","5635","Property Insurance",12648.35]
[2021,"January 1, 2020 - December 31, 2020",null,"Espanola Regional Hydro Distribution Corporation","Billing and Collecting","5315","Customer Billing",207147.8]
[2021,"January 1, 2020 - December 31, 2020",null,"Espanola Regional Hydro Distribution Corporation","Distribution Expenses - Operation","5012","Station Buildings and Fixtures Expense",3513.94]
[2021,"January 1, 2020 - December 31, 2020",null,"Espanola Regional Hydro Distribution Corporation","Distribution Expenses - Operation","5020","Overhead Distribution Lines and Feeders - Operation Labour",74132.210000000006]
[2021,"January 1, 2020 - December 31, 2020",null,"Espanola Regional Hydro Distribution Corporation","Distribution Expenses - Operation","5096","Other Rent",0]
[2021,"January 1, 2020 - December 31, 2020",null,"Espanola Regional Hydro Distribution Corporation","Distribution Expenses – Maintenance","5170","Sentinel Lights - Labour",219.61]
[2021,"January 1, 2020 - December 31, 2020",null,"Essex Powerlines Corporation","Administrative and General Expenses","5625","Administrative Expense Transferred/Credit",0]
[2021,"January 1, 2020 - December 31, 2020",null,"Essex Powerlines Corporation","Administrative and General Expenses","5681","Special Purpose Charge Expense",0]
[2021,"January 1, 2020 - December 31, 2020",null,"Essex Powerlines Corporation","Billing and Collecting","5310","Meter Reading Expense",26593.46]
[2021,"January 1, 2020 - December 31, 2020",null,"Essex Powerlines Corporation","Distribution Expenses - Operation","5010","Load Dispatching",145158.79999999999]
[2021,"January 1, 2020 - December 31, 2020",null,"Essex Powerlines Corporation","Distribution Expenses - Operation","5065","Meter Expense",220277.61]
[2021,"January 1, 2020 - December 31, 2020",null,"Essex Powerlines Corporation","Distribution Expenses – Maintenance","5160","Maintenance of Line Transformers",87487.39]
[2021,"January 1, 2020 - December 31, 2020",null,"Festival Hydro Inc.","Administrative and General Expenses","5520","Miscellaneous Sales Expense",0]
[2021,"January 1, 2020 - December 31, 2020",null,"Festival Hydro Inc.","Administrative and General Expenses","5665","Miscellaneous General Expenses",98236.62]
[2021,"January 1, 2020 - December 31, 2020",null,"Festival Hydro Inc.","Administrative and General Expenses","5681","Special Purpose Charge Expense",0]
[2021,"January 1, 2020 - December 31, 2020",null,"Festival Hydro Inc.","Community Relations","5415","Energy Conservation",0]
[2021,"January 1, 2020 - December 31, 2020",null,"Festival Hydro Inc.","Distribution Expenses - Operation","5060","Street Lighting and Signal System Expense",0]
[2021,"January 1, 2020 - December 31, 2020",null,"Festival Hydro Inc.","Distribution Expenses – Maintenance","5130","Maintenance of Overhead Services",857905.26]
[2021,"January 1, 2020 - December 31, 2020",null,"Festival Hydro Inc.","Other Expenses","5215","Transmission Charges Recovered",0]
[2021,"January 1, 2020 - December 31, 2020",null,"Fort Frances Power Corporation","Administrative and General Expenses","5660","General Advertising Expenses",3316.34]
[2021,"January 1, 2020 - December 31, 2020",null,"Fort Frances Power Corporation","Administrative and General Expenses","5665","Miscellaneous General Expenses",81724.759999999995]
[2021,"January 1, 2020 - December 31, 2020",null,"Fort Frances Power Corporation","Community Relations","5410","Community Relations - Sundry",10432.64]
[2021,"January 1, 2020 - December 31, 2020",null,"Fort Frances Power Corporation","Distribution Expenses - Operation","5035","Overhead Distribution Transformers- Operation",0]
[2021,"January 1, 2020 - December 31, 2020",null,"Fort Frances Power Corporation","Distribution Expenses – Maintenance","5110","Maintenance of Buildings and Fixtures - Distribution Stations",2463.2199999999998]
[2021,"January 1, 2020 - December 31, 2020",null,"Fort Frances Power Corporation","Other Expenses","5210","Transmission Charges",0]
[2021,"January 1, 2020 - December 31, 2020",null,"Greater Sudbury Hydro Inc.","Administrative and General Expenses","5645","OMERS Pensions and Benefits",0]
[2021,"January 1, 2020 - December 31, 2020",null,"Greater Sudbury Hydro Inc.","Administrative and General Expenses","5646","Employee Pensions and OPEB",399398.65]
[2021,"January 1, 2020 - December 31, 2020",null,"Greater Sudbury Hydro Inc.","Billing and Collecting","5330","Collection Charges",0]
[2021,"January 1, 2020 - December 31, 2020",null,"Greater Sudbury Hydro Inc.","Distribution Expenses - Operation","5016","Distribution Station Equipment - Operation Labour",535602.51]
[2021,"January 1, 2020 - December 31, 2020",null,"Greater Sudbury Hydro Inc.","Distribution Expenses – Maintenance","5105","Maintenance Supervision and Engineering",0]
[2021,"January 1, 2020 - December 31, 2020",null,"Greater Sudbury Hydro Inc.","Distribution Expenses – Maintenance","5175","Maintenance of Meters",48796.65]
[2021,"January 1, 2020 - December 31, 2020",null,"Grimsby Power Incorporated","Administrative and General Expenses","5620","Office Supplies and Expenses",40770.03]
[2021,"January 1, 2020 - December 31, 2020",null,"Grimsby Power Incorporated","Administrative and General Expenses","5645","OMERS Pensions and Benefits",9981.66]
[2021,"January 1, 2020 - December 31, 2020",null,"Grimsby Power Incorporated","Billing and Collecting","5305","Supervision",57942.04]
[2021,"January 1, 2020 - December 31, 2020",null,"Grimsby Power Incorporated","Distribution Expenses - Operation","5005","Operation Supervision and Engineering",134290.26]
[2021,"January 1, 2020 - December 31, 2020",null,"Grimsby Power Incorporated","Distribution Expenses - Operation","5070","Customer Premises - Operation Labour",45855.44]
[2021,"January 1, 2020 - December 31, 2020",null,"Grimsby Power Incorporated","Distribution Expenses – Maintenance","5150","Maintenance of Underground Conductors and Devices",10705.77]
[2021,"January 1, 2020 - December 31, 2020",null,"Grimsby Power Incorporated","Distribution Expenses – Maintenance","5172","Sentinel Lights - Materials and Expenses",0]
[2021,"January 1, 2020 - December 31, 2020",null,"Halton Hills Hydro Inc.","Administrative and General Expenses","5615","General Administrative Salaries and Expenses",975981.67]
[2021,"January 1, 2020 - December 31, 2020",null,"Halton Hills Hydro Inc.","Administrative and General Expenses","5675","Maintenance of General Plant",205415.07]
[2021,"January 1, 2020 - December 31, 2020",null,"Halton Hills Hydro Inc.","Community Relations","5425","Miscellaneous Customer Service and Informational Expenses",0]
[2021,"January 1, 2020 - December 31, 2020",null,"Halton Hills Hydro Inc.","Distribution Expenses - Operation","5050","Underground Subtransmission Feeders - Operation",0]
[2021,"January 1, 2020 - December 31, 2020",null,"Halton Hills Hydro Inc.","Distribution Expenses - Operation","5075","Customer Premises - Materials and Expenses",0]
[2021,"January 1, 2020 - December 31, 2020",null,"Halton Hills Hydro Inc.","Distribution Expenses – Maintenance","5150","Maintenance of Underground Conductors and Devices",102516.51]
[2021,"January 1, 2020 - December 31, 2020",null,"Hearst Power Distribution Company Limited","Administrative and General Expenses","5510","Demonstrating and Selling Expense",0]
[2021,"January 1, 2020 - December 31, 2020",null,"Hearst Power Distribution Company Limited","Administrative and General Expenses","5672","Lease Payment Expense",0]
[2021,"January 1, 2020 - December 31, 2020",null,"Hearst Power Distribution Company Limited","Billing and Collecting Total",null,null,323373.90999999997]
[2021,"January 1, 2020 - December 31, 2020",null,"Hearst Power Distribution Company Limited","Distribution Expenses - Operation","5025","Overhead Distribution Lines and Feeders - Operation Supplies and Expenses",27540.22]
[2021,"January 1, 2020 - December 31, 2020",null,"Hearst Power Distribution Company Limited","Distribution Expenses - Operation","5050","Underground Subtransmission Feeders - Operation",0]
[2021,"January 1, 2020 - December 31, 2020",null,"Hearst Power Distribution Company Limited","Distribution Expenses – Maintenance","5120","Maintenance of Poles, Towers and Fixtures",61779.85]
[2021,"January 1, 2020 - December 31, 2020",null,"Hydro 2000 Inc.","Administrative and General Expenses","5505","Supervision",0]
[2021,"January 1, 2020 - December 31, 2020",null,"Hydro 2000 Inc.","Administrative and General Expenses","5650","Franchise Requirements",0]
[2021,"January 1, 2020 - December 31, 2020",null,"Hydro 2000 Inc.","Billing and Collecting","5320","Collecting",1499.21]
[2021,"January 1, 2020 - December 31, 2020",null,"Hydro 2000 Inc.","Billing and Collecting Total",null,null,145695.70000000001]
[2021,"January 1, 2020 - December 31, 2020",null,"Hydro 2000 Inc.","Distribution Expenses - Operation","5025","Overhead Distribution Lines and Feeders - Operation Supplies and Expenses",0]
[2021,"January 1, 2020 - December 31, 2020",null,"Hydro 2000 Inc.","Distribution Expenses - Operation Total",null,null,28125.360000000001]
[2021,"January 1, 2020 - December 31, 2020",null,"Hydro 2000 Inc.","Distribution Expenses – Maintenance Total",null,null,31668.62]
[2021,"January 1, 2020 - December 31, 2020",null,"Hydro Hawkesbury Inc.","Administrative and General Expenses","5635","Property Insurance",4575]
[2021,"January 1, 2020 - December 31, 2020",null,"Hydro Hawkesbury Inc.","Administrative and General Expenses","5650","Franchise Requirements",0]
[2021,"January 1, 2020 - December 31, 2020",null,"Hydro Hawkesbury Inc.","Billing and Collecting","5320","Collecting",112540.49]
[2021,"January 1, 2020 - December 31, 2020",null,"Hydro Hawkesbury Inc.","Distribution Expenses - Operation","5014","Transformer Station Equipment - Operation Labour",33298.93]
[2021,"January 1, 2020 - December 31, 2020",null,"Hydro Hawkesbury Inc.","Distribution Expenses - Operation","5096","Other Rent",0]
[2021,"January 1, 2020 - December 31, 2020",null,"Hydro Hawkesbury Inc.","Distribution Expenses – Maintenance","5170","Sentinel Lights - Labour",0]
[2021,"January 1, 2020 - December 31, 2020",null,"Hydro One Networks Inc.","Administrative and General Expenses","5630","Outside Services Employed",15403992.890000001]
[2021,"January 1, 2020 - December 31, 2020",null,"Hydro One Networks Inc.","Administrative and General Expenses","5635","Property Insurance",4360240.8]
[2021,"January 1, 2020 - December 31, 2020",null,"Hydro One Networks Inc.","Billing and Collecting","5335","Bad Debt Expense",31832607.219999999]
[2021,"January 1, 2020 - December 31, 2020",null,"Hydro One Networks Inc.","Distribution Expenses - Operation","5015","Transformer Station Equipment - Operation Supplies and Expenses",121888.92]
[2021,"January 1, 2020 - December 31, 2020",null,"Hydro One Networks Inc.","Distribution Expenses - Operation","5085","Miscellaneous Distribution Expense",19245656.84]
[2021,"January 1, 2020 - December 31, 2020",null,"Hydro One Networks Inc.","Distribution Expenses – Maintenance","5155","Maintenance of Underground Services",7889737.6699999999]
[2021,"January 1, 2020 - December 31, 2020",null,"Hydro One Remote Communities Inc.","Administrative and General Expenses","5615","General Administrative Salaries and Expenses",1494392.4]
[2021,"January 1, 2020 - December 31, 2020",null,"Hydro One Remote Communities Inc.","Administrative and General Expenses","5620","Office Supplies and Expenses",0]
[2021,"January 1, 2020 - December 31, 2020",null,"Hydro One Remote Communities Inc.","Billing and Collecting","5315","Customer Billing",1055414.24]
[2021,"January 1, 2020 - December 31, 2020",null,"Hydro One Remote Communities Inc.","Distribution Expenses - Operation","5012","Station Buildings and Fixtures Expense",0]
[2021,"January 1, 2020 - December 31, 2020",null,"Hydro One Remote Communities Inc.","Distribution Expenses - Operation","5070","Customer Premises - Operation Labour",0]
[2021,"January 1, 2020 - December 31, 2020",null,"Hydro One Remote Communities Inc.","Distribution Expenses – Maintenance","5165","Maintenance of Street Lighting and Signal Systems",0]
[2021,"January 1, 2020 - December 31, 2020",null,"Hydro Ottawa Limited","Administrative and General Expenses","5605","Executive Salaries and Expenses",2420738.44]
[2021,"January 1, 2020 - December 31, 2020",null,"Hydro Ottawa Limited","Administrative and General Expenses","5630","Outside Services Employed",2041368.51]
[2021,"January 1, 2020 - December 31, 2020",null,"Hydro Ottawa Limited","Administrative and General Expenses","5685","Independent Market Operator Fees and Penalties",0]
[2021,"January 1, 2020 - December 31, 2020",null,"Hydro Ottawa Limited","Community Relations","5420","Community Safety Program",0]
[2021,"January 1, 2020 - December 31, 2020",null,"Hydro Ottawa Limited","Distribution Expenses - Operation","5065","Meter Expense",682998.98]
[2021,"January 1, 2020 - December 31, 2020",null,"Hydro Ottawa Limited","Distribution Expenses – Maintenance","5135","Overhead Distribution Lines and Feeders - Right of Way",3509575.84]
[2021,"January 1, 2020 - December 31, 2020",null,"Hydro Ottawa Limited","Other Expenses Total",null,null,0]
[2021,"January 1, 2020 - December 31, 2020",null,"Innpower Corporation","Administrative and General Expenses","5605","Executive Salaries and Expenses",265534.55]
[2021,"January 1, 2020 - December 31, 2020",null,"Innpower Corporation","Administrative and General Expenses","5670","Rent",824.15]
[2021,"January 1, 2020 - December 31, 2020",null,"Innpower Corporation","Community Relations","5415","Energy Conservation",0]
[2021,"January 1, 2020 - December 31, 2020",null,"Innpower Corporation","Distribution Expenses - Operation","5040","Underground Distribution Lines and Feeders - Operation Labour",4186.0200000000004]
[2021,"January 1, 2020 - December 31, 2020",null,"Innpower Corporation","Distribution Expenses – Maintenance","5112","Maintenance of Transformer Station Equipment",0]
[2021,"January 1, 2020 - December 31, 2020",null,"Innpower Corporation","Distribution Expenses – Maintenance","5135","Overhead Distribution Lines and Feeders - Right of Way",305570.95]
[2021,"January 1, 2020 - December 31, 2020",null,"Innpower Corporation","Other Expenses Total",null,null,0]
[2021,"January 1, 2020 - December 31, 2020",null,"Kingston Hydro Corporation","Administrative and General Expenses","5647","Employee Sick Leave",0]
[2021,"January 1, 2020 - December 31, 2020",null,"Kingston Hydro Corporation","Billing and Collecting","5335","Bad Debt Expense",136158.76]
[2021,"January 1, 2020 - December 31, 2020",null,"Kingston Hydro Corporation","Distribution Expenses - Operation","5017","Distribution Station Equipment - Operation Supplies and Expenses",8521.36]
[2021,"January 1, 2020 - December 31, 2020",null,"Kingston Hydro Corporation","Distribution Expenses - Operation","5040","Underground Distribution Lines and Feeders - Operation Labour",39038.39]
[2021,"January 1, 2020 - December 31, 2020",null,"Kingston Hydro Corporation","Distribution Expenses – Maintenance","5112","Maintenance of Transformer Station Equipment",0]
[2021,"January 1, 2020 - December 31, 2020",null,"Kingston Hydro Corporation","Distribution Expenses – Maintenance","5195","Maintenance of Other Installations on Customer Premises",0]
[2021,"January 1, 2020 - December 31, 2020",null,"Kitchener-Wilmot Hydro Inc.","Administrative and General Expenses","5646","Employee Pensions and OPEB",0]
[2021,"January 1, 2020 - December 31, 2020",null,"Kitchener-Wilmot Hydro Inc.","Administrative and General Expenses","5685","Independent Market Operator Fees and Penalties",0]
[2021,"January 1, 2020 - December 31, 2020",null,"Kitchener-Wilmot Hydro Inc.","Billing and Collecting","5330","Collection Charges",0]
[2021,"January 1, 2020 - December 31, 2020",null,"Kitchener-Wilmot Hydro Inc.","Distribution Expenses - Operation","5016","Distribution Station Equipment - Operation Labour",3237.45]
[2021,"January 1, 2020 - December 31, 2020",null,"Kitchener-Wilmot Hydro Inc.","Distribution Expenses - Operation","5090","Underground Distribution Lines and Feeders - Rental Paid",2835.6]
[2021,"January 1, 2020 - December 31, 2020",null,"Kitchener-Wilmot Hydro Inc.","Distribution Expenses – Maintenance","5175","Maintenance of Meters",0]
[2021,"January 1, 2020 - December 31, 2020",null,"Lakefront Utilities Inc.","Administrative and General Expenses","5620","Office Supplies and Expenses",85211.38]
[2021,"January 1, 2020 - December 31, 2020",null,"Lakefront Utilities Inc.","Administrative and General Expenses","5680","Electrical Safety Authority Fees",0]
[2021,"January 1, 2020 - December 31, 2020",null,"Lakefront Utilities Inc.","Billing and Collecting","5305","Supervision",0]
[2021,"January 1, 2020 - December 31, 2020",null,"Lakefront Utilities Inc.","Distribution Expenses - Operation","5005","Operation Supervision and Engineering",232652.67]
[2021,"January 1, 2020 - December 31, 2020",null,"Lakefront Utilities Inc.","Distribution Expenses - Operation","5085","Miscellaneous Distribution Expense",53618.52]
[2021,"January 1, 2020 - December 31, 2020",null,"Lakefront Utilities Inc.","Distribution Expenses – Maintenance","5155","Maintenance of Underground Services",57799.31]
[2021,"January 1, 2020 - December 31, 2020",null,"Lakeland Power Distribution Ltd.","Administrative and General Expenses","5515","Advertising Expense",0]
[2021,"January 1, 2020 - December 31, 2020",null,"Lakeland Power Distribution Ltd.","Administrative and General Expenses","5620","Office Supplies and Expenses",113744.71]
[2021,"January 1, 2020 - December 31, 2020",null,"Lakeland Power Distribution Ltd.","Administrative and General Expenses","5680","Electrical Safety Authority Fees",14751.84]
[2021,"January 1, 2020 - December 31, 2020",null,"Lakeland Power Distribution Ltd.","Community Relations Total",null,null,7183.25]
[2021,"January 1, 2020 - December 31, 2020",null,"Lakeland Power Distribution Ltd.","Distribution Expenses - Operation","5055","Underground Distribution Transformers - Operation",2106.15]
[2021,"January 1, 2020 - December 31, 2020",null,"Lakeland Power Distribution Ltd.","Distribution Expenses – Maintenance","5125","Maintenance of Overhead Conductors and Devices",119073.48]
[2021,"January 1, 2020 - December 31, 2020",null,"London Hydro Inc.","Administrative and General Expenses","5510","Demonstrating and Selling Expense",0]
[2021,"January 1, 2020 - December 31, 2020",null,"London Hydro Inc.","Administrative and General Expenses","5515","Advertising Expense",0]
[2021,"January 1, 2020 - December 31, 2020",null,"London Hydro Inc.","Administrative and General Expenses","5660","General Advertising Expenses",795838.18]
[2021,"January 1, 2020 - December 31, 2020",null,"London Hydro Inc.","Community Relations","5405","Supervision",0]
[2021,"January 1, 2020 - December 31, 2020",null,"London Hydro Inc.","Distribution Expenses - Operation","5030","Overhead Subtransmission Feeders - Operation",0]
[2021,"January 1, 2020 - December 31, 2020",null,"London Hydro Inc.","Distribution Expenses – Maintenance","5120","Maintenance of Poles, Towers and Fixtures",566710.81999999995]
[2021,"January 1, 2020 - December 31, 2020",null,"London Hydro Inc.","Other Expenses","5205","Purchase of Transmission and System Services",0]
[2021,"January 1, 2020 - December 31, 2020",null,"London Hydro Inc.","Other Expenses","5210","Transmission Charges",0]
[2021,"January 1, 2020 - December 31, 2020",null,"Milton Hydro Distribution Inc.","Administrative and General Expenses","5655","Regulatory Expenses",113393]
[2021,"January 1, 2020 - December 31, 2020",null,"Milton Hydro Distribution Inc.","Billing and Collecting","5325","Collecting- Cash Over and Short",931]
[2021,"January 1, 2020 - December 31, 2020",null,"Milton Hydro Distribution Inc.","Distribution Expenses - Operation","5015","Transformer Station Equipment - Operation Supplies and Expenses",0]
[2021,"January 1, 2020 - December 31, 2020",null,"Milton Hydro Distribution Inc.","Distribution Expenses - Operation Total",null,null,2548732]
[2021,"January 1, 2020 - December 31, 2020",null,"Milton Hydro Distribution Inc.","Distribution Expenses – Maintenance","5172","Sentinel Lights - Materials and Expenses",0]
[2021,"January 1, 2020 - December 31, 2020",null,"Newmarket-Tay Power Distribution Ltd.","Administrative and General Expenses","5605","Executive Salaries and Expenses",100118.44]
[2021,"January 1, 2020 - December 31, 2020",null,"Newmarket-Tay Power Distribution Ltd.","Administrative and General Expenses","5635","Property Insurance",180143.77]
[2021,"January 1, 2020 - December 31, 2020",null,"Newmarket-Tay Power Distribution Ltd.","Administrative and General Expenses","5695","OM&A Contra",0]
[2021,"January 1, 2020 - December 31, 2020",null,"Newmarket-Tay Power Distribution Ltd.","Distribution Expenses - Operation","5012","Station Buildings and Fixtures Expense",37742.47]
[2021,"January 1, 2020 - December 31, 2020",null,"Newmarket-Tay Power Distribution Ltd.","Distribution Expenses - Operation","5070","Customer Premises - Operation Labour",418419.81]
[2021,"January 1, 2020 - December 31, 2020",null,"Newmarket-Tay Power Distribution Ltd.","Distribution Expenses - Operation","5096","Other Rent",0]
[2021,"January 1, 2020 - December 31, 2020",null,"Newmarket-Tay Power Distribution Ltd.","Distribution Expenses – Maintenance","5170","Sentinel Lights - Labour",11785.18]
[2021,"January 1, 2020 - December 31, 2020",null,"Niagara Peninsula Energy Inc.","Administrative and General Expenses","5610","Management Salaries and Expenses",2563791.25]
[2021,"January 1, 2020 - December 31, 2020",null,"Niagara Peninsula Energy Inc.","Administrative and General Expenses","5685","Independent Market Operator Fees and Penalties",0]
[2021,"January 1, 2020 - December 31, 2020",null,"Niagara Peninsula Energy Inc.","Community Relations","5420","Community Safety Program",0]
[2021,"January 1, 2020 - December 31, 2020",null,"Niagara Peninsula Energy Inc.","Distribution Expenses - Operation","5045","Underground Distribution Lines and Feeders - Operation Supplies and Expenses",490704.01]
[2021,"January 1, 2020 - December 31, 2020",null,"Niagara Peninsula Energy Inc.","Distribution Expenses - Operation","5070","Customer Premises - Operation Labour",191943.4]
[2021,"January 1, 2020 - December 31, 2020",null,"Niagara Peninsula Energy Inc.","Distribution Expenses – Maintenance","5145","Maintenance of Underground Conduit",50827.06]
[2021,"January 1, 2020 - December 31, 2020",null,"Niagara-on-the-Lake Hydro Inc.","Administrative and General Expenses","5605","Executive Salaries and Expenses",383986.45]
[2021,"January 1, 2020 - December 31, 2020",null,"Niagara-on-the-Lake Hydro Inc.","Administrative and General Expenses","5670","Rent",0]
[2021,"January 1, 2020 - December 31, 2020",null,"Niagara-on-the-Lake Hydro Inc.","Billing and Collecting","5340","Miscellaneous Customer Accounts Expenses",5613.5]
[2021,"January 1, 2020 - December 31, 2020",null,"Niagara-on-the-Lake Hydro Inc.","Community Relations","5420","Community Safety Program",0]
[2021,"January 1, 2020 - December 31, 2020",null,"Niagara-on-the-Lake Hydro Inc.","Distribution Expenses - Operation","5045","Underground Distribution Lines and Feeders - Operation Supplies and Expenses",6021.24]
[2021,"January 1, 2020 - December 31, 2020",null,"Niagara-on-the-Lake Hydro Inc.","Distribution Expenses – Maintenance","5114","Maintenance of Distribution Station Equipment",1404.25]
[2021,"January 1, 2020 - December 31, 2020",null,"Niagara-on-the-Lake Hydro Inc.","Other Expenses Total",null,null,0]
[2021,"January 1, 2020 - December 31, 2020",null,"North Bay Hydro Distribution Limited","Administrative and General Expenses","5647","Employee Sick Leave",17500]
[2021,"January 1, 2020 - December 31, 2020",null,"North Bay Hydro Distribution Limited","Administrative and General Expenses","5670","Rent",0]
[2021,"January 1, 2020 - December 31, 2020",null,"North Bay Hydro Distribution Limited","Billing and Collecting","5340","Miscellaneous Customer Accounts Expenses",0]
[2021,"January 1, 2020 - December 31, 2020",null,"North Bay Hydro Distribution Limited","Distribution Expenses - Operation","5020","Overhead Distribution Lines and Feeders - Operation Labour",9127.6359670000002]
[2021,"January 1, 2020 - December 31, 2020",null,"North Bay Hydro Distribution Limited","Distribution Expenses – Maintenance","5112","Maintenance of Transformer Station Equipment",0]
[2021,"January 1, 2020 - December 31, 2020",null,"North Bay Hydro Distribution Limited","Distribution Expenses – Maintenance","5195","Maintenance of Other Installations on Customer Premises",0]
[2021,"January 1, 2020 - December 31, 2020",null,"North Bay Hydro Distribution Limited","Other Expenses Total",null,null,0]
[2021,"January 1, 2020 - December 31, 2020",null,"Northern Ontario Wires Inc.","Administrative and General Expenses","5647","Employee Sick Leave",0]
[2021,"January 1, 2020 - December 31, 2020",null,"Northern Ontario Wires Inc.","Billing and Collecting","5315","Customer Billing",226339.87]
[2021,"January 1, 2020 - December 31, 2020",null,"Northern Ontario Wires Inc.","Distribution Expenses - Operation","5017","Distribution Station Equipment - Operation Supplies and Expenses",9999.9599999999991]
[2021,"January 1, 2020 - December 31, 2020",null,"Northern Ontario Wires Inc.","Distribution Expenses - Operation","5096","Other Rent",0]
[2021,"January 1, 2020 - December 31, 2020",null,"Northern Ontario Wires Inc.","Distribution Expenses – Maintenance","5160","Maintenance of Line Transformers",10794.06]
[2021,"January 1, 2020 - December 31, 2020",null,"Northern Ontario Wires Inc.","Distribution Expenses – Maintenance","5178","Customer Installations Expenses- Leased Property",0]
[2021,"January 1, 2020 - December 31, 2020",null,"Oakville Hydro Electricity Distribution Inc.","Administrative and General Expenses","5625","Administrative Expense Transferred/Credit",-632524]
[2021,"January 1, 2020 - December 31, 2020",null,"Oakville Hydro Electricity Distribution Inc.","Billing and Collecting","5305","Supervision",387257.2]
[2021,"January 1, 2020 - December 31, 2020",null,"Oakville Hydro Electricity Distribution Inc.","Distribution Expenses - Operation","5005","Operation Supervision and Engineering",2892573.28]
[2021,"January 1, 2020 - December 31, 2020",null,"Oakville Hydro Electricity Distribution Inc.","Distribution Expenses - Operation","5060","Street Lighting and Signal System Expense",0]
[2021,"January 1, 2020 - December 31, 2020",null,"Oakville Hydro Electricity Distribution Inc.","Distribution Expenses – Maintenance","5155","Maintenance of Underground Services",24832.27]
[2021,"January 1, 2020 - December 31, 2020",null,"Oakville Hydro Electricity Distribution Inc.","Distribution Expenses – Maintenance","5160","Maintenance of Line Transformers",54324.18]
[2021,"January 1, 2020 - December 31, 2020",null,"Orangeville Hydro Limited","Administrative and General Expenses","5620","Office Supplies and Expenses",70152.649999999994]
[2021,"January 1, 2020 - December 31, 2020",null,"Orangeville Hydro Limited","Administrative and General Expenses","5680","Electrical Safety Authority Fees",0]
[2021,"January 1, 2020 - December 31, 2020",null,"Orangeville Hydro Limited","Community Relations","5410","Community Relations - Sundry",9004.1200000000008]
[2021,"January 1, 2020 - December 31, 2020",null,"Orangeville Hydro Limited","Distribution Expenses - Operation","5055","Underground Distribution Transformers - Operation",10201.370000000001]
[2021,"January 1, 2020 - December 31, 2020",null,"Orangeville Hydro Limited","Distribution Expenses – Maintenance","5125","Maintenance of Overhead Conductors and Devices",19436.560000000001]
[2021,"January 1, 2020 - December 31, 2020",null,"Orangeville Hydro Limited","Distribution Expenses – Maintenance","5130","Maintenance of Overhead Services",21575.77]
[2021,"January 1, 2020 - December 31, 2020",null,"Orillia Power Distribution Corporation","Administrative and General Expenses","5515","Advertising Expense",0]
[2021,"January 1, 2020 - December 31, 2020",null,"Orillia Power Distribution Corporation","Administrative and General Expenses","5660","General Advertising Expenses",5230]
[2021,"January 1, 2020 - December 31, 2020",null,"Orillia Power Distribution Corporation","Community Relations","5405","Supervision",0]
[2021,"January 1, 2020 - December 31, 2020",null,"Orillia Power Distribution Corporation","Distribution Expenses - Operation","5030","Overhead Subtransmission Feeders - Operation",0]
[2021,"January 1, 2020 - December 31, 2020",null,"Orillia Power Distribution Corporation","Distribution Expenses – Maintenance","5105","Maintenance Supervision and Engineering",0]
[2021,"January 1, 2020 - December 31, 2020",null,"Orillia Power Distribution Corporation","Distribution Expenses – Maintenance","5125","Maintenance of Overhead Conductors and Devices",44064]
[2021,"January 1, 2020 - December 31, 2020",null,"Orillia Power Distribution Corporation","Other Expenses","5210","Transmission Charges",0]
[2021,"January 1, 2020 - December 31, 2020",null,"Oshawa PUC Networks Inc.","Administrative and General Expenses","5645","OMERS Pensions and Benefits",802708.2]
[2021,"January 1, 2020 - December 31, 2020",null,"Oshawa PUC Networks Inc.","Billing and Collecting","5325","Collecting- Cash Over and Short",0]
[2021,"January 1, 2020 - December 31, 2020",null,"Oshawa PUC Networks Inc.","Distribution Expenses - Operation","5015","Transformer Station Equipment - Operation Supplies and Expenses",0]
[2021,"January 1, 2020 - December 31, 2020",null,"Oshawa PUC Networks Inc.","Distribution Expenses - Operation","5030","Overhead Subtransmission Feeders - Operation",0]
[2021,"January 1, 2020 - December 31, 2020",null,"Oshawa PUC Networks Inc.","Distribution Expenses – Maintenance","5105","Maintenance Supervision and Engineering",0]
[2021,"January 1, 2020 - December 31, 2020",null,"Oshawa PUC Networks Inc.","Distribution Expenses – Maintenance","5175","Maintenance of Meters",0]
[2021,"January 1, 2020 - December 31, 2020",null,"Ottawa River Power Corporation","Administrative and General Expenses","5640","Injuries and Damages",0]
[2021,"January 1, 2020 - December 31, 2020",null,"Ottawa River Power Corporation","Administrative and General Expenses Total",null,null,1284533.46]
[2021,"January 1, 2020 - December 31, 2020",null,"Ottawa River Power Corporation","Billing and Collecting","5325","Collecting- Cash Over and Short",-1121.08]
[2021,"January 1, 2020 - December 31, 2020",null,"Ottawa River Power Corporation","Distribution Expenses - Operation","5035","Overhead Distribution Transformers- Operation",6120.7]
[2021,"January 1, 2020 - December 31, 2020",null,"Ottawa River Power Corporation","Distribution Expenses - Operation","5075","Customer Premises - Materials and Expenses",2798.59]
[2021,"January 1, 2020 - December 31, 2020",null,"Ottawa River Power Corporation","Distribution Expenses – Maintenance","5170","Sentinel Lights - Labour",0]
[2021,"January 1, 2020 - December 31, 2020",null,"PUC Distribution Inc.","Administrative and General Expenses","5610","Management Salaries and Expenses",469114.53]
[2021,"January 1, 2020 - December 31, 2020",null,"PUC Distribution Inc.","Administrative and General Expenses","5672","Lease Payment Expense",0]
[2021,"January 1, 2020 - December 31, 2020",null,"PUC Distribution Inc.","Administrative and General Expenses","5695","OM&A Contra",0]
[2021,"January 1, 2020 - December 31, 2020",null,"PUC Distribution Inc.","Community Relations","5425","Miscellaneous Customer Service and Informational Expenses",0]
[2021,"January 1, 2020 - December 31, 2020",null,"PUC Distribution Inc.","Distribution Expenses - Operation","5070","Customer Premises - Operation Labour",218034.5]
[2021,"January 1, 2020 - December 31, 2020",null,"PUC Distribution Inc.","Distribution Expenses – Maintenance","5145","Maintenance of Underground Conduit",91387.92]
[2021,"January 1, 2020 - December 31, 2020",null,"Renfrew Hydro Inc.","Administrative and General Expenses","5505","Supervision",0]
[2021,"January 1, 2020 - December 31, 2020",null,"Renfrew Hydro Inc.","Administrative and General Expenses","5610","Management Salaries and Expenses",126350.34]
[2021,"January 1, 2020 - December 31, 2020",null,"Renfrew Hydro Inc.","Administrative and General Expenses","5672","Lease Payment Expense",0]
[2021,"January 1, 2020 - December 31, 2020",null,"Renfrew Hydro Inc.","Billing and Collecting Total",null,null,390258.98]
[2021,"January 1, 2020 - December 31, 2020",null,"Renfrew Hydro Inc.","Distribution Expenses - Operation","5045","Underground Distribution Lines and Feeders - Operation Supplies and Expenses",42.5]
[2021,"January 1, 2020 - December 31, 2020",null,"Renfrew Hydro Inc.","Distribution Expenses – Maintenance","5114","Maintenance of Distribution Station Equipment",708.05]
[2021,"January 1, 2020 - December 31, 2020",null,"Renfrew Hydro Inc.","Distribution Expenses – Maintenance","5145","Maintenance of Underground Conduit",0]
[2021,"January 1, 2020 - December 31, 2020",null,"Rideau St. Lawrence Distribution Inc.","Administrative and General Expenses","5505","Supervision",0]
[2021,"January 1, 2020 - December 31, 2020",null,"Rideau St. Lawrence Distribution Inc.","Administrative and General Expenses","5650","Franchise Requirements",0]
[2021,"January 1, 2020 - December 31, 2020",null,"Rideau St. Lawrence Distribution Inc.","Billing and Collecting","5340","Miscellaneous Customer Accounts Expenses",10114.799999999999]
[2021,"January 1, 2020 - December 31, 2020",null,"Rideau St. Lawrence Distribution Inc.","Distribution Expenses - Operation","5020","Overhead Distribution Lines and Feeders - Operation Labour",3794.01]
[2021,"January 1, 2020 - December 31, 2020",null,"Rideau St. Lawrence Distribution Inc.","Distribution Expenses – Maintenance","5112","Maintenance of Transformer Station Equipment",0]
[2021,"January 1, 2020 - December 31, 2020",null,"Rideau St. Lawrence Distribution Inc.","Distribution Expenses – Maintenance","5114","Maintenance of Distribution Station Equipment",39099.93]
[2021,"January 1, 2020 - December 31, 2020",null,"Rideau St. Lawrence Distribution Inc.","Distribution Expenses – Maintenance Total",null,null,390659.28]
[2021,"January 1, 2020 - December 31, 2020",null,"Sioux Lookout Hydro Inc.","Administrative and General Expenses","5647","Employee Sick Leave",0]
[2021,"January 1, 2020 - December 31, 2020",null,"Sioux Lookout Hydro Inc.","Billing and Collecting","5315","Customer Billing",201990.22]
[2021,"January 1, 2020 - December 31, 2020",null,"Sioux Lookout Hydro Inc.","Distribution Expenses - Operation","5012","Station Buildings and Fixtures Expense",0]
[2021,"January 1, 2020 - December 31, 2020",null,"Sioux Lookout Hydro Inc.","Distribution Expenses - Operation","5095","Overhead Distribution Lines and Feeders - Rental Paid",1113.28]
[2021,"January 1, 2020 - December 31, 2020",null,"Sioux Lookout Hydro Inc.","Distribution Expenses - Operation","5096","Other Rent",0]
[2021,"January 1, 2020 - December 31, 2020",null,"Sioux Lookout Hydro Inc.","Distribution Expenses – Maintenance","5195","Maintenance of Other Installations on Customer Premises",0]
[2021,"January 1, 2020 - December 31, 2020",null,"Synergy North Corporation","Administrative and General Expenses","5630","Outside Services Employed",205167.77]
[2021,"January 1, 2020 - December 31, 2020",null,"Synergy North Corporation","Administrative and General Expenses","5681","Special Purpose Charge Expense",0]
[2021,"January 1, 2020 - December 31, 2020",null,"Synergy North Corporation","Distribution Expenses - Operation","5005","Operation Supervision and Engineering",268922.03000000003]
[2021,"January 1, 2020 - December 31, 2020",null,"Synergy North Corporation","Distribution Expenses - Operation","5060","Street Lighting and Signal System Expense",0]
[2021,"January 1, 2020 - December 31, 2020",null,"Synergy North Corporation","Distribution Expenses - Operation","5090","Underground Distribution Lines and Feeders - Rental Paid",0]
[2021,"January 1, 2020 - December 31, 2020",null,"Synergy North Corporation","Distribution Expenses – Maintenance","5160","Maintenance of Line Transformers",18200.3]
[2021,"January 1, 2020 - December 31, 2020",null,"Tillsonburg Hydro Inc.","Administrative and General Expenses","5520","Miscellaneous Sales Expense",0]
[2021,"January 1, 2020 - December 31, 2020",null,"Tillsonburg Hydro Inc.","Administrative and General Expenses","5680","Electrical Safety Authority Fees",0]
[2021,"January 1, 2020 - December 31, 2020",null,"Tillsonburg Hydro Inc.","Community Relations","5410","Community Relations - Sundry",0]
[2021,"January 1, 2020 - December 31, 2020",null,"Tillsonburg Hydro Inc.","Distribution Expenses - Operation","5035","Overhead Distribution Transformers- Operation",1441.08]
[2021,"January 1, 2020 - December 31, 2020",null,"Tillsonburg Hydro Inc.","Distribution Expenses - Operation","5060","Street Lighting and Signal System Expense",0]
[2021,"January 1, 2020 - December 31, 2020",null,"Tillsonburg Hydro Inc.","Distribution Expenses – Maintenance","5130","Maintenance of Overhead Services",23686.05]
[2021,"January 1, 2020 - December 31, 2020",null,"Toronto Hydro-Electric System Limited","Administrative and General Expenses","5515","Advertising Expense",0]
[2021,"January 1, 2020 - December 31, 2020",null,"Toronto Hydro-Electric System Limited","Administrative and General Expenses","5660","General Advertising Expenses",0]
[2021,"January 1, 2020 - December 31, 2020",null,"Toronto Hydro-Electric System Limited","Billing and Collecting","5330","Collection Charges",0]
[2021,"January 1, 2020 - December 31, 2020",null,"Toronto Hydro-Electric System Limited","Community Relations","5410","Community Relations - Sundry",0]
[2021,"January 1, 2020 - December 31, 2020",null,"Toronto Hydro-Electric System Limited","Distribution Expenses - Operation","5035","Overhead Distribution Transformers- Operation",0]
[2021,"January 1, 2020 - December 31, 2020",null,"Toronto Hydro-Electric System Limited","Distribution Expenses – Maintenance","5110","Maintenance of Buildings and Fixtures - Distribution Stations",15977898.92]
[2021,"January 1, 2020 - December 31, 2020",null,"Toronto Hydro-Electric System Limited","Other Expenses","5210","Transmission Charges",0]
[2021,"January 1, 2020 - December 31, 2020",null,"Wasaga Distribution Inc.","Administrative and General Expenses","5645","OMERS Pensions and Benefits",0]
[2021,"January 1, 2020 - December 31, 2020",null,"Wasaga Distribution Inc.","Administrative and General Expenses","5660","General Advertising Expenses",0]
[2021,"January 1, 2020 - December 31, 2020",null,"Wasaga Distribution Inc.","Billing and Collecting","5330","Collection Charges",952.61]
[2021,"January 1, 2020 - December 31, 2020",null,"Wasaga Distribution Inc.","Distribution Expenses - Operation","5016","Distribution Station Equipment - Operation Labour",21196.81]
[2021,"January 1, 2020 - December 31, 2020",null,"Wasaga Distribution Inc.","Distribution Expenses – Maintenance","5105","Maintenance Supervision and Engineering",88358.04]
[2021,"January 1, 2020 - December 31, 2020",null,"Wasaga Distribution Inc.","Distribution Expenses – Maintenance","5175","Maintenance of Meters",33546.720000000001]
[2021,"January 1, 2020 - December 31, 2020",null,"Wasaga Distribution Inc.","Other Expenses","5210","Transmission Charges",0]
[2021,"January 1, 2020 - December 31, 2020",null,"Waterloo North Hydro Inc.","Administrative and General Expenses","5645","OMERS Pensions and Benefits",0]
[2021,"January 1, 2020 - December 31, 2020",null,"Waterloo North Hydro Inc.","Billing and Collecting","5305","Supervision",162563]
[2021,"January 1, 2020 - December 31, 2020",null,"Waterloo North Hydro Inc.","Distribution Expenses - Operation","5015","Transformer Station Equipment - Operation Supplies and Expenses",64959]
[2021,"January 1, 2020 - December 31, 2020",null,"Waterloo North Hydro Inc.","Distribution Expenses - Operation","5085","Miscellaneous Distribution Expense",981932]
[2021,"January 1, 2020 - December 31, 2020",null,"Waterloo North Hydro Inc.","Distribution Expenses – Maintenance","5155","Maintenance of Underground Services",325339]
[2021,"January 1, 2020 - December 31, 2020",null,"Welland Hydro-Electric System Corp.","Administrative and General Expenses","5520","Miscellaneous Sales Expense",0]
[2021,"January 1, 2020 - December 31, 2020",null,"Welland Hydro-Electric System Corp.","Administrative and General Expenses","5615","General Administrative Salaries and Expenses",356765.3]
[2021,"January 1, 2020 - December 31, 2020",null,"Welland Hydro-Electric System Corp.","Administrative and General Expenses","5695","OM&A Contra",0]
[2021,"January 1, 2020 - December 31, 2020",null,"Welland Hydro-Electric System Corp.","Community Relations","5425","Miscellaneous Customer Service and Informational Expenses",0]
[2021,"January 1, 2020 - December 31, 2020",null,"Welland Hydro-Electric System Corp.","Distribution Expenses - Operation","5050","Underground Subtransmission Feeders - Operation",0]
[2021,"January 1, 2020 - December 31, 2020",null,"Welland Hydro-Electric System Corp.","Distribution Expenses - Operation","5075","Customer Premises - Materials and Expenses",0]
[2021,"January 1, 2020 - December 31, 2020",null,"Welland Hydro-Electric System Corp.","Distribution Expenses – Maintenance","5150","Maintenance of Underground Conductors and Devices",176970.61]
[2021,"January 1, 2020 - December 31, 2020",null,"Wellington North Power Inc.","Administrative and General Expenses","5610","Management Salaries and Expenses",102834.21]
[2021,"January 1, 2020 - December 31, 2020",null,"Wellington North Power Inc.","Administrative and General Expenses","5672","Lease Payment Expense",0]
[2021,"January 1, 2020 - December 31, 2020",null,"Wellington North Power Inc.","Billing and Collecting Total",null,null,408889.25]
[2021,"January 1, 2020 - December 31, 2020",null,"Wellington North Power Inc.","Distribution Expenses - Operation","5045","Underground Distribution Lines and Feeders - Operation Supplies and Expenses",4261.96]
[2021,"January 1, 2020 - December 31, 2020",null,"Wellington North Power Inc.","Distribution Expenses - Operation","5050","Underground Subtransmission Feeders - Operation",0]
[2021,"January 1, 2020 - December 31, 2020",null,"Wellington North Power Inc.","Distribution Expenses – Maintenance","5120","Maintenance of Poles, Towers and Fixtures",17354.16]
[2021,"January 1, 2020 - December 31, 2020",null,"Westario Power Inc.","Administrative and General Expenses","5505","Supervision",0]
[2021,"January 1, 2020 - December 31, 2020",null,"Westario Power Inc.","Administrative and General Expenses","5650","Franchise Requirements",0]
[2021,"January 1, 2020 - December 31, 2020",null,"Westario Power Inc.","Billing and Collecting","5340","Miscellaneous Customer Accounts Expenses",0]
[2021,"January 1, 2020 - December 31, 2020",null,"Westario Power Inc.","Distribution Expenses - Operation","5020","Overhead Distribution Lines and Feeders - Operation Labour",120228.61]
[2021,"January 1, 2020 - December 31, 2020",null,"Westario Power Inc.","Distribution Expenses - Operation","5025","Overhead Distribution Lines and Feeders - Operation Supplies and Expenses",0]
[2021,"January 1, 2020 - December 31, 2020",null,"Westario Power Inc.","Distribution Expenses – Maintenance","5114","Maintenance of Distribution Station Equipment",282162.63]
[2021,"January 1, 2020 - December 31, 2020",null,"Westario Power Inc.","Distribution Expenses – Maintenance Total",null,null,1496436]
[2017,"January 1, 2016 - December 31, 2016","Algoma Power Inc. Community Relations 2016","Algoma Power Inc.","Community Relations",32308.39]
[2017,"January 1, 2016 - December 31, 2016","Brantford Power Inc. Distribution Expenses - Operation 2016","Brantford Power Inc.","Distribution Expenses - Operation",1693709.94]
[2017,"January 1, 2016 - December 31, 2016","Centre Wellington Hydro Ltd. Administrative and General Expenses 2016","Centre Wellington Hydro Ltd.","Administrative and General Expenses",952808.07,3929.75]
[2017,"January 1, 2016 - December 31, 2016","Centre Wellington Hydro Ltd. Other Expenses 2016","Centre Wellington Hydro Ltd.","Other Expenses",0]
[2017,"January 1, 2016 - December 31, 2016","E.L.K. Energy Inc. Community Relations 2016","E.L.K. Energy Inc.","Community Relations",7584.86]
[2017,"January 1, 2016 - December 31, 2016","EPCOR Electricity Distribution Ontario Inc. Other Expenses 2016","EPCOR Electricity Distribution Ontario Inc.","Other Expenses",0]
[2017,"January 1, 2016 - December 31, 2016","Entegrus Powerlines Inc. Administrative and General Expenses 2016","Entegrus Powerlines Inc.","Administrative and General Expenses",3916863.38,23053.9]
[2017,"January 1, 2016 - December 31, 2016","Essex Powerlines Corporation Distribution Expenses - Operation 2016","Essex Powerlines Corporation","Distribution Expenses - Operation",1050289.2850800001]
[2017,"January 1, 2016 - December 31, 2016","Festival Hydro Inc. Community Relations 2016","Festival Hydro Inc.","Community Relations",9900.0300000000007]
[2017,"January 1, 2016 - December 31, 2016","Greater Sudbury Hydro Inc. Other Expenses 2016","Greater Sudbury Hydro Inc.","Other Expenses",0]
[2017,"January 1, 2016 - December 31, 2016","Haldimand County Hydro Inc. Community Relations 2016","Haldimand County Hydro Inc.","Community Relations",33105.72]
[2017,"January 1, 2016 - December 31, 2016","Horizon Utilities Corporation Other Expenses 2016","Horizon Utilities Corporation","Other Expenses",0]
[2017,"January 1, 2016 - December 31, 2016","Hydro Hawkesbury Inc. Other Expenses 2016","Hydro Hawkesbury Inc.","Other Expenses",0]
[2017,"January 1, 2016 - December 31, 2016","Hydro One Remote Communities Inc. Community Relations 2016","Hydro One Remote Communities Inc.","Community Relations",138375.51999999999]
[2017,"January 1, 2016 - December 31, 2016","Hydro Ottawa Limited Billing and Collecting 2016","Hydro Ottawa Limited","Billing and Collecting",12593747.4]
[2017,"January 1, 2016 - December 31, 2016","Kenora Hydro Electric Corporation Ltd. Distribution Expenses – Maintenance 2016","Kenora Hydro Electric Corporation Ltd.","Distribution Expenses – Maintenance",570654]
[2017,"January 1, 2016 - December 31, 2016","Lakefront Utilities Inc. Other Expenses 2016","Lakefront Utilities Inc.","Other Expenses",0]
[2017,"January 1, 2016 - December 31, 2016","Midland Power Utility Corporation Community Relations 2016","Midland Power Utility Corporation","Community Relations",37660.35]
[2017,"January 1, 2016 - December 31, 2016","Newmarket-Tay Power Distribution Ltd. Other Expenses 2016","Newmarket-Tay Power Distribution Ltd.","Other Expenses",0]
[2017,"January 1, 2016 - December 31, 2016","Niagara Peninsula Energy Inc. Distribution Expenses – Maintenance 2016","Niagara Peninsula Energy Inc.","Distribution Expenses – Maintenance",2203115.31]
[2017,"January 1, 2016 - December 31, 2016","Northern Ontario Wires Inc. Billing and Collecting 2016","Northern Ontario Wires Inc.","Billing and Collecting",704770.35]
[2017,"January 1, 2016 - December 31, 2016","Orangeville Hydro Limited Distribution Expenses – Maintenance 2016","Orangeville Hydro Limited","Distribution Expenses – Maintenance",501000.79]
[2017,"January 1, 2016 - December 31, 2016","Ottawa River Power Corporation Other Expenses 2016","Ottawa River Power Corporation","Other Expenses",0]
[2017,"January 1, 2016 - December 31, 2016","Renfrew Hydro Inc. Community Relations 2016","Renfrew Hydro Inc.","Community Relations",6028.4]
[2017,"January 1, 2016 - December 31, 2016","Rideau St. Lawrence Distribution Inc. Billing and Collecting 2016","Rideau St. Lawrence Distribution Inc.","Billing and Collecting",526212.42000000004]
[2017,"January 1, 2016 - December 31, 2016","St. Thomas Energy Inc. Distribution Expenses – Maintenance 2016","St. Thomas Energy Inc.","Distribution Expenses – Maintenance",310047.65000000002]
[2017,"January 1, 2016 - December 31, 2016","Toronto Hydro-Electric System Limited Billing and Collecting 2016","Toronto Hydro-Electric System Limited","Billing and Collecting",34967757.950000003]
[2017,"January 1, 2016 - December 31, 2016","Waterloo North Hydro Inc. Community Relations 2016","Waterloo North Hydro Inc.","Community Relations",104616]
[2017,"January 1, 2016 - December 31, 2016","Wellington North Power Inc. Other Expenses 2016","Wellington North Power Inc.","Other Expenses",0]
[2017,"January 1, 2016 - December 31, 2016","West Coast Huron Energy Inc. Distribution Expenses – Maintenance 2016","West Coast Huron Energy Inc.","Distribution Expenses – Maintenance",297310]
[2018,"January 1, 2017 - December 31, 2017","1937680 Ontario Inc. Billing and Collecting 2017","1937680 Ontario Inc.","Billing and Collecting",2290821.63]
[2018,"January 1, 2017 - December 31, 2017","Algoma Power Inc. Distribution Expenses – Maintenance 2017","Algoma Power Inc.","Distribution Expenses – Maintenance",5263561.9000000004]
[2018,"January 1, 2017 - December 31, 2017","Brantford Power Inc. Other Expenses 2017","Brantford Power Inc.","Other Expenses",0]
[2018,"January 1, 2017 - December 31, 2017","Centre Wellington Hydro Ltd. Community Relations 2017","Centre Wellington Hydro Ltd.","Community Relations",50372.23]
[2018,"January 1, 2017 - December 31, 2017","Cooperative Hydro Embrun Inc. Other Expenses 2017","Cooperative Hydro Embrun Inc.","Other Expenses",0]
[2018,"January 1, 2017 - December 31, 2017","E.L.K. Energy Inc. Distribution Expenses – Maintenance 2017","E.L.K. Energy Inc.","Distribution Expenses – Maintenance",626093.73]
[2018,"January 1, 2017 - December 31, 2017","ERTH Power Corporation Billing and Collecting 2017","ERTH Power Corporation","Billing and Collecting",1079615.73]
[2018,"January 1, 2017 - December 31, 2017","Espanola Regional Hydro Distribution Corporation Community Relations 2017","Espanola Regional Hydro Distribution Corporation","Community Relations",0]
[2018,"January 1, 2017 - December 31, 2017","Festival Hydro Inc. Other Expenses 2017","Festival Hydro Inc.","Other Expenses",0]
[2018,"January 1, 2017 - December 31, 2017","Grimsby Power Incorporated Community Relations 2017","Grimsby Power Incorporated","Community Relations",0]
[2018,"January 1, 2017 - December 31, 2017","Hearst Power Distribution Company Limited Distribution Expenses - Operation 2017","Hearst Power Distribution Company Limited","Distribution Expenses - Operation",180411.94]
[2018,"January 1, 2017 - December 31, 2017","Hydro Hawkesbury Inc. Billing and Collecting 2017","Hydro Hawkesbury Inc.","Billing and Collecting",406769.84]
[2018,"January 1, 2017 - December 31, 2017","Hydro One Networks Inc. Distribution Expenses – Maintenance 2017","Hydro One Networks Inc.","Distribution Expenses – Maintenance",229459766.16999999]
[2018,"January 1, 2017 - December 31, 2017","Innpower Corporation Billing and Collecting 2017","Innpower Corporation","Billing and Collecting",1016438]
[2018,"January 1, 2017 - December 31, 2017","Kingston Hydro Corporation Distribution Expenses – Maintenance 2017","Kingston Hydro Corporation","Distribution Expenses – Maintenance",1445415]
[2018,"January 1, 2017 - December 31, 2017","Lakeland Power Distribution Ltd. Other Expenses 2017","Lakeland Power Distribution Ltd.","Other Expenses",0]
[2018,"January 1, 2017 - December 31, 2017","Milton Hydro Distribution Inc. Community Relations 2017","Milton Hydro Distribution Inc.","Community Relations",14094]
[2018,"January 1, 2017 - December 31, 2017","Milton Hydro Distribution Inc. Distribution Expenses - Operation 2017","Milton Hydro Distribution Inc.","Distribution Expenses - Operation",2239574]
[2018,"January 1, 2017 - December 31, 2017","Niagara-on-the-Lake Hydro Inc. Distribution Expenses – Maintenance 2017","Niagara-on-the-Lake Hydro Inc.","Distribution Expenses – Maintenance",414736.52]
[2018,"January 1, 2017 - December 31, 2017","Oakville Hydro Electricity Distribution Inc. Billing and Collecting 2017","Oakville Hydro Electricity Distribution Inc.","Billing and Collecting",2515115.83]
[2018,"January 1, 2017 - December 31, 2017","Oshawa PUC Networks Inc. Community Relations 2017","Oshawa PUC Networks Inc.","Community Relations",1191229.6399999999]
[2018,"January 1, 2017 - December 31, 2017","PUC Distribution Inc. Other Expenses 2017","PUC Distribution Inc.","Other Expenses",0]
[2018,"January 1, 2017 - December 31, 2017","Sioux Lookout Hydro Inc. Community Relations 2017","Sioux Lookout Hydro Inc.","Community Relations",0]
[2018,"January 1, 2017 - December 31, 2017","St. Thomas Energy Inc. Billing and Collecting 2017","St. Thomas Energy Inc.","Billing and Collecting",962691.16]
[2018,"January 1, 2017 - December 31, 2017","Tillsonburg Hydro Inc. Distribution Expenses – Maintenance 2017","Tillsonburg Hydro Inc.","Distribution Expenses – Maintenance",110750.84]
[2018,"January 1, 2017 - December 31, 2017","Wasaga Distribution Inc. Billing and Collecting 2017","Wasaga Distribution Inc.","Billing and Collecting",1068055.95]
[2018,"January 1, 2017 - December 31, 2017","Wellington North Power Inc. Community Relations 2017","Wellington North Power Inc.","Community Relations",6835.4]
[2018,"January 1, 2017 - December 31, 2017","Westario Power Inc. Other Expenses 2017","Westario Power Inc.","Other Expenses",0]
[2018,"January 1, 2017 - December 31, 2017","Whitby Hydro Electric Corporation Distribution Expenses – Maintenance 2017","Whitby Hydro Electric Corporation","Distribution Expenses – Maintenance",1805771.42]
[2019,"January 1, 2018 - December 31, 2018","Algoma Power Inc. Billing and Collecting 2018","Algoma Power Inc.","Billing and Collecting",919932.88]
[2019,"January 1, 2018 - December 31, 2018","Bluewater Power Distribution Corporation Distribution Expenses – Maintenance 2018","Bluewater Power Distribution Corporation","Distribution Expenses – Maintenance",198065]
[2019,"January 1, 2018 - December 31, 2018","Canadian Niagara Power Inc. Other Expenses 2018","Canadian Niagara Power Inc.","Other Expenses",0]
[2019,"January 1, 2018 - December 31, 2018","Cooperative Hydro Embrun Inc. Community Relations 2018","Cooperative Hydro Embrun Inc.","Community Relations",2749.67]
[2019,"January 1, 2018 - December 31, 2018","E.L.K. Energy Inc. Billing and Collecting 2018","E.L.K. Energy Inc.","Billing and Collecting",719649.17]
[2019,"January 1, 2018 - December 31, 2018","EPCOR Electricity Distribution Ontario Inc. Distribution Expenses – Maintenance 2018","EPCOR Electricity Distribution Ontario Inc.","Distribution Expenses – Maintenance",1424249.23]
[2019,"January 1, 2018 - December 31, 2018","Entegrus Powerlines Inc. Billing and Collecting 2018","Entegrus Powerlines Inc.","Billing and Collecting",3919269.64]
[2019,"January 1, 2018 - December 31, 2018","Festival Hydro Inc. Community Relations 2018","Festival Hydro Inc.","Community Relations",9745.07]
[2019,"January 1, 2018 - December 31, 2018","Greater Sudbury Hydro Inc. Other Expenses 2018","Greater Sudbury Hydro Inc.","Other Expenses",0]
[2019,"January 1, 2018 - December 31, 2018","Halton Hills Hydro Inc. Community Relations 2018","Halton Hills Hydro Inc.","Community Relations",386]
[2019,"January 1, 2018 - December 31, 2018","Hearst Power Distribution Company Limited Billing and Collecting 2018","Hearst Power Distribution Company Limited","Billing and Collecting",289860.84999999998]
[2019,"January 1, 2018 - December 31, 2018","Hydro Hawkesbury Inc. Distribution Expenses – Maintenance 2018","Hydro Hawkesbury Inc.","Distribution Expenses – Maintenance",189516.41]
[2019,"January 1, 2018 - December 31, 2018","Hydro One Remote Communities Inc. Other Expenses 2018","Hydro One Remote Communities Inc.","Other Expenses",0]
[2019,"January 1, 2018 - December 31, 2018","Kingston Hydro Corporation Billing and Collecting 2018","Kingston Hydro Corporation","Billing and Collecting",745052]
[2019,"January 1, 2018 - December 31, 2018","Lakefront Utilities Inc. Distribution Expenses – Maintenance 2018","Lakefront Utilities Inc.","Distribution Expenses – Maintenance",343942.15]
[2019,"January 1, 2018 - December 31, 2018","Lakeland Power Distribution Ltd. Distribution Expenses - Operation 2018","Lakeland Power Distribution Ltd.","Distribution Expenses - Operation",353649.14]
[2019,"January 1, 2018 - December 31, 2018","Newmarket-Tay Power Distribution Ltd. Administrative and General Expenses 2018","Newmarket-Tay Power Distribution Ltd.","Administrative and General Expenses",5535262.79,23839]
[2019,"January 1, 2018 - December 31, 2018","North Bay Hydro Distribution Limited Billing and Collecting 2018","North Bay Hydro Distribution Limited","Billing and Collecting",1258639.44]
[2019,"January 1, 2018 - December 31, 2018","Oakville Hydro Electricity Distribution Inc. Distribution Expenses – Maintenance 2018","Oakville Hydro Electricity Distribution Inc.","Distribution Expenses – Maintenance",1876157.72]
[2019,"January 1, 2018 - December 31, 2018","Oshawa PUC Networks Inc. Billing and Collecting 2018","Oshawa PUC Networks Inc.","Billing and Collecting",2478411]
[2019,"January 1, 2018 - December 31, 2018","Ottawa River Power Corporation Administrative and General Expenses 2018","Ottawa River Power Corporation","Administrative and General Expenses",1071973.8400000001,5201]
[2019,"January 1, 2018 - December 31, 2018","Renfrew Hydro Inc. Distribution Expenses - Operation 2018","Renfrew Hydro Inc.","Distribution Expenses - Operation",320778.15999999997]
[2019,"January 1, 2018 - December 31, 2018","Thunder Bay Hydro Electricity Distribution Inc. Administrative and General Expenses 2018","Thunder Bay Hydro Electricity Distribution Inc.","Administrative and General Expenses",5108259.9000000004,29059]
[2019,"January 1, 2018 - December 31, 2018","Veridian Connections Inc. Billing and Collecting 2018","Veridian Connections Inc.","Billing and Collecting",5825949]
[2019,"January 1, 2018 - December 31, 2018","Waterloo North Hydro Inc. Distribution Expenses – Maintenance 2018","Waterloo North Hydro Inc.","Distribution Expenses – Maintenance",1963196]
[2019,"January 1, 2018 - December 31, 2018","West Coast Huron Energy Inc. Other Expenses 2018","West Coast Huron Energy Inc.","Other Expenses",0]
[2019,"January 1, 2018 - December 31, 2018","Westario Power Inc. Administrative and General Expenses 2018","Westario Power Inc.","Administrative and General Expenses",2625751.77,25000]
[2020,"January 1, 2019 - December 31, 2019","1937680 Ontario Inc. Distribution Expenses - Operation 2019","1937680 Ontario Inc.","Distribution Expenses - Operation",2566914.6]
[2020,"January 1, 2019 - December 31, 2019","Atikokan Hydro Inc. Distribution Expenses – Maintenance 2019","Atikokan Hydro Inc.","Distribution Expenses – Maintenance",99359.35]
[2020,"January 1, 2019 - December 31, 2019","Burlington Hydro Inc. Billing and Collecting 2019","Burlington Hydro Inc.","Billing and Collecting",2278861.48]
[2020,"January 1, 2019 - December 31, 2019","Centre Wellington Hydro Ltd. Distribution Expenses – Maintenance 2019","Centre Wellington Hydro Ltd.","Distribution Expenses – Maintenance",503991.66]
[2020,"January 1, 2019 - December 31, 2019","E.L.K. Energy Inc. Other Expenses 2019","E.L.K. Energy Inc.","Other Expenses",0]
[2020,"January 1, 2019 - December 31, 2019","ENWIN Utilities Ltd. Administrative and General Expenses 2019","ENWIN Utilities Ltd.","Administrative and General Expenses",13035766.9,56760]
[2020,"January 1, 2019 - December 31, 2019","Elexicon Energy Inc. Billing and Collecting 2019","Elexicon Energy Inc.","Billing and Collecting",7534069.1500000004]
[2020,"January 1, 2019 - December 31, 2019","Entegrus Powerlines Inc. Distribution Expenses – Maintenance 2019","Entegrus Powerlines Inc.","Distribution Expenses – Maintenance",2616736.41]
[2020,"January 1, 2019 - December 31, 2019","Festival Hydro Inc. Billing and Collecting 2019","Festival Hydro Inc.","Billing and Collecting",1259372.8400000001]
[2020,"January 1, 2019 - December 31, 2019","Grimsby Power Incorporated Community Relations 2019","Grimsby Power Incorporated","Community Relations",0]
[2020,"January 1, 2019 - December 31, 2019","Hearst Power Distribution Company Limited Other Expenses 2019","Hearst Power Distribution Company Limited","Other Expenses",0]
[2020,"January 1, 2019 - December 31, 2019","Hydro 2000 Inc. Distribution Expenses – Maintenance 2019","Hydro 2000 Inc.","Distribution Expenses – Maintenance",28068.1]
[2020,"January 1, 2019 - December 31, 2019","Hydro One Remote Communities Inc. Billing and Collecting 2019","Hydro One Remote Communities Inc.","Billing and Collecting",1982172.55]
[2020,"January 1, 2019 - December 31, 2019","Innpower Corporation Distribution Expenses – Maintenance 2019","Innpower Corporation","Distribution Expenses – Maintenance",652489.39]
[2020,"January 1, 2019 - December 31, 2019","Lakefront Utilities Inc. Other Expenses 2019","Lakefront Utilities Inc.","Other Expenses",0]
[2020,"January 1, 2019 - December 31, 2019","Milton Hydro Distribution Inc. Community Relations 2019","Milton Hydro Distribution Inc.","Community Relations",9650]
[2020,"January 1, 2019 - December 31, 2019","Milton Hydro Distribution Inc. Distribution Expenses – Maintenance 2019","Milton Hydro Distribution Inc.","Distribution Expenses – Maintenance",1512621]
[2020,"January 1, 2019 - December 31, 2019","Milton Hydro Distribution Inc. Other Expenses 2019","Milton Hydro Distribution Inc.","Other Expenses",0]
[2020,"January 1, 2019 - December 31, 2019","Newmarket-Tay Power Distribution Ltd. Administrative and General Expenses 2019","Newmarket-Tay Power Distribution Ltd.","Administrative and General Expenses",5475798.5199999996,24800]
[2020,"January 1, 2019 - December 31, 2019","Newmarket-Tay Power Distribution Ltd. Billing and Collecting 2019","Newmarket-Tay Power Distribution Ltd.","Billing and Collecting",2589765.15]
[2020,"January 1, 2019 - December 31, 2019","Newmarket-Tay Power Distribution Ltd. Community Relations 2019","Newmarket-Tay Power Distribution Ltd.","Community Relations",148270.51]
[2020,"January 1, 2019 - December 31, 2019","Newmarket-Tay Power Distribution Ltd. Distribution Expenses - Operation 2019","Newmarket-Tay Power Distribution Ltd.","Distribution Expenses - Operation",2556655.89]
[2020,"January 1, 2019 - December 31, 2019","Newmarket-Tay Power Distribution Ltd. Distribution Expenses – Maintenance 2019","Newmarket-Tay Power Distribution Ltd.","Distribution Expenses – Maintenance",1928682.73]
[2020,"January 1, 2019 - December 31, 2019","Newmarket-Tay Power Distribution Ltd. Other Expenses 2019","Newmarket-Tay Power Distribution Ltd.","Other Expenses",0]
[2020,"January 1, 2019 - December 31, 2019","Niagara Peninsula Energy Inc. Administrative and General Expenses 2019","Niagara Peninsula Energy Inc.","Administrative and General Expenses",5051301.4800000004,37166]
[2020,"January 1, 2019 - December 31, 2019","Niagara Peninsula Energy Inc. Billing and Collecting 2019","Niagara Peninsula Energy Inc.","Billing and Collecting",5966076.21]
[2020,"January 1, 2019 - December 31, 2019","Niagara Peninsula Energy Inc. Community Relations 2019","Niagara Peninsula Energy Inc.","Community Relations",133275.75]
[2020,"January 1, 2019 - December 31, 2019","Niagara Peninsula Energy Inc. Distribution Expenses - Operation 2019","Niagara Peninsula Energy Inc.","Distribution Expenses - Operation",4985677.1100000003]
[2020,"January 1, 2019 - December 31, 2019","Niagara Peninsula Energy Inc. Distribution Expenses – Maintenance 2019","Niagara Peninsula Energy Inc.","Distribution Expenses – Maintenance",2678573.4900000002]
[2020,"January 1, 2019 - December 31, 2019","Niagara Peninsula Energy Inc. Other Expenses 2019","Niagara Peninsula Energy Inc.","Other Expenses",0]
[2020,"January 1, 2019 - December 31, 2019","Niagara-on-the-Lake Hydro Inc. Administrative and General Expenses 2019","Niagara-on-the-Lake Hydro Inc.","Administrative and General Expenses",1157658.73,6865.82]
[2020,"January 1, 2019 - December 31, 2019","Niagara-on-the-Lake Hydro Inc. Billing and Collecting 2019","Niagara-on-the-Lake Hydro Inc.","Billing and Collecting",520424.96000000002]
[2020,"January 1, 2019 - December 31, 2019","Niagara-on-the-Lake Hydro Inc. Community Relations 2019","Niagara-on-the-Lake Hydro Inc.","Community Relations",656.49]
[2020,"January 1, 2019 - December 31, 2019","Niagara-on-the-Lake Hydro Inc. Distribution Expenses - Operation 2019","Niagara-on-the-Lake Hydro Inc.","Distribution Expenses - Operation",623207.24]
[2020,"January 1, 2019 - December 31, 2019","Niagara-on-the-Lake Hydro Inc. Distribution Expenses – Maintenance 2019","Niagara-on-the-Lake Hydro Inc.","Distribution Expenses – Maintenance",521538.33]
[2020,"January 1, 2019 - December 31, 2019","Niagara-on-the-Lake Hydro Inc. Other Expenses 2019","Niagara-on-the-Lake Hydro Inc.","Other Expenses",0]
[2020,"January 1, 2019 - December 31, 2019","North Bay Hydro Distribution Limited Administrative and General Expenses 2019","North Bay Hydro Distribution Limited","Administrative and General Expenses",2791842.88,15560.49]
[2020,"January 1, 2019 - December 31, 2019","North Bay Hydro Distribution Limited Billing and Collecting 2019","North Bay Hydro Distribution Limited","Billing and Collecting",1142030.47]
[2020,"January 1, 2019 - December 31, 2019","North Bay Hydro Distribution Limited Community Relations 2019","North Bay Hydro Distribution Limited","Community Relations",0]
[2020,"January 1, 2019 - December 31, 2019","North Bay Hydro Distribution Limited Distribution Expenses - Operation 2019","North Bay Hydro Distribution Limited","Distribution Expenses - Operation",925842.47]
[2020,"January 1, 2019 - December 31, 2019","North Bay Hydro Distribution Limited Distribution Expenses – Maintenance 2019","North Bay Hydro Distribution Limited","Distribution Expenses – Maintenance",1829166]
[2020,"January 1, 2019 - December 31, 2019","North Bay Hydro Distribution Limited Other Expenses 2019","North Bay Hydro Distribution Limited","Other Expenses",0]
[2020,"January 1, 2019 - December 31, 2019","Northern Ontario Wires Inc. Administrative and General Expenses 2019","Northern Ontario Wires Inc.","Administrative and General Expenses",596750.75,4093]
[2020,"January 1, 2019 - December 31, 2019","Northern Ontario Wires Inc. Billing and Collecting 2019","Northern Ontario Wires Inc.","Billing and Collecting",757347.74]
[2020,"January 1, 2019 - December 31, 2019","Northern Ontario Wires Inc. Community Relations 2019","Northern Ontario Wires Inc.","Community Relations",0]
[2020,"January 1, 2019 - December 31, 2019","Northern Ontario Wires Inc. Distribution Expenses - Operation 2019","Northern Ontario Wires Inc.","Distribution Expenses - Operation",927457.79]
[2020,"January 1, 2019 - December 31, 2019","Northern Ontario Wires Inc. Distribution Expenses – Maintenance 2019","Northern Ontario Wires Inc.","Distribution Expenses – Maintenance",488483.64]
[2020,"January 1, 2019 - December 31, 2019","Northern Ontario Wires Inc. Other Expenses 2019","Northern Ontario Wires Inc.","Other Expenses",0]
[2020,"January 1, 2019 - December 31, 2019","Oakville Hydro Electricity Distribution Inc. Administrative and General Expenses 2019","Oakville Hydro Electricity Distribution Inc.","Administrative and General Expenses",6387722.2400000002,45350]
[2020,"January 1, 2019 - December 31, 2019","Oakville Hydro Electricity Distribution Inc. Billing and Collecting 2019","Oakville Hydro Electricity Distribution Inc.","Billing and Collecting",3149243.26]
[2020,"January 1, 2019 - December 31, 2019","Oakville Hydro Electricity Distribution Inc. Community Relations 2019","Oakville Hydro Electricity Distribution Inc.","Community Relations",258690.37]
[2020,"January 1, 2019 - December 31, 2019","Oakville Hydro Electricity Distribution Inc. Distribution Expenses - Operation 2019","Oakville Hydro Electricity Distribution Inc.","Distribution Expenses - Operation",7384102.2199999997]
[2020,"January 1, 2019 - December 31, 2019","Oakville Hydro Electricity Distribution Inc. Distribution Expenses – Maintenance 2019","Oakville Hydro Electricity Distribution Inc.","Distribution Expenses – Maintenance",1302581.78]
[2020,"January 1, 2019 - December 31, 2019","Oakville Hydro Electricity Distribution Inc. Other Expenses 2019","Oakville Hydro Electricity Distribution Inc.","Other Expenses",0]
[2020,"January 1, 2019 - December 31, 2019","Orangeville Hydro Limited Administrative and General Expenses 2019","Orangeville Hydro Limited","Administrative and General Expenses",1646194.47,6258.6]
[2020,"January 1, 2019 - December 31, 2019","Orangeville Hydro Limited Billing and Collecting 2019","Orangeville Hydro Limited","Billing and Collecting",807700.37]
[2020,"January 1, 2019 - December 31, 2019","Orangeville Hydro Limited Community Relations 2019","Orangeville Hydro Limited","Community Relations",22928.57]
[2020,"January 1, 2019 - December 31, 2019","Orangeville Hydro Limited Distribution Expenses - Operation 2019","Orangeville Hydro Limited","Distribution Expenses - Operation",525906.39]
[2020,"January 1, 2019 - December 31, 2019","Orangeville Hydro Limited Distribution Expenses – Maintenance 2019","Orangeville Hydro Limited","Distribution Expenses – Maintenance",433084.58]
[2020,"January 1, 2019 - December 31, 2019","Orangeville Hydro Limited Other Expenses 2019","Orangeville Hydro Limited","Other Expenses",0]
[2020,"January 1, 2019 - December 31, 2019","Orillia Power Distribution Corporation Administrative and General Expenses 2019","Orillia Power Distribution Corporation","Administrative and General Expenses",1588029,9200]
[2020,"January 1, 2019 - December 31, 2019","Orillia Power Distribution Corporation Billing and Collecting 2019","Orillia Power Distribution Corporation","Billing and Collecting",1197973]
[2020,"January 1, 2019 - December 31, 2019","Orillia Power Distribution Corporation Community Relations 2019","Orillia Power Distribution Corporation","Community Relations",39648]
[2020,"January 1, 2019 - December 31, 2019","Orillia Power Distribution Corporation Distribution Expenses - Operation 2019","Orillia Power Distribution Corporation","Distribution Expenses - Operation",1103884]
[2020,"January 1, 2019 - December 31, 2019","Orillia Power Distribution Corporation Distribution Expenses – Maintenance 2019","Orillia Power Distribution Corporation","Distribution Expenses – Maintenance",1095091]
[2020,"January 1, 2019 - December 31, 2019","Orillia Power Distribution Corporation Other Expenses 2019","Orillia Power Distribution Corporation","Other Expenses",0]
[2020,"January 1, 2019 - December 31, 2019","Oshawa PUC Networks Inc. Administrative and General Expenses 2019","Oshawa PUC Networks Inc.","Administrative and General Expenses",6516450.8200000003,32192]
[2020,"January 1, 2019 - December 31, 2019","Oshawa PUC Networks Inc. Billing and Collecting 2019","Oshawa PUC Networks Inc.","Billing and Collecting",2175967.02]
[2020,"January 1, 2019 - December 31, 2019","Oshawa PUC Networks Inc. Community Relations 2019","Oshawa PUC Networks Inc.","Community Relations",1166681.3799999999]
[2020,"January 1, 2019 - December 31, 2019","Oshawa PUC Networks Inc. Distribution Expenses - Operation 2019","Oshawa PUC Networks Inc.","Distribution Expenses - Operation",1995035]
[2020,"January 1, 2019 - December 31, 2019","Oshawa PUC Networks Inc. Distribution Expenses – Maintenance 2019","Oshawa PUC Networks Inc.","Distribution Expenses – Maintenance",1019828]
[2020,"January 1, 2019 - December 31, 2019","Oshawa PUC Networks Inc. Other Expenses 2019","Oshawa PUC Networks Inc.","Other Expenses",0]
[2020,"January 1, 2019 - December 31, 2019","Ottawa River Power Corporation Administrative and General Expenses 2019","Ottawa River Power Corporation","Administrative and General Expenses",1383559.21,5199.96]
[2020,"January 1, 2019 - December 31, 2019","Ottawa River Power Corporation Billing and Collecting 2019","Ottawa River Power Corporation","Billing and Collecting",748224.19]
[2020,"January 1, 2019 - December 31, 2019","Ottawa River Power Corporation Community Relations 2019","Ottawa River Power Corporation","Community Relations",64256.95]
[2020,"January 1, 2019 - December 31, 2019","Ottawa River Power Corporation Distribution Expenses - Operation 2019","Ottawa River Power Corporation","Distribution Expenses - Operation",513327.29]
[2020,"January 1, 2019 - December 31, 2019","Ottawa River Power Corporation Distribution Expenses – Maintenance 2019","Ottawa River Power Corporation","Distribution Expenses – Maintenance",645567.21]
[2020,"January 1, 2019 - December 31, 2019","Ottawa River Power Corporation Other Expenses 2019","Ottawa River Power Corporation","Other Expenses",0]
[2020,"January 1, 2019 - December 31, 2019","PUC Distribution Inc. Administrative and General Expenses 2019","PUC Distribution Inc.","Administrative and General Expenses",2831110.86,26267]
[2020,"January 1, 2019 - December 31, 2019","PUC Distribution Inc. Billing and Collecting 2019","PUC Distribution Inc.","Billing and Collecting",1354435.06]
[2020,"January 1, 2019 - December 31, 2019","PUC Distribution Inc. Community Relations 2019","PUC Distribution Inc.","Community Relations",640859.43999999994]
[2020,"January 1, 2019 - December 31, 2019","PUC Distribution Inc. Distribution Expenses - Operation 2019","PUC Distribution Inc.","Distribution Expenses - Operation",4140941.66]
[2020,"January 1, 2019 - December 31, 2019","PUC Distribution Inc. Distribution Expenses – Maintenance 2019","PUC Distribution Inc.","Distribution Expenses – Maintenance",2150490.12]
[2020,"January 1, 2019 - December 31, 2019","PUC Distribution Inc. Other Expenses 2019","PUC Distribution Inc.","Other Expenses",0]
[2020,"January 1, 2019 - December 31, 2019","Renfrew Hydro Inc. Administrative and General Expenses 2019","Renfrew Hydro Inc.","Administrative and General Expenses",480725.78,2404.13]
[2020,"January 1, 2019 - December 31, 2019","Renfrew Hydro Inc. Billing and Collecting 2019","Renfrew Hydro Inc.","Billing and Collecting",445229.95]
[2020,"January 1, 2019 - December 31, 2019","Renfrew Hydro Inc. Community Relations 2019","Renfrew Hydro Inc.","Community Relations",10241.77]
[2020,"January 1, 2019 - December 31, 2019","Renfrew Hydro Inc. Distribution Expenses - Operation 2019","Renfrew Hydro Inc.","Distribution Expenses - Operation",273099.02]
[2020,"January 1, 2019 - December 31, 2019","Renfrew Hydro Inc. Distribution Expenses – Maintenance 2019","Renfrew Hydro Inc.","Distribution Expenses – Maintenance",149456.35999999999]
[2020,"January 1, 2019 - December 31, 2019","Renfrew Hydro Inc. Other Expenses 2019","Renfrew Hydro Inc.","Other Expenses",0]
[2020,"January 1, 2019 - December 31, 2019","Rideau St. Lawrence Distribution Inc. Administrative and General Expenses 2019","Rideau St. Lawrence Distribution Inc.","Administrative and General Expenses",871129.88,3500]
[2020,"January 1, 2019 - December 31, 2019","Rideau St. Lawrence Distribution Inc. Billing and Collecting 2019","Rideau St. Lawrence Distribution Inc.","Billing and Collecting",535954.4]
[2020,"January 1, 2019 - December 31, 2019","Rideau St. Lawrence Distribution Inc. Community Relations 2019","Rideau St. Lawrence Distribution Inc.","Community Relations",29409.759999999998]
[2020,"January 1, 2019 - December 31, 2019","Rideau St. Lawrence Distribution Inc. Distribution Expenses - Operation 2019","Rideau St. Lawrence Distribution Inc.","Distribution Expenses - Operation",335193.48]
[2020,"January 1, 2019 - December 31, 2019","Rideau St. Lawrence Distribution Inc. Distribution Expenses – Maintenance 2019","Rideau St. Lawrence Distribution Inc.","Distribution Expenses – Maintenance",470617.96]
[2020,"January 1, 2019 - December 31, 2019","Rideau St. Lawrence Distribution Inc. Other Expenses 2019","Rideau St. Lawrence Distribution Inc.","Other Expenses",0]
[2020,"January 1, 2019 - December 31, 2019","Sioux Lookout Hydro Inc. Administrative and General Expenses 2019","Sioux Lookout Hydro Inc.","Administrative and General Expenses",504979.49,2610]
[2020,"January 1, 2019 - December 31, 2019","Sioux Lookout Hydro Inc. Billing and Collecting 2019","Sioux Lookout Hydro Inc.","Billing and Collecting",321324.71000000002]
[2020,"January 1, 2019 - December 31, 2019","Sioux Lookout Hydro Inc. Community Relations 2019","Sioux Lookout Hydro Inc.","Community Relations",0]
[2020,"January 1, 2019 - December 31, 2019","Sioux Lookout Hydro Inc. Distribution Expenses - Operation 2019","Sioux Lookout Hydro Inc.","Distribution Expenses - Operation",576175.15]
[2020,"January 1, 2019 - December 31, 2019","Sioux Lookout Hydro Inc. Distribution Expenses – Maintenance 2019","Sioux Lookout Hydro Inc.","Distribution Expenses – Maintenance",144224.98000000001]
[2020,"January 1, 2019 - December 31, 2019","Sioux Lookout Hydro Inc. Other Expenses 2019","Sioux Lookout Hydro Inc.","Other Expenses",0]
[2020,"January 1, 2019 - December 31, 2019","Synergy North Corporation Administrative and General Expenses 2019","Synergy North Corporation","Administrative and General Expenses",5819041.3799999999,10959.75]
[2020,"January 1, 2019 - December 31, 2019","Synergy North Corporation Billing and Collecting 2019","Synergy North Corporation","Billing and Collecting",2354853.67]
[2020,"January 1, 2019 - December 31, 2019","Synergy North Corporation Community Relations 2019","Synergy North Corporation","Community Relations",76813.08]
[2020,"January 1, 2019 - December 31, 2019","Synergy North Corporation Distribution Expenses - Operation 2019","Synergy North Corporation","Distribution Expenses - Operation",3369004.11]
[2020,"January 1, 2019 - December 31, 2019","Synergy North Corporation Distribution Expenses – Maintenance 2019","Synergy North Corporation","Distribution Expenses – Maintenance",5514648.5300000003]
[2020,"January 1, 2019 - December 31, 2019","Synergy North Corporation Other Expenses 2019","Synergy North Corporation","Other Expenses",0]
[2020,"January 1, 2019 - December 31, 2019","Tillsonburg Hydro Inc. Administrative and General Expenses 2019","Tillsonburg Hydro Inc.","Administrative and General Expenses",1278057.3500000001,0]
[2020,"January 1, 2019 - December 31, 2019","Tillsonburg Hydro Inc. Billing and Collecting 2019","Tillsonburg Hydro Inc.","Billing and Collecting",740167.58]
[2020,"January 1, 2019 - December 31, 2019","Tillsonburg Hydro Inc. Community Relations 2019","Tillsonburg Hydro Inc.","Community Relations",0]
[2020,"January 1, 2019 - December 31, 2019","Tillsonburg Hydro Inc. Distribution Expenses - Operation 2019","Tillsonburg Hydro Inc.","Distribution Expenses - Operation",644866.62]
[2020,"January 1, 2019 - December 31, 2019","Tillsonburg Hydro Inc. Distribution Expenses – Maintenance 2019","Tillsonburg Hydro Inc.","Distribution Expenses – Maintenance",210034.15]
[2020,"January 1, 2019 - December 31, 2019","Tillsonburg Hydro Inc. Other Expenses 2019","Tillsonburg Hydro Inc.","Other Expenses",0]
[2020,"January 1, 2019 - December 31, 2019","Toronto Hydro-Electric System Limited Administrative and General Expenses 2019","Toronto Hydro-Electric System Limited","Administrative and General Expenses",114117142.97,810000]
[2020,"January 1, 2019 - December 31, 2019","Toronto Hydro-Electric System Limited Billing and Collecting 2019","Toronto Hydro-Electric System Limited","Billing and Collecting",33658923.780000001]
[2020,"January 1, 2019 - December 31, 2019","Toronto Hydro-Electric System Limited Community Relations 2019","Toronto Hydro-Electric System Limited","Community Relations",2446484.2599999998]
[2020,"January 1, 2019 - December 31, 2019","Toronto Hydro-Electric System Limited Distribution Expenses - Operation 2019","Toronto Hydro-Electric System Limited","Distribution Expenses - Operation",48274874.920000002]
[2020,"January 1, 2019 - December 31, 2019","Toronto Hydro-Electric System Limited Distribution Expenses – Maintenance 2019","Toronto Hydro-Electric System Limited","Distribution Expenses – Maintenance",63749097]
[2020,"January 1, 2019 - December 31, 2019","Toronto Hydro-Electric System Limited Other Expenses 2019","Toronto Hydro-Electric System Limited","Other Expenses",0]
[2020,"January 1, 2019 - December 31, 2019","Wasaga Distribution Inc. Administrative and General Expenses 2019","Wasaga Distribution Inc.","Administrative and General Expenses",1422720.59,2815.73]
[2020,"January 1, 2019 - December 31, 2019","Wasaga Distribution Inc. Billing and Collecting 2019","Wasaga Distribution Inc.","Billing and Collecting",1138326.25]
[2020,"January 1, 2019 - December 31, 2019","Wasaga Distribution Inc. Community Relations 2019","Wasaga Distribution Inc.","Community Relations",11306.71]
[2020,"January 1, 2019 - December 31, 2019","Wasaga Distribution Inc. Distribution Expenses - Operation 2019","Wasaga Distribution Inc.","Distribution Expenses - Operation",38450.230000000003]
[2020,"January 1, 2019 - December 31, 2019","Wasaga Distribution Inc. Distribution Expenses – Maintenance 2019","Wasaga Distribution Inc.","Distribution Expenses – Maintenance",855276.24]
[2020,"January 1, 2019 - December 31, 2019","Wasaga Distribution Inc. Other Expenses 2019","Wasaga Distribution Inc.","Other Expenses",0]
[2020,"January 1, 2019 - December 31, 2019","Waterloo North Hydro Inc. Administrative and General Expenses 2019","Waterloo North Hydro Inc.","Administrative and General Expenses",3482548,42000]
[2020,"January 1, 2019 - December 31, 2019","Waterloo North Hydro Inc. Billing and Collecting 2019","Waterloo North Hydro Inc.","Billing and Collecting",2966160]
[2020,"January 1, 2019 - December 31, 2019","Waterloo North Hydro Inc. Community Relations 2019","Waterloo North Hydro Inc.","Community Relations",244189]
[2020,"January 1, 2019 - December 31, 2019","Waterloo North Hydro Inc. Distribution Expenses - Operation 2019","Waterloo North Hydro Inc.","Distribution Expenses - Operation",6269001]
[2020,"January 1, 2019 - December 31, 2019","Waterloo North Hydro Inc. Distribution Expenses – Maintenance 2019","Waterloo North Hydro Inc.","Distribution Expenses – Maintenance",1497703]
[2020,"January 1, 2019 - December 31, 2019","Waterloo North Hydro Inc. Other Expenses 2019","Waterloo North Hydro Inc.","Other Expenses",0]
[2020,"January 1, 2019 - December 31, 2019","Welland Hydro-Electric System Corp. Administrative and General Expenses 2019","Welland Hydro-Electric System Corp.","Administrative and General Expenses",1846894.64,13500]
[2020,"January 1, 2019 - December 31, 2019","Welland Hydro-Electric System Corp. Billing and Collecting 2019","Welland Hydro-Electric System Corp.","Billing and Collecting",1320953.42]
[2020,"January 1, 2019 - December 31, 2019","Welland Hydro-Electric System Corp. Community Relations 2019","Welland Hydro-Electric System Corp.","Community Relations",153684.43]
[2020,"January 1, 2019 - December 31, 2019","Welland Hydro-Electric System Corp. Distribution Expenses - Operation 2019","Welland Hydro-Electric System Corp.","Distribution Expenses - Operation",1330026.24]
[2020,"January 1, 2019 - December 31, 2019","Welland Hydro-Electric System Corp. Distribution Expenses – Maintenance 2019","Welland Hydro-Electric System Corp.","Distribution Expenses – Maintenance",2270810.48]
[2020,"January 1, 2019 - December 31, 2019","Welland Hydro-Electric System Corp. Other Expenses 2019","Welland Hydro-Electric System Corp.","Other Expenses",0]
[2020,"January 1, 2019 - December 31, 2019","Wellington North Power Inc. Administrative and General Expenses 2019","Wellington North Power Inc.","Administrative and General Expenses",784856.05,3270.21]
[2020,"January 1, 2019 - December 31, 2019","Wellington North Power Inc. Billing and Collecting 2019","Wellington North Power Inc.","Billing and Collecting",402260.42]
[2020,"January 1, 2019 - December 31, 2019","Wellington North Power Inc. Community Relations 2019","Wellington North Power Inc.","Community Relations",7369.64]
[2020,"January 1, 2019 - December 31, 2019","Wellington North Power Inc. Distribution Expenses - Operation 2019","Wellington North Power Inc.","Distribution Expenses - Operation",407116.83]
[2020,"January 1, 2019 - December 31, 2019","Wellington North Power Inc. Distribution Expenses – Maintenance 2019","Wellington North Power Inc.","Distribution Expenses – Maintenance",214208.63]
[2020,"January 1, 2019 - December 31, 2019","Wellington North Power Inc. Other Expenses 2019","Wellington North Power Inc.","Other Expenses",0]
[2020,"January 1, 2019 - December 31, 2019","Westario Power Inc. Administrative and General Expenses 2019","Westario Power Inc.","Administrative and General Expenses",2803580.83,13357.41]
[2020,"January 1, 2019 - December 31, 2019","Westario Power Inc. Billing and Collecting 2019","Westario Power Inc.","Billing and Collecting",903280.2]
[2020,"January 1, 2019 - December 31, 2019","Westario Power Inc. Community Relations 2019","Westario Power Inc.","Community Relations",53565.78]
[2020,"January 1, 2019 - December 31, 2019","Westario Power Inc. Distribution Expenses - Operation 2019","Westario Power Inc.","Distribution Expenses - Operation",655009.11]
[2020,"January 1, 2019 - December 31, 2019","Westario Power Inc. Distribution Expenses – Maintenance 2019","Westario Power Inc.","Distribution Expenses – Maintenance",1480064.93]
[2020,"January 1, 2019 - December 31, 2019","Westario Power Inc. Other Expenses 2019","Westario Power Inc.","Other Expenses",0]
[2021,"January 1, 2020 - December 31, 2020","1937680 Ontario Inc. Administrative and General Expenses 2020","1937680 Ontario Inc.","Administrative and General Expenses",3066940.95,26850]
[2021,"January 1, 2020 - December 31, 2020","1937680 Ontario Inc. Billing and Collecting 2020","1937680 Ontario Inc.","Billing and Collecting",2379314.2126000002]
[2021,"January 1, 2020 - December 31, 2020","1937680 Ontario Inc. Community Relations 2020","1937680 Ontario Inc.","Community Relations",0]
[2021,"January 1, 2020 - December 31, 2020","1937680 Ontario Inc. Distribution Expenses - Operation 2020","1937680 Ontario Inc.","Distribution Expenses - Operation",2921134.25]
[2021,"January 1, 2020 - December 31, 2020","1937680 Ontario Inc. Distribution Expenses – Maintenance 2020","1937680 Ontario Inc.","Distribution Expenses – Maintenance",1027984.8]
[2021,"January 1, 2020 - December 31, 2020","1937680 Ontario Inc. Other Expenses 2020","1937680 Ontario Inc.","Other Expenses",0]
[2021,"January 1, 2020 - December 31, 2020","Alectra Utilities Corporation Administrative and General Expenses 2020","Alectra Utilities Corporation","Administrative and General Expenses",94769185.969999999,679168.5]
[2021,"January 1, 2020 - December 31, 2020","Alectra Utilities Corporation Billing and Collecting 2020","Alectra Utilities Corporation","Billing and Collecting",63720835.740000002]
[2021,"January 1, 2020 - December 31, 2020","Alectra Utilities Corporation Community Relations 2020","Alectra Utilities Corporation","Community Relations",4445930.7699999996]
[2021,"January 1, 2020 - December 31, 2020","Alectra Utilities Corporation Distribution Expenses - Operation 2020","Alectra Utilities Corporation","Distribution Expenses - Operation",84136002.689999998]
[2021,"January 1, 2020 - December 31, 2020","Alectra Utilities Corporation Distribution Expenses – Maintenance 2020","Alectra Utilities Corporation","Distribution Expenses – Maintenance",26763321.449999999]
[2021,"January 1, 2020 - December 31, 2020","Alectra Utilities Corporation Other Expenses 2020","Alectra Utilities Corporation","Other Expenses",0]
[2021,"January 1, 2020 - December 31, 2020","Algoma Power Inc. Administrative and General Expenses 2020","Algoma Power Inc.","Administrative and General Expenses",5262108.49,30612]
[2021,"January 1, 2020 - December 31, 2020","Algoma Power Inc. Billing and Collecting 2020","Algoma Power Inc.","Billing and Collecting",951794.44]
[2021,"January 1, 2020 - December 31, 2020","Algoma Power Inc. Community Relations 2020","Algoma Power Inc.","Community Relations",34401.919999999998]
[2021,"January 1, 2020 - December 31, 2020","Algoma Power Inc. Distribution Expenses - Operation 2020","Algoma Power Inc.","Distribution Expenses - Operation",1481440.12]
[2021,"January 1, 2020 - December 31, 2020","Algoma Power Inc. Distribution Expenses – Maintenance 2020","Algoma Power Inc.","Distribution Expenses – Maintenance",5596378.0899999999]
[2021,"January 1, 2020 - December 31, 2020","Algoma Power Inc. Other Expenses 2020","Algoma Power Inc.","Other Expenses",0]
[2021,"January 1, 2020 - December 31, 2020","Atikokan Hydro Inc. Administrative and General Expenses 2020","Atikokan Hydro Inc.","Administrative and General Expenses",419084.05,0]
[2021,"January 1, 2020 - December 31, 2020","Atikokan Hydro Inc. Billing and Collecting 2020","Atikokan Hydro Inc.","Billing and Collecting",177886.36]
[2021,"January 1, 2020 - December 31, 2020","Atikokan Hydro Inc. Community Relations 2020","Atikokan Hydro Inc.","Community Relations",0]
[2021,"January 1, 2020 - December 31, 2020","Atikokan Hydro Inc. Distribution Expenses - Operation 2020","Atikokan Hydro Inc.","Distribution Expenses - Operation",438047.77]
[2021,"January 1, 2020 - December 31, 2020","Atikokan Hydro Inc. Distribution Expenses – Maintenance 2020","Atikokan Hydro Inc.","Distribution Expenses – Maintenance",78732.84]
[2021,"January 1, 2020 - December 31, 2020","Atikokan Hydro Inc. Other Expenses 2020","Atikokan Hydro Inc.","Other Expenses",0]
[2021,"January 1, 2020 - December 31, 2020","Bluewater Power Distribution Corporation Administrative and General Expenses 2020","Bluewater Power Distribution Corporation","Administrative and General Expenses",6620255,24848]
[2021,"January 1, 2020 - December 31, 2020","Bluewater Power Distribution Corporation Billing and Collecting 2020","Bluewater Power Distribution Corporation","Billing and Collecting",1788954]
[2021,"January 1, 2020 - December 31, 2020","Bluewater Power Distribution Corporation Community Relations 2020","Bluewater Power Distribution Corporation","Community Relations",360258]
[2021,"January 1, 2020 - December 31, 2020","Bluewater Power Distribution Corporation Distribution Expenses - Operation 2020","Bluewater Power Distribution Corporation","Distribution Expenses - Operation",3911905]
[2021,"January 1, 2020 - December 31, 2020","Bluewater Power Distribution Corporation Distribution Expenses – Maintenance 2020","Bluewater Power Distribution Corporation","Distribution Expenses – Maintenance",221919]
[2021,"January 1, 2020 - December 31, 2020","Bluewater Power Distribution Corporation Other Expenses 2020","Bluewater Power Distribution Corporation","Other Expenses",0]
[2021,"January 1, 2020 - December 31, 2020","Brantford Power Inc. Administrative and General Expenses 2020","Brantford Power Inc.","Administrative and General Expenses",4574745.53,37500]
[2021,"January 1, 2020 - December 31, 2020","Brantford Power Inc. Billing and Collecting 2020","Brantford Power Inc.","Billing and Collecting",3813856.34]
[2021,"January 1, 2020 - December 31, 2020","Brantford Power Inc. Community Relations 2020","Brantford Power Inc.","Community Relations",156453.76000000001]
[2021,"January 1, 2020 - December 31, 2020","Brantford Power Inc. Distribution Expenses - Operation 2020","Brantford Power Inc.","Distribution Expenses - Operation",1960885.29]
[2021,"January 1, 2020 - December 31, 2020","Brantford Power Inc. Distribution Expenses – Maintenance 2020","Brantford Power Inc.","Distribution Expenses – Maintenance",1572473.69]
[2021,"January 1, 2020 - December 31, 2020","Brantford Power Inc. Other Expenses 2020","Brantford Power Inc.","Other Expenses",0]
[2021,"January 1, 2020 - December 31, 2020","Burlington Hydro Inc. Administrative and General Expenses 2020","Burlington Hydro Inc.","Administrative and General Expenses",7146472.46,34603]
[2021,"January 1, 2020 - December 31, 2020","Burlington Hydro Inc. Billing and Collecting 2020","Burlington Hydro Inc.","Billing and Collecting",2492796.2799999998]
[2021,"January 1, 2020 - December 31, 2020","Burlington Hydro Inc. Community Relations 2020","Burlington Hydro Inc.","Community Relations",29372.5]
[2021,"January 1, 2020 - December 31, 2020","Burlington Hydro Inc. Distribution Expenses - Operation 2020","Burlington Hydro Inc.","Distribution Expenses - Operation",4863245.58]
[2021,"January 1, 2020 - December 31, 2020","Burlington Hydro Inc. Distribution Expenses – Maintenance 2020","Burlington Hydro Inc.","Distribution Expenses – Maintenance",5440640.0300000003]
[2021,"January 1, 2020 - December 31, 2020","Burlington Hydro Inc. Other Expenses 2020","Burlington Hydro Inc.","Other Expenses",0]
[2021,"January 1, 2020 - December 31, 2020","Canadian Niagara Power Inc. Administrative and General Expenses 2020","Canadian Niagara Power Inc.","Administrative and General Expenses",3732744.43,25667]
[2021,"January 1, 2020 - December 31, 2020","Canadian Niagara Power Inc. Billing and Collecting 2020","Canadian Niagara Power Inc.","Billing and Collecting",1498831.57]
[2021,"January 1, 2020 - December 31, 2020","Canadian Niagara Power Inc. Community Relations 2020","Canadian Niagara Power Inc.","Community Relations",39402.410000000003]
[2021,"January 1, 2020 - December 31, 2020","Canadian Niagara Power Inc. Distribution Expenses - Operation 2020","Canadian Niagara Power Inc.","Distribution Expenses - Operation",2075903.34]
[2021,"January 1, 2020 - December 31, 2020","Canadian Niagara Power Inc. Distribution Expenses – Maintenance 2020","Canadian Niagara Power Inc.","Distribution Expenses – Maintenance",2139755.83]
[2021,"January 1, 2020 - December 31, 2020","Canadian Niagara Power Inc. Other Expenses 2020","Canadian Niagara Power Inc.","Other Expenses",0]
[2021,"January 1, 2020 - December 31, 2020","Centre Wellington Hydro Ltd. Administrative and General Expenses 2020","Centre Wellington Hydro Ltd.","Administrative and General Expenses",1054095.93,4750]
[2021,"January 1, 2020 - December 31, 2020","Centre Wellington Hydro Ltd. Billing and Collecting 2020","Centre Wellington Hydro Ltd.","Billing and Collecting",562199.51]
[2021,"January 1, 2020 - December 31, 2020","Centre Wellington Hydro Ltd. Community Relations 2020","Centre Wellington Hydro Ltd.","Community Relations",34185.64]
[2021,"January 1, 2020 - December 31, 2020","Centre Wellington Hydro Ltd. Distribution Expenses - Operation 2020","Centre Wellington Hydro Ltd.","Distribution Expenses - Operation",392585.42]
[2021,"January 1, 2020 - December 31, 2020","Centre Wellington Hydro Ltd. Distribution Expenses – Maintenance 2020","Centre Wellington Hydro Ltd.","Distribution Expenses – Maintenance",384407.14]
[2021,"January 1, 2020 - December 31, 2020","Centre Wellington Hydro Ltd. Other Expenses 2020","Centre Wellington Hydro Ltd.","Other Expenses",0]
[2021,"January 1, 2020 - December 31, 2020","Chapleau Public Utilities Corporation Administrative and General Expenses 2020","Chapleau Public Utilities Corporation","Administrative and General Expenses",482928.33,4000]
[2021,"January 1, 2020 - December 31, 2020","Chapleau Public Utilities Corporation Billing and Collecting 2020","Chapleau Public Utilities Corporation","Billing and Collecting",129698.06]
[2021,"January 1, 2020 - December 31, 2020","Chapleau Public Utilities Corporation Community Relations 2020","Chapleau Public Utilities Corporation","Community Relations",0]
[2021,"January 1, 2020 - December 31, 2020","Chapleau Public Utilities Corporation Distribution Expenses - Operation 2020","Chapleau Public Utilities Corporation","Distribution Expenses - Operation",212012.46]
[2021,"January 1, 2020 - December 31, 2020","Chapleau Public Utilities Corporation Distribution Expenses – Maintenance 2020","Chapleau Public Utilities Corporation","Distribution Expenses – Maintenance",0]
[2021,"January 1, 2020 - December 31, 2020","Chapleau Public Utilities Corporation Other Expenses 2020","Chapleau Public Utilities Corporation","Other Expenses",0]
[2021,"January 1, 2020 - December 31, 2020","Cooperative Hydro Embrun Inc. Administrative and General Expenses 2020","Cooperative Hydro Embrun Inc.","Administrative and General Expenses",406335.4,2000]
[2021,"January 1, 2020 - December 31, 2020","Cooperative Hydro Embrun Inc. Billing and Collecting 2020","Cooperative Hydro Embrun Inc.","Billing and Collecting",214452.22]
[2021,"January 1, 2020 - December 31, 2020","Cooperative Hydro Embrun Inc. Community Relations 2020","Cooperative Hydro Embrun Inc.","Community Relations",4305]
[2021,"January 1, 2020 - December 31, 2020","Cooperative Hydro Embrun Inc. Distribution Expenses - Operation 2020","Cooperative Hydro Embrun Inc.","Distribution Expenses - Operation",49130.97]
[2021,"January 1, 2020 - December 31, 2020","Cooperative Hydro Embrun Inc. Distribution Expenses – Maintenance 2020","Cooperative Hydro Embrun Inc.","Distribution Expenses – Maintenance",62243.47]
[2021,"January 1, 2020 - December 31, 2020","Cooperative Hydro Embrun Inc. Other Expenses 2020","Cooperative Hydro Embrun Inc.","Other Expenses",0]
[2021,"January 1, 2020 - December 31, 2020","Cornwall Street Railway Light and Power Company Limited Administrative and General Expenses 2020","Cornwall Street Railway Light and Power Company Limited","Administrative and General Expenses",0,16998]
[2021,"January 1, 2020 - December 31, 2020","Cornwall Street Railway Light and Power Company Limited Billing and Collecting 2020","Cornwall Street Railway Light and Power Company Limited","Billing and Collecting",0]
[2021,"January 1, 2020 - December 31, 2020","Cornwall Street Railway Light and Power Company Limited Community Relations 2020","Cornwall Street Railway Light and Power Company Limited","Community Relations",0]
[2021,"January 1, 2020 - December 31, 2020","Cornwall Street Railway Light and Power Company Limited Distribution Expenses - Operation 2020","Cornwall Street Railway Light and Power Company Limited","Distribution Expenses - Operation",0]
[2021,"January 1, 2020 - December 31, 2020","Cornwall Street Railway Light and Power Company Limited Distribution Expenses – Maintenance 2020","Cornwall Street Railway Light and Power Company Limited","Distribution Expenses – Maintenance",0]
[2021,"January 1, 2020 - December 31, 2020","Cornwall Street Railway Light and Power Company Limited Other Expenses 2020","Cornwall Street Railway Light and Power Company Limited","Other Expenses",0]
[2021,"January 1, 2020 - December 31, 2020","E.L.K. Energy Inc. Administrative and General Expenses 2020","E.L.K. Energy Inc.","Administrative and General Expenses",1019244.29,10179.26]
[2021,"January 1, 2020 - December 31, 2020","E.L.K. Energy Inc. Billing and Collecting 2020","E.L.K. Energy Inc.","Billing and Collecting",551626.23]
[2021,"January 1, 2020 - December 31, 2020","E.L.K. Energy Inc. Community Relations 2020","E.L.K. Energy Inc.","Community Relations",3088.04]
[2021,"January 1, 2020 - December 31, 2020","E.L.K. Energy Inc. Distribution Expenses - Operation 2020","E.L.K. Energy Inc.","Distribution Expenses - Operation",284999.02]
[2021,"January 1, 2020 - December 31, 2020","E.L.K. Energy Inc. Distribution Expenses – Maintenance 2020","E.L.K. Energy Inc.","Distribution Expenses – Maintenance",578700]
[2021,"January 1, 2020 - December 31, 2020","E.L.K. Energy Inc. Other Expenses 2020","E.L.K. Energy Inc.","Other Expenses",0]
[2021,"January 1, 2020 - December 31, 2020","ENWIN Utilities Ltd. Administrative and General Expenses 2020","ENWIN Utilities Ltd.","Administrative and General Expenses",12251035.970000001,65296]
[2021,"January 1, 2020 - December 31, 2020","ENWIN Utilities Ltd. Billing and Collecting 2020","ENWIN Utilities Ltd.","Billing and Collecting",2822880.08]
[2021,"January 1, 2020 - December 31, 2020","ENWIN Utilities Ltd. Community Relations 2020","ENWIN Utilities Ltd.","Community Relations",102480.5]
[2021,"January 1, 2020 - December 31, 2020","ENWIN Utilities Ltd. Distribution Expenses - Operation 2020","ENWIN Utilities Ltd.","Distribution Expenses - Operation",7799586.2599999998]
[2021,"January 1, 2020 - December 31, 2020","ENWIN Utilities Ltd. Distribution Expenses – Maintenance 2020","ENWIN Utilities Ltd.","Distribution Expenses – Maintenance",3600670.15]
[2021,"January 1, 2020 - December 31, 2020","ENWIN Utilities Ltd. Other Expenses 2020","ENWIN Utilities Ltd.","Other Expenses",0]
[2021,"January 1, 2020 - December 31, 2020","EPCOR Electricity Distribution Ontario Inc. Administrative and General Expenses 2020","EPCOR Electricity Distribution Ontario Inc.","Administrative and General Expenses",2127931.88,8368.64]
[2021,"January 1, 2020 - December 31, 2020","EPCOR Electricity Distribution Ontario Inc. Billing and Collecting 2020","EPCOR Electricity Distribution Ontario Inc.","Billing and Collecting",1010747.59]
[2021,"January 1, 2020 - December 31, 2020","EPCOR Electricity Distribution Ontario Inc. Community Relations 2020","EPCOR Electricity Distribution Ontario Inc.","Community Relations",239792.5]
[2021,"January 1, 2020 - December 31, 2020","EPCOR Electricity Distribution Ontario Inc. Distribution Expenses - Operation 2020","EPCOR Electricity Distribution Ontario Inc.","Distribution Expenses - Operation",1149538.3]
[2021,"January 1, 2020 - December 31, 2020","EPCOR Electricity Distribution Ontario Inc. Distribution Expenses – Maintenance 2020","EPCOR Electricity Distribution Ontario Inc.","Distribution Expenses – Maintenance",1636327.05]
[2021,"January 1, 2020 - December 31, 2020","EPCOR Electricity Distribution Ontario Inc. Other Expenses 2020","EPCOR Electricity Distribution Ontario Inc.","Other Expenses",0]
[2021,"January 1, 2020 - December 31, 2020","ERTH Power Corporation Administrative and General Expenses 2020","ERTH Power Corporation","Administrative and General Expenses",3189047.79,17747]
[2021,"January 1, 2020 - December 31, 2020","ERTH Power Corporation Billing and Collecting 2020","ERTH Power Corporation","Billing and Collecting",1484755]
[2021,"January 1, 2020 - December 31, 2020","ERTH Power Corporation Community Relations 2020","ERTH Power Corporation","Community Relations",33291]
[2021,"January 1, 2020 - December 31, 2020","ERTH Power Corporation Distribution Expenses - Operation 2020","ERTH Power Corporation","Distribution Expenses - Operation",933026]
[2021,"January 1, 2020 - December 31, 2020","ERTH Power Corporation Distribution Expenses – Maintenance 2020","ERTH Power Corporation","Distribution Expenses – Maintenance",1691717]
[2021,"January 1, 2020 - December 31, 2020","ERTH Power Corporation Other Expenses 2020","ERTH Power Corporation","Other Expenses",0]
[2021,"January 1, 2020 - December 31, 2020","Elexicon Energy Inc. Administrative and General Expenses 2020","Elexicon Energy Inc.","Administrative and General Expenses",17575589.379999999,88368.47]
[2021,"January 1, 2020 - December 31, 2020","Elexicon Energy Inc. Billing and Collecting 2020","Elexicon Energy Inc.","Billing and Collecting",11355586.779999999]
[2021,"January 1, 2020 - December 31, 2020","Elexicon Energy Inc. Community Relations 2020","Elexicon Energy Inc.","Community Relations",10083.5]
[2021,"January 1, 2020 - December 31, 2020","Elexicon Energy Inc. Distribution Expenses - Operation 2020","Elexicon Energy Inc.","Distribution Expenses - Operation",10032683.810000001]
[2021,"January 1, 2020 - December 31, 2020","Elexicon Energy Inc. Distribution Expenses – Maintenance 2020","Elexicon Energy Inc.","Distribution Expenses – Maintenance",4229032.21]
[2021,"January 1, 2020 - December 31, 2020","Elexicon Energy Inc. Other Expenses 2020","Elexicon Energy Inc.","Other Expenses",0]
[2021,"January 1, 2020 - December 31, 2020","Energy Plus Inc. Administrative and General Expenses 2020","Energy Plus Inc.","Administrative and General Expenses",8280652,41193.35]
[2021,"January 1, 2020 - December 31, 2020","Energy Plus Inc. Billing and Collecting 2020","Energy Plus Inc.","Billing and Collecting",3607402.31]
[2021,"January 1, 2020 - December 31, 2020","Energy Plus Inc. Community Relations 2020","Energy Plus Inc.","Community Relations",145291.64000000001]
[2021,"January 1, 2020 - December 31, 2020","Energy Plus Inc. Distribution Expenses - Operation 2020","Energy Plus Inc.","Distribution Expenses - Operation",3616065.37]
[2021,"January 1, 2020 - December 31, 2020","Energy Plus Inc. Distribution Expenses – Maintenance 2020","Energy Plus Inc.","Distribution Expenses – Maintenance",3114754.84]
[2021,"January 1, 2020 - December 31, 2020","Energy Plus Inc. Other Expenses 2020","Energy Plus Inc.","Other Expenses",0]
[2021,"January 1, 2020 - December 31, 2020","Entegrus Powerlines Inc. Administrative and General Expenses 2020","Entegrus Powerlines Inc.","Administrative and General Expenses",6642789.8300000001,32010.05]
[2021,"January 1, 2020 - December 31, 2020","Entegrus Powerlines Inc. Billing and Collecting 2020","Entegrus Powerlines Inc.","Billing and Collecting",2956235.11]
[2021,"January 1, 2020 - December 31, 2020","Entegrus Powerlines Inc. Community Relations 2020","Entegrus Powerlines Inc.","Community Relations",13999.25]
[2021,"January 1, 2020 - December 31, 2020","Entegrus Powerlines Inc. Distribution Expenses - Operation 2020","Entegrus Powerlines Inc.","Distribution Expenses - Operation",1820161.58]
[2021,"January 1, 2020 - December 31, 2020","Entegrus Powerlines Inc. Distribution Expenses – Maintenance 2020","Entegrus Powerlines Inc.","Distribution Expenses – Maintenance",2143023.96]
[2021,"January 1, 2020 - December 31, 2020","Entegrus Powerlines Inc. Other Expenses 2020","Entegrus Powerlines Inc.","Other Expenses",0]
[2021,"January 1, 2020 - December 31, 2020","Espanola Regional Hydro Distribution Corporation Administrative and General Expenses 2020","Espanola Regional Hydro Distribution Corporation","Administrative and General Expenses",386366.51,2000]
[2021,"January 1, 2020 - December 31, 2020","Espanola Regional Hydro Distribution Corporation Billing and Collecting 2020","Espanola Regional Hydro Distribution Corporation","Billing and Collecting",418182.15]
[2021,"January 1, 2020 - December 31, 2020","Espanola Regional Hydro Distribution Corporation Community Relations 2020","Espanola Regional Hydro Distribution Corporation","Community Relations",0]
[2021,"January 1, 2020 - December 31, 2020","Espanola Regional Hydro Distribution Corporation Distribution Expenses - Operation 2020","Espanola Regional Hydro Distribution Corporation","Distribution Expenses - Operation",399461.62]
[2021,"January 1, 2020 - December 31, 2020","Espanola Regional Hydro Distribution Corporation Distribution Expenses – Maintenance 2020","Espanola Regional Hydro Distribution Corporation","Distribution Expenses – Maintenance",315902.69]
[2021,"January 1, 2020 - December 31, 2020","Espanola Regional Hydro Distribution Corporation Other Expenses 2020","Espanola Regional Hydro Distribution Corporation","Other Expenses",0]
[2021,"January 1, 2020 - December 31, 2020","Essex Powerlines Corporation Administrative and General Expenses 2020","Essex Powerlines Corporation","Administrative and General Expenses",3745091.78,16820]
[2021,"January 1, 2020 - December 31, 2020","Essex Powerlines Corporation Billing and Collecting 2020","Essex Powerlines Corporation","Billing and Collecting",1480684.26]
[2021,"January 1, 2020 - December 31, 2020","Essex Powerlines Corporation Community Relations 2020","Essex Powerlines Corporation","Community Relations",33267.910000000003]
[2021,"January 1, 2020 - December 31, 2020","Essex Powerlines Corporation Distribution Expenses - Operation 2020","Essex Powerlines Corporation","Distribution Expenses - Operation",1530902.71]
[2021,"January 1, 2020 - December 31, 2020","Essex Powerlines Corporation Distribution Expenses – Maintenance 2020","Essex Powerlines Corporation","Distribution Expenses – Maintenance",1116273.1200000001]
[2021,"January 1, 2020 - December 31, 2020","Essex Powerlines Corporation Other Expenses 2020","Essex Powerlines Corporation","Other Expenses",0]
[2021,"January 1, 2020 - December 31, 2020","Festival Hydro Inc. Administrative and General Expenses 2020","Festival Hydro Inc.","Administrative and General Expenses",2317369.9500000002,13860]
[2021,"January 1, 2020 - December 31, 2020","Festival Hydro Inc. Billing and Collecting 2020","Festival Hydro Inc.","Billing and Collecting",1208934.48]
[2021,"January 1, 2020 - December 31, 2020","Festival Hydro Inc. Community Relations 2020","Festival Hydro Inc.","Community Relations",12267.63]
[2021,"January 1, 2020 - December 31, 2020","Festival Hydro Inc. Distribution Expenses - Operation 2020","Festival Hydro Inc.","Distribution Expenses - Operation",1030977.21]
[2021,"January 1, 2020 - December 31, 2020","Festival Hydro Inc. Distribution Expenses – Maintenance 2020","Festival Hydro Inc.","Distribution Expenses – Maintenance",1538323.84]
[2021,"January 1, 2020 - December 31, 2020","Festival Hydro Inc. Other Expenses 2020","Festival Hydro Inc.","Other Expenses",0]
[2021,"January 1, 2020 - December 31, 2020","Fort Frances Power Corporation Administrative and General Expenses 2020","Fort Frances Power Corporation","Administrative and General Expenses",684427.24,2000]
[2021,"January 1, 2020 - December 31, 2020","Fort Frances Power Corporation Billing and Collecting 2020","Fort Frances Power Corporation","Billing and Collecting",241677.57]
[2021,"January 1, 2020 - December 31, 2020","Fort Frances Power Corporation Community Relations 2020","Fort Frances Power Corporation","Community Relations",42407.77]
[2021,"January 1, 2020 - December 31, 2020","Fort Frances Power Corporation Distribution Expenses - Operation 2020","Fort Frances Power Corporation","Distribution Expenses - Operation",511799.18]
[2021,"January 1, 2020 - December 31, 2020","Fort Frances Power Corporation Distribution Expenses – Maintenance 2020","Fort Frances Power Corporation","Distribution Expenses – Maintenance",201124.7]
[2021,"January 1, 2020 - December 31, 2020","Fort Frances Power Corporation Other Expenses 2020","Fort Frances Power Corporation","Other Expenses",0]
[2021,"January 1, 2020 - December 31, 2020","Greater Sudbury Hydro Inc. Administrative and General Expenses 2020","Greater Sudbury Hydro Inc.","Administrative and General Expenses",4924512.46,48500]
[2021,"January 1, 2020 - December 31, 2020","Greater Sudbury Hydro Inc. Billing and Collecting 2020","Greater Sudbury Hydro Inc.","Billing and Collecting",2271922.4]
[2021,"January 1, 2020 - December 31, 2020","Greater Sudbury Hydro Inc. Community Relations 2020","Greater Sudbury Hydro Inc.","Community Relations",-17351.2]
[2021,"January 1, 2020 - December 31, 2020","Greater Sudbury Hydro Inc. Distribution Expenses - Operation 2020","Greater Sudbury Hydro Inc.","Distribution Expenses - Operation",6549683.4400000004]
[2021,"January 1, 2020 - December 31, 2020","Greater Sudbury Hydro Inc. Distribution Expenses – Maintenance 2020","Greater Sudbury Hydro Inc.","Distribution Expenses – Maintenance",1790749.09]
[2021,"January 1, 2020 - December 31, 2020","Greater Sudbury Hydro Inc. Other Expenses 2020","Greater Sudbury Hydro Inc.","Other Expenses",0]
[2021,"January 1, 2020 - December 31, 2020","Grimsby Power Incorporated Administrative and General Expenses 2020","Grimsby Power Incorporated","Administrative and General Expenses",1370419.04,6303.42]
[2021,"January 1, 2020 - December 31, 2020","Grimsby Power Incorporated Billing and Collecting 2020","Grimsby Power Incorporated","Billing and Collecting",585847.31000000006]
[2021,"January 1, 2020 - December 31, 2020","Grimsby Power Incorporated Community Relations 2020","Grimsby Power Incorporated","Community Relations",0]
[2021,"January 1, 2020 - December 31, 2020","Grimsby Power Incorporated Distribution Expenses - Operation 2020","Grimsby Power Incorporated","Distribution Expenses - Operation",938713.69]
[2021,"January 1, 2020 - December 31, 2020","Grimsby Power Incorporated Distribution Expenses – Maintenance 2020","Grimsby Power Incorporated","Distribution Expenses – Maintenance",644984.47]
[2021,"January 1, 2020 - December 31, 2020","Grimsby Power Incorporated Other Expenses 2020","Grimsby Power Incorporated","Other Expenses",0]
[2021,"January 1, 2020 - December 31, 2020","Halton Hills Hydro Inc. Administrative and General Expenses 2020","Halton Hills Hydro Inc.","Administrative and General Expenses",3799306.79,17916.79]
[2021,"January 1, 2020 - December 31, 2020","Halton Hills Hydro Inc. Billing and Collecting 2020","Halton Hills Hydro Inc.","Billing and Collecting",1077041.8600000001]
[2021,"January 1, 2020 - December 31, 2020","Halton Hills Hydro Inc. Community Relations 2020","Halton Hills Hydro Inc.","Community Relations",0]
[2021,"January 1, 2020 - December 31, 2020","Halton Hills Hydro Inc. Distribution Expenses - Operation 2020","Halton Hills Hydro Inc.","Distribution Expenses - Operation",1268603.77]
[2021,"January 1, 2020 - December 31, 2020","Halton Hills Hydro Inc. Distribution Expenses – Maintenance 2020","Halton Hills Hydro Inc.","Distribution Expenses – Maintenance",388314.01]
[2021,"January 1, 2020 - December 31, 2020","Halton Hills Hydro Inc. Other Expenses 2020","Halton Hills Hydro Inc.","Other Expenses",0]
[2021,"January 1, 2020 - December 31, 2020","Hearst Power Distribution Company Limited Administrative and General Expenses 2020","Hearst Power Distribution Company Limited","Administrative and General Expenses",313226.11,2000]
[2021,"January 1, 2020 - December 31, 2020","Hearst Power Distribution Company Limited Billing and Collecting 2020","Hearst Power Distribution Company Limited","Billing and Collecting",323373.90999999997]
[2021,"January 1, 2020 - December 31, 2020","Hearst Power Distribution Company Limited Community Relations 2020","Hearst Power Distribution Company Limited","Community Relations",3638.78]
[2021,"January 1, 2020 - December 31, 2020","Hearst Power Distribution Company Limited Distribution Expenses - Operation 2020","Hearst Power Distribution Company Limited","Distribution Expenses - Operation",162432.04999999999]
[2021,"January 1, 2020 - December 31, 2020","Hearst Power Distribution Company Limited Distribution Expenses – Maintenance 2020","Hearst Power Distribution Company Limited","Distribution Expenses – Maintenance",283606.23]
[2021,"January 1, 2020 - December 31, 2020","Hearst Power Distribution Company Limited Other Expenses 2020","Hearst Power Distribution Company Limited","Other Expenses",0]
[2021,"January 1, 2020 - December 31, 2020","Hydro 2000 Inc. Administrative and General Expenses 2020","Hydro 2000 Inc.","Administrative and General Expenses",295652.94,2000]
[2021,"January 1, 2020 - December 31, 2020","Hydro 2000 Inc. Billing and Collecting 2020","Hydro 2000 Inc.","Billing and Collecting",145695.70000000001]
[2021,"January 1, 2020 - December 31, 2020","Hydro 2000 Inc. Community Relations 2020","Hydro 2000 Inc.","Community Relations",0]
[2021,"January 1, 2020 - December 31, 2020","Hydro 2000 Inc. Distribution Expenses - Operation 2020","Hydro 2000 Inc.","Distribution Expenses - Operation",28125.360000000001]
[2021,"January 1, 2020 - December 31, 2020","Hydro 2000 Inc. Distribution Expenses – Maintenance 2020","Hydro 2000 Inc.","Distribution Expenses – Maintenance",31668.62]
[2021,"January 1, 2020 - December 31, 2020","Hydro 2000 Inc. Other Expenses 2020","Hydro 2000 Inc.","Other Expenses",0]
[2021,"January 1, 2020 - December 31, 2020","Hydro Hawkesbury Inc. Administrative and General Expenses 2020","Hydro Hawkesbury Inc.","Administrative and General Expenses",455658.69,2000]
[2021,"January 1, 2020 - December 31, 2020","Hydro Hawkesbury Inc. Billing and Collecting 2020","Hydro Hawkesbury Inc.","Billing and Collecting",389139.03]
[2021,"January 1, 2020 - December 31, 2020","Hydro Hawkesbury Inc. Community Relations 2020","Hydro Hawkesbury Inc.","Community Relations",0]
[2021,"January 1, 2020 - December 31, 2020","Hydro Hawkesbury Inc. Distribution Expenses - Operation 2020","Hydro Hawkesbury Inc.","Distribution Expenses - Operation",66726.080000000002]
[2021,"January 1, 2020 - December 31, 2020","Hydro Hawkesbury Inc. Distribution Expenses – Maintenance 2020","Hydro Hawkesbury Inc.","Distribution Expenses – Maintenance",213917.73]
[2021,"January 1, 2020 - December 31, 2020","Hydro Hawkesbury Inc. Other Expenses 2020","Hydro Hawkesbury Inc.","Other Expenses",0]
[2021,"January 1, 2020 - December 31, 2020","Hydro One Networks Inc. Administrative and General Expenses 2020","Hydro One Networks Inc.","Administrative and General Expenses",134774013.91,1750200]
[2021,"January 1, 2020 - December 31, 2020","Hydro One Networks Inc. Billing and Collecting 2020","Hydro One Networks Inc.","Billing and Collecting",93847155.420000002]
[2021,"January 1, 2020 - December 31, 2020","Hydro One Networks Inc. Community Relations 2020","Hydro One Networks Inc.","Community Relations",1375572.77]
[2021,"January 1, 2020 - December 31, 2020","Hydro One Networks Inc. Distribution Expenses - Operation 2020","Hydro One Networks Inc.","Distribution Expenses - Operation",86071480.700000003]
[2021,"January 1, 2020 - December 31, 2020","Hydro One Networks Inc. Distribution Expenses – Maintenance 2020","Hydro One Networks Inc.","Distribution Expenses – Maintenance",244130147.22]
[2021,"January 1, 2020 - December 31, 2020","Hydro One Networks Inc. Other Expenses 2020","Hydro One Networks Inc.","Other Expenses",0]
[2021,"January 1, 2020 - December 31, 2020","Hydro One Remote Communities Inc. Administrative and General Expenses 2020","Hydro One Remote Communities Inc.","Administrative and General Expenses",923593.35,64601]
[2021,"January 1, 2020 - December 31, 2020","Hydro One Remote Communities Inc. Billing and Collecting 2020","Hydro One Remote Communities Inc.","Billing and Collecting",1855662.25]
[2021,"January 1, 2020 - December 31, 2020","Hydro One Remote Communities Inc. Community Relations 2020","Hydro One Remote Communities Inc.","Community Relations",459250.06]
[2021,"January 1, 2020 - December 31, 2020","Hydro One Remote Communities Inc. Distribution Expenses - Operation 2020","Hydro One Remote Communities Inc.","Distribution Expenses - Operation",154241.35999999999]
[2021,"January 1, 2020 - December 31, 2020","Hydro One Remote Communities Inc. Distribution Expenses – Maintenance 2020","Hydro One Remote Communities Inc.","Distribution Expenses – Maintenance",2921293.11]
[2021,"January 1, 2020 - December 31, 2020","Hydro One Remote Communities Inc. Other Expenses 2020","Hydro One Remote Communities Inc.","Other Expenses",0]
[2021,"January 1, 2020 - December 31, 2020","Hydro Ottawa Limited Administrative and General Expenses 2020","Hydro Ottawa Limited","Administrative and General Expenses",36365275,240653.06]
[2021,"January 1, 2020 - December 31, 2020","Hydro Ottawa Limited Billing and Collecting 2020","Hydro Ottawa Limited","Billing and Collecting",12260032.369999999]
[2021,"January 1, 2020 - December 31, 2020","Hydro Ottawa Limited Community Relations 2020","Hydro Ottawa Limited","Community Relations",4109228.65]
[2021,"January 1, 2020 - December 31, 2020","Hydro Ottawa Limited Distribution Expenses - Operation 2020","Hydro Ottawa Limited","Distribution Expenses - Operation",23101725.440000001]
[2021,"January 1, 2020 - December 31, 2020","Hydro Ottawa Limited Distribution Expenses – Maintenance 2020","Hydro Ottawa Limited","Distribution Expenses – Maintenance",8663503.5]
[2021,"January 1, 2020 - December 31, 2020","Hydro Ottawa Limited Other Expenses 2020","Hydro Ottawa Limited","Other Expenses",0]
[2021,"January 1, 2020 - December 31, 2020","Innpower Corporation Administrative and General Expenses 2020","Innpower Corporation","Administrative and General Expenses",3071718.66,12140.59]
[2021,"January 1, 2020 - December 31, 2020","Innpower Corporation Billing and Collecting 2020","Innpower Corporation","Billing and Collecting",1251091.6299999999]
[2021,"January 1, 2020 - December 31, 2020","Innpower Corporation Community Relations 2020","Innpower Corporation","Community Relations",76635.320000000007]
[2021,"January 1, 2020 - December 31, 2020","Innpower Corporation Distribution Expenses - Operation 2020","Innpower Corporation","Distribution Expenses - Operation",1104679.22]
[2021,"January 1, 2020 - December 31, 2020","Innpower Corporation Distribution Expenses – Maintenance 2020","Innpower Corporation","Distribution Expenses – Maintenance",762291.82]
[2021,"January 1, 2020 - December 31, 2020","Innpower Corporation Other Expenses 2020","Innpower Corporation","Other Expenses",0]
[2021,"January 1, 2020 - December 31, 2020","Kingston Hydro Corporation Administrative and General Expenses 2020","Kingston Hydro Corporation","Administrative and General Expenses",2521685.64,17687]
[2021,"January 1, 2020 - December 31, 2020","Kingston Hydro Corporation Billing and Collecting 2020","Kingston Hydro Corporation","Billing and Collecting",945398.95]
[2021,"January 1, 2020 - December 31, 2020","Kingston Hydro Corporation Community Relations 2020","Kingston Hydro Corporation","Community Relations",255528.62]
[2021,"January 1, 2020 - December 31, 2020","Kingston Hydro Corporation Distribution Expenses - Operation 2020","Kingston Hydro Corporation","Distribution Expenses - Operation",2215441.12]
[2021,"January 1, 2020 - December 31, 2020","Kingston Hydro Corporation Distribution Expenses – Maintenance 2020","Kingston Hydro Corporation","Distribution Expenses – Maintenance",1292666.78]
[2021,"January 1, 2020 - December 31, 2020","Kingston Hydro Corporation Other Expenses 2020","Kingston Hydro Corporation","Other Expenses",0]
[2021,"January 1, 2020 - December 31, 2020","Kitchener-Wilmot Hydro Inc. Administrative and General Expenses 2020","Kitchener-Wilmot Hydro Inc.","Administrative and General Expenses",4017726.87,55000]
[2021,"January 1, 2020 - December 31, 2020","Kitchener-Wilmot Hydro Inc. Billing and Collecting 2020","Kitchener-Wilmot Hydro Inc.","Billing and Collecting",5391296.8399999999]
[2021,"January 1, 2020 - December 31, 2020","Kitchener-Wilmot Hydro Inc. Community Relations 2020","Kitchener-Wilmot Hydro Inc.","Community Relations",231197.52]
[2021,"January 1, 2020 - December 31, 2020","Kitchener-Wilmot Hydro Inc. Distribution Expenses - Operation 2020","Kitchener-Wilmot Hydro Inc.","Distribution Expenses - Operation",5567593.21]
[2021,"January 1, 2020 - December 31, 2020","Kitchener-Wilmot Hydro Inc. Distribution Expenses – Maintenance 2020","Kitchener-Wilmot Hydro Inc.","Distribution Expenses – Maintenance",6022915.3200000003]
[2021,"January 1, 2020 - December 31, 2020","Kitchener-Wilmot Hydro Inc. Other Expenses 2020","Kitchener-Wilmot Hydro Inc.","Other Expenses",0]
[2021,"January 1, 2020 - December 31, 2020","Lakefront Utilities Inc. Administrative and General Expenses 2020","Lakefront Utilities Inc.","Administrative and General Expenses",1057724.79,5850]
[2021,"January 1, 2020 - December 31, 2020","Lakefront Utilities Inc. Billing and Collecting 2020","Lakefront Utilities Inc.","Billing and Collecting",554624.82999999996]
[2021,"January 1, 2020 - December 31, 2020","Lakefront Utilities Inc. Community Relations 2020","Lakefront Utilities Inc.","Community Relations",17214.79]
[2021,"January 1, 2020 - December 31, 2020","Lakefront Utilities Inc. Distribution Expenses - Operation 2020","Lakefront Utilities Inc.","Distribution Expenses - Operation",753224.37]
[2021,"January 1, 2020 - December 31, 2020","Lakefront Utilities Inc. Distribution Expenses – Maintenance 2020","Lakefront Utilities Inc.","Distribution Expenses – Maintenance",304062.25]
[2021,"January 1, 2020 - December 31, 2020","Lakefront Utilities Inc. Other Expenses 2020","Lakefront Utilities Inc.","Other Expenses",0]
[2021,"January 1, 2020 - December 31, 2020","Lakeland Power Distribution Ltd. Administrative and General Expenses 2020","Lakeland Power Distribution Ltd.","Administrative and General Expenses",1870031.53,13000]
[2021,"January 1, 2020 - December 31, 2020","Lakeland Power Distribution Ltd. Billing and Collecting 2020","Lakeland Power Distribution Ltd.","Billing and Collecting",1346742.26]
[2021,"January 1, 2020 - December 31, 2020","Lakeland Power Distribution Ltd. Community Relations 2020","Lakeland Power Distribution Ltd.","Community Relations",7183.25]
[2021,"January 1, 2020 - December 31, 2020","Lakeland Power Distribution Ltd. Distribution Expenses - Operation 2020","Lakeland Power Distribution Ltd.","Distribution Expenses - Operation",489384.37]
[2021,"January 1, 2020 - December 31, 2020","Lakeland Power Distribution Ltd. Distribution Expenses – Maintenance 2020","Lakeland Power Distribution Ltd.","Distribution Expenses – Maintenance",1642608.66]
[2021,"January 1, 2020 - December 31, 2020","Lakeland Power Distribution Ltd. Other Expenses 2020","Lakeland Power Distribution Ltd.","Other Expenses",0]
[2021,"January 1, 2020 - December 31, 2020","London Hydro Inc. Administrative and General Expenses 2020","London Hydro Inc.","Administrative and General Expenses",14806185.800000001,200000]
[2021,"January 1, 2020 - December 31, 2020","London Hydro Inc. Billing and Collecting 2020","London Hydro Inc.","Billing and Collecting",5220511.8099999996]
[2021,"January 1, 2020 - December 31, 2020","London Hydro Inc. Community Relations 2020","London Hydro Inc.","Community Relations",122745.54]
[2021,"January 1, 2020 - December 31, 2020","London Hydro Inc. Distribution Expenses - Operation 2020","London Hydro Inc.","Distribution Expenses - Operation",10896300.43]
[2021,"January 1, 2020 - December 31, 2020","London Hydro Inc. Distribution Expenses – Maintenance 2020","London Hydro Inc.","Distribution Expenses – Maintenance",8809130.3900000006]
[2021,"January 1, 2020 - December 31, 2020","London Hydro Inc. Other Expenses 2020","London Hydro Inc.","Other Expenses",0]
[2021,"January 1, 2020 - December 31, 2020","Milton Hydro Distribution Inc. Administrative and General Expenses 2020","Milton Hydro Distribution Inc.","Administrative and General Expenses",4427629,19567]
[2021,"January 1, 2020 - December 31, 2020","Milton Hydro Distribution Inc. Billing and Collecting 2020","Milton Hydro Distribution Inc.","Billing and Collecting",2218766]
[2021,"January 1, 2020 - December 31, 2020","Milton Hydro Distribution Inc. Community Relations 2020","Milton Hydro Distribution Inc.","Community Relations",17500]
[2021,"January 1, 2020 - December 31, 2020","Milton Hydro Distribution Inc. Distribution Expenses - Operation 2020","Milton Hydro Distribution Inc.","Distribution Expenses - Operation",2548732]
[2021,"January 1, 2020 - December 31, 2020","Milton Hydro Distribution Inc. Distribution Expenses – Maintenance 2020","Milton Hydro Distribution Inc.","Distribution Expenses – Maintenance",1332079]
[2021,"January 1, 2020 - December 31, 2020","Milton Hydro Distribution Inc. Other Expenses 2020","Milton Hydro Distribution Inc.","Other Expenses",0]
[2021,"January 1, 2020 - December 31, 2020","Newmarket-Tay Power Distribution Ltd. Administrative and General Expenses 2020","Newmarket-Tay Power Distribution Ltd.","Administrative and General Expenses",5431872.9400000004,24800]
[2021,"January 1, 2020 - December 31, 2020","Newmarket-Tay Power Distribution Ltd. Billing and Collecting 2020","Newmarket-Tay Power Distribution Ltd.","Billing and Collecting",2725592.17]
[2021,"January 1, 2020 - December 31, 2020","Newmarket-Tay Power Distribution Ltd. Community Relations 2020","Newmarket-Tay Power Distribution Ltd.","Community Relations",80334.69]
[2021,"January 1, 2020 - December 31, 2020","Newmarket-Tay Power Distribution Ltd. Distribution Expenses - Operation 2020","Newmarket-Tay Power Distribution Ltd.","Distribution Expenses - Operation",2735049.21]
[2021,"January 1, 2020 - December 31, 2020","Newmarket-Tay Power Distribution Ltd. Distribution Expenses – Maintenance 2020","Newmarket-Tay Power Distribution Ltd.","Distribution Expenses – Maintenance",1335033]
[2021,"January 1, 2020 - December 31, 2020","Newmarket-Tay Power Distribution Ltd. Other Expenses 2020","Newmarket-Tay Power Distribution Ltd.","Other Expenses",0]
[2021,"January 1, 2020 - December 31, 2020","Niagara Peninsula Energy Inc. Administrative and General Expenses 2020","Niagara Peninsula Energy Inc.","Administrative and General Expenses",5031926.45,37166]
[2021,"January 1, 2020 - December 31, 2020","Niagara Peninsula Energy Inc. Billing and Collecting 2020","Niagara Peninsula Energy Inc.","Billing and Collecting",5814474.04]
[2021,"January 1, 2020 - December 31, 2020","Niagara Peninsula Energy Inc. Community Relations 2020","Niagara Peninsula Energy Inc.","Community Relations",72443.360000000001]
[2021,"January 1, 2020 - December 31, 2020","Niagara Peninsula Energy Inc. Distribution Expenses - Operation 2020","Niagara Peninsula Energy Inc.","Distribution Expenses - Operation",4757975.43]
[2021,"January 1, 2020 - December 31, 2020","Niagara Peninsula Energy Inc. Distribution Expenses – Maintenance 2020","Niagara Peninsula Energy Inc.","Distribution Expenses – Maintenance",2968028.91]
[2021,"January 1, 2020 - December 31, 2020","Niagara Peninsula Energy Inc. Other Expenses 2020","Niagara Peninsula Energy Inc.","Other Expenses",0]
[2021,"January 1, 2020 - December 31, 2020","Niagara-on-the-Lake Hydro Inc. Administrative and General Expenses 2020","Niagara-on-the-Lake Hydro Inc.","Administrative and General Expenses",1187374.3899999999,6865.82]
[2021,"January 1, 2020 - December 31, 2020","Niagara-on-the-Lake Hydro Inc. Billing and Collecting 2020","Niagara-on-the-Lake Hydro Inc.","Billing and Collecting",630975.37]
[2021,"January 1, 2020 - December 31, 2020","Niagara-on-the-Lake Hydro Inc. Community Relations 2020","Niagara-on-the-Lake Hydro Inc.","Community Relations",0]
[2021,"January 1, 2020 - December 31, 2020","Niagara-on-the-Lake Hydro Inc. Distribution Expenses - Operation 2020","Niagara-on-the-Lake Hydro Inc.","Distribution Expenses - Operation",717525.47]
[2021,"January 1, 2020 - December 31, 2020","Niagara-on-the-Lake Hydro Inc. Distribution Expenses – Maintenance 2020","Niagara-on-the-Lake Hydro Inc.","Distribution Expenses – Maintenance",409998.49]
[2021,"January 1, 2020 - December 31, 2020","Niagara-on-the-Lake Hydro Inc. Other Expenses 2020","Niagara-on-the-Lake Hydro Inc.","Other Expenses",0]
[2021,"January 1, 2020 - December 31, 2020","North Bay Hydro Distribution Limited Administrative and General Expenses 2020","North Bay Hydro Distribution Limited","Administrative and General Expenses",2829068.6473500002,15560.49]
[2021,"January 1, 2020 - December 31, 2020","North Bay Hydro Distribution Limited Billing and Collecting 2020","North Bay Hydro Distribution Limited","Billing and Collecting",1074958.2308]
[2021,"January 1, 2020 - December 31, 2020","North Bay Hydro Distribution Limited Community Relations 2020","North Bay Hydro Distribution Limited","Community Relations",0]
[2021,"January 1, 2020 - December 31, 2020","North Bay Hydro Distribution Limited Distribution Expenses - Operation 2020","North Bay Hydro Distribution Limited","Distribution Expenses - Operation",788058.16079760005]
[2021,"January 1, 2020 - December 31, 2020","North Bay Hydro Distribution Limited Distribution Expenses – Maintenance 2020","North Bay Hydro Distribution Limited","Distribution Expenses – Maintenance",2079142.33018]
[2021,"January 1, 2020 - December 31, 2020","North Bay Hydro Distribution Limited Other Expenses 2020","North Bay Hydro Distribution Limited","Other Expenses",0]
[2021,"January 1, 2020 - December 31, 2020","Northern Ontario Wires Inc. Administrative and General Expenses 2020","Northern Ontario Wires Inc.","Administrative and General Expenses",576724.5,4093]
[2021,"January 1, 2020 - December 31, 2020","Northern Ontario Wires Inc. Billing and Collecting 2020","Northern Ontario Wires Inc.","Billing and Collecting",688584.87]
[2021,"January 1, 2020 - December 31, 2020","Northern Ontario Wires Inc. Community Relations 2020","Northern Ontario Wires Inc.","Community Relations",0]
[2021,"January 1, 2020 - December 31, 2020","Northern Ontario Wires Inc. Distribution Expenses - Operation 2020","Northern Ontario Wires Inc.","Distribution Expenses - Operation",852225.93]
[2021,"January 1, 2020 - December 31, 2020","Northern Ontario Wires Inc. Distribution Expenses – Maintenance 2020","Northern Ontario Wires Inc.","Distribution Expenses – Maintenance",639441.4]
[2021,"January 1, 2020 - December 31, 2020","Northern Ontario Wires Inc. Other Expenses 2020","Northern Ontario Wires Inc.","Other Expenses",0]
[2021,"January 1, 2020 - December 31, 2020","Oakville Hydro Electricity Distribution Inc. Administrative and General Expenses 2020","Oakville Hydro Electricity Distribution Inc.","Administrative and General Expenses",6004809.79,45350]
[2021,"January 1, 2020 - December 31, 2020","Oakville Hydro Electricity Distribution Inc. Billing and Collecting 2020","Oakville Hydro Electricity Distribution Inc.","Billing and Collecting",3155103.89]
[2021,"January 1, 2020 - December 31, 2020","Oakville Hydro Electricity Distribution Inc. Community Relations 2020","Oakville Hydro Electricity Distribution Inc.","Community Relations",221692.62]
[2021,"January 1, 2020 - December 31, 2020","Oakville Hydro Electricity Distribution Inc. Distribution Expenses - Operation 2020","Oakville Hydro Electricity Distribution Inc.","Distribution Expenses - Operation",7988562.21]
[2021,"January 1, 2020 - December 31, 2020","Oakville Hydro Electricity Distribution Inc. Distribution Expenses – Maintenance 2020","Oakville Hydro Electricity Distribution Inc.","Distribution Expenses – Maintenance",1497731.73]
[2021,"January 1, 2020 - December 31, 2020","Oakville Hydro Electricity Distribution Inc. Other Expenses 2020","Oakville Hydro Electricity Distribution Inc.","Other Expenses",0]
[2021,"January 1, 2020 - December 31, 2020","Orangeville Hydro Limited Administrative and General Expenses 2020","Orangeville Hydro Limited","Administrative and General Expenses",1597245.65,6258.6]
[2021,"January 1, 2020 - December 31, 2020","Orangeville Hydro Limited Billing and Collecting 2020","Orangeville Hydro Limited","Billing and Collecting",774213.93]
[2021,"January 1, 2020 - December 31, 2020","Orangeville Hydro Limited Community Relations 2020","Orangeville Hydro Limited","Community Relations",9004.1200000000008]
[2021,"January 1, 2020 - December 31, 2020","Orangeville Hydro Limited Distribution Expenses - Operation 2020","Orangeville Hydro Limited","Distribution Expenses - Operation",607287.06000000006]
[2021,"January 1, 2020 - December 31, 2020","Orangeville Hydro Limited Distribution Expenses – Maintenance 2020","Orangeville Hydro Limited","Distribution Expenses – Maintenance",200701.3]
[2021,"January 1, 2020 - December 31, 2020","Orangeville Hydro Limited Other Expenses 2020","Orangeville Hydro Limited","Other Expenses",0]
[2021,"January 1, 2020 - December 31, 2020","Orillia Power Distribution Corporation Administrative and General Expenses 2020","Orillia Power Distribution Corporation","Administrative and General Expenses",2404997,9200]
[2021,"January 1, 2020 - December 31, 2020","Orillia Power Distribution Corporation Billing and Collecting 2020","Orillia Power Distribution Corporation","Billing and Collecting",1302290]
[2021,"January 1, 2020 - December 31, 2020","Orillia Power Distribution Corporation Community Relations 2020","Orillia Power Distribution Corporation","Community Relations",12648]
[2021,"January 1, 2020 - December 31, 2020","Orillia Power Distribution Corporation Distribution Expenses - Operation 2020","Orillia Power Distribution Corporation","Distribution Expenses - Operation",1196369]
[2021,"January 1, 2020 - December 31, 2020","Orillia Power Distribution Corporation Distribution Expenses – Maintenance 2020","Orillia Power Distribution Corporation","Distribution Expenses – Maintenance",1299450]
[2021,"January 1, 2020 - December 31, 2020","Orillia Power Distribution Corporation Other Expenses 2020","Orillia Power Distribution Corporation","Other Expenses",0]
[2021,"January 1, 2020 - December 31, 2020","Oshawa PUC Networks Inc. Administrative and General Expenses 2020","Oshawa PUC Networks Inc.","Administrative and General Expenses",7097734.7599999998,49181.23]
[2021,"January 1, 2020 - December 31, 2020","Oshawa PUC Networks Inc. Billing and Collecting 2020","Oshawa PUC Networks Inc.","Billing and Collecting",3666920.7]
[2021,"January 1, 2020 - December 31, 2020","Oshawa PUC Networks Inc. Community Relations 2020","Oshawa PUC Networks Inc.","Community Relations",881411.48]
[2021,"January 1, 2020 - December 31, 2020","Oshawa PUC Networks Inc. Distribution Expenses - Operation 2020","Oshawa PUC Networks Inc.","Distribution Expenses - Operation",1287773.5900000001]
[2021,"January 1, 2020 - December 31, 2020","Oshawa PUC Networks Inc. Distribution Expenses – Maintenance 2020","Oshawa PUC Networks Inc.","Distribution Expenses – Maintenance",936685.37]
[2021,"January 1, 2020 - December 31, 2020","Oshawa PUC Networks Inc. Other Expenses 2020","Oshawa PUC Networks Inc.","Other Expenses",0]
[2021,"January 1, 2020 - December 31, 2020","Ottawa River Power Corporation Administrative and General Expenses 2020","Ottawa River Power Corporation","Administrative and General Expenses",1284533.46,0]
[2021,"January 1, 2020 - December 31, 2020","Ottawa River Power Corporation Billing and Collecting 2020","Ottawa River Power Corporation","Billing and Collecting",837379.93]
[2021,"January 1, 2020 - December 31, 2020","Ottawa River Power Corporation Community Relations 2020","Ottawa River Power Corporation","Community Relations",36662.83]
[2021,"January 1, 2020 - December 31, 2020","Ottawa River Power Corporation Distribution Expenses - Operation 2020","Ottawa River Power Corporation","Distribution Expenses - Operation",785740.61]
[2021,"January 1, 2020 - December 31, 2020","Ottawa River Power Corporation Distribution Expenses – Maintenance 2020","Ottawa River Power Corporation","Distribution Expenses – Maintenance",501235.76]
[2021,"January 1, 2020 - December 31, 2020","Ottawa River Power Corporation Other Expenses 2020","Ottawa River Power Corporation","Other Expenses",0]
[2021,"January 1, 2020 - December 31, 2020","PUC Distribution Inc. Administrative and General Expenses 2020","PUC Distribution Inc.","Administrative and General Expenses",2798171.72,26267]
[2021,"January 1, 2020 - December 31, 2020","PUC Distribution Inc. Billing and Collecting 2020","PUC Distribution Inc.","Billing and Collecting",1333215.69]
[2021,"January 1, 2020 - December 31, 2020","PUC Distribution Inc. Community Relations 2020","PUC Distribution Inc.","Community Relations",574048.89]
[2021,"January 1, 2020 - December 31, 2020","PUC Distribution Inc. Distribution Expenses - Operation 2020","PUC Distribution Inc.","Distribution Expenses - Operation",4061935.31]
[2021,"January 1, 2020 - December 31, 2020","PUC Distribution Inc. Distribution Expenses – Maintenance 2020","PUC Distribution Inc.","Distribution Expenses – Maintenance",2359394.1]
[2021,"January 1, 2020 - December 31, 2020","PUC Distribution Inc. Other Expenses 2020","PUC Distribution Inc.","Other Expenses",0]
[2021,"January 1, 2020 - December 31, 2020","Renfrew Hydro Inc. Administrative and General Expenses 2020","Renfrew Hydro Inc.","Administrative and General Expenses",549769.62,2404.13]
[2021,"January 1, 2020 - December 31, 2020","Renfrew Hydro Inc. Billing and Collecting 2020","Renfrew Hydro Inc.","Billing and Collecting",390258.98]
[2021,"January 1, 2020 - December 31, 2020","Renfrew Hydro Inc. Community Relations 2020","Renfrew Hydro Inc.","Community Relations",11478.02]
[2021,"January 1, 2020 - December 31, 2020","Renfrew Hydro Inc. Distribution Expenses - Operation 2020","Renfrew Hydro Inc.","Distribution Expenses - Operation",330247.43]
[2021,"January 1, 2020 - December 31, 2020","Renfrew Hydro Inc. Distribution Expenses – Maintenance 2020","Renfrew Hydro Inc.","Distribution Expenses – Maintenance",122801.71]
[2021,"January 1, 2020 - December 31, 2020","Renfrew Hydro Inc. Other Expenses 2020","Renfrew Hydro Inc.","Other Expenses",0]
[2021,"January 1, 2020 - December 31, 2020","Rideau St. Lawrence Distribution Inc. Administrative and General Expenses 2020","Rideau St. Lawrence Distribution Inc.","Administrative and General Expenses",930958.01,5250]
[2021,"January 1, 2020 - December 31, 2020","Rideau St. Lawrence Distribution Inc. Billing and Collecting 2020","Rideau St. Lawrence Distribution Inc.","Billing and Collecting",541821.30000000005]
[2021,"January 1, 2020 - December 31, 2020","Rideau St. Lawrence Distribution Inc. Community Relations 2020","Rideau St. Lawrence Distribution Inc.","Community Relations",29165.79]
[2021,"January 1, 2020 - December 31, 2020","Rideau St. Lawrence Distribution Inc. Distribution Expenses - Operation 2020","Rideau St. Lawrence Distribution Inc.","Distribution Expenses - Operation",351313.45]
[2021,"January 1, 2020 - December 31, 2020","Rideau St. Lawrence Distribution Inc. Distribution Expenses – Maintenance 2020","Rideau St. Lawrence Distribution Inc.","Distribution Expenses – Maintenance",390659.28]
[2021,"January 1, 2020 - December 31, 2020","Rideau St. Lawrence Distribution Inc. Other Expenses 2020","Rideau St. Lawrence Distribution Inc.","Other Expenses",0]
[2021,"January 1, 2020 - December 31, 2020","Sioux Lookout Hydro Inc. Administrative and General Expenses 2020","Sioux Lookout Hydro Inc.","Administrative and General Expenses",441551.51,2610]
[2021,"January 1, 2020 - December 31, 2020","Sioux Lookout Hydro Inc. Billing and Collecting 2020","Sioux Lookout Hydro Inc.","Billing and Collecting",312279.01]
[2021,"January 1, 2020 - December 31, 2020","Sioux Lookout Hydro Inc. Community Relations 2020","Sioux Lookout Hydro Inc.","Community Relations",0]
[2021,"January 1, 2020 - December 31, 2020","Sioux Lookout Hydro Inc. Distribution Expenses - Operation 2020","Sioux Lookout Hydro Inc.","Distribution Expenses - Operation",604431.63]
[2021,"January 1, 2020 - December 31, 2020","Sioux Lookout Hydro Inc. Distribution Expenses – Maintenance 2020","Sioux Lookout Hydro Inc.","Distribution Expenses – Maintenance",125663.8]
[2021,"January 1, 2020 - December 31, 2020","Sioux Lookout Hydro Inc. Other Expenses 2020","Sioux Lookout Hydro Inc.","Other Expenses",0]
[2021,"January 1, 2020 - December 31, 2020","Synergy North Corporation Administrative and General Expenses 2020","Synergy North Corporation","Administrative and General Expenses",5543331.5099999998,27324]
[2021,"January 1, 2020 - December 31, 2020","Synergy North Corporation Billing and Collecting 2020","Synergy North Corporation","Billing and Collecting",2508858.7599999998]
[2021,"January 1, 2020 - December 31, 2020","Synergy North Corporation Community Relations 2020","Synergy North Corporation","Community Relations",20092.79]
[2021,"January 1, 2020 - December 31, 2020","Synergy North Corporation Distribution Expenses - Operation 2020","Synergy North Corporation","Distribution Expenses - Operation",2751834.69]
[2021,"January 1, 2020 - December 31, 2020","Synergy North Corporation Distribution Expenses – Maintenance 2020","Synergy North Corporation","Distribution Expenses – Maintenance",5567844.9800000004]
[2021,"January 1, 2020 - December 31, 2020","Synergy North Corporation Other Expenses 2020","Synergy North Corporation","Other Expenses",0]
[2021,"January 1, 2020 - December 31, 2020","Tillsonburg Hydro Inc. Administrative and General Expenses 2020","Tillsonburg Hydro Inc.","Administrative and General Expenses",1257013.6100000001,4278.6000000000004]
[2021,"January 1, 2020 - December 31, 2020","Tillsonburg Hydro Inc. Billing and Collecting 2020","Tillsonburg Hydro Inc.","Billing and Collecting",720741.29]
[2021,"January 1, 2020 - December 31, 2020","Tillsonburg Hydro Inc. Community Relations 2020","Tillsonburg Hydro Inc.","Community Relations",0]
[2021,"January 1, 2020 - December 31, 2020","Tillsonburg Hydro Inc. Distribution Expenses - Operation 2020","Tillsonburg Hydro Inc.","Distribution Expenses - Operation",600164.87]
[2021,"January 1, 2020 - December 31, 2020","Tillsonburg Hydro Inc. Distribution Expenses – Maintenance 2020","Tillsonburg Hydro Inc.","Distribution Expenses – Maintenance",258503.46]
[2021,"January 1, 2020 - December 31, 2020","Tillsonburg Hydro Inc. Other Expenses 2020","Tillsonburg Hydro Inc.","Other Expenses",0]
[2021,"January 1, 2020 - December 31, 2020","Toronto Hydro-Electric System Limited Administrative and General Expenses 2020","Toronto Hydro-Electric System Limited","Administrative and General Expenses",108012558.08,957609]
[2021,"January 1, 2020 - December 31, 2020","Toronto Hydro-Electric System Limited Billing and Collecting 2020","Toronto Hydro-Electric System Limited","Billing and Collecting",54825957.600000001]
[2021,"January 1, 2020 - December 31, 2020","Toronto Hydro-Electric System Limited Community Relations 2020","Toronto Hydro-Electric System Limited","Community Relations",2234663.04]
[2021,"January 1, 2020 - December 31, 2020","Toronto Hydro-Electric System Limited Distribution Expenses - Operation 2020","Toronto Hydro-Electric System Limited","Distribution Expenses - Operation",46631598.799999997]
[2021,"January 1, 2020 - December 31, 2020","Toronto Hydro-Electric System Limited Distribution Expenses – Maintenance 2020","Toronto Hydro-Electric System Limited","Distribution Expenses – Maintenance",70472552.140000001]
[2021,"January 1, 2020 - December 31, 2020","Toronto Hydro-Electric System Limited Other Expenses 2020","Toronto Hydro-Electric System Limited","Other Expenses",0]
[2021,"January 1, 2020 - December 31, 2020","Wasaga Distribution Inc. Administrative and General Expenses 2020","Wasaga Distribution Inc.","Administrative and General Expenses",1790447.06,5499.85]
[2021,"January 1, 2020 - December 31, 2020","Wasaga Distribution Inc. Billing and Collecting 2020","Wasaga Distribution Inc.","Billing and Collecting",922939.15]
[2021,"January 1, 2020 - December 31, 2020","Wasaga Distribution Inc. Community Relations 2020","Wasaga Distribution Inc.","Community Relations",17399.310000000001]
[2021,"January 1, 2020 - December 31, 2020","Wasaga Distribution Inc. Distribution Expenses - Operation 2020","Wasaga Distribution Inc.","Distribution Expenses - Operation",50770.33]
[2021,"January 1, 2020 - December 31, 2020","Wasaga Distribution Inc. Distribution Expenses – Maintenance 2020","Wasaga Distribution Inc.","Distribution Expenses – Maintenance",715452.05]
[2021,"January 1, 2020 - December 31, 2020","Wasaga Distribution Inc. Other Expenses 2020","Wasaga Distribution Inc.","Other Expenses",0]
[2021,"January 1, 2020 - December 31, 2020","Waterloo North Hydro Inc. Administrative and General Expenses 2020","Waterloo North Hydro Inc.","Administrative and General Expenses",3572659,42000]
[2021,"January 1, 2020 - December 31, 2020","Waterloo North Hydro Inc. Billing and Collecting 2020","Waterloo North Hydro Inc.","Billing and Collecting",2826255]
[2021,"January 1, 2020 - December 31, 2020","Waterloo North Hydro Inc. Community Relations 2020","Waterloo North Hydro Inc.","Community Relations",241571]
[2021,"January 1, 2020 - December 31, 2020","Waterloo North Hydro Inc. Distribution Expenses - Operation 2020","Waterloo North Hydro Inc.","Distribution Expenses - Operation",5723340]
[2021,"January 1, 2020 - December 31, 2020","Waterloo North Hydro Inc. Distribution Expenses – Maintenance 2020","Waterloo North Hydro Inc.","Distribution Expenses – Maintenance",1649363]
[2021,"January 1, 2020 - December 31, 2020","Waterloo North Hydro Inc. Other Expenses 2020","Waterloo North Hydro Inc.","Other Expenses",0]
[2021,"January 1, 2020 - December 31, 2020","Welland Hydro-Electric System Corp. Administrative and General Expenses 2020","Welland Hydro-Electric System Corp.","Administrative and General Expenses",1710165.87,29311]
[2021,"January 1, 2020 - December 31, 2020","Welland Hydro-Electric System Corp. Billing and Collecting 2020","Welland Hydro-Electric System Corp.","Billing and Collecting",1500138.64]
[2021,"January 1, 2020 - December 31, 2020","Welland Hydro-Electric System Corp. Community Relations 2020","Welland Hydro-Electric System Corp.","Community Relations",60039.09]
[2021,"January 1, 2020 - December 31, 2020","Welland Hydro-Electric System Corp. Distribution Expenses - Operation 2020","Welland Hydro-Electric System Corp.","Distribution Expenses - Operation",1529536.94]
[2021,"January 1, 2020 - December 31, 2020","Welland Hydro-Electric System Corp. Distribution Expenses – Maintenance 2020","Welland Hydro-Electric System Corp.","Distribution Expenses – Maintenance",1990641.97]
[2021,"January 1, 2020 - December 31, 2020","Welland Hydro-Electric System Corp. Other Expenses 2020","Welland Hydro-Electric System Corp.","Other Expenses",0]
[2021,"January 1, 2020 - December 31, 2020","Wellington North Power Inc. Administrative and General Expenses 2020","Wellington North Power Inc.","Administrative and General Expenses",828774.15,3302.9]
[2021,"January 1, 2020 - December 31, 2020","Wellington North Power Inc. Billing and Collecting 2020","Wellington North Power Inc.","Billing and Collecting",408889.25]
[2021,"January 1, 2020 - December 31, 2020","Wellington North Power Inc. Community Relations 2020","Wellington North Power Inc.","Community Relations",5846.78]
[2021,"January 1, 2020 - December 31, 2020","Wellington North Power Inc. Distribution Expenses - Operation 2020","Wellington North Power Inc.","Distribution Expenses - Operation",400585.39]
[2021,"January 1, 2020 - December 31, 2020","Wellington North Power Inc. Distribution Expenses – Maintenance 2020","Wellington North Power Inc.","Distribution Expenses – Maintenance",223163.17]
[2021,"January 1, 2020 - December 31, 2020","Wellington North Power Inc. Other Expenses 2020","Wellington North Power Inc.","Other Expenses",0]
[2021,"January 1, 2020 - December 31, 2020","Westario Power Inc. Administrative and General Expenses 2020","Westario Power Inc.","Administrative and General Expenses",3065241.08,13357.41]
[2021,"January 1, 2020 - December 31, 2020","Westario Power Inc. Billing and Collecting 2020","Westario Power Inc.","Billing and Collecting",672592.11]
[2021,"January 1, 2020 - December 31, 2020","Westario Power Inc. Community Relations 2020","Westario Power Inc.","Community Relations",14103.82]
[2021,"January 1, 2020 - December 31, 2020","Westario Power Inc. Distribution Expenses - Operation 2020","Westario Power Inc.","Distribution Expenses - Operation",758568.2]
[2021,"January 1, 2020 - December 31, 2020","Westario Power Inc. Distribution Expenses – Maintenance 2020","Westario Power Inc.","Distribution Expenses – Maintenance",1496436]
[2021,"January 1, 2020 - December 31, 2020","Westario Power Inc. Other Expenses 2020","Westario Power Inc.","Other Expenses",0]

{"sheet":"App.2-JB_OM&A_Cost _Drivers","index":40,"n_rows":48,"n_cols":12,"rows_kept":48,"cut":false,"hidden":false,"merged":[[9,0,9,10],[10,0,10,10],[45,1,45,11],[46,1,46,11],[47,1,51,11]]}
[null,null,null,null,null,null,null,null,null,null,"File Number:",{"$f":"EBNUMBER","v":"EB-2022-0016"}]
[null,null,null,null,null,null,null,null,null,null,"Exhibit:"]
[null,null,null,null,null,null,null,null,null,null,"Tab:"]
[null,null,null,null,null,null,null,null,null,null,"Schedule:"]
[null,null,null,null,null,null,null,null,null,null,"Page:"]
["Updated vegetation management historical to agree to Exhibit 4 Table 7"]
[null,null,null,null,null,null,null,null,null,null,"Date:","2023-02-13"]
[]
[]
["Appendix 2-JB"]
[{"$f":"\"Recoverable OM&A Cost Driver Table\" & CHAR(185)&CHAR(183)&CHAR(179)","v":"Recoverable OM&A Cost Driver Table¹·³"}]
[]
["OM&A",{"$f":"\"Last Rebasing Year (\"&RebaseYear&\" Actuals)\"","v":"Last Rebasing Year (2013 Actuals)"},"2014 Actuals",{"$f":"BridgeYear -7 & \" Actuals\"","v":"2015 Actuals"},{"$f":"BridgeYear -6 & \" Actuals\"","v":"2016 Actuals"},{"$f":"BridgeYear -5 & \" Actuals\"","v":"2017 Actuals"},{"$f":"BridgeYear -4 & \" Actuals\"","v":"2018 Actuals"},{"$f":"BridgeYear -3 & \" Actuals\"","v":"2019 Actuals"},{"$f":"BridgeYear -2 & \" Actuals\"","v":"2020 Actuals"},{"$f":"BridgeYear -1 & \" Actuals\"","v":"2021 Actuals"},"2022 Actual",{"$f":"TestYear & \" Test Year\"","v":"2023 Test Year"}]
["Reporting Basis","MIFRS","MIFRS","MIFRS","MIFRS","MIFRS","MIFRS","MIFRS","MIFRS","MIFRS","MIFRS","MIFRS"]
["Opening Balance²",12277560.192895819,12310661.649999999,11782127.399999999,12242644.359999999,13539446.630000003,13593717.050000001,13885820.75,13415427.039999997,12928138.966999998,13192502.42,{"$f":"K42","v":14187821.42}]
["Changes in Compensation ",46900,239000,545500,320400,300700,341300,358300,200000,93400,274400,433500]
["Net change in FTE's",29300,76200,227400,154200,327400,82100,156900,-3400,40900,-100500,643900]
["Burden & Benefits",-97100,-75900,55800,103600,119000,95800,89600,98200,93100,16600,343000]
["Affiliate Labour",-149700,-169300,-156800,-37300,-50800,-58200,-86100,13500,72100,-76200,11600]
["Billable work (Labour & Benefits)",28300,-102300,60200,6300,-66100,-44600,-209900,-152700,-194100,537000,-105700]
["Capital work (Labour & Benefits)",-191800,-153500,-412200,-174800,-158500,-243800,-1097300,-116900,-22300,-417700,106200]
["Employee Future Benefits",139600,-428200,90300,9700,82000,32200,15100,-140500,-16900,21100,-71950]
["Bad Debt",131900,26600,10400,594300,-717200,-144800,44600,-47500,238900,-89600,-62100]
["Vehicle costs Capitalized or Billed",29600,-9900,-111700,-18300,-92200,1100,-129900,-13700,7500,63500,85500]
["Vehicle costs",-15700,37300,35300,29900,53700,21300,-8700,-33700,27500,94900,45700]
["Postage",10600,22900,3600,-7300,113800,-14700,1500,-14700,-3200,-4600,30700]
["Vegetation Management",-17000,-60200,81400,99500,31400,-46800,-39500,-59700,63000,124400,97100]
["Legal Costs",34900,149800,-179300,36700,-57300,1100,5000,13400,35500,-19100,-29700]
["COVID 19 ",null,null,null,null,null,null,null,-194200,57800,134200,-22400]
["Advertising",15100,-2100,8400,152700,-161900,6600,400,-10300,15100,{"$f":"252700-134400","v":118300},-127200]
["Technology & Security",26700,-55200,7600,7400,157600,74200,56000,121600,-1500,-24700,144400]
["Inventory & Stores",2600,5400,-300,-60400,130500,-64200,44400,-56200,-33500,80200,-12200]
["Rate Application Costs",0,-5600,-2000,0,-44100,-31500,0,0,0,0,106300]
["Other Miscellaneous",8901.4571041800082,-23534.25,196916.96000000089,80202.270000003278,86270.419999998063,285003.69999999925,329206.28999999724,-90488.072999998927,-208936.54699999839,263119,-40639]
[]
[]
[]
[]
[]
[]
[]
[{"$f":"\"Closing Balance\"&CHAR(178)","v":"Closing Balance²"},{"$f":"SUM(B15:B41)","v":12310661.649999999},11782127.399999999,12242644.359999999,13539446.630000003,13593717.050000001,13885820.75,13415427.039999997,12928138.966999998,13192502.42,14187821.42,15763832.42]
[]
["Notes:"]
[]
[1,"For each year, a detailed explanation for each cost driver and associated amount is requied in Exhibit 4."]
[2,"Opening Balance for \"Last Rebasing Year\" (cell B15) should be equal to the OEB-Approved amount. For purposes of assessing incremental cost drivers, the closing balance for each year becomes the opening balance for the next year."]
[3,"If it has been more than four years since the applicant last filed a cost of service application, additional years of historical actuals should be incorporated into the table, as necessary, to go back to the last cost of service application.  If the applicant last filed a cost of service application less than four years ago, a minimum of three years of actual information is required."]

{"sheet":"App.2-JC_OMA Programs","index":41,"n_rows":55,"n_cols":19,"rows_kept":55,"cut":false,"hidden":false,"merged":[[8,0,8,13],[9,0,9,13],[11,0,11,13],[53,0,53,14],[54,0,54,14]]}
[null,null,null,null,null,null,null,null,null,null,null,null,null,"File Number:",{"$f":"EBNUMBER","v":"EB-2022-0016"}]
[null,null,null,null,null,null,null,null,null,null,null,null,null,"Exhibit:"]
[null,null,null,null,null,null,null,null,null,null,null,null,null,"Tab:"]
[null,null,null,null,null,null,null,null,null,null,null,null,null,"Schedule:"]
[null,null,null,null,null,null,null,null,null,null,null,null,null,"Page:"]
[]
[null,null,null,null,null,null,null,null,null,null,null,null,null,"Date:","2023-02-13"]
[]
["Appendix 2-JC"]
["OM&A Programs Table"]
[]
[]
["Programs",{"$f":"\"Last Rebasing Year (\" & RebaseYear & \" OEB-Approved)\"","v":"Last Rebasing Year (2013 OEB-Approved)"},{"$f":"\"Last Rebasing Year (\" & RebaseYear & \" Actuals)\"","v":"Last Rebasing Year (2013 Actuals)"},"2014 Actuals",{"$f":"BridgeYear-7&\" Actuals\"","v":"2015 Actuals"},{"$f":"BridgeYear-6&\" Actuals\"","v":"2016 Actuals"},{"$f":"BridgeYear-5&\" Actuals\"","v":"2017 Actuals"},{"$f":"BridgeYear-4&\" Actuals\"","v":"2018 Actuals"},{"$f":"BridgeYear-3&\" Actuals\"","v":"2019 Actuals"},{"$f":"BridgeYear -2 & \" Actuals\"","v":"2020 Actuals"},{"$f":"BridgeYear -1 & \" Actuals\"","v":"2021 Actuals"},{"$f":"BridgeYear -0 & \" Actuals\"","v":"2022 Actuals"},"2022 Bridge Year (as Filed)",{"$f":"TestYear & \" Test Year\"","v":"2023 Test Year"},{"$f":"\"Variance \n(2023 Test Year vs. \" & K13 &\")\"","v":"Variance \n(2023 Test Year vs. 2021 Actuals)"},{"$f":"\"Variance \n(2023 Test Year vs. \" & B13","v":"Variance \n(2023 Test Year vs. Last Rebasing Year (2013 OEB-Approved)"},null,"Variance (2013 Actuals vs. 2013 OEB Approved)","Variance (2023 Test Year vs. 2022 Bridge Year)"]
["Reporting Basis","MIFRS","MIFRS","MIFRS","MIFRS","MIFRS","MIFRS","MIFRS","MIFRS","MIFRS","MIFRS","MIFRS","MIFRS","MIFRS"]
["Customer Focus"]
["Bad Debt",180915.42206766119,312821.84999999998,339380.68,349744.31,944091.26,226923.73,82108.710000000006,126670.65,79216.3,318108.71999999997,228494,160000,166400,{"$f":"N16-K16","v":-151708.71999999997},{"$f":"N16-B16","v":-14515.422067661188},null,{"$f":"+C16-B16","v":131906.42793233879},{"$f":"+N16-M16","v":6400}]
["Billing & Collecting",1564927.4593534705,1687513.3099999998,1665524.5100000005,1718132.76,1677009.4599999997,1769184.9500000004,1788753.03,1775503.9699999997,1739104.2900000003,1792465.8599999992,1813948,1785440.0001000001,1855752,{"$f":"N17-K17","v":63286.140000000829},290824.54064652952,null,{"$f":"+C17-B17","v":122585.85064652935},{"$f":"+N17-M17","v":70311.999899999937}]
["Community Relations & Safety",255541.56004467793,282266.81999999995,242342.52000000002,277053.43999999994,499431.1399999999,383293.52,475426.72000000003,404708,372253.32,191831.33,309118,154483,188727,-3104.3299999999872,-66814.560044677928,null,26725.259955322021,34244]
["LEAP",0,24815.17,24848,24848,24848,24848,24848,24848,24848,66280,24848,24848,29999.999999999996,-36280,29999.999999999996,null,24815.17,5151.9999999999964]
[]
["Sub-Total",{"$f":"SUM(B16:B20)","v":2001384.4414658095},{"$f":"SUM(C16:C20)","v":2307417.1499999994},2272095.7100000004,2369778.5099999998,3145379.8599999994,2404250.2000000002,2371136.46,2331730.6199999996,2215421.91,2368685.9099999992,2376408,2124771.0000999998,2240879,-127806.90999999922,239494.55853419052,null,306032.70853418997,116107.99990000017]
["Operations & Maintenance"]
["Engineering",429377.07250723516,518160.63,471059.09000000014,500084.37999999977,527557.7100000002,567322.68999999994,618460.73000000021,583442.89999999944,588876.95999999973,696429.52000000037,651822,729319,748870,52440.479999999632,{"$f":"N23-B23","v":319492.92749276484},null,88783.557492764841,19551]
["Load Dispatching",331052.15015056089,338288.88,353370.18,387472.66000000003,386768.12,414026.17999999993,433495.95000000007,374894.64999999997,392945.44699999999,491586.36,482573,579562.00009999995,569839,78252.640000000014,238786.84984943911,null,7236.7298494391143,-9723.0000999999465]
["Metering",416290.86677886447,391372.06000000006,394025.50999999983,400116.30000000016,487620.46999999986,472848.50999999989,520867.03,482991.4200000001,488147.19999999984,574109.83999999973,547009,598175,609274,35164.160000000265,192983.13322113553,null,-24918.806778864411,11099]
["Maintenance of Gen Plant & Vehicles",348663.06025655579,503243.83999999985,470816.39999999997,464504.03000000009,432299.84000000014,475275.15000000008,493273.80000000005,405024.31,356962.51999999996,311667.46999999991,451976,404363.00010000006,415445,103777.53000000009,66781.939743444207,null,154580.77974344406,11081.999899999937]
["Vegetation Management",189296.07559633531,172295.43,112107.34,193462.6,292960.99,255440.39,228304.3,198078.64,138064.56,186940.84,353434,341599.00020000001,400000,213059.16,210703.92440366469,null,-17000.645596335322,58400.999799999991]
["Building Maintenance",166023,160820.37999999998,243644.5,257496.57999999996,222558.56999999998,259743.15,255088.30000000005,266502.75,289020.20999999996,215408.96000000005,262573,219077,228469,13060.03999999995,62446,null,-5202.6200000000244,9392]
["Operations O&M",35469.113154666869,45859.100000000006,56952.62000000001,345400.59,285901.88000000006,422692.86,352852,386129.07999999996,357549.54000000004,720780.71,799814,789086,838201,117420.29000000004,802731.88684533315,null,10389.986845333136,49115]
["Stations O&M",42639.419048467447,47029.120000000003,40782,100225.64000000001,87338.92,66437.76999999999,102421.46,190254.12999999998,135973.09,145157.37,109367,191573,220104,74946.63,177464.58095153255,null,4389.7009515325553,28531]
["Lines O&M",1899931.5581417242,1772484.16,1939799.7600000002,1643407.83,1442117.0999999989,1519369.9999999993,1879696.7699999986,1590502.7899999998,1696964.9099999997,1471752.76,1917192,2136174,2683800,1212047.24,783868.44185827579,null,-127447.39814172429,547626]
[]
["Sub-Total",{"$f":"SUM(B23:B32)","v":3858742.3156344099},3949553.5999999996,4082557.4000000004,4292170.6099999994,4165123.5999999987,4453156.6999999993,4884460.3399999989,4477820.669999999,4444504.436999999,4813833.83,5575760,5988928.0003999993,6714002,1900168.17,2855259.6843655901,null,90811.28436558973,725073.99960000068]
["Administration & General"]
["Administration",3140051.4083386934,2854883.6599999997,2673967.8099999996,2960993.97,3410068.9900000007,3774536.75,3568689.3900000006,3461326.4999999995,3122272.540000001,3053598.1599999997,{"$f":"3099914-13","v":3099901},3144034.0000999998,3170008,116409.84000000032,{"$f":"N35-B35","v":29956.591661306564},null,-285167.74833869375,25973.99990000017]
["Audit, Finance, Legal and Consulting",171616.01334379474,220684.18,355802.62,160296.15000000002,171727.54,132491.22,131960.04999999999,140796.01999999999,186478.51,199622.05000000002,212111,175411,182425,-17197.050000000017,10808.986656205263,null,49068.166656205256,7014]
["Communication ",55297.399052990069,49403.61,51951.95,59121.85,72940.38,105685.6,159601.81,203160.94,206860.18,199194.53,183888,190618,203985,4790.4700000000012,148687.60094700992,null,-5893.7890529900687,13367]
["Environmental",64532.753044205216,900,1933.55,24389.31,64005.73,23231.11,15435.23,30636.49,15907.5,0,17630,40000,41600,41600,-22932.753044205216,null,-63632.753044205216,1600]
["Insurance",141451.09748309155,146285.64000000001,154783.9,133208.43,168113.2,166827.33000000002,188037.25999999998,189298.24,198398.68999999997,199842.28,239481,219800,228584,28741.72,87132.902516908449,null,4834.5425169084629,8784]
["Software/Hardware Mtce",448443.83344822621,471246.07000000012,415101.12999999989,402853.67999999993,376645.47000000003,461044.98999999993,452245.10000000009,526308.05999999994,649577.1100000001,672102.50999999989,601657,617531,695272,23169.490000000107,{"$f":"N40-B40","v":246828.16655177379},null,22802.236551773909,77741]
["Employee Future Benefits",552016.99,681645.74,253422,343702,353420,435404,467625,482676,342197,325259,346340,346340,274390,-50869,-277626.99,null,129628.75,-71950]
["Benefits",1486108.8678420843,1284979.0699999998,1200354.6599999999,1171371.8900000001,1237513.3700000001,1312906.2699999996,1348740.57,1206499.159999999,1224461.2799999986,982609.07000000076,1014533,1135611,1346712,364102.92999999924,-139396.86784208426,null,-201129.79784208443,211101]
[]
["Sub-Total",{"$f":"SUM(B35:B43)","v":6059518.3625530861},5710027.9700000007,5107317.6199999992,5255937.2800000012,5854434.6800000006,6412127.2699999996,6332334.4100000001,6240701.4099999983,5946152.8099999996,5632227.5999999996,5715541,5869345.0000999998,6142976,510748.40000000037,83457.637446913868,null,-349490.39255308546,273630.99990000017]
["Public & Regulatory Responsiveness"]
["Regulatory",357915.07324251533,343662.93,320156.67000000004,324757.9599999999,374508.49000000005,324182.88,297889.53999999992,365174.33999999997,322059.81,377755.07999999996,520103,457850,665976,288220.92000000004,{"$f":"N46-B46","v":308060.92675748467},null,-14252.143242515333,208126]
[]
["Sub-Total",{"$f":"SUM(B46:B47)","v":357915.07324251533},343662.93,320156.67000000004,324757.9599999999,374508.49000000005,324182.88,297889.53999999992,365174.33999999997,322059.81,377755.07999999996,520103,457850,665976,288220.92000000004,308060.92675748467,null,-14252.143242515333,208126]
["Miscellaneous"]
["Total",{"$f":"SUMPRODUCT(--($A15:$A49=\"Sub-Total\"), B$15:B$49)+B49","v":12277560.19289582},12310661.649999999,11782127.4,12242644.359999999,13539446.629999999,13593717.049999999,13885820.749999998,13415427.039999997,12928138.966999998,13192502.42,14187812,14440894.000599999,15763833,{"$f":"N50-K50","v":2571330.58},{"$f":"N50-B50","v":3486272.8071041796},null,33101.457104178146,1322938.999400001]
[]
["Notes:"]
[]
["1   Please provide a breakdown of the major components of each OM&A Program undertaken in each year.  Please ensure that all programs below the materiality threshold are included in the miscellaneous line.  Add more Programs as required."]
["2   The applicant should group projects appropriately and avoid presentations that result in classification of significant components of the OM&A budget in the miscellaneous category"]

{"sheet":"App.2-JD_OMA Programs","index":42,"n_rows":51,"n_cols":16,"rows_kept":51,"cut":false,"hidden":false,"merged":[[8,1,8,13],[9,1,9,13],[11,1,11,13],[49,1,49,14],[50,1,50,14]]}
[null,null,null,null,null,null,null,null,null,null,null,null,null,"File Number:",{"$f":"EBNUMBER","v":"EB-2022-0016"}]
[null,null,null,null,null,null,null,null,null,null,null,null,null,"Exhibit:"]
[null,null,null,null,null,null,null,null,null,null,null,null,null,"Tab:"]
[null,null,null,null,null,null,null,null,null,null,null,null,null,"Schedule:"]
[null,null,null,null,null,null,null,null,null,null,null,null,null,"Page:"]
[]
[null,null,null,null,null,null,null,null,null,null,null,null,null,"Date:"]
[]
[null,"Appendix 2-JD"]
[null,"OM&A Programs Table"]
[]
[]
["USoA Account","Account Description",{"$f":"\"Last Rebasing Year (\" & RebaseYear & \" OEB-Approved)\"","v":"Last Rebasing Year (2013 OEB-Approved)"},{"$f":"\"Last Rebasing Year (\" & RebaseYear & \" Actuals)\"","v":"Last Rebasing Year (2013 Actuals)"},"2014 Actuals",{"$f":"BridgeYear-7&\" Actuals\"","v":"2015 Actuals"},{"$f":"BridgeYear-6&\" Actuals\"","v":"2016 Actuals"},{"$f":"BridgeYear-5&\" Actuals\"","v":"2017 Actuals"},{"$f":"BridgeYear-4&\" Actuals\"","v":"2018 Actuals"},{"$f":"BridgeYear-3&\" Actuals\"","v":"2019 Actuals"},{"$f":"BridgeYear -2 & \" Actuals\"","v":"2020 Actuals"},{"$f":"BridgeYear -1 & \" Actuals\"","v":"2021 Actuals"},{"$f":"BridgeYear & \" Bridge Year\"","v":"2022 Bridge Year"},{"$f":"TestYear & \" Test Year\"","v":"2023 Test Year"},{"$f":"\"Variance \n(Test Year vs. \" & L13 &\")\"","v":"Variance \n(Test Year vs. 2021 Actuals)"},{"$f":"\"Variance \n(Test Year vs. \" & C13","v":"Variance \n(Test Year vs. Last Rebasing Year (2013 OEB-Approved)"}]
[null,"Reporting Basis"]
[]
[null,null,null,null,null,null,null,null,null,null,null,null,null,null,{"$f":"N16-L16","v":0},{"$f":"N16-C16","v":0}]
[null,null,null,null,null,null,null,null,null,null,null,null,null,null,{"$f":"N17-L17","v":0},0]
[null,null,null,null,null,null,null,null,null,null,null,null,null,null,0,0]
[null,null,null,null,null,null,null,null,null,null,null,null,null,null,0,0]
[null,null,null,null,null,null,null,null,null,null,null,null,null,null,0,0]
[]
[null,null,null,null,null,null,null,null,null,null,null,null,null,null,0,{"$f":"N22-C22","v":0}]
[null,null,null,null,null,null,null,null,null,null,null,null,null,null,0,0]
[null,null,null,null,null,null,null,null,null,null,null,null,null,null,0,0]
[null,null,null,null,null,null,null,null,null,null,null,null,null,null,0,0]
[null,null,null,null,null,null,null,null,null,null,null,null,null,null,0,0]
[]
[null,null,null,null,null,null,null,null,null,null,null,null,null,null,0,{"$f":"N28-C28","v":0}]
[null,null,null,null,null,null,null,null,null,null,null,null,null,null,0,0]
[null,null,null,null,null,null,null,null,null,null,null,null,null,null,0,0]
[null,null,null,null,null,null,null,null,null,null,null,null,null,null,0,0]
[null,null,null,null,null,null,null,null,null,null,null,null,null,null,0,0]
[]
[null,null,null,null,null,null,null,null,null,null,null,null,null,null,0,{"$f":"N34-C34","v":0}]
[null,null,null,null,null,null,null,null,null,null,null,null,null,null,0,0]
[null,null,null,null,null,null,null,null,null,null,null,null,null,null,0,0]
[null,null,null,null,null,null,null,null,null,null,null,null,null,null,0,0]
[null,null,null,null,null,null,null,null,null,null,null,null,null,null,0,0]
[]
[null,null,null,null,null,null,null,null,null,null,null,null,null,null,{"$f":"N40-L40","v":0},{"$f":"N40-C40","v":0}]
[null,null,null,null,null,null,null,null,null,null,null,null,null,null,0,0]
[null,null,null,null,null,null,null,null,null,null,null,null,null,null,0,0]
[null,null,null,null,null,null,null,null,null,null,null,null,null,null,0,0]
[null,null,null,null,null,null,null,null,null,null,null,null,null,null,0,0]
[null,null,null,null,null,null,null,null,null,null,null,null,null,null,0,0]
[null,"Total",{"$f":"SUMPRODUCT(--($B15:$B45=\"Sub-Total\"), C$15:C$45)+C45","v":0},0,null,0,0,0,0,0,0,0,0,0,{"$f":"N46-L46","v":0},0]
[]
[null,"Notes:"]
[]
[null,"1   Please provide a breakdown of the major components of each OM&A Program undertaken in each year.  Please ensure that all programs below the materiality threshold are included in the miscellaneous line.  Add more Programs as required."]
[null,"2   The applicant should group projects appropriately and avoid presentations that result in classification of significant components of the OM&A budget in the miscellaneous category"]

{"sheet":"App.2-K_Employee Costs","index":43,"n_rows":37,"n_cols":14,"rows_kept":37,"cut":false,"hidden":false,"merged":[[3,0,3,10],[37,0,37,13],[24,0,24,13],[8,0,8,13],[9,0,9,13],[12,0,12,13],[16,0,16,13],[20,0,20,13],[35,0,35,13],[36,0,36,13],[28,0,28,13]]}
[null,null,null,null,null,null,null,null,null,null,null,null,"File Number:",{"$f":"EBNUMBER","v":"EB-2022-0016"}]
[null,null,null,null,null,null,null,null,null,null,null,null,"Exhibit:"]
[null,null,null,null,null,null,null,null,null,null,null,null,"Tab:"]
["TO BE UPDATED AT THE DRAFT RATE ORDER STAGE",null,null,null,null,null,null,null,null,null,null,null,"Schedule:"]
[null,null,null,null,null,null,null,null,null,null,null,null,"Page:"]
[]
[null,null,null,null,null,null,null,null,null,null,null,null,"Date:","2022-02-13"]
[]
["Appendix 2-K"]
["Employee Costs"]
[]
[null,"Last Rebasing Year (2013 OEB Approved)","Last Rebasing Year (2013 Actuals)","2014 Actuals",{"$f":"TestYear -8 & \" Actuals\"","v":"2015 Actuals"},{"$f":"TestYear -7 & \" Actuals\"","v":"2016 Actuals"},{"$f":"TestYear -6 & \" Actuals\"","v":"2017 Actuals"},{"$f":"TestYear -5 & \" Actuals\"","v":"2018 Actuals"},{"$f":"TestYear -4 & \" Actuals\"","v":"2019 Actuals"},{"$f":"TestYear -3 & \" Actuals\"","v":"2020 Actuals"},{"$f":"TestYear -2 & \" Actuals\"","v":"2021 Actuals"},{"$f":"TestYear -1 & \" Actuals\"","v":"2022 Actuals"},"2022 Bridge Year (as filed)",{"$f":"TestYear & \" Test Year\"","v":"2023 Test Year"}]
["Number of Employees (FTEs including Part-Time)1"]
["Management (including executive)",null,27.135531122370473,27.599903004348043,27.205571486050864,29.112253384654061,30.608649079683978,30.143830037599564,30.287932685245678,29.955077352186777,29.118493581917253,30,29.147613479721095,31.119370452274111]
["Non-Management (union and non-union)",null,66.754253810645082,58.451860277565537,61.592960831964646,63.168066276210041,67.656535694901237,69.43008353348614,66.785666146494862,61.556697980596809,63.059766475998941,69.599999999999994,75.334121857775557,75.757224577836283]
["Total",{"$f":"SUM(B14:B15)","v":0},93.889784933015562,86.05176328191358,88.798532318015504,92.280319660864109,{"$f":"SUM(G14:G15)","v":98.265184774585208},99.573913571085711,97.07359883174054,91.511775332783586,92.178260057916191,99.6,{"$f":"SUM(M14:M15)","v":104.48173533749664},{"$f":"SUM(N14:N15)","v":106.87659503011039}]
["Total Salary and Wages including ovetime and incentive pay"]
["Management (including executive)",null,3223582.17,3303364.6793928575,3486808.12,3806159.8312767851,4120436.1700000004,4194552.6900000004,4252671.5699999984,4564445.6700000009,4503930.6850000005,4640623,4490326.6150999991,4872453.6099999994]
["Non-Management (union and non-union)",null,4556412.0599999996,4391646.037142857,4843154.5099999988,4967651.6395000014,5159945.8100000015,5441131.75,5737349.75,5761297.1699999999,5799114.5350000001,6399559,6803824.5753000006,6984846.9000000004]
["Total",{"$f":"SUM(B18:B19)","v":0},7779994.2299999995,7695010.7165357145,8329962.629999999,8773811.470776787,9280381.9800000023,9635684.4400000013,9990021.3199999984,10325742.84,10303045.220000001,11040182,11294151.190400001,11857300.51]
["Total Benefits (Current + Accrued)"]
["Management (including executive)",null,825152.48,863979.20060714299,933453.35,1019293.9687232142,1153097.81,1151641.28,1239372.48,1035827.4799999999,1079796.5600000003,1114245.03,1077619,1202317]
["Non-Management (union and non-union)",null,1526778.2000000004,1252952.1328571429,1372936.5125,1414713.9505000003,1499456.6,1612164.45,1596440.8099999998,1569179.7500000002,1574664.8800000001,1682542.57,1824564,1837223]
["Total",{"$f":"SUM(B22:B23)","v":0},{"$f":"SUM(C22:C23)","v":2351930.6800000006},2116931.3334642858,2306389.8624999998,2434007.9192232145,2652554.41,2763805.73,2835813.29,2605007.23,2654461.4400000004,2796787.6,2902183,3039540]
["Total Compensation (Salary, Wages, & Benefits)"]
["Management (including executive)",{"$f":"B18+B22","v":0},4048734.65,4167343.8800000004,4420261.47,4825453.7999999989,5273533.9800000004,5346193.9700000007,5492044.0499999989,5600273.1500000004,5583727.245000001,5754868.0300000003,5567945.6150999991,6074770.6099999994]
["Non-Management (union and non-union)",0,6083190.2599999998,5644598.1699999999,6216091.022499999,6382365.5900000017,6659402.410000002,7053296.2000000002,7333790.5599999996,7330476.9199999999,7373779.415,8082101.5700000003,8628388.5753000006,8822069.9000000004]
["Total",{"$f":"B20+B24","v":0},10131924.91,9811942.0500000007,10636352.4925,11207819.390000001,11932936.390000002,12399490.170000002,12825834.609999999,12930750.07,12957506.66,13836969.6,14196334.190400001,14896840.51]
["Total Compensation Breakdown (Capital, OM&A)"]
["OM&A",null,{"$f":"C32-C31","v":8356320.0700000003},{"$f":"D32-D31","v":7882868.2300000004},8295119.7324999999,8691774.0200000014,9258418.9000000041,9481167.9600000009,8810164.3599999975,8798164.3399999999,8802582.1699999999,9241790.5999999996,9740506.1904000007,10430428.51]
["Capital",null,1775604.8399999999,1929073.8200000003,2341232.7599999998,2516045.3699999992,2674517.4899999984,2918322.2100000009,4015670.2500000019,4132585.7300000004,4154924.49,4595179,4455828,4466412]
["Total",{"$f":"B24+B28","v":0},{"$f":"C28","v":10131924.91},{"$f":"D28","v":9811942.0500000007},10636352.4925,11207819.390000001,11932936.390000002,12399490.170000002,12825834.609999999,12930750.07,12957506.66,13836969.6,14196334.190400001,14896840.51]
[]
["Bluewater settlement agreement did not detail changes to Appendix 2-k specifically"]
[]
["Note:"]
["1.   If an applicant wishes to use headcount, it must also file the same schedule on an FTE basis."]

{"sheet":"Hidden_Employee Costs","index":44,"n_rows":201,"n_cols":9,"rows_kept":201,"cut":false,"hidden":true,"merged":[]}
["Utility Name","EB Number","Test Year","Bridge Year","Last Rebasing Year","Employee Cost Info","Heading","Year","Amount"]
[{"$f":"'LDC Info'!$E$14","v":"Bluewater Power Distribution Corporation"},{"$f":"EBNUMBER","v":"EB-2022-0016"},{"$f":"TestYear","v":2023},{"$f":"BridgeYear","v":2022},{"$f":"RebaseYear","v":2013},"Management (including executive)","Number of Employees (FTEs including Part-Time)",{"$f":"'App.2-K_Employee Costs'!B$12","v":"Last Rebasing Year (2013 OEB Approved)"},{"$f":"'App.2-K_Employee Costs'!B$14","v":0}]
[{"$f":"'LDC Info'!$E$14","v":"Bluewater Power Distribution Corporation"},"EB-2022-0016",2023,2022,2013,"Non-Management (union and non-union)","Number of Employees (FTEs including Part-Time)",{"$f":"'App.2-K_Employee Costs'!B$12","v":"Last Rebasing Year (2013 OEB Approved)"},{"$f":"'App.2-K_Employee Costs'!B$15","v":0}]
[{"$f":"'LDC Info'!$E$14","v":"Bluewater Power Distribution Corporation"},"EB-2022-0016",2023,2022,2013,"Management (including executive)","Total Salary and Wages including ovetime and incentive pay",{"$f":"'App.2-K_Employee Costs'!B$12","v":"Last Rebasing Year (2013 OEB Approved)"},{"$f":"'App.2-K_Employee Costs'!B$18","v":0}]
[{"$f":"'LDC Info'!$E$14","v":"Bluewater Power Distribution Corporation"},"EB-2022-0016",2023,2022,2013,"Non-Management (union and non-union)","Total Salary and Wages including ovetime and incentive pay",{"$f":"'App.2-K_Employee Costs'!B$12","v":"Last Rebasing Year (2013 OEB Approved)"},{"$f":"'App.2-K_Employee Costs'!B$19","v":0}]
[{"$f":"'LDC Info'!$E$14","v":"Bluewater Power Distribution Corporation"},"EB-2022-0016",2023,2022,2013,"Management (including executive)","Total Benefits (Current + Accrued)",{"$f":"'App.2-K_Employee Costs'!B$12","v":"Last Rebasing Year (2013 OEB Approved)"},{"$f":"'App.2-K_Employee Costs'!B$22","v":0}]
[{"$f":"'LDC Info'!$E$14","v":"Bluewater Power Distribution Corporation"},"EB-2022-0016",2023,2022,2013,"Non-Management (union and non-union)","Total Benefits (Current + Accrued)",{"$f":"'App.2-K_Employee Costs'!B$12","v":"Last Rebasing Year (2013 OEB Approved)"},{"$f":"'App.2-K_Employee Costs'!B$23","v":0}]
[{"$f":"'LDC Info'!$E$14","v":"Bluewater Power Distribution Corporation"},"EB-2022-0016",2023,2022,2013,"Management (including executive)","Total Compensation (Salary, Wages, & Benefits)",{"$f":"'App.2-K_Employee Costs'!B$12","v":"Last Rebasing Year (2013 OEB Approved)"},{"$f":"'App.2-K_Employee Costs'!B$26","v":0}]
[{"$f":"'LDC Info'!$E$14","v":"Bluewater Power Distribution Corporation"},"EB-2022-0016",2023,2022,2013,"Non-Management (union and non-union)","Total Compensation (Salary, Wages, & Benefits)",{"$f":"'App.2-K_Employee Costs'!B$12","v":"Last Rebasing Year (2013 OEB Approved)"},{"$f":"'App.2-K_Employee Costs'!B$27","v":0}]
[{"$f":"'LDC Info'!$E$14","v":"Bluewater Power Distribution Corporation"},"EB-2022-0016",2023,2022,2013,"Management (including executive)","Number of Employees (FTEs including Part-Time)",{"$f":"'App.2-K_Employee Costs'!C$12","v":"Last Rebasing Year (2013 Actuals)"},{"$f":"'App.2-K_Employee Costs'!C$14","v":27.135531122370473}]
[{"$f":"'LDC Info'!$E$14","v":"Bluewater Power Distribution Corporation"},"EB-2022-0016",2023,2022,2013,"Non-Management (union and non-union)","Number of Employees (FTEs including Part-Time)",{"$f":"'App.2-K_Employee Costs'!C$12","v":"Last Rebasing Year (2013 Actuals)"},{"$f":"'App.2-K_Employee Costs'!C$15","v":66.754253810645082}]
[{"$f":"'LDC Info'!$E$14","v":"Bluewater Power Distribution Corporation"},"EB-2022-0016",2023,2022,2013,"Management (including executive)","Total Salary and Wages including ovetime and incentive pay",{"$f":"'App.2-K_Employee Costs'!C$12","v":"Last Rebasing Year (2013 Actuals)"},{"$f":"'App.2-K_Employee Costs'!C$18","v":3223582.17}]
[{"$f":"'LDC Info'!$E$14","v":"Bluewater Power Distribution Corporation"},"EB-2022-0016",2023,2022,2013,"Non-Management (union and non-union)","Total Salary and Wages including ovetime and incentive pay",{"$f":"'App.2-K_Employee Costs'!C$12","v":"Last Rebasing Year (2013 Actuals)"},{"$f":"'App.2-K_Employee Costs'!C$19","v":4556412.0599999996}]
[{"$f":"'LDC Info'!$E$14","v":"Bluewater Power Distribution Corporation"},"EB-2022-0016",2023,2022,2013,"Management (including executive)","Total Benefits (Current + Accrued)",{"$f":"'App.2-K_Employee Costs'!C$12","v":"Last Rebasing Year (2013 Actuals)"},{"$f":"'App.2-K_Employee Costs'!C$22","v":825152.48}]
[{"$f":"'LDC Info'!$E$14","v":"Bluewater Power Distribution Corporation"},"EB-2022-0016",2023,2022,2013,"Non-Management (union and non-union)","Total Benefits (Current + Accrued)",{"$f":"'App.2-K_Employee Costs'!C$12","v":"Last Rebasing Year (2013 Actuals)"},{"$f":"'App.2-K_Employee Costs'!C$23","v":1526778.2000000004}]
[{"$f":"'LDC Info'!$E$14","v":"Bluewater Power Distribution Corporation"},"EB-2022-0016",2023,2022,2013,"Management (including executive)","Total Compensation (Salary, Wages, & Benefits)",{"$f":"'App.2-K_Employee Costs'!C$12","v":"Last Rebasing Year (2013 Actuals)"},{"$f":"'App.2-K_Employee Costs'!C$26","v":4048734.65}]
[{"$f":"'LDC Info'!$E$14","v":"Bluewater Power Distribution Corporation"},"EB-2022-0016",2023,2022,2013,"Non-Management (union and non-union)","Total Compensation (Salary, Wages, & Benefits)",{"$f":"'App.2-K_Employee Costs'!C$12","v":"Last Rebasing Year (2013 Actuals)"},{"$f":"'App.2-K_Employee Costs'!C$27","v":6083190.2599999998}]
[{"$f":"'LDC Info'!$E$14","v":"Bluewater Power Distribution Corporation"},"EB-2022-0016",2023,2022,2013,"Management (including executive)","Number of Employees (FTEs including Part-Time)",{"$f":"'App.2-K_Employee Costs'!#REF!","v":{"$error":"#REF!"}},{"$f":"'App.2-K_Employee Costs'!#REF!","v":{"$error":"#REF!"}}]
[{"$f":"'LDC Info'!$E$14","v":"Bluewater Power Distribution Corporation"},"EB-2022-0016",2023,2022,2013,"Non-Management (union and non-union)","Number of Employees (FTEs including Part-Time)",{"$f":"'App.2-K_Employee Costs'!#REF!","v":{"$error":"#REF!"}},{"$f":"'App.2-K_Employee Costs'!#REF!","v":{"$error":"#REF!"}}]
[{"$f":"'LDC Info'!$E$14","v":"Bluewater Power Distribution Corporation"},"EB-2022-0016",2023,2022,2013,"Management (including executive)","Total Salary and Wages including ovetime and incentive pay",{"$f":"'App.2-K_Employee Costs'!#REF!","v":{"$error":"#REF!"}},{"$f":"'App.2-K_Employee Costs'!#REF!","v":{"$error":"#REF!"}}]
[{"$f":"'LDC Info'!$E$14","v":"Bluewater Power Distribution Corporation"},"EB-2022-0016",2023,2022,2013,"Non-Management (union and non-union)","Total Salary and Wages including ovetime and incentive pay",{"$f":"'App.2-K_Employee Costs'!#REF!","v":{"$error":"#REF!"}},{"$f":"'App.2-K_Employee Costs'!#REF!","v":{"$error":"#REF!"}}]
[{"$f":"'LDC Info'!$E$14","v":"Bluewater Power Distribution Corporation"},"EB-2022-0016",2023,2022,2013,"Management (including executive)","Total Benefits (Current + Accrued)",{"$f":"'App.2-K_Employee Costs'!#REF!","v":{"$error":"#REF!"}},{"$f":"'App.2-K_Employee Costs'!#REF!","v":{"$error":"#REF!"}}]
[{"$f":"'LDC Info'!$E$14","v":"Bluewater Power Distribution Corporation"},"EB-2022-0016",2023,2022,2013,"Non-Management (union and non-union)","Total Benefits (Current + Accrued)",{"$f":"'App.2-K_Employee Costs'!#REF!","v":{"$error":"#REF!"}},{"$f":"'App.2-K_Employee Costs'!#REF!","v":{"$error":"#REF!"}}]
[{"$f":"'LDC Info'!$E$14","v":"Bluewater Power Distribution Corporation"},"EB-2022-0016",2023,2022,2013,"Management (including executive)","Total Compensation (Salary, Wages, & Benefits)",{"$f":"'App.2-K_Employee Costs'!#REF!","v":{"$error":"#REF!"}},{"$f":"'App.2-K_Employee Costs'!#REF!","v":{"$error":"#REF!"}}]
[{"$f":"'LDC Info'!$E$14","v":"Bluewater Power Distribution Corporation"},"EB-2022-0016",2023,2022,2013,"Non-Management (union and non-union)","Total Compensation (Salary, Wages, & Benefits)",{"$f":"'App.2-K_Employee Costs'!#REF!","v":{"$error":"#REF!"}},{"$f":"'App.2-K_Employee Costs'!#REF!","v":{"$error":"#REF!"}}]
[{"$f":"'LDC Info'!$E$14","v":"Bluewater Power Distribution Corporation"},"EB-2022-0016",2023,2022,2013,"Management (including executive)","Number of Employees (FTEs including Part-Time)",{"$f":"'App.2-K_Employee Costs'!D$12","v":"2014 Actuals"},{"$f":"'App.2-K_Employee Costs'!D$14","v":27.599903004348043}]
[{"$f":"'LDC Info'!$E$14","v":"Bluewater Power Distribution Corporation"},"EB-2022-0016",2023,2022,2013,"Non-Management (union and non-union)","Number of Employees (FTEs including Part-Time)",{"$f":"'App.2-K_Employee Costs'!D$12","v":"2014 Actuals"},{"$f":"'App.2-K_Employee Costs'!D$15","v":58.451860277565537}]
[{"$f":"'LDC Info'!$E$14","v":"Bluewater Power Distribution Corporation"},"EB-2022-0016",2023,2022,2013,"Management (including executive)","Total Salary and Wages including ovetime and incentive pay",{"$f":"'App.2-K_Employee Costs'!D$12","v":"2014 Actuals"},{"$f":"'App.2-K_Employee Costs'!D$18","v":3303364.6793928575}]
[{"$f":"'LDC Info'!$E$14","v":"Bluewater Power Distribution Corporation"},"EB-2022-0016",2023,2022,2013,"Non-Management (union and non-union)","Total Salary and Wages including ovetime and incentive pay",{"$f":"'App.2-K_Employee Costs'!D$12","v":"2014 Actuals"},{"$f":"'App.2-K_Employee Costs'!D$19","v":4391646.037142857}]
[{"$f":"'LDC Info'!$E$14","v":"Bluewater Power Distribution Corporation"},"EB-2022-0016",2023,2022,2013,"Management (including executive)","Total Benefits (Current + Accrued)",{"$f":"'App.2-K_Employee Costs'!D$12","v":"2014 Actuals"},{"$f":"'App.2-K_Employee Costs'!D$22","v":863979.20060714299}]
[{"$f":"'LDC Info'!$E$14","v":"Bluewater Power Distribution Corporation"},"EB-2022-0016",2023,2022,2013,"Non-Management (union and non-union)","Total Benefits (Current + Accrued)",{"$f":"'App.2-K_Employee Costs'!D$12","v":"2014 Actuals"},{"$f":"'App.2-K_Employee Costs'!D$23","v":1252952.1328571429}]
[{"$f":"'LDC Info'!$E$14","v":"Bluewater Power Distribution Corporation"},"EB-2022-0016",2023,2022,2013,"Management (including executive)","Total Compensation (Salary, Wages, & Benefits)",{"$f":"'App.2-K_Employee Costs'!D$12","v":"2014 Actuals"},{"$f":"'App.2-K_Employee Costs'!D$26","v":4167343.8800000004}]
[{"$f":"'LDC Info'!$E$14","v":"Bluewater Power Distribution Corporation"},"EB-2022-0016",2023,2022,2013,"Non-Management (union and non-union)","Total Compensation (Salary, Wages, & Benefits)",{"$f":"'App.2-K_Employee Costs'!D$12","v":"2014 Actuals"},{"$f":"'App.2-K_Employee Costs'!D$27","v":5644598.1699999999}]
[{"$f":"'LDC Info'!$E$14","v":"Bluewater Power Distribution Corporation"},{"$f":"EBNUMBER","v":"EB-2022-0016"},{"$f":"TestYear","v":2023},{"$f":"BridgeYear","v":2022},{"$f":"RebaseYear","v":2013},"Management (including executive)","Number of Employees (FTEs including Part-Time)",{"$f":"'App.2-K_Employee Costs'!E$12","v":"2015 Actuals"},{"$f":"'App.2-K_Employee Costs'!E$14","v":27.205571486050864}]
[{"$f":"'LDC Info'!$E$14","v":"Bluewater Power Distribution Corporation"},"EB-2022-0016",2023,2022,2013,"Non-Management (union and non-union)","Number of Employees (FTEs including Part-Time)",{"$f":"'App.2-K_Employee Costs'!E$12","v":"2015 Actuals"},{"$f":"'App.2-K_Employee Costs'!E$15","v":61.592960831964646}]
[{"$f":"'LDC Info'!$E$14","v":"Bluewater Power Distribution Corporation"},"EB-2022-0016",2023,2022,2013,"Management (including executive)","Total Salary and Wages including ovetime and incentive pay",{"$f":"'App.2-K_Employee Costs'!E$12","v":"2015 Actuals"},{"$f":"'App.2-K_Employee Costs'!E$18","v":3486808.12}]
[{"$f":"'LDC Info'!$E$14","v":"Bluewater Power Distribution Corporation"},"EB-2022-0016",2023,2022,2013,"Non-Management (union and non-union)","Total Salary and Wages including ovetime and incentive pay",{"$f":"'App.2-K_Employee Costs'!E$12","v":"2015 Actuals"},{"$f":"'App.2-K_Employee Costs'!E$19","v":4843154.5099999988}]
[{"$f":"'LDC Info'!$E$14","v":"Bluewater Power Distribution Corporation"},"EB-2022-0016",2023,2022,2013,"Management (including executive)","Total Benefits (Current + Accrued)",{"$f":"'App.2-K_Employee Costs'!E$12","v":"2015 Actuals"},{"$f":"'App.2-K_Employee Costs'!E$22","v":933453.35}]
[{"$f":"'LDC Info'!$E$14","v":"Bluewater Power Distribution Corporation"},"EB-2022-0016",2023,2022,2013,"Non-Management (union and non-union)","Total Benefits (Current + Accrued)",{"$f":"'App.2-K_Employee Costs'!E$12","v":"2015 Actuals"},{"$f":"'App.2-K_Employee Costs'!E$23","v":1372936.5125}]
[{"$f":"'LDC Info'!$E$14","v":"Bluewater Power Distribution Corporation"},"EB-2022-0016",2023,2022,2013,"Management (including executive)","Total Compensation (Salary, Wages, & Benefits)",{"$f":"'App.2-K_Employee Costs'!E$12","v":"2015 Actuals"},{"$f":"'App.2-K_Employee Costs'!E$26","v":4420261.47}]
[{"$f":"'LDC Info'!$E$14","v":"Bluewater Power Distribution Corporation"},"EB-2022-0016",2023,2022,2013,"Non-Management (union and non-union)","Total Compensation (Salary, Wages, & Benefits)",{"$f":"'App.2-K_Employee Costs'!E$12","v":"2015 Actuals"},{"$f":"'App.2-K_Employee Costs'!E$27","v":6216091.022499999}]
[{"$f":"'LDC Info'!$E$14","v":"Bluewater Power Distribution Corporation"},"EB-2022-0016",2023,2022,2013,"Management (including executive)","Number of Employees (FTEs including Part-Time)",{"$f":"'App.2-K_Employee Costs'!#REF!","v":{"$error":"#REF!"}},{"$f":"'App.2-K_Employee Costs'!#REF!","v":{"$error":"#REF!"}}]
[{"$f":"'LDC Info'!$E$14","v":"Bluewater Power Distribution Corporation"},"EB-2022-0016",2023,2022,2013,"Non-Management (union and non-union)","Number of Employees (FTEs including Part-Time)",{"$f":"'App.2-K_Employee Costs'!#REF!","v":{"$error":"#REF!"}},{"$f":"'App.2-K_Employee Costs'!#REF!","v":{"$error":"#REF!"}}]
[{"$f":"'LDC Info'!$E$14","v":"Bluewater Power Distribution Corporation"},"EB-2022-0016",2023,2022,2013,"Management (including executive)","Total Salary and Wages including ovetime and incentive pay",{"$f":"'App.2-K_Employee Costs'!#REF!","v":{"$error":"#REF!"}},{"$f":"'App.2-K_Employee Costs'!#REF!","v":{"$error":"#REF!"}}]
[{"$f":"'LDC Info'!$E$14","v":"Bluewater Power Distribution Corporation"},"EB-2022-0016",2023,2022,2013,"Non-Management (union and non-union)","Total Salary and Wages including ovetime and incentive pay",{"$f":"'App.2-K_Employee Costs'!#REF!","v":{"$error":"#REF!"}},{"$f":"'App.2-K_Employee Costs'!#REF!","v":{"$error":"#REF!"}}]
[{"$f":"'LDC Info'!$E$14","v":"Bluewater Power Distribution Corporation"},"EB-2022-0016",2023,2022,2013,"Management (including executive)","Total Benefits (Current + Accrued)",{"$f":"'App.2-K_Employee Costs'!#REF!","v":{"$error":"#REF!"}},{"$f":"'App.2-K_Employee Costs'!#REF!","v":{"$error":"#REF!"}}]
[{"$f":"'LDC Info'!$E$14","v":"Bluewater Power Distribution Corporation"},"EB-2022-0016",2023,2022,2013,"Non-Management (union and non-union)","Total Benefits (Current + Accrued)",{"$f":"'App.2-K_Employee Costs'!#REF!","v":{"$error":"#REF!"}},{"$f":"'App.2-K_Employee Costs'!#REF!","v":{"$error":"#REF!"}}]
[{"$f":"'LDC Info'!$E$14","v":"Bluewater Power Distribution Corporation"},"EB-2022-0016",2023,2022,2013,"Management (including executive)","Total Compensation (Salary, Wages, & Benefits)",{"$f":"'App.2-K_Employee Costs'!#REF!","v":{"$error":"#REF!"}},{"$f":"'App.2-K_Employee Costs'!#REF!","v":{"$error":"#REF!"}}]
[{"$f":"'LDC Info'!$E$14","v":"Bluewater Power Distribution Corporation"},"EB-2022-0016",2023,2022,2013,"Non-Management (union and non-union)","Total Compensation (Salary, Wages, & Benefits)",{"$f":"'App.2-K_Employee Costs'!#REF!","v":{"$error":"#REF!"}},{"$f":"'App.2-K_Employee Costs'!#REF!","v":{"$error":"#REF!"}}]
[{"$f":"'LDC Info'!$E$14","v":"Bluewater Power Distribution Corporation"},"EB-2022-0016",2023,2022,2013,"Management (including executive)","Number of Employees (FTEs including Part-Time)",{"$f":"'App.2-K_Employee Costs'!#REF!","v":{"$error":"#REF!"}},{"$f":"'App.2-K_Employee Costs'!#REF!","v":{"$error":"#REF!"}}]
[{"$f":"'LDC Info'!$E$14","v":"Bluewater Power Distribution Corporation"},"EB-2022-0016",2023,2022,2013,"Non-Management (union and non-union)","Number of Employees (FTEs including Part-Time)",{"$f":"'App.2-K_Employee Costs'!#REF!","v":{"$error":"#REF!"}},{"$f":"'App.2-K_Employee Costs'!#REF!","v":{"$error":"#REF!"}}]
[{"$f":"'LDC Info'!$E$14","v":"Bluewater Power Distribution Corporation"},"EB-2022-0016",2023,2022,2013,"Management (including executive)","Total Salary and Wages including ovetime and incentive pay",{"$f":"'App.2-K_Employee Costs'!#REF!","v":{"$error":"#REF!"}},{"$f":"'App.2-K_Employee Costs'!#REF!","v":{"$error":"#REF!"}}]
[{"$f":"'LDC Info'!$E$14","v":"Bluewater Power Distribution Corporation"},"EB-2022-0016",2023,2022,2013,"Non-Management (union and non-union)","Total Salary and Wages including ovetime and incentive pay",{"$f":"'App.2-K_Employee Costs'!#REF!","v":{"$error":"#REF!"}},{"$f":"'App.2-K_Employee Costs'!#REF!","v":{"$error":"#REF!"}}]
[{"$f":"'LDC Info'!$E$14","v":"Bluewater Power Distribution Corporation"},"EB-2022-0016",2023,2022,2013,"Management (including executive)","Total Benefits (Current + Accrued)",{"$f":"'App.2-K_Employee Costs'!#REF!","v":{"$error":"#REF!"}},{"$f":"'App.2-K_Employee Costs'!#REF!","v":{"$error":"#REF!"}}]
[{"$f":"'LDC Info'!$E$14","v":"Bluewater Power Distribution Corporation"},"EB-2022-0016",2023,2022,2013,"Non-Management (union and non-union)","Total Benefits (Current + Accrued)",{"$f":"'App.2-K_Employee Costs'!#REF!","v":{"$error":"#REF!"}},{"$f":"'App.2-K_Employee Costs'!#REF!","v":{"$error":"#REF!"}}]
[{"$f":"'LDC Info'!$E$14","v":"Bluewater Power Distribution Corporation"},"EB-2022-0016",2023,2022,2013,"Management (including executive)","Total Compensation (Salary, Wages, & Benefits)",{"$f":"'App.2-K_Employee Costs'!#REF!","v":{"$error":"#REF!"}},{"$f":"'App.2-K_Employee Costs'!#REF!","v":{"$error":"#REF!"}}]
[{"$f":"'LDC Info'!$E$14","v":"Bluewater Power Distribution Corporation"},"EB-2022-0016",2023,2022,2013,"Non-Management (union and non-union)","Total Compensation (Salary, Wages, & Benefits)",{"$f":"'App.2-K_Employee Costs'!#REF!","v":{"$error":"#REF!"}},{"$f":"'App.2-K_Employee Costs'!#REF!","v":{"$error":"#REF!"}}]
[{"$f":"'LDC Info'!$E$14","v":"Bluewater Power Distribution Corporation"},"EB-2022-0016",2023,2022,2013,"Management (including executive)","Number of Employees (FTEs including Part-Time)",{"$f":"'App.2-K_Employee Costs'!F$12","v":"2016 Actuals"},{"$f":"'App.2-K_Employee Costs'!F$14","v":29.112253384654061}]
[{"$f":"'LDC Info'!$E$14","v":"Bluewater Power Distribution Corporation"},"EB-2022-0016",2023,2022,2013,"Non-Management (union and non-union)","Number of Employees (FTEs including Part-Time)",{"$f":"'App.2-K_Employee Costs'!F$12","v":"2016 Actuals"},{"$f":"'App.2-K_Employee Costs'!F$15","v":63.168066276210041}]
[{"$f":"'LDC Info'!$E$14","v":"Bluewater Power Distribution Corporation"},"EB-2022-0016",2023,2022,2013,"Management (including executive)","Total Salary and Wages including ovetime and incentive pay",{"$f":"'App.2-K_Employee Costs'!F$12","v":"2016 Actuals"},{"$f":"'App.2-K_Employee Costs'!F$18","v":3806159.8312767851}]
[{"$f":"'LDC Info'!$E$14","v":"Bluewater Power Distribution Corporation"},"EB-2022-0016",2023,2022,2013,"Non-Management (union and non-union)","Total Salary and Wages including ovetime and incentive pay",{"$f":"'App.2-K_Employee Costs'!F$12","v":"2016 Actuals"},{"$f":"'App.2-K_Employee Costs'!F$19","v":4967651.6395000014}]
[{"$f":"'LDC Info'!$E$14","v":"Bluewater Power Distribution Corporation"},"EB-2022-0016",2023,2022,2013,"Management (including executive)","Total Benefits (Current + Accrued)",{"$f":"'App.2-K_Employee Costs'!F$12","v":"2016 Actuals"},{"$f":"'App.2-K_Employee Costs'!F$22","v":1019293.9687232142}]
[{"$f":"'LDC Info'!$E$14","v":"Bluewater Power Distribution Corporation"},"EB-2022-0016",2023,2022,2013,"Non-Management (union and non-union)","Total Benefits (Current + Accrued)",{"$f":"'App.2-K_Employee Costs'!F$12","v":"2016 Actuals"},{"$f":"'App.2-K_Employee Costs'!F$23","v":1414713.9505000003}]
[{"$f":"'LDC Info'!$E$14","v":"Bluewater Power Distribution Corporation"},"EB-2022-0016",2023,2022,2013,"Management (including executive)","Total Compensation (Salary, Wages, & Benefits)",{"$f":"'App.2-K_Employee Costs'!F$12","v":"2016 Actuals"},{"$f":"'App.2-K_Employee Costs'!F$26","v":4825453.7999999989}]
[{"$f":"'LDC Info'!$E$14","v":"Bluewater Power Distribution Corporation"},"EB-2022-0016",2023,2022,2013,"Non-Management (union and non-union)","Total Compensation (Salary, Wages, & Benefits)",{"$f":"'App.2-K_Employee Costs'!F$12","v":"2016 Actuals"},{"$f":"'App.2-K_Employee Costs'!F$27","v":6382365.5900000017}]
[{"$f":"'LDC Info'!$E$14","v":"Bluewater Power Distribution Corporation"},{"$f":"EBNUMBER","v":"EB-2022-0016"},{"$f":"TestYear","v":2023},{"$f":"BridgeYear","v":2022},{"$f":"RebaseYear","v":2013},"Management (including executive)","Number of Employees (FTEs including Part-Time)",{"$f":"'App.2-K_Employee Costs'!#REF!","v":{"$error":"#REF!"}},{"$f":"'App.2-K_Employee Costs'!#REF!","v":{"$error":"#REF!"}}]
[{"$f":"'LDC Info'!$E$14","v":"Bluewater Power Distribution Corporation"},"EB-2022-0016",2023,2022,2013,"Non-Management (union and non-union)","Number of Employees (FTEs including Part-Time)",{"$f":"'App.2-K_Employee Costs'!#REF!","v":{"$error":"#REF!"}},{"$f":"'App.2-K_Employee Costs'!#REF!","v":{"$error":"#REF!"}}]
[{"$f":"'LDC Info'!$E$14","v":"Bluewater Power Distribution Corporation"},"EB-2022-0016",2023,2022,2013,"Management (including executive)","Total Salary and Wages including ovetime and incentive pay",{"$f":"'App.2-K_Employee Costs'!#REF!","v":{"$error":"#REF!"}},{"$f":"'App.2-K_Employee Costs'!#REF!","v":{"$error":"#REF!"}}]
[{"$f":"'LDC Info'!$E$14","v":"Bluewater Power Distribution Corporation"},"EB-2022-0016",2023,2022,2013,"Non-Management (union and non-union)","Total Salary and Wages including ovetime and incentive pay",{"$f":"'App.2-K_Employee Costs'!#REF!","v":{"$error":"#REF!"}},{"$f":"'App.2-K_Employee Costs'!#REF!","v":{"$error":"#REF!"}}]
[{"$f":"'LDC Info'!$E$14","v":"Bluewater Power Distribution Corporation"},"EB-2022-0016",2023,2022,2013,"Management (including executive)","Total Benefits (Current + Accrued)",{"$f":"'App.2-K_Employee Costs'!#REF!","v":{"$error":"#REF!"}},{"$f":"'App.2-K_Employee Costs'!#REF!","v":{"$error":"#REF!"}}]
[{"$f":"'LDC Info'!$E$14","v":"Bluewater Power Distribution Corporation"},"EB-2022-0016",2023,2022,2013,"Non-Management (union and non-union)","Total Benefits (Current + Accrued)",{"$f":"'App.2-K_Employee Costs'!#REF!","v":{"$error":"#REF!"}},{"$f":"'App.2-K_Employee Costs'!#REF!","v":{"$error":"#REF!"}}]
[{"$f":"'LDC Info'!$E$14","v":"Bluewater Power Distribution Corporation"},"EB-2022-0016",2023,2022,2013,"Management (including executive)","Total Compensation (Salary, Wages, & Benefits)",{"$f":"'App.2-K_Employee Costs'!#REF!","v":{"$error":"#REF!"}},{"$f":"'App.2-K_Employee Costs'!#REF!","v":{"$error":"#REF!"}}]
[{"$f":"'LDC Info'!$E$14","v":"Bluewater Power Distribution Corporation"},"EB-2022-0016",2023,2022,2013,"Non-Management (union and non-union)","Total Compensation (Salary, Wages, & Benefits)",{"$f":"'App.2-K_Employee Costs'!#REF!","v":{"$error":"#REF!"}},{"$f":"'App.2-K_Employee Costs'!#REF!","v":{"$error":"#REF!"}}]
[{"$f":"'LDC Info'!$E$14","v":"Bluewater Power Distribution Corporation"},"EB-2022-0016",2023,2022,2013,"Management (including executive)","Number of Employees (FTEs including Part-Time)",{"$f":"'App.2-K_Employee Costs'!#REF!","v":{"$error":"#REF!"}},{"$f":"'App.2-K_Employee Costs'!#REF!","v":{"$error":"#REF!"}}]
[{"$f":"'LDC Info'!$E$14","v":"Bluewater Power Distribution Corporation"},"EB-2022-0016",2023,2022,2013,"Non-Management (union and non-union)","Number of Employees (FTEs including Part-Time)",{"$f":"'App.2-K_Employee Costs'!#REF!","v":{"$error":"#REF!"}},{"$f":"'App.2-K_Employee Costs'!#REF!","v":{"$error":"#REF!"}}]
[{"$f":"'LDC Info'!$E$14","v":"Bluewater Power Distribution Corporation"},"EB-2022-0016",2023,2022,2013,"Management (including executive)","Total Salary and Wages including ovetime and incentive pay",{"$f":"'App.2-K_Employee Costs'!#REF!","v":{"$error":"#REF!"}},{"$f":"'App.2-K_Employee Costs'!#REF!","v":{"$error":"#REF!"}}]
[{"$f":"'LDC Info'!$E$14","v":"Bluewater Power Distribution Corporation"},"EB-2022-0016",2023,2022,2013,"Non-Management (union and non-union)","Total Salary and Wages including ovetime and incentive pay",{"$f":"'App.2-K_Employee Costs'!#REF!","v":{"$error":"#REF!"}},{"$f":"'App.2-K_Employee Costs'!#REF!","v":{"$error":"#REF!"}}]
[{"$f":"'LDC Info'!$E$14","v":"Bluewater Power Distribution Corporation"},"EB-2022-0016",2023,2022,2013,"Management (including executive)","Total Benefits (Current + Accrued)",{"$f":"'App.2-K_Employee Costs'!#REF!","v":{"$error":"#REF!"}},{"$f":"'App.2-K_Employee Costs'!#REF!","v":{"$error":"#REF!"}}]
[{"$f":"'LDC Info'!$E$14","v":"Bluewater Power Distribution Corporation"},"EB-2022-0016",2023,2022,2013,"Non-Management (union and non-union)","Total Benefits (Current + Accrued)",{"$f":"'App.2-K_Employee Costs'!#REF!","v":{"$error":"#REF!"}},{"$f":"'App.2-K_Employee Costs'!#REF!","v":{"$error":"#REF!"}}]
[{"$f":"'LDC Info'!$E$14","v":"Bluewater Power Distribution Corporation"},"EB-2022-0016",2023,2022,2013,"Management (including executive)","Total Compensation (Salary, Wages, & Benefits)",{"$f":"'App.2-K_Employee Costs'!#REF!","v":{"$error":"#REF!"}},{"$f":"'App.2-K_Employee Costs'!#REF!","v":{"$error":"#REF!"}}]
[{"$f":"'LDC Info'!$E$14","v":"Bluewater Power Distribution Corporation"},"EB-2022-0016",2023,2022,2013,"Non-Management (union and non-union)","Total Compensation (Salary, Wages, & Benefits)",{"$f":"'App.2-K_Employee Costs'!#REF!","v":{"$error":"#REF!"}},{"$f":"'App.2-K_Employee Costs'!#REF!","v":{"$error":"#REF!"}}]
[{"$f":"'LDC Info'!$E$14","v":"Bluewater Power Distribution Corporation"},"EB-2022-0016",2023,2022,2013,"Management (including executive)","Number of Employees (FTEs including Part-Time)",{"$f":"'App.2-K_Employee Costs'!G$12","v":"2017 Actuals"},{"$f":"'App.2-K_Employee Costs'!G$14","v":30.608649079683978}]
[{"$f":"'LDC Info'!$E$14","v":"Bluewater Power Distribution Corporation"},"EB-2022-0016",2023,2022,2013,"Non-Management (union and non-union)","Number of Employees (FTEs including Part-Time)",{"$f":"'App.2-K_Employee Costs'!G$12","v":"2017 Actuals"},{"$f":"'App.2-K_Employee Costs'!G$15","v":67.656535694901237}]
[{"$f":"'LDC Info'!$E$14","v":"Bluewater Power Distribution Corporation"},"EB-2022-0016",2023,2022,2013,"Management (including executive)","Total Salary and Wages including ovetime and incentive pay",{"$f":"'App.2-K_Employee Costs'!G$12","v":"2017 Actuals"},{"$f":"'App.2-K_Employee Costs'!G$18","v":4120436.1700000004}]
[{"$f":"'LDC Info'!$E$14","v":"Bluewater Power Distribution Corporation"},"EB-2022-0016",2023,2022,2013,"Non-Management (union and non-union)","Total Salary and Wages including ovetime and incentive pay",{"$f":"'App.2-K_Employee Costs'!G$12","v":"2017 Actuals"},{"$f":"'App.2-K_Employee Costs'!G$19","v":5159945.8100000015}]
[{"$f":"'LDC Info'!$E$14","v":"Bluewater Power Distribution Corporation"},"EB-2022-0016",2023,2022,2013,"Management (including executive)","Total Benefits (Current + Accrued)",{"$f":"'App.2-K_Employee Costs'!G$12","v":"2017 Actuals"},{"$f":"'App.2-K_Employee Costs'!G$22","v":1153097.81}]
[{"$f":"'LDC Info'!$E$14","v":"Bluewater Power Distribution Corporation"},"EB-2022-0016",2023,2022,2013,"Non-Management (union and non-union)","Total Benefits (Current + Accrued)",{"$f":"'App.2-K_Employee Costs'!G$12","v":"2017 Actuals"},{"$f":"'App.2-K_Employee Costs'!G$23","v":1499456.6}]
[{"$f":"'LDC Info'!$E$14","v":"Bluewater Power Distribution Corporation"},"EB-2022-0016",2023,2022,2013,"Management (including executive)","Total Compensation (Salary, Wages, & Benefits)",{"$f":"'App.2-K_Employee Costs'!G$12","v":"2017 Actuals"},{"$f":"'App.2-K_Employee Costs'!G$26","v":5273533.9800000004}]
[{"$f":"'LDC Info'!$E$14","v":"Bluewater Power Distribution Corporation"},"EB-2022-0016",2023,2022,2013,"Non-Management (union and non-union)","Total Compensation (Salary, Wages, & Benefits)",{"$f":"'App.2-K_Employee Costs'!G$12","v":"2017 Actuals"},{"$f":"'App.2-K_Employee Costs'!G$27","v":6659402.410000002}]
[{"$f":"'LDC Info'!$E$14","v":"Bluewater Power Distribution Corporation"},"EB-2022-0016",2023,2022,2013,"Management (including executive)","Number of Employees (FTEs including Part-Time)",{"$f":"'App.2-K_Employee Costs'!#REF!","v":{"$error":"#REF!"}},{"$f":"'App.2-K_Employee Costs'!#REF!","v":{"$error":"#REF!"}}]
[{"$f":"'LDC Info'!$E$14","v":"Bluewater Power Distribution Corporation"},"EB-2022-0016",2023,2022,2013,"Non-Management (union and non-union)","Number of Employees (FTEs including Part-Time)",{"$f":"'App.2-K_Employee Costs'!#REF!","v":{"$error":"#REF!"}},{"$f":"'App.2-K_Employee Costs'!#REF!","v":{"$error":"#REF!"}}]
[{"$f":"'LDC Info'!$E$14","v":"Bluewater Power Distribution Corporation"},"EB-2022-0016",2023,2022,2013,"Management (including executive)","Total Salary and Wages including ovetime and incentive pay",{"$f":"'App.2-K_Employee Costs'!#REF!","v":{"$error":"#REF!"}},{"$f":"'App.2-K_Employee Costs'!#REF!","v":{"$error":"#REF!"}}]
[{"$f":"'LDC Info'!$E$14","v":"Bluewater Power Distribution Corporation"},"EB-2022-0016",2023,2022,2013,"Non-Management (union and non-union)","Total Salary and Wages including ovetime and incentive pay",{"$f":"'App.2-K_Employee Costs'!#REF!","v":{"$error":"#REF!"}},{"$f":"'App.2-K_Employee Costs'!#REF!","v":{"$error":"#REF!"}}]
[{"$f":"'LDC Info'!$E$14","v":"Bluewater Power Distribution Corporation"},"EB-2022-0016",2023,2022,2013,"Management (including executive)","Total Benefits (Current + Accrued)",{"$f":"'App.2-K_Employee Costs'!#REF!","v":{"$error":"#REF!"}},{"$f":"'App.2-K_Employee Costs'!#REF!","v":{"$error":"#REF!"}}]
[{"$f":"'LDC Info'!$E$14","v":"Bluewater Power Distribution Corporation"},"EB-2022-0016",2023,2022,2013,"Non-Management (union and non-union)","Total Benefits (Current + Accrued)",{"$f":"'App.2-K_Employee Costs'!#REF!","v":{"$error":"#REF!"}},{"$f":"'App.2-K_Employee Costs'!#REF!","v":{"$error":"#REF!"}}]
[{"$f":"'LDC Info'!$E$14","v":"Bluewater Power Distribution Corporation"},"EB-2022-0016",2023,2022,2013,"Management (including executive)","Total Compensation (Salary, Wages, & Benefits)",{"$f":"'App.2-K_Employee Costs'!#REF!","v":{"$error":"#REF!"}},{"$f":"'App.2-K_Employee Costs'!#REF!","v":{"$error":"#REF!"}}]
[{"$f":"'LDC Info'!$E$14","v":"Bluewater Power Distribution Corporation"},"EB-2022-0016",2023,2022,2013,"Non-Management (union and non-union)","Total Compensation (Salary, Wages, & Benefits)",{"$f":"'App.2-K_Employee Costs'!#REF!","v":{"$error":"#REF!"}},{"$f":"'App.2-K_Employee Costs'!#REF!","v":{"$error":"#REF!"}}]
[{"$f":"'LDC Info'!$E$14","v":"Bluewater Power Distribution Corporation"},{"$f":"EBNUMBER","v":"EB-2022-0016"},{"$f":"TestYear","v":2023},{"$f":"BridgeYear","v":2022},{"$f":"RebaseYear","v":2013},"Management (including executive)","Number of Employees (FTEs including Part-Time)",{"$f":"'App.2-K_Employee Costs'!#REF!","v":{"$error":"#REF!"}},{"$f":"'App.2-K_Employee Costs'!#REF!","v":{"$error":"#REF!"}}]
[{"$f":"'LDC Info'!$E$14","v":"Bluewater Power Distribution Corporation"},"EB-2022-0016",2023,2022,2013,"Non-Management (union and non-union)","Number of Employees (FTEs including Part-Time)",{"$f":"'App.2-K_Employee Costs'!#REF!","v":{"$error":"#REF!"}},{"$f":"'App.2-K_Employee Costs'!#REF!","v":{"$error":"#REF!"}}]
[{"$f":"'LDC Info'!$E$14","v":"Bluewater Power Distribution Corporation"},"EB-2022-0016",2023,2022,2013,"Management (including executive)","Total Salary and Wages including ovetime and incentive pay",{"$f":"'App.2-K_Employee Costs'!#REF!","v":{"$error":"#REF!"}},{"$f":"'App.2-K_Employee Costs'!#REF!","v":{"$error":"#REF!"}}]
[{"$f":"'LDC Info'!$E$14","v":"Bluewater Power Distribution Corporation"},"EB-2022-0016",2023,2022,2013,"Non-Management (union and non-union)","Total Salary and Wages including ovetime and incentive pay",{"$f":"'App.2-K_Employee Costs'!#REF!","v":{"$error":"#REF!"}},{"$f":"'App.2-K_Employee Costs'!#REF!","v":{"$error":"#REF!"}}]
[{"$f":"'LDC Info'!$E$14","v":"Bluewater Power Distribution Corporation"},"EB-2022-0016",2023,2022,2013,"Management (including executive)","Total Benefits (Current + Accrued)",{"$f":"'App.2-K_Employee Costs'!#REF!","v":{"$error":"#REF!"}},{"$f":"'App.2-K_Employee Costs'!#REF!","v":{"$error":"#REF!"}}]
[{"$f":"'LDC Info'!$E$14","v":"Bluewater Power Distribution Corporation"},"EB-2022-0016",2023,2022,2013,"Non-Management (union and non-union)","Total Benefits (Current + Accrued)",{"$f":"'App.2-K_Employee Costs'!#REF!","v":{"$error":"#REF!"}},{"$f":"'App.2-K_Employee Costs'!#REF!","v":{"$error":"#REF!"}}]
[{"$f":"'LDC Info'!$E$14","v":"Bluewater Power Distribution Corporation"},"EB-2022-0016",2023,2022,2013,"Management (including executive)","Total Compensation (Salary, Wages, & Benefits)",{"$f":"'App.2-K_Employee Costs'!#REF!","v":{"$error":"#REF!"}},{"$f":"'App.2-K_Employee Costs'!#REF!","v":{"$error":"#REF!"}}]
[{"$f":"'LDC Info'!$E$14","v":"Bluewater Power Distribution Corporation"},"EB-2022-0016",2023,2022,2013,"Non-Management (union and non-union)","Total Compensation (Salary, Wages, & Benefits)",{"$f":"'App.2-K_Employee Costs'!#REF!","v":{"$error":"#REF!"}},{"$f":"'App.2-K_Employee Costs'!#REF!","v":{"$error":"#REF!"}}]
[{"$f":"'LDC Info'!$E$14","v":"Bluewater Power Distribution Corporation"},"EB-2022-0016",2023,2022,2013,"Management (including executive)","Number of Employees (FTEs including Part-Time)",{"$f":"'App.2-K_Employee Costs'!H$12","v":"2018 Actuals"},{"$f":"'App.2-K_Employee Costs'!H$14","v":30.143830037599564}]
[{"$f":"'LDC Info'!$E$14","v":"Bluewater Power Distribution Corporation"},"EB-2022-0016",2023,2022,2013,"Non-Management (union and non-union)","Number of Employees (FTEs including Part-Time)",{"$f":"'App.2-K_Employee Costs'!H$12","v":"2018 Actuals"},{"$f":"'App.2-K_Employee Costs'!H$15","v":69.43008353348614}]
[{"$f":"'LDC Info'!$E$14","v":"Bluewater Power Distribution Corporation"},"EB-2022-0016",2023,2022,2013,"Management (including executive)","Total Salary and Wages including ovetime and incentive pay",{"$f":"'App.2-K_Employee Costs'!H$12","v":"2018 Actuals"},{"$f":"'App.2-K_Employee Costs'!H$18","v":4194552.6900000004}]
[{"$f":"'LDC Info'!$E$14","v":"Bluewater Power Distribution Corporation"},"EB-2022-0016",2023,2022,2013,"Non-Management (union and non-union)","Total Salary and Wages including ovetime and incentive pay",{"$f":"'App.2-K_Employee Costs'!H$12","v":"2018 Actuals"},{"$f":"'App.2-K_Employee Costs'!H$19","v":5441131.75}]
[{"$f":"'LDC Info'!$E$14","v":"Bluewater Power Distribution Corporation"},"EB-2022-0016",2023,2022,2013,"Management (including executive)","Total Benefits (Current + Accrued)",{"$f":"'App.2-K_Employee Costs'!H$12","v":"2018 Actuals"},{"$f":"'App.2-K_Employee Costs'!H$22","v":1151641.28}]
[{"$f":"'LDC Info'!$E$14","v":"Bluewater Power Distribution Corporation"},"EB-2022-0016",2023,2022,2013,"Non-Management (union and non-union)","Total Benefits (Current + Accrued)",{"$f":"'App.2-K_Employee Costs'!H$12","v":"2018 Actuals"},{"$f":"'App.2-K_Employee Costs'!H$23","v":1612164.45}]
[{"$f":"'LDC Info'!$E$14","v":"Bluewater Power Distribution Corporation"},"EB-2022-0016",2023,2022,2013,"Management (including executive)","Total Compensation (Salary, Wages, & Benefits)",{"$f":"'App.2-K_Employee Costs'!H$12","v":"2018 Actuals"},{"$f":"'App.2-K_Employee Costs'!H$26","v":5346193.9700000007}]
[{"$f":"'LDC Info'!$E$14","v":"Bluewater Power Distribution Corporation"},"EB-2022-0016",2023,2022,2013,"Non-Management (union and non-union)","Total Compensation (Salary, Wages, & Benefits)",{"$f":"'App.2-K_Employee Costs'!H$12","v":"2018 Actuals"},{"$f":"'App.2-K_Employee Costs'!H$27","v":7053296.2000000002}]
[{"$f":"'LDC Info'!$E$14","v":"Bluewater Power Distribution Corporation"},"EB-2022-0016",2023,2022,2013,"Management (including executive)","Number of Employees (FTEs including Part-Time)",{"$f":"'App.2-K_Employee Costs'!#REF!","v":{"$error":"#REF!"}},{"$f":"'App.2-K_Employee Costs'!#REF!","v":{"$error":"#REF!"}}]
[{"$f":"'LDC Info'!$E$14","v":"Bluewater Power Distribution Corporation"},"EB-2022-0016",2023,2022,2013,"Non-Management (union and non-union)","Number of Employees (FTEs including Part-Time)",{"$f":"'App.2-K_Employee Costs'!#REF!","v":{"$error":"#REF!"}},{"$f":"'App.2-K_Employee Costs'!#REF!","v":{"$error":"#REF!"}}]
[{"$f":"'LDC Info'!$E$14","v":"Bluewater Power Distribution Corporation"},"EB-2022-0016",2023,2022,2013,"Management (including executive)","Total Salary and Wages including ovetime and incentive pay",{"$f":"'App.2-K_Employee Costs'!#REF!","v":{"$error":"#REF!"}},{"$f":"'App.2-K_Employee Costs'!#REF!","v":{"$error":"#REF!"}}]
[{"$f":"'LDC Info'!$E$14","v":"Bluewater Power Distribution Corporation"},"EB-2022-0016",2023,2022,2013,"Non-Management (union and non-union)","Total Salary and Wages including ovetime and incentive pay",{"$f":"'App.2-K_Employee Costs'!#REF!","v":{"$error":"#REF!"}},{"$f":"'App.2-K_Employee Costs'!#REF!","v":{"$error":"#REF!"}}]
[{"$f":"'LDC Info'!$E$14","v":"Bluewater Power Distribution Corporation"},"EB-2022-0016",2023,2022,2013,"Management (including executive)","Total Benefits (Current + Accrued)",{"$f":"'App.2-K_Employee Costs'!#REF!","v":{"$error":"#REF!"}},{"$f":"'App.2-K_Employee Costs'!#REF!","v":{"$error":"#REF!"}}]
[{"$f":"'LDC Info'!$E$14","v":"Bluewater Power Distribution Corporation"},"EB-2022-0016",2023,2022,2013,"Non-Management (union and non-union)","Total Benefits (Current + Accrued)",{"$f":"'App.2-K_Employee Costs'!#REF!","v":{"$error":"#REF!"}},{"$f":"'App.2-K_Employee Costs'!#REF!","v":{"$error":"#REF!"}}]
[{"$f":"'LDC Info'!$E$14","v":"Bluewater Power Distribution Corporation"},"EB-2022-0016",2023,2022,2013,"Management (including executive)","Total Compensation (Salary, Wages, & Benefits)",{"$f":"'App.2-K_Employee Costs'!#REF!","v":{"$error":"#REF!"}},{"$f":"'App.2-K_Employee Costs'!#REF!","v":{"$error":"#REF!"}}]
[{"$f":"'LDC Info'!$E$14","v":"Bluewater Power Distribution Corporation"},"EB-2022-0016",2023,2022,2013,"Non-Management (union and non-union)","Total Compensation (Salary, Wages, & Benefits)",{"$f":"'App.2-K_Employee Costs'!#REF!","v":{"$error":"#REF!"}},{"$f":"'App.2-K_Employee Costs'!#REF!","v":{"$error":"#REF!"}}]
[{"$f":"'LDC Info'!$E$14","v":"Bluewater Power Distribution Corporation"},"EB-2022-0016",2023,2022,2013,"Management (including executive)","Number of Employees (FTEs including Part-Time)",{"$f":"'App.2-K_Employee Costs'!#REF!","v":{"$error":"#REF!"}},{"$f":"'App.2-K_Employee Costs'!#REF!","v":{"$error":"#REF!"}}]
[{"$f":"'LDC Info'!$E$14","v":"Bluewater Power Distribution Corporation"},"EB-2022-0016",2023,2022,2013,"Non-Management (union and non-union)","Number of Employees (FTEs including Part-Time)",{"$f":"'App.2-K_Employee Costs'!#REF!","v":{"$error":"#REF!"}},{"$f":"'App.2-K_Employee Costs'!#REF!","v":{"$error":"#REF!"}}]
[{"$f":"'LDC Info'!$E$14","v":"Bluewater Power Distribution Corporation"},"EB-2022-0016",2023,2022,2013,"Management (including executive)","Total Salary and Wages including ovetime and incentive pay",{"$f":"'App.2-K_Employee Costs'!#REF!","v":{"$error":"#REF!"}},{"$f":"'App.2-K_Employee Costs'!#REF!","v":{"$error":"#REF!"}}]
[{"$f":"'LDC Info'!$E$14","v":"Bluewater Power Distribution Corporation"},"EB-2022-0016",2023,2022,2013,"Non-Management (union and non-union)","Total Salary and Wages including ovetime and incentive pay",{"$f":"'App.2-K_Employee Costs'!#REF!","v":{"$error":"#REF!"}},{"$f":"'App.2-K_Employee Costs'!#REF!","v":{"$error":"#REF!"}}]
[{"$f":"'LDC Info'!$E$14","v":"Bluewater Power Distribution Corporation"},"EB-2022-0016",2023,2022,2013,"Management (including executive)","Total Benefits (Current + Accrued)",{"$f":"'App.2-K_Employee Costs'!#REF!","v":{"$error":"#REF!"}},{"$f":"'App.2-K_Employee Costs'!#REF!","v":{"$error":"#REF!"}}]
[{"$f":"'LDC Info'!$E$14","v":"Bluewater Power Distribution Corporation"},"EB-2022-0016",2023,2022,2013,"Non-Management (union and non-union)","Total Benefits (Current + Accrued)",{"$f":"'App.2-K_Employee Costs'!#REF!","v":{"$error":"#REF!"}},{"$f":"'App.2-K_Employee Costs'!#REF!","v":{"$error":"#REF!"}}]
[{"$f":"'LDC Info'!$E$14","v":"Bluewater Power Distribution Corporation"},"EB-2022-0016",2023,2022,2013,"Management (including executive)","Total Compensation (Salary, Wages, & Benefits)",{"$f":"'App.2-K_Employee Costs'!#REF!","v":{"$error":"#REF!"}},{"$f":"'App.2-K_Employee Costs'!#REF!","v":{"$error":"#REF!"}}]
[{"$f":"'LDC Info'!$E$14","v":"Bluewater Power Distribution Corporation"},"EB-2022-0016",2023,2022,2013,"Non-Management (union and non-union)","Total Compensation (Salary, Wages, & Benefits)",{"$f":"'App.2-K_Employee Costs'!#REF!","v":{"$error":"#REF!"}},{"$f":"'App.2-K_Employee Costs'!#REF!","v":{"$error":"#REF!"}}]
[{"$f":"'LDC Info'!$E$14","v":"Bluewater Power Distribution Corporation"},{"$f":"EBNUMBER","v":"EB-2022-0016"},{"$f":"TestYear","v":2023},{"$f":"BridgeYear","v":2022},{"$f":"RebaseYear","v":2013},"Management (including executive)","Number of Employees (FTEs including Part-Time)",{"$f":"'App.2-K_Employee Costs'!I$12","v":"2019 Actuals"},{"$f":"'App.2-K_Employee Costs'!I$14","v":30.287932685245678}]
[{"$f":"'LDC Info'!$E$14","v":"Bluewater Power Distribution Corporation"},"EB-2022-0016",2023,2022,2013,"Non-Management (union and non-union)","Number of Employees (FTEs including Part-Time)",{"$f":"'App.2-K_Employee Costs'!I$12","v":"2019 Actuals"},{"$f":"'App.2-K_Employee Costs'!I$15","v":66.785666146494862}]
[{"$f":"'LDC Info'!$E$14","v":"Bluewater Power Distribution Corporation"},"EB-2022-0016",2023,2022,2013,"Management (including executive)","Total Salary and Wages including ovetime and incentive pay",{"$f":"'App.2-K_Employee Costs'!I$12","v":"2019 Actuals"},{"$f":"'App.2-K_Employee Costs'!I$18","v":4252671.5699999984}]
[{"$f":"'LDC Info'!$E$14","v":"Bluewater Power Distribution Corporation"},"EB-2022-0016",2023,2022,2013,"Non-Management (union and non-union)","Total Salary and Wages including ovetime and incentive pay",{"$f":"'App.2-K_Employee Costs'!I$12","v":"2019 Actuals"},{"$f":"'App.2-K_Employee Costs'!I$19","v":5737349.75}]
[{"$f":"'LDC Info'!$E$14","v":"Bluewater Power Distribution Corporation"},"EB-2022-0016",2023,2022,2013,"Management (including executive)","Total Benefits (Current + Accrued)",{"$f":"'App.2-K_Employee Costs'!I$12","v":"2019 Actuals"},{"$f":"'App.2-K_Employee Costs'!I$22","v":1239372.48}]
[{"$f":"'LDC Info'!$E$14","v":"Bluewater Power Distribution Corporation"},"EB-2022-0016",2023,2022,2013,"Non-Management (union and non-union)","Total Benefits (Current + Accrued)",{"$f":"'App.2-K_Employee Costs'!I$12","v":"2019 Actuals"},{"$f":"'App.2-K_Employee Costs'!I$23","v":1596440.8099999998}]
[{"$f":"'LDC Info'!$E$14","v":"Bluewater Power Distribution Corporation"},"EB-2022-0016",2023,2022,2013,"Management (including executive)","Total Compensation (Salary, Wages, & Benefits)",{"$f":"'App.2-K_Employee Costs'!I$12","v":"2019 Actuals"},{"$f":"'App.2-K_Employee Costs'!I$26","v":5492044.0499999989}]
[{"$f":"'LDC Info'!$E$14","v":"Bluewater Power Distribution Corporation"},"EB-2022-0016",2023,2022,2013,"Non-Management (union and non-union)","Total Compensation (Salary, Wages, & Benefits)",{"$f":"'App.2-K_Employee Costs'!I$12","v":"2019 Actuals"},{"$f":"'App.2-K_Employee Costs'!I$27","v":7333790.5599999996}]
[{"$f":"'LDC Info'!$E$14","v":"Bluewater Power Distribution Corporation"},"EB-2022-0016",2023,2022,2013,"Management (including executive)","Number of Employees (FTEs including Part-Time)",{"$f":"'App.2-K_Employee Costs'!#REF!","v":{"$error":"#REF!"}},{"$f":"'App.2-K_Employee Costs'!#REF!","v":{"$error":"#REF!"}}]
[{"$f":"'LDC Info'!$E$14","v":"Bluewater Power Distribution Corporation"},"EB-2022-0016",2023,2022,2013,"Non-Management (union and non-union)","Number of Employees (FTEs including Part-Time)",{"$f":"'App.2-K_Employee Costs'!#REF!","v":{"$error":"#REF!"}},{"$f":"'App.2-K_Employee Costs'!#REF!","v":{"$error":"#REF!"}}]
[{"$f":"'LDC Info'!$E$14","v":"Bluewater Power Distribution Corporation"},"EB-2022-0016",2023,2022,2013,"Management (including executive)","Total Salary and Wages including ovetime and incentive pay",{"$f":"'App.2-K_Employee Costs'!#REF!","v":{"$error":"#REF!"}},{"$f":"'App.2-K_Employee Costs'!#REF!","v":{"$error":"#REF!"}}]
[{"$f":"'LDC Info'!$E$14","v":"Bluewater Power Distribution Corporation"},"EB-2022-0016",2023,2022,2013,"Non-Management (union and non-union)","Total Salary and Wages including ovetime and incentive pay",{"$f":"'App.2-K_Employee Costs'!#REF!","v":{"$error":"#REF!"}},{"$f":"'App.2-K_Employee Costs'!#REF!","v":{"$error":"#REF!"}}]
[{"$f":"'LDC Info'!$E$14","v":"Bluewater Power Distribution Corporation"},"EB-2022-0016",2023,2022,2013,"Management (including executive)","Total Benefits (Current + Accrued)",{"$f":"'App.2-K_Employee Costs'!#REF!","v":{"$error":"#REF!"}},{"$f":"'App.2-K_Employee Costs'!#REF!","v":{"$error":"#REF!"}}]
[{"$f":"'LDC Info'!$E$14","v":"Bluewater Power Distribution Corporation"},"EB-2022-0016",2023,2022,2013,"Non-Management (union and non-union)","Total Benefits (Current + Accrued)",{"$f":"'App.2-K_Employee Costs'!#REF!","v":{"$error":"#REF!"}},{"$f":"'App.2-K_Employee Costs'!#REF!","v":{"$error":"#REF!"}}]
[{"$f":"'LDC Info'!$E$14","v":"Bluewater Power Distribution Corporation"},"EB-2022-0016",2023,2022,2013,"Management (including executive)","Total Compensation (Salary, Wages, & Benefits)",{"$f":"'App.2-K_Employee Costs'!#REF!","v":{"$error":"#REF!"}},{"$f":"'App.2-K_Employee Costs'!#REF!","v":{"$error":"#REF!"}}]
[{"$f":"'LDC Info'!$E$14","v":"Bluewater Power Distribution Corporation"},"EB-2022-0016",2023,2022,2013,"Non-Management (union and non-union)","Total Compensation (Salary, Wages, & Benefits)",{"$f":"'App.2-K_Employee Costs'!#REF!","v":{"$error":"#REF!"}},{"$f":"'App.2-K_Employee Costs'!#REF!","v":{"$error":"#REF!"}}]
[{"$f":"'LDC Info'!$E$14","v":"Bluewater Power Distribution Corporation"},"EB-2022-0016",2023,2022,2013,"Management (including executive)","Number of Employees (FTEs including Part-Time)",{"$f":"'App.2-K_Employee Costs'!#REF!","v":{"$error":"#REF!"}},{"$f":"'App.2-K_Employee Costs'!#REF!","v":{"$error":"#REF!"}}]
[{"$f":"'LDC Info'!$E$14","v":"Bluewater Power Distribution Corporation"},"EB-2022-0016",2023,2022,2013,"Non-Management (union and non-union)","Number of Employees (FTEs including Part-Time)",{"$f":"'App.2-K_Employee Costs'!#REF!","v":{"$error":"#REF!"}},{"$f":"'App.2-K_Employee Costs'!#REF!","v":{"$error":"#REF!"}}]
[{"$f":"'LDC Info'!$E$14","v":"Bluewater Power Distribution Corporation"},"EB-2022-0016",2023,2022,2013,"Management (including executive)","Total Salary and Wages including ovetime and incentive pay",{"$f":"'App.2-K_Employee Costs'!#REF!","v":{"$error":"#REF!"}},{"$f":"'App.2-K_Employee Costs'!#REF!","v":{"$error":"#REF!"}}]
[{"$f":"'LDC Info'!$E$14","v":"Bluewater Power Distribution Corporation"},"EB-2022-0016",2023,2022,2013,"Non-Management (union and non-union)","Total Salary and Wages including ovetime and incentive pay",{"$f":"'App.2-K_Employee Costs'!#REF!","v":{"$error":"#REF!"}},{"$f":"'App.2-K_Employee Costs'!#REF!","v":{"$error":"#REF!"}}]
[{"$f":"'LDC Info'!$E$14","v":"Bluewater Power Distribution Corporation"},"EB-2022-0016",2023,2022,2013,"Management (including executive)","Total Benefits (Current + Accrued)",{"$f":"'App.2-K_Employee Costs'!#REF!","v":{"$error":"#REF!"}},{"$f":"'App.2-K_Employee Costs'!#REF!","v":{"$error":"#REF!"}}]
[{"$f":"'LDC Info'!$E$14","v":"Bluewater Power Distribution Corporation"},"EB-2022-0016",2023,2022,2013,"Non-Management (union and non-union)","Total Benefits (Current + Accrued)",{"$f":"'App.2-K_Employee Costs'!#REF!","v":{"$error":"#REF!"}},{"$f":"'App.2-K_Employee Costs'!#REF!","v":{"$error":"#REF!"}}]
[{"$f":"'LDC Info'!$E$14","v":"Bluewater Power Distribution Corporation"},"EB-2022-0016",2023,2022,2013,"Management (including executive)","Total Compensation (Salary, Wages, & Benefits)",{"$f":"'App.2-K_Employee Costs'!#REF!","v":{"$error":"#REF!"}},{"$f":"'App.2-K_Employee Costs'!#REF!","v":{"$error":"#REF!"}}]
[{"$f":"'LDC Info'!$E$14","v":"Bluewater Power Distribution Corporation"},"EB-2022-0016",2023,2022,2013,"Non-Management (union and non-union)","Total Compensation (Salary, Wages, & Benefits)",{"$f":"'App.2-K_Employee Costs'!#REF!","v":{"$error":"#REF!"}},{"$f":"'App.2-K_Employee Costs'!#REF!","v":{"$error":"#REF!"}}]
[{"$f":"'LDC Info'!$E$14","v":"Bluewater Power Distribution Corporation"},"EB-2022-0016",2023,2022,2013,"Management (including executive)","Number of Employees (FTEs including Part-Time)",{"$f":"'App.2-K_Employee Costs'!J$12","v":"2020 Actuals"},{"$f":"'App.2-K_Employee Costs'!J$14","v":29.955077352186777}]
[{"$f":"'LDC Info'!$E$14","v":"Bluewater Power Distribution Corporation"},"EB-2022-0016",2023,2022,2013,"Non-Management (union and non-union)","Number of Employees (FTEs including Part-Time)",{"$f":"'App.2-K_Employee Costs'!J$12","v":"2020 Actuals"},{"$f":"'App.2-K_Employee Costs'!J$15","v":61.556697980596809}]
[{"$f":"'LDC Info'!$E$14","v":"Bluewater Power Distribution Corporation"},"EB-2022-0016",2023,2022,2013,"Management (including executive)","Total Salary and Wages including ovetime and incentive pay",{"$f":"'App.2-K_Employee Costs'!J$12","v":"2020 Actuals"},{"$f":"'App.2-K_Employee Costs'!J$18","v":4564445.6700000009}]
[{"$f":"'LDC Info'!$E$14","v":"Bluewater Power Distribution Corporation"},"EB-2022-0016",2023,2022,2013,"Non-Management (union and non-union)","Total Salary and Wages including ovetime and incentive pay",{"$f":"'App.2-K_Employee Costs'!J$12","v":"2020 Actuals"},{"$f":"'App.2-K_Employee Costs'!J$19","v":5761297.1699999999}]
[{"$f":"'LDC Info'!$E$14","v":"Bluewater Power Distribution Corporation"},"EB-2022-0016",2023,2022,2013,"Management (including executive)","Total Benefits (Current + Accrued)",{"$f":"'App.2-K_Employee Costs'!J$12","v":"2020 Actuals"},{"$f":"'App.2-K_Employee Costs'!J$22","v":1035827.4799999999}]
[{"$f":"'LDC Info'!$E$14","v":"Bluewater Power Distribution Corporation"},"EB-2022-0016",2023,2022,2013,"Non-Management (union and non-union)","Total Benefits (Current + Accrued)",{"$f":"'App.2-K_Employee Costs'!J$12","v":"2020 Actuals"},{"$f":"'App.2-K_Employee Costs'!J$23","v":1569179.7500000002}]
[{"$f":"'LDC Info'!$E$14","v":"Bluewater Power Distribution Corporation"},"EB-2022-0016",2023,2022,2013,"Management (including executive)","Total Compensation (Salary, Wages, & Benefits)",{"$f":"'App.2-K_Employee Costs'!J$12","v":"2020 Actuals"},{"$f":"'App.2-K_Employee Costs'!J$26","v":5600273.1500000004}]
[{"$f":"'LDC Info'!$E$14","v":"Bluewater Power Distribution Corporation"},"EB-2022-0016",2023,2022,2013,"Non-Management (union and non-union)","Total Compensation (Salary, Wages, & Benefits)",{"$f":"'App.2-K_Employee Costs'!J$12","v":"2020 Actuals"},{"$f":"'App.2-K_Employee Costs'!J$27","v":7330476.9199999999}]
[{"$f":"'LDC Info'!$E$14","v":"Bluewater Power Distribution Corporation"},{"$f":"EBNUMBER","v":"EB-2022-0016"},{"$f":"TestYear","v":2023},{"$f":"BridgeYear","v":2022},{"$f":"RebaseYear","v":2013},"Management (including executive)","Number of Employees (FTEs including Part-Time)",{"$f":"'App.2-K_Employee Costs'!#REF!","v":{"$error":"#REF!"}},{"$f":"'App.2-K_Employee Costs'!#REF!","v":{"$error":"#REF!"}}]
[{"$f":"'LDC Info'!$E$14","v":"Bluewater Power Distribution Corporation"},"EB-2022-0016",2023,2022,2013,"Non-Management (union and non-union)","Number of Employees (FTEs including Part-Time)",{"$f":"'App.2-K_Employee Costs'!#REF!","v":{"$error":"#REF!"}},{"$f":"'App.2-K_Employee Costs'!#REF!","v":{"$error":"#REF!"}}]
[{"$f":"'LDC Info'!$E$14","v":"Bluewater Power Distribution Corporation"},"EB-2022-0016",2023,2022,2013,"Management (including executive)","Total Salary and Wages including ovetime and incentive pay",{"$f":"'App.2-K_Employee Costs'!#REF!","v":{"$error":"#REF!"}},{"$f":"'App.2-K_Employee Costs'!#REF!","v":{"$error":"#REF!"}}]
[{"$f":"'LDC Info'!$E$14","v":"Bluewater Power Distribution Corporation"},"EB-2022-0016",2023,2022,2013,"Non-Management (union and non-union)","Total Salary and Wages including ovetime and incentive pay",{"$f":"'App.2-K_Employee Costs'!#REF!","v":{"$error":"#REF!"}},{"$f":"'App.2-K_Employee Costs'!#REF!","v":{"$error":"#REF!"}}]
[{"$f":"'LDC Info'!$E$14","v":"Bluewater Power Distribution Corporation"},"EB-2022-0016",2023,2022,2013,"Management (including executive)","Total Benefits (Current + Accrued)",{"$f":"'App.2-K_Employee Costs'!#REF!","v":{"$error":"#REF!"}},{"$f":"'App.2-K_Employee Costs'!#REF!","v":{"$error":"#REF!"}}]
[{"$f":"'LDC Info'!$E$14","v":"Bluewater Power Distribution Corporation"},"EB-2022-0016",2023,2022,2013,"Non-Management (union and non-union)","Total Benefits (Current + Accrued)",{"$f":"'App.2-K_Employee Costs'!#REF!","v":{"$error":"#REF!"}},{"$f":"'App.2-K_Employee Costs'!#REF!","v":{"$error":"#REF!"}}]
[{"$f":"'LDC Info'!$E$14","v":"Bluewater Power Distribution Corporation"},"EB-2022-0016",2023,2022,2013,"Management (including executive)","Total Compensation (Salary, Wages, & Benefits)",{"$f":"'App.2-K_Employee Costs'!#REF!","v":{"$error":"#REF!"}},{"$f":"'App.2-K_Employee Costs'!#REF!","v":{"$error":"#REF!"}}]
[{"$f":"'LDC Info'!$E$14","v":"Bluewater Power Distribution Corporation"},"EB-2022-0016",2023,2022,2013,"Non-Management (union and non-union)","Total Compensation (Salary, Wages, & Benefits)",{"$f":"'App.2-K_Employee Costs'!#REF!","v":{"$error":"#REF!"}},{"$f":"'App.2-K_Employee Costs'!#REF!","v":{"$error":"#REF!"}}]
[{"$f":"'LDC Info'!$E$14","v":"Bluewater Power Distribution Corporation"},"EB-2022-0016",2023,2022,2013,"Management (including executive)","Number of Employees (FTEs including Part-Time)",{"$f":"'App.2-K_Employee Costs'!#REF!","v":{"$error":"#REF!"}},{"$f":"'App.2-K_Employee Costs'!#REF!","v":{"$error":"#REF!"}}]
[{"$f":"'LDC Info'!$E$14","v":"Bluewater Power Distribution Corporation"},"EB-2022-0016",2023,2022,2013,"Non-Management (union and non-union)","Number of Employees (FTEs including Part-Time)",{"$f":"'App.2-K_Employee Costs'!#REF!","v":{"$error":"#REF!"}},{"$f":"'App.2-K_Employee Costs'!#REF!","v":{"$error":"#REF!"}}]
[{"$f":"'LDC Info'!$E$14","v":"Bluewater Power Distribution Corporation"},"EB-2022-0016",2023,2022,2013,"Management (including executive)","Total Salary and Wages including ovetime and incentive pay",{"$f":"'App.2-K_Employee Costs'!#REF!","v":{"$error":"#REF!"}},{"$f":"'App.2-K_Employee Costs'!#REF!","v":{"$error":"#REF!"}}]
[{"$f":"'LDC Info'!$E$14","v":"Bluewater Power Distribution Corporation"},"EB-2022-0016",2023,2022,2013,"Non-Management (union and non-union)","Total Salary and Wages including ovetime and incentive pay",{"$f":"'App.2-K_Employee Costs'!#REF!","v":{"$error":"#REF!"}},{"$f":"'App.2-K_Employee Costs'!#REF!","v":{"$error":"#REF!"}}]
[{"$f":"'LDC Info'!$E$14","v":"Bluewater Power Distribution Corporation"},"EB-2022-0016",2023,2022,2013,"Management (including executive)","Total Benefits (Current + Accrued)",{"$f":"'App.2-K_Employee Costs'!#REF!","v":{"$error":"#REF!"}},{"$f":"'App.2-K_Employee Costs'!#REF!","v":{"$error":"#REF!"}}]
[{"$f":"'LDC Info'!$E$14","v":"Bluewater Power Distribution Corporation"},"EB-2022-0016",2023,2022,2013,"Non-Management (union and non-union)","Total Benefits (Current + Accrued)",{"$f":"'App.2-K_Employee Costs'!#REF!","v":{"$error":"#REF!"}},{"$f":"'App.2-K_Employee Costs'!#REF!","v":{"$error":"#REF!"}}]
[{"$f":"'LDC Info'!$E$14","v":"Bluewater Power Distribution Corporation"},"EB-2022-0016",2023,2022,2013,"Management (including executive)","Total Compensation (Salary, Wages, & Benefits)",{"$f":"'App.2-K_Employee Costs'!#REF!","v":{"$error":"#REF!"}},{"$f":"'App.2-K_Employee Costs'!#REF!","v":{"$error":"#REF!"}}]
[{"$f":"'LDC Info'!$E$14","v":"Bluewater Power Distribution Corporation"},"EB-2022-0016",2023,2022,2013,"Non-Management (union and non-union)","Total Compensation (Salary, Wages, & Benefits)",{"$f":"'App.2-K_Employee Costs'!#REF!","v":{"$error":"#REF!"}},{"$f":"'App.2-K_Employee Costs'!#REF!","v":{"$error":"#REF!"}}]
[{"$f":"'LDC Info'!$E$14","v":"Bluewater Power Distribution Corporation"},"EB-2022-0016",2023,2022,2013,"Management (including executive)","Number of Employees (FTEs including Part-Time)",{"$f":"'App.2-K_Employee Costs'!K$12","v":"2021 Actuals"},{"$f":"'App.2-K_Employee Costs'!K$14","v":29.118493581917253}]
[{"$f":"'LDC Info'!$E$14","v":"Bluewater Power Distribution Corporation"},"EB-2022-0016",2023,2022,2013,"Non-Management (union and non-union)","Number of Employees (FTEs including Part-Time)",{"$f":"'App.2-K_Employee Costs'!K$12","v":"2021 Actuals"},{"$f":"'App.2-K_Employee Costs'!K$15","v":63.059766475998941}]
[{"$f":"'LDC Info'!$E$14","v":"Bluewater Power Distribution Corporation"},"EB-2022-0016",2023,2022,2013,"Management (including executive)","Total Salary and Wages including ovetime and incentive pay",{"$f":"'App.2-K_Employee Costs'!K$12","v":"2021 Actuals"},{"$f":"'App.2-K_Employee Costs'!K$18","v":4503930.6850000005}]
[{"$f":"'LDC Info'!$E$14","v":"Bluewater Power Distribution Corporation"},"EB-2022-0016",2023,2022,2013,"Non-Management (union and non-union)","Total Salary and Wages including ovetime and incentive pay",{"$f":"'App.2-K_Employee Costs'!K$12","v":"2021 Actuals"},{"$f":"'App.2-K_Employee Costs'!K$19","v":5799114.5350000001}]
[{"$f":"'LDC Info'!$E$14","v":"Bluewater Power Distribution Corporation"},"EB-2022-0016",2023,2022,2013,"Management (including executive)","Total Benefits (Current + Accrued)",{"$f":"'App.2-K_Employee Costs'!K$12","v":"2021 Actuals"},{"$f":"'App.2-K_Employee Costs'!K$22","v":1079796.5600000003}]
[{"$f":"'LDC Info'!$E$14","v":"Bluewater Power Distribution Corporation"},"EB-2022-0016",2023,2022,2013,"Non-Management (union and non-union)","Total Benefits (Current + Accrued)",{"$f":"'App.2-K_Employee Costs'!K$12","v":"2021 Actuals"},{"$f":"'App.2-K_Employee Costs'!K$23","v":1574664.8800000001}]
[{"$f":"'LDC Info'!$E$14","v":"Bluewater Power Distribution Corporation"},"EB-2022-0016",2023,2022,2013,"Management (including executive)","Total Compensation (Salary, Wages, & Benefits)",{"$f":"'App.2-K_Employee Costs'!K$12","v":"2021 Actuals"},{"$f":"'App.2-K_Employee Costs'!K$26","v":5583727.245000001}]
[{"$f":"'LDC Info'!$E$14","v":"Bluewater Power Distribution Corporation"},"EB-2022-0016",2023,2022,2013,"Non-Management (union and non-union)","Total Compensation (Salary, Wages, & Benefits)",{"$f":"'App.2-K_Employee Costs'!K$12","v":"2021 Actuals"},{"$f":"'App.2-K_Employee Costs'!K$27","v":7373779.415}]
[{"$f":"'LDC Info'!$E$14","v":"Bluewater Power Distribution Corporation"},"EB-2022-0016",2023,2022,2013,"Management (including executive)","Number of Employees (FTEs including Part-Time)",{"$f":"'App.2-K_Employee Costs'!M$12","v":"2022 Bridge Year (as filed)"},{"$f":"'App.2-K_Employee Costs'!M$14","v":29.147613479721095}]
[{"$f":"'LDC Info'!$E$14","v":"Bluewater Power Distribution Corporation"},"EB-2022-0016",2023,2022,2013,"Non-Management (union and non-union)","Number of Employees (FTEs including Part-Time)",{"$f":"'App.2-K_Employee Costs'!M$12","v":"2022 Bridge Year (as filed)"},{"$f":"'App.2-K_Employee Costs'!M$15","v":75.334121857775557}]
[{"$f":"'LDC Info'!$E$14","v":"Bluewater Power Distribution Corporation"},"EB-2022-0016",2023,2022,2013,"Management (including executive)","Total Salary and Wages including ovetime and incentive pay",{"$f":"'App.2-K_Employee Costs'!M$12","v":"2022 Bridge Year (as filed)"},{"$f":"'App.2-K_Employee Costs'!M$18","v":4490326.6150999991}]
[{"$f":"'LDC Info'!$E$14","v":"Bluewater Power Distribution Corporation"},"EB-2022-0016",2023,2022,2013,"Non-Management (union and non-union)","Total Salary and Wages including ovetime and incentive pay",{"$f":"'App.2-K_Employee Costs'!M$12","v":"2022 Bridge Year (as filed)"},{"$f":"'App.2-K_Employee Costs'!M$19","v":6803824.5753000006}]
[{"$f":"'LDC Info'!$E$14","v":"Bluewater Power Distribution Corporation"},"EB-2022-0016",2023,2022,2013,"Management (including executive)","Total Benefits (Current + Accrued)",{"$f":"'App.2-K_Employee Costs'!M$12","v":"2022 Bridge Year (as filed)"},{"$f":"'App.2-K_Employee Costs'!M$22","v":1077619}]
[{"$f":"'LDC Info'!$E$14","v":"Bluewater Power Distribution Corporation"},"EB-2022-0016",2023,2022,2013,"Non-Management (union and non-union)","Total Benefits (Current + Accrued)",{"$f":"'App.2-K_Employee Costs'!M$12","v":"2022 Bridge Year (as filed)"},{"$f":"'App.2-K_Employee Costs'!M$23","v":1824564}]
[{"$f":"'LDC Info'!$E$14","v":"Bluewater Power Distribution Corporation"},"EB-2022-0016",2023,2022,2013,"Management (including executive)","Total Compensation (Salary, Wages, & Benefits)",{"$f":"'App.2-K_Employee Costs'!M$12","v":"2022 Bridge Year (as filed)"},{"$f":"'App.2-K_Employee Costs'!M$26","v":5567945.6150999991}]
[{"$f":"'LDC Info'!$E$14","v":"Bluewater Power Distribution Corporation"},"EB-2022-0016",2023,2022,2013,"Non-Management (union and non-union)","Total Compensation (Salary, Wages, & Benefits)",{"$f":"'App.2-K_Employee Costs'!M$12","v":"2022 Bridge Year (as filed)"},{"$f":"'App.2-K_Employee Costs'!M$27","v":8628388.5753000006}]
[{"$f":"'LDC Info'!$E$14","v":"Bluewater Power Distribution Corporation"},{"$f":"EBNUMBER","v":"EB-2022-0016"},{"$f":"TestYear","v":2023},{"$f":"BridgeYear","v":2022},{"$f":"RebaseYear","v":2013},"Management (including executive)","Number of Employees (FTEs including Part-Time)",{"$f":"'App.2-K_Employee Costs'!N$12","v":"2023 Test Year"},{"$f":"'App.2-K_Employee Costs'!N$14","v":31.119370452274111}]
[{"$f":"'LDC Info'!$E$14","v":"Bluewater Power Distribution Corporation"},"EB-2022-0016",2023,2022,2013,"Non-Management (union and non-union)","Number of Employees (FTEs including Part-Time)",{"$f":"'App.2-K_Employee Costs'!N$12","v":"2023 Test Year"},{"$f":"'App.2-K_Employee Costs'!N$15","v":75.757224577836283}]
[{"$f":"'LDC Info'!$E$14","v":"Bluewater Power Distribution Corporation"},"EB-2022-0016",2023,2022,2013,"Management (including executive)","Total Salary and Wages including ovetime and incentive pay",{"$f":"'App.2-K_Employee Costs'!N$12","v":"2023 Test Year"},{"$f":"'App.2-K_Employee Costs'!N$18","v":4872453.6099999994}]
[{"$f":"'LDC Info'!$E$14","v":"Bluewater Power Distribution Corporation"},"EB-2022-0016",2023,2022,2013,"Non-Management (union and non-union)","Total Salary and Wages including ovetime and incentive pay",{"$f":"'App.2-K_Employee Costs'!N$12","v":"2023 Test Year"},{"$f":"'App.2-K_Employee Costs'!N$19","v":6984846.9000000004}]
[{"$f":"'LDC Info'!$E$14","v":"Bluewater Power Distribution Corporation"},"EB-2022-0016",2023,2022,2013,"Management (including executive)","Total Benefits (Current + Accrued)",{"$f":"'App.2-K_Employee Costs'!N$12","v":"2023 Test Year"},{"$f":"'App.2-K_Employee Costs'!N$22","v":1202317}]
[{"$f":"'LDC Info'!$E$14","v":"Bluewater Power Distribution Corporation"},"EB-2022-0016",2023,2022,2013,"Non-Management (union and non-union)","Total Benefits (Current + Accrued)",{"$f":"'App.2-K_Employee Costs'!N$12","v":"2023 Test Year"},{"$f":"'App.2-K_Employee Costs'!N$23","v":1837223}]
[{"$f":"'LDC Info'!$E$14","v":"Bluewater Power Distribution Corporation"},"EB-2022-0016",2023,2022,2013,"Management (including executive)","Total Compensation (Salary, Wages, & Benefits)",{"$f":"'App.2-K_Employee Costs'!N$12","v":"2023 Test Year"},{"$f":"'App.2-K_Employee Costs'!N$26","v":6074770.6099999994}]
[{"$f":"'LDC Info'!$E$14","v":"Bluewater Power Distribution Corporation"},"EB-2022-0016",2023,2022,2013,"Non-Management (union and non-union)","Total Compensation (Salary, Wages, & Benefits)",{"$f":"'App.2-K_Employee Costs'!N$12","v":"2023 Test Year"},{"$f":"'App.2-K_Employee Costs'!N$27","v":8822069.9000000004}]

{"sheet":"FTE","index":45,"n_rows":80,"n_cols":11,"rows_kept":80,"cut":false,"hidden":true,"merged":[[3,1,3,5],[3,6,3,10]]}
["Full-time Employees + Total Salaries and Wages"]
["Time run: 5/31/2021 11:49:24 AM"]
[""]
[null,"Full-time Equivalent Employees",null,null,null,null,"Total Salaries and Wages"]
[null,2017,2018,2019,2020,2021,2017,2018,2019,2020,2021]
["Company Name","January 1, 2016 - December 31, 2016","January 1, 2017 - December 31, 2017","January 1, 2018 - December 31, 2018","January 1, 2019 - December 31, 2019","January 1, 2020 - December 31, 2020","January 1, 2016 - December 31, 2016","January 1, 2017 - December 31, 2017","January 1, 2018 - December 31, 2018","January 1, 2019 - December 31, 2019","January 1, 2020 - December 31, 2020"]
["1937680 Ontario Inc.",34,34,33,32,35,1979600,2593000,2888000,2459000,2814100]
["Alectra Utilities Corporation",null,1516,1533.9,1565.7,1463.8,null,118726266,133398533,149378448,146814399]
["Algoma Power Inc.",57,68,62,61,59,3698000,4040000,3978000,4142000,4227680.78]
["Atikokan Hydro Inc.",7,7,7,7,7,294131.71000000002,255498.09,300423.93,240869,332763.46000000002]
["Bluewater Power Distribution Corporation",110,119,121.2,121.8,116.51,7516465.4199999999,7828549,8051486,8033133,7994106]
["Brantford Power Inc.",57,59,63.3,60.85,63.16,5108303,5669503.2599999998,5675284,5370357,4689367]
["Burlington Hydro Inc.",91,90,92,90,97,8371068,8606638.8300000001,9448448.1199999992,9105399.2599999998,10532377.5]
["Canadian Niagara Power Inc.",84,82,84,88,87,5894000,6224000,6719000,6564000,6798217.4400000004]
["Centre Wellington Hydro Ltd.",15,15,15.05,15,13.52,941428.53,1020445.42,1011527.95,1077909.1399999999,989184.84]
["Chapleau Public Utilities Corporation",5,5,5.4,5,5,268908.63,274609.03000000003,310669.51,303549.31,321034.15999999997]
["Cooperative Hydro Embrun Inc.",3,3,3,3,null,197448,210244,217444,228433.92000000001,237060.94]
["E.L.K. Energy Inc.",18,18,18,17,14,1147137.01,1112445,1125727,1153303,1042033.92]
["ENWIN Utilities Ltd.",197,198,187.53,170,165,15028257.27,14820545,14531062.880000001,14233976.67,15909447.1]
["EPCOR Electricity Distribution Ontario Inc.",20,28,28.8,28.82,29.54,1833320.51,2101330.71,3117796.95,2350083.89,2390824.04]
["ERTH Power Corporation",45,42,39,45,44,3182316,2827901,2361257,2300785,2804415]
["Elexicon Energy Inc.",null,null,null,250.73,246.45,null,null,null,22362612,23314909]
["Energy Plus Inc.",126,126,125,119,121,10337617,10270005,10396501,10697810.07,11153432]
["Enersource Hydro Mississauga Inc.",350,null,null,null,null,33192680.18]
["Entegrus Powerlines Inc.",76,78,103.5,105.7,108,4630903,4808504,6176291,6690022,7411887]
["Espanola Regional Hydro Distribution Corporation",7,7,7,7,null,551355.05000000005,292906.84000000003,362394.76,542129.71]
["Essex Powerlines Corporation",44,46,45.87,45.77,39.97,2648391.96,2959975.06,3123275.68,3107151.12,2834391.47]
["Festival Hydro Inc.",39,39,41,41,40,2700444,2464775.23,2770324.81,2836041.26,3338229.63]
["Fort Frances Power Corporation",12,12,11.25,12.17,12.63,1064649.5,1016741,1042593.89,1194984.1399999999,1281110.79]
["Greater Sudbury Hydro Inc.",66,67,64.849999999999994,58.75,58.97,4645247.1399999997,4858966.4400000004,4853262.9400000004,3882287.46,4176695.52]
["Grimsby Power Incorporated",17,16,17.170000000000002,17.14,14.71,1468279.06,1232989.07,1345002.11,1312788.1399999999,1271966.8500000001]
["Guelph Hydro Electric Systems Inc.",124,126,120.32,null,null,7077743,7419989,7997097]
["Haldimand County Hydro Inc.",52,null,null,null,null,2935379]
["Halton Hills Hydro Inc.",54,53,50,51,49,3736937,3886774,4079271,4078557,4197114]
["Hearst Power Distribution Company Limited",7,7,7,7,7,450824.5,498954.66,517347.04,511617.59,478512.03]
["Horizon Utilities Corporation",335,null,null,null,null,31080893]
["Hydro 2000 Inc.",3,3,2.71,3,null,145094.95000000001,134105,141575,143768.5,126817.92]
["Hydro Hawkesbury Inc.",7,7,7,5,5,127652.44,128145.9,78754.47,0,0]
["Hydro One Brampton Networks Inc.",249,null,null,null,null,14647505.83]
["Hydro One Networks Inc.",4355,4187,4439,4581,4451,337742033.08999997,324531853,366358307,367924590.85000002,369595207]
["Hydro One Remote Communities Inc.",null,null,0,0,null,null,null,0,0]
["Hydro Ottawa Limited",628,628,640.54,624.44000000000005,580.6,41924329.229999997,45206602.960000001,47329230.350000001,47046251.710000001,45507050.880000003]
["Innpower Corporation",39,39,46.31,48.6,51,3535739,3688380,3619606,3896233,4475333]
["Kenora Hydro Electric Corporation Ltd.",12,11,11,null,null,1069179,1103980,1260427]
["Kingston Hydro Corporation",0,0,0,null,null,0,0,0]
["Kitchener-Wilmot Hydro Inc.",187,190,183.78,186.19,183.78,11544877.560000001,12872007.01,13289457.970000001,13554918.029999999,13801194.1]
["Lakefront Utilities Inc.",17,16,17,16,17.41,948280.67,887732,957622,879203,831304]
["Lakeland Power Distribution Ltd.",21,20,19.21,20.97,19.18,1574418.34,1394293.54,1471740.99,1431314.27,1683144.6]
["London Hydro Inc.",322,325,324,319,303,25087942,25886482,26719375,27132905,27695065]
["Midland Power Utility Corporation",17,16,null,null,null,1238956.1100000001,1351881.08]
["Milton Hydro Distribution Inc.",59,56,53,52,51,4495220,4507817,4372892,4430637,4847832]
["Newmarket-Tay Power Distribution Ltd.",44,50,56,65,58,3194625.12,3746524,5170942,4976012,5222512.07]
["Niagara Peninsula Energy Inc.",124,127,127.09,120.51,null,10977227.66,11970431,11950043.869999999,12410955.220000001,12679573.73]
["Niagara-on-the-Lake Hydro Inc.",15,17,16.850000000000001,16.04,16.43,1151892.57,1319545.42,1475038.01,1338437.98,1502517.16]
["North Bay Hydro Distribution Limited",45,47,44,45.46,43.84,3482930.73,3493548.95,3706100.47,3857167.13,4163654.36]
["Northern Ontario Wires Inc.",4,4,3.5,3.5,3.5,370832,386519,406177,452125,440113]
["Oakville Hydro Electricity Distribution Inc.",111,110,104,102,102,9605549,10345505.539999999,10003693,9801789,9911415]
["Orangeville Hydro Limited",19,15,18.559999999999999,19.760000000000002,19.940000000000001,1964153.88,1773194.55,1999551,2262159,2301138]
["Orillia Power Distribution Corporation",33,32,34.799999999999997,35,39,2234161,2442600,2577668,2569787,3202552]
["Oshawa PUC Networks Inc.",75,84,89.68,90.18,75.900000000000006,4786376.1900000004,5045183.9400000004,5829910,6002035.3899999997,5413554.9699999997]
["Ottawa River Power Corporation",26,26,27,28,null,1852589.36,1822038,1619447.07,2009756,1902249.92]
["PUC Distribution Inc.",null,84,81.83,79.849999999999994,null,null,5486892,5599349.8700000001,5341364.66]
["PowerStream Inc.",567,null,null,null,null,51118655.229999997]
["Renfrew Hydro Inc.",11,11,10.97,10.4,10.69,706434.65,653376.07999999996,685732.69,663054.07999999996,742893.95]
["Rideau St. Lawrence Distribution Inc.",15,16,14.49,15.02,14.91,791645.05,819878,757479,814030,842355]
["Sioux Lookout Hydro Inc.",9,9,8,8,8,866381.2,872366.13,826766.47,900900.79,884553.25]
["St. Thomas Energy Inc.",29,28,null,null,null,1926879,1831144]
["Synergy North Corporation",null,null,null,136,129,null,null,null,8297946,8687942]
["Thunder Bay Hydro Electricity Distribution Inc.",133,129,124,null,null,7264762,7218329,7636304]
["Tillsonburg Hydro Inc.",20,19,20.25,20.100000000000001,20.23,1856019.36,1807500.68,1434117,1435725.9,1440430.83]
["Toronto Hydro-Electric System Limited",1477,1584,1541.166667,1517.1666666599999,1431.58,96206966.174988702,92201349,97359694.280000001,89696214.270999998,97608737.159999996]
["Veridian Connections Inc.",221,221,200,null,null,15923153,17318211,16705535]
["Wasaga Distribution Inc.",18,18,18.5,18.5,21.43,1815379.67,1357822.32,1918416.72,2103947.19,1405690.09]
["Waterloo North Hydro Inc.",136,127,124,122,119,9059400.7100000009,8930959,9042120,8640866,8564540]
["Welland Hydro-Electric System Corp.",39,38,36.6,37.619999999999997,35.89,3636589,3579881,3581016,3671620.28,3526184]
["Wellington North Power Inc.",13,13,12.1,12,12,986844.69,956058.88,1009724.03,1050099.44,1048312]
["West Coast Huron Energy Inc.",9,9,9,null,null,442216,457004,263824]
["Westario Power Inc.",30,33,35.04,38.71,35.83,2249708,2193265,3263891,3675590,2842692]
["Whitby Hydro Electric Corporation",2,3,3]
["Woodstock Hydro Services Inc."]

{"sheet":"App.2-L_OM&A_per_Cust_FTE","index":46,"n_rows":39,"n_cols":15,"rows_kept":39,"cut":false,"hidden":false,"merged":[[37,2,37,14],[34,2,34,14],[35,2,35,14],[36,2,36,14],[32,2,33,14],[22,1,22,2],[25,1,25,2],[26,1,26,2],[16,1,16,2],[17,1,17,2],[18,1,18,2],[19,1,19,2],[20,1,20,2],[21,1,21,2],[13,1,13,2],[14,1,14,2],[15,1,15,2],[8,1,8,14],[9,1,9,14]]}
[null,null,null,null,null,null,null,null,null,null,null,null,null,"File Number:",{"$f":"EBNUMBER","v":"EB-2022-0016"}]
[null,null,null,null,null,null,null,null,null,null,null,null,null,"Exhibit:"]
[null,null,null,null,null,null,null,null,null,null,null,null,null,"Tab:"]
[null,null,null,null,null,null,null,null,null,null,null,null,null,"Schedule:"]
[null,null,null,null,null,null,null,null,null,null,null,null,null,"Page:"]
[]
[null,null,null,null,null,null,null,null,null,null,null,null,null,"Date:","2023-02-13"]
[]
[null,"Appendix 2-L"]
[null,"Recoverable OM&A Cost per Customer and per FTE 1"]
[]
[]
[null,null,null,{"$f":"\"Last Rebasing Year \"&RebaseYear&\" - OEB Approved\"","v":"Last Rebasing Year 2013 - OEB Approved"},{"$f":"\"Last Rebasing Year \"&RebaseYear&\" -  Actual\"","v":"Last Rebasing Year 2013 -  Actual"},"2014 Actuals",{"$f":"BridgeYear -7 & \" Actuals\"","v":"2015 Actuals"},{"$f":"BridgeYear -6 & \" Actuals\"","v":"2016 Actuals"},{"$f":"BridgeYear -5 & \" Actuals\"","v":"2017 Actuals"},{"$f":"BridgeYear -4 & \" Actuals\"","v":"2018 Actuals"},{"$f":"BridgeYear -3 & \" Actuals\"","v":"2019 Actuals"},{"$f":"BridgeYear -2 & \" Actuals\"","v":"2020 Actuals"},{"$f":"BridgeYear -1 & \" Actuals\"","v":"2021 Actuals"},"2022 Actual",{"$f":"TestYear & \" Test Year\"","v":"2023 Test Year"}]
[null,"Reporting Basis",null,"MIFRS","MIFRS","MIFRS","MIFRS","MIFRS","MIFRS","MIFRS","MIFRS","MIFRS","MIFRS","MIFRS","MIFRS"]
[null,"OM&A Costs"]
[null,"     O&M",null,3630827.3626395436,3696812.8400000012,3717734.6499999985,3971687.2799999989,3997115.2400000012,4113437.7000000025,4620986.4500000011,4151740.1099999971,4137000.8169999984,4602847.6099999994,5295546,6490487]
[null,"     Admin Expenses6",null,8646732.8302562777,8613848.8099999968,8064392.75,8270957.0800000001,9542331.3900000006,9480279.3499999978,9264834.3000000007,9263686.9299999978,8791138.1500000022,8589654.8099999987,8892276,9273346]
[null,"Total Recoverable OM&A from Appendix 2-JB 5",null,{"$f":"SUM(D16:D17)","v":12277560.192895822},{"$f":"SUM(E16:E17)","v":12310661.649999999},11782127.399999999,12242644.359999999,13539446.630000003,13593717.050000001,13885820.750000002,13415427.039999995,12928138.967,13192502.419999998,14187822,15763833]
[null,"Number of Customers 2,4",null,36119,35917.166666666672,36041.666666666664,36165.666666666664,36297,36479.583333333336,36627.833333333328,36734.166666666672,36863.083333333328,36957.416666666664,37111,37245]
[null,"Number of FTEs 3,4",null,null,93.889784933015562,86.05176328191358,88.798532318015504,92.280319660864109,98.265184774585208,99.573913571085711,97.07359883174054,91.511775332783586,92.178260057916191,99.6,106.87659503011039]
[null,"Customers/FTEs",null,{"$f":"IF(D20=0,\"\",D19/D20)","v":""},{"$f":"IF(E20=0,\"\",E19/E20)","v":382.54605325053524},{"$f":"IF(F20=0,\"\",F19/F20)","v":418.83704984162625},407.27775248746258,393.33413812819163,371.23609360747088,367.84567382886638,378.41562596580644,402.82338747423836,400.93419688596947,372.60040160642575,348.48602717467702]
[null,"OM&A cost per customer"]
[null,"     O&M per customer",null,{"$f":"IF(D19=0,\"\",D16/D19)","v":100.52402787008343},{"$f":"IF(E19=0,\"\",E16/E19)","v":102.92607082035983},{"$f":"IF(F19=0,\"\",F16/F19)","v":103.15101919075141},109.81927463432166,110.12246852356947,112.75999680186412,126.16051864019626,113.02121394705192,112.22612008852576,{"$f":"IF(M19=0,\"\",M16/M19)","v":124.54462527819179},142.69478052329498,174.2646529735535]
[null,"     Admin per customer",null,{"$f":"IF(D19=0,\"\",D17/D19)","v":239.39568731848274},{"$f":"IF(E19=0,\"\",E17/E19)","v":239.82539853273491},{"$f":"IF(F19=0,\"\",F17/F19)","v":223.75193757225435},228.69638091375799,262.89586990660388,259.87904695548872,252.94519104324129,252.18176348086467,238.4808148169918,{"$f":"IF(M19=0,\"\",M17/M19)","v":232.42032546466766},239.61294494893698,248.98230634984563]
[null,"     Total OM&A per customer",null,{"$f":"IF(D19=0,\"\",D18/D19)","v":339.91971518856622},{"$f":"IF(E19=0,\"\",E18/E19)","v":342.75146935309476},{"$f":"IF(F19=0,\"\",F18/F19)","v":326.90295676300576},338.51565554807968,373.01833843017334,372.63904375735285,379.10570968343757,365.20297742791661,350.70693490551753,{"$f":"IF(M19=0,\"\",M18/M19)","v":356.96495074285946},382.30772547223194,423.2469593233991]
[null,"OM&A cost per FTE"]
[null,"     O&M per FTE",null,{"$f":"IF(D20=0,\"\",D16/D20)","v":""},{"$f":"IF(E20=0,\"\",E16/E20)","v":39373.962168913735},{"$f":"IF(F20=0,\"\",F16/F20)","v":43203.468566011295},44726.947352869938,43314.92624526711,41860.580727914945,46407.600989802253,42768.993423188986,45207.305857150612,49934.199312375837,53168.132530120485,{"$f":"IF(O20=0,\"\",O16/O20)","v":60728.79659172742}]
[null,"     Admin per FTE",null,{"$f":"IF(D20=0,\"\",D17/D20)","v":""},{"$f":"IF(E20=0,\"\",E17/E20)","v":91744.259677934446},{"$f":"IF(F20=0,\"\",F17/F20)","v":93715.601429110742},93142.948020571988,103405.92040717522,96476.482202188126,93044.794241072435,95429.519884772351,96065.649672197163,93185.256530152154,89279.879518072295,{"$f":"IF(O20=0,\"\",O17/O20)","v":86766.854776646054}]
[null,"     Total OM&A per FTE",null,{"$f":"IF(D20=0,\"\",D18/D20)","v":""},{"$f":"IF(E20=0,\"\",E18/E20)","v":131118.22184684817},{"$f":"IF(F20=0,\"\",F18/F20)","v":136919.06999512203},137869.89537344192,146720.84665244233,138337.06293010307,139452.39523087468,138198.51330796134,141272.95552934776,143119.455842528,142448.01204819279,{"$f":"IF(O20=0,\"\",O18/O20)","v":147495.65136837348}]
[]
[null,"Notes:"]
[]
[null,1,"If it has been more than four years since the applicant last filed a cost of service application, additional years of historical actuals should be incorporated into the table, as necessary, to go back to the last cost of service application. If the applicant last filed a cost of service application less than four years ago, a minimum of three years of actual information is required."]
[]
[null,2,"The method of calculating the number of customers must be identified. Should correspond with data provided in Appendix 2-IB."]
[null,3,"The method of calculating the number of FTEs must be identified. See also Appendix 2-K."]
[null,4,"The number of customers and the number of FTEs should correspond to mid-year or average of January 1 and December 31 figures."]
[null,5,"For the test year, the applicant should take into account the system O&M (line 24 of Appendix 2-AB) in developing its forecasted OM&A."]
[null,6,"Includes lines 19, 20, & 21 of Appendix 2-JA"]

{"sheet":"App.2-L_OM&A_per_Cust_FTEE_exp","index":47,"n_rows":38,"n_cols":12,"rows_kept":38,"cut":false,"hidden":true,"merged":[[8,0,8,11],[9,0,9,11],[34,1,34,6],[35,1,35,6],[21,0,21,1],[22,0,22,1],[25,0,25,1],[14,0,14,1],[13,0,13,1],[11,7,11,11],[15,0,15,1],[16,0,16,1],[17,0,17,1],[37,1,38,11],[36,1,36,11],[32,1,33,11],[19,0,19,1],[18,0,18,1],[20,0,20,1],[26,0,26,1]]}
[null,null,null,null,null,null,null,null,null,null,"File Number:",{"$f":"EBNUMBER","v":"EB-2022-0016"}]
[null,null,null,null,null,null,null,null,null,null,"Exhibit:"]
[null,null,null,null,null,null,null,null,null,null,"Tab:"]
[null,null,null,null,null,null,null,null,null,null,"Schedule:"]
[null,null,null,null,null,null,null,null,null,null,"Page:"]
[]
[null,null,null,null,null,null,null,null,null,null,"Date:"]
[]
["Appendix 2-L"]
["Recoverable OM&A Cost per Customer and per FTE 1"]
[]
[null,null,null,null,null,null,null,"5-year Distribution System Plan Period"]
[null,null,{"$f":"\"Last Rebasing Year - \"&RebaseYear&\"- Board Approved\"","v":"Last Rebasing Year - 2013- Board Approved"},{"$f":"\"Last Rebasing Year - \"&RebaseYear&\"-  Actual\"","v":"Last Rebasing Year - 2013-  Actual"},{"$f":"BridgeYear -2 & \" Actuals\"","v":"2020 Actuals"},{"$f":"BridgeYear -1 & \" Actuals\"","v":"2021 Actuals"},{"$f":"BridgeYear & \" Bridge Year\"","v":"2022 Bridge Year"},{"$f":"TestYear & \" Test Year\"","v":"2023 Test Year"},{"$f":"TestYear+1 & \" Year\"","v":"2024 Year"},{"$f":"TestYear+2 & \" Year\"","v":"2025 Year"},{"$f":"TestYear+3 & \" Year\"","v":"2026 Year"},{"$f":"TestYear+4 & \" Year\"","v":"2027 Year"}]
["Reporting Basis"]
["OM&A Costs"]
["     O&M"]
["     Admin Expenses"]
["Total Recoverable OM&A from Appendix 2-JB 5",null,{"$f":"SUM(C16:C17)","v":0},{"$f":"SUM(D16:D17)","v":0},0,0,0,0,0,0,0,0]
["Number of Customers 2,4"]
["Number of FTEs 3,4"]
["Customers/FTEs",null,{"$f":"IF(C20=0,\"\",C19/C20)","v":""},{"$f":"IF(D20=0,\"\",D19/D20)","v":""},"","","","","","","",""]
["OM&A cost per customer"]
["     O&M per customer",null,{"$f":"IF(C19=0,\"\",C16/C19)","v":""},{"$f":"IF(D19=0,\"\",D16/D19)","v":""},"","","","","","","",""]
["     Admin per customer",null,{"$f":"IF(C19=0,\"\",C17/C19)","v":""},{"$f":"IF(D19=0,\"\",D17/D19)","v":""},"","","","","","","",""]
["     Total OM&A per customer",null,{"$f":"IF(C19=0,\"\",C18/C19)","v":""},{"$f":"IF(D19=0,\"\",D18/D19)","v":""},"","","","","","","",""]
["OM&A cost per FTE"]
["     O&M per FTE",null,{"$f":"IF(C20=0,\"\",C16/C20)","v":""},{"$f":"IF(D20=0,\"\",D16/D20)","v":""},"","","","","","","",""]
["     Admin per FTE",null,{"$f":"IF(C20=0,\"\",C17/C20)","v":""},{"$f":"IF(D20=0,\"\",D17/D20)","v":""},"","","","","","","",""]
["     Total OM&A per FTE",null,{"$f":"IF(C20=0,\"\",C18/C20)","v":""},{"$f":"IF(D20=0,\"\",D18/D20)","v":""},"","","","","","","",""]
[]
["Notes:"]
[]
[1,"If it has been more than three years since the applicant last filed a cost of service application, additional years of historical actuals should be incorporated into the table, as necessary, to go back to the last cost of service application.  If the applicant last filed a cost of service application less than three years ago, a minimum of three years of actual information is required."]
[]
[2,"The method of calculating the number of customers must be identified. Should be linked back to Appendix 2-IA"]
[3,"The method of calculating the number of FTEs must be identified.  See also Appendix 2-K"]
[4,"The number of customers and the number of FTEs should correspond to mid-year or average of January 1 and December 31 figures."]
[5,"For the test year and in the subsequent four years of the DSP period, the applicant should take into account the system O&M (line X of Appendix 2-AB) in developing its forecasted OM&A. Admin expenses beyond the test year also need to be forecasted (separately)."]

{"sheet":"App.2-M_Regulatory_Costs","index":48,"n_rows":83,"n_cols":11,"rows_kept":83,"cut":false,"hidden":false,"merged":[[32,0,32,1],[12,0,12,1],[13,0,13,1],[8,0,8,10],[9,0,9,10],[14,0,14,1]]}
[null,null,null,null,null,null,null,null,null,"File Number:",{"$f":"EBNUMBER","v":"EB-2022-0016"}]
[null,null,null,null,null,null,null,null,null,"Exhibit:"]
[null,null,null,null,null,null,null,null,null,"Tab:"]
["TO BE UPDATED AT THE DRAFT RATE ORDER STAGE",null,null,null,null,null,null,null,null,"Schedule:"]
[null,null,null,null,null,null,null,null,null,"Page:"]
[]
[null,null,null,null,null,null,null,null,null,"Date:","2023-02-13"]
[]
["Appendix 2-M"]
["Regulatory Cost Schedule"]
[]
[]
["Regulatory Cost Category",null,"USoA Account","USoA Account Balance",{"$f":"\"Last Rebasing Year (\" & RebaseYear & \" OEB Approved)\"","v":"Last Rebasing Year (2013 OEB Approved)"},{"$f":"\"Last Rebasing Year (\" & RebaseYear & \" Actual)\"","v":"Last Rebasing Year (2013 Actual)"},{"$f":"\"Most Current Actuals Year \" & TestYear - 2","v":"Most Current Actuals Year 2021"},"2022 Actual","Annual % Change",{"$f":"TestYear & \" Test Year\"","v":"2023 Test Year"},"Annual % Change"]
["(A)",null,"(B)","(C )","(D)","(E)","(F)","(G)","(H)=[(G)-(F)]/(F)","(I)","(J) = [(I)-(G)]/(G)"]
["Regulatory Costs (Ongoing)"]
[1,"OEB Annual Assessment",5655,null,126203,114929,130999.269,132749,{"$f":"IF(G16=0,\"\",(H16-G16)/G16)","v":1.3356799723821358E-2},161971,{"$f":"IF(H16=0,\"\",(J16-H16)/H16)","v":0.22012971849128807}]
[2,"OEB Section 30 Costs (OEB-initiated)",5655,null,4000,4027.62,6376.93,6378,{"$f":"IF(G17=0,\"\",(H17-G17)/G17)","v":1.6779233894675163E-4},6379,{"$f":"IF(H17=0,\"\",(J17-H17)/H17)","v":1.5678896205707118E-4}]
[3,"Expert Witness costs for regulatory matters",null,null,null,null,null,null,"",null,""]
[4,"Legal costs for regulatory matters",5655,null,4780,15761,8350,4925,-0.41017964071856289,5000,1.5228426395939087E-2]
[5,"Consultants' costs for regulatory matters",5655,null,9560,2875,40622,3500,-0.9138397912461228,10000,1.8571428571428572]
[6,"Operating expenses associated with staff resources allocated to regulatory matters",5655,null,92337,98790.349999999991,130377,264937,1.0320838798254293,306434,0.1566296893223672]
[7,"Operating expenses associated with other resources allocated to regulatory matters 1",5655,null,null,null,31668,71500,1.2577996715927751,24978,-0.65065734265734265]
[8,"Other regulatory agency fees or assessments",5655,null,20077,20301,21818,21786,-1.4666788889907416E-3,26000,0.19342697144955476]
[9,"Any other costs for regulatory matters (please define) - advertising, memberships, subscriptions",5655,null,5163,3903,7544,14327,0.89912513255567339,18936,0.32170028617296015]
[10,"Intervenor costs",null,null,null,null,null,null,"",null,""]
[11,"Include other items in green cells, as applicable",null,null,null,null,null,null,"",null,""]
[12,null,null,null,null,null,null,null,null,null,""]
[13,null,null,null,null,null,null,null,"",null,""]
[14,null,null,null,null,null,null,null,"",null,""]
[28,null,null,null,null,null,null,null,"",null,""]
[29,null,null,null,null,null,null,null,"",null,""]
[30,null,null,null,null,null,null,null,"",null,""]
["Regulatory Costs (One-Time)"]
[1,"Expert Witness costs",null,null,null,null,null,null,{"$f":"IF(G34=0,\"\",(H34-G34)/G34)","v":""},null,{"$f":"IF(H34=0,\"\",(J34-H34)/H34)","v":""}]
[2,"Legal costs",5655,null,64000,90130,null,15550,"",48000,2.0868167202572345]
[3,"Consultants' costs",5655,null,42000,95561,41758,18030,-0.56822644762680208,40000,1.2185246810870771]
[4,"Incremental operating expenses associated with staff resources allocated to this application.",5655,null,10000,44848,null,112835,"",63332,-0.43872025523995212]
[5,"Incremental operating expenses associated with other resources allocated to this application. 1",null,null,null,null,null,1600,"",null,-1]
[6,"Intervenor costs",5655,null,100000,64093,null,null,"",125000,""]
[7,"OEB Section 30 Costs (application-related)",5655,null,12000,7603,null,null,"",8000,""]
[8,"Include other items in green cells, as applicable",null,null,null,null,null,null,"",null,""]
[9,null,null,null,null,null,null,null,"",null,""]
[10,null,null,null,null,null,null,null,"",null,""]
[11,null,null,null,null,null,null,null,"",null,""]
[12,null,null,null,null,null,null,null,"",null,""]
[13,null,null,null,null,null,null,null,"",null,""]
[14,null,null,null,null,null,null,null,"",null,""]
[15,null,null,null,null,null,null,null,"",null,""]
[16,null,null,null,null,null,null,null,"",null,""]
[17,null,null,null,null,null,null,null,"",null,""]
[18,null,null,null,null,null,null,null,"",null,""]
[19,null,null,null,null,null,null,null,"",null,""]
[20,null,null,null,null,null,null,null,"",null,""]
[21,null,null,null,null,null,null,null,"",null,""]
[22,null,null,null,null,null,null,null,"",null,""]
[23,null,null,null,null,null,null,null,"",null,""]
[24,null,null,null,null,null,null,null,"",null,""]
[25,null,null,null,null,null,null,null,"",null,""]
[26,null,null,null,null,null,null,null,"",null,""]
[27,null,null,null,null,null,null,null,"",null,""]
[28,null,null,null,null,null,null,null,"",null,""]
[29,null,null,null,null,null,null,null,"",null,""]
[30,null,null,null,null,null,null,null,{"$f":"IF(G63=0,\"\",(H63-G63)/G63)","v":""},null,""]
[1,"Sub-total - Ongoing Costs 2",null,{"$f":"SUM(D16:D32)","v":0},{"$f":"SUM(E16:E32)","v":262120},{"$f":"SUM(F16:F32)","v":260586.96999999997},{"$f":"SUM(G16:G32)","v":377755.19900000002},{"$f":"SUM(H16:H32)","v":520102},{"$f":"IF(G64=0,\"\",(H64-G64)/G64)","v":0.37682287729413877},{"$f":"SUM(J16:J32)","v":559698},7.6131220414457162E-2]
[2,"Sub-total - One-time Costs 3",null,{"$f":"SUM(D34:D63)","v":0},{"$f":"SUM(E34:E63)","v":228000},{"$f":"SUM(F34:F63)","v":302235},{"$f":"SUM(G34:G63)","v":41758},{"$f":"SUM(H34:H63)","v":148015},{"$f":"IF(G65=0,\"\",(H65-G65)/G65)","v":2.544590258154126},{"$f":"SUM(J34:J63)","v":284332},0.92096746951322506]
[3,"Total",null,{"$f":"D64+D65","v":0},{"$f":"E64+E65","v":490120},562821.97,419513.19900000002,668117,0.59260066570634873,{"$f":"J64+C70","v":654519},-2.0352722651870856E-2]
[]
[null,"Application-Related One-Time Costs","Total"]
[null,"Total One-Time Costs Related to Application to be Amortized over IRM Period",{"$f":"J65+H65+G65","v":474105}]
[null,"1/5 of Total One-Time Costs",{"$f":"C69/5","v":94821}]
[]
[]
[]
[]
[]
[]
[]
[]
["Notes:"]
[]
["1","Please identify the resources involved."]
["2","Sum of all ongoing costs."]
["3","Sum of all one-time costs related to this application."]

{"sheet":"Hidden_RegulatoryCosts1","index":49,"n_rows":65,"n_cols":16,"rows_kept":65,"cut":false,"hidden":true,"merged":[]}
["Utility Name","EB Number","Test Year","Bridge Year","Last Rebasing Year","Regulatory Cost Category","Type of Cost","USoA","USoA Account Balance",{"$f":"'App.2-M_Regulatory_Costs'!E13","v":"Last Rebasing Year (2013 OEB Approved)"},{"$f":"'App.2-M_Regulatory_Costs'!F13","v":"Last Rebasing Year (2013 Actual)"},{"$f":"'App.2-M_Regulatory_Costs'!G13","v":"Most Current Actuals Year 2021"},{"$f":"'App.2-M_Regulatory_Costs'!H13","v":"2022 Actual"},{"$f":"'App.2-M_Regulatory_Costs'!I13","v":"Annual % Change"},{"$f":"'App.2-M_Regulatory_Costs'!J13","v":"2023 Test Year"},{"$f":"'App.2-M_Regulatory_Costs'!K13","v":"Annual % Change"}]
[{"$f":"'LDC Info'!$E$14","v":"Bluewater Power Distribution Corporation"},{"$f":"EBNUMBER","v":"EB-2022-0016"},{"$f":"TestYear","v":2023},{"$f":"BridgeYear","v":2022},{"$f":"RebaseYear","v":2013},{"$f":"'App.2-M_Regulatory_Costs'!B16","v":"OEB Annual Assessment"},"Ongoing",{"$f":"INDIRECT(\"'App.2-M_Regulatory_Costs'!C\" & MATCH(F2,'App.2-M_Regulatory_Costs'!$B:$B,0))","v":5655},{"$f":"INDIRECT(\"'App.2-M_Regulatory_Costs'!D\" & MATCH($F2,'App.2-M_Regulatory_Costs'!$B:$B,0))","v":0},{"$f":"INDIRECT(\"'App.2-M_Regulatory_Costs'!E\" & MATCH($F2,'App.2-M_Regulatory_Costs'!$B:$B,0))","v":126203},{"$f":"INDIRECT(\"'App.2-M_Regulatory_Costs'!F\" & MATCH($F2,'App.2-M_Regulatory_Costs'!$B:$B,0))","v":114929},{"$f":"INDIRECT(\"'App.2-M_Regulatory_Costs'!G\" & MATCH($F2,'App.2-M_Regulatory_Costs'!$B:$B,0))","v":130999.269},{"$f":"INDIRECT(\"'App.2-M_Regulatory_Costs'!H\" & MATCH($F2,'App.2-M_Regulatory_Costs'!$B:$B,0))","v":132749},{"$f":"INDIRECT(\"'App.2-M_Regulatory_Costs'!I\" & MATCH($F2,'App.2-M_Regulatory_Costs'!$B:$B,0))","v":1.3356799723821358E-2},{"$f":"INDIRECT(\"'App.2-M_Regulatory_Costs'!J\" & MATCH($F2,'App.2-M_Regulatory_Costs'!$B:$B,0))","v":161971},{"$f":"INDIRECT(\"'App.2-M_Regulatory_Costs'!K\" & MATCH($F2,'App.2-M_Regulatory_Costs'!$B:$B,0))","v":0.22012971849128807}]
[{"$f":"'LDC Info'!$E$14","v":"Bluewater Power Distribution Corporation"},"EB-2022-0016",2023,2022,2013,{"$f":"'App.2-M_Regulatory_Costs'!B17","v":"OEB Section 30 Costs (OEB-initiated)"},"Ongoing",{"$f":"INDIRECT(\"'App.2-M_Regulatory_Costs'!C\" & MATCH(F3,'App.2-M_Regulatory_Costs'!$B:$B,0))","v":5655},{"$f":"INDIRECT(\"'App.2-M_Regulatory_Costs'!D\" & MATCH($F3,'App.2-M_Regulatory_Costs'!$B:$B,0))","v":0},{"$f":"INDIRECT(\"'App.2-M_Regulatory_Costs'!E\" & MATCH($F3,'App.2-M_Regulatory_Costs'!$B:$B,0))","v":4000},{"$f":"INDIRECT(\"'App.2-M_Regulatory_Costs'!F\" & MATCH($F3,'App.2-M_Regulatory_Costs'!$B:$B,0))","v":4027.62},{"$f":"INDIRECT(\"'App.2-M_Regulatory_Costs'!G\" & MATCH($F3,'App.2-M_Regulatory_Costs'!$B:$B,0))","v":6376.93},{"$f":"INDIRECT(\"'App.2-M_Regulatory_Costs'!H\" & MATCH($F3,'App.2-M_Regulatory_Costs'!$B:$B,0))","v":6378},{"$f":"INDIRECT(\"'App.2-M_Regulatory_Costs'!I\" & MATCH($F3,'App.2-M_Regulatory_Costs'!$B:$B,0))","v":1.6779233894675163E-4},{"$f":"INDIRECT(\"'App.2-M_Regulatory_Costs'!J\" & MATCH($F3,'App.2-M_Regulatory_Costs'!$B:$B,0))","v":6379},{"$f":"INDIRECT(\"'App.2-M_Regulatory_Costs'!K\" & MATCH($F3,'App.2-M_Regulatory_Costs'!$B:$B,0))","v":1.5678896205707118E-4}]
[{"$f":"'LDC Info'!$E$14","v":"Bluewater Power Distribution Corporation"},"EB-2022-0016",2023,2022,2013,{"$f":"'App.2-M_Regulatory_Costs'!B18","v":"Expert Witness costs for regulatory matters"},"Ongoing",{"$f":"INDIRECT(\"'App.2-M_Regulatory_Costs'!C\" & MATCH(F4,'App.2-M_Regulatory_Costs'!$B:$B,0))","v":0},{"$f":"INDIRECT(\"'App.2-M_Regulatory_Costs'!D\" & MATCH($F4,'App.2-M_Regulatory_Costs'!$B:$B,0))","v":0},{"$f":"INDIRECT(\"'App.2-M_Regulatory_Costs'!E\" & MATCH($F4,'App.2-M_Regulatory_Costs'!$B:$B,0))","v":0},{"$f":"INDIRECT(\"'App.2-M_Regulatory_Costs'!F\" & MATCH($F4,'App.2-M_Regulatory_Costs'!$B:$B,0))","v":0},{"$f":"INDIRECT(\"'App.2-M_Regulatory_Costs'!G\" & MATCH($F4,'App.2-M_Regulatory_Costs'!$B:$B,0))","v":0},{"$f":"INDIRECT(\"'App.2-M_Regulatory_Costs'!H\" & MATCH($F4,'App.2-M_Regulatory_Costs'!$B:$B,0))","v":0},{"$f":"INDIRECT(\"'App.2-M_Regulatory_Costs'!I\" & MATCH($F4,'App.2-M_Regulatory_Costs'!$B:$B,0))","v":""},{"$f":"INDIRECT(\"'App.2-M_Regulatory_Costs'!J\" & MATCH($F4,'App.2-M_Regulatory_Costs'!$B:$B,0))","v":0},{"$f":"INDIRECT(\"'App.2-M_Regulatory_Costs'!K\" & MATCH($F4,'App.2-M_Regulatory_Costs'!$B:$B,0))","v":""}]
[{"$f":"'LDC Info'!$E$14","v":"Bluewater Power Distribution Corporation"},"EB-2022-0016",2023,2022,2013,{"$f":"'App.2-M_Regulatory_Costs'!B19","v":"Legal costs for regulatory matters"},"Ongoing",{"$f":"INDIRECT(\"'App.2-M_Regulatory_Costs'!C\" & MATCH(F5,'App.2-M_Regulatory_Costs'!$B:$B,0))","v":5655},{"$f":"INDIRECT(\"'App.2-M_Regulatory_Costs'!D\" & MATCH($F5,'App.2-M_Regulatory_Costs'!$B:$B,0))","v":0},{"$f":"INDIRECT(\"'App.2-M_Regulatory_Costs'!E\" & MATCH($F5,'App.2-M_Regulatory_Costs'!$B:$B,0))","v":4780},{"$f":"INDIRECT(\"'App.2-M_Regulatory_Costs'!F\" & MATCH($F5,'App.2-M_Regulatory_Costs'!$B:$B,0))","v":15761},{"$f":"INDIRECT(\"'App.2-M_Regulatory_Costs'!G\" & MATCH($F5,'App.2-M_Regulatory_Costs'!$B:$B,0))","v":8350},{"$f":"INDIRECT(\"'App.2-M_Regulatory_Costs'!H\" & MATCH($F5,'App.2-M_Regulatory_Costs'!$B:$B,0))","v":4925},{"$f":"INDIRECT(\"'App.2-M_Regulatory_Costs'!I\" & MATCH($F5,'App.2-M_Regulatory_Costs'!$B:$B,0))","v":-0.41017964071856289},{"$f":"INDIRECT(\"'App.2-M_Regulatory_Costs'!J\" & MATCH($F5,'App.2-M_Regulatory_Costs'!$B:$B,0))","v":5000},{"$f":"INDIRECT(\"'App.2-M_Regulatory_Costs'!K\" & MATCH($F5,'App.2-M_Regulatory_Costs'!$B:$B,0))","v":1.5228426395939087E-2}]
[{"$f":"'LDC Info'!$E$14","v":"Bluewater Power Distribution Corporation"},"EB-2022-0016",2023,2022,2013,{"$f":"'App.2-M_Regulatory_Costs'!B20","v":"Consultants' costs for regulatory matters"},"Ongoing",{"$f":"INDIRECT(\"'App.2-M_Regulatory_Costs'!C\" & MATCH(F6,'App.2-M_Regulatory_Costs'!$B:$B,0))","v":5655},{"$f":"INDIRECT(\"'App.2-M_Regulatory_Costs'!D\" & MATCH($F6,'App.2-M_Regulatory_Costs'!$B:$B,0))","v":0},{"$f":"INDIRECT(\"'App.2-M_Regulatory_Costs'!E\" & MATCH($F6,'App.2-M_Regulatory_Costs'!$B:$B,0))","v":9560},{"$f":"INDIRECT(\"'App.2-M_Regulatory_Costs'!F\" & MATCH($F6,'App.2-M_Regulatory_Costs'!$B:$B,0))","v":2875},{"$f":"INDIRECT(\"'App.2-M_Regulatory_Costs'!G\" & MATCH($F6,'App.2-M_Regulatory_Costs'!$B:$B,0))","v":40622},{"$f":"INDIRECT(\"'App.2-M_Regulatory_Costs'!H\" & MATCH($F6,'App.2-M_Regulatory_Costs'!$B:$B,0))","v":3500},{"$f":"INDIRECT(\"'App.2-M_Regulatory_Costs'!I\" & MATCH($F6,'App.2-M_Regulatory_Costs'!$B:$B,0))","v":-0.9138397912461228},{"$f":"INDIRECT(\"'App.2-M_Regulatory_Costs'!J\" & MATCH($F6,'App.2-M_Regulatory_Costs'!$B:$B,0))","v":10000},{"$f":"INDIRECT(\"'App.2-M_Regulatory_Costs'!K\" & MATCH($F6,'App.2-M_Regulatory_Costs'!$B:$B,0))","v":1.8571428571428572}]
[{"$f":"'LDC Info'!$E$14","v":"Bluewater Power Distribution Corporation"},"EB-2022-0016",2023,2022,2013,{"$f":"'App.2-M_Regulatory_Costs'!B21","v":"Operating expenses associated with staff resources allocated to regulatory matters"},"Ongoing",{"$f":"INDIRECT(\"'App.2-M_Regulatory_Costs'!C\" & MATCH(F7,'App.2-M_Regulatory_Costs'!$B:$B,0))","v":5655},{"$f":"INDIRECT(\"'App.2-M_Regulatory_Costs'!D\" & MATCH($F7,'App.2-M_Regulatory_Costs'!$B:$B,0))","v":0},{"$f":"INDIRECT(\"'App.2-M_Regulatory_Costs'!E\" & MATCH($F7,'App.2-M_Regulatory_Costs'!$B:$B,0))","v":92337},{"$f":"INDIRECT(\"'App.2-M_Regulatory_Costs'!F\" & MATCH($F7,'App.2-M_Regulatory_Costs'!$B:$B,0))","v":98790.349999999991},{"$f":"INDIRECT(\"'App.2-M_Regulatory_Costs'!G\" & MATCH($F7,'App.2-M_Regulatory_Costs'!$B:$B,0))","v":130377},{"$f":"INDIRECT(\"'App.2-M_Regulatory_Costs'!H\" & MATCH($F7,'App.2-M_Regulatory_Costs'!$B:$B,0))","v":264937},{"$f":"INDIRECT(\"'App.2-M_Regulatory_Costs'!I\" & MATCH($F7,'App.2-M_Regulatory_Costs'!$B:$B,0))","v":1.0320838798254293},{"$f":"INDIRECT(\"'App.2-M_Regulatory_Costs'!J\" & MATCH($F7,'App.2-M_Regulatory_Costs'!$B:$B,0))","v":306434},{"$f":"INDIRECT(\"'App.2-M_Regulatory_Costs'!K\" & MATCH($F7,'App.2-M_Regulatory_Costs'!$B:$B,0))","v":0.1566296893223672}]
[{"$f":"'LDC Info'!$E$14","v":"Bluewater Power Distribution Corporation"},"EB-2022-0016",2023,2022,2013,{"$f":"'App.2-M_Regulatory_Costs'!B22","v":"Operating expenses associated with other resources allocated to regulatory matters 1"},"Ongoing",{"$f":"INDIRECT(\"'App.2-M_Regulatory_Costs'!C\" & MATCH(F8,'App.2-M_Regulatory_Costs'!$B:$B,0))","v":5655},{"$f":"INDIRECT(\"'App.2-M_Regulatory_Costs'!D\" & MATCH($F8,'App.2-M_Regulatory_Costs'!$B:$B,0))","v":0},{"$f":"INDIRECT(\"'App.2-M_Regulatory_Costs'!E\" & MATCH($F8,'App.2-M_Regulatory_Costs'!$B:$B,0))","v":0},{"$f":"INDIRECT(\"'App.2-M_Regulatory_Costs'!F\" & MATCH($F8,'App.2-M_Regulatory_Costs'!$B:$B,0))","v":0},{"$f":"INDIRECT(\"'App.2-M_Regulatory_Costs'!G\" & MATCH($F8,'App.2-M_Regulatory_Costs'!$B:$B,0))","v":31668},{"$f":"INDIRECT(\"'App.2-M_Regulatory_Costs'!H\" & MATCH($F8,'App.2-M_Regulatory_Costs'!$B:$B,0))","v":71500},{"$f":"INDIRECT(\"'App.2-M_Regulatory_Costs'!I\" & MATCH($F8,'App.2-M_Regulatory_Costs'!$B:$B,0))","v":1.2577996715927751},{"$f":"INDIRECT(\"'App.2-M_Regulatory_Costs'!J\" & MATCH($F8,'App.2-M_Regulatory_Costs'!$B:$B,0))","v":24978},{"$f":"INDIRECT(\"'App.2-M_Regulatory_Costs'!K\" & MATCH($F8,'App.2-M_Regulatory_Costs'!$B:$B,0))","v":-0.65065734265734265}]
[{"$f":"'LDC Info'!$E$14","v":"Bluewater Power Distribution Corporation"},"EB-2022-0016",2023,2022,2013,{"$f":"'App.2-M_Regulatory_Costs'!B23","v":"Other regulatory agency fees or assessments"},"Ongoing",{"$f":"INDIRECT(\"'App.2-M_Regulatory_Costs'!C\" & MATCH(F9,'App.2-M_Regulatory_Costs'!$B:$B,0))","v":5655},{"$f":"INDIRECT(\"'App.2-M_Regulatory_Costs'!D\" & MATCH($F9,'App.2-M_Regulatory_Costs'!$B:$B,0))","v":0},{"$f":"INDIRECT(\"'App.2-M_Regulatory_Costs'!E\" & MATCH($F9,'App.2-M_Regulatory_Costs'!$B:$B,0))","v":20077},{"$f":"INDIRECT(\"'App.2-M_Regulatory_Costs'!F\" & MATCH($F9,'App.2-M_Regulatory_Costs'!$B:$B,0))","v":20301},{"$f":"INDIRECT(\"'App.2-M_Regulatory_Costs'!G\" & MATCH($F9,'App.2-M_Regulatory_Costs'!$B:$B,0))","v":21818},{"$f":"INDIRECT(\"'App.2-M_Regulatory_Costs'!H\" & MATCH($F9,'App.2-M_Regulatory_Costs'!$B:$B,0))","v":21786},{"$f":"INDIRECT(\"'App.2-M_Regulatory_Costs'!I\" & MATCH($F9,'App.2-M_Regulatory_Costs'!$B:$B,0))","v":-1.4666788889907416E-3},{"$f":"INDIRECT(\"'App.2-M_Regulatory_Costs'!J\" & MATCH($F9,'App.2-M_Regulatory_Costs'!$B:$B,0))","v":26000},{"$f":"INDIRECT(\"'App.2-M_Regulatory_Costs'!K\" & MATCH($F9,'App.2-M_Regulatory_Costs'!$B:$B,0))","v":0.19342697144955476}]
[{"$f":"'LDC Info'!$E$14","v":"Bluewater Power Distribution Corporation"},"EB-2022-0016",2023,2022,2013,{"$f":"'App.2-M_Regulatory_Costs'!B24","v":"Any other costs for regulatory matters (please define) - advertising, memberships, subscriptions"},"Ongoing",{"$f":"INDIRECT(\"'App.2-M_Regulatory_Costs'!C\" & MATCH(F10,'App.2-M_Regulatory_Costs'!$B:$B,0))","v":5655},{"$f":"INDIRECT(\"'App.2-M_Regulatory_Costs'!D\" & MATCH($F10,'App.2-M_Regulatory_Costs'!$B:$B,0))","v":0},{"$f":"INDIRECT(\"'App.2-M_Regulatory_Costs'!E\" & MATCH($F10,'App.2-M_Regulatory_Costs'!$B:$B,0))","v":5163},{"$f":"INDIRECT(\"'App.2-M_Regulatory_Costs'!F\" & MATCH($F10,'App.2-M_Regulatory_Costs'!$B:$B,0))","v":3903},{"$f":"INDIRECT(\"'App.2-M_Regulatory_Costs'!G\" & MATCH($F10,'App.2-M_Regulatory_Costs'!$B:$B,0))","v":7544},{"$f":"INDIRECT(\"'App.2-M_Regulatory_Costs'!H\" & MATCH($F10,'App.2-M_Regulatory_Costs'!$B:$B,0))","v":14327},{"$f":"INDIRECT(\"'App.2-M_Regulatory_Costs'!I\" & MATCH($F10,'App.2-M_Regulatory_Costs'!$B:$B,0))","v":0.89912513255567339},{"$f":"INDIRECT(\"'App.2-M_Regulatory_Costs'!J\" & MATCH($F10,'App.2-M_Regulatory_Costs'!$B:$B,0))","v":18936},{"$f":"INDIRECT(\"'App.2-M_Regulatory_Costs'!K\" & MATCH($F10,'App.2-M_Regulatory_Costs'!$B:$B,0))","v":0.32170028617296015}]
[{"$f":"'LDC Info'!$E$14","v":"Bluewater Power Distribution Corporation"},"EB-2022-0016",2023,2022,2013,{"$f":"'App.2-M_Regulatory_Costs'!B25","v":"Intervenor costs"},"Ongoing",{"$f":"INDIRECT(\"'App.2-M_Regulatory_Costs'!C\" & MATCH(F11,'App.2-M_Regulatory_Costs'!$B:$B,0))","v":0},{"$f":"INDIRECT(\"'App.2-M_Regulatory_Costs'!D\" & MATCH($F11,'App.2-M_Regulatory_Costs'!$B:$B,0))","v":0},{"$f":"INDIRECT(\"'App.2-M_Regulatory_Costs'!E\" & MATCH($F11,'App.2-M_Regulatory_Costs'!$B:$B,0))","v":0},{"$f":"INDIRECT(\"'App.2-M_Regulatory_Costs'!F\" & MATCH($F11,'App.2-M_Regulatory_Costs'!$B:$B,0))","v":0},{"$f":"INDIRECT(\"'App.2-M_Regulatory_Costs'!G\" & MATCH($F11,'App.2-M_Regulatory_Costs'!$B:$B,0))","v":0},{"$f":"INDIRECT(\"'App.2-M_Regulatory_Costs'!H\" & MATCH($F11,'App.2-M_Regulatory_Costs'!$B:$B,0))","v":0},{"$f":"INDIRECT(\"'App.2-M_Regulatory_Costs'!I\" & MATCH($F11,'App.2-M_Regulatory_Costs'!$B:$B,0))","v":""},{"$f":"INDIRECT(\"'App.2-M_Regulatory_Costs'!J\" & MATCH($F11,'App.2-M_Regulatory_Costs'!$B:$B,0))","v":0},{"$f":"INDIRECT(\"'App.2-M_Regulatory_Costs'!K\" & MATCH($F11,'App.2-M_Regulatory_Costs'!$B:$B,0))","v":""}]
[{"$f":"'LDC Info'!$E$14","v":"Bluewater Power Distribution Corporation"},"EB-2022-0016",2023,2022,2013,{"$f":"'App.2-M_Regulatory_Costs'!B26","v":"Include other items in green cells, as applicable"},"Ongoing",{"$f":"INDIRECT(\"'App.2-M_Regulatory_Costs'!C\" & MATCH(F12,'App.2-M_Regulatory_Costs'!$B:$B,0))","v":0},{"$f":"INDIRECT(\"'App.2-M_Regulatory_Costs'!D\" & MATCH($F12,'App.2-M_Regulatory_Costs'!$B:$B,0))","v":0},{"$f":"INDIRECT(\"'App.2-M_Regulatory_Costs'!E\" & MATCH($F12,'App.2-M_Regulatory_Costs'!$B:$B,0))","v":0},{"$f":"INDIRECT(\"'App.2-M_Regulatory_Costs'!F\" & MATCH($F12,'App.2-M_Regulatory_Costs'!$B:$B,0))","v":0},{"$f":"INDIRECT(\"'App.2-M_Regulatory_Costs'!G\" & MATCH($F12,'App.2-M_Regulatory_Costs'!$B:$B,0))","v":0},{"$f":"INDIRECT(\"'App.2-M_Regulatory_Costs'!H\" & MATCH($F12,'App.2-M_Regulatory_Costs'!$B:$B,0))","v":0},{"$f":"INDIRECT(\"'App.2-M_Regulatory_Costs'!I\" & MATCH($F12,'App.2-M_Regulatory_Costs'!$B:$B,0))","v":""},{"$f":"INDIRECT(\"'App.2-M_Regulatory_Costs'!J\" & MATCH($F12,'App.2-M_Regulatory_Costs'!$B:$B,0))","v":0},{"$f":"INDIRECT(\"'App.2-M_Regulatory_Costs'!K\" & MATCH($F12,'App.2-M_Regulatory_Costs'!$B:$B,0))","v":""}]
[{"$f":"'LDC Info'!$E$14","v":"Bluewater Power Distribution Corporation"},"EB-2022-0016",2023,2022,2013,{"$f":"'App.2-M_Regulatory_Costs'!B27","v":0},"Ongoing",{"$f":"INDIRECT(\"'App.2-M_Regulatory_Costs'!C\" & MATCH(F13,'App.2-M_Regulatory_Costs'!$B:$B,0))","v":{"$error":"#N/A"}},{"$f":"INDIRECT(\"'App.2-M_Regulatory_Costs'!D\" & MATCH($F13,'App.2-M_Regulatory_Costs'!$B:$B,0))","v":{"$error":"#N/A"}},{"$f":"INDIRECT(\"'App.2-M_Regulatory_Costs'!E\" & MATCH($F13,'App.2-M_Regulatory_Costs'!$B:$B,0))","v":{"$error":"#N/A"}},{"$f":"INDIRECT(\"'App.2-M_Regulatory_Costs'!F\" & MATCH($F13,'App.2-M_Regulatory_Costs'!$B:$B,0))","v":{"$error":"#N/A"}},{"$f":"INDIRECT(\"'App.2-M_Regulatory_Costs'!G\" & MATCH($F13,'App.2-M_Regulatory_Costs'!$B:$B,0))","v":{"$error":"#N/A"}},{"$f":"INDIRECT(\"'App.2-M_Regulatory_Costs'!H\" & MATCH($F13,'App.2-M_Regulatory_Costs'!$B:$B,0))","v":{"$error":"#N/A"}},{"$f":"INDIRECT(\"'App.2-M_Regulatory_Costs'!I\" & MATCH($F13,'App.2-M_Regulatory_Costs'!$B:$B,0))","v":{"$error":"#N/A"}},{"$f":"INDIRECT(\"'App.2-M_Regulatory_Costs'!J\" & MATCH($F13,'App.2-M_Regulatory_Costs'!$B:$B,0))","v":{"$error":"#N/A"}},{"$f":"INDIRECT(\"'App.2-M_Regulatory_Costs'!K\" & MATCH($F13,'App.2-M_Regulatory_Costs'!$B:$B,0))","v":{"$error":"#N/A"}}]
[{"$f":"'LDC Info'!$E$14","v":"Bluewater Power Distribution Corporation"},"EB-2022-0016",2023,2022,2013,{"$f":"'App.2-M_Regulatory_Costs'!B28","v":0},"Ongoing",{"$f":"INDIRECT(\"'App.2-M_Regulatory_Costs'!C\" & MATCH(F14,'App.2-M_Regulatory_Costs'!$B:$B,0))","v":{"$error":"#N/A"}},{"$f":"INDIRECT(\"'App.2-M_Regulatory_Costs'!D\" & MATCH($F14,'App.2-M_Regulatory_Costs'!$B:$B,0))","v":{"$error":"#N/A"}},{"$f":"INDIRECT(\"'App.2-M_Regulatory_Costs'!E\" & MATCH($F14,'App.2-M_Regulatory_Costs'!$B:$B,0))","v":{"$error":"#N/A"}},{"$f":"INDIRECT(\"'App.2-M_Regulatory_Costs'!F\" & MATCH($F14,'App.2-M_Regulatory_Costs'!$B:$B,0))","v":{"$error":"#N/A"}},{"$f":"INDIRECT(\"'App.2-M_Regulatory_Costs'!G\" & MATCH($F14,'App.2-M_Regulatory_Costs'!$B:$B,0))","v":{"$error":"#N/A"}},{"$f":"INDIRECT(\"'App.2-M_Regulatory_Costs'!H\" & MATCH($F14,'App.2-M_Regulatory_Costs'!$B:$B,0))","v":{"$error":"#N/A"}},{"$f":"INDIRECT(\"'App.2-M_Regulatory_Costs'!I\" & MATCH($F14,'App.2-M_Regulatory_Costs'!$B:$B,0))","v":{"$error":"#N/A"}},{"$f":"INDIRECT(\"'App.2-M_Regulatory_Costs'!J\" & MATCH($F14,'App.2-M_Regulatory_Costs'!$B:$B,0))","v":{"$error":"#N/A"}},{"$f":"INDIRECT(\"'App.2-M_Regulatory_Costs'!K\" & MATCH($F14,'App.2-M_Regulatory_Costs'!$B:$B,0))","v":{"$error":"#N/A"}}]
[{"$f":"'LDC Info'!$E$14","v":"Bluewater Power Distribution Corporation"},"EB-2022-0016",2023,2022,2013,{"$f":"'App.2-M_Regulatory_Costs'!B29","v":0},"Ongoing",{"$f":"INDIRECT(\"'App.2-M_Regulatory_Costs'!C\" & MATCH(F15,'App.2-M_Regulatory_Costs'!$B:$B,0))","v":{"$error":"#N/A"}},{"$f":"INDIRECT(\"'App.2-M_Regulatory_Costs'!D\" & MATCH($F15,'App.2-M_Regulatory_Costs'!$B:$B,0))","v":{"$error":"#N/A"}},{"$f":"INDIRECT(\"'App.2-M_Regulatory_Costs'!E\" & MATCH($F15,'App.2-M_Regulatory_Costs'!$B:$B,0))","v":{"$error":"#N/A"}},{"$f":"INDIRECT(\"'App.2-M_Regulatory_Costs'!F\" & MATCH($F15,'App.2-M_Regulatory_Costs'!$B:$B,0))","v":{"$error":"#N/A"}},{"$f":"INDIRECT(\"'App.2-M_Regulatory_Costs'!G\" & MATCH($F15,'App.2-M_Regulatory_Costs'!$B:$B,0))","v":{"$error":"#N/A"}},{"$f":"INDIRECT(\"'App.2-M_Regulatory_Costs'!H\" & MATCH($F15,'App.2-M_Regulatory_Costs'!$B:$B,0))","v":{"$error":"#N/A"}},{"$f":"INDIRECT(\"'App.2-M_Regulatory_Costs'!I\" & MATCH($F15,'App.2-M_Regulatory_Costs'!$B:$B,0))","v":{"$error":"#N/A"}},{"$f":"INDIRECT(\"'App.2-M_Regulatory_Costs'!J\" & MATCH($F15,'App.2-M_Regulatory_Costs'!$B:$B,0))","v":{"$error":"#N/A"}},{"$f":"INDIRECT(\"'App.2-M_Regulatory_Costs'!K\" & MATCH($F15,'App.2-M_Regulatory_Costs'!$B:$B,0))","v":{"$error":"#N/A"}}]
[{"$f":"'LDC Info'!$E$14","v":"Bluewater Power Distribution Corporation"},"EB-2022-0016",2023,2022,2013,{"$f":"'App.2-M_Regulatory_Costs'!#REF!","v":{"$error":"#REF!"}},"Ongoing",{"$f":"INDIRECT(\"'App.2-M_Regulatory_Costs'!C\" & MATCH(F16,'App.2-M_Regulatory_Costs'!$B:$B,0))","v":{"$error":"#REF!"}},{"$f":"INDIRECT(\"'App.2-M_Regulatory_Costs'!D\" & MATCH($F16,'App.2-M_Regulatory_Costs'!$B:$B,0))","v":{"$error":"#REF!"}},{"$f":"INDIRECT(\"'App.2-M_Regulatory_Costs'!E\" & MATCH($F16,'App.2-M_Regulatory_Costs'!$B:$B,0))","v":{"$error":"#REF!"}},{"$f":"INDIRECT(\"'App.2-M_Regulatory_Costs'!F\" & MATCH($F16,'App.2-M_Regulatory_Costs'!$B:$B,0))","v":{"$error":"#REF!"}},{"$f":"INDIRECT(\"'App.2-M_Regulatory_Costs'!G\" & MATCH($F16,'App.2-M_Regulatory_Costs'!$B:$B,0))","v":{"$error":"#REF!"}},{"$f":"INDIRECT(\"'App.2-M_Regulatory_Costs'!H\" & MATCH($F16,'App.2-M_Regulatory_Costs'!$B:$B,0))","v":{"$error":"#REF!"}},{"$f":"INDIRECT(\"'App.2-M_Regulatory_Costs'!I\" & MATCH($F16,'App.2-M_Regulatory_Costs'!$B:$B,0))","v":{"$error":"#REF!"}},{"$f":"INDIRECT(\"'App.2-M_Regulatory_Costs'!J\" & MATCH($F16,'App.2-M_Regulatory_Costs'!$B:$B,0))","v":{"$error":"#REF!"}},{"$f":"INDIRECT(\"'App.2-M_Regulatory_Costs'!K\" & MATCH($F16,'App.2-M_Regulatory_Costs'!$B:$B,0))","v":{"$error":"#REF!"}}]
[{"$f":"'LDC Info'!$E$14","v":"Bluewater Power Distribution Corporation"},"EB-2022-0016",2023,2022,2013,{"$f":"'App.2-M_Regulatory_Costs'!#REF!","v":{"$error":"#REF!"}},"Ongoing",{"$f":"INDIRECT(\"'App.2-M_Regulatory_Costs'!C\" & MATCH(F17,'App.2-M_Regulatory_Costs'!$B:$B,0))","v":{"$error":"#REF!"}},{"$f":"INDIRECT(\"'App.2-M_Regulatory_Costs'!D\" & MATCH($F17,'App.2-M_Regulatory_Costs'!$B:$B,0))","v":{"$error":"#REF!"}},{"$f":"INDIRECT(\"'App.2-M_Regulatory_Costs'!E\" & MATCH($F17,'App.2-M_Regulatory_Costs'!$B:$B,0))","v":{"$error":"#REF!"}},{"$f":"INDIRECT(\"'App.2-M_Regulatory_Costs'!F\" & MATCH($F17,'App.2-M_Regulatory_Costs'!$B:$B,0))","v":{"$error":"#REF!"}},{"$f":"INDIRECT(\"'App.2-M_Regulatory_Costs'!G\" & MATCH($F17,'App.2-M_Regulatory_Costs'!$B:$B,0))","v":{"$error":"#REF!"}},{"$f":"INDIRECT(\"'App.2-M_Regulatory_Costs'!H\" & MATCH($F17,'App.2-M_Regulatory_Costs'!$B:$B,0))","v":{"$error":"#REF!"}},{"$f":"INDIRECT(\"'App.2-M_Regulatory_Costs'!I\" & MATCH($F17,'App.2-M_Regulatory_Costs'!$B:$B,0))","v":{"$error":"#REF!"}},{"$f":"INDIRECT(\"'App.2-M_Regulatory_Costs'!J\" & MATCH($F17,'App.2-M_Regulatory_Costs'!$B:$B,0))","v":{"$error":"#REF!"}},{"$f":"INDIRECT(\"'App.2-M_Regulatory_Costs'!K\" & MATCH($F17,'App.2-M_Regulatory_Costs'!$B:$B,0))","v":{"$error":"#REF!"}}]
[{"$f":"'LDC Info'!$E$14","v":"Bluewater Power Distribution Corporation"},"EB-2022-0016",2023,2022,2013,{"$f":"'App.2-M_Regulatory_Costs'!#REF!","v":{"$error":"#REF!"}},"Ongoing",{"$f":"INDIRECT(\"'App.2-M_Regulatory_Costs'!C\" & MATCH(F18,'App.2-M_Regulatory_Costs'!$B:$B,0))","v":{"$error":"#REF!"}},{"$f":"INDIRECT(\"'App.2-M_Regulatory_Costs'!D\" & MATCH($F18,'App.2-M_Regulatory_Costs'!$B:$B,0))","v":{"$error":"#REF!"}},{"$f":"INDIRECT(\"'App.2-M_Regulatory_Costs'!E\" & MATCH($F18,'App.2-M_Regulatory_Costs'!$B:$B,0))","v":{"$error":"#REF!"}},{"$f":"INDIRECT(\"'App.2-M_Regulatory_Costs'!F\" & MATCH($F18,'App.2-M_Regulatory_Costs'!$B:$B,0))","v":{"$error":"#REF!"}},{"$f":"INDIRECT(\"'App.2-M_Regulatory_Costs'!G\" & MATCH($F18,'App.2-M_Regulatory_Costs'!$B:$B,0))","v":{"$error":"#REF!"}},{"$f":"INDIRECT(\"'App.2-M_Regulatory_Costs'!H\" & MATCH($F18,'App.2-M_Regulatory_Costs'!$B:$B,0))","v":{"$error":"#REF!"}},{"$f":"INDIRECT(\"'App.2-M_Regulatory_Costs'!I\" & MATCH($F18,'App.2-M_Regulatory_Costs'!$B:$B,0))","v":{"$error":"#REF!"}},{"$f":"INDIRECT(\"'App.2-M_Regulatory_Costs'!J\" & MATCH($F18,'App.2-M_Regulatory_Costs'!$B:$B,0))","v":{"$error":"#REF!"}},{"$f":"INDIRECT(\"'App.2-M_Regulatory_Costs'!K\" & MATCH($F18,'App.2-M_Regulatory_Costs'!$B:$B,0))","v":{"$error":"#REF!"}}]
[{"$f":"'LDC Info'!$E$14","v":"Bluewater Power Distribution Corporation"},"EB-2022-0016",2023,2022,2013,{"$f":"'App.2-M_Regulatory_Costs'!#REF!","v":{"$error":"#REF!"}},"Ongoing",{"$f":"INDIRECT(\"'App.2-M_Regulatory_Costs'!C\" & MATCH(F19,'App.2-M_Regulatory_Costs'!$B:$B,0))","v":{"$error":"#REF!"}},{"$f":"INDIRECT(\"'App.2-M_Regulatory_Costs'!D\" & MATCH($F19,'App.2-M_Regulatory_Costs'!$B:$B,0))","v":{"$error":"#REF!"}},{"$f":"INDIRECT(\"'App.2-M_Regulatory_Costs'!E\" & MATCH($F19,'App.2-M_Regulatory_Costs'!$B:$B,0))","v":{"$error":"#REF!"}},{"$f":"INDIRECT(\"'App.2-M_Regulatory_Costs'!F\" & MATCH($F19,'App.2-M_Regulatory_Costs'!$B:$B,0))","v":{"$error":"#REF!"}},{"$f":"INDIRECT(\"'App.2-M_Regulatory_Costs'!G\" & MATCH($F19,'App.2-M_Regulatory_Costs'!$B:$B,0))","v":{"$error":"#REF!"}},{"$f":"INDIRECT(\"'App.2-M_Regulatory_Costs'!H\" & MATCH($F19,'App.2-M_Regulatory_Costs'!$B:$B,0))","v":{"$error":"#REF!"}},{"$f":"INDIRECT(\"'App.2-M_Regulatory_Costs'!I\" & MATCH($F19,'App.2-M_Regulatory_Costs'!$B:$B,0))","v":{"$error":"#REF!"}},{"$f":"INDIRECT(\"'App.2-M_Regulatory_Costs'!J\" & MATCH($F19,'App.2-M_Regulatory_Costs'!$B:$B,0))","v":{"$error":"#REF!"}},{"$f":"INDIRECT(\"'App.2-M_Regulatory_Costs'!K\" & MATCH($F19,'App.2-M_Regulatory_Costs'!$B:$B,0))","v":{"$error":"#REF!"}}]
[{"$f":"'LDC Info'!$E$14","v":"Bluewater Power Distribution Corporation"},"EB-2022-0016",2023,2022,2013,{"$f":"'App.2-M_Regulatory_Costs'!#REF!","v":{"$error":"#REF!"}},"Ongoing",{"$f":"INDIRECT(\"'App.2-M_Regulatory_Costs'!C\" & MATCH(F20,'App.2-M_Regulatory_Costs'!$B:$B,0))","v":{"$error":"#REF!"}},{"$f":"INDIRECT(\"'App.2-M_Regulatory_Costs'!D\" & MATCH($F20,'App.2-M_Regulatory_Costs'!$B:$B,0))","v":{"$error":"#REF!"}},{"$f":"INDIRECT(\"'App.2-M_Regulatory_Costs'!E\" & MATCH($F20,'App.2-M_Regulatory_Costs'!$B:$B,0))","v":{"$error":"#REF!"}},{"$f":"INDIRECT(\"'App.2-M_Regulatory_Costs'!F\" & MATCH($F20,'App.2-M_Regulatory_Costs'!$B:$B,0))","v":{"$error":"#REF!"}},{"$f":"INDIRECT(\"'App.2-M_Regulatory_Costs'!G\" & MATCH($F20,'App.2-M_Regulatory_Costs'!$B:$B,0))","v":{"$error":"#REF!"}},{"$f":"INDIRECT(\"'App.2-M_Regulatory_Costs'!H\" & MATCH($F20,'App.2-M_Regulatory_Costs'!$B:$B,0))","v":{"$error":"#REF!"}},{"$f":"INDIRECT(\"'App.2-M_Regulatory_Costs'!I\" & MATCH($F20,'App.2-M_Regulatory_Costs'!$B:$B,0))","v":{"$error":"#REF!"}},{"$f":"INDIRECT(\"'App.2-M_Regulatory_Costs'!J\" & MATCH($F20,'App.2-M_Regulatory_Costs'!$B:$B,0))","v":{"$error":"#REF!"}},{"$f":"INDIRECT(\"'App.2-M_Regulatory_Costs'!K\" & MATCH($F20,'App.2-M_Regulatory_Costs'!$B:$B,0))","v":{"$error":"#REF!"}}]
[{"$f":"'LDC Info'!$E$14","v":"Bluewater Power Distribution Corporation"},"EB-2022-0016",2023,2022,2013,{"$f":"'App.2-M_Regulatory_Costs'!#REF!","v":{"$error":"#REF!"}},"Ongoing",{"$f":"INDIRECT(\"'App.2-M_Regulatory_Costs'!C\" & MATCH(F21,'App.2-M_Regulatory_Costs'!$B:$B,0))","v":{"$error":"#REF!"}},{"$f":"INDIRECT(\"'App.2-M_Regulatory_Costs'!D\" & MATCH($F21,'App.2-M_Regulatory_Costs'!$B:$B,0))","v":{"$error":"#REF!"}},{"$f":"INDIRECT(\"'App.2-M_Regulatory_Costs'!E\" & MATCH($F21,'App.2-M_Regulatory_Costs'!$B:$B,0))","v":{"$error":"#REF!"}},{"$f":"INDIRECT(\"'App.2-M_Regulatory_Costs'!F\" & MATCH($F21,'App.2-M_Regulatory_Costs'!$B:$B,0))","v":{"$error":"#REF!"}},{"$f":"INDIRECT(\"'App.2-M_Regulatory_Costs'!G\" & MATCH($F21,'App.2-M_Regulatory_Costs'!$B:$B,0))","v":{"$error":"#REF!"}},{"$f":"INDIRECT(\"'App.2-M_Regulatory_Costs'!H\" & MATCH($F21,'App.2-M_Regulatory_Costs'!$B:$B,0))","v":{"$error":"#REF!"}},{"$f":"INDIRECT(\"'App.2-M_Regulatory_Costs'!I\" & MATCH($F21,'App.2-M_Regulatory_Costs'!$B:$B,0))","v":{"$error":"#REF!"}},{"$f":"INDIRECT(\"'App.2-M_Regulatory_Costs'!J\" & MATCH($F21,'App.2-M_Regulatory_Costs'!$B:$B,0))","v":{"$error":"#REF!"}},{"$f":"INDIRECT(\"'App.2-M_Regulatory_Costs'!K\" & MATCH($F21,'App.2-M_Regulatory_Costs'!$B:$B,0))","v":{"$error":"#REF!"}}]
[{"$f":"'LDC Info'!$E$14","v":"Bluewater Power Distribution Corporation"},"EB-2022-0016",2023,2022,2013,{"$f":"'App.2-M_Regulatory_Costs'!#REF!","v":{"$error":"#REF!"}},"Ongoing",{"$f":"INDIRECT(\"'App.2-M_Regulatory_Costs'!C\" & MATCH(F22,'App.2-M_Regulatory_Costs'!$B:$B,0))","v":{"$error":"#REF!"}},{"$f":"INDIRECT(\"'App.2-M_Regulatory_Costs'!D\" & MATCH($F22,'App.2-M_Regulatory_Costs'!$B:$B,0))","v":{"$error":"#REF!"}},{"$f":"INDIRECT(\"'App.2-M_Regulatory_Costs'!E\" & MATCH($F22,'App.2-M_Regulatory_Costs'!$B:$B,0))","v":{"$error":"#REF!"}},{"$f":"INDIRECT(\"'App.2-M_Regulatory_Costs'!F\" & MATCH($F22,'App.2-M_Regulatory_Costs'!$B:$B,0))","v":{"$error":"#REF!"}},{"$f":"INDIRECT(\"'App.2-M_Regulatory_Costs'!G\" & MATCH($F22,'App.2-M_Regulatory_Costs'!$B:$B,0))","v":{"$error":"#REF!"}},{"$f":"INDIRECT(\"'App.2-M_Regulatory_Costs'!H\" & MATCH($F22,'App.2-M_Regulatory_Costs'!$B:$B,0))","v":{"$error":"#REF!"}},{"$f":"INDIRECT(\"'App.2-M_Regulatory_Costs'!I\" & MATCH($F22,'App.2-M_Regulatory_Costs'!$B:$B,0))","v":{"$error":"#REF!"}},{"$f":"INDIRECT(\"'App.2-M_Regulatory_Costs'!J\" & MATCH($F22,'App.2-M_Regulatory_Costs'!$B:$B,0))","v":{"$error":"#REF!"}},{"$f":"INDIRECT(\"'App.2-M_Regulatory_Costs'!K\" & MATCH($F22,'App.2-M_Regulatory_Costs'!$B:$B,0))","v":{"$error":"#REF!"}}]
[{"$f":"'LDC Info'!$E$14","v":"Bluewater Power Distribution Corporation"},"EB-2022-0016",2023,2022,2013,{"$f":"'App.2-M_Regulatory_Costs'!#REF!","v":{"$error":"#REF!"}},"Ongoing",{"$f":"INDIRECT(\"'App.2-M_Regulatory_Costs'!C\" & MATCH(F23,'App.2-M_Regulatory_Costs'!$B:$B,0))","v":{"$error":"#REF!"}},{"$f":"INDIRECT(\"'App.2-M_Regulatory_Costs'!D\" & MATCH($F23,'App.2-M_Regulatory_Costs'!$B:$B,0))","v":{"$error":"#REF!"}},{"$f":"INDIRECT(\"'App.2-M_Regulatory_Costs'!E\" & MATCH($F23,'App.2-M_Regulatory_Costs'!$B:$B,0))","v":{"$error":"#REF!"}},{"$f":"INDIRECT(\"'App.2-M_Regulatory_Costs'!F\" & MATCH($F23,'App.2-M_Regulatory_Costs'!$B:$B,0))","v":{"$error":"#REF!"}},{"$f":"INDIRECT(\"'App.2-M_Regulatory_Costs'!G\" & MATCH($F23,'App.2-M_Regulatory_Costs'!$B:$B,0))","v":{"$error":"#REF!"}},{"$f":"INDIRECT(\"'App.2-M_Regulatory_Costs'!H\" & MATCH($F23,'App.2-M_Regulatory_Costs'!$B:$B,0))","v":{"$error":"#REF!"}},{"$f":"INDIRECT(\"'App.2-M_Regulatory_Costs'!I\" & MATCH($F23,'App.2-M_Regulatory_Costs'!$B:$B,0))","v":{"$error":"#REF!"}},{"$f":"INDIRECT(\"'App.2-M_Regulatory_Costs'!J\" & MATCH($F23,'App.2-M_Regulatory_Costs'!$B:$B,0))","v":{"$error":"#REF!"}},{"$f":"INDIRECT(\"'App.2-M_Regulatory_Costs'!K\" & MATCH($F23,'App.2-M_Regulatory_Costs'!$B:$B,0))","v":{"$error":"#REF!"}}]
[{"$f":"'LDC Info'!$E$14","v":"Bluewater Power Distribution Corporation"},"EB-2022-0016",2023,2022,2013,{"$f":"'App.2-M_Regulatory_Costs'!#REF!","v":{"$error":"#REF!"}},"Ongoing",{"$f":"INDIRECT(\"'App.2-M_Regulatory_Costs'!C\" & MATCH(F24,'App.2-M_Regulatory_Costs'!$B:$B,0))","v":{"$error":"#REF!"}},{"$f":"INDIRECT(\"'App.2-M_Regulatory_Costs'!D\" & MATCH($F24,'App.2-M_Regulatory_Costs'!$B:$B,0))","v":{"$error":"#REF!"}},{"$f":"INDIRECT(\"'App.2-M_Regulatory_Costs'!E\" & MATCH($F24,'App.2-M_Regulatory_Costs'!$B:$B,0))","v":{"$error":"#REF!"}},{"$f":"INDIRECT(\"'App.2-M_Regulatory_Costs'!F\" & MATCH($F24,'App.2-M_Regulatory_Costs'!$B:$B,0))","v":{"$error":"#REF!"}},{"$f":"INDIRECT(\"'App.2-M_Regulatory_Costs'!G\" & MATCH($F24,'App.2-M_Regulatory_Costs'!$B:$B,0))","v":{"$error":"#REF!"}},{"$f":"INDIRECT(\"'App.2-M_Regulatory_Costs'!H\" & MATCH($F24,'App.2-M_Regulatory_Costs'!$B:$B,0))","v":{"$error":"#REF!"}},{"$f":"INDIRECT(\"'App.2-M_Regulatory_Costs'!I\" & MATCH($F24,'App.2-M_Regulatory_Costs'!$B:$B,0))","v":{"$error":"#REF!"}},{"$f":"INDIRECT(\"'App.2-M_Regulatory_Costs'!J\" & MATCH($F24,'App.2-M_Regulatory_Costs'!$B:$B,0))","v":{"$error":"#REF!"}},{"$f":"INDIRECT(\"'App.2-M_Regulatory_Costs'!K\" & MATCH($F24,'App.2-M_Regulatory_Costs'!$B:$B,0))","v":{"$error":"#REF!"}}]
[{"$f":"'LDC Info'!$E$14","v":"Bluewater Power Distribution Corporation"},"EB-2022-0016",2023,2022,2013,{"$f":"'App.2-M_Regulatory_Costs'!#REF!","v":{"$error":"#REF!"}},"Ongoing",{"$f":"INDIRECT(\"'App.2-M_Regulatory_Costs'!C\" & MATCH(F25,'App.2-M_Regulatory_Costs'!$B:$B,0))","v":{"$error":"#REF!"}},{"$f":"INDIRECT(\"'App.2-M_Regulatory_Costs'!D\" & MATCH($F25,'App.2-M_Regulatory_Costs'!$B:$B,0))","v":{"$error":"#REF!"}},{"$f":"INDIRECT(\"'App.2-M_Regulatory_Costs'!E\" & MATCH($F25,'App.2-M_Regulatory_Costs'!$B:$B,0))","v":{"$error":"#REF!"}},{"$f":"INDIRECT(\"'App.2-M_Regulatory_Costs'!F\" & MATCH($F25,'App.2-M_Regulatory_Costs'!$B:$B,0))","v":{"$error":"#REF!"}},{"$f":"INDIRECT(\"'App.2-M_Regulatory_Costs'!G\" & MATCH($F25,'App.2-M_Regulatory_Costs'!$B:$B,0))","v":{"$error":"#REF!"}},{"$f":"INDIRECT(\"'App.2-M_Regulatory_Costs'!H\" & MATCH($F25,'App.2-M_Regulatory_Costs'!$B:$B,0))","v":{"$error":"#REF!"}},{"$f":"INDIRECT(\"'App.2-M_Regulatory_Costs'!I\" & MATCH($F25,'App.2-M_Regulatory_Costs'!$B:$B,0))","v":{"$error":"#REF!"}},{"$f":"INDIRECT(\"'App.2-M_Regulatory_Costs'!J\" & MATCH($F25,'App.2-M_Regulatory_Costs'!$B:$B,0))","v":{"$error":"#REF!"}},{"$f":"INDIRECT(\"'App.2-M_Regulatory_Costs'!K\" & MATCH($F25,'App.2-M_Regulatory_Costs'!$B:$B,0))","v":{"$error":"#REF!"}}]
[{"$f":"'LDC Info'!$E$14","v":"Bluewater Power Distribution Corporation"},"EB-2022-0016",2023,2022,2013,{"$f":"'App.2-M_Regulatory_Costs'!#REF!","v":{"$error":"#REF!"}},"Ongoing",{"$f":"INDIRECT(\"'App.2-M_Regulatory_Costs'!C\" & MATCH(F26,'App.2-M_Regulatory_Costs'!$B:$B,0))","v":{"$error":"#REF!"}},{"$f":"INDIRECT(\"'App.2-M_Regulatory_Costs'!D\" & MATCH($F26,'App.2-M_Regulatory_Costs'!$B:$B,0))","v":{"$error":"#REF!"}},{"$f":"INDIRECT(\"'App.2-M_Regulatory_Costs'!E\" & MATCH($F26,'App.2-M_Regulatory_Costs'!$B:$B,0))","v":{"$error":"#REF!"}},{"$f":"INDIRECT(\"'App.2-M_Regulatory_Costs'!F\" & MATCH($F26,'App.2-M_Regulatory_Costs'!$B:$B,0))","v":{"$error":"#REF!"}},{"$f":"INDIRECT(\"'App.2-M_Regulatory_Costs'!G\" & MATCH($F26,'App.2-M_Regulatory_Costs'!$B:$B,0))","v":{"$error":"#REF!"}},{"$f":"INDIRECT(\"'App.2-M_Regulatory_Costs'!H\" & MATCH($F26,'App.2-M_Regulatory_Costs'!$B:$B,0))","v":{"$error":"#REF!"}},{"$f":"INDIRECT(\"'App.2-M_Regulatory_Costs'!I\" & MATCH($F26,'App.2-M_Regulatory_Costs'!$B:$B,0))","v":{"$error":"#REF!"}},{"$f":"INDIRECT(\"'App.2-M_Regulatory_Costs'!J\" & MATCH($F26,'App.2-M_Regulatory_Costs'!$B:$B,0))","v":{"$error":"#REF!"}},{"$f":"INDIRECT(\"'App.2-M_Regulatory_Costs'!K\" & MATCH($F26,'App.2-M_Regulatory_Costs'!$B:$B,0))","v":{"$error":"#REF!"}}]
[{"$f":"'LDC Info'!$E$14","v":"Bluewater Power Distribution Corporation"},"EB-2022-0016",2023,2022,2013,{"$f":"'App.2-M_Regulatory_Costs'!#REF!","v":{"$error":"#REF!"}},"Ongoing",{"$f":"INDIRECT(\"'App.2-M_Regulatory_Costs'!C\" & MATCH(F27,'App.2-M_Regulatory_Costs'!$B:$B,0))","v":{"$error":"#REF!"}},{"$f":"INDIRECT(\"'App.2-M_Regulatory_Costs'!D\" & MATCH($F27,'App.2-M_Regulatory_Costs'!$B:$B,0))","v":{"$error":"#REF!"}},{"$f":"INDIRECT(\"'App.2-M_Regulatory_Costs'!E\" & MATCH($F27,'App.2-M_Regulatory_Costs'!$B:$B,0))","v":{"$error":"#REF!"}},{"$f":"INDIRECT(\"'App.2-M_Regulatory_Costs'!F\" & MATCH($F27,'App.2-M_Regulatory_Costs'!$B:$B,0))","v":{"$error":"#REF!"}},{"$f":"INDIRECT(\"'App.2-M_Regulatory_Costs'!G\" & MATCH($F27,'App.2-M_Regulatory_Costs'!$B:$B,0))","v":{"$error":"#REF!"}},{"$f":"INDIRECT(\"'App.2-M_Regulatory_Costs'!H\" & MATCH($F27,'App.2-M_Regulatory_Costs'!$B:$B,0))","v":{"$error":"#REF!"}},{"$f":"INDIRECT(\"'App.2-M_Regulatory_Costs'!I\" & MATCH($F27,'App.2-M_Regulatory_Costs'!$B:$B,0))","v":{"$error":"#REF!"}},{"$f":"INDIRECT(\"'App.2-M_Regulatory_Costs'!J\" & MATCH($F27,'App.2-M_Regulatory_Costs'!$B:$B,0))","v":{"$error":"#REF!"}},{"$f":"INDIRECT(\"'App.2-M_Regulatory_Costs'!K\" & MATCH($F27,'App.2-M_Regulatory_Costs'!$B:$B,0))","v":{"$error":"#REF!"}}]
[{"$f":"'LDC Info'!$E$14","v":"Bluewater Power Distribution Corporation"},"EB-2022-0016",2023,2022,2013,{"$f":"'App.2-M_Regulatory_Costs'!#REF!","v":{"$error":"#REF!"}},"Ongoing",{"$f":"INDIRECT(\"'App.2-M_Regulatory_Costs'!C\" & MATCH(F28,'App.2-M_Regulatory_Costs'!$B:$B,0))","v":{"$error":"#REF!"}},{"$f":"INDIRECT(\"'App.2-M_Regulatory_Costs'!D\" & MATCH($F28,'App.2-M_Regulatory_Costs'!$B:$B,0))","v":{"$error":"#REF!"}},{"$f":"INDIRECT(\"'App.2-M_Regulatory_Costs'!E\" & MATCH($F28,'App.2-M_Regulatory_Costs'!$B:$B,0))","v":{"$error":"#REF!"}},{"$f":"INDIRECT(\"'App.2-M_Regulatory_Costs'!F\" & MATCH($F28,'App.2-M_Regulatory_Costs'!$B:$B,0))","v":{"$error":"#REF!"}},{"$f":"INDIRECT(\"'App.2-M_Regulatory_Costs'!G\" & MATCH($F28,'App.2-M_Regulatory_Costs'!$B:$B,0))","v":{"$error":"#REF!"}},{"$f":"INDIRECT(\"'App.2-M_Regulatory_Costs'!H\" & MATCH($F28,'App.2-M_Regulatory_Costs'!$B:$B,0))","v":{"$error":"#REF!"}},{"$f":"INDIRECT(\"'App.2-M_Regulatory_Costs'!I\" & MATCH($F28,'App.2-M_Regulatory_Costs'!$B:$B,0))","v":{"$error":"#REF!"}},{"$f":"INDIRECT(\"'App.2-M_Regulatory_Costs'!J\" & MATCH($F28,'App.2-M_Regulatory_Costs'!$B:$B,0))","v":{"$error":"#REF!"}},{"$f":"INDIRECT(\"'App.2-M_Regulatory_Costs'!K\" & MATCH($F28,'App.2-M_Regulatory_Costs'!$B:$B,0))","v":{"$error":"#REF!"}}]
[{"$f":"'LDC Info'!$E$14","v":"Bluewater Power Distribution Corporation"},"EB-2022-0016",2023,2022,2013,{"$f":"'App.2-M_Regulatory_Costs'!B30","v":0},"Ongoing",{"$f":"INDIRECT(\"'App.2-M_Regulatory_Costs'!C\" & MATCH(F29,'App.2-M_Regulatory_Costs'!$B:$B,0))","v":{"$error":"#N/A"}},{"$f":"INDIRECT(\"'App.2-M_Regulatory_Costs'!D\" & MATCH($F29,'App.2-M_Regulatory_Costs'!$B:$B,0))","v":{"$error":"#N/A"}},{"$f":"INDIRECT(\"'App.2-M_Regulatory_Costs'!E\" & MATCH($F29,'App.2-M_Regulatory_Costs'!$B:$B,0))","v":{"$error":"#N/A"}},{"$f":"INDIRECT(\"'App.2-M_Regulatory_Costs'!F\" & MATCH($F29,'App.2-M_Regulatory_Costs'!$B:$B,0))","v":{"$error":"#N/A"}},{"$f":"INDIRECT(\"'App.2-M_Regulatory_Costs'!G\" & MATCH($F29,'App.2-M_Regulatory_Costs'!$B:$B,0))","v":{"$error":"#N/A"}},{"$f":"INDIRECT(\"'App.2-M_Regulatory_Costs'!H\" & MATCH($F29,'App.2-M_Regulatory_Costs'!$B:$B,0))","v":{"$error":"#N/A"}},{"$f":"INDIRECT(\"'App.2-M_Regulatory_Costs'!I\" & MATCH($F29,'App.2-M_Regulatory_Costs'!$B:$B,0))","v":{"$error":"#N/A"}},{"$f":"INDIRECT(\"'App.2-M_Regulatory_Costs'!J\" & MATCH($F29,'App.2-M_Regulatory_Costs'!$B:$B,0))","v":{"$error":"#N/A"}},{"$f":"INDIRECT(\"'App.2-M_Regulatory_Costs'!K\" & MATCH($F29,'App.2-M_Regulatory_Costs'!$B:$B,0))","v":{"$error":"#N/A"}}]
[{"$f":"'LDC Info'!$E$14","v":"Bluewater Power Distribution Corporation"},"EB-2022-0016",2023,2022,2013,{"$f":"'App.2-M_Regulatory_Costs'!B31","v":0},"Ongoing",{"$f":"INDIRECT(\"'App.2-M_Regulatory_Costs'!C\" & MATCH(F30,'App.2-M_Regulatory_Costs'!$B:$B,0))","v":{"$error":"#N/A"}},{"$f":"INDIRECT(\"'App.2-M_Regulatory_Costs'!D\" & MATCH($F30,'App.2-M_Regulatory_Costs'!$B:$B,0))","v":{"$error":"#N/A"}},{"$f":"INDIRECT(\"'App.2-M_Regulatory_Costs'!E\" & MATCH($F30,'App.2-M_Regulatory_Costs'!$B:$B,0))","v":{"$error":"#N/A"}},{"$f":"INDIRECT(\"'App.2-M_Regulatory_Costs'!F\" & MATCH($F30,'App.2-M_Regulatory_Costs'!$B:$B,0))","v":{"$error":"#N/A"}},{"$f":"INDIRECT(\"'App.2-M_Regulatory_Costs'!G\" & MATCH($F30,'App.2-M_Regulatory_Costs'!$B:$B,0))","v":{"$error":"#N/A"}},{"$f":"INDIRECT(\"'App.2-M_Regulatory_Costs'!H\" & MATCH($F30,'App.2-M_Regulatory_Costs'!$B:$B,0))","v":{"$error":"#N/A"}},{"$f":"INDIRECT(\"'App.2-M_Regulatory_Costs'!I\" & MATCH($F30,'App.2-M_Regulatory_Costs'!$B:$B,0))","v":{"$error":"#N/A"}},{"$f":"INDIRECT(\"'App.2-M_Regulatory_Costs'!J\" & MATCH($F30,'App.2-M_Regulatory_Costs'!$B:$B,0))","v":{"$error":"#N/A"}},{"$f":"INDIRECT(\"'App.2-M_Regulatory_Costs'!K\" & MATCH($F30,'App.2-M_Regulatory_Costs'!$B:$B,0))","v":{"$error":"#N/A"}}]
[{"$f":"'LDC Info'!$E$14","v":"Bluewater Power Distribution Corporation"},"EB-2022-0016",2023,2022,2013,{"$f":"'App.2-M_Regulatory_Costs'!B32","v":0},"Ongoing",{"$f":"INDIRECT(\"'App.2-M_Regulatory_Costs'!C\" & MATCH(F31,'App.2-M_Regulatory_Costs'!$B:$B,0))","v":{"$error":"#N/A"}},{"$f":"INDIRECT(\"'App.2-M_Regulatory_Costs'!D\" & MATCH($F31,'App.2-M_Regulatory_Costs'!$B:$B,0))","v":{"$error":"#N/A"}},{"$f":"INDIRECT(\"'App.2-M_Regulatory_Costs'!E\" & MATCH($F31,'App.2-M_Regulatory_Costs'!$B:$B,0))","v":{"$error":"#N/A"}},{"$f":"INDIRECT(\"'App.2-M_Regulatory_Costs'!F\" & MATCH($F31,'App.2-M_Regulatory_Costs'!$B:$B,0))","v":{"$error":"#N/A"}},{"$f":"INDIRECT(\"'App.2-M_Regulatory_Costs'!G\" & MATCH($F31,'App.2-M_Regulatory_Costs'!$B:$B,0))","v":{"$error":"#N/A"}},{"$f":"INDIRECT(\"'App.2-M_Regulatory_Costs'!H\" & MATCH($F31,'App.2-M_Regulatory_Costs'!$B:$B,0))","v":{"$error":"#N/A"}},{"$f":"INDIRECT(\"'App.2-M_Regulatory_Costs'!I\" & MATCH($F31,'App.2-M_Regulatory_Costs'!$B:$B,0))","v":{"$error":"#N/A"}},{"$f":"INDIRECT(\"'App.2-M_Regulatory_Costs'!J\" & MATCH($F31,'App.2-M_Regulatory_Costs'!$B:$B,0))","v":{"$error":"#N/A"}},{"$f":"INDIRECT(\"'App.2-M_Regulatory_Costs'!K\" & MATCH($F31,'App.2-M_Regulatory_Costs'!$B:$B,0))","v":{"$error":"#N/A"}}]
[{"$f":"'LDC Info'!$E$14","v":"Bluewater Power Distribution Corporation"},"EB-2022-0016",2023,2022,2013]
[{"$f":"'LDC Info'!$E$14","v":"Bluewater Power Distribution Corporation"},"EB-2022-0016",2023,2022,2013,{"$f":"'App.2-M_Regulatory_Costs'!B34","v":"Expert Witness costs"},"One-Time",{"$f":"INDIRECT(\"'App.2-M_Regulatory_Costs'!C\" & MATCH(F33,'App.2-M_Regulatory_Costs'!$B:$B,0))","v":0},{"$f":"INDIRECT(\"'App.2-M_Regulatory_Costs'!D\" & MATCH($F33,'App.2-M_Regulatory_Costs'!$B:$B,0))","v":0},{"$f":"INDIRECT(\"'App.2-M_Regulatory_Costs'!E\" & MATCH($F33,'App.2-M_Regulatory_Costs'!$B:$B,0))","v":0},{"$f":"INDIRECT(\"'App.2-M_Regulatory_Costs'!F\" & MATCH($F33,'App.2-M_Regulatory_Costs'!$B:$B,0))","v":0},{"$f":"INDIRECT(\"'App.2-M_Regulatory_Costs'!G\" & MATCH($F33,'App.2-M_Regulatory_Costs'!$B:$B,0))","v":0},{"$f":"INDIRECT(\"'App.2-M_Regulatory_Costs'!H\" & MATCH($F33,'App.2-M_Regulatory_Costs'!$B:$B,0))","v":0},{"$f":"INDIRECT(\"'App.2-M_Regulatory_Costs'!I\" & MATCH($F33,'App.2-M_Regulatory_Costs'!$B:$B,0))","v":""},{"$f":"INDIRECT(\"'App.2-M_Regulatory_Costs'!J\" & MATCH($F33,'App.2-M_Regulatory_Costs'!$B:$B,0))","v":0},{"$f":"INDIRECT(\"'App.2-M_Regulatory_Costs'!K\" & MATCH($F33,'App.2-M_Regulatory_Costs'!$B:$B,0))","v":""}]
[{"$f":"'LDC Info'!$E$14","v":"Bluewater Power Distribution Corporation"},"EB-2022-0016",2023,2022,2013,{"$f":"'App.2-M_Regulatory_Costs'!B35","v":"Legal costs"},"One-Time",{"$f":"INDIRECT(\"'App.2-M_Regulatory_Costs'!C\" & MATCH(F34,'App.2-M_Regulatory_Costs'!$B:$B,0))","v":5655},{"$f":"INDIRECT(\"'App.2-M_Regulatory_Costs'!D\" & MATCH($F34,'App.2-M_Regulatory_Costs'!$B:$B,0))","v":0},{"$f":"INDIRECT(\"'App.2-M_Regulatory_Costs'!E\" & MATCH($F34,'App.2-M_Regulatory_Costs'!$B:$B,0))","v":64000},{"$f":"INDIRECT(\"'App.2-M_Regulatory_Costs'!F\" & MATCH($F34,'App.2-M_Regulatory_Costs'!$B:$B,0))","v":90130},{"$f":"INDIRECT(\"'App.2-M_Regulatory_Costs'!G\" & MATCH($F34,'App.2-M_Regulatory_Costs'!$B:$B,0))","v":0},{"$f":"INDIRECT(\"'App.2-M_Regulatory_Costs'!H\" & MATCH($F34,'App.2-M_Regulatory_Costs'!$B:$B,0))","v":15550},{"$f":"INDIRECT(\"'App.2-M_Regulatory_Costs'!I\" & MATCH($F34,'App.2-M_Regulatory_Costs'!$B:$B,0))","v":""},{"$f":"INDIRECT(\"'App.2-M_Regulatory_Costs'!J\" & MATCH($F34,'App.2-M_Regulatory_Costs'!$B:$B,0))","v":48000},{"$f":"INDIRECT(\"'App.2-M_Regulatory_Costs'!K\" & MATCH($F34,'App.2-M_Regulatory_Costs'!$B:$B,0))","v":2.0868167202572345}]
[{"$f":"'LDC Info'!$E$14","v":"Bluewater Power Distribution Corporation"},"EB-2022-0016",2023,2022,2013,{"$f":"'App.2-M_Regulatory_Costs'!B36","v":"Consultants' costs"},"One-Time",{"$f":"INDIRECT(\"'App.2-M_Regulatory_Costs'!C\" & MATCH(F35,'App.2-M_Regulatory_Costs'!$B:$B,0))","v":5655},{"$f":"INDIRECT(\"'App.2-M_Regulatory_Costs'!D\" & MATCH($F35,'App.2-M_Regulatory_Costs'!$B:$B,0))","v":0},{"$f":"INDIRECT(\"'App.2-M_Regulatory_Costs'!E\" & MATCH($F35,'App.2-M_Regulatory_Costs'!$B:$B,0))","v":42000},{"$f":"INDIRECT(\"'App.2-M_Regulatory_Costs'!F\" & MATCH($F35,'App.2-M_Regulatory_Costs'!$B:$B,0))","v":95561},{"$f":"INDIRECT(\"'App.2-M_Regulatory_Costs'!G\" & MATCH($F35,'App.2-M_Regulatory_Costs'!$B:$B,0))","v":41758},{"$f":"INDIRECT(\"'App.2-M_Regulatory_Costs'!H\" & MATCH($F35,'App.2-M_Regulatory_Costs'!$B:$B,0))","v":18030},{"$f":"INDIRECT(\"'App.2-M_Regulatory_Costs'!I\" & MATCH($F35,'App.2-M_Regulatory_Costs'!$B:$B,0))","v":-0.56822644762680208},{"$f":"INDIRECT(\"'App.2-M_Regulatory_Costs'!J\" & MATCH($F35,'App.2-M_Regulatory_Costs'!$B:$B,0))","v":40000},{"$f":"INDIRECT(\"'App.2-M_Regulatory_Costs'!K\" & MATCH($F35,'App.2-M_Regulatory_Costs'!$B:$B,0))","v":1.2185246810870771}]
[{"$f":"'LDC Info'!$E$14","v":"Bluewater Power Distribution Corporation"},"EB-2022-0016",2023,2022,2013,{"$f":"'App.2-M_Regulatory_Costs'!B37","v":"Incremental operating expenses associated with staff resources allocated to this application."},"One-Time",{"$f":"INDIRECT(\"'App.2-M_Regulatory_Costs'!C\" & MATCH(F36,'App.2-M_Regulatory_Costs'!$B:$B,0))","v":5655},{"$f":"INDIRECT(\"'App.2-M_Regulatory_Costs'!D\" & MATCH($F36,'App.2-M_Regulatory_Costs'!$B:$B,0))","v":0},{"$f":"INDIRECT(\"'App.2-M_Regulatory_Costs'!E\" & MATCH($F36,'App.2-M_Regulatory_Costs'!$B:$B,0))","v":10000},{"$f":"INDIRECT(\"'App.2-M_Regulatory_Costs'!F\" & MATCH($F36,'App.2-M_Regulatory_Costs'!$B:$B,0))","v":44848},{"$f":"INDIRECT(\"'App.2-M_Regulatory_Costs'!G\" & MATCH($F36,'App.2-M_Regulatory_Costs'!$B:$B,0))","v":0},{"$f":"INDIRECT(\"'App.2-M_Regulatory_Costs'!H\" & MATCH($F36,'App.2-M_Regulatory_Costs'!$B:$B,0))","v":112835},{"$f":"INDIRECT(\"'App.2-M_Regulatory_Costs'!I\" & MATCH($F36,'App.2-M_Regulatory_Costs'!$B:$B,0))","v":""},{"$f":"INDIRECT(\"'App.2-M_Regulatory_Costs'!J\" & MATCH($F36,'App.2-M_Regulatory_Costs'!$B:$B,0))","v":63332},{"$f":"INDIRECT(\"'App.2-M_Regulatory_Costs'!K\" & MATCH($F36,'App.2-M_Regulatory_Costs'!$B:$B,0))","v":-0.43872025523995212}]
[{"$f":"'LDC Info'!$E$14","v":"Bluewater Power Distribution Corporation"},"EB-2022-0016",2023,2022,2013,{"$f":"'App.2-M_Regulatory_Costs'!B38","v":"Incremental operating expenses associated with other resources allocated to this application. 1"},"One-Time",{"$f":"INDIRECT(\"'App.2-M_Regulatory_Costs'!C\" & MATCH(F37,'App.2-M_Regulatory_Costs'!$B:$B,0))","v":0},{"$f":"INDIRECT(\"'App.2-M_Regulatory_Costs'!D\" & MATCH($F37,'App.2-M_Regulatory_Costs'!$B:$B,0))","v":0},{"$f":"INDIRECT(\"'App.2-M_Regulatory_Costs'!E\" & MATCH($F37,'App.2-M_Regulatory_Costs'!$B:$B,0))","v":0},{"$f":"INDIRECT(\"'App.2-M_Regulatory_Costs'!F\" & MATCH($F37,'App.2-M_Regulatory_Costs'!$B:$B,0))","v":0},{"$f":"INDIRECT(\"'App.2-M_Regulatory_Costs'!G\" & MATCH($F37,'App.2-M_Regulatory_Costs'!$B:$B,0))","v":0},{"$f":"INDIRECT(\"'App.2-M_Regulatory_Costs'!H\" & MATCH($F37,'App.2-M_Regulatory_Costs'!$B:$B,0))","v":1600},{"$f":"INDIRECT(\"'App.2-M_Regulatory_Costs'!I\" & MATCH($F37,'App.2-M_Regulatory_Costs'!$B:$B,0))","v":""},{"$f":"INDIRECT(\"'App.2-M_Regulatory_Costs'!J\" & MATCH($F37,'App.2-M_Regulatory_Costs'!$B:$B,0))","v":0},{"$f":"INDIRECT(\"'App.2-M_Regulatory_Costs'!K\" & MATCH($F37,'App.2-M_Regulatory_Costs'!$B:$B,0))","v":-1}]
[{"$f":"'LDC Info'!$E$14","v":"Bluewater Power Distribution Corporation"},"EB-2022-0016",2023,2022,2013,{"$f":"'App.2-M_Regulatory_Costs'!B39","v":"Intervenor costs"},"One-Time",{"$f":"INDIRECT(\"'App.2-M_Regulatory_Costs'!C\" & MATCH(F38,'App.2-M_Regulatory_Costs'!$B:$B,0))","v":0},{"$f":"INDIRECT(\"'App.2-M_Regulatory_Costs'!D\" & MATCH($F38,'App.2-M_Regulatory_Costs'!$B:$B,0))","v":0},{"$f":"INDIRECT(\"'App.2-M_Regulatory_Costs'!E\" & MATCH($F38,'App.2-M_Regulatory_Costs'!$B:$B,0))","v":0},{"$f":"INDIRECT(\"'App.2-M_Regulatory_Costs'!F\" & MATCH($F38,'App.2-M_Regulatory_Costs'!$B:$B,0))","v":0},{"$f":"INDIRECT(\"'App.2-M_Regulatory_Costs'!G\" & MATCH($F38,'App.2-M_Regulatory_Costs'!$B:$B,0))","v":0},{"$f":"INDIRECT(\"'App.2-M_Regulatory_Costs'!H\" & MATCH($F38,'App.2-M_Regulatory_Costs'!$B:$B,0))","v":0},{"$f":"INDIRECT(\"'App.2-M_Regulatory_Costs'!I\" & MATCH($F38,'App.2-M_Regulatory_Costs'!$B:$B,0))","v":""},{"$f":"INDIRECT(\"'App.2-M_Regulatory_Costs'!J\" & MATCH($F38,'App.2-M_Regulatory_Costs'!$B:$B,0))","v":0},{"$f":"INDIRECT(\"'App.2-M_Regulatory_Costs'!K\" & MATCH($F38,'App.2-M_Regulatory_Costs'!$B:$B,0))","v":""}]
[{"$f":"'LDC Info'!$E$14","v":"Bluewater Power Distribution Corporation"},"EB-2022-0016",2023,2022,2013,{"$f":"'App.2-M_Regulatory_Costs'!B40","v":"OEB Section 30 Costs (application-related)"},"One-Time",{"$f":"INDIRECT(\"'App.2-M_Regulatory_Costs'!C\" & MATCH(F39,'App.2-M_Regulatory_Costs'!$B:$B,0))","v":5655},{"$f":"INDIRECT(\"'App.2-M_Regulatory_Costs'!D\" & MATCH($F39,'App.2-M_Regulatory_Costs'!$B:$B,0))","v":0},{"$f":"INDIRECT(\"'App.2-M_Regulatory_Costs'!E\" & MATCH($F39,'App.2-M_Regulatory_Costs'!$B:$B,0))","v":12000},{"$f":"INDIRECT(\"'App.2-M_Regulatory_Costs'!F\" & MATCH($F39,'App.2-M_Regulatory_Costs'!$B:$B,0))","v":7603},{"$f":"INDIRECT(\"'App.2-M_Regulatory_Costs'!G\" & MATCH($F39,'App.2-M_Regulatory_Costs'!$B:$B,0))","v":0},{"$f":"INDIRECT(\"'App.2-M_Regulatory_Costs'!H\" & MATCH($F39,'App.2-M_Regulatory_Costs'!$B:$B,0))","v":0},{"$f":"INDIRECT(\"'App.2-M_Regulatory_Costs'!I\" & MATCH($F39,'App.2-M_Regulatory_Costs'!$B:$B,0))","v":""},{"$f":"INDIRECT(\"'App.2-M_Regulatory_Costs'!J\" & MATCH($F39,'App.2-M_Regulatory_Costs'!$B:$B,0))","v":8000},{"$f":"INDIRECT(\"'App.2-M_Regulatory_Costs'!K\" & MATCH($F39,'App.2-M_Regulatory_Costs'!$B:$B,0))","v":""}]
[{"$f":"'LDC Info'!$E$14","v":"Bluewater Power Distribution Corporation"},"EB-2022-0016",2023,2022,2013,{"$f":"'App.2-M_Regulatory_Costs'!B41","v":"Include other items in green cells, as applicable"},"One-Time",{"$f":"INDIRECT(\"'App.2-M_Regulatory_Costs'!C\" & MATCH(F40,'App.2-M_Regulatory_Costs'!$B:$B,0))","v":0},{"$f":"INDIRECT(\"'App.2-M_Regulatory_Costs'!D\" & MATCH($F40,'App.2-M_Regulatory_Costs'!$B:$B,0))","v":0},{"$f":"INDIRECT(\"'App.2-M_Regulatory_Costs'!E\" & MATCH($F40,'App.2-M_Regulatory_Costs'!$B:$B,0))","v":0},{"$f":"INDIRECT(\"'App.2-M_Regulatory_Costs'!F\" & MATCH($F40,'App.2-M_Regulatory_Costs'!$B:$B,0))","v":0},{"$f":"INDIRECT(\"'App.2-M_Regulatory_Costs'!G\" & MATCH($F40,'App.2-M_Regulatory_Costs'!$B:$B,0))","v":0},{"$f":"INDIRECT(\"'App.2-M_Regulatory_Costs'!H\" & MATCH($F40,'App.2-M_Regulatory_Costs'!$B:$B,0))","v":0},{"$f":"INDIRECT(\"'App.2-M_Regulatory_Costs'!I\" & MATCH($F40,'App.2-M_Regulatory_Costs'!$B:$B,0))","v":""},{"$f":"INDIRECT(\"'App.2-M_Regulatory_Costs'!J\" & MATCH($F40,'App.2-M_Regulatory_Costs'!$B:$B,0))","v":0},{"$f":"INDIRECT(\"'App.2-M_Regulatory_Costs'!K\" & MATCH($F40,'App.2-M_Regulatory_Costs'!$B:$B,0))","v":""}]
[{"$f":"'LDC Info'!$E$14","v":"Bluewater Power Distribution Corporation"},"EB-2022-0016",2023,2022,2013,{"$f":"'App.2-M_Regulatory_Costs'!B42","v":0},"One-Time",{"$f":"INDIRECT(\"'App.2-M_Regulatory_Costs'!C\" & MATCH(F41,'App.2-M_Regulatory_Costs'!$B:$B,0))","v":{"$error":"#N/A"}},{"$f":"INDIRECT(\"'App.2-M_Regulatory_Costs'!D\" & MATCH($F41,'App.2-M_Regulatory_Costs'!$B:$B,0))","v":{"$error":"#N/A"}},{"$f":"INDIRECT(\"'App.2-M_Regulatory_Costs'!E\" & MATCH($F41,'App.2-M_Regulatory_Costs'!$B:$B,0))","v":{"$error":"#N/A"}},{"$f":"INDIRECT(\"'App.2-M_Regulatory_Costs'!F\" & MATCH($F41,'App.2-M_Regulatory_Costs'!$B:$B,0))","v":{"$error":"#N/A"}},{"$f":"INDIRECT(\"'App.2-M_Regulatory_Costs'!G\" & MATCH($F41,'App.2-M_Regulatory_Costs'!$B:$B,0))","v":{"$error":"#N/A"}},{"$f":"INDIRECT(\"'App.2-M_Regulatory_Costs'!H\" & MATCH($F41,'App.2-M_Regulatory_Costs'!$B:$B,0))","v":{"$error":"#N/A"}},{"$f":"INDIRECT(\"'App.2-M_Regulatory_Costs'!I\" & MATCH($F41,'App.2-M_Regulatory_Costs'!$B:$B,0))","v":{"$error":"#N/A"}},{"$f":"INDIRECT(\"'App.2-M_Regulatory_Costs'!J\" & MATCH($F41,'App.2-M_Regulatory_Costs'!$B:$B,0))","v":{"$error":"#N/A"}},{"$f":"INDIRECT(\"'App.2-M_Regulatory_Costs'!K\" & MATCH($F41,'App.2-M_Regulatory_Costs'!$B:$B,0))","v":{"$error":"#N/A"}}]
[{"$f":"'LDC Info'!$E$14","v":"Bluewater Power Distribution Corporation"},"EB-2022-0016",2023,2022,2013,{"$f":"'App.2-M_Regulatory_Costs'!B43","v":0},"One-Time",{"$f":"INDIRECT(\"'App.2-M_Regulatory_Costs'!C\" & MATCH(F42,'App.2-M_Regulatory_Costs'!$B:$B,0))","v":{"$error":"#N/A"}},{"$f":"INDIRECT(\"'App.2-M_Regulatory_Costs'!D\" & MATCH($F42,'App.2-M_Regulatory_Costs'!$B:$B,0))","v":{"$error":"#N/A"}},{"$f":"INDIRECT(\"'App.2-M_Regulatory_Costs'!E\" & MATCH($F42,'App.2-M_Regulatory_Costs'!$B:$B,0))","v":{"$error":"#N/A"}},{"$f":"INDIRECT(\"'App.2-M_Regulatory_Costs'!F\" & MATCH($F42,'App.2-M_Regulatory_Costs'!$B:$B,0))","v":{"$error":"#N/A"}},{"$f":"INDIRECT(\"'App.2-M_Regulatory_Costs'!G\" & MATCH($F42,'App.2-M_Regulatory_Costs'!$B:$B,0))","v":{"$error":"#N/A"}},{"$f":"INDIRECT(\"'App.2-M_Regulatory_Costs'!H\" & MATCH($F42,'App.2-M_Regulatory_Costs'!$B:$B,0))","v":{"$error":"#N/A"}},{"$f":"INDIRECT(\"'App.2-M_Regulatory_Costs'!I\" & MATCH($F42,'App.2-M_Regulatory_Costs'!$B:$B,0))","v":{"$error":"#N/A"}},{"$f":"INDIRECT(\"'App.2-M_Regulatory_Costs'!J\" & MATCH($F42,'App.2-M_Regulatory_Costs'!$B:$B,0))","v":{"$error":"#N/A"}},{"$f":"INDIRECT(\"'App.2-M_Regulatory_Costs'!K\" & MATCH($F42,'App.2-M_Regulatory_Costs'!$B:$B,0))","v":{"$error":"#N/A"}}]
[{"$f":"'LDC Info'!$E$14","v":"Bluewater Power Distribution Corporation"},"EB-2022-0016",2023,2022,2013,{"$f":"'App.2-M_Regulatory_Costs'!B44","v":0},"One-Time",{"$f":"INDIRECT(\"'App.2-M_Regulatory_Costs'!C\" & MATCH(F43,'App.2-M_Regulatory_Costs'!$B:$B,0))","v":{"$error":"#N/A"}},{"$f":"INDIRECT(\"'App.2-M_Regulatory_Costs'!D\" & MATCH($F43,'App.2-M_Regulatory_Costs'!$B:$B,0))","v":{"$error":"#N/A"}},{"$f":"INDIRECT(\"'App.2-M_Regulatory_Costs'!E\" & MATCH($F43,'App.2-M_Regulatory_Costs'!$B:$B,0))","v":{"$error":"#N/A"}},{"$f":"INDIRECT(\"'App.2-M_Regulatory_Costs'!F\" & MATCH($F43,'App.2-M_Regulatory_Costs'!$B:$B,0))","v":{"$error":"#N/A"}},{"$f":"INDIRECT(\"'App.2-M_Regulatory_Costs'!G\" & MATCH($F43,'App.2-M_Regulatory_Costs'!$B:$B,0))","v":{"$error":"#N/A"}},{"$f":"INDIRECT(\"'App.2-M_Regulatory_Costs'!H\" & MATCH($F43,'App.2-M_Regulatory_Costs'!$B:$B,0))","v":{"$error":"#N/A"}},{"$f":"INDIRECT(\"'App.2-M_Regulatory_Costs'!I\" & MATCH($F43,'App.2-M_Regulatory_Costs'!$B:$B,0))","v":{"$error":"#N/A"}},{"$f":"INDIRECT(\"'App.2-M_Regulatory_Costs'!J\" & MATCH($F43,'App.2-M_Regulatory_Costs'!$B:$B,0))","v":{"$error":"#N/A"}},{"$f":"INDIRECT(\"'App.2-M_Regulatory_Costs'!K\" & MATCH($F43,'App.2-M_Regulatory_Costs'!$B:$B,0))","v":{"$error":"#N/A"}}]
[{"$f":"'LDC Info'!$E$14","v":"Bluewater Power Distribution Corporation"},"EB-2022-0016",2023,2022,2013,{"$f":"'App.2-M_Regulatory_Costs'!B45","v":0},"One-Time",{"$f":"INDIRECT(\"'App.2-M_Regulatory_Costs'!C\" & MATCH(F44,'App.2-M_Regulatory_Costs'!$B:$B,0))","v":{"$error":"#N/A"}},{"$f":"INDIRECT(\"'App.2-M_Regulatory_Costs'!D\" & MATCH($F44,'App.2-M_Regulatory_Costs'!$B:$B,0))","v":{"$error":"#N/A"}},{"$f":"INDIRECT(\"'App.2-M_Regulatory_Costs'!E\" & MATCH($F44,'App.2-M_Regulatory_Costs'!$B:$B,0))","v":{"$error":"#N/A"}},{"$f":"INDIRECT(\"'App.2-M_Regulatory_Costs'!F\" & MATCH($F44,'App.2-M_Regulatory_Costs'!$B:$B,0))","v":{"$error":"#N/A"}},{"$f":"INDIRECT(\"'App.2-M_Regulatory_Costs'!G\" & MATCH($F44,'App.2-M_Regulatory_Costs'!$B:$B,0))","v":{"$error":"#N/A"}},{"$f":"INDIRECT(\"'App.2-M_Regulatory_Costs'!H\" & MATCH($F44,'App.2-M_Regulatory_Costs'!$B:$B,0))","v":{"$error":"#N/A"}},{"$f":"INDIRECT(\"'App.2-M_Regulatory_Costs'!I\" & MATCH($F44,'App.2-M_Regulatory_Costs'!$B:$B,0))","v":{"$error":"#N/A"}},{"$f":"INDIRECT(\"'App.2-M_Regulatory_Costs'!J\" & MATCH($F44,'App.2-M_Regulatory_Costs'!$B:$B,0))","v":{"$error":"#N/A"}},{"$f":"INDIRECT(\"'App.2-M_Regulatory_Costs'!K\" & MATCH($F44,'App.2-M_Regulatory_Costs'!$B:$B,0))","v":{"$error":"#N/A"}}]
[{"$f":"'LDC Info'!$E$14","v":"Bluewater Power Distribution Corporation"},"EB-2022-0016",2023,2022,2013,{"$f":"'App.2-M_Regulatory_Costs'!B46","v":0},"One-Time",{"$f":"INDIRECT(\"'App.2-M_Regulatory_Costs'!C\" & MATCH(F45,'App.2-M_Regulatory_Costs'!$B:$B,0))","v":{"$error":"#N/A"}},{"$f":"INDIRECT(\"'App.2-M_Regulatory_Costs'!D\" & MATCH($F45,'App.2-M_Regulatory_Costs'!$B:$B,0))","v":{"$error":"#N/A"}},{"$f":"INDIRECT(\"'App.2-M_Regulatory_Costs'!E\" & MATCH($F45,'App.2-M_Regulatory_Costs'!$B:$B,0))","v":{"$error":"#N/A"}},{"$f":"INDIRECT(\"'App.2-M_Regulatory_Costs'!F\" & MATCH($F45,'App.2-M_Regulatory_Costs'!$B:$B,0))","v":{"$error":"#N/A"}},{"$f":"INDIRECT(\"'App.2-M_Regulatory_Costs'!G\" & MATCH($F45,'App.2-M_Regulatory_Costs'!$B:$B,0))","v":{"$error":"#N/A"}},{"$f":"INDIRECT(\"'App.2-M_Regulatory_Costs'!H\" & MATCH($F45,'App.2-M_Regulatory_Costs'!$B:$B,0))","v":{"$error":"#N/A"}},{"$f":"INDIRECT(\"'App.2-M_Regulatory_Costs'!I\" & MATCH($F45,'App.2-M_Regulatory_Costs'!$B:$B,0))","v":{"$error":"#N/A"}},{"$f":"INDIRECT(\"'App.2-M_Regulatory_Costs'!J\" & MATCH($F45,'App.2-M_Regulatory_Costs'!$B:$B,0))","v":{"$error":"#N/A"}},{"$f":"INDIRECT(\"'App.2-M_Regulatory_Costs'!K\" & MATCH($F45,'App.2-M_Regulatory_Costs'!$B:$B,0))","v":{"$error":"#N/A"}}]
[{"$f":"'LDC Info'!$E$14","v":"Bluewater Power Distribution Corporation"},"EB-2022-0016",2023,2022,2013,{"$f":"'App.2-M_Regulatory_Costs'!B47","v":0},"One-Time",{"$f":"INDIRECT(\"'App.2-M_Regulatory_Costs'!C\" & MATCH(F46,'App.2-M_Regulatory_Costs'!$B:$B,0))","v":{"$error":"#N/A"}},{"$f":"INDIRECT(\"'App.2-M_Regulatory_Costs'!D\" & MATCH($F46,'App.2-M_Regulatory_Costs'!$B:$B,0))","v":{"$error":"#N/A"}},{"$f":"INDIRECT(\"'App.2-M_Regulatory_Costs'!E\" & MATCH($F46,'App.2-M_Regulatory_Costs'!$B:$B,0))","v":{"$error":"#N/A"}},{"$f":"INDIRECT(\"'App.2-M_Regulatory_Costs'!F\" & MATCH($F46,'App.2-M_Regulatory_Costs'!$B:$B,0))","v":{"$error":"#N/A"}},{"$f":"INDIRECT(\"'App.2-M_Regulatory_Costs'!G\" & MATCH($F46,'App.2-M_Regulatory_Costs'!$B:$B,0))","v":{"$error":"#N/A"}},{"$f":"INDIRECT(\"'App.2-M_Regulatory_Costs'!H\" & MATCH($F46,'App.2-M_Regulatory_Costs'!$B:$B,0))","v":{"$error":"#N/A"}},{"$f":"INDIRECT(\"'App.2-M_Regulatory_Costs'!I\" & MATCH($F46,'App.2-M_Regulatory_Costs'!$B:$B,0))","v":{"$error":"#N/A"}},{"$f":"INDIRECT(\"'App.2-M_Regulatory_Costs'!J\" & MATCH($F46,'App.2-M_Regulatory_Costs'!$B:$B,0))","v":{"$error":"#N/A"}},{"$f":"INDIRECT(\"'App.2-M_Regulatory_Costs'!K\" & MATCH($F46,'App.2-M_Regulatory_Costs'!$B:$B,0))","v":{"$error":"#N/A"}}]
[{"$f":"'LDC Info'!$E$14","v":"Bluewater Power Distribution Corporation"},"EB-2022-0016",2023,2022,2013,{"$f":"'App.2-M_Regulatory_Costs'!B48","v":0},"One-Time",{"$f":"INDIRECT(\"'App.2-M_Regulatory_Costs'!C\" & MATCH(F47,'App.2-M_Regulatory_Costs'!$B:$B,0))","v":{"$error":"#N/A"}},{"$f":"INDIRECT(\"'App.2-M_Regulatory_Costs'!D\" & MATCH($F47,'App.2-M_Regulatory_Costs'!$B:$B,0))","v":{"$error":"#N/A"}},{"$f":"INDIRECT(\"'App.2-M_Regulatory_Costs'!E\" & MATCH($F47,'App.2-M_Regulatory_Costs'!$B:$B,0))","v":{"$error":"#N/A"}},{"$f":"INDIRECT(\"'App.2-M_Regulatory_Costs'!F\" & MATCH($F47,'App.2-M_Regulatory_Costs'!$B:$B,0))","v":{"$error":"#N/A"}},{"$f":"INDIRECT(\"'App.2-M_Regulatory_Costs'!G\" & MATCH($F47,'App.2-M_Regulatory_Costs'!$B:$B,0))","v":{"$error":"#N/A"}},{"$f":"INDIRECT(\"'App.2-M_Regulatory_Costs'!H\" & MATCH($F47,'App.2-M_Regulatory_Costs'!$B:$B,0))","v":{"$error":"#N/A"}},{"$f":"INDIRECT(\"'App.2-M_Regulatory_Costs'!I\" & MATCH($F47,'App.2-M_Regulatory_Costs'!$B:$B,0))","v":{"$error":"#N/A"}},{"$f":"INDIRECT(\"'App.2-M_Regulatory_Costs'!J\" & MATCH($F47,'App.2-M_Regulatory_Costs'!$B:$B,0))","v":{"$error":"#N/A"}},{"$f":"INDIRECT(\"'App.2-M_Regulatory_Costs'!K\" & MATCH($F47,'App.2-M_Regulatory_Costs'!$B:$B,0))","v":{"$error":"#N/A"}}]
[{"$f":"'LDC Info'!$E$14","v":"Bluewater Power Distribution Corporation"},"EB-2022-0016",2023,2022,2013,{"$f":"'App.2-M_Regulatory_Costs'!B49","v":0},"One-Time",{"$f":"INDIRECT(\"'App.2-M_Regulatory_Costs'!C\" & MATCH(F48,'App.2-M_Regulatory_Costs'!$B:$B,0))","v":{"$error":"#N/A"}},{"$f":"INDIRECT(\"'App.2-M_Regulatory_Costs'!D\" & MATCH($F48,'App.2-M_Regulatory_Costs'!$B:$B,0))","v":{"$error":"#N/A"}},{"$f":"INDIRECT(\"'App.2-M_Regulatory_Costs'!E\" & MATCH($F48,'App.2-M_Regulatory_Costs'!$B:$B,0))","v":{"$error":"#N/A"}},{"$f":"INDIRECT(\"'App.2-M_Regulatory_Costs'!F\" & MATCH($F48,'App.2-M_Regulatory_Costs'!$B:$B,0))","v":{"$error":"#N/A"}},{"$f":"INDIRECT(\"'App.2-M_Regulatory_Costs'!G\" & MATCH($F48,'App.2-M_Regulatory_Costs'!$B:$B,0))","v":{"$error":"#N/A"}},{"$f":"INDIRECT(\"'App.2-M_Regulatory_Costs'!H\" & MATCH($F48,'App.2-M_Regulatory_Costs'!$B:$B,0))","v":{"$error":"#N/A"}},{"$f":"INDIRECT(\"'App.2-M_Regulatory_Costs'!I\" & MATCH($F48,'App.2-M_Regulatory_Costs'!$B:$B,0))","v":{"$error":"#N/A"}},{"$f":"INDIRECT(\"'App.2-M_Regulatory_Costs'!J\" & MATCH($F48,'App.2-M_Regulatory_Costs'!$B:$B,0))","v":{"$error":"#N/A"}},{"$f":"INDIRECT(\"'App.2-M_Regulatory_Costs'!K\" & MATCH($F48,'App.2-M_Regulatory_Costs'!$B:$B,0))","v":{"$error":"#N/A"}}]
[{"$f":"'LDC Info'!$E$14","v":"Bluewater Power Distribution Corporation"},"EB-2022-0016",2023,2022,2013,{"$f":"'App.2-M_Regulatory_Costs'!B50","v":0},"One-Time",{"$f":"INDIRECT(\"'App.2-M_Regulatory_Costs'!C\" & MATCH(F49,'App.2-M_Regulatory_Costs'!$B:$B,0))","v":{"$error":"#N/A"}},{"$f":"INDIRECT(\"'App.2-M_Regulatory_Costs'!D\" & MATCH($F49,'App.2-M_Regulatory_Costs'!$B:$B,0))","v":{"$error":"#N/A"}},{"$f":"INDIRECT(\"'App.2-M_Regulatory_Costs'!E\" & MATCH($F49,'App.2-M_Regulatory_Costs'!$B:$B,0))","v":{"$error":"#N/A"}},{"$f":"INDIRECT(\"'App.2-M_Regulatory_Costs'!F\" & MATCH($F49,'App.2-M_Regulatory_Costs'!$B:$B,0))","v":{"$error":"#N/A"}},{"$f":"INDIRECT(\"'App.2-M_Regulatory_Costs'!G\" & MATCH($F49,'App.2-M_Regulatory_Costs'!$B:$B,0))","v":{"$error":"#N/A"}},{"$f":"INDIRECT(\"'App.2-M_Regulatory_Costs'!H\" & MATCH($F49,'App.2-M_Regulatory_Costs'!$B:$B,0))","v":{"$error":"#N/A"}},{"$f":"INDIRECT(\"'App.2-M_Regulatory_Costs'!I\" & MATCH($F49,'App.2-M_Regulatory_Costs'!$B:$B,0))","v":{"$error":"#N/A"}},{"$f":"INDIRECT(\"'App.2-M_Regulatory_Costs'!J\" & MATCH($F49,'App.2-M_Regulatory_Costs'!$B:$B,0))","v":{"$error":"#N/A"}},{"$f":"INDIRECT(\"'App.2-M_Regulatory_Costs'!K\" & MATCH($F49,'App.2-M_Regulatory_Costs'!$B:$B,0))","v":{"$error":"#N/A"}}]
[{"$f":"'LDC Info'!$E$14","v":"Bluewater Power Distribution Corporation"},"EB-2022-0016",2023,2022,2013,{"$f":"'App.2-M_Regulatory_Costs'!B51","v":0},"One-Time",{"$f":"INDIRECT(\"'App.2-M_Regulatory_Costs'!C\" & MATCH(F50,'App.2-M_Regulatory_Costs'!$B:$B,0))","v":{"$error":"#N/A"}},{"$f":"INDIRECT(\"'App.2-M_Regulatory_Costs'!D\" & MATCH($F50,'App.2-M_Regulatory_Costs'!$B:$B,0))","v":{"$error":"#N/A"}},{"$f":"INDIRECT(\"'App.2-M_Regulatory_Costs'!E\" & MATCH($F50,'App.2-M_Regulatory_Costs'!$B:$B,0))","v":{"$error":"#N/A"}},{"$f":"INDIRECT(\"'App.2-M_Regulatory_Costs'!F\" & MATCH($F50,'App.2-M_Regulatory_Costs'!$B:$B,0))","v":{"$error":"#N/A"}},{"$f":"INDIRECT(\"'App.2-M_Regulatory_Costs'!G\" & MATCH($F50,'App.2-M_Regulatory_Costs'!$B:$B,0))","v":{"$error":"#N/A"}},{"$f":"INDIRECT(\"'App.2-M_Regulatory_Costs'!H\" & MATCH($F50,'App.2-M_Regulatory_Costs'!$B:$B,0))","v":{"$error":"#N/A"}},{"$f":"INDIRECT(\"'App.2-M_Regulatory_Costs'!I\" & MATCH($F50,'App.2-M_Regulatory_Costs'!$B:$B,0))","v":{"$error":"#N/A"}},{"$f":"INDIRECT(\"'App.2-M_Regulatory_Costs'!J\" & MATCH($F50,'App.2-M_Regulatory_Costs'!$B:$B,0))","v":{"$error":"#N/A"}},{"$f":"INDIRECT(\"'App.2-M_Regulatory_Costs'!K\" & MATCH($F50,'App.2-M_Regulatory_Costs'!$B:$B,0))","v":{"$error":"#N/A"}}]
[{"$f":"'LDC Info'!$E$14","v":"Bluewater Power Distribution Corporation"},"EB-2022-0016",2023,2022,2013,{"$f":"'App.2-M_Regulatory_Costs'!B52","v":0},"One-Time",{"$f":"INDIRECT(\"'App.2-M_Regulatory_Costs'!C\" & MATCH(F51,'App.2-M_Regulatory_Costs'!$B:$B,0))","v":{"$error":"#N/A"}},{"$f":"INDIRECT(\"'App.2-M_Regulatory_Costs'!D\" & MATCH($F51,'App.2-M_Regulatory_Costs'!$B:$B,0))","v":{"$error":"#N/A"}},{"$f":"INDIRECT(\"'App.2-M_Regulatory_Costs'!E\" & MATCH($F51,'App.2-M_Regulatory_Costs'!$B:$B,0))","v":{"$error":"#N/A"}},{"$f":"INDIRECT(\"'App.2-M_Regulatory_Costs'!F\" & MATCH($F51,'App.2-M_Regulatory_Costs'!$B:$B,0))","v":{"$error":"#N/A"}},{"$f":"INDIRECT(\"'App.2-M_Regulatory_Costs'!G\" & MATCH($F51,'App.2-M_Regulatory_Costs'!$B:$B,0))","v":{"$error":"#N/A"}},{"$f":"INDIRECT(\"'App.2-M_Regulatory_Costs'!H\" & MATCH($F51,'App.2-M_Regulatory_Costs'!$B:$B,0))","v":{"$error":"#N/A"}},{"$f":"INDIRECT(\"'App.2-M_Regulatory_Costs'!I\" & MATCH($F51,'App.2-M_Regulatory_Costs'!$B:$B,0))","v":{"$error":"#N/A"}},{"$f":"INDIRECT(\"'App.2-M_Regulatory_Costs'!J\" & MATCH($F51,'App.2-M_Regulatory_Costs'!$B:$B,0))","v":{"$error":"#N/A"}},{"$f":"INDIRECT(\"'App.2-M_Regulatory_Costs'!K\" & MATCH($F51,'App.2-M_Regulatory_Costs'!$B:$B,0))","v":{"$error":"#N/A"}}]
[{"$f":"'LDC Info'!$E$14","v":"Bluewater Power Distribution Corporation"},"EB-2022-0016",2023,2022,2013,{"$f":"'App.2-M_Regulatory_Costs'!B53","v":0},"One-Time",{"$f":"INDIRECT(\"'App.2-M_Regulatory_Costs'!C\" & MATCH(F52,'App.2-M_Regulatory_Costs'!$B:$B,0))","v":{"$error":"#N/A"}},{"$f":"INDIRECT(\"'App.2-M_Regulatory_Costs'!D\" & MATCH($F52,'App.2-M_Regulatory_Costs'!$B:$B,0))","v":{"$error":"#N/A"}},{"$f":"INDIRECT(\"'App.2-M_Regulatory_Costs'!E\" & MATCH($F52,'App.2-M_Regulatory_Costs'!$B:$B,0))","v":{"$error":"#N/A"}},{"$f":"INDIRECT(\"'App.2-M_Regulatory_Costs'!F\" & MATCH($F52,'App.2-M_Regulatory_Costs'!$B:$B,0))","v":{"$error":"#N/A"}},{"$f":"INDIRECT(\"'App.2-M_Regulatory_Costs'!G\" & MATCH($F52,'App.2-M_Regulatory_Costs'!$B:$B,0))","v":{"$error":"#N/A"}},{"$f":"INDIRECT(\"'App.2-M_Regulatory_Costs'!H\" & MATCH($F52,'App.2-M_Regulatory_Costs'!$B:$B,0))","v":{"$error":"#N/A"}},{"$f":"INDIRECT(\"'App.2-M_Regulatory_Costs'!I\" & MATCH($F52,'App.2-M_Regulatory_Costs'!$B:$B,0))","v":{"$error":"#N/A"}},{"$f":"INDIRECT(\"'App.2-M_Regulatory_Costs'!J\" & MATCH($F52,'App.2-M_Regulatory_Costs'!$B:$B,0))","v":{"$error":"#N/A"}},{"$f":"INDIRECT(\"'App.2-M_Regulatory_Costs'!K\" & MATCH($F52,'App.2-M_Regulatory_Costs'!$B:$B,0))","v":{"$error":"#N/A"}}]
[{"$f":"'LDC Info'!$E$14","v":"Bluewater Power Distribution Corporation"},"EB-2022-0016",2023,2022,2013,{"$f":"'App.2-M_Regulatory_Costs'!B54","v":0},"One-Time",{"$f":"INDIRECT(\"'App.2-M_Regulatory_Costs'!C\" & MATCH(F53,'App.2-M_Regulatory_Costs'!$B:$B,0))","v":{"$error":"#N/A"}},{"$f":"INDIRECT(\"'App.2-M_Regulatory_Costs'!D\" & MATCH($F53,'App.2-M_Regulatory_Costs'!$B:$B,0))","v":{"$error":"#N/A"}},{"$f":"INDIRECT(\"'App.2-M_Regulatory_Costs'!E\" & MATCH($F53,'App.2-M_Regulatory_Costs'!$B:$B,0))","v":{"$error":"#N/A"}},{"$f":"INDIRECT(\"'App.2-M_Regulatory_Costs'!F\" & MATCH($F53,'App.2-M_Regulatory_Costs'!$B:$B,0))","v":{"$error":"#N/A"}},{"$f":"INDIRECT(\"'App.2-M_Regulatory_Costs'!G\" & MATCH($F53,'App.2-M_Regulatory_Costs'!$B:$B,0))","v":{"$error":"#N/A"}},{"$f":"INDIRECT(\"'App.2-M_Regulatory_Costs'!H\" & MATCH($F53,'App.2-M_Regulatory_Costs'!$B:$B,0))","v":{"$error":"#N/A"}},{"$f":"INDIRECT(\"'App.2-M_Regulatory_Costs'!I\" & MATCH($F53,'App.2-M_Regulatory_Costs'!$B:$B,0))","v":{"$error":"#N/A"}},{"$f":"INDIRECT(\"'App.2-M_Regulatory_Costs'!J\" & MATCH($F53,'App.2-M_Regulatory_Costs'!$B:$B,0))","v":{"$error":"#N/A"}},{"$f":"INDIRECT(\"'App.2-M_Regulatory_Costs'!K\" & MATCH($F53,'App.2-M_Regulatory_Costs'!$B:$B,0))","v":{"$error":"#N/A"}}]
[{"$f":"'LDC Info'!$E$14","v":"Bluewater Power Distribution Corporation"},"EB-2022-0016",2023,2022,2013,{"$f":"'App.2-M_Regulatory_Costs'!B55","v":0},"One-Time",{"$f":"INDIRECT(\"'App.2-M_Regulatory_Costs'!C\" & MATCH(F54,'App.2-M_Regulatory_Costs'!$B:$B,0))","v":{"$error":"#N/A"}},{"$f":"INDIRECT(\"'App.2-M_Regulatory_Costs'!D\" & MATCH($F54,'App.2-M_Regulatory_Costs'!$B:$B,0))","v":{"$error":"#N/A"}},{"$f":"INDIRECT(\"'App.2-M_Regulatory_Costs'!E\" & MATCH($F54,'App.2-M_Regulatory_Costs'!$B:$B,0))","v":{"$error":"#N/A"}},{"$f":"INDIRECT(\"'App.2-M_Regulatory_Costs'!F\" & MATCH($F54,'App.2-M_Regulatory_Costs'!$B:$B,0))","v":{"$error":"#N/A"}},{"$f":"INDIRECT(\"'App.2-M_Regulatory_Costs'!G\" & MATCH($F54,'App.2-M_Regulatory_Costs'!$B:$B,0))","v":{"$error":"#N/A"}},{"$f":"INDIRECT(\"'App.2-M_Regulatory_Costs'!H\" & MATCH($F54,'App.2-M_Regulatory_Costs'!$B:$B,0))","v":{"$error":"#N/A"}},{"$f":"INDIRECT(\"'App.2-M_Regulatory_Costs'!I\" & MATCH($F54,'App.2-M_Regulatory_Costs'!$B:$B,0))","v":{"$error":"#N/A"}},{"$f":"INDIRECT(\"'App.2-M_Regulatory_Costs'!J\" & MATCH($F54,'App.2-M_Regulatory_Costs'!$B:$B,0))","v":{"$error":"#N/A"}},{"$f":"INDIRECT(\"'App.2-M_Regulatory_Costs'!K\" & MATCH($F54,'App.2-M_Regulatory_Costs'!$B:$B,0))","v":{"$error":"#N/A"}}]
[{"$f":"'LDC Info'!$E$14","v":"Bluewater Power Distribution Corporation"},"EB-2022-0016",2023,2022,2013,{"$f":"'App.2-M_Regulatory_Costs'!B56","v":0},"One-Time",{"$f":"INDIRECT(\"'App.2-M_Regulatory_Costs'!C\" & MATCH(F55,'App.2-M_Regulatory_Costs'!$B:$B,0))","v":{"$error":"#N/A"}},{"$f":"INDIRECT(\"'App.2-M_Regulatory_Costs'!D\" & MATCH($F55,'App.2-M_Regulatory_Costs'!$B:$B,0))","v":{"$error":"#N/A"}},{"$f":"INDIRECT(\"'App.2-M_Regulatory_Costs'!E\" & MATCH($F55,'App.2-M_Regulatory_Costs'!$B:$B,0))","v":{"$error":"#N/A"}},{"$f":"INDIRECT(\"'App.2-M_Regulatory_Costs'!F\" & MATCH($F55,'App.2-M_Regulatory_Costs'!$B:$B,0))","v":{"$error":"#N/A"}},{"$f":"INDIRECT(\"'App.2-M_Regulatory_Costs'!G\" & MATCH($F55,'App.2-M_Regulatory_Costs'!$B:$B,0))","v":{"$error":"#N/A"}},{"$f":"INDIRECT(\"'App.2-M_Regulatory_Costs'!H\" & MATCH($F55,'App.2-M_Regulatory_Costs'!$B:$B,0))","v":{"$error":"#N/A"}},{"$f":"INDIRECT(\"'App.2-M_Regulatory_Costs'!I\" & MATCH($F55,'App.2-M_Regulatory_Costs'!$B:$B,0))","v":{"$error":"#N/A"}},{"$f":"INDIRECT(\"'App.2-M_Regulatory_Costs'!J\" & MATCH($F55,'App.2-M_Regulatory_Costs'!$B:$B,0))","v":{"$error":"#N/A"}},{"$f":"INDIRECT(\"'App.2-M_Regulatory_Costs'!K\" & MATCH($F55,'App.2-M_Regulatory_Costs'!$B:$B,0))","v":{"$error":"#N/A"}}]
[{"$f":"'LDC Info'!$E$14","v":"Bluewater Power Distribution Corporation"},"EB-2022-0016",2023,2022,2013,{"$f":"'App.2-M_Regulatory_Costs'!B57","v":0},"One-Time",{"$f":"INDIRECT(\"'App.2-M_Regulatory_Costs'!C\" & MATCH(F56,'App.2-M_Regulatory_Costs'!$B:$B,0))","v":{"$error":"#N/A"}},{"$f":"INDIRECT(\"'App.2-M_Regulatory_Costs'!D\" & MATCH($F56,'App.2-M_Regulatory_Costs'!$B:$B,0))","v":{"$error":"#N/A"}},{"$f":"INDIRECT(\"'App.2-M_Regulatory_Costs'!E\" & MATCH($F56,'App.2-M_Regulatory_Costs'!$B:$B,0))","v":{"$error":"#N/A"}},{"$f":"INDIRECT(\"'App.2-M_Regulatory_Costs'!F\" & MATCH($F56,'App.2-M_Regulatory_Costs'!$B:$B,0))","v":{"$error":"#N/A"}},{"$f":"INDIRECT(\"'App.2-M_Regulatory_Costs'!G\" & MATCH($F56,'App.2-M_Regulatory_Costs'!$B:$B,0))","v":{"$error":"#N/A"}},{"$f":"INDIRECT(\"'App.2-M_Regulatory_Costs'!H\" & MATCH($F56,'App.2-M_Regulatory_Costs'!$B:$B,0))","v":{"$error":"#N/A"}},{"$f":"INDIRECT(\"'App.2-M_Regulatory_Costs'!I\" & MATCH($F56,'App.2-M_Regulatory_Costs'!$B:$B,0))","v":{"$error":"#N/A"}},{"$f":"INDIRECT(\"'App.2-M_Regulatory_Costs'!J\" & MATCH($F56,'App.2-M_Regulatory_Costs'!$B:$B,0))","v":{"$error":"#N/A"}},{"$f":"INDIRECT(\"'App.2-M_Regulatory_Costs'!K\" & MATCH($F56,'App.2-M_Regulatory_Costs'!$B:$B,0))","v":{"$error":"#N/A"}}]
[{"$f":"'LDC Info'!$E$14","v":"Bluewater Power Distribution Corporation"},"EB-2022-0016",2023,2022,2013,{"$f":"'App.2-M_Regulatory_Costs'!B58","v":0},"One-Time",{"$f":"INDIRECT(\"'App.2-M_Regulatory_Costs'!C\" & MATCH(F57,'App.2-M_Regulatory_Costs'!$B:$B,0))","v":{"$error":"#N/A"}},{"$f":"INDIRECT(\"'App.2-M_Regulatory_Costs'!D\" & MATCH($F57,'App.2-M_Regulatory_Costs'!$B:$B,0))","v":{"$error":"#N/A"}},{"$f":"INDIRECT(\"'App.2-M_Regulatory_Costs'!E\" & MATCH($F57,'App.2-M_Regulatory_Costs'!$B:$B,0))","v":{"$error":"#N/A"}},{"$f":"INDIRECT(\"'App.2-M_Regulatory_Costs'!F\" & MATCH($F57,'App.2-M_Regulatory_Costs'!$B:$B,0))","v":{"$error":"#N/A"}},{"$f":"INDIRECT(\"'App.2-M_Regulatory_Costs'!G\" & MATCH($F57,'App.2-M_Regulatory_Costs'!$B:$B,0))","v":{"$error":"#N/A"}},{"$f":"INDIRECT(\"'App.2-M_Regulatory_Costs'!H\" & MATCH($F57,'App.2-M_Regulatory_Costs'!$B:$B,0))","v":{"$error":"#N/A"}},{"$f":"INDIRECT(\"'App.2-M_Regulatory_Costs'!I\" & MATCH($F57,'App.2-M_Regulatory_Costs'!$B:$B,0))","v":{"$error":"#N/A"}},{"$f":"INDIRECT(\"'App.2-M_Regulatory_Costs'!J\" & MATCH($F57,'App.2-M_Regulatory_Costs'!$B:$B,0))","v":{"$error":"#N/A"}},{"$f":"INDIRECT(\"'App.2-M_Regulatory_Costs'!K\" & MATCH($F57,'App.2-M_Regulatory_Costs'!$B:$B,0))","v":{"$error":"#N/A"}}]
[{"$f":"'LDC Info'!$E$14","v":"Bluewater Power Distribution Corporation"},"EB-2022-0016",2023,2022,2013,{"$f":"'App.2-M_Regulatory_Costs'!B59","v":0},"One-Time",{"$f":"INDIRECT(\"'App.2-M_Regulatory_Costs'!C\" & MATCH(F58,'App.2-M_Regulatory_Costs'!$B:$B,0))","v":{"$error":"#N/A"}},{"$f":"INDIRECT(\"'App.2-M_Regulatory_Costs'!D\" & MATCH($F58,'App.2-M_Regulatory_Costs'!$B:$B,0))","v":{"$error":"#N/A"}},{"$f":"INDIRECT(\"'App.2-M_Regulatory_Costs'!E\" & MATCH($F58,'App.2-M_Regulatory_Costs'!$B:$B,0))","v":{"$error":"#N/A"}},{"$f":"INDIRECT(\"'App.2-M_Regulatory_Costs'!F\" & MATCH($F58,'App.2-M_Regulatory_Costs'!$B:$B,0))","v":{"$error":"#N/A"}},{"$f":"INDIRECT(\"'App.2-M_Regulatory_Costs'!G\" & MATCH($F58,'App.2-M_Regulatory_Costs'!$B:$B,0))","v":{"$error":"#N/A"}},{"$f":"INDIRECT(\"'App.2-M_Regulatory_Costs'!H\" & MATCH($F58,'App.2-M_Regulatory_Costs'!$B:$B,0))","v":{"$error":"#N/A"}},{"$f":"INDIRECT(\"'App.2-M_Regulatory_Costs'!I\" & MATCH($F58,'App.2-M_Regulatory_Costs'!$B:$B,0))","v":{"$error":"#N/A"}},{"$f":"INDIRECT(\"'App.2-M_Regulatory_Costs'!J\" & MATCH($F58,'App.2-M_Regulatory_Costs'!$B:$B,0))","v":{"$error":"#N/A"}},{"$f":"INDIRECT(\"'App.2-M_Regulatory_Costs'!K\" & MATCH($F58,'App.2-M_Regulatory_Costs'!$B:$B,0))","v":{"$error":"#N/A"}}]
[{"$f":"'LDC Info'!$E$14","v":"Bluewater Power Distribution Corporation"},"EB-2022-0016",2023,2022,2013,{"$f":"'App.2-M_Regulatory_Costs'!B60","v":0},"One-Time",{"$f":"INDIRECT(\"'App.2-M_Regulatory_Costs'!C\" & MATCH(F59,'App.2-M_Regulatory_Costs'!$B:$B,0))","v":{"$error":"#N/A"}},{"$f":"INDIRECT(\"'App.2-M_Regulatory_Costs'!D\" & MATCH($F59,'App.2-M_Regulatory_Costs'!$B:$B,0))","v":{"$error":"#N/A"}},{"$f":"INDIRECT(\"'App.2-M_Regulatory_Costs'!E\" & MATCH($F59,'App.2-M_Regulatory_Costs'!$B:$B,0))","v":{"$error":"#N/A"}},{"$f":"INDIRECT(\"'App.2-M_Regulatory_Costs'!F\" & MATCH($F59,'App.2-M_Regulatory_Costs'!$B:$B,0))","v":{"$error":"#N/A"}},{"$f":"INDIRECT(\"'App.2-M_Regulatory_Costs'!G\" & MATCH($F59,'App.2-M_Regulatory_Costs'!$B:$B,0))","v":{"$error":"#N/A"}},{"$f":"INDIRECT(\"'App.2-M_Regulatory_Costs'!H\" & MATCH($F59,'App.2-M_Regulatory_Costs'!$B:$B,0))","v":{"$error":"#N/A"}},{"$f":"INDIRECT(\"'App.2-M_Regulatory_Costs'!I\" & MATCH($F59,'App.2-M_Regulatory_Costs'!$B:$B,0))","v":{"$error":"#N/A"}},{"$f":"INDIRECT(\"'App.2-M_Regulatory_Costs'!J\" & MATCH($F59,'App.2-M_Regulatory_Costs'!$B:$B,0))","v":{"$error":"#N/A"}},{"$f":"INDIRECT(\"'App.2-M_Regulatory_Costs'!K\" & MATCH($F59,'App.2-M_Regulatory_Costs'!$B:$B,0))","v":{"$error":"#N/A"}}]
[{"$f":"'LDC Info'!$E$14","v":"Bluewater Power Distribution Corporation"},"EB-2022-0016",2023,2022,2013,{"$f":"'App.2-M_Regulatory_Costs'!B61","v":0},"One-Time",{"$f":"INDIRECT(\"'App.2-M_Regulatory_Costs'!C\" & MATCH(F60,'App.2-M_Regulatory_Costs'!$B:$B,0))","v":{"$error":"#N/A"}},{"$f":"INDIRECT(\"'App.2-M_Regulatory_Costs'!D\" & MATCH($F60,'App.2-M_Regulatory_Costs'!$B:$B,0))","v":{"$error":"#N/A"}},{"$f":"INDIRECT(\"'App.2-M_Regulatory_Costs'!E\" & MATCH($F60,'App.2-M_Regulatory_Costs'!$B:$B,0))","v":{"$error":"#N/A"}},{"$f":"INDIRECT(\"'App.2-M_Regulatory_Costs'!F\" & MATCH($F60,'App.2-M_Regulatory_Costs'!$B:$B,0))","v":{"$error":"#N/A"}},{"$f":"INDIRECT(\"'App.2-M_Regulatory_Costs'!G\" & MATCH($F60,'App.2-M_Regulatory_Costs'!$B:$B,0))","v":{"$error":"#N/A"}},{"$f":"INDIRECT(\"'App.2-M_Regulatory_Costs'!H\" & MATCH($F60,'App.2-M_Regulatory_Costs'!$B:$B,0))","v":{"$error":"#N/A"}},{"$f":"INDIRECT(\"'App.2-M_Regulatory_Costs'!I\" & MATCH($F60,'App.2-M_Regulatory_Costs'!$B:$B,0))","v":{"$error":"#N/A"}},{"$f":"INDIRECT(\"'App.2-M_Regulatory_Costs'!J\" & MATCH($F60,'App.2-M_Regulatory_Costs'!$B:$B,0))","v":{"$error":"#N/A"}},{"$f":"INDIRECT(\"'App.2-M_Regulatory_Costs'!K\" & MATCH($F60,'App.2-M_Regulatory_Costs'!$B:$B,0))","v":{"$error":"#N/A"}}]
[{"$f":"'LDC Info'!$E$14","v":"Bluewater Power Distribution Corporation"},"EB-2022-0016",2023,2022,2013,{"$f":"'App.2-M_Regulatory_Costs'!B62","v":0},"One-Time",{"$f":"INDIRECT(\"'App.2-M_Regulatory_Costs'!C\" & MATCH(F61,'App.2-M_Regulatory_Costs'!$B:$B,0))","v":{"$error":"#N/A"}},{"$f":"INDIRECT(\"'App.2-M_Regulatory_Costs'!D\" & MATCH($F61,'App.2-M_Regulatory_Costs'!$B:$B,0))","v":{"$error":"#N/A"}},{"$f":"INDIRECT(\"'App.2-M_Regulatory_Costs'!E\" & MATCH($F61,'App.2-M_Regulatory_Costs'!$B:$B,0))","v":{"$error":"#N/A"}},{"$f":"INDIRECT(\"'App.2-M_Regulatory_Costs'!F\" & MATCH($F61,'App.2-M_Regulatory_Costs'!$B:$B,0))","v":{"$error":"#N/A"}},{"$f":"INDIRECT(\"'App.2-M_Regulatory_Costs'!G\" & MATCH($F61,'App.2-M_Regulatory_Costs'!$B:$B,0))","v":{"$error":"#N/A"}},{"$f":"INDIRECT(\"'App.2-M_Regulatory_Costs'!H\" & MATCH($F61,'App.2-M_Regulatory_Costs'!$B:$B,0))","v":{"$error":"#N/A"}},{"$f":"INDIRECT(\"'App.2-M_Regulatory_Costs'!I\" & MATCH($F61,'App.2-M_Regulatory_Costs'!$B:$B,0))","v":{"$error":"#N/A"}},{"$f":"INDIRECT(\"'App.2-M_Regulatory_Costs'!J\" & MATCH($F61,'App.2-M_Regulatory_Costs'!$B:$B,0))","v":{"$error":"#N/A"}},{"$f":"INDIRECT(\"'App.2-M_Regulatory_Costs'!K\" & MATCH($F61,'App.2-M_Regulatory_Costs'!$B:$B,0))","v":{"$error":"#N/A"}}]
[{"$f":"'LDC Info'!$E$14","v":"Bluewater Power Distribution Corporation"},"EB-2022-0016",2023,2022,2013,{"$f":"'App.2-M_Regulatory_Costs'!B63","v":0},"One-Time",{"$f":"INDIRECT(\"'App.2-M_Regulatory_Costs'!C\" & MATCH(F62,'App.2-M_Regulatory_Costs'!$B:$B,0))","v":{"$error":"#N/A"}},{"$f":"INDIRECT(\"'App.2-M_Regulatory_Costs'!D\" & MATCH($F62,'App.2-M_Regulatory_Costs'!$B:$B,0))","v":{"$error":"#N/A"}},{"$f":"INDIRECT(\"'App.2-M_Regulatory_Costs'!E\" & MATCH($F62,'App.2-M_Regulatory_Costs'!$B:$B,0))","v":{"$error":"#N/A"}},{"$f":"INDIRECT(\"'App.2-M_Regulatory_Costs'!F\" & MATCH($F62,'App.2-M_Regulatory_Costs'!$B:$B,0))","v":{"$error":"#N/A"}},{"$f":"INDIRECT(\"'App.2-M_Regulatory_Costs'!G\" & MATCH($F62,'App.2-M_Regulatory_Costs'!$B:$B,0))","v":{"$error":"#N/A"}},{"$f":"INDIRECT(\"'App.2-M_Regulatory_Costs'!H\" & MATCH($F62,'App.2-M_Regulatory_Costs'!$B:$B,0))","v":{"$error":"#N/A"}},{"$f":"INDIRECT(\"'App.2-M_Regulatory_Costs'!I\" & MATCH($F62,'App.2-M_Regulatory_Costs'!$B:$B,0))","v":{"$error":"#N/A"}},{"$f":"INDIRECT(\"'App.2-M_Regulatory_Costs'!J\" & MATCH($F62,'App.2-M_Regulatory_Costs'!$B:$B,0))","v":{"$error":"#N/A"}},{"$f":"INDIRECT(\"'App.2-M_Regulatory_Costs'!K\" & MATCH($F62,'App.2-M_Regulatory_Costs'!$B:$B,0))","v":{"$error":"#N/A"}}]
[{"$f":"'LDC Info'!$E$14","v":"Bluewater Power Distribution Corporation"},"EB-2022-0016",2023,2022,2013,{"$f":"'App.2-M_Regulatory_Costs'!B64","v":"Sub-total - Ongoing Costs 2"},"One-Time",{"$f":"INDIRECT(\"'App.2-M_Regulatory_Costs'!C\" & MATCH(F63,'App.2-M_Regulatory_Costs'!$B:$B,0))","v":0},{"$f":"INDIRECT(\"'App.2-M_Regulatory_Costs'!D\" & MATCH($F63,'App.2-M_Regulatory_Costs'!$B:$B,0))","v":0},{"$f":"INDIRECT(\"'App.2-M_Regulatory_Costs'!E\" & MATCH($F63,'App.2-M_Regulatory_Costs'!$B:$B,0))","v":262120},{"$f":"INDIRECT(\"'App.2-M_Regulatory_Costs'!F\" & MATCH($F63,'App.2-M_Regulatory_Costs'!$B:$B,0))","v":260586.96999999997},{"$f":"INDIRECT(\"'App.2-M_Regulatory_Costs'!G\" & MATCH($F63,'App.2-M_Regulatory_Costs'!$B:$B,0))","v":377755.19900000002},{"$f":"INDIRECT(\"'App.2-M_Regulatory_Costs'!H\" & MATCH($F63,'App.2-M_Regulatory_Costs'!$B:$B,0))","v":520102},{"$f":"INDIRECT(\"'App.2-M_Regulatory_Costs'!I\" & MATCH($F63,'App.2-M_Regulatory_Costs'!$B:$B,0))","v":0.37682287729413877},{"$f":"INDIRECT(\"'App.2-M_Regulatory_Costs'!J\" & MATCH($F63,'App.2-M_Regulatory_Costs'!$B:$B,0))","v":559698},{"$f":"INDIRECT(\"'App.2-M_Regulatory_Costs'!K\" & MATCH($F63,'App.2-M_Regulatory_Costs'!$B:$B,0))","v":7.6131220414457162E-2}]
[{"$f":"'LDC Info'!$E$14","v":"Bluewater Power Distribution Corporation"},"EB-2022-0016",2023,2022,2013,{"$f":"'App.2-M_Regulatory_Costs'!B65","v":"Sub-total - One-time Costs 3"},"One-Time",{"$f":"INDIRECT(\"'App.2-M_Regulatory_Costs'!C\" & MATCH(F64,'App.2-M_Regulatory_Costs'!$B:$B,0))","v":0},{"$f":"INDIRECT(\"'App.2-M_Regulatory_Costs'!D\" & MATCH($F64,'App.2-M_Regulatory_Costs'!$B:$B,0))","v":0},{"$f":"INDIRECT(\"'App.2-M_Regulatory_Costs'!E\" & MATCH($F64,'App.2-M_Regulatory_Costs'!$B:$B,0))","v":228000},{"$f":"INDIRECT(\"'App.2-M_Regulatory_Costs'!F\" & MATCH($F64,'App.2-M_Regulatory_Costs'!$B:$B,0))","v":302235},{"$f":"INDIRECT(\"'App.2-M_Regulatory_Costs'!G\" & MATCH($F64,'App.2-M_Regulatory_Costs'!$B:$B,0))","v":41758},{"$f":"INDIRECT(\"'App.2-M_Regulatory_Costs'!H\" & MATCH($F64,'App.2-M_Regulatory_Costs'!$B:$B,0))","v":148015},{"$f":"INDIRECT(\"'App.2-M_Regulatory_Costs'!I\" & MATCH($F64,'App.2-M_Regulatory_Costs'!$B:$B,0))","v":2.544590258154126},{"$f":"INDIRECT(\"'App.2-M_Regulatory_Costs'!J\" & MATCH($F64,'App.2-M_Regulatory_Costs'!$B:$B,0))","v":284332},{"$f":"INDIRECT(\"'App.2-M_Regulatory_Costs'!K\" & MATCH($F64,'App.2-M_Regulatory_Costs'!$B:$B,0))","v":0.92096746951322506}]
[{"$f":"'LDC Info'!$E$14","v":"Bluewater Power Distribution Corporation"},"EB-2022-0016",2023,2022,2013,{"$f":"'App.2-M_Regulatory_Costs'!B66","v":"Total"},"One-Time",{"$f":"INDIRECT(\"'App.2-M_Regulatory_Costs'!C\" & MATCH(F65,'App.2-M_Regulatory_Costs'!$B:$B,0))","v":0},{"$f":"INDIRECT(\"'App.2-M_Regulatory_Costs'!D\" & MATCH($F65,'App.2-M_Regulatory_Costs'!$B:$B,0))","v":0},{"$f":"INDIRECT(\"'App.2-M_Regulatory_Costs'!E\" & MATCH($F65,'App.2-M_Regulatory_Costs'!$B:$B,0))","v":490120},{"$f":"INDIRECT(\"'App.2-M_Regulatory_Costs'!F\" & MATCH($F65,'App.2-M_Regulatory_Costs'!$B:$B,0))","v":562821.97},{"$f":"INDIRECT(\"'App.2-M_Regulatory_Costs'!G\" & MATCH($F65,'App.2-M_Regulatory_Costs'!$B:$B,0))","v":419513.19900000002},{"$f":"INDIRECT(\"'App.2-M_Regulatory_Costs'!H\" & MATCH($F65,'App.2-M_Regulatory_Costs'!$B:$B,0))","v":668117},{"$f":"INDIRECT(\"'App.2-M_Regulatory_Costs'!I\" & MATCH($F65,'App.2-M_Regulatory_Costs'!$B:$B,0))","v":0.59260066570634873},{"$f":"INDIRECT(\"'App.2-M_Regulatory_Costs'!J\" & MATCH($F65,'App.2-M_Regulatory_Costs'!$B:$B,0))","v":654519},{"$f":"INDIRECT(\"'App.2-M_Regulatory_Costs'!K\" & MATCH($F65,'App.2-M_Regulatory_Costs'!$B:$B,0))","v":-2.0352722651870856E-2}]

{"sheet":"Hidden_RegulatoryCosts2","index":50,"n_rows":2,"n_cols":6,"rows_kept":2,"cut":false,"hidden":true,"merged":[]}
["EB Number","Test Year","Bridge Year","Last Rebasing Year","One-Time COS Costs","Amortized Amount"]
[{"$f":"EBNUMBER","v":"EB-2022-0016"},{"$f":"TestYear","v":2023},{"$f":"BridgeYear","v":2022},{"$f":"RebaseYear","v":2013},{"$f":"'App.2-M_Regulatory_Costs'!C69","v":474105},{"$f":"'App.2-M_Regulatory_Costs'!C70","v":94821}]

{"sheet":"App.2-N_Corp_Cost_Allocation","index":51,"n_rows":1085,"n_cols":7,"rows_kept":1085,"cut":false,"hidden":false,"merged":[[1076,1,1077,5],[1010,6,1011,6],[1011,0,1012,0],[1011,1,1012,1],[1061,0,1061,5],[1063,0,1063,1],[1063,2,1065,2],[1063,3,1065,3],[1063,4,1064,4],[1063,5,1064,5],[984,1,985,5],[1003,0,1003,5],[1004,0,1004,5],[1008,0,1008,5],[1010,0,1010,1],[1010,2,1012,2],[1010,3,1012,3],[1010,4,1011,4],[1010,5,1011,5],[918,6,919,6],[919,0,920,0],[919,1,920,1],[969,0,969,5],[971,0,971,1],[971,2,973,2],[971,3,973,3],[971,4,972,4],[971,5,972,5],[892,1,893,5],[911,0,911,5],[912,0,912,5],[916,0,916,5],[918,0,918,1],[918,2,920,2],[918,3,920,3],[918,4,919,4],[918,5,919,5],[826,6,827,6],[827,0,828,0],[827,1,828,1],[877,0,877,5],[879,0,879,1],[879,2,881,2],[879,3,881,3],[879,4,880,4],[879,5,880,5],[799,1,800,5],[819,0,819,5],[820,0,820,5],[824,0,824,5],[826,0,826,1],[826,2,828,2],[826,3,828,3],[826,4,827,4],[826,5,827,5],[732,6,733,6],[733,0,734,0],[733,1,734,1],[784,0,784,5],[786,0,786,1],[786,2,788,2],[786,3,788,3],[786,4,787,4],[786,5,787,5],[706,1,707,5],[725,0,725,5],[726,0,726,5],[730,0,730,5],[732,0,732,1],[732,2,734,2],[732,3,734,3],[732,4,733,4],[732,5,733,5],[639,6,640,6],[640,0,641,0],[640,1,641,1],[691,0,691,5],[693,0,693,1],[693,2,695,2],[693,3,695,3],[693,4,694,4],[693,5,694,5],[611,1,612,5],[632,0,632,5],[633,0,633,5],[637,0,637,5],[639,0,639,1],[639,2,641,2],[639,3,641,3],[639,4,640,4],[639,5,640,5],[545,6,546,6],[546,0,547,0],[546,1,547,1],[596,0,596,5],[598,0,598,1],[598,2,600,2],[598,3,600,3],[598,4,599,4],[598,5,599,5],[519,1,520,5],[538,0,538,5],[539,0,539,5],[543,0,543,5],[545,0,545,1],[545,2,547,2],[545,3,547,3],[545,4,546,4],[545,5,546,5],[452,6,453,6],[453,0,454,0],[453,1,454,1],[504,0,504,5],[506,0,506,1],[506,2,508,2],[506,3,508,3],[506,4,507,4],[506,5,507,5],[425,1,426,5],[445,0,445,5],[446,0,446,5],[450,0,450,5],[452,0,452,1],[452,2,454,2],[452,3,454,3],[452,4,453,4],[452,5,453,5],[358,6,359,6],[359,0,360,0],[359,1,360,1],[410,0,410,5],[412,0,412,1],[412,2,414,2],[412,3,414,3],[412,4,413,4],[412,5,413,5],[332,1,333,5],[351,0,351,5],[352,0,352,5],[356,0,356,5],[358,0,358,1],[358,2,360,2],[358,3,360,3],[358,4,359,4],[358,5,359,5],[277,6,278,6],[278,0,279,0],[278,1,279,1],[319,0,319,5],[321,0,321,1],[321,2,323,2],[321,3,323,3],[321,4,322,4],[321,5,322,5],[252,1,253,5],[270,0,270,5],[271,0,271,5],[275,0,275,5],[277,0,277,1],[277,2,279,2],[277,3,279,3],[277,4,278,4],[277,5,278,5],[197,6,198,6],[198,0,199,0],[198,1,199,1],[239,0,239,5],[241,0,241,1],[241,2,243,2],[241,3,243,3],[241,4,242,4],[241,5,242,5],[172,1,173,5],[190,0,190,5],[191,0,191,5],[195,0,195,5],[197,0,197,1],[197,2,199,2],[197,3,199,3],[197,4,198,4],[197,5,198,5],[115,6,116,6],[116,0,117,0],[116,1,117,1],[158,0,158,5],[160,0,160,1],[160,2,162,2],[160,3,162,3],[160,4,161,4],[160,5,161,5],[89,1,90,5],[108,0,108,5],[109,0,109,5],[113,0,113,5],[115,0,115,1],[115,2,117,2],[115,3,117,3],[115,4,116,4],[115,5,116,5],[15,6,16,6],[8,0,8,5],[9,0,9,5],[75,0,75,5],[77,0,77,1],[77,2,79,2],[77,3,79,3],[77,4,78,4],[77,5,78,5],[13,0,13,5],[15,0,15,1],[15,2,17,2],[15,4,16,4],[16,0,17,0],[16,1,17,1],[15,3,17,3],[15,5,16,5]]}
[null,null,null,null,null,"File Number:",{"$f":"EBNUMBER","v":"EB-2022-0016"}]
[null,null,null,null,null,"Exhibit:"]
[null,null,null,null,null,"Tab:"]
[null,null,null,null,null,"Schedule:"]
[null,null,null,null,null,"Attachment"]
[]
[null,null,null,null,null,"Date:","2022-10-24"]
[]
["Appendix 2-N"]
["Shared Services and Corporate Cost Allocation"]
[]
[null,"Year:","2013 OEB Approved"]
[]
["Shared Services"]
[]
["Name of Company",null,"Service Offered","Pricing Methodology","Price for the Service","Cost for the Service"]
["From","To"]
[null,null,null,null,"$","$"]
["Distco","BPREI","management services","fully allocated cost",13915,13915]
["Distco","BPSC","management services","fully allocated cost",108624,108624]
["Distco","Genco","management services","fully allocated cost",2386,2386]
["Distco","Electek","management services","fully allocated cost",62012,62012]
["Genco","Distco","management services","fully allocated cost"]
[null,null,null,"Sub-Total",{"$f":"SUM(E19:E23)","v":186937},{"$f":"SUM(F19:F23)","v":186937}]
["Distco","Genco","building rent","market value"]
["Distco","BPREI","building rent","market value"]
["Distco","BPSC","building rent","market value",17200,17200]
[null,null,null,"Sub-Total",{"$f":"SUM(E25:E27)","v":17200},{"$f":"SUM(F25:F27)","v":17200}]
["Distco","BPSC","vehicle rental","fully allocated cost",50176,50176]
["Distco","Electek","vehicle rental","fully allocated cost"]
[null,null,null,"Sub-Total",{"$f":"SUM(E29:E30)","v":50176},{"$f":"SUM(F29:F30)","v":50176}]
["Distco","Genco","Interest on Advances","market value",0]
["Distco","BPREI","Interest on Advances","market value",0]
["Distco","BPSC","Interest on Advances","market value",0]
[null,null,null,"Sub-Total",{"$f":"SUM(E32:E34)","v":0},{"$f":"SUM(F32:F34)","v":0}]
["Distco","BPSC","Water ROIC ","fully allocated cost",55402,55402]
["Distco","BPSC","Water Billing costs","fully allocated cost",123885,123885]
[null,null,null,"Sub-Total",{"$f":"SUM(E36:E37)","v":179287},{"$f":"SUM(F36:F37)","v":179287}]
["Distco","BPSC","Capital Work","fully allocated cost"]
["Distco","BPREI","Capital Work","fully allocated cost"]
[null,null,null,"Sub-Total",{"$f":"SUM(E39:E40)","v":0},{"$f":"SUM(F39:F40)","v":0}]
["Distco","BPSC","Repair & Maintenance Work","fully allocated cost"]
["Distco","Electek","Repair & Maintenance Work","fully allocated cost"]
[null,null,null,"Sub-Total",{"$f":"SUM(E42:E43)","v":0},{"$f":"SUM(F42:F43)","v":0}]
["Distco","BPSC","3rd Party Billable","fully allocated cost"]
["Distco","Electek","3rd Party Billable","fully allocated cost"]
["Distco","Genco","3rd Party Billable","fully allocated cost"]
[null,null,null,"Sub-Total",{"$f":"SUM(E45:E47)","v":0},{"$f":"SUM(F45:F47)","v":0}]
["Distco","BPSC","Asset sales-vehicle & stock","market value",0,0]
[]
["Distco","BPSC","Shared Staff","fully allocated cost",76816,76816]
["Distco","Electek","Shared Staff","fully allocated cost",5106,5106]
["Distco","BPREI","Shared Staff","fully allocated cost",34568,34568]
["Distco","Genco","Shared Staff","fully allocated cost",0,0]
[null,null,null,"Sub-Total",{"$f":"SUM(E51:E54)","v":116490},{"$f":"SUM(F51:F54)","v":116490}]
["Total",null,null,null,{"$f":"+E55+E49+E48+E44+E38+E41+E35+E31+E28+E24","v":550090},{"$f":"+F55+F49+F48+F44+F38+F41+F35+F31+F28+F24","v":550090}]
["BPSC","Distco","Capital - Other","market value",78278,78278]
["BPSC","Distco","Capital - New Connections","market value",121722,121722]
["BPSC","Distco","Repair & Maintenance Work","market value",90000,90000]
["BPSC","Distco","HyrdoVac","market value"]
["BPSC","Distco - OPA","OPA-CDM programs","market value",50000,50000]
["BPSC","Distco","Pass Through Costs","market value",175000,175000]
["BPSC","Distco","commercial meter reading","fully allocated cost"]
["BPSC","Distco","Shared Staff","fully allocated cost"]
[null,null,null,"Sub-Total",{"$f":"SUM(E57:E64)","v":515000},{"$f":"SUM(F57:F64)","v":515000}]
["Electek","Distco","building rent","market value",0,0]
["Electek","Distco","Capital","market value",30000,30000]
["Electek","Distco","Repair & Maintenance Work","market value",25000,25000]
["Electek","Distco","Pass Through Costs","market value"]
[null,null,null,"Sub-Total",{"$f":"SUM(E66:E69)","v":55000},{"$f":"SUM(F66:F69)","v":55000}]
[]
[null,null,null,null,{"$f":"+E65+E70","v":570000},{"$f":"+F65+F70","v":570000}]
[]
["Net Total",null,null,null,{"$f":"+E56-E72","v":-19910},{"$f":"+F56-F72","v":-19910}]
[]
["Corporate Cost Allocation"]
[]
["Name of Company",null,"Service Offered","Pricing Methodology","% of Corporate Costs Allocated","Amount Allocated"]
["From","To"]
[null,null,null,null,"%","$"]
["Distco","Genco","Board of Directors",null,{"$f":"+F81/88531","v":1.1973207125187788E-3},106]
["Distco","BPREI","Board of Directors",null,{"$f":"+F82/88531","v":4.9801764353729204E-2},4409]
["Distco","BPSC","Board of Directors",null,{"$f":"+F83/88531","v":2.2997594063096542E-2},2036]
["Distco","Electek","Board of Directors",null,{"$f":"+F84/88531","v":1.6999695022082661E-2},1505]
[null,null,null,null,"Total",{"$f":"SUM(F81:F84)","v":8056}]
[]
[]
[]
["Note: "]
[1,"This appendix must be completed in relation to each service provided or received for the Historical (actuals), Bridge and Test years."]
[]
[]
[2,"Distco = Bluewater Power Distribution Corporation"]
[null,"BPSC = Bluewater Power Distribution Corporation"]
[null,"Electek = Electek Power Services Inc."]
[null,"Genco = Bluewater Power Generation Corporation"]
[null,"BPREI = Bluewater Power Renewable Energy Inc."]
[null,"Distco - OPA = non-utility OPA program costs"]
[]
[]
[null,null,null,null,null,"File Number:",{"$f":"EBNUMBER","v":"EB-2022-0016"}]
[null,null,null,null,null,"Exhibit:"]
[null,null,null,null,null,"Tab:"]
[null,null,null,null,null,"Schedule:"]
[null,null,null,null,null,"Attachment"]
[]
[null,null,null,null,null,"Date:","2022-10-24"]
[]
["Appendix 2-N"]
["Shared Services and Corporate Cost Allocation"]
[]
[null,"Year:","2013 Actual"]
[]
["Shared Services"]
[]
["Name of Company",null,"Service Offered","Pricing Methodology","Price for the Service","Cost for the Service"]
["From","To"]
[null,null,null,null,"$","$"]
["Distco","BPREI","management services","fully allocated cost",11117,11117]
["Distco","BPSC","management services","fully allocated cost",95349,95349]
["Distco","Genco","management services","fully allocated cost",2390,2390]
["Distco","Electek","management services","fully allocated cost",56906,56906]
[null,null,null,"Sub-Total",{"$f":"SUM(E119:E122)","v":165762},{"$f":"SUM(F119:F122)","v":165762}]
["Distco","BPSC","Fleet ","fully allocated cost",13276,13276]
["Distco","Electek","Fleet ","fully allocated cost",5106,5106]
["Distco","BPREI","Fleet ","fully allocated cost",2798,2798]
[null,null,null,"Sub-Total",{"$f":"SUM(E124:E126)","v":21180},{"$f":"SUM(F124:F126)","v":21180}]
["Distco","BPSC","building rent","market value",17200,17200]
[null,null,null,"Sub-Total",{"$f":"SUM(E128:E128)","v":17200},{"$f":"SUM(F128:F128)","v":17200}]
["Distco","BPSC","vehicle rental","fully allocated cost",107163,107163]
[null,null,null,"Sub-Total",{"$f":"SUM(E130:E130)","v":107163},{"$f":"SUM(F130:F130)","v":107163}]
["Distco","BPSC","Water ROIC ","fully allocated cost",55402,55402]
["Distco","BPSC","Water Billing costs","fully allocated cost",126379,126379]
[null,null,null,"Sub-Total",{"$f":"SUM(E132:E133)","v":181781},{"$f":"SUM(F132:F133)","v":181781}]
["Distco","BPSC","Pass Through Costs","fully allocated cost",64571,64571]
["Distco","Electek","Pass Through Costs","fully allocated cost",7291,7291]
[null,null,null,"Sub-Total",{"$f":"SUM(E135:E136)","v":71862},{"$f":"SUM(F135:F136)","v":71862}]
["Distco","BPSC","Shared Staff","fully allocated cost",445933,445933]
["Distco","Electek","Shared Staff","fully allocated cost",10432.93,10432.93]
["Distco","BRNI","Shared Staff","fully allocated cost",0,0]
["Distco","BPREI","Shared Staff","fully allocated cost",44143,44143]
[null,null,null,"Sub-Total",{"$f":"SUM(E138:E141)","v":500508.93},{"$f":"SUM(F138:F141)","v":500508.93}]
["Total",null,null,null,{"$f":"+E123+E129+E131+E134+E137+E142+E127","v":1065456.93},{"$f":"+F123+F129+F131+F134+F137+F142+F127","v":1065456.93}]
[]
["BPSC","Distco","Capital - Other","market value",100176,100176]
["BPSC","Distco","Capital - New Connections","market value",155773,155773]
["BPSC","Distco","Repair & Maintenance Work","market value",116041,116041]
["BPSC","Distco","Pass Through Costs","market value",93130,93130]
["BPSC","Distco","OPA-CDM programs","market value",640888,640888]
[null,null,null,"Sub-Total",{"$f":"SUM(E145:E149)","v":1106008},{"$f":"SUM(F145:F149)","v":1106008}]
["Electek","Distco","Capital","market value",20730,20730]
["Electek","Distco","Repair & Maintenance Work","market value",55573,55573]
["Electek","Distco","Pass Through Costs","market value",1690,1690]
[null,null,null,"Sub-Total",{"$f":"SUM(E151:E153)","v":77993},{"$f":"SUM(F151:F153)","v":77993}]
["Total",null,null,null,{"$f":"+E150+E154","v":1184001},{"$f":"+F150+F154","v":1184001}]
[]
["Net Total",null,null,null,{"$f":"+E143-E155","v":-118544.07000000007},{"$f":"+F143-F155","v":-118544.07000000007}]
[]
["Corporate Cost Allocation"]
[]
["Name of Company",null,"Service Offered","Pricing Methodology","% of Corporate Costs Allocated","Amount Allocated"]
["From","To"]
[null,null,null,null,"%","$"]
["Distco","Genco","Board of Directors",null,{"$f":"+F164/110953","v":9.5535947653510947E-4},106]
["Distco","BPREI","Board of Directors",null,{"$f":"+F165/110953","v":3.9737546528710352E-2},4409]
["Distco","BPSC","Board of Directors",null,{"$f":"+F166/110953","v":1.8350112209674366E-2},2036]
["Distco","Electek","Board of Directors",null,{"$f":"+F167/110953","v":1.3564302001748489E-2},1505]
[null,null,null,null,"Total",{"$f":"SUM(F164:F167)","v":8056}]
[]
[]
[]
["Note: "]
[1,"This appendix must be completed in relation to each service provided or received for the Historical (actuals), Bridge and Test years."]
[]
[]
[2,"Distco = Bluewater Power Distribution Corporation"]
[null,"BPSC = Bluewater Power Services Corporation"]
[null,"Electek = Electek Power Services Inc."]
[null,"BPREI = Bluewater Power Renewable Energy Inc."]
[null,"Distco - CDM = non-utility CDM program costs"]
[]
[]
[null,null,null,null,null,"File Number:",{"$f":"EBNUMBER","v":"EB-2022-0016"}]
[null,null,null,null,null,"Exhibit:"]
[null,null,null,null,null,"Tab:"]
[null,null,null,null,null,"Schedule:"]
[null,null,null,null,null,"Attachment"]
[]
[null,null,null,null,null,"Date:","2022-10-24"]
[]
["Appendix 2-N"]
["Shared Services and Corporate Cost Allocation"]
[]
[null,"Year:",2014]
[]
["Shared Services"]
[]
["Name of Company",null,"Service Offered","Pricing Methodology","Price for the Service","Cost for the Service"]
["From","To"]
[null,null,null,null,"$","$"]
["Distco","BPREI","management services","fully allocated cost",13916,13916]
["Distco","BPSC","management services","fully allocated cost",108624,108624]
["Distco","Electek","management services","fully allocated cost",62012,62012]
[null,null,null,"Sub-Total",{"$f":"SUM(E201:E203)","v":184552},{"$f":"SUM(F201:F203)","v":184552}]
["Distco","BPSC","Fleet ","fully allocated cost",13276,13276]
["Distco","Electek","Fleet ","fully allocated cost",5106,5106]
["Distco","BPREI","Fleet ","fully allocated cost",2798,2798]
[null,null,null,"Sub-Total",{"$f":"SUM(E205:E207)","v":21180},{"$f":"SUM(F205:F207)","v":21180}]
["Distco","BPSC","building rent","market value",18400,18400]
[null,null,null,"Sub-Total",{"$f":"SUM(E209:E209)","v":18400},{"$f":"SUM(F209:F209)","v":18400}]
["Distco","BPSC","vehicle rental","fully allocated cost",111467,111467]
[null,null,null,"Sub-Total",{"$f":"SUM(E211:E211)","v":111467},{"$f":"SUM(F211:F211)","v":111467}]
["Distco","BPSC","Water ROIC ","fully allocated cost",55404,55404]
["Distco","BPSC","Water Billing costs","fully allocated cost",128936,128936]
[null,null,null,"Sub-Total",{"$f":"SUM(E213:E214)","v":184340},{"$f":"SUM(F213:F214)","v":184340}]
["Distco","BPSC","Pass Through Costs","fully allocated cost",130877,130877]
["Distco","Electek","Pass Through Costs","fully allocated cost",4689,4689]
[null,null,null,"Sub-Total",{"$f":"SUM(E216:E217)","v":135566},{"$f":"SUM(F216:F217)","v":135566}]
["Distco","BPSC","Shared Staff","fully allocated cost",370786,370786]
["Distco","Electek","Shared Staff","fully allocated cost",0,0]
["Distco","BRNI","Shared Staff","fully allocated cost",0,0]
["Distco","BPREI","Shared Staff","fully allocated cost",83400,83400]
[null,null,null,"Sub-Total",{"$f":"SUM(E219:E222)","v":454186},{"$f":"SUM(F219:F222)","v":454186}]
["Total",null,null,null,{"$f":"+E204+E210+E208+E212+E215+E218+E223","v":1109691},{"$f":"+F204+F210+F208+F212+F215+F218+F223","v":1109691}]
[]
["BPSC","Distco","Capital - Other","market value",77891,77891]
["BPSC","Distco","Capital - New Connections","market value",195834,195834]
["BPSC","Distco","Repair & Maintenance Work","market value",143039,143039]
["BPSC","Distco","Pass Through Costs","market value",121467,121467]
["BPSC","Distco","OPA-CDM programs","market value",595915,595915]
[null,null,null,"Sub-Total",{"$f":"SUM(E226:E230)","v":1134146},{"$f":"SUM(F226:F230)","v":1134146}]
["Electek","Distco","Capital","market value",18162,18162]
["Electek","Distco","Repair & Maintenance Work","market value",35125,35125]
["Electek","Distco","Pass Through Costs","market value",980,980]
[null,null,null,"Sub-Total",{"$f":"SUM(E232:E234)","v":54267},{"$f":"SUM(F232:F234)","v":54267}]
["Total",null,null,null,{"$f":"+E231+E235","v":1188413},{"$f":"+F231+F235","v":1188413}]
[]
["Net Total",null,null,null,{"$f":"+E224-E236","v":-78722},{"$f":"+F224-F236","v":-78722}]
[]
["Corporate Cost Allocation"]
[]
["Name of Company",null,"Service Offered","Pricing Methodology","% of Corporate Costs Allocated","Amount Allocated"]
["From","To"]
[null,null,null,null,"%","$"]
["Distco","BPREI","Board of Directors",null,{"$f":"+F245/132247","v":3.3339130566288837E-2},4409]
["Distco","BPSC","Board of Directors",null,{"$f":"+F246/132247","v":1.5395434300967129E-2},2036]
["Distco","Electek","Board of Directors",null,{"$f":"+F247/132247","v":1.138022034526303E-2},1505]
[null,null,null,null,"Total",{"$f":"SUM(F245:F247)","v":7950}]
[]
[]
[]
["Note: "]
[1,"This appendix must be completed in relation to each service provided or received for the Historical (actuals), Bridge and Test years."]
[]
[]
[2,"Distco = Bluewater Power Distribution Corporation"]
[null,"BPSC = Bluewater Power Distribution Corporation"]
[null,"Electek = Electek Power Services Inc."]
[null,"BPREI = Bluewater Power Renewable Energy Inc."]
[null,"Distco - CDM = non-utility CDM program costs"]
[]
[]
[null,null,null,null,null,"File Number:",{"$f":"EBNUMBER","v":"EB-2022-0016"}]
[null,null,null,null,null,"Exhibit:"]
[null,null,null,null,null,"Tab:"]
[null,null,null,null,null,"Schedule:"]
[null,null,null,null,null,"Attachment"]
[]
[null,null,null,null,null,"Date:","2022-10-24"]
[]
["Appendix 2-N"]
["Shared Services and Corporate Cost Allocation"]
[]
[null,"Year:",2015]
[]
["Shared Services"]
[]
["Name of Company",null,"Service Offered","Pricing Methodology","Price for the Service","Cost for the Service"]
["From","To"]
[null,null,null,null,"$","$"]
["Distco","BPREI","management services","fully allocated cost",13916,13916]
["Distco","BPSC","management services","fully allocated cost",108625,108625]
["Distco","Electek","management services","fully allocated cost",62012,62012]
["Distco","USST","management services","fully allocated cost",40000,40000]
[null,null,null,"Sub-Total",{"$f":"SUM(E281:E284)","v":224553},{"$f":"SUM(F281:F284)","v":224553}]
["Distco","BPSC","Fleet ","fully allocated cost",13276,13276]
["Distco","Electek","Fleet ","fully allocated cost",5106,5106]
["Distco","BPREI","Fleet ","fully allocated cost",0,0]
[null,null,null,"Sub-Total",{"$f":"SUM(E286:E288)","v":18382},{"$f":"SUM(F286:F288)","v":18382}]
["Distco","BPSC","building rent","market value",18400,18400]
[null,null,null,"Sub-Total",{"$f":"SUM(E290:E290)","v":18400},{"$f":"SUM(F290:F290)","v":18400}]
["Distco","BPSC","vehicle rental","fully allocated cost",178894,178894]
[null,null,null,"Sub-Total",{"$f":"SUM(E292:E292)","v":178894},{"$f":"SUM(F292:F292)","v":178894}]
["Distco","BPSC","Water ROIC ","fully allocated cost",55404,55404]
["Distco","BPSC","Water Billing costs","fully allocated cost",130153,130153]
[null,null,null,"Sub-Total",{"$f":"SUM(E294:E295)","v":185557},{"$f":"SUM(F294:F295)","v":185557}]
["Distco","BPSC","Pass Through Costs","fully allocated cost",204498,204498]
["Distco","Electek","Pass Through Costs","fully allocated cost",55636,55636]
[null,null,null,"Sub-Total",{"$f":"SUM(E297:E298)","v":260134},{"$f":"SUM(F297:F298)","v":260134}]
["Distco","BPSC","Shared Staff","fully allocated cost",635850,635850]
["Distco","Electek","Shared Staff","fully allocated cost",0,0]
["Distco","BPREI","Shared Staff","fully allocated cost",74369,74369]
[null,null,null,"Sub-Total",{"$f":"SUM(E300:E302)","v":710219},{"$f":"SUM(F300:F302)","v":710219}]
["Total",null,null,null,{"$f":"+E285+E291+E293+E296+E299+E303+E289","v":1596139},{"$f":"+F285+F291+F293+F296+F299+F303+F289","v":1596139}]
[]
["BPSC","Distco","Capital - Other","market value",218737,218737]
["BPSC","Distco","Capital - New Connections","market value",208423,208423]
["BPSC","Distco","Repair & Maintenance Work","market value",124575,124575]
["BPSC","Distco","Pass Through Costs","market value",159295,159295]
["BPSC","Distco","OPA-CDM programs","market value",399989,399989]
[null,null,null,"Sub-Total",{"$f":"SUM(E306:E310)","v":1111019},{"$f":"SUM(F306:F310)","v":1111019}]
["Electek","Distco","Capital","market value",93252,93252]
["Electek","Distco","Repair & Maintenance Work","market value",87528,87528]
["Electek","Distco","Pass Through Costs","market value",3220,3220]
[null,null,null,"Sub-Total",{"$f":"SUM(E312:E314)","v":184000},{"$f":"SUM(F312:F314)","v":184000}]
["Total",null,null,null,{"$f":"+E311+E315","v":1295019},{"$f":"+F311+F315","v":1295019}]
[]
["Net Total",null,null,null,{"$f":"+E304-E316","v":301120},{"$f":"+F304-F316","v":301120}]
[]
["Corporate Cost Allocation"]
[]
["Name of Company",null,"Service Offered","Pricing Methodology","% of Corporate Costs Allocated","Amount Allocated"]
["From","To"]
[null,null,null,null,"%","$"]
["Distco","BPREI","Board of Directors",null,{"$f":"+F325/156258","v":2.8216155332846958E-2},4409]
["Distco","BPSC","Board of Directors",null,{"$f":"+F326/156258","v":1.3029732877676663E-2},2036]
["Distco","Electek","Board of Directors",null,{"$f":"+F327/156258","v":9.6315068668484174E-3},1505]
[null,null,null,null,"Total",{"$f":"SUM(F325:F327)","v":7950}]
[]
[]
[]
["Note: "]
[1,"This appendix must be completed in relation to each service provided or received for the Historical (actuals), Bridge and Test years."]
[]
[]
[2,"Distco = Bluewater Power Distribution Corporation"]
[null,"BPSC = Bluewater Power Distribution Corporation"]
[null,"Electek = Electek Power Services Inc."]
[null,"BPREI = Bluewater Power Renewable Energy Inc."]
[null,"Distco - CDM = non-utility CDM program costs"]
[]
[]
[]
[null,null,null,null,null,"File Number:",{"$f":"EBNUMBER","v":"EB-2022-0016"}]
[null,null,null,null,null,"Exhibit:"]
[null,null,null,null,null,"Tab:"]
[null,null,null,null,null,"Schedule:"]
[null,null,null,null,null,"Attachment"]
[]
[null,null,null,null,null,"Date:","2022-10-24"]
[]
["Appendix 2-N"]
["Shared Services and Corporate Cost Allocation"]
[]
[null,"Year:",2016]
[]
["Shared Services"]
[]
["Name of Company",null,"Service Offered","Pricing Methodology","Price for the Service","Cost for the Service"]
["From","To"]
[null,null,null,null,"$","$"]
["Distco","BPREI","management services","fully allocated cost",17244,17244]
["Distco","BRNI","management services","fully allocated cost",33500,33500]
["Distco","BPSC","management services","fully allocated cost",125581,125581]
["Distco","Electek","management services","fully allocated cost",103020,103020]
["Distco","USST","management services","fully allocated cost",38042,38042]
[null,null,null,"Sub-Total",{"$f":"SUM(E362:E366)","v":317387},{"$f":"SUM(F362:F366)","v":317387}]
["Distco","BPSC","Fleet ","fully allocated cost",14460,14460]
["Distco","Electek","Fleet ","fully allocated cost",5562,5562]
["Distco","BPREI","Fleet ","fully allocated cost",2224,2224]
[null,null,null,"Sub-Total",{"$f":"SUM(E368:E370)","v":22246},{"$f":"SUM(F368:F370)","v":22246}]
["Distco","BRNI","building rent","market value",1159,1159]
["Distco","BPSC","building rent","market value",18122,18122]
[null,null,null,"Sub-Total",{"$f":"SUM(E372:E373)","v":19281},{"$f":"SUM(F372:F373)","v":19281}]
["Distco","BPSC","vehicle rental","fully allocated cost",173761,173761]
[null,null,null,"Sub-Total",{"$f":"SUM(E375:E375)","v":173761},{"$f":"SUM(F375:F375)","v":173761}]
["Distco","BPSC","Water ROIC ","fully allocated cost",55402,55402]
["Distco","BPSC","Water Billing costs","fully allocated cost",161692,161692]
[null,null,null,"Sub-Total",{"$f":"SUM(E377:E378)","v":217094},{"$f":"SUM(F377:F378)","v":217094}]
["Distco","BRNI","Make Ready Work & Joint Pole","fully allocated cost",59183,59183]
["Distco","USST","Pass Through Costs","fully allocated cost",11099,11099]
["Distco","BPSC","Pass Through Costs","fully allocated cost",207378,207378]
["Distco","Electek","Pass Through Costs","fully allocated cost",59736,59736]
[null,null,null,"Sub-Total",{"$f":"SUM(E380:E383)","v":337396},{"$f":"SUM(F380:F383)","v":337396}]
["Distco","BPSC","Shared Staff","fully allocated cost",492981,492981]
["Distco","Electek","Shared Staff","fully allocated cost",0,0]
["Distco","BRNI","Shared Staff","fully allocated cost",17303,17303]
["Distco","BPREI","Shared Staff","fully allocated cost",44047,44047]
[null,null,null,"Sub-Total",{"$f":"SUM(E385:E388)","v":554331},{"$f":"SUM(F385:F388)","v":554331}]
["Total",null,null,null,{"$f":"+E367+E374+E376+E379+E384+E389+E371","v":1641496},{"$f":"+F367+F374+F376+F379+F384+F389+F371","v":1641496}]
[]
["BPSC","Distco","Capital - Other","market value",220941,{"$f":"E392","v":220941}]
["BPSC","Distco","Capital - New Connections","market value",304926,304926]
["BPSC","Distco","Repair & Maintenance Work","market value",139895,139895]
["BPSC","Distco","Pass Through Costs","market value",168419,{"$f":"E395","v":168419}]
["BPSC","Distco","OPA-CDM programs","market value",202231,202231]
[null,null,null,"Sub-Total",{"$f":"SUM(E392:E396)","v":1036412},{"$f":"SUM(F392:F396)","v":1036412}]
["Electek","Distco","Capital","market value",25210,25210]
["Electek","Distco","Repair & Maintenance Work","market value",69145,69145]
["Electek","Distco","Pass Through Costs","market value",0,0]
[null,null,null,"Sub-Total",{"$f":"SUM(E398:E400)","v":94355},{"$f":"SUM(F398:F400)","v":94355}]
["BRNI","Distco","Internet & Dark Fibre","market value",45030,45030]
[null,null,null,"Sub-Total",{"$f":"SUM(E402)","v":45030},{"$f":"SUM(F402)","v":45030}]
["USST","Distco","Capital","market value",69000,69000]
["USST","Distco","Repair & Maintenance Work","market value",860,860]
[null,null,null,"Sub-Total",{"$f":"SUM(E404:E405)","v":69860},{"$f":"SUM(F404:F405)","v":69860}]
["Total",null,null,null,{"$f":"+E397+E401+E403+E406","v":1245657},{"$f":"+F397+F401+F403+F406","v":1245657}]
[]
["Net Total",null,null,null,{"$f":"+E390-E407","v":395839},{"$f":"+F390-F407","v":395839}]
[]
["Corporate Cost Allocation"]
[]
["Name of Company",null,"Service Offered","Pricing Methodology","% of Corporate Costs Allocated","Amount Allocated"]
["From","To"]
[null,null,null,null,"%","$"]
["Distco","USST","Board of Directors",null,{"$f":"+F416/164460","v":1.677003526693421E-2},2758]
["Distco","BRNI","Board of Directors",null,{"$f":"+F417/164460","v":9.1207588471360814E-3},1500]
["Distco","BPREI","Board of Directors",null,{"$f":"+F418/164460","v":8.4215006688556481E-3},1385]
["Distco","BPSC","Board of Directors",null,{"$f":"+F419/164460","v":4.1274474036239815E-2},6788]
["Distco","Electek","Board of Directors",null,{"$f":"+F420/164460","v":4.3730998419068468E-2},7192]
[null,null,null,null,"Total",{"$f":"SUM(F416:F420)","v":19623}]
[]
[]
[]
["Note: "]
[1,"This appendix must be completed in relation to each service provided or received for the Historical (actuals), Bridge and Test years."]
[]
[]
[2,"Distco = Bluewater Power Distribution Corporation"]
[null,"BPSC = Bluewater Power Distribution Corporation"]
[null,"Electek = Electek Power Services Inc."]
[null,"BPREI = Bluewater Power Renewable Energy Inc."]
[null,"Distco - CDM = non-utility CDM program costs"]
[null,"BRNI = Bluewater Regional Networks Inc."]
[]
[]
[]
[null,null,null,null,null,"File Number:",{"$f":"EBNUMBER","v":"EB-2022-0016"}]
[null,null,null,null,null,"Exhibit:"]
[null,null,null,null,null,"Tab:"]
[null,null,null,null,null,"Schedule:"]
[null,null,null,null,null,"Attachment"]
[]
[null,null,null,null,null,"Date:","2022-10-24"]
[]
["Appendix 2-N"]
["Shared Services and Corporate Cost Allocation"]
[]
[null,"Year:",2017]
[]
["Shared Services"]
[]
["Name of Company",null,"Service Offered","Pricing Methodology","Price for the Service","Cost for the Service"]
["From","To"]
[null,null,null,null,"$","$"]
["Distco","BPREI","management services","fully allocated cost",17589,17589]
["Distco","BRNI","management services","fully allocated cost",34170,34170]
["Distco","BPSC","management services","fully allocated cost",128093,128093]
["Distco","Electek","management services","fully allocated cost",105080,105080]
["Distco","USST","management services","fully allocated cost",38803,38803]
[null,null,null,"Sub-Total",{"$f":"SUM(E456:E460)","v":323735},{"$f":"SUM(F456:F460)","v":323735}]
["Distco","BPSC","Fleet ","fully allocated cost",14749,14749]
["Distco","Electek","Fleet ","fully allocated cost",5673,5673]
["Distco","BPREI","Fleet ","fully allocated cost",2268,2268]
[null,null,null,"Sub-Total",{"$f":"SUM(E462:E464)","v":22690},{"$f":"SUM(F462:F464)","v":22690}]
["Distco","BRNI","building rent","market value",2364,2364]
["Distco","BPSC","building rent","market value",18484,18484]
[null,null,null,"Sub-Total",{"$f":"SUM(E466:E467)","v":20848},{"$f":"SUM(F466:F467)","v":20848}]
["Distco","BPSC","vehicle rental","fully allocated cost",121646,121646]
[null,null,null,"Sub-Total",{"$f":"SUM(E469:E469)","v":121646},{"$f":"SUM(F469:F469)","v":121646}]
["Distco","BPSC","Water ROIC ","fully allocated cost",56510,56510]
["Distco","BPSC","Water Billing costs","fully allocated cost",170974,170974]
[null,null,null,"Sub-Total",{"$f":"SUM(E471:E472)","v":227484},{"$f":"SUM(F471:F472)","v":227484}]
["Distco","BRNI","Make Ready Work & Joint Pole","fully allocated cost",108389,108389]
["Distco","BPREI","Pass Through Costs","fully allocated cost",343,343]
["Distco","USST","Pass Through Costs","fully allocated cost",15617,15617]
["Distco","BPSC","Pass Through Costs","fully allocated cost",14248,14248]
["Distco","Electek","Pass Through Costs","fully allocated cost",23208,23208]
[null,null,null,"Sub-Total",{"$f":"SUM(E474:E478)","v":161805},{"$f":"SUM(F474:F478)","v":161805}]
["Distco","BPSC","Shared Staff","fully allocated cost",606934,606934]
["Distco","Electek","Shared Staff","fully allocated cost",67516,67516]
["Distco","BRNI","Shared Staff","fully allocated cost",67818,{"$f":"+E482","v":67818}]
["Distco","BPREI","Shared Staff","fully allocated cost",45635,45635]
[null,null,null,"Sub-Total",{"$f":"SUM(E480:E483)","v":787903},{"$f":"SUM(F480:F483)","v":787903}]
["Total",null,null,null,{"$f":"+E461+E468+E470+E473+E479+E484+E465","v":1666111},{"$f":"+F461+F468+F470+F473+F479+F484+F465","v":1666111}]
[]
["BPSC","Distco","Capital - Other","market value",294024,294024]
["BPSC","Distco","Capital - New Connections","market value",193763,193763]
["BPSC","Distco","Repair & Maintenance Work","market value",216726,216726]
["BPSC","Distco","Pass Through Costs","market value",124812,124812]
["BPSC","Distco","OPA-CDM programs","market value",174225,174225]
[null,null,null,"Sub-Total",{"$f":"SUM(E487:E491)","v":1003550},{"$f":"SUM(F487:F491)","v":1003550}]
["Electek","Distco","Capital","market value",23746,23746]
["Electek","Distco","Repair & Maintenance Work","market value",38593,38593]
["Electek","Distco","Pass Through Costs","market value",0,0]
[null,null,null,"Sub-Total",{"$f":"SUM(E493:E495)","v":62339},{"$f":"SUM(F493:F495)","v":62339}]
["BRNI","Distco","Internet & Dark Fibre","market value",42960,42960]
[null,null,null,"Sub-Total",{"$f":"SUM(E497)","v":42960},{"$f":"SUM(F497)","v":42960}]
["USST","Distco","Repair & Maintenance Work","market value",1146,1146]
[null,null,null,"Sub-Total",{"$f":"SUM(E499)","v":1146},{"$f":"SUM(F499)","v":1146}]
["Total",null,null,null,{"$f":"+E492+E496+E498+E500","v":1109995},{"$f":"+F492+F496+F498+F500","v":1109995}]
[]
["Net Total",null,null,null,{"$f":"+E485-E501","v":556116},{"$f":"+F485-F501","v":556116}]
[]
["Corporate Cost Allocation"]
[]
["Name of Company",null,"Service Offered","Pricing Methodology","% of Corporate Costs Allocated","Amount Allocated"]
["From","To"]
[null,null,null,null,"%","$"]
["Distco","USST","Board of Directors",null,{"$f":"+F510/155318","v":1.8111229863892145E-2},2813]
["Distco","BRNI","Board of Directors",null,{"$f":"+F511/155318","v":9.8507578001261926E-3},1530]
["Distco","BPREI","Board of Directors",null,{"$f":"+F512/155318","v":9.0974645565871301E-3},1413]
["Distco","BPSC","Board of Directors",null,{"$f":"+F513/155318","v":4.4579507848414218E-2},6924]
["Distco","Electek","Board of Directors",null,{"$f":"+F514/155318","v":4.7232130210278271E-2},7336]
[null,null,null,null,"Total",{"$f":"SUM(F510:F514)","v":20016}]
[]
[]
[]
["Note: "]
[1,"This appendix must be completed in relation to each service provided or received for the Historical (actuals), Bridge and Test years."]
[]
[]
[2,"Distco = Bluewater Power Distribution Corporation"]
[null,"BPSC = Bluewater Power Distribution Corporation"]
[null,"Electek = Electek Power Services Inc."]
[null,"BPREI = Bluewater Power Renewable Energy Inc."]
[null,"Distco - CDM = non-utility CDM program costs"]
[null,"BRNI = Bluewater Regional Networks Inc."]
[]
[]
[null,null,null,null,null,"File Number:",{"$f":"EBNUMBER","v":"EB-2022-0016"}]
[null,null,null,null,null,"Exhibit:"]
[null,null,null,null,null,"Tab:"]
[null,null,null,null,null,"Schedule:"]
[null,null,null,null,null,"Attachment"]
[]
[null,null,null,null,null,"Date:","2022-10-24"]
[]
["Appendix 2-N"]
["Shared Services and Corporate Cost Allocation"]
[]
[null,"Year:",2018]
[]
["Shared Services"]
[]
["Name of Company",null,"Service Offered","Pricing Methodology","Price for the Service","Cost for the Service"]
["From","To"]
[null,null,null,null,"$","$"]
["Distco","BPREI","management services","fully allocated cost",17941,17941]
["Distco","BRNI","management services","fully allocated cost",34853,34853]
["Distco","BPSC","management services","fully allocated cost",130655,130655]
["Distco","Electek","management services","fully allocated cost",107182,107182]
["Distco","USST","management services","fully allocated cost",39579,39579]
[null,null,null,"Sub-Total",{"$f":"SUM(E549:E553)","v":330210},{"$f":"SUM(F549:F553)","v":330210}]
["Distco","BPSC","Fleet ","fully allocated cost",15044,15044]
["Distco","Electek","Fleet ","fully allocated cost",5786,5786]
["Distco","BPREI","Fleet ","fully allocated cost",1157,1157]
[null,null,null,"Sub-Total",{"$f":"SUM(E555:E557)","v":21987},{"$f":"SUM(F555:F557)","v":21987}]
["Distco","BRNI","building rent","market value",2412,2412]
["Distco","BPSC","building rent","market value",18856,18856]
[null,null,null,"Sub-Total",{"$f":"SUM(E559:E560)","v":21268},{"$f":"SUM(F559:F560)","v":21268}]
["Distco","BPSC","vehicle rental","fully allocated cost",141467,141467]
[null,null,null,"Sub-Total",{"$f":"SUM(E562:E562)","v":141467},{"$f":"SUM(F562:F562)","v":141467}]
["Distco","BPSC","Water ROIC ","fully allocated cost",57640,57640]
["Distco","BPSC","Water Billing costs","fully allocated cost",174164,174164]
[null,null,null,"Sub-Total",{"$f":"SUM(E564:E565)","v":231804},{"$f":"SUM(F564:F565)","v":231804}]
["Distco","BRNI","Make Ready Work & Joint Pole","fully allocated cost",66843,66843]
["Distco","BPSC","Pass Through Costs","fully allocated cost",19789,19789]
["Distco","Electek","Pass Through Costs","fully allocated cost",41776,41776]
[null,null,null,"Sub-Total",{"$f":"SUM(E567:E569)","v":128408},{"$f":"SUM(F567:F569)","v":128408}]
["Distco","BPSC","Shared Staff","fully allocated cost",592357,592357]
["Distco","Electek","Shared Staff","fully allocated cost",112839,112839]
["Distco","BRNI","Shared Staff","fully allocated cost",10248,{"$f":"+E573","v":10248}]
["Distco","BPREI","Shared Staff","fully allocated cost",16925,16925]
[null,null,null,"Sub-Total",{"$f":"SUM(E571:E574)","v":732369},{"$f":"SUM(F571:F574)","v":732369}]
["Total",null,null,null,{"$f":"+E554+E561+E563+E566+E570+E575+E558","v":1607513},{"$f":"+F554+F561+F563+F566+F570+F575+F558","v":1607513}]
[]
["BPSC","Distco","Capital - Other","market value",244311,244311]
["BPSC","Distco","Capital - New Connections","market value",213769,213769]
["BPSC","Distco","Repair & Maintenance Work","market value",192708,192708]
["BPSC","Distco","Pass Through Costs","market value",93755,93755]
["BPSC","Distco","OPA-CDM programs","market value",139063,139063]
[null,null,null,"Sub-Total",{"$f":"SUM(E578:E582)","v":883606},{"$f":"SUM(F578:F582)","v":883606}]
["Electek","Distco","Capital","market value",30289,30289]
["Electek","Distco","Repair & Maintenance Work","market value",86975,86975]
["Electek","Distco","Pass Through Costs","market value",3220,3220]
[null,null,null,"Sub-Total",{"$f":"SUM(E584:E586)","v":120484},{"$f":"SUM(F584:F586)","v":120484}]
["BRNI","Distco","Internet & Dark Fibre","market value",60787,60787]
["BRNI","Distco","Meter Communications","market value",30040,30040]
[null,null,null,"Sub-Total",{"$f":"SUM(E588:E589)","v":90827},{"$f":"SUM(F588:F589)","v":90827}]
["USST","Distco","Repair & Maintenance Work","market value",1146,1146]
[null,null,null,"Sub-Total",{"$f":"SUM(E591)","v":1146},{"$f":"SUM(F591)","v":1146}]
["Total",null,null,null,{"$f":"+E583+E587+E590+E592","v":1096063},{"$f":"+F583+F587+F590+F592","v":1096063}]
[]
["Net Total",null,null,null,{"$f":"+E576-E593","v":511450},{"$f":"+F576-F593","v":511450}]
[]
["Corporate Cost Allocation"]
[]
["Name of Company",null,"Service Offered","Pricing Methodology","% of Corporate Costs Allocated","Amount Allocated"]
["From","To"]
[null,null,null,null,"%","$"]
["Distco","USST","Board of Directors",null,{"$f":"+F602/157437","v":1.822316228078533E-2},2869]
["Distco","BRNI","Board of Directors",null,{"$f":"+F603/157437","v":9.9150771419678988E-3},1561]
["Distco","BPREI","Board of Directors",null,{"$f":"+F604/157437","v":9.152867496204831E-3},1441]
["Distco","BPSC","Board of Directors",null,{"$f":"+F605/157437","v":4.4856037653156502E-2},7062]
["Distco","Electek","Board of Directors",null,{"$f":"+F606/157437","v":4.7530123160375262E-2},7483]
[null,null,null,null,"Total",{"$f":"SUM(F602:F606)","v":20416}]
[]
[]
[]
["Note: "]
[1,"This appendix must be completed in relation to each service provided or received for the Historical (actuals), Bridge and Test years."]
[]
[]
[2,"Distco = Bluewater Power Distribution Corporation"]
[null,"BPSC = Bluewater Power Distribution Corporation"]
[null,"Electek = Electek Power Services Inc."]
[null,"BPREI = Bluewater Power Renewable Energy Inc."]
[null,"Distco - CDM = non-utility CDM program costs"]
[null,"BRNI = Bluewater Regional Networks Inc."]
[]
[]
[]
[]
[null,null,null,null,null,"File Number:",{"$f":"EBNUMBER","v":"EB-2022-0016"}]
[null,null,null,null,null,"Exhibit:"]
[null,null,null,null,null,"Tab:"]
[null,null,null,null,null,"Schedule:"]
[null,null,null,null,null,"Attachment"]
[]
[null,null,null,null,null,"Date:","2022-10-24"]
[]
["Appendix 2-N"]
["Shared Services and Corporate Cost Allocation"]
[]
[null,"Year:",2019]
[]
["Shared Services"]
[]
["Name of Company",null,"Service Offered","Pricing Methodology","Price for the Service","Cost for the Service"]
["From","To"]
[null,null,null,null,"$","$"]
["Distco","BPREI","management services","fully allocated cost",4750,4750]
["Distco","BRNI","management services","fully allocated cost",35550,35550]
["Distco","BPSC","management services","fully allocated cost",133268,133268]
["Distco","Electek","management services","fully allocated cost",109326,109326]
["Distco","USST","management services","fully allocated cost",40371,40371]
[null,null,null,"Sub-Total",{"$f":"SUM(E643:E647)","v":323265},{"$f":"SUM(F643:F647)","v":323265}]
["Distco","BPSC","Fleet ","fully allocated cost",15345,15345]
["Distco","Electek","Fleet ","fully allocated cost",5902,5902]
["Distco","BPREI","Fleet ","fully allocated cost",0,0]
[null,null,null,"Sub-Total",{"$f":"SUM(E649:E651)","v":21247},{"$f":"SUM(F649:F651)","v":21247}]
["Distco","BRNI","building rent","market value",2460,2460]
["Distco","BPSC","building rent","market value",19233,19233]
[null,null,null,"Sub-Total",{"$f":"SUM(E653:E654)","v":21693},{"$f":"SUM(F653:F654)","v":21693}]
["Distco","BPSC","vehicle rental","fully allocated cost",168209,168209]
[null,null,null,"Sub-Total",{"$f":"SUM(E656:E656)","v":168209},{"$f":"SUM(F656:F656)","v":168209}]
["Distco","BPSC","Water ROIC ","fully allocated cost",58793,58793]
["Distco","BPSC","Water Billing costs","fully allocated cost",167742,167742]
[null,null,null,"Sub-Total",{"$f":"SUM(E658:E659)","v":226535},{"$f":"SUM(F658:F659)","v":226535}]
["Distco","BRNI","Make Ready Work & Joint Pole","fully allocated cost",49797,49797]
["Distco","BPSC","Pass Through Costs","fully allocated cost",15820,15820]
["Distco","Electek","Pass Through Costs","fully allocated cost",99319,99319]
["Distco","BPREI","Pass Through Costs","fully allocated cost",0,0]
[null,null,null,"Sub-Total",{"$f":"SUM(E661:E664)","v":164936},{"$f":"SUM(F661:F664)","v":164936}]
["Distco","BPSC","Shared Staff","fully allocated cost",544066.31999999995,544066.31999999995]
["Distco","Electek","Shared Staff","fully allocated cost",145734.10999999999,145734.10999999999]
["Distco","BRNI","Shared Staff","fully allocated cost",45313,45313]
["Distco","BPREI","Shared Staff","fully allocated cost",3073.85,3073.85]
[null,null,null,"Sub-Total",{"$f":"SUM(E666:E669)","v":738187.27999999991},{"$f":"SUM(F666:F669)","v":738187.27999999991}]
["Total",null,null,null,{"$f":"+E648+E655+E657+E660+E665+E652+E670","v":1664072.2799999998},{"$f":"+F648+F655+F657+F660+F665+F652+F670","v":1664072.2799999998}]
[]
["BPSC","Distco","Capital - Other","market value",350396,350396]
["BPSC","Distco","Capital - New Connections","market value",236525,236525]
["BPSC","Distco","Repair & Maintenance Work","market value",134148,134148]
["BPSC","Distco","Pass Through Costs","market value",87581,87581]
["BPSC","Distco","OPA-CDM programs","market value",329899,329899]
[null,null,null,"Sub-Total",{"$f":"SUM(E673:E677)","v":1138549},{"$f":"SUM(F673:F677)","v":1138549}]
["Electek","Distco","Capital","market value",48048,48048]
["Electek","Distco","Repair & Maintenance Work","market value",184332,184332]
["Electek","Distco","Pass Through Costs","market value",450,450]
[null,null,null,"Sub-Total",{"$f":"SUM(E679:E681)","v":232830},{"$f":"SUM(F679:F681)","v":232830}]
["BRNI","Distco","Internet & Dark Fibre","market value",69013,69013]
["BRNI","Distco","Meter Communications","market value",90343,90343]
[null,null,null,"Sub-Total",{"$f":"SUM(E683:E684)","v":159356},{"$f":"SUM(F683:F684)","v":159356}]
["USST","Distco","Repair & Maintenance Work","market value",1146,1146]
[null,null,null,"Sub-Total",{"$f":"+E686","v":1146},{"$f":"+F686","v":1146}]
["Total",null,null,null,{"$f":"+E678+E682+E685+E687","v":1531881},{"$f":"+F678+F682+F685+F687","v":1531881}]
[]
["Net Total",null,null,null,{"$f":"+E671-E688","v":132191.2799999998},{"$f":"+F671-F688","v":132191.2799999998}]
[]
["Corporate Cost Allocation"]
[]
["Name of Company",null,"Service Offered","Pricing Methodology","% of Corporate Costs Allocated","Amount Allocated"]
["From","To"]
[null,null,null,null,"%","$"]
["Distco","USST","Board of Directors",null,{"$f":"+F697/173158","v":1.6897862068168956E-2},2926]
["Distco","BRNI","Board of Directors",null,{"$f":"+F698/173158","v":9.1939153836380644E-3},1592]
["Distco","BPREI","Board of Directors",null,{"$f":"+F699/173158","v":1.4437681192898972E-3},250]
["Distco","BPSC","Board of Directors",null,{"$f":"+F700/173158","v":4.1597847052980516E-2},7203]
["Distco","Electek","Board of Directors",null,{"$f":"+F701/173158","v":4.4081128218159141E-2},7633]
[null,null,null,null,"Total",{"$f":"SUM(F697:F701)","v":19604}]
[]
[]
[]
["Note: "]
[1,"This appendix must be completed in relation to each service provided or received for the Historical (actuals), Bridge and Test years."]
[]
[]
[2,"Distco = Bluewater Power Distribution Corporation"]
[null,"BPSC = Bluewater Power Distribution Corporation"]
[null,"Electek = Electek Power Services Inc."]
[null,"BPREI = Bluewater Power Renewable Energy Inc."]
[null,"Distco - CDM = non-utility CDM program costs"]
[null,"BRNI = Bluewater Regional Networks Inc."]
[]
[]
[null,null,null,null,null,"File Number:",{"$f":"EBNUMBER","v":"EB-2022-0016"}]
[null,null,null,null,null,"Exhibit:"]
[null,null,null,null,null,"Tab:"]
[null,null,null,null,null,"Schedule:"]
[null,null,null,null,null,"Attachment"]
[]
[null,null,null,null,null,"Date:","2022-10-24"]
[]
["Appendix 2-N"]
["Shared Services and Corporate Cost Allocation"]
[]
[null,"Year:",2020]
[]
["Shared Services"]
[]
["Name of Company",null,"Service Offered","Pricing Methodology","Price for the Service","Cost for the Service"]
["From","To"]
[null,null,null,null,"$","$"]
["Distco","BPREI","management services","fully allocated cost",4750,4750]
["Distco","BRNI","management services","fully allocated cost",36261,36261]
["Distco","BPSC","management services","fully allocated cost",135933,135933]
["Distco","Electek","management services","fully allocated cost",111513,111513]
["Distco","USST","management services","fully allocated cost",27453,27453]
[null,null,null,"Sub-Total",{"$f":"SUM(E736:E740)","v":315910},{"$f":"SUM(F736:F740)","v":315910}]
["Distco","BPSC","Fleet ","fully allocated cost",15652,15652]
["Distco","Electek","Fleet ","fully allocated cost",6020,6020]
["Distco","BPREI","Fleet ","fully allocated cost",0,0]
[null,null,null,"Sub-Total",{"$f":"SUM(E742:E744)","v":21672},{"$f":"SUM(F742:F744)","v":21672}]
["Distco","BRNI","building rent","market value",2509,2509]
["Distco","BPSC","building rent","market value",19619,19619]
[null,null,null,"Sub-Total",{"$f":"SUM(E746:E747)","v":22128},{"$f":"SUM(F746:F747)","v":22128}]
["Distco","BPSC","vehicle rental","fully allocated cost",112835,112835]
[null,null,null,"Sub-Total",{"$f":"SUM(E749:E749)","v":112835},{"$f":"SUM(F749:F749)","v":112835}]
["Distco","BPSC","Water ROIC ","fully allocated cost",59969,59969]
["Distco","BPSC","Water Billing costs","fully allocated cost",171127,171127]
[null,null,null,"Sub-Total",{"$f":"SUM(E751:E752)","v":231096},{"$f":"SUM(F751:F752)","v":231096}]
["Distco","BRNI","Make Ready Work & Joint Pole","fully allocated cost",61349,61349]
["Distco","BPSC","Pass Through Costs","fully allocated cost",13037,13037]
["Distco","Electek","Pass Through Costs","fully allocated cost",120095,120095]
["Distco","BPREI","Pass Through Costs","fully allocated cost",0,0]
[null,null,null,"Sub-Total",{"$f":"SUM(E754:E757)","v":194481},{"$f":"SUM(F754:F757)","v":194481}]
["Distco","BPSC","Shared Staff","fully allocated cost",471435,471435]
["Distco","Electek","Shared Staff","fully allocated cost",184901,184901]
["Distco","BRNI","Shared Staff","fully allocated cost",90027,90027]
["Distco","BPREI","Shared Staff","fully allocated cost",null,0]
[null,null,null,"Sub-Total",{"$f":"SUM(E759:E762)","v":746363},{"$f":"SUM(F759:F762)","v":746363}]
["Total",null,null,null,{"$f":"+E741+E748+E750+E753+E758+E745+E763","v":1644485},{"$f":"+F741+F748+F750+F753+F758+F745+F763","v":1644485}]
[]
["BPSC","Distco","Capital - Other","market value",341215,341215]
["BPSC","Distco","Capital - New Connections","market value",165301,165301]
["BPSC","Distco","Repair & Maintenance Work","market value",128568,128568]
["BPSC","Distco","Pass Through Costs","market value",342739,342739]
["BPSC","Distco","OPA-CDM programs","market value",191714,191714]
[null,null,null,"Sub-Total",{"$f":"SUM(E766:E770)","v":1169537},{"$f":"SUM(F766:F770)","v":1169537}]
["Electek","Distco","Capital","market value",89403,89403]
["Electek","Distco","Repair & Maintenance Work","market value",148043,148043]
["Electek","Distco","Pass Through Costs","market value",3480,3480]
[null,null,null,"Sub-Total",{"$f":"SUM(E772:E774)","v":240926},{"$f":"SUM(F772:F774)","v":240926}]
["BRNI","Distco","Internet & Dark Fibre","market value",72360,72360]
["BRNI","Distco","Meter Communications","market value",113760,113760]
[null,null,null,"Sub-Total",{"$f":"SUM(E776:E777)","v":186120},{"$f":"SUM(F776:F777)","v":186120}]
["USST","Distco","Repair & Maintenance Work","market value",0,0]
[null,null,null,"Sub-Total",{"$f":"+E779","v":0},{"$f":"+F779","v":0}]
["Total",null,null,null,{"$f":"+E771+E775+E778+E780","v":1596583},{"$f":"+F771+F775+F778+F780","v":1596583}]
[]
["Net Total",null,null,null,{"$f":"+E764-E781","v":47902},{"$f":"+F764-F781","v":47902}]
[]
["Corporate Cost Allocation"]
[]
["Name of Company",null,"Service Offered","Pricing Methodology","% of Corporate Costs Allocated","Amount Allocated"]
["From","To"]
[null,null,null,null,"%","$"]
["Distco","USST","Board of Directors",null,{"$f":"+F790/174590","v":1.1398132768199782E-2},1990]
["Distco","BRNI","Board of Directors",null,{"$f":"+F791/174590","v":9.3017927716364055E-3},1624]
["Distco","BPREI","Board of Directors",null,{"$f":"+F792/174590","v":1.4319262271607768E-3},250]
["Distco","BPSC","Board of Directors",null,{"$f":"+F793/174590","v":4.2081447963800908E-2},7347]
["Distco","Electek","Board of Directors",null,{"$f":"+F794/174590","v":4.4595910418695227E-2},7786]
[null,null,null,null,"Total",{"$f":"SUM(F790:F794)","v":18997}]
[]
[]
[]
["Note: "]
[1,"This appendix must be completed in relation to each service provided or received for the Historical (actuals), Bridge and Test years."]
[]
[]
[2,"Distco = Bluewater Power Distribution Corporation"]
[null,"BPSC = Bluewater Power Distribution Corporation"]
[null,"Electek = Electek Power Services Inc."]
[null,"BPREI = Bluewater Power Renewable Energy Inc."]
[null,"Distco - CDM = non-utility CDM program costs"]
[null,"BRNI = Bluewater Regional Networks Inc."]
[]
[]
[]
[null,null,null,null,null,"File Number:",{"$f":"EBNUMBER","v":"EB-2022-0016"}]
[null,null,null,null,null,"Exhibit:"]
[null,null,null,null,null,"Tab:"]
[null,null,null,null,null,"Schedule:"]
[null,null,null,null,null,"Attachment"]
[]
[null,null,null,null,null,"Date:","2022-10-24"]
[]
["Appendix 2-N"]
["Shared Services and Corporate Cost Allocation"]
[]
[null,"Year:",2021]
[]
["Shared Services"]
[]
["Name of Company",null,"Service Offered","Pricing Methodology","Price for the Service","Cost for the Service"]
["From","To"]
[null,null,null,null,"$","$"]
["Distco","BPREI","management services","fully allocated cost",4750,4750]
["Distco","BRNI","management services","fully allocated cost",36986,36986]
["Distco","BPSC","management services","fully allocated cost",138652,138652]
["Distco","Electek","management services","fully allocated cost",136693,136693]
["Distco","USST","management services","fully allocated cost",0,0]
[null,null,null,"Sub-Total",{"$f":"SUM(E830:E834)","v":317081},{"$f":"SUM(F830:F834)","v":317081}]
["Distco","BPSC","Fleet ","fully allocated cost",15965,15965]
["Distco","Electek","Fleet ","fully allocated cost",6140,6140]
["Distco","BPREI","Fleet ","fully allocated cost",0,0]
[null,null,null,"Sub-Total",{"$f":"SUM(E836:E838)","v":22105},{"$f":"SUM(F836:F838)","v":22105}]
["Distco","BRNI","building rent","market value",2559,2559]
["Distco","BPSC","building rent","market value",20011,20011]
[null,null,null,"Sub-Total",{"$f":"SUM(E840:E841)","v":22570},{"$f":"SUM(F840:F841)","v":22570}]
["Distco","BPSC","vehicle rental","fully allocated cost",90945,90945]
[null,null,null,"Sub-Total",{"$f":"SUM(E843:E843)","v":90945},{"$f":"SUM(F843:F843)","v":90945}]
["Distco","BPSC","Water ROIC ","fully allocated cost",61167,61167]
["Distco","BPSC","Water Billing costs","fully allocated cost",174550,174550]
[null,null,null,"Sub-Total",{"$f":"SUM(E845:E846)","v":235717},{"$f":"SUM(F845:F846)","v":235717}]
["Distco","BPSC","Pass Through Costs","fully allocated cost",11304,11304]
["Distco","Electek","Pass Through Costs","fully allocated cost",115858,115858]
["Distco","BRNI","Make Ready Work & Joint Pole","fully allocated cost",33864,33864]
[null,null,null,"Sub-Total",{"$f":"SUM(E848:E850)","v":161026},{"$f":"SUM(F848:F850)","v":161026}]
["Distco","BPSC","Shared Staff","fully allocated cost",504819,504819]
["Distco","Electek","Shared Staff","fully allocated cost",113650,113650]
["Distco","BRNI","Shared Staff","fully allocated cost",50916,50916]
["Distco","BPREI","Shared Staff","fully allocated cost",0,0]
[null,null,null,"Sub-Total",{"$f":"SUM(E852:E855)","v":669385},{"$f":"SUM(F852:F855)","v":669385}]
["Total",null,null,null,{"$f":"+E835+E842+E844+E847+E851+E839+E856","v":1518829},{"$f":"+F835+F842+F844+F847+F851+F839+F856","v":1518829}]
[]
["BPSC","Distco","Capital - Other","market value",276401,276401]
["BPSC","Distco","Capital - New Connections","market value",326635,326635]
["BPSC","Distco","Repair & Maintenance Work","market value",97279,97279]
["BPSC","Distco","Pass Through Costs","market value",159075,159075]
["BPSC","Distco","OPA-CDM programs","market value",0,0]
[null,null,null,"Sub-Total",{"$f":"SUM(E859:E863)","v":859390},{"$f":"SUM(F859:F863)","v":859390}]
["Electek","Distco","Capital","market value",75432,75432]
["Electek","Distco","Repair & Maintenance Work","market value",116657,116657]
["Electek","Distco","Pass Through Costs","market value",13014,13014]
[null,null,null,"Sub-Total",{"$f":"SUM(E865:E867)","v":205103},{"$f":"SUM(F865:F867)","v":205103}]
["BRNI","Distco","Internet & Dark Fibre","market value",69345,69345]
["BRNI","Distco","Meter Communications","market value",109020,109020]
[null,null,null,"Sub-Total",{"$f":"SUM(E869:E870)","v":178365},{"$f":"SUM(F869:F870)","v":178365}]
["USST","Distco","Repair & Maintenance Work","market value"]
[null,null,null,"Sub-Total",{"$f":"+E872","v":0},{"$f":"+F872","v":0}]
["Total",null,null,null,{"$f":"+E864+E868+E871+E873","v":1242858},{"$f":"+F864+F868+F871+F873","v":1242858}]
[]
["Net Total",null,null,null,{"$f":"+E857-E874","v":275971},{"$f":"+F857-F874","v":275971}]
[]
["Corporate Cost Allocation"]
[]
["Name of Company",null,"Service Offered","Pricing Methodology","% of Corporate Costs Allocated","Amount Allocated"]
["From","To"]
[null,null,null,null,"%","$"]
["Distco","USST","Board of Directors",null,{"$f":"+F883/167976","v":0},0]
["Distco","BRNI","Board of Directors",null,{"$f":"+F884/167976","v":9.8585512216030867E-3},1656]
["Distco","BPREI","Board of Directors",null,{"$f":"+F885/167976","v":1.4883078535028813E-3},250]
["Distco","BPSC","Board of Directors",null,{"$f":"+F886/167976","v":4.4613516216602374E-2},7494]
["Distco","Electek","Board of Directors",null,{"$f":"+F887/167976","v":4.7280563890079536E-2},7942]
[null,null,null,null,"Total",{"$f":"SUM(F883:F887)","v":17342}]
[]
[]
[]
["Note: "]
[1,"This appendix must be completed in relation to each service provided or received for the Historical (actuals), Bridge and Test years."]
[]
[]
[2,"Distco = Bluewater Power Distribution Corporation"]
[null,"BPSC = Bluewater Power Distribution Corporation"]
[null,"Electek = Electek Power Services Inc."]
[null,"BPREI = Bluewater Power Renewable Energy Inc."]
[null,"Distco - CDM = non-utility CDM program costs"]
[null,"BRNI = Bluewater Regional Networks Inc."]
[]
[]
[null,null,null,null,null,"File Number:",{"$f":"EBNUMBER","v":"EB-2022-0016"}]
[null,null,null,null,null,"Exhibit:"]
[null,null,null,null,null,"Tab:"]
[null,null,null,null,null,"Schedule:"]
[null,null,null,null,null,"Attachment"]
[]
[null,null,null,null,null,"Date:","2023-02-13"]
[]
["Appendix 2-N"]
["Shared Services and Corporate Cost Allocation"]
[]
[null,"Year:",2022]
[]
["Shared Services"]
[null,null,null,null,"2022 Actual"]
["Name of Company",null,"Service Offered","Pricing Methodology","Price for the Service","Cost for the Service"]
["From","To"]
[null,null,null,null,"$","$"]
["Distco","BPREI","management services","fully allocated cost",4750,4750]
["Distco","BRNI","management services","fully allocated cost",37726,37726]
["Distco","BPSC","management services","fully allocated cost",141425,141425]
["Distco","Electek","management services","fully allocated cost",116018,116018]
["Distco","USST","management services","fully allocated cost",0,0]
[null,null,null,"Sub-Total",{"$f":"SUM(E922:E926)","v":299919},{"$f":"SUM(F922:F926)","v":299919}]
["Distco","BPSC","Fleet ","fully allocated cost",16284,16284]
["Distco","Electek","Fleet ","fully allocated cost",6263,6263]
["Distco","BPREI","Fleet ","fully allocated cost",null,0]
[null,null,null,"Sub-Total",{"$f":"SUM(E928:E930)","v":22547},{"$f":"SUM(F928:F930)","v":22547}]
["Distco","BRNI","building rent","market value",2610,2610]
["Distco","BPSC","building rent","market value",20412,20412]
[null,null,null,"Sub-Total",{"$f":"SUM(E932:E933)","v":23022},{"$f":"SUM(F932:F933)","v":23022}]
["Distco","BPSC","vehicle rental","fully allocated cost",127250,127250]
[null,null,null,"Sub-Total",{"$f":"SUM(E935:E935)","v":127250},{"$f":"SUM(F935:F935)","v":127250}]
["Distco","BPSC","Water ROIC ","fully allocated cost",62391,62391]
["Distco","BPSC","Water Billing costs","fully allocated cost",178040,178040]
[null,null,null,"Sub-Total",{"$f":"SUM(E937:E938)","v":240431},{"$f":"SUM(F937:F938)","v":240431}]
["Distco","BPSC","Pass Through Costs","fully allocated cost",7855,7855]
["Distco","Electek","Pass Through Costs","fully allocated cost",144518,144518]
["Distco","BRNI","Make Ready Work & Joint Pole","fully allocated cost",33948,33948]
[null,null,null,"Sub-Total",{"$f":"SUM(E940:E942)","v":186321},{"$f":"SUM(F940:F942)","v":186321}]
["Distco","BPSC","Shared Staff","fully allocated cost",617493,617493]
["Distco","Electek","Shared Staff","fully allocated cost",117087,117087]
["Distco","BRNI","Shared Staff","fully allocated cost",52000,52000]
["Distco","BPREI","Shared Staff","fully allocated cost",0,0]
[null,null,null,"Sub-Total",{"$f":"SUM(E944:E947)","v":786580},{"$f":"SUM(F944:F947)","v":786580}]
["Total",null,null,null,{"$f":"+E927+E934+E936+E939+E943+E931+E948","v":1686070},{"$f":"+F927+F934+F936+F939+F943+F931+F948","v":1686070}]
[]
["BPSC","Distco","Capital - Other","market value",385793,385793]
["BPSC","Distco","Capital - New Connections","market value",445306,445306]
["BPSC","Distco","Repair & Maintenance Work","market value",122933,122933]
["BPSC","Distco","Pass Through Costs","market value",421997,421997]
["BPSC","Distco","OPA-CDM programs","market value",0,0]
[null,null,null,"Sub-Total",{"$f":"SUM(E951:E955)","v":1376029},{"$f":"SUM(F951:F955)","v":1376029}]
["Electek","Distco","Capital","market value",133450,133450]
["Electek","Distco","Repair & Maintenance Work","market value",26730,26730]
["Electek","Distco","Pass Through Costs","market value",10030,10030]
[null,null,null,"Sub-Total",{"$f":"SUM(E957:E959)","v":170210},{"$f":"SUM(F957:F959)","v":170210}]
["BRNI","Distco","Internet & Dark Fibre","market value",72360,72360]
["BRNI","Distco","Meter Communications","market value",113760,113760]
[null,null,null,"Sub-Total",{"$f":"SUM(E961:E962)","v":186120},{"$f":"SUM(F961:F962)","v":186120}]
["USST","Distco","Repair & Maintenance Work","market value"]
[null,null,null,"Sub-Total",{"$f":"+E964","v":0},{"$f":"+F964","v":0}]
["Total",null,null,null,{"$f":"+E956+E960+E963+E965","v":1732359},{"$f":"+F956+F960+F963+F965","v":1732359}]
[]
["Net Total",null,null,null,{"$f":"+E949-E966","v":-46289},{"$f":"+F949-F966","v":-46289}]
[]
["Corporate Cost Allocation"]
[]
["Name of Company",null,"Service Offered","Pricing Methodology","% of Corporate Costs Allocated","Amount Allocated"]
["From","To"]
[null,null,null,null,"%","$"]
["Distco","USST","Board of Directors",null,{"$f":"+F975/177174","v":0},0]
["Distco","BRNI","Board of Directors",null,{"$f":"+F976/177174","v":9.5330014561956049E-3},1689]
["Distco","BPREI","Board of Directors",null,{"$f":"+F977/177174","v":1.4110422522492013E-3},250]
["Distco","BPSC","Board of Directors",null,{"$f":"+F978/177174","v":4.3144027904771579E-2},7644]
["Distco","Electek","Board of Directors",null,{"$f":"+F979/177174","v":4.5723413141883121E-2},8101]
[null,null,null,null,"Total",{"$f":"SUM(F975:F979)","v":17684}]
[]
[]
[]
["Note: "]
[1,"This appendix must be completed in relation to each service provided or received for the Historical (actuals), Bridge and Test years."]
[]
[]
[2,"Distco = Bluewater Power Distribution Corporation"]
[null,"BPSC = Bluewater Power Distribution Corporation"]
[null,"Electek = Electek Power Services Inc."]
[null,"BPREI = Bluewater Power Renewable Energy Inc."]
[null,"Distco - CDM = non-utility CDM program costs"]
[null,"BRNI = Bluewater Regional Networks Inc."]
[]
[]
[null,null,null,null,null,"File Number:",{"$f":"EBNUMBER","v":"EB-2022-0016"}]
[null,null,null,null,null,"Exhibit:"]
[null,null,null,null,null,"Tab:"]
[null,null,null,null,null,"Schedule:"]
[null,null,null,null,null,"Attachment"]
[]
[null,null,null,null,null,"Date:","2022-10-24"]
[]
["Appendix 2-N"]
["Shared Services and Corporate Cost Allocation"]
[]
[null,"Year:",2023]
[]
["Shared Services"]
[]
["Name of Company",null,"Service Offered","Pricing Methodology","Price for the Service","Cost for the Service"]
["From","To"]
[null,null,null,null,"$","$"]
["Distco","BPREI","management services","fully allocated cost",4845,4845]
["Distco","BRNI","management services","fully allocated cost",52480.520000000004,52480.520000000004]
["Distco","BPSC","management services","fully allocated cost",158253.5,158253.5]
["Distco","Electek","management services","fully allocated cost",160338.35999999999,160338.35999999999]
["Distco","USST","management services","fully allocated cost",0,0]
[null,null,null,"Sub-Total",{"$f":"SUM(E1014:E1018)","v":375917.38},{"$f":"SUM(F1014:F1018)","v":375917.38}]
["Distco","BPSC","Fleet ","fully allocated cost",16609.68,16609.68]
["Distco","Electek","Fleet ","fully allocated cost",6388.26,6388.26]
["Distco","BPREI","Fleet ","fully allocated cost",0,0]
[null,null,null,"Sub-Total",{"$f":"SUM(E1020:E1022)","v":22997.940000000002},{"$f":"SUM(F1020:F1022)","v":22997.940000000002}]
["Distco","BRNI","building rent","market value",2662.2000000000003,2662.2000000000003]
["Distco","BPSC","building rent","market value",20820.240000000002,20820.240000000002]
[null,null,null,"Sub-Total",{"$f":"SUM(E1024:E1025)","v":23482.440000000002},{"$f":"SUM(F1024:F1025)","v":23482.440000000002}]
["Distco","BPSC","vehicle rental","fully allocated cost",90000,90000]
[null,null,null,"Sub-Total",{"$f":"SUM(E1027:E1027)","v":90000},{"$f":"SUM(F1027:F1027)","v":90000}]
["Distco","BPSC","Water ROIC ","fully allocated cost",63638.82,63638.82]
["Distco","BPSC","Water Billing costs","fully allocated cost",181600.80000000002,181600.80000000002]
[null,null,null,"Sub-Total",{"$f":"SUM(E1029:E1030)","v":245239.62000000002},{"$f":"SUM(F1029:F1030)","v":245239.62000000002}]
["Distco","BPSC","Pass Through Costs","fully allocated cost",7961.7950442477886,7961.7950442477886]
["Distco","Electek","Pass Through Costs","fully allocated cost",87871.441938053089,87871.441938053089]
["Distco","BRNI","Make Ready Work & Joint Pole","fully allocated cost",27244,27244]
[null,null,null,"Sub-Total",{"$f":"SUM(E1032:E1034)","v":123077.23698230088},{"$f":"SUM(F1032:F1034)","v":123077.23698230088}]
["Distco","BPSC","Shared Staff","fully allocated cost",550673,550673]
["Distco","Electek","Shared Staff","fully allocated cost",null,0]
["Distco","BRNI","Shared Staff","fully allocated cost",53000,53000]
["Distco","BPREI","Shared Staff","fully allocated cost",0,0]
[null,null,null,"Sub-Total",{"$f":"SUM(E1036:E1039)","v":603673},{"$f":"SUM(F1036:F1039)","v":603673}]
["Total",null,null,null,{"$f":"+E1019+E1026+E1028+E1031+E1035+E1023+E1040","v":1484387.616982301},{"$f":"+F1019+F1026+F1028+F1031+F1035+F1023+F1040","v":1484387.616982301}]
[]
["BPSC","Distco","Capital - Other","market value",315156.6726000004,315156.6726000004]
["BPSC","Distco","Capital - New Connections","market value",247332.92429999993,247332.92429999993]
["BPSC","Distco","Repair & Maintenance Work","market value",133981.15500000003,133981.15500000003]
["BPSC","Distco","Pass Through Costs","market value",186107.37599999993,186107.37599999993]
["BPSC","Distco","OPA-CDM programs","market value",0,0]
[null,null,null,"Sub-Total",{"$f":"SUM(E1043:E1047)","v":882578.12790000031},{"$f":"SUM(F1043:F1047)","v":882578.12790000031}]
["Electek","Distco","Capital","market value",79946.811000000016,79946.811000000016]
["Electek","Distco","Repair & Maintenance Work","market value",121327.5,121327.5]
["Electek","Distco","Pass Through Costs","market value",4284,4284]
[null,null,null,"Sub-Total",{"$f":"SUM(E1049:E1051)","v":205558.31100000002},{"$f":"SUM(F1049:F1051)","v":205558.31100000002}]
["BRNI","Distco","Internet & Dark Fibre","market value",75254.400000000009,75254.400000000009]
["BRNI","Distco","Meter Communications","market value",115200,115200]
[null,null,null,"Sub-Total",{"$f":"SUM(E1053:E1054)","v":190454.40000000002},{"$f":"SUM(F1053:F1054)","v":190454.40000000002}]
["USST","Distco","Repair & Maintenance Work","market value"]
[null,null,null,"Sub-Total",{"$f":"+E1056","v":0},{"$f":"+F1056","v":0}]
["Total",null,null,null,{"$f":"+E1048+E1052+E1055+E1057","v":1278590.8389000003},{"$f":"+F1048+F1052+F1055+F1057","v":1278590.8389000003}]
[]
["Net Total",null,null,null,{"$f":"+E1041-E1058","v":205796.77808230068},{"$f":"+F1041-F1058","v":205796.77808230068}]
[]
["Corporate Cost Allocation"]
[]
["Name of Company",null,"Service Offered","Pricing Methodology","% of Corporate Costs Allocated","Amount Allocated"]
["From","To"]
[null,null,null,null,"%","$"]
["Distco","USST","Board of Directors",null,{"$f":"+F1067/184250","v":0},0]
["Distco","BRNI","Board of Directors",null,{"$f":"+F1068/184250","v":9.3502306648575312E-3},{"$f":"1689*1.02","v":1722.78}]
["Distco","BPREI","Board of Directors",null,{"$f":"+F1069/184250","v":1.3568521031207597E-3},250]
["Distco","BPSC","Board of Directors",null,{"$f":"+F1070/184250","v":4.2316852103120757E-2},{"$f":"7644*1.02","v":7796.88}]
["Distco","Electek","Board of Directors",null,{"$f":"+F1071/184250","v":4.4846784260515603E-2},{"$f":"8101*1.02","v":8263.02}]
[null,null,null,null,"Total",{"$f":"SUM(F1067:F1071)","v":18032.68}]
[]
[]
[]
["Note: "]
[1,"This appendix must be completed in relation to each service provided or received for the Historical (actuals), Bridge and Test years."]
[]
[]
[2,"Distco = Bluewater Power Distribution Corporation"]
[null,"BPSC = Bluewater Power Distribution Corporation"]
[null,"Electek = Electek Power Services Inc."]
[null,"BPREI = Bluewater Power Renewable Energy Inc."]
[null,"Distco - CDM = non-utility CDM program costs"]
[null,"BRNI = Bluewater Regional Networks Inc."]

{"sheet":"App.2-OA Capital Structure","index":52,"n_rows":65,"n_cols":15,"rows_kept":65,"cut":false,"hidden":false,"merged":[[44,7,44,9],[9,2,9,14],[10,2,10,14],[16,0,17,0],[17,4,17,8],[14,7,14,9],[40,2,40,14],[12,0,12,14],[34,2,34,14],[35,2,35,14],[36,2,36,14],[37,2,37,14],[38,2,38,14],[39,2,39,14],[33,0,33,14],[46,0,47,0],[47,4,47,8],[63,0,63,14],[64,2,64,14],[70,2,70,14],[65,2,65,14],[66,2,66,14],[67,2,67,14],[68,2,68,14],[69,2,69,14]]}
[null,null,null,null,null,null,null,null,null,null,"File Number:",null,null,null,{"$f":"EBNUMBER","v":"EB-2022-0016"}]
[null,null,null,null,null,null,null,null,null,null,"Exhibit:"]
[null,null,null,null,null,null,null,null,null,null,"Tab:"]
[null,null,null,null,null,null,null,null,null,null,"Schedule:"]
[null,null,null,null,null,null,null,null,null,null,"Page:"]
[]
[null,null,null,null,null,null,null,null,null,null,"Date:",null,null,null,"2023-02-13"]
[]
[]
[null,null,"Appendix 2-OA"]
[null,null,"Capital Structure and Cost of Capital"]
[]
["This table must be completed for the last OEB-approved year and the test year."]
[]
[null,null,null,null,null,null,"Test Year:",2023]
[]
["Line No."]
[null,null,"Particulars",null,"Capitalization Ratio",null,null,null,null,null,"Cost Rate",null,null,null,"Return"]
[]
[null,null,null,null,"(%)",null,null,null,"($)",null,"(%)",null,null,null,"($)"]
[null,null,"Debt"]
[1,null,"  Long-term Debt",null,0.56000000000000005,null,null,null,{"$f":"$I$31*E22","v":54532612.582379743},null,{"$f":"+'App.2-OB_Debt Instruments'!I238","v":5.2774698617649017E-2},null,null,null,{"$f":"K22*I22","v":2877942.1938681058}]
[2,null,"  Short-term Debt",null,0.04,null,"(1)",null,{"$f":"$I$31*E23","v":3895186.6130271247},null,4.7899999999999998E-2,null,null,null,{"$f":"K23*I23","v":186579.43876399926}]
[3,null,"Total Debt",null,{"$f":"SUM(E22:E23)","v":0.60000000000000009},null,null,null,{"$f":"SUM(I22:I23)","v":58427799.195406869},null,{"$f":"IF(E24=0,0,SUMPRODUCT(E22:E23,K22:K23)/E24)","v":5.2449718709805748E-2},null,null,null,{"$f":"SUM(O22:O23)","v":3064521.6326321051}]
[]
[null,null,"Equity"]
[4,null,"  Common Equity",null,0.4,null,null,null,{"$f":"$I$31*E27","v":38951866.130271249},null,9.3600000000000003E-2,null,null,null,{"$f":"K27*I27","v":3645894.6697933888}]
[5,null,"  Preferred Shares",null,null,null,null,null,{"$f":"$I$31*E28","v":0},null,null,null,null,null,{"$f":"K28*I28","v":0}]
[6,null,"Total Equity",null,{"$f":"SUM(E27:E28)","v":0.4},null,null,null,{"$f":"SUM(I27:I28)","v":38951866.130271249},null,{"$f":"IF(E29=0,0,SUMPRODUCT(E27:E28,K27:K28)/E29)","v":9.3600000000000003E-2},null,null,null,{"$f":"SUM(O27:O28)","v":3645894.6697933888}]
[]
[7,null,"Total",null,1,null,null,null,97379665.32567811,null,{"$f":"(K24*E24)+(K29*E29)","v":6.8909831225883456E-2},null,null,null,{"$f":"O24+O29","v":6710416.3024254944}]
[]
[]
["Notes"]
["(1)",null,"4.0% unless an applicant has proposed or been approved for a different amount."]
[]
[]
[]
[]
[]
[]
[]
[]
[]
[null,null,null,null,null,null,"Last OEB-approved year:",2013]
[]
["Line No."]
[null,null,"Particulars",null,"Capitalization Ratio",null,null,null,null,null,"Cost Rate",null,null,null,"Return"]
[]
[null,null,null,null,"(%)",null,null,null,"($)",null,"(%)",null,null,null,"($)"]
[null,null,"Debt"]
[1,null,"  Long-term Debt",null,0.56000000000000005,null,null,null,{"$f":"$I$61*E52","v":36662517.920000002},null,3.9390930930598839E-2,null,null,null,{"$f":"K52*I52","v":1444170.7111285622}]
[2,null,"  Short-term Debt",null,0.04,null,"(1)",null,{"$f":"$I$61*E53","v":2618751.2800000003},null,2.07E-2,null,null,null,{"$f":"K53*I53","v":54208.151496000006}]
[3,null,"Total Debt",null,{"$f":"SUM(E52:E53)","v":0.60000000000000009},null,null,null,{"$f":"SUM(I52:I53)","v":39281269.200000003},null,{"$f":"IF(E54=0,0,SUMPRODUCT(E52:E53,K52:K53)/E54)","v":3.8144868868558918E-2},null,null,null,{"$f":"SUM(O52:O53)","v":1498378.8626245623}]
[]
[null,null,"Equity"]
[4,null,"  Common Equity",null,0.4,null,null,null,{"$f":"$I$61*E57","v":26187512.800000001},null,8.9800000000000005E-2,null,null,null,{"$f":"K57*I57","v":2351638.6494400003}]
[5,null,"  Preferred Shares",null,null,null,null,null,{"$f":"$I$61*E58","v":0},null,null,null,null,null,{"$f":"K58*I58","v":0}]
[6,null,"Total Equity",null,{"$f":"SUM(E57:E58)","v":0.4},null,null,null,{"$f":"SUM(I57:I58)","v":26187512.800000001},null,{"$f":"IF(E59=0,0,SUMPRODUCT(E57:E58,K57:K58)/E59)","v":8.9799999999999991E-2},null,null,null,{"$f":"SUM(O57:O58)","v":2351638.6494400003}]
[]
[7,null,"Total",null,1,null,null,null,65468782,null,{"$f":"(K54*E54)+(K59*E59)","v":5.8806921321135353E-2},null,null,null,{"$f":"O54+O59","v":3850017.5120645626}]
[]
[]
["Notes"]
["(1)",null,"4.0% unless an applicant has proposed or been approved for a different amount."]

{"sheet":"App.2-OB_Debt Instruments","index":53,"n_rows":248,"n_cols":11,"rows_kept":248,"cut":false,"hidden":false,"merged":[[247,1,247,10],[9,0,9,10],[10,0,10,10],[10,11,10,14],[13,0,13,10],[246,1,246,10],[245,1,245,10]]}
[null,null,null,null,null,null,null,null,null,"File Number:",{"$f":"EBNUMBER","v":"EB-2022-0016"}]
[null,null,null,null,null,null,null,null,null,"Exhibit:"]
[null,null,null,null,null,null,null,null,null,"Tab:"]
[null,null,null,null,null,null,null,null,null,"Schedule:"]
[null,null,null,null,null,null,null,null,null,"Page:"]
[]
[null,null,null,null,null,null,null,null,null,"Date:","2023-02-13"]
[]
[]
["Appendix 2-OB"]
["Debt Instruments"]
[]
[]
["This table must be completed for all required historical years, the bridge year and the test year."]
[null,null,null,"Year",2013,"Board Approved"]
[]
["Row","Description","Lender","Affiliated or Third-Party Debt?","Fixed or Variable-Rate?","Start Date","Term              (years)","Principal                         ($)","Rate (%) 2","Interest ($) 1","Additional Comments, if any"]
[1,"Promissory Note to Shareholder","City of Sarnia","Affiliated","Fixed Rate","2000-10-30",null,16729636,4.1200000000000001E-2,{"$f":"ROUND(H18*I18,0)","v":689261}]
[2,"Promissory Note to Shareholder","Town of Petrolia","Affiliated","Fixed Rate","2000-10-30",null,1430914,4.1200000000000001E-2,{"$f":"ROUND(H19*I19,0)","v":58954}]
[3,"Promissory Note to Shareholder","Village of Point Edward","Affiliated","Fixed Rate","2000-10-30",null,655187,4.1200000000000001E-2,26994]
[4,"Promissory Note to Shareholder","Township of Warwick","Affiliated","Fixed Rate","2000-10-30",null,421886,4.1200000000000001E-2,17382]
[5,"Promissory Note to Shareholder","Township of Brooke-Alvinston","Affiliated","Fixed Rate","2000-10-30",null,139981,4.1200000000000001E-2,5767]
[6,"Debenture ","Infrastructure Ontario","Third-Party","Fixed Rate","2011-09-15",10,6177576,3.3700000000000001E-2,208184]
[7,"Remaining deemed debt",null,null,null,null,null,11107338,3.9399999999999998E-2,437629]
[8,null,null,null,null,null,null,null,null,{"$f":"H25*I25","v":0}]
[9,null,null,null,null,null,null,null,null,0]
[10,null,null,null,null,null,null,null,null,0]
[11,null,null,null,null,null,null,null,null,0]
[12,null,null,null,null,null,null,null,null,0]
[]
["Total",null,null,null,null,null,null,{"$f":"SUM(H18:H29)","v":36662518},{"$f":"IF(H31=0,\"\",J31/H31)","v":3.9390938723848704E-2},{"$f":"SUM(J18:J29)","v":1444171}]
[]
[null,null,null,"Year",2013,"Actual"]
[]
["Row","Description","Lender","Affiliated or Third-Party Debt?","Fixed or Variable-Rate?","Start Date","Term              (years)","Principal                         ($)","Rate (%) 2","Interest ($) 1","Additional Comments, if any"]
[1,"Promissory Note to Shareholder","City of Sarnia","Affiliated","Fixed Rate","2000-10-30",null,16729636,"7.62%/6.39%",1136676]
[2,"Promissory Note to Shareholder","Town of Petrolia","Affiliated","Fixed Rate","2000-10-30",null,1430914,"7.62%/6.39%",97222]
[3,"Promissory Note to Shareholder","Village of Point Edward","Affiliated","Fixed Rate","2000-10-30",null,655187,"7.62%/6.39%",44516]
[4,"Promissory Note to Shareholder","Township of Warwick","Affiliated","Fixed Rate","2000-10-30",null,421886,"7.62%/6.39%",28664]
[5,"Promissory Note to Shareholder","Township of Brooke-Alvinston","Affiliated","Fixed Rate","2000-10-30",null,139981,"7.62%/6.39%",9511]
[6,"Debenture ","Infrastructure Ontario","Third-Party","Fixed Rate","2011-09-15",10,{"$f":"ROUND((6491939+5863213)/2,0)","v":6177576},3.3700000000000001E-2,206899]
[7,null,null,null,null,null,null,null,null,{"$f":"H42*I42","v":0}]
[8,null,null,null,null,null,null,null,null,0]
[9,null,null,null,null,null,null,null,null,0]
[10,null,null,null,null,null,null,null,null,0]
[11,null,null,null,null,null,null,null,null,0]
[12,null,null,null,null,null,null,null,null,0]
[]
["Total",null,null,null,null,null,null,{"$f":"SUM(H36:H47)","v":25555180},{"$f":"IF(H49=0,\"\",J49/H49)","v":5.9615623916560168E-2},{"$f":"SUM(J36:J47)","v":1523488}]
[]
[]
[null,null,null,"Year",2014,"Actual"]
[]
["Row","Description","Lender","Affiliated or Third-Party Debt?","Fixed or Variable-Rate?","Start Date","Term              (years)","Principal                         ($)","Rate (%) 2","Interest ($) 1","Additional Comments, if any"]
[1,"Promissory Note to Shareholder","City of Sarnia","Affiliated","Fixed Rate","2000-10-30",null,16729636,6.3899999999999998E-2,1069024]
[2,"Promissory Note to Shareholder","Town of Petrolia","Affiliated","Fixed Rate","2000-10-30",null,1430914,6.3899999999999998E-2,91435]
[3,"Promissory Note to Shareholder","Village of Point Edward","Affiliated","Fixed Rate","2000-10-30",null,655187,6.3899999999999998E-2,41866]
[4,"Promissory Note to Shareholder","Township of Warwick","Affiliated","Fixed Rate","2000-10-30",null,421886,6.3899999999999998E-2,26959]
[5,"Promissory Note to Shareholder","Township of Brooke-Alvinston","Affiliated","Fixed Rate","2000-10-30",null,139981,6.3899999999999998E-2,8945]
[6,"Debenture ","Infrastructure Ontario","Third-Party","Fixed Rate","2011-09-15",10,{"$f":"ROUND((5863213+5213121)/2,0)","v":5538167},3.3700000000000001E-2,186262]
[7,null,null,null,null,null,null,null,null,{"$f":"H61*I61","v":0}]
[8,null,null,null,null,null,null,null,null,0]
[9,null,null,null,null,null,null,null,null,0]
[10,null,null,null,null,null,null,null,null,0]
[11,null,null,null,null,null,null,null,null,0]
[12,null,null,null,null,null,null,null,null,0]
[]
["Total",null,null,null,null,null,null,{"$f":"SUM(H55:H66)","v":24915771},{"$f":"IF(H68=0,\"\",J68/H68)","v":5.7172262499924242E-2},{"$f":"SUM(J55:J66)","v":1424491}]
[]
[]
[null,null,null,"Year",2015,"Actual"]
[]
["Row","Description","Lender","Affiliated or Third-Party Debt?","Fixed or Variable-Rate?","Start Date","Term              (years)","Principal                         ($)","Rate (%) 2","Interest ($) 1","Additional Comments, if any"]
[1,"Promissory Note to Shareholder","City of Sarnia","Affiliated","Fixed Rate","2000-10-30",null,16729636,6.3899999999999998E-2,1069024]
[2,"Promissory Note to Shareholder","Town of Petrolia","Affiliated","Fixed Rate","2000-10-30",null,1430914,6.3899999999999998E-2,91435]
[3,"Promissory Note to Shareholder","Village of Point Edward","Affiliated","Fixed Rate","2000-10-30",null,655187,6.3899999999999998E-2,41866]
[4,"Promissory Note to Shareholder","Township of Warwick","Affiliated","Fixed Rate","2000-10-30",null,421886,6.3899999999999998E-2,26959]
[5,"Promissory Note to Shareholder","Township of Brooke-Alvinston","Affiliated","Fixed Rate","2000-10-30",null,139981,6.3899999999999998E-2,8945]
[6,"Debenture ","Infrastructure Ontario","Third-Party","Fixed Rate","2011-09-15",10,{"$f":"ROUND((5213121+4540936)/2,0)","v":4877029},3.3700000000000001E-2,163656]
[7,null,null,null,null,null,null,null,null,{"$f":"H80*I80","v":0}]
[8,null,null,null,null,null,null,null,null,0]
[9,null,null,null,null,null,null,null,null,0]
[10,null,null,null,null,null,null,null,null,0]
[11,null,null,null,null,null,null,null,null,0]
[12,null,null,null,null,null,null,null,null,0]
[]
["Total",null,null,null,null,null,null,{"$f":"SUM(H74:H85)","v":24254633},{"$f":"IF(H87=0,\"\",J87/H87)","v":5.7798648200531419E-2},{"$f":"SUM(J74:J85)","v":1401885}]
[]
[]
[null,null,null,"Year",2016,"Actual"]
[]
["Row","Description","Lender","Affiliated or Third-Party Debt?","Fixed or Variable-Rate?","Start Date","Term              (years)","Principal                         ($)","Rate (%) 2","Interest ($) 1","Additional Comments, if any"]
[1,"Promissory Note to Shareholder","City of Sarnia","Affiliated","Fixed Rate","2000-10-30",null,16729636,"6.39%/6.73%",1107100]
[2,"Promissory Note to Shareholder","Town of Petrolia","Affiliated","Fixed Rate","2000-10-30",null,1430914,"6.39%/6.73%",94692]
[3,"Promissory Note to Shareholder","Village of Point Edward","Affiliated","Fixed Rate","2000-10-30",null,655187,"6.39%/6.73%",43358]
[4,"Promissory Note to Shareholder","Township of Warwick","Affiliated","Fixed Rate","2000-10-30",null,421886,"6.39%/6.73%",27919]
[5,"Promissory Note to Shareholder","Township of Brooke-Alvinston","Affiliated","Fixed Rate","2000-10-30",null,139981,"6.39%/6.73%",9263]
[6,"Debenture ","Infrastructure Ontario","Third-Party","Fixed Rate","2011-09-15",10,{"$f":"ROUND((4540936+3845907)/2,0)","v":4193422},3.3700000000000001E-2,140300]
[7,null,null,null,null,null,null,null,null,{"$f":"H99*I99","v":0}]
[8,null,null,null,null,null,null,null,null,0]
[9,null,null,null,null,null,null,null,null,0]
[10,null,null,null,null,null,null,null,null,0]
[11,null,null,null,null,null,null,null,null,0]
[12,null,null,null,null,null,null,null,null,0]
[]
["Total",null,null,null,null,null,null,{"$f":"SUM(H93:H104)","v":23571026},{"$f":"IF(H106=0,\"\",J106/H106)","v":6.0355115640702277E-2},{"$f":"SUM(J93:J104)","v":1422632}]
[]
[]
[null,null,null,"Year",2017,"Actual"]
[]
["Row","Description","Lender","Affiliated or Third-Party Debt?","Fixed or Variable-Rate?","Start Date","Term              (years)","Principal                         ($)","Rate (%) 2","Interest ($) 1","Additional Comments, if any"]
[1,"Promissory Note to Shareholder","City of Sarnia","Affiliated","Fixed Rate","2000-10-30",null,16729636,6.7299999999999999E-2,1125905]
[2,"Promissory Note to Shareholder","Town of Petrolia","Affiliated","Fixed Rate","2000-10-30",null,1430914,6.7299999999999999E-2,96300]
[3,"Promissory Note to Shareholder","Village of Point Edward","Affiliated","Fixed Rate","2000-10-30",null,655187,6.7299999999999999E-2,44094]
[4,"Promissory Note to Shareholder","Township of Warwick","Affiliated","Fixed Rate","2000-10-30",null,421886,6.7299999999999999E-2,28393]
[5,"Promissory Note to Shareholder","Township of Brooke-Alvinston","Affiliated","Fixed Rate","2000-10-30",null,139981,6.7299999999999999E-2,9421]
[6,"Debenture ","Infrastructure Ontario","Third-Party","Fixed Rate","2011-09-15",10,{"$f":"ROUND((3845907+3127259)/2,0)","v":3486583},3.3700000000000001E-2,116445]
[7,null,null,null,null,null,null,null,null,{"$f":"H118*I118","v":0}]
[8,null,null,null,null,null,null,null,null,0]
[9,null,null,null,null,null,null,null,null,0]
[10,null,null,null,null,null,null,null,null,0]
[11,null,null,null,null,null,null,null,null,0]
[12,null,null,null,null,null,null,null,null,0]
[]
["Total",null,null,null,null,null,null,{"$f":"SUM(H112:H123)","v":22864187},{"$f":"IF(H125=0,\"\",J125/H125)","v":6.2130265117233338E-2},{"$f":"SUM(J112:J123)","v":1420558}]
[]
[]
[null,null,null,"Year",2018,"Actual"]
[]
["Row","Description","Lender","Affiliated or Third-Party Debt?","Fixed or Variable-Rate?","Start Date","Term              (years)","Principal                         ($)","Rate (%) 2","Interest ($) 1","Additional Comments, if any"]
[1,"Promissory Note to Shareholder","City of Sarnia","Affiliated","Fixed Rate","2000-10-30",null,16729636,"6.73%/6.98%",1153978]
[2,"Promissory Note to Shareholder","Town of Petrolia","Affiliated","Fixed Rate","2000-10-30",null,1430914,"6.73%/6.98%",98702]
[3,"Promissory Note to Shareholder","Village of Point Edward","Affiliated","Fixed Rate","2000-10-30",null,655187,"6.73%/6.98%",45193]
[4,"Promissory Note to Shareholder","Township of Warwick","Affiliated","Fixed Rate","2000-10-30",null,421886,"6.73%/6.98%",29101]
[5,"Promissory Note to Shareholder","Township of Brooke-Alvinston","Affiliated","Fixed Rate","2000-10-30",null,139981,"6.73%/6.98%",9656]
[6,"Debenture ","Infrastructure Ontario","Third-Party","Fixed Rate","2011-09-15",10,{"$f":"ROUND((3127259+2384188)/2,0)","v":2755724},3.3700000000000001E-2,91779]
[7,null,null,null,null,null,null,null,null,{"$f":"H137*I137","v":0}]
[8,null,null,null,null,null,null,null,null,0]
[9,null,null,null,null,null,null,null,null,0]
[10,null,null,null,null,null,null,null,null,0]
[11,null,null,null,null,null,null,null,null,0]
[12,null,null,null,null,null,null,null,null,0]
[]
["Total",null,null,null,null,null,null,{"$f":"SUM(H131:H142)","v":22133328},{"$f":"IF(H144=0,\"\",J144/H144)","v":6.4536566755799218E-2},{"$f":"SUM(J131:J142)","v":1428409}]
[]
[]
[null,null,null,"Year",2019,"Actual"]
[]
["Row","Description","Lender","Affiliated or Third-Party Debt?","Fixed or Variable-Rate?","Start Date","Term              (years)","Principal                         ($)","Rate (%) 2","Interest ($) 1","Additional Comments, if any"]
[1,"Promissory Note to Shareholder","City of Sarnia","Affiliated","Fixed Rate","2000-10-30",null,16729636,6.9800000000000001E-2,1167728]
[2,"Promissory Note to Shareholder","Town of Petrolia","Affiliated","Fixed Rate","2000-10-30",null,1430914,6.9800000000000001E-2,99878]
[3,"Promissory Note to Shareholder","Village of Point Edward","Affiliated","Fixed Rate","2000-10-30",null,655187,6.9800000000000001E-2,45732]
[4,"Promissory Note to Shareholder","Township of Warwick","Affiliated","Fixed Rate","2000-10-30",null,421886,6.9800000000000001E-2,29448]
[5,"Promissory Note to Shareholder","Township of Brooke-Alvinston","Affiliated","Fixed Rate","2000-10-30",null,139981,6.9800000000000001E-2,9771]
[6,"Debenture ","Infrastructure Ontario","Third-Party","Fixed Rate","2011-09-15",10,{"$f":"ROUND((2384188+1615865)/2,0)","v":2000027},3.3700000000000001E-2,66275]
[7,null,null,null,null,null,null,null,null,{"$f":"H156*I156","v":0}]
[8,null,null,null,null,null,null,null,null,0]
[9,null,null,null,null,null,null,null,null,0]
[10,null,null,null,null,null,null,null,null,0]
[11,null,null,null,null,null,null,null,null,0]
[12,null,null,null,null,null,null,null,null,0]
[]
["Total",null,null,null,null,null,null,{"$f":"SUM(H150:H161)","v":21377631},{"$f":"IF(H163=0,\"\",J163/H163)","v":6.6369935939113181E-2},{"$f":"SUM(J150:J161)","v":1418832}]
[]
[]
[null,null,null,"Year",2020,"Actual"]
[]
["Row","Description","Lender","Affiliated or Third-Party Debt?","Fixed or Variable-Rate?","Start Date","Term              (years)","Principal                         ($)","Rate (%) 2","Interest ($) 1","Additional Comments, if any"]
[1,"Promissory Note to Shareholder","City of Sarnia","Affiliated","Fixed Rate","2000-10-30",null,16729636,6.9800000000000001E-2,1167728]
[2,"Promissory Note to Shareholder","Town of Petrolia","Affiliated","Fixed Rate","2000-10-30",null,1430914,6.9800000000000001E-2,99878]
[3,"Promissory Note to Shareholder","Village of Point Edward","Affiliated","Fixed Rate","2000-10-30",null,655187,6.9800000000000001E-2,45732]
[4,"Promissory Note to Shareholder","Township of Warwick","Affiliated","Fixed Rate","2000-10-30",null,421886,6.9800000000000001E-2,29448]
[5,"Promissory Note to Shareholder","Township of Brooke-Alvinston","Affiliated","Fixed Rate","2000-10-30",null,139981,6.9800000000000001E-2,9771]
[6,"Debenture ","Infrastructure Ontario","Third-Party","Fixed Rate","2011-09-15",10,{"$f":"ROUND((1615865+821432)/2,0)","v":1218649},3.3700000000000001E-2,39904]
[7,"Term Loan","CIBC","Third-Party","Variable Rate","2020-03-01",10,{"$f":"(10000000+6333336)/2","v":8166668},{"$f":"+J175/H175","v":1.1129385938059439E-2},90890]
[8,null,null,null,null,null,null,null,null,{"$f":"H176*I176","v":0}]
[9,null,null,null,null,null,null,null,null,0]
[10,null,null,null,null,null,null,null,null,0]
[11,null,null,null,null,null,null,null,null,0]
[12,null,null,null,null,null,null,null,null,0]
[]
["Total",null,null,null,null,null,null,{"$f":"SUM(H169:H180)","v":28762921},{"$f":"IF(H182=0,\"\",J182/H182)","v":5.1571639751053097E-2},{"$f":"SUM(J169:J180)","v":1483351}]
[]
[]
[null,null,null,"Year",null,2021,"Actual"]
[]
["Row","Description","Lender","Affiliated or Third-Party Debt?","Fixed or Variable-Rate?","Start Date","Term              (years)","Principal                         ($)","Rate (%) 2","Interest ($) 1","Additional Comments, if any"]
[1,"Promissory Note to Shareholder","City of Sarnia","Affiliated","Fixed Rate","2000-10-30",null,16729636,6.9800000000000001E-2,1167728]
[2,"Promissory Note to Shareholder","Town of Petrolia","Affiliated","Fixed Rate","2000-10-30",null,1430914,6.9800000000000001E-2,99878]
[3,"Promissory Note to Shareholder","Village of Point Edward","Affiliated","Fixed Rate","2000-10-30",null,655187,6.9800000000000001E-2,45732]
[4,"Promissory Note to Shareholder","Township of Warwick","Affiliated","Fixed Rate","2000-10-30",null,421886,6.9800000000000001E-2,29448]
[5,"Promissory Note to Shareholder","Township of Brooke-Alvinston","Affiliated","Fixed Rate","2000-10-30",null,139981,6.9800000000000001E-2,9771]
[6,"Debenture ","Infrastructure Ontario","Third-Party","Fixed Rate","2011-09-15",10,{"$f":"ROUND((821432+0)/2,0)","v":410716},3.3700000000000001E-2,12637]
[7,"Term Loan","CIBC","Third-Party","Variable Rate","2020-03-01",{"$f":"+G175","v":10},{"$f":"(6333336+5333336)/2","v":5833336},{"$f":"+J194/H194","v":1.1717480357723265E-2},68352]
[8,null,null,null,null,null,null,null,null,{"$f":"ROUND(H195*I195,0)","v":0}]
[9,null,null,null,null,null,null,null,null,{"$f":"H196*I196","v":0}]
[10,null,null,null,null,null,null,null,null,0]
[11,null,null,null,null,null,null,null,null,0]
[12,null,null,null,null,null,null,null,null,0]
[]
["Total",null,null,null,null,null,null,{"$f":"SUM(H188:H199)","v":25621656},{"$f":"IF(H201=0,\"\",J201/H201)","v":5.5950559948193826E-2},{"$f":"SUM(J188:J199)","v":1433546}]
[]
[]
[null,null,null,"Year",null,2022,"Bridge Year"]
[]
["Row","Description","Lender","Affiliated or Third-Party Debt?","Fixed or Variable-Rate?","Start Date","Term              (years)","Principal                         ($)","Rate (%) 2","Interest ($) 1","Additional Comments, if any"]
[1,"Promissory Note to Shareholder","City of Sarnia","Affiliated","Fixed Rate","2000-10-30",null,16729636,6.9800000000000001E-2,1167728]
[2,"Promissory Note to Shareholder","Town of Petrolia","Affiliated","Fixed Rate","2000-10-30",null,1430914,6.9800000000000001E-2,99878]
[3,"Promissory Note to Shareholder","Village of Point Edward","Affiliated","Fixed Rate","2000-10-30",null,655187,6.9800000000000001E-2,45732]
[4,"Promissory Note to Shareholder","Township of Warwick","Affiliated","Fixed Rate","2000-10-30",null,421886,6.9800000000000001E-2,29448]
[5,"Promissory Note to Shareholder","Township of Brooke-Alvinston","Affiliated","Fixed Rate","2000-10-30",null,139981,6.9800000000000001E-2,9771]
[6,"Term Loan #1","CIBC","Third-Party","Variable Rate","2020-03-01",{"$f":"+G194","v":10},{"$f":"(5333336+4333336)/2","v":4833336},2.5000000000000001E-2,72500]
[7,null,null,null,null,null,null,null,null,{"$f":"H213*I213","v":0}]
[8,null,null,null,null,null,null,null,null,0]
[9,null,null,null,null,null,null,null,null,0]
[10,null,null,null,null,null,null,null,null,0]
[11,null,null,null,null,null,null,null,null,0]
[]
["Total",null,null,null,null,null,null,{"$f":"SUM(H207:H217)","v":24210940},{"$f":"IF(H219=0,\"\",J219/H219)","v":5.8860044260982847E-2},{"$f":"SUM(J207:J217)","v":1425057}]
[]
[]
[null,null,null,"Year",null,2023,"Test Year"]
[]
["Row","Description","Lender","Affiliated or Third-Party Debt?","Fixed or Variable-Rate?","Start Date","Term              (years)","Principal                         ($)","Rate (%) 2","Interest ($) 1","Additional Comments, if any"]
[1,"Promissory Note to Shareholder","City of Sarnia","Affiliated","Fixed Rate","2000-10-30",null,16729636,4.8800000000000003E-2,{"$f":"ROUND(H225*I225,0)","v":816406}]
[2,"Promissory Note to Shareholder","Town of Petrolia","Affiliated","Fixed Rate","2000-10-30",null,1430914,4.8800000000000003E-2,69829]
[3,"Promissory Note to Shareholder","Village of Point Edward","Affiliated","Fixed Rate","2000-10-30",null,655187,4.8800000000000003E-2,31973]
[4,"Promissory Note to Shareholder","Township of Warwick","Affiliated","Fixed Rate","2000-10-30",null,421886,4.8800000000000003E-2,20588]
[5,"Promissory Note to Shareholder","Township of Brooke-Alvinston","Affiliated","Fixed Rate","2000-10-30",null,139981,4.8800000000000003E-2,6831]
[6,"Term Loan #1","CIBC","Third-Party","Variable Rate","2020-03-01",{"$f":"+G212","v":10},{"$f":"(4333336+3333336)/2","v":3833336},5.62E-2,215433]
[7,"Term Loan #2 (new)","CIBC","Third-Party","Fixed Rate","2023-01-01",10,{"$f":"(10000000+9000000)/2","v":9500000},5.9499999999999997E-2,565250]
[]
[9]
[10]
[11]
[12]
[]
["Total",null,null,null,null,null,null,{"$f":"SUM(H225:H231)","v":32710940},{"$f":"IF(H238=0,\"\",J238/H238)","v":5.2774698617649017E-2},{"$f":"SUM(J225:J231)","v":1726310}]
[]
[]
[]
[]
[]
["Notes"]
[]
[1,"If financing is in place only part of the year, separately calculate the pro-rated interest in the year and input in the cell."]
[2,"Input actual or deemed long-term debt rate in accordance with the guidelines in The Report of the Board on the Cost of Capital for Ontario's Regulated Utilities, issued December 11, 2009, or with any subsequent update issued by the OEB."]
[3,"Add more lines above row 12 if necessary."]

{"sheet":"App.2-Q_Cost of Serv. Emb. Dx","index":54,"n_rows":60,"n_cols":7,"rows_kept":60,"cut":false,"hidden":false,"merged":[[8,0,8,6],[9,0,9,6],[15,0,15,1],[15,2,15,3],[53,3,54,3],[9,7,9,11],[12,0,12,6],[11,0,11,6],[58,3,59,3],[58,4,59,4],[53,4,54,4]]}
[null,null,null,null,null,"File Number:",{"$f":"EBNUMBER","v":"EB-2022-0016"}]
[null,null,null,null,null,"Exhibit:"]
[null,null,null,null,null,"Tab:"]
[null,null,null,null,null,"Schedule:"]
[null,null,null,null,null,"Page:"]
[]
[null,null,null,null,null,"Date:"]
[]
["Appendix 2-Q"]
["Cost of Serving Embedded Distributor(s) "]
[]
["To be completed by Host Distributors ONLY"]
["(Not required if Host Distributor has an Embedded Distributor rate class, i.e. a separate row on Sheet 11 of the RRWF.)"]
[]
[]
["Proposed Rate Class for Billing Embedded Distributor(s)"]
[]
["Host's Distribution Facilities used by Embedded Distributor(s)"]
[]
["(1)","(2)","(3)","(4)","(5)","(6) = '(3) + (4)"]
["Asset Class","Total OM&A costs asociated with asset class ","Original cost of asset class ","Accumulated amortization of asset class","Annual amortization of asset class","Net Book Value of asset class"]
["Totals for Host Distributor:","($)","($)","($)","($)"]
["Distribution Stations",null,null,null,null,{"$f":"C23+D23","v":0}]
["Low Voltage Line",null,null,null,null,0]
["LV Line category # 2 (if applcable)",null,null,null,null,0]
["TS (owned by host)",null,null,null,null,0]
["add rows if necessary... ",null,null,null,null,0]
[null,null,null,null,null,0]
[null,null,null,null,null,0]
[]
["(1)","(7)","(8)","(9)","(10)","(11)"]
[{"$f":"A21","v":"Asset Class"},"Total line length or station capacity in asset class","Line length or capacity required to provide LV service to Embedded Distributor(s)","Annual total demand on station/line providing LV services (sum of 12 monthly peaks)","Annual billed Embedded Distributor demand on station/line providing LV services","Embedded Distributor(s)' Responsibility Share "]
["Embedded Distributor's share:","kW or kVa; km","kW or kVA; km","kW or kVA","kW or kVA","percent"]
["Distribution Stations",null,null,null,null,{"$f":"IF(D34=0,0,(C34/B34)*(E34/D34))","v":0}]
["Low Voltage Line",null,null,null,null,{"$f":"IF(D35=0,0,(C35/B35)*(E35/D35))","v":0}]
["LV Line # 2 (if applicable) ",null,null,null,null,{"$f":"IF(D36=0,0,(C36/B36)*(E36/D36))","v":0}]
["TS (owned by host)",null,null,null,null,{"$f":"IF(D37=0,0,(C37/B37)*(E37/D37))","v":0}]
["add rows if necessary ",null,null,null,null,{"$f":"IF(D38=0,0,(C38/B38)*(E38/D38))","v":0}]
[]
["(1)","(12)","(12a)","(13)","(14)","(15)","(16)"]
[{"$f":"A32","v":"Asset Class"},"Return on Assets used to Provide LV services","Taxes/PILs","Annual amortization on assets used to provide LV services","OM&A costs with burden associated with assets used to provide LV services","Total annual cost associated with assets used to provide LV services","Monthly cost associated with the delivery of LV services"]
[null,"($)","($)","($)","($)","($)","$/kW or $/kVA"]
["Distribution Stations",{"$f":"E$54*(F23+B23*E$59)*F34","v":0},{"$f":"(B43-(B$54*C$54*F34*(F23+B23*E57)+B$55*C$55*F34*(F23+B23*E$57)))*E$57/(1-E$57)","v":0},{"$f":"E23*F34","v":0},{"$f":"B23*F34","v":0},{"$f":"SUM(B43:E43)","v":0},{"$f":"IF(E34=0,0,(F43/E34))","v":0}]
["Low Voltage Line",{"$f":"E$54*(F24+B24*E$59)*F35","v":0},{"$f":"(B44-(B$54*C$54*F35*(F24+B24*E58)+B$55*C$55*F35*(F24+B24*E58)))*E$57/(1-E$57)","v":0},{"$f":"E24*F35","v":0},{"$f":"B24*F35","v":0},{"$f":"SUM(B44:E44)","v":0},{"$f":"IF(E35=0,0,(F44/E35))","v":0}]
["LV Line # 2 (if applicable) ",{"$f":"E$54*(F25+B25*E$59)*F36","v":0},{"$f":"(B45-(B$54*C$54*F36*(F25+B25*E59)+B$55*C$55*F36*(F25+B25*E$59)))*E$57/(1-E$57)","v":0},{"$f":"E25*F36","v":0},{"$f":"B25*F36","v":0},{"$f":"SUM(B45:E45)","v":0},0]
["TS (owned by host)",{"$f":"E$54*(F26+B26*E$59)*F37","v":0},{"$f":"(B46-(B$54*C$54*F37*(F26+B26*E60)+B$55*C$55*F37*(F26+B26*E60)))*E$57/(1-E$57)","v":0},{"$f":"E26*F37","v":0},{"$f":"B26*F37","v":0},{"$f":"SUM(B46:E46)","v":0},0]
["add rows if necessary ",{"$f":"E$54*(F27+B27*E$59)*F38","v":0},{"$f":"(B47-(B$54*C$54*F38*(F27+B27*I61)+B$55*C$55*F38*(F27+B27*I61)))*E$57/(1-E$57)","v":0},{"$f":"E27*F38","v":0},{"$f":"B27*F38","v":0},{"$f":"SUM(B47:E47)","v":0},0]
[]
["Total",null,null,null,null,{"$f":"SUM(F43:F47)","v":0},{"$f":"SUM(G43:G47)","v":0}]
[]
["(17)","(18)","(19)","(20)","(21)"]
[null,"Capital Structure","Cost Rate"]
[null,"(%)","(%)",null,"(%)"]
["Long-Term Debt",null,null,"Weighted Average Cost of Capital",{"$f":"IF(B60=0%,0,SUMPRODUCT(B54:B58,C54:C58)/B60)","v":0}]
["Short-term Debt"]
[]
["Common Equity",null,null,"Tax/PILs Rate"]
["Preferred Shares"]
[null,null,null,"Working Capital Allowance Factor"]
["Total",{"$f":"SUM(B54:B58)","v":0}]

{"sheet":"App.2-R_Loss Factors","index":55,"n_rows":65,"n_cols":9,"rows_kept":65,"cut":false,"hidden":false,"merged":[[8,1,8,8],[9,1,9,8],[10,1,10,8],[12,1,13,2],[12,3,12,7],[12,8,13,8],[14,2,14,8],[23,2,23,8],[25,2,25,8],[52,2,53,8],[34,2,37,8],[41,2,43,8],[45,2,48,8],[55,2,56,8],[58,2,58,8],[30,2,32,8],[70,2,70,8],[62,2,62,8],[64,2,64,8],[50,2,50,8],[60,2,60,8]]}
[null,null,null,null,null,null,null,"File Number:",{"$f":"EBNUMBER","v":"EB-2022-0016"}]
[null,null,null,null,null,null,null,"Exhibit:"]
[null,null,null,null,null,null,null,"Tab:"]
[null,null,null,null,null,null,null,"Schedule:"]
[null,null,null,null,null,null,null,"Page:"]
[]
[null,null,null,null,null,null,null,"Date:","2022-10-24"]
[]
[null,"Appendix 2-R"]
[null,"Loss Factors"]
[]
[]
[null,null,null,"Historical Years",null,null,null,null,"5-Year Average"]
[null,null,null,{"$f":"IF(ISBLANK('LDC Info'!E26-5), \"Year 5\", 'LDC Info'!E26-5)","v":2017},{"$f":"IF(ISBLANK('LDC Info'!E26-4), \"Year 5\", 'LDC Info'!E26-4)","v":2018},{"$f":"IF(ISBLANK('LDC Info'!E26-3), \"Year 5\", 'LDC Info'!E26-3)","v":2019},{"$f":"IF(ISBLANK('LDC Info'!E26-2), \"Year 5\", 'LDC Info'!E26-2)","v":2020},{"$f":"IF(ISBLANK('LDC Info'!E26-1), \"Year 5\", 'LDC Info'!E26-1)","v":2021}]
[null,null,"Losses Within Distributor's System"]
[null,"A(1)","\"Wholesale\" kWh delivered to distributor (higher value)",1008547184.2535596,1027532509.9445,1009435343.87025,993042808.15125012,993739795.11160004,{"$f":"IF(SUM(D16:H16)=0,0,AVERAGE(D16:H16))","v":1006459528.2662319}]
[null,"A(2)","\"Wholesale\" kWh delivered to distributor (lower value)",1001978272.41975,1020863743.3645,1002580157.99025,985020077.56925011,985808620.50434995,{"$f":"IF(SUM(D17:H17)=0,0,AVERAGE(D17:H17))","v":999250174.36961997}]
[null,"B","Portion of \"Wholesale\" kWh delivered to distributor for its Large Use Customer(s)",292373783.71234858,290261305.93175232,293864603.88267177,284016893.48469859,268884161.46249318,{"$f":"IF(SUM(D18:H18)=0,0,AVERAGE(D18:H18))","v":285880149.69479287}]
[null,"C","Net \"Wholesale\" kWh delivered to distributor  = A(2) - B",{"$f":"D17-D18","v":709604488.70740139},730602437.43274772,708715554.10757828,701003184.08455157,716924459.04185677,713370024.6748271]
[null,"D","\"Retail\" kWh delivered by distributor",977891971.84484625,991435682.10714126,974925246.96481609,956918930,957968522.12859893,{"$f":"IF(SUM(D20:H20)=0,0,AVERAGE(D20:H20))","v":971828070.60908055}]
[null,"E","Portion of \"Retail\" kWh delivered by distributor to its Large Use Customer(s)",289478993.77460253,287387431.61559635,290955053.34917998,281204845.03435504,266221942.04207247,{"$f":"IF(SUM(D21:H21)=0,0,AVERAGE(D21:H21))","v":283049653.16316134}]
[null,"F","Net \"Retail\" kWh delivered by distributor = D - E",{"$f":"D20-D21","v":688412978.07024372},704048250.49154496,683970193.61563611,675714084.96564496,691746580.08652639,688778417.44591928]
[null,"G","Loss Factor in Distributor's system = C / F",{"$f":"IF(D22=0,\"\",D19/D22)","v":1.0307831364489404},1.0377164305467181,1.0361790041772612,1.0374257392017991,1.0363975474257943,1.0357032197961382]
[null,null,"Losses Upstream of Distributor's System"]
[null,"H","Supply Facilities Loss Factor",{"$f":"IFERROR(D16/D17,0)","v":1.0065559423937864},{"$f":"IFERROR(E16/E17,0)","v":1.0065324747042357},1.0068375439363788,1.0081447381273667,1.0080453492110795,{"$f":"IF(SUM(D25:H25)=0,0,AVERAGE(D25:H25))","v":1.0072232096745695}]
[null,null,"Total Losses"]
[null,"I","Total Loss Factor = G x H",{"$f":"IF(D23=\"\",\"\",D23*D25)","v":1.0375408913119861},1.0444952868794344,1.0432639236442764,1.0458753001741876,1.0447357276163411,1.0431843213133525]
[]
[null,"Notes:"]
[]
[null,"A(1)","If directly connected to the IESO-controlled grid, kWh pertains to the virtual meter on the primary or high voltage side of the transformer at the interface with the transmission grid.  This corresponds to the \"With Losses\" kWh value provided by the IESO's MV-WEB.  It is the higher of the two values provided by MV-WEB."]
[]
[]
[]
[null,null,"If fully embedded within a host distributor, kWh pertains to the virtual meter on the primary or high voltage side of the transformer, at the interface between the host distributor and the transmission grid.  For example, if the host distributor is Hydro One Networks Inc., kWh from the Hydro One Networks' invoice corresponding to \"Total kWh w Losses\" should be reported.  This corresponds to the higher of the two kWh values provided in Hydro One Networks' invoice."]
[]
[]
[]
[]
[null,null,"If partially embedded, kWh pertains to the sum of the above."]
[]
[null,"A(2)","If directly connected to the IESO-controlled grid, kWh pertains to a metering installation on the secondary or low voltage side of the transformer at the interface with the transmission grid.  This corresponds to the \"Without Losses\" kWh value provided by the IESO's MV-WEB.  It is the lower of the two kWh values provided by MV-WEB."]
[]
[]
[]
[null,null,"If fully embedded with the host distributor, kWh pertains to a metering installation on the secondary or low voltage side of the transformer at the interface between the embedded distributor and the host distributor.  For example, if the host distributor is Hydro One Networks Inc., kWh from the Hydro One Networks' invoice corresponding to \"Total kWh\" should be reported.  This corresponds to the lower of the two kWh values provided in Hydro One Networks' invoice."]
[]
[]
[]
[]
[null,null,"If partially embedded, kWh pertains to the sum of the above."]
[]
[null,null,"Additionally, kWh pertaining to distributed generation directly connected to the distributor's own distribution network should be included in A(2)."]
[]
[]
[null,"B","If a Large Use Customer is metered on the secondary or low voltage side of the transformer, the default loss is 1%                         (i.e., B = 1.01 X E). This value should not include supply facility losses. However, the total loss factor on the tariff of rate and charges and applied to customers consumption should include the supply facility loss factor."]
[]
[]
[null,"D","kWh corresponding to D should equal metered or estimated kWh at the customer’s delivery point."]
[]
[null,"E","Metered consumption of Large Use customers."]
[]
[null,"G and I","These loss factors pertain to secondary-metered customers with demand less than 5,000 kW."]
[]
[null,"H","Actual Supply Facility Loss Factor as calculated by dividing A(1) by A(2)."]

{"sheet":"App.2-ZA_Com. Exp. Forecast","index":56,"n_rows":72,"n_cols":12,"rows_kept":72,"cut":false,"hidden":false,"merged":[[42,6,42,11],[51,6,51,11],[3,1,5,8],[16,2,16,4],[17,2,17,4],[18,2,18,4],[19,2,19,4],[25,6,25,11]]}
[]
[null,null,null,null,null,null,null,null,null,null,"File Number:","EB-2022-0016"]
[null,null,null,null,null,null,null,null,null,null,"Exhibit:"]
[null,"Commodity Expense ",null,null,null,null,null,null,null,null,"Tab:"]
[null,null,null,null,null,null,null,null,null,null,"Schedule:"]
[null,null,null,null,null,null,null,null,null,null,"Page:"]
[]
[null,null,null,null,null,null,null,null,null,null,"Date:","2023-02-13"]
[]
[]
[]
["Step 1:","Commodity Pricing"]
[]
[null," "]
[null,"Forecasted Commodity Prices"," Table 1: Average RPP Supply Cost Summary*",null,null,null,"non-RPP","RPP"]
[]
[null,"HOEP ($/MWh)","Load-Weighted Price for RPP Consumers",null,null,null,58.33,58.33]
[null,"Global Adjustment ($/MWh)","Impact of the Global Adjustment",null,null,null,39.04,39.04]
[null,"Adjustments ($/MWh)",null,null,null,null,null,{"$f":"-4.97+1","v":-3.9699999999999998}]
[null,"TOTAL ($/MWh)","Average Supply Cost for RPP Consumers",null,null,null,null,{"$f":"SUM(H17:H19)","v":93.4}]
[]
[]
["Step 2:","Commodity Expense",1.0431999999999999]
[null,"(volumes for the test year is loss adjusted)",1.0173000000000001]
[]
[null,"Commodity",null,null,null,null,{"$f":"'LDC Info'!E24 & \" Test Year\"","v":"2023 Test Year"}]
[null,"Customer",null,"Revenue","Expense"]
[null,"Class Name","UoM","USA #","USA #","Class A Non-RPP Volume**",null,"Class B Non-RPP Volume**","Class B RPP Volume**","Average HOEP","Average RPP Rate","Amount"]
[null,"Residential","kWh",4006,4705,0,null,5085587.712801924,274362879.10803676,{"$f":"+$G$17/1000","v":5.833E-2},{"$f":"+$H$20/1000","v":9.3400000000000011E-2},{"$f":"(+F29+H29)*J29+(I29*K29)","v":25922135.239978373}]
[null,"General Service < 50 kW","kWh",4010,4705,60641.243374371865,null,18606587.636488944,90618399.063443586,5.833E-2,9.3400000000000011E-2,9552617.9330880586]
[null,"General Service 50-999 kW","kWh",4035,4705,18662179.09084449,null,137004955.20829755,36257593.065831415,5.833E-2,9.3400000000000011E-2,12466523.136017609]
[null,"General Service 1000-4999 kW","kWh",4010,4705,108252773.44969131,null,9685330.24701529,0,5.833E-2,9.3400000000000011E-2,6879329.5886288956]
[null,"Large Users","kWh",4025,4705,163511847.13348639,null,0,0,5.833E-2,9.3400000000000011E-2,9537646.0432962608]
[null,"Streetlight","kWh",4025,4705,0,null,3193821.2520130263,0,5.833E-2,9.3400000000000011E-2,186295.59362991984]
[null,"Sentinel","kWh",4025,4705,0,null,35091.428459058203,404325.35127287742,5.833E-2,9.3400000000000011E-2,39810.870830903623]
[null,"Unmetered Scattered Load","kWh",4025,4705,0,null,349664.23876284325,1943600.4621500566,5.833E-2,9.3400000000000011E-2,201928.19821185197]
[null,null,"kWh",4025,4705,null,null,null,null,5.833E-2,9.3400000000000011E-2,0]
[null,null,"kWh",4025,4705,null,null,null,null,5.833E-2,9.3400000000000011E-2,0]
[null,null,"kWh",4025,4705,null,null,null,null,5.833E-2,9.3400000000000011E-2,0]
[null,"TOTAL",null,null,null,{"$f":"SUM(F29:F39)","v":290487440.91739655},null,{"$f":"SUM(H29:H39)","v":173961037.72383866},{"$f":"SUM(I29:I39)","v":403586797.0507347},null,null,{"$f":"SUM(L29:L39)","v":64786286.60368187}]
[null,null,null,null,null,null,null,"excludes Cl A, WMP"]
[]
[null,"Class A - non-RPP Global Adjustment",null,null,null,null,{"$f":"'LDC Info'!E24","v":2023}]
[null,"Customer",null,"Revenue","Expense",null,"kWh Volume",null,null,null,"Hist. Avg GA/kWh ***","Amount"]
[null,"General Service < 50 kW",null,4035,4707,null,{"$f":"F30","v":60641.243374371865},null,null,null,3.8800000000000001E-2,{"$f":"+K45*G45","v":2352.8802429256284}]
[null,"General Service 50-999 kW",null,4010,4707,null,{"$f":"F31","v":18662179.09084449},null,null,null,3.8800000000000001E-2,{"$f":"+K46*G46","v":724092.54872476624}]
[null,"General Service 1000-4999 kW",null,4010,4707,null,108252773.44969131,null,null,null,3.6200000000000003E-2,{"$f":"+K47*G47","v":3918750.3988788258}]
[null,"Large Users",null,4010,4707,null,163511847.13348639,null,null,null,3.4099999999999998E-2,{"$f":"+K48*G48","v":5575753.9872518852}]
[null,null,null,4010,4707,null,null,null,null,null,null,{"$f":"+K49*G49","v":0}]
[null,null,null,null,null,{"$f":"+F45+F46","v":0},{"$f":"SUM(G45:G49)","v":290487440.91739655},null,null,null,null,{"$f":"SUM(L45:L49)","v":10220949.815098403}]
[]
[null,"Class B - non-RPP Global Adjustment",null,null,null,null,{"$f":"G43","v":2023}]
[null,"Customer",null,"Revenue","Expense",null,null,null,null,null,null,"Amount"]
[null,"Class Name","UoM","USA #","USA #",null,null,"Class B Non-RPP Volume",null,null,"GA Rate/kWh"]
[null,{"$f":"IF(B29=0,\"\",B29)","v":"Residential"},"kWh",4006,4707,null,null,{"$f":"+H29","v":5085587.712801924},null,null,{"$f":"+$G$18/1000","v":3.9039999999999998E-2},{"$f":"+K55*H55","v":198541.34430778711}]
[null,{"$f":"IF(B30=0,\"\",B30)","v":"General Service < 50 kW"},"kWh",4010,4707,null,null,{"$f":"+H30","v":18606587.636488944},null,null,{"$f":"+$G$18/1000","v":3.9039999999999998E-2},726401.18132852833]
[null,"General Service 50-999 kW","kWh",4035,4707,null,null,{"$f":"+H31","v":137004955.20829755},null,null,{"$f":"+$G$18/1000","v":3.9039999999999998E-2},{"$f":"+K57*H57","v":5348673.4513319358}]
[null,{"$f":"IF(B32=0,\"\",B32)","v":"General Service 1000-4999 kW"},"kWh",4010,4707,null,null,9685330.24701529,null,null,{"$f":"+$G$18/1000","v":3.9039999999999998E-2},378115.29284347693]
[null,"Large Users","kWh",4025,4707,null,null,{"$f":"+H33","v":0},null,null,{"$f":"+$G$18/1000","v":3.9039999999999998E-2},0]
[null,"Streetlight","kWh",4025,4707,null,null,3193821.2520130263,null,null,3.9039999999999998E-2,124686.78167858854]
[null,"Sentinel","kWh",4025,4707,null,null,35091.428459058203,null,null,3.9039999999999998E-2,1369.9693670416323]
[null,{"$f":"IF(B36=0,\"\",B36)","v":"Unmetered Scattered Load"},"kWh",4025,4707,null,null,{"$f":"+H36","v":349664.23876284325},null,null,3.9039999999999998E-2,13650.891881301401]
[null,"","kWh",4025,4707,null,null,0,null,null,3.9039999999999998E-2,0]
[null,"","kWh",4025,4707,null,null,{"$f":"+H38","v":0},null,null,3.9039999999999998E-2,{"$f":"+K64*H64","v":0}]
[null,"","kWh",4025,4707,null,null,{"$f":"+H39","v":0},null,null,3.9039999999999998E-2,0]
[null,"Total Volume",null,null,null,null,null,{"$f":"SUM(H55:H65)","v":173961037.72383866}]
[null,"TOTAL",null,null,null,null,null,null,null,null,null,{"$f":"SUM(L55:L65)","v":6791438.9127386585}]
[]
[]
["*Regulated Price Plan Prices for the Period May 1, 2021 to April 30, 2022, p. 2"]
["** Enter 2022 load forecast data by class based on the most recent 12-month historic Class A and Class B RPP/Non-RPP proportions"]
["*** Based on average $ GA per kWh billed to class A customers for most recent 12-month historical year."]

{"sheet":"App.2-ZB_Cost of Power","index":57,"n_rows":180,"n_cols":11,"rows_kept":180,"cut":false,"hidden":false,"merged":[[0,0,0,9],[8,4,8,5],[8,8,8,9],[9,4,9,5],[9,8,9,9],[11,10,22,10],[24,8,24,9],[25,1,26,1],[25,3,26,3],[25,4,26,4],[25,5,26,5],[25,7,26,7],[25,8,26,8],[25,9,26,9],[25,10,26,10],[10,1,11,1],[27,10,42,10],[45,1,46,1],[45,3,46,3],[45,4,46,4],[45,5,46,5],[45,7,46,7],[45,8,46,8],[45,9,46,9],[45,10,46,10],[47,10,57,10],[60,1,61,1],[60,3,61,3],[60,4,61,4],[60,5,61,5],[60,7,61,7],[60,8,61,8],[60,9,61,9],[60,10,61,10],[62,10,72,10],[75,1,76,1],[75,3,76,3],[75,4,76,4],[75,5,76,5],[75,7,76,7],[75,8,76,8],[75,9,76,9],[75,10,76,10],[77,10,87,10],[90,1,91,1],[90,3,91,3],[90,4,91,4],[90,5,91,5],[90,7,91,7],[90,8,91,8],[90,9,91,9],[90,10,91,10],[92,10,102,10],[120,1,121,1],[120,3,121,3],[120,4,121,4],[120,5,121,5],[120,7,121,7],[120,8,121,8],[120,9,121,9],[120,10,121,10],[105,1,106,1],[105,3,106,3],[105,4,106,4],[105,5,106,5],[105,7,106,7],[105,8,106,8],[105,9,106,9],[135,1,136,1],[135,3,136,3],[135,4,136,4],[135,5,136,5],[135,7,136,7],[150,1,151,1],[150,3,151,3],[150,4,151,4],[150,5,151,5],[150,7,151,7],[105,10,106,10],[107,10,117,10],[152,10,158,10],[169,3,169,4],[137,10,147,10],[150,8,151,8],[150,9,151,9],[150,10,151,10],[122,10,132,10],[135,8,136,8],[135,9,136,9],[135,10,136,10]]}
["Cost of Power Calculation"]
[null,null,null,null,null,null,null,null,null,"File Number:","EB-2022-0016"]
[null,null,null,null,null,null,null,null,null,"Exhibit:"]
[null,null,null,null,null,null,null,null,null,"Tab:"]
[null,null,null,null,null,null,null,null,null,"Schedule:"]
[null,null,null,null,null,null,null,null,null,"Page:"]
["All Volume should be loss adjusted with the exception of:"]
["1. Volume for Electricity Commodity, Wholesale Market Services, Class A and B should loss adjusted less WMP",null,null,null,null,null,null,null,null,"Date:","2023-02-13"]
["2. Low Voltage Charges - No loss adjustment for kWh"]
[null,null,null,{"$f":"'LDC Info'!E24 & \" Test Year\"","v":"2023 Test Year"},"RPP",null,null,{"$f":"D10","v":"2023 Test Year"},"non-RPP",null,"Total"]
["Electricity Commodity","Units",null,"Volume","Rate","$ ",null,"Volume","Rate","$ ","$"]
["Class per Load Forecast"]
[{"$f":"IF('App.2-ZA_Com. Exp. Forecast'!B29=\"\",\"\",'App.2-ZA_Com. Exp. Forecast'!B29)","v":"Residential"},"kWh",null,{"$f":"'App.2-ZA_Com. Exp. Forecast'!I29","v":274362879.10803676},null,{"$f":"D13*'App.2-ZA_Com. Exp. Forecast'!K29","v":25625492.908690635},null,{"$f":"'App.2-ZA_Com. Exp. Forecast'!F29+'App.2-ZA_Com. Exp. Forecast'!H29","v":5085587.712801924},null,{"$f":"H13*'App.2-ZA_Com. Exp. Forecast'!J29","v":296642.33128773625}]
[{"$f":"IF('App.2-ZA_Com. Exp. Forecast'!B30=\"\",\"\",'App.2-ZA_Com. Exp. Forecast'!B30)","v":"General Service < 50 kW"},"kWh",null,{"$f":"'App.2-ZA_Com. Exp. Forecast'!I30","v":90618399.063443586},null,{"$f":"D14*'App.2-ZA_Com. Exp. Forecast'!K30","v":8463758.472525632},null,{"$f":"'App.2-ZA_Com. Exp. Forecast'!F30+'App.2-ZA_Com. Exp. Forecast'!H30","v":18667228.879863314},null,{"$f":"H14*'App.2-ZA_Com. Exp. Forecast'!J30","v":1088859.4605624271}]
[{"$f":"IF('App.2-ZA_Com. Exp. Forecast'!B31=\"\",\"\",'App.2-ZA_Com. Exp. Forecast'!B31)","v":"General Service 50-999 kW"},"kWh",null,{"$f":"'App.2-ZA_Com. Exp. Forecast'!I31","v":36257593.065831415},null,{"$f":"D15*'App.2-ZA_Com. Exp. Forecast'!K31","v":3386459.1923486544},null,{"$f":"'App.2-ZA_Com. Exp. Forecast'!F31+'App.2-ZA_Com. Exp. Forecast'!H31","v":155667134.29914203},null,{"$f":"H15*'App.2-ZA_Com. Exp. Forecast'!J31","v":9080063.9436689541}]
[{"$f":"IF('App.2-ZA_Com. Exp. Forecast'!B32=\"\",\"\",'App.2-ZA_Com. Exp. Forecast'!B32)","v":"General Service 1000-4999 kW"},"kWh",null,{"$f":"'App.2-ZA_Com. Exp. Forecast'!I32","v":0},null,{"$f":"D16*'App.2-ZA_Com. Exp. Forecast'!K32","v":0},null,{"$f":"'App.2-ZA_Com. Exp. Forecast'!F32+'App.2-ZA_Com. Exp. Forecast'!H32","v":117938103.69670659},null,{"$f":"H16*'App.2-ZA_Com. Exp. Forecast'!J32","v":6879329.5886288956}]
[{"$f":"IF('App.2-ZA_Com. Exp. Forecast'!B33=\"\",\"\",'App.2-ZA_Com. Exp. Forecast'!B33)","v":"Large Users"},"kWh",null,{"$f":"'App.2-ZA_Com. Exp. Forecast'!I33","v":0},null,{"$f":"D17*'App.2-ZA_Com. Exp. Forecast'!K33","v":0},null,{"$f":"'App.2-ZA_Com. Exp. Forecast'!F33+'App.2-ZA_Com. Exp. Forecast'!H33","v":163511847.13348639},null,{"$f":"H17*'App.2-ZA_Com. Exp. Forecast'!J33","v":9537646.0432962608}]
[{"$f":"IF('App.2-ZA_Com. Exp. Forecast'!B34=\"\",\"\",'App.2-ZA_Com. Exp. Forecast'!B34)","v":"Streetlight"},"kWh",null,{"$f":"'App.2-ZA_Com. Exp. Forecast'!I34","v":0},null,{"$f":"D18*'App.2-ZA_Com. Exp. Forecast'!K34","v":0},null,{"$f":"'App.2-ZA_Com. Exp. Forecast'!F34+'App.2-ZA_Com. Exp. Forecast'!H34","v":3193821.2520130263},null,{"$f":"H18*'App.2-ZA_Com. Exp. Forecast'!J34","v":186295.59362991984}]
[{"$f":"IF('App.2-ZA_Com. Exp. Forecast'!B35=\"\",\"\",'App.2-ZA_Com. Exp. Forecast'!B35)","v":"Sentinel"},"kWh",null,{"$f":"'App.2-ZA_Com. Exp. Forecast'!I35","v":404325.35127287742},null,{"$f":"D19*'App.2-ZA_Com. Exp. Forecast'!K35","v":37763.987808886755},null,{"$f":"'App.2-ZA_Com. Exp. Forecast'!F35+'App.2-ZA_Com. Exp. Forecast'!H35","v":35091.428459058203},null,{"$f":"H19*'App.2-ZA_Com. Exp. Forecast'!J35","v":2046.883022016865}]
[{"$f":"IF('App.2-ZA_Com. Exp. Forecast'!B36=\"\",\"\",'App.2-ZA_Com. Exp. Forecast'!B36)","v":"Unmetered Scattered Load"},"kWh",null,{"$f":"'App.2-ZA_Com. Exp. Forecast'!I36","v":1943600.4621500566},null,{"$f":"D20*'App.2-ZA_Com. Exp. Forecast'!K36","v":181532.28316481531},null,{"$f":"'App.2-ZA_Com. Exp. Forecast'!F36+'App.2-ZA_Com. Exp. Forecast'!H36","v":349664.23876284325},null,{"$f":"H20*'App.2-ZA_Com. Exp. Forecast'!J36","v":20395.915047036648}]
[{"$f":"IF('App.2-ZA_Com. Exp. Forecast'!B37=\"\",\"\",'App.2-ZA_Com. Exp. Forecast'!B37)","v":""},null,null,{"$f":"'App.2-ZA_Com. Exp. Forecast'!I37","v":0},null,{"$f":"D21*'App.2-ZA_Com. Exp. Forecast'!K37","v":0},null,{"$f":"'App.2-ZA_Com. Exp. Forecast'!F37+'App.2-ZA_Com. Exp. Forecast'!H37","v":0},null,{"$f":"H21*'App.2-ZA_Com. Exp. Forecast'!J37","v":0}]
[{"$f":"IF('App.2-ZA_Com. Exp. Forecast'!B38=\"\",\"\",'App.2-ZA_Com. Exp. Forecast'!B38)","v":""},null,null,{"$f":"'App.2-ZA_Com. Exp. Forecast'!I38","v":0},null,{"$f":"D22*'App.2-ZA_Com. Exp. Forecast'!K38","v":0},null,{"$f":"'App.2-ZA_Com. Exp. Forecast'!F38+'App.2-ZA_Com. Exp. Forecast'!H38","v":0},null,{"$f":"H22*'App.2-ZA_Com. Exp. Forecast'!J38","v":0}]
[{"$f":"IF('App.2-ZA_Com. Exp. Forecast'!B39=\"\",\"\",'App.2-ZA_Com. Exp. Forecast'!B39)","v":""},null,null,{"$f":"'App.2-ZA_Com. Exp. Forecast'!I39","v":0},null,{"$f":"D23*'App.2-ZA_Com. Exp. Forecast'!K39","v":0},null,{"$f":"'App.2-ZA_Com. Exp. Forecast'!F39+'App.2-ZA_Com. Exp. Forecast'!H39","v":0},null,{"$f":"H23*'App.2-ZA_Com. Exp. Forecast'!J39","v":0}]
["SUB-TOTAL",null,null,{"$f":"SUM(D13:D20)","v":403586797.0507347},null,{"$f":"SUM(F13:F23)","v":37695006.844538614},null,{"$f":"SUM(H13:H20)","v":464448478.64123517},null,{"$f":"SUM(J13:J23)","v":27091279.759143252},{"$f":"F24+J24","v":64786286.603681862}]
[]
["Global Adjustment non-RPP","Units",null,"Volume","Rate","$ ",null,"Volume","Rate","$ ","Total"]
["Class per Load Forecast "]
[{"$f":"IF(A13=\"\",\"\",A13 & \" - Class B\")","v":"Residential - Class B"},"kWh",null,null,null,{"$f":"D28*E28","v":0},null,null,null,{"$f":"'App.2-ZA_Com. Exp. Forecast'!L55","v":198541.34430778711}]
[{"$f":"IF(A14=\"\",\"\",A14 & \" - Class B\")","v":"General Service < 50 kW - Class B"},"kWh",null,null,null,{"$f":"D29*E29","v":0},null,null,null,{"$f":"'App.2-ZA_Com. Exp. Forecast'!L56","v":726401.18132852833}]
["General Service 50-999 kW - Class B","kWh",null,null,null,0,null,null,null,{"$f":"'App.2-ZA_Com. Exp. Forecast'!L57","v":5348673.4513319358}]
["General Service 1000-4999 kW - Class B","kWh",null,null,null,0,null,null,null,{"$f":"'App.2-ZA_Com. Exp. Forecast'!L58","v":378115.29284347693}]
["Large Users - Class B","kWh",null,null,null,0,null,null,null,{"$f":"'App.2-ZA_Com. Exp. Forecast'!L59","v":0}]
["Streetlight - Class B","kWh",null,null,null,0,null,null,null,{"$f":"'App.2-ZA_Com. Exp. Forecast'!L60","v":124686.78167858854}]
["Sentinel - Class B","kWh",null,null,null,0,null,null,null,{"$f":"'App.2-ZA_Com. Exp. Forecast'!L61","v":1369.9693670416323}]
["Unmetered Scattered Load - Class B","kWh",null,null,null,0,null,null,null,{"$f":"'App.2-ZA_Com. Exp. Forecast'!L62","v":13650.891881301401}]
["",null,null,null,null,0,null,null,null,{"$f":"'App.2-ZA_Com. Exp. Forecast'!L63","v":0}]
["",null,null,null,null,0,null,null,null,{"$f":"'App.2-ZA_Com. Exp. Forecast'!L64","v":0}]
["",null,null,null,null,0,null,null,null,{"$f":"'App.2-ZA_Com. Exp. Forecast'!L65","v":0}]
[{"$f":"IF('App.2-ZA_Com. Exp. Forecast'!B45=\"\",\"\",'App.2-ZA_Com. Exp. Forecast'!B45 & \" - Class A\")","v":"General Service < 50 kW - Class A"},"kWh",null,null,null,{"$f":"D39*E39","v":0},null,null,null,{"$f":"'App.2-ZA_Com. Exp. Forecast'!L45","v":2352.8802429256284}]
[{"$f":"IF('App.2-ZA_Com. Exp. Forecast'!B46=\"\",\"\",'App.2-ZA_Com. Exp. Forecast'!B46 & \" - Class A\")","v":"General Service 50-999 kW - Class A"},"kWh",null,null,null,0,null,null,null,{"$f":"'App.2-ZA_Com. Exp. Forecast'!L46","v":724092.54872476624}]
[{"$f":"IF('App.2-ZA_Com. Exp. Forecast'!B47=\"\",\"\",'App.2-ZA_Com. Exp. Forecast'!B47 & \" - Class A\")","v":"General Service 1000-4999 kW - Class A"},"kWh",null,null,null,0,null,null,null,{"$f":"'App.2-ZA_Com. Exp. Forecast'!L47","v":3918750.3988788258}]
[{"$f":"IF('App.2-ZA_Com. Exp. Forecast'!B48=\"\",\"\",'App.2-ZA_Com. Exp. Forecast'!B48 & \" - Class A\")","v":"Large Users - Class A"},"kWh",null,null,null,0,null,null,null,{"$f":"'App.2-ZA_Com. Exp. Forecast'!L48","v":5575753.9872518852}]
[{"$f":"IF('App.2-ZA_Com. Exp. Forecast'!B49=\"\",\"\",'App.2-ZA_Com. Exp. Forecast'!B49 & \" - Class A\")","v":""},null,null,null,null,0,null,null,null,{"$f":"'App.2-ZA_Com. Exp. Forecast'!L49","v":0}]
["SUB-TOTAL",null,null,null,null,{"$f":"SUM(F28:F43)","v":0},null,null,null,{"$f":"SUM(J28:J43)","v":17012388.727837063},{"$f":"F44+J44","v":17012388.727837063}]
[]
["Transmission - Network",null,null," Volume","Rate","$ ",null,"Volume","Rate","$ ","Total"]
["Class per Load Forecast "]
[{"$f":"IF(A13=\"\",\"\",A13)","v":"Residential"},"kWh",null,274362879.10803676,9.9000000000000008E-3,{"$f":"D48*E48","v":2716192.5031695641},null,5085587.712801924,9.9000000000000008E-3,{"$f":"H48*I48","v":50347.318356739052}]
[{"$f":"IF(A14=\"\",\"\",A14)","v":"General Service < 50 kW"},"kWh",null,90618399.063443586,9.2999999999999992E-3,{"$f":"D49*E49","v":842751.11129002529},null,18667228.879863314,9.2999999999999992E-3,{"$f":"H49*I49","v":173605.2285827288}]
["General Service 50-999 kW","kW",null,103604.2021568846,3.7248000000000001,385904.93219396373,null,421156.11932352884,3.7248000000000001,1568722.3132562803]
["General Service 1000-4999 kW","kW",null,0,3.9561000000000002,0,null,221950.39878743488,3.9561000000000002,878057.9726429712]
["Large Users","kW",null,0,4.3803000000000001,0,null,471570.95486783015,4.3803000000000001,2065622.2536075565]
["Streetlight","kW",null,0,2.8090999999999999,0,null,8430.0804711743476,2.8090999999999999,23680.939051575861]
["Sentinel","kW",null,1060.085487599561,2.8231999999999999,2992.8333485910807,null,92.181346747787927,2.8231999999999999,260.24637813835488]
["Unmetered Scattered Load","kWh",null,1943600.4621500566,9.2999999999999992E-3,18075.484297995525,null,349664.23876284325,9.2999999999999992E-3,3251.877420494442]
["",null,null,null,null,0,null,null,null,0]
["",null,null,null,null,0,null,null,null,0]
["",null,null,null,null,{"$f":"D58*E58","v":0},null,null,null,{"$f":"H58*I58","v":0}]
["SUB-TOTAL",null,null,{"$f":"SUM(D48:D55)","v":367029542.9212749},null,{"$f":"SUM(F48:F58)","v":3965916.8643001392},null,{"$f":"SUM(H48:H55)","v":25225680.566224799},null,{"$f":"SUM(J48:J58)","v":4763548.1492964849},{"$f":"F59+J59","v":8729465.0135966241}]
[]
["Transmission - Connection",null,null,"Volume","Rate","$ ",null,"Volume","Rate","$ ","Total"]
["Class per Load Forecast "]
[{"$f":"IF(A48=\"\",\"\",A48)","v":"Residential"},"kWh",null,{"$f":"D48","v":274362879.10803676},8.0000000000000002E-3,{"$f":"D63*E63","v":2194903.032864294},null,{"$f":"H48","v":5085587.712801924},8.0000000000000002E-3,{"$f":"H63*I63","v":40684.70170241539}]
[{"$f":"IF(A49=\"\",\"\",A49)","v":"General Service < 50 kW"},"kWh",null,{"$f":"D49","v":90618399.063443586},7.0000000000000001E-3,{"$f":"D64*E64","v":634328.79344410507},null,{"$f":"H49","v":18667228.879863314},7.0000000000000001E-3,{"$f":"H64*I64","v":130670.60215904321}]
["General Service 50-999 kW","kW",null,103604.2021568846,2.8586999999999998,{"$f":"D65*E65","v":296173.33270588599},null,421156.11932352884,2.8586999999999998,1203958.9983101718]
["General Service 1000-4999 kW","kW",null,0,3.1339000000000001,0,null,221950.39878743488,3.1339000000000001,695570.35475994216]
["Large Users","kW",null,0,3.5836999999999999,0,null,471570.95486783015,3.5836999999999999,1689968.8309598428]
["Streetlight","kW",null,0,2.2103000000000002,0,null,8430.0804711743476,2.2103000000000002,18633.006865436662]
["Sentinel","kW",null,1060.085487599561,2.2563,2391.8708856708895,null,92.181346747787927,2.2563,207.98877266703388]
["Unmetered Scattered Load","kWh",null,1943600.4621500566,7.0000000000000001E-3,13605.203235050396,null,349664.23876284325,7.0000000000000001E-3,2447.6496713399029]
["",null,null,null,null,0,null,null,null,{"$f":"H71*I71","v":0}]
["",null,null,null,null,{"$f":"D72*E72","v":0},null,null,null,0]
["",null,null,null,null,{"$f":"D73*E73","v":0},null,null,null,0]
["SUB-TOTAL",null,null,{"$f":"SUM(D63:D70)","v":367029542.9212749},null,{"$f":"SUM(F63:F73)","v":3141402.2331350064},null,{"$f":"SUM(H63:H70)","v":25225680.566224799},null,{"$f":"SUM(J63:J73)","v":3782142.1332008587},{"$f":"F74+J74","v":6923544.3663358651}]
[]
["Wholesale Market Service",null,null," Volume","Rate","$ ",null,"Volume","Rate","$ ","Total"]
["Class per Load Forecast "]
[{"$f":"IF(A63=\"\",\"\",A63)","v":"Residential"},"kwh",null,{"$f":"D13","v":274362879.10803676},4.1000000000000003E-3,{"$f":"D78*E78","v":1124887.8043429507},null,{"$f":"H13","v":5085587.712801924},4.1000000000000003E-3,{"$f":"H78*I78","v":20850.909622487889}]
["General Service < 50 kW","kwh",null,{"$f":"D14","v":90618399.063443586},4.1000000000000003E-3,{"$f":"D79*E79","v":371535.43616011873},null,{"$f":"H14","v":18667228.879863314},4.1000000000000003E-3,{"$f":"H79*I79","v":76535.63840743959}]
["General Service 50-999 kW","kwh",null,36257593.065831415,4.1000000000000003E-3,148656.13156990882,null,155667134.29914203,4.1000000000000003E-3,638235.25062648242]
["General Service 1000-4999 kW","kwh",null,0,4.1000000000000003E-3,0,null,117938103.69670659,4.1000000000000003E-3,483546.22515649709]
["Large Users","kwh",null,0,4.1000000000000003E-3,0,null,163511847.13348639,4.1000000000000003E-3,670398.57324729429]
["Streetlight","kwh",null,0,4.1000000000000003E-3,0,null,3193821.2520130263,4.1000000000000003E-3,13094.66713325341]
[{"$f":"IF(A69=\"\",\"\",A69)","v":"Sentinel"},"kwh",null,404325.35127287742,4.1000000000000003E-3,1657.7339402187977,null,35091.428459058203,4.1000000000000003E-3,143.87485668213864]
["Unmetered Scattered Load","kwh",null,1943600.4621500566,4.1000000000000003E-3,7968.7618948152331,null,349664.23876284325,4.1000000000000003E-3,1433.6233789276575]
["",null,null,null,null,0,null,null,null,0]
["",null,null,null,null,{"$f":"D87*E87","v":0},null,null,null,{"$f":"H87*I87","v":0}]
[{"$f":"IF(A73=\"\",\"\",A73)","v":""},null,null,null,null,{"$f":"D88*E88","v":0},null,null,null,{"$f":"H88*I88","v":0}]
["SUB-TOTAL",null,null,{"$f":"SUM(D78:D85)","v":403586797.0507347},null,{"$f":"SUM(F78:F88)","v":1654705.8679080124},null,{"$f":"SUM(H78:H85)","v":464448478.64123517},null,{"$f":"SUM(J78:J88)","v":1904238.7624290641},{"$f":"F89+J89","v":3558944.6303370763}]
[]
["Class A CBR ",null,null," Volume","Rate","$ ",null,"Volume","Rate","$ ","Total"]
["Class per Load Forecast "]
[{"$f":"IF(A78=\"\",\"\",A78)","v":"Residential"},null,null,null,null,{"$f":"D93*E93","v":0},null,null,null,{"$f":"H93*I93","v":0}]
["General Service < 50 kW",null,null,null,null,{"$f":"D94*E94","v":0},null,60641.243374371865,1.3958856260756371E-4,{"$f":"H94*I94","v":8.4648239973640145}]
["General Service 50-999 kW",null,null,null,null,0,null,18662179.09084449,1.4941736978144534E-4,2788.4537141442684]
["General Service 1000-4999 kW",null,null,null,null,0,null,108252773.44969131,1.3958856260756371E-4,15110.849044124645]
["Large Users",null,null,null,null,0,null,163511847.13348639,1.3148803940937339E-4,21499.852199787296]
["Streetlight",null,null,null,null,0,null,null,null,0]
[{"$f":"IF(A84=\"\",\"\",A84)","v":"Sentinel"},null,null,null,null,0,null,null,null,0]
["Unmetered Scattered Load",null,null,null,null,0,null,null,null,0]
["",null,null,null,null,0,null,null,null,0]
["",null,null,null,null,0,null,null,null,{"$f":"H102*I102","v":0}]
[{"$f":"IF(A88=\"\",\"\",A88)","v":""},null,null,null,null,{"$f":"D103*E103","v":0},null,null,null,0]
["SUB-TOTAL",null,null,null,null,{"$f":"SUM(F93:F103)","v":0},null,{"$f":"SUM(H93:H100)","v":290487440.91739655},null,{"$f":"SUM(J93:J103)","v":39407.619782053574},{"$f":"F104+J104","v":39407.619782053574}]
[]
["Class B CBR ",null,null," Volume","Rate","$ ",null,"Volume","Rate","$ ","Total"]
["Class per Load Forecast "]
[{"$f":"IF(A93=\"\",\"\",A93)","v":"Residential"},"kWh",null,{"$f":"D78","v":274362879.10803676},4.0000000000000002E-4,{"$f":"D108*E108","v":109745.1516432147},null,{"$f":"H78-H93","v":5085587.712801924},4.0000000000000002E-4,{"$f":"H108*I108","v":2034.2350851207698}]
["General Service < 50 kW","kWh",null,{"$f":"D79","v":90618399.063443586},4.0000000000000002E-4,{"$f":"D109*E109","v":36247.359625377438},null,{"$f":"H79-H94","v":18606587.636488944},4.0000000000000002E-4,{"$f":"H109*I109","v":7442.6350545955784}]
["General Service 50-999 kW","kWh",null,36257593.065831415,4.0000000000000002E-4,14503.037226332566,null,137004955.20829755,4.0000000000000002E-4,54801.982083319024]
["General Service 1000-4999 kW","kWh",null,0,4.0000000000000002E-4,0,null,9685330.2470152825,4.0000000000000002E-4,3874.1320988061134]
["Large Users","kWh",null,0,4.0000000000000002E-4,0,null,0,4.0000000000000002E-4,0]
["Streetlight","kWh",null,0,4.0000000000000002E-4,0,null,3193821.2520130263,4.0000000000000002E-4,1277.5285008052106]
[{"$f":"IF(A99=\"\",\"\",A99)","v":"Sentinel"},"kWh",null,404325.35127287742,4.0000000000000002E-4,161.73014050915097,null,35091.428459058203,4.0000000000000002E-4,14.036571383623281]
["Unmetered Scattered Load","kWh",null,1943600.4621500566,4.0000000000000002E-4,777.44018486002267,null,349664.23876284325,4.0000000000000002E-4,139.8656955051373]
["",null,null,null,null,0,null,null,null,0]
["",null,null,null,null,{"$f":"D117*E117","v":0},null,null,null,{"$f":"H117*I117","v":0}]
[{"$f":"IF(A103=\"\",\"\",A103)","v":""},null,null,null,null,0,null,null,null,{"$f":"H118*I118","v":0}]
["SUB-TOTAL",null,null,{"$f":"SUM(D108:D115)","v":403586797.0507347},null,{"$f":"SUM(F108:F118)","v":161434.71882029387},null,{"$f":"SUM(H108:H115)","v":173961037.72383863},null,{"$f":"SUM(J108:J118)","v":69584.415089535469},{"$f":"F119+J119","v":231019.13390982934}]
[]
["RRRP",null,null," Volume","Rate","$ ",null,"Volume","Rate","$ ","Total"]
["Class per Load Forecast "]
[{"$f":"IF(A108=\"\",\"\",A108)","v":"Residential"},"kWh",null,{"$f":"D78","v":274362879.10803676},6.9999999999999999E-4,{"$f":"D123*E123","v":192054.01537562572},null,{"$f":"H78","v":5085587.712801924},6.9999999999999999E-4,{"$f":"H123*I123","v":3559.9113989613465}]
["General Service < 50 kW","kWh",null,{"$f":"D79","v":90618399.063443586},6.9999999999999999E-4,{"$f":"D124*E124","v":63432.87934441051},null,{"$f":"H79","v":18667228.879863314},6.9999999999999999E-4,{"$f":"H124*I124","v":13067.060215904319}]
["General Service 50-999 kW","kWh",null,36257593.065831415,6.9999999999999999E-4,25380.31514608199,null,155667134.29914203,6.9999999999999999E-4,108966.99400939942]
["General Service 1000-4999 kW","kWh",null,0,6.9999999999999999E-4,0,null,117938103.69670659,6.9999999999999999E-4,82556.672587694615]
["Large Users","kWh",null,0,6.9999999999999999E-4,0,null,163511847.13348639,6.9999999999999999E-4,114458.29299344047]
["Streetlight","kWh",null,0,6.9999999999999999E-4,0,null,3193821.2520130263,6.9999999999999999E-4,2235.6748764091185]
[{"$f":"IF(A114=\"\",\"\",A114)","v":"Sentinel"},"kWh",null,404325.35127287742,6.9999999999999999E-4,283.02774589101421,null,35091.428459058203,6.9999999999999999E-4,24.563999921340741]
["Unmetered Scattered Load","kWh",null,1943600.4621500566,6.9999999999999999E-4,1360.5203235050396,null,349664.23876284325,6.9999999999999999E-4,244.76496713399027]
["",null,null,null,null,0,null,null,null,0]
["",null,null,null,null,0,null,null,null,{"$f":"H132*I132","v":0}]
[{"$f":"IF(A118=\"\",\"\",A118)","v":""},null,null,null,null,{"$f":"D133*E133","v":0},null,null,null,{"$f":"H133*I133","v":0}]
["SUB-TOTAL",null,null,{"$f":"SUM(D123:D130)","v":403586797.0507347},null,{"$f":"SUM(F123:F133)","v":282510.75793551427},null,{"$f":"SUM(H123:H130)","v":464448478.64123517},null,{"$f":"SUM(J123:J133)","v":325113.93504886457},{"$f":"F134+J134","v":607624.6929843789}]
[]
["Low Voltage - No TLF adjustment",null,null,"Volume","Rate","$ ",null,"Volume","Rate","$ ","Total"]
["Class per Load Forecast "]
[{"$f":"IF(A123=\"\",\"\",A123)","v":"Residential"},"kWh",null,263001226.13883895,4.1690333378659823E-4,{"$f":"D138*E138","v":109646.08796724498},null,4874988.2216276117,4.1690333378659823E-4,{"$f":"H138*I138","v":2032.3988417669511}]
["General Service < 50 kW","kWh",null,86865796.648239642,3.6619887290228553E-4,{"$f":"D139*E139","v":31810.15682634449},null,17894199.463059161,3.6619887290228553E-4,{"$f":"H139*I139","v":6552.8356748609476}]
["General Service 50-999 kW","kW",null,103604.2021568846,0.14263869587656872,14777.968282990407,null,421156.11932352884,0.14263869587656872,60073.159620744715]
["General Service 1000-4999 kW","kW",null,0,0.1563668333468613,0,null,221950.39878743488,0.1563668333468613,34705.681018464238]
["Large Users","kW",null,0,0.17881141963416713,0,null,471570.95486783015,0.17881141963416713,84322.271898156469]
["Streetlight","kW",null,0,0.11028414160583404,0,null,8430.0804711743476,0.11028414160583404,929.7041884315679]
[{"$f":"IF(A129=\"\",\"\",A129)","v":"Sentinel"},"kW",null,1060.085487599561,0.11257936477938162,119.3437508057996,null,92.181346747787927,0.11257936477938162,10.37771746137388]
["Unmetered Scattered Load","kWh",null,1863113.9399444563,3.6619881969298681E-4,682.27012576121024,null,335184.27795517951,3.6619881969298681E-4,122.74408696683275]
[{"$f":"IF(A131=\"\",\"\",A131)","v":""},null,null,null,null,0,null,null,null,0]
[{"$f":"IF(A132=\"\",\"\",A132)","v":""},null,null,null,null,{"$f":"D147*E147","v":0},null,null,null,{"$f":"H147*I147","v":0}]
[{"$f":"IF(A133=\"\",\"\",A133)","v":""},null,null,null,null,0,null,null,null,{"$f":"H148*I148","v":0}]
["SUB-TOTAL",null,null,{"$f":"SUM(D138:D145)","v":351834801.01466757},null,{"$f":"SUM(F138:F148)","v":157035.8269531469},null,{"$f":"SUM(H138:H145)","v":24227571.697438665},null,{"$f":"SUM(J138:J148)","v":188749.17304685307},{"$f":"F149+J149","v":345785}]
[]
["Smart Meter Entity Charge",null,null,"Customers","Rate","$ ",null,"Customers","Rate","$ ","Total"]
["Class per Load Forecast "]
["Residental ",null,null,32777,0.42,{"$f":"D153*E153*12","v":165196.08000000002},null,641,0.42,{"$f":"H153*I153*12","v":3230.6399999999994}]
["General Sevice < 50 kW",null,null,3124,0.42,{"$f":"D154*E154*12","v":15744.96},null,327,0.42,{"$f":"H154*I154*12","v":1648.08}]
[null,null,null,null,null,0,null,null,null,0]
[null,null,null,null,null,0,null,null,null,0]
[null,null,null,null,null,0,null,null,null,0]
[null,null,null,null,null,0,null,null,null,0]
[null,null,null,null,null,0,null,null,null,0]
[null,null,null,null,null,0,null,null,null,{"$f":"H160*I160*12","v":0}]
["SUB-TOTAL",null,null,null,null,{"$f":"SUM(F153:F160)","v":180941.04},null,null,null,{"$f":"SUM(J153:J160)","v":4878.7199999999993},{"$f":"F161+J161","v":185819.76}]
[]
["SUB- TOTAL",null,null,null,null,{"$f":"SUM(F24+F59+F74+F89+F134+F149+F161+F119)","v":47238954.153590739},null,null,null,{"$f":"J24+J44+J59+J74+J89+J104+J119+J134+J149+J161","v":55181331.394874029},{"$f":"+F163+J163","v":102420285.54846478}]
["OER CREDIT",0.17,null,null,null,{"$f":"-F163*B164","v":-8030622.2061104262},null,null,null,0,{"$f":"+F164+J164","v":-8030622.2061104262}]
["TOTAL",null,null,null,null,{"$f":"+F163+F164","v":39208331.947480313},null,null,null,{"$f":"+J163+J164","v":55181331.394874029},{"$f":"+K163+K164","v":94389663.342354342}]
[]
["3.The OER Credit of 17% will only apply to RPP proportion of the listed components. Impacts on distribution charges are excluded for the purpose of calculating the cost of power. "]
["4. Class A CBR: use the average CBR per kWh, similar to how the Class A GA cost is calculated"]
[]
[null,null,null,{"$f":"D10 & \" - Cop\"","v":"2023 Test Year - Cop"}]
[null,null,null,"4705 -Power Purchased",{"$f":"K24","v":64786286.603681862}]
[null,null,null,"4707- Global Adjustment",{"$f":"K44","v":17012388.727837063}]
[null,null,null,"4708-Charges-WMS",{"$f":"(K89+K104+K119+K134)","v":4436996.077013338}]
[null,null,null,"4714-Charges-NW",{"$f":"K59","v":8729465.0135966241}]
[null,null,null,"4716-Charges-CN",{"$f":"K74","v":6923544.3663358651}]
[null,null,null,"4750-Charges-LV",{"$f":"K149","v":345785}]
[null,null,null,"4751-IESO SME",{"$f":"K161","v":185819.76}]
[null,null,null,"Misc A/R or A/P",{"$f":"+K164","v":-8030622.2061104262}]
[null,null,null,"TOTAL",{"$f":"SUM(E171:E178)","v":94389663.342354327}]
[null,null,null,null,{"$f":"+E179-K165","v":0}]

{"sheet":"App.2-S_Stranded Meters","index":58,"n_rows":96,"n_cols":8,"rows_kept":96,"cut":false,"hidden":true,"merged":[[95,0,98,7],[88,1,90,7],[92,1,93,7],[73,1,74,7],[80,1,82,7],[84,1,86,7],[76,1,78,7],[66,2,68,7],[70,0,71,7],[41,1,42,7],[44,1,46,7],[48,1,51,7],[53,1,56,7],[61,2,64,7],[8,0,8,7],[9,0,9,7],[33,0,36,7],[38,0,39,7],[58,2,59,7]]}
[null,null,null,null,null,null,"File Number:",{"$f":"EBNUMBER","v":"EB-2022-0016"}]
[null,null,null,null,null,null,"Exhibit:"]
[null,null,null,null,null,null,"Tab:"]
[null,null,null,null,null,null,"Schedule:"]
[null,null,null,null,null,null,"Page:"]
[]
[null,null,null,null,null,null,"Date:"]
[]
["Appendix 2-S"]
["Stranded Meter Treatment"]
[]
["Year","Notes","Gross Asset Value","Accumulated Amortization","Contributed Capital (Net of Amortization)","Net Asset","Proceeds on Disposition","Residual Net Book Value"]
[null,null,"(A)","(B)","(C)","(D ) = (A) - (B) - (C)","(E)","(F) = (D) - (E)"]
[2006,null,null,null,null,{"$f":"C14-D14-E14","v":0},null,{"$f":"F14-G14","v":0}]
[2007,null,null,null,null,0,null,0]
[2008,null,null,null,null,0,null,0]
[2009,null,null,null,null,0,null,0]
[2010,null,null,null,null,0,null,0]
[2011,null,null,null,null,0,null,0]
[2012,null,null,null,null,0,null,0]
[2013,null,null,null,null,{"$f":"C21-D21-E21","v":0},null,{"$f":"F21-G21","v":0}]
[2014,null,null,null,null,{"$f":"C22-D22-E22","v":0},null,{"$f":"F22-G22","v":0}]
[2015,null,null,null,null,{"$f":"C23-D23-E23","v":0},null,{"$f":"F23-G23","v":0}]
[2016,null,null,null,null,{"$f":"C24-D24-E24","v":0},null,{"$f":"F24-G24","v":0}]
[2017,null,null,null,null,{"$f":"C25-D25-E25","v":0},null,{"$f":"F25-G25","v":0}]
[2018,"(1)",null,null,null,0,null,0]
[2019,null,null,null,null,{"$f":"C27-D27-E27","v":0},null,{"$f":"F27-G27","v":0}]
[2020,null,null,null,null,{"$f":"C28-D28-E28","v":0},null,{"$f":"F28-G28","v":0}]
[]
["Notes:"]
[]
["(1)","For 2018, please indicate whether the amounts provided are on a forecast or actual basis."]
[]
["Some distributors have transferred the cost of stranded meters from Account 1860 - Meters to \"Sub-account Stranded Meter Costs of Account 1555\", while in some cases distributors have left these costs in Account 1860.  Depending on which treatment the applicant has chosen. please provide the information under either of the two scenarios (A and B below), as applicable."]
[]
[]
[]
[]
["Scenario A:  If the stranded meter costs were transferred to \"Sub-account Stranded Meter Costs\" of Account 1555, the above table should be completed and the following information should be provided in Exhibit 9."]
[]
[]
[1,"A description of the accounting treatment followed by the applicant on stranded meter costs for financial accounting and reporting purposes."]
[]
[]
[2,"The amount of the pooled residual net book value of the removed from service stranded meters, less any contributed capital (net of accumulated amortization), and less any net proceeds from sales, which were transferred to this sub-account as of December 31, 2010."]
[]
[]
[]
[3,"A statement as to whether or not, since transferring the removed stranded meter costs to the sub-account, the recording of depreciation expenses was continued in order to reduce the net book value through accumulated depreciation.  If so, the total depreciation expense amount for the period from the time the costs for the stranded meters were transferred to the sub-account to December 31, 2010 should be provided."]
[]
[]
[]
[]
[null,"If no depreciation expenses were recorded to reduce the net book value of stranded meter costs through accumulated depreciation, the total depreciation expense amount that would have been applicable from the time that the stranded meter costs were transferred to the sub-account of Account 1555 to December 31, 2010 should be provided.  In addition, the following information should be provided:"]
[]
[]
[]
[]
[null,"a)","Whether or not carrying charges were recorded for the stranded meter cost balances in the sub-account, and if so, the total carrying charges recorded to December 31, 2010."]
[]
[]
[null,"b)","The estimated amount of the pooled residual net book value of the removed from service meters, less any net proceeds from sales and contributed capital, at the time when the smart meters will have been fully deployed (e.g., as of December 31, 2010).  If the smart meters have been fully deployed, the actual amount should be provided."]
[]
[]
[]
[]
[null,"c)","A description as to how the applicant intends to recover in rates the remaining costs for stranded meters, including the proposed accounting treatment, the proposed disposition period, and the associated bill impacts."]
[]
[]
[]
["Scenario B:  If the stranded meter costs remained recorded in Account 1860, the above table should be completed and the following information should be provided in Exhibit 9:"]
[]
[]
[1,"A description of the accounting treatment followed by the applicant on stranded meter costs for financial accounting and reporting purposes."]
[]
[]
[2,"The amount of the pooled residual net book value of the removed from service stranded meters, less any contributed capital (net of accumulated amortization), and less any net proceeds from sales, as of December 31, 2010."]
[]
[]
[]
[3,"A statement as to whether or not the recording of depreciation expenses continued in order to reduce the net book value through accumulated depreciation.  If so, provision of the total (cumulative) depreciation expense for the period from the time that the meters became stranded to December 31, 2010."]
[]
[]
[]
[4,"If no depreciation expenses were recorded to reduce the net book value of stranded meters through accumulated depreciation, the total (cumulative) depreciation expense amount that would have been applicable for the period from the time that the meters became stranded to December 31, 2010."]
[]
[]
[]
[5,"The estimated amount of the pooled residual net book value of the removed from service meters, less any net proceeds from sales and contributed capital, at the time when smart meters will have been fully deployed.  If the smart meters have been fully deployed, please provide the actual amount."]
[]
[]
[]
[6,"A description as to how the applicant intends to recover in rates the costs for stranded meters, including the proposed accounting treatment, the proposed disposition period and the associated bill impacts."]
[]
[]
["Distributors should also provide the Net Book Value per class of meter as of December 31, 2010 as well as the number of meters that were removed / stranded.  In preparing this information, distributors should review the OEB's letter of January 16, 2007 Stranded Meter Costs Related to the Installation of Smart Meters which stated that records were to be kept of the type and number of each meter to support the stranded meter costs."]

{"sheet":"App.2-Y_MIFRS Summary Impacts","index":59,"n_rows":37,"n_cols":9,"rows_kept":37,"cut":false,"hidden":true,"merged":[[36,0,36,8],[29,0,29,2],[29,6,29,8],[30,0,30,2],[30,6,30,8],[31,0,31,2],[31,6,31,8],[32,0,32,2],[32,6,32,8],[33,0,33,2],[33,6,33,8],[34,0,34,2],[34,6,34,8],[26,0,26,2],[26,6,26,8],[27,0,27,2],[27,6,27,8],[28,0,28,2],[28,6,28,8],[23,0,23,2],[23,6,23,8],[24,0,24,2],[24,6,24,8],[25,0,25,2],[25,6,25,8],[20,0,20,2],[20,6,20,8],[21,0,21,2],[21,6,21,8],[22,0,22,2],[22,3,22,5],[22,6,22,8],[17,0,17,2],[17,6,17,8],[18,0,18,2],[18,6,18,8],[19,0,19,2],[19,6,19,8],[8,0,8,8],[9,0,9,8],[10,0,10,8],[14,0,16,2],[14,6,14,8],[15,6,15,8]]}
[null,null,null,null,null,null,null,"File Number:",{"$f":"EBNUMBER","v":"EB-2022-0016"}]
[null,null,null,null,null,null,null,"Exhibit:"]
[null,null,null,null,null,null,null,"Tab:"]
[null,null,null,null,null,null,null,"Schedule:"]
[null,null,null,null,null,null,null,"Page:"]
[]
[null,null,null,null,null,null,null,"Date:"]
[]
["Appendix 2-Y"]
["Summary of Impacts to Revenue Requirement"]
["from Transition to MIFRS"]
[]
[]
[]
["Revenue Requirement Component",null,null,{"$f":"TestYear","v":2023},{"$f":"TestYear","v":2023},"Difference","Reasons why the revenue requirement "]
[null,null,null,"MIFRS","CGAAP 1",null,"component is different under MIFRS"]
[]
["Closing NBV 2017",null,null,null,null,{"$f":"+D18-E18","v":0}]
["Closing NBV 2018",null,null,null,null,{"$f":"+D19-E19","v":0}]
["Average NBV",null,null,{"$f":"(D18+D19)/2","v":0},{"$f":"(E18+E19)/2","v":0},{"$f":"+D20-E20","v":0}]
["Working Capital",null,null,null,null,{"$f":"+D21-E21","v":0}]
["Rate Base",null,null,{"$f":"SUM(D20:D21)","v":0},{"$f":"SUM(E20:E21)","v":0},{"$f":"+D22-E22","v":0}]
[null,null,null,null,null,{"$f":"+D23-E23","v":0}]
["Return on Rate Base",null,null,null,null,0]
[null,null,null,null,null,0]
["OM&A",null,null,null,null,0]
["Depreciation",null,null,null,null,0]
["PILs or Income Taxes",null,null,null,null,0]
[null,null,null,null,null,0]
["Less: Revenue Offsets",null,null,null,null,0]
[null,null,null,null,null,0]
[null,null,null,null,null,0]
[null,null,null,null,null,0]
["Insert description of additional item(s) and new rows if needed.",null,null,null,null,0]
["Total Base Revenue Requirement",null,null,{"$f":"SUM(D24:D34)","v":0},{"$f":"SUM(E24:E34)","v":0},{"$f":"SUM(F24:F34)","v":0}]
[]
["1.  Applicants must provide a summary of the dollar impacts of MIFRS to each component of the revenue requirement (e.g. rate base, operating costs, etc.), including the overall impact on the proposed revenue requirement.  Accordingly, the applicants must identify financial differences and resulting revenue requirement impacts arising from the adoption of  MIFRS as compared to CGAAP.  If the applicant is reflecting the changes in capitalization and depreciation policies for the first time in a rebasing application, then the comparison in the above table should be between MIFRS and CGAAP before the change in accounting policies. If the applicant changed capitalization and depreciation policies and reflected these changes in a previous rebasing application, the comparison in the above table should be between MIFRS and CGAAP after the change in accounting policies.  "]

{"sheet":"Sheet19","index":60,"n_rows":72,"n_cols":9,"rows_kept":72,"cut":false,"hidden":true,"merged":[]}
[null,"CGAAP","CGAAP","CGAAP","MIFRS","USGAAP","ASPE","ASPE","ASPE"]
[null,"N/A",2012,2013,null,null,"N/A",2012,2013]
["LDC Info","x","x","x","x","x","x","x","x"]
["Table of Contents","x","x","x","x","x","x","x","x"]
["COS Flowchart","x","x","x","x","x","x","x","x"]
["List of Key References","x","x","x","x","x","x","x","x"]
["App.2-AA_Capital Projects","x","x","x","x","x","x","x","x"]
["App.2-AB_Capital Expenditures","x","x","x","x","x","x","x","x"]
["App.2-BA1_Fix Asset Cont.CGAAP","x","x","x","n","x","x","x","x"]
["App.2-BA2_Fix Asset Cont.MIFRS","n","n","n","x","n","n","n","n"]
["Appendix 2-BB Service Life Comp","x","x","x","x","x","x","x","x"]
["Instruction for App. 2-C MIFRS","n","n","n","x","n","n","n","n"]
["App.2-CA_CGAAP_DepExp_2011","n","n","n","x","n","n","n","n"]
["App.2-CB_MIFRS_DepExp_2011","n","n","n","x","n","n","n","n"]
["App.2-CC_MIFRS_DepExp_2012","n","n","n","x","n","n","n","n"]
["App.2-CD_MIFRS_DepExp_2013","n","n","n","x","n","n","n","n"]
["App.2-CE_MIFRS_DepExp_2014","n","n","n","x","n","n","n","n"]
["App.2-CF_CGAAP_DepExp_2012","n","n","n","x","n","n","n","n"]
["App.2-CG_MIFRS_DepExp_2012","n","n","n","x","n","n","n","n"]
["App.2-CH_MIFRS_DepExp_2013","n","n","n","x","n","n","n","n"]
["App.2-CI_MIFRS_DepExp_2014","n","n","n","x","n","n","n","n"]
["App.2-CJ_CGAAP_DepExp_2012","n","n","n","x","n","n","n","n"]
["App.2-CK_CGAAP_DepExp_2013","n","n","n","x","n","n","n","n"]
["App.2-CL_MIFRS_DepExp_2013","n","n","n","x","n","n","n","n"]
["App.2-CM_MIFRS_DepExp_2014","n","n","n","x","n","n","n","n"]
["Instruction for App. 2-C CGAAP","x","x","x","n","n","x","x","x"]
["App.2-CN_OldCGAAP_DepExp_2012","x","x","n","n","n","x","x","n"]
["App.2-CO_NewCGAAP_DepExp_2012","x","x","n","n","n","x","x","n"]
["App.2-CP_NewCGAAP_DepExp_2013","x","x","n","n","n","x","x","n"]
["App.2-CQ NewCGAAP_DepExp_2014","x","x","n","n","n","x","x","n"]
["App.2-CR_OldCGAAP_DepExp_2012","x","n","x","n","n","x","n","x"]
["App.2-CS_OldCGAAP_DepExp_2013","x","n","x","n","n","x","n","x"]
["App.2-CT_NewCGAAP_DepExp_2013","x","n","x","n","n","x","n","x"]
["App.2-CU_NewCGAAP_DepExp_2014","x","n","x","n","n","x","n","x"]
["App.2-CV_USGAAP_DepExp","n","n","n","n","x","n","n","n"]
["App.2-DA_Overhead","n","n","n","x","n","n","n","n"]
["App.2-DB_Overhead","x","x","x","n","n","x","x","x"]
["App.2-EA_PP&E Deferral Account","n","n","n","x","x","n","n","n"]
["App.2-EB_PP&E Deferral Account","n","n","n","x","x","n","n","n"]
["App.2-EC_PP&E Deferral Account","n","n","n","x","x","n","n","n"]
["App.2-ED_Account 1576 (2012)","x","x","n","x","x","x","x","n"]
["App.2-EE_Account 1576 (2013)","x","n","x","x","x","x","n","x"]
["App.2-FA Proposed REG Invest.","o","o","o","o","o","o","o","o"]
["App.2-FB Calc of REG Improvemnt","o","o","o","o","o","o","o","o"]
["App.2-FC Calc of REG Expansion","o","o","o","o","o","o","o","o"]
["App.2-G SQI","x","x","x","x","x","x","x","x"]
["App.2-H_Other_Oper_Rev","x","x","x","x","x","x","x","x"]
["App.2-I LF_CDM_WF","x","x","x","x","x","x","x","x"]
["App.2-JA_OM&A_Summary_Analys","x","x","x","x","x","x","x","x"]
["App.2-JB_OM&A_Cost _Drivers","x","x","x","x","x","x","x","x"]
["App.2-JC_OMA Programs","x","x","x","x","x","x","x","x"]
["App.2-K_Employee Costs","x","x","x","x","x","x","x","x"]
["App.2-L_OM&A_per_Cust_FTEE","x","x","x","x","x","x","x","x"]
["App.2-M_Regulatory_Costs","x","x","x","x","x","x","x","x"]
["App.2-N_Corp_Cost_Allocation","x","x","x","x","x","x","x","x"]
["App.2-OA Capital Structure","x","x","x","x","x","x","x","x"]
["App.2-OB_Debt Instruments","x","x","x","x","x","x","x","x"]
["App.2-P_Cost_Allocation","x","x","x","x","x","x","x","x"]
["App.2-Q_Cost of Serv. Emb. Dx","e","e","e","e","e","e","e","e"]
["App.2-R_Loss Factors","x","x","x","x","x","x","x","x"]
["App.2-S_Stranded Meters","x","x","x","x","x","x","x","x"]
["App.2-TA_1592_Tax_Variance","x","x","x","x","x","x","x","x"]
["App.2-TB_1592_HST-OVAT","x","x","x","x","x","x","x","x"]
["App.2-U_IFRS Transition Costs","x","x","x","x","x","x","x","x"]
["App.2-V_Rev_Reconciliation","x","x","x","x","x","x","x","x"]
["App.2-W_Bill Impacts","x","x","x","x","x","x","x","x"]
["App.2-YA_MIFRS Summary Impacts","n","n","n","x","n","n","n","n"]
["App. 2-YB_CGAAP Summary Impacts","x","x","x","n","n","x","x","x"]
["App. 2-Z_Tariff","x","x","x","x","x","x","x","x"]
["lists","n","n","n","n","n","n","n","n"]
["lists2","n","n","n","n","n","n","n","n"]
["Sheet19","n","n","n","n","n","n","n","n"]

{"sheet":"App.2-YA_IFRS Transition Costs","index":61,"n_rows":34,"n_cols":15,"rows_kept":34,"cut":false,"hidden":true,"merged":[[32,1,32,4],[32,5,32,6],[31,1,31,14],[33,1,33,14],[39,0,42,0],[39,1,42,3],[44,0,45,0],[44,1,45,3],[33,0,34,0],[36,0,37,0],[36,1,37,3],[28,0,28,2],[17,0,17,2],[18,0,18,2],[19,0,19,2],[20,0,20,2],[21,0,21,2],[22,0,22,2],[23,0,23,2],[24,0,24,2],[25,0,25,2],[26,0,26,2],[27,0,27,2],[8,0,8,16],[9,0,9,16],[11,0,11,14],[13,11,14,11],[13,14,15,14],[16,0,16,2],[13,0,15,2],[13,13,15,13],[13,10,14,10],[13,12,15,12]]}
[]
[null,null,null,null,null,null,null,null,null,null,null,null,null,"File Number:",{"$f":"EBNUMBER","v":"EB-2022-0016"}]
[null,null,null,null,null,null,null,null,null,null,null,null,null,"Exhibit:"]
[null,null,null,null,null,null,null,null,null,null,null,null,null,"Tab:"]
[null,null,null,null,null,null,null,null,null,null,null,null,null,"Schedule:"]
[null,null,null,null,null,null,null,null,null,null,null,null,null,"Page:"]
[]
[null,null,null,null,null,null,null,null,null,null,null,null,null,"Date:"]
["Appendix 2-YA"]
["One-Time Incremental IFRS Transition Costs"]
[]
["The following table should be completed based on the information requested below. An explanation should be provided for any blank entries.  The entries should include one-time incremental IFRS transition costs that are currently included in Account 1508, Other Regulatory Assets, sub-account Deferred IFRS Transition Costs Account, or Account 1508, Other Regulatory Assets, sub-account IFRS Transition Costs Variance Account."]
[]
["Nature of One-Time Incremental IFRS Transition Costs 1",null,null,null,"Audited Actual Costs Incurred","Audited Actual Costs Incurred","Audited Actual Costs Incurred","Audited Actual Costs Incurred","Audited Actual Costs Incurred","Audited Carrying Charges ","Forecasted Costs ","Forecasted Costs ","Carrying Charges January 1, 2017 to December 31, 2017 or April 30, 2017 (As appropriate)","Total Costs and Carrying Charges","Reasons why the costs recorded meet the criteria of one-time IFRS administrative incremental costs"]
[]
[null,null,null,null,2012,2013,2014,2015,"2016 3","To December 31, 2016","2017 3","2018 3"]
["Professional accounting fees",null,null,null,null,null,null,null,null,null,null,null,null,{"$f":"SUM(E17:M17)","v":0}]
["Professional legal fees",null,null,null,null,null,null,null,null,null,null,null,null,0]
["Salaries, wages and benefits of staff added to support the transition to IFRS",null,null,null,null,null,null,null,null,null,null,null,null,0]
["Associated staff training and development costs",null,null,null,null,null,null,null,null,null,null,null,null,0]
["Costs related to system upgrades, or replacements or changes where IFRS was the major reason for conversion",null,null,null,null,null,null,null,null,null,null,null,null,0]
[null,null,null,null,null,null,null,null,null,null,null,null,null,0]
[null,null,null,null,null,null,null,null,null,null,null,null,null,0]
[null,null,null,null,null,null,null,null,null,null,null,null,null,0]
[null,null,null,null,null,null,null,null,null,null,null,null,null,0]
["Amounts, if any, included in previous Board approved rates (amounts should be negative) 2",null,null,null,null,null,null,null,null,null,null,null,null,0]
[null,null,null,null,null,null,null,null,null,null,null,null,null,0]
["Insert description of additional item(s) and new rows if needed.",null,null,null,null,null,null,null,null,null,null,null,null,0]
["Total",null,null,null,{"$f":"SUM(E17:E28)","v":0},0,null,{"$f":"SUM(H17:H28)","v":0},null,0,null,0,null,{"$f":"SUM(N17:N28)","v":0}]
[]
["Note:"]
[1,"The Deferred IFRS Transition Costs Account and the IFRS Transition Costs Variance Account are exclusively for necessary, incremental transition costs and shall not include ongoing IFRS compliance costs or impacts arising from adopting accounting policy changes that reflect changes in the timing of the recognition of income. The incremental costs in these accounts shall not include costs related to system upgrades, or replacements or changes where IFRS was not the major reason for conversion. In addition, incremental IFRS costs shall not include capital assets or expenditures."]
[2,"If there were any amounts approved in previous Board approved rates, please state the EB #:"]
[3,"Any forecasted One-time costs past 2015 should be fully explained in the application, since distributors were required to adopt IFRS or an alternative accounting standard by January 1, 2015."]

{"sheet":"Sheet1","index":62,"n_rows":0,"n_cols":0,"rows_kept":0,"cut":false,"hidden":true,"merged":[]}