Workbook
Name __CAP1000: #REF!
Name __CAP1000: #REF!
Name __CAP1000: #REF!
Name __OP1000: #REF!
Name __OP1000: #REF!
Name __OP1000: #REF!
Name _110: #REF!
Name _110: #REF!
Name _110: #REF!
Name _110INPT: #REF!
Name _110INPT: #REF!
Name _110INPT: #REF!
Name _115: #REF!
Name _115: #REF!
Name _115: #REF!
Name _115INPT: #REF!
Name _115INPT: #REF!
Name _115INPT: #REF!
Name _120: #REF!
Name _120: #REF!
Name _120: #REF!
Name _140: #REF!
Name _140: #REF!
Name _140: #REF!
Name _140INPT: #REF!
Name _140INPT: #REF!
Name _140INPT: #REF!
Name _CAP1000: #REF!
Name _CAP1000: #REF!
Name _CAP1000: #REF!
Name _OP1000: #REF!
Name _OP1000: #REF!
Name _OP1000: #REF!
Name ALL: #REF!
Name ALL: #REF!
Name ALL: #REF!
Name ApprovedYr: #REF!
Name CAfile: #REF!
Name CAPCOSTS: #REF!
Name CAPCOSTS: #REF!
Name CAPCOSTS: #REF!
Name CAPITAL: #REF!
Name CAPITAL: #REF!
Name CAPITAL: #REF!
Name CapitalExpListing: #REF!
Name CapitalExpListing: #REF!
Name CapitalExpListing: #REF!
Name CArevReq: #REF!
Name CASENUMBER: #REF!
Name CASHFLOW: #REF!
Name CASHFLOW: #REF!
Name CASHFLOW: #REF!
Name cc: #REF!
Name cc: #REF!
Name cc: #REF!
Name ClassRange1: #REF!
Name ClassRange2: #REF!
Name contactf: #REF!
Name contactf: #REF!
Name contactf: #REF!

Sheet Inputs
A3: Average Customer / Connection Count
A4: Date | B4: Residential | C4: General Service < 50 kW | D4: General Service > 50 to 4999 kW | E4: USL | F4: Sentinel Lighting | G4: Street Lighting
A5: 2014 | B5: =AVERAGEIF($A$24:$A$143,$A5,G$24:G$143) -> 10964.083 | C5: =AVERAGEIF($A$24:$A$143,$A5,I$24:I$143) -> 2106 | D5: =AVERAGEIF($A$24:$A$143,$A5,L$24:L$143) -> 172 | E5: =AVERAGEIF($A$24:$A$143,$A5,N$24:N$143) -> 54.75 | F5: =AVERAGEIF($A$24:$A$143,$A5,Q$24:Q$143) -> 56.666667 | G5: =AVERAGEIF($A$24:$A$143,$A5,T$24:T$143) -> 2843.6667
A6: 2015 | B6: =AVERAGEIF($A$24:$A$143,$A6,G$24:G$143) -> 11020.917 | C6: =AVERAGEIF($A$24:$A$143,$A6,I$24:I$143) -> 2132.5833 | D6: =AVERAGEIF($A$24:$A$143,$A6,L$24:L$143) -> 155.83333 | E6: =AVERAGEIF($A$24:$A$143,$A6,N$24:N$143) -> 52.166667 | F6: =AVERAGEIF($A$24:$A$143,$A6,Q$24:Q$143) -> 53 | G6: =AVERAGEIF($A$24:$A$143,$A6,T$24:T$143) -> 2766.0833
A7: 2016 | B7: =AVERAGEIF($A$24:$A$143,$A7,G$24:G$143) -> 11078.417 | C7: =AVERAGEIF($A$24:$A$143,$A7,I$24:I$143) -> 2137.6667 | D7: =AVERAGEIF($A$24:$A$143,$A7,L$24:L$143) -> 149.33333 | E7: =AVERAGEIF($A$24:$A$143,$A7,N$24:N$143) -> 51 | F7: =AVERAGEIF($A$24:$A$143,$A7,Q$24:Q$143) -> 52.333333 | G7: =AVERAGEIF($A$24:$A$143,$A7,T$24:T$143) -> 2679.1667
A8: 2017 | B8: =AVERAGEIF($A$24:$A$143,$A8,G$24:G$143) -> 11168.75 | C8: =AVERAGEIF($A$24:$A$143,$A8,I$24:I$143) -> 2144.4167 | D8: =AVERAGEIF($A$24:$A$143,$A8,L$24:L$143) -> 137.91667 | E8: =AVERAGEIF($A$24:$A$143,$A8,N$24:N$143) -> 51 | F8: =AVERAGEIF($A$24:$A$143,$A8,Q$24:Q$143) -> 45.5 | G8: =AVERAGEIF($A$24:$A$143,$A8,T$24:T$143) -> 2848.3333
A9: 2018 | B9: =AVERAGEIF($A$24:$A$143,$A9,G$24:G$143) -> 11288.667 | C9: =AVERAGEIF($A$24:$A$143,$A9,I$24:I$143) -> 2158.8333 | D9: =AVERAGEIF($A$24:$A$143,$A9,L$24:L$143) -> 137.5 | E9: =AVERAGEIF($A$24:$A$143,$A9,N$24:N$143) -> 51 | F9: =AVERAGEIF($A$24:$A$143,$A9,Q$24:Q$143) -> 44 | G9: =AVERAGEIF($A$24:$A$143,$A9,T$24:T$143) -> 2849
A10: 2019 | B10: =AVERAGEIF($A$24:$A$143,$A10,G$24:G$143) -> 11429.75 | C10: =AVERAGEIF($A$24:$A$143,$A10,I$24:I$143) -> 2154.3333 | D10: =AVERAGEIF($A$24:$A$143,$A10,L$24:L$143) -> 136.66667 | E10: =AVERAGEIF($A$24:$A$143,$A10,N$24:N$143) -> 54.583333 | F10: =AVERAGEIF($A$24:$A$143,$A10,Q$24:Q$143) -> 41.25 | G10: =AVERAGEIF($A$24:$A$143,$A10,T$24:T$143) -> 2849.1667
A11: 2020 | B11: =AVERAGEIF($A$24:$A$143,$A11,G$24:G$143) -> 11566 | C11: =AVERAGEIF($A$24:$A$143,$A11,I$24:I$143) -> 2155.3333 | D11: =AVERAGEIF($A$24:$A$143,$A11,L$24:L$143) -> 135.83333 | E11: =AVERAGEIF($A$24:$A$143,$A11,N$24:N$143) -> 56 | F11: =AVERAGEIF($A$24:$A$143,$A11,Q$24:Q$143) -> 40 | G11: =AVERAGEIF($A$24:$A$143,$A11,T$24:T$143) -> 2851
A12: 2021 | B12: =AVERAGEIF($A$24:$A$143,$A12,G$24:G$143) -> 11725.917 | C12: =AVERAGEIF($A$24:$A$143,$A12,I$24:I$143) -> 2190.8333 | D12: =AVERAGEIF($A$24:$A$143,$A12,L$24:L$143) -> 130.75 | E12: =AVERAGEIF($A$24:$A$143,$A12,N$24:N$143) -> 64.5 | F12: =AVERAGEIF($A$24:$A$143,$A12,Q$24:Q$143) -> 40 | G12: =AVERAGEIF($A$24:$A$143,$A12,T$24:T$143) -> 2851
A13: 2022 | B13: =AVERAGEIF($A$24:$A$143,$A13,G$24:G$143) -> 11911.917 | C13: =AVERAGEIF($A$24:$A$143,$A13,I$24:I$143) -> 2205.1667 | D13: =AVERAGEIF($A$24:$A$143,$A13,L$24:L$143) -> 129.08333 | E13: =AVERAGEIF($A$24:$A$143,$A13,N$24:N$143) -> 64.25 | F13: =AVERAGEIF($A$24:$A$143,$A13,Q$24:Q$143) -> 37.583333 | G13: =AVERAGEIF($A$24:$A$143,$A13,T$24:T$143) -> 2851
A14: 2023 | B14: =AVERAGEIF($A$24:$A$143,$A14,G$24:G$143) -> 12125.25 | C14: =AVERAGEIF($A$24:$A$143,$A14,I$24:I$143) -> 2206.4167 | D14: =AVERAGEIF($A$24:$A$143,$A14,L$24:L$143) -> 130.08333 | E14: =AVERAGEIF($A$24:$A$143,$A14,N$24:N$143) -> 63.333333 | F14: =AVERAGEIF($A$24:$A$143,$A14,Q$24:Q$143) -> 32.5 | G14: =AVERAGEIF($A$24:$A$143,$A14,T$24:T$143) -> 2851
A15: 2024 | B15: =AVERAGEIF($A$24:$A$155,$A15,G$24:G$155) -> 12332.667 | C15: =AVERAGEIF($A$24:$A$155,$A15,I$24:I$155) -> 2226.1667 | D15: =AVERAGEIF($A$24:$A$155,$A15,L$24:L$155) -> 132.25 | E15: =AVERAGEIF($A$24:$A$155,$A15,N$24:N$155) -> 63 | F15: =AVERAGEIF($A$24:$A$155,$A15,Q$24:Q$155) -> 32.666667 | G15: =AVERAGEIF($A$24:$A$155,$A15,T$24:T$155) -> 2851
A20: Consumption | D20: Wholesale | F20: Retail Consumption
D21: Wholesale Purchases | F21: =B4 -> Residential | H21: =C4 -> General Service < 50 kW | J21: =D4 -> General Service > 50 to 4999 kW | M21: =E4 -> USL | O21: =F4 -> Sentinel Lighting | R21: =G4 -> Street Lighting
D22: kWh | F22: kWh | G22: Number of Customer/ Connection | H22: kWh | I22: Number of Customer/ Connection | J22: kWh | K22: kW | L22: Number of Customer/ Connection | M22: kWh | N22: Customer/ Connection | O22: kWh | P22: kW | Q22: Number of Customer/ Connection | R22: kWh | S22: kW | T22: Number of Customer/ Connection
A23: Year | B23: Month
A24: 2014 | B24: January | D24: 35005917 | F24: 15094589 | G24: 10951 | H24: 6383202.7 | I24: 2100 | J24: 10877889 | K24: 23851.56 | L24: 172 | M24: 15114.006 | N24: 56 | O24: 4218.4858 | P24: 11.718016 | Q24: 57 | R24: 256046.35 | S24: 552.86 | T24: 2852 | U24: =G24+I24+L24 -> 13223
A25: 2014 | B25: February | D25: 30863808 | F25: 12803913 | G25: 10948 | H25: 5641962.1 | I25: 2099 | J25: 9969282.7 | K25: 23912.42 | L25: 172 | M25: 15114.006 | N25: 56 | O25: 4218.4858 | P25: 11.718016 | Q25: 57 | R25: 226313.55 | S25: 552.86 | T25: 2852
A26: 2014 | B26: March | D26: 32142987 | F26: 12827196 | G26: 10949 | H26: 5855163.5 | I26: 2098 | J26: 10915846 | K26: 23709.12 | L26: 172 | M26: 15114.006 | N26: 56 | O26: 4218.4858 | P26: 11.718016 | Q26: 57 | R26: 214357.66 | S26: 552.86 | T26: 2852
A27: 2014 | B27: April | D27: 25688722 | F27: 9507309.3 | G27: 10949 | H27: 4702930.3 | I27: 2107 | J27: 9712427.4 | K27: 22640.25 | L27: 172 | M27: 15114.006 | N27: 56 | O27: 4218.4858 | P27: 11.718016 | Q27: 57 | R27: 182086.69 | S27: 552.86 | T27: 2852
A28: 2014 | B28: May | D28: 22896808 | F28: 7229742.8 | G28: 10944 | H28: 4157732.5 | I28: 2106 | J28: 9845385.2 | K28: 24146.22 | L28: 172 | M28: 15114.006 | N28: 56 | O28: 4218.4858 | P28: 11.718016 | Q28: 57 | R28: 164981.71 | S28: 552.86 | T28: 2852
A29: 2014 | B29: June | D29: 22467129 | F29: 6471676.5 | G29: 10968 | H29: 4245293 | I29: 2105 | J29: 9986224.5 | K29: 25681.08 | L29: 172 | M29: 15114.006 | N29: 56 | O29: 4168.3228 | P29: 11.578675 | Q29: 56 | R29: 145726.04 | S29: 551.86 | T29: 2836
A30: 2014 | B30: July | D30: 23174494 | F30: 6701854.7 | G30: 10964 | H30: 4441903.9 | I30: 2110 | J30: 10347382 | K30: 24263.59 | L30: 172 | M30: 15114.006 | N30: 56 | O30: 4210.4421 | P30: 11.695673 | Q30: 58 | R30: 151735.5 | S30: 549.01 | T30: 2838
A31: 2014 | B31: August | D31: 23391322 | F31: 6774992.2 | G31: 10966 | H31: 4367697.4 | I31: 2112 | J31: 10325525 | K31: 24329.23 | L31: 171 | M31: 15114.006 | N31: 56 | O31: 4142.8821 | P31: 11.508006 | Q31: 57 | R31: 169308.75 | S31: 549.01 | T31: 2838
A32: 2014 | B32: September | D32: 22126761 | F32: 6559011.5 | G32: 10970 | H32: 3955556.5 | I32: 2111 | J32: 9951409 | K32: 24863.46 | L32: 172 | M32: 14826.005 | N32: 53 | O32: 4108.6821 | P32: 11.413006 | Q32: 56 | R32: 187116.27 | S32: 549.01 | T32: 2838
A33: 2014 | B33: October | D33: 23838442 | F33: 7825270.6 | G33: 10986 | H33: 4172827.9 | I33: 2114 | J33: 9952029.9 | K33: 23611.82 | L33: 172 | M33: 14826.005 | N33: 52 | O33: 4178.2221 | P33: 11.606173 | Q33: 58 | R33: 218907.54 | S33: 549.01 | T33: 2838
A34: 2014 | B34: November | D34: 27733031 | F34: 10474665 | G34: 10988 | H34: 4964751.9 | I34: 2105 | J34: 10127921 | K34: 23798.89 | L34: 172 | M34: 14826.005 | N34: 52 | O34: 4067.2821 | P34: 11.298006 | Q34: 56 | R34: 235342.33 | S34: 549.01 | T34: 2838
A35: 2014 | B35: December | D35: 29820236 | F35: 12163161 | G35: 10986 | H35: 5554460.4 | I35: 2105 | J35: 9874408 | K35: 23453.06 | L35: 173 | M35: 14775 | N35: 52 | O35: 4035.6 | P35: 11.21 | Q35: 54 | R35: 253712.39 | S35: 549.01 | T35: 2838 | U35: =G35+I35+L35 -> 13264
A36: 2015 | B36: January | D36: 33934616 | F36: 14436422 | G36: 11011 | H36: 6273396.1 | I36: 2120 | J36: 10633877 | K36: 24028.12 | L36: 172 | M36: 14775 | N36: 55 | O36: 4093.24 | P36: 11.370111 | Q36: 53 | R36: 249473.41 | S36: 549.01 | T36: 2838
A37: 2015 | B37: February | D37: 32617573 | F37: 13756630 | G37: 11004 | H37: 6052263.6 | I37: 2119 | J37: 10191381 | K37: 24332.56 | L37: 172 | M37: 14775 | N37: 55 | O37: 4151.2 | P37: 11.531111 | Q37: 53 | R37: 217782.4 | S37: 549.01 | T37: 2838
A38: 2015 | B38: March | D38: 30305598 | F38: 11761673 | G38: 11001 | H38: 5608955.3 | I38: 2117 | J38: 10735160 | K38: 23775.2 | L38: 172 | M38: 14775 | N38: 52 | O38: 4123.48 | P38: 11.454111 | Q38: 53 | R38: 205202.71 | S38: 549.01 | T38: 2838
A39: 2015 | B39: April | D39: 24419034 | F39: 8713121.3 | G39: 10997 | H39: 4575738.8 | I39: 2135 | J39: 9408817.4 | K39: 23001.02 | L39: 152 | M39: 14775 | N39: 52 | O39: 4123.48 | P39: 11.454111 | Q39: 53 | R39: 176881.31 | S39: 549.01 | T39: 2838
A40: 2015 | B40: May | D40: 22122315 | F40: 6781614 | G40: 10999 | H40: 4211249.8 | I40: 2136 | J40: 9734230.8 | K40: 24032.35 | L40: 151 | M40: 14775 | N40: 52 | O40: 4123.48 | P40: 11.454111 | Q40: 53 | R40: 159984.52 | S40: 548.71 | T40: 2838
A41: 2015 | B41: June | D41: 21687054 | F41: 6191305.7 | G41: 10998 | H41: 4199520.1 | I41: 2138 | J41: 9814614.9 | K41: 23434.58 | L41: 150 | M41: 14775 | N41: 52 | O41: 4123.48 | P41: 11.454111 | Q41: 53 | R41: 145088.54 | S41: 547.81 | T41: 2838
A42: 2015 | B42: July | D42: 23793533 | F42: 6892136.9 | G42: 11048 | H42: 4833132 | I42: 2139 | J42: 10221738 | K42: 23341.55 | L42: 150 | M42: 14775 | N42: 52 | O42: 4123.48 | P42: 11.454111 | Q42: 53 | R42: 153248.09 | S42: 547.81 | T42: 2838
A43: 2015 | B43: August | D43: 23664046 | F43: 6785288.8 | G43: 11019 | H43: 4639927.3 | I43: 2139 | J43: 10193770 | K43: 24101.8 | L43: 150 | M43: 14775 | N43: 52 | O43: 4123.48 | P43: 11.454111 | Q43: 53 | R43: 140055.19 | S43: 547.81 | T43: 2667
A44: 2015 | B44: September | D44: 21503656 | F44: 6501595 | G44: 11025 | H44: 4347395.4 | I44: 2137 | J44: 10050543 | K44: 26106.91 | L44: 151 | M44: 13839 | N44: 51 | O44: 4123.48 | P44: 11.454111 | Q44: 53 | R44: 135697.81 | S44: 411.86 | T44: 2667
A45: 2015 | B45: October | D45: 24025252 | F45: 7439233.4 | G45: 11037 | H45: 3654711 | I45: 2135 | J45: 8863760.9 | K45: 21646.68 | L45: 150 | M45: 13789 | N45: 51 | O45: 3752.68 | P45: 10.424111 | Q45: 49 | R45: 155115.8 | S45: 411.65 | T45: 2667
A46: 2015 | B46: November | D46: 24608541 | F46: 8821415.9 | G46: 11055 | H46: 5088671.3 | I46: 2138 | J46: 10628741 | K46: 27607.87 | L46: 150 | M46: 13889 | N46: 51 | O46: 4123.48 | P46: 11.454111 | Q46: 57 | R46: 171400.04 | S46: 367.95 | T46: 2667
...

Sheet Load Forecast Summary
A1: Lakeland Power Weather Normal Load Forecast for 2025 Rate Application
M2: 2025 Test
B3: 2014 Actual | C3: 2015 Actual | D3: 2016 Actual | E3: 2017 Actual | F3: 2018 Actual | G3: 2019 Actual | H3: 2020 Actual | I3: 2021 Actual | J3: 2022 Actual | K3: 2023 Actual | L3: 2024 Actual | M3: Weather Normal
A4: Actual kWh Purchases | B4: =+'Power Purchased Model'!B152 -> 319149657 | C4: =+'Power Purchased Model'!B153 -> 308961454 | D4: =+'Power Purchased Model'!B154 -> 302232068 | E4: =+'Power Purchased Model'!B155 -> 297287399 | F4: =+'Power Purchased Model'!B156 -> 309247473 | G4: =+'Power Purchased Model'!B157 -> 3.099521e+08 | H4: =+'Power Purchased Model'!B158 -> 304387702 | I4: =+'Power Purchased Model'!B159 -> 309941422 | J4: =+'Power Purchased Model'!B160 -> 322673989 | K4: =+'Power Purchased Model'!B161 -> 315137434 | L4: ='Power Purchased Model'!B162 -> 317322462
A5: Predicted kWh Purchases | B5: =+'Power Purchased Model'!H152 -> 3.0802952e+08 | C5: =+'Power Purchased Model'!H153 -> 3.0659539e+08 | D5: =+'Power Purchased Model'!H154 -> 3.0424579e+08 | E5: =+'Power Purchased Model'!H155 -> 3.0584816e+08 | F5: =+'Power Purchased Model'!H156 -> 3.1147034e+08 | G5: =+'Power Purchased Model'!H157 -> 3.1615687e+08 | H5: =+'Power Purchased Model'!H158 -> 3.1233071e+08 | I5: =+'Power Purchased Model'!H159 -> 3.1081062e+08 | J5: =+'Power Purchased Model'!H160 -> 3.1595888e+08 | K5: =+'Power Purchased Model'!H161 -> 3.1288859e+08 | L5: =+'Power Purchased Model'!H162 -> 3.119583e+08 | M5: =+'Power Purchased Model'!H163 -> 3.2009123e+08
A6: % Difference | B6: =(B5-B4)/B4 -> -0.034843029 | C6: =(C5-C4)/C4 -> -0.0076581345 | D6: =(D5-D4)/D4 -> 0.0066628293 | E6: =(E5-E4)/E4 -> 0.028796242 | F6: =(F5-F4)/F4 -> 0.0071879741 | G6: =(G5-G4)/G4 -> 0.020018494 | H6: =(H5-H4)/H4 -> 0.02609504 | I6: =(I5-I4)/I4 -> 0.002804384 | ... K6: =(K5-K4)/K4 -> -0.0071360634
A10: Total Billed | B10: ='Rate Class Energy Model'!G3 -> 2.973984e+08 | C10: ='Rate Class Energy Model'!G4 -> 2.8875225e+08 | D10: ='Rate Class Energy Model'!G5 -> 2.8050507e+08 | E10: ='Rate Class Energy Model'!G6 -> 2.7956388e+08 | F10: ='Rate Class Energy Model'!G7 -> 2.8962057e+08 | G10: ='Rate Class Energy Model'!G8 -> 2.8986063e+08 | H10: ='Rate Class Energy Model'!G9 -> 286230671 | I10: ='Rate Class Energy Model'!G10 -> 290240292 | J10: ='Rate Class Energy Model'!G11 -> 303102277 | K10: ='Rate Class Energy Model'!G12 -> 2.9688911e+08 | L10: ='Rate Class Energy Model'!G13 -> 2.9640523e+08 | M10: ='Rate Class Energy Model'!G14 -> 2.9968584e+08
A12: By Class
A13: ='Rate Class Energy Model'!H2 -> Residential
A14: Customers | B14: ='Rate Class Customer Model'!B3 -> 10964.083 | C14: ='Rate Class Customer Model'!B4 -> 11020.917 | D14: ='Rate Class Customer Model'!B5 -> 11078.417 | E14: ='Rate Class Customer Model'!B6 -> 11168.75 | F14: ='Rate Class Customer Model'!B7 -> 11288.667 | G14: ='Rate Class Customer Model'!B8 -> 11429.75 | H14: ='Rate Class Customer Model'!B9 -> 11566 | I14: ='Rate Class Customer Model'!B10 -> 11725.917 | J14: ='Rate Class Customer Model'!B11 -> 11911.917 | K14: ='Rate Class Customer Model'!B12 -> 12125.25 | L14: ='Rate Class Customer Model'!B13 -> 12332.667 | M14: ='Rate Class Customer Model'!B14 -> 12478.588
A15: kWh | B15: ='Rate Class Energy Model'!H3 -> 1.1443338e+08 | C15: ='Rate Class Energy Model'!H4 -> 1.0824396e+08 | D15: ='Rate Class Energy Model'!H5 -> 1.0434816e+08 | E15: ='Rate Class Energy Model'!H6 -> 1.0312963e+08 | F15: ='Rate Class Energy Model'!H7 -> 1.0942709e+08 | G15: ='Rate Class Energy Model'!H8 -> 110765686 | H15: ='Rate Class Energy Model'!H9 -> 112437412 | I15: ='Rate Class Energy Model'!H10 -> 112958103 | J15: ='Rate Class Energy Model'!H11 -> 116633398 | K15: ='Rate Class Energy Model'!H12 -> 1.1352037e+08 | L15: ='Rate Class Energy Model'!H13 -> 1.1457841e+08 | M15: ='Rate Class Energy Model'!H32 -> 1.1804369e+08 | N15: =+L15/L14 -> 9290.6436 | O15: =+M15/M14 -> 9459.6988
A17: ='Rate Class Energy Model'!I2 -> General Service < 50 kW
A18: Customers | B18: ='Rate Class Customer Model'!C3 -> 2106 | C18: ='Rate Class Customer Model'!C4 -> 2132.5833 | D18: ='Rate Class Customer Model'!C5 -> 2137.6667 | E18: ='Rate Class Customer Model'!C6 -> 2144.4167 | F18: ='Rate Class Customer Model'!C7 -> 2158.8333 | G18: ='Rate Class Customer Model'!C8 -> 2154.3333 | H18: ='Rate Class Customer Model'!C9 -> 2155.3333 | I18: ='Rate Class Customer Model'!C10 -> 2190.8333 | J18: ='Rate Class Customer Model'!C11 -> 2205.1667 | K18: ='Rate Class Customer Model'!C12 -> 2206.4167 | L18: ='Rate Class Customer Model'!C13 -> 2226.1667 | M18: ='Rate Class Customer Model'!C14 -> 2238.5542
A19: kWh | B19: ='Rate Class Energy Model'!I3 -> 58443482 | C19: ='Rate Class Energy Model'!I4 -> 58492111 | D19: ='Rate Class Energy Model'!I5 -> 58168701 | E19: ='Rate Class Energy Model'!I6 -> 57585352 | F19: ='Rate Class Energy Model'!I7 -> 59779468 | G19: ='Rate Class Energy Model'!I8 -> 59276659 | H19: ='Rate Class Energy Model'!I9 -> 54635310 | I19: ='Rate Class Energy Model'!I10 -> 56374252 | J19: ='Rate Class Energy Model'!I11 -> 59995612 | K19: ='Rate Class Energy Model'!I12 -> 59655079 | L19: ='Rate Class Energy Model'!I13 -> 59818358 | M19: ='Rate Class Energy Model'!I32 -> 61245746
A21: ='Rate Class Energy Model'!J2 -> General Service > 50 to 4999 kW
A22: Customers | B22: ='Rate Class Customer Model'!D3 -> 172 | C22: ='Rate Class Customer Model'!D4 -> 155.83333 | D22: ='Rate Class Customer Model'!D5 -> 149.33333 | E22: ='Rate Class Customer Model'!D6 -> 137.91667 | F22: ='Rate Class Customer Model'!D7 -> 137.5 | G22: ='Rate Class Customer Model'!D8 -> 136.66667 | H22: ='Rate Class Customer Model'!D9 -> 135.83333 | I22: ='Rate Class Customer Model'!D10 -> 130.75 | J22: ='Rate Class Customer Model'!D11 -> 129.08333 | K22: ='Rate Class Customer Model'!D12 -> 130.08333 | L22: ='Rate Class Customer Model'!D13 -> 132.25 | M22: ='Rate Class Customer Model'!D14 -> 128.81974
A23: kWh | B23: ='Rate Class Energy Model'!J3 -> 1.2188573e+08 | C23: ='Rate Class Energy Model'!J4 -> 1.1976384e+08 | D23: ='Rate Class Energy Model'!J5 -> 1.1663711e+08 | E23: ='Rate Class Energy Model'!J6 -> 1.1748414e+08 | F23: ='Rate Class Energy Model'!J7 -> 1.1909248e+08 | G23: ='Rate Class Energy Model'!J8 -> 118495415 | H23: ='Rate Class Energy Model'!J9 -> 117859877 | I23: ='Rate Class Energy Model'!J10 -> 119633612 | J23: ='Rate Class Energy Model'!J11 -> 125207062 | K23: ='Rate Class Energy Model'!J12 -> 1.2245377e+08 | L23: ='Rate Class Energy Model'!J13 -> 1.2074605e+08 | M23: ='Rate Class Energy Model'!J32 -> 1.1913298e+08
A24: kW | B24: ='Rate Class Load Model'!B2 -> 288260.7 | C24: ='Rate Class Load Model'!B3 -> 288082.36 | D24: ='Rate Class Load Model'!B4 -> 283796.43 | E24: ='Rate Class Load Model'!B5 -> 281771.1 | F24: ='Rate Class Load Model'!B6 -> 288024.3 | G24: ='Rate Class Load Model'!B7 -> 289524.02 | H24: ='Rate Class Load Model'!B8 -> 290762.68 | I24: ='Rate Class Load Model'!B9 -> 285432.01 | J24: ='Rate Class Load Model'!B10 -> 308240.81 | K24: ='Rate Class Load Model'!B11 -> 315533.89 | L24: ='Rate Class Load Model'!B12 -> 313416.04 | M24: ='Rate Class Load Model'!B13 -> 291886.25
A26: ='Rate Class Energy Model'!K2 -> USL
A27: Connections | B27: ='Rate Class Customer Model'!E3 -> 54.75 | C27: ='Rate Class Customer Model'!E4 -> 52.166667 | D27: ='Rate Class Customer Model'!E5 -> 51 | E27: ='Rate Class Customer Model'!E6 -> 51 | F27: ='Rate Class Customer Model'!E7 -> 51 | G27: ='Rate Class Customer Model'!E8 -> 54.583333 | H27: ='Rate Class Customer Model'!E9 -> 56 | I27: ='Rate Class Customer Model'!E10 -> 64.5 | J27: ='Rate Class Customer Model'!E11 -> 64.25 | K27: ='Rate Class Customer Model'!E12 -> 63.333333 | L27: ='Rate Class Customer Model'!E13 -> 63 | M27: ='Rate Class Customer Model'!E14 -> 63.890486
A28: kWh | B28: ='Rate Class Energy Model'!K3 -> 180165.07 | C28: ='Rate Class Energy Model'!K4 -> 173556 | D28: ='Rate Class Energy Model'!K5 -> 166068 | E28: ='Rate Class Energy Model'!K6 -> 166068 | F28: ='Rate Class Energy Model'!K7 -> 166686 | G28: ='Rate Class Energy Model'!K8 -> 172797 | H28: ='Rate Class Energy Model'!K9 -> 173568 | I28: ='Rate Class Energy Model'!K10 -> 178362 | J28: ='Rate Class Energy Model'!K11 -> 172344 | K28: ='Rate Class Energy Model'!K12 -> 169785 | L28: ='Rate Class Energy Model'!K13 -> 169657 | M28: ='Rate Class Energy Model'!K32 -> 172055.05
A30: ='Rate Class Energy Model'!L2 -> Sentinel Lighting
A31: Connections | B31: ='Rate Class Customer Model'!F3 -> 56.666667 | C31: ='Rate Class Customer Model'!F4 -> 53 | D31: ='Rate Class Customer Model'!F5 -> 52.333333 | E31: ='Rate Class Customer Model'!F6 -> 45.5 | F31: ='Rate Class Customer Model'!F7 -> 44 | G31: ='Rate Class Customer Model'!F8 -> 41.25 | H31: ='Rate Class Customer Model'!F9 -> 40 | I31: ='Rate Class Customer Model'!F10 -> 40 | J31: ='Rate Class Customer Model'!F11 -> 37.583333 | K31: ='Rate Class Customer Model'!F12 -> 32.5 | L31: ='Rate Class Customer Model'!F13 -> 32.666667 | M31: ='Rate Class Customer Model'!F14 -> 30.915946
A32: kWh | B32: ='Rate Class Energy Model'!L3 -> 50003.863 | C32: ='Rate Class Energy Model'!L4 -> 49108.44 | D32: ='Rate Class Energy Model'!L5 -> 48745.79 | E32: ='Rate Class Energy Model'!L6 -> 44233.6 | F32: ='Rate Class Energy Model'!L7 -> 40821.3 | G32: ='Rate Class Energy Model'!L8 -> 39113.5 | H32: ='Rate Class Energy Model'!L9 -> 37289 | I32: ='Rate Class Energy Model'!L10 -> 37046 | J32: ='Rate Class Energy Model'!L11 -> 34937 | K32: ='Rate Class Energy Model'!L12 -> 31175.76 | L32: ='Rate Class Energy Model'!L13 -> 30873.08 | M32: ='Rate Class Energy Model'!L32 -> 29218.484
A33: kW | B33: ='Rate Class Load Model'!C2 -> 138.89962 | C33: ='Rate Class Load Model'!C3 -> 136.41233 | D33: ='Rate Class Load Model'!C4 -> 135.40497 | E33: ='Rate Class Load Model'!C5 -> 122.87111 | F33: ='Rate Class Load Model'!C6 -> 113.3925 | G33: ='Rate Class Load Model'!C7 -> 108.64861 | H33: ='Rate Class Load Model'!C8 -> 103.58056 | I33: ='Rate Class Load Model'!C9 -> 102.90556 | J33: ='Rate Class Load Model'!C10 -> 97.047222 | K33: ='Rate Class Load Model'!C11 -> 86.6 | L33: ='Rate Class Load Model'!C12 -> 85.759 | M33: ='Rate Class Load Model'!C13 -> 81.16255
A35: ='Rate Class Energy Model'!M2 -> Street Lighting
A36: Connections | B36: ='Rate Class Customer Model'!G3 -> 2843.6667 | C36: ='Rate Class Customer Model'!G4 -> 2766.0833 | D36: ='Rate Class Customer Model'!G5 -> 2679.1667 | E36: ='Rate Class Customer Model'!G6 -> 2848.3333 | F36: ='Rate Class Customer Model'!G7 -> 2849 | G36: ='Rate Class Customer Model'!G8 -> 2849.1667 | H36: ='Rate Class Customer Model'!G9 -> 2851 | I36: ='Rate Class Customer Model'!G10 -> 2851 | J36: ='Rate Class Customer Model'!G11 -> 2851 | K36: ='Rate Class Customer Model'!G12 -> 2851 | L36: ='Rate Class Customer Model'!G13 -> 2851 | M36: ='Rate Class Customer Model'!G14 -> 2851.7344
A37: kWh | B37: ='Rate Class Energy Model'!M3 -> 2405634.8 | C37: ='Rate Class Energy Model'!M4 -> 2029684.9 | D37: ='Rate Class Energy Model'!M5 -> 1136285.5 | E37: ='Rate Class Energy Model'!M6 -> 1154454 | F37: ='Rate Class Energy Model'!M7 -> 1114031 | G37: ='Rate Class Energy Model'!M8 -> 1110958 | H37: ='Rate Class Energy Model'!M9 -> 1087215 | I37: ='Rate Class Energy Model'!M10 -> 1058917 | J37: ='Rate Class Energy Model'!M11 -> 1058924 | K37: ='Rate Class Energy Model'!M12 -> 1058923.7 | L37: ='Rate Class Energy Model'!M13 -> 1061881.6 | M37: ='Rate Class Energy Model'!M32 -> 1062155.1
A38: kW | B38: ='Rate Class Load Model'!D2 -> 6610.22 | C38: ='Rate Class Load Model'!D3 -> 5922.15 | D38: ='Rate Class Load Model'!D4 -> 3094.04 | E38: ='Rate Class Load Model'!D5 -> 3196.56 | F38: ='Rate Class Load Model'!D6 -> 3087.57 | G38: ='Rate Class Load Model'!D7 -> 3074.16 | H38: ='Rate Class Load Model'!D8 -> 3080.42 | I38: ='Rate Class Load Model'!D9 -> 3082.32 | J38: ='Rate Class Load Model'!D10 -> 3082.32 | K38: ='Rate Class Load Model'!D11 -> 3082.6 | L38: ='Rate Class Load Model'!D12 -> 3082.32 | M38: ='Rate Class Load Model'!D13 -> 3009.2564
A40: Total
A41: Customer/Connections | B41: =+B14+B18+B22+B27+B31+B36 -> 16197.167 | C41: =+C14+C18+C22+C27+C31+C36 -> 16180.583 | D41: =+D14+D18+D22+D27+D31+D36 -> 16147.917 | E41: =+E14+E18+E22+E27+E31+E36 -> 16395.917 | F41: =+F14+F18+F22+F27+F31+F36 -> 16529 | G41: =+G14+G18+G22+G27+G31+G36 -> 16665.75 | H41: =+H14+H18+H22+H27+H31+H36 -> 16804.167 | I41: =+I14+I18+I22+I27+I31+I36 -> 17003 | ... M41: =+M14+M18+M22+M27+M31+M36 -> 17792.503
A42: kWh | B42: =+B15+B19+B23+B28+B32+B37 -> 2.973984e+08 | C42: =+C15+C19+C23+C28+C32+C37 -> 2.8875225e+08 | D42: =+D15+D19+D23+D28+D32+D37 -> 2.8050507e+08 | E42: =+E15+E19+E23+E28+E32+E37 -> 2.7956388e+08 | F42: =+F15+F19+F23+F28+F32+F37 -> 2.8962057e+08 | G42: =+G15+G19+G23+G28+G32+G37 -> 2.8986063e+08 | H42: =+H15+H19+H23+H28+H32+H37 -> 286230671 | I42: =+I15+I19+I23+I28+I32+I37 -> 290240292 | ... M42: =+M15+M19+M23+M28+M32+M37 -> 2.9968584e+08
A43: kW from applicable classes | B43: =B24+B33+B38 -> 295009.82 | C43: =C24+C33+C38 -> 294140.92 | D43: =D24+D33+D38 -> 287025.87 | E43: =E24+E33+E38 -> 285090.53 | F43: =F24+F33+F38 -> 291225.26 | G43: =G24+G33+G38 -> 292706.83 | H43: =H24+H33+H38 -> 293946.68 | I43: =I24+I33+I38 -> 288617.24 | ... M43: =M24+M33+M38 -> 294976.67
A45: Customer/Connections | B45: ='Rate Class Customer Model'!H3 -> 16197.167 | C45: ='Rate Class Customer Model'!H4 -> 16180.583 | D45: ='Rate Class Customer Model'!H5 -> 16147.917 | E45: ='Rate Class Customer Model'!H6 -> 16395.917 | F45: ='Rate Class Customer Model'!H7 -> 16529 | G45: ='Rate Class Customer Model'!H8 -> 16665.75 | H45: ='Rate Class Customer Model'!H9 -> 16804.167 | I45: ='Rate Class Customer Model'!H10 -> 17003 | J45: ='Rate Class Customer Model'!H11 -> 17199 | K45: ='Rate Class Customer Model'!H12 -> 17408.583 | L45: ='Rate Class Customer Model'!H13 -> 17637.75 | M45: ='Rate Class Customer Model'!H14 -> 17792.503
A46: kWh | B46: ='Rate Class Energy Model'!G3 -> 2.973984e+08 | C46: ='Rate Class Energy Model'!G4 -> 2.8875225e+08 | D46: ='Rate Class Energy Model'!G5 -> 2.8050507e+08 | E46: ='Rate Class Energy Model'!G6 -> 2.7956388e+08 | F46: ='Rate Class Energy Model'!G7 -> 2.8962057e+08 | G46: ='Rate Class Energy Model'!G8 -> 2.8986063e+08 | H46: ='Rate Class Energy Model'!G9 -> 286230671 | I46: ='Rate Class Energy Model'!G10 -> 290240292 | J46: ='Rate Class Energy Model'!G11 -> 303102277 | K46: ='Rate Class Energy Model'!G12 -> 2.9688911e+08 | L46: ='Rate Class Energy Model'!G13 -> 2.9640523e+08 | M46: ='Rate Class Energy Model'!G14 -> 2.9968584e+08
A47: kW from applicable classes | B47: ='Rate Class Load Model'!E2 -> 295009.82 | C47: ='Rate Class Load Model'!E3 -> 294140.92 | D47: ='Rate Class Load Model'!E4 -> 287025.87 | E47: ='Rate Class Load Model'!E5 -> 285090.53 | F47: ='Rate Class Load Model'!E6 -> 291225.26 | G47: ='Rate Class Load Model'!E7 -> 292706.83 | H47: ='Rate Class Load Model'!E8 -> 293946.68 | I47: ='Rate Class Load Model'!E9 -> 288617.24 | J47: ='Rate Class Load Model'!E10 -> 311420.18 | K47: ='Rate Class Load Model'!E11 -> 318703.09 | L47: ='Rate Class Load Model'!E12 -> 316584.12 | M47: ='Rate Class Load Model'!E13 -> 294976.67
A49: Customer/Connections | H49: ='Rate Class Load Model'!E12 -> 316584.12 | I49: =#REF! -> #REF! | L49: =#REF! -> #REF! | M49: =#REF! -> #REF!
A50: kWh | H50: ='Rate Class Load Model'!E13 -> 294976.67 | I50: =#REF! -> #REF! | L50: =#REF! -> #REF! | M50: =#REF! -> #REF!
A51: kW from applicable classes | H51: ='Rate Class Load Model'!E14 -> 0 | I51: =#REF! -> #REF! | L51: =#REF! -> #REF! | M51: =#REF! -> #REF!
H52: ='Rate Class Load Model'!E15 -> 0
...

Sheet Power Purchased Model
Y1: R Square of 90% is OK
A2: Date | B2: Power Purchased | C2: Heating Degree Days | D2: Days in Month | E2: Spring Fall Flag | F2: Summer Flag | G2: Trend | H2: Predicted Purchases | I2: Residual (kWh) | J2: % Residual | K2: % Residual (Abs) | L2: Residual Squared | M2: Difference of Residuals | N2: Difference of Residuals Squared | P2: SUMMARY OUTPUT | Y2: Adjusted R Square takes into consideration the number of variables
A3: 41670 | B3: =Inputs!D24 -> 35005917 | C3: 951.7 | D3: 31 | E3: 0 | F3: 0 | G3: 1 | H3: =$Q$18+$Q$19*C3+$Q$20*D3+$Q$21*E3+$Q$22*F3+$Q$23*G3 -> 32298418 | I3: =H3-B3 -> -2707498.8 | J3: =I3/B3 -> -0.077344034 | K3: =ABS(J3) -> 0.077344034 | L3: =I3*I3 -> 7.3305499e+12 | Y3: ANOVA is not really used
A4: 41698 | B4: =Inputs!D25 -> 30863808 | C4: 855.5 | D4: 28 | E4: 0 | F4: 0 | G4: 2 | H4: =$Q$18+$Q$19*C4+$Q$20*D4+$Q$21*E4+$Q$22*F4+$Q$23*G4 -> 29483573 | I4: =H4-B4 -> -1380235.1 | J4: =I4/B4 -> -0.044720183 | K4: =ABS(J4) -> 0.044720183 | L4: =I4*I4 -> 1.905049e+12 | M4: =I4-I3 -> 1327263.7 | N4: =M4*M4 -> 1.7616289e+12 | P4: Regression Statistics
A5: 41729 | B5: =Inputs!D26 -> 32142987 | C5: 818.2 | D5: 31 | E5: 1 | F5: 0 | G5: 3 | H5: =$Q$18+$Q$19*C5+$Q$20*D5+$Q$21*E5+$Q$22*F5+$Q$23*G5 -> 29583818 | I5: =H5-B5 -> -2559169 | J5: =I5/B5 -> -0.079618268 | K5: =ABS(J5) -> 0.079618268 | L5: =I5*I5 -> 6.5493458e+12 | M5: =I5-I4 -> -1178933.8 | N5: =M5*M5 -> 1.389885e+12 | P5: Multiple R | Q5: 0.9552294 | Y5: Coefficient-If negative, it's reducing, if +ve, it's adding
A6: 41759 | B6: =Inputs!D27 -> 25688722 | C6: 448.2 | D6: 30 | E6: 1 | F6: 0 | G6: 4 | H6: =$Q$18+$Q$19*C6+$Q$20*D6+$Q$21*E6+$Q$22*F6+$Q$23*G6 -> 24536006 | I6: =H6-B6 -> -1152716.2 | J6: =I6/B6 -> -0.044872462 | K6: =ABS(J6) -> 0.044872462 | L6: =I6*I6 -> 1.3287546e+12 | M6: =I6-I5 -> 1406452.8 | N6: =M6*M6 -> 1.9781094e+12 | P6: R Square | Q6: 0.9124632 | Y6: Tstat indicates how relevant a variable is.Should be greater than absolute value of 2, if less than 2 it is not statistically significant so don’t use it
A7: 41790 | B7: =Inputs!D28 -> 22896808 | C7: 208 | D7: 31 | E7: 1 | F7: 0 | G7: 5 | H7: =$Q$18+$Q$19*C7+$Q$20*D7+$Q$21*E7+$Q$22*F7+$Q$23*G7 -> 22172225 | I7: =H7-B7 -> -724582.65 | J7: =I7/B7 -> -0.031645575 | K7: =ABS(J7) -> 0.031645575 | L7: =I7*I7 -> 5.2502002e+11 | M7: =I7-I6 -> 428133.55 | N7: =M7*M7 -> 1.8329833e+11 | P7: Adjusted R Square | Q7: 0.90898952
A8: 41820 | B8: =Inputs!D29 -> 22467129 | C8: 42.2 | D8: 30 | E8: 0 | F8: 0 | G8: 6 | H8: =$Q$18+$Q$19*C8+$Q$20*D8+$Q$21*E8+$Q$22*F8+$Q$23*G8 -> 20722724 | I8: =H8-B8 -> -1744405.1 | J8: =I8/B8 -> -0.077642546 | K8: =ABS(J8) -> 0.077642546 | L8: =I8*I8 -> 3.0429492e+12 | M8: =I8-I7 -> -1019822.5 | N8: =M8*M8 -> 1.0400378e+12 | P8: Standard Error | Q8: 980292.43
A9: 41851 | B9: =Inputs!D30 -> 23174494 | C9: 48.1 | D9: 31 | E9: 0 | F9: 1 | G9: 7 | H9: =$Q$18+$Q$19*C9+$Q$20*D9+$Q$21*E9+$Q$22*F9+$Q$23*G9 -> 24297860 | I9: =H9-B9 -> 1123365.7 | J9: =I9/B9 -> 0.048474229 | K9: =ABS(J9) -> 0.048474229 | L9: =I9*I9 -> 1.2619506e+12 | M9: =I9-I8 -> 2867770.8 | N9: =M9*M9 -> 8.2241095e+12 | P9: Observations | Q9: 132
A10: 41882 | B10: =Inputs!D31 -> 23391322 | C10: 55.7 | D10: 31 | E10: 0 | F10: 1 | G10: 8 | H10: =$Q$18+$Q$19*C10+$Q$20*D10+$Q$21*E10+$Q$22*F10+$Q$23*G10 -> 24401641 | I10: =H10-B10 -> 1010318.9 | J10: =I10/B10 -> 0.043192041 | K10: =ABS(J10) -> 0.043192041 | L10: =I10*I10 -> 1.0207444e+12 | M10: =I10-I9 -> -113046.79 | N10: =M10*M10 -> 1.2779576e+10
A11: 41912 | B11: =Inputs!D32 -> 22126761 | C11: 160.1 | D11: 30 | E11: 0 | F11: 0 | G11: 9 | H11: =$Q$18+$Q$19*C11+$Q$20*D11+$Q$21*E11+$Q$22*F11+$Q$23*G11 -> 22192657 | I11: =H11-B11 -> 65895.678 | J11: =I11/B11 -> 0.0029780987 | K11: =ABS(J11) -> 0.0029780987 | L11: =I11*I11 -> 4.3422404e+09 | M11: =I11-I10 -> -944423.26 | N11: =M11*M11 -> 8.919353e+11 | P11: ANOVA
A12: 41943 | B12: =Inputs!D33 -> 23838442 | C12: 313.9 | D12: 31 | E12: 1 | F12: 0 | G12: 10 | H12: =$Q$18+$Q$19*C12+$Q$20*D12+$Q$21*E12+$Q$22*F12+$Q$23*G12 -> 23518347 | I12: =H12-B12 -> -320095 | J12: =I12/B12 -> -0.013427681 | K12: =ABS(J12) -> 0.013427681 | L12: =I12*I12 -> 1.0246081e+11 | M12: =I12-I11 -> -385990.68 | N12: =M12*M12 -> 1.489888e+11 | Q12: df | R12: SS | S12: MS | T12: F | U12: Significance F
A13: 41973 | B13: =Inputs!D34 -> 27733031 | C13: 541.1 | D13: 30 | E13: 1 | F13: 0 | G13: 11 | H13: =$Q$18+$Q$19*C13+$Q$20*D13+$Q$21*E13+$Q$22*F13+$Q$23*G13 -> 25746133 | I13: =H13-B13 -> -1986897.5 | J13: =I13/B13 -> -0.071643721 | K13: =ABS(J13) -> 0.071643721 | L13: =I13*I13 -> 3.9477618e+12 | M13: =I13-I12 -> -1666802.5 | N13: =M13*M13 -> 2.7782307e+12 | P13: Regression | Q13: 5 | R13: 1.2621371e+15 | S13: 2.5242743e+14 | T13: 262.67893 | U13: 7.7174834e-65
A14: 42004 | B14: =Inputs!D35 -> 29820236 | C14: 677.1 | D14: 31 | E14: 0 | F14: 0 | G14: 12 | H14: =$Q$18+$Q$19*C14+$Q$20*D14+$Q$21*E14+$Q$22*F14+$Q$23*G14 -> 29076114 | I14: =H14-B14 -> -744121.79 | J14: =I14/B14 -> -0.024953585 | K14: =ABS(J14) -> 0.024953585 | L14: =I14*I14 -> 5.5371723e+11 | M14: =I14-I13 -> 1242775.7 | N14: =M14*M14 -> 1.5444915e+12 | P14: Residual | Q14: 126 | R14: 1.2108263e+14 | S14: 9.6097324e+11
A15: 42035 | B15: =Inputs!D36 -> 33934616 | C15: 951.4 | D15: 31 | E15: 0 | F15: 0 | G15: 13 | H15: =$Q$18+$Q$19*C15+$Q$20*D15+$Q$21*E15+$Q$22*F15+$Q$23*G15 -> 32429062 | I15: =H15-B15 -> -1505554.2 | J15: =I15/B15 -> -0.044366324 | K15: =ABS(J15) -> 0.044366324 | L15: =I15*I15 -> 2.2666933e+12 | M15: =I15-I14 -> -761432.38 | N15: =M15*M15 -> 5.7977927e+11 | P15: Total | Q15: 131 | R15: 1.3832198e+15
A16: 42063 | B16: =Inputs!D37 -> 32617573 | C16: 1004.8 | D16: 28 | E16: 0 | F16: 0 | G16: 14 | H16: =$Q$18+$Q$19*C16+$Q$20*D16+$Q$21*E16+$Q$22*F16+$Q$23*G16 -> 31436771 | I16: =H16-B16 -> -1180801.9 | J16: =I16/B16 -> -0.036201404 | K16: =ABS(J16) -> 0.036201404 | L16: =I16*I16 -> 1.3942932e+12 | M16: =I16-I15 -> 324752.24 | N16: =M16*M16 -> 1.0546402e+11
A17: 42094 | B17: =Inputs!D38 -> 30305598 | C17: 749.6 | D17: 31 | E17: 1 | F17: 0 | G17: 15 | H17: =$Q$18+$Q$19*C17+$Q$20*D17+$Q$21*E17+$Q$22*F17+$Q$23*G17 -> 28882373 | I17: =H17-B17 -> -1423225 | J17: =I17/B17 -> -0.046962447 | K17: =ABS(J17) -> 0.046962447 | L17: =I17*I17 -> 2.0255695e+12 | M17: =I17-I16 -> -242423.1 | N17: =M17*M17 -> 5.8768958e+10 | Q17: Coefficients | R17: Standard Error | S17: t Stat | T17: P-value | U17: Lower 95% | V17: Upper 95% | W17: Lower 95.0% | X17: Upper 95.0%
A18: 42124 | B18: =Inputs!D39 -> 24419034 | C18: 411.6 | D18: 30 | E18: 1 | F18: 0 | G18: 16 | H18: =$Q$18+$Q$19*C18+$Q$20*D18+$Q$21*E18+$Q$22*F18+$Q$23*G18 -> 24224412 | I18: =H18-B18 -> -194622.03 | J18: =I18/B18 -> -0.0079700954 | K18: =ABS(J18) -> 0.0079700954 | L18: =I18*I18 -> 3.7877735e+10 | M18: =I18-I17 -> 1228603 | N18: =M18*M18 -> 1.5094653e+12 | P18: Intercept | Q18: 3600992.7 | R18: 3530759.4 | S18: 1.0198919 | T18: 0.30973402 | U18: -3386276.2 | V18: 10588262 | W18: -3386276.2 | X18: 10588262
A19: 42155 | B19: =Inputs!D40 -> 22122315 | C19: 178.8 | D19: 31 | E19: 1 | F19: 0 | G19: 17 | H19: =$Q$18+$Q$19*C19+$Q$20*D19+$Q$21*E19+$Q$22*F19+$Q$23*G19 -> 21950785 | I19: =H19-B19 -> -171530.39 | J19: =I19/B19 -> -0.0077537268 | K19: =ABS(J19) -> 0.0077537268 | L19: =I19*I19 -> 2.9422673e+10 | M19: =I19-I18 -> 23091.645 | N19: =M19*M19 -> 5.3322406e+08 | P19: Heating Degree Days | Q19: 12182.851 | R19: 355.24737 | S19: 34.293994 | T19: 9.4154933e-66 | U19: 11479.827 | V19: 12885.875 | W19: 11479.827 | X19: 12885.875
A20: 42185 | B20: =Inputs!D41 -> 21687054 | C20: 96.1 | D20: 30 | E20: 0 | F20: 0 | G20: 18 | H20: =$Q$18+$Q$19*C20+$Q$20*D20+$Q$21*E20+$Q$22*F20+$Q$23*G20 -> 21513678 | I20: =H20-B20 -> -173375.91 | J20: =I20/B20 -> -0.0079944425 | K20: =ABS(J20) -> 0.0079944425 | L20: =I20*I20 -> 3.0059204e+10 | M20: =I20-I19 -> -1845.5194 | N20: =M20*M20 -> 3405942 | P20: Days in Month | Q20: 551348.85 | R20: 117190.22 | S20: 4.7047345 | T20: 6.5785439e-06 | U20: 319432.86 | V20: 783264.85 | W20: 319432.86 | X20: 783264.85
A21: 42216 | B21: =Inputs!D42 -> 23793533 | C21: 43 | D21: 31 | E21: 0 | F21: 1 | G21: 19 | H21: =$Q$18+$Q$19*C21+$Q$20*D21+$Q$21*E21+$Q$22*F21+$Q$23*G21 -> 24370026 | I21: =H21-B21 -> 576492.71 | J21: =I21/B21 -> 0.024228966 | K21: =ABS(J21) -> 0.024228966 | L21: =I21*I21 -> 3.3234384e+11 | M21: =I21-I20 -> 749868.61 | N21: =M21*M21 -> 5.6230294e+11 | P21: Spring Fall Flag | Q21: -1110572.6 | R21: 199218.02 | S21: -5.5746592 | T21: 1.4394307e-07 | U21: -1504819.2 | V21: -716325.97 | W21: -1504819.2 | X21: -716325.97
A22: 42247 | B22: =Inputs!D43 -> 23664046 | C22: 50.4 | D22: 31 | E22: 0 | F22: 1 | G22: 20 | H22: =$Q$18+$Q$19*C22+$Q$20*D22+$Q$21*E22+$Q$22*F22+$Q$23*G22 -> 24471370 | I22: =H22-B22 -> 807324.35 | J22: =I22/B22 -> 0.034116074 | K22: =ABS(J22) -> 0.034116074 | L22: =I22*I22 -> 6.5177261e+11 | M22: =I22-I21 -> 230831.64 | N22: =M22*M22 -> 5.3283247e+10 | P22: Summer Flag | Q22: 2940716.6 | R22: 316002.88 | S22: 9.3059803 | T22: 5.3432277e-16 | U22: 2315356.2 | V22: 3566077 | W22: 2315356.2 | X22: 3566077
A23: 42277 | B23: =Inputs!D44 -> 21503656 | C23: 84.3 | D23: 30 | E23: 0 | F23: 0 | G23: 21 | H23: =$Q$18+$Q$19*C23+$Q$20*D23+$Q$21*E23+$Q$22*F23+$Q$23*G23 -> 21403495 | I23: =H23-B23 -> -100160.92 | J23: =I23/B23 -> -0.0046578553 | K23: =ABS(J23) -> 0.0046578553 | L23: =I23*I23 -> 1.003221e+10 | M23: =I23-I22 -> -907485.27 | N23: =M23*M23 -> 8.2352951e+11 | P23: Trend | Q23: 11191.544 | R23: 2251.9731 | S23: 4.9696612 | T23: 2.1399521e-06 | U23: 6734.9549 | V23: 15648.132 | W23: 6734.9549 | X23: 15648.132
A24: 42308 | B24: =Inputs!D45 -> 24025252 | C24: 351.1 | D24: 31 | E24: 1 | F24: 0 | G24: 22 | H24: =$Q$18+$Q$19*C24+$Q$20*D24+$Q$21*E24+$Q$22*F24+$Q$23*G24 -> 24105848 | I24: =H24-B24 -> 80595.588 | J24: =I24/B24 -> 0.0033546199 | K24: =ABS(J24) -> 0.0033546199 | L24: =I24*I24 -> 6.4956488e+09 | M24: =I24-I23 -> 180756.51 | N24: =M24*M24 -> 3.2672915e+10
A25: 42338 | B25: =Inputs!D46 -> 24608541 | C25: 433.9 | D25: 30 | E25: 1 | F25: 0 | G25: 23 | H25: =$Q$18+$Q$19*C25+$Q$20*D25+$Q$21*E25+$Q$22*F25+$Q$23*G25 -> 24574430 | I25: =H25-B25 -> -34110.645 | J25: =I25/B25 -> -0.0013861303 | K25: =ABS(J25) -> 0.0013861303 | L25: =I25*I25 -> 1.1635361e+09 | M25: =I25-I24 -> -114706.23 | N25: =M25*M25 -> 1.315752e+10
A26: 42369 | B26: =Inputs!D47 -> 26280236 | C26: 514.8 | D26: 31 | E26: 0 | F26: 0 | G26: 24 | H26: =$Q$18+$Q$19*C26+$Q$20*D26+$Q$21*E26+$Q$22*F26+$Q$23*G26 -> 27233136 | I26: =H26-B26 -> 952899.99 | J26: =I26/B26 -> 0.036259187 | K26: =ABS(J26) -> 0.036259187 | L26: =I26*I26 -> 9.080184e+11 | M26: =I26-I25 -> 987010.64 | N26: =M26*M26 -> 9.7419e+11
A27: 42400 | B27: =Inputs!D48 -> 30495180 | C27: 767.5 | D27: 31 | E27: 0 | F27: 0 | G27: 25 | H27: =$Q$18+$Q$19*C27+$Q$20*D27+$Q$21*E27+$Q$22*F27+$Q$23*G27 -> 30322934 | I27: =H27-B27 -> -172245.97 | J27: =I27/B27 -> -0.0056483016 | K27: =ABS(J27) -> 0.0056483016 | L27: =I27*I27 -> 2.9668676e+10 | M27: =I27-I26 -> -1125146 | N27: =M27*M27 -> 1.2659534e+12 | P27: Sum of Squared Difference of Residuals | Q27: =N135 -> 1.5905393e+14
A28: 42429 | B28: =Inputs!D49 -> 29063252 | C28: 767.7 | D28: 29 | E28: 0 | F28: 0 | G28: 26 | H28: =$Q$18+$Q$19*C28+$Q$20*D28+$Q$21*E28+$Q$22*F28+$Q$23*G28 -> 29233864 | I28: =H28-B28 -> 170612.43 | J28: =I28/B28 -> 0.0058703835 | K28: =ABS(J28) -> 0.0058703835 | L28: =I28*I28 -> 2.9108602e+10 | M28: =I28-I27 -> 342858.41 | N28: =M28*M28 -> 1.1755189e+11 | P28: Sum of Squared Residuals | Q28: =L135 -> 1.2108263e+14
A29: 42460 | B29: =Inputs!D50 -> 27667287 | C29: 605.3 | D29: 31 | E29: 1 | F29: 0 | G29: 27 | H29: =$Q$18+$Q$19*C29+$Q$20*D29+$Q$21*E29+$Q$22*F29+$Q$23*G29 -> 27258686 | I29: =H29-B29 -> -408600.93 | J29: =I29/B29 -> -0.014768377 | K29: =ABS(J29) -> 0.014768377 | L29: =I29*I29 -> 1.6695472e+11 | M29: =I29-I28 -> -579213.36 | N29: =M29*M29 -> 3.3548812e+11
A30: 42490 | B30: =Inputs!D51 -> 24587318 | C30: 477 | D30: 30 | E30: 1 | F30: 0 | G30: 28 | H30: =$Q$18+$Q$19*C30+$Q$20*D30+$Q$21*E30+$Q$22*F30+$Q$23*G30 -> 25155469 | I30: =H30-B30 -> 568150.96 | J30: =I30/B30 -> 0.02310748 | K30: =ABS(J30) -> 0.02310748 | L30: =I30*I30 -> 3.2279551e+11 | M30: =I30-I29 -> 976751.89 | N30: =M30*M30 -> 9.5404425e+11 | P30: Durbin-Watson Calculation | Q30: =Q27/Q28 -> 1.3135983
A31: 42521 | B31: =Inputs!D52 -> 21916797 | C31: 227.1 | D31: 31 | E31: 1 | F31: 0 | G31: 29 | H31: =$Q$18+$Q$19*C31+$Q$20*D31+$Q$21*E31+$Q$22*F31+$Q$23*G31 -> 22673515 | I31: =H31-B31 -> 756717.85 | J31: =I31/B31 -> 0.034526845 | K31: =ABS(J31) -> 0.034526845 | L31: =I31*I31 -> 5.726219e+11 | M31: =I31-I30 -> 188566.89 | N31: =M31*M31 -> 3.5557472e+10
A32: 42551 | B32: =Inputs!D53 -> 22063036 | C32: 79.7 | D32: 30 | E32: 0 | F32: 0 | G32: 30 | H32: =$Q$18+$Q$19*C32+$Q$20*D32+$Q$21*E32+$Q$22*F32+$Q$23*G32 -> 21448178 | I32: =H32-B32 -> -614858.14 | J32: =I32/B32 -> -0.027868247 | K32: =ABS(J32) -> 0.027868247 | L32: =I32*I32 -> 3.7805053e+11 | M32: =I32-I31 -> -1371576 | N32: =M32*M32 -> 1.8812207e+12
A33: 42582 | B33: =Inputs!D54 -> 24449967 | C33: 29.5 | D33: 31 | E33: 0 | F33: 1 | G33: 31 | H33: =$Q$18+$Q$19*C33+$Q$20*D33+$Q$21*E33+$Q$22*F33+$Q$23*G33 -> 24339856 | I33: =H33-B33 -> -110111.26 | J33: =I33/B33 -> -0.0045035341 | K33: =ABS(J33) -> 0.0045035341 | L33: =I33*I33 -> 1.212449e+10 | M33: =I33-I32 -> 504746.88 | N33: =M33*M33 -> 2.5476941e+11
A34: 42613 | B34: =Inputs!D55 -> 25086525 | C34: 14.1 | D34: 31 | E34: 0 | F34: 1 | G34: 32 | H34: =$Q$18+$Q$19*C34+$Q$20*D34+$Q$21*E34+$Q$22*F34+$Q$23*G34 -> 24163431 | I34: =H34-B34 -> -923093.63 | J34: =I34/B34 -> -0.036796393 | K34: =ABS(J34) -> 0.036796393 | L34: =I34*I34 -> 8.5210184e+11 | M34: =I34-I33 -> -812982.36 | N34: =M34*M34 -> 6.6094032e+11
A35: 42643 | B35: =Inputs!D56 -> 21516383 | C35: 80.5 | D35: 30 | E35: 0 | F35: 0 | G35: 33 | H35: =$Q$18+$Q$19*C35+$Q$20*D35+$Q$21*E35+$Q$22*F35+$Q$23*G35 -> 21491499 | I35: =H35-B35 -> -24884.231 | J35: =I35/B35 -> -0.0011565248 | K35: =ABS(J35) -> 0.0011565248 | L35: =I35*I35 -> 6.1922493e+08 | M35: =I35-I34 -> 898209.4 | N35: =M35*M35 -> 8.0678012e+11
A36: 42674 | B36: =Inputs!D57 -> 22851618 | C36: 302.1 | D36: 31 | E36: 1 | F36: 0 | G36: 34 | H36: =$Q$18+$Q$19*C36+$Q$20*D36+$Q$21*E36+$Q$22*F36+$Q$23*G36 -> 23643186 | I36: =H36-B36 -> 791568.4 | J36: =I36/B36 -> 0.03463949 | K36: =ABS(J36) -> 0.03463949 | L36: =I36*I36 -> 6.2658054e+11 | M36: =I36-I35 -> 816452.63 | N36: =M36*M36 -> 6.665949e+11
A37: 42704 | B37: =Inputs!D58 -> 24193372 | C37: 435.2 | D37: 30 | E37: 1 | F37: 0 | G37: 35 | H37: =$Q$18+$Q$19*C37+$Q$20*D37+$Q$21*E37+$Q$22*F37+$Q$23*G37 -> 24724567 | I37: =H37-B37 -> 531194.58 | J37: =I37/B37 -> 0.021956203 | K37: =ABS(J37) -> 0.021956203 | L37: =I37*I37 -> 2.8216769e+11 | M37: =I37-I36 -> -260373.82 | N37: =M37*M37 -> 6.7794526e+10
A38: 42735 | B38: =Inputs!D59 -> 28341333 | C38: 713.7 | D38: 31 | E38: 0 | F38: 0 | G38: 36 | H38: =$Q$18+$Q$19*C38+$Q$20*D38+$Q$21*E38+$Q$22*F38+$Q$23*G38 -> 29790604 | I38: =H38-B38 -> 1449270.6 | J38: =I38/B38 -> 0.05113629 | K38: =ABS(J38) -> 0.05113629 | L38: =I38*I38 -> 2.1003853e+12 | M38: =I38-I37 -> 918076.03 | N38: =M38*M38 -> 8.4286359e+11
A39: 42766 | B39: =Inputs!D60 -> 29369246 | C39: 744 | D39: 31 | E39: 0 | F39: 0 | G39: 37 | H39: =$Q$18+$Q$19*C39+$Q$20*D39+$Q$21*E39+$Q$22*F39+$Q$23*G39 -> 30170936 | I39: =H39-B39 -> 801689.55 | J39: =I39/B39 -> 0.027296906 | K39: =ABS(J39) -> 0.027296906 | L39: =I39*I39 -> 6.4270613e+11 | M39: =I39-I38 -> -647581.07 | N39: =M39*M39 -> 4.1936124e+11
A40: 42794 | B40: =Inputs!D61 -> 26144559 | C40: 648 | D40: 28 | E40: 0 | F40: 0 | G40: 38 | H40: =$Q$18+$Q$19*C40+$Q$20*D40+$Q$21*E40+$Q$22*F40+$Q$23*G40 -> 27358527 | I40: =H40-B40 -> 1213967.8 | J40: =I40/B40 -> 0.046432905 | K40: =ABS(J40) -> 0.046432905 | L40: =I40*I40 -> 1.4737179e+12 | M40: =I40-I39 -> 412278.27 | N40: =M40*M40 -> 1.6997337e+11
...

Sheet Power Purchased Model-WN
S1: R Square of 90% is OK
A2: Date | B2: Power Purchased | C2: Heating Degree Days | D2: Days in Month | E2: Spring Fall Flag | F2: Summer Flag | G2: Trend | H2: Predicted Purchases | J2: SUMMARY OUTPUT | S2: Adjusted R Square takes into consideration the number of variables
A3: 41670 | B3: =Inputs!D24 -> 35005917 | C3: 834.24545 | D3: 31 | E3: 0 | F3: 0 | G3: 1 | H3: =$K$18+$K$19*C3+$K$20*D3+$K$21*E3+$K$22*F3+$K$23*G3 -> 30867487 | S3: ANOVA is not really used
A4: 41698 | B4: =Inputs!D25 -> 30863808 | C4: 763.49091 | D4: 28 | E4: 0 | F4: 0 | G4: 2 | H4: =$K$18+$K$19*C4+$K$20*D4+$K$21*E4+$K$22*F4+$K$23*G4 -> 28362640 | J4: Regression Statistics
A5: 41729 | B5: =Inputs!D26 -> 32142987 | C5: 663.67273 | D5: 31 | E5: 1 | F5: 0 | G5: 3 | H5: =$K$18+$K$19*C5+$K$20*D5+$K$21*E5+$K$22*F5+$K$23*G5 -> 27701235 | J5: Multiple R | K5: 0.9552294 | S5: Coefficient-If negative, it's reducing, if +ve, it's adding
A6: 41759 | B6: =Inputs!D27 -> 25688722 | C6: 423.24545 | D6: 30 | E6: 1 | F6: 0 | G6: 4 | H6: =$K$18+$K$19*C6+$K$20*D6+$K$21*E6+$K$22*F6+$K$23*G6 -> 24231988 | J6: R Square | K6: 0.9124632 | S6: Tstat indicates how relevant a variable is.Should be greater than absolute value of 2, if less than 2 it is not statistically significant so don’t use it
A7: 41790 | B7: =Inputs!D28 -> 22896808 | C7: 211.25455 | D7: 31 | E7: 1 | F7: 0 | G7: 5 | H7: =$K$18+$K$19*C7+$K$20*D7+$K$21*E7+$K$22*F7+$K$23*G7 -> 22211875 | J7: Adjusted R Square | K7: 0.90898952
A8: 41820 | B8: =Inputs!D29 -> 22467129 | C8: 79.272727 | D8: 30 | E8: 0 | F8: 0 | G8: 6 | H8: =$K$18+$K$19*C8+$K$20*D8+$K$21*E8+$K$22*F8+$K$23*G8 -> 21174375 | J8: Standard Error | K8: 980292.43
A9: 41851 | B9: =Inputs!D30 -> 23174494 | C9: 27.636364 | D9: 31 | E9: 0 | F9: 1 | G9: 7 | H9: =$K$18+$K$19*C9+$K$20*D9+$K$21*E9+$K$22*F9+$K$23*G9 -> 24048554 | J9: Observations | K9: 132
A10: 41882 | B10: =Inputs!D31 -> 23391322 | C10: 40.327273 | D10: 31 | E10: 0 | F10: 1 | G10: 8 | H10: =$K$18+$K$19*C10+$K$20*D10+$K$21*E10+$K$22*F10+$K$23*G10 -> 24214357
A11: 41912 | B11: =Inputs!D32 -> 22126761 | C11: 123.35455 | D11: 30 | E11: 0 | F11: 0 | G11: 9 | H11: =$K$18+$K$19*C11+$K$20*D11+$K$21*E11+$K$22*F11+$K$23*G11 -> 21744992 | J11: ANOVA
A12: 41943 | B12: =Inputs!D33 -> 23838442 | C12: 312.07273 | D12: 31 | E12: 1 | F12: 0 | G12: 10 | H12: =$K$18+$K$19*C12+$K$20*D12+$K$21*E12+$K$22*F12+$K$23*G12 -> 23496086 | K12: df | L12: SS | M12: MS | N12: F | O12: Significance F
A13: 41973 | B13: =Inputs!D34 -> 27733031 | C13: 496.43636 | D13: 30 | E13: 1 | F13: 0 | G13: 11 | H13: =$K$18+$K$19*C13+$K$20*D13+$K$21*E13+$K$22*F13+$K$23*G13 -> 25202003 | J13: Regression | K13: 5 | L13: 1.2621371e+15 | M13: 2.5242743e+14 | N13: 262.67893 | O13: 7.7174834e-65
A14: 42004 | B14: =Inputs!D35 -> 29820236 | C14: 679.73636 | D14: 31 | E14: 0 | F14: 0 | G14: 12 | H14: =$K$18+$K$19*C14+$K$20*D14+$K$21*E14+$K$22*F14+$K$23*G14 -> 29108233 | J14: Residual | K14: 126 | L14: 1.2108263e+14 | M14: 9.6097324e+11
A15: 42035 | B15: =Inputs!D36 -> 33934616 | C15: =C3 -> 834.24545 | D15: 31 | E15: 0 | F15: 0 | G15: 13 | H15: =$K$18+$K$19*C15+$K$20*D15+$K$21*E15+$K$22*F15+$K$23*G15 -> 31001785 | J15: Total | K15: 131 | L15: 1.3832198e+15
A16: 42063 | B16: =Inputs!D37 -> 32617573 | C16: =C4 -> 763.49091 | D16: 28 | E16: 0 | F16: 0 | G16: 14 | H16: =$K$18+$K$19*C16+$K$20*D16+$K$21*E16+$K$22*F16+$K$23*G16 -> 28496938
A17: 42094 | B17: =Inputs!D38 -> 30305598 | C17: =C5 -> 663.67273 | D17: 31 | E17: 1 | F17: 0 | G17: 15 | H17: =$K$18+$K$19*C17+$K$20*D17+$K$21*E17+$K$22*F17+$K$23*G17 -> 27835534 | K17: Coefficients | L17: Standard Error | M17: t Stat | N17: P-value | O17: Lower 95% | P17: Upper 95% | Q17: Lower 95.0% | R17: Upper 95.0%
A18: 42124 | B18: =Inputs!D39 -> 24419034 | C18: =C6 -> 423.24545 | D18: 30 | E18: 1 | F18: 0 | G18: 16 | H18: =$K$18+$K$19*C18+$K$20*D18+$K$21*E18+$K$22*F18+$K$23*G18 -> 24366287 | J18: Intercept | K18: 3600992.7 | L18: 3530759.4 | M18: 1.0198919 | N18: 0.30973402 | O18: -3386276.2 | P18: 10588262 | Q18: -3386276.2 | R18: 10588262
A19: 42155 | B19: =Inputs!D40 -> 22122315 | C19: =C7 -> 211.25455 | D19: 31 | E19: 1 | F19: 0 | G19: 17 | H19: =$K$18+$K$19*C19+$K$20*D19+$K$21*E19+$K$22*F19+$K$23*G19 -> 22346174 | J19: Heating Degree Days | K19: 12182.851 | L19: 355.24737 | M19: 34.293994 | N19: 9.4154933e-66 | O19: 11479.827 | P19: 12885.875 | Q19: 11479.827 | R19: 12885.875
A20: 42185 | B20: =Inputs!D41 -> 21687054 | C20: =C8 -> 79.272727 | D20: 30 | E20: 0 | F20: 0 | G20: 18 | H20: =$K$18+$K$19*C20+$K$20*D20+$K$21*E20+$K$22*F20+$K$23*G20 -> 21308674 | J20: Days in Month | K20: 551348.85 | L20: 117190.22 | M20: 4.7047345 | N20: 6.5785439e-06 | O20: 319432.86 | P20: 783264.85 | Q20: 319432.86 | R20: 783264.85
A21: 42216 | B21: =Inputs!D42 -> 23793533 | C21: =C9 -> 27.636364 | D21: 31 | E21: 0 | F21: 1 | G21: 19 | H21: =$K$18+$K$19*C21+$K$20*D21+$K$21*E21+$K$22*F21+$K$23*G21 -> 24182853 | J21: Spring Fall Flag | K21: -1110572.6 | L21: 199218.02 | M21: -5.5746592 | N21: 1.4394307e-07 | O21: -1504819.2 | P21: -716325.97 | Q21: -1504819.2 | R21: -716325.97
A22: 42247 | B22: =Inputs!D43 -> 23664046 | C22: =C10 -> 40.327273 | D22: 31 | E22: 0 | F22: 1 | G22: 20 | H22: =$K$18+$K$19*C22+$K$20*D22+$K$21*E22+$K$22*F22+$K$23*G22 -> 24348656 | J22: Summer Flag | K22: 2940716.6 | L22: 316002.88 | M22: 9.3059803 | N22: 5.3432277e-16 | O22: 2315356.2 | P22: 3566077 | Q22: 2315356.2 | R22: 3566077
A23: 42277 | B23: =Inputs!D44 -> 21503656 | C23: =C11 -> 123.35455 | D23: 30 | E23: 0 | F23: 0 | G23: 21 | H23: =$K$18+$K$19*C23+$K$20*D23+$K$21*E23+$K$22*F23+$K$23*G23 -> 21879291 | J23: Trend | K23: 11191.544 | L23: 2251.9731 | M23: 4.9696612 | N23: 2.1399521e-06 | O23: 6734.9549 | P23: 15648.132 | Q23: 6734.9549 | R23: 15648.132
A24: 42308 | B24: =Inputs!D45 -> 24025252 | C24: =C12 -> 312.07273 | D24: 31 | E24: 1 | F24: 0 | G24: 22 | H24: =$K$18+$K$19*C24+$K$20*D24+$K$21*E24+$K$22*F24+$K$23*G24 -> 23630384
A25: 42338 | B25: =Inputs!D46 -> 24608541 | C25: =C13 -> 496.43636 | D25: 30 | E25: 1 | F25: 0 | G25: 23 | H25: =$K$18+$K$19*C25+$K$20*D25+$K$21*E25+$K$22*F25+$K$23*G25 -> 25336302
A26: 42369 | B26: =Inputs!D47 -> 26280236 | C26: =C14 -> 679.73636 | D26: 31 | E26: 0 | F26: 0 | G26: 24 | H26: =$K$18+$K$19*C26+$K$20*D26+$K$21*E26+$K$22*F26+$K$23*G26 -> 29242531
A27: 42400 | B27: =Inputs!D48 -> 30495180 | C27: =C15 -> 834.24545 | D27: 31 | E27: 0 | F27: 0 | G27: 25 | H27: =$K$18+$K$19*C27+$K$20*D27+$K$21*E27+$K$22*F27+$K$23*G27 -> 31136084
A28: 42429 | B28: =Inputs!D49 -> 29063252 | C28: =C16 -> 763.49091 | D28: 29 | E28: 0 | F28: 0 | G28: 26 | H28: =$K$18+$K$19*C28+$K$20*D28+$K$21*E28+$K$22*F28+$K$23*G28 -> 29182586
A29: 42460 | B29: =Inputs!D50 -> 27667287 | C29: =C17 -> 663.67273 | D29: 31 | E29: 1 | F29: 0 | G29: 27 | H29: =$K$18+$K$19*C29+$K$20*D29+$K$21*E29+$K$22*F29+$K$23*G29 -> 27969832
A30: 42490 | B30: =Inputs!D51 -> 24587318 | C30: =C18 -> 423.24545 | D30: 30 | E30: 1 | F30: 0 | G30: 28 | H30: =$K$18+$K$19*C30+$K$20*D30+$K$21*E30+$K$22*F30+$K$23*G30 -> 24500585
A31: 42521 | B31: =Inputs!D52 -> 21916797 | C31: =C19 -> 211.25455 | D31: 31 | E31: 1 | F31: 0 | G31: 29 | H31: =$K$18+$K$19*C31+$K$20*D31+$K$21*E31+$K$22*F31+$K$23*G31 -> 22480472
A32: 42551 | B32: =Inputs!D53 -> 22063036 | C32: =C20 -> 79.272727 | D32: 30 | E32: 0 | F32: 0 | G32: 30 | H32: =$K$18+$K$19*C32+$K$20*D32+$K$21*E32+$K$22*F32+$K$23*G32 -> 21442972
A33: 42582 | B33: =Inputs!D54 -> 24449967 | C33: =C21 -> 27.636364 | D33: 31 | E33: 0 | F33: 1 | G33: 31 | H33: =$K$18+$K$19*C33+$K$20*D33+$K$21*E33+$K$22*F33+$K$23*G33 -> 24317151
A34: 42613 | B34: =Inputs!D55 -> 25086525 | C34: =C22 -> 40.327273 | D34: 31 | E34: 0 | F34: 1 | G34: 32 | H34: =$K$18+$K$19*C34+$K$20*D34+$K$21*E34+$K$22*F34+$K$23*G34 -> 24482954
A35: 42643 | B35: =Inputs!D56 -> 21516383 | C35: =C23 -> 123.35455 | D35: 30 | E35: 0 | F35: 0 | G35: 33 | H35: =$K$18+$K$19*C35+$K$20*D35+$K$21*E35+$K$22*F35+$K$23*G35 -> 22013589
... A134: 45657 | B134: =Inputs!D155 -> 31129577 | C134: =C122 -> 679.73636 | D134: 31 | E134: 0 | F134: 0 | G134: 132 | H134: =$K$18+$K$19*C134+$K$20*D134+$K$21*E134+$K$22*F134+$K$23*G134 -> 30451218
A135: 45688 | C135: =C123 -> 834.24545 | D135: 31 | E135: 0 | F135: 0 | G135: 133 | H135: =$K$18+$K$19*C135+$K$20*D135+$K$21*E135+$K$22*F135+$K$23*G135 -> 32344771
A136: 45716 | C136: =C124 -> 763.49091 | D136: 28 | E136: 0 | F136: 0 | G136: 134 | H136: =$K$18+$K$19*C136+$K$20*D136+$K$21*E136+$K$22*F136+$K$23*G136 -> 29839924
A137: 45747 | C137: =C125 -> 663.67273 | D137: 31 | E137: 1 | F137: 0 | G137: 135 | H137: =$K$18+$K$19*C137+$K$20*D137+$K$21*E137+$K$22*F137+$K$23*G137 -> 29178519
A138: 45777 | C138: =C126 -> 423.24545 | D138: 30 | E138: 1 | F138: 0 | G138: 136 | H138: =$K$18+$K$19*C138+$K$20*D138+$K$21*E138+$K$22*F138+$K$23*G138 -> 25709272
...

Sheet Rate Class Energy Model
B2: Purchases | C2: Modeled Purchases | D2: Difference | E2: % Difference | F2: Loss Factor | G2: Total Billed | H2: =Inputs!B4 -> Residential | I2: =Inputs!C4 -> General Service < 50 kW | J2: =Inputs!D4 -> General Service > 50 to 4999 kW | K2: =Inputs!E4 -> USL | L2: =Inputs!F4 -> Sentinel Lighting | M2: =Inputs!G4 -> Street Lighting
A3: 2014 | B3: =+'Power Purchased Model'!B152 -> 319149657 | C3: =+'Power Purchased Model'!H152 -> 3.0802952e+08 | D3: =C3-B3 -> -11120141 | E3: =D3/B3 -> -0.034843029 | F3: =1 +(B3-G3)/G3 -> 1.0731385 | G3: =SUM(H3:M3) -> 2.973984e+08 | H3: =SUMIF(Inputs!A$24:A$143,'Rate Class Energy Model'!A3,Inputs!F$24:F$143) -> 1.1443338e+08 | I3: =SUMIF(Inputs!A$24:A$143,'Rate Class Energy Model'!A3,Inputs!H$24:H$143) -> 58443482 | J3: =SUMIF(Inputs!A$24:A$143,'Rate Class Energy Model'!A3,Inputs!J$24:J$143) -> 1.2188573e+08 | K3: =SUMIF(Inputs!A$24:A$143,'Rate Class Energy Model'!A3,Inputs!M$24:M$143) -> 180165.07 | L3: =SUMIF(Inputs!A$24:A$143,'Rate Class Energy Model'!A3,Inputs!O$24:O$143) -> 50003.863 | M3: =SUMIF(Inputs!A$24:A$143,'Rate Class Energy Model'!A3,Inputs!R$24:R$143) -> 2405634.8
A4: 2015 | B4: =+'Power Purchased Model'!B153 -> 308961454 | C4: =+'Power Purchased Model'!H153 -> 3.0659539e+08 | D4: =C4-B4 -> -2366068.4 | E4: =D4/B4 -> -0.0076581345 | F4: =1 +(B4-G4)/G4 -> 1.069988 | G4: =SUM(H4:M4) -> 2.8875225e+08 | H4: =SUMIF(Inputs!A$24:A$143,'Rate Class Energy Model'!A4,Inputs!F$24:F$143) -> 1.0824396e+08 | I4: =SUMIF(Inputs!A$24:A$143,'Rate Class Energy Model'!A4,Inputs!H$24:H$143) -> 58492111 | J4: =SUMIF(Inputs!A$24:A$143,'Rate Class Energy Model'!A4,Inputs!J$24:J$143) -> 1.1976384e+08 | K4: =SUMIF(Inputs!A$24:A$143,'Rate Class Energy Model'!A4,Inputs!M$24:M$143) -> 173556 | L4: =SUMIF(Inputs!A$24:A$143,'Rate Class Energy Model'!A4,Inputs!O$24:O$143) -> 49108.44 | M4: =SUMIF(Inputs!A$24:A$143,'Rate Class Energy Model'!A4,Inputs!R$24:R$143) -> 2029684.9
A5: 2016 | B5: =+'Power Purchased Model'!B154 -> 302232068 | C5: =+'Power Purchased Model'!H154 -> 3.0424579e+08 | D5: =C5-B5 -> 2013720.7 | E5: =D5/B5 -> 0.0066628293 | F5: =1 +(B5-G5)/G5 -> 1.0774567 | G5: =SUM(H5:M5) -> 2.8050507e+08 | H5: =SUMIF(Inputs!A$24:A$143,'Rate Class Energy Model'!A5,Inputs!F$24:F$143) -> 1.0434816e+08 | I5: =SUMIF(Inputs!A$24:A$143,'Rate Class Energy Model'!A5,Inputs!H$24:H$143) -> 58168701 | J5: =SUMIF(Inputs!A$24:A$143,'Rate Class Energy Model'!A5,Inputs!J$24:J$143) -> 1.1663711e+08 | K5: =SUMIF(Inputs!A$24:A$143,'Rate Class Energy Model'!A5,Inputs!M$24:M$143) -> 166068 | L5: =SUMIF(Inputs!A$24:A$143,'Rate Class Energy Model'!A5,Inputs!O$24:O$143) -> 48745.79 | M5: =SUMIF(Inputs!A$24:A$143,'Rate Class Energy Model'!A5,Inputs!R$24:R$143) -> 1136285.5
A6: 2017 | B6: =+'Power Purchased Model'!B155 -> 297287399 | C6: =+'Power Purchased Model'!H155 -> 3.0584816e+08 | D6: =C6-B6 -> 8560760 | E6: =D6/B6 -> 0.028796242 | F6: =1 +(B6-G6)/G6 -> 1.063397 | G6: =SUM(H6:M6) -> 2.7956388e+08 | H6: =SUMIF(Inputs!A$24:A$143,'Rate Class Energy Model'!A6,Inputs!F$24:F$143) -> 1.0312963e+08 | I6: =SUMIF(Inputs!A$24:A$143,'Rate Class Energy Model'!A6,Inputs!H$24:H$143) -> 57585352 | J6: =SUMIF(Inputs!A$24:A$143,'Rate Class Energy Model'!A6,Inputs!J$24:J$143) -> 1.1748414e+08 | K6: =SUMIF(Inputs!A$24:A$143,'Rate Class Energy Model'!A6,Inputs!M$24:M$143) -> 166068 | L6: =SUMIF(Inputs!A$24:A$143,'Rate Class Energy Model'!A6,Inputs!O$24:O$143) -> 44233.6 | M6: =SUMIF(Inputs!A$24:A$143,'Rate Class Energy Model'!A6,Inputs!R$24:R$143) -> 1154454
A7: 2018 | B7: =+'Power Purchased Model'!B156 -> 309247473 | C7: =+'Power Purchased Model'!H156 -> 3.1147034e+08 | D7: =C7-B7 -> 2222862.8 | E7: =D7/B7 -> 0.0071879741 | F7: =1 +(B7-G7)/G7 -> 1.0677676 | G7: =SUM(H7:M7) -> 2.8962057e+08 | H7: =SUMIF(Inputs!A$24:A$143,'Rate Class Energy Model'!A7,Inputs!F$24:F$143) -> 1.0942709e+08 | I7: =SUMIF(Inputs!A$24:A$143,'Rate Class Energy Model'!A7,Inputs!H$24:H$143) -> 59779468 | J7: =SUMIF(Inputs!A$24:A$143,'Rate Class Energy Model'!A7,Inputs!J$24:J$143) -> 1.1909248e+08 | K7: =SUMIF(Inputs!A$24:A$143,'Rate Class Energy Model'!A7,Inputs!M$24:M$143) -> 166686 | L7: =SUMIF(Inputs!A$24:A$143,'Rate Class Energy Model'!A7,Inputs!O$24:O$143) -> 40821.3 | M7: =SUMIF(Inputs!A$24:A$143,'Rate Class Energy Model'!A7,Inputs!R$24:R$143) -> 1114031
A8: 2019 | B8: =+'Power Purchased Model'!B157 -> 3.099521e+08 | C8: =+'Power Purchased Model'!H157 -> 3.1615687e+08 | D8: =C8-B8 -> 6204774.3 | E8: =D8/B8 -> 0.020018494 | F8: =1 +(B8-G8)/G8 -> 1.0693142 | G8: =SUM(H8:M8) -> 2.8986063e+08 | H8: =SUMIF(Inputs!A$24:A$143,'Rate Class Energy Model'!A8,Inputs!F$24:F$143) -> 110765686 | I8: =SUMIF(Inputs!A$24:A$143,'Rate Class Energy Model'!A8,Inputs!H$24:H$143) -> 59276659 | J8: =SUMIF(Inputs!A$24:A$143,'Rate Class Energy Model'!A8,Inputs!J$24:J$143) -> 118495415 | K8: =SUMIF(Inputs!A$24:A$143,'Rate Class Energy Model'!A8,Inputs!M$24:M$143) -> 172797 | L8: =SUMIF(Inputs!A$24:A$143,'Rate Class Energy Model'!A8,Inputs!O$24:O$143) -> 39113.5 | M8: =SUMIF(Inputs!A$24:A$143,'Rate Class Energy Model'!A8,Inputs!R$24:R$143) -> 1110958
A9: 2020 | B9: =+'Power Purchased Model'!B158 -> 304387702 | C9: =+'Power Purchased Model'!H158 -> 3.1233071e+08 | D9: =C9-B9 -> 7943009.2 | E9: =D9/B9 -> 0.02609504 | F9: =1 +(B9-G9)/G9 -> 1.063435 | G9: =SUM(H9:M9) -> 286230671 | H9: =SUMIF(Inputs!A$24:A$143,'Rate Class Energy Model'!A9,Inputs!F$24:F$143) -> 112437412 | I9: =SUMIF(Inputs!A$24:A$143,'Rate Class Energy Model'!A9,Inputs!H$24:H$143) -> 54635310 | J9: =SUMIF(Inputs!A$24:A$143,'Rate Class Energy Model'!A9,Inputs!J$24:J$143) -> 117859877 | K9: =SUMIF(Inputs!A$24:A$143,'Rate Class Energy Model'!A9,Inputs!M$24:M$143) -> 173568 | L9: =SUMIF(Inputs!A$24:A$143,'Rate Class Energy Model'!A9,Inputs!O$24:O$143) -> 37289 | M9: =SUMIF(Inputs!A$24:A$143,'Rate Class Energy Model'!A9,Inputs!R$24:R$143) -> 1087215
A10: 2021 | B10: =+'Power Purchased Model'!B159 -> 309941422 | C10: =+'Power Purchased Model'!H159 -> 3.1081062e+08 | D10: =C10-B10 -> 869194.76 | E10: =D10/B10 -> 0.002804384 | F10: =1 +(B10-G10)/G10 -> 1.0678787 | G10: =SUM(H10:M10) -> 290240292 | H10: =SUMIF(Inputs!A$24:A$143,'Rate Class Energy Model'!A10,Inputs!F$24:F$143) -> 112958103 | I10: =SUMIF(Inputs!A$24:A$143,'Rate Class Energy Model'!A10,Inputs!H$24:H$143) -> 56374252 | J10: =SUMIF(Inputs!A$24:A$143,'Rate Class Energy Model'!A10,Inputs!J$24:J$143) -> 119633612 | K10: =SUMIF(Inputs!A$24:A$143,'Rate Class Energy Model'!A10,Inputs!M$24:M$143) -> 178362 | L10: =SUMIF(Inputs!A$24:A$143,'Rate Class Energy Model'!A10,Inputs!O$24:O$143) -> 37046 | M10: =SUMIF(Inputs!A$24:A$143,'Rate Class Energy Model'!A10,Inputs!R$24:R$143) -> 1058917
A11: 2022 | B11: =+'Power Purchased Model'!B160 -> 322673989 | C11: =+'Power Purchased Model'!H160 -> 3.1595888e+08 | D11: =C11-B11 -> -6715108.3 | E11: =D11/B11 -> -0.020810814 | F11: =1 +(B11-G11)/G11 -> 1.0645713 | G11: =SUM(H11:M11) -> 303102277 | H11: =SUMIF(Inputs!A$24:A$143,'Rate Class Energy Model'!A11,Inputs!F$24:F$143) -> 116633398 | I11: =SUMIF(Inputs!A$24:A$143,'Rate Class Energy Model'!A11,Inputs!H$24:H$143) -> 59995612 | J11: =SUMIF(Inputs!A$24:A$143,'Rate Class Energy Model'!A11,Inputs!J$24:J$143) -> 125207062 | K11: =SUMIF(Inputs!A$24:A$143,'Rate Class Energy Model'!A11,Inputs!M$24:M$143) -> 172344 | L11: =SUMIF(Inputs!A$24:A$143,'Rate Class Energy Model'!A11,Inputs!O$24:O$143) -> 34937 | M11: =SUMIF(Inputs!A$24:A$143,'Rate Class Energy Model'!A11,Inputs!R$24:R$143) -> 1058924
