Workbook
Name __CAP1000: #REF!
Name __CAP1000: #REF!
Name __CAP1000: #REF!
Name __OP1000: #REF!
Name __OP1000: #REF!
Name __OP1000: #REF!
Name _110: #REF!
Name _110: #REF!
Name _110: #REF!
Name _110INPT: #REF!
Name _110INPT: #REF!
Name _110INPT: #REF!
Name _115: #REF!
Name _115: #REF!
Name _115: #REF!
Name _115INPT: #REF!
Name _115INPT: #REF!
Name _115INPT: #REF!
Name _120: #REF!
Name _120: #REF!
Name _120: #REF!
Name _140: #REF!
Name _140: #REF!
Name _140: #REF!
Name _140INPT: #REF!
Name _140INPT: #REF!
Name _140INPT: #REF!
Name _CAP1000: #REF!
Name _CAP1000: #REF!
Name _CAP1000: #REF!
Name _OP1000: #REF!
Name _OP1000: #REF!
Name _OP1000: #REF!
Name ALL: #REF!
Name ALL: #REF!
Name ALL: #REF!
Name ApprovedYr: #REF!
Name CAfile: #REF!
Name CAPCOSTS: #REF!
Name CAPCOSTS: #REF!
Name CAPCOSTS: #REF!
Name CAPITAL: #REF!
Name CAPITAL: #REF!
Name CAPITAL: #REF!
Name CapitalExpListing: #REF!
Name CapitalExpListing: #REF!
Name CapitalExpListing: #REF!
Name CArevReq: #REF!
Name CASENUMBER: #REF!
Name CASHFLOW: #REF!
Name CASHFLOW: #REF!
Name CASHFLOW: #REF!
Name cc: #REF!
Name cc: #REF!
Name cc: #REF!
Name ClassRange1: #REF!
Name ClassRange2: #REF!
Name contactf: #REF!
Name contactf: #REF!
Name contactf: #REF!

Sheet Inputs
A3: Average Customer / Connection Count
A4: Date | B4: Residential | C4: General Service < 50 kW | D4: General Service > 50 to 4999 kW | E4: USL | F4: Sentinel Lighting | G4: Street Lighting
A5: 2014 | B5: =AVERAGEIF($A$24:$A$143,$A5,G$24:G$143) -> 10964.083 | C5: =AVERAGEIF($A$24:$A$143,$A5,I$24:I$143) -> 2106 | D5: =AVERAGEIF($A$24:$A$143,$A5,L$24:L$143) -> 172 | E5: =AVERAGEIF($A$24:$A$143,$A5,N$24:N$143) -> 54.75 | F5: =AVERAGEIF($A$24:$A$143,$A5,Q$24:Q$143) -> 56.666667 | G5: =AVERAGEIF($A$24:$A$143,$A5,T$24:T$143) -> 2843.6667
A6: 2015 | B6: =AVERAGEIF($A$24:$A$143,$A6,G$24:G$143) -> 11020.917 | C6: =AVERAGEIF($A$24:$A$143,$A6,I$24:I$143) -> 2132.5833 | D6: =AVERAGEIF($A$24:$A$143,$A6,L$24:L$143) -> 155.83333 | E6: =AVERAGEIF($A$24:$A$143,$A6,N$24:N$143) -> 52.166667 | F6: =AVERAGEIF($A$24:$A$143,$A6,Q$24:Q$143) -> 53 | G6: =AVERAGEIF($A$24:$A$143,$A6,T$24:T$143) -> 2766.0833
A7: 2016 | B7: =AVERAGEIF($A$24:$A$143,$A7,G$24:G$143) -> 11078.417 | C7: =AVERAGEIF($A$24:$A$143,$A7,I$24:I$143) -> 2137.6667 | D7: =AVERAGEIF($A$24:$A$143,$A7,L$24:L$143) -> 149.33333 | E7: =AVERAGEIF($A$24:$A$143,$A7,N$24:N$143) -> 51 | F7: =AVERAGEIF($A$24:$A$143,$A7,Q$24:Q$143) -> 52.333333 | G7: =AVERAGEIF($A$24:$A$143,$A7,T$24:T$143) -> 2679.1667
A8: 2017 | B8: =AVERAGEIF($A$24:$A$143,$A8,G$24:G$143) -> 11168.75 | C8: =AVERAGEIF($A$24:$A$143,$A8,I$24:I$143) -> 2144.4167 | D8: =AVERAGEIF($A$24:$A$143,$A8,L$24:L$143) -> 137.91667 | E8: =AVERAGEIF($A$24:$A$143,$A8,N$24:N$143) -> 51 | F8: =AVERAGEIF($A$24:$A$143,$A8,Q$24:Q$143) -> 45.5 | G8: =AVERAGEIF($A$24:$A$143,$A8,T$24:T$143) -> 2848.3333
A9: 2018 | B9: =AVERAGEIF($A$24:$A$143,$A9,G$24:G$143) -> 11288.667 | C9: =AVERAGEIF($A$24:$A$143,$A9,I$24:I$143) -> 2158.8333 | D9: =AVERAGEIF($A$24:$A$143,$A9,L$24:L$143) -> 137.5 | E9: =AVERAGEIF($A$24:$A$143,$A9,N$24:N$143) -> 51 | F9: =AVERAGEIF($A$24:$A$143,$A9,Q$24:Q$143) -> 44 | G9: =AVERAGEIF($A$24:$A$143,$A9,T$24:T$143) -> 2849
A10: 2019 | B10: =AVERAGEIF($A$24:$A$143,$A10,G$24:G$143) -> 11429.75 | C10: =AVERAGEIF($A$24:$A$143,$A10,I$24:I$143) -> 2154.3333 | D10: =AVERAGEIF($A$24:$A$143,$A10,L$24:L$143) -> 136.66667 | E10: =AVERAGEIF($A$24:$A$143,$A10,N$24:N$143) -> 54.583333 | F10: =AVERAGEIF($A$24:$A$143,$A10,Q$24:Q$143) -> 41.25 | G10: =AVERAGEIF($A$24:$A$143,$A10,T$24:T$143) -> 2849.1667
A11: 2020 | B11: =AVERAGEIF($A$24:$A$143,$A11,G$24:G$143) -> 11566 | C11: =AVERAGEIF($A$24:$A$143,$A11,I$24:I$143) -> 2155.3333 | D11: =AVERAGEIF($A$24:$A$143,$A11,L$24:L$143) -> 135.83333 | E11: =AVERAGEIF($A$24:$A$143,$A11,N$24:N$143) -> 56 | F11: =AVERAGEIF($A$24:$A$143,$A11,Q$24:Q$143) -> 40 | G11: =AVERAGEIF($A$24:$A$143,$A11,T$24:T$143) -> 2851
A12: 2021 | B12: =AVERAGEIF($A$24:$A$143,$A12,G$24:G$143) -> 11725.917 | C12: =AVERAGEIF($A$24:$A$143,$A12,I$24:I$143) -> 2190.8333 | D12: =AVERAGEIF($A$24:$A$143,$A12,L$24:L$143) -> 130.75 | E12: =AVERAGEIF($A$24:$A$143,$A12,N$24:N$143) -> 64.5 | F12: =AVERAGEIF($A$24:$A$143,$A12,Q$24:Q$143) -> 40 | G12: =AVERAGEIF($A$24:$A$143,$A12,T$24:T$143) -> 2851
A13: 2022 | B13: =AVERAGEIF($A$24:$A$143,$A13,G$24:G$143) -> 11911.917 | C13: =AVERAGEIF($A$24:$A$143,$A13,I$24:I$143) -> 2205.1667 | D13: =AVERAGEIF($A$24:$A$143,$A13,L$24:L$143) -> 129.08333 | E13: =AVERAGEIF($A$24:$A$143,$A13,N$24:N$143) -> 64.25 | F13: =AVERAGEIF($A$24:$A$143,$A13,Q$24:Q$143) -> 37.583333 | G13: =AVERAGEIF($A$24:$A$143,$A13,T$24:T$143) -> 2851
A14: 2023 | B14: =AVERAGEIF($A$24:$A$143,$A14,G$24:G$143) -> 12125.25 | C14: =AVERAGEIF($A$24:$A$143,$A14,I$24:I$143) -> 2206.4167 | D14: =AVERAGEIF($A$24:$A$143,$A14,L$24:L$143) -> 130.08333 | E14: =AVERAGEIF($A$24:$A$143,$A14,N$24:N$143) -> 63.333333 | F14: =AVERAGEIF($A$24:$A$143,$A14,Q$24:Q$143) -> 32.5 | G14: =AVERAGEIF($A$24:$A$143,$A14,T$24:T$143) -> 2851
A15: 2024 | B15: =AVERAGEIF($A$24:$A$155,$A15,G$24:G$155) -> 12332.667 | C15: =AVERAGEIF($A$24:$A$155,$A15,I$24:I$155) -> 2226.1667 | D15: =AVERAGEIF($A$24:$A$155,$A15,L$24:L$155) -> 132.25 | E15: =AVERAGEIF($A$24:$A$155,$A15,N$24:N$155) -> 63 | F15: =AVERAGEIF($A$24:$A$155,$A15,Q$24:Q$155) -> 32.666667 | G15: =AVERAGEIF($A$24:$A$155,$A15,T$24:T$155) -> 2851
A20: Consumption | D20: Wholesale | F20: Retail Consumption
D21: Wholesale Purchases | F21: =B4 -> Residential | H21: =C4 -> General Service < 50 kW | J21: =D4 -> General Service > 50 to 4999 kW | M21: =E4 -> USL | O21: =F4 -> Sentinel Lighting | R21: =G4 -> Street Lighting
D22: kWh | F22: kWh | G22: Number of Customer/ Connection | H22: kWh | I22: Number of Customer/ Connection | J22: kWh | K22: kW | L22: Number of Customer/ Connection | M22: kWh | N22: Customer/ Connection | O22: kWh | P22: kW | Q22: Number of Customer/ Connection | R22: kWh | S22: kW | T22: Number of Customer/ Connection
A23: Year | B23: Month
A24: 2014 | B24: January | D24: 35005917 | F24: 15094589 | G24: 10951 | H24: 6383202.7 | I24: 2100 | J24: 10877889 | K24: 23851.56 | L24: 172 | M24: 15114.006 | N24: 56 | O24: 4218.4858 | P24: 11.718016 | Q24: 57 | R24: 256046.35 | S24: 552.86 | T24: 2852 | U24: =G24+I24+L24 -> 13223
A25: 2014 | B25: February | D25: 30863808 | F25: 12803913 | G25: 10948 | H25: 5641962.1 | I25: 2099 | J25: 9969282.7 | K25: 23912.42 | L25: 172 | M25: 15114.006 | N25: 56 | O25: 4218.4858 | P25: 11.718016 | Q25: 57 | R25: 226313.55 | S25: 552.86 | T25: 2852
A26: 2014 | B26: March | D26: 32142987 | F26: 12827196 | G26: 10949 | H26: 5855163.5 | I26: 2098 | J26: 10915846 | K26: 23709.12 | L26: 172 | M26: 15114.006 | N26: 56 | O26: 4218.4858 | P26: 11.718016 | Q26: 57 | R26: 214357.66 | S26: 552.86 | T26: 2852
A27: 2014 | B27: April | D27: 25688722 | F27: 9507309.3 | G27: 10949 | H27: 4702930.3 | I27: 2107 | J27: 9712427.4 | K27: 22640.25 | L27: 172 | M27: 15114.006 | N27: 56 | O27: 4218.4858 | P27: 11.718016 | Q27: 57 | R27: 182086.69 | S27: 552.86 | T27: 2852
A28: 2014 | B28: May | D28: 22896808 | F28: 7229742.8 | G28: 10944 | H28: 4157732.5 | I28: 2106 | J28: 9845385.2 | K28: 24146.22 | L28: 172 | M28: 15114.006 | N28: 56 | O28: 4218.4858 | P28: 11.718016 | Q28: 57 | R28: 164981.71 | S28: 552.86 | T28: 2852
A29: 2014 | B29: June | D29: 22467129 | F29: 6471676.5 | G29: 10968 | H29: 4245293 | I29: 2105 | J29: 9986224.5 | K29: 25681.08 | L29: 172 | M29: 15114.006 | N29: 56 | O29: 4168.3228 | P29: 11.578675 | Q29: 56 | R29: 145726.04 | S29: 551.86 | T29: 2836
A30: 2014 | B30: July | D30: 23174494 | F30: 6701854.7 | G30: 10964 | H30: 4441903.9 | I30: 2110 | J30: 10347382 | K30: 24263.59 | L30: 172 | M30: 15114.006 | N30: 56 | O30: 4210.4421 | P30: 11.695673 | Q30: 58 | R30: 151735.5 | S30: 549.01 | T30: 2838
A31: 2014 | B31: August | D31: 23391322 | F31: 6774992.2 | G31: 10966 | H31: 4367697.4 | I31: 2112 | J31: 10325525 | K31: 24329.23 | L31: 171 | M31: 15114.006 | N31: 56 | O31: 4142.8821 | P31: 11.508006 | Q31: 57 | R31: 169308.75 | S31: 549.01 | T31: 2838
A32: 2014 | B32: September | D32: 22126761 | F32: 6559011.5 | G32: 10970 | H32: 3955556.5 | I32: 2111 | J32: 9951409 | K32: 24863.46 | L32: 172 | M32: 14826.005 | N32: 53 | O32: 4108.6821 | P32: 11.413006 | Q32: 56 | R32: 187116.27 | S32: 549.01 | T32: 2838
A33: 2014 | B33: October | D33: 23838442 | F33: 7825270.6 | G33: 10986 | H33: 4172827.9 | I33: 2114 | J33: 9952029.9 | K33: 23611.82 | L33: 172 | M33: 14826.005 | N33: 52 | O33: 4178.2221 | P33: 11.606173 | Q33: 58 | R33: 218907.54 | S33: 549.01 | T33: 2838
A34: 2014 | B34: November | D34: 27733031 | F34: 10474665 | G34: 10988 | H34: 4964751.9 | I34: 2105 | J34: 10127921 | K34: 23798.89 | L34: 172 | M34: 14826.005 | N34: 52 | O34: 4067.2821 | P34: 11.298006 | Q34: 56 | R34: 235342.33 | S34: 549.01 | T34: 2838
A35: 2014 | B35: December | D35: 29820236 | F35: 12163161 | G35: 10986 | H35: 5554460.4 | I35: 2105 | J35: 9874408 | K35: 23453.06 | L35: 173 | M35: 14775 | N35: 52 | O35: 4035.6 | P35: 11.21 | Q35: 54 | R35: 253712.39 | S35: 549.01 | T35: 2838 | U35: =G35+I35+L35 -> 13264
A36: 2015 | B36: January | D36: 33934616 | F36: 14436422 | G36: 11011 | H36: 6273396.1 | I36: 2120 | J36: 10633877 | K36: 24028.12 | L36: 172 | M36: 14775 | N36: 55 | O36: 4093.24 | P36: 11.370111 | Q36: 53 | R36: 249473.41 | S36: 549.01 | T36: 2838
A37: 2015 | B37: February | D37: 32617573 | F37: 13756630 | G37: 11004 | H37: 6052263.6 | I37: 2119 | J37: 10191381 | K37: 24332.56 | L37: 172 | M37: 14775 | N37: 55 | O37: 4151.2 | P37: 11.531111 | Q37: 53 | R37: 217782.4 | S37: 549.01 | T37: 2838
A38: 2015 | B38: March | D38: 30305598 | F38: 11761673 | G38: 11001 | H38: 5608955.3 | I38: 2117 | J38: 10735160 | K38: 23775.2 | L38: 172 | M38: 14775 | N38: 52 | O38: 4123.48 | P38: 11.454111 | Q38: 53 | R38: 205202.71 | S38: 549.01 | T38: 2838
A39: 2015 | B39: April | D39: 24419034 | F39: 8713121.3 | G39: 10997 | H39: 4575738.8 | I39: 2135 | J39: 9408817.4 | K39: 23001.02 | L39: 152 | M39: 14775 | N39: 52 | O39: 4123.48 | P39: 11.454111 | Q39: 53 | R39: 176881.31 | S39: 549.01 | T39: 2838
A40: 2015 | B40: May | D40: 22122315 | F40: 6781614 | G40: 10999 | H40: 4211249.8 | I40: 2136 | J40: 9734230.8 | K40: 24032.35 | L40: 151 | M40: 14775 | N40: 52 | O40: 4123.48 | P40: 11.454111 | Q40: 53 | R40: 159984.52 | S40: 548.71 | T40: 2838
A41: 2015 | B41: June | D41: 21687054 | F41: 6191305.7 | G41: 10998 | H41: 4199520.1 | I41: 2138 | J41: 9814614.9 | K41: 23434.58 | L41: 150 | M41: 14775 | N41: 52 | O41: 4123.48 | P41: 11.454111 | Q41: 53 | R41: 145088.54 | S41: 547.81 | T41: 2838
A42: 2015 | B42: July | D42: 23793533 | F42: 6892136.9 | G42: 11048 | H42: 4833132 | I42: 2139 | J42: 10221738 | K42: 23341.55 | L42: 150 | M42: 14775 | N42: 52 | O42: 4123.48 | P42: 11.454111 | Q42: 53 | R42: 153248.09 | S42: 547.81 | T42: 2838
A43: 2015 | B43: August | D43: 23664046 | F43: 6785288.8 | G43: 11019 | H43: 4639927.3 | I43: 2139 | J43: 10193770 | K43: 24101.8 | L43: 150 | M43: 14775 | N43: 52 | O43: 4123.48 | P43: 11.454111 | Q43: 53 | R43: 140055.19 | S43: 547.81 | T43: 2667
A44: 2015 | B44: September | D44: 21503656 | F44: 6501595 | G44: 11025 | H44: 4347395.4 | I44: 2137 | J44: 10050543 | K44: 26106.91 | L44: 151 | M44: 13839 | N44: 51 | O44: 4123.48 | P44: 11.454111 | Q44: 53 | R44: 135697.81 | S44: 411.86 | T44: 2667
A45: 2015 | B45: October | D45: 24025252 | F45: 7439233.4 | G45: 11037 | H45: 3654711 | I45: 2135 | J45: 8863760.9 | K45: 21646.68 | L45: 150 | M45: 13789 | N45: 51 | O45: 3752.68 | P45: 10.424111 | Q45: 49 | R45: 155115.8 | S45: 411.65 | T45: 2667
A46: 2015 | B46: November | D46: 24608541 | F46: 8821415.9 | G46: 11055 | H46: 5088671.3 | I46: 2138 | J46: 10628741 | K46: 27607.87 | L46: 150 | M46: 13889 | N46: 51 | O46: 4123.48 | P46: 11.454111 | Q46: 57 | R46: 171400.04 | S46: 367.95 | T46: 2667
A47: 2015 | B47: December | D47: 26280236 | F47: 10163520 | G47: 11057 | H47: 5007150.8 | I47: 2138 | J47: 9287204.9 | K47: 22673.72 | L47: 150 | M47: 13839 | N47: 51 | O47: 4123.48 | P47: 11.454111 | Q47: 53 | R47: 119755.08 | S47: 342.51 | T47: 2659 | U47: =G47+I47+L47 -> 13345
A48: 2016 | B48: January | D48: 30495180 | F48: 12502052 | G48: 11062 | H48: 5964120.5 | I48: 2138 | J48: 10066804 | K48: 24294.5 | L48: 150 | M48: 13839 | N48: 51 | O48: 4123.48 | P48: 11.454111 | Q48: 53 | R48: 116626.95 | S48: 256.05 | T48: 2659
A49: 2016 | B49: February | D49: 29063252 | F49: 11543709 | G49: 11065 | H49: 5638710.4 | I49: 2140 | J49: 9668299.3 | K49: 23819.9 | L49: 149 | M49: 13839 | N49: 51 | O49: 4123.48 | P49: 11.454111 | Q49: 53 | R49: 107375.64 | S49: 256.05 | T49: 2659
A50: 2016 | B50: March | D50: 27667287 | F50: 10303542 | G50: 11067 | H50: 5280569.1 | I50: 2140 | J50: 9869976.8 | K50: 23012.17 | L50: 149 | M50: 13839 | N50: 51 | O50: 4123.48 | P50: 11.454111 | Q50: 53 | R50: 97797.35 | S50: 256.05 | T50: 2659
A51: 2016 | B51: April | D51: 24587318 | F51: 8763747 | G51: 11068 | H51: 4823804.3 | I51: 2141 | J51: 9180858.8 | K51: 22615.25 | L51: 149 | M51: 13839 | N51: 51 | O51: 4123.48 | P51: 11.454111 | Q51: 53 | R51: 82846.14 | S51: 256.05 | T51: 2659
A52: 2016 | B52: May | D52: 21916797 | F52: 6915785.3 | G52: 11067 | H52: 4243596.3 | I52: 2140 | J52: 9278035.5 | K52: 23717.12 | L52: 149 | M52: 13839 | N52: 51 | O52: 4123.48 | P52: 11.454111 | Q52: 53 | R52: 75557.24 | S52: 256.05 | T52: 2659
A53: 2016 | B53: June | D53: 22063036 | F53: 6294284 | G53: 11075 | H53: 4286092.1 | I53: 2137 | J53: 9804520 | K53: 24341.72 | L53: 149 | M53: 13839 | N53: 51 | O53: 4123.48 | P53: 11.454111 | Q53: 53 | R53: 67459.87 | S53: 256.05 | T53: 2659
A54: 2016 | B54: July | D54: 24449967 | F54: 7176422.2 | G54: 11073 | H54: 4804769.8 | I54: 2138 | J54: 10333109 | K54: 24136.36 | L54: 150 | M54: 13839 | N54: 51 | O54: 4129.63 | P54: 11.471194 | Q54: 53 | R54: 71322.81 | S54: 256.05 | T54: 2669
A55: 2016 | B55: August | D55: 25086525 | F55: 7418754.9 | G55: 11072 | H55: 4934060 | I55: 2139 | J55: 10546922 | K55: 24539.1 | L55: 150 | M55: 13839 | N55: 51 | O55: 4128.5 | P55: 11.468056 | Q55: 53 | R55: 80050.6 | S55: 256.05 | T55: 2669
A56: 2016 | B56: September | D56: 21516383 | F56: 6206374.9 | G56: 11079 | H56: 4117268.3 | I56: 2137 | J56: 9523317.9 | K56: 24166.38 | L56: 150 | M56: 13839 | N56: 51 | O56: 3903.88 | P56: 10.844111 | Q56: 53 | R56: 87836.56 | S56: 256.05 | T56: 2669
A57: 2016 | B57: October | D57: 22851618 | F57: 7344327.5 | G57: 11083 | H57: 4141245.8 | I57: 2132 | J57: 9458401.4 | K57: 23099.44 | L57: 149 | M57: 13839 | N57: 51 | O57: 4124.62 | P57: 11.457278 | Q57: 53 | R57: 104079.38 | S57: 256.05 | T57: 2669
A58: 2016 | B58: November | D58: 24193372 | F58: 8371153.5 | G58: 11111 | H58: 4464495.8 | I58: 2132 | J58: 9269442.4 | K58: 22212.99 | L58: 149 | M58: 13839 | N58: 51 | O58: 3907.48 | P58: 10.854111 | Q58: 50 | R58: 120989.41 | S58: 266.77 | T58: 2669
A59: 2016 | B59: December | D59: 28341333 | F59: 11508008 | G59: 11119 | H59: 5469968.8 | I59: 2138 | J59: 9637422 | K59: 23841.5 | L59: 149 | M59: 13839 | N59: 51 | O59: 3810.8 | P59: 10.585556 | Q59: 48 | R59: 124343.51 | S59: 266.77 | T59: 2851
... A106: 2020 | B106: November | D106: 25126449 | F106: 9286968 | G106: 11609 | H106: 4476458 | I106: 2167 | J106: 9711758 | K106: 23719.65 | L106: 135 | M106: 14746 | N106: 62 | O106: 3087 | P106: 8.575 | Q106: 40 | R106: 98114 | S106: 256.86 | T106: 2851
A107: 2020 | B107: December | D107: 28892268 | F107: 12200890 | G107: 11624 | H107: 5321614 | I107: 2176 | J107: 9519628 | K107: 23032.75 | L107: 136 | M107: 14746 | N107: 62 | O107: 3087 | P107: 8.575 | Q107: 40 | R107: 106309 | S107: 256.86 | T107: 2851 | U107: =G107+I107+L107 -> 13936
A108: 2021 | B108: January | D108: 29919109 | F108: 12861568 | G108: 11624 | H108: 5452123 | I108: 2180 | J108: 9455402 | K108: 22035.74 | L108: 136 | M108: 14746 | N108: 62 | O108: 3087 | P108: 8.575 | Q108: 40 | R108: 104187 | S108: 256.86 | T108: 2851
A109: 2021 | B109: February | D109: 28503891 | F109: 12093226 | G109: 11658 | H109: 5232812 | I109: 2188 | J109: 9144520 | K109: 22153.09 | L109: 133 | M109: 14746 | N109: 62 | O109: 3087 | P109: 8.575 | Q109: 40 | R109: 93036 | S109: 256.86 | T109: 2851
A110: 2021 | B110: March | D110: 27991373 | F110: 11067343 | G110: 11671 | H110: 5156067 | I110: 2185 | J110: 10195091 | K110: 22078.56 | L110: 132 | M110: 14887 | N110: 65 | O110: 3087 | P110: 8.575 | Q110: 40 | R110: 91230 | S110: 256.86 | T110: 2851
A111: 2021 | B111: April | D111: 23510679 | F111: 8571210 | G111: 11674 | H111: 4059487 | I111: 2184 | J111: 9368550 | K111: 22583.78 | L111: 132 | M111: 14887 | N111: 65 | O111: 3087 | P111: 8.575 | Q111: 40 | R111: 83669 | S111: 256.86 | T111: 2851
A112: 2021 | B112: May | D112: 22807571 | F112: 7793566 | G112: 11705 | H112: 3985806 | I112: 2186 | J112: 9563882 | K112: 22518.17 | L112: 131 | M112: 14887 | N112: 65 | O112: 3087 | P112: 8.575 | Q112: 40 | R112: 76350 | S112: 256.86 | T112: 2851
A113: 2021 | B113: June | D113: 23479543 | F113: 7508354 | G113: 11713 | H113: 4188697 | I113: 2190 | J113: 9899241 | K113: 23534.51 | L113: 130 | M113: 14887 | N113: 65 | O113: 3087 | P113: 8.575 | Q113: 40 | R113: 69414 | S113: 256.86 | T113: 2851
A114: 2021 | B114: July | D114: 24849711 | F114: 7969672 | G114: 11717 | H114: 4656044 | I114: 2189 | J114: 10527025 | K114: 23638.26 | L114: 129 | M114: 14887 | N114: 65 | O114: 3087 | P114: 8.575 | Q114: 40 | R114: 77558 | S114: 256.86 | T114: 2851
A115: 2021 | B115: August | D115: 27059084 | F115: 8857289 | G115: 11739 | H115: 5095064 | I115: 2192 | J115: 11326980 | K115: 27829.73 | L115: 130 | M115: 14887 | N115: 65 | O115: 3087 | P115: 8.575 | Q115: 40 | R115: 80205 | S115: 256.86 | T115: 2851
A116: 2021 | B116: September | D116: 22357163 | F116: 6806749 | G116: 11760 | H116: 4053728 | I116: 2193 | J116: 9892370 | K116: 24747.9 | L116: 129 | M116: 14887 | N116: 65 | O116: 3087 | P116: 8.575 | Q116: 40 | R116: 83190 | S116: 256.86 | T116: 2851
A117: 2021 | B117: October | D117: 23786911 | F117: 7601741 | G117: 11777 | H117: 4183435 | I117: 2197 | J117: 10431514 | K117: 25671.28 | L117: 129 | M117: 14887 | N117: 65 | O117: 3088 | P117: 8.5777778 | Q117: 40 | R117: 95656 | S117: 256.86 | T117: 2851
A118: 2021 | B118: November | D118: 26548630 | F118: 9744511 | G118: 11826 | H118: 4813328 | I118: 2202 | J118: 9988600 | K118: 24537.13 | L118: 129 | M118: 14887 | N118: 65 | O118: 3088 | P118: 8.5777778 | Q118: 40 | R118: 98114 | S118: 256.86 | T118: 2851
A119: 2021 | B119: December | D119: 29127757 | F119: 12082874 | G119: 11847 | H119: 5497661 | I119: 2204 | J119: 9840437 | K119: 24103.86 | L119: 129 | M119: 14887 | N119: 65 | O119: 3087 | P119: 8.575 | Q119: 40 | R119: 106308 | S119: 256.86 | T119: 2851 | U119: =G119+I119+L119 -> 14180
A120: 2022 | B120: January | D120: 34795564 | F120: 15288831 | G120: 11857 | H120: 6620879 | I120: 2205 | J120: 10600536 | K120: 23826.57 | L120: 129 | M120: 14887 | N120: 65 | O120: 3087 | P120: 8.575 | Q120: 40 | R120: 104186 | S120: 256.86 | T120: 2851
A121: 2022 | B121: February | D121: 30039948 | F121: 12618527 | G121: 11867 | H121: 5767398 | I121: 2210 | J121: 9657312 | K121: 23370.76 | L121: 129 | M121: 14887 | N121: 65 | O121: 3087 | P121: 8.575 | Q121: 39 | R121: 93038 | S121: 256.86 | T121: 2851
A122: 2022 | B122: March | D122: 29938094 | F122: 11852497 | G122: 11863 | H122: 5691573 | I122: 2208 | J122: 10498906 | K122: 23473.57 | L122: 128 | M122: 14887 | N122: 65 | O122: 3087 | P122: 8.575 | Q122: 39 | R122: 91230 | S122: 256.86 | T122: 2851
A123: 2022 | B123: April | D123: 25592068 | F123: 9318640 | G123: 11876 | H123: 4626127 | I123: 2210 | J123: 9984284 | K123: 24485.72 | L123: 129 | M123: 14187 | N123: 64 | O123: 3087 | P123: 8.575 | Q123: 39 | R123: 83670 | S123: 256.86 | T123: 2851
A124: 2022 | B124: May | D124: 23761000 | F124: 7502565 | G124: 11883 | H124: 4308329 | I124: 2212 | J124: 10552771 | K124: 26091.02 | L124: 129 | M124: 14187 | N124: 64 | O124: 3087 | P124: 8.575 | Q124: 39 | R124: 76349 | S124: 256.86 | T124: 2851
A125: 2022 | B125: June | D125: 23802150 | F125: 7235869 | G125: 11883 | H125: 4351593 | I125: 2216 | J125: 10792853 | K125: 26578.45 | L125: 129 | M125: 14187 | N125: 64 | O125: 2846 | P125: 7.9055556 | Q125: 37 | R125: 69415 | S125: 256.86 | T125: 2851
A126: 2022 | B126: July | D126: 25485797 | F126: 7972499 | G126: 11886 | H126: 4775667 | I126: 2217 | J126: 10946128 | K126: 26096.89 | L126: 129 | M126: 14187 | N126: 64 | O126: 2850 | P126: 7.9166667 | Q126: 37 | R126: 77559 | S126: 256.86 | T126: 2851
A127: 2022 | B127: August | D127: 26149673 | F127: 8139091 | G127: 11909 | H127: 4882288 | I127: 2194 | J127: 11156528 | K127: 26765.27 | L127: 129 | M127: 14187 | N127: 64 | O127: 2850 | P127: 7.9166667 | Q127: 37 | R127: 80205 | S127: 256.86 | T127: 2851
A128: 2022 | B128: September | D128: 23192024 | F128: 7083870 | G128: 11915 | H128: 4202704 | I128: 2194 | J128: 10429248 | K128: 29278.25 | L128: 129 | M128: 14187 | N128: 64 | O128: 2846 | P128: 7.9055556 | Q128: 37 | R128: 83191 | S128: 256.86 | T128: 2851
A129: 2022 | B129: October | D129: 24211097 | F129: 8101315 | G129: 11980 | H129: 4321187 | I129: 2191 | J129: 10475623 | K129: 27764.03 | L129: 129 | M129: 14187 | N129: 64 | O129: 2706 | P129: 7.5166667 | Q129: 37 | R129: 95658 | S129: 256.86 | T129: 2851
A130: 2022 | B130: November | D130: 26468247 | F130: 9420562 | G130: 12007 | H130: 4793077 | I130: 2201 | J130: 10279089 | K130: 25089.21 | L130: 130 | M130: 14187 | N130: 64 | O130: 2806 | P130: 7.7944444 | Q130: 37 | R130: 98114 | S130: 256.86 | T130: 2851
A131: 2022 | B131: December | D131: 29238327 | F131: 12099132 | G131: 12017 | H131: 5654790 | I131: 2204 | J131: 9833784 | K131: 25421.07 | L131: 130 | M131: 14187 | N131: 64 | O131: 2598 | P131: 7.2166667 | Q131: 33 | R131: 106309 | S131: 256.86 | T131: 2851 | U131: =G131+I131+L131 -> 14351
A132: 2023 | B132: January | D132: 30877295 | F132: 12500368 | G132: 12032 | H132: 5904888 | I132: 2204 | J132: 10596075 | K132: 24071.09 | L132: 130 | M132: 14187 | N132: 64 | O132: 2598 | P132: 7.2166667 | Q132: 33 | R132: 104186 | S132: 256.86 | T132: 2851
A133: 2023 | B133: February | D133: 28906608 | F133: 11791584 | G133: 12046 | H133: 5640986 | I133: 2206 | J133: 9878020 | K133: 24779.73 | L133: 130 | M133: 14187 | N133: 64 | O133: 2598 | P133: 7.2166667 | Q133: 33 | R133: 93037 | S133: 256.86 | T133: 2851
A134: 2023 | B134: March | D134: 29869663 | F134: 11371070 | G134: 12059 | H134: 5638636 | I134: 2205 | J134: 11021321 | K134: 25440.07 | L134: 130 | M134: 14136 | N134: 64 | O134: 2598 | P134: 7.2166667 | Q134: 33 | R134: 91231 | S134: 256.86 | T134: 2851
A135: 2023 | B135: April | D135: 25209778 | F135: 9092782 | G135: 12060 | H135: 4578435 | I135: 2202 | J135: 10069077 | K135: 28208.1 | L135: 130 | M135: 14187 | N135: 64 | O135: 2598 | P135: 7.2166667 | Q135: 33 | R135: 83670 | S135: 256.86 | T135: 2851
A136: 2023 | B136: May | D136: 23723123 | F136: 7718123 | G136: 12078 | H136: 4285435 | I136: 2206 | J136: 10193665 | K136: 27150.87 | L136: 130 | M136: 14136 | N136: 63 | O136: 2598 | P136: 7.2166667 | Q136: 32 | R136: 76350 | S136: 256.86 | T136: 2851
A137: 2023 | B137: June | D137: 23955844 | F137: 7513035 | G137: 12117 | H137: 4496104 | I137: 2203 | J137: 10582767 | K137: 29686.95 | L137: 130 | M137: 14136 | N137: 63 | O137: 2598 | P137: 7.2166667 | Q137: 32 | R137: 69415 | S137: 256.86 | T137: 2851
A138: 2023 | B138: July | D138: 25445214 | F138: 8582214 | G138: 12121 | H138: 5039008 | I138: 2202 | J138: 10343721 | K138: 26334.55 | L138: 130 | M138: 14136 | N138: 63 | O138: 2598 | P138: 7.2166667 | Q138: 32 | R138: 77559 | S138: 256.86 | T138: 2851
A139: 2023 | B139: August | D139: 24199133 | F139: 7605480 | G139: 12140 | H139: 4681296 | I139: 2206 | J139: 10343193 | K139: 25688.37 | L139: 130 | M139: 14136 | N139: 63 | O139: 2598 | P139: 7.2166667 | Q139: 32 | R139: 80206 | S139: 256.86 | T139: 2851
A140: 2023 | B140: September | D140: 22957346 | F140: 7182582 | G140: 12180 | H140: 4249603 | I140: 2208 | J140: 9972022 | K140: 27113.06 | L140: 130 | M140: 14136 | N140: 63 | O140: 2598 | P140: 7.2166667 | Q140: 32 | R140: 83190 | S140: 256.86 | T140: 2851
A141: 2023 | B141: October | D141: 24656330 | F141: 8181565 | G141: 12195 | H141: 4426440 | I141: 2209 | J141: 10301105 | K141: 27592 | L141: 130 | M141: 14136 | N141: 63 | O141: 2598 | P141: 7.2166667 | Q141: 32 | R141: 95657 | S141: 257 | T141: 2851
A142: 2023 | B142: November | D142: 27066324 | F142: 10319577 | G142: 12227 | H142: 5167651 | I142: 2211 | J142: 9911491 | K142: 25475 | L142: 130 | M142: 14136 | N142: 63 | O142: 2598 | P142: 7.2166667 | Q142: 33 | R142: 98115 | S142: 257 | T142: 2851
A143: 2023 | B143: December | D143: 28270776 | F143: 11661990 | G143: 12248 | H143: 5546597 | I143: 2215 | J143: 9241317.8 | K143: 23994.1 | L143: 131 | M143: 14136 | N143: 63 | O143: 2597.76 | P143: 7.2166667 | Q143: 33 | R143: 106307.73 | S143: 256.86 | T143: 2851 | U143: =G143+I143+L143 -> 14594
A144: 2024 | B144: January | D144: 31081694 | F144: 12985365 | G144: 12272 | H144: 6067971 | I144: 2220 | J144: 9899637.1 | K144: 25221.63 | L144: 130 | M144: 14161 | N144: 63 | O144: 2597.76 | P144: 7.216 | Q144: 33 | R144: 104187.13 | S144: 256.86 | T144: 2851
A145: 2024 | B145: February | D145: 28269261 | F145: 11350193 | G145: 12280 | H145: 5533518 | I145: 2223 | J145: 9814768.9 | K145: 24706.54 | L145: 130 | M145: 14136 | N145: 63 | O145: 2597.76 | P145: 7.216 | Q145: 33 | R145: 96301.89 | S145: 256.86 | T145: 2851
A146: 2024 | B146: March | D146: 28028742 | F146: 10864140 | G146: 12280 | H146: 5348385 | I146: 2223 | J146: 10239874 | K146: 24782.86 | L146: 130 | M146: 14136 | N146: 63 | O146: 2597.76 | P146: 7.216 | Q146: 33 | R146: 90920.44 | S146: 256.86 | T146: 2851
A147: 2024 | B147: April | D147: 24581293 | F147: 8913670.6 | G147: 12305 | H147: 4616541 | I147: 2223 | J147: 9669420.7 | K147: 24459.92 | L147: 130 | M147: 14136 | N147: 63 | O147: 2597.76 | P147: 7.216 | Q147: 33 | R147: 83670.17 | S147: 256.86 | T147: 2851
A148: 2024 | B148: May | D148: 23038858 | F148: 7456230.7 | G148: 12313 | H148: 4302756 | I148: 2227 | J148: 9949231.4 | K148: 25863.51 | L148: 130 | M148: 14136 | N148: 63 | O148: 2599.08 | P148: 7.2196667 | Q148: 33 | R148: 76349.55 | S148: 256.86 | T148: 2851
A149: 2024 | B149: June | D149: 23532824 | F149: 7723518.4 | G149: 12317 | H149: 4548940 | I149: 2226 | J149: 9651576.6 | K149: 26943.02 | L149: 132 | M149: 14136 | N149: 63 | O149: 2598.96 | P149: 7.2193333 | Q149: 33 | R149: 69414.71 | S149: 256.86 | T149: 2851
A150: 2024 | B150: July | D150: 26577704 | F150: 9058122.5 | G150: 12316 | H150: 5110816 | I150: 2221 | J150: 10773732 | K150: 26691.21 | L150: 131 | M150: 14136 | N150: 63 | O150: 2597.76 | P150: 7.216 | Q150: 33 | R150: 77558.88 | S150: 256.86 | T150: 2851
A151: 2024 | B151: August | D151: 26337062 | F151: 8524379.3 | G151: 12356 | H151: 4911622 | I151: 2223 | J151: 10785273 | K151: 27230.69 | L151: 131 | M151: 14136 | N151: 63 | O151: 2597.76 | P151: 7.216 | Q151: 33 | R151: 80205.72 | S151: 256.86 | T151: 2851
A152: 2024 | B152: September | D152: 23770050 | F152: 7366741.2 | G152: 12373 | H152: 4387420 | I152: 2229 | J152: 10188241 | K152: 27177.1 | L152: 134 | M152: 14136 | N152: 63 | O152: 2522.16 | P152: 7.006 | Q152: 32 | R152: 83190.95 | S152: 256.86 | T152: 2851
...

Sheet Load Forecast Summary
A1: Lakeland Power Weather Normal Load Forecast for 2025 Rate Application
M2: 2025 Test
B3: 2014 Actual | C3: 2015 Actual | D3: 2016 Actual | E3: 2017 Actual | F3: 2018 Actual | G3: 2019 Actual | H3: 2020 Actual | I3: 2021 Actual | J3: 2022 Actual | K3: 2023 Actual | L3: 2024 Actual | M3: Weather Normal
A4: Actual kWh Purchases | B4: =+'Power Purchased Model'!B152 -> 319149657 | C4: =+'Power Purchased Model'!B153 -> 308961454 | D4: =+'Power Purchased Model'!B154 -> 302232068 | E4: =+'Power Purchased Model'!B155 -> 297287399 | F4: =+'Power Purchased Model'!B156 -> 309247473 | G4: =+'Power Purchased Model'!B157 -> 3.099521e+08 | H4: =+'Power Purchased Model'!B158 -> 304387702 | I4: =+'Power Purchased Model'!B159 -> 309941422 | J4: =+'Power Purchased Model'!B160 -> 322673989 | K4: =+'Power Purchased Model'!B161 -> 315137434 | L4: ='Power Purchased Model'!B162 -> 317322462
A5: Predicted kWh Purchases | B5: =+'Power Purchased Model'!H152 -> 3.0802952e+08 | C5: =+'Power Purchased Model'!H153 -> 3.0659539e+08 | D5: =+'Power Purchased Model'!H154 -> 3.0424579e+08 | E5: =+'Power Purchased Model'!H155 -> 3.0584816e+08 | F5: =+'Power Purchased Model'!H156 -> 3.1147034e+08 | G5: =+'Power Purchased Model'!H157 -> 3.1615687e+08 | H5: =+'Power Purchased Model'!H158 -> 3.1233071e+08 | I5: =+'Power Purchased Model'!H159 -> 3.1081062e+08 | J5: =+'Power Purchased Model'!H160 -> 3.1595888e+08 | K5: =+'Power Purchased Model'!H161 -> 3.1288859e+08 | L5: =+'Power Purchased Model'!H162 -> 3.119583e+08 | M5: =+'Power Purchased Model'!H163 -> 3.2009123e+08
A6: % Difference | B6: =(B5-B4)/B4 -> -0.034843029 | C6: =(C5-C4)/C4 -> -0.0076581345 | D6: =(D5-D4)/D4 -> 0.0066628293 | E6: =(E5-E4)/E4 -> 0.028796242 | F6: =(F5-F4)/F4 -> 0.0071879741 | G6: =(G5-G4)/G4 -> 0.020018494 | H6: =(H5-H4)/H4 -> 0.02609504 | I6: =(I5-I4)/I4 -> 0.002804384 | ... K6: =(K5-K4)/K4 -> -0.0071360634
A10: Total Billed | B10: ='Rate Class Energy Model'!G3 -> 2.973984e+08 | C10: ='Rate Class Energy Model'!G4 -> 2.8875225e+08 | D10: ='Rate Class Energy Model'!G5 -> 2.8050507e+08 | E10: ='Rate Class Energy Model'!G6 -> 2.7956388e+08 | F10: ='Rate Class Energy Model'!G7 -> 2.8962057e+08 | G10: ='Rate Class Energy Model'!G8 -> 2.8986063e+08 | H10: ='Rate Class Energy Model'!G9 -> 286230671 | I10: ='Rate Class Energy Model'!G10 -> 290240292 | J10: ='Rate Class Energy Model'!G11 -> 303102277 | K10: ='Rate Class Energy Model'!G12 -> 2.9688911e+08 | L10: ='Rate Class Energy Model'!G13 -> 2.9640523e+08 | M10: ='Rate Class Energy Model'!G14 -> 2.9968584e+08
A12: By Class
A13: ='Rate Class Energy Model'!H2 -> Residential
A14: Customers | B14: ='Rate Class Customer Model'!B3 -> 10964.083 | C14: ='Rate Class Customer Model'!B4 -> 11020.917 | D14: ='Rate Class Customer Model'!B5 -> 11078.417 | E14: ='Rate Class Customer Model'!B6 -> 11168.75 | F14: ='Rate Class Customer Model'!B7 -> 11288.667 | G14: ='Rate Class Customer Model'!B8 -> 11429.75 | H14: ='Rate Class Customer Model'!B9 -> 11566 | I14: ='Rate Class Customer Model'!B10 -> 11725.917 | J14: ='Rate Class Customer Model'!B11 -> 11911.917 | K14: ='Rate Class Customer Model'!B12 -> 12125.25 | L14: ='Rate Class Customer Model'!B13 -> 12332.667 | M14: ='Rate Class Customer Model'!B14 -> 12478.588
A15: kWh | B15: ='Rate Class Energy Model'!H3 -> 1.1443338e+08 | C15: ='Rate Class Energy Model'!H4 -> 1.0824396e+08 | D15: ='Rate Class Energy Model'!H5 -> 1.0434816e+08 | E15: ='Rate Class Energy Model'!H6 -> 1.0312963e+08 | F15: ='Rate Class Energy Model'!H7 -> 1.0942709e+08 | G15: ='Rate Class Energy Model'!H8 -> 110765686 | H15: ='Rate Class Energy Model'!H9 -> 112437412 | I15: ='Rate Class Energy Model'!H10 -> 112958103 | J15: ='Rate Class Energy Model'!H11 -> 116633398 | K15: ='Rate Class Energy Model'!H12 -> 1.1352037e+08 | L15: ='Rate Class Energy Model'!H13 -> 1.1457841e+08 | M15: ='Rate Class Energy Model'!H32 -> 1.1804369e+08 | N15: =+L15/L14 -> 9290.6436 | O15: =+M15/M14 -> 9459.6988
A17: ='Rate Class Energy Model'!I2 -> General Service < 50 kW
A18: Customers | B18: ='Rate Class Customer Model'!C3 -> 2106 | C18: ='Rate Class Customer Model'!C4 -> 2132.5833 | D18: ='Rate Class Customer Model'!C5 -> 2137.6667 | E18: ='Rate Class Customer Model'!C6 -> 2144.4167 | F18: ='Rate Class Customer Model'!C7 -> 2158.8333 | G18: ='Rate Class Customer Model'!C8 -> 2154.3333 | H18: ='Rate Class Customer Model'!C9 -> 2155.3333 | I18: ='Rate Class Customer Model'!C10 -> 2190.8333 | J18: ='Rate Class Customer Model'!C11 -> 2205.1667 | K18: ='Rate Class Customer Model'!C12 -> 2206.4167 | L18: ='Rate Class Customer Model'!C13 -> 2226.1667 | M18: ='Rate Class Customer Model'!C14 -> 2238.5542
A19: kWh | B19: ='Rate Class Energy Model'!I3 -> 58443482 | C19: ='Rate Class Energy Model'!I4 -> 58492111 | D19: ='Rate Class Energy Model'!I5 -> 58168701 | E19: ='Rate Class Energy Model'!I6 -> 57585352 | F19: ='Rate Class Energy Model'!I7 -> 59779468 | G19: ='Rate Class Energy Model'!I8 -> 59276659 | H19: ='Rate Class Energy Model'!I9 -> 54635310 | I19: ='Rate Class Energy Model'!I10 -> 56374252 | J19: ='Rate Class Energy Model'!I11 -> 59995612 | K19: ='Rate Class Energy Model'!I12 -> 59655079 | L19: ='Rate Class Energy Model'!I13 -> 59818358 | M19: ='Rate Class Energy Model'!I32 -> 61245746
A21: ='Rate Class Energy Model'!J2 -> General Service > 50 to 4999 kW
A22: Customers | B22: ='Rate Class Customer Model'!D3 -> 172 | C22: ='Rate Class Customer Model'!D4 -> 155.83333 | D22: ='Rate Class Customer Model'!D5 -> 149.33333 | E22: ='Rate Class Customer Model'!D6 -> 137.91667 | F22: ='Rate Class Customer Model'!D7 -> 137.5 | G22: ='Rate Class Customer Model'!D8 -> 136.66667 | H22: ='Rate Class Customer Model'!D9 -> 135.83333 | I22: ='Rate Class Customer Model'!D10 -> 130.75 | J22: ='Rate Class Customer Model'!D11 -> 129.08333 | K22: ='Rate Class Customer Model'!D12 -> 130.08333 | L22: ='Rate Class Customer Model'!D13 -> 132.25 | M22: ='Rate Class Customer Model'!D14 -> 128.81974
A23: kWh | B23: ='Rate Class Energy Model'!J3 -> 1.2188573e+08 | C23: ='Rate Class Energy Model'!J4 -> 1.1976384e+08 | D23: ='Rate Class Energy Model'!J5 -> 1.1663711e+08 | E23: ='Rate Class Energy Model'!J6 -> 1.1748414e+08 | F23: ='Rate Class Energy Model'!J7 -> 1.1909248e+08 | G23: ='Rate Class Energy Model'!J8 -> 118495415 | H23: ='Rate Class Energy Model'!J9 -> 117859877 | I23: ='Rate Class Energy Model'!J10 -> 119633612 | J23: ='Rate Class Energy Model'!J11 -> 125207062 | K23: ='Rate Class Energy Model'!J12 -> 1.2245377e+08 | L23: ='Rate Class Energy Model'!J13 -> 1.2074605e+08 | M23: ='Rate Class Energy Model'!J32 -> 1.1913298e+08
A24: kW | B24: ='Rate Class Load Model'!B2 -> 288260.7 | C24: ='Rate Class Load Model'!B3 -> 288082.36 | D24: ='Rate Class Load Model'!B4 -> 283796.43 | E24: ='Rate Class Load Model'!B5 -> 281771.1 | F24: ='Rate Class Load Model'!B6 -> 288024.3 | G24: ='Rate Class Load Model'!B7 -> 289524.02 | H24: ='Rate Class Load Model'!B8 -> 290762.68 | I24: ='Rate Class Load Model'!B9 -> 285432.01 | J24: ='Rate Class Load Model'!B10 -> 308240.81 | K24: ='Rate Class Load Model'!B11 -> 315533.89 | L24: ='Rate Class Load Model'!B12 -> 313416.04 | M24: ='Rate Class Load Model'!B13 -> 291886.25
A26: ='Rate Class Energy Model'!K2 -> USL
A27: Connections | B27: ='Rate Class Customer Model'!E3 -> 54.75 | C27: ='Rate Class Customer Model'!E4 -> 52.166667 | D27: ='Rate Class Customer Model'!E5 -> 51 | E27: ='Rate Class Customer Model'!E6 -> 51 | F27: ='Rate Class Customer Model'!E7 -> 51 | G27: ='Rate Class Customer Model'!E8 -> 54.583333 | H27: ='Rate Class Customer Model'!E9 -> 56 | I27: ='Rate Class Customer Model'!E10 -> 64.5 | J27: ='Rate Class Customer Model'!E11 -> 64.25 | K27: ='Rate Class Customer Model'!E12 -> 63.333333 | L27: ='Rate Class Customer Model'!E13 -> 63 | M27: ='Rate Class Customer Model'!E14 -> 63.890486
A28: kWh | B28: ='Rate Class Energy Model'!K3 -> 180165.07 | C28: ='Rate Class Energy Model'!K4 -> 173556 | D28: ='Rate Class Energy Model'!K5 -> 166068 | E28: ='Rate Class Energy Model'!K6 -> 166068 | F28: ='Rate Class Energy Model'!K7 -> 166686 | G28: ='Rate Class Energy Model'!K8 -> 172797 | H28: ='Rate Class Energy Model'!K9 -> 173568 | I28: ='Rate Class Energy Model'!K10 -> 178362 | J28: ='Rate Class Energy Model'!K11 -> 172344 | K28: ='Rate Class Energy Model'!K12 -> 169785 | L28: ='Rate Class Energy Model'!K13 -> 169657 | M28: ='Rate Class Energy Model'!K32 -> 172055.05
A30: ='Rate Class Energy Model'!L2 -> Sentinel Lighting
A31: Connections | B31: ='Rate Class Customer Model'!F3 -> 56.666667 | C31: ='Rate Class Customer Model'!F4 -> 53 | D31: ='Rate Class Customer Model'!F5 -> 52.333333 | E31: ='Rate Class Customer Model'!F6 -> 45.5 | F31: ='Rate Class Customer Model'!F7 -> 44 | G31: ='Rate Class Customer Model'!F8 -> 41.25 | H31: ='Rate Class Customer Model'!F9 -> 40 | I31: ='Rate Class Customer Model'!F10 -> 40 | J31: ='Rate Class Customer Model'!F11 -> 37.583333 | K31: ='Rate Class Customer Model'!F12 -> 32.5 | L31: ='Rate Class Customer Model'!F13 -> 32.666667 | M31: ='Rate Class Customer Model'!F14 -> 30.915946
A32: kWh | B32: ='Rate Class Energy Model'!L3 -> 50003.863 | C32: ='Rate Class Energy Model'!L4 -> 49108.44 | D32: ='Rate Class Energy Model'!L5 -> 48745.79 | E32: ='Rate Class Energy Model'!L6 -> 44233.6 | F32: ='Rate Class Energy Model'!L7 -> 40821.3 | G32: ='Rate Class Energy Model'!L8 -> 39113.5 | H32: ='Rate Class Energy Model'!L9 -> 37289 | I32: ='Rate Class Energy Model'!L10 -> 37046 | J32: ='Rate Class Energy Model'!L11 -> 34937 | K32: ='Rate Class Energy Model'!L12 -> 31175.76 | L32: ='Rate Class Energy Model'!L13 -> 30873.08 | M32: ='Rate Class Energy Model'!L32 -> 29218.484
A33: kW | B33: ='Rate Class Load Model'!C2 -> 138.89962 | C33: ='Rate Class Load Model'!C3 -> 136.41233 | D33: ='Rate Class Load Model'!C4 -> 135.40497 | E33: ='Rate Class Load Model'!C5 -> 122.87111 | F33: ='Rate Class Load Model'!C6 -> 113.3925 | G33: ='Rate Class Load Model'!C7 -> 108.64861 | H33: ='Rate Class Load Model'!C8 -> 103.58056 | I33: ='Rate Class Load Model'!C9 -> 102.90556 | J33: ='Rate Class Load Model'!C10 -> 97.047222 | K33: ='Rate Class Load Model'!C11 -> 86.6 | L33: ='Rate Class Load Model'!C12 -> 85.759 | M33: ='Rate Class Load Model'!C13 -> 81.16255
A35: ='Rate Class Energy Model'!M2 -> Street Lighting
A36: Connections | B36: ='Rate Class Customer Model'!G3 -> 2843.6667 | C36: ='Rate Class Customer Model'!G4 -> 2766.0833 | D36: ='Rate Class Customer Model'!G5 -> 2679.1667 | E36: ='Rate Class Customer Model'!G6 -> 2848.3333 | F36: ='Rate Class Customer Model'!G7 -> 2849 | G36: ='Rate Class Customer Model'!G8 -> 2849.1667 | H36: ='Rate Class Customer Model'!G9 -> 2851 | I36: ='Rate Class Customer Model'!G10 -> 2851 | J36: ='Rate Class Customer Model'!G11 -> 2851 | K36: ='Rate Class Customer Model'!G12 -> 2851 | L36: ='Rate Class Customer Model'!G13 -> 2851 | M36: ='Rate Class Customer Model'!G14 -> 2851.7344
A37: kWh | B37: ='Rate Class Energy Model'!M3 -> 2405634.8 | C37: ='Rate Class Energy Model'!M4 -> 2029684.9 | D37: ='Rate Class Energy Model'!M5 -> 1136285.5 | E37: ='Rate Class Energy Model'!M6 -> 1154454 | F37: ='Rate Class Energy Model'!M7 -> 1114031 | G37: ='Rate Class Energy Model'!M8 -> 1110958 | H37: ='Rate Class Energy Model'!M9 -> 1087215 | I37: ='Rate Class Energy Model'!M10 -> 1058917 | J37: ='Rate Class Energy Model'!M11 -> 1058924 | K37: ='Rate Class Energy Model'!M12 -> 1058923.7 | L37: ='Rate Class Energy Model'!M13 -> 1061881.6 | M37: ='Rate Class Energy Model'!M32 -> 1062155.1
A38: kW | B38: ='Rate Class Load Model'!D2 -> 6610.22 | C38: ='Rate Class Load Model'!D3 -> 5922.15 | D38: ='Rate Class Load Model'!D4 -> 3094.04 | E38: ='Rate Class Load Model'!D5 -> 3196.56 | F38: ='Rate Class Load Model'!D6 -> 3087.57 | G38: ='Rate Class Load Model'!D7 -> 3074.16 | H38: ='Rate Class Load Model'!D8 -> 3080.42 | I38: ='Rate Class Load Model'!D9 -> 3082.32 | J38: ='Rate Class Load Model'!D10 -> 3082.32 | K38: ='Rate Class Load Model'!D11 -> 3082.6 | L38: ='Rate Class Load Model'!D12 -> 3082.32 | M38: ='Rate Class Load Model'!D13 -> 3009.2564
A40: Total
A41: Customer/Connections | B41: =+B14+B18+B22+B27+B31+B36 -> 16197.167 | C41: =+C14+C18+C22+C27+C31+C36 -> 16180.583 | D41: =+D14+D18+D22+D27+D31+D36 -> 16147.917 | E41: =+E14+E18+E22+E27+E31+E36 -> 16395.917 | F41: =+F14+F18+F22+F27+F31+F36 -> 16529 | G41: =+G14+G18+G22+G27+G31+G36 -> 16665.75 | H41: =+H14+H18+H22+H27+H31+H36 -> 16804.167 | I41: =+I14+I18+I22+I27+I31+I36 -> 17003 | ... M41: =+M14+M18+M22+M27+M31+M36 -> 17792.503
A42: kWh | B42: =+B15+B19+B23+B28+B32+B37 -> 2.973984e+08 | C42: =+C15+C19+C23+C28+C32+C37 -> 2.8875225e+08 | D42: =+D15+D19+D23+D28+D32+D37 -> 2.8050507e+08 | E42: =+E15+E19+E23+E28+E32+E37 -> 2.7956388e+08 | F42: =+F15+F19+F23+F28+F32+F37 -> 2.8962057e+08 | G42: =+G15+G19+G23+G28+G32+G37 -> 2.8986063e+08 | H42: =+H15+H19+H23+H28+H32+H37 -> 286230671 | I42: =+I15+I19+I23+I28+I32+I37 -> 290240292 | ... M42: =+M15+M19+M23+M28+M32+M37 -> 2.9968584e+08
A43: kW from applicable classes | B43: =B24+B33+B38 -> 295009.82 | C43: =C24+C33+C38 -> 294140.92 | D43: =D24+D33+D38 -> 287025.87 | E43: =E24+E33+E38 -> 285090.53 | F43: =F24+F33+F38 -> 291225.26 | G43: =G24+G33+G38 -> 292706.83 | H43: =H24+H33+H38 -> 293946.68 | I43: =I24+I33+I38 -> 288617.24 | ... M43: =M24+M33+M38 -> 294976.67
A45: Customer/Connections | B45: ='Rate Class Customer Model'!H3 -> 16197.167 | C45: ='Rate Class Customer Model'!H4 -> 16180.583 | D45: ='Rate Class Customer Model'!H5 -> 16147.917 | E45: ='Rate Class Customer Model'!H6 -> 16395.917 | F45: ='Rate Class Customer Model'!H7 -> 16529 | G45: ='Rate Class Customer Model'!H8 -> 16665.75 | H45: ='Rate Class Customer Model'!H9 -> 16804.167 | I45: ='Rate Class Customer Model'!H10 -> 17003 | J45: ='Rate Class Customer Model'!H11 -> 17199 | K45: ='Rate Class Customer Model'!H12 -> 17408.583 | L45: ='Rate Class Customer Model'!H13 -> 17637.75 | M45: ='Rate Class Customer Model'!H14 -> 17792.503
A46: kWh | B46: ='Rate Class Energy Model'!G3 -> 2.973984e+08 | C46: ='Rate Class Energy Model'!G4 -> 2.8875225e+08 | D46: ='Rate Class Energy Model'!G5 -> 2.8050507e+08 | E46: ='Rate Class Energy Model'!G6 -> 2.7956388e+08 | F46: ='Rate Class Energy Model'!G7 -> 2.8962057e+08 | G46: ='Rate Class Energy Model'!G8 -> 2.8986063e+08 | H46: ='Rate Class Energy Model'!G9 -> 286230671 | I46: ='Rate Class Energy Model'!G10 -> 290240292 | J46: ='Rate Class Energy Model'!G11 -> 303102277 | K46: ='Rate Class Energy Model'!G12 -> 2.9688911e+08 | L46: ='Rate Class Energy Model'!G13 -> 2.9640523e+08 | M46: ='Rate Class Energy Model'!G14 -> 2.9968584e+08
A47: kW from applicable classes | B47: ='Rate Class Load Model'!E2 -> 295009.82 | C47: ='Rate Class Load Model'!E3 -> 294140.92 | D47: ='Rate Class Load Model'!E4 -> 287025.87 | E47: ='Rate Class Load Model'!E5 -> 285090.53 | F47: ='Rate Class Load Model'!E6 -> 291225.26 | G47: ='Rate Class Load Model'!E7 -> 292706.83 | H47: ='Rate Class Load Model'!E8 -> 293946.68 | I47: ='Rate Class Load Model'!E9 -> 288617.24 | J47: ='Rate Class Load Model'!E10 -> 311420.18 | K47: ='Rate Class Load Model'!E11 -> 318703.09 | L47: ='Rate Class Load Model'!E12 -> 316584.12 | M47: ='Rate Class Load Model'!E13 -> 294976.67
A49: Customer/Connections | H49: ='Rate Class Load Model'!E12 -> 316584.12 | I49: =#REF! -> #REF! | L49: =#REF! -> #REF! | M49: =#REF! -> #REF!
A50: kWh | H50: ='Rate Class Load Model'!E13 -> 294976.67 | I50: =#REF! -> #REF! | L50: =#REF! -> #REF! | M50: =#REF! -> #REF!
A51: kW from applicable classes | H51: ='Rate Class Load Model'!E14 -> 0 | I51: =#REF! -> #REF! | L51: =#REF! -> #REF! | M51: =#REF! -> #REF!
H52: ='Rate Class Load Model'!E15 -> 0
A53: Customer/Connections | H53: ='Rate Class Load Model'!E16 -> 0 | I53: =#REF!-I49 -> #REF! | L53: =#REF!-L49 -> #REF! | M53: =#REF!-M49 -> #REF!
A54: kWh | H54: ='Rate Class Load Model'!E17 -> 0 | I54: =#REF!-I50 -> #REF! | L54: =#REF!-L50 -> #REF! | M54: =#REF!-M50 -> #REF!
A55: kW from applicable classes | H55: ='Rate Class Load Model'!E18 -> 0 | I55: =#REF!-I51 -> #REF! | L55: =#REF!-L51 -> #REF! | M55: =#REF!-M51 -> #REF!
H56: ='Rate Class Load Model'!E19 -> 0
A57: Check
A58: Customer/Connections | B58: =B41-B45 -> 0 | C58: =C41-C45 -> 0 | D58: =D41-D45 -> 0 | E58: =E41-E45 -> 0 | F58: =F41-F45 -> 0 | G58: =G41-G45 -> 0 | H58: =H41-H45 -> 0 | I58: =I41-I45 -> 0 | ... M58: =M41-M45 -> 0
A59: kWh | B59: =B42-B46 -> 0 | C59: =C42-C46 -> 0 | D59: =D42-D46 -> 0 | E59: =E42-E46 -> 0 | F59: =F42-F46 -> 0 | G59: =G42-G46 -> 0 | H59: =H42-H46 -> 0 | I59: =I42-I46 -> 0 | ... M59: =M42-M46 -> 0
A60: kW from applicable classes | B60: =B43-B47 -> 0 | C60: =C43-C47 -> 0 | D60: =D43-D47 -> 0 | E60: =E43-E47 -> 0 | F60: =F43-F47 -> 0 | G60: =G43-G47 -> 0 | H60: =H43-H47 -> 0 | I60: =I43-I47 -> 0 | ... M60: =M43-M47 -> 0
H62: =H15+H19+H23 -> 284932599 | I62: =I15+I19+I23 -> 288965967 | J62: =J15+J19+J23 -> 301836072 | K62: =K15+K19+K23 -> 2.9562922e+08 | L62: =L15+L19+L23 -> 2.9514282e+08 | M62: =M15+M19+M23 -> 2.9842241e+08
H63: These values are close to PEG for 2020 to 2023

Sheet Power Purchased Model
Y1: R Square of 90% is OK
A2: Date | B2: Power Purchased | C2: Heating Degree Days | D2: Days in Month | E2: Spring Fall Flag | F2: Summer Flag | G2: Trend | H2: Predicted Purchases | I2: Residual (kWh) | J2: % Residual | K2: % Residual (Abs) | L2: Residual Squared | M2: Difference of Residuals | N2: Difference of Residuals Squared | P2: SUMMARY OUTPUT | Y2: Adjusted R Square takes into consideration the number of variables
A3: 41670 | B3: =Inputs!D24 -> 35005917 | C3: 951.7 | D3: 31 | E3: 0 | F3: 0 | G3: 1 | H3: =$Q$18+$Q$19*C3+$Q$20*D3+$Q$21*E3+$Q$22*F3+$Q$23*G3 -> 32298418 | I3: =H3-B3 -> -2707498.8 | J3: =I3/B3 -> -0.077344034 | K3: =ABS(J3) -> 0.077344034 | L3: =I3*I3 -> 7.3305499e+12 | Y3: ANOVA is not really used
A4: 41698 | B4: =Inputs!D25 -> 30863808 | C4: 855.5 | D4: 28 | E4: 0 | F4: 0 | G4: 2 | H4: =$Q$18+$Q$19*C4+$Q$20*D4+$Q$21*E4+$Q$22*F4+$Q$23*G4 -> 29483573 | I4: =H4-B4 -> -1380235.1 | J4: =I4/B4 -> -0.044720183 | K4: =ABS(J4) -> 0.044720183 | L4: =I4*I4 -> 1.905049e+12 | M4: =I4-I3 -> 1327263.7 | N4: =M4*M4 -> 1.7616289e+12 | P4: Regression Statistics
A5: 41729 | B5: =Inputs!D26 -> 32142987 | C5: 818.2 | D5: 31 | E5: 1 | F5: 0 | G5: 3 | H5: =$Q$18+$Q$19*C5+$Q$20*D5+$Q$21*E5+$Q$22*F5+$Q$23*G5 -> 29583818 | I5: =H5-B5 -> -2559169 | J5: =I5/B5 -> -0.079618268 | K5: =ABS(J5) -> 0.079618268 | L5: =I5*I5 -> 6.5493458e+12 | M5: =I5-I4 -> -1178933.8 | N5: =M5*M5 -> 1.389885e+12 | P5: Multiple R | Q5: 0.9552294 | Y5: Coefficient-If negative, it's reducing, if +ve, it's adding
A6: 41759 | B6: =Inputs!D27 -> 25688722 | C6: 448.2 | D6: 30 | E6: 1 | F6: 0 | G6: 4 | H6: =$Q$18+$Q$19*C6+$Q$20*D6+$Q$21*E6+$Q$22*F6+$Q$23*G6 -> 24536006 | I6: =H6-B6 -> -1152716.2 | J6: =I6/B6 -> -0.044872462 | K6: =ABS(J6) -> 0.044872462 | L6: =I6*I6 -> 1.3287546e+12 | M6: =I6-I5 -> 1406452.8 | N6: =M6*M6 -> 1.9781094e+12 | P6: R Square | Q6: 0.9124632 | Y6: Tstat indicates how relevant a variable is.Should be greater than absolute value of 2, if less than 2 it is not statistically significant so don’t use it
A7: 41790 | B7: =Inputs!D28 -> 22896808 | C7: 208 | D7: 31 | E7: 1 | F7: 0 | G7: 5 | H7: =$Q$18+$Q$19*C7+$Q$20*D7+$Q$21*E7+$Q$22*F7+$Q$23*G7 -> 22172225 | I7: =H7-B7 -> -724582.65 | J7: =I7/B7 -> -0.031645575 | K7: =ABS(J7) -> 0.031645575 | L7: =I7*I7 -> 5.2502002e+11 | M7: =I7-I6 -> 428133.55 | N7: =M7*M7 -> 1.8329833e+11 | P7: Adjusted R Square | Q7: 0.90898952
A8: 41820 | B8: =Inputs!D29 -> 22467129 | C8: 42.2 | D8: 30 | E8: 0 | F8: 0 | G8: 6 | H8: =$Q$18+$Q$19*C8+$Q$20*D8+$Q$21*E8+$Q$22*F8+$Q$23*G8 -> 20722724 | I8: =H8-B8 -> -1744405.1 | J8: =I8/B8 -> -0.077642546 | K8: =ABS(J8) -> 0.077642546 | L8: =I8*I8 -> 3.0429492e+12 | M8: =I8-I7 -> -1019822.5 | N8: =M8*M8 -> 1.0400378e+12 | P8: Standard Error | Q8: 980292.43
A9: 41851 | B9: =Inputs!D30 -> 23174494 | C9: 48.1 | D9: 31 | E9: 0 | F9: 1 | G9: 7 | H9: =$Q$18+$Q$19*C9+$Q$20*D9+$Q$21*E9+$Q$22*F9+$Q$23*G9 -> 24297860 | I9: =H9-B9 -> 1123365.7 | J9: =I9/B9 -> 0.048474229 | K9: =ABS(J9) -> 0.048474229 | L9: =I9*I9 -> 1.2619506e+12 | M9: =I9-I8 -> 2867770.8 | N9: =M9*M9 -> 8.2241095e+12 | P9: Observations | Q9: 132
A10: 41882 | B10: =Inputs!D31 -> 23391322 | C10: 55.7 | D10: 31 | E10: 0 | F10: 1 | G10: 8 | H10: =$Q$18+$Q$19*C10+$Q$20*D10+$Q$21*E10+$Q$22*F10+$Q$23*G10 -> 24401641 | I10: =H10-B10 -> 1010318.9 | J10: =I10/B10 -> 0.043192041 | K10: =ABS(J10) -> 0.043192041 | L10: =I10*I10 -> 1.0207444e+12 | M10: =I10-I9 -> -113046.79 | N10: =M10*M10 -> 1.2779576e+10
A11: 41912 | B11: =Inputs!D32 -> 22126761 | C11: 160.1 | D11: 30 | E11: 0 | F11: 0 | G11: 9 | H11: =$Q$18+$Q$19*C11+$Q$20*D11+$Q$21*E11+$Q$22*F11+$Q$23*G11 -> 22192657 | I11: =H11-B11 -> 65895.678 | J11: =I11/B11 -> 0.0029780987 | K11: =ABS(J11) -> 0.0029780987 | L11: =I11*I11 -> 4.3422404e+09 | M11: =I11-I10 -> -944423.26 | N11: =M11*M11 -> 8.919353e+11 | P11: ANOVA
A12: 41943 | B12: =Inputs!D33 -> 23838442 | C12: 313.9 | D12: 31 | E12: 1 | F12: 0 | G12: 10 | H12: =$Q$18+$Q$19*C12+$Q$20*D12+$Q$21*E12+$Q$22*F12+$Q$23*G12 -> 23518347 | I12: =H12-B12 -> -320095 | J12: =I12/B12 -> -0.013427681 | K12: =ABS(J12) -> 0.013427681 | L12: =I12*I12 -> 1.0246081e+11 | M12: =I12-I11 -> -385990.68 | N12: =M12*M12 -> 1.489888e+11 | Q12: df | R12: SS | S12: MS | T12: F | U12: Significance F
A13: 41973 | B13: =Inputs!D34 -> 27733031 | C13: 541.1 | D13: 30 | E13: 1 | F13: 0 | G13: 11 | H13: =$Q$18+$Q$19*C13+$Q$20*D13+$Q$21*E13+$Q$22*F13+$Q$23*G13 -> 25746133 | I13: =H13-B13 -> -1986897.5 | J13: =I13/B13 -> -0.071643721 | K13: =ABS(J13) -> 0.071643721 | L13: =I13*I13 -> 3.9477618e+12 | M13: =I13-I12 -> -1666802.5 | N13: =M13*M13 -> 2.7782307e+12 | P13: Regression | Q13: 5 | R13: 1.2621371e+15 | S13: 2.5242743e+14 | T13: 262.67893 | U13: 7.7174834e-65
A14: 42004 | B14: =Inputs!D35 -> 29820236 | C14: 677.1 | D14: 31 | E14: 0 | F14: 0 | G14: 12 | H14: =$Q$18+$Q$19*C14+$Q$20*D14+$Q$21*E14+$Q$22*F14+$Q$23*G14 -> 29076114 | I14: =H14-B14 -> -744121.79 | J14: =I14/B14 -> -0.024953585 | K14: =ABS(J14) -> 0.024953585 | L14: =I14*I14 -> 5.5371723e+11 | M14: =I14-I13 -> 1242775.7 | N14: =M14*M14 -> 1.5444915e+12 | P14: Residual | Q14: 126 | R14: 1.2108263e+14 | S14: 9.6097324e+11
A15: 42035 | B15: =Inputs!D36 -> 33934616 | C15: 951.4 | D15: 31 | E15: 0 | F15: 0 | G15: 13 | H15: =$Q$18+$Q$19*C15+$Q$20*D15+$Q$21*E15+$Q$22*F15+$Q$23*G15 -> 32429062 | I15: =H15-B15 -> -1505554.2 | J15: =I15/B15 -> -0.044366324 | K15: =ABS(J15) -> 0.044366324 | L15: =I15*I15 -> 2.2666933e+12 | M15: =I15-I14 -> -761432.38 | N15: =M15*M15 -> 5.7977927e+11 | P15: Total | Q15: 131 | R15: 1.3832198e+15
A16: 42063 | B16: =Inputs!D37 -> 32617573 | C16: 1004.8 | D16: 28 | E16: 0 | F16: 0 | G16: 14 | H16: =$Q$18+$Q$19*C16+$Q$20*D16+$Q$21*E16+$Q$22*F16+$Q$23*G16 -> 31436771 | I16: =H16-B16 -> -1180801.9 | J16: =I16/B16 -> -0.036201404 | K16: =ABS(J16) -> 0.036201404 | L16: =I16*I16 -> 1.3942932e+12 | M16: =I16-I15 -> 324752.24 | N16: =M16*M16 -> 1.0546402e+11
A17: 42094 | B17: =Inputs!D38 -> 30305598 | C17: 749.6 | D17: 31 | E17: 1 | F17: 0 | G17: 15 | H17: =$Q$18+$Q$19*C17+$Q$20*D17+$Q$21*E17+$Q$22*F17+$Q$23*G17 -> 28882373 | I17: =H17-B17 -> -1423225 | J17: =I17/B17 -> -0.046962447 | K17: =ABS(J17) -> 0.046962447 | L17: =I17*I17 -> 2.0255695e+12 | M17: =I17-I16 -> -242423.1 | N17: =M17*M17 -> 5.8768958e+10 | Q17: Coefficients | R17: Standard Error | S17: t Stat | T17: P-value | U17: Lower 95% | V17: Upper 95% | W17: Lower 95.0% | X17: Upper 95.0%
A18: 42124 | B18: =Inputs!D39 -> 24419034 | C18: 411.6 | D18: 30 | E18: 1 | F18: 0 | G18: 16 | H18: =$Q$18+$Q$19*C18+$Q$20*D18+$Q$21*E18+$Q$22*F18+$Q$23*G18 -> 24224412 | I18: =H18-B18 -> -194622.03 | J18: =I18/B18 -> -0.0079700954 | K18: =ABS(J18) -> 0.0079700954 | L18: =I18*I18 -> 3.7877735e+10 | M18: =I18-I17 -> 1228603 | N18: =M18*M18 -> 1.5094653e+12 | P18: Intercept | Q18: 3600992.7 | R18: 3530759.4 | S18: 1.0198919 | T18: 0.30973402 | U18: -3386276.2 | V18: 10588262 | W18: -3386276.2 | X18: 10588262
A19: 42155 | B19: =Inputs!D40 -> 22122315 | C19: 178.8 | D19: 31 | E19: 1 | F19: 0 | G19: 17 | H19: =$Q$18+$Q$19*C19+$Q$20*D19+$Q$21*E19+$Q$22*F19+$Q$23*G19 -> 21950785 | I19: =H19-B19 -> -171530.39 | J19: =I19/B19 -> -0.0077537268 | K19: =ABS(J19) -> 0.0077537268 | L19: =I19*I19 -> 2.9422673e+10 | M19: =I19-I18 -> 23091.645 | N19: =M19*M19 -> 5.3322406e+08 | P19: Heating Degree Days | Q19: 12182.851 | R19: 355.24737 | S19: 34.293994 | T19: 9.4154933e-66 | U19: 11479.827 | V19: 12885.875 | W19: 11479.827 | X19: 12885.875
A20: 42185 | B20: =Inputs!D41 -> 21687054 | C20: 96.1 | D20: 30 | E20: 0 | F20: 0 | G20: 18 | H20: =$Q$18+$Q$19*C20+$Q$20*D20+$Q$21*E20+$Q$22*F20+$Q$23*G20 -> 21513678 | I20: =H20-B20 -> -173375.91 | J20: =I20/B20 -> -0.0079944425 | K20: =ABS(J20) -> 0.0079944425 | L20: =I20*I20 -> 3.0059204e+10 | M20: =I20-I19 -> -1845.5194 | N20: =M20*M20 -> 3405942 | P20: Days in Month | Q20: 551348.85 | R20: 117190.22 | S20: 4.7047345 | T20: 6.5785439e-06 | U20: 319432.86 | V20: 783264.85 | W20: 319432.86 | X20: 783264.85
A21: 42216 | B21: =Inputs!D42 -> 23793533 | C21: 43 | D21: 31 | E21: 0 | F21: 1 | G21: 19 | H21: =$Q$18+$Q$19*C21+$Q$20*D21+$Q$21*E21+$Q$22*F21+$Q$23*G21 -> 24370026 | I21: =H21-B21 -> 576492.71 | J21: =I21/B21 -> 0.024228966 | K21: =ABS(J21) -> 0.024228966 | L21: =I21*I21 -> 3.3234384e+11 | M21: =I21-I20 -> 749868.61 | N21: =M21*M21 -> 5.6230294e+11 | P21: Spring Fall Flag | Q21: -1110572.6 | R21: 199218.02 | S21: -5.5746592 | T21: 1.4394307e-07 | U21: -1504819.2 | V21: -716325.97 | W21: -1504819.2 | X21: -716325.97
A22: 42247 | B22: =Inputs!D43 -> 23664046 | C22: 50.4 | D22: 31 | E22: 0 | F22: 1 | G22: 20 | H22: =$Q$18+$Q$19*C22+$Q$20*D22+$Q$21*E22+$Q$22*F22+$Q$23*G22 -> 24471370 | I22: =H22-B22 -> 807324.35 | J22: =I22/B22 -> 0.034116074 | K22: =ABS(J22) -> 0.034116074 | L22: =I22*I22 -> 6.5177261e+11 | M22: =I22-I21 -> 230831.64 | N22: =M22*M22 -> 5.3283247e+10 | P22: Summer Flag | Q22: 2940716.6 | R22: 316002.88 | S22: 9.3059803 | T22: 5.3432277e-16 | U22: 2315356.2 | V22: 3566077 | W22: 2315356.2 | X22: 3566077
A23: 42277 | B23: =Inputs!D44 -> 21503656 | C23: 84.3 | D23: 30 | E23: 0 | F23: 0 | G23: 21 | H23: =$Q$18+$Q$19*C23+$Q$20*D23+$Q$21*E23+$Q$22*F23+$Q$23*G23 -> 21403495 | I23: =H23-B23 -> -100160.92 | J23: =I23/B23 -> -0.0046578553 | K23: =ABS(J23) -> 0.0046578553 | L23: =I23*I23 -> 1.003221e+10 | M23: =I23-I22 -> -907485.27 | N23: =M23*M23 -> 8.2352951e+11 | P23: Trend | Q23: 11191.544 | R23: 2251.9731 | S23: 4.9696612 | T23: 2.1399521e-06 | U23: 6734.9549 | V23: 15648.132 | W23: 6734.9549 | X23: 15648.132
A24: 42308 | B24: =Inputs!D45 -> 24025252 | C24: 351.1 | D24: 31 | E24: 1 | F24: 0 | G24: 22 | H24: =$Q$18+$Q$19*C24+$Q$20*D24+$Q$21*E24+$Q$22*F24+$Q$23*G24 -> 24105848 | I24: =H24-B24 -> 80595.588 | J24: =I24/B24 -> 0.0033546199 | K24: =ABS(J24) -> 0.0033546199 | L24: =I24*I24 -> 6.4956488e+09 | M24: =I24-I23 -> 180756.51 | N24: =M24*M24 -> 3.2672915e+10
A25: 42338 | B25: =Inputs!D46 -> 24608541 | C25: 433.9 | D25: 30 | E25: 1 | F25: 0 | G25: 23 | H25: =$Q$18+$Q$19*C25+$Q$20*D25+$Q$21*E25+$Q$22*F25+$Q$23*G25 -> 24574430 | I25: =H25-B25 -> -34110.645 | J25: =I25/B25 -> -0.0013861303 | K25: =ABS(J25) -> 0.0013861303 | L25: =I25*I25 -> 1.1635361e+09 | M25: =I25-I24 -> -114706.23 | N25: =M25*M25 -> 1.315752e+10
A26: 42369 | B26: =Inputs!D47 -> 26280236 | C26: 514.8 | D26: 31 | E26: 0 | F26: 0 | G26: 24 | H26: =$Q$18+$Q$19*C26+$Q$20*D26+$Q$21*E26+$Q$22*F26+$Q$23*G26 -> 27233136 | I26: =H26-B26 -> 952899.99 | J26: =I26/B26 -> 0.036259187 | K26: =ABS(J26) -> 0.036259187 | L26: =I26*I26 -> 9.080184e+11 | M26: =I26-I25 -> 987010.64 | N26: =M26*M26 -> 9.7419e+11
A27: 42400 | B27: =Inputs!D48 -> 30495180 | C27: 767.5 | D27: 31 | E27: 0 | F27: 0 | G27: 25 | H27: =$Q$18+$Q$19*C27+$Q$20*D27+$Q$21*E27+$Q$22*F27+$Q$23*G27 -> 30322934 | I27: =H27-B27 -> -172245.97 | J27: =I27/B27 -> -0.0056483016 | K27: =ABS(J27) -> 0.0056483016 | L27: =I27*I27 -> 2.9668676e+10 | M27: =I27-I26 -> -1125146 | N27: =M27*M27 -> 1.2659534e+12 | P27: Sum of Squared Difference of Residuals | Q27: =N135 -> 1.5905393e+14
A28: 42429 | B28: =Inputs!D49 -> 29063252 | C28: 767.7 | D28: 29 | E28: 0 | F28: 0 | G28: 26 | H28: =$Q$18+$Q$19*C28+$Q$20*D28+$Q$21*E28+$Q$22*F28+$Q$23*G28 -> 29233864 | I28: =H28-B28 -> 170612.43 | J28: =I28/B28 -> 0.0058703835 | K28: =ABS(J28) -> 0.0058703835 | L28: =I28*I28 -> 2.9108602e+10 | M28: =I28-I27 -> 342858.41 | N28: =M28*M28 -> 1.1755189e+11 | P28: Sum of Squared Residuals | Q28: =L135 -> 1.2108263e+14
A29: 42460 | B29: =Inputs!D50 -> 27667287 | C29: 605.3 | D29: 31 | E29: 1 | F29: 0 | G29: 27 | H29: =$Q$18+$Q$19*C29+$Q$20*D29+$Q$21*E29+$Q$22*F29+$Q$23*G29 -> 27258686 | I29: =H29-B29 -> -408600.93 | J29: =I29/B29 -> -0.014768377 | K29: =ABS(J29) -> 0.014768377 | L29: =I29*I29 -> 1.6695472e+11 | M29: =I29-I28 -> -579213.36 | N29: =M29*M29 -> 3.3548812e+11
A30: 42490 | B30: =Inputs!D51 -> 24587318 | C30: 477 | D30: 30 | E30: 1 | F30: 0 | G30: 28 | H30: =$Q$18+$Q$19*C30+$Q$20*D30+$Q$21*E30+$Q$22*F30+$Q$23*G30 -> 25155469 | I30: =H30-B30 -> 568150.96 | J30: =I30/B30 -> 0.02310748 | K30: =ABS(J30) -> 0.02310748 | L30: =I30*I30 -> 3.2279551e+11 | M30: =I30-I29 -> 976751.89 | N30: =M30*M30 -> 9.5404425e+11 | P30: Durbin-Watson Calculation | Q30: =Q27/Q28 -> 1.3135983
A31: 42521 | B31: =Inputs!D52 -> 21916797 | C31: 227.1 | D31: 31 | E31: 1 | F31: 0 | G31: 29 | H31: =$Q$18+$Q$19*C31+$Q$20*D31+$Q$21*E31+$Q$22*F31+$Q$23*G31 -> 22673515 | I31: =H31-B31 -> 756717.85 | J31: =I31/B31 -> 0.034526845 | K31: =ABS(J31) -> 0.034526845 | L31: =I31*I31 -> 5.726219e+11 | M31: =I31-I30 -> 188566.89 | N31: =M31*M31 -> 3.5557472e+10
A32: 42551 | B32: =Inputs!D53 -> 22063036 | C32: 79.7 | D32: 30 | E32: 0 | F32: 0 | G32: 30 | H32: =$Q$18+$Q$19*C32+$Q$20*D32+$Q$21*E32+$Q$22*F32+$Q$23*G32 -> 21448178 | I32: =H32-B32 -> -614858.14 | J32: =I32/B32 -> -0.027868247 | K32: =ABS(J32) -> 0.027868247 | L32: =I32*I32 -> 3.7805053e+11 | M32: =I32-I31 -> -1371576 | N32: =M32*M32 -> 1.8812207e+12
A33: 42582 | B33: =Inputs!D54 -> 24449967 | C33: 29.5 | D33: 31 | E33: 0 | F33: 1 | G33: 31 | H33: =$Q$18+$Q$19*C33+$Q$20*D33+$Q$21*E33+$Q$22*F33+$Q$23*G33 -> 24339856 | I33: =H33-B33 -> -110111.26 | J33: =I33/B33 -> -0.0045035341 | K33: =ABS(J33) -> 0.0045035341 | L33: =I33*I33 -> 1.212449e+10 | M33: =I33-I32 -> 504746.88 | N33: =M33*M33 -> 2.5476941e+11
A34: 42613 | B34: =Inputs!D55 -> 25086525 | C34: 14.1 | D34: 31 | E34: 0 | F34: 1 | G34: 32 | H34: =$Q$18+$Q$19*C34+$Q$20*D34+$Q$21*E34+$Q$22*F34+$Q$23*G34 -> 24163431 | I34: =H34-B34 -> -923093.63 | J34: =I34/B34 -> -0.036796393 | K34: =ABS(J34) -> 0.036796393 | L34: =I34*I34 -> 8.5210184e+11 | M34: =I34-I33 -> -812982.36 | N34: =M34*M34 -> 6.6094032e+11
A35: 42643 | B35: =Inputs!D56 -> 21516383 | C35: 80.5 | D35: 30 | E35: 0 | F35: 0 | G35: 33 | H35: =$Q$18+$Q$19*C35+$Q$20*D35+$Q$21*E35+$Q$22*F35+$Q$23*G35 -> 21491499 | I35: =H35-B35 -> -24884.231 | J35: =I35/B35 -> -0.0011565248 | K35: =ABS(J35) -> 0.0011565248 | L35: =I35*I35 -> 6.1922493e+08 | M35: =I35-I34 -> 898209.4 | N35: =M35*M35 -> 8.0678012e+11
A36: 42674 | B36: =Inputs!D57 -> 22851618 | C36: 302.1 | D36: 31 | E36: 1 | F36: 0 | G36: 34 | H36: =$Q$18+$Q$19*C36+$Q$20*D36+$Q$21*E36+$Q$22*F36+$Q$23*G36 -> 23643186 | I36: =H36-B36 -> 791568.4 | J36: =I36/B36 -> 0.03463949 | K36: =ABS(J36) -> 0.03463949 | L36: =I36*I36 -> 6.2658054e+11 | M36: =I36-I35 -> 816452.63 | N36: =M36*M36 -> 6.665949e+11
A37: 42704 | B37: =Inputs!D58 -> 24193372 | C37: 435.2 | D37: 30 | E37: 1 | F37: 0 | G37: 35 | H37: =$Q$18+$Q$19*C37+$Q$20*D37+$Q$21*E37+$Q$22*F37+$Q$23*G37 -> 24724567 | I37: =H37-B37 -> 531194.58 | J37: =I37/B37 -> 0.021956203 | K37: =ABS(J37) -> 0.021956203 | L37: =I37*I37 -> 2.8216769e+11 | M37: =I37-I36 -> -260373.82 | N37: =M37*M37 -> 6.7794526e+10
A38: 42735 | B38: =Inputs!D59 -> 28341333 | C38: 713.7 | D38: 31 | E38: 0 | F38: 0 | G38: 36 | H38: =$Q$18+$Q$19*C38+$Q$20*D38+$Q$21*E38+$Q$22*F38+$Q$23*G38 -> 29790604 | I38: =H38-B38 -> 1449270.6 | J38: =I38/B38 -> 0.05113629 | K38: =ABS(J38) -> 0.05113629 | L38: =I38*I38 -> 2.1003853e+12 | M38: =I38-I37 -> 918076.03 | N38: =M38*M38 -> 8.4286359e+11
A39: 42766 | B39: =Inputs!D60 -> 29369246 | C39: 744 | D39: 31 | E39: 0 | F39: 0 | G39: 37 | H39: =$Q$18+$Q$19*C39+$Q$20*D39+$Q$21*E39+$Q$22*F39+$Q$23*G39 -> 30170936 | I39: =H39-B39 -> 801689.55 | J39: =I39/B39 -> 0.027296906 | K39: =ABS(J39) -> 0.027296906 | L39: =I39*I39 -> 6.4270613e+11 | M39: =I39-I38 -> -647581.07 | N39: =M39*M39 -> 4.1936124e+11
A40: 42794 | B40: =Inputs!D61 -> 26144559 | C40: 648 | D40: 28 | E40: 0 | F40: 0 | G40: 38 | H40: =$Q$18+$Q$19*C40+$Q$20*D40+$Q$21*E40+$Q$22*F40+$Q$23*G40 -> 27358527 | I40: =H40-B40 -> 1213967.8 | J40: =I40/B40 -> 0.046432905 | K40: =ABS(J40) -> 0.046432905 | L40: =I40*I40 -> 1.4737179e+12 | M40: =I40-I39 -> 412278.27 | N40: =M40*M40 -> 1.6997337e+11
A41: 42825 | B41: =Inputs!D62 -> 28985084 | C41: 715.6 | D41: 31 | E41: 1 | F41: 0 | G41: 39 | H41: =$Q$18+$Q$19*C41+$Q$20*D41+$Q$21*E41+$Q$22*F41+$Q$23*G41 -> 28736753 | I41: =H41-B41 -> -248330.92 | J41: =I41/B41 -> -0.0085675419 | K41: =ABS(J41) -> 0.0085675419 | L41: =I41*I41 -> 6.1668247e+10 | M41: =I41-I40 -> -1462298.7 | N41: =M41*M41 -> 2.1383176e+12
A42: 42855 | B42: =Inputs!D63 -> 22823269 | C42: 352.5 | D42: 30 | E42: 1 | F42: 0 | G42: 40 | H42: =$Q$18+$Q$19*C42+$Q$20*D42+$Q$21*E42+$Q$22*F42+$Q$23*G42 -> 23773003 | I42: =H42-B42 -> 949733.51 | J42: =I42/B42 -> 0.04161251 | K42: =ABS(J42) -> 0.04161251 | L42: =I42*I42 -> 9.0199374e+11 | M42: =I42-I41 -> 1198064.4 | N42: =M42*M42 -> 1.4353584e+12
... A134: 45657 | B134: =Inputs!D155 -> 31129577 | C134: 694.5 | D134: 31 | E134: 0 | F134: 0 | G134: 132 | H134: =$Q$18+$Q$19*C134+$Q$20*D134+$Q$21*E134+$Q$22*F134+$Q$23*G134 -> 30631081 | I134: =H134-B134 -> -498495.95 | J134: =I134/B134 -> -0.016013579 | K134: =ABS(J134) -> 0.016013579 | L134: =I134*I134 -> 2.4849822e+11 | M134: =I134-I133 -> -310640.06 | N134: =M134*M134 -> 9.6497245e+10
A135: 45688 | C135: =(C3+C15+C27+C39+C51+C63+C75+C87+C99+C111+C123)/11 -> 834.24545 | D135: 31 | E135: 0 | F135: 0 | G135: 133 | H135: =$Q$18+$Q$19*C135+$Q$20*D135+$Q$21*E135+$Q$22*F135+$Q$23*G135 -> 32344771 | J135: MAPE | K135: =AVERAGE(K3:K134) -> 0.029722946 | L135: =SUM(L3:L134) -> 1.2108263e+14 | N135: =SUM(N3:N134) -> 1.5905393e+14
A136: 45716 | C136: =(C4+C16+C28+C40+C52+C64+C76+C88+C100+C112+C124)/11 -> 763.49091 | D136: 28 | E136: 0 | F136: 0 | G136: 134 | H136: =$Q$18+$Q$19*C136+$Q$20*D136+$Q$21*E136+$Q$22*F136+$Q$23*G136 -> 29839924
A137: 45747 | C137: =(C5+C17+C29+C41+C53+C65+C77+C89+C101+C113+C125)/11 -> 663.67273 | D137: 31 | E137: 1 | F137: 0 | G137: 135 | H137: =$Q$18+$Q$19*C137+$Q$20*D137+$Q$21*E137+$Q$22*F137+$Q$23*G137 -> 29178519
A138: 45777 | C138: =(C6+C18+C30+C42+C54+C66+C78+C90+C102+C114+C126)/11 -> 423.24545 | D138: 30 | E138: 1 | F138: 0 | G138: 136 | H138: =$Q$18+$Q$19*C138+$Q$20*D138+$Q$21*E138+$Q$22*F138+$Q$23*G138 -> 25709272
A139: 45808 | C139: =(C7+C19+C31+C43+C55+C67+C79+C91+C103+C115+C127)/11 -> 211.25455 | D139: 31 | E139: 1 | F139: 0 | G139: 137 | H139: =$Q$18+$Q$19*C139+$Q$20*D139+$Q$21*E139+$Q$22*F139+$Q$23*G139 -> 23689159
A140: 45838 | C140: =(C8+C20+C32+C44+C56+C68+C80+C92+C104+C116+C128)/11 -> 79.272727 | D140: 30 | E140: 0 | F140: 0 | G140: 138 | H140: =$Q$18+$Q$19*C140+$Q$20*D140+$Q$21*E140+$Q$22*F140+$Q$23*G140 -> 22651659
A141: 45869 | C141: =(C9+C21+C33+C45+C57+C69+C81+C93+C105+C117+C129)/11 -> 27.636364 | D141: 31 | E141: 0 | F141: 1 | G141: 139 | H141: =$Q$18+$Q$19*C141+$Q$20*D141+$Q$21*E141+$Q$22*F141+$Q$23*G141 -> 25525838
A142: 45900 | C142: =(C10+C22+C34+C46+C58+C70+C82+C94+C106+C118+C130)/11 -> 40.327273 | D142: 31 | E142: 0 | F142: 1 | G142: 140 | H142: =$Q$18+$Q$19*C142+$Q$20*D142+$Q$21*E142+$Q$22*F142+$Q$23*G142 -> 25691641
A143: 45930 | C143: =(C11+C23+C35+C47+C59+C71+C83+C95+C107+C119+C131)/11 -> 123.35455 | D143: 30 | E143: 0 | F143: 0 | G143: 141 | H143: =$Q$18+$Q$19*C143+$Q$20*D143+$Q$21*E143+$Q$22*F143+$Q$23*G143 -> 23222276
A144: 45961 | C144: =(C12+C24+C36+C48+C60+C72+C84+C96+C108+C120+C132)/11 -> 312.07273 | D144: 31 | E144: 1 | F144: 0 | G144: 142 | H144: =$Q$18+$Q$19*C144+$Q$20*D144+$Q$21*E144+$Q$22*F144+$Q$23*G144 -> 24973369
A145: 45991 | C145: =(C13+C25+C37+C49+C61+C73+C85+C97+C109+C121+C133)/11 -> 496.43636 | D145: 30 | E145: 1 | F145: 0 | G145: 143 | H145: =$Q$18+$Q$19*C145+$Q$20*D145+$Q$21*E145+$Q$22*F145+$Q$23*G145 -> 26679287
A146: 46022 | C146: =(C14+C26+C38+C50+C62+C74+C86+C98+C110+C122+C134)/11 -> 679.73636 | D146: 31 | E146: 0 | F146: 0 | G146: 144 | H146: =$Q$18+$Q$19*C146+$Q$20*D146+$Q$21*E146+$Q$22*F146+$Q$23*G146 -> 30585516
C149: 11-year average
C150: Geomean Monthly Escalation | H150: =SUM(H2:H146) -> 3.7363844e+09
A152: 2014 | B152: =SUM(B3:B14) -> 319149657 | H152: =SUM(H3:H14) -> 3.0802952e+08
A153: 2015 | B153: =SUM(B15:B26) -> 308961454 | H153: =SUM(H15:H26) -> 3.0659539e+08
A154: 2016 | B154: =SUM(B27:B38) -> 302232068 | H154: =SUM(H27:H38) -> 3.0424579e+08
A155: 2017 | B155: =SUM(B39:B50) -> 297287399 | H155: =SUM(H39:H50) -> 3.0584816e+08
A156: 2018 | B156: =SUM(B51:B62) -> 309247473 | H156: =SUM(H51:H62) -> 3.1147034e+08
A157: 2019 | B157: =SUM(B63:B74) -> 3.099521e+08 | H157: =SUM(H63:H74) -> 3.1615687e+08
A158: 2020 | B158: =SUM(B75:B86) -> 304387702 | H158: =SUM(H75:H86) -> 3.1233071e+08
A159: 2021 | B159: =SUM(B87:B98) -> 309941422 | H159: =SUM(H87:H98) -> 3.1081062e+08
A160: 2022 | B160: =SUM(B99:B110) -> 322673989 | H160: =SUM(H99:H110) -> 3.1595888e+08
A161: 2023 | B161: =SUM(B111:B122) -> 315137434 | H161: =SUM(H111:H122) -> 3.1288859e+08
A162: 2024 | B162: =SUM(B123:B134) -> 317322462 | H162: =SUM(H123:H134) -> 3.119583e+08
A163: 2025 | H163: =SUM(H135:H146) -> 3.2009123e+08
A165: Total | B165: =SUM(B152:B162) -> 3.4162932e+09 | H165: =SUM(H152:H162) -> 3.4162932e+09 | I165: =H165-B165 -> 0 | J165: Check - must be zero
H167: =SUM(H152:H163) -> 3.7363844e+09 | I167: =H150-H167 -> 0
B172: *Obtained from Beatrice Station

Sheet Power Purchased Model-WN
S1: R Square of 90% is OK
A2: Date | B2: Power Purchased | C2: Heating Degree Days | D2: Days in Month | E2: Spring Fall Flag | F2: Summer Flag | G2: Trend | H2: Predicted Purchases | J2: SUMMARY OUTPUT | S2: Adjusted R Square takes into consideration the number of variables
A3: 41670 | B3: =Inputs!D24 -> 35005917 | C3: 834.24545 | D3: 31 | E3: 0 | F3: 0 | G3: 1 | H3: =$K$18+$K$19*C3+$K$20*D3+$K$21*E3+$K$22*F3+$K$23*G3 -> 30867487 | S3: ANOVA is not really used
A4: 41698 | B4: =Inputs!D25 -> 30863808 | C4: 763.49091 | D4: 28 | E4: 0 | F4: 0 | G4: 2 | H4: =$K$18+$K$19*C4+$K$20*D4+$K$21*E4+$K$22*F4+$K$23*G4 -> 28362640 | J4: Regression Statistics
A5: 41729 | B5: =Inputs!D26 -> 32142987 | C5: 663.67273 | D5: 31 | E5: 1 | F5: 0 | G5: 3 | H5: =$K$18+$K$19*C5+$K$20*D5+$K$21*E5+$K$22*F5+$K$23*G5 -> 27701235 | J5: Multiple R | K5: 0.9552294 | S5: Coefficient-If negative, it's reducing, if +ve, it's adding
A6: 41759 | B6: =Inputs!D27 -> 25688722 | C6: 423.24545 | D6: 30 | E6: 1 | F6: 0 | G6: 4 | H6: =$K$18+$K$19*C6+$K$20*D6+$K$21*E6+$K$22*F6+$K$23*G6 -> 24231988 | J6: R Square | K6: 0.9124632 | S6: Tstat indicates how relevant a variable is.Should be greater than absolute value of 2, if less than 2 it is not statistically significant so don’t use it
A7: 41790 | B7: =Inputs!D28 -> 22896808 | C7: 211.25455 | D7: 31 | E7: 1 | F7: 0 | G7: 5 | H7: =$K$18+$K$19*C7+$K$20*D7+$K$21*E7+$K$22*F7+$K$23*G7 -> 22211875 | J7: Adjusted R Square | K7: 0.90898952
A8: 41820 | B8: =Inputs!D29 -> 22467129 | C8: 79.272727 | D8: 30 | E8: 0 | F8: 0 | G8: 6 | H8: =$K$18+$K$19*C8+$K$20*D8+$K$21*E8+$K$22*F8+$K$23*G8 -> 21174375 | J8: Standard Error | K8: 980292.43
A9: 41851 | B9: =Inputs!D30 -> 23174494 | C9: 27.636364 | D9: 31 | E9: 0 | F9: 1 | G9: 7 | H9: =$K$18+$K$19*C9+$K$20*D9+$K$21*E9+$K$22*F9+$K$23*G9 -> 24048554 | J9: Observations | K9: 132
A10: 41882 | B10: =Inputs!D31 -> 23391322 | C10: 40.327273 | D10: 31 | E10: 0 | F10: 1 | G10: 8 | H10: =$K$18+$K$19*C10+$K$20*D10+$K$21*E10+$K$22*F10+$K$23*G10 -> 24214357
A11: 41912 | B11: =Inputs!D32 -> 22126761 | C11: 123.35455 | D11: 30 | E11: 0 | F11: 0 | G11: 9 | H11: =$K$18+$K$19*C11+$K$20*D11+$K$21*E11+$K$22*F11+$K$23*G11 -> 21744992 | J11: ANOVA
A12: 41943 | B12: =Inputs!D33 -> 23838442 | C12: 312.07273 | D12: 31 | E12: 1 | F12: 0 | G12: 10 | H12: =$K$18+$K$19*C12+$K$20*D12+$K$21*E12+$K$22*F12+$K$23*G12 -> 23496086 | K12: df | L12: SS | M12: MS | N12: F | O12: Significance F
A13: 41973 | B13: =Inputs!D34 -> 27733031 | C13: 496.43636 | D13: 30 | E13: 1 | F13: 0 | G13: 11 | H13: =$K$18+$K$19*C13+$K$20*D13+$K$21*E13+$K$22*F13+$K$23*G13 -> 25202003 | J13: Regression | K13: 5 | L13: 1.2621371e+15 | M13: 2.5242743e+14 | N13: 262.67893 | O13: 7.7174834e-65
A14: 42004 | B14: =Inputs!D35 -> 29820236 | C14: 679.73636 | D14: 31 | E14: 0 | F14: 0 | G14: 12 | H14: =$K$18+$K$19*C14+$K$20*D14+$K$21*E14+$K$22*F14+$K$23*G14 -> 29108233 | J14: Residual | K14: 126 | L14: 1.2108263e+14 | M14: 9.6097324e+11
A15: 42035 | B15: =Inputs!D36 -> 33934616 | C15: =C3 -> 834.24545 | D15: 31 | E15: 0 | F15: 0 | G15: 13 | H15: =$K$18+$K$19*C15+$K$20*D15+$K$21*E15+$K$22*F15+$K$23*G15 -> 31001785 | J15: Total | K15: 131 | L15: 1.3832198e+15
A16: 42063 | B16: =Inputs!D37 -> 32617573 | C16: =C4 -> 763.49091 | D16: 28 | E16: 0 | F16: 0 | G16: 14 | H16: =$K$18+$K$19*C16+$K$20*D16+$K$21*E16+$K$22*F16+$K$23*G16 -> 28496938
A17: 42094 | B17: =Inputs!D38 -> 30305598 | C17: =C5 -> 663.67273 | D17: 31 | E17: 1 | F17: 0 | G17: 15 | H17: =$K$18+$K$19*C17+$K$20*D17+$K$21*E17+$K$22*F17+$K$23*G17 -> 27835534 | K17: Coefficients | L17: Standard Error | M17: t Stat | N17: P-value | O17: Lower 95% | P17: Upper 95% | Q17: Lower 95.0% | R17: Upper 95.0%
A18: 42124 | B18: =Inputs!D39 -> 24419034 | C18: =C6 -> 423.24545 | D18: 30 | E18: 1 | F18: 0 | G18: 16 | H18: =$K$18+$K$19*C18+$K$20*D18+$K$21*E18+$K$22*F18+$K$23*G18 -> 24366287 | J18: Intercept | K18: 3600992.7 | L18: 3530759.4 | M18: 1.0198919 | N18: 0.30973402 | O18: -3386276.2 | P18: 10588262 | Q18: -3386276.2 | R18: 10588262
A19: 42155 | B19: =Inputs!D40 -> 22122315 | C19: =C7 -> 211.25455 | D19: 31 | E19: 1 | F19: 0 | G19: 17 | H19: =$K$18+$K$19*C19+$K$20*D19+$K$21*E19+$K$22*F19+$K$23*G19 -> 22346174 | J19: Heating Degree Days | K19: 12182.851 | L19: 355.24737 | M19: 34.293994 | N19: 9.4154933e-66 | O19: 11479.827 | P19: 12885.875 | Q19: 11479.827 | R19: 12885.875
A20: 42185 | B20: =Inputs!D41 -> 21687054 | C20: =C8 -> 79.272727 | D20: 30 | E20: 0 | F20: 0 | G20: 18 | H20: =$K$18+$K$19*C20+$K$20*D20+$K$21*E20+$K$22*F20+$K$23*G20 -> 21308674 | J20: Days in Month | K20: 551348.85 | L20: 117190.22 | M20: 4.7047345 | N20: 6.5785439e-06 | O20: 319432.86 | P20: 783264.85 | Q20: 319432.86 | R20: 783264.85
A21: 42216 | B21: =Inputs!D42 -> 23793533 | C21: =C9 -> 27.636364 | D21: 31 | E21: 0 | F21: 1 | G21: 19 | H21: =$K$18+$K$19*C21+$K$20*D21+$K$21*E21+$K$22*F21+$K$23*G21 -> 24182853 | J21: Spring Fall Flag | K21: -1110572.6 | L21: 199218.02 | M21: -5.5746592 | N21: 1.4394307e-07 | O21: -1504819.2 | P21: -716325.97 | Q21: -1504819.2 | R21: -716325.97
A22: 42247 | B22: =Inputs!D43 -> 23664046 | C22: =C10 -> 40.327273 | D22: 31 | E22: 0 | F22: 1 | G22: 20 | H22: =$K$18+$K$19*C22+$K$20*D22+$K$21*E22+$K$22*F22+$K$23*G22 -> 24348656 | J22: Summer Flag | K22: 2940716.6 | L22: 316002.88 | M22: 9.3059803 | N22: 5.3432277e-16 | O22: 2315356.2 | P22: 3566077 | Q22: 2315356.2 | R22: 3566077
A23: 42277 | B23: =Inputs!D44 -> 21503656 | C23: =C11 -> 123.35455 | D23: 30 | E23: 0 | F23: 0 | G23: 21 | H23: =$K$18+$K$19*C23+$K$20*D23+$K$21*E23+$K$22*F23+$K$23*G23 -> 21879291 | J23: Trend | K23: 11191.544 | L23: 2251.9731 | M23: 4.9696612 | N23: 2.1399521e-06 | O23: 6734.9549 | P23: 15648.132 | Q23: 6734.9549 | R23: 15648.132
A24: 42308 | B24: =Inputs!D45 -> 24025252 | C24: =C12 -> 312.07273 | D24: 31 | E24: 1 | F24: 0 | G24: 22 | H24: =$K$18+$K$19*C24+$K$20*D24+$K$21*E24+$K$22*F24+$K$23*G24 -> 23630384
A25: 42338 | B25: =Inputs!D46 -> 24608541 | C25: =C13 -> 496.43636 | D25: 30 | E25: 1 | F25: 0 | G25: 23 | H25: =$K$18+$K$19*C25+$K$20*D25+$K$21*E25+$K$22*F25+$K$23*G25 -> 25336302
A26: 42369 | B26: =Inputs!D47 -> 26280236 | C26: =C14 -> 679.73636 | D26: 31 | E26: 0 | F26: 0 | G26: 24 | H26: =$K$18+$K$19*C26+$K$20*D26+$K$21*E26+$K$22*F26+$K$23*G26 -> 29242531
A27: 42400 | B27: =Inputs!D48 -> 30495180 | C27: =C15 -> 834.24545 | D27: 31 | E27: 0 | F27: 0 | G27: 25 | H27: =$K$18+$K$19*C27+$K$20*D27+$K$21*E27+$K$22*F27+$K$23*G27 -> 31136084
A28: 42429 | B28: =Inputs!D49 -> 29063252 | C28: =C16 -> 763.49091 | D28: 29 | E28: 0 | F28: 0 | G28: 26 | H28: =$K$18+$K$19*C28+$K$20*D28+$K$21*E28+$K$22*F28+$K$23*G28 -> 29182586
A29: 42460 | B29: =Inputs!D50 -> 27667287 | C29: =C17 -> 663.67273 | D29: 31 | E29: 1 | F29: 0 | G29: 27 | H29: =$K$18+$K$19*C29+$K$20*D29+$K$21*E29+$K$22*F29+$K$23*G29 -> 27969832
A30: 42490 | B30: =Inputs!D51 -> 24587318 | C30: =C18 -> 423.24545 | D30: 30 | E30: 1 | F30: 0 | G30: 28 | H30: =$K$18+$K$19*C30+$K$20*D30+$K$21*E30+$K$22*F30+$K$23*G30 -> 24500585
A31: 42521 | B31: =Inputs!D52 -> 21916797 | C31: =C19 -> 211.25455 | D31: 31 | E31: 1 | F31: 0 | G31: 29 | H31: =$K$18+$K$19*C31+$K$20*D31+$K$21*E31+$K$22*F31+$K$23*G31 -> 22480472
A32: 42551 | B32: =Inputs!D53 -> 22063036 | C32: =C20 -> 79.272727 | D32: 30 | E32: 0 | F32: 0 | G32: 30 | H32: =$K$18+$K$19*C32+$K$20*D32+$K$21*E32+$K$22*F32+$K$23*G32 -> 21442972
A33: 42582 | B33: =Inputs!D54 -> 24449967 | C33: =C21 -> 27.636364 | D33: 31 | E33: 0 | F33: 1 | G33: 31 | H33: =$K$18+$K$19*C33+$K$20*D33+$K$21*E33+$K$22*F33+$K$23*G33 -> 24317151
A34: 42613 | B34: =Inputs!D55 -> 25086525 | C34: =C22 -> 40.327273 | D34: 31 | E34: 0 | F34: 1 | G34: 32 | H34: =$K$18+$K$19*C34+$K$20*D34+$K$21*E34+$K$22*F34+$K$23*G34 -> 24482954
A35: 42643 | B35: =Inputs!D56 -> 21516383 | C35: =C23 -> 123.35455 | D35: 30 | E35: 0 | F35: 0 | G35: 33 | H35: =$K$18+$K$19*C35+$K$20*D35+$K$21*E35+$K$22*F35+$K$23*G35 -> 22013589
... A134: 45657 | B134: =Inputs!D155 -> 31129577 | C134: =C122 -> 679.73636 | D134: 31 | E134: 0 | F134: 0 | G134: 132 | H134: =$K$18+$K$19*C134+$K$20*D134+$K$21*E134+$K$22*F134+$K$23*G134 -> 30451218
A135: 45688 | C135: =C123 -> 834.24545 | D135: 31 | E135: 0 | F135: 0 | G135: 133 | H135: =$K$18+$K$19*C135+$K$20*D135+$K$21*E135+$K$22*F135+$K$23*G135 -> 32344771
A136: 45716 | C136: =C124 -> 763.49091 | D136: 28 | E136: 0 | F136: 0 | G136: 134 | H136: =$K$18+$K$19*C136+$K$20*D136+$K$21*E136+$K$22*F136+$K$23*G136 -> 29839924
A137: 45747 | C137: =C125 -> 663.67273 | D137: 31 | E137: 1 | F137: 0 | G137: 135 | H137: =$K$18+$K$19*C137+$K$20*D137+$K$21*E137+$K$22*F137+$K$23*G137 -> 29178519
A138: 45777 | C138: =C126 -> 423.24545 | D138: 30 | E138: 1 | F138: 0 | G138: 136 | H138: =$K$18+$K$19*C138+$K$20*D138+$K$21*E138+$K$22*F138+$K$23*G138 -> 25709272
A139: 45808 | C139: =C127 -> 211.25455 | D139: 31 | E139: 1 | F139: 0 | G139: 137 | H139: =$K$18+$K$19*C139+$K$20*D139+$K$21*E139+$K$22*F139+$K$23*G139 -> 23689159
A140: 45838 | C140: =C128 -> 79.272727 | D140: 30 | E140: 0 | F140: 0 | G140: 138 | H140: =$K$18+$K$19*C140+$K$20*D140+$K$21*E140+$K$22*F140+$K$23*G140 -> 22651659
A141: 45869 | C141: =C129 -> 27.636364 | D141: 31 | E141: 0 | F141: 1 | G141: 139 | H141: =$K$18+$K$19*C141+$K$20*D141+$K$21*E141+$K$22*F141+$K$23*G141 -> 25525838
A142: 45900 | C142: =C130 -> 40.327273 | D142: 31 | E142: 0 | F142: 1 | G142: 140 | H142: =$K$18+$K$19*C142+$K$20*D142+$K$21*E142+$K$22*F142+$K$23*G142 -> 25691641
A143: 45930 | C143: =C131 -> 123.35455 | D143: 30 | E143: 0 | F143: 0 | G143: 141 | H143: =$K$18+$K$19*C143+$K$20*D143+$K$21*E143+$K$22*F143+$K$23*G143 -> 23222276
A144: 45961 | C144: =C132 -> 312.07273 | D144: 31 | E144: 1 | F144: 0 | G144: 142 | H144: =$K$18+$K$19*C144+$K$20*D144+$K$21*E144+$K$22*F144+$K$23*G144 -> 24973369
A145: 45991 | C145: =C133 -> 496.43636 | D145: 30 | E145: 1 | F145: 0 | G145: 143 | H145: =$K$18+$K$19*C145+$K$20*D145+$K$21*E145+$K$22*F145+$K$23*G145 -> 26679287
A146: 46022 | C146: =C134 -> 679.73636 | D146: 31 | E146: 0 | F146: 0 | G146: 144 | H146: =$K$18+$K$19*C146+$K$20*D146+$K$21*E146+$K$22*F146+$K$23*G146 -> 30585516
C149: 11-year average
C150: Geomean Monthly Escalation | H150: =SUM(H2:H146) -> 3.7363844e+09
J151: Weather Normalization Factor
A152: 2014 | B152: =SUM(B3:B14) -> 319149657 | H152: =SUM(H3:H14) -> 3.0236383e+08 | I152: ='Power Purchased Model'!H152 -> 3.0802952e+08 | J152: =H152/I152 -> 0.98160666
A153: 2015 | B153: =SUM(B15:B26) -> 308961454 | H153: =SUM(H15:H26) -> 3.0397541e+08 | I153: ='Power Purchased Model'!H153 -> 3.0659539e+08 | J153: =H153/I153 -> 0.99145461
A154: 2016 | B154: =SUM(B27:B38) -> 302232068 | H154: =SUM(H27:H38) -> 3.0613834e+08 | I154: ='Power Purchased Model'!H154 -> 3.0424579e+08 | J154: =H154/I154 -> 1.0062205
A155: 2017 | B155: =SUM(B39:B50) -> 297287399 | H155: =SUM(H39:H50) -> 3.0719857e+08 | I155: ='Power Purchased Model'!H155 -> 3.0584816e+08 | J155: =H155/I155 -> 1.0044153
A156: 2018 | B156: =SUM(B51:B62) -> 309247473 | H156: =SUM(H51:H62) -> 3.0881015e+08 | I156: ='Power Purchased Model'!H156 -> 3.1147034e+08 | J156: =H156/I156 -> 0.99145928
A157: 2019 | B157: =SUM(B63:B74) -> 3.099521e+08 | H157: =SUM(H63:H74) -> 3.1042174e+08 | I157: ='Power Purchased Model'!H157 -> 3.1615687e+08 | J157: =H157/I157 -> 0.98185985
A158: 2020 | B158: =SUM(B75:B86) -> 304387702 | H158: =SUM(H75:H86) -> 3.1258467e+08 | I158: ='Power Purchased Model'!H158 -> 3.1233071e+08 | J158: =H158/I158 -> 1.0008131
A159: 2021 | B159: =SUM(B87:B98) -> 309941422 | H159: =SUM(H87:H98) -> 3.136449e+08 | I159: ='Power Purchased Model'!H159 -> 3.1081062e+08 | J159: =H159/I159 -> 1.009119
A160: 2022 | B160: =SUM(B99:B110) -> 322673989 | H160: =SUM(H99:H110) -> 3.1525648e+08 | I160: ='Power Purchased Model'!H160 -> 3.1595888e+08 | J160: =H160/I160 -> 0.99777694
A161: 2023 | B161: =SUM(B111:B122) -> 315137434 | H161: =SUM(H111:H122) -> 3.1686807e+08 | I161: ='Power Purchased Model'!H161 -> 3.1288859e+08 | J161: =H161/I161 -> 1.0127185
A162: 2024 | B162: =SUM(B123:B134) -> 317322462 | H162: =SUM(H123:H134) -> 3.19031e+08 | I162: ='Power Purchased Model'!H162 -> 3.119583e+08 | J162: =H162/I162 -> 1.0226719
A163: 2025 | H163: =SUM(H135:H146) -> 3.2009123e+08
A165: Total | B165: =SUM(B152:B162) -> 3.4162932e+09 | H165: =SUM(H152:H162) -> 3.4162932e+09 | I165: =H165-B165 -> 0
H167: =SUM(H152:H163) -> 3.7363844e+09 | I167: =H150-H167 -> 0
B172: *Obtained from Beatrice Station

Sheet Rate Class Energy Model
B2: Purchases | C2: Modeled Purchases | D2: Difference | E2: % Difference | F2: Loss Factor | G2: Total Billed | H2: =Inputs!B4 -> Residential | I2: =Inputs!C4 -> General Service < 50 kW | J2: =Inputs!D4 -> General Service > 50 to 4999 kW | K2: =Inputs!E4 -> USL | L2: =Inputs!F4 -> Sentinel Lighting | M2: =Inputs!G4 -> Street Lighting
A3: 2014 | B3: =+'Power Purchased Model'!B152 -> 319149657 | C3: =+'Power Purchased Model'!H152 -> 3.0802952e+08 | D3: =C3-B3 -> -11120141 | E3: =D3/B3 -> -0.034843029 | F3: =1 +(B3-G3)/G3 -> 1.0731385 | G3: =SUM(H3:M3) -> 2.973984e+08 | H3: =SUMIF(Inputs!A$24:A$143,'Rate Class Energy Model'!A3,Inputs!F$24:F$143) -> 1.1443338e+08 | I3: =SUMIF(Inputs!A$24:A$143,'Rate Class Energy Model'!A3,Inputs!H$24:H$143) -> 58443482 | J3: =SUMIF(Inputs!A$24:A$143,'Rate Class Energy Model'!A3,Inputs!J$24:J$143) -> 1.2188573e+08 | K3: =SUMIF(Inputs!A$24:A$143,'Rate Class Energy Model'!A3,Inputs!M$24:M$143) -> 180165.07 | L3: =SUMIF(Inputs!A$24:A$143,'Rate Class Energy Model'!A3,Inputs!O$24:O$143) -> 50003.863 | M3: =SUMIF(Inputs!A$24:A$143,'Rate Class Energy Model'!A3,Inputs!R$24:R$143) -> 2405634.8
A4: 2015 | B4: =+'Power Purchased Model'!B153 -> 308961454 | C4: =+'Power Purchased Model'!H153 -> 3.0659539e+08 | D4: =C4-B4 -> -2366068.4 | E4: =D4/B4 -> -0.0076581345 | F4: =1 +(B4-G4)/G4 -> 1.069988 | G4: =SUM(H4:M4) -> 2.8875225e+08 | H4: =SUMIF(Inputs!A$24:A$143,'Rate Class Energy Model'!A4,Inputs!F$24:F$143) -> 1.0824396e+08 | I4: =SUMIF(Inputs!A$24:A$143,'Rate Class Energy Model'!A4,Inputs!H$24:H$143) -> 58492111 | J4: =SUMIF(Inputs!A$24:A$143,'Rate Class Energy Model'!A4,Inputs!J$24:J$143) -> 1.1976384e+08 | K4: =SUMIF(Inputs!A$24:A$143,'Rate Class Energy Model'!A4,Inputs!M$24:M$143) -> 173556 | L4: =SUMIF(Inputs!A$24:A$143,'Rate Class Energy Model'!A4,Inputs!O$24:O$143) -> 49108.44 | M4: =SUMIF(Inputs!A$24:A$143,'Rate Class Energy Model'!A4,Inputs!R$24:R$143) -> 2029684.9
A5: 2016 | B5: =+'Power Purchased Model'!B154 -> 302232068 | C5: =+'Power Purchased Model'!H154 -> 3.0424579e+08 | D5: =C5-B5 -> 2013720.7 | E5: =D5/B5 -> 0.0066628293 | F5: =1 +(B5-G5)/G5 -> 1.0774567 | G5: =SUM(H5:M5) -> 2.8050507e+08 | H5: =SUMIF(Inputs!A$24:A$143,'Rate Class Energy Model'!A5,Inputs!F$24:F$143) -> 1.0434816e+08 | I5: =SUMIF(Inputs!A$24:A$143,'Rate Class Energy Model'!A5,Inputs!H$24:H$143) -> 58168701 | J5: =SUMIF(Inputs!A$24:A$143,'Rate Class Energy Model'!A5,Inputs!J$24:J$143) -> 1.1663711e+08 | K5: =SUMIF(Inputs!A$24:A$143,'Rate Class Energy Model'!A5,Inputs!M$24:M$143) -> 166068 | L5: =SUMIF(Inputs!A$24:A$143,'Rate Class Energy Model'!A5,Inputs!O$24:O$143) -> 48745.79 | M5: =SUMIF(Inputs!A$24:A$143,'Rate Class Energy Model'!A5,Inputs!R$24:R$143) -> 1136285.5
A6: 2017 | B6: =+'Power Purchased Model'!B155 -> 297287399 | C6: =+'Power Purchased Model'!H155 -> 3.0584816e+08 | D6: =C6-B6 -> 8560760 | E6: =D6/B6 -> 0.028796242 | F6: =1 +(B6-G6)/G6 -> 1.063397 | G6: =SUM(H6:M6) -> 2.7956388e+08 | H6: =SUMIF(Inputs!A$24:A$143,'Rate Class Energy Model'!A6,Inputs!F$24:F$143) -> 1.0312963e+08 | I6: =SUMIF(Inputs!A$24:A$143,'Rate Class Energy Model'!A6,Inputs!H$24:H$143) -> 57585352 | J6: =SUMIF(Inputs!A$24:A$143,'Rate Class Energy Model'!A6,Inputs!J$24:J$143) -> 1.1748414e+08 | K6: =SUMIF(Inputs!A$24:A$143,'Rate Class Energy Model'!A6,Inputs!M$24:M$143) -> 166068 | L6: =SUMIF(Inputs!A$24:A$143,'Rate Class Energy Model'!A6,Inputs!O$24:O$143) -> 44233.6 | M6: =SUMIF(Inputs!A$24:A$143,'Rate Class Energy Model'!A6,Inputs!R$24:R$143) -> 1154454
A7: 2018 | B7: =+'Power Purchased Model'!B156 -> 309247473 | C7: =+'Power Purchased Model'!H156 -> 3.1147034e+08 | D7: =C7-B7 -> 2222862.8 | E7: =D7/B7 -> 0.0071879741 | F7: =1 +(B7-G7)/G7 -> 1.0677676 | G7: =SUM(H7:M7) -> 2.8962057e+08 | H7: =SUMIF(Inputs!A$24:A$143,'Rate Class Energy Model'!A7,Inputs!F$24:F$143) -> 1.0942709e+08 | I7: =SUMIF(Inputs!A$24:A$143,'Rate Class Energy Model'!A7,Inputs!H$24:H$143) -> 59779468 | J7: =SUMIF(Inputs!A$24:A$143,'Rate Class Energy Model'!A7,Inputs!J$24:J$143) -> 1.1909248e+08 | K7: =SUMIF(Inputs!A$24:A$143,'Rate Class Energy Model'!A7,Inputs!M$24:M$143) -> 166686 | L7: =SUMIF(Inputs!A$24:A$143,'Rate Class Energy Model'!A7,Inputs!O$24:O$143) -> 40821.3 | M7: =SUMIF(Inputs!A$24:A$143,'Rate Class Energy Model'!A7,Inputs!R$24:R$143) -> 1114031
A8: 2019 | B8: =+'Power Purchased Model'!B157 -> 3.099521e+08 | C8: =+'Power Purchased Model'!H157 -> 3.1615687e+08 | D8: =C8-B8 -> 6204774.3 | E8: =D8/B8 -> 0.020018494 | F8: =1 +(B8-G8)/G8 -> 1.0693142 | G8: =SUM(H8:M8) -> 2.8986063e+08 | H8: =SUMIF(Inputs!A$24:A$143,'Rate Class Energy Model'!A8,Inputs!F$24:F$143) -> 110765686 | I8: =SUMIF(Inputs!A$24:A$143,'Rate Class Energy Model'!A8,Inputs!H$24:H$143) -> 59276659 | J8: =SUMIF(Inputs!A$24:A$143,'Rate Class Energy Model'!A8,Inputs!J$24:J$143) -> 118495415 | K8: =SUMIF(Inputs!A$24:A$143,'Rate Class Energy Model'!A8,Inputs!M$24:M$143) -> 172797 | L8: =SUMIF(Inputs!A$24:A$143,'Rate Class Energy Model'!A8,Inputs!O$24:O$143) -> 39113.5 | M8: =SUMIF(Inputs!A$24:A$143,'Rate Class Energy Model'!A8,Inputs!R$24:R$143) -> 1110958
A9: 2020 | B9: =+'Power Purchased Model'!B158 -> 304387702 | C9: =+'Power Purchased Model'!H158 -> 3.1233071e+08 | D9: =C9-B9 -> 7943009.2 | E9: =D9/B9 -> 0.02609504 | F9: =1 +(B9-G9)/G9 -> 1.063435 | G9: =SUM(H9:M9) -> 286230671 | H9: =SUMIF(Inputs!A$24:A$143,'Rate Class Energy Model'!A9,Inputs!F$24:F$143) -> 112437412 | I9: =SUMIF(Inputs!A$24:A$143,'Rate Class Energy Model'!A9,Inputs!H$24:H$143) -> 54635310 | J9: =SUMIF(Inputs!A$24:A$143,'Rate Class Energy Model'!A9,Inputs!J$24:J$143) -> 117859877 | K9: =SUMIF(Inputs!A$24:A$143,'Rate Class Energy Model'!A9,Inputs!M$24:M$143) -> 173568 | L9: =SUMIF(Inputs!A$24:A$143,'Rate Class Energy Model'!A9,Inputs!O$24:O$143) -> 37289 | M9: =SUMIF(Inputs!A$24:A$143,'Rate Class Energy Model'!A9,Inputs!R$24:R$143) -> 1087215
A10: 2021 | B10: =+'Power Purchased Model'!B159 -> 309941422 | C10: =+'Power Purchased Model'!H159 -> 3.1081062e+08 | D10: =C10-B10 -> 869194.76 | E10: =D10/B10 -> 0.002804384 | F10: =1 +(B10-G10)/G10 -> 1.0678787 | G10: =SUM(H10:M10) -> 290240292 | H10: =SUMIF(Inputs!A$24:A$143,'Rate Class Energy Model'!A10,Inputs!F$24:F$143) -> 112958103 | I10: =SUMIF(Inputs!A$24:A$143,'Rate Class Energy Model'!A10,Inputs!H$24:H$143) -> 56374252 | J10: =SUMIF(Inputs!A$24:A$143,'Rate Class Energy Model'!A10,Inputs!J$24:J$143) -> 119633612 | K10: =SUMIF(Inputs!A$24:A$143,'Rate Class Energy Model'!A10,Inputs!M$24:M$143) -> 178362 | L10: =SUMIF(Inputs!A$24:A$143,'Rate Class Energy Model'!A10,Inputs!O$24:O$143) -> 37046 | M10: =SUMIF(Inputs!A$24:A$143,'Rate Class Energy Model'!A10,Inputs!R$24:R$143) -> 1058917
A11: 2022 | B11: =+'Power Purchased Model'!B160 -> 322673989 | C11: =+'Power Purchased Model'!H160 -> 3.1595888e+08 | D11: =C11-B11 -> -6715108.3 | E11: =D11/B11 -> -0.020810814 | F11: =1 +(B11-G11)/G11 -> 1.0645713 | G11: =SUM(H11:M11) -> 303102277 | H11: =SUMIF(Inputs!A$24:A$143,'Rate Class Energy Model'!A11,Inputs!F$24:F$143) -> 116633398 | I11: =SUMIF(Inputs!A$24:A$143,'Rate Class Energy Model'!A11,Inputs!H$24:H$143) -> 59995612 | J11: =SUMIF(Inputs!A$24:A$143,'Rate Class Energy Model'!A11,Inputs!J$24:J$143) -> 125207062 | K11: =SUMIF(Inputs!A$24:A$143,'Rate Class Energy Model'!A11,Inputs!M$24:M$143) -> 172344 | L11: =SUMIF(Inputs!A$24:A$143,'Rate Class Energy Model'!A11,Inputs!O$24:O$143) -> 34937 | M11: =SUMIF(Inputs!A$24:A$143,'Rate Class Energy Model'!A11,Inputs!R$24:R$143) -> 1058924
A12: 2023 | B12: =+'Power Purchased Model'!B161 -> 315137434 | C12: =+'Power Purchased Model'!H161 -> 3.1288859e+08 | D12: =C12-B12 -> -2248840.7 | E12: =D12/B12 -> -0.0071360634 | F12: =1 +(B12-G12)/G12 -> 1.0614651 | G12: =SUM(H12:M12) -> 2.9688911e+08 | H12: =SUMIF(Inputs!A$24:A$143,'Rate Class Energy Model'!A12,Inputs!F$24:F$143) -> 1.1352037e+08 | I12: =SUMIF(Inputs!A$24:A$143,'Rate Class Energy Model'!A12,Inputs!H$24:H$143) -> 59655079 | J12: =SUMIF(Inputs!A$24:A$143,'Rate Class Energy Model'!A12,Inputs!J$24:J$143) -> 1.2245377e+08 | K12: =SUMIF(Inputs!A$24:A$143,'Rate Class Energy Model'!A12,Inputs!M$24:M$143) -> 169785 | L12: =SUMIF(Inputs!A$24:A$143,'Rate Class Energy Model'!A12,Inputs!O$24:O$143) -> 31175.76 | M12: =SUMIF(Inputs!A$24:A$143,'Rate Class Energy Model'!A12,Inputs!R$24:R$143) -> 1058923.7
A13: 2024 | B13: =+'Power Purchased Model'!B162 -> 317322462 | C13: =+'Power Purchased Model'!H162 -> 3.119583e+08 | D13: =C13-B13 -> -5364163.5 | E13: =D13/B13 -> -0.016904456 | F13: =1 +(B13-G13)/G13 -> 1.0705697 | G13: =SUM(H13:M13) -> 2.9640523e+08 | H13: =SUMIF(Inputs!A$24:A$155,'Rate Class Energy Model'!A13,Inputs!F$24:F$155) -> 1.1457841e+08 | I13: =SUMIF(Inputs!A$24:A$155,'Rate Class Energy Model'!A13,Inputs!H$24:H$155) -> 59818358 | J13: =SUMIF(Inputs!A$24:A$155,'Rate Class Energy Model'!A13,Inputs!J$24:J$155) -> 1.2074605e+08 | K13: =SUMIF(Inputs!A$24:A$155,'Rate Class Energy Model'!A13,Inputs!M$24:M$155) -> 169657 | L13: =SUMIF(Inputs!A$24:A$155,'Rate Class Energy Model'!A13,Inputs!O$24:O$155) -> 30873.08 | M13: =SUMIF(Inputs!A$24:A$155,'Rate Class Energy Model'!A13,Inputs!R$24:R$155) -> 1061881.6
A14: 2025 | C14: =+'Power Purchased Model'!H163 -> 3.2009123e+08 | G14: =C14/$F$16 -> 2.9968584e+08
A16: Average | E16: Last 11 years | F16: =AVERAGE(F3:F13) -> 1.0680893
C18: =C13/1000000 -> 311.9583 | G18: =G13/1000000 -> 296.40523
A19: Usage Per Customer | C19: =C14/1000000 -> 320.09123 | G19: =G14/1000000 -> 299.68584
A22: 2024 | H22: =H13/'Rate Class Customer Model'!B13 -> 9290.6436 | I22: =I13/'Rate Class Customer Model'!C13 -> 26870.566 | J22: =J13/'Rate Class Customer Model'!D13 -> 913013.6 | K22: =K13/'Rate Class Customer Model'!E13 -> 2692.9683 | L22: =L13/'Rate Class Customer Model'!F13 -> 945.09429 | M22: =M13/'Rate Class Customer Model'!G13 -> 372.45934
A23: =A22+1 -> 2025 | H23: =H22 -> 9290.6436 | I23: =I22 -> 26870.566 | J23: =J22 -> 913013.6 | K23: =K22 -> 2692.9683 | L23: =L22 -> 945.09429 | M23: =M22 -> 372.45934
A26: Non Weather Corrected Forecast
A28: =A23 -> 2025 | G28: =SUM(H28:M28) -> 2.9496293e+08 | H28: =H23*'Rate Class Customer Model'!B14 -> 1.1593412e+08 | I28: =I23*'Rate Class Customer Model'!C14 -> 60151217 | J28: =J23*'Rate Class Customer Model'!D14 -> 1.1761417e+08 | K28: =K23*'Rate Class Customer Model'!E14 -> 172055.05 | L28: =L23*'Rate Class Customer Model'!F14 -> 29218.484 | M28: =M23*'Rate Class Customer Model'!G14 -> 1062155.1
A30: Weather Corrected Forecast
A32: =A28 -> 2025 | G32: =G14 -> 2.9968584e+08 | H32: =H28+H40 -> 1.1804369e+08 | I32: =I28+I40 -> 61245746 | J32: =J28+J40 -> 1.1913298e+08 | K32: =K28+K40 -> 172055.05 | L32: =L28+L40 -> 29218.484 | M32: =M28+M40 -> 1062155.1 | N32: =SUM(H32:M32) -> 2.9968584e+08 | O32: =N32-G32 -> 0 | P32: =O32-#REF! -> #REF!
A34: % Weather Sensitive | H34: =(100%+J34)/2 -> 0.775 | I34: =H34 -> 0.775 | J34: 0.55 | K34: 0 | L34: 0 | M34: 0
A36: =+A32 -> 2025 | G36: =G32-G28 -> 4722908.4 | H36: =H28*H$34 -> 89848941 | I36: =I28*I$34 -> 46617193 | J36: =J28*J$34 -> 64687794 | K36: =K28*K$34 -> 0 | L36: =L28*L$34 -> 0 | M36: =M28*M$34 -> 0 | N36: =SUM(H36:M36) -> 2.0115393e+08
A38: Allocation of Weather Sensitive Amount
A40: =+A36 -> 2025 | G40: =SUM(H40:M40) -> 4722908.4 | H40: =H36/$N36*$G36 -> 2109570.1 | I40: =I36/$N36*$G36 -> 1094528.6 | J40: =J36/$N36*$G36 -> 1518809.6 | K40: =K36/$N36*$G36 -> 0 | L40: =L36/$N36*$G36 -> 0 | M40: =M36/$N36*$G36 -> 0
C45: =296910135-296977680 -> -67545

Sheet Rate Class Customer Model
B1: Average Number of Customer/Connections
B2: =Inputs!B4 -> Residential | C2: =Inputs!C4 -> General Service < 50 kW | D2: =Inputs!D4 -> General Service > 50 to 4999 kW | E2: =Inputs!E4 -> USL | F2: =Inputs!F4 -> Sentinel Lighting | G2: =Inputs!G4 -> Street Lighting | H2: Total
A3: 2014 | B3: =Inputs!B5 -> 10964.083 | C3: =Inputs!C5 -> 2106 | D3: =Inputs!D5 -> 172 | E3: =Inputs!E5 -> 54.75 | F3: =Inputs!F5 -> 56.666667 | G3: =Inputs!G5 -> 2843.6667 | H3: =SUM(B3:G3) -> 16197.167
A4: 2015 | B4: =Inputs!B6 -> 11020.917 | C4: =Inputs!C6 -> 2132.5833 | D4: =Inputs!D6 -> 155.83333 | E4: =Inputs!E6 -> 52.166667 | F4: =Inputs!F6 -> 53 | G4: =Inputs!G6 -> 2766.0833 | H4: =SUM(B4:G4) -> 16180.583
A5: 2016 | B5: =Inputs!B7 -> 11078.417 | C5: =Inputs!C7 -> 2137.6667 | D5: =Inputs!D7 -> 149.33333 | E5: =Inputs!E7 -> 51 | F5: =Inputs!F7 -> 52.333333 | G5: =Inputs!G7 -> 2679.1667 | H5: =SUM(B5:G5) -> 16147.917
A6: 2017 | B6: =Inputs!B8 -> 11168.75 | C6: =Inputs!C8 -> 2144.4167 | D6: =Inputs!D8 -> 137.91667 | E6: =Inputs!E8 -> 51 | F6: =Inputs!F8 -> 45.5 | G6: =Inputs!G8 -> 2848.3333 | H6: =SUM(B6:G6) -> 16395.917
A7: 2018 | B7: =Inputs!B9 -> 11288.667 | C7: =Inputs!C9 -> 2158.8333 | D7: =Inputs!D9 -> 137.5 | E7: =Inputs!E9 -> 51 | F7: =Inputs!F9 -> 44 | G7: =Inputs!G9 -> 2849 | H7: =SUM(B7:G7) -> 16529
A8: 2019 | B8: =Inputs!B10 -> 11429.75 | C8: =Inputs!C10 -> 2154.3333 | D8: =Inputs!D10 -> 136.66667 | E8: =Inputs!E10 -> 54.583333 | F8: =Inputs!F10 -> 41.25 | G8: =Inputs!G10 -> 2849.1667 | H8: =SUM(B8:G8) -> 16665.75
A9: 2020 | B9: =Inputs!B11 -> 11566 | C9: =Inputs!C11 -> 2155.3333 | D9: =Inputs!D11 -> 135.83333 | E9: =Inputs!E11 -> 56 | F9: =Inputs!F11 -> 40 | G9: =Inputs!G11 -> 2851 | H9: =SUM(B9:G9) -> 16804.167
A10: 2021 | B10: =Inputs!B12 -> 11725.917 | C10: =Inputs!C12 -> 2190.8333 | D10: =Inputs!D12 -> 130.75 | E10: =Inputs!E12 -> 64.5 | F10: =Inputs!F12 -> 40 | G10: =Inputs!G12 -> 2851 | H10: =SUM(B10:G10) -> 17003
A11: 2022 | B11: =Inputs!B13 -> 11911.917 | C11: =Inputs!C13 -> 2205.1667 | D11: =Inputs!D13 -> 129.08333 | E11: =Inputs!E13 -> 64.25 | F11: =Inputs!F13 -> 37.583333 | G11: =Inputs!G13 -> 2851 | H11: =SUM(B11:G11) -> 17199
A12: 2023 | B12: =Inputs!B14 -> 12125.25 | C12: =Inputs!C14 -> 2206.4167 | D12: =Inputs!D14 -> 130.08333 | E12: =Inputs!E14 -> 63.333333 | F12: =Inputs!F14 -> 32.5 | G12: =Inputs!G14 -> 2851 | H12: =SUM(B12:G12) -> 17408.583 | I12: =B12+C12+D12 -> 14461.75
A13: 2024 | B13: =Inputs!B15 -> 12332.667 | C13: =Inputs!C15 -> 2226.1667 | D13: =Inputs!D15 -> 132.25 | E13: =Inputs!E15 -> 63 | F13: =Inputs!F15 -> 32.666667 | G13: =Inputs!G15 -> 2851 | H13: =SUM(B13:G13) -> 17637.75 | I13: =B13+C13+D13 -> 14691.083 | J13: =I13-I12 -> 229.33333
A14: 2025 | B14: =B13*B31 -> 12478.588 | C14: =C13*C31 -> 2238.5542 | D14: =D13*D31 -> 128.81974 | E14: =E13*E31 -> 63.890486 | F14: =F13*F31 -> 30.915946 | G14: =G13*G31 -> 2851.7344 | H14: =SUM(B14:G14) -> 17792.503 | I14: =B14+C14+D14 -> 14845.962 | J14: =I14-I13 -> 154.87896
A16: Growth Rate in Customer Numbers
A18: =+A4 -> 2015 | B18: =B4/B3 -> 1.0051836 | C18: =C4/C3 -> 1.0126227 | D18: =D4/D3 -> 0.90600775 | E18: =E4/E3 -> 0.95281583 | F18: =F4/F3 -> 0.93529412 | G18: =G4/G3 -> 0.97271715
A19: =+A5 -> 2016 | B19: =B5/B4 -> 1.0052174 | C19: =C5/C4 -> 1.0023837 | D19: =D5/D4 -> 0.95828877 | E19: =E5/E4 -> 0.97763578 | F19: =F5/F4 -> 0.98742138 | G19: =G5/G4 -> 0.96857771
A20: =+A6 -> 2017 | B20: =B6/B5 -> 1.008154 | C20: =C6/C5 -> 1.0031576 | D20: =D6/D5 -> 0.92354911 | E20: =E6/E5 -> 1 | F20: =F6/F5 -> 0.86942675 | G20: =G6/G5 -> 1.0631415
A21: =+A7 -> 2018 | B21: =B7/B6 -> 1.0107368 | C21: =C7/C6 -> 1.0067229 | D21: =D7/D6 -> 0.99697885 | E21: =E7/E6 -> 1 | F21: =F7/F6 -> 0.96703297 | G21: =G7/G6 -> 1.0002341
A22: =+A8 -> 2019 | B22: =B8/B7 -> 1.0124978 | C22: =C8/C7 -> 0.99791554 | D22: =D8/D7 -> 0.99393939 | E22: =E8/E7 -> 1.0702614 | F22: =F8/F7 -> 0.9375 | G22: =G8/G7 -> 1.0000585
A23: =+A9 -> 2020 | B23: =B9/B8 -> 1.0119206 | C23: =C9/C8 -> 1.0004642 | D23: =D9/D8 -> 0.99390244 | E23: =E9/E8 -> 1.0259542 | F23: =F9/F8 -> 0.96969697 | G23: =G9/G8 -> 1.0006435
A24: =+A10 -> 2021 | B24: =B10/B9 -> 1.0138264 | C24: =C10/C9 -> 1.0164708 | D24: =D10/D9 -> 0.96257669 | E24: =E10/E9 -> 1.1517857 | F24: =F10/F9 -> 1 | G24: =G10/G9 -> 1
A25: =+A11 -> 2022 | B25: =B11/B10 -> 1.0158623 | C25: =C11/C10 -> 1.0065424 | D25: =D11/D10 -> 0.98725303 | E25: =E11/E10 -> 0.99612403 | F25: =F11/F10 -> 0.93958333 | G25: =G11/G10 -> 1
A26: =+A12 -> 2023 | B26: =B12/B11 -> 1.0179092 | C26: =C12/C11 -> 1.0005669 | D26: =D12/D11 -> 1.0077469 | E26: =E12/E11 -> 0.98573281 | F26: =F12/F11 -> 0.86474501 | G26: =G12/G11 -> 1
A27: =+A13 -> 2024 | B27: =B13/B12 -> 1.0171062 | C27: =C13/C12 -> 1.0089512 | D27: =D13/D12 -> 1.016656 | E27: =E13/E12 -> 0.99473684 | F27: =F13/F12 -> 1.0051282 | G27: =G13/G12 -> 1
A31: Used | B31: =B33 -> 1.0118321 | C31: =C33 -> 1.0055645 | D31: =D33 -> 0.97406227 | E31: =E33 -> 1.0141347 | F31: =+F33 -> 0.9464065 | G31: =+G33 -> 1.0002576 | H31: Input data
A33: Geomean | B33: =IF(B11="",0,GEOMEAN(B18:B27)) -> 1.0118321 | C33: =IF(C11="",0,GEOMEAN(C18:C27)) -> 1.0055645 | D33: =IF(D11="",0,GEOMEAN(D18:D27)) -> 0.97406227 | E33: =IF(E11="",0,GEOMEAN(E18:E27)) -> 1.0141347 | F33: =IF(F11="",0,GEOMEAN(F18:F27)) -> 0.9464065 | G33: =IF(G11="",0,GEOMEAN(G18:G27)) -> 1.0002576

Sheet Rate Class Load Model
B1: ='Rate Class Customer Model'!D2 -> General Service > 50 to 4999 kW | C1: ='Rate Class Customer Model'!F2 -> Sentinel Lighting | D1: ='Rate Class Energy Model'!M2 -> Street Lighting | E1: Total
A2: =+'Rate Class Customer Model'!A3 -> 2014 | B2: =SUMIF(Inputs!$A$24:$A$143,'Rate Class Load Model'!$A2,Inputs!$K$24:$K$143) -> 288260.7 | C2: =SUMIF(Inputs!$A$24:$A$143,'Rate Class Load Model'!$A2,Inputs!$P$24:$P$143) -> 138.89962 | D2: =SUMIF(Inputs!$A$24:$A$143,'Rate Class Load Model'!$A2,Inputs!$S$24:$S$143) -> 6610.22 | E2: =SUM(B2:D2) -> 295009.82 | F2: Demand only
A3: =+'Rate Class Customer Model'!A4 -> 2015 | B3: =SUMIF(Inputs!$A$24:$A$143,'Rate Class Load Model'!$A3,Inputs!$K$24:$K$143) -> 288082.36 | C3: =SUMIF(Inputs!$A$24:$A$143,'Rate Class Load Model'!$A3,Inputs!$P$24:$P$143) -> 136.41233 | D3: =SUMIF(Inputs!$A$24:$A$143,'Rate Class Load Model'!$A3,Inputs!$S$24:$S$143) -> 5922.15 | E3: =SUM(B3:D3) -> 294140.92
A4: =+'Rate Class Customer Model'!A5 -> 2016 | B4: =SUMIF(Inputs!$A$24:$A$143,'Rate Class Load Model'!$A4,Inputs!$K$24:$K$143) -> 283796.43 | C4: =SUMIF(Inputs!$A$24:$A$143,'Rate Class Load Model'!$A4,Inputs!$P$24:$P$143) -> 135.40497 | D4: =SUMIF(Inputs!$A$24:$A$143,'Rate Class Load Model'!$A4,Inputs!$S$24:$S$143) -> 3094.04 | E4: =SUM(B4:D4) -> 287025.87
A5: =+'Rate Class Customer Model'!A6 -> 2017 | B5: =SUMIF(Inputs!$A$24:$A$143,'Rate Class Load Model'!$A5,Inputs!$K$24:$K$143) -> 281771.1 | C5: =SUMIF(Inputs!$A$24:$A$143,'Rate Class Load Model'!$A5,Inputs!$P$24:$P$143) -> 122.87111 | D5: =SUMIF(Inputs!$A$24:$A$143,'Rate Class Load Model'!$A5,Inputs!$S$24:$S$143) -> 3196.56 | E5: =SUM(B5:D5) -> 285090.53
A6: =+'Rate Class Customer Model'!A7 -> 2018 | B6: =SUMIF(Inputs!$A$24:$A$143,'Rate Class Load Model'!$A6,Inputs!$K$24:$K$143) -> 288024.3 | C6: =SUMIF(Inputs!$A$24:$A$143,'Rate Class Load Model'!$A6,Inputs!$P$24:$P$143) -> 113.3925 | D6: =SUMIF(Inputs!$A$24:$A$143,'Rate Class Load Model'!$A6,Inputs!$S$24:$S$143) -> 3087.57 | E6: =SUM(B6:D6) -> 291225.26
A7: =+'Rate Class Customer Model'!A8 -> 2019 | B7: =SUMIF(Inputs!$A$24:$A$143,'Rate Class Load Model'!$A7,Inputs!$K$24:$K$143) -> 289524.02 | C7: =SUMIF(Inputs!$A$24:$A$143,'Rate Class Load Model'!$A7,Inputs!$P$24:$P$143) -> 108.64861 | D7: =SUMIF(Inputs!$A$24:$A$143,'Rate Class Load Model'!$A7,Inputs!$S$24:$S$143) -> 3074.16 | E7: =SUM(B7:D7) -> 292706.83
A8: =+'Rate Class Customer Model'!A9 -> 2020 | B8: =SUMIF(Inputs!$A$24:$A$143,'Rate Class Load Model'!$A8,Inputs!$K$24:$K$143) -> 290762.68 | C8: =SUMIF(Inputs!$A$24:$A$143,'Rate Class Load Model'!$A8,Inputs!$P$24:$P$143) -> 103.58056 | D8: =SUMIF(Inputs!$A$24:$A$143,'Rate Class Load Model'!$A8,Inputs!$S$24:$S$143) -> 3080.42 | E8: =SUM(B8:D8) -> 293946.68
A9: =+'Rate Class Customer Model'!A10 -> 2021 | B9: =SUMIF(Inputs!$A$24:$A$143,'Rate Class Load Model'!$A9,Inputs!$K$24:$K$143) -> 285432.01 | C9: =SUMIF(Inputs!$A$24:$A$143,'Rate Class Load Model'!$A9,Inputs!$P$24:$P$143) -> 102.90556 | D9: =SUMIF(Inputs!$A$24:$A$143,'Rate Class Load Model'!$A9,Inputs!$S$24:$S$143) -> 3082.32 | E9: =SUM(B9:D9) -> 288617.24
A10: =+'Rate Class Customer Model'!A11 -> 2022 | B10: =SUMIF(Inputs!$A$24:$A$143,'Rate Class Load Model'!$A10,Inputs!$K$24:$K$143) -> 308240.81 | C10: =SUMIF(Inputs!$A$24:$A$143,'Rate Class Load Model'!$A10,Inputs!$P$24:$P$143) -> 97.047222 | D10: =SUMIF(Inputs!$A$24:$A$143,'Rate Class Load Model'!$A10,Inputs!$S$24:$S$143) -> 3082.32 | E10: =SUM(B10:D10) -> 311420.18
A11: =+'Rate Class Customer Model'!A12 -> 2023 | B11: =SUMIF(Inputs!$A$24:$A$143,'Rate Class Load Model'!$A11,Inputs!$K$24:$K$143) -> 315533.89 | C11: =SUMIF(Inputs!$A$24:$A$143,'Rate Class Load Model'!$A11,Inputs!$P$24:$P$143) -> 86.6 | D11: =SUMIF(Inputs!$A$24:$A$143,'Rate Class Load Model'!$A11,Inputs!$S$24:$S$143) -> 3082.6 | E11: =SUM(B11:D11) -> 318703.09
A12: =+'Rate Class Customer Model'!A13 -> 2024 | B12: =SUMIF(Inputs!$A$24:$A$155,'Rate Class Load Model'!$A12,Inputs!$K$24:$K$155) -> 313416.04 | C12: =SUMIF(Inputs!$A$24:$A$155,'Rate Class Load Model'!$A12,Inputs!$P$24:$P$155) -> 85.759 | D12: =SUMIF(Inputs!$A$24:$A$155,'Rate Class Load Model'!$A12,Inputs!$S$24:$S$155) -> 3082.32 | E12: =SUM(B12:D12) -> 316584.12
A13: =+'Rate Class Customer Model'!A14 -> 2025 | B13: =B$28*'Rate Class Energy Model'!J32 -> 291886.25 | C13: =C$28*'Rate Class Energy Model'!L32 -> 81.16255 | D13: =D$28*'Rate Class Energy Model'!M32 -> 3009.2564 | E13: =SUM(B13:D13) -> 294976.67
A15: kW/kWh
A16: =+A2 -> 2014 | B16: =B2/'Rate Class Energy Model'!J3 -> 0.0023650078 | C16: =C2/'Rate Class Energy Model'!L3 -> 0.0027777778 | D16: =D2/'Rate Class Energy Model'!M3 -> 0.002747807
A17: =+A3 -> 2015 | B17: =B3/'Rate Class Energy Model'!J4 -> 0.0024054203 | C17: =C3/'Rate Class Energy Model'!L4 -> 0.0027777778 | D17: =D3/'Rate Class Energy Model'!M4 -> 0.0029177682
A18: =+A4 -> 2016 | B18: =B4/'Rate Class Energy Model'!J5 -> 0.0024331573 | C18: =C4/'Rate Class Energy Model'!L5 -> 0.0027777778 | D18: =D4/'Rate Class Energy Model'!M5 -> 0.0027229425
A19: =+A5 -> 2017 | B19: =B5/'Rate Class Energy Model'!J6 -> 0.0023983756 | C19: =C5/'Rate Class Energy Model'!L6 -> 0.0027777778 | D19: =D5/'Rate Class Energy Model'!M6 -> 0.0027688934
A20: =+A6 -> 2018 | B20: =B6/'Rate Class Energy Model'!J7 -> 0.0024184928 | C20: =C6/'Rate Class Energy Model'!L7 -> 0.0027777778 | D20: =D6/'Rate Class Energy Model'!M7 -> 0.0027715297
A21: =+A7 -> 2019 | B21: =B7/'Rate Class Energy Model'!J8 -> 0.0024433352 | C21: =C7/'Rate Class Energy Model'!L8 -> 0.0027777778 | D21: =D7/'Rate Class Energy Model'!M8 -> 0.0027671253
A22: =+A8 -> 2020 | B22: =B8/'Rate Class Energy Model'!J9 -> 0.0024670201 | C22: =C8/'Rate Class Energy Model'!L9 -> 0.0027777778 | D22: =D8/'Rate Class Energy Model'!M9 -> 0.0028333126
A23: =+A9 -> 2021 | B23: =B9/'Rate Class Energy Model'!J10 -> 0.0023858847 | C23: =C9/'Rate Class Energy Model'!L10 -> 0.0027777778 | D23: =D9/'Rate Class Energy Model'!M10 -> 0.002910823
A24: =+A10 -> 2022 | B24: =B10/'Rate Class Energy Model'!J11 -> 0.0024618484 | C24: =C10/'Rate Class Energy Model'!L11 -> 0.0027777778 | D24: =D10/'Rate Class Energy Model'!M11 -> 0.0029108038
A25: =+A11 -> 2023 | B25: =B11/'Rate Class Energy Model'!J12 -> 0.0025767592 | C25: =C11/'Rate Class Energy Model'!L12 -> 0.0027777992 | D25: =D11/'Rate Class Energy Model'!M12 -> 0.002911069
A26: =+A12 -> 2024 | B26: =B12/'Rate Class Energy Model'!J13 -> 0.0025956629 | C26: =C12/'Rate Class Energy Model'!L13 -> 0.0027777922 | D26: =D12/'Rate Class Energy Model'!M13 -> 0.0029026966
A28: Used | B28: =B30 -> 0.0024500877 | C28: =C30 -> 0.002777781 | D28: =D30 -> 0.002833161
A30: Average | B30: =AVERAGE(B16:B26) -> 0.0024500877 | C30: =AVERAGE(C16:C26) -> 0.002777781 | D30: =AVERAGE(D16:D26) -> 0.002833161
