{"text_format":"1","workbook":"xlsx","n_sheets":34,"sheets":["Admin","I1 Reconciliation","I1a ER Summary","I1b RPP Rates","I2 Input 01 Trueup Sett ","I3 Input Rev 01 Init","I4 Input 02 Trueup Sett","I5 Input Rev 02 Init","I6 Input 03 Trueup Sett","I7 Input Rev 03 Init","I8 Input 04 Trueup Sett","I9 Input Rev 04 Init","I10 Input 05 Trueup Sett","I11 Input Rev 05 Init","I12 Input 06 Trueup Sett","I13 Input Rev 06 Init","I14 Input 07 Trueup Sett","I15 Input Rev 07 Init","I16 Input 08 Trueup Sett","I17 Input Rev 08 Init","I18 Input 09 Trueup Sett","I19 Input Rev 09 Init","I20 Input 10 Trueup Sett","I21 Input Rev 10 Init","I22 Input 11 Trueup Sett","I23 Input Rev 11 Init","I24 Input 12 Trueup Sett","I25 Input Rev 12 Init","Rec1 1588 Commodity","Rec2 1589 Class B","Rec3 1589 Class A","Rev1UFE","Rev2 GA Purchases","Rev3 GA Analysis "],"not_rendered":{"charts":0,"images":9,"macros":1,"external_links":0,"defined_names":200,"comments":0,"pivot_tables":0},"unopened":[],"bounds":{"document_bytes":16777216,"sheet_cells":100000,"rows_first":2000,"rows_last":500,"rows_between":2000,"halvings":0,"cell_chars":16384,"cell_head_chars":4096},"cells_cut":0,"cells_raw":0,"read":"whole","date_system":"1900"}

{"sheet":"Admin","index":0,"n_rows":41,"n_cols":4,"rows_kept":41,"cut":false,"hidden":false,"merged":[]}
[]
[]
[]
[null,"Process Year"]
[null,2023,"I1"]
[]
[null,"First True Up Month"]
[null,{"$f":"B5*100+1","v":202301},"I2","I3"]
[]
[null,"Second True Up Month"]
[null,{"$f":"B8+1","v":202302},"I4","I5"]
[]
[null,"Third True Up Month"]
[null,{"$f":"B11+1","v":202303},"I6","I7"]
[]
[null,"Fourth True Up Month"]
[null,{"$f":"B14+1","v":202304},"I8","I9"]
[]
[null,"Fifth True Up Month"]
[null,{"$f":"B17+1","v":202305},"I10","I11"]
[]
[null,"Sixth True Up Month"]
[null,{"$f":"B20+1","v":202306},"I12","I13"]
[]
[null,"Seventh True Up Month"]
[null,{"$f":"B23+1","v":202307},"I14","I15"]
[]
[null,"Eighth True Up Month"]
[null,{"$f":"B26+1","v":202308},"I16","I17"]
[]
[null,"Ninth True Up Month"]
[null,{"$f":"B29+1","v":202309},"I18","I19"]
[]
[null,"Tenth True Up Month"]
[null,{"$f":"B32+1","v":202310},"I20","I21"]
[]
[null,"Eleventh True Up Month"]
[null,{"$f":"B35+1","v":202311},"I22","I23"]
[]
[null,"Twelveth True Up Month"]
[null,{"$f":"B38+1","v":202312},"I24","I25"]

{"sheet":"I1 Reconciliation","index":1,"n_rows":29,"n_cols":27,"rows_kept":29,"cut":false,"hidden":false,"merged":[]}
[]
[null,null,{"$f":"Admin!$B$8","v":202301},{"$f":"Admin!$B$8","v":202301},{"$f":"C2+1","v":202302},{"$f":"D2+1","v":202302},{"$f":"E2+1","v":202303},202303,202304,202304,202305,202305,202306,202306,202307,202307,202308,202308,202309,202309,202310,202310,202311,202311,202312,202312,{"$f":"Admin!B5","v":2023}]
[null,null,{"$f":"A4 &  \"Input \"& C2 & \" Trueup Sett\"","v":"Input 202301 Trueup Sett"},{"$f":"D4 & \" Input Rev \" & D2 & \" Init\"","v":"I3 Input Rev 202301 Init"},{"$f":"C4 &  \"Input \"& E2 & \" Trueup Sett\"","v":"I2Input 202302 Trueup Sett"},{"$f":"F4 & \" Input Rev \" & F2 & \" Init\"","v":"I5 Input Rev 202302 Init"},{"$f":"E4 &  \"Input \"& G2 & \" Trueup Sett\"","v":"I4Input 202303 Trueup Sett"},{"$f":"H4 & \" Input Rev \" & H2 & \" Init\"","v":"I7 Input Rev 202303 Init"},{"$f":"G4 &  \"Input \"& I2 & \" Trueup Sett\"","v":"I6Input 202304 Trueup Sett"},{"$f":"J4 & \" Input Rev \" & J2 & \" Init\"","v":"I9 Input Rev 202304 Init"},{"$f":"I4 &  \"Input \"& K2 & \" Trueup Sett\"","v":"I8Input 202305 Trueup Sett"},{"$f":"L4 & \" Input Rev \" & L2 & \" Init\"","v":"I11 Input Rev 202305 Init"},{"$f":"K4 &  \"Input \"& M2 & \" Trueup Sett\"","v":"I10Input 202306 Trueup Sett"},{"$f":"N4 & \" Input Rev \" & N2 & \" Init\"","v":"I13 Input Rev 202306 Init"},{"$f":"M4 &  \"Input \"& O2 & \" Trueup Sett\"","v":"I12Input 202307 Trueup Sett"},{"$f":"P4 & \" Input Rev \" & P2 & \" Init\"","v":"I15 Input Rev 202307 Init"},{"$f":"O4 &  \"Input \"& Q2 & \" Trueup Sett\"","v":"I14Input 202308 Trueup Sett"},{"$f":"R4 & \" Input Rev \" & R2 & \" Init\"","v":"I17 Input Rev 202308 Init"},{"$f":"Q4 &  \"Input \"& S2 & \" Trueup Sett\"","v":"I16Input 202309 Trueup Sett"},{"$f":"T4 & \" Input Rev \" & T2 & \" Init\"","v":"I19 Input Rev 202309 Init"},{"$f":"S4 &  \"Input \"& U2 & \" Trueup Sett\"","v":"I18Input 202310 Trueup Sett"},{"$f":"V4 & \" Input Rev \" & V2 & \" Init\"","v":"I21 Input Rev 202310 Init"},{"$f":"U4 &  \"Input \"& W2 & \" Trueup Sett\"","v":"I20Input 202311 Trueup Sett"},{"$f":"X4 & \" Input Rev \" & X2 & \" Init\"","v":"I23 Input Rev 202311 Init"},{"$f":"W4 &  \"Input \"& Y2 & \" Trueup Sett\"","v":"I22Input 202312 Trueup Sett"},{"$f":"Z4 & \" Input Rev \" & Z2 & \" Init\"","v":"I25 Input Rev 202312 Init"},"Total IESO Settlement"]
[null,null,"I2","I3","I4","I5","I6","I7","I8","I9","I10","I11","I12","I13","I14","I15","I16","I17","I18","I19","I20","I21","I22","I23","I24","I25"]
[null,"RPP Revenue Prices"]
[null,"RPPT1",{"$f":"'I2 Input 01 Trueup Sett '!Z6","v":-1633.9550186668057},{"$f":"'I3 Input Rev 01 Init'!C7","v":4732.82},{"$f":"'I4 Input 02 Trueup Sett'!Z6","v":-17951.8212753997},{"$f":"'I5 Input Rev 02 Init'!C7","v":1820.69},{"$f":"'I6 Input 03 Trueup Sett'!Z6","v":-17290.162429964752},{"$f":"'I7 Input Rev 03 Init'!C7","v":16126.42},{"$f":"'I8 Input 04 Trueup Sett'!Z6","v":-26813.64397206869},{"$f":"'I9 Input Rev 04 Init'!C7","v":17360.099999999999},{"$f":"'I10 Input 05 Trueup Sett'!Z6","v":-22650.711252079847},{"$f":"'I11 Input Rev 05 Init'!C7","v":27148.92},{"$f":"'I12 Input 06 Trueup Sett'!Z6","v":-18849.721712537248},{"$f":"'I13 Input Rev 06 Init'!C7","v":21245.58},{"$f":"'I14 Input 07 Trueup Sett'!Z6","v":-3127.6694114943675},{"$f":"'I15 Input Rev 07 Init'!C7","v":18535.64},{"$f":"'I16 Input 08 Trueup Sett'!Z6","v":-13805.52412837922},{"$f":"'I17 Input Rev 08 Init'!C7","v":4182.5},{"$f":"'I18 Input 09 Trueup Sett'!Z6","v":-7105.6952185651353},{"$f":"'I19 Input Rev 09 Init'!C7","v":13933.55},{"$f":"'I20 Input 10 Trueup Sett'!Z6","v":-19147.936408905727},{"$f":"'I21 Input Rev 10 Init'!C7","v":4781.1000000000004},{"$f":"'I22 Input 11 Trueup Sett'!Z6","v":1403.1489309030585},{"$f":"'I23 Input Rev 11 Init'!C7","v":19696.919999999998},{"$f":"'I24 Input 12 Trueup Sett'!Z6","v":5570.0660404093651},{"$f":"'I25 Input Rev 12 Init'!C7","v":934.46},{"$f":"SUM(C6:Z6)","v":9095.074143250924}]
[null,"RPPT2",{"$f":"'I2 Input 01 Trueup Sett '!Z7","v":4783.6417105495966},{"$f":"'I3 Input Rev 01 Init'!C8","v":-3327.93},{"$f":"'I4 Input 02 Trueup Sett'!Z7","v":-1242.4558325746548},{"$f":"'I5 Input Rev 02 Init'!C8","v":-4517.1000000000004},{"$f":"'I6 Input 03 Trueup Sett'!Z7","v":-675.00100676274815},{"$f":"'I7 Input Rev 03 Init'!C8","v":280.83},{"$f":"'I8 Input 04 Trueup Sett'!Z7","v":-2302.7691100602278},{"$f":"'I9 Input Rev 04 Init'!C8","v":776.62},{"$f":"'I10 Input 05 Trueup Sett'!Z7","v":-2686.0550693963542},{"$f":"'I11 Input Rev 05 Init'!C8","v":2366.14},{"$f":"'I12 Input 06 Trueup Sett'!Z7","v":-2121.845154932711},{"$f":"'I13 Input Rev 06 Init'!C8","v":2525.31},{"$f":"'I14 Input 07 Trueup Sett'!Z7","v":3700.2411715627986},{"$f":"'I15 Input Rev 07 Init'!C8","v":2078.4},{"$f":"'I16 Input 08 Trueup Sett'!Z7","v":-529.00213587609869},{"$f":"'I17 Input Rev 08 Init'!C8","v":-3031.94},{"$f":"'I18 Input 09 Trueup Sett'!Z7","v":1092.3521197335758},{"$f":"'I19 Input Rev 09 Init'!C8","v":613.66999999999996},{"$f":"'I20 Input 10 Trueup Sett'!Z7","v":-2344.5901110936793},{"$f":"'I21 Input Rev 10 Init'!C8","v":-1693.9},{"$f":"'I22 Input 11 Trueup Sett'!Z7","v":5489.2455911758407},{"$f":"'I23 Input Rev 11 Init'!C8","v":2631.83},{"$f":"'I24 Input 12 Trueup Sett'!Z7","v":7813.314855802626},{"$f":"'I25 Input Rev 12 Init'!C8","v":-4856.82},{"$f":"SUM(C7:Z7)","v":4822.1870281279625}]
[null,"RPPTOUMID",{"$f":"'I2 Input 01 Trueup Sett '!Z8","v":23068.655915113704},{"$f":"'I3 Input Rev 01 Init'!C9","v":-13838.93},{"$f":"'I4 Input 02 Trueup Sett'!Z8","v":-8428.7582873892825},{"$f":"'I5 Input Rev 02 Init'!C9","v":-21652.63},{"$f":"'I6 Input 03 Trueup Sett'!Z8","v":-6129.7985059856728},{"$f":"'I7 Input Rev 03 Init'!C9","v":-323.58},{"$f":"'I8 Input 04 Trueup Sett'!Z8","v":-24079.710537218576},{"$f":"'I9 Input Rev 04 Init'!C9","v":7039.7},{"$f":"'I10 Input 05 Trueup Sett'!Z8","v":-22610.01573744083},{"$f":"'I11 Input Rev 05 Init'!C9","v":21803},{"$f":"'I12 Input 06 Trueup Sett'!Z8","v":-18432.990969124119},{"$f":"'I13 Input Rev 06 Init'!C9","v":21651.37},{"$f":"'I14 Input 07 Trueup Sett'!Z8","v":19312.181631671876},{"$f":"'I15 Input Rev 07 Init'!C9","v":18231.560000000001},{"$f":"'I16 Input 08 Trueup Sett'!Z8","v":-6104.9098287886445},{"$f":"'I17 Input Rev 08 Init'!C9","v":-13751.63},{"$f":"'I18 Input 09 Trueup Sett'!Z8","v":6457.9502031488373},{"$f":"'I19 Input Rev 09 Init'!C9","v":4992.8100000000004},{"$f":"'I20 Input 10 Trueup Sett'!Z8","v":-16395.842413335733},{"$f":"'I21 Input Rev 10 Init'!C9","v":-9772.52},{"$f":"'I22 Input 11 Trueup Sett'!Z8","v":34666.446715057071},{"$f":"'I23 Input Rev 11 Init'!C9","v":14773.93},{"$f":"'I24 Input 12 Trueup Sett'!Z8","v":39917.418457141001},{"$f":"'I25 Input Rev 12 Init'!C9","v":-24692.400000000001},25701.306642849624]
[null,"RPPTOUOFF",{"$f":"'I2 Input 01 Trueup Sett '!Z9","v":-101183.55475785176},{"$f":"'I3 Input Rev 01 Init'!C10","v":117105.43},{"$f":"'I4 Input 02 Trueup Sett'!Z9","v":-195408.1031228198},{"$f":"'I5 Input Rev 02 Init'!C10","v":104754.1},{"$f":"'I6 Input 03 Trueup Sett'!Z9","v":-181875.00793381239},{"$f":"'I7 Input Rev 03 Init'!C10","v":176053.2},{"$f":"'I8 Input 04 Trueup Sett'!Z9","v":-234462.02900652087},{"$f":"'I9 Input Rev 04 Init'!C10","v":182693.05},{"$f":"'I10 Input 05 Trueup Sett'!Z9","v":-195913.61868132884},{"$f":"'I11 Input Rev 05 Init'!C10","v":228867.38},{"$f":"'I12 Input 06 Trueup Sett'!Z9","v":-189417.65285756069},{"$f":"'I13 Input Rev 06 Init'!C10","v":188721.04},{"$f":"'I14 Input 07 Trueup Sett'!Z9","v":-104952.81951302395},{"$f":"'I15 Input Rev 07 Init'!C10","v":181948.37},{"$f":"'I16 Input 08 Trueup Sett'!Z9","v":-167274.01567315173},{"$f":"'I17 Input Rev 08 Init'!C10","v":117275.24},{"$f":"'I18 Input 09 Trueup Sett'!Z9","v":-116500.20384343568},{"$f":"'I19 Input Rev 09 Init'!C10","v":160398.43},{"$f":"'I20 Input 10 Trueup Sett'!Z9","v":-187081.74592325854},{"$f":"'I21 Input Rev 10 Init'!C10","v":105432.22},{"$f":"'I22 Input 11 Trueup Sett'!Z9","v":-74691.253218885802},{"$f":"'I23 Input Rev 11 Init'!C10","v":180756.95},{"$f":"'I24 Input 12 Trueup Sett'!Z9","v":-66576.028174998588},{"$f":"'I25 Input Rev 12 Init'!C10","v":95806.27},24475.647293351372]
[null,"RPPTOUON",{"$f":"'I2 Input 01 Trueup Sett '!Z10","v":116271.59273319993},{"$f":"'I3 Input Rev 01 Init'!C11","v":-99540.33},{"$f":"'I4 Input 02 Trueup Sett'!Z10","v":76259.748983820289},{"$f":"'I5 Input Rev 02 Init'!C11","v":-111653.44},{"$f":"'I6 Input 03 Trueup Sett'!Z10","v":86460.689586228575},{"$f":"'I7 Input Rev 03 Init'!C11","v":-92333.77},{"$f":"'I8 Input 04 Trueup Sett'!Z10","v":42411.476919165871},{"$f":"'I9 Input Rev 04 Init'!C11","v":-84553.35},{"$f":"'I10 Input 05 Trueup Sett'!Z10","v":46438.282979022188},{"$f":"'I11 Input Rev 05 Init'!C11","v":-45985.07},{"$f":"'I12 Input 06 Trueup Sett'!Z10","v":62697.429657233908},{"$f":"'I13 Input Rev 06 Init'!C11","v":-46792.91},{"$f":"'I14 Input 07 Trueup Sett'!Z10","v":120251.52826912369},{"$f":"'I15 Input Rev 07 Init'!C11","v":-58280.17},{"$f":"'I16 Input 08 Trueup Sett'!Z10","v":85633.837982283032},{"$f":"'I17 Input Rev 08 Init'!C11","v":-108343.29},{"$f":"'I18 Input 09 Trueup Sett'!Z10","v":82329.709162078012},{"$f":"'I19 Input Rev 09 Init'!C11","v":-85690.49},{"$f":"'I20 Input 10 Trueup Sett'!Z10","v":53902.884429508355},{"$f":"'I21 Input Rev 10 Init'!C11","v":-87735.01},{"$f":"'I22 Input 11 Trueup Sett'!Z10","v":141062.5173103158},{"$f":"'I23 Input Rev 11 Init'!C11","v":-54953.65},{"$f":"'I24 Input 12 Trueup Sett'!Z10","v":139249.34874971764},{"$f":"'I25 Input Rev 12 Init'!C11","v":-122133.21},54974.356761697287]
[null,"RPPULOMID",null,null,null,null,null,null,null,null,null,null,null,null,null,null,null,null,null,null,null,null,{"$f":"'I22 Input 11 Trueup Sett'!Z11","v":10.546748108797154},null,{"$f":"'I24 Input 12 Trueup Sett'!Z11","v":42.294214390081706},null,52.840962498878859]
[null,"RPPULOOFF",null,null,null,null,null,null,null,null,null,null,null,null,null,null,null,null,null,null,null,null,{"$f":"'I22 Input 11 Trueup Sett'!Z12","v":-4.8038788612464423},null,{"$f":"'I24 Input 12 Trueup Sett'!Z12","v":-38.060537554730644},null,-42.86441641597709]
[null,"RPPULOON",null,null,null,null,null,null,null,null,null,null,null,null,null,null,null,null,null,null,null,null,{"$f":"'I22 Input 11 Trueup Sett'!Z13","v":52.424024285952228},null,{"$f":"'I24 Input 12 Trueup Sett'!Z13","v":260.67978580186332},null,313.10381008781553]
[null,"RPPULOOVN",null,null,null,null,null,null,null,null,null,null,null,null,null,null,null,null,null,null,null,null,{"$f":"-'I22 Input 11 Trueup Sett'!Z14","v":45.435657485864418},null,{"$f":"-'I24 Input 12 Trueup Sett'!Z14","v":56.308698469968888},null,101.7443559558333]
[null,"Total RPP For Settlement",{"$f":"SUM(C6:C14)","v":41306.38058234466},{"$f":"SUM(D6:D14)","v":5131.0599999999831},-146771.38953436314,-31248.380000000005,-119509.280290297,99803.10000000002,-245246.67570670246,123316.11999999997,-197422.11776122369,234200.37,-166124.78103692087,187350.39,35183.462147840051,162513.79999999999,-102079.61378391267,-3669.1199999999808,-33725.887577040383,94247.969999999987,-171067.23042708531,11011.89,108033.70787958534,162905.98000000001,126295.34208917923,-54941.7,119493.39658140372]
[null,null,null,{"$f":"C15+D15","v":46437.440582344643},null,{"$f":"E15+F15","v":-178019.76953436315},null,{"$f":"G15+H15","v":-19706.180290296979},null,{"$f":"I15+J15","v":-121930.55570670249},null,{"$f":"K15+L15","v":36778.252238776302},null,{"$f":"M15+N15","v":21225.608963079139},null,{"$f":"O15+P15","v":197697.26214784005},null,{"$f":"Q15+R15","v":-105748.73378391266},null,{"$f":"S15+T15","v":60522.082422959604},null,{"$f":"U15+V15","v":-160055.34042708529},null,{"$f":"W15+X15","v":270939.68787958537},null,{"$f":"Y15+Z15","v":71353.642089179237}]
[]
[null,"Total RPP kWh For Settlement Reported"]
[null,"Tier 1",{"$f":"'I2 Input 01 Trueup Sett '!V6","v":1016180.9588796248},{"$f":"-'I3 Input Rev 01 Init'!B7","v":-977017.48},{"$f":"'I4 Input 02 Trueup Sett'!V6","v":908287.09995743516},{"$f":"-'I5 Input Rev 02 Init'!B7","v":-1006526.98},{"$f":"'I6 Input 03 Trueup Sett'!V6","v":945383.79524908168},{"$f":"-'I7 Input Rev 03 Init'!B7","v":-956949.9},{"$f":"'I8 Input 04 Trueup Sett'!V6","v":816187.08698854025},{"$f":"-'I9 Input Rev 04 Init'!B7","v":-936580.82},{"$f":"'I10 Input 05 Trueup Sett'!V6","v":741995.95422344084},{"$f":"-'I11 Input Rev 05 Init'!B7","v":-847946.98},{"$f":"'I12 Input 06 Trueup Sett'!V6","v":712815.03443052142},{"$f":"-'I13 Input Rev 06 Init'!B7","v":-705141.28},{"$f":"'I14 Input 07 Trueup Sett'!V6","v":802462.88754466677},{"$f":"-'I15 Input Rev 07 Init'!B7","v":-689479.08},{"$f":"'I16 Input 08 Trueup Sett'!V6","v":749915.8191740883},{"$f":"-'I17 Input Rev 08 Init'!B7","v":-784759.13},{"$f":"'I18 Input 09 Trueup Sett'!V6","v":703425.96530810697},{"$f":"-'I19 Input Rev 09 Init'!B7","v":-740938.81},{"$f":"'I20 Input 10 Trueup Sett'!V6","v":730597.58918568504},{"$f":"-'I21 Input Rev 10 Init'!B7","v":-703730.44},{"$f":"'I22 Input 11 Trueup Sett'!V6","v":906614.35627651564},{"$f":"-'I23 Input Rev 11 Init'!B7","v":-722860.55},{"$f":"'I24 Input 12 Trueup Sett'!V6","v":977888.57094797224},{"$f":"-'I25 Input Rev 12 Init'!B7","v":-885891.74},{"$f":"SUM(C19:Z19)","v":53931.928165679215}]
[null,"Tier 2",{"$f":"'I2 Input 01 Trueup Sett '!V7","v":332385.98114771902},{"$f":"-'I3 Input Rev 01 Init'!B8","v":-298377.86},{"$f":"'I4 Input 02 Trueup Sett'!V7","v":330101.02425787109},{"$f":"-'I5 Input Rev 02 Init'!B8","v":-318299.44},{"$f":"'I6 Input 03 Trueup Sett'!V7","v":294872.71915303613},{"$f":"-'I7 Input Rev 03 Init'!B8","v":-329868.37},{"$f":"'I8 Input 04 Trueup Sett'!V7","v":136657.81682674232},{"$f":"-'I9 Input Rev 04 Init'!B8","v":-306275.99},{"$f":"'I10 Input 05 Trueup Sett'!V7","v":184893.32538078254},{"$f":"-'I11 Input Rev 05 Init'!B8","v":-147768.75},{"$f":"'I12 Input 06 Trueup Sett'!V7","v":203180.63849445715},{"$f":"-'I13 Input Rev 06 Init'!B8","v":-178715.42},{"$f":"'I14 Input 07 Trueup Sett'!V7","v":305745.75011957157},{"$f":"-'I15 Input Rev 07 Init'!B8","v":-190983.03},{"$f":"'I16 Input 08 Trueup Sett'!V7","v":219481.52861892071},{"$f":"-'I17 Input Rev 08 Init'!B8","v":-284152.27},{"$f":"'I18 Input 09 Trueup Sett'!V7","v":185146.73924659073},{"$f":"-'I19 Input Rev 09 Init'!B8","v":-218681.73},{"$f":"'I20 Input 10 Trueup Sett'!V7","v":252268.00380678038},{"$f":"-'I21 Input Rev 10 Init'!B8","v":-183973.45},{"$f":"'I22 Input 11 Trueup Sett'!V7","v":233078.36048929431},{"$f":"-'I23 Input Rev 11 Init'!B8","v":-233965.32},{"$f":"'I24 Input 12 Trueup Sett'!V7","v":282113.0705371786},{"$f":"-'I25 Input Rev 12 Init'!B8","v":-238515.77},{"$f":"SUM(C20:Z20)","v":30347.558078944538}]
[null,"TOU Off-peak",{"$f":"'I2 Input 01 Trueup Sett '!V8","v":1829083.0392382194},{"$f":"-'I3 Input Rev 01 Init'!B9","v":-1653542.88},{"$f":"'I4 Input 02 Trueup Sett'!V8","v":1668975.3391203459},{"$f":"-'I5 Input Rev 02 Init'!B9","v":-1769390.18},{"$f":"'I6 Input 03 Trueup Sett'!V8","v":1837999.4536137818},{"$f":"-'I7 Input Rev 03 Init'!B9","v":-1817996.2},{"$f":"'I8 Input 04 Trueup Sett'!V8","v":1340368.8433763003},{"$f":"-'I9 Input Rev 04 Init'!B9","v":-1819262.11},{"$f":"'I10 Input 05 Trueup Sett'!V8","v":1417053.3971002861},{"$f":"-'I11 Input Rev 05 Init'!B9","v":-1354869.67},{"$f":"'I12 Input 06 Trueup Sett'!V8","v":1571674.6946366413},{"$f":"-'I13 Input Rev 06 Init'!B9","v":-1396921.81},{"$f":"'I14 Input 07 Trueup Sett'!V8","v":1790289.8376309203},{"$f":"-'I15 Input Rev 07 Init'!B9","v":-1484907.75},{"$f":"'I16 Input 08 Trueup Sett'!V8","v":1718999.8039889142},{"$f":"-'I17 Input Rev 08 Init'!B9","v":-1704511.01},{"$f":"'I18 Input 09 Trueup Sett'!V8","v":1454625.6186705888},{"$f":"-'I19 Input Rev 09 Init'!B9","v":-1688552.63},{"$f":"'I20 Input 10 Trueup Sett'!V8","v":1438671.7845924082},{"$f":"-'I21 Input Rev 10 Init'!B9","v":-1476119.17},{"$f":"'I22 Input 11 Trueup Sett'!V8","v":1692925.1820153838},{"$f":"-'I23 Input Rev 11 Init'!B9","v":-1413513.21},{"$f":"'I24 Input 12 Trueup Sett'!V8","v":1622741.0299283112},{"$f":"-'I25 Input Rev 12 Init'!B9","v":-1639045.04},164776.36391210184]
[null,"TOU Mid-peak",{"$f":"'I2 Input 01 Trueup Sett '!V9","v":6576470.1201750915},{"$f":"-'I3 Input Rev 01 Init'!B10","v":-5964539.4100000001},{"$f":"'I4 Input 02 Trueup Sett'!V9","v":5912763.4076278657},{"$f":"-'I5 Input Rev 02 Init'!B10","v":-6646244.1699999999},{"$f":"'I6 Input 03 Trueup Sett'!V9","v":5804260.6000057096},{"$f":"-'I7 Input Rev 03 Init'!B10","v":-6327729.6799999997},{"$f":"'I8 Input 04 Trueup Sett'!V9","v":5101160.122182426},{"$f":"-'I9 Input Rev 04 Init'!B10","v":-5732473.5099999998},{"$f":"'I10 Input 05 Trueup Sett'!V9","v":4457672.8452853914},{"$f":"-'I11 Input Rev 05 Init'!B10","v":-5190583.26},{"$f":"'I12 Input 06 Trueup Sett'!V9","v":4767849.4918844057},{"$f":"-'I13 Input Rev 06 Init'!B10","v":-4338453.2699999996},{"$f":"'I14 Input 07 Trueup Sett'!V9","v":6098314.1568656787},{"$f":"-'I15 Input Rev 07 Init'!B10","v":-4517335.78},{"$f":"'I16 Input 08 Trueup Sett'!V9","v":5301707.8086502021},{"$f":"-'I17 Input Rev 08 Init'!B10","v":-5883687.9299999997},{"$f":"'I18 Input 09 Trueup Sett'!V9","v":4944420.0244424772},{"$f":"-'I19 Input Rev 09 Init'!B10","v":-5181065.2300000004},{"$f":"'I20 Input 10 Trueup Sett'!V9","v":4747501.053011097},{"$f":"-'I21 Input Rev 10 Init'!B10","v":-4931190.21},{"$f":"'I22 Input 11 Trueup Sett'!V9","v":5144253.091904656},{"$f":"-'I23 Input Rev 11 Init'!B10","v":-4700841.07},{"$f":"'I24 Input 12 Trueup Sett'!V9","v":6401150.2784965197},{"$f":"-'I25 Input Rev 12 Init'!B10","v":-4992811.1100000003},850568.37053152081]
[null,"TOU On-peak",{"$f":"'I2 Input 01 Trueup Sett '!V10","v":1887271.0681212293},{"$f":"-'I3 Input Rev 01 Init'!B11","v":-1735082.54},{"$f":"'I4 Input 02 Trueup Sett'!V10","v":1735642.0221487316},{"$f":"-'I5 Input Rev 02 Init'!B11","v":-1823318.22},{"$f":"'I6 Input 03 Trueup Sett'!V10","v":1894409.7592733956},{"$f":"-'I7 Input Rev 03 Init'!B11","v":-1877575.38},{"$f":"'I8 Input 04 Trueup Sett'!V10","v":1368502.7576278248},{"$f":"-'I9 Input Rev 04 Init'!B11","v":-1873530.66},{"$f":"'I10 Input 05 Trueup Sett'!V10","v":1408256.0314889867},{"$f":"-'I11 Input Rev 05 Init'!B11","v":-1397416.4},{"$f":"'I12 Input 06 Trueup Sett'!V10","v":1684077.923955668},{"$f":"-'I13 Input Rev 06 Init'!B11","v":-1396815.42},{"$f":"'I14 Input 07 Trueup Sett'!V10","v":2012515.9432085832},{"$f":"-'I15 Input Rev 07 Init'!B11","v":-1587040.34},{"$f":"'I16 Input 08 Trueup Sett'!V10","v":1885268.6250211261},{"$f":"-'I17 Input Rev 08 Init'!B11","v":-1898516.04},{"$f":"'I18 Input 09 Trueup Sett'!V10","v":1541889.9806100486},{"$f":"-'I19 Input Rev 09 Init'!B11","v":-1861109.95},{"$f":"'I20 Input 10 Trueup Sett'!V10","v":1435422.9269848557},{"$f":"-'I21 Input Rev 10 Init'!B11","v":-1577384.03},{"$f":"'I22 Input 11 Trueup Sett'!V10","v":1753036.8880845453},{"$f":"-'I23 Input Rev 11 Init'!B11","v":-1425579.8},{"$f":"'I24 Input 12 Trueup Sett'!V10","v":1646015.7139495476},{"$f":"-'I25 Input Rev 12 Init'!B11","v":-1656873.6},142067.26047454285]
[null,null,null,null,null,null,null,null,null,null,null,null,null,null,null,null,null,null,null,null,null,null,{"$f":"'I22 Input 11 Trueup Sett'!V11","v":514.43686050320332},null,{"$f":"'I24 Input 12 Trueup Sett'!V11","v":1718.2703585006614},null,2232.7072190038648]
[null,null,null,null,null,null,null,null,null,null,null,null,null,null,null,null,null,null,null,null,null,null,{"$f":"'I22 Input 11 Trueup Sett'!V12","v":331.49602687458622},null,{"$f":"'I24 Input 12 Trueup Sett'!V12","v":3662.8110529625073},null,3994.3070798370936]
[null,null,null,null,null,null,null,null,null,null,null,null,null,null,null,null,null,null,null,null,null,null,{"$f":"'I22 Input 11 Trueup Sett'!V13","v":284.12207857932617},null,{"$f":"'I24 Input 12 Trueup Sett'!V13","v":1382.1691176417994},null,1666.2911962211256]
[null,null,null,null,null,null,null,null,null,null,null,null,null,null,null,null,null,null,null,null,null,null,{"$f":"'I22 Input 11 Trueup Sett'!V14","v":618.21170378928355},null,{"$f":"'I24 Input 12 Trueup Sett'!V14","v":811.48329106387951},null,1429.6949948531631]
[null,"Total RPP For Settlement",{"$f":"SUM(C19:C27)","v":11641391.167561885},-10628560.169999998,10555768.89311225,-11563778.99,10776926.327295005,-11310119.529999997,8762876.6270018332,-10668123.09,8209871.5534788873,-8938585.0600000005,8939597.7834016941,-8016047.1999999993,11009328.575369421,-8469745.9800000004,9875373.5854532514,-10555626.379999999,8829508.3282778133,-9690348.3499999996,8604461.3575808257,-8872397.2999999989,{"$f":"SUM(W19:W27)","v":9731656.1454401426},{"$f":"SUM(X19:X27)","v":-8496759.9500000011},{"$f":"SUM(Y19:Y27)","v":10937483.3976797},{"$f":"SUM(Z19:Z27)","v":-9413137.2599999998},{"$f":"SUM(AA19:AA27)","v":1251014.4816527045}]
[null,null,null,{"$f":"C28+D28","v":1012830.9975618869},null,{"$f":"E28+F28","v":-1008010.0968877506},null,{"$f":"G28+H28","v":-533193.20270499215},null,{"$f":"I28+J28","v":-1905246.4629981667},null,{"$f":"K28+L28","v":-728713.50652111322},null,{"$f":"M28+N28","v":923550.58340169489},null,{"$f":"O28+P28","v":2539582.5953694209},null,{"$f":"Q28+R28","v":-680252.79454674758},null,{"$f":"S28+T28","v":-860840.02172218636},null,{"$f":"U28+V28","v":-267935.9424191732},null,{"$f":"W28+X28","v":1234896.1954401415},null,{"$f":"Y28+Z28","v":1524346.1376796998}]

{"sheet":"I1a ER Summary","index":2,"n_rows":37,"n_cols":54,"rows_kept":37,"cut":false,"hidden":false,"merged":[]}
[]
[]
[null,null,null,null,null,null,null,null,null,null,null,null,null,null,null,null,null,null,null,null,null,null,null,null,null,null,null,null,null,null,null,null,null,null,null,null,null,null,null,null,null,null,null,"MAB"]
[null,"kWh Volumes","$  RPP Revenue","$  RPP Energy","$  GA","$  RPP Settlement","Rev RPP Settlement","Net RPP Sett",null,"IESO Energy kWh","IESO Energy Cost","FIT/mFIT kWh","FIT/mFIT kWh","Total Energy kWh","Total  Energy Cost",null,"CT 148",null,"Wholesale kWh","Retail kWh","Diff kWh","Diff %",null,"RPP kWh","COP kWh","Diff kWh","Diff %",null,"RPP/WHSL",null,"Energy Purchases","Energy Revenue","RPP Revenue","Non RPP Revenue",null,"RPP kWh","Non RPP kWh","Total kWh",null,"Class A kWh",null,"Non RPP Class B",null,"Class B","Diff",null,null,null,null,null,null,"IESO Billed GA ","IESO Posted GA","Diff"]
[{"$f":"Admin!B8","v":202301},{"$f":"'I2 Input 01 Trueup Sett '!V15","v":11641391.167561885},{"$f":"'I2 Input 01 Trueup Sett '!W15","v":1080819.5340943947},{"$f":"'I2 Input 01 Trueup Sett '!X15","v":413566.39657085639},{"$f":"'I2 Input 01 Trueup Sett '!Y15","v":625946.75694119371},{"$f":"'I2 Input 01 Trueup Sett '!Z15","v":41306.38058234466},{"$f":"'I3 Input Rev 01 Init'!C12","v":5131.0599999999831},{"$f":"F5+G5","v":46437.440582344643},null,{"$f":"'I2 Input 01 Trueup Sett '!C10","v":23466312.809999999},{"$f":"'I2 Input 01 Trueup Sett '!D10","v":801678.9},{"$f":"N5-J5","v":109117.80000000075},{"$f":"O5-K5","v":4162.0300000000279},{"$f":"'I2 Input 01 Trueup Sett '!C11","v":23575430.609999999},{"$f":"'I2 Input 01 Trueup Sett '!D11","v":805840.93},null,{"$f":"'I2 Input 01 Trueup Sett '!B65","v":985623.84},null,{"$f":"'I2 Input 01 Trueup Sett '!$C$11","v":23575430.609999999},{"$f":"'I2 Input 01 Trueup Sett '!$C$30","v":23119725.746061046},{"$f":"S5-T5","v":455704.86393895373},{"$f":"T5/S5-1","v":-1.9329651766600509E-2},null,{"$f":"SUM('I2 Input 01 Trueup Sett '!C20:C25)","v":11351983.61659912},{"$f":"'I2 Input 01 Trueup Sett '!C41","v":11360242.444390299},{"$f":"X5-Y5","v":-8258.827791178599},{"$f":"Y5/X5-1","v":7.2752287794908277E-4},null,{"$f":"X5/S5","v":0.48151755123335671},null,{"$f":"'I2 Input 01 Trueup Sett '!D11","v":805840.93},{"$f":"'I2 Input 01 Trueup Sett '!D30","v":1455123.0956598523},{"$f":"C5","v":1080819.5340943947},{"$f":"AF5-AG5","v":374303.56156545761},null,{"$f":"X5","v":11351983.61659912},{"$f":"T5-X5","v":11767742.129461925},{"$f":"SUM(AJ5:AK5)","v":23119725.746061046},null,{"$f":"'I2 Input 01 Trueup Sett '!B57","v":5244745.87},null,{"$f":"AK5-AN5","v":6522996.2594619254},null,6767375.5799151082,{"$f":"AP5-AR5","v":-244379.32045318279},null,{"$f":"X5","v":11351983.61659912},{"$f":"'I2 Input 01 Trueup Sett '!V15","v":11641391.167561885},{"$f":"AV5/AU5-1","v":2.549400710370886E-2},null,null,{"$f":"'I2 Input 01 Trueup Sett '!$L$33","v":5.3769068312502111E-2},{"$f":"'Rev3 GA Analysis '!AU16","v":0},{"$f":"BA5-AZ5","v":-5.3769068312502111E-2}]
[{"$f":"A5+1","v":202302},{"$f":"'I4 Input 02 Trueup Sett'!V15","v":10555768.89311225},{"$f":"'I4 Input 02 Trueup Sett'!W15","v":982847.39118601067},{"$f":"'I4 Input 02 Trueup Sett'!X15","v":258892.3147109019},{"$f":"'I4 Input 02 Trueup Sett'!Y15","v":870726.46600947203},{"$f":"'I4 Input 02 Trueup Sett'!Z15","v":-146771.38953436314},{"$f":"'I5 Input Rev 02 Init'!C12","v":-31248.380000000005},{"$f":"F6+G6","v":-178019.76953436315},null,{"$f":"'I4 Input 02 Trueup Sett'!C10","v":21427804.600000001},{"$f":"'I4 Input 02 Trueup Sett'!D10","v":504134.75},{"$f":"N6-J6","v":261979.01000000164},{"$f":"O6-K6","v":5033.8099999999977},{"$f":"'I4 Input 02 Trueup Sett'!C11","v":21689783.610000003},{"$f":"'I4 Input 02 Trueup Sett'!D11","v":509168.56},null,{"$f":"'I4 Input 02 Trueup Sett'!B77","v":1387229.02},null,{"$f":"'I4 Input 02 Trueup Sett'!C11","v":21689783.610000003},{"$f":"'I4 Input 02 Trueup Sett'!C30","v":21508237.736265436},{"$f":"S6-T6","v":181545.87373456731},{"$f":"T6/S6-1","v":-8.3701099558626257E-3},null,{"$f":"SUM('I4 Input 02 Trueup Sett'!C20:C25)","v":10441817.415182889},{"$f":"'I4 Input 02 Trueup Sett'!C44","v":10497944.856457412},{"$f":"X6-Y6","v":-56127.441274523735},{"$f":"Y6/X6-1","v":5.3752559581161652E-3},null,{"$f":"X6/S6","v":0.48141639413906939},null,{"$f":"'I4 Input 02 Trueup Sett'!D11","v":509168.56},{"$f":"'I4 Input 02 Trueup Sett'!D30","v":1227563.0778740898},982847.39118601067,{"$f":"AF6-AG6","v":244715.68668807915},null,{"$f":"X6","v":10441817.415182889},{"$f":"T6-X6","v":11066420.321082547},{"$f":"SUM(AJ6:AK6)","v":21508237.736265436},null,{"$f":"'I4 Input 02 Trueup Sett'!B64","v":4872482.76},null,{"$f":"AK6-AN6","v":6193937.5610825475},null,6189526.0042287195,4411.5568538280204,null,{"$f":"X6","v":10441817.415182889},{"$f":"'I4 Input 02 Trueup Sett'!V15","v":10555768.89311225},{"$f":"AV6/AU6-1","v":1.09129927673004E-2},null,null,{"$f":"'I4 Input 02 Trueup Sett'!L33","v":8.2488208564099025E-2},{"$f":"'Rev3 GA Analysis '!AU17","v":0},{"$f":"BA6-AZ6","v":-8.2488208564099025E-2}]
[{"$f":"A6+1","v":202303},{"$f":"'I6 Input 03 Trueup Sett'!V15","v":10776926.327295005},{"$f":"'I6 Input 03 Trueup Sett'!W15","v":1015583.6062452648},{"$f":"'I6 Input 03 Trueup Sett'!X15","v":269702.02022267017},{"$f":"'I6 Input 03 Trueup Sett'!Y15","v":865390.86631289148},{"$f":"'I6 Input 03 Trueup Sett'!Z15","v":-119509.280290297},{"$f":"'I7 Input Rev 03 Init'!C12","v":99803.10000000002},{"$f":"F7+G7","v":-19706.180290296979},null,{"$f":"'I6 Input 03 Trueup Sett'!C10","v":22623431.120000001},{"$f":"'I6 Input 03 Trueup Sett'!D10","v":569802.92000000004},448568.37999999896,9659.6999999999534,{"$f":"'I6 Input 03 Trueup Sett'!C11","v":23071999.5},{"$f":"'I6 Input 03 Trueup Sett'!D11","v":579462.62},null,{"$f":"'I6 Input 03 Trueup Sett'!B76","v":1418540.9},null,{"$f":"'I6 Input 03 Trueup Sett'!C11","v":23071999.5},{"$f":"'I6 Input 03 Trueup Sett'!C30","v":22855660.615062792},216338.88493720815,-9.3766855766969082E-3,null,{"$f":"SUM('I6 Input 03 Trueup Sett'!C20:C25)","v":10644947.266942941},{"$f":"'I6 Input 03 Trueup Sett'!C44","v":10822267.451833509},-177320.18489056826,1.6657685608384654E-2,null,0.46137948585439859,null,{"$f":"'I6 Input 03 Trueup Sett'!D11","v":579462.62},{"$f":"'I6 Input 03 Trueup Sett'!D30","v":1308449.49828543},1015583.6062452648,292865.89204016526,null,10644947.266942941,12210713.348119851,22855660.615062792,null,{"$f":"'I6 Input 03 Trueup Sett'!B64","v":5406559.0999999996},null,6804154.2481198516,null,6799764.8329483476,4389.4151715040207,null,10644947.266942941,{"$f":"'I6 Input 03 Trueup Sett'!V15","v":10776926.327295005},{"$f":"AV7/AU7-1","v":1.2398282212436662E-2},null,null,{"$f":"'I6 Input 03 Trueup Sett'!L33","v":8.0300341677301185E-2},{"$f":"'Rev3 GA Analysis '!AU18","v":0},-8.0300341677301185E-2]
[202304,{"$f":"'I8 Input 04 Trueup Sett'!V15","v":8762876.6270018332},{"$f":"'I8 Input 04 Trueup Sett'!W15","v":805829.88057246991},{"$f":"'I8 Input 04 Trueup Sett'!X15","v":187959.26921938692},{"$f":"'I8 Input 04 Trueup Sett'!Y15","v":863117.28705978533},{"$f":"'I8 Input 04 Trueup Sett'!Z15","v":-245246.67570670246},{"$f":"'I9 Input Rev 04 Init'!C12","v":123316.11999999997},-121930.55570670249,null,{"$f":"'I8 Input 04 Trueup Sett'!C10","v":18860183.949999999},{"$f":"'I8 Input 04 Trueup Sett'!D10","v":396944.77},752413.01999999955,15965.659999999974,{"$f":"'I8 Input 04 Trueup Sett'!C11","v":19612596.969999999},{"$f":"'I8 Input 04 Trueup Sett'!D11","v":412910.43},null,{"$f":"'I8 Input 04 Trueup Sett'!B76","v":1447252.99},null,{"$f":"'I8 Input 04 Trueup Sett'!C11","v":19612596.969999999},{"$f":"'I8 Input 04 Trueup Sett'!C30","v":19445476.317477923},167120.65252207592,-8.5210873795912301E-3,null,{"$f":"SUM('I8 Input 04 Trueup Sett'!C20:C25)","v":8663208.6869711727},{"$f":"'I8 Input 04 Trueup Sett'!C44","v":8797530.8601572458},-134322.17318607308,1.5504898708960324E-2,null,0.44171655085875011,null,{"$f":"'I8 Input 04 Trueup Sett'!D11","v":412910.43},{"$f":"'I8 Input 04 Trueup Sett'!D30","v":1020864.466838042},805829.88057246991,215034.58626557211,null,8663208.6869711727,10782267.63050675,19445476.317477923,null,{"$f":"'I8 Input 04 Trueup Sett'!B64","v":4919229.58},null,5863038.0505067501,null,5858197.4051739937,4840.6453327564523,null,8663208.6869711727,{"$f":"'I8 Input 04 Trueup Sett'!V15","v":8762876.6270018332},{"$f":"AV8/AU8-1","v":1.1504737289839806E-2},null,null,{"$f":"'I8 Input 04 Trueup Sett'!L33","v":9.849702601086327E-2},{"$f":"'Rev3 GA Analysis '!AU19","v":0},-9.849702601086327E-2]
[202305,{"$f":"'I10 Input 05 Trueup Sett'!V15","v":8209871.5534788873},{"$f":"'I10 Input 05 Trueup Sett'!W15","v":770490.86340857833},{"$f":"'I10 Input 05 Trueup Sett'!X15","v":147352.25408545998},{"$f":"'I10 Input 05 Trueup Sett'!Y15","v":820560.72708434204},{"$f":"'I10 Input 05 Trueup Sett'!Z15","v":-197422.11776122369},{"$f":"'I11 Input Rev 05 Init'!C12","v":234200.37},36778.252238776302,null,{"$f":"'I10 Input 05 Trueup Sett'!C10","v":18443214.079999998},{"$f":"'I10 Input 05 Trueup Sett'!D10","v":322522.32},986794.69000000134,18286.429999999993,{"$f":"'I10 Input 05 Trueup Sett'!C11","v":19430008.77},{"$f":"'I10 Input 05 Trueup Sett'!D11","v":340808.75},null,{"$f":"'I10 Input 05 Trueup Sett'!B76","v":1424300.1},null,{"$f":"'I10 Input 05 Trueup Sett'!C11","v":19430008.77},{"$f":"'I10 Input 05 Trueup Sett'!C30","v":19363944.73243618},66064.037563819438,-3.4001033322137442E-3,null,{"$f":"SUM('I10 Input 05 Trueup Sett'!C20:C25)","v":8171811.0670003053},{"$f":"'I10 Input 05 Trueup Sett'!C44","v":8175995.6175092338},-4184.5505089284852,5.1207137250486312E-4,null,0.42057680795376734,null,{"$f":"'I10 Input 05 Trueup Sett'!D11","v":340808.75},{"$f":"'I10 Input 05 Trueup Sett'!D30","v":963014.63203290896},770490.86340857833,192523.76862433064,null,8171811.0670003053,11192133.665435875,19363944.73243618,null,{"$f":"'I10 Input 05 Trueup Sett'!B64","v":5179605.9800000004},null,6012527.6854358744,null,6011806.2876462759,721.39778959844261,null,8171811.0670003053,{"$f":"'I10 Input 05 Trueup Sett'!V15","v":8209871.5534788873},4.6575338277556888E-3,null,null,{"$f":"'I10 Input 05 Trueup Sett'!L33","v":9.9948059082195256E-2},{"$f":"'Rev3 GA Analysis '!AU20","v":0},-9.9948059082195256E-2]
[202306,{"$f":"'I12 Input 06 Trueup Sett'!V15","v":8939597.7834016941},{"$f":"'I12 Input 06 Trueup Sett'!W15","v":850258.79563378985},{"$f":"'I12 Input 06 Trueup Sett'!X15","v":277817.0711547308},{"$f":"'I12 Input 06 Trueup Sett'!Y15","v":738566.50551597984},{"$f":"'I12 Input 06 Trueup Sett'!Z15","v":-166124.78103692087},{"$f":"'I13 Input Rev 06 Init'!C12","v":187350.39},21225.608963079139,null,{"$f":"'I12 Input 06 Trueup Sett'!C10","v":19093937.100000001},{"$f":"'I12 Input 06 Trueup Sett'!D10","v":580068.36},784522.08999999985,26149.319999999949,{"$f":"'I12 Input 06 Trueup Sett'!C11","v":19878459.190000001},{"$f":"'I12 Input 06 Trueup Sett'!D11","v":606217.67999999993},null,{"$f":"'I12 Input 06 Trueup Sett'!B76","v":1252078.52},null,{"$f":"'I12 Input 06 Trueup Sett'!C11","v":19878459.190000001},{"$f":"'I12 Input 06 Trueup Sett'!C30","v":19703817.198206417},174641.99179358408,-8.7854893643587451E-3,null,{"$f":"SUM('I12 Input 06 Trueup Sett'!C20:C25)","v":8836581.3003816511},{"$f":"'I12 Input 06 Trueup Sett'!C44","v":8856425.7925887592},-19844.492207108065,2.2457205487660392E-3,null,0.44453049483970847,null,{"$f":"'I12 Input 06 Trueup Sett'!D11","v":606217.67999999993},{"$f":"'I12 Input 06 Trueup Sett'!D30","v":1166550.9574269911},850258.79563378985,316292.16179320123,null,8836581.3003816511,10867235.897824766,19703817.198206417,null,{"$f":"'I12 Input 06 Trueup Sett'!B64","v":4723319.7699999996},null,6143916.1278247666,null,6143319.8729711082,596.25485365837812,null,8836581.3003816511,{"$f":"'I12 Input 06 Trueup Sett'!V15","v":8939597.7834016941},1.1657956795530611E-2,null,null,{"$f":"'I12 Input 06 Trueup Sett'!L33","v":8.2617420091012264E-2},{"$f":"'Rev3 GA Analysis '!AU21","v":0},-8.2617420091012264E-2]
[202307,{"$f":"'I14 Input 07 Trueup Sett'!V15","v":11009328.575369421},{"$f":"'I14 Input 07 Trueup Sett'!W15","v":1038979.9191621449},{"$f":"'I14 Input 07 Trueup Sett'!X15","v":452314.0748099584},{"$f":"'I14 Input 07 Trueup Sett'!Y15","v":551482.38220434636},{"$f":"'I14 Input 07 Trueup Sett'!Z15","v":35183.462147840051},{"$f":"'I15 Input Rev 07 Init'!C12","v":162513.79999999999},197697.26214784005,null,{"$f":"'I14 Input 07 Trueup Sett'!C10","v":20874316.190000001},{"$f":"'I14 Input 07 Trueup Sett'!D10","v":850093.66},863913.48999999836,37464.829999999958,{"$f":"'I14 Input 07 Trueup Sett'!C11","v":21738229.68},{"$f":"'I14 Input 07 Trueup Sett'!D11","v":887558.49},null,{"$f":"'I14 Input 07 Trueup Sett'!B76","v":889244.76},null,{"$f":"'I14 Input 07 Trueup Sett'!C11","v":21738229.68},{"$f":"'I14 Input 07 Trueup Sett'!C30","v":21432508.474970303},305721.20502969623,-1.4063758159247541E-2,null,{"$f":"SUM('I14 Input 07 Trueup Sett'!C20:C25)","v":10819729.641505407},{"$f":"'I14 Input 07 Trueup Sett'!C44","v":10828810.213629439},-9080.5721240323037,8.3926053837779513E-4,null,0.49772818673730229,null,{"$f":"'I14 Input 07 Trueup Sett'!D11","v":887558.49},{"$f":"'I14 Input 07 Trueup Sett'!D30","v":1447190.6443439543},1038979.9191621449,408210.72518180939,null,10819729.641505407,10612778.833464896,21432508.474970303,null,{"$f":"'I14 Input 07 Trueup Sett'!B64","v":3986098.22},null,6626680.6134648956,null,6626084.5274286671,596.08603622857481,null,10819729.641505407,{"$f":"'I14 Input 07 Trueup Sett'!V15","v":11009328.575369421},1.7523444683561928E-2,null,null,{"$f":"'I14 Input 07 Trueup Sett'!L33","v":5.0092281144024378E-2},{"$f":"'Rev3 GA Analysis '!AU22","v":0},-5.0092281144024378E-2]
[202308,{"$f":"'I16 Input 08 Trueup Sett'!V15","v":9875373.5854532514},{"$f":"'I16 Input 08 Trueup Sett'!W15","v":940128.33673194004},{"$f":"'I16 Input 08 Trueup Sett'!X15","v":314150.55898888019},{"$f":"'I16 Input 08 Trueup Sett'!Y15","v":728057.39152697241},{"$f":"'I16 Input 08 Trueup Sett'!Z15","v":-102079.61378391267},{"$f":"'I17 Input Rev 08 Init'!C12","v":-3669.1199999999808},-105748.73378391266,null,{"$f":"'I16 Input 08 Trueup Sett'!C10","v":19944761.829999998},{"$f":"'I16 Input 08 Trueup Sett'!D10","v":625707.61},770241.5,26177.969999999972,{"$f":"'I16 Input 08 Trueup Sett'!C11","v":20715003.329999998},{"$f":"'I16 Input 08 Trueup Sett'!D11","v":651885.57999999996},null,{"$f":"'I16 Input 08 Trueup Sett'!B76","v":1212483.0900000001},null,{"$f":"'I16 Input 08 Trueup Sett'!C11","v":20715003.329999998},{"$f":"'I16 Input 08 Trueup Sett'!C30","v":20478368.424718417},236634.90528158098,-1.1423358302765974E-2,null,{"$f":"SUM('I16 Input 08 Trueup Sett'!C20:C25)","v":9733281.8785218671},{"$f":"'I16 Input 08 Trueup Sett'!C44","v":12905684.849787647},-3172402.9712657798,0.3259335351487378,null,0.46986629562476967,null,{"$f":"'I16 Input 08 Trueup Sett'!D11","v":651885.57999999996},{"$f":"'I16 Input 08 Trueup Sett'!D30","v":1260518.1112793339},940128.33673194004,320389.7745473939,null,9733281.8785218671,10745086.54619655,20478368.424718417,null,{"$f":"'I16 Input 08 Trueup Sett'!B64","v":4268877.49},null,6476209.0561965499,null,6475612.9799999995,596.07619655039161,null,9733281.8785218671,{"$f":"'I16 Input 08 Trueup Sett'!V15","v":9875373.5854532514},1.4598540215395861E-2,null,null,{"$f":"'I16 Input 08 Trueup Sett'!L33","v":7.3724541682091388E-2},{"$f":"'Rev3 GA Analysis '!AU23","v":0},-7.3724541682091388E-2]
[202309,{"$f":"'I18 Input 09 Trueup Sett'!V15","v":8829508.3282778133},{"$f":"'I18 Input 09 Trueup Sett'!W15","v":827291.76655264362},{"$f":"'I18 Input 09 Trueup Sett'!X15","v":366710.2273077289},{"$f":"'I18 Input 09 Trueup Sett'!Y15","v":494307.42682195513},{"$f":"'I18 Input 09 Trueup Sett'!Z15","v":-33725.887577040383},{"$f":"'I19 Input Rev 09 Init'!C12","v":94247.969999999987},60522.082422959604,null,{"$f":"'I18 Input 09 Trueup Sett'!C10","v":18297579.239999998},{"$f":"'I18 Input 09 Trueup Sett'!D10","v":733006.83},741934.17000000179,31189.949999999953,{"$f":"'I18 Input 09 Trueup Sett'!C11","v":19039513.41},{"$f":"'I18 Input 09 Trueup Sett'!D11","v":764196.77999999991},null,{"$f":"'I18 Input 09 Trueup Sett'!B76","v":846173.17},null,{"$f":"'I18 Input 09 Trueup Sett'!C11","v":19039513.41},{"$f":"'I18 Input 09 Trueup Sett'!C30","v":18842351.657776579},197161.75222342089,-1.0355398689961604E-2,null,{"$f":"SUM('I18 Input 09 Trueup Sett'!C20:C25)","v":8714332.7095456943},{"$f":"'I18 Input 09 Trueup Sett'!C44","v":8714436.5903347451},-103.88078905083239,1.1920681997512617E-5,null,0.45769723846874794,null,{"$f":"'I18 Input 09 Trueup Sett'!D11","v":764196.77999999991},{"$f":"'I18 Input 09 Trueup Sett'!D30","v":1206711.914729787},827291.76655264362,379420.14817714342,null,8714332.7095456943,10128018.948230885,18842351.657776579,null,{"$f":"'I18 Input 09 Trueup Sett'!B64","v":3924844.59},null,6203174.3582308851,null,6202538.0922999997,636.26593088544905,null,8714332.7095456943,{"$f":"'I18 Input 09 Trueup Sett'!V15","v":8829508.3282778133},1.3216803003855304E-2,null,null,{"$f":"'I18 Input 09 Trueup Sett'!L33","v":5.5983573313914001E-2},{"$f":"'Rev3 GA Analysis '!AU24","v":0},-5.5983573313914001E-2]
[202310,{"$f":"'I20 Input 10 Trueup Sett'!V15","v":8604461.3575808257},{"$f":"'I20 Input 10 Trueup Sett'!W15","v":804625.18956832285},{"$f":"'I20 Input 10 Trueup Sett'!X15","v":273168.34173383121},{"$f":"'I20 Input 10 Trueup Sett'!Y15","v":702524.07826157694},{"$f":"'I20 Input 10 Trueup Sett'!Z15","v":-171067.23042708531},{"$f":"'I21 Input Rev 10 Init'!C12","v":11011.89},-160055.34042708529,null,{"$f":"'I20 Input 10 Trueup Sett'!C10","v":18253066.699999999},{"$f":"'I20 Input 10 Trueup Sett'!D10","v":576644.25},455092.03000000119,15146.219999999972,{"$f":"'I20 Input 10 Trueup Sett'!C11","v":18708158.73},{"$f":"'I20 Input 10 Trueup Sett'!D11","v":591790.47},null,{"$f":"'I20 Input 10 Trueup Sett'!B76","v":1210447.9099999999},null,{"$f":"'I20 Input 10 Trueup Sett'!C11","v":18708158.73},{"$f":"'I20 Input 10 Trueup Sett'!C30","v":18535678.744658984},172479.9853410162,-9.2195061967499381E-3,null,{"$f":"SUM('I20 Input 10 Trueup Sett'!C20:C25)","v":8504356.8080837168},{"$f":"'I20 Input 10 Trueup Sett'!C44","v":8497050.502948286},7306.3051354307681,-8.591249521052724E-4,null,0.45458010757874923,null,{"$f":"'I20 Input 10 Trueup Sett'!D11","v":591790.47},{"$f":"'I20 Input 10 Trueup Sett'!D30","v":1112042.19596009},804625.18956832285,307417.00639176718,null,8504356.8080837168,10031321.936575267,18535678.744658984,null,{"$f":"'I20 Input 10 Trueup Sett'!B64","v":3882685},null,6148636.9365752675,null,6145582.9299999988,3054.0065752686933,null,8504356.8080837168,{"$f":"'I20 Input 10 Trueup Sett'!V15","v":8604461.3575808257},1.177097242697478E-2,null,null,{"$f":"'I20 Input 10 Trueup Sett'!L33","v":8.1646491170842328E-2},{"$f":"'Rev3 GA Analysis '!AU25","v":0},-8.1646491170842328E-2]
[202311,{"$f":"'I22 Input 11 Trueup Sett'!V15","v":9731656.1454401426},{"$f":"'I22 Input 11 Trueup Sett'!W15","v":1095734.8879050931},{"$f":"'I22 Input 11 Trueup Sett'!X15","v":298497.42294796597},{"$f":"'I22 Input 11 Trueup Sett'!Y15","v":689294.62839251338},{"$f":"'I22 Input 11 Trueup Sett'!Z15","v":107942.83656461361},{"$f":"'I23 Input Rev 11 Init'!C12","v":162905.98000000001},270848.8165646136,null,{"$f":"'I22 Input 11 Trueup Sett'!C10","v":19495196.68},{"$f":"'I22 Input 11 Trueup Sett'!D10","v":593503.34},294078.53000000119,9126.1500000000233,{"$f":"'I22 Input 11 Trueup Sett'!C11","v":19789275.210000001},{"$f":"'I22 Input 11 Trueup Sett'!D11","v":602629.49},null,{"$f":"'I22 Input 11 Trueup Sett'!B76","v":1135689.1100000001},null,{"$f":"'I22 Input 11 Trueup Sett'!C11","v":19789275.210000001},{"$f":"'I22 Input 11 Trueup Sett'!C36","v":19581482.45924446},207792.75075554103,-1.0500270906866671E-2,null,{"$f":"SUM('I22 Input 11 Trueup Sett'!C20:C31)","v":9605538.5084446594},{"$f":"'I22 Input 11 Trueup Sett'!C46","v":9619678.0266434886},-14139.518198829144,1.4720172311419866E-3,null,0.48539112254049344,null,{"$f":"'I22 Input 11 Trueup Sett'!D11","v":602629.49},{"$f":"'I22 Input 11 Trueup Sett'!D36","v":1382466.2843866888},1095734.8879050931,286731.3964815957,null,9605538.5084446594,9975943.9507998005,19581482.45924446,null,{"$f":"'I22 Input 11 Trueup Sett'!B64","v":3755295.76},null,6220648.1907998007,null,6209835.709999999,10812.480799801648,null,9605538.5084446594,{"$f":"'I22 Input 11 Trueup Sett'!V15","v":9731656.1454401426},1.3129678974750592E-2,null,null,{"$f":"'I22 Input 11 Trueup Sett'!L33","v":7.0830146286610093E-2},{"$f":"'Rev3 GA Analysis '!AU26","v":0},-7.0830146286610093E-2]
[202312,{"$f":"'I24 Input 12 Trueup Sett'!V15","v":10937483.3976797},{"$f":"'I24 Input 12 Trueup Sett'!W15","v":1191369.8989509339},{"$f":"'I24 Input 12 Trueup Sett'!X15","v":340610.43069389678},{"$f":"'I24 Input 12 Trueup Sett'!Y15","v":724576.74356479791},{"$f":"'I24 Input 12 Trueup Sett'!Z15","v":126182.72469223931},{"$f":"'I25 Input Rev 12 Init'!C12","v":-54941.7},71241.024692239313,null,{"$f":"'I24 Input 12 Trueup Sett'!C10","v":19766502.120000001},{"$f":"'I24 Input 12 Trueup Sett'!D10","v":617049.42000000004},145030.0700000003,4616.890000000014,{"$f":"'I24 Input 12 Trueup Sett'!C11","v":19911532.190000001},{"$f":"'I24 Input 12 Trueup Sett'!D11","v":621666.31000000006},null,{"$f":"'I24 Input 12 Trueup Sett'!B76","v":1130245.18},null,{"$f":"'I24 Input 12 Trueup Sett'!C11","v":19911532.190000001},{"$f":"'I24 Input 12 Trueup Sett'!C36","v":19656646.323108561},254885.86689144,-1.2800916798329065E-2,null,{"$f":"SUM('I24 Input 12 Trueup Sett'!C20:C31)","v":10774081.354759336},{"$f":"'I24 Input 12 Trueup Sett'!C46","v":10798327.256922996},-24245.902163660154,2.2503915986256118E-3,null,0.54109755351576161,null,{"$f":"'I24 Input 12 Trueup Sett'!D11","v":621666.31000000006},{"$f":"'I24 Input 12 Trueup Sett'!D36","v":1451735.697298195},1191369.8989509339,260365.79834726104,null,10774081.354759336,8882564.9683492258,19656646.323108561,null,{"$f":"'I24 Input 12 Trueup Sett'!B64","v":2850485.17},null,6032079.7983492259,null,6005504.9500000011,26574.848349224776,null,10774081.354759336,{"$f":"'I24 Input 12 Trueup Sett'!V15","v":10937483.3976797},1.5166215804392813E-2,null,null,{"$f":"'I24 Input 12 Trueup Sett'!L33","v":6.6247117112745627E-2},{"$f":"'Rev3 GA Analysis '!AU27","v":0},-6.6247117112745627E-2]
[null,{"$f":"SUM(B5:B16)","v":117874243.74165271},11403960.070011586,3600740.3824462676,8674551.2596958261,{"$f":"SUM(F5:F16)","v":-871331.57213050779},{"$f":"SUM(G5:G16)","v":990621.48},{"$f":"SUM(H5:H16)","v":119289.90786949212},null,240546306.42000002,7171157.1299999999,6613684.7800000049,202978.95999999979,247159991.19999996,7374136.0899999999,null,14339308.589999998,null,{"$f":"SUM(S5:S16)","v":247159991.19999996},244523898.42998707,2636092.770012904,{"$f":"T17/S17-1","v":-1.0665531897837699E-2},null,{"$f":"SUM(X5:X16)","v":116261670.25393876},119874394.46320304,-3612724.2092643017,{"$f":"Y17/X17-1","v":3.1074077994693861E-2},null,0.47039033174208489,null,{"$f":"SUM(AE5:AE16)","v":7374136.0899999999},15002230.576115362,11403960.070011586,3598270.5061037764,null,{"$f":"SUM(AJ5:AJ16)","v":116261670.25393876},128262228.17604831,244523898.42998707,null,53014229.289999999,null,{"$f":"SUM(AP5:AP16)","v":75247998.886048347},null,{"$f":"SUM(AR5:AR16)","v":75435149.172612205},{"$f":"SUM(AS5:AS16)","v":-187150.28656387795},null,{"$f":"SUM(AU5:AU16)","v":116261670.25393876},{"$f":"SUM(AV5:AV16)","v":117874243.74165271},1.3870207474155238E-2]
[]
[]
["4705 GA ",{"$f":"'Rec1 1588 Commodity'!F24","v":-589487.06030417455}]
[]
["4707 GA",{"$f":"'Rec2 1589 Class B'!J24","v":589487.06030417327}]
[]
["Should Be $0",{"$f":"SUM(B20:B22)","v":-1.280568540096283E-9}]
[]
["(Owed To)/Owed From IESO",{"$f":"-H17","v":-119289.90786949212}]
[]
["(Owed To)/Owed From Power Consumer ",{"$f":"'Rec1 1588 Commodity'!L20","v":175125.20144995512}]
[]
["(Owed To)/Owed From Class B",{"$f":"'Rec2 1589 Class B'!K20","v":242453.71060656814}]
[]
["(Owed To)/Owed From ",{"$f":"SUM(B26:B30)","v":298289.00418703113}]
[]
[]
["Unresolved Difference as % of Expected GA Payments to IESO",{"$f":"'Rev3 GA Analysis '!D67","v":-1.38402583387866E-3}]
[]
["Account 1588 as % of Account 4705",{"$f":"'Rev3 GA Analysis '!G99","v":1.1538584455456963E-2}]

{"sheet":"I1b RPP Rates","index":3,"n_rows":13,"n_cols":13,"rows_kept":13,"cut":false,"hidden":false,"merged":[]}
[]
[]
[]
[null,{"$f":"Admin!B8","v":202301},{"$f":"B4+1","v":202302},{"$f":"C4+1","v":202303},202304,202305,202306,202307,202308,202309,202310,202311,202312]
["RPPT1",{"$f":"'I2 Input 01 Trueup Sett '!Q6","v":8.7000347934458627E-2},{"$f":"'I4 Input 02 Trueup Sett'!Q6","v":8.6999992196348783E-2},{"$f":"'I6 Input 03 Trueup Sett'!Q6","v":8.7000206118247644E-2},{"$f":"'I8 Input 04 Trueup Sett'!Q6","v":8.7000141756646332E-2},{"$f":"'I10 Input 05 Trueup Sett'!Q6","v":8.7000352842143622E-2},{"$f":"'I12 Input 06 Trueup Sett'!Q6","v":8.7000071521214889E-2},{"$f":"'I14 Input 07 Trueup Sett'!Q6","v":8.7000316998086427E-2},{"$f":"'I16 Input 08 Trueup Sett'!Q6","v":8.7000540227840498E-2},{"$f":"'I18 Input 09 Trueup Sett'!Q6","v":8.6999899833457447E-2},{"$f":"'I20 Input 10 Trueup Sett'!Q6","v":8.7029431466354348E-2},{"$f":"'I22 Input 11 Trueup Sett'!Q6","v":0.10299710286823655},{"$f":"'I24 Input 12 Trueup Sett'!Q6","v":0.10300016059542783}]
["RPPT2",{"$f":"'I2 Input 01 Trueup Sett '!Q7","v":0.10300011250916798},{"$f":"'I4 Input 02 Trueup Sett'!Q7","v":0.10300060572800605},{"$f":"'I6 Input 03 Trueup Sett'!Q7","v":0.10300011984998361},{"$f":"'I8 Input 04 Trueup Sett'!Q7","v":0.10300184617106942},{"$f":"'I10 Input 05 Trueup Sett'!Q7","v":0.10299949083384731},{"$f":"'I12 Input 06 Trueup Sett'!Q7","v":0.10300098255102284},{"$f":"'I14 Input 07 Trueup Sett'!Q7","v":0.10300025164465233},{"$f":"'I16 Input 08 Trueup Sett'!Q7","v":0.10299973669124642},{"$f":"'I18 Input 09 Trueup Sett'!Q7","v":0.10300137993197996},{"$f":"'I20 Input 10 Trueup Sett'!Q7","v":0.10394398185494279},{"$f":"'I22 Input 11 Trueup Sett'!Q7","v":0.12500049630760363},{"$f":"'I24 Input 12 Trueup Sett'!Q7","v":0.12499983299179326}]
["RPPTOUMID",{"$f":"'I2 Input 01 Trueup Sett '!Q8","v":0.10199664274125782},{"$f":"'I4 Input 02 Trueup Sett'!Q8","v":0.10199730610070283},{"$f":"'I6 Input 03 Trueup Sett'!Q8","v":0.10199598738243364},{"$f":"'I8 Input 04 Trueup Sett'!Q8","v":0.10199300636757472},{"$f":"'I10 Input 05 Trueup Sett'!Q8","v":0.10198756539780998},{"$f":"'I12 Input 06 Trueup Sett'!Q8","v":0.10199489416824502},{"$f":"'I14 Input 07 Trueup Sett'!Q8","v":0.10199530955531352},{"$f":"'I16 Input 08 Trueup Sett'!Q8","v":0.10199834533244684},{"$f":"'I18 Input 09 Trueup Sett'!Q8","v":0.10200189725382218},{"$f":"'I20 Input 10 Trueup Sett'!Q8","v":0.102017355006847},{"$f":"'I22 Input 11 Trueup Sett'!Q8","v":0.12198732691265793},{"$f":"'I24 Input 12 Trueup Sett'!Q8","v":0.12199846734526244}]
["RPPTOUOFF",{"$f":"'I2 Input 01 Trueup Sett '!Q9","v":7.399880657328177E-2},{"$f":"'I4 Input 02 Trueup Sett'!Q9","v":7.3999041480424882E-2},{"$f":"'I6 Input 03 Trueup Sett'!Q9","v":7.3996283726527792E-2},{"$f":"'I8 Input 04 Trueup Sett'!Q9","v":7.3995503079866826E-2},{"$f":"'I10 Input 05 Trueup Sett'!Q9","v":7.3993468242161284E-2},{"$f":"'I12 Input 06 Trueup Sett'!Q9","v":7.3995031613986434E-2},{"$f":"'I14 Input 07 Trueup Sett'!Q9","v":7.3997991360556653E-2},{"$f":"'I16 Input 08 Trueup Sett'!Q9","v":7.3998808276649397E-2},{"$f":"'I18 Input 09 Trueup Sett'!Q9","v":7.4000345818722515E-2},{"$f":"'I20 Input 10 Trueup Sett'!Q9","v":7.4007506330123221E-2},{"$f":"'I22 Input 11 Trueup Sett'!Q9","v":8.6990721961047623E-2},{"$f":"'I24 Input 12 Trueup Sett'!Q9","v":8.6999071446316439E-2}]
["RPPTOUON",{"$f":"'I2 Input 01 Trueup Sett '!Q10","v":0.15099281645927667},{"$f":"'I4 Input 02 Trueup Sett'!Q10","v":0.1509850525510279},{"$f":"'I6 Input 03 Trueup Sett'!Q10","v":0.15097093494373995},{"$f":"'I8 Input 04 Trueup Sett'!Q10","v":0.15094914658887262},{"$f":"'I10 Input 05 Trueup Sett'!Q10","v":0.15091895957701565},{"$f":"'I12 Input 06 Trueup Sett'!Q10","v":0.15095267244549851},{"$f":"'I14 Input 07 Trueup Sett'!Q10","v":0.1509599667588164},{"$f":"'I16 Input 08 Trueup Sett'!Q10","v":0.15097239544527469},{"$f":"'I18 Input 09 Trueup Sett'!Q10","v":0.15095762132523477},{"$f":"'I20 Input 10 Trueup Sett'!Q10","v":0.15096578677033484},{"$f":"'I22 Input 11 Trueup Sett'!Q10","v":0.18197759241769884},{"$f":"'I24 Input 12 Trueup Sett'!Q10","v":0.18199753118795436}]
["RPPULOMID",{"$f":"'I2 Input 01 Trueup Sett '!Q11","v":0},{"$f":"'I4 Input 02 Trueup Sett'!Q11","v":0},{"$f":"'I6 Input 03 Trueup Sett'!Q11","v":0},{"$f":"'I8 Input 04 Trueup Sett'!Q11","v":0},{"$f":"'I10 Input 05 Trueup Sett'!Q11","v":0},{"$f":"'I12 Input 06 Trueup Sett'!Q11","v":0},{"$f":"'I14 Input 07 Trueup Sett'!Q11","v":0},{"$f":"'I16 Input 08 Trueup Sett'!Q11","v":0},{"$f":"'I18 Input 09 Trueup Sett'!Q11","v":0},{"$f":"'I20 Input 10 Trueup Sett'!Q11","v":0},{"$f":"'I22 Input 11 Trueup Sett'!Q11","v":0.12200405823765553},{"$f":"'I24 Input 12 Trueup Sett'!Q11","v":0.12200165321311048}]
["RPPULOOFF",{"$f":"'I2 Input 01 Trueup Sett '!Q12","v":0},{"$f":"'I4 Input 02 Trueup Sett'!Q12","v":0},{"$f":"'I6 Input 03 Trueup Sett'!Q12","v":0},{"$f":"'I8 Input 04 Trueup Sett'!Q12","v":0},{"$f":"'I10 Input 05 Trueup Sett'!Q12","v":0},{"$f":"'I12 Input 06 Trueup Sett'!Q12","v":0},{"$f":"'I14 Input 07 Trueup Sett'!Q12","v":0},{"$f":"'I16 Input 08 Trueup Sett'!Q12","v":0},{"$f":"'I18 Input 09 Trueup Sett'!Q12","v":0},{"$f":"'I20 Input 10 Trueup Sett'!Q12","v":0},{"$f":"'I22 Input 11 Trueup Sett'!Q12","v":8.7011005146440668E-2},{"$f":"'I24 Input 12 Trueup Sett'!Q12","v":8.6996168153953127E-2}]
["RPPULOON",{"$f":"'I2 Input 01 Trueup Sett '!Q13","v":0},{"$f":"'I4 Input 02 Trueup Sett'!Q13","v":0},{"$f":"'I6 Input 03 Trueup Sett'!Q13","v":0},{"$f":"'I8 Input 04 Trueup Sett'!Q13","v":0},{"$f":"'I10 Input 05 Trueup Sett'!Q13","v":0},{"$f":"'I12 Input 06 Trueup Sett'!Q13","v":0},{"$f":"'I14 Input 07 Trueup Sett'!Q13","v":0},{"$f":"'I16 Input 08 Trueup Sett'!Q13","v":0},{"$f":"'I18 Input 09 Trueup Sett'!Q13","v":0},{"$f":"'I20 Input 10 Trueup Sett'!Q13","v":0},{"$f":"'I22 Input 11 Trueup Sett'!Q13","v":0.28601483920158266},{"$f":"'I24 Input 12 Trueup Sett'!Q13","v":0.28598918766695636}]
["RPPULOOVN",{"$f":"'I2 Input 01 Trueup Sett '!Q14","v":0},{"$f":"'I4 Input 02 Trueup Sett'!Q14","v":0},{"$f":"'I6 Input 03 Trueup Sett'!Q14","v":0},{"$f":"'I8 Input 04 Trueup Sett'!Q14","v":0},{"$f":"'I10 Input 05 Trueup Sett'!Q14","v":0},{"$f":"'I12 Input 06 Trueup Sett'!Q14","v":0},{"$f":"'I14 Input 07 Trueup Sett'!Q14","v":0},{"$f":"'I16 Input 08 Trueup Sett'!Q14","v":0},{"$f":"'I18 Input 09 Trueup Sett'!Q14","v":0},{"$f":"'I20 Input 10 Trueup Sett'!Q14","v":0},{"$f":"'I22 Input 11 Trueup Sett'!Q14","v":2.8007213165564402E-2},{"$f":"'I24 Input 12 Trueup Sett'!Q14","v":2.7997397918434207E-2}]

{"sheet":"I2 Input 01 Trueup Sett ","index":4,"n_rows":65,"n_cols":26,"rows_kept":65,"cut":false,"hidden":true,"merged":[[2,15,2,25],[13,0,13,1]]}
["Date:",{"$f":"Admin!B8","v":202301}," Trueup",null,null,null,null,null,null,null,{"$f":" \"Data for 1st True up of RPP Settlement based on Actual IESO Invoice\"","v":"Data for 1st True up of RPP Settlement based on Actual IESO Invoice"},null,null,null,null,"For Reconciliation"]
[]
["Wholesale Electricty","Year",2023,null,"Rate",null,null,null,null,null,null,null,null,null,null,"Actual RPP Revenue and GA"]
[null,"dateref",202301,null,null,null,null,null,null,null," Wholesale Volume data per IESO Power Bill:","GA RPP/non-RPP Ratios","GA Volumes","Energy Volumes",null,{"$f":"B1","v":202301}]
[null,null,null,null,null,null,null,null,null,null,"AQEW",null,{"$f":"C10","v":23466312.809999999},{"$f":"+M5","v":23466312.809999999},null,"RPP Revenue Prices","RPP Rate","Estimated RPP Energy Price","GA actual IESO billed","Total Commodity","Difference","kWh Volumes","$ Estimated RPP Revenue","$ Estimated RPP Energy","$ Estimated GA","$ Estimated RPP Settlement"]
[null,"Wholesale","",null,null,null,null,null,null,null,"Embedded Generation",null,{"$f":"SUM(C8:C9)","v":109117.8},{"$f":"+M6","v":109117.8},null,"RPPT1",{"$f":"E20","v":8.7000347934458627E-2},{"$f":"E39","v":3.4839216677250581E-2},{"$f":"L33","v":5.3769068312502111E-2},{"$f":"R6+S6","v":8.8608284989752692E-2},{"$f":"+Q6-T6","v":-1.6079370552940647E-3},{"$f":"M18","v":1016180.9588796248},{"$f":"Q6*V6","v":88408.096986899152},{"$f":"R6*V6","v":35402.948609703511},{"$f":"+V6*S6","v":54639.103395862447},{"$f":"W6-X6-Y6","v":-1633.9550186668057}]
[null,"Source","kWh","Total Cost",null,null,null,null,null,null,"Class A customer Volumes for GA (TLF included)",null,{"$f":"-B57","v":-5244745.87},null,null,"RPPT2",{"$f":"E21","v":0.10300011250916798},{"$f":"R6","v":3.4839216677250581E-2},{"$f":"S6","v":5.3769068312502111E-2},{"$f":"R7+S7","v":8.8608284989752692E-2},{"$f":"+Q7-T7","v":1.4391827519415284E-2},{"$f":"M19","v":332385.98114771902},{"$f":"Q7*V7","v":34235.793454685248},{"$f":"R7*V7","v":11580.06721768591},{"$f":"+V7*S7","v":17872.084526449744},{"$f":"W7-X7-Y7","v":4783.6417105495966}]
[null,"FIT",102547.99,3915.91,{"$f":"D8/C8","v":3.8186121444213579E-2},null,null,null,null,null,null,null,{"$f":"+M5+M6+M7","v":18330684.739999998},{"$f":"+N5+N6+N7","v":23575430.609999999},null,"RPPTOUMID",{"$f":"E23","v":0.10199664274125782},{"$f":"E40","v":3.5615431939740351E-2},{"$f":"S7","v":5.3769068312502111E-2},8.9384500252242455E-2,1.2612142489015363E-2,1829083.0392382194,186560.32929727473,65143.582496122232,98348.090886038801,23068.655915113704]
[null,"microFIT",6569.81,246.12,{"$f":"D9/C9","v":3.7462270598388692E-2},null,null,null,null,null,null,null,null,null,null,"RPPTOUOFF",{"$f":"E24","v":7.399880657328177E-2},{"$f":"R8","v":3.5615431939740351E-2},5.3769068312502111E-2,8.9384500252242455E-2,-1.5385693678960685E-2,6576470.1201750915,486650.94035780372,234223.82396883203,353610.67114682344,-101183.55475785176]
[null,"WHOLESALE",23466312.809999999,801678.9,{"$f":"D10/C10","v":3.416296827247485E-2},null,null,null,null,null,"Estimated Retail Volume Revenue Data (TLF Included)","RPP/non-RPP Ratios","GA Volumes","Energy Volumes",null,"RPPTOUON",0.15099281645927667,{"$f":"R9","v":3.5615431939740351E-2},5.3769068312502111E-2,8.9384500252242455E-2,6.1608316207034219E-2,1887271.0681212293,284964.37399773183,67215.974278512716,101476.8069860192,116271.59273319993]
[null,"Grand Total",23575430.609999999,805840.93,null,null,null,null,null,null,"Estimated Retail Revenue Data (Net of Retail Billed/Unbilled)",null,{"$f":"+M15","v":18330684.739999998},{"$f":"+N15","v":23575430.609999999},null,"RPPULOMID",0,0,0,0,0,0,0,0,0,0]
[null,null,null,null,null,null,null,null,null,null,null,null,null,null,null,"RPPULOOFF",0,0,0,0,0,0,0,0,0,0]
[null,null,null,null,null,null,null,null,null,null,"Estimated RPP Sales Quantities",{"$f":"SUM(C20:C25)/(C30-B57)","v":0.63507672150177874},{"$f":"M8*L13","v":11641391.167561885},{"$f":"M13","v":11641391.167561885},null,"RPPULOON",0,0,0,0,0,0,0,0,0,0]
["RPP Revenue Volume and Price Data",null,null,null,null,null,null,null,null,null,"Estimated non-RPP Sales Quantities",{"$f":"1-L13","v":0.36492327849822126},{"$f":"M8*L14","v":6689293.5724381143},{"$f":"N8-N13","v":11934039.442438114},null,"RPPULOOVN",0,0,0,0,0,0,0,0,0,0]
[null,"bill_year",2023,null,null,null,null,null,null,null,"Estimated Retail Revenue kWh Volumes ",{"$f":"+L13+L14","v":1},{"$f":"+M13+M14","v":18330684.739999998},{"$f":"+N13+N14","v":23575430.609999999},null,null,null,null,null,null,null,{"$f":"SUM(V6:V14)","v":11641391.167561885},{"$f":"SUM(W6:W14)","v":1080819.5340943947},{"$f":"SUM(X6:X14)","v":413566.39657085639},{"$f":"SUM(Y6:Y14)","v":625946.75694119371},{"$f":"SUM(Z6:Z14)","v":41306.38058234466}]
[null,"bill_month",1,null,null,null,null,null,null,null,null,null,null,null,null,null,null,null,null,null,null,null,null,null,null,{"$f":"W15-X15-Y15-Z15","v":-1.7462298274040222E-10}]
[null,null,null,null,null,null,null,null,null,null,"Estimated RPP Revenue Volume and Price Data","Actual %","kWh Volumes"]
[null,"Row Labels","usagebilled ","amountbilled ","Rate",null,null,null,null,null,"RPPT1",{"$f":"C20/SUM($C$20:$C$25)","v":8.7290337061360745E-2},{"$f":"$M$13*L18","v":1016180.9588796248}]
[null,"RPPTIER",null,null,null,null,null,null,null,null,"RPPT2",{"$f":"C21/SUM($C$20:$C$25)","v":2.8552084228034087E-2},{"$f":"$M$13*L19","v":332385.98114771902}]
[null,"RPPT1",990918.47620798217,86210.252204778008,{"$f":"D20/C20","v":8.7000347934458627E-2},null,null,null,null,null,"RPPTOUMID",{"$f":"C23/SUM($C$20:$C$25)","v":0.15711893990254891},1829083.0392382194]
[null,"RPPT2",324122.79237640108,33384.684081555002,{"$f":"D21/C21","v":0.10300011250916798},null,null,null,null,null,"RPPTOUOFF",{"$f":"C24/SUM($C$20:$C$25)","v":0.56492132473823875},6576470.1201750915]
[null,"RPPTOU",null,null,null,null,null,null,null,null,"RPPTOUON",0.16211731406981747,1887271.0681212293]
[null,"RPPTOUMID",1783611.6316311569,181922.39838063504,0.10199664274125782,null,null,null,null,null,"RPPULOMID",0,0]
[null,"RPPTOUOFF",6412977.6230959576,474552.69069026207,7.399880657328177E-2,null,null,null,null,null,"RPPULOOFF",0,0]
[null,"RPPTOUON",1840353.0932876219,277880.09683503996,0.15099281645927667,null,null,null,null,null,"RPPULOON",0,0]
[null,"RETAIL",null,null,null,null,null,null,null,null,"RPPULOOVN",0,0]
[null,"NSLS",3692424.3757479778,127540.03554500699,3.454100140349417E-2,null,null,null,null,null,null,{"$f":"SUM(L18:L26)","v":0.99999999999999989},{"$f":"SUM(M18:M26)","v":11641391.167561885}]
[null,"INTERVAL"]
[null,"HOEP",8075317.7537139468,273632.93792257499,3.3885098551908688E-2]
[null,"Grand Total",23119725.746061046,1455123.0956598523]
[null,null,null,null,null,null,null,null,null,null,"Global Adjustment","per kWh"]
[null,null,{"$f":"C30/C11-1","v":-1.9329651766600509E-2},null,null,null,null,null,null,null,"Class B - GA actual8",{"$f":"B49/100","v":5.3800001144409179E-2},null,"GA Posted Price"]
[null,null,null,null,null,null,null,null,null,null,"Class B - GA actual IESO billed",{"$f":"+M33/M8","v":5.3769068312502111E-2},{"$f":"B65","v":985623.84},"GA Billed by IESO CT 148"]
["RPP COP Volume and Price Data"]
[null,"bill_year",2023]
[null,"bill_month",1]
[]
[null,"Row Labels","usagebilled ","amountbilled ","Rate"]
[null,"RPPTIERED",1316491.1207676895,45865.519410101995,{"$f":"D39/C39","v":3.4839216677250581E-2}]
[null,"RPPTOU",10043751.323622609,357712.54168615805,3.5615431939740351E-2]
[null,"Grand Total",11360242.444390299,403578.06109626003]
[]
[null,null,{"$f":"SUM(C20:C25)-C41","v":-8258.827791178599}]
[null,null,{"$f":"C43/C41","v":-7.2699397320140976E-4}]
[]
["Global Adjustment - Actual"]
["ga_actual ","year "]
["month",2023]
[202301,5.380000114440918]
[]
[]
["Class A kWh"]
["Year",2023]
[]
["Class A",""]
["Source","kWh"]
[202301,5244745.87]
[]
[]
["IESO Class B"]
["chargetype",148]
[]
["Sum of chargeamount","year "]
["month",2023]
[202301,985623.84]

{"sheet":"I3 Input Rev 01 Init","index":5,"n_rows":12,"n_cols":3,"rows_kept":12,"cut":false,"hidden":true,"merged":[[3,0,3,2]]}
["Reverse IESO Posted"]
[]
[]
[]
[{"$f":"Admin!B8","v":202301}]
["RPP Revenue Prices","kWh Volumes","$ RPP Settlement"]
["RPPTiered_1",977017.48,4732.82]
["RPPTiered_2",298377.86,-3327.93]
["RPPTOU_MID",1653542.88,-13838.93]
["RPPTOU_OFF",5964539.4100000001,117105.43]
["RPPTOU_ON",1735082.54,-99540.33]
["Grand Total",10628560.17,5131.0599999999831]

{"sheet":"I4 Input 02 Trueup Sett","index":6,"n_rows":77,"n_cols":26,"rows_kept":77,"cut":false,"hidden":true,"merged":[[2,15,2,25]]}
["Date:",{"$f":"Admin!B8+1","v":202302}," Trueup",null,null,null,null,null,null,null,{"$f":" \"Data for 1st True up of RPP Settlement based on Actual IESO Invoice\"","v":"Data for 1st True up of RPP Settlement based on Actual IESO Invoice"},null,null,null,null,"For Reconciliation"]
[]
["Wholesale Electricty","Year",2023,null,"Rate",null,null,null,null,null,null,null,null,null,null,"Actual RPP Revenue and GA"]
[null,"dateref",202302,null,null,null,null,null,null,null," Wholesale Volume data per IESO Power Bill:","GA RPP/non-RPP Ratios","GA Volumes","Energy Volumes",null,{"$f":"B1","v":202302}]
[null,null,null,null,null,null,null,null,null,null,"AQEW",null,{"$f":"C10","v":21427804.600000001},{"$f":"+M5","v":21427804.600000001},null,"RPP Revenue Prices","RPP Rate","Estimated RPP Energy Price","GA actual IESO billed","Total Commodity","Difference","kWh Volumes","$ Estimated RPP Revenue","$ Estimated RPP Energy","$ Estimated GA","$ Estimated RPP Settlement"]
[null,"Wholesale","",null,null,null,null,null,null,null,"Embedded Generation",null,{"$f":"SUM(C8:C9)","v":261979.01},{"$f":"+M6","v":261979.01},null,"RPPT1",{"$f":"E20","v":8.6999992196348783E-2},{"$f":"E42","v":2.4276262590765152E-2},{"$f":"L33","v":8.2488208564099025E-2},{"$f":"R6+S6","v":0.10676447115486418},{"$f":"+Q6-T6","v":-1.9764478958515394E-2},{"$f":"M18","v":908287.09995743516},{"$f":"Q6*V6","v":79020.970608341129},{"$f":"R6*V6","v":22049.816146371253},{"$f":"+V6*S6","v":74922.975737369576},{"$f":"W6-X6-Y6","v":-17951.8212753997}]
["FIT/mFIT","Source","kWh","Total Cost",null,null,null,null,null,null,"Class A customer Volumes for GA (TLF included)",null,{"$f":"-B64","v":-4872482.76},null,null,"RPPT2",{"$f":"E21","v":0.10300060572800605},{"$f":"R6","v":2.4276262590765152E-2},{"$f":"S6","v":8.2488208564099025E-2},{"$f":"R7+S7","v":0.10676447115486418},{"$f":"+Q7-T7","v":-3.7638654268581234E-3},{"$f":"M19","v":330101.02425787109},{"$f":"Q7*V7","v":34000.605449995943},{"$f":"R7*V7","v":8013.6191463646155},{"$f":"+V7*S7","v":27229.44213620598},{"$f":"W7-X7-Y7","v":-1242.4558325746548}]
[null,"FIT",246458.66,4730.18,{"$f":"D8/C8","v":1.9192589945916286E-2},null,null,null,null,null,null,null,{"$f":"+M5+M6+M7","v":16817300.850000001},{"$f":"+N5+N6+N7","v":21689783.610000003},null,"RPPTOUMID",{"$f":"E23","v":0.10199730610070283},{"$f":"E43","v":2.4559356872270059E-2},{"$f":"S7","v":8.2488208564099025E-2},0.10704756543636909,-5.0502593356662601E-3,1668975.3391203459,170230.98853878223,40988.960964474521,137670.78586169699,-8428.7582873892825]
[null,"microFIT",15520.35,303.63,{"$f":"D9/C9","v":1.9563347476055631E-2},null,null,null,null,null,null,null,null,null,null,"RPPTOUOFF",{"$f":"E24","v":7.3999041480424882E-2},{"$f":"R8","v":2.4559356872270059E-2},8.2488208564099025E-2,0.10704756543636909,-3.3048523955944209E-2,5912763.4076278657,437538.8246649928,145213.66662923235,487733.26115858025,-195408.1031228198]
[null,"WHOLESALE",21427804.600000001,504134.75,{"$f":"D10/C10","v":2.3527130259532045E-2},null,null,null,null,null,"Estimated Retail Volume Revenue Data (TLF Included)","RPP/non-RPP Ratios","GA Volumes","Energy Volumes",null,"RPPTOUON",0.1509850525510279,{"$f":"R9","v":2.4559356872270059E-2},8.2488208564099025E-2,0.10704756543636909,4.3937487114658808E-2,1735642.0221487316,262056.00192389858,42626.251824459156,143170.00111561915,76259.748983820289]
["Total Wholesale Electricity","Grand Total",21689783.610000003,509168.56,null,null,null,null,null,null,"Estimated Retail Revenue Data (Net of Retail Billed/Unbilled)",null,{"$f":"+M15","v":16817300.850000001},{"$f":"+N15","v":21689783.610000003},null,"RPPULOMID",0,0,0,0,0,0,0,0,0,0]
[null,null,null,null,null,null,null,null,null,null,null,null,null,null,null,"RPPULOOFF",0,0,0,0,0,0,0,0,0,0]
[null,null,null,null,null,null,null,null,null,null,"Estimated RPP Sales Quantities",{"$f":"SUM(C20:C25)/(C30-B64)","v":0.62767319127267973},{"$f":"M8*L13","v":10555768.89311225},{"$f":"M13","v":10555768.89311225},null,"RPPULOON",0,0,0,0,0,0,0,0,0,0]
["RPP Revenue Volume and Price Data",null,null,null,null,null,null,null,null,null,"Estimated non-RPP Sales Quantities",{"$f":"1-L13","v":0.37232680872732027},{"$f":"M8*L14","v":6261531.9568877509},{"$f":"N8-N13","v":11134014.716887753},null,"RPPULOOVN",0,0,0,0,0,0,0,0,0,0]
[null,"bill_year",2023,null,null,null,null,null,null,null,"Estimated Retail Revenue kWh Volumes ",{"$f":"+L13+L14","v":1},{"$f":"+M13+M14","v":16817300.850000001},{"$f":"+N13+N14","v":21689783.610000003},null,null,null,null,null,null,null,{"$f":"SUM(V6:V14)","v":10555768.89311225},{"$f":"SUM(W6:W14)","v":982847.39118601067},{"$f":"SUM(X6:X14)","v":258892.3147109019},{"$f":"SUM(Y6:Y14)","v":870726.46600947203},{"$f":"SUM(Z6:Z14)","v":-146771.38953436314}]
[null,"bill_month",2,null,null,null,null,null,null,null,null,null,null,null,null,null,null,null,null,null,null,null,null,null,null,{"$f":"W15-X15-Y15-Z15","v":0}]
[null,null,null,null,null,null,null,null,null,null,"Estimated RPP Revenue Volume and Price Data","Actual %","kWh Volumes"]
[null,"Row Labels","usagebilled ","amountbilled ","Rate",null,null,null,null,null,"RPPT1",{"$f":"C20/SUM($C$20:$C$25)","v":8.6046512495181859E-2},{"$f":"$M$13*L18","v":908287.09995743516}]
[null,"RPPTIER",null,null,null,null,null,null,null,null,"RPPT2",{"$f":"C21/SUM($C$20:$C$25)","v":3.1272096575860567E-2},{"$f":"$M$13*L19","v":330101.02425787109}]
[null,"RPPT1",898481.97268794198,78167.924612411007,{"$f":"D20/C20","v":8.6999992196348783E-2},null,null,null,null,null,"RPPTOUMID",{"$f":"C23/SUM($C$20:$C$25)","v":0.15811025762503855},1668975.3391203459]
[null,"RPPT2",326537.52263510204,33633.562624337996,{"$f":"D21/C21","v":0.10300060572800605},null,null,null,null,null,"RPPTOUOFF",{"$f":"C24/SUM($C$20:$C$25)","v":0.56014521230054648},5912763.4076278657]
[null,"RPPTOU",null,null,null,null,null,null,null,null,"RPPTOUON",0.1644259210033725,1735642.0221487316]
[null,"RPPTOUMID",1650958.4415881806,168393.31352620898,0.10199730610070283,null,null,null,null,null,"RPPULOMID",0,0]
[null,"RPPTOUOFF",5848934.0328311631,432815.51211174199,7.3999041480424882E-2,null,null,null,null,null,"RPPULOOFF",0,0]
[null,"RPPTOUON",1716905.4454405007,259227.05890497996,0.1509850525510279,null,null,null,null,null,"RPPULOON",0,0]
[null,"RETAIL",null,null,null,null,null,null,null,null,"RPPULOOVN",0,0]
[null,"NSLS",3390452.4636201723,79680.768683941002,2.3501514779788849E-2,null,null,null,null,null,null,{"$f":"SUM(L18:L26)","v":1},{"$f":"SUM(M18:M26)","v":10555768.89311225}]
[null,"INTERVAL"]
[null,"HOEP",7675967.8574623764,175644.93741046902,2.2882448268684658E-2]
[null,"Grand Total",21508237.736265436,1227563.0778740898]
[null,null,null,null,null,null,null,null,null,null,"Global Adjustment","per kWh"]
[null,null,{"$f":"C30/C11-1","v":-8.3701099558626257E-3},null,null,null,null,null,null,null,"Class B - GA actual8",{"$f":"B69/100","v":8.2500000000000004E-2},null,"GA Posted Price"]
[null,null,null,null,null,null,null,null,null,null,"Class B - GA actual IESO billed",{"$f":"+M33/M8","v":8.2488208564099025E-2},{"$f":"B77","v":1387229.02},"GA Billed by IESO CT 148"]
[]
[]
[]
["RPP COP Volume and Price Data"]
[null,"bill_year",2023]
[null,"bill_month",2]
[]
[null,"Row Labels","usagebilled ","amountbilled ","Rate"]
[null,"RPPTIERED",1209160.5237901579,29353.898389917005,{"$f":"D42/C42","v":2.4276262590765152E-2}]
[null,"RPPTOU",9288784.3326672539,228126.56933552597,2.4559356872270059E-2]
[null,"Grand Total",10497944.856457412,257480.46772544298]
[]
[null,null,{"$f":"SUM(C20:C25)-C44","v":-56127.441274523735}]
[null,null,{"$f":"C46/C44","v":-5.3465170604319826E-3}]
[]
[]
[]
[]
[]
[]
[]
[]
[]
[]
[]
[]
["Year",2023]
[]
["Class A",""]
["Source","kWh"]
[202302,4872482.76]
[]
[]
["ga_actual ","year "]
["month",2023]
[202302,8.25]
[]
[]
[]
["chargetype",148]
[]
["Sum of chargeamount","year "]
["month",2023]
[202302,1387229.02]

{"sheet":"I5 Input Rev 02 Init","index":7,"n_rows":12,"n_cols":3,"rows_kept":12,"cut":false,"hidden":true,"merged":[[3,0,3,2]]}
["Reverse IESO Posted"]
[]
[]
[]
[{"$f":"Admin!B11","v":202302}]
["RPP Revenue Prices","kWh Volumes","$ RPP Settlement"]
["RPPTiered_1",1006526.98,1820.69]
["RPPTiered_2",318299.44,-4517.1000000000004]
["RPPTOU_MID",1769390.18,-21652.63]
["RPPTOU_OFF",6646244.1699999999,104754.1]
["RPPTOU_ON",1823318.22,-111653.44]
["Grand Total",11563778.99,-31248.380000000005]

{"sheet":"I6 Input 03 Trueup Sett","index":8,"n_rows":76,"n_cols":26,"rows_kept":76,"cut":false,"hidden":true,"merged":[[2,15,2,25]]}
["Date:",{"$f":"Admin!B8+2","v":202303}," Trueup",null,null,null,null,null,null,null,{"$f":" \"Data for 1st True up of RPP Settlement based on Actual IESO Invoice\"","v":"Data for 1st True up of RPP Settlement based on Actual IESO Invoice"},null,null,null,null,"For Reconciliation"]
[]
["Wholesale Electricty","Year",2023,null,"Rate",null,null,null,null,null,null,null,null,null,null,"Actual RPP Revenue and GA"]
[null,"dateref",202303,null,null,null,null,null,null,null," Wholesale Volume data per IESO Power Bill:","GA RPP/non-RPP Ratios","GA Volumes","Energy Volumes",null,{"$f":"B1","v":202303}]
[null,null,null,null,null,null,null,null,null,null,"AQEW",null,{"$f":"C10","v":22623431.120000001},{"$f":"+M5","v":22623431.120000001},null,"RPP Revenue Prices","RPP Rate","Estimated RPP Energy Price","GA actual IESO billed","Total Commodity","Difference","kWh Volumes","$ Estimated RPP Revenue","$ Estimated RPP Energy","$ Estimated GA","$ Estimated RPP Settlement"]
[null,"Wholesale","",null,null,null,null,null,null,null,"Embedded Generation",null,{"$f":"SUM(C8:C9)","v":448568.38},{"$f":"+M6","v":448568.38},null,"RPPT1",{"$f":"E20","v":8.7000206118247644E-2},{"$f":"E42","v":2.4988904846392896E-2},{"$f":"L33","v":8.0300341677301185E-2},{"$f":"R6+S6","v":0.10528924652369408},{"$f":"+Q6-T6","v":-1.8289040405446433E-2},{"$f":"M18","v":945383.79524908168},{"$f":"Q6*V6","v":82248.585047521337},{"$f":"R6*V6","v":23624.105702801087},{"$f":"+V6*S6","v":75914.641774685006},{"$f":"W6-X6-Y6","v":-17290.162429964752}]
["FIT/mFIT","Source","kWh","Total Cost",null,null,null,null,null,null,"Class A customer Volumes for GA (TLF included)",null,{"$f":"-B64","v":-5406559.0999999996},null,null,"RPPT2",{"$f":"E21","v":0.10300011984998361},{"$f":"R6","v":2.4988904846392896E-2},{"$f":"S6","v":8.0300341677301185E-2},{"$f":"R7+S7","v":0.10528924652369408},{"$f":"+Q7-T7","v":-2.2891266737104649E-3},{"$f":"M19","v":294872.71915303613},{"$f":"Q7*V7","v":30371.925413253281},{"$f":"R7*V7","v":7368.5463207123557},{"$f":"+V7*S7","v":23678.380099303675},{"$f":"W7-X7-Y7","v":-675.00100676274815}]
[null,"FIT",421544.81,9085.5300000000007,{"$f":"D8/C8","v":2.1552940006544029E-2},null,null,null,null,null,null,null,{"$f":"+M5+M6+M7","v":17665440.399999999},{"$f":"+N5+N6+N7","v":23071999.5},null,"RPPTOUMID",{"$f":"E23","v":0.10199598738243364},{"$f":"E43","v":2.5030683968573487E-2},{"$f":"S7","v":8.0300341677301185E-2},0.10533102564587467,-3.3350382634410314E-3,1837999.4536137818,187468.56907971122,46006.383457817319,147591.98412787958,-6129.7985059856728]
[null,"microFIT",27023.57,574.16999999999996,{"$f":"D9/C9","v":2.1247007704755513E-2},null,null,null,null,null,null,null,null,null,null,"RPPTOUOFF",{"$f":"E24","v":7.3996283726527792E-2},{"$f":"R8","v":2.5030683968573487E-2},8.0300341677301185E-2,0.10533102564587467,-3.1334741919346876E-2,5804260.6000057096,429493.71418072894,145284.61274998565,466084.10936455568,-181875.00793381239]
[null,"WHOLESALE",22623431.120000001,569802.92000000004,{"$f":"D10/C10","v":2.518640594247757E-2},null,null,null,null,null,"Estimated Retail Volume Revenue Data (TLF Included)","RPP/non-RPP Ratios","GA Volumes","Energy Volumes",null,"RPPTOUON",0.15097093494373995,{"$f":"R9","v":2.5030683968573487E-2},8.0300341677301185E-2,0.10533102564587467,4.563990929786528E-2,1894409.7592733956,286000.81252404989,47418.371991353742,152121.75094646757,86460.689586228575]
["Total Wholesale Electricity","Grand Total",23071999.5,579462.62,null,null,null,null,null,null,"Estimated Retail Revenue Data (Net of Retail Billed/Unbilled)",null,{"$f":"+M15","v":17665440.399999999},{"$f":"+N15","v":23071999.5},null,"RPPULOMID",0,0,0,0,0,0,0,0,0,0]
[null,null,null,null,null,null,null,null,null,null,null,null,null,null,null,"RPPULOOFF",0,0,0,0,0,0,0,0,0,0]
[null,null,null,null,null,null,null,null,null,null,"Estimated RPP Sales Quantities",{"$f":"SUM(C20:C25)/(C30-B64)","v":0.61005704263648053},{"$f":"M8*L13","v":10776926.327295005},{"$f":"M13","v":10776926.327295005},null,"RPPULOON",0,0,0,0,0,0,0,0,0,0]
["RPP Revenue Volume and Price Data",null,null,null,null,null,null,null,null,null,"Estimated non-RPP Sales Quantities",{"$f":"1-L13","v":0.38994295736351947},{"$f":"M8*L14","v":6888514.0727049941},{"$f":"N8-N13","v":12295073.172704995},null,"RPPULOOVN",0,0,0,0,0,0,0,0,0,0]
[null,"bill_year",2023,null,null,null,null,null,null,null,"Estimated Retail Revenue kWh Volumes ",{"$f":"+L13+L14","v":1},{"$f":"+M13+M14","v":17665440.399999999},{"$f":"+N13+N14","v":23071999.5},null,null,null,null,null,null,null,{"$f":"SUM(V6:V14)","v":10776926.327295005},{"$f":"SUM(W6:W14)","v":1015583.6062452648},{"$f":"SUM(X6:X14)","v":269702.02022267017},{"$f":"SUM(Y6:Y14)","v":865390.86631289148},{"$f":"SUM(Z6:Z14)","v":-119509.280290297}]
[null,"bill_month",3,null,null,null,null,null,null,null,null,null,null,null,null,null,null,null,null,null,null,null,null,null,null,{"$f":"W15-X15-Y15-Z15","v":1.1641532182693481E-10}]
[null,null,null,null,null,null,null,null,null,null,"Estimated RPP Revenue Volume and Price Data","Actual %","kWh Volumes"]
[null,"Row Labels","usagebilled ","amountbilled ","Rate",null,null,null,null,null,"RPPT1",{"$f":"C20/SUM($C$20:$C$25)","v":8.7722952401992696E-2},{"$f":"$M$13*L18","v":945383.79524908168}]
[null,"RPPTIER",null,null,null,null,null,null,null,null,"RPPT2",{"$f":"C21/SUM($C$20:$C$25)","v":2.7361486030224057E-2},{"$f":"$M$13*L19","v":294872.71915303613}]
[null,"RPPT1",933806.20241975784,81241.332085017013,{"$f":"D20/C20","v":8.7000206118247644E-2},null,null,null,null,null,"RPPTOUMID",{"$f":"C23/SUM($C$20:$C$25)","v":0.17054950528506743},1837999.4536137818]
[null,"RPPT2",291261.57593693101,29999.977229198998,{"$f":"D21/C21","v":0.10300011984998361},null,null,null,null,null,"RPPTOUOFF",{"$f":"C24/SUM($C$20:$C$25)","v":0.53858219159437937},5804260.6000057096]
[null,"RPPTOU",null,null,null,null,null,null,null,null,"RPPTOUON",0.17578386468833643,1894409.7592733956]
[null,"RPPTOUMID",1815490.4901627491,185172.74512756802,0.10199598738243364,null,null,null,null,null,"RPPULOMID",0,0]
[null,"RPPTOUOFF",5733179.0284367278,424233.94204318308,7.3996283726527792E-2,null,null,null,null,null,"RPPULOOFF",0,0]
[null,"RPPTOUON",1871209.9699867745,282498.31864495092,0.15097093494373995,null,null,null,null,null,"RPPULOON",0,0]
[null,"RETAIL",null,null,null,null,null,null,null,null,"RPPULOOVN",0,0]
[null,"NSLS",3816673.9843159141,95610.549505485993,2.5050750967566034E-2,null,null,null,null,null,null,{"$f":"SUM(L18:L26)","v":0.99999999999999989},{"$f":"SUM(M18:M26)","v":10776926.327295005}]
[null,"INTERVAL"]
[null,"HOEP",8394039.363803938,209692.63365002596,2.4981135370206232E-2]
[null,"Grand Total",22855660.615062792,1308449.49828543]
[null,null,null,null,null,null,null,null,null,null,"Global Adjustment","per kWh"]
[null,null,{"$f":"C30/C11-1","v":-9.3766855766969082E-3},null,null,null,null,null,null,null,"Class B - GA actual8",{"$f":"B69/100","v":8.0299997329711909E-2},null,"GA Posted Price"]
[null,null,null,null,null,null,null,null,null,null,"Class B - GA actual IESO billed",{"$f":"+M33/M8","v":8.0300341677301185E-2},{"$f":"B76","v":1418540.9},"GA Billed by IESO CT 148"]
[]
[]
[]
["RPP COP Volume and Price Data"]
[null,"bill_year",2023]
[null,"bill_month",3]
[]
[null,"Row Labels","usagebilled ","amountbilled ","Rate"]
[null,"RPPTIERED",1226587.2594736149,30651.072312783996,{"$f":"D42/C42","v":2.4988904846392896E-2}]
[null,"RPPTOU",9595680.1923598945,240186.43835846096,2.5030683968573487E-2]
[null,"Grand Total",10822267.451833509,270837.51067124493]
[]
[null,null,{"$f":"SUM(C20:C25)-C44","v":-177320.18489056826}]
[null,null,{"$f":"C46/C44","v":-1.6384753535223957E-2}]
[]
[]
[]
[]
[]
[]
[]
[]
[]
[]
[]
[]
["Year",2023]
[]
["Class A",""]
["Source","kWh"]
[202303,5406559.0999999996]
[]
[]
["ga_actual ","year "]
["month",2023]
[202303,8.0299997329711914]
[]
[]
["chargetype",148]
[]
["Sum of chargeamount","year "]
["month",2023]
[202303,1418540.9]

{"sheet":"I7 Input Rev 03 Init","index":9,"n_rows":12,"n_cols":3,"rows_kept":12,"cut":false,"hidden":true,"merged":[[3,0,3,2]]}
["Reverse IESO Posted"]
[]
[]
[]
[{"$f":"Admin!B14","v":202303}]
["RPP Revenue Prices","kWh Volumes","$ RPP Settlement"]
["RPPTiered_1",956949.9,16126.42]
["RPPTiered_2",329868.37,280.83]
["RPPTOU_MID",1817996.2,-323.58]
["RPPTOU_OFF",6327729.6799999997,176053.2]
["RPPTOU_ON",1877575.38,-92333.77]
["Grand Total",11310119.529999999,99803.10000000002]

{"sheet":"I8 Input 04 Trueup Sett","index":10,"n_rows":76,"n_cols":26,"rows_kept":76,"cut":false,"hidden":true,"merged":[[2,15,2,25]]}
["Date:",{"$f":"Admin!B8+3","v":202304}," Trueup",null,null,null,null,null,null,null,{"$f":" \"Data for 1st True up of RPP Settlement based on Actual IESO Invoice\"","v":"Data for 1st True up of RPP Settlement based on Actual IESO Invoice"},null,null,null,null,"For Reconciliation"]
[]
["Wholesale Electricty","Year",2023,null,"Rate",null,null,null,null,null,null,null,null,null,null,"Actual RPP Revenue and GA"]
[null,"dateref",202304,null,null,null,null,null,null,null," Wholesale Volume data per IESO Power Bill:","GA RPP/non-RPP Ratios","GA Volumes","Energy Volumes",null,{"$f":"B1","v":202304}]
[null,null,null,null,null,null,null,null,null,null,"AQEW",null,{"$f":"C10","v":18860183.949999999},{"$f":"+M5","v":18860183.949999999},null,"RPP Revenue Prices","RPP Rate","Estimated RPP Energy Price","GA actual IESO billed","Total Commodity","Difference","kWh Volumes","$ Estimated RPP Revenue","$ Estimated RPP Energy","$ Estimated GA","$ Estimated RPP Settlement"]
[null,"Wholesale","",null,null,null,null,null,null,null,"Embedded Generation",null,{"$f":"SUM(C8:C9)","v":752413.02},{"$f":"+M6","v":752413.02},null,"RPPT1",{"$f":"E20","v":8.7000141756646332E-2},{"$f":"E42","v":2.1355441394553306E-2},{"$f":"L33","v":9.849702601086327E-2},{"$f":"R6+S6","v":0.11985246740541658},{"$f":"+Q6-T6","v":-3.2852325648770248E-2},{"$f":"M18","v":816187.08698854025},{"$f":"Q6*V6","v":71008.392267947231},{"$f":"R6*V6","v":17430.035503174953},{"$f":"+V6*S6","v":80392.000736840972},{"$f":"W6-X6-Y6","v":-26813.64397206869}]
["FIT/mFIT","Source","kWh","Total Cost",null,null,null,null,null,null,"Class A customer Volumes for GA (TLF included)",null,{"$f":"-B64","v":-4919229.58},null,null,"RPPT2",{"$f":"E21","v":0.10300184617106942},{"$f":"R6","v":2.1355441394553306E-2},{"$f":"S6","v":9.849702601086327E-2},{"$f":"R7+S7","v":0.11985246740541658},{"$f":"+Q7-T7","v":-1.6850621234347163E-2},{"$f":"M19","v":136657.81682674232},{"$f":"Q7*V7","v":14076.007426862294},{"$f":"R7*V7","v":2918.387998351096},{"$f":"+V7*S7","v":13460.388538571426},{"$f":"W7-X7-Y7","v":-2302.7691100602278}]
[null,"FIT",713697.51,15146.04,{"$f":"D8/C8","v":2.1221931963865195E-2},null,null,null,null,null,null,null,{"$f":"+M5+M6+M7","v":14693367.389999999},{"$f":"+N5+N6+N7","v":19612596.969999999},null,"RPPTOUMID",{"$f":"E23","v":0.10199300636757472},{"$f":"E43","v":2.1460968618124174E-2},{"$f":"S7","v":9.849702601086327E-2},0.11995799462898744,-1.7964988261412726E-2,1340368.8433763003,136708.24797737776,28765.613684410175,132022.34483018616,-24079.710537218576]
[null,"microFIT",38715.51,819.62,{"$f":"D9/C9","v":2.1170326827671906E-2},null,null,null,null,null,null,null,null,null,null,"RPPTOUOFF",{"$f":"E24","v":7.3995503079866826E-2},{"$f":"R8","v":2.1460968618124174E-2},9.849702601086327E-2,0.11995799462898744,-4.5962491549120618E-2,5101160.122182426,377462.90953184356,109475.83729818353,502449.1012401809,-234462.02900652087]
[null,"WHOLESALE",18860183.949999999,396944.77,{"$f":"D10/C10","v":2.1046707235323654E-2},null,null,null,null,null,"Estimated Retail Volume Revenue Data (TLF Included)","RPP/non-RPP Ratios","GA Volumes","Energy Volumes",null,"RPPTOUON",0.15094914658887262,{"$f":"R9","v":2.1460968618124174E-2},9.849702601086327E-2,0.11995799462898744,3.099115195988518E-2,1368502.7576278248,206574.32336843896,29369.394735267138,134793.45171400596,42411.476919165871]
["Total Wholesale Electricity","Grand Total",19612596.969999999,412910.43,null,null,null,null,null,null,"Estimated Retail Revenue Data (Net of Retail Billed/Unbilled)",null,{"$f":"+M15","v":14693367.389999999},{"$f":"+N15","v":19612596.969999999},null,"RPPULOMID",0,0,0,0,0,0,0,0,0,0]
[null,null,null,null,null,null,null,null,null,null,null,null,null,null,null,"RPPULOOFF",0,0,0,0,0,0,0,0,0,0]
[null,null,null,null,null,null,null,null,null,null,"Estimated RPP Sales Quantities",{"$f":"SUM(C20:C25)/(C30-B64)","v":0.59638314311569351},{"$f":"M8*L13","v":8762876.6270018332},{"$f":"M13","v":8762876.6270018332},null,"RPPULOON",0,0,0,0,0,0,0,0,0,0]
["RPP Revenue Volume and Price Data",null,null,null,null,null,null,null,null,null,"Estimated non-RPP Sales Quantities",{"$f":"1-L13","v":0.40361685688430649},{"$f":"M8*L14","v":5930490.7629981656},{"$f":"N8-N13","v":10849720.342998166},null,"RPPULOOVN",0,0,0,0,0,0,0,0,0,0]
[null,"bill_year",2023,null,null,null,null,null,null,null,"Estimated Retail Revenue kWh Volumes ",{"$f":"+L13+L14","v":1},{"$f":"+M13+M14","v":14693367.389999999},{"$f":"+N13+N14","v":19612596.969999999},null,null,null,null,null,null,null,{"$f":"SUM(V6:V14)","v":8762876.6270018332},{"$f":"SUM(W6:W14)","v":805829.88057246991},{"$f":"SUM(X6:X14)","v":187959.26921938692},{"$f":"SUM(Y6:Y14)","v":863117.28705978533},{"$f":"SUM(Z6:Z14)","v":-245246.67570670246}]
[null,"bill_month",4,null,null,null,null,null,null,null,null,null,null,null,null,null,null,null,null,null,null,null,null,null,null,{"$f":"W15-X15-Y15-Z15","v":0}]
[null,null,null,null,null,null,null,null,null,null,"Estimated RPP Revenue Volume and Price Data","Actual %","kWh Volumes"]
[null,"Row Labels","usagebilled ","amountbilled ","Rate",null,null,null,null,null,"RPPT1",{"$f":"C20/SUM($C$20:$C$25)","v":9.3141455908845067E-2},{"$f":"$M$13*L18","v":816187.08698854025}]
[null,"RPPTIER",null,null,null,null,null,null,null,null,"RPPT2",{"$f":"C21/SUM($C$20:$C$25)","v":1.5595086253485116E-2},{"$f":"$M$13*L19","v":136657.81682674232}]
[null,"RPPT1",806903.86994664907,70200.751069344988,{"$f":"D20/C20","v":8.7000141756646332E-2},null,null,null,null,null,"RPPTOUMID",{"$f":"C23/SUM($C$20:$C$25)","v":0.15295991264399436},1340368.8433763003]
[null,"RPPT2",135103.48670525698,13915.908554790001,{"$f":"D21/C21","v":0.10300184617106942},null,null,null,null,null,"RPPTOUOFF",{"$f":"C24/SUM($C$20:$C$25)","v":0.58213305279955285},5101160.122182426]
[null,"RPPTOU",null,null,null,null,null,null,null,null,"RPPTOUON",0.15617049239412265,1368502.7576278248]
[null,"RPPTOUMID",1325123.6439758036,135153.34425784796,0.10199300636757472,null,null,null,null,null,"RPPULOMID",0,0]
[null,"RPPTOUOFF",5043140.1199861346,373169.69028063398,7.3995503079866826E-2,null,null,null,null,null,"RPPULOOFF",0,0]
[null,"RPPTOUON",1352937.5663573288,204224.77102966499,0.15094914658887262,null,null,null,null,null,"RPPULOON",0,0]
[null,"RETAIL",null,null,null,null,null,null,null,null,"RPPULOOVN",0,0]
[null,"NSLS",3240961.4006547742,68633.730833072012,2.1176966445575651E-2,null,null,null,null,null,null,{"$f":"SUM(L18:L26)","v":1},{"$f":"SUM(M18:M26)","v":8762876.6270018332}]
[null,"INTERVAL"]
[null,"HOEP",7541306.229851976,155566.27081268802,2.0628557715490298E-2]
[null,"Grand Total",19445476.317477923,1020864.466838042]
[null,null,null,null,null,null,null,null,null,null,"Global Adjustment","per kWh"]
[null,null,{"$f":"C30/C11-1","v":-8.5210873795912301E-3},null,null,null,null,null,null,null,"Class B - GA actual8",{"$f":"B69/100","v":9.8500003814697271E-2},null,"GA Posted Price"]
[null,null,null,null,null,null,null,null,null,null,"Class B - GA actual IESO billed",{"$f":"+M33/M8","v":9.849702601086327E-2},{"$f":"B76","v":1447252.99},"GA Billed by IESO CT 148"]
[]
[]
[]
["RPP COP Volume and Price Data"]
[null,"bill_year",2023]
[null,"bill_month",4]
[]
[null,"Row Labels","usagebilled ","amountbilled ","Rate"]
[null,"RPPTIERED",986521.69517855474,21067.606245841005,{"$f":"D42/C42","v":2.1355441394553306E-2}]
[null,"RPPTOU",7811009.1649786914,167631.82256548799,2.1460968618124174E-2]
[null,"Grand Total",8797530.8601572458,188699.42881132901]
[]
[null,null,{"$f":"SUM(C20:C25)-C44","v":-134322.17318607308}]
[null,null,{"$f":"C46/C44","v":-1.5268167321174048E-2}]
[]
[]
[]
[]
[]
[]
[]
[]
[]
[]
[]
[]
["Year",2023]
[]
["Class A",""]
["Source","kWh"]
[202304,4919229.58]
[]
[]
["ga_actual ","year "]
["month",2023]
[202304,9.8500003814697266]
[]
[]
["chargetype",148]
[]
["Sum of chargeamount","year "]
["month",2023]
[202304,1447252.99]

{"sheet":"I9 Input Rev 04 Init","index":11,"n_rows":12,"n_cols":3,"rows_kept":12,"cut":false,"hidden":true,"merged":[[3,0,3,2]]}
["Reverse IESO Posted"]
[]
[]
[]
[{"$f":"Admin!B17","v":202304}]
["RPP Revenue Prices","kWh Volumes","$ RPP Settlement"]
["RPPTiered_1",936580.82,17360.099999999999]
["RPPTiered_2",306275.99,776.62]
["RPPTOU_MID",1819262.11,7039.7]
["RPPTOU_OFF",5732473.5099999998,182693.05]
["RPPTOU_ON",1873530.66,-84553.35]
["Grand Total",10668123.09,123316.11999999997]

{"sheet":"I10 Input 05 Trueup Sett","index":12,"n_rows":76,"n_cols":26,"rows_kept":76,"cut":false,"hidden":true,"merged":[[2,15,2,25]]}
["Date:",{"$f":"Admin!B8+4","v":202305}," Trueup",null,null,null,null,null,null,null,{"$f":" \"Data for 1st True up of RPP Settlement based on Actual IESO Invoice\"","v":"Data for 1st True up of RPP Settlement based on Actual IESO Invoice"},null,null,null,null,"For Reconciliation"]
[]
["Wholesale Electricty","Year",2023,null,"Rate",null,null,null,null,null,null,null,null,null,null,"Actual RPP Revenue and GA"]
[null,"dateref",202305,null,null,null,null,null,null,null," Wholesale Volume data per IESO Power Bill:","GA RPP/non-RPP Ratios","GA Volumes","Energy Volumes",null,{"$f":"B1","v":202305}]
[null,null,null,null,null,null,null,null,null,null,"AQEW",null,{"$f":"C10","v":18443214.079999998},{"$f":"+M5","v":18443214.079999998},null,"RPP Revenue Prices","RPP Rate","Estimated RPP Energy Price","GA actual IESO billed","Total Commodity","Difference","kWh Volumes","$ Estimated RPP Revenue","$ Estimated RPP Energy","$ Estimated GA","$ Estimated RPP Settlement"]
[null,"Wholesale","",null,null,null,null,null,null,null,"Embedded Generation",null,{"$f":"SUM(C8:C9)","v":986794.69},{"$f":"+M6","v":986794.69},null,"RPPT1",{"$f":"E20","v":8.7000352842143622E-2},{"$f":"E42","v":1.7579025237595917E-2},{"$f":"L33","v":9.9948059082195256E-2},{"$f":"R6+S6","v":0.11752708431979117},{"$f":"+Q6-T6","v":-3.0526731477647548E-2},{"$f":"M18","v":741995.95422344084},{"$f":"Q6*V6","v":64553.909824882401},{"$f":"R6*V6","v":13043.565605487931},{"$f":"+V6*S6","v":74161.055471474319},{"$f":"W6-X6-Y6","v":-22650.711252079847}]
["FIT/mFIT","Source","kWh","Total Cost",null,null,null,null,null,null,"Class A customer Volumes for GA (TLF included)",null,{"$f":"-B64","v":-5179605.9800000004},null,null,"RPPT2",{"$f":"E21","v":0.10299949083384731},{"$f":"R6","v":1.7579025237595917E-2},{"$f":"S6","v":9.9948059082195256E-2},{"$f":"R7+S7","v":0.11752708431979117},{"$f":"+Q7-T7","v":-1.452759348594386E-2},{"$f":"M19","v":184893.32538078254},{"$f":"Q7*V7","v":19043.91837279746},{"$f":"R7*V7","v":3250.2444331318097},{"$f":"+V7*S7","v":18479.729009062004},{"$f":"W7-X7-Y7","v":-2686.0550693963542}]
[null,"FIT",937597.73,17378.490000000002,{"$f":"D8/C8","v":1.8535123799841114E-2},null,null,null,null,null,null,null,{"$f":"+M5+M6+M7","v":14250402.789999999},{"$f":"+N5+N6+N7","v":19430008.77},null,"RPPTOUMID",{"$f":"E23","v":0.10198756539780998},{"$f":"E43","v":1.7995161750835216E-2},{"$f":"S7","v":9.9948059082195256E-2},0.11794322083303047,-1.5955655435220484E-2,1417053.3971002861,144521.82600895423,25500.105090390174,141631.73665600488,-22610.01573744083]
[null,"microFIT",49196.959999999999,907.94,{"$f":"D9/C9","v":1.845520536228255E-2},null,null,null,null,null,null,null,null,null,null,"RPPTOUOFF",{"$f":"E24","v":7.3993468242161284E-2},{"$f":"R8","v":1.7995161750835216E-2},9.9948059082195256E-2,0.11794322083303047,-4.3949752590869182E-2,4457672.8452853914,329838.67411156936,80216.543883216465,445535.74890968174,-195913.61868132884]
[null,"WHOLESALE",18443214.079999998,322522.32,{"$f":"D10/C10","v":1.7487316397294676E-2},null,null,null,null,null,"Estimated Retail Volume Revenue Data (TLF Included)","RPP/non-RPP Ratios","GA Volumes","Energy Volumes",null,"RPPTOUON",0.15091895957701565,{"$f":"R9","v":1.7995161750835216E-2},9.9948059082195256E-2,0.11794322083303047,3.2975738743985183E-2,1408256.0314889867,212532.53509037485,25341.795073233607,140752.45703811906,46438.282979022188]
["Total Wholesale Electricity","Grand Total",19430008.77,340808.75,null,null,null,null,null,null,"Estimated Retail Revenue Data (Net of Retail Billed/Unbilled)",null,{"$f":"+M15","v":14250402.789999999},{"$f":"+N15","v":19430008.77},null,"RPPULOMID",0,0,0,0,0,0,0,0,0,0]
[null,null,null,null,null,null,null,null,null,null,null,null,null,null,null,"RPPULOOFF",0,0,0,0,0,0,0,0,0,0]
[null,null,null,null,null,null,null,null,null,null,"Estimated RPP Sales Quantities",{"$f":"SUM(C20:C25)/(C30-B64)","v":0.57611505263837448},{"$f":"M8*L13","v":8209871.5534788882},{"$f":"M13","v":8209871.5534788882},null,"RPPULOON",0,0,0,0,0,0,0,0,0,0]
["RPP Revenue Volume and Price Data",null,null,null,null,null,null,null,null,null,"Estimated non-RPP Sales Quantities",{"$f":"1-L13","v":0.42388494736162552},{"$f":"M8*L14","v":6040531.2365211109},{"$f":"N8-N13","v":11220137.21652111},null,"RPPULOOVN",0,0,0,0,0,0,0,0,0,0]
[null,"bill_year",2023,null,null,null,null,null,null,null,"Estimated Retail Revenue kWh Volumes ",{"$f":"+L13+L14","v":1},{"$f":"+M13+M14","v":14250402.789999999},{"$f":"+N13+N14","v":19430008.77},null,null,null,null,null,null,null,{"$f":"SUM(V6:V14)","v":8209871.5534788873},{"$f":"SUM(W6:W14)","v":770490.86340857833},{"$f":"SUM(X6:X14)","v":147352.25408545998},{"$f":"SUM(Y6:Y14)","v":820560.72708434204},{"$f":"SUM(Z6:Z14)","v":-197422.11776122369}]
[null,"bill_month",5,null,null,null,null,null,null,null,null,null,null,null,null,null,null,null,null,null,null,null,null,null,null,{"$f":"W15-X15-Y15-Z15","v":0}]
[null,null,null,null,null,null,null,null,null,null,"Estimated RPP Revenue Volume and Price Data","Actual %","kWh Volumes"]
[null,"Row Labels","usagebilled ","amountbilled ","Rate",null,null,null,null,null,"RPPT1",{"$f":"C20/SUM($C$20:$C$25)","v":9.0378509504088905E-2},{"$f":"$M$13*L18","v":741995.95422344084}]
[null,"RPPTIER",null,null,null,null,null,null,null,null,"RPPT2",{"$f":"C21/SUM($C$20:$C$25)","v":2.2520854824145817E-2},{"$f":"$M$13*L19","v":184893.32538078254}]
[null,"RPPT1",738556.104184506,64254.641657771012,{"$f":"D20/C20","v":8.7000352842143622E-2},null,null,null,null,null,"RPPTOUMID",{"$f":"C23/SUM($C$20:$C$25)","v":0.17260360139249895},1417053.3971002861]
[null,"RPPT2",184036.17069026199,18955.631876108,{"$f":"D21/C21","v":0.10299949083384731},null,null,null,null,null,"RPPTOUOFF",{"$f":"C24/SUM($C$20:$C$25)","v":0.54296499235685081},4457672.8452853914]
[null,"RPPTOU",null,null,null,null,null,null,null,null,"RPPTOUON",0.17153204192241545,1408256.0314889867]
[null,"RPPTOUMID",1410484.0200633323,143851.83123877502,0.10198756539780998,null,null,null,null,null,"RPPULOMID",0,0]
[null,"RPPTOUOFF",4437007.3335354496,328309.56122419203,7.3993468242161284E-2,null,null,null,null,null,"RPPULOOFF",0,0]
[null,"RPPTOUON",1401727.438526755,211547.24663301301,0.15091895957701565,null,null,null,null,null,"RPPULOON",0,0]
[null,"RETAIL",null,null,null,null,null,null,null,null,"RPPULOOVN",0,0]
[null,"NSLS",3336479.1648998391,60319.761823916,1.8078866626378826E-2,null,null,null,null,null,null,{"$f":"SUM(L18:L26)","v":0.99999999999999989},{"$f":"SUM(M18:M26)","v":8209871.5534788873}]
[null,"INTERVAL"]
[null,"HOEP",7855654.5005360367,135775.95757913397,1.7283850450636441E-2]
[null,"Grand Total",19363944.73243618,963014.63203290896]
[null,null,null,null,null,null,null,null,null,null,"Global Adjustment","per kWh"]
[null,null,{"$f":"C30/C11-1","v":-3.4001033322137442E-3},null,null,null,null,null,null,null,"Class B - GA actual8",{"$f":"B69/100","v":9.9600000381469725E-2},null,"GA Posted Price"]
[null,null,null,null,null,null,null,null,null,null,"Class B - GA actual IESO billed",{"$f":"+M33/M8","v":9.9948059082195256E-2},{"$f":"B76","v":1424300.1},"GA Billed by IESO CT 148"]
[]
[]
[]
["RPP COP Volume and Price Data"]
[null,"bill_year",2023]
[null,"bill_month",5]
[]
[null,"Row Labels","usagebilled ","amountbilled ","Rate"]
[null,"RPPTIERED",891524.4736386931,15672.131222029002,{"$f":"D42/C42","v":1.7579025237595917E-2}]
[null,"RPPTOU",7284471.1438705409,131085.23650324202,1.7995161750835216E-2]
[null,"Grand Total",8175995.6175092338,146757.36772527103]
[]
[null,null,{"$f":"SUM(C20:C25)-C44","v":-4184.5505089284852}]
[null,null,{"$f":"C46/C44","v":-5.1180928961937027E-4}]
[]
[]
[]
[]
[]
[]
[]
[]
[]
[]
[]
[]
["Year",2023]
[]
["Class A",""]
["Source","kWh"]
[202305,5179605.9800000004]
[]
[]
["ga_actual ","year "]
["month",2023]
[202305,9.9600000381469727]
[]
[]
["chargetype",148]
[]
["Sum of chargeamount","year "]
["month",2023]
[202305,1424300.1]

{"sheet":"I11 Input Rev 05 Init","index":13,"n_rows":12,"n_cols":3,"rows_kept":12,"cut":false,"hidden":true,"merged":[[3,0,3,2]]}
["Reverse IESO Posted"]
[]
[]
[]
[{"$f":"Admin!B20","v":202305}]
["RPP Revenue Prices","kWh Volumes","$ RPP Settlement"]
["RPPTiered_1",847946.98,27148.92]
["RPPTiered_2",147768.75,2366.14]
["RPPTOU_MID",1354869.67,21803]
["RPPTOU_OFF",5190583.26,228867.38]
["RPPTOU_ON",1397416.4,-45985.07]
["Grand Total",8938585.0600000005,234200.37]

{"sheet":"I12 Input 06 Trueup Sett","index":14,"n_rows":76,"n_cols":26,"rows_kept":76,"cut":false,"hidden":true,"merged":[[2,15,2,25]]}
["Date:",{"$f":"Admin!B8+5","v":202306}," Trueup",null,null,null,null,null,null,null,{"$f":" \"Data for 1st True up of RPP Settlement based on Actual IESO Invoice\"","v":"Data for 1st True up of RPP Settlement based on Actual IESO Invoice"},null,null,null,null,"For Reconciliation"]
[]
["Wholesale Electricty","Year",2023,null,"Rate",null,null,null,null,null,null,null,null,null,null,"Actual RPP Revenue and GA"]
[null,"dateref",202306,null,null,null,null,null,null,null," Wholesale Volume data per IESO Power Bill:","GA RPP/non-RPP Ratios","GA Volumes","Energy Volumes",null,{"$f":"B1","v":202306}]
[null,null,null,null,null,null,null,null,null,null,"AQEW",null,{"$f":"C10","v":19093937.100000001},{"$f":"+M5","v":19093937.100000001},null,"RPP Revenue Prices","RPP Rate","Estimated RPP Energy Price","GA actual IESO billed","Total Commodity","Difference","kWh Volumes","$ Estimated RPP Revenue","$ Estimated RPP Energy","$ Estimated GA","$ Estimated RPP Settlement"]
[null,"Wholesale","",null,null,null,null,null,null,null,"Embedded Generation",null,{"$f":"SUM(C8:C9)","v":784522.09},{"$f":"+M6","v":784522.09},null,"RPPT1",{"$f":"E20","v":8.7000071521214889E-2},{"$f":"E42","v":3.0826708867342088E-2},{"$f":"L33","v":8.2617420091012264E-2},{"$f":"R6+S6","v":0.11344412895835435},{"$f":"+Q6-T6","v":-2.6444057437139457E-2},{"$f":"M18","v":712815.03443052142},{"$f":"Q6*V6","v":62014.95897685262},{"$f":"R6*V6","v":21973.741542654112},{"$f":"+V6*S6","v":58890.939146735756},{"$f":"W6-X6-Y6","v":-18849.721712537248}]
["FIT/mFIT","Source","kWh","Total Cost",null,null,null,null,null,null,"Class A customer Volumes for GA (TLF included)",null,{"$f":"-B64","v":-4723319.7699999996},null,null,"RPPT2",{"$f":"E21","v":0.10300098255102284},{"$f":"R6","v":3.0826708867342088E-2},{"$f":"S6","v":8.2617420091012264E-2},{"$f":"R7+S7","v":0.11344412895835435},{"$f":"+Q7-T7","v":-1.0443146407331502E-2},{"$f":"M19","v":203180.63849445715},{"$f":"Q7*V7","v":20927.805400273261},{"$f":"R7*V7","v":6263.3903903493092},{"$f":"+V7*S7","v":16786.260164856663},{"$f":"W7-X7-Y7","v":-2121.845154932711}]
[null,"FIT",746236.02,24873.08,{"$f":"D8/C8","v":3.3331384888121589E-2},null,null,null,null,null,null,null,{"$f":"+M5+M6+M7","v":15155139.420000002},{"$f":"+N5+N6+N7","v":19878459.190000001},null,"RPPTOUMID",{"$f":"E23","v":0.10199489416824502},{"$f":"E43","v":3.11057223158962E-2},{"$f":"S7","v":8.2617420091012264E-2},0.11372314240690846,-1.1728248238663447E-2,1571674.6946366413,160302.79414637302,48888.076622288318,129847.70849320882,-18432.990969124119]
[null,"microFIT",38286.07,1276.24,{"$f":"D9/C9","v":3.3334317155038373E-2},null,null,null,null,null,null,null,null,null,null,"RPPTOUOFF",{"$f":"E24","v":7.3995031613986434E-2},{"$f":"R8","v":3.11057223158962E-2},8.2617420091012264E-2,0.11372314240690846,-3.9728110792922031E-2,4767849.4918844057,352797.17388271575,148307.40233854312,393907.42440173333,-189417.65285756069]
[null,"WHOLESALE",19093937.100000001,580068.36,{"$f":"D10/C10","v":3.0379714616321846E-2},null,null,null,null,null,"Estimated Retail Volume Revenue Data (TLF Included)","RPP/non-RPP Ratios","GA Volumes","Energy Volumes",null,"RPPTOUON",0.15095267244549851,{"$f":"R9","v":3.11057223158962E-2},8.2617420091012264E-2,0.11372314240690846,3.7229530038590045E-2,1684077.923955668,254216.0632275751,52384.460260895969,139134.17330944524,62697.429657233908]
["Total Wholesale Electricity","Grand Total",19878459.190000001,606217.67999999993,null,null,null,null,null,null,"Estimated Retail Revenue Data (Net of Retail Billed/Unbilled)",null,{"$f":"+M15","v":15155139.420000002},{"$f":"+N15","v":19878459.190000001},null,"RPPULOMID",0,0,0,0,0,0,0,0,0,0]
[null,null,null,null,null,null,null,null,null,null,null,null,null,null,null,"RPPULOOFF",0,0,0,0,0,0,0,0,0,0]
[null,null,null,null,null,null,null,null,null,null,"Estimated RPP Sales Quantities",{"$f":"SUM(C20:C25)/(C30-B64)","v":0.58987235522256187},{"$f":"M8*L13","v":8939597.7834016923},{"$f":"M13","v":8939597.7834016923},null,"RPPULOON",0,0,0,0,0,0,0,0,0,0]
["RPP Revenue Volume and Price Data",null,null,null,null,null,null,null,null,null,"Estimated non-RPP Sales Quantities",{"$f":"1-L13","v":0.41012764477743813},{"$f":"M8*L14","v":6215541.6365983104},{"$f":"N8-N13","v":10938861.406598309},null,"RPPULOOVN",0,0,0,0,0,0,0,0,0,0]
[null,"bill_year",2023,null,null,null,null,null,null,null,"Estimated Retail Revenue kWh Volumes ",{"$f":"+L13+L14","v":1},{"$f":"+M13+M14","v":15155139.420000002},{"$f":"+N13+N14","v":19878459.190000001},null,null,null,null,null,null,null,{"$f":"SUM(V6:V14)","v":8939597.7834016941},{"$f":"SUM(W6:W14)","v":850258.79563378985},{"$f":"SUM(X6:X14)","v":277817.0711547308},{"$f":"SUM(Y6:Y14)","v":738566.50551597984},{"$f":"SUM(Z6:Z14)","v":-166124.78103692087}]
[null,"bill_month",6,null,null,null,null,null,null,null,null,null,null,null,null,null,null,null,null,null,null,null,null,null,null,{"$f":"W15-X15-Y15-Z15","v":0}]
[null,null,null,null,null,null,null,null,null,null,"Estimated RPP Revenue Volume and Price Data","Actual %","kWh Volumes"]
[null,"Row Labels","usagebilled ","amountbilled ","Rate",null,null,null,null,null,"RPPT1",{"$f":"C20/SUM($C$20:$C$25)","v":7.9736812740503551E-2},{"$f":"$M$13*L18","v":712815.03443052142}]
[null,"RPPTIER",null,null,null,null,null,null,null,null,"RPPT2",{"$f":"C21/SUM($C$20:$C$25)","v":2.2728163326509634E-2},{"$f":"$M$13*L19","v":203180.63849445715}]
[null,"RPPT1",704600.82841476705,61300.322465991994,{"$f":"D20/C20","v":8.7000071521214889E-2},null,null,null,null,null,"RPPTOUMID",{"$f":"C23/SUM($C$20:$C$25)","v":0.1758104483799928},1571674.6946366413]
[null,"RPPT2",200839.26304305505,20686.641428258001,{"$f":"D21/C21","v":0.10300098255102284},null,null,null,null,null,"RPPTOUOFF",{"$f":"C24/SUM($C$20:$C$25)","v":0.53334049332028732},4767849.4918844057]
[null,"RPPTOU",null,null,null,null,null,null,null,null,"RPPTOUON",0.18838408223270681,1684077.923955668]
[null,"RPPTOUMID",1553563.3205663578,158455.52646483298,0.10199489416824502,null,null,null,null,null,"RPPULOMID",0,0]
[null,"RPPTOUOFF",4712906.6300103758,348731.67508138402,7.3995031613986434E-2,null,null,null,null,null,"RPPULOOFF",0,0]
[null,"RPPTOUON",1664671.2583470962,251286.57519070501,0.15095267244549851,null,null,null,null,null,"RPPULOON",0,0]
[null,"RETAIL",null,null,null,null,null,null,null,null,"RPPULOOVN",0,0]
[null,"NSLS",3647045.4416223285,111103.84927533701,3.0464070452029871E-2,null,null,null,null,null,null,{"$f":"SUM(L18:L26)","v":1},{"$f":"SUM(M18:M26)","v":8939597.7834016941}]
[null,"INTERVAL"]
[null,"HOEP",7220190.456202439,214986.36752048202,2.9775719743763814E-2]
[null,"Grand Total",19703817.198206417,1166550.9574269911]
[null,null,null,null,null,null,null,null,null,null,"Global Adjustment","per kWh"]
[null,null,{"$f":"C30/C11-1","v":-8.7854893643587451E-3},null,null,null,null,null,null,null,"Class B - GA actual8",{"$f":"B69/100","v":8.2899999618530271E-2},null,"GA Posted Price"]
[null,null,null,null,null,null,null,null,null,null,"Class B - GA actual IESO billed",{"$f":"+M33/M8","v":8.2617420091012264E-2},{"$f":"B76","v":1252078.52},"GA Billed by IESO CT 148"]
[]
[]
[]
["RPP COP Volume and Price Data"]
[null,"bill_year",2023]
[null,"bill_month",6]
[]
[null,"Row Labels","usagebilled ","amountbilled ","Rate"]
[null,"RPPTIERED",905795.99341003294,27922.709382055997,{"$f":"D42/C42","v":3.0826708867342088E-2}]
[null,"RPPTOU",7950629.799178727,247310.08276974305,3.11057223158962E-2]
[null,"Grand Total",8856425.7925887592,275232.79215179908]
[]
[null,null,{"$f":"SUM(C20:C25)-C44","v":-19844.492207108065}]
[null,null,{"$f":"C46/C44","v":-2.2406885883596911E-3}]
[]
[]
[]
[]
[]
[]
[]
[]
[]
[]
[]
[]
["Year",2023]
[]
["Class A",""]
["Source","kWh"]
[202306,4723319.7699999996]
[]
[]
["ga_actual ","year "]
["month",2023]
[202306,8.2899999618530273]
[]
[]
["chargetype",148]
[]
["Sum of chargeamount","year "]
["month",2023]
[202306,1252078.52]

{"sheet":"I13 Input Rev 06 Init","index":15,"n_rows":12,"n_cols":3,"rows_kept":12,"cut":false,"hidden":true,"merged":[[3,0,3,2]]}
["Reverse IESO Posted"]
[]
[]
[]
[{"$f":"Admin!B23","v":202306}]
["RPP Revenue Prices","kWh Volumes","$ RPP Settlement"]
["RPPTiered_1",705141.28,21245.58]
["RPPTiered_2",178715.42,2525.31]
["RPPTOU_MID",1396921.81,21651.37]
["RPPTOU_OFF",4338453.2699999996,188721.04]
["RPPTOU_ON",1396815.42,-46792.91]
["Grand Total",8016047.2000000002,187350.39]

{"sheet":"I14 Input 07 Trueup Sett","index":16,"n_rows":76,"n_cols":26,"rows_kept":76,"cut":false,"hidden":true,"merged":[[2,15,2,25]]}
["Date:",{"$f":"Admin!B8+6","v":202307}," Trueup",null,null,null,null,null,null,null,{"$f":" \"Data for 1st True up of RPP Settlement based on Actual IESO Invoice\"","v":"Data for 1st True up of RPP Settlement based on Actual IESO Invoice"},null,null,null,null,"For Reconciliation"]
[]
["Wholesale Electricty","Year",2023,null,"Rate",null,null,null,null,null,null,null,null,null,null,"Actual RPP Revenue and GA"]
[null,"dateref",202307,null,null,null,null,null,null,null," Wholesale Volume data per IESO Power Bill:","GA RPP/non-RPP Ratios","GA Volumes","Energy Volumes",null,{"$f":"B1","v":202307}]
[null,null,null,null,null,null,null,null,null,null,"AQEW",null,{"$f":"C10","v":20874316.190000001},{"$f":"+M5","v":20874316.190000001},null,"RPP Revenue Prices","RPP Rate","Estimated RPP Energy Price","GA actual IESO billed","Total Commodity","Difference","kWh Volumes","$ Estimated RPP Revenue","$ Estimated RPP Energy","$ Estimated GA","$ Estimated RPP Settlement"]
[null,"Wholesale","",null,null,null,null,null,null,null,"Embedded Generation",null,{"$f":"SUM(C8:C9)","v":863913.49},{"$f":"+M6","v":863913.49},null,"RPPT1",{"$f":"E20","v":8.7000316998086427E-2},{"$f":"E42","v":4.0805623468442874E-2},{"$f":"L33","v":5.0092281144024378E-2},{"$f":"R6+S6","v":9.0897904612467245E-2},{"$f":"+Q6-T6","v":-3.897587614380818E-3},{"$f":"M18","v":802462.88754466677},{"$f":"Q6*V6","v":69814.525595585787},{"$f":"R6*V6","v":32744.998436547088},{"$f":"+V6*S6","v":40197.196570533066},{"$f":"W6-X6-Y6","v":-3127.6694114943675}]
["FIT/mFIT","Source","kWh","Total Cost",null,null,null,null,null,null,"Class A customer Volumes for GA (TLF included)",null,{"$f":"-B64","v":-3986098.22},null,null,"RPPT2",{"$f":"E21","v":0.10300025164465233},{"$f":"R6","v":4.0805623468442874E-2},{"$f":"S6","v":5.0092281144024378E-2},{"$f":"R7+S7","v":9.0897904612467245E-2},{"$f":"+Q7-T7","v":1.2102347032185087E-2},{"$f":"M19","v":305745.75011957157},{"$f":"Q7*V7","v":31491.889201598864},{"$f":"R7*V7","v":12476.145956455861},{"$f":"+V7*S7","v":15315.502073580205},{"$f":"W7-X7-Y7","v":3700.2411715627986}]
[null,"FIT",822354.47,35649.279999999999,{"$f":"D8/C8","v":4.335025989461698E-2},null,null,null,null,null,null,null,{"$f":"+M5+M6+M7","v":17752131.460000001},{"$f":"+N5+N6+N7","v":21738229.68},null,"RPPTOUMID",{"$f":"E23","v":0.10199530955531352},{"$f":"E43","v":4.1115846790894327E-2},{"$f":"S7","v":5.0092281144024378E-2},9.1208127934918698E-2,1.0787181620394826E-2,1790289.8376309203,182601.16618289769,73609.282675327995,89679.701875897823,19312.181631671876]
[null,"microFIT",41559.019999999997,1815.55,{"$f":"D9/C9","v":4.3686063819599212E-2},null,null,null,null,null,null,null,null,null,null,"RPPTOUOFF",{"$f":"E24","v":7.3997991360556653E-2},{"$f":"R8","v":4.1115846790894327E-2},5.0092281144024378E-2,9.1208127934918698E-2,-1.7210136574362045E-2,6098314.1568656787,451262.9982937068,250737.35055643116,305478.46725029958,-104952.81951302395]
[null,"WHOLESALE",20874316.190000001,850093.66,{"$f":"D10/C10","v":4.0724383604347422E-2},null,null,null,null,null,"Estimated Retail Volume Revenue Data (TLF Included)","RPP/non-RPP Ratios","GA Volumes","Energy Volumes",null,"RPPTOUON",0.1509599667588164,{"$f":"R9","v":4.1115846790894327E-2},5.0092281144024378E-2,9.1208127934918698E-2,5.9751838823897702E-2,2012515.9432085832,303809.33988835575,82746.297185196294,100811.51443403575,120251.52826912369]
["Total Wholesale Electricity","Grand Total",21738229.68,887558.49,null,null,null,null,null,null,"Estimated Retail Revenue Data (Net of Retail Billed/Unbilled)",null,{"$f":"+M15","v":17752131.460000001},{"$f":"+N15","v":21738229.68},null,"RPPULOMID",0,0,0,0,0,0,0,0,0,0]
[null,null,null,null,null,null,null,null,null,null,null,null,null,null,null,"RPPULOOFF",0,0,0,0,0,0,0,0,0,0]
[null,null,null,null,null,null,null,null,null,null,"Estimated RPP Sales Quantities",{"$f":"SUM(C20:C25)/(C30-B64)","v":0.62016939206293031},{"$f":"M8*L13","v":11009328.57536942},{"$f":"M13","v":11009328.57536942},null,"RPPULOON",0,0,0,0,0,0,0,0,0,0]
["RPP Revenue Volume and Price Data",null,null,null,null,null,null,null,null,null,"Estimated non-RPP Sales Quantities",{"$f":"1-L13","v":0.37983060793706969},{"$f":"M8*L14","v":6742802.8846305804},{"$f":"N8-N13","v":10728901.10463058},null,"RPPULOOVN",0,0,0,0,0,0,0,0,0,0]
[null,"bill_year",2023,null,null,null,null,null,null,null,"Estimated Retail Revenue kWh Volumes ",{"$f":"+L13+L14","v":1},{"$f":"+M13+M14","v":17752131.460000001},{"$f":"+N13+N14","v":21738229.68},null,null,null,null,null,null,null,{"$f":"SUM(V6:V14)","v":11009328.575369421},{"$f":"SUM(W6:W14)","v":1038979.9191621449},{"$f":"SUM(X6:X14)","v":452314.0748099584},{"$f":"SUM(Y6:Y14)","v":551482.38220434636},{"$f":"SUM(Z6:Z14)","v":35183.462147840051}]
[null,"bill_month",7,null,null,null,null,null,null,null,null,null,null,null,null,null,null,null,null,null,null,null,null,null,null,{"$f":"W15-X15-Y15-Z15","v":0}]
[null,null,null,null,null,null,null,null,null,null,"Estimated RPP Revenue Volume and Price Data","Actual %","kWh Volumes"]
[null,"Row Labels","usagebilled ","amountbilled ","Rate",null,null,null,null,null,"RPPT1",{"$f":"C20/SUM($C$20:$C$25)","v":7.2889357607145447E-2},{"$f":"$M$13*L18","v":802462.88754466677}]
[null,"RPPTIER",null,null,null,null,null,null,null,null,"RPPT2",{"$f":"C21/SUM($C$20:$C$25)","v":2.7771516494075773E-2},{"$f":"$M$13*L19","v":305745.75011957157}]
[null,"RPPT1",788643.1430523193,68612.203443919003,{"$f":"D20/C20","v":8.7000316998086427E-2},null,null,null,null,null,"RPPTOUMID",{"$f":"C23/SUM($C$20:$C$25)","v":0.16261571497068766},1790289.8376309203]
[null,"RPPT2",300480.30020050798,30949.546534912999,{"$f":"D21/C21","v":0.10300025164465233},null,null,null,null,null,"RPPTOUOFF",{"$f":"C24/SUM($C$20:$C$25)","v":0.55392244087519649},6098314.1568656787]
[null,"RPPTOU",null,null,null,null,null,null,null,null,"RPPTOUON",0.1828009700528947,2012515.9432085832]
[null,"RPPTOUMID",1759458.0714429438,179456.47064641799,0.10199530955531352,null,null,null,null,null,"RPPULOMID",0,0]
[null,"RPPTOUOFF",5993291.0526323896,443491.49953399302,7.3997991360556653E-2,null,null,null,null,null,"RPPULOOFF",0,0]
[null,"RPPTOUON",1977857.074177247,298577.23817148706,0.1509599667588164,null,null,null,null,null,"RPPULOON",0,0]
[null,"RETAIL",null,null,null,null,null,null,null,null,"RPPULOOVN",0,0]
[null,"NSLS",3892043.2794717583,157594.86708956404,4.0491550523290523E-2,null,null,null,null,null,null,{"$f":"SUM(L18:L26)","v":1},{"$f":"SUM(M18:M26)","v":11009328.575369421}]
[null,"INTERVAL"]
[null,"HOEP",6720735.5539931385,268508.81892366003,3.9952296406622484E-2]
[null,"Grand Total",21432508.474970303,1447190.6443439543]
[null,null,null,null,null,null,null,null,null,null,"Global Adjustment","per kWh"]
[null,null,{"$f":"C30/C11-1","v":-1.4063758159247541E-2},null,null,null,null,null,null,null,"Class B - GA actual8",{"$f":"B69/100","v":4.9499998092651369E-2},null,"GA Posted Price"]
[null,null,null,null,null,null,null,null,null,null,"Class B - GA actual IESO billed",{"$f":"+M33/M8","v":5.0092281144024378E-2},{"$f":"B76","v":889244.76},"GA Billed by IESO CT 148"]
[]
[]
[]
["RPP COP Volume and Price Data"]
[null,"bill_year",2023]
[null,"bill_month",7]
[]
[null,"Row Labels","usagebilled ","amountbilled ","Rate"]
[null,"RPPTIERED",1089001.930209589,44437.402720539991,{"$f":"D42/C42","v":4.0805623468442874E-2}]
[null,"RPPTOU",9739808.2834198512,400460.46515377407,4.1115846790894327E-2]
[null,"Grand Total",10828810.213629439,444897.86787431408]
[]
[null,null,{"$f":"SUM(C20:C25)-C44","v":-9080.5721240323037}]
[null,null,{"$f":"C46/C44","v":-8.3855677077092415E-4}]
[]
[]
[]
[]
[]
[]
[]
[]
[]
[]
[]
[]
["Year",2023]
[]
["Class A",""]
["Source","kWh"]
[202307,3986098.22]
[]
[]
["ga_actual ","year "]
["month",2023]
[202307,4.9499998092651367]
[]
[]
["chargetype",148]
[]
["Sum of chargeamount","year "]
["month",2023]
[202307,889244.76]

{"sheet":"I15 Input Rev 07 Init","index":17,"n_rows":12,"n_cols":3,"rows_kept":12,"cut":false,"hidden":true,"merged":[[3,0,3,2]]}
["Reverse IESO Posted"]
[]
[]
[]
[{"$f":"Admin!B26","v":202307}]
["RPP Revenue Prices","kWh Volumes","$ RPP Settlement"]
["RPPTiered_1",689479.08,18535.64]
["RPPTiered_2",190983.03,2078.4]
["RPPTOU_MID",1484907.75,18231.560000000001]
["RPPTOU_OFF",4517335.78,181948.37]
["RPPTOU_ON",1587040.34,-58280.17]
["Grand Total",8469745.9800000004,162513.79999999999]

{"sheet":"I16 Input 08 Trueup Sett","index":18,"n_rows":76,"n_cols":26,"rows_kept":76,"cut":false,"hidden":true,"merged":[[2,15,2,25]]}
["Date:",{"$f":"Admin!B8+7","v":202308}," Trueup",null,null,null,null,null,null,null,{"$f":" \"Data for 1st True up of RPP Settlement based on Actual IESO Invoice\"","v":"Data for 1st True up of RPP Settlement based on Actual IESO Invoice"},null,null,null,null,"For Reconciliation"]
[]
["Wholesale Electricty","Year",2023,null,"Rate",null,null,null,null,null,null,null,null,null,null,"Actual RPP Revenue and GA"]
[null,"dateref",202308,null,null,null,null,null,null,null," Wholesale Volume data per IESO Power Bill:","GA RPP/non-RPP Ratios","GA Volumes","Energy Volumes",null,{"$f":"B1","v":202308}]
[null,null,null,null,null,null,null,null,null,null,"AQEW",null,{"$f":"C10","v":19944761.829999998},{"$f":"+M5","v":19944761.829999998},null,"RPP Revenue Prices","RPP Rate","Estimated RPP Energy Price","GA actual IESO billed","Total Commodity","Difference","kWh Volumes","$ Estimated RPP Revenue","$ Estimated RPP Energy","$ Estimated GA","$ Estimated RPP Settlement"]
[null,"Wholesale","",null,null,null,null,null,null,null,"Embedded Generation",null,{"$f":"SUM(C8:C9)","v":770241.5},{"$f":"+M6","v":770241.5},null,"RPPT1",{"$f":"E20","v":8.7000540227840498E-2},{"$f":"E42","v":3.1685430345152664E-2},{"$f":"L33","v":7.3724541682091388E-2},{"$f":"R6+S6","v":0.10540997202724406},{"$f":"+Q6-T6","v":-1.8409431799403561E-2},{"$f":"M18","v":749915.8191740883},{"$f":"Q6*V6","v":65243.081393549233},{"$f":"R6*V6","v":23761.405453168674},{"$f":"+V6*S6","v":55287.200068759783},{"$f":"W6-X6-Y6","v":-13805.52412837922}]
["FIT/mFIT","Source","kWh","Total Cost",null,null,null,null,null,null,"Class A customer Volumes for GA (TLF included)",null,{"$f":"-B64","v":-4268877.49},null,null,"RPPT2",{"$f":"E21","v":0.10299973669124642},{"$f":"R6","v":3.1685430345152664E-2},{"$f":"S6","v":7.3724541682091388E-2},{"$f":"R7+S7","v":0.10540997202724406},{"$f":"+Q7-T7","v":-2.4102353359976431E-3},{"$f":"M19","v":219481.52861892071},{"$f":"Q7*V7","v":22606.539656341098},{"$f":"R7*V7","v":6954.3666871024434},{"$f":"+V7*S7","v":16181.175105114753},{"$f":"W7-X7-Y7","v":-529.00213587609869}]
[null,"FIT",730086.37,24815.01,{"$f":"D8/C8","v":3.3989142955784805E-2},null,null,null,null,null,null,null,{"$f":"+M5+M6+M7","v":16446125.839999998},{"$f":"+N5+N6+N7","v":20715003.329999998},null,"RPPTOUMID",{"$f":"E23","v":0.10199834533244684},{"$f":"E43","v":3.1825235020284809E-2},{"$f":"S7","v":7.3724541682091388E-2},0.1055497767023762,-3.5514313699293587E-3,1718999.8039889142,175335.13563366971,54707.572761770716,126732.47270068763,-6104.9098287886445]
[null,"microFIT",40155.129999999997,1362.96,{"$f":"D9/C9","v":3.3942363030576669E-2},null,null,null,null,null,null,null,null,null,null,"RPPTOUOFF",{"$f":"E24","v":7.3998808276649397E-2},{"$f":"R8","v":3.1825235020284809E-2},7.3724541682091388E-2,0.1055497767023762,-3.15509684257268E-2,5301707.8086502021,392320.0596711213,168728.09701917184,390865.9783251012,-167274.01567315173]
[null,"WHOLESALE",19944761.829999998,625707.61,{"$f":"D10/C10","v":3.1372027168498913E-2},null,null,null,null,null,"Estimated Retail Volume Revenue Data (TLF Included)","RPP/non-RPP Ratios","GA Volumes","Energy Volumes",null,"RPPTOUON",0.15097239544527469,{"$f":"R9","v":3.1825235020284809E-2},7.3724541682091388E-2,0.1055497767023762,4.5422618742898491E-2,1885268.6250211261,284623.52037725871,59999.117067666535,138990.56532730913,85633.837982283032]
["Total Wholesale Electricity","Grand Total",20715003.329999998,651885.57999999996,null,null,null,null,null,null,"Estimated Retail Revenue Data (Net of Retail Billed/Unbilled)",null,{"$f":"+M15","v":16446125.839999998},{"$f":"+N15","v":20715003.329999998},null,"RPPULOMID",0,0,0,0,0,0,0,0,0,0]
[null,null,null,null,null,null,null,null,null,null,null,null,null,null,null,"RPPULOOFF",0,0,0,0,0,0,0,0,0,0]
[null,null,null,null,null,null,null,null,null,null,"Estimated RPP Sales Quantities",{"$f":"SUM(C20:C25)/(C30-B64)","v":0.60046807871520291},{"$f":"M8*L13","v":9875373.5854532514},{"$f":"M13","v":9875373.5854532514},null,"RPPULOON",0,0,0,0,0,0,0,0,0,0]
["RPP Revenue Volume and Price Data",null,null,null,null,null,null,null,null,null,"Estimated non-RPP Sales Quantities",{"$f":"1-L13","v":0.39953192128479709},{"$f":"M8*L14","v":6570752.2545467466},{"$f":"N8-N13","v":10839629.744546747},null,"RPPULOOVN",0,0,0,0,0,0,0,0,0,0]
[null,"bill_year",2023,null,null,null,null,null,null,null,"Estimated Retail Revenue kWh Volumes ",{"$f":"+L13+L14","v":1},{"$f":"+M13+M14","v":16446125.839999998},{"$f":"+N13+N14","v":20715003.329999998},null,null,null,null,null,null,null,{"$f":"SUM(V6:V14)","v":9875373.5854532514},{"$f":"SUM(W6:W14)","v":940128.33673194004},{"$f":"SUM(X6:X14)","v":314150.55898888019},{"$f":"SUM(Y6:Y14)","v":728057.39152697241},{"$f":"SUM(Z6:Z14)","v":-102079.61378391267}]
[null,"bill_month",8,null,null,null,null,null,null,null,null,null,null,null,null,null,null,null,null,null,null,null,null,null,null,{"$f":"W15-X15-Y15-Z15","v":1.7462298274040222E-10}]
[null,null,null,null,null,null,null,null,null,null,"Estimated RPP Revenue Volume and Price Data","Actual %","kWh Volumes"]
[null,"Row Labels","usagebilled ","amountbilled ","Rate",null,null,null,null,null,"RPPT1",{"$f":"C20/SUM($C$20:$C$25)","v":7.5937969605396893E-2},{"$f":"$M$13*L18","v":749915.8191740883}]
[null,"RPPTIER",null,null,null,null,null,null,null,null,"RPPT2",{"$f":"C21/SUM($C$20:$C$25)","v":2.2225136772772242E-2},{"$f":"$M$13*L19","v":219481.52861892071}]
[null,"RPPT1",739125.66345195391,64304.332016581015,{"$f":"D20/C20","v":8.7000540227840498E-2},null,null,null,null,null,"RPPTOUMID",{"$f":"C23/SUM($C$20:$C$25)","v":0.17406934422420811},1718999.8039889142]
[null,"RPPT2",216323.52099809403,22281.265702927001,{"$f":"D21/C21","v":0.10299973669124642},null,null,null,null,null,"RPPTOUOFF",{"$f":"C24/SUM($C$20:$C$25)","v":0.53686149316515897},5301707.8086502021]
[null,"RPPTOU",null,null,null,null,null,null,null,null,"RPPTOUON",0.19090605623246382,1885268.6250211261]
[null,"RPPTOUMID",1694265.9937436697,172812.32791488804,0.10199834533244684,null,null,null,null,null,"RPPULOMID",0,0]
[null,"RPPTOUOFF",5225424.2427006327,386675.16669976001,7.3998808276649397E-2,null,null,null,null,null,"RPPULOOFF",0,0]
[null,"RPPTOUON",1858142.4576275167,280528.21790659602,0.15097239544527469,null,null,null,null,null,"RPPULOON",0,0]
[null,"RETAIL",null,null,null,null,null,null,null,null,"RPPULOOVN",0,0]
[null,"NSLS",3796372.2368843099,119094.19040510501,3.1370525062854704E-2,null,null,null,null,null,null,{"$f":"SUM(L18:L26)","v":1},{"$f":"SUM(M18:M26)","v":9875373.5854532514}]
[null,"INTERVAL"]
[null,"HOEP",6948714.3093122374,214822.61063347699,3.0915447242605011E-2]
[null,"Grand Total",20478368.424718417,1260518.1112793339]
[null,null,null,null,null,null,null,null,null,null,"Global Adjustment","per kWh"]
[null,null,{"$f":"C30/C11-1","v":-1.1423358302765974E-2},null,null,null,null,null,null,null,"Class B - GA actual8",{"$f":"B69/100","v":7.6100001335144038E-2},null,"GA Posted Price"]
[null,null,null,null,null,null,null,null,null,null,"Class B - GA actual IESO billed",{"$f":"+M33/M8","v":7.3724541682091388E-2},{"$f":"B76","v":1212483.0900000001},"GA Billed by IESO CT 148"]
[]
[]
[]
["RPP COP Volume and Price Data"]
[null,"bill_year",2023]
[null,"bill_month",8]
[]
[null,"Row Labels","usagebilled ","amountbilled ","Rate"]
[null,"RPPTIERED",1157163.2185328726,36665.214558796004,{"$f":"D42/C42","v":3.1685430345152664E-2}]
[null,"RPPTOU",11748521.631254774,373899.46205558302,3.1825235020284809E-2]
[null,"Grand Total",12905684.849787647,410564.67661437904]
[]
[null,null,{"$f":"SUM(C20:C25)-C44","v":-3172402.9712657798}]
[null,null,{"$f":"C46/C44","v":-0.24581438398582769}]
[]
[]
[]
[]
[]
[]
[]
[]
[]
[]
[]
[]
["Year",2023]
[]
["Class A",""]
["Source","kWh"]
[202308,4268877.49]
[]
[]
["ga_actual ","year "]
["month",2023]
[202308,7.6100001335144043]
[]
[]
["chargetype",148]
[]
["Sum of chargeamount","year "]
["month",2023]
[202308,1212483.0900000001]

{"sheet":"I17 Input Rev 08 Init","index":19,"n_rows":12,"n_cols":3,"rows_kept":12,"cut":false,"hidden":true,"merged":[[3,0,3,2]]}
["Reverse IESO Posted"]
[]
[]
[]
[{"$f":"Admin!B29","v":202308}]
["RPP Revenue Prices","kWh Volumes","$ RPP Settlement"]
["RPPTiered_1",784759.13,4182.5]
["RPPTiered_2",284152.27,-3031.94]
["RPPTOU_MID",1704511.01,-13751.63]
["RPPTOU_OFF",5883687.9299999997,117275.24]
["RPPTOU_ON",1898516.04,-108343.29]
["Grand Total",10555626.380000001,-3669.1199999999808]

{"sheet":"I18 Input 09 Trueup Sett","index":20,"n_rows":76,"n_cols":26,"rows_kept":76,"cut":false,"hidden":true,"merged":[[2,15,2,25]]}
["Date:",{"$f":"Admin!B8+8","v":202309}," Trueup",null,null,null,null,null,null,null,{"$f":" \"Data for 1st True up of RPP Settlement based on Actual IESO Invoice\"","v":"Data for 1st True up of RPP Settlement based on Actual IESO Invoice"},null,null,null,null,"For Reconciliation"]
[]
["Wholesale Electricty","Year",2023,null,"Rate",null,null,null,null,null,null,null,null,null,null,"Actual RPP Revenue and GA"]
[null,"dateref",202309,null,null,null,null,null,null,null," Wholesale Volume data per IESO Power Bill:","GA RPP/non-RPP Ratios","GA Volumes","Energy Volumes",null,{"$f":"B1","v":202309}]
[null,null,null,null,null,null,null,null,null,null,"AQEW",null,{"$f":"C10","v":18297579.239999998},{"$f":"+M5","v":18297579.239999998},null,"RPP Revenue Prices","RPP Rate","Estimated RPP Energy Price","GA actual IESO billed","Total Commodity","Difference","kWh Volumes","$ Estimated RPP Revenue","$ Estimated RPP Energy","$ Estimated GA","$ Estimated RPP Settlement"]
[null,"Wholesale","",null,null,null,null,null,null,null,"Embedded Generation",null,{"$f":"SUM(C8:C9)","v":741934.17},{"$f":"+M6","v":741934.17},null,"RPPT1",{"$f":"E20","v":8.6999899833457447E-2},{"$f":"E42","v":4.1117880299197822E-2},{"$f":"L33","v":5.5983573313914001E-2},{"$f":"R6+S6","v":9.7101453613111816E-2},{"$f":"+Q6-T6","v":-1.0101553779654368E-2},{"$f":"M18","v":703425.96530810697},{"$f":"Q6*V6","v":61197.988522058418},{"$f":"R6*V6","v":28923.384640886423},{"$f":"+V6*S6","v":39380.299099737131},{"$f":"W6-X6-Y6","v":-7105.6952185651353}]
["FIT/mFIT","Source","kWh","Total Cost",null,null,null,null,null,null,"Class A customer Volumes for GA (TLF included)",null,{"$f":"-B64","v":-3924844.59},null,null,"RPPT2",{"$f":"E21","v":0.10300137993197996},{"$f":"R6","v":4.1117880299197822E-2},{"$f":"S6","v":5.5983573313914001E-2},{"$f":"R7+S7","v":9.7101453613111816E-2},{"$f":"+Q7-T7","v":5.89992631886814E-3},{"$f":"M19","v":185146.73924659073},{"$f":"Q7*V7","v":19070.369632305315},{"$f":"R7*V7","v":7612.841462128109},{"$f":"+V7*S7","v":10365.176050443632},{"$f":"W7-X7-Y7","v":1092.3521197335758}]
[null,"FIT",702578.68,29523.77,{"$f":"D8/C8","v":4.202201239582163E-2},null,null,null,null,null,null,null,{"$f":"+M5+M6+M7","v":15114668.82},{"$f":"+N5+N6+N7","v":19039513.41},null,"RPPTOUMID",{"$f":"E23","v":0.10200189725382218},{"$f":"E43","v":4.157872785397447E-2},{"$f":"S7","v":5.5983573313914001E-2},9.7562301167888471E-2,4.4395960859337086E-3,1454625.6186705888,148374.57289841492,60481.482728123658,81435.139967142415,6457.9502031488373]
[null,"microFIT",39355.49,1666.18,{"$f":"D9/C9","v":4.2336660018716582E-2},null,null,null,null,null,null,null,null,null,null,"RPPTOUOFF",{"$f":"E24","v":7.4000345818722515E-2},{"$f":"R8","v":4.157872785397447E-2},5.5983573313914001E-2,9.7562301167888471E-2,-2.3561955349165956E-2,4944420.0244424772,365888.79168175976,205582.69459203555,276806.30093315989,-116500.20384343568]
[null,"WHOLESALE",18297579.239999998,733006.83,{"$f":"D10/C10","v":4.0060317290365237E-2},null,null,null,null,null,"Estimated Retail Volume Revenue Data (TLF Included)","RPP/non-RPP Ratios","GA Volumes","Energy Volumes",null,"RPPTOUON",0.15095762132523477,{"$f":"R9","v":4.157872785397447E-2},5.5983573313914001E-2,9.7562301167888471E-2,5.3395320157346299E-2,1541889.9806100486,232760.0438181053,64109.823884555182,86320.510771472094,82329.709162078012]
["Total Wholesale Electricity","Grand Total",19039513.41,764196.77999999991,null,null,null,null,null,null,"Estimated Retail Revenue Data (Net of Retail Billed/Unbilled)",null,{"$f":"+M15","v":15114668.82},{"$f":"+N15","v":19039513.41},null,"RPPULOMID",0,0,0,0,0,0,0,0,0,0]
[null,null,null,null,null,null,null,null,null,null,null,null,null,null,null,"RPPULOOFF",0,0,0,0,0,0,0,0,0,0]
[null,null,null,null,null,null,null,null,null,null,"Estimated RPP Sales Quantities",{"$f":"SUM(C20:C25)/(C30-B64)","v":0.58416816361827584},{"$f":"M8*L13","v":8829508.3282778133},{"$f":"M13","v":8829508.3282778133},null,"RPPULOON",0,0,0,0,0,0,0,0,0,0]
["RPP Revenue Volume and Price Data",null,null,null,null,null,null,null,null,null,"Estimated non-RPP Sales Quantities",{"$f":"1-L13","v":0.41583183638172416},{"$f":"M8*L14","v":6285160.491722188},{"$f":"N8-N13","v":10210005.081722187},null,"RPPULOOVN",0,0,0,0,0,0,0,0,0,0]
[null,"bill_year",2023,null,null,null,null,null,null,null,"Estimated Retail Revenue kWh Volumes ",{"$f":"+L13+L14","v":1},{"$f":"+M13+M14","v":15114668.82},{"$f":"+N13+N14","v":19039513.41},null,null,null,null,null,null,null,{"$f":"SUM(V6:V14)","v":8829508.3282778133},{"$f":"SUM(W6:W14)","v":827291.76655264362},{"$f":"SUM(X6:X14)","v":366710.2273077289},{"$f":"SUM(Y6:Y14)","v":494307.42682195513},{"$f":"SUM(Z6:Z14)","v":-33725.887577040383}]
[null,"bill_month",9,null,null,null,null,null,null,null,null,null,null,null,null,null,null,null,null,null,null,null,null,null,null,{"$f":"W15-X15-Y15-Z15","v":0}]
[null,null,null,null,null,null,null,null,null,null,"Estimated RPP Revenue Volume and Price Data","Actual %","kWh Volumes"]
[null,"Row Labels","usagebilled ","amountbilled ","Rate",null,null,null,null,null,"RPPT1",{"$f":"C20/SUM($C$20:$C$25)","v":7.9667625778808177E-2},{"$f":"$M$13*L18","v":703425.96530810697}]
[null,"RPPTIER",null,null,null,null,null,null,null,null,"RPPT2",{"$f":"C21/SUM($C$20:$C$25)","v":2.0969088239447126E-2},{"$f":"$M$13*L19","v":185146.73924659073}]
[null,"RPPT1",694250.19721611391,60399.697617159989,{"$f":"D20/C20","v":8.6999899833457447E-2},null,null,null,null,null,"RPPTOUMID",{"$f":"C23/SUM($C$20:$C$25)","v":0.16474593653328737},1454625.6186705888]
[null,"RPPT2",182731.61153436403,18821.608145234,{"$f":"D21/C21","v":0.10300137993197996},null,null,null,null,null,"RPPTOUOFF",{"$f":"C24/SUM($C$20:$C$25)","v":0.559988148899213},4944420.0244424772]
[null,"RPPTOU",null,null,null,null,null,null,null,null,"RPPTOUON",0.17462920054924425,1541889.9806100486]
[null,"RPPTOUMID",1435650.9034967651,146439.11595083401,0.10200189725382218,null,null,null,null,null,"RPPULOMID",0,0]
[null,"RPPTOUOFF",4879923.0429103561,361115.99274411902,7.4000345818722515E-2,null,null,null,null,null,"RPPULOOFF",0,0]
[null,"RPPTOUON",1521776.9543880941,229723.82922198699,0.15095762132523477,null,null,null,null,null,"RPPULOON",0,0]
[null,"RETAIL",null,null,null,null,null,null,null,null,"RPPULOOVN",0,0]
[null,"NSLS",3483935.7926130453,137446.41049080403,3.945147633955548E-2,null,null,null,null,null,null,{"$f":"SUM(L18:L26)","v":0.99999999999999989},{"$f":"SUM(M18:M26)","v":8829508.3282778133}]
[null,"INTERVAL"]
[null,"HOEP",6644083.1556178387,252765.26055964903,3.8043663006524217E-2]
[null,"Grand Total",18842351.657776579,1206711.914729787]
[null,null,null,null,null,null,null,null,null,null,"Global Adjustment","per kWh"]
[null,null,{"$f":"C30/C11-1","v":-1.0355398689961604E-2},null,null,null,null,null,null,null,"Class B - GA actual8",{"$f":"B69/100","v":5.0900001525878903E-2},null,"GA Posted Price"]
[null,null,null,null,null,null,null,null,null,null,"Class B - GA actual IESO billed",{"$f":"+M33/M8","v":5.5983573313914001E-2},{"$f":"B76","v":846173.17},"GA Billed by IESO CT 148"]
[]
[]
[]
["RPP COP Volume and Price Data"]
[null,"bill_year",2023]
[null,"bill_month",9]
[]
[null,"Row Labels","usagebilled ","amountbilled ","Rate"]
[null,"RPPTIERED",877004.39471493184,36060.561723759005,{"$f":"D42/C42","v":4.1117880299197822E-2}]
[null,"RPPTOU",7837432.1956198141,325870.46033565386,4.157872785397447E-2]
[null,"Grand Total",8714436.5903347451,361931.02205941285]
[]
[null,null,{"$f":"SUM(C20:C25)-C44","v":-103.88078905083239}]
[null,null,{"$f":"C46/C44","v":-1.1920539896526121E-5}]
[]
[]
[]
[]
[]
[]
[]
[]
[]
[]
[]
[]
["Year",2023]
[]
["Class A",""]
["Source","kWh"]
[202309,3924844.59]
[]
[]
["ga_actual ","year "]
["month",2023]
[202309,5.0900001525878906]
[]
[]
["chargetype",148]
[]
["Sum of chargeamount","year "]
["month",2023]
[202309,846173.17]

{"sheet":"I19 Input Rev 09 Init","index":21,"n_rows":12,"n_cols":3,"rows_kept":12,"cut":false,"hidden":true,"merged":[[3,0,3,2]]}
["Reverse IESO Posted"]
[]
[]
[]
[{"$f":"Admin!B32","v":202309}]
["RPP Revenue Prices","kWh Volumes","$ RPP Settlement"]
["RPPTiered_1",740938.81,13933.55]
["RPPTiered_2",218681.73,613.66999999999996]
["RPPTOU_MID",1688552.63,4992.8100000000004]
["RPPTOU_OFF",5181065.2300000004,160398.43]
["RPPTOU_ON",1861109.95,-85690.49]
["Grand Total",9690348.3500000015,94247.969999999987]

{"sheet":"I20 Input 10 Trueup Sett","index":22,"n_rows":76,"n_cols":26,"rows_kept":76,"cut":false,"hidden":true,"merged":[[2,15,2,25]]}
["Date:",{"$f":"Admin!B8+9","v":202310}," Trueup",null,null,null,null,null,null,null,{"$f":" \"Data for 1st True up of RPP Settlement based on Actual IESO Invoice\"","v":"Data for 1st True up of RPP Settlement based on Actual IESO Invoice"},null,null,null,null,"For Reconciliation"]
[]
["Wholesale Electricty","Year",2023,null,"Rate",null,null,null,null,null,null,null,null,null,null,"Actual RPP Revenue and GA"]
[null,"dateref",202310,null,null,null,null,null,null,null," Wholesale Volume data per IESO Power Bill:","GA RPP/non-RPP Ratios","GA Volumes","Energy Volumes",null,{"$f":"B1","v":202310}]
[null,null,null,null,null,null,null,null,null,null,"AQEW",null,{"$f":"C10","v":18253066.699999999},{"$f":"+M5","v":18253066.699999999},null,"RPP Revenue Prices","RPP Rate","Estimated RPP Energy Price","GA actual IESO billed","Total Commodity","Difference","kWh Volumes","$ Estimated RPP Revenue","$ Estimated RPP Energy","$ Estimated GA","$ Estimated RPP Settlement"]
[null,"Wholesale","",null,null,null,null,null,null,null,"Embedded Generation",null,{"$f":"SUM(C8:C9)","v":455092.03},{"$f":"+M6","v":455092.03},null,"RPPT1",{"$f":"E20","v":8.7029431466354348E-2},{"$f":"E42","v":3.1591535413171494E-2},{"$f":"L33","v":8.1646491170842328E-2},{"$f":"R6+S6","v":0.11323802658401383},{"$f":"+Q6-T6","v":-2.6208595117659481E-2},{"$f":"M18","v":730597.58918568504},{"$f":"Q6*V6","v":63583.492817519284},{"$f":"R6*V6","v":23080.699611537289},{"$f":"+V6*S6","v":59650.729614887721},{"$f":"W6-X6-Y6","v":-19147.936408905727}]
["FIT/mFIT","Source","kWh","Total Cost",null,null,null,null,null,null,"Class A customer Volumes for GA (TLF included)",null,{"$f":"-B64","v":-3882685},null,null,"RPPT2",{"$f":"E21","v":0.10394398185494279},{"$f":"R6","v":3.1591535413171494E-2},{"$f":"S6","v":8.1646491170842328E-2},{"$f":"R7+S7","v":0.11323802658401383},{"$f":"+Q7-T7","v":-9.294044729071041E-3},{"$f":"M19","v":252268.00380678038},{"$f":"Q7*V7","v":26221.740810274619},{"$f":"R7*V7","v":7969.5335758719839},{"$f":"+V7*S7","v":20596.797345496314},{"$f":"W7-X7-Y7","v":-2344.5901110936793}]
[null,"FIT",430867.01,14336.59,{"$f":"D8/C8","v":3.3273816902343024E-2},null,null,null,null,null,null,null,{"$f":"+M5+M6+M7","v":14825473.73},{"$f":"+N5+N6+N7","v":18708158.73},null,"RPPTOUMID",{"$f":"E23","v":0.102017355006847},{"$f":"E43","v":3.1767377334725205E-2},{"$f":"S7","v":8.1646491170842328E-2},0.11341386850556753,-1.1396513498720534E-2,1438671.7845924082,146769.49018709784,45702.82944196953,117462.50315846404,-16395.842413335733]
[null,"microFIT",24225.02,809.63,{"$f":"D9/C9","v":3.3421231437579822E-2},null,null,null,null,null,null,null,null,null,null,"RPPTOUOFF",{"$f":"E24","v":7.4007506330123221E-2},{"$f":"R8","v":3.1767377334725205E-2},8.1646491170842328E-2,0.11341386850556753,-3.9406362175444312E-2,4747501.053011097,351350.7142329854,150815.65734800877,387616.80280823517,-187081.74592325854]
[null,"WHOLESALE",18253066.699999999,576644.25,{"$f":"D10/C10","v":3.1591636598796852E-2},null,null,null,null,null,"Estimated Retail Volume Revenue Data (TLF Included)","RPP/non-RPP Ratios","GA Volumes","Energy Volumes",null,"RPPTOUON",0.15096578677033484,{"$f":"R9","v":3.1767377334725205E-2},8.1646491170842328E-2,0.11341386850556753,3.7551918264767309E-2,1435422.9269848557,216699.75152044563,45599.621756443616,117197.24533449367,53902.884429508355]
["Total Wholesale Electricity","Grand Total",18708158.73,591790.47,null,null,null,null,null,null,"Estimated Retail Revenue Data (Net of Retail Billed/Unbilled)",null,{"$f":"+M15","v":14825473.73},{"$f":"+N15","v":18708158.73},null,"RPPULOMID",0,0,0,0,0,0,0,0,0,0]
[null,null,null,null,null,null,null,null,null,null,null,null,null,null,null,"RPPULOOFF",0,0,0,0,0,0,0,0,0,0]
[null,null,null,null,null,null,null,null,null,null,"Estimated RPP Sales Quantities",{"$f":"SUM(C20:C25)/(C30-B64)","v":0.58038356913811928},{"$f":"M8*L13","v":8604461.3575808257},{"$f":"M13","v":8604461.3575808257},null,"RPPULOON",0,0,0,0,0,0,0,0,0,0]
["RPP Revenue Volume and Price Data",null,null,null,null,null,null,null,null,null,"Estimated non-RPP Sales Quantities",{"$f":"1-L13","v":0.41961643086188072},{"$f":"M8*L14","v":6221012.3724191738},{"$f":"N8-N13","v":10103697.372419175},null,"RPPULOOVN",0,0,0,0,0,0,0,0,0,0]
[null,"bill_year",2023,null,null,null,null,null,null,null,"Estimated Retail Revenue kWh Volumes ",{"$f":"+L13+L14","v":1},{"$f":"+M13+M14","v":14825473.73},{"$f":"+N13+N14","v":18708158.73},null,null,null,null,null,null,null,{"$f":"SUM(V6:V14)","v":8604461.3575808257},{"$f":"SUM(W6:W14)","v":804625.18956832285},{"$f":"SUM(X6:X14)","v":273168.34173383121},{"$f":"SUM(Y6:Y14)","v":702524.07826157694},{"$f":"SUM(Z6:Z14)","v":-171067.23042708531}]
[null,"bill_month",10,null,null,null,null,null,null,null,null,null,null,null,null,null,null,null,null,null,null,null,null,null,null,{"$f":"W15-X15-Y15-Z15","v":0}]
[null,null,null,null,null,null,null,null,null,null,"Estimated RPP Revenue Volume and Price Data","Actual %","kWh Volumes"]
[null,"Row Labels","usagebilled ","amountbilled ","Rate",null,null,null,null,null,"RPPT1",{"$f":"C20/SUM($C$20:$C$25)","v":8.4909160355750038E-2},{"$f":"$M$13*L18","v":730597.58918568504}]
[null,"RPPTIER",null,null,null,null,null,null,null,null,"RPPT2",{"$f":"C21/SUM($C$20:$C$25)","v":2.931827959045032E-2},{"$f":"$M$13*L19","v":252268.00380678038}]
[null,"RPPT1",722097.79594009486,62843.760643774018,{"$f":"D20/C20","v":8.7029431466354348E-2},null,null,null,null,null,"RPPTOUMID",{"$f":"C23/SUM($C$20:$C$25)","v":0.16720067936906813},1438671.7845924082]
[null,"RPPT2",249333.11063634805,25916.676327821006,{"$f":"D21/C21","v":0.10394398185494279},null,null,null,null,null,"RPPTOUOFF",{"$f":"C24/SUM($C$20:$C$25)","v":0.55174877958262725},4747501.053011097]
[null,"RPPTOU",null,null,null,null,null,null,null,null,"RPPTOUON",0.1668231011021043,1435422.9269848557]
[null,"RPPTOUMID",1421934.2359085572,145061.969741073,0.102017355006847,null,null,null,null,null,"RPPULOMID",0,0]
[null,"RPPTOUOFF",4692268.4899953976,347263.08997597214,7.4007506330123221E-2,null,null,null,null,null,"RPPULOOFF",0,0]
[null,"RPPTOUON",1418723.175603319,214178.66041426297,0.15096578677033484,null,null,null,null,null,"RPPULOON",0,0]
[null,"RETAIL",null,null,null,null,null,null,null,null,"RPPULOOVN",0,0]
[null,"NSLS",3210928.7656757315,102478.53919744097,3.1915544278938446E-2,null,null,null,null,null,null,{"$f":"SUM(L18:L26)","v":1},{"$f":"SUM(M18:M26)","v":8604461.3575808257}]
[null,"INTERVAL"]
[null,"HOEP",6820393.1708995383,214299.49965974604,3.1420402649819996E-2]
[null,"Grand Total",18535678.744658984,1112042.19596009]
[null,null,null,null,null,null,null,null,null,null,"Global Adjustment","per kWh"]
[null,null,{"$f":"C30/C11-1","v":-9.2195061967499381E-3},null,null,null,null,null,null,null,"Class B - GA actual8",{"$f":"B69/100","v":8.4980001449584966E-2},null,"GA Posted Price"]
[null,null,null,null,null,null,null,null,null,null,"Class B - GA actual IESO billed",{"$f":"+M33/M8","v":8.1646491170842328E-2},{"$f":"B76","v":1210447.9099999999},"GA Billed by IESO CT 148"]
[]
[]
[]
["RPP COP Volume and Price Data"]
[null,"bill_year",2023]
[null,"bill_month",10]
[]
[null,"Row Labels","usagebilled ","amountbilled ","Rate"]
[null,"RPPTIERED",956727.5544379988,30224.492416785,{"$f":"D42/C42","v":3.1591535413171494E-2}]
[null,"RPPTOU",7540322.9485102864,239536.284331014,3.1767377334725205E-2]
[null,"Grand Total",8497050.502948286,269760.77674779901]
[]
[null,null,{"$f":"SUM(C20:C25)-C44","v":7306.3051354307681}]
[null,null,{"$f":"C46/C44","v":8.59863682450239E-4}]
[]
[]
[]
[]
[]
[]
[]
[]
[]
[]
[]
[]
["Year",2023]
[]
["Class A",""]
["Source","kWh"]
[202310,3882685]
[]
[]
["ga_actual ","year "]
["month",2023]
[202310,8.4980001449584961]
[]
[]
["chargetype",148]
[]
["Sum of chargeamount","year "]
["month",2023]
[202310,1210447.9099999999]

{"sheet":"I21 Input Rev 10 Init","index":23,"n_rows":12,"n_cols":3,"rows_kept":12,"cut":false,"hidden":true,"merged":[[3,0,3,2]]}
["Reverse IESO Posted"]
[]
[]
[]
[{"$f":"Admin!B35","v":202310}]
["RPP Revenue Prices","kWh Volumes","$ RPP Settlement"]
["RPPTiered_1",703730.44,4781.1000000000004]
["RPPTiered_2",183973.45,-1693.9]
["RPPTOU_MID",1476119.17,-9772.52]
["RPPTOU_OFF",4931190.21,105432.22]
["RPPTOU_ON",1577384.03,-87735.01]
["Grand Total",8872397.3000000007,11011.89]

{"sheet":"I22 Input 11 Trueup Sett","index":24,"n_rows":76,"n_cols":26,"rows_kept":76,"cut":false,"hidden":true,"merged":[[2,15,2,25]]}
["Date:",{"$f":"Admin!B8+10","v":202311}," Trueup",null,null,null,null,null,null,null,{"$f":" \"Data for 1st True up of RPP Settlement based on Actual IESO Invoice\"","v":"Data for 1st True up of RPP Settlement based on Actual IESO Invoice"},null,null,null,null,"For Reconciliation"]
[]
["Wholesale Electricty","Year",2023,null,"Rate",null,null,null,null,null,null,null,null,null,null,"Actual RPP Revenue and GA"]
[null,"dateref",202311,null,null,null,null,null,null,null," Wholesale Volume data per IESO Power Bill:","GA RPP/non-RPP Ratios","GA Volumes","Energy Volumes",null,{"$f":"B1","v":202311}]
[null,null,null,null,null,null,null,null,null,null,"AQEW",null,{"$f":"C10","v":19495196.68},{"$f":"+M5","v":19495196.68},null,"RPP Revenue Prices","RPP Rate","Estimated RPP Energy Price","GA actual IESO billed","Total Commodity","Difference","kWh Volumes","$ Estimated RPP Revenue","$ Estimated RPP Energy","$ Estimated GA","$ Estimated RPP Settlement"]
[null,"Wholesale","",null,null,null,null,null,null,null,"Embedded Generation",null,{"$f":"SUM(C8:C9)","v":294078.53000000003},{"$f":"+M6","v":294078.53000000003},null,"RPPT1",{"$f":"E21","v":0.10299710286823655},{"$f":"E43","v":3.0619276555175271E-2},{"$f":"L33","v":7.0830146286610093E-2},{"$f":"R6+S6","v":0.10144942284178536},{"$f":"+Q6-T6","v":1.5476800264511842E-3},{"$f":"M18","v":906614.35627651564},{"$f":"Q6*V6","v":93378.65211523234},{"$f":"R6*V6","v":27759.875703722835},{"$f":"+V6*S6","v":64215.627480606447},{"$f":"W6-X6-Y6","v":1403.1489309030585}]
["FIT/mFIT","Source","kWh","Total Cost",null,null,null,null,null,null,"Class A customer Volumes for GA (TLF included)",null,{"$f":"-B64","v":-3755295.76},null,null,"RPPT2",{"$f":"E22","v":0.12500049630760363},{"$f":"R6","v":3.0619276555175271E-2},{"$f":"S6","v":7.0830146286610093E-2},{"$f":"R7+S7","v":0.10144942284178536},{"$f":"+Q7-T7","v":2.3551073465818265E-2},{"$f":"M19","v":233078.36048929431},{"$f":"Q7*V7","v":29134.910739724339},{"$f":"R7*V7","v":7136.6907788485396},{"$f":"+V7*S7","v":16508.974369699958},{"$f":"W7-X7-Y7","v":5489.2455911758407}]
[null,"FIT",277184.39,8603.02,{"$f":"D8/C8","v":3.1037173485851784E-2},null,null,null,null,null,null,null,{"$f":"+M5+M6+M7","v":16033979.450000001},{"$f":"+N5+N6+N7","v":19789275.210000001},null,"RPPTOUMID",{"$f":"E24","v":0.12198732691265793},{"$f":"E44","v":3.0679933856177254E-2},{"$f":"S7","v":7.0830146286610093E-2},0.10151008014278734,2.0477246769870588E-2,1692925.1820153838,206515.41761718155,51938.832607688812,119910.13829443566,34666.446715057071]
[null,"microFIT",16894.14,523.13,{"$f":"D9/C9","v":3.0965174906802003E-2},null,null,null,null,null,null,null,null,null,null,"RPPTOUOFF",{"$f":"E25","v":8.6990721961047623E-2},{"$f":"R8","v":3.0679933856177254E-2},7.0830146286610093E-2,0.10151008014278734,-1.4519358181739717E-2,5144253.091904656,447502.29041513748,157825.34459907017,364368.19903495308,-74691.253218885802]
[null,"WHOLESALE",19495196.68,593503.34,{"$f":"D10/C10","v":3.044356770244187E-2},null,null,null,null,null,"Estimated Retail Volume Revenue Data (TLF Included)","RPP/non-RPP Ratios","GA Volumes","Energy Volumes",null,"RPPTOUON",0.18197759241769884,{"$f":"R9","v":3.0679933856177254E-2},7.0830146286610093E-2,0.10151008014278734,8.0467512274911501E-2,1753036.8880845453,319013.43231304054,53783.055773872657,124167.85922885207,141062.5173103158]
["Total Wholesale Electricity","Grand Total",19789275.210000001,602629.49,null,null,null,null,null,null,"Estimated Retail Revenue Data (Net of Retail Billed/Unbilled)",null,{"$f":"+M15","v":16033979.450000003},{"$f":"+N15","v":19789275.210000001},null,"RPPULOMID",{"$f":"E28","v":0.12200405823765553},{"$f":"E45","v":3.0672371492842833E-2},7.0830146286610093E-2,0.10150251777945293,2.05015404582026E-2,514.43686050320332,62.76338468842949,15.778998494966018,36.437638084666318,10.546748108797154]
[null,null,null,null,null,null,null,null,null,null,null,null,null,null,null,"RPPULOOFF",{"$f":"E29","v":8.7011005146440668E-2},{"$f":"R11","v":3.0672371492842833E-2},7.0830146286610093E-2,0.10150251777945293,-1.4491512633012266E-2,331.49602687458622,28.843802500409254,10.16776928469872,23.479912076956975,-4.8038788612464423]
[null,null,null,null,null,null,null,null,null,null,"Estimated RPP Sales Quantities",{"$f":"SUM(C21:C31)/(C36-B64)","v":0.6069395421010183},{"$f":"M8*L13","v":9731656.1454401389},{"$f":"M13","v":9731656.1454401389},null,"RPPULOON",0.28601483920158266,{"$f":"R12","v":3.0672371492842833E-2},7.0830146286610093E-2,0.10150251777945293,0.18451232142212973,284.12207857932617,81.263130618485405,8.7146979435037757,20.124408389029401,52.424024285952228]
["RPP Revenue Volume and Price Data",null,null,null,null,null,null,null,null,null,"Estimated non-RPP Sales Quantities",{"$f":"1-L13","v":0.3930604578989817},{"$f":"M8*L14","v":6302323.3045598632},{"$f":"N8-N13","v":10057619.064559862},null,"RPPULOOVN",2.8007213165564402E-2,3.0672371492842833E-2,7.0830146286610093E-2,0.10150251777945293,-7.3495304613888535E-2,618.21170378928355,17.314386969473222,18.962019039848219,43.788025415489422,-45.435657485864418]
[null,null,null,null,null,null,null,null,null,null,"Estimated Retail Revenue kWh Volumes ",{"$f":"+L13+L14","v":1},{"$f":"+M13+M14","v":16033979.450000003},{"$f":"+N13+N14","v":19789275.210000001},null,null,null,null,null,null,null,{"$f":"SUM(V6:V14)","v":9731656.1454401426},{"$f":"SUM(W6:W14)","v":1095734.8879050931},{"$f":"SUM(X6:X14)","v":298497.42294796597},{"$f":"SUM(Y6:Y14)","v":689294.62839251338},{"$f":"SUM(Z6:Z14)","v":107942.83656461361}]
[null,"bill_year",2023]
[null,"bill_month",11,null,null,null,null,null,null,null,"Estimated RPP Revenue Volume and Price Data","Actual %","kWh Volumes"]
[null,null,null,null,null,null,null,null,null,null,"RPPT1",{"$f":"C21/SUM($C$21:$C$31)","v":9.3161363567219602E-2},{"$f":"$M$13*L18","v":906614.35627651564}]
[null,"Row Labels","usagebilled ","amountbilled ","Rate",null,null,null,null,null,"RPPT2",{"$f":"C22/SUM($C$21:$C$31)","v":2.3950533907684913E-2},{"$f":"$M$13*L19","v":233078.36048929431}]
[null,"RPPTIER",null,null,null,null,null,null,null,null,"RPPTOUMID",{"$f":"C24/SUM($C$21:$C$31)","v":0.17396064520925558},1692925.1820153838]
[null,"RPPT1",894865.06524414115,92168.50917814202,{"$f":"D21/C21","v":0.10299710286823655},null,null,null,null,null,"RPPTOUOFF",{"$f":"C25/SUM($C$21:$C$31)","v":0.52861024013009805},5144253.091904656]
[null,"RPPT2",230057.77574807699,28757.336147933001,{"$f":"D22/C22","v":0.12500049630760363},null,null,null,null,null,"RPPTOUON",0.18013756979133994,1753036.8880845453]
[null,"RPPTOU",null,null,null,null,null,null,null,null,"RPPULOMID",{"$f":"C28/SUM($C$21:$C$31)","v":5.2862210996249359E-5},514.43686050320332]
[null,"RPPTOUMID",1670985.6765113834,203839.075986963,{"$f":"D24/C24","v":0.12198732691265793},null,null,null,null,null,"RPPULOOFF",{"$f":"C29/SUM($C$21:$C$31)","v":3.4063680623355347E-5},331.49602687458622]
[null,"RPPTOUOFF",5077586.0175278354,441702.87348406704,8.6990721961047623E-2,null,null,null,null,null,"RPPULOON",2.9195655326606901E-5,284.12207857932617]
[null,"RPPTOUON",1730318.3634483533,314879.1698964641,0.18197759241769884,null,null,null,null,null,"RPPULOOVN",6.3525847455980308E-5,618.21170378928355]
[null,"RPPULO",null,null,null,null,null,null,null,null,null,{"$f":"SUM(L18:L26)","v":1},{"$f":"SUM(M18:M26)","v":9731656.1454401426}]
[null,"RPPULOMID",507.77000336599997,61.950001062000005,{"$f":"D28/C28","v":0.12200405823765553}]
[null,"RPPULOOFF",327.19999596699995,28.470000533,8.7011005146440668E-2]
[null,"RPPULOON",280.43999151900005,80.209999080000003,0.28601483920158266]
[null,"RPPULOOVN",610.19997402000001,17.090000746000001,2.8007213165564402E-2,null,null,null,null,null,"Global Adjustment","per kWh"]
[null,"RETAIL",null,null,null,null,null,null,null,null,"Class B - GA actual8",{"$f":"B69/100","v":7.09000015258789E-2},null,"GA Posted Price"]
[null,"NSLS",3138326.6045117239,95222.527358898995,3.0341815673998081E-2,null,null,null,null,null,"Class B - GA actual IESO billed",{"$f":"+M33/M8","v":7.0830146286610093E-2},{"$f":"B76","v":1135689.1100000001},"GA Billed by IESO CT 148"]
[null,"INTERVAL"]
[null,"HOEP",6837617.3462880775,205709.07233279999,3.0084905591342109E-2]
[null,"Grand Total",19581482.45924446,1382466.2843866888]
[null,null,{"$f":"C36/C11-1","v":-1.0500270906866671E-2}]
["RPP COP Volume and Price Data"]
[null,"bill_year",2023]
[null,"bill_month",11]
[]
[null,"Row Labels","usagebilled ","amountbilled ","Rate"]
[null,"RPPTIERED",1131897.384267628,34657.879040969994,{"$f":"D43/C43","v":3.0619276555175271E-2}]
[null,"RPPTOU",8485823.8323974404,260344.51389312604,3.0679933856177254E-2]
[null,"RPPULO",1956.8099784199999,60.020002599000001,3.0672371492842833E-2]
[null,"Grand Total",9619678.0266434886,295062.41293669504]
[null,null,{"$f":"SUM(C21:C31)-C46","v":-14139.518198829144}]
[null,null,{"$f":"C47/C46","v":-1.4698535813430676E-3}]
[]
[]
[]
[]
[]
[]
[]
[]
[]
[]
[]
["Year",2023]
[]
["Class A",""]
["Source","kWh"]
[202311,3755295.76]
[]
[]
["ga_actual ","year "]
["month",2023]
[202311,7.0900001525878906]
[]
[]
["chargetype",148]
[]
["Sum of chargeamount","year "]
["month",2023]
[202311,1135689.1100000001]

{"sheet":"I23 Input Rev 11 Init","index":25,"n_rows":12,"n_cols":3,"rows_kept":12,"cut":false,"hidden":true,"merged":[[3,0,3,2]]}
["Reverse IESO Posted"]
[]
[]
[]
[{"$f":"Admin!B38","v":202311}]
["RPP Revenue Prices","kWh Volumes","$ RPP Settlement"]
["RPPTiered_1",722860.55,19696.919999999998]
["RPPTiered_2",233965.32,2631.83]
["RPPTOU_MID",1413513.21,14773.93]
["RPPTOU_OFF",4700841.07,180756.95]
["RPPTOU_ON",1425579.8,-54953.65]
["Grand Total",{"$f":"SUM(B7:B11)","v":8496759.9500000011},{"$f":"SUM(C7:C11)","v":162905.98000000001}]

{"sheet":"I24 Input 12 Trueup Sett","index":26,"n_rows":76,"n_cols":26,"rows_kept":76,"cut":false,"hidden":true,"merged":[[2,15,2,25]]}
["Date:",{"$f":"Admin!B8+11","v":202312}," Trueup",null,null,null,null,null,null,null,{"$f":" \"Data for 1st True up of RPP Settlement based on Actual IESO Invoice\"","v":"Data for 1st True up of RPP Settlement based on Actual IESO Invoice"},null,null,null,null,"For Reconciliation"]
[]
["Wholesale Electricty","Year",2023,null,"Rate",null,null,null,null,null,null,null,null,null,null,"Actual RPP Revenue and GA"]
[null,"dateref",202312,null,null,null,null,null,null,null," Wholesale Volume data per IESO Power Bill:","GA RPP/non-RPP Ratios","GA Volumes","Energy Volumes",null,{"$f":"B1","v":202312}]
[null,null,null,null,null,null,null,null,null,null,"AQEW",null,{"$f":"C10","v":19766502.120000001},{"$f":"+M5","v":19766502.120000001},null,"RPP Revenue Prices","RPP Rate","Estimated RPP Energy Price","GA actual IESO billed","Total Commodity","Difference","kWh Volumes","$ Estimated RPP Revenue","$ Estimated RPP Energy","$ Estimated GA","$ Estimated RPP Settlement"]
[null,"Wholesale","",null,null,null,null,null,null,null,"Embedded Generation",null,{"$f":"SUM(C8:C9)","v":145030.07},{"$f":"+M6","v":145030.07},null,"RPPT1",{"$f":"E21","v":0.10300016059542783},{"$f":"E43","v":3.1057030454316709E-2},{"$f":"L33","v":6.6247117112745627E-2},{"$f":"R6+S6","v":9.7304147567062335E-2},{"$f":"+Q6-T6","v":5.6960130283654903E-3},{"$f":"M18","v":977888.57094797224},{"$f":"Q6*V6","v":100722.67985207457},{"$f":"R6*V6","v":30370.31512885942},{"$f":"+V6*S6","v":64782.298682805776},{"$f":"W6-X6-Y6","v":5570.0660404093651}]
["FIT/mFIT","Source","kWh","Total Cost",null,null,null,null,null,null,"Class A customer Volumes for GA (TLF included)",null,{"$f":"-B64","v":-2850485.17},null,null,"RPPT2",{"$f":"E22","v":0.12499983299179326},{"$f":"R6","v":3.1057030454316709E-2},{"$f":"S6","v":6.6247117112745627E-2},{"$f":"R7+S7","v":9.7304147567062335E-2},{"$f":"+Q7-T7","v":2.7695685424730929E-2},{"$f":"M19","v":282113.0705371786},{"$f":"Q7*V7","v":35264.086701949316},{"$f":"R7*V7","v":8761.594223233953},{"$f":"+V7*S7","v":18689.177622912739},{"$f":"W7-X7-Y7","v":7813.314855802626}]
[null,"FIT",136716.92000000001,4354.3100000000004,{"$f":"D8/C8","v":3.1849093733240921E-2},null,null,null,null,null,null,null,{"$f":"+M5+M6+M7","v":17061047.020000003},{"$f":"+N5+N6+N7","v":19911532.190000001},null,"RPPTOUMID",{"$f":"E24","v":0.12199846734526244},{"$f":"E44","v":3.1152589419212902E-2},{"$f":"S7","v":6.6247117112745627E-2},9.7399706531958535E-2,2.4598760813303908E-2,1622741.0299283112,197971.91854952663,50552.585039067359,107501.91505331828,39917.418457141001]
[null,"microFIT",8313.15,262.58,{"$f":"D9/C9","v":3.1586101537924856E-2},null,null,null,null,null,null,null,null,null,null,"RPPTOUOFF",{"$f":"E25","v":8.6999071446316439E-2},{"$f":"R8","v":3.1152589419212902E-2},6.6247117112745627E-2,9.7399706531958535E-2,-1.0400635085642096E-2,6401150.2784965197,556894.13041752705,199412.40643668239,424057.75215584325,-66576.028174998588]
[null,"WHOLESALE",19766502.120000001,617049.42000000004,{"$f":"D10/C10","v":3.1216925293811166E-2},null,null,null,null,null,"Estimated Retail Volume Revenue Data (TLF Included)","RPP/non-RPP Ratios","GA Volumes","Energy Volumes",null,"RPPTOUON",0.18199753118795436,{"$f":"R9","v":3.1152589419212902E-2},6.6247117112745627E-2,9.7399706531958535E-2,8.4597824655995829E-2,1646015.7139495476,299570.79623539577,51277.651714242849,109043.79577143528,139249.34874971764]
["Total Wholesale Electricity","Grand Total",19911532.190000001,621666.31000000006,null,null,null,null,null,null,"Estimated Retail Revenue Data (Net of Retail Billed/Unbilled)",null,{"$f":"+M15","v":17061047.020000003},{"$f":"+N15","v":19911532.190000001},null,"RPPULOMID",{"$f":"E28","v":0.12200165321311048},{"$f":"E45","v":3.1140124182680921E-2},6.6247117112745627E-2,9.7387241295426544E-2,2.4614411917683932E-2,1718.2703585006614,209.63182440416469,53.507152343130258,113.83045767095273,42.294214390081706]
[null,null,null,null,null,null,null,null,null,null,null,null,null,null,null,"RPPULOOFF",{"$f":"E29","v":8.6996168153953127E-2},{"$f":"R11","v":3.1140124182680921E-2},6.6247117112745627E-2,9.7387241295426544E-2,-1.0391073141473417E-2,3662.8110529625073,318.65052627968441,114.06039104694874,242.65067278746633,-38.060537554730644]
[null,null,null,null,null,null,null,null,null,null,"Estimated RPP Sales Quantities",{"$f":"SUM(C21:C31)/(C36-B64)","v":0.64107925995738191},{"$f":"M8*L13","v":10937483.397679698},{"$f":"M13","v":10937483.397679698},null,"RPPULOON",0.28598918766695636,{"$f":"R12","v":3.1140124182680921E-2},6.6247117112745627E-2,9.7387241295426544E-2,0.18860194637152983,1382.1691176417994,395.28542317273207,43.040917964832147,91.564719406036573,260.67978580186332]
["RPP Revenue Volume and Price Data",null,null,null,null,null,null,null,null,null,"Estimated non-RPP Sales Quantities",{"$f":"1-L13","v":0.35892074004261809},{"$f":"M8*L14","v":6123563.6223203056},{"$f":"N8-N13","v":8974048.7923203036},null,"RPPULOOVN",2.7997397918434207E-2,3.1140124182680921E-2,6.6247117112745627E-2,9.7387241295426544E-2,-6.9389843376992333E-2,811.48329106387951,22.719420604075999,25.269690455899813,53.758428618145075,-56.308698469968888]
[null,null,null,null,null,null,null,null,null,null,"Estimated Retail Revenue kWh Volumes ",{"$f":"+L13+L14","v":1},{"$f":"+M13+M14","v":17061047.020000003},{"$f":"+N13+N14","v":19911532.190000001},null,null,null,null,null,null,null,{"$f":"SUM(V6:V14)","v":10937483.3976797},{"$f":"SUM(W6:W14)","v":1191369.8989509339},{"$f":"SUM(X6:X14)","v":340610.43069389678},{"$f":"SUM(Y6:Y14)","v":724576.74356479791},{"$f":"SUM(Z6:Z14)","v":126182.72469223931}]
[null,"bill_year",2023]
[null,"bill_month",12,null,null,null,null,null,null,null,"Estimated RPP Revenue Volume and Price Data","Actual %","kWh Volumes"]
[null,null,null,null,null,null,null,null,null,null,"RPPT1",{"$f":"C21/SUM($C$21:$C$31)","v":8.9407090771486217E-2},{"$f":"$M$13*L18","v":977888.57094797224}]
[null,"Row Labels","usagebilled ","amountbilled ","Rate",null,null,null,null,null,"RPPT2",{"$f":"C22/SUM($C$21:$C$31)","v":2.5793234172773849E-2},{"$f":"$M$13*L19","v":282113.0705371786}]
[null,"RPPTIER",null,null,null,null,null,null,null,null,"RPPTOUMID",{"$f":"C24/SUM($C$21:$C$31)","v":0.14836511937220981},1622741.0299283112]
[null,"RPPT1",963279.26966434508,99217.919473673974,{"$f":"D21/C21","v":0.10300016059542783},null,null,null,null,null,"RPPTOUOFF",{"$f":"C25/SUM($C$21:$C$31)","v":0.58524891382733202},6401150.2784965197]
[null,"RPPT2",277898.40337982407,34737.254011164005,0.12499983299179326,null,null,null,null,null,"RPPTOUON",0.15049309371283134,1646015.7139495476]
[null,"RPPTOU",null,null,null,null,null,null,null,null,"RPPULOMID",{"$f":"C28/SUM($C$21:$C$31)","v":1.5709924267086697E-4},1718.2703585006614]
[null,"RPPTOUMID",1598497.8663247689,195014.289746294,0.12199846734526244,null,null,null,null,null,"RPPULOOFF",{"$f":"C29/SUM($C$21:$C$31)","v":3.3488609031759027E-4},3662.8110529625073]
[null,"RPPTOUOFF",6305519.4103602106,548574.33368806308,8.6999071446316439E-2,null,null,null,null,null,"RPPULOON",1.2636993971894996E-4,1382.1691176417994]
[null,"RPPTOUON",1621424.8349914656,295095.31697528303,0.18199753118795436,null,null,null,null,null,"RPPULOOVN",7.419287065944524E-5,811.48329106387951]
[null,"RPPULO",null,null,null,null,null,null,null,null,null,{"$f":"SUM(L18:L26)","v":1},{"$f":"SUM(M18:M26)","v":10937483.3976797}]
[null,"RPPULOMID",1692.6000213070001,206.50000082800003,0.12200165321311048]
[null,"RPPULOOFF",3608.0899816589999,313.89000275900003,8.6996168153953127E-2]
[null,"RPPULOON",1361.520011328,389.38000203199994,0.28598918766695636]
[null,"RPPULOOVN",799.36002442799997,22.380000684000002,2.7997397918434207E-2,null,null,null,null,null,"Global Adjustment","per kWh"]
[null,"RETAIL",null,null,null,null,null,null,null,null,"Class B - GA actual8",{"$f":"B69/100","v":6.6220002174377443E-2},null,"GA Posted Price"]
[null,"NSLS",3000842.4826748571,93477.622682669986,3.1150459653366065E-2,null,null,null,null,null,"Class B - GA actual IESO billed",{"$f":"+M33/M8","v":6.6247117112745627E-2},{"$f":"B76","v":1130245.18},"GA Billed by IESO CT 148"]
[null,"INTERVAL"]
[null,"HOEP",5881722.4856743682,184686.81071474397,3.1400123206181622E-2]
[null,"Grand Total",19656646.323108561,1451735.697298195]
[null,null,{"$f":"C36/C11-1","v":-1.2800916798329065E-2}]
["RPP COP Volume and Price Data"]
[null,"bill_year",2023]
[null,"bill_month",12]
[]
[null,"Row Labels","usagebilled ","amountbilled ","Rate"]
[null,"RPPTIERED",1243626.0781500968,38623.33298289001,{"$f":"D43/C43","v":3.1057030454316709E-2}]
[null,"RPPTOU",9542616.4487212989,297277.21221204213,3.1152589419212902E-2]
[null,"RPPULO",12084.7300516,376.31999452100001,3.1140124182680921E-2]
[null,"Grand Total",10798327.256922996,336276.86518945312]
[null,null,{"$f":"SUM(C21:C31)-C46","v":-24245.902163660154}]
[null,null,{"$f":"C47/C46","v":-2.2453387072628016E-3}]
[]
[]
[]
[]
[]
[]
[]
[]
[]
[]
[]
["Year",2023]
[]
["Class A",""]
["Source","kWh"]
[202312,2850485.17]
[]
[]
["ga_actual ","year "]
["month",2023]
[202312,6.6220002174377441]
[]
[]
["chargetype",148]
[]
["Sum of chargeamount","year "]
["month",2023]
[202312,1130245.18]

{"sheet":"I25 Input Rev 12 Init","index":27,"n_rows":12,"n_cols":3,"rows_kept":12,"cut":false,"hidden":true,"merged":[[3,0,3,2]]}
["Reverse IESO Posted"]
[]
[]
[]
[{"$f":"Admin!B41","v":202312}]
["RPP Revenue Prices","kWh Volumes","$ RPP Settlement"]
["RPPTiered_1",885891.74,934.46]
["RPPTiered_2",238515.77,-4856.82]
["RPPTOU_MID",1639045.04,-24692.400000000001]
["RPPTOU_OFF",4992811.1100000003,95806.27]
["RPPTOU_ON",1656873.6,-122133.21]
["Grand Total",9413137.2600000016,-54941.7]

{"sheet":"Rec1 1588 Commodity","index":28,"n_rows":26,"n_cols":19,"rows_kept":26,"cut":false,"hidden":false,"merged":[[4,1,4,3],[4,4,4,10],[4,11,4,13]]}
["Lakefront Utilities Inc.",null,null,null,null,null,null,null,null,null,null,null,null,null,null,null,null,null,"MY_GL_Account_Transactions.xlsm"]
[{"$f":"ProcessYear[Process Year]& \" 1588 Commodity RSVA\"","v":"2023 1588 Commodity RSVA"}]
["Commodity"]
[]
[null,"4006-4055",null,null,4705,null,null,null,null,null,null,1588]
[null," GL Revenue","Unbilled","Total Revenue","Energy Cost (code 101)","RPP GA (code 148)","IESO RPP Settlement","FIT/mFIT","Misc","IESO Code 118 - Energy Rebate","Total Cost","Variance","Y.T.D.","G.L. Balance"]
["Opening Balance"]
["January",-1552235.5699999998,{"$f":"D8-B8","v":97112.474340147572},{"$f":"-'I1a ER Summary'!AF5","v":-1455123.0956598523},{"$f":"'I1a ER Summary'!K5","v":801678.9},{"$f":"'I1a ER Summary'!E5","v":625946.75694119371},{"$f":"'I1a ER Summary'!F5","v":41306.38058234466},{"$f":"'I1a ER Summary'!M5","v":4162.0300000000279},null,null,{"$f":"SUM(E8:J8)","v":1473094.0675235384},{"$f":"D8+K8","v":17970.971863686107},{"$f":"L8","v":17970.971863686107},{"$f":"N7+L8","v":17970.971863686107}]
["February",-1479018.0799999996,{"$f":"D9-B9","v":251455.00212590978},{"$f":"-'I1a ER Summary'!AF6","v":-1227563.0778740898},{"$f":"'I1a ER Summary'!K6","v":504134.75},{"$f":"'I1a ER Summary'!E6","v":870726.46600947203},{"$f":"'I1a ER Summary'!F6","v":-146771.38953436314},{"$f":"'I1a ER Summary'!M6","v":5033.8099999999977},null,null,1233123.636475109,5560.5586010192055,{"$f":"M8+L9","v":23531.530464705313},{"$f":"N8+L9","v":23531.530464705313}]
["March",-1313614.1099999989,5164.6117145689204,{"$f":"-'I1a ER Summary'!AF7","v":-1308449.49828543},{"$f":"'I1a ER Summary'!K7","v":569802.92000000004},{"$f":"'I1a ER Summary'!E7","v":865390.86631289148},{"$f":"'I1a ER Summary'!F7","v":-119509.280290297},{"$f":"'I1a ER Summary'!M7","v":9659.6999999999534},null,null,1325344.2060225946,16894.707737164572,{"$f":"M9+L10","v":40426.238201869885},40426.238201869885]
["April",-1309464,288599.53316195798,{"$f":"-'I1a ER Summary'!AF8","v":-1020864.466838042},{"$f":"'I1a ER Summary'!K8","v":396944.77},{"$f":"'I1a ER Summary'!E8","v":863117.28705978533},{"$f":"'I1a ER Summary'!F8","v":-245246.67570670246},{"$f":"'I1a ER Summary'!M8","v":15965.659999999974},null,null,1030781.0413530827,9916.5745150407311,50342.812716910616,50342.812716910616]
["May",-1044966.0600000005,81951.427967091557,{"$f":"-'I1a ER Summary'!AF9","v":-963014.63203290896},{"$f":"'I1a ER Summary'!K9","v":322522.32},{"$f":"'I1a ER Summary'!E9","v":820560.72708434204},{"$f":"'I1a ER Summary'!F9","v":-197422.11776122369},{"$f":"'I1a ER Summary'!M9","v":18286.429999999993},null,null,963947.35932311835,932.72729020938277,51275.540007119998,51275.540007119998]
["June",-950252.29999999958,-216298.6574269915,{"$f":"-'I1a ER Summary'!AF10","v":-1166550.9574269911},{"$f":"'I1a ER Summary'!K10","v":580068.36},{"$f":"'I1a ER Summary'!E10","v":738566.50551597984},{"$f":"'I1a ER Summary'!F10","v":-166124.78103692087},{"$f":"'I1a ER Summary'!M10","v":26149.319999999949},null,null,1178659.4044790589,12108.447052067844,63383.987059187843,63383.987059187843]
["July",-1130689.3,-316501.34434395423,{"$f":"-'I1a ER Summary'!AF11","v":-1447190.6443439543},{"$f":"'I1a ER Summary'!K11","v":850093.66},{"$f":"'I1a ER Summary'!E11","v":551482.38220434636},{"$f":"'I1a ER Summary'!F11","v":35183.462147840051},{"$f":"'I1a ER Summary'!M11","v":37464.829999999958},null,null,1474224.3343521864,27033.690008232137,90417.67706741998,90417.67706741998]
["August",-1419460.77,158942.65872066608,{"$f":"-'I1a ER Summary'!AF12","v":-1260518.1112793339},{"$f":"'I1a ER Summary'!K12","v":625707.61},{"$f":"'I1a ER Summary'!E12","v":728057.39152697241},{"$f":"'I1a ER Summary'!F12","v":-102079.61378391267},{"$f":"'I1a ER Summary'!M12","v":26177.969999999972},null,null,1277863.3577430595,17345.246463725576,107762.92353114556,107762.92353114556]
["September",-1257731.8399999999,51019.925270212814,{"$f":"-'I1a ER Summary'!AF13","v":-1206711.914729787},{"$f":"'I1a ER Summary'!K13","v":733006.83},{"$f":"'I1a ER Summary'!E13","v":494307.42682195513},{"$f":"'I1a ER Summary'!F13","v":-33725.887577040383},{"$f":"'I1a ER Summary'!M13","v":31189.949999999953},null,null,1224778.3192449147,18066.404515127651,125829.32804627321,125829.32804627321]
["October",-1224091.7799999998,112049.58403990977,{"$f":"-'I1a ER Summary'!AF14","v":-1112042.19596009},{"$f":"'I1a ER Summary'!K14","v":576644.25},{"$f":"'I1a ER Summary'!E14","v":702524.07826157694},{"$f":"'I1a ER Summary'!F14","v":-171067.23042708531},{"$f":"'I1a ER Summary'!M14","v":15146.219999999972},null,null,1123247.3178344916,11205.121874401579,137034.44992067479,137034.44992067479]
["November",-1111126.2200000002,-271340.06438668864,{"$f":"-'I1a ER Summary'!AF15","v":-1382466.2843866888},{"$f":"'I1a ER Summary'!K15","v":593503.34},{"$f":"'I1a ER Summary'!E15","v":689294.62839251338},{"$f":"'I1a ER Summary'!F15","v":107942.83656461361},{"$f":"'I1a ER Summary'!M15","v":9126.1500000000233},null,null,1399866.9549571266,17400.670570437796,154435.12049111258,154435.12049111258]
["December",-1318032.1700000002,-133703.52729819482,{"$f":"-'I1a ER Summary'!AF16","v":-1451735.697298195},{"$f":"'I1a ER Summary'!K16","v":617049.42000000004},{"$f":"'I1a ER Summary'!E16","v":724576.74356479791},{"$f":"'I1a ER Summary'!F16","v":126182.72469223931},{"$f":"'I1a ER Summary'!M16","v":4616.890000000014},null,null,1472425.7782570375,20690.080958842533,175125.20144995512,175125.20144995512]
[null,{"$f":"SUM(B8:B19)","v":-15110682.199999997},{"$f":"SUM(C8:C19)","v":108451.62388463528},-15002230.576115362,7171157.1299999999,8674551.2596958261,-871331.57213050779,202978.95999999979,0,0,15177355.777565319,175125.20144995512]
[]
["Per GL",null,null,null,null,8585891.2200000007,-1045563.18]
["Dec Accrual",null,null,null,null,678147.1,54941.7]
["Adjustments",null,null,null,null,{"$f":"F20-F22-F23","v":-589487.06030417455},{"$f":"G20-G22-G23","v":119289.90786949226}]
[]
[null,null,null,null,null,"4705-0002","4705-0001"]

{"sheet":"Rec2 1589 Class B","index":29,"n_rows":46,"n_cols":24,"rows_kept":46,"cut":false,"hidden":false,"merged":[[4,1,4,3],[4,4,4,9],[4,10,4,12]]}
["Lakefront Utilities Inc.",null,null,null,null,null,null,null,null,null,null,null,null,null,null,"\"GA Summary.xlsm\"",null,null,null,null,null,null,null,"MY_GL_Account_Transactions.xlsm"]
[{"$f":"ProcessYear[Process Year]& \" 1589 ClassB RSVA\"","v":"2023 1589 ClassB RSVA"},null,null,null,null,null,null,null,null,null,null,null,null,null,null,"classb_ga_summary billed"]
["Global Adjustment Class B Only"]
[]
[null,"4006-4055",null,null,4707,null,null,null,null,null,1589]
[null,"Revenue - Class B only","Unbilled","Total Revenue","IESO Code 148","RPP GA (code 148)","Class B GA (Code 148)","Class B Deferral","Misc","Class B GA","Variance","Y.T.D.","G.L. Balance"]
["Opening Balance"]
["January",-385378.42000000004,{"$f":"D8-B8","v":167594.75869327207},-217783.66130672797,{"$f":"'I1a ER Summary'!Q5","v":985623.84},{"$f":"-'Rec1 1588 Commodity'!F8","v":-625946.75694119371},{"$f":"E8+F8","v":359677.08305880625},null,null,{"$f":"SUM(G8:I8)","v":359677.08305880625},{"$f":"D8+J8","v":141893.42175207828},{"$f":"K8","v":141893.42175207828},{"$f":"M7+K8","v":141893.42175207828}]
["February",-217468.27999999997,{"$f":"D9-B9","v":-168986.94794384704},-386455.22794384701,{"$f":"'I1a ER Summary'!Q6","v":1387229.02},{"$f":"-'Rec1 1588 Commodity'!F9","v":-870726.46600947203},{"$f":"E9+F9","v":516502.55399052799},null,null,{"$f":"SUM(G9:I9)","v":516502.55399052799},{"$f":"D9+J9","v":130047.32604668097},{"$f":"L8+K9","v":271940.74779875926},{"$f":"M8+K9","v":271940.74779875926}]
["March",-390582,-84614.514003316057,-475196.51400331606,{"$f":"'I1a ER Summary'!Q7","v":1418540.9},{"$f":"-'Rec1 1588 Commodity'!F10","v":-865390.86631289148},553150.03368710843,null,null,553150.03368710843,77953.519683792372,{"$f":"L9+K10","v":349894.26748255163},349894.26748255163]
["April",-476029.43000000011,-7010.7796391880256,-483040.20963918814,{"$f":"'I1a ER Summary'!Q8","v":1447252.99},{"$f":"-'Rec1 1588 Commodity'!F11","v":-863117.28705978533},584135.70294021466,null,null,584135.70294021466,101095.49330102652,450989.76078357815,450989.76078357815]
["May",-482854.52000000008,-13053.659604526008,-495908.17960452609,{"$f":"'I1a ER Summary'!Q9","v":1424300.1},{"$f":"-'Rec1 1588 Commodity'!F12","v":-820560.72708434204},603739.37291565805,null,null,603739.37291565805,107831.19331113197,558820.95409471006,558820.95409471006]
["June",-496783.29999999993,-108450.40120000322,-605233.70120000315,{"$f":"'I1a ER Summary'!Q10","v":1252078.52},{"$f":"-'Rec1 1588 Commodity'!F13","v":-738566.50551597984},513512.01448402018,null,null,513512.01448402018,-91721.686715982971,467099.26737872709,467099.26737872709]
["July",-604708.2899999998,-55338.27599999751,-660046.56599999731,{"$f":"'I1a ER Summary'!Q11","v":889244.76},{"$f":"-'Rec1 1588 Commodity'!F14","v":-551482.38220434636},337762.37779565365,null,null,337762.37779565365,-322284.18820434366,144815.07917438343,144815.07917438343]
["August",-659628.32000000007,311457.23000000027,-348171.08999999979,{"$f":"'I1a ER Summary'!Q12","v":1212483.0900000001},{"$f":"-'Rec1 1588 Commodity'!F15","v":-728057.39152697241},484425.69847302767,null,null,484425.69847302767,136254.60847302788,281069.68764741131,281069.68764741131]
["September",-349134,-12882.760000000068,-362016.76000000007,{"$f":"'I1a ER Summary'!Q13","v":846173.17},{"$f":"-'Rec1 1588 Commodity'!F16","v":-494307.42682195513},351865.74317804491,null,null,351865.74317804491,-10151.016821955156,270918.67082545615,270918.67082545615]
["October",-362383.25000000006,-88180.249999999825,-450563.49999999988,{"$f":"'I1a ER Summary'!Q14","v":1210447.9099999999},{"$f":"-'Rec1 1588 Commodity'!F17","v":-702524.07826157694},507923.83173842297,null,null,507923.83173842297,57360.33173842309,328279.00256387924,328279.00256387924]
["November",-450415.31999999995,13272.190000000119,-437143.12999999983,{"$f":"'I1a ER Summary'!Q15","v":1135689.1100000001},{"$f":"-'Rec1 1588 Commodity'!F18","v":-689294.62839251338},446394.48160748673,null,null,446394.48160748673,9251.3516074868967,337530.35417136614,337530.35417136614]
["December",-437096.92000000004,-63648.159999999974,-500745.08,{"$f":"'I1a ER Summary'!Q16","v":1130245.18},{"$f":"-'Rec1 1588 Commodity'!F19","v":-724576.74356479791},405668.43643520202,null,null,405668.43643520202,-95076.643564797996,242453.71060656814,242453.71060656814]
[null,{"$f":"SUM(B8:B19)","v":-5312462.0500000007},-109841.56969760527,-5422303.6196976053,14339308.589999998,-8674551.2596958261,5664757.3303041738,0,0,5664757.3303041738,242453.71060656814]
[]
["Per GL",null,null,null,null,null,null,null,null,4623172.1900000004]
["Dec Accrual",null,null,null,null,null,null,null,null,452098.08]
["Adjustments",null,null,null,null,null,null,null,null,{"$f":"J20-J22-J23","v":589487.06030417327}]
[]
[]
[]
[]
[]
[]
[]
[]
[]
[null,null,null,{"$f":"D8","v":-217783.66130672797},{"$f":"'Rev3 GA Analysis '!H16","v":204822.08254710448},{"$f":"D34+E34","v":-12961.578759623488},null,null,null,{"$f":"J8","v":359677.08305880625},{"$f":"'Rev3 GA Analysis '!J16","v":350735.43147720402},{"$f":"J34-K34","v":8941.6515816022293}]
[null,null,null,-386455.22794384701,{"$f":"'Rev3 GA Analysis '!H17","v":389598.67259209225},{"$f":"D35+E35","v":3143.4446482452331},null,null,null,{"$f":"J9","v":516502.55399052799},{"$f":"'Rev3 GA Analysis '!J17","v":510926.81337158405},{"$f":"J35-K35","v":5575.7406189439353}]
[null,null,null,-475196.51400331606,{"$f":"'Rev3 GA Analysis '!H18","v":475610.38194357767},413.86794026161078,null,null,null,553150.03368710843,{"$f":"'Rev3 GA Analysis '!J18","v":546375.91094908444},6774.122738023987]
[null,null,null,-483040.20963918814,{"$f":"'Rev3 GA Analysis '!H19","v":483700.63916680688},660.42952761874767,null,null,null,584135.70294021466,{"$f":"'Rev3 GA Analysis '!J19","v":577491.81136344443},6643.8915767702274]
[null,null,null,-495908.17960452609,{"$f":"'Rev3 GA Analysis '!H20","v":496033.53404845967},125.35444393358193,null,null,null,603739.37291565805,{"$f":"'Rev3 GA Analysis '!J20","v":600940.47233727947},2798.9005783785833]
[null,null,null,-605233.70120000315,{"$f":"'Rev3 GA Analysis '!H21","v":605175.73859073943},-57.96260926371906,null,null,null,513512.01448402018,{"$f":"'Rev3 GA Analysis '!J21","v":507594.49973644415},5917.5147475760314]
[null,null,null,-660046.56599999731,{"$f":"'Rev3 GA Analysis '!H22","v":660017.38910110365},-29.176898893667385,null,null,null,337762.37779565365,{"$f":"'Rev3 GA Analysis '!J22","v":331945.54834133951},5816.8294543141383]
[null,null,null,-348171.08999999979,{"$f":"'Rev3 GA Analysis '!H23","v":348420.04722337436},248.95722337457119,null,null,null,484425.69847302767,{"$f":"'Rev3 GA Analysis '!J23","v":477455.54450550029},6970.1539675273816]
[null,null,null,-362016.76000000007,{"$f":"'Rev3 GA Analysis '!H24","v":362265.38252068369},248.62252068362432,null,null,null,351865.74317804491,{"$f":"'Rev3 GA Analysis '!J24","v":347275.8664630102},4589.8767150347121]
[null,null,null,-450563.49999999988,{"$f":"'Rev3 GA Analysis '!H25","v":450695.08745096711},131.58745096722851,null,null,null,507923.83173842297,{"$f":"'Rev3 GA Analysis '!J25","v":502014.63135480759},5909.200383615389]
[null,null,null,-437143.12999999983,{"$f":"'Rev3 GA Analysis '!H26","v":437933.63263230602},790.50263230619021,null,null,null,446394.48160748673,{"$f":"'Rev3 GA Analysis '!J26","v":440609.4213518863},5785.0602556004305]
[null,null,null,null,null,null,null,null,null,405668.43643520202,{"$f":"'Rev3 GA Analysis '!J27","v":399607.89683466818},6060.5396005338407]
[null,null,null,null,null,null,null,null,null,{"$f":"SUM(J34:J45)","v":5664757.3303041738},{"$f":"SUM(K34:K45)","v":5592973.8480862528},71783.482217920886]

{"sheet":"Rec3 1589 Class A","index":30,"n_rows":20,"n_cols":22,"rows_kept":20,"cut":false,"hidden":false,"merged":[[4,1,4,3],[4,4,4,6],[4,7,4,9]]}
["Lakefront Utilities Inc.",null,null,null,null,null,null,null,null,null,null,null,null,"MY_GL_Account_Transactions.xlsm",null,null,null,null,null,null,null,"IESO Invoice Reconciliation.xlsm"]
["2023 1589 ClassA RSVA"]
["Global Adjustment Class A Only"]
[]
[null,"4006-4055",null,null,4707,null,null,1588]
[null,"Revenue - Class A only","Unbilled","Total Revenue","Class A GA","Misc","Total Cost","Variance","Y.T.D.","G.L. Balance"]
["Opening Balance",null,null,null,null,null,null,null,null,0]
["January",-125354.89,{"$f":"D8-B8","v":-70662.039999999994},{"$f":"-E8","v":-196016.93},196016.93,null,{"$f":"SUM(E8:F8)","v":196016.93},{"$f":"D8+G8","v":0},{"$f":"H8","v":0},{"$f":"J7+H8","v":0}]
["February",-196016.93,{"$f":"D9-B9","v":-83073.100000000035},{"$f":"-E9","v":-279090.03000000003},279090.03000000003,null,{"$f":"SUM(E9:F9)","v":279090.03000000003},{"$f":"D9+G9","v":0},{"$f":"I8+H9","v":0},{"$f":"J8+H9","v":0}]
["March",-279090.02,-1511.3399999999674,-280601.36,280601.36,null,280601.36,0,{"$f":"I9+H10","v":0},0]
["April",-280601.36,-15738.619999999995,-296339.98,296339.98,null,296339.98,0,0,0]
["May",-296339.98,-5632.9899999999907,-301972.96999999997,301972.96999999997,null,301972.96999999997,0,0,0]
["June",-301972.96999999997,35174.379999999946,-266798.59000000003,266798.59000000003,null,266798.59000000003,0,0,0]
["July",-266798.59000000003,77615.700000000012,-189182.89,189182.89,null,189182.89,0,0,0]
["August",-189182.9,-58629.279999999999,-247812.18,247812.18,null,247812.18,0,0,0]
["September",-247812.17,72768.400000000023,-175043.77,175043.77,null,175043.77,0,0,0]
["October",-175043.78,-76267.390000000014,-251311.17,251311.17,null,251311.17,0,0,0]
["November",-251311.16,28013.940000000002,-223297.22,223297.22,null,223297.22,0,0,0]
["December",-195745.78,-35576.25,-231322.03,231322.03,null,231322.03,0,0,0]
[null,{"$f":"SUM(B8:B19)","v":-2805270.53},-133518.59,-2938789.1199999996,2938789.1199999996,0,2938789.1199999996,0,0,0]

{"sheet":"Rev1UFE","index":31,"n_rows":19,"n_cols":25,"rows_kept":19,"cut":false,"hidden":false,"merged":[[4,13,4,14],[4,15,4,18],[4,19,4,20],[4,21,4,22],[4,23,4,24]]}
["Lakefront Utilities Inc."]
["2023 RSVA"]
["Unaccounted for Energy Summary For USoA 1588"]
[]
[null,null,"Total Energy Purchases","Total Retail Sales","Uaccounted for Energy","UFE","Total Energy Purchases","Total Retail Sales","UFE","UFE",null,null,null,"Energy Purchases RPP and non-RPP",null,"RPP Settlement Amounts",null,null,null,"Energy Sales Revenue",null,"Energy Sales Volumes",null,"Energy Sales/kWh"]
[null,"Version","kWH","kWh","kWh","%","$ Amount","$ Amount","$ Amount","%","Revenue Per kWh","UFE $ Cost per kWh",null,"Energy for RPP and non-RPP","Final GA for RPP","Initial Settlement","First True-Up","Final True-Up","RPP Settlement Amount","RPP Sales","Non-RPP Sales","RPP kWh","Non-RPP kWH","RPP","Non-RPP"]
["January","Final",{"$f":"'I1a ER Summary'!S5","v":23575430.609999999},{"$f":"'I1a ER Summary'!T5","v":23119725.746061046},{"$f":"+C7-D7","v":455704.86393895373},{"$f":"+E7/C7","v":1.9329651766600488E-2},{"$f":"+N7+O7+S7","v":1473094.0675235386},{"$f":"+T7+U7","v":1455123.0956598523},{"$f":"+G7-H7","v":17970.97186368634},{"$f":"+I7/G7","v":1.2199473380473159E-2},{"$f":"+H7/D7","v":6.2938596748180045E-2},{"$f":"+I7/E7","v":3.9435549816939704E-2},null,{"$f":"'I1a ER Summary'!O5","v":805840.93},{"$f":"'I1a ER Summary'!E5","v":625946.75694119371},0,0,{"$f":"'I1a ER Summary'!F5","v":41306.38058234466},{"$f":"SUM(P7:R7)","v":41306.38058234466},{"$f":"'I1a ER Summary'!C5","v":1080819.5340943947},{"$f":"'I1a ER Summary'!AH5","v":374303.56156545761},{"$f":"'I1a ER Summary'!AJ5","v":11351983.61659912},{"$f":"'I1a ER Summary'!AK5","v":11767742.129461925},{"$f":"+T7/V7","v":9.5209751053022706E-2},3.1807593797313474E-2]
["February","Final",{"$f":"'I1a ER Summary'!S6","v":21689783.610000003},{"$f":"'I1a ER Summary'!T6","v":21508237.736265436},{"$f":"+C8-D8","v":181545.87373456731},{"$f":"+E8/C8","v":8.3701099558626396E-3},{"$f":"+N8+O8+S8","v":1233123.636475109},{"$f":"+T8+U8","v":1227563.0778740898},{"$f":"+G8-H8","v":5560.5586010192055},{"$f":"+I8/G8","v":4.5093277239532069E-3},{"$f":"+H8/D8","v":5.7074089143262216E-2},3.0628945107004351E-2,null,{"$f":"'I1a ER Summary'!O6","v":509168.56},{"$f":"'I1a ER Summary'!E6","v":870726.46600947203},0,0,{"$f":"'I1a ER Summary'!F6","v":-146771.38953436314},-146771.38953436314,{"$f":"'I1a ER Summary'!C6","v":982847.39118601067},{"$f":"'I1a ER Summary'!AH6","v":244715.68668807915},{"$f":"'I1a ER Summary'!AJ6","v":10441817.415182889},{"$f":"'I1a ER Summary'!AK6","v":11066420.321082547},9.4126084771115115E-2,2.2113355501405751E-2]
["March","Final",{"$f":"'I1a ER Summary'!S7","v":23071999.5},{"$f":"'I1a ER Summary'!T7","v":22855660.615062792},216338.88493720815,9.376685576696903E-3,1325344.2060225944,1308449.49828543,16894.707737164339,1.2747411321822551E-2,5.7248377998013744E-2,7.8093717373406951E-2,null,{"$f":"'I1a ER Summary'!O7","v":579462.62},{"$f":"'I1a ER Summary'!E7","v":865390.86631289148},0,0,{"$f":"'I1a ER Summary'!F7","v":-119509.280290297},-119509.280290297,{"$f":"'I1a ER Summary'!C7","v":1015583.6062452648},{"$f":"'I1a ER Summary'!AH7","v":292865.89204016526},{"$f":"'I1a ER Summary'!AJ7","v":10644947.266942941},{"$f":"'I1a ER Summary'!AK7","v":12210713.348119851},9.5405226609161425E-2,2.3984339300312817E-2]
["April","Final",{"$f":"'I1a ER Summary'!S8","v":19612596.969999999},{"$f":"'I1a ER Summary'!T8","v":19445476.317477923},167120.65252207592,8.5210873795912162E-3,1030781.0413530827,1020864.466838042,9916.5745150407311,9.6204471339747088E-3,5.2498815157357284E-2,5.933781591554517E-2,null,{"$f":"'I1a ER Summary'!O8","v":412910.43},{"$f":"'I1a ER Summary'!E8","v":863117.28705978533},0,0,{"$f":"'I1a ER Summary'!F8","v":-245246.67570670246},-245246.67570670246,{"$f":"'I1a ER Summary'!C8","v":805829.88057246991},{"$f":"'I1a ER Summary'!AH8","v":215034.58626557211},{"$f":"'I1a ER Summary'!AJ8","v":8663208.6869711727},{"$f":"'I1a ER Summary'!AK8","v":10782267.63050675},9.3017484593713951E-2,1.9943354555322406E-2]
["May","Final",{"$f":"'I1a ER Summary'!S9","v":19430008.77},{"$f":"'I1a ER Summary'!T9","v":19363944.73243618},66064.037563819438,3.4001033322137528E-3,963947.35932311823,963014.63203290896,932.72729020926636,9.6761226760787582E-4,4.9732358015863433E-2,1.4118532935687279E-2,null,{"$f":"'I1a ER Summary'!O9","v":340808.75},{"$f":"'I1a ER Summary'!E9","v":820560.72708434204},0,0,{"$f":"'I1a ER Summary'!F9","v":-197422.11776122369},-197422.11776122369,{"$f":"'I1a ER Summary'!C9","v":770490.86340857833},{"$f":"'I1a ER Summary'!AH9","v":192523.76862433064},{"$f":"'I1a ER Summary'!AJ9","v":8171811.0670003053},{"$f":"'I1a ER Summary'!AK9","v":11192133.665435875},9.4286426483842931E-2,1.7201703837659881E-2]
["June","Final",{"$f":"'I1a ER Summary'!S10","v":19878459.190000001},{"$f":"'I1a ER Summary'!T10","v":19703817.198206417},174641.99179358408,8.7854893643587312E-3,1178659.4044790589,1166550.9574269911,12108.447052067844,1.027306701669216E-2,5.920431283402177E-2,6.9332964699459404E-2,null,{"$f":"'I1a ER Summary'!O10","v":606217.67999999993},{"$f":"'I1a ER Summary'!E10","v":738566.50551597984},0,0,{"$f":"'I1a ER Summary'!F10","v":-166124.78103692087},-166124.78103692087,{"$f":"'I1a ER Summary'!C10","v":850258.79563378985},{"$f":"'I1a ER Summary'!AH10","v":316292.16179320123},{"$f":"'I1a ER Summary'!AJ10","v":8836581.3003816511},{"$f":"'I1a ER Summary'!AK10","v":10867235.897824766},9.6220333037287539E-2,2.9105116035671192E-2]
["July","Final",{"$f":"'I1a ER Summary'!S11","v":21738229.68},{"$f":"'I1a ER Summary'!T11","v":21432508.474970303},305721.20502969623,1.4063758159247503E-2,1474224.3343521864,1447190.6443439543,27033.690008232137,1.833756869853289E-2,6.7523157451869834E-2,8.8425956601885763E-2,null,{"$f":"'I1a ER Summary'!O11","v":887558.49},{"$f":"'I1a ER Summary'!E11","v":551482.38220434636},0,0,{"$f":"'I1a ER Summary'!F11","v":35183.462147840051},35183.462147840051,{"$f":"'I1a ER Summary'!C11","v":1038979.9191621449},{"$f":"'I1a ER Summary'!AH11","v":408210.72518180939},{"$f":"'I1a ER Summary'!AJ11","v":10819729.641505407},{"$f":"'I1a ER Summary'!AK11","v":10612778.833464896},9.6026421508401572E-2,3.846407539320551E-2]
["August","Final",{"$f":"'I1a ER Summary'!S12","v":20715003.329999998},{"$f":"'I1a ER Summary'!T12","v":20478368.424718417},236634.90528158098,1.1423358302766008E-2,1277863.3577430598,1260518.1112793339,17345.246463725809,1.3573631608281409E-2,6.1553639681461408E-2,7.3299610820669214E-2,null,{"$f":"'I1a ER Summary'!O12","v":651885.57999999996},{"$f":"'I1a ER Summary'!E12","v":728057.39152697241},0,0,{"$f":"'I1a ER Summary'!F12","v":-102079.61378391267},-102079.61378391267,{"$f":"'I1a ER Summary'!C12","v":940128.33673194004},{"$f":"'I1a ER Summary'!AH12","v":320389.7745473939},{"$f":"'I1a ER Summary'!AJ12","v":9733281.8785218671},{"$f":"'I1a ER Summary'!AK12","v":10745086.54619655},9.6589038359866292E-2,2.9817328429132348E-2]
["September","Final",{"$f":"'I1a ER Summary'!S13","v":19039513.41},{"$f":"'I1a ER Summary'!T13","v":18842351.657776579},197161.75222342089,1.035539868996163E-2,1224778.3192449147,1206711.914729787,18066.404515127651,1.4750754672295089E-2,6.4042532304175268E-2,9.1632399851341653E-2,null,{"$f":"'I1a ER Summary'!O13","v":764196.77999999991},{"$f":"'I1a ER Summary'!E13","v":494307.42682195513},0,0,{"$f":"'I1a ER Summary'!F13","v":-33725.887577040383},-33725.887577040383,{"$f":"'I1a ER Summary'!C13","v":827291.76655264362},{"$f":"'I1a ER Summary'!AH13","v":379420.14817714342},{"$f":"'I1a ER Summary'!AJ13","v":8714332.7095456943},{"$f":"'I1a ER Summary'!AK13","v":10128018.948230885},9.4934608779215751E-2,3.7462424795662412E-2]
["October","Final",{"$f":"'I1a ER Summary'!S14","v":18708158.73},{"$f":"'I1a ER Summary'!T14","v":18535678.744658984},172479.9853410162,9.2195061967499242E-3,1123247.3178344914,1112042.19596009,11205.121874401346,9.9756497936747367E-3,5.9994684374885518E-2,6.4964765924853882E-2,null,{"$f":"'I1a ER Summary'!O14","v":591790.47},{"$f":"'I1a ER Summary'!E14","v":702524.07826157694},0,0,{"$f":"'I1a ER Summary'!F14","v":-171067.23042708531},-171067.23042708531,{"$f":"'I1a ER Summary'!C14","v":804625.18956832285},{"$f":"'I1a ER Summary'!AH14","v":307417.00639176718},{"$f":"'I1a ER Summary'!AJ14","v":8504356.8080837168},{"$f":"'I1a ER Summary'!AK14","v":10031321.936575267},9.4613291484136205E-2,3.0645712333375728E-2]
["November","Final",{"$f":"'I1a ER Summary'!S15","v":19789275.210000001},{"$f":"'I1a ER Summary'!T15","v":19581482.45924446},207792.75075554103,1.050027090686668E-2,1399866.9549571269,1382466.2843866888,17400.670570438029,1.2430231679389097E-2,7.0600695696255808E-2,8.3740508305360215E-2,null,{"$f":"'I1a ER Summary'!O15","v":602629.49},{"$f":"'I1a ER Summary'!E15","v":689294.62839251338},0,0,{"$f":"'I1a ER Summary'!F15","v":107942.83656461361},107942.83656461361,{"$f":"'I1a ER Summary'!C15","v":1095734.8879050931},{"$f":"'I1a ER Summary'!AH15","v":286731.3964815957},{"$f":"'I1a ER Summary'!AJ15","v":9605538.5084446594},{"$f":"'I1a ER Summary'!AK15","v":9975943.9507998005},0.11407323878216546,2.8742282223689481E-2]
["December","Final",{"$f":"'I1a ER Summary'!S16","v":19911532.190000001},{"$f":"'I1a ER Summary'!T16","v":19656646.323108561},254885.86689144,1.2800916798329018E-2,1472425.7782570375,1451735.697298195,20690.080958842533,1.4051697046036584E-2,7.3854698987564277E-2,8.1173904270081684E-2,null,{"$f":"'I1a ER Summary'!O16","v":621666.31000000006},{"$f":"'I1a ER Summary'!E16","v":724576.74356479791},0,0,{"$f":"'I1a ER Summary'!F16","v":126182.72469223931},126182.72469223931,{"$f":"'I1a ER Summary'!C16","v":1191369.8989509339},{"$f":"'I1a ER Summary'!AH16","v":260365.79834726104},{"$f":"'I1a ER Summary'!AJ16","v":10774081.354759336},{"$f":"'I1a ER Summary'!AK16","v":8882564.9683492258},0.11057739956870281,2.931200607876314E-2]
["Total",null,{"$f":"SUM(C7:C18)","v":247159991.19999996},{"$f":"SUM(D7:D18)","v":244523898.42998707},{"$f":"SUM(E7:E18)","v":2636092.770012904},1.0665531897837777E-2,{"$f":"SUM(G7:G18)","v":15177355.777565315},{"$f":"SUM(H7:H18)","v":15002230.576115362},{"$f":"SUM(I7:I18)","v":175125.20144995523},1.1538584455456974E-2,6.1352819386735126E-2,6.6433626100760479E-2,null,{"$f":"SUM(N7:N18)","v":7374136.0899999999},8674551.2596958261,0,0,-871331.57213050779,-871331.57213050779,11382095.66412396,3626059.6297814255,116261670.25393876,128262228.17604831,9.7900672158443836E-2,2.827067392595442E-2]

{"sheet":"Rev2 GA Purchases","index":32,"n_rows":19,"n_cols":20,"rows_kept":19,"cut":false,"hidden":false,"merged":[[4,2,4,4],[4,5,4,7],[4,8,4,10],[4,11,4,13],[4,16,4,18]]}
["Lakefront Utilities Inc."]
["2023 RSVA"]
["Non-RPP Global Adjustment"]
[]
[null,null,"Non-RPP Class A GA",null,null,"Non-RPP Class B GA",null,null,"RPP Class B GA",null,null,"Total Class B GA",null,null,null,null,"GA non-RPP Cost Amounts Booked"]
[null,null,"Cost Amount","kWh","Avg Cost","Cost Amount","kWh","Avg Cost","Cost Amount","kWh","Avg Cost","Cost Amount","kWh","Avg Cost",null,null,"G/L 4707","True-Ups","Total","Difference"]
["January","Final",{"$f":"'Rec3 1589 Class A'!G8","v":196016.93},{"$f":"'I1a ER Summary'!AN5","v":5244745.87},{"$f":"+C7/D7","v":3.7373961457545318E-2},{"$f":"'Rec2 1589 Class B'!J8","v":359677.08305880625},{"$f":"'I1a ER Summary'!AK5","v":11767742.129461925},{"$f":"+F7/G7","v":3.056466390084402E-2},{"$f":"'Rec1 1588 Commodity'!F8","v":625946.75694119371},{"$f":"'I1a ER Summary'!AJ5","v":11351983.61659912},{"$f":"+I7/J7","v":5.5139857322020848E-2},{"$f":"+F7+I7","v":985623.84},23119725.746061046,{"$f":"+L7/M7","v":4.2631294628048204E-2},null,null,368354.79697004042,null,{"$f":"+Q7+R7","v":368354.79697004042},{"$f":"+S7-F7","v":8677.7139112341683}]
["February","Final",{"$f":"'Rec3 1589 Class A'!G9","v":279090.03000000003},{"$f":"'I1a ER Summary'!AN6","v":4872482.76},5.727881323483637E-2,{"$f":"'Rec2 1589 Class B'!J9","v":516502.55399052799},{"$f":"'I1a ER Summary'!AK6","v":11066420.321082547},4.6672956475956651E-2,{"$f":"'Rec1 1588 Commodity'!F9","v":870726.46600947203},{"$f":"'I1a ER Summary'!AJ6","v":10441817.415182889},8.3388401787546598E-2,1387229.02,21508237.736265436,6.4497567723131852E-2,null,null,517400.45136550185,null,{"$f":"+Q8+R8","v":517400.45136550185},897.89737497386523]
["March","Final",{"$f":"'Rec3 1589 Class A'!G10","v":280601.36},{"$f":"'I1a ER Summary'!AN7","v":5406559.0999999996},5.1900174364134855E-2,{"$f":"'Rec2 1589 Class B'!J10","v":553150.03368710843},{"$f":"'I1a ER Summary'!AK7","v":12210713.348119851},4.5300386465323084E-2,{"$f":"'Rec1 1588 Commodity'!F10","v":865390.86631289148},{"$f":"'I1a ER Summary'!AJ7","v":10644947.266942941},8.1295927975171448E-2,1418540.9,22855660.615062792,6.2065189184036314E-2,null,null,550805.55860433076,null,{"$f":"+R9+Q9","v":550805.55860433076},-2344.4750827776734]
["April","Final",{"$f":"'Rec3 1589 Class A'!G11","v":296339.98},{"$f":"'I1a ER Summary'!AN8","v":4919229.58},6.0241136377294266E-2,{"$f":"'Rec2 1589 Class B'!J11","v":584135.70294021466},{"$f":"'I1a ER Summary'!AK8","v":10782267.63050675},5.4175589306232161E-2,{"$f":"'Rec1 1588 Commodity'!F11","v":863117.28705978533},{"$f":"'I1a ER Summary'!AJ8","v":8663208.6869711727},9.9630208418948762E-2,1447252.99,19445476.317477923,7.442620413978672E-2,null,null,582775.40458850446,null,582775.40458850446,-1360.2983517101966]
["May","Final",{"$f":"'Rec3 1589 Class A'!G12","v":301972.96999999997},{"$f":"'I1a ER Summary'!AN9","v":5179605.9800000004},5.8300374809591202E-2,{"$f":"'Rec2 1589 Class B'!J12","v":603739.37291565805},{"$f":"'I1a ER Summary'!AK9","v":11192133.665435875},5.394318822157719E-2,{"$f":"'Rec1 1588 Commodity'!F12","v":820560.72708434204},{"$f":"'I1a ER Summary'!AJ9","v":8171811.0670003053},0.10041357054838911,1424300.1,19363944.73243618,7.3554232863213137E-2,null,null,606116.32718276326,null,606116.32718276326,2376.9542671052041]
["June","Final",{"$f":"'Rec3 1589 Class A'!G13","v":266798.59000000003},{"$f":"'I1a ER Summary'!AN10","v":4723319.7699999996},5.6485396498996733E-2,{"$f":"'Rec2 1589 Class B'!J13","v":513512.01448402018},{"$f":"'I1a ER Summary'!AK10","v":10867235.897824766},4.7253231577204194E-2,{"$f":"'Rec1 1588 Commodity'!F13","v":738566.50551597984},{"$f":"'I1a ER Summary'!AJ10","v":8836581.3003816511},8.3580570404991492E-2,1252078.52,19703817.198206417,6.3544972398240335E-2,null,null,513680.49910550786,null,513680.49910550786,168.4846214876743]
["July","Final",{"$f":"'Rec3 1589 Class A'!G14","v":189182.89},{"$f":"'I1a ER Summary'!AN11","v":3986098.22},4.7460669446323878E-2,{"$f":"'Rec2 1589 Class B'!J14","v":337762.37779565365},{"$f":"'I1a ER Summary'!AK11","v":10612778.833464896},3.1826007410104468E-2,{"$f":"'Rec1 1588 Commodity'!F14","v":551482.38220434636},{"$f":"'I1a ER Summary'!AJ11","v":10819729.641505407},5.0970070461725109E-2,889244.76,21432508.474970303,4.1490465805180655E-2,null,null,337855.354498856,null,337855.354498856,92.976703202351928]
["August","Final",{"$f":"'Rec3 1589 Class A'!G15","v":247812.18},{"$f":"'I1a ER Summary'!AN12","v":4268877.49},5.8050899933415515E-2,{"$f":"'Rec2 1589 Class B'!J15","v":484425.69847302767},{"$f":"'I1a ER Summary'!AK12","v":10745086.54619655},4.5083461765554632E-2,{"$f":"'Rec1 1588 Commodity'!F15","v":728057.39152697241},{"$f":"'I1a ER Summary'!AJ12","v":9733281.8785218671},7.480081236869901E-2,1212483.0900000001,20478368.424718417,5.9207992787964112E-2,null,null,484646.4102134835,null,484646.4102134835,220.71174045582302]
["September","Final",{"$f":"'Rec3 1589 Class A'!G16","v":175043.77},{"$f":"'I1a ER Summary'!AN13","v":3924844.59},4.4598904742875436E-2,{"$f":"'Rec2 1589 Class B'!J16","v":351865.74317804491},{"$f":"'I1a ER Summary'!AK13","v":10128018.948230885},3.4741813278252917E-2,{"$f":"'Rec1 1588 Commodity'!F16","v":494307.42682195513},{"$f":"'I1a ER Summary'!AJ13","v":8714332.7095456943},5.6723497173855893E-2,846173.17,18842351.657776579,4.4908044673434865E-2,null,null,351972.61429323879,null,351972.61429323879,106.8711151938769]
["October","Final",{"$f":"'Rec3 1589 Class A'!G17","v":251311.17},{"$f":"'I1a ER Summary'!AN14","v":3882685},6.4726128954576537E-2,{"$f":"'Rec2 1589 Class B'!J17","v":507923.83173842297},{"$f":"'I1a ER Summary'!AK14","v":10031321.936575267},5.0633788343137372E-2,{"$f":"'Rec1 1588 Commodity'!F17","v":702524.07826157694},{"$f":"'I1a ER Summary'!AJ14","v":8504356.8080837168},8.2607549767173563E-2,1210447.9099999999,18535678.744658984,6.5303673346668673E-2,null,null,508645.54499467765,null,508645.54499467765,721.7132562546758]
["November","Final",{"$f":"'Rec3 1589 Class A'!G18","v":223297.22},{"$f":"'I1a ER Summary'!AN15","v":3755295.76},5.9461953004734842E-2,{"$f":"'Rec2 1589 Class B'!J18","v":446394.48160748673},{"$f":"'I1a ER Summary'!AK15","v":9975943.9507998005},4.4747091985385304E-2,{"$f":"'Rec1 1588 Commodity'!F18","v":689294.62839251338},{"$f":"'I1a ER Summary'!AJ15","v":9605538.5084446594},7.1760123369087908E-2,1135689.1100000001,19581482.45924446,5.7998116964011519E-2,null,null,446213.34793035977,null,446213.34793035977,-181.13367712695617]
["December","Final",{"$f":"'Rec3 1589 Class A'!G19","v":231322.03},{"$f":"'I1a ER Summary'!AN16","v":2850485.17},8.1151809675964748E-2,{"$f":"'Rec2 1589 Class B'!J19","v":405668.43643520202},{"$f":"'I1a ER Summary'!AK16","v":8882564.9683492258},4.5670190747908845E-2,{"$f":"'Rec1 1588 Commodity'!F19","v":724576.74356479791},{"$f":"'I1a ER Summary'!AJ16","v":10774081.354759336},6.7251835187296397E-2,1130245.18,19656646.323108561,5.7499390354868E-2,null,null,408485.05802324391,null,408485.05802324391,2816.6215880418895]
[null,null,{"$f":"SUM(C7:C18)","v":2938789.1199999996},{"$f":"SUM(D7:D18)","v":53014229.289999999},5.5433968565762763E-2,{"$f":"SUM(F7:F18)","v":5664757.3303041738},{"$f":"SUM(G7:G18)","v":128262228.17604831},4.4165436784155375E-2,{"$f":"SUM(I7:I18)","v":8674551.2596958261},{"$f":"SUM(J7:J18)","v":116261670.25393876},7.4612305506611673E-2,{"$f":"SUM(L7:L18)","v":14339308.589999998},{"$f":"SUM(M7:M18)","v":244523898.42998707},5.864174701151216E-2,null,null,{"$f":"SUM(Q7:Q18)","v":5676951.3677705089},{"$f":"SUM(R7:R18)","v":0},{"$f":"SUM(S7:S18)","v":5676951.3677705089},{"$f":"SUM(T7:T18)","v":12194.037466334703}]

{"sheet":"Rev3 GA Analysis ","index":33,"n_rows":104,"n_cols":17,"rows_kept":104,"cut":false,"hidden":false,"merged":[[96,2,96,4],[96,5,97,5],[96,6,97,6],[102,1,102,6],[103,1,103,6],[62,4,62,8],[51,4,51,8],[52,4,52,8],[53,4,53,8],[54,4,54,8],[55,4,55,8],[56,4,56,8],[57,4,57,8],[58,4,58,8],[59,4,59,8],[60,4,60,8],[61,4,61,8],[38,2,38,6],[39,2,39,6],[49,4,49,8],[50,0,50,2],[50,4,50,8],[2,5,2,6],[2,8,2,9],[8,5,8,11]]}
[]
[null,null,null,null,null,"Consumption Data Excluding for Loss Factor (Data to agree with RRR as applicable)"]
[null,null,null,null,null,"Year",null,2023]
[null,null,null,null,null,"Total Metered excluding WMP","C = A+B",{"$f":"H5+H6","v":244523898.42998707},"kWh",1]
[null,null,null,null,null,"RPP ","A",{"$f":"'Rev2 GA Purchases'!J19","v":116261670.25393876},"kWh",0.53037520853399867]
[null,null,null,null,null,"Non RPP","B = D+E",{"$f":"H7+H8","v":128262228.17604831},"kWh",0.46962479146600133]
[null,null,null,null,null,"Non-RPP Class A","D",{"$f":"'Rev2 GA Purchases'!D19","v":53014229.289999999},"kWh",0.18155545505475981]
[null,null,null,null,null,"Non-RPP Class B*","E",{"$f":"'Rev2 GA Purchases'!G19-H7","v":75247998.886048317},"kWh",0.28806933641124155]
[null,null,null,null,null,"*Non-RPP Class B consumption reported in this table is not expected to directly agree with the Non-RPP Class B Including Loss Adjusted Billed Consumption in the GA Analysis of Expected Balance table below.  The difference should be equal to the loss factor."]
[]
[]
["Note 4","Analysis of Expected GA Amount"]
[null,"Year",2023]
[null,"Calendar Month","Non-RPP Class B Including Loss Factor Billed Consumption (kWh)","Deduct Previous Month Unbilled Loss Adjusted Consumption (kWh)","Add Current Month Unbilled Loss Adjusted Consumption (kWh)","Non-RPP Class B Including Loss Adjusted Consumption, Adjusted for Unbilled (kWh)","GA Rate Billed  ($/kWh)","$ Consumption at GA Rate Billed","GA Actual Rate Paid ($/kWh)","$ Consumption at Actual Rate Paid","Expected GA Variance ($)",null,"Revenue per Continuity Schedule","Difference",null,"Expense per Continuity Schedule","Difference"]
[null,null,"F","G","H","I = F-G+H","J","K = I*J","L","M = I*L","=M-K",null,null,"=H-M",null,null,"=J-P"]
[null,"January",{"$f":"'I1a ER Summary'!AP5","v":6522996.2594619254},null,null,{"$f":"C16-D16+E16","v":6522996.2594619254},3.1400000000000004E-2,{"$f":"F16*G16","v":204822.08254710448},{"$f":"'I1a ER Summary'!AZ5","v":5.3769068312502111E-2},{"$f":"F16*I16","v":350735.43147720402},{"$f":"J16-H16","v":145913.34893009954},null,{"$f":"'Rec2 1589 Class B'!D8","v":-217783.66130672797},{"$f":"H16+M16","v":-12961.578759623488},null,{"$f":"'Rec2 1589 Class B'!J8","v":359677.08305880625},{"$f":"J16-P16","v":-8941.6515816022293}]
[null,"February",{"$f":"'I1a ER Summary'!AP6","v":6193937.5610825475},null,null,{"$f":"C17-D17+E17","v":6193937.5610825475},6.2899999999999998E-2,{"$f":"F17*G17","v":389598.67259209225},{"$f":"'I1a ER Summary'!AZ6","v":8.2488208564099025E-2},{"$f":"F17*I17","v":510926.81337158405},{"$f":"J17-H17","v":121328.14077949181},null,{"$f":"'Rec2 1589 Class B'!D9","v":-386455.22794384701},{"$f":"H17+M17","v":3143.4446482452331},null,{"$f":"'Rec2 1589 Class B'!J9","v":516502.55399052799},{"$f":"J17-P17","v":-5575.7406189439353}]
[null,"March",{"$f":"'I1a ER Summary'!AP7","v":6804154.2481198516},null,null,{"$f":"C18-D18+E18","v":6804154.2481198516},6.9900000000000004E-2,{"$f":"F18*G18","v":475610.38194357767},{"$f":"'I1a ER Summary'!AZ7","v":8.0300341677301185E-2},{"$f":"F18*I18","v":546375.91094908444},70765.529005506774,null,{"$f":"'Rec2 1589 Class B'!D10","v":-475196.51400331606},413.86794026161078,null,{"$f":"'Rec2 1589 Class B'!J10","v":553150.03368710843},-6774.122738023987]
[null,"April",{"$f":"'I1a ER Summary'!AP8","v":5863038.0505067501},null,null,{"$f":"C19-D19+E19","v":5863038.0505067501},8.2500000000000004E-2,{"$f":"F19*G19","v":483700.63916680688},{"$f":"'I1a ER Summary'!AZ8","v":9.849702601086327E-2},{"$f":"F19*I19","v":577491.81136344443},93791.172196637548,null,{"$f":"'Rec2 1589 Class B'!D11","v":-483040.20963918814},660.42952761874767,null,{"$f":"'Rec2 1589 Class B'!J11","v":584135.70294021466},{"$f":"J19-P19","v":-6643.8915767702274}]
[null,"May",{"$f":"'I1a ER Summary'!AP9","v":6012527.6854358744},null,null,6012527.6854358744,8.2500000000000004E-2,496033.53404845967,{"$f":"'I1a ER Summary'!AZ9","v":9.9948059082195256E-2},{"$f":"F20*I20","v":600940.47233727947},{"$f":"J20-H20","v":104906.9382888198},null,{"$f":"'Rec2 1589 Class B'!D12","v":-495908.17960452609},125.35444393358193,null,{"$f":"'Rec2 1589 Class B'!J12","v":603739.37291565805},{"$f":"J20-P20","v":-2798.9005783785833}]
[null,"June",{"$f":"'I1a ER Summary'!AP10","v":6143916.1278247666},null,null,6143916.1278247666,9.849999999999999E-2,605175.73859073943,{"$f":"'I1a ER Summary'!AZ10","v":8.2617420091012264E-2},507594.49973644415,-97581.238854295283,null,{"$f":"'Rec2 1589 Class B'!D13","v":-605233.70120000315},-57.96260926371906,null,{"$f":"'Rec2 1589 Class B'!J13","v":513512.01448402018},-5917.5147475760314]
[null,"July",{"$f":"'I1a ER Summary'!AP11","v":6626680.6134648956},null,null,6626680.6134648956,9.9600000000000008E-2,660017.38910110365,{"$f":"'I1a ER Summary'!AZ11","v":5.0092281144024378E-2},331945.54834133951,-328071.84075976413,null,{"$f":"'Rec2 1589 Class B'!D14","v":-660046.56599999731},-29.176898893667385,null,{"$f":"'Rec2 1589 Class B'!J14","v":337762.37779565365},-5816.8294543141383]
[null,"August",{"$f":"'I1a ER Summary'!AP12","v":6476209.0561965499},null,null,6476209.0561965499,5.3800000000000001E-2,348420.04722337436,{"$f":"'I1a ER Summary'!AZ12","v":7.3724541682091388E-2},477455.54450550029,129035.49728212593,null,{"$f":"'Rec2 1589 Class B'!D15","v":-348171.08999999979},248.95722337457119,null,{"$f":"'Rec2 1589 Class B'!J15","v":484425.69847302767},-6970.1539675273816]
[null,"September",{"$f":"'I1a ER Summary'!AP13","v":6203174.3582308851},null,null,6203174.3582308851,5.8400000000000001E-2,362265.38252068369,{"$f":"'I1a ER Summary'!AZ13","v":5.5983573313914001E-2},347275.8664630102,-14989.516057673492,null,{"$f":"'Rec2 1589 Class B'!D16","v":-362016.76000000007},248.62252068362432,null,{"$f":"'Rec2 1589 Class B'!J16","v":351865.74317804491},-4589.8767150347121]
[null,"October",{"$f":"'I1a ER Summary'!AP14","v":6148636.9365752675},null,null,6148636.9365752675,7.3300000000000004E-2,450695.08745096711,{"$f":"'I1a ER Summary'!AZ14","v":8.1646491170842328E-2},502014.63135480759,51319.543903840473,null,{"$f":"'Rec2 1589 Class B'!D17","v":-450563.49999999988},131.58745096722851,null,{"$f":"'Rec2 1589 Class B'!J17","v":507923.83173842297},-5909.200383615389]
[null,"November ",{"$f":"'I1a ER Summary'!AP15","v":6220648.1907998007},null,null,6220648.1907998007,7.0400000000000004E-2,437933.63263230602,{"$f":"'I1a ER Summary'!AZ15","v":7.0830146286610093E-2},440609.4213518863,2675.7887195802759,null,{"$f":"'Rec2 1589 Class B'!D18","v":-437143.12999999983},790.50263230619021,null,{"$f":"'Rec2 1589 Class B'!J18","v":446394.48160748673},-5785.0602556004305]
[null,"December",{"$f":"'I1a ER Summary'!AP16","v":6032079.7983492259},null,null,6032079.7983492259,8.3400000000000002E-2,503075.45518232544,{"$f":"'I1a ER Summary'!AZ16","v":6.6247117112745627E-2},399607.89683466818,-103467.55834765726,null,{"$f":"'Rec2 1589 Class B'!D19","v":-500745.08},2330.3751823254279,null,{"$f":"'Rec2 1589 Class B'!J19","v":405668.43643520202},-6060.5396005338407]
[]
[null,"Net Change in Expected GA Balance in the Year (i.e. Transactions in the Year)",{"$f":"SUM(C16:C27)","v":75247998.886048347},0,0,{"$f":"SUM(F16:F27)","v":75247998.886048347},null,{"$f":"SUM(H16:H27)","v":5417348.0429995395},null,{"$f":"SUM(J16:J27)","v":5592973.8480862528},{"$f":"SUM(K16:K27)","v":175625.805086712},null,{"$f":"SUM(M16:M28)","v":-5422303.6196976053},{"$f":"SUM(N16:N28)","v":-4955.5766980646586},null,{"$f":"SUM(P16:P28)","v":5664757.3303041738},{"$f":"SUM(Q16:Q28)","v":-71783.482217920886}]
[]
[]
[]
[]
[]
[]
[null,null,"Annual Non-RPP Class B Wholesale kWh *","Annual Non-RPP Class B Retail billed kWh","Annual Unaccounted for Energy Loss kWh","Weighted Average GA Actual Rate Paid ($/kWh)**","Expected GA Volume Variance ($)"]
[null,null,"O","P","Q=O-P","R","P= Q*R"]
[null,null,{"$f":"(Rev1UFE!C19-H7)*'Rev3 GA Analysis '!H8/(H5+H8)","v":76283772.728237227},{"$f":"F29","v":75247998.886048347},{"$f":"C38-D38","v":1035773.8421888798},{"$f":"H29/F29","v":7.1993250627213221E-2},{"$f":"E38*F38","v":74568.725813815618},null,{"$f":"D38/C38","v":0.98642209469792674}]
[null,null,"*Equal to (AQEW - Class A + embedded generation kWh)*(Non-RPP Class B retail kwh/Total retail Class B kWh)"]
[null,null,"**Equal to annual Non-RPP Class B $ GA paid (i.e. non-RPP portion of CT 148 on IESO invoice) divided by Non-RPP Class B Wholesale kWh (as quantified in column O in the table above)"]
[null,null,null,null,null,"Total Expected GA Variance",{"$f":"K29+G38","v":250194.53090052761}]
[]
[]
[]
[]
[]
[]
["Note 5 ","Reconciling Items "]
[]
[null," Item","Applicability of Reconciling Item (Y/N)","Amount (Quantify if it is a significant reconciling item)","Explanation"]
[" Net Change in Principal Balance in the GL (i.e. Transactions in the Year)",null,null,{"$f":"M29+P29","v":242453.71060656849}]
["1a","Remove impacts to GA from prior year RPP Settlement true up process that are booked in current year","N"]
["1b","Add impacts to GA from current year RPP Settlement true up process that are booked in subsequent year","N"]
["2a","Remove prior year end unbilled to actual revenue differences","N"]
["2b","Add current year end unbilled to actual revenue differences","N"]
["3a","Remove difference between prior year accrual to forecast from long term load transfers","N"]
["3b","Add difference between current year accrual to forecast from long term load transfers","N"]
[4,"Remove GA balances pertaining to Class A customers","N"]
[5,"Significant prior period billing adjustments included in current year GL balance but would not be included in the billing consumption used in the GA Analysis","N"]
[6,"Differences in GA IESO posted rate and rate charged on IESO invoice","N"]
[7,null,null,0]
[9]
[10]
["Note 6","Adjusted Net Change in Principal Balance in the GL",null,{"$f":"SUM(D51:D63)","v":242453.71060656849}]
[null,"Net Change in Expected GA Balance in the Year Per Analysis",null,{"$f":"G41","v":250194.53090052761}]
[null,"Unresolved Difference",null,{"$f":"D64-D65","v":-7740.8202939591138}]
[null,"Unresolved Difference as % of Expected GA Payments to IESO",null,{"$f":"IF(ISERROR(D66/J29),0,D66/J29)","v":-1.38402583387866E-3},{"$f":"IF(AND(D67<0.01,D67>-0.01),\"\",\"Unresolved differences of greater than + or - 1% should be explained\")","v":""}]
[]
[]
["Note 7 ","Summary of GA  (if multiple years requested for disposition)"]
[]
[null,"Year","Annual Net Change in Expected GA Balance from GA Analysis (cell K59)"," Net Change in Principal Balance in the  GL (cell D65)","Reconciling Items (sum of cells D66 to D78)","Adjusted Net Change in Principal Balance in the GL","Unresolved Difference","Payments to IESO (cell J59)","Unresolved Difference as % of Expected GA Payments to IESO"]
[null,2023,{"$f":"G41","v":250194.53090052761},{"$f":"D51","v":242453.71060656849},{"$f":"SUM(D52:D63)","v":0},{"$f":"SUM(D73:E73)","v":242453.71060656849},{"$f":"F73-C73","v":-7740.8202939591138},{"$f":"J29","v":5592973.8480862528},{"$f":"IF(ISERROR(G73/H73),0,G73/H73)","v":-1.38402583387866E-3}]
[null,null,null,null,null,{"$f":"SUM(D74:E74)","v":0},{"$f":"F74-C74","v":0},null,{"$f":"IF(ISERROR(G74/H74),0,G74/H74)","v":0}]
[null,null,null,null,null,{"$f":"SUM(D75:E75)","v":0},{"$f":"F75-C75","v":0},null,{"$f":"IF(ISERROR(G75/H75),0,G75/H75)","v":0}]
[null,null,null,null,null,{"$f":"SUM(D76:E76)","v":0},{"$f":"F76-C76","v":0},null,{"$f":"IF(ISERROR(G76/H76),0,G76/H76)","v":0}]
[null,"Cumulative Balance ",{"$f":"SUM(C73:C76)","v":250194.53090052761},242453.71060656849,0,242453.71060656849,{"$f":"SUM(G73:G76)","v":-7740.8202939591138},5592973.8480862528,"N/A"]
[]
[]
[null,"Additional Notes and Comments"]
[]
[]
[]
[]
[]
[]
[]
[]
[]
[]
[]
[]
[]
[]
[null,"Account 1588 Reasonability Test"]
[]
[null,null,"Account 1588 - RSVA Power",null,null,"Account 4705 - Power Purchased","Account 1588 as % of Account 4705"]
[null,"Year","Transactions1","Principal Adjustments1","Total Activity in Calendar Year"]
[null,2023,null,{"$f":"'Rec1 1588 Commodity'!L20","v":175125.20144995512},{"$f":"SUM(C99:D99)","v":175125.20144995512},{"$f":"'Rec1 1588 Commodity'!K20","v":15177355.777565319},{"$f":"IFERROR(E99/F99,0)","v":1.1538584455456963E-2}]
[]
[]
[null,"Notes"]
[null,"1) The transactions should equal the \"Transaction\" column in the DVA Continuity Schedule. This is also expected to equal the transactions in the general ledger (excluding transactions relating to the removal of approved disposition amounts as that is shown in a separate column in the DVA Continuity Schedule)"]
[null,"2) Principal adjustments should equal the \"Principal Adjustments\" column in the DVA Continuity Schedule. Principal adjustments adjust the transactions in the general ledger to the amount that should be requested for disposition."]