Workbook

Sheet Accessibility Disclaimer Public
A1: This is a locked, fillable form and not all of the content in this document may be captured by a screen-reading device. If you require additional assistance to complete and submit this form, please contact innovation@OEB.ca

Sheet Project Proposal Part B Cover
B2: Project Proposal Part B Cover
C4: Applicant:
C5: Project Title:
C6: =B10 -> I. Document Checklist | D6: Not Complete
C7: =B17 -> II. Funding Summary | D7: Not Complete
C8: =B42 -> III. OEB Funding (Supported by Government of Canada) Summary by Milestone | D8: Not Complete
B10: I. Document Checklist
B11: Document ID | C11: Worksheet Title | D11: Description | E11: Checklist (drop down selection)
B12: 1 | C12: Budget | D12: This document is the project budget that provides a detailed breakdown of activities within each task in every milestone, the associated costs for each activity and the contribution between partners, proponent and OEB towards the project. | E12: Not Complete
B13: 2 | C13: Work Plan | D13: The work plan is a Gantt chart that provides a description of specific milestones, outcomes, tasks, and deliverables that will be taking place during the course of the project timeline. | E13: Not Complete
B14: 3 | C14: Measuring Results | D14: "Measuring Results" aims to capture the performance indicators of key tasks, its associated performance results and the timeframe of the results. This is also reflected in Section 7, Part A of the Project Proposal Template. | E14: Not Complete
B15: 4 | C15: Project Risk Profile | D15: This document captures the risks and associated mitigation strategies | E15: Not Complete
B17: II. Funding Summary
B18: Row ID | C18: Organization Structure (drop down selection) | D18: Company Name | E18: Industry (drop down selection) | F18: Applicant / Project Partner (drop down selection) | G18: In-Kind / Cash Contribution (drop down selection) | H18: Status (drop down selection) | I18: Amount (Numeric Value)
B19: 1
B20: 2
B21: 3
B22: 4
D40: Total | I40: =SUM(I19:I39) -> 0
B42: III. OEB Funding (Supported by Government of Canada) Summary by Milestone
B43: Milestone ID | C43: Milestone Completion Month (Numeric Value) | D43: Brief Milestone Description | E43: OEB Contribution Amount (Supported by Government of Canada) (Numeric Value) | F43: Total Milestone Amount (Numeric Value)
B44: 1
B45: 2
B46: 3
B47: 4
B48: 5
D56: Total | E56: =SUM(E44:E55) -> 0 | F56: =SUM(F44:F55) -> 0

Sheet 1. Budget 
B1: 1. Detailed Project Budget
B2: Project Name:
B3: Organization Name:
B5: Summary | C5: Expected Submission Date (Months from project start date) | D5: OEB Contribution (Supported by Government of Canada) | E5: Total Partner Contribution (Confirmed) | F5: Total Milestone Value
B6: Milestone 1 | D6: =O23 -> 0 | E6: =F6-D6 -> 0 | F6: =X23 -> 0
B7: Milestone 2 | D7: =O34 -> 0 | E7: =F7-D7 -> 0 | F7: =X34 -> 0
B8: Milestone 3 | D8: =O45 -> 0 | E8: =F8-D8 -> 0 | F8: =X45 -> 0
B9: Milestone 4 | D9: =O56 -> 0 | E9: =F9-D9 -> 0 | F9: =X56 -> 0
B10: Milestone 5 | D10: =O67 -> 0 | E10: =F10-D10 -> 0 | F10: =X67 -> 0
B11: Total | D11: =SUM(D6:D10) -> 0 | E11: =SUM(E6:E10) -> 0 | F11: =SUM(F6:F10) -> 0
B13: Click red triangles on cells for important notes that will help you accurately complete this template.
B14: Unique Line Item ID [Milestone].[Task] (Autogenerated-DO NOT ENTER) | C14: Milestone ID | D14: Milestone Description | E14: Task ID | F14: Task Areas | G14: Activity ID | H14: Activity Detail | I14: Due Date | J14: Cost Classification (drop down selection) | K14: Service Provider [Product or Service Provider] | L14: Rate/Cost [$/hr] or [$/unit] | M14: Units | N14: Total Cost (Calculated) | O14: Total Contribution (OEB, Supported by Government of Canada) | P14: Applicant Company (Cash) | Q14: Applicant Company (In-Kind) | R14: Partner A (In-Kind) | S14: Partner A (Cash) | T14: Partner B (In-Kind) | U14: Partner B (Cash) | V14: Demonstration Facility (In-Kind) | W14: Local Distribution Company (LDC) partner (In-Kind) | X14: Total Contribution (All Funders)
B15: =C15&"."&E15 -> 1.1 | C15: 1 | E15: 1 | X15: =SUM(O15:W15) -> 0
B16: =C16&"."&E16 -> 1. | C16: 1 | X16: =SUM(O16:W16) -> 0
B17: =C17&"."&E17 -> 1. | C17: 1 | X17: =SUM(O17:W17) -> 0
B18: =C18&"."&E18 -> 1. | C18: 1 | X18: =SUM(O18:W18) -> 0
B19: =C19&"."&E19 -> 1. | C19: 1 | N19: =L19*M19 -> 0 | X19: =SUM(O19:W19) -> 0
B20: =C20&"."&E20 -> 1. | C20: 1 | N20: =L20*M20 -> 0 | X20: =SUM(O20:W20) -> 0
B21: =C21&"."&E21 -> 1. | C21: 1 | N21: =L21*M21 -> 0 | X21: =SUM(O21:W21) -> 0
B22: =C22&"."&E22 -> 1. | C22: 1 | N22: =L22*M22 -> 0 | X22: =SUM(O22:W22) -> 0
B23: Milestone 1 Summary | M23: =SUM(M15:M22) -> 0 | N23: =SUM(N15:N22) -> 0 | O23: =SUM(O15:O22) -> 0 | P23: =SUM(P15:P22) -> 0 | Q23: =SUM(Q15:Q22) -> 0 | R23: =SUM(R15:R22) -> 0 | S23: =SUM(S15:S22) -> 0 | T23: =SUM(T15:T22) -> 0 | ... X23: =SUM(X15:X22) -> 0
B25: Unique Line Item ID [Milestone].[Task] (Autogenerated-DO NOT ENTER) | C25: Milestone ID | D25: Milestone Description | E25: Task ID | F25: Task Areas | G25: Activity ID | H25: Activity Detail | I25: Due Date | J25: Cost Classification (drop down selection) | K25: Service Provider [Product or Service Provider] | L25: Rate/Cost [$/hr] or [$/unit] | M25: Units | N25: Total Cost (Calculated) | O25: Total Contribution (OEB, Supported by Government of Canada) | P25: Applicant Company (Cash) | Q25: Applicant Company (In-Kind) | R25: Partner A (In-Kind) | S25: Partner A (Cash) | T25: Partner B (In-Kind) | U25: Partner B (Cash) | V25: Demonstration Facility (In-Kind) | W25: Local Distribution Company (LDC) partner (In-Kind) | X25: Total Contribution (All Funders)
B26: =C26&"."&E26 -> 2.1 | C26: 2 | E26: 1 | G26: 1 | N26: =L26*M26 -> 0 | X26: =SUM(O26:W26) -> 0
B27: =C27&"."&E27 -> 2. | C27: 2 | N27: =L27*M27 -> 0 | X27: =SUM(O27:W27) -> 0
B28: =C28&"."&E28 -> 2. | C28: 2 | N28: =L28*M28 -> 0 | X28: =SUM(O28:W28) -> 0
B29: =C29&"."&E29 -> 2. | C29: 2 | N29: =L29*M29 -> 0 | X29: =SUM(O29:W29) -> 0
B30: =C30&"."&E30 -> 2. | C30: 2 | N30: =L30*M30 -> 0 | X30: =SUM(O30:W30) -> 0
B31: =C31&"."&E31 -> 2. | C31: 2 | N31: =L31*M31 -> 0 | X31: =SUM(O31:W31) -> 0
B32: =C32&"."&E32 -> 2. | C32: 2 | N32: =L32*M32 -> 0 | X32: =SUM(O32:W32) -> 0
B33: =C33&"."&E33 -> 2. | C33: 2 | N33: =L33*M33 -> 0 | X33: =SUM(O33:W33) -> 0
B34: Milestone 2 Summary | M34: =SUM(M26:M33) -> 0 | N34: =SUM(N26:N33) -> 0 | O34: =SUM(O26:O33) -> 0 | P34: =SUM(P26:P33) -> 0 | Q34: =SUM(Q26:Q33) -> 0 | R34: =SUM(R26:R33) -> 0 | S34: =SUM(S26:S33) -> 0 | T34: =SUM(T26:T33) -> 0 | ... X34: =SUM(X26:X33) -> 0
B36: Unique Line Item ID [Milestone].[Task] (Autogenerated-DO NOT ENTER) | C36: Milestone ID | D36: Milestone Description | E36: Task ID | F36: Task Areas | G36: Activity ID | H36: Activity Detail | I36: Due Date | J36: Cost Classification (drop down selection) | K36: Service Provider [Product or Service Provider] | L36: Rate/Cost [$/hr] or [$/unit] | M36: Units | N36: Total Cost (Calculated) | O36: Total Contribution (OEB, Supported by Government of Canada) | P36: Applicant Company (Cash) | Q36: Applicant Company (In-Kind) | R36: Partner A (In-Kind) | S36: Partner A (Cash) | T36: Partner B (In-Kind) | U36: Partner B (Cash) | V36: Demonstration Facility (In-Kind) | W36: Local Distribution Company (LDC) partner (In-Kind) | X36: Total Contribution (All Funders)
B37: =C37&"."&E37 -> 3.1 | C37: 3 | E37: 1 | G37: 1 | N37: =L37*M37 -> 0 | X37: =SUM(O37:W37) -> 0
B38: =C38&"."&E38 -> 3. | C38: 3 | N38: =L38*M38 -> 0 | X38: =SUM(O38:W38) -> 0
B39: =C39&"."&E39 -> 3. | C39: 3 | N39: =L39*M39 -> 0 | X39: =SUM(O39:W39) -> 0
B40: =C40&"."&E40 -> 3. | C40: 3 | N40: =L40*M40 -> 0 | X40: =SUM(O40:W40) -> 0
B41: =C41&"."&E41 -> 3. | C41: 3 | N41: =L41*M41 -> 0 | X41: =SUM(O41:W41) -> 0
B42: =C42&"."&E42 -> 3. | C42: 3 | N42: =L42*M42 -> 0 | X42: =SUM(O42:W42) -> 0
B43: =C43&"."&E43 -> 3. | C43: 3 | N43: =L43*M43 -> 0 | X43: =SUM(O43:W43) -> 0
B44: =C44&"."&E44 -> 3. | C44: 3 | N44: =L44*M44 -> 0 | X44: =SUM(O44:W44) -> 0
...

Sheet 2. Work Plan
B1: 2. Work Plan
C2: Project Name:
C3: Organization Name:
F5: Project Month # (Maximum project length is 24 months)
B6: Milestone | C6: Outcome by Milestone | D6: Task Area | E6: Deliverable | F6: 1 | G6: =F6+1 -> 2 | H6: =G6+1 -> 3 | I6: =H6+1 -> 4 | J6: =I6+1 -> 5 | K6: =J6+1 -> 6 | L6: =K6+1 -> 7 | M6: =L6+1 -> 8 | N6: =M6+1 -> 9 | ... AC6: =AB6+1 -> 24
B7: E.g., Milestone 1 | C7: E.g., Milestone 1 Outcome | D7: E.g., Task Area 1 | E7: E.g., Deliverable 1
E8: E.g., Deliverable 2
E9: E.g., Deliverable 3
E10: E.g., Deliverable 4
D11: E.g., Task Area 2 | E11: E.g., Deliverable 1
E12: E.g., Deliverable 2
E13: E.g., Deliverable 3
E14: E.g., Deliverable 4
E15: E.g., Deliverable 5
B16: E.g., Milestone 2 | D16: E.g., Task Area 1 | E16: E.g., Deliverable 1
E17: E.g., Deliverable 2
D18: E.g., Task Area 2 | E18: E.g., Deliverable 1
E19: E.g., Deliverable 2
E20: E.g., Deliverable 3
D21: E.g., Task Area 3 | E21: E.g., Deliverable 1
E22: E.g., Deliverable 2
E23: E.g., Deliverable 3
B24: E.g., Milestone 3 | D24: E.g., Task Area 1 | E24: E.g., Deliverable 1
E25: E.g., Deliverable 2
E26: E.g., Deliverable 3

Sheet 3. Measuring Results
B1: 3. Measuring Results
B2: Project Name:
B3: Organization Name:
B5: Click red triangles on cells for important notes that will help you accurately complete this template.
B7: Milestone | C7: Milestone Outcome | D7: Task | E7: Performance Indicator | F7: Method of Measurement | G7: Performance Results | H7: Performance Achievement Date/Month
B8: Milestone 1
B12: Milestone 2
B13: Milestone 3
B14: Milestone 4
B20: Project | C20: Project Outcome | D20: Performance Indicator | E20: Method of Measurement | F20: Performance Results | G20: Performance Achievement Date/Month
C21: E.g., Project outcome 1
C22: E.g., Project outcome 2
C23: E.g., Project outcome 3

Sheet 4. Project Risk Profile
B1: 4. Project Risk Profile
C2: Project Name:
C3: Organization Name:
B6: Risk ID | C6: Description of Risk | D6: Severity of Risk (drop down selection) | E6: Likelihood of Risk (drop down selection) | F6: Risk Mitigation Strategy

Sheet Examples-->

Sheet Proj. Prop. Pt. B Cover EXAMPLE
B2: Project Proposal Part B Cover (EXAMPLE)
C4: Applicant: | D4: XYZ Inc.
C5: Project Title: | D5: Pilot Scale Up Project
C6: I. Document Checklist | D6: Complete
C7: II. Funding Summary | D7: Complete
C8: III. OEB Funding Summary (Supported by NRCan) by Milestone | D8: Complete
B10: I. Document Checklist
B11: Document ID | C11: Title | D11: Description | E11: Checklist
B12: 1 | C12: Budget | D12: This document is the project budget that provides a detailed breakdown of activities within each task in every milestone, the associated costs for each activity and the contribution between partners, proponent and OEB towards the project. | E12: Complete
B13: 2 | C13: Work Plan | D13: The work plan is a Gantt chart that provides a description of specific milestones, outcomes, tasks, and deliverables that will be taking place during the course of the project timeline. | E13: Complete
B14: 3 | C14: Measuring Results | D14: "Measuring Results" aims to capture the performance indicators of key tasks, its associated performance results and the timeframe of the results. This is also reflected in Section 7, Part A of the Project Proposal Template. | E14: Complete
B15: 4 | C15: Project Risk Profile | D15: This document captures the risks and associated mitigation strategies | E15: Complete
B17: II. Funding Summary
B18: ID | C18: Organization Structure | D18: Company Name | E18: Industry | F18: Applicant / Project Partner | G18: In-Kind / Cash Contribution | H18: Status | I18: Amount
B19: 1 | C19: Private - For Profit | D19: XYZ Inc. | E19: Manufacturing | F19: Applicant | G19: In Kind | H19: Confirmed | I19: 100000
B20: 2 | C20: Private - For Profit | D20: XYZ Inc. | E20: Manufacturing | F20: Applicant | G20: Cash | H20: Confirmed | I20: 80000
B21: 3 | C21: Local Distribution Company | D21: Utility ABC | E21: Utilities | F21: Project Partner | G21: In Kind | H21: Confirmed | I21: 95000
B22: 4 | C22: Private - For Profit | D22: Gadget Co. | E22: Consultants | F22: Project Partner | G22: In Kind | H22: Confirmed | I22: 50000
B23: 5 | C23: Private - For Profit | D23: Meter Inc. | E23: Research | F23: Project Partner | G23: In Kind | H23: Unconfirmed | I23: 85000
B24: 6 | C24: Private - For Profit | D24: Meter Inc. | E24: Research | F24: Project Partner | G24: Cash | H24: Confirmed | I24: 45000
D26: Total | I26: =SUM(I19:I25) -> 455000
B28: III. OEB Funding (Supported by NRCan) Summary by Milestone
B29: Milestone ID | C29: Milestone Completion Month (Numeric Value) | D29: Brief Milestone Description | E29: OEB Contribution Amount (Supported by NRCan) (Numeric Value) | F29: Total Milestone Amount (Numeric Value)
B30: 1 | C30: 5 | D30: Project Design | E30: 22500 | F30: =0.15*580000 -> 87000
B31: 2 | C31: 8 | D31: Project Implementation | E31: 35000 | F31: =0.35*580000 -> 203000
B32: 3 | C32: 15 | D32: Analysis | E32: 39500 | F32: =0.2*580000 -> 116000
B33: 4 | C33: 36 | D33: M&V Results and Reporting | E33: 28000 | F33: =0.3*580000 -> 174000
D34: Total | E34: =SUM(E30:E33) -> 125000 | F34: =SUM(F30:F33) -> 580000

Sheet 1. Budget EXAMPLE
B1: 1. Detailed Project Budget (EXAMPLE)
B2: Project Name: | C2: Pilot Scale Up Project
B3: Organization Name: | C3: XYZ Inc.
B5: Summary | C5: Expected Submission Date (Months from project start date) | D5: OEB Contribution | E5: Total Partner Contribution (Confirmed) | F5: Total Milestone Value
B6: Milestone 1 | C6: 5 | D6: 22500 | E6: =F6-D6 -> 64500 | F6: 87000
B7: Milestone 2 | C7: 8 | D7: 35000 | E7: =F7-D7 -> 168000 | F7: 203000
B8: Milestone 3 | C8: 15 | D8: 39500 | E8: =F8-D8 -> 76500 | F8: 116000
B9: Milestone 4 | C9: 36 | D9: 28000 | E9: =F9-D9 -> 146000 | F9: 174000
D10: =O67 -> 0 | E10: =F10-D10 -> 0 | F10: =V67 -> 0
B11: Total | D11: =SUM(D6:D10) -> 125000 | E11: =SUM(E6:E10) -> 455000 | F11: =SUM(F6:F10) -> 580000
B13: Click red triangles on cells for important notes that will help you accurately complete this template.
B14: Unique Line Item ID [Milestone].[Task] (Autogenerated-DO NOT ENTER) | C14: Milestone ID | D14: Milestone Description | E14: Task ID | F14: Task Areas | G14: Activity ID | H14: Activity Detail | I14: Due Date | J14: Cost Classification (drop down selection) | K14: Service Provider [Product or Service Provider] | L14: Rate/Cost [$/hr] or [$/unit] | M14: Units | N14: Total Cost (Calculated) | O14: Total Contribution (OEB, Supported by Government of Canada) | P14: Applicant Company (In-Kind) | Q14: Applicant Company (Cash) | R14: Gadget Co. (In-Kind) | S14: Gadget Co. (Cash) | T14: Demonstration Facility (In-Kind) | U14: Local Distribution Company (LDC) partner (In-Kind) | V14: Total Contribution (All Funders)
B15: =C15&"."&E15 -> 1.1 | C15: 1 | D15: Milestone 1: Project Design | E15: 1 | F15: Task 1: Project Design & Work Plan | G15: 1 | H15: Activity 1: Develop detailed M&V Plan | I15: Month 1 | J15: Labour | K15: Applicant Company / LDC | L15: 154 | M15: 18 | N15: =L15*M15 -> 2772 | O15: 2079 | P15: 0 | Q15: 0 | R15: 0 | S15: 0 | T15: 0 | U15: 693 | V15: =SUM(O15:U15) -> 2772
B16: =C16&"."&E16 -> 1.2 | C16: 1 | D16: Milestone 1: Project Design | E16: 2 | F16: Task 2: Review Project Design & Work Plan with OEB | G16: 2 | H16: Activity 2: Review detailed M&V Plan with IESO | I16: Month 2 | J16: Labour | K16: Applicant Company | L16: 154 | M16: 2 | N16: =L16*M16 -> 308 | O16: 231 | P16: 0 | Q16: 0 | R16: 0 | S16: 0 | T16: 0 | U16: 77 | V16: =SUM(O16:U16) -> 308
B17: =C17&"."&E17 -> 1.3 | C17: 1 | D17: Milestone 1: Project Design | E17: 3 | F17: Task 3: Finalize Project Design & Work Plan | G17: 1 | H17: Activity 1: Develop metering plan | I17: Month 2 | J17: Labour | K17: Applicant Company | L17: 154 | M17: 5 | N17: =L17*M17 -> 770 | O17: 577.5 | P17: 0 | Q17: 0 | R17: 0 | S17: 0 | T17: 0 | U17: 192.5 | V17: =SUM(O17:U17) -> 770
B18: =C18&"."&E18 -> 1. | C18: 1 | G18: 2 | H18: Activity 2: Acquire submeters | N18: =L18*M18 -> 0
B19: =C19&"."&E19 -> 1. | C19: 1 | N19: =L19*M19 -> 0
B20: =C20&"."&E20 -> 1. | C20: 1 | N20: =L20*M20 -> 0
B21: =C21&"."&E21 -> 1. | C21: 1 | N21: =L21*M21 -> 0
B22: =C22&"."&E22 -> 1. | C22: 1 | N22: =L22*M22 -> 0
B23: Milestone 1 Summary | M23: =SUM(M15:M22) -> 25 | N23: =SUM(N15:N22) -> 3850 | O23: =SUM(O15:O22) -> 2887.5 | P23: =SUM(P15:P22) -> 0 | Q23: =SUM(Q15:Q22) -> 0 | R23: =SUM(R15:R22) -> 0 | S23: =SUM(S15:S22) -> 0 | T23: =SUM(T15:T22) -> 0 | ... V23: =SUM(V15:V22) -> 3850
B25: Unique Line Item ID [Milestone].[Task] (Autogenerated-DO NOT ENTER) | C25: Milestone ID | D25: Milestone Description | E25: Task ID | F25: Task Areas | G25: Activity ID | H25: Activity Detail | I25: Due Date | J25: Cost Classification (drop down selection) | K25: Service Provider [Product or Service Provider] | L25: Rate/Cost [$/hr] or [$/unit] | M25: Units | N25: Total Cost (Calculated) | O25: Total Contribution (OEB, Supported by Government of Canada) | P25: Applicant Company (In-Kind) | T25: Demonstration Facility (In-Kind) | U25: Local Distribution Company (LDC) partner (In-Kind) | V25: Total Contribution (All Funders)
B26: =C26&"."&E26 -> 2.1 | C26: 2 | E26: 1 | G26: 1 | J26: Labour | N26: =L26*M26 -> 0 | V26: =SUM(O26:U26) -> 0
B27: =C27&"."&E27 -> 2. | C27: 2 | N27: =L27*M27 -> 0 | V27: =SUM(O27:U27) -> 0
B28: =C28&"."&E28 -> 2. | C28: 2 | N28: =L28*M28 -> 0 | V28: =SUM(O28:U28) -> 0
B29: =C29&"."&E29 -> 2. | C29: 2 | N29: =L29*M29 -> 0 | V29: =SUM(O29:U29) -> 0
B30: =C30&"."&E30 -> 2. | C30: 2 | N30: =L30*M30 -> 0 | V30: =SUM(O30:U30) -> 0
B31: =C31&"."&E31 -> 2. | C31: 2 | N31: =L31*M31 -> 0 | V31: =SUM(O31:U31) -> 0
B32: =C32&"."&E32 -> 2. | C32: 2 | N32: =L32*M32 -> 0 | V32: =SUM(O32:U32) -> 0
B33: =C33&"."&E33 -> 2. | C33: 2 | N33: =L33*M33 -> 0 | V33: =SUM(O33:U33) -> 0
B34: Milestone 2 Summary | M34: =SUM(M26:M33) -> 0 | N34: =SUM(N26:N33) -> 0 | O34: =SUM(O26:O33) -> 0 | P34: =SUM(P26:P33) -> 0 | T34: =SUM(T26:T33) -> 0 | U34: =SUM(U26:U33) -> 0 | V34: =SUM(V26:V33) -> 0
B36: Unique Line Item ID [Milestone].[Task] (Autogenerated-DO NOT ENTER) | C36: Milestone ID | D36: Milestone Description | E36: Task ID | F36: Task Areas | G36: Activity ID | H36: Activity Detail | I36: Due Date | J36: Cost Classification (drop down selection) | K36: Service Provider [Product or Service Provider] | L36: Rate/Cost [$/hr] or [$/unit] | M36: Units | N36: Total Cost (Calculated) | O36: Total Contribution (OEB, Supported by Government of Canada) | P36: Applicant Company (In-Kind) | T36: Demonstration Facility (In-Kind) | U36: Local Distribution Company (LDC) partner (In-Kind) | V36: Total Contribution (All Funders)
B37: =C37&"."&E37 -> 3.1 | C37: 3 | E37: 1 | G37: 1 | N37: =L37*M37 -> 0 | V37: =SUM(O37:U37) -> 0
B38: =C38&"."&E38 -> 3. | C38: 3 | N38: =L38*M38 -> 0 | V38: =SUM(O38:U38) -> 0
B39: =C39&"."&E39 -> 3. | C39: 3 | N39: =L39*M39 -> 0 | V39: =SUM(O39:U39) -> 0
B40: =C40&"."&E40 -> 3. | C40: 3 | N40: =L40*M40 -> 0 | V40: =SUM(O40:U40) -> 0
B41: =C41&"."&E41 -> 3. | C41: 3 | N41: =L41*M41 -> 0 | V41: =SUM(O41:U41) -> 0
B42: =C42&"."&E42 -> 3. | C42: 3 | N42: =L42*M42 -> 0 | V42: =SUM(O42:U42) -> 0
B43: =C43&"."&E43 -> 3. | C43: 3 | N43: =L43*M43 -> 0 | V43: =SUM(O43:U43) -> 0
B44: =C44&"."&E44 -> 3. | C44: 3 | N44: =L44*M44 -> 0 | V44: =SUM(O44:U44) -> 0
...

Sheet 2. Work Plan EXAMPLE
B1: 2. Work Plan (EXAMPLE)
C2: Project Name: | D2: ='1. Budget EXAMPLE'!$C$2 -> Pilot Scale Up Project
C3: Organization Name: | D3: ='1. Budget EXAMPLE'!$C$3 -> XYZ Inc.
F5: Project Month # (Maximum project length is 24 months)
B6: Milestone | C6: Outcome by Milestone | D6: Task Area | E6: Deliverable | F6: 1 | G6: =F6+1 -> 2 | H6: =G6+1 -> 3 | I6: =H6+1 -> 4 | J6: =I6+1 -> 5 | K6: =J6+1 -> 6 | L6: =K6+1 -> 7 | M6: =L6+1 -> 8 | N6: =M6+1 -> 9 | ... AC6: =AB6+1 -> 24
B7: E.g., Milestone 1 | D7: E.g., Task Area 1 | E7: E.g., Activity 1
E8: E.g., Activity 2
E9: E.g., Activity 3
E10: E.g., Activity 4
D11: E.g., Task Area 2 | E11: E.g., Activity 1
E12: E.g., Activity 2
E13: E.g., Activity 3
E14: E.g., Activity 4
E15: E.g., Activity 5
B16: E.g., Milestone 2 | D16: E.g., Task Area 1 | E16: E.g., Activity 1
E17: E.g., Activity 2
D18: E.g., Task Area 2 | E18: E.g., Activity 1
E19: E.g., Activity 2
E20: E.g., Activity 3
D21: E.g., Task Area 3 | E21: E.g., Activity 1
E22: E.g., Activity 2
E23: E.g., Activity 3
B24: E.g., Milestone 3 | D24: E.g., Task Area 1 | E24: E.g., Activity 1
E25: E.g., Activity 2
E26: E.g., Activity 3

Sheet 3. Measuring Results EXAMPLE
B1: 3. Measuring Results (EXAMPLE)
B2: Project Name: | C2: ='1. Budget EXAMPLE'!$C$2 -> Pilot Scale Up Project
B3: Organization Name: | C3: ='1. Budget EXAMPLE'!$C$3 -> XYZ Inc.
B5: Click red triangles on cells for important notes that will help you accurately complete this template.
B7: Milestone | C7: Milestone Outcome | D7: Task | E7: Performance Indicator | F7: Method of Measurement | G7: Performance Results | H7: Performance Achievement Date/Month
B8: Milestone 1 | C8: Finalize Project Design & Work Plan with OEB | D8: Project Design & Work Plan | E8: Design & Work Plan submitted to OEB | F8: Confirmation of receipt from OEB | G8: Received | H8: Month 1
D9: Discuss Project Design & Work Plan with OEB | E9: Receive oral or written feedback from OEB | F9: Agreement from OEB on approach | G9: Approach to address feedback confirmed | H9: Month 2
D10: Finalize Project Design & Work Plan | E10: Final Design & Work Plan submitted to OEB | F10: OEB approval | G10: Approved | H10: Month 2
B11: Milestone 2 | C11: Project Implementation
B16: Milestone 3 | C16: Analysis
B20: Milestone 4 | C20: M&V Results and Reporting
B29: Project | C29: Project Outcome | D29: Performance Indicator | E29: Method of Measurement | F29: Performance Results | G29: Performance Achievement Date/Month
B30: Pilot Scale Up Project | C30: Detailed understanding of hurdles faced implementing pilot scale ups | D30: Detailed description in Final Report | E30: Process Evaluation | F30: Detailed description of hurdles regarding design, implementation, budget, provincial roll-out in Final Report | G30: Month 24
C31: Identification of enabling mechanisms that promote successful project scale up | D31: Detailed description in Final Report | E31: Process Evaluation | F31: Prioritized set of recommendations for enabling mechanisms for effective provincial roll-out in Final Report | G31: Month 24
C32: Enhanced customers' understanding of their role in the energy transition through innovative strategy | D32: Increase in understanding at post-project compared to pre-project | E32: Pre- and Post- Surveys/Interviews | F32: Statistically significant increase in customers' understanding | G32: Month 24
C33: Estimated impact of project scale up in designated markets across Ontario | D33: Quantitative assessment of relative impacts, with assumptions stated | E33: Impact Assessment and Forecast | F33: Adequate information on which to base recommendation for provincial scale up | G33: Month 24

Sheet 4. Project Risk Profile EXAMPLE
B1: 4. Project Risk Profile (EXAMPLE)
C2: Project Name: | D2: ='1. Budget EXAMPLE'!$C$2 -> Pilot Scale Up Project
C3: Organization Name: | D3: ='1. Budget EXAMPLE'!$C$3 -> XYZ Inc.
B6: Risk ID | C6: Description of Risk | D6: Severity of Risk (drop down selection) | E6: Likelihood of Risk (drop down selection) | F6: Risk Mitigation Strategy
B7: 1 | C7: Project partners sever partnership prior to project kick-off | D7: Significant | E7: Unlikely | F7: Engage with partners frequently throughout the process to ensure that all parties are aligned with the defined roles and responsibilities, and contributions to project costs
B8: 2 | C8: Delays in delivery of equipment | D8: Moderate | E8: Possible | F8: Add a buffer to the expected lead delivery time to account for uncertainties in equipment delivery. Identify alternative equipment suppliers and shipping options to help reduce lead time.
B9: 3 | C9: Lower than forecast participation | D9: Significant | E9: Possible | F9: Identify potential participants prior to the project kick-off. Engage with relevant associations to assist with participant recruitment. Adjust engagement strategies to encourage higher participant enrollment.
B10: 4 | C10: Project schedule and timeline is not met | D10: Significant | E10: Unlikely | F10: Include critical contingencies in project work plan, and track progress at the individual task level. If the project schedule shows signs of duress, advice OEB and take action to bring in additonal resources or reallocate resources in a timely manner to course correct.
B11: 5 | C11: Inadequate communication between project team and OEB | D11: Moderate | E11: Unlikely | F11: Key personnel will participate in weekly meetings during the project setup and launch, followed by monthly meetings with the OEB during ongoing operations once a steady-state of operations has been achieved. The project lead will also maintain informal communications with the OEB. This will ensure timely and effective communication throughout the project setup and ongoing operations.
B12: 6 | C12: Work product not to OEB expectations | D12: Significant | E12: Unlikely | F12: Project lead will meet at least quarterly with the OEB to review the project team performance, discuss lessons learned, identify opportunities for improvement, and develop an agreed upon implementation plan for course correction, whose implementation the project lead will oversee and report on to the OEB.

Sheet Options
A1: Severity | B1: Almost Certain | C1: Likely | D1: Possible | E1: Unlikely | F1: Rare
A2: Critical | B2: 1 | C2: 1 | D2: 1 | E2: 2 | F2: 3
A3: Significant | B3: 1 | C3: 1 | D3: 2 | E3: 3 | F3: 4
A4: Moderate | B4: 1 | C4: 2 | D4: 3 | E4: 4 | F4: 5
A5: Minor | B5: 2 | C5: 3 | D5: 4 | E5: 5 | F5: 5
A6: Insignificant | B6: 3 | C6: 4 | D6: 5 | E6: 5 | F6: 5
A8: Scope
A9: Budget
A10: Timeline
A12: Material / Equipment / Hardware
A13: Labour
A14: License Fees
A15: Participant Incentives
A16: 3rd Party M&V
A18: Accommodation and food services
A19: Agriculture
A20: Business, building and other support services
A21: Construction
... A82: Unconfirmed
