Workbook
Name \0: #REF!
Name _______ACT995: #REF!
Name ______ACT995: #REF!
Name _____ACT995: #REF!
Name ____ACT995: #REF!
Name ___ACT995: #REF!
Name __ACT995: #REF!
Name __d2: #REF!
Name _0001: #REF!
Name _0002: #REF!
Name _0010: #REF!
Name _0010AP: #REF!
Name _0015: #REF!
Name _0015AP: #REF!
Name _0020: #REF!
Name _0020AP: #REF!
Name _0050: #REF!
Name _0050AP: #REF!
Name _0070: #REF!
Name _0070AP: #REF!
Name _0071: #REF!
Name _0071AP: #REF!
Name _0072: #REF!
Name _0073: #REF!
Name _0073AP: #REF!
Name _0075: #REF!
Name _0075AP: #REF!
Name _0076: #REF!
Name _0077: #REF!
Name _0077AP: #REF!
Name _0078: #REF!
Name _0078AP: #REF!
Name _0078AP2: #REF!
Name _0078AP3: #REF!
Name _0079: #REF!
Name _0079AP: #REF!
Name _0080: #REF!
Name _0080AP: #REF!
Name _0081: #REF!
Name _0081AP: #REF!
Name _0082: #REF!
Name _0090: #REF!
Name _0090AP: #REF!
Name _0110: #REF!
Name _0110AP: #REF!
Name _0115: #REF!
Name _0115AP: #REF!
Name _0120: #REF!
Name _0120AP: #REF!
Name _0130: #REF!
Name _0130AP: #REF!
Name _0140: #REF!
Name _0140AP: #REF!
Name _0141: #REF!
Name _0141AP: #REF!
Name _0150: #REF!
Name _0150AP: #REF!
Name _0153: #REF!
Name _0153AP: #REF!
Name _10GJ: #REF!

Sheet Useful Life Changes Impact
A9: Appendix
A10: Account 1508 Sub-account - Useful Life Changes
A11: Impact resulting from useful life changes
B16: 2025 | C16: 2026 | G16: 2025 | H16: 2026 | I16: Total
A17: Reporting Basis | B17: MIFRS | C17: MIFRS | F17: Principal Balance | G17: =B32 -> -16621718 | H17: =C32-B32 -> -21239167 | I17: =G17+H17 -> -37860885
B18: Forecast | C18: Forecast | F18: Return on Rate Base - 6.1% | G18: =G17*6.1% -> -1013924.8 | H18: =H17*6.1% -> -1295589.2 | I18: =G18+H18 -> -2309514
B19: $ | C19: $ | F19: Carrying Charges – 2.91% | G19: =G17*2.91% -> -483692 | H19: =H17*2.91% -> -618059.75 | I19: =G19+H19 -> -1101751.7
A20: PP&E Values under former useful lives | F20: Difference | G20: =G18-G19 -> -530232.81 | H20: =H18-H19 -> -677529.42 | I20: =I18-I19 -> -1207762.2
A21: Opening net PP&E | B21: =+'2025 (Old UL)'!D79+'2025 (Old UL)'!I79 -> 3.6707703e+09 | C21: =B24 -> 3.8305954e+09
A22: Net Additions | B22: =+'2025 (Old UL)'!E79 -> 3.4669635e+08 | C22: =+'2026 (Old UL)'!E79 -> 3.3585963e+08
A23: Net Depreciation (includes derecognition) | B23: =+'2025 (Old UL)'!J79+'2025 (Old UL)'!F79+'2025 (Old UL)'!K79 -> -1.8687124e+08 | C23: =+'2026 (Old UL)'!J79+'2026 (Old UL)'!F79+'2026 (Old UL)'!K79 -> -1.9936087e+08
A24: Closing net PP&E | B24: =B21+B22+B23 -> 3.8305954e+09 | C24: =C21+C22+C23 -> 3.9670942e+09
A26: PP&E Values under revised useful lives (Starts from 2025)
A27: Opening net PP&E | B27: =+'2025 (New UL)'!D79+'2025 (New UL)'!I79 -> 3.6707703e+09 | C27: =B30 -> 3.8472171e+09
A28: Net Additions | B28: =+'2025 (New UL)'!E79 -> 3.4669635e+08 | C28: =+'2026 (New UL)'!E79 -> 3.3585963e+08
A29: Net Depreciation (includes derecognition) | B29: =+'2025 (New UL)'!J79+'2025 (New UL)'!F79+'2025 (New UL)'!K79 -> -1.7024952e+08 | C29: =+'2026 (New UL)'!J79+'2026 (New UL)'!F79+'2026 (New UL)'!K79 -> -1.781217e+08
A30: Closing net PP&E | B30: =SUM(B27:B29) -> 3.8472171e+09 | C30: =SUM(C27:C29) -> 4.0049551e+09
A32: Difference in Closing net PP&E | B32: =B24-B30 -> -16621718 | C32: =C24-C30 -> -37860885
A34: Effect on Deferral and Variance Account Rate Riders
A35: Closing balance in Account 1508 Sub-account - Useful Life Changes | C35: =IF(ISERROR(C32), 0, C32) -> -37860885 | F35: Return on capital | G35: 0.061
A36: Return on Rate Base Associated with Account 1508 Sub-account - Useful Life Changes balance at return on capital of 6.1% | C36: =C32*G35*G36 -> -2309514 | E36: # of years of rate rider disposition period | G36: 1
A37: Amount included in Deferral and Variance Account Rate Rider Calculation | C37: =C35+C36 -> -40170399

Sheet Breakdown by Rate Zone
A1: Closing balance in Account 1508 Sub-account - Useful Life Changes
A3: Rate Zone | B3: Closing Principal Balance as of Dec-31-25 | C3: Principal-Projected Transactions during 2026 | D3: Closing Principal Balance as of Dec-31-26
A4: BRZ | B4: -2.5693887 | C4: -3.6370691 | D4: -6.2064578
A5: ERZ | B5: -4.2512712 | C5: -6.0178389 | D5: -10.26911
A6: GRZ | B6: -0.99772844 | C6: -1.4123232 | D6: -2.4100517
A7: HRZ | B7: -3.2147285 | C7: -4.5505726 | D7: -7.7653011
A8: PRZ | B8: -5.6033632 | C8: -7.9314741 | D8: -13.534837
B9: =SUM(B4:B8) -> -16.63648 | C9: =SUM(C4:C8) -> -23.549278 | D9: =SUM(D4:D8) -> -40.185758

Sheet Depreciation Impact
A1: Summary Impact resulting from the useful life changes
B7: 2025 | C7: 2026
A8: Depreciation expense under new useful lives | B8: =-'2025 (New UL)'!J79 -> 1.6293588e+08 | C8: =-'2026 (New UL)'!J79 -> 1.7105722e+08
A9: Depreciation expense under former useful lives | B9: =-'2025 (Old UL)'!J79 -> 1.795576e+08 | C9: =-'2026 (Old UL)'!J79 -> 1.9229639e+08
A10: Difference in Depreciation Expense | B10: =B8-B9 -> -16621718 | C10: =C8-C9 -> -21239167

Sheet Summary
C10: 2025 | F10: 2026
A11: OEB Account | B11: Description | C11: Depreciation New UL | D11: Depreciation old UL | E11: Difference | F11: Depreciation New UL | G11: Depreciation old UL | H11: Difference
A12: 1609 | B12: Capital Contributions Paid | C12: =-'2025 (New UL)'!J40 -> 3415875.9 | D12: =-'2025 (Old UL)'!J40 -> 3415875.9 | E12: =C12-D12 -> 0 | F12: =-'2026 (New UL)'!J40 -> 3486570.8 | G12: =-'2026 (Old UL)'!J40 -> 3486570.8 | H12: =F12-G12 -> 0
A13: 1611 | B13: Computer Software | C13: =-'2025 (New UL)'!J41 -> 16707797 | D13: =-'2025 (Old UL)'!J41 -> 27216660 | E13: =C13-D13 -> -10508863 | F13: =-'2026 (New UL)'!J41 -> 22323094 | G13: =-'2026 (Old UL)'!J41 -> 32831956 | H13: =F13-G13 -> -10508862
A14: 1808 | B14: Buildings | C14: =-'2025 (New UL)'!J44 -> 1532657.9 | D14: =-'2025 (Old UL)'!J44 -> 1708601.8 | E14: =C14-D14 -> -175943.89 | F14: =-'2026 (New UL)'!J44 -> 1554712.5 | G14: =-'2026 (Old UL)'!J44 -> 1735042.5 | H14: =F14-G14 -> -180329.94
A15: 1815 | B15: Transformer Station Equipment >50 kV | C15: =-'2025 (New UL)'!J45 -> 5599045.2 | D15: =-'2025 (Old UL)'!J45 -> 4853987.5 | E15: =C15-D15 -> 745057.66 | F15: =-'2026 (New UL)'!J45 -> 4466472.8 | G15: =-'2026 (Old UL)'!J45 -> 4888533 | H15: =F15-G15 -> -422060.15
A16: 1820 | B16: Distribution Station Equipment <50 kV | C16: =-'2025 (New UL)'!J46 -> 6389875.9 | D16: =-'2025 (Old UL)'!J46 -> 6311275.4 | E16: =C16-D16 -> 78600.492 | F16: =-'2026 (New UL)'!J46 -> 5935970.7 | G16: =-'2026 (Old UL)'!J46 -> 6459309.2 | H16: =F16-G16 -> -523338.5
A17: 1830 | B17: Poles, Towers & Fixtures | C17: =-'2025 (New UL)'!J47 -> 16204818 | D17: =-'2025 (Old UL)'!J47 -> 17358468 | E17: =C17-D17 -> -1153650.4 | F17: =-'2026 (New UL)'!J47 -> 17259176 | G17: =-'2026 (Old UL)'!J47 -> 18461718 | H17: =F17-G17 -> -1202542.3
A18: 1835 | B18: Overhead Conductors & Devices | C18: =-'2025 (New UL)'!J48 -> 15253533 | D18: =-'2025 (Old UL)'!J48 -> 15792239 | E18: =C18-D18 -> -538705.52 | F18: =-'2026 (New UL)'!J48 -> 16223350 | G18: =-'2026 (Old UL)'!J48 -> 16893102 | H18: =F18-G18 -> -669752.12
A19: 1840 | B19: Underground Conduit | C19: =-'2025 (New UL)'!J49 -> 9711820.1 | D19: =-'2025 (Old UL)'!J49 -> 11798357 | E19: =C19-D19 -> -2086536.7 | F19: =-'2026 (New UL)'!J49 -> 10880669 | G19: =-'2026 (Old UL)'!J49 -> 13146671 | H19: =F19-G19 -> -2266002.2
A20: 1845 | B20: Underground Conductors & Devices | C20: =-'2025 (New UL)'!J50 -> 47305052 | D20: =-'2025 (Old UL)'!J50 -> 49264009 | E20: =C20-D20 -> -1958957.5 | F20: =-'2026 (New UL)'!J50 -> 50073708 | G20: =-'2026 (Old UL)'!J50 -> 54000938 | H20: =F20-G20 -> -3927230
A21: 1850 | B21: Line Transformers | C21: =-'2025 (New UL)'!J51 -> 24844535 | D21: =-'2025 (Old UL)'!J51 -> 23720800 | E21: =C21-D21 -> 1123734.4 | F21: =-'2026 (New UL)'!J51 -> 25886661 | G21: =-'2026 (Old UL)'!J51 -> 25334011 | H21: =F21-G21 -> 552649.86
A22: 1855 | B22: Services (Overhead & Underground) | C22: =-'2025 (New UL)'!J52 -> 2791185.9 | D22: =-'2025 (Old UL)'!J52 -> 2975595.8 | E22: =C22-D22 -> -184409.99 | F22: =-'2026 (New UL)'!J52 -> 3000841.3 | G22: =-'2026 (Old UL)'!J52 -> 3191085.4 | H22: =F22-G22 -> -190244.1
A23: 1860 | B23: Meters | C23: =-'2025 (New UL)'!J53 -> 13629725 | D23: =-'2025 (Old UL)'!J53 -> 15934393 | E23: =C23-D23 -> -2304668.3 | F23: =-'2026 (New UL)'!J53 -> 14279694 | G23: =-'2026 (Old UL)'!J53 -> 16818208 | H23: =F23-G23 -> -2538513.9
A24: 1908 | B24: Buildings & Fixtures | C24: =-'2025 (New UL)'!J56 -> 5820296.7 | D24: =-'2025 (Old UL)'!J56 -> 5375138.5 | E24: =C24-D24 -> 445158.18 | F24: =-'2026 (New UL)'!J56 -> 5864210.4 | G24: =-'2026 (Old UL)'!J56 -> 5415803.3 | H24: =F24-G24 -> 448407.09
A25: 1915 | B25: Office Furniture & Equipment | C25: =-'2025 (New UL)'!J57 -> 276991.65 | D25: =-'2025 (Old UL)'!J57 -> 517115.6 | E25: =C25-D25 -> -240123.95 | F25: =-'2026 (New UL)'!J57 -> 276991.65 | G25: =-'2026 (Old UL)'!J57 -> 471603.85 | H25: =F25-G25 -> -194612.2
A26: 1920 | B26: Computer Equipment - Hardware | C26: =-'2025 (New UL)'!J58 -> 5219333.2 | D26: =-'2025 (Old UL)'!J58 -> 5219333.2 | E26: =C26-D26 -> 0 | F26: =-'2026 (New UL)'!J58 -> 4837264.2 | G26: =-'2026 (Old UL)'!J58 -> 4837264.2 | H26: =F26-G26 -> 0
A27: 1930 | B27: Transportation Equipment | C27: =-'2025 (New UL)'!J59 -> 5247105.2 | D27: =-'2025 (Old UL)'!J59 -> 6389446.1 | E27: =C27-D27 -> -1142340.8 | F27: =-'2026 (New UL)'!J59 -> 5329318.8 | G27: =-'2026 (Old UL)'!J59 -> 6538635.9 | H27: =F27-G27 -> -1209317.1
A28: 1935 | B28: Stores Equipment | C28: =-'2025 (New UL)'!J60 -> 84165.75 | D28: =-'2025 (Old UL)'!J60 -> 84165.75 | E28: =C28-D28 -> 0 | F28: =-'2026 (New UL)'!J60 -> 80756.128 | G28: =-'2026 (Old UL)'!J60 -> 80756.128 | H28: =F28-G28 -> 0
A29: 1940 | B29: Tools, Shop & Garage Equipment | C29: =-'2025 (New UL)'!J61 -> 466134.8 | D29: =-'2025 (Old UL)'!J61 -> 466134.8 | E29: =C29-D29 -> 0 | F29: =-'2026 (New UL)'!J61 -> 481523.2 | G29: =-'2026 (Old UL)'!J61 -> 481523.2 | H29: =F29-G29 -> 0
A30: 1945 | B30: Measurement & Testing Equipment | C30: =-'2025 (New UL)'!J62 -> 412962.28 | D30: =-'2025 (Old UL)'!J62 -> 412962.28 | E30: =C30-D30 -> 0 | F30: =-'2026 (New UL)'!J62 -> 446978.53 | G30: =-'2026 (Old UL)'!J62 -> 446978.53 | H30: =F30-G30 -> 0
A31: 1955 | B31: Communications Equipment | C31: =-'2025 (New UL)'!J63 -> 597846.76 | D31: =-'2025 (Old UL)'!J63 -> 833222.88 | E31: =C31-D31 -> -235376.12 | F31: =-'2026 (New UL)'!J63 -> 663367.74 | G31: =-'2026 (Old UL)'!J63 -> 881626.36 | H31: =F31-G31 -> -218258.61
A32: 1960 | B32: Miscellaneous Equipment | C32: =-'2025 (New UL)'!J64 -> 1096198.3 | D32: =-'2025 (Old UL)'!J64 -> 1096198.3 | E32: =C32-D32 -> 0 | F32: =-'2026 (New UL)'!J64 -> 538343.69 | G32: =-'2026 (Old UL)'!J64 -> 538343.69 | H32: =F32-G32 -> 0
A33: 1980 | B33: System Supervisor Equipment | C33: =-'2025 (New UL)'!J65 -> 2258436.4 | D33: =-'2025 (Old UL)'!J65 -> 2258436.4 | E33: =C33-D33 -> 0 | F33: =-'2026 (New UL)'!J65 -> 2476989.3 | G33: =-'2026 (Old UL)'!J65 -> 2476989.3 | H33: =F33-G33 -> 0
A34: 2440 | B34: Deferred Revenue | C34: =-'2025 (New UL)'!J66 -> -22660705 | D34: =-'2025 (Old UL)'!J66 -> -24184982 | E34: =C34-D34 -> 1524277.3 | F34: =-'2026 (New UL)'!J66 -> -26040634 | G34: =-'2026 (Old UL)'!J66 -> -27860444 | H34: =F34-G34 -> 1819809.6
A35: 2005 | B35: Property Under Finance Lease | C35: =-'2025 (New UL)'!J68 -> 731191.98 | D35: =-'2025 (Old UL)'!J68 -> 740162.28 | E35: =C35-D35 -> -8970.3046 | F35: =-'2026 (New UL)'!J68 -> 731191.98 | G35: =-'2026 (Old UL)'!J68 -> 740162.28 | H35: =F35-G35 -> -8970.3046
B36: MIFRS Depreciation Expense | C36: =SUM(C12:C35) -> 1.6293588e+08 | D36: =SUM(D12:D35) -> 1.795576e+08 | E36: =SUM(E12:E35) -> -16621718 | F36: =SUM(F12:F35) -> 1.7105722e+08 | G36: =SUM(G12:G35) -> 1.9229639e+08 | H36: =SUM(H12:H35) -> -21239167

Sheet 2026 (New UL)
L1: File Number: | M1: EB-2025-0252
L2: Exhibit:
L3: Tab:
L4: Schedule:
L5: Page:
L7: Date:
A9: Appendix 2-BA
A10: Fixed Asset Continuity Schedule 1
E11: New Useful Lives
A12: Notes:
A14: 1 | B14: Tables in the format outlined above covering all fixed asset accounts should be submitted for the Test Year, Bridge Year and all relevant historical years. At a minimum , the applicant must provide data for the earlier of: 1) all historical years back to its last rebasing; or 2) at least three years of historical actuals, in addition to Bridge Year and Test Year forecasts. If this is the first application where the applicant is rebasing under MIFRS, contact OEB staff for further guidance on the appropriate fixed asset continuity schedules to complete (i.e. applicable years and accounting standard for each schedule).
A17: 2 | B17: The "CCA Class" for fixed assets should generally agree with the CCA Class used for tax purposes in Tax Returns. Fixed Assets sub-components may be used where the underlying asset components are classified under multiple CCA Classes for tax purposes. If an applicant uses any different classes from those shown in the table, an explanation should be provided. (also see note 3).
A20: 3 | B20: The table may need to be customized for a utility's asset categories or for any new asset accounts announced or authorized by the OEB.
A22: 4 | B22: The additions in column (E) must not include construction work in progress (CWIP).
A24: 5 | B24: Effective on the date of IFRS adoption, customer contributions will no longer be recorded in Account 1995 Contributions & Grants, but will be recorded in Account 2440, Deferred Revenues. Amortization of deferred revenue will be removed from the depreciation expense shown on this fixed asset continuity schedule as it should be included as income in Appendix 2-H Other Revenues.
A26: 6 | B26: The applicant must ensure that all asset disposals have been clearly identified in the Chapter 2 Appendices for all historic, bridge and test years. Where a distributor for general financial reporting purposes under IFRS has accounted for the amount of gain or loss on the retirement of assets in a pool of like assets as a charge or credit to income, for reporting and rate application filings, the distributor shall reclassify such gains and losses as depreciation expense, and disclose the amount separately.
A30: 7 | B30: This account includes the amount recorded under finance leases for plant leased from others and used by the utility in its utility operations.
A32: 8 | B32: The applicant must establish the continuity of historical cost for gross assets and accumulated depreciation by asset class by ensuring that the opening balance in the year agrees to the closing balance in the prior year.
E35: Accounting Standard | F35: MIFRS
E36: Year | F36: 2026
D38: Cost | J38: Accumulated Depreciation
B39: OEB Account 3 | C39: Description 3 | D39: Opening Balance 8 | E39: Additions 4 | F39: Disposals 6 | G39: Closing Balance | I39: Opening Balance 8 | J39: Additions | K39: Disposals 6 | L39: Closing Balance | M39: Net Book Value
B40: 1609 | C40: Capital Contributions Paid | D40: ='2025 (New UL)'!G40 -> 98789549 | E40: 7894473.2 | F40: 0 | G40: =D40+E40+F40 -> 1.0668402e+08 | I40: ='2025 (New UL)'!L40 -> -32252382 | J40: -3486570.8 | K40: 0 | L40: =I40+J40+K40 -> -35738953 | M40: =G40+L40 -> 70945069
B41: 1611 | C41: Computer Software (Formally known as Account 1925) | D41: ='2025 (New UL)'!G41 -> 2.4017351e+08 | E41: 32931536 | F41: -607738.86 | G41: =D41+E41+F41 -> 2.7249731e+08 | I41: ='2025 (New UL)'!L41 -> -1.3188498e+08 | J41: -22323094 | K41: 607738.86 | L41: =I41+J41+K41 -> -1.5360033e+08 | M41: =G41+L41 -> 1.1889698e+08
B42: 1612 | C42: Land Rights (Formally known as Account 1906) | D42: ='2025 (New UL)'!G42 -> 4264599.7 | E42: 138131.86 | F42: 0 | G42: =D42+E42+F42 -> 4402731.6 | I42: ='2025 (New UL)'!L42 -> 0 | J42: 0 | K42: 0 | L42: =I42+J42+K42 -> 0 | M42: =G42+L42 -> 4402731.6
B43: 1805 | C43: Land | D43: ='2025 (New UL)'!G43 -> 84610154 | E43: 0 | F43: 0 | G43: =D43+E43+F43 -> 84610154 | I43: ='2025 (New UL)'!L43 -> 0 | J43: 0 | K43: 0 | L43: =I43+J43+K43 -> 0 | M43: =G43+L43 -> 84610154
B44: 1808 | C44: Buildings | D44: ='2025 (New UL)'!G44 -> 45357742 | E44: 86195.317 | F44: 0 | G44: =D44+E44+F44 -> 45443937 | I44: ='2025 (New UL)'!L44 -> -13419453 | J44: -1554712.5 | K44: 0 | L44: =I44+J44+K44 -> -14974166 | M44: =G44+L44 -> 30469771
B45: 1815 | C45: Transformer Station Equipment >50 kV | D45: ='2025 (New UL)'!G45 -> 1.461857e+08 | E45: 1944683.8 | F45: -23123.142 | G45: =D45+E45+F45 -> 1.4810726e+08 | I45: ='2025 (New UL)'!L45 -> -63017080 | J45: -4466472.8 | K45: 6729.1019 | L45: =I45+J45+K45 -> -67476824 | M45: =G45+L45 -> 80630435
B46: 1820 | C46: Distribution Station Equipment <50 kV | D46: ='2025 (New UL)'!G46 -> 1.9001562e+08 | E46: 2572038 | F46: -156496.98 | G46: =D46+E46+F46 -> 1.9243117e+08 | I46: ='2025 (New UL)'!L46 -> -61790467 | J46: -5935970.7 | K46: 41215.265 | L46: =I46+J46+K46 -> -67685222 | M46: =G46+L46 -> 1.2474594e+08
B47: 1830 | C47: Poles, Towers & Fixtures | D47: ='2025 (New UL)'!G47 -> 7.7513826e+08 | E47: 46893796 | F47: -2122651.5 | G47: =D47+E47+F47 -> 8.1990941e+08 | I47: ='2025 (New UL)'!L47 -> -1.2675017e+08 | J47: -17259176 | K47: 424530.3 | L47: =I47+J47+K47 -> -1.4358482e+08 | M47: =G47+L47 -> 6.7632459e+08
B48: 1835 | C48: Overhead Conductors & Devices | D48: ='2025 (New UL)'!G48 -> 6.3279281e+08 | E48: 43893362 | F48: -2086359.5 | G48: =D48+E48+F48 -> 6.7459981e+08 | I48: ='2025 (New UL)'!L48 -> -1.1944854e+08 | J48: -16223350 | K48: 417271.89 | L48: =I48+J48+K48 -> -1.3525462e+08 | M48: =G48+L48 -> 5.393452e+08
B49: 1840 | C49: Underground Conduit | D49: ='2025 (New UL)'!G49 -> 5.9975731e+08 | E49: 67652583 | F49: -426183 | G49: =D49+E49+F49 -> 6.6698371e+08 | I49: ='2025 (New UL)'!L49 -> -87536215 | J49: -10880669 | K49: 85236.603 | L49: =I49+J49+K49 -> -98331647 | M49: =G49+L49 -> 5.6865206e+08
B50: 1845 | C50: Underground Conductors & Devices | D50: ='2025 (New UL)'!G50 -> 1.7289248e+09 | E50: 1.6382749e+08 | F50: -1888347 | G50: =D50+E50+F50 -> 1.8908639e+09 | I50: ='2025 (New UL)'!L50 -> -3.6698501e+08 | J50: -50073708 | K50: 377669.4 | L50: =I50+J50+K50 -> -4.1668105e+08 | M50: =G50+L50 -> 1.4741829e+09
B51: 1850 | C51: Line Transformers | D51: ='2025 (New UL)'!G51 -> 8.7114448e+08 | E51: 61316109 | F51: -2602740.2 | G51: =D51+E51+F51 -> 9.2985785e+08 | I51: ='2025 (New UL)'!L51 -> -1.7898216e+08 | J51: -25886661 | K51: 520548.03 | L51: =I51+J51+K51 -> -2.0434828e+08 | M51: =G51+L51 -> 7.2550957e+08
... B66: 2440 | C66: Deferred Revenue5 | D66: ='2025 (New UL)'!G66 -> -1.0353665e+09 | E66: -1.5221853e+08 | F66: 1722239.8 | G66: =D66+E66+F66 -> -1.1858628e+09 | I66: ='2025 (New UL)'!L66 -> 1.4130207e+08 | J66: 26040634 | K66: -344447.96 | L66: =I66+J66+K66 -> 1.6699826e+08 | M66: =G66+L66 -> -1.0188646e+09
B67: 2440.NDA | C67: Deferred Revenue-Non Distribution Assets | D67: ='2025 (New UL)'!G67 -> -1892097.1 | E67: 0 | F67: 0 | G67: =D67+E67+F67 -> -1892097.1 | I67: ='2025 (New UL)'!L67 -> 847581.58 | J67: 123834.17 | K67: 0 | L67: =I67+J67+K67 -> 971415.75 | M67: =G67+L67 -> -920681.33
B68: 2005 | C68: Property Under Finance Lease7 | D68: ='2025 (New UL)'!G68 -> 11699072 | E68: 0 | F68: 0 | G68: =D68+E68+F68 -> 11699072 | I68: ='2025 (New UL)'!L68 -> -5118344.2 | J68: -731191.98 | K68: 0 | L68: =I68+J68+K68 -> -5849536.2 | M68: =G68+L68 -> 5849535.8
B69: 2075 | C69: Non-Utility Property Owned | D69: ='2025 (New UL)'!G69 -> 191039.67 | E69: 0 | F69: 0 | G69: =D69+E69+F69 -> 191039.67 | I69: ='2025 (New UL)'!L69 -> -191039.67 | J69: 0 | K69: 0 | L69: =I69+J69+K69 -> -191039.67 | M69: =G69+L69 -> 0
B70: 2055 | C70: Construction Work In Progress | D70: ='2025 (New UL)'!G70 -> 1.6959362e+08 | E70: 41340176 | F70: 0 | G70: =D70+E70+F70 -> 2.109338e+08 | I70: ='2025 (New UL)'!L70 -> 0 | J70: 0 | K70: 0 | L70: =I70+J70+K70 -> 0 | M70: =G70+L70 -> 2.109338e+08
B71: 2055.CIAC | C71: Construction Work In Progress - CIAC | D71: ='2025 (New UL)'!G71 -> -98799280 | E71: -19228819 | F71: 0 | G71: =D71+E71+F71 -> -1.180281e+08 | I71: ='2025 (New UL)'!L71 -> 0 | J71: 0 | K71: 0 | L71: =I71+J71+K71 -> 0 | M71: =G71+L71 -> -1.180281e+08
...

Sheet 2025 (New UL)
L1: File Number: | M1: EB-2025-0252
L2: Exhibit:
L3: Tab:
L4: Schedule:
L5: Page:
L7: Date:
A9: Appendix 2-BA
A10: Fixed Asset Continuity Schedule 1
E11: New Useful Lives
A12: Notes:
A14: 1 | B14: Tables in the format outlined above covering all fixed asset accounts should be submitted for the Test Year, Bridge Year and all relevant historical years. At a minimum , the applicant must provide data for the earlier of: 1) all historical years back to its last rebasing; or 2) at least three years of historical actuals, in addition to Bridge Year and Test Year forecasts. If this is the first application where the applicant is rebasing under MIFRS, contact OEB staff for further guidance on the appropriate fixed asset continuity schedules to complete (i.e. applicable years and accounting standard for each schedule).
A17: 2 | B17: The "CCA Class" for fixed assets should generally agree with the CCA Class used for tax purposes in Tax Returns. Fixed Assets sub-components may be used where the underlying asset components are classified under multiple CCA Classes for tax purposes. If an applicant uses any different classes from those shown in the table, an explanation should be provided. (also see note 3).
A20: 3 | B20: The table may need to be customized for a utility's asset categories or for any new asset accounts announced or authorized by the OEB.
A22: 4 | B22: The additions in column (E) must not include construction work in progress (CWIP).
A24: 5 | B24: Effective on the date of IFRS adoption, customer contributions will no longer be recorded in Account 1995 Contributions & Grants, but will be recorded in Account 2440, Deferred Revenues. Amortization of deferred revenue will be removed from the depreciation expense shown on this fixed asset continuity schedule as it should be included as income in Appendix 2-H Other Revenues.
A26: 6 | B26: The applicant must ensure that all asset disposals have been clearly identified in the Chapter 2 Appendices for all historic, bridge and test years. Where a distributor for general financial reporting purposes under IFRS has accounted for the amount of gain or loss on the retirement of assets in a pool of like assets as a charge or credit to income, for reporting and rate application filings, the distributor shall reclassify such gains and losses as depreciation expense, and disclose the amount separately.
A30: 7 | B30: This account includes the amount recorded under finance leases for plant leased from others and used by the utility in its utility operations.
A32: 8 | B32: The applicant must establish the continuity of historical cost for gross assets and accumulated depreciation by asset class by ensuring that the opening balance in the year agrees to the closing balance in the prior year.
E35: Accounting Standard | F35: MIFRS
E36: Year | F36: 2025
D38: Cost | J38: Accumulated Depreciation
B39: OEB Account 3 | C39: Description 3 | D39: Opening Balance 8 | E39: Additions 4 | F39: Disposals 6 | G39: Closing Balance | I39: Opening Balance 8 | J39: Additions | K39: Disposals 6 | L39: Closing Balance | M39: Net Book Value
B40: 1609 | C40: Capital Contributions Paid | D40: 97012005 | E40: 1777544.1 | F40: 0 | G40: =D40+E40+F40 -> 98789549 | I40: -28836506 | J40: -3415875.9 | K40: 0 | L40: =I40+J40+K40 -> -32252382 | M40: =G40+L40 -> 66537167
B41: 1611 | C41: Computer Software (Formally known as Account 1925) | D41: 2.1965768e+08 | E41: 21814831 | F41: -1299000.4 | G41: =D41+E41+F41 -> 2.4017351e+08 | I41: -1.1624728e+08 | J41: -16707797 | K41: 1070097.4 | L41: =I41+J41+K41 -> -1.3188498e+08 | M41: =G41+L41 -> 1.0828854e+08
B42: 1612 | C42: Land Rights (Formally known as Account 1906) | D42: 4127503.7 | E42: 137096.06 | F42: 0 | G42: =D42+E42+F42 -> 4264599.7 | I42: 0 | J42: 0 | K42: 0 | L42: =I42+J42+K42 -> 0 | M42: =G42+L42 -> 4264599.7
B43: 1805 | C43: Land | D43: 84610154 | E43: 0 | F43: 0 | G43: =D43+E43+F43 -> 84610154 | I43: 0 | J43: 0 | K43: 0 | L43: =I43+J43+K43 -> 0 | M43: =G43+L43 -> 84610154
B44: 1808 | C44: Buildings | D44: 44558041 | E44: 799701.21 | F44: 0 | G44: =D44+E44+F44 -> 45357742 | I44: -11886795 | J44: -1532657.9 | K44: 0 | L44: =I44+J44+K44 -> -13419453 | M44: =G44+L44 -> 31938289
B45: 1815 | C45: Transformer Station Equipment >50 kV | D45: 1.4341376e+08 | E45: 2795062.7 | F45: -23123.142 | G45: =D45+E45+F45 -> 1.461857e+08 | I45: -57424764 | J45: -5599045.2 | K45: 6729.1019 | L45: =I45+J45+K45 -> -63017080 | M45: =G45+L45 -> 83168618
B46: 1820 | C46: Distribution Station Equipment <50 kV | D46: 1.8384111e+08 | E46: 6331009.4 | F46: -156496.98 | G46: =D46+E46+F46 -> 1.9001562e+08 | I46: -55441806 | J46: -6389875.9 | K46: 41215.265 | L46: =I46+J46+K46 -> -61790467 | M46: =G46+L46 -> 1.2822516e+08
B47: 1830 | C47: Poles, Towers & Fixtures | D47: 7.2075696e+08 | E47: 56501231 | F47: -2119923 | G47: =D47+E47+F47 -> 7.7513826e+08 | I47: -1.1096989e+08 | J47: -16204818 | K47: 424530.3 | L47: =I47+J47+K47 -> -1.2675017e+08 | M47: =G47+L47 -> 6.4838809e+08
B48: 1835 | C48: Overhead Conductors & Devices | D48: 5.8431972e+08 | E48: 50557930 | F48: -2084838 | G48: =D48+E48+F48 -> 6.3279281e+08 | I48: -1.0461228e+08 | J48: -15253533 | K48: 417271.89 | L48: =I48+J48+K48 -> -1.1944854e+08 | M48: =G48+L48 -> 5.1334428e+08
B49: 1840 | C49: Underground Conduit | D49: 5.255611e+08 | E49: 74621342 | F49: -425137.91 | G49: =D49+E49+F49 -> 5.9975731e+08 | I49: -77909631 | J49: -9711820.1 | K49: 85236.603 | L49: =I49+J49+K49 -> -87536215 | M49: =G49+L49 -> 5.1222109e+08
B50: 1845 | C50: Underground Conductors & Devices | D50: 1.5551298e+09 | E50: 1.7568071e+08 | F50: -1885702.9 | G50: =D50+E50+F50 -> 1.7289248e+09 | I50: -3.2005763e+08 | J50: -47305052 | K50: 377669.4 | L50: =I50+J50+K50 -> -3.6698501e+08 | M50: =G50+L50 -> 1.3619398e+09
B51: 1850 | C51: Line Transformers | D51: 8.0557563e+08 | E51: 68168935 | F51: -2600089.7 | G51: =D51+E51+F51 -> 8.7114448e+08 | I51: -1.5465818e+08 | J51: -24844535 | K51: 520548.03 | L51: =I51+J51+K51 -> -1.7898216e+08 | M51: =G51+L51 -> 6.9216232e+08
... B66: 2440 | C66: Deferred Revenue5 | D66: -8.7611225e+08 | E66: -1.6097653e+08 | F66: 1722239.8 | G66: =D66+E66+F66 -> -1.0353665e+09 | I66: 1.1898582e+08 | J66: 22660705 | K66: -344447.96 | L66: =I66+J66+K66 -> 1.4130207e+08 | M66: =G66+L66 -> -8.9406447e+08
B67: 2440.NDA | C67: Deferred Revenue-Non Distribution Assets | D67: -2073384.7 | E67: 0 | F67: 181287.65 | G67: =D67+E67+F67 -> -1892097.1 | I67: 755297.1 | J67: 130964.54 | K67: -38680.06 | L67: =I67+J67+K67 -> 847581.58 | M67: =G67+L67 -> -1044515.5
B68: 2005 | C68: Property Under Finance Lease7 | D68: 11699072 | E68: 0 | F68: 0 | G68: =D68+E68+F68 -> 11699072 | I68: -4387152.2 | J68: -731191.98 | K68: 0 | L68: =I68+J68+K68 -> -5118344.2 | M68: =G68+L68 -> 6580727.8
B69: 2075 | C69: Non-Utility Property Owned | D69: 191039.67 | E69: 0 | F69: 0 | G69: =D69+E69+F69 -> 191039.67 | I69: -164941.38 | J69: -26098.29 | K69: 0 | L69: =I69+J69+K69 -> -191039.67 | M69: =G69+L69 -> 0
B70: 2055 | C70: Construction Work In Progress | D70: 1.6913395e+08 | E70: 459670.92 | F70: 0 | G70: =D70+E70+F70 -> 1.6959362e+08 | I70: 0 | J70: 0 | K70: 0 | L70: =I70+J70+K70 -> 0 | M70: =G70+L70 -> 1.6959362e+08
B71: 2055.CIAC | C71: Construction Work In Progress - CIAC | D71: -75811349 | E71: -22987931 | F71: 0 | G71: =D71+E71+F71 -> -98799280 | I71: 0 | J71: 0 | K71: 0 | L71: =I71+J71+K71 -> 0 | M71: =G71+L71 -> -98799280
...

Sheet 2025 (Old UL)
L1: File Number: | M1: EB-2025-0252
L2: Exhibit:
L3: Tab:
L4: Schedule:
L5: Page:
L7: Date:
A9: Appendix 2-BA
A10: Fixed Asset Continuity Schedule 1
E11: Old Useful Lives
A14: 1 | B14: Tables in the format outlined above covering all fixed asset accounts should be submitted for the Test Year, Bridge Year and all relevant historical years. At a minimum , the applicant must provide data for the earlier of: 1) all historical years back to its last rebasing; or 2) at least three years of historical actuals, in addition to Bridge Year and Test Year forecasts. If this is the first application where the applicant is rebasing under MIFRS, contact OEB staff for further guidance on the appropriate fixed asset continuity schedules to complete (i.e. applicable years and accounting standard for each schedule).
A17: 2 | B17: The "CCA Class" for fixed assets should generally agree with the CCA Class used for tax purposes in Tax Returns. Fixed Assets sub-components may be used where the underlying asset components are classified under multiple CCA Classes for tax purposes. If an applicant uses any different classes from those shown in the table, an explanation should be provided. (also see note 3).
A20: 3 | B20: The table may need to be customized for a utility's asset categories or for any new asset accounts announced or authorized by the OEB.
A22: 4 | B22: The additions in column (E) must not include construction work in progress (CWIP).
A24: 5 | B24: Effective on the date of IFRS adoption, customer contributions will no longer be recorded in Account 1995 Contributions & Grants, but will be recorded in Account 2440, Deferred Revenues. Amortization of deferred revenue will be removed from the depreciation expense shown on this fixed asset continuity schedule as it should be included as income in Appendix 2-H Other Revenues.
A26: 6 | B26: The applicant must ensure that all asset disposals have been clearly identified in the Chapter 2 Appendices for all historic, bridge and test years. Where a distributor for general financial reporting purposes under IFRS has accounted for the amount of gain or loss on the retirement of assets in a pool of like assets as a charge or credit to income, for reporting and rate application filings, the distributor shall reclassify such gains and losses as depreciation expense, and disclose the amount separately.
A30: 7 | B30: This account includes the amount recorded under finance leases for plant leased from others and used by the utility in its utility operations.
A32: 8 | B32: The applicant must establish the continuity of historical cost for gross assets and accumulated depreciation by asset class by ensuring that the opening balance in the year agrees to the closing balance in the prior year.
E35: Accounting Standard | F35: MIFRS
E36: Year | F36: 2025
D38: Cost | J38: Accumulated Depreciation
B39: OEB Account 3 | C39: Description 3 | D39: Opening Balance 8 | E39: Additions 4 | F39: Disposals 6 | G39: Closing Balance | I39: Opening Balance 8 | J39: Additions | K39: Disposals 6 | L39: Closing Balance | M39: Net Book Value
B40: 1609 | C40: Capital Contributions Paid | D40: 97012005 | E40: 1777544.1 | F40: 0 | G40: =D40+E40+F40 -> 98789549 | I40: -28836506 | J40: -3415875.9 | K40: 0 | L40: =I40+J40+K40 -> -32252382 | M40: =G40+L40 -> 66537167
B41: 1611 | C41: Computer Software (Formally known as Account 1925) | D41: 2.1965768e+08 | E41: 21814831 | F41: -1299000.4 | G41: =D41+E41+F41 -> 2.4017351e+08 | I41: -1.1624728e+08 | J41: -27216660 | K41: 1070097.4 | L41: =I41+J41+K41 -> -1.4239384e+08 | M41: =G41+L41 -> 97779673
B42: 1612 | C42: Land Rights (Formally known as Account 1906) | D42: 4127503.7 | E42: 137096.06 | F42: 0 | G42: =D42+E42+F42 -> 4264599.7 | I42: 0 | J42: 0 | K42: 0 | L42: =I42+J42+K42 -> 0 | M42: =G42+L42 -> 4264599.7
B43: 1805 | C43: Land | D43: 84610154 | E43: 0 | F43: 0 | G43: =D43+E43+F43 -> 84610154 | I43: 0 | J43: 0 | K43: 0 | L43: =I43+J43+K43 -> 0 | M43: =G43+L43 -> 84610154
B44: 1808 | C44: Buildings | D44: 44558041 | E44: 799701.21 | F44: 0 | G44: =D44+E44+F44 -> 45357742 | I44: -11886795 | J44: -1708601.8 | K44: 0 | L44: =I44+J44+K44 -> -13595397 | M44: =G44+L44 -> 31762345
B45: 1815 | C45: Transformer Station Equipment >50 kV | D45: 1.4341376e+08 | E45: 2795062.7 | F45: -23123.142 | G45: =D45+E45+F45 -> 1.461857e+08 | I45: -57424764 | J45: -4853987.5 | K45: 6729.1019 | L45: =I45+J45+K45 -> -62272023 | M45: =G45+L45 -> 83913676
B46: 1820 | C46: Distribution Station Equipment <50 kV | D46: 1.8384111e+08 | E46: 6331009.4 | F46: -156496.98 | G46: =D46+E46+F46 -> 1.9001562e+08 | I46: -55441806 | J46: -6311275.4 | K46: 41215.265 | L46: =I46+J46+K46 -> -61711866 | M46: =G46+L46 -> 1.2830376e+08
B47: 1830 | C47: Poles, Towers & Fixtures | D47: 7.2075696e+08 | E47: 56501231 | F47: -2119923 | G47: =D47+E47+F47 -> 7.7513826e+08 | I47: -1.1096989e+08 | J47: -17358468 | K47: 424530.3 | L47: =I47+J47+K47 -> -1.2790382e+08 | M47: =G47+L47 -> 6.4723444e+08
B48: 1835 | C48: Overhead Conductors & Devices | D48: 5.8431972e+08 | E48: 50557930 | F48: -2084838 | G48: =D48+E48+F48 -> 6.3279281e+08 | I48: -1.0461228e+08 | J48: -15792239 | K48: 417271.89 | L48: =I48+J48+K48 -> -1.1998724e+08 | M48: =G48+L48 -> 5.1280557e+08
B49: 1840 | C49: Underground Conduit | D49: 5.255611e+08 | E49: 74621342 | F49: -425137.91 | G49: =D49+E49+F49 -> 5.9975731e+08 | I49: -77909631 | J49: -11798357 | K49: 85236.603 | L49: =I49+J49+K49 -> -89622751 | M49: =G49+L49 -> 5.1013455e+08
B50: 1845 | C50: Underground Conductors & Devices | D50: 1.5551298e+09 | E50: 1.7568071e+08 | F50: -1885702.9 | G50: =D50+E50+F50 -> 1.7289248e+09 | I50: -3.2005763e+08 | J50: -49264009 | K50: 377669.4 | L50: =I50+J50+K50 -> -3.6894397e+08 | M50: =G50+L50 -> 1.3599808e+09
B51: 1850 | C51: Line Transformers | D51: 8.0557563e+08 | E51: 68168935 | F51: -2600089.7 | G51: =D51+E51+F51 -> 8.7114448e+08 | I51: -1.5465818e+08 | J51: -23720800 | K51: 520548.03 | L51: =I51+J51+K51 -> -1.7785843e+08 | M51: =G51+L51 -> 6.9328605e+08
... B66: 2440 | C66: Deferred Revenue5 | D66: -8.7611225e+08 | E66: -1.6097653e+08 | F66: 1722239.8 | G66: =D66+E66+F66 -> -1.0353665e+09 | I66: 1.1898582e+08 | J66: 24184982 | K66: -344447.96 | L66: =I66+J66+K66 -> 1.4282635e+08 | M66: =G66+L66 -> -8.9254019e+08
B67: 2440.NDA | C67: Deferred Revenue-Non Distribution Assets | D67: -2073384.7 | E67: 0 | F67: 181287.65 | G67: =D67+E67+F67 -> -1892097.1 | I67: 755297.1 | J67: 130964.54 | K67: -38680.06 | L67: =I67+J67+K67 -> 847581.58 | M67: =G67+L67 -> -1044515.5
B68: 2005 | C68: Property Under Finance Lease7 | D68: 11769943 | E68: 0 | F68: 0 | G68: =D68+E68+F68 -> 11769943 | I68: -4428869.3 | J68: -740162.28 | K68: 0 | L68: =I68+J68+K68 -> -5169031.6 | M68: =G68+L68 -> 6600911
B69: 2075 | C69: Non-Utility Property Owned | D69: 191039.67 | E69: 0 | F69: 0 | G69: =D69+E69+F69 -> 191039.67 | I69: -164941.38 | J69: -26098.29 | K69: 0 | L69: =I69+J69+K69 -> -191039.67 | M69: =G69+L69 -> 0
B70: 2055 | C70: Construction Work In Progress | D70: 1.6913395e+08 | E70: 459670.92 | F70: 0 | G70: =D70+E70+F70 -> 1.6959362e+08 | I70: 0 | J70: 0 | K70: 0 | L70: =I70+J70+K70 -> 0 | M70: =G70+L70 -> 1.6959362e+08
B71: 2055.CIAC | C71: Construction Work In Progress - CIAC | D71: -75811349 | E71: -22987931 | F71: 0 | G71: =D71+E71+F71 -> -98799280 | I71: 0 | J71: 0 | K71: 0 | L71: =I71+J71+K71 -> 0 | M71: =G71+L71 -> -98799280
C72: Sub-Total | D72: =SUM(D40:D71) -> 4.9909593e+09 | E72: =SUM(E40:E71) -> 3.2416809e+08 | F72: =SUM(F40:F71) -> -20098559 | G72: =SUM(G40:G71) -> 5.2950288e+09 | I72: =SUM(I40:I71) -> -1.2269829e+09 | J72: =SUM(J40:J71) -> -1.7957202e+08 | K72: =SUM(K40:K71) -> 12927521 | L72: =SUM(L40:L71) -> -1.3936274e+09 | M72: =SUM(M40:M71) -> 3.9014014e+09
...

Sheet 2026 (Old UL)
L1: File Number: | M1: EB-2025-0252
L2: Exhibit:
L3: Tab:
L4: Schedule:
L5: Page:
L7: Date:
A9: Appendix 2-BA
A10: Fixed Asset Continuity Schedule 1
E11: Old Useful Lives
A14: 1 | B14: Tables in the format outlined above covering all fixed asset accounts should be submitted for the Test Year, Bridge Year and all relevant historical years. At a minimum , the applicant must provide data for the earlier of: 1) all historical years back to its last rebasing; or 2) at least three years of historical actuals, in addition to Bridge Year and Test Year forecasts. If this is the first application where the applicant is rebasing under MIFRS, contact OEB staff for further guidance on the appropriate fixed asset continuity schedules to complete (i.e. applicable years and accounting standard for each schedule).
A17: 2 | B17: The "CCA Class" for fixed assets should generally agree with the CCA Class used for tax purposes in Tax Returns. Fixed Assets sub-components may be used where the underlying asset components are classified under multiple CCA Classes for tax purposes. If an applicant uses any different classes from those shown in the table, an explanation should be provided. (also see note 3).
A20: 3 | B20: The table may need to be customized for a utility's asset categories or for any new asset accounts announced or authorized by the OEB.
A22: 4 | B22: The additions in column (E) must not include construction work in progress (CWIP).
A24: 5 | B24: Effective on the date of IFRS adoption, customer contributions will no longer be recorded in Account 1995 Contributions & Grants, but will be recorded in Account 2440, Deferred Revenues. Amortization of deferred revenue will be removed from the depreciation expense shown on this fixed asset continuity schedule as it should be included as income in Appendix 2-H Other Revenues.
A26: 6 | B26: The applicant must ensure that all asset disposals have been clearly identified in the Chapter 2 Appendices for all historic, bridge and test years. Where a distributor for general financial reporting purposes under IFRS has accounted for the amount of gain or loss on the retirement of assets in a pool of like assets as a charge or credit to income, for reporting and rate application filings, the distributor shall reclassify such gains and losses as depreciation expense, and disclose the amount separately.
A30: 7 | B30: This account includes the amount recorded under finance leases for plant leased from others and used by the utility in its utility operations.
A32: 8 | B32: The applicant must establish the continuity of historical cost for gross assets and accumulated depreciation by asset class by ensuring that the opening balance in the year agrees to the closing balance in the prior year.
E35: Accounting Standard | F35: MIFRS
E36: Year | F36: 2026
D38: Cost | J38: Accumulated Depreciation
B39: OEB Account 3 | C39: Description 3 | D39: Opening Balance 8 | E39: Additions 4 | F39: Disposals 6 | G39: Closing Balance | I39: Opening Balance 8 | J39: Additions | K39: Disposals 6 | L39: Closing Balance | M39: Net Book Value
B40: 1609 | C40: Capital Contributions Paid | D40: ='2025 (Old UL)'!G40 -> 98789549 | E40: 7894473.2 | F40: 0 | G40: =D40+E40+F40 -> 1.0668402e+08 | I40: ='2025 (Old UL)'!L40 -> -32252382 | J40: -3486570.8 | K40: 0 | L40: =I40+J40+K40 -> -35738953 | M40: =G40+L40 -> 70945069
B41: 1611 | C41: Computer Software (Formally known as Account 1925) | D41: ='2025 (Old UL)'!G41 -> 2.4017351e+08 | E41: 32931536 | F41: -607738.86 | G41: =D41+E41+F41 -> 2.7249731e+08 | I41: ='2025 (Old UL)'!L41 -> -1.4239384e+08 | J41: -32831956 | K41: 607738.86 | L41: =I41+J41+K41 -> -1.7461806e+08 | M41: =G41+L41 -> 97879253
B42: 1612 | C42: Land Rights (Formally known as Account 1906) | D42: ='2025 (Old UL)'!G42 -> 4264599.7 | E42: 138131.86 | F42: 0 | G42: =D42+E42+F42 -> 4402731.6 | I42: ='2025 (Old UL)'!L42 -> 0 | J42: 0 | K42: 0 | L42: =I42+J42+K42 -> 0 | M42: =G42+L42 -> 4402731.6
B43: 1805 | C43: Land | D43: ='2025 (Old UL)'!G43 -> 84610154 | E43: 0 | F43: 0 | G43: =D43+E43+F43 -> 84610154 | I43: ='2025 (Old UL)'!L43 -> 0 | J43: 0 | K43: 0 | L43: =I43+J43+K43 -> 0 | M43: =G43+L43 -> 84610154
B44: 1808 | C44: Buildings | D44: ='2025 (Old UL)'!G44 -> 45357742 | E44: 86195.317 | F44: 0 | G44: =D44+E44+F44 -> 45443937 | I44: ='2025 (Old UL)'!L44 -> -13595397 | J44: -1735042.5 | K44: 0 | L44: =I44+J44+K44 -> -15330440 | M44: =G44+L44 -> 30113498
B45: 1815 | C45: Transformer Station Equipment >50 kV | D45: ='2025 (Old UL)'!G45 -> 1.461857e+08 | E45: 1944683.8 | F45: -23123.142 | G45: =D45+E45+F45 -> 1.4810726e+08 | I45: ='2025 (Old UL)'!L45 -> -62272023 | J45: -4888533 | K45: 6729.1019 | L45: =I45+J45+K45 -> -67153826 | M45: =G45+L45 -> 80953433
B46: 1820 | C46: Distribution Station Equipment <50 kV | D46: ='2025 (Old UL)'!G46 -> 1.9001562e+08 | E46: 2572038 | F46: -156496.98 | G46: =D46+E46+F46 -> 1.9243117e+08 | I46: ='2025 (Old UL)'!L46 -> -61711866 | J46: -6459309.2 | K46: 41215.265 | L46: =I46+J46+K46 -> -68129960 | M46: =G46+L46 -> 1.2430121e+08
B47: 1830 | C47: Poles, Towers & Fixtures | D47: ='2025 (Old UL)'!G47 -> 7.7513826e+08 | E47: 46893796 | F47: -2122651.5 | G47: =D47+E47+F47 -> 8.1990941e+08 | I47: ='2025 (Old UL)'!L47 -> -1.2790382e+08 | J47: -18461718 | K47: 424530.3 | L47: =I47+J47+K47 -> -1.4594101e+08 | M47: =G47+L47 -> 6.7396839e+08
B48: 1835 | C48: Overhead Conductors & Devices | D48: ='2025 (Old UL)'!G48 -> 6.3279281e+08 | E48: 43893362 | F48: -2086359.5 | G48: =D48+E48+F48 -> 6.7459981e+08 | I48: ='2025 (Old UL)'!L48 -> -1.1998724e+08 | J48: -16893102 | K48: 417271.89 | L48: =I48+J48+K48 -> -1.3646307e+08 | M48: =G48+L48 -> 5.3813674e+08
B49: 1840 | C49: Underground Conduit | D49: ='2025 (Old UL)'!G49 -> 5.9975731e+08 | E49: 67652583 | F49: -426183 | G49: =D49+E49+F49 -> 6.6698371e+08 | I49: ='2025 (Old UL)'!L49 -> -89622751 | J49: -13146671 | K49: 85236.603 | L49: =I49+J49+K49 -> -1.0268419e+08 | M49: =G49+L49 -> 5.6429952e+08
B50: 1845 | C50: Underground Conductors & Devices | D50: ='2025 (Old UL)'!G50 -> 1.7289248e+09 | E50: 1.6382749e+08 | F50: -1888347 | G50: =D50+E50+F50 -> 1.8908639e+09 | I50: ='2025 (Old UL)'!L50 -> -3.6894397e+08 | J50: -54000938 | K50: 377669.4 | L50: =I50+J50+K50 -> -4.2256724e+08 | M50: =G50+L50 -> 1.4682967e+09
B51: 1850 | C51: Line Transformers | D51: ='2025 (Old UL)'!G51 -> 8.7114448e+08 | E51: 61316109 | F51: -2602740.2 | G51: =D51+E51+F51 -> 9.2985785e+08 | I51: ='2025 (Old UL)'!L51 -> -1.7785843e+08 | J51: -25334011 | K51: 520548.03 | L51: =I51+J51+K51 -> -2.0267189e+08 | M51: =G51+L51 -> 7.2718596e+08
... B66: 2440 | C66: Deferred Revenue5 | D66: ='2025 (Old UL)'!G66 -> -1.0353665e+09 | E66: -1.5221853e+08 | F66: 1722239.8 | G66: =D66+E66+F66 -> -1.1858628e+09 | I66: ='2025 (Old UL)'!L66 -> 1.4282635e+08 | J66: 27860444 | K66: -344447.96 | L66: =I66+J66+K66 -> 1.7034235e+08 | M66: =G66+L66 -> -1.0155205e+09
B67: 2440.NDA | C67: Deferred Revenue-Non Distribution Assets | D67: ='2025 (Old UL)'!G67 -> -1892097.1 | E67: 0 | F67: 0 | G67: =D67+E67+F67 -> -1892097.1 | I67: ='2025 (Old UL)'!L67 -> 847581.58 | J67: 123834.17 | K67: 0 | L67: =I67+J67+K67 -> 971415.75 | M67: =G67+L67 -> -920681.33
B68: 2005 | C68: Property Under Finance Lease7 | D68: ='2025 (Old UL)'!G68 -> 11769943 | E68: 0 | F68: 0 | G68: =D68+E68+F68 -> 11769943 | I68: ='2025 (Old UL)'!L68 -> -5169031.6 | J68: -740162.28 | K68: 0 | L68: =I68+J68+K68 -> -5909193.8 | M68: =G68+L68 -> 5860748.7
B69: 2075 | C69: Non-Utility Property Owned | D69: ='2025 (Old UL)'!G69 -> 191039.67 | E69: 0 | F69: 0 | G69: =D69+E69+F69 -> 191039.67 | I69: ='2025 (Old UL)'!L69 -> -191039.67 | J69: 0 | K69: 0 | L69: =I69+J69+K69 -> -191039.67 | M69: =G69+L69 -> 0
B70: 2055 | C70: Construction Work In Progress | D70: ='2025 (Old UL)'!G70 -> 1.6959362e+08 | E70: 41340176 | F70: 0 | G70: =D70+E70+F70 -> 2.109338e+08 | I70: ='2025 (Old UL)'!L70 -> 0 | J70: 0 | K70: 0 | L70: =I70+J70+K70 -> 0 | M70: =G70+L70 -> 2.109338e+08
B71: 2055.CIAC | C71: Construction Work In Progress - CIAC | D71: ='2025 (Old UL)'!G71 -> -98799280 | E71: -19228819 | F71: 0 | G71: =D71+E71+F71 -> -1.180281e+08 | I71: ='2025 (Old UL)'!L71 -> 0 | J71: 0 | K71: 0 | L71: =I71+J71+K71 -> 0 | M71: =G71+L71 -> -1.180281e+08
C72: Sub-Total | D72: =SUM(D40:D71) -> 5.2950288e+09 | E72: =SUM(E40:E71) -> 3.5797099e+08 | F72: =SUM(F40:F71) -> -16447287 | G72: =SUM(G40:G71) -> 5.6365525e+09 | I72: =SUM(I40:I71) -> -1.3936274e+09 | J72: =SUM(J40:J71) -> -1.9229299e+08 | K72: =SUM(K40:K71) -> 9382804.9 | L72: =SUM(L40:L71) -> -1.5765376e+09 | M72: =SUM(M40:M71) -> 4.060015e+09
...
