{"text_format":"1","workbook":"xlsx","n_sheets":59,"sheets":["Data Input Instructions","Data Current Rates","Data Proposed Rates","Data Billing Quantities","Data Pass Through","Data BI Summary","Data BI List","BI Template_Energy","BI Template_Demand","BI Template_Unmtr","Bill Impact Summary","Bill Impact Summary_Acq","BI_UR_Typical","BI_R1_Typical (with DRP)","BI_R1_Typical (without DRP)","BI_R2_Typical (with DRP)","BI_R2_Typical (without DRP)","BI_Seas_UR_Avg","BI_Seas_R1_Avg","BI_Seas_R2_Avg","BI_GSe_Typical","BI_UGe_Typical","BI_GSd_Avg","BI_UGd_Avg","BI_StLgt_Avg","BI_SenLgt_Avg","BI_USL_Avg","BI_Dgen_Avg","BI_ST_Avg","BI_AUR_Typical","BI_AUGe_Typical","BI_AUGd_Average","BI_AR_Typical","BI_AGSe_Typical","BI_AGSd_Average","BI_WHSI_AUR_Typical","BI_WHSI_AUGe_Typical","BI_WHSI_AUGd_Avg","BI_WHSI_ST_Avg","BI_NPDI_AR_Typical","BI_HCHI_AR_Typical","BI_NPDI_AGSe_Typical","BI_HCHI_AGSe_Typical","BI_NPDI_AGSd_Avg","BI_HCHI_AGSd_Avg","BI_WHSI_USL_Avg","BI_NPDI_USL_Avg","BI_HCHI_USL_Avg","BI_WHSI_StLgt_Avg","BI_NPDI_StLgt_Avg","BI_HCHI_StLgt_Avg","BI_NPDI_SenLgt_Avg","BI_HCHI_SenLgt_Avg","BI_CPUC_R1_Typical","BI_CPUC_GSe_Typical","BI_CPUC_GSd_Avg","BI_CPUC_USL_Avg","BI_CPUC_SenLgt_Avg","BI_CPUC_StLgt_Avg"],"not_rendered":{"charts":0,"images":0,"macros":1,"external_links":0,"defined_names":3,"comments":2,"pivot_tables":0},"unopened":[],"bounds":{"document_bytes":16777216,"sheet_cells":100000,"rows_first":2000,"rows_last":500,"rows_between":2000,"halvings":0,"cell_chars":16384,"cell_head_chars":4096},"cells_cut":0,"cells_raw":0,"read":"whole","date_system":"1900"}

{"sheet":"Data Input Instructions","index":0,"n_rows":16,"n_cols":3,"rows_kept":16,"cut":false,"hidden":true,"merged":[]}
[]
[]
["Worksheet ID","Worksheet","Input Data Notes"]
[1,"Data Current Rates","R2 Service Charge should already be net of RRRP credit"]
[1,"Data Current Rates","Demand billed RTSR should already be loss adjusted"]
[2,"Data Proposed Rates","Mapped from Draft Rates file prepared for Claude"]
[2,"Data Proposed Rates","Row 5 with header name TEXT is precedent to templates; changes to TEXT need to reflected in templates"]
[2,"Data Proposed Rates","Templates are set up with 2-dimension vlookups so it will accommodate inserted/deleted rows and/or columns"]
[3,"Data Billing Quantities","Row 4 with header name TEXT is precedent to templates; changes to TEXT need to reflected in templates"]
[3,"Data Billing Quantities","Templates are set up with 2-dimension vlookups so it will accommodate inserted/deleted rows and/or columns"]
[4,"Data Pass Through","Changes to Pass Through rates can be manually input on this sheet, which is precedent to the templates"]
[4,"Data Pass Through","Links to templates from Column A TEXT; any changes in the TEXT of the charge names must be reflected in the templates"]
[5,"Data BI List","Instruction Sheet for macro to create individual bill impact worksheets"]
[5,"Data BI List","Need to MANUALLY update Test Year to appear as header on all bill impact worksheets"]
[6,"Data BI Summary","This replaces the need for cell references in summary sheet, and displays value for totals so rows can be added to templates and worksheets without having to update the summary sheet"]
[null,"Bill Impact Summary","This file has 2 hidden columns needed to link to worksheets; see Col E and F"]

{"sheet":"Data Current Rates","index":1,"n_rows":53,"n_cols":33,"rows_kept":53,"cut":false,"hidden":true,"merged":[]}
["Current Jan 1, 2025 Rates"]
[]
[1,2,3,4,5,6,7,8,9,10,11,12,13,14,15,16,17,18,19,20,21,22,23,24,25,26,27,28,29,30,31,32,31]
["Rate Class","Proposed Fixed Charge ($/month)","Proposed Volumetric Charge ($/kWh or $/kW)","Proposed Group 1 DVA Rider - Volumetric ($/kWh or $/kW) (2023)","Porposed Group 1 DVA Rider - Volumetric Applicable to Non-WMP Only ($/kWh or $/kW) (2023)","Proposed Rate Rider for Disposition of Global Adjustment (Non WMP, Non-RPP, Non-LDC, and Class B) ($/kWh) (2023)","Proposed Group 1 DVA Rider - Volumetric ($/kWh or $/kW) (2024)","Porposed Group 1 DVA Rider - Volumetric Applicable to Non-WMP Only ($/kWh or $/kW) (2024)","Proposed Rate Rider for Disposition of Global Adjustment (Non WMP, Non-RPP, Non-LDC, and Class B) ($/kWh) (2024)","Vol CBR-B Rider ($/kWh or $/kW) - Non-WMP, Class B Only (2024)","Vol Group 1 VA Rider - Chapleau (2024)","Vol GA Rider ($/kWh) - Non-RPP, Non-LDC, Class B - Chapleau (2024)","Current Group 1 DVA Rider - Volumetric ($/kWh or $/kW) (2025)","Current Group 1 DVA Rider - Volumetric Applicable to Non-WMP Only ($/kWh or $/kW) (2025)","Current Rate Rider for Disposition of Global Adjustment (Non WMP, Non-RPP, Non-LDC, and Class B) ($/kWh) (2025)","Vol CBR-B Rider ($/kWh or $/kW) - Non-WMP, Class B Only (2025)","Fixed 1592 VA Rider for Acq ($/month)","Vol 1592 VA Rider for Acq ($/kWh or $/kW)","Current Group 2 Rate Rider - Fixed ($/month)","Current Group 2 Rate Rider - Volumetric ($/kWh or $/kW)","Current RTSR-NW ($/kWh or $/kW)","Current RTSR-CONN ($/kWh or $/kW)","Total DX Rev Related Fixed Rate Riders","Total DX Rev Related Vol Rate Riders","Total DVA Rate Riders","Total CBR-B Rate Riders","Total GA Rate Rider","Addional Fixed Rate Rider","Additional Vol Rate Rider"]
["Rate as shown on Bill Impact Sheet","Service Charge","Distribution Volumetric Charge","Group 1 Volumetric DVA Rider (General) (2023)","Group 1 Volumetric Deferral/Variance Account Rider (Sub-Account RSVA Wholesale Market Service Charge & RSVA Power) (2023)","Group 1 Volumetric Deferral/Variance Account Rider (Sub-Account Global Adjustment) (2023)","Group 1 Volumetric DVA Rider (General) (2024)","Group 1 Volumetric Deferral/Variance Account Rider (Sub-Account RSVA Wholesale Market Service Charge & RSVA Power) (2024)","Group 1 Volumetric Deferral/Variance Account Rider (Sub-Account Global Adjustment) (2024)","Group 1 Volumetric Deferral/Variance Account Rider (Sub-Account CBR) (2024)","Group 1 Vol VA Rider ($/kWh or $/kW) (2024) - Chapleau","GA Rider ($/kWh) for Non WMP, Non-RPP, Non-LDC, and Class B customers (2024) - Chapleau","Group 1 Volumetric DVA Rider (General) (2025)","Group 1 Volumetric Deferral/Variance Account Rider (Sub-Account RSVA Wholesale Market Service Charge & RSVA Power) (2025)","Group 1 Volumetric Deferral/Variance Account Rider (Sub-Account Global Adjustment) (2025)","Group 1 Volumetric Deferral/Variance Account Rider (Sub-Account CBR) (2025)","Fixed Rider for Account 1592","Volumetric Rider for Account 1592","Group 2 Fixed DVA Rider ","Group 2 Volumetric DVA Rider ","Retail Transmission Rate – Network Service Rate","Retail Transmission Rate – Line and Transformation Connection Service Rate","Group 2 Fixed Rate Rider","Group 2 Volumetric Rate Rider","Total Deferral/Variance Account Rate Rider","CBR Class B Rate Rider","GA Rate Rider","Additional Fixed Rate Rider","Additional Volumetric Rate Rider"]
["Rounding Factor",2,4,4,4,4,4,4,4,4,4,4,4,4,4,4,2,4,2,4,4,4]
["UR",41.61,0,-6.9999999999999999E-4,0,-8.9999999999999998E-4,null,null,null,null,null,null,-3.0999999999999999E-3,0,0,1E-4,null,null,-0.11,null,1.37E-2,9.7999999999999997E-3,{"$f":"Q7+S7","v":-0.11},{"$f":"R7+T7","v":0},{"$f":"D7+E7+G7+H7+M7+N7+K7","v":-3.8E-3},{"$f":"J7+P7","v":1E-4},null,0,0]
["Seas-UR",41.61,0,-6.9999999999999999E-4,0,-8.9999999999999998E-4,null,null,null,null,null,null,-3.0999999999999999E-3,0,0,1E-4,null,null,-0.11,null,1.37E-2,9.7999999999999997E-3,{"$f":"Q8+S8","v":-0.11},0,{"$f":"D8+E8+G8+H8+M8+N8+K8","v":-3.8E-3},{"$f":"J8+P8","v":1E-4},null,0,0]
["R1",71.05,0,-6.9999999999999999E-4,0,-8.9999999999999998E-4,null,null,null,null,null,null,-3.0000000000000001E-3,0,0,1E-4,null,null,-0.21,null,1.2800000000000001E-2,9.1999999999999998E-3,-0.21,0,-3.7000000000000002E-3,1E-4,null,0,0]
["Seas-R1",71.05,0,-6.9999999999999999E-4,0,-8.9999999999999998E-4,null,null,null,null,null,null,-3.0000000000000001E-3,0,0,1E-4,null,null,-0.21,null,1.2800000000000001E-2,9.1999999999999998E-3,-0.21,0,-3.7000000000000002E-3,1E-4,null,0,0]
["R2",143.96,1.21E-2,-6.9999999999999999E-4,0,-8.9999999999999998E-4,null,null,null,null,null,null,-3.0000000000000001E-3,0,0,1E-4,null,null,-0.44,null,1.18E-2,8.6E-3,-0.44,0,-3.7000000000000002E-3,1E-4,null,0,0]
["Seas-R2",82.64,1.21E-2,-6.9999999999999999E-4,0,-8.9999999999999998E-4,null,null,null,null,null,null,-3.0000000000000001E-3,0,0,1E-4,null,null,-0.44,null,1.18E-2,8.6E-3,-0.44,0,-3.7000000000000002E-3,1E-4,null,0,0]
["GSe",32.78,7.6799999999999993E-2,-6.9999999999999999E-4,0,-8.9999999999999998E-4,null,null,null,null,null,null,-2.8999999999999998E-3,0,0,1E-4,null,null,null,-2.9999999999999997E-4,1.01E-2,7.7999999999999996E-3,0,-2.9999999999999997E-4,-3.5999999999999999E-3,1E-4,null,0,0]
["UGe",25.51,3.6999999999999998E-2,-6.9999999999999999E-4,0,-8.9999999999999998E-4,null,null,null,null,null,null,-2.8999999999999998E-3,0,0,1E-4,null,null,null,-1E-4,1.0800000000000001E-2,8.3000000000000001E-3,0,-1E-4,-3.5999999999999999E-3,1E-4,null,0,0]
["St Lgt",3.31,0.1235,-6.9999999999999999E-4,0,-8.9999999999999998E-4,null,null,null,null,null,null,-2.8999999999999998E-3,0,0,1E-4,null,null,null,-4.0000000000000002E-4,7.4000000000000003E-3,5.7000000000000002E-3,0,-4.0000000000000002E-4,-3.5999999999999999E-3,1E-4,null,0,0]
["Sen Lgt",3.37,0.19009999999999999,-6.9999999999999999E-4,0,-8.9999999999999998E-4,null,null,null,null,null,null,-2.8999999999999998E-3,0,0,1E-4,null,null,null,-5.0000000000000001E-4,7.4000000000000003E-3,5.7000000000000002E-3,0,-5.0000000000000001E-4,-3.5999999999999999E-3,1E-4,null,0,0]
["USL",38.29,3.3700000000000001E-2,-6.9999999999999999E-4,0,-8.9999999999999998E-4,null,null,null,null,null,null,-2.8999999999999998E-3,0,0,1E-4,null,null,null,-2.9999999999999997E-4,8.5000000000000006E-3,6.1999999999999998E-3,0,-2.9999999999999997E-4,-3.5999999999999999E-3,1E-4,null,0,0]
["GSd",105.55,21.398700000000002,-8.5500000000000007E-2,-0.1195,-8.9999999999999998E-4,null,null,null,null,null,null,-0.32790000000000002,-0.56240000000000001,0,1.72E-2,null,null,null,-7.0999999999999994E-2,3.2717000000000001,2.492,0,-7.0999999999999994E-2,-1.0952999999999999,1.72E-2,{"$f":"F18+I18+O18+L18","v":-8.9999999999999998E-4},0,0]
["UGd",96.47,12.441599999999999,-0.1053,-0.14729999999999999,-8.9999999999999998E-4,null,null,null,null,null,null,-0.40479999999999999,-0.69489999999999996,0,2.12E-2,null,null,null,-4.2099999999999999E-2,4.1818999999999997,3.1305999999999998,0,-4.2099999999999999E-2,-1.3523000000000001,2.12E-2,{"$f":"F19+I19+O19+L19","v":-8.9999999999999998E-4},0,0]
["Dgen",199.26,14.113799999999999,-3.9399999999999998E-2,-5.6500000000000002E-2,-8.9999999999999998E-4,null,null,null,null,null,null,-0.1512,-0.26679999999999998,0,8.2000000000000007E-3,null,null,null,-9.2999999999999999E-2,1.7955000000000001,1.0692999999999999,0,-9.2999999999999999E-2,-0.51390000000000002,8.2000000000000007E-3,-8.9999999999999998E-4,0,0]
["ST",1241.8699999999999,1.7096,-0.13400000000000001,-0.188,-8.9999999999999998E-4,null,null,null,null,null,null,-0.5141,-0.88570000000000004,0,1.2200000000000001E-2,null,null,null,-7.1999999999999998E-3,5.5091999999999999,4.3196000000000003,0,-7.1999999999999998E-3,-1.7218,1.2200000000000001E-2,-8.9999999999999998E-4,0,0]
["AUR",34.36,0,-6.9999999999999999E-4,0,-8.9999999999999998E-4,null,null,null,null,null,null,-3.0999999999999999E-3,0,0,1E-4,null,null,null,null,1.41E-2,1.01E-2,0,0,-3.8E-3,1E-4,null,0,0]
["AUGe",26.36,1.7600000000000001E-2,-6.9999999999999999E-4,0,-8.9999999999999998E-4,null,null,null,null,null,null,-2.8999999999999998E-3,0,0,1E-4,null,null,null,null,1.09E-2,8.2000000000000007E-3,0,0,-3.5999999999999999E-3,1E-4,null,0,0]
["AUGd",146.47,3.1817000000000002,-9.7199999999999995E-2,-0.1351,-8.9999999999999998E-4,null,null,null,null,null,null,-0.37280000000000002,-0.63529999999999998,0,1.9699999999999999E-2,null,null,null,null,3.7906,2.8288000000000002,0,0,-1.2403999999999999,1.9699999999999999E-2,{"$f":"F24+I24+O24+L24","v":-8.9999999999999998E-4},0,0]
["AR",41.71,0,-6.9999999999999999E-4,0,-8.9999999999999998E-4,null,null,null,null,null,null,-3.0999999999999999E-3,0,0,1E-4,null,null,null,null,1.35E-2,9.7999999999999997E-3,0,0,-3.8E-3,1E-4,null,0,0]
["AGSe",39.96,2.1600000000000001E-2,-6.9999999999999999E-4,0,-8.9999999999999998E-4,null,null,null,null,null,null,-2.8999999999999998E-3,0,0,1E-4,null,null,null,null,1.0699999999999999E-2,8.0999999999999996E-3,0,0,-3.5999999999999999E-3,1E-4,null,0,0]
["AGSd",170.26,5.1349999999999998,-9.8000000000000004E-2,-0.13639999999999999,-8.9999999999999998E-4,null,null,null,null,null,null,-0.37609999999999999,-0.63929999999999998,0,1.9400000000000001E-2,null,null,null,null,3.3277999999999999,2.5457000000000001,0,0,-1.2498,1.9400000000000001E-2,{"$f":"F27+I27+O27+L27","v":-8.9999999999999998E-4},0,0]
["AUR-WHSI",34.36,0,-8.9999999999999998E-4,0,-8.9999999999999998E-4,null,null,null,null,null,null,-3.0999999999999999E-3,0,0,1E-4,-0.4,null,null,null,1.41E-2,1.01E-2,-0.4,0,-4.0000000000000001E-3,1E-4,null,0,0]
["AUGe-WHSI",26.36,1.7600000000000001E-2,-8.9999999999999998E-4,0,-8.9999999999999998E-4,null,null,null,null,null,null,-2.8999999999999998E-3,0,0,1E-4,null,-2.9999999999999997E-4,null,null,1.09E-2,8.2000000000000007E-3,0,-2.9999999999999997E-4,-3.7999999999999996E-3,1E-4,null,0,0]
["AUGd-WHSI",146.47,3.1817000000000002,-6.4500000000000002E-2,-0.1351,-8.9999999999999998E-4,null,null,null,null,null,null,-0.37280000000000002,-0.63529999999999998,0,1.9699999999999999E-2,null,-3.9199999999999999E-2,null,null,3.7906,2.8288000000000002,0,-3.9199999999999999E-2,-1.2077,1.9699999999999999E-2,{"$f":"F30+I30+O30+L30","v":-8.9999999999999998E-4},0,0]
["ST-WHSI",1241.8699999999999,1.7096,-0.10630000000000001,-0.188,-8.9999999999999998E-4,null,null,null,null,null,null,-0.5141,-0.88570000000000004,0,1.2200000000000001E-2,null,-4.3799999999999999E-2,null,null,5.5091999999999999,4.3196000000000003,0,-4.3799999999999999E-2,-1.6941000000000002,1.2200000000000001E-2,{"$f":"F31+I31+O31+L31","v":-8.9999999999999998E-4},0,0]
["St Lgt-WHSI",3.31,0.1235,-5.9999999999999995E-4,0,-8.9999999999999998E-4,null,null,null,null,null,null,-2.8999999999999998E-3,0,0,1E-4,null,-1.2999999999999999E-3,null,null,7.4000000000000003E-3,5.7000000000000002E-3,0,-1.2999999999999999E-3,-3.4999999999999996E-3,1E-4,null,0,0]
["USL-WHSI",38.29,3.3700000000000001E-2,-8.9999999999999998E-4,0,-8.9999999999999998E-4,null,null,null,null,null,null,-2.8999999999999998E-3,0,0,1E-4,null,-2.9999999999999997E-4,null,null,8.5000000000000006E-3,6.1999999999999998E-3,0,-2.9999999999999997E-4,-3.7999999999999996E-3,1E-4,null,0,0]
["AR-NPDI",41.71,0,-8.0000000000000004E-4,0,-8.9999999999999998E-4,null,null,null,null,null,null,-3.0999999999999999E-3,0,0,1E-4,-0.43,null,null,null,1.35E-2,9.7999999999999997E-3,-0.43,0,-3.8999999999999998E-3,1E-4,null,0,0]
["AGSe-NPDI",39.96,2.1600000000000001E-2,-8.0000000000000004E-4,0,-8.9999999999999998E-4,null,null,null,null,null,null,-2.8999999999999998E-3,0,0,1E-4,null,-4.0000000000000002E-4,null,null,1.0699999999999999E-2,8.0999999999999996E-3,0,-4.0000000000000002E-4,-3.6999999999999997E-3,1E-4,null,0,0]
["AGSd-NPDI",170.26,5.1349999999999998,-6.5299999999999997E-2,-0.13639999999999999,-8.9999999999999998E-4,null,null,null,null,null,null,-0.37609999999999999,-0.63929999999999998,0,1.9400000000000001E-2,null,-6.1800000000000001E-2,null,null,3.3277999999999999,2.5457000000000001,0,-6.1800000000000001E-2,-1.2170999999999998,1.9400000000000001E-2,{"$f":"F36+I36+O36+L36","v":-8.9999999999999998E-4},0,0]
["St Lgt-NPDI",3.31,0.1235,-1.1000000000000001E-3,0,-8.9999999999999998E-4,null,null,null,null,null,null,-2.8999999999999998E-3,0,0,1E-4,null,-1.1000000000000001E-3,null,null,7.4000000000000003E-3,5.7000000000000002E-3,0,-1.1000000000000001E-3,-4.0000000000000001E-3,1E-4,null,0,0]
["Sen Lgt-NPDI",3.37,0.19009999999999999,-1.1999999999999999E-3,0,-8.9999999999999998E-4,null,null,null,null,null,null,-2.8999999999999998E-3,0,0,1E-4,null,-1.8E-3,null,null,7.4000000000000003E-3,5.7000000000000002E-3,0,-1.8E-3,-4.0999999999999995E-3,1E-4,null,0,0]
["USL-NPDI",38.29,3.3700000000000001E-2,-1.4E-3,0,-8.9999999999999998E-4,null,null,null,null,null,null,-2.8999999999999998E-3,0,0,1E-4,null,-8.0000000000000004E-4,null,null,8.5000000000000006E-3,6.1999999999999998E-3,0,-8.0000000000000004E-4,-4.3E-3,1E-4,null,0,0]
["AR-HCHI",41.71,0,-6.9999999999999999E-4,0,-8.9999999999999998E-4,null,null,null,null,null,null,-3.0999999999999999E-3,0,0,1E-4,-0.46,null,null,null,1.35E-2,9.7999999999999997E-3,-0.46,0,-3.8E-3,1E-4,null,0,0]
["AGSe-HCHI",39.96,2.1600000000000001E-2,-6.9999999999999999E-4,0,-8.9999999999999998E-4,null,null,null,null,null,null,-2.8999999999999998E-3,0,0,1E-4,null,-4.0000000000000002E-4,null,null,1.0699999999999999E-2,8.0999999999999996E-3,0,-4.0000000000000002E-4,-3.5999999999999999E-3,1E-4,null,0,0]
["AGSd-HCHI",170.26,5.1349999999999998,-9.8000000000000004E-2,-0.13639999999999999,-8.9999999999999998E-4,null,null,null,null,null,null,-0.37609999999999999,-0.63929999999999998,0,1.9400000000000001E-2,null,-6.0299999999999999E-2,null,null,3.3277999999999999,2.5457000000000001,0,-6.0299999999999999E-2,-1.2498,1.9400000000000001E-2,{"$f":"F42+I42+O42+L42","v":-8.9999999999999998E-4},0,0]
["St Lgt-HCHI",3.31,0.1235,-6.9999999999999999E-4,0,-8.9999999999999998E-4,null,null,null,null,null,null,-2.8999999999999998E-3,0,0,1E-4,null,-2.8E-3,null,null,7.4000000000000003E-3,5.7000000000000002E-3,0,-2.8E-3,-3.5999999999999999E-3,1E-4,null,0,0]
["Sen Lgt-HCHI",3.37,0.19009999999999999,-6.9999999999999999E-4,0,-8.9999999999999998E-4,null,null,null,null,null,null,-2.8999999999999998E-3,0,0,1E-4,null,-5.4999999999999997E-3,null,null,7.4000000000000003E-3,5.7000000000000002E-3,0,-5.4999999999999997E-3,-3.5999999999999999E-3,1E-4,null,0,0]
["USL-HCHI",38.29,3.3700000000000001E-2,-6.9999999999999999E-4,0,-8.9999999999999998E-4,null,null,null,null,null,null,-2.8999999999999998E-3,0,0,1E-4,null,-6.9999999999999999E-4,null,null,8.5000000000000006E-3,6.1999999999999998E-3,0,-6.9999999999999999E-4,-3.5999999999999999E-3,1E-4,null,0,0]
["R1-CPUC",71.05,0,null,null,null,null,null,null,null,null,null,null,null,null,null,null,null,null,null,1.2800000000000001E-2,9.1999999999999998E-3,{"$f":"Q46+S46","v":0},0,0,0,null,0,0]
["GSe-CPUC",32.78,7.6799999999999993E-2,null,null,null,null,null,null,null,null,null,null,null,null,null,null,null,null,null,1.01E-2,7.7999999999999996E-3,0,0,0,0,null,0,0]
["GSd-CPUC",105.55,21.398700000000002,null,null,null,null,null,null,null,null,null,null,null,null,null,null,null,null,null,3.2717000000000001,2.492,0,0,0,0,{"$f":"F48+I48+O48+L48","v":0},0,0]
["USL-CPUC",38.29,3.3700000000000001E-2,null,null,null,null,null,null,null,null,null,null,null,null,null,null,null,null,null,8.5000000000000006E-3,6.1999999999999998E-3,0,0,0,0,null,0,0]
["Sen Lgt-CPUC",3.37,0.19009999999999999,null,null,null,null,null,null,null,null,null,null,null,null,null,null,null,null,null,7.4000000000000003E-3,5.7000000000000002E-3,0,0,0,0,null,0,0]
["St Lgt-CPUC",3.31,0.1235,null,null,null,null,null,null,null,null,null,null,null,null,null,null,null,null,null,7.4000000000000003E-3,5.7000000000000002E-3,0,0,0,0,null,0,0]
["Sen Lgt-HONI",{"$f":"B50","v":3.37},{"$f":"C50","v":0.19009999999999999},null,null,null,null,null,null,null,null,null,null,null,null,null,null,null,null,null,{"$f":"U50","v":7.4000000000000003E-3},{"$f":"V50","v":5.7000000000000002E-3},0,0,0,0,null,0,0]
["St Lgt-HONI",{"$f":"B51","v":3.31},{"$f":"C51","v":0.1235},null,null,null,null,null,null,null,null,null,null,null,null,null,null,null,null,null,{"$f":"U51","v":7.4000000000000003E-3},{"$f":"V51","v":5.7000000000000002E-3},0,0,0,0,null,0,0]

{"sheet":"Data Proposed Rates","index":2,"n_rows":51,"n_cols":40,"rows_kept":51,"cut":false,"hidden":true,"merged":[]}
["Porposed Jan 1, 2026 Rates"]
[]
[1,2,3,4,5,6,7,8,9,10,11,12,null,13,14,15,16,17,18,19,20,21,22,23,24,25,26,27,28,29,30,null,31,32,33,34,35,36,37,38]
["Rate Class","Proposed Fixed Charge ($/month)","Proposed Volumetric Charge ($/kWh or $/kW)","Proposed Group 1 DVA Rider - Volumetric ($/kWh or $/kW) (2023)","Porposed Group 1 DVA Rider - Volumetric Applicable to Non-WMP Only ($/kWh or $/kW) (2023)","Proposed Rate Rider for Disposition of Global Adjustment (Non WMP, Non-RPP, Non-LDC, and Class B) ($/kWh) (2023)","Vol Group 1 VA Rider ($/kWh or $/kW)-Excl Account 1588 - HONI-DX","Rate Rider for Account 1588-Non-WMP Only ($/kWh or $/kW) - HONI-DX","Vol Group 1 VA Rider - Non-WMP Only ($/kW) - HONI-DX","Proposed Rate Rider for Disposition of Global Adjustment (Non WMP, Non-RPP, Non-LDC, and Class B) ($/kWh) (2026)","Vol CBR-B Rider ($/kWh or $/kW) - Non-WMP, Class B Only (2026)","Vol Group 1 VA Rider ($/kWh or $/kW)-Excl Account 1588 - Chapleau","Rate Rider for Account 1588 ($/kWh or $/kW) - Chapleau","Vol Group 1 VA Rider - Non-WMP Only ($/kW) - Chapleau (2026)","Vol GA Rider ($/kWh) - Non-RPP, Non-LDC, Class B - Chapleau (2026)","Proposed Group 1 DVA Rider - Volumetric ($/kWh or $/kW) (2025)","Porposed Group 1 DVA Rider - Volumetric Applicable to Non-WMP Only ($/kWh or $/kW) (2025)","Proposed Rate Rider for Disposition of Global Adjustment (Non WMP, Non-RPP, Non-LDC, and Class B) ($/kWh) (2025)","Vol CBR-B Rider ($/kWh or $/kW) - Non-WMP, Class B Only (2025)","Fixed 1592 VA Rider for Acq ($/month) (2023)","Vol 1592 VA Rider for Acq ($/kWh or $/kW) (2023)","Proposed Group 2 Rate Rider - Fixed ($/month) (2023)","Proposed Group 2 Rate Rider - Volumetric ($/kWh or $/kW) (2023)","Fixed Rate Rider for Z-Factor Costs","ESM Rate Rider - Fixed ($/month) (2026)","ESM Rate Rider - Volumetric ($/kWh or $/kW) (2026)","Proposed RTSR-NW ($/kWh or $/kW)","Proposed RTSR-CONN ($/kWh or $/kW)","Total DX Rev Related Fixed Rate Riders","Total DX Rev Related Vol Rate Riders","Total DVA Rate Riders",null,"Total CBR-B Rate Riders","Total GA Rate Rider","Addional Fixed Rate Rider","Additional Vol Rate Rider"]
["Rate as shown on Bill Impact Sheet","Service Charge","Distribution Volumetric Charge","Group 1 Volumetric DVA Rider (General) (2023)","Group 1 Volumetric Deferral/Variance Account Rider (Sub-Account RSVA Wholesale Market Service Charge & RSVA Power) (2023)","Group 1 Volumetric Deferral/Variance Account Rider (Sub-Account Global Adjustment) (2023)","Group 1 Volumetric DVA Rider (General) - Excl Account 1588 (2026)","Account 1588 Rate Rider (2026)","Group 1 Volumetric Deferral/Variance Account Rider (Sub-Account RSVA Wholesale Market Service Charge) (2026)","Group 1 Volumetric Deferral/Variance Account Rider (Sub-Account Global Adjustment) (2026)","Group 1 Volumetric Deferral/Variance Account Rider (Sub-Account CBR) (2026)","Group 1 Volumetric DVA Rider (General)-Excl Account 1588 (2026) - Chapleau","Account 1588 Rate Rider (2026) - Chapleau","Group 1 Volumetric Deferral/Variance Account Rider (Sub-Account RSVA Wholesale Market Service Charge) (2026)","Group 1 Volumetric Deferral/Variance Account Rider (Sub-Account Global Adjustment) (2026) - Chapleau","Group 1 Volumetric DVA Rider (General) (2025)","Group 1 Volumetric Deferral/Variance Account Rider (Sub-Account RSVA Wholesale Market Service Charge & RSVA Power) (2025)","Group 1 Volumetric Deferral/Variance Account Rider (Sub-Account Global Adjustment) (2025)","Group 1 Volumetric Deferral/Variance Account Rider (Sub-Account CBR) (2025)","Fixed Rider for Account 1592","Volumetric Rider for Account 1592","Group 2 Fixed DVA Rider ","Group 2 Volumetric DVA Rider ","Z-Factor Fixed Rate Rider","ESM Fixed Rate Rider","ESM Volumetric Rate Rider","Retail Transmission Rate – Network Service Rate","Retail Transmission Rate – Line and Transformation Connection Service Rate","Group 2 Fixed Rate Rider","Group 2 Volumetric Rate Rider","Total Deferral/Variance Account Rate Rider","Rate Rider for Account 1588","CBR Class B Rate Rider","GA Rate Rider","Additional Fixed Rate Rider","Additional Volumetric Rate Rider"]
["Rounding Factor",2,4,4,4,4,4,4,4,4,4,4,4,4,4,4,4,4,4,2,4,2,4,2,2,4,4,4]
["UR",43.7,0,null,null,null,-1.6999999999999999E-3,-3.2000000000000002E-3,0,1.21E-2,-5.9999999999999995E-4,null,null,null,null,null,null,null,null,null,null,null,null,0,-1.5,0,1.41E-2,0.01,{"$f":"Y7","v":-1.5},{"$f":"Z7","v":0},{"$f":"G7+I7+L7+N7","v":-1.6999999999999999E-3},{"$f":"H7","v":-3.2000000000000002E-3},{"$f":"K7","v":-5.9999999999999995E-4},null,0,0]
["Seas-UR",43.7,0,null,null,null,-1.6999999999999999E-3,-3.2000000000000002E-3,0,1.21E-2,-5.9999999999999995E-4,null,null,null,null,null,null,null,null,null,null,null,null,0,-1.5,0,1.41E-2,0.01,{"$f":"Y8","v":-1.5},{"$f":"Z8","v":0},-1.6999999999999999E-3,{"$f":"H8","v":-3.2000000000000002E-3},{"$f":"K8","v":-5.9999999999999995E-4},null,0,0]
["R1",74.62,0,null,null,null,-1.6999999999999999E-3,-3.2000000000000002E-3,0,1.21E-2,-5.9999999999999995E-4,null,null,null,null,null,null,null,null,null,null,null,null,0,-2.56,0,1.3100000000000001E-2,9.4000000000000004E-3,-2.56,0,-1.6999999999999999E-3,-3.2000000000000002E-3,-5.9999999999999995E-4,null,0,0]
["Seas-R1",74.62,0,null,null,null,-1.6999999999999999E-3,-3.2000000000000002E-3,0,1.21E-2,-5.9999999999999995E-4,null,null,null,null,null,null,null,null,null,null,null,null,0,-2.56,0,1.3100000000000001E-2,9.4000000000000004E-3,-2.56,0,-1.6999999999999999E-3,-3.2000000000000002E-3,-5.9999999999999995E-4,null,0,0]
["R2",151.13999999999999,1.17E-2,null,null,null,-1.6999999999999999E-3,-3.2000000000000002E-3,0,1.21E-2,-5.9999999999999995E-4,null,null,null,null,null,null,null,null,null,null,null,null,0,-5.18,0,1.21E-2,8.8000000000000005E-3,-5.18,0,-1.6999999999999999E-3,-3.2000000000000002E-3,-5.9999999999999995E-4,null,0,0]
["Seas-R2",92.43,1.17E-2,null,null,null,-1.6999999999999999E-3,-3.2000000000000002E-3,0,1.21E-2,-5.9999999999999995E-4,null,null,null,null,null,null,null,null,null,null,null,null,0,-5.18,0,1.21E-2,8.8000000000000005E-3,-5.18,0,-1.6999999999999999E-3,-3.2000000000000002E-3,-5.9999999999999995E-4,null,0,0]
["GSe",32.78,8.1600000000000006E-2,null,null,null,-1.6999999999999999E-3,-3.2000000000000002E-3,0,1.21E-2,-5.9999999999999995E-4,null,null,null,null,null,null,null,null,null,null,null,null,0,-1.1200000000000001,-2.8E-3,1.04E-2,8.0000000000000002E-3,-1.1200000000000001,-2.8E-3,-1.6999999999999999E-3,-3.2000000000000002E-3,-5.9999999999999995E-4,null,0,0]
["UGe",25.51,3.9399999999999998E-2,null,null,null,-1.6000000000000001E-3,-3.2000000000000002E-3,0,1.21E-2,-5.9999999999999995E-4,null,null,null,null,null,null,null,null,null,null,null,null,0,-0.87,-1.4E-3,1.11E-2,8.5000000000000006E-3,-0.87,-1.4E-3,-1.6000000000000001E-3,-3.2000000000000002E-3,-5.9999999999999995E-4,null,0,0]
["St Lgt",3.42,0.12970000000000001,null,null,null,-1.8E-3,-3.2000000000000002E-3,0,1.21E-2,-5.9999999999999995E-4,null,null,null,null,null,null,null,null,null,null,null,null,0,-0.12,-4.4000000000000003E-3,7.6E-3,5.7999999999999996E-3,-0.12,-4.4000000000000003E-3,-1.8E-3,-3.2000000000000002E-3,-5.9999999999999995E-4,null,0,0]
["Sen Lgt",3.51,0.20019999999999999,null,null,null,-1.8E-3,-3.2000000000000002E-3,0,1.21E-2,-5.9999999999999995E-4,null,null,null,null,null,null,null,null,null,null,null,null,0,-0.12,-6.8999999999999999E-3,7.6E-3,5.7999999999999996E-3,-0.12,-6.8999999999999999E-3,-1.8E-3,-3.2000000000000002E-3,-5.9999999999999995E-4,null,0,0]
["USL",38.29,3.95E-2,null,null,null,-1.5E-3,-3.2000000000000002E-3,0,1.21E-2,-5.9999999999999995E-4,null,null,null,null,null,null,null,null,null,null,null,null,0,-1.31,-1.4E-3,8.6999999999999994E-3,6.4000000000000003E-3,-1.31,-1.4E-3,-1.5E-3,-3.2000000000000002E-3,-5.9999999999999995E-4,null,0,0]
["GSd",105.55,22.520099999999999,null,null,null,-0.47470000000000001,-0.99119999999999997,-7.3300000000000004E-2,1.21E-2,-0.1893,null,null,null,null,null,null,null,null,null,null,null,null,0,-3.62,-0.76829999999999998,3.3593000000000002,2.5541,-3.62,-0.76829999999999998,-0.54800000000000004,-0.99119999999999997,-0.1893,{"$f":"J18+O18","v":1.21E-2},0,0]
["UGd",96.47,13.1059,null,null,null,-0.5696,-1.2267999999999999,-9.0700000000000003E-2,1.21E-2,-0.23530000000000001,null,null,null,null,null,null,null,null,null,null,null,null,0,-3.31,-0.44490000000000002,4.2939999999999996,3.2086999999999999,-3.31,-0.44490000000000002,-0.6603,-1.2267999999999999,-0.23530000000000001,1.21E-2,0,0]
["Dgen",199.26,15.731400000000001,null,null,null,-0.2301,-0.46739999999999998,-3.4599999999999999E-2,1.21E-2,-8.9599999999999999E-2,null,null,null,null,null,null,null,null,null,null,null,null,0,-6.83,-0.52259999999999995,1.8435999999999999,1.0959000000000001,-6.83,-0.52259999999999995,-0.26469999999999999,-0.46739999999999998,-8.9599999999999999E-2,1.21E-2,0,0]
["ST",1241.8699999999999,1.8196000000000001,null,null,null,-0.58379999999999999,-1.3452,-9.9500000000000005E-2,1.21E-2,-0.21479999999999999,null,null,null,null,null,null,null,null,null,null,null,null,0,-37.83,-6.8599999999999994E-2,5.6567999999999996,4.4273999999999996,-37.83,-6.8599999999999994E-2,-0.68330000000000002,-1.3452,-0.21479999999999999,1.21E-2,0,0]
["AUR",36.090000000000003,0,null,null,null,-1.8E-3,-3.2000000000000002E-3,0,1.21E-2,-5.9999999999999995E-4,null,null,null,null,null,null,null,null,null,null,null,null,0,-1.24,0,1.4500000000000001E-2,1.04E-2,-1.24,0,-1.8E-3,-3.2000000000000002E-3,-5.9999999999999995E-4,null,0,0]
["AUGe",26.36,1.9E-2,null,null,null,-1.8E-3,-3.2000000000000002E-3,0,1.21E-2,-5.9999999999999995E-4,null,null,null,null,null,null,null,null,null,null,null,null,0,-0.9,-6.9999999999999999E-4,1.12E-2,8.3999999999999995E-3,-0.9,-6.9999999999999999E-4,-1.8E-3,-3.2000000000000002E-3,-5.9999999999999995E-4,null,0,0]
["AUGd",146.47,3.3805999999999998,null,null,null,-0.69069999999999998,-1.1192,-8.2799999999999999E-2,1.21E-2,-0.21640000000000001,null,null,null,null,null,null,null,null,null,null,null,null,0,-5.0199999999999996,-0.1051,3.8921000000000001,2.8993000000000002,-5.0199999999999996,-0.1051,-0.77349999999999997,-1.1192,-0.21640000000000001,1.21E-2,0,0]
["AR",43.81,0,null,null,null,-1.6999999999999999E-3,-3.2000000000000002E-3,0,1.21E-2,-5.9999999999999995E-4,null,null,null,null,null,null,null,null,null,null,null,null,0,-1.5,0,1.3899999999999999E-2,0.01,-1.5,0,-1.6999999999999999E-3,-3.2000000000000002E-3,-5.9999999999999995E-4,null,0,0]
["AGSe",39.96,2.3599999999999999E-2,null,null,null,-1.6999999999999999E-3,-3.2000000000000002E-3,0,1.21E-2,-5.9999999999999995E-4,null,null,null,null,null,null,null,null,null,null,null,null,0,-1.37,-8.0000000000000004E-4,1.0999999999999999E-2,8.3000000000000001E-3,-1.37,-8.0000000000000004E-4,-1.6999999999999999E-3,-3.2000000000000002E-3,-5.9999999999999995E-4,null,0,0]
["AGSd",170.26,5.431,null,null,null,-0.56440000000000001,-1.1338999999999999,-8.3799999999999999E-2,1.21E-2,-0.2167,null,null,null,null,null,null,null,null,null,null,null,null,0,-5.84,-0.17749999999999999,3.4169999999999998,2.6092,-5.84,-0.17749999999999999,-0.6482,-1.1338999999999999,-0.2167,1.21E-2,0,0]
["AUR-WHSI",36.090000000000003,0,null,null,null,-1.8E-3,-3.2000000000000002E-3,0,1.21E-2,-5.9999999999999995E-4,null,null,null,null,null,null,null,null,null,null,null,null,0,-1.24,0,1.4500000000000001E-2,1.04E-2,-1.24,0,-1.8E-3,-3.2000000000000002E-3,-5.9999999999999995E-4,null,0,0]
["AUGe-WHSI",26.36,1.9E-2,null,null,null,-1.8E-3,-3.2000000000000002E-3,0,1.21E-2,-5.9999999999999995E-4,null,null,null,null,null,null,null,null,null,null,null,null,0,-0.9,-6.9999999999999999E-4,1.12E-2,8.3999999999999995E-3,-0.9,-6.9999999999999999E-4,-1.8E-3,-3.2000000000000002E-3,-5.9999999999999995E-4,null,0,0]
["AUGd-WHSI",146.47,3.3805999999999998,null,null,null,-0.69069999999999998,-1.1192,-8.2799999999999999E-2,1.21E-2,-0.21640000000000001,null,null,null,null,null,null,null,null,null,null,null,null,0,-5.0199999999999996,-0.1051,3.8921000000000001,2.8993000000000002,-5.0199999999999996,-0.1051,-0.77349999999999997,-1.1192,-0.21640000000000001,1.21E-2,0,0]
["ST-WHSI",1241.8699999999999,1.8196000000000001,null,null,null,-0.58379999999999999,-1.3452,-9.9500000000000005E-2,1.21E-2,-0.21479999999999999,null,null,null,null,null,null,null,null,null,null,null,null,0,-37.83,-6.8599999999999994E-2,5.6567999999999996,4.4273999999999996,-37.83,-6.8599999999999994E-2,-0.68330000000000002,-1.3452,-0.21479999999999999,1.21E-2,0,0]
["St Lgt-WHSI",3.42,0.12970000000000001,null,null,null,-1.8E-3,-3.2000000000000002E-3,0,1.21E-2,-5.9999999999999995E-4,null,null,null,null,null,null,null,null,null,null,null,null,0,-0.12,-4.4000000000000003E-3,7.6E-3,5.7999999999999996E-3,-0.12,-4.4000000000000003E-3,-1.8E-3,-3.2000000000000002E-3,-5.9999999999999995E-4,null,0,0]
["USL-WHSI",38.29,3.95E-2,null,null,null,-1.5E-3,-3.2000000000000002E-3,0,1.21E-2,-5.9999999999999995E-4,null,null,null,null,null,null,null,null,null,null,null,null,0,-1.31,-1.4E-3,8.6999999999999994E-3,6.4000000000000003E-3,-1.31,-1.4E-3,-1.5E-3,-3.2000000000000002E-3,-5.9999999999999995E-4,null,0,0]
["AR-NPDI",43.81,0,null,null,null,-1.6999999999999999E-3,-3.2000000000000002E-3,0,1.21E-2,-5.9999999999999995E-4,null,null,null,null,null,null,null,null,null,null,null,null,0,-1.5,0,1.3899999999999999E-2,0.01,-1.5,0,-1.6999999999999999E-3,-3.2000000000000002E-3,-5.9999999999999995E-4,null,0,0]
["AGSe-NPDI",39.96,2.3599999999999999E-2,null,null,null,-1.6999999999999999E-3,-3.2000000000000002E-3,0,1.21E-2,-5.9999999999999995E-4,null,null,null,null,null,null,null,null,null,null,null,null,0,-1.37,-8.0000000000000004E-4,1.0999999999999999E-2,8.3000000000000001E-3,-1.37,-8.0000000000000004E-4,-1.6999999999999999E-3,-3.2000000000000002E-3,-5.9999999999999995E-4,null,0,0]
["AGSd-NPDI",170.26,5.431,null,null,null,-0.56440000000000001,-1.1338999999999999,-8.3799999999999999E-2,1.21E-2,-0.2167,null,null,null,null,null,null,null,null,null,null,null,null,0,-5.84,-0.17749999999999999,3.4169999999999998,2.6092,-5.84,-0.17749999999999999,-0.6482,-1.1338999999999999,-0.2167,1.21E-2,0,0]
["St Lgt-NPDI",3.42,0.12970000000000001,null,null,null,-1.8E-3,-3.2000000000000002E-3,0,1.21E-2,-5.9999999999999995E-4,null,null,null,null,null,null,null,null,null,null,null,null,0,-0.12,-4.4000000000000003E-3,7.6E-3,5.7999999999999996E-3,-0.12,-4.4000000000000003E-3,-1.8E-3,-3.2000000000000002E-3,-5.9999999999999995E-4,null,0,0]
["Sen Lgt-NPDI",3.51,0.20019999999999999,null,null,null,-1.8E-3,-3.2000000000000002E-3,0,1.21E-2,-5.9999999999999995E-4,null,null,null,null,null,null,null,null,null,null,null,null,0,-0.12,-6.8999999999999999E-3,7.6E-3,5.7999999999999996E-3,-0.12,-6.8999999999999999E-3,-1.8E-3,-3.2000000000000002E-3,-5.9999999999999995E-4,null,0,0]
["USL-NPDI",38.29,3.95E-2,null,null,null,-1.5E-3,-3.2000000000000002E-3,0,1.21E-2,-5.9999999999999995E-4,null,null,null,null,null,null,null,null,null,null,null,null,0,-1.31,-1.4E-3,8.6999999999999994E-3,6.4000000000000003E-3,-1.31,-1.4E-3,-1.5E-3,-3.2000000000000002E-3,-5.9999999999999995E-4,null,0,0]
["AR-HCHI",43.81,0,null,null,null,-1.6999999999999999E-3,-3.2000000000000002E-3,0,1.21E-2,-5.9999999999999995E-4,null,null,null,null,null,null,null,null,null,null,null,null,0,-1.5,0,1.3899999999999999E-2,0.01,-1.5,0,-1.6999999999999999E-3,-3.2000000000000002E-3,-5.9999999999999995E-4,null,0,0]
["AGSe-HCHI",39.96,2.3599999999999999E-2,null,null,null,-1.6999999999999999E-3,-3.2000000000000002E-3,0,1.21E-2,-5.9999999999999995E-4,null,null,null,null,null,null,null,null,null,null,null,null,0,-1.37,-8.0000000000000004E-4,1.0999999999999999E-2,8.3000000000000001E-3,-1.37,-8.0000000000000004E-4,-1.6999999999999999E-3,-3.2000000000000002E-3,-5.9999999999999995E-4,null,0,0]
["AGSd-HCHI",170.26,5.431,null,null,null,-0.56440000000000001,-1.1338999999999999,-8.3799999999999999E-2,1.21E-2,-0.2167,null,null,null,null,null,null,null,null,null,null,null,null,0,-5.84,-0.17749999999999999,3.4169999999999998,2.6092,-5.84,-0.17749999999999999,-0.6482,-1.1338999999999999,-0.2167,1.21E-2,0,0]
["St Lgt-HCHI",3.42,0.12970000000000001,null,null,null,-1.8E-3,-3.2000000000000002E-3,0,1.21E-2,-5.9999999999999995E-4,null,null,null,null,null,null,null,null,null,null,null,null,0,-0.12,-4.4000000000000003E-3,7.6E-3,5.7999999999999996E-3,-0.12,-4.4000000000000003E-3,-1.8E-3,-3.2000000000000002E-3,-5.9999999999999995E-4,null,0,0]
["Sen Lgt-HCHI",3.51,0.20019999999999999,null,null,null,-1.8E-3,-3.2000000000000002E-3,0,1.21E-2,-5.9999999999999995E-4,null,null,null,null,null,null,null,null,null,null,null,null,0,-0.12,-6.8999999999999999E-3,7.6E-3,5.7999999999999996E-3,-0.12,-6.8999999999999999E-3,-1.8E-3,-3.2000000000000002E-3,-5.9999999999999995E-4,null,0,0]
["USL-HCHI",38.29,3.95E-2,null,null,null,-1.5E-3,-3.2000000000000002E-3,0,1.21E-2,-5.9999999999999995E-4,null,null,null,null,null,null,null,null,null,null,null,null,0,-1.31,-1.4E-3,8.6999999999999994E-3,6.4000000000000003E-3,-1.31,-1.4E-3,-1.5E-3,-3.2000000000000002E-3,-5.9999999999999995E-4,null,0,0]
["R1-CPUC",74.62,0,null,null,null,null,null,null,null,null,1.1999999999999999E-3,-1E-3,null,1.12E-2,null,null,null,null,null,null,null,null,0,0,0,1.3100000000000001E-2,9.4000000000000004E-3,null,null,1.1999999999999999E-3,{"$f":"M46","v":-1E-3},null,null,0,0]
["GSe-CPUC",32.78,8.1600000000000006E-2,null,null,null,null,null,null,null,null,1.5E-3,-1E-3,null,1.12E-2,null,null,null,null,null,null,null,null,0,0,0,1.04E-2,8.0000000000000002E-3,null,null,1.5E-3,{"$f":"M47","v":-1E-3},null,null,0,0]
["GSd-CPUC",105.55,22.520099999999999,null,null,null,null,null,null,null,null,0.85340000000000005,-0.3115,null,1.12E-2,null,null,null,null,null,null,null,null,0,0,0,3.3593000000000002,2.5541,null,null,0.85340000000000005,-0.3115,null,1.12E-2,0,0]
["USL-CPUC",38.29,3.95E-2,null,null,null,null,null,null,null,null,1.4E-3,-1E-3,null,0,null,null,null,null,null,null,null,null,0,0,0,8.6999999999999994E-3,6.4000000000000003E-3,null,null,1.4E-3,-1E-3,null,null,0,0]
["Sen Lgt-CPUC",3.51,0.20019999999999999,null,null,null,null,null,null,null,null,1.4E-3,-1E-3,null,1.12E-2,null,null,null,null,null,null,null,null,0,0,0,7.6E-3,5.7999999999999996E-3,null,null,1.4E-3,-1E-3,null,null,0,0]
["St Lgt-CPUC",3.42,0.12970000000000001,null,null,null,null,null,null,null,null,1.8E-3,-1E-3,null,0,null,null,null,null,null,null,null,null,0,0,0,7.6E-3,5.7999999999999996E-3,null,null,1.8E-3,-1E-3,null,null,0,0]

{"sheet":"Data Billing Quantities","index":3,"n_rows":70,"n_cols":16,"rows_kept":70,"cut":false,"hidden":true,"merged":[]}
["Rate Class-Specific Billing Quantities (Applied to Current and Proposed Bill)"]
[]
[null,null,null,null,"Consumption (kWh)",null,null,null,"Peak (kW)",null,null,null,"TOU Split"]
["Rate Class","Loss Factor","Charge Determinant","Commodity Threshold","Low kWh","Typical kWh","Average kWh","High kWh","Low kW","Typical kW","Average kW","High kW","TOU-Off Peak","TOU-Mid Peak","TOU-On Peak","Acquired Street Light Service Charge"]
["UR",1.0569999999999999,"kWh",600,340,750,690,1260,null,null,null,null,0.64,0.18,0.18]
["R1",1.0760000000000001,"kWh",600,370,750,784,1650,null,null,null,null,{"$f":"M$5","v":0.64},{"$f":"N$5","v":0.18},{"$f":"O$5","v":0.18}]
["R2",1.105,"kWh",600,440,750,978,2110,null,null,null,null,{"$f":"M$5","v":0.64},0.18,0.18]
["Seasonal",1.1040000000000001,"kWh",600,40,null,369,1040,null,null,null,null,0.64,0.18,0.18]
["Seas-UR",{"$f":"B5","v":1.0569999999999999},{"$f":"C5","v":"kWh"},600,{"$f":"E8","v":40},null,{"$f":"G8","v":369},{"$f":"H8","v":1040},null,null,null,null,0.64,0.18,0.18]
["Seas-R1",{"$f":"B6","v":1.0760000000000001},{"$f":"C6","v":"kWh"},600,{"$f":"E8","v":40},null,{"$f":"G8","v":369},{"$f":"H8","v":1040},null,null,null,null,0.64,0.18,0.18]
["Seas-R2",{"$f":"B7","v":1.105},{"$f":"C7","v":"kWh"},600,{"$f":"E8","v":40},null,{"$f":"G8","v":369},{"$f":"H8","v":1040},null,null,null,null,0.64,0.18,0.18]
["GSe",1.0960000000000001,"kWh",750,60,2000,1887,5570,null,null,null,null,0.64,0.18,0.18]
["UGe",1.0669999999999999,"kWh",750,180,2000,2494,6930,null,null,null,null,0.64,0.18,0.18]
["St Lgt",1.0920000000000001,"kWh",750,30,null,1274,2310,null,null,null,null,0.64,0.18,0.18]
["Sen Lgt",1.0920000000000001,"kWh",750,20,null,49,80,null,null,null,null,0.64,0.18,0.18]
["USL",1.0920000000000001,"kWh",750,100,null,477,550,null,null,null,null,0.64,0.18,0.18]
["GSd",1.0609999999999999,"kW",0,9310,null,34334,75790,55,null,110,250]
["UGd",1.05,"kW",0,13900,null,42592,97610,55,null,111,280]
["Dgen",1.0609999999999999,"kW",0,10,null,1709,8490,2.9416666666666664E-2,null,12,45]
["ST",1.034,"kW",0,88780,null,1373443,2641420,500,null,2808,13730]
["WHSI_RES",1.0430999999999999,"kWh",600,310,750,636,1160,null,null,null,null,{"$f":"M$5","v":0.64},0.18,0.18]
["WHSI_GS<50",1.0430999999999999,"kWh",750,190,2000,2471,7240,null,null,null,null,0.64,0.18,0.18]
["WHSI_GS 50-999",1.0430999999999999,"kW",null,9370,null,47636,137890,50,null,134,340]
["WHSI_GS >1,000kW",1.0326,"kW",null,null,null,895853,null,null,null,3301,null,{"$f":"M$5","v":0.64},0.18,0.18]
["WHSI_St Lgt",1.0430999999999999,"kW",750,null,null,37079,null,null,null,104,null,0.64,0.18,0.18,1]
["WHSI_USL",1.0430999999999999,"kWh",750,null,null,1349,null,null,null,null,null,{"$f":"M$5","v":0.64},0.18,0.18]
["NPDI_RES",1.0564,"kWh",600,290,750,692,1230,null,null,null,null,0.64,0.18,0.18]
["NPDI_GS<50",1.0564,"kWh",750,110,2000,2377,6410,null,null,null,null,0.64,0.18,0.18]
["NPDI_GS >50",1.0464,"kW",null,13020,null,70294,129420,55,null,181,300]
["NPDI_St Lgt",1.0564,"kW",750,null,null,11389,null,null,null,39,null,{"$f":"M$5","v":0.64},0.18,0.18,1]
["NPDI_Sen Lgt",1.0564,"kW",750,null,null,108,null,null,null,0.33680272108843551,null,0.64,0.18,0.18]
["NPDI_USL",1.0564,"kWh",750,null,null,904,null,null,null,null,null,{"$f":"M$5","v":0.64},0.18,0.18]
["HCHI_RES",1.0655000000000001,"kWh",600,250,750,742,1410,null,null,null,null,0.64,0.18,0.18]
["HCHI_GS<50",1.0654999999999999,"kWh",750,90,2000,2261,5430,null,null,null,null,0.64,0.18,0.18]
["HCHI_GS >50",1.0548,"kW",null,10880,null,57529,135160,55,null,175,375]
["HCHI_St Lgt",1.0654999999999999,"kW",750,null,null,31001,null,null,null,85,null,0.64,0.18,0.18,1]
["HCHI_Sen Lgt",1.0654999999999999,"kW",750,null,null,61,null,null,null,0.1956473214285713,null,0.64,0.18,0.18]
["HCHI_USL",1.0654999999999999,"kWh",750,null,null,471,null,null,null,null,null,{"$f":"M$5","v":0.64},0.18,0.18]
["AUR",1.0429999999999999,"kWh",600,310,750,636,1160,null,null,null,null,0.64,0.18,0.18]
["AUGe",{"$f":"B39","v":1.0429999999999999},"kWh",750,190,2000,2471,7240,null,null,null,null,0.64,0.18,0.18]
["AUGd",1.0329999999999999,"kW",null,9370,null,47636,137890,50,null,134,340]
["AR",1.0640000000000001,"kWh",600,null,750,null,null,null,null,null,null,{"$f":"M$5","v":0.64},0.18,0.18]
["AGSe",{"$f":"B42","v":1.0640000000000001},"kWh",750,null,2000,null,null,null,null,null,null,0.64,0.18,0.18]
["AGSd",1.0529999999999999,"kW",null,12000,null,64000,132000,55,null,178,340]
["AUR-WHSI",{"$f":"B39","v":1.0429999999999999},"kWh",{"$f":"D39","v":600},310,750,636,1160,null,null,null,null,{"$f":"M$5","v":0.64},0.18,0.18]
["AUGe-WHSI",{"$f":"B40","v":1.0429999999999999},"kWh",{"$f":"D40","v":750},190,2000,2471,7240,null,null,null,null,0.64,0.18,0.18]
["AUGd-WHSI",{"$f":"B41","v":1.0329999999999999},"kW",null,9370,null,47636,137890,50,null,134,340]
["ST-WHSI",{"$f":"B20","v":1.034},"kW",null,null,null,895853,null,null,null,3301]
["St Lgt-WHSI",{"$f":"B14","v":1.0920000000000001},"kWh",{"$f":"D14","v":750},null,null,{"$f":"G25","v":37079},null,null,null,{"$f":"K25","v":104},null,{"$f":"M$5","v":0.64},0.18,0.18,{"$f":"P25","v":1}]
["USL-WHSI",{"$f":"B16","v":1.0920000000000001},"kWh",{"$f":"D16","v":750},null,null,{"$f":"G26","v":1349},null,null,null,null,null,{"$f":"M$5","v":0.64},0.18,0.18]
["AR-NPDI",{"$f":"B42","v":1.0640000000000001},"kWh",{"$f":"D42","v":600},290,750,692,1230,null,null,null,null,0.64,0.18,0.18]
["AGSe-NPDI",{"$f":"B43","v":1.0640000000000001},"kWh",{"$f":"D43","v":750},110,2000,2377,6410,null,null,null,null,0.64,0.18,0.18]
["AGSd-NPDI",{"$f":"B44","v":1.0529999999999999},"kW",{"$f":"D44","v":0},13020,null,70294,129420,55,null,181,300]
["St Lgt-NPDI",{"$f":"B14","v":1.0920000000000001},"kWh",{"$f":"D14","v":750},null,null,{"$f":"G30","v":11389},null,null,null,{"$f":"K30","v":39},null,{"$f":"M$5","v":0.64},0.18,0.18,{"$f":"P30","v":1}]
["Sen Lgt-NPDI",{"$f":"B15","v":1.0920000000000001},"kWh",{"$f":"D15","v":750},null,null,{"$f":"G31","v":108},null,null,null,{"$f":"K31","v":0.33680272108843551},null,{"$f":"M$5","v":0.64},0.18,0.18]
["USL-NPDI",{"$f":"B16","v":1.0920000000000001},"kWh",{"$f":"D16","v":750},null,null,{"$f":"G32","v":904},null,null,null,null,null,{"$f":"M$5","v":0.64},0.18,0.18]
["AR-HCHI",{"$f":"B51","v":1.0640000000000001},"kWh",600,250,750,742,1410,null,null,null,null,0.64,0.18,0.18]
["AGSe-HCHI",1.0640000000000001,"kWh",750,90,2000,2261,5430,null,null,null,null,0.64,0.18,0.18]
["AGSd-HCHI",1.0529999999999999,"kW",0,10880,null,57529,135160,55,null,175,375]
["St Lgt-HCHI",1.0920000000000001,"kWh",750,null,null,{"$f":"G36","v":31001},null,null,null,{"$f":"K36","v":85},null,0.64,0.18,0.18,{"$f":"P36","v":1}]
["Sen Lgt-HCHI",1.0920000000000001,"kWh",750,null,null,{"$f":"G37","v":61},null,null,null,{"$f":"K37","v":0.1956473214285713},null,0.64,0.18,0.18]
["USL-HCHI",1.0920000000000001,"kWh",750,null,null,{"$f":"G38","v":471},null,null,null,null,null,0.64,0.18,0.18]
["R1-CPUC",{"$f":"B6","v":1.0760000000000001},"kWh",{"$f":"D57","v":600},370,{"$f":"F6","v":750},null,2100,null,null,null,null,0.64,0.18,0.18]
["GSe-CPUC",{"$f":"B12","v":1.0960000000000001},"kWh",{"$f":"D58","v":750},100,{"$f":"F12","v":2000},null,6600,null,null,null,null,0.64,0.18,0.18]
["GSd-CPUC",{"$f":"B17","v":1.0609999999999999},"kW",{"$f":"D59","v":0},12900,null,29000,72900,50,null,90,240]
["USL-CPUC",{"$f":"B16","v":1.0920000000000001},"kWh",{"$f":"D60","v":750},null,null,60]
["Sen Lgt-CPUC",{"$f":"B15","v":1.0920000000000001},"kWh",{"$f":"D61","v":750},null,null,220,null,null,null,0.6,null,null,null,null,1]
["St Lgt-CPUC",{"$f":"B14","v":1.0920000000000001},"kWh",{"$f":"D62","v":750},null,null,8300,null,null,null,21,null,null,null,null,1]
["Sen Lgt-HONI",{"$f":"B15","v":1.0920000000000001},"kWh",750,null,null,220]
["St Lgt-HONI",{"$f":"B16","v":1.0920000000000001},"kWh",750,null,null,8300]

{"sheet":"Data Pass Through","index":4,"n_rows":22,"n_cols":5,"rows_kept":22,"cut":false,"hidden":true,"merged":[]}
["3. Pass Through Charges"]
[null,"Current Bill","Proposed Bill"]
["Effective Date","2025-07-01","2026-01-01","TOU %","Notes"]
["RRRP Adjustment",60.5,60.5]
["RPP Tier 1",0.12,{"$f":"B5","v":0.12},null,"Effective Nov 1 2025"]
["RPP Tier 2",0.14199999999999999,0.14199999999999999,null,"Effective Nov 1 2025"]
["Average IESO Wholesale Market Price",0.15959999999999999,0.15959999999999999,null,"Consistent with 2026 IRM Rate Generator"]
["TOU-Off Peak",9.8000000000000004E-2,9.8000000000000004E-2,0.64,"Effective Nov 1 2025"]
["TOU-Mid Peak",0.157,0.157,0.18,"Effective Nov 1 2025"]
["TOU-On Peak",0.20300000000000001,0.20300000000000001,0.18,"Effective Nov 1 2025"]
["Wholesale Market Service Rate (WMS) – not including CBR",4.1000000000000003E-3,4.1000000000000003E-3,null,"Effective Jan 1 2025, 0.0045 WMSC broken up between WMSC and CBR"]
["Capacity Based Recovery (CBR) – Applicable for Class B Customers",5.9999999999999995E-4,5.9999999999999995E-4,null,"Effective Jan 1 2025, 0.0045 WMSC broken up between WMSC and CBR"]
["Rural Rate Protection Charge",5.9999999999999995E-4,5.9999999999999995E-4,null,"Effective Jan 1 2025"]
["Ontario Electricity Support Program Charge",0,{"$f":"B14","v":0},null,"OESP charge removed for all rate classes effective May 1, 2017. ROW HIDDEN IN BILL IMPACT FILE"]
["Standard Supply Service – Administration Charge (if applicable)",0.25,0.25]
["DRP limit (applied when selected from Bill Impact Summary)",42.88,42.88,null,"DRP cap as of Jul 1, 2025"]
["Smart Meter Entity Charge (if applicable)",0.42,0.42,null,"Effective Jan 1 2023; only for metered energy-billed (UR, R1, R2, GSE, UGE, AUR, AUGE, AR, AGSE)"]
["Debt Retirement Charge (DRC)",0,0,null,"DRC removed from all rate classes Apr 1 2018  ROW HIDDEN IN BILL IMPACT FILE"]
["Ontario Electricity Rebate (OER)",-0.23499999999999999,{"$f":"B19","v":-0.23499999999999999},null,"Effective Nov 1 2025"]
[]
["Customer Attributes - Assumptions"]
["ST customers are assumed to be Non-WMP, Class A"]

{"sheet":"Data BI Summary","index":5,"n_rows":5,"n_cols":5,"rows_kept":5,"cut":false,"hidden":true,"merged":[[0,0,1,0],[0,1,0,3]]}
["Summary Column","Sub-Total",null,null,"Total"]
[null,"A","B","C","Total Bill"]
["BI Template_Energy","Sub-Total A (excluding pass through)","Sub-Total B - Distribution (includes Sub-Total A)","Sub-Total C - Delivery (including Sub-Total B)","Total Bill on TOU"]
["BI Template_Demand","Sub-Total A (excluding pass through)","Sub-Total B - Distribution (includes Sub-Total A)","Sub-Total C - Delivery (including Sub-Total B)","Total Bill on Average IESO Wholesale Market Price"]
["BI Template_Unmtr","Sub-Total A (excluding pass through)","Sub-Total B - Distribution (includes Sub-Total A)","Sub-Total C - Delivery (including Sub-Total B)","Total Bill on Two-Tier RPP"]

{"sheet":"Data BI List","index":6,"n_rows":48,"n_cols":3,"rows_kept":48,"cut":false,"hidden":true,"merged":[]}
["Template Name","Bill Impact Worksheet Name","Bill Impact Header"]
["BI Template_Energy","BI_UR_Typical","Bill Impacts (Typical Consumption Level) - UR"]
["BI Template_Energy","BI_R1_Typical (with DRP)","Bill Impacts (Typical Consumption Level) - R1"]
["BI Template_Energy","BI_R1_Typical (without DRP)","Bill Impacts (Typical Consumption Level) - R1"]
["BI Template_Energy","BI_R2_Typical (with DRP)","Bill Impacts (Typical Consumption Level) - R2"]
["BI Template_Energy","BI_R2_Typical (without DRP)","Bill Impacts (Typical Consumption Level) - R2"]
["BI Template_Energy","BI_Seas_UR_Avg","Bill Impacts (Average Consumption Level) - Seas-UR"]
["BI Template_Energy","BI_Seas_R1_Avg","Bill Impacts (Average Consumption Level) - Seas-R1"]
["BI Template_Energy","BI_Seas_R2_Avg","Bill Impacts (Average Consumption Level) - Seas-R2"]
["BI Template_Energy","BI_GSe_Typical","Bill Impacts (Typical Consumption Level) - GSe"]
["BI Template_Energy","BI_UGe_Typical","Bill Impacts (Typical Consumption Level) - UGe"]
["BI Template_Demand","BI_GSd_Avg","Bill Impacts (Average Consumption Level) - GSd"]
["BI Template_Demand","BI_UGd_Avg","Bill Impacts (Average Consumption Level) - UGd"]
["BI Template_Unmtr","BI_StLgt_Avg","Bill Impacts (Average Consumption Level) - St Lgt"]
["BI Template_Unmtr","BI_SenLgt_Avg","Bill Impacts (Average Consumption Level) - Sen Lgt"]
["BI Template_Unmtr","BI_USL_Avg","Bill Impacts (Average Consumption Level) - USL"]
["BI Template_Demand","BI_Dgen_Avg","Bill Impacts (Average Consumption Level) - Dgen"]
["BI Template_Demand","BI_ST_Avg","Bill Impacts (Average Consumption Level) - ST"]
["BI Template_Energy","BI_AUR_Typical","Bill Impacts (Typical Consumption Level) - AUR"]
["BI Template_Energy","BI_AUGe_Typical","Bill Impacts (Typical Consumption Level) - AUGe"]
["BI Template_Demand","BI_AUGd_Average","Bill Impacts (Average Consumption Level) - AUGd"]
["BI Template_Energy","BI_AR_Typical","Bill Impacts (Typical Consumption Level) - AR"]
["BI Template_Energy","BI_AGSe_Typical","Bill Impacts (Typical Consumption Level) - AGSe"]
["BI Template_Demand","BI_AGSd_Average","Bill Impacts (Average Consumption Level) - AGSd"]
["BI Template_Energy","BI_WHSI_AUR_Typical","Bill Impacts (Typical Consumption Level) - AUR-WHSI"]
["BI Template_Energy","BI_WHSI_AUGe_Typical","Bill Impacts (Typical Consumption Level) - AUGe-WHSI"]
["BI Template_Demand","BI_WHSI_AUGd_Avg","Bill Impacts (Average Consumption Level) - AUGd-WHSI"]
["BI Template_Demand","BI_WHSI_ST_Avg","Bill Impacts (Average Consumption Level) - ST-WHSI"]
["BI Template_Energy","BI_NPDI_AR_Typical","Bill Impacts (Typical Consumption Level) - AR-NPDI"]
["BI Template_Energy","BI_HCHI_AR_Typical","Bill Impacts (Typical Consumption Level) - AR-HCHI"]
["BI Template_Energy","BI_NPDI_AGSe_Typical","Bill Impacts (Typical Consumption Level) - AGSe-NPDI"]
["BI Template_Energy","BI_HCHI_AGSe_Typical","Bill Impacts (Typical Consumption Level) - AGSe-HCHI"]
["BI Template_Demand","BI_NPDI_AGSd_Avg","Bill Impacts (Average Consumption Level) - AGSd-NPDI"]
["BI Template_Demand","BI_HCHI_AGSd_Avg","Bill Impacts (Average Consumption Level) - AGSd-HCHI"]
["BI Template_Unmtr","BI_WHSI_USL_Avg","Bill Impacts (Average Consumption Level) - USL-WHSI"]
["BI Template_Unmtr","BI_NPDI_USL_Avg","Bill Impacts (Average Consumption Level) - USL-NPDI"]
["BI Template_Unmtr","BI_HCHI_USL_Avg","Bill Impacts (Average Consumption Level) - USL-HCHI"]
["BI Template_Unmtr","BI_WHSI_StLgt_Avg","Bill Impacts (Average Consumption Level) - St Lgt-WHSI"]
["BI Template_Unmtr","BI_NPDI_StLgt_Avg","Bill Impacts (Average Consumption Level) - St Lgt-NPDI"]
["BI Template_Unmtr","BI_HCHI_StLgt_Avg","Bill Impacts (Average Consumption Level) - St Lgt-HCHI"]
["BI Template_Unmtr","BI_NPDI_SenLgt_Avg","Bill Impacts (Average Consumption Level) - Sen Lgt-NPDI"]
["BI Template_Unmtr","BI_HCHI_SenLgt_Avg","Bill Impacts (Average Consumption Level) - Sen Lgt-HCHI"]
["BI Template_Energy","BI_CPUC_R1_Typical","Bill Impacts (Typical Consumption Level) - R1-CPUC"]
["BI Template_Energy","BI_CPUC_GSe_Typical","Bill Impacts (Typical Consumption Level) - GSe-CPUC"]
["BI Template_Demand","BI_CPUC_GSd_Avg","Bill Impacts (Average Consumption Level) - GSd-CPUC"]
["BI Template_Unmtr","BI_CPUC_USL_Avg","Bill Impacts (Average Consumption Level) - USL-CPUC"]
["BI Template_Unmtr","BI_CPUC_SenLgt_Avg","Bill Impacts (Average Consumption Level) - Sen Lgt-CPUC"]
["BI Template_Unmtr","BI_CPUC_StLgt_Avg","Bill Impacts (Average Consumption Level) - St Lgt-CPUC"]

{"sheet":"BI Template_Energy","index":7,"n_rows":39,"n_cols":9,"rows_kept":39,"cut":false,"hidden":true,"merged":[[0,0,0,10],[8,0,9,0],[8,1,8,3],[8,4,8,6],[8,7,8,8]]}
["Bill Impacts (Typical Consumption Level) - R1"]
[]
["Rate Class",{"$f":"RIGHT(A1,LEN(A1)-FIND(\"- \",A1,1)-1)","v":"R1"}]
["Monthly Consumption (kWh)",{"$f":"IF(COUNTIF(A1,\"*Low*\")>0,VLOOKUP(B3,'Data Billing Quantities'!$A:$Z,MATCH(\"Low kWh\",'Data Billing Quantities'!4:4,0),FALSE),IF(COUNTIF(A1,\"*Typical*\")>0,VLOOKUP(B3,'Data Billing Quantities'!$A:$Z,MATCH(\"Typical kWh\",'Data Billing Quantities'!4:4,0),FALSE),IF(COUNTIF(A1,\"*Average*\")>0,VLOOKUP(B3,'Data Billing Quantities'!$A:$Z,MATCH(\"Average kWh\",'Data Billing Quantities'!4:4,0),FALSE),IF(COUNTIF(A1,\"*High*\")>0,VLOOKUP(B3,'Data Billing Quantities'!$A:$Z,MATCH(\"High kWh\",'Data Billing Quantities'!4:4,0),FALSE),\"error\"))))","v":750}]
["Peak (kW)",{"$f":"IF(COUNTIF(A1,\"*Low*\")>0,VLOOKUP(B3,'Data Billing Quantities'!$A:$Z,MATCH(\"Low kW\",'Data Billing Quantities'!4:4,0),FALSE),IF(COUNTIF(A1,\"*Typical*\")>0,VLOOKUP(B3,'Data Billing Quantities'!$A:$Z,MATCH(\"Typical kW\",'Data Billing Quantities'!4:4,0),FALSE),IF(COUNTIF(A1,\"*Average*\")>0,VLOOKUP(B3,'Data Billing Quantities'!$A:$Z,MATCH(\"Average kW\",'Data Billing Quantities'!4:4,0),FALSE),IF(COUNTIF(A1,\"*High*\")>0,VLOOKUP(B3,'Data Billing Quantities'!$A:$Z,MATCH(\"High kW\",'Data Billing Quantities'!4:4,0),FALSE),\"error\"))))","v":0}]
["Loss factor",{"$f":"VLOOKUP(B3,'Data Billing Quantities'!A:D,MATCH(A6,'Data Billing Quantities'!4:4,0),FALSE)","v":1.0760000000000001}]
["Charge determinant",{"$f":"VLOOKUP(B3,'Data Billing Quantities'!A:D,MATCH(A7,'Data Billing Quantities'!4:4,0),FALSE)","v":"kWh"}]
[]
[null,"Current OEB-Approved",null,null,"Proposed",null,null,"Impact"]
[null,"Rate ($)","Volume","Charge ($)","Rate ($)","Volume","Charge ($)","$ Change","% Change"]
["Service Charge",{"$f":"VLOOKUP($B$3,'Data Current Rates'!$A:$AO,MATCH('BI Template_Energy'!$A11,CurrentHeader,0),FALSE)","v":71.05},1,{"$f":"B11*C11","v":71.05},{"$f":"VLOOKUP($B$3,'Data Proposed Rates'!$A:$AT,MATCH('BI Template_Energy'!$A11,ProposedHeader,0),FALSE)","v":74.62},1,{"$f":"E11*F11","v":74.62},{"$f":"G11-D11","v":3.5700000000000074},{"$f":"IF(ISERROR(H11/ABS(D11)),\"N/A\",(H11/ABS(D11)))","v":5.0246305418719321E-2}]
["Distribution Volumetric Charge",{"$f":"VLOOKUP($B$3,'Data Current Rates'!$A:$AO,MATCH('BI Template_Energy'!$A12,CurrentHeader,0),FALSE)","v":0},{"$f":"IF($B$7=\"kWh\",$B$4,$B$5)","v":750},{"$f":"B12*C12","v":0},{"$f":"VLOOKUP($B$3,'Data Proposed Rates'!$A:$AT,MATCH('BI Template_Energy'!$A12,ProposedHeader,0),FALSE)","v":0},{"$f":"IF($B$7=\"kWh\",$B$4,$B$5)","v":750},0,0,"N/A"]
["RRRP Adjustment",{"$f":"IF($B$3=\"R2\",VLOOKUP(A13,'Data Pass Through'!$A4:$C19,3,0),0)*-1","v":0},1,{"$f":"B13*C13","v":0},{"$f":"IF($B$3=\"R2\",VLOOKUP(A13,'Data Pass Through'!$A4:$C19,3,0),0)*-1","v":0},1,0,0,"N/A"]
["DRP Adjustment",null,null,{"$f":"IF(OR($B$3=\"R1\",$B$3=\"R2\",$B$3=\"R1-CPUC\"),IF(SUM(D11:D13)>'Data Pass Through'!$B$16,-(SUM(D11:D13)-'Data Pass Through'!$B$16),0),0)","v":-28.169999999999995},null,null,{"$f":"IF(OR($B$3=\"R1\",$B$3=\"R2\",$B$3=\"R1-CPUC\"),IF(SUM(G11:G13)>'Data Pass Through'!$B$16,-(SUM(G11:G13)-'Data Pass Through'!$B$16),0),0)","v":-31.740000000000002},-3.5700000000000074,-0.12673056443024522]
["Group 2 Fixed Rate Rider",{"$f":"VLOOKUP($B$3,'Data Current Rates'!$A:$AO,MATCH('BI Template_Energy'!$A15,CurrentHeader,0),FALSE)","v":-0.21},1,{"$f":"B15*C15","v":-0.21},{"$f":"VLOOKUP($B$3,'Data Proposed Rates'!$A:$AT,MATCH('BI Template_Energy'!$A15,ProposedHeader,0),FALSE)","v":-2.56},1,{"$f":"E15*F15","v":-2.56},-2.35,-11.190476190476192]
["Group 2 Volumetric Rate Rider",{"$f":"VLOOKUP($B$3,'Data Current Rates'!$A:$AO,MATCH('BI Template_Energy'!$A16,CurrentHeader,0),FALSE)","v":0},{"$f":"IF($B$7=\"kWh\",$B$4,$B$5)","v":750},{"$f":"B16*C16","v":0},{"$f":"VLOOKUP($B$3,'Data Proposed Rates'!$A:$AT,MATCH('BI Template_Energy'!$A16,ProposedHeader,0),FALSE)","v":0},{"$f":"IF($B$7=\"kWh\",$B$4,$B$5)","v":750},0,{"$f":"G16-D16","v":0},{"$f":"IF(ISERROR(H16/ABS(D16)),\"N/A\",(H16/ABS(D16)))","v":"N/A"}]
["Sub-Total A (excluding pass through)",null,null,{"$f":"SUM(D11:D16)","v":42.67},null,null,{"$f":"SUM(G11:G16)","v":40.32},-2.3500000000000014,-5.5073822357628338E-2]
["Line Losses on Cost of Power",{"$f":"VLOOKUP($B$3,'Data Billing Quantities'!$A:$O,MATCH('BI Template_Energy'!$A32,'Data Billing Quantities'!$4:$4,0),FALSE)*$B32+VLOOKUP($B$3,'Data Billing Quantities'!$A:$O,MATCH('BI Template_Energy'!$A33,'Data Billing Quantities'!$4:$4,0),FALSE)*$B33+VLOOKUP($B$3,'Data Billing Quantities'!$A:$O,MATCH('BI Template_Energy'!$A34,'Data Billing Quantities'!$4:$4,0),FALSE)*$B34","v":0.12752000000000002},{"$f":"($B$6*$B$4)-$B$4","v":57},{"$f":"B18*C18","v":7.2686400000000013},{"$f":"VLOOKUP($B$3,'Data Billing Quantities'!$A:$O,MATCH('BI Template_Energy'!$A32,'Data Billing Quantities'!$4:$4,0),FALSE)*$B32+VLOOKUP($B$3,'Data Billing Quantities'!$A:$O,MATCH('BI Template_Energy'!$A33,'Data Billing Quantities'!$4:$4,0),FALSE)*$B33+VLOOKUP($B$3,'Data Billing Quantities'!$A:$O,MATCH('BI Template_Energy'!$A34,'Data Billing Quantities'!$4:$4,0),FALSE)*$B34","v":0.12752000000000002},{"$f":"($B$6*$B$4)-$B$4","v":57},7.2686400000000013,0,0]
["Total Deferral/Variance Account Rate Rider",{"$f":"VLOOKUP($B$3,'Data Current Rates'!$A:$AO,MATCH('BI Template_Energy'!$A19,CurrentHeader,0),FALSE)","v":-3.7000000000000002E-3},{"$f":"IF($B$7=\"kWh\",$B$4,$B$5)","v":750},-2.7749999999999999,{"$f":"VLOOKUP($B$3,'Data Proposed Rates'!$A:$AT,MATCH('BI Template_Energy'!$A19,ProposedHeader,0),FALSE)","v":-1.6999999999999999E-3},{"$f":"IF($B$7=\"kWh\",$B$4,$B$5)","v":750},-1.2749999999999999,1.5,0.54054054054054057]
["CBR Class B Rate Rider",{"$f":"VLOOKUP($B$3,'Data Current Rates'!$A:$AJ,MATCH('BI Template_Energy'!$A20,CurrentHeader,0),FALSE)","v":1E-4},{"$f":"IF($B$7=\"kWh\",$B$4,$B$5)","v":750},7.4999999999999997E-2,{"$f":"VLOOKUP($B$3,'Data Proposed Rates'!$A:$AT,MATCH('BI Template_Energy'!$A20,ProposedHeader,0),FALSE)","v":-5.9999999999999995E-4},{"$f":"IF($B$7=\"kWh\",$B$4,$B$5)","v":750},-0.44999999999999996,-0.52499999999999991,-6.9999999999999991]
["GA Rate Rider",{"$f":"VLOOKUP($B$3,'Data Current Rates'!$A:$AJ,MATCH('BI Template_Energy'!$A21,CurrentHeader,0),FALSE)","v":0},750,0,{"$f":"VLOOKUP($B$3,'Data Proposed Rates'!$A:$AT,MATCH('BI Template_Energy'!$A21,ProposedHeader,0),FALSE)","v":0},750,0,0,"N/A"]
["Smart Meter Entity Charge (if applicable)",{"$f":"VLOOKUP($A22,'Data Pass Through'!$A:$D,2,FALSE)","v":0.42},1,0.42,{"$f":"VLOOKUP($A22,'Data Pass Through'!$A:$D,2,FALSE)","v":0.42},1,0.42,0,0]
["Rate Rider for Account 1588",null,null,null,{"$f":"VLOOKUP($B$3,'Data Proposed Rates'!$A:$AT,MATCH('BI Template_Energy'!$A23,ProposedHeader,0),FALSE)","v":-3.2000000000000002E-3},{"$f":"IF($B$7=\"kWh\",$B$4,$B$5)","v":750},-2.4,-2.4,"N/A"]
["Sub-Total B - Distribution (includes Sub-Total A)",null,null,{"$f":"SUM(INDIRECT(\"D17:D\"&ROW()-1))","v":47.658640000000013},null,null,{"$f":"SUM(INDIRECT(\"G17:G\"&ROW()-1))","v":43.88364},-3.7750000000000128,-7.92091423506842E-2]
["Retail Transmission Rate – Network Service Rate",{"$f":"VLOOKUP($B$3,'Data Current Rates'!$A:$AJ,MATCH('BI Template_Energy'!$A25,CurrentHeader,0),FALSE)","v":1.2800000000000001E-2},{"$f":"IF($B$7=\"kWh\",$B$4*$B$6,$B$5)","v":807},{"$f":"B25*C25","v":10.329600000000001},{"$f":"VLOOKUP($B$3,'Data Proposed Rates'!$A:$AT,MATCH('BI Template_Energy'!$A25,ProposedHeader,0),FALSE)","v":1.3100000000000001E-2},{"$f":"IF($B$7=\"kWh\",$B$4*$B$6,$B$5)","v":807},10.5717,0.24209999999999887,2.3437499999999889E-2]
["Retail Transmission Rate – Line and Transformation Connection Service Rate",{"$f":"VLOOKUP($B$3,'Data Current Rates'!$A:$AJ,MATCH('BI Template_Energy'!$A26,CurrentHeader,0),FALSE)","v":9.1999999999999998E-3},{"$f":"IF($B$7=\"kWh\",$B$4*$B$6,$B$5)","v":807},7.4243999999999994,{"$f":"VLOOKUP($B$3,'Data Proposed Rates'!$A:$AT,MATCH('BI Template_Energy'!$A26,ProposedHeader,0),FALSE)","v":9.4000000000000004E-3},{"$f":"IF($B$7=\"kWh\",$B$4*$B$6,$B$5)","v":807},7.5857999999999999,0.16140000000000043,2.1739130434782667E-2]
["Sub-Total C - Delivery (including Sub-Total B)",null,null,{"$f":"SUM(D24:D26)","v":65.41264000000001},null,null,{"$f":"SUM(G24:G26)","v":62.041139999999999},-3.3715000000000117,-5.1542026128283631E-2]
["Wholesale Market Service Rate (WMS) – not including CBR",{"$f":"VLOOKUP($A28,'Data Pass Through'!$A:$D,2,FALSE)","v":4.1000000000000003E-3},{"$f":"$B$4*$B$6","v":807},{"$f":"B28*C28","v":3.3087000000000004},{"$f":"VLOOKUP($A28,'Data Pass Through'!$A:$D,3,FALSE)","v":4.1000000000000003E-3},{"$f":"$B$4*$B$6","v":807},3.3087000000000004,0,0]
["Capacity Based Recovery (CBR) – Applicable for Class B Customers",{"$f":"VLOOKUP($A29,'Data Pass Through'!$A:$D,2,FALSE)","v":5.9999999999999995E-4},{"$f":"$B$4*$B$6","v":807},0.48419999999999996,{"$f":"VLOOKUP($A29,'Data Pass Through'!$A:$D,3,FALSE)","v":5.9999999999999995E-4},{"$f":"$B$4*$B$6","v":807},0.48419999999999996,0,0]
["Rural Rate Protection Charge",{"$f":"VLOOKUP($A30,'Data Pass Through'!$A:$D,2,FALSE)","v":5.9999999999999995E-4},{"$f":"$B$4*$B$6","v":807},0.48419999999999996,{"$f":"VLOOKUP($A30,'Data Pass Through'!$A:$D,3,FALSE)","v":5.9999999999999995E-4},{"$f":"$B$4*$B$6","v":807},0.48419999999999996,0,0]
["Standard Supply Service – Administration Charge (if applicable)",{"$f":"VLOOKUP($A31,'Data Pass Through'!$A:$D,2,FALSE)","v":0.25},1,0.25,{"$f":"VLOOKUP($A31,'Data Pass Through'!$A:$D,3,FALSE)","v":0.25},1,0.25,0,0]
["TOU-Off Peak",{"$f":"VLOOKUP($A32,'Data Pass Through'!$A:$D,2,FALSE)","v":9.8000000000000004E-2},{"$f":"B$4*VLOOKUP($B$3,'Data Billing Quantities'!$A:$O,MATCH($A32,'Data Billing Quantities'!$4:$4,0),FALSE)","v":480},47.04,{"$f":"VLOOKUP($A32,'Data Pass Through'!$A:$D,3,FALSE)","v":9.8000000000000004E-2},{"$f":"B$4*VLOOKUP($B$3,'Data Billing Quantities'!$A:$O,MATCH($A32,'Data Billing Quantities'!$4:$4,0),FALSE)","v":480},{"$f":"E32*F32","v":47.04},0,0]
["TOU-Mid Peak",{"$f":"VLOOKUP($A33,'Data Pass Through'!$A:$D,2,FALSE)","v":0.157},{"$f":"B$4*VLOOKUP($B$3,'Data Billing Quantities'!$A:$O,MATCH($A33,'Data Billing Quantities'!$4:$4,0),FALSE)","v":135},21.195,{"$f":"VLOOKUP($A33,'Data Pass Through'!$A:$D,3,FALSE)","v":0.157},{"$f":"B$4*VLOOKUP($B$3,'Data Billing Quantities'!$A:$O,MATCH($A33,'Data Billing Quantities'!$4:$4,0),FALSE)","v":135},{"$f":"E33*F33","v":21.195},0,0]
["TOU-On Peak",{"$f":"VLOOKUP($A34,'Data Pass Through'!$A:$D,2,FALSE)","v":0.20300000000000001},{"$f":"B$4*VLOOKUP($B$3,'Data Billing Quantities'!$A:$O,MATCH($A34,'Data Billing Quantities'!$4:$4,0),FALSE)","v":135},27.405000000000001,{"$f":"VLOOKUP($A34,'Data Pass Through'!$A:$D,3,FALSE)","v":0.20300000000000001},{"$f":"B$4*VLOOKUP($B$3,'Data Billing Quantities'!$A:$O,MATCH($A34,'Data Billing Quantities'!$4:$4,0),FALSE)","v":135},{"$f":"E34*F34","v":27.405000000000001},0,0]
["Total Bill on TOU (before Taxes)",null,null,{"$f":"SUM(D27:D34)","v":165.57974000000002},null,null,{"$f":"SUM(G27:G34)","v":162.20823999999999},-3.3715000000000259,-2.0361790639362193E-2]
["HST",0.13,null,{"$f":"D35*B36","v":21.525366200000004},{"$f":"B36","v":0.13},null,{"$f":"G35*E36","v":21.0870712},-0.43829500000000365,-2.0361790639362203E-2]
["Ontario Electricity Rebate (OER)",{"$f":"IF(($B$4*12)<250000,VLOOKUP($A37,'Data Pass Through'!$A$4:$C$19,2,0),0)","v":-0.23499999999999999},null,{"$f":"D35*B37","v":-38.911238900000001},{"$f":"IF(($B$4*12)<250000,VLOOKUP($A37,'Data Pass Through'!$A$4:$C$19,3,0),0)","v":-0.23499999999999999},null,{"$f":"G35*E37","v":-38.118936399999996},0.79230250000000524,2.0361790639362172E-2]
["Total Bill on TOU",null,null,{"$f":"SUM(D35:D37)","v":148.19386730000002},null,null,{"$f":"SUM(G35:G37)","v":145.17637479999999},-3.0174925000000314,-2.0361790639362248E-2]
["* Distribution rate protection applies to R1 and R2 customers"]

{"sheet":"BI Template_Demand","index":8,"n_rows":34,"n_cols":9,"rows_kept":34,"cut":false,"hidden":true,"merged":[[0,0,0,9],[8,1,8,3],[8,4,8,6],[8,7,8,8]]}
["Bill Impacts (Average Consumption Level) - ST"]
[]
["Rate Class",{"$f":"RIGHT(A1,LEN(A1)-FIND(\"- \",A1,1)-1)","v":"ST"}]
["Monthly Consumption (kWh)",{"$f":"IF(COUNTIF(A1,\"*Low*\")>0,VLOOKUP(B3,'Data Billing Quantities'!$A:$Z,MATCH(\"Low kWh\",'Data Billing Quantities'!4:4,0),FALSE),IF(COUNTIF(A1,\"*Typical*\")>0,VLOOKUP(B3,'Data Billing Quantities'!$A:$Z,MATCH(\"Typical kWh\",'Data Billing Quantities'!4:4,0),FALSE),IF(COUNTIF(A1,\"*Average*\")>0,VLOOKUP(B3,'Data Billing Quantities'!$A:$Z,MATCH(\"Average kWh\",'Data Billing Quantities'!4:4,0),FALSE),IF(COUNTIF(A1,\"*High*\")>0,VLOOKUP(B3,'Data Billing Quantities'!$A:$Z,MATCH(\"High kWh\",'Data Billing Quantities'!4:4,0),FALSE),\"error\"))))","v":1373443}]
["Peak (kW)",{"$f":"IF(COUNTIF(A1,\"*Low*\")>0,VLOOKUP(B3,'Data Billing Quantities'!$A:$Z,MATCH(\"Low kW\",'Data Billing Quantities'!4:4,0),FALSE),IF(COUNTIF(A1,\"*Typical*\")>0,VLOOKUP(B3,'Data Billing Quantities'!$A:$Z,MATCH(\"Typical kW\",'Data Billing Quantities'!4:4,0),FALSE),IF(COUNTIF(A1,\"*Average*\")>0,VLOOKUP(B3,'Data Billing Quantities'!$A:$Z,MATCH(\"Average kW\",'Data Billing Quantities'!4:4,0),FALSE),IF(COUNTIF(A1,\"*High*\")>0,VLOOKUP(B3,'Data Billing Quantities'!$A:$Z,MATCH(\"High kW\",'Data Billing Quantities'!4:4,0),FALSE),\"error\"))))","v":2808}]
["Loss factor",{"$f":"VLOOKUP(B3,'Data Billing Quantities'!A:D,MATCH(A6,'Data Billing Quantities'!4:4,0),FALSE)","v":1.034}]
["Charge determinant",{"$f":"VLOOKUP(B3,'Data Billing Quantities'!A:D,MATCH(A7,'Data Billing Quantities'!4:4,0),FALSE)","v":"kW"}]
[]
[null,"Current OEB-Approved",null,null,"Proposed",null,null,"Impact"]
[null,"Rate","Volume","Charge","Rate","Volume","Charge","$ Change","% Change"]
[null,"($)",null,"($)","($)",null,"($)"]
["Service Charge",{"$f":"VLOOKUP($B$3,'Data Current Rates'!$A:$AO,MATCH('BI Template_Demand'!$A12,CurrentHeader,0),FALSE)","v":1241.8699999999999},1,{"$f":"C12*B12","v":1241.8699999999999},{"$f":"VLOOKUP($B$3,'Data Proposed Rates'!$A:$AT,MATCH('BI Template_Demand'!$A12,ProposedHeader,0),FALSE)","v":1241.8699999999999},1,{"$f":"F12*E12","v":1241.8699999999999},{"$f":"G12-D12","v":0},{"$f":"IF(ISERROR(H12/ABS(D12)),\"N/A\",(H12/ABS(D12)))","v":0}]
["Distribution Volumetric Charge",{"$f":"VLOOKUP($B$3,'Data Current Rates'!$A:$AO,MATCH('BI Template_Demand'!$A13,CurrentHeader,0),FALSE)","v":1.7096},{"$f":"IF($B$7=\"kWh\",$B$4,$B$5)","v":2808},{"$f":"C13*B13","v":4800.5568000000003},{"$f":"VLOOKUP($B$3,'Data Proposed Rates'!$A:$AT,MATCH('BI Template_Demand'!$A13,ProposedHeader,0),FALSE)","v":1.8196000000000001},{"$f":"IF($B$7=\"kWh\",$B$4,$B$5)","v":2808},{"$f":"F13*E13","v":5109.4368000000004},308.88000000000011,6.4342536265793185E-2]
["Group 2 Fixed Rate Rider",{"$f":"VLOOKUP($B$3,'Data Current Rates'!$A:$AO,MATCH('BI Template_Demand'!$A14,CurrentHeader,0),FALSE)","v":0},1,{"$f":"C14*B14","v":0},{"$f":"VLOOKUP($B$3,'Data Proposed Rates'!$A:$AT,MATCH('BI Template_Demand'!$A14,ProposedHeader,0),FALSE)","v":-37.83},1,{"$f":"F14*E14","v":-37.83},-37.83,"N/A"]
["Group 2 Volumetric Rate Rider",{"$f":"VLOOKUP($B$3,'Data Current Rates'!$A:$AO,MATCH('BI Template_Demand'!$A15,CurrentHeader,0),FALSE)","v":-7.1999999999999998E-3},{"$f":"IF($B$7=\"kWh\",$B$4,$B$5)","v":2808},-20.217600000000001,{"$f":"VLOOKUP($B$3,'Data Proposed Rates'!$A:$AT,MATCH('BI Template_Demand'!$A15,ProposedHeader,0),FALSE)","v":-6.8599999999999994E-2},{"$f":"IF($B$7=\"kWh\",$B$4,$B$5)","v":2808},-192.62879999999998,-172.41119999999998,-8.5277777777777768]
["Sub-Total A (excluding pass through)",null,null,{"$f":"SUM(D12:D15)","v":6022.2092000000002},null,null,{"$f":"SUM(G12:G15)","v":6120.848},98.638799999999719,1.6379171949058115E-2]
["Line Losses on Cost of Power",0,{"$f":"IF(B$17=0,0,B$4*B$6-B$4)","v":0},{"$f":"C17*B17","v":0},0,{"$f":"IF(E$17=0,0,E$4*E$6-E$4)","v":0},0,{"$f":"G17-D17","v":0},"N/A"]
["Total Deferral/Variance Account Rate Rider",{"$f":"VLOOKUP($B$3,'Data Current Rates'!$A:$AO,MATCH('BI Template_Demand'!$A18,CurrentHeader,0),FALSE)","v":-1.7218},{"$f":"IF($B$7=\"kWh\",$B$4,$B$5)","v":2808},-4834.8144000000002,{"$f":"VLOOKUP($B$3,'Data Proposed Rates'!$A:$AT,MATCH('BI Template_Demand'!$A18,ProposedHeader,0),FALSE)","v":-0.68330000000000002},{"$f":"IF($B$7=\"kWh\",$B$4,$B$5)","v":2808},-1918.7064,2916.1080000000002,0.60314786850969915]
["CBR Class B Rate Rider",{"$f":"VLOOKUP($B$3,'Data Current Rates'!$A:$AO,MATCH('BI Template_Demand'!$A19,CurrentHeader,0),FALSE)","v":1.2200000000000001E-2},{"$f":"IF($B$7=\"kWh\",$B$4,$B$5)","v":2808},{"$f":"C19*B19","v":34.257600000000004},{"$f":"VLOOKUP($B$3,'Data Proposed Rates'!$A:$AT,MATCH('BI Template_Demand'!$A19,ProposedHeader,0),FALSE)","v":-0.21479999999999999},{"$f":"IF($B$7=\"kWh\",$B$4,$B$5)","v":2808},{"$f":"F19*E19","v":-603.15840000000003},-637.41600000000005,-18.606557377049182]
["GA Rate Rider",{"$f":"VLOOKUP($B$3,'Data Current Rates'!$A:$AO,MATCH('BI Template_Demand'!$A20,CurrentHeader,0),FALSE)","v":-8.9999999999999998E-4},{"$f":"$B$4","v":1373443},{"$f":"C20*B20","v":-1236.0987},{"$f":"VLOOKUP($B$3,'Data Proposed Rates'!$A:$AT,MATCH('BI Template_Demand'!$A20,ProposedHeader,0),FALSE)","v":1.21E-2},{"$f":"$B$4","v":1373443},16618.6603,17854.758999999998,14.444444444444443]
["Rate Rider for Account 1588",null,null,null,{"$f":"VLOOKUP($B$3,'Data Proposed Rates'!$A:$AT,MATCH('BI Template_Demand'!$A21,ProposedHeader,0),FALSE)","v":-1.3452},{"$f":"IF($B$7=\"kWh\",$B$4,$B$5)","v":2808},{"$f":"F21*E21","v":-3777.3215999999998},-3777.3215999999998,"N/A"]
["Sub-Total B - Distribution (includes Sub-Total A)",null,null,{"$f":"SUM(INDIRECT(\"D16:D\"&ROW()-1))","v":-14.446300000000065},null,null,{"$f":"SUM(INDIRECT(\"G16:G\"&ROW()-1))","v":16440.321899999999},16454.768199999999,1139.0299384617463]
["Retail Transmission Rate – Network Service Rate",{"$f":"VLOOKUP($B$3,'Data Current Rates'!$A:$AO,MATCH('BI Template_Demand'!$A23,CurrentHeader,0),FALSE)","v":5.5091999999999999},{"$f":"IF($B$7=\"kWh\",$B$4*$B$6,$B$5)","v":2808},{"$f":"C23*B23","v":15469.8336},{"$f":"VLOOKUP($B$3,'Data Proposed Rates'!$A:$AT,MATCH('BI Template_Demand'!$A23,ProposedHeader,0),FALSE)","v":5.6567999999999996},{"$f":"IF($B$7=\"kWh\",$B$4*$B$6,$B$5)","v":2808},{"$f":"F23*E23","v":15884.294399999999},414.46079999999893,2.6791548682204243E-2]
["Retail Transmission Rate – Line and Transformation Connection Service Rate",{"$f":"VLOOKUP($B$3,'Data Current Rates'!$A:$AO,MATCH('BI Template_Demand'!$A24,CurrentHeader,0),FALSE)","v":4.3196000000000003},{"$f":"IF($B$7=\"kWh\",$B$4*$B$6,$B$5)","v":2808},{"$f":"C24*B24","v":12129.436800000001},{"$f":"VLOOKUP($B$3,'Data Proposed Rates'!$A:$AT,MATCH('BI Template_Demand'!$A24,ProposedHeader,0),FALSE)","v":4.4273999999999996},{"$f":"IF($B$7=\"kWh\",$B$4*$B$6,$B$5)","v":2808},{"$f":"F24*E24","v":12432.1392},302.70239999999831,2.4956014445781875E-2]
["Sub-Total C - Delivery (including Sub-Total B)",null,null,{"$f":"SUM(D22:D24)","v":27584.824100000002},null,null,{"$f":"SUM(G22:G24)","v":44756.755499999999},17171.931399999998,0.62251371760605123]
["Wholesale Market Service Rate (WMS) – not including CBR",{"$f":"VLOOKUP($A26,'Data Pass Through'!$A:$D,2,FALSE)","v":4.1000000000000003E-3},{"$f":"$B$4*$B$6","v":1420140.0620000002},{"$f":"C26*B26","v":5822.5742542000007},{"$f":"VLOOKUP($A26,'Data Pass Through'!$A:$D,3,FALSE)","v":4.1000000000000003E-3},{"$f":"$B$4*$B$6","v":1420140.0620000002},{"$f":"F26*E26","v":5822.5742542000007},0,0]
["Capacity Based Recovery (CBR) – Applicable for Class B Customers",{"$f":"VLOOKUP($A27,'Data Pass Through'!$A:$D,2,FALSE)","v":5.9999999999999995E-4},{"$f":"$B$4*$B$6","v":1420140.0620000002},852.08403720000001,{"$f":"VLOOKUP($A27,'Data Pass Through'!$A:$D,3,FALSE)","v":5.9999999999999995E-4},1420140.0620000002,852.08403720000001,0,0]
["Rural Rate Protection Charge",{"$f":"VLOOKUP($A28,'Data Pass Through'!$A:$D,2,FALSE)","v":5.9999999999999995E-4},1420140.0620000002,852.08403720000001,{"$f":"VLOOKUP($A28,'Data Pass Through'!$A:$D,3,FALSE)","v":5.9999999999999995E-4},1420140.0620000002,852.08403720000001,0,0]
["Standard Supply Service – Administration Charge (if applicable)",{"$f":"VLOOKUP($A29,'Data Pass Through'!$A:$D,2,FALSE)","v":0.25},1,0.25,{"$f":"VLOOKUP($A29,'Data Pass Through'!$A:$D,3,FALSE)","v":0.25},1,0.25,0,0]
["Average IESO Wholesale Market Price",{"$f":"VLOOKUP(A30,'Data Pass Through'!A4:C19,2,0)","v":0.15959999999999999},{"$f":"$B$4*$B$6","v":1420140.0620000002},{"$f":"C30*B30","v":226654.35389520001},{"$f":"VLOOKUP($A30,'Data Pass Through'!$A:$D,3,FALSE)","v":0.15959999999999999},{"$f":"$B$4*$B$6","v":1420140.0620000002},226654.35389520001,{"$f":"G30-D30","v":0},0]
["Total Bill on Average IESO Wholesale Market Price (before Taxes)",null,null,{"$f":"SUM(D25:D30)","v":261766.1703238},null,null,{"$f":"SUM(G25:G30)","v":278938.10172380001},{"$f":"G31-D31","v":17171.931400000001},6.5600269808580053E-2]
["HST",0.13,null,{"$f":"D31*B32","v":34029.602142094001},0.13,null,{"$f":"G31*E32","v":36261.953224094003},{"$f":"G32-D32","v":2232.351082000001},6.5600269808580081E-2]
["Ontario Electricity Rebate (OER)",{"$f":"IF(($B$4*12)<250000,VLOOKUP(A33,'Data Pass Through'!$A$4:$C$19,2,0),0)","v":0},null,{"$f":"D31*B33","v":0},{"$f":"IF(($B$4*12)<250000,VLOOKUP(A33,'Data Pass Through'!$A$4:$C$19,3,0),0)","v":0},null,{"$f":"G31*E33","v":0},{"$f":"G33-D33","v":0},"N/A"]
["Total Bill on Average IESO Wholesale Market Price",null,null,{"$f":"SUM(D31:D33)","v":295795.772465894},null,null,{"$f":"SUM(G31:G33)","v":315200.05494789401},{"$f":"G34-D34","v":19404.28248200001},6.5600269808580081E-2]

{"sheet":"BI Template_Unmtr","index":9,"n_rows":35,"n_cols":9,"rows_kept":35,"cut":false,"hidden":true,"merged":[[0,0,0,10],[8,0,9,0],[8,1,8,3],[8,4,8,6],[8,7,8,8]]}
["Bill Impacts (Average Consumption Level) - St Lgt"]
[]
["Rate Class",{"$f":"RIGHT(A1,LEN(A1)-FIND(\"- \",A1,1)-1)","v":"St Lgt"}]
["Monthly Consumption (kWh)",{"$f":"IF(COUNTIF(A1,\"*Low*\")>0,VLOOKUP(B3,'Data Billing Quantities'!$A:$Z,MATCH(\"Low kWh\",'Data Billing Quantities'!4:4,0),FALSE),IF(COUNTIF(A1,\"*Typical*\")>0,VLOOKUP(B3,'Data Billing Quantities'!$A:$Z,MATCH(\"Typical kWh\",'Data Billing Quantities'!4:4,0),FALSE),IF(COUNTIF(A1,\"*Average*\")>0,VLOOKUP(B3,'Data Billing Quantities'!$A:$Z,MATCH(\"Average kWh\",'Data Billing Quantities'!4:4,0),FALSE),IF(COUNTIF(A1,\"*High*\")>0,VLOOKUP(B3,'Data Billing Quantities'!$A:$Z,MATCH(\"High kWh\",'Data Billing Quantities'!4:4,0),FALSE),\"error\"))))","v":1274}]
["Peak (kW)",{"$f":"IF(COUNTIF(A1,\"*Low*\")>0,VLOOKUP(B3,'Data Billing Quantities'!$A:$Z,MATCH(\"Low kW\",'Data Billing Quantities'!4:4,0),FALSE),IF(COUNTIF(A1,\"*Typical*\")>0,VLOOKUP(B3,'Data Billing Quantities'!$A:$Z,MATCH(\"Typical kW\",'Data Billing Quantities'!4:4,0),FALSE),IF(COUNTIF(A1,\"*Average*\")>0,VLOOKUP(B3,'Data Billing Quantities'!$A:$Z,MATCH(\"Average kW\",'Data Billing Quantities'!4:4,0),FALSE),IF(COUNTIF(A1,\"*High*\")>0,VLOOKUP(B3,'Data Billing Quantities'!$A:$Z,MATCH(\"High kW\",'Data Billing Quantities'!4:4,0),FALSE),\"error\"))))","v":0}]
["Loss factor",{"$f":"VLOOKUP(B3,'Data Billing Quantities'!A:D,MATCH(A6,'Data Billing Quantities'!4:4,0),FALSE)","v":1.0920000000000001}]
["Charge determinant",{"$f":"VLOOKUP(B3,'Data Billing Quantities'!A:D,MATCH(A7,'Data Billing Quantities'!4:4,0),FALSE)","v":"kWh"}]
[]
[null,"Current OEB-Approved",null,null,"Proposed",null,null,"Impact"]
[null,"Rate ($)","Volume","Charge ($)","Rate ($)","Volume","Charge ($)","$ Change","% Change"]
["Service Charge",{"$f":"VLOOKUP($B$3,'Data Current Rates'!$A:$AO,MATCH('BI Template_Unmtr'!$A11,CurrentHeader,0),FALSE)","v":3.31},1,{"$f":"B11*C11","v":3.31},{"$f":"VLOOKUP($B$3,'Data Proposed Rates'!$A:$AT,MATCH('BI Template_Unmtr'!$A11,ProposedHeader,0),FALSE)","v":3.42},1,{"$f":"E11*F11","v":3.42},{"$f":"G11-D11","v":0.10999999999999988},{"$f":"IF(ISERROR(H11/ABS(D11)),\"N/A\",(H11/ABS(D11)))","v":3.32326283987915E-2}]
["Distribution Volumetric Charge",{"$f":"VLOOKUP($B$3,'Data Current Rates'!$A:$AO,MATCH('BI Template_Unmtr'!$A12,CurrentHeader,0),FALSE)","v":0.1235},{"$f":"IF($B$7=\"kWh\",$B$4,$B$5)","v":1274},{"$f":"B12*C12","v":157.339},{"$f":"VLOOKUP($B$3,'Data Proposed Rates'!$A:$AT,MATCH('BI Template_Unmtr'!$A12,ProposedHeader,0),FALSE)","v":0.12970000000000001},{"$f":"IF($B$7=\"kWh\",$B$4,$B$5)","v":1274},165.23780000000002,7.8988000000000227,5.0202429149797716E-2]
["Group 2 Fixed Rate Rider",{"$f":"VLOOKUP($B$3,'Data Current Rates'!$A:$AO,MATCH('BI Template_Unmtr'!$A13,CurrentHeader,0),FALSE)","v":0},1,{"$f":"B13*C13","v":0},{"$f":"VLOOKUP($B$3,'Data Proposed Rates'!$A:$AT,MATCH('BI Template_Unmtr'!$A13,ProposedHeader,0),FALSE)","v":-0.12},1,{"$f":"E13*F13","v":-0.12},-0.12,"N/A"]
["Group 2 Volumetric Rate Rider",{"$f":"VLOOKUP($B$3,'Data Current Rates'!$A:$AO,MATCH('BI Template_Unmtr'!$A14,CurrentHeader,0),FALSE)","v":-4.0000000000000002E-4},{"$f":"IF($B$7=\"kWh\",$B$4,$B$5)","v":1274},{"$f":"B14*C14","v":-0.50960000000000005},{"$f":"VLOOKUP($B$3,'Data Proposed Rates'!$A:$AT,MATCH('BI Template_Unmtr'!$A14,ProposedHeader,0),FALSE)","v":-4.4000000000000003E-3},{"$f":"IF($B$7=\"kWh\",$B$4,$B$5)","v":1274},-5.6055999999999999,-5.0960000000000001,-10]
["Sub-Total A (excluding pass through)",null,null,{"$f":"SUM(D11:D14)","v":160.13939999999999},null,null,{"$f":"SUM(G11:G14)","v":162.93219999999999},2.7927999999999997,1.743980556939766E-2]
["Line Losses on Cost of Power",{"$f":"IF($B$4*12>=150000,0,IF($B$4>=750,$B30,$B29))","v":0.14199999999999999},{"$f":"IF($B16=0,0,$B4*$B6-$B4)","v":117.20800000000008},{"$f":"B16*C16","v":16.643536000000012},{"$f":"IF($B$4*12>=150000,0,IF($B$4>=750,$E30,$E29))","v":0.14199999999999999},{"$f":"IF($B16=0,0,$B4*$B6-$B4)","v":117.20800000000008},16.643536000000012,0,0]
["Total Deferral/Variance Account Rate Rider",{"$f":"VLOOKUP($B$3,'Data Current Rates'!$A:$AO,MATCH('BI Template_Unmtr'!$A17,CurrentHeader,0),FALSE)","v":-3.5999999999999999E-3},{"$f":"IF($B$7=\"kWh\",$B$4,$B$5)","v":1274},-4.5864000000000003,{"$f":"VLOOKUP($B$3,'Data Proposed Rates'!$A:$AT,MATCH('BI Template_Unmtr'!$A17,ProposedHeader,0),FALSE)","v":-1.8E-3},{"$f":"IF($B$7=\"kWh\",$B$4,$B$5)","v":1274},-2.2932000000000001,2.2932000000000001,0.5]
["CBR Class B Rate Rider",{"$f":"VLOOKUP($B$3,'Data Current Rates'!$A:$AO,MATCH('BI Template_Unmtr'!$A18,CurrentHeader,0),FALSE)","v":1E-4},{"$f":"IF($B$7=\"kWh\",$B$4,$B$5)","v":1274},0.12740000000000001,{"$f":"VLOOKUP($B$3,'Data Proposed Rates'!$A:$AT,MATCH('BI Template_Unmtr'!$A18,ProposedHeader,0),FALSE)","v":-5.9999999999999995E-4},{"$f":"IF($B$7=\"kWh\",$B$4,$B$5)","v":1274},-0.76439999999999997,-0.89179999999999993,-6.9999999999999991]
["GA Rate Rider",{"$f":"VLOOKUP($B$3,'Data Current Rates'!$A:$AO,MATCH('BI Template_Unmtr'!$A19,CurrentHeader,0),FALSE)","v":0},{"$f":"IF($B$7=\"kWh\",$B$4,$B$5)","v":1274},0,{"$f":"VLOOKUP($B$3,'Data Proposed Rates'!$A:$AT,MATCH('BI Template_Unmtr'!$A19,ProposedHeader,0),FALSE)","v":0},{"$f":"IF($B$7=\"kWh\",$B$4,$B$5)","v":1274},0,0,"N/A"]
["Rate Rider for Account 1588",null,null,null,{"$f":"VLOOKUP($B$3,'Data Proposed Rates'!$A:$AT,MATCH('BI Template_Unmtr'!$A20,ProposedHeader,0),FALSE)","v":-3.2000000000000002E-3},{"$f":"IF($B$7=\"kWh\",$B$4,$B$5)","v":1274},-4.0768000000000004,-4.0768000000000004,"N/A"]
["Sub-Total B - Distribution (includes Sub-Total A)",null,null,{"$f":"SUM(INDIRECT(\"D15:D\"&ROW()-1))","v":172.323936},null,null,{"$f":"SUM(INDIRECT(\"G15:G\"&ROW()-1))","v":172.44133600000001},0.1174000000000035,6.8127506094106107E-4]
["Retail Transmission Rate – Network Service Rate",{"$f":"VLOOKUP($B$3,'Data Current Rates'!$A:$AO,MATCH('BI Template_Unmtr'!$A22,CurrentHeader,0),FALSE)","v":7.4000000000000003E-3},{"$f":"IF($B$7=\"kWh\",$B$4*$B$6,$B$5)","v":1391.2080000000001},{"$f":"B22*C22","v":10.294939200000002},{"$f":"VLOOKUP($B$3,'Data Proposed Rates'!$A:$AT,MATCH('BI Template_Unmtr'!$A22,ProposedHeader,0),FALSE)","v":7.6E-3},{"$f":"IF($B$7=\"kWh\",$B$4*$B$6,$B$5)","v":1391.2080000000001},10.573180800000001,0.27824159999999942,2.7027027027026966E-2]
["Retail Transmission Rate – Line and Transformation Connection Service Rate",{"$f":"VLOOKUP($B$3,'Data Current Rates'!$A:$AO,MATCH('BI Template_Unmtr'!$A23,CurrentHeader,0),FALSE)","v":5.7000000000000002E-3},{"$f":"IF($B$7=\"kWh\",$B$4*$B$6,$B$5)","v":1391.2080000000001},7.9298856000000004,{"$f":"VLOOKUP($B$3,'Data Proposed Rates'!$A:$AT,MATCH('BI Template_Unmtr'!$A23,ProposedHeader,0),FALSE)","v":5.7999999999999996E-3},{"$f":"IF($B$7=\"kWh\",$B$4*$B$6,$B$5)","v":1391.2080000000001},8.0690063999999992,0.13912079999999882,1.7543859649122657E-2]
["Sub-Total C - Delivery (including Sub-Total B)",null,null,{"$f":"SUM(D21:D23)","v":190.5487608},null,null,{"$f":"SUM(G21:G23)","v":191.0835232},0.5347624000000053,2.8064333651652133E-3]
["Wholesale Market Service Rate (WMS) – not including CBR",{"$f":"VLOOKUP($A25,'Data Pass Through'!$A:$D,2,FALSE)","v":4.1000000000000003E-3},{"$f":"$B$4*$B$6","v":1391.2080000000001},{"$f":"B25*C25","v":5.7039528000000006},{"$f":"VLOOKUP($A25,'Data Pass Through'!$A:$D,3,FALSE)","v":4.1000000000000003E-3},{"$f":"$B$4*$B$6","v":1391.2080000000001},5.7039528000000006,0,0]
["Capacity Based Recovery (CBR) – Applicable for Class B Customers",{"$f":"VLOOKUP($A26,'Data Pass Through'!$A:$D,2,FALSE)","v":5.9999999999999995E-4},{"$f":"$B$4*$B$6","v":1391.2080000000001},0.83472479999999993,{"$f":"VLOOKUP($A26,'Data Pass Through'!$A:$D,3,FALSE)","v":5.9999999999999995E-4},{"$f":"$B$4*$B$6","v":1391.2080000000001},0.83472479999999993,0,0]
["Rural Rate Protection Charge",{"$f":"VLOOKUP($A27,'Data Pass Through'!$A:$D,2,FALSE)","v":5.9999999999999995E-4},{"$f":"$B$4*$B$6","v":1391.2080000000001},0.83472479999999993,{"$f":"VLOOKUP($A27,'Data Pass Through'!$A:$D,3,FALSE)","v":5.9999999999999995E-4},{"$f":"$B$4*$B$6","v":1391.2080000000001},0.83472479999999993,0,0]
["Standard Supply Service – Administration Charge (if applicable)",{"$f":"VLOOKUP($A28,'Data Pass Through'!$A:$D,2,FALSE)","v":0.25},1,0.25,{"$f":"VLOOKUP($A28,'Data Pass Through'!$A:$D,3,FALSE)","v":0.25},1,0.25,0,0]
["RPP Tier 1",{"$f":"VLOOKUP($A29,'Data Pass Through'!$A:$D,2,FALSE)","v":0.12},{"$f":"IF(($B4*12>=150000),750,IF($B4>=750,750,$B4))","v":750},90,{"$f":"VLOOKUP($A29,'Data Pass Through'!$A:$D,3,FALSE)","v":0.12},{"$f":"IF(($B4*12>=150000),750,IF($B4>=750,750,$B4))","v":750},90,0,0]
["RPP Tier 2",{"$f":"VLOOKUP($A30,'Data Pass Through'!$A:$D,2,FALSE)","v":0.14199999999999999},{"$f":"IF(($B4*12>=150000),($B4*$B6)-750,IF($B4>=750,($B4-750),0))","v":524},74.407999999999987,{"$f":"VLOOKUP($A30,'Data Pass Through'!$A:$D,3,FALSE)","v":0.14199999999999999},{"$f":"IF(($B4*12>=150000),($B4*$B6)-750,IF($B4>=750,($B4-750),0))","v":524},74.407999999999987,{"$f":"G30-D30","v":0},{"$f":"IF(ISERROR(H30/ABS(D30)),\"N/A\",(H30/ABS(D30)))","v":0}]
["Total Bill on Two-Tier RPP (before Taxes)",null,null,{"$f":"SUM(D24:D30)","v":362.58016320000002},null,null,{"$f":"SUM(G24:G30)","v":363.11492559999999},0.53476239999997688,1.4748804658268101E-3]
["HST",0.13,null,{"$f":"D31*B32","v":47.135421216000005},{"$f":"B32","v":0.13},null,{"$f":"G31*E32","v":47.204940327999999},6.951911199999472E-2,1.474880465826762E-3]
["Ontario Electricity Rebate (OER)",{"$f":"IF(($B$4*12)<250000,VLOOKUP(A33,'Data Pass Through'!$A$4:$C$19,2,0),0)","v":-0.23499999999999999},null,{"$f":"D31*B33","v":-85.206338352000003},{"$f":"IF(($B$4*12)<250000,VLOOKUP($A33,'Data Pass Through'!$A$4:$C$19,3,0),0)","v":-0.23499999999999999},null,{"$f":"G31*E33","v":-85.33200751599999},-0.12566916399998718,-1.4748804658267234E-3]
["Total Bill on Two-Tier RPP",null,null,{"$f":"SUM(D31:D33)","v":324.50924606400002},null,null,{"$f":"SUM(G31:G33)","v":324.98785841200004},0.47861234800001284,1.4748804658269135E-3]
["* Distribution rate protection applies to R1 and R2 customers"]

{"sheet":"Bill Impact Summary","index":10,"n_rows":20,"n_cols":14,"rows_kept":20,"cut":false,"hidden":false,"merged":[[0,5,2,5],[0,0,2,0],[0,1,2,1],[0,2,2,2],[0,3,2,3],[0,4,2,4],[0,6,0,11],[0,12,0,13],[1,6,1,7],[1,8,1,9],[1,10,1,11],[1,12,1,13]]}
["Rate Class","Consumption Level","Monthly Consumption (kWh)","Monthly Peak (kW)","BI Worksheet","Template","Sub-Total",null,null,null,null,null,"Total"]
[null,null,null,null,null,null,"A",null,"B",null,"C",null,"Total Bill"]
[null,null,null,null,null,null,"$","%","$","%","$","%","$","%"]
["UR","Typical",{"$f":"VLOOKUP(A4,'Data Billing Quantities'!A:P,MATCH(B4&\" kWh\",'Data Billing Quantities'!$4:$4,0),FALSE)","v":750},null,"BI_UR_Typical","BI Template_Energy",{"$f":"VLOOKUP(VLOOKUP($F4,'Data BI Summary'!$A:$P,MATCH($G$2,'Data BI Summary'!$2:$2,0),FALSE),INDIRECT(\"'\"&$E4&\"'!\"&\"$A:$K\"),8,FALSE)","v":0.70000000000000284},{"$f":"VLOOKUP(VLOOKUP($F4,'Data BI Summary'!$A:$P,MATCH($G$2,'Data BI Summary'!$2:$2,0),FALSE),INDIRECT(\"'\"&$E4&\"'!\"&\"$A:$K\"),9,FALSE)","v":1.6867469879518142E-2},{"$f":"VLOOKUP(VLOOKUP($F4,'Data BI Summary'!$A:$P,MATCH($I$2,'Data BI Summary'!$2:$2,0),FALSE),INDIRECT(\"'\"&$E4&\"'!\"&\"$A:$K\"),8,FALSE)","v":-0.64999999999999858},{"$f":"VLOOKUP(VLOOKUP($F4,'Data BI Summary'!$A:$P,MATCH($I$2,'Data BI Summary'!$2:$2,0),FALSE),INDIRECT(\"'\"&$E4&\"'!\"&\"$A:$K\"),9,FALSE)","v":-1.4575141356447829E-2},{"$f":"VLOOKUP(VLOOKUP($F4,'Data BI Summary'!$A:$P,MATCH($K$2,'Data BI Summary'!$2:$2,0),FALSE),INDIRECT(\"'\"&$E4&\"'!\"&\"$A:$K\"),8,FALSE)","v":-0.1743499999999969},{"$f":"VLOOKUP(VLOOKUP($F4,'Data BI Summary'!$A:$P,MATCH($K$2,'Data BI Summary'!$2:$2,0),FALSE),INDIRECT(\"'\"&$E4&\"'!\"&\"$A:$K\"),9,FALSE)","v":-2.7575635095661338E-3},{"$f":"VLOOKUP(VLOOKUP($F4,'Data BI Summary'!$A:$P,MATCH($M$2,'Data BI Summary'!$2:$2,0),FALSE),INDIRECT(\"'\"&$E4&\"'!\"&\"$A:$K\"),8,FALSE)","v":-0.1560432500000104},{"$f":"VLOOKUP(VLOOKUP($F4,'Data BI Summary'!$A:$P,MATCH($M$2,'Data BI Summary'!$2:$2,0),FALSE),INDIRECT(\"'\"&$E4&\"'!\"&\"$A:$K\"),9,FALSE)","v":-1.0675512902216808E-3}]
["R1 (with DRP)","Typical",{"$f":"VLOOKUP(\"R1\",'Data Billing Quantities'!A:P,MATCH(B5&\" kWh\",'Data Billing Quantities'!$4:$4,0),FALSE)","v":750},null,"BI_R1_Typical (with DRP)","BI Template_Energy",{"$f":"VLOOKUP(VLOOKUP($F5,'Data BI Summary'!$A:$P,MATCH($G$2,'Data BI Summary'!$2:$2,0),FALSE),INDIRECT(\"'\"&$E5&\"'!\"&\"$A:$K\"),8,FALSE)","v":-2.3500000000000014},{"$f":"VLOOKUP(VLOOKUP($F5,'Data BI Summary'!$A:$P,MATCH($G$2,'Data BI Summary'!$2:$2,0),FALSE),INDIRECT(\"'\"&$E5&\"'!\"&\"$A:$K\"),9,FALSE)","v":-5.5073822357628338E-2},{"$f":"VLOOKUP(VLOOKUP($F5,'Data BI Summary'!$A:$P,MATCH($I$2,'Data BI Summary'!$2:$2,0),FALSE),INDIRECT(\"'\"&$E5&\"'!\"&\"$A:$K\"),8,FALSE)","v":-3.7750000000000128},{"$f":"VLOOKUP(VLOOKUP($F5,'Data BI Summary'!$A:$P,MATCH($I$2,'Data BI Summary'!$2:$2,0),FALSE),INDIRECT(\"'\"&$E5&\"'!\"&\"$A:$K\"),9,FALSE)","v":-7.92091423506842E-2},{"$f":"VLOOKUP(VLOOKUP($F5,'Data BI Summary'!$A:$P,MATCH($K$2,'Data BI Summary'!$2:$2,0),FALSE),INDIRECT(\"'\"&$E5&\"'!\"&\"$A:$K\"),8,FALSE)","v":-3.3715000000000117},{"$f":"VLOOKUP(VLOOKUP($F5,'Data BI Summary'!$A:$P,MATCH($K$2,'Data BI Summary'!$2:$2,0),FALSE),INDIRECT(\"'\"&$E5&\"'!\"&\"$A:$K\"),9,FALSE)","v":-5.1542026128283631E-2},{"$f":"VLOOKUP(VLOOKUP($F5,'Data BI Summary'!$A:$P,MATCH($M$2,'Data BI Summary'!$2:$2,0),FALSE),INDIRECT(\"'\"&$E5&\"'!\"&\"$A:$K\"),8,FALSE)","v":-3.0174925000000314},{"$f":"VLOOKUP(VLOOKUP($F5,'Data BI Summary'!$A:$P,MATCH($M$2,'Data BI Summary'!$2:$2,0),FALSE),INDIRECT(\"'\"&$E5&\"'!\"&\"$A:$K\"),9,FALSE)","v":-2.0361790639362248E-2}]
["R1 (without DRP)","Typical",{"$f":"VLOOKUP(\"R1\",'Data Billing Quantities'!A:P,MATCH(B6&\" kWh\",'Data Billing Quantities'!$4:$4,0),FALSE)","v":750},null,"BI_R1_Typical (without DRP)","BI Template_Energy",{"$f":"VLOOKUP(VLOOKUP($F6,'Data BI Summary'!$A:$P,MATCH($G$2,'Data BI Summary'!$2:$2,0),FALSE),INDIRECT(\"'\"&$E6&\"'!\"&\"$A:$K\"),8,FALSE)","v":1.2199999999999989},{"$f":"VLOOKUP(VLOOKUP($F6,'Data BI Summary'!$A:$P,MATCH($G$2,'Data BI Summary'!$2:$2,0),FALSE),INDIRECT(\"'\"&$E6&\"'!\"&\"$A:$K\"),9,FALSE)","v":1.7221908526256335E-2},{"$f":"VLOOKUP(VLOOKUP($F6,'Data BI Summary'!$A:$P,MATCH($I$2,'Data BI Summary'!$2:$2,0),FALSE),INDIRECT(\"'\"&$E6&\"'!\"&\"$A:$K\"),8,FALSE)","v":-0.20500000000001251},{"$f":"VLOOKUP(VLOOKUP($F6,'Data BI Summary'!$A:$P,MATCH($I$2,'Data BI Summary'!$2:$2,0),FALSE),INDIRECT(\"'\"&$E6&\"'!\"&\"$A:$K\"),9,FALSE)","v":-2.7034640209822104E-3},{"$f":"VLOOKUP(VLOOKUP($F6,'Data BI Summary'!$A:$P,MATCH($K$2,'Data BI Summary'!$2:$2,0),FALSE),INDIRECT(\"'\"&$E6&\"'!\"&\"$A:$K\"),8,FALSE)","v":0.19849999999998147},{"$f":"VLOOKUP(VLOOKUP($F6,'Data BI Summary'!$A:$P,MATCH($K$2,'Data BI Summary'!$2:$2,0),FALSE),INDIRECT(\"'\"&$E6&\"'!\"&\"$A:$K\"),9,FALSE)","v":2.1211199000154457E-3},{"$f":"VLOOKUP(VLOOKUP($F6,'Data BI Summary'!$A:$P,MATCH($M$2,'Data BI Summary'!$2:$2,0),FALSE),INDIRECT(\"'\"&$E6&\"'!\"&\"$A:$K\"),8,FALSE)","v":0.17765750000000935},{"$f":"VLOOKUP(VLOOKUP($F6,'Data BI Summary'!$A:$P,MATCH($M$2,'Data BI Summary'!$2:$2,0),FALSE),INDIRECT(\"'\"&$E6&\"'!\"&\"$A:$K\"),9,FALSE)","v":1.0245175038687043E-3}]
["R2 (with DRP)","Typical",{"$f":"VLOOKUP(\"R2\",'Data Billing Quantities'!A:P,MATCH(B7&\" kWh\",'Data Billing Quantities'!$4:$4,0),FALSE)","v":750},null,"BI_R2_Typical (with DRP)","BI Template_Energy",{"$f":"VLOOKUP(VLOOKUP($F7,'Data BI Summary'!$A:$P,MATCH($G$2,'Data BI Summary'!$2:$2,0),FALSE),INDIRECT(\"'\"&$E7&\"'!\"&\"$A:$K\"),8,FALSE)","v":-4.740000000000002},{"$f":"VLOOKUP(VLOOKUP($F7,'Data BI Summary'!$A:$P,MATCH($G$2,'Data BI Summary'!$2:$2,0),FALSE),INDIRECT(\"'\"&$E7&\"'!\"&\"$A:$K\"),9,FALSE)","v":-0.11168708765315744},{"$f":"VLOOKUP(VLOOKUP($F7,'Data BI Summary'!$A:$P,MATCH($I$2,'Data BI Summary'!$2:$2,0),FALSE),INDIRECT(\"'\"&$E7&\"'!\"&\"$A:$K\"),8,FALSE)","v":-6.1650000000000063},{"$f":"VLOOKUP(VLOOKUP($F7,'Data BI Summary'!$A:$P,MATCH($I$2,'Data BI Summary'!$2:$2,0),FALSE),INDIRECT(\"'\"&$E7&\"'!\"&\"$A:$K\"),9,FALSE)","v":-0.1228033831186682},{"$f":"VLOOKUP(VLOOKUP($F7,'Data BI Summary'!$A:$P,MATCH($K$2,'Data BI Summary'!$2:$2,0),FALSE),INDIRECT(\"'\"&$E7&\"'!\"&\"$A:$K\"),8,FALSE)","v":-5.7506250000000065},{"$f":"VLOOKUP(VLOOKUP($F7,'Data BI Summary'!$A:$P,MATCH($K$2,'Data BI Summary'!$2:$2,0),FALSE),INDIRECT(\"'\"&$E7&\"'!\"&\"$A:$K\"),9,FALSE)","v":-8.5691199501704035E-2},{"$f":"VLOOKUP(VLOOKUP($F7,'Data BI Summary'!$A:$P,MATCH($M$2,'Data BI Summary'!$2:$2,0),FALSE),INDIRECT(\"'\"&$E7&\"'!\"&\"$A:$K\"),8,FALSE)","v":-5.1468093750000037},{"$f":"VLOOKUP(VLOOKUP($F7,'Data BI Summary'!$A:$P,MATCH($M$2,'Data BI Summary'!$2:$2,0),FALSE),INDIRECT(\"'\"&$E7&\"'!\"&\"$A:$K\"),9,FALSE)","v":-3.4354430186914107E-2}]
["R2 (without DRP)","Typical",{"$f":"VLOOKUP(\"R2\",'Data Billing Quantities'!A:P,MATCH(B8&\" kWh\",'Data Billing Quantities'!$4:$4,0),FALSE)","v":750},null,"BI_R2_Typical (without DRP)","BI Template_Energy",{"$f":"VLOOKUP(VLOOKUP($F8,'Data BI Summary'!$A:$P,MATCH($G$2,'Data BI Summary'!$2:$2,0),FALSE),INDIRECT(\"'\"&$E8&\"'!\"&\"$A:$K\"),8,FALSE)","v":2.1399999999999864},{"$f":"VLOOKUP(VLOOKUP($F8,'Data BI Summary'!$A:$P,MATCH($G$2,'Data BI Summary'!$2:$2,0),FALSE),INDIRECT(\"'\"&$E8&\"'!\"&\"$A:$K\"),9,FALSE)","v":2.3236874966067501E-2},{"$f":"VLOOKUP(VLOOKUP($F8,'Data BI Summary'!$A:$P,MATCH($I$2,'Data BI Summary'!$2:$2,0),FALSE),INDIRECT(\"'\"&$E8&\"'!\"&\"$A:$K\"),8,FALSE)","v":0.71499999999997499},{"$f":"VLOOKUP(VLOOKUP($F8,'Data BI Summary'!$A:$P,MATCH($I$2,'Data BI Summary'!$2:$2,0),FALSE),INDIRECT(\"'\"&$E8&\"'!\"&\"$A:$K\"),9,FALSE)","v":7.1602248010156E-3},{"$f":"VLOOKUP(VLOOKUP($F8,'Data BI Summary'!$A:$P,MATCH($K$2,'Data BI Summary'!$2:$2,0),FALSE),INDIRECT(\"'\"&$E8&\"'!\"&\"$A:$K\"),8,FALSE)","v":1.1293749999999676},{"$f":"VLOOKUP(VLOOKUP($F8,'Data BI Summary'!$A:$P,MATCH($K$2,'Data BI Summary'!$2:$2,0),FALSE),INDIRECT(\"'\"&$E8&\"'!\"&\"$A:$K\"),9,FALSE)","v":9.6723125423395073E-3},{"$f":"VLOOKUP(VLOOKUP($F8,'Data BI Summary'!$A:$P,MATCH($M$2,'Data BI Summary'!$2:$2,0),FALSE),INDIRECT(\"'\"&$E8&\"'!\"&\"$A:$K\"),8,FALSE)","v":1.0107906249999417},{"$f":"VLOOKUP(VLOOKUP($F8,'Data BI Summary'!$A:$P,MATCH($M$2,'Data BI Summary'!$2:$2,0),FALSE),INDIRECT(\"'\"&$E8&\"'!\"&\"$A:$K\"),9,FALSE)","v":5.2033882667536589E-3}]
["Seasonal-UR","Average",{"$f":"VLOOKUP(\"Seasonal\",'Data Billing Quantities'!A:P,MATCH(B9&\" kWh\",'Data Billing Quantities'!$4:$4,0),FALSE)","v":369},null,"BI_Seas_UR_Avg","BI Template_Energy",{"$f":"VLOOKUP(VLOOKUP($F9,'Data BI Summary'!$A:$P,MATCH($G$2,'Data BI Summary'!$2:$2,0),FALSE),INDIRECT(\"'\"&$E9&\"'!\"&\"$A:$K\"),8,FALSE)","v":0.70000000000000284},{"$f":"VLOOKUP(VLOOKUP($F9,'Data BI Summary'!$A:$P,MATCH($G$2,'Data BI Summary'!$2:$2,0),FALSE),INDIRECT(\"'\"&$E9&\"'!\"&\"$A:$K\"),9,FALSE)","v":1.6867469879518142E-2},{"$f":"VLOOKUP(VLOOKUP($F9,'Data BI Summary'!$A:$P,MATCH($I$2,'Data BI Summary'!$2:$2,0),FALSE),INDIRECT(\"'\"&$E9&\"'!\"&\"$A:$K\"),8,FALSE)","v":3.580000000000183E-2},{"$f":"VLOOKUP(VLOOKUP($F9,'Data BI Summary'!$A:$P,MATCH($I$2,'Data BI Summary'!$2:$2,0),FALSE),INDIRECT(\"'\"&$E9&\"'!\"&\"$A:$K\"),9,FALSE)","v":8.2799783248489398E-4},{"$f":"VLOOKUP(VLOOKUP($F9,'Data BI Summary'!$A:$P,MATCH($K$2,'Data BI Summary'!$2:$2,0),FALSE),INDIRECT(\"'\"&$E9&\"'!\"&\"$A:$K\"),8,FALSE)","v":0.26981979999999339},{"$f":"VLOOKUP(VLOOKUP($F9,'Data BI Summary'!$A:$P,MATCH($K$2,'Data BI Summary'!$2:$2,0),FALSE),INDIRECT(\"'\"&$E9&\"'!\"&\"$A:$K\"),9,FALSE)","v":5.1489769811943987E-3},{"$f":"VLOOKUP(VLOOKUP($F9,'Data BI Summary'!$A:$P,MATCH($M$2,'Data BI Summary'!$2:$2,0),FALSE),INDIRECT(\"'\"&$E9&\"'!\"&\"$A:$K\"),8,FALSE)","v":0.24148872099999608},{"$f":"VLOOKUP(VLOOKUP($F9,'Data BI Summary'!$A:$P,MATCH($M$2,'Data BI Summary'!$2:$2,0),FALSE),INDIRECT(\"'\"&$E9&\"'!\"&\"$A:$K\"),9,FALSE)","v":2.6511491545896629E-3}]
["Seasonal-R1","Average",{"$f":"VLOOKUP(\"Seasonal\",'Data Billing Quantities'!A:P,MATCH(B10&\" kWh\",'Data Billing Quantities'!$4:$4,0),FALSE)","v":369},null,"BI_Seas_R1_Avg","BI Template_Energy",{"$f":"VLOOKUP(VLOOKUP($F10,'Data BI Summary'!$A:$P,MATCH($G$2,'Data BI Summary'!$2:$2,0),FALSE),INDIRECT(\"'\"&$E10&\"'!\"&\"$A:$K\"),8,FALSE)","v":1.2199999999999989},{"$f":"VLOOKUP(VLOOKUP($F10,'Data BI Summary'!$A:$P,MATCH($G$2,'Data BI Summary'!$2:$2,0),FALSE),INDIRECT(\"'\"&$E10&\"'!\"&\"$A:$K\"),9,FALSE)","v":1.7221908526256335E-2},{"$f":"VLOOKUP(VLOOKUP($F10,'Data BI Summary'!$A:$P,MATCH($I$2,'Data BI Summary'!$2:$2,0),FALSE),INDIRECT(\"'\"&$E10&\"'!\"&\"$A:$K\"),8,FALSE)","v":0.51889999999998793},{"$f":"VLOOKUP(VLOOKUP($F10,'Data BI Summary'!$A:$P,MATCH($I$2,'Data BI Summary'!$2:$2,0),FALSE),INDIRECT(\"'\"&$E10&\"'!\"&\"$A:$K\"),9,FALSE)","v":7.0591176114846686E-3},{"$f":"VLOOKUP(VLOOKUP($F10,'Data BI Summary'!$A:$P,MATCH($K$2,'Data BI Summary'!$2:$2,0),FALSE),INDIRECT(\"'\"&$E10&\"'!\"&\"$A:$K\"),8,FALSE)","v":0.71742199999998491},{"$f":"VLOOKUP(VLOOKUP($F10,'Data BI Summary'!$A:$P,MATCH($K$2,'Data BI Summary'!$2:$2,0),FALSE),INDIRECT(\"'\"&$E10&\"'!\"&\"$A:$K\"),9,FALSE)","v":8.7232260229899682E-3},{"$f":"VLOOKUP(VLOOKUP($F10,'Data BI Summary'!$A:$P,MATCH($M$2,'Data BI Summary'!$2:$2,0),FALSE),INDIRECT(\"'\"&$E10&\"'!\"&\"$A:$K\"),8,FALSE)","v":0.64209268999999836},{"$f":"VLOOKUP(VLOOKUP($F10,'Data BI Summary'!$A:$P,MATCH($M$2,'Data BI Summary'!$2:$2,0),FALSE),INDIRECT(\"'\"&$E10&\"'!\"&\"$A:$K\"),9,FALSE)","v":5.449383686799019E-3}]
["Seasonal-R2","Average",{"$f":"VLOOKUP(\"Seasonal\",'Data Billing Quantities'!A:P,MATCH(B11&\" kWh\",'Data Billing Quantities'!$4:$4,0),FALSE)","v":369},null,"BI_Seas_R2_Avg","BI Template_Energy",{"$f":"VLOOKUP(VLOOKUP($F11,'Data BI Summary'!$A:$P,MATCH($G$2,'Data BI Summary'!$2:$2,0),FALSE),INDIRECT(\"'\"&$E11&\"'!\"&\"$A:$K\"),8,FALSE)","v":4.9024000000000143},{"$f":"VLOOKUP(VLOOKUP($F11,'Data BI Summary'!$A:$P,MATCH($G$2,'Data BI Summary'!$2:$2,0),FALSE),INDIRECT(\"'\"&$E11&\"'!\"&\"$A:$K\"),9,FALSE)","v":5.6567306948949507E-2},{"$f":"VLOOKUP(VLOOKUP($F11,'Data BI Summary'!$A:$P,MATCH($I$2,'Data BI Summary'!$2:$2,0),FALSE),INDIRECT(\"'\"&$E11&\"'!\"&\"$A:$K\"),8,FALSE)","v":4.2013000000000034},{"$f":"VLOOKUP(VLOOKUP($F11,'Data BI Summary'!$A:$P,MATCH($I$2,'Data BI Summary'!$2:$2,0),FALSE),INDIRECT(\"'\"&$E11&\"'!\"&\"$A:$K\"),9,FALSE)","v":4.6322236072254407E-2},{"$f":"VLOOKUP(VLOOKUP($F11,'Data BI Summary'!$A:$P,MATCH($K$2,'Data BI Summary'!$2:$2,0),FALSE),INDIRECT(\"'\"&$E11&\"'!\"&\"$A:$K\"),8,FALSE)","v":4.4051724999999919},{"$f":"VLOOKUP(VLOOKUP($F11,'Data BI Summary'!$A:$P,MATCH($K$2,'Data BI Summary'!$2:$2,0),FALSE),INDIRECT(\"'\"&$E11&\"'!\"&\"$A:$K\"),9,FALSE)","v":4.4489834013505175E-2},{"$f":"VLOOKUP(VLOOKUP($F11,'Data BI Summary'!$A:$P,MATCH($M$2,'Data BI Summary'!$2:$2,0),FALSE),INDIRECT(\"'\"&$E11&\"'!\"&\"$A:$K\"),8,FALSE)","v":3.9426293875000056},{"$f":"VLOOKUP(VLOOKUP($F11,'Data BI Summary'!$A:$P,MATCH($M$2,'Data BI Summary'!$2:$2,0),FALSE),INDIRECT(\"'\"&$E11&\"'!\"&\"$A:$K\"),9,FALSE)","v":2.9668219473692577E-2}]
["GSe","Typical",{"$f":"VLOOKUP(A12,'Data Billing Quantities'!A:P,MATCH(B12&\" kWh\",'Data Billing Quantities'!$4:$4,0),FALSE)","v":2000},null,"BI_GSe_Typical","BI Template_Energy",{"$f":"VLOOKUP(VLOOKUP($F12,'Data BI Summary'!$A:$P,MATCH($G$2,'Data BI Summary'!$2:$2,0),FALSE),INDIRECT(\"'\"&$E12&\"'!\"&\"$A:$K\"),8,FALSE)","v":3.4800000000000182},{"$f":"VLOOKUP(VLOOKUP($F12,'Data BI Summary'!$A:$P,MATCH($G$2,'Data BI Summary'!$2:$2,0),FALSE),INDIRECT(\"'\"&$E12&\"'!\"&\"$A:$K\"),9,FALSE)","v":1.87318333512758E-2},{"$f":"VLOOKUP(VLOOKUP($F12,'Data BI Summary'!$A:$P,MATCH($I$2,'Data BI Summary'!$2:$2,0),FALSE),INDIRECT(\"'\"&$E12&\"'!\"&\"$A:$K\"),8,FALSE)","v":-0.51999999999998181},{"$f":"VLOOKUP(VLOOKUP($F12,'Data BI Summary'!$A:$P,MATCH($I$2,'Data BI Summary'!$2:$2,0),FALSE),INDIRECT(\"'\"&$E12&\"'!\"&\"$A:$K\"),9,FALSE)","v":-2.5529762204010973E-3},{"$f":"VLOOKUP(VLOOKUP($F12,'Data BI Summary'!$A:$P,MATCH($K$2,'Data BI Summary'!$2:$2,0),FALSE),INDIRECT(\"'\"&$E12&\"'!\"&\"$A:$K\"),8,FALSE)","v":0.57600000000002183},{"$f":"VLOOKUP(VLOOKUP($F12,'Data BI Summary'!$A:$P,MATCH($K$2,'Data BI Summary'!$2:$2,0),FALSE),INDIRECT(\"'\"&$E12&\"'!\"&\"$A:$K\"),9,FALSE)","v":2.3711447491659081E-3},{"$f":"VLOOKUP(VLOOKUP($F12,'Data BI Summary'!$A:$P,MATCH($M$2,'Data BI Summary'!$2:$2,0),FALSE),INDIRECT(\"'\"&$E12&\"'!\"&\"$A:$K\"),8,FALSE)","v":0.51552000000003773},{"$f":"VLOOKUP(VLOOKUP($F12,'Data BI Summary'!$A:$P,MATCH($M$2,'Data BI Summary'!$2:$2,0),FALSE),INDIRECT(\"'\"&$E12&\"'!\"&\"$A:$K\"),9,FALSE)","v":1.129792261017244E-3}]
["UGe","Typical",{"$f":"VLOOKUP(A13,'Data Billing Quantities'!A:P,MATCH(B13&\" kWh\",'Data Billing Quantities'!$4:$4,0),FALSE)","v":2000},null,"BI_UGe_Typical","BI Template_Energy",{"$f":"VLOOKUP(VLOOKUP($F13,'Data BI Summary'!$A:$P,MATCH($G$2,'Data BI Summary'!$2:$2,0),FALSE),INDIRECT(\"'\"&$E13&\"'!\"&\"$A:$K\"),8,FALSE)","v":1.3299999999999983},{"$f":"VLOOKUP(VLOOKUP($F13,'Data BI Summary'!$A:$P,MATCH($G$2,'Data BI Summary'!$2:$2,0),FALSE),INDIRECT(\"'\"&$E13&\"'!\"&\"$A:$K\"),9,FALSE)","v":1.3392407612526415E-2},{"$f":"VLOOKUP(VLOOKUP($F13,'Data BI Summary'!$A:$P,MATCH($I$2,'Data BI Summary'!$2:$2,0),FALSE),INDIRECT(\"'\"&$E13&\"'!\"&\"$A:$K\"),8,FALSE)","v":-2.4700000000000131},{"$f":"VLOOKUP(VLOOKUP($F13,'Data BI Summary'!$A:$P,MATCH($I$2,'Data BI Summary'!$2:$2,0),FALSE),INDIRECT(\"'\"&$E13&\"'!\"&\"$A:$K\"),9,FALSE)","v":-2.2491824631516645E-2},{"$f":"VLOOKUP(VLOOKUP($F13,'Data BI Summary'!$A:$P,MATCH($K$2,'Data BI Summary'!$2:$2,0),FALSE),INDIRECT(\"'\"&$E13&\"'!\"&\"$A:$K\"),8,FALSE)","v":-1.4029999999999916},{"$f":"VLOOKUP(VLOOKUP($F13,'Data BI Summary'!$A:$P,MATCH($K$2,'Data BI Summary'!$2:$2,0),FALSE),INDIRECT(\"'\"&$E13&\"'!\"&\"$A:$K\"),9,FALSE)","v":-9.3174870969737998E-3},{"$f":"VLOOKUP(VLOOKUP($F13,'Data BI Summary'!$A:$P,MATCH($M$2,'Data BI Summary'!$2:$2,0),FALSE),INDIRECT(\"'\"&$E13&\"'!\"&\"$A:$K\"),8,FALSE)","v":-1.2556850000000281},{"$f":"VLOOKUP(VLOOKUP($F13,'Data BI Summary'!$A:$P,MATCH($M$2,'Data BI Summary'!$2:$2,0),FALSE),INDIRECT(\"'\"&$E13&\"'!\"&\"$A:$K\"),9,FALSE)","v":-3.3630786412913757E-3}]
["GSd","Average",{"$f":"VLOOKUP(A14,'Data Billing Quantities'!A:P,MATCH(B14&\" kWh\",'Data Billing Quantities'!$4:$4,0),FALSE)","v":34334},{"$f":"VLOOKUP(A14,'Data Billing Quantities'!A:P,MATCH(B14&\" kW\",'Data Billing Quantities'!$4:$4,0),FALSE)","v":110},"BI_GSd_Avg","BI Template_Demand",{"$f":"VLOOKUP(VLOOKUP($F14,'Data BI Summary'!$A:$P,MATCH($G$2,'Data BI Summary'!$2:$2,0),FALSE),INDIRECT(\"'\"&$E14&\"'!\"&\"$A:$K\"),8,FALSE)","v":43.030999999999949},{"$f":"VLOOKUP(VLOOKUP($F14,'Data BI Summary'!$A:$P,MATCH($G$2,'Data BI Summary'!$2:$2,0),FALSE),INDIRECT(\"'\"&$E14&\"'!\"&\"$A:$K\"),9,FALSE)","v":1.7552232279612001E-2},{"$f":"VLOOKUP(VLOOKUP($F14,'Data BI Summary'!$A:$P,MATCH($I$2,'Data BI Summary'!$2:$2,0),FALSE),INDIRECT(\"'\"&$E14&\"'!\"&\"$A:$K\"),8,FALSE)","v":417.82900000000018},{"$f":"VLOOKUP(VLOOKUP($F14,'Data BI Summary'!$A:$P,MATCH($I$2,'Data BI Summary'!$2:$2,0),FALSE),INDIRECT(\"'\"&$E14&\"'!\"&\"$A:$K\"),9,FALSE)","v":0.18149864033158525},{"$f":"VLOOKUP(VLOOKUP($F14,'Data BI Summary'!$A:$P,MATCH($K$2,'Data BI Summary'!$2:$2,0),FALSE),INDIRECT(\"'\"&$E14&\"'!\"&\"$A:$K\"),8,FALSE)","v":434.29600000000028},{"$f":"VLOOKUP(VLOOKUP($F14,'Data BI Summary'!$A:$P,MATCH($K$2,'Data BI Summary'!$2:$2,0),FALSE),INDIRECT(\"'\"&$E14&\"'!\"&\"$A:$K\"),9,FALSE)","v":0.14791531822828047},{"$f":"VLOOKUP(VLOOKUP($F14,'Data BI Summary'!$A:$P,MATCH($M$2,'Data BI Summary'!$2:$2,0),FALSE),INDIRECT(\"'\"&$E14&\"'!\"&\"$A:$K\"),8,FALSE)","v":490.75448000000142},{"$f":"VLOOKUP(VLOOKUP($F14,'Data BI Summary'!$A:$P,MATCH($M$2,'Data BI Summary'!$2:$2,0),FALSE),INDIRECT(\"'\"&$E14&\"'!\"&\"$A:$K\"),9,FALSE)","v":4.8560495807177854E-2}]
["UGd","Average",{"$f":"VLOOKUP(A15,'Data Billing Quantities'!A:P,MATCH(B15&\" kWh\",'Data Billing Quantities'!$4:$4,0),FALSE)","v":42592},{"$f":"VLOOKUP(A15,'Data Billing Quantities'!A:P,MATCH(B15&\" kW\",'Data Billing Quantities'!$4:$4,0),FALSE)","v":111},"BI_UGd_Avg","BI Template_Demand",{"$f":"VLOOKUP(VLOOKUP($F15,'Data BI Summary'!$A:$P,MATCH($G$2,'Data BI Summary'!$2:$2,0),FALSE),INDIRECT(\"'\"&$E15&\"'!\"&\"$A:$K\"),8,FALSE)","v":25.716499999999996},{"$f":"VLOOKUP(VLOOKUP($F15,'Data BI Summary'!$A:$P,MATCH($G$2,'Data BI Summary'!$2:$2,0),FALSE),INDIRECT(\"'\"&$E15&\"'!\"&\"$A:$K\"),9,FALSE)","v":1.7460786813274853E-2},{"$f":"VLOOKUP(VLOOKUP($F15,'Data BI Summary'!$A:$P,MATCH($I$2,'Data BI Summary'!$2:$2,0),FALSE),INDIRECT(\"'\"&$E15&\"'!\"&\"$A:$K\"),8,FALSE)","v":491.5781999999997},{"$f":"VLOOKUP(VLOOKUP($F15,'Data BI Summary'!$A:$P,MATCH($I$2,'Data BI Summary'!$2:$2,0),FALSE),INDIRECT(\"'\"&$E15&\"'!\"&\"$A:$K\"),9,FALSE)","v":0.38203690969726634},{"$f":"VLOOKUP(VLOOKUP($F15,'Data BI Summary'!$A:$P,MATCH($K$2,'Data BI Summary'!$2:$2,0),FALSE),INDIRECT(\"'\"&$E15&\"'!\"&\"$A:$K\"),8,FALSE)","v":512.6903999999995},{"$f":"VLOOKUP(VLOOKUP($F15,'Data BI Summary'!$A:$P,MATCH($K$2,'Data BI Summary'!$2:$2,0),FALSE),INDIRECT(\"'\"&$E15&\"'!\"&\"$A:$K\"),9,FALSE)","v":0.24432244666706132},{"$f":"VLOOKUP(VLOOKUP($F15,'Data BI Summary'!$A:$P,MATCH($M$2,'Data BI Summary'!$2:$2,0),FALSE),INDIRECT(\"'\"&$E15&\"'!\"&\"$A:$K\"),8,FALSE)","v":579.34015200000067},{"$f":"VLOOKUP(VLOOKUP($F15,'Data BI Summary'!$A:$P,MATCH($M$2,'Data BI Summary'!$2:$2,0),FALSE),INDIRECT(\"'\"&$E15&\"'!\"&\"$A:$K\"),9,FALSE)","v":5.4119749417511506E-2}]
["St Lgt","Average",{"$f":"VLOOKUP(A16,'Data Billing Quantities'!A:P,MATCH(B16&\" kWh\",'Data Billing Quantities'!$4:$4,0),FALSE)","v":1274},null,"BI_StLgt_Avg","BI Template_Unmtr",{"$f":"VLOOKUP(VLOOKUP($F16,'Data BI Summary'!$A:$P,MATCH($G$2,'Data BI Summary'!$2:$2,0),FALSE),INDIRECT(\"'\"&$E16&\"'!\"&\"$A:$K\"),8,FALSE)","v":2.7927999999999997},{"$f":"VLOOKUP(VLOOKUP($F16,'Data BI Summary'!$A:$P,MATCH($G$2,'Data BI Summary'!$2:$2,0),FALSE),INDIRECT(\"'\"&$E16&\"'!\"&\"$A:$K\"),9,FALSE)","v":1.743980556939766E-2},{"$f":"VLOOKUP(VLOOKUP($F16,'Data BI Summary'!$A:$P,MATCH($I$2,'Data BI Summary'!$2:$2,0),FALSE),INDIRECT(\"'\"&$E16&\"'!\"&\"$A:$K\"),8,FALSE)","v":0.1174000000000035},{"$f":"VLOOKUP(VLOOKUP($F16,'Data BI Summary'!$A:$P,MATCH($I$2,'Data BI Summary'!$2:$2,0),FALSE),INDIRECT(\"'\"&$E16&\"'!\"&\"$A:$K\"),9,FALSE)","v":6.8127506094106107E-4},{"$f":"VLOOKUP(VLOOKUP($F16,'Data BI Summary'!$A:$P,MATCH($K$2,'Data BI Summary'!$2:$2,0),FALSE),INDIRECT(\"'\"&$E16&\"'!\"&\"$A:$K\"),8,FALSE)","v":0.5347624000000053},{"$f":"VLOOKUP(VLOOKUP($F16,'Data BI Summary'!$A:$P,MATCH($K$2,'Data BI Summary'!$2:$2,0),FALSE),INDIRECT(\"'\"&$E16&\"'!\"&\"$A:$K\"),9,FALSE)","v":2.8064333651652133E-3},{"$f":"VLOOKUP(VLOOKUP($F16,'Data BI Summary'!$A:$P,MATCH($M$2,'Data BI Summary'!$2:$2,0),FALSE),INDIRECT(\"'\"&$E16&\"'!\"&\"$A:$K\"),8,FALSE)","v":0.47861234800001284},{"$f":"VLOOKUP(VLOOKUP($F16,'Data BI Summary'!$A:$P,MATCH($M$2,'Data BI Summary'!$2:$2,0),FALSE),INDIRECT(\"'\"&$E16&\"'!\"&\"$A:$K\"),9,FALSE)","v":1.4748804658269135E-3}]
["Sen Lgt","Average",{"$f":"VLOOKUP(A17,'Data Billing Quantities'!A:P,MATCH(B17&\" kWh\",'Data Billing Quantities'!$4:$4,0),FALSE)","v":49},null,"BI_SenLgt_Avg","BI Template_Unmtr",{"$f":"VLOOKUP(VLOOKUP($F17,'Data BI Summary'!$A:$P,MATCH($G$2,'Data BI Summary'!$2:$2,0),FALSE),INDIRECT(\"'\"&$E17&\"'!\"&\"$A:$K\"),8,FALSE)","v":0.20129999999999981},{"$f":"VLOOKUP(VLOOKUP($F17,'Data BI Summary'!$A:$P,MATCH($G$2,'Data BI Summary'!$2:$2,0),FALSE),INDIRECT(\"'\"&$E17&\"'!\"&\"$A:$K\"),9,FALSE)","v":1.5899971564879455E-2},{"$f":"VLOOKUP(VLOOKUP($F17,'Data BI Summary'!$A:$P,MATCH($I$2,'Data BI Summary'!$2:$2,0),FALSE),INDIRECT(\"'\"&$E17&\"'!\"&\"$A:$K\"),8,FALSE)","v":9.8399999999998045E-2},{"$f":"VLOOKUP(VLOOKUP($F17,'Data BI Summary'!$A:$P,MATCH($I$2,'Data BI Summary'!$2:$2,0),FALSE),INDIRECT(\"'\"&$E17&\"'!\"&\"$A:$K\"),9,FALSE)","v":7.5518846710554101E-3},{"$f":"VLOOKUP(VLOOKUP($F17,'Data BI Summary'!$A:$P,MATCH($K$2,'Data BI Summary'!$2:$2,0),FALSE),INDIRECT(\"'\"&$E17&\"'!\"&\"$A:$K\"),8,FALSE)","v":0.11445239999999934},{"$f":"VLOOKUP(VLOOKUP($F17,'Data BI Summary'!$A:$P,MATCH($K$2,'Data BI Summary'!$2:$2,0),FALSE),INDIRECT(\"'\"&$E17&\"'!\"&\"$A:$K\"),9,FALSE)","v":8.3354412441714199E-3},{"$f":"VLOOKUP(VLOOKUP($F17,'Data BI Summary'!$A:$P,MATCH($M$2,'Data BI Summary'!$2:$2,0),FALSE),INDIRECT(\"'\"&$E17&\"'!\"&\"$A:$K\"),8,FALSE)","v":0.1024348979999985},{"$f":"VLOOKUP(VLOOKUP($F17,'Data BI Summary'!$A:$P,MATCH($M$2,'Data BI Summary'!$2:$2,0),FALSE),INDIRECT(\"'\"&$E17&\"'!\"&\"$A:$K\"),9,FALSE)","v":5.6815968255446271E-3}]
["USL","Average",{"$f":"VLOOKUP(A18,'Data Billing Quantities'!A:P,MATCH(B18&\" kWh\",'Data Billing Quantities'!$4:$4,0),FALSE)","v":477},null,"BI_USL_Avg","BI Template_Unmtr",{"$f":"VLOOKUP(VLOOKUP($F18,'Data BI Summary'!$A:$P,MATCH($G$2,'Data BI Summary'!$2:$2,0),FALSE),INDIRECT(\"'\"&$E18&\"'!\"&\"$A:$K\"),8,FALSE)","v":0.93189999999999884},{"$f":"VLOOKUP(VLOOKUP($F18,'Data BI Summary'!$A:$P,MATCH($G$2,'Data BI Summary'!$2:$2,0),FALSE),INDIRECT(\"'\"&$E18&\"'!\"&\"$A:$K\"),9,FALSE)","v":1.7186814159618435E-2},{"$f":"VLOOKUP(VLOOKUP($F18,'Data BI Summary'!$A:$P,MATCH($I$2,'Data BI Summary'!$2:$2,0),FALSE),INDIRECT(\"'\"&$E18&\"'!\"&\"$A:$K\"),8,FALSE)","v":7.3299999999996146E-2},{"$f":"VLOOKUP(VLOOKUP($F18,'Data BI Summary'!$A:$P,MATCH($I$2,'Data BI Summary'!$2:$2,0),FALSE),INDIRECT(\"'\"&$E18&\"'!\"&\"$A:$K\"),9,FALSE)","v":1.2677629501206388E-3},{"$f":"VLOOKUP(VLOOKUP($F18,'Data BI Summary'!$A:$P,MATCH($K$2,'Data BI Summary'!$2:$2,0),FALSE),INDIRECT(\"'\"&$E18&\"'!\"&\"$A:$K\"),8,FALSE)","v":0.28165359999998429},{"$f":"VLOOKUP(VLOOKUP($F18,'Data BI Summary'!$A:$P,MATCH($K$2,'Data BI Summary'!$2:$2,0),FALSE),INDIRECT(\"'\"&$E18&\"'!\"&\"$A:$K\"),9,FALSE)","v":4.30167220669326E-3},{"$f":"VLOOKUP(VLOOKUP($F18,'Data BI Summary'!$A:$P,MATCH($M$2,'Data BI Summary'!$2:$2,0),FALSE),INDIRECT(\"'\"&$E18&\"'!\"&\"$A:$K\"),8,FALSE)","v":0.25207997199998999},{"$f":"VLOOKUP(VLOOKUP($F18,'Data BI Summary'!$A:$P,MATCH($M$2,'Data BI Summary'!$2:$2,0),FALSE),INDIRECT(\"'\"&$E18&\"'!\"&\"$A:$K\"),9,FALSE)","v":2.2402165469910438E-3}]
["DGen","Average",{"$f":"VLOOKUP(A19,'Data Billing Quantities'!A:P,MATCH(B19&\" kWh\",'Data Billing Quantities'!$4:$4,0),FALSE)","v":1709},{"$f":"VLOOKUP(A19,'Data Billing Quantities'!A:P,MATCH(B19&\" kW\",'Data Billing Quantities'!$4:$4,0),FALSE)","v":12},"BI_Dgen_Avg","BI Template_Demand",{"$f":"VLOOKUP(VLOOKUP($F19,'Data BI Summary'!$A:$P,MATCH($G$2,'Data BI Summary'!$2:$2,0),FALSE),INDIRECT(\"'\"&$E19&\"'!\"&\"$A:$K\"),8,FALSE)","v":7.4259999999999877},{"$f":"VLOOKUP(VLOOKUP($F19,'Data BI Summary'!$A:$P,MATCH($G$2,'Data BI Summary'!$2:$2,0),FALSE),INDIRECT(\"'\"&$E19&\"'!\"&\"$A:$K\"),9,FALSE)","v":2.0206274883703686E-2},{"$f":"VLOOKUP(VLOOKUP($F19,'Data BI Summary'!$A:$P,MATCH($I$2,'Data BI Summary'!$2:$2,0),FALSE),INDIRECT(\"'\"&$E19&\"'!\"&\"$A:$K\"),8,FALSE)","v":25.850999999999999},{"$f":"VLOOKUP(VLOOKUP($F19,'Data BI Summary'!$A:$P,MATCH($I$2,'Data BI Summary'!$2:$2,0),FALSE),INDIRECT(\"'\"&$E19&\"'!\"&\"$A:$K\"),9,FALSE)","v":7.1827666947019905E-2},{"$f":"VLOOKUP(VLOOKUP($F19,'Data BI Summary'!$A:$P,MATCH($K$2,'Data BI Summary'!$2:$2,0),FALSE),INDIRECT(\"'\"&$E19&\"'!\"&\"$A:$K\"),8,FALSE)","v":26.747400000000027},{"$f":"VLOOKUP(VLOOKUP($F19,'Data BI Summary'!$A:$P,MATCH($K$2,'Data BI Summary'!$2:$2,0),FALSE),INDIRECT(\"'\"&$E19&\"'!\"&\"$A:$K\"),9,FALSE)","v":6.7838471424038843E-2},{"$f":"VLOOKUP(VLOOKUP($F19,'Data BI Summary'!$A:$P,MATCH($M$2,'Data BI Summary'!$2:$2,0),FALSE),INDIRECT(\"'\"&$E19&\"'!\"&\"$A:$K\"),8,FALSE)","v":23.938923000000045},{"$f":"VLOOKUP(VLOOKUP($F19,'Data BI Summary'!$A:$P,MATCH($M$2,'Data BI Summary'!$2:$2,0),FALSE),INDIRECT(\"'\"&$E19&\"'!\"&\"$A:$K\"),9,FALSE)","v":3.856673744720044E-2}]
["ST","Average",{"$f":"VLOOKUP(A20,'Data Billing Quantities'!A:P,MATCH(B20&\" kWh\",'Data Billing Quantities'!$4:$4,0),FALSE)","v":1373443},{"$f":"VLOOKUP(A20,'Data Billing Quantities'!A:P,MATCH(B20&\" kW\",'Data Billing Quantities'!$4:$4,0),FALSE)","v":2808},"BI_ST_Avg","BI Template_Demand",{"$f":"VLOOKUP(VLOOKUP($F20,'Data BI Summary'!$A:$P,MATCH($G$2,'Data BI Summary'!$2:$2,0),FALSE),INDIRECT(\"'\"&$E20&\"'!\"&\"$A:$K\"),8,FALSE)","v":98.638799999999719},{"$f":"VLOOKUP(VLOOKUP($F20,'Data BI Summary'!$A:$P,MATCH($G$2,'Data BI Summary'!$2:$2,0),FALSE),INDIRECT(\"'\"&$E20&\"'!\"&\"$A:$K\"),9,FALSE)","v":1.6379171949058115E-2},{"$f":"VLOOKUP(VLOOKUP($F20,'Data BI Summary'!$A:$P,MATCH($I$2,'Data BI Summary'!$2:$2,0),FALSE),INDIRECT(\"'\"&$E20&\"'!\"&\"$A:$K\"),8,FALSE)","v":16454.768199999999},{"$f":"VLOOKUP(VLOOKUP($F20,'Data BI Summary'!$A:$P,MATCH($I$2,'Data BI Summary'!$2:$2,0),FALSE),INDIRECT(\"'\"&$E20&\"'!\"&\"$A:$K\"),9,FALSE)","v":1139.0299384617463},{"$f":"VLOOKUP(VLOOKUP($F20,'Data BI Summary'!$A:$P,MATCH($K$2,'Data BI Summary'!$2:$2,0),FALSE),INDIRECT(\"'\"&$E20&\"'!\"&\"$A:$K\"),8,FALSE)","v":17171.931399999998},{"$f":"VLOOKUP(VLOOKUP($F20,'Data BI Summary'!$A:$P,MATCH($K$2,'Data BI Summary'!$2:$2,0),FALSE),INDIRECT(\"'\"&$E20&\"'!\"&\"$A:$K\"),9,FALSE)","v":0.62251371760605123},{"$f":"VLOOKUP(VLOOKUP($F20,'Data BI Summary'!$A:$P,MATCH($M$2,'Data BI Summary'!$2:$2,0),FALSE),INDIRECT(\"'\"&$E20&\"'!\"&\"$A:$K\"),8,FALSE)","v":19404.28248200001},{"$f":"VLOOKUP(VLOOKUP($F20,'Data BI Summary'!$A:$P,MATCH($M$2,'Data BI Summary'!$2:$2,0),FALSE),INDIRECT(\"'\"&$E20&\"'!\"&\"$A:$K\"),9,FALSE)","v":6.5600269808580081E-2}]

{"sheet":"Bill Impact Summary_Acq","index":11,"n_rows":31,"n_cols":14,"rows_kept":31,"cut":false,"hidden":false,"merged":[[9,0,9,0],[0,5,2,5],[0,4,2,4],[0,3,2,3],[0,2,2,2],[0,0,2,0],[0,1,2,1],[0,6,0,11],[0,12,0,13],[1,6,1,7],[1,8,1,9],[1,10,1,11],[1,12,1,13]]}
["Rate Class","Consumption Level","Monthly Consumption (kWh)","Monthly Peak (kW)","BI Worksheet","Template","Sub-Total",null,null,null,null,null,"Total"]
[null,null,null,null,null,null,"A",null,"B",null,"C",null,"Total Bill"]
[null,null,null,null,null,null,"$","%","$","%","$","%","$","%"]
["WHSI to HONI"]
["AUR-WHSI","Typical",{"$f":"VLOOKUP(A$5,'Data Billing Quantities'!A:P,MATCH($B5&\" kWh\",'Data Billing Quantities'!$4:$4,0),FALSE)","v":750},null,"BI_WHSI_AUR_Typical","BI Template_Energy",{"$f":"VLOOKUP(VLOOKUP($F5,'Data BI Summary'!$A:$P,MATCH($G$2,'Data BI Summary'!$2:$2,0),FALSE),INDIRECT(\"'\"&$E5&\"'!\"&\"$A:$K\"),8,FALSE)","v":0.89000000000000057},{"$f":"VLOOKUP(VLOOKUP($F5,'Data BI Summary'!$A:$P,MATCH($G$2,'Data BI Summary'!$2:$2,0),FALSE),INDIRECT(\"'\"&$E5&\"'!\"&\"$A:$K\"),9,FALSE)","v":2.620730270906951E-2},{"$f":"VLOOKUP(VLOOKUP($F5,'Data BI Summary'!$A:$P,MATCH($I$2,'Data BI Summary'!$2:$2,0),FALSE),INDIRECT(\"'\"&$E5&\"'!\"&\"$A:$K\"),8,FALSE)","v":-0.38500000000000512},{"$f":"VLOOKUP(VLOOKUP($F5,'Data BI Summary'!$A:$P,MATCH($I$2,'Data BI Summary'!$2:$2,0),FALSE),INDIRECT(\"'\"&$E5&\"'!\"&\"$A:$K\"),9,FALSE)","v":-1.0824482561618156E-2},{"$f":"VLOOKUP(VLOOKUP($F5,'Data BI Summary'!$A:$P,MATCH($K$2,'Data BI Summary'!$2:$2,0),FALSE),INDIRECT(\"'\"&$E5&\"'!\"&\"$A:$K\"),8,FALSE)","v":0.1625749999999897},{"$f":"VLOOKUP(VLOOKUP($F5,'Data BI Summary'!$A:$P,MATCH($K$2,'Data BI Summary'!$2:$2,0),FALSE),INDIRECT(\"'\"&$E5&\"'!\"&\"$A:$K\"),9,FALSE)","v":2.9831386380077948E-3},{"$f":"VLOOKUP(VLOOKUP($F5,'Data BI Summary'!$A:$P,MATCH($M$2,'Data BI Summary'!$2:$2,0),FALSE),INDIRECT(\"'\"&$E5&\"'!\"&\"$A:$K\"),8,FALSE)","v":0.14550462500002936},{"$f":"VLOOKUP(VLOOKUP($F5,'Data BI Summary'!$A:$P,MATCH($M$2,'Data BI Summary'!$2:$2,0),FALSE),INDIRECT(\"'\"&$E5&\"'!\"&\"$A:$K\"),9,FALSE)","v":1.0520345714448783E-3}]
["AUGe-WHSI","Typical",{"$f":"VLOOKUP(A$6,'Data Billing Quantities'!A:P,MATCH($B6&\" kWh\",'Data Billing Quantities'!$4:$4,0),FALSE)","v":2000},null,"BI_WHSI_AUGe_Typical","BI Template_Energy",{"$f":"VLOOKUP(VLOOKUP($F6,'Data BI Summary'!$A:$P,MATCH($G$2,'Data BI Summary'!$2:$2,0),FALSE),INDIRECT(\"'\"&$E6&\"'!\"&\"$A:$K\"),8,FALSE)","v":1.1000000000000014},{"$f":"VLOOKUP(VLOOKUP($F6,'Data BI Summary'!$A:$P,MATCH($G$2,'Data BI Summary'!$2:$2,0),FALSE),INDIRECT(\"'\"&$E6&\"'!\"&\"$A:$K\"),9,FALSE)","v":1.8044619422572201E-2},{"$f":"VLOOKUP(VLOOKUP($F6,'Data BI Summary'!$A:$P,MATCH($I$2,'Data BI Summary'!$2:$2,0),FALSE),INDIRECT(\"'\"&$E6&\"'!\"&\"$A:$K\"),8,FALSE)","v":-2.6999999999999957},{"$f":"VLOOKUP(VLOOKUP($F6,'Data BI Summary'!$A:$P,MATCH($I$2,'Data BI Summary'!$2:$2,0),FALSE),INDIRECT(\"'\"&$E6&\"'!\"&\"$A:$K\"),9,FALSE)","v":-4.1572538228258411E-2},{"$f":"VLOOKUP(VLOOKUP($F6,'Data BI Summary'!$A:$P,MATCH($K$2,'Data BI Summary'!$2:$2,0),FALSE),INDIRECT(\"'\"&$E6&\"'!\"&\"$A:$K\"),8,FALSE)","v":-1.6569999999999823},{"$f":"VLOOKUP(VLOOKUP($F6,'Data BI Summary'!$A:$P,MATCH($K$2,'Data BI Summary'!$2:$2,0),FALSE),INDIRECT(\"'\"&$E6&\"'!\"&\"$A:$K\"),9,FALSE)","v":-1.5812680147175132E-2},{"$f":"VLOOKUP(VLOOKUP($F6,'Data BI Summary'!$A:$P,MATCH($M$2,'Data BI Summary'!$2:$2,0),FALSE),INDIRECT(\"'\"&$E6&\"'!\"&\"$A:$K\"),8,FALSE)","v":-1.4830149999999662},{"$f":"VLOOKUP(VLOOKUP($F6,'Data BI Summary'!$A:$P,MATCH($M$2,'Data BI Summary'!$2:$2,0),FALSE),INDIRECT(\"'\"&$E6&\"'!\"&\"$A:$K\"),9,FALSE)","v":-4.4646812190664211E-3}]
["AUGd-WHSI","Average",{"$f":"VLOOKUP(A7,'Data Billing Quantities'!A:P,MATCH($B7&\" kWh\",'Data Billing Quantities'!$4:$4,0),FALSE)","v":47636},{"$f":"VLOOKUP(A7,'Data Billing Quantities'!A:P,MATCH(B7&\" kW\",'Data Billing Quantities'!$4:$4,0),FALSE)","v":134},"BI_WHSI_AUGd_Avg","BI Template_Demand",{"$f":"VLOOKUP(VLOOKUP($F7,'Data BI Summary'!$A:$P,MATCH($G$2,'Data BI Summary'!$2:$2,0),FALSE),INDIRECT(\"'\"&$E7&\"'!\"&\"$A:$K\"),8,FALSE)","v":12.801999999999907},{"$f":"VLOOKUP(VLOOKUP($F7,'Data BI Summary'!$A:$P,MATCH($G$2,'Data BI Summary'!$2:$2,0),FALSE),INDIRECT(\"'\"&$E7&\"'!\"&\"$A:$K\"),9,FALSE)","v":2.2556006800982981E-2},{"$f":"VLOOKUP(VLOOKUP($F7,'Data BI Summary'!$A:$P,MATCH($I$2,'Data BI Summary'!$2:$2,0),FALSE),INDIRECT(\"'\"&$E7&\"'!\"&\"$A:$K\"),8,FALSE)","v":508.6425999999999},{"$f":"VLOOKUP(VLOOKUP($F7,'Data BI Summary'!$A:$P,MATCH($I$2,'Data BI Summary'!$2:$2,0),FALSE),INDIRECT(\"'\"&$E7&\"'!\"&\"$A:$K\"),9,FALSE)","v":1.3916327360338117},{"$f":"VLOOKUP(VLOOKUP($F7,'Data BI Summary'!$A:$P,MATCH($K$2,'Data BI Summary'!$2:$2,0),FALSE),INDIRECT(\"'\"&$E7&\"'!\"&\"$A:$K\"),8,FALSE)","v":531.69060000000013},{"$f":"VLOOKUP(VLOOKUP($F7,'Data BI Summary'!$A:$P,MATCH($K$2,'Data BI Summary'!$2:$2,0),FALSE),INDIRECT(\"'\"&$E7&\"'!\"&\"$A:$K\"),9,FALSE)","v":0.42450340526891744},{"$f":"VLOOKUP(VLOOKUP($F7,'Data BI Summary'!$A:$P,MATCH($M$2,'Data BI Summary'!$2:$2,0),FALSE),INDIRECT(\"'\"&$E7&\"'!\"&\"$A:$K\"),8,FALSE)","v":600.81037800000013},{"$f":"VLOOKUP(VLOOKUP($F7,'Data BI Summary'!$A:$P,MATCH($M$2,'Data BI Summary'!$2:$2,0),FALSE),INDIRECT(\"'\"&$E7&\"'!\"&\"$A:$K\"),9,FALSE)","v":5.6761207664636791E-2}]
["St Lgt-WHSI","Average",{"$f":"VLOOKUP(A8,'Data Billing Quantities'!A:P,MATCH($B8&\" kWh\",'Data Billing Quantities'!$4:$4,0),FALSE)","v":37079},{"$f":"VLOOKUP(A$8,'Data Billing Quantities'!A:P,MATCH(B8&\" kW\",'Data Billing Quantities'!$4:$4,0),FALSE)","v":104},"BI_WHSI_StLgt_Avg","BI Template_Unmtr",{"$f":"VLOOKUP(VLOOKUP($F8,'Data BI Summary'!$A:$P,MATCH($G$2,'Data BI Summary'!$2:$2,0),FALSE),INDIRECT(\"'\"&$E8&\"'!\"&\"$A:$K\"),8,FALSE)","v":114.9349000000002},{"$f":"VLOOKUP(VLOOKUP($F8,'Data BI Summary'!$A:$P,MATCH($G$2,'Data BI Summary'!$2:$2,0),FALSE),INDIRECT(\"'\"&$E8&\"'!\"&\"$A:$K\"),9,FALSE)","v":2.5347525048607746E-2},{"$f":"VLOOKUP(VLOOKUP($F8,'Data BI Summary'!$A:$P,MATCH($I$2,'Data BI Summary'!$2:$2,0),FALSE),INDIRECT(\"'\"&$E8&\"'!\"&\"$A:$K\"),8,FALSE)","v":33.361100000000079},{"$f":"VLOOKUP(VLOOKUP($F8,'Data BI Summary'!$A:$P,MATCH($I$2,'Data BI Summary'!$2:$2,0),FALSE),INDIRECT(\"'\"&$E8&\"'!\"&\"$A:$K\"),9,FALSE)","v":7.567800813339378E-3},{"$f":"VLOOKUP(VLOOKUP($F8,'Data BI Summary'!$A:$P,MATCH($K$2,'Data BI Summary'!$2:$2,0),FALSE),INDIRECT(\"'\"&$E8&\"'!\"&\"$A:$K\"),8,FALSE)","v":45.508180400000128},{"$f":"VLOOKUP(VLOOKUP($F8,'Data BI Summary'!$A:$P,MATCH($K$2,'Data BI Summary'!$2:$2,0),FALSE),INDIRECT(\"'\"&$E8&\"'!\"&\"$A:$K\"),9,FALSE)","v":9.2145741192056242E-3},{"$f":"VLOOKUP(VLOOKUP($F8,'Data BI Summary'!$A:$P,MATCH($M$2,'Data BI Summary'!$2:$2,0),FALSE),INDIRECT(\"'\"&$E8&\"'!\"&\"$A:$K\"),8,FALSE)","v":51.424243852001382},{"$f":"VLOOKUP(VLOOKUP($F8,'Data BI Summary'!$A:$P,MATCH($M$2,'Data BI Summary'!$2:$2,0),FALSE),INDIRECT(\"'\"&$E8&\"'!\"&\"$A:$K\"),9,FALSE)","v":4.1801690595110116E-3}]
["USL-WHSI","Average",{"$f":"VLOOKUP(A9,'Data Billing Quantities'!A:P,MATCH($B9&\" kWh\",'Data Billing Quantities'!$4:$4,0),FALSE)","v":1349},null,"BI_WHSI_USL_Avg","BI Template_Unmtr",{"$f":"VLOOKUP(VLOOKUP($F9,'Data BI Summary'!$A:$P,MATCH($G$2,'Data BI Summary'!$2:$2,0),FALSE),INDIRECT(\"'\"&$E9&\"'!\"&\"$A:$K\"),8,FALSE)","v":5.0303000000000111},{"$f":"VLOOKUP(VLOOKUP($F9,'Data BI Summary'!$A:$P,MATCH($G$2,'Data BI Summary'!$2:$2,0),FALSE),INDIRECT(\"'\"&$E9&\"'!\"&\"$A:$K\"),9,FALSE)","v":6.0353991644530328E-2},{"$f":"VLOOKUP(VLOOKUP($F9,'Data BI Summary'!$A:$P,MATCH($I$2,'Data BI Summary'!$2:$2,0),FALSE),INDIRECT(\"'\"&$E9&\"'!\"&\"$A:$K\"),8,FALSE)","v":2.8719000000000108},{"$f":"VLOOKUP(VLOOKUP($F9,'Data BI Summary'!$A:$P,MATCH($I$2,'Data BI Summary'!$2:$2,0),FALSE),INDIRECT(\"'\"&$E9&\"'!\"&\"$A:$K\"),9,FALSE)","v":2.9922283954941911E-2},{"$f":"VLOOKUP(VLOOKUP($F9,'Data BI Summary'!$A:$P,MATCH($K$2,'Data BI Summary'!$2:$2,0),FALSE),INDIRECT(\"'\"&$E9&\"'!\"&\"$A:$K\"),8,FALSE)","v":3.4611432000000093},{"$f":"VLOOKUP(VLOOKUP($F9,'Data BI Summary'!$A:$P,MATCH($K$2,'Data BI Summary'!$2:$2,0),FALSE),INDIRECT(\"'\"&$E9&\"'!\"&\"$A:$K\"),9,FALSE)","v":2.9423152335381338E-2},{"$f":"VLOOKUP(VLOOKUP($F9,'Data BI Summary'!$A:$P,MATCH($M$2,'Data BI Summary'!$2:$2,0),FALSE),INDIRECT(\"'\"&$E9&\"'!\"&\"$A:$K\"),8,FALSE)","v":3.0977231639999445},{"$f":"VLOOKUP(VLOOKUP($F9,'Data BI Summary'!$A:$P,MATCH($M$2,'Data BI Summary'!$2:$2,0),FALSE),INDIRECT(\"'\"&$E9&\"'!\"&\"$A:$K\"),9,FALSE)","v":1.1508419139273753E-2}]
["ST-WHSI","Average",{"$f":"VLOOKUP(A10,'Data Billing Quantities'!A:P,MATCH($B10&\" kWh\",'Data Billing Quantities'!$4:$4,0),FALSE)","v":895853},{"$f":"VLOOKUP(A$10,'Data Billing Quantities'!A:P,MATCH(B10&\" kW\",'Data Billing Quantities'!$4:$4,0),FALSE)","v":3301},"BI_WHSI_ST_Avg","BI Template_Demand",{"$f":"VLOOKUP(VLOOKUP($F10,'Data BI Summary'!$A:$P,MATCH($G$2,'Data BI Summary'!$2:$2,0),FALSE),INDIRECT(\"'\"&$E10&\"'!\"&\"$A:$K\"),8,FALSE)","v":243.41520000000037},{"$f":"VLOOKUP(VLOOKUP($F10,'Data BI Summary'!$A:$P,MATCH($G$2,'Data BI Summary'!$2:$2,0),FALSE),INDIRECT(\"'\"&$E10&\"'!\"&\"$A:$K\"),9,FALSE)","v":3.6111394053397493E-2},{"$f":"VLOOKUP(VLOOKUP($F10,'Data BI Summary'!$A:$P,MATCH($I$2,'Data BI Summary'!$2:$2,0),FALSE),INDIRECT(\"'\"&$E10&\"'!\"&\"$A:$K\"),8,FALSE)","v":10036.3228},{"$f":"VLOOKUP(VLOOKUP($F10,'Data BI Summary'!$A:$P,MATCH($I$2,'Data BI Summary'!$2:$2,0),FALSE),INDIRECT(\"'\"&$E10&\"'!\"&\"$A:$K\"),9,FALSE)","v":26.241757356790156},{"$f":"VLOOKUP(VLOOKUP($F10,'Data BI Summary'!$A:$P,MATCH($K$2,'Data BI Summary'!$2:$2,0),FALSE),INDIRECT(\"'\"&$E10&\"'!\"&\"$A:$K\"),8,FALSE)","v":10879.398199999996},{"$f":"VLOOKUP(VLOOKUP($F10,'Data BI Summary'!$A:$P,MATCH($K$2,'Data BI Summary'!$2:$2,0),FALSE),INDIRECT(\"'\"&$E10&\"'!\"&\"$A:$K\"),9,FALSE)","v":0.33141287631569111},{"$f":"VLOOKUP(VLOOKUP($F10,'Data BI Summary'!$A:$P,MATCH($M$2,'Data BI Summary'!$2:$2,0),FALSE),INDIRECT(\"'\"&$E10&\"'!\"&\"$A:$K\"),8,FALSE)","v":12293.719966000004},{"$f":"VLOOKUP(VLOOKUP($F10,'Data BI Summary'!$A:$P,MATCH($M$2,'Data BI Summary'!$2:$2,0),FALSE),INDIRECT(\"'\"&$E10&\"'!\"&\"$A:$K\"),9,FALSE)","v":5.8624894034979856E-2}]
["NPDI to HONI"]
["AR-NPDI","Typical",{"$f":"VLOOKUP(A12,'Data Billing Quantities'!A:P,MATCH($B12&\" kWh\",'Data Billing Quantities'!$4:$4,0),FALSE)","v":750},null,"BI_NPDI_AR_Typical","BI Template_Energy",{"$f":"VLOOKUP(VLOOKUP($F12,'Data BI Summary'!$A:$P,MATCH($G$2,'Data BI Summary'!$2:$2,0),FALSE),INDIRECT(\"'\"&$E12&\"'!\"&\"$A:$K\"),8,FALSE)","v":1.0300000000000011},{"$f":"VLOOKUP(VLOOKUP($F12,'Data BI Summary'!$A:$P,MATCH($G$2,'Data BI Summary'!$2:$2,0),FALSE),INDIRECT(\"'\"&$E12&\"'!\"&\"$A:$K\"),9,FALSE)","v":2.4951550387596926E-2},{"$f":"VLOOKUP(VLOOKUP($F12,'Data BI Summary'!$A:$P,MATCH($I$2,'Data BI Summary'!$2:$2,0),FALSE),INDIRECT(\"'\"&$E12&\"'!\"&\"$A:$K\"),8,FALSE)","v":-0.24500000000000455},{"$f":"VLOOKUP(VLOOKUP($F12,'Data BI Summary'!$A:$P,MATCH($I$2,'Data BI Summary'!$2:$2,0),FALSE),INDIRECT(\"'\"&$E12&\"'!\"&\"$A:$K\"),9,FALSE)","v":-5.4479601947568937E-3},{"$f":"VLOOKUP(VLOOKUP($F12,'Data BI Summary'!$A:$P,MATCH($K$2,'Data BI Summary'!$2:$2,0),FALSE),INDIRECT(\"'\"&$E12&\"'!\"&\"$A:$K\"),8,FALSE)","v":0.23379999999999512},{"$f":"VLOOKUP(VLOOKUP($F12,'Data BI Summary'!$A:$P,MATCH($K$2,'Data BI Summary'!$2:$2,0),FALSE),INDIRECT(\"'\"&$E12&\"'!\"&\"$A:$K\"),9,FALSE)","v":3.6781617875173301E-3},{"$f":"VLOOKUP(VLOOKUP($F12,'Data BI Summary'!$A:$P,MATCH($M$2,'Data BI Summary'!$2:$2,0),FALSE),INDIRECT(\"'\"&$E12&\"'!\"&\"$A:$K\"),8,FALSE)","v":0.20925099999999475},{"$f":"VLOOKUP(VLOOKUP($F12,'Data BI Summary'!$A:$P,MATCH($M$2,'Data BI Summary'!$2:$2,0),FALSE),INDIRECT(\"'\"&$E12&\"'!\"&\"$A:$K\"),9,FALSE)","v":1.4283640600631002E-3}]
["AGSe-NPDI","Typical",{"$f":"VLOOKUP(A13,'Data Billing Quantities'!A:P,MATCH($B13&\" kWh\",'Data Billing Quantities'!$4:$4,0),FALSE)","v":2000},null,"BI_NPDI_AGSe_Typical","BI Template_Energy",{"$f":"VLOOKUP(VLOOKUP($F13,'Data BI Summary'!$A:$P,MATCH($G$2,'Data BI Summary'!$2:$2,0),FALSE),INDIRECT(\"'\"&$E13&\"'!\"&\"$A:$K\"),8,FALSE)","v":1.8299999999999983},{"$f":"VLOOKUP(VLOOKUP($F13,'Data BI Summary'!$A:$P,MATCH($G$2,'Data BI Summary'!$2:$2,0),FALSE),INDIRECT(\"'\"&$E13&\"'!\"&\"$A:$K\"),9,FALSE)","v":2.2219524040796482E-2},{"$f":"VLOOKUP(VLOOKUP($F13,'Data BI Summary'!$A:$P,MATCH($I$2,'Data BI Summary'!$2:$2,0),FALSE),INDIRECT(\"'\"&$E13&\"'!\"&\"$A:$K\"),8,FALSE)","v":-1.9699999999999989},{"$f":"VLOOKUP(VLOOKUP($F13,'Data BI Summary'!$A:$P,MATCH($I$2,'Data BI Summary'!$2:$2,0),FALSE),INDIRECT(\"'\"&$E13&\"'!\"&\"$A:$K\"),9,FALSE)","v":-2.1435746730014908E-2},{"$f":"VLOOKUP(VLOOKUP($F13,'Data BI Summary'!$A:$P,MATCH($K$2,'Data BI Summary'!$2:$2,0),FALSE),INDIRECT(\"'\"&$E13&\"'!\"&\"$A:$K\"),8,FALSE)","v":-0.90599999999997749},{"$f":"VLOOKUP(VLOOKUP($F13,'Data BI Summary'!$A:$P,MATCH($K$2,'Data BI Summary'!$2:$2,0),FALSE),INDIRECT(\"'\"&$E13&\"'!\"&\"$A:$K\"),9,FALSE)","v":-6.8683734599983021E-3},{"$f":"VLOOKUP(VLOOKUP($F13,'Data BI Summary'!$A:$P,MATCH($M$2,'Data BI Summary'!$2:$2,0),FALSE),INDIRECT(\"'\"&$E13&\"'!\"&\"$A:$K\"),8,FALSE)","v":-0.81086999999996578},{"$f":"VLOOKUP(VLOOKUP($F13,'Data BI Summary'!$A:$P,MATCH($M$2,'Data BI Summary'!$2:$2,0),FALSE),INDIRECT(\"'\"&$E13&\"'!\"&\"$A:$K\"),9,FALSE)","v":-2.273654894722154E-3}]
["AGSd-NPDI","Average",{"$f":"VLOOKUP(A14,'Data Billing Quantities'!A:P,MATCH($B14&\" kWh\",'Data Billing Quantities'!$4:$4,0),FALSE)","v":70294},{"$f":"VLOOKUP(A14,'Data Billing Quantities'!A:P,MATCH(B14&\" kW\",'Data Billing Quantities'!$4:$4,0),FALSE)","v":181},"BI_NPDI_AGSd_Avg","BI Template_Demand",{"$f":"VLOOKUP(VLOOKUP($F14,'Data BI Summary'!$A:$P,MATCH($G$2,'Data BI Summary'!$2:$2,0),FALSE),INDIRECT(\"'\"&$E14&\"'!\"&\"$A:$K\"),8,FALSE)","v":26.794300000000021},{"$f":"VLOOKUP(VLOOKUP($F14,'Data BI Summary'!$A:$P,MATCH($G$2,'Data BI Summary'!$2:$2,0),FALSE),INDIRECT(\"'\"&$E14&\"'!\"&\"$A:$K\"),9,FALSE)","v":2.4615593510831164E-2},{"$f":"VLOOKUP(VLOOKUP($F14,'Data BI Summary'!$A:$P,MATCH($I$2,'Data BI Summary'!$2:$2,0),FALSE),INDIRECT(\"'\"&$E14&\"'!\"&\"$A:$K\"),8,FALSE)","v":795.61719999999991},{"$f":"VLOOKUP(VLOOKUP($F14,'Data BI Summary'!$A:$P,MATCH($I$2,'Data BI Summary'!$2:$2,0),FALSE),INDIRECT(\"'\"&$E14&\"'!\"&\"$A:$K\"),9,FALSE)","v":0.98411339373369799},{"$f":"VLOOKUP(VLOOKUP($F14,'Data BI Summary'!$A:$P,MATCH($K$2,'Data BI Summary'!$2:$2,0),FALSE),INDIRECT(\"'\"&$E14&\"'!\"&\"$A:$K\"),8,FALSE)","v":823.25589999999988},{"$f":"VLOOKUP(VLOOKUP($F14,'Data BI Summary'!$A:$P,MATCH($K$2,'Data BI Summary'!$2:$2,0),FALSE),INDIRECT(\"'\"&$E14&\"'!\"&\"$A:$K\"),9,FALSE)","v":0.43987580657122988},{"$f":"VLOOKUP(VLOOKUP($F14,'Data BI Summary'!$A:$P,MATCH($M$2,'Data BI Summary'!$2:$2,0),FALSE),INDIRECT(\"'\"&$E14&\"'!\"&\"$A:$K\"),8,FALSE)","v":930.27916699999878},{"$f":"VLOOKUP(VLOOKUP($F14,'Data BI Summary'!$A:$P,MATCH($M$2,'Data BI Summary'!$2:$2,0),FALSE),INDIRECT(\"'\"&$E14&\"'!\"&\"$A:$K\"),9,FALSE)","v":5.8479666831250957E-2}]
["St Lgt-NPDI","Average",{"$f":"VLOOKUP(A$15,'Data Billing Quantities'!A:P,MATCH($B15&\" kWh\",'Data Billing Quantities'!$4:$4,0),FALSE)","v":11389},{"$f":"VLOOKUP(A$15,'Data Billing Quantities'!A:P,MATCH(B15&\" kW\",'Data Billing Quantities'!$4:$4,0),FALSE)","v":39},"BI_NPDI_StLgt_Avg","BI Template_Unmtr",{"$f":"VLOOKUP(VLOOKUP($F15,'Data BI Summary'!$A:$P,MATCH($G$2,'Data BI Summary'!$2:$2,0),FALSE),INDIRECT(\"'\"&$E15&\"'!\"&\"$A:$K\"),8,FALSE)","v":33.018100000000459},{"$f":"VLOOKUP(VLOOKUP($F15,'Data BI Summary'!$A:$P,MATCH($G$2,'Data BI Summary'!$2:$2,0),FALSE),INDIRECT(\"'\"&$E15&\"'!\"&\"$A:$K\"),9,FALSE)","v":2.3629530053024553E-2},{"$f":"VLOOKUP(VLOOKUP($F15,'Data BI Summary'!$A:$P,MATCH($I$2,'Data BI Summary'!$2:$2,0),FALSE),INDIRECT(\"'\"&$E15&\"'!\"&\"$A:$K\"),8,FALSE)","v":13.656800000000658},{"$f":"VLOOKUP(VLOOKUP($F15,'Data BI Summary'!$A:$P,MATCH($I$2,'Data BI Summary'!$2:$2,0),FALSE),INDIRECT(\"'\"&$E15&\"'!\"&\"$A:$K\"),9,FALSE)","v":9.0942725929609482E-3},{"$f":"VLOOKUP(VLOOKUP($F15,'Data BI Summary'!$A:$P,MATCH($K$2,'Data BI Summary'!$2:$2,0),FALSE),INDIRECT(\"'\"&$E15&\"'!\"&\"$A:$K\"),8,FALSE)","v":17.387836400000651},{"$f":"VLOOKUP(VLOOKUP($F15,'Data BI Summary'!$A:$P,MATCH($K$2,'Data BI Summary'!$2:$2,0),FALSE),INDIRECT(\"'\"&$E15&\"'!\"&\"$A:$K\"),9,FALSE)","v":1.0445564599333332E-2},{"$f":"VLOOKUP(VLOOKUP($F15,'Data BI Summary'!$A:$P,MATCH($M$2,'Data BI Summary'!$2:$2,0),FALSE),INDIRECT(\"'\"&$E15&\"'!\"&\"$A:$K\"),8,FALSE)","v":15.562113578000663},{"$f":"VLOOKUP(VLOOKUP($F15,'Data BI Summary'!$A:$P,MATCH($M$2,'Data BI Summary'!$2:$2,0),FALSE),INDIRECT(\"'\"&$E15&\"'!\"&\"$A:$K\"),9,FALSE)","v":5.2191943968151909E-3}]
["Sen Lgt-NPDI","Average",{"$f":"VLOOKUP(A$16,'Data Billing Quantities'!A:P,MATCH($B16&\" kWh\",'Data Billing Quantities'!$4:$4,0),FALSE)","v":108},{"$f":"VLOOKUP(A$16,'Data Billing Quantities'!A:P,MATCH(B16&\" kW\",'Data Billing Quantities'!$4:$4,0),FALSE)","v":0.33680272108843551},"BI_NPDI_SenLgt_Avg","BI Template_Unmtr",{"$f":"VLOOKUP(VLOOKUP($F16,'Data BI Summary'!$A:$P,MATCH($G$2,'Data BI Summary'!$2:$2,0),FALSE),INDIRECT(\"'\"&$E16&\"'!\"&\"$A:$K\"),8,FALSE)","v":0.55999999999999872},{"$f":"VLOOKUP(VLOOKUP($F16,'Data BI Summary'!$A:$P,MATCH($G$2,'Data BI Summary'!$2:$2,0),FALSE),INDIRECT(\"'\"&$E16&\"'!\"&\"$A:$K\"),9,FALSE)","v":2.3622312961900531E-2},{"$f":"VLOOKUP(VLOOKUP($F16,'Data BI Summary'!$A:$P,MATCH($I$2,'Data BI Summary'!$2:$2,0),FALSE),INDIRECT(\"'\"&$E16&\"'!\"&\"$A:$K\"),8,FALSE)","v":0.38719999999999288},{"$f":"VLOOKUP(VLOOKUP($F16,'Data BI Summary'!$A:$P,MATCH($I$2,'Data BI Summary'!$2:$2,0),FALSE),INDIRECT(\"'\"&$E16&\"'!\"&\"$A:$K\"),9,FALSE)","v":1.582557858184476E-2},{"$f":"VLOOKUP(VLOOKUP($F16,'Data BI Summary'!$A:$P,MATCH($K$2,'Data BI Summary'!$2:$2,0),FALSE),INDIRECT(\"'\"&$E16&\"'!\"&\"$A:$K\"),8,FALSE)","v":0.42258079999999154},{"$f":"VLOOKUP(VLOOKUP($F16,'Data BI Summary'!$A:$P,MATCH($K$2,'Data BI Summary'!$2:$2,0),FALSE),INDIRECT(\"'\"&$E16&\"'!\"&\"$A:$K\"),9,FALSE)","v":1.6245808575482159E-2},{"$f":"VLOOKUP(VLOOKUP($F16,'Data BI Summary'!$A:$P,MATCH($M$2,'Data BI Summary'!$2:$2,0),FALSE),INDIRECT(\"'\"&$E16&\"'!\"&\"$A:$K\"),8,FALSE)","v":0.3782098159999876},{"$f":"VLOOKUP(VLOOKUP($F16,'Data BI Summary'!$A:$P,MATCH($M$2,'Data BI Summary'!$2:$2,0),FALSE),INDIRECT(\"'\"&$E16&\"'!\"&\"$A:$K\"),9,FALSE)","v":1.0605153007438473E-2}]
["USL-NPDI","Average",{"$f":"VLOOKUP(A$17,'Data Billing Quantities'!A:P,MATCH($B17&\" kWh\",'Data Billing Quantities'!$4:$4,0),FALSE)","v":904},null,"BI_NPDI_USL_Avg","BI Template_Unmtr",{"$f":"VLOOKUP(VLOOKUP($F17,'Data BI Summary'!$A:$P,MATCH($G$2,'Data BI Summary'!$2:$2,0),FALSE),INDIRECT(\"'\"&$E17&\"'!\"&\"$A:$K\"),8,FALSE)","v":3.3907999999999845},{"$f":"VLOOKUP(VLOOKUP($F17,'Data BI Summary'!$A:$P,MATCH($G$2,'Data BI Summary'!$2:$2,0),FALSE),INDIRECT(\"'\"&$E17&\"'!\"&\"$A:$K\"),9,FALSE)","v":4.9841544223566472E-2},{"$f":"VLOOKUP(VLOOKUP($F17,'Data BI Summary'!$A:$P,MATCH($I$2,'Data BI Summary'!$2:$2,0),FALSE),INDIRECT(\"'\"&$E17&\"'!\"&\"$A:$K\"),8,FALSE)","v":2.3963999999999857},{"$f":"VLOOKUP(VLOOKUP($F17,'Data BI Summary'!$A:$P,MATCH($I$2,'Data BI Summary'!$2:$2,0),FALSE),INDIRECT(\"'\"&$E17&\"'!\"&\"$A:$K\"),9,FALSE)","v":3.1513062535255404E-2},{"$f":"VLOOKUP(VLOOKUP($F17,'Data BI Summary'!$A:$P,MATCH($K$2,'Data BI Summary'!$2:$2,0),FALSE),INDIRECT(\"'\"&$E17&\"'!\"&\"$A:$K\"),8,FALSE)","v":2.7912671999999787},{"$f":"VLOOKUP(VLOOKUP($F17,'Data BI Summary'!$A:$P,MATCH($K$2,'Data BI Summary'!$2:$2,0),FALSE),INDIRECT(\"'\"&$E17&\"'!\"&\"$A:$K\"),9,FALSE)","v":3.0823649575009372E-2},{"$f":"VLOOKUP(VLOOKUP($F17,'Data BI Summary'!$A:$P,MATCH($M$2,'Data BI Summary'!$2:$2,0),FALSE),INDIRECT(\"'\"&$E17&\"'!\"&\"$A:$K\"),8,FALSE)","v":2.4981841439999926},{"$f":"VLOOKUP(VLOOKUP($F17,'Data BI Summary'!$A:$P,MATCH($M$2,'Data BI Summary'!$2:$2,0),FALSE),INDIRECT(\"'\"&$E17&\"'!\"&\"$A:$K\"),9,FALSE)","v":1.3425620160986544E-2}]
["HCHI to HONI"]
["AR-HCHI","Typical",{"$f":"VLOOKUP(A19,'Data Billing Quantities'!A:P,MATCH($B19&\" kWh\",'Data Billing Quantities'!$4:$4,0),FALSE)","v":750},null,"BI_HCHI_AR_Typical","BI Template_Energy",{"$f":"VLOOKUP(VLOOKUP($F19,'Data BI Summary'!$A:$P,MATCH($G$2,'Data BI Summary'!$2:$2,0),FALSE),INDIRECT(\"'\"&$E19&\"'!\"&\"$A:$K\"),8,FALSE)","v":1.0600000000000023},{"$f":"VLOOKUP(VLOOKUP($F19,'Data BI Summary'!$A:$P,MATCH($G$2,'Data BI Summary'!$2:$2,0),FALSE),INDIRECT(\"'\"&$E19&\"'!\"&\"$A:$K\"),9,FALSE)","v":2.5696969696969753E-2},{"$f":"VLOOKUP(VLOOKUP($F19,'Data BI Summary'!$A:$P,MATCH($I$2,'Data BI Summary'!$2:$2,0),FALSE),INDIRECT(\"'\"&$E19&\"'!\"&\"$A:$K\"),8,FALSE)","v":-0.28999999999999915},{"$f":"VLOOKUP(VLOOKUP($F19,'Data BI Summary'!$A:$P,MATCH($I$2,'Data BI Summary'!$2:$2,0),FALSE),INDIRECT(\"'\"&$E19&\"'!\"&\"$A:$K\"),9,FALSE)","v":-6.4421596251640328E-3},{"$f":"VLOOKUP(VLOOKUP($F19,'Data BI Summary'!$A:$P,MATCH($K$2,'Data BI Summary'!$2:$2,0),FALSE),INDIRECT(\"'\"&$E19&\"'!\"&\"$A:$K\"),8,FALSE)","v":0.18880000000000763},{"$f":"VLOOKUP(VLOOKUP($F19,'Data BI Summary'!$A:$P,MATCH($K$2,'Data BI Summary'!$2:$2,0),FALSE),INDIRECT(\"'\"&$E19&\"'!\"&\"$A:$K\"),9,FALSE)","v":2.9681166419534425E-3},{"$f":"VLOOKUP(VLOOKUP($F19,'Data BI Summary'!$A:$P,MATCH($M$2,'Data BI Summary'!$2:$2,0),FALSE),INDIRECT(\"'\"&$E19&\"'!\"&\"$A:$K\"),8,FALSE)","v":0.16897599999998647},{"$f":"VLOOKUP(VLOOKUP($F19,'Data BI Summary'!$A:$P,MATCH($M$2,'Data BI Summary'!$2:$2,0),FALSE),INDIRECT(\"'\"&$E19&\"'!\"&\"$A:$K\"),9,FALSE)","v":1.1531266712090462E-3}]
["AGSe-HCHI","Typical",{"$f":"VLOOKUP(A20,'Data Billing Quantities'!A:P,MATCH($B20&\" kWh\",'Data Billing Quantities'!$4:$4,0),FALSE)","v":2000},null,"BI_HCHI_AGSe_Typical","BI Template_Energy",{"$f":"VLOOKUP(VLOOKUP($F20,'Data BI Summary'!$A:$P,MATCH($G$2,'Data BI Summary'!$2:$2,0),FALSE),INDIRECT(\"'\"&$E20&\"'!\"&\"$A:$K\"),8,FALSE)","v":1.8299999999999983},{"$f":"VLOOKUP(VLOOKUP($F20,'Data BI Summary'!$A:$P,MATCH($G$2,'Data BI Summary'!$2:$2,0),FALSE),INDIRECT(\"'\"&$E20&\"'!\"&\"$A:$K\"),9,FALSE)","v":2.2219524040796482E-2},{"$f":"VLOOKUP(VLOOKUP($F20,'Data BI Summary'!$A:$P,MATCH($I$2,'Data BI Summary'!$2:$2,0),FALSE),INDIRECT(\"'\"&$E20&\"'!\"&\"$A:$K\"),8,FALSE)","v":-2.1700000000000017},{"$f":"VLOOKUP(VLOOKUP($F20,'Data BI Summary'!$A:$P,MATCH($I$2,'Data BI Summary'!$2:$2,0),FALSE),INDIRECT(\"'\"&$E20&\"'!\"&\"$A:$K\"),9,FALSE)","v":-2.3560691472636612E-2},{"$f":"VLOOKUP(VLOOKUP($F20,'Data BI Summary'!$A:$P,MATCH($K$2,'Data BI Summary'!$2:$2,0),FALSE),INDIRECT(\"'\"&$E20&\"'!\"&\"$A:$K\"),8,FALSE)","v":-1.1059999999999945},{"$f":"VLOOKUP(VLOOKUP($F20,'Data BI Summary'!$A:$P,MATCH($K$2,'Data BI Summary'!$2:$2,0),FALSE),INDIRECT(\"'\"&$E20&\"'!\"&\"$A:$K\"),9,FALSE)","v":-8.3718772746375E-3},{"$f":"VLOOKUP(VLOOKUP($F20,'Data BI Summary'!$A:$P,MATCH($M$2,'Data BI Summary'!$2:$2,0),FALSE),INDIRECT(\"'\"&$E20&\"'!\"&\"$A:$K\"),8,FALSE)","v":-0.98986999999999625},{"$f":"VLOOKUP(VLOOKUP($F20,'Data BI Summary'!$A:$P,MATCH($M$2,'Data BI Summary'!$2:$2,0),FALSE),INDIRECT(\"'\"&$E20&\"'!\"&\"$A:$K\"),9,FALSE)","v":-2.7741730807086607E-3}]
["AGSd-HCHI","Average",{"$f":"VLOOKUP(A21,'Data Billing Quantities'!A:P,MATCH($B21&\" kWh\",'Data Billing Quantities'!$4:$4,0),FALSE)","v":57529},{"$f":"VLOOKUP(A21,'Data Billing Quantities'!A:P,MATCH(B21&\" kW\",'Data Billing Quantities'!$4:$4,0),FALSE)","v":175},"BI_HCHI_AGSd_Avg","BI Template_Demand",{"$f":"VLOOKUP(VLOOKUP($F21,'Data BI Summary'!$A:$P,MATCH($G$2,'Data BI Summary'!$2:$2,0),FALSE),INDIRECT(\"'\"&$E21&\"'!\"&\"$A:$K\"),8,FALSE)","v":25.450000000000045},{"$f":"VLOOKUP(VLOOKUP($F21,'Data BI Summary'!$A:$P,MATCH($G$2,'Data BI Summary'!$2:$2,0),FALSE),INDIRECT(\"'\"&$E21&\"'!\"&\"$A:$K\"),9,FALSE)","v":2.4047263029341012E-2},{"$f":"VLOOKUP(VLOOKUP($F21,'Data BI Summary'!$A:$P,MATCH($I$2,'Data BI Summary'!$2:$2,0),FALSE),INDIRECT(\"'\"&$E21&\"'!\"&\"$A:$K\"),8,FALSE)","v":638.85700000000031},{"$f":"VLOOKUP(VLOOKUP($F21,'Data BI Summary'!$A:$P,MATCH($I$2,'Data BI Summary'!$2:$2,0),FALSE),INDIRECT(\"'\"&$E21&\"'!\"&\"$A:$K\"),9,FALSE)","v":0.80741608955300892},{"$f":"VLOOKUP(VLOOKUP($F21,'Data BI Summary'!$A:$P,MATCH($K$2,'Data BI Summary'!$2:$2,0),FALSE),INDIRECT(\"'\"&$E21&\"'!\"&\"$A:$K\"),8,FALSE)","v":665.57950000000028},{"$f":"VLOOKUP(VLOOKUP($F21,'Data BI Summary'!$A:$P,MATCH($K$2,'Data BI Summary'!$2:$2,0),FALSE),INDIRECT(\"'\"&$E21&\"'!\"&\"$A:$K\"),9,FALSE)","v":0.36588417485162589},{"$f":"VLOOKUP(VLOOKUP($F21,'Data BI Summary'!$A:$P,MATCH($M$2,'Data BI Summary'!$2:$2,0),FALSE),INDIRECT(\"'\"&$E21&\"'!\"&\"$A:$K\"),8,FALSE)","v":752.10483499999827},{"$f":"VLOOKUP(VLOOKUP($F21,'Data BI Summary'!$A:$P,MATCH($M$2,'Data BI Summary'!$2:$2,0),FALSE),INDIRECT(\"'\"&$E21&\"'!\"&\"$A:$K\"),9,FALSE)","v":5.6363642793381949E-2}]
["St Lgt-HCHI","Average",{"$f":"VLOOKUP(A$22,'Data Billing Quantities'!A:P,MATCH($B22&\" kWh\",'Data Billing Quantities'!$4:$4,0),FALSE)","v":31001},{"$f":"VLOOKUP(A$22,'Data Billing Quantities'!A:P,MATCH(B22&\" kW\",'Data Billing Quantities'!$4:$4,0),FALSE)","v":85},"BI_HCHI_StLgt_Avg","BI Template_Unmtr",{"$f":"VLOOKUP(VLOOKUP($F22,'Data BI Summary'!$A:$P,MATCH($G$2,'Data BI Summary'!$2:$2,0),FALSE),INDIRECT(\"'\"&$E22&\"'!\"&\"$A:$K\"),8,FALSE)","v":142.59460000000036},{"$f":"VLOOKUP(VLOOKUP($F22,'Data BI Summary'!$A:$P,MATCH($G$2,'Data BI Summary'!$2:$2,0),FALSE),INDIRECT(\"'\"&$E22&\"'!\"&\"$A:$K\"),9,FALSE)","v":3.8074665858791081E-2},{"$f":"VLOOKUP(VLOOKUP($F22,'Data BI Summary'!$A:$P,MATCH($I$2,'Data BI Summary'!$2:$2,0),FALSE),INDIRECT(\"'\"&$E22&\"'!\"&\"$A:$K\"),8,FALSE)","v":77.492499999999836},{"$f":"VLOOKUP(VLOOKUP($F22,'Data BI Summary'!$A:$P,MATCH($I$2,'Data BI Summary'!$2:$2,0),FALSE),INDIRECT(\"'\"&$E22&\"'!\"&\"$A:$K\"),9,FALSE)","v":2.1308893031433036E-2},{"$f":"VLOOKUP(VLOOKUP($F22,'Data BI Summary'!$A:$P,MATCH($K$2,'Data BI Summary'!$2:$2,0),FALSE),INDIRECT(\"'\"&$E22&\"'!\"&\"$A:$K\"),8,FALSE)","v":87.64842759999965},{"$f":"VLOOKUP(VLOOKUP($F22,'Data BI Summary'!$A:$P,MATCH($K$2,'Data BI Summary'!$2:$2,0),FALSE),INDIRECT(\"'\"&$E22&\"'!\"&\"$A:$K\"),9,FALSE)","v":2.1481916984171422E-2},{"$f":"VLOOKUP(VLOOKUP($F22,'Data BI Summary'!$A:$P,MATCH($M$2,'Data BI Summary'!$2:$2,0),FALSE),INDIRECT(\"'\"&$E22&\"'!\"&\"$A:$K\"),8,FALSE)","v":99.042723188000309},{"$f":"VLOOKUP(VLOOKUP($F22,'Data BI Summary'!$A:$P,MATCH($M$2,'Data BI Summary'!$2:$2,0),FALSE),INDIRECT(\"'\"&$E22&\"'!\"&\"$A:$K\"),9,FALSE)","v":9.6844670051494733E-3}]
["Sen Lgt-HCHI","Average",{"$f":"VLOOKUP(A$23,'Data Billing Quantities'!A:P,MATCH($B23&\" kWh\",'Data Billing Quantities'!$4:$4,0),FALSE)","v":61},{"$f":"VLOOKUP(A$23,'Data Billing Quantities'!A:P,MATCH(B23&\" kW\",'Data Billing Quantities'!$4:$4,0),FALSE)","v":0.1956473214285713},"BI_HCHI_SenLgt_Avg","BI Template_Unmtr",{"$f":"VLOOKUP(VLOOKUP($F23,'Data BI Summary'!$A:$P,MATCH($G$2,'Data BI Summary'!$2:$2,0),FALSE),INDIRECT(\"'\"&$E23&\"'!\"&\"$A:$K\"),8,FALSE)","v":0.55069999999999908},{"$f":"VLOOKUP(VLOOKUP($F23,'Data BI Summary'!$A:$P,MATCH($G$2,'Data BI Summary'!$2:$2,0),FALSE),INDIRECT(\"'\"&$E23&\"'!\"&\"$A:$K\"),9,FALSE)","v":3.7640288163164809E-2},{"$f":"VLOOKUP(VLOOKUP($F23,'Data BI Summary'!$A:$P,MATCH($I$2,'Data BI Summary'!$2:$2,0),FALSE),INDIRECT(\"'\"&$E23&\"'!\"&\"$A:$K\"),8,FALSE)","v":0.4225999999999992},{"$f":"VLOOKUP(VLOOKUP($F23,'Data BI Summary'!$A:$P,MATCH($I$2,'Data BI Summary'!$2:$2,0),FALSE),INDIRECT(\"'\"&$E23&\"'!\"&\"$A:$K\"),9,FALSE)","v":2.8004299382261941E-2},{"$f":"VLOOKUP(VLOOKUP($F23,'Data BI Summary'!$A:$P,MATCH($K$2,'Data BI Summary'!$2:$2,0),FALSE),INDIRECT(\"'\"&$E23&\"'!\"&\"$A:$K\"),8,FALSE)","v":0.44258359999999719},{"$f":"VLOOKUP(VLOOKUP($F23,'Data BI Summary'!$A:$P,MATCH($K$2,'Data BI Summary'!$2:$2,0),FALSE),INDIRECT(\"'\"&$E23&\"'!\"&\"$A:$K\"),9,FALSE)","v":2.7725317395232887E-2},{"$f":"VLOOKUP(VLOOKUP($F23,'Data BI Summary'!$A:$P,MATCH($M$2,'Data BI Summary'!$2:$2,0),FALSE),INDIRECT(\"'\"&$E23&\"'!\"&\"$A:$K\"),8,FALSE)","v":0.39611232199999691},{"$f":"VLOOKUP(VLOOKUP($F23,'Data BI Summary'!$A:$P,MATCH($M$2,'Data BI Summary'!$2:$2,0),FALSE),INDIRECT(\"'\"&$E23&\"'!\"&\"$A:$K\"),9,FALSE)","v":1.8528840300128285E-2}]
["USL-HCHI","Average",{"$f":"VLOOKUP(A$24,'Data Billing Quantities'!A:P,MATCH($B24&\" kWh\",'Data Billing Quantities'!$4:$4,0),FALSE)","v":471},null,"BI_HCHI_USL_Avg","BI Template_Unmtr",{"$f":"VLOOKUP(VLOOKUP($F24,'Data BI Summary'!$A:$P,MATCH($G$2,'Data BI Summary'!$2:$2,0),FALSE),INDIRECT(\"'\"&$E24&\"'!\"&\"$A:$K\"),8,FALSE)","v":1.0921000000000021},{"$f":"VLOOKUP(VLOOKUP($F24,'Data BI Summary'!$A:$P,MATCH($G$2,'Data BI Summary'!$2:$2,0),FALSE),INDIRECT(\"'\"&$E24&\"'!\"&\"$A:$K\"),9,FALSE)","v":2.0286812921442278E-2},{"$f":"VLOOKUP(VLOOKUP($F24,'Data BI Summary'!$A:$P,MATCH($I$2,'Data BI Summary'!$2:$2,0),FALSE),INDIRECT(\"'\"&$E24&\"'!\"&\"$A:$K\"),8,FALSE)","v":0.24430000000000263},{"$f":"VLOOKUP(VLOOKUP($F24,'Data BI Summary'!$A:$P,MATCH($I$2,'Data BI Summary'!$2:$2,0),FALSE),INDIRECT(\"'\"&$E24&\"'!\"&\"$A:$K\"),9,FALSE)","v":4.257259036176117E-3},{"$f":"VLOOKUP(VLOOKUP($F24,'Data BI Summary'!$A:$P,MATCH($K$2,'Data BI Summary'!$2:$2,0),FALSE),INDIRECT(\"'\"&$E24&\"'!\"&\"$A:$K\"),8,FALSE)","v":0.45003280000000245},{"$f":"VLOOKUP(VLOOKUP($F24,'Data BI Summary'!$A:$P,MATCH($K$2,'Data BI Summary'!$2:$2,0),FALSE),INDIRECT(\"'\"&$E24&\"'!\"&\"$A:$K\"),9,FALSE)","v":6.9294427383073459E-3},{"$f":"VLOOKUP(VLOOKUP($F24,'Data BI Summary'!$A:$P,MATCH($M$2,'Data BI Summary'!$2:$2,0),FALSE),INDIRECT(\"'\"&$E24&\"'!\"&\"$A:$K\"),8,FALSE)","v":0.40277935599999637},{"$f":"VLOOKUP(VLOOKUP($F24,'Data BI Summary'!$A:$P,MATCH($M$2,'Data BI Summary'!$2:$2,0),FALSE),INDIRECT(\"'\"&$E24&\"'!\"&\"$A:$K\"),9,FALSE)","v":3.6164356789861016E-3}]
["CPUC to HONI"]
["R1-CPUC","Typical",{"$f":"VLOOKUP(A26,'Data Billing Quantities'!A:P,MATCH($B26&\" kWh\",'Data Billing Quantities'!$4:$4,0),FALSE)","v":750},null,"BI_CPUC_R1_Typical","BI Template_Energy",{"$f":"VLOOKUP(VLOOKUP($F26,'Data BI Summary'!$A:$P,MATCH($G$2,'Data BI Summary'!$2:$2,0),FALSE),INDIRECT(\"'\"&$E26&\"'!\"&\"$A:$K\"),8,FALSE)","v":0},{"$f":"VLOOKUP(VLOOKUP($F26,'Data BI Summary'!$A:$P,MATCH($G$2,'Data BI Summary'!$2:$2,0),FALSE),INDIRECT(\"'\"&$E26&\"'!\"&\"$A:$K\"),9,FALSE)","v":0},{"$f":"VLOOKUP(VLOOKUP($F26,'Data BI Summary'!$A:$P,MATCH($I$2,'Data BI Summary'!$2:$2,0),FALSE),INDIRECT(\"'\"&$E26&\"'!\"&\"$A:$K\"),8,FALSE)","v":0.14999999999999858},{"$f":"VLOOKUP(VLOOKUP($F26,'Data BI Summary'!$A:$P,MATCH($I$2,'Data BI Summary'!$2:$2,0),FALSE),INDIRECT(\"'\"&$E26&\"'!\"&\"$A:$K\"),9,FALSE)","v":2.9662652584684615E-3},{"$f":"VLOOKUP(VLOOKUP($F26,'Data BI Summary'!$A:$P,MATCH($K$2,'Data BI Summary'!$2:$2,0),FALSE),INDIRECT(\"'\"&$E26&\"'!\"&\"$A:$K\"),8,FALSE)","v":0.55349999999999966},{"$f":"VLOOKUP(VLOOKUP($F26,'Data BI Summary'!$A:$P,MATCH($K$2,'Data BI Summary'!$2:$2,0),FALSE),INDIRECT(\"'\"&$E26&\"'!\"&\"$A:$K\"),9,FALSE)","v":8.1012677496068598E-3},{"$f":"VLOOKUP(VLOOKUP($F26,'Data BI Summary'!$A:$P,MATCH($M$2,'Data BI Summary'!$2:$2,0),FALSE),INDIRECT(\"'\"&$E26&\"'!\"&\"$A:$K\"),8,FALSE)","v":0.49538250000000517},{"$f":"VLOOKUP(VLOOKUP($F26,'Data BI Summary'!$A:$P,MATCH($M$2,'Data BI Summary'!$2:$2,0),FALSE),INDIRECT(\"'\"&$E26&\"'!\"&\"$A:$K\"),9,FALSE)","v":3.2850664972241378E-3}]
["GSe-CPUC","Typical",{"$f":"VLOOKUP(A27,'Data Billing Quantities'!A:P,MATCH($B27&\" kWh\",'Data Billing Quantities'!$4:$4,0),FALSE)","v":2000},null,"BI_CPUC_GSe_Typical","BI Template_Energy",{"$f":"VLOOKUP(VLOOKUP($F27,'Data BI Summary'!$A:$P,MATCH($G$2,'Data BI Summary'!$2:$2,0),FALSE),INDIRECT(\"'\"&$E27&\"'!\"&\"$A:$K\"),8,FALSE)","v":9.6000000000000227},{"$f":"VLOOKUP(VLOOKUP($F27,'Data BI Summary'!$A:$P,MATCH($G$2,'Data BI Summary'!$2:$2,0),FALSE),INDIRECT(\"'\"&$E27&\"'!\"&\"$A:$K\"),9,FALSE)","v":5.1507672497049163E-2},{"$f":"VLOOKUP(VLOOKUP($F27,'Data BI Summary'!$A:$P,MATCH($I$2,'Data BI Summary'!$2:$2,0),FALSE),INDIRECT(\"'\"&$E27&\"'!\"&\"$A:$K\"),8,FALSE)","v":10.600000000000023},{"$f":"VLOOKUP(VLOOKUP($F27,'Data BI Summary'!$A:$P,MATCH($I$2,'Data BI Summary'!$2:$2,0),FALSE),INDIRECT(\"'\"&$E27&\"'!\"&\"$A:$K\"),9,FALSE)","v":5.0169478176845056E-2},{"$f":"VLOOKUP(VLOOKUP($F27,'Data BI Summary'!$A:$P,MATCH($K$2,'Data BI Summary'!$2:$2,0),FALSE),INDIRECT(\"'\"&$E27&\"'!\"&\"$A:$K\"),8,FALSE)","v":11.695999999999998},{"$f":"VLOOKUP(VLOOKUP($F27,'Data BI Summary'!$A:$P,MATCH($K$2,'Data BI Summary'!$2:$2,0),FALSE),INDIRECT(\"'\"&$E27&\"'!\"&\"$A:$K\"),9,FALSE)","v":4.6686771996111771E-2},{"$f":"VLOOKUP(VLOOKUP($F27,'Data BI Summary'!$A:$P,MATCH($M$2,'Data BI Summary'!$2:$2,0),FALSE),INDIRECT(\"'\"&$E27&\"'!\"&\"$A:$K\"),8,FALSE)","v":10.467920000000049},{"$f":"VLOOKUP(VLOOKUP($F27,'Data BI Summary'!$A:$P,MATCH($M$2,'Data BI Summary'!$2:$2,0),FALSE),INDIRECT(\"'\"&$E27&\"'!\"&\"$A:$K\"),9,FALSE)","v":2.2604100618860801E-2}]
["GSd-CPUC","Average",{"$f":"VLOOKUP(A28,'Data Billing Quantities'!A:P,MATCH($B28&\" kWh\",'Data Billing Quantities'!$4:$4,0),FALSE)","v":29000},{"$f":"VLOOKUP(A28,'Data Billing Quantities'!A:P,MATCH(B28&\" kW\",'Data Billing Quantities'!$4:$4,0),FALSE)","v":90},"BI_CPUC_GSd_Avg","BI Template_Demand",{"$f":"VLOOKUP(VLOOKUP($F28,'Data BI Summary'!$A:$P,MATCH($G$2,'Data BI Summary'!$2:$2,0),FALSE),INDIRECT(\"'\"&$E28&\"'!\"&\"$A:$K\"),8,FALSE)","v":100.92599999999993},{"$f":"VLOOKUP(VLOOKUP($F28,'Data BI Summary'!$A:$P,MATCH($G$2,'Data BI Summary'!$2:$2,0),FALSE),INDIRECT(\"'\"&$E28&\"'!\"&\"$A:$K\"),9,FALSE)","v":4.9682170172484122E-2},{"$f":"VLOOKUP(VLOOKUP($F28,'Data BI Summary'!$A:$P,MATCH($I$2,'Data BI Summary'!$2:$2,0),FALSE),INDIRECT(\"'\"&$E28&\"'!\"&\"$A:$K\"),8,FALSE)","v":474.4970000000003},{"$f":"VLOOKUP(VLOOKUP($F28,'Data BI Summary'!$A:$P,MATCH($I$2,'Data BI Summary'!$2:$2,0),FALSE),INDIRECT(\"'\"&$E28&\"'!\"&\"$A:$K\"),9,FALSE)","v":0.23357747954276625},{"$f":"VLOOKUP(VLOOKUP($F28,'Data BI Summary'!$A:$P,MATCH($K$2,'Data BI Summary'!$2:$2,0),FALSE),INDIRECT(\"'\"&$E28&\"'!\"&\"$A:$K\"),8,FALSE)","v":487.97000000000025},{"$f":"VLOOKUP(VLOOKUP($F28,'Data BI Summary'!$A:$P,MATCH($K$2,'Data BI Summary'!$2:$2,0),FALSE),INDIRECT(\"'\"&$E28&\"'!\"&\"$A:$K\"),9,FALSE)","v":0.19134832791277126},{"$f":"VLOOKUP(VLOOKUP($F28,'Data BI Summary'!$A:$P,MATCH($M$2,'Data BI Summary'!$2:$2,0),FALSE),INDIRECT(\"'\"&$E28&\"'!\"&\"$A:$K\"),8,FALSE)","v":551.40610000000015},{"$f":"VLOOKUP(VLOOKUP($F28,'Data BI Summary'!$A:$P,MATCH($M$2,'Data BI Summary'!$2:$2,0),FALSE),INDIRECT(\"'\"&$E28&\"'!\"&\"$A:$K\"),9,FALSE)","v":6.4002578308263544E-2}]
["St Lgt-CPUC","Average",{"$f":"VLOOKUP(A$30,'Data Billing Quantities'!A:P,MATCH($B29&\" kWh\",'Data Billing Quantities'!$4:$4,0),FALSE)","v":220},{"$f":"VLOOKUP(A$29,'Data Billing Quantities'!A:P,MATCH(B29&\" kW\",'Data Billing Quantities'!$4:$4,0),FALSE)","v":21},"BI_CPUC_StLgt_Avg","BI Template_Unmtr",{"$f":"VLOOKUP(VLOOKUP($F29,'Data BI Summary'!$A:$P,MATCH($G$2,'Data BI Summary'!$2:$2,0),FALSE),INDIRECT(\"'\"&$E29&\"'!\"&\"$A:$K\"),8,FALSE)","v":51.570000000000164},{"$f":"VLOOKUP(VLOOKUP($F29,'Data BI Summary'!$A:$P,MATCH($G$2,'Data BI Summary'!$2:$2,0),FALSE),INDIRECT(\"'\"&$E29&\"'!\"&\"$A:$K\"),9,FALSE)","v":5.01478081605665E-2},{"$f":"VLOOKUP(VLOOKUP($F29,'Data BI Summary'!$A:$P,MATCH($I$2,'Data BI Summary'!$2:$2,0),FALSE),INDIRECT(\"'\"&$E29&\"'!\"&\"$A:$K\"),8,FALSE)","v":58.210000000000264},{"$f":"VLOOKUP(VLOOKUP($F29,'Data BI Summary'!$A:$P,MATCH($I$2,'Data BI Summary'!$2:$2,0),FALSE),INDIRECT(\"'\"&$E29&\"'!\"&\"$A:$K\"),9,FALSE)","v":5.1205533610745993E-2},{"$f":"VLOOKUP(VLOOKUP($F29,'Data BI Summary'!$A:$P,MATCH($K$2,'Data BI Summary'!$2:$2,0),FALSE),INDIRECT(\"'\"&$E29&\"'!\"&\"$A:$K\"),8,FALSE)","v":60.92908000000034},{"$f":"VLOOKUP(VLOOKUP($F29,'Data BI Summary'!$A:$P,MATCH($K$2,'Data BI Summary'!$2:$2,0),FALSE),INDIRECT(\"'\"&$E29&\"'!\"&\"$A:$K\"),9,FALSE)","v":4.8528791587922948E-2},{"$f":"VLOOKUP(VLOOKUP($F29,'Data BI Summary'!$A:$P,MATCH($M$2,'Data BI Summary'!$2:$2,0),FALSE),INDIRECT(\"'\"&$E29&\"'!\"&\"$A:$K\"),8,FALSE)","v":54.531526599999779},{"$f":"VLOOKUP(VLOOKUP($F29,'Data BI Summary'!$A:$P,MATCH($M$2,'Data BI Summary'!$2:$2,0),FALSE),INDIRECT(\"'\"&$E29&\"'!\"&\"$A:$K\"),9,FALSE)","v":2.4708543466589274E-2}]
["Sen Lgt-CPUC","Average",{"$f":"VLOOKUP(A$29,'Data Billing Quantities'!A:P,MATCH($B30&\" kWh\",'Data Billing Quantities'!$4:$4,0),FALSE)","v":8300},{"$f":"VLOOKUP(A$30,'Data Billing Quantities'!A:P,MATCH(B30&\" kW\",'Data Billing Quantities'!$4:$4,0),FALSE)","v":0.6},"BI_CPUC_SenLgt_Avg","BI Template_Unmtr",{"$f":"VLOOKUP(VLOOKUP($F30,'Data BI Summary'!$A:$P,MATCH($G$2,'Data BI Summary'!$2:$2,0),FALSE),INDIRECT(\"'\"&$E30&\"'!\"&\"$A:$K\"),8,FALSE)","v":2.3620000000000019},{"$f":"VLOOKUP(VLOOKUP($F30,'Data BI Summary'!$A:$P,MATCH($G$2,'Data BI Summary'!$2:$2,0),FALSE),INDIRECT(\"'\"&$E30&\"'!\"&\"$A:$K\"),9,FALSE)","v":5.2265887767746551E-2},{"$f":"VLOOKUP(VLOOKUP($F30,'Data BI Summary'!$A:$P,MATCH($I$2,'Data BI Summary'!$2:$2,0),FALSE),INDIRECT(\"'\"&$E30&\"'!\"&\"$A:$K\"),8,FALSE)","v":2.4500000000000028},{"$f":"VLOOKUP(VLOOKUP($F30,'Data BI Summary'!$A:$P,MATCH($I$2,'Data BI Summary'!$2:$2,0),FALSE),INDIRECT(\"'\"&$E30&\"'!\"&\"$A:$K\"),9,FALSE)","v":5.1448106709673147E-2},{"$f":"VLOOKUP(VLOOKUP($F30,'Data BI Summary'!$A:$P,MATCH($K$2,'Data BI Summary'!$2:$2,0),FALSE),INDIRECT(\"'\"&$E30&\"'!\"&\"$A:$K\"),8,FALSE)","v":2.5220719999999943},{"$f":"VLOOKUP(VLOOKUP($F30,'Data BI Summary'!$A:$P,MATCH($K$2,'Data BI Summary'!$2:$2,0),FALSE),INDIRECT(\"'\"&$E30&\"'!\"&\"$A:$K\"),9,FALSE)","v":4.9678434880088787E-2},{"$f":"VLOOKUP(VLOOKUP($F30,'Data BI Summary'!$A:$P,MATCH($M$2,'Data BI Summary'!$2:$2,0),FALSE),INDIRECT(\"'\"&$E30&\"'!\"&\"$A:$K\"),8,FALSE)","v":2.2572544399999686},{"$f":"VLOOKUP(VLOOKUP($F30,'Data BI Summary'!$A:$P,MATCH($M$2,'Data BI Summary'!$2:$2,0),FALSE),INDIRECT(\"'\"&$E30&\"'!\"&\"$A:$K\"),9,FALSE)","v":3.2050235441779991E-2}]
["USL-CPUC","Average",{"$f":"VLOOKUP(A$31,'Data Billing Quantities'!A:P,MATCH($B31&\" kWh\",'Data Billing Quantities'!$4:$4,0),FALSE)","v":60},null,"BI_CPUC_USL_Avg","BI Template_Unmtr",{"$f":"VLOOKUP(VLOOKUP($F31,'Data BI Summary'!$A:$P,MATCH($G$2,'Data BI Summary'!$2:$2,0),FALSE),INDIRECT(\"'\"&$E31&\"'!\"&\"$A:$K\"),8,FALSE)","v":0.34799999999999898},{"$f":"VLOOKUP(VLOOKUP($F31,'Data BI Summary'!$A:$P,MATCH($G$2,'Data BI Summary'!$2:$2,0),FALSE),INDIRECT(\"'\"&$E31&\"'!\"&\"$A:$K\"),9,FALSE)","v":8.6326652113514341E-3},{"$f":"VLOOKUP(VLOOKUP($F31,'Data BI Summary'!$A:$P,MATCH($I$2,'Data BI Summary'!$2:$2,0),FALSE),INDIRECT(\"'\"&$E31&\"'!\"&\"$A:$K\"),8,FALSE)","v":0.37199999999999989},{"$f":"VLOOKUP(VLOOKUP($F31,'Data BI Summary'!$A:$P,MATCH($I$2,'Data BI Summary'!$2:$2,0),FALSE),INDIRECT(\"'\"&$E31&\"'!\"&\"$A:$K\"),9,FALSE)","v":9.0788394704986505E-3},{"$f":"VLOOKUP(VLOOKUP($F31,'Data BI Summary'!$A:$P,MATCH($K$2,'Data BI Summary'!$2:$2,0),FALSE),INDIRECT(\"'\"&$E31&\"'!\"&\"$A:$K\"),8,FALSE)","v":0.39820799999999679},{"$f":"VLOOKUP(VLOOKUP($F31,'Data BI Summary'!$A:$P,MATCH($K$2,'Data BI Summary'!$2:$2,0),FALSE),INDIRECT(\"'\"&$E31&\"'!\"&\"$A:$K\"),9,FALSE)","v":9.4952627650297505E-3},{"$f":"VLOOKUP(VLOOKUP($F31,'Data BI Summary'!$A:$P,MATCH($M$2,'Data BI Summary'!$2:$2,0),FALSE),INDIRECT(\"'\"&$E31&\"'!\"&\"$A:$K\"),8,FALSE)","v":0.35639615999999563},{"$f":"VLOOKUP(VLOOKUP($F31,'Data BI Summary'!$A:$P,MATCH($M$2,'Data BI Summary'!$2:$2,0),FALSE),INDIRECT(\"'\"&$E31&\"'!\"&\"$A:$K\"),9,FALSE)","v":8.0066271504056537E-3}]

{"sheet":"BI_UR_Typical","index":12,"n_rows":39,"n_cols":9,"rows_kept":39,"cut":false,"hidden":false,"merged":[[0,0,0,10],[8,0,9,0],[8,1,8,3],[8,4,8,6],[8,7,8,8]]}
["Bill Impacts (Typical Consumption Level) - UR"]
[]
["Rate Class",{"$f":"RIGHT(A1,LEN(A1)-FIND(\"- \",A1,1)-1)","v":"UR"}]
["Monthly Consumption (kWh)",{"$f":"IF(COUNTIF(A1,\"*Low*\")>0,VLOOKUP(B3,'Data Billing Quantities'!$A:$Z,MATCH(\"Low kWh\",'Data Billing Quantities'!4:4,0),FALSE),IF(COUNTIF(A1,\"*Typical*\")>0,VLOOKUP(B3,'Data Billing Quantities'!$A:$Z,MATCH(\"Typical kWh\",'Data Billing Quantities'!4:4,0),FALSE),IF(COUNTIF(A1,\"*Average*\")>0,VLOOKUP(B3,'Data Billing Quantities'!$A:$Z,MATCH(\"Average kWh\",'Data Billing Quantities'!4:4,0),FALSE),IF(COUNTIF(A1,\"*High*\")>0,VLOOKUP(B3,'Data Billing Quantities'!$A:$Z,MATCH(\"High kWh\",'Data Billing Quantities'!4:4,0),FALSE),\"error\"))))","v":750}]
["Peak (kW)",{"$f":"IF(COUNTIF(A1,\"*Low*\")>0,VLOOKUP(B3,'Data Billing Quantities'!$A:$Z,MATCH(\"Low kW\",'Data Billing Quantities'!4:4,0),FALSE),IF(COUNTIF(A1,\"*Typical*\")>0,VLOOKUP(B3,'Data Billing Quantities'!$A:$Z,MATCH(\"Typical kW\",'Data Billing Quantities'!4:4,0),FALSE),IF(COUNTIF(A1,\"*Average*\")>0,VLOOKUP(B3,'Data Billing Quantities'!$A:$Z,MATCH(\"Average kW\",'Data Billing Quantities'!4:4,0),FALSE),IF(COUNTIF(A1,\"*High*\")>0,VLOOKUP(B3,'Data Billing Quantities'!$A:$Z,MATCH(\"High kW\",'Data Billing Quantities'!4:4,0),FALSE),\"error\"))))","v":0}]
["Loss factor",{"$f":"VLOOKUP(B3,'Data Billing Quantities'!A:D,MATCH(A6,'Data Billing Quantities'!4:4,0),FALSE)","v":1.0569999999999999}]
["Charge determinant",{"$f":"VLOOKUP(B3,'Data Billing Quantities'!A:D,MATCH(A7,'Data Billing Quantities'!4:4,0),FALSE)","v":"kWh"}]
[]
[null,"Current OEB-Approved",null,null,"Proposed",null,null,"Impact"]
[null,"Rate ($)","Volume","Charge ($)","Rate ($)","Volume","Charge ($)","$ Change","% Change"]
["Service Charge",{"$f":"VLOOKUP($B$3,'Data Current Rates'!$A:$AO,MATCH(BI_UR_Typical!$A11,CurrentHeader,0),FALSE)","v":41.61},1,{"$f":"B11*C11","v":41.61},{"$f":"VLOOKUP($B$3,'Data Proposed Rates'!$A:$AT,MATCH(BI_UR_Typical!$A11,ProposedHeader,0),FALSE)","v":43.7},1,{"$f":"E11*F11","v":43.7},{"$f":"G11-D11","v":2.0900000000000034},{"$f":"IF(ISERROR(H11/ABS(D11)),\"N/A\",(H11/ABS(D11)))","v":5.0228310502283186E-2}]
["Distribution Volumetric Charge",{"$f":"VLOOKUP($B$3,'Data Current Rates'!$A:$AO,MATCH(BI_UR_Typical!$A12,CurrentHeader,0),FALSE)","v":0},{"$f":"IF($B$7=\"kWh\",$B$4,$B$5)","v":750},{"$f":"B12*C12","v":0},{"$f":"VLOOKUP($B$3,'Data Proposed Rates'!$A:$AT,MATCH(BI_UR_Typical!$A12,ProposedHeader,0),FALSE)","v":0},{"$f":"IF($B$7=\"kWh\",$B$4,$B$5)","v":750},0,0,"N/A"]
["RRRP Adjustment",{"$f":"IF($B$3=\"R2\",VLOOKUP(A13,'Data Pass Through'!$A4:$C19,3,0),0)*-1","v":0},1,{"$f":"B13*C13","v":0},{"$f":"IF($B$3=\"R2\",VLOOKUP(A13,'Data Pass Through'!$A4:$C19,3,0),0)*-1","v":0},1,0,0,"N/A"]
["DRP Adjustment",null,null,{"$f":"IF(OR($B$3=\"R1\",$B$3=\"R2\",$B$3=\"R1-CPUC\"),IF(SUM(D11:D13)>'Data Pass Through'!$B$16,-(SUM(D11:D13)-'Data Pass Through'!$B$16),0),0)","v":0},null,null,{"$f":"IF(OR($B$3=\"R1\",$B$3=\"R2\",$B$3=\"R1-CPUC\"),IF(SUM(G11:G13)>'Data Pass Through'!$B$16,-(SUM(G11:G13)-'Data Pass Through'!$B$16),0),0)","v":0},0,"N/A"]
["Group 2 Fixed Rate Rider",{"$f":"VLOOKUP($B$3,'Data Current Rates'!$A:$AO,MATCH(BI_UR_Typical!$A15,CurrentHeader,0),FALSE)","v":-0.11},1,{"$f":"B15*C15","v":-0.11},{"$f":"VLOOKUP($B$3,'Data Proposed Rates'!$A:$AT,MATCH(BI_UR_Typical!$A15,ProposedHeader,0),FALSE)","v":-1.5},1,{"$f":"E15*F15","v":-1.5},-1.39,-12.636363636363635]
["Group 2 Volumetric Rate Rider",{"$f":"VLOOKUP($B$3,'Data Current Rates'!$A:$AO,MATCH(BI_UR_Typical!$A16,CurrentHeader,0),FALSE)","v":0},{"$f":"IF($B$7=\"kWh\",$B$4,$B$5)","v":750},{"$f":"B16*C16","v":0},{"$f":"VLOOKUP($B$3,'Data Proposed Rates'!$A:$AT,MATCH(BI_UR_Typical!$A16,ProposedHeader,0),FALSE)","v":0},{"$f":"IF($B$7=\"kWh\",$B$4,$B$5)","v":750},0,{"$f":"G16-D16","v":0},{"$f":"IF(ISERROR(H16/ABS(D16)),\"N/A\",(H16/ABS(D16)))","v":"N/A"}]
["Sub-Total A (excluding pass through)",null,null,{"$f":"SUM(D11:D16)","v":41.5},null,null,{"$f":"SUM(G11:G16)","v":42.2},0.70000000000000284,1.6867469879518142E-2]
["Line Losses on Cost of Power",{"$f":"VLOOKUP($B$3,'Data Billing Quantities'!$A:$O,MATCH(BI_UR_Typical!$A32,'Data Billing Quantities'!$4:$4,0),FALSE)*$B32+VLOOKUP($B$3,'Data Billing Quantities'!$A:$O,MATCH(BI_UR_Typical!$A33,'Data Billing Quantities'!$4:$4,0),FALSE)*$B33+VLOOKUP($B$3,'Data Billing Quantities'!$A:$O,MATCH(BI_UR_Typical!$A34,'Data Billing Quantities'!$4:$4,0),FALSE)*$B34","v":0.12752000000000002},{"$f":"($B$6*$B$4)-$B$4","v":42.75},{"$f":"B18*C18","v":5.451480000000001},{"$f":"VLOOKUP($B$3,'Data Billing Quantities'!$A:$O,MATCH(BI_UR_Typical!$A32,'Data Billing Quantities'!$4:$4,0),FALSE)*$B32+VLOOKUP($B$3,'Data Billing Quantities'!$A:$O,MATCH(BI_UR_Typical!$A33,'Data Billing Quantities'!$4:$4,0),FALSE)*$B33+VLOOKUP($B$3,'Data Billing Quantities'!$A:$O,MATCH(BI_UR_Typical!$A34,'Data Billing Quantities'!$4:$4,0),FALSE)*$B34","v":0.12752000000000002},{"$f":"($B$6*$B$4)-$B$4","v":42.75},5.451480000000001,0,0]
["Total Deferral/Variance Account Rate Rider",{"$f":"VLOOKUP($B$3,'Data Current Rates'!$A:$AO,MATCH(BI_UR_Typical!$A19,CurrentHeader,0),FALSE)","v":-3.8E-3},{"$f":"IF($B$7=\"kWh\",$B$4,$B$5)","v":750},-2.85,{"$f":"VLOOKUP($B$3,'Data Proposed Rates'!$A:$AT,MATCH(BI_UR_Typical!$A19,ProposedHeader,0),FALSE)","v":-1.6999999999999999E-3},{"$f":"IF($B$7=\"kWh\",$B$4,$B$5)","v":750},-1.2749999999999999,1.5750000000000002,0.55263157894736847]
["CBR Class B Rate Rider",{"$f":"VLOOKUP($B$3,'Data Current Rates'!$A:$AJ,MATCH(BI_UR_Typical!$A20,CurrentHeader,0),FALSE)","v":1E-4},{"$f":"IF($B$7=\"kWh\",$B$4,$B$5)","v":750},7.4999999999999997E-2,{"$f":"VLOOKUP($B$3,'Data Proposed Rates'!$A:$AT,MATCH(BI_UR_Typical!$A20,ProposedHeader,0),FALSE)","v":-5.9999999999999995E-4},{"$f":"IF($B$7=\"kWh\",$B$4,$B$5)","v":750},-0.44999999999999996,-0.52499999999999991,-6.9999999999999991]
["GA Rate Rider",{"$f":"VLOOKUP($B$3,'Data Current Rates'!$A:$AJ,MATCH(BI_UR_Typical!$A21,CurrentHeader,0),FALSE)","v":0},750,0,{"$f":"VLOOKUP($B$3,'Data Proposed Rates'!$A:$AT,MATCH(BI_UR_Typical!$A21,ProposedHeader,0),FALSE)","v":0},750,0,0,"N/A"]
["Smart Meter Entity Charge (if applicable)",{"$f":"VLOOKUP($A22,'Data Pass Through'!$A:$D,2,FALSE)","v":0.42},1,0.42,{"$f":"VLOOKUP($A22,'Data Pass Through'!$A:$D,2,FALSE)","v":0.42},1,0.42,0,0]
["Rate Rider for Account 1588",null,null,null,{"$f":"VLOOKUP($B$3,'Data Proposed Rates'!$A:$AT,MATCH(BI_UR_Typical!$A23,ProposedHeader,0),FALSE)","v":-3.2000000000000002E-3},{"$f":"IF($B$7=\"kWh\",$B$4,$B$5)","v":750},-2.4,-2.4,"N/A"]
["Sub-Total B - Distribution (includes Sub-Total A)",null,null,{"$f":"SUM(INDIRECT(\"D17:D\"&ROW()-1))","v":44.596480000000007},null,null,{"$f":"SUM(INDIRECT(\"G17:G\"&ROW()-1))","v":43.946480000000008},-0.64999999999999858,-1.4575141356447829E-2]
["Retail Transmission Rate – Network Service Rate",{"$f":"VLOOKUP($B$3,'Data Current Rates'!$A:$AJ,MATCH(BI_UR_Typical!$A25,CurrentHeader,0),FALSE)","v":1.37E-2},{"$f":"IF($B$7=\"kWh\",$B$4*$B$6,$B$5)","v":792.75},{"$f":"B25*C25","v":10.860675000000001},{"$f":"VLOOKUP($B$3,'Data Proposed Rates'!$A:$AT,MATCH(BI_UR_Typical!$A25,ProposedHeader,0),FALSE)","v":1.41E-2},{"$f":"IF($B$7=\"kWh\",$B$4*$B$6,$B$5)","v":792.75},11.177775,0.31709999999999994,2.9197080291970795E-2]
["Retail Transmission Rate – Line and Transformation Connection Service Rate",{"$f":"VLOOKUP($B$3,'Data Current Rates'!$A:$AJ,MATCH(BI_UR_Typical!$A26,CurrentHeader,0),FALSE)","v":9.7999999999999997E-3},{"$f":"IF($B$7=\"kWh\",$B$4*$B$6,$B$5)","v":792.75},7.7689499999999994,{"$f":"VLOOKUP($B$3,'Data Proposed Rates'!$A:$AT,MATCH(BI_UR_Typical!$A26,ProposedHeader,0),FALSE)","v":0.01},{"$f":"IF($B$7=\"kWh\",$B$4*$B$6,$B$5)","v":792.75},7.9275000000000002,0.15855000000000086,2.0408163265306235E-2]
["Sub-Total C - Delivery (including Sub-Total B)",null,null,{"$f":"SUM(D24:D26)","v":63.226105000000004},null,null,{"$f":"SUM(G24:G26)","v":63.051755000000007},-0.1743499999999969,-2.7575635095661338E-3]
["Wholesale Market Service Rate (WMS) – not including CBR",{"$f":"VLOOKUP($A28,'Data Pass Through'!$A:$D,2,FALSE)","v":4.1000000000000003E-3},{"$f":"$B$4*$B$6","v":792.75},{"$f":"B28*C28","v":3.2502750000000002},{"$f":"VLOOKUP($A28,'Data Pass Through'!$A:$D,3,FALSE)","v":4.1000000000000003E-3},{"$f":"$B$4*$B$6","v":792.75},3.2502750000000002,0,0]
["Capacity Based Recovery (CBR) – Applicable for Class B Customers",{"$f":"VLOOKUP($A29,'Data Pass Through'!$A:$D,2,FALSE)","v":5.9999999999999995E-4},{"$f":"$B$4*$B$6","v":792.75},0.47564999999999996,{"$f":"VLOOKUP($A29,'Data Pass Through'!$A:$D,3,FALSE)","v":5.9999999999999995E-4},{"$f":"$B$4*$B$6","v":792.75},0.47564999999999996,0,0]
["Rural Rate Protection Charge",{"$f":"VLOOKUP($A30,'Data Pass Through'!$A:$D,2,FALSE)","v":5.9999999999999995E-4},{"$f":"$B$4*$B$6","v":792.75},0.47564999999999996,{"$f":"VLOOKUP($A30,'Data Pass Through'!$A:$D,3,FALSE)","v":5.9999999999999995E-4},{"$f":"$B$4*$B$6","v":792.75},0.47564999999999996,0,0]
["Standard Supply Service – Administration Charge (if applicable)",{"$f":"VLOOKUP($A31,'Data Pass Through'!$A:$D,2,FALSE)","v":0.25},1,0.25,{"$f":"VLOOKUP($A31,'Data Pass Through'!$A:$D,3,FALSE)","v":0.25},1,0.25,0,0]
["TOU-Off Peak",{"$f":"VLOOKUP($A32,'Data Pass Through'!$A:$D,2,FALSE)","v":9.8000000000000004E-2},{"$f":"B$4*VLOOKUP($B$3,'Data Billing Quantities'!$A:$O,MATCH($A32,'Data Billing Quantities'!$4:$4,0),FALSE)","v":480},47.04,{"$f":"VLOOKUP($A32,'Data Pass Through'!$A:$D,3,FALSE)","v":9.8000000000000004E-2},{"$f":"B$4*VLOOKUP($B$3,'Data Billing Quantities'!$A:$O,MATCH($A32,'Data Billing Quantities'!$4:$4,0),FALSE)","v":480},{"$f":"E32*F32","v":47.04},0,0]
["TOU-Mid Peak",{"$f":"VLOOKUP($A33,'Data Pass Through'!$A:$D,2,FALSE)","v":0.157},{"$f":"B$4*VLOOKUP($B$3,'Data Billing Quantities'!$A:$O,MATCH($A33,'Data Billing Quantities'!$4:$4,0),FALSE)","v":135},21.195,{"$f":"VLOOKUP($A33,'Data Pass Through'!$A:$D,3,FALSE)","v":0.157},{"$f":"B$4*VLOOKUP($B$3,'Data Billing Quantities'!$A:$O,MATCH($A33,'Data Billing Quantities'!$4:$4,0),FALSE)","v":135},{"$f":"E33*F33","v":21.195},0,0]
["TOU-On Peak",{"$f":"VLOOKUP($A34,'Data Pass Through'!$A:$D,2,FALSE)","v":0.20300000000000001},{"$f":"B$4*VLOOKUP($B$3,'Data Billing Quantities'!$A:$O,MATCH($A34,'Data Billing Quantities'!$4:$4,0),FALSE)","v":135},27.405000000000001,{"$f":"VLOOKUP($A34,'Data Pass Through'!$A:$D,3,FALSE)","v":0.20300000000000001},{"$f":"B$4*VLOOKUP($B$3,'Data Billing Quantities'!$A:$O,MATCH($A34,'Data Billing Quantities'!$4:$4,0),FALSE)","v":135},{"$f":"E34*F34","v":27.405000000000001},0,0]
["Total Bill on TOU (before Taxes)",null,null,{"$f":"SUM(D27:D34)","v":163.31768},null,null,{"$f":"SUM(G27:G34)","v":163.14332999999999},-0.174350000000004,-1.0675512902216344E-3]
["HST",0.13,null,{"$f":"D35*B36","v":21.2312984},{"$f":"B36","v":0.13},null,{"$f":"G35*E36","v":21.208632900000001},-2.2665499999998673E-2,-1.0675512902215472E-3]
["Ontario Electricity Rebate (OER)",{"$f":"IF(($B$4*12)<250000,VLOOKUP($A37,'Data Pass Through'!$A$4:$C$19,2,0),0)","v":-0.23499999999999999},null,{"$f":"D35*B37","v":-38.379654799999997},{"$f":"IF(($B$4*12)<250000,VLOOKUP($A37,'Data Pass Through'!$A$4:$C$19,3,0),0)","v":-0.23499999999999999},null,{"$f":"G35*E37","v":-38.338682549999994},4.097225000000293E-2,1.0675512902216862E-3]
["Total Bill on TOU",null,null,{"$f":"SUM(D35:D37)","v":146.16932360000001},null,null,{"$f":"SUM(G35:G37)","v":146.01328035},-0.1560432500000104,-1.0675512902216808E-3]
["* Distribution rate protection applies to R1 and R2 customers"]

{"sheet":"BI_R1_Typical (with DRP)","index":13,"n_rows":39,"n_cols":9,"rows_kept":39,"cut":false,"hidden":false,"merged":[[0,0,0,10],[8,0,9,0],[8,1,8,3],[8,4,8,6],[8,7,8,8]]}
["Bill Impacts (Typical Consumption Level) - R1"]
[]
["Rate Class",{"$f":"RIGHT(A1,LEN(A1)-FIND(\"- \",A1,1)-1)","v":"R1"}]
["Monthly Consumption (kWh)",{"$f":"IF(COUNTIF(A1,\"*Low*\")>0,VLOOKUP(B3,'Data Billing Quantities'!$A:$Z,MATCH(\"Low kWh\",'Data Billing Quantities'!4:4,0),FALSE),IF(COUNTIF(A1,\"*Typical*\")>0,VLOOKUP(B3,'Data Billing Quantities'!$A:$Z,MATCH(\"Typical kWh\",'Data Billing Quantities'!4:4,0),FALSE),IF(COUNTIF(A1,\"*Average*\")>0,VLOOKUP(B3,'Data Billing Quantities'!$A:$Z,MATCH(\"Average kWh\",'Data Billing Quantities'!4:4,0),FALSE),IF(COUNTIF(A1,\"*High*\")>0,VLOOKUP(B3,'Data Billing Quantities'!$A:$Z,MATCH(\"High kWh\",'Data Billing Quantities'!4:4,0),FALSE),\"error\"))))","v":750}]
["Peak (kW)",{"$f":"IF(COUNTIF(A1,\"*Low*\")>0,VLOOKUP(B3,'Data Billing Quantities'!$A:$Z,MATCH(\"Low kW\",'Data Billing Quantities'!4:4,0),FALSE),IF(COUNTIF(A1,\"*Typical*\")>0,VLOOKUP(B3,'Data Billing Quantities'!$A:$Z,MATCH(\"Typical kW\",'Data Billing Quantities'!4:4,0),FALSE),IF(COUNTIF(A1,\"*Average*\")>0,VLOOKUP(B3,'Data Billing Quantities'!$A:$Z,MATCH(\"Average kW\",'Data Billing Quantities'!4:4,0),FALSE),IF(COUNTIF(A1,\"*High*\")>0,VLOOKUP(B3,'Data Billing Quantities'!$A:$Z,MATCH(\"High kW\",'Data Billing Quantities'!4:4,0),FALSE),\"error\"))))","v":0}]
["Loss factor",{"$f":"VLOOKUP(B3,'Data Billing Quantities'!A:D,MATCH(A6,'Data Billing Quantities'!4:4,0),FALSE)","v":1.0760000000000001}]
["Charge determinant",{"$f":"VLOOKUP(B3,'Data Billing Quantities'!A:D,MATCH(A7,'Data Billing Quantities'!4:4,0),FALSE)","v":"kWh"}]
[]
[null,"Current OEB-Approved",null,null,"Proposed",null,null,"Impact"]
[null,"Rate ($)","Volume","Charge ($)","Rate ($)","Volume","Charge ($)","$ Change","% Change"]
["Service Charge",{"$f":"VLOOKUP($B$3,'Data Current Rates'!$A:$AO,MATCH('BI_R1_Typical (with DRP)'!$A11,CurrentHeader,0),FALSE)","v":71.05},1,{"$f":"B11*C11","v":71.05},{"$f":"VLOOKUP($B$3,'Data Proposed Rates'!$A:$AT,MATCH('BI_R1_Typical (with DRP)'!$A11,ProposedHeader,0),FALSE)","v":74.62},1,{"$f":"E11*F11","v":74.62},{"$f":"G11-D11","v":3.5700000000000074},{"$f":"IF(ISERROR(H11/ABS(D11)),\"N/A\",(H11/ABS(D11)))","v":5.0246305418719321E-2}]
["Distribution Volumetric Charge",{"$f":"VLOOKUP($B$3,'Data Current Rates'!$A:$AO,MATCH('BI_R1_Typical (with DRP)'!$A12,CurrentHeader,0),FALSE)","v":0},{"$f":"IF($B$7=\"kWh\",$B$4,$B$5)","v":750},{"$f":"B12*C12","v":0},{"$f":"VLOOKUP($B$3,'Data Proposed Rates'!$A:$AT,MATCH('BI_R1_Typical (with DRP)'!$A12,ProposedHeader,0),FALSE)","v":0},{"$f":"IF($B$7=\"kWh\",$B$4,$B$5)","v":750},0,0,"N/A"]
["RRRP Adjustment",{"$f":"IF($B$3=\"R2\",VLOOKUP(A13,'Data Pass Through'!$A4:$C19,3,0),0)*-1","v":0},1,{"$f":"B13*C13","v":0},{"$f":"IF($B$3=\"R2\",VLOOKUP(A13,'Data Pass Through'!$A4:$C19,3,0),0)*-1","v":0},1,0,0,"N/A"]
["DRP Adjustment",null,null,{"$f":"IF(OR($B$3=\"R1\",$B$3=\"R2\",$B$3=\"R1-CPUC\"),IF(SUM(D11:D13)>'Data Pass Through'!$B$16,-(SUM(D11:D13)-'Data Pass Through'!$B$16),0),0)","v":-28.169999999999995},null,null,{"$f":"IF(OR($B$3=\"R1\",$B$3=\"R2\",$B$3=\"R1-CPUC\"),IF(SUM(G11:G13)>'Data Pass Through'!$B$16,-(SUM(G11:G13)-'Data Pass Through'!$B$16),0),0)","v":-31.740000000000002},-3.5700000000000074,-0.12673056443024522]
["Group 2 Fixed Rate Rider",{"$f":"VLOOKUP($B$3,'Data Current Rates'!$A:$AO,MATCH('BI_R1_Typical (with DRP)'!$A15,CurrentHeader,0),FALSE)","v":-0.21},1,{"$f":"B15*C15","v":-0.21},{"$f":"VLOOKUP($B$3,'Data Proposed Rates'!$A:$AT,MATCH('BI_R1_Typical (with DRP)'!$A15,ProposedHeader,0),FALSE)","v":-2.56},1,{"$f":"E15*F15","v":-2.56},-2.35,-11.190476190476192]
["Group 2 Volumetric Rate Rider",{"$f":"VLOOKUP($B$3,'Data Current Rates'!$A:$AO,MATCH('BI_R1_Typical (with DRP)'!$A16,CurrentHeader,0),FALSE)","v":0},{"$f":"IF($B$7=\"kWh\",$B$4,$B$5)","v":750},{"$f":"B16*C16","v":0},{"$f":"VLOOKUP($B$3,'Data Proposed Rates'!$A:$AT,MATCH('BI_R1_Typical (with DRP)'!$A16,ProposedHeader,0),FALSE)","v":0},{"$f":"IF($B$7=\"kWh\",$B$4,$B$5)","v":750},0,{"$f":"G16-D16","v":0},{"$f":"IF(ISERROR(H16/ABS(D16)),\"N/A\",(H16/ABS(D16)))","v":"N/A"}]
["Sub-Total A (excluding pass through)",null,null,{"$f":"SUM(D11:D16)","v":42.67},null,null,{"$f":"SUM(G11:G16)","v":40.32},-2.3500000000000014,-5.5073822357628338E-2]
["Line Losses on Cost of Power",{"$f":"VLOOKUP($B$3,'Data Billing Quantities'!$A:$O,MATCH('BI_R1_Typical (with DRP)'!$A32,'Data Billing Quantities'!$4:$4,0),FALSE)*$B32+VLOOKUP($B$3,'Data Billing Quantities'!$A:$O,MATCH('BI_R1_Typical (with DRP)'!$A33,'Data Billing Quantities'!$4:$4,0),FALSE)*$B33+VLOOKUP($B$3,'Data Billing Quantities'!$A:$O,MATCH('BI_R1_Typical (with DRP)'!$A34,'Data Billing Quantities'!$4:$4,0),FALSE)*$B34","v":0.12752000000000002},{"$f":"($B$6*$B$4)-$B$4","v":57},{"$f":"B18*C18","v":7.2686400000000013},{"$f":"VLOOKUP($B$3,'Data Billing Quantities'!$A:$O,MATCH('BI_R1_Typical (with DRP)'!$A32,'Data Billing Quantities'!$4:$4,0),FALSE)*$B32+VLOOKUP($B$3,'Data Billing Quantities'!$A:$O,MATCH('BI_R1_Typical (with DRP)'!$A33,'Data Billing Quantities'!$4:$4,0),FALSE)*$B33+VLOOKUP($B$3,'Data Billing Quantities'!$A:$O,MATCH('BI_R1_Typical (with DRP)'!$A34,'Data Billing Quantities'!$4:$4,0),FALSE)*$B34","v":0.12752000000000002},{"$f":"($B$6*$B$4)-$B$4","v":57},7.2686400000000013,0,0]
["Total Deferral/Variance Account Rate Rider",{"$f":"VLOOKUP($B$3,'Data Current Rates'!$A:$AO,MATCH('BI_R1_Typical (with DRP)'!$A19,CurrentHeader,0),FALSE)","v":-3.7000000000000002E-3},{"$f":"IF($B$7=\"kWh\",$B$4,$B$5)","v":750},-2.7749999999999999,{"$f":"VLOOKUP($B$3,'Data Proposed Rates'!$A:$AT,MATCH('BI_R1_Typical (with DRP)'!$A19,ProposedHeader,0),FALSE)","v":-1.6999999999999999E-3},{"$f":"IF($B$7=\"kWh\",$B$4,$B$5)","v":750},-1.2749999999999999,1.5,0.54054054054054057]
["CBR Class B Rate Rider",{"$f":"VLOOKUP($B$3,'Data Current Rates'!$A:$AJ,MATCH('BI_R1_Typical (with DRP)'!$A20,CurrentHeader,0),FALSE)","v":1E-4},{"$f":"IF($B$7=\"kWh\",$B$4,$B$5)","v":750},7.4999999999999997E-2,{"$f":"VLOOKUP($B$3,'Data Proposed Rates'!$A:$AT,MATCH('BI_R1_Typical (with DRP)'!$A20,ProposedHeader,0),FALSE)","v":-5.9999999999999995E-4},{"$f":"IF($B$7=\"kWh\",$B$4,$B$5)","v":750},-0.44999999999999996,-0.52499999999999991,-6.9999999999999991]
["GA Rate Rider",{"$f":"VLOOKUP($B$3,'Data Current Rates'!$A:$AJ,MATCH('BI_R1_Typical (with DRP)'!$A21,CurrentHeader,0),FALSE)","v":0},750,0,{"$f":"VLOOKUP($B$3,'Data Proposed Rates'!$A:$AT,MATCH('BI_R1_Typical (with DRP)'!$A21,ProposedHeader,0),FALSE)","v":0},750,0,0,"N/A"]
["Smart Meter Entity Charge (if applicable)",{"$f":"VLOOKUP($A22,'Data Pass Through'!$A:$D,2,FALSE)","v":0.42},1,0.42,{"$f":"VLOOKUP($A22,'Data Pass Through'!$A:$D,2,FALSE)","v":0.42},1,0.42,0,0]
["Rate Rider for Account 1588",null,null,null,{"$f":"VLOOKUP($B$3,'Data Proposed Rates'!$A:$AT,MATCH('BI_R1_Typical (with DRP)'!$A23,ProposedHeader,0),FALSE)","v":-3.2000000000000002E-3},{"$f":"IF($B$7=\"kWh\",$B$4,$B$5)","v":750},-2.4,-2.4,"N/A"]
["Sub-Total B - Distribution (includes Sub-Total A)",null,null,{"$f":"SUM(INDIRECT(\"D17:D\"&ROW()-1))","v":47.658640000000013},null,null,{"$f":"SUM(INDIRECT(\"G17:G\"&ROW()-1))","v":43.88364},-3.7750000000000128,-7.92091423506842E-2]
["Retail Transmission Rate – Network Service Rate",{"$f":"VLOOKUP($B$3,'Data Current Rates'!$A:$AJ,MATCH('BI_R1_Typical (with DRP)'!$A25,CurrentHeader,0),FALSE)","v":1.2800000000000001E-2},{"$f":"IF($B$7=\"kWh\",$B$4*$B$6,$B$5)","v":807},{"$f":"B25*C25","v":10.329600000000001},{"$f":"VLOOKUP($B$3,'Data Proposed Rates'!$A:$AT,MATCH('BI_R1_Typical (with DRP)'!$A25,ProposedHeader,0),FALSE)","v":1.3100000000000001E-2},{"$f":"IF($B$7=\"kWh\",$B$4*$B$6,$B$5)","v":807},10.5717,0.24209999999999887,2.3437499999999889E-2]
["Retail Transmission Rate – Line and Transformation Connection Service Rate",{"$f":"VLOOKUP($B$3,'Data Current Rates'!$A:$AJ,MATCH('BI_R1_Typical (with DRP)'!$A26,CurrentHeader,0),FALSE)","v":9.1999999999999998E-3},{"$f":"IF($B$7=\"kWh\",$B$4*$B$6,$B$5)","v":807},7.4243999999999994,{"$f":"VLOOKUP($B$3,'Data Proposed Rates'!$A:$AT,MATCH('BI_R1_Typical (with DRP)'!$A26,ProposedHeader,0),FALSE)","v":9.4000000000000004E-3},{"$f":"IF($B$7=\"kWh\",$B$4*$B$6,$B$5)","v":807},7.5857999999999999,0.16140000000000043,2.1739130434782667E-2]
["Sub-Total C - Delivery (including Sub-Total B)",null,null,{"$f":"SUM(D24:D26)","v":65.41264000000001},null,null,{"$f":"SUM(G24:G26)","v":62.041139999999999},-3.3715000000000117,-5.1542026128283631E-2]
["Wholesale Market Service Rate (WMS) – not including CBR",{"$f":"VLOOKUP($A28,'Data Pass Through'!$A:$D,2,FALSE)","v":4.1000000000000003E-3},{"$f":"$B$4*$B$6","v":807},{"$f":"B28*C28","v":3.3087000000000004},{"$f":"VLOOKUP($A28,'Data Pass Through'!$A:$D,3,FALSE)","v":4.1000000000000003E-3},{"$f":"$B$4*$B$6","v":807},3.3087000000000004,0,0]
["Capacity Based Recovery (CBR) – Applicable for Class B Customers",{"$f":"VLOOKUP($A29,'Data Pass Through'!$A:$D,2,FALSE)","v":5.9999999999999995E-4},{"$f":"$B$4*$B$6","v":807},0.48419999999999996,{"$f":"VLOOKUP($A29,'Data Pass Through'!$A:$D,3,FALSE)","v":5.9999999999999995E-4},{"$f":"$B$4*$B$6","v":807},0.48419999999999996,0,0]
["Rural Rate Protection Charge",{"$f":"VLOOKUP($A30,'Data Pass Through'!$A:$D,2,FALSE)","v":5.9999999999999995E-4},{"$f":"$B$4*$B$6","v":807},0.48419999999999996,{"$f":"VLOOKUP($A30,'Data Pass Through'!$A:$D,3,FALSE)","v":5.9999999999999995E-4},{"$f":"$B$4*$B$6","v":807},0.48419999999999996,0,0]
["Standard Supply Service – Administration Charge (if applicable)",{"$f":"VLOOKUP($A31,'Data Pass Through'!$A:$D,2,FALSE)","v":0.25},1,0.25,{"$f":"VLOOKUP($A31,'Data Pass Through'!$A:$D,3,FALSE)","v":0.25},1,0.25,0,0]
["TOU-Off Peak",{"$f":"VLOOKUP($A32,'Data Pass Through'!$A:$D,2,FALSE)","v":9.8000000000000004E-2},{"$f":"B$4*VLOOKUP($B$3,'Data Billing Quantities'!$A:$O,MATCH($A32,'Data Billing Quantities'!$4:$4,0),FALSE)","v":480},47.04,{"$f":"VLOOKUP($A32,'Data Pass Through'!$A:$D,3,FALSE)","v":9.8000000000000004E-2},{"$f":"B$4*VLOOKUP($B$3,'Data Billing Quantities'!$A:$O,MATCH($A32,'Data Billing Quantities'!$4:$4,0),FALSE)","v":480},{"$f":"E32*F32","v":47.04},0,0]
["TOU-Mid Peak",{"$f":"VLOOKUP($A33,'Data Pass Through'!$A:$D,2,FALSE)","v":0.157},{"$f":"B$4*VLOOKUP($B$3,'Data Billing Quantities'!$A:$O,MATCH($A33,'Data Billing Quantities'!$4:$4,0),FALSE)","v":135},21.195,{"$f":"VLOOKUP($A33,'Data Pass Through'!$A:$D,3,FALSE)","v":0.157},{"$f":"B$4*VLOOKUP($B$3,'Data Billing Quantities'!$A:$O,MATCH($A33,'Data Billing Quantities'!$4:$4,0),FALSE)","v":135},{"$f":"E33*F33","v":21.195},0,0]
["TOU-On Peak",{"$f":"VLOOKUP($A34,'Data Pass Through'!$A:$D,2,FALSE)","v":0.20300000000000001},{"$f":"B$4*VLOOKUP($B$3,'Data Billing Quantities'!$A:$O,MATCH($A34,'Data Billing Quantities'!$4:$4,0),FALSE)","v":135},27.405000000000001,{"$f":"VLOOKUP($A34,'Data Pass Through'!$A:$D,3,FALSE)","v":0.20300000000000001},{"$f":"B$4*VLOOKUP($B$3,'Data Billing Quantities'!$A:$O,MATCH($A34,'Data Billing Quantities'!$4:$4,0),FALSE)","v":135},{"$f":"E34*F34","v":27.405000000000001},0,0]
["Total Bill on TOU (before Taxes)",null,null,{"$f":"SUM(D27:D34)","v":165.57974000000002},null,null,{"$f":"SUM(G27:G34)","v":162.20823999999999},-3.3715000000000259,-2.0361790639362193E-2]
["HST",0.13,null,{"$f":"D35*B36","v":21.525366200000004},{"$f":"B36","v":0.13},null,{"$f":"G35*E36","v":21.0870712},-0.43829500000000365,-2.0361790639362203E-2]
["Ontario Electricity Rebate (OER)",{"$f":"IF(($B$4*12)<250000,VLOOKUP($A37,'Data Pass Through'!$A$4:$C$19,2,0),0)","v":-0.23499999999999999},null,{"$f":"D35*B37","v":-38.911238900000001},{"$f":"IF(($B$4*12)<250000,VLOOKUP($A37,'Data Pass Through'!$A$4:$C$19,3,0),0)","v":-0.23499999999999999},null,{"$f":"G35*E37","v":-38.118936399999996},0.79230250000000524,2.0361790639362172E-2]
["Total Bill on TOU",null,null,{"$f":"SUM(D35:D37)","v":148.19386730000002},null,null,{"$f":"SUM(G35:G37)","v":145.17637479999999},-3.0174925000000314,-2.0361790639362248E-2]
["* Distribution rate protection applies to R1 and R2 customers"]

{"sheet":"BI_R1_Typical (without DRP)","index":14,"n_rows":39,"n_cols":9,"rows_kept":39,"cut":false,"hidden":false,"merged":[[0,0,0,10],[8,0,9,0],[8,1,8,3],[8,4,8,6],[8,7,8,8]]}
["Bill Impacts (Typical Consumption Level) - R1"]
[]
["Rate Class",{"$f":"RIGHT(A1,LEN(A1)-FIND(\"- \",A1,1)-1)","v":"R1"}]
["Monthly Consumption (kWh)",{"$f":"IF(COUNTIF(A1,\"*Low*\")>0,VLOOKUP(B3,'Data Billing Quantities'!$A:$Z,MATCH(\"Low kWh\",'Data Billing Quantities'!4:4,0),FALSE),IF(COUNTIF(A1,\"*Typical*\")>0,VLOOKUP(B3,'Data Billing Quantities'!$A:$Z,MATCH(\"Typical kWh\",'Data Billing Quantities'!4:4,0),FALSE),IF(COUNTIF(A1,\"*Average*\")>0,VLOOKUP(B3,'Data Billing Quantities'!$A:$Z,MATCH(\"Average kWh\",'Data Billing Quantities'!4:4,0),FALSE),IF(COUNTIF(A1,\"*High*\")>0,VLOOKUP(B3,'Data Billing Quantities'!$A:$Z,MATCH(\"High kWh\",'Data Billing Quantities'!4:4,0),FALSE),\"error\"))))","v":750}]
["Peak (kW)",{"$f":"IF(COUNTIF(A1,\"*Low*\")>0,VLOOKUP(B3,'Data Billing Quantities'!$A:$Z,MATCH(\"Low kW\",'Data Billing Quantities'!4:4,0),FALSE),IF(COUNTIF(A1,\"*Typical*\")>0,VLOOKUP(B3,'Data Billing Quantities'!$A:$Z,MATCH(\"Typical kW\",'Data Billing Quantities'!4:4,0),FALSE),IF(COUNTIF(A1,\"*Average*\")>0,VLOOKUP(B3,'Data Billing Quantities'!$A:$Z,MATCH(\"Average kW\",'Data Billing Quantities'!4:4,0),FALSE),IF(COUNTIF(A1,\"*High*\")>0,VLOOKUP(B3,'Data Billing Quantities'!$A:$Z,MATCH(\"High kW\",'Data Billing Quantities'!4:4,0),FALSE),\"error\"))))","v":0}]
["Loss factor",{"$f":"VLOOKUP(B3,'Data Billing Quantities'!A:D,MATCH(A6,'Data Billing Quantities'!4:4,0),FALSE)","v":1.0760000000000001}]
["Charge determinant",{"$f":"VLOOKUP(B3,'Data Billing Quantities'!A:D,MATCH(A7,'Data Billing Quantities'!4:4,0),FALSE)","v":"kWh"}]
[]
[null,"Current OEB-Approved",null,null,"Proposed",null,null,"Impact"]
[null,"Rate ($)","Volume","Charge ($)","Rate ($)","Volume","Charge ($)","$ Change","% Change"]
["Service Charge",{"$f":"VLOOKUP($B$3,'Data Current Rates'!$A:$AO,MATCH('BI_R1_Typical (without DRP)'!$A11,CurrentHeader,0),FALSE)","v":71.05},1,{"$f":"B11*C11","v":71.05},{"$f":"VLOOKUP($B$3,'Data Proposed Rates'!$A:$AT,MATCH('BI_R1_Typical (without DRP)'!$A11,ProposedHeader,0),FALSE)","v":74.62},1,{"$f":"E11*F11","v":74.62},{"$f":"G11-D11","v":3.5700000000000074},{"$f":"IF(ISERROR(H11/ABS(D11)),\"N/A\",(H11/ABS(D11)))","v":5.0246305418719321E-2}]
["Distribution Volumetric Charge",{"$f":"VLOOKUP($B$3,'Data Current Rates'!$A:$AO,MATCH('BI_R1_Typical (without DRP)'!$A12,CurrentHeader,0),FALSE)","v":0},{"$f":"IF($B$7=\"kWh\",$B$4,$B$5)","v":750},{"$f":"B12*C12","v":0},{"$f":"VLOOKUP($B$3,'Data Proposed Rates'!$A:$AT,MATCH('BI_R1_Typical (without DRP)'!$A12,ProposedHeader,0),FALSE)","v":0},{"$f":"IF($B$7=\"kWh\",$B$4,$B$5)","v":750},0,0,"N/A"]
["RRRP Adjustment",{"$f":"IF($B$3=\"R2\",VLOOKUP(A13,'Data Pass Through'!$A4:$C19,3,0),0)*-1","v":0},1,{"$f":"B13*C13","v":0},{"$f":"IF($B$3=\"R2\",VLOOKUP(A13,'Data Pass Through'!$A4:$C19,3,0),0)*-1","v":0},1,0,0,"N/A"]
["DRP Adjustment",null,null,null,null,null,null,0,"N/A"]
["Group 2 Fixed Rate Rider",{"$f":"VLOOKUP($B$3,'Data Current Rates'!$A:$AO,MATCH('BI_R1_Typical (without DRP)'!$A15,CurrentHeader,0),FALSE)","v":-0.21},1,{"$f":"B15*C15","v":-0.21},{"$f":"VLOOKUP($B$3,'Data Proposed Rates'!$A:$AT,MATCH('BI_R1_Typical (without DRP)'!$A15,ProposedHeader,0),FALSE)","v":-2.56},1,{"$f":"E15*F15","v":-2.56},-2.35,-11.190476190476192]
["Group 2 Volumetric Rate Rider",{"$f":"VLOOKUP($B$3,'Data Current Rates'!$A:$AO,MATCH('BI_R1_Typical (without DRP)'!$A16,CurrentHeader,0),FALSE)","v":0},{"$f":"IF($B$7=\"kWh\",$B$4,$B$5)","v":750},{"$f":"B16*C16","v":0},{"$f":"VLOOKUP($B$3,'Data Proposed Rates'!$A:$AT,MATCH('BI_R1_Typical (without DRP)'!$A16,ProposedHeader,0),FALSE)","v":0},{"$f":"IF($B$7=\"kWh\",$B$4,$B$5)","v":750},0,{"$f":"G16-D16","v":0},{"$f":"IF(ISERROR(H16/ABS(D16)),\"N/A\",(H16/ABS(D16)))","v":"N/A"}]
["Sub-Total A (excluding pass through)",null,null,{"$f":"SUM(D11:D16)","v":70.84},null,null,{"$f":"SUM(G11:G16)","v":72.06},1.2199999999999989,1.7221908526256335E-2]
["Line Losses on Cost of Power",{"$f":"VLOOKUP($B$3,'Data Billing Quantities'!$A:$O,MATCH('BI_R1_Typical (without DRP)'!$A32,'Data Billing Quantities'!$4:$4,0),FALSE)*$B32+VLOOKUP($B$3,'Data Billing Quantities'!$A:$O,MATCH('BI_R1_Typical (without DRP)'!$A33,'Data Billing Quantities'!$4:$4,0),FALSE)*$B33+VLOOKUP($B$3,'Data Billing Quantities'!$A:$O,MATCH('BI_R1_Typical (without DRP)'!$A34,'Data Billing Quantities'!$4:$4,0),FALSE)*$B34","v":0.12752000000000002},{"$f":"($B$6*$B$4)-$B$4","v":57},{"$f":"B18*C18","v":7.2686400000000013},{"$f":"VLOOKUP($B$3,'Data Billing Quantities'!$A:$O,MATCH('BI_R1_Typical (without DRP)'!$A32,'Data Billing Quantities'!$4:$4,0),FALSE)*$B32+VLOOKUP($B$3,'Data Billing Quantities'!$A:$O,MATCH('BI_R1_Typical (without DRP)'!$A33,'Data Billing Quantities'!$4:$4,0),FALSE)*$B33+VLOOKUP($B$3,'Data Billing Quantities'!$A:$O,MATCH('BI_R1_Typical (without DRP)'!$A34,'Data Billing Quantities'!$4:$4,0),FALSE)*$B34","v":0.12752000000000002},{"$f":"($B$6*$B$4)-$B$4","v":57},7.2686400000000013,0,0]
["Total Deferral/Variance Account Rate Rider",{"$f":"VLOOKUP($B$3,'Data Current Rates'!$A:$AO,MATCH('BI_R1_Typical (without DRP)'!$A19,CurrentHeader,0),FALSE)","v":-3.7000000000000002E-3},{"$f":"IF($B$7=\"kWh\",$B$4,$B$5)","v":750},-2.7749999999999999,{"$f":"VLOOKUP($B$3,'Data Proposed Rates'!$A:$AT,MATCH('BI_R1_Typical (without DRP)'!$A19,ProposedHeader,0),FALSE)","v":-1.6999999999999999E-3},{"$f":"IF($B$7=\"kWh\",$B$4,$B$5)","v":750},-1.2749999999999999,1.5,0.54054054054054057]
["CBR Class B Rate Rider",{"$f":"VLOOKUP($B$3,'Data Current Rates'!$A:$AJ,MATCH('BI_R1_Typical (without DRP)'!$A20,CurrentHeader,0),FALSE)","v":1E-4},{"$f":"IF($B$7=\"kWh\",$B$4,$B$5)","v":750},7.4999999999999997E-2,{"$f":"VLOOKUP($B$3,'Data Proposed Rates'!$A:$AT,MATCH('BI_R1_Typical (without DRP)'!$A20,ProposedHeader,0),FALSE)","v":-5.9999999999999995E-4},{"$f":"IF($B$7=\"kWh\",$B$4,$B$5)","v":750},-0.44999999999999996,-0.52499999999999991,-6.9999999999999991]
["GA Rate Rider",{"$f":"VLOOKUP($B$3,'Data Current Rates'!$A:$AJ,MATCH('BI_R1_Typical (without DRP)'!$A21,CurrentHeader,0),FALSE)","v":0},750,0,{"$f":"VLOOKUP($B$3,'Data Proposed Rates'!$A:$AT,MATCH('BI_R1_Typical (without DRP)'!$A21,ProposedHeader,0),FALSE)","v":0},750,0,0,"N/A"]
["Smart Meter Entity Charge (if applicable)",{"$f":"VLOOKUP($A22,'Data Pass Through'!$A:$D,2,FALSE)","v":0.42},1,0.42,{"$f":"VLOOKUP($A22,'Data Pass Through'!$A:$D,2,FALSE)","v":0.42},1,0.42,0,0]
["Rate Rider for Account 1588",null,null,null,{"$f":"VLOOKUP($B$3,'Data Proposed Rates'!$A:$AT,MATCH('BI_R1_Typical (without DRP)'!$A23,ProposedHeader,0),FALSE)","v":-3.2000000000000002E-3},{"$f":"IF($B$7=\"kWh\",$B$4,$B$5)","v":750},-2.4,-2.4,"N/A"]
["Sub-Total B - Distribution (includes Sub-Total A)",null,null,{"$f":"SUM(INDIRECT(\"D17:D\"&ROW()-1))","v":75.828640000000007},null,null,{"$f":"SUM(INDIRECT(\"G17:G\"&ROW()-1))","v":75.623639999999995},-0.20500000000001251,-2.7034640209822104E-3]
["Retail Transmission Rate – Network Service Rate",{"$f":"VLOOKUP($B$3,'Data Current Rates'!$A:$AJ,MATCH('BI_R1_Typical (without DRP)'!$A25,CurrentHeader,0),FALSE)","v":1.2800000000000001E-2},{"$f":"IF($B$7=\"kWh\",$B$4*$B$6,$B$5)","v":807},{"$f":"B25*C25","v":10.329600000000001},{"$f":"VLOOKUP($B$3,'Data Proposed Rates'!$A:$AT,MATCH('BI_R1_Typical (without DRP)'!$A25,ProposedHeader,0),FALSE)","v":1.3100000000000001E-2},{"$f":"IF($B$7=\"kWh\",$B$4*$B$6,$B$5)","v":807},10.5717,0.24209999999999887,2.3437499999999889E-2]
["Retail Transmission Rate – Line and Transformation Connection Service Rate",{"$f":"VLOOKUP($B$3,'Data Current Rates'!$A:$AJ,MATCH('BI_R1_Typical (without DRP)'!$A26,CurrentHeader,0),FALSE)","v":9.1999999999999998E-3},{"$f":"IF($B$7=\"kWh\",$B$4*$B$6,$B$5)","v":807},7.4243999999999994,{"$f":"VLOOKUP($B$3,'Data Proposed Rates'!$A:$AT,MATCH('BI_R1_Typical (without DRP)'!$A26,ProposedHeader,0),FALSE)","v":9.4000000000000004E-3},{"$f":"IF($B$7=\"kWh\",$B$4*$B$6,$B$5)","v":807},7.5857999999999999,0.16140000000000043,2.1739130434782667E-2]
["Sub-Total C - Delivery (including Sub-Total B)",null,null,{"$f":"SUM(D24:D26)","v":93.582640000000012},null,null,{"$f":"SUM(G24:G26)","v":93.781139999999994},0.19849999999998147,2.1211199000154457E-3]
["Wholesale Market Service Rate (WMS) – not including CBR",{"$f":"VLOOKUP($A28,'Data Pass Through'!$A:$D,2,FALSE)","v":4.1000000000000003E-3},{"$f":"$B$4*$B$6","v":807},{"$f":"B28*C28","v":3.3087000000000004},{"$f":"VLOOKUP($A28,'Data Pass Through'!$A:$D,3,FALSE)","v":4.1000000000000003E-3},{"$f":"$B$4*$B$6","v":807},3.3087000000000004,0,0]
["Capacity Based Recovery (CBR) – Applicable for Class B Customers",{"$f":"VLOOKUP($A29,'Data Pass Through'!$A:$D,2,FALSE)","v":5.9999999999999995E-4},{"$f":"$B$4*$B$6","v":807},0.48419999999999996,{"$f":"VLOOKUP($A29,'Data Pass Through'!$A:$D,3,FALSE)","v":5.9999999999999995E-4},{"$f":"$B$4*$B$6","v":807},0.48419999999999996,0,0]
["Rural Rate Protection Charge",{"$f":"VLOOKUP($A30,'Data Pass Through'!$A:$D,2,FALSE)","v":5.9999999999999995E-4},{"$f":"$B$4*$B$6","v":807},0.48419999999999996,{"$f":"VLOOKUP($A30,'Data Pass Through'!$A:$D,3,FALSE)","v":5.9999999999999995E-4},{"$f":"$B$4*$B$6","v":807},0.48419999999999996,0,0]
["Standard Supply Service – Administration Charge (if applicable)",{"$f":"VLOOKUP($A31,'Data Pass Through'!$A:$D,2,FALSE)","v":0.25},1,0.25,{"$f":"VLOOKUP($A31,'Data Pass Through'!$A:$D,3,FALSE)","v":0.25},1,0.25,0,0]
["TOU-Off Peak",{"$f":"VLOOKUP($A32,'Data Pass Through'!$A:$D,2,FALSE)","v":9.8000000000000004E-2},{"$f":"B$4*VLOOKUP($B$3,'Data Billing Quantities'!$A:$O,MATCH($A32,'Data Billing Quantities'!$4:$4,0),FALSE)","v":480},47.04,{"$f":"VLOOKUP($A32,'Data Pass Through'!$A:$D,3,FALSE)","v":9.8000000000000004E-2},{"$f":"B$4*VLOOKUP($B$3,'Data Billing Quantities'!$A:$O,MATCH($A32,'Data Billing Quantities'!$4:$4,0),FALSE)","v":480},{"$f":"E32*F32","v":47.04},0,0]
["TOU-Mid Peak",{"$f":"VLOOKUP($A33,'Data Pass Through'!$A:$D,2,FALSE)","v":0.157},{"$f":"B$4*VLOOKUP($B$3,'Data Billing Quantities'!$A:$O,MATCH($A33,'Data Billing Quantities'!$4:$4,0),FALSE)","v":135},21.195,{"$f":"VLOOKUP($A33,'Data Pass Through'!$A:$D,3,FALSE)","v":0.157},{"$f":"B$4*VLOOKUP($B$3,'Data Billing Quantities'!$A:$O,MATCH($A33,'Data Billing Quantities'!$4:$4,0),FALSE)","v":135},{"$f":"E33*F33","v":21.195},0,0]
["TOU-On Peak",{"$f":"VLOOKUP($A34,'Data Pass Through'!$A:$D,2,FALSE)","v":0.20300000000000001},{"$f":"B$4*VLOOKUP($B$3,'Data Billing Quantities'!$A:$O,MATCH($A34,'Data Billing Quantities'!$4:$4,0),FALSE)","v":135},27.405000000000001,{"$f":"VLOOKUP($A34,'Data Pass Through'!$A:$D,3,FALSE)","v":0.20300000000000001},{"$f":"B$4*VLOOKUP($B$3,'Data Billing Quantities'!$A:$O,MATCH($A34,'Data Billing Quantities'!$4:$4,0),FALSE)","v":135},{"$f":"E34*F34","v":27.405000000000001},0,0]
["Total Bill on TOU (before Taxes)",null,null,{"$f":"SUM(D27:D34)","v":193.74974},null,null,{"$f":"SUM(G27:G34)","v":193.94824},0.19849999999999568,1.024517503868628E-3]
["HST",0.13,null,{"$f":"D35*B36","v":25.187466200000003},{"$f":"B36","v":0.13},null,{"$f":"G35*E36","v":25.213271200000001},2.5804999999998302E-2,1.0245175038685829E-3]
["Ontario Electricity Rebate (OER)",{"$f":"IF(($B$4*12)<250000,VLOOKUP($A37,'Data Pass Through'!$A$4:$C$19,2,0),0)","v":-0.23499999999999999},null,{"$f":"D35*B37","v":-45.531188899999997},{"$f":"IF(($B$4*12)<250000,VLOOKUP($A37,'Data Pass Through'!$A$4:$C$19,3,0),0)","v":-0.23499999999999999},null,{"$f":"G35*E37","v":-45.577836399999995},-4.6647499999998843E-2,-1.024517503868625E-3]
["Total Bill on TOU",null,null,{"$f":"SUM(D35:D37)","v":173.4060173},null,null,{"$f":"SUM(G35:G37)","v":173.58367480000001},0.17765750000000935,1.0245175038687043E-3]
["* Distribution rate protection applies to R1 and R2 customers"]

{"sheet":"BI_R2_Typical (with DRP)","index":15,"n_rows":39,"n_cols":9,"rows_kept":39,"cut":false,"hidden":false,"merged":[[0,0,0,10],[8,0,9,0],[8,1,8,3],[8,4,8,6],[8,7,8,8]]}
["Bill Impacts (Typical Consumption Level) - R2"]
[]
["Rate Class",{"$f":"RIGHT(A1,LEN(A1)-FIND(\"- \",A1,1)-1)","v":"R2"}]
["Monthly Consumption (kWh)",{"$f":"IF(COUNTIF(A1,\"*Low*\")>0,VLOOKUP(B3,'Data Billing Quantities'!$A:$Z,MATCH(\"Low kWh\",'Data Billing Quantities'!4:4,0),FALSE),IF(COUNTIF(A1,\"*Typical*\")>0,VLOOKUP(B3,'Data Billing Quantities'!$A:$Z,MATCH(\"Typical kWh\",'Data Billing Quantities'!4:4,0),FALSE),IF(COUNTIF(A1,\"*Average*\")>0,VLOOKUP(B3,'Data Billing Quantities'!$A:$Z,MATCH(\"Average kWh\",'Data Billing Quantities'!4:4,0),FALSE),IF(COUNTIF(A1,\"*High*\")>0,VLOOKUP(B3,'Data Billing Quantities'!$A:$Z,MATCH(\"High kWh\",'Data Billing Quantities'!4:4,0),FALSE),\"error\"))))","v":750}]
["Peak (kW)",{"$f":"IF(COUNTIF(A1,\"*Low*\")>0,VLOOKUP(B3,'Data Billing Quantities'!$A:$Z,MATCH(\"Low kW\",'Data Billing Quantities'!4:4,0),FALSE),IF(COUNTIF(A1,\"*Typical*\")>0,VLOOKUP(B3,'Data Billing Quantities'!$A:$Z,MATCH(\"Typical kW\",'Data Billing Quantities'!4:4,0),FALSE),IF(COUNTIF(A1,\"*Average*\")>0,VLOOKUP(B3,'Data Billing Quantities'!$A:$Z,MATCH(\"Average kW\",'Data Billing Quantities'!4:4,0),FALSE),IF(COUNTIF(A1,\"*High*\")>0,VLOOKUP(B3,'Data Billing Quantities'!$A:$Z,MATCH(\"High kW\",'Data Billing Quantities'!4:4,0),FALSE),\"error\"))))","v":0}]
["Loss factor",{"$f":"VLOOKUP(B3,'Data Billing Quantities'!A:D,MATCH(A6,'Data Billing Quantities'!4:4,0),FALSE)","v":1.105}]
["Charge determinant",{"$f":"VLOOKUP(B3,'Data Billing Quantities'!A:D,MATCH(A7,'Data Billing Quantities'!4:4,0),FALSE)","v":"kWh"}]
[]
[null,"Current OEB-Approved",null,null,"Proposed",null,null,"Impact"]
[null,"Rate ($)","Volume","Charge ($)","Rate ($)","Volume","Charge ($)","$ Change","% Change"]
["Service Charge",{"$f":"VLOOKUP($B$3,'Data Current Rates'!$A:$AO,MATCH('BI_R2_Typical (with DRP)'!$A11,CurrentHeader,0),FALSE)","v":143.96},1,{"$f":"B11*C11","v":143.96},{"$f":"VLOOKUP($B$3,'Data Proposed Rates'!$A:$AT,MATCH('BI_R2_Typical (with DRP)'!$A11,ProposedHeader,0),FALSE)","v":151.13999999999999},1,{"$f":"E11*F11","v":151.13999999999999},{"$f":"G11-D11","v":7.1799999999999784},{"$f":"IF(ISERROR(H11/ABS(D11)),\"N/A\",(H11/ABS(D11)))","v":4.9874965268129887E-2}]
["Distribution Volumetric Charge",{"$f":"VLOOKUP($B$3,'Data Current Rates'!$A:$AO,MATCH('BI_R2_Typical (with DRP)'!$A12,CurrentHeader,0),FALSE)","v":1.21E-2},{"$f":"IF($B$7=\"kWh\",$B$4,$B$5)","v":750},{"$f":"B12*C12","v":9.0749999999999993},{"$f":"VLOOKUP($B$3,'Data Proposed Rates'!$A:$AT,MATCH('BI_R2_Typical (with DRP)'!$A12,ProposedHeader,0),FALSE)","v":1.17E-2},{"$f":"IF($B$7=\"kWh\",$B$4,$B$5)","v":750},8.7750000000000004,-0.29999999999999893,-3.3057851239669304E-2]
["RRRP Adjustment",{"$f":"IF($B$3=\"R2\",VLOOKUP(A13,'Data Pass Through'!$A4:$C19,3,0),0)*-1","v":-60.5},1,{"$f":"B13*C13","v":-60.5},{"$f":"IF($B$3=\"R2\",VLOOKUP(A13,'Data Pass Through'!$A4:$C19,3,0),0)*-1","v":-60.5},1,-60.5,0,0]
["DRP Adjustment",null,null,{"$f":"IF(OR($B$3=\"R1\",$B$3=\"R2\",$B$3=\"R1-CPUC\"),IF(SUM(D11:D13)>'Data Pass Through'!$B$16,-(SUM(D11:D13)-'Data Pass Through'!$B$16),0),0)","v":-49.654999999999994},null,null,{"$f":"IF(OR($B$3=\"R1\",$B$3=\"R2\",$B$3=\"R1-CPUC\"),IF(SUM(G11:G13)>'Data Pass Through'!$B$16,-(SUM(G11:G13)-'Data Pass Through'!$B$16),0),0)","v":-56.534999999999989},-6.8799999999999955,-0.13855603665290497]
["Group 2 Fixed Rate Rider",{"$f":"VLOOKUP($B$3,'Data Current Rates'!$A:$AO,MATCH('BI_R2_Typical (with DRP)'!$A15,CurrentHeader,0),FALSE)","v":-0.44},1,{"$f":"B15*C15","v":-0.44},{"$f":"VLOOKUP($B$3,'Data Proposed Rates'!$A:$AT,MATCH('BI_R2_Typical (with DRP)'!$A15,ProposedHeader,0),FALSE)","v":-5.18},1,{"$f":"E15*F15","v":-5.18},-4.7399999999999993,-10.772727272727272]
["Group 2 Volumetric Rate Rider",{"$f":"VLOOKUP($B$3,'Data Current Rates'!$A:$AO,MATCH('BI_R2_Typical (with DRP)'!$A16,CurrentHeader,0),FALSE)","v":0},{"$f":"IF($B$7=\"kWh\",$B$4,$B$5)","v":750},{"$f":"B16*C16","v":0},{"$f":"VLOOKUP($B$3,'Data Proposed Rates'!$A:$AT,MATCH('BI_R2_Typical (with DRP)'!$A16,ProposedHeader,0),FALSE)","v":0},{"$f":"IF($B$7=\"kWh\",$B$4,$B$5)","v":750},0,{"$f":"G16-D16","v":0},{"$f":"IF(ISERROR(H16/ABS(D16)),\"N/A\",(H16/ABS(D16)))","v":"N/A"}]
["Sub-Total A (excluding pass through)",null,null,{"$f":"SUM(D11:D16)","v":42.440000000000005},null,null,{"$f":"SUM(G11:G16)","v":37.700000000000003},-4.740000000000002,-0.11168708765315744]
["Line Losses on Cost of Power",{"$f":"VLOOKUP($B$3,'Data Billing Quantities'!$A:$O,MATCH('BI_R2_Typical (with DRP)'!$A32,'Data Billing Quantities'!$4:$4,0),FALSE)*$B32+VLOOKUP($B$3,'Data Billing Quantities'!$A:$O,MATCH('BI_R2_Typical (with DRP)'!$A33,'Data Billing Quantities'!$4:$4,0),FALSE)*$B33+VLOOKUP($B$3,'Data Billing Quantities'!$A:$O,MATCH('BI_R2_Typical (with DRP)'!$A34,'Data Billing Quantities'!$4:$4,0),FALSE)*$B34","v":0.12752000000000002},{"$f":"($B$6*$B$4)-$B$4","v":78.75},{"$f":"B18*C18","v":10.042200000000001},{"$f":"VLOOKUP($B$3,'Data Billing Quantities'!$A:$O,MATCH('BI_R2_Typical (with DRP)'!$A32,'Data Billing Quantities'!$4:$4,0),FALSE)*$B32+VLOOKUP($B$3,'Data Billing Quantities'!$A:$O,MATCH('BI_R2_Typical (with DRP)'!$A33,'Data Billing Quantities'!$4:$4,0),FALSE)*$B33+VLOOKUP($B$3,'Data Billing Quantities'!$A:$O,MATCH('BI_R2_Typical (with DRP)'!$A34,'Data Billing Quantities'!$4:$4,0),FALSE)*$B34","v":0.12752000000000002},{"$f":"($B$6*$B$4)-$B$4","v":78.75},10.042200000000001,0,0]
["Total Deferral/Variance Account Rate Rider",{"$f":"VLOOKUP($B$3,'Data Current Rates'!$A:$AO,MATCH('BI_R2_Typical (with DRP)'!$A19,CurrentHeader,0),FALSE)","v":-3.7000000000000002E-3},{"$f":"IF($B$7=\"kWh\",$B$4,$B$5)","v":750},-2.7749999999999999,{"$f":"VLOOKUP($B$3,'Data Proposed Rates'!$A:$AT,MATCH('BI_R2_Typical (with DRP)'!$A19,ProposedHeader,0),FALSE)","v":-1.6999999999999999E-3},{"$f":"IF($B$7=\"kWh\",$B$4,$B$5)","v":750},-1.2749999999999999,1.5,0.54054054054054057]
["CBR Class B Rate Rider",{"$f":"VLOOKUP($B$3,'Data Current Rates'!$A:$AJ,MATCH('BI_R2_Typical (with DRP)'!$A20,CurrentHeader,0),FALSE)","v":1E-4},{"$f":"IF($B$7=\"kWh\",$B$4,$B$5)","v":750},7.4999999999999997E-2,{"$f":"VLOOKUP($B$3,'Data Proposed Rates'!$A:$AT,MATCH('BI_R2_Typical (with DRP)'!$A20,ProposedHeader,0),FALSE)","v":-5.9999999999999995E-4},{"$f":"IF($B$7=\"kWh\",$B$4,$B$5)","v":750},-0.44999999999999996,-0.52499999999999991,-6.9999999999999991]
["GA Rate Rider",{"$f":"VLOOKUP($B$3,'Data Current Rates'!$A:$AJ,MATCH('BI_R2_Typical (with DRP)'!$A21,CurrentHeader,0),FALSE)","v":0},750,0,{"$f":"VLOOKUP($B$3,'Data Proposed Rates'!$A:$AT,MATCH('BI_R2_Typical (with DRP)'!$A21,ProposedHeader,0),FALSE)","v":0},750,0,0,"N/A"]
["Smart Meter Entity Charge (if applicable)",{"$f":"VLOOKUP($A22,'Data Pass Through'!$A:$D,2,FALSE)","v":0.42},1,0.42,{"$f":"VLOOKUP($A22,'Data Pass Through'!$A:$D,2,FALSE)","v":0.42},1,0.42,0,0]
["Rate Rider for Account 1588",null,null,null,{"$f":"VLOOKUP($B$3,'Data Proposed Rates'!$A:$AT,MATCH('BI_R2_Typical (with DRP)'!$A23,ProposedHeader,0),FALSE)","v":-3.2000000000000002E-3},{"$f":"IF($B$7=\"kWh\",$B$4,$B$5)","v":750},-2.4,-2.4,"N/A"]
["Sub-Total B - Distribution (includes Sub-Total A)",null,null,{"$f":"SUM(INDIRECT(\"D17:D\"&ROW()-1))","v":50.202200000000012},null,null,{"$f":"SUM(INDIRECT(\"G17:G\"&ROW()-1))","v":44.037200000000006},-6.1650000000000063,-0.1228033831186682]
["Retail Transmission Rate – Network Service Rate",{"$f":"VLOOKUP($B$3,'Data Current Rates'!$A:$AJ,MATCH('BI_R2_Typical (with DRP)'!$A25,CurrentHeader,0),FALSE)","v":1.18E-2},{"$f":"IF($B$7=\"kWh\",$B$4*$B$6,$B$5)","v":828.75},{"$f":"B25*C25","v":9.7792499999999993},{"$f":"VLOOKUP($B$3,'Data Proposed Rates'!$A:$AT,MATCH('BI_R2_Typical (with DRP)'!$A25,ProposedHeader,0),FALSE)","v":1.21E-2},{"$f":"IF($B$7=\"kWh\",$B$4*$B$6,$B$5)","v":828.75},10.027875,0.24862500000000054,2.5423728813559379E-2]
["Retail Transmission Rate – Line and Transformation Connection Service Rate",{"$f":"VLOOKUP($B$3,'Data Current Rates'!$A:$AJ,MATCH('BI_R2_Typical (with DRP)'!$A26,CurrentHeader,0),FALSE)","v":8.6E-3},{"$f":"IF($B$7=\"kWh\",$B$4*$B$6,$B$5)","v":828.75},7.1272500000000001,{"$f":"VLOOKUP($B$3,'Data Proposed Rates'!$A:$AT,MATCH('BI_R2_Typical (with DRP)'!$A26,ProposedHeader,0),FALSE)","v":8.8000000000000005E-3},{"$f":"IF($B$7=\"kWh\",$B$4*$B$6,$B$5)","v":828.75},7.2930000000000001,0.16575000000000006,2.3255813953488382E-2]
["Sub-Total C - Delivery (including Sub-Total B)",null,null,{"$f":"SUM(D24:D26)","v":67.108700000000013},null,null,{"$f":"SUM(G24:G26)","v":61.358075000000007},-5.7506250000000065,-8.5691199501704035E-2]
["Wholesale Market Service Rate (WMS) – not including CBR",{"$f":"VLOOKUP($A28,'Data Pass Through'!$A:$D,2,FALSE)","v":4.1000000000000003E-3},{"$f":"$B$4*$B$6","v":828.75},{"$f":"B28*C28","v":3.3978750000000004},{"$f":"VLOOKUP($A28,'Data Pass Through'!$A:$D,3,FALSE)","v":4.1000000000000003E-3},{"$f":"$B$4*$B$6","v":828.75},3.3978750000000004,0,0]
["Capacity Based Recovery (CBR) – Applicable for Class B Customers",{"$f":"VLOOKUP($A29,'Data Pass Through'!$A:$D,2,FALSE)","v":5.9999999999999995E-4},{"$f":"$B$4*$B$6","v":828.75},0.49724999999999997,{"$f":"VLOOKUP($A29,'Data Pass Through'!$A:$D,3,FALSE)","v":5.9999999999999995E-4},{"$f":"$B$4*$B$6","v":828.75},0.49724999999999997,0,0]
["Rural Rate Protection Charge",{"$f":"VLOOKUP($A30,'Data Pass Through'!$A:$D,2,FALSE)","v":5.9999999999999995E-4},{"$f":"$B$4*$B$6","v":828.75},0.49724999999999997,{"$f":"VLOOKUP($A30,'Data Pass Through'!$A:$D,3,FALSE)","v":5.9999999999999995E-4},{"$f":"$B$4*$B$6","v":828.75},0.49724999999999997,0,0]
["Standard Supply Service – Administration Charge (if applicable)",{"$f":"VLOOKUP($A31,'Data Pass Through'!$A:$D,2,FALSE)","v":0.25},1,0.25,{"$f":"VLOOKUP($A31,'Data Pass Through'!$A:$D,3,FALSE)","v":0.25},1,0.25,0,0]
["TOU-Off Peak",{"$f":"VLOOKUP($A32,'Data Pass Through'!$A:$D,2,FALSE)","v":9.8000000000000004E-2},{"$f":"B$4*VLOOKUP($B$3,'Data Billing Quantities'!$A:$O,MATCH($A32,'Data Billing Quantities'!$4:$4,0),FALSE)","v":480},47.04,{"$f":"VLOOKUP($A32,'Data Pass Through'!$A:$D,3,FALSE)","v":9.8000000000000004E-2},{"$f":"B$4*VLOOKUP($B$3,'Data Billing Quantities'!$A:$O,MATCH($A32,'Data Billing Quantities'!$4:$4,0),FALSE)","v":480},{"$f":"E32*F32","v":47.04},0,0]
["TOU-Mid Peak",{"$f":"VLOOKUP($A33,'Data Pass Through'!$A:$D,2,FALSE)","v":0.157},{"$f":"B$4*VLOOKUP($B$3,'Data Billing Quantities'!$A:$O,MATCH($A33,'Data Billing Quantities'!$4:$4,0),FALSE)","v":135},21.195,{"$f":"VLOOKUP($A33,'Data Pass Through'!$A:$D,3,FALSE)","v":0.157},{"$f":"B$4*VLOOKUP($B$3,'Data Billing Quantities'!$A:$O,MATCH($A33,'Data Billing Quantities'!$4:$4,0),FALSE)","v":135},{"$f":"E33*F33","v":21.195},0,0]
["TOU-On Peak",{"$f":"VLOOKUP($A34,'Data Pass Through'!$A:$D,2,FALSE)","v":0.20300000000000001},{"$f":"B$4*VLOOKUP($B$3,'Data Billing Quantities'!$A:$O,MATCH($A34,'Data Billing Quantities'!$4:$4,0),FALSE)","v":135},27.405000000000001,{"$f":"VLOOKUP($A34,'Data Pass Through'!$A:$D,3,FALSE)","v":0.20300000000000001},{"$f":"B$4*VLOOKUP($B$3,'Data Billing Quantities'!$A:$O,MATCH($A34,'Data Billing Quantities'!$4:$4,0),FALSE)","v":135},{"$f":"E34*F34","v":27.405000000000001},0,0]
["Total Bill on TOU (before Taxes)",null,null,{"$f":"SUM(D27:D34)","v":167.391075},null,null,{"$f":"SUM(G27:G34)","v":161.64044999999999},-5.7506250000000136,-3.435443018691417E-2]
["HST",0.13,null,{"$f":"D35*B36","v":21.760839750000002},{"$f":"B36","v":0.13},null,{"$f":"G35*E36","v":21.013258499999999},-0.74758125000000319,-3.4354430186914232E-2]
["Ontario Electricity Rebate (OER)",{"$f":"IF(($B$4*12)<250000,VLOOKUP($A37,'Data Pass Through'!$A$4:$C$19,2,0),0)","v":-0.23499999999999999},null,{"$f":"D35*B37","v":-39.336902625},{"$f":"IF(($B$4*12)<250000,VLOOKUP($A37,'Data Pass Through'!$A$4:$C$19,3,0),0)","v":-0.23499999999999999},null,{"$f":"G35*E37","v":-37.985505749999994},1.351396875000006,3.4354430186914239E-2]
["Total Bill on TOU",null,null,{"$f":"SUM(D35:D37)","v":149.81501212500001},null,null,{"$f":"SUM(G35:G37)","v":144.66820275000001},-5.1468093750000037,-3.4354430186914107E-2]
["* Distribution rate protection applies to R1 and R2 customers"]

{"sheet":"BI_R2_Typical (without DRP)","index":16,"n_rows":39,"n_cols":9,"rows_kept":39,"cut":false,"hidden":false,"merged":[[0,0,0,10],[8,0,9,0],[8,1,8,3],[8,4,8,6],[8,7,8,8]]}
["Bill Impacts (Typical Consumption Level) - R2"]
[]
["Rate Class",{"$f":"RIGHT(A1,LEN(A1)-FIND(\"- \",A1,1)-1)","v":"R2"}]
["Monthly Consumption (kWh)",{"$f":"IF(COUNTIF(A1,\"*Low*\")>0,VLOOKUP(B3,'Data Billing Quantities'!$A:$Z,MATCH(\"Low kWh\",'Data Billing Quantities'!4:4,0),FALSE),IF(COUNTIF(A1,\"*Typical*\")>0,VLOOKUP(B3,'Data Billing Quantities'!$A:$Z,MATCH(\"Typical kWh\",'Data Billing Quantities'!4:4,0),FALSE),IF(COUNTIF(A1,\"*Average*\")>0,VLOOKUP(B3,'Data Billing Quantities'!$A:$Z,MATCH(\"Average kWh\",'Data Billing Quantities'!4:4,0),FALSE),IF(COUNTIF(A1,\"*High*\")>0,VLOOKUP(B3,'Data Billing Quantities'!$A:$Z,MATCH(\"High kWh\",'Data Billing Quantities'!4:4,0),FALSE),\"error\"))))","v":750}]
["Peak (kW)",{"$f":"IF(COUNTIF(A1,\"*Low*\")>0,VLOOKUP(B3,'Data Billing Quantities'!$A:$Z,MATCH(\"Low kW\",'Data Billing Quantities'!4:4,0),FALSE),IF(COUNTIF(A1,\"*Typical*\")>0,VLOOKUP(B3,'Data Billing Quantities'!$A:$Z,MATCH(\"Typical kW\",'Data Billing Quantities'!4:4,0),FALSE),IF(COUNTIF(A1,\"*Average*\")>0,VLOOKUP(B3,'Data Billing Quantities'!$A:$Z,MATCH(\"Average kW\",'Data Billing Quantities'!4:4,0),FALSE),IF(COUNTIF(A1,\"*High*\")>0,VLOOKUP(B3,'Data Billing Quantities'!$A:$Z,MATCH(\"High kW\",'Data Billing Quantities'!4:4,0),FALSE),\"error\"))))","v":0}]
["Loss factor",{"$f":"VLOOKUP(B3,'Data Billing Quantities'!A:D,MATCH(A6,'Data Billing Quantities'!4:4,0),FALSE)","v":1.105}]
["Charge determinant",{"$f":"VLOOKUP(B3,'Data Billing Quantities'!A:D,MATCH(A7,'Data Billing Quantities'!4:4,0),FALSE)","v":"kWh"}]
[]
[null,"Current OEB-Approved",null,null,"Proposed",null,null,"Impact"]
[null,"Rate ($)","Volume","Charge ($)","Rate ($)","Volume","Charge ($)","$ Change","% Change"]
["Service Charge",{"$f":"VLOOKUP($B$3,'Data Current Rates'!$A:$AO,MATCH('BI_R2_Typical (without DRP)'!$A11,CurrentHeader,0),FALSE)","v":143.96},1,{"$f":"B11*C11","v":143.96},{"$f":"VLOOKUP($B$3,'Data Proposed Rates'!$A:$AT,MATCH('BI_R2_Typical (without DRP)'!$A11,ProposedHeader,0),FALSE)","v":151.13999999999999},1,{"$f":"E11*F11","v":151.13999999999999},{"$f":"G11-D11","v":7.1799999999999784},{"$f":"IF(ISERROR(H11/ABS(D11)),\"N/A\",(H11/ABS(D11)))","v":4.9874965268129887E-2}]
["Distribution Volumetric Charge",{"$f":"VLOOKUP($B$3,'Data Current Rates'!$A:$AO,MATCH('BI_R2_Typical (without DRP)'!$A12,CurrentHeader,0),FALSE)","v":1.21E-2},{"$f":"IF($B$7=\"kWh\",$B$4,$B$5)","v":750},{"$f":"B12*C12","v":9.0749999999999993},{"$f":"VLOOKUP($B$3,'Data Proposed Rates'!$A:$AT,MATCH('BI_R2_Typical (without DRP)'!$A12,ProposedHeader,0),FALSE)","v":1.17E-2},{"$f":"IF($B$7=\"kWh\",$B$4,$B$5)","v":750},8.7750000000000004,-0.29999999999999893,-3.3057851239669304E-2]
["RRRP Adjustment",{"$f":"IF($B$3=\"R2\",VLOOKUP(A13,'Data Pass Through'!$A4:$C19,3,0),0)*-1","v":-60.5},1,{"$f":"B13*C13","v":-60.5},{"$f":"IF($B$3=\"R2\",VLOOKUP(A13,'Data Pass Through'!$A4:$C19,3,0),0)*-1","v":-60.5},1,-60.5,0,0]
["DRP Adjustment",null,null,null,null,null,null,0,"N/A"]
["Group 2 Fixed Rate Rider",{"$f":"VLOOKUP($B$3,'Data Current Rates'!$A:$AO,MATCH('BI_R2_Typical (without DRP)'!$A15,CurrentHeader,0),FALSE)","v":-0.44},1,{"$f":"B15*C15","v":-0.44},{"$f":"VLOOKUP($B$3,'Data Proposed Rates'!$A:$AT,MATCH('BI_R2_Typical (without DRP)'!$A15,ProposedHeader,0),FALSE)","v":-5.18},1,{"$f":"E15*F15","v":-5.18},-4.7399999999999993,-10.772727272727272]
["Group 2 Volumetric Rate Rider",{"$f":"VLOOKUP($B$3,'Data Current Rates'!$A:$AO,MATCH('BI_R2_Typical (without DRP)'!$A16,CurrentHeader,0),FALSE)","v":0},{"$f":"IF($B$7=\"kWh\",$B$4,$B$5)","v":750},{"$f":"B16*C16","v":0},{"$f":"VLOOKUP($B$3,'Data Proposed Rates'!$A:$AT,MATCH('BI_R2_Typical (without DRP)'!$A16,ProposedHeader,0),FALSE)","v":0},{"$f":"IF($B$7=\"kWh\",$B$4,$B$5)","v":750},0,{"$f":"G16-D16","v":0},{"$f":"IF(ISERROR(H16/ABS(D16)),\"N/A\",(H16/ABS(D16)))","v":"N/A"}]
["Sub-Total A (excluding pass through)",null,null,{"$f":"SUM(D11:D16)","v":92.094999999999999},null,null,{"$f":"SUM(G11:G16)","v":94.234999999999985},2.1399999999999864,2.3236874966067501E-2]
["Line Losses on Cost of Power",{"$f":"VLOOKUP($B$3,'Data Billing Quantities'!$A:$O,MATCH('BI_R2_Typical (without DRP)'!$A32,'Data Billing Quantities'!$4:$4,0),FALSE)*$B32+VLOOKUP($B$3,'Data Billing Quantities'!$A:$O,MATCH('BI_R2_Typical (without DRP)'!$A33,'Data Billing Quantities'!$4:$4,0),FALSE)*$B33+VLOOKUP($B$3,'Data Billing Quantities'!$A:$O,MATCH('BI_R2_Typical (without DRP)'!$A34,'Data Billing Quantities'!$4:$4,0),FALSE)*$B34","v":0.12752000000000002},{"$f":"($B$6*$B$4)-$B$4","v":78.75},{"$f":"B18*C18","v":10.042200000000001},{"$f":"VLOOKUP($B$3,'Data Billing Quantities'!$A:$O,MATCH('BI_R2_Typical (without DRP)'!$A32,'Data Billing Quantities'!$4:$4,0),FALSE)*$B32+VLOOKUP($B$3,'Data Billing Quantities'!$A:$O,MATCH('BI_R2_Typical (without DRP)'!$A33,'Data Billing Quantities'!$4:$4,0),FALSE)*$B33+VLOOKUP($B$3,'Data Billing Quantities'!$A:$O,MATCH('BI_R2_Typical (without DRP)'!$A34,'Data Billing Quantities'!$4:$4,0),FALSE)*$B34","v":0.12752000000000002},{"$f":"($B$6*$B$4)-$B$4","v":78.75},10.042200000000001,0,0]
["Total Deferral/Variance Account Rate Rider",{"$f":"VLOOKUP($B$3,'Data Current Rates'!$A:$AO,MATCH('BI_R2_Typical (without DRP)'!$A19,CurrentHeader,0),FALSE)","v":-3.7000000000000002E-3},{"$f":"IF($B$7=\"kWh\",$B$4,$B$5)","v":750},-2.7749999999999999,{"$f":"VLOOKUP($B$3,'Data Proposed Rates'!$A:$AT,MATCH('BI_R2_Typical (without DRP)'!$A19,ProposedHeader,0),FALSE)","v":-1.6999999999999999E-3},{"$f":"IF($B$7=\"kWh\",$B$4,$B$5)","v":750},-1.2749999999999999,1.5,0.54054054054054057]
["CBR Class B Rate Rider",{"$f":"VLOOKUP($B$3,'Data Current Rates'!$A:$AJ,MATCH('BI_R2_Typical (without DRP)'!$A20,CurrentHeader,0),FALSE)","v":1E-4},{"$f":"IF($B$7=\"kWh\",$B$4,$B$5)","v":750},7.4999999999999997E-2,{"$f":"VLOOKUP($B$3,'Data Proposed Rates'!$A:$AT,MATCH('BI_R2_Typical (without DRP)'!$A20,ProposedHeader,0),FALSE)","v":-5.9999999999999995E-4},{"$f":"IF($B$7=\"kWh\",$B$4,$B$5)","v":750},-0.44999999999999996,-0.52499999999999991,-6.9999999999999991]
["GA Rate Rider",{"$f":"VLOOKUP($B$3,'Data Current Rates'!$A:$AJ,MATCH('BI_R2_Typical (without DRP)'!$A21,CurrentHeader,0),FALSE)","v":0},750,0,{"$f":"VLOOKUP($B$3,'Data Proposed Rates'!$A:$AT,MATCH('BI_R2_Typical (without DRP)'!$A21,ProposedHeader,0),FALSE)","v":0},750,0,0,"N/A"]
["Smart Meter Entity Charge (if applicable)",{"$f":"VLOOKUP($A22,'Data Pass Through'!$A:$D,2,FALSE)","v":0.42},1,0.42,{"$f":"VLOOKUP($A22,'Data Pass Through'!$A:$D,2,FALSE)","v":0.42},1,0.42,0,0]
["Rate Rider for Account 1588",null,null,null,{"$f":"VLOOKUP($B$3,'Data Proposed Rates'!$A:$AT,MATCH('BI_R2_Typical (without DRP)'!$A23,ProposedHeader,0),FALSE)","v":-3.2000000000000002E-3},{"$f":"IF($B$7=\"kWh\",$B$4,$B$5)","v":750},-2.4,-2.4,"N/A"]
["Sub-Total B - Distribution (includes Sub-Total A)",null,null,{"$f":"SUM(INDIRECT(\"D17:D\"&ROW()-1))","v":99.857200000000006},null,null,{"$f":"SUM(INDIRECT(\"G17:G\"&ROW()-1))","v":100.57219999999998},0.71499999999997499,7.1602248010156E-3]
["Retail Transmission Rate – Network Service Rate",{"$f":"VLOOKUP($B$3,'Data Current Rates'!$A:$AJ,MATCH('BI_R2_Typical (without DRP)'!$A25,CurrentHeader,0),FALSE)","v":1.18E-2},{"$f":"IF($B$7=\"kWh\",$B$4*$B$6,$B$5)","v":828.75},{"$f":"B25*C25","v":9.7792499999999993},{"$f":"VLOOKUP($B$3,'Data Proposed Rates'!$A:$AT,MATCH('BI_R2_Typical (without DRP)'!$A25,ProposedHeader,0),FALSE)","v":1.21E-2},{"$f":"IF($B$7=\"kWh\",$B$4*$B$6,$B$5)","v":828.75},10.027875,0.24862500000000054,2.5423728813559379E-2]
["Retail Transmission Rate – Line and Transformation Connection Service Rate",{"$f":"VLOOKUP($B$3,'Data Current Rates'!$A:$AJ,MATCH('BI_R2_Typical (without DRP)'!$A26,CurrentHeader,0),FALSE)","v":8.6E-3},{"$f":"IF($B$7=\"kWh\",$B$4*$B$6,$B$5)","v":828.75},7.1272500000000001,{"$f":"VLOOKUP($B$3,'Data Proposed Rates'!$A:$AT,MATCH('BI_R2_Typical (without DRP)'!$A26,ProposedHeader,0),FALSE)","v":8.8000000000000005E-3},{"$f":"IF($B$7=\"kWh\",$B$4*$B$6,$B$5)","v":828.75},7.2930000000000001,0.16575000000000006,2.3255813953488382E-2]
["Sub-Total C - Delivery (including Sub-Total B)",null,null,{"$f":"SUM(D24:D26)","v":116.76370000000001},null,null,{"$f":"SUM(G24:G26)","v":117.89307499999998},1.1293749999999676,9.6723125423395073E-3]
["Wholesale Market Service Rate (WMS) – not including CBR",{"$f":"VLOOKUP($A28,'Data Pass Through'!$A:$D,2,FALSE)","v":4.1000000000000003E-3},{"$f":"$B$4*$B$6","v":828.75},{"$f":"B28*C28","v":3.3978750000000004},{"$f":"VLOOKUP($A28,'Data Pass Through'!$A:$D,3,FALSE)","v":4.1000000000000003E-3},{"$f":"$B$4*$B$6","v":828.75},3.3978750000000004,0,0]
["Capacity Based Recovery (CBR) – Applicable for Class B Customers",{"$f":"VLOOKUP($A29,'Data Pass Through'!$A:$D,2,FALSE)","v":5.9999999999999995E-4},{"$f":"$B$4*$B$6","v":828.75},0.49724999999999997,{"$f":"VLOOKUP($A29,'Data Pass Through'!$A:$D,3,FALSE)","v":5.9999999999999995E-4},{"$f":"$B$4*$B$6","v":828.75},0.49724999999999997,0,0]
["Rural Rate Protection Charge",{"$f":"VLOOKUP($A30,'Data Pass Through'!$A:$D,2,FALSE)","v":5.9999999999999995E-4},{"$f":"$B$4*$B$6","v":828.75},0.49724999999999997,{"$f":"VLOOKUP($A30,'Data Pass Through'!$A:$D,3,FALSE)","v":5.9999999999999995E-4},{"$f":"$B$4*$B$6","v":828.75},0.49724999999999997,0,0]
["Standard Supply Service – Administration Charge (if applicable)",{"$f":"VLOOKUP($A31,'Data Pass Through'!$A:$D,2,FALSE)","v":0.25},1,0.25,{"$f":"VLOOKUP($A31,'Data Pass Through'!$A:$D,3,FALSE)","v":0.25},1,0.25,0,0]
["TOU-Off Peak",{"$f":"VLOOKUP($A32,'Data Pass Through'!$A:$D,2,FALSE)","v":9.8000000000000004E-2},{"$f":"B$4*VLOOKUP($B$3,'Data Billing Quantities'!$A:$O,MATCH($A32,'Data Billing Quantities'!$4:$4,0),FALSE)","v":480},47.04,{"$f":"VLOOKUP($A32,'Data Pass Through'!$A:$D,3,FALSE)","v":9.8000000000000004E-2},{"$f":"B$4*VLOOKUP($B$3,'Data Billing Quantities'!$A:$O,MATCH($A32,'Data Billing Quantities'!$4:$4,0),FALSE)","v":480},{"$f":"E32*F32","v":47.04},0,0]
["TOU-Mid Peak",{"$f":"VLOOKUP($A33,'Data Pass Through'!$A:$D,2,FALSE)","v":0.157},{"$f":"B$4*VLOOKUP($B$3,'Data Billing Quantities'!$A:$O,MATCH($A33,'Data Billing Quantities'!$4:$4,0),FALSE)","v":135},21.195,{"$f":"VLOOKUP($A33,'Data Pass Through'!$A:$D,3,FALSE)","v":0.157},{"$f":"B$4*VLOOKUP($B$3,'Data Billing Quantities'!$A:$O,MATCH($A33,'Data Billing Quantities'!$4:$4,0),FALSE)","v":135},{"$f":"E33*F33","v":21.195},0,0]
["TOU-On Peak",{"$f":"VLOOKUP($A34,'Data Pass Through'!$A:$D,2,FALSE)","v":0.20300000000000001},{"$f":"B$4*VLOOKUP($B$3,'Data Billing Quantities'!$A:$O,MATCH($A34,'Data Billing Quantities'!$4:$4,0),FALSE)","v":135},27.405000000000001,{"$f":"VLOOKUP($A34,'Data Pass Through'!$A:$D,3,FALSE)","v":0.20300000000000001},{"$f":"B$4*VLOOKUP($B$3,'Data Billing Quantities'!$A:$O,MATCH($A34,'Data Billing Quantities'!$4:$4,0),FALSE)","v":135},{"$f":"E34*F34","v":27.405000000000001},0,0]
["Total Bill on TOU (before Taxes)",null,null,{"$f":"SUM(D27:D34)","v":217.046075},null,null,{"$f":"SUM(G27:G34)","v":218.17544999999996},1.1293749999999534,5.2033882667537456E-3]
["HST",0.13,null,{"$f":"D35*B36","v":28.215989750000002},{"$f":"B36","v":0.13},null,{"$f":"G35*E36","v":28.362808499999996},0.14681874999999422,5.2033882667537551E-3]
["Ontario Electricity Rebate (OER)",{"$f":"IF(($B$4*12)<250000,VLOOKUP($A37,'Data Pass Through'!$A$4:$C$19,2,0),0)","v":-0.23499999999999999},null,{"$f":"D35*B37","v":-51.005827624999995},{"$f":"IF(($B$4*12)<250000,VLOOKUP($A37,'Data Pass Through'!$A$4:$C$19,3,0),0)","v":-0.23499999999999999},null,{"$f":"G35*E37","v":-51.271230749999987},-0.26540312499999175,-5.2033882667537985E-3]
["Total Bill on TOU",null,null,{"$f":"SUM(D35:D37)","v":194.25623712500001},null,null,{"$f":"SUM(G35:G37)","v":195.26702774999995},1.0107906249999417,5.2033882667536589E-3]
["* Distribution rate protection applies to R1 and R2 customers"]

{"sheet":"BI_Seas_UR_Avg","index":17,"n_rows":39,"n_cols":9,"rows_kept":39,"cut":false,"hidden":false,"merged":[[0,0,0,10],[8,0,9,0],[8,1,8,3],[8,4,8,6],[8,7,8,8]]}
["Bill Impacts (Average Consumption Level) - Seas-UR"]
[]
["Rate Class",{"$f":"RIGHT(A1,LEN(A1)-FIND(\"- \",A1,1)-1)","v":"Seas-UR"}]
["Monthly Consumption (kWh)",{"$f":"IF(COUNTIF(A1,\"*Low*\")>0,VLOOKUP(B3,'Data Billing Quantities'!$A:$Z,MATCH(\"Low kWh\",'Data Billing Quantities'!4:4,0),FALSE),IF(COUNTIF(A1,\"*Typical*\")>0,VLOOKUP(B3,'Data Billing Quantities'!$A:$Z,MATCH(\"Typical kWh\",'Data Billing Quantities'!4:4,0),FALSE),IF(COUNTIF(A1,\"*Average*\")>0,VLOOKUP(B3,'Data Billing Quantities'!$A:$Z,MATCH(\"Average kWh\",'Data Billing Quantities'!4:4,0),FALSE),IF(COUNTIF(A1,\"*High*\")>0,VLOOKUP(B3,'Data Billing Quantities'!$A:$Z,MATCH(\"High kWh\",'Data Billing Quantities'!4:4,0),FALSE),\"error\"))))","v":369}]
["Peak (kW)",{"$f":"IF(COUNTIF(A1,\"*Low*\")>0,VLOOKUP(B3,'Data Billing Quantities'!$A:$Z,MATCH(\"Low kW\",'Data Billing Quantities'!4:4,0),FALSE),IF(COUNTIF(A1,\"*Typical*\")>0,VLOOKUP(B3,'Data Billing Quantities'!$A:$Z,MATCH(\"Typical kW\",'Data Billing Quantities'!4:4,0),FALSE),IF(COUNTIF(A1,\"*Average*\")>0,VLOOKUP(B3,'Data Billing Quantities'!$A:$Z,MATCH(\"Average kW\",'Data Billing Quantities'!4:4,0),FALSE),IF(COUNTIF(A1,\"*High*\")>0,VLOOKUP(B3,'Data Billing Quantities'!$A:$Z,MATCH(\"High kW\",'Data Billing Quantities'!4:4,0),FALSE),\"error\"))))","v":0}]
["Loss factor",{"$f":"VLOOKUP(B3,'Data Billing Quantities'!A:D,MATCH(A6,'Data Billing Quantities'!4:4,0),FALSE)","v":1.0569999999999999}]
["Charge determinant",{"$f":"VLOOKUP(B3,'Data Billing Quantities'!A:D,MATCH(A7,'Data Billing Quantities'!4:4,0),FALSE)","v":"kWh"}]
[]
[null,"Current OEB-Approved",null,null,"Proposed",null,null,"Impact"]
[null,"Rate ($)","Volume","Charge ($)","Rate ($)","Volume","Charge ($)","$ Change","% Change"]
["Service Charge",{"$f":"VLOOKUP($B$3,'Data Current Rates'!$A:$AO,MATCH(BI_Seas_UR_Avg!$A11,CurrentHeader,0),FALSE)","v":41.61},1,{"$f":"B11*C11","v":41.61},{"$f":"VLOOKUP($B$3,'Data Proposed Rates'!$A:$AT,MATCH(BI_Seas_UR_Avg!$A11,ProposedHeader,0),FALSE)","v":43.7},1,{"$f":"E11*F11","v":43.7},{"$f":"G11-D11","v":2.0900000000000034},{"$f":"IF(ISERROR(H11/ABS(D11)),\"N/A\",(H11/ABS(D11)))","v":5.0228310502283186E-2}]
["Distribution Volumetric Charge",{"$f":"VLOOKUP($B$3,'Data Current Rates'!$A:$AO,MATCH(BI_Seas_UR_Avg!$A12,CurrentHeader,0),FALSE)","v":0},{"$f":"IF($B$7=\"kWh\",$B$4,$B$5)","v":369},{"$f":"B12*C12","v":0},{"$f":"VLOOKUP($B$3,'Data Proposed Rates'!$A:$AT,MATCH(BI_Seas_UR_Avg!$A12,ProposedHeader,0),FALSE)","v":0},{"$f":"IF($B$7=\"kWh\",$B$4,$B$5)","v":369},0,0,"N/A"]
["RRRP Adjustment",{"$f":"IF($B$3=\"R2\",VLOOKUP(A13,'Data Pass Through'!$A4:$C19,3,0),0)*-1","v":0},1,{"$f":"B13*C13","v":0},{"$f":"IF($B$3=\"R2\",VLOOKUP(A13,'Data Pass Through'!$A4:$C19,3,0),0)*-1","v":0},1,0,0,"N/A"]
["DRP Adjustment",null,null,{"$f":"IF(OR($B$3=\"R1\",$B$3=\"R2\",$B$3=\"R1-CPUC\"),IF(SUM(D11:D13)>'Data Pass Through'!$B$16,-(SUM(D11:D13)-'Data Pass Through'!$B$16),0),0)","v":0},null,null,{"$f":"IF(OR($B$3=\"R1\",$B$3=\"R2\",$B$3=\"R1-CPUC\"),IF(SUM(G11:G13)>'Data Pass Through'!$B$16,-(SUM(G11:G13)-'Data Pass Through'!$B$16),0),0)","v":0},0,"N/A"]
["Group 2 Fixed Rate Rider",{"$f":"VLOOKUP($B$3,'Data Current Rates'!$A:$AO,MATCH(BI_Seas_UR_Avg!$A15,CurrentHeader,0),FALSE)","v":-0.11},1,{"$f":"B15*C15","v":-0.11},{"$f":"VLOOKUP($B$3,'Data Proposed Rates'!$A:$AT,MATCH(BI_Seas_UR_Avg!$A15,ProposedHeader,0),FALSE)","v":-1.5},1,{"$f":"E15*F15","v":-1.5},-1.39,-12.636363636363635]
["Group 2 Volumetric Rate Rider",{"$f":"VLOOKUP($B$3,'Data Current Rates'!$A:$AO,MATCH(BI_Seas_UR_Avg!$A16,CurrentHeader,0),FALSE)","v":0},{"$f":"IF($B$7=\"kWh\",$B$4,$B$5)","v":369},{"$f":"B16*C16","v":0},{"$f":"VLOOKUP($B$3,'Data Proposed Rates'!$A:$AT,MATCH(BI_Seas_UR_Avg!$A16,ProposedHeader,0),FALSE)","v":0},{"$f":"IF($B$7=\"kWh\",$B$4,$B$5)","v":369},0,{"$f":"G16-D16","v":0},{"$f":"IF(ISERROR(H16/ABS(D16)),\"N/A\",(H16/ABS(D16)))","v":"N/A"}]
["Sub-Total A (excluding pass through)",null,null,{"$f":"SUM(D11:D16)","v":41.5},null,null,{"$f":"SUM(G11:G16)","v":42.2},0.70000000000000284,1.6867469879518142E-2]
["Line Losses on Cost of Power",{"$f":"VLOOKUP($B$3,'Data Billing Quantities'!$A:$O,MATCH(BI_Seas_UR_Avg!$A32,'Data Billing Quantities'!$4:$4,0),FALSE)*$B32+VLOOKUP($B$3,'Data Billing Quantities'!$A:$O,MATCH(BI_Seas_UR_Avg!$A33,'Data Billing Quantities'!$4:$4,0),FALSE)*$B33+VLOOKUP($B$3,'Data Billing Quantities'!$A:$O,MATCH(BI_Seas_UR_Avg!$A34,'Data Billing Quantities'!$4:$4,0),FALSE)*$B34","v":0.12752000000000002},{"$f":"($B$6*$B$4)-$B$4","v":21.032999999999959},{"$f":"B18*C18","v":2.6821281599999951},{"$f":"VLOOKUP($B$3,'Data Billing Quantities'!$A:$O,MATCH(BI_Seas_UR_Avg!$A32,'Data Billing Quantities'!$4:$4,0),FALSE)*$B32+VLOOKUP($B$3,'Data Billing Quantities'!$A:$O,MATCH(BI_Seas_UR_Avg!$A33,'Data Billing Quantities'!$4:$4,0),FALSE)*$B33+VLOOKUP($B$3,'Data Billing Quantities'!$A:$O,MATCH(BI_Seas_UR_Avg!$A34,'Data Billing Quantities'!$4:$4,0),FALSE)*$B34","v":0.12752000000000002},{"$f":"($B$6*$B$4)-$B$4","v":21.032999999999959},2.6821281599999951,0,0]
["Total Deferral/Variance Account Rate Rider",{"$f":"VLOOKUP($B$3,'Data Current Rates'!$A:$AO,MATCH(BI_Seas_UR_Avg!$A19,CurrentHeader,0),FALSE)","v":-3.8E-3},{"$f":"IF($B$7=\"kWh\",$B$4,$B$5)","v":369},-1.4021999999999999,{"$f":"VLOOKUP($B$3,'Data Proposed Rates'!$A:$AT,MATCH(BI_Seas_UR_Avg!$A19,ProposedHeader,0),FALSE)","v":-1.6999999999999999E-3},{"$f":"IF($B$7=\"kWh\",$B$4,$B$5)","v":369},-0.62729999999999997,0.77489999999999992,0.55263157894736836]
["CBR Class B Rate Rider",{"$f":"VLOOKUP($B$3,'Data Current Rates'!$A:$AJ,MATCH(BI_Seas_UR_Avg!$A20,CurrentHeader,0),FALSE)","v":1E-4},{"$f":"IF($B$7=\"kWh\",$B$4,$B$5)","v":369},3.6900000000000002E-2,{"$f":"VLOOKUP($B$3,'Data Proposed Rates'!$A:$AT,MATCH(BI_Seas_UR_Avg!$A20,ProposedHeader,0),FALSE)","v":-5.9999999999999995E-4},{"$f":"IF($B$7=\"kWh\",$B$4,$B$5)","v":369},-0.22139999999999999,-0.25829999999999997,-6.9999999999999991]
["GA Rate Rider",{"$f":"VLOOKUP($B$3,'Data Current Rates'!$A:$AJ,MATCH(BI_Seas_UR_Avg!$A21,CurrentHeader,0),FALSE)","v":0},369,0,{"$f":"VLOOKUP($B$3,'Data Proposed Rates'!$A:$AT,MATCH(BI_Seas_UR_Avg!$A21,ProposedHeader,0),FALSE)","v":0},369,0,0,"N/A"]
["Smart Meter Entity Charge (if applicable)",{"$f":"VLOOKUP($A22,'Data Pass Through'!$A:$D,2,FALSE)","v":0.42},1,0.42,{"$f":"VLOOKUP($A22,'Data Pass Through'!$A:$D,2,FALSE)","v":0.42},1,0.42,0,0]
["Rate Rider for Account 1588",null,null,null,{"$f":"VLOOKUP($B$3,'Data Proposed Rates'!$A:$AT,MATCH(BI_Seas_UR_Avg!$A23,ProposedHeader,0),FALSE)","v":-3.2000000000000002E-3},{"$f":"IF($B$7=\"kWh\",$B$4,$B$5)","v":369},-1.1808000000000001,-1.1808000000000001,"N/A"]
["Sub-Total B - Distribution (includes Sub-Total A)",null,null,{"$f":"SUM(INDIRECT(\"D17:D\"&ROW()-1))","v":43.236828160000002},null,null,{"$f":"SUM(INDIRECT(\"G17:G\"&ROW()-1))","v":43.272628160000004},3.580000000000183E-2,8.2799783248489398E-4]
["Retail Transmission Rate – Network Service Rate",{"$f":"VLOOKUP($B$3,'Data Current Rates'!$A:$AJ,MATCH(BI_Seas_UR_Avg!$A25,CurrentHeader,0),FALSE)","v":1.37E-2},{"$f":"IF($B$7=\"kWh\",$B$4*$B$6,$B$5)","v":390.03299999999996},{"$f":"B25*C25","v":5.3434520999999995},{"$f":"VLOOKUP($B$3,'Data Proposed Rates'!$A:$AT,MATCH(BI_Seas_UR_Avg!$A25,ProposedHeader,0),FALSE)","v":1.41E-2},{"$f":"IF($B$7=\"kWh\",$B$4*$B$6,$B$5)","v":390.03299999999996},5.4994652999999989,0.15601319999999941,2.9197080291970694E-2]
["Retail Transmission Rate – Line and Transformation Connection Service Rate",{"$f":"VLOOKUP($B$3,'Data Current Rates'!$A:$AJ,MATCH(BI_Seas_UR_Avg!$A26,CurrentHeader,0),FALSE)","v":9.7999999999999997E-3},{"$f":"IF($B$7=\"kWh\",$B$4*$B$6,$B$5)","v":390.03299999999996},3.8223233999999993,{"$f":"VLOOKUP($B$3,'Data Proposed Rates'!$A:$AT,MATCH(BI_Seas_UR_Avg!$A26,ProposedHeader,0),FALSE)","v":0.01},{"$f":"IF($B$7=\"kWh\",$B$4*$B$6,$B$5)","v":390.03299999999996},3.9003299999999999,7.8006600000000592E-2,2.040816326530628E-2]
["Sub-Total C - Delivery (including Sub-Total B)",null,null,{"$f":"SUM(D24:D26)","v":52.402603660000004},null,null,{"$f":"SUM(G24:G26)","v":52.672423459999997},0.26981979999999339,5.1489769811943987E-3]
["Wholesale Market Service Rate (WMS) – not including CBR",{"$f":"VLOOKUP($A28,'Data Pass Through'!$A:$D,2,FALSE)","v":4.1000000000000003E-3},{"$f":"$B$4*$B$6","v":390.03299999999996},{"$f":"B28*C28","v":1.5991352999999999},{"$f":"VLOOKUP($A28,'Data Pass Through'!$A:$D,3,FALSE)","v":4.1000000000000003E-3},{"$f":"$B$4*$B$6","v":390.03299999999996},1.5991352999999999,0,0]
["Capacity Based Recovery (CBR) – Applicable for Class B Customers",{"$f":"VLOOKUP($A29,'Data Pass Through'!$A:$D,2,FALSE)","v":5.9999999999999995E-4},{"$f":"$B$4*$B$6","v":390.03299999999996},0.23401979999999994,{"$f":"VLOOKUP($A29,'Data Pass Through'!$A:$D,3,FALSE)","v":5.9999999999999995E-4},{"$f":"$B$4*$B$6","v":390.03299999999996},0.23401979999999994,0,0]
["Rural Rate Protection Charge",{"$f":"VLOOKUP($A30,'Data Pass Through'!$A:$D,2,FALSE)","v":5.9999999999999995E-4},{"$f":"$B$4*$B$6","v":390.03299999999996},0.23401979999999994,{"$f":"VLOOKUP($A30,'Data Pass Through'!$A:$D,3,FALSE)","v":5.9999999999999995E-4},{"$f":"$B$4*$B$6","v":390.03299999999996},0.23401979999999994,0,0]
["Standard Supply Service – Administration Charge (if applicable)",{"$f":"VLOOKUP($A31,'Data Pass Through'!$A:$D,2,FALSE)","v":0.25},1,0.25,{"$f":"VLOOKUP($A31,'Data Pass Through'!$A:$D,3,FALSE)","v":0.25},1,0.25,0,0]
["TOU-Off Peak",{"$f":"VLOOKUP($A32,'Data Pass Through'!$A:$D,2,FALSE)","v":9.8000000000000004E-2},{"$f":"B$4*VLOOKUP($B$3,'Data Billing Quantities'!$A:$O,MATCH($A32,'Data Billing Quantities'!$4:$4,0),FALSE)","v":236.16},23.14368,{"$f":"VLOOKUP($A32,'Data Pass Through'!$A:$D,3,FALSE)","v":9.8000000000000004E-2},{"$f":"B$4*VLOOKUP($B$3,'Data Billing Quantities'!$A:$O,MATCH($A32,'Data Billing Quantities'!$4:$4,0),FALSE)","v":236.16},{"$f":"E32*F32","v":23.14368},0,0]
["TOU-Mid Peak",{"$f":"VLOOKUP($A33,'Data Pass Through'!$A:$D,2,FALSE)","v":0.157},{"$f":"B$4*VLOOKUP($B$3,'Data Billing Quantities'!$A:$O,MATCH($A33,'Data Billing Quantities'!$4:$4,0),FALSE)","v":66.42},10.42794,{"$f":"VLOOKUP($A33,'Data Pass Through'!$A:$D,3,FALSE)","v":0.157},{"$f":"B$4*VLOOKUP($B$3,'Data Billing Quantities'!$A:$O,MATCH($A33,'Data Billing Quantities'!$4:$4,0),FALSE)","v":66.42},{"$f":"E33*F33","v":10.42794},0,0]
["TOU-On Peak",{"$f":"VLOOKUP($A34,'Data Pass Through'!$A:$D,2,FALSE)","v":0.20300000000000001},{"$f":"B$4*VLOOKUP($B$3,'Data Billing Quantities'!$A:$O,MATCH($A34,'Data Billing Quantities'!$4:$4,0),FALSE)","v":66.42},13.483260000000001,{"$f":"VLOOKUP($A34,'Data Pass Through'!$A:$D,3,FALSE)","v":0.20300000000000001},{"$f":"B$4*VLOOKUP($B$3,'Data Billing Quantities'!$A:$O,MATCH($A34,'Data Billing Quantities'!$4:$4,0),FALSE)","v":66.42},{"$f":"E34*F34","v":13.483260000000001},0,0]
["Total Bill on TOU (before Taxes)",null,null,{"$f":"SUM(D27:D34)","v":101.77465856000001},null,null,{"$f":"SUM(G27:G34)","v":102.04447836},0.26981979999999339,2.6511491545896412E-3]
["HST",0.13,null,{"$f":"D35*B36","v":13.230705612800001},{"$f":"B36","v":0.13},null,{"$f":"G35*E36","v":13.265782186800001},3.5076573999999638E-2,2.6511491545896785E-3]
["Ontario Electricity Rebate (OER)",{"$f":"IF(($B$4*12)<250000,VLOOKUP($A37,'Data Pass Through'!$A$4:$C$19,2,0),0)","v":-0.23499999999999999},null,{"$f":"D35*B37","v":-23.9170447616},{"$f":"IF(($B$4*12)<250000,VLOOKUP($A37,'Data Pass Through'!$A$4:$C$19,3,0),0)","v":-0.23499999999999999},null,{"$f":"G35*E37","v":-23.980452414599998},-6.3407652999998732E-2,-2.6511491545896534E-3]
["Total Bill on TOU",null,null,{"$f":"SUM(D35:D37)","v":91.088319411200004},null,null,{"$f":"SUM(G35:G37)","v":91.3298081322},0.24148872099999608,2.6511491545896629E-3]
["* Distribution rate protection applies to R1 and R2 customers"]

{"sheet":"BI_Seas_R1_Avg","index":18,"n_rows":39,"n_cols":9,"rows_kept":39,"cut":false,"hidden":false,"merged":[[0,0,0,10],[8,0,9,0],[8,1,8,3],[8,4,8,6],[8,7,8,8]]}
["Bill Impacts (Average Consumption Level) - Seas-R1"]
[]
["Rate Class",{"$f":"RIGHT(A1,LEN(A1)-FIND(\"- \",A1,1)-1)","v":"Seas-R1"}]
["Monthly Consumption (kWh)",{"$f":"IF(COUNTIF(A1,\"*Low*\")>0,VLOOKUP(B3,'Data Billing Quantities'!$A:$Z,MATCH(\"Low kWh\",'Data Billing Quantities'!4:4,0),FALSE),IF(COUNTIF(A1,\"*Typical*\")>0,VLOOKUP(B3,'Data Billing Quantities'!$A:$Z,MATCH(\"Typical kWh\",'Data Billing Quantities'!4:4,0),FALSE),IF(COUNTIF(A1,\"*Average*\")>0,VLOOKUP(B3,'Data Billing Quantities'!$A:$Z,MATCH(\"Average kWh\",'Data Billing Quantities'!4:4,0),FALSE),IF(COUNTIF(A1,\"*High*\")>0,VLOOKUP(B3,'Data Billing Quantities'!$A:$Z,MATCH(\"High kWh\",'Data Billing Quantities'!4:4,0),FALSE),\"error\"))))","v":369}]
["Peak (kW)",{"$f":"IF(COUNTIF(A1,\"*Low*\")>0,VLOOKUP(B3,'Data Billing Quantities'!$A:$Z,MATCH(\"Low kW\",'Data Billing Quantities'!4:4,0),FALSE),IF(COUNTIF(A1,\"*Typical*\")>0,VLOOKUP(B3,'Data Billing Quantities'!$A:$Z,MATCH(\"Typical kW\",'Data Billing Quantities'!4:4,0),FALSE),IF(COUNTIF(A1,\"*Average*\")>0,VLOOKUP(B3,'Data Billing Quantities'!$A:$Z,MATCH(\"Average kW\",'Data Billing Quantities'!4:4,0),FALSE),IF(COUNTIF(A1,\"*High*\")>0,VLOOKUP(B3,'Data Billing Quantities'!$A:$Z,MATCH(\"High kW\",'Data Billing Quantities'!4:4,0),FALSE),\"error\"))))","v":0}]
["Loss factor",{"$f":"VLOOKUP(B3,'Data Billing Quantities'!A:D,MATCH(A6,'Data Billing Quantities'!4:4,0),FALSE)","v":1.0760000000000001}]
["Charge determinant",{"$f":"VLOOKUP(B3,'Data Billing Quantities'!A:D,MATCH(A7,'Data Billing Quantities'!4:4,0),FALSE)","v":"kWh"}]
[]
[null,"Current OEB-Approved",null,null,"Proposed",null,null,"Impact"]
[null,"Rate ($)","Volume","Charge ($)","Rate ($)","Volume","Charge ($)","$ Change","% Change"]
["Service Charge",{"$f":"VLOOKUP($B$3,'Data Current Rates'!$A:$AO,MATCH(BI_Seas_R1_Avg!$A11,CurrentHeader,0),FALSE)","v":71.05},1,{"$f":"B11*C11","v":71.05},{"$f":"VLOOKUP($B$3,'Data Proposed Rates'!$A:$AT,MATCH(BI_Seas_R1_Avg!$A11,ProposedHeader,0),FALSE)","v":74.62},1,{"$f":"E11*F11","v":74.62},{"$f":"G11-D11","v":3.5700000000000074},{"$f":"IF(ISERROR(H11/ABS(D11)),\"N/A\",(H11/ABS(D11)))","v":5.0246305418719321E-2}]
["Distribution Volumetric Charge",{"$f":"VLOOKUP($B$3,'Data Current Rates'!$A:$AO,MATCH(BI_Seas_R1_Avg!$A12,CurrentHeader,0),FALSE)","v":0},{"$f":"IF($B$7=\"kWh\",$B$4,$B$5)","v":369},{"$f":"B12*C12","v":0},{"$f":"VLOOKUP($B$3,'Data Proposed Rates'!$A:$AT,MATCH(BI_Seas_R1_Avg!$A12,ProposedHeader,0),FALSE)","v":0},{"$f":"IF($B$7=\"kWh\",$B$4,$B$5)","v":369},0,0,"N/A"]
["RRRP Adjustment",{"$f":"IF($B$3=\"R2\",VLOOKUP(A13,'Data Pass Through'!$A4:$C19,3,0),0)*-1","v":0},1,{"$f":"B13*C13","v":0},{"$f":"IF($B$3=\"R2\",VLOOKUP(A13,'Data Pass Through'!$A4:$C19,3,0),0)*-1","v":0},1,0,0,"N/A"]
["DRP Adjustment",null,null,{"$f":"IF(OR($B$3=\"R1\",$B$3=\"R2\",$B$3=\"R1-CPUC\"),IF(SUM(D11:D13)>'Data Pass Through'!$B$16,-(SUM(D11:D13)-'Data Pass Through'!$B$16),0),0)","v":0},null,null,{"$f":"IF(OR($B$3=\"R1\",$B$3=\"R2\",$B$3=\"R1-CPUC\"),IF(SUM(G11:G13)>'Data Pass Through'!$B$16,-(SUM(G11:G13)-'Data Pass Through'!$B$16),0),0)","v":0},0,"N/A"]
["Group 2 Fixed Rate Rider",{"$f":"VLOOKUP($B$3,'Data Current Rates'!$A:$AO,MATCH(BI_Seas_R1_Avg!$A15,CurrentHeader,0),FALSE)","v":-0.21},1,{"$f":"B15*C15","v":-0.21},{"$f":"VLOOKUP($B$3,'Data Proposed Rates'!$A:$AT,MATCH(BI_Seas_R1_Avg!$A15,ProposedHeader,0),FALSE)","v":-2.56},1,{"$f":"E15*F15","v":-2.56},-2.35,-11.190476190476192]
["Group 2 Volumetric Rate Rider",{"$f":"VLOOKUP($B$3,'Data Current Rates'!$A:$AO,MATCH(BI_Seas_R1_Avg!$A16,CurrentHeader,0),FALSE)","v":0},{"$f":"IF($B$7=\"kWh\",$B$4,$B$5)","v":369},{"$f":"B16*C16","v":0},{"$f":"VLOOKUP($B$3,'Data Proposed Rates'!$A:$AT,MATCH(BI_Seas_R1_Avg!$A16,ProposedHeader,0),FALSE)","v":0},{"$f":"IF($B$7=\"kWh\",$B$4,$B$5)","v":369},0,{"$f":"G16-D16","v":0},{"$f":"IF(ISERROR(H16/ABS(D16)),\"N/A\",(H16/ABS(D16)))","v":"N/A"}]
["Sub-Total A (excluding pass through)",null,null,{"$f":"SUM(D11:D16)","v":70.84},null,null,{"$f":"SUM(G11:G16)","v":72.06},1.2199999999999989,1.7221908526256335E-2]
["Line Losses on Cost of Power",{"$f":"VLOOKUP($B$3,'Data Billing Quantities'!$A:$O,MATCH(BI_Seas_R1_Avg!$A32,'Data Billing Quantities'!$4:$4,0),FALSE)*$B32+VLOOKUP($B$3,'Data Billing Quantities'!$A:$O,MATCH(BI_Seas_R1_Avg!$A33,'Data Billing Quantities'!$4:$4,0),FALSE)*$B33+VLOOKUP($B$3,'Data Billing Quantities'!$A:$O,MATCH(BI_Seas_R1_Avg!$A34,'Data Billing Quantities'!$4:$4,0),FALSE)*$B34","v":0.12752000000000002},{"$f":"($B$6*$B$4)-$B$4","v":28.04400000000004},{"$f":"B18*C18","v":3.5761708800000056},{"$f":"VLOOKUP($B$3,'Data Billing Quantities'!$A:$O,MATCH(BI_Seas_R1_Avg!$A32,'Data Billing Quantities'!$4:$4,0),FALSE)*$B32+VLOOKUP($B$3,'Data Billing Quantities'!$A:$O,MATCH(BI_Seas_R1_Avg!$A33,'Data Billing Quantities'!$4:$4,0),FALSE)*$B33+VLOOKUP($B$3,'Data Billing Quantities'!$A:$O,MATCH(BI_Seas_R1_Avg!$A34,'Data Billing Quantities'!$4:$4,0),FALSE)*$B34","v":0.12752000000000002},{"$f":"($B$6*$B$4)-$B$4","v":28.04400000000004},3.5761708800000056,0,0]
["Total Deferral/Variance Account Rate Rider",{"$f":"VLOOKUP($B$3,'Data Current Rates'!$A:$AO,MATCH(BI_Seas_R1_Avg!$A19,CurrentHeader,0),FALSE)","v":-3.7000000000000002E-3},{"$f":"IF($B$7=\"kWh\",$B$4,$B$5)","v":369},-1.3653,{"$f":"VLOOKUP($B$3,'Data Proposed Rates'!$A:$AT,MATCH(BI_Seas_R1_Avg!$A19,ProposedHeader,0),FALSE)","v":-1.6999999999999999E-3},{"$f":"IF($B$7=\"kWh\",$B$4,$B$5)","v":369},-0.62729999999999997,0.73799999999999999,0.54054054054054057]
["CBR Class B Rate Rider",{"$f":"VLOOKUP($B$3,'Data Current Rates'!$A:$AJ,MATCH(BI_Seas_R1_Avg!$A20,CurrentHeader,0),FALSE)","v":1E-4},{"$f":"IF($B$7=\"kWh\",$B$4,$B$5)","v":369},3.6900000000000002E-2,{"$f":"VLOOKUP($B$3,'Data Proposed Rates'!$A:$AT,MATCH(BI_Seas_R1_Avg!$A20,ProposedHeader,0),FALSE)","v":-5.9999999999999995E-4},{"$f":"IF($B$7=\"kWh\",$B$4,$B$5)","v":369},-0.22139999999999999,-0.25829999999999997,-6.9999999999999991]
["GA Rate Rider",{"$f":"VLOOKUP($B$3,'Data Current Rates'!$A:$AJ,MATCH(BI_Seas_R1_Avg!$A21,CurrentHeader,0),FALSE)","v":0},369,0,{"$f":"VLOOKUP($B$3,'Data Proposed Rates'!$A:$AT,MATCH(BI_Seas_R1_Avg!$A21,ProposedHeader,0),FALSE)","v":0},369,0,0,"N/A"]
["Smart Meter Entity Charge (if applicable)",{"$f":"VLOOKUP($A22,'Data Pass Through'!$A:$D,2,FALSE)","v":0.42},1,0.42,{"$f":"VLOOKUP($A22,'Data Pass Through'!$A:$D,2,FALSE)","v":0.42},1,0.42,0,0]
["Rate Rider for Account 1588",null,null,null,{"$f":"VLOOKUP($B$3,'Data Proposed Rates'!$A:$AT,MATCH(BI_Seas_R1_Avg!$A23,ProposedHeader,0),FALSE)","v":-3.2000000000000002E-3},{"$f":"IF($B$7=\"kWh\",$B$4,$B$5)","v":369},-1.1808000000000001,-1.1808000000000001,"N/A"]
["Sub-Total B - Distribution (includes Sub-Total A)",null,null,{"$f":"SUM(INDIRECT(\"D17:D\"&ROW()-1))","v":73.50777088000001},null,null,{"$f":"SUM(INDIRECT(\"G17:G\"&ROW()-1))","v":74.026670879999998},0.51889999999998793,7.0591176114846686E-3]
["Retail Transmission Rate – Network Service Rate",{"$f":"VLOOKUP($B$3,'Data Current Rates'!$A:$AJ,MATCH(BI_Seas_R1_Avg!$A25,CurrentHeader,0),FALSE)","v":1.2800000000000001E-2},{"$f":"IF($B$7=\"kWh\",$B$4*$B$6,$B$5)","v":397.04400000000004},{"$f":"B25*C25","v":5.082163200000001},{"$f":"VLOOKUP($B$3,'Data Proposed Rates'!$A:$AT,MATCH(BI_Seas_R1_Avg!$A25,ProposedHeader,0),FALSE)","v":1.3100000000000001E-2},{"$f":"IF($B$7=\"kWh\",$B$4*$B$6,$B$5)","v":397.04400000000004},5.2012764000000011,0.11911320000000014,2.3437500000000024E-2]
["Retail Transmission Rate – Line and Transformation Connection Service Rate",{"$f":"VLOOKUP($B$3,'Data Current Rates'!$A:$AJ,MATCH(BI_Seas_R1_Avg!$A26,CurrentHeader,0),FALSE)","v":9.1999999999999998E-3},{"$f":"IF($B$7=\"kWh\",$B$4*$B$6,$B$5)","v":397.04400000000004},3.6528048000000002,{"$f":"VLOOKUP($B$3,'Data Proposed Rates'!$A:$AT,MATCH(BI_Seas_R1_Avg!$A26,ProposedHeader,0),FALSE)","v":9.4000000000000004E-3},{"$f":"IF($B$7=\"kWh\",$B$4*$B$6,$B$5)","v":397.04400000000004},3.7322136000000006,7.940880000000039E-2,2.1739130434782716E-2]
["Sub-Total C - Delivery (including Sub-Total B)",null,null,{"$f":"SUM(D24:D26)","v":82.242738880000005},null,null,{"$f":"SUM(G24:G26)","v":82.960160879999989},0.71742199999998491,8.7232260229899682E-3]
["Wholesale Market Service Rate (WMS) – not including CBR",{"$f":"VLOOKUP($A28,'Data Pass Through'!$A:$D,2,FALSE)","v":4.1000000000000003E-3},{"$f":"$B$4*$B$6","v":397.04400000000004},{"$f":"B28*C28","v":1.6278804000000002},{"$f":"VLOOKUP($A28,'Data Pass Through'!$A:$D,3,FALSE)","v":4.1000000000000003E-3},{"$f":"$B$4*$B$6","v":397.04400000000004},1.6278804000000002,0,0]
["Capacity Based Recovery (CBR) – Applicable for Class B Customers",{"$f":"VLOOKUP($A29,'Data Pass Through'!$A:$D,2,FALSE)","v":5.9999999999999995E-4},{"$f":"$B$4*$B$6","v":397.04400000000004},0.2382264,{"$f":"VLOOKUP($A29,'Data Pass Through'!$A:$D,3,FALSE)","v":5.9999999999999995E-4},{"$f":"$B$4*$B$6","v":397.04400000000004},0.2382264,0,0]
["Rural Rate Protection Charge",{"$f":"VLOOKUP($A30,'Data Pass Through'!$A:$D,2,FALSE)","v":5.9999999999999995E-4},{"$f":"$B$4*$B$6","v":397.04400000000004},0.2382264,{"$f":"VLOOKUP($A30,'Data Pass Through'!$A:$D,3,FALSE)","v":5.9999999999999995E-4},{"$f":"$B$4*$B$6","v":397.04400000000004},0.2382264,0,0]
["Standard Supply Service – Administration Charge (if applicable)",{"$f":"VLOOKUP($A31,'Data Pass Through'!$A:$D,2,FALSE)","v":0.25},1,0.25,{"$f":"VLOOKUP($A31,'Data Pass Through'!$A:$D,3,FALSE)","v":0.25},1,0.25,0,0]
["TOU-Off Peak",{"$f":"VLOOKUP($A32,'Data Pass Through'!$A:$D,2,FALSE)","v":9.8000000000000004E-2},{"$f":"B$4*VLOOKUP($B$3,'Data Billing Quantities'!$A:$O,MATCH($A32,'Data Billing Quantities'!$4:$4,0),FALSE)","v":236.16},23.14368,{"$f":"VLOOKUP($A32,'Data Pass Through'!$A:$D,3,FALSE)","v":9.8000000000000004E-2},{"$f":"B$4*VLOOKUP($B$3,'Data Billing Quantities'!$A:$O,MATCH($A32,'Data Billing Quantities'!$4:$4,0),FALSE)","v":236.16},{"$f":"E32*F32","v":23.14368},0,0]
["TOU-Mid Peak",{"$f":"VLOOKUP($A33,'Data Pass Through'!$A:$D,2,FALSE)","v":0.157},{"$f":"B$4*VLOOKUP($B$3,'Data Billing Quantities'!$A:$O,MATCH($A33,'Data Billing Quantities'!$4:$4,0),FALSE)","v":66.42},10.42794,{"$f":"VLOOKUP($A33,'Data Pass Through'!$A:$D,3,FALSE)","v":0.157},{"$f":"B$4*VLOOKUP($B$3,'Data Billing Quantities'!$A:$O,MATCH($A33,'Data Billing Quantities'!$4:$4,0),FALSE)","v":66.42},{"$f":"E33*F33","v":10.42794},0,0]
["TOU-On Peak",{"$f":"VLOOKUP($A34,'Data Pass Through'!$A:$D,2,FALSE)","v":0.20300000000000001},{"$f":"B$4*VLOOKUP($B$3,'Data Billing Quantities'!$A:$O,MATCH($A34,'Data Billing Quantities'!$4:$4,0),FALSE)","v":66.42},13.483260000000001,{"$f":"VLOOKUP($A34,'Data Pass Through'!$A:$D,3,FALSE)","v":0.20300000000000001},{"$f":"B$4*VLOOKUP($B$3,'Data Billing Quantities'!$A:$O,MATCH($A34,'Data Billing Quantities'!$4:$4,0),FALSE)","v":66.42},{"$f":"E34*F34","v":13.483260000000001},0,0]
["Total Bill on TOU (before Taxes)",null,null,{"$f":"SUM(D27:D34)","v":131.65195208},null,null,{"$f":"SUM(G27:G34)","v":132.36937408},0.71742199999999912,5.449383686799026E-3]
["HST",0.13,null,{"$f":"D35*B36","v":17.1147537704},{"$f":"B36","v":0.13},null,{"$f":"G35*E36","v":17.208018630400002},9.3264860000001448E-2,5.4493836867991171E-3]
["Ontario Electricity Rebate (OER)",{"$f":"IF(($B$4*12)<250000,VLOOKUP($A37,'Data Pass Through'!$A$4:$C$19,2,0),0)","v":-0.23499999999999999},null,{"$f":"D35*B37","v":-30.9382087388},{"$f":"IF(($B$4*12)<250000,VLOOKUP($A37,'Data Pass Through'!$A$4:$C$19,3,0),0)","v":-0.23499999999999999},null,{"$f":"G35*E37","v":-31.106802908799999},-0.16859416999999866,-5.4493836867989896E-3]
["Total Bill on TOU",null,null,{"$f":"SUM(D35:D37)","v":117.8284971116},null,null,{"$f":"SUM(G35:G37)","v":118.4705898016},0.64209268999999836,5.449383686799019E-3]
["* Distribution rate protection applies to R1 and R2 customers"]

{"sheet":"BI_Seas_R2_Avg","index":19,"n_rows":39,"n_cols":9,"rows_kept":39,"cut":false,"hidden":false,"merged":[[0,0,0,10],[8,0,9,0],[8,1,8,3],[8,4,8,6],[8,7,8,8]]}
["Bill Impacts (Average Consumption Level) - Seas-R2"]
[]
["Rate Class",{"$f":"RIGHT(A1,LEN(A1)-FIND(\"- \",A1,1)-1)","v":"Seas-R2"}]
["Monthly Consumption (kWh)",{"$f":"IF(COUNTIF(A1,\"*Low*\")>0,VLOOKUP(B3,'Data Billing Quantities'!$A:$Z,MATCH(\"Low kWh\",'Data Billing Quantities'!4:4,0),FALSE),IF(COUNTIF(A1,\"*Typical*\")>0,VLOOKUP(B3,'Data Billing Quantities'!$A:$Z,MATCH(\"Typical kWh\",'Data Billing Quantities'!4:4,0),FALSE),IF(COUNTIF(A1,\"*Average*\")>0,VLOOKUP(B3,'Data Billing Quantities'!$A:$Z,MATCH(\"Average kWh\",'Data Billing Quantities'!4:4,0),FALSE),IF(COUNTIF(A1,\"*High*\")>0,VLOOKUP(B3,'Data Billing Quantities'!$A:$Z,MATCH(\"High kWh\",'Data Billing Quantities'!4:4,0),FALSE),\"error\"))))","v":369}]
["Peak (kW)",{"$f":"IF(COUNTIF(A1,\"*Low*\")>0,VLOOKUP(B3,'Data Billing Quantities'!$A:$Z,MATCH(\"Low kW\",'Data Billing Quantities'!4:4,0),FALSE),IF(COUNTIF(A1,\"*Typical*\")>0,VLOOKUP(B3,'Data Billing Quantities'!$A:$Z,MATCH(\"Typical kW\",'Data Billing Quantities'!4:4,0),FALSE),IF(COUNTIF(A1,\"*Average*\")>0,VLOOKUP(B3,'Data Billing Quantities'!$A:$Z,MATCH(\"Average kW\",'Data Billing Quantities'!4:4,0),FALSE),IF(COUNTIF(A1,\"*High*\")>0,VLOOKUP(B3,'Data Billing Quantities'!$A:$Z,MATCH(\"High kW\",'Data Billing Quantities'!4:4,0),FALSE),\"error\"))))","v":0}]
["Loss factor",{"$f":"VLOOKUP(B3,'Data Billing Quantities'!A:D,MATCH(A6,'Data Billing Quantities'!4:4,0),FALSE)","v":1.105}]
["Charge determinant",{"$f":"VLOOKUP(B3,'Data Billing Quantities'!A:D,MATCH(A7,'Data Billing Quantities'!4:4,0),FALSE)","v":"kWh"}]
[]
[null,"Current OEB-Approved",null,null,"Proposed",null,null,"Impact"]
[null,"Rate ($)","Volume","Charge ($)","Rate ($)","Volume","Charge ($)","$ Change","% Change"]
["Service Charge",{"$f":"VLOOKUP($B$3,'Data Current Rates'!$A:$AO,MATCH(BI_Seas_R2_Avg!$A11,CurrentHeader,0),FALSE)","v":82.64},1,{"$f":"B11*C11","v":82.64},{"$f":"VLOOKUP($B$3,'Data Proposed Rates'!$A:$AT,MATCH(BI_Seas_R2_Avg!$A11,ProposedHeader,0),FALSE)","v":92.43},1,{"$f":"E11*F11","v":92.43},{"$f":"G11-D11","v":9.7900000000000063},{"$f":"IF(ISERROR(H11/ABS(D11)),\"N/A\",(H11/ABS(D11)))","v":0.11846563407550831}]
["Distribution Volumetric Charge",{"$f":"VLOOKUP($B$3,'Data Current Rates'!$A:$AO,MATCH(BI_Seas_R2_Avg!$A12,CurrentHeader,0),FALSE)","v":1.21E-2},{"$f":"IF($B$7=\"kWh\",$B$4,$B$5)","v":369},{"$f":"B12*C12","v":4.4649000000000001},{"$f":"VLOOKUP($B$3,'Data Proposed Rates'!$A:$AT,MATCH(BI_Seas_R2_Avg!$A12,ProposedHeader,0),FALSE)","v":1.17E-2},{"$f":"IF($B$7=\"kWh\",$B$4,$B$5)","v":369},4.3173000000000004,-0.14759999999999973,-3.305785123966936E-2]
["RRRP Adjustment",{"$f":"IF($B$3=\"R2\",VLOOKUP(A13,'Data Pass Through'!$A4:$C19,3,0),0)*-1","v":0},1,{"$f":"B13*C13","v":0},{"$f":"IF($B$3=\"R2\",VLOOKUP(A13,'Data Pass Through'!$A4:$C19,3,0),0)*-1","v":0},1,0,0,"N/A"]
["DRP Adjustment",null,null,{"$f":"IF(OR($B$3=\"R1\",$B$3=\"R2\",$B$3=\"R1-CPUC\"),IF(SUM(D11:D13)>'Data Pass Through'!$B$16,-(SUM(D11:D13)-'Data Pass Through'!$B$16),0),0)","v":0},null,null,{"$f":"IF(OR($B$3=\"R1\",$B$3=\"R2\",$B$3=\"R1-CPUC\"),IF(SUM(G11:G13)>'Data Pass Through'!$B$16,-(SUM(G11:G13)-'Data Pass Through'!$B$16),0),0)","v":0},0,"N/A"]
["Group 2 Fixed Rate Rider",{"$f":"VLOOKUP($B$3,'Data Current Rates'!$A:$AO,MATCH(BI_Seas_R2_Avg!$A15,CurrentHeader,0),FALSE)","v":-0.44},1,{"$f":"B15*C15","v":-0.44},{"$f":"VLOOKUP($B$3,'Data Proposed Rates'!$A:$AT,MATCH(BI_Seas_R2_Avg!$A15,ProposedHeader,0),FALSE)","v":-5.18},1,{"$f":"E15*F15","v":-5.18},-4.7399999999999993,-10.772727272727272]
["Group 2 Volumetric Rate Rider",{"$f":"VLOOKUP($B$3,'Data Current Rates'!$A:$AO,MATCH(BI_Seas_R2_Avg!$A16,CurrentHeader,0),FALSE)","v":0},{"$f":"IF($B$7=\"kWh\",$B$4,$B$5)","v":369},{"$f":"B16*C16","v":0},{"$f":"VLOOKUP($B$3,'Data Proposed Rates'!$A:$AT,MATCH(BI_Seas_R2_Avg!$A16,ProposedHeader,0),FALSE)","v":0},{"$f":"IF($B$7=\"kWh\",$B$4,$B$5)","v":369},0,{"$f":"G16-D16","v":0},{"$f":"IF(ISERROR(H16/ABS(D16)),\"N/A\",(H16/ABS(D16)))","v":"N/A"}]
["Sub-Total A (excluding pass through)",null,null,{"$f":"SUM(D11:D16)","v":86.664900000000003},null,null,{"$f":"SUM(G11:G16)","v":91.567300000000017},4.9024000000000143,5.6567306948949507E-2]
["Line Losses on Cost of Power",{"$f":"VLOOKUP($B$3,'Data Billing Quantities'!$A:$O,MATCH(BI_Seas_R2_Avg!$A32,'Data Billing Quantities'!$4:$4,0),FALSE)*$B32+VLOOKUP($B$3,'Data Billing Quantities'!$A:$O,MATCH(BI_Seas_R2_Avg!$A33,'Data Billing Quantities'!$4:$4,0),FALSE)*$B33+VLOOKUP($B$3,'Data Billing Quantities'!$A:$O,MATCH(BI_Seas_R2_Avg!$A34,'Data Billing Quantities'!$4:$4,0),FALSE)*$B34","v":0.12752000000000002},{"$f":"($B$6*$B$4)-$B$4","v":38.745000000000005},{"$f":"B18*C18","v":4.9407624000000014},{"$f":"VLOOKUP($B$3,'Data Billing Quantities'!$A:$O,MATCH(BI_Seas_R2_Avg!$A32,'Data Billing Quantities'!$4:$4,0),FALSE)*$B32+VLOOKUP($B$3,'Data Billing Quantities'!$A:$O,MATCH(BI_Seas_R2_Avg!$A33,'Data Billing Quantities'!$4:$4,0),FALSE)*$B33+VLOOKUP($B$3,'Data Billing Quantities'!$A:$O,MATCH(BI_Seas_R2_Avg!$A34,'Data Billing Quantities'!$4:$4,0),FALSE)*$B34","v":0.12752000000000002},{"$f":"($B$6*$B$4)-$B$4","v":38.745000000000005},4.9407624000000014,0,0]
["Total Deferral/Variance Account Rate Rider",{"$f":"VLOOKUP($B$3,'Data Current Rates'!$A:$AO,MATCH(BI_Seas_R2_Avg!$A19,CurrentHeader,0),FALSE)","v":-3.7000000000000002E-3},{"$f":"IF($B$7=\"kWh\",$B$4,$B$5)","v":369},-1.3653,{"$f":"VLOOKUP($B$3,'Data Proposed Rates'!$A:$AT,MATCH(BI_Seas_R2_Avg!$A19,ProposedHeader,0),FALSE)","v":-1.6999999999999999E-3},{"$f":"IF($B$7=\"kWh\",$B$4,$B$5)","v":369},-0.62729999999999997,0.73799999999999999,0.54054054054054057]
["CBR Class B Rate Rider",{"$f":"VLOOKUP($B$3,'Data Current Rates'!$A:$AJ,MATCH(BI_Seas_R2_Avg!$A20,CurrentHeader,0),FALSE)","v":1E-4},{"$f":"IF($B$7=\"kWh\",$B$4,$B$5)","v":369},3.6900000000000002E-2,{"$f":"VLOOKUP($B$3,'Data Proposed Rates'!$A:$AT,MATCH(BI_Seas_R2_Avg!$A20,ProposedHeader,0),FALSE)","v":-5.9999999999999995E-4},{"$f":"IF($B$7=\"kWh\",$B$4,$B$5)","v":369},-0.22139999999999999,-0.25829999999999997,-6.9999999999999991]
["GA Rate Rider",{"$f":"VLOOKUP($B$3,'Data Current Rates'!$A:$AJ,MATCH(BI_Seas_R2_Avg!$A21,CurrentHeader,0),FALSE)","v":0},369,0,{"$f":"VLOOKUP($B$3,'Data Proposed Rates'!$A:$AT,MATCH(BI_Seas_R2_Avg!$A21,ProposedHeader,0),FALSE)","v":0},369,0,0,"N/A"]
["Smart Meter Entity Charge (if applicable)",{"$f":"VLOOKUP($A22,'Data Pass Through'!$A:$D,2,FALSE)","v":0.42},1,0.42,{"$f":"VLOOKUP($A22,'Data Pass Through'!$A:$D,2,FALSE)","v":0.42},1,0.42,0,0]
["Rate Rider for Account 1588",null,null,null,{"$f":"VLOOKUP($B$3,'Data Proposed Rates'!$A:$AT,MATCH(BI_Seas_R2_Avg!$A23,ProposedHeader,0),FALSE)","v":-3.2000000000000002E-3},{"$f":"IF($B$7=\"kWh\",$B$4,$B$5)","v":369},-1.1808000000000001,-1.1808000000000001,"N/A"]
["Sub-Total B - Distribution (includes Sub-Total A)",null,null,{"$f":"SUM(INDIRECT(\"D17:D\"&ROW()-1))","v":90.6972624},null,null,{"$f":"SUM(INDIRECT(\"G17:G\"&ROW()-1))","v":94.898562400000003},4.2013000000000034,4.6322236072254407E-2]
["Retail Transmission Rate – Network Service Rate",{"$f":"VLOOKUP($B$3,'Data Current Rates'!$A:$AJ,MATCH(BI_Seas_R2_Avg!$A25,CurrentHeader,0),FALSE)","v":1.18E-2},{"$f":"IF($B$7=\"kWh\",$B$4*$B$6,$B$5)","v":407.745},{"$f":"B25*C25","v":4.8113909999999995},{"$f":"VLOOKUP($B$3,'Data Proposed Rates'!$A:$AT,MATCH(BI_Seas_R2_Avg!$A25,ProposedHeader,0),FALSE)","v":1.21E-2},{"$f":"IF($B$7=\"kWh\",$B$4*$B$6,$B$5)","v":407.745},4.9337144999999998,0.12232350000000025,2.5423728813559376E-2]
["Retail Transmission Rate – Line and Transformation Connection Service Rate",{"$f":"VLOOKUP($B$3,'Data Current Rates'!$A:$AJ,MATCH(BI_Seas_R2_Avg!$A26,CurrentHeader,0),FALSE)","v":8.6E-3},{"$f":"IF($B$7=\"kWh\",$B$4*$B$6,$B$5)","v":407.745},3.5066070000000003,{"$f":"VLOOKUP($B$3,'Data Proposed Rates'!$A:$AT,MATCH(BI_Seas_R2_Avg!$A26,ProposedHeader,0),FALSE)","v":8.8000000000000005E-3},{"$f":"IF($B$7=\"kWh\",$B$4*$B$6,$B$5)","v":407.745},3.5881560000000001,8.1548999999999872E-2,2.3255813953488334E-2]
["Sub-Total C - Delivery (including Sub-Total B)",null,null,{"$f":"SUM(D24:D26)","v":99.015260400000003},null,null,{"$f":"SUM(G24:G26)","v":103.42043289999999},4.4051724999999919,4.4489834013505175E-2]
["Wholesale Market Service Rate (WMS) – not including CBR",{"$f":"VLOOKUP($A28,'Data Pass Through'!$A:$D,2,FALSE)","v":4.1000000000000003E-3},{"$f":"$B$4*$B$6","v":407.745},{"$f":"B28*C28","v":1.6717545000000003},{"$f":"VLOOKUP($A28,'Data Pass Through'!$A:$D,3,FALSE)","v":4.1000000000000003E-3},{"$f":"$B$4*$B$6","v":407.745},1.6717545000000003,0,0]
["Capacity Based Recovery (CBR) – Applicable for Class B Customers",{"$f":"VLOOKUP($A29,'Data Pass Through'!$A:$D,2,FALSE)","v":5.9999999999999995E-4},{"$f":"$B$4*$B$6","v":407.745},0.24464699999999998,{"$f":"VLOOKUP($A29,'Data Pass Through'!$A:$D,3,FALSE)","v":5.9999999999999995E-4},{"$f":"$B$4*$B$6","v":407.745},0.24464699999999998,0,0]
["Rural Rate Protection Charge",{"$f":"VLOOKUP($A30,'Data Pass Through'!$A:$D,2,FALSE)","v":5.9999999999999995E-4},{"$f":"$B$4*$B$6","v":407.745},0.24464699999999998,{"$f":"VLOOKUP($A30,'Data Pass Through'!$A:$D,3,FALSE)","v":5.9999999999999995E-4},{"$f":"$B$4*$B$6","v":407.745},0.24464699999999998,0,0]
["Standard Supply Service – Administration Charge (if applicable)",{"$f":"VLOOKUP($A31,'Data Pass Through'!$A:$D,2,FALSE)","v":0.25},1,0.25,{"$f":"VLOOKUP($A31,'Data Pass Through'!$A:$D,3,FALSE)","v":0.25},1,0.25,0,0]
["TOU-Off Peak",{"$f":"VLOOKUP($A32,'Data Pass Through'!$A:$D,2,FALSE)","v":9.8000000000000004E-2},{"$f":"B$4*VLOOKUP($B$3,'Data Billing Quantities'!$A:$O,MATCH($A32,'Data Billing Quantities'!$4:$4,0),FALSE)","v":236.16},23.14368,{"$f":"VLOOKUP($A32,'Data Pass Through'!$A:$D,3,FALSE)","v":9.8000000000000004E-2},{"$f":"B$4*VLOOKUP($B$3,'Data Billing Quantities'!$A:$O,MATCH($A32,'Data Billing Quantities'!$4:$4,0),FALSE)","v":236.16},{"$f":"E32*F32","v":23.14368},0,0]
["TOU-Mid Peak",{"$f":"VLOOKUP($A33,'Data Pass Through'!$A:$D,2,FALSE)","v":0.157},{"$f":"B$4*VLOOKUP($B$3,'Data Billing Quantities'!$A:$O,MATCH($A33,'Data Billing Quantities'!$4:$4,0),FALSE)","v":66.42},10.42794,{"$f":"VLOOKUP($A33,'Data Pass Through'!$A:$D,3,FALSE)","v":0.157},{"$f":"B$4*VLOOKUP($B$3,'Data Billing Quantities'!$A:$O,MATCH($A33,'Data Billing Quantities'!$4:$4,0),FALSE)","v":66.42},{"$f":"E33*F33","v":10.42794},0,0]
["TOU-On Peak",{"$f":"VLOOKUP($A34,'Data Pass Through'!$A:$D,2,FALSE)","v":0.20300000000000001},{"$f":"B$4*VLOOKUP($B$3,'Data Billing Quantities'!$A:$O,MATCH($A34,'Data Billing Quantities'!$4:$4,0),FALSE)","v":66.42},13.483260000000001,{"$f":"VLOOKUP($A34,'Data Pass Through'!$A:$D,3,FALSE)","v":0.20300000000000001},{"$f":"B$4*VLOOKUP($B$3,'Data Billing Quantities'!$A:$O,MATCH($A34,'Data Billing Quantities'!$4:$4,0),FALSE)","v":66.42},{"$f":"E34*F34","v":13.483260000000001},0,0]
["Total Bill on TOU (before Taxes)",null,null,{"$f":"SUM(D27:D34)","v":148.48118890000001},null,null,{"$f":"SUM(G27:G34)","v":152.8863614},4.4051724999999919,2.966821947369248E-2]
["HST",0.13,null,{"$f":"D35*B36","v":19.302554557000001},{"$f":"B36","v":0.13},null,{"$f":"G35*E36","v":19.875226982000001},0.57267242500000037,2.9668219473692553E-2]
["Ontario Electricity Rebate (OER)",{"$f":"IF(($B$4*12)<250000,VLOOKUP($A37,'Data Pass Through'!$A$4:$C$19,2,0),0)","v":-0.23499999999999999},null,{"$f":"D35*B37","v":-34.893079391500002},{"$f":"IF(($B$4*12)<250000,VLOOKUP($A37,'Data Pass Through'!$A$4:$C$19,3,0),0)","v":-0.23499999999999999},null,{"$f":"G35*E37","v":-35.928294928999996},-1.0352155374999938,-2.9668219473692359E-2]
["Total Bill on TOU",null,null,{"$f":"SUM(D35:D37)","v":132.8906640655},null,null,{"$f":"SUM(G35:G37)","v":136.83329345300001},3.9426293875000056,2.9668219473692577E-2]
["* Distribution rate protection applies to R1 and R2 customers"]

{"sheet":"BI_GSe_Typical","index":20,"n_rows":39,"n_cols":9,"rows_kept":39,"cut":false,"hidden":false,"merged":[[0,0,0,10],[8,0,9,0],[8,1,8,3],[8,4,8,6],[8,7,8,8]]}
["Bill Impacts (Typical Consumption Level) - GSe"]
[]
["Rate Class",{"$f":"RIGHT(A1,LEN(A1)-FIND(\"- \",A1,1)-1)","v":"GSe"}]
["Monthly Consumption (kWh)",{"$f":"IF(COUNTIF(A1,\"*Low*\")>0,VLOOKUP(B3,'Data Billing Quantities'!$A:$Z,MATCH(\"Low kWh\",'Data Billing Quantities'!4:4,0),FALSE),IF(COUNTIF(A1,\"*Typical*\")>0,VLOOKUP(B3,'Data Billing Quantities'!$A:$Z,MATCH(\"Typical kWh\",'Data Billing Quantities'!4:4,0),FALSE),IF(COUNTIF(A1,\"*Average*\")>0,VLOOKUP(B3,'Data Billing Quantities'!$A:$Z,MATCH(\"Average kWh\",'Data Billing Quantities'!4:4,0),FALSE),IF(COUNTIF(A1,\"*High*\")>0,VLOOKUP(B3,'Data Billing Quantities'!$A:$Z,MATCH(\"High kWh\",'Data Billing Quantities'!4:4,0),FALSE),\"error\"))))","v":2000}]
["Peak (kW)",{"$f":"IF(COUNTIF(A1,\"*Low*\")>0,VLOOKUP(B3,'Data Billing Quantities'!$A:$Z,MATCH(\"Low kW\",'Data Billing Quantities'!4:4,0),FALSE),IF(COUNTIF(A1,\"*Typical*\")>0,VLOOKUP(B3,'Data Billing Quantities'!$A:$Z,MATCH(\"Typical kW\",'Data Billing Quantities'!4:4,0),FALSE),IF(COUNTIF(A1,\"*Average*\")>0,VLOOKUP(B3,'Data Billing Quantities'!$A:$Z,MATCH(\"Average kW\",'Data Billing Quantities'!4:4,0),FALSE),IF(COUNTIF(A1,\"*High*\")>0,VLOOKUP(B3,'Data Billing Quantities'!$A:$Z,MATCH(\"High kW\",'Data Billing Quantities'!4:4,0),FALSE),\"error\"))))","v":0}]
["Loss factor",{"$f":"VLOOKUP(B3,'Data Billing Quantities'!A:D,MATCH(A6,'Data Billing Quantities'!4:4,0),FALSE)","v":1.0960000000000001}]
["Charge determinant",{"$f":"VLOOKUP(B3,'Data Billing Quantities'!A:D,MATCH(A7,'Data Billing Quantities'!4:4,0),FALSE)","v":"kWh"}]
[]
[null,"Current OEB-Approved",null,null,"Proposed",null,null,"Impact"]
[null,"Rate ($)","Volume","Charge ($)","Rate ($)","Volume","Charge ($)","$ Change","% Change"]
["Service Charge",{"$f":"VLOOKUP($B$3,'Data Current Rates'!$A:$AO,MATCH(BI_GSe_Typical!$A11,CurrentHeader,0),FALSE)","v":32.78},1,{"$f":"B11*C11","v":32.78},{"$f":"VLOOKUP($B$3,'Data Proposed Rates'!$A:$AT,MATCH(BI_GSe_Typical!$A11,ProposedHeader,0),FALSE)","v":32.78},1,{"$f":"E11*F11","v":32.78},{"$f":"G11-D11","v":0},{"$f":"IF(ISERROR(H11/ABS(D11)),\"N/A\",(H11/ABS(D11)))","v":0}]
["Distribution Volumetric Charge",{"$f":"VLOOKUP($B$3,'Data Current Rates'!$A:$AO,MATCH(BI_GSe_Typical!$A12,CurrentHeader,0),FALSE)","v":7.6799999999999993E-2},{"$f":"IF($B$7=\"kWh\",$B$4,$B$5)","v":2000},{"$f":"B12*C12","v":153.6},{"$f":"VLOOKUP($B$3,'Data Proposed Rates'!$A:$AT,MATCH(BI_GSe_Typical!$A12,ProposedHeader,0),FALSE)","v":8.1600000000000006E-2},{"$f":"IF($B$7=\"kWh\",$B$4,$B$5)","v":2000},163.20000000000002,9.6000000000000227,6.2500000000000153E-2]
["RRRP Adjustment",{"$f":"IF($B$3=\"R2\",VLOOKUP(A13,'Data Pass Through'!$A4:$C19,3,0),0)*-1","v":0},1,{"$f":"B13*C13","v":0},{"$f":"IF($B$3=\"R2\",VLOOKUP(A13,'Data Pass Through'!$A4:$C19,3,0),0)*-1","v":0},1,0,0,"N/A"]
["DRP Adjustment",null,null,{"$f":"IF(OR($B$3=\"R1\",$B$3=\"R2\",$B$3=\"R1-CPUC\"),IF(SUM(D11:D13)>'Data Pass Through'!$B$16,-(SUM(D11:D13)-'Data Pass Through'!$B$16),0),0)","v":0},null,null,{"$f":"IF(OR($B$3=\"R1\",$B$3=\"R2\",$B$3=\"R1-CPUC\"),IF(SUM(G11:G13)>'Data Pass Through'!$B$16,-(SUM(G11:G13)-'Data Pass Through'!$B$16),0),0)","v":0},0,"N/A"]
["Group 2 Fixed Rate Rider",{"$f":"VLOOKUP($B$3,'Data Current Rates'!$A:$AO,MATCH(BI_GSe_Typical!$A15,CurrentHeader,0),FALSE)","v":0},1,{"$f":"B15*C15","v":0},{"$f":"VLOOKUP($B$3,'Data Proposed Rates'!$A:$AT,MATCH(BI_GSe_Typical!$A15,ProposedHeader,0),FALSE)","v":-1.1200000000000001},1,{"$f":"E15*F15","v":-1.1200000000000001},-1.1200000000000001,"N/A"]
["Group 2 Volumetric Rate Rider",{"$f":"VLOOKUP($B$3,'Data Current Rates'!$A:$AO,MATCH(BI_GSe_Typical!$A16,CurrentHeader,0),FALSE)","v":-2.9999999999999997E-4},{"$f":"IF($B$7=\"kWh\",$B$4,$B$5)","v":2000},{"$f":"B16*C16","v":-0.6},{"$f":"VLOOKUP($B$3,'Data Proposed Rates'!$A:$AT,MATCH(BI_GSe_Typical!$A16,ProposedHeader,0),FALSE)","v":-2.8E-3},{"$f":"IF($B$7=\"kWh\",$B$4,$B$5)","v":2000},-5.6,{"$f":"G16-D16","v":-5},{"$f":"IF(ISERROR(H16/ABS(D16)),\"N/A\",(H16/ABS(D16)))","v":-8.3333333333333339}]
["Sub-Total A (excluding pass through)",null,null,{"$f":"SUM(D11:D16)","v":185.78},null,null,{"$f":"SUM(G11:G16)","v":189.26000000000002},3.4800000000000182,1.87318333512758E-2]
["Line Losses on Cost of Power",{"$f":"VLOOKUP($B$3,'Data Billing Quantities'!$A:$O,MATCH(BI_GSe_Typical!$A32,'Data Billing Quantities'!$4:$4,0),FALSE)*$B32+VLOOKUP($B$3,'Data Billing Quantities'!$A:$O,MATCH(BI_GSe_Typical!$A33,'Data Billing Quantities'!$4:$4,0),FALSE)*$B33+VLOOKUP($B$3,'Data Billing Quantities'!$A:$O,MATCH(BI_GSe_Typical!$A34,'Data Billing Quantities'!$4:$4,0),FALSE)*$B34","v":0.12752000000000002},{"$f":"($B$6*$B$4)-$B$4","v":192},{"$f":"B18*C18","v":24.483840000000004},{"$f":"VLOOKUP($B$3,'Data Billing Quantities'!$A:$O,MATCH(BI_GSe_Typical!$A32,'Data Billing Quantities'!$4:$4,0),FALSE)*$B32+VLOOKUP($B$3,'Data Billing Quantities'!$A:$O,MATCH(BI_GSe_Typical!$A33,'Data Billing Quantities'!$4:$4,0),FALSE)*$B33+VLOOKUP($B$3,'Data Billing Quantities'!$A:$O,MATCH(BI_GSe_Typical!$A34,'Data Billing Quantities'!$4:$4,0),FALSE)*$B34","v":0.12752000000000002},{"$f":"($B$6*$B$4)-$B$4","v":192},24.483840000000004,0,0]
["Total Deferral/Variance Account Rate Rider",{"$f":"VLOOKUP($B$3,'Data Current Rates'!$A:$AO,MATCH(BI_GSe_Typical!$A19,CurrentHeader,0),FALSE)","v":-3.5999999999999999E-3},{"$f":"IF($B$7=\"kWh\",$B$4,$B$5)","v":2000},-7.2,{"$f":"VLOOKUP($B$3,'Data Proposed Rates'!$A:$AT,MATCH(BI_GSe_Typical!$A19,ProposedHeader,0),FALSE)","v":-1.6999999999999999E-3},{"$f":"IF($B$7=\"kWh\",$B$4,$B$5)","v":2000},-3.4,3.8000000000000003,0.52777777777777779]
["CBR Class B Rate Rider",{"$f":"VLOOKUP($B$3,'Data Current Rates'!$A:$AJ,MATCH(BI_GSe_Typical!$A20,CurrentHeader,0),FALSE)","v":1E-4},{"$f":"IF($B$7=\"kWh\",$B$4,$B$5)","v":2000},0.2,{"$f":"VLOOKUP($B$3,'Data Proposed Rates'!$A:$AT,MATCH(BI_GSe_Typical!$A20,ProposedHeader,0),FALSE)","v":-5.9999999999999995E-4},{"$f":"IF($B$7=\"kWh\",$B$4,$B$5)","v":2000},-1.2,-1.4,-6.9999999999999991]
["GA Rate Rider",{"$f":"VLOOKUP($B$3,'Data Current Rates'!$A:$AJ,MATCH(BI_GSe_Typical!$A21,CurrentHeader,0),FALSE)","v":0},2000,0,{"$f":"VLOOKUP($B$3,'Data Proposed Rates'!$A:$AT,MATCH(BI_GSe_Typical!$A21,ProposedHeader,0),FALSE)","v":0},2000,0,0,"N/A"]
["Smart Meter Entity Charge (if applicable)",{"$f":"VLOOKUP($A22,'Data Pass Through'!$A:$D,2,FALSE)","v":0.42},1,0.42,{"$f":"VLOOKUP($A22,'Data Pass Through'!$A:$D,2,FALSE)","v":0.42},1,0.42,0,0]
["Rate Rider for Account 1588",null,null,null,{"$f":"VLOOKUP($B$3,'Data Proposed Rates'!$A:$AT,MATCH(BI_GSe_Typical!$A23,ProposedHeader,0),FALSE)","v":-3.2000000000000002E-3},{"$f":"IF($B$7=\"kWh\",$B$4,$B$5)","v":2000},-6.4,-6.4,"N/A"]
["Sub-Total B - Distribution (includes Sub-Total A)",null,null,{"$f":"SUM(INDIRECT(\"D17:D\"&ROW()-1))","v":203.68384},null,null,{"$f":"SUM(INDIRECT(\"G17:G\"&ROW()-1))","v":203.16384000000002},-0.51999999999998181,-2.5529762204010973E-3]
["Retail Transmission Rate – Network Service Rate",{"$f":"VLOOKUP($B$3,'Data Current Rates'!$A:$AJ,MATCH(BI_GSe_Typical!$A25,CurrentHeader,0),FALSE)","v":1.01E-2},{"$f":"IF($B$7=\"kWh\",$B$4*$B$6,$B$5)","v":2192},{"$f":"B25*C25","v":22.139199999999999},{"$f":"VLOOKUP($B$3,'Data Proposed Rates'!$A:$AT,MATCH(BI_GSe_Typical!$A25,ProposedHeader,0),FALSE)","v":1.04E-2},{"$f":"IF($B$7=\"kWh\",$B$4*$B$6,$B$5)","v":2192},22.796799999999998,0.65759999999999863,2.9702970297029643E-2]
["Retail Transmission Rate – Line and Transformation Connection Service Rate",{"$f":"VLOOKUP($B$3,'Data Current Rates'!$A:$AJ,MATCH(BI_GSe_Typical!$A26,CurrentHeader,0),FALSE)","v":7.7999999999999996E-3},{"$f":"IF($B$7=\"kWh\",$B$4*$B$6,$B$5)","v":2192},17.0976,{"$f":"VLOOKUP($B$3,'Data Proposed Rates'!$A:$AT,MATCH(BI_GSe_Typical!$A26,ProposedHeader,0),FALSE)","v":8.0000000000000002E-3},{"$f":"IF($B$7=\"kWh\",$B$4*$B$6,$B$5)","v":2192},17.536000000000001,0.43840000000000146,2.5641025641025727E-2]
["Sub-Total C - Delivery (including Sub-Total B)",null,null,{"$f":"SUM(D24:D26)","v":242.92063999999999},null,null,{"$f":"SUM(G24:G26)","v":243.49664000000001},0.57600000000002183,2.3711447491659081E-3]
["Wholesale Market Service Rate (WMS) – not including CBR",{"$f":"VLOOKUP($A28,'Data Pass Through'!$A:$D,2,FALSE)","v":4.1000000000000003E-3},{"$f":"$B$4*$B$6","v":2192},{"$f":"B28*C28","v":8.9872000000000014},{"$f":"VLOOKUP($A28,'Data Pass Through'!$A:$D,3,FALSE)","v":4.1000000000000003E-3},{"$f":"$B$4*$B$6","v":2192},8.9872000000000014,0,0]
["Capacity Based Recovery (CBR) – Applicable for Class B Customers",{"$f":"VLOOKUP($A29,'Data Pass Through'!$A:$D,2,FALSE)","v":5.9999999999999995E-4},{"$f":"$B$4*$B$6","v":2192},1.3151999999999999,{"$f":"VLOOKUP($A29,'Data Pass Through'!$A:$D,3,FALSE)","v":5.9999999999999995E-4},{"$f":"$B$4*$B$6","v":2192},1.3151999999999999,0,0]
["Rural Rate Protection Charge",{"$f":"VLOOKUP($A30,'Data Pass Through'!$A:$D,2,FALSE)","v":5.9999999999999995E-4},{"$f":"$B$4*$B$6","v":2192},1.3151999999999999,{"$f":"VLOOKUP($A30,'Data Pass Through'!$A:$D,3,FALSE)","v":5.9999999999999995E-4},{"$f":"$B$4*$B$6","v":2192},1.3151999999999999,0,0]
["Standard Supply Service – Administration Charge (if applicable)",{"$f":"VLOOKUP($A31,'Data Pass Through'!$A:$D,2,FALSE)","v":0.25},1,0.25,{"$f":"VLOOKUP($A31,'Data Pass Through'!$A:$D,3,FALSE)","v":0.25},1,0.25,0,0]
["TOU-Off Peak",{"$f":"VLOOKUP($A32,'Data Pass Through'!$A:$D,2,FALSE)","v":9.8000000000000004E-2},{"$f":"B$4*VLOOKUP($B$3,'Data Billing Quantities'!$A:$O,MATCH($A32,'Data Billing Quantities'!$4:$4,0),FALSE)","v":1280},125.44,{"$f":"VLOOKUP($A32,'Data Pass Through'!$A:$D,3,FALSE)","v":9.8000000000000004E-2},{"$f":"B$4*VLOOKUP($B$3,'Data Billing Quantities'!$A:$O,MATCH($A32,'Data Billing Quantities'!$4:$4,0),FALSE)","v":1280},{"$f":"E32*F32","v":125.44},0,0]
["TOU-Mid Peak",{"$f":"VLOOKUP($A33,'Data Pass Through'!$A:$D,2,FALSE)","v":0.157},{"$f":"B$4*VLOOKUP($B$3,'Data Billing Quantities'!$A:$O,MATCH($A33,'Data Billing Quantities'!$4:$4,0),FALSE)","v":360},56.52,{"$f":"VLOOKUP($A33,'Data Pass Through'!$A:$D,3,FALSE)","v":0.157},{"$f":"B$4*VLOOKUP($B$3,'Data Billing Quantities'!$A:$O,MATCH($A33,'Data Billing Quantities'!$4:$4,0),FALSE)","v":360},{"$f":"E33*F33","v":56.52},0,0]
["TOU-On Peak",{"$f":"VLOOKUP($A34,'Data Pass Through'!$A:$D,2,FALSE)","v":0.20300000000000001},{"$f":"B$4*VLOOKUP($B$3,'Data Billing Quantities'!$A:$O,MATCH($A34,'Data Billing Quantities'!$4:$4,0),FALSE)","v":360},73.08,{"$f":"VLOOKUP($A34,'Data Pass Through'!$A:$D,3,FALSE)","v":0.20300000000000001},{"$f":"B$4*VLOOKUP($B$3,'Data Billing Quantities'!$A:$O,MATCH($A34,'Data Billing Quantities'!$4:$4,0),FALSE)","v":360},{"$f":"E34*F34","v":73.08},0,0]
["Total Bill on TOU (before Taxes)",null,null,{"$f":"SUM(D27:D34)","v":509.82823999999999},null,null,{"$f":"SUM(G27:G34)","v":510.40424000000002},0.57600000000002183,1.1297922610172043E-3]
["HST",0.13,null,{"$f":"D35*B36","v":66.2776712},{"$f":"B36","v":0.13},null,{"$f":"G35*E36","v":66.352551200000008},7.4880000000007385E-2,1.1297922610172728E-3]
["Ontario Electricity Rebate (OER)",{"$f":"IF(($B$4*12)<250000,VLOOKUP($A37,'Data Pass Through'!$A$4:$C$19,2,0),0)","v":-0.23499999999999999},null,{"$f":"D35*B37","v":-119.80963639999999},{"$f":"IF(($B$4*12)<250000,VLOOKUP($A37,'Data Pass Through'!$A$4:$C$19,3,0),0)","v":-0.23499999999999999},null,{"$f":"G35*E37","v":-119.94499639999999},-0.1353600000000057,-1.1297922610172091E-3]
["Total Bill on TOU",null,null,{"$f":"SUM(D35:D37)","v":456.29627480000005},null,null,{"$f":"SUM(G35:G37)","v":456.81179480000009},0.51552000000003773,1.129792261017244E-3]
["* Distribution rate protection applies to R1 and R2 customers"]

{"sheet":"BI_UGe_Typical","index":21,"n_rows":39,"n_cols":9,"rows_kept":39,"cut":false,"hidden":false,"merged":[[0,0,0,10],[8,0,9,0],[8,1,8,3],[8,4,8,6],[8,7,8,8]]}
["Bill Impacts (Typical Consumption Level) - UGe"]
[]
["Rate Class",{"$f":"RIGHT(A1,LEN(A1)-FIND(\"- \",A1,1)-1)","v":"UGe"}]
["Monthly Consumption (kWh)",{"$f":"IF(COUNTIF(A1,\"*Low*\")>0,VLOOKUP(B3,'Data Billing Quantities'!$A:$Z,MATCH(\"Low kWh\",'Data Billing Quantities'!4:4,0),FALSE),IF(COUNTIF(A1,\"*Typical*\")>0,VLOOKUP(B3,'Data Billing Quantities'!$A:$Z,MATCH(\"Typical kWh\",'Data Billing Quantities'!4:4,0),FALSE),IF(COUNTIF(A1,\"*Average*\")>0,VLOOKUP(B3,'Data Billing Quantities'!$A:$Z,MATCH(\"Average kWh\",'Data Billing Quantities'!4:4,0),FALSE),IF(COUNTIF(A1,\"*High*\")>0,VLOOKUP(B3,'Data Billing Quantities'!$A:$Z,MATCH(\"High kWh\",'Data Billing Quantities'!4:4,0),FALSE),\"error\"))))","v":2000}]
["Peak (kW)",{"$f":"IF(COUNTIF(A1,\"*Low*\")>0,VLOOKUP(B3,'Data Billing Quantities'!$A:$Z,MATCH(\"Low kW\",'Data Billing Quantities'!4:4,0),FALSE),IF(COUNTIF(A1,\"*Typical*\")>0,VLOOKUP(B3,'Data Billing Quantities'!$A:$Z,MATCH(\"Typical kW\",'Data Billing Quantities'!4:4,0),FALSE),IF(COUNTIF(A1,\"*Average*\")>0,VLOOKUP(B3,'Data Billing Quantities'!$A:$Z,MATCH(\"Average kW\",'Data Billing Quantities'!4:4,0),FALSE),IF(COUNTIF(A1,\"*High*\")>0,VLOOKUP(B3,'Data Billing Quantities'!$A:$Z,MATCH(\"High kW\",'Data Billing Quantities'!4:4,0),FALSE),\"error\"))))","v":0}]
["Loss factor",{"$f":"VLOOKUP(B3,'Data Billing Quantities'!A:D,MATCH(A6,'Data Billing Quantities'!4:4,0),FALSE)","v":1.0669999999999999}]
["Charge determinant",{"$f":"VLOOKUP(B3,'Data Billing Quantities'!A:D,MATCH(A7,'Data Billing Quantities'!4:4,0),FALSE)","v":"kWh"}]
[]
[null,"Current OEB-Approved",null,null,"Proposed",null,null,"Impact"]
[null,"Rate ($)","Volume","Charge ($)","Rate ($)","Volume","Charge ($)","$ Change","% Change"]
["Service Charge",{"$f":"VLOOKUP($B$3,'Data Current Rates'!$A:$AO,MATCH(BI_UGe_Typical!$A11,CurrentHeader,0),FALSE)","v":25.51},1,{"$f":"B11*C11","v":25.51},{"$f":"VLOOKUP($B$3,'Data Proposed Rates'!$A:$AT,MATCH(BI_UGe_Typical!$A11,ProposedHeader,0),FALSE)","v":25.51},1,{"$f":"E11*F11","v":25.51},{"$f":"G11-D11","v":0},{"$f":"IF(ISERROR(H11/ABS(D11)),\"N/A\",(H11/ABS(D11)))","v":0}]
["Distribution Volumetric Charge",{"$f":"VLOOKUP($B$3,'Data Current Rates'!$A:$AO,MATCH(BI_UGe_Typical!$A12,CurrentHeader,0),FALSE)","v":3.6999999999999998E-2},{"$f":"IF($B$7=\"kWh\",$B$4,$B$5)","v":2000},{"$f":"B12*C12","v":74},{"$f":"VLOOKUP($B$3,'Data Proposed Rates'!$A:$AT,MATCH(BI_UGe_Typical!$A12,ProposedHeader,0),FALSE)","v":3.9399999999999998E-2},{"$f":"IF($B$7=\"kWh\",$B$4,$B$5)","v":2000},78.8,4.7999999999999972,6.4864864864864827E-2]
["RRRP Adjustment",{"$f":"IF($B$3=\"R2\",VLOOKUP(A13,'Data Pass Through'!$A4:$C19,3,0),0)*-1","v":0},1,{"$f":"B13*C13","v":0},{"$f":"IF($B$3=\"R2\",VLOOKUP(A13,'Data Pass Through'!$A4:$C19,3,0),0)*-1","v":0},1,0,0,"N/A"]
["DRP Adjustment",null,null,{"$f":"IF(OR($B$3=\"R1\",$B$3=\"R2\",$B$3=\"R1-CPUC\"),IF(SUM(D11:D13)>'Data Pass Through'!$B$16,-(SUM(D11:D13)-'Data Pass Through'!$B$16),0),0)","v":0},null,null,{"$f":"IF(OR($B$3=\"R1\",$B$3=\"R2\",$B$3=\"R1-CPUC\"),IF(SUM(G11:G13)>'Data Pass Through'!$B$16,-(SUM(G11:G13)-'Data Pass Through'!$B$16),0),0)","v":0},0,"N/A"]
["Group 2 Fixed Rate Rider",{"$f":"VLOOKUP($B$3,'Data Current Rates'!$A:$AO,MATCH(BI_UGe_Typical!$A15,CurrentHeader,0),FALSE)","v":0},1,{"$f":"B15*C15","v":0},{"$f":"VLOOKUP($B$3,'Data Proposed Rates'!$A:$AT,MATCH(BI_UGe_Typical!$A15,ProposedHeader,0),FALSE)","v":-0.87},1,{"$f":"E15*F15","v":-0.87},-0.87,"N/A"]
["Group 2 Volumetric Rate Rider",{"$f":"VLOOKUP($B$3,'Data Current Rates'!$A:$AO,MATCH(BI_UGe_Typical!$A16,CurrentHeader,0),FALSE)","v":-1E-4},{"$f":"IF($B$7=\"kWh\",$B$4,$B$5)","v":2000},{"$f":"B16*C16","v":-0.2},{"$f":"VLOOKUP($B$3,'Data Proposed Rates'!$A:$AT,MATCH(BI_UGe_Typical!$A16,ProposedHeader,0),FALSE)","v":-1.4E-3},{"$f":"IF($B$7=\"kWh\",$B$4,$B$5)","v":2000},-2.8,{"$f":"G16-D16","v":-2.5999999999999996},{"$f":"IF(ISERROR(H16/ABS(D16)),\"N/A\",(H16/ABS(D16)))","v":-12.999999999999998}]
["Sub-Total A (excluding pass through)",null,null,{"$f":"SUM(D11:D16)","v":99.31},null,null,{"$f":"SUM(G11:G16)","v":100.64},1.3299999999999983,1.3392407612526415E-2]
["Line Losses on Cost of Power",{"$f":"VLOOKUP($B$3,'Data Billing Quantities'!$A:$O,MATCH(BI_UGe_Typical!$A32,'Data Billing Quantities'!$4:$4,0),FALSE)*$B32+VLOOKUP($B$3,'Data Billing Quantities'!$A:$O,MATCH(BI_UGe_Typical!$A33,'Data Billing Quantities'!$4:$4,0),FALSE)*$B33+VLOOKUP($B$3,'Data Billing Quantities'!$A:$O,MATCH(BI_UGe_Typical!$A34,'Data Billing Quantities'!$4:$4,0),FALSE)*$B34","v":0.12752000000000002},{"$f":"($B$6*$B$4)-$B$4","v":134},{"$f":"B18*C18","v":17.087680000000002},{"$f":"VLOOKUP($B$3,'Data Billing Quantities'!$A:$O,MATCH(BI_UGe_Typical!$A32,'Data Billing Quantities'!$4:$4,0),FALSE)*$B32+VLOOKUP($B$3,'Data Billing Quantities'!$A:$O,MATCH(BI_UGe_Typical!$A33,'Data Billing Quantities'!$4:$4,0),FALSE)*$B33+VLOOKUP($B$3,'Data Billing Quantities'!$A:$O,MATCH(BI_UGe_Typical!$A34,'Data Billing Quantities'!$4:$4,0),FALSE)*$B34","v":0.12752000000000002},{"$f":"($B$6*$B$4)-$B$4","v":134},17.087680000000002,0,0]
["Total Deferral/Variance Account Rate Rider",{"$f":"VLOOKUP($B$3,'Data Current Rates'!$A:$AO,MATCH(BI_UGe_Typical!$A19,CurrentHeader,0),FALSE)","v":-3.5999999999999999E-3},{"$f":"IF($B$7=\"kWh\",$B$4,$B$5)","v":2000},-7.2,{"$f":"VLOOKUP($B$3,'Data Proposed Rates'!$A:$AT,MATCH(BI_UGe_Typical!$A19,ProposedHeader,0),FALSE)","v":-1.6000000000000001E-3},{"$f":"IF($B$7=\"kWh\",$B$4,$B$5)","v":2000},-3.2,4,0.55555555555555558]
["CBR Class B Rate Rider",{"$f":"VLOOKUP($B$3,'Data Current Rates'!$A:$AJ,MATCH(BI_UGe_Typical!$A20,CurrentHeader,0),FALSE)","v":1E-4},{"$f":"IF($B$7=\"kWh\",$B$4,$B$5)","v":2000},0.2,{"$f":"VLOOKUP($B$3,'Data Proposed Rates'!$A:$AT,MATCH(BI_UGe_Typical!$A20,ProposedHeader,0),FALSE)","v":-5.9999999999999995E-4},{"$f":"IF($B$7=\"kWh\",$B$4,$B$5)","v":2000},-1.2,-1.4,-6.9999999999999991]
["GA Rate Rider",{"$f":"VLOOKUP($B$3,'Data Current Rates'!$A:$AJ,MATCH(BI_UGe_Typical!$A21,CurrentHeader,0),FALSE)","v":0},2000,0,{"$f":"VLOOKUP($B$3,'Data Proposed Rates'!$A:$AT,MATCH(BI_UGe_Typical!$A21,ProposedHeader,0),FALSE)","v":0},2000,0,0,"N/A"]
["Smart Meter Entity Charge (if applicable)",{"$f":"VLOOKUP($A22,'Data Pass Through'!$A:$D,2,FALSE)","v":0.42},1,0.42,{"$f":"VLOOKUP($A22,'Data Pass Through'!$A:$D,2,FALSE)","v":0.42},1,0.42,0,0]
["Rate Rider for Account 1588",null,null,null,{"$f":"VLOOKUP($B$3,'Data Proposed Rates'!$A:$AT,MATCH(BI_UGe_Typical!$A23,ProposedHeader,0),FALSE)","v":-3.2000000000000002E-3},{"$f":"IF($B$7=\"kWh\",$B$4,$B$5)","v":2000},-6.4,-6.4,"N/A"]
["Sub-Total B - Distribution (includes Sub-Total A)",null,null,{"$f":"SUM(INDIRECT(\"D17:D\"&ROW()-1))","v":109.81768000000001},null,null,{"$f":"SUM(INDIRECT(\"G17:G\"&ROW()-1))","v":107.34768},-2.4700000000000131,-2.2491824631516645E-2]
["Retail Transmission Rate – Network Service Rate",{"$f":"VLOOKUP($B$3,'Data Current Rates'!$A:$AJ,MATCH(BI_UGe_Typical!$A25,CurrentHeader,0),FALSE)","v":1.0800000000000001E-2},{"$f":"IF($B$7=\"kWh\",$B$4*$B$6,$B$5)","v":2134},{"$f":"B25*C25","v":23.0472},{"$f":"VLOOKUP($B$3,'Data Proposed Rates'!$A:$AT,MATCH(BI_UGe_Typical!$A25,ProposedHeader,0),FALSE)","v":1.11E-2},{"$f":"IF($B$7=\"kWh\",$B$4*$B$6,$B$5)","v":2134},23.6874,0.6402000000000001,2.7777777777777783E-2]
["Retail Transmission Rate – Line and Transformation Connection Service Rate",{"$f":"VLOOKUP($B$3,'Data Current Rates'!$A:$AJ,MATCH(BI_UGe_Typical!$A26,CurrentHeader,0),FALSE)","v":8.3000000000000001E-3},{"$f":"IF($B$7=\"kWh\",$B$4*$B$6,$B$5)","v":2134},17.712199999999999,{"$f":"VLOOKUP($B$3,'Data Proposed Rates'!$A:$AT,MATCH(BI_UGe_Typical!$A26,ProposedHeader,0),FALSE)","v":8.5000000000000006E-3},{"$f":"IF($B$7=\"kWh\",$B$4*$B$6,$B$5)","v":2134},18.139000000000003,0.42680000000000362,2.4096385542168881E-2]
["Sub-Total C - Delivery (including Sub-Total B)",null,null,{"$f":"SUM(D24:D26)","v":150.57708},null,null,{"$f":"SUM(G24:G26)","v":149.17408},-1.4029999999999916,-9.3174870969737998E-3]
["Wholesale Market Service Rate (WMS) – not including CBR",{"$f":"VLOOKUP($A28,'Data Pass Through'!$A:$D,2,FALSE)","v":4.1000000000000003E-3},{"$f":"$B$4*$B$6","v":2134},{"$f":"B28*C28","v":8.7494000000000014},{"$f":"VLOOKUP($A28,'Data Pass Through'!$A:$D,3,FALSE)","v":4.1000000000000003E-3},{"$f":"$B$4*$B$6","v":2134},8.7494000000000014,0,0]
["Capacity Based Recovery (CBR) – Applicable for Class B Customers",{"$f":"VLOOKUP($A29,'Data Pass Through'!$A:$D,2,FALSE)","v":5.9999999999999995E-4},{"$f":"$B$4*$B$6","v":2134},1.2804,{"$f":"VLOOKUP($A29,'Data Pass Through'!$A:$D,3,FALSE)","v":5.9999999999999995E-4},{"$f":"$B$4*$B$6","v":2134},1.2804,0,0]
["Rural Rate Protection Charge",{"$f":"VLOOKUP($A30,'Data Pass Through'!$A:$D,2,FALSE)","v":5.9999999999999995E-4},{"$f":"$B$4*$B$6","v":2134},1.2804,{"$f":"VLOOKUP($A30,'Data Pass Through'!$A:$D,3,FALSE)","v":5.9999999999999995E-4},{"$f":"$B$4*$B$6","v":2134},1.2804,0,0]
["Standard Supply Service – Administration Charge (if applicable)",{"$f":"VLOOKUP($A31,'Data Pass Through'!$A:$D,2,FALSE)","v":0.25},1,0.25,{"$f":"VLOOKUP($A31,'Data Pass Through'!$A:$D,3,FALSE)","v":0.25},1,0.25,0,0]
["TOU-Off Peak",{"$f":"VLOOKUP($A32,'Data Pass Through'!$A:$D,2,FALSE)","v":9.8000000000000004E-2},{"$f":"B$4*VLOOKUP($B$3,'Data Billing Quantities'!$A:$O,MATCH($A32,'Data Billing Quantities'!$4:$4,0),FALSE)","v":1280},125.44,{"$f":"VLOOKUP($A32,'Data Pass Through'!$A:$D,3,FALSE)","v":9.8000000000000004E-2},{"$f":"B$4*VLOOKUP($B$3,'Data Billing Quantities'!$A:$O,MATCH($A32,'Data Billing Quantities'!$4:$4,0),FALSE)","v":1280},{"$f":"E32*F32","v":125.44},0,0]
["TOU-Mid Peak",{"$f":"VLOOKUP($A33,'Data Pass Through'!$A:$D,2,FALSE)","v":0.157},{"$f":"B$4*VLOOKUP($B$3,'Data Billing Quantities'!$A:$O,MATCH($A33,'Data Billing Quantities'!$4:$4,0),FALSE)","v":360},56.52,{"$f":"VLOOKUP($A33,'Data Pass Through'!$A:$D,3,FALSE)","v":0.157},{"$f":"B$4*VLOOKUP($B$3,'Data Billing Quantities'!$A:$O,MATCH($A33,'Data Billing Quantities'!$4:$4,0),FALSE)","v":360},{"$f":"E33*F33","v":56.52},0,0]
["TOU-On Peak",{"$f":"VLOOKUP($A34,'Data Pass Through'!$A:$D,2,FALSE)","v":0.20300000000000001},{"$f":"B$4*VLOOKUP($B$3,'Data Billing Quantities'!$A:$O,MATCH($A34,'Data Billing Quantities'!$4:$4,0),FALSE)","v":360},73.08,{"$f":"VLOOKUP($A34,'Data Pass Through'!$A:$D,3,FALSE)","v":0.20300000000000001},{"$f":"B$4*VLOOKUP($B$3,'Data Billing Quantities'!$A:$O,MATCH($A34,'Data Billing Quantities'!$4:$4,0),FALSE)","v":360},{"$f":"E34*F34","v":73.08},0,0]
["Total Bill on TOU (before Taxes)",null,null,{"$f":"SUM(D27:D34)","v":417.17727999999994},null,null,{"$f":"SUM(G27:G34)","v":415.77427999999992},-1.40300000000002,-3.363078641291348E-3]
["HST",0.13,null,{"$f":"D35*B36","v":54.233046399999992},{"$f":"B36","v":0.13},null,{"$f":"G35*E36","v":54.050656399999994},-0.18238999999999805,-3.3630786412912643E-3]
["Ontario Electricity Rebate (OER)",{"$f":"IF(($B$4*12)<250000,VLOOKUP($A37,'Data Pass Through'!$A$4:$C$19,2,0),0)","v":-0.23499999999999999},null,{"$f":"D35*B37","v":-98.036660799999979},{"$f":"IF(($B$4*12)<250000,VLOOKUP($A37,'Data Pass Through'!$A$4:$C$19,3,0),0)","v":-0.23499999999999999},null,{"$f":"G35*E37","v":-97.706955799999974},0.32970500000000413,3.3630786412913423E-3]
["Total Bill on TOU",null,null,{"$f":"SUM(D35:D37)","v":373.37366559999992},null,null,{"$f":"SUM(G35:G37)","v":372.1179805999999},-1.2556850000000281,-3.3630786412913757E-3]
["* Distribution rate protection applies to R1 and R2 customers"]

{"sheet":"BI_GSd_Avg","index":22,"n_rows":34,"n_cols":9,"rows_kept":34,"cut":false,"hidden":false,"merged":[[0,0,0,9],[8,1,8,3],[8,4,8,6],[8,7,8,8]]}
["Bill Impacts (Average Consumption Level) - GSd"]
[]
["Rate Class",{"$f":"RIGHT(A1,LEN(A1)-FIND(\"- \",A1,1)-1)","v":"GSd"}]
["Monthly Consumption (kWh)",{"$f":"IF(COUNTIF(A1,\"*Low*\")>0,VLOOKUP(B3,'Data Billing Quantities'!$A:$Z,MATCH(\"Low kWh\",'Data Billing Quantities'!4:4,0),FALSE),IF(COUNTIF(A1,\"*Typical*\")>0,VLOOKUP(B3,'Data Billing Quantities'!$A:$Z,MATCH(\"Typical kWh\",'Data Billing Quantities'!4:4,0),FALSE),IF(COUNTIF(A1,\"*Average*\")>0,VLOOKUP(B3,'Data Billing Quantities'!$A:$Z,MATCH(\"Average kWh\",'Data Billing Quantities'!4:4,0),FALSE),IF(COUNTIF(A1,\"*High*\")>0,VLOOKUP(B3,'Data Billing Quantities'!$A:$Z,MATCH(\"High kWh\",'Data Billing Quantities'!4:4,0),FALSE),\"error\"))))","v":34334}]
["Peak (kW)",{"$f":"IF(COUNTIF(A1,\"*Low*\")>0,VLOOKUP(B3,'Data Billing Quantities'!$A:$Z,MATCH(\"Low kW\",'Data Billing Quantities'!4:4,0),FALSE),IF(COUNTIF(A1,\"*Typical*\")>0,VLOOKUP(B3,'Data Billing Quantities'!$A:$Z,MATCH(\"Typical kW\",'Data Billing Quantities'!4:4,0),FALSE),IF(COUNTIF(A1,\"*Average*\")>0,VLOOKUP(B3,'Data Billing Quantities'!$A:$Z,MATCH(\"Average kW\",'Data Billing Quantities'!4:4,0),FALSE),IF(COUNTIF(A1,\"*High*\")>0,VLOOKUP(B3,'Data Billing Quantities'!$A:$Z,MATCH(\"High kW\",'Data Billing Quantities'!4:4,0),FALSE),\"error\"))))","v":110}]
["Loss factor",{"$f":"VLOOKUP(B3,'Data Billing Quantities'!A:D,MATCH(A6,'Data Billing Quantities'!4:4,0),FALSE)","v":1.0609999999999999}]
["Charge determinant",{"$f":"VLOOKUP(B3,'Data Billing Quantities'!A:D,MATCH(A7,'Data Billing Quantities'!4:4,0),FALSE)","v":"kW"}]
[]
[null,"Current OEB-Approved",null,null,"Proposed",null,null,"Impact"]
[null,"Rate","Volume","Charge","Rate","Volume","Charge","$ Change","% Change"]
[null,"($)",null,"($)","($)",null,"($)"]
["Service Charge",{"$f":"VLOOKUP($B$3,'Data Current Rates'!$A:$AO,MATCH(BI_GSd_Avg!$A12,CurrentHeader,0),FALSE)","v":105.55},1,{"$f":"C12*B12","v":105.55},{"$f":"VLOOKUP($B$3,'Data Proposed Rates'!$A:$AT,MATCH(BI_GSd_Avg!$A12,ProposedHeader,0),FALSE)","v":105.55},1,{"$f":"F12*E12","v":105.55},{"$f":"G12-D12","v":0},{"$f":"IF(ISERROR(H12/ABS(D12)),\"N/A\",(H12/ABS(D12)))","v":0}]
["Distribution Volumetric Charge",{"$f":"VLOOKUP($B$3,'Data Current Rates'!$A:$AO,MATCH(BI_GSd_Avg!$A13,CurrentHeader,0),FALSE)","v":21.398700000000002},{"$f":"IF($B$7=\"kWh\",$B$4,$B$5)","v":110},{"$f":"C13*B13","v":2353.857},{"$f":"VLOOKUP($B$3,'Data Proposed Rates'!$A:$AT,MATCH(BI_GSd_Avg!$A13,ProposedHeader,0),FALSE)","v":22.520099999999999},{"$f":"IF($B$7=\"kWh\",$B$4,$B$5)","v":110},{"$f":"F13*E13","v":2477.2109999999998},123.35399999999981,5.2405052643384797E-2]
["Group 2 Fixed Rate Rider",{"$f":"VLOOKUP($B$3,'Data Current Rates'!$A:$AO,MATCH(BI_GSd_Avg!$A14,CurrentHeader,0),FALSE)","v":0},1,0,{"$f":"VLOOKUP($B$3,'Data Proposed Rates'!$A:$AT,MATCH(BI_GSd_Avg!$A14,ProposedHeader,0),FALSE)","v":-3.62},1,{"$f":"F14*E14","v":-3.62},-3.62,"N/A"]
["Group 2 Volumetric Rate Rider",{"$f":"VLOOKUP($B$3,'Data Current Rates'!$A:$AO,MATCH(BI_GSd_Avg!$A15,CurrentHeader,0),FALSE)","v":-7.0999999999999994E-2},{"$f":"IF($B$7=\"kWh\",$B$4,$B$5)","v":110},-7.81,{"$f":"VLOOKUP($B$3,'Data Proposed Rates'!$A:$AT,MATCH(BI_GSd_Avg!$A15,ProposedHeader,0),FALSE)","v":-0.76829999999999998},{"$f":"IF($B$7=\"kWh\",$B$4,$B$5)","v":110},-84.513000000000005,-76.703000000000003,-9.8211267605633807]
["Sub-Total A (excluding pass through)",null,null,{"$f":"SUM(D12:D15)","v":2451.5970000000002},null,null,{"$f":"SUM(G12:G15)","v":2494.6280000000002},43.030999999999949,1.7552232279612001E-2]
["Line Losses on Cost of Power",0,{"$f":"IF(B$17=0,0,B$4*B$6-B$4)","v":0},{"$f":"C17*B17","v":0},0,{"$f":"IF(E$17=0,0,E$4*E$6-E$4)","v":0},0,0,"N/A"]
["Total Deferral/Variance Account Rate Rider",{"$f":"VLOOKUP($B$3,'Data Current Rates'!$A:$AO,MATCH(BI_GSd_Avg!$A18,CurrentHeader,0),FALSE)","v":-1.0952999999999999},{"$f":"IF($B$7=\"kWh\",$B$4,$B$5)","v":110},-120.48299999999999,{"$f":"VLOOKUP($B$3,'Data Proposed Rates'!$A:$AT,MATCH(BI_GSd_Avg!$A18,ProposedHeader,0),FALSE)","v":-0.54800000000000004},{"$f":"IF($B$7=\"kWh\",$B$4,$B$5)","v":110},-60.28,60.202999999999989,0.49968045284396961]
["CBR Class B Rate Rider",{"$f":"VLOOKUP($B$3,'Data Current Rates'!$A:$AO,MATCH(BI_GSd_Avg!$A19,CurrentHeader,0),FALSE)","v":1.72E-2},{"$f":"IF($B$7=\"kWh\",$B$4,$B$5)","v":110},{"$f":"C19*B19","v":1.8919999999999999},{"$f":"VLOOKUP($B$3,'Data Proposed Rates'!$A:$AT,MATCH(BI_GSd_Avg!$A19,ProposedHeader,0),FALSE)","v":-0.1893},{"$f":"IF($B$7=\"kWh\",$B$4,$B$5)","v":110},{"$f":"F19*E19","v":-20.823},-22.715,-12.005813953488373]
["GA Rate Rider",{"$f":"VLOOKUP($B$3,'Data Current Rates'!$A:$AO,MATCH(BI_GSd_Avg!$A20,CurrentHeader,0),FALSE)","v":-8.9999999999999998E-4},{"$f":"$B$4","v":34334},{"$f":"C20*B20","v":-30.900600000000001},{"$f":"VLOOKUP($B$3,'Data Proposed Rates'!$A:$AT,MATCH(BI_GSd_Avg!$A20,ProposedHeader,0),FALSE)","v":1.21E-2},{"$f":"$B$4","v":34334},415.44139999999999,446.34199999999998,14.444444444444443]
["Rate Rider for Account 1588",null,null,null,{"$f":"VLOOKUP($B$3,'Data Proposed Rates'!$A:$AT,MATCH(BI_GSd_Avg!$A21,ProposedHeader,0),FALSE)","v":-0.99119999999999997},{"$f":"IF($B$7=\"kWh\",$B$4,$B$5)","v":110},{"$f":"F21*E21","v":-109.032},-109.032,"N/A"]
["Sub-Total B - Distribution (includes Sub-Total A)",null,null,{"$f":"SUM(INDIRECT(\"D16:D\"&ROW()-1))","v":2302.1053999999999},null,null,{"$f":"SUM(INDIRECT(\"G16:G\"&ROW()-1))","v":2719.9344000000001},417.82900000000018,0.18149864033158525]
["Retail Transmission Rate – Network Service Rate",{"$f":"VLOOKUP($B$3,'Data Current Rates'!$A:$AO,MATCH(BI_GSd_Avg!$A23,CurrentHeader,0),FALSE)","v":3.2717000000000001},{"$f":"IF($B$7=\"kWh\",$B$4*$B$6,$B$5)","v":110},{"$f":"C23*B23","v":359.887},{"$f":"VLOOKUP($B$3,'Data Proposed Rates'!$A:$AT,MATCH(BI_GSd_Avg!$A23,ProposedHeader,0),FALSE)","v":3.3593000000000002},{"$f":"IF($B$7=\"kWh\",$B$4*$B$6,$B$5)","v":110},{"$f":"F23*E23","v":369.52300000000002},9.6360000000000241,2.6775071063972925E-2]
["Retail Transmission Rate – Line and Transformation Connection Service Rate",{"$f":"VLOOKUP($B$3,'Data Current Rates'!$A:$AO,MATCH(BI_GSd_Avg!$A24,CurrentHeader,0),FALSE)","v":2.492},{"$f":"IF($B$7=\"kWh\",$B$4*$B$6,$B$5)","v":110},{"$f":"C24*B24","v":274.12},{"$f":"VLOOKUP($B$3,'Data Proposed Rates'!$A:$AT,MATCH(BI_GSd_Avg!$A24,ProposedHeader,0),FALSE)","v":2.5541},{"$f":"IF($B$7=\"kWh\",$B$4*$B$6,$B$5)","v":110},{"$f":"F24*E24","v":280.95100000000002},6.8310000000000173,2.4919743178170205E-2]
["Sub-Total C - Delivery (including Sub-Total B)",null,null,{"$f":"SUM(D22:D24)","v":2936.1124},null,null,{"$f":"SUM(G22:G24)","v":3370.4084000000003},434.29600000000028,0.14791531822828047]
["Wholesale Market Service Rate (WMS) – not including CBR",{"$f":"VLOOKUP($A26,'Data Pass Through'!$A:$D,2,FALSE)","v":4.1000000000000003E-3},{"$f":"$B$4*$B$6","v":36428.373999999996},{"$f":"C26*B26","v":149.35633339999998},{"$f":"VLOOKUP($A26,'Data Pass Through'!$A:$D,3,FALSE)","v":4.1000000000000003E-3},{"$f":"$B$4*$B$6","v":36428.373999999996},{"$f":"F26*E26","v":149.35633339999998},0,0]
["Capacity Based Recovery (CBR) – Applicable for Class B Customers",{"$f":"VLOOKUP($A27,'Data Pass Through'!$A:$D,2,FALSE)","v":5.9999999999999995E-4},{"$f":"$B$4*$B$6","v":36428.373999999996},21.857024399999997,{"$f":"VLOOKUP($A27,'Data Pass Through'!$A:$D,3,FALSE)","v":5.9999999999999995E-4},36428.373999999996,21.857024399999997,0,0]
["Rural Rate Protection Charge",{"$f":"VLOOKUP($A28,'Data Pass Through'!$A:$D,2,FALSE)","v":5.9999999999999995E-4},36428.373999999996,21.857024399999997,{"$f":"VLOOKUP($A28,'Data Pass Through'!$A:$D,3,FALSE)","v":5.9999999999999995E-4},36428.373999999996,21.857024399999997,0,0]
["Standard Supply Service – Administration Charge (if applicable)",{"$f":"VLOOKUP($A29,'Data Pass Through'!$A:$D,2,FALSE)","v":0.25},1,0.25,{"$f":"VLOOKUP($A29,'Data Pass Through'!$A:$D,3,FALSE)","v":0.25},1,0.25,0,0]
["Average IESO Wholesale Market Price",{"$f":"VLOOKUP(A30,'Data Pass Through'!A4:C19,2,0)","v":0.15959999999999999},{"$f":"$B$4*$B$6","v":36428.373999999996},{"$f":"C30*B30","v":5813.9684903999987},{"$f":"VLOOKUP($A30,'Data Pass Through'!$A:$D,3,FALSE)","v":0.15959999999999999},{"$f":"$B$4*$B$6","v":36428.373999999996},5813.9684903999987,{"$f":"G30-D30","v":0},0]
["Total Bill on Average IESO Wholesale Market Price (before Taxes)",null,null,{"$f":"SUM(D25:D30)","v":8943.4012725999983},null,null,{"$f":"SUM(G25:G30)","v":9377.6972725999985},{"$f":"G31-D31","v":434.29600000000028},4.8560495807177737E-2]
["HST",0.13,null,{"$f":"D31*B32","v":1162.6421654379999},0.13,null,{"$f":"G31*E32","v":1219.1006454379999},{"$f":"G32-D32","v":56.458480000000009},4.8560495807177709E-2]
["Ontario Electricity Rebate (OER)",{"$f":"IF(($B$4*12)<250000,VLOOKUP(A33,'Data Pass Through'!$A$4:$C$19,2,0),0)","v":0},null,{"$f":"D31*B33","v":0},{"$f":"IF(($B$4*12)<250000,VLOOKUP(A33,'Data Pass Through'!$A$4:$C$19,3,0),0)","v":0},null,{"$f":"G31*E33","v":0},{"$f":"G33-D33","v":0},"N/A"]
["Total Bill on Average IESO Wholesale Market Price",null,null,{"$f":"SUM(D31:D33)","v":10106.043438037997},null,null,{"$f":"SUM(G31:G33)","v":10596.797918037999},{"$f":"G34-D34","v":490.75448000000142},4.8560495807177854E-2]

{"sheet":"BI_UGd_Avg","index":23,"n_rows":34,"n_cols":9,"rows_kept":34,"cut":false,"hidden":false,"merged":[[0,0,0,9],[8,1,8,3],[8,4,8,6],[8,7,8,8]]}
["Bill Impacts (Average Consumption Level) - UGd"]
[]
["Rate Class",{"$f":"RIGHT(A1,LEN(A1)-FIND(\"- \",A1,1)-1)","v":"UGd"}]
["Monthly Consumption (kWh)",{"$f":"IF(COUNTIF(A1,\"*Low*\")>0,VLOOKUP(B3,'Data Billing Quantities'!$A:$Z,MATCH(\"Low kWh\",'Data Billing Quantities'!4:4,0),FALSE),IF(COUNTIF(A1,\"*Typical*\")>0,VLOOKUP(B3,'Data Billing Quantities'!$A:$Z,MATCH(\"Typical kWh\",'Data Billing Quantities'!4:4,0),FALSE),IF(COUNTIF(A1,\"*Average*\")>0,VLOOKUP(B3,'Data Billing Quantities'!$A:$Z,MATCH(\"Average kWh\",'Data Billing Quantities'!4:4,0),FALSE),IF(COUNTIF(A1,\"*High*\")>0,VLOOKUP(B3,'Data Billing Quantities'!$A:$Z,MATCH(\"High kWh\",'Data Billing Quantities'!4:4,0),FALSE),\"error\"))))","v":42592}]
["Peak (kW)",{"$f":"IF(COUNTIF(A1,\"*Low*\")>0,VLOOKUP(B3,'Data Billing Quantities'!$A:$Z,MATCH(\"Low kW\",'Data Billing Quantities'!4:4,0),FALSE),IF(COUNTIF(A1,\"*Typical*\")>0,VLOOKUP(B3,'Data Billing Quantities'!$A:$Z,MATCH(\"Typical kW\",'Data Billing Quantities'!4:4,0),FALSE),IF(COUNTIF(A1,\"*Average*\")>0,VLOOKUP(B3,'Data Billing Quantities'!$A:$Z,MATCH(\"Average kW\",'Data Billing Quantities'!4:4,0),FALSE),IF(COUNTIF(A1,\"*High*\")>0,VLOOKUP(B3,'Data Billing Quantities'!$A:$Z,MATCH(\"High kW\",'Data Billing Quantities'!4:4,0),FALSE),\"error\"))))","v":111}]
["Loss factor",{"$f":"VLOOKUP(B3,'Data Billing Quantities'!A:D,MATCH(A6,'Data Billing Quantities'!4:4,0),FALSE)","v":1.05}]
["Charge determinant",{"$f":"VLOOKUP(B3,'Data Billing Quantities'!A:D,MATCH(A7,'Data Billing Quantities'!4:4,0),FALSE)","v":"kW"}]
[]
[null,"Current OEB-Approved",null,null,"Proposed",null,null,"Impact"]
[null,"Rate","Volume","Charge","Rate","Volume","Charge","$ Change","% Change"]
[null,"($)",null,"($)","($)",null,"($)"]
["Service Charge",{"$f":"VLOOKUP($B$3,'Data Current Rates'!$A:$AO,MATCH(BI_UGd_Avg!$A12,CurrentHeader,0),FALSE)","v":96.47},1,{"$f":"C12*B12","v":96.47},{"$f":"VLOOKUP($B$3,'Data Proposed Rates'!$A:$AT,MATCH(BI_UGd_Avg!$A12,ProposedHeader,0),FALSE)","v":96.47},1,{"$f":"F12*E12","v":96.47},{"$f":"G12-D12","v":0},{"$f":"IF(ISERROR(H12/ABS(D12)),\"N/A\",(H12/ABS(D12)))","v":0}]
["Distribution Volumetric Charge",{"$f":"VLOOKUP($B$3,'Data Current Rates'!$A:$AO,MATCH(BI_UGd_Avg!$A13,CurrentHeader,0),FALSE)","v":12.441599999999999},{"$f":"IF($B$7=\"kWh\",$B$4,$B$5)","v":111},{"$f":"C13*B13","v":1381.0175999999999},{"$f":"VLOOKUP($B$3,'Data Proposed Rates'!$A:$AT,MATCH(BI_UGd_Avg!$A13,ProposedHeader,0),FALSE)","v":13.1059},{"$f":"IF($B$7=\"kWh\",$B$4,$B$5)","v":111},{"$f":"F13*E13","v":1454.7548999999999},73.737300000000005,5.3393454218107005E-2]
["Group 2 Fixed Rate Rider",{"$f":"VLOOKUP($B$3,'Data Current Rates'!$A:$AO,MATCH(BI_UGd_Avg!$A14,CurrentHeader,0),FALSE)","v":0},1,0,{"$f":"VLOOKUP($B$3,'Data Proposed Rates'!$A:$AT,MATCH(BI_UGd_Avg!$A14,ProposedHeader,0),FALSE)","v":-3.31},1,{"$f":"F14*E14","v":-3.31},-3.31,"N/A"]
["Group 2 Volumetric Rate Rider",{"$f":"VLOOKUP($B$3,'Data Current Rates'!$A:$AO,MATCH(BI_UGd_Avg!$A15,CurrentHeader,0),FALSE)","v":-4.2099999999999999E-2},{"$f":"IF($B$7=\"kWh\",$B$4,$B$5)","v":111},-4.6730999999999998,{"$f":"VLOOKUP($B$3,'Data Proposed Rates'!$A:$AT,MATCH(BI_UGd_Avg!$A15,ProposedHeader,0),FALSE)","v":-0.44490000000000002},{"$f":"IF($B$7=\"kWh\",$B$4,$B$5)","v":111},-49.383900000000004,-44.710800000000006,-9.567695961995252]
["Sub-Total A (excluding pass through)",null,null,{"$f":"SUM(D12:D15)","v":1472.8145},null,null,{"$f":"SUM(G12:G15)","v":1498.5309999999999},25.716499999999996,1.7460786813274853E-2]
["Line Losses on Cost of Power",0,{"$f":"IF(B$17=0,0,B$4*B$6-B$4)","v":0},{"$f":"C17*B17","v":0},0,{"$f":"IF(E$17=0,0,E$4*E$6-E$4)","v":0},0,0,"N/A"]
["Total Deferral/Variance Account Rate Rider",{"$f":"VLOOKUP($B$3,'Data Current Rates'!$A:$AO,MATCH(BI_UGd_Avg!$A18,CurrentHeader,0),FALSE)","v":-1.3523000000000001},{"$f":"IF($B$7=\"kWh\",$B$4,$B$5)","v":111},-150.1053,{"$f":"VLOOKUP($B$3,'Data Proposed Rates'!$A:$AT,MATCH(BI_UGd_Avg!$A18,ProposedHeader,0),FALSE)","v":-0.6603},{"$f":"IF($B$7=\"kWh\",$B$4,$B$5)","v":111},-73.293300000000002,76.811999999999998,0.51172077201804334]
["CBR Class B Rate Rider",{"$f":"VLOOKUP($B$3,'Data Current Rates'!$A:$AO,MATCH(BI_UGd_Avg!$A19,CurrentHeader,0),FALSE)","v":2.12E-2},{"$f":"IF($B$7=\"kWh\",$B$4,$B$5)","v":111},{"$f":"C19*B19","v":2.3532000000000002},{"$f":"VLOOKUP($B$3,'Data Proposed Rates'!$A:$AT,MATCH(BI_UGd_Avg!$A19,ProposedHeader,0),FALSE)","v":-0.23530000000000001},{"$f":"IF($B$7=\"kWh\",$B$4,$B$5)","v":111},{"$f":"F19*E19","v":-26.118300000000001},-28.471500000000002,-12.099056603773585]
["GA Rate Rider",{"$f":"VLOOKUP($B$3,'Data Current Rates'!$A:$AO,MATCH(BI_UGd_Avg!$A20,CurrentHeader,0),FALSE)","v":-8.9999999999999998E-4},{"$f":"$B$4","v":42592},{"$f":"C20*B20","v":-38.332799999999999},{"$f":"VLOOKUP($B$3,'Data Proposed Rates'!$A:$AT,MATCH(BI_UGd_Avg!$A20,ProposedHeader,0),FALSE)","v":1.21E-2},{"$f":"$B$4","v":42592},515.36320000000001,553.69600000000003,14.444444444444446]
["Rate Rider for Account 1588",null,null,null,{"$f":"VLOOKUP($B$3,'Data Proposed Rates'!$A:$AT,MATCH(BI_UGd_Avg!$A21,ProposedHeader,0),FALSE)","v":-1.2267999999999999},{"$f":"IF($B$7=\"kWh\",$B$4,$B$5)","v":111},{"$f":"F21*E21","v":-136.17479999999998},-136.17479999999998,"N/A"]
["Sub-Total B - Distribution (includes Sub-Total A)",null,null,{"$f":"SUM(INDIRECT(\"D16:D\"&ROW()-1))","v":1286.7296000000001},null,null,{"$f":"SUM(INDIRECT(\"G16:G\"&ROW()-1))","v":1778.3077999999998},491.5781999999997,0.38203690969726634]
["Retail Transmission Rate – Network Service Rate",{"$f":"VLOOKUP($B$3,'Data Current Rates'!$A:$AO,MATCH(BI_UGd_Avg!$A23,CurrentHeader,0),FALSE)","v":4.1818999999999997},{"$f":"IF($B$7=\"kWh\",$B$4*$B$6,$B$5)","v":111},{"$f":"C23*B23","v":464.19089999999994},{"$f":"VLOOKUP($B$3,'Data Proposed Rates'!$A:$AT,MATCH(BI_UGd_Avg!$A23,ProposedHeader,0),FALSE)","v":4.2939999999999996},{"$f":"IF($B$7=\"kWh\",$B$4*$B$6,$B$5)","v":111},{"$f":"F23*E23","v":476.63399999999996},12.443100000000015,2.6805997273966417E-2]
["Retail Transmission Rate – Line and Transformation Connection Service Rate",{"$f":"VLOOKUP($B$3,'Data Current Rates'!$A:$AO,MATCH(BI_UGd_Avg!$A24,CurrentHeader,0),FALSE)","v":3.1305999999999998},{"$f":"IF($B$7=\"kWh\",$B$4*$B$6,$B$5)","v":111},{"$f":"C24*B24","v":347.4966},{"$f":"VLOOKUP($B$3,'Data Proposed Rates'!$A:$AT,MATCH(BI_UGd_Avg!$A24,ProposedHeader,0),FALSE)","v":3.2086999999999999},{"$f":"IF($B$7=\"kWh\",$B$4*$B$6,$B$5)","v":111},{"$f":"F24*E24","v":356.16570000000002},8.6691000000000145,2.49472944483486E-2]
["Sub-Total C - Delivery (including Sub-Total B)",null,null,{"$f":"SUM(D22:D24)","v":2098.4171000000001},null,null,{"$f":"SUM(G22:G24)","v":2611.1074999999996},512.6903999999995,0.24432244666706132]
["Wholesale Market Service Rate (WMS) – not including CBR",{"$f":"VLOOKUP($A26,'Data Pass Through'!$A:$D,2,FALSE)","v":4.1000000000000003E-3},{"$f":"$B$4*$B$6","v":44721.599999999999},{"$f":"C26*B26","v":183.35856000000001},{"$f":"VLOOKUP($A26,'Data Pass Through'!$A:$D,3,FALSE)","v":4.1000000000000003E-3},{"$f":"$B$4*$B$6","v":44721.599999999999},{"$f":"F26*E26","v":183.35856000000001},0,0]
["Capacity Based Recovery (CBR) – Applicable for Class B Customers",{"$f":"VLOOKUP($A27,'Data Pass Through'!$A:$D,2,FALSE)","v":5.9999999999999995E-4},{"$f":"$B$4*$B$6","v":44721.599999999999},26.832959999999996,{"$f":"VLOOKUP($A27,'Data Pass Through'!$A:$D,3,FALSE)","v":5.9999999999999995E-4},44721.599999999999,26.832959999999996,0,0]
["Rural Rate Protection Charge",{"$f":"VLOOKUP($A28,'Data Pass Through'!$A:$D,2,FALSE)","v":5.9999999999999995E-4},44721.599999999999,26.832959999999996,{"$f":"VLOOKUP($A28,'Data Pass Through'!$A:$D,3,FALSE)","v":5.9999999999999995E-4},44721.599999999999,26.832959999999996,0,0]
["Standard Supply Service – Administration Charge (if applicable)",{"$f":"VLOOKUP($A29,'Data Pass Through'!$A:$D,2,FALSE)","v":0.25},1,0.25,{"$f":"VLOOKUP($A29,'Data Pass Through'!$A:$D,3,FALSE)","v":0.25},1,0.25,0,0]
["Average IESO Wholesale Market Price",{"$f":"VLOOKUP(A30,'Data Pass Through'!A4:C19,2,0)","v":0.15959999999999999},{"$f":"$B$4*$B$6","v":44721.599999999999},{"$f":"C30*B30","v":7137.5673599999991},{"$f":"VLOOKUP($A30,'Data Pass Through'!$A:$D,3,FALSE)","v":0.15959999999999999},{"$f":"$B$4*$B$6","v":44721.599999999999},7137.5673599999991,{"$f":"G30-D30","v":0},0]
["Total Bill on Average IESO Wholesale Market Price (before Taxes)",null,null,{"$f":"SUM(D25:D30)","v":9473.2589399999997},null,null,{"$f":"SUM(G25:G30)","v":9985.9493399999992},{"$f":"G31-D31","v":512.6903999999995},5.4119749417511381E-2]
["HST",0.13,null,{"$f":"D31*B32","v":1231.5236622},0.13,null,{"$f":"G31*E32","v":1298.1734142},{"$f":"G32-D32","v":66.649752000000035},5.4119749417511465E-2]
["Ontario Electricity Rebate (OER)",{"$f":"IF(($B$4*12)<250000,VLOOKUP(A33,'Data Pass Through'!$A$4:$C$19,2,0),0)","v":0},null,{"$f":"D31*B33","v":0},{"$f":"IF(($B$4*12)<250000,VLOOKUP(A33,'Data Pass Through'!$A$4:$C$19,3,0),0)","v":0},null,{"$f":"G31*E33","v":0},{"$f":"G33-D33","v":0},"N/A"]
["Total Bill on Average IESO Wholesale Market Price",null,null,{"$f":"SUM(D31:D33)","v":10704.782602199999},null,null,{"$f":"SUM(G31:G33)","v":11284.1227542},{"$f":"G34-D34","v":579.34015200000067},5.4119749417511506E-2]

{"sheet":"BI_StLgt_Avg","index":24,"n_rows":35,"n_cols":9,"rows_kept":35,"cut":false,"hidden":false,"merged":[[0,0,0,10],[8,0,9,0],[8,1,8,3],[8,4,8,6],[8,7,8,8]]}
["Bill Impacts (Average Consumption Level) - St Lgt"]
[]
["Rate Class",{"$f":"RIGHT(A1,LEN(A1)-FIND(\"- \",A1,1)-1)","v":"St Lgt"}]
["Monthly Consumption (kWh)",{"$f":"IF(COUNTIF(A1,\"*Low*\")>0,VLOOKUP(B3,'Data Billing Quantities'!$A:$Z,MATCH(\"Low kWh\",'Data Billing Quantities'!4:4,0),FALSE),IF(COUNTIF(A1,\"*Typical*\")>0,VLOOKUP(B3,'Data Billing Quantities'!$A:$Z,MATCH(\"Typical kWh\",'Data Billing Quantities'!4:4,0),FALSE),IF(COUNTIF(A1,\"*Average*\")>0,VLOOKUP(B3,'Data Billing Quantities'!$A:$Z,MATCH(\"Average kWh\",'Data Billing Quantities'!4:4,0),FALSE),IF(COUNTIF(A1,\"*High*\")>0,VLOOKUP(B3,'Data Billing Quantities'!$A:$Z,MATCH(\"High kWh\",'Data Billing Quantities'!4:4,0),FALSE),\"error\"))))","v":1274}]
["Peak (kW)",{"$f":"IF(COUNTIF(A1,\"*Low*\")>0,VLOOKUP(B3,'Data Billing Quantities'!$A:$Z,MATCH(\"Low kW\",'Data Billing Quantities'!4:4,0),FALSE),IF(COUNTIF(A1,\"*Typical*\")>0,VLOOKUP(B3,'Data Billing Quantities'!$A:$Z,MATCH(\"Typical kW\",'Data Billing Quantities'!4:4,0),FALSE),IF(COUNTIF(A1,\"*Average*\")>0,VLOOKUP(B3,'Data Billing Quantities'!$A:$Z,MATCH(\"Average kW\",'Data Billing Quantities'!4:4,0),FALSE),IF(COUNTIF(A1,\"*High*\")>0,VLOOKUP(B3,'Data Billing Quantities'!$A:$Z,MATCH(\"High kW\",'Data Billing Quantities'!4:4,0),FALSE),\"error\"))))","v":0}]
["Loss factor",{"$f":"VLOOKUP(B3,'Data Billing Quantities'!A:D,MATCH(A6,'Data Billing Quantities'!4:4,0),FALSE)","v":1.0920000000000001}]
["Charge determinant",{"$f":"VLOOKUP(B3,'Data Billing Quantities'!A:D,MATCH(A7,'Data Billing Quantities'!4:4,0),FALSE)","v":"kWh"}]
[]
[null,"Current OEB-Approved",null,null,"Proposed",null,null,"Impact"]
[null,"Rate ($)","Volume","Charge ($)","Rate ($)","Volume","Charge ($)","$ Change","% Change"]
["Service Charge",{"$f":"VLOOKUP($B$3,'Data Current Rates'!$A:$AO,MATCH(BI_StLgt_Avg!$A11,CurrentHeader,0),FALSE)","v":3.31},1,{"$f":"B11*C11","v":3.31},{"$f":"VLOOKUP($B$3,'Data Proposed Rates'!$A:$AT,MATCH(BI_StLgt_Avg!$A11,ProposedHeader,0),FALSE)","v":3.42},1,{"$f":"E11*F11","v":3.42},{"$f":"G11-D11","v":0.10999999999999988},{"$f":"IF(ISERROR(H11/ABS(D11)),\"N/A\",(H11/ABS(D11)))","v":3.32326283987915E-2}]
["Distribution Volumetric Charge",{"$f":"VLOOKUP($B$3,'Data Current Rates'!$A:$AO,MATCH(BI_StLgt_Avg!$A12,CurrentHeader,0),FALSE)","v":0.1235},{"$f":"IF($B$7=\"kWh\",$B$4,$B$5)","v":1274},{"$f":"B12*C12","v":157.339},{"$f":"VLOOKUP($B$3,'Data Proposed Rates'!$A:$AT,MATCH(BI_StLgt_Avg!$A12,ProposedHeader,0),FALSE)","v":0.12970000000000001},{"$f":"IF($B$7=\"kWh\",$B$4,$B$5)","v":1274},165.23780000000002,7.8988000000000227,5.0202429149797716E-2]
["Group 2 Fixed Rate Rider",{"$f":"VLOOKUP($B$3,'Data Current Rates'!$A:$AO,MATCH(BI_StLgt_Avg!$A13,CurrentHeader,0),FALSE)","v":0},1,{"$f":"B13*C13","v":0},{"$f":"VLOOKUP($B$3,'Data Proposed Rates'!$A:$AT,MATCH(BI_StLgt_Avg!$A13,ProposedHeader,0),FALSE)","v":-0.12},1,-0.12,-0.12,"N/A"]
["Group 2 Volumetric Rate Rider",{"$f":"VLOOKUP($B$3,'Data Current Rates'!$A:$AO,MATCH(BI_StLgt_Avg!$A14,CurrentHeader,0),FALSE)","v":-4.0000000000000002E-4},{"$f":"IF($B$7=\"kWh\",$B$4,$B$5)","v":1274},{"$f":"B14*C14","v":-0.50960000000000005},{"$f":"VLOOKUP($B$3,'Data Proposed Rates'!$A:$AT,MATCH(BI_StLgt_Avg!$A14,ProposedHeader,0),FALSE)","v":-4.4000000000000003E-3},{"$f":"IF($B$7=\"kWh\",$B$4,$B$5)","v":1274},-5.6055999999999999,-5.0960000000000001,-10]
["Sub-Total A (excluding pass through)",null,null,{"$f":"SUM(D11:D14)","v":160.13939999999999},null,null,{"$f":"SUM(G11:G14)","v":162.93219999999999},2.7927999999999997,1.743980556939766E-2]
["Line Losses on Cost of Power",{"$f":"IF($B$4*12>=150000,0,IF($B$4>=750,$B30,$B29))","v":0.14199999999999999},{"$f":"IF($B16=0,0,$B4*$B6-$B4)","v":117.20800000000008},{"$f":"B16*C16","v":16.643536000000012},{"$f":"IF($B$4*12>=150000,0,IF($B$4>=750,$E30,$E29))","v":0.14199999999999999},{"$f":"IF($B16=0,0,$B4*$B6-$B4)","v":117.20800000000008},16.643536000000012,0,0]
["Total Deferral/Variance Account Rate Rider",{"$f":"VLOOKUP($B$3,'Data Current Rates'!$A:$AO,MATCH(BI_StLgt_Avg!$A17,CurrentHeader,0),FALSE)","v":-3.5999999999999999E-3},{"$f":"IF($B$7=\"kWh\",$B$4,$B$5)","v":1274},-4.5864000000000003,{"$f":"VLOOKUP($B$3,'Data Proposed Rates'!$A:$AT,MATCH(BI_StLgt_Avg!$A17,ProposedHeader,0),FALSE)","v":-1.8E-3},{"$f":"IF($B$7=\"kWh\",$B$4,$B$5)","v":1274},-2.2932000000000001,2.2932000000000001,0.5]
["CBR Class B Rate Rider",{"$f":"VLOOKUP($B$3,'Data Current Rates'!$A:$AO,MATCH(BI_StLgt_Avg!$A18,CurrentHeader,0),FALSE)","v":1E-4},{"$f":"IF($B$7=\"kWh\",$B$4,$B$5)","v":1274},0.12740000000000001,{"$f":"VLOOKUP($B$3,'Data Proposed Rates'!$A:$AT,MATCH(BI_StLgt_Avg!$A18,ProposedHeader,0),FALSE)","v":-5.9999999999999995E-4},{"$f":"IF($B$7=\"kWh\",$B$4,$B$5)","v":1274},-0.76439999999999997,-0.89179999999999993,-6.9999999999999991]
["GA Rate Rider",{"$f":"VLOOKUP($B$3,'Data Current Rates'!$A:$AO,MATCH(BI_StLgt_Avg!$A19,CurrentHeader,0),FALSE)","v":0},{"$f":"IF($B$7=\"kWh\",$B$4,$B$5)","v":1274},0,{"$f":"VLOOKUP($B$3,'Data Proposed Rates'!$A:$AT,MATCH(BI_StLgt_Avg!$A19,ProposedHeader,0),FALSE)","v":0},{"$f":"IF($B$7=\"kWh\",$B$4,$B$5)","v":1274},0,0,"N/A"]
["Rate Rider for Account 1588",null,null,null,{"$f":"VLOOKUP($B$3,'Data Proposed Rates'!$A:$AT,MATCH(BI_StLgt_Avg!$A20,ProposedHeader,0),FALSE)","v":-3.2000000000000002E-3},{"$f":"IF($B$7=\"kWh\",$B$4,$B$5)","v":1274},-4.0768000000000004,-4.0768000000000004,"N/A"]
["Sub-Total B - Distribution (includes Sub-Total A)",null,null,{"$f":"SUM(INDIRECT(\"D15:D\"&ROW()-1))","v":172.323936},null,null,{"$f":"SUM(INDIRECT(\"G15:G\"&ROW()-1))","v":172.44133600000001},0.1174000000000035,6.8127506094106107E-4]
["Retail Transmission Rate – Network Service Rate",{"$f":"VLOOKUP($B$3,'Data Current Rates'!$A:$AO,MATCH(BI_StLgt_Avg!$A22,CurrentHeader,0),FALSE)","v":7.4000000000000003E-3},{"$f":"IF($B$7=\"kWh\",$B$4*$B$6,$B$5)","v":1391.2080000000001},{"$f":"B22*C22","v":10.294939200000002},{"$f":"VLOOKUP($B$3,'Data Proposed Rates'!$A:$AT,MATCH(BI_StLgt_Avg!$A22,ProposedHeader,0),FALSE)","v":7.6E-3},{"$f":"IF($B$7=\"kWh\",$B$4*$B$6,$B$5)","v":1391.2080000000001},10.573180800000001,0.27824159999999942,2.7027027027026966E-2]
["Retail Transmission Rate – Line and Transformation Connection Service Rate",{"$f":"VLOOKUP($B$3,'Data Current Rates'!$A:$AO,MATCH(BI_StLgt_Avg!$A23,CurrentHeader,0),FALSE)","v":5.7000000000000002E-3},{"$f":"IF($B$7=\"kWh\",$B$4*$B$6,$B$5)","v":1391.2080000000001},7.9298856000000004,{"$f":"VLOOKUP($B$3,'Data Proposed Rates'!$A:$AT,MATCH(BI_StLgt_Avg!$A23,ProposedHeader,0),FALSE)","v":5.7999999999999996E-3},{"$f":"IF($B$7=\"kWh\",$B$4*$B$6,$B$5)","v":1391.2080000000001},8.0690063999999992,0.13912079999999882,1.7543859649122657E-2]
["Sub-Total C - Delivery (including Sub-Total B)",null,null,{"$f":"SUM(D21:D23)","v":190.5487608},null,null,{"$f":"SUM(G21:G23)","v":191.0835232},0.5347624000000053,2.8064333651652133E-3]
["Wholesale Market Service Rate (WMS) – not including CBR",{"$f":"VLOOKUP($A25,'Data Pass Through'!$A:$D,2,FALSE)","v":4.1000000000000003E-3},{"$f":"$B$4*$B$6","v":1391.2080000000001},{"$f":"B25*C25","v":5.7039528000000006},{"$f":"VLOOKUP($A25,'Data Pass Through'!$A:$D,3,FALSE)","v":4.1000000000000003E-3},{"$f":"$B$4*$B$6","v":1391.2080000000001},5.7039528000000006,0,0]
["Capacity Based Recovery (CBR) – Applicable for Class B Customers",{"$f":"VLOOKUP($A26,'Data Pass Through'!$A:$D,2,FALSE)","v":5.9999999999999995E-4},{"$f":"$B$4*$B$6","v":1391.2080000000001},0.83472479999999993,{"$f":"VLOOKUP($A26,'Data Pass Through'!$A:$D,3,FALSE)","v":5.9999999999999995E-4},{"$f":"$B$4*$B$6","v":1391.2080000000001},0.83472479999999993,0,0]
["Rural Rate Protection Charge",{"$f":"VLOOKUP($A27,'Data Pass Through'!$A:$D,2,FALSE)","v":5.9999999999999995E-4},{"$f":"$B$4*$B$6","v":1391.2080000000001},0.83472479999999993,{"$f":"VLOOKUP($A27,'Data Pass Through'!$A:$D,3,FALSE)","v":5.9999999999999995E-4},{"$f":"$B$4*$B$6","v":1391.2080000000001},0.83472479999999993,0,0]
["Standard Supply Service – Administration Charge (if applicable)",{"$f":"VLOOKUP($A28,'Data Pass Through'!$A:$D,2,FALSE)","v":0.25},1,0.25,{"$f":"VLOOKUP($A28,'Data Pass Through'!$A:$D,3,FALSE)","v":0.25},1,0.25,0,0]
["RPP Tier 1",{"$f":"VLOOKUP($A29,'Data Pass Through'!$A:$D,2,FALSE)","v":0.12},{"$f":"IF(($B4*12>=150000),750,IF($B4>=750,750,$B4))","v":750},90,{"$f":"VLOOKUP($A29,'Data Pass Through'!$A:$D,3,FALSE)","v":0.12},{"$f":"IF(($B4*12>=150000),750,IF($B4>=750,750,$B4))","v":750},90,0,0]
["RPP Tier 2",{"$f":"VLOOKUP($A30,'Data Pass Through'!$A:$D,2,FALSE)","v":0.14199999999999999},{"$f":"IF(($B4*12>=150000),($B4*$B6)-750,IF($B4>=750,($B4-750),0))","v":524},74.407999999999987,{"$f":"VLOOKUP($A30,'Data Pass Through'!$A:$D,3,FALSE)","v":0.14199999999999999},{"$f":"IF(($B4*12>=150000),($B4*$B6)-750,IF($B4>=750,($B4-750),0))","v":524},74.407999999999987,0,0]
["Total Bill on Two-Tier RPP (before Taxes)",null,null,{"$f":"SUM(D24:D30)","v":362.58016320000002},null,null,{"$f":"SUM(G24:G30)","v":363.11492559999999},0.53476239999997688,1.4748804658268101E-3]
["HST",0.13,null,{"$f":"D31*B32","v":47.135421216000005},{"$f":"B32","v":0.13},null,{"$f":"G31*E32","v":47.204940327999999},6.951911199999472E-2,1.474880465826762E-3]
["Ontario Electricity Rebate (OER)",{"$f":"IF(($B$4*12)<250000,VLOOKUP(A33,'Data Pass Through'!$A$4:$C$19,2,0),0)","v":-0.23499999999999999},null,{"$f":"D31*B33","v":-85.206338352000003},{"$f":"IF(($B$4*12)<250000,VLOOKUP($A33,'Data Pass Through'!$A$4:$C$19,3,0),0)","v":-0.23499999999999999},null,{"$f":"G31*E33","v":-85.33200751599999},-0.12566916399998718,-1.4748804658267234E-3]
["Total Bill on Two-Tier RPP",null,null,{"$f":"SUM(D31:D33)","v":324.50924606400002},null,null,{"$f":"SUM(G31:G33)","v":324.98785841200004},0.47861234800001284,1.4748804658269135E-3]
["* Distribution rate protection applies to R1 and R2 customers"]

{"sheet":"BI_SenLgt_Avg","index":25,"n_rows":35,"n_cols":9,"rows_kept":35,"cut":false,"hidden":false,"merged":[[0,0,0,10],[8,0,9,0],[8,1,8,3],[8,4,8,6],[8,7,8,8]]}
["Bill Impacts (Average Consumption Level) - Sen Lgt"]
[]
["Rate Class",{"$f":"RIGHT(A1,LEN(A1)-FIND(\"- \",A1,1)-1)","v":"Sen Lgt"}]
["Monthly Consumption (kWh)",{"$f":"IF(COUNTIF(A1,\"*Low*\")>0,VLOOKUP(B3,'Data Billing Quantities'!$A:$Z,MATCH(\"Low kWh\",'Data Billing Quantities'!4:4,0),FALSE),IF(COUNTIF(A1,\"*Typical*\")>0,VLOOKUP(B3,'Data Billing Quantities'!$A:$Z,MATCH(\"Typical kWh\",'Data Billing Quantities'!4:4,0),FALSE),IF(COUNTIF(A1,\"*Average*\")>0,VLOOKUP(B3,'Data Billing Quantities'!$A:$Z,MATCH(\"Average kWh\",'Data Billing Quantities'!4:4,0),FALSE),IF(COUNTIF(A1,\"*High*\")>0,VLOOKUP(B3,'Data Billing Quantities'!$A:$Z,MATCH(\"High kWh\",'Data Billing Quantities'!4:4,0),FALSE),\"error\"))))","v":49}]
["Peak (kW)",{"$f":"IF(COUNTIF(A1,\"*Low*\")>0,VLOOKUP(B3,'Data Billing Quantities'!$A:$Z,MATCH(\"Low kW\",'Data Billing Quantities'!4:4,0),FALSE),IF(COUNTIF(A1,\"*Typical*\")>0,VLOOKUP(B3,'Data Billing Quantities'!$A:$Z,MATCH(\"Typical kW\",'Data Billing Quantities'!4:4,0),FALSE),IF(COUNTIF(A1,\"*Average*\")>0,VLOOKUP(B3,'Data Billing Quantities'!$A:$Z,MATCH(\"Average kW\",'Data Billing Quantities'!4:4,0),FALSE),IF(COUNTIF(A1,\"*High*\")>0,VLOOKUP(B3,'Data Billing Quantities'!$A:$Z,MATCH(\"High kW\",'Data Billing Quantities'!4:4,0),FALSE),\"error\"))))","v":0}]
["Loss factor",{"$f":"VLOOKUP(B3,'Data Billing Quantities'!A:D,MATCH(A6,'Data Billing Quantities'!4:4,0),FALSE)","v":1.0920000000000001}]
["Charge determinant",{"$f":"VLOOKUP(B3,'Data Billing Quantities'!A:D,MATCH(A7,'Data Billing Quantities'!4:4,0),FALSE)","v":"kWh"}]
[]
[null,"Current OEB-Approved",null,null,"Proposed",null,null,"Impact"]
[null,"Rate ($)","Volume","Charge ($)","Rate ($)","Volume","Charge ($)","$ Change","% Change"]
["Service Charge",{"$f":"VLOOKUP($B$3,'Data Current Rates'!$A:$AO,MATCH(BI_SenLgt_Avg!$A11,CurrentHeader,0),FALSE)","v":3.37},1,{"$f":"B11*C11","v":3.37},{"$f":"VLOOKUP($B$3,'Data Proposed Rates'!$A:$AT,MATCH(BI_SenLgt_Avg!$A11,ProposedHeader,0),FALSE)","v":3.51},1,{"$f":"E11*F11","v":3.51},{"$f":"G11-D11","v":0.13999999999999968},{"$f":"IF(ISERROR(H11/ABS(D11)),\"N/A\",(H11/ABS(D11)))","v":4.1543026706231355E-2}]
["Distribution Volumetric Charge",{"$f":"VLOOKUP($B$3,'Data Current Rates'!$A:$AO,MATCH(BI_SenLgt_Avg!$A12,CurrentHeader,0),FALSE)","v":0.19009999999999999},{"$f":"IF($B$7=\"kWh\",$B$4,$B$5)","v":49},{"$f":"B12*C12","v":9.3148999999999997},{"$f":"VLOOKUP($B$3,'Data Proposed Rates'!$A:$AT,MATCH(BI_SenLgt_Avg!$A12,ProposedHeader,0),FALSE)","v":0.20019999999999999},{"$f":"IF($B$7=\"kWh\",$B$4,$B$5)","v":49},9.8097999999999992,0.49489999999999945,5.3129931614939445E-2]
["Group 2 Fixed Rate Rider",{"$f":"VLOOKUP($B$3,'Data Current Rates'!$A:$AO,MATCH(BI_SenLgt_Avg!$A13,CurrentHeader,0),FALSE)","v":0},1,{"$f":"B13*C13","v":0},{"$f":"VLOOKUP($B$3,'Data Proposed Rates'!$A:$AT,MATCH(BI_SenLgt_Avg!$A13,ProposedHeader,0),FALSE)","v":-0.12},1,-0.12,-0.12,"N/A"]
["Group 2 Volumetric Rate Rider",{"$f":"VLOOKUP($B$3,'Data Current Rates'!$A:$AO,MATCH(BI_SenLgt_Avg!$A14,CurrentHeader,0),FALSE)","v":-5.0000000000000001E-4},{"$f":"IF($B$7=\"kWh\",$B$4,$B$5)","v":49},{"$f":"B14*C14","v":-2.4500000000000001E-2},{"$f":"VLOOKUP($B$3,'Data Proposed Rates'!$A:$AT,MATCH(BI_SenLgt_Avg!$A14,ProposedHeader,0),FALSE)","v":-6.8999999999999999E-3},{"$f":"IF($B$7=\"kWh\",$B$4,$B$5)","v":49},-0.33810000000000001,-0.31359999999999999,-12.799999999999999]
["Sub-Total A (excluding pass through)",null,null,{"$f":"SUM(D11:D14)","v":12.660399999999999},null,null,{"$f":"SUM(G11:G14)","v":12.861699999999999},0.20129999999999981,1.5899971564879455E-2]
["Line Losses on Cost of Power",{"$f":"IF($B$4*12>=150000,0,IF($B$4>=750,$B30,$B29))","v":0.12},{"$f":"IF($B16=0,0,$B4*$B6-$B4)","v":4.5080000000000027},{"$f":"B16*C16","v":0.54096000000000033},{"$f":"IF($B$4*12>=150000,0,IF($B$4>=750,$E30,$E29))","v":0.12},{"$f":"IF($B16=0,0,$B4*$B6-$B4)","v":4.5080000000000027},0.54096000000000033,0,0]
["Total Deferral/Variance Account Rate Rider",{"$f":"VLOOKUP($B$3,'Data Current Rates'!$A:$AO,MATCH(BI_SenLgt_Avg!$A17,CurrentHeader,0),FALSE)","v":-3.5999999999999999E-3},{"$f":"IF($B$7=\"kWh\",$B$4,$B$5)","v":49},-0.1764,{"$f":"VLOOKUP($B$3,'Data Proposed Rates'!$A:$AT,MATCH(BI_SenLgt_Avg!$A17,ProposedHeader,0),FALSE)","v":-1.8E-3},{"$f":"IF($B$7=\"kWh\",$B$4,$B$5)","v":49},-8.8200000000000001E-2,8.8200000000000001E-2,0.5]
["CBR Class B Rate Rider",{"$f":"VLOOKUP($B$3,'Data Current Rates'!$A:$AO,MATCH(BI_SenLgt_Avg!$A18,CurrentHeader,0),FALSE)","v":1E-4},{"$f":"IF($B$7=\"kWh\",$B$4,$B$5)","v":49},4.8999999999999998E-3,{"$f":"VLOOKUP($B$3,'Data Proposed Rates'!$A:$AT,MATCH(BI_SenLgt_Avg!$A18,ProposedHeader,0),FALSE)","v":-5.9999999999999995E-4},{"$f":"IF($B$7=\"kWh\",$B$4,$B$5)","v":49},-2.9399999999999999E-2,-3.4299999999999997E-2,-7]
["GA Rate Rider",{"$f":"VLOOKUP($B$3,'Data Current Rates'!$A:$AO,MATCH(BI_SenLgt_Avg!$A19,CurrentHeader,0),FALSE)","v":0},{"$f":"IF($B$7=\"kWh\",$B$4,$B$5)","v":49},0,{"$f":"VLOOKUP($B$3,'Data Proposed Rates'!$A:$AT,MATCH(BI_SenLgt_Avg!$A19,ProposedHeader,0),FALSE)","v":0},{"$f":"IF($B$7=\"kWh\",$B$4,$B$5)","v":49},0,0,"N/A"]
["Rate Rider for Account 1588",null,null,null,{"$f":"VLOOKUP($B$3,'Data Proposed Rates'!$A:$AT,MATCH(BI_SenLgt_Avg!$A20,ProposedHeader,0),FALSE)","v":-3.2000000000000002E-3},{"$f":"IF($B$7=\"kWh\",$B$4,$B$5)","v":49},-0.15679999999999999,-0.15679999999999999,"N/A"]
["Sub-Total B - Distribution (includes Sub-Total A)",null,null,{"$f":"SUM(INDIRECT(\"D15:D\"&ROW()-1))","v":13.029859999999999},null,null,{"$f":"SUM(INDIRECT(\"G15:G\"&ROW()-1))","v":13.128259999999997},9.8399999999998045E-2,7.5518846710554101E-3]
["Retail Transmission Rate – Network Service Rate",{"$f":"VLOOKUP($B$3,'Data Current Rates'!$A:$AO,MATCH(BI_SenLgt_Avg!$A22,CurrentHeader,0),FALSE)","v":7.4000000000000003E-3},{"$f":"IF($B$7=\"kWh\",$B$4*$B$6,$B$5)","v":53.508000000000003},{"$f":"B22*C22","v":0.39595920000000001},{"$f":"VLOOKUP($B$3,'Data Proposed Rates'!$A:$AT,MATCH(BI_SenLgt_Avg!$A22,ProposedHeader,0),FALSE)","v":7.6E-3},{"$f":"IF($B$7=\"kWh\",$B$4*$B$6,$B$5)","v":53.508000000000003},0.40666080000000004,1.0701600000000033E-2,2.7027027027027112E-2]
["Retail Transmission Rate – Line and Transformation Connection Service Rate",{"$f":"VLOOKUP($B$3,'Data Current Rates'!$A:$AO,MATCH(BI_SenLgt_Avg!$A23,CurrentHeader,0),FALSE)","v":5.7000000000000002E-3},{"$f":"IF($B$7=\"kWh\",$B$4*$B$6,$B$5)","v":53.508000000000003},0.30499560000000003,{"$f":"VLOOKUP($B$3,'Data Proposed Rates'!$A:$AT,MATCH(BI_SenLgt_Avg!$A23,ProposedHeader,0),FALSE)","v":5.7999999999999996E-3},{"$f":"IF($B$7=\"kWh\",$B$4*$B$6,$B$5)","v":53.508000000000003},0.31034639999999997,5.3507999999999334E-3,1.7543859649122587E-2]
["Sub-Total C - Delivery (including Sub-Total B)",null,null,{"$f":"SUM(D21:D23)","v":13.730814799999999},null,null,{"$f":"SUM(G21:G23)","v":13.845267199999999},0.11445239999999934,8.3354412441714199E-3]
["Wholesale Market Service Rate (WMS) – not including CBR",{"$f":"VLOOKUP($A25,'Data Pass Through'!$A:$D,2,FALSE)","v":4.1000000000000003E-3},{"$f":"$B$4*$B$6","v":53.508000000000003},{"$f":"B25*C25","v":0.21938280000000002},{"$f":"VLOOKUP($A25,'Data Pass Through'!$A:$D,3,FALSE)","v":4.1000000000000003E-3},{"$f":"$B$4*$B$6","v":53.508000000000003},0.21938280000000002,0,0]
["Capacity Based Recovery (CBR) – Applicable for Class B Customers",{"$f":"VLOOKUP($A26,'Data Pass Through'!$A:$D,2,FALSE)","v":5.9999999999999995E-4},{"$f":"$B$4*$B$6","v":53.508000000000003},3.2104799999999996E-2,{"$f":"VLOOKUP($A26,'Data Pass Through'!$A:$D,3,FALSE)","v":5.9999999999999995E-4},{"$f":"$B$4*$B$6","v":53.508000000000003},3.2104799999999996E-2,0,0]
["Rural Rate Protection Charge",{"$f":"VLOOKUP($A27,'Data Pass Through'!$A:$D,2,FALSE)","v":5.9999999999999995E-4},{"$f":"$B$4*$B$6","v":53.508000000000003},3.2104799999999996E-2,{"$f":"VLOOKUP($A27,'Data Pass Through'!$A:$D,3,FALSE)","v":5.9999999999999995E-4},{"$f":"$B$4*$B$6","v":53.508000000000003},3.2104799999999996E-2,0,0]
["Standard Supply Service – Administration Charge (if applicable)",{"$f":"VLOOKUP($A28,'Data Pass Through'!$A:$D,2,FALSE)","v":0.25},1,0.25,{"$f":"VLOOKUP($A28,'Data Pass Through'!$A:$D,3,FALSE)","v":0.25},1,0.25,0,0]
["RPP Tier 1",{"$f":"VLOOKUP($A29,'Data Pass Through'!$A:$D,2,FALSE)","v":0.12},{"$f":"IF(($B4*12>=150000),750,IF($B4>=750,750,$B4))","v":49},5.88,{"$f":"VLOOKUP($A29,'Data Pass Through'!$A:$D,3,FALSE)","v":0.12},{"$f":"IF(($B4*12>=150000),750,IF($B4>=750,750,$B4))","v":49},5.88,0,0]
["RPP Tier 2",{"$f":"VLOOKUP($A30,'Data Pass Through'!$A:$D,2,FALSE)","v":0.14199999999999999},{"$f":"IF(($B4*12>=150000),($B4*$B6)-750,IF($B4>=750,($B4-750),0))","v":0},0,{"$f":"VLOOKUP($A30,'Data Pass Through'!$A:$D,3,FALSE)","v":0.14199999999999999},{"$f":"IF(($B4*12>=150000),($B4*$B6)-750,IF($B4>=750,($B4-750),0))","v":0},0,0,"N/A"]
["Total Bill on Two-Tier RPP (before Taxes)",null,null,{"$f":"SUM(D24:D30)","v":20.1444072},null,null,{"$f":"SUM(G24:G30)","v":20.258859600000001},0.11445240000000112,5.6815968255447659E-3]
["HST",0.13,null,{"$f":"D31*B32","v":2.6187729360000001},{"$f":"B32","v":0.13},null,{"$f":"G31*E32","v":2.6336517480000001},1.4878812000000075E-2,5.6815968255447382E-3]
["Ontario Electricity Rebate (OER)",{"$f":"IF(($B$4*12)<250000,VLOOKUP(A33,'Data Pass Through'!$A$4:$C$19,2,0),0)","v":-0.23499999999999999},null,{"$f":"D31*B33","v":-4.7339356919999993},{"$f":"IF(($B$4*12)<250000,VLOOKUP($A33,'Data Pass Through'!$A$4:$C$19,3,0),0)","v":-0.23499999999999999},null,{"$f":"G31*E33","v":-4.7608320060000002},-2.689631400000092E-2,-5.6815968255449056E-3]
["Total Bill on Two-Tier RPP",null,null,{"$f":"SUM(D31:D33)","v":18.029244444},null,null,{"$f":"SUM(G31:G33)","v":18.131679341999998},0.1024348979999985,5.6815968255446271E-3]
["* Distribution rate protection applies to R1 and R2 customers"]

{"sheet":"BI_USL_Avg","index":26,"n_rows":35,"n_cols":9,"rows_kept":35,"cut":false,"hidden":false,"merged":[[0,0,0,10],[8,0,9,0],[8,1,8,3],[8,4,8,6],[8,7,8,8]]}
["Bill Impacts (Average Consumption Level) - USL"]
[]
["Rate Class",{"$f":"RIGHT(A1,LEN(A1)-FIND(\"- \",A1,1)-1)","v":"USL"}]
["Monthly Consumption (kWh)",{"$f":"IF(COUNTIF(A1,\"*Low*\")>0,VLOOKUP(B3,'Data Billing Quantities'!$A:$Z,MATCH(\"Low kWh\",'Data Billing Quantities'!4:4,0),FALSE),IF(COUNTIF(A1,\"*Typical*\")>0,VLOOKUP(B3,'Data Billing Quantities'!$A:$Z,MATCH(\"Typical kWh\",'Data Billing Quantities'!4:4,0),FALSE),IF(COUNTIF(A1,\"*Average*\")>0,VLOOKUP(B3,'Data Billing Quantities'!$A:$Z,MATCH(\"Average kWh\",'Data Billing Quantities'!4:4,0),FALSE),IF(COUNTIF(A1,\"*High*\")>0,VLOOKUP(B3,'Data Billing Quantities'!$A:$Z,MATCH(\"High kWh\",'Data Billing Quantities'!4:4,0),FALSE),\"error\"))))","v":477}]
["Peak (kW)",{"$f":"IF(COUNTIF(A1,\"*Low*\")>0,VLOOKUP(B3,'Data Billing Quantities'!$A:$Z,MATCH(\"Low kW\",'Data Billing Quantities'!4:4,0),FALSE),IF(COUNTIF(A1,\"*Typical*\")>0,VLOOKUP(B3,'Data Billing Quantities'!$A:$Z,MATCH(\"Typical kW\",'Data Billing Quantities'!4:4,0),FALSE),IF(COUNTIF(A1,\"*Average*\")>0,VLOOKUP(B3,'Data Billing Quantities'!$A:$Z,MATCH(\"Average kW\",'Data Billing Quantities'!4:4,0),FALSE),IF(COUNTIF(A1,\"*High*\")>0,VLOOKUP(B3,'Data Billing Quantities'!$A:$Z,MATCH(\"High kW\",'Data Billing Quantities'!4:4,0),FALSE),\"error\"))))","v":0}]
["Loss factor",{"$f":"VLOOKUP(B3,'Data Billing Quantities'!A:D,MATCH(A6,'Data Billing Quantities'!4:4,0),FALSE)","v":1.0920000000000001}]
["Charge determinant",{"$f":"VLOOKUP(B3,'Data Billing Quantities'!A:D,MATCH(A7,'Data Billing Quantities'!4:4,0),FALSE)","v":"kWh"}]
[]
[null,"Current OEB-Approved",null,null,"Proposed",null,null,"Impact"]
[null,"Rate ($)","Volume","Charge ($)","Rate ($)","Volume","Charge ($)","$ Change","% Change"]
["Service Charge",{"$f":"VLOOKUP($B$3,'Data Current Rates'!$A:$AO,MATCH(BI_USL_Avg!$A11,CurrentHeader,0),FALSE)","v":38.29},1,{"$f":"B11*C11","v":38.29},{"$f":"VLOOKUP($B$3,'Data Proposed Rates'!$A:$AT,MATCH(BI_USL_Avg!$A11,ProposedHeader,0),FALSE)","v":38.29},1,{"$f":"E11*F11","v":38.29},{"$f":"G11-D11","v":0},{"$f":"IF(ISERROR(H11/ABS(D11)),\"N/A\",(H11/ABS(D11)))","v":0}]
["Distribution Volumetric Charge",{"$f":"VLOOKUP($B$3,'Data Current Rates'!$A:$AO,MATCH(BI_USL_Avg!$A12,CurrentHeader,0),FALSE)","v":3.3700000000000001E-2},{"$f":"IF($B$7=\"kWh\",$B$4,$B$5)","v":477},{"$f":"B12*C12","v":16.0749},{"$f":"VLOOKUP($B$3,'Data Proposed Rates'!$A:$AT,MATCH(BI_USL_Avg!$A12,ProposedHeader,0),FALSE)","v":3.95E-2},{"$f":"IF($B$7=\"kWh\",$B$4,$B$5)","v":477},18.8415,2.7666000000000004,0.17210682492581605]
["Group 2 Fixed Rate Rider",{"$f":"VLOOKUP($B$3,'Data Current Rates'!$A:$AO,MATCH(BI_USL_Avg!$A13,CurrentHeader,0),FALSE)","v":0},1,{"$f":"B13*C13","v":0},{"$f":"VLOOKUP($B$3,'Data Proposed Rates'!$A:$AT,MATCH(BI_USL_Avg!$A13,ProposedHeader,0),FALSE)","v":-1.31},1,-1.31,-1.31,"N/A"]
["Group 2 Volumetric Rate Rider",{"$f":"VLOOKUP($B$3,'Data Current Rates'!$A:$AO,MATCH(BI_USL_Avg!$A14,CurrentHeader,0),FALSE)","v":-2.9999999999999997E-4},{"$f":"IF($B$7=\"kWh\",$B$4,$B$5)","v":477},{"$f":"B14*C14","v":-0.14309999999999998},{"$f":"VLOOKUP($B$3,'Data Proposed Rates'!$A:$AT,MATCH(BI_USL_Avg!$A14,ProposedHeader,0),FALSE)","v":-1.4E-3},{"$f":"IF($B$7=\"kWh\",$B$4,$B$5)","v":477},-0.66779999999999995,-0.52469999999999994,-3.666666666666667]
["Sub-Total A (excluding pass through)",null,null,{"$f":"SUM(D11:D14)","v":54.221800000000002},null,null,{"$f":"SUM(G11:G14)","v":55.153700000000001},0.93189999999999884,1.7186814159618435E-2]
["Line Losses on Cost of Power",{"$f":"IF($B$4*12>=150000,0,IF($B$4>=750,$B30,$B29))","v":0.12},{"$f":"IF($B16=0,0,$B4*$B6-$B4)","v":43.884000000000015},{"$f":"B16*C16","v":5.2660800000000014},{"$f":"IF($B$4*12>=150000,0,IF($B$4>=750,$E30,$E29))","v":0.12},{"$f":"IF($B16=0,0,$B4*$B6-$B4)","v":43.884000000000015},5.2660800000000014,0,0]
["Total Deferral/Variance Account Rate Rider",{"$f":"VLOOKUP($B$3,'Data Current Rates'!$A:$AO,MATCH(BI_USL_Avg!$A17,CurrentHeader,0),FALSE)","v":-3.5999999999999999E-3},{"$f":"IF($B$7=\"kWh\",$B$4,$B$5)","v":477},-1.7172000000000001,{"$f":"VLOOKUP($B$3,'Data Proposed Rates'!$A:$AT,MATCH(BI_USL_Avg!$A17,ProposedHeader,0),FALSE)","v":-1.5E-3},{"$f":"IF($B$7=\"kWh\",$B$4,$B$5)","v":477},-0.71550000000000002,1.0017,0.58333333333333337]
["CBR Class B Rate Rider",{"$f":"VLOOKUP($B$3,'Data Current Rates'!$A:$AO,MATCH(BI_USL_Avg!$A18,CurrentHeader,0),FALSE)","v":1E-4},{"$f":"IF($B$7=\"kWh\",$B$4,$B$5)","v":477},4.7699999999999999E-2,{"$f":"VLOOKUP($B$3,'Data Proposed Rates'!$A:$AT,MATCH(BI_USL_Avg!$A18,ProposedHeader,0),FALSE)","v":-5.9999999999999995E-4},{"$f":"IF($B$7=\"kWh\",$B$4,$B$5)","v":477},-0.28619999999999995,-0.33389999999999997,-7]
["GA Rate Rider",{"$f":"VLOOKUP($B$3,'Data Current Rates'!$A:$AO,MATCH(BI_USL_Avg!$A19,CurrentHeader,0),FALSE)","v":0},{"$f":"IF($B$7=\"kWh\",$B$4,$B$5)","v":477},0,{"$f":"VLOOKUP($B$3,'Data Proposed Rates'!$A:$AT,MATCH(BI_USL_Avg!$A19,ProposedHeader,0),FALSE)","v":0},{"$f":"IF($B$7=\"kWh\",$B$4,$B$5)","v":477},0,0,"N/A"]
["Rate Rider for Account 1588",null,null,null,{"$f":"VLOOKUP($B$3,'Data Proposed Rates'!$A:$AT,MATCH(BI_USL_Avg!$A20,ProposedHeader,0),FALSE)","v":-3.2000000000000002E-3},{"$f":"IF($B$7=\"kWh\",$B$4,$B$5)","v":477},-1.5264,-1.5264,"N/A"]
["Sub-Total B - Distribution (includes Sub-Total A)",null,null,{"$f":"SUM(INDIRECT(\"D15:D\"&ROW()-1))","v":57.818380000000005},null,null,{"$f":"SUM(INDIRECT(\"G15:G\"&ROW()-1))","v":57.891680000000001},7.3299999999996146E-2,1.2677629501206388E-3]
["Retail Transmission Rate – Network Service Rate",{"$f":"VLOOKUP($B$3,'Data Current Rates'!$A:$AO,MATCH(BI_USL_Avg!$A22,CurrentHeader,0),FALSE)","v":8.5000000000000006E-3},{"$f":"IF($B$7=\"kWh\",$B$4*$B$6,$B$5)","v":520.88400000000001},{"$f":"B22*C22","v":4.4275140000000004},{"$f":"VLOOKUP($B$3,'Data Proposed Rates'!$A:$AT,MATCH(BI_USL_Avg!$A22,ProposedHeader,0),FALSE)","v":8.6999999999999994E-3},{"$f":"IF($B$7=\"kWh\",$B$4*$B$6,$B$5)","v":520.88400000000001},4.5316907999999998,0.1041767999999994,2.3529411764705747E-2]
["Retail Transmission Rate – Line and Transformation Connection Service Rate",{"$f":"VLOOKUP($B$3,'Data Current Rates'!$A:$AO,MATCH(BI_USL_Avg!$A23,CurrentHeader,0),FALSE)","v":6.1999999999999998E-3},{"$f":"IF($B$7=\"kWh\",$B$4*$B$6,$B$5)","v":520.88400000000001},3.2294808000000002,{"$f":"VLOOKUP($B$3,'Data Proposed Rates'!$A:$AT,MATCH(BI_USL_Avg!$A23,ProposedHeader,0),FALSE)","v":6.4000000000000003E-3},{"$f":"IF($B$7=\"kWh\",$B$4*$B$6,$B$5)","v":520.88400000000001},3.3336576000000004,0.10417680000000029,3.2258064516129122E-2]
["Sub-Total C - Delivery (including Sub-Total B)",null,null,{"$f":"SUM(D21:D23)","v":65.475374800000012},null,null,{"$f":"SUM(G21:G23)","v":65.757028399999996},0.28165359999998429,4.30167220669326E-3]
["Wholesale Market Service Rate (WMS) – not including CBR",{"$f":"VLOOKUP($A25,'Data Pass Through'!$A:$D,2,FALSE)","v":4.1000000000000003E-3},{"$f":"$B$4*$B$6","v":520.88400000000001},{"$f":"B25*C25","v":2.1356244000000002},{"$f":"VLOOKUP($A25,'Data Pass Through'!$A:$D,3,FALSE)","v":4.1000000000000003E-3},{"$f":"$B$4*$B$6","v":520.88400000000001},2.1356244000000002,0,0]
["Capacity Based Recovery (CBR) – Applicable for Class B Customers",{"$f":"VLOOKUP($A26,'Data Pass Through'!$A:$D,2,FALSE)","v":5.9999999999999995E-4},{"$f":"$B$4*$B$6","v":520.88400000000001},0.31253039999999999,{"$f":"VLOOKUP($A26,'Data Pass Through'!$A:$D,3,FALSE)","v":5.9999999999999995E-4},{"$f":"$B$4*$B$6","v":520.88400000000001},0.31253039999999999,0,0]
["Rural Rate Protection Charge",{"$f":"VLOOKUP($A27,'Data Pass Through'!$A:$D,2,FALSE)","v":5.9999999999999995E-4},{"$f":"$B$4*$B$6","v":520.88400000000001},0.31253039999999999,{"$f":"VLOOKUP($A27,'Data Pass Through'!$A:$D,3,FALSE)","v":5.9999999999999995E-4},{"$f":"$B$4*$B$6","v":520.88400000000001},0.31253039999999999,0,0]
["Standard Supply Service – Administration Charge (if applicable)",{"$f":"VLOOKUP($A28,'Data Pass Through'!$A:$D,2,FALSE)","v":0.25},1,0.25,{"$f":"VLOOKUP($A28,'Data Pass Through'!$A:$D,3,FALSE)","v":0.25},1,0.25,0,0]
["RPP Tier 1",{"$f":"VLOOKUP($A29,'Data Pass Through'!$A:$D,2,FALSE)","v":0.12},{"$f":"IF(($B4*12>=150000),750,IF($B4>=750,750,$B4))","v":477},57.239999999999995,{"$f":"VLOOKUP($A29,'Data Pass Through'!$A:$D,3,FALSE)","v":0.12},{"$f":"IF(($B4*12>=150000),750,IF($B4>=750,750,$B4))","v":477},57.239999999999995,0,0]
["RPP Tier 2",{"$f":"VLOOKUP($A30,'Data Pass Through'!$A:$D,2,FALSE)","v":0.14199999999999999},{"$f":"IF(($B4*12>=150000),($B4*$B6)-750,IF($B4>=750,($B4-750),0))","v":0},0,{"$f":"VLOOKUP($A30,'Data Pass Through'!$A:$D,3,FALSE)","v":0.14199999999999999},{"$f":"IF(($B4*12>=150000),($B4*$B6)-750,IF($B4>=750,($B4-750),0))","v":0},0,0,"N/A"]
["Total Bill on Two-Tier RPP (before Taxes)",null,null,{"$f":"SUM(D24:D30)","v":125.72606},null,null,{"$f":"SUM(G24:G30)","v":126.00771359999999},0.28165359999998429,2.2402165469910078E-3]
["HST",0.13,null,{"$f":"D31*B32","v":16.3443878},{"$f":"B32","v":0.13},null,{"$f":"G31*E32","v":16.381002767999998},3.6614967999998527E-2,2.2402165469910429E-3]
["Ontario Electricity Rebate (OER)",{"$f":"IF(($B$4*12)<250000,VLOOKUP(A33,'Data Pass Through'!$A$4:$C$19,2,0),0)","v":-0.23499999999999999},null,{"$f":"D31*B33","v":-29.545624099999998},{"$f":"IF(($B$4*12)<250000,VLOOKUP($A33,'Data Pass Through'!$A$4:$C$19,3,0),0)","v":-0.23499999999999999},null,{"$f":"G31*E33","v":-29.611812695999994},-6.618859599999638E-2,-2.2402165469910108E-3]
["Total Bill on Two-Tier RPP",null,null,{"$f":"SUM(D31:D33)","v":112.52482370000001},null,null,{"$f":"SUM(G31:G33)","v":112.776903672},0.25207997199998999,2.2402165469910438E-3]
["* Distribution rate protection applies to R1 and R2 customers"]

{"sheet":"BI_Dgen_Avg","index":27,"n_rows":34,"n_cols":9,"rows_kept":34,"cut":false,"hidden":false,"merged":[[0,0,0,9],[8,1,8,3],[8,4,8,6],[8,7,8,8]]}
["Bill Impacts (Average Consumption Level) - Dgen"]
[]
["Rate Class",{"$f":"RIGHT(A1,LEN(A1)-FIND(\"- \",A1,1)-1)","v":"Dgen"}]
["Monthly Consumption (kWh)",{"$f":"IF(COUNTIF(A1,\"*Low*\")>0,VLOOKUP(B3,'Data Billing Quantities'!$A:$Z,MATCH(\"Low kWh\",'Data Billing Quantities'!4:4,0),FALSE),IF(COUNTIF(A1,\"*Typical*\")>0,VLOOKUP(B3,'Data Billing Quantities'!$A:$Z,MATCH(\"Typical kWh\",'Data Billing Quantities'!4:4,0),FALSE),IF(COUNTIF(A1,\"*Average*\")>0,VLOOKUP(B3,'Data Billing Quantities'!$A:$Z,MATCH(\"Average kWh\",'Data Billing Quantities'!4:4,0),FALSE),IF(COUNTIF(A1,\"*High*\")>0,VLOOKUP(B3,'Data Billing Quantities'!$A:$Z,MATCH(\"High kWh\",'Data Billing Quantities'!4:4,0),FALSE),\"error\"))))","v":1709}]
["Peak (kW)",{"$f":"IF(COUNTIF(A1,\"*Low*\")>0,VLOOKUP(B3,'Data Billing Quantities'!$A:$Z,MATCH(\"Low kW\",'Data Billing Quantities'!4:4,0),FALSE),IF(COUNTIF(A1,\"*Typical*\")>0,VLOOKUP(B3,'Data Billing Quantities'!$A:$Z,MATCH(\"Typical kW\",'Data Billing Quantities'!4:4,0),FALSE),IF(COUNTIF(A1,\"*Average*\")>0,VLOOKUP(B3,'Data Billing Quantities'!$A:$Z,MATCH(\"Average kW\",'Data Billing Quantities'!4:4,0),FALSE),IF(COUNTIF(A1,\"*High*\")>0,VLOOKUP(B3,'Data Billing Quantities'!$A:$Z,MATCH(\"High kW\",'Data Billing Quantities'!4:4,0),FALSE),\"error\"))))","v":12}]
["Loss factor",{"$f":"VLOOKUP(B3,'Data Billing Quantities'!A:D,MATCH(A6,'Data Billing Quantities'!4:4,0),FALSE)","v":1.0609999999999999}]
["Charge determinant",{"$f":"VLOOKUP(B3,'Data Billing Quantities'!A:D,MATCH(A7,'Data Billing Quantities'!4:4,0),FALSE)","v":"kW"}]
[]
[null,"Current OEB-Approved",null,null,"Proposed",null,null,"Impact"]
[null,"Rate","Volume","Charge","Rate","Volume","Charge","$ Change","% Change"]
[null,"($)",null,"($)","($)",null,"($)"]
["Service Charge",{"$f":"VLOOKUP($B$3,'Data Current Rates'!$A:$AO,MATCH(BI_Dgen_Avg!$A12,CurrentHeader,0),FALSE)","v":199.26},1,{"$f":"C12*B12","v":199.26},{"$f":"VLOOKUP($B$3,'Data Proposed Rates'!$A:$AT,MATCH(BI_Dgen_Avg!$A12,ProposedHeader,0),FALSE)","v":199.26},1,{"$f":"F12*E12","v":199.26},{"$f":"G12-D12","v":0},{"$f":"IF(ISERROR(H12/ABS(D12)),\"N/A\",(H12/ABS(D12)))","v":0}]
["Distribution Volumetric Charge",{"$f":"VLOOKUP($B$3,'Data Current Rates'!$A:$AO,MATCH(BI_Dgen_Avg!$A13,CurrentHeader,0),FALSE)","v":14.113799999999999},{"$f":"IF($B$7=\"kWh\",$B$4,$B$5)","v":12},{"$f":"C13*B13","v":169.3656},{"$f":"VLOOKUP($B$3,'Data Proposed Rates'!$A:$AT,MATCH(BI_Dgen_Avg!$A13,ProposedHeader,0),FALSE)","v":15.731400000000001},{"$f":"IF($B$7=\"kWh\",$B$4,$B$5)","v":12},{"$f":"F13*E13","v":188.77680000000001},19.411200000000008,0.11461123156060031]
["Group 2 Fixed Rate Rider",{"$f":"VLOOKUP($B$3,'Data Current Rates'!$A:$AO,MATCH(BI_Dgen_Avg!$A14,CurrentHeader,0),FALSE)","v":0},1,0,{"$f":"VLOOKUP($B$3,'Data Proposed Rates'!$A:$AT,MATCH(BI_Dgen_Avg!$A14,ProposedHeader,0),FALSE)","v":-6.83},1,{"$f":"F14*E14","v":-6.83},-6.83,"N/A"]
["Group 2 Volumetric Rate Rider",{"$f":"VLOOKUP($B$3,'Data Current Rates'!$A:$AO,MATCH(BI_Dgen_Avg!$A15,CurrentHeader,0),FALSE)","v":-9.2999999999999999E-2},{"$f":"IF($B$7=\"kWh\",$B$4,$B$5)","v":12},-1.1160000000000001,{"$f":"VLOOKUP($B$3,'Data Proposed Rates'!$A:$AT,MATCH(BI_Dgen_Avg!$A15,ProposedHeader,0),FALSE)","v":-0.52259999999999995},{"$f":"IF($B$7=\"kWh\",$B$4,$B$5)","v":12},-6.2711999999999994,-5.1551999999999989,-4.6193548387096763]
["Sub-Total A (excluding pass through)",null,null,{"$f":"SUM(D12:D15)","v":367.50959999999998},null,null,{"$f":"SUM(G12:G15)","v":374.93559999999997},7.4259999999999877,2.0206274883703686E-2]
["Line Losses on Cost of Power",0,{"$f":"IF(B$17=0,0,B$4*B$6-B$4)","v":0},{"$f":"C17*B17","v":0},0,{"$f":"IF(E$17=0,0,E$4*E$6-E$4)","v":0},0,0,"N/A"]
["Total Deferral/Variance Account Rate Rider",{"$f":"VLOOKUP($B$3,'Data Current Rates'!$A:$AO,MATCH(BI_Dgen_Avg!$A18,CurrentHeader,0),FALSE)","v":-0.51390000000000002},{"$f":"IF($B$7=\"kWh\",$B$4,$B$5)","v":12},-6.1668000000000003,{"$f":"VLOOKUP($B$3,'Data Proposed Rates'!$A:$AT,MATCH(BI_Dgen_Avg!$A18,ProposedHeader,0),FALSE)","v":-0.26469999999999999},{"$f":"IF($B$7=\"kWh\",$B$4,$B$5)","v":12},-3.1764000000000001,2.9904000000000002,0.48491924498929756]
["CBR Class B Rate Rider",{"$f":"VLOOKUP($B$3,'Data Current Rates'!$A:$AO,MATCH(BI_Dgen_Avg!$A19,CurrentHeader,0),FALSE)","v":8.2000000000000007E-3},{"$f":"IF($B$7=\"kWh\",$B$4,$B$5)","v":12},{"$f":"C19*B19","v":9.8400000000000015E-2},{"$f":"VLOOKUP($B$3,'Data Proposed Rates'!$A:$AT,MATCH(BI_Dgen_Avg!$A19,ProposedHeader,0),FALSE)","v":-8.9599999999999999E-2},{"$f":"IF($B$7=\"kWh\",$B$4,$B$5)","v":12},{"$f":"F19*E19","v":-1.0751999999999999},-1.1736,-11.92682926829268]
["GA Rate Rider",{"$f":"VLOOKUP($B$3,'Data Current Rates'!$A:$AO,MATCH(BI_Dgen_Avg!$A20,CurrentHeader,0),FALSE)","v":-8.9999999999999998E-4},{"$f":"$B$4","v":1709},{"$f":"C20*B20","v":-1.5381},{"$f":"VLOOKUP($B$3,'Data Proposed Rates'!$A:$AT,MATCH(BI_Dgen_Avg!$A20,ProposedHeader,0),FALSE)","v":1.21E-2},{"$f":"$B$4","v":1709},20.678899999999999,22.216999999999999,14.444444444444443]
["Rate Rider for Account 1588",null,null,null,{"$f":"VLOOKUP($B$3,'Data Proposed Rates'!$A:$AT,MATCH(BI_Dgen_Avg!$A21,ProposedHeader,0),FALSE)","v":-0.46739999999999998},{"$f":"IF($B$7=\"kWh\",$B$4,$B$5)","v":12},{"$f":"F21*E21","v":-5.6087999999999996},-5.6087999999999996,"N/A"]
["Sub-Total B - Distribution (includes Sub-Total A)",null,null,{"$f":"SUM(INDIRECT(\"D16:D\"&ROW()-1))","v":359.90309999999999},null,null,{"$f":"SUM(INDIRECT(\"G16:G\"&ROW()-1))","v":385.75409999999999},25.850999999999999,7.1827666947019905E-2]
["Retail Transmission Rate – Network Service Rate",{"$f":"VLOOKUP($B$3,'Data Current Rates'!$A:$AO,MATCH(BI_Dgen_Avg!$A23,CurrentHeader,0),FALSE)","v":1.7955000000000001},{"$f":"IF($B$7=\"kWh\",$B$4*$B$6,$B$5)","v":12},{"$f":"C23*B23","v":21.545999999999999},{"$f":"VLOOKUP($B$3,'Data Proposed Rates'!$A:$AT,MATCH(BI_Dgen_Avg!$A23,ProposedHeader,0),FALSE)","v":1.8435999999999999},{"$f":"IF($B$7=\"kWh\",$B$4*$B$6,$B$5)","v":12},{"$f":"F23*E23","v":22.123199999999997},0.57719999999999771,2.6789195210247738E-2]
["Retail Transmission Rate – Line and Transformation Connection Service Rate",{"$f":"VLOOKUP($B$3,'Data Current Rates'!$A:$AO,MATCH(BI_Dgen_Avg!$A24,CurrentHeader,0),FALSE)","v":1.0692999999999999},{"$f":"IF($B$7=\"kWh\",$B$4*$B$6,$B$5)","v":12},{"$f":"C24*B24","v":12.831599999999998},{"$f":"VLOOKUP($B$3,'Data Proposed Rates'!$A:$AT,MATCH(BI_Dgen_Avg!$A24,ProposedHeader,0),FALSE)","v":1.0959000000000001},{"$f":"IF($B$7=\"kWh\",$B$4*$B$6,$B$5)","v":12},{"$f":"F24*E24","v":13.1508},0.31920000000000215,2.4876087159824357E-2]
["Sub-Total C - Delivery (including Sub-Total B)",null,null,{"$f":"SUM(D22:D24)","v":394.28069999999997},null,null,{"$f":"SUM(G22:G24)","v":421.02809999999999},26.747400000000027,6.7838471424038843E-2]
["Wholesale Market Service Rate (WMS) – not including CBR",{"$f":"VLOOKUP($A26,'Data Pass Through'!$A:$D,2,FALSE)","v":4.1000000000000003E-3},{"$f":"$B$4*$B$6","v":1813.2489999999998},{"$f":"C26*B26","v":7.4343208999999995},{"$f":"VLOOKUP($A26,'Data Pass Through'!$A:$D,3,FALSE)","v":4.1000000000000003E-3},{"$f":"$B$4*$B$6","v":1813.2489999999998},{"$f":"F26*E26","v":7.4343208999999995},0,0]
["Capacity Based Recovery (CBR) – Applicable for Class B Customers",{"$f":"VLOOKUP($A27,'Data Pass Through'!$A:$D,2,FALSE)","v":5.9999999999999995E-4},{"$f":"$B$4*$B$6","v":1813.2489999999998},1.0879493999999998,{"$f":"VLOOKUP($A27,'Data Pass Through'!$A:$D,3,FALSE)","v":5.9999999999999995E-4},1813.2489999999998,1.0879493999999998,0,0]
["Rural Rate Protection Charge",{"$f":"VLOOKUP($A28,'Data Pass Through'!$A:$D,2,FALSE)","v":5.9999999999999995E-4},1813.2489999999998,1.0879493999999998,{"$f":"VLOOKUP($A28,'Data Pass Through'!$A:$D,3,FALSE)","v":5.9999999999999995E-4},1813.2489999999998,1.0879493999999998,0,0]
["Standard Supply Service – Administration Charge (if applicable)",{"$f":"VLOOKUP($A29,'Data Pass Through'!$A:$D,2,FALSE)","v":0.25},1,0.25,{"$f":"VLOOKUP($A29,'Data Pass Through'!$A:$D,3,FALSE)","v":0.25},1,0.25,0,0]
["Average IESO Wholesale Market Price",{"$f":"VLOOKUP(A30,'Data Pass Through'!A4:C19,2,0)","v":0.15959999999999999},{"$f":"$B$4*$B$6","v":1813.2489999999998},{"$f":"C30*B30","v":289.39454039999993},{"$f":"VLOOKUP($A30,'Data Pass Through'!$A:$D,3,FALSE)","v":0.15959999999999999},{"$f":"$B$4*$B$6","v":1813.2489999999998},289.39454039999993,{"$f":"G30-D30","v":0},0]
["Total Bill on Average IESO Wholesale Market Price (before Taxes)",null,null,{"$f":"SUM(D25:D30)","v":693.53546009999991},null,null,{"$f":"SUM(G25:G30)","v":720.28286009999988},{"$f":"G31-D31","v":26.747399999999971},3.8566737447200322E-2]
["HST",0.13,null,{"$f":"D31*B32","v":90.159609812999989},0.13,null,{"$f":"G31*E32","v":93.636771812999982},{"$f":"G32-D32","v":3.4771619999999928},3.8566737447200281E-2]
["Ontario Electricity Rebate (OER)",{"$f":"IF(($B$4*12)<250000,VLOOKUP(A33,'Data Pass Through'!$A$4:$C$19,2,0),0)","v":-0.23499999999999999},null,{"$f":"D31*B33","v":-162.98083312349996},{"$f":"IF(($B$4*12)<250000,VLOOKUP(A33,'Data Pass Through'!$A$4:$C$19,3,0),0)","v":-0.23499999999999999},null,{"$f":"G31*E33","v":-169.26647212349997},{"$f":"G33-D33","v":-6.2856390000000033},-3.8566737447200385E-2]
["Total Bill on Average IESO Wholesale Market Price",null,null,{"$f":"SUM(D31:D33)","v":620.71423678949986},null,null,{"$f":"SUM(G31:G33)","v":644.65315978949991},{"$f":"G34-D34","v":23.938923000000045},3.856673744720044E-2]

{"sheet":"BI_ST_Avg","index":28,"n_rows":34,"n_cols":9,"rows_kept":34,"cut":false,"hidden":false,"merged":[[0,0,0,9],[8,1,8,3],[8,4,8,6],[8,7,8,8]]}
["Bill Impacts (Average Consumption Level) - ST"]
[]
["Rate Class",{"$f":"RIGHT(A1,LEN(A1)-FIND(\"- \",A1,1)-1)","v":"ST"}]
["Monthly Consumption (kWh)",{"$f":"IF(COUNTIF(A1,\"*Low*\")>0,VLOOKUP(B3,'Data Billing Quantities'!$A:$Z,MATCH(\"Low kWh\",'Data Billing Quantities'!4:4,0),FALSE),IF(COUNTIF(A1,\"*Typical*\")>0,VLOOKUP(B3,'Data Billing Quantities'!$A:$Z,MATCH(\"Typical kWh\",'Data Billing Quantities'!4:4,0),FALSE),IF(COUNTIF(A1,\"*Average*\")>0,VLOOKUP(B3,'Data Billing Quantities'!$A:$Z,MATCH(\"Average kWh\",'Data Billing Quantities'!4:4,0),FALSE),IF(COUNTIF(A1,\"*High*\")>0,VLOOKUP(B3,'Data Billing Quantities'!$A:$Z,MATCH(\"High kWh\",'Data Billing Quantities'!4:4,0),FALSE),\"error\"))))","v":1373443}]
["Peak (kW)",{"$f":"IF(COUNTIF(A1,\"*Low*\")>0,VLOOKUP(B3,'Data Billing Quantities'!$A:$Z,MATCH(\"Low kW\",'Data Billing Quantities'!4:4,0),FALSE),IF(COUNTIF(A1,\"*Typical*\")>0,VLOOKUP(B3,'Data Billing Quantities'!$A:$Z,MATCH(\"Typical kW\",'Data Billing Quantities'!4:4,0),FALSE),IF(COUNTIF(A1,\"*Average*\")>0,VLOOKUP(B3,'Data Billing Quantities'!$A:$Z,MATCH(\"Average kW\",'Data Billing Quantities'!4:4,0),FALSE),IF(COUNTIF(A1,\"*High*\")>0,VLOOKUP(B3,'Data Billing Quantities'!$A:$Z,MATCH(\"High kW\",'Data Billing Quantities'!4:4,0),FALSE),\"error\"))))","v":2808}]
["Loss factor",{"$f":"VLOOKUP(B3,'Data Billing Quantities'!A:D,MATCH(A6,'Data Billing Quantities'!4:4,0),FALSE)","v":1.034}]
["Charge determinant",{"$f":"VLOOKUP(B3,'Data Billing Quantities'!A:D,MATCH(A7,'Data Billing Quantities'!4:4,0),FALSE)","v":"kW"}]
[]
[null,"Current OEB-Approved",null,null,"Proposed",null,null,"Impact"]
[null,"Rate","Volume","Charge","Rate","Volume","Charge","$ Change","% Change"]
[null,"($)",null,"($)","($)",null,"($)"]
["Service Charge",{"$f":"VLOOKUP($B$3,'Data Current Rates'!$A:$AO,MATCH(BI_ST_Avg!$A12,CurrentHeader,0),FALSE)","v":1241.8699999999999},1,{"$f":"C12*B12","v":1241.8699999999999},{"$f":"VLOOKUP($B$3,'Data Proposed Rates'!$A:$AT,MATCH(BI_ST_Avg!$A12,ProposedHeader,0),FALSE)","v":1241.8699999999999},1,{"$f":"F12*E12","v":1241.8699999999999},{"$f":"G12-D12","v":0},{"$f":"IF(ISERROR(H12/ABS(D12)),\"N/A\",(H12/ABS(D12)))","v":0}]
["Distribution Volumetric Charge",{"$f":"VLOOKUP($B$3,'Data Current Rates'!$A:$AO,MATCH(BI_ST_Avg!$A13,CurrentHeader,0),FALSE)","v":1.7096},{"$f":"IF($B$7=\"kWh\",$B$4,$B$5)","v":2808},{"$f":"C13*B13","v":4800.5568000000003},{"$f":"VLOOKUP($B$3,'Data Proposed Rates'!$A:$AT,MATCH(BI_ST_Avg!$A13,ProposedHeader,0),FALSE)","v":1.8196000000000001},{"$f":"IF($B$7=\"kWh\",$B$4,$B$5)","v":2808},{"$f":"F13*E13","v":5109.4368000000004},308.88000000000011,6.4342536265793185E-2]
["Group 2 Fixed Rate Rider",{"$f":"VLOOKUP($B$3,'Data Current Rates'!$A:$AO,MATCH(BI_ST_Avg!$A14,CurrentHeader,0),FALSE)","v":0},1,0,{"$f":"VLOOKUP($B$3,'Data Proposed Rates'!$A:$AT,MATCH(BI_ST_Avg!$A14,ProposedHeader,0),FALSE)","v":-37.83},1,{"$f":"F14*E14","v":-37.83},-37.83,"N/A"]
["Group 2 Volumetric Rate Rider",{"$f":"VLOOKUP($B$3,'Data Current Rates'!$A:$AO,MATCH(BI_ST_Avg!$A15,CurrentHeader,0),FALSE)","v":-7.1999999999999998E-3},{"$f":"IF($B$7=\"kWh\",$B$4,$B$5)","v":2808},-20.217600000000001,{"$f":"VLOOKUP($B$3,'Data Proposed Rates'!$A:$AT,MATCH(BI_ST_Avg!$A15,ProposedHeader,0),FALSE)","v":-6.8599999999999994E-2},{"$f":"IF($B$7=\"kWh\",$B$4,$B$5)","v":2808},-192.62879999999998,-172.41119999999998,-8.5277777777777768]
["Sub-Total A (excluding pass through)",null,null,{"$f":"SUM(D12:D15)","v":6022.2092000000002},null,null,{"$f":"SUM(G12:G15)","v":6120.848},98.638799999999719,1.6379171949058115E-2]
["Line Losses on Cost of Power",0,{"$f":"IF(B$17=0,0,B$4*B$6-B$4)","v":0},{"$f":"C17*B17","v":0},0,{"$f":"IF(E$17=0,0,E$4*E$6-E$4)","v":0},0,0,"N/A"]
["Total Deferral/Variance Account Rate Rider",{"$f":"VLOOKUP($B$3,'Data Current Rates'!$A:$AO,MATCH(BI_ST_Avg!$A18,CurrentHeader,0),FALSE)","v":-1.7218},{"$f":"IF($B$7=\"kWh\",$B$4,$B$5)","v":2808},-4834.8144000000002,{"$f":"VLOOKUP($B$3,'Data Proposed Rates'!$A:$AT,MATCH(BI_ST_Avg!$A18,ProposedHeader,0),FALSE)","v":-0.68330000000000002},{"$f":"IF($B$7=\"kWh\",$B$4,$B$5)","v":2808},-1918.7064,2916.1080000000002,0.60314786850969915]
["CBR Class B Rate Rider",{"$f":"VLOOKUP($B$3,'Data Current Rates'!$A:$AO,MATCH(BI_ST_Avg!$A19,CurrentHeader,0),FALSE)","v":1.2200000000000001E-2},{"$f":"IF($B$7=\"kWh\",$B$4,$B$5)","v":2808},{"$f":"C19*B19","v":34.257600000000004},{"$f":"VLOOKUP($B$3,'Data Proposed Rates'!$A:$AT,MATCH(BI_ST_Avg!$A19,ProposedHeader,0),FALSE)","v":-0.21479999999999999},{"$f":"IF($B$7=\"kWh\",$B$4,$B$5)","v":2808},{"$f":"F19*E19","v":-603.15840000000003},-637.41600000000005,-18.606557377049182]
["GA Rate Rider",{"$f":"VLOOKUP($B$3,'Data Current Rates'!$A:$AO,MATCH(BI_ST_Avg!$A20,CurrentHeader,0),FALSE)","v":-8.9999999999999998E-4},{"$f":"$B$4","v":1373443},{"$f":"C20*B20","v":-1236.0987},{"$f":"VLOOKUP($B$3,'Data Proposed Rates'!$A:$AT,MATCH(BI_ST_Avg!$A20,ProposedHeader,0),FALSE)","v":1.21E-2},{"$f":"$B$4","v":1373443},16618.6603,17854.758999999998,14.444444444444443]
["Rate Rider for Account 1588",null,null,null,{"$f":"VLOOKUP($B$3,'Data Proposed Rates'!$A:$AT,MATCH(BI_ST_Avg!$A21,ProposedHeader,0),FALSE)","v":-1.3452},{"$f":"IF($B$7=\"kWh\",$B$4,$B$5)","v":2808},{"$f":"F21*E21","v":-3777.3215999999998},-3777.3215999999998,"N/A"]
["Sub-Total B - Distribution (includes Sub-Total A)",null,null,{"$f":"SUM(INDIRECT(\"D16:D\"&ROW()-1))","v":-14.446300000000065},null,null,{"$f":"SUM(INDIRECT(\"G16:G\"&ROW()-1))","v":16440.321899999999},16454.768199999999,1139.0299384617463]
["Retail Transmission Rate – Network Service Rate",{"$f":"VLOOKUP($B$3,'Data Current Rates'!$A:$AO,MATCH(BI_ST_Avg!$A23,CurrentHeader,0),FALSE)","v":5.5091999999999999},{"$f":"IF($B$7=\"kWh\",$B$4*$B$6,$B$5)","v":2808},{"$f":"C23*B23","v":15469.8336},{"$f":"VLOOKUP($B$3,'Data Proposed Rates'!$A:$AT,MATCH(BI_ST_Avg!$A23,ProposedHeader,0),FALSE)","v":5.6567999999999996},{"$f":"IF($B$7=\"kWh\",$B$4*$B$6,$B$5)","v":2808},{"$f":"F23*E23","v":15884.294399999999},414.46079999999893,2.6791548682204243E-2]
["Retail Transmission Rate – Line and Transformation Connection Service Rate",{"$f":"VLOOKUP($B$3,'Data Current Rates'!$A:$AO,MATCH(BI_ST_Avg!$A24,CurrentHeader,0),FALSE)","v":4.3196000000000003},{"$f":"IF($B$7=\"kWh\",$B$4*$B$6,$B$5)","v":2808},{"$f":"C24*B24","v":12129.436800000001},{"$f":"VLOOKUP($B$3,'Data Proposed Rates'!$A:$AT,MATCH(BI_ST_Avg!$A24,ProposedHeader,0),FALSE)","v":4.4273999999999996},{"$f":"IF($B$7=\"kWh\",$B$4*$B$6,$B$5)","v":2808},{"$f":"F24*E24","v":12432.1392},302.70239999999831,2.4956014445781875E-2]
["Sub-Total C - Delivery (including Sub-Total B)",null,null,{"$f":"SUM(D22:D24)","v":27584.824100000002},null,null,{"$f":"SUM(G22:G24)","v":44756.755499999999},17171.931399999998,0.62251371760605123]
["Wholesale Market Service Rate (WMS) – not including CBR",{"$f":"VLOOKUP($A26,'Data Pass Through'!$A:$D,2,FALSE)","v":4.1000000000000003E-3},{"$f":"$B$4*$B$6","v":1420140.0620000002},{"$f":"C26*B26","v":5822.5742542000007},{"$f":"VLOOKUP($A26,'Data Pass Through'!$A:$D,3,FALSE)","v":4.1000000000000003E-3},{"$f":"$B$4*$B$6","v":1420140.0620000002},{"$f":"F26*E26","v":5822.5742542000007},0,0]
["Capacity Based Recovery (CBR) – Applicable for Class B Customers",{"$f":"VLOOKUP($A27,'Data Pass Through'!$A:$D,2,FALSE)","v":5.9999999999999995E-4},{"$f":"$B$4*$B$6","v":1420140.0620000002},852.08403720000001,{"$f":"VLOOKUP($A27,'Data Pass Through'!$A:$D,3,FALSE)","v":5.9999999999999995E-4},1420140.0620000002,852.08403720000001,0,0]
["Rural Rate Protection Charge",{"$f":"VLOOKUP($A28,'Data Pass Through'!$A:$D,2,FALSE)","v":5.9999999999999995E-4},1420140.0620000002,852.08403720000001,{"$f":"VLOOKUP($A28,'Data Pass Through'!$A:$D,3,FALSE)","v":5.9999999999999995E-4},1420140.0620000002,852.08403720000001,0,0]
["Standard Supply Service – Administration Charge (if applicable)",{"$f":"VLOOKUP($A29,'Data Pass Through'!$A:$D,2,FALSE)","v":0.25},1,0.25,{"$f":"VLOOKUP($A29,'Data Pass Through'!$A:$D,3,FALSE)","v":0.25},1,0.25,0,0]
["Average IESO Wholesale Market Price",{"$f":"VLOOKUP(A30,'Data Pass Through'!A4:C19,2,0)","v":0.15959999999999999},{"$f":"$B$4*$B$6","v":1420140.0620000002},{"$f":"C30*B30","v":226654.35389520001},{"$f":"VLOOKUP($A30,'Data Pass Through'!$A:$D,3,FALSE)","v":0.15959999999999999},{"$f":"$B$4*$B$6","v":1420140.0620000002},226654.35389520001,{"$f":"G30-D30","v":0},0]
["Total Bill on Average IESO Wholesale Market Price (before Taxes)",null,null,{"$f":"SUM(D25:D30)","v":261766.1703238},null,null,{"$f":"SUM(G25:G30)","v":278938.10172380001},{"$f":"G31-D31","v":17171.931400000001},6.5600269808580053E-2]
["HST",0.13,null,{"$f":"D31*B32","v":34029.602142094001},0.13,null,{"$f":"G31*E32","v":36261.953224094003},{"$f":"G32-D32","v":2232.351082000001},6.5600269808580081E-2]
["Ontario Electricity Rebate (OER)",{"$f":"IF(($B$4*12)<250000,VLOOKUP(A33,'Data Pass Through'!$A$4:$C$19,2,0),0)","v":0},null,{"$f":"D31*B33","v":0},{"$f":"IF(($B$4*12)<250000,VLOOKUP(A33,'Data Pass Through'!$A$4:$C$19,3,0),0)","v":0},null,{"$f":"G31*E33","v":0},{"$f":"G33-D33","v":0},"N/A"]
["Total Bill on Average IESO Wholesale Market Price",null,null,{"$f":"SUM(D31:D33)","v":295795.772465894},null,null,{"$f":"SUM(G31:G33)","v":315200.05494789401},{"$f":"G34-D34","v":19404.28248200001},6.5600269808580081E-2]

{"sheet":"BI_AUR_Typical","index":29,"n_rows":39,"n_cols":9,"rows_kept":39,"cut":false,"hidden":false,"merged":[[0,0,0,10],[8,0,9,0],[8,1,8,3],[8,4,8,6],[8,7,8,8]]}
["Bill Impacts (Typical Consumption Level) - AUR"]
[]
["Rate Class",{"$f":"RIGHT(A1,LEN(A1)-FIND(\"- \",A1,1)-1)","v":"AUR"}]
["Monthly Consumption (kWh)",{"$f":"IF(COUNTIF(A1,\"*Low*\")>0,VLOOKUP(B3,'Data Billing Quantities'!$A:$Z,MATCH(\"Low kWh\",'Data Billing Quantities'!4:4,0),FALSE),IF(COUNTIF(A1,\"*Typical*\")>0,VLOOKUP(B3,'Data Billing Quantities'!$A:$Z,MATCH(\"Typical kWh\",'Data Billing Quantities'!4:4,0),FALSE),IF(COUNTIF(A1,\"*Average*\")>0,VLOOKUP(B3,'Data Billing Quantities'!$A:$Z,MATCH(\"Average kWh\",'Data Billing Quantities'!4:4,0),FALSE),IF(COUNTIF(A1,\"*High*\")>0,VLOOKUP(B3,'Data Billing Quantities'!$A:$Z,MATCH(\"High kWh\",'Data Billing Quantities'!4:4,0),FALSE),\"error\"))))","v":750}]
["Peak (kW)",{"$f":"IF(COUNTIF(A1,\"*Low*\")>0,VLOOKUP(B3,'Data Billing Quantities'!$A:$Z,MATCH(\"Low kW\",'Data Billing Quantities'!4:4,0),FALSE),IF(COUNTIF(A1,\"*Typical*\")>0,VLOOKUP(B3,'Data Billing Quantities'!$A:$Z,MATCH(\"Typical kW\",'Data Billing Quantities'!4:4,0),FALSE),IF(COUNTIF(A1,\"*Average*\")>0,VLOOKUP(B3,'Data Billing Quantities'!$A:$Z,MATCH(\"Average kW\",'Data Billing Quantities'!4:4,0),FALSE),IF(COUNTIF(A1,\"*High*\")>0,VLOOKUP(B3,'Data Billing Quantities'!$A:$Z,MATCH(\"High kW\",'Data Billing Quantities'!4:4,0),FALSE),\"error\"))))","v":0}]
["Loss factor",{"$f":"VLOOKUP(B3,'Data Billing Quantities'!A:D,MATCH(A6,'Data Billing Quantities'!4:4,0),FALSE)","v":1.0429999999999999}]
["Charge determinant",{"$f":"VLOOKUP(B3,'Data Billing Quantities'!A:D,MATCH(A7,'Data Billing Quantities'!4:4,0),FALSE)","v":"kWh"}]
[]
[null,"Current OEB-Approved",null,null,"Proposed",null,null,"Impact"]
[null,"Rate ($)","Volume","Charge ($)","Rate ($)","Volume","Charge ($)","$ Change","% Change"]
["Service Charge",{"$f":"VLOOKUP($B$3,'Data Current Rates'!$A:$AO,MATCH(BI_AUR_Typical!$A11,CurrentHeader,0),FALSE)","v":34.36},1,{"$f":"B11*C11","v":34.36},{"$f":"VLOOKUP($B$3,'Data Proposed Rates'!$A:$AT,MATCH(BI_AUR_Typical!$A11,ProposedHeader,0),FALSE)","v":36.090000000000003},1,{"$f":"E11*F11","v":36.090000000000003},{"$f":"G11-D11","v":1.730000000000004},{"$f":"IF(ISERROR(H11/ABS(D11)),\"N/A\",(H11/ABS(D11)))","v":5.0349243306170084E-2}]
["Distribution Volumetric Charge",{"$f":"VLOOKUP($B$3,'Data Current Rates'!$A:$AO,MATCH(BI_AUR_Typical!$A12,CurrentHeader,0),FALSE)","v":0},{"$f":"IF($B$7=\"kWh\",$B$4,$B$5)","v":750},{"$f":"B12*C12","v":0},{"$f":"VLOOKUP($B$3,'Data Proposed Rates'!$A:$AT,MATCH(BI_AUR_Typical!$A12,ProposedHeader,0),FALSE)","v":0},{"$f":"IF($B$7=\"kWh\",$B$4,$B$5)","v":750},0,0,"N/A"]
["RRRP Adjustment",{"$f":"IF($B$3=\"R2\",VLOOKUP(A13,'Data Pass Through'!$A4:$C19,3,0),0)*-1","v":0},1,{"$f":"B13*C13","v":0},{"$f":"IF($B$3=\"R2\",VLOOKUP(A13,'Data Pass Through'!$A4:$C19,3,0),0)*-1","v":0},1,0,0,"N/A"]
["DRP Adjustment",null,null,{"$f":"IF(OR($B$3=\"R1\",$B$3=\"R2\",$B$3=\"R1-CPUC\"),IF(SUM(D11:D13)>'Data Pass Through'!$B$16,-(SUM(D11:D13)-'Data Pass Through'!$B$16),0),0)","v":0},null,null,{"$f":"IF(OR($B$3=\"R1\",$B$3=\"R2\",$B$3=\"R1-CPUC\"),IF(SUM(G11:G13)>'Data Pass Through'!$B$16,-(SUM(G11:G13)-'Data Pass Through'!$B$16),0),0)","v":0},0,"N/A"]
["Group 2 Fixed Rate Rider",{"$f":"VLOOKUP($B$3,'Data Current Rates'!$A:$AO,MATCH(BI_AUR_Typical!$A15,CurrentHeader,0),FALSE)","v":0},1,{"$f":"B15*C15","v":0},{"$f":"VLOOKUP($B$3,'Data Proposed Rates'!$A:$AT,MATCH(BI_AUR_Typical!$A15,ProposedHeader,0),FALSE)","v":-1.24},1,{"$f":"E15*F15","v":-1.24},-1.24,"N/A"]
["Group 2 Volumetric Rate Rider",{"$f":"VLOOKUP($B$3,'Data Current Rates'!$A:$AO,MATCH(BI_AUR_Typical!$A16,CurrentHeader,0),FALSE)","v":0},{"$f":"IF($B$7=\"kWh\",$B$4,$B$5)","v":750},{"$f":"B16*C16","v":0},{"$f":"VLOOKUP($B$3,'Data Proposed Rates'!$A:$AT,MATCH(BI_AUR_Typical!$A16,ProposedHeader,0),FALSE)","v":0},{"$f":"IF($B$7=\"kWh\",$B$4,$B$5)","v":750},0,{"$f":"G16-D16","v":0},{"$f":"IF(ISERROR(H16/ABS(D16)),\"N/A\",(H16/ABS(D16)))","v":"N/A"}]
["Sub-Total A (excluding pass through)",null,null,{"$f":"SUM(D11:D16)","v":34.36},null,null,{"$f":"SUM(G11:G16)","v":34.85},0.49000000000000199,1.4260768335273632E-2]
["Line Losses on Cost of Power",{"$f":"VLOOKUP($B$3,'Data Billing Quantities'!$A:$O,MATCH(BI_AUR_Typical!$A32,'Data Billing Quantities'!$4:$4,0),FALSE)*$B32+VLOOKUP($B$3,'Data Billing Quantities'!$A:$O,MATCH(BI_AUR_Typical!$A33,'Data Billing Quantities'!$4:$4,0),FALSE)*$B33+VLOOKUP($B$3,'Data Billing Quantities'!$A:$O,MATCH(BI_AUR_Typical!$A34,'Data Billing Quantities'!$4:$4,0),FALSE)*$B34","v":0.12752000000000002},{"$f":"($B$6*$B$4)-$B$4","v":32.25},{"$f":"B18*C18","v":4.1125200000000008},{"$f":"VLOOKUP($B$3,'Data Billing Quantities'!$A:$O,MATCH(BI_AUR_Typical!$A32,'Data Billing Quantities'!$4:$4,0),FALSE)*$B32+VLOOKUP($B$3,'Data Billing Quantities'!$A:$O,MATCH(BI_AUR_Typical!$A33,'Data Billing Quantities'!$4:$4,0),FALSE)*$B33+VLOOKUP($B$3,'Data Billing Quantities'!$A:$O,MATCH(BI_AUR_Typical!$A34,'Data Billing Quantities'!$4:$4,0),FALSE)*$B34","v":0.12752000000000002},{"$f":"($B$6*$B$4)-$B$4","v":32.25},4.1125200000000008,0,0]
["Total Deferral/Variance Account Rate Rider",{"$f":"VLOOKUP($B$3,'Data Current Rates'!$A:$AO,MATCH(BI_AUR_Typical!$A19,CurrentHeader,0),FALSE)","v":-3.8E-3},{"$f":"IF($B$7=\"kWh\",$B$4,$B$5)","v":750},-2.85,{"$f":"VLOOKUP($B$3,'Data Proposed Rates'!$A:$AT,MATCH(BI_AUR_Typical!$A19,ProposedHeader,0),FALSE)","v":-1.8E-3},{"$f":"IF($B$7=\"kWh\",$B$4,$B$5)","v":750},-1.3499999999999999,1.5000000000000002,0.52631578947368429]
["CBR Class B Rate Rider",{"$f":"VLOOKUP($B$3,'Data Current Rates'!$A:$AJ,MATCH(BI_AUR_Typical!$A20,CurrentHeader,0),FALSE)","v":1E-4},{"$f":"IF($B$7=\"kWh\",$B$4,$B$5)","v":750},7.4999999999999997E-2,{"$f":"VLOOKUP($B$3,'Data Proposed Rates'!$A:$AT,MATCH(BI_AUR_Typical!$A20,ProposedHeader,0),FALSE)","v":-5.9999999999999995E-4},{"$f":"IF($B$7=\"kWh\",$B$4,$B$5)","v":750},-0.44999999999999996,-0.52499999999999991,-6.9999999999999991]
["GA Rate Rider",{"$f":"VLOOKUP($B$3,'Data Current Rates'!$A:$AJ,MATCH(BI_AUR_Typical!$A21,CurrentHeader,0),FALSE)","v":0},750,0,{"$f":"VLOOKUP($B$3,'Data Proposed Rates'!$A:$AT,MATCH(BI_AUR_Typical!$A21,ProposedHeader,0),FALSE)","v":0},750,0,0,"N/A"]
["Smart Meter Entity Charge (if applicable)",{"$f":"VLOOKUP($A22,'Data Pass Through'!$A:$D,2,FALSE)","v":0.42},1,0.42,{"$f":"VLOOKUP($A22,'Data Pass Through'!$A:$D,2,FALSE)","v":0.42},1,0.42,0,0]
["Rate Rider for Account 1588",null,null,null,{"$f":"VLOOKUP($B$3,'Data Proposed Rates'!$A:$AT,MATCH(BI_AUR_Typical!$A23,ProposedHeader,0),FALSE)","v":-3.2000000000000002E-3},{"$f":"IF($B$7=\"kWh\",$B$4,$B$5)","v":750},-2.4,-2.4,"N/A"]
["Sub-Total B - Distribution (includes Sub-Total A)",null,null,{"$f":"SUM(INDIRECT(\"D17:D\"&ROW()-1))","v":36.117520000000006},null,null,{"$f":"SUM(INDIRECT(\"G17:G\"&ROW()-1))","v":35.182520000000004},-0.93500000000000227,-2.5887713220619859E-2]
["Retail Transmission Rate – Network Service Rate",{"$f":"VLOOKUP($B$3,'Data Current Rates'!$A:$AJ,MATCH(BI_AUR_Typical!$A25,CurrentHeader,0),FALSE)","v":1.41E-2},{"$f":"IF($B$7=\"kWh\",$B$4*$B$6,$B$5)","v":782.25},{"$f":"B25*C25","v":11.029724999999999},{"$f":"VLOOKUP($B$3,'Data Proposed Rates'!$A:$AT,MATCH(BI_AUR_Typical!$A25,ProposedHeader,0),FALSE)","v":1.4500000000000001E-2},{"$f":"IF($B$7=\"kWh\",$B$4*$B$6,$B$5)","v":782.25},11.342625,0.31290000000000084,2.8368794326241214E-2]
["Retail Transmission Rate – Line and Transformation Connection Service Rate",{"$f":"VLOOKUP($B$3,'Data Current Rates'!$A:$AJ,MATCH(BI_AUR_Typical!$A26,CurrentHeader,0),FALSE)","v":1.01E-2},{"$f":"IF($B$7=\"kWh\",$B$4*$B$6,$B$5)","v":782.25},7.9007249999999996,{"$f":"VLOOKUP($B$3,'Data Proposed Rates'!$A:$AT,MATCH(BI_AUR_Typical!$A26,ProposedHeader,0),FALSE)","v":1.04E-2},{"$f":"IF($B$7=\"kWh\",$B$4*$B$6,$B$5)","v":782.25},8.1353999999999989,0.2346749999999993,2.9702970297029615E-2]
["Sub-Total C - Delivery (including Sub-Total B)",null,null,{"$f":"SUM(D24:D26)","v":55.047970000000007},null,null,{"$f":"SUM(G24:G26)","v":54.660544999999999},-0.38742500000000746,-7.0379525348529181E-3]
["Wholesale Market Service Rate (WMS) – not including CBR",{"$f":"VLOOKUP($A28,'Data Pass Through'!$A:$D,2,FALSE)","v":4.1000000000000003E-3},{"$f":"$B$4*$B$6","v":782.25},{"$f":"B28*C28","v":3.2072250000000002},{"$f":"VLOOKUP($A28,'Data Pass Through'!$A:$D,3,FALSE)","v":4.1000000000000003E-3},{"$f":"$B$4*$B$6","v":782.25},3.2072250000000002,0,0]
["Capacity Based Recovery (CBR) – Applicable for Class B Customers",{"$f":"VLOOKUP($A29,'Data Pass Through'!$A:$D,2,FALSE)","v":5.9999999999999995E-4},{"$f":"$B$4*$B$6","v":782.25},0.46934999999999993,{"$f":"VLOOKUP($A29,'Data Pass Through'!$A:$D,3,FALSE)","v":5.9999999999999995E-4},{"$f":"$B$4*$B$6","v":782.25},0.46934999999999993,0,0]
["Rural Rate Protection Charge",{"$f":"VLOOKUP($A30,'Data Pass Through'!$A:$D,2,FALSE)","v":5.9999999999999995E-4},{"$f":"$B$4*$B$6","v":782.25},0.46934999999999993,{"$f":"VLOOKUP($A30,'Data Pass Through'!$A:$D,3,FALSE)","v":5.9999999999999995E-4},{"$f":"$B$4*$B$6","v":782.25},0.46934999999999993,0,0]
["Standard Supply Service – Administration Charge (if applicable)",{"$f":"VLOOKUP($A31,'Data Pass Through'!$A:$D,2,FALSE)","v":0.25},1,0.25,{"$f":"VLOOKUP($A31,'Data Pass Through'!$A:$D,3,FALSE)","v":0.25},1,0.25,0,0]
["TOU-Off Peak",{"$f":"VLOOKUP($A32,'Data Pass Through'!$A:$D,2,FALSE)","v":9.8000000000000004E-2},{"$f":"B$4*VLOOKUP($B$3,'Data Billing Quantities'!$A:$O,MATCH($A32,'Data Billing Quantities'!$4:$4,0),FALSE)","v":480},47.04,{"$f":"VLOOKUP($A32,'Data Pass Through'!$A:$D,3,FALSE)","v":9.8000000000000004E-2},{"$f":"B$4*VLOOKUP($B$3,'Data Billing Quantities'!$A:$O,MATCH($A32,'Data Billing Quantities'!$4:$4,0),FALSE)","v":480},{"$f":"E32*F32","v":47.04},0,0]
["TOU-Mid Peak",{"$f":"VLOOKUP($A33,'Data Pass Through'!$A:$D,2,FALSE)","v":0.157},{"$f":"B$4*VLOOKUP($B$3,'Data Billing Quantities'!$A:$O,MATCH($A33,'Data Billing Quantities'!$4:$4,0),FALSE)","v":135},21.195,{"$f":"VLOOKUP($A33,'Data Pass Through'!$A:$D,3,FALSE)","v":0.157},{"$f":"B$4*VLOOKUP($B$3,'Data Billing Quantities'!$A:$O,MATCH($A33,'Data Billing Quantities'!$4:$4,0),FALSE)","v":135},{"$f":"E33*F33","v":21.195},0,0]
["TOU-On Peak",{"$f":"VLOOKUP($A34,'Data Pass Through'!$A:$D,2,FALSE)","v":0.20300000000000001},{"$f":"B$4*VLOOKUP($B$3,'Data Billing Quantities'!$A:$O,MATCH($A34,'Data Billing Quantities'!$4:$4,0),FALSE)","v":135},27.405000000000001,{"$f":"VLOOKUP($A34,'Data Pass Through'!$A:$D,3,FALSE)","v":0.20300000000000001},{"$f":"B$4*VLOOKUP($B$3,'Data Billing Quantities'!$A:$O,MATCH($A34,'Data Billing Quantities'!$4:$4,0),FALSE)","v":135},{"$f":"E34*F34","v":27.405000000000001},0,0]
["Total Bill on TOU (before Taxes)",null,null,{"$f":"SUM(D27:D34)","v":155.08389500000001},null,null,{"$f":"SUM(G27:G34)","v":154.69647000000001},-0.38742500000000746,-2.4981639776329285E-3]
["HST",0.13,null,{"$f":"D35*B36","v":20.160906350000001},{"$f":"B36","v":0.13},null,{"$f":"G35*E36","v":20.110541100000003},-5.0365249999998696E-2,-2.4981639776328157E-3]
["Ontario Electricity Rebate (OER)",{"$f":"IF(($B$4*12)<250000,VLOOKUP($A37,'Data Pass Through'!$A$4:$C$19,2,0),0)","v":-0.23499999999999999},null,{"$f":"D35*B37","v":-36.444715325000004},{"$f":"IF(($B$4*12)<250000,VLOOKUP($A37,'Data Pass Through'!$A$4:$C$19,3,0),0)","v":-0.23499999999999999},null,{"$f":"G35*E37","v":-36.353670449999996},9.1044875000008574E-2,2.4981639776331154E-3]
["Total Bill on TOU",null,null,{"$f":"SUM(D35:D37)","v":138.80008602500001},null,null,{"$f":"SUM(G35:G37)","v":138.45334065000003},-0.34674537499998337,-2.4981639776327606E-3]
["* Distribution rate protection applies to R1 and R2 customers"]

{"sheet":"BI_AUGe_Typical","index":30,"n_rows":39,"n_cols":9,"rows_kept":39,"cut":false,"hidden":false,"merged":[[0,0,0,10],[8,0,9,0],[8,1,8,3],[8,4,8,6],[8,7,8,8]]}
["Bill Impacts (Typical Consumption Level) - AUGe"]
[]
["Rate Class",{"$f":"RIGHT(A1,LEN(A1)-FIND(\"- \",A1,1)-1)","v":"AUGe"}]
["Monthly Consumption (kWh)",{"$f":"IF(COUNTIF(A1,\"*Low*\")>0,VLOOKUP(B3,'Data Billing Quantities'!$A:$Z,MATCH(\"Low kWh\",'Data Billing Quantities'!4:4,0),FALSE),IF(COUNTIF(A1,\"*Typical*\")>0,VLOOKUP(B3,'Data Billing Quantities'!$A:$Z,MATCH(\"Typical kWh\",'Data Billing Quantities'!4:4,0),FALSE),IF(COUNTIF(A1,\"*Average*\")>0,VLOOKUP(B3,'Data Billing Quantities'!$A:$Z,MATCH(\"Average kWh\",'Data Billing Quantities'!4:4,0),FALSE),IF(COUNTIF(A1,\"*High*\")>0,VLOOKUP(B3,'Data Billing Quantities'!$A:$Z,MATCH(\"High kWh\",'Data Billing Quantities'!4:4,0),FALSE),\"error\"))))","v":2000}]
["Peak (kW)",{"$f":"IF(COUNTIF(A1,\"*Low*\")>0,VLOOKUP(B3,'Data Billing Quantities'!$A:$Z,MATCH(\"Low kW\",'Data Billing Quantities'!4:4,0),FALSE),IF(COUNTIF(A1,\"*Typical*\")>0,VLOOKUP(B3,'Data Billing Quantities'!$A:$Z,MATCH(\"Typical kW\",'Data Billing Quantities'!4:4,0),FALSE),IF(COUNTIF(A1,\"*Average*\")>0,VLOOKUP(B3,'Data Billing Quantities'!$A:$Z,MATCH(\"Average kW\",'Data Billing Quantities'!4:4,0),FALSE),IF(COUNTIF(A1,\"*High*\")>0,VLOOKUP(B3,'Data Billing Quantities'!$A:$Z,MATCH(\"High kW\",'Data Billing Quantities'!4:4,0),FALSE),\"error\"))))","v":0}]
["Loss factor",{"$f":"VLOOKUP(B3,'Data Billing Quantities'!A:D,MATCH(A6,'Data Billing Quantities'!4:4,0),FALSE)","v":1.0429999999999999}]
["Charge determinant",{"$f":"VLOOKUP(B3,'Data Billing Quantities'!A:D,MATCH(A7,'Data Billing Quantities'!4:4,0),FALSE)","v":"kWh"}]
[]
[null,"Current OEB-Approved",null,null,"Proposed",null,null,"Impact"]
[null,"Rate ($)","Volume","Charge ($)","Rate ($)","Volume","Charge ($)","$ Change","% Change"]
["Service Charge",{"$f":"VLOOKUP($B$3,'Data Current Rates'!$A:$AO,MATCH(BI_AUGe_Typical!$A11,CurrentHeader,0),FALSE)","v":26.36},1,{"$f":"B11*C11","v":26.36},{"$f":"VLOOKUP($B$3,'Data Proposed Rates'!$A:$AT,MATCH(BI_AUGe_Typical!$A11,ProposedHeader,0),FALSE)","v":26.36},1,{"$f":"E11*F11","v":26.36},{"$f":"G11-D11","v":0},{"$f":"IF(ISERROR(H11/ABS(D11)),\"N/A\",(H11/ABS(D11)))","v":0}]
["Distribution Volumetric Charge",{"$f":"VLOOKUP($B$3,'Data Current Rates'!$A:$AO,MATCH(BI_AUGe_Typical!$A12,CurrentHeader,0),FALSE)","v":1.7600000000000001E-2},{"$f":"IF($B$7=\"kWh\",$B$4,$B$5)","v":2000},{"$f":"B12*C12","v":35.200000000000003},{"$f":"VLOOKUP($B$3,'Data Proposed Rates'!$A:$AT,MATCH(BI_AUGe_Typical!$A12,ProposedHeader,0),FALSE)","v":1.9E-2},{"$f":"IF($B$7=\"kWh\",$B$4,$B$5)","v":2000},38,2.7999999999999972,7.9545454545454461E-2]
["RRRP Adjustment",{"$f":"IF($B$3=\"R2\",VLOOKUP(A13,'Data Pass Through'!$A4:$C19,3,0),0)*-1","v":0},1,{"$f":"B13*C13","v":0},{"$f":"IF($B$3=\"R2\",VLOOKUP(A13,'Data Pass Through'!$A4:$C19,3,0),0)*-1","v":0},1,0,0,"N/A"]
["DRP Adjustment",null,null,{"$f":"IF(OR($B$3=\"R1\",$B$3=\"R2\",$B$3=\"R1-CPUC\"),IF(SUM(D11:D13)>'Data Pass Through'!$B$16,-(SUM(D11:D13)-'Data Pass Through'!$B$16),0),0)","v":0},null,null,{"$f":"IF(OR($B$3=\"R1\",$B$3=\"R2\",$B$3=\"R1-CPUC\"),IF(SUM(G11:G13)>'Data Pass Through'!$B$16,-(SUM(G11:G13)-'Data Pass Through'!$B$16),0),0)","v":0},0,"N/A"]
["Group 2 Fixed Rate Rider",{"$f":"VLOOKUP($B$3,'Data Current Rates'!$A:$AO,MATCH(BI_AUGe_Typical!$A15,CurrentHeader,0),FALSE)","v":0},1,{"$f":"B15*C15","v":0},{"$f":"VLOOKUP($B$3,'Data Proposed Rates'!$A:$AT,MATCH(BI_AUGe_Typical!$A15,ProposedHeader,0),FALSE)","v":-0.9},1,{"$f":"E15*F15","v":-0.9},-0.9,"N/A"]
["Group 2 Volumetric Rate Rider",{"$f":"VLOOKUP($B$3,'Data Current Rates'!$A:$AO,MATCH(BI_AUGe_Typical!$A16,CurrentHeader,0),FALSE)","v":0},{"$f":"IF($B$7=\"kWh\",$B$4,$B$5)","v":2000},{"$f":"B16*C16","v":0},{"$f":"VLOOKUP($B$3,'Data Proposed Rates'!$A:$AT,MATCH(BI_AUGe_Typical!$A16,ProposedHeader,0),FALSE)","v":-6.9999999999999999E-4},{"$f":"IF($B$7=\"kWh\",$B$4,$B$5)","v":2000},-1.4,{"$f":"G16-D16","v":-1.4},{"$f":"IF(ISERROR(H16/ABS(D16)),\"N/A\",(H16/ABS(D16)))","v":"N/A"}]
["Sub-Total A (excluding pass through)",null,null,{"$f":"SUM(D11:D16)","v":61.56},null,null,{"$f":"SUM(G11:G16)","v":62.06},0.5,8.1221572449642621E-3]
["Line Losses on Cost of Power",{"$f":"VLOOKUP($B$3,'Data Billing Quantities'!$A:$O,MATCH(BI_AUGe_Typical!$A32,'Data Billing Quantities'!$4:$4,0),FALSE)*$B32+VLOOKUP($B$3,'Data Billing Quantities'!$A:$O,MATCH(BI_AUGe_Typical!$A33,'Data Billing Quantities'!$4:$4,0),FALSE)*$B33+VLOOKUP($B$3,'Data Billing Quantities'!$A:$O,MATCH(BI_AUGe_Typical!$A34,'Data Billing Quantities'!$4:$4,0),FALSE)*$B34","v":0.12752000000000002},{"$f":"($B$6*$B$4)-$B$4","v":86},{"$f":"B18*C18","v":10.966720000000002},{"$f":"VLOOKUP($B$3,'Data Billing Quantities'!$A:$O,MATCH(BI_AUGe_Typical!$A32,'Data Billing Quantities'!$4:$4,0),FALSE)*$B32+VLOOKUP($B$3,'Data Billing Quantities'!$A:$O,MATCH(BI_AUGe_Typical!$A33,'Data Billing Quantities'!$4:$4,0),FALSE)*$B33+VLOOKUP($B$3,'Data Billing Quantities'!$A:$O,MATCH(BI_AUGe_Typical!$A34,'Data Billing Quantities'!$4:$4,0),FALSE)*$B34","v":0.12752000000000002},{"$f":"($B$6*$B$4)-$B$4","v":86},10.966720000000002,0,0]
["Total Deferral/Variance Account Rate Rider",{"$f":"VLOOKUP($B$3,'Data Current Rates'!$A:$AO,MATCH(BI_AUGe_Typical!$A19,CurrentHeader,0),FALSE)","v":-3.5999999999999999E-3},{"$f":"IF($B$7=\"kWh\",$B$4,$B$5)","v":2000},-7.2,{"$f":"VLOOKUP($B$3,'Data Proposed Rates'!$A:$AT,MATCH(BI_AUGe_Typical!$A19,ProposedHeader,0),FALSE)","v":-1.8E-3},{"$f":"IF($B$7=\"kWh\",$B$4,$B$5)","v":2000},-3.6,3.6,0.5]
["CBR Class B Rate Rider",{"$f":"VLOOKUP($B$3,'Data Current Rates'!$A:$AJ,MATCH(BI_AUGe_Typical!$A20,CurrentHeader,0),FALSE)","v":1E-4},{"$f":"IF($B$7=\"kWh\",$B$4,$B$5)","v":2000},0.2,{"$f":"VLOOKUP($B$3,'Data Proposed Rates'!$A:$AT,MATCH(BI_AUGe_Typical!$A20,ProposedHeader,0),FALSE)","v":-5.9999999999999995E-4},{"$f":"IF($B$7=\"kWh\",$B$4,$B$5)","v":2000},-1.2,-1.4,-6.9999999999999991]
["GA Rate Rider",{"$f":"VLOOKUP($B$3,'Data Current Rates'!$A:$AJ,MATCH(BI_AUGe_Typical!$A21,CurrentHeader,0),FALSE)","v":0},2000,0,{"$f":"VLOOKUP($B$3,'Data Proposed Rates'!$A:$AT,MATCH(BI_AUGe_Typical!$A21,ProposedHeader,0),FALSE)","v":0},2000,0,0,"N/A"]
["Smart Meter Entity Charge (if applicable)",{"$f":"VLOOKUP($A22,'Data Pass Through'!$A:$D,2,FALSE)","v":0.42},1,0.42,{"$f":"VLOOKUP($A22,'Data Pass Through'!$A:$D,2,FALSE)","v":0.42},1,0.42,0,0]
["Rate Rider for Account 1588",null,null,null,{"$f":"VLOOKUP($B$3,'Data Proposed Rates'!$A:$AT,MATCH(BI_AUGe_Typical!$A23,ProposedHeader,0),FALSE)","v":-3.2000000000000002E-3},{"$f":"IF($B$7=\"kWh\",$B$4,$B$5)","v":2000},-6.4,-6.4,"N/A"]
["Sub-Total B - Distribution (includes Sub-Total A)",null,null,{"$f":"SUM(INDIRECT(\"D17:D\"&ROW()-1))","v":65.946720000000013},null,null,{"$f":"SUM(INDIRECT(\"G17:G\"&ROW()-1))","v":62.246720000000018},-3.6999999999999957,-5.6105898822564566E-2]
["Retail Transmission Rate – Network Service Rate",{"$f":"VLOOKUP($B$3,'Data Current Rates'!$A:$AJ,MATCH(BI_AUGe_Typical!$A25,CurrentHeader,0),FALSE)","v":1.09E-2},{"$f":"IF($B$7=\"kWh\",$B$4*$B$6,$B$5)","v":2086},{"$f":"B25*C25","v":22.737400000000001},{"$f":"VLOOKUP($B$3,'Data Proposed Rates'!$A:$AT,MATCH(BI_AUGe_Typical!$A25,ProposedHeader,0),FALSE)","v":1.12E-2},{"$f":"IF($B$7=\"kWh\",$B$4*$B$6,$B$5)","v":2086},23.363199999999999,0.62579999999999814,2.7522935779816432E-2]
["Retail Transmission Rate – Line and Transformation Connection Service Rate",{"$f":"VLOOKUP($B$3,'Data Current Rates'!$A:$AJ,MATCH(BI_AUGe_Typical!$A26,CurrentHeader,0),FALSE)","v":8.2000000000000007E-3},{"$f":"IF($B$7=\"kWh\",$B$4*$B$6,$B$5)","v":2086},17.1052,{"$f":"VLOOKUP($B$3,'Data Proposed Rates'!$A:$AT,MATCH(BI_AUGe_Typical!$A26,ProposedHeader,0),FALSE)","v":8.3999999999999995E-3},{"$f":"IF($B$7=\"kWh\",$B$4*$B$6,$B$5)","v":2086},17.522399999999998,0.41719999999999757,2.4390243902438883E-2]
["Sub-Total C - Delivery (including Sub-Total B)",null,null,{"$f":"SUM(D24:D26)","v":105.78932},null,null,{"$f":"SUM(G24:G26)","v":103.13232000000002},-2.6569999999999823,-2.5115956884872521E-2]
["Wholesale Market Service Rate (WMS) – not including CBR",{"$f":"VLOOKUP($A28,'Data Pass Through'!$A:$D,2,FALSE)","v":4.1000000000000003E-3},{"$f":"$B$4*$B$6","v":2086},{"$f":"B28*C28","v":8.5526},{"$f":"VLOOKUP($A28,'Data Pass Through'!$A:$D,3,FALSE)","v":4.1000000000000003E-3},{"$f":"$B$4*$B$6","v":2086},8.5526,0,0]
["Capacity Based Recovery (CBR) – Applicable for Class B Customers",{"$f":"VLOOKUP($A29,'Data Pass Through'!$A:$D,2,FALSE)","v":5.9999999999999995E-4},{"$f":"$B$4*$B$6","v":2086},1.2515999999999998,{"$f":"VLOOKUP($A29,'Data Pass Through'!$A:$D,3,FALSE)","v":5.9999999999999995E-4},{"$f":"$B$4*$B$6","v":2086},1.2515999999999998,0,0]
["Rural Rate Protection Charge",{"$f":"VLOOKUP($A30,'Data Pass Through'!$A:$D,2,FALSE)","v":5.9999999999999995E-4},{"$f":"$B$4*$B$6","v":2086},1.2515999999999998,{"$f":"VLOOKUP($A30,'Data Pass Through'!$A:$D,3,FALSE)","v":5.9999999999999995E-4},{"$f":"$B$4*$B$6","v":2086},1.2515999999999998,0,0]
["Standard Supply Service – Administration Charge (if applicable)",{"$f":"VLOOKUP($A31,'Data Pass Through'!$A:$D,2,FALSE)","v":0.25},1,0.25,{"$f":"VLOOKUP($A31,'Data Pass Through'!$A:$D,3,FALSE)","v":0.25},1,0.25,0,0]
["TOU-Off Peak",{"$f":"VLOOKUP($A32,'Data Pass Through'!$A:$D,2,FALSE)","v":9.8000000000000004E-2},{"$f":"B$4*VLOOKUP($B$3,'Data Billing Quantities'!$A:$O,MATCH($A32,'Data Billing Quantities'!$4:$4,0),FALSE)","v":1280},125.44,{"$f":"VLOOKUP($A32,'Data Pass Through'!$A:$D,3,FALSE)","v":9.8000000000000004E-2},{"$f":"B$4*VLOOKUP($B$3,'Data Billing Quantities'!$A:$O,MATCH($A32,'Data Billing Quantities'!$4:$4,0),FALSE)","v":1280},{"$f":"E32*F32","v":125.44},0,0]
["TOU-Mid Peak",{"$f":"VLOOKUP($A33,'Data Pass Through'!$A:$D,2,FALSE)","v":0.157},{"$f":"B$4*VLOOKUP($B$3,'Data Billing Quantities'!$A:$O,MATCH($A33,'Data Billing Quantities'!$4:$4,0),FALSE)","v":360},56.52,{"$f":"VLOOKUP($A33,'Data Pass Through'!$A:$D,3,FALSE)","v":0.157},{"$f":"B$4*VLOOKUP($B$3,'Data Billing Quantities'!$A:$O,MATCH($A33,'Data Billing Quantities'!$4:$4,0),FALSE)","v":360},{"$f":"E33*F33","v":56.52},0,0]
["TOU-On Peak",{"$f":"VLOOKUP($A34,'Data Pass Through'!$A:$D,2,FALSE)","v":0.20300000000000001},{"$f":"B$4*VLOOKUP($B$3,'Data Billing Quantities'!$A:$O,MATCH($A34,'Data Billing Quantities'!$4:$4,0),FALSE)","v":360},73.08,{"$f":"VLOOKUP($A34,'Data Pass Through'!$A:$D,3,FALSE)","v":0.20300000000000001},{"$f":"B$4*VLOOKUP($B$3,'Data Billing Quantities'!$A:$O,MATCH($A34,'Data Billing Quantities'!$4:$4,0),FALSE)","v":360},{"$f":"E34*F34","v":73.08},0,0]
["Total Bill on TOU (before Taxes)",null,null,{"$f":"SUM(D27:D34)","v":372.13511999999997},null,null,{"$f":"SUM(G27:G34)","v":369.47811999999999},-2.6569999999999823,-7.1398797297067326E-3]
["HST",0.13,null,{"$f":"D35*B36","v":48.377565599999997},{"$f":"B36","v":0.13},null,{"$f":"G35*E36","v":48.032155600000003},-0.345409999999994,-7.1398797297066562E-3]
["Ontario Electricity Rebate (OER)",{"$f":"IF(($B$4*12)<250000,VLOOKUP($A37,'Data Pass Through'!$A$4:$C$19,2,0),0)","v":-0.23499999999999999},null,{"$f":"D35*B37","v":-87.451753199999985},{"$f":"IF(($B$4*12)<250000,VLOOKUP($A37,'Data Pass Through'!$A$4:$C$19,3,0),0)","v":-0.23499999999999999},null,{"$f":"G35*E37","v":-86.827358199999992},0.62439499999999271,7.1398797297066979E-3]
["Total Bill on TOU",null,null,{"$f":"SUM(D35:D37)","v":333.06093239999996},null,null,{"$f":"SUM(G35:G37)","v":330.68291740000001},-2.378014999999948,-7.1398797297066241E-3]
["* Distribution rate protection applies to R1 and R2 customers"]

{"sheet":"BI_AUGd_Average","index":31,"n_rows":34,"n_cols":9,"rows_kept":34,"cut":false,"hidden":false,"merged":[[0,0,0,9],[8,1,8,3],[8,4,8,6],[8,7,8,8]]}
["Bill Impacts (Average Consumption Level) - AUGd"]
[]
["Rate Class",{"$f":"RIGHT(A1,LEN(A1)-FIND(\"- \",A1,1)-1)","v":"AUGd"}]
["Monthly Consumption (kWh)",{"$f":"IF(COUNTIF(A1,\"*Low*\")>0,VLOOKUP(B3,'Data Billing Quantities'!$A:$Z,MATCH(\"Low kWh\",'Data Billing Quantities'!4:4,0),FALSE),IF(COUNTIF(A1,\"*Typical*\")>0,VLOOKUP(B3,'Data Billing Quantities'!$A:$Z,MATCH(\"Typical kWh\",'Data Billing Quantities'!4:4,0),FALSE),IF(COUNTIF(A1,\"*Average*\")>0,VLOOKUP(B3,'Data Billing Quantities'!$A:$Z,MATCH(\"Average kWh\",'Data Billing Quantities'!4:4,0),FALSE),IF(COUNTIF(A1,\"*High*\")>0,VLOOKUP(B3,'Data Billing Quantities'!$A:$Z,MATCH(\"High kWh\",'Data Billing Quantities'!4:4,0),FALSE),\"error\"))))","v":47636}]
["Peak (kW)",{"$f":"IF(COUNTIF(A1,\"*Low*\")>0,VLOOKUP(B3,'Data Billing Quantities'!$A:$Z,MATCH(\"Low kW\",'Data Billing Quantities'!4:4,0),FALSE),IF(COUNTIF(A1,\"*Typical*\")>0,VLOOKUP(B3,'Data Billing Quantities'!$A:$Z,MATCH(\"Typical kW\",'Data Billing Quantities'!4:4,0),FALSE),IF(COUNTIF(A1,\"*Average*\")>0,VLOOKUP(B3,'Data Billing Quantities'!$A:$Z,MATCH(\"Average kW\",'Data Billing Quantities'!4:4,0),FALSE),IF(COUNTIF(A1,\"*High*\")>0,VLOOKUP(B3,'Data Billing Quantities'!$A:$Z,MATCH(\"High kW\",'Data Billing Quantities'!4:4,0),FALSE),\"error\"))))","v":134}]
["Loss factor",{"$f":"VLOOKUP(B3,'Data Billing Quantities'!A:D,MATCH(A6,'Data Billing Quantities'!4:4,0),FALSE)","v":1.0329999999999999}]
["Charge determinant",{"$f":"VLOOKUP(B3,'Data Billing Quantities'!A:D,MATCH(A7,'Data Billing Quantities'!4:4,0),FALSE)","v":"kW"}]
[]
[null,"Current OEB-Approved",null,null,"Proposed",null,null,"Impact"]
[null,"Rate","Volume","Charge","Rate","Volume","Charge","$ Change","% Change"]
[null,"($)",null,"($)","($)",null,"($)"]
["Service Charge",{"$f":"VLOOKUP($B$3,'Data Current Rates'!$A:$AO,MATCH(BI_AUGd_Average!$A12,CurrentHeader,0),FALSE)","v":146.47},1,{"$f":"C12*B12","v":146.47},{"$f":"VLOOKUP($B$3,'Data Proposed Rates'!$A:$AT,MATCH(BI_AUGd_Average!$A12,ProposedHeader,0),FALSE)","v":146.47},1,{"$f":"F12*E12","v":146.47},{"$f":"G12-D12","v":0},{"$f":"IF(ISERROR(H12/ABS(D12)),\"N/A\",(H12/ABS(D12)))","v":0}]
["Distribution Volumetric Charge",{"$f":"VLOOKUP($B$3,'Data Current Rates'!$A:$AO,MATCH(BI_AUGd_Average!$A13,CurrentHeader,0),FALSE)","v":3.1817000000000002},{"$f":"IF($B$7=\"kWh\",$B$4,$B$5)","v":134},{"$f":"C13*B13","v":426.34780000000001},{"$f":"VLOOKUP($B$3,'Data Proposed Rates'!$A:$AT,MATCH(BI_AUGd_Average!$A13,ProposedHeader,0),FALSE)","v":3.3805999999999998},{"$f":"IF($B$7=\"kWh\",$B$4,$B$5)","v":134},{"$f":"F13*E13","v":453.00039999999996},26.65259999999995,6.2513750510733143E-2]
["Group 2 Fixed Rate Rider",{"$f":"VLOOKUP($B$3,'Data Current Rates'!$A:$AO,MATCH(BI_AUGd_Average!$A14,CurrentHeader,0),FALSE)","v":0},1,0,{"$f":"VLOOKUP($B$3,'Data Proposed Rates'!$A:$AT,MATCH(BI_AUGd_Average!$A14,ProposedHeader,0),FALSE)","v":-5.0199999999999996},1,{"$f":"F14*E14","v":-5.0199999999999996},-5.0199999999999996,"N/A"]
["Group 2 Volumetric Rate Rider",{"$f":"VLOOKUP($B$3,'Data Current Rates'!$A:$AO,MATCH(BI_AUGd_Average!$A15,CurrentHeader,0),FALSE)","v":0},{"$f":"IF($B$7=\"kWh\",$B$4,$B$5)","v":134},0,{"$f":"VLOOKUP($B$3,'Data Proposed Rates'!$A:$AT,MATCH(BI_AUGd_Average!$A15,ProposedHeader,0),FALSE)","v":-0.1051},{"$f":"IF($B$7=\"kWh\",$B$4,$B$5)","v":134},-14.083399999999999,-14.083399999999999,"N/A"]
["Sub-Total A (excluding pass through)",null,null,{"$f":"SUM(D12:D15)","v":572.81780000000003},null,null,{"$f":"SUM(G12:G15)","v":580.36699999999996},7.549199999999928,1.3179059728939862E-2]
["Line Losses on Cost of Power",0,{"$f":"IF(B$17=0,0,B$4*B$6-B$4)","v":0},{"$f":"C17*B17","v":0},0,{"$f":"IF(E$17=0,0,E$4*E$6-E$4)","v":0},0,0,"N/A"]
["Total Deferral/Variance Account Rate Rider",{"$f":"VLOOKUP($B$3,'Data Current Rates'!$A:$AO,MATCH(BI_AUGd_Average!$A18,CurrentHeader,0),FALSE)","v":-1.2403999999999999},{"$f":"IF($B$7=\"kWh\",$B$4,$B$5)","v":134},-166.21359999999999,{"$f":"VLOOKUP($B$3,'Data Proposed Rates'!$A:$AT,MATCH(BI_AUGd_Average!$A18,ProposedHeader,0),FALSE)","v":-0.77349999999999997},{"$f":"IF($B$7=\"kWh\",$B$4,$B$5)","v":134},-103.649,62.564599999999984,0.3764108352144469]
["CBR Class B Rate Rider",{"$f":"VLOOKUP($B$3,'Data Current Rates'!$A:$AO,MATCH(BI_AUGd_Average!$A19,CurrentHeader,0),FALSE)","v":1.9699999999999999E-2},{"$f":"IF($B$7=\"kWh\",$B$4,$B$5)","v":134},{"$f":"C19*B19","v":2.6397999999999997},{"$f":"VLOOKUP($B$3,'Data Proposed Rates'!$A:$AT,MATCH(BI_AUGd_Average!$A19,ProposedHeader,0),FALSE)","v":-0.21640000000000001},{"$f":"IF($B$7=\"kWh\",$B$4,$B$5)","v":134},{"$f":"F19*E19","v":-28.997600000000002},-31.637400000000003,-11.984771573604064]
["GA Rate Rider",{"$f":"VLOOKUP($B$3,'Data Current Rates'!$A:$AO,MATCH(BI_AUGd_Average!$A20,CurrentHeader,0),FALSE)","v":-8.9999999999999998E-4},{"$f":"$B$4","v":47636},{"$f":"C20*B20","v":-42.872399999999999},{"$f":"VLOOKUP($B$3,'Data Proposed Rates'!$A:$AT,MATCH(BI_AUGd_Average!$A20,ProposedHeader,0),FALSE)","v":1.21E-2},{"$f":"$B$4","v":47636},576.39559999999994,619.26799999999992,14.444444444444443]
["Rate Rider for Account 1588",null,null,null,{"$f":"VLOOKUP($B$3,'Data Proposed Rates'!$A:$AT,MATCH(BI_AUGd_Average!$A21,ProposedHeader,0),FALSE)","v":-1.1192},{"$f":"IF($B$7=\"kWh\",$B$4,$B$5)","v":134},{"$f":"F21*E21","v":-149.97280000000001},-149.97280000000001,"N/A"]
["Sub-Total B - Distribution (includes Sub-Total A)",null,null,{"$f":"SUM(INDIRECT(\"D16:D\"&ROW()-1))","v":366.37160000000006},null,null,{"$f":"SUM(INDIRECT(\"G16:G\"&ROW()-1))","v":874.14319999999998},507.77159999999992,1.3859469456693692]
["Retail Transmission Rate – Network Service Rate",{"$f":"VLOOKUP($B$3,'Data Current Rates'!$A:$AO,MATCH(BI_AUGd_Average!$A23,CurrentHeader,0),FALSE)","v":3.7906},{"$f":"IF($B$7=\"kWh\",$B$4*$B$6,$B$5)","v":134},{"$f":"C23*B23","v":507.94040000000001},{"$f":"VLOOKUP($B$3,'Data Proposed Rates'!$A:$AT,MATCH(BI_AUGd_Average!$A23,ProposedHeader,0),FALSE)","v":3.8921000000000001},{"$f":"IF($B$7=\"kWh\",$B$4*$B$6,$B$5)","v":134},{"$f":"F23*E23","v":521.54140000000007},13.601000000000056,2.6776763573049232E-2]
["Retail Transmission Rate – Line and Transformation Connection Service Rate",{"$f":"VLOOKUP($B$3,'Data Current Rates'!$A:$AO,MATCH(BI_AUGd_Average!$A24,CurrentHeader,0),FALSE)","v":2.8288000000000002},{"$f":"IF($B$7=\"kWh\",$B$4*$B$6,$B$5)","v":134},{"$f":"C24*B24","v":379.05920000000003},{"$f":"VLOOKUP($B$3,'Data Proposed Rates'!$A:$AT,MATCH(BI_AUGd_Average!$A24,ProposedHeader,0),FALSE)","v":2.8993000000000002},{"$f":"IF($B$7=\"kWh\",$B$4*$B$6,$B$5)","v":134},{"$f":"F24*E24","v":388.50620000000004},9.4470000000000027,2.4922228506787335E-2]
["Sub-Total C - Delivery (including Sub-Total B)",null,null,{"$f":"SUM(D22:D24)","v":1253.3712},null,null,{"$f":"SUM(G22:G24)","v":1784.1908000000001},530.81960000000004,0.42351348108206094]
["Wholesale Market Service Rate (WMS) – not including CBR",{"$f":"VLOOKUP($A26,'Data Pass Through'!$A:$D,2,FALSE)","v":4.1000000000000003E-3},{"$f":"$B$4*$B$6","v":49207.987999999998},{"$f":"C26*B26","v":201.7527508},{"$f":"VLOOKUP($A26,'Data Pass Through'!$A:$D,3,FALSE)","v":4.1000000000000003E-3},{"$f":"$B$4*$B$6","v":49207.987999999998},{"$f":"F26*E26","v":201.7527508},0,0]
["Capacity Based Recovery (CBR) – Applicable for Class B Customers",{"$f":"VLOOKUP($A27,'Data Pass Through'!$A:$D,2,FALSE)","v":5.9999999999999995E-4},{"$f":"$B$4*$B$6","v":49207.987999999998},29.524792799999997,{"$f":"VLOOKUP($A27,'Data Pass Through'!$A:$D,3,FALSE)","v":5.9999999999999995E-4},49207.987999999998,29.524792799999997,0,0]
["Rural Rate Protection Charge",{"$f":"VLOOKUP($A28,'Data Pass Through'!$A:$D,2,FALSE)","v":5.9999999999999995E-4},49207.987999999998,29.524792799999997,{"$f":"VLOOKUP($A28,'Data Pass Through'!$A:$D,3,FALSE)","v":5.9999999999999995E-4},49207.987999999998,29.524792799999997,0,0]
["Standard Supply Service – Administration Charge (if applicable)",{"$f":"VLOOKUP($A29,'Data Pass Through'!$A:$D,2,FALSE)","v":0.25},1,0.25,{"$f":"VLOOKUP($A29,'Data Pass Through'!$A:$D,3,FALSE)","v":0.25},1,0.25,0,0]
["Average IESO Wholesale Market Price",{"$f":"VLOOKUP(A30,'Data Pass Through'!A4:C19,2,0)","v":0.15959999999999999},{"$f":"$B$4*$B$6","v":49207.987999999998},{"$f":"C30*B30","v":7853.5948847999989},{"$f":"VLOOKUP($A30,'Data Pass Through'!$A:$D,3,FALSE)","v":0.15959999999999999},{"$f":"$B$4*$B$6","v":49207.987999999998},7853.5948847999989,{"$f":"G30-D30","v":0},0]
["Total Bill on Average IESO Wholesale Market Price (before Taxes)",null,null,{"$f":"SUM(D25:D30)","v":9368.0184211999986},null,null,{"$f":"SUM(G25:G30)","v":9898.8380211999993},{"$f":"G31-D31","v":530.81960000000072},5.6662954333943895E-2]
["HST",0.13,null,{"$f":"D31*B32","v":1217.8423947559997},0.13,null,{"$f":"G31*E32","v":1286.848942756},{"$f":"G32-D32","v":69.006548000000294},5.6662954333944061E-2]
["Ontario Electricity Rebate (OER)",{"$f":"IF(($B$4*12)<250000,VLOOKUP(A33,'Data Pass Through'!$A$4:$C$19,2,0),0)","v":0},null,{"$f":"D31*B33","v":0},{"$f":"IF(($B$4*12)<250000,VLOOKUP(A33,'Data Pass Through'!$A$4:$C$19,3,0),0)","v":0},null,{"$f":"G31*E33","v":0},{"$f":"G33-D33","v":0},"N/A"]
["Total Bill on Average IESO Wholesale Market Price",null,null,{"$f":"SUM(D31:D33)","v":10585.860815955999},null,null,{"$f":"SUM(G31:G33)","v":11185.686963955999},{"$f":"G34-D34","v":599.8261480000001},5.6662954333943825E-2]

{"sheet":"BI_AR_Typical","index":32,"n_rows":39,"n_cols":9,"rows_kept":39,"cut":false,"hidden":false,"merged":[[0,0,0,10],[8,0,9,0],[8,1,8,3],[8,4,8,6],[8,7,8,8]]}
["Bill Impacts (Typical Consumption Level) - AR"]
[]
["Rate Class",{"$f":"RIGHT(A1,LEN(A1)-FIND(\"- \",A1,1)-1)","v":"AR"}]
["Monthly Consumption (kWh)",{"$f":"IF(COUNTIF(A1,\"*Low*\")>0,VLOOKUP(B3,'Data Billing Quantities'!$A:$Z,MATCH(\"Low kWh\",'Data Billing Quantities'!4:4,0),FALSE),IF(COUNTIF(A1,\"*Typical*\")>0,VLOOKUP(B3,'Data Billing Quantities'!$A:$Z,MATCH(\"Typical kWh\",'Data Billing Quantities'!4:4,0),FALSE),IF(COUNTIF(A1,\"*Average*\")>0,VLOOKUP(B3,'Data Billing Quantities'!$A:$Z,MATCH(\"Average kWh\",'Data Billing Quantities'!4:4,0),FALSE),IF(COUNTIF(A1,\"*High*\")>0,VLOOKUP(B3,'Data Billing Quantities'!$A:$Z,MATCH(\"High kWh\",'Data Billing Quantities'!4:4,0),FALSE),\"error\"))))","v":750}]
["Peak (kW)",{"$f":"IF(COUNTIF(A1,\"*Low*\")>0,VLOOKUP(B3,'Data Billing Quantities'!$A:$Z,MATCH(\"Low kW\",'Data Billing Quantities'!4:4,0),FALSE),IF(COUNTIF(A1,\"*Typical*\")>0,VLOOKUP(B3,'Data Billing Quantities'!$A:$Z,MATCH(\"Typical kW\",'Data Billing Quantities'!4:4,0),FALSE),IF(COUNTIF(A1,\"*Average*\")>0,VLOOKUP(B3,'Data Billing Quantities'!$A:$Z,MATCH(\"Average kW\",'Data Billing Quantities'!4:4,0),FALSE),IF(COUNTIF(A1,\"*High*\")>0,VLOOKUP(B3,'Data Billing Quantities'!$A:$Z,MATCH(\"High kW\",'Data Billing Quantities'!4:4,0),FALSE),\"error\"))))","v":0}]
["Loss factor",{"$f":"VLOOKUP(B3,'Data Billing Quantities'!A:D,MATCH(A6,'Data Billing Quantities'!4:4,0),FALSE)","v":1.0640000000000001}]
["Charge determinant",{"$f":"VLOOKUP(B3,'Data Billing Quantities'!A:D,MATCH(A7,'Data Billing Quantities'!4:4,0),FALSE)","v":"kWh"}]
[]
[null,"Current OEB-Approved",null,null,"Proposed",null,null,"Impact"]
[null,"Rate ($)","Volume","Charge ($)","Rate ($)","Volume","Charge ($)","$ Change","% Change"]
["Service Charge",{"$f":"VLOOKUP($B$3,'Data Current Rates'!$A:$AO,MATCH(BI_AR_Typical!$A11,CurrentHeader,0),FALSE)","v":41.71},1,{"$f":"B11*C11","v":41.71},{"$f":"VLOOKUP($B$3,'Data Proposed Rates'!$A:$AT,MATCH(BI_AR_Typical!$A11,ProposedHeader,0),FALSE)","v":43.81},1,{"$f":"E11*F11","v":43.81},{"$f":"G11-D11","v":2.1000000000000014},{"$f":"IF(ISERROR(H11/ABS(D11)),\"N/A\",(H11/ABS(D11)))","v":5.0347638456005789E-2}]
["Distribution Volumetric Charge",{"$f":"VLOOKUP($B$3,'Data Current Rates'!$A:$AO,MATCH(BI_AR_Typical!$A12,CurrentHeader,0),FALSE)","v":0},{"$f":"IF($B$7=\"kWh\",$B$4,$B$5)","v":750},{"$f":"B12*C12","v":0},{"$f":"VLOOKUP($B$3,'Data Proposed Rates'!$A:$AT,MATCH(BI_AR_Typical!$A12,ProposedHeader,0),FALSE)","v":0},{"$f":"IF($B$7=\"kWh\",$B$4,$B$5)","v":750},0,0,"N/A"]
["RRRP Adjustment",{"$f":"IF($B$3=\"R2\",VLOOKUP(A13,'Data Pass Through'!$A4:$C19,3,0),0)*-1","v":0},1,{"$f":"B13*C13","v":0},{"$f":"IF($B$3=\"R2\",VLOOKUP(A13,'Data Pass Through'!$A4:$C19,3,0),0)*-1","v":0},1,0,0,"N/A"]
["DRP Adjustment",null,null,{"$f":"IF(OR($B$3=\"R1\",$B$3=\"R2\",$B$3=\"R1-CPUC\"),IF(SUM(D11:D13)>'Data Pass Through'!$B$16,-(SUM(D11:D13)-'Data Pass Through'!$B$16),0),0)","v":0},null,null,{"$f":"IF(OR($B$3=\"R1\",$B$3=\"R2\",$B$3=\"R1-CPUC\"),IF(SUM(G11:G13)>'Data Pass Through'!$B$16,-(SUM(G11:G13)-'Data Pass Through'!$B$16),0),0)","v":0},0,"N/A"]
["Group 2 Fixed Rate Rider",{"$f":"VLOOKUP($B$3,'Data Current Rates'!$A:$AO,MATCH(BI_AR_Typical!$A15,CurrentHeader,0),FALSE)","v":0},1,{"$f":"B15*C15","v":0},{"$f":"VLOOKUP($B$3,'Data Proposed Rates'!$A:$AT,MATCH(BI_AR_Typical!$A15,ProposedHeader,0),FALSE)","v":-1.5},1,{"$f":"E15*F15","v":-1.5},-1.5,"N/A"]
["Group 2 Volumetric Rate Rider",{"$f":"VLOOKUP($B$3,'Data Current Rates'!$A:$AO,MATCH(BI_AR_Typical!$A16,CurrentHeader,0),FALSE)","v":0},{"$f":"IF($B$7=\"kWh\",$B$4,$B$5)","v":750},{"$f":"B16*C16","v":0},{"$f":"VLOOKUP($B$3,'Data Proposed Rates'!$A:$AT,MATCH(BI_AR_Typical!$A16,ProposedHeader,0),FALSE)","v":0},{"$f":"IF($B$7=\"kWh\",$B$4,$B$5)","v":750},0,{"$f":"G16-D16","v":0},{"$f":"IF(ISERROR(H16/ABS(D16)),\"N/A\",(H16/ABS(D16)))","v":"N/A"}]
["Sub-Total A (excluding pass through)",null,null,{"$f":"SUM(D11:D16)","v":41.71},null,null,{"$f":"SUM(G11:G16)","v":42.31},0.60000000000000142,1.4385039558858821E-2]
["Line Losses on Cost of Power",{"$f":"VLOOKUP($B$3,'Data Billing Quantities'!$A:$O,MATCH(BI_AR_Typical!$A32,'Data Billing Quantities'!$4:$4,0),FALSE)*$B32+VLOOKUP($B$3,'Data Billing Quantities'!$A:$O,MATCH(BI_AR_Typical!$A33,'Data Billing Quantities'!$4:$4,0),FALSE)*$B33+VLOOKUP($B$3,'Data Billing Quantities'!$A:$O,MATCH(BI_AR_Typical!$A34,'Data Billing Quantities'!$4:$4,0),FALSE)*$B34","v":0.12752000000000002},{"$f":"($B$6*$B$4)-$B$4","v":48},{"$f":"B18*C18","v":6.1209600000000011},{"$f":"VLOOKUP($B$3,'Data Billing Quantities'!$A:$O,MATCH(BI_AR_Typical!$A32,'Data Billing Quantities'!$4:$4,0),FALSE)*$B32+VLOOKUP($B$3,'Data Billing Quantities'!$A:$O,MATCH(BI_AR_Typical!$A33,'Data Billing Quantities'!$4:$4,0),FALSE)*$B33+VLOOKUP($B$3,'Data Billing Quantities'!$A:$O,MATCH(BI_AR_Typical!$A34,'Data Billing Quantities'!$4:$4,0),FALSE)*$B34","v":0.12752000000000002},{"$f":"($B$6*$B$4)-$B$4","v":48},6.1209600000000011,0,0]
["Total Deferral/Variance Account Rate Rider",{"$f":"VLOOKUP($B$3,'Data Current Rates'!$A:$AO,MATCH(BI_AR_Typical!$A19,CurrentHeader,0),FALSE)","v":-3.8E-3},{"$f":"IF($B$7=\"kWh\",$B$4,$B$5)","v":750},-2.85,{"$f":"VLOOKUP($B$3,'Data Proposed Rates'!$A:$AT,MATCH(BI_AR_Typical!$A19,ProposedHeader,0),FALSE)","v":-1.6999999999999999E-3},{"$f":"IF($B$7=\"kWh\",$B$4,$B$5)","v":750},-1.2749999999999999,1.5750000000000002,0.55263157894736847]
["CBR Class B Rate Rider",{"$f":"VLOOKUP($B$3,'Data Current Rates'!$A:$AJ,MATCH(BI_AR_Typical!$A20,CurrentHeader,0),FALSE)","v":1E-4},{"$f":"IF($B$7=\"kWh\",$B$4,$B$5)","v":750},7.4999999999999997E-2,{"$f":"VLOOKUP($B$3,'Data Proposed Rates'!$A:$AT,MATCH(BI_AR_Typical!$A20,ProposedHeader,0),FALSE)","v":-5.9999999999999995E-4},{"$f":"IF($B$7=\"kWh\",$B$4,$B$5)","v":750},-0.44999999999999996,-0.52499999999999991,-6.9999999999999991]
["GA Rate Rider",{"$f":"VLOOKUP($B$3,'Data Current Rates'!$A:$AJ,MATCH(BI_AR_Typical!$A21,CurrentHeader,0),FALSE)","v":0},750,0,{"$f":"VLOOKUP($B$3,'Data Proposed Rates'!$A:$AT,MATCH(BI_AR_Typical!$A21,ProposedHeader,0),FALSE)","v":0},750,0,0,"N/A"]
["Smart Meter Entity Charge (if applicable)",{"$f":"VLOOKUP($A22,'Data Pass Through'!$A:$D,2,FALSE)","v":0.42},1,0.42,{"$f":"VLOOKUP($A22,'Data Pass Through'!$A:$D,2,FALSE)","v":0.42},1,0.42,0,0]
["Rate Rider for Account 1588",null,null,null,{"$f":"VLOOKUP($B$3,'Data Proposed Rates'!$A:$AT,MATCH(BI_AR_Typical!$A23,ProposedHeader,0),FALSE)","v":-3.2000000000000002E-3},{"$f":"IF($B$7=\"kWh\",$B$4,$B$5)","v":750},-2.4,-2.4,"N/A"]
["Sub-Total B - Distribution (includes Sub-Total A)",null,null,{"$f":"SUM(INDIRECT(\"D17:D\"&ROW()-1))","v":45.475960000000008},null,null,{"$f":"SUM(INDIRECT(\"G17:G\"&ROW()-1))","v":44.725960000000008},-0.75,-1.6492230180517351E-2]
["Retail Transmission Rate – Network Service Rate",{"$f":"VLOOKUP($B$3,'Data Current Rates'!$A:$AJ,MATCH(BI_AR_Typical!$A25,CurrentHeader,0),FALSE)","v":1.35E-2},{"$f":"IF($B$7=\"kWh\",$B$4*$B$6,$B$5)","v":798},{"$f":"B25*C25","v":10.773},{"$f":"VLOOKUP($B$3,'Data Proposed Rates'!$A:$AT,MATCH(BI_AR_Typical!$A25,ProposedHeader,0),FALSE)","v":1.3899999999999999E-2},{"$f":"IF($B$7=\"kWh\",$B$4*$B$6,$B$5)","v":798},11.0922,0.31920000000000037,2.9629629629629665E-2]
["Retail Transmission Rate – Line and Transformation Connection Service Rate",{"$f":"VLOOKUP($B$3,'Data Current Rates'!$A:$AJ,MATCH(BI_AR_Typical!$A26,CurrentHeader,0),FALSE)","v":9.7999999999999997E-3},{"$f":"IF($B$7=\"kWh\",$B$4*$B$6,$B$5)","v":798},7.8203999999999994,{"$f":"VLOOKUP($B$3,'Data Proposed Rates'!$A:$AT,MATCH(BI_AR_Typical!$A26,ProposedHeader,0),FALSE)","v":0.01},{"$f":"IF($B$7=\"kWh\",$B$4*$B$6,$B$5)","v":798},7.98,0.15960000000000107,2.0408163265306263E-2]
["Sub-Total C - Delivery (including Sub-Total B)",null,null,{"$f":"SUM(D24:D26)","v":64.069360000000017},null,null,{"$f":"SUM(G24:G26)","v":63.79816000000001},-0.27120000000000744,-4.2329125809904668E-3]
["Wholesale Market Service Rate (WMS) – not including CBR",{"$f":"VLOOKUP($A28,'Data Pass Through'!$A:$D,2,FALSE)","v":4.1000000000000003E-3},{"$f":"$B$4*$B$6","v":798},{"$f":"B28*C28","v":3.2718000000000003},{"$f":"VLOOKUP($A28,'Data Pass Through'!$A:$D,3,FALSE)","v":4.1000000000000003E-3},{"$f":"$B$4*$B$6","v":798},3.2718000000000003,0,0]
["Capacity Based Recovery (CBR) – Applicable for Class B Customers",{"$f":"VLOOKUP($A29,'Data Pass Through'!$A:$D,2,FALSE)","v":5.9999999999999995E-4},{"$f":"$B$4*$B$6","v":798},0.47879999999999995,{"$f":"VLOOKUP($A29,'Data Pass Through'!$A:$D,3,FALSE)","v":5.9999999999999995E-4},{"$f":"$B$4*$B$6","v":798},0.47879999999999995,0,0]
["Rural Rate Protection Charge",{"$f":"VLOOKUP($A30,'Data Pass Through'!$A:$D,2,FALSE)","v":5.9999999999999995E-4},{"$f":"$B$4*$B$6","v":798},0.47879999999999995,{"$f":"VLOOKUP($A30,'Data Pass Through'!$A:$D,3,FALSE)","v":5.9999999999999995E-4},{"$f":"$B$4*$B$6","v":798},0.47879999999999995,0,0]
["Standard Supply Service – Administration Charge (if applicable)",{"$f":"VLOOKUP($A31,'Data Pass Through'!$A:$D,2,FALSE)","v":0.25},1,0.25,{"$f":"VLOOKUP($A31,'Data Pass Through'!$A:$D,3,FALSE)","v":0.25},1,0.25,0,0]
["TOU-Off Peak",{"$f":"VLOOKUP($A32,'Data Pass Through'!$A:$D,2,FALSE)","v":9.8000000000000004E-2},{"$f":"B$4*VLOOKUP($B$3,'Data Billing Quantities'!$A:$O,MATCH($A32,'Data Billing Quantities'!$4:$4,0),FALSE)","v":480},47.04,{"$f":"VLOOKUP($A32,'Data Pass Through'!$A:$D,3,FALSE)","v":9.8000000000000004E-2},{"$f":"B$4*VLOOKUP($B$3,'Data Billing Quantities'!$A:$O,MATCH($A32,'Data Billing Quantities'!$4:$4,0),FALSE)","v":480},{"$f":"E32*F32","v":47.04},0,0]
["TOU-Mid Peak",{"$f":"VLOOKUP($A33,'Data Pass Through'!$A:$D,2,FALSE)","v":0.157},{"$f":"B$4*VLOOKUP($B$3,'Data Billing Quantities'!$A:$O,MATCH($A33,'Data Billing Quantities'!$4:$4,0),FALSE)","v":135},21.195,{"$f":"VLOOKUP($A33,'Data Pass Through'!$A:$D,3,FALSE)","v":0.157},{"$f":"B$4*VLOOKUP($B$3,'Data Billing Quantities'!$A:$O,MATCH($A33,'Data Billing Quantities'!$4:$4,0),FALSE)","v":135},{"$f":"E33*F33","v":21.195},0,0]
["TOU-On Peak",{"$f":"VLOOKUP($A34,'Data Pass Through'!$A:$D,2,FALSE)","v":0.20300000000000001},{"$f":"B$4*VLOOKUP($B$3,'Data Billing Quantities'!$A:$O,MATCH($A34,'Data Billing Quantities'!$4:$4,0),FALSE)","v":135},27.405000000000001,{"$f":"VLOOKUP($A34,'Data Pass Through'!$A:$D,3,FALSE)","v":0.20300000000000001},{"$f":"B$4*VLOOKUP($B$3,'Data Billing Quantities'!$A:$O,MATCH($A34,'Data Billing Quantities'!$4:$4,0),FALSE)","v":135},{"$f":"E34*F34","v":27.405000000000001},0,0]
["Total Bill on TOU (before Taxes)",null,null,{"$f":"SUM(D27:D34)","v":164.18876000000003},null,null,{"$f":"SUM(G27:G34)","v":163.91756000000001},-0.27120000000002165,-1.6517574041001442E-3]
["HST",0.13,null,{"$f":"D35*B36","v":21.344538800000006},{"$f":"B36","v":0.13},null,{"$f":"G35*E36","v":21.309282800000002},-3.5256000000003951E-2,-1.6517574041001973E-3]
["Ontario Electricity Rebate (OER)",{"$f":"IF(($B$4*12)<250000,VLOOKUP($A37,'Data Pass Through'!$A$4:$C$19,2,0),0)","v":-0.23499999999999999},null,{"$f":"D35*B37","v":-38.584358600000002},{"$f":"IF(($B$4*12)<250000,VLOOKUP($A37,'Data Pass Through'!$A$4:$C$19,3,0),0)","v":-0.23499999999999999},null,{"$f":"G35*E37","v":-38.5206266},6.3732000000001676E-2,1.6517574041000562E-3]
["Total Bill on TOU",null,null,{"$f":"SUM(D35:D37)","v":146.94894020000004},null,null,{"$f":"SUM(G35:G37)","v":146.70621620000003},-0.24272400000000971,-1.6517574041000783E-3]
["* Distribution rate protection applies to R1 and R2 customers"]

{"sheet":"BI_AGSe_Typical","index":33,"n_rows":39,"n_cols":9,"rows_kept":39,"cut":false,"hidden":false,"merged":[[0,0,0,10],[8,0,9,0],[8,1,8,3],[8,4,8,6],[8,7,8,8]]}
["Bill Impacts (Typical Consumption Level) - AGSe"]
[]
["Rate Class",{"$f":"RIGHT(A1,LEN(A1)-FIND(\"- \",A1,1)-1)","v":"AGSe"}]
["Monthly Consumption (kWh)",{"$f":"IF(COUNTIF(A1,\"*Low*\")>0,VLOOKUP(B3,'Data Billing Quantities'!$A:$Z,MATCH(\"Low kWh\",'Data Billing Quantities'!4:4,0),FALSE),IF(COUNTIF(A1,\"*Typical*\")>0,VLOOKUP(B3,'Data Billing Quantities'!$A:$Z,MATCH(\"Typical kWh\",'Data Billing Quantities'!4:4,0),FALSE),IF(COUNTIF(A1,\"*Average*\")>0,VLOOKUP(B3,'Data Billing Quantities'!$A:$Z,MATCH(\"Average kWh\",'Data Billing Quantities'!4:4,0),FALSE),IF(COUNTIF(A1,\"*High*\")>0,VLOOKUP(B3,'Data Billing Quantities'!$A:$Z,MATCH(\"High kWh\",'Data Billing Quantities'!4:4,0),FALSE),\"error\"))))","v":2000}]
["Peak (kW)",{"$f":"IF(COUNTIF(A1,\"*Low*\")>0,VLOOKUP(B3,'Data Billing Quantities'!$A:$Z,MATCH(\"Low kW\",'Data Billing Quantities'!4:4,0),FALSE),IF(COUNTIF(A1,\"*Typical*\")>0,VLOOKUP(B3,'Data Billing Quantities'!$A:$Z,MATCH(\"Typical kW\",'Data Billing Quantities'!4:4,0),FALSE),IF(COUNTIF(A1,\"*Average*\")>0,VLOOKUP(B3,'Data Billing Quantities'!$A:$Z,MATCH(\"Average kW\",'Data Billing Quantities'!4:4,0),FALSE),IF(COUNTIF(A1,\"*High*\")>0,VLOOKUP(B3,'Data Billing Quantities'!$A:$Z,MATCH(\"High kW\",'Data Billing Quantities'!4:4,0),FALSE),\"error\"))))","v":0}]
["Loss factor",{"$f":"VLOOKUP(B3,'Data Billing Quantities'!A:D,MATCH(A6,'Data Billing Quantities'!4:4,0),FALSE)","v":1.0640000000000001}]
["Charge determinant",{"$f":"VLOOKUP(B3,'Data Billing Quantities'!A:D,MATCH(A7,'Data Billing Quantities'!4:4,0),FALSE)","v":"kWh"}]
[]
[null,"Current OEB-Approved",null,null,"Proposed",null,null,"Impact"]
[null,"Rate ($)","Volume","Charge ($)","Rate ($)","Volume","Charge ($)","$ Change","% Change"]
["Service Charge",{"$f":"VLOOKUP($B$3,'Data Current Rates'!$A:$AO,MATCH(BI_AGSe_Typical!$A11,CurrentHeader,0),FALSE)","v":39.96},1,{"$f":"B11*C11","v":39.96},{"$f":"VLOOKUP($B$3,'Data Proposed Rates'!$A:$AT,MATCH(BI_AGSe_Typical!$A11,ProposedHeader,0),FALSE)","v":39.96},1,{"$f":"E11*F11","v":39.96},{"$f":"G11-D11","v":0},{"$f":"IF(ISERROR(H11/ABS(D11)),\"N/A\",(H11/ABS(D11)))","v":0}]
["Distribution Volumetric Charge",{"$f":"VLOOKUP($B$3,'Data Current Rates'!$A:$AO,MATCH(BI_AGSe_Typical!$A12,CurrentHeader,0),FALSE)","v":2.1600000000000001E-2},{"$f":"IF($B$7=\"kWh\",$B$4,$B$5)","v":2000},{"$f":"B12*C12","v":43.2},{"$f":"VLOOKUP($B$3,'Data Proposed Rates'!$A:$AT,MATCH(BI_AGSe_Typical!$A12,ProposedHeader,0),FALSE)","v":2.3599999999999999E-2},{"$f":"IF($B$7=\"kWh\",$B$4,$B$5)","v":2000},47.199999999999996,3.9999999999999929,9.2592592592592421E-2]
["RRRP Adjustment",{"$f":"IF($B$3=\"R2\",VLOOKUP(A13,'Data Pass Through'!$A4:$C19,3,0),0)*-1","v":0},1,{"$f":"B13*C13","v":0},{"$f":"IF($B$3=\"R2\",VLOOKUP(A13,'Data Pass Through'!$A4:$C19,3,0),0)*-1","v":0},1,0,0,"N/A"]
["DRP Adjustment",null,null,{"$f":"IF(OR($B$3=\"R1\",$B$3=\"R2\",$B$3=\"R1-CPUC\"),IF(SUM(D11:D13)>'Data Pass Through'!$B$16,-(SUM(D11:D13)-'Data Pass Through'!$B$16),0),0)","v":0},null,null,{"$f":"IF(OR($B$3=\"R1\",$B$3=\"R2\",$B$3=\"R1-CPUC\"),IF(SUM(G11:G13)>'Data Pass Through'!$B$16,-(SUM(G11:G13)-'Data Pass Through'!$B$16),0),0)","v":0},0,"N/A"]
["Group 2 Fixed Rate Rider",{"$f":"VLOOKUP($B$3,'Data Current Rates'!$A:$AO,MATCH(BI_AGSe_Typical!$A15,CurrentHeader,0),FALSE)","v":0},1,{"$f":"B15*C15","v":0},{"$f":"VLOOKUP($B$3,'Data Proposed Rates'!$A:$AT,MATCH(BI_AGSe_Typical!$A15,ProposedHeader,0),FALSE)","v":-1.37},1,{"$f":"E15*F15","v":-1.37},-1.37,"N/A"]
["Group 2 Volumetric Rate Rider",{"$f":"VLOOKUP($B$3,'Data Current Rates'!$A:$AO,MATCH(BI_AGSe_Typical!$A16,CurrentHeader,0),FALSE)","v":0},{"$f":"IF($B$7=\"kWh\",$B$4,$B$5)","v":2000},{"$f":"B16*C16","v":0},{"$f":"VLOOKUP($B$3,'Data Proposed Rates'!$A:$AT,MATCH(BI_AGSe_Typical!$A16,ProposedHeader,0),FALSE)","v":-8.0000000000000004E-4},{"$f":"IF($B$7=\"kWh\",$B$4,$B$5)","v":2000},-1.6,{"$f":"G16-D16","v":-1.6},{"$f":"IF(ISERROR(H16/ABS(D16)),\"N/A\",(H16/ABS(D16)))","v":"N/A"}]
["Sub-Total A (excluding pass through)",null,null,{"$f":"SUM(D11:D16)","v":83.16},null,null,{"$f":"SUM(G11:G16)","v":84.19},1.0300000000000011,1.2385762385762399E-2]
["Line Losses on Cost of Power",{"$f":"VLOOKUP($B$3,'Data Billing Quantities'!$A:$O,MATCH(BI_AGSe_Typical!$A32,'Data Billing Quantities'!$4:$4,0),FALSE)*$B32+VLOOKUP($B$3,'Data Billing Quantities'!$A:$O,MATCH(BI_AGSe_Typical!$A33,'Data Billing Quantities'!$4:$4,0),FALSE)*$B33+VLOOKUP($B$3,'Data Billing Quantities'!$A:$O,MATCH(BI_AGSe_Typical!$A34,'Data Billing Quantities'!$4:$4,0),FALSE)*$B34","v":0.12752000000000002},{"$f":"($B$6*$B$4)-$B$4","v":128},{"$f":"B18*C18","v":16.322560000000003},{"$f":"VLOOKUP($B$3,'Data Billing Quantities'!$A:$O,MATCH(BI_AGSe_Typical!$A32,'Data Billing Quantities'!$4:$4,0),FALSE)*$B32+VLOOKUP($B$3,'Data Billing Quantities'!$A:$O,MATCH(BI_AGSe_Typical!$A33,'Data Billing Quantities'!$4:$4,0),FALSE)*$B33+VLOOKUP($B$3,'Data Billing Quantities'!$A:$O,MATCH(BI_AGSe_Typical!$A34,'Data Billing Quantities'!$4:$4,0),FALSE)*$B34","v":0.12752000000000002},{"$f":"($B$6*$B$4)-$B$4","v":128},16.322560000000003,0,0]
["Total Deferral/Variance Account Rate Rider",{"$f":"VLOOKUP($B$3,'Data Current Rates'!$A:$AO,MATCH(BI_AGSe_Typical!$A19,CurrentHeader,0),FALSE)","v":-3.5999999999999999E-3},{"$f":"IF($B$7=\"kWh\",$B$4,$B$5)","v":2000},-7.2,{"$f":"VLOOKUP($B$3,'Data Proposed Rates'!$A:$AT,MATCH(BI_AGSe_Typical!$A19,ProposedHeader,0),FALSE)","v":-1.6999999999999999E-3},{"$f":"IF($B$7=\"kWh\",$B$4,$B$5)","v":2000},-3.4,3.8000000000000003,0.52777777777777779]
["CBR Class B Rate Rider",{"$f":"VLOOKUP($B$3,'Data Current Rates'!$A:$AJ,MATCH(BI_AGSe_Typical!$A20,CurrentHeader,0),FALSE)","v":1E-4},{"$f":"IF($B$7=\"kWh\",$B$4,$B$5)","v":2000},0.2,{"$f":"VLOOKUP($B$3,'Data Proposed Rates'!$A:$AT,MATCH(BI_AGSe_Typical!$A20,ProposedHeader,0),FALSE)","v":-5.9999999999999995E-4},{"$f":"IF($B$7=\"kWh\",$B$4,$B$5)","v":2000},-1.2,-1.4,-6.9999999999999991]
["GA Rate Rider",{"$f":"VLOOKUP($B$3,'Data Current Rates'!$A:$AJ,MATCH(BI_AGSe_Typical!$A21,CurrentHeader,0),FALSE)","v":0},2000,0,{"$f":"VLOOKUP($B$3,'Data Proposed Rates'!$A:$AT,MATCH(BI_AGSe_Typical!$A21,ProposedHeader,0),FALSE)","v":0},2000,0,0,"N/A"]
["Smart Meter Entity Charge (if applicable)",{"$f":"VLOOKUP($A22,'Data Pass Through'!$A:$D,2,FALSE)","v":0.42},1,0.42,{"$f":"VLOOKUP($A22,'Data Pass Through'!$A:$D,2,FALSE)","v":0.42},1,0.42,0,0]
["Rate Rider for Account 1588",null,null,null,{"$f":"VLOOKUP($B$3,'Data Proposed Rates'!$A:$AT,MATCH(BI_AGSe_Typical!$A23,ProposedHeader,0),FALSE)","v":-3.2000000000000002E-3},{"$f":"IF($B$7=\"kWh\",$B$4,$B$5)","v":2000},-6.4,-6.4,"N/A"]
["Sub-Total B - Distribution (includes Sub-Total A)",null,null,{"$f":"SUM(INDIRECT(\"D17:D\"&ROW()-1))","v":92.902560000000008},null,null,{"$f":"SUM(INDIRECT(\"G17:G\"&ROW()-1))","v":89.932559999999995},-2.9700000000000131,-3.19689791110171E-2]
["Retail Transmission Rate – Network Service Rate",{"$f":"VLOOKUP($B$3,'Data Current Rates'!$A:$AJ,MATCH(BI_AGSe_Typical!$A25,CurrentHeader,0),FALSE)","v":1.0699999999999999E-2},{"$f":"IF($B$7=\"kWh\",$B$4*$B$6,$B$5)","v":2128},{"$f":"B25*C25","v":22.769600000000001},{"$f":"VLOOKUP($B$3,'Data Proposed Rates'!$A:$AT,MATCH(BI_AGSe_Typical!$A25,ProposedHeader,0),FALSE)","v":1.0999999999999999E-2},{"$f":"IF($B$7=\"kWh\",$B$4*$B$6,$B$5)","v":2128},23.407999999999998,0.63839999999999719,2.8037383177569968E-2]
["Retail Transmission Rate – Line and Transformation Connection Service Rate",{"$f":"VLOOKUP($B$3,'Data Current Rates'!$A:$AJ,MATCH(BI_AGSe_Typical!$A26,CurrentHeader,0),FALSE)","v":8.0999999999999996E-3},{"$f":"IF($B$7=\"kWh\",$B$4*$B$6,$B$5)","v":2128},17.236799999999999,{"$f":"VLOOKUP($B$3,'Data Proposed Rates'!$A:$AT,MATCH(BI_AGSe_Typical!$A26,ProposedHeader,0),FALSE)","v":8.3000000000000001E-3},{"$f":"IF($B$7=\"kWh\",$B$4*$B$6,$B$5)","v":2128},17.662400000000002,0.42560000000000286,2.4691358024691527E-2]
["Sub-Total C - Delivery (including Sub-Total B)",null,null,{"$f":"SUM(D24:D26)","v":132.90896000000001},null,null,{"$f":"SUM(G24:G26)","v":131.00296},-1.9060000000000059,-1.4340643399812968E-2]
["Wholesale Market Service Rate (WMS) – not including CBR",{"$f":"VLOOKUP($A28,'Data Pass Through'!$A:$D,2,FALSE)","v":4.1000000000000003E-3},{"$f":"$B$4*$B$6","v":2128},{"$f":"B28*C28","v":8.7248000000000001},{"$f":"VLOOKUP($A28,'Data Pass Through'!$A:$D,3,FALSE)","v":4.1000000000000003E-3},{"$f":"$B$4*$B$6","v":2128},8.7248000000000001,0,0]
["Capacity Based Recovery (CBR) – Applicable for Class B Customers",{"$f":"VLOOKUP($A29,'Data Pass Through'!$A:$D,2,FALSE)","v":5.9999999999999995E-4},{"$f":"$B$4*$B$6","v":2128},1.2767999999999999,{"$f":"VLOOKUP($A29,'Data Pass Through'!$A:$D,3,FALSE)","v":5.9999999999999995E-4},{"$f":"$B$4*$B$6","v":2128},1.2767999999999999,0,0]
["Rural Rate Protection Charge",{"$f":"VLOOKUP($A30,'Data Pass Through'!$A:$D,2,FALSE)","v":5.9999999999999995E-4},{"$f":"$B$4*$B$6","v":2128},1.2767999999999999,{"$f":"VLOOKUP($A30,'Data Pass Through'!$A:$D,3,FALSE)","v":5.9999999999999995E-4},{"$f":"$B$4*$B$6","v":2128},1.2767999999999999,0,0]
["Standard Supply Service – Administration Charge (if applicable)",{"$f":"VLOOKUP($A31,'Data Pass Through'!$A:$D,2,FALSE)","v":0.25},1,0.25,{"$f":"VLOOKUP($A31,'Data Pass Through'!$A:$D,3,FALSE)","v":0.25},1,0.25,0,0]
["TOU-Off Peak",{"$f":"VLOOKUP($A32,'Data Pass Through'!$A:$D,2,FALSE)","v":9.8000000000000004E-2},{"$f":"B$4*VLOOKUP($B$3,'Data Billing Quantities'!$A:$O,MATCH($A32,'Data Billing Quantities'!$4:$4,0),FALSE)","v":1280},125.44,{"$f":"VLOOKUP($A32,'Data Pass Through'!$A:$D,3,FALSE)","v":9.8000000000000004E-2},{"$f":"B$4*VLOOKUP($B$3,'Data Billing Quantities'!$A:$O,MATCH($A32,'Data Billing Quantities'!$4:$4,0),FALSE)","v":1280},{"$f":"E32*F32","v":125.44},0,0]
["TOU-Mid Peak",{"$f":"VLOOKUP($A33,'Data Pass Through'!$A:$D,2,FALSE)","v":0.157},{"$f":"B$4*VLOOKUP($B$3,'Data Billing Quantities'!$A:$O,MATCH($A33,'Data Billing Quantities'!$4:$4,0),FALSE)","v":360},56.52,{"$f":"VLOOKUP($A33,'Data Pass Through'!$A:$D,3,FALSE)","v":0.157},{"$f":"B$4*VLOOKUP($B$3,'Data Billing Quantities'!$A:$O,MATCH($A33,'Data Billing Quantities'!$4:$4,0),FALSE)","v":360},{"$f":"E33*F33","v":56.52},0,0]
["TOU-On Peak",{"$f":"VLOOKUP($A34,'Data Pass Through'!$A:$D,2,FALSE)","v":0.20300000000000001},{"$f":"B$4*VLOOKUP($B$3,'Data Billing Quantities'!$A:$O,MATCH($A34,'Data Billing Quantities'!$4:$4,0),FALSE)","v":360},73.08,{"$f":"VLOOKUP($A34,'Data Pass Through'!$A:$D,3,FALSE)","v":0.20300000000000001},{"$f":"B$4*VLOOKUP($B$3,'Data Billing Quantities'!$A:$O,MATCH($A34,'Data Billing Quantities'!$4:$4,0),FALSE)","v":360},{"$f":"E34*F34","v":73.08},0,0]
["Total Bill on TOU (before Taxes)",null,null,{"$f":"SUM(D27:D34)","v":399.47735999999998},null,null,{"$f":"SUM(G27:G34)","v":397.57135999999997},-1.9060000000000059,-4.7712340944678468E-3]
["HST",0.13,null,{"$f":"D35*B36","v":51.932056799999998},{"$f":"B36","v":0.13},null,{"$f":"G35*E36","v":51.684276799999999},-0.24777999999999878,-4.7712340944678086E-3]
["Ontario Electricity Rebate (OER)",{"$f":"IF(($B$4*12)<250000,VLOOKUP($A37,'Data Pass Through'!$A$4:$C$19,2,0),0)","v":-0.23499999999999999},null,{"$f":"D35*B37","v":-93.877179599999991},{"$f":"IF(($B$4*12)<250000,VLOOKUP($A37,'Data Pass Through'!$A$4:$C$19,3,0),0)","v":-0.23499999999999999},null,{"$f":"G35*E37","v":-93.429269599999984},0.44791000000000736,4.7712340944679101E-3]
["Total Bill on TOU",null,null,{"$f":"SUM(D35:D37)","v":357.5322372},null,null,{"$f":"SUM(G35:G37)","v":355.82636719999999},-1.7058700000000044,-4.7712340944678442E-3]
["* Distribution rate protection applies to R1 and R2 customers"]

{"sheet":"BI_AGSd_Average","index":34,"n_rows":34,"n_cols":9,"rows_kept":34,"cut":false,"hidden":false,"merged":[[0,0,0,9],[8,1,8,3],[8,4,8,6],[8,7,8,8]]}
["Bill Impacts (Average Consumption Level) - AGSd"]
[]
["Rate Class",{"$f":"RIGHT(A1,LEN(A1)-FIND(\"- \",A1,1)-1)","v":"AGSd"}]
["Monthly Consumption (kWh)",{"$f":"IF(COUNTIF(A1,\"*Low*\")>0,VLOOKUP(B3,'Data Billing Quantities'!$A:$Z,MATCH(\"Low kWh\",'Data Billing Quantities'!4:4,0),FALSE),IF(COUNTIF(A1,\"*Typical*\")>0,VLOOKUP(B3,'Data Billing Quantities'!$A:$Z,MATCH(\"Typical kWh\",'Data Billing Quantities'!4:4,0),FALSE),IF(COUNTIF(A1,\"*Average*\")>0,VLOOKUP(B3,'Data Billing Quantities'!$A:$Z,MATCH(\"Average kWh\",'Data Billing Quantities'!4:4,0),FALSE),IF(COUNTIF(A1,\"*High*\")>0,VLOOKUP(B3,'Data Billing Quantities'!$A:$Z,MATCH(\"High kWh\",'Data Billing Quantities'!4:4,0),FALSE),\"error\"))))","v":64000}]
["Peak (kW)",{"$f":"IF(COUNTIF(A1,\"*Low*\")>0,VLOOKUP(B3,'Data Billing Quantities'!$A:$Z,MATCH(\"Low kW\",'Data Billing Quantities'!4:4,0),FALSE),IF(COUNTIF(A1,\"*Typical*\")>0,VLOOKUP(B3,'Data Billing Quantities'!$A:$Z,MATCH(\"Typical kW\",'Data Billing Quantities'!4:4,0),FALSE),IF(COUNTIF(A1,\"*Average*\")>0,VLOOKUP(B3,'Data Billing Quantities'!$A:$Z,MATCH(\"Average kW\",'Data Billing Quantities'!4:4,0),FALSE),IF(COUNTIF(A1,\"*High*\")>0,VLOOKUP(B3,'Data Billing Quantities'!$A:$Z,MATCH(\"High kW\",'Data Billing Quantities'!4:4,0),FALSE),\"error\"))))","v":178}]
["Loss factor",{"$f":"VLOOKUP(B3,'Data Billing Quantities'!A:D,MATCH(A6,'Data Billing Quantities'!4:4,0),FALSE)","v":1.0529999999999999}]
["Charge determinant",{"$f":"VLOOKUP(B3,'Data Billing Quantities'!A:D,MATCH(A7,'Data Billing Quantities'!4:4,0),FALSE)","v":"kW"}]
[]
[null,"Current OEB-Approved",null,null,"Proposed",null,null,"Impact"]
[null,"Rate","Volume","Charge","Rate","Volume","Charge","$ Change","% Change"]
[null,"($)",null,"($)","($)",null,"($)"]
["Service Charge",{"$f":"VLOOKUP($B$3,'Data Current Rates'!$A:$AO,MATCH(BI_AGSd_Average!$A12,CurrentHeader,0),FALSE)","v":170.26},1,{"$f":"C12*B12","v":170.26},{"$f":"VLOOKUP($B$3,'Data Proposed Rates'!$A:$AT,MATCH(BI_AGSd_Average!$A12,ProposedHeader,0),FALSE)","v":170.26},1,{"$f":"F12*E12","v":170.26},{"$f":"G12-D12","v":0},{"$f":"IF(ISERROR(H12/ABS(D12)),\"N/A\",(H12/ABS(D12)))","v":0}]
["Distribution Volumetric Charge",{"$f":"VLOOKUP($B$3,'Data Current Rates'!$A:$AO,MATCH(BI_AGSd_Average!$A13,CurrentHeader,0),FALSE)","v":5.1349999999999998},{"$f":"IF($B$7=\"kWh\",$B$4,$B$5)","v":178},{"$f":"C13*B13","v":914.03},{"$f":"VLOOKUP($B$3,'Data Proposed Rates'!$A:$AT,MATCH(BI_AGSd_Average!$A13,ProposedHeader,0),FALSE)","v":5.431},{"$f":"IF($B$7=\"kWh\",$B$4,$B$5)","v":178},{"$f":"F13*E13","v":966.71799999999996},52.687999999999988,5.7643622200584214E-2]
["Group 2 Fixed Rate Rider",{"$f":"VLOOKUP($B$3,'Data Current Rates'!$A:$AO,MATCH(BI_AGSd_Average!$A14,CurrentHeader,0),FALSE)","v":0},1,0,{"$f":"VLOOKUP($B$3,'Data Proposed Rates'!$A:$AT,MATCH(BI_AGSd_Average!$A14,ProposedHeader,0),FALSE)","v":-5.84},1,{"$f":"F14*E14","v":-5.84},-5.84,"N/A"]
["Group 2 Volumetric Rate Rider",{"$f":"VLOOKUP($B$3,'Data Current Rates'!$A:$AO,MATCH(BI_AGSd_Average!$A15,CurrentHeader,0),FALSE)","v":0},{"$f":"IF($B$7=\"kWh\",$B$4,$B$5)","v":178},0,{"$f":"VLOOKUP($B$3,'Data Proposed Rates'!$A:$AT,MATCH(BI_AGSd_Average!$A15,ProposedHeader,0),FALSE)","v":-0.17749999999999999},{"$f":"IF($B$7=\"kWh\",$B$4,$B$5)","v":178},-31.594999999999999,-31.594999999999999,"N/A"]
["Sub-Total A (excluding pass through)",null,null,{"$f":"SUM(D12:D15)","v":1084.29},null,null,{"$f":"SUM(G12:G15)","v":1099.5430000000001},15.253000000000156,1.4067269826338116E-2]
["Line Losses on Cost of Power",0,{"$f":"IF(B$17=0,0,B$4*B$6-B$4)","v":0},{"$f":"C17*B17","v":0},0,{"$f":"IF(E$17=0,0,E$4*E$6-E$4)","v":0},0,0,"N/A"]
["Total Deferral/Variance Account Rate Rider",{"$f":"VLOOKUP($B$3,'Data Current Rates'!$A:$AO,MATCH(BI_AGSd_Average!$A18,CurrentHeader,0),FALSE)","v":-1.2498},{"$f":"IF($B$7=\"kWh\",$B$4,$B$5)","v":178},-222.46440000000001,{"$f":"VLOOKUP($B$3,'Data Proposed Rates'!$A:$AT,MATCH(BI_AGSd_Average!$A18,ProposedHeader,0),FALSE)","v":-0.6482},{"$f":"IF($B$7=\"kWh\",$B$4,$B$5)","v":178},-115.3796,107.08480000000002,0.48135701712273971]
["CBR Class B Rate Rider",{"$f":"VLOOKUP($B$3,'Data Current Rates'!$A:$AO,MATCH(BI_AGSd_Average!$A19,CurrentHeader,0),FALSE)","v":1.9400000000000001E-2},{"$f":"IF($B$7=\"kWh\",$B$4,$B$5)","v":178},{"$f":"C19*B19","v":3.4532000000000003},{"$f":"VLOOKUP($B$3,'Data Proposed Rates'!$A:$AT,MATCH(BI_AGSd_Average!$A19,ProposedHeader,0),FALSE)","v":-0.2167},{"$f":"IF($B$7=\"kWh\",$B$4,$B$5)","v":178},{"$f":"F19*E19","v":-38.572600000000001},-42.025800000000004,-12.170103092783505]
["GA Rate Rider",{"$f":"VLOOKUP($B$3,'Data Current Rates'!$A:$AO,MATCH(BI_AGSd_Average!$A20,CurrentHeader,0),FALSE)","v":-8.9999999999999998E-4},{"$f":"$B$4","v":64000},{"$f":"C20*B20","v":-57.6},{"$f":"VLOOKUP($B$3,'Data Proposed Rates'!$A:$AT,MATCH(BI_AGSd_Average!$A20,ProposedHeader,0),FALSE)","v":1.21E-2},{"$f":"$B$4","v":64000},774.4,832,14.444444444444445]
["Rate Rider for Account 1588",null,null,null,{"$f":"VLOOKUP($B$3,'Data Proposed Rates'!$A:$AT,MATCH(BI_AGSd_Average!$A21,ProposedHeader,0),FALSE)","v":-1.1338999999999999},{"$f":"IF($B$7=\"kWh\",$B$4,$B$5)","v":178},{"$f":"F21*E21","v":-201.83419999999998},-201.83419999999998,"N/A"]
["Sub-Total B - Distribution (includes Sub-Total A)",null,null,{"$f":"SUM(INDIRECT(\"D16:D\"&ROW()-1))","v":807.67879999999991},null,null,{"$f":"SUM(INDIRECT(\"G16:G\"&ROW()-1))","v":1518.1566},710.47780000000012,0.87965389211651979]
["Retail Transmission Rate – Network Service Rate",{"$f":"VLOOKUP($B$3,'Data Current Rates'!$A:$AO,MATCH(BI_AGSd_Average!$A23,CurrentHeader,0),FALSE)","v":3.3277999999999999},{"$f":"IF($B$7=\"kWh\",$B$4*$B$6,$B$5)","v":178},{"$f":"C23*B23","v":592.34839999999997},{"$f":"VLOOKUP($B$3,'Data Proposed Rates'!$A:$AT,MATCH(BI_AGSd_Average!$A23,ProposedHeader,0),FALSE)","v":3.4169999999999998},{"$f":"IF($B$7=\"kWh\",$B$4*$B$6,$B$5)","v":178},{"$f":"F23*E23","v":608.226},15.877600000000029,2.6804495462467749E-2]
["Retail Transmission Rate – Line and Transformation Connection Service Rate",{"$f":"VLOOKUP($B$3,'Data Current Rates'!$A:$AO,MATCH(BI_AGSd_Average!$A24,CurrentHeader,0),FALSE)","v":2.5457000000000001},{"$f":"IF($B$7=\"kWh\",$B$4*$B$6,$B$5)","v":178},{"$f":"C24*B24","v":453.13460000000003},{"$f":"VLOOKUP($B$3,'Data Proposed Rates'!$A:$AT,MATCH(BI_AGSd_Average!$A24,ProposedHeader,0),FALSE)","v":2.6092},{"$f":"IF($B$7=\"kWh\",$B$4*$B$6,$B$5)","v":178},{"$f":"F24*E24","v":464.43759999999997},11.30299999999994,2.4944023254900288E-2]
["Sub-Total C - Delivery (including Sub-Total B)",null,null,{"$f":"SUM(D22:D24)","v":1853.1618000000001},null,null,{"$f":"SUM(G22:G24)","v":2590.8202000000001},737.65840000000003,0.39805396377153901]
["Wholesale Market Service Rate (WMS) – not including CBR",{"$f":"VLOOKUP($A26,'Data Pass Through'!$A:$D,2,FALSE)","v":4.1000000000000003E-3},{"$f":"$B$4*$B$6","v":67392},{"$f":"C26*B26","v":276.30720000000002},{"$f":"VLOOKUP($A26,'Data Pass Through'!$A:$D,3,FALSE)","v":4.1000000000000003E-3},{"$f":"$B$4*$B$6","v":67392},{"$f":"F26*E26","v":276.30720000000002},0,0]
["Capacity Based Recovery (CBR) – Applicable for Class B Customers",{"$f":"VLOOKUP($A27,'Data Pass Through'!$A:$D,2,FALSE)","v":5.9999999999999995E-4},{"$f":"$B$4*$B$6","v":67392},40.435199999999995,{"$f":"VLOOKUP($A27,'Data Pass Through'!$A:$D,3,FALSE)","v":5.9999999999999995E-4},67392,40.435199999999995,0,0]
["Rural Rate Protection Charge",{"$f":"VLOOKUP($A28,'Data Pass Through'!$A:$D,2,FALSE)","v":5.9999999999999995E-4},67392,40.435199999999995,{"$f":"VLOOKUP($A28,'Data Pass Through'!$A:$D,3,FALSE)","v":5.9999999999999995E-4},67392,40.435199999999995,0,0]
["Standard Supply Service – Administration Charge (if applicable)",{"$f":"VLOOKUP($A29,'Data Pass Through'!$A:$D,2,FALSE)","v":0.25},1,0.25,{"$f":"VLOOKUP($A29,'Data Pass Through'!$A:$D,3,FALSE)","v":0.25},1,0.25,0,0]
["Average IESO Wholesale Market Price",{"$f":"VLOOKUP(A30,'Data Pass Through'!A4:C19,2,0)","v":0.15959999999999999},{"$f":"$B$4*$B$6","v":67392},{"$f":"C30*B30","v":10755.763199999999},{"$f":"VLOOKUP($A30,'Data Pass Through'!$A:$D,3,FALSE)","v":0.15959999999999999},{"$f":"$B$4*$B$6","v":67392},10755.763199999999,{"$f":"G30-D30","v":0},0]
["Total Bill on Average IESO Wholesale Market Price (before Taxes)",null,null,{"$f":"SUM(D25:D30)","v":12966.352599999998},null,null,{"$f":"SUM(G25:G30)","v":13704.010999999999},{"$f":"G31-D31","v":737.65840000000026},5.689020056418953E-2]
["HST",0.13,null,{"$f":"D31*B32","v":1685.6258379999999},0.13,null,{"$f":"G31*E32","v":1781.5214299999998},{"$f":"G32-D32","v":95.895591999999851},5.6890200564189412E-2]
["Ontario Electricity Rebate (OER)",{"$f":"IF(($B$4*12)<250000,VLOOKUP(A33,'Data Pass Through'!$A$4:$C$19,2,0),0)","v":0},null,{"$f":"D31*B33","v":0},{"$f":"IF(($B$4*12)<250000,VLOOKUP(A33,'Data Pass Through'!$A$4:$C$19,3,0),0)","v":0},null,{"$f":"G31*E33","v":0},{"$f":"G33-D33","v":0},"N/A"]
["Total Bill on Average IESO Wholesale Market Price",null,null,{"$f":"SUM(D31:D33)","v":14651.978437999998},null,null,{"$f":"SUM(G31:G33)","v":15485.532429999999},{"$f":"G34-D34","v":833.55399200000102},5.6890200564189579E-2]

{"sheet":"BI_WHSI_AUR_Typical","index":35,"n_rows":39,"n_cols":9,"rows_kept":39,"cut":false,"hidden":false,"merged":[[0,0,0,10],[8,0,9,0],[8,1,8,3],[8,4,8,6],[8,7,8,8]]}
["Bill Impacts (Typical Consumption Level) - AUR-WHSI"]
[]
["Rate Class",{"$f":"RIGHT(A1,LEN(A1)-FIND(\"- \",A1,1)-1)","v":"AUR-WHSI"}]
["Monthly Consumption (kWh)",{"$f":"IF(COUNTIF(A1,\"*Low*\")>0,VLOOKUP(B3,'Data Billing Quantities'!$A:$Z,MATCH(\"Low kWh\",'Data Billing Quantities'!4:4,0),FALSE),IF(COUNTIF(A1,\"*Typical*\")>0,VLOOKUP(B3,'Data Billing Quantities'!$A:$Z,MATCH(\"Typical kWh\",'Data Billing Quantities'!4:4,0),FALSE),IF(COUNTIF(A1,\"*Average*\")>0,VLOOKUP(B3,'Data Billing Quantities'!$A:$Z,MATCH(\"Average kWh\",'Data Billing Quantities'!4:4,0),FALSE),IF(COUNTIF(A1,\"*High*\")>0,VLOOKUP(B3,'Data Billing Quantities'!$A:$Z,MATCH(\"High kWh\",'Data Billing Quantities'!4:4,0),FALSE),\"error\"))))","v":750}]
["Peak (kW)",{"$f":"IF(COUNTIF(A1,\"*Low*\")>0,VLOOKUP(B3,'Data Billing Quantities'!$A:$Z,MATCH(\"Low kW\",'Data Billing Quantities'!4:4,0),FALSE),IF(COUNTIF(A1,\"*Typical*\")>0,VLOOKUP(B3,'Data Billing Quantities'!$A:$Z,MATCH(\"Typical kW\",'Data Billing Quantities'!4:4,0),FALSE),IF(COUNTIF(A1,\"*Average*\")>0,VLOOKUP(B3,'Data Billing Quantities'!$A:$Z,MATCH(\"Average kW\",'Data Billing Quantities'!4:4,0),FALSE),IF(COUNTIF(A1,\"*High*\")>0,VLOOKUP(B3,'Data Billing Quantities'!$A:$Z,MATCH(\"High kW\",'Data Billing Quantities'!4:4,0),FALSE),\"error\"))))","v":0}]
["Loss factor",{"$f":"VLOOKUP(B3,'Data Billing Quantities'!A:D,MATCH(A6,'Data Billing Quantities'!4:4,0),FALSE)","v":1.0429999999999999}]
["Charge determinant",{"$f":"VLOOKUP(B3,'Data Billing Quantities'!A:D,MATCH(A7,'Data Billing Quantities'!4:4,0),FALSE)","v":"kWh"}]
[]
[null,"Current OEB-Approved",null,null,"Proposed",null,null,"Impact"]
[null,"Rate ($)","Volume","Charge ($)","Rate ($)","Volume","Charge ($)","$ Change","% Change"]
["Service Charge",{"$f":"VLOOKUP($B$3,'Data Current Rates'!$A:$AO,MATCH(BI_WHSI_AUR_Typical!$A11,CurrentHeader,0),FALSE)","v":34.36},1,{"$f":"B11*C11","v":34.36},{"$f":"VLOOKUP($B$3,'Data Proposed Rates'!$A:$AT,MATCH(BI_WHSI_AUR_Typical!$A11,ProposedHeader,0),FALSE)","v":36.090000000000003},1,{"$f":"E11*F11","v":36.090000000000003},{"$f":"G11-D11","v":1.730000000000004},{"$f":"IF(ISERROR(H11/ABS(D11)),\"N/A\",(H11/ABS(D11)))","v":5.0349243306170084E-2}]
["Distribution Volumetric Charge",{"$f":"VLOOKUP($B$3,'Data Current Rates'!$A:$AO,MATCH(BI_WHSI_AUR_Typical!$A12,CurrentHeader,0),FALSE)","v":0},{"$f":"IF($B$7=\"kWh\",$B$4,$B$5)","v":750},{"$f":"B12*C12","v":0},{"$f":"VLOOKUP($B$3,'Data Proposed Rates'!$A:$AT,MATCH(BI_WHSI_AUR_Typical!$A12,ProposedHeader,0),FALSE)","v":0},{"$f":"IF($B$7=\"kWh\",$B$4,$B$5)","v":750},0,0,"N/A"]
["RRRP Adjustment",{"$f":"IF($B$3=\"R2\",VLOOKUP(A13,'Data Pass Through'!$A4:$C19,3,0),0)*-1","v":0},1,{"$f":"B13*C13","v":0},{"$f":"IF($B$3=\"R2\",VLOOKUP(A13,'Data Pass Through'!$A4:$C19,3,0),0)*-1","v":0},1,0,0,"N/A"]
["DRP Adjustment",null,null,{"$f":"IF(OR($B$3=\"R1\",$B$3=\"R2\",$B$3=\"R1-CPUC\"),IF(SUM(D11:D13)>'Data Pass Through'!$B$16,-(SUM(D11:D13)-'Data Pass Through'!$B$16),0),0)","v":0},null,null,{"$f":"IF(OR($B$3=\"R1\",$B$3=\"R2\",$B$3=\"R1-CPUC\"),IF(SUM(G11:G13)>'Data Pass Through'!$B$16,-(SUM(G11:G13)-'Data Pass Through'!$B$16),0),0)","v":0},0,"N/A"]
["Group 2 Fixed Rate Rider",{"$f":"VLOOKUP($B$3,'Data Current Rates'!$A:$AO,MATCH(BI_WHSI_AUR_Typical!$A15,CurrentHeader,0),FALSE)","v":-0.4},1,{"$f":"B15*C15","v":-0.4},{"$f":"VLOOKUP($B$3,'Data Proposed Rates'!$A:$AT,MATCH(BI_WHSI_AUR_Typical!$A15,ProposedHeader,0),FALSE)","v":-1.24},1,{"$f":"E15*F15","v":-1.24},-0.84,-2.0999999999999996]
["Group 2 Volumetric Rate Rider",{"$f":"VLOOKUP($B$3,'Data Current Rates'!$A:$AO,MATCH(BI_WHSI_AUR_Typical!$A16,CurrentHeader,0),FALSE)","v":0},{"$f":"IF($B$7=\"kWh\",$B$4,$B$5)","v":750},{"$f":"B16*C16","v":0},{"$f":"VLOOKUP($B$3,'Data Proposed Rates'!$A:$AT,MATCH(BI_WHSI_AUR_Typical!$A16,ProposedHeader,0),FALSE)","v":0},{"$f":"IF($B$7=\"kWh\",$B$4,$B$5)","v":750},0,{"$f":"G16-D16","v":0},{"$f":"IF(ISERROR(H16/ABS(D16)),\"N/A\",(H16/ABS(D16)))","v":"N/A"}]
["Sub-Total A (excluding pass through)",null,null,{"$f":"SUM(D11:D16)","v":33.96},null,null,{"$f":"SUM(G11:G16)","v":34.85},0.89000000000000057,2.620730270906951E-2]
["Line Losses on Cost of Power",{"$f":"VLOOKUP($B$3,'Data Billing Quantities'!$A:$O,MATCH(BI_WHSI_AUR_Typical!$A32,'Data Billing Quantities'!$4:$4,0),FALSE)*$B32+VLOOKUP($B$3,'Data Billing Quantities'!$A:$O,MATCH(BI_WHSI_AUR_Typical!$A33,'Data Billing Quantities'!$4:$4,0),FALSE)*$B33+VLOOKUP($B$3,'Data Billing Quantities'!$A:$O,MATCH(BI_WHSI_AUR_Typical!$A34,'Data Billing Quantities'!$4:$4,0),FALSE)*$B34","v":0.12752000000000002},{"$f":"($B$6*$B$4)-$B$4","v":32.25},{"$f":"B18*C18","v":4.1125200000000008},{"$f":"VLOOKUP($B$3,'Data Billing Quantities'!$A:$O,MATCH(BI_WHSI_AUR_Typical!$A32,'Data Billing Quantities'!$4:$4,0),FALSE)*$B32+VLOOKUP($B$3,'Data Billing Quantities'!$A:$O,MATCH(BI_WHSI_AUR_Typical!$A33,'Data Billing Quantities'!$4:$4,0),FALSE)*$B33+VLOOKUP($B$3,'Data Billing Quantities'!$A:$O,MATCH(BI_WHSI_AUR_Typical!$A34,'Data Billing Quantities'!$4:$4,0),FALSE)*$B34","v":0.12752000000000002},{"$f":"($B$6*$B$4)-$B$4","v":32.25},4.1125200000000008,0,0]
["Total Deferral/Variance Account Rate Rider",{"$f":"VLOOKUP($B$3,'Data Current Rates'!$A:$AO,MATCH(BI_WHSI_AUR_Typical!$A19,CurrentHeader,0),FALSE)","v":-4.0000000000000001E-3},{"$f":"IF($B$7=\"kWh\",$B$4,$B$5)","v":750},-3,{"$f":"VLOOKUP($B$3,'Data Proposed Rates'!$A:$AT,MATCH(BI_WHSI_AUR_Typical!$A19,ProposedHeader,0),FALSE)","v":-1.8E-3},{"$f":"IF($B$7=\"kWh\",$B$4,$B$5)","v":750},-1.3499999999999999,1.6500000000000001,0.55000000000000004]
["CBR Class B Rate Rider",{"$f":"VLOOKUP($B$3,'Data Current Rates'!$A:$AJ,MATCH(BI_WHSI_AUR_Typical!$A20,CurrentHeader,0),FALSE)","v":1E-4},{"$f":"IF($B$7=\"kWh\",$B$4,$B$5)","v":750},7.4999999999999997E-2,{"$f":"VLOOKUP($B$3,'Data Proposed Rates'!$A:$AT,MATCH(BI_WHSI_AUR_Typical!$A20,ProposedHeader,0),FALSE)","v":-5.9999999999999995E-4},{"$f":"IF($B$7=\"kWh\",$B$4,$B$5)","v":750},-0.44999999999999996,-0.52499999999999991,-6.9999999999999991]
["GA Rate Rider",{"$f":"VLOOKUP($B$3,'Data Current Rates'!$A:$AJ,MATCH(BI_WHSI_AUR_Typical!$A21,CurrentHeader,0),FALSE)","v":0},750,0,{"$f":"VLOOKUP($B$3,'Data Proposed Rates'!$A:$AT,MATCH(BI_WHSI_AUR_Typical!$A21,ProposedHeader,0),FALSE)","v":0},750,0,0,"N/A"]
["Smart Meter Entity Charge (if applicable)",{"$f":"VLOOKUP($A22,'Data Pass Through'!$A:$D,2,FALSE)","v":0.42},1,0.42,{"$f":"VLOOKUP($A22,'Data Pass Through'!$A:$D,2,FALSE)","v":0.42},1,0.42,0,0]
["Rate Rider for Account 1588",null,null,null,{"$f":"VLOOKUP($B$3,'Data Proposed Rates'!$A:$AT,MATCH(BI_WHSI_AUR_Typical!$A23,ProposedHeader,0),FALSE)","v":-3.2000000000000002E-3},{"$f":"IF($B$7=\"kWh\",$B$4,$B$5)","v":750},-2.4,-2.4,"N/A"]
["Sub-Total B - Distribution (includes Sub-Total A)",null,null,{"$f":"SUM(INDIRECT(\"D17:D\"&ROW()-1))","v":35.567520000000009},null,null,{"$f":"SUM(INDIRECT(\"G17:G\"&ROW()-1))","v":35.182520000000004},-0.38500000000000512,-1.0824482561618156E-2]
["Retail Transmission Rate – Network Service Rate",{"$f":"VLOOKUP($B$3,'Data Current Rates'!$A:$AJ,MATCH(BI_WHSI_AUR_Typical!$A25,CurrentHeader,0),FALSE)","v":1.41E-2},{"$f":"IF($B$7=\"kWh\",$B$4*$B$6,$B$5)","v":782.25},{"$f":"B25*C25","v":11.029724999999999},{"$f":"VLOOKUP($B$3,'Data Proposed Rates'!$A:$AT,MATCH(BI_WHSI_AUR_Typical!$A25,ProposedHeader,0),FALSE)","v":1.4500000000000001E-2},{"$f":"IF($B$7=\"kWh\",$B$4*$B$6,$B$5)","v":782.25},11.342625,0.31290000000000084,2.8368794326241214E-2]
["Retail Transmission Rate – Line and Transformation Connection Service Rate",{"$f":"VLOOKUP($B$3,'Data Current Rates'!$A:$AJ,MATCH(BI_WHSI_AUR_Typical!$A26,CurrentHeader,0),FALSE)","v":1.01E-2},{"$f":"IF($B$7=\"kWh\",$B$4*$B$6,$B$5)","v":782.25},7.9007249999999996,{"$f":"VLOOKUP($B$3,'Data Proposed Rates'!$A:$AT,MATCH(BI_WHSI_AUR_Typical!$A26,ProposedHeader,0),FALSE)","v":1.04E-2},{"$f":"IF($B$7=\"kWh\",$B$4*$B$6,$B$5)","v":782.25},8.1353999999999989,0.2346749999999993,2.9702970297029615E-2]
["Sub-Total C - Delivery (including Sub-Total B)",null,null,{"$f":"SUM(D24:D26)","v":54.497970000000009},null,null,{"$f":"SUM(G24:G26)","v":54.660544999999999},0.1625749999999897,2.9831386380077948E-3]
["Wholesale Market Service Rate (WMS) – not including CBR",{"$f":"VLOOKUP($A28,'Data Pass Through'!$A:$D,2,FALSE)","v":4.1000000000000003E-3},{"$f":"$B$4*$B$6","v":782.25},{"$f":"B28*C28","v":3.2072250000000002},{"$f":"VLOOKUP($A28,'Data Pass Through'!$A:$D,3,FALSE)","v":4.1000000000000003E-3},{"$f":"$B$4*$B$6","v":782.25},3.2072250000000002,0,0]
["Capacity Based Recovery (CBR) – Applicable for Class B Customers",{"$f":"VLOOKUP($A29,'Data Pass Through'!$A:$D,2,FALSE)","v":5.9999999999999995E-4},{"$f":"$B$4*$B$6","v":782.25},0.46934999999999993,{"$f":"VLOOKUP($A29,'Data Pass Through'!$A:$D,3,FALSE)","v":5.9999999999999995E-4},{"$f":"$B$4*$B$6","v":782.25},0.46934999999999993,0,0]
["Rural Rate Protection Charge",{"$f":"VLOOKUP($A30,'Data Pass Through'!$A:$D,2,FALSE)","v":5.9999999999999995E-4},{"$f":"$B$4*$B$6","v":782.25},0.46934999999999993,{"$f":"VLOOKUP($A30,'Data Pass Through'!$A:$D,3,FALSE)","v":5.9999999999999995E-4},{"$f":"$B$4*$B$6","v":782.25},0.46934999999999993,0,0]
["Standard Supply Service – Administration Charge (if applicable)",{"$f":"VLOOKUP($A31,'Data Pass Through'!$A:$D,2,FALSE)","v":0.25},1,0.25,{"$f":"VLOOKUP($A31,'Data Pass Through'!$A:$D,3,FALSE)","v":0.25},1,0.25,0,0]
["TOU-Off Peak",{"$f":"VLOOKUP($A32,'Data Pass Through'!$A:$D,2,FALSE)","v":9.8000000000000004E-2},{"$f":"B$4*VLOOKUP($B$3,'Data Billing Quantities'!$A:$O,MATCH($A32,'Data Billing Quantities'!$4:$4,0),FALSE)","v":480},47.04,{"$f":"VLOOKUP($A32,'Data Pass Through'!$A:$D,3,FALSE)","v":9.8000000000000004E-2},{"$f":"B$4*VLOOKUP($B$3,'Data Billing Quantities'!$A:$O,MATCH($A32,'Data Billing Quantities'!$4:$4,0),FALSE)","v":480},{"$f":"E32*F32","v":47.04},0,0]
["TOU-Mid Peak",{"$f":"VLOOKUP($A33,'Data Pass Through'!$A:$D,2,FALSE)","v":0.157},{"$f":"B$4*VLOOKUP($B$3,'Data Billing Quantities'!$A:$O,MATCH($A33,'Data Billing Quantities'!$4:$4,0),FALSE)","v":135},21.195,{"$f":"VLOOKUP($A33,'Data Pass Through'!$A:$D,3,FALSE)","v":0.157},{"$f":"B$4*VLOOKUP($B$3,'Data Billing Quantities'!$A:$O,MATCH($A33,'Data Billing Quantities'!$4:$4,0),FALSE)","v":135},{"$f":"E33*F33","v":21.195},0,0]
["TOU-On Peak",{"$f":"VLOOKUP($A34,'Data Pass Through'!$A:$D,2,FALSE)","v":0.20300000000000001},{"$f":"B$4*VLOOKUP($B$3,'Data Billing Quantities'!$A:$O,MATCH($A34,'Data Billing Quantities'!$4:$4,0),FALSE)","v":135},27.405000000000001,{"$f":"VLOOKUP($A34,'Data Pass Through'!$A:$D,3,FALSE)","v":0.20300000000000001},{"$f":"B$4*VLOOKUP($B$3,'Data Billing Quantities'!$A:$O,MATCH($A34,'Data Billing Quantities'!$4:$4,0),FALSE)","v":135},{"$f":"E34*F34","v":27.405000000000001},0,0]
["Total Bill on TOU (before Taxes)",null,null,{"$f":"SUM(D27:D34)","v":154.533895},null,null,{"$f":"SUM(G27:G34)","v":154.69647000000001},0.16257500000000391,1.0520345714446911E-3]
["HST",0.13,null,{"$f":"D35*B36","v":20.089406350000001},{"$f":"B36","v":0.13},null,{"$f":"G35*E36","v":20.110541100000003},2.1134750000001645E-2,1.0520345714447477E-3]
["Ontario Electricity Rebate (OER)",{"$f":"IF(($B$4*12)<250000,VLOOKUP($A37,'Data Pass Through'!$A$4:$C$19,2,0),0)","v":-0.23499999999999999},null,{"$f":"D35*B37","v":-36.315465324999998},{"$f":"IF(($B$4*12)<250000,VLOOKUP($A37,'Data Pass Through'!$A$4:$C$19,3,0),0)","v":-0.23499999999999999},null,{"$f":"G35*E37","v":-36.353670449999996},-3.8205124999997508E-2,-1.0520345714445975E-3]
["Total Bill on TOU",null,null,{"$f":"SUM(D35:D37)","v":138.307836025},null,null,{"$f":"SUM(G35:G37)","v":138.45334065000003},0.14550462500002936,1.0520345714448783E-3]
["* Distribution rate protection applies to R1 and R2 customers"]

{"sheet":"BI_WHSI_AUGe_Typical","index":36,"n_rows":39,"n_cols":9,"rows_kept":39,"cut":false,"hidden":false,"merged":[[0,0,0,10],[8,0,9,0],[8,1,8,3],[8,4,8,6],[8,7,8,8]]}
["Bill Impacts (Typical Consumption Level) - AUGe-WHSI"]
[]
["Rate Class",{"$f":"RIGHT(A1,LEN(A1)-FIND(\"- \",A1,1)-1)","v":"AUGe-WHSI"}]
["Monthly Consumption (kWh)",{"$f":"IF(COUNTIF(A1,\"*Low*\")>0,VLOOKUP(B3,'Data Billing Quantities'!$A:$Z,MATCH(\"Low kWh\",'Data Billing Quantities'!4:4,0),FALSE),IF(COUNTIF(A1,\"*Typical*\")>0,VLOOKUP(B3,'Data Billing Quantities'!$A:$Z,MATCH(\"Typical kWh\",'Data Billing Quantities'!4:4,0),FALSE),IF(COUNTIF(A1,\"*Average*\")>0,VLOOKUP(B3,'Data Billing Quantities'!$A:$Z,MATCH(\"Average kWh\",'Data Billing Quantities'!4:4,0),FALSE),IF(COUNTIF(A1,\"*High*\")>0,VLOOKUP(B3,'Data Billing Quantities'!$A:$Z,MATCH(\"High kWh\",'Data Billing Quantities'!4:4,0),FALSE),\"error\"))))","v":2000}]
["Peak (kW)",{"$f":"IF(COUNTIF(A1,\"*Low*\")>0,VLOOKUP(B3,'Data Billing Quantities'!$A:$Z,MATCH(\"Low kW\",'Data Billing Quantities'!4:4,0),FALSE),IF(COUNTIF(A1,\"*Typical*\")>0,VLOOKUP(B3,'Data Billing Quantities'!$A:$Z,MATCH(\"Typical kW\",'Data Billing Quantities'!4:4,0),FALSE),IF(COUNTIF(A1,\"*Average*\")>0,VLOOKUP(B3,'Data Billing Quantities'!$A:$Z,MATCH(\"Average kW\",'Data Billing Quantities'!4:4,0),FALSE),IF(COUNTIF(A1,\"*High*\")>0,VLOOKUP(B3,'Data Billing Quantities'!$A:$Z,MATCH(\"High kW\",'Data Billing Quantities'!4:4,0),FALSE),\"error\"))))","v":0}]
["Loss factor",{"$f":"VLOOKUP(B3,'Data Billing Quantities'!A:D,MATCH(A6,'Data Billing Quantities'!4:4,0),FALSE)","v":1.0429999999999999}]
["Charge determinant",{"$f":"VLOOKUP(B3,'Data Billing Quantities'!A:D,MATCH(A7,'Data Billing Quantities'!4:4,0),FALSE)","v":"kWh"}]
[]
[null,"Current OEB-Approved",null,null,"Proposed",null,null,"Impact"]
[null,"Rate ($)","Volume","Charge ($)","Rate ($)","Volume","Charge ($)","$ Change","% Change"]
["Service Charge",{"$f":"VLOOKUP($B$3,'Data Current Rates'!$A:$AO,MATCH(BI_WHSI_AUGe_Typical!$A11,CurrentHeader,0),FALSE)","v":26.36},1,{"$f":"B11*C11","v":26.36},{"$f":"VLOOKUP($B$3,'Data Proposed Rates'!$A:$AT,MATCH(BI_WHSI_AUGe_Typical!$A11,ProposedHeader,0),FALSE)","v":26.36},1,{"$f":"E11*F11","v":26.36},{"$f":"G11-D11","v":0},{"$f":"IF(ISERROR(H11/ABS(D11)),\"N/A\",(H11/ABS(D11)))","v":0}]
["Distribution Volumetric Charge",{"$f":"VLOOKUP($B$3,'Data Current Rates'!$A:$AO,MATCH(BI_WHSI_AUGe_Typical!$A12,CurrentHeader,0),FALSE)","v":1.7600000000000001E-2},{"$f":"IF($B$7=\"kWh\",$B$4,$B$5)","v":2000},{"$f":"B12*C12","v":35.200000000000003},{"$f":"VLOOKUP($B$3,'Data Proposed Rates'!$A:$AT,MATCH(BI_WHSI_AUGe_Typical!$A12,ProposedHeader,0),FALSE)","v":1.9E-2},{"$f":"IF($B$7=\"kWh\",$B$4,$B$5)","v":2000},38,2.7999999999999972,7.9545454545454461E-2]
["RRRP Adjustment",{"$f":"IF($B$3=\"R2\",VLOOKUP(A13,'Data Pass Through'!$A4:$C19,3,0),0)*-1","v":0},1,{"$f":"B13*C13","v":0},{"$f":"IF($B$3=\"R2\",VLOOKUP(A13,'Data Pass Through'!$A4:$C19,3,0),0)*-1","v":0},1,0,0,"N/A"]
["DRP Adjustment",null,null,{"$f":"IF(OR($B$3=\"R1\",$B$3=\"R2\",$B$3=\"R1-CPUC\"),IF(SUM(D11:D13)>'Data Pass Through'!$B$16,-(SUM(D11:D13)-'Data Pass Through'!$B$16),0),0)","v":0},null,null,{"$f":"IF(OR($B$3=\"R1\",$B$3=\"R2\",$B$3=\"R1-CPUC\"),IF(SUM(G11:G13)>'Data Pass Through'!$B$16,-(SUM(G11:G13)-'Data Pass Through'!$B$16),0),0)","v":0},0,"N/A"]
["Group 2 Fixed Rate Rider",{"$f":"VLOOKUP($B$3,'Data Current Rates'!$A:$AO,MATCH(BI_WHSI_AUGe_Typical!$A15,CurrentHeader,0),FALSE)","v":0},1,{"$f":"B15*C15","v":0},{"$f":"VLOOKUP($B$3,'Data Proposed Rates'!$A:$AT,MATCH(BI_WHSI_AUGe_Typical!$A15,ProposedHeader,0),FALSE)","v":-0.9},1,{"$f":"E15*F15","v":-0.9},-0.9,"N/A"]
["Group 2 Volumetric Rate Rider",{"$f":"VLOOKUP($B$3,'Data Current Rates'!$A:$AO,MATCH(BI_WHSI_AUGe_Typical!$A16,CurrentHeader,0),FALSE)","v":-2.9999999999999997E-4},{"$f":"IF($B$7=\"kWh\",$B$4,$B$5)","v":2000},{"$f":"B16*C16","v":-0.6},{"$f":"VLOOKUP($B$3,'Data Proposed Rates'!$A:$AT,MATCH(BI_WHSI_AUGe_Typical!$A16,ProposedHeader,0),FALSE)","v":-6.9999999999999999E-4},{"$f":"IF($B$7=\"kWh\",$B$4,$B$5)","v":2000},-1.4,{"$f":"G16-D16","v":-0.79999999999999993},{"$f":"IF(ISERROR(H16/ABS(D16)),\"N/A\",(H16/ABS(D16)))","v":-1.3333333333333333}]
["Sub-Total A (excluding pass through)",null,null,{"$f":"SUM(D11:D16)","v":60.96},null,null,{"$f":"SUM(G11:G16)","v":62.06},1.1000000000000014,1.8044619422572201E-2]
["Line Losses on Cost of Power",{"$f":"VLOOKUP($B$3,'Data Billing Quantities'!$A:$O,MATCH(BI_WHSI_AUGe_Typical!$A32,'Data Billing Quantities'!$4:$4,0),FALSE)*$B32+VLOOKUP($B$3,'Data Billing Quantities'!$A:$O,MATCH(BI_WHSI_AUGe_Typical!$A33,'Data Billing Quantities'!$4:$4,0),FALSE)*$B33+VLOOKUP($B$3,'Data Billing Quantities'!$A:$O,MATCH(BI_WHSI_AUGe_Typical!$A34,'Data Billing Quantities'!$4:$4,0),FALSE)*$B34","v":0.12752000000000002},{"$f":"($B$6*$B$4)-$B$4","v":86},{"$f":"B18*C18","v":10.966720000000002},{"$f":"VLOOKUP($B$3,'Data Billing Quantities'!$A:$O,MATCH(BI_WHSI_AUGe_Typical!$A32,'Data Billing Quantities'!$4:$4,0),FALSE)*$B32+VLOOKUP($B$3,'Data Billing Quantities'!$A:$O,MATCH(BI_WHSI_AUGe_Typical!$A33,'Data Billing Quantities'!$4:$4,0),FALSE)*$B33+VLOOKUP($B$3,'Data Billing Quantities'!$A:$O,MATCH(BI_WHSI_AUGe_Typical!$A34,'Data Billing Quantities'!$4:$4,0),FALSE)*$B34","v":0.12752000000000002},{"$f":"($B$6*$B$4)-$B$4","v":86},10.966720000000002,0,0]
["Total Deferral/Variance Account Rate Rider",{"$f":"VLOOKUP($B$3,'Data Current Rates'!$A:$AO,MATCH(BI_WHSI_AUGe_Typical!$A19,CurrentHeader,0),FALSE)","v":-3.7999999999999996E-3},{"$f":"IF($B$7=\"kWh\",$B$4,$B$5)","v":2000},-7.5999999999999988,{"$f":"VLOOKUP($B$3,'Data Proposed Rates'!$A:$AT,MATCH(BI_WHSI_AUGe_Typical!$A19,ProposedHeader,0),FALSE)","v":-1.8E-3},{"$f":"IF($B$7=\"kWh\",$B$4,$B$5)","v":2000},-3.6,3.9999999999999987,0.52631578947368407]
["CBR Class B Rate Rider",{"$f":"VLOOKUP($B$3,'Data Current Rates'!$A:$AJ,MATCH(BI_WHSI_AUGe_Typical!$A20,CurrentHeader,0),FALSE)","v":1E-4},{"$f":"IF($B$7=\"kWh\",$B$4,$B$5)","v":2000},0.2,{"$f":"VLOOKUP($B$3,'Data Proposed Rates'!$A:$AT,MATCH(BI_WHSI_AUGe_Typical!$A20,ProposedHeader,0),FALSE)","v":-5.9999999999999995E-4},{"$f":"IF($B$7=\"kWh\",$B$4,$B$5)","v":2000},-1.2,-1.4,-6.9999999999999991]
["GA Rate Rider",{"$f":"VLOOKUP($B$3,'Data Current Rates'!$A:$AJ,MATCH(BI_WHSI_AUGe_Typical!$A21,CurrentHeader,0),FALSE)","v":0},2000,0,{"$f":"VLOOKUP($B$3,'Data Proposed Rates'!$A:$AT,MATCH(BI_WHSI_AUGe_Typical!$A21,ProposedHeader,0),FALSE)","v":0},2000,0,0,"N/A"]
["Smart Meter Entity Charge (if applicable)",{"$f":"VLOOKUP($A22,'Data Pass Through'!$A:$D,2,FALSE)","v":0.42},1,0.42,{"$f":"VLOOKUP($A22,'Data Pass Through'!$A:$D,2,FALSE)","v":0.42},1,0.42,0,0]
["Rate Rider for Account 1588",null,null,null,{"$f":"VLOOKUP($B$3,'Data Proposed Rates'!$A:$AT,MATCH(BI_WHSI_AUGe_Typical!$A23,ProposedHeader,0),FALSE)","v":-3.2000000000000002E-3},{"$f":"IF($B$7=\"kWh\",$B$4,$B$5)","v":2000},-6.4,-6.4,"N/A"]
["Sub-Total B - Distribution (includes Sub-Total A)",null,null,{"$f":"SUM(INDIRECT(\"D17:D\"&ROW()-1))","v":64.946720000000013},null,null,{"$f":"SUM(INDIRECT(\"G17:G\"&ROW()-1))","v":62.246720000000018},-2.6999999999999957,-4.1572538228258411E-2]
["Retail Transmission Rate – Network Service Rate",{"$f":"VLOOKUP($B$3,'Data Current Rates'!$A:$AJ,MATCH(BI_WHSI_AUGe_Typical!$A25,CurrentHeader,0),FALSE)","v":1.09E-2},{"$f":"IF($B$7=\"kWh\",$B$4*$B$6,$B$5)","v":2086},{"$f":"B25*C25","v":22.737400000000001},{"$f":"VLOOKUP($B$3,'Data Proposed Rates'!$A:$AT,MATCH(BI_WHSI_AUGe_Typical!$A25,ProposedHeader,0),FALSE)","v":1.12E-2},{"$f":"IF($B$7=\"kWh\",$B$4*$B$6,$B$5)","v":2086},23.363199999999999,0.62579999999999814,2.7522935779816432E-2]
["Retail Transmission Rate – Line and Transformation Connection Service Rate",{"$f":"VLOOKUP($B$3,'Data Current Rates'!$A:$AJ,MATCH(BI_WHSI_AUGe_Typical!$A26,CurrentHeader,0),FALSE)","v":8.2000000000000007E-3},{"$f":"IF($B$7=\"kWh\",$B$4*$B$6,$B$5)","v":2086},17.1052,{"$f":"VLOOKUP($B$3,'Data Proposed Rates'!$A:$AT,MATCH(BI_WHSI_AUGe_Typical!$A26,ProposedHeader,0),FALSE)","v":8.3999999999999995E-3},{"$f":"IF($B$7=\"kWh\",$B$4*$B$6,$B$5)","v":2086},17.522399999999998,0.41719999999999757,2.4390243902438883E-2]
["Sub-Total C - Delivery (including Sub-Total B)",null,null,{"$f":"SUM(D24:D26)","v":104.78932},null,null,{"$f":"SUM(G24:G26)","v":103.13232000000002},-1.6569999999999823,-1.5812680147175132E-2]
["Wholesale Market Service Rate (WMS) – not including CBR",{"$f":"VLOOKUP($A28,'Data Pass Through'!$A:$D,2,FALSE)","v":4.1000000000000003E-3},{"$f":"$B$4*$B$6","v":2086},{"$f":"B28*C28","v":8.5526},{"$f":"VLOOKUP($A28,'Data Pass Through'!$A:$D,3,FALSE)","v":4.1000000000000003E-3},{"$f":"$B$4*$B$6","v":2086},8.5526,0,0]
["Capacity Based Recovery (CBR) – Applicable for Class B Customers",{"$f":"VLOOKUP($A29,'Data Pass Through'!$A:$D,2,FALSE)","v":5.9999999999999995E-4},{"$f":"$B$4*$B$6","v":2086},1.2515999999999998,{"$f":"VLOOKUP($A29,'Data Pass Through'!$A:$D,3,FALSE)","v":5.9999999999999995E-4},{"$f":"$B$4*$B$6","v":2086},1.2515999999999998,0,0]
["Rural Rate Protection Charge",{"$f":"VLOOKUP($A30,'Data Pass Through'!$A:$D,2,FALSE)","v":5.9999999999999995E-4},{"$f":"$B$4*$B$6","v":2086},1.2515999999999998,{"$f":"VLOOKUP($A30,'Data Pass Through'!$A:$D,3,FALSE)","v":5.9999999999999995E-4},{"$f":"$B$4*$B$6","v":2086},1.2515999999999998,0,0]
["Standard Supply Service – Administration Charge (if applicable)",{"$f":"VLOOKUP($A31,'Data Pass Through'!$A:$D,2,FALSE)","v":0.25},1,0.25,{"$f":"VLOOKUP($A31,'Data Pass Through'!$A:$D,3,FALSE)","v":0.25},1,0.25,0,0]
["TOU-Off Peak",{"$f":"VLOOKUP($A32,'Data Pass Through'!$A:$D,2,FALSE)","v":9.8000000000000004E-2},{"$f":"B$4*VLOOKUP($B$3,'Data Billing Quantities'!$A:$O,MATCH($A32,'Data Billing Quantities'!$4:$4,0),FALSE)","v":1280},125.44,{"$f":"VLOOKUP($A32,'Data Pass Through'!$A:$D,3,FALSE)","v":9.8000000000000004E-2},{"$f":"B$4*VLOOKUP($B$3,'Data Billing Quantities'!$A:$O,MATCH($A32,'Data Billing Quantities'!$4:$4,0),FALSE)","v":1280},{"$f":"E32*F32","v":125.44},0,0]
["TOU-Mid Peak",{"$f":"VLOOKUP($A33,'Data Pass Through'!$A:$D,2,FALSE)","v":0.157},{"$f":"B$4*VLOOKUP($B$3,'Data Billing Quantities'!$A:$O,MATCH($A33,'Data Billing Quantities'!$4:$4,0),FALSE)","v":360},56.52,{"$f":"VLOOKUP($A33,'Data Pass Through'!$A:$D,3,FALSE)","v":0.157},{"$f":"B$4*VLOOKUP($B$3,'Data Billing Quantities'!$A:$O,MATCH($A33,'Data Billing Quantities'!$4:$4,0),FALSE)","v":360},{"$f":"E33*F33","v":56.52},0,0]
["TOU-On Peak",{"$f":"VLOOKUP($A34,'Data Pass Through'!$A:$D,2,FALSE)","v":0.20300000000000001},{"$f":"B$4*VLOOKUP($B$3,'Data Billing Quantities'!$A:$O,MATCH($A34,'Data Billing Quantities'!$4:$4,0),FALSE)","v":360},73.08,{"$f":"VLOOKUP($A34,'Data Pass Through'!$A:$D,3,FALSE)","v":0.20300000000000001},{"$f":"B$4*VLOOKUP($B$3,'Data Billing Quantities'!$A:$O,MATCH($A34,'Data Billing Quantities'!$4:$4,0),FALSE)","v":360},{"$f":"E34*F34","v":73.08},0,0]
["Total Bill on TOU (before Taxes)",null,null,{"$f":"SUM(D27:D34)","v":371.13511999999997},null,null,{"$f":"SUM(G27:G34)","v":369.47811999999999},-1.6569999999999823,-4.4646812190664749E-3]
["HST",0.13,null,{"$f":"D35*B36","v":48.247565600000001},{"$f":"B36","v":0.13},null,{"$f":"G35*E36","v":48.032155600000003},-0.21540999999999855,-4.4646812190664922E-3]
["Ontario Electricity Rebate (OER)",{"$f":"IF(($B$4*12)<250000,VLOOKUP($A37,'Data Pass Through'!$A$4:$C$19,2,0),0)","v":-0.23499999999999999},null,{"$f":"D35*B37","v":-87.216753199999985},{"$f":"IF(($B$4*12)<250000,VLOOKUP($A37,'Data Pass Through'!$A$4:$C$19,3,0),0)","v":-0.23499999999999999},null,{"$f":"G35*E37","v":-86.827358199999992},0.38939499999999327,4.4646812190664454E-3]
["Total Bill on TOU",null,null,{"$f":"SUM(D35:D37)","v":332.16593239999997},null,null,{"$f":"SUM(G35:G37)","v":330.68291740000001},-1.4830149999999662,-4.4646812190664211E-3]
["* Distribution rate protection applies to R1 and R2 customers"]

{"sheet":"BI_WHSI_AUGd_Avg","index":37,"n_rows":34,"n_cols":9,"rows_kept":34,"cut":false,"hidden":false,"merged":[[0,0,0,9],[8,1,8,3],[8,4,8,6],[8,7,8,8]]}
["Bill Impacts (Average Consumption Level) - AUGd-WHSI"]
[]
["Rate Class",{"$f":"RIGHT(A1,LEN(A1)-FIND(\"- \",A1,1)-1)","v":"AUGd-WHSI"}]
["Monthly Consumption (kWh)",{"$f":"IF(COUNTIF(A1,\"*Low*\")>0,VLOOKUP(B3,'Data Billing Quantities'!$A:$Z,MATCH(\"Low kWh\",'Data Billing Quantities'!4:4,0),FALSE),IF(COUNTIF(A1,\"*Typical*\")>0,VLOOKUP(B3,'Data Billing Quantities'!$A:$Z,MATCH(\"Typical kWh\",'Data Billing Quantities'!4:4,0),FALSE),IF(COUNTIF(A1,\"*Average*\")>0,VLOOKUP(B3,'Data Billing Quantities'!$A:$Z,MATCH(\"Average kWh\",'Data Billing Quantities'!4:4,0),FALSE),IF(COUNTIF(A1,\"*High*\")>0,VLOOKUP(B3,'Data Billing Quantities'!$A:$Z,MATCH(\"High kWh\",'Data Billing Quantities'!4:4,0),FALSE),\"error\"))))","v":47636}]
["Peak (kW)",{"$f":"IF(COUNTIF(A1,\"*Low*\")>0,VLOOKUP(B3,'Data Billing Quantities'!$A:$Z,MATCH(\"Low kW\",'Data Billing Quantities'!4:4,0),FALSE),IF(COUNTIF(A1,\"*Typical*\")>0,VLOOKUP(B3,'Data Billing Quantities'!$A:$Z,MATCH(\"Typical kW\",'Data Billing Quantities'!4:4,0),FALSE),IF(COUNTIF(A1,\"*Average*\")>0,VLOOKUP(B3,'Data Billing Quantities'!$A:$Z,MATCH(\"Average kW\",'Data Billing Quantities'!4:4,0),FALSE),IF(COUNTIF(A1,\"*High*\")>0,VLOOKUP(B3,'Data Billing Quantities'!$A:$Z,MATCH(\"High kW\",'Data Billing Quantities'!4:4,0),FALSE),\"error\"))))","v":134}]
["Loss factor",{"$f":"VLOOKUP(B3,'Data Billing Quantities'!A:D,MATCH(A6,'Data Billing Quantities'!4:4,0),FALSE)","v":1.0329999999999999}]
["Charge determinant",{"$f":"VLOOKUP(B3,'Data Billing Quantities'!A:D,MATCH(A7,'Data Billing Quantities'!4:4,0),FALSE)","v":"kW"}]
[]
[null,"Current OEB-Approved",null,null,"Proposed",null,null,"Impact"]
[null,"Rate","Volume","Charge","Rate","Volume","Charge","$ Change","% Change"]
[null,"($)",null,"($)","($)",null,"($)"]
["Service Charge",{"$f":"VLOOKUP($B$3,'Data Current Rates'!$A:$AO,MATCH(BI_WHSI_AUGd_Avg!$A12,CurrentHeader,0),FALSE)","v":146.47},1,{"$f":"C12*B12","v":146.47},{"$f":"VLOOKUP($B$3,'Data Proposed Rates'!$A:$AT,MATCH(BI_WHSI_AUGd_Avg!$A12,ProposedHeader,0),FALSE)","v":146.47},1,{"$f":"F12*E12","v":146.47},{"$f":"G12-D12","v":0},{"$f":"IF(ISERROR(H12/ABS(D12)),\"N/A\",(H12/ABS(D12)))","v":0}]
["Distribution Volumetric Charge",{"$f":"VLOOKUP($B$3,'Data Current Rates'!$A:$AO,MATCH(BI_WHSI_AUGd_Avg!$A13,CurrentHeader,0),FALSE)","v":3.1817000000000002},{"$f":"IF($B$7=\"kWh\",$B$4,$B$5)","v":134},{"$f":"C13*B13","v":426.34780000000001},{"$f":"VLOOKUP($B$3,'Data Proposed Rates'!$A:$AT,MATCH(BI_WHSI_AUGd_Avg!$A13,ProposedHeader,0),FALSE)","v":3.3805999999999998},{"$f":"IF($B$7=\"kWh\",$B$4,$B$5)","v":134},{"$f":"F13*E13","v":453.00039999999996},26.65259999999995,6.2513750510733143E-2]
["Group 2 Fixed Rate Rider",{"$f":"VLOOKUP($B$3,'Data Current Rates'!$A:$AO,MATCH(BI_WHSI_AUGd_Avg!$A14,CurrentHeader,0),FALSE)","v":0},1,0,{"$f":"VLOOKUP($B$3,'Data Proposed Rates'!$A:$AT,MATCH(BI_WHSI_AUGd_Avg!$A14,ProposedHeader,0),FALSE)","v":-5.0199999999999996},1,{"$f":"F14*E14","v":-5.0199999999999996},-5.0199999999999996,"N/A"]
["Group 2 Volumetric Rate Rider",{"$f":"VLOOKUP($B$3,'Data Current Rates'!$A:$AO,MATCH(BI_WHSI_AUGd_Avg!$A15,CurrentHeader,0),FALSE)","v":-3.9199999999999999E-2},{"$f":"IF($B$7=\"kWh\",$B$4,$B$5)","v":134},-5.2527999999999997,{"$f":"VLOOKUP($B$3,'Data Proposed Rates'!$A:$AT,MATCH(BI_WHSI_AUGd_Avg!$A15,ProposedHeader,0),FALSE)","v":-0.1051},{"$f":"IF($B$7=\"kWh\",$B$4,$B$5)","v":134},-14.083399999999999,-8.8306000000000004,-1.681122448979592]
["Sub-Total A (excluding pass through)",null,null,{"$f":"SUM(D12:D15)","v":567.56500000000005},null,null,{"$f":"SUM(G12:G15)","v":580.36699999999996},12.801999999999907,2.2556006800982981E-2]
["Line Losses on Cost of Power",0,{"$f":"IF(B$17=0,0,B$4*B$6-B$4)","v":0},{"$f":"C17*B17","v":0},0,{"$f":"IF(E$17=0,0,E$4*E$6-E$4)","v":0},0,0,"N/A"]
["Total Deferral/Variance Account Rate Rider",{"$f":"VLOOKUP($B$3,'Data Current Rates'!$A:$AO,MATCH(BI_WHSI_AUGd_Avg!$A18,CurrentHeader,0),FALSE)","v":-1.2077},{"$f":"IF($B$7=\"kWh\",$B$4,$B$5)","v":134},-161.83179999999999,{"$f":"VLOOKUP($B$3,'Data Proposed Rates'!$A:$AT,MATCH(BI_WHSI_AUGd_Avg!$A18,ProposedHeader,0),FALSE)","v":-0.77349999999999997},{"$f":"IF($B$7=\"kWh\",$B$4,$B$5)","v":134},-103.649,58.182799999999986,0.35952637244348756]
["CBR Class B Rate Rider",{"$f":"VLOOKUP($B$3,'Data Current Rates'!$A:$AO,MATCH(BI_WHSI_AUGd_Avg!$A19,CurrentHeader,0),FALSE)","v":1.9699999999999999E-2},{"$f":"IF($B$7=\"kWh\",$B$4,$B$5)","v":134},{"$f":"C19*B19","v":2.6397999999999997},{"$f":"VLOOKUP($B$3,'Data Proposed Rates'!$A:$AT,MATCH(BI_WHSI_AUGd_Avg!$A19,ProposedHeader,0),FALSE)","v":-0.21640000000000001},{"$f":"IF($B$7=\"kWh\",$B$4,$B$5)","v":134},{"$f":"F19*E19","v":-28.997600000000002},-31.637400000000003,-11.984771573604064]
["GA Rate Rider",{"$f":"VLOOKUP($B$3,'Data Current Rates'!$A:$AO,MATCH(BI_WHSI_AUGd_Avg!$A20,CurrentHeader,0),FALSE)","v":-8.9999999999999998E-4},{"$f":"$B$4","v":47636},{"$f":"C20*B20","v":-42.872399999999999},{"$f":"VLOOKUP($B$3,'Data Proposed Rates'!$A:$AT,MATCH(BI_WHSI_AUGd_Avg!$A20,ProposedHeader,0),FALSE)","v":1.21E-2},{"$f":"$B$4","v":47636},576.39559999999994,619.26799999999992,14.444444444444443]
["Rate Rider for Account 1588",null,null,null,{"$f":"VLOOKUP($B$3,'Data Proposed Rates'!$A:$AT,MATCH(BI_WHSI_AUGd_Avg!$A21,ProposedHeader,0),FALSE)","v":-1.1192},{"$f":"IF($B$7=\"kWh\",$B$4,$B$5)","v":134},{"$f":"F21*E21","v":-149.97280000000001},-149.97280000000001,"N/A"]
["Sub-Total B - Distribution (includes Sub-Total A)",null,null,{"$f":"SUM(INDIRECT(\"D16:D\"&ROW()-1))","v":365.50060000000008},null,null,{"$f":"SUM(INDIRECT(\"G16:G\"&ROW()-1))","v":874.14319999999998},508.6425999999999,1.3916327360338117]
["Retail Transmission Rate – Network Service Rate",{"$f":"VLOOKUP($B$3,'Data Current Rates'!$A:$AO,MATCH(BI_WHSI_AUGd_Avg!$A23,CurrentHeader,0),FALSE)","v":3.7906},{"$f":"IF($B$7=\"kWh\",$B$4*$B$6,$B$5)","v":134},{"$f":"C23*B23","v":507.94040000000001},{"$f":"VLOOKUP($B$3,'Data Proposed Rates'!$A:$AT,MATCH(BI_WHSI_AUGd_Avg!$A23,ProposedHeader,0),FALSE)","v":3.8921000000000001},{"$f":"IF($B$7=\"kWh\",$B$4*$B$6,$B$5)","v":134},{"$f":"F23*E23","v":521.54140000000007},13.601000000000056,2.6776763573049232E-2]
["Retail Transmission Rate – Line and Transformation Connection Service Rate",{"$f":"VLOOKUP($B$3,'Data Current Rates'!$A:$AO,MATCH(BI_WHSI_AUGd_Avg!$A24,CurrentHeader,0),FALSE)","v":2.8288000000000002},{"$f":"IF($B$7=\"kWh\",$B$4*$B$6,$B$5)","v":134},{"$f":"C24*B24","v":379.05920000000003},{"$f":"VLOOKUP($B$3,'Data Proposed Rates'!$A:$AT,MATCH(BI_WHSI_AUGd_Avg!$A24,ProposedHeader,0),FALSE)","v":2.8993000000000002},{"$f":"IF($B$7=\"kWh\",$B$4*$B$6,$B$5)","v":134},{"$f":"F24*E24","v":388.50620000000004},9.4470000000000027,2.4922228506787335E-2]
["Sub-Total C - Delivery (including Sub-Total B)",null,null,{"$f":"SUM(D22:D24)","v":1252.5001999999999},null,null,{"$f":"SUM(G22:G24)","v":1784.1908000000001},531.69060000000013,0.42450340526891744]
["Wholesale Market Service Rate (WMS) – not including CBR",{"$f":"VLOOKUP($A26,'Data Pass Through'!$A:$D,2,FALSE)","v":4.1000000000000003E-3},{"$f":"$B$4*$B$6","v":49207.987999999998},{"$f":"C26*B26","v":201.7527508},{"$f":"VLOOKUP($A26,'Data Pass Through'!$A:$D,3,FALSE)","v":4.1000000000000003E-3},{"$f":"$B$4*$B$6","v":49207.987999999998},{"$f":"F26*E26","v":201.7527508},0,0]
["Capacity Based Recovery (CBR) – Applicable for Class B Customers",{"$f":"VLOOKUP($A27,'Data Pass Through'!$A:$D,2,FALSE)","v":5.9999999999999995E-4},{"$f":"$B$4*$B$6","v":49207.987999999998},29.524792799999997,{"$f":"VLOOKUP($A27,'Data Pass Through'!$A:$D,3,FALSE)","v":5.9999999999999995E-4},49207.987999999998,29.524792799999997,0,0]
["Rural Rate Protection Charge",{"$f":"VLOOKUP($A28,'Data Pass Through'!$A:$D,2,FALSE)","v":5.9999999999999995E-4},49207.987999999998,29.524792799999997,{"$f":"VLOOKUP($A28,'Data Pass Through'!$A:$D,3,FALSE)","v":5.9999999999999995E-4},49207.987999999998,29.524792799999997,0,0]
["Standard Supply Service – Administration Charge (if applicable)",{"$f":"VLOOKUP($A29,'Data Pass Through'!$A:$D,2,FALSE)","v":0.25},1,0.25,{"$f":"VLOOKUP($A29,'Data Pass Through'!$A:$D,3,FALSE)","v":0.25},1,0.25,0,0]
["Average IESO Wholesale Market Price",{"$f":"VLOOKUP(A30,'Data Pass Through'!A4:C19,2,0)","v":0.15959999999999999},{"$f":"$B$4*$B$6","v":49207.987999999998},{"$f":"C30*B30","v":7853.5948847999989},{"$f":"VLOOKUP($A30,'Data Pass Through'!$A:$D,3,FALSE)","v":0.15959999999999999},{"$f":"$B$4*$B$6","v":49207.987999999998},7853.5948847999989,{"$f":"G30-D30","v":0},0]
["Total Bill on Average IESO Wholesale Market Price (before Taxes)",null,null,{"$f":"SUM(D25:D30)","v":9367.1474211999994},null,null,{"$f":"SUM(G25:G30)","v":9898.8380211999993},{"$f":"G31-D31","v":531.6905999999999},5.6761207664636763E-2]
["HST",0.13,null,{"$f":"D31*B32","v":1217.729164756},0.13,null,{"$f":"G31*E32","v":1286.848942756},{"$f":"G32-D32","v":69.119777999999997},5.6761207664636763E-2]
["Ontario Electricity Rebate (OER)",{"$f":"IF(($B$4*12)<250000,VLOOKUP(A33,'Data Pass Through'!$A$4:$C$19,2,0),0)","v":0},null,{"$f":"D31*B33","v":0},{"$f":"IF(($B$4*12)<250000,VLOOKUP(A33,'Data Pass Through'!$A$4:$C$19,3,0),0)","v":0},null,{"$f":"G31*E33","v":0},{"$f":"G33-D33","v":0},"N/A"]
["Total Bill on Average IESO Wholesale Market Price",null,null,{"$f":"SUM(D31:D33)","v":10584.876585955999},null,null,{"$f":"SUM(G31:G33)","v":11185.686963955999},{"$f":"G34-D34","v":600.81037800000013},5.6761207664636791E-2]

{"sheet":"BI_WHSI_ST_Avg","index":38,"n_rows":34,"n_cols":9,"rows_kept":34,"cut":false,"hidden":false,"merged":[[0,0,0,9],[8,1,8,3],[8,4,8,6],[8,7,8,8]]}
["Bill Impacts (Average Consumption Level) - ST-WHSI"]
[]
["Rate Class",{"$f":"RIGHT(A1,LEN(A1)-FIND(\"- \",A1,1)-1)","v":"ST-WHSI"}]
["Monthly Consumption (kWh)",{"$f":"IF(COUNTIF(A1,\"*Low*\")>0,VLOOKUP(B3,'Data Billing Quantities'!$A:$Z,MATCH(\"Low kWh\",'Data Billing Quantities'!4:4,0),FALSE),IF(COUNTIF(A1,\"*Typical*\")>0,VLOOKUP(B3,'Data Billing Quantities'!$A:$Z,MATCH(\"Typical kWh\",'Data Billing Quantities'!4:4,0),FALSE),IF(COUNTIF(A1,\"*Average*\")>0,VLOOKUP(B3,'Data Billing Quantities'!$A:$Z,MATCH(\"Average kWh\",'Data Billing Quantities'!4:4,0),FALSE),IF(COUNTIF(A1,\"*High*\")>0,VLOOKUP(B3,'Data Billing Quantities'!$A:$Z,MATCH(\"High kWh\",'Data Billing Quantities'!4:4,0),FALSE),\"error\"))))","v":895853}]
["Peak (kW)",{"$f":"IF(COUNTIF(A1,\"*Low*\")>0,VLOOKUP(B3,'Data Billing Quantities'!$A:$Z,MATCH(\"Low kW\",'Data Billing Quantities'!4:4,0),FALSE),IF(COUNTIF(A1,\"*Typical*\")>0,VLOOKUP(B3,'Data Billing Quantities'!$A:$Z,MATCH(\"Typical kW\",'Data Billing Quantities'!4:4,0),FALSE),IF(COUNTIF(A1,\"*Average*\")>0,VLOOKUP(B3,'Data Billing Quantities'!$A:$Z,MATCH(\"Average kW\",'Data Billing Quantities'!4:4,0),FALSE),IF(COUNTIF(A1,\"*High*\")>0,VLOOKUP(B3,'Data Billing Quantities'!$A:$Z,MATCH(\"High kW\",'Data Billing Quantities'!4:4,0),FALSE),\"error\"))))","v":3301}]
["Loss factor",{"$f":"VLOOKUP(B3,'Data Billing Quantities'!A:D,MATCH(A6,'Data Billing Quantities'!4:4,0),FALSE)","v":1.034}]
["Charge determinant",{"$f":"VLOOKUP(B3,'Data Billing Quantities'!A:D,MATCH(A7,'Data Billing Quantities'!4:4,0),FALSE)","v":"kW"}]
[]
[null,"Current OEB-Approved",null,null,"Proposed",null,null,"Impact"]
[null,"Rate","Volume","Charge","Rate","Volume","Charge","$ Change","% Change"]
[null,"($)",null,"($)","($)",null,"($)"]
["Service Charge",{"$f":"VLOOKUP($B$3,'Data Current Rates'!$A:$AO,MATCH(BI_WHSI_ST_Avg!$A12,CurrentHeader,0),FALSE)","v":1241.8699999999999},1,{"$f":"C12*B12","v":1241.8699999999999},{"$f":"VLOOKUP($B$3,'Data Proposed Rates'!$A:$AT,MATCH(BI_WHSI_ST_Avg!$A12,ProposedHeader,0),FALSE)","v":1241.8699999999999},1,{"$f":"F12*E12","v":1241.8699999999999},{"$f":"G12-D12","v":0},{"$f":"IF(ISERROR(H12/ABS(D12)),\"N/A\",(H12/ABS(D12)))","v":0}]
["Distribution Volumetric Charge",{"$f":"VLOOKUP($B$3,'Data Current Rates'!$A:$AO,MATCH(BI_WHSI_ST_Avg!$A13,CurrentHeader,0),FALSE)","v":1.7096},{"$f":"IF($B$7=\"kWh\",$B$4,$B$5)","v":3301},{"$f":"C13*B13","v":5643.3896000000004},{"$f":"VLOOKUP($B$3,'Data Proposed Rates'!$A:$AT,MATCH(BI_WHSI_ST_Avg!$A13,ProposedHeader,0),FALSE)","v":1.8196000000000001},{"$f":"IF($B$7=\"kWh\",$B$4,$B$5)","v":3301},{"$f":"F13*E13","v":6006.4996000000001},363.10999999999967,6.4342536265793102E-2]
["Group 2 Fixed Rate Rider",{"$f":"VLOOKUP($B$3,'Data Current Rates'!$A:$AO,MATCH(BI_WHSI_ST_Avg!$A14,CurrentHeader,0),FALSE)","v":0},1,0,{"$f":"VLOOKUP($B$3,'Data Proposed Rates'!$A:$AT,MATCH(BI_WHSI_ST_Avg!$A14,ProposedHeader,0),FALSE)","v":-37.83},1,{"$f":"F14*E14","v":-37.83},-37.83,"N/A"]
["Group 2 Volumetric Rate Rider",{"$f":"VLOOKUP($B$3,'Data Current Rates'!$A:$AO,MATCH(BI_WHSI_ST_Avg!$A15,CurrentHeader,0),FALSE)","v":-4.3799999999999999E-2},{"$f":"IF($B$7=\"kWh\",$B$4,$B$5)","v":3301},-144.5838,{"$f":"VLOOKUP($B$3,'Data Proposed Rates'!$A:$AT,MATCH(BI_WHSI_ST_Avg!$A15,ProposedHeader,0),FALSE)","v":-6.8599999999999994E-2},{"$f":"IF($B$7=\"kWh\",$B$4,$B$5)","v":3301},-226.44859999999997,-81.864799999999974,-0.56621004566210031]
["Sub-Total A (excluding pass through)",null,null,{"$f":"SUM(D12:D15)","v":6740.6758},null,null,{"$f":"SUM(G12:G15)","v":6984.0910000000003},243.41520000000037,3.6111394053397493E-2]
["Line Losses on Cost of Power",0,{"$f":"IF(B$17=0,0,B$4*B$6-B$4)","v":0},{"$f":"C17*B17","v":0},0,{"$f":"IF(E$17=0,0,E$4*E$6-E$4)","v":0},0,0,"N/A"]
["Total Deferral/Variance Account Rate Rider",{"$f":"VLOOKUP($B$3,'Data Current Rates'!$A:$AO,MATCH(BI_WHSI_ST_Avg!$A18,CurrentHeader,0),FALSE)","v":-1.6941000000000002},{"$f":"IF($B$7=\"kWh\",$B$4,$B$5)","v":3301},-5592.2241000000004,{"$f":"VLOOKUP($B$3,'Data Proposed Rates'!$A:$AT,MATCH(BI_WHSI_ST_Avg!$A18,ProposedHeader,0),FALSE)","v":-0.68330000000000002},{"$f":"IF($B$7=\"kWh\",$B$4,$B$5)","v":3301},-2255.5733,3336.6508000000003,0.59665899297562131]
["CBR Class B Rate Rider",{"$f":"VLOOKUP($B$3,'Data Current Rates'!$A:$AO,MATCH(BI_WHSI_ST_Avg!$A19,CurrentHeader,0),FALSE)","v":1.2200000000000001E-2},{"$f":"IF($B$7=\"kWh\",$B$4,$B$5)","v":3301},{"$f":"C19*B19","v":40.272200000000005},{"$f":"VLOOKUP($B$3,'Data Proposed Rates'!$A:$AT,MATCH(BI_WHSI_ST_Avg!$A19,ProposedHeader,0),FALSE)","v":-0.21479999999999999},{"$f":"IF($B$7=\"kWh\",$B$4,$B$5)","v":3301},{"$f":"F19*E19","v":-709.0548},-749.327,-18.606557377049178]
["GA Rate Rider",{"$f":"VLOOKUP($B$3,'Data Current Rates'!$A:$AO,MATCH(BI_WHSI_ST_Avg!$A20,CurrentHeader,0),FALSE)","v":-8.9999999999999998E-4},{"$f":"$B$4","v":895853},{"$f":"C20*B20","v":-806.26769999999999},{"$f":"VLOOKUP($B$3,'Data Proposed Rates'!$A:$AT,MATCH(BI_WHSI_ST_Avg!$A20,ProposedHeader,0),FALSE)","v":1.21E-2},{"$f":"$B$4","v":895853},10839.8213,11646.089,14.444444444444445]
["Rate Rider for Account 1588",null,null,null,{"$f":"VLOOKUP($B$3,'Data Proposed Rates'!$A:$AT,MATCH(BI_WHSI_ST_Avg!$A21,ProposedHeader,0),FALSE)","v":-1.3452},{"$f":"IF($B$7=\"kWh\",$B$4,$B$5)","v":3301},{"$f":"F21*E21","v":-4440.5051999999996},-4440.5051999999996,"N/A"]
["Sub-Total B - Distribution (includes Sub-Total A)",null,null,{"$f":"SUM(INDIRECT(\"D16:D\"&ROW()-1))","v":382.45619999999974},null,null,{"$f":"SUM(INDIRECT(\"G16:G\"&ROW()-1))","v":10418.779},10036.3228,26.241757356790156]
["Retail Transmission Rate – Network Service Rate",{"$f":"VLOOKUP($B$3,'Data Current Rates'!$A:$AO,MATCH(BI_WHSI_ST_Avg!$A23,CurrentHeader,0),FALSE)","v":5.5091999999999999},{"$f":"IF($B$7=\"kWh\",$B$4*$B$6,$B$5)","v":3301},{"$f":"C23*B23","v":18185.869200000001},{"$f":"VLOOKUP($B$3,'Data Proposed Rates'!$A:$AT,MATCH(BI_WHSI_ST_Avg!$A23,ProposedHeader,0),FALSE)","v":5.6567999999999996},{"$f":"IF($B$7=\"kWh\",$B$4*$B$6,$B$5)","v":3301},{"$f":"F23*E23","v":18673.096799999999},487.22759999999835,2.6791548682204222E-2]
["Retail Transmission Rate – Line and Transformation Connection Service Rate",{"$f":"VLOOKUP($B$3,'Data Current Rates'!$A:$AO,MATCH(BI_WHSI_ST_Avg!$A24,CurrentHeader,0),FALSE)","v":4.3196000000000003},{"$f":"IF($B$7=\"kWh\",$B$4*$B$6,$B$5)","v":3301},{"$f":"C24*B24","v":14258.999600000001},{"$f":"VLOOKUP($B$3,'Data Proposed Rates'!$A:$AT,MATCH(BI_WHSI_ST_Avg!$A24,ProposedHeader,0),FALSE)","v":4.4273999999999996},{"$f":"IF($B$7=\"kWh\",$B$4*$B$6,$B$5)","v":3301},{"$f":"F24*E24","v":14614.847399999999},355.84779999999773,2.4956014445781854E-2]
["Sub-Total C - Delivery (including Sub-Total B)",null,null,{"$f":"SUM(D22:D24)","v":32827.325000000004},null,null,{"$f":"SUM(G22:G24)","v":43706.7232},10879.398199999996,0.33141287631569111]
["Wholesale Market Service Rate (WMS) – not including CBR",{"$f":"VLOOKUP($A26,'Data Pass Through'!$A:$D,2,FALSE)","v":4.1000000000000003E-3},{"$f":"$B$4*$B$6","v":926312.00199999998},{"$f":"C26*B26","v":3797.8792082000004},{"$f":"VLOOKUP($A26,'Data Pass Through'!$A:$D,3,FALSE)","v":4.1000000000000003E-3},{"$f":"$B$4*$B$6","v":926312.00199999998},{"$f":"F26*E26","v":3797.8792082000004},0,0]
["Capacity Based Recovery (CBR) – Applicable for Class B Customers",{"$f":"VLOOKUP($A27,'Data Pass Through'!$A:$D,2,FALSE)","v":5.9999999999999995E-4},{"$f":"$B$4*$B$6","v":926312.00199999998},555.78720119999991,{"$f":"VLOOKUP($A27,'Data Pass Through'!$A:$D,3,FALSE)","v":5.9999999999999995E-4},926312.00199999998,555.78720119999991,0,0]
["Rural Rate Protection Charge",{"$f":"VLOOKUP($A28,'Data Pass Through'!$A:$D,2,FALSE)","v":5.9999999999999995E-4},926312.00199999998,555.78720119999991,{"$f":"VLOOKUP($A28,'Data Pass Through'!$A:$D,3,FALSE)","v":5.9999999999999995E-4},926312.00199999998,555.78720119999991,0,0]
["Standard Supply Service – Administration Charge (if applicable)",{"$f":"VLOOKUP($A29,'Data Pass Through'!$A:$D,2,FALSE)","v":0.25},1,0.25,{"$f":"VLOOKUP($A29,'Data Pass Through'!$A:$D,3,FALSE)","v":0.25},1,0.25,0,0]
["Average IESO Wholesale Market Price",{"$f":"VLOOKUP(A30,'Data Pass Through'!A4:C19,2,0)","v":0.15959999999999999},{"$f":"$B$4*$B$6","v":926312.00199999998},{"$f":"C30*B30","v":147839.39551919998},{"$f":"VLOOKUP($A30,'Data Pass Through'!$A:$D,3,FALSE)","v":0.15959999999999999},{"$f":"$B$4*$B$6","v":926312.00199999998},147839.39551919998,{"$f":"G30-D30","v":0},0]
["Total Bill on Average IESO Wholesale Market Price (before Taxes)",null,null,{"$f":"SUM(D25:D30)","v":185576.4241298},null,null,{"$f":"SUM(G25:G30)","v":196455.82232979999},{"$f":"G31-D31","v":10879.398199999996},5.8624894034979814E-2]
["HST",0.13,null,{"$f":"D31*B32","v":24124.935136873999},0.13,null,{"$f":"G31*E32","v":25539.256902874},{"$f":"G32-D32","v":1414.3217660000009},5.8624894034979877E-2]
["Ontario Electricity Rebate (OER)",{"$f":"IF(($B$4*12)<250000,VLOOKUP(A33,'Data Pass Through'!$A$4:$C$19,2,0),0)","v":0},null,{"$f":"D31*B33","v":0},{"$f":"IF(($B$4*12)<250000,VLOOKUP(A33,'Data Pass Through'!$A$4:$C$19,3,0),0)","v":0},null,{"$f":"G31*E33","v":0},{"$f":"G33-D33","v":0},"N/A"]
["Total Bill on Average IESO Wholesale Market Price",null,null,{"$f":"SUM(D31:D33)","v":209701.359266674},null,null,{"$f":"SUM(G31:G33)","v":221995.079232674},{"$f":"G34-D34","v":12293.719966000004},5.8624894034979856E-2]

{"sheet":"BI_NPDI_AR_Typical","index":39,"n_rows":39,"n_cols":9,"rows_kept":39,"cut":false,"hidden":false,"merged":[[0,0,0,10],[8,0,9,0],[8,1,8,3],[8,4,8,6],[8,7,8,8]]}
["Bill Impacts (Typical Consumption Level) - AR-NPDI"]
[]
["Rate Class",{"$f":"RIGHT(A1,LEN(A1)-FIND(\"- \",A1,1)-1)","v":"AR-NPDI"}]
["Monthly Consumption (kWh)",{"$f":"IF(COUNTIF(A1,\"*Low*\")>0,VLOOKUP(B3,'Data Billing Quantities'!$A:$Z,MATCH(\"Low kWh\",'Data Billing Quantities'!4:4,0),FALSE),IF(COUNTIF(A1,\"*Typical*\")>0,VLOOKUP(B3,'Data Billing Quantities'!$A:$Z,MATCH(\"Typical kWh\",'Data Billing Quantities'!4:4,0),FALSE),IF(COUNTIF(A1,\"*Average*\")>0,VLOOKUP(B3,'Data Billing Quantities'!$A:$Z,MATCH(\"Average kWh\",'Data Billing Quantities'!4:4,0),FALSE),IF(COUNTIF(A1,\"*High*\")>0,VLOOKUP(B3,'Data Billing Quantities'!$A:$Z,MATCH(\"High kWh\",'Data Billing Quantities'!4:4,0),FALSE),\"error\"))))","v":750}]
["Peak (kW)",{"$f":"IF(COUNTIF(A1,\"*Low*\")>0,VLOOKUP(B3,'Data Billing Quantities'!$A:$Z,MATCH(\"Low kW\",'Data Billing Quantities'!4:4,0),FALSE),IF(COUNTIF(A1,\"*Typical*\")>0,VLOOKUP(B3,'Data Billing Quantities'!$A:$Z,MATCH(\"Typical kW\",'Data Billing Quantities'!4:4,0),FALSE),IF(COUNTIF(A1,\"*Average*\")>0,VLOOKUP(B3,'Data Billing Quantities'!$A:$Z,MATCH(\"Average kW\",'Data Billing Quantities'!4:4,0),FALSE),IF(COUNTIF(A1,\"*High*\")>0,VLOOKUP(B3,'Data Billing Quantities'!$A:$Z,MATCH(\"High kW\",'Data Billing Quantities'!4:4,0),FALSE),\"error\"))))","v":0}]
["Loss factor",{"$f":"VLOOKUP(B3,'Data Billing Quantities'!A:D,MATCH(A6,'Data Billing Quantities'!4:4,0),FALSE)","v":1.0640000000000001}]
["Charge determinant",{"$f":"VLOOKUP(B3,'Data Billing Quantities'!A:D,MATCH(A7,'Data Billing Quantities'!4:4,0),FALSE)","v":"kWh"}]
[]
[null,"Current OEB-Approved",null,null,"Proposed",null,null,"Impact"]
[null,"Rate ($)","Volume","Charge ($)","Rate ($)","Volume","Charge ($)","$ Change","% Change"]
["Service Charge",{"$f":"VLOOKUP($B$3,'Data Current Rates'!$A:$AO,MATCH(BI_NPDI_AR_Typical!$A11,CurrentHeader,0),FALSE)","v":41.71},1,{"$f":"B11*C11","v":41.71},{"$f":"VLOOKUP($B$3,'Data Proposed Rates'!$A:$AT,MATCH(BI_NPDI_AR_Typical!$A11,ProposedHeader,0),FALSE)","v":43.81},1,{"$f":"E11*F11","v":43.81},{"$f":"G11-D11","v":2.1000000000000014},{"$f":"IF(ISERROR(H11/ABS(D11)),\"N/A\",(H11/ABS(D11)))","v":5.0347638456005789E-2}]
["Distribution Volumetric Charge",{"$f":"VLOOKUP($B$3,'Data Current Rates'!$A:$AO,MATCH(BI_NPDI_AR_Typical!$A12,CurrentHeader,0),FALSE)","v":0},{"$f":"IF($B$7=\"kWh\",$B$4,$B$5)","v":750},{"$f":"B12*C12","v":0},{"$f":"VLOOKUP($B$3,'Data Proposed Rates'!$A:$AT,MATCH(BI_NPDI_AR_Typical!$A12,ProposedHeader,0),FALSE)","v":0},{"$f":"IF($B$7=\"kWh\",$B$4,$B$5)","v":750},0,0,"N/A"]
["RRRP Adjustment",{"$f":"IF($B$3=\"R2\",VLOOKUP(A13,'Data Pass Through'!$A4:$C19,3,0),0)*-1","v":0},1,{"$f":"B13*C13","v":0},{"$f":"IF($B$3=\"R2\",VLOOKUP(A13,'Data Pass Through'!$A4:$C19,3,0),0)*-1","v":0},1,0,0,"N/A"]
["DRP Adjustment",null,null,{"$f":"IF(OR($B$3=\"R1\",$B$3=\"R2\",$B$3=\"R1-CPUC\"),IF(SUM(D11:D13)>'Data Pass Through'!$B$16,-(SUM(D11:D13)-'Data Pass Through'!$B$16),0),0)","v":0},null,null,{"$f":"IF(OR($B$3=\"R1\",$B$3=\"R2\",$B$3=\"R1-CPUC\"),IF(SUM(G11:G13)>'Data Pass Through'!$B$16,-(SUM(G11:G13)-'Data Pass Through'!$B$16),0),0)","v":0},0,"N/A"]
["Group 2 Fixed Rate Rider",{"$f":"VLOOKUP($B$3,'Data Current Rates'!$A:$AO,MATCH(BI_NPDI_AR_Typical!$A15,CurrentHeader,0),FALSE)","v":-0.43},1,{"$f":"B15*C15","v":-0.43},{"$f":"VLOOKUP($B$3,'Data Proposed Rates'!$A:$AT,MATCH(BI_NPDI_AR_Typical!$A15,ProposedHeader,0),FALSE)","v":-1.5},1,{"$f":"E15*F15","v":-1.5},-1.07,-2.4883720930232558]
["Group 2 Volumetric Rate Rider",{"$f":"VLOOKUP($B$3,'Data Current Rates'!$A:$AO,MATCH(BI_NPDI_AR_Typical!$A16,CurrentHeader,0),FALSE)","v":0},{"$f":"IF($B$7=\"kWh\",$B$4,$B$5)","v":750},{"$f":"B16*C16","v":0},{"$f":"VLOOKUP($B$3,'Data Proposed Rates'!$A:$AT,MATCH(BI_NPDI_AR_Typical!$A16,ProposedHeader,0),FALSE)","v":0},{"$f":"IF($B$7=\"kWh\",$B$4,$B$5)","v":750},0,{"$f":"G16-D16","v":0},{"$f":"IF(ISERROR(H16/ABS(D16)),\"N/A\",(H16/ABS(D16)))","v":"N/A"}]
["Sub-Total A (excluding pass through)",null,null,{"$f":"SUM(D11:D16)","v":41.28},null,null,{"$f":"SUM(G11:G16)","v":42.31},1.0300000000000011,2.4951550387596926E-2]
["Line Losses on Cost of Power",{"$f":"VLOOKUP($B$3,'Data Billing Quantities'!$A:$O,MATCH(BI_NPDI_AR_Typical!$A32,'Data Billing Quantities'!$4:$4,0),FALSE)*$B32+VLOOKUP($B$3,'Data Billing Quantities'!$A:$O,MATCH(BI_NPDI_AR_Typical!$A33,'Data Billing Quantities'!$4:$4,0),FALSE)*$B33+VLOOKUP($B$3,'Data Billing Quantities'!$A:$O,MATCH(BI_NPDI_AR_Typical!$A34,'Data Billing Quantities'!$4:$4,0),FALSE)*$B34","v":0.12752000000000002},{"$f":"($B$6*$B$4)-$B$4","v":48},{"$f":"B18*C18","v":6.1209600000000011},{"$f":"VLOOKUP($B$3,'Data Billing Quantities'!$A:$O,MATCH(BI_NPDI_AR_Typical!$A32,'Data Billing Quantities'!$4:$4,0),FALSE)*$B32+VLOOKUP($B$3,'Data Billing Quantities'!$A:$O,MATCH(BI_NPDI_AR_Typical!$A33,'Data Billing Quantities'!$4:$4,0),FALSE)*$B33+VLOOKUP($B$3,'Data Billing Quantities'!$A:$O,MATCH(BI_NPDI_AR_Typical!$A34,'Data Billing Quantities'!$4:$4,0),FALSE)*$B34","v":0.12752000000000002},{"$f":"($B$6*$B$4)-$B$4","v":48},6.1209600000000011,0,0]
["Total Deferral/Variance Account Rate Rider",{"$f":"VLOOKUP($B$3,'Data Current Rates'!$A:$AO,MATCH(BI_NPDI_AR_Typical!$A19,CurrentHeader,0),FALSE)","v":-3.8999999999999998E-3},{"$f":"IF($B$7=\"kWh\",$B$4,$B$5)","v":750},-2.9249999999999998,{"$f":"VLOOKUP($B$3,'Data Proposed Rates'!$A:$AT,MATCH(BI_NPDI_AR_Typical!$A19,ProposedHeader,0),FALSE)","v":-1.6999999999999999E-3},{"$f":"IF($B$7=\"kWh\",$B$4,$B$5)","v":750},-1.2749999999999999,1.65,0.5641025641025641]
["CBR Class B Rate Rider",{"$f":"VLOOKUP($B$3,'Data Current Rates'!$A:$AJ,MATCH(BI_NPDI_AR_Typical!$A20,CurrentHeader,0),FALSE)","v":1E-4},{"$f":"IF($B$7=\"kWh\",$B$4,$B$5)","v":750},7.4999999999999997E-2,{"$f":"VLOOKUP($B$3,'Data Proposed Rates'!$A:$AT,MATCH(BI_NPDI_AR_Typical!$A20,ProposedHeader,0),FALSE)","v":-5.9999999999999995E-4},{"$f":"IF($B$7=\"kWh\",$B$4,$B$5)","v":750},-0.44999999999999996,-0.52499999999999991,-6.9999999999999991]
["GA Rate Rider",{"$f":"VLOOKUP($B$3,'Data Current Rates'!$A:$AJ,MATCH(BI_NPDI_AR_Typical!$A21,CurrentHeader,0),FALSE)","v":0},750,0,{"$f":"VLOOKUP($B$3,'Data Proposed Rates'!$A:$AT,MATCH(BI_NPDI_AR_Typical!$A21,ProposedHeader,0),FALSE)","v":0},750,0,0,"N/A"]
["Smart Meter Entity Charge (if applicable)",{"$f":"VLOOKUP($A22,'Data Pass Through'!$A:$D,2,FALSE)","v":0.42},1,0.42,{"$f":"VLOOKUP($A22,'Data Pass Through'!$A:$D,2,FALSE)","v":0.42},1,0.42,0,0]
["Rate Rider for Account 1588",null,null,null,{"$f":"VLOOKUP($B$3,'Data Proposed Rates'!$A:$AT,MATCH(BI_NPDI_AR_Typical!$A23,ProposedHeader,0),FALSE)","v":-3.2000000000000002E-3},{"$f":"IF($B$7=\"kWh\",$B$4,$B$5)","v":750},-2.4,-2.4,"N/A"]
["Sub-Total B - Distribution (includes Sub-Total A)",null,null,{"$f":"SUM(INDIRECT(\"D17:D\"&ROW()-1))","v":44.970960000000012},null,null,{"$f":"SUM(INDIRECT(\"G17:G\"&ROW()-1))","v":44.725960000000008},-0.24500000000000455,-5.4479601947568937E-3]
["Retail Transmission Rate – Network Service Rate",{"$f":"VLOOKUP($B$3,'Data Current Rates'!$A:$AJ,MATCH(BI_NPDI_AR_Typical!$A25,CurrentHeader,0),FALSE)","v":1.35E-2},{"$f":"IF($B$7=\"kWh\",$B$4*$B$6,$B$5)","v":798},{"$f":"B25*C25","v":10.773},{"$f":"VLOOKUP($B$3,'Data Proposed Rates'!$A:$AT,MATCH(BI_NPDI_AR_Typical!$A25,ProposedHeader,0),FALSE)","v":1.3899999999999999E-2},{"$f":"IF($B$7=\"kWh\",$B$4*$B$6,$B$5)","v":798},11.0922,0.31920000000000037,2.9629629629629665E-2]
["Retail Transmission Rate – Line and Transformation Connection Service Rate",{"$f":"VLOOKUP($B$3,'Data Current Rates'!$A:$AJ,MATCH(BI_NPDI_AR_Typical!$A26,CurrentHeader,0),FALSE)","v":9.7999999999999997E-3},{"$f":"IF($B$7=\"kWh\",$B$4*$B$6,$B$5)","v":798},7.8203999999999994,{"$f":"VLOOKUP($B$3,'Data Proposed Rates'!$A:$AT,MATCH(BI_NPDI_AR_Typical!$A26,ProposedHeader,0),FALSE)","v":0.01},{"$f":"IF($B$7=\"kWh\",$B$4*$B$6,$B$5)","v":798},7.98,0.15960000000000107,2.0408163265306263E-2]
["Sub-Total C - Delivery (including Sub-Total B)",null,null,{"$f":"SUM(D24:D26)","v":63.564360000000015},null,null,{"$f":"SUM(G24:G26)","v":63.79816000000001},0.23379999999999512,3.6781617875173301E-3]
["Wholesale Market Service Rate (WMS) – not including CBR",{"$f":"VLOOKUP($A28,'Data Pass Through'!$A:$D,2,FALSE)","v":4.1000000000000003E-3},{"$f":"$B$4*$B$6","v":798},{"$f":"B28*C28","v":3.2718000000000003},{"$f":"VLOOKUP($A28,'Data Pass Through'!$A:$D,3,FALSE)","v":4.1000000000000003E-3},{"$f":"$B$4*$B$6","v":798},3.2718000000000003,0,0]
["Capacity Based Recovery (CBR) – Applicable for Class B Customers",{"$f":"VLOOKUP($A29,'Data Pass Through'!$A:$D,2,FALSE)","v":5.9999999999999995E-4},{"$f":"$B$4*$B$6","v":798},0.47879999999999995,{"$f":"VLOOKUP($A29,'Data Pass Through'!$A:$D,3,FALSE)","v":5.9999999999999995E-4},{"$f":"$B$4*$B$6","v":798},0.47879999999999995,0,0]
["Rural Rate Protection Charge",{"$f":"VLOOKUP($A30,'Data Pass Through'!$A:$D,2,FALSE)","v":5.9999999999999995E-4},{"$f":"$B$4*$B$6","v":798},0.47879999999999995,{"$f":"VLOOKUP($A30,'Data Pass Through'!$A:$D,3,FALSE)","v":5.9999999999999995E-4},{"$f":"$B$4*$B$6","v":798},0.47879999999999995,0,0]
["Standard Supply Service – Administration Charge (if applicable)",{"$f":"VLOOKUP($A31,'Data Pass Through'!$A:$D,2,FALSE)","v":0.25},1,0.25,{"$f":"VLOOKUP($A31,'Data Pass Through'!$A:$D,3,FALSE)","v":0.25},1,0.25,0,0]
["TOU-Off Peak",{"$f":"VLOOKUP($A32,'Data Pass Through'!$A:$D,2,FALSE)","v":9.8000000000000004E-2},{"$f":"B$4*VLOOKUP($B$3,'Data Billing Quantities'!$A:$O,MATCH($A32,'Data Billing Quantities'!$4:$4,0),FALSE)","v":480},47.04,{"$f":"VLOOKUP($A32,'Data Pass Through'!$A:$D,3,FALSE)","v":9.8000000000000004E-2},{"$f":"B$4*VLOOKUP($B$3,'Data Billing Quantities'!$A:$O,MATCH($A32,'Data Billing Quantities'!$4:$4,0),FALSE)","v":480},{"$f":"E32*F32","v":47.04},0,0]
["TOU-Mid Peak",{"$f":"VLOOKUP($A33,'Data Pass Through'!$A:$D,2,FALSE)","v":0.157},{"$f":"B$4*VLOOKUP($B$3,'Data Billing Quantities'!$A:$O,MATCH($A33,'Data Billing Quantities'!$4:$4,0),FALSE)","v":135},21.195,{"$f":"VLOOKUP($A33,'Data Pass Through'!$A:$D,3,FALSE)","v":0.157},{"$f":"B$4*VLOOKUP($B$3,'Data Billing Quantities'!$A:$O,MATCH($A33,'Data Billing Quantities'!$4:$4,0),FALSE)","v":135},{"$f":"E33*F33","v":21.195},0,0]
["TOU-On Peak",{"$f":"VLOOKUP($A34,'Data Pass Through'!$A:$D,2,FALSE)","v":0.20300000000000001},{"$f":"B$4*VLOOKUP($B$3,'Data Billing Quantities'!$A:$O,MATCH($A34,'Data Billing Quantities'!$4:$4,0),FALSE)","v":135},27.405000000000001,{"$f":"VLOOKUP($A34,'Data Pass Through'!$A:$D,3,FALSE)","v":0.20300000000000001},{"$f":"B$4*VLOOKUP($B$3,'Data Billing Quantities'!$A:$O,MATCH($A34,'Data Billing Quantities'!$4:$4,0),FALSE)","v":135},{"$f":"E34*F34","v":27.405000000000001},0,0]
["Total Bill on TOU (before Taxes)",null,null,{"$f":"SUM(D27:D34)","v":163.68376000000004},null,null,{"$f":"SUM(G27:G34)","v":163.91756000000001},0.23379999999997381,1.428364060062976E-3]
["HST",0.13,null,{"$f":"D35*B36","v":21.278888800000004},{"$f":"B36","v":0.13},null,{"$f":"G35*E36","v":21.309282800000002},3.039399999999759E-2,1.4283640600630228E-3]
["Ontario Electricity Rebate (OER)",{"$f":"IF(($B$4*12)<250000,VLOOKUP($A37,'Data Pass Through'!$A$4:$C$19,2,0),0)","v":-0.23499999999999999},null,{"$f":"D35*B37","v":-38.465683600000006},{"$f":"IF(($B$4*12)<250000,VLOOKUP($A37,'Data Pass Through'!$A$4:$C$19,3,0),0)","v":-0.23499999999999999},null,{"$f":"G35*E37","v":-38.5206266},-5.4942999999994413E-2,-1.4283640600629909E-3]
["Total Bill on TOU",null,null,{"$f":"SUM(D35:D37)","v":146.49696520000003},null,null,{"$f":"SUM(G35:G37)","v":146.70621620000003},0.20925099999999475,1.4283640600631002E-3]
["* Distribution rate protection applies to R1 and R2 customers"]

{"sheet":"BI_HCHI_AR_Typical","index":40,"n_rows":39,"n_cols":9,"rows_kept":39,"cut":false,"hidden":false,"merged":[[0,0,0,10],[8,0,9,0],[8,1,8,3],[8,4,8,6],[8,7,8,8]]}
["Bill Impacts (Typical Consumption Level) - AR-HCHI"]
[]
["Rate Class",{"$f":"RIGHT(A1,LEN(A1)-FIND(\"- \",A1,1)-1)","v":"AR-HCHI"}]
["Monthly Consumption (kWh)",{"$f":"IF(COUNTIF(A1,\"*Low*\")>0,VLOOKUP(B3,'Data Billing Quantities'!$A:$Z,MATCH(\"Low kWh\",'Data Billing Quantities'!4:4,0),FALSE),IF(COUNTIF(A1,\"*Typical*\")>0,VLOOKUP(B3,'Data Billing Quantities'!$A:$Z,MATCH(\"Typical kWh\",'Data Billing Quantities'!4:4,0),FALSE),IF(COUNTIF(A1,\"*Average*\")>0,VLOOKUP(B3,'Data Billing Quantities'!$A:$Z,MATCH(\"Average kWh\",'Data Billing Quantities'!4:4,0),FALSE),IF(COUNTIF(A1,\"*High*\")>0,VLOOKUP(B3,'Data Billing Quantities'!$A:$Z,MATCH(\"High kWh\",'Data Billing Quantities'!4:4,0),FALSE),\"error\"))))","v":750}]
["Peak (kW)",{"$f":"IF(COUNTIF(A1,\"*Low*\")>0,VLOOKUP(B3,'Data Billing Quantities'!$A:$Z,MATCH(\"Low kW\",'Data Billing Quantities'!4:4,0),FALSE),IF(COUNTIF(A1,\"*Typical*\")>0,VLOOKUP(B3,'Data Billing Quantities'!$A:$Z,MATCH(\"Typical kW\",'Data Billing Quantities'!4:4,0),FALSE),IF(COUNTIF(A1,\"*Average*\")>0,VLOOKUP(B3,'Data Billing Quantities'!$A:$Z,MATCH(\"Average kW\",'Data Billing Quantities'!4:4,0),FALSE),IF(COUNTIF(A1,\"*High*\")>0,VLOOKUP(B3,'Data Billing Quantities'!$A:$Z,MATCH(\"High kW\",'Data Billing Quantities'!4:4,0),FALSE),\"error\"))))","v":0}]
["Loss factor",{"$f":"VLOOKUP(B3,'Data Billing Quantities'!A:D,MATCH(A6,'Data Billing Quantities'!4:4,0),FALSE)","v":1.0640000000000001}]
["Charge determinant",{"$f":"VLOOKUP(B3,'Data Billing Quantities'!A:D,MATCH(A7,'Data Billing Quantities'!4:4,0),FALSE)","v":"kWh"}]
[]
[null,"Current OEB-Approved",null,null,"Proposed",null,null,"Impact"]
[null,"Rate ($)","Volume","Charge ($)","Rate ($)","Volume","Charge ($)","$ Change","% Change"]
["Service Charge",{"$f":"VLOOKUP($B$3,'Data Current Rates'!$A:$AO,MATCH(BI_HCHI_AR_Typical!$A11,CurrentHeader,0),FALSE)","v":41.71},1,{"$f":"B11*C11","v":41.71},{"$f":"VLOOKUP($B$3,'Data Proposed Rates'!$A:$AT,MATCH(BI_HCHI_AR_Typical!$A11,ProposedHeader,0),FALSE)","v":43.81},1,{"$f":"E11*F11","v":43.81},{"$f":"G11-D11","v":2.1000000000000014},{"$f":"IF(ISERROR(H11/ABS(D11)),\"N/A\",(H11/ABS(D11)))","v":5.0347638456005789E-2}]
["Distribution Volumetric Charge",{"$f":"VLOOKUP($B$3,'Data Current Rates'!$A:$AO,MATCH(BI_HCHI_AR_Typical!$A12,CurrentHeader,0),FALSE)","v":0},{"$f":"IF($B$7=\"kWh\",$B$4,$B$5)","v":750},{"$f":"B12*C12","v":0},{"$f":"VLOOKUP($B$3,'Data Proposed Rates'!$A:$AT,MATCH(BI_HCHI_AR_Typical!$A12,ProposedHeader,0),FALSE)","v":0},{"$f":"IF($B$7=\"kWh\",$B$4,$B$5)","v":750},0,0,"N/A"]
["RRRP Adjustment",{"$f":"IF($B$3=\"R2\",VLOOKUP(A13,'Data Pass Through'!$A4:$C19,3,0),0)*-1","v":0},1,{"$f":"B13*C13","v":0},{"$f":"IF($B$3=\"R2\",VLOOKUP(A13,'Data Pass Through'!$A4:$C19,3,0),0)*-1","v":0},1,0,0,"N/A"]
["DRP Adjustment",null,null,{"$f":"IF(OR($B$3=\"R1\",$B$3=\"R2\",$B$3=\"R1-CPUC\"),IF(SUM(D11:D13)>'Data Pass Through'!$B$16,-(SUM(D11:D13)-'Data Pass Through'!$B$16),0),0)","v":0},null,null,{"$f":"IF(OR($B$3=\"R1\",$B$3=\"R2\",$B$3=\"R1-CPUC\"),IF(SUM(G11:G13)>'Data Pass Through'!$B$16,-(SUM(G11:G13)-'Data Pass Through'!$B$16),0),0)","v":0},0,"N/A"]
["Group 2 Fixed Rate Rider",{"$f":"VLOOKUP($B$3,'Data Current Rates'!$A:$AO,MATCH(BI_HCHI_AR_Typical!$A15,CurrentHeader,0),FALSE)","v":-0.46},1,{"$f":"B15*C15","v":-0.46},{"$f":"VLOOKUP($B$3,'Data Proposed Rates'!$A:$AT,MATCH(BI_HCHI_AR_Typical!$A15,ProposedHeader,0),FALSE)","v":-1.5},1,{"$f":"E15*F15","v":-1.5},-1.04,-2.2608695652173911]
["Group 2 Volumetric Rate Rider",{"$f":"VLOOKUP($B$3,'Data Current Rates'!$A:$AO,MATCH(BI_HCHI_AR_Typical!$A16,CurrentHeader,0),FALSE)","v":0},{"$f":"IF($B$7=\"kWh\",$B$4,$B$5)","v":750},{"$f":"B16*C16","v":0},{"$f":"VLOOKUP($B$3,'Data Proposed Rates'!$A:$AT,MATCH(BI_HCHI_AR_Typical!$A16,ProposedHeader,0),FALSE)","v":0},{"$f":"IF($B$7=\"kWh\",$B$4,$B$5)","v":750},0,{"$f":"G16-D16","v":0},{"$f":"IF(ISERROR(H16/ABS(D16)),\"N/A\",(H16/ABS(D16)))","v":"N/A"}]
["Sub-Total A (excluding pass through)",null,null,{"$f":"SUM(D11:D16)","v":41.25},null,null,{"$f":"SUM(G11:G16)","v":42.31},1.0600000000000023,2.5696969696969753E-2]
["Line Losses on Cost of Power",{"$f":"VLOOKUP($B$3,'Data Billing Quantities'!$A:$O,MATCH(BI_HCHI_AR_Typical!$A32,'Data Billing Quantities'!$4:$4,0),FALSE)*$B32+VLOOKUP($B$3,'Data Billing Quantities'!$A:$O,MATCH(BI_HCHI_AR_Typical!$A33,'Data Billing Quantities'!$4:$4,0),FALSE)*$B33+VLOOKUP($B$3,'Data Billing Quantities'!$A:$O,MATCH(BI_HCHI_AR_Typical!$A34,'Data Billing Quantities'!$4:$4,0),FALSE)*$B34","v":0.12752000000000002},{"$f":"($B$6*$B$4)-$B$4","v":48},{"$f":"B18*C18","v":6.1209600000000011},{"$f":"VLOOKUP($B$3,'Data Billing Quantities'!$A:$O,MATCH(BI_HCHI_AR_Typical!$A32,'Data Billing Quantities'!$4:$4,0),FALSE)*$B32+VLOOKUP($B$3,'Data Billing Quantities'!$A:$O,MATCH(BI_HCHI_AR_Typical!$A33,'Data Billing Quantities'!$4:$4,0),FALSE)*$B33+VLOOKUP($B$3,'Data Billing Quantities'!$A:$O,MATCH(BI_HCHI_AR_Typical!$A34,'Data Billing Quantities'!$4:$4,0),FALSE)*$B34","v":0.12752000000000002},{"$f":"($B$6*$B$4)-$B$4","v":48},6.1209600000000011,0,0]
["Total Deferral/Variance Account Rate Rider",{"$f":"VLOOKUP($B$3,'Data Current Rates'!$A:$AO,MATCH(BI_HCHI_AR_Typical!$A19,CurrentHeader,0),FALSE)","v":-3.8E-3},{"$f":"IF($B$7=\"kWh\",$B$4,$B$5)","v":750},-2.85,{"$f":"VLOOKUP($B$3,'Data Proposed Rates'!$A:$AT,MATCH(BI_HCHI_AR_Typical!$A19,ProposedHeader,0),FALSE)","v":-1.6999999999999999E-3},{"$f":"IF($B$7=\"kWh\",$B$4,$B$5)","v":750},-1.2749999999999999,1.5750000000000002,0.55263157894736847]
["CBR Class B Rate Rider",{"$f":"VLOOKUP($B$3,'Data Current Rates'!$A:$AJ,MATCH(BI_HCHI_AR_Typical!$A20,CurrentHeader,0),FALSE)","v":1E-4},{"$f":"IF($B$7=\"kWh\",$B$4,$B$5)","v":750},7.4999999999999997E-2,{"$f":"VLOOKUP($B$3,'Data Proposed Rates'!$A:$AT,MATCH(BI_HCHI_AR_Typical!$A20,ProposedHeader,0),FALSE)","v":-5.9999999999999995E-4},{"$f":"IF($B$7=\"kWh\",$B$4,$B$5)","v":750},-0.44999999999999996,-0.52499999999999991,-6.9999999999999991]
["GA Rate Rider",{"$f":"VLOOKUP($B$3,'Data Current Rates'!$A:$AJ,MATCH(BI_HCHI_AR_Typical!$A21,CurrentHeader,0),FALSE)","v":0},750,0,{"$f":"VLOOKUP($B$3,'Data Proposed Rates'!$A:$AT,MATCH(BI_HCHI_AR_Typical!$A21,ProposedHeader,0),FALSE)","v":0},750,0,0,"N/A"]
["Smart Meter Entity Charge (if applicable)",{"$f":"VLOOKUP($A22,'Data Pass Through'!$A:$D,2,FALSE)","v":0.42},1,0.42,{"$f":"VLOOKUP($A22,'Data Pass Through'!$A:$D,2,FALSE)","v":0.42},1,0.42,0,0]
["Rate Rider for Account 1588",null,null,null,{"$f":"VLOOKUP($B$3,'Data Proposed Rates'!$A:$AT,MATCH(BI_HCHI_AR_Typical!$A23,ProposedHeader,0),FALSE)","v":-3.2000000000000002E-3},{"$f":"IF($B$7=\"kWh\",$B$4,$B$5)","v":750},-2.4,-2.4,"N/A"]
["Sub-Total B - Distribution (includes Sub-Total A)",null,null,{"$f":"SUM(INDIRECT(\"D17:D\"&ROW()-1))","v":45.015960000000007},null,null,{"$f":"SUM(INDIRECT(\"G17:G\"&ROW()-1))","v":44.725960000000008},-0.28999999999999915,-6.4421596251640328E-3]
["Retail Transmission Rate – Network Service Rate",{"$f":"VLOOKUP($B$3,'Data Current Rates'!$A:$AJ,MATCH(BI_HCHI_AR_Typical!$A25,CurrentHeader,0),FALSE)","v":1.35E-2},{"$f":"IF($B$7=\"kWh\",$B$4*$B$6,$B$5)","v":798},{"$f":"B25*C25","v":10.773},{"$f":"VLOOKUP($B$3,'Data Proposed Rates'!$A:$AT,MATCH(BI_HCHI_AR_Typical!$A25,ProposedHeader,0),FALSE)","v":1.3899999999999999E-2},{"$f":"IF($B$7=\"kWh\",$B$4*$B$6,$B$5)","v":798},11.0922,0.31920000000000037,2.9629629629629665E-2]
["Retail Transmission Rate – Line and Transformation Connection Service Rate",{"$f":"VLOOKUP($B$3,'Data Current Rates'!$A:$AJ,MATCH(BI_HCHI_AR_Typical!$A26,CurrentHeader,0),FALSE)","v":9.7999999999999997E-3},{"$f":"IF($B$7=\"kWh\",$B$4*$B$6,$B$5)","v":798},7.8203999999999994,{"$f":"VLOOKUP($B$3,'Data Proposed Rates'!$A:$AT,MATCH(BI_HCHI_AR_Typical!$A26,ProposedHeader,0),FALSE)","v":0.01},{"$f":"IF($B$7=\"kWh\",$B$4*$B$6,$B$5)","v":798},7.98,0.15960000000000107,2.0408163265306263E-2]
["Sub-Total C - Delivery (including Sub-Total B)",null,null,{"$f":"SUM(D24:D26)","v":63.609360000000002},null,null,{"$f":"SUM(G24:G26)","v":63.79816000000001},0.18880000000000763,2.9681166419534425E-3]
["Wholesale Market Service Rate (WMS) – not including CBR",{"$f":"VLOOKUP($A28,'Data Pass Through'!$A:$D,2,FALSE)","v":4.1000000000000003E-3},{"$f":"$B$4*$B$6","v":798},{"$f":"B28*C28","v":3.2718000000000003},{"$f":"VLOOKUP($A28,'Data Pass Through'!$A:$D,3,FALSE)","v":4.1000000000000003E-3},{"$f":"$B$4*$B$6","v":798},3.2718000000000003,0,0]
["Capacity Based Recovery (CBR) – Applicable for Class B Customers",{"$f":"VLOOKUP($A29,'Data Pass Through'!$A:$D,2,FALSE)","v":5.9999999999999995E-4},{"$f":"$B$4*$B$6","v":798},0.47879999999999995,{"$f":"VLOOKUP($A29,'Data Pass Through'!$A:$D,3,FALSE)","v":5.9999999999999995E-4},{"$f":"$B$4*$B$6","v":798},0.47879999999999995,0,0]
["Rural Rate Protection Charge",{"$f":"VLOOKUP($A30,'Data Pass Through'!$A:$D,2,FALSE)","v":5.9999999999999995E-4},{"$f":"$B$4*$B$6","v":798},0.47879999999999995,{"$f":"VLOOKUP($A30,'Data Pass Through'!$A:$D,3,FALSE)","v":5.9999999999999995E-4},{"$f":"$B$4*$B$6","v":798},0.47879999999999995,0,0]
["Standard Supply Service – Administration Charge (if applicable)",{"$f":"VLOOKUP($A31,'Data Pass Through'!$A:$D,2,FALSE)","v":0.25},1,0.25,{"$f":"VLOOKUP($A31,'Data Pass Through'!$A:$D,3,FALSE)","v":0.25},1,0.25,0,0]
["TOU-Off Peak",{"$f":"VLOOKUP($A32,'Data Pass Through'!$A:$D,2,FALSE)","v":9.8000000000000004E-2},{"$f":"B$4*VLOOKUP($B$3,'Data Billing Quantities'!$A:$O,MATCH($A32,'Data Billing Quantities'!$4:$4,0),FALSE)","v":480},47.04,{"$f":"VLOOKUP($A32,'Data Pass Through'!$A:$D,3,FALSE)","v":9.8000000000000004E-2},{"$f":"B$4*VLOOKUP($B$3,'Data Billing Quantities'!$A:$O,MATCH($A32,'Data Billing Quantities'!$4:$4,0),FALSE)","v":480},{"$f":"E32*F32","v":47.04},0,0]
["TOU-Mid Peak",{"$f":"VLOOKUP($A33,'Data Pass Through'!$A:$D,2,FALSE)","v":0.157},{"$f":"B$4*VLOOKUP($B$3,'Data Billing Quantities'!$A:$O,MATCH($A33,'Data Billing Quantities'!$4:$4,0),FALSE)","v":135},21.195,{"$f":"VLOOKUP($A33,'Data Pass Through'!$A:$D,3,FALSE)","v":0.157},{"$f":"B$4*VLOOKUP($B$3,'Data Billing Quantities'!$A:$O,MATCH($A33,'Data Billing Quantities'!$4:$4,0),FALSE)","v":135},{"$f":"E33*F33","v":21.195},0,0]
["TOU-On Peak",{"$f":"VLOOKUP($A34,'Data Pass Through'!$A:$D,2,FALSE)","v":0.20300000000000001},{"$f":"B$4*VLOOKUP($B$3,'Data Billing Quantities'!$A:$O,MATCH($A34,'Data Billing Quantities'!$4:$4,0),FALSE)","v":135},27.405000000000001,{"$f":"VLOOKUP($A34,'Data Pass Through'!$A:$D,3,FALSE)","v":0.20300000000000001},{"$f":"B$4*VLOOKUP($B$3,'Data Billing Quantities'!$A:$O,MATCH($A34,'Data Billing Quantities'!$4:$4,0),FALSE)","v":135},{"$f":"E34*F34","v":27.405000000000001},0,0]
["Total Bill on TOU (before Taxes)",null,null,{"$f":"SUM(D27:D34)","v":163.72876000000002},null,null,{"$f":"SUM(G27:G34)","v":163.91756000000001},0.18879999999998631,1.1531266712090551E-3]
["HST",0.13,null,{"$f":"D35*B36","v":21.284738800000003},{"$f":"B36","v":0.13},null,{"$f":"G35*E36","v":21.309282800000002},2.4543999999998789E-2,1.1531266712090818E-3]
["Ontario Electricity Rebate (OER)",{"$f":"IF(($B$4*12)<250000,VLOOKUP($A37,'Data Pass Through'!$A$4:$C$19,2,0),0)","v":-0.23499999999999999},null,{"$f":"D35*B37","v":-38.476258600000001},{"$f":"IF(($B$4*12)<250000,VLOOKUP($A37,'Data Pass Through'!$A$4:$C$19,3,0),0)","v":-0.23499999999999999},null,{"$f":"G35*E37","v":-38.5206266},-4.4367999999998631E-2,-1.1531266712091032E-3]
["Total Bill on TOU",null,null,{"$f":"SUM(D35:D37)","v":146.53724020000004},null,null,{"$f":"SUM(G35:G37)","v":146.70621620000003},0.16897599999998647,1.1531266712090462E-3]
["* Distribution rate protection applies to R1 and R2 customers"]

{"sheet":"BI_NPDI_AGSe_Typical","index":41,"n_rows":39,"n_cols":9,"rows_kept":39,"cut":false,"hidden":false,"merged":[[0,0,0,10],[8,0,9,0],[8,1,8,3],[8,4,8,6],[8,7,8,8]]}
["Bill Impacts (Typical Consumption Level) - AGSe-NPDI"]
[]
["Rate Class",{"$f":"RIGHT(A1,LEN(A1)-FIND(\"- \",A1,1)-1)","v":"AGSe-NPDI"}]
["Monthly Consumption (kWh)",{"$f":"IF(COUNTIF(A1,\"*Low*\")>0,VLOOKUP(B3,'Data Billing Quantities'!$A:$Z,MATCH(\"Low kWh\",'Data Billing Quantities'!4:4,0),FALSE),IF(COUNTIF(A1,\"*Typical*\")>0,VLOOKUP(B3,'Data Billing Quantities'!$A:$Z,MATCH(\"Typical kWh\",'Data Billing Quantities'!4:4,0),FALSE),IF(COUNTIF(A1,\"*Average*\")>0,VLOOKUP(B3,'Data Billing Quantities'!$A:$Z,MATCH(\"Average kWh\",'Data Billing Quantities'!4:4,0),FALSE),IF(COUNTIF(A1,\"*High*\")>0,VLOOKUP(B3,'Data Billing Quantities'!$A:$Z,MATCH(\"High kWh\",'Data Billing Quantities'!4:4,0),FALSE),\"error\"))))","v":2000}]
["Peak (kW)",{"$f":"IF(COUNTIF(A1,\"*Low*\")>0,VLOOKUP(B3,'Data Billing Quantities'!$A:$Z,MATCH(\"Low kW\",'Data Billing Quantities'!4:4,0),FALSE),IF(COUNTIF(A1,\"*Typical*\")>0,VLOOKUP(B3,'Data Billing Quantities'!$A:$Z,MATCH(\"Typical kW\",'Data Billing Quantities'!4:4,0),FALSE),IF(COUNTIF(A1,\"*Average*\")>0,VLOOKUP(B3,'Data Billing Quantities'!$A:$Z,MATCH(\"Average kW\",'Data Billing Quantities'!4:4,0),FALSE),IF(COUNTIF(A1,\"*High*\")>0,VLOOKUP(B3,'Data Billing Quantities'!$A:$Z,MATCH(\"High kW\",'Data Billing Quantities'!4:4,0),FALSE),\"error\"))))","v":0}]
["Loss factor",{"$f":"VLOOKUP(B3,'Data Billing Quantities'!A:D,MATCH(A6,'Data Billing Quantities'!4:4,0),FALSE)","v":1.0640000000000001}]
["Charge determinant",{"$f":"VLOOKUP(B3,'Data Billing Quantities'!A:D,MATCH(A7,'Data Billing Quantities'!4:4,0),FALSE)","v":"kWh"}]
[]
[null,"Current OEB-Approved",null,null,"Proposed",null,null,"Impact"]
[null,"Rate ($)","Volume","Charge ($)","Rate ($)","Volume","Charge ($)","$ Change","% Change"]
["Service Charge",{"$f":"VLOOKUP($B$3,'Data Current Rates'!$A:$AO,MATCH(BI_NPDI_AGSe_Typical!$A11,CurrentHeader,0),FALSE)","v":39.96},1,{"$f":"B11*C11","v":39.96},{"$f":"VLOOKUP($B$3,'Data Proposed Rates'!$A:$AT,MATCH(BI_NPDI_AGSe_Typical!$A11,ProposedHeader,0),FALSE)","v":39.96},1,{"$f":"E11*F11","v":39.96},{"$f":"G11-D11","v":0},{"$f":"IF(ISERROR(H11/ABS(D11)),\"N/A\",(H11/ABS(D11)))","v":0}]
["Distribution Volumetric Charge",{"$f":"VLOOKUP($B$3,'Data Current Rates'!$A:$AO,MATCH(BI_NPDI_AGSe_Typical!$A12,CurrentHeader,0),FALSE)","v":2.1600000000000001E-2},{"$f":"IF($B$7=\"kWh\",$B$4,$B$5)","v":2000},{"$f":"B12*C12","v":43.2},{"$f":"VLOOKUP($B$3,'Data Proposed Rates'!$A:$AT,MATCH(BI_NPDI_AGSe_Typical!$A12,ProposedHeader,0),FALSE)","v":2.3599999999999999E-2},{"$f":"IF($B$7=\"kWh\",$B$4,$B$5)","v":2000},47.199999999999996,3.9999999999999929,9.2592592592592421E-2]
["RRRP Adjustment",{"$f":"IF($B$3=\"R2\",VLOOKUP(A13,'Data Pass Through'!$A4:$C19,3,0),0)*-1","v":0},1,{"$f":"B13*C13","v":0},{"$f":"IF($B$3=\"R2\",VLOOKUP(A13,'Data Pass Through'!$A4:$C19,3,0),0)*-1","v":0},1,0,0,"N/A"]
["DRP Adjustment",null,null,{"$f":"IF(OR($B$3=\"R1\",$B$3=\"R2\",$B$3=\"R1-CPUC\"),IF(SUM(D11:D13)>'Data Pass Through'!$B$16,-(SUM(D11:D13)-'Data Pass Through'!$B$16),0),0)","v":0},null,null,{"$f":"IF(OR($B$3=\"R1\",$B$3=\"R2\",$B$3=\"R1-CPUC\"),IF(SUM(G11:G13)>'Data Pass Through'!$B$16,-(SUM(G11:G13)-'Data Pass Through'!$B$16),0),0)","v":0},0,"N/A"]
["Group 2 Fixed Rate Rider",{"$f":"VLOOKUP($B$3,'Data Current Rates'!$A:$AO,MATCH(BI_NPDI_AGSe_Typical!$A15,CurrentHeader,0),FALSE)","v":0},1,{"$f":"B15*C15","v":0},{"$f":"VLOOKUP($B$3,'Data Proposed Rates'!$A:$AT,MATCH(BI_NPDI_AGSe_Typical!$A15,ProposedHeader,0),FALSE)","v":-1.37},1,{"$f":"E15*F15","v":-1.37},-1.37,"N/A"]
["Group 2 Volumetric Rate Rider",{"$f":"VLOOKUP($B$3,'Data Current Rates'!$A:$AO,MATCH(BI_NPDI_AGSe_Typical!$A16,CurrentHeader,0),FALSE)","v":-4.0000000000000002E-4},{"$f":"IF($B$7=\"kWh\",$B$4,$B$5)","v":2000},{"$f":"B16*C16","v":-0.8},{"$f":"VLOOKUP($B$3,'Data Proposed Rates'!$A:$AT,MATCH(BI_NPDI_AGSe_Typical!$A16,ProposedHeader,0),FALSE)","v":-8.0000000000000004E-4},{"$f":"IF($B$7=\"kWh\",$B$4,$B$5)","v":2000},-1.6,{"$f":"G16-D16","v":-0.8},{"$f":"IF(ISERROR(H16/ABS(D16)),\"N/A\",(H16/ABS(D16)))","v":-1}]
["Sub-Total A (excluding pass through)",null,null,{"$f":"SUM(D11:D16)","v":82.36},null,null,{"$f":"SUM(G11:G16)","v":84.19},1.8299999999999983,2.2219524040796482E-2]
["Line Losses on Cost of Power",{"$f":"VLOOKUP($B$3,'Data Billing Quantities'!$A:$O,MATCH(BI_NPDI_AGSe_Typical!$A32,'Data Billing Quantities'!$4:$4,0),FALSE)*$B32+VLOOKUP($B$3,'Data Billing Quantities'!$A:$O,MATCH(BI_NPDI_AGSe_Typical!$A33,'Data Billing Quantities'!$4:$4,0),FALSE)*$B33+VLOOKUP($B$3,'Data Billing Quantities'!$A:$O,MATCH(BI_NPDI_AGSe_Typical!$A34,'Data Billing Quantities'!$4:$4,0),FALSE)*$B34","v":0.12752000000000002},{"$f":"($B$6*$B$4)-$B$4","v":128},{"$f":"B18*C18","v":16.322560000000003},{"$f":"VLOOKUP($B$3,'Data Billing Quantities'!$A:$O,MATCH(BI_NPDI_AGSe_Typical!$A32,'Data Billing Quantities'!$4:$4,0),FALSE)*$B32+VLOOKUP($B$3,'Data Billing Quantities'!$A:$O,MATCH(BI_NPDI_AGSe_Typical!$A33,'Data Billing Quantities'!$4:$4,0),FALSE)*$B33+VLOOKUP($B$3,'Data Billing Quantities'!$A:$O,MATCH(BI_NPDI_AGSe_Typical!$A34,'Data Billing Quantities'!$4:$4,0),FALSE)*$B34","v":0.12752000000000002},{"$f":"($B$6*$B$4)-$B$4","v":128},16.322560000000003,0,0]
["Total Deferral/Variance Account Rate Rider",{"$f":"VLOOKUP($B$3,'Data Current Rates'!$A:$AO,MATCH(BI_NPDI_AGSe_Typical!$A19,CurrentHeader,0),FALSE)","v":-3.6999999999999997E-3},{"$f":"IF($B$7=\"kWh\",$B$4,$B$5)","v":2000},-7.3999999999999995,{"$f":"VLOOKUP($B$3,'Data Proposed Rates'!$A:$AT,MATCH(BI_NPDI_AGSe_Typical!$A19,ProposedHeader,0),FALSE)","v":-1.6999999999999999E-3},{"$f":"IF($B$7=\"kWh\",$B$4,$B$5)","v":2000},-3.4,3.9999999999999996,0.54054054054054057]
["CBR Class B Rate Rider",{"$f":"VLOOKUP($B$3,'Data Current Rates'!$A:$AJ,MATCH(BI_NPDI_AGSe_Typical!$A20,CurrentHeader,0),FALSE)","v":1E-4},{"$f":"IF($B$7=\"kWh\",$B$4,$B$5)","v":2000},0.2,{"$f":"VLOOKUP($B$3,'Data Proposed Rates'!$A:$AT,MATCH(BI_NPDI_AGSe_Typical!$A20,ProposedHeader,0),FALSE)","v":-5.9999999999999995E-4},{"$f":"IF($B$7=\"kWh\",$B$4,$B$5)","v":2000},-1.2,-1.4,-6.9999999999999991]
["GA Rate Rider",{"$f":"VLOOKUP($B$3,'Data Current Rates'!$A:$AJ,MATCH(BI_NPDI_AGSe_Typical!$A21,CurrentHeader,0),FALSE)","v":0},2000,0,{"$f":"VLOOKUP($B$3,'Data Proposed Rates'!$A:$AT,MATCH(BI_NPDI_AGSe_Typical!$A21,ProposedHeader,0),FALSE)","v":0},2000,0,0,"N/A"]
["Smart Meter Entity Charge (if applicable)",{"$f":"VLOOKUP($A22,'Data Pass Through'!$A:$D,2,FALSE)","v":0.42},1,0.42,{"$f":"VLOOKUP($A22,'Data Pass Through'!$A:$D,2,FALSE)","v":0.42},1,0.42,0,0]
["Rate Rider for Account 1588",null,null,null,{"$f":"VLOOKUP($B$3,'Data Proposed Rates'!$A:$AT,MATCH(BI_NPDI_AGSe_Typical!$A23,ProposedHeader,0),FALSE)","v":-3.2000000000000002E-3},{"$f":"IF($B$7=\"kWh\",$B$4,$B$5)","v":2000},-6.4,-6.4,"N/A"]
["Sub-Total B - Distribution (includes Sub-Total A)",null,null,{"$f":"SUM(INDIRECT(\"D17:D\"&ROW()-1))","v":91.902559999999994},null,null,{"$f":"SUM(INDIRECT(\"G17:G\"&ROW()-1))","v":89.932559999999995},-1.9699999999999989,-2.1435746730014908E-2]
["Retail Transmission Rate – Network Service Rate",{"$f":"VLOOKUP($B$3,'Data Current Rates'!$A:$AJ,MATCH(BI_NPDI_AGSe_Typical!$A25,CurrentHeader,0),FALSE)","v":1.0699999999999999E-2},{"$f":"IF($B$7=\"kWh\",$B$4*$B$6,$B$5)","v":2128},{"$f":"B25*C25","v":22.769600000000001},{"$f":"VLOOKUP($B$3,'Data Proposed Rates'!$A:$AT,MATCH(BI_NPDI_AGSe_Typical!$A25,ProposedHeader,0),FALSE)","v":1.0999999999999999E-2},{"$f":"IF($B$7=\"kWh\",$B$4*$B$6,$B$5)","v":2128},23.407999999999998,0.63839999999999719,2.8037383177569968E-2]
["Retail Transmission Rate – Line and Transformation Connection Service Rate",{"$f":"VLOOKUP($B$3,'Data Current Rates'!$A:$AJ,MATCH(BI_NPDI_AGSe_Typical!$A26,CurrentHeader,0),FALSE)","v":8.0999999999999996E-3},{"$f":"IF($B$7=\"kWh\",$B$4*$B$6,$B$5)","v":2128},17.236799999999999,{"$f":"VLOOKUP($B$3,'Data Proposed Rates'!$A:$AT,MATCH(BI_NPDI_AGSe_Typical!$A26,ProposedHeader,0),FALSE)","v":8.3000000000000001E-3},{"$f":"IF($B$7=\"kWh\",$B$4*$B$6,$B$5)","v":2128},17.662400000000002,0.42560000000000286,2.4691358024691527E-2]
["Sub-Total C - Delivery (including Sub-Total B)",null,null,{"$f":"SUM(D24:D26)","v":131.90895999999998},null,null,{"$f":"SUM(G24:G26)","v":131.00296},-0.90599999999997749,-6.8683734599983021E-3]
["Wholesale Market Service Rate (WMS) – not including CBR",{"$f":"VLOOKUP($A28,'Data Pass Through'!$A:$D,2,FALSE)","v":4.1000000000000003E-3},{"$f":"$B$4*$B$6","v":2128},{"$f":"B28*C28","v":8.7248000000000001},{"$f":"VLOOKUP($A28,'Data Pass Through'!$A:$D,3,FALSE)","v":4.1000000000000003E-3},{"$f":"$B$4*$B$6","v":2128},8.7248000000000001,0,0]
["Capacity Based Recovery (CBR) – Applicable for Class B Customers",{"$f":"VLOOKUP($A29,'Data Pass Through'!$A:$D,2,FALSE)","v":5.9999999999999995E-4},{"$f":"$B$4*$B$6","v":2128},1.2767999999999999,{"$f":"VLOOKUP($A29,'Data Pass Through'!$A:$D,3,FALSE)","v":5.9999999999999995E-4},{"$f":"$B$4*$B$6","v":2128},1.2767999999999999,0,0]
["Rural Rate Protection Charge",{"$f":"VLOOKUP($A30,'Data Pass Through'!$A:$D,2,FALSE)","v":5.9999999999999995E-4},{"$f":"$B$4*$B$6","v":2128},1.2767999999999999,{"$f":"VLOOKUP($A30,'Data Pass Through'!$A:$D,3,FALSE)","v":5.9999999999999995E-4},{"$f":"$B$4*$B$6","v":2128},1.2767999999999999,0,0]
["Standard Supply Service – Administration Charge (if applicable)",{"$f":"VLOOKUP($A31,'Data Pass Through'!$A:$D,2,FALSE)","v":0.25},1,0.25,{"$f":"VLOOKUP($A31,'Data Pass Through'!$A:$D,3,FALSE)","v":0.25},1,0.25,0,0]
["TOU-Off Peak",{"$f":"VLOOKUP($A32,'Data Pass Through'!$A:$D,2,FALSE)","v":9.8000000000000004E-2},{"$f":"B$4*VLOOKUP($B$3,'Data Billing Quantities'!$A:$O,MATCH($A32,'Data Billing Quantities'!$4:$4,0),FALSE)","v":1280},125.44,{"$f":"VLOOKUP($A32,'Data Pass Through'!$A:$D,3,FALSE)","v":9.8000000000000004E-2},{"$f":"B$4*VLOOKUP($B$3,'Data Billing Quantities'!$A:$O,MATCH($A32,'Data Billing Quantities'!$4:$4,0),FALSE)","v":1280},{"$f":"E32*F32","v":125.44},0,0]
["TOU-Mid Peak",{"$f":"VLOOKUP($A33,'Data Pass Through'!$A:$D,2,FALSE)","v":0.157},{"$f":"B$4*VLOOKUP($B$3,'Data Billing Quantities'!$A:$O,MATCH($A33,'Data Billing Quantities'!$4:$4,0),FALSE)","v":360},56.52,{"$f":"VLOOKUP($A33,'Data Pass Through'!$A:$D,3,FALSE)","v":0.157},{"$f":"B$4*VLOOKUP($B$3,'Data Billing Quantities'!$A:$O,MATCH($A33,'Data Billing Quantities'!$4:$4,0),FALSE)","v":360},{"$f":"E33*F33","v":56.52},0,0]
["TOU-On Peak",{"$f":"VLOOKUP($A34,'Data Pass Through'!$A:$D,2,FALSE)","v":0.20300000000000001},{"$f":"B$4*VLOOKUP($B$3,'Data Billing Quantities'!$A:$O,MATCH($A34,'Data Billing Quantities'!$4:$4,0),FALSE)","v":360},73.08,{"$f":"VLOOKUP($A34,'Data Pass Through'!$A:$D,3,FALSE)","v":0.20300000000000001},{"$f":"B$4*VLOOKUP($B$3,'Data Billing Quantities'!$A:$O,MATCH($A34,'Data Billing Quantities'!$4:$4,0),FALSE)","v":360},{"$f":"E34*F34","v":73.08},0,0]
["Total Bill on TOU (before Taxes)",null,null,{"$f":"SUM(D27:D34)","v":398.47735999999992},null,null,{"$f":"SUM(G27:G34)","v":397.57135999999997},-0.90599999999994907,-2.2736548947221223E-3]
["HST",0.13,null,{"$f":"D35*B36","v":51.802056799999988},{"$f":"B36","v":0.13},null,{"$f":"G35*E36","v":51.684276799999999},-0.11777999999998912,-2.2736548947220399E-3]
["Ontario Electricity Rebate (OER)",{"$f":"IF(($B$4*12)<250000,VLOOKUP($A37,'Data Pass Through'!$A$4:$C$19,2,0),0)","v":-0.23499999999999999},null,{"$f":"D35*B37","v":-93.642179599999977},{"$f":"IF(($B$4*12)<250000,VLOOKUP($A37,'Data Pass Through'!$A$4:$C$19,3,0),0)","v":-0.23499999999999999},null,{"$f":"G35*E37","v":-93.429269599999984},0.21290999999999372,2.273654894722183E-3]
["Total Bill on TOU",null,null,{"$f":"SUM(D35:D37)","v":356.63723719999996},null,null,{"$f":"SUM(G35:G37)","v":355.82636719999999},-0.81086999999996578,-2.273654894722154E-3]
["* Distribution rate protection applies to R1 and R2 customers"]

{"sheet":"BI_HCHI_AGSe_Typical","index":42,"n_rows":39,"n_cols":9,"rows_kept":39,"cut":false,"hidden":false,"merged":[[0,0,0,10],[8,0,9,0],[8,1,8,3],[8,4,8,6],[8,7,8,8]]}
["Bill Impacts (Typical Consumption Level) - AGSe-HCHI"]
[]
["Rate Class",{"$f":"RIGHT(A1,LEN(A1)-FIND(\"- \",A1,1)-1)","v":"AGSe-HCHI"}]
["Monthly Consumption (kWh)",{"$f":"IF(COUNTIF(A1,\"*Low*\")>0,VLOOKUP(B3,'Data Billing Quantities'!$A:$Z,MATCH(\"Low kWh\",'Data Billing Quantities'!4:4,0),FALSE),IF(COUNTIF(A1,\"*Typical*\")>0,VLOOKUP(B3,'Data Billing Quantities'!$A:$Z,MATCH(\"Typical kWh\",'Data Billing Quantities'!4:4,0),FALSE),IF(COUNTIF(A1,\"*Average*\")>0,VLOOKUP(B3,'Data Billing Quantities'!$A:$Z,MATCH(\"Average kWh\",'Data Billing Quantities'!4:4,0),FALSE),IF(COUNTIF(A1,\"*High*\")>0,VLOOKUP(B3,'Data Billing Quantities'!$A:$Z,MATCH(\"High kWh\",'Data Billing Quantities'!4:4,0),FALSE),\"error\"))))","v":2000}]
["Peak (kW)",{"$f":"IF(COUNTIF(A1,\"*Low*\")>0,VLOOKUP(B3,'Data Billing Quantities'!$A:$Z,MATCH(\"Low kW\",'Data Billing Quantities'!4:4,0),FALSE),IF(COUNTIF(A1,\"*Typical*\")>0,VLOOKUP(B3,'Data Billing Quantities'!$A:$Z,MATCH(\"Typical kW\",'Data Billing Quantities'!4:4,0),FALSE),IF(COUNTIF(A1,\"*Average*\")>0,VLOOKUP(B3,'Data Billing Quantities'!$A:$Z,MATCH(\"Average kW\",'Data Billing Quantities'!4:4,0),FALSE),IF(COUNTIF(A1,\"*High*\")>0,VLOOKUP(B3,'Data Billing Quantities'!$A:$Z,MATCH(\"High kW\",'Data Billing Quantities'!4:4,0),FALSE),\"error\"))))","v":0}]
["Loss factor",{"$f":"VLOOKUP(B3,'Data Billing Quantities'!A:D,MATCH(A6,'Data Billing Quantities'!4:4,0),FALSE)","v":1.0640000000000001}]
["Charge determinant",{"$f":"VLOOKUP(B3,'Data Billing Quantities'!A:D,MATCH(A7,'Data Billing Quantities'!4:4,0),FALSE)","v":"kWh"}]
[]
[null,"Current OEB-Approved",null,null,"Proposed",null,null,"Impact"]
[null,"Rate ($)","Volume","Charge ($)","Rate ($)","Volume","Charge ($)","$ Change","% Change"]
["Service Charge",{"$f":"VLOOKUP($B$3,'Data Current Rates'!$A:$AO,MATCH(BI_HCHI_AGSe_Typical!$A11,CurrentHeader,0),FALSE)","v":39.96},1,{"$f":"B11*C11","v":39.96},{"$f":"VLOOKUP($B$3,'Data Proposed Rates'!$A:$AT,MATCH(BI_HCHI_AGSe_Typical!$A11,ProposedHeader,0),FALSE)","v":39.96},1,{"$f":"E11*F11","v":39.96},{"$f":"G11-D11","v":0},{"$f":"IF(ISERROR(H11/ABS(D11)),\"N/A\",(H11/ABS(D11)))","v":0}]
["Distribution Volumetric Charge",{"$f":"VLOOKUP($B$3,'Data Current Rates'!$A:$AO,MATCH(BI_HCHI_AGSe_Typical!$A12,CurrentHeader,0),FALSE)","v":2.1600000000000001E-2},{"$f":"IF($B$7=\"kWh\",$B$4,$B$5)","v":2000},{"$f":"B12*C12","v":43.2},{"$f":"VLOOKUP($B$3,'Data Proposed Rates'!$A:$AT,MATCH(BI_HCHI_AGSe_Typical!$A12,ProposedHeader,0),FALSE)","v":2.3599999999999999E-2},{"$f":"IF($B$7=\"kWh\",$B$4,$B$5)","v":2000},47.199999999999996,3.9999999999999929,9.2592592592592421E-2]
["RRRP Adjustment",{"$f":"IF($B$3=\"R2\",VLOOKUP(A13,'Data Pass Through'!$A4:$C19,3,0),0)*-1","v":0},1,{"$f":"B13*C13","v":0},{"$f":"IF($B$3=\"R2\",VLOOKUP(A13,'Data Pass Through'!$A4:$C19,3,0),0)*-1","v":0},1,0,0,"N/A"]
["DRP Adjustment",null,null,{"$f":"IF(OR($B$3=\"R1\",$B$3=\"R2\",$B$3=\"R1-CPUC\"),IF(SUM(D11:D13)>'Data Pass Through'!$B$16,-(SUM(D11:D13)-'Data Pass Through'!$B$16),0),0)","v":0},null,null,{"$f":"IF(OR($B$3=\"R1\",$B$3=\"R2\",$B$3=\"R1-CPUC\"),IF(SUM(G11:G13)>'Data Pass Through'!$B$16,-(SUM(G11:G13)-'Data Pass Through'!$B$16),0),0)","v":0},0,"N/A"]
["Group 2 Fixed Rate Rider",{"$f":"VLOOKUP($B$3,'Data Current Rates'!$A:$AO,MATCH(BI_HCHI_AGSe_Typical!$A15,CurrentHeader,0),FALSE)","v":0},1,{"$f":"B15*C15","v":0},{"$f":"VLOOKUP($B$3,'Data Proposed Rates'!$A:$AT,MATCH(BI_HCHI_AGSe_Typical!$A15,ProposedHeader,0),FALSE)","v":-1.37},1,{"$f":"E15*F15","v":-1.37},-1.37,"N/A"]
["Group 2 Volumetric Rate Rider",{"$f":"VLOOKUP($B$3,'Data Current Rates'!$A:$AO,MATCH(BI_HCHI_AGSe_Typical!$A16,CurrentHeader,0),FALSE)","v":-4.0000000000000002E-4},{"$f":"IF($B$7=\"kWh\",$B$4,$B$5)","v":2000},{"$f":"B16*C16","v":-0.8},{"$f":"VLOOKUP($B$3,'Data Proposed Rates'!$A:$AT,MATCH(BI_HCHI_AGSe_Typical!$A16,ProposedHeader,0),FALSE)","v":-8.0000000000000004E-4},{"$f":"IF($B$7=\"kWh\",$B$4,$B$5)","v":2000},-1.6,{"$f":"G16-D16","v":-0.8},{"$f":"IF(ISERROR(H16/ABS(D16)),\"N/A\",(H16/ABS(D16)))","v":-1}]
["Sub-Total A (excluding pass through)",null,null,{"$f":"SUM(D11:D16)","v":82.36},null,null,{"$f":"SUM(G11:G16)","v":84.19},1.8299999999999983,2.2219524040796482E-2]
["Line Losses on Cost of Power",{"$f":"VLOOKUP($B$3,'Data Billing Quantities'!$A:$O,MATCH(BI_HCHI_AGSe_Typical!$A32,'Data Billing Quantities'!$4:$4,0),FALSE)*$B32+VLOOKUP($B$3,'Data Billing Quantities'!$A:$O,MATCH(BI_HCHI_AGSe_Typical!$A33,'Data Billing Quantities'!$4:$4,0),FALSE)*$B33+VLOOKUP($B$3,'Data Billing Quantities'!$A:$O,MATCH(BI_HCHI_AGSe_Typical!$A34,'Data Billing Quantities'!$4:$4,0),FALSE)*$B34","v":0.12752000000000002},{"$f":"($B$6*$B$4)-$B$4","v":128},{"$f":"B18*C18","v":16.322560000000003},{"$f":"VLOOKUP($B$3,'Data Billing Quantities'!$A:$O,MATCH(BI_HCHI_AGSe_Typical!$A32,'Data Billing Quantities'!$4:$4,0),FALSE)*$B32+VLOOKUP($B$3,'Data Billing Quantities'!$A:$O,MATCH(BI_HCHI_AGSe_Typical!$A33,'Data Billing Quantities'!$4:$4,0),FALSE)*$B33+VLOOKUP($B$3,'Data Billing Quantities'!$A:$O,MATCH(BI_HCHI_AGSe_Typical!$A34,'Data Billing Quantities'!$4:$4,0),FALSE)*$B34","v":0.12752000000000002},{"$f":"($B$6*$B$4)-$B$4","v":128},16.322560000000003,0,0]
["Total Deferral/Variance Account Rate Rider",{"$f":"VLOOKUP($B$3,'Data Current Rates'!$A:$AO,MATCH(BI_HCHI_AGSe_Typical!$A19,CurrentHeader,0),FALSE)","v":-3.5999999999999999E-3},{"$f":"IF($B$7=\"kWh\",$B$4,$B$5)","v":2000},-7.2,{"$f":"VLOOKUP($B$3,'Data Proposed Rates'!$A:$AT,MATCH(BI_HCHI_AGSe_Typical!$A19,ProposedHeader,0),FALSE)","v":-1.6999999999999999E-3},{"$f":"IF($B$7=\"kWh\",$B$4,$B$5)","v":2000},-3.4,3.8000000000000003,0.52777777777777779]
["CBR Class B Rate Rider",{"$f":"VLOOKUP($B$3,'Data Current Rates'!$A:$AJ,MATCH(BI_HCHI_AGSe_Typical!$A20,CurrentHeader,0),FALSE)","v":1E-4},{"$f":"IF($B$7=\"kWh\",$B$4,$B$5)","v":2000},0.2,{"$f":"VLOOKUP($B$3,'Data Proposed Rates'!$A:$AT,MATCH(BI_HCHI_AGSe_Typical!$A20,ProposedHeader,0),FALSE)","v":-5.9999999999999995E-4},{"$f":"IF($B$7=\"kWh\",$B$4,$B$5)","v":2000},-1.2,-1.4,-6.9999999999999991]
["GA Rate Rider",{"$f":"VLOOKUP($B$3,'Data Current Rates'!$A:$AJ,MATCH(BI_HCHI_AGSe_Typical!$A21,CurrentHeader,0),FALSE)","v":0},2000,0,{"$f":"VLOOKUP($B$3,'Data Proposed Rates'!$A:$AT,MATCH(BI_HCHI_AGSe_Typical!$A21,ProposedHeader,0),FALSE)","v":0},2000,0,0,"N/A"]
["Smart Meter Entity Charge (if applicable)",{"$f":"VLOOKUP($A22,'Data Pass Through'!$A:$D,2,FALSE)","v":0.42},1,0.42,{"$f":"VLOOKUP($A22,'Data Pass Through'!$A:$D,2,FALSE)","v":0.42},1,0.42,0,0]
["Rate Rider for Account 1588",null,null,null,{"$f":"VLOOKUP($B$3,'Data Proposed Rates'!$A:$AT,MATCH(BI_HCHI_AGSe_Typical!$A23,ProposedHeader,0),FALSE)","v":-3.2000000000000002E-3},{"$f":"IF($B$7=\"kWh\",$B$4,$B$5)","v":2000},-6.4,-6.4,"N/A"]
["Sub-Total B - Distribution (includes Sub-Total A)",null,null,{"$f":"SUM(INDIRECT(\"D17:D\"&ROW()-1))","v":92.102559999999997},null,null,{"$f":"SUM(INDIRECT(\"G17:G\"&ROW()-1))","v":89.932559999999995},-2.1700000000000017,-2.3560691472636612E-2]
["Retail Transmission Rate – Network Service Rate",{"$f":"VLOOKUP($B$3,'Data Current Rates'!$A:$AJ,MATCH(BI_HCHI_AGSe_Typical!$A25,CurrentHeader,0),FALSE)","v":1.0699999999999999E-2},{"$f":"IF($B$7=\"kWh\",$B$4*$B$6,$B$5)","v":2128},{"$f":"B25*C25","v":22.769600000000001},{"$f":"VLOOKUP($B$3,'Data Proposed Rates'!$A:$AT,MATCH(BI_HCHI_AGSe_Typical!$A25,ProposedHeader,0),FALSE)","v":1.0999999999999999E-2},{"$f":"IF($B$7=\"kWh\",$B$4*$B$6,$B$5)","v":2128},23.407999999999998,0.63839999999999719,2.8037383177569968E-2]
["Retail Transmission Rate – Line and Transformation Connection Service Rate",{"$f":"VLOOKUP($B$3,'Data Current Rates'!$A:$AJ,MATCH(BI_HCHI_AGSe_Typical!$A26,CurrentHeader,0),FALSE)","v":8.0999999999999996E-3},{"$f":"IF($B$7=\"kWh\",$B$4*$B$6,$B$5)","v":2128},17.236799999999999,{"$f":"VLOOKUP($B$3,'Data Proposed Rates'!$A:$AT,MATCH(BI_HCHI_AGSe_Typical!$A26,ProposedHeader,0),FALSE)","v":8.3000000000000001E-3},{"$f":"IF($B$7=\"kWh\",$B$4*$B$6,$B$5)","v":2128},17.662400000000002,0.42560000000000286,2.4691358024691527E-2]
["Sub-Total C - Delivery (including Sub-Total B)",null,null,{"$f":"SUM(D24:D26)","v":132.10896},null,null,{"$f":"SUM(G24:G26)","v":131.00296},-1.1059999999999945,-8.3718772746375E-3]
["Wholesale Market Service Rate (WMS) – not including CBR",{"$f":"VLOOKUP($A28,'Data Pass Through'!$A:$D,2,FALSE)","v":4.1000000000000003E-3},{"$f":"$B$4*$B$6","v":2128},{"$f":"B28*C28","v":8.7248000000000001},{"$f":"VLOOKUP($A28,'Data Pass Through'!$A:$D,3,FALSE)","v":4.1000000000000003E-3},{"$f":"$B$4*$B$6","v":2128},8.7248000000000001,0,0]
["Capacity Based Recovery (CBR) – Applicable for Class B Customers",{"$f":"VLOOKUP($A29,'Data Pass Through'!$A:$D,2,FALSE)","v":5.9999999999999995E-4},{"$f":"$B$4*$B$6","v":2128},1.2767999999999999,{"$f":"VLOOKUP($A29,'Data Pass Through'!$A:$D,3,FALSE)","v":5.9999999999999995E-4},{"$f":"$B$4*$B$6","v":2128},1.2767999999999999,0,0]
["Rural Rate Protection Charge",{"$f":"VLOOKUP($A30,'Data Pass Through'!$A:$D,2,FALSE)","v":5.9999999999999995E-4},{"$f":"$B$4*$B$6","v":2128},1.2767999999999999,{"$f":"VLOOKUP($A30,'Data Pass Through'!$A:$D,3,FALSE)","v":5.9999999999999995E-4},{"$f":"$B$4*$B$6","v":2128},1.2767999999999999,0,0]
["Standard Supply Service – Administration Charge (if applicable)",{"$f":"VLOOKUP($A31,'Data Pass Through'!$A:$D,2,FALSE)","v":0.25},1,0.25,{"$f":"VLOOKUP($A31,'Data Pass Through'!$A:$D,3,FALSE)","v":0.25},1,0.25,0,0]
["TOU-Off Peak",{"$f":"VLOOKUP($A32,'Data Pass Through'!$A:$D,2,FALSE)","v":9.8000000000000004E-2},{"$f":"B$4*VLOOKUP($B$3,'Data Billing Quantities'!$A:$O,MATCH($A32,'Data Billing Quantities'!$4:$4,0),FALSE)","v":1280},125.44,{"$f":"VLOOKUP($A32,'Data Pass Through'!$A:$D,3,FALSE)","v":9.8000000000000004E-2},{"$f":"B$4*VLOOKUP($B$3,'Data Billing Quantities'!$A:$O,MATCH($A32,'Data Billing Quantities'!$4:$4,0),FALSE)","v":1280},{"$f":"E32*F32","v":125.44},0,0]
["TOU-Mid Peak",{"$f":"VLOOKUP($A33,'Data Pass Through'!$A:$D,2,FALSE)","v":0.157},{"$f":"B$4*VLOOKUP($B$3,'Data Billing Quantities'!$A:$O,MATCH($A33,'Data Billing Quantities'!$4:$4,0),FALSE)","v":360},56.52,{"$f":"VLOOKUP($A33,'Data Pass Through'!$A:$D,3,FALSE)","v":0.157},{"$f":"B$4*VLOOKUP($B$3,'Data Billing Quantities'!$A:$O,MATCH($A33,'Data Billing Quantities'!$4:$4,0),FALSE)","v":360},{"$f":"E33*F33","v":56.52},0,0]
["TOU-On Peak",{"$f":"VLOOKUP($A34,'Data Pass Through'!$A:$D,2,FALSE)","v":0.20300000000000001},{"$f":"B$4*VLOOKUP($B$3,'Data Billing Quantities'!$A:$O,MATCH($A34,'Data Billing Quantities'!$4:$4,0),FALSE)","v":360},73.08,{"$f":"VLOOKUP($A34,'Data Pass Through'!$A:$D,3,FALSE)","v":0.20300000000000001},{"$f":"B$4*VLOOKUP($B$3,'Data Billing Quantities'!$A:$O,MATCH($A34,'Data Billing Quantities'!$4:$4,0),FALSE)","v":360},{"$f":"E34*F34","v":73.08},0,0]
["Total Bill on TOU (before Taxes)",null,null,{"$f":"SUM(D27:D34)","v":398.67735999999996},null,null,{"$f":"SUM(G27:G34)","v":397.57135999999997},-1.1059999999999945,-2.7741730807086576E-3]
["HST",0.13,null,{"$f":"D35*B36","v":51.828056799999999},{"$f":"B36","v":0.13},null,{"$f":"G35*E36","v":51.684276799999999},-0.14377999999999957,-2.7741730807086633E-3]
["Ontario Electricity Rebate (OER)",{"$f":"IF(($B$4*12)<250000,VLOOKUP($A37,'Data Pass Through'!$A$4:$C$19,2,0),0)","v":-0.23499999999999999},null,{"$f":"D35*B37","v":-93.689179599999989},{"$f":"IF(($B$4*12)<250000,VLOOKUP($A37,'Data Pass Through'!$A$4:$C$19,3,0),0)","v":-0.23499999999999999},null,{"$f":"G35*E37","v":-93.429269599999984},0.25991000000000497,2.7741730807087249E-3]
["Total Bill on TOU",null,null,{"$f":"SUM(D35:D37)","v":356.81623719999999},null,null,{"$f":"SUM(G35:G37)","v":355.82636719999999},-0.98986999999999625,-2.7741730807086607E-3]
["* Distribution rate protection applies to R1 and R2 customers"]

{"sheet":"BI_NPDI_AGSd_Avg","index":43,"n_rows":34,"n_cols":9,"rows_kept":34,"cut":false,"hidden":false,"merged":[[0,0,0,9],[8,1,8,3],[8,4,8,6],[8,7,8,8]]}
["Bill Impacts (Average Consumption Level) - AGSd-NPDI"]
[]
["Rate Class",{"$f":"RIGHT(A1,LEN(A1)-FIND(\"- \",A1,1)-1)","v":"AGSd-NPDI"}]
["Monthly Consumption (kWh)",{"$f":"IF(COUNTIF(A1,\"*Low*\")>0,VLOOKUP(B3,'Data Billing Quantities'!$A:$Z,MATCH(\"Low kWh\",'Data Billing Quantities'!4:4,0),FALSE),IF(COUNTIF(A1,\"*Typical*\")>0,VLOOKUP(B3,'Data Billing Quantities'!$A:$Z,MATCH(\"Typical kWh\",'Data Billing Quantities'!4:4,0),FALSE),IF(COUNTIF(A1,\"*Average*\")>0,VLOOKUP(B3,'Data Billing Quantities'!$A:$Z,MATCH(\"Average kWh\",'Data Billing Quantities'!4:4,0),FALSE),IF(COUNTIF(A1,\"*High*\")>0,VLOOKUP(B3,'Data Billing Quantities'!$A:$Z,MATCH(\"High kWh\",'Data Billing Quantities'!4:4,0),FALSE),\"error\"))))","v":70294}]
["Peak (kW)",{"$f":"IF(COUNTIF(A1,\"*Low*\")>0,VLOOKUP(B3,'Data Billing Quantities'!$A:$Z,MATCH(\"Low kW\",'Data Billing Quantities'!4:4,0),FALSE),IF(COUNTIF(A1,\"*Typical*\")>0,VLOOKUP(B3,'Data Billing Quantities'!$A:$Z,MATCH(\"Typical kW\",'Data Billing Quantities'!4:4,0),FALSE),IF(COUNTIF(A1,\"*Average*\")>0,VLOOKUP(B3,'Data Billing Quantities'!$A:$Z,MATCH(\"Average kW\",'Data Billing Quantities'!4:4,0),FALSE),IF(COUNTIF(A1,\"*High*\")>0,VLOOKUP(B3,'Data Billing Quantities'!$A:$Z,MATCH(\"High kW\",'Data Billing Quantities'!4:4,0),FALSE),\"error\"))))","v":181}]
["Loss factor",{"$f":"VLOOKUP(B3,'Data Billing Quantities'!A:D,MATCH(A6,'Data Billing Quantities'!4:4,0),FALSE)","v":1.0529999999999999}]
["Charge determinant",{"$f":"VLOOKUP(B3,'Data Billing Quantities'!A:D,MATCH(A7,'Data Billing Quantities'!4:4,0),FALSE)","v":"kW"}]
[]
[null,"Current OEB-Approved",null,null,"Proposed",null,null,"Impact"]
[null,"Rate","Volume","Charge","Rate","Volume","Charge","$ Change","% Change"]
[null,"($)",null,"($)","($)",null,"($)"]
["Service Charge",{"$f":"VLOOKUP($B$3,'Data Current Rates'!$A:$AO,MATCH(BI_NPDI_AGSd_Avg!$A12,CurrentHeader,0),FALSE)","v":170.26},1,{"$f":"C12*B12","v":170.26},{"$f":"VLOOKUP($B$3,'Data Proposed Rates'!$A:$AT,MATCH(BI_NPDI_AGSd_Avg!$A12,ProposedHeader,0),FALSE)","v":170.26},1,{"$f":"F12*E12","v":170.26},{"$f":"G12-D12","v":0},{"$f":"IF(ISERROR(H12/ABS(D12)),\"N/A\",(H12/ABS(D12)))","v":0}]
["Distribution Volumetric Charge",{"$f":"VLOOKUP($B$3,'Data Current Rates'!$A:$AO,MATCH(BI_NPDI_AGSd_Avg!$A13,CurrentHeader,0),FALSE)","v":5.1349999999999998},{"$f":"IF($B$7=\"kWh\",$B$4,$B$5)","v":181},{"$f":"C13*B13","v":929.43499999999995},{"$f":"VLOOKUP($B$3,'Data Proposed Rates'!$A:$AT,MATCH(BI_NPDI_AGSd_Avg!$A13,ProposedHeader,0),FALSE)","v":5.431},{"$f":"IF($B$7=\"kWh\",$B$4,$B$5)","v":181},{"$f":"F13*E13","v":983.01099999999997},53.576000000000022,5.7643622200584256E-2]
["Group 2 Fixed Rate Rider",{"$f":"VLOOKUP($B$3,'Data Current Rates'!$A:$AO,MATCH(BI_NPDI_AGSd_Avg!$A14,CurrentHeader,0),FALSE)","v":0},1,0,{"$f":"VLOOKUP($B$3,'Data Proposed Rates'!$A:$AT,MATCH(BI_NPDI_AGSd_Avg!$A14,ProposedHeader,0),FALSE)","v":-5.84},1,{"$f":"F14*E14","v":-5.84},-5.84,"N/A"]
["Group 2 Volumetric Rate Rider",{"$f":"VLOOKUP($B$3,'Data Current Rates'!$A:$AO,MATCH(BI_NPDI_AGSd_Avg!$A15,CurrentHeader,0),FALSE)","v":-6.1800000000000001E-2},{"$f":"IF($B$7=\"kWh\",$B$4,$B$5)","v":181},-11.1858,{"$f":"VLOOKUP($B$3,'Data Proposed Rates'!$A:$AT,MATCH(BI_NPDI_AGSd_Avg!$A15,ProposedHeader,0),FALSE)","v":-0.17749999999999999},{"$f":"IF($B$7=\"kWh\",$B$4,$B$5)","v":181},-32.127499999999998,-20.941699999999997,-1.8721682847896437]
["Sub-Total A (excluding pass through)",null,null,{"$f":"SUM(D12:D15)","v":1088.5092},null,null,{"$f":"SUM(G12:G15)","v":1115.3035},26.794300000000021,2.4615593510831164E-2]
["Line Losses on Cost of Power",0,{"$f":"IF(B$17=0,0,B$4*B$6-B$4)","v":0},{"$f":"C17*B17","v":0},0,{"$f":"IF(E$17=0,0,E$4*E$6-E$4)","v":0},0,0,"N/A"]
["Total Deferral/Variance Account Rate Rider",{"$f":"VLOOKUP($B$3,'Data Current Rates'!$A:$AO,MATCH(BI_NPDI_AGSd_Avg!$A18,CurrentHeader,0),FALSE)","v":-1.2170999999999998},{"$f":"IF($B$7=\"kWh\",$B$4,$B$5)","v":181},-220.29509999999996,{"$f":"VLOOKUP($B$3,'Data Proposed Rates'!$A:$AT,MATCH(BI_NPDI_AGSd_Avg!$A18,ProposedHeader,0),FALSE)","v":-0.6482},{"$f":"IF($B$7=\"kWh\",$B$4,$B$5)","v":181},-117.3242,102.97089999999996,0.4674225618272943]
["CBR Class B Rate Rider",{"$f":"VLOOKUP($B$3,'Data Current Rates'!$A:$AO,MATCH(BI_NPDI_AGSd_Avg!$A19,CurrentHeader,0),FALSE)","v":1.9400000000000001E-2},{"$f":"IF($B$7=\"kWh\",$B$4,$B$5)","v":181},{"$f":"C19*B19","v":3.5114000000000001},{"$f":"VLOOKUP($B$3,'Data Proposed Rates'!$A:$AT,MATCH(BI_NPDI_AGSd_Avg!$A19,ProposedHeader,0),FALSE)","v":-0.2167},{"$f":"IF($B$7=\"kWh\",$B$4,$B$5)","v":181},{"$f":"F19*E19","v":-39.222700000000003},-42.734100000000005,-12.170103092783506]
["GA Rate Rider",{"$f":"VLOOKUP($B$3,'Data Current Rates'!$A:$AO,MATCH(BI_NPDI_AGSd_Avg!$A20,CurrentHeader,0),FALSE)","v":-8.9999999999999998E-4},{"$f":"$B$4","v":70294},{"$f":"C20*B20","v":-63.264600000000002},{"$f":"VLOOKUP($B$3,'Data Proposed Rates'!$A:$AT,MATCH(BI_NPDI_AGSd_Avg!$A20,ProposedHeader,0),FALSE)","v":1.21E-2},{"$f":"$B$4","v":70294},850.55740000000003,913.822,14.444444444444445]
["Rate Rider for Account 1588",null,null,null,{"$f":"VLOOKUP($B$3,'Data Proposed Rates'!$A:$AT,MATCH(BI_NPDI_AGSd_Avg!$A21,ProposedHeader,0),FALSE)","v":-1.1338999999999999},{"$f":"IF($B$7=\"kWh\",$B$4,$B$5)","v":181},{"$f":"F21*E21","v":-205.23589999999999},-205.23589999999999,"N/A"]
["Sub-Total B - Distribution (includes Sub-Total A)",null,null,{"$f":"SUM(INDIRECT(\"D16:D\"&ROW()-1))","v":808.46090000000004},null,null,{"$f":"SUM(INDIRECT(\"G16:G\"&ROW()-1))","v":1604.0780999999999},795.61719999999991,0.98411339373369799]
["Retail Transmission Rate – Network Service Rate",{"$f":"VLOOKUP($B$3,'Data Current Rates'!$A:$AO,MATCH(BI_NPDI_AGSd_Avg!$A23,CurrentHeader,0),FALSE)","v":3.3277999999999999},{"$f":"IF($B$7=\"kWh\",$B$4*$B$6,$B$5)","v":181},{"$f":"C23*B23","v":602.33179999999993},{"$f":"VLOOKUP($B$3,'Data Proposed Rates'!$A:$AT,MATCH(BI_NPDI_AGSd_Avg!$A23,ProposedHeader,0),FALSE)","v":3.4169999999999998},{"$f":"IF($B$7=\"kWh\",$B$4*$B$6,$B$5)","v":181},{"$f":"F23*E23","v":618.47699999999998},16.145200000000045,2.6804495462467774E-2]
["Retail Transmission Rate – Line and Transformation Connection Service Rate",{"$f":"VLOOKUP($B$3,'Data Current Rates'!$A:$AO,MATCH(BI_NPDI_AGSd_Avg!$A24,CurrentHeader,0),FALSE)","v":2.5457000000000001},{"$f":"IF($B$7=\"kWh\",$B$4*$B$6,$B$5)","v":181},{"$f":"C24*B24","v":460.77170000000001},{"$f":"VLOOKUP($B$3,'Data Proposed Rates'!$A:$AT,MATCH(BI_NPDI_AGSd_Avg!$A24,ProposedHeader,0),FALSE)","v":2.6092},{"$f":"IF($B$7=\"kWh\",$B$4*$B$6,$B$5)","v":181},{"$f":"F24*E24","v":472.26519999999999},11.493499999999983,2.4944023254900385E-2]
["Sub-Total C - Delivery (including Sub-Total B)",null,null,{"$f":"SUM(D22:D24)","v":1871.5644},null,null,{"$f":"SUM(G22:G24)","v":2694.8202999999999},823.25589999999988,0.43987580657122988]
["Wholesale Market Service Rate (WMS) – not including CBR",{"$f":"VLOOKUP($A26,'Data Pass Through'!$A:$D,2,FALSE)","v":4.1000000000000003E-3},{"$f":"$B$4*$B$6","v":74019.581999999995},{"$f":"C26*B26","v":303.48028620000002},{"$f":"VLOOKUP($A26,'Data Pass Through'!$A:$D,3,FALSE)","v":4.1000000000000003E-3},{"$f":"$B$4*$B$6","v":74019.581999999995},{"$f":"F26*E26","v":303.48028620000002},0,0]
["Capacity Based Recovery (CBR) – Applicable for Class B Customers",{"$f":"VLOOKUP($A27,'Data Pass Through'!$A:$D,2,FALSE)","v":5.9999999999999995E-4},{"$f":"$B$4*$B$6","v":74019.581999999995},44.411749199999996,{"$f":"VLOOKUP($A27,'Data Pass Through'!$A:$D,3,FALSE)","v":5.9999999999999995E-4},74019.581999999995,44.411749199999996,0,0]
["Rural Rate Protection Charge",{"$f":"VLOOKUP($A28,'Data Pass Through'!$A:$D,2,FALSE)","v":5.9999999999999995E-4},74019.581999999995,44.411749199999996,{"$f":"VLOOKUP($A28,'Data Pass Through'!$A:$D,3,FALSE)","v":5.9999999999999995E-4},74019.581999999995,44.411749199999996,0,0]
["Standard Supply Service – Administration Charge (if applicable)",{"$f":"VLOOKUP($A29,'Data Pass Through'!$A:$D,2,FALSE)","v":0.25},1,0.25,{"$f":"VLOOKUP($A29,'Data Pass Through'!$A:$D,3,FALSE)","v":0.25},1,0.25,0,0]
["Average IESO Wholesale Market Price",{"$f":"VLOOKUP(A30,'Data Pass Through'!A4:C19,2,0)","v":0.15959999999999999},{"$f":"$B$4*$B$6","v":74019.581999999995},{"$f":"C30*B30","v":11813.525287199998},{"$f":"VLOOKUP($A30,'Data Pass Through'!$A:$D,3,FALSE)","v":0.15959999999999999},{"$f":"$B$4*$B$6","v":74019.581999999995},11813.525287199998,{"$f":"G30-D30","v":0},0]
["Total Bill on Average IESO Wholesale Market Price (before Taxes)",null,null,{"$f":"SUM(D25:D30)","v":14077.643471799998},null,null,{"$f":"SUM(G25:G30)","v":14900.899371799998},{"$f":"G31-D31","v":823.25590000000011},5.847966683125104E-2]
["HST",0.13,null,{"$f":"D31*B32","v":1830.0936513339998},0.13,null,{"$f":"G31*E32","v":1937.1169183339998},{"$f":"G32-D32","v":107.02326700000003},5.8479666831251054E-2]
["Ontario Electricity Rebate (OER)",{"$f":"IF(($B$4*12)<250000,VLOOKUP(A33,'Data Pass Through'!$A$4:$C$19,2,0),0)","v":0},null,{"$f":"D31*B33","v":0},{"$f":"IF(($B$4*12)<250000,VLOOKUP(A33,'Data Pass Through'!$A$4:$C$19,3,0),0)","v":0},null,{"$f":"G31*E33","v":0},{"$f":"G33-D33","v":0},"N/A"]
["Total Bill on Average IESO Wholesale Market Price",null,null,{"$f":"SUM(D31:D33)","v":15907.737123133998},null,null,{"$f":"SUM(G31:G33)","v":16838.016290133997},{"$f":"G34-D34","v":930.27916699999878},5.8479666831250957E-2]

{"sheet":"BI_HCHI_AGSd_Avg","index":44,"n_rows":34,"n_cols":9,"rows_kept":34,"cut":false,"hidden":false,"merged":[[0,0,0,9],[8,1,8,3],[8,4,8,6],[8,7,8,8]]}
["Bill Impacts (Average Consumption Level) - AGSd-HCHI"]
[]
["Rate Class",{"$f":"RIGHT(A1,LEN(A1)-FIND(\"- \",A1,1)-1)","v":"AGSd-HCHI"}]
["Monthly Consumption (kWh)",{"$f":"IF(COUNTIF(A1,\"*Low*\")>0,VLOOKUP(B3,'Data Billing Quantities'!$A:$Z,MATCH(\"Low kWh\",'Data Billing Quantities'!4:4,0),FALSE),IF(COUNTIF(A1,\"*Typical*\")>0,VLOOKUP(B3,'Data Billing Quantities'!$A:$Z,MATCH(\"Typical kWh\",'Data Billing Quantities'!4:4,0),FALSE),IF(COUNTIF(A1,\"*Average*\")>0,VLOOKUP(B3,'Data Billing Quantities'!$A:$Z,MATCH(\"Average kWh\",'Data Billing Quantities'!4:4,0),FALSE),IF(COUNTIF(A1,\"*High*\")>0,VLOOKUP(B3,'Data Billing Quantities'!$A:$Z,MATCH(\"High kWh\",'Data Billing Quantities'!4:4,0),FALSE),\"error\"))))","v":57529}]
["Peak (kW)",{"$f":"IF(COUNTIF(A1,\"*Low*\")>0,VLOOKUP(B3,'Data Billing Quantities'!$A:$Z,MATCH(\"Low kW\",'Data Billing Quantities'!4:4,0),FALSE),IF(COUNTIF(A1,\"*Typical*\")>0,VLOOKUP(B3,'Data Billing Quantities'!$A:$Z,MATCH(\"Typical kW\",'Data Billing Quantities'!4:4,0),FALSE),IF(COUNTIF(A1,\"*Average*\")>0,VLOOKUP(B3,'Data Billing Quantities'!$A:$Z,MATCH(\"Average kW\",'Data Billing Quantities'!4:4,0),FALSE),IF(COUNTIF(A1,\"*High*\")>0,VLOOKUP(B3,'Data Billing Quantities'!$A:$Z,MATCH(\"High kW\",'Data Billing Quantities'!4:4,0),FALSE),\"error\"))))","v":175}]
["Loss factor",{"$f":"VLOOKUP(B3,'Data Billing Quantities'!A:D,MATCH(A6,'Data Billing Quantities'!4:4,0),FALSE)","v":1.0529999999999999}]
["Charge determinant",{"$f":"VLOOKUP(B3,'Data Billing Quantities'!A:D,MATCH(A7,'Data Billing Quantities'!4:4,0),FALSE)","v":"kW"}]
[]
[null,"Current OEB-Approved",null,null,"Proposed",null,null,"Impact"]
[null,"Rate","Volume","Charge","Rate","Volume","Charge","$ Change","% Change"]
[null,"($)",null,"($)","($)",null,"($)"]
["Service Charge",{"$f":"VLOOKUP($B$3,'Data Current Rates'!$A:$AO,MATCH(BI_HCHI_AGSd_Avg!$A12,CurrentHeader,0),FALSE)","v":170.26},1,{"$f":"C12*B12","v":170.26},{"$f":"VLOOKUP($B$3,'Data Proposed Rates'!$A:$AT,MATCH(BI_HCHI_AGSd_Avg!$A12,ProposedHeader,0),FALSE)","v":170.26},1,{"$f":"F12*E12","v":170.26},{"$f":"G12-D12","v":0},{"$f":"IF(ISERROR(H12/ABS(D12)),\"N/A\",(H12/ABS(D12)))","v":0}]
["Distribution Volumetric Charge",{"$f":"VLOOKUP($B$3,'Data Current Rates'!$A:$AO,MATCH(BI_HCHI_AGSd_Avg!$A13,CurrentHeader,0),FALSE)","v":5.1349999999999998},{"$f":"IF($B$7=\"kWh\",$B$4,$B$5)","v":175},{"$f":"C13*B13","v":898.625},{"$f":"VLOOKUP($B$3,'Data Proposed Rates'!$A:$AT,MATCH(BI_HCHI_AGSd_Avg!$A13,ProposedHeader,0),FALSE)","v":5.431},{"$f":"IF($B$7=\"kWh\",$B$4,$B$5)","v":175},{"$f":"F13*E13","v":950.42499999999995},51.799999999999955,5.7643622200584173E-2]
["Group 2 Fixed Rate Rider",{"$f":"VLOOKUP($B$3,'Data Current Rates'!$A:$AO,MATCH(BI_HCHI_AGSd_Avg!$A14,CurrentHeader,0),FALSE)","v":0},1,0,{"$f":"VLOOKUP($B$3,'Data Proposed Rates'!$A:$AT,MATCH(BI_HCHI_AGSd_Avg!$A14,ProposedHeader,0),FALSE)","v":-5.84},1,{"$f":"F14*E14","v":-5.84},-5.84,"N/A"]
["Group 2 Volumetric Rate Rider",{"$f":"VLOOKUP($B$3,'Data Current Rates'!$A:$AO,MATCH(BI_HCHI_AGSd_Avg!$A15,CurrentHeader,0),FALSE)","v":-6.0299999999999999E-2},{"$f":"IF($B$7=\"kWh\",$B$4,$B$5)","v":175},-10.5525,{"$f":"VLOOKUP($B$3,'Data Proposed Rates'!$A:$AT,MATCH(BI_HCHI_AGSd_Avg!$A15,ProposedHeader,0),FALSE)","v":-0.17749999999999999},{"$f":"IF($B$7=\"kWh\",$B$4,$B$5)","v":175},-31.0625,-20.509999999999998,-1.9436152570480927]
["Sub-Total A (excluding pass through)",null,null,{"$f":"SUM(D12:D15)","v":1058.3325},null,null,{"$f":"SUM(G12:G15)","v":1083.7825},25.450000000000045,2.4047263029341012E-2]
["Line Losses on Cost of Power",0,{"$f":"IF(B$17=0,0,B$4*B$6-B$4)","v":0},{"$f":"C17*B17","v":0},0,{"$f":"IF(E$17=0,0,E$4*E$6-E$4)","v":0},0,0,"N/A"]
["Total Deferral/Variance Account Rate Rider",{"$f":"VLOOKUP($B$3,'Data Current Rates'!$A:$AO,MATCH(BI_HCHI_AGSd_Avg!$A18,CurrentHeader,0),FALSE)","v":-1.2498},{"$f":"IF($B$7=\"kWh\",$B$4,$B$5)","v":175},-218.715,{"$f":"VLOOKUP($B$3,'Data Proposed Rates'!$A:$AT,MATCH(BI_HCHI_AGSd_Avg!$A18,ProposedHeader,0),FALSE)","v":-0.6482},{"$f":"IF($B$7=\"kWh\",$B$4,$B$5)","v":175},-113.435,105.28,0.48135701712273965]
["CBR Class B Rate Rider",{"$f":"VLOOKUP($B$3,'Data Current Rates'!$A:$AO,MATCH(BI_HCHI_AGSd_Avg!$A19,CurrentHeader,0),FALSE)","v":1.9400000000000001E-2},{"$f":"IF($B$7=\"kWh\",$B$4,$B$5)","v":175},{"$f":"C19*B19","v":3.395},{"$f":"VLOOKUP($B$3,'Data Proposed Rates'!$A:$AT,MATCH(BI_HCHI_AGSd_Avg!$A19,ProposedHeader,0),FALSE)","v":-0.2167},{"$f":"IF($B$7=\"kWh\",$B$4,$B$5)","v":175},{"$f":"F19*E19","v":-37.922499999999999},-41.317500000000003,-12.170103092783506]
["GA Rate Rider",{"$f":"VLOOKUP($B$3,'Data Current Rates'!$A:$AO,MATCH(BI_HCHI_AGSd_Avg!$A20,CurrentHeader,0),FALSE)","v":-8.9999999999999998E-4},{"$f":"$B$4","v":57529},{"$f":"C20*B20","v":-51.7761},{"$f":"VLOOKUP($B$3,'Data Proposed Rates'!$A:$AT,MATCH(BI_HCHI_AGSd_Avg!$A20,ProposedHeader,0),FALSE)","v":1.21E-2},{"$f":"$B$4","v":57529},696.10090000000002,747.87700000000007,14.444444444444446]
["Rate Rider for Account 1588",null,null,null,{"$f":"VLOOKUP($B$3,'Data Proposed Rates'!$A:$AT,MATCH(BI_HCHI_AGSd_Avg!$A21,ProposedHeader,0),FALSE)","v":-1.1338999999999999},{"$f":"IF($B$7=\"kWh\",$B$4,$B$5)","v":175},{"$f":"F21*E21","v":-198.43249999999998},-198.43249999999998,"N/A"]
["Sub-Total B - Distribution (includes Sub-Total A)",null,null,{"$f":"SUM(INDIRECT(\"D16:D\"&ROW()-1))","v":791.23639999999989},null,null,{"$f":"SUM(INDIRECT(\"G16:G\"&ROW()-1))","v":1430.0934000000002},638.85700000000031,0.80741608955300892]
["Retail Transmission Rate – Network Service Rate",{"$f":"VLOOKUP($B$3,'Data Current Rates'!$A:$AO,MATCH(BI_HCHI_AGSd_Avg!$A23,CurrentHeader,0),FALSE)","v":3.3277999999999999},{"$f":"IF($B$7=\"kWh\",$B$4*$B$6,$B$5)","v":175},{"$f":"C23*B23","v":582.36500000000001},{"$f":"VLOOKUP($B$3,'Data Proposed Rates'!$A:$AT,MATCH(BI_HCHI_AGSd_Avg!$A23,ProposedHeader,0),FALSE)","v":3.4169999999999998},{"$f":"IF($B$7=\"kWh\",$B$4*$B$6,$B$5)","v":175},{"$f":"F23*E23","v":597.97500000000002},15.610000000000014,2.6804495462467718E-2]
["Retail Transmission Rate – Line and Transformation Connection Service Rate",{"$f":"VLOOKUP($B$3,'Data Current Rates'!$A:$AO,MATCH(BI_HCHI_AGSd_Avg!$A24,CurrentHeader,0),FALSE)","v":2.5457000000000001},{"$f":"IF($B$7=\"kWh\",$B$4*$B$6,$B$5)","v":175},{"$f":"C24*B24","v":445.4975},{"$f":"VLOOKUP($B$3,'Data Proposed Rates'!$A:$AT,MATCH(BI_HCHI_AGSd_Avg!$A24,ProposedHeader,0),FALSE)","v":2.6092},{"$f":"IF($B$7=\"kWh\",$B$4*$B$6,$B$5)","v":175},{"$f":"F24*E24","v":456.61},11.112500000000011,2.4944023254900447E-2]
["Sub-Total C - Delivery (including Sub-Total B)",null,null,{"$f":"SUM(D22:D24)","v":1819.0989},null,null,{"$f":"SUM(G22:G24)","v":2484.6784000000002},665.57950000000028,0.36588417485162589]
["Wholesale Market Service Rate (WMS) – not including CBR",{"$f":"VLOOKUP($A26,'Data Pass Through'!$A:$D,2,FALSE)","v":4.1000000000000003E-3},{"$f":"$B$4*$B$6","v":60578.036999999997},{"$f":"C26*B26","v":248.3699517},{"$f":"VLOOKUP($A26,'Data Pass Through'!$A:$D,3,FALSE)","v":4.1000000000000003E-3},{"$f":"$B$4*$B$6","v":60578.036999999997},{"$f":"F26*E26","v":248.3699517},0,0]
["Capacity Based Recovery (CBR) – Applicable for Class B Customers",{"$f":"VLOOKUP($A27,'Data Pass Through'!$A:$D,2,FALSE)","v":5.9999999999999995E-4},{"$f":"$B$4*$B$6","v":60578.036999999997},36.346822199999998,{"$f":"VLOOKUP($A27,'Data Pass Through'!$A:$D,3,FALSE)","v":5.9999999999999995E-4},60578.036999999997,36.346822199999998,0,0]
["Rural Rate Protection Charge",{"$f":"VLOOKUP($A28,'Data Pass Through'!$A:$D,2,FALSE)","v":5.9999999999999995E-4},60578.036999999997,36.346822199999998,{"$f":"VLOOKUP($A28,'Data Pass Through'!$A:$D,3,FALSE)","v":5.9999999999999995E-4},60578.036999999997,36.346822199999998,0,0]
["Standard Supply Service – Administration Charge (if applicable)",{"$f":"VLOOKUP($A29,'Data Pass Through'!$A:$D,2,FALSE)","v":0.25},1,0.25,{"$f":"VLOOKUP($A29,'Data Pass Through'!$A:$D,3,FALSE)","v":0.25},1,0.25,0,0]
["Average IESO Wholesale Market Price",{"$f":"VLOOKUP(A30,'Data Pass Through'!A4:C19,2,0)","v":0.15959999999999999},{"$f":"$B$4*$B$6","v":60578.036999999997},{"$f":"C30*B30","v":9668.2547051999991},{"$f":"VLOOKUP($A30,'Data Pass Through'!$A:$D,3,FALSE)","v":0.15959999999999999},{"$f":"$B$4*$B$6","v":60578.036999999997},9668.2547051999991,{"$f":"G30-D30","v":0},0]
["Total Bill on Average IESO Wholesale Market Price (before Taxes)",null,null,{"$f":"SUM(D25:D30)","v":11808.667201299999},null,null,{"$f":"SUM(G25:G30)","v":12474.246701299999},{"$f":"G31-D31","v":665.57949999999983},5.6363642793382067E-2]
["HST",0.13,null,{"$f":"D31*B32","v":1535.126736169},0.13,null,{"$f":"G31*E32","v":1621.6520711689998},{"$f":"G32-D32","v":86.525334999999814},5.6363642793381956E-2]
["Ontario Electricity Rebate (OER)",{"$f":"IF(($B$4*12)<250000,VLOOKUP(A33,'Data Pass Through'!$A$4:$C$19,2,0),0)","v":0},null,{"$f":"D31*B33","v":0},{"$f":"IF(($B$4*12)<250000,VLOOKUP(A33,'Data Pass Through'!$A$4:$C$19,3,0),0)","v":0},null,{"$f":"G31*E33","v":0},{"$f":"G33-D33","v":0},"N/A"]
["Total Bill on Average IESO Wholesale Market Price",null,null,{"$f":"SUM(D31:D33)","v":13343.793937469},null,null,{"$f":"SUM(G31:G33)","v":14095.898772468998},{"$f":"G34-D34","v":752.10483499999827},5.6363642793381949E-2]

{"sheet":"BI_WHSI_USL_Avg","index":45,"n_rows":35,"n_cols":9,"rows_kept":35,"cut":false,"hidden":false,"merged":[[0,0,0,10],[8,0,9,0],[8,1,8,3],[8,4,8,6],[8,7,8,8]]}
["Bill Impacts (Average Consumption Level) - USL-WHSI"]
[]
["Rate Class",{"$f":"RIGHT(A1,LEN(A1)-FIND(\"- \",A1,1)-1)","v":"USL-WHSI"}]
["Monthly Consumption (kWh)",{"$f":"IF(COUNTIF(A1,\"*Low*\")>0,VLOOKUP(B3,'Data Billing Quantities'!$A:$Z,MATCH(\"Low kWh\",'Data Billing Quantities'!4:4,0),FALSE),IF(COUNTIF(A1,\"*Typical*\")>0,VLOOKUP(B3,'Data Billing Quantities'!$A:$Z,MATCH(\"Typical kWh\",'Data Billing Quantities'!4:4,0),FALSE),IF(COUNTIF(A1,\"*Average*\")>0,VLOOKUP(B3,'Data Billing Quantities'!$A:$Z,MATCH(\"Average kWh\",'Data Billing Quantities'!4:4,0),FALSE),IF(COUNTIF(A1,\"*High*\")>0,VLOOKUP(B3,'Data Billing Quantities'!$A:$Z,MATCH(\"High kWh\",'Data Billing Quantities'!4:4,0),FALSE),\"error\"))))","v":1349}]
["Peak (kW)",{"$f":"IF(COUNTIF(A1,\"*Low*\")>0,VLOOKUP(B3,'Data Billing Quantities'!$A:$Z,MATCH(\"Low kW\",'Data Billing Quantities'!4:4,0),FALSE),IF(COUNTIF(A1,\"*Typical*\")>0,VLOOKUP(B3,'Data Billing Quantities'!$A:$Z,MATCH(\"Typical kW\",'Data Billing Quantities'!4:4,0),FALSE),IF(COUNTIF(A1,\"*Average*\")>0,VLOOKUP(B3,'Data Billing Quantities'!$A:$Z,MATCH(\"Average kW\",'Data Billing Quantities'!4:4,0),FALSE),IF(COUNTIF(A1,\"*High*\")>0,VLOOKUP(B3,'Data Billing Quantities'!$A:$Z,MATCH(\"High kW\",'Data Billing Quantities'!4:4,0),FALSE),\"error\"))))","v":0}]
["Loss factor",{"$f":"VLOOKUP(B3,'Data Billing Quantities'!A:D,MATCH(A6,'Data Billing Quantities'!4:4,0),FALSE)","v":1.0920000000000001}]
["Charge determinant",{"$f":"VLOOKUP(B3,'Data Billing Quantities'!A:D,MATCH(A7,'Data Billing Quantities'!4:4,0),FALSE)","v":"kWh"}]
[]
[null,"Current OEB-Approved",null,null,"Proposed",null,null,"Impact"]
[null,"Rate ($)","Volume","Charge ($)","Rate ($)","Volume","Charge ($)","$ Change","% Change"]
["Service Charge",{"$f":"VLOOKUP($B$3,'Data Current Rates'!$A:$AO,MATCH(BI_WHSI_USL_Avg!$A11,CurrentHeader,0),FALSE)","v":38.29},1,{"$f":"B11*C11","v":38.29},{"$f":"VLOOKUP($B$3,'Data Proposed Rates'!$A:$AT,MATCH(BI_WHSI_USL_Avg!$A11,ProposedHeader,0),FALSE)","v":38.29},1,{"$f":"E11*F11","v":38.29},{"$f":"G11-D11","v":0},{"$f":"IF(ISERROR(H11/ABS(D11)),\"N/A\",(H11/ABS(D11)))","v":0}]
["Distribution Volumetric Charge",{"$f":"VLOOKUP($B$3,'Data Current Rates'!$A:$AO,MATCH(BI_WHSI_USL_Avg!$A12,CurrentHeader,0),FALSE)","v":3.3700000000000001E-2},{"$f":"IF($B$7=\"kWh\",$B$4,$B$5)","v":1349},{"$f":"B12*C12","v":45.461300000000001},{"$f":"VLOOKUP($B$3,'Data Proposed Rates'!$A:$AT,MATCH(BI_WHSI_USL_Avg!$A12,ProposedHeader,0),FALSE)","v":3.95E-2},{"$f":"IF($B$7=\"kWh\",$B$4,$B$5)","v":1349},53.285499999999999,7.8241999999999976,0.17210682492581597]
["Group 2 Fixed Rate Rider",{"$f":"VLOOKUP($B$3,'Data Current Rates'!$A:$AO,MATCH(BI_WHSI_USL_Avg!$A13,CurrentHeader,0),FALSE)","v":0},1,{"$f":"B13*C13","v":0},{"$f":"VLOOKUP($B$3,'Data Proposed Rates'!$A:$AT,MATCH(BI_WHSI_USL_Avg!$A13,ProposedHeader,0),FALSE)","v":-1.31},1,-1.31,-1.31,"N/A"]
["Group 2 Volumetric Rate Rider",{"$f":"VLOOKUP($B$3,'Data Current Rates'!$A:$AO,MATCH(BI_WHSI_USL_Avg!$A14,CurrentHeader,0),FALSE)","v":-2.9999999999999997E-4},{"$f":"IF($B$7=\"kWh\",$B$4,$B$5)","v":1349},{"$f":"B14*C14","v":-0.40469999999999995},{"$f":"VLOOKUP($B$3,'Data Proposed Rates'!$A:$AT,MATCH(BI_WHSI_USL_Avg!$A14,ProposedHeader,0),FALSE)","v":-1.4E-3},{"$f":"IF($B$7=\"kWh\",$B$4,$B$5)","v":1349},-1.8886000000000001,-1.4839000000000002,-3.6666666666666679]
["Sub-Total A (excluding pass through)",null,null,{"$f":"SUM(D11:D14)","v":83.346599999999995},null,null,{"$f":"SUM(G11:G14)","v":88.376900000000006},5.0303000000000111,6.0353991644530328E-2]
["Line Losses on Cost of Power",{"$f":"IF($B$4*12>=150000,0,IF($B$4>=750,$B30,$B29))","v":0.14199999999999999},{"$f":"IF($B16=0,0,$B4*$B6-$B4)","v":124.10800000000017},{"$f":"B16*C16","v":17.623336000000023},{"$f":"IF($B$4*12>=150000,0,IF($B$4>=750,$E30,$E29))","v":0.14199999999999999},{"$f":"IF($B16=0,0,$B4*$B6-$B4)","v":124.10800000000017},17.623336000000023,0,0]
["Total Deferral/Variance Account Rate Rider",{"$f":"VLOOKUP($B$3,'Data Current Rates'!$A:$AO,MATCH(BI_WHSI_USL_Avg!$A17,CurrentHeader,0),FALSE)","v":-3.7999999999999996E-3},{"$f":"IF($B$7=\"kWh\",$B$4,$B$5)","v":1349},-5.126199999999999,{"$f":"VLOOKUP($B$3,'Data Proposed Rates'!$A:$AT,MATCH(BI_WHSI_USL_Avg!$A17,ProposedHeader,0),FALSE)","v":-1.5E-3},{"$f":"IF($B$7=\"kWh\",$B$4,$B$5)","v":1349},-2.0234999999999999,3.1026999999999991,0.60526315789473684]
["CBR Class B Rate Rider",{"$f":"VLOOKUP($B$3,'Data Current Rates'!$A:$AO,MATCH(BI_WHSI_USL_Avg!$A18,CurrentHeader,0),FALSE)","v":1E-4},{"$f":"IF($B$7=\"kWh\",$B$4,$B$5)","v":1349},0.13490000000000002,{"$f":"VLOOKUP($B$3,'Data Proposed Rates'!$A:$AT,MATCH(BI_WHSI_USL_Avg!$A18,ProposedHeader,0),FALSE)","v":-5.9999999999999995E-4},{"$f":"IF($B$7=\"kWh\",$B$4,$B$5)","v":1349},-0.8093999999999999,-0.94429999999999992,-6.9999999999999982]
["GA Rate Rider",{"$f":"VLOOKUP($B$3,'Data Current Rates'!$A:$AO,MATCH(BI_WHSI_USL_Avg!$A19,CurrentHeader,0),FALSE)","v":0},{"$f":"IF($B$7=\"kWh\",$B$4,$B$5)","v":1349},0,{"$f":"VLOOKUP($B$3,'Data Proposed Rates'!$A:$AT,MATCH(BI_WHSI_USL_Avg!$A19,ProposedHeader,0),FALSE)","v":0},{"$f":"IF($B$7=\"kWh\",$B$4,$B$5)","v":1349},0,0,"N/A"]
["Rate Rider for Account 1588",null,null,null,{"$f":"VLOOKUP($B$3,'Data Proposed Rates'!$A:$AT,MATCH(BI_WHSI_USL_Avg!$A20,ProposedHeader,0),FALSE)","v":-3.2000000000000002E-3},{"$f":"IF($B$7=\"kWh\",$B$4,$B$5)","v":1349},-4.3168000000000006,-4.3168000000000006,"N/A"]
["Sub-Total B - Distribution (includes Sub-Total A)",null,null,{"$f":"SUM(INDIRECT(\"D15:D\"&ROW()-1))","v":95.978636000000023},null,null,{"$f":"SUM(INDIRECT(\"G15:G\"&ROW()-1))","v":98.850536000000034},2.8719000000000108,2.9922283954941911E-2]
["Retail Transmission Rate – Network Service Rate",{"$f":"VLOOKUP($B$3,'Data Current Rates'!$A:$AO,MATCH(BI_WHSI_USL_Avg!$A22,CurrentHeader,0),FALSE)","v":8.5000000000000006E-3},{"$f":"IF($B$7=\"kWh\",$B$4*$B$6,$B$5)","v":1473.1080000000002},{"$f":"B22*C22","v":12.521418000000002},{"$f":"VLOOKUP($B$3,'Data Proposed Rates'!$A:$AT,MATCH(BI_WHSI_USL_Avg!$A22,ProposedHeader,0),FALSE)","v":8.6999999999999994E-3},{"$f":"IF($B$7=\"kWh\",$B$4*$B$6,$B$5)","v":1473.1080000000002},12.8160396,0.29462159999999749,2.3529411764705677E-2]
["Retail Transmission Rate – Line and Transformation Connection Service Rate",{"$f":"VLOOKUP($B$3,'Data Current Rates'!$A:$AO,MATCH(BI_WHSI_USL_Avg!$A23,CurrentHeader,0),FALSE)","v":6.1999999999999998E-3},{"$f":"IF($B$7=\"kWh\",$B$4*$B$6,$B$5)","v":1473.1080000000002},9.1332696000000002,{"$f":"VLOOKUP($B$3,'Data Proposed Rates'!$A:$AT,MATCH(BI_WHSI_USL_Avg!$A23,ProposedHeader,0),FALSE)","v":6.4000000000000003E-3},{"$f":"IF($B$7=\"kWh\",$B$4*$B$6,$B$5)","v":1473.1080000000002},9.4278912000000012,0.29462160000000104,3.2258064516129142E-2]
["Sub-Total C - Delivery (including Sub-Total B)",null,null,{"$f":"SUM(D21:D23)","v":117.63332360000003},null,null,{"$f":"SUM(G21:G23)","v":121.09446680000003},3.4611432000000093,2.9423152335381338E-2]
["Wholesale Market Service Rate (WMS) – not including CBR",{"$f":"VLOOKUP($A25,'Data Pass Through'!$A:$D,2,FALSE)","v":4.1000000000000003E-3},{"$f":"$B$4*$B$6","v":1473.1080000000002},{"$f":"B25*C25","v":6.0397428000000009},{"$f":"VLOOKUP($A25,'Data Pass Through'!$A:$D,3,FALSE)","v":4.1000000000000003E-3},{"$f":"$B$4*$B$6","v":1473.1080000000002},6.0397428000000009,0,0]
["Capacity Based Recovery (CBR) – Applicable for Class B Customers",{"$f":"VLOOKUP($A26,'Data Pass Through'!$A:$D,2,FALSE)","v":5.9999999999999995E-4},{"$f":"$B$4*$B$6","v":1473.1080000000002},0.88386480000000001,{"$f":"VLOOKUP($A26,'Data Pass Through'!$A:$D,3,FALSE)","v":5.9999999999999995E-4},{"$f":"$B$4*$B$6","v":1473.1080000000002},0.88386480000000001,0,0]
["Rural Rate Protection Charge",{"$f":"VLOOKUP($A27,'Data Pass Through'!$A:$D,2,FALSE)","v":5.9999999999999995E-4},{"$f":"$B$4*$B$6","v":1473.1080000000002},0.88386480000000001,{"$f":"VLOOKUP($A27,'Data Pass Through'!$A:$D,3,FALSE)","v":5.9999999999999995E-4},{"$f":"$B$4*$B$6","v":1473.1080000000002},0.88386480000000001,0,0]
["Standard Supply Service – Administration Charge (if applicable)",{"$f":"VLOOKUP($A28,'Data Pass Through'!$A:$D,2,FALSE)","v":0.25},1,0.25,{"$f":"VLOOKUP($A28,'Data Pass Through'!$A:$D,3,FALSE)","v":0.25},1,0.25,0,0]
["RPP Tier 1",{"$f":"VLOOKUP($A29,'Data Pass Through'!$A:$D,2,FALSE)","v":0.12},{"$f":"IF(($B4*12>=150000),750,IF($B4>=750,750,$B4))","v":750},90,{"$f":"VLOOKUP($A29,'Data Pass Through'!$A:$D,3,FALSE)","v":0.12},{"$f":"IF(($B4*12>=150000),750,IF($B4>=750,750,$B4))","v":750},90,0,0]
["RPP Tier 2",{"$f":"VLOOKUP($A30,'Data Pass Through'!$A:$D,2,FALSE)","v":0.14199999999999999},{"$f":"IF(($B4*12>=150000),($B4*$B6)-750,IF($B4>=750,($B4-750),0))","v":599},85.057999999999993,{"$f":"VLOOKUP($A30,'Data Pass Through'!$A:$D,3,FALSE)","v":0.14199999999999999},{"$f":"IF(($B4*12>=150000),($B4*$B6)-750,IF($B4>=750,($B4-750),0))","v":599},85.057999999999993,0,0]
["Total Bill on Two-Tier RPP (before Taxes)",null,null,{"$f":"SUM(D24:D30)","v":300.74879600000003},null,null,{"$f":"SUM(G24:G30)","v":304.20993920000001},3.4611431999999809,1.1508419139273897E-2]
["HST",0.13,null,{"$f":"D31*B32","v":39.097343480000006},{"$f":"B32","v":0.13},null,{"$f":"G31*E32","v":39.547292096},0.44994861599999325,1.1508419139273786E-2]
["Ontario Electricity Rebate (OER)",{"$f":"IF(($B$4*12)<250000,VLOOKUP(A33,'Data Pass Through'!$A$4:$C$19,2,0),0)","v":-0.23499999999999999},null,{"$f":"D31*B33","v":-70.675967060000005},{"$f":"IF(($B$4*12)<250000,VLOOKUP($A33,'Data Pass Through'!$A$4:$C$19,3,0),0)","v":-0.23499999999999999},null,{"$f":"G31*E33","v":-71.489335711999999},-0.81336865199999409,-1.1508419139273876E-2]
["Total Bill on Two-Tier RPP",null,null,{"$f":"SUM(D31:D33)","v":269.17017242000003},null,null,{"$f":"SUM(G31:G33)","v":272.26789558399997},3.0977231639999445,1.1508419139273753E-2]
["* Distribution rate protection applies to R1 and R2 customers"]

{"sheet":"BI_NPDI_USL_Avg","index":46,"n_rows":35,"n_cols":9,"rows_kept":35,"cut":false,"hidden":false,"merged":[[0,0,0,10],[8,0,9,0],[8,1,8,3],[8,4,8,6],[8,7,8,8]]}
["Bill Impacts (Average Consumption Level) - USL-NPDI"]
[]
["Rate Class",{"$f":"RIGHT(A1,LEN(A1)-FIND(\"- \",A1,1)-1)","v":"USL-NPDI"}]
["Monthly Consumption (kWh)",{"$f":"IF(COUNTIF(A1,\"*Low*\")>0,VLOOKUP(B3,'Data Billing Quantities'!$A:$Z,MATCH(\"Low kWh\",'Data Billing Quantities'!4:4,0),FALSE),IF(COUNTIF(A1,\"*Typical*\")>0,VLOOKUP(B3,'Data Billing Quantities'!$A:$Z,MATCH(\"Typical kWh\",'Data Billing Quantities'!4:4,0),FALSE),IF(COUNTIF(A1,\"*Average*\")>0,VLOOKUP(B3,'Data Billing Quantities'!$A:$Z,MATCH(\"Average kWh\",'Data Billing Quantities'!4:4,0),FALSE),IF(COUNTIF(A1,\"*High*\")>0,VLOOKUP(B3,'Data Billing Quantities'!$A:$Z,MATCH(\"High kWh\",'Data Billing Quantities'!4:4,0),FALSE),\"error\"))))","v":904}]
["Peak (kW)",{"$f":"IF(COUNTIF(A1,\"*Low*\")>0,VLOOKUP(B3,'Data Billing Quantities'!$A:$Z,MATCH(\"Low kW\",'Data Billing Quantities'!4:4,0),FALSE),IF(COUNTIF(A1,\"*Typical*\")>0,VLOOKUP(B3,'Data Billing Quantities'!$A:$Z,MATCH(\"Typical kW\",'Data Billing Quantities'!4:4,0),FALSE),IF(COUNTIF(A1,\"*Average*\")>0,VLOOKUP(B3,'Data Billing Quantities'!$A:$Z,MATCH(\"Average kW\",'Data Billing Quantities'!4:4,0),FALSE),IF(COUNTIF(A1,\"*High*\")>0,VLOOKUP(B3,'Data Billing Quantities'!$A:$Z,MATCH(\"High kW\",'Data Billing Quantities'!4:4,0),FALSE),\"error\"))))","v":0}]
["Loss factor",{"$f":"VLOOKUP(B3,'Data Billing Quantities'!A:D,MATCH(A6,'Data Billing Quantities'!4:4,0),FALSE)","v":1.0920000000000001}]
["Charge determinant",{"$f":"VLOOKUP(B3,'Data Billing Quantities'!A:D,MATCH(A7,'Data Billing Quantities'!4:4,0),FALSE)","v":"kWh"}]
[]
[null,"Current OEB-Approved",null,null,"Proposed",null,null,"Impact"]
[null,"Rate ($)","Volume","Charge ($)","Rate ($)","Volume","Charge ($)","$ Change","% Change"]
["Service Charge",{"$f":"VLOOKUP($B$3,'Data Current Rates'!$A:$AO,MATCH(BI_NPDI_USL_Avg!$A11,CurrentHeader,0),FALSE)","v":38.29},1,{"$f":"B11*C11","v":38.29},{"$f":"VLOOKUP($B$3,'Data Proposed Rates'!$A:$AT,MATCH(BI_NPDI_USL_Avg!$A11,ProposedHeader,0),FALSE)","v":38.29},1,{"$f":"E11*F11","v":38.29},{"$f":"G11-D11","v":0},{"$f":"IF(ISERROR(H11/ABS(D11)),\"N/A\",(H11/ABS(D11)))","v":0}]
["Distribution Volumetric Charge",{"$f":"VLOOKUP($B$3,'Data Current Rates'!$A:$AO,MATCH(BI_NPDI_USL_Avg!$A12,CurrentHeader,0),FALSE)","v":3.3700000000000001E-2},{"$f":"IF($B$7=\"kWh\",$B$4,$B$5)","v":904},{"$f":"B12*C12","v":30.4648},{"$f":"VLOOKUP($B$3,'Data Proposed Rates'!$A:$AT,MATCH(BI_NPDI_USL_Avg!$A12,ProposedHeader,0),FALSE)","v":3.95E-2},{"$f":"IF($B$7=\"kWh\",$B$4,$B$5)","v":904},35.707999999999998,5.2431999999999981,0.17210682492581597]
["Group 2 Fixed Rate Rider",{"$f":"VLOOKUP($B$3,'Data Current Rates'!$A:$AO,MATCH(BI_NPDI_USL_Avg!$A13,CurrentHeader,0),FALSE)","v":0},1,{"$f":"B13*C13","v":0},{"$f":"VLOOKUP($B$3,'Data Proposed Rates'!$A:$AT,MATCH(BI_NPDI_USL_Avg!$A13,ProposedHeader,0),FALSE)","v":-1.31},1,-1.31,-1.31,"N/A"]
["Group 2 Volumetric Rate Rider",{"$f":"VLOOKUP($B$3,'Data Current Rates'!$A:$AO,MATCH(BI_NPDI_USL_Avg!$A14,CurrentHeader,0),FALSE)","v":-8.0000000000000004E-4},{"$f":"IF($B$7=\"kWh\",$B$4,$B$5)","v":904},{"$f":"B14*C14","v":-0.72320000000000007},{"$f":"VLOOKUP($B$3,'Data Proposed Rates'!$A:$AT,MATCH(BI_NPDI_USL_Avg!$A14,ProposedHeader,0),FALSE)","v":-1.4E-3},{"$f":"IF($B$7=\"kWh\",$B$4,$B$5)","v":904},-1.2656000000000001,-0.54239999999999999,-0.74999999999999989]
["Sub-Total A (excluding pass through)",null,null,{"$f":"SUM(D11:D14)","v":68.031599999999997},null,null,{"$f":"SUM(G11:G14)","v":71.422399999999982},3.3907999999999845,4.9841544223566472E-2]
["Line Losses on Cost of Power",{"$f":"IF($B$4*12>=150000,0,IF($B$4>=750,$B30,$B29))","v":0.14199999999999999},{"$f":"IF($B16=0,0,$B4*$B6-$B4)","v":83.16800000000012},{"$f":"B16*C16","v":11.809856000000016},{"$f":"IF($B$4*12>=150000,0,IF($B$4>=750,$E30,$E29))","v":0.14199999999999999},{"$f":"IF($B16=0,0,$B4*$B6-$B4)","v":83.16800000000012},11.809856000000016,0,0]
["Total Deferral/Variance Account Rate Rider",{"$f":"VLOOKUP($B$3,'Data Current Rates'!$A:$AO,MATCH(BI_NPDI_USL_Avg!$A17,CurrentHeader,0),FALSE)","v":-4.3E-3},{"$f":"IF($B$7=\"kWh\",$B$4,$B$5)","v":904},-3.8872,{"$f":"VLOOKUP($B$3,'Data Proposed Rates'!$A:$AT,MATCH(BI_NPDI_USL_Avg!$A17,ProposedHeader,0),FALSE)","v":-1.5E-3},{"$f":"IF($B$7=\"kWh\",$B$4,$B$5)","v":904},-1.3560000000000001,2.5312000000000001,0.65116279069767447]
["CBR Class B Rate Rider",{"$f":"VLOOKUP($B$3,'Data Current Rates'!$A:$AO,MATCH(BI_NPDI_USL_Avg!$A18,CurrentHeader,0),FALSE)","v":1E-4},{"$f":"IF($B$7=\"kWh\",$B$4,$B$5)","v":904},9.0400000000000008E-2,{"$f":"VLOOKUP($B$3,'Data Proposed Rates'!$A:$AT,MATCH(BI_NPDI_USL_Avg!$A18,ProposedHeader,0),FALSE)","v":-5.9999999999999995E-4},{"$f":"IF($B$7=\"kWh\",$B$4,$B$5)","v":904},-0.54239999999999999,-0.63280000000000003,-7]
["GA Rate Rider",{"$f":"VLOOKUP($B$3,'Data Current Rates'!$A:$AO,MATCH(BI_NPDI_USL_Avg!$A19,CurrentHeader,0),FALSE)","v":0},{"$f":"IF($B$7=\"kWh\",$B$4,$B$5)","v":904},0,{"$f":"VLOOKUP($B$3,'Data Proposed Rates'!$A:$AT,MATCH(BI_NPDI_USL_Avg!$A19,ProposedHeader,0),FALSE)","v":0},{"$f":"IF($B$7=\"kWh\",$B$4,$B$5)","v":904},0,0,"N/A"]
["Rate Rider for Account 1588",null,null,null,{"$f":"VLOOKUP($B$3,'Data Proposed Rates'!$A:$AT,MATCH(BI_NPDI_USL_Avg!$A20,ProposedHeader,0),FALSE)","v":-3.2000000000000002E-3},{"$f":"IF($B$7=\"kWh\",$B$4,$B$5)","v":904},-2.8928000000000003,-2.8928000000000003,"N/A"]
["Sub-Total B - Distribution (includes Sub-Total A)",null,null,{"$f":"SUM(INDIRECT(\"D15:D\"&ROW()-1))","v":76.044656000000018},null,null,{"$f":"SUM(INDIRECT(\"G15:G\"&ROW()-1))","v":78.441056000000003},2.3963999999999857,3.1513062535255404E-2]
["Retail Transmission Rate – Network Service Rate",{"$f":"VLOOKUP($B$3,'Data Current Rates'!$A:$AO,MATCH(BI_NPDI_USL_Avg!$A22,CurrentHeader,0),FALSE)","v":8.5000000000000006E-3},{"$f":"IF($B$7=\"kWh\",$B$4*$B$6,$B$5)","v":987.16800000000012},{"$f":"B22*C22","v":8.3909280000000024},{"$f":"VLOOKUP($B$3,'Data Proposed Rates'!$A:$AT,MATCH(BI_NPDI_USL_Avg!$A22,ProposedHeader,0),FALSE)","v":8.6999999999999994E-3},{"$f":"IF($B$7=\"kWh\",$B$4*$B$6,$B$5)","v":987.16800000000012},8.5883616000000007,0.19743359999999832,2.3529411764705677E-2]
["Retail Transmission Rate – Line and Transformation Connection Service Rate",{"$f":"VLOOKUP($B$3,'Data Current Rates'!$A:$AO,MATCH(BI_NPDI_USL_Avg!$A23,CurrentHeader,0),FALSE)","v":6.1999999999999998E-3},{"$f":"IF($B$7=\"kWh\",$B$4*$B$6,$B$5)","v":987.16800000000012},6.1204416000000004,{"$f":"VLOOKUP($B$3,'Data Proposed Rates'!$A:$AT,MATCH(BI_NPDI_USL_Avg!$A23,ProposedHeader,0),FALSE)","v":6.4000000000000003E-3},{"$f":"IF($B$7=\"kWh\",$B$4*$B$6,$B$5)","v":987.16800000000012},6.3178752000000014,0.19743360000000099,3.2258064516129191E-2]
["Sub-Total C - Delivery (including Sub-Total B)",null,null,{"$f":"SUM(D21:D23)","v":90.556025600000027},null,null,{"$f":"SUM(G21:G23)","v":93.347292800000005},2.7912671999999787,3.0823649575009372E-2]
["Wholesale Market Service Rate (WMS) – not including CBR",{"$f":"VLOOKUP($A25,'Data Pass Through'!$A:$D,2,FALSE)","v":4.1000000000000003E-3},{"$f":"$B$4*$B$6","v":987.16800000000012},{"$f":"B25*C25","v":4.0473888000000011},{"$f":"VLOOKUP($A25,'Data Pass Through'!$A:$D,3,FALSE)","v":4.1000000000000003E-3},{"$f":"$B$4*$B$6","v":987.16800000000012},4.0473888000000011,0,0]
["Capacity Based Recovery (CBR) – Applicable for Class B Customers",{"$f":"VLOOKUP($A26,'Data Pass Through'!$A:$D,2,FALSE)","v":5.9999999999999995E-4},{"$f":"$B$4*$B$6","v":987.16800000000012},0.59230080000000007,{"$f":"VLOOKUP($A26,'Data Pass Through'!$A:$D,3,FALSE)","v":5.9999999999999995E-4},{"$f":"$B$4*$B$6","v":987.16800000000012},0.59230080000000007,0,0]
["Rural Rate Protection Charge",{"$f":"VLOOKUP($A27,'Data Pass Through'!$A:$D,2,FALSE)","v":5.9999999999999995E-4},{"$f":"$B$4*$B$6","v":987.16800000000012},0.59230080000000007,{"$f":"VLOOKUP($A27,'Data Pass Through'!$A:$D,3,FALSE)","v":5.9999999999999995E-4},{"$f":"$B$4*$B$6","v":987.16800000000012},0.59230080000000007,0,0]
["Standard Supply Service – Administration Charge (if applicable)",{"$f":"VLOOKUP($A28,'Data Pass Through'!$A:$D,2,FALSE)","v":0.25},1,0.25,{"$f":"VLOOKUP($A28,'Data Pass Through'!$A:$D,3,FALSE)","v":0.25},1,0.25,0,0]
["RPP Tier 1",{"$f":"VLOOKUP($A29,'Data Pass Through'!$A:$D,2,FALSE)","v":0.12},{"$f":"IF(($B4*12>=150000),750,IF($B4>=750,750,$B4))","v":750},90,{"$f":"VLOOKUP($A29,'Data Pass Through'!$A:$D,3,FALSE)","v":0.12},{"$f":"IF(($B4*12>=150000),750,IF($B4>=750,750,$B4))","v":750},90,0,0]
["RPP Tier 2",{"$f":"VLOOKUP($A30,'Data Pass Through'!$A:$D,2,FALSE)","v":0.14199999999999999},{"$f":"IF(($B4*12>=150000),($B4*$B6)-750,IF($B4>=750,($B4-750),0))","v":154},21.867999999999999,{"$f":"VLOOKUP($A30,'Data Pass Through'!$A:$D,3,FALSE)","v":0.14199999999999999},{"$f":"IF(($B4*12>=150000),($B4*$B6)-750,IF($B4>=750,($B4-750),0))","v":154},21.867999999999999,0,0]
["Total Bill on Two-Tier RPP (before Taxes)",null,null,{"$f":"SUM(D24:D30)","v":207.90601600000002},null,null,{"$f":"SUM(G24:G30)","v":210.69728320000002},2.791267199999993,1.3425620160986551E-2]
["HST",0.13,null,{"$f":"D31*B32","v":27.027782080000005},{"$f":"B32","v":0.13},null,{"$f":"G31*E32","v":27.390646816000004},0.3628647359999988,1.3425620160986541E-2]
["Ontario Electricity Rebate (OER)",{"$f":"IF(($B$4*12)<250000,VLOOKUP(A33,'Data Pass Through'!$A$4:$C$19,2,0),0)","v":-0.23499999999999999},null,{"$f":"D31*B33","v":-48.857913760000002},{"$f":"IF(($B$4*12)<250000,VLOOKUP($A33,'Data Pass Through'!$A$4:$C$19,3,0),0)","v":-0.23499999999999999},null,{"$f":"G31*E33","v":-49.513861552000002},-0.6559477919999992,-1.3425620160986571E-2]
["Total Bill on Two-Tier RPP",null,null,{"$f":"SUM(D31:D33)","v":186.07588432000003},null,null,{"$f":"SUM(G31:G33)","v":188.57406846400002},2.4981841439999926,1.3425620160986544E-2]
["* Distribution rate protection applies to R1 and R2 customers"]

{"sheet":"BI_HCHI_USL_Avg","index":47,"n_rows":35,"n_cols":9,"rows_kept":35,"cut":false,"hidden":false,"merged":[[0,0,0,10],[8,0,9,0],[8,1,8,3],[8,4,8,6],[8,7,8,8]]}
["Bill Impacts (Average Consumption Level) - USL-HCHI"]
[]
["Rate Class",{"$f":"RIGHT(A1,LEN(A1)-FIND(\"- \",A1,1)-1)","v":"USL-HCHI"}]
["Monthly Consumption (kWh)",{"$f":"IF(COUNTIF(A1,\"*Low*\")>0,VLOOKUP(B3,'Data Billing Quantities'!$A:$Z,MATCH(\"Low kWh\",'Data Billing Quantities'!4:4,0),FALSE),IF(COUNTIF(A1,\"*Typical*\")>0,VLOOKUP(B3,'Data Billing Quantities'!$A:$Z,MATCH(\"Typical kWh\",'Data Billing Quantities'!4:4,0),FALSE),IF(COUNTIF(A1,\"*Average*\")>0,VLOOKUP(B3,'Data Billing Quantities'!$A:$Z,MATCH(\"Average kWh\",'Data Billing Quantities'!4:4,0),FALSE),IF(COUNTIF(A1,\"*High*\")>0,VLOOKUP(B3,'Data Billing Quantities'!$A:$Z,MATCH(\"High kWh\",'Data Billing Quantities'!4:4,0),FALSE),\"error\"))))","v":471}]
["Peak (kW)",{"$f":"IF(COUNTIF(A1,\"*Low*\")>0,VLOOKUP(B3,'Data Billing Quantities'!$A:$Z,MATCH(\"Low kW\",'Data Billing Quantities'!4:4,0),FALSE),IF(COUNTIF(A1,\"*Typical*\")>0,VLOOKUP(B3,'Data Billing Quantities'!$A:$Z,MATCH(\"Typical kW\",'Data Billing Quantities'!4:4,0),FALSE),IF(COUNTIF(A1,\"*Average*\")>0,VLOOKUP(B3,'Data Billing Quantities'!$A:$Z,MATCH(\"Average kW\",'Data Billing Quantities'!4:4,0),FALSE),IF(COUNTIF(A1,\"*High*\")>0,VLOOKUP(B3,'Data Billing Quantities'!$A:$Z,MATCH(\"High kW\",'Data Billing Quantities'!4:4,0),FALSE),\"error\"))))","v":0}]
["Loss factor",{"$f":"VLOOKUP(B3,'Data Billing Quantities'!A:D,MATCH(A6,'Data Billing Quantities'!4:4,0),FALSE)","v":1.0920000000000001}]
["Charge determinant",{"$f":"VLOOKUP(B3,'Data Billing Quantities'!A:D,MATCH(A7,'Data Billing Quantities'!4:4,0),FALSE)","v":"kWh"}]
[]
[null,"Current OEB-Approved",null,null,"Proposed",null,null,"Impact"]
[null,"Rate ($)","Volume","Charge ($)","Rate ($)","Volume","Charge ($)","$ Change","% Change"]
["Service Charge",{"$f":"VLOOKUP($B$3,'Data Current Rates'!$A:$AO,MATCH(BI_HCHI_USL_Avg!$A11,CurrentHeader,0),FALSE)","v":38.29},1,{"$f":"B11*C11","v":38.29},{"$f":"VLOOKUP($B$3,'Data Proposed Rates'!$A:$AT,MATCH(BI_HCHI_USL_Avg!$A11,ProposedHeader,0),FALSE)","v":38.29},1,{"$f":"E11*F11","v":38.29},{"$f":"G11-D11","v":0},{"$f":"IF(ISERROR(H11/ABS(D11)),\"N/A\",(H11/ABS(D11)))","v":0}]
["Distribution Volumetric Charge",{"$f":"VLOOKUP($B$3,'Data Current Rates'!$A:$AO,MATCH(BI_HCHI_USL_Avg!$A12,CurrentHeader,0),FALSE)","v":3.3700000000000001E-2},{"$f":"IF($B$7=\"kWh\",$B$4,$B$5)","v":471},{"$f":"B12*C12","v":15.8727},{"$f":"VLOOKUP($B$3,'Data Proposed Rates'!$A:$AT,MATCH(BI_HCHI_USL_Avg!$A12,ProposedHeader,0),FALSE)","v":3.95E-2},{"$f":"IF($B$7=\"kWh\",$B$4,$B$5)","v":471},18.604500000000002,2.7318000000000016,0.17210682492581611]
["Group 2 Fixed Rate Rider",{"$f":"VLOOKUP($B$3,'Data Current Rates'!$A:$AO,MATCH(BI_HCHI_USL_Avg!$A13,CurrentHeader,0),FALSE)","v":0},1,{"$f":"B13*C13","v":0},{"$f":"VLOOKUP($B$3,'Data Proposed Rates'!$A:$AT,MATCH(BI_HCHI_USL_Avg!$A13,ProposedHeader,0),FALSE)","v":-1.31},1,-1.31,-1.31,"N/A"]
["Group 2 Volumetric Rate Rider",{"$f":"VLOOKUP($B$3,'Data Current Rates'!$A:$AO,MATCH(BI_HCHI_USL_Avg!$A14,CurrentHeader,0),FALSE)","v":-6.9999999999999999E-4},{"$f":"IF($B$7=\"kWh\",$B$4,$B$5)","v":471},{"$f":"B14*C14","v":-0.32969999999999999},{"$f":"VLOOKUP($B$3,'Data Proposed Rates'!$A:$AT,MATCH(BI_HCHI_USL_Avg!$A14,ProposedHeader,0),FALSE)","v":-1.4E-3},{"$f":"IF($B$7=\"kWh\",$B$4,$B$5)","v":471},-0.65939999999999999,-0.32969999999999999,-1]
["Sub-Total A (excluding pass through)",null,null,{"$f":"SUM(D11:D14)","v":53.832999999999998},null,null,{"$f":"SUM(G11:G14)","v":54.9251},1.0921000000000021,2.0286812921442278E-2]
["Line Losses on Cost of Power",{"$f":"IF($B$4*12>=150000,0,IF($B$4>=750,$B30,$B29))","v":0.12},{"$f":"IF($B16=0,0,$B4*$B6-$B4)","v":43.331999999999994},{"$f":"B16*C16","v":5.1998399999999991},{"$f":"IF($B$4*12>=150000,0,IF($B$4>=750,$E30,$E29))","v":0.12},{"$f":"IF($B16=0,0,$B4*$B6-$B4)","v":43.331999999999994},5.1998399999999991,0,0]
["Total Deferral/Variance Account Rate Rider",{"$f":"VLOOKUP($B$3,'Data Current Rates'!$A:$AO,MATCH(BI_HCHI_USL_Avg!$A17,CurrentHeader,0),FALSE)","v":-3.5999999999999999E-3},{"$f":"IF($B$7=\"kWh\",$B$4,$B$5)","v":471},-1.6956,{"$f":"VLOOKUP($B$3,'Data Proposed Rates'!$A:$AT,MATCH(BI_HCHI_USL_Avg!$A17,ProposedHeader,0),FALSE)","v":-1.5E-3},{"$f":"IF($B$7=\"kWh\",$B$4,$B$5)","v":471},-0.70650000000000002,0.98909999999999998,0.58333333333333337]
["CBR Class B Rate Rider",{"$f":"VLOOKUP($B$3,'Data Current Rates'!$A:$AO,MATCH(BI_HCHI_USL_Avg!$A18,CurrentHeader,0),FALSE)","v":1E-4},{"$f":"IF($B$7=\"kWh\",$B$4,$B$5)","v":471},4.7100000000000003E-2,{"$f":"VLOOKUP($B$3,'Data Proposed Rates'!$A:$AT,MATCH(BI_HCHI_USL_Avg!$A18,ProposedHeader,0),FALSE)","v":-5.9999999999999995E-4},{"$f":"IF($B$7=\"kWh\",$B$4,$B$5)","v":471},-0.28259999999999996,-0.32969999999999999,-6.9999999999999991]
["GA Rate Rider",{"$f":"VLOOKUP($B$3,'Data Current Rates'!$A:$AO,MATCH(BI_HCHI_USL_Avg!$A19,CurrentHeader,0),FALSE)","v":0},{"$f":"IF($B$7=\"kWh\",$B$4,$B$5)","v":471},0,{"$f":"VLOOKUP($B$3,'Data Proposed Rates'!$A:$AT,MATCH(BI_HCHI_USL_Avg!$A19,ProposedHeader,0),FALSE)","v":0},{"$f":"IF($B$7=\"kWh\",$B$4,$B$5)","v":471},0,0,"N/A"]
["Rate Rider for Account 1588",null,null,null,{"$f":"VLOOKUP($B$3,'Data Proposed Rates'!$A:$AT,MATCH(BI_HCHI_USL_Avg!$A20,ProposedHeader,0),FALSE)","v":-3.2000000000000002E-3},{"$f":"IF($B$7=\"kWh\",$B$4,$B$5)","v":471},-1.5072000000000001,-1.5072000000000001,"N/A"]
["Sub-Total B - Distribution (includes Sub-Total A)",null,null,{"$f":"SUM(INDIRECT(\"D15:D\"&ROW()-1))","v":57.384340000000002},null,null,{"$f":"SUM(INDIRECT(\"G15:G\"&ROW()-1))","v":57.628640000000004},0.24430000000000263,4.257259036176117E-3]
["Retail Transmission Rate – Network Service Rate",{"$f":"VLOOKUP($B$3,'Data Current Rates'!$A:$AO,MATCH(BI_HCHI_USL_Avg!$A22,CurrentHeader,0),FALSE)","v":8.5000000000000006E-3},{"$f":"IF($B$7=\"kWh\",$B$4*$B$6,$B$5)","v":514.33199999999999},{"$f":"B22*C22","v":4.3718219999999999},{"$f":"VLOOKUP($B$3,'Data Proposed Rates'!$A:$AT,MATCH(BI_HCHI_USL_Avg!$A22,ProposedHeader,0),FALSE)","v":8.6999999999999994E-3},{"$f":"IF($B$7=\"kWh\",$B$4*$B$6,$B$5)","v":514.33199999999999},4.4746883999999998,0.10286639999999991,2.3529411764705865E-2]
["Retail Transmission Rate – Line and Transformation Connection Service Rate",{"$f":"VLOOKUP($B$3,'Data Current Rates'!$A:$AO,MATCH(BI_HCHI_USL_Avg!$A23,CurrentHeader,0),FALSE)","v":6.1999999999999998E-3},{"$f":"IF($B$7=\"kWh\",$B$4*$B$6,$B$5)","v":514.33199999999999},3.1888584,{"$f":"VLOOKUP($B$3,'Data Proposed Rates'!$A:$AT,MATCH(BI_HCHI_USL_Avg!$A23,ProposedHeader,0),FALSE)","v":6.4000000000000003E-3},{"$f":"IF($B$7=\"kWh\",$B$4*$B$6,$B$5)","v":514.33199999999999},3.2917247999999999,0.10286639999999991,3.2258064516129004E-2]
["Sub-Total C - Delivery (including Sub-Total B)",null,null,{"$f":"SUM(D21:D23)","v":64.945020400000004},null,null,{"$f":"SUM(G21:G23)","v":65.395053200000007},0.45003280000000245,6.9294427383073459E-3]
["Wholesale Market Service Rate (WMS) – not including CBR",{"$f":"VLOOKUP($A25,'Data Pass Through'!$A:$D,2,FALSE)","v":4.1000000000000003E-3},{"$f":"$B$4*$B$6","v":514.33199999999999},{"$f":"B25*C25","v":2.1087612},{"$f":"VLOOKUP($A25,'Data Pass Through'!$A:$D,3,FALSE)","v":4.1000000000000003E-3},{"$f":"$B$4*$B$6","v":514.33199999999999},2.1087612,0,0]
["Capacity Based Recovery (CBR) – Applicable for Class B Customers",{"$f":"VLOOKUP($A26,'Data Pass Through'!$A:$D,2,FALSE)","v":5.9999999999999995E-4},{"$f":"$B$4*$B$6","v":514.33199999999999},0.30859919999999996,{"$f":"VLOOKUP($A26,'Data Pass Through'!$A:$D,3,FALSE)","v":5.9999999999999995E-4},{"$f":"$B$4*$B$6","v":514.33199999999999},0.30859919999999996,0,0]
["Rural Rate Protection Charge",{"$f":"VLOOKUP($A27,'Data Pass Through'!$A:$D,2,FALSE)","v":5.9999999999999995E-4},{"$f":"$B$4*$B$6","v":514.33199999999999},0.30859919999999996,{"$f":"VLOOKUP($A27,'Data Pass Through'!$A:$D,3,FALSE)","v":5.9999999999999995E-4},{"$f":"$B$4*$B$6","v":514.33199999999999},0.30859919999999996,0,0]
["Standard Supply Service – Administration Charge (if applicable)",{"$f":"VLOOKUP($A28,'Data Pass Through'!$A:$D,2,FALSE)","v":0.25},1,0.25,{"$f":"VLOOKUP($A28,'Data Pass Through'!$A:$D,3,FALSE)","v":0.25},1,0.25,0,0]
["RPP Tier 1",{"$f":"VLOOKUP($A29,'Data Pass Through'!$A:$D,2,FALSE)","v":0.12},{"$f":"IF(($B4*12>=150000),750,IF($B4>=750,750,$B4))","v":471},56.519999999999996,{"$f":"VLOOKUP($A29,'Data Pass Through'!$A:$D,3,FALSE)","v":0.12},{"$f":"IF(($B4*12>=150000),750,IF($B4>=750,750,$B4))","v":471},56.519999999999996,0,0]
["RPP Tier 2",{"$f":"VLOOKUP($A30,'Data Pass Through'!$A:$D,2,FALSE)","v":0.14199999999999999},{"$f":"IF(($B4*12>=150000),($B4*$B6)-750,IF($B4>=750,($B4-750),0))","v":0},0,{"$f":"VLOOKUP($A30,'Data Pass Through'!$A:$D,3,FALSE)","v":0.14199999999999999},{"$f":"IF(($B4*12>=150000),($B4*$B6)-750,IF($B4>=750,($B4-750),0))","v":0},0,0,"N/A"]
["Total Bill on Two-Tier RPP (before Taxes)",null,null,{"$f":"SUM(D24:D30)","v":124.44098000000001},null,null,{"$f":"SUM(G24:G30)","v":124.89101280000001},0.45003280000000245,3.6164356789861541E-3]
["HST",0.13,null,{"$f":"D31*B32","v":16.177327400000003},{"$f":"B32","v":0.13},null,{"$f":"G31*E32","v":16.235831664000003},5.850426399999975E-2,3.6164356789861185E-3]
["Ontario Electricity Rebate (OER)",{"$f":"IF(($B$4*12)<250000,VLOOKUP(A33,'Data Pass Through'!$A$4:$C$19,2,0),0)","v":-0.23499999999999999},null,{"$f":"D31*B33","v":-29.2436303},{"$f":"IF(($B$4*12)<250000,VLOOKUP($A33,'Data Pass Through'!$A$4:$C$19,3,0),0)","v":-0.23499999999999999},null,{"$f":"G31*E33","v":-29.349388008000002},-0.10575770800000228,-3.6164356789862126E-3]
["Total Bill on Two-Tier RPP",null,null,{"$f":"SUM(D31:D33)","v":111.37467710000001},null,null,{"$f":"SUM(G31:G33)","v":111.77745645600001},0.40277935599999637,3.6164356789861016E-3]
["* Distribution rate protection applies to R1 and R2 customers"]

{"sheet":"BI_WHSI_StLgt_Avg","index":48,"n_rows":35,"n_cols":9,"rows_kept":35,"cut":false,"hidden":false,"merged":[[0,0,0,10],[8,0,9,0],[8,1,8,3],[8,4,8,6],[8,7,8,8]]}
["Bill Impacts (Average Consumption Level) - St Lgt-WHSI"]
[]
["Rate Class",{"$f":"RIGHT(A1,LEN(A1)-FIND(\"- \",A1,1)-1)","v":"St Lgt-WHSI"}]
["Monthly Consumption (kWh)",{"$f":"IF(COUNTIF(A1,\"*Low*\")>0,VLOOKUP(B3,'Data Billing Quantities'!$A:$Z,MATCH(\"Low kWh\",'Data Billing Quantities'!4:4,0),FALSE),IF(COUNTIF(A1,\"*Typical*\")>0,VLOOKUP(B3,'Data Billing Quantities'!$A:$Z,MATCH(\"Typical kWh\",'Data Billing Quantities'!4:4,0),FALSE),IF(COUNTIF(A1,\"*Average*\")>0,VLOOKUP(B3,'Data Billing Quantities'!$A:$Z,MATCH(\"Average kWh\",'Data Billing Quantities'!4:4,0),FALSE),IF(COUNTIF(A1,\"*High*\")>0,VLOOKUP(B3,'Data Billing Quantities'!$A:$Z,MATCH(\"High kWh\",'Data Billing Quantities'!4:4,0),FALSE),\"error\"))))","v":37079}]
["Peak (kW)",{"$f":"IF(COUNTIF(A1,\"*Low*\")>0,VLOOKUP(B3,'Data Billing Quantities'!$A:$Z,MATCH(\"Low kW\",'Data Billing Quantities'!4:4,0),FALSE),IF(COUNTIF(A1,\"*Typical*\")>0,VLOOKUP(B3,'Data Billing Quantities'!$A:$Z,MATCH(\"Typical kW\",'Data Billing Quantities'!4:4,0),FALSE),IF(COUNTIF(A1,\"*Average*\")>0,VLOOKUP(B3,'Data Billing Quantities'!$A:$Z,MATCH(\"Average kW\",'Data Billing Quantities'!4:4,0),FALSE),IF(COUNTIF(A1,\"*High*\")>0,VLOOKUP(B3,'Data Billing Quantities'!$A:$Z,MATCH(\"High kW\",'Data Billing Quantities'!4:4,0),FALSE),\"error\"))))","v":104}]
["Loss factor",{"$f":"VLOOKUP(B3,'Data Billing Quantities'!A:D,MATCH(A6,'Data Billing Quantities'!4:4,0),FALSE)","v":1.0920000000000001}]
["Charge determinant",{"$f":"VLOOKUP(B3,'Data Billing Quantities'!A:D,MATCH(A7,'Data Billing Quantities'!4:4,0),FALSE)","v":"kWh"}]
[]
[null,"Current OEB-Approved",null,null,"Proposed",null,null,"Impact"]
[null,"Rate ($)","Volume","Charge ($)","Rate ($)","Volume","Charge ($)","$ Change","% Change"]
["Service Charge",{"$f":"VLOOKUP($B$3,'Data Current Rates'!$A:$AO,MATCH(BI_WHSI_StLgt_Avg!$A11,CurrentHeader,0),FALSE)","v":3.31},1,{"$f":"B11*C11","v":3.31},{"$f":"VLOOKUP($B$3,'Data Proposed Rates'!$A:$AT,MATCH(BI_WHSI_StLgt_Avg!$A11,ProposedHeader,0),FALSE)","v":3.42},1,{"$f":"E11*F11","v":3.42},{"$f":"G11-D11","v":0.10999999999999988},{"$f":"IF(ISERROR(H11/ABS(D11)),\"N/A\",(H11/ABS(D11)))","v":3.32326283987915E-2}]
["Distribution Volumetric Charge",{"$f":"VLOOKUP($B$3,'Data Current Rates'!$A:$AO,MATCH(BI_WHSI_StLgt_Avg!$A12,CurrentHeader,0),FALSE)","v":0.1235},{"$f":"IF($B$7=\"kWh\",$B$4,$B$5)","v":37079},{"$f":"B12*C12","v":4579.2564999999995},{"$f":"VLOOKUP($B$3,'Data Proposed Rates'!$A:$AT,MATCH(BI_WHSI_StLgt_Avg!$A12,ProposedHeader,0),FALSE)","v":0.12970000000000001},{"$f":"IF($B$7=\"kWh\",$B$4,$B$5)","v":37079},4809.1463000000003,229.88980000000083,5.0202429149797757E-2]
["Group 2 Fixed Rate Rider",{"$f":"VLOOKUP($B$3,'Data Current Rates'!$A:$AO,MATCH(BI_WHSI_StLgt_Avg!$A13,CurrentHeader,0),FALSE)","v":0},1,{"$f":"B13*C13","v":0},{"$f":"VLOOKUP($B$3,'Data Proposed Rates'!$A:$AT,MATCH(BI_WHSI_StLgt_Avg!$A13,ProposedHeader,0),FALSE)","v":-0.12},1,-0.12,-0.12,"N/A"]
["Group 2 Volumetric Rate Rider",{"$f":"VLOOKUP($B$3,'Data Current Rates'!$A:$AO,MATCH(BI_WHSI_StLgt_Avg!$A14,CurrentHeader,0),FALSE)","v":-1.2999999999999999E-3},{"$f":"IF($B$7=\"kWh\",$B$4,$B$5)","v":37079},{"$f":"B14*C14","v":-48.2027},{"$f":"VLOOKUP($B$3,'Data Proposed Rates'!$A:$AT,MATCH(BI_WHSI_StLgt_Avg!$A14,ProposedHeader,0),FALSE)","v":-4.4000000000000003E-3},{"$f":"IF($B$7=\"kWh\",$B$4,$B$5)","v":37079},-163.14760000000001,-114.94490000000002,-2.384615384615385]
["Sub-Total A (excluding pass through)",null,null,{"$f":"SUM(D11:D14)","v":4534.3638000000001},null,null,{"$f":"SUM(G11:G14)","v":4649.2987000000003},114.9349000000002,2.5347525048607746E-2]
["Line Losses on Cost of Power",{"$f":"IF($B$4*12>=150000,0,IF($B$4>=750,$B30,$B29))","v":0},{"$f":"IF($B16=0,0,$B4*$B6-$B4)","v":0},{"$f":"B16*C16","v":0},{"$f":"IF($B$4*12>=150000,0,IF($B$4>=750,$E30,$E29))","v":0},{"$f":"IF($B16=0,0,$B4*$B6-$B4)","v":0},0,0,"N/A"]
["Total Deferral/Variance Account Rate Rider",{"$f":"VLOOKUP($B$3,'Data Current Rates'!$A:$AO,MATCH(BI_WHSI_StLgt_Avg!$A17,CurrentHeader,0),FALSE)","v":-3.4999999999999996E-3},{"$f":"IF($B$7=\"kWh\",$B$4,$B$5)","v":37079},-129.7765,{"$f":"VLOOKUP($B$3,'Data Proposed Rates'!$A:$AT,MATCH(BI_WHSI_StLgt_Avg!$A17,ProposedHeader,0),FALSE)","v":-1.8E-3},{"$f":"IF($B$7=\"kWh\",$B$4,$B$5)","v":37079},-66.742199999999997,63.034300000000002,0.48571428571428571]
["CBR Class B Rate Rider",{"$f":"VLOOKUP($B$3,'Data Current Rates'!$A:$AO,MATCH(BI_WHSI_StLgt_Avg!$A18,CurrentHeader,0),FALSE)","v":1E-4},{"$f":"IF($B$7=\"kWh\",$B$4,$B$5)","v":37079},3.7079,{"$f":"VLOOKUP($B$3,'Data Proposed Rates'!$A:$AT,MATCH(BI_WHSI_StLgt_Avg!$A18,ProposedHeader,0),FALSE)","v":-5.9999999999999995E-4},{"$f":"IF($B$7=\"kWh\",$B$4,$B$5)","v":37079},-22.247399999999999,-25.955299999999998,-6.9999999999999991]
["GA Rate Rider",{"$f":"VLOOKUP($B$3,'Data Current Rates'!$A:$AO,MATCH(BI_WHSI_StLgt_Avg!$A19,CurrentHeader,0),FALSE)","v":0},{"$f":"IF($B$7=\"kWh\",$B$4,$B$5)","v":37079},0,{"$f":"VLOOKUP($B$3,'Data Proposed Rates'!$A:$AT,MATCH(BI_WHSI_StLgt_Avg!$A19,ProposedHeader,0),FALSE)","v":0},{"$f":"IF($B$7=\"kWh\",$B$4,$B$5)","v":37079},0,0,"N/A"]
["Rate Rider for Account 1588",null,null,null,{"$f":"VLOOKUP($B$3,'Data Proposed Rates'!$A:$AT,MATCH(BI_WHSI_StLgt_Avg!$A20,ProposedHeader,0),FALSE)","v":-3.2000000000000002E-3},{"$f":"IF($B$7=\"kWh\",$B$4,$B$5)","v":37079},-118.6528,-118.6528,"N/A"]
["Sub-Total B - Distribution (includes Sub-Total A)",null,null,{"$f":"SUM(INDIRECT(\"D15:D\"&ROW()-1))","v":4408.2952000000005},null,null,{"$f":"SUM(INDIRECT(\"G15:G\"&ROW()-1))","v":4441.6563000000006},33.361100000000079,7.567800813339378E-3]
["Retail Transmission Rate – Network Service Rate",{"$f":"VLOOKUP($B$3,'Data Current Rates'!$A:$AO,MATCH(BI_WHSI_StLgt_Avg!$A22,CurrentHeader,0),FALSE)","v":7.4000000000000003E-3},{"$f":"IF($B$7=\"kWh\",$B$4*$B$6,$B$5)","v":40490.268000000004},{"$f":"B22*C22","v":299.62798320000002},{"$f":"VLOOKUP($B$3,'Data Proposed Rates'!$A:$AT,MATCH(BI_WHSI_StLgt_Avg!$A22,ProposedHeader,0),FALSE)","v":7.6E-3},{"$f":"IF($B$7=\"kWh\",$B$4*$B$6,$B$5)","v":40490.268000000004},307.72603680000003,8.0980536000000143,2.7027027027027074E-2]
["Retail Transmission Rate – Line and Transformation Connection Service Rate",{"$f":"VLOOKUP($B$3,'Data Current Rates'!$A:$AO,MATCH(BI_WHSI_StLgt_Avg!$A23,CurrentHeader,0),FALSE)","v":5.7000000000000002E-3},{"$f":"IF($B$7=\"kWh\",$B$4*$B$6,$B$5)","v":40490.268000000004},230.79452760000004,{"$f":"VLOOKUP($B$3,'Data Proposed Rates'!$A:$AT,MATCH(BI_WHSI_StLgt_Avg!$A23,ProposedHeader,0),FALSE)","v":5.7999999999999996E-3},{"$f":"IF($B$7=\"kWh\",$B$4*$B$6,$B$5)","v":40490.268000000004},234.84355440000002,4.0490267999999787,1.7543859649122712E-2]
["Sub-Total C - Delivery (including Sub-Total B)",null,null,{"$f":"SUM(D21:D23)","v":4938.7177108000005},null,null,{"$f":"SUM(G21:G23)","v":4984.2258912000007},45.508180400000128,9.2145741192056242E-3]
["Wholesale Market Service Rate (WMS) – not including CBR",{"$f":"VLOOKUP($A25,'Data Pass Through'!$A:$D,2,FALSE)","v":4.1000000000000003E-3},{"$f":"$B$4*$B$6","v":40490.268000000004},{"$f":"B25*C25","v":166.01009880000004},{"$f":"VLOOKUP($A25,'Data Pass Through'!$A:$D,3,FALSE)","v":4.1000000000000003E-3},{"$f":"$B$4*$B$6","v":40490.268000000004},166.01009880000004,0,0]
["Capacity Based Recovery (CBR) – Applicable for Class B Customers",{"$f":"VLOOKUP($A26,'Data Pass Through'!$A:$D,2,FALSE)","v":5.9999999999999995E-4},{"$f":"$B$4*$B$6","v":40490.268000000004},24.2941608,{"$f":"VLOOKUP($A26,'Data Pass Through'!$A:$D,3,FALSE)","v":5.9999999999999995E-4},{"$f":"$B$4*$B$6","v":40490.268000000004},24.2941608,0,0]
["Rural Rate Protection Charge",{"$f":"VLOOKUP($A27,'Data Pass Through'!$A:$D,2,FALSE)","v":5.9999999999999995E-4},{"$f":"$B$4*$B$6","v":40490.268000000004},24.2941608,{"$f":"VLOOKUP($A27,'Data Pass Through'!$A:$D,3,FALSE)","v":5.9999999999999995E-4},{"$f":"$B$4*$B$6","v":40490.268000000004},24.2941608,0,0]
["Standard Supply Service – Administration Charge (if applicable)",{"$f":"VLOOKUP($A28,'Data Pass Through'!$A:$D,2,FALSE)","v":0.25},1,0.25,{"$f":"VLOOKUP($A28,'Data Pass Through'!$A:$D,3,FALSE)","v":0.25},1,0.25,0,0]
["RPP Tier 1",{"$f":"VLOOKUP($A29,'Data Pass Through'!$A:$D,2,FALSE)","v":0.12},{"$f":"IF(($B4*12>=150000),750,IF($B4>=750,750,$B4))","v":750},90,{"$f":"VLOOKUP($A29,'Data Pass Through'!$A:$D,3,FALSE)","v":0.12},{"$f":"IF(($B4*12>=150000),750,IF($B4>=750,750,$B4))","v":750},90,0,0]
["RPP Tier 2",{"$f":"VLOOKUP($A30,'Data Pass Through'!$A:$D,2,FALSE)","v":0.14199999999999999},{"$f":"IF(($B4*12>=150000),($B4*$B6)-750,IF($B4>=750,($B4-750),0))","v":39740.268000000004},5643.1180560000003,{"$f":"VLOOKUP($A30,'Data Pass Through'!$A:$D,3,FALSE)","v":0.14199999999999999},{"$f":"IF(($B4*12>=150000),($B4*$B6)-750,IF($B4>=750,($B4-750),0))","v":39740.268000000004},5643.1180560000003,0,0]
["Total Bill on Two-Tier RPP (before Taxes)",null,null,{"$f":"SUM(D24:D30)","v":10886.6841872},null,null,{"$f":"SUM(G24:G30)","v":10932.192367600001},45.508180400000128,4.180169059510911E-3]
["HST",0.13,null,{"$f":"D31*B32","v":1415.268944336},{"$f":"B32","v":0.13},null,{"$f":"G31*E32","v":1421.1850077880001},5.9160634520001167,4.1801690595109813E-3]
["Ontario Electricity Rebate (OER)",{"$f":"IF(($B$4*12)<250000,VLOOKUP(A33,'Data Pass Through'!$A$4:$C$19,2,0),0)","v":0},null,{"$f":"D31*B33","v":0},{"$f":"IF(($B$4*12)<250000,VLOOKUP($A33,'Data Pass Through'!$A$4:$C$19,3,0),0)","v":0},null,{"$f":"G31*E33","v":0},0,"N/A"]
["Total Bill on Two-Tier RPP",null,null,{"$f":"SUM(D31:D33)","v":12301.953131536},null,null,{"$f":"SUM(G31:G33)","v":12353.377375388001},51.424243852001382,4.1801690595110116E-3]
["* Distribution rate protection applies to R1 and R2 customers"]

{"sheet":"BI_NPDI_StLgt_Avg","index":49,"n_rows":35,"n_cols":9,"rows_kept":35,"cut":false,"hidden":false,"merged":[[0,0,0,10],[8,0,9,0],[8,1,8,3],[8,4,8,6],[8,7,8,8]]}
["Bill Impacts (Average Consumption Level) - St Lgt-NPDI"]
[]
["Rate Class",{"$f":"RIGHT(A1,LEN(A1)-FIND(\"- \",A1,1)-1)","v":"St Lgt-NPDI"}]
["Monthly Consumption (kWh)",{"$f":"IF(COUNTIF(A1,\"*Low*\")>0,VLOOKUP(B3,'Data Billing Quantities'!$A:$Z,MATCH(\"Low kWh\",'Data Billing Quantities'!4:4,0),FALSE),IF(COUNTIF(A1,\"*Typical*\")>0,VLOOKUP(B3,'Data Billing Quantities'!$A:$Z,MATCH(\"Typical kWh\",'Data Billing Quantities'!4:4,0),FALSE),IF(COUNTIF(A1,\"*Average*\")>0,VLOOKUP(B3,'Data Billing Quantities'!$A:$Z,MATCH(\"Average kWh\",'Data Billing Quantities'!4:4,0),FALSE),IF(COUNTIF(A1,\"*High*\")>0,VLOOKUP(B3,'Data Billing Quantities'!$A:$Z,MATCH(\"High kWh\",'Data Billing Quantities'!4:4,0),FALSE),\"error\"))))","v":11389}]
["Peak (kW)",{"$f":"IF(COUNTIF(A1,\"*Low*\")>0,VLOOKUP(B3,'Data Billing Quantities'!$A:$Z,MATCH(\"Low kW\",'Data Billing Quantities'!4:4,0),FALSE),IF(COUNTIF(A1,\"*Typical*\")>0,VLOOKUP(B3,'Data Billing Quantities'!$A:$Z,MATCH(\"Typical kW\",'Data Billing Quantities'!4:4,0),FALSE),IF(COUNTIF(A1,\"*Average*\")>0,VLOOKUP(B3,'Data Billing Quantities'!$A:$Z,MATCH(\"Average kW\",'Data Billing Quantities'!4:4,0),FALSE),IF(COUNTIF(A1,\"*High*\")>0,VLOOKUP(B3,'Data Billing Quantities'!$A:$Z,MATCH(\"High kW\",'Data Billing Quantities'!4:4,0),FALSE),\"error\"))))","v":39}]
["Loss factor",{"$f":"VLOOKUP(B3,'Data Billing Quantities'!A:D,MATCH(A6,'Data Billing Quantities'!4:4,0),FALSE)","v":1.0920000000000001}]
["Charge determinant",{"$f":"VLOOKUP(B3,'Data Billing Quantities'!A:D,MATCH(A7,'Data Billing Quantities'!4:4,0),FALSE)","v":"kWh"}]
[]
[null,"Current OEB-Approved",null,null,"Proposed",null,null,"Impact"]
[null,"Rate ($)","Volume","Charge ($)","Rate ($)","Volume","Charge ($)","$ Change","% Change"]
["Service Charge",{"$f":"VLOOKUP($B$3,'Data Current Rates'!$A:$AO,MATCH(BI_NPDI_StLgt_Avg!$A11,CurrentHeader,0),FALSE)","v":3.31},1,{"$f":"B11*C11","v":3.31},{"$f":"VLOOKUP($B$3,'Data Proposed Rates'!$A:$AT,MATCH(BI_NPDI_StLgt_Avg!$A11,ProposedHeader,0),FALSE)","v":3.42},1,{"$f":"E11*F11","v":3.42},{"$f":"G11-D11","v":0.10999999999999988},{"$f":"IF(ISERROR(H11/ABS(D11)),\"N/A\",(H11/ABS(D11)))","v":3.32326283987915E-2}]
["Distribution Volumetric Charge",{"$f":"VLOOKUP($B$3,'Data Current Rates'!$A:$AO,MATCH(BI_NPDI_StLgt_Avg!$A12,CurrentHeader,0),FALSE)","v":0.1235},{"$f":"IF($B$7=\"kWh\",$B$4,$B$5)","v":11389},{"$f":"B12*C12","v":1406.5415},{"$f":"VLOOKUP($B$3,'Data Proposed Rates'!$A:$AT,MATCH(BI_NPDI_StLgt_Avg!$A12,ProposedHeader,0),FALSE)","v":0.12970000000000001},{"$f":"IF($B$7=\"kWh\",$B$4,$B$5)","v":11389},1477.1533000000002,70.61180000000013,5.020242914979766E-2]
["Group 2 Fixed Rate Rider",{"$f":"VLOOKUP($B$3,'Data Current Rates'!$A:$AO,MATCH(BI_NPDI_StLgt_Avg!$A13,CurrentHeader,0),FALSE)","v":0},1,{"$f":"B13*C13","v":0},{"$f":"VLOOKUP($B$3,'Data Proposed Rates'!$A:$AT,MATCH(BI_NPDI_StLgt_Avg!$A13,ProposedHeader,0),FALSE)","v":-0.12},1,-0.12,-0.12,"N/A"]
["Group 2 Volumetric Rate Rider",{"$f":"VLOOKUP($B$3,'Data Current Rates'!$A:$AO,MATCH(BI_NPDI_StLgt_Avg!$A14,CurrentHeader,0),FALSE)","v":-1.1000000000000001E-3},{"$f":"IF($B$7=\"kWh\",$B$4,$B$5)","v":11389},{"$f":"B14*C14","v":-12.527900000000001},{"$f":"VLOOKUP($B$3,'Data Proposed Rates'!$A:$AT,MATCH(BI_NPDI_StLgt_Avg!$A14,ProposedHeader,0),FALSE)","v":-4.4000000000000003E-3},{"$f":"IF($B$7=\"kWh\",$B$4,$B$5)","v":11389},-50.111600000000003,-37.5837,-3]
["Sub-Total A (excluding pass through)",null,null,{"$f":"SUM(D11:D14)","v":1397.3235999999999},null,null,{"$f":"SUM(G11:G14)","v":1430.3417000000004},33.018100000000459,2.3629530053024553E-2]
["Line Losses on Cost of Power",{"$f":"IF($B$4*12>=150000,0,IF($B$4>=750,$B30,$B29))","v":0.14199999999999999},{"$f":"IF($B16=0,0,$B4*$B6-$B4)","v":1047.7880000000005},{"$f":"B16*C16","v":148.78589600000006},{"$f":"IF($B$4*12>=150000,0,IF($B$4>=750,$E30,$E29))","v":0.14199999999999999},{"$f":"IF($B16=0,0,$B4*$B6-$B4)","v":1047.7880000000005},148.78589600000006,0,0]
["Total Deferral/Variance Account Rate Rider",{"$f":"VLOOKUP($B$3,'Data Current Rates'!$A:$AO,MATCH(BI_NPDI_StLgt_Avg!$A17,CurrentHeader,0),FALSE)","v":-4.0000000000000001E-3},{"$f":"IF($B$7=\"kWh\",$B$4,$B$5)","v":11389},-45.556000000000004,{"$f":"VLOOKUP($B$3,'Data Proposed Rates'!$A:$AT,MATCH(BI_NPDI_StLgt_Avg!$A17,ProposedHeader,0),FALSE)","v":-1.8E-3},{"$f":"IF($B$7=\"kWh\",$B$4,$B$5)","v":11389},-20.5002,25.055800000000005,0.55000000000000004]
["CBR Class B Rate Rider",{"$f":"VLOOKUP($B$3,'Data Current Rates'!$A:$AO,MATCH(BI_NPDI_StLgt_Avg!$A18,CurrentHeader,0),FALSE)","v":1E-4},{"$f":"IF($B$7=\"kWh\",$B$4,$B$5)","v":11389},1.1389,{"$f":"VLOOKUP($B$3,'Data Proposed Rates'!$A:$AT,MATCH(BI_NPDI_StLgt_Avg!$A18,ProposedHeader,0),FALSE)","v":-5.9999999999999995E-4},{"$f":"IF($B$7=\"kWh\",$B$4,$B$5)","v":11389},-6.8333999999999993,-7.9722999999999988,-6.9999999999999991]
["GA Rate Rider",{"$f":"VLOOKUP($B$3,'Data Current Rates'!$A:$AO,MATCH(BI_NPDI_StLgt_Avg!$A19,CurrentHeader,0),FALSE)","v":0},{"$f":"IF($B$7=\"kWh\",$B$4,$B$5)","v":11389},0,{"$f":"VLOOKUP($B$3,'Data Proposed Rates'!$A:$AT,MATCH(BI_NPDI_StLgt_Avg!$A19,ProposedHeader,0),FALSE)","v":0},{"$f":"IF($B$7=\"kWh\",$B$4,$B$5)","v":11389},0,0,"N/A"]
["Rate Rider for Account 1588",null,null,null,{"$f":"VLOOKUP($B$3,'Data Proposed Rates'!$A:$AT,MATCH(BI_NPDI_StLgt_Avg!$A20,ProposedHeader,0),FALSE)","v":-3.2000000000000002E-3},{"$f":"IF($B$7=\"kWh\",$B$4,$B$5)","v":11389},-36.444800000000001,-36.444800000000001,"N/A"]
["Sub-Total B - Distribution (includes Sub-Total A)",null,null,{"$f":"SUM(INDIRECT(\"D15:D\"&ROW()-1))","v":1501.6923959999999},null,null,{"$f":"SUM(INDIRECT(\"G15:G\"&ROW()-1))","v":1515.3491960000006},13.656800000000658,9.0942725929609482E-3]
["Retail Transmission Rate – Network Service Rate",{"$f":"VLOOKUP($B$3,'Data Current Rates'!$A:$AO,MATCH(BI_NPDI_StLgt_Avg!$A22,CurrentHeader,0),FALSE)","v":7.4000000000000003E-3},{"$f":"IF($B$7=\"kWh\",$B$4*$B$6,$B$5)","v":12436.788},{"$f":"B22*C22","v":92.032231200000012},{"$f":"VLOOKUP($B$3,'Data Proposed Rates'!$A:$AT,MATCH(BI_NPDI_StLgt_Avg!$A22,ProposedHeader,0),FALSE)","v":7.6E-3},{"$f":"IF($B$7=\"kWh\",$B$4*$B$6,$B$5)","v":12436.788},94.519588800000008,2.4873575999999957,2.7027027027026976E-2]
["Retail Transmission Rate – Line and Transformation Connection Service Rate",{"$f":"VLOOKUP($B$3,'Data Current Rates'!$A:$AO,MATCH(BI_NPDI_StLgt_Avg!$A23,CurrentHeader,0),FALSE)","v":5.7000000000000002E-3},{"$f":"IF($B$7=\"kWh\",$B$4*$B$6,$B$5)","v":12436.788},70.889691600000006,{"$f":"VLOOKUP($B$3,'Data Proposed Rates'!$A:$AT,MATCH(BI_NPDI_StLgt_Avg!$A23,ProposedHeader,0),FALSE)","v":5.7999999999999996E-3},{"$f":"IF($B$7=\"kWh\",$B$4*$B$6,$B$5)","v":12436.788},72.133370400000004,1.2436787999999979,1.7543859649122775E-2]
["Sub-Total C - Delivery (including Sub-Total B)",null,null,{"$f":"SUM(D21:D23)","v":1664.6143188000001},null,null,{"$f":"SUM(G21:G23)","v":1682.0021552000007},17.387836400000651,1.0445564599333332E-2]
["Wholesale Market Service Rate (WMS) – not including CBR",{"$f":"VLOOKUP($A25,'Data Pass Through'!$A:$D,2,FALSE)","v":4.1000000000000003E-3},{"$f":"$B$4*$B$6","v":12436.788},{"$f":"B25*C25","v":50.990830800000005},{"$f":"VLOOKUP($A25,'Data Pass Through'!$A:$D,3,FALSE)","v":4.1000000000000003E-3},{"$f":"$B$4*$B$6","v":12436.788},50.990830800000005,0,0]
["Capacity Based Recovery (CBR) – Applicable for Class B Customers",{"$f":"VLOOKUP($A26,'Data Pass Through'!$A:$D,2,FALSE)","v":5.9999999999999995E-4},{"$f":"$B$4*$B$6","v":12436.788},7.4620727999999996,{"$f":"VLOOKUP($A26,'Data Pass Through'!$A:$D,3,FALSE)","v":5.9999999999999995E-4},{"$f":"$B$4*$B$6","v":12436.788},7.4620727999999996,0,0]
["Rural Rate Protection Charge",{"$f":"VLOOKUP($A27,'Data Pass Through'!$A:$D,2,FALSE)","v":5.9999999999999995E-4},{"$f":"$B$4*$B$6","v":12436.788},7.4620727999999996,{"$f":"VLOOKUP($A27,'Data Pass Through'!$A:$D,3,FALSE)","v":5.9999999999999995E-4},{"$f":"$B$4*$B$6","v":12436.788},7.4620727999999996,0,0]
["Standard Supply Service – Administration Charge (if applicable)",{"$f":"VLOOKUP($A28,'Data Pass Through'!$A:$D,2,FALSE)","v":0.25},1,0.25,{"$f":"VLOOKUP($A28,'Data Pass Through'!$A:$D,3,FALSE)","v":0.25},1,0.25,0,0]
["RPP Tier 1",{"$f":"VLOOKUP($A29,'Data Pass Through'!$A:$D,2,FALSE)","v":0.12},{"$f":"IF(($B4*12>=150000),750,IF($B4>=750,750,$B4))","v":750},90,{"$f":"VLOOKUP($A29,'Data Pass Through'!$A:$D,3,FALSE)","v":0.12},{"$f":"IF(($B4*12>=150000),750,IF($B4>=750,750,$B4))","v":750},90,0,0]
["RPP Tier 2",{"$f":"VLOOKUP($A30,'Data Pass Through'!$A:$D,2,FALSE)","v":0.14199999999999999},{"$f":"IF(($B4*12>=150000),($B4*$B6)-750,IF($B4>=750,($B4-750),0))","v":10639},1510.7379999999998,{"$f":"VLOOKUP($A30,'Data Pass Through'!$A:$D,3,FALSE)","v":0.14199999999999999},{"$f":"IF(($B4*12>=150000),($B4*$B6)-750,IF($B4>=750,($B4-750),0))","v":10639},1510.7379999999998,0,0]
["Total Bill on Two-Tier RPP (before Taxes)",null,null,{"$f":"SUM(D24:D30)","v":3331.5172951999998},null,null,{"$f":"SUM(G24:G30)","v":3348.9051316000005},17.387836400000651,5.2191943968151648E-3]
["HST",0.13,null,{"$f":"D31*B32","v":433.09724837599998},{"$f":"B32","v":0.13},null,{"$f":"G31*E32","v":435.3576671080001},2.2604187320001188,5.2191943968152429E-3]
["Ontario Electricity Rebate (OER)",{"$f":"IF(($B$4*12)<250000,VLOOKUP(A33,'Data Pass Through'!$A$4:$C$19,2,0),0)","v":-0.23499999999999999},null,{"$f":"D31*B33","v":-782.90656437199993},{"$f":"IF(($B$4*12)<250000,VLOOKUP($A33,'Data Pass Through'!$A$4:$C$19,3,0),0)","v":-0.23499999999999999},null,{"$f":"G31*E33","v":-786.9927059260001},-4.0861415540001644,-5.2191943968151796E-3]
["Total Bill on Two-Tier RPP",null,null,{"$f":"SUM(D31:D33)","v":2981.7079792039999},null,null,{"$f":"SUM(G31:G33)","v":2997.2700927820006},15.562113578000663,5.2191943968151909E-3]
["* Distribution rate protection applies to R1 and R2 customers"]

{"sheet":"BI_HCHI_StLgt_Avg","index":50,"n_rows":35,"n_cols":9,"rows_kept":35,"cut":false,"hidden":false,"merged":[[0,0,0,10],[8,0,9,0],[8,1,8,3],[8,4,8,6],[8,7,8,8]]}
["Bill Impacts (Average Consumption Level) - St Lgt-HCHI"]
[]
["Rate Class",{"$f":"RIGHT(A1,LEN(A1)-FIND(\"- \",A1,1)-1)","v":"St Lgt-HCHI"}]
["Monthly Consumption (kWh)",{"$f":"IF(COUNTIF(A1,\"*Low*\")>0,VLOOKUP(B3,'Data Billing Quantities'!$A:$Z,MATCH(\"Low kWh\",'Data Billing Quantities'!4:4,0),FALSE),IF(COUNTIF(A1,\"*Typical*\")>0,VLOOKUP(B3,'Data Billing Quantities'!$A:$Z,MATCH(\"Typical kWh\",'Data Billing Quantities'!4:4,0),FALSE),IF(COUNTIF(A1,\"*Average*\")>0,VLOOKUP(B3,'Data Billing Quantities'!$A:$Z,MATCH(\"Average kWh\",'Data Billing Quantities'!4:4,0),FALSE),IF(COUNTIF(A1,\"*High*\")>0,VLOOKUP(B3,'Data Billing Quantities'!$A:$Z,MATCH(\"High kWh\",'Data Billing Quantities'!4:4,0),FALSE),\"error\"))))","v":31001}]
["Peak (kW)",{"$f":"IF(COUNTIF(A1,\"*Low*\")>0,VLOOKUP(B3,'Data Billing Quantities'!$A:$Z,MATCH(\"Low kW\",'Data Billing Quantities'!4:4,0),FALSE),IF(COUNTIF(A1,\"*Typical*\")>0,VLOOKUP(B3,'Data Billing Quantities'!$A:$Z,MATCH(\"Typical kW\",'Data Billing Quantities'!4:4,0),FALSE),IF(COUNTIF(A1,\"*Average*\")>0,VLOOKUP(B3,'Data Billing Quantities'!$A:$Z,MATCH(\"Average kW\",'Data Billing Quantities'!4:4,0),FALSE),IF(COUNTIF(A1,\"*High*\")>0,VLOOKUP(B3,'Data Billing Quantities'!$A:$Z,MATCH(\"High kW\",'Data Billing Quantities'!4:4,0),FALSE),\"error\"))))","v":85}]
["Loss factor",{"$f":"VLOOKUP(B3,'Data Billing Quantities'!A:D,MATCH(A6,'Data Billing Quantities'!4:4,0),FALSE)","v":1.0920000000000001}]
["Charge determinant",{"$f":"VLOOKUP(B3,'Data Billing Quantities'!A:D,MATCH(A7,'Data Billing Quantities'!4:4,0),FALSE)","v":"kWh"}]
[]
[null,"Current OEB-Approved",null,null,"Proposed",null,null,"Impact"]
[null,"Rate ($)","Volume","Charge ($)","Rate ($)","Volume","Charge ($)","$ Change","% Change"]
["Service Charge",{"$f":"VLOOKUP($B$3,'Data Current Rates'!$A:$AO,MATCH(BI_HCHI_StLgt_Avg!$A11,CurrentHeader,0),FALSE)","v":3.31},1,{"$f":"B11*C11","v":3.31},{"$f":"VLOOKUP($B$3,'Data Proposed Rates'!$A:$AT,MATCH(BI_HCHI_StLgt_Avg!$A11,ProposedHeader,0),FALSE)","v":3.42},1,{"$f":"E11*F11","v":3.42},{"$f":"G11-D11","v":0.10999999999999988},{"$f":"IF(ISERROR(H11/ABS(D11)),\"N/A\",(H11/ABS(D11)))","v":3.32326283987915E-2}]
["Distribution Volumetric Charge",{"$f":"VLOOKUP($B$3,'Data Current Rates'!$A:$AO,MATCH(BI_HCHI_StLgt_Avg!$A12,CurrentHeader,0),FALSE)","v":0.1235},{"$f":"IF($B$7=\"kWh\",$B$4,$B$5)","v":31001},{"$f":"B12*C12","v":3828.6235000000001},{"$f":"VLOOKUP($B$3,'Data Proposed Rates'!$A:$AT,MATCH(BI_HCHI_StLgt_Avg!$A12,ProposedHeader,0),FALSE)","v":0.12970000000000001},{"$f":"IF($B$7=\"kWh\",$B$4,$B$5)","v":31001},4020.8297000000002,192.20620000000008,5.0202429149797591E-2]
["Group 2 Fixed Rate Rider",{"$f":"VLOOKUP($B$3,'Data Current Rates'!$A:$AO,MATCH(BI_HCHI_StLgt_Avg!$A13,CurrentHeader,0),FALSE)","v":0},1,{"$f":"B13*C13","v":0},{"$f":"VLOOKUP($B$3,'Data Proposed Rates'!$A:$AT,MATCH(BI_HCHI_StLgt_Avg!$A13,ProposedHeader,0),FALSE)","v":-0.12},1,-0.12,-0.12,"N/A"]
["Group 2 Volumetric Rate Rider",{"$f":"VLOOKUP($B$3,'Data Current Rates'!$A:$AO,MATCH(BI_HCHI_StLgt_Avg!$A14,CurrentHeader,0),FALSE)","v":-2.8E-3},{"$f":"IF($B$7=\"kWh\",$B$4,$B$5)","v":31001},{"$f":"B14*C14","v":-86.802800000000005},{"$f":"VLOOKUP($B$3,'Data Proposed Rates'!$A:$AT,MATCH(BI_HCHI_StLgt_Avg!$A14,ProposedHeader,0),FALSE)","v":-4.4000000000000003E-3},{"$f":"IF($B$7=\"kWh\",$B$4,$B$5)","v":31001},-136.40440000000001,-49.601600000000005,-0.5714285714285714]
["Sub-Total A (excluding pass through)",null,null,{"$f":"SUM(D11:D14)","v":3745.1307000000002},null,null,{"$f":"SUM(G11:G14)","v":3887.7253000000005},142.59460000000036,3.8074665858791081E-2]
["Line Losses on Cost of Power",{"$f":"IF($B$4*12>=150000,0,IF($B$4>=750,$B30,$B29))","v":0},{"$f":"IF($B16=0,0,$B4*$B6-$B4)","v":0},{"$f":"B16*C16","v":0},{"$f":"IF($B$4*12>=150000,0,IF($B$4>=750,$E30,$E29))","v":0},{"$f":"IF($B16=0,0,$B4*$B6-$B4)","v":0},0,0,"N/A"]
["Total Deferral/Variance Account Rate Rider",{"$f":"VLOOKUP($B$3,'Data Current Rates'!$A:$AO,MATCH(BI_HCHI_StLgt_Avg!$A17,CurrentHeader,0),FALSE)","v":-3.5999999999999999E-3},{"$f":"IF($B$7=\"kWh\",$B$4,$B$5)","v":31001},-111.6036,{"$f":"VLOOKUP($B$3,'Data Proposed Rates'!$A:$AT,MATCH(BI_HCHI_StLgt_Avg!$A17,ProposedHeader,0),FALSE)","v":-1.8E-3},{"$f":"IF($B$7=\"kWh\",$B$4,$B$5)","v":31001},-55.8018,55.8018,0.5]
["CBR Class B Rate Rider",{"$f":"VLOOKUP($B$3,'Data Current Rates'!$A:$AO,MATCH(BI_HCHI_StLgt_Avg!$A18,CurrentHeader,0),FALSE)","v":1E-4},{"$f":"IF($B$7=\"kWh\",$B$4,$B$5)","v":31001},3.1001000000000003,{"$f":"VLOOKUP($B$3,'Data Proposed Rates'!$A:$AT,MATCH(BI_HCHI_StLgt_Avg!$A18,ProposedHeader,0),FALSE)","v":-5.9999999999999995E-4},{"$f":"IF($B$7=\"kWh\",$B$4,$B$5)","v":31001},-18.6006,-21.700700000000001,-7]
["GA Rate Rider",{"$f":"VLOOKUP($B$3,'Data Current Rates'!$A:$AO,MATCH(BI_HCHI_StLgt_Avg!$A19,CurrentHeader,0),FALSE)","v":0},{"$f":"IF($B$7=\"kWh\",$B$4,$B$5)","v":31001},0,{"$f":"VLOOKUP($B$3,'Data Proposed Rates'!$A:$AT,MATCH(BI_HCHI_StLgt_Avg!$A19,ProposedHeader,0),FALSE)","v":0},{"$f":"IF($B$7=\"kWh\",$B$4,$B$5)","v":31001},0,0,"N/A"]
["Rate Rider for Account 1588",null,null,null,{"$f":"VLOOKUP($B$3,'Data Proposed Rates'!$A:$AT,MATCH(BI_HCHI_StLgt_Avg!$A20,ProposedHeader,0),FALSE)","v":-3.2000000000000002E-3},{"$f":"IF($B$7=\"kWh\",$B$4,$B$5)","v":31001},-99.20320000000001,-99.20320000000001,"N/A"]
["Sub-Total B - Distribution (includes Sub-Total A)",null,null,{"$f":"SUM(INDIRECT(\"D15:D\"&ROW()-1))","v":3636.6272000000004},null,null,{"$f":"SUM(INDIRECT(\"G15:G\"&ROW()-1))","v":3714.1197000000002},77.492499999999836,2.1308893031433036E-2]
["Retail Transmission Rate – Network Service Rate",{"$f":"VLOOKUP($B$3,'Data Current Rates'!$A:$AO,MATCH(BI_HCHI_StLgt_Avg!$A22,CurrentHeader,0),FALSE)","v":7.4000000000000003E-3},{"$f":"IF($B$7=\"kWh\",$B$4*$B$6,$B$5)","v":33853.092000000004},{"$f":"B22*C22","v":250.51288080000003},{"$f":"VLOOKUP($B$3,'Data Proposed Rates'!$A:$AT,MATCH(BI_HCHI_StLgt_Avg!$A22,ProposedHeader,0),FALSE)","v":7.6E-3},{"$f":"IF($B$7=\"kWh\",$B$4*$B$6,$B$5)","v":33853.092000000004},257.28349920000005,6.7706184000000178,2.7027027027027094E-2]
["Retail Transmission Rate – Line and Transformation Connection Service Rate",{"$f":"VLOOKUP($B$3,'Data Current Rates'!$A:$AO,MATCH(BI_HCHI_StLgt_Avg!$A23,CurrentHeader,0),FALSE)","v":5.7000000000000002E-3},{"$f":"IF($B$7=\"kWh\",$B$4*$B$6,$B$5)","v":33853.092000000004},192.96262440000004,{"$f":"VLOOKUP($B$3,'Data Proposed Rates'!$A:$AT,MATCH(BI_HCHI_StLgt_Avg!$A23,ProposedHeader,0),FALSE)","v":5.7999999999999996E-3},{"$f":"IF($B$7=\"kWh\",$B$4*$B$6,$B$5)","v":33853.092000000004},196.3479336,3.3853091999999663,1.7543859649122629E-2]
["Sub-Total C - Delivery (including Sub-Total B)",null,null,{"$f":"SUM(D21:D23)","v":4080.1027052000004},null,null,{"$f":"SUM(G21:G23)","v":4167.7511328000001},87.64842759999965,2.1481916984171422E-2]
["Wholesale Market Service Rate (WMS) – not including CBR",{"$f":"VLOOKUP($A25,'Data Pass Through'!$A:$D,2,FALSE)","v":4.1000000000000003E-3},{"$f":"$B$4*$B$6","v":33853.092000000004},{"$f":"B25*C25","v":138.79767720000004},{"$f":"VLOOKUP($A25,'Data Pass Through'!$A:$D,3,FALSE)","v":4.1000000000000003E-3},{"$f":"$B$4*$B$6","v":33853.092000000004},138.79767720000004,0,0]
["Capacity Based Recovery (CBR) – Applicable for Class B Customers",{"$f":"VLOOKUP($A26,'Data Pass Through'!$A:$D,2,FALSE)","v":5.9999999999999995E-4},{"$f":"$B$4*$B$6","v":33853.092000000004},20.3118552,{"$f":"VLOOKUP($A26,'Data Pass Through'!$A:$D,3,FALSE)","v":5.9999999999999995E-4},{"$f":"$B$4*$B$6","v":33853.092000000004},20.3118552,0,0]
["Rural Rate Protection Charge",{"$f":"VLOOKUP($A27,'Data Pass Through'!$A:$D,2,FALSE)","v":5.9999999999999995E-4},{"$f":"$B$4*$B$6","v":33853.092000000004},20.3118552,{"$f":"VLOOKUP($A27,'Data Pass Through'!$A:$D,3,FALSE)","v":5.9999999999999995E-4},{"$f":"$B$4*$B$6","v":33853.092000000004},20.3118552,0,0]
["Standard Supply Service – Administration Charge (if applicable)",{"$f":"VLOOKUP($A28,'Data Pass Through'!$A:$D,2,FALSE)","v":0.25},1,0.25,{"$f":"VLOOKUP($A28,'Data Pass Through'!$A:$D,3,FALSE)","v":0.25},1,0.25,0,0]
["RPP Tier 1",{"$f":"VLOOKUP($A29,'Data Pass Through'!$A:$D,2,FALSE)","v":0.12},{"$f":"IF(($B4*12>=150000),750,IF($B4>=750,750,$B4))","v":750},90,{"$f":"VLOOKUP($A29,'Data Pass Through'!$A:$D,3,FALSE)","v":0.12},{"$f":"IF(($B4*12>=150000),750,IF($B4>=750,750,$B4))","v":750},90,0,0]
["RPP Tier 2",{"$f":"VLOOKUP($A30,'Data Pass Through'!$A:$D,2,FALSE)","v":0.14199999999999999},{"$f":"IF(($B4*12>=150000),($B4*$B6)-750,IF($B4>=750,($B4-750),0))","v":33103.092000000004},4700.639064,{"$f":"VLOOKUP($A30,'Data Pass Through'!$A:$D,3,FALSE)","v":0.14199999999999999},{"$f":"IF(($B4*12>=150000),($B4*$B6)-750,IF($B4>=750,($B4-750),0))","v":33103.092000000004},4700.639064,0,0]
["Total Bill on Two-Tier RPP (before Taxes)",null,null,{"$f":"SUM(D24:D30)","v":9050.4131567999993},null,null,{"$f":"SUM(G24:G30)","v":9138.0615843999985},87.648427599999195,9.6844670051493536E-3]
["HST",0.13,null,{"$f":"D31*B32","v":1176.5537103839999},{"$f":"B32","v":0.13},null,{"$f":"G31*E32","v":1187.9480059719999},11.394295587999977,9.684467005149423E-3]
["Ontario Electricity Rebate (OER)",{"$f":"IF(($B$4*12)<250000,VLOOKUP(A33,'Data Pass Through'!$A$4:$C$19,2,0),0)","v":0},null,{"$f":"D31*B33","v":0},{"$f":"IF(($B$4*12)<250000,VLOOKUP($A33,'Data Pass Through'!$A$4:$C$19,3,0),0)","v":0},null,{"$f":"G31*E33","v":0},0,"N/A"]
["Total Bill on Two-Tier RPP",null,null,{"$f":"SUM(D31:D33)","v":10226.966867183999},null,null,{"$f":"SUM(G31:G33)","v":10326.009590371999},99.042723188000309,9.6844670051494733E-3]
["* Distribution rate protection applies to R1 and R2 customers"]

{"sheet":"BI_NPDI_SenLgt_Avg","index":51,"n_rows":35,"n_cols":9,"rows_kept":35,"cut":false,"hidden":false,"merged":[[0,0,0,10],[8,0,9,0],[8,1,8,3],[8,4,8,6],[8,7,8,8]]}
["Bill Impacts (Average Consumption Level) - Sen Lgt-NPDI"]
[]
["Rate Class",{"$f":"RIGHT(A1,LEN(A1)-FIND(\"- \",A1,1)-1)","v":"Sen Lgt-NPDI"}]
["Monthly Consumption (kWh)",{"$f":"IF(COUNTIF(A1,\"*Low*\")>0,VLOOKUP(B3,'Data Billing Quantities'!$A:$Z,MATCH(\"Low kWh\",'Data Billing Quantities'!4:4,0),FALSE),IF(COUNTIF(A1,\"*Typical*\")>0,VLOOKUP(B3,'Data Billing Quantities'!$A:$Z,MATCH(\"Typical kWh\",'Data Billing Quantities'!4:4,0),FALSE),IF(COUNTIF(A1,\"*Average*\")>0,VLOOKUP(B3,'Data Billing Quantities'!$A:$Z,MATCH(\"Average kWh\",'Data Billing Quantities'!4:4,0),FALSE),IF(COUNTIF(A1,\"*High*\")>0,VLOOKUP(B3,'Data Billing Quantities'!$A:$Z,MATCH(\"High kWh\",'Data Billing Quantities'!4:4,0),FALSE),\"error\"))))","v":108}]
["Peak (kW)",{"$f":"IF(COUNTIF(A1,\"*Low*\")>0,VLOOKUP(B3,'Data Billing Quantities'!$A:$Z,MATCH(\"Low kW\",'Data Billing Quantities'!4:4,0),FALSE),IF(COUNTIF(A1,\"*Typical*\")>0,VLOOKUP(B3,'Data Billing Quantities'!$A:$Z,MATCH(\"Typical kW\",'Data Billing Quantities'!4:4,0),FALSE),IF(COUNTIF(A1,\"*Average*\")>0,VLOOKUP(B3,'Data Billing Quantities'!$A:$Z,MATCH(\"Average kW\",'Data Billing Quantities'!4:4,0),FALSE),IF(COUNTIF(A1,\"*High*\")>0,VLOOKUP(B3,'Data Billing Quantities'!$A:$Z,MATCH(\"High kW\",'Data Billing Quantities'!4:4,0),FALSE),\"error\"))))","v":0.33680272108843551}]
["Loss factor",{"$f":"VLOOKUP(B3,'Data Billing Quantities'!A:D,MATCH(A6,'Data Billing Quantities'!4:4,0),FALSE)","v":1.0920000000000001}]
["Charge determinant",{"$f":"VLOOKUP(B3,'Data Billing Quantities'!A:D,MATCH(A7,'Data Billing Quantities'!4:4,0),FALSE)","v":"kWh"}]
[]
[null,"Current OEB-Approved",null,null,"Proposed",null,null,"Impact"]
[null,"Rate ($)","Volume","Charge ($)","Rate ($)","Volume","Charge ($)","$ Change","% Change"]
["Service Charge",{"$f":"VLOOKUP($B$3,'Data Current Rates'!$A:$AO,MATCH(BI_NPDI_SenLgt_Avg!$A11,CurrentHeader,0),FALSE)","v":3.37},1,{"$f":"B11*C11","v":3.37},{"$f":"VLOOKUP($B$3,'Data Proposed Rates'!$A:$AT,MATCH(BI_NPDI_SenLgt_Avg!$A11,ProposedHeader,0),FALSE)","v":3.51},1,{"$f":"E11*F11","v":3.51},{"$f":"G11-D11","v":0.13999999999999968},{"$f":"IF(ISERROR(H11/ABS(D11)),\"N/A\",(H11/ABS(D11)))","v":4.1543026706231355E-2}]
["Distribution Volumetric Charge",{"$f":"VLOOKUP($B$3,'Data Current Rates'!$A:$AO,MATCH(BI_NPDI_SenLgt_Avg!$A12,CurrentHeader,0),FALSE)","v":0.19009999999999999},{"$f":"IF($B$7=\"kWh\",$B$4,$B$5)","v":108},{"$f":"B12*C12","v":20.530799999999999},{"$f":"VLOOKUP($B$3,'Data Proposed Rates'!$A:$AT,MATCH(BI_NPDI_SenLgt_Avg!$A12,ProposedHeader,0),FALSE)","v":0.20019999999999999},{"$f":"IF($B$7=\"kWh\",$B$4,$B$5)","v":108},21.621599999999997,1.090799999999998,5.312993161493941E-2]
["Group 2 Fixed Rate Rider",{"$f":"VLOOKUP($B$3,'Data Current Rates'!$A:$AO,MATCH(BI_NPDI_SenLgt_Avg!$A13,CurrentHeader,0),FALSE)","v":0},1,{"$f":"B13*C13","v":0},{"$f":"VLOOKUP($B$3,'Data Proposed Rates'!$A:$AT,MATCH(BI_NPDI_SenLgt_Avg!$A13,ProposedHeader,0),FALSE)","v":-0.12},1,-0.12,-0.12,"N/A"]
["Group 2 Volumetric Rate Rider",{"$f":"VLOOKUP($B$3,'Data Current Rates'!$A:$AO,MATCH(BI_NPDI_SenLgt_Avg!$A14,CurrentHeader,0),FALSE)","v":-1.8E-3},{"$f":"IF($B$7=\"kWh\",$B$4,$B$5)","v":108},{"$f":"B14*C14","v":-0.19439999999999999},{"$f":"VLOOKUP($B$3,'Data Proposed Rates'!$A:$AT,MATCH(BI_NPDI_SenLgt_Avg!$A14,ProposedHeader,0),FALSE)","v":-6.8999999999999999E-3},{"$f":"IF($B$7=\"kWh\",$B$4,$B$5)","v":108},-0.74519999999999997,-0.55079999999999996,-2.8333333333333335]
["Sub-Total A (excluding pass through)",null,null,{"$f":"SUM(D11:D14)","v":23.706399999999999},null,null,{"$f":"SUM(G11:G14)","v":24.266399999999997},0.55999999999999872,2.3622312961900531E-2]
["Line Losses on Cost of Power",{"$f":"IF($B$4*12>=150000,0,IF($B$4>=750,$B30,$B29))","v":0.12},{"$f":"IF($B16=0,0,$B4*$B6-$B4)","v":9.936000000000007},{"$f":"B16*C16","v":1.1923200000000007},{"$f":"IF($B$4*12>=150000,0,IF($B$4>=750,$E30,$E29))","v":0.12},{"$f":"IF($B16=0,0,$B4*$B6-$B4)","v":9.936000000000007},1.1923200000000007,0,0]
["Total Deferral/Variance Account Rate Rider",{"$f":"VLOOKUP($B$3,'Data Current Rates'!$A:$AO,MATCH(BI_NPDI_SenLgt_Avg!$A17,CurrentHeader,0),FALSE)","v":-4.0999999999999995E-3},{"$f":"IF($B$7=\"kWh\",$B$4,$B$5)","v":108},-0.44279999999999997,{"$f":"VLOOKUP($B$3,'Data Proposed Rates'!$A:$AT,MATCH(BI_NPDI_SenLgt_Avg!$A17,ProposedHeader,0),FALSE)","v":-1.8E-3},{"$f":"IF($B$7=\"kWh\",$B$4,$B$5)","v":108},-0.19439999999999999,0.24839999999999998,0.5609756097560975]
["CBR Class B Rate Rider",{"$f":"VLOOKUP($B$3,'Data Current Rates'!$A:$AO,MATCH(BI_NPDI_SenLgt_Avg!$A18,CurrentHeader,0),FALSE)","v":1E-4},{"$f":"IF($B$7=\"kWh\",$B$4,$B$5)","v":108},1.0800000000000001E-2,{"$f":"VLOOKUP($B$3,'Data Proposed Rates'!$A:$AT,MATCH(BI_NPDI_SenLgt_Avg!$A18,ProposedHeader,0),FALSE)","v":-5.9999999999999995E-4},{"$f":"IF($B$7=\"kWh\",$B$4,$B$5)","v":108},-6.4799999999999996E-2,-7.5600000000000001E-2,-7]
["GA Rate Rider",{"$f":"VLOOKUP($B$3,'Data Current Rates'!$A:$AO,MATCH(BI_NPDI_SenLgt_Avg!$A19,CurrentHeader,0),FALSE)","v":0},{"$f":"IF($B$7=\"kWh\",$B$4,$B$5)","v":108},0,{"$f":"VLOOKUP($B$3,'Data Proposed Rates'!$A:$AT,MATCH(BI_NPDI_SenLgt_Avg!$A19,ProposedHeader,0),FALSE)","v":0},{"$f":"IF($B$7=\"kWh\",$B$4,$B$5)","v":108},0,0,"N/A"]
["Rate Rider for Account 1588",null,null,null,{"$f":"VLOOKUP($B$3,'Data Proposed Rates'!$A:$AT,MATCH(BI_NPDI_SenLgt_Avg!$A20,ProposedHeader,0),FALSE)","v":-3.2000000000000002E-3},{"$f":"IF($B$7=\"kWh\",$B$4,$B$5)","v":108},-0.34560000000000002,-0.34560000000000002,"N/A"]
["Sub-Total B - Distribution (includes Sub-Total A)",null,null,{"$f":"SUM(INDIRECT(\"D15:D\"&ROW()-1))","v":24.466720000000002},null,null,{"$f":"SUM(INDIRECT(\"G15:G\"&ROW()-1))","v":24.853919999999995},0.38719999999999288,1.582557858184476E-2]
["Retail Transmission Rate – Network Service Rate",{"$f":"VLOOKUP($B$3,'Data Current Rates'!$A:$AO,MATCH(BI_NPDI_SenLgt_Avg!$A22,CurrentHeader,0),FALSE)","v":7.4000000000000003E-3},{"$f":"IF($B$7=\"kWh\",$B$4*$B$6,$B$5)","v":117.93600000000001},{"$f":"B22*C22","v":0.87272640000000012},{"$f":"VLOOKUP($B$3,'Data Proposed Rates'!$A:$AT,MATCH(BI_NPDI_SenLgt_Avg!$A22,ProposedHeader,0),FALSE)","v":7.6E-3},{"$f":"IF($B$7=\"kWh\",$B$4*$B$6,$B$5)","v":117.93600000000001},0.89631360000000004,2.3587199999999919E-2,2.7027027027026931E-2]
["Retail Transmission Rate – Line and Transformation Connection Service Rate",{"$f":"VLOOKUP($B$3,'Data Current Rates'!$A:$AO,MATCH(BI_NPDI_SenLgt_Avg!$A23,CurrentHeader,0),FALSE)","v":5.7000000000000002E-3},{"$f":"IF($B$7=\"kWh\",$B$4*$B$6,$B$5)","v":117.93600000000001},0.67223520000000003,{"$f":"VLOOKUP($B$3,'Data Proposed Rates'!$A:$AT,MATCH(BI_NPDI_SenLgt_Avg!$A23,ProposedHeader,0),FALSE)","v":5.7999999999999996E-3},{"$f":"IF($B$7=\"kWh\",$B$4*$B$6,$B$5)","v":117.93600000000001},0.68402879999999999,1.179359999999996E-2,1.7543859649122747E-2]
["Sub-Total C - Delivery (including Sub-Total B)",null,null,{"$f":"SUM(D21:D23)","v":26.011681600000003},null,null,{"$f":"SUM(G21:G23)","v":26.434262399999994},0.42258079999999154,1.6245808575482159E-2]
["Wholesale Market Service Rate (WMS) – not including CBR",{"$f":"VLOOKUP($A25,'Data Pass Through'!$A:$D,2,FALSE)","v":4.1000000000000003E-3},{"$f":"$B$4*$B$6","v":117.93600000000001},{"$f":"B25*C25","v":0.48353760000000007},{"$f":"VLOOKUP($A25,'Data Pass Through'!$A:$D,3,FALSE)","v":4.1000000000000003E-3},{"$f":"$B$4*$B$6","v":117.93600000000001},0.48353760000000007,0,0]
["Capacity Based Recovery (CBR) – Applicable for Class B Customers",{"$f":"VLOOKUP($A26,'Data Pass Through'!$A:$D,2,FALSE)","v":5.9999999999999995E-4},{"$f":"$B$4*$B$6","v":117.93600000000001},7.0761599999999994E-2,{"$f":"VLOOKUP($A26,'Data Pass Through'!$A:$D,3,FALSE)","v":5.9999999999999995E-4},{"$f":"$B$4*$B$6","v":117.93600000000001},7.0761599999999994E-2,0,0]
["Rural Rate Protection Charge",{"$f":"VLOOKUP($A27,'Data Pass Through'!$A:$D,2,FALSE)","v":5.9999999999999995E-4},{"$f":"$B$4*$B$6","v":117.93600000000001},7.0761599999999994E-2,{"$f":"VLOOKUP($A27,'Data Pass Through'!$A:$D,3,FALSE)","v":5.9999999999999995E-4},{"$f":"$B$4*$B$6","v":117.93600000000001},7.0761599999999994E-2,0,0]
["Standard Supply Service – Administration Charge (if applicable)",{"$f":"VLOOKUP($A28,'Data Pass Through'!$A:$D,2,FALSE)","v":0.25},1,0.25,{"$f":"VLOOKUP($A28,'Data Pass Through'!$A:$D,3,FALSE)","v":0.25},1,0.25,0,0]
["RPP Tier 1",{"$f":"VLOOKUP($A29,'Data Pass Through'!$A:$D,2,FALSE)","v":0.12},{"$f":"IF(($B4*12>=150000),750,IF($B4>=750,750,$B4))","v":108},12.959999999999999,{"$f":"VLOOKUP($A29,'Data Pass Through'!$A:$D,3,FALSE)","v":0.12},{"$f":"IF(($B4*12>=150000),750,IF($B4>=750,750,$B4))","v":108},12.959999999999999,0,0]
["RPP Tier 2",{"$f":"VLOOKUP($A30,'Data Pass Through'!$A:$D,2,FALSE)","v":0.14199999999999999},{"$f":"IF(($B4*12>=150000),($B4*$B6)-750,IF($B4>=750,($B4-750),0))","v":0},0,{"$f":"VLOOKUP($A30,'Data Pass Through'!$A:$D,3,FALSE)","v":0.14199999999999999},{"$f":"IF(($B4*12>=150000),($B4*$B6)-750,IF($B4>=750,($B4-750),0))","v":0},0,0,"N/A"]
["Total Bill on Two-Tier RPP (before Taxes)",null,null,{"$f":"SUM(D24:D30)","v":39.846742400000004},null,null,{"$f":"SUM(G24:G30)","v":40.269323199999995},0.42258079999999154,1.0605153007438608E-2]
["HST",0.13,null,{"$f":"D31*B32","v":5.1800765120000003},{"$f":"B32","v":0.13},null,{"$f":"G31*E32","v":5.2350120159999998},5.4935503999999469E-2,1.0605153007438719E-2]
["Ontario Electricity Rebate (OER)",{"$f":"IF(($B$4*12)<250000,VLOOKUP(A33,'Data Pass Through'!$A$4:$C$19,2,0),0)","v":-0.23499999999999999},null,{"$f":"D31*B33","v":-9.3639844639999996},{"$f":"IF(($B$4*12)<250000,VLOOKUP($A33,'Data Pass Through'!$A$4:$C$19,3,0),0)","v":-0.23499999999999999},null,{"$f":"G31*E33","v":-9.4632909519999977},-9.9306487999998083E-2,-1.0605153007438617E-2]
["Total Bill on Two-Tier RPP",null,null,{"$f":"SUM(D31:D33)","v":35.662834448000005},null,null,{"$f":"SUM(G31:G33)","v":36.041044263999993},0.3782098159999876,1.0605153007438473E-2]
["* Distribution rate protection applies to R1 and R2 customers"]

{"sheet":"BI_HCHI_SenLgt_Avg","index":52,"n_rows":35,"n_cols":9,"rows_kept":35,"cut":false,"hidden":false,"merged":[[0,0,0,10],[8,0,9,0],[8,1,8,3],[8,4,8,6],[8,7,8,8]]}
["Bill Impacts (Average Consumption Level) - Sen Lgt-HCHI"]
[]
["Rate Class",{"$f":"RIGHT(A1,LEN(A1)-FIND(\"- \",A1,1)-1)","v":"Sen Lgt-HCHI"}]
["Monthly Consumption (kWh)",{"$f":"IF(COUNTIF(A1,\"*Low*\")>0,VLOOKUP(B3,'Data Billing Quantities'!$A:$Z,MATCH(\"Low kWh\",'Data Billing Quantities'!4:4,0),FALSE),IF(COUNTIF(A1,\"*Typical*\")>0,VLOOKUP(B3,'Data Billing Quantities'!$A:$Z,MATCH(\"Typical kWh\",'Data Billing Quantities'!4:4,0),FALSE),IF(COUNTIF(A1,\"*Average*\")>0,VLOOKUP(B3,'Data Billing Quantities'!$A:$Z,MATCH(\"Average kWh\",'Data Billing Quantities'!4:4,0),FALSE),IF(COUNTIF(A1,\"*High*\")>0,VLOOKUP(B3,'Data Billing Quantities'!$A:$Z,MATCH(\"High kWh\",'Data Billing Quantities'!4:4,0),FALSE),\"error\"))))","v":61}]
["Peak (kW)",{"$f":"IF(COUNTIF(A1,\"*Low*\")>0,VLOOKUP(B3,'Data Billing Quantities'!$A:$Z,MATCH(\"Low kW\",'Data Billing Quantities'!4:4,0),FALSE),IF(COUNTIF(A1,\"*Typical*\")>0,VLOOKUP(B3,'Data Billing Quantities'!$A:$Z,MATCH(\"Typical kW\",'Data Billing Quantities'!4:4,0),FALSE),IF(COUNTIF(A1,\"*Average*\")>0,VLOOKUP(B3,'Data Billing Quantities'!$A:$Z,MATCH(\"Average kW\",'Data Billing Quantities'!4:4,0),FALSE),IF(COUNTIF(A1,\"*High*\")>0,VLOOKUP(B3,'Data Billing Quantities'!$A:$Z,MATCH(\"High kW\",'Data Billing Quantities'!4:4,0),FALSE),\"error\"))))","v":0.1956473214285713}]
["Loss factor",{"$f":"VLOOKUP(B3,'Data Billing Quantities'!A:D,MATCH(A6,'Data Billing Quantities'!4:4,0),FALSE)","v":1.0920000000000001}]
["Charge determinant",{"$f":"VLOOKUP(B3,'Data Billing Quantities'!A:D,MATCH(A7,'Data Billing Quantities'!4:4,0),FALSE)","v":"kWh"}]
[]
[null,"Current OEB-Approved",null,null,"Proposed",null,null,"Impact"]
[null,"Rate ($)","Volume","Charge ($)","Rate ($)","Volume","Charge ($)","$ Change","% Change"]
["Service Charge",{"$f":"VLOOKUP($B$3,'Data Current Rates'!$A:$AO,MATCH(BI_HCHI_SenLgt_Avg!$A11,CurrentHeader,0),FALSE)","v":3.37},1,{"$f":"B11*C11","v":3.37},{"$f":"VLOOKUP($B$3,'Data Proposed Rates'!$A:$AT,MATCH(BI_HCHI_SenLgt_Avg!$A11,ProposedHeader,0),FALSE)","v":3.51},1,{"$f":"E11*F11","v":3.51},{"$f":"G11-D11","v":0.13999999999999968},{"$f":"IF(ISERROR(H11/ABS(D11)),\"N/A\",(H11/ABS(D11)))","v":4.1543026706231355E-2}]
["Distribution Volumetric Charge",{"$f":"VLOOKUP($B$3,'Data Current Rates'!$A:$AO,MATCH(BI_HCHI_SenLgt_Avg!$A12,CurrentHeader,0),FALSE)","v":0.19009999999999999},{"$f":"IF($B$7=\"kWh\",$B$4,$B$5)","v":61},{"$f":"B12*C12","v":11.5961},{"$f":"VLOOKUP($B$3,'Data Proposed Rates'!$A:$AT,MATCH(BI_HCHI_SenLgt_Avg!$A12,ProposedHeader,0),FALSE)","v":0.20019999999999999},{"$f":"IF($B$7=\"kWh\",$B$4,$B$5)","v":61},12.212199999999999,0.61609999999999943,5.3129931614939459E-2]
["Group 2 Fixed Rate Rider",{"$f":"VLOOKUP($B$3,'Data Current Rates'!$A:$AO,MATCH(BI_HCHI_SenLgt_Avg!$A13,CurrentHeader,0),FALSE)","v":0},1,{"$f":"B13*C13","v":0},{"$f":"VLOOKUP($B$3,'Data Proposed Rates'!$A:$AT,MATCH(BI_HCHI_SenLgt_Avg!$A13,ProposedHeader,0),FALSE)","v":-0.12},1,-0.12,-0.12,"N/A"]
["Group 2 Volumetric Rate Rider",{"$f":"VLOOKUP($B$3,'Data Current Rates'!$A:$AO,MATCH(BI_HCHI_SenLgt_Avg!$A14,CurrentHeader,0),FALSE)","v":-5.4999999999999997E-3},{"$f":"IF($B$7=\"kWh\",$B$4,$B$5)","v":61},{"$f":"B14*C14","v":-0.33549999999999996},{"$f":"VLOOKUP($B$3,'Data Proposed Rates'!$A:$AT,MATCH(BI_HCHI_SenLgt_Avg!$A14,ProposedHeader,0),FALSE)","v":-6.8999999999999999E-3},{"$f":"IF($B$7=\"kWh\",$B$4,$B$5)","v":61},-0.4209,-8.5400000000000031E-2,-0.25454545454545469]
["Sub-Total A (excluding pass through)",null,null,{"$f":"SUM(D11:D14)","v":14.630600000000001},null,null,{"$f":"SUM(G11:G14)","v":15.1813},0.55069999999999908,3.7640288163164809E-2]
["Line Losses on Cost of Power",{"$f":"IF($B$4*12>=150000,0,IF($B$4>=750,$B30,$B29))","v":0.12},{"$f":"IF($B16=0,0,$B4*$B6-$B4)","v":5.612000000000009},{"$f":"B16*C16","v":0.67344000000000104},{"$f":"IF($B$4*12>=150000,0,IF($B$4>=750,$E30,$E29))","v":0.12},{"$f":"IF($B16=0,0,$B4*$B6-$B4)","v":5.612000000000009},0.67344000000000104,0,0]
["Total Deferral/Variance Account Rate Rider",{"$f":"VLOOKUP($B$3,'Data Current Rates'!$A:$AO,MATCH(BI_HCHI_SenLgt_Avg!$A17,CurrentHeader,0),FALSE)","v":-3.5999999999999999E-3},{"$f":"IF($B$7=\"kWh\",$B$4,$B$5)","v":61},-0.21959999999999999,{"$f":"VLOOKUP($B$3,'Data Proposed Rates'!$A:$AT,MATCH(BI_HCHI_SenLgt_Avg!$A17,ProposedHeader,0),FALSE)","v":-1.8E-3},{"$f":"IF($B$7=\"kWh\",$B$4,$B$5)","v":61},-0.10979999999999999,0.10979999999999999,0.5]
["CBR Class B Rate Rider",{"$f":"VLOOKUP($B$3,'Data Current Rates'!$A:$AO,MATCH(BI_HCHI_SenLgt_Avg!$A18,CurrentHeader,0),FALSE)","v":1E-4},{"$f":"IF($B$7=\"kWh\",$B$4,$B$5)","v":61},6.1000000000000004E-3,{"$f":"VLOOKUP($B$3,'Data Proposed Rates'!$A:$AT,MATCH(BI_HCHI_SenLgt_Avg!$A18,ProposedHeader,0),FALSE)","v":-5.9999999999999995E-4},{"$f":"IF($B$7=\"kWh\",$B$4,$B$5)","v":61},-3.6599999999999994E-2,-4.2699999999999995E-2,-6.9999999999999991]
["GA Rate Rider",{"$f":"VLOOKUP($B$3,'Data Current Rates'!$A:$AO,MATCH(BI_HCHI_SenLgt_Avg!$A19,CurrentHeader,0),FALSE)","v":0},{"$f":"IF($B$7=\"kWh\",$B$4,$B$5)","v":61},0,{"$f":"VLOOKUP($B$3,'Data Proposed Rates'!$A:$AT,MATCH(BI_HCHI_SenLgt_Avg!$A19,ProposedHeader,0),FALSE)","v":0},{"$f":"IF($B$7=\"kWh\",$B$4,$B$5)","v":61},0,0,"N/A"]
["Rate Rider for Account 1588",null,null,null,{"$f":"VLOOKUP($B$3,'Data Proposed Rates'!$A:$AT,MATCH(BI_HCHI_SenLgt_Avg!$A20,ProposedHeader,0),FALSE)","v":-3.2000000000000002E-3},{"$f":"IF($B$7=\"kWh\",$B$4,$B$5)","v":61},-0.19520000000000001,-0.19520000000000001,"N/A"]
["Sub-Total B - Distribution (includes Sub-Total A)",null,null,{"$f":"SUM(INDIRECT(\"D15:D\"&ROW()-1))","v":15.090540000000003},null,null,{"$f":"SUM(INDIRECT(\"G15:G\"&ROW()-1))","v":15.513140000000002},0.4225999999999992,2.8004299382261941E-2]
["Retail Transmission Rate – Network Service Rate",{"$f":"VLOOKUP($B$3,'Data Current Rates'!$A:$AO,MATCH(BI_HCHI_SenLgt_Avg!$A22,CurrentHeader,0),FALSE)","v":7.4000000000000003E-3},{"$f":"IF($B$7=\"kWh\",$B$4*$B$6,$B$5)","v":66.612000000000009},{"$f":"B22*C22","v":0.49292880000000011},{"$f":"VLOOKUP($B$3,'Data Proposed Rates'!$A:$AT,MATCH(BI_HCHI_SenLgt_Avg!$A22,ProposedHeader,0),FALSE)","v":7.6E-3},{"$f":"IF($B$7=\"kWh\",$B$4*$B$6,$B$5)","v":66.612000000000009},0.50625120000000001,1.3322399999999901E-2,2.702702702702682E-2]
["Retail Transmission Rate – Line and Transformation Connection Service Rate",{"$f":"VLOOKUP($B$3,'Data Current Rates'!$A:$AO,MATCH(BI_HCHI_SenLgt_Avg!$A23,CurrentHeader,0),FALSE)","v":5.7000000000000002E-3},{"$f":"IF($B$7=\"kWh\",$B$4*$B$6,$B$5)","v":66.612000000000009},0.37968840000000009,{"$f":"VLOOKUP($B$3,'Data Proposed Rates'!$A:$AT,MATCH(BI_HCHI_SenLgt_Avg!$A23,ProposedHeader,0),FALSE)","v":5.7999999999999996E-3},{"$f":"IF($B$7=\"kWh\",$B$4*$B$6,$B$5)","v":66.612000000000009},0.38634960000000002,6.6611999999999227E-3,1.7543859649122598E-2]
["Sub-Total C - Delivery (including Sub-Total B)",null,null,{"$f":"SUM(D21:D23)","v":15.963157200000003},null,null,{"$f":"SUM(G21:G23)","v":16.4057408},0.44258359999999719,2.7725317395232887E-2]
["Wholesale Market Service Rate (WMS) – not including CBR",{"$f":"VLOOKUP($A25,'Data Pass Through'!$A:$D,2,FALSE)","v":4.1000000000000003E-3},{"$f":"$B$4*$B$6","v":66.612000000000009},{"$f":"B25*C25","v":0.27310920000000005},{"$f":"VLOOKUP($A25,'Data Pass Through'!$A:$D,3,FALSE)","v":4.1000000000000003E-3},{"$f":"$B$4*$B$6","v":66.612000000000009},0.27310920000000005,0,0]
["Capacity Based Recovery (CBR) – Applicable for Class B Customers",{"$f":"VLOOKUP($A26,'Data Pass Through'!$A:$D,2,FALSE)","v":5.9999999999999995E-4},{"$f":"$B$4*$B$6","v":66.612000000000009},3.9967200000000001E-2,{"$f":"VLOOKUP($A26,'Data Pass Through'!$A:$D,3,FALSE)","v":5.9999999999999995E-4},{"$f":"$B$4*$B$6","v":66.612000000000009},3.9967200000000001E-2,0,0]
["Rural Rate Protection Charge",{"$f":"VLOOKUP($A27,'Data Pass Through'!$A:$D,2,FALSE)","v":5.9999999999999995E-4},{"$f":"$B$4*$B$6","v":66.612000000000009},3.9967200000000001E-2,{"$f":"VLOOKUP($A27,'Data Pass Through'!$A:$D,3,FALSE)","v":5.9999999999999995E-4},{"$f":"$B$4*$B$6","v":66.612000000000009},3.9967200000000001E-2,0,0]
["Standard Supply Service – Administration Charge (if applicable)",{"$f":"VLOOKUP($A28,'Data Pass Through'!$A:$D,2,FALSE)","v":0.25},1,0.25,{"$f":"VLOOKUP($A28,'Data Pass Through'!$A:$D,3,FALSE)","v":0.25},1,0.25,0,0]
["RPP Tier 1",{"$f":"VLOOKUP($A29,'Data Pass Through'!$A:$D,2,FALSE)","v":0.12},{"$f":"IF(($B4*12>=150000),750,IF($B4>=750,750,$B4))","v":61},7.3199999999999994,{"$f":"VLOOKUP($A29,'Data Pass Through'!$A:$D,3,FALSE)","v":0.12},{"$f":"IF(($B4*12>=150000),750,IF($B4>=750,750,$B4))","v":61},7.3199999999999994,0,0]
["RPP Tier 2",{"$f":"VLOOKUP($A30,'Data Pass Through'!$A:$D,2,FALSE)","v":0.14199999999999999},{"$f":"IF(($B4*12>=150000),($B4*$B6)-750,IF($B4>=750,($B4-750),0))","v":0},0,{"$f":"VLOOKUP($A30,'Data Pass Through'!$A:$D,3,FALSE)","v":0.14199999999999999},{"$f":"IF(($B4*12>=150000),($B4*$B6)-750,IF($B4>=750,($B4-750),0))","v":0},0,0,"N/A"]
["Total Bill on Two-Tier RPP (before Taxes)",null,null,{"$f":"SUM(D24:D30)","v":23.886200800000001},null,null,{"$f":"SUM(G24:G30)","v":24.3287844},0.44258359999999897,1.8528840300128389E-2]
["HST",0.13,null,{"$f":"D31*B32","v":3.1052061040000001},{"$f":"B32","v":0.13},null,{"$f":"G31*E32","v":3.1627419720000001},5.753586799999999E-2,1.852884030012843E-2]
["Ontario Electricity Rebate (OER)",{"$f":"IF(($B$4*12)<250000,VLOOKUP(A33,'Data Pass Through'!$A$4:$C$19,2,0),0)","v":-0.23499999999999999},null,{"$f":"D31*B33","v":-5.6132571879999995},{"$f":"IF(($B$4*12)<250000,VLOOKUP($A33,'Data Pass Through'!$A$4:$C$19,3,0),0)","v":-0.23499999999999999},null,{"$f":"G31*E33","v":-5.7172643339999993},-0.10400714599999983,-1.8528840300128403E-2]
["Total Bill on Two-Tier RPP",null,null,{"$f":"SUM(D31:D33)","v":21.378149716000003},null,null,{"$f":"SUM(G31:G33)","v":21.774262038},0.39611232199999691,1.8528840300128285E-2]
["* Distribution rate protection applies to R1 and R2 customers"]

{"sheet":"BI_CPUC_R1_Typical","index":53,"n_rows":39,"n_cols":9,"rows_kept":39,"cut":false,"hidden":false,"merged":[[0,0,0,10],[8,0,9,0],[8,1,8,3],[8,4,8,6],[8,7,8,8]]}
["Bill Impacts (Typical Consumption Level) - R1-CPUC"]
[]
["Rate Class",{"$f":"RIGHT(A1,LEN(A1)-FIND(\"- \",A1,1)-1)","v":"R1-CPUC"}]
["Monthly Consumption (kWh)",{"$f":"IF(COUNTIF(A1,\"*Low*\")>0,VLOOKUP(B3,'Data Billing Quantities'!$A:$Z,MATCH(\"Low kWh\",'Data Billing Quantities'!4:4,0),FALSE),IF(COUNTIF(A1,\"*Typical*\")>0,VLOOKUP(B3,'Data Billing Quantities'!$A:$Z,MATCH(\"Typical kWh\",'Data Billing Quantities'!4:4,0),FALSE),IF(COUNTIF(A1,\"*Average*\")>0,VLOOKUP(B3,'Data Billing Quantities'!$A:$Z,MATCH(\"Average kWh\",'Data Billing Quantities'!4:4,0),FALSE),IF(COUNTIF(A1,\"*High*\")>0,VLOOKUP(B3,'Data Billing Quantities'!$A:$Z,MATCH(\"High kWh\",'Data Billing Quantities'!4:4,0),FALSE),\"error\"))))","v":750}]
["Peak (kW)",{"$f":"IF(COUNTIF(A1,\"*Low*\")>0,VLOOKUP(B3,'Data Billing Quantities'!$A:$Z,MATCH(\"Low kW\",'Data Billing Quantities'!4:4,0),FALSE),IF(COUNTIF(A1,\"*Typical*\")>0,VLOOKUP(B3,'Data Billing Quantities'!$A:$Z,MATCH(\"Typical kW\",'Data Billing Quantities'!4:4,0),FALSE),IF(COUNTIF(A1,\"*Average*\")>0,VLOOKUP(B3,'Data Billing Quantities'!$A:$Z,MATCH(\"Average kW\",'Data Billing Quantities'!4:4,0),FALSE),IF(COUNTIF(A1,\"*High*\")>0,VLOOKUP(B3,'Data Billing Quantities'!$A:$Z,MATCH(\"High kW\",'Data Billing Quantities'!4:4,0),FALSE),\"error\"))))","v":0}]
["Loss factor",{"$f":"VLOOKUP(B3,'Data Billing Quantities'!A:D,MATCH(A6,'Data Billing Quantities'!4:4,0),FALSE)","v":1.0760000000000001}]
["Charge determinant",{"$f":"VLOOKUP(B3,'Data Billing Quantities'!A:D,MATCH(A7,'Data Billing Quantities'!4:4,0),FALSE)","v":"kWh"}]
[]
[null,"Current OEB-Approved",null,null,"Proposed",null,null,"Impact"]
[null,"Rate ($)","Volume","Charge ($)","Rate ($)","Volume","Charge ($)","$ Change","% Change"]
["Service Charge",{"$f":"VLOOKUP($B$3,'Data Current Rates'!$A:$AO,MATCH(BI_CPUC_R1_Typical!$A11,CurrentHeader,0),FALSE)","v":71.05},1,{"$f":"B11*C11","v":71.05},{"$f":"VLOOKUP($B$3,'Data Proposed Rates'!$A:$AT,MATCH(BI_CPUC_R1_Typical!$A11,ProposedHeader,0),FALSE)","v":74.62},1,{"$f":"E11*F11","v":74.62},{"$f":"G11-D11","v":3.5700000000000074},{"$f":"IF(ISERROR(H11/ABS(D11)),\"N/A\",(H11/ABS(D11)))","v":5.0246305418719321E-2}]
["Distribution Volumetric Charge",{"$f":"VLOOKUP($B$3,'Data Current Rates'!$A:$AO,MATCH(BI_CPUC_R1_Typical!$A12,CurrentHeader,0),FALSE)","v":0},{"$f":"IF($B$7=\"kWh\",$B$4,$B$5)","v":750},{"$f":"B12*C12","v":0},{"$f":"VLOOKUP($B$3,'Data Proposed Rates'!$A:$AT,MATCH(BI_CPUC_R1_Typical!$A12,ProposedHeader,0),FALSE)","v":0},{"$f":"IF($B$7=\"kWh\",$B$4,$B$5)","v":750},0,0,"N/A"]
["RRRP Adjustment",{"$f":"IF($B$3=\"R2\",VLOOKUP(A13,'Data Pass Through'!$A4:$C19,3,0),0)*-1","v":0},1,{"$f":"B13*C13","v":0},{"$f":"IF($B$3=\"R2\",VLOOKUP(A13,'Data Pass Through'!$A4:$C19,3,0),0)*-1","v":0},1,0,0,"N/A"]
["DRP Adjustment",null,null,{"$f":"IF(OR($B$3=\"R1\",$B$3=\"R2\",$B$3=\"R1-CPUC\"),IF(SUM(D11:D13)>'Data Pass Through'!$B$16,-(SUM(D11:D13)-'Data Pass Through'!$B$16),0),0)","v":-28.169999999999995},null,null,{"$f":"IF(OR($B$3=\"R1\",$B$3=\"R2\",$B$3=\"R1-CPUC\"),IF(SUM(G11:G13)>'Data Pass Through'!$B$16,-(SUM(G11:G13)-'Data Pass Through'!$B$16),0),0)","v":-31.740000000000002},-3.5700000000000074,-0.12673056443024522]
["Group 2 Fixed Rate Rider",{"$f":"VLOOKUP($B$3,'Data Current Rates'!$A:$AO,MATCH(BI_CPUC_R1_Typical!$A15,CurrentHeader,0),FALSE)","v":0},1,{"$f":"B15*C15","v":0},{"$f":"VLOOKUP($B$3,'Data Proposed Rates'!$A:$AT,MATCH(BI_CPUC_R1_Typical!$A15,ProposedHeader,0),FALSE)","v":0},1,{"$f":"E15*F15","v":0},0,"N/A"]
["Group 2 Volumetric Rate Rider",{"$f":"VLOOKUP($B$3,'Data Current Rates'!$A:$AO,MATCH(BI_CPUC_R1_Typical!$A16,CurrentHeader,0),FALSE)","v":0},{"$f":"IF($B$7=\"kWh\",$B$4,$B$5)","v":750},{"$f":"B16*C16","v":0},{"$f":"VLOOKUP($B$3,'Data Proposed Rates'!$A:$AT,MATCH(BI_CPUC_R1_Typical!$A16,ProposedHeader,0),FALSE)","v":0},{"$f":"IF($B$7=\"kWh\",$B$4,$B$5)","v":750},0,{"$f":"G16-D16","v":0},{"$f":"IF(ISERROR(H16/ABS(D16)),\"N/A\",(H16/ABS(D16)))","v":"N/A"}]
["Sub-Total A (excluding pass through)",null,null,{"$f":"SUM(D11:D16)","v":42.88},null,null,{"$f":"SUM(G11:G16)","v":42.88},0,0]
["Line Losses on Cost of Power",{"$f":"VLOOKUP($B$3,'Data Billing Quantities'!$A:$O,MATCH(BI_CPUC_R1_Typical!$A32,'Data Billing Quantities'!$4:$4,0),FALSE)*$B32+VLOOKUP($B$3,'Data Billing Quantities'!$A:$O,MATCH(BI_CPUC_R1_Typical!$A33,'Data Billing Quantities'!$4:$4,0),FALSE)*$B33+VLOOKUP($B$3,'Data Billing Quantities'!$A:$O,MATCH(BI_CPUC_R1_Typical!$A34,'Data Billing Quantities'!$4:$4,0),FALSE)*$B34","v":0.12752000000000002},{"$f":"($B$6*$B$4)-$B$4","v":57},{"$f":"B18*C18","v":7.2686400000000013},{"$f":"VLOOKUP($B$3,'Data Billing Quantities'!$A:$O,MATCH(BI_CPUC_R1_Typical!$A32,'Data Billing Quantities'!$4:$4,0),FALSE)*$B32+VLOOKUP($B$3,'Data Billing Quantities'!$A:$O,MATCH(BI_CPUC_R1_Typical!$A33,'Data Billing Quantities'!$4:$4,0),FALSE)*$B33+VLOOKUP($B$3,'Data Billing Quantities'!$A:$O,MATCH(BI_CPUC_R1_Typical!$A34,'Data Billing Quantities'!$4:$4,0),FALSE)*$B34","v":0.12752000000000002},{"$f":"($B$6*$B$4)-$B$4","v":57},7.2686400000000013,0,0]
["Total Deferral/Variance Account Rate Rider",{"$f":"VLOOKUP($B$3,'Data Current Rates'!$A:$AO,MATCH(BI_CPUC_R1_Typical!$A19,CurrentHeader,0),FALSE)","v":0},{"$f":"IF($B$7=\"kWh\",$B$4,$B$5)","v":750},0,{"$f":"VLOOKUP($B$3,'Data Proposed Rates'!$A:$AT,MATCH(BI_CPUC_R1_Typical!$A19,ProposedHeader,0),FALSE)","v":1.1999999999999999E-3},{"$f":"IF($B$7=\"kWh\",$B$4,$B$5)","v":750},0.89999999999999991,0.89999999999999991,"N/A"]
["CBR Class B Rate Rider",{"$f":"VLOOKUP($B$3,'Data Current Rates'!$A:$AJ,MATCH(BI_CPUC_R1_Typical!$A20,CurrentHeader,0),FALSE)","v":0},{"$f":"IF($B$7=\"kWh\",$B$4,$B$5)","v":750},0,{"$f":"VLOOKUP($B$3,'Data Proposed Rates'!$A:$AT,MATCH(BI_CPUC_R1_Typical!$A20,ProposedHeader,0),FALSE)","v":0},{"$f":"IF($B$7=\"kWh\",$B$4,$B$5)","v":750},0,0,"N/A"]
["GA Rate Rider",{"$f":"VLOOKUP($B$3,'Data Current Rates'!$A:$AJ,MATCH(BI_CPUC_R1_Typical!$A21,CurrentHeader,0),FALSE)","v":0},750,0,{"$f":"VLOOKUP($B$3,'Data Proposed Rates'!$A:$AT,MATCH(BI_CPUC_R1_Typical!$A21,ProposedHeader,0),FALSE)","v":0},750,0,0,"N/A"]
["Smart Meter Entity Charge (if applicable)",{"$f":"VLOOKUP($A22,'Data Pass Through'!$A:$D,2,FALSE)","v":0.42},1,0.42,{"$f":"VLOOKUP($A22,'Data Pass Through'!$A:$D,2,FALSE)","v":0.42},1,0.42,0,0]
["Rate Rider for Account 1588",null,null,null,{"$f":"VLOOKUP($B$3,'Data Proposed Rates'!$A:$AT,MATCH(BI_CPUC_R1_Typical!$A23,ProposedHeader,0),FALSE)","v":-1E-3},{"$f":"IF($B$7=\"kWh\",$B$4,$B$5)","v":750},-0.75,-0.75,"N/A"]
["Sub-Total B - Distribution (includes Sub-Total A)",null,null,{"$f":"SUM(INDIRECT(\"D17:D\"&ROW()-1))","v":50.568640000000002},null,null,{"$f":"SUM(INDIRECT(\"G17:G\"&ROW()-1))","v":50.718640000000001},0.14999999999999858,2.9662652584684615E-3]
["Retail Transmission Rate – Network Service Rate",{"$f":"VLOOKUP($B$3,'Data Current Rates'!$A:$AJ,MATCH(BI_CPUC_R1_Typical!$A25,CurrentHeader,0),FALSE)","v":1.2800000000000001E-2},{"$f":"IF($B$7=\"kWh\",$B$4*$B$6,$B$5)","v":807},{"$f":"B25*C25","v":10.329600000000001},{"$f":"VLOOKUP($B$3,'Data Proposed Rates'!$A:$AT,MATCH(BI_CPUC_R1_Typical!$A25,ProposedHeader,0),FALSE)","v":1.3100000000000001E-2},{"$f":"IF($B$7=\"kWh\",$B$4*$B$6,$B$5)","v":807},10.5717,0.24209999999999887,2.3437499999999889E-2]
["Retail Transmission Rate – Line and Transformation Connection Service Rate",{"$f":"VLOOKUP($B$3,'Data Current Rates'!$A:$AJ,MATCH(BI_CPUC_R1_Typical!$A26,CurrentHeader,0),FALSE)","v":9.1999999999999998E-3},{"$f":"IF($B$7=\"kWh\",$B$4*$B$6,$B$5)","v":807},7.4243999999999994,{"$f":"VLOOKUP($B$3,'Data Proposed Rates'!$A:$AT,MATCH(BI_CPUC_R1_Typical!$A26,ProposedHeader,0),FALSE)","v":9.4000000000000004E-3},{"$f":"IF($B$7=\"kWh\",$B$4*$B$6,$B$5)","v":807},7.5857999999999999,0.16140000000000043,2.1739130434782667E-2]
["Sub-Total C - Delivery (including Sub-Total B)",null,null,{"$f":"SUM(D24:D26)","v":68.322640000000007},null,null,{"$f":"SUM(G24:G26)","v":68.876140000000007},0.55349999999999966,8.1012677496068598E-3]
["Wholesale Market Service Rate (WMS) – not including CBR",{"$f":"VLOOKUP($A28,'Data Pass Through'!$A:$D,2,FALSE)","v":4.1000000000000003E-3},{"$f":"$B$4*$B$6","v":807},{"$f":"B28*C28","v":3.3087000000000004},{"$f":"VLOOKUP($A28,'Data Pass Through'!$A:$D,3,FALSE)","v":4.1000000000000003E-3},{"$f":"$B$4*$B$6","v":807},3.3087000000000004,0,0]
["Capacity Based Recovery (CBR) – Applicable for Class B Customers",{"$f":"VLOOKUP($A29,'Data Pass Through'!$A:$D,2,FALSE)","v":5.9999999999999995E-4},{"$f":"$B$4*$B$6","v":807},0.48419999999999996,{"$f":"VLOOKUP($A29,'Data Pass Through'!$A:$D,3,FALSE)","v":5.9999999999999995E-4},{"$f":"$B$4*$B$6","v":807},0.48419999999999996,0,0]
["Rural Rate Protection Charge",{"$f":"VLOOKUP($A30,'Data Pass Through'!$A:$D,2,FALSE)","v":5.9999999999999995E-4},{"$f":"$B$4*$B$6","v":807},0.48419999999999996,{"$f":"VLOOKUP($A30,'Data Pass Through'!$A:$D,3,FALSE)","v":5.9999999999999995E-4},{"$f":"$B$4*$B$6","v":807},0.48419999999999996,0,0]
["Standard Supply Service – Administration Charge (if applicable)",{"$f":"VLOOKUP($A31,'Data Pass Through'!$A:$D,2,FALSE)","v":0.25},1,0.25,{"$f":"VLOOKUP($A31,'Data Pass Through'!$A:$D,3,FALSE)","v":0.25},1,0.25,0,0]
["TOU-Off Peak",{"$f":"VLOOKUP($A32,'Data Pass Through'!$A:$D,2,FALSE)","v":9.8000000000000004E-2},{"$f":"B$4*VLOOKUP($B$3,'Data Billing Quantities'!$A:$O,MATCH($A32,'Data Billing Quantities'!$4:$4,0),FALSE)","v":480},47.04,{"$f":"VLOOKUP($A32,'Data Pass Through'!$A:$D,3,FALSE)","v":9.8000000000000004E-2},{"$f":"B$4*VLOOKUP($B$3,'Data Billing Quantities'!$A:$O,MATCH($A32,'Data Billing Quantities'!$4:$4,0),FALSE)","v":480},{"$f":"E32*F32","v":47.04},0,0]
["TOU-Mid Peak",{"$f":"VLOOKUP($A33,'Data Pass Through'!$A:$D,2,FALSE)","v":0.157},{"$f":"B$4*VLOOKUP($B$3,'Data Billing Quantities'!$A:$O,MATCH($A33,'Data Billing Quantities'!$4:$4,0),FALSE)","v":135},21.195,{"$f":"VLOOKUP($A33,'Data Pass Through'!$A:$D,3,FALSE)","v":0.157},{"$f":"B$4*VLOOKUP($B$3,'Data Billing Quantities'!$A:$O,MATCH($A33,'Data Billing Quantities'!$4:$4,0),FALSE)","v":135},{"$f":"E33*F33","v":21.195},0,0]
["TOU-On Peak",{"$f":"VLOOKUP($A34,'Data Pass Through'!$A:$D,2,FALSE)","v":0.20300000000000001},{"$f":"B$4*VLOOKUP($B$3,'Data Billing Quantities'!$A:$O,MATCH($A34,'Data Billing Quantities'!$4:$4,0),FALSE)","v":135},27.405000000000001,{"$f":"VLOOKUP($A34,'Data Pass Through'!$A:$D,3,FALSE)","v":0.20300000000000001},{"$f":"B$4*VLOOKUP($B$3,'Data Billing Quantities'!$A:$O,MATCH($A34,'Data Billing Quantities'!$4:$4,0),FALSE)","v":135},{"$f":"E34*F34","v":27.405000000000001},0,0]
["Total Bill on TOU (before Taxes)",null,null,{"$f":"SUM(D27:D34)","v":168.48974000000001},null,null,{"$f":"SUM(G27:G34)","v":169.04324},0.55349999999998545,3.2850664972240173E-3]
["HST",0.13,null,{"$f":"D35*B36","v":21.903666200000004},{"$f":"B36","v":0.13},null,{"$f":"G35*E36","v":21.975621199999999},7.195499999999555E-2,3.2850664972239002E-3]
["Ontario Electricity Rebate (OER)",{"$f":"IF(($B$4*12)<250000,VLOOKUP($A37,'Data Pass Through'!$A$4:$C$19,2,0),0)","v":-0.23499999999999999},null,{"$f":"D35*B37","v":-39.5950889},{"$f":"IF(($B$4*12)<250000,VLOOKUP($A37,'Data Pass Through'!$A$4:$C$19,3,0),0)","v":-0.23499999999999999},null,{"$f":"G35*E37","v":-39.725161399999998},-0.13007249999999715,-3.285066497224032E-3]
["Total Bill on TOU",null,null,{"$f":"SUM(D35:D37)","v":150.79831730000001},null,null,{"$f":"SUM(G35:G37)","v":151.29369980000001},0.49538250000000517,3.2850664972241378E-3]
["* Distribution rate protection applies to R1 and R2 customers"]

{"sheet":"BI_CPUC_GSe_Typical","index":54,"n_rows":39,"n_cols":9,"rows_kept":39,"cut":false,"hidden":false,"merged":[[0,0,0,10],[8,0,9,0],[8,1,8,3],[8,4,8,6],[8,7,8,8]]}
["Bill Impacts (Typical Consumption Level) - GSe-CPUC"]
[]
["Rate Class",{"$f":"RIGHT(A1,LEN(A1)-FIND(\"- \",A1,1)-1)","v":"GSe-CPUC"}]
["Monthly Consumption (kWh)",{"$f":"IF(COUNTIF(A1,\"*Low*\")>0,VLOOKUP(B3,'Data Billing Quantities'!$A:$Z,MATCH(\"Low kWh\",'Data Billing Quantities'!4:4,0),FALSE),IF(COUNTIF(A1,\"*Typical*\")>0,VLOOKUP(B3,'Data Billing Quantities'!$A:$Z,MATCH(\"Typical kWh\",'Data Billing Quantities'!4:4,0),FALSE),IF(COUNTIF(A1,\"*Average*\")>0,VLOOKUP(B3,'Data Billing Quantities'!$A:$Z,MATCH(\"Average kWh\",'Data Billing Quantities'!4:4,0),FALSE),IF(COUNTIF(A1,\"*High*\")>0,VLOOKUP(B3,'Data Billing Quantities'!$A:$Z,MATCH(\"High kWh\",'Data Billing Quantities'!4:4,0),FALSE),\"error\"))))","v":2000}]
["Peak (kW)",{"$f":"IF(COUNTIF(A1,\"*Low*\")>0,VLOOKUP(B3,'Data Billing Quantities'!$A:$Z,MATCH(\"Low kW\",'Data Billing Quantities'!4:4,0),FALSE),IF(COUNTIF(A1,\"*Typical*\")>0,VLOOKUP(B3,'Data Billing Quantities'!$A:$Z,MATCH(\"Typical kW\",'Data Billing Quantities'!4:4,0),FALSE),IF(COUNTIF(A1,\"*Average*\")>0,VLOOKUP(B3,'Data Billing Quantities'!$A:$Z,MATCH(\"Average kW\",'Data Billing Quantities'!4:4,0),FALSE),IF(COUNTIF(A1,\"*High*\")>0,VLOOKUP(B3,'Data Billing Quantities'!$A:$Z,MATCH(\"High kW\",'Data Billing Quantities'!4:4,0),FALSE),\"error\"))))","v":0}]
["Loss factor",{"$f":"VLOOKUP(B3,'Data Billing Quantities'!A:D,MATCH(A6,'Data Billing Quantities'!4:4,0),FALSE)","v":1.0960000000000001}]
["Charge determinant",{"$f":"VLOOKUP(B3,'Data Billing Quantities'!A:D,MATCH(A7,'Data Billing Quantities'!4:4,0),FALSE)","v":"kWh"}]
[]
[null,"Current OEB-Approved",null,null,"Proposed",null,null,"Impact"]
[null,"Rate ($)","Volume","Charge ($)","Rate ($)","Volume","Charge ($)","$ Change","% Change"]
["Service Charge",{"$f":"VLOOKUP($B$3,'Data Current Rates'!$A:$AO,MATCH(BI_CPUC_GSe_Typical!$A11,CurrentHeader,0),FALSE)","v":32.78},1,{"$f":"B11*C11","v":32.78},{"$f":"VLOOKUP($B$3,'Data Proposed Rates'!$A:$AT,MATCH(BI_CPUC_GSe_Typical!$A11,ProposedHeader,0),FALSE)","v":32.78},1,{"$f":"E11*F11","v":32.78},{"$f":"G11-D11","v":0},{"$f":"IF(ISERROR(H11/ABS(D11)),\"N/A\",(H11/ABS(D11)))","v":0}]
["Distribution Volumetric Charge",{"$f":"VLOOKUP($B$3,'Data Current Rates'!$A:$AO,MATCH(BI_CPUC_GSe_Typical!$A12,CurrentHeader,0),FALSE)","v":7.6799999999999993E-2},{"$f":"IF($B$7=\"kWh\",$B$4,$B$5)","v":2000},{"$f":"B12*C12","v":153.6},{"$f":"VLOOKUP($B$3,'Data Proposed Rates'!$A:$AT,MATCH(BI_CPUC_GSe_Typical!$A12,ProposedHeader,0),FALSE)","v":8.1600000000000006E-2},{"$f":"IF($B$7=\"kWh\",$B$4,$B$5)","v":2000},163.20000000000002,9.6000000000000227,6.2500000000000153E-2]
["RRRP Adjustment",{"$f":"IF($B$3=\"R2\",VLOOKUP(A13,'Data Pass Through'!$A4:$C19,3,0),0)*-1","v":0},1,{"$f":"B13*C13","v":0},{"$f":"IF($B$3=\"R2\",VLOOKUP(A13,'Data Pass Through'!$A4:$C19,3,0),0)*-1","v":0},1,0,0,"N/A"]
["DRP Adjustment",null,null,{"$f":"IF(OR($B$3=\"R1\",$B$3=\"R2\",$B$3=\"R1-CPUC\"),IF(SUM(D11:D13)>'Data Pass Through'!$B$16,-(SUM(D11:D13)-'Data Pass Through'!$B$16),0),0)","v":0},null,null,{"$f":"IF(OR($B$3=\"R1\",$B$3=\"R2\",$B$3=\"R1-CPUC\"),IF(SUM(G11:G13)>'Data Pass Through'!$B$16,-(SUM(G11:G13)-'Data Pass Through'!$B$16),0),0)","v":0},0,"N/A"]
["Group 2 Fixed Rate Rider",{"$f":"VLOOKUP($B$3,'Data Current Rates'!$A:$AO,MATCH(BI_CPUC_GSe_Typical!$A15,CurrentHeader,0),FALSE)","v":0},1,{"$f":"B15*C15","v":0},{"$f":"VLOOKUP($B$3,'Data Proposed Rates'!$A:$AT,MATCH(BI_CPUC_GSe_Typical!$A15,ProposedHeader,0),FALSE)","v":0},1,{"$f":"E15*F15","v":0},0,"N/A"]
["Group 2 Volumetric Rate Rider",{"$f":"VLOOKUP($B$3,'Data Current Rates'!$A:$AO,MATCH(BI_CPUC_GSe_Typical!$A16,CurrentHeader,0),FALSE)","v":0},{"$f":"IF($B$7=\"kWh\",$B$4,$B$5)","v":2000},{"$f":"B16*C16","v":0},{"$f":"VLOOKUP($B$3,'Data Proposed Rates'!$A:$AT,MATCH(BI_CPUC_GSe_Typical!$A16,ProposedHeader,0),FALSE)","v":0},{"$f":"IF($B$7=\"kWh\",$B$4,$B$5)","v":2000},0,{"$f":"G16-D16","v":0},{"$f":"IF(ISERROR(H16/ABS(D16)),\"N/A\",(H16/ABS(D16)))","v":"N/A"}]
["Sub-Total A (excluding pass through)",null,null,{"$f":"SUM(D11:D16)","v":186.38},null,null,{"$f":"SUM(G11:G16)","v":195.98000000000002},9.6000000000000227,5.1507672497049163E-2]
["Line Losses on Cost of Power",{"$f":"VLOOKUP($B$3,'Data Billing Quantities'!$A:$O,MATCH(BI_CPUC_GSe_Typical!$A32,'Data Billing Quantities'!$4:$4,0),FALSE)*$B32+VLOOKUP($B$3,'Data Billing Quantities'!$A:$O,MATCH(BI_CPUC_GSe_Typical!$A33,'Data Billing Quantities'!$4:$4,0),FALSE)*$B33+VLOOKUP($B$3,'Data Billing Quantities'!$A:$O,MATCH(BI_CPUC_GSe_Typical!$A34,'Data Billing Quantities'!$4:$4,0),FALSE)*$B34","v":0.12752000000000002},{"$f":"($B$6*$B$4)-$B$4","v":192},{"$f":"B18*C18","v":24.483840000000004},{"$f":"VLOOKUP($B$3,'Data Billing Quantities'!$A:$O,MATCH(BI_CPUC_GSe_Typical!$A32,'Data Billing Quantities'!$4:$4,0),FALSE)*$B32+VLOOKUP($B$3,'Data Billing Quantities'!$A:$O,MATCH(BI_CPUC_GSe_Typical!$A33,'Data Billing Quantities'!$4:$4,0),FALSE)*$B33+VLOOKUP($B$3,'Data Billing Quantities'!$A:$O,MATCH(BI_CPUC_GSe_Typical!$A34,'Data Billing Quantities'!$4:$4,0),FALSE)*$B34","v":0.12752000000000002},{"$f":"($B$6*$B$4)-$B$4","v":192},24.483840000000004,0,0]
["Total Deferral/Variance Account Rate Rider",{"$f":"VLOOKUP($B$3,'Data Current Rates'!$A:$AO,MATCH(BI_CPUC_GSe_Typical!$A19,CurrentHeader,0),FALSE)","v":0},{"$f":"IF($B$7=\"kWh\",$B$4,$B$5)","v":2000},0,{"$f":"VLOOKUP($B$3,'Data Proposed Rates'!$A:$AT,MATCH(BI_CPUC_GSe_Typical!$A19,ProposedHeader,0),FALSE)","v":1.5E-3},{"$f":"IF($B$7=\"kWh\",$B$4,$B$5)","v":2000},3,3,"N/A"]
["CBR Class B Rate Rider",{"$f":"VLOOKUP($B$3,'Data Current Rates'!$A:$AJ,MATCH(BI_CPUC_GSe_Typical!$A20,CurrentHeader,0),FALSE)","v":0},{"$f":"IF($B$7=\"kWh\",$B$4,$B$5)","v":2000},0,{"$f":"VLOOKUP($B$3,'Data Proposed Rates'!$A:$AT,MATCH(BI_CPUC_GSe_Typical!$A20,ProposedHeader,0),FALSE)","v":0},{"$f":"IF($B$7=\"kWh\",$B$4,$B$5)","v":2000},0,0,"N/A"]
["GA Rate Rider",{"$f":"VLOOKUP($B$3,'Data Current Rates'!$A:$AJ,MATCH(BI_CPUC_GSe_Typical!$A21,CurrentHeader,0),FALSE)","v":0},2000,0,{"$f":"VLOOKUP($B$3,'Data Proposed Rates'!$A:$AT,MATCH(BI_CPUC_GSe_Typical!$A21,ProposedHeader,0),FALSE)","v":0},2000,0,0,"N/A"]
["Smart Meter Entity Charge (if applicable)",{"$f":"VLOOKUP($A22,'Data Pass Through'!$A:$D,2,FALSE)","v":0.42},1,0.42,{"$f":"VLOOKUP($A22,'Data Pass Through'!$A:$D,2,FALSE)","v":0.42},1,0.42,0,0]
["Rate Rider for Account 1588",null,null,null,{"$f":"VLOOKUP($B$3,'Data Proposed Rates'!$A:$AT,MATCH(BI_CPUC_GSe_Typical!$A23,ProposedHeader,0),FALSE)","v":-1E-3},{"$f":"IF($B$7=\"kWh\",$B$4,$B$5)","v":2000},-2,-2,"N/A"]
["Sub-Total B - Distribution (includes Sub-Total A)",null,null,{"$f":"SUM(INDIRECT(\"D17:D\"&ROW()-1))","v":211.28384},null,null,{"$f":"SUM(INDIRECT(\"G17:G\"&ROW()-1))","v":221.88384000000002},10.600000000000023,5.0169478176845056E-2]
["Retail Transmission Rate – Network Service Rate",{"$f":"VLOOKUP($B$3,'Data Current Rates'!$A:$AJ,MATCH(BI_CPUC_GSe_Typical!$A25,CurrentHeader,0),FALSE)","v":1.01E-2},{"$f":"IF($B$7=\"kWh\",$B$4*$B$6,$B$5)","v":2192},{"$f":"B25*C25","v":22.139199999999999},{"$f":"VLOOKUP($B$3,'Data Proposed Rates'!$A:$AT,MATCH(BI_CPUC_GSe_Typical!$A25,ProposedHeader,0),FALSE)","v":1.04E-2},{"$f":"IF($B$7=\"kWh\",$B$4*$B$6,$B$5)","v":2192},22.796799999999998,0.65759999999999863,2.9702970297029643E-2]
["Retail Transmission Rate – Line and Transformation Connection Service Rate",{"$f":"VLOOKUP($B$3,'Data Current Rates'!$A:$AJ,MATCH(BI_CPUC_GSe_Typical!$A26,CurrentHeader,0),FALSE)","v":7.7999999999999996E-3},{"$f":"IF($B$7=\"kWh\",$B$4*$B$6,$B$5)","v":2192},17.0976,{"$f":"VLOOKUP($B$3,'Data Proposed Rates'!$A:$AT,MATCH(BI_CPUC_GSe_Typical!$A26,ProposedHeader,0),FALSE)","v":8.0000000000000002E-3},{"$f":"IF($B$7=\"kWh\",$B$4*$B$6,$B$5)","v":2192},17.536000000000001,0.43840000000000146,2.5641025641025727E-2]
["Sub-Total C - Delivery (including Sub-Total B)",null,null,{"$f":"SUM(D24:D26)","v":250.52063999999999},null,null,{"$f":"SUM(G24:G26)","v":262.21663999999998},11.695999999999998,4.6686771996111771E-2]
["Wholesale Market Service Rate (WMS) – not including CBR",{"$f":"VLOOKUP($A28,'Data Pass Through'!$A:$D,2,FALSE)","v":4.1000000000000003E-3},{"$f":"$B$4*$B$6","v":2192},{"$f":"B28*C28","v":8.9872000000000014},{"$f":"VLOOKUP($A28,'Data Pass Through'!$A:$D,3,FALSE)","v":4.1000000000000003E-3},{"$f":"$B$4*$B$6","v":2192},8.9872000000000014,0,0]
["Capacity Based Recovery (CBR) – Applicable for Class B Customers",{"$f":"VLOOKUP($A29,'Data Pass Through'!$A:$D,2,FALSE)","v":5.9999999999999995E-4},{"$f":"$B$4*$B$6","v":2192},1.3151999999999999,{"$f":"VLOOKUP($A29,'Data Pass Through'!$A:$D,3,FALSE)","v":5.9999999999999995E-4},{"$f":"$B$4*$B$6","v":2192},1.3151999999999999,0,0]
["Rural Rate Protection Charge",{"$f":"VLOOKUP($A30,'Data Pass Through'!$A:$D,2,FALSE)","v":5.9999999999999995E-4},{"$f":"$B$4*$B$6","v":2192},1.3151999999999999,{"$f":"VLOOKUP($A30,'Data Pass Through'!$A:$D,3,FALSE)","v":5.9999999999999995E-4},{"$f":"$B$4*$B$6","v":2192},1.3151999999999999,0,0]
["Standard Supply Service – Administration Charge (if applicable)",{"$f":"VLOOKUP($A31,'Data Pass Through'!$A:$D,2,FALSE)","v":0.25},1,0.25,{"$f":"VLOOKUP($A31,'Data Pass Through'!$A:$D,3,FALSE)","v":0.25},1,0.25,0,0]
["TOU-Off Peak",{"$f":"VLOOKUP($A32,'Data Pass Through'!$A:$D,2,FALSE)","v":9.8000000000000004E-2},{"$f":"B$4*VLOOKUP($B$3,'Data Billing Quantities'!$A:$O,MATCH($A32,'Data Billing Quantities'!$4:$4,0),FALSE)","v":1280},125.44,{"$f":"VLOOKUP($A32,'Data Pass Through'!$A:$D,3,FALSE)","v":9.8000000000000004E-2},{"$f":"B$4*VLOOKUP($B$3,'Data Billing Quantities'!$A:$O,MATCH($A32,'Data Billing Quantities'!$4:$4,0),FALSE)","v":1280},{"$f":"E32*F32","v":125.44},0,0]
["TOU-Mid Peak",{"$f":"VLOOKUP($A33,'Data Pass Through'!$A:$D,2,FALSE)","v":0.157},{"$f":"B$4*VLOOKUP($B$3,'Data Billing Quantities'!$A:$O,MATCH($A33,'Data Billing Quantities'!$4:$4,0),FALSE)","v":360},56.52,{"$f":"VLOOKUP($A33,'Data Pass Through'!$A:$D,3,FALSE)","v":0.157},{"$f":"B$4*VLOOKUP($B$3,'Data Billing Quantities'!$A:$O,MATCH($A33,'Data Billing Quantities'!$4:$4,0),FALSE)","v":360},{"$f":"E33*F33","v":56.52},0,0]
["TOU-On Peak",{"$f":"VLOOKUP($A34,'Data Pass Through'!$A:$D,2,FALSE)","v":0.20300000000000001},{"$f":"B$4*VLOOKUP($B$3,'Data Billing Quantities'!$A:$O,MATCH($A34,'Data Billing Quantities'!$4:$4,0),FALSE)","v":360},73.08,{"$f":"VLOOKUP($A34,'Data Pass Through'!$A:$D,3,FALSE)","v":0.20300000000000001},{"$f":"B$4*VLOOKUP($B$3,'Data Billing Quantities'!$A:$O,MATCH($A34,'Data Billing Quantities'!$4:$4,0),FALSE)","v":360},{"$f":"E34*F34","v":73.08},0,0]
["Total Bill on TOU (before Taxes)",null,null,{"$f":"SUM(D27:D34)","v":517.42823999999996},null,null,{"$f":"SUM(G27:G34)","v":529.12423999999999},11.696000000000026,2.2604100618860746E-2]
["HST",0.13,null,{"$f":"D35*B36","v":67.2656712},{"$f":"B36","v":0.13},null,{"$f":"G35*E36","v":68.786151200000006},1.5204800000000063,2.2604100618860788E-2]
["Ontario Electricity Rebate (OER)",{"$f":"IF(($B$4*12)<250000,VLOOKUP($A37,'Data Pass Through'!$A$4:$C$19,2,0),0)","v":-0.23499999999999999},null,{"$f":"D35*B37","v":-121.59563639999999},{"$f":"IF(($B$4*12)<250000,VLOOKUP($A37,'Data Pass Through'!$A$4:$C$19,3,0),0)","v":-0.23499999999999999},null,{"$f":"G35*E37","v":-124.34419639999999},-2.7485599999999977,-2.2604100618860676E-2]
["Total Bill on TOU",null,null,{"$f":"SUM(D35:D37)","v":463.09827480000001},null,null,{"$f":"SUM(G35:G37)","v":473.56619480000006},10.467920000000049,2.2604100618860801E-2]
["* Distribution rate protection applies to R1 and R2 customers"]

{"sheet":"BI_CPUC_GSd_Avg","index":55,"n_rows":34,"n_cols":9,"rows_kept":34,"cut":false,"hidden":false,"merged":[[0,0,0,9],[8,1,8,3],[8,4,8,6],[8,7,8,8]]}
["Bill Impacts (Average Consumption Level) - GSd-CPUC"]
[]
["Rate Class",{"$f":"RIGHT(A1,LEN(A1)-FIND(\"- \",A1,1)-1)","v":"GSd-CPUC"}]
["Monthly Consumption (kWh)",{"$f":"IF(COUNTIF(A1,\"*Low*\")>0,VLOOKUP(B3,'Data Billing Quantities'!$A:$Z,MATCH(\"Low kWh\",'Data Billing Quantities'!4:4,0),FALSE),IF(COUNTIF(A1,\"*Typical*\")>0,VLOOKUP(B3,'Data Billing Quantities'!$A:$Z,MATCH(\"Typical kWh\",'Data Billing Quantities'!4:4,0),FALSE),IF(COUNTIF(A1,\"*Average*\")>0,VLOOKUP(B3,'Data Billing Quantities'!$A:$Z,MATCH(\"Average kWh\",'Data Billing Quantities'!4:4,0),FALSE),IF(COUNTIF(A1,\"*High*\")>0,VLOOKUP(B3,'Data Billing Quantities'!$A:$Z,MATCH(\"High kWh\",'Data Billing Quantities'!4:4,0),FALSE),\"error\"))))","v":29000}]
["Peak (kW)",{"$f":"IF(COUNTIF(A1,\"*Low*\")>0,VLOOKUP(B3,'Data Billing Quantities'!$A:$Z,MATCH(\"Low kW\",'Data Billing Quantities'!4:4,0),FALSE),IF(COUNTIF(A1,\"*Typical*\")>0,VLOOKUP(B3,'Data Billing Quantities'!$A:$Z,MATCH(\"Typical kW\",'Data Billing Quantities'!4:4,0),FALSE),IF(COUNTIF(A1,\"*Average*\")>0,VLOOKUP(B3,'Data Billing Quantities'!$A:$Z,MATCH(\"Average kW\",'Data Billing Quantities'!4:4,0),FALSE),IF(COUNTIF(A1,\"*High*\")>0,VLOOKUP(B3,'Data Billing Quantities'!$A:$Z,MATCH(\"High kW\",'Data Billing Quantities'!4:4,0),FALSE),\"error\"))))","v":90}]
["Loss factor",{"$f":"VLOOKUP(B3,'Data Billing Quantities'!A:D,MATCH(A6,'Data Billing Quantities'!4:4,0),FALSE)","v":1.0609999999999999}]
["Charge determinant",{"$f":"VLOOKUP(B3,'Data Billing Quantities'!A:D,MATCH(A7,'Data Billing Quantities'!4:4,0),FALSE)","v":"kW"}]
[]
[null,"Current OEB-Approved",null,null,"Proposed",null,null,"Impact"]
[null,"Rate","Volume","Charge","Rate","Volume","Charge","$ Change","% Change"]
[null,"($)",null,"($)","($)",null,"($)"]
["Service Charge",{"$f":"VLOOKUP($B$3,'Data Current Rates'!$A:$AO,MATCH(BI_CPUC_GSd_Avg!$A12,CurrentHeader,0),FALSE)","v":105.55},1,{"$f":"C12*B12","v":105.55},{"$f":"VLOOKUP($B$3,'Data Proposed Rates'!$A:$AT,MATCH(BI_CPUC_GSd_Avg!$A12,ProposedHeader,0),FALSE)","v":105.55},1,{"$f":"F12*E12","v":105.55},{"$f":"G12-D12","v":0},{"$f":"IF(ISERROR(H12/ABS(D12)),\"N/A\",(H12/ABS(D12)))","v":0}]
["Distribution Volumetric Charge",{"$f":"VLOOKUP($B$3,'Data Current Rates'!$A:$AO,MATCH(BI_CPUC_GSd_Avg!$A13,CurrentHeader,0),FALSE)","v":21.398700000000002},{"$f":"IF($B$7=\"kWh\",$B$4,$B$5)","v":90},{"$f":"C13*B13","v":1925.883},{"$f":"VLOOKUP($B$3,'Data Proposed Rates'!$A:$AT,MATCH(BI_CPUC_GSd_Avg!$A13,ProposedHeader,0),FALSE)","v":22.520099999999999},{"$f":"IF($B$7=\"kWh\",$B$4,$B$5)","v":90},{"$f":"F13*E13","v":2026.809},100.92599999999993,5.2405052643384839E-2]
["Group 2 Fixed Rate Rider",{"$f":"VLOOKUP($B$3,'Data Current Rates'!$A:$AO,MATCH(BI_CPUC_GSd_Avg!$A14,CurrentHeader,0),FALSE)","v":0},1,0,{"$f":"VLOOKUP($B$3,'Data Proposed Rates'!$A:$AT,MATCH(BI_CPUC_GSd_Avg!$A14,ProposedHeader,0),FALSE)","v":0},1,{"$f":"F14*E14","v":0},0,"N/A"]
["Group 2 Volumetric Rate Rider",{"$f":"VLOOKUP($B$3,'Data Current Rates'!$A:$AO,MATCH(BI_CPUC_GSd_Avg!$A15,CurrentHeader,0),FALSE)","v":0},{"$f":"IF($B$7=\"kWh\",$B$4,$B$5)","v":90},0,{"$f":"VLOOKUP($B$3,'Data Proposed Rates'!$A:$AT,MATCH(BI_CPUC_GSd_Avg!$A15,ProposedHeader,0),FALSE)","v":0},{"$f":"IF($B$7=\"kWh\",$B$4,$B$5)","v":90},0,0,"N/A"]
["Sub-Total A (excluding pass through)",null,null,{"$f":"SUM(D12:D15)","v":2031.433},null,null,{"$f":"SUM(G12:G15)","v":2132.3589999999999},100.92599999999993,4.9682170172484122E-2]
["Line Losses on Cost of Power",0,{"$f":"IF(B$17=0,0,B$4*B$6-B$4)","v":0},{"$f":"C17*B17","v":0},0,{"$f":"IF(E$17=0,0,E$4*E$6-E$4)","v":0},0,0,"N/A"]
["Total Deferral/Variance Account Rate Rider",{"$f":"VLOOKUP($B$3,'Data Current Rates'!$A:$AO,MATCH(BI_CPUC_GSd_Avg!$A18,CurrentHeader,0),FALSE)","v":0},{"$f":"IF($B$7=\"kWh\",$B$4,$B$5)","v":90},0,{"$f":"VLOOKUP($B$3,'Data Proposed Rates'!$A:$AT,MATCH(BI_CPUC_GSd_Avg!$A18,ProposedHeader,0),FALSE)","v":0.85340000000000005},{"$f":"IF($B$7=\"kWh\",$B$4,$B$5)","v":90},76.805999999999997,76.805999999999997,"N/A"]
["CBR Class B Rate Rider",{"$f":"VLOOKUP($B$3,'Data Current Rates'!$A:$AO,MATCH(BI_CPUC_GSd_Avg!$A19,CurrentHeader,0),FALSE)","v":0},{"$f":"IF($B$7=\"kWh\",$B$4,$B$5)","v":90},{"$f":"C19*B19","v":0},{"$f":"VLOOKUP($B$3,'Data Proposed Rates'!$A:$AT,MATCH(BI_CPUC_GSd_Avg!$A19,ProposedHeader,0),FALSE)","v":0},{"$f":"IF($B$7=\"kWh\",$B$4,$B$5)","v":90},{"$f":"F19*E19","v":0},0,"N/A"]
["GA Rate Rider",{"$f":"VLOOKUP($B$3,'Data Current Rates'!$A:$AO,MATCH(BI_CPUC_GSd_Avg!$A20,CurrentHeader,0),FALSE)","v":0},{"$f":"$B$4","v":29000},{"$f":"C20*B20","v":0},{"$f":"VLOOKUP($B$3,'Data Proposed Rates'!$A:$AT,MATCH(BI_CPUC_GSd_Avg!$A20,ProposedHeader,0),FALSE)","v":1.12E-2},{"$f":"$B$4","v":29000},324.8,324.8,"N/A"]
["Rate Rider for Account 1588",null,null,null,{"$f":"VLOOKUP($B$3,'Data Proposed Rates'!$A:$AT,MATCH(BI_CPUC_GSd_Avg!$A21,ProposedHeader,0),FALSE)","v":-0.3115},{"$f":"IF($B$7=\"kWh\",$B$4,$B$5)","v":90},{"$f":"F21*E21","v":-28.035},-28.035,"N/A"]
["Sub-Total B - Distribution (includes Sub-Total A)",null,null,{"$f":"SUM(INDIRECT(\"D16:D\"&ROW()-1))","v":2031.433},null,null,{"$f":"SUM(INDIRECT(\"G16:G\"&ROW()-1))","v":2505.9300000000003},474.4970000000003,0.23357747954276625]
["Retail Transmission Rate – Network Service Rate",{"$f":"VLOOKUP($B$3,'Data Current Rates'!$A:$AO,MATCH(BI_CPUC_GSd_Avg!$A23,CurrentHeader,0),FALSE)","v":3.2717000000000001},{"$f":"IF($B$7=\"kWh\",$B$4*$B$6,$B$5)","v":90},{"$f":"C23*B23","v":294.45300000000003},{"$f":"VLOOKUP($B$3,'Data Proposed Rates'!$A:$AT,MATCH(BI_CPUC_GSd_Avg!$A23,ProposedHeader,0),FALSE)","v":3.3593000000000002},{"$f":"IF($B$7=\"kWh\",$B$4*$B$6,$B$5)","v":90},{"$f":"F23*E23","v":302.33699999999999},7.8839999999999577,2.677507106397271E-2]
["Retail Transmission Rate – Line and Transformation Connection Service Rate",{"$f":"VLOOKUP($B$3,'Data Current Rates'!$A:$AO,MATCH(BI_CPUC_GSd_Avg!$A24,CurrentHeader,0),FALSE)","v":2.492},{"$f":"IF($B$7=\"kWh\",$B$4*$B$6,$B$5)","v":90},{"$f":"C24*B24","v":224.28},{"$f":"VLOOKUP($B$3,'Data Proposed Rates'!$A:$AT,MATCH(BI_CPUC_GSd_Avg!$A24,ProposedHeader,0),FALSE)","v":2.5541},{"$f":"IF($B$7=\"kWh\",$B$4*$B$6,$B$5)","v":90},{"$f":"F24*E24","v":229.869},5.5889999999999986,2.491974317817014E-2]
["Sub-Total C - Delivery (including Sub-Total B)",null,null,{"$f":"SUM(D22:D24)","v":2550.1660000000002},null,null,{"$f":"SUM(G22:G24)","v":3038.1360000000004},487.97000000000025,0.19134832791277126]
["Wholesale Market Service Rate (WMS) – not including CBR",{"$f":"VLOOKUP($A26,'Data Pass Through'!$A:$D,2,FALSE)","v":4.1000000000000003E-3},{"$f":"$B$4*$B$6","v":30769},{"$f":"C26*B26","v":126.15290000000002},{"$f":"VLOOKUP($A26,'Data Pass Through'!$A:$D,3,FALSE)","v":4.1000000000000003E-3},{"$f":"$B$4*$B$6","v":30769},{"$f":"F26*E26","v":126.15290000000002},0,0]
["Capacity Based Recovery (CBR) – Applicable for Class B Customers",{"$f":"VLOOKUP($A27,'Data Pass Through'!$A:$D,2,FALSE)","v":5.9999999999999995E-4},{"$f":"$B$4*$B$6","v":30769},18.461399999999998,{"$f":"VLOOKUP($A27,'Data Pass Through'!$A:$D,3,FALSE)","v":5.9999999999999995E-4},30769,18.461399999999998,0,0]
["Rural Rate Protection Charge",{"$f":"VLOOKUP($A28,'Data Pass Through'!$A:$D,2,FALSE)","v":5.9999999999999995E-4},30769,18.461399999999998,{"$f":"VLOOKUP($A28,'Data Pass Through'!$A:$D,3,FALSE)","v":5.9999999999999995E-4},30769,18.461399999999998,0,0]
["Standard Supply Service – Administration Charge (if applicable)",{"$f":"VLOOKUP($A29,'Data Pass Through'!$A:$D,2,FALSE)","v":0.25},1,0.25,{"$f":"VLOOKUP($A29,'Data Pass Through'!$A:$D,3,FALSE)","v":0.25},1,0.25,0,0]
["Average IESO Wholesale Market Price",{"$f":"VLOOKUP(A30,'Data Pass Through'!A4:C19,2,0)","v":0.15959999999999999},{"$f":"$B$4*$B$6","v":30769},{"$f":"C30*B30","v":4910.7323999999999},{"$f":"VLOOKUP($A30,'Data Pass Through'!$A:$D,3,FALSE)","v":0.15959999999999999},{"$f":"$B$4*$B$6","v":30769},4910.7323999999999,{"$f":"G30-D30","v":0},0]
["Total Bill on Average IESO Wholesale Market Price (before Taxes)",null,null,{"$f":"SUM(D25:D30)","v":7624.2241000000004},null,null,{"$f":"SUM(G25:G30)","v":8112.1941000000006},{"$f":"G31-D31","v":487.97000000000025},6.4002578308263558E-2]
["HST",0.13,null,{"$f":"D31*B32","v":991.14913300000012},0.13,null,{"$f":"G31*E32","v":1054.585233},{"$f":"G32-D32","v":63.436099999999897},6.4002578308263419E-2]
["Ontario Electricity Rebate (OER)",{"$f":"IF(($B$4*12)<250000,VLOOKUP(A33,'Data Pass Through'!$A$4:$C$19,2,0),0)","v":0},null,{"$f":"D31*B33","v":0},{"$f":"IF(($B$4*12)<250000,VLOOKUP(A33,'Data Pass Through'!$A$4:$C$19,3,0),0)","v":0},null,{"$f":"G31*E33","v":0},{"$f":"G33-D33","v":0},"N/A"]
["Total Bill on Average IESO Wholesale Market Price",null,null,{"$f":"SUM(D31:D33)","v":8615.3732330000003},null,null,{"$f":"SUM(G31:G33)","v":9166.7793330000004},{"$f":"G34-D34","v":551.40610000000015},6.4002578308263544E-2]

{"sheet":"BI_CPUC_USL_Avg","index":56,"n_rows":35,"n_cols":9,"rows_kept":35,"cut":false,"hidden":false,"merged":[[0,0,0,10],[8,0,9,0],[8,1,8,3],[8,4,8,6],[8,7,8,8]]}
["Bill Impacts (Average Consumption Level) - USL-CPUC"]
[]
["Rate Class",{"$f":"RIGHT(A1,LEN(A1)-FIND(\"- \",A1,1)-1)","v":"USL-CPUC"}]
["Monthly Consumption (kWh)",{"$f":"IF(COUNTIF(A1,\"*Low*\")>0,VLOOKUP(B3,'Data Billing Quantities'!$A:$Z,MATCH(\"Low kWh\",'Data Billing Quantities'!4:4,0),FALSE),IF(COUNTIF(A1,\"*Typical*\")>0,VLOOKUP(B3,'Data Billing Quantities'!$A:$Z,MATCH(\"Typical kWh\",'Data Billing Quantities'!4:4,0),FALSE),IF(COUNTIF(A1,\"*Average*\")>0,VLOOKUP(B3,'Data Billing Quantities'!$A:$Z,MATCH(\"Average kWh\",'Data Billing Quantities'!4:4,0),FALSE),IF(COUNTIF(A1,\"*High*\")>0,VLOOKUP(B3,'Data Billing Quantities'!$A:$Z,MATCH(\"High kWh\",'Data Billing Quantities'!4:4,0),FALSE),\"error\"))))","v":60}]
["Peak (kW)",{"$f":"IF(COUNTIF(A1,\"*Low*\")>0,VLOOKUP(B3,'Data Billing Quantities'!$A:$Z,MATCH(\"Low kW\",'Data Billing Quantities'!4:4,0),FALSE),IF(COUNTIF(A1,\"*Typical*\")>0,VLOOKUP(B3,'Data Billing Quantities'!$A:$Z,MATCH(\"Typical kW\",'Data Billing Quantities'!4:4,0),FALSE),IF(COUNTIF(A1,\"*Average*\")>0,VLOOKUP(B3,'Data Billing Quantities'!$A:$Z,MATCH(\"Average kW\",'Data Billing Quantities'!4:4,0),FALSE),IF(COUNTIF(A1,\"*High*\")>0,VLOOKUP(B3,'Data Billing Quantities'!$A:$Z,MATCH(\"High kW\",'Data Billing Quantities'!4:4,0),FALSE),\"error\"))))","v":0}]
["Loss factor",{"$f":"VLOOKUP(B3,'Data Billing Quantities'!A:D,MATCH(A6,'Data Billing Quantities'!4:4,0),FALSE)","v":1.0920000000000001}]
["Charge determinant",{"$f":"VLOOKUP(B3,'Data Billing Quantities'!A:D,MATCH(A7,'Data Billing Quantities'!4:4,0),FALSE)","v":"kWh"}]
[]
[null,"Current OEB-Approved",null,null,"Proposed",null,null,"Impact"]
[null,"Rate ($)","Volume","Charge ($)","Rate ($)","Volume","Charge ($)","$ Change","% Change"]
["Service Charge",{"$f":"VLOOKUP($B$3,'Data Current Rates'!$A:$AO,MATCH(BI_CPUC_USL_Avg!$A11,CurrentHeader,0),FALSE)","v":38.29},1,{"$f":"B11*C11","v":38.29},{"$f":"VLOOKUP($B$3,'Data Proposed Rates'!$A:$AT,MATCH(BI_CPUC_USL_Avg!$A11,ProposedHeader,0),FALSE)","v":38.29},1,{"$f":"E11*F11","v":38.29},{"$f":"G11-D11","v":0},{"$f":"IF(ISERROR(H11/ABS(D11)),\"N/A\",(H11/ABS(D11)))","v":0}]
["Distribution Volumetric Charge",{"$f":"VLOOKUP($B$3,'Data Current Rates'!$A:$AO,MATCH(BI_CPUC_USL_Avg!$A12,CurrentHeader,0),FALSE)","v":3.3700000000000001E-2},{"$f":"IF($B$7=\"kWh\",$B$4,$B$5)","v":60},{"$f":"B12*C12","v":2.0220000000000002},{"$f":"VLOOKUP($B$3,'Data Proposed Rates'!$A:$AT,MATCH(BI_CPUC_USL_Avg!$A12,ProposedHeader,0),FALSE)","v":3.95E-2},{"$f":"IF($B$7=\"kWh\",$B$4,$B$5)","v":60},2.37,0.34799999999999986,0.17210682492581594]
["Group 2 Fixed Rate Rider",{"$f":"VLOOKUP($B$3,'Data Current Rates'!$A:$AO,MATCH(BI_CPUC_USL_Avg!$A13,CurrentHeader,0),FALSE)","v":0},1,{"$f":"B13*C13","v":0},{"$f":"VLOOKUP($B$3,'Data Proposed Rates'!$A:$AT,MATCH(BI_CPUC_USL_Avg!$A13,ProposedHeader,0),FALSE)","v":0},1,0,0,"N/A"]
["Group 2 Volumetric Rate Rider",{"$f":"VLOOKUP($B$3,'Data Current Rates'!$A:$AO,MATCH(BI_CPUC_USL_Avg!$A14,CurrentHeader,0),FALSE)","v":0},{"$f":"IF($B$7=\"kWh\",$B$4,$B$5)","v":60},{"$f":"B14*C14","v":0},{"$f":"VLOOKUP($B$3,'Data Proposed Rates'!$A:$AT,MATCH(BI_CPUC_USL_Avg!$A14,ProposedHeader,0),FALSE)","v":0},{"$f":"IF($B$7=\"kWh\",$B$4,$B$5)","v":60},0,0,"N/A"]
["Sub-Total A (excluding pass through)",null,null,{"$f":"SUM(D11:D14)","v":40.311999999999998},null,null,{"$f":"SUM(G11:G14)","v":40.659999999999997},0.34799999999999898,8.6326652113514341E-3]
["Line Losses on Cost of Power",{"$f":"IF($B$4*12>=150000,0,IF($B$4>=750,$B30,$B29))","v":0.12},{"$f":"IF($B16=0,0,$B4*$B6-$B4)","v":5.5200000000000102},{"$f":"B16*C16","v":0.66240000000000121},{"$f":"IF($B$4*12>=150000,0,IF($B$4>=750,$E30,$E29))","v":0.12},{"$f":"IF($B16=0,0,$B4*$B6-$B4)","v":5.5200000000000102},0.66240000000000121,0,0]
["Total Deferral/Variance Account Rate Rider",{"$f":"VLOOKUP($B$3,'Data Current Rates'!$A:$AO,MATCH(BI_CPUC_USL_Avg!$A17,CurrentHeader,0),FALSE)","v":0},{"$f":"IF($B$7=\"kWh\",$B$4,$B$5)","v":60},0,{"$f":"VLOOKUP($B$3,'Data Proposed Rates'!$A:$AT,MATCH(BI_CPUC_USL_Avg!$A17,ProposedHeader,0),FALSE)","v":1.4E-3},{"$f":"IF($B$7=\"kWh\",$B$4,$B$5)","v":60},8.4000000000000005E-2,8.4000000000000005E-2,"N/A"]
["CBR Class B Rate Rider",{"$f":"VLOOKUP($B$3,'Data Current Rates'!$A:$AO,MATCH(BI_CPUC_USL_Avg!$A18,CurrentHeader,0),FALSE)","v":0},{"$f":"IF($B$7=\"kWh\",$B$4,$B$5)","v":60},0,{"$f":"VLOOKUP($B$3,'Data Proposed Rates'!$A:$AT,MATCH(BI_CPUC_USL_Avg!$A18,ProposedHeader,0),FALSE)","v":0},{"$f":"IF($B$7=\"kWh\",$B$4,$B$5)","v":60},0,0,"N/A"]
["GA Rate Rider",{"$f":"VLOOKUP($B$3,'Data Current Rates'!$A:$AO,MATCH(BI_CPUC_USL_Avg!$A19,CurrentHeader,0),FALSE)","v":0},{"$f":"IF($B$7=\"kWh\",$B$4,$B$5)","v":60},0,{"$f":"VLOOKUP($B$3,'Data Proposed Rates'!$A:$AT,MATCH(BI_CPUC_USL_Avg!$A19,ProposedHeader,0),FALSE)","v":0},{"$f":"IF($B$7=\"kWh\",$B$4,$B$5)","v":60},0,0,"N/A"]
["Rate Rider for Account 1588",null,null,null,{"$f":"VLOOKUP($B$3,'Data Proposed Rates'!$A:$AT,MATCH(BI_CPUC_USL_Avg!$A20,ProposedHeader,0),FALSE)","v":-1E-3},{"$f":"IF($B$7=\"kWh\",$B$4,$B$5)","v":60},-0.06,-0.06,"N/A"]
["Sub-Total B - Distribution (includes Sub-Total A)",null,null,{"$f":"SUM(INDIRECT(\"D15:D\"&ROW()-1))","v":40.974399999999996},null,null,{"$f":"SUM(INDIRECT(\"G15:G\"&ROW()-1))","v":41.346399999999996},0.37199999999999989,9.0788394704986505E-3]
["Retail Transmission Rate – Network Service Rate",{"$f":"VLOOKUP($B$3,'Data Current Rates'!$A:$AO,MATCH(BI_CPUC_USL_Avg!$A22,CurrentHeader,0),FALSE)","v":8.5000000000000006E-3},{"$f":"IF($B$7=\"kWh\",$B$4*$B$6,$B$5)","v":65.52000000000001},{"$f":"B22*C22","v":0.55692000000000008},{"$f":"VLOOKUP($B$3,'Data Proposed Rates'!$A:$AT,MATCH(BI_CPUC_USL_Avg!$A22,ProposedHeader,0),FALSE)","v":8.6999999999999994E-3},{"$f":"IF($B$7=\"kWh\",$B$4*$B$6,$B$5)","v":65.52000000000001},0.57002400000000009,1.3104000000000005E-2,2.3529411764705885E-2]
["Retail Transmission Rate – Line and Transformation Connection Service Rate",{"$f":"VLOOKUP($B$3,'Data Current Rates'!$A:$AO,MATCH(BI_CPUC_USL_Avg!$A23,CurrentHeader,0),FALSE)","v":6.1999999999999998E-3},{"$f":"IF($B$7=\"kWh\",$B$4*$B$6,$B$5)","v":65.52000000000001},0.40622400000000003,{"$f":"VLOOKUP($B$3,'Data Proposed Rates'!$A:$AT,MATCH(BI_CPUC_USL_Avg!$A23,ProposedHeader,0),FALSE)","v":6.4000000000000003E-3},{"$f":"IF($B$7=\"kWh\",$B$4*$B$6,$B$5)","v":65.52000000000001},0.41932800000000009,1.310400000000006E-2,3.2258064516129177E-2]
["Sub-Total C - Delivery (including Sub-Total B)",null,null,{"$f":"SUM(D21:D23)","v":41.937543999999995},null,null,{"$f":"SUM(G21:G23)","v":42.335751999999992},0.39820799999999679,9.4952627650297505E-3]
["Wholesale Market Service Rate (WMS) – not including CBR",{"$f":"VLOOKUP($A25,'Data Pass Through'!$A:$D,2,FALSE)","v":4.1000000000000003E-3},{"$f":"$B$4*$B$6","v":65.52000000000001},{"$f":"B25*C25","v":0.26863200000000004},{"$f":"VLOOKUP($A25,'Data Pass Through'!$A:$D,3,FALSE)","v":4.1000000000000003E-3},{"$f":"$B$4*$B$6","v":65.52000000000001},0.26863200000000004,0,0]
["Capacity Based Recovery (CBR) – Applicable for Class B Customers",{"$f":"VLOOKUP($A26,'Data Pass Through'!$A:$D,2,FALSE)","v":5.9999999999999995E-4},{"$f":"$B$4*$B$6","v":65.52000000000001},3.9312E-2,{"$f":"VLOOKUP($A26,'Data Pass Through'!$A:$D,3,FALSE)","v":5.9999999999999995E-4},{"$f":"$B$4*$B$6","v":65.52000000000001},3.9312E-2,0,0]
["Rural Rate Protection Charge",{"$f":"VLOOKUP($A27,'Data Pass Through'!$A:$D,2,FALSE)","v":5.9999999999999995E-4},{"$f":"$B$4*$B$6","v":65.52000000000001},3.9312E-2,{"$f":"VLOOKUP($A27,'Data Pass Through'!$A:$D,3,FALSE)","v":5.9999999999999995E-4},{"$f":"$B$4*$B$6","v":65.52000000000001},3.9312E-2,0,0]
["Standard Supply Service – Administration Charge (if applicable)",{"$f":"VLOOKUP($A28,'Data Pass Through'!$A:$D,2,FALSE)","v":0.25},1,0.25,{"$f":"VLOOKUP($A28,'Data Pass Through'!$A:$D,3,FALSE)","v":0.25},1,0.25,0,0]
["RPP Tier 1",{"$f":"VLOOKUP($A29,'Data Pass Through'!$A:$D,2,FALSE)","v":0.12},{"$f":"IF(($B4*12>=150000),750,IF($B4>=750,750,$B4))","v":60},7.1999999999999993,{"$f":"VLOOKUP($A29,'Data Pass Through'!$A:$D,3,FALSE)","v":0.12},{"$f":"IF(($B4*12>=150000),750,IF($B4>=750,750,$B4))","v":60},7.1999999999999993,0,0]
["RPP Tier 2",{"$f":"VLOOKUP($A30,'Data Pass Through'!$A:$D,2,FALSE)","v":0.14199999999999999},{"$f":"IF(($B4*12>=150000),($B4*$B6)-750,IF($B4>=750,($B4-750),0))","v":0},0,{"$f":"VLOOKUP($A30,'Data Pass Through'!$A:$D,3,FALSE)","v":0.14199999999999999},{"$f":"IF(($B4*12>=150000),($B4*$B6)-750,IF($B4>=750,($B4-750),0))","v":0},0,0,"N/A"]
["Total Bill on Two-Tier RPP (before Taxes)",null,null,{"$f":"SUM(D24:D30)","v":49.734799999999993},null,null,{"$f":"SUM(G24:G30)","v":50.13300799999999},0.39820799999999679,8.0066271504056884E-3]
["HST",0.13,null,{"$f":"D31*B32","v":6.4655239999999994},{"$f":"B32","v":0.13},null,{"$f":"G31*E32","v":6.517291039999999},5.1767039999999653E-2,8.0066271504056988E-3]
["Ontario Electricity Rebate (OER)",{"$f":"IF(($B$4*12)<250000,VLOOKUP(A33,'Data Pass Through'!$A$4:$C$19,2,0),0)","v":-0.23499999999999999},null,{"$f":"D31*B33","v":-11.687677999999998},{"$f":"IF(($B$4*12)<250000,VLOOKUP($A33,'Data Pass Through'!$A$4:$C$19,3,0),0)","v":-0.23499999999999999},null,{"$f":"G31*E33","v":-11.781256879999997},-9.3578879999999032E-2,-8.0066271504056711E-3]
["Total Bill on Two-Tier RPP",null,null,{"$f":"SUM(D31:D33)","v":44.512645999999997},null,null,{"$f":"SUM(G31:G33)","v":44.869042159999992},0.35639615999999563,8.0066271504056537E-3]
["* Distribution rate protection applies to R1 and R2 customers"]

{"sheet":"BI_CPUC_SenLgt_Avg","index":57,"n_rows":35,"n_cols":9,"rows_kept":35,"cut":false,"hidden":false,"merged":[[0,0,0,10],[8,0,9,0],[8,1,8,3],[8,4,8,6],[8,7,8,8]]}
["Bill Impacts (Average Consumption Level) - Sen Lgt-CPUC"]
[]
["Rate Class",{"$f":"RIGHT(A1,LEN(A1)-FIND(\"- \",A1,1)-1)","v":"Sen Lgt-CPUC"}]
["Monthly Consumption (kWh)",{"$f":"IF(COUNTIF(A1,\"*Low*\")>0,VLOOKUP(B3,'Data Billing Quantities'!$A:$Z,MATCH(\"Low kWh\",'Data Billing Quantities'!4:4,0),FALSE),IF(COUNTIF(A1,\"*Typical*\")>0,VLOOKUP(B3,'Data Billing Quantities'!$A:$Z,MATCH(\"Typical kWh\",'Data Billing Quantities'!4:4,0),FALSE),IF(COUNTIF(A1,\"*Average*\")>0,VLOOKUP(B3,'Data Billing Quantities'!$A:$Z,MATCH(\"Average kWh\",'Data Billing Quantities'!4:4,0),FALSE),IF(COUNTIF(A1,\"*High*\")>0,VLOOKUP(B3,'Data Billing Quantities'!$A:$Z,MATCH(\"High kWh\",'Data Billing Quantities'!4:4,0),FALSE),\"error\"))))","v":220}]
["Peak (kW)",{"$f":"IF(COUNTIF(A1,\"*Low*\")>0,VLOOKUP(B3,'Data Billing Quantities'!$A:$Z,MATCH(\"Low kW\",'Data Billing Quantities'!4:4,0),FALSE),IF(COUNTIF(A1,\"*Typical*\")>0,VLOOKUP(B3,'Data Billing Quantities'!$A:$Z,MATCH(\"Typical kW\",'Data Billing Quantities'!4:4,0),FALSE),IF(COUNTIF(A1,\"*Average*\")>0,VLOOKUP(B3,'Data Billing Quantities'!$A:$Z,MATCH(\"Average kW\",'Data Billing Quantities'!4:4,0),FALSE),IF(COUNTIF(A1,\"*High*\")>0,VLOOKUP(B3,'Data Billing Quantities'!$A:$Z,MATCH(\"High kW\",'Data Billing Quantities'!4:4,0),FALSE),\"error\"))))","v":0.6}]
["Loss factor",{"$f":"VLOOKUP(B3,'Data Billing Quantities'!A:D,MATCH(A6,'Data Billing Quantities'!4:4,0),FALSE)","v":1.0920000000000001}]
["Charge determinant",{"$f":"VLOOKUP(B3,'Data Billing Quantities'!A:D,MATCH(A7,'Data Billing Quantities'!4:4,0),FALSE)","v":"kWh"}]
[]
[null,"Current OEB-Approved",null,null,"Proposed",null,null,"Impact"]
[null,"Rate ($)","Volume","Charge ($)","Rate ($)","Volume","Charge ($)","$ Change","% Change"]
["Service Charge",{"$f":"VLOOKUP($B$3,'Data Current Rates'!$A:$AO,MATCH(BI_CPUC_SenLgt_Avg!$A11,CurrentHeader,0),FALSE)","v":3.37},1,{"$f":"B11*C11","v":3.37},{"$f":"VLOOKUP($B$3,'Data Proposed Rates'!$A:$AT,MATCH(BI_CPUC_SenLgt_Avg!$A11,ProposedHeader,0),FALSE)","v":3.51},1,{"$f":"E11*F11","v":3.51},{"$f":"G11-D11","v":0.13999999999999968},{"$f":"IF(ISERROR(H11/ABS(D11)),\"N/A\",(H11/ABS(D11)))","v":4.1543026706231355E-2}]
["Distribution Volumetric Charge",{"$f":"VLOOKUP($B$3,'Data Current Rates'!$A:$AO,MATCH(BI_CPUC_SenLgt_Avg!$A12,CurrentHeader,0),FALSE)","v":0.19009999999999999},{"$f":"IF($B$7=\"kWh\",$B$4,$B$5)","v":220},{"$f":"B12*C12","v":41.821999999999996},{"$f":"VLOOKUP($B$3,'Data Proposed Rates'!$A:$AT,MATCH(BI_CPUC_SenLgt_Avg!$A12,ProposedHeader,0),FALSE)","v":0.20019999999999999},{"$f":"IF($B$7=\"kWh\",$B$4,$B$5)","v":220},44.043999999999997,2.2220000000000013,5.3129931614939542E-2]
["Group 2 Fixed Rate Rider",{"$f":"VLOOKUP($B$3,'Data Current Rates'!$A:$AO,MATCH(BI_CPUC_SenLgt_Avg!$A13,CurrentHeader,0),FALSE)","v":0},1,{"$f":"B13*C13","v":0},{"$f":"VLOOKUP($B$3,'Data Proposed Rates'!$A:$AT,MATCH(BI_CPUC_SenLgt_Avg!$A13,ProposedHeader,0),FALSE)","v":0},1,0,0,"N/A"]
["Group 2 Volumetric Rate Rider",{"$f":"VLOOKUP($B$3,'Data Current Rates'!$A:$AO,MATCH(BI_CPUC_SenLgt_Avg!$A14,CurrentHeader,0),FALSE)","v":0},{"$f":"IF($B$7=\"kWh\",$B$4,$B$5)","v":220},{"$f":"B14*C14","v":0},{"$f":"VLOOKUP($B$3,'Data Proposed Rates'!$A:$AT,MATCH(BI_CPUC_SenLgt_Avg!$A14,ProposedHeader,0),FALSE)","v":0},{"$f":"IF($B$7=\"kWh\",$B$4,$B$5)","v":220},0,0,"N/A"]
["Sub-Total A (excluding pass through)",null,null,{"$f":"SUM(D11:D14)","v":45.191999999999993},null,null,{"$f":"SUM(G11:G14)","v":47.553999999999995},2.3620000000000019,5.2265887767746551E-2]
["Line Losses on Cost of Power",{"$f":"IF($B$4*12>=150000,0,IF($B$4>=750,$B30,$B29))","v":0.12},{"$f":"IF($B16=0,0,$B4*$B6-$B4)","v":20.240000000000009},{"$f":"B16*C16","v":2.4288000000000012},{"$f":"IF($B$4*12>=150000,0,IF($B$4>=750,$E30,$E29))","v":0.12},{"$f":"IF($B16=0,0,$B4*$B6-$B4)","v":20.240000000000009},2.4288000000000012,0,0]
["Total Deferral/Variance Account Rate Rider",{"$f":"VLOOKUP($B$3,'Data Current Rates'!$A:$AO,MATCH(BI_CPUC_SenLgt_Avg!$A17,CurrentHeader,0),FALSE)","v":0},{"$f":"IF($B$7=\"kWh\",$B$4,$B$5)","v":220},0,{"$f":"VLOOKUP($B$3,'Data Proposed Rates'!$A:$AT,MATCH(BI_CPUC_SenLgt_Avg!$A17,ProposedHeader,0),FALSE)","v":1.4E-3},{"$f":"IF($B$7=\"kWh\",$B$4,$B$5)","v":220},0.308,0.308,"N/A"]
["CBR Class B Rate Rider",{"$f":"VLOOKUP($B$3,'Data Current Rates'!$A:$AO,MATCH(BI_CPUC_SenLgt_Avg!$A18,CurrentHeader,0),FALSE)","v":0},{"$f":"IF($B$7=\"kWh\",$B$4,$B$5)","v":220},0,{"$f":"VLOOKUP($B$3,'Data Proposed Rates'!$A:$AT,MATCH(BI_CPUC_SenLgt_Avg!$A18,ProposedHeader,0),FALSE)","v":0},{"$f":"IF($B$7=\"kWh\",$B$4,$B$5)","v":220},0,0,"N/A"]
["GA Rate Rider",{"$f":"VLOOKUP($B$3,'Data Current Rates'!$A:$AO,MATCH(BI_CPUC_SenLgt_Avg!$A19,CurrentHeader,0),FALSE)","v":0},{"$f":"IF($B$7=\"kWh\",$B$4,$B$5)","v":220},0,{"$f":"VLOOKUP($B$3,'Data Proposed Rates'!$A:$AT,MATCH(BI_CPUC_SenLgt_Avg!$A19,ProposedHeader,0),FALSE)","v":0},{"$f":"IF($B$7=\"kWh\",$B$4,$B$5)","v":220},0,0,"N/A"]
["Rate Rider for Account 1588",null,null,null,{"$f":"VLOOKUP($B$3,'Data Proposed Rates'!$A:$AT,MATCH(BI_CPUC_SenLgt_Avg!$A20,ProposedHeader,0),FALSE)","v":-1E-3},{"$f":"IF($B$7=\"kWh\",$B$4,$B$5)","v":220},-0.22,-0.22,"N/A"]
["Sub-Total B - Distribution (includes Sub-Total A)",null,null,{"$f":"SUM(INDIRECT(\"D15:D\"&ROW()-1))","v":47.620799999999996},null,null,{"$f":"SUM(INDIRECT(\"G15:G\"&ROW()-1))","v":50.070799999999998},2.4500000000000028,5.1448106709673147E-2]
["Retail Transmission Rate – Network Service Rate",{"$f":"VLOOKUP($B$3,'Data Current Rates'!$A:$AO,MATCH(BI_CPUC_SenLgt_Avg!$A22,CurrentHeader,0),FALSE)","v":7.4000000000000003E-3},{"$f":"IF($B$7=\"kWh\",$B$4*$B$6,$B$5)","v":240.24},{"$f":"B22*C22","v":1.7777760000000002},{"$f":"VLOOKUP($B$3,'Data Proposed Rates'!$A:$AT,MATCH(BI_CPUC_SenLgt_Avg!$A22,ProposedHeader,0),FALSE)","v":7.6E-3},{"$f":"IF($B$7=\"kWh\",$B$4*$B$6,$B$5)","v":240.24},1.8258240000000001,4.8047999999999869E-2,2.7027027027026949E-2]
["Retail Transmission Rate – Line and Transformation Connection Service Rate",{"$f":"VLOOKUP($B$3,'Data Current Rates'!$A:$AO,MATCH(BI_CPUC_SenLgt_Avg!$A23,CurrentHeader,0),FALSE)","v":5.7000000000000002E-3},{"$f":"IF($B$7=\"kWh\",$B$4*$B$6,$B$5)","v":240.24},1.3693680000000001,{"$f":"VLOOKUP($B$3,'Data Proposed Rates'!$A:$AT,MATCH(BI_CPUC_SenLgt_Avg!$A23,ProposedHeader,0),FALSE)","v":5.7999999999999996E-3},{"$f":"IF($B$7=\"kWh\",$B$4*$B$6,$B$5)","v":240.24},1.393392,2.4023999999999823E-2,1.7543859649122678E-2]
["Sub-Total C - Delivery (including Sub-Total B)",null,null,{"$f":"SUM(D21:D23)","v":50.767944},null,null,{"$f":"SUM(G21:G23)","v":53.290015999999994},2.5220719999999943,4.9678434880088787E-2]
["Wholesale Market Service Rate (WMS) – not including CBR",{"$f":"VLOOKUP($A25,'Data Pass Through'!$A:$D,2,FALSE)","v":4.1000000000000003E-3},{"$f":"$B$4*$B$6","v":240.24},{"$f":"B25*C25","v":0.98498400000000008},{"$f":"VLOOKUP($A25,'Data Pass Through'!$A:$D,3,FALSE)","v":4.1000000000000003E-3},{"$f":"$B$4*$B$6","v":240.24},0.98498400000000008,0,0]
["Capacity Based Recovery (CBR) – Applicable for Class B Customers",{"$f":"VLOOKUP($A26,'Data Pass Through'!$A:$D,2,FALSE)","v":5.9999999999999995E-4},{"$f":"$B$4*$B$6","v":240.24},0.14414399999999999,{"$f":"VLOOKUP($A26,'Data Pass Through'!$A:$D,3,FALSE)","v":5.9999999999999995E-4},{"$f":"$B$4*$B$6","v":240.24},0.14414399999999999,0,0]
["Rural Rate Protection Charge",{"$f":"VLOOKUP($A27,'Data Pass Through'!$A:$D,2,FALSE)","v":5.9999999999999995E-4},{"$f":"$B$4*$B$6","v":240.24},0.14414399999999999,{"$f":"VLOOKUP($A27,'Data Pass Through'!$A:$D,3,FALSE)","v":5.9999999999999995E-4},{"$f":"$B$4*$B$6","v":240.24},0.14414399999999999,0,0]
["Standard Supply Service – Administration Charge (if applicable)",{"$f":"VLOOKUP($A28,'Data Pass Through'!$A:$D,2,FALSE)","v":0.25},1,0.25,{"$f":"VLOOKUP($A28,'Data Pass Through'!$A:$D,3,FALSE)","v":0.25},1,0.25,0,0]
["RPP Tier 1",{"$f":"VLOOKUP($A29,'Data Pass Through'!$A:$D,2,FALSE)","v":0.12},{"$f":"IF(($B4*12>=150000),750,IF($B4>=750,750,$B4))","v":220},26.4,{"$f":"VLOOKUP($A29,'Data Pass Through'!$A:$D,3,FALSE)","v":0.12},{"$f":"IF(($B4*12>=150000),750,IF($B4>=750,750,$B4))","v":220},26.4,0,0]
["RPP Tier 2",{"$f":"VLOOKUP($A30,'Data Pass Through'!$A:$D,2,FALSE)","v":0.14199999999999999},{"$f":"IF(($B4*12>=150000),($B4*$B6)-750,IF($B4>=750,($B4-750),0))","v":0},0,{"$f":"VLOOKUP($A30,'Data Pass Through'!$A:$D,3,FALSE)","v":0.14199999999999999},{"$f":"IF(($B4*12>=150000),($B4*$B6)-750,IF($B4>=750,($B4-750),0))","v":0},0,0,"N/A"]
["Total Bill on Two-Tier RPP (before Taxes)",null,null,{"$f":"SUM(D24:D30)","v":78.691215999999997},null,null,{"$f":"SUM(G24:G30)","v":81.213287999999977},2.5220719999999801,3.2050235441780185E-2]
["HST",0.13,null,{"$f":"D31*B32","v":10.22985808},{"$f":"B32","v":0.13},null,{"$f":"G31*E32","v":10.557727439999997},0.32786935999999756,3.2050235441780199E-2]
["Ontario Electricity Rebate (OER)",{"$f":"IF(($B$4*12)<250000,VLOOKUP(A33,'Data Pass Through'!$A$4:$C$19,2,0),0)","v":-0.23499999999999999},null,{"$f":"D31*B33","v":-18.492435759999999},{"$f":"IF(($B$4*12)<250000,VLOOKUP($A33,'Data Pass Through'!$A$4:$C$19,3,0),0)","v":-0.23499999999999999},null,{"$f":"G31*E33","v":-19.085122679999994},-0.5926869199999949,-3.2050235441780164E-2]
["Total Bill on Two-Tier RPP",null,null,{"$f":"SUM(D31:D33)","v":70.428638320000005},null,null,{"$f":"SUM(G31:G33)","v":72.685892759999973},2.2572544399999686,3.2050235441779991E-2]
["* Distribution rate protection applies to R1 and R2 customers"]

{"sheet":"BI_CPUC_StLgt_Avg","index":58,"n_rows":35,"n_cols":9,"rows_kept":35,"cut":false,"hidden":false,"merged":[[0,0,0,10],[8,0,9,0],[8,1,8,3],[8,4,8,6],[8,7,8,8]]}
["Bill Impacts (Average Consumption Level) - St Lgt-CPUC"]
[]
["Rate Class",{"$f":"RIGHT(A1,LEN(A1)-FIND(\"- \",A1,1)-1)","v":"St Lgt-CPUC"}]
["Monthly Consumption (kWh)",{"$f":"IF(COUNTIF(A1,\"*Low*\")>0,VLOOKUP(B3,'Data Billing Quantities'!$A:$Z,MATCH(\"Low kWh\",'Data Billing Quantities'!4:4,0),FALSE),IF(COUNTIF(A1,\"*Typical*\")>0,VLOOKUP(B3,'Data Billing Quantities'!$A:$Z,MATCH(\"Typical kWh\",'Data Billing Quantities'!4:4,0),FALSE),IF(COUNTIF(A1,\"*Average*\")>0,VLOOKUP(B3,'Data Billing Quantities'!$A:$Z,MATCH(\"Average kWh\",'Data Billing Quantities'!4:4,0),FALSE),IF(COUNTIF(A1,\"*High*\")>0,VLOOKUP(B3,'Data Billing Quantities'!$A:$Z,MATCH(\"High kWh\",'Data Billing Quantities'!4:4,0),FALSE),\"error\"))))","v":8300}]
["Peak (kW)",{"$f":"IF(COUNTIF(A1,\"*Low*\")>0,VLOOKUP(B3,'Data Billing Quantities'!$A:$Z,MATCH(\"Low kW\",'Data Billing Quantities'!4:4,0),FALSE),IF(COUNTIF(A1,\"*Typical*\")>0,VLOOKUP(B3,'Data Billing Quantities'!$A:$Z,MATCH(\"Typical kW\",'Data Billing Quantities'!4:4,0),FALSE),IF(COUNTIF(A1,\"*Average*\")>0,VLOOKUP(B3,'Data Billing Quantities'!$A:$Z,MATCH(\"Average kW\",'Data Billing Quantities'!4:4,0),FALSE),IF(COUNTIF(A1,\"*High*\")>0,VLOOKUP(B3,'Data Billing Quantities'!$A:$Z,MATCH(\"High kW\",'Data Billing Quantities'!4:4,0),FALSE),\"error\"))))","v":21}]
["Loss factor",{"$f":"VLOOKUP(B3,'Data Billing Quantities'!A:D,MATCH(A6,'Data Billing Quantities'!4:4,0),FALSE)","v":1.0920000000000001}]
["Charge determinant",{"$f":"VLOOKUP(B3,'Data Billing Quantities'!A:D,MATCH(A7,'Data Billing Quantities'!4:4,0),FALSE)","v":"kWh"}]
[]
[null,"Current OEB-Approved",null,null,"Proposed",null,null,"Impact"]
[null,"Rate ($)","Volume","Charge ($)","Rate ($)","Volume","Charge ($)","$ Change","% Change"]
["Service Charge",{"$f":"VLOOKUP($B$3,'Data Current Rates'!$A:$AO,MATCH(BI_CPUC_StLgt_Avg!$A11,CurrentHeader,0),FALSE)","v":3.31},1,{"$f":"B11*C11","v":3.31},{"$f":"VLOOKUP($B$3,'Data Proposed Rates'!$A:$AT,MATCH(BI_CPUC_StLgt_Avg!$A11,ProposedHeader,0),FALSE)","v":3.42},1,{"$f":"E11*F11","v":3.42},{"$f":"G11-D11","v":0.10999999999999988},{"$f":"IF(ISERROR(H11/ABS(D11)),\"N/A\",(H11/ABS(D11)))","v":3.32326283987915E-2}]
["Distribution Volumetric Charge",{"$f":"VLOOKUP($B$3,'Data Current Rates'!$A:$AO,MATCH(BI_CPUC_StLgt_Avg!$A12,CurrentHeader,0),FALSE)","v":0.1235},{"$f":"IF($B$7=\"kWh\",$B$4,$B$5)","v":8300},{"$f":"B12*C12","v":1025.05},{"$f":"VLOOKUP($B$3,'Data Proposed Rates'!$A:$AT,MATCH(BI_CPUC_StLgt_Avg!$A12,ProposedHeader,0),FALSE)","v":0.12970000000000001},{"$f":"IF($B$7=\"kWh\",$B$4,$B$5)","v":8300},1076.51,51.460000000000036,5.0202429149797612E-2]
["Group 2 Fixed Rate Rider",{"$f":"VLOOKUP($B$3,'Data Current Rates'!$A:$AO,MATCH(BI_CPUC_StLgt_Avg!$A13,CurrentHeader,0),FALSE)","v":0},1,{"$f":"B13*C13","v":0},{"$f":"VLOOKUP($B$3,'Data Proposed Rates'!$A:$AT,MATCH(BI_CPUC_StLgt_Avg!$A13,ProposedHeader,0),FALSE)","v":0},1,0,0,"N/A"]
["Group 2 Volumetric Rate Rider",{"$f":"VLOOKUP($B$3,'Data Current Rates'!$A:$AO,MATCH(BI_CPUC_StLgt_Avg!$A14,CurrentHeader,0),FALSE)","v":0},{"$f":"IF($B$7=\"kWh\",$B$4,$B$5)","v":8300},{"$f":"B14*C14","v":0},{"$f":"VLOOKUP($B$3,'Data Proposed Rates'!$A:$AT,MATCH(BI_CPUC_StLgt_Avg!$A14,ProposedHeader,0),FALSE)","v":0},{"$f":"IF($B$7=\"kWh\",$B$4,$B$5)","v":8300},0,0,"N/A"]
["Sub-Total A (excluding pass through)",null,null,{"$f":"SUM(D11:D14)","v":1028.3599999999999},null,null,{"$f":"SUM(G11:G14)","v":1079.93},51.570000000000164,5.01478081605665E-2]
["Line Losses on Cost of Power",{"$f":"IF($B$4*12>=150000,0,IF($B$4>=750,$B30,$B29))","v":0.14199999999999999},{"$f":"IF($B16=0,0,$B4*$B6-$B4)","v":763.60000000000036},{"$f":"B16*C16","v":108.43120000000005},{"$f":"IF($B$4*12>=150000,0,IF($B$4>=750,$E30,$E29))","v":0.14199999999999999},{"$f":"IF($B16=0,0,$B4*$B6-$B4)","v":763.60000000000036},108.43120000000005,0,0]
["Total Deferral/Variance Account Rate Rider",{"$f":"VLOOKUP($B$3,'Data Current Rates'!$A:$AO,MATCH(BI_CPUC_StLgt_Avg!$A17,CurrentHeader,0),FALSE)","v":0},{"$f":"IF($B$7=\"kWh\",$B$4,$B$5)","v":8300},0,{"$f":"VLOOKUP($B$3,'Data Proposed Rates'!$A:$AT,MATCH(BI_CPUC_StLgt_Avg!$A17,ProposedHeader,0),FALSE)","v":1.8E-3},{"$f":"IF($B$7=\"kWh\",$B$4,$B$5)","v":8300},14.94,14.94,"N/A"]
["CBR Class B Rate Rider",{"$f":"VLOOKUP($B$3,'Data Current Rates'!$A:$AO,MATCH(BI_CPUC_StLgt_Avg!$A18,CurrentHeader,0),FALSE)","v":0},{"$f":"IF($B$7=\"kWh\",$B$4,$B$5)","v":8300},0,{"$f":"VLOOKUP($B$3,'Data Proposed Rates'!$A:$AT,MATCH(BI_CPUC_StLgt_Avg!$A18,ProposedHeader,0),FALSE)","v":0},{"$f":"IF($B$7=\"kWh\",$B$4,$B$5)","v":8300},0,0,"N/A"]
["GA Rate Rider",{"$f":"VLOOKUP($B$3,'Data Current Rates'!$A:$AO,MATCH(BI_CPUC_StLgt_Avg!$A19,CurrentHeader,0),FALSE)","v":0},{"$f":"IF($B$7=\"kWh\",$B$4,$B$5)","v":8300},0,{"$f":"VLOOKUP($B$3,'Data Proposed Rates'!$A:$AT,MATCH(BI_CPUC_StLgt_Avg!$A19,ProposedHeader,0),FALSE)","v":0},{"$f":"IF($B$7=\"kWh\",$B$4,$B$5)","v":8300},0,0,"N/A"]
["Rate Rider for Account 1588",null,null,null,{"$f":"VLOOKUP($B$3,'Data Proposed Rates'!$A:$AT,MATCH(BI_CPUC_StLgt_Avg!$A20,ProposedHeader,0),FALSE)","v":-1E-3},{"$f":"IF($B$7=\"kWh\",$B$4,$B$5)","v":8300},-8.3000000000000007,-8.3000000000000007,"N/A"]
["Sub-Total B - Distribution (includes Sub-Total A)",null,null,{"$f":"SUM(INDIRECT(\"D15:D\"&ROW()-1))","v":1136.7911999999999},null,null,{"$f":"SUM(INDIRECT(\"G15:G\"&ROW()-1))","v":1195.0012000000002},58.210000000000264,5.1205533610745993E-2]
["Retail Transmission Rate – Network Service Rate",{"$f":"VLOOKUP($B$3,'Data Current Rates'!$A:$AO,MATCH(BI_CPUC_StLgt_Avg!$A22,CurrentHeader,0),FALSE)","v":7.4000000000000003E-3},{"$f":"IF($B$7=\"kWh\",$B$4*$B$6,$B$5)","v":9063.6},{"$f":"B22*C22","v":67.070640000000012},{"$f":"VLOOKUP($B$3,'Data Proposed Rates'!$A:$AT,MATCH(BI_CPUC_StLgt_Avg!$A22,ProposedHeader,0),FALSE)","v":7.6E-3},{"$f":"IF($B$7=\"kWh\",$B$4*$B$6,$B$5)","v":9063.6},68.883359999999996,1.8127199999999846,2.7027027027026793E-2]
["Retail Transmission Rate – Line and Transformation Connection Service Rate",{"$f":"VLOOKUP($B$3,'Data Current Rates'!$A:$AO,MATCH(BI_CPUC_StLgt_Avg!$A23,CurrentHeader,0),FALSE)","v":5.7000000000000002E-3},{"$f":"IF($B$7=\"kWh\",$B$4*$B$6,$B$5)","v":9063.6},51.662520000000001,{"$f":"VLOOKUP($B$3,'Data Proposed Rates'!$A:$AT,MATCH(BI_CPUC_StLgt_Avg!$A23,ProposedHeader,0),FALSE)","v":5.7999999999999996E-3},{"$f":"IF($B$7=\"kWh\",$B$4*$B$6,$B$5)","v":9063.6},52.56888,0.90635999999999939,1.7543859649122796E-2]
["Sub-Total C - Delivery (including Sub-Total B)",null,null,{"$f":"SUM(D21:D23)","v":1255.5243599999999},null,null,{"$f":"SUM(G21:G23)","v":1316.4534400000002},60.92908000000034,4.8528791587922948E-2]
["Wholesale Market Service Rate (WMS) – not including CBR",{"$f":"VLOOKUP($A25,'Data Pass Through'!$A:$D,2,FALSE)","v":4.1000000000000003E-3},{"$f":"$B$4*$B$6","v":9063.6},{"$f":"B25*C25","v":37.160760000000003},{"$f":"VLOOKUP($A25,'Data Pass Through'!$A:$D,3,FALSE)","v":4.1000000000000003E-3},{"$f":"$B$4*$B$6","v":9063.6},37.160760000000003,0,0]
["Capacity Based Recovery (CBR) – Applicable for Class B Customers",{"$f":"VLOOKUP($A26,'Data Pass Through'!$A:$D,2,FALSE)","v":5.9999999999999995E-4},{"$f":"$B$4*$B$6","v":9063.6},5.4381599999999999,{"$f":"VLOOKUP($A26,'Data Pass Through'!$A:$D,3,FALSE)","v":5.9999999999999995E-4},{"$f":"$B$4*$B$6","v":9063.6},5.4381599999999999,0,0]
["Rural Rate Protection Charge",{"$f":"VLOOKUP($A27,'Data Pass Through'!$A:$D,2,FALSE)","v":5.9999999999999995E-4},{"$f":"$B$4*$B$6","v":9063.6},5.4381599999999999,{"$f":"VLOOKUP($A27,'Data Pass Through'!$A:$D,3,FALSE)","v":5.9999999999999995E-4},{"$f":"$B$4*$B$6","v":9063.6},5.4381599999999999,0,0]
["Standard Supply Service – Administration Charge (if applicable)",{"$f":"VLOOKUP($A28,'Data Pass Through'!$A:$D,2,FALSE)","v":0.25},1,0.25,{"$f":"VLOOKUP($A28,'Data Pass Through'!$A:$D,3,FALSE)","v":0.25},1,0.25,0,0]
["RPP Tier 1",{"$f":"VLOOKUP($A29,'Data Pass Through'!$A:$D,2,FALSE)","v":0.12},{"$f":"IF(($B4*12>=150000),750,IF($B4>=750,750,$B4))","v":750},90,{"$f":"VLOOKUP($A29,'Data Pass Through'!$A:$D,3,FALSE)","v":0.12},{"$f":"IF(($B4*12>=150000),750,IF($B4>=750,750,$B4))","v":750},90,0,0]
["RPP Tier 2",{"$f":"VLOOKUP($A30,'Data Pass Through'!$A:$D,2,FALSE)","v":0.14199999999999999},{"$f":"IF(($B4*12>=150000),($B4*$B6)-750,IF($B4>=750,($B4-750),0))","v":7550},1072.0999999999999,{"$f":"VLOOKUP($A30,'Data Pass Through'!$A:$D,3,FALSE)","v":0.14199999999999999},{"$f":"IF(($B4*12>=150000),($B4*$B6)-750,IF($B4>=750,($B4-750),0))","v":7550},1072.0999999999999,0,0]
["Total Bill on Two-Tier RPP (before Taxes)",null,null,{"$f":"SUM(D24:D30)","v":2465.9114399999999},null,null,{"$f":"SUM(G24:G30)","v":2526.8405199999997},60.929079999999885,2.4708543466589333E-2]
["HST",0.13,null,{"$f":"D31*B32","v":320.56848719999999},{"$f":"B32","v":0.13},null,{"$f":"G31*E32","v":328.48926760000001},7.9207804000000124,2.4708543466589416E-2]
["Ontario Electricity Rebate (OER)",{"$f":"IF(($B$4*12)<250000,VLOOKUP(A33,'Data Pass Through'!$A$4:$C$19,2,0),0)","v":-0.23499999999999999},null,{"$f":"D31*B33","v":-579.48918839999999},{"$f":"IF(($B$4*12)<250000,VLOOKUP($A33,'Data Pass Through'!$A$4:$C$19,3,0),0)","v":-0.23499999999999999},null,{"$f":"G31*E33","v":-593.80752219999988},-14.318333799999891,-2.470854346658919E-2]
["Total Bill on Two-Tier RPP",null,null,{"$f":"SUM(D31:D33)","v":2206.9907388000001},null,null,{"$f":"SUM(G31:G33)","v":2261.5222653999999},54.531526599999779,2.4708543466589274E-2]
["* Distribution rate protection applies to R1 and R2 customers"]