Workbook
Name \0: #REF!
Name \A: #REF!
Name \b: #REF!
Name \M: #REF!
Name \P: #REF!
Name \S: #REF!
Name \Z: #REF!
Name ___________N4: #REF!
Name ___________N6: #REF!
Name ________HUB1: #REF!
Name ________HUB2: #REF!
Name ________HUB3: #REF!
Name ________HUB4: #REF!
Name _______ACT995: #REF!
Name _______HUB1: #REF!
Name _______HUB2: #REF!
Name _______HUB3: #REF!
Name _______HUB4: #REF!
Name _______N4: #REF!
Name _______N6: #REF!
Name _______SUM1: #N/A
Name _______SUM2: #REF!
Name _______SUM3: #REF!
Name ______ACT995: #REF!
Name ______all1: #REF!
Name ______cat2: #REF!
Name ______FED07: #REF!
Name ______FED09: #REF!
Name ______FED10: #REF!
Name ______FED11: #REF!
Name ______HUB1: #REF!
Name ______HUB2: #REF!
Name ______HUB3: #REF!
Name ______HUB4: #REF!
Name ______map1: #REF!
Name ______map2: #REF!
Name ______ONT07: #REF!
Name ______ONT10: #REF!
Name ______SUM1: #N/A
Name ______SUM2: #REF!
Name ______SUM3: #REF!
Name ______yo11121: #REF!
Name _____ACT995: #REF!
Name _____all1: #REF!
Name _____cat2: #REF!
Name _____FED06: #REF!
Name _____FED07: #REF!
Name _____FED08: #REF!
Name _____FED09: #REF!
Name _____FED10: #REF!
Name _____FED11: #REF!
Name _____HUB1: #REF!
Name _____HUB2: #REF!
Name _____HUB3: #REF!
Name _____HUB4: #REF!
Name _____map1: #REF!
Name _____map2: #REF!
Name _____N4: #REF!
Name _____N6: #REF!
Name _____ONT06: #REF!

Sheet Summary
A1: Alectra Utilities Corporation
A2: EB-2025-0252
A3: Interrogatory Responses
A4: 2-Staff-146
A5: Part c) Table
A9: Updated | G9: Prior Version
A10: ($M) | B10: Depreciation Expenses( 2027-2031) | C10: PILs Impact | D10: Revenue Requirement from 2027-2031 | E10: Opening 2027 Rate Base | G10: ($M) | H10: Depreciation Expenses( 2027-2031) | I10: PILs Impact | J10: Revenue Requirement from 2027-2031 | K10: Opening 2027 Rate Base
A11: Standard depreciation – (a) | B11: ='Depreciation Impact'!G9/1000000 -> 30.239 | C11: ='PILs Impact'!H10/1000000 -> 149.69522 | D11: ='Revenue Requirements'!G10/1000000 -> 4561.0805 | E11: ='Rate Base'!B20/1000000 -> 4312.5397 | G11: Standard depreciation – (a) | H11: 30.239 | I11: 149.59589 | J11: 4560.5141 | K11: 4312.5397
A12: Accelerated depreciation – (b) | B12: ='Depreciation Impact'!G10/1000000 -> 55.44424 | C12: ='PILs Impact'!H11/1000000 -> 157.72662 | D12: ='Revenue Requirements'!G9/1000000 -> 4589.2558 | E12: ='Rate Base'!B54/1000000 -> 4312.5397 | G12: Accelerated depreciation – (b) | H12: 55.44424 | I12: 157.72662 | J12: 4589.2558 | K12: 4312.5397
A13: Variance (a-b) | B13: =B11-B12 -> -25.205241 | C13: =C11-C12 -> -8.0314039 | D13: =D11-D12 -> -28.17529 | E13: =E11-E12 -> 0 | G13: Variance (a-b) | H13: -25.205241 | I13: -8.1307317 | J13: -28.741646 | K13: 0

Sheet Revenue Requirements
A1: Alectra Utilities Corporation
A2: EB-2025-0252
A3: Interrogatory Responses
A4: 2-Staff-146
A5: Revenue Requirements
A7: Updated | I7: Prior Version
B8: 2027 | C8: 2028 | D8: 2029 | E8: 2030 | F8: 2031 | G8: 2027 - 2031 | J8: 2027 | K8: 2028 | L8: 2029 | M8: 2030 | N8: 2031 | O8: 2027 - 2031
A9: Base Revenue Requirement (as filed) | B9: 8.1030533e+08 | C9: 8.6680878e+08 | D9: 9.1359249e+08 | E9: 9.711661e+08 | F9: 1.0273831e+09 | G9: =SUM(B9:F9) -> 4.5892558e+09 | I9: Base Revenue Requirement (as filed) | J9: 8.1030533e+08 | K9: 8.6680878e+08 | L9: 9.1359249e+08 | M9: 9.711661e+08 | N9: 1.0273831e+09 | O9: 4.5892558e+09
A10: Base Revenue Requirement (adjusted to remove accelerated depreciation) | B10: =B23 -> 7.9891121e+08 | C10: =C23 -> 8.5740716e+08 | D10: =D23 -> 9.0897278e+08 | E10: =E23 -> 9.690906e+08 | F10: =F23 -> 1.0266987e+09 | G10: =SUM(B10:F10) -> 4.5610805e+09 | I10: Base Revenue Requirement (adjusted to remove accelerated depreciation) | J10: 7.9834485e+08 | K10: 8.5740716e+08 | L10: 9.0897278e+08 | M10: 9.690906e+08 | N10: 1.0266987e+09 | O10: 4.5605141e+09
A11: Change | B11: =B9-B10 -> 11394120 | C11: =C9-C10 -> 9401623.1 | D11: =D9-D10 -> 4619707.1 | E11: =E9-E10 -> 2075491.3 | F11: =F9-F10 -> 684348.01 | G11: =G9-G10 -> 28175290 | I11: Change | J11: 11960476 | K11: 9401623.1 | L11: 4619707.1 | M11: 2075491.3 | N11: 684348.01 | O11: 28741646
A14: Base Revenue Requirement (adjusted to remove accelerated depreciation) | B14: 2027 | C14: 2028 | D14: 2029 | E14: 2030 | F14: 2031 | I14: Base Revenue Requirement (adjusted to remove accelerated depreciation) | J14: 2027 | K14: 2028 | L14: 2029 | M14: 2030 | N14: 2031
A15: Rate Base | B15: ='Rate Base'!C54 -> 4.4396368e+09 | C15: ='Rate Base'!D54 -> 4.7215836e+09 | D15: ='Rate Base'!E54 -> 5.0513289e+09 | E15: ='Rate Base'!F54 -> 5.4439733e+09 | F15: ='Rate Base'!G54 -> 5.8460717e+09 | I15: Rate Base | J15: 4.4319842e+09 | K15: 4.7215836e+09 | L15: 5.0513289e+09 | M15: 5.4439733e+09 | N15: 5.8460717e+09
A16: x Cost of Capital | B16: 0.061028604 | C16: 0.061896437 | D16: 0.061993399 | E16: 0.062054412 | F16: 0.062847093 | I16: x Cost of Capital | J16: 0.061028604 | K16: 0.061896437 | L16: 0.061993399 | M16: 0.062054412 | N16: 0.062847093
A17: Return on Rate Base | B17: =B15*B16 -> 2.7094484e+08 | C17: =C15*C16 -> 2.922492e+08 | D17: =D15*D16 -> 3.1314905e+08 | E17: =E15*E16 -> 3.3782256e+08 | F17: =F15*F16 -> 3.6740861e+08 | I17: Return on Rate Base | J17: 2.7047781e+08 | K17: 2.922492e+08 | L17: 3.1314905e+08 | M17: 3.3782256e+08 | N17: 3.6740861e+08
A18: Distribution Expenses (not including Depreciation) | B18: 3.524229e+08 | C18: 3.6967104e+08 | D18: 3.8645681e+08 | E18: 4.0082829e+08 | F18: 4.1178541e+08 | I18: Distribution Expenses (not including Depreciation) | J18: 3.524229e+08 | K18: 3.6967104e+08 | L18: 3.8645681e+08 | M18: 4.0082829e+08 | N18: 4.1178541e+08
A19: Depreciation | B19: =195649452.818943+'Depreciation Impact'!B11 -> 1.8704063e+08 | C19: =199398809.783174+'Depreciation Impact'!C11 -> 1.9180591e+08 | D19: =214066646.387515+'Depreciation Impact'!D11 -> 2.0965686e+08 | E19: =230805829.139276+'Depreciation Impact'!E11 -> 2.2806813e+08 | F19: =242204086.042605+'Depreciation Impact'!F11 -> 2.4034806e+08 | I19: Depreciation | J19: 1.8704063e+08 | K19: 1.9180591e+08 | L19: 2.0965686e+08 | M19: 2.2806813e+08 | N19: 2.4034806e+08
A20: Payment in Lieu of Taxes | B20: =22400578.965947+'PILs Impact'!C12 -> 19352588 | C20: =37575809.0173902+'PILs Impact'!D12 -> 34999247 | D20: =29001237.2662686+'PILs Impact'!E12 -> 27650225 | E20: =31763401.42148+'PILs Impact'!F12 -> 31061635 | F20: =36985596.1337136+'PILs Impact'!G12 -> 36631524 | I20: Payment in Lieu of Taxes | J20: 19253260 | K20: 34999247 | L20: 27650225 | M20: 31061635 | N20: 36631524
A21: Service Revenue Requirement | B21: =SUM(B17:B20) -> 8.2976095e+08 | C21: =SUM(C17:C20) -> 8.887254e+08 | D21: =SUM(D17:D20) -> 9.3691295e+08 | E21: =SUM(E17:E20) -> 9.9778061e+08 | F21: =SUM(F17:F20) -> 1.0561736e+09 | I21: Service Revenue Requirement | J21: 8.291946e+08 | K21: 8.887254e+08 | L21: 9.3691295e+08 | M21: 9.9778061e+08 | N21: 1.0561736e+09
A22: Less: Revenue Offsets | B22: -30849746 | C22: -31318238 | D22: -27940163 | E22: -28690002 | F22: -29474859 | I22: Less: Revenue Offsets | J22: -30849746 | K22: -31318238 | L22: -27940163 | M22: -28690002 | N22: -29474859
A23: Base Revenue Requirement | B23: =B21+B22 -> 7.9891121e+08 | C23: =C21+C22 -> 8.5740716e+08 | D23: =D21+D22 -> 9.0897278e+08 | E23: =E21+E22 -> 9.690906e+08 | F23: =F21+F22 -> 1.0266987e+09 | I23: Base Revenue Requirement | J23: 7.9834485e+08 | K23: 8.5740716e+08 | L23: 9.0897278e+08 | M23: 9.690906e+08 | N23: 1.0266987e+09
A27: Changes: | B27: 2027 | C27: 2028 | D27: 2029 | E27: 2030 | F27: 2031 | I27: Changes: | J27: 2027 | K27: 2028 | L27: 2029 | M27: 2030 | N27: 2031
A28: Rate Base | B28: ='Rate Base'!C39 -> 4304410.7 | C28: ='Rate Base'!D39 -> 12405273 | D28: ='Rate Base'!E39 -> 18406617 | E28: ='Rate Base'!F39 -> 21980360 | F28: ='Rate Base'!G39 -> 24277226 | I28: Rate Base | J28: -3348202.7 | K28: 12405273 | L28: 18406617 | M28: 21980360 | N28: 24277226
A29: Return on Rate Base | B29: =B28*B16 -> 262692.17 | C29: =C28*C16 -> 767842.19 | D29: =D28*D16 -> 1141088.7 | E29: =E28*E16 -> 1363978.3 | F29: =F28*F16 -> 1525753.1 | I29: Return on Rate Base | J29: -204336.14 | K29: 767842.19 | L29: 1141088.7 | M29: 1363978.3 | N29: 1525753.1
A30: Distribution Expenses (not including Depreciation) | B30: 0 | C30: 0 | D30: 0 | E30: 0 | F30: 0 | I30: Distribution Expenses (not including Depreciation) | J30: 0 | K30: 0 | L30: 0 | M30: 0 | N30: 0
A31: Depreciation | B31: ='Depreciation Impact'!B11 -> -8608821.3 | C31: ='Depreciation Impact'!C11 -> -7592903.3 | D31: ='Depreciation Impact'!D11 -> -4409784.1 | E31: ='Depreciation Impact'!E11 -> -2737702.8 | F31: ='Depreciation Impact'!F11 -> -1856029 | I31: Depreciation | J31: -8608821.3 | K31: -7592903.3 | L31: -4409784.1 | M31: -2737702.8 | N31: -1856029
A32: Payment in Lieu of Taxes | B32: ='PILs Impact'!C12 -> -3047991.3 | C32: ='PILs Impact'!D12 -> -2576562 | D32: ='PILs Impact'!E12 -> -1351011.8 | E32: ='PILs Impact'!F12 -> -701766.82 | F32: ='PILs Impact'!G12 -> -354072.05 | I32: Payment in Lieu of Taxes | J32: -3147319.1 | K32: -2576562 | L32: -1351011.8 | M32: -701766.82 | N32: -354072.05
A33: Service Revenue Requirement | B33: =SUM(B29:B32) -> -11394120 | C33: =SUM(C29:C32) -> -9401623.2 | D33: =SUM(D29:D32) -> -4619707.1 | E33: =SUM(E29:E32) -> -2075491.3 | F33: =SUM(F29:F32) -> -684348.02 | I33: Service Revenue Requirement | J33: -11960477 | K33: -9401623.2 | L33: -4619707.1 | M33: -2075491.3 | N33: -684348.02
A34: LESS: Revenue Offsets | B34: 0 | C34: 0 | D34: 0 | E34: 0 | F34: 0 | I34: LESS: Revenue Offsets | J34: 0 | K34: 0 | L34: 0 | M34: 0 | N34: 0
A35: Base Revenue Requirement | B35: =B33+B34 -> -11394120 | C35: =C33+C34 -> -9401623.2 | D35: =D33+D34 -> -4619707.1 | E35: =E33+E34 -> -2075491.3 | F35: =F33+F34 -> -684348.02 | I35: Base Revenue Requirement | J35: -11960477 | K35: -9401623.2 | L35: -4619707.1 | M35: -2075491.3 | N35: -684348.02

Sheet Rate Base
A1: Alectra Utilities Corporation
A2: EB-2025-0252
A3: Interrogatory Responses
A4: 2-Staff-146
A5: Rate Base Impact
A7: Updated | I7: Prior Version
A8: Rate Base as Filed | B8: Bridge Year | C8: Test Years | I8: Rate Base as Filed | J8: Bridge Year | K8: Test Years
B9: 2026 | C9: 2027 | D9: 2028 | E9: 2029 | F9: 2030 | G9: 2031 | J9: 2026 | K9: 2027 | L9: 2028 | M9: 2029 | N9: 2030 | O9: 2031
A10: Opening Gross Assets | B10: 5.2248445e+09 | C10: 5.5445602e+09 | D10: 5.9882837e+09 | E10: 6.4563014e+09 | F10: 7.027713e+09 | G10: 7.6511354e+09 | I10: Opening Gross Assets | J10: 5.2248445e+09 | K10: 5.5445602e+09 | L10: 5.9882837e+09 | M10: 6.4563014e+09 | N10: 7.027713e+09 | O10: 7.6511354e+09
A11: Closing Gross Assets | B11: 5.5445602e+09 | C11: 5.9882837e+09 | D11: 6.4563014e+09 | E11: 7.027713e+09 | F11: 7.6511354e+09 | G11: 8.2733315e+09 | I11: Closing Gross Assets | J11: 5.5445602e+09 | K11: 5.9882837e+09 | L11: 6.4563014e+09 | M11: 7.027713e+09 | N11: 7.6511354e+09 | O11: 8.2733315e+09
A12: Average Gross Assets | B12: =AVERAGE(B10:B11) -> 5.3847023e+09 | C12: =AVERAGE(C10:C11) -> 5.766422e+09 | D12: =AVERAGE(D10:D11) -> 6.2222925e+09 | E12: =AVERAGE(E10:E11) -> 6.7420072e+09 | F12: =AVERAGE(F10:F11) -> 7.3394242e+09 | G12: =AVERAGE(G10:G11) -> 7.9622334e+09 | I12: Average Gross Assets | J12: 5.3847023e+09 | K12: 5.766422e+09 | L12: 6.2222925e+09 | M12: 6.7420072e+09 | N12: 7.3394242e+09 | O12: 7.9622334e+09
A13: Opening Accumulated Depreciation | B13: -1.3776273e+09 | C13: -1.5396051e+09 | D13: -1.7325579e+09 | E13: -1.9329687e+09 | F13: -2.1479907e+09 | G13: -2.3790625e+09 | I13: Opening Accumulated Depreciation | J13: -1.3776273e+09 | K13: -1.5396051e+09 | L13: -1.7325579e+09 | M13: -1.9329687e+09 | N13: -2.1479907e+09 | O13: -2.3790625e+09
A14: Closing Accumulated Depreciation | B14: -1.5396051e+09 | C14: -1.7325579e+09 | D14: -1.9329687e+09 | E14: -2.1479907e+09 | F14: -2.3790625e+09 | G14: -2.6241519e+09 | I14: Closing Accumulated Depreciation | J14: -1.5396051e+09 | K14: -1.7325579e+09 | L14: -1.9329687e+09 | M14: -2.1479907e+09 | N14: -2.3790625e+09 | O14: -2.6241519e+09
A15: Average Accumulated Depreciation | B15: =AVERAGE(B13:B14) -> -1.4586162e+09 | C15: =AVERAGE(C13:C14) -> -1.6360815e+09 | D15: =AVERAGE(D13:D14) -> -1.8327633e+09 | E15: =AVERAGE(E13:E14) -> -2.0404797e+09 | F15: =AVERAGE(F13:F14) -> -2.2635266e+09 | G15: =AVERAGE(G13:G14) -> -2.5016072e+09 | I15: Average Accumulated Depreciation | J15: -1.4586162e+09 | K15: -1.6360815e+09 | L15: -1.8327633e+09 | M15: -2.0404797e+09 | N15: -2.2635266e+09 | O15: -2.5016072e+09
A16: Opening Net Book Value | B16: 3.8472171e+09 | C16: =+C10+C13 -> 4.0049551e+09 | D16: =+C17 -> 4.2557258e+09 | E16: =+D17 -> 4.5233326e+09 | F16: =+E17 -> 4.8797223e+09 | G16: =+F17 -> 5.2720728e+09 | I16: Opening Net Book Value | J16: 3.8472171e+09 | K16: 4.0049551e+09 | L16: 4.2557258e+09 | M16: 4.5233326e+09 | N16: 4.8797223e+09 | O16: 5.2720728e+09
A17: Closing Net Book Value | B17: 4.0049551e+09 | C17: =+C11+C14 -> 4.2557258e+09 | D17: =+D11+D14 -> 4.5233326e+09 | E17: =+E11+E14 -> 4.8797223e+09 | F17: =+F11+F14 -> 5.2720728e+09 | G17: =+G11+G14 -> 5.6491796e+09 | I17: Closing Net Book Value | J17: 4.0049551e+09 | K17: 4.2557258e+09 | L17: 4.5233326e+09 | M17: 4.8797223e+09 | N17: 5.2720728e+09 | O17: 5.6491796e+09
A18: Average Net Book Value | B18: =AVERAGE(B16:B17) -> 3.9260861e+09 | C18: =AVERAGE(C16:C17) -> 4.1303404e+09 | D18: =AVERAGE(D16:D17) -> 4.3895292e+09 | E18: =AVERAGE(E16:E17) -> 4.7015275e+09 | F18: =AVERAGE(F16:F17) -> 5.0758976e+09 | G18: =AVERAGE(G16:G17) -> 5.4606262e+09 | I18: Average Net Book Value | J18: 3.9260861e+09 | K18: 4.1303404e+09 | L18: 4.3895292e+09 | M18: 4.7015275e+09 | N18: 5.0758976e+09 | O18: 5.4606262e+09
A19: Working Capital Allowance | B19: 3.8645362e+08 | C19: 3.0499192e+08 | D19: 3.1964908e+08 | E19: 3.3139482e+08 | F19: 3.4609534e+08 | G19: 3.6116826e+08 | I19: Working Capital Allowance | J19: 3.8645362e+08 | K19: 3.0499192e+08 | L19: 3.1964908e+08 | M19: 3.3139482e+08 | N19: 3.4609534e+08 | O19: 3.6116826e+08
A20: RATE BASE | B20: 4.3125397e+09 | C20: =SUM(C18:C19) -> 4.4353324e+09 | D20: =SUM(D18:D19) -> 4.7091783e+09 | E20: =SUM(E18:E19) -> 5.0329223e+09 | F20: =SUM(F18:F19) -> 5.4219929e+09 | G20: =SUM(G18:G19) -> 5.8217945e+09 | I20: RATE BASE | J20: 4.3125397e+09 | K20: 4.4353324e+09 | L20: 4.7091783e+09 | M20: 5.0329223e+09 | N20: 5.4219929e+09 | O20: 5.8217945e+09
A27: Changes | B27: Bridge Year | C27: Test Years | I27: Changes | J27: Bridge Year | K27: Test Years
B28: 2026 | C28: 2027 | D28: 2028 | E28: 2029 | F28: 2030 | G28: 2031 | J28: 2026 | K28: 2027 | L28: 2028 | M28: 2029 | N28: 2030 | O28: 2031
A29: Opening Gross Assets | B29: 0 | C29: 0 | D29: 0 | E29: 0 | F29: 0 | G29: 0 | I29: Opening Gross Assets | J29: 0 | K29: 0 | L29: 0 | M29: 0 | N29: 0 | O29: 0
A30: Closing Gross Assets | B30: 0 | C30: 0 | D30: 0 | E30: 0 | F30: 0 | G30: 0 | I30: Closing Gross Assets | J30: 0 | K30: 0 | L30: 0 | M30: 0 | N30: 0 | O30: 0
A31: Average Gross Assets | B31: =AVERAGE(B29:B30) -> 0 | C31: =AVERAGE(C29:C30) -> 0 | D31: =AVERAGE(D29:D30) -> 0 | E31: =AVERAGE(E29:E30) -> 0 | F31: =AVERAGE(F29:F30) -> 0 | G31: =AVERAGE(G29:G30) -> 0 | I31: Average Gross Assets | J31: 0 | K31: 0 | L31: 0 | M31: 0 | N31: 0 | O31: 0
A32: Opening Accumulated Depreciation | B32: 0 | C32: 0 | D32: =C33 -> 8608821.3 | E32: =D33 -> 16201725 | F32: =E33 -> 20611509 | G32: =F33 -> 23349212 | I32: Opening Accumulated Depreciation | J32: 0 | K32: -15305227 | L32: 8608821.3 | M32: 16201725 | N32: 20611509 | O32: 23349212
A33: Closing Accumulated Depreciation | B33: 0 | C33: =-'Depreciation Impact'!B11 -> 8608821.3 | D33: =-'Depreciation Impact'!C11+D32 -> 16201725 | E33: =-'Depreciation Impact'!D11+E32 -> 20611509 | F33: =-'Depreciation Impact'!E11+F32 -> 23349212 | G33: =-'Depreciation Impact'!F11+G32 -> 25205241 | I33: Closing Accumulated Depreciation | J33: 0 | K33: 8608821.3 | L33: 16201725 | M33: 20611509 | N33: 23349212 | O33: 25205241
A34: Average Accumulated Depreciation | B34: =AVERAGE(B33:B33) -> 0 | C34: =AVERAGE(C32:C33) -> 4304410.7 | D34: =AVERAGE(D33:D33) -> 16201725 | E34: =AVERAGE(E33:E33) -> 20611509 | F34: =AVERAGE(F33:F33) -> 23349212 | G34: =AVERAGE(G33:G33) -> 25205241 | I34: Average Accumulated Depreciation | J34: 0 | K34: 8608821.3 | L34: 16201725 | M34: 20611509 | N34: 23349212 | O34: 25205241
A35: Opening Net Book Value | B35: =+B29+B32 -> 0 | C35: =+C29+C32 -> 0 | D35: =+C36 -> 8608821.3 | E35: =+D36 -> 16201725 | F35: =+E36 -> 20611509 | G35: =+F36 -> 23349212 | I35: Opening Net Book Value | J35: 0 | K35: -15305227 | L35: 8608821.3 | M35: 16201725 | N35: 20611509 | O35: 23349212
A36: Closing Net Book Value | B36: =+B30+B33 -> 0 | C36: =+C30+C33 -> 8608821.3 | D36: =+D30+D33 -> 16201725 | E36: =+E30+E33 -> 20611509 | F36: =+F30+F33 -> 23349212 | G36: =+G30+G33 -> 25205241 | I36: Closing Net Book Value | J36: 0 | K36: 8608821.3 | L36: 16201725 | M36: 20611509 | N36: 23349212 | O36: 25205241
A37: Average Net Book Value | B37: =AVERAGE(B35:B36) -> 0 | C37: =AVERAGE(C35:C36) -> 4304410.7 | D37: =AVERAGE(D35:D36) -> 12405273 | E37: =AVERAGE(E35:E36) -> 18406617 | F37: =AVERAGE(F35:F36) -> 21980360 | G37: =AVERAGE(G35:G36) -> 24277226 | I37: Average Net Book Value | J37: 0 | K37: -3348202.7 | L37: 12405273 | M37: 18406617 | N37: 21980360 | O37: 24277226
A38: Working Capital Allowance | C38: 0 | D38: 0 | E38: 0 | F38: 0 | G38: 0 | I38: Working Capital Allowance | K38: 0 | L38: 0 | M38: 0 | N38: 0 | O38: 0
A39: RATE BASE | B39: =SUM(B37:B38) -> 0 | C39: =SUM(C37:C38) -> 4304410.7 | D39: =SUM(D37:D38) -> 12405273 | E39: =SUM(E37:E38) -> 18406617 | F39: =SUM(F37:F38) -> 21980360 | G39: =SUM(G37:G38) -> 24277226 | I39: RATE BASE | J39: 0 | K39: -3348202.7 | L39: 12405273 | M39: 18406617 | N39: 21980360 | O39: 24277226
A42: Rate Base Adjusted to Remove Accelerated Depreciation | B42: Bridge Year | C42: Test Years | I42: Rate Base Adjusted to Remove Accelerated Depreciation | J42: Bridge Year | K42: Test Years
B43: 2026 | C43: 2027 | D43: 2028 | E43: 2029 | F43: 2030 | G43: 2031 | J43: 2026 | K43: 2027 | L43: 2028 | M43: 2029 | N43: 2030 | O43: 2031
A44: Opening Gross Assets | B44: =B10+B29 -> 5.2248445e+09 | C44: =C10+C29 -> 5.5445602e+09 | D44: =D10+D29 -> 5.9882837e+09 | E44: =E10+E29 -> 6.4563014e+09 | F44: =F10+F29 -> 7.027713e+09 | G44: =G10+G29 -> 7.6511354e+09 | I44: Opening Gross Assets | J44: 5.2248445e+09 | K44: 5.5445602e+09 | L44: 5.9882837e+09 | M44: 6.4563014e+09 | N44: 7.027713e+09 | O44: 7.6511354e+09
A45: Closing Gross Assets | B45: =B11+B30 -> 5.5445602e+09 | C45: =C11+C30 -> 5.9882837e+09 | D45: =D11+D30 -> 6.4563014e+09 | E45: =E11+E30 -> 7.027713e+09 | F45: =F11+F30 -> 7.6511354e+09 | G45: =G11+G30 -> 8.2733315e+09 | I45: Closing Gross Assets | J45: 5.5445602e+09 | K45: 5.9882837e+09 | L45: 6.4563014e+09 | M45: 7.027713e+09 | N45: 7.6511354e+09 | O45: 8.2733315e+09
A46: Average Gross Assets | B46: =AVERAGE(B44:B45) -> 5.3847023e+09 | C46: =AVERAGE(C44:C45) -> 5.766422e+09 | D46: =AVERAGE(D44:D45) -> 6.2222925e+09 | E46: =AVERAGE(E44:E45) -> 6.7420072e+09 | F46: =AVERAGE(F44:F45) -> 7.3394242e+09 | G46: =AVERAGE(G44:G45) -> 7.9622334e+09 | I46: Average Gross Assets | J46: 5.3847023e+09 | K46: 5.766422e+09 | L46: 6.2222925e+09 | M46: 6.7420072e+09 | N46: 7.3394242e+09 | O46: 7.9622334e+09
A47: Opening Accumulated Depreciation | B47: =B13+B32 -> -1.3776273e+09 | C47: =C13+C32 -> -1.5396051e+09 | D47: =D13+D32 -> -1.7239491e+09 | E47: =E13+E32 -> -1.916767e+09 | F47: =F13+F32 -> -2.1273792e+09 | G47: =G13+G32 -> -2.3557133e+09 | I47: Opening Accumulated Depreciation | J47: -1.3776273e+09 | K47: -1.5549104e+09 | L47: -1.7239491e+09 | M47: -1.916767e+09 | N47: -2.1273792e+09 | O47: -2.3557133e+09
A48: Closing Accumulated Depreciation | B48: =B14+B33 -> -1.5396051e+09 | C48: =C14+C33 -> -1.7239491e+09 | D48: =D14+D33 -> -1.916767e+09 | E48: =E14+E33 -> -2.1273792e+09 | F48: =F14+F33 -> -2.3557133e+09 | G48: =G14+G33 -> -2.5989466e+09 | I48: Closing Accumulated Depreciation | J48: -1.5396051e+09 | K48: -1.7239491e+09 | L48: -1.916767e+09 | M48: -2.1273792e+09 | N48: -2.3557133e+09 | O48: -2.5989466e+09
A49: Average Accumulated Depreciation | B49: =AVERAGE(B47:B48) -> -1.4586162e+09 | C49: =AVERAGE(C47:C48) -> -1.6317771e+09 | D49: =AVERAGE(D47:D48) -> -1.820358e+09 | E49: =AVERAGE(E47:E48) -> -2.0220731e+09 | F49: =AVERAGE(F47:F48) -> -2.2415463e+09 | G49: =AVERAGE(G47:G48) -> -2.47733e+09 | I49: Average Accumulated Depreciation | J49: -1.4586162e+09 | K49: -1.6394297e+09 | L49: -1.820358e+09 | M49: -2.0220731e+09 | N49: -2.2415463e+09 | O49: -2.47733e+09
...

Sheet PILs Impact
A1: Alectra Utilities Corporation
A2: EB-2025-0252
A3: Interrogatory Responses
A4: 2-Staff-146
A5: PILs Impact
A7: Updated | J7: Prior Version
A8: Summary: | J8: Summary:
C9: 2027 | D9: 2028 | E9: 2029 | F9: 2030 | G9: 2031 | H9: Total | L9: 2027 | M9: 2028 | N9: 2029 | O9: 2030 | P9: 2031 | Q9: Total
A10: Grossed-up PILs for AMI standard depreciation | C10: =+C11+C31 -> 19352588 | D10: =+D11+D31 -> 34999247 | E10: =+E11+E31 -> 27650225 | F10: =+F11+F31 -> 31061635 | G10: =+G11+G31 -> 36631524 | H10: =+H11+H31 -> 1.4969522e+08 | J10: Grossed-up PILs for AMI standard depreciation | L10: 19253260 | M10: 34999247 | N10: 27650225 | O10: 31061635 | P10: 36631524 | Q10: 1.4959589e+08
A11: Grossed-up PILs for AMI accelerated depreciation - as filed | C11: 22400579 | D11: 37575809 | E11: 29001237 | F11: 31763401 | G11: 36985596 | H11: =SUM(C11:G11) -> 1.5772662e+08 | J11: Grossed-up PILs for AMI accelerated depreciation - as filed | L11: 22400579 | M11: 37575809 | N11: 29001237 | O11: 31763401 | P11: 36985596 | Q11: 1.5772662e+08
A12: Change | C12: =+C10-C11 -> -3047991.3 | D12: =+D10-D11 -> -2576562 | E12: =+E10-E11 -> -1351011.8 | F12: =+F10-F11 -> -701766.82 | G12: =+G10-G11 -> -354072.05 | H12: =+H10-H11 -> -8031403.9 | J12: Change | L12: -3147319.1 | M12: -2576562 | N12: -1351011.8 | O12: -701766.82 | P12: -354072.05 | Q12: -8130731.7
A16: Changes: | J16: Changes:
C17: 2027 | D17: 2028 | E17: 2029 | F17: 2030 | G17: 2031 | H17: Total | L17: 2027 | M17: 2028 | N17: 2029 | O17: 2030 | P17: 2031 | Q17: Total
A18: Change in Rate Base for AMI standard depreciation | C18: ='Rate Base'!C39 -> 4304410.7 | D18: ='Rate Base'!D39 -> 12405273 | E18: ='Rate Base'!E39 -> 18406617 | F18: ='Rate Base'!F39 -> 21980360 | G18: ='Rate Base'!G39 -> 24277226 | H18: =SUM(C18:G18) -> 81373887 | J18: Change in Rate Base for AMI standard depreciation | L18: -3348202.7 | M18: 12405273 | N18: 18406617 | O18: 21980360 | P18: 24277226 | Q18: 73721273
A19: Deemed Equity % | C19: 0.4 | D19: 0.4 | E19: 0.4 | F19: 0.4 | G19: 0.4 | H19: 0.4 | J19: Deemed Equity % | L19: 0.4 | M19: 0.4 | N19: 0.4 | O19: 0.4 | P19: 0.4 | Q19: 0.4
A20: Return on Equity % | C20: 0.09 | D20: 0.09 | E20: 0.09 | F20: 0.09 | G20: 0.09 | H20: 0.09 | J20: Return on Equity % | L20: 0.09 | M20: 0.09 | N20: 0.09 | O20: 0.09 | P20: 0.09 | Q20: 0.09
A21: Change of Return on Equity | C21: =+C18*C19*C20 -> 154958.78 | D21: =+D18*D19*D20 -> 446589.83 | E21: =+E18*E19*E20 -> 662638.2 | F21: =+F18*F19*F20 -> 791292.97 | G21: =+G18*G19*G20 -> 873980.14 | H21: =+H18*H19*H20 -> 2929459.9 | J21: Change of Return on Equity | L21: -120535.3 | M21: 446589.83 | N21: 662638.2 | O21: 791292.97 | P21: 873980.14 | Q21: 2653965.8
A23: Change in net income before taxes | C23: =+C21 -> 154958.78 | D23: =+D21 -> 446589.83 | E23: =+E21 -> 662638.2 | F23: =+F21 -> 791292.97 | G23: =+G21 -> 873980.14 | H23: =+H21 -> 2929459.9 | J23: Change in net income before taxes | L23: -120535.3 | M23: 446589.83 | N23: 662638.2 | O23: 791292.97 | P23: 873980.14 | Q23: 2653965.8
A24: Reduction in depreciation expense based on standard AMI depreciation | C24: ='Depreciation Impact'!B11 -> -8608821.3 | D24: ='Depreciation Impact'!C11 -> -7592903.3 | E24: ='Depreciation Impact'!D11 -> -4409784.1 | F24: ='Depreciation Impact'!E11 -> -2737702.8 | G24: ='Depreciation Impact'!F11 -> -1856029 | H24: ='Depreciation Impact'!G11 -> -25205241 | J24: Reduction in depreciation expense based on standard AMI depreciation | L24: -8608821.3 | M24: -7592903.3 | N24: -4409784.1 | O24: -2737702.8 | P24: -1856029 | Q24: -25205241
A25: Change in taxable income | C25: =SUM(C23:C24) -> -8453862.5 | D25: =SUM(D23:D24) -> -7146313.5 | E25: =SUM(E23:E24) -> -3747145.9 | F25: =SUM(F23:F24) -> -1946409.9 | G25: =SUM(G23:G24) -> -982048.91 | H25: =SUM(H23:H24) -> -22275781 | J25: Change in taxable income | L25: -8729356.6 | M25: -7146313.5 | N25: -3747145.9 | O25: -1946409.9 | P25: -982048.91 | Q25: -22551275
A26: Tax Rate | C26: 0.265 | D26: 0.265 | E26: 0.265 | F26: 0.265 | G26: 0.265 | H26: 0.265 | J26: Tax Rate | L26: 0.265 | M26: 0.265 | N26: 0.265 | O26: 0.265 | P26: 0.265 | Q26: 0.265
A27: Total income taxes | C27: =+C25*C26 -> -2240273.6 | D27: =+D25*D26 -> -1893773.1 | E27: =+E25*E26 -> -992993.66 | F27: =+F25*F26 -> -515798.61 | G27: =+G25*G26 -> -260242.96 | H27: =+H25*H26 -> -5903081.9 | J27: Total income taxes | L27: -2313279.5 | M27: -1893773.1 | N27: -992993.66 | O27: -515798.61 | P27: -260242.96 | Q27: -5976087.8
A29: Gross-up | B29: =1-C26 -> 0.735 | C29: =C27/$B$29-C27 -> -807717.68 | D29: =D27/$B$29-D27 -> -682788.93 | E29: =E27/$B$29-E27 -> -358018.12 | F29: =F27/$B$29-F27 -> -185968.21 | G29: =G27/$B$29-G27 -> -93829.094 | H29: =H27/$B$29-H27 -> -2128322 | J29: Gross-up | K29: =1-L26 -> 0.735 | L29: -834039.55 | M29: -682788.93 | N29: -358018.12 | O29: -185968.21 | P29: -93829.094 | Q29: -2154643.9
A31: Change in Income tax (grossed up) | C31: =+C27+C29 -> -3047991.3 | D31: =+D27+D29 -> -2576562 | E31: =+E27+E29 -> -1351011.8 | F31: =+F27+F29 -> -701766.82 | G31: =+G27+G29 -> -354072.05 | H31: =+H27+H29 -> -8031403.9 | J31: Change in Income tax (grossed up) | L31: -3147319.1 | M31: -2576562 | N31: -1351011.8 | O31: -701766.82 | P31: -354072.05 | Q31: -8130731.7

Sheet Depreciation Impact
A1: Alectra Utilities Corporation
A2: EB-2025-0252
A3: Interrogatory Responses
A4: 2-Staff-146
A5: AMI 1.0 Meters accelerated depreciation
A8: AMI 1.0 Metering Accelerated Depreciation ($MM) | B8: 2027 | C8: 2028 | D8: 2029 | E8: 2030 | F8: 2031 | G8: Total
A9: Standard depreciation – (a) | B9: =B21 -> 6696405.4 | C9: =E21 -> 6434170.2 | D9: =H21 -> 6133534 | E9: =K21 -> 5704343.4 | F9: =N21 -> 5270546.6 | G9: =SUM(B9:F9) -> 30239000
A10: Accelerated depreciation – (b) | B10: =C21 -> 15305227 | C10: =F21 -> 14027074 | D10: =I21 -> 10543318 | E10: =L21 -> 8442046.3 | F10: =O21 -> 7126575.6 | G10: =SUM(B10:F10) -> 55444240
A11: Variance (a-b) | B11: =+B9-B10 -> -8608821.3 | C11: =+C9-C10 -> -7592903.3 | D11: =+D9-D10 -> -4409784.1 | E11: =+E9-E10 -> -2737702.8 | F11: =+F9-F10 -> -1856029 | G11: =+G9-G10 -> -25205241
B16: 2027 | E16: 2028 | F16: 2028 | H16: 2029 | I16: 2029 | K16: 2030 | L16: 2030 | N16: 2031 | O16: 2031 | Q16: 2017-2031 | R16: 2027-2031
A17: Meter Components | B17: Regular | C17: Accelerated | D17: Difference | E17: Regular | F17: Accelerated | G17: Difference | H17: Regular | I17: Accelerated | J17: Difference | K17: Regular | L17: Accelerated | M17: Difference | N17: Regular | O17: Accelerated | P17: Difference | Q17: Regular | R17: Accelerated | S17: Difference
A18: AMI 1.0 Polyphase | B18: 1861485.4 | C18: 7013932.5 | D18: =B18-C18 -> -5152447.2 | E18: 1860873.1 | F18: 6648206.6 | G18: =E18-F18 -> -4787333.6 | H18: 1856867.9 | I18: 3461082.2 | J18: =H18-I18 -> -1604214.3 | K18: 1805467.9 | L18: 2664694.5 | M18: =K18-L18 -> -859226.69 | N18: 1710766.3 | O18: 2470446.5 | P18: =N18-O18 -> -759680.27 | Q18: 9095460.5 | R18: 22258362 | S18: =Q18-R18 -> -13162902
A19: AMI 1.0 Meters Single Phase-Commercial | B19: 1009491.2 | C19: 1591787.7 | D19: =B19-C19 -> -582296.56 | E19: 1009491.2 | F19: 1591787.7 | G19: =E19-F19 -> -582296.56 | H19: 1009491.2 | I19: 1591787.7 | J19: =H19-I19 -> -582296.56 | K19: 979494.57 | L19: 1561791.1 | M19: =K19-L19 -> -582296.56 | N19: 887977.52 | O19: 1414679.7 | P19: =N19-O19 -> -526702.14 | Q19: 4895945.6 | R19: 7751834 | S19: =Q19-R19 -> -2855888.4
A20: AMI 1.0 Meters Single Phase-Residential | B20: 3825428.8 | C20: 6699506.4 | D20: =B20-C20 -> -2874077.6 | E20: 3563806 | F20: 5787079.2 | G20: =E20-F20 -> -2223273.2 | H20: 3267174.9 | I20: 5490448.2 | J20: =H20-I20 -> -2223273.2 | K20: 2919381 | L20: 4215560.6 | M20: =K20-L20 -> -1296179.6 | N20: 2671802.8 | O20: 3241449.4 | P20: =N20-O20 -> -569646.64 | Q20: 16247594 | R20: 25434044 | S20: =Q20-R20 -> -9186450.3
A21: Total | B21: =SUM(B18:B20) -> 6696405.4 | C21: =SUM(C18:C20) -> 15305227 | D21: =SUM(D18:D20) -> -8608821.3 | E21: =SUM(E18:E20) -> 6434170.2 | F21: =SUM(F18:F20) -> 14027074 | G21: =SUM(G18:G20) -> -7592903.3 | H21: =SUM(H18:H20) -> 6133534 | I21: =SUM(I18:I20) -> 10543318 | ... S21: =SUM(S18:S20) -> -25205241
