Workbook
Name \0: #REF!
Name \A: #REF!
Name \b: #REF!
Name \M: #REF!
Name \P: #REF!
Name \S: #REF!
Name \Z: #REF!
Name ___________N4: #REF!
Name ___________N6: #REF!
Name ________HUB1: #REF!
Name ________HUB2: #REF!
Name ________HUB3: #REF!
Name ________HUB4: #REF!
Name _______ACT995: #REF!
Name _______HUB1: #REF!
Name _______HUB2: #REF!
Name _______HUB3: #REF!
Name _______HUB4: #REF!
Name _______N4: #REF!
Name _______N6: #REF!
Name _______SUM1: #N/A
Name _______SUM2: #REF!
Name _______SUM3: #REF!
Name ______ACT995: #REF!
Name ______all1: #REF!
Name ______cat2: #REF!
Name ______FED07: #REF!
Name ______FED09: #REF!
Name ______FED10: #REF!
Name ______FED11: #REF!
Name ______HUB1: #REF!
Name ______HUB2: #REF!
Name ______HUB3: #REF!
Name ______HUB4: #REF!
Name ______map1: #REF!
Name ______map2: #REF!
Name ______ONT07: #REF!
Name ______ONT10: #REF!
Name ______SUM1: #N/A
Name ______SUM2: #REF!
Name ______SUM3: #REF!
Name ______yo11121: #REF!
Name _____ACT995: #REF!
Name _____all1: #REF!
Name _____cat2: #REF!
Name _____FED06: #REF!
Name _____FED07: #REF!
Name _____FED08: #REF!
Name _____FED09: #REF!
Name _____FED10: #REF!
Name _____FED11: #REF!
Name _____HUB1: #REF!
Name _____HUB2: #REF!
Name _____HUB3: #REF!
Name _____HUB4: #REF!
Name _____map1: #REF!
Name _____map2: #REF!
Name _____N4: #REF!
Name _____N6: #REF!
Name _____ONT06: #REF!

Sheet Summary
A1: Alectra Utilities Corporation
A2: EB-2025-0252
A3: Interrogatory Responses
A4: 2-Staff-153
A5: Part b) i) Table
B9: Revenue Requirement | C9: Rate Base | D9: OM&A | E9: Depreciation
B10: Applying both studies from 2027 | C10: Applying both studies from 2027 | D10: Applying both studies from 2027 | E10: Applying both studies from 2027
A11: 2027 | B11: ='Revenue Requirements'!B17/1000000 -> 806.96561 | C11: ='Rate Base'!D51/1000000 -> 4386.4322 | D11: ='Revenue Requirements'!B12/1000000 -> 352.4229 | E11: ='Revenue Requirements'!B13/1000000 -> 195.64945
A12: 2028 | B12: ='Revenue Requirements'!C17/1000000 -> 863.4041 | C12: =+'Rate Base'!E51/1000000 -> 4660.2782 | D12: ='Revenue Requirements'!C12/1000000 -> 369.67104 | E12: ='Revenue Requirements'!C13/1000000 -> 199.39881
A13: 2029 | B13: ='Revenue Requirements'!D17/1000000 -> 910.16243 | C13: =+'Rate Base'!F51/1000000 -> 4984.0221 | D13: ='Revenue Requirements'!D12/1000000 -> 386.45681 | E13: ='Revenue Requirements'!D13/1000000 -> 214.06665
A14: 2030 | B14: ='Revenue Requirements'!E17/1000000 -> 967.71412 | C14: =+'Rate Base'!G51/1000000 -> 5373.0927 | D14: ='Revenue Requirements'!E12/1000000 -> 400.82829 | E14: ='Revenue Requirements'!E13/1000000 -> 230.80583
A15: 2031 | B15: ='Revenue Requirements'!F17/1000000 -> 1023.8749 | C15: ='Rate Base'!H51/1000000 -> 5772.8943 | D15: ='Revenue Requirements'!F12/1000000 -> 411.78541 | E15: ='Revenue Requirements'!F13/1000000 -> 242.20409
A17: This analysis is being provided only for the purpose of understanding the impacts of the UL and DLC adjustments on 2027-2031 rate base and revenue requirement.

Sheet Revenue Requirements
A1: Alectra Utilities Corporation
A2: EB-2025-0252
A3: Interrogatory Responses
A4: 2-Staff-153
A5: Revenue Requirements (Illustrative)
A8: Base Revenue Requirement (adjusted to remove DLC and UL change) | B8: 2027 | C8: 2028 | D8: 2029 | E8: 2030 | F8: 2031
A9: Rate Base | B9: ='Rate Base'!D51 -> 4.3864322e+09 | C9: ='Rate Base'!E51 -> 4.6602782e+09 | D9: ='Rate Base'!F51 -> 4.9840221e+09 | E9: ='Rate Base'!G51 -> 5.3730927e+09 | F9: ='Rate Base'!H51 -> 5.7728943e+09
A10: x Cost of Capital | B10: 0.061028604 | C10: 0.061896437 | D10: 0.061993399 | E10: 0.062054412 | F10: 0.062847093
A11: Return on Rate Base | B11: =B9*B10 -> 2.6769784e+08 | C11: =C9*C10 -> 2.8845461e+08 | D11: =D9*D10 -> 3.0897648e+08 | E11: =E9*E10 -> 3.3342411e+08 | F11: =F9*F10 -> 3.6280963e+08
A12: Distribution Expenses (not including Depreciation) | B12: ='OM&A impact'!B20 -> 3.524229e+08 | C12: ='OM&A impact'!C20 -> 3.6967104e+08 | D12: ='OM&A impact'!D20 -> 3.8645681e+08 | E12: ='OM&A impact'!E20 -> 4.0082829e+08 | F12: ='OM&A impact'!F20 -> 4.1178541e+08
A13: Depreciation | B13: ='Depreciation Impact'!C18 -> 1.9564945e+08 | C13: ='Depreciation Impact'!D18 -> 1.9939881e+08 | D13: ='Depreciation Impact'!E18 -> 2.1406665e+08 | E13: ='Depreciation Impact'!F18 -> 2.3080583e+08 | F13: ='Depreciation Impact'!G18 -> 2.4220409e+08
A14: Payment in Lieu of Taxes | B14: 22045172 | C14: 37197875 | D14: 28602667 | E14: 31345891 | F14: 36550683
A15: Service Revenue Requirement | B15: =SUM(B11:B14) -> 8.3781536e+08 | C15: =SUM(C11:C14) -> 8.9472234e+08 | D15: =SUM(D11:D14) -> 9.381026e+08 | E15: =SUM(E11:E14) -> 9.9640412e+08 | F15: =SUM(F11:F14) -> 1.0533498e+09
A16: Less: Revenue Offsets | B16: -30849746 | C16: -31318238 | D16: -27940163 | E16: -28690002 | F16: -29474859
A17: Base Revenue Requirement | B17: =B15+B16 -> 8.0696561e+08 | C17: =C15+C16 -> 8.634041e+08 | D17: =D15+D16 -> 9.1016243e+08 | E17: =E15+E16 -> 9.6771412e+08 | F17: =F15+F16 -> 1.0238749e+09
A19: This analysis is being provided only for the purpose of understanding the impacts of the UL and DLC adjustments on 2027-2031 rate base and revenue requirement.

Sheet Rate Base
A1: Alectra Utilities Corporation
A2: EB-2025-0252
A3: Interrogatory Responses | B3: This analysis is being provided only for the purpose of understanding the impacts of the UL and DLC adjustments on 2027-2031 rate base and revenue requirement.
A4: 2-Staff-153
A5: Rate Base (Illustrative)
A8: Rate Base as Filed | B8: Bridge Year | D8: Test Years
B9: 2025 | C9: 2026 | D9: 2027 | E9: 2028 | F9: 2029 | G9: 2030 | H9: 2031
A10: Opening Gross Assets | B10: 4.8976269e+09 | C10: 5.2248445e+09 | D10: 5.5445602e+09 | E10: 5.9882837e+09 | F10: 6.4563014e+09 | G10: 7.027713e+09 | H10: 7.6511354e+09
A11: Closing Gross Assets | B11: 5.2248445e+09 | C11: 5.5445602e+09 | D11: 5.9882837e+09 | E11: 6.4563014e+09 | F11: 7.027713e+09 | G11: 7.6511354e+09 | H11: 8.2733315e+09
A12: Average Gross Assets | B12: =AVERAGE(B10:B11) -> 5.0612357e+09 | C12: =AVERAGE(C10:C11) -> 5.3847023e+09 | D12: =AVERAGE(D10:D11) -> 5.766422e+09 | E12: =AVERAGE(E10:E11) -> 6.2222925e+09 | F12: =AVERAGE(F10:F11) -> 6.7420072e+09 | G12: =AVERAGE(G10:G11) -> 7.3394242e+09 | H12: =AVERAGE(H10:H11) -> 7.9622334e+09
A13: Opening Accumulated Depreciation | B13: -1.2268566e+09 | C13: -1.3776273e+09 | D13: -1.5396051e+09 | E13: -1.7325579e+09 | F13: -1.9329687e+09 | G13: -2.1479907e+09 | H13: -2.3790625e+09
A14: Closing Accumulated Depreciation | B14: -1.3776273e+09 | C14: -1.5396051e+09 | D14: -1.7325579e+09 | E14: -1.9329687e+09 | F14: -2.1479907e+09 | G14: -2.3790625e+09 | H14: -2.6241519e+09
A15: Average Accumulated Depreciation | B15: =AVERAGE(B13:B14) -> -1.302242e+09 | C15: =AVERAGE(C13:C14) -> -1.4586162e+09 | D15: =AVERAGE(D13:D14) -> -1.6360815e+09 | E15: =AVERAGE(E13:E14) -> -1.8327633e+09 | F15: =AVERAGE(F13:F14) -> -2.0404797e+09 | G15: =AVERAGE(G13:G14) -> -2.2635266e+09 | H15: =AVERAGE(H13:H14) -> -2.5016072e+09
A16: Opening Net Book Value | B16: =+B10+B13 -> 3.6707703e+09 | C16: =+C10+C13 -> 3.8472171e+09 | D16: =+D10+D13 -> 4.0049551e+09 | E16: =+D17 -> 4.2557258e+09 | F16: =+E17 -> 4.5233326e+09 | G16: =+F17 -> 4.8797223e+09 | H16: =+G17 -> 5.2720728e+09
A17: Closing Net Book Value | B17: =+B11+B14 -> 3.8472171e+09 | C17: =+C11+C14 -> 4.0049551e+09 | D17: =+D11+D14 -> 4.2557258e+09 | E17: =+E11+E14 -> 4.5233326e+09 | F17: =+F11+F14 -> 4.8797223e+09 | G17: =+G11+G14 -> 5.2720728e+09 | H17: =+H11+H14 -> 5.6491796e+09
A18: Average Net Book Value | B18: =AVERAGE(B16:B17) -> 3.7589937e+09 | C18: =AVERAGE(C16:C17) -> 3.9260861e+09 | D18: =AVERAGE(D16:D17) -> 4.1303404e+09 | E18: =AVERAGE(E16:E17) -> 4.3895292e+09 | F18: =AVERAGE(F16:F17) -> 4.7015275e+09 | G18: =AVERAGE(G16:G17) -> 5.0758976e+09 | H18: =AVERAGE(H16:H17) -> 5.4606262e+09
A19: Working Capital Allowance | B19: 3.7821754e+08 | C19: 3.8645362e+08 | D19: 3.0499192e+08 | E19: 3.1964908e+08 | F19: 3.3139482e+08 | G19: 3.4609534e+08 | H19: 3.6116826e+08
A20: RATE BASE | B20: =SUM(B18:B19) -> 4.1372113e+09 | C20: =SUM(C18:C19) -> 4.3125397e+09 | D20: =SUM(D18:D19) -> 4.4353324e+09 | E20: =SUM(E18:E19) -> 4.7091783e+09 | F20: =SUM(F18:F19) -> 5.0329223e+09 | G20: =SUM(G18:G19) -> 5.4219929e+09 | H20: =SUM(H18:H19) -> 5.8217945e+09
A24: Changes | B24: Bridge Year | D24: Test Years
B25: 2025 | C25: 2026 | D25: 2027 | E25: 2028 | F25: 2029 | G25: 2030 | H25: 2031
A26: Opening Gross Assets | B26: 0 | C26: =B27 -> -5706366.8 | D26: =C27 -> -11039260 | E26: =D27 -> -11039260 | F26: =E27 -> -11039260 | G26: =F27 -> -11039260 | H26: =G27 -> -11039260
A27: Closing Gross Assets | B27: =-'OM&A impact'!E51 -> -5706366.8 | C27: =B27-'OM&A impact'!H51 -> -11039260 | D27: =D26 -> -11039260 | E27: =E26 -> -11039260 | F27: =F26 -> -11039260 | G27: =G26 -> -11039260 | H27: =H26 -> -11039260
A28: Average Gross Assets | B28: =AVERAGE(B26:B27) -> -2853183.4 | C28: =AVERAGE(C26:C27) -> -8372813.2 | D28: =AVERAGE(D26:D27) -> -11039260 | E28: =AVERAGE(E26:E27) -> -11039260 | F28: =AVERAGE(F26:F27) -> -11039260 | G28: =AVERAGE(G26:G27) -> -11039260 | H28: =AVERAGE(H26:H27) -> -11039260
A29: Opening Accumulated Depreciation | B29: 0 | C29: =B30 -> -16621718 | D29: =C30 -> -37860885 | E29: =D30 -> -37860885 | F29: =E30 -> -37860885 | G29: =F30 -> -37860885 | H29: =G30 -> -37860885
A30: Closing Accumulated Depreciation | B30: ='Depreciation Impact'!E48 -> -16621718 | C30: =B30+'Depreciation Impact'!H48 -> -37860885 | D30: =D29 -> -37860885 | E30: =E29 -> -37860885 | F30: =F29 -> -37860885 | G30: =G29 -> -37860885 | H30: =H29 -> -37860885
A31: Average Accumulated Depreciation | B31: =AVERAGE(B30:B30) -> -16621718 | C31: =AVERAGE(C30:C30) -> -37860885 | D31: =AVERAGE(D30:D30) -> -37860885 | E31: =AVERAGE(E30:E30) -> -37860885 | F31: =AVERAGE(F30:F30) -> -37860885 | G31: =AVERAGE(G30:G30) -> -37860885 | H31: =AVERAGE(H30:H30) -> -37860885
A32: Opening Net Book Value | B32: =+B26+B29 -> 0 | C32: =+C26+C29 -> -22328085 | D32: =+D26+D29 -> -48900144 | E32: =+D33 -> -48900144 | F32: =+E33 -> -48900144 | G32: =+F33 -> -48900144 | H32: =+G33 -> -48900144
A33: Closing Net Book Value | B33: =+B27+B30 -> -22328085 | C33: =+C27+C30 -> -48900144 | D33: =+D27+D30 -> -48900144 | E33: =+E27+E30 -> -48900144 | F33: =+F27+F30 -> -48900144 | G33: =+G27+G30 -> -48900144 | H33: =+H27+H30 -> -48900144
A34: Average Net Book Value | B34: =AVERAGE(B32:B33) -> -11164042 | C34: =AVERAGE(C32:C33) -> -35614115 | D34: =AVERAGE(D32:D33) -> -48900144 | E34: =AVERAGE(E32:E33) -> -48900144 | F34: =AVERAGE(F32:F33) -> -48900144 | G34: =AVERAGE(G32:G33) -> -48900144 | H34: =AVERAGE(H32:H33) -> -48900144
A35: Working Capital Allowance | B35: 0 | C35: 0 | D35: 0 | E35: 0 | F35: 0 | G35: 0 | H35: 0
A36: RATE BASE | B36: =SUM(B34:B35) -> -11164042 | C36: =SUM(C34:C35) -> -35614115 | D36: =SUM(D34:D35) -> -48900144 | E36: =SUM(E34:E35) -> -48900144 | F36: =SUM(F34:F35) -> -48900144 | G36: =SUM(G34:G35) -> -48900144 | H36: =SUM(H34:H35) -> -48900144
A39: Rate Base Adjusted to Remove Accelerated Depreciation | B39: Bridge Year | D39: Test Years
B40: 2025 | C40: 2026 | D40: 2027 | E40: 2028 | F40: 2029 | G40: 2030 | H40: 2031
A41: Opening Gross Assets | B41: =B10+B26 -> 4.8976269e+09 | C41: =C10+C26 -> 5.2191381e+09 | D41: =D10+D26 -> 5.533521e+09 | E41: =E10+E26 -> 5.9772444e+09 | F41: =F10+F26 -> 6.4452621e+09 | G41: =G10+G26 -> 7.0166738e+09 | H41: =H10+H26 -> 7.6400961e+09
A42: Closing Gross Assets | B42: =B11+B27 -> 5.2191381e+09 | C42: =C11+C27 -> 5.533521e+09 | D42: =D11+D27 -> 5.9772444e+09 | E42: =E11+E27 -> 6.4452621e+09 | F42: =F11+F27 -> 7.0166738e+09 | G42: =G11+G27 -> 7.6400961e+09 | H42: =H11+H27 -> 8.2622922e+09
A43: Average Gross Assets | B43: =AVERAGE(B41:B42) -> 5.0583825e+09 | C43: =AVERAGE(C41:C42) -> 5.3763295e+09 | D43: =AVERAGE(D41:D42) -> 5.7553827e+09 | E43: =AVERAGE(E41:E42) -> 6.2112533e+09 | F43: =AVERAGE(F41:F42) -> 6.7309679e+09 | G43: =AVERAGE(G41:G42) -> 7.3283849e+09 | H43: =AVERAGE(H41:H42) -> 7.9511942e+09
A44: Opening Accumulated Depreciation | B44: =B13+B29 -> -1.2268566e+09 | C44: =C13+C29 -> -1.3942491e+09 | D44: =D13+D29 -> -1.577466e+09 | E44: =E13+E29 -> -1.7704188e+09 | F44: =F13+F29 -> -1.9708296e+09 | G44: =G13+G29 -> -2.1858516e+09 | H44: =H13+H29 -> -2.4169234e+09
A45: Closing Accumulated Depreciation | B45: =B14+B30 -> -1.3942491e+09 | C45: =C14+C30 -> -1.577466e+09 | D45: =D14+D30 -> -1.7704188e+09 | E45: =E14+E30 -> -1.9708296e+09 | F45: =F14+F30 -> -2.1858516e+09 | G45: =G14+G30 -> -2.4169234e+09 | H45: =H14+H30 -> -2.6620128e+09
A46: Average Accumulated Depreciation | B46: =AVERAGE(B44:B45) -> -1.3105528e+09 | C46: =AVERAGE(C44:C45) -> -1.4858575e+09 | D46: =AVERAGE(D44:D45) -> -1.6739424e+09 | E46: =AVERAGE(E44:E45) -> -1.8706242e+09 | F46: =AVERAGE(F44:F45) -> -2.0783406e+09 | G46: =AVERAGE(G44:G45) -> -2.3013875e+09 | H46: =AVERAGE(H44:H45) -> -2.5394681e+09
A47: Opening Net Book Value | B47: =+B41+B44 -> 3.6707703e+09 | C47: =+C41+C44 -> 3.8248891e+09 | D47: =+D41+D44 -> 3.9560549e+09 | E47: =+D48 -> 4.2068257e+09 | F47: =+E48 -> 4.4744325e+09 | G47: =+F48 -> 4.8308221e+09 | H47: =+G48 -> 5.2231727e+09
...

Sheet PILs Impact
A1: Alectra Utilities Corporation
A2: EB-2025-0252 | B2: This analysis is being provided only for the purpose of understanding the impacts of the UL and DLC adjustments on 2027-2031 rate base and revenue requirement.
A3: Interrogatory Responses
A4: 2-Staff-153
A5: PILs Impact (Illustrative)
A8: Summary:
C9: 2027 | D9: 2028 | E9: 2029 | F9: 2030 | G9: 2031 | H9: Total
A10: Grossed-up PILs - revised | C10: =+C11+C32 -> 22045172 | D10: =+D11+D32 -> 37197875 | E10: =+E11+E32 -> 28602667 | F10: =+F11+F32 -> 31345891 | G10: =+G11+G32 -> 36550683 | H10: =SUM(C10:G10) -> 1.5574229e+08
A11: Grossed-up PILs - as filed | C11: 22400579 | D11: 37575809 | E11: 29001237 | F11: 31763401 | G11: 36985596 | H11: =SUM(C11:G11) -> 1.5772662e+08
A12: Change | C12: =+C10-C11 -> -355407.26 | D12: =+D10-D11 -> -377934.06 | E12: =+E10-E11 -> -398570.53 | F12: =+F10-F11 -> -417510.28 | G12: =+G10-G11 -> -434912.66 | H12: =+H10-H11 -> -1984334.8
A16: Changes:
C17: 2027 | D17: 2028 | E17: 2029 | F17: 2030 | G17: 2031 | H17: Total
A18: Change in Rate Base for 2025-2026 DLC and UL removal | C18: ='Rate Base'!D36 -> -48900144 | D18: ='Rate Base'!E36 -> -48900144 | E18: ='Rate Base'!F36 -> -48900144 | F18: ='Rate Base'!G36 -> -48900144 | G18: ='Rate Base'!H36 -> -48900144 | H18: =SUM(C18:G18) -> -2.4450072e+08
A19: Deemed Equity % | C19: 0.4 | D19: 0.4 | E19: 0.4 | F19: 0.4 | G19: 0.4
A20: Return on Equity % | C20: 0.09 | D20: 0.09 | E20: 0.09 | F20: 0.09 | G20: 0.09
A21: Change of Return on Equity | C21: =+C18*C19*C20 -> -1760405.2 | D21: =+D18*D19*D20 -> -1760405.2 | E21: =+E18*E19*E20 -> -1760405.2 | F21: =+F18*F19*F20 -> -1760405.2 | G21: =+G18*G19*G20 -> -1760405.2 | H21: =SUM(C21:G21) -> -8802026
A23: Change in net income before taxes | C23: =+C21 -> -1760405.2 | D23: =+D21 -> -1760405.2 | E23: =+E21 -> -1760405.2 | F23: =+F21 -> -1760405.2 | G23: =+G21 -> -1760405.2 | H23: =SUM(C23:G23) -> -8802026
A24: Increase in depreciation | H24: =SUM(C24:G24) -> 0
A25: Decrease in CCA | C25: 774653 | D25: 712173 | E25: 654936 | F25: 602405 | G25: 554138 | H25: =SUM(C25:G25) -> 3298305
A26: Change in taxable income | C26: =SUM(C23:C25) -> -985752.2 | D26: =SUM(D23:D25) -> -1048232.2 | E26: =SUM(E23:E25) -> -1105469.2 | F26: =SUM(F23:F25) -> -1158000.2 | G26: =SUM(G23:G25) -> -1206267.2 | H26: =SUM(H23:H25) -> -5503721
A27: Tax Rate | C27: 0.265 | D27: 0.265 | E27: 0.265 | F27: 0.265 | G27: 0.265 | H27: 0.265
A28: Total income taxes | C28: =+C26*C27 -> -261224.33 | D28: =+D26*D27 -> -277781.53 | E28: =+E26*E27 -> -292949.34 | F28: =+F26*F27 -> -306870.05 | G28: =+G26*G27 -> -319660.81 | H28: =+H26*H27 -> -1458486.1
A30: Gross-up | B30: =1-C27 -> 0.735 | C30: =C28/$B$30-C28 -> -94182.923 | D30: =D28/$B$30-D28 -> -100152.53 | E30: =E28/$B$30-E28 -> -105621.19 | F30: =F28/$B$30-F28 -> -110640.22 | G30: =G28/$B$30-G28 -> -115251.86 | H30: =H28/$B$30-H28 -> -525848.72
A32: Change in Income tax (grossed up) | C32: =+C28+C30 -> -355407.26 | D32: =+D28+D30 -> -377934.06 | E32: =+E28+E30 -> -398570.53 | F32: =+F28+F30 -> -417510.28 | G32: =+G28+G30 -> -434912.66 | H32: =+H28+H30 -> -1984334.8

Sheet OM&A impact
A8: Alectra Utilities Corporation
A9: EB-2025-0252 | B9: This analysis is being provided only for the purpose of understanding the impacts of the UL and DLC adjustments on 2027-2031 rate base and revenue requirement.
A10: Interrogatory Responses
A11: 2-Staff-153
A12: OM&A Impact (DLC) (Illustrative)
A17: OM&A Impact | B17: 2027 | C17: 2028 | D17: 2029 | E17: 2030 | F17: 2031
A18: OM&A as filed | B18: 3.524229e+08 | C18: 3.6967104e+08 | D18: 3.8645681e+08 | E18: 4.0082829e+08 | F18: 4.1178541e+08
A19: Add: Reversal of DLC
A20: OM&A adjusted for DLC | B20: =SUM(B18:B19) -> 3.524229e+08 | C20: =SUM(C18:C19) -> 3.6967104e+08 | D20: =SUM(D18:D19) -> 3.8645681e+08 | E20: =SUM(E18:E19) -> 4.0082829e+08 | F20: =SUM(F18:F19) -> 4.1178541e+08
C24: 2025 | F24: 2026
A25: OEB Account | B25: Description | C25: Cost (After DLC Change) | D25: Cost (Before DLC Change) | E25: Impact of DLC Change | F25: Cost (After DLC Change) | G25: Cost (Before DLC Change) | H25: Impact of DLC Change
A26: 1609 | B26: Capital Contributions Paid | C26: 1777544.1 | D26: 1777544.1 | E26: =+C26-D26 -> 0 | F26: 7894473.2 | G26: 7894048.7 | H26: =+F26-G26 -> 424.46155
A27: 1611 | B27: Computer Software | C27: 21814831 | D27: 21809676 | E27: =+C27-D27 -> 5155.3765 | F27: 32931536 | G27: 32913305 | H27: =+F27-G27 -> 18230.802
A28: 1612 | B28: Land Rights | C28: 137096.06 | D28: 134523.35 | E28: =+C28-D28 -> 2572.7076 | F28: 138131.86 | G28: 135632.97 | H28: =+F28-G28 -> 2498.8835
A29: 1808 | B29: Buildings | C29: 799701.21 | D29: 798799.09 | E29: =+C29-D29 -> 902.12477 | F29: 86195.317 | G29: 84420.311 | H29: =+F29-G29 -> 1775.0062
A30: 1815 | B30: Transformer Station Equipment >50 kV | C30: 2795062.7 | D30: 2781453.5 | E30: =+C30-D30 -> 13609.203 | F30: 1944683.8 | G30: 1931412.8 | H30: =+F30-G30 -> 13270.977
A31: 1820 | B31: Distribution Station Equipment <50 kV | C31: 6331009.4 | D31: 6300241.2 | E31: =+C31-D31 -> 30768.276 | F31: 2572038 | G31: 2550303.6 | H31: =+F31-G31 -> 21734.359
A32: 1830 | B32: Poles, Towers & Fixtures | C32: 56501231 | D32: 55917844 | E32: =+C32-D32 -> 583386.59 | F32: 46893796 | G32: 46432076 | H32: =+F32-G32 -> 461720.29
A33: 1835 | B33: Overhead Conductors & Devices | C33: 50557930 | D33: 50068261 | E33: =+C33-D33 -> 489668.47 | F33: 43893361 | G33: 43494581 | H33: =+F33-G33 -> 398779.87
A34: 1840 | B34: Underground Conduit | C34: 74621342 | D34: 73749901 | E34: =+C34-D34 -> 871441.18 | F34: 67652583 | G34: 66779783 | H34: =+F34-G34 -> 872799.65
A35: 1845 | B35: Underground Conductors & Devices | C35: 1.7568071e+08 | D35: 1.7330879e+08 | E35: =+C35-D35 -> 2371922.6 | F35: 1.6382749e+08 | G35: 1.6151078e+08 | H35: =+F35-G35 -> 2316714.6
A36: 1850 | B36: Line Transformers | C36: 68168935 | D36: 67339618 | E36: =+C36-D36 -> 829317.23 | F36: 61316109 | G36: 60484622 | H36: =+F36-G36 -> 831486.56
A37: 1855 | B37: Services (Overhead & Underground) | C37: 12467745 | D37: 12344841 | E37: =+C37-D37 -> 122903.58 | F37: 8865554.7 | G37: 8774355.9 | H37: =+F37-G37 -> 91198.789
... A50: 2005 | B50: Property Under Finance Lease | C50: 0 | D50: 0 | E50: =+C50-D50 -> 0 | F50: 0 | G50: 0 | H50: =+F50-G50 -> 0
B51: MIFRS Depreciation Expense | C51: =SUM(C26:C50) -> 3.4669635e+08 | D51: =SUM(D26:D50) -> 3.4098998e+08 | E51: =SUM(E26:E50) -> 5706366.8 | F51: =SUM(F26:F50) -> 3.3585963e+08 | G51: =SUM(G26:G50) -> 3.3052674e+08 | H51: =SUM(H26:H50) -> 5332892.8

Sheet Depreciation Impact
A8: Alectra Utilities Corporation
A9: EB-2025-0252 | C9: This analysis is being provided only for the purpose of understanding the impacts of the UL and DLC adjustments on 2027-2031 rate base and revenue requirement.
A10: Interrogatory Responses
A11: 2-Staff-153
A12: Depreciation Impact (UL Change) - Ilustrative
A15: OM&A Impact | C15: 2027 | D15: 2028 | E15: 2029 | F15: 2030 | G15: 2031
A16: Depreciation as filed | C16: 1.9564945e+08 | D16: 1.9939881e+08 | E16: 2.1406665e+08 | F16: 2.3080583e+08 | G16: 2.4220409e+08
A17: Add: Reversal of UL Change Impact
A18: Depreciation adjusted for UL Change Impact | C18: =SUM(C16:C17) -> 1.9564945e+08 | D18: =SUM(D16:D17) -> 1.9939881e+08 | E18: =SUM(E16:E17) -> 2.1406665e+08 | F18: =SUM(F16:F17) -> 2.3080583e+08 | G18: =SUM(G16:G17) -> 2.4220409e+08
C22: 2025 | F22: 2026
A23: OEB Account | B23: Description | C23: Depreciation New UL | D23: Depreciation old UL | E23: Difference | F23: Depreciation New UL | G23: Depreciation old UL | H23: Difference
A24: 1609 | B24: Capital Contributions Paid | C24: 3415875.9 | D24: 3415875.9 | E24: =C24-D24 -> 0 | F24: 3486570.8 | G24: 3486570.8 | H24: =F24-G24 -> 0
A25: 1611 | B25: Computer Software | C25: 16707797 | D25: 27216660 | E25: =C25-D25 -> -10508863 | F25: 22323094 | G25: 32831956 | H25: =F25-G25 -> -10508862
A26: 1808 | B26: Buildings | C26: 1532657.9 | D26: 1708601.8 | E26: =C26-D26 -> -175943.89 | F26: 1554712.5 | G26: 1735042.5 | H26: =F26-G26 -> -180329.94
A27: 1815 | B27: Transformer Station Equipment >50 kV | C27: 5599045.2 | D27: 4853987.5 | E27: =C27-D27 -> 745057.66 | F27: 4466472.8 | G27: 4888533 | H27: =F27-G27 -> -422060.15
A28: 1820 | B28: Distribution Station Equipment <50 kV | C28: 6389875.9 | D28: 6311275.4 | E28: =C28-D28 -> 78600.492 | F28: 5935970.7 | G28: 6459309.2 | H28: =F28-G28 -> -523338.5
A29: 1830 | B29: Poles, Towers & Fixtures | C29: 16204818 | D29: 17358468 | E29: =C29-D29 -> -1153650.4 | F29: 17259176 | G29: 18461718 | H29: =F29-G29 -> -1202542.3
A30: 1835 | B30: Overhead Conductors & Devices | C30: 15253533 | D30: 15792239 | E30: =C30-D30 -> -538705.52 | F30: 16223350 | G30: 16893102 | H30: =F30-G30 -> -669752.12
A31: 1840 | B31: Underground Conduit | C31: 9711820.1 | D31: 11798357 | E31: =C31-D31 -> -2086536.7 | F31: 10880669 | G31: 13146671 | H31: =F31-G31 -> -2266002.2
A32: 1845 | B32: Underground Conductors & Devices | C32: 47305052 | D32: 49264009 | E32: =C32-D32 -> -1958957.5 | F32: 50073708 | G32: 54000938 | H32: =F32-G32 -> -3927230
A33: 1850 | B33: Line Transformers | C33: 24844535 | D33: 23720800 | E33: =C33-D33 -> 1123734.4 | F33: 25886661 | G33: 25334011 | H33: =F33-G33 -> 552649.86
A34: 1855 | B34: Services (Overhead & Underground) | C34: 2791185.9 | D34: 2975595.8 | E34: =C34-D34 -> -184409.99 | F34: 3000841.3 | G34: 3191085.4 | H34: =F34-G34 -> -190244.1
A35: 1860 | B35: Meters | C35: 13629725 | D35: 15934393 | E35: =C35-D35 -> -2304668.3 | F35: 14279694 | G35: 16818208 | H35: =F35-G35 -> -2538513.9
... A47: 2005 | B47: Property Under Finance Lease | C47: 731191.98 | D47: 740162.28 | E47: =C47-D47 -> -8970.3046 | F47: 731191.98 | G47: 740162.28 | H47: =F47-G47 -> -8970.3046
B48: MIFRS Depreciation Expense | C48: =SUM(C24:C47) -> 1.6293588e+08 | D48: =SUM(D24:D47) -> 1.795576e+08 | E48: =SUM(E24:E47) -> -16621718 | F48: =SUM(F24:F47) -> 1.7105722e+08 | G48: =SUM(G24:G47) -> 1.9229639e+08 | H48: =SUM(H24:H47) -> -21239167
